BOTTLE,20220814CCHSIOAMB
EXPOCODE,SECT_ID,STNNBR,CASTNO,SAMPNO,BTLNBR,BTLNBR_FLAG_W,DATE,TIME,LATITUDE,LONGITUDE,DEPTH,CTDPRS,CTDTMP,CTDSAL,CTDSAL_FLAG_W,SALNTY,SALNTY_FLAG_W,CTDOXY,CTDOXY_FLAG_W,OXYGEN,OXYGEN_FLAG_W,SILCAT,SILCAT_FLAG_W,NITRAT,NITRAT_FLAG_W,NITRIT,NITRIT_FLAG_W,PHSPHT,PHSPHT_FLAG_W,CFC-11,CFC-11_FLAG_W,CFC-12,CFC-12_FLAG_W,SF6,SF6_FLAG_W,TCARBN,TCARBN_FLAG_W,ALKALI,ALKALI_FLAG_W,PH_TOT,PH_TOT_FLAG_W,PH_TMP,TRITUM,TRITUM_FLAG_W,HELIUM,HELIUM_FLAG_W,DELHE3,DELHE3_FLAG_W,REFTMP,REFTMP_FLAG_W,DELC13,DELC13_FLAG_W,DELC14,DELC14_FLAG_W,C14ERR,NEON,NEON_FLAG_W,NEONER,DOC,DOC_FLAG_W,TDN,TDN_FLAG_W,BTL_LAT,BTL_LON,HELIER,DELHER,BTL_DATE,BTL_TIME
,,,,,,,,,,,METERS,DBAR,ITS-90,PSS-78,,PSS-78,,UMOL/KG,,UMOL/KG,,UMOL/KG,,UMOL/KG,,UMOL/KG,,UMOL/KG,,PMOL/KG,,PMOL/KG,,FMOL/KG,,UMOL/KG,,UMOL/KG,,,,DEG C,TU,,NMOL/KG,,PERCNT,,DEG C,,/MILLE,,/MILLE,,/MILLE,NMOL/KG,,NMOL/KG,UMOL/KG,,UMOL/KG,,,,NMOL/KG,PERCNT,,
33RR20090320,        I05,      54,          1,         36,         36,2,20090405,       1433,   -33.9202,    51.5707,       4201,     4.2,  21.1534,  35.5840,2,  35.5839,2,    223.8,2,   224.6,2,    1.05,2,    0.17,2,    0.00,2,    0.11,2,-999.000,9,-999.000,9,-999.0000,9,  2042.8,6,  2334.0,2,   8.1059,2,    20.00,-999.000,9,-999.000,9,-999.000,9,  21.1567,2,-999.000,9, -999.00,9, -999.00,-999.000,9,-999.000, -999.00,9, -999.00,9, -33.9206,  51.5698,-999.000,-999.000,20090405,       1630
33RR20090320,        I05,      54,          1,         35,         35,2,20090405,       1433,   -33.9202,    51.5707,       4201,    36.0,  21.0360,  35.5816,2,  35.5812,2,    224.8,2,   224.2,2,    1.04,2,    0.17,2,    0.00,2,    0.11,2,-999.000,9,-999.000,9,-999.0000,9,  2043.3,2,  2330.4,2,   8.1043,2,    20.00,-999.000,9,-999.000,9,-999.000,9,  21.0326,2,-999.000,9, -999.00,9, -999.00,-999.000,9,-999.000, -999.00,9, -999.00,9, -33.9206,  51.5701,-999.000,-999.000,20090405,       1629
33RR20090320,        I05,      54,          1,         34,         34,2,20090405,       1433,   -33.9202,    51.5707,       4201,    61.2,  19.5076,  35.5492,2,  35.5488,2,    237.9,2,   235.4,2,    1.22,2,    0.11,2,    0.00,2,    0.14,2,-999.000,9,-999.000,9,-999.0000,9,  2052.1,2,  2332.2,2,   8.0892,2,    20.00,-999.000,9,-999.000,9,-999.000,9,  19.5221,2,-999.000,9, -999.00,9, -999.00,-999.000,9,-999.000, -999.00,9, -999.00,9, -33.9205,  51.5701,-999.000,-999.000,20090405,       1627
33RR20090320,        I05,      54,          1,         33,         33,2,20090405,       1433,   -33.9202,    51.5707,       4201,    85.1,  17.6256,  35.5419,2,  35.5444,2,    235.2,2,   235.9,2,    1.40,2,    0.45,2,    0.04,2,    0.20,2,-999.000,9,-999.000,9,-999.0000,9,  2064.6,2,  2330.8,2,   8.0653,2,    20.00,-999.000,9,-999.000,9,-999.000,9,  17.6586,2,-999.000,9, -999.00,9, -999.00,-999.000,9,-999.000, -999.00,9, -999.00,9, -33.9205,  51.5702,-999.000,-999.000,20090405,       1625
33RR20090320,        I05,      54,          1,         32,         32,2,20090405,       1433,   -33.9202,    51.5707,       4201,   110.5,  16.5327,  35.5148,2,  35.5142,2,    226.6,2,   226.3,2,    1.97,2,    2.71,2,    0.04,2,    0.33,2,-999.000,9,-999.000,9,-999.0000,9,  -999.0,9,  -999.0,9,-999.0000,9,  -999.00,-999.000,9,-999.000,9,-999.000,9,  16.5379,2,-999.000,9, -999.00,9, -999.00,-999.000,9,-999.000, -999.00,9, -999.00,9, -33.9205,  51.5702,-999.000,-999.000,20090405,       1624
33RR20090320,        I05,      54,          1,         31,         31,2,20090405,       1433,   -33.9202,    51.5707,       4201,   136.5,  16.0566,  35.4939,2,  35.4935,2,    223.6,2,   222.9,2,    2.34,2,    3.86,2,    0.02,2,    0.40,2,-999.000,9,-999.000,9,-999.0000,9,  2087.4,2,  2326.7,2,   8.0159,2,    20.00,-999.000,9,-999.000,9,-999.000,9,  16.0496,2,-999.000,9, -999.00,9, -999.00,-999.000,9,-999.000, -999.00,9, -999.00,9, -33.9205,  51.5702,-999.000,-999.000,20090405,       1622
33RR20090320,        I05,      54,          1,         30,         30,2,20090405,       1433,   -33.9202,    51.5707,       4201,   164.0,  15.3692,  35.4564,2,  35.4565,2,    221.8,2,   222.7,2,    2.52,2,    4.90,2,    0.01,2,    0.46,2,-999.000,9,-999.000,9,-999.0000,9,  -999.0,9,  -999.0,9,-999.0000,9,  -999.00,-999.000,9,-999.000,9,-999.000,9,  15.3722,2,-999.000,9, -999.00,9, -999.00,-999.000,9,-999.000, -999.00,9, -999.00,9, -33.9205,  51.5702,-999.000,-999.000,20090405,       1621
33RR20090320,        I05,      54,          1,         29,         29,2,20090405,       1433,   -33.9202,    51.5707,       4201,   215.0,  14.8044,  35.4164,2,  35.4162,2,    222.8,2,   222.8,2,    2.70,2,    5.82,2,    0.01,2,    0.52,2,-999.000,9,-999.000,9,-999.0000,9,  2100.6,2,  2322.1,2,   7.9847,2,    20.00,-999.000,9,-999.000,9,-999.000,9,  14.8013,2,-999.000,9, -999.00,9, -999.00,-999.000,9,-999.000, -999.00,9, -999.00,9, -33.9205,  51.5702,-999.000,-999.000,20090405,       1619
33RR20090320,        I05,      54,          1,         28,         28,2,20090405,       1433,   -33.9202,    51.5707,       4201,   265.6,  14.1337,  35.3601,2,  35.3599,2,    222.3,2,   222.1,2,    3.07,2,    7.22,2,    0.00,2,    0.61,2,-999.000,9,-999.000,9,-999.0000,9,  -999.0,9,  -999.0,9,-999.0000,9,  -999.00,-999.000,9,-999.000,9,-999.000,9,  14.1349,2,-999.000,9, -999.00,9, -999.00,-999.000,9,-999.000, -999.00,9, -999.00,9, -33.9205,  51.5702,-999.000,-999.000,20090405,       1617
33RR20090320,        I05,      54,          1,         27,         27,2,20090405,       1433,   -33.9202,    51.5707,       4201,   314.2,  13.7297,  35.3178,2,  35.3173,2,    222.3,2,   222.6,2,    3.26,2,    8.08,2,    0.00,2,    0.65,2,-999.000,9,-999.000,9,-999.0000,9,  2111.6,2,  2318.5,2,   7.9553,2,    20.00,-999.000,9,-999.000,9,-999.000,9,  13.7305,2,-999.000,9, -999.00,9, -999.00,-999.000,9,-999.000, -999.00,9, -999.00,9, -33.9204,  51.5701,-999.000,-999.000,20090405,       1615
33RR20090320,        I05,      54,          1,         26,         26,2,20090405,       1433,   -33.9202,    51.5707,       4201,   365.3,  13.4318,  35.2840,2,  35.2840,2,    222.0,2,   222.5,2,    3.44,2,    8.74,2,    0.00,2,    0.70,2,-999.000,9,-999.000,9,-999.0000,9,  -999.0,9,  -999.0,9,-999.0000,9,  -999.00,-999.000,9,-999.000,9,-999.000,9,  13.4329,2,-999.000,9, -999.00,9, -999.00,-999.000,9,-999.000, -999.00,9, -999.00,9, -33.9203,  51.5701,-999.000,-999.000,20090405,       1613
33RR20090320,        I05,      54,          1,         25,         25,2,20090405,       1433,   -33.9202,    51.5707,       4201,   415.1,  13.2146,  35.2542,2,  35.2552,2,    223.2,2,   222.9,2,    3.61,2,    9.17,2,    0.00,2,    0.72,2,-999.000,9,-999.000,9,-999.0000,9,  2114.2,2,  2315.7,2,   7.9423,2,    20.00,-999.000,9,-999.000,9,-999.000,9,  13.2229,2,-999.000,9, -999.00,9, -999.00,-999.000,9,-999.000, -999.00,9, -999.00,9, -33.9203,  51.5700,-999.000,-999.000,20090405,       1611
33RR20090320,        I05,      54,          1,         24,         24,2,20090405,       1433,   -33.9202,    51.5707,       4201,   465.7,  12.8034,  35.1977,2,  35.1981,2,    224.5,2,   223.7,2,    3.80,2,   10.03,2,    0.00,2,    0.78,2,-999.000,9,-999.000,9,-999.0000,9,  -999.0,9,  -999.0,9,-999.0000,9,  -999.00,-999.000,9,-999.000,9,-999.000,9,  12.8045,2,-999.000,9, -999.00,9, -999.00,-999.000,9,-999.000, -999.00,9, -999.00,9, -33.9204,  51.5700,-999.000,-999.000,20090405,       1609
33RR20090320,        I05,      54,          1,         23,         23,2,20090405,       1433,   -33.9202,    51.5707,       4201,   534.7,  12.2674,  35.1183,2,  35.1172,2,    222.7,2,   224.4,2,    3.97,2,   11.11,2,    0.00,2,    0.86,2,-999.000,9,-999.000,9,-999.0000,9,  -999.0,9,  -999.0,9,-999.0000,9,  -999.00,-999.000,9,-999.000,9,-999.000,9,  12.2693,2,-999.000,9, -999.00,9, -999.00,-999.000,9,-999.000, -999.00,9, -999.00,9, -33.9204,  51.5700,-999.000,-999.000,20090405,       1607
33RR20090320,        I05,      54,          1,         22,         22,2,20090405,       1433,   -33.9202,    51.5707,       4201,   635.3,  11.1146,  34.9459,2,  34.9434,2,    220.4,2,   220.7,2,    4.94,2,   13.92,2,    0.00,2,    1.03,2,-999.000,9,-999.000,9,-999.0000,9,  2128.4,2,  2303.0,2,   7.8854,2,    20.00,-999.000,9,-999.000,9,-999.000,9,  11.1149,2,-999.000,9, -999.00,9, -999.00,-999.000,9,-999.000, -999.00,9, -999.00,9, -33.9203,  51.5700,-999.000,-999.000,20090405,       1603
33RR20090320,        I05,      54,          1,         21,         21,2,20090405,       1433,   -33.9202,    51.5707,       4201,   733.5,   9.9189,  34.7896,2,  34.7896,2,    215.4,2,   215.3,2,    7.26,2,   17.01,2,    0.00,2,    1.24,2,-999.000,9,-999.000,9,-999.0000,9,  -999.0,9,  -999.0,9,-999.0000,9,  -999.00,-999.000,9,-999.000,9,-999.000,9,   9.9151,2,-999.000,9, -999.00,9, -999.00,-999.000,9,-999.000, -999.00,9, -999.00,9, -33.9203,  51.5699,-999.000,-999.000,20090405,       1600
33RR20090320,        I05,      54,          1,         20,         20,2,20090405,       1433,   -33.9202,    51.5707,       4201,   835.3,   8.7329,  34.6590,2,  34.6579,2,    209.5,2,   208.7,2,   10.75,2,   20.43,2,    0.00,2,    1.47,2,-999.000,9,-999.000,9,-999.0000,9,  -999.0,9,  -999.0,9,-999.0000,9,  -999.00,-999.000,9,-999.000,9,-999.000,9,   8.7394,2,-999.000,9, -999.00,9, -999.00,-999.000,9,-999.000, -999.00,9, -999.00,9, -33.9203,  51.5699,-999.000,-999.000,20090405,       1557
33RR20090320,        I05,      54,          1,         19,         19,2,20090405,       1433,   -33.9202,    51.5707,       4201,   936.6,   7.2902,  34.5262,2,  34.5271,2,    205.0,2,   204.4,2,   16.41,2,   24.23,2,    0.00,2,    1.73,2,-999.000,9,-999.000,9,-999.0000,9,  2166.3,2,  2294.5,2,   7.7675,2,    20.00,-999.000,9,-999.000,9,-999.000,9,   7.2973,2,-999.000,9, -999.00,9, -999.00,-999.000,9,-999.000, -999.00,9, -999.00,9, -33.9203,  51.5699,-999.000,-999.000,20090405,       1554
33RR20090320,        I05,      54,          1,         18,         18,2,20090405,       1433,   -33.9202,    51.5707,       4201,  1036.5,   6.0570,  34.4413,2,  34.4409,2,    203.5,2,   203.1,2,   22.87,2,   27.12,2,    0.00,2,    1.94,2,-999.000,9,-999.000,9,-999.0000,9,  -999.0,9,  -999.0,9,-999.0000,9,  -999.00,-999.000,9,-999.000,9,-999.000,9,   6.0588,2,-999.000,9, -999.00,9, -999.00,-999.000,9,-999.000, -999.00,9, -999.00,9, -33.9203,  51.5699,-999.000,-999.000,20090405,       1552
33RR20090320,        I05,      54,          1,         17,         17,2,20090405,       1433,   -33.9202,    51.5707,       4201,  1132.4,   5.0906,  34.3996,2,  34.3979,2,    200.8,2,   200.6,2,   30.32,2,   29.31,2,    0.00,2,    2.11,2,-999.000,9,-999.000,9,-999.0000,9,  -999.0,9,  -999.0,9,-999.0000,9,  -999.00,-999.000,9,-999.000,9,-999.000,9,   5.0844,2,-999.000,9, -999.00,9, -999.00,-999.000,9,-999.000, -999.00,9, -999.00,9, -33.9202,  51.5700,-999.000,-999.000,20090405,       1549
33RR20090320,        I05,      54,          1,         16,         16,4,20090405,       1433,   -33.9202,    51.5707,       4201,  1230.8,   4.3819,  34.3980,2,  35.4410,4,    198.3,2,   228.5,4,    2.71,4,    3.97,4,    0.01,4,    0.43,4,-999.000,9,-999.000,9,-999.0000,9,  -999.0,9,  -999.0,9,-999.0000,9,  -999.00,-999.000,9,-999.000,9,-999.000,9,   4.3720,2,-999.000,9, -999.00,9, -999.00,-999.000,9,-999.000, -999.00,9, -999.00,9, -33.9202,  51.5702,-999.000,-999.000,20090405,       1546
33RR20090320,        I05,      54,          1,         15,         15,2,20090405,       1433,   -33.9202,    51.5707,       4201,  1334.5,   3.8512,  34.4280,2,  34.4274,2,    188.2,2,   188.3,2,   46.46,2,   31.89,2,    0.00,2,    2.30,2,-999.000,9,-999.000,9,-999.0000,9,  2219.4,2,  2311.1,2,   7.6704,2,    20.00,-999.000,9,-999.000,9,-999.000,9,   3.8571,2,-999.000,9, -999.00,9, -999.00,-999.000,9,-999.000, -999.00,9, -999.00,9, -33.9202,  51.5704,-999.000,-999.000,20090405,       1544
33RR20090320,        I05,      54,          1,         14,         14,2,20090405,       1433,   -33.9202,    51.5707,       4201,  1433.1,   3.4610,  34.4741,2,  34.4731,2,    182.2,2,   182.5,2,   54.37,2,   32.66,2,    0.00,2,    2.35,2,-999.000,9,-999.000,9,-999.0000,9,  -999.0,9,  -999.0,9,-999.0000,9,  -999.00,-999.000,9,-999.000,9,-999.000,9,   3.4627,2,-999.000,9, -999.00,9, -999.00,-999.000,9,-999.000, -999.00,9, -999.00,9, -33.9202,  51.5706,-999.000,-999.000,20090405,       1541
33RR20090320,        I05,      54,          1,         13,         13,2,20090405,       1433,   -33.9202,    51.5707,       4201,  1533.9,   3.2390,  34.5141,2,  34.5145,2,    179.2,2,   178.8,2,   59.92,2,   32.88,2,    0.00,2,    2.36,2,-999.000,9,-999.000,9,-999.0000,9,  2237.9,2,  2325.5,2,   7.6558,2,    20.00,-999.000,9,-999.000,9,-999.000,9,   3.2382,2,-999.000,9, -999.00,9, -999.00,-999.000,9,-999.000, -999.00,9, -999.00,9, -33.9203,  51.5708,-999.000,-999.000,20090405,       1537
33RR20090320,        I05,      54,          1,         12,         12,2,20090405,       1433,   -33.9202,    51.5707,       4201,  1663.6,   2.9436,  34.5756,2,  34.5745,2,    177.1,2,   177.3,2,   66.67,2,   32.72,2,    0.00,2,    2.35,2,-999.000,9,-999.000,9,-999.0000,9,  2245.1,6,  2334.1,2,   7.6560,2,    20.00,-999.000,9,-999.000,9,-999.000,9,   2.9466,2,-999.000,9, -999.00,9, -999.00,-999.000,9,-999.000, -999.00,9, -999.00,9, -33.9203,  51.5709,-999.000,-999.000,20090405,       1534
33RR20090320,        I05,      54,          1,         11,         11,2,20090405,       1433,   -33.9202,    51.5707,       4201,  1865.8,   2.6662,  34.6415,2,  34.6411,2,    180.2,2,   180.1,2,   72.42,2,   32.00,2,    0.00,2,    2.29,2,-999.000,9,-999.000,9,-999.0000,9,  2245.4,2,  2340.9,2,   7.6649,2,    20.00,-999.000,9,-999.000,9,-999.000,9,   2.6659,2,-999.000,9, -999.00,9, -999.00,-999.000,9,-999.000, -999.00,9, -999.00,9, -33.9204,  51.5708,-999.000,-999.000,20090405,       1529
33RR20090320,        I05,      54,          1,         10,         10,2,20090405,       1433,   -33.9202,    51.5707,       4201,  2082.4,   2.4461,  34.6876,2,  34.6882,2,    185.1,2,   185.1,2,   77.61,2,   31.35,2,    0.00,2,    2.25,2,-999.000,9,-999.000,9,-999.0000,9,  -999.0,9,  -999.0,9,-999.0000,9,  -999.00,-999.000,9,-999.000,9,-999.000,9,   2.4459,2,-999.000,9, -999.00,9, -999.00,-999.000,9,-999.000, -999.00,9, -999.00,9, -33.9204,  51.5708,-999.000,-999.000,20090405,       1523
33RR20090320,        I05,      54,          1,          9,          9,2,20090405,       1433,   -33.9202,    51.5707,       4201,  2335.8,   2.2128,  34.7293,2,  34.7291,2,    191.2,2,   191.5,2,   82.18,2,   30.52,2,    0.00,2,    2.19,2,-999.000,9,-999.000,9,-999.0000,9,  -999.0,9,  -999.0,9,-999.0000,9,  -999.00,-999.000,9,-999.000,9,-999.000,9,   2.2131,2,-999.000,9, -999.00,9, -999.00,-999.000,9,-999.000, -999.00,9, -999.00,9, -33.9203,  51.5707,-999.000,-999.000,20090405,       1518
33RR20090320,        I05,      54,          1,          8,          8,2,20090405,       1433,   -33.9202,    51.5707,       4201,  2581.9,   1.9792,  34.7405,2,  34.7403,2,    194.9,2,   194.8,2,   89.78,2,   30.51,2,    0.00,2,    2.19,2,-999.000,9,-999.000,9,-999.0000,9,  2251.2,2,  2355.8,2,   7.6928,2,    20.00,-999.000,9,-999.000,9,-999.000,9,   1.9791,2,-999.000,9, -999.00,9, -999.00,-999.000,9,-999.000, -999.00,9, -999.00,9, -33.9204,  51.5707,-999.000,-999.000,20090405,       1512
33RR20090320,        I05,      54,          1,          7,          7,2,20090405,       1433,   -33.9202,    51.5707,       4201,  2836.4,   1.7492,  34.7396,2,  34.7399,2,    195.9,2,   195.9,2,   98.40,2,   30.91,2,    0.00,2,    2.22,2,-999.000,9,-999.000,9,-999.0000,9,  -999.0,9,  -999.0,9,-999.0000,9,  -999.00,-999.000,9,-999.000,9,-999.000,9,   1.7496,2,-999.000,9, -999.00,9, -999.00,-999.000,9,-999.000, -999.00,9, -999.00,9, -33.9204,  51.5707,-999.000,-999.000,20090405,       1506
33RR20090320,        I05,      54,          1,          6,          6,2,20090405,       1433,   -33.9202,    51.5707,       4201,  3097.9,   1.5594,  34.7328,2,  34.7335,2,    197.8,2,   197.6,2,  104.62,2,   31.18,2,    0.00,2,    2.24,2,-999.000,9,-999.000,9,-999.0000,9,  2259.1,2,  2363.5,2,   7.6900,2,    20.00,-999.000,9,-999.000,9,-999.000,9,   1.5605,2,-999.000,9, -999.00,9, -999.00,-999.000,9,-999.000, -999.00,9, -999.00,9, -33.9203,  51.5709,-999.000,-999.000,20090405,       1500
33RR20090320,        I05,      54,          1,          5,          5,2,20090405,       1433,   -33.9202,    51.5707,       4201,  3397.0,   1.3375,  34.7247,2,  34.7244,2,    200.2,2,   200.2,2,  111.46,2,   31.56,2,    0.00,2,    2.27,2,-999.000,9,-999.000,9,-999.0000,9,  -999.0,9,  -999.0,9,-999.0000,9,  -999.00,-999.000,9,-999.000,9,-999.000,9,   1.3374,2,-999.000,9, -999.00,9, -999.00,-999.000,9,-999.000, -999.00,9, -999.00,9, -33.9202,  51.5708,-999.000,-999.000,20090405,       1454
33RR20090320,        I05,      54,          1,          4,          4,2,20090405,       1433,   -33.9202,    51.5707,       4201,  3702.1,   1.1937,  34.7187,2,  34.7185,2,    203.9,2,   204.5,2,  113.67,2,   31.62,2,    0.00,2,    2.27,2,-999.000,9,-999.000,9,-999.0000,9,  2260.3,2,  2363.2,2,   7.6868,2,    20.00,-999.000,9,-999.000,9,-999.000,9,   1.1930,2,-999.000,9, -999.00,9, -999.00,-999.000,9,-999.000, -999.00,9, -999.00,9, -33.9204,  51.5708,-999.000,-999.000,20090405,       1447
33RR20090320,        I05,      54,          1,          3,          3,2,20090405,       1433,   -33.9202,    51.5707,       4201,  3937.1,   1.1478,  34.7163,2,  34.7160,2,    205.8,2,   206.1,2,  114.66,2,   31.79,2,    0.00,2,    2.27,2,-999.000,9,-999.000,9,-999.0000,9,  -999.0,9,  -999.0,9,-999.0000,9,  -999.00,-999.000,9,-999.000,9,-999.000,9,   1.1476,2,-999.000,9, -999.00,9, -999.00,-999.000,9,-999.000, -999.00,9, -999.00,9, -33.9204,  51.5708,-999.000,-999.000,20090405,       1441
33RR20090320,        I05,      54,          1,          2,          2,2,20090405,       1433,   -33.9202,    51.5707,       4201,  4138.6,   1.1346,  34.7151,2,  34.7146,2,    207.0,2,   206.6,2,  115.86,2,   31.78,2,    0.00,2,    2.27,2,-999.000,9,-999.000,9,-999.0000,9,  2258.7,2,  2363.8,2,   7.6877,2,    20.00,-999.000,9,-999.000,9,-999.000,9,   1.1345,2,-999.000,9, -999.00,9, -999.00,-999.000,9,-999.000, -999.00,9, -999.00,9, -33.9203,  51.5707,-999.000,-999.000,20090405,       1436
33RR20090320,        I05,      54,          1,          1,          1,2,20090405,       1433,   -33.9202,    51.5707,       4201,  4253.5,   1.1388,  34.7149,2,  34.7142,2,    207.3,2,   206.7,2,  115.85,2,   31.79,2,    0.00,2,    2.27,2,-999.000,9,-999.000,9,-999.0000,9,  2261.0,6,  2364.3,2,   7.6882,2,    20.00,-999.000,9,-999.000,9,-999.000,9,   1.1389,2,-999.000,9, -999.00,9, -999.00,-999.000,9,-999.000, -999.00,9, -999.00,9, -33.9202,  51.5707,-999.000,-999.000,20090405,       1433