BOTTLE,20220814CCHSIOAMB
EXPOCODE,SECT_ID,STNNBR,CASTNO,SAMPNO,BTLNBR,BTLNBR_FLAG_W,DATE,TIME,LATITUDE,LONGITUDE,DEPTH,CTDPRS,CTDTMP,CTDSAL,CTDSAL_FLAG_W,SALNTY,SALNTY_FLAG_W,CTDOXY,CTDOXY_FLAG_W,OXYGEN,OXYGEN_FLAG_W,SILCAT,SILCAT_FLAG_W,NITRAT,NITRAT_FLAG_W,NITRIT,NITRIT_FLAG_W,PHSPHT,PHSPHT_FLAG_W,CFC-11,CFC-11_FLAG_W,CFC-12,CFC-12_FLAG_W,SF6,SF6_FLAG_W,TCARBN,TCARBN_FLAG_W,ALKALI,ALKALI_FLAG_W,PH_TOT,PH_TOT_FLAG_W,PH_TMP,TRITUM,TRITUM_FLAG_W,HELIUM,HELIUM_FLAG_W,DELHE3,DELHE3_FLAG_W,REFTMP,REFTMP_FLAG_W,DELC13,DELC13_FLAG_W,DELC14,DELC14_FLAG_W,C14ERR,NEON,NEON_FLAG_W,NEONER,DOC,DOC_FLAG_W,TDN,TDN_FLAG_W,BTL_LAT,BTL_LON,HELIER,DELHER,BTL_DATE,BTL_TIME
,,,,,,,,,,,METERS,DBAR,ITS-90,PSS-78,,PSS-78,,UMOL/KG,,UMOL/KG,,UMOL/KG,,UMOL/KG,,UMOL/KG,,UMOL/KG,,PMOL/KG,,PMOL/KG,,FMOL/KG,,UMOL/KG,,UMOL/KG,,,,DEG C,TU,,NMOL/KG,,PERCNT,,DEG C,,/MILLE,,/MILLE,,/MILLE,NMOL/KG,,NMOL/KG,UMOL/KG,,UMOL/KG,,,,NMOL/KG,PERCNT,,
33RR20090320,        I05,      42,          1,         36,         36,2,20090402,       1123,   -32.9962,    44.4819,        963,     5.2,  23.5460,  35.6128,2,  35.6137,2,    215.2,2,   214.8,2,    0.94,2,    0.18,2,    0.00,2,    0.07,2,   1.849,2,   1.146,2,   1.0260,2,  2027.1,6,  2334.8,2,   8.1277,2,    20.00,-999.000,9,-999.000,9,-999.000,9,  23.5485,2,-999.000,9, -999.00,9, -999.00,-999.000,9,-999.000,   67.38,2,    4.48,2, -32.9964,  44.4817,-999.000,-999.000,20090402,       1205
33RR20090320,        I05,      42,          1,         19,         19,2,20090402,       1123,   -32.9962,    44.4819,        963,    39.0,  23.4798,  35.6161,2,  35.6175,2,    215.0,2,   215.1,2,    0.81,2,    0.18,2,    0.00,2,    0.07,2,   1.854,2,   1.151,2,   1.0930,2,  2026.6,2,  2334.2,2,   8.1271,2,    20.00,-999.000,9,-999.000,9,-999.000,9,  23.4779,2,-999.000,9, -999.00,9, -999.00,-999.000,9,-999.000,   66.76,2,    4.23,2, -32.9964,  44.4816,-999.000,-999.000,20090402,       1202
33RR20090320,        I05,      42,          1,         18,         18,2,20090402,       1123,   -32.9962,    44.4819,        963,    62.6,  23.0873,  35.6113,2,  35.6118,2,    217.4,2,   217.5,2,    0.68,2,    0.18,2,    0.00,2,    0.07,2,   1.888,2,   1.166,2,   1.0560,2,  2027.9,2,  2334.7,2,   8.1239,2,    20.00,-999.000,9,-999.000,9,-999.000,9,  23.0855,2,-999.000,9, -999.00,9, -999.00,-999.000,9,-999.000,   64.26,2,    4.14,2, -32.9965,  44.4816,-999.000,-999.000,20090402,       1201
33RR20090320,        I05,      42,          1,         17,         17,2,20090402,       1123,   -32.9962,    44.4819,        963,    88.1,  20.6562,  35.5910,2,  35.5901,2,    230.4,2,   229.9,2,    0.95,2,    0.18,2,    0.00,2,    0.11,2,   2.145,2,   1.307,2,   1.1600,2,  2040.5,2,  2332.4,2,   8.1003,2,    20.00,-999.000,9,-999.000,9,-999.000,9,  20.6577,2,-999.000,9, -999.00,9, -999.00,-999.000,9,-999.000,   58.06,2,    4.57,2, -32.9965,  44.4816,-999.000,-999.000,20090402,       1159
33RR20090320,        I05,      42,          1,         16,         16,2,20090402,       1123,   -32.9962,    44.4819,        963,   113.2,  18.4969,  35.5641,2,  35.5633,2,    227.5,2,   227.3,2,    1.39,2,    0.68,2,    0.10,2,    0.20,2,   2.331,2,   1.404,2,   1.1910,2,  2059.0,2,  2331.7,2,   8.0651,2,    20.00,-999.000,9,-999.000,9,-999.000,9,  18.4849,2,-999.000,9, -999.00,9, -999.00,-999.000,9,-999.000,   54.15,2,    5.09,2, -32.9966,  44.4817,-999.000,-999.000,20090402,       1157
33RR20090320,        I05,      42,          1,         15,         15,2,20090402,       1123,   -32.9962,    44.4819,        963,   137.2,  17.4809,  35.5519,2,  35.5517,2,    218.8,2,   219.5,2,    1.85,2,    2.17,2,    0.05,2,    0.29,2,   2.388,2,   1.436,2,   1.2090,2,  2070.6,2,  2330.8,2,   8.0413,2,    20.00,-999.000,9,-999.000,9,-999.000,9,  17.4831,2,-999.000,9, -999.00,9, -999.00,-999.000,9,-999.000,   52.25,2,    6.02,2, -32.9966,  44.4817,-999.000,-999.000,20090402,       1156
33RR20090320,        I05,      42,          1,         14,         14,2,20090402,       1123,   -32.9962,    44.4819,        963,   162.7,  16.9468,  35.5430,2,  35.5421,2,    215.1,2,   214.6,2,    2.11,2,    3.76,2,    0.01,2,    0.37,2,   2.423,2,   1.458,2,   1.1680,2,  2080.1,2,  2329.9,2,   8.0241,2,    20.00,-999.000,9,-999.000,9,-999.000,9,  16.9266,2,-999.000,9, -999.00,9, -999.00,-999.000,9,-999.000,   50.71,2,    6.46,2, -32.9966,  44.4817,-999.000,-999.000,20090402,       1154
33RR20090320,        I05,      42,          1,         13,         13,2,20090402,       1123,   -32.9962,    44.4819,        963,   182.5,  16.6524,  35.5341,2,  35.5334,2,    215.5,2,   215.3,2,    2.37,2,    4.11,2,    0.01,2,    0.39,2,   2.453,2,   1.466,2,   1.1580,2,  2081.8,2,  2329.3,2,   8.0205,2,    20.00,-999.000,9,-999.000,9,-999.000,9,  16.6517,2,-999.000,9, -999.00,9, -999.00,-999.000,9,-999.000,   49.93,2,    6.83,2, -32.9965,  44.4817,-999.000,-999.000,20090402,       1153
33RR20090320,        I05,      42,          1,         12,         12,2,20090402,       1123,   -32.9962,    44.4819,        963,   197.9,  16.4768,  35.5266,2,  35.5270,2,    213.6,2,   214.0,2,    2.63,2,    4.27,2,    0.01,2,    0.41,2,   2.462,2,   1.481,2,   1.2120,2,  2085.8,2,  2328.7,2,   8.0143,2,    20.00,-999.000,9,-999.000,9,-999.000,9,  16.4864,2,-999.000,9, -999.00,9, -999.00,-999.000,9,-999.000,   49.16,2,    6.70,2, -32.9965,  44.4817,-999.000,-999.000,20090402,       1151
33RR20090320,        I05,      42,          1,         11,         11,2,20090402,       1123,   -32.9962,    44.4819,        963,   217.3,  16.2605,  35.5153,2,  35.5151,2,    214.5,2,   214.6,2,    2.32,2,    4.44,2,    0.01,2,    0.42,2,   2.501,2,   1.491,2,   1.1130,2,  2088.0,2,  2328.5,2,   8.0090,2,    20.00,-999.000,9,-999.000,9,-999.000,9,  16.2588,2,-999.000,9, -999.00,9, -999.00,-999.000,9,-999.000,   48.53,2,    7.04,2, -32.9964,  44.4817,-999.000,-999.000,20090402,       1148
33RR20090320,        I05,      42,          1,         10,         10,2,20090402,       1123,   -32.9962,    44.4819,        963,   267.1,  15.6192,  35.4772,2,  35.4767,2,    208.1,2,   209.9,2,    2.97,2,    6.05,2,    0.00,2,    0.52,2,   2.581,2,   1.523,2,   1.1480,2,  2099.4,2,  2327.6,2,   7.9862,2,    20.00,-999.000,9,-999.000,9,-999.000,9,  15.6176,2,-999.000,9, -999.00,9, -999.00,-999.000,9,-999.000,   47.72,2,    8.60,2, -32.9964,  44.4817,-999.000,-999.000,20090402,       1146
33RR20090320,        I05,      42,          1,          9,          9,2,20090402,       1123,   -32.9962,    44.4819,        963,   318.0,  15.0277,  35.4366,2,  35.4373,2,    207.9,2,   207.9,2,    3.23,2,    7.04,2,    0.00,2,    0.59,2,   2.674,6,   1.562,6,   1.1620,6,  2106.7,2,  2324.1,2,   7.9690,2,    20.00,-999.000,9,-999.000,9,-999.000,9,  15.0200,2,-999.000,9, -999.00,9, -999.00,-999.000,9,-999.000,   47.19,2,    9.54,2, -32.9965,  44.4816,-999.000,-999.000,20090402,       1143
33RR20090320,        I05,      42,          1,          8,          8,2,20090402,       1123,   -32.9962,    44.4819,        963,   367.5,  14.3023,  35.3691,2,  35.3693,2,    211.6,2,   212.2,2,    3.30,2,    8.05,2,    0.00,2,    0.64,2,   2.782,2,   1.609,2,   1.1280,2,  2110.4,2,  2324.0,2,   7.9548,2,    20.00,-999.000,9,-999.000,9,-999.000,9,  14.3274,2,-999.000,9, -999.00,9, -999.00,-999.000,9,-999.000,   46.46,2,    9.87,2, -32.9964,  44.4817,-999.000,-999.000,20090402,       1141
33RR20090320,        I05,      42,          1,          7,          7,2,20090402,       1123,   -32.9962,    44.4819,        963,   416.4,  13.6232,  35.3001,2,  35.2998,2,    214.3,2,   215.0,2,    3.37,2,    9.10,2,    0.00,2,    0.71,2,   2.870,2,   1.645,2,   1.1510,2,  2115.5,2,  2319.3,2,   7.9415,2,    20.00,-999.000,9,-999.000,9,-999.000,9,  13.6323,2,-999.000,9, -999.00,9, -999.00,-999.000,9,-999.000,   45.22,2,   10.66,2, -32.9964,  44.4817,-999.000,-999.000,20090402,       1138
33RR20090320,        I05,      42,          1,          6,          6,2,20090402,       1123,   -32.9962,    44.4819,        963,   468.3,  13.0701,  35.2295,2,  35.2318,2,    217.0,2,   218.2,2,    3.43,2,   10.04,2,    0.00,2,    0.77,2,   2.939,2,   1.669,2,   1.1240,2,  2116.5,2,  2316.7,2,   7.9311,2,    20.00,-999.000,9,-999.000,9,-999.000,9,  13.0687,2,-999.000,9, -999.00,9, -999.00,-999.000,9,-999.000,   44.84,2,   11.48,2, -32.9964,  44.4817,-999.000,-999.000,20090402,       1137
33RR20090320,        I05,      42,          1,          5,          5,2,20090402,       1123,   -32.9962,    44.4819,        963,   537.0,  12.4948,  35.1588,2,  35.1583,2,    218.1,2,   219.5,2,    3.50,2,   10.98,2,    0.00,2,    0.83,2,   3.043,2,   1.696,2,   1.0820,2,  2121.9,2,  2313.0,2,   7.9195,2,    20.00,-999.000,9,-999.000,9,-999.000,9,  12.4920,2,-999.000,9, -999.00,9, -999.00,-999.000,9,-999.000,   44.14,2,   12.68,2, -32.9964,  44.4817,-999.000,-999.000,20090402,       1134
33RR20090320,        I05,      42,          1,          4,          4,2,20090402,       1123,   -32.9962,    44.4819,        963,   637.5,  11.2429,  34.9700,2,  34.9668,2,    217.3,2,   218.7,2,    4.54,2,   13.76,2,    0.00,2,    1.01,2,   3.107,2,   1.677,2,   0.9220,2,  2128.9,2,  2306.2,2,   7.8865,2,    20.00,-999.000,9,-999.000,9,-999.000,9,  11.2394,2,-999.000,9, -999.00,9, -999.00,-999.000,9,-999.000,   43.40,2,   15.05,2, -32.9963,  44.4818,-999.000,-999.000,20090402,       1131
33RR20090320,        I05,      42,          1,          3,          3,2,20090402,       1123,   -32.9962,    44.4819,        963,   738.6,  10.0119,  34.8097,2,  34.8093,2,    216.0,2,   217.5,2,    6.35,2,   16.65,2,    0.00,2,    1.20,2,   3.014,2,   1.582,2,   0.7770,2,  2136.9,2,  2298.7,2,   7.8562,2,    20.00,-999.000,9,-999.000,9,-999.000,9,  10.0120,2,-999.000,9, -999.00,9, -999.00,-999.000,9,-999.000,   42.69,2,   17.79,2, -32.9962,  44.4819,-999.000,-999.000,20090402,       1128
33RR20090320,        I05,      42,          1,          2,          2,2,20090402,       1123,   -32.9962,    44.4819,        963,   841.9,   8.8227,  34.6753,2,  34.6725,2,    208.3,2,   208.8,2,   10.31,2,   20.39,2,    0.00,2,    1.43,2,   2.682,2,   1.378,2,   0.5300,2,  2150.4,2,  2297.5,2,   7.8149,2,    20.00,-999.000,9,-999.000,9,-999.000,9,   8.8162,2,-999.000,9, -999.00,9, -999.00,-999.000,9,-999.000,   41.97,2,   21.91,2, -32.9961,  44.4820,-999.000,-999.000,20090402,       1125
33RR20090320,        I05,      42,          1,          1,          1,2,20090402,       1123,   -32.9962,    44.4819,        963,   956.1,   7.4628,  34.5499,2,  34.5439,2,    201.4,2,   202.4,2,   16.40,2,   24.29,2,    0.00,2,    1.71,2,   2.370,6,   1.209,6,   0.5130,6,  2167.5,6,  2297.2,2,   7.7688,2,    20.00,-999.000,9,-999.000,9,-999.000,9,   7.4139,2,-999.000,9, -999.00,9, -999.00,-999.000,9,-999.000,   41.07,2,   25.86,2, -32.9962,  44.4819,-999.000,-999.000,20090402,       1123