BOTTLE,20220814CCHSIOAMB
EXPOCODE,SECT_ID,STNNBR,CASTNO,SAMPNO,BTLNBR,BTLNBR_FLAG_W,DATE,TIME,LATITUDE,LONGITUDE,DEPTH,CTDPRS,CTDTMP,CTDSAL,CTDSAL_FLAG_W,SALNTY,SALNTY_FLAG_W,CTDOXY,CTDOXY_FLAG_W,OXYGEN,OXYGEN_FLAG_W,SILCAT,SILCAT_FLAG_W,NITRAT,NITRAT_FLAG_W,NITRIT,NITRIT_FLAG_W,PHSPHT,PHSPHT_FLAG_W,CFC-11,CFC-11_FLAG_W,CFC-12,CFC-12_FLAG_W,SF6,SF6_FLAG_W,TCARBN,TCARBN_FLAG_W,ALKALI,ALKALI_FLAG_W,PH_TOT,PH_TOT_FLAG_W,PH_TMP,TRITUM,TRITUM_FLAG_W,HELIUM,HELIUM_FLAG_W,DELHE3,DELHE3_FLAG_W,REFTMP,REFTMP_FLAG_W,DELC13,DELC13_FLAG_W,DELC14,DELC14_FLAG_W,C14ERR,NEON,NEON_FLAG_W,NEONER,DOC,DOC_FLAG_W,TDN,TDN_FLAG_W,BTL_LAT,BTL_LON,HELIER,DELHER,BTL_DATE,BTL_TIME
,,,,,,,,,,,METERS,DBAR,ITS-90,PSS-78,,PSS-78,,UMOL/KG,,UMOL/KG,,UMOL/KG,,UMOL/KG,,UMOL/KG,,UMOL/KG,,PMOL/KG,,PMOL/KG,,FMOL/KG,,UMOL/KG,,UMOL/KG,,,,DEG C,TU,,NMOL/KG,,PERCNT,,DEG C,,/MILLE,,/MILLE,,/MILLE,NMOL/KG,,NMOL/KG,UMOL/KG,,UMOL/KG,,,,NMOL/KG,PERCNT,,
33RR20090320,        I05,     123,          1,         36,         36,2,20090424,       2125,   -31.1935,    83.7669,       3798,     4.9,  20.9458,  35.9342,2,  35.9350,2,    223.9,2,   224.0,2,    1.79,2,    0.12,2,    0.00,2,    0.12,2,   2.069,2,   1.247,2,   1.1760,2,  2067.2,6,  2359.7,2,   8.1002,2,    20.00,-999.000,9,-999.000,9,-999.000,9,  20.9427,2,-999.000,9, -999.00,9, -999.00,-999.000,9,-999.000,   68.15,2,    3.95,2, -31.1934,  83.7668,-999.000,-999.000,20090424,       2309
33RR20090320,        I05,     123,          1,         35,         35,2,20090424,       2125,   -31.1935,    83.7669,       3798,    41.6,  20.9343,  35.9320,2,  35.9337,2,    224.7,2,   224.6,2,    1.78,2,    0.07,2,    0.00,2,    0.12,2,   2.070,6,   1.246,6,   1.1460,2,  2068.5,2,  2358.6,2,   8.1002,2,    20.00,-999.000,9,-999.000,9,-999.000,9,  20.9253,2,-999.000,9, -999.00,9, -999.00,-999.000,9,-999.000,   66.89,2,    3.40,2, -31.1934,  83.7667,-999.000,-999.000,20090424,       2306
33RR20090320,        I05,     123,          1,         34,         34,2,20090424,       2125,   -31.1935,    83.7669,       3798,    67.3,  17.5994,  35.6811,2,  35.6860,2,    251.3,2,   252.7,2,    1.57,2,    0.07,2,    0.00,2,    0.16,2,   2.586,2,   1.502,2,   1.2690,2,  2073.4,2,  2346.2,2,   8.0733,2,    20.00,-999.000,9,-999.000,9,-999.000,9,  17.6225,2,-999.000,9, -999.00,9, -999.00,-999.000,9,-999.000,   66.26,2,    4.15,2, -31.1934,  83.7667,-999.000,-999.000,20090424,       2305
33RR20090320,        I05,     123,          1,         33,         33,2,20090424,       2125,   -31.1935,    83.7669,       3798,    91.3,  16.3133,  35.6016,2,  35.6017,2,    249.6,2,   247.3,2,    1.55,2,    0.02,2,    0.00,2,    0.20,2,   2.674,2,   1.554,2,   1.2170,6,  2084.6,2,  2343.3,2,   8.0488,2,    20.00,-999.000,9,-999.000,9,-999.000,9,  16.3008,2,-999.000,9, -999.00,9, -999.00,-999.000,9,-999.000,   61.79,2,    3.96,2, -31.1935,  83.7666,-999.000,-999.000,20090424,       2303
33RR20090320,        I05,     123,          1,         32,         32,2,20090424,       2125,   -31.1935,    83.7669,       3798,   116.7,  15.2564,  35.4978,4,  35.5139,2,    238.7,2,   237.7,2,    1.72,2,    0.97,2,    0.10,2,    0.29,2,   2.756,2,   1.597,2,   1.3020,2,  2097.7,2,  2339.7,2,   8.0184,2,    20.00,-999.000,9,-999.000,9,-999.000,9,  15.2491,2,-999.000,9, -999.00,9, -999.00,-999.000,9,-999.000,   60.33,2,    4.57,2, -31.1935,  83.7666,-999.000,-999.000,20090424,       2302
33RR20090320,        I05,     123,          1,         31,         31,2,20090424,       2125,   -31.1935,    83.7669,       3798,   140.8,  14.5830,  35.4045,2,  35.4074,2,    232.7,2,   232.4,2,    1.87,2,    3.53,2,    0.10,2,    0.41,2,   2.847,2,   1.638,2,   1.3520,2,  2106.8,2,  2330.9,2,   7.9922,2,    20.00,-999.000,9,-999.000,9,-999.000,9,  14.5818,2,-999.000,9, -999.00,9, -999.00,-999.000,9,-999.000,   54.76,2,    6.61,2, -31.1934,  83.7666,-999.000,-999.000,20090424,       2300
33RR20090320,        I05,     123,          1,         30,         30,2,20090424,       2125,   -31.1935,    83.7669,       3798,   170.9,  13.7886,  35.2833,2,  35.2710,2,    235.2,2,   235.8,2,    2.21,2,    5.50,2,    0.01,2,    0.52,2,   2.952,2,   1.691,2,   1.3880,2,  2109.8,2,  2323.7,2,   7.9703,2,    20.00,-999.000,9,-999.000,9,-999.000,9,  13.8085,2,-999.000,9, -999.00,9, -999.00,-999.000,9,-999.000,   52.85,2,    8.23,2, -31.1934,  83.7668,-999.000,-999.000,20090424,       2259
33RR20090320,        I05,     123,          1,         29,         29,2,20090424,       2125,   -31.1935,    83.7669,       3798,   221.9,  12.7243,  35.1468,2,  35.1485,2,    233.6,2,   234.8,2,    2.89,2,    8.12,2,    0.00,2,    0.65,2,   3.137,2,   1.768,2,   1.3530,2,  2116.1,2,  2314.9,2,   7.9410,2,    20.00,-999.000,9,-999.000,9,-999.000,9,  12.7131,2,-999.000,9, -999.00,9, -999.00,-999.000,9,-999.000,   50.57,2,   10.13,2, -31.1934,  83.7669,-999.000,-999.000,20090424,       2257
33RR20090320,        I05,     123,          1,         28,         28,2,20090424,       2125,   -31.1935,    83.7669,       3798,   271.2,  12.2183,  35.0889,2,  35.0894,2,    235.9,2,   236.3,2,    3.58,2,    9.59,2,    0.00,2,    0.74,2,   3.193,2,   1.802,2,   1.3900,2,  2119.0,2,  2311.8,2,   7.9276,2,    20.00,-999.000,9,-999.000,9,-999.000,9,  12.2152,2,-999.000,9, -999.00,9, -999.00,-999.000,9,-999.000,   49.11,2,   11.76,2, -31.1934,  83.7669,-999.000,-999.000,20090424,       2255
33RR20090320,        I05,     123,          1,         27,         27,2,20090424,       2125,   -31.1935,    83.7669,       3798,   321.1,  11.7923,  35.0289,2,  35.0282,2,    241.0,2,   240.8,2,    3.91,2,   10.47,2,    0.00,2,    0.80,2,   3.246,2,   1.827,2,   1.4620,2,  2117.9,2,  2308.4,2,   7.9206,2,    20.00,-999.000,9,-999.000,9,-999.000,9,  11.7934,2,-999.000,9, -999.00,9, -999.00,-999.000,9,-999.000,   48.50,2,   12.69,2, -31.1933,  83.7670,-999.000,-999.000,20090424,       2253
33RR20090320,        I05,     123,          1,         26,         26,2,20090424,       2125,   -31.1935,    83.7669,       3798,   371.6,  11.5899,  35.0166,2,  35.0156,2,    238.2,2,   237.2,2,    3.89,2,   10.94,2,    0.00,2,    0.82,2,   3.320,2,   1.838,2,   1.3050,2,  2120.4,2,  2308.4,2,   7.9138,2,    20.00,-999.000,9,-999.000,9,-999.000,9,  11.5817,2,-999.000,9, -999.00,9, -999.00,-999.000,9,-999.000,   47.68,2,   13.11,2, -31.1933,  83.7670,-999.000,-999.000,20090424,       2251
33RR20090320,        I05,     123,          1,         25,         25,2,20090424,       2125,   -31.1935,    83.7669,       3798,   421.1,  11.1731,  34.9464,2,  34.9467,2,    239.1,2,   239.4,2,    4.23,2,   11.99,2,    0.00,2,    0.89,2,   3.375,2,   1.865,2,   1.3020,2,  2121.6,2,  2304.7,2,   7.9048,2,    20.00,-999.000,9,-999.000,9,-999.000,9,  11.1665,2,-999.000,9, -999.00,9, -999.00,-999.000,9,-999.000,   46.78,2,   14.08,2, -31.1934,  83.7670,-999.000,-999.000,20090424,       2249
33RR20090320,        I05,     123,          1,         24,         24,2,20090424,       2125,   -31.1935,    83.7669,       3798,   470.8,  10.8385,  34.8988,2,  34.8983,2,    238.9,2,   239.0,2,    4.39,2,   12.88,2,    0.00,2,    0.94,2,   3.429,2,   1.871,2,   1.2700,2,  2122.7,2,  2302.5,2,   7.8952,2,    20.00,-999.000,9,-999.000,9,-999.000,9,  10.8373,2,-999.000,9, -999.00,9, -999.00,-999.000,9,-999.000,   46.27,2,   14.31,2, -31.1933,  83.7670,-999.000,-999.000,20090424,       2247
33RR20090320,        I05,     123,          1,         23,         23,2,20090424,       2125,   -31.1935,    83.7669,       3798,   541.3,  10.4600,  34.8530,2,  34.8521,2,    237.7,2,   237.2,2,    4.55,2,   13.77,2,    0.00,2,    1.00,2,   3.519,2,   1.889,2,   1.1880,2,  2125.2,2,  2300.5,2,   7.8855,2,    20.00,-999.000,9,-999.000,9,-999.000,9,  10.4606,2,-999.000,9, -999.00,9, -999.00,-999.000,9,-999.000,   44.88,2,   15.26,2, -31.1933,  83.7670,-999.000,-999.000,20090424,       2245
33RR20090320,        I05,     123,          1,         22,         22,2,20090424,       2125,   -31.1935,    83.7669,       3798,   641.1,   9.7212,  34.7459,2,  34.7475,2,    235.5,2,   236.3,2,    5.23,2,   15.65,2,    0.00,2,    1.11,2,   3.590,2,   1.882,2,   1.0930,2,  2129.2,2,  2295.1,2,   7.8659,2,    20.00,-999.000,9,-999.000,9,-999.000,9,   9.7267,2,-999.000,9, -999.00,9, -999.00,-999.000,9,-999.000,   44.07,2,   17.14,2, -31.1933,  83.7671,-999.000,-999.000,20090424,       2243
33RR20090320,        I05,     123,          1,         21,         21,2,20090424,       2125,   -31.1935,    83.7669,       3798,   740.9,   8.9192,  34.6476,2,  34.6475,2,    221.3,2,   221.0,2,    8.42,2,   19.27,2,    0.00,2,    1.35,2,   3.209,2,   1.651,2,   0.7960,2,  2142.8,2,  2292.8,2,   7.8263,2,    20.00,-999.000,9,-999.000,9,-999.000,9,   8.9161,2,-999.000,9, -999.00,9, -999.00,-999.000,9,-999.000,   43.20,2,   20.51,2, -31.1933,  83.7670,-999.000,-999.000,20090424,       2240
33RR20090320,        I05,     123,          1,         20,         20,2,20090424,       2125,   -31.1935,    83.7669,       3798,   840.9,   7.6741,  34.5299,2,  34.5314,2,    209.0,2,   208.4,2,   13.74,2,   23.42,2,    0.00,2,    1.62,2,   2.685,2,   1.350,2,   0.6040,2,  2159.8,2,  2292.5,2,   7.7792,2,    20.00,-999.000,9,-999.000,9,-999.000,9,   7.6729,2,-999.000,9, -999.00,9, -999.00,-999.000,9,-999.000,   42.07,2,   24.72,2, -31.1934,  83.7669,-999.000,-999.000,20090424,       2237
33RR20090320,        I05,     123,          1,         19,         19,2,20090424,       2125,   -31.1935,    83.7669,       3798,   941.7,   5.9141,  34.4132,2,  34.4140,2,    199.5,2,   199.3,2,   23.90,2,   28.27,2,    0.00,2,    1.96,2,   1.919,2,   0.938,2,   0.3690,2,  2182.1,2,  2295.2,2,   7.7238,2,    20.00,-999.000,9,-999.000,9,-999.000,9,   5.9150,2,-999.000,9, -999.00,9, -999.00,-999.000,9,-999.000,   41.09,2,   29.80,2, -31.1935,  83.7669,-999.000,-999.000,20090424,       2234
33RR20090320,        I05,     123,          1,         18,         18,2,20090424,       2125,   -31.1935,    83.7669,       3798,  1042.1,   4.8830,  34.3875,2,  34.3873,2,    192.8,2,   193.3,2,   33.75,2,   30.81,2,    0.00,2,    2.16,2,   1.447,2,   0.697,2,   0.2710,2,  2199.1,2,  2303.4,2,   7.6938,2,    20.00,-999.000,9,-999.000,9,-999.000,9,   4.8815,2,-999.000,9, -999.00,9, -999.00,-999.000,9,-999.000,   40.81,2,   32.27,2, -31.1936,  83.7669,-999.000,-999.000,20090424,       2232
33RR20090320,        I05,     123,          1,         17,         17,2,20090424,       2125,   -31.1935,    83.7669,       3798,  1142.2,   4.2114,  34.4143,2,  34.4134,2,    178.8,2,   180.2,2,   46.36,2,   32.82,2,    0.00,2,    2.31,2,   0.903,2,   0.427,2,   0.1310,2,  2217.9,2,  2315.1,2,   7.6670,2,    20.00,-999.000,9,-999.000,9,-999.000,9,   4.2102,2,-999.000,9, -999.00,9, -999.00,-999.000,9,-999.000,   40.27,2,   34.15,2, -31.1936,  83.7669,-999.000,-999.000,20090424,       2229
33RR20090320,        I05,     123,          1,         16,         16,2,20090424,       2125,   -31.1935,    83.7669,       3798,  1242.6,   3.7802,  34.4507,2,  34.4502,2,    173.0,2,   171.5,2,   55.94,2,   33.94,2,    0.00,2,    2.39,2,   0.611,2,   0.287,2,   0.1030,2,  2233.1,2,  2323.8,2,   7.6505,2,    20.00,-999.000,9,-999.000,9,-999.000,9,   3.7766,2,-999.000,9, -999.00,9, -999.00,-999.000,9,-999.000,   40.33,2,   35.36,2, -31.1936,  83.7669,-999.000,-999.000,20090424,       2226
33RR20090320,        I05,     123,          1,         15,         15,2,20090424,       2125,   -31.1935,    83.7669,       3798,  1342.5,   3.5332,  34.5006,2,  34.4987,2,    160.4,2,   161.2,2,   65.92,2,   34.52,2,    0.00,2,    2.47,2,   0.303,2,   0.144,2,   0.0800,2,  2247.6,2,  2332.7,2,   7.6377,2,    20.00,-999.000,9,-999.000,9,-999.000,9,   3.5335,2,-999.000,9, -999.00,9, -999.00,-999.000,9,-999.000,   40.34,2,   36.30,2, -31.1936,  83.7670,-999.000,-999.000,20090424,       2224
33RR20090320,        I05,     123,          1,         14,         14,2,20090424,       2125,   -31.1935,    83.7669,       3798,  1443.0,   3.3204,  34.5324,2,  34.5326,2,    158.0,2,   158.1,2,   71.18,2,   34.94,2,    0.00,2,    2.48,2,   0.201,2,   0.097,2,   0.0300,2,  2253.9,2,  2338.0,2,   7.6333,2,    20.00,-999.000,9,-999.000,9,-999.000,9,   3.3199,2,-999.000,9, -999.00,9, -999.00,-999.000,9,-999.000,   40.26,2,   36.17,2, -31.1935,  83.7670,-999.000,-999.000,20090424,       2221
33RR20090320,        I05,     123,          1,         13,         13,2,20090424,       2125,   -31.1935,    83.7669,       3798,  1543.6,   3.1463,  34.5748,2,  34.5743,2,    155.3,2,   155.7,2,   77.37,2,   34.89,2,    0.00,2,    2.49,2,   0.112,2,   0.055,2,   0.0310,2,  2263.8,6,  2345.6,2,   7.6323,2,    20.00,-999.000,9,-999.000,9,-999.000,9,   3.1461,2,-999.000,9, -999.00,9, -999.00,-999.000,9,-999.000,   39.29,2,   36.21,2, -31.1935,  83.7670,-999.000,-999.000,20090424,       2218
33RR20090320,        I05,     123,          1,         12,         12,2,20090424,       2125,   -31.1935,    83.7669,       3798,  1644.5,   2.9560,  34.6111,2,  34.6114,2,    157.4,2,   157.0,2,   81.19,2,   34.62,2,    0.00,2,    2.47,2,   0.081,2,   0.039,2,   0.0000,2,  2263.7,2,  2348.8,2,   7.6357,2,    20.00,-999.000,9,-999.000,9,-999.000,9,   2.9550,2,-999.000,9, -999.00,9, -999.00,-999.000,9,-999.000,   39.64,2,   35.84,2, -31.1934,  83.7670,-999.000,-999.000,20090424,       2215
33RR20090320,        I05,     123,          1,         11,         11,2,20090424,       2125,   -31.1935,    83.7669,       3798,  1745.8,   2.7919,  34.6460,2,  34.6462,2,    160.0,2,   159.6,2,   85.20,2,   34.19,2,    0.00,2,    2.44,2,   0.054,2,   0.026,2,   0.0000,2,  2265.2,2,  2353.8,2,   7.6421,2,    20.00,-999.000,9,-999.000,9,-999.000,9,   2.7899,2,-999.000,9, -999.00,9, -999.00,-999.000,9,-999.000,   40.00,2,   35.70,2, -31.1934,  83.7671,-999.000,-999.000,20090424,       2213
33RR20090320,        I05,     123,          1,         10,         10,2,20090424,       2125,   -31.1935,    83.7669,       3798,  1875.1,   2.6508,  34.6756,2,  34.6761,2,    162.4,2,   162.3,2,   89.41,2,   33.86,2,    0.00,2,    2.40,2,   0.031,2,   0.016,2,   0.0130,2,  2266.9,2,  2359.2,2,   7.6487,2,    20.00,-999.000,9,-999.000,9,-999.000,9,   2.6522,2,-999.000,9, -999.00,9, -999.00,-999.000,9,-999.000,   40.33,2,   35.12,2, -31.1935,  83.7670,-999.000,-999.000,20090424,       2210
33RR20090320,        I05,     123,          1,          9,          9,2,20090424,       2125,   -31.1935,    83.7669,       3798,  2096.6,   2.3486,  34.7107,2,  34.7107,2,    172.0,2,   171.1,2,   93.98,2,   33.00,2,    0.00,2,    2.33,2,   0.019,2,   0.009,2,   0.0000,2,  2266.3,2,  2364.6,2,   7.6637,2,    20.00,-999.000,9,-999.000,9,-999.000,9,   2.3497,2,-999.000,9, -999.00,9, -999.00,-999.000,9,-999.000,   40.17,2,   34.36,2, -31.1937,  83.7668,-999.000,-999.000,20090424,       2205
33RR20090320,        I05,     123,          1,          8,          8,2,20090424,       2125,   -31.1935,    83.7669,       3798,  2349.2,   2.0679,  34.7316,2,  34.7321,2,    184.0,2,   184.5,2,   94.33,2,   31.94,2,    0.00,2,    2.25,2,   0.016,2,   0.009,2,   0.0000,2,  2259.3,2,  2359.7,2,   7.6790,2,    20.00,-999.000,9,-999.000,9,-999.000,9,   2.0681,2,-999.000,9, -999.00,9, -999.00,-999.000,9,-999.000,   39.97,2,   33.52,2, -31.1938,  83.7667,-999.000,-999.000,20090424,       2159
33RR20090320,        I05,     123,          1,          7,          7,2,20090424,       2125,   -31.1935,    83.7669,       3798,  2602.1,   1.8533,  34.7399,2,  34.7405,2,    191.6,2,   192.0,2,   97.07,2,   31.40,2,    0.00,2,    2.21,2,   0.021,2,   0.014,2,   0.0000,2,  2257.6,2,  2362.1,2,   7.6862,2,    20.00,-999.000,9,-999.000,9,-999.000,9,   1.8530,2,-999.000,9, -999.00,9, -999.00,-999.000,9,-999.000,   39.80,2,   32.34,2, -31.1936,  83.7669,-999.000,-999.000,20090424,       2154
33RR20090320,        I05,     123,          1,          6,          6,2,20090424,       2125,   -31.1935,    83.7669,       3798,  2854.8,   1.6649,  34.7391,2,  34.7396,2,    195.9,2,   196.1,2,  102.03,2,   31.45,2,    0.00,2,    2.20,2,   0.023,2,   0.012,2,   0.0000,2,  2258.4,2,  2363.5,2,   7.6889,2,    20.00,-999.000,9,-999.000,9,-999.000,9,   1.6649,2,-999.000,9, -999.00,9, -999.00,-999.000,9,-999.000,   40.27,2,   32.84,2, -31.1935,  83.7670,-999.000,-999.000,20090424,       2149
33RR20090320,        I05,     123,          1,          5,          5,2,20090424,       2125,   -31.1935,    83.7669,       3798,  3123.8,   1.4779,  34.7313,2,  34.7319,2,    195.4,2,   195.4,2,  110.68,2,   32.03,2,    0.00,2,    2.25,2,   0.010,6,   0.006,6,   0.0290,6,  2266.9,2,  2370.7,2,   7.6892,2,    20.00,-999.000,9,-999.000,9,-999.000,9,   1.4780,2,-999.000,9, -999.00,9, -999.00,-999.000,9,-999.000,   39.66,2,   33.20,2, -31.1935,  83.7669,-999.000,-999.000,20090424,       2143
33RR20090320,        I05,     123,          1,          4,          4,2,20090424,       2125,   -31.1935,    83.7669,       3798,  3427.6,   1.3908,  34.7286,2,  34.7288,2,    197.2,2,   197.4,2,  113.08,2,   32.18,2,    0.00,2,    2.25,2,   0.014,2,   0.008,2,   0.0000,2,  2267.5,2,  2371.5,2,   7.6908,2,    20.00,-999.000,9,-999.000,9,-999.000,9,   1.3909,2,-999.000,9, -999.00,9, -999.00,-999.000,9,-999.000,   39.85,2,   33.41,2, -31.1934,  83.7669,-999.000,-999.000,20090424,       2136
33RR20090320,        I05,     123,          1,          3,          3,2,20090424,       2125,   -31.1935,    83.7669,       3798,  3731.9,   1.3714,  34.7272,2,  34.7274,2,    199.1,2,   198.5,2,  113.61,2,   32.03,2,    0.00,2,    2.25,2,   0.029,2,   0.017,2,   0.0000,2,  2265.7,2,  2372.2,2,   7.6906,2,    20.00,-999.000,9,-999.000,9,-999.000,9,   1.3713,2,-999.000,9, -999.00,9, -999.00,-999.000,9,-999.000,   39.53,2,   33.68,2, -31.1934,  83.7669,-999.000,-999.000,20090424,       2129
33RR20090320,        I05,     123,          1,          2,          2,2,20090424,       2125,   -31.1935,    83.7669,       3798,  3782.1,   1.3741,  34.7272,2,  34.7276,2,    199.1,2,   198.8,2,  113.60,2,   32.07,2,    0.00,2,    2.25,2,   0.021,2,   0.012,2,   0.0000,2,  2265.2,2,  2372.0,2,   7.6902,2,    20.00,-999.000,9,-999.000,9,-999.000,9,   1.3737,2,-999.000,9, -999.00,9, -999.00,-999.000,9,-999.000,   39.89,2,   33.91,2, -31.1935,  83.7669,-999.000,-999.000,20090424,       2127
33RR20090320,        I05,     123,          1,          1,          1,2,20090424,       2125,   -31.1935,    83.7669,       3798,  3842.6,   1.3800,  34.7273,2,  34.7278,2,    198.8,2,   199.2,2,  113.22,2,   32.06,2,    0.00,2,    2.25,2,   0.023,6,   0.013,6,   0.0350,6,  2264.8,6,  2370.9,2,   7.6900,2,    20.00,-999.000,9,-999.000,9,-999.000,9,   1.3796,2,-999.000,9, -999.00,9, -999.00,-999.000,9,-999.000,   39.45,2,   33.65,2, -31.1935,  83.7669,-999.000,-999.000,20090424,       2125