BOTTLE,20220814CCHSIOAMB
EXPOCODE,SECT_ID,STNNBR,CASTNO,SAMPNO,BTLNBR,BTLNBR_FLAG_W,DATE,TIME,LATITUDE,LONGITUDE,DEPTH,CTDPRS,CTDTMP,CTDSAL,CTDSAL_FLAG_W,SALNTY,SALNTY_FLAG_W,CTDOXY,CTDOXY_FLAG_W,OXYGEN,OXYGEN_FLAG_W,SILCAT,SILCAT_FLAG_W,NITRAT,NITRAT_FLAG_W,NITRIT,NITRIT_FLAG_W,PHSPHT,PHSPHT_FLAG_W,CFC-11,CFC-11_FLAG_W,CFC-12,CFC-12_FLAG_W,SF6,SF6_FLAG_W,TCARBN,TCARBN_FLAG_W,ALKALI,ALKALI_FLAG_W,PH_TOT,PH_TOT_FLAG_W,PH_TMP,TRITUM,TRITUM_FLAG_W,HELIUM,HELIUM_FLAG_W,DELHE3,DELHE3_FLAG_W,REFTMP,REFTMP_FLAG_W,DELC13,DELC13_FLAG_W,DELC14,DELC14_FLAG_W,C14ERR,NEON,NEON_FLAG_W,NEONER,DOC,DOC_FLAG_W,TDN,TDN_FLAG_W,BTL_LAT,BTL_LON,HELIER,DELHER,BTL_DATE,BTL_TIME
,,,,,,,,,,,METERS,DBAR,ITS-90,PSS-78,,PSS-78,,UMOL/KG,,UMOL/KG,,UMOL/KG,,UMOL/KG,,UMOL/KG,,UMOL/KG,,PMOL/KG,,PMOL/KG,,FMOL/KG,,UMOL/KG,,UMOL/KG,,,,DEG C,TU,,NMOL/KG,,PERCNT,,DEG C,,/MILLE,,/MILLE,,/MILLE,NMOL/KG,,NMOL/KG,UMOL/KG,,UMOL/KG,,,,NMOL/KG,PERCNT,,
33RR20090320,        I05,     168,          1,         36,         36,2,20090505,       1909,   -31.6051,   103.9092,       5202,     8.9,  19.2562,  35.9811,2,  35.9771,2,    229.1,2,   230.0,2,    1.54,2,    0.00,2,    0.00,2,    0.10,2,-999.000,9,-999.000,9,-999.0000,9,  2068.4,6,  2361.6,2,   8.0939,2,    20.00,-999.000,9,-999.000,9,-999.000,9,  19.2565,2,-999.000,9, -999.00,9, -999.00,-999.000,9,-999.000, -999.00,9, -999.00,9, -31.6048, 103.9096,-999.000,-999.000,20090505,       2117
33RR20090320,        I05,     168,          1,         35,         35,2,20090505,       1909,   -31.6051,   103.9092,       5202,    42.9,  19.2461,  36.0040,2,  36.0002,2,    230.7,2,   230.3,2,    1.32,2,    0.00,2,    0.00,2,    0.10,2,-999.000,9,-999.000,9,-999.0000,9,  2072.4,2,  2361.7,2,   8.0918,2,    20.00,-999.000,9,-999.000,9,-999.000,9,  19.2398,2,-999.000,9, -999.00,9, -999.00,-999.000,9,-999.000, -999.00,9, -999.00,9, -31.6047, 103.9097,-999.000,-999.000,20090505,       2114
33RR20090320,        I05,     168,          1,         34,         34,2,20090505,       1909,   -31.6051,   103.9092,       5202,    68.4,  18.7621,  35.9486,2,  35.9458,2,    233.4,2,   232.6,2,    1.09,2,    0.00,2,    0.00,2,    0.10,2,-999.000,9,-999.000,9,-999.0000,9,  2073.1,2,  2359.7,2,   8.0861,2,    20.00,-999.000,9,-999.000,9,-999.000,9,  18.7954,2,-999.000,9, -999.00,9, -999.00,-999.000,9,-999.000, -999.00,9, -999.00,9, -31.6047, 103.9097,-999.000,-999.000,20090505,       2113
33RR20090320,        I05,     168,          1,         33,         33,2,20090505,       1909,   -31.6051,   103.9092,       5202,    91.5,  16.7109,  35.7251,2,  35.7267,2,    246.6,2,   247.1,2,    0.88,2,    0.01,2,    0.01,2,    0.14,2,-999.000,9,-999.000,9,-999.0000,9,  -999.0,9,  -999.0,9,-999.0000,9,  -999.00,-999.000,9,-999.000,9,-999.000,9,  16.7120,2,-999.000,9, -999.00,9, -999.00,-999.000,9,-999.000, -999.00,9, -999.00,9, -31.6047, 103.9098,-999.000,-999.000,20090505,       2111
33RR20090320,        I05,     168,          1,         32,         32,2,20090505,       1909,   -31.6051,   103.9092,       5202,   122.3,  15.3980,  35.6096,2,  35.5978,2,    240.2,2,   239.3,2,    0.84,2,    1.22,2,    0.07,2,    0.24,2,-999.000,9,-999.000,9,-999.0000,9,  2088.9,2,  2339.8,2,   8.0268,2,    20.00,-999.000,9,-999.000,9,-999.000,9,  15.3897,2,-999.000,9, -999.00,9, -999.00,-999.000,9,-999.000, -999.00,9, -999.00,9, -31.6047, 103.9098,-999.000,-999.000,20090505,       2109
33RR20090320,        I05,     168,          1,         31,         31,2,20090505,       1909,   -31.6051,   103.9092,       5202,   171.9,  13.8877,  35.4032,2,  35.3958,2,    236.6,2,   236.0,2,    1.16,2,    4.62,2,    0.01,2,    0.43,2,-999.000,9,-999.000,9,-999.0000,9,  -999.0,9,  -999.0,9,-999.0000,9,  -999.00,-999.000,9,-999.000,9,-999.000,9,  13.8823,2,-999.000,9, -999.00,9, -999.00,-999.000,9,-999.000, -999.00,9, -999.00,9, -31.6047, 103.9098,-999.000,-999.000,20090505,       2107
33RR20090320,        I05,     168,          1,         30,         30,2,20090505,       1909,   -31.6051,   103.9092,       5202,   222.5,  12.9140,  35.2465,2,  35.2458,2,    242.1,2,   241.1,2,    1.31,2,    6.16,2,    0.01,2,    0.54,2,-999.000,9,-999.000,9,-999.0000,9,  -999.0,9,  -999.0,9,-999.0000,9,  -999.00,-999.000,9,-999.000,9,-999.000,9,  12.9134,2,-999.000,9, -999.00,9, -999.00,-999.000,9,-999.000, -999.00,9, -999.00,9, -31.6047, 103.9099,-999.000,-999.000,20090505,       2105
33RR20090320,        I05,     168,          1,         29,         29,2,20090505,       1909,   -31.6051,   103.9092,       5202,   272.6,  12.0384,  35.0938,2,  35.0942,2,    248.0,2,   247.0,2,    1.45,2,    7.85,2,    0.00,2,    0.63,2,-999.000,9,-999.000,9,-999.0000,9,  2109.9,2,  2313.5,2,   7.9397,2,    20.00,-999.000,9,-999.000,9,-999.000,9,  12.0322,2,-999.000,9, -999.00,9, -999.00,-999.000,9,-999.000, -999.00,9, -999.00,9, -31.6046, 103.9099,-999.000,-999.000,20090505,       2103
33RR20090320,        I05,     168,          1,         28,         28,2,20090505,       1909,   -31.6051,   103.9092,       5202,   322.3,  11.3358,  34.9716,2,  34.9690,2,    249.4,2,   250.1,2,    1.97,2,    9.39,2,    0.00,2,    0.73,2,-999.000,9,-999.000,9,-999.0000,9,  -999.0,9,  -999.0,9,-999.0000,9,  -999.00,-999.000,9,-999.000,9,-999.000,9,  11.3335,2,-999.000,9, -999.00,9, -999.00,-999.000,9,-999.000, -999.00,9, -999.00,9, -31.6046, 103.9100,-999.000,-999.000,20090505,       2101
33RR20090320,        I05,     168,          1,         27,         27,2,20090505,       1909,   -31.6051,   103.9092,       5202,   372.6,  10.4738,  34.8266,2,  34.8284,2,    246.2,2,   247.8,2,    2.67,2,   11.87,2,    0.00,2,    0.88,2,-999.000,9,-999.000,9,-999.0000,9,  -999.0,9,  -999.0,9,-999.0000,9,  -999.00,-999.000,9,-999.000,9,-999.000,9,  10.4729,2,-999.000,9, -999.00,9, -999.00,-999.000,9,-999.000, -999.00,9, -999.00,9, -31.6046, 103.9099,-999.000,-999.000,20090505,       2059
33RR20090320,        I05,     168,          1,         26,         26,2,20090505,       1909,   -31.6051,   103.9092,       5202,   441.0,   9.8436,  34.7442,2,  34.7425,2,    242.6,2,   243.5,2,    3.55,2,   14.31,2,    0.00,2,    1.03,2,-999.000,9,-999.000,9,-999.0000,9,  -999.0,9,  -999.0,9,-999.0000,9,  -999.00,-999.000,9,-999.000,9,-999.000,9,   9.8441,2,-999.000,9, -999.00,9, -999.00,-999.000,9,-999.000, -999.00,9, -999.00,9, -31.6046, 103.9100,-999.000,-999.000,20090505,       2057
33RR20090320,        I05,     168,          1,         25,         25,2,20090505,       1909,   -31.6051,   103.9092,       5202,   541.1,   9.2734,  34.6780,2,  34.6784,2,    240.4,2,   239.8,2,    4.43,2,   16.33,2,    0.00,2,    1.14,2,-999.000,9,-999.000,9,-999.0000,9,  2129.3,2,  2290.9,2,   7.8496,2,    20.00,-999.000,9,-999.000,9,-999.000,9,   9.2740,2,-999.000,9, -999.00,9, -999.00,-999.000,9,-999.000, -999.00,9, -999.00,9, -31.6046, 103.9100,-999.000,-999.000,20090505,       2055
33RR20090320,        I05,     168,          1,         24,         24,2,20090505,       1909,   -31.6051,   103.9092,       5202,   642.7,   8.7133,  34.6038,2,  34.6045,2,    238.7,2,   237.3,2,    5.69,2,   18.18,2,    0.00,2,    1.27,2,-999.000,9,-999.000,9,-999.0000,9,  -999.0,9,  -999.0,9,-999.0000,9,  -999.00,-999.000,9,-999.000,9,-999.000,9,   8.7112,2,-999.000,9, -999.00,9, -999.00,-999.000,9,-999.000, -999.00,9, -999.00,9, -31.6046, 103.9100,-999.000,-999.000,20090505,       2052
33RR20090320,        I05,     168,          1,         23,         23,2,20090505,       1909,   -31.6051,   103.9092,       5202,   741.9,   7.4451,  34.4897,2,  34.4906,2,    213.9,2,   208.6,2,   12.85,2,   23.72,2,    0.00,2,    1.63,2,-999.000,9,-999.000,9,-999.0000,9,  2158.5,2,  2288.9,2,   7.7662,2,    20.00,-999.000,9,-999.000,9,-999.000,9,   7.4455,2,-999.000,9, -999.00,9, -999.00,-999.000,9,-999.000, -999.00,9, -999.00,9, -31.6046, 103.9099,-999.000,-999.000,20090505,       2049
33RR20090320,        I05,     168,          1,         22,         22,2,20090505,       1909,   -31.6051,   103.9092,       5202,   840.0,   6.0761,  34.4198,2,  34.4201,2,    197.2,2,   196.1,2,   22.27,2,   27.83,2,    0.00,2,    1.92,2,-999.000,9,-999.000,9,-999.0000,9,  -999.0,9,  -999.0,9,-999.0000,9,  -999.00,-999.000,9,-999.000,9,-999.000,9,   6.0679,2,-999.000,9, -999.00,9, -999.00,-999.000,9,-999.000, -999.00,9, -999.00,9, -31.6047, 103.9099,-999.000,-999.000,20090505,       2046
33RR20090320,        I05,     168,          1,         21,         21,2,20090505,       1909,   -31.6051,   103.9092,       5202,   940.6,   4.8449,  34.3821,2,  34.3827,2,    193.0,2,   193.3,2,   32.66,2,   30.46,2,    0.00,2,    2.13,2,-999.000,9,-999.000,9,-999.0000,9,  -999.0,9,  -999.0,9,-999.0000,9,  -999.00,-999.000,9,-999.000,9,-999.000,9,   4.8438,2,-999.000,9, -999.00,9, -999.00,-999.000,9,-999.000, -999.00,9, -999.00,9, -31.6048, 103.9097,-999.000,-999.000,20090505,       2044
33RR20090320,        I05,     168,          1,         20,         20,2,20090505,       1909,   -31.6051,   103.9092,       5202,  1042.7,   4.1064,  34.4031,2,  34.4043,2,    180.4,2,   183.5,2,   45.33,2,   32.38,2,    0.00,2,    2.29,2,-999.000,9,-999.000,9,-999.0000,9,  -999.0,9,  -999.0,9,-999.0000,9,  -999.00,-999.000,9,-999.000,9,-999.000,9,   4.1024,2,-999.000,9, -999.00,9, -999.00,-999.000,9,-999.000, -999.00,9, -999.00,9, -31.6051, 103.9094,-999.000,-999.000,20090505,       2041
33RR20090320,        I05,     168,          1,         19,         19,2,20090505,       1909,   -31.6051,   103.9092,       5202,  1141.6,   3.7571,  34.4656,2,  34.4640,4,    164.2,2,   165.1,2,   59.20,2,   33.84,2,    0.00,2,    2.40,2,-999.000,9,-999.000,9,-999.0000,9,  -999.0,9,  -999.0,9,-999.0000,9,  -999.00,-999.000,9,-999.000,9,-999.000,9,   3.7614,2,-999.000,9, -999.00,9, -999.00,-999.000,9,-999.000, -999.00,9, -999.00,9, -31.6051, 103.9094,-999.000,-999.000,20090505,       2038
33RR20090320,        I05,     168,          1,         18,         18,2,20090505,       1909,   -31.6051,   103.9092,       5202,  1243.1,   3.4932,  34.5101,2,  34.5104,2,    156.1,2,   156.4,2,   68.60,2,   34.54,2,    0.00,2,    2.47,2,-999.000,9,-999.000,9,-999.0000,9,  -999.0,9,  -999.0,9,-999.0000,9,  -999.00,-999.000,9,-999.000,9,-999.000,9,   3.4896,2,-999.000,9, -999.00,9, -999.00,-999.000,9,-999.000, -999.00,9, -999.00,9, -31.6052, 103.9094,-999.000,-999.000,20090505,       2035
33RR20090320,        I05,     168,          1,         17,         17,2,20090505,       1909,   -31.6051,   103.9092,       5202,  1344.0,   3.2681,  34.5461,2,  34.5459,2,    153.8,2,   153.8,2,   74.24,2,   34.75,2,    0.00,2,    2.49,2,-999.000,9,-999.000,9,-999.0000,9,  -999.0,9,  -999.0,9,-999.0000,9,  -999.00,-999.000,9,-999.000,9,-999.000,9,   3.2682,2,-999.000,9, -999.00,9, -999.00,-999.000,9,-999.000, -999.00,9, -999.00,9, -31.6051, 103.9093,-999.000,-999.000,20090505,       2032
33RR20090320,        I05,     168,          1,         16,         16,2,20090505,       1909,   -31.6051,   103.9092,       5202,  1474.7,   3.0614,  34.5925,2,  34.5935,2,    151.5,2,   151.3,2,   80.82,2,   34.64,2,    0.00,2,    2.49,2,-999.000,9,-999.000,9,-999.0000,9,  2265.5,2,  2347.0,2,   7.6238,2,    20.00,-999.000,9,-999.000,9,-999.000,9,   3.0611,2,-999.000,9, -999.00,9, -999.00,-999.000,9,-999.000, -999.00,9, -999.00,9, -31.6051, 103.9093,-999.000,-999.000,20090505,       2029
33RR20090320,        I05,     168,          1,         15,         15,2,20090505,       1909,   -31.6051,   103.9092,       5202,  1675.9,   2.8061,  34.6464,2,  34.6457,2,    152.8,2,   153.1,2,   88.77,2,   34.42,2,    0.00,2,    2.46,2,-999.000,9,-999.000,9,-999.0000,9,  -999.0,9,  -999.0,9,-999.0000,9,  -999.00,-999.000,9,-999.000,9,-999.000,9,   2.8070,2,-999.000,9, -999.00,9, -999.00,-999.000,9,-999.000, -999.00,9, -999.00,9, -31.6051, 103.9093,-999.000,-999.000,20090505,       2024
33RR20090320,        I05,     168,          1,         14,         14,2,20090505,       1909,   -31.6051,   103.9092,       5202,  1877.5,   2.5948,  34.6860,2,  34.6861,2,    157.1,2,   157.1,2,   95.77,2,   33.82,2,    0.00,2,    2.41,2,-999.000,9,-999.000,9,-999.0000,9,  -999.0,9,  -999.0,9,-999.0000,9,  -999.00,-999.000,9,-999.000,9,-999.000,9,   2.5953,2,-999.000,9, -999.00,9, -999.00,-999.000,9,-999.000, -999.00,9, -999.00,9, -31.6051, 103.9094,-999.000,-999.000,20090505,       2020
33RR20090320,        I05,     168,          1,         13,         13,2,20090505,       1909,   -31.6051,   103.9092,       5202,  2097.9,   2.3737,  34.7102,2,  34.7102,2,    162.4,2,   161.8,2,  101.45,2,   33.38,2,    0.00,2,    2.38,2,-999.000,9,-999.000,9,-999.0000,9,  2276.6,2,  2370.3,2,   7.6497,2,    20.00,-999.000,9,-999.000,9,-999.000,9,   2.3750,2,-999.000,9, -999.00,9, -999.00,-999.000,9,-999.000, -999.00,9, -999.00,9, -31.6051, 103.9094,-999.000,-999.000,20090505,       2015
33RR20090320,        I05,     168,          1,         12,         12,2,20090505,       1909,   -31.6051,   103.9092,       5202,  2349.0,   2.1528,  34.7254,2,  34.7253,2,    174.9,2,   174.3,2,   99.12,2,   32.41,2,    0.00,2,    2.29,2,-999.000,9,-999.000,9,-999.0000,9,  -999.0,9,  -999.0,9,-999.0000,9,  -999.00,-999.000,9,-999.000,9,-999.000,9,   2.1517,2,-999.000,9, -999.00,9, -999.00,-999.000,9,-999.000, -999.00,9, -999.00,9, -31.6051, 103.9093,-999.000,-999.000,20090505,       2010
33RR20090320,        I05,     168,          1,         11,         11,2,20090505,       1909,   -31.6051,   103.9092,       5202,  2603.0,   1.9360,  34.7301,2,  34.7304,2,    177.0,2,   176.2,2,  107.69,2,   32.57,2,    0.00,2,    2.30,2,-999.000,9,-999.000,9,-999.0000,9,  -999.0,9,  -999.0,9,-999.0000,9,  -999.00,-999.000,9,-999.000,9,-999.000,9,   1.9356,2,-999.000,9, -999.00,9, -999.00,-999.000,9,-999.000, -999.00,9, -999.00,9, -31.6051, 103.9094,-999.000,-999.000,20090505,       2004
33RR20090320,        I05,     168,          1,         10,         10,2,20090505,       1909,   -31.6051,   103.9092,       5202,  2855.7,   1.7324,  34.7328,2,  34.7313,2,    184.4,2,   185.1,2,  108.60,2,   32.03,2,    0.00,2,    2.26,2,-999.000,9,-999.000,9,-999.0000,9,  -999.0,9,  -999.0,9,-999.0000,9,  -999.00,-999.000,9,-999.000,9,-999.000,9,   1.7322,2,-999.000,9, -999.00,9, -999.00,-999.000,9,-999.000, -999.00,9, -999.00,9, -31.6051, 103.9093,-999.000,-999.000,20090505,       1959
33RR20090320,        I05,     168,          1,          9,          9,2,20090505,       1909,   -31.6051,   103.9092,       5202,  3124.2,   1.5381,  34.7338,2,  34.7338,2,    194.8,2,   194.6,2,  107.61,2,   31.49,2,    0.00,2,    2.21,2,-999.000,9,-999.000,9,-999.0000,9,  2262.1,2,  2367.2,2,   7.6826,2,    20.00,-999.000,9,-999.000,9,-999.000,9,   1.5385,2,-999.000,9, -999.00,9, -999.00,-999.000,9,-999.000, -999.00,9, -999.00,9, -31.6051, 103.9093,-999.000,-999.000,20090505,       1953
33RR20090320,        I05,     168,          1,          8,          8,2,20090505,       1909,   -31.6051,   103.9092,       5202,  3428.6,   1.3563,  34.7258,2,  34.7254,2,    194.9,2,   194.9,2,  115.24,2,   32.08,2,    0.00,2,    2.25,2,-999.000,9,-999.000,9,-999.0000,9,  -999.0,9,  -999.0,9,-999.0000,9,  -999.00,-999.000,9,-999.000,9,-999.000,9,   1.3570,2,-999.000,9, -999.00,9, -999.00,-999.000,9,-999.000, -999.00,9, -999.00,9, -31.6050, 103.9094,-999.000,-999.000,20090505,       1947
33RR20090320,        I05,     168,          1,          7,          7,2,20090505,       1909,   -31.6051,   103.9092,       5202,  3731.5,   1.2215,  34.7226,2,  34.7221,2,    201.2,2,   201.8,2,  115.58,2,   31.75,2,    0.00,2,    2.23,2,-999.000,9,-999.000,9,-999.0000,9,  -999.0,9,  -999.0,9,-999.0000,9,  -999.00,-999.000,9,-999.000,9,-999.000,9,   1.2221,2,-999.000,9, -999.00,9, -999.00,-999.000,9,-999.000, -999.00,9, -999.00,9, -31.6051, 103.9094,-999.000,-999.000,20090505,       1941
33RR20090320,        I05,     168,          1,          6,          6,2,20090505,       1909,   -31.6051,   103.9092,       5202,  4036.9,   1.1109,  34.7171,2,  34.7172,2,    204.0,2,   204.0,2,  118.62,2,   31.91,2,    0.00,2,    2.23,2,-999.000,9,-999.000,9,-999.0000,9,  2264.5,2,  2371.0,2,   7.6860,2,    20.00,-999.000,9,-999.000,9,-999.000,9,   1.1111,2,-999.000,9, -999.00,9, -999.00,-999.000,9,-999.000, -999.00,9, -999.00,9, -31.6051, 103.9094,-999.000,-999.000,20090505,       1935
33RR20090320,        I05,     168,          1,          5,          5,2,20090505,       1909,   -31.6051,   103.9092,       5202,  4343.7,   1.0359,  34.7124,2,  34.7127,2,    205.7,2,   206.4,2,  120.49,2,   32.02,2,    0.00,2,    2.24,2,-999.000,9,-999.000,9,-999.0000,9,  -999.0,9,  -999.0,9,-999.0000,9,  -999.00,-999.000,9,-999.000,9,-999.000,9,   1.0360,2,-999.000,9, -999.00,9, -999.00,-999.000,9,-999.000, -999.00,9, -999.00,9, -31.6051, 103.9094,-999.000,-999.000,20090505,       1929
33RR20090320,        I05,     168,          1,          4,          4,2,20090505,       1909,   -31.6051,   103.9092,       5202,  4682.4,   1.0160,  34.7097,2,  34.7090,2,    206.5,2,   206.9,2,  122.19,2,   32.11,2,    0.00,2,    2.25,2,-999.000,9,-999.000,9,-999.0000,9,  -999.0,9,  -999.0,9,-999.0000,9,  -999.00,-999.000,9,-999.000,9,-999.000,9,   1.0159,2,-999.000,9, -999.00,9, -999.00,-999.000,9,-999.000, -999.00,9, -999.00,9, -31.6051, 103.9094,-999.000,-999.000,20090505,       1922
33RR20090320,        I05,     168,          1,          3,          3,2,20090505,       1909,   -31.6051,   103.9092,       5202,  5091.5,   1.0309,  34.7081,2,  34.7084,2,    206.9,2,   206.9,2,  122.92,2,   32.11,2,    0.00,2,    2.26,2,-999.000,9,-999.000,9,-999.0000,9,  -999.0,9,  -999.0,9,-999.0000,9,  -999.00,-999.000,9,-999.000,9,-999.000,9,   1.0306,2,-999.000,9, -999.00,9, -999.00,-999.000,9,-999.000, -999.00,9, -999.00,9, -31.6050, 103.9092,-999.000,-999.000,20090505,       1914
33RR20090320,        I05,     168,          1,          2,          2,2,20090505,       1909,   -31.6051,   103.9092,       5202,  5189.7,   1.0369,  34.7076,2,  34.7079,2,    207.3,2,   207.2,2,  122.70,2,   32.11,2,    0.00,2,    2.25,2,-999.000,9,-999.000,9,-999.0000,9,  -999.0,9,  -999.0,9,-999.0000,9,  -999.00,-999.000,9,-999.000,9,-999.000,9,   1.0365,2,-999.000,9, -999.00,9, -999.00,-999.000,9,-999.000, -999.00,9, -999.00,9, -31.6051, 103.9092,-999.000,-999.000,20090505,       1912
33RR20090320,        I05,     168,          1,          1,          1,2,20090505,       1909,   -31.6051,   103.9092,       5202,  5284.3,   1.0403,  34.7074,2,  34.7073,2,    206.9,2,   207.1,2,  123.04,2,   32.16,2,    0.00,2,    2.26,2,-999.000,9,-999.000,9,-999.0000,9,  2266.9,6,  2371.8,2,   7.6837,2,    20.00,-999.000,9,-999.000,9,-999.000,9,   1.0389,2,-999.000,9, -999.00,9, -999.00,-999.000,9,-999.000, -999.00,9, -999.00,9, -31.6051, 103.9092,-999.000,-999.000,20090505,       1909