BOTTLE,20220814CCHSIOAMB
EXPOCODE,SECT_ID,STNNBR,CASTNO,SAMPNO,BTLNBR,BTLNBR_FLAG_W,DATE,TIME,LATITUDE,LONGITUDE,DEPTH,CTDPRS,CTDTMP,CTDSAL,CTDSAL_FLAG_W,SALNTY,SALNTY_FLAG_W,CTDOXY,CTDOXY_FLAG_W,OXYGEN,OXYGEN_FLAG_W,SILCAT,SILCAT_FLAG_W,NITRAT,NITRAT_FLAG_W,NITRIT,NITRIT_FLAG_W,PHSPHT,PHSPHT_FLAG_W,CFC-11,CFC-11_FLAG_W,CFC-12,CFC-12_FLAG_W,SF6,SF6_FLAG_W,TCARBN,TCARBN_FLAG_W,ALKALI,ALKALI_FLAG_W,PH_TOT,PH_TOT_FLAG_W,PH_TMP,TRITUM,TRITUM_FLAG_W,HELIUM,HELIUM_FLAG_W,DELHE3,DELHE3_FLAG_W,REFTMP,REFTMP_FLAG_W,DELC13,DELC13_FLAG_W,DELC14,DELC14_FLAG_W,C14ERR,NEON,NEON_FLAG_W,NEONER,DOC,DOC_FLAG_W,TDN,TDN_FLAG_W,BTL_LAT,BTL_LON,HELIER,DELHER,BTL_DATE,BTL_TIME
,,,,,,,,,,,METERS,DBAR,ITS-90,PSS-78,,PSS-78,,UMOL/KG,,UMOL/KG,,UMOL/KG,,UMOL/KG,,UMOL/KG,,UMOL/KG,,PMOL/KG,,PMOL/KG,,FMOL/KG,,UMOL/KG,,UMOL/KG,,,,DEG C,TU,,NMOL/KG,,PERCNT,,DEG C,,/MILLE,,/MILLE,,/MILLE,NMOL/KG,,NMOL/KG,UMOL/KG,,UMOL/KG,,,,NMOL/KG,PERCNT,,
33RR20090320,        I05,     154,          1,         36,         36,2,20090502,       1525,   -33.2567,    99.7367,       4547,     4.9,  18.4990,  35.9446,2,  35.9455,2,    233.6,2,   235.0,2,    0.78,2,    0.08,2,    0.00,2,    0.12,2,-999.000,9,-999.000,9,-999.0000,9,  2079.1,6,  2360.1,2,   8.0788,2,    20.00,-999.000,9,-999.000,9,-999.000,9,  18.4968,2,-999.000,9, -999.00,9, -999.00,-999.000,9,-999.000, -999.00,9, -999.00,9, -33.2568,  99.7367,-999.000,-999.000,20090502,       1724
33RR20090320,        I05,     154,          1,         35,         35,2,20090502,       1525,   -33.2567,    99.7367,       4547,    25.0,  18.5072,  35.9488,2,  35.9507,2,    235.5,2,   234.3,2,    0.76,2,    0.08,2,    0.00,2,    0.12,2,-999.000,9,-999.000,9,-999.0000,9,  2080.4,2,  2360.4,2,   8.0788,2,    20.00,-999.000,9,-999.000,9,-999.000,9,  18.5052,2,-999.000,9, -999.00,9, -999.00,-999.000,9,-999.000, -999.00,9, -999.00,9, -33.2569,  99.7368,-999.000,-999.000,20090502,       1722
33RR20090320,        I05,     154,          1,         34,         34,2,20090502,       1525,   -33.2567,    99.7367,       4547,    44.8,  18.5285,  35.9606,2,  35.9615,2,    236.0,2,   234.3,2,    0.74,2,    0.09,2,    0.00,2,    0.12,2,-999.000,9,-999.000,9,-999.0000,9,  2080.1,2,  2361.9,2,   8.0787,2,    20.00,-999.000,9,-999.000,9,-999.000,9,  18.5279,2,-999.000,9, -999.00,9, -999.00,-999.000,9,-999.000, -999.00,9, -999.00,9, -33.2569,  99.7368,-999.000,-999.000,20090502,       1720
33RR20090320,        I05,     154,          1,         33,         33,2,20090502,       1525,   -33.2567,    99.7367,       4547,    69.9,  18.2743,  35.9284,2,  35.9361,2,    234.1,2,   235.8,2,    0.71,2,    0.09,2,    0.00,2,    0.12,2,-999.000,9,-999.000,9,-999.0000,9,  2079.3,2,  2361.0,2,   8.0757,2,    20.00,-999.000,9,-999.000,9,-999.000,9,  18.2856,2,-999.000,9, -999.00,9, -999.00,-999.000,9,-999.000, -999.00,9, -999.00,9, -33.2569,  99.7369,-999.000,-999.000,20090502,       1718
33RR20090320,        I05,     154,          1,         32,         32,2,20090502,       1525,   -33.2567,    99.7367,       4547,    94.9,  15.4556,  35.6031,2,  35.6047,2,    243.1,2,   242.6,2,    0.69,2,    1.16,2,    0.12,2,    0.23,2,-999.000,9,-999.000,9,-999.0000,9,  -999.0,9,  -999.0,9,-999.0000,9,  -999.00,-999.000,9,-999.000,9,-999.000,9,  15.4574,2,-999.000,9, -999.00,9, -999.00,-999.000,9,-999.000, -999.00,9, -999.00,9, -33.2568,  99.7369,-999.000,-999.000,20090502,       1717
33RR20090320,        I05,     154,          1,         31,         31,2,20090502,       1525,   -33.2567,    99.7367,       4547,   139.8,  14.0234,  35.3884,2,  35.3944,2,    238.1,2,   237.1,2,    0.86,2,    4.16,2,    0.01,2,    0.40,2,-999.000,9,-999.000,9,-999.0000,9,  2097.2,2,  2329.2,2,   7.9914,2,    20.00,-999.000,9,-999.000,9,-999.000,9,  14.0399,2,-999.000,9, -999.00,9, -999.00,-999.000,9,-999.000, -999.00,9, -999.00,9, -33.2568,  99.7369,-999.000,-999.000,20090502,       1715
33RR20090320,        I05,     154,          1,         30,         30,2,20090502,       1525,   -33.2567,    99.7367,       4547,   189.8,  12.9543,  35.2353,2,  35.2368,2,    241.5,2,   242.1,2,    1.02,2,    6.13,2,    0.00,2,    0.53,2,-999.000,9,-999.000,9,-999.0000,9,  -999.0,9,  -999.0,9,-999.0000,9,  -999.00,-999.000,9,-999.000,9,-999.000,9,  12.9587,2,-999.000,9, -999.00,9, -999.00,-999.000,9,-999.000, -999.00,9, -999.00,9, -33.2568,  99.7369,-999.000,-999.000,20090502,       1713
33RR20090320,        I05,     154,          1,         29,         29,2,20090502,       1525,   -33.2567,    99.7367,       4547,   239.4,  12.4011,  35.1507,2,  35.1523,2,    243.8,2,   244.3,2,    1.19,2,    7.27,2,    0.00,2,    0.60,2,-999.000,9,-999.000,9,-999.0000,9,  2107.3,2,  2316.8,2,   7.9482,2,    20.00,-999.000,9,-999.000,9,-999.000,9,  12.4042,2,-999.000,9, -999.00,9, -999.00,-999.000,9,-999.000, -999.00,9, -999.00,9, -33.2568,  99.7369,-999.000,-999.000,20090502,       1711
33RR20090320,        I05,     154,          1,         28,         28,2,20090502,       1525,   -33.2567,    99.7367,       4547,   289.7,  11.8204,  35.0547,2,  35.0503,2,    246.3,2,   247.4,2,    1.36,2,    8.47,2,    0.00,2,    0.67,2,-999.000,9,-999.000,9,-999.0000,9,  -999.0,9,  -999.0,9,-999.0000,9,  -999.00,-999.000,9,-999.000,9,-999.000,9,  11.8044,2,-999.000,9, -999.00,9, -999.00,-999.000,9,-999.000, -999.00,9, -999.00,9, -33.2567,  99.7369,-999.000,-999.000,20090502,       1709
33RR20090320,        I05,     154,          1,         27,         27,2,20090502,       1525,   -33.2567,    99.7367,       4547,   340.8,  11.2192,  34.9494,2,  34.9530,2,    250.1,2,   248.6,2,    1.72,2,    9.83,2,    0.00,2,    0.75,2,-999.000,9,-999.000,9,-999.0000,9,  2111.6,2,  2305.8,2,   7.9196,2,    20.00,-999.000,9,-999.000,9,-999.000,9,  11.2129,2,-999.000,9, -999.00,9, -999.00,-999.000,9,-999.000, -999.00,9, -999.00,9, -33.2567,  99.7369,-999.000,-999.000,20090502,       1707
33RR20090320,        I05,     154,          1,         26,         26,2,20090502,       1525,   -33.2567,    99.7367,       4547,   388.9,  10.5425,  34.8349,2,  34.8360,2,    249.0,2,   249.3,2,    2.26,2,   11.63,2,    0.00,2,    0.86,2,-999.000,9,-999.000,9,-999.0000,9,  -999.0,9,  -999.0,9,-999.0000,9,  -999.00,-999.000,9,-999.000,9,-999.000,9,  10.5479,2,-999.000,9, -999.00,9, -999.00,-999.000,9,-999.000, -999.00,9, -999.00,9, -33.2567,  99.7369,-999.000,-999.000,20090502,       1705
33RR20090320,        I05,     154,          1,         25,         25,2,20090502,       1525,   -33.2567,    99.7367,       4547,   468.3,   9.9577,  34.7616,2,  34.7605,2,    243.6,2,   243.5,2,    3.00,2,   14.08,2,    0.00,2,    1.01,2,-999.000,9,-999.000,9,-999.0000,9,  2121.5,2,  2295.0,2,   7.8738,2,    20.00,-999.000,9,-999.000,9,-999.000,9,   9.9629,2,-999.000,9, -999.00,9, -999.00,-999.000,9,-999.000, -999.00,9, -999.00,9, -33.2567,  99.7369,-999.000,-999.000,20090502,       1702
33RR20090320,        I05,     154,          1,         24,         24,2,20090502,       1525,   -33.2567,    99.7367,       4547,   568.8,   9.4397,  34.6980,2,  34.6994,2,    239.4,2,   239.7,2,    3.53,2,   15.88,2,    0.00,2,    1.11,2,-999.000,9,-999.000,9,-999.0000,9,  -999.0,9,  -999.0,9,-999.0000,9,  -999.00,-999.000,9,-999.000,9,-999.000,9,   9.4511,2,-999.000,9, -999.00,9, -999.00,-999.000,9,-999.000, -999.00,9, -999.00,9, -33.2568,  99.7368,-999.000,-999.000,20090502,       1659
33RR20090320,        I05,     154,          1,         23,         23,2,20090502,       1525,   -33.2567,    99.7367,       4547,   670.0,   8.7939,  34.6136,2,  34.6151,2,    236.7,2,   236.1,2,    4.83,2,   18.06,2,    0.00,2,    1.25,2,-999.000,9,-999.000,9,-999.0000,9,  -999.0,9,  -999.0,9,-999.0000,9,  -999.00,-999.000,9,-999.000,9,-999.000,9,   8.7906,2,-999.000,9, -999.00,9, -999.00,-999.000,9,-999.000, -999.00,9, -999.00,9, -33.2568,  99.7368,-999.000,-999.000,20090502,       1656
33RR20090320,        I05,     154,          1,         22,         22,2,20090502,       1525,   -33.2567,    99.7367,       4547,   770.3,   7.8363,  34.5183,2,  34.5183,2,    218.0,2,   213.6,2,    9.53,2,   22.44,2,    0.00,2,    1.53,2,-999.000,9,-999.000,9,-999.0000,9,  -999.0,9,  -999.0,9,-999.0000,9,  -999.00,-999.000,9,-999.000,9,-999.000,9,   7.8335,2,-999.000,9, -999.00,9, -999.00,-999.000,9,-999.000, -999.00,9, -999.00,9, -33.2568,  99.7367,-999.000,-999.000,20090502,       1653
33RR20090320,        I05,     154,          1,         21,         21,2,20090502,       1525,   -33.2567,    99.7367,       4547,   869.8,   6.2897,  34.4245,2,  34.4238,2,    199.0,2,   197.7,2,   18.77,2,   27.32,2,    0.00,2,    1.87,2,-999.000,9,-999.000,9,-999.0000,9,  2174.8,2,  2290.9,2,   7.7263,2,    20.00,-999.000,9,-999.000,9,-999.000,9,   6.2945,2,-999.000,9, -999.00,9, -999.00,-999.000,9,-999.000, -999.00,9, -999.00,9, -33.2568,  99.7368,-999.000,-999.000,20090502,       1650
33RR20090320,        I05,     154,          1,         20,         20,2,20090502,       1525,   -33.2567,    99.7367,       4547,   970.7,   5.1201,  34.3777,2,  34.3764,2,    195.7,2,   197.1,2,   26.50,2,   29.79,2,    0.00,2,    2.07,2,-999.000,9,-999.000,9,-999.0000,9,  -999.0,9,  -999.0,9,-999.0000,9,  -999.00,-999.000,9,-999.000,9,-999.000,9,   5.1077,2,-999.000,9, -999.00,9, -999.00,-999.000,9,-999.000, -999.00,9, -999.00,9, -33.2568,  99.7369,-999.000,-999.000,20090502,       1648
33RR20090320,        I05,     154,          1,         19,         19,2,20090502,       1525,   -33.2567,    99.7367,       4547,  1064.0,   4.3184,  34.3802,2,  34.3797,2,    190.7,2,   191.2,2,   35.20,2,   31.56,2,    0.00,2,    2.21,2,-999.000,9,-999.000,9,-999.0000,9,  -999.0,9,  -999.0,9,-999.0000,9,  -999.00,-999.000,9,-999.000,9,-999.000,9,   4.3264,2,-999.000,9, -999.00,9, -999.00,-999.000,9,-999.000, -999.00,9, -999.00,9, -33.2568,  99.7369,-999.000,-999.000,20090502,       1644
33RR20090320,        I05,     154,          1,         18,         18,2,20090502,       1525,   -33.2567,    99.7367,       4547,  1166.3,   3.9229,  34.4312,2,  34.4335,2,    173.1,2,   173.7,2,   53.09,2,   33.21,2,    0.00,2,    2.34,2,-999.000,9,-999.000,9,-999.0000,9,  -999.0,9,  -999.0,9,-999.0000,9,  -999.00,-999.000,9,-999.000,9,-999.000,9,   3.9204,2,-999.000,9, -999.00,9, -999.00,-999.000,9,-999.000, -999.00,9, -999.00,9, -33.2567,  99.7369,-999.000,-999.000,20090502,       1642
33RR20090320,        I05,     154,          1,         17,         17,2,20090502,       1525,   -33.2567,    99.7367,       4547,  1266.5,   3.4547,  34.4662,2,  34.4659,2,    168.1,2,   169.0,2,   61.07,2,   33.99,2,    0.00,2,    2.41,2,-999.000,9,-999.000,9,-999.0000,9,  2237.1,2,  2325.6,2,   7.6375,2,    20.00,-999.000,9,-999.000,9,-999.000,9,   3.4552,2,-999.000,9, -999.00,9, -999.00,-999.000,9,-999.000, -999.00,9, -999.00,9, -33.2567,  99.7369,-999.000,-999.000,20090502,       1639
33RR20090320,        I05,     154,          1,         16,         16,2,20090502,       1525,   -33.2567,    99.7367,       4547,  1365.5,   3.2804,  34.5240,2,  34.5226,2,    159.6,2,   159.1,2,   70.59,2,   34.48,2,    0.00,2,    2.46,2,-999.000,9,-999.000,9,-999.0000,9,  -999.0,9,  -999.0,9,-999.0000,9,  -999.00,-999.000,9,-999.000,9,-999.000,9,   3.2794,2,-999.000,9, -999.00,9, -999.00,-999.000,9,-999.000, -999.00,9, -999.00,9, -33.2567,  99.7369,-999.000,-999.000,20090502,       1636
33RR20090320,        I05,     154,          1,         15,         15,2,20090502,       1525,   -33.2567,    99.7367,       4547,  1461.5,   3.1715,  34.5661,2,  34.5670,2,    154.3,2,   153.1,2,   77.62,2,   34.70,2,    0.00,2,    2.48,2,-999.000,9,-999.000,9,-999.0000,9,  -999.0,9,  -999.0,9,-999.0000,9,  -999.00,-999.000,9,-999.000,9,-999.000,9,   3.1715,2,-999.000,9, -999.00,9, -999.00,-999.000,9,-999.000, -999.00,9, -999.00,9, -33.2567,  99.7369,-999.000,-999.000,20090502,       1633
33RR20090320,        I05,     154,          1,         14,         14,2,20090502,       1525,   -33.2567,    99.7367,       4547,  1563.1,   3.0414,  34.6019,2,  34.6018,2,    151.9,2,   152.5,2,   82.72,2,   34.42,2,    0.00,2,    2.48,2,-999.000,9,-999.000,9,-999.0000,9,  -999.0,9,  -999.0,9,-999.0000,9,  -999.00,-999.000,9,-999.000,9,-999.000,9,   3.0415,2,-999.000,9, -999.00,9, -999.00,-999.000,9,-999.000, -999.00,9, -999.00,9, -33.2567,  99.7368,-999.000,-999.000,20090502,       1631
33RR20090320,        I05,     154,          1,         13,         13,2,20090502,       1525,   -33.2567,    99.7367,       4547,  1732.5,   2.7990,  34.6458,2,  34.6466,2,    155.7,2,   155.8,2,   88.01,2,   34.04,2,    0.00,2,    2.43,2,-999.000,9,-999.000,9,-999.0000,9,  2266.4,2,  2354.3,2,   7.6360,2,    20.00,-999.000,9,-999.000,9,-999.000,9,   2.7989,2,-999.000,9, -999.00,9, -999.00,-999.000,9,-999.000, -999.00,9, -999.00,9, -33.2567,  99.7368,-999.000,-999.000,20090502,       1627
33RR20090320,        I05,     154,          1,         12,         12,2,20090502,       1525,   -33.2567,    99.7367,       4547,  1936.0,   2.5640,  34.6812,2,  34.6818,2,    164.7,2,   164.0,2,   90.03,2,   33.20,2,    0.00,2,    2.36,2,-999.000,9,-999.000,9,-999.0000,9,  -999.0,9,  -999.0,9,-999.0000,9,  -999.00,-999.000,9,-999.000,9,-999.000,9,   2.5649,2,-999.000,9, -999.00,9, -999.00,-999.000,9,-999.000, -999.00,9, -999.00,9, -33.2567,  99.7368,-999.000,-999.000,20090502,       1622
33RR20090320,        I05,     154,          1,         11,         11,2,20090502,       1525,   -33.2567,    99.7367,       4547,  2165.0,   2.3049,  34.7147,2,  34.7144,2,    174.4,2,   175.2,2,   91.28,2,   32.09,2,    0.00,2,    2.28,2,-999.000,9,-999.000,9,-999.0000,9,  -999.0,9,  -999.0,9,-999.0000,9,  -999.00,-999.000,9,-999.000,9,-999.000,9,   2.3054,2,-999.000,9, -999.00,9, -999.00,-999.000,9,-999.000, -999.00,9, -999.00,9, -33.2567,  99.7368,-999.000,-999.000,20090502,       1617
33RR20090320,        I05,     154,          1,         10,         10,2,20090502,       1525,   -33.2567,    99.7367,       4547,  2413.3,   2.0970,  34.7336,2,  34.7342,2,    184.8,2,   185.3,2,   92.14,2,   31.21,2,    0.00,2,    2.20,2,-999.000,9,-999.000,9,-999.0000,9,  -999.0,9,  -999.0,9,-999.0000,9,  -999.00,-999.000,9,-999.000,9,-999.000,9,   2.0969,2,-999.000,9, -999.00,9, -999.00,-999.000,9,-999.000, -999.00,9, -999.00,9, -33.2567,  99.7368,-999.000,-999.000,20090502,       1612
33RR20090320,        I05,     154,          1,          9,          9,2,20090502,       1525,   -33.2567,    99.7367,       4547,  2666.7,   1.8733,  34.7416,2,  34.7425,2,    192.4,2,   192.1,2,   95.68,2,   30.87,2,    0.00,2,    2.17,2,-999.000,9,-999.000,9,-999.0000,9,  2252.6,2,  2358.3,2,   7.6833,2,    20.00,-999.000,9,-999.000,9,-999.000,9,   1.8737,2,-999.000,9, -999.00,9, -999.00,-999.000,9,-999.000, -999.00,9, -999.00,9, -33.2567,  99.7367,-999.000,-999.000,20090502,       1607
33RR20090320,        I05,     154,          1,          8,          8,2,20090502,       1525,   -33.2567,    99.7367,       4547,  2913.6,   1.6776,  34.7399,2,  34.7405,2,    196.4,2,   196.4,2,  100.96,2,   30.93,2,    0.00,2,    2.17,2,-999.000,9,-999.000,9,-999.0000,9,  -999.0,9,  -999.0,9,-999.0000,9,  -999.00,-999.000,9,-999.000,9,-999.000,9,   1.6777,2,-999.000,9, -999.00,9, -999.00,-999.000,9,-999.000, -999.00,9, -999.00,9, -33.2567,  99.7367,-999.000,-999.000,20090502,       1601
33RR20090320,        I05,     154,          1,          7,          7,2,20090502,       1525,   -33.2567,    99.7367,       4547,  3201.2,   1.4498,  34.7337,2,  34.7345,2,    199.6,2,   199.9,2,  107.21,2,   31.20,2,    0.00,2,    2.19,2,-999.000,9,-999.000,9,-999.0000,9,  -999.0,9,  -999.0,9,-999.0000,9,  -999.00,-999.000,9,-999.000,9,-999.000,9,   1.4506,2,-999.000,9, -999.00,9, -999.00,-999.000,9,-999.000, -999.00,9, -999.00,9, -33.2567,  99.7367,-999.000,-999.000,20090502,       1555
33RR20090320,        I05,     154,          1,          6,          6,2,20090502,       1525,   -33.2567,    99.7367,       4547,  3500.9,   1.2935,  34.7271,2,  34.7272,2,    201.6,2,   201.6,2,  112.10,2,   31.48,2,    0.00,2,    2.21,2,-999.000,9,-999.000,9,-999.0000,9,  -999.0,9,  -999.0,9,-999.0000,9,  -999.00,-999.000,9,-999.000,9,-999.000,9,   1.2936,2,-999.000,9, -999.00,9, -999.00,-999.000,9,-999.000, -999.00,9, -999.00,9, -33.2568,  99.7366,-999.000,-999.000,20090502,       1549
33RR20090320,        I05,     154,          1,          5,          5,2,20090502,       1525,   -33.2567,    99.7367,       4547,  3801.8,   1.1770,  34.7207,2,  34.7209,2,    203.1,2,   203.1,2,  115.83,2,   31.70,2,    0.00,2,    2.22,2,-999.000,9,-999.000,9,-999.0000,9,  -999.0,9,  -999.0,9,-999.0000,9,  -999.00,-999.000,9,-999.000,9,-999.000,9,   1.1765,2,-999.000,9, -999.00,9, -999.00,-999.000,9,-999.000, -999.00,9, -999.00,9, -33.2567,  99.7366,-999.000,-999.000,20090502,       1542
33RR20090320,        I05,     154,          1,          4,          4,2,20090502,       1525,   -33.2567,    99.7367,       4547,  4106.3,   1.0889,  34.7159,2,  34.7162,2,    204.8,2,   205.0,2,  118.60,2,   31.86,2,    0.00,2,    2.24,2,-999.000,9,-999.000,9,-999.0000,9,  -999.0,9,  -999.0,9,-999.0000,9,  -999.00,-999.000,9,-999.000,9,-999.000,9,   1.0887,2,-999.000,9, -999.00,9, -999.00,-999.000,9,-999.000, -999.00,9, -999.00,9, -33.2567,  99.7366,-999.000,-999.000,20090502,       1536
33RR20090320,        I05,     154,          1,          2,          2,2,20090502,       1525,   -33.2567,    99.7367,       4547,  4400.3,   1.0552,  34.7129,2,-999.0000,9,   -999.0,5,  -999.0,9, -999.00,9, -999.00,9, -999.00,9, -999.00,9,   0.034,6,   0.019,6,   0.0000,6,  -999.0,9,  -999.0,9,-999.0000,9,  -999.00,-999.000,9,-999.000,9,-999.000,9,   1.0550,2,-999.000,9, -999.00,9, -999.00,-999.000,9,-999.000, -999.00,9, -999.00,9, -33.2567,  99.7366,-999.000,-999.000,20090502,       1530
33RR20090320,        I05,     154,          1,          3,          3,2,20090502,       1525,   -33.2567,    99.7367,       4547,  4402.0,   1.0553,  34.7128,2,  34.7136,2,    206.0,2,   205.8,2,  120.39,2,   31.97,2,    0.00,2,    2.25,2,   0.032,6,   0.020,6,   0.0000,6,  -999.0,9,  -999.0,9,-999.0000,9,  -999.00,-999.000,9,-999.000,9,-999.000,9,   1.0554,2,-999.000,9, -999.00,9, -999.00,-999.000,9,-999.000, -999.00,9, -999.00,9, -33.2567,  99.7366,-999.000,-999.000,20090502,       1530
33RR20090320,        I05,     154,          1,          1,          1,2,20090502,       1525,   -33.2567,    99.7367,       4547,  4612.9,   1.0510,  34.7117,2,  34.7121,2,    205.9,2,   206.0,2,  120.64,2,   31.96,2,    0.00,2,    2.25,2,-999.000,9,-999.000,9,-999.0000,9,  2265.6,6,  2374.5,2,   7.6906,2,    20.00,-999.000,9,-999.000,9,-999.000,9,   1.0509,2,-999.000,9, -999.00,9, -999.00,-999.000,9,-999.000, -999.00,9, -999.00,9, -33.2567,  99.7367,-999.000,-999.000,20090502,       1525