BOTTLE,20220814CCHSIOAMB
EXPOCODE,SECT_ID,STNNBR,CASTNO,SAMPNO,BTLNBR,BTLNBR_FLAG_W,DATE,TIME,LATITUDE,LONGITUDE,DEPTH,CTDPRS,CTDTMP,CTDSAL,CTDSAL_FLAG_W,SALNTY,SALNTY_FLAG_W,CTDOXY,CTDOXY_FLAG_W,OXYGEN,OXYGEN_FLAG_W,SILCAT,SILCAT_FLAG_W,NITRAT,NITRAT_FLAG_W,NITRIT,NITRIT_FLAG_W,PHSPHT,PHSPHT_FLAG_W,CFC-11,CFC-11_FLAG_W,CFC-12,CFC-12_FLAG_W,SF6,SF6_FLAG_W,TCARBN,TCARBN_FLAG_W,ALKALI,ALKALI_FLAG_W,PH_TOT,PH_TOT_FLAG_W,PH_TMP,TRITUM,TRITUM_FLAG_W,HELIUM,HELIUM_FLAG_W,DELHE3,DELHE3_FLAG_W,REFTMP,REFTMP_FLAG_W,DELC13,DELC13_FLAG_W,DELC14,DELC14_FLAG_W,C14ERR,NEON,NEON_FLAG_W,NEONER,DOC,DOC_FLAG_W,TDN,TDN_FLAG_W,BTL_LAT,BTL_LON,HELIER,DELHER,BTL_DATE,BTL_TIME
,,,,,,,,,,,METERS,DBAR,ITS-90,PSS-78,,PSS-78,,UMOL/KG,,UMOL/KG,,UMOL/KG,,UMOL/KG,,UMOL/KG,,UMOL/KG,,PMOL/KG,,PMOL/KG,,FMOL/KG,,UMOL/KG,,UMOL/KG,,,,DEG C,TU,,NMOL/KG,,PERCNT,,DEG C,,/MILLE,,/MILLE,,/MILLE,NMOL/KG,,NMOL/KG,UMOL/KG,,UMOL/KG,,,,NMOL/KG,PERCNT,,
33RR20090320,        I05,     195,          1,          8,          8,2,20090512,       0753,   -32.6644,   114.8451,        211,     6.4,  22.4803,  35.4224,2,  35.4243,2,    212.4,2,   212.3,2,    0.07,2,    0.12,2,    0.08,2,    0.13,2,   1.883,6,   1.156,6,   1.0700,6,  2023.4,6,  2321.6,2,   8.1209,2,    20.00,-999.000,9,-999.000,9,-999.000,9,  22.4795,2,-999.000,9, -999.00,9, -999.00,-999.000,9,-999.000,   62.28,2,    4.71,2, -32.6650, 114.8439,-999.000,-999.000,20090512,       0802
33RR20090320,        I05,     195,          1,          7,          7,2,20090512,       0753,   -32.6644,   114.8451,        211,    38.0,  22.4956,  35.4220,2,  35.4239,2,    212.1,2,   211.8,2,    0.19,2,    0.12,2,    0.09,2,    0.13,2,   1.890,2,   1.157,2,   1.1810,2,  2025.0,2,  2319.9,2,   8.1204,2,    20.00,-999.000,9,-999.000,9,-999.000,9,  22.4936,2,-999.000,9, -999.00,9, -999.00,-999.000,9,-999.000,   61.72,2,    5.18,2, -32.6649, 114.8440,-999.000,-999.000,20090512,       0801
33RR20090320,        I05,     195,          1,          6,          6,2,20090512,       0753,   -32.6644,   114.8451,        211,    61.0,  22.4946,  35.4214,2,  35.4233,2,    211.7,2,   211.8,2,    0.12,2,    0.12,2,    0.09,2,    0.12,2,-999.000,9,-999.000,9,-999.0000,9,  2024.7,2,  2319.4,2,   8.1204,2,    20.00,-999.000,9,-999.000,9,-999.000,9,  22.4972,2,-999.000,9, -999.00,9, -999.00,-999.000,9,-999.000,   60.05,2,    4.51,2, -32.6649, 114.8441,-999.000,-999.000,20090512,       0759
33RR20090320,        I05,     195,          1,          5,          5,2,20090512,       0753,   -32.6644,   114.8451,        211,    85.8,  22.4931,  35.4211,2,  35.4229,2,    211.3,2,   211.2,2,    0.00,2,    0.11,2,    0.09,2,    0.13,2,   1.880,2,   1.151,2,   1.1140,2,  2022.7,2,  2319.1,2,   8.1194,2,    20.00,-999.000,9,-999.000,9,-999.000,9,  22.4923,2,-999.000,9, -999.00,9, -999.00,-999.000,9,-999.000,   60.01,2,    4.94,2, -32.6648, 114.8443,-999.000,-999.000,20090512,       0758
33RR20090320,        I05,     195,          1,          4,          4,2,20090512,       0753,   -32.6644,   114.8451,        211,   112.0,  21.9721,  35.4798,2,  35.4778,2,    206.6,2,   206.6,2,    0.35,2,    0.47,2,    0.11,2,    0.15,2,-999.000,9,-999.000,9,-999.0000,9,  2035.7,2,  2323.8,2,   8.1004,2,    20.00,-999.000,9,-999.000,9,-999.000,9,  21.9949,2,-999.000,9, -999.00,9, -999.00,-999.000,9,-999.000,   58.39,2,    4.91,2, -32.6647, 114.8444,-999.000,-999.000,20090512,       0757
33RR20090320,        I05,     195,          1,          3,          3,2,20090512,       0753,   -32.6644,   114.8451,        211,   136.0,  21.6611,  35.5997,2,  35.6007,2,    210.5,2,   210.4,2,    0.28,2,    0.48,2,    0.16,2,    0.13,2,   1.985,2,   1.204,2,   1.0680,2,  2038.6,2,  2331.0,2,   8.1135,2,    20.00,-999.000,9,-999.000,9,-999.000,9,  21.6601,2,-999.000,9, -999.00,9, -999.00,-999.000,9,-999.000,   57.31,2,    4.45,2, -32.6646, 114.8446,-999.000,-999.000,20090512,       0756
33RR20090320,        I05,     195,          1,          2,          2,2,20090512,       0753,   -32.6644,   114.8451,        211,   166.1,  21.3208,  35.6067,2,  35.6050,2,    207.3,2,   207.3,2,    0.59,2,    0.51,2,    0.07,2,    0.17,2,-999.000,9,-999.000,9,-999.0000,9,  2052.0,2,  2335.3,2,   8.0833,2,    20.00,-999.000,9,-999.000,9,-999.000,9,  21.3316,2,-999.000,9, -999.00,9, -999.00,-999.000,9,-999.000,   55.77,2,    4.30,2, -32.6645, 114.8448,-999.000,-999.000,20090512,       0754
33RR20090320,        I05,     195,          1,          1,          1,2,20090512,       0753,   -32.6644,   114.8451,        211,   203.2,  20.5383,  35.6527,2,  35.6540,2,    210.2,2,   210.5,2,    0.52,2,    0.76,2,    0.09,2,    0.16,2,   2.086,2,   1.271,2,   1.0790,2,  2052.3,2,  2337.7,2,   8.0936,2,    20.00,-999.000,9,-999.000,9,-999.000,9,  20.5393,2,-999.000,9, -999.00,9, -999.00,-999.000,9,-999.000,   54.28,2,    4.24,2, -32.6644, 114.8450,-999.000,-999.000,20090512,       0753