BOTTLE,20220814CCHSIOAMB
EXPOCODE,SECT_ID,STNNBR,CASTNO,SAMPNO,BTLNBR,BTLNBR_FLAG_W,DATE,TIME,LATITUDE,LONGITUDE,DEPTH,CTDPRS,CTDTMP,CTDSAL,CTDSAL_FLAG_W,SALNTY,SALNTY_FLAG_W,CTDOXY,CTDOXY_FLAG_W,OXYGEN,OXYGEN_FLAG_W,SILCAT,SILCAT_FLAG_W,NITRAT,NITRAT_FLAG_W,NITRIT,NITRIT_FLAG_W,PHSPHT,PHSPHT_FLAG_W,CFC-11,CFC-11_FLAG_W,CFC-12,CFC-12_FLAG_W,SF6,SF6_FLAG_W,TCARBN,TCARBN_FLAG_W,ALKALI,ALKALI_FLAG_W,PH_TOT,PH_TOT_FLAG_W,PH_TMP,TRITUM,TRITUM_FLAG_W,HELIUM,HELIUM_FLAG_W,DELHE3,DELHE3_FLAG_W,REFTMP,REFTMP_FLAG_W,DELC13,DELC13_FLAG_W,DELC14,DELC14_FLAG_W,C14ERR,NEON,NEON_FLAG_W,NEONER,DOC,DOC_FLAG_W,TDN,TDN_FLAG_W,BTL_LAT,BTL_LON,HELIER,DELHER,BTL_DATE,BTL_TIME
,,,,,,,,,,,METERS,DBAR,ITS-90,PSS-78,,PSS-78,,UMOL/KG,,UMOL/KG,,UMOL/KG,,UMOL/KG,,UMOL/KG,,UMOL/KG,,PMOL/KG,,PMOL/KG,,FMOL/KG,,UMOL/KG,,UMOL/KG,,,,DEG C,TU,,NMOL/KG,,PERCNT,,DEG C,,/MILLE,,/MILLE,,/MILLE,NMOL/KG,,NMOL/KG,UMOL/KG,,UMOL/KG,,,,NMOL/KG,PERCNT,,
33RR20090320,        I05,     129,          1,         36,         36,2,20090426,       0827,   -31.5129,    86.8619,       2920,     3.8,  21.3643,  36.0469,2,  36.0461,2,    222.3,2,   222.1,2,    1.95,2,    0.09,2,    0.00,2,    0.12,2,   2.043,2,   1.227,2,   1.0760,2,  2066.1,6,  2364.9,2,   8.1058,2,    20.00,-999.000,9,-999.000,9,-999.000,9,  21.3597,2,-999.000,9, -999.00,9, -999.00,-999.000,9,-999.000,   67.96,2,    4.34,2, -31.5120,  86.8627,-999.000,-999.000,20090426,       0950
33RR20090320,        I05,     129,          1,         35,         35,2,20090426,       0827,   -31.5129,    86.8619,       2920,    35.7,  21.1317,  36.0326,2,  36.0350,2,    222.7,2,   222.7,2,    1.93,2,    0.04,2,    0.00,2,    0.12,2,-999.000,9,-999.000,9,-999.0000,9,  2067.3,2,  2365.3,2,   8.1040,2,    20.00,-999.000,9,-999.000,9,-999.000,9,  21.1275,2,-999.000,9, -999.00,9, -999.00,-999.000,9,-999.000,   67.80,2,    4.60,2, -31.5118,  86.8627,-999.000,-999.000,20090426,       0949
33RR20090320,        I05,     129,          1,         34,         34,2,20090426,       0827,   -31.5129,    86.8619,       2920,    60.6,  20.0923,  35.8870,2,  35.8888,2,    228.5,2,   228.3,2,    1.38,2,    0.04,2,    0.00,2,    0.14,2,   2.151,2,   1.284,2,   1.0790,2,  2073.1,2,  2358.9,2,   8.0860,2,    20.00,-999.000,9,-999.000,9,-999.000,9,  20.0898,2,-999.000,9, -999.00,9, -999.00,-999.000,9,-999.000,   68.14,2,    4.24,2, -31.5116,  86.8628,-999.000,-999.000,20090426,       0947
33RR20090320,        I05,     129,          1,         33,         33,2,20090426,       0827,   -31.5129,    86.8619,       2920,    85.4,  18.5156,  35.7864,2,  35.7803,2,    247.7,2,   248.3,2,    1.35,2,    0.04,2,    0.00,2,    0.15,2,   2.497,2,   1.457,2,   1.2190,2,  2070.5,2,  2351.1,2,   8.0792,2,    20.00,-999.000,9,-999.000,9,-999.000,9,  18.5090,2,-999.000,9, -999.00,9, -999.00,-999.000,9,-999.000,   64.01,2,    4.36,2, -31.5114,  86.8629,-999.000,-999.000,20090426,       0946
33RR20090320,        I05,     129,          1,         32,         32,2,20090426,       0827,   -31.5129,    86.8619,       2920,   110.5,  16.7564,  35.6760,2,  35.6793,2,    247.3,2,   248.8,2,    1.33,2,    0.10,2,    0.00,2,    0.18,2,   2.615,2,   1.519,2,   1.2240,2,  2079.0,2,  2345.4,2,   8.0568,2,    20.00,-999.000,9,-999.000,9,-999.000,9,  16.7585,2,-999.000,9, -999.00,9, -999.00,-999.000,9,-999.000,   61.12,2,    4.81,2, -31.5113,  86.8631,-999.000,-999.000,20090426,       0944
33RR20090320,        I05,     129,          1,         31,         31,2,20090426,       0827,   -31.5129,    86.8619,       2920,   134.6,  15.4633,  35.5676,2,  35.5779,2,    239.9,2,   231.8,2,    1.66,2,    1.78,2,    0.07,2,    0.33,2,   2.711,2,   1.577,2,   1.2640,2,  2096.7,2,  2340.4,2,   8.0150,2,    20.00,-999.000,9,-999.000,9,-999.000,9,  15.5063,2,-999.000,9, -999.00,9, -999.00,-999.000,9,-999.000,   57.43,2,    6.03,2, -31.5111,  86.8633,-999.000,-999.000,20090426,       0943
33RR20090320,        I05,     129,          1,         30,         30,2,20090426,       0827,   -31.5129,    86.8619,       2920,   161.1,  14.8221,  35.4854,2,  35.4889,2,    231.8,2,   231.3,2,    1.64,2,    3.25,2,    0.07,2,    0.41,2,   2.799,2,   1.625,2,   1.3350,2,  2101.3,2,  2333.9,2,   7.9971,2,    20.00,-999.000,9,-999.000,9,-999.000,9,  14.8082,2,-999.000,9, -999.00,9, -999.00,-999.000,9,-999.000,   54.24,2,    7.26,2, -31.5110,  86.8633,-999.000,-999.000,20090426,       0941
33RR20090320,        I05,     129,          1,         29,         29,2,20090426,       0827,   -31.5129,    86.8619,       2920,   185.1,  14.1921,  35.3915,2,  35.3895,2,    231.0,2,   229.4,2,    1.97,2,    4.85,2,    0.01,2,    0.49,2,   2.867,2,   1.649,2,   1.4280,2,  2104.9,2,  2328.5,2,   7.9776,2,    20.00,-999.000,9,-999.000,9,-999.000,9,  14.1705,2,-999.000,9, -999.00,9, -999.00,-999.000,9,-999.000,   52.94,2,    9.18,2, -31.5109,  86.8634,-999.000,-999.000,20090426,       0940
33RR20090320,        I05,     129,          1,         28,         28,2,20090426,       0827,   -31.5129,    86.8619,       2920,   209.3,  13.3711,  35.2680,2,  35.2654,2,    230.2,2,   230.3,2,    2.30,2,    6.65,2,    0.00,2,    0.60,2,   2.986,2,   1.700,2,   1.2830,2,  2109.6,2,  2320.7,2,   7.9541,2,    20.00,-999.000,9,-999.000,9,-999.000,9,  13.3711,2,-999.000,9, -999.00,9, -999.00,-999.000,9,-999.000,   50.44,2,   10.43,2, -31.5109,  86.8634,-999.000,-999.000,20090426,       0939
33RR20090320,        I05,     129,          1,         27,         27,2,20090426,       0827,   -31.5129,    86.8619,       2920,   235.2,  12.9341,  35.2100,2,  35.2083,2,    230.2,2,   231.3,2,    2.46,2,    7.60,2,    0.00,2,    0.65,2,   3.068,2,   1.735,2,   1.3400,2,  2111.8,2,  2318.1,2,   7.9434,2,    20.00,-999.000,9,-999.000,9,-999.000,9,  12.9315,2,-999.000,9, -999.00,9, -999.00,-999.000,9,-999.000,   49.68,2,   11.41,2, -31.5109,  86.8634,-999.000,-999.000,20090426,       0938
33RR20090320,        I05,     129,          1,         26,         26,2,20090426,       0827,   -31.5129,    86.8619,       2920,   265.0,  12.6809,  35.1863,2,  35.1872,2,    232.1,2,   231.3,2,    2.61,2,    8.19,2,    0.00,2,    0.67,2,   3.087,2,   1.749,2,   1.2640,2,  2112.5,2,  2316.0,2,   7.9372,2,    20.00,-999.000,9,-999.000,9,-999.000,9,  12.6815,2,-999.000,9, -999.00,9, -999.00,-999.000,9,-999.000,   49.35,2,   11.95,2, -31.5110,  86.8634,-999.000,-999.000,20090426,       0937
33RR20090320,        I05,     129,          1,         25,         25,2,20090426,       0827,   -31.5129,    86.8619,       2920,   313.7,  11.9461,  35.0657,2,  35.0680,2,    234.9,2,   236.4,2,    3.12,2,    9.77,2,    0.00,2,    0.77,2,   3.228,2,   1.806,2,   1.2740,2,  2113.4,2,  2310.2,2,   7.9221,2,    20.00,-999.000,9,-999.000,9,-999.000,9,  11.9345,2,-999.000,9, -999.00,9, -999.00,-999.000,9,-999.000,   48.47,2,   12.89,2, -31.5110,  86.8634,-999.000,-999.000,20090426,       0935
33RR20090320,        I05,     129,          1,         24,         24,2,20090426,       0827,   -31.5129,    86.8619,       2920,   364.5,  11.5100,  35.0095,2,  35.0094,2,    239.3,2,   237.4,2,    3.28,2,   10.57,2,    0.00,2,    0.82,2,   3.320,2,   1.852,2,   1.2880,2,  2116.0,2,  2306.7,2,   7.9133,2,    20.00,-999.000,9,-999.000,9,-999.000,9,  11.5082,2,-999.000,9, -999.00,9, -999.00,-999.000,9,-999.000,   47.92,2,   13.42,2, -31.5110,  86.8634,-999.000,-999.000,20090426,       0934
33RR20090320,        I05,     129,          1,         23,         23,2,20090426,       0827,   -31.5129,    86.8619,       2920,   414.5,  11.0810,  34.9382,2,  34.9375,2,    238.6,2,   239.1,2,    3.96,2,   11.95,2,    0.00,2,    0.90,2,   3.363,6,   1.856,6,   1.2420,6,  2116.9,2,  2304.8,2,   7.9023,2,    20.00,-999.000,9,-999.000,9,-999.000,9,  11.0810,2,-999.000,9, -999.00,9, -999.00,-999.000,9,-999.000,   46.83,2,   14.62,2, -31.5111,  86.8634,-999.000,-999.000,20090426,       0933
33RR20090320,        I05,     129,          1,         22,         22,2,20090426,       0827,   -31.5129,    86.8619,       2920,   464.8,  10.7624,  34.8936,2,  34.8952,2,    238.1,2,   238.5,2,    4.12,2,   12.75,2,    0.00,2,    0.95,2,   3.427,2,   1.880,2,   1.2690,2,  2120.3,2,  2302.4,2,   7.8942,2,    20.00,-999.000,9,-999.000,9,-999.000,9,  10.7640,2,-999.000,9, -999.00,9, -999.00,-999.000,9,-999.000,   45.73,2,   14.62,2, -31.5111,  86.8633,-999.000,-999.000,20090426,       0931
33RR20090320,        I05,     129,          1,         21,         21,2,20090426,       0827,   -31.5129,    86.8619,       2920,   533.3,  10.3660,  34.8383,2,  34.8401,2,    237.1,2,   237.3,2,    4.28,2,   13.76,2,    0.00,2,    1.01,2,   3.501,2,   1.895,2,   1.1590,2,  2122.4,2,  2300.2,2,   7.8834,2,    20.00,-999.000,9,-999.000,9,-999.000,9,  10.3609,2,-999.000,9, -999.00,9, -999.00,-999.000,9,-999.000,   45.11,2,   15.73,2, -31.5112,  86.8633,-999.000,-999.000,20090426,       0929
33RR20090320,        I05,     129,          1,         20,         20,2,20090426,       0827,   -31.5129,    86.8619,       2920,   634.2,   9.5527,  34.7194,2,  34.7184,2,    235.4,2,   235.7,2,    5.15,2,   16.09,2,    0.00,2,    1.16,2,   3.591,2,   1.892,2,   1.0620,2,  2128.1,2,  2293.4,2,   7.8601,2,    20.00,-999.000,9,-999.000,9,-999.000,9,   9.5498,2,-999.000,9, -999.00,9, -999.00,-999.000,9,-999.000,   44.45,2,   17.40,2, -31.5113,  86.8633,-999.000,-999.000,20090426,       0926
33RR20090320,        I05,     129,          1,         19,         19,2,20090426,       0827,   -31.5129,    86.8619,       2920,   733.4,   8.6727,  34.6128,2,  34.6143,2,    223.2,2,   221.8,2,    7.98,2,   19.77,2,    0.00,2,    1.40,2,   3.236,2,   1.648,2,   0.7790,2,  2140.3,2,  2291.4,2,   7.8213,2,    20.00,-999.000,9,-999.000,9,-999.000,9,   8.6718,2,-999.000,9, -999.00,9, -999.00,-999.000,9,-999.000,   43.15,2,   21.12,2, -31.5113,  86.8633,-999.000,-999.000,20090426,       0924
33RR20090320,        I05,     129,          1,         18,         18,2,20090426,       0827,   -31.5129,    86.8619,       2920,   833.8,   7.3645,  34.4970,2,  34.4988,2,    205.6,2,   204.8,2,   14.57,2,   24.46,2,    0.00,2,    1.70,2,   2.458,2,   1.221,2,   0.4580,2,  2160.7,2,  2291.3,2,   7.7682,2,    20.00,-999.000,9,-999.000,9,-999.000,9,   7.3622,2,-999.000,9, -999.00,9, -999.00,-999.000,9,-999.000,   42.31,2,   25.88,2, -31.5114,  86.8633,-999.000,-999.000,20090426,       0921
33RR20090320,        I05,     129,          1,         17,         17,2,20090426,       0827,   -31.5129,    86.8619,       2920,   933.6,   6.0130,  34.4239,2,  34.4246,2,    194.5,2,   195.1,2,   24.07,2,   28.41,2,    0.00,2,    1.98,2,   1.753,2,   0.855,2,   0.2910,2,  2181.6,2,  2294.4,2,   7.7228,2,    20.00,-999.000,9,-999.000,9,-999.000,9,   6.0084,2,-999.000,9, -999.00,9, -999.00,-999.000,9,-999.000,   41.96,2,   30.09,2, -31.5114,  86.8632,-999.000,-999.000,20090426,       0919
33RR20090320,        I05,     129,          1,         16,         16,2,20090426,       0827,   -31.5129,    86.8619,       2920,  1035.4,   4.7699,  34.3993,2,  34.4004,2,    186.1,2,   186.2,2,   37.58,2,   31.65,2,    0.00,2,    2.22,2,   1.179,2,   0.564,2,   0.2610,2,  2205.5,2,  2305.3,2,   7.6852,2,    20.00,-999.000,9,-999.000,9,-999.000,9,   4.7675,2,-999.000,9, -999.00,9, -999.00,-999.000,9,-999.000,   41.63,2,   33.48,2, -31.5115,  86.8632,-999.000,-999.000,20090426,       0916
33RR20090320,        I05,     129,          1,         15,         15,2,20090426,       0827,   -31.5129,    86.8619,       2920,  1133.5,   4.1077,  34.4395,2,  34.4393,2,    171.7,2,   171.0,2,   52.08,2,   33.59,2,    0.00,2,    2.38,2,   0.636,2,   0.300,2,   0.0950,2,  2227.9,2,  2317.9,2,   7.6567,2,    20.00,-999.000,9,-999.000,9,-999.000,9,   4.1056,2,-999.000,9, -999.00,9, -999.00,-999.000,9,-999.000,   40.97,2,   34.88,2, -31.5115,  86.8632,-999.000,-999.000,20090426,       0914
33RR20090320,        I05,     129,          1,         14,         14,2,20090426,       0827,   -31.5129,    86.8619,       2920,  1234.4,   3.7358,  34.4901,2,  34.4901,2,    159.1,2,   159.3,2,   63.90,2,   34.67,2,    0.00,2,    2.47,2,   0.327,2,   0.157,2,   0.0750,2,  2245.5,2,  2331.1,2,   7.6398,2,    20.00,-999.000,9,-999.000,9,-999.000,9,   3.7350,2,-999.000,9, -999.00,9, -999.00,-999.000,9,-999.000,   40.29,2,   35.69,2, -31.5116,  86.8631,-999.000,-999.000,20090426,       0911
33RR20090320,        I05,     129,          1,         13,         13,2,20090426,       0827,   -31.5129,    86.8619,       2920,  1335.0,   3.5227,  34.5239,2,  34.5272,2,    155.0,2,   154.6,2,   70.28,2,   35.00,2,    0.00,2,    2.51,2,   0.199,2,   0.097,2,   0.0270,2,  2254.3,2,  2337.9,2,   7.6334,2,    20.00,-999.000,9,-999.000,9,-999.000,9,   3.5221,2,-999.000,9, -999.00,9, -999.00,-999.000,9,-999.000,   39.92,2,   36.69,2, -31.5116,  86.8631,-999.000,-999.000,20090426,       0908
33RR20090320,        I05,     129,          1,         12,         12,2,20090426,       0827,   -31.5129,    86.8619,       2920,  1434.5,   3.2877,  34.5601,2,  34.5611,2,    152.6,2,   152.5,2,   75.93,2,   35.18,2,    0.00,2,    2.52,2,   0.121,2,   0.060,2,   0.0000,2,  2260.9,2,  2344.1,2,   7.6308,2,    20.00,-999.000,9,-999.000,9,-999.000,9,   3.2861,2,-999.000,9, -999.00,9, -999.00,-999.000,9,-999.000,   40.17,2,   36.74,2, -31.5117,  86.8630,-999.000,-999.000,20090426,       0905
33RR20090320,        I05,     129,          1,         11,         11,2,20090426,       0827,   -31.5129,    86.8619,       2920,  1535.7,   3.1349,  34.5873,2,  34.5890,2,    151.8,2,   152.5,2,   79.76,2,   34.91,2,    0.00,2,    2.51,2,   0.081,2,   0.041,2,   0.0000,2,  2263.3,6,  2347.1,2,   7.6314,2,    20.00,-999.000,9,-999.000,9,-999.000,9,   3.1349,2,-999.000,9, -999.00,9, -999.00,-999.000,9,-999.000,   39.89,2,   36.48,2, -31.5117,  86.8629,-999.000,-999.000,20090426,       0903
33RR20090320,        I05,     129,          1,         10,         10,2,20090426,       0827,   -31.5129,    86.8619,       2920,  1635.2,   3.0173,  34.6076,2,  34.6080,2,    154.2,2,   154.2,2,   81.93,2,   34.80,2,    0.00,2,    2.50,2,   0.071,2,   0.034,2,   0.0470,2,  2265.8,2,  2350.6,2,   7.6341,2,    20.00,-999.000,9,-999.000,9,-999.000,9,   3.0170,2,-999.000,9, -999.00,9, -999.00,-999.000,9,-999.000,   39.73,2,   36.28,2, -31.5118,  86.8628,-999.000,-999.000,20090426,       0900
33RR20090320,        I05,     129,          1,          9,          9,2,20090426,       0827,   -31.5129,    86.8619,       2920,  1736.7,   2.8943,  34.6271,2,  34.6277,2,    156.8,2,   156.3,2,   83.75,2,   34.66,2,    0.00,2,    2.48,2,   0.063,2,   0.029,2,   0.0000,2,  2265.4,2,  2352.1,2,   7.6372,2,    20.00,-999.000,9,-999.000,9,-999.000,9,   2.8954,2,-999.000,9, -999.00,9, -999.00,-999.000,9,-999.000,   40.38,2,   36.64,2, -31.5119,  86.8627,-999.000,-999.000,20090426,       0857
33RR20090320,        I05,     129,          1,          8,          8,2,20090426,       0827,   -31.5129,    86.8619,       2920,  1832.0,   2.7761,  34.6469,2,  34.6479,2,    159.0,2,   159.1,2,   85.55,2,   34.29,2,    0.00,2,    2.45,2,   0.054,2,   0.026,2,   0.0000,2,  2264.8,2,  2354.9,2,   7.6417,2,    20.00,-999.000,9,-999.000,9,-999.000,9,   2.7757,2,-999.000,9, -999.00,9, -999.00,-999.000,9,-999.000,   39.98,2,   36.00,2, -31.5120,  86.8626,-999.000,-999.000,20090426,       0854
33RR20090320,        I05,     129,          1,          7,          7,2,20090426,       0827,   -31.5129,    86.8619,       2920,  1932.6,   2.6754,  34.6634,2,  34.6644,2,    161.9,2,   162.2,2,   87.00,2,   33.91,2,    0.00,2,    2.42,2,   0.048,2,   0.023,2,   0.0000,2,  2264.3,2,  2355.3,2,   7.6473,2,    20.00,-999.000,9,-999.000,9,-999.000,9,   2.6751,2,-999.000,9, -999.00,9, -999.00,-999.000,9,-999.000,   40.12,2,   35.62,2, -31.5120,  86.8624,-999.000,-999.000,20090426,       0851
33RR20090320,        I05,     129,          1,          6,          6,2,20090426,       0827,   -31.5129,    86.8619,       2920,  2064.1,   2.5029,  34.6921,2,  34.6937,2,    165.5,2,   165.7,2,   91.76,2,   33.33,2,    0.00,2,    2.39,2,   0.030,2,   0.015,2,   0.0230,2,  2265.6,2,  2360.1,2,   7.6548,2,    20.00,-999.000,9,-999.000,9,-999.000,9,   2.5025,2,-999.000,9, -999.00,9, -999.00,-999.000,9,-999.000,   40.07,2,   34.62,2, -31.5121,  86.8623,-999.000,-999.000,20090426,       0848
33RR20090320,        I05,     129,          1,          5,          5,2,20090426,       0827,   -31.5129,    86.8619,       2920,  2266.7,   2.3269,  34.7126,2,  34.7127,2,    168.3,2,   168.5,2,   98.19,2,   33.33,2,    0.00,2,    2.37,2,   0.013,2,   0.006,2,   0.0090,2,  2270.3,2,  2365.8,2,   7.6619,2,    20.00,-999.000,9,-999.000,9,-999.000,9,   2.3266,2,-999.000,9, -999.00,9, -999.00,-999.000,9,-999.000,   39.72,2,   35.13,2, -31.5123,  86.8620,-999.000,-999.000,20090426,       0843
33RR20090320,        I05,     129,          1,          4,          4,2,20090426,       0827,   -31.5129,    86.8619,       2920,  2463.1,   2.1887,  34.7225,2,  34.7233,2,    175.1,2,   175.5,2,   97.79,2,   32.69,2,    0.00,2,    2.32,2,   0.014,2,   0.007,2,   0.0090,2,  2265.3,2,  2364.9,2,   7.6706,2,    20.00,-999.000,9,-999.000,9,-999.000,9,   2.1885,2,-999.000,9, -999.00,9, -999.00,-999.000,9,-999.000,   39.64,2,   33.86,2, -31.5123,  86.8619,-999.000,-999.000,20090426,       0839
33RR20090320,        I05,     129,          1,          3,          3,2,20090426,       0827,   -31.5129,    86.8619,       2920,  2666.4,   1.9710,  34.7285,2,  34.7286,2,    179.6,2,   179.6,2,  103.68,2,   32.58,2,    0.00,2,    2.31,2,   0.007,2,   0.004,2,   0.0000,2,  2268.5,2,  2368.5,2,   7.6763,2,    20.00,-999.000,9,-999.000,9,-999.000,9,   1.9711,2,-999.000,9, -999.00,9, -999.00,-999.000,9,-999.000,   39.88,2,   34.33,2, -31.5127,  86.8620,-999.000,-999.000,20090426,       0834
33RR20090320,        I05,     129,          1,          2,          2,2,20090426,       0827,   -31.5129,    86.8619,       2920,  2818.3,   1.7727,  34.7298,2,  34.7298,2,    183.8,2,   183.9,2,  108.28,2,   32.49,2,    0.00,2,    2.30,2,   0.004,2,   0.002,2,   0.0000,2,  2269.1,2,  2373.3,2,   7.6818,2,    20.00,-999.000,9,-999.000,9,-999.000,9,   1.7754,2,-999.000,9, -999.00,9, -999.00,-999.000,9,-999.000,   40.22,2,   34.23,2, -31.5129,  86.8621,-999.000,-999.000,20090426,       0830
33RR20090320,        I05,     129,          1,          1,          1,2,20090426,       0827,   -31.5129,    86.8619,       2920,  2945.9,   1.6631,  34.7297,2,  34.7300,2,    186.5,2,   186.3,2,  110.46,2,   32.44,2,    0.00,2,    2.30,2,   0.004,6,   0.002,6,   0.0000,6,  2270.5,6,  2376.5,2,   7.6854,2,    20.00,-999.000,9,-999.000,9,-999.000,9,   1.6617,2,-999.000,9, -999.00,9, -999.00,-999.000,9,-999.000,   39.63,2,   34.27,2, -31.5129,  86.8619,-999.000,-999.000,20090426,       0827