BOTTLE,20220814CCHSIOAMB
EXPOCODE,SECT_ID,STNNBR,CASTNO,SAMPNO,BTLNBR,BTLNBR_FLAG_W,DATE,TIME,LATITUDE,LONGITUDE,DEPTH,CTDPRS,CTDTMP,CTDSAL,CTDSAL_FLAG_W,SALNTY,SALNTY_FLAG_W,CTDOXY,CTDOXY_FLAG_W,OXYGEN,OXYGEN_FLAG_W,SILCAT,SILCAT_FLAG_W,NITRAT,NITRAT_FLAG_W,NITRIT,NITRIT_FLAG_W,PHSPHT,PHSPHT_FLAG_W,CFC-11,CFC-11_FLAG_W,CFC-12,CFC-12_FLAG_W,SF6,SF6_FLAG_W,TCARBN,TCARBN_FLAG_W,ALKALI,ALKALI_FLAG_W,PH_TOT,PH_TOT_FLAG_W,PH_TMP,TRITUM,TRITUM_FLAG_W,HELIUM,HELIUM_FLAG_W,DELHE3,DELHE3_FLAG_W,REFTMP,REFTMP_FLAG_W,DELC13,DELC13_FLAG_W,DELC14,DELC14_FLAG_W,C14ERR,NEON,NEON_FLAG_W,NEONER,DOC,DOC_FLAG_W,TDN,TDN_FLAG_W,BTL_LAT,BTL_LON,HELIER,DELHER,BTL_DATE,BTL_TIME
,,,,,,,,,,,METERS,DBAR,ITS-90,PSS-78,,PSS-78,,UMOL/KG,,UMOL/KG,,UMOL/KG,,UMOL/KG,,UMOL/KG,,UMOL/KG,,PMOL/KG,,PMOL/KG,,FMOL/KG,,UMOL/KG,,UMOL/KG,,,,DEG C,TU,,NMOL/KG,,PERCNT,,DEG C,,/MILLE,,/MILLE,,/MILLE,NMOL/KG,,NMOL/KG,UMOL/KG,,UMOL/KG,,,,NMOL/KG,PERCNT,,
33RR20090320,        I05,     108,          1,         36,         36,2,20090421,       0450,   -31.7667,    76.4685,       3109,     7.4,  21.3625,  35.8546,2,  35.8549,2,    223.4,2,   222.8,2,    1.78,2,    0.12,2,    0.00,2,    0.12,2,-999.000,9,-999.000,9,-999.0000,9,  2061.4,6,  2354.2,2,   8.1032,2,    20.00,-999.000,9,-999.000,9,-999.000,9,  21.3549,2,-999.000,9, -999.00,9, -999.00,-999.000,9,-999.000, -999.00,9, -999.00,9, -31.7668,  76.4694,-999.000,-999.000,20090421,       0615
33RR20090320,        I05,     108,          1,         35,         35,2,20090421,       0450,   -31.7667,    76.4685,       3109,    41.5,  20.5255,  35.6736,2,  35.6797,2,    225.7,2,   226.0,2,    1.59,2,    0.12,2,    0.00,2,    0.14,2,-999.000,9,-999.000,9,-999.0000,9,  2066.8,2,  2343.7,2,   8.0838,2,    20.00,-999.000,9,-999.000,9,-999.000,9,  20.5142,2,-999.000,9, -999.00,9, -999.00,-999.000,9,-999.000, -999.00,9, -999.00,9, -31.7667,  76.4694,-999.000,-999.000,20090421,       0613
33RR20090320,        I05,     108,          1,         34,         34,2,20090421,       0450,   -31.7667,    76.4685,       3109,    65.8,  18.8352,  35.6177,2,  35.6217,2,    238.5,2,   241.7,2,    1.59,2,    0.12,2,    0.00,2,    0.15,2,-999.000,9,-999.000,9,-999.0000,9,  2069.8,2,  2339.4,2,   8.0757,2,    20.00,-999.000,9,-999.000,9,-999.000,9,  18.7006,2,-999.000,9, -999.00,9, -999.00,-999.000,9,-999.000, -999.00,9, -999.00,9, -31.7667,  76.4693,-999.000,-999.000,20090421,       0611
33RR20090320,        I05,     108,          1,         33,         33,2,20090421,       0450,   -31.7667,    76.4685,       3109,    90.2,  16.2088,  35.5448,4,  35.5560,2,    252.5,2,   251.1,2,    1.58,2,    0.06,2,    0.00,2,    0.20,2,-999.000,9,-999.000,9,-999.0000,9,  2080.1,2,  2337.4,2,   8.0514,2,    20.00,-999.000,9,-999.000,9,-999.000,9,  16.2311,2,-999.000,9, -999.00,9, -999.00,-999.000,9,-999.000, -999.00,9, -999.00,9, -31.7668,  76.4694,-999.000,-999.000,20090421,       0610
33RR20090320,        I05,     108,          1,         32,         32,2,20090421,       0450,   -31.7667,    76.4685,       3109,   116.6,  15.5868,  35.5024,4,  35.4846,2,    244.2,2,   241.5,2,    1.76,2,    0.62,2,    0.06,2,    0.28,2,-999.000,9,-999.000,9,-999.0000,9,  -999.0,9,  -999.0,9,-999.0000,9,  -999.00,-999.000,9,-999.000,9,-999.000,9,  15.5643,2,-999.000,9, -999.00,9, -999.00,-999.000,9,-999.000, -999.00,9, -999.00,9, -31.7668,  76.4694,-999.000,-999.000,20090421,       0609
33RR20090320,        I05,     108,          1,         31,         31,2,20090421,       0450,   -31.7667,    76.4685,       3109,   140.4,  14.6413,  35.3736,4,  35.3826,2,    237.9,2,   238.7,2,    1.93,2,    2.04,2,    0.16,2,    0.36,2,-999.000,9,-999.000,9,-999.0000,9,  2097.0,2,  2330.7,2,   8.0018,2,    20.00,-999.000,9,-999.000,9,-999.000,9,  14.6663,2,-999.000,9, -999.00,9, -999.00,-999.000,9,-999.000, -999.00,9, -999.00,9, -31.7669,  76.4694,-999.000,-999.000,20090421,       0607
33RR20090320,        I05,     108,          1,         30,         30,2,20090421,       0450,   -31.7667,    76.4685,       3109,   165.9,  13.5830,  35.2365,4,  35.2439,2,    234.6,2,   235.1,2,    2.47,2,    5.79,2,    0.01,2,    0.53,2,-999.000,9,-999.000,9,-999.0000,9,  -999.0,9,  -999.0,9,-999.0000,9,  -999.00,-999.000,9,-999.000,9,-999.000,9,  13.5885,2,-999.000,9, -999.00,9, -999.00,-999.000,9,-999.000, -999.00,9, -999.00,9, -31.7669,  76.4694,-999.000,-999.000,20090421,       0606
33RR20090320,        I05,     108,          1,         29,         29,2,20090421,       0450,   -31.7667,    76.4685,       3109,   190.7,  13.1795,  35.1917,2,  35.1927,2,    234.2,2,   234.2,2,    3.01,2,    7.25,2,    0.01,2,    0.61,2,-999.000,9,-999.000,9,-999.0000,9,  2109.0,2,  2316.6,2,   7.9519,2,    20.00,-999.000,9,-999.000,9,-999.000,9,  13.1911,2,-999.000,9, -999.00,9, -999.00,-999.000,9,-999.000, -999.00,9, -999.00,9, -31.7669,  76.4694,-999.000,-999.000,20090421,       0605
33RR20090320,        I05,     108,          1,         28,         28,2,20090421,       0450,   -31.7667,    76.4685,       3109,   217.1,  12.9482,  35.1724,2,  35.1696,2,    234.9,2,   235.0,2,    3.37,2,    8.14,2,    0.01,2,    0.65,2,-999.000,9,-999.000,9,-999.0000,9,  -999.0,9,  -999.0,9,-999.0000,9,  -999.00,-999.000,9,-999.000,9,-999.000,9,  12.9450,2,-999.000,9, -999.00,9, -999.00,-999.000,9,-999.000, -999.00,9, -999.00,9, -31.7669,  76.4694,-999.000,-999.000,20090421,       0603
33RR20090320,        I05,     108,          1,         27,         27,2,20090421,       0450,   -31.7667,    76.4685,       3109,   239.7,  12.7017,  35.1555,2,  35.1556,2,    236.3,2,   237.3,2,    3.72,2,    8.66,2,    0.00,2,    0.68,2,-999.000,9,-999.000,9,-999.0000,9,  -999.0,9,  -999.0,9,-999.0000,9,  -999.00,-999.000,9,-999.000,9,-999.000,9,  12.7250,2,-999.000,9, -999.00,9, -999.00,-999.000,9,-999.000, -999.00,9, -999.00,9, -31.7670,  76.4694,-999.000,-999.000,20090421,       0602
33RR20090320,        I05,     108,          1,         26,         26,2,20090421,       0450,   -31.7667,    76.4685,       3109,   270.3,  12.4424,  35.1250,2,  35.1245,2,    238.8,2,   238.0,2,    3.89,2,    9.34,2,    0.00,2,    0.72,2,-999.000,9,-999.000,9,-999.0000,9,  2111.8,2,  2310.8,2,   7.9351,2,    20.00,-999.000,9,-999.000,9,-999.000,9,  12.4445,2,-999.000,9, -999.00,9, -999.00,-999.000,9,-999.000, -999.00,9, -999.00,9, -31.7669,  76.4694,-999.000,-999.000,20090421,       0601
33RR20090320,        I05,     108,          1,         25,         25,2,20090421,       0450,   -31.7667,    76.4685,       3109,   320.3,  12.1463,  35.0886,2,  35.0885,2,    235.5,2,   235.8,2,    4.07,2,   10.17,2,    0.00,2,    0.77,2,-999.000,9,-999.000,9,-999.0000,9,  -999.0,9,  -999.0,9,-999.0000,9,  -999.00,-999.000,9,-999.000,9,-999.000,9,  12.1563,2,-999.000,9, -999.00,9, -999.00,-999.000,9,-999.000, -999.00,9, -999.00,9, -31.7669,  76.4694,-999.000,-999.000,20090421,       0559
33RR20090320,        I05,     108,          1,         24,         24,2,20090421,       0450,   -31.7667,    76.4685,       3109,   370.5,  11.9062,  35.0546,2,  35.0536,2,    236.3,2,   236.3,2,    4.25,2,   10.74,2,    0.00,2,    0.81,2,-999.000,9,-999.000,9,-999.0000,9,  -999.0,9,  -999.0,9,-999.0000,9,  -999.00,-999.000,9,-999.000,9,-999.000,9,  11.9070,2,-999.000,9, -999.00,9, -999.00,-999.000,9,-999.000, -999.00,9, -999.00,9, -31.7669,  76.4694,-999.000,-999.000,20090421,       0558
33RR20090320,        I05,     108,          1,         23,         23,2,20090421,       0450,   -31.7667,    76.4685,       3109,   420.2,  11.7097,  35.0278,2,  35.0275,2,    235.3,2,   235.5,2,    4.42,2,   11.31,2,    0.00,2,    0.84,2,-999.000,9,-999.000,9,-999.0000,9,  -999.0,9,  -999.0,9,-999.0000,9,  -999.00,-999.000,9,-999.000,9,-999.000,9,  11.7133,2,-999.000,9, -999.00,9, -999.00,-999.000,9,-999.000, -999.00,9, -999.00,9, -31.7669,  76.4693,-999.000,-999.000,20090421,       0556
33RR20090320,        I05,     108,          1,         22,         22,2,20090421,       0450,   -31.7667,    76.4685,       3109,   471.0,  11.3862,  34.9794,2,  34.9781,2,    234.1,2,   233.7,2,    4.61,2,   12.25,2,    0.00,2,    0.90,2,-999.000,9,-999.000,9,-999.0000,9,  -999.0,9,  -999.0,9,-999.0000,9,  -999.00,-999.000,9,-999.000,9,-999.000,9,  11.3826,2,-999.000,9, -999.00,9, -999.00,-999.000,9,-999.000, -999.00,9, -999.00,9, -31.7669,  76.4693,-999.000,-999.000,20090421,       0554
33RR20090320,        I05,     108,          1,         21,         21,2,20090421,       0450,   -31.7667,    76.4685,       3109,   540.7,  10.9626,  34.9176,2,  34.9177,2,    236.7,2,   236.5,2,    4.60,2,   12.88,2,    0.00,2,    0.94,2,-999.000,9,-999.000,9,-999.0000,9,  2121.6,2,  2303.1,2,   7.8962,2,    20.00,-999.000,9,-999.000,9,-999.000,9,  10.9637,2,-999.000,9, -999.00,9, -999.00,-999.000,9,-999.000, -999.00,9, -999.00,9, -31.7668,  76.4693,-999.000,-999.000,20090421,       0552
33RR20090320,        I05,     108,          1,         20,         20,2,20090421,       0450,   -31.7667,    76.4685,       3109,   640.8,  10.3464,  34.8349,2,  34.8325,2,    234.2,2,   234.9,2,    4.96,2,   14.33,2,    0.00,2,    1.03,2,-999.000,9,-999.000,9,-999.0000,9,  -999.0,9,  -999.0,9,-999.0000,9,  -999.00,-999.000,9,-999.000,9,-999.000,9,  10.3452,2,-999.000,9, -999.00,9, -999.00,-999.000,9,-999.000, -999.00,9, -999.00,9, -31.7668,  76.4692,-999.000,-999.000,20090421,       0550
33RR20090320,        I05,     108,          1,         19,         19,2,20090421,       0450,   -31.7667,    76.4685,       3109,   741.7,   9.4549,  34.7103,2,  34.7136,2,    227.5,2,   228.3,2,    6.40,2,   17.10,2,    0.00,2,    1.20,2,-999.000,9,-999.000,9,-999.0000,9,  -999.0,9,  -999.0,9,-999.0000,9,  -999.00,-999.000,9,-999.000,9,-999.000,9,   9.4602,2,-999.000,9, -999.00,9, -999.00,-999.000,9,-999.000, -999.00,9, -999.00,9, -31.7669,  76.4692,-999.000,-999.000,20090421,       0547
33RR20090320,        I05,     108,          1,         18,         18,2,20090421,       0450,   -31.7667,    76.4685,       3109,   841.2,   8.3990,  34.5966,2,  34.5945,2,    212.1,2,   212.5,2,   10.71,2,   21.18,2,    0.00,2,    1.47,2,-999.000,9,-999.000,9,-999.0000,9,  -999.0,9,  -999.0,9,-999.0000,9,  -999.00,-999.000,9,-999.000,9,-999.000,9,   8.3957,2,-999.000,9, -999.00,9, -999.00,-999.000,9,-999.000, -999.00,9, -999.00,9, -31.7669,  76.4692,-999.000,-999.000,20090421,       0545
33RR20090320,        I05,     108,          1,         17,         17,2,20090421,       0450,   -31.7667,    76.4685,       3109,   941.1,   6.4410,  34.4373,2,  34.4323,2,    204.2,2,   203.4,2,   20.12,2,   26.80,2,    0.00,2,    1.86,2,-999.000,9,-999.000,9,-999.0000,9,  2173.1,2,  2291.3,2,   7.7395,2,    20.00,-999.000,9,-999.000,9,-999.000,9,   6.4366,2,-999.000,9, -999.00,9, -999.00,-999.000,9,-999.000, -999.00,9, -999.00,9, -31.7669,  76.4692,-999.000,-999.000,20090421,       0542
33RR20090320,        I05,     108,          1,         16,         16,2,20090421,       0450,   -31.7667,    76.4685,       3109,  1040.7,   5.2427,  34.3736,2,  34.3744,2,    203.6,2,   203.6,2,   26.83,2,   29.22,2,    0.00,2,    2.03,2,-999.000,9,-999.000,9,-999.0000,9,  -999.0,9,  -999.0,9,-999.0000,9,  -999.00,-999.000,9,-999.000,9,-999.000,9,   5.2447,2,-999.000,9, -999.00,9, -999.00,-999.000,9,-999.000, -999.00,9, -999.00,9, -31.7668,  76.4692,-999.000,-999.000,20090421,       0540
33RR20090320,        I05,     108,          1,         15,         15,2,20090421,       0450,   -31.7667,    76.4685,       3109,  1141.9,   4.3819,  34.3731,2,  34.3736,2,    195.2,2,   194.8,2,   37.39,2,   31.38,2,    0.00,2,    2.21,2,-999.000,9,-999.000,9,-999.0000,9,  2206.1,6,  2302.9,2,   7.6851,2,    20.00,-999.000,9,-999.000,9,-999.000,9,   4.3788,2,-999.000,9, -999.00,9, -999.00,-999.000,9,-999.000, -999.00,9, -999.00,9, -31.7668,  76.4692,-999.000,-999.000,20090421,       0537
33RR20090320,        I05,     108,          1,         14,         14,2,20090421,       0450,   -31.7667,    76.4685,       3109,  1241.2,   3.8613,  34.4194,2,  34.4192,2,    180.8,2,   180.3,2,   50.02,2,   33.07,2,    0.00,2,    2.34,2,-999.000,9,-999.000,9,-999.0000,9,  -999.0,9,  -999.0,9,-999.0000,9,  -999.00,-999.000,9,-999.000,9,-999.000,9,   3.8649,2,-999.000,9, -999.00,9, -999.00,-999.000,9,-999.000, -999.00,9, -999.00,9, -31.7668,  76.4691,-999.000,-999.000,20090421,       0535
33RR20090320,        I05,     108,          1,         13,         13,2,20090421,       0450,   -31.7667,    76.4685,       3109,  1343.2,   3.4656,  34.4639,2,  34.4635,2,    173.0,2,   171.7,2,   59.19,2,   33.92,2,    0.00,2,    2.41,2,-999.000,9,-999.000,9,-999.0000,9,  -999.0,9,  -999.0,9,-999.0000,9,  -999.00,-999.000,9,-999.000,9,-999.000,9,   3.4661,2,-999.000,9, -999.00,9, -999.00,-999.000,9,-999.000, -999.00,9, -999.00,9, -31.7668,  76.4691,-999.000,-999.000,20090421,       0532
33RR20090320,        I05,     108,          1,         12,         12,2,20090421,       0450,   -31.7667,    76.4685,       3109,  1443.0,   3.2313,  34.5035,2,  34.5036,2,    167.5,2,   167.4,2,   65.28,2,   34.23,2,    0.00,2,    2.43,2,-999.000,9,-999.000,9,-999.0000,9,  -999.0,9,  -999.0,9,-999.0000,9,  -999.00,-999.000,9,-999.000,9,-999.000,9,   3.2322,2,-999.000,9, -999.00,9, -999.00,-999.000,9,-999.000, -999.00,9, -999.00,9, -31.7668,  76.4691,-999.000,-999.000,20090421,       0529
33RR20090320,        I05,     108,          1,         11,         11,2,20090421,       0450,   -31.7667,    76.4685,       3109,  1543.7,   3.0299,  34.5527,2,  34.5502,2,    164.6,2,   164.2,2,   71.18,2,   34.27,2,    0.00,2,    2.44,2,-999.000,9,-999.000,9,-999.0000,9,  2252.8,2,  2335.3,2,   7.6369,2,    20.00,-999.000,9,-999.000,9,-999.000,9,   3.0309,2,-999.000,9, -999.00,9, -999.00,-999.000,9,-999.000, -999.00,9, -999.00,9, -31.7668,  76.4690,-999.000,-999.000,20090421,       0527
33RR20090320,        I05,     108,          1,         10,         10,2,20090421,       0450,   -31.7667,    76.4685,       3109,  1644.1,   2.8543,  34.5947,2,  34.5945,2,    164.1,2,   165.3,2,   75.24,2,   33.90,2,    0.00,2,    2.41,2,-999.000,9,-999.000,9,-999.0000,9,  -999.0,9,  -999.0,9,-999.0000,9,  -999.00,-999.000,9,-999.000,9,-999.000,9,   2.8519,2,-999.000,9, -999.00,9, -999.00,-999.000,9,-999.000, -999.00,9, -999.00,9, -31.7667,  76.4689,-999.000,-999.000,20090421,       0524
33RR20090320,        I05,     108,          1,          9,          9,2,20090421,       0450,   -31.7667,    76.4685,       3109,  1775.1,   2.6752,  34.6401,2,  34.6393,2,    167.6,2,   168.4,2,   78.76,2,   33.35,2,    0.00,2,    2.36,2,-999.000,9,-999.000,9,-999.0000,9,  -999.0,9,  -999.0,9,-999.0000,9,  -999.00,-999.000,9,-999.000,9,-999.000,9,   2.6753,2,-999.000,9, -999.00,9, -999.00,-999.000,9,-999.000, -999.00,9, -999.00,9, -31.7667,  76.4688,-999.000,-999.000,20090421,       0521
33RR20090320,        I05,     108,          1,          8,          8,2,20090421,       0450,   -31.7667,    76.4685,       3109,  1875.7,   2.5334,  34.6725,2,  34.6724,2,    172.3,2,   173.2,2,   80.61,2,   32.71,2,    0.00,2,    2.30,2,-999.000,9,-999.000,9,-999.0000,9,  -999.0,9,  -999.0,9,-999.0000,9,  -999.00,-999.000,9,-999.000,9,-999.000,9,   2.5346,2,-999.000,9, -999.00,9, -999.00,-999.000,9,-999.000, -999.00,9, -999.00,9, -31.7668,  76.4687,-999.000,-999.000,20090421,       0518
33RR20090320,        I05,     108,          1,          7,          7,2,20090421,       0450,   -31.7667,    76.4685,       3109,  2076.7,   2.2673,  34.7127,2,  34.7126,2,    181.7,2,   181.7,2,   86.18,2,   31.70,2,    0.00,2,    2.24,2,-999.000,9,-999.000,9,-999.0000,9,  2255.4,2,  2351.6,2,   7.6721,2,    20.00,-999.000,9,-999.000,9,-999.000,9,   2.2679,2,-999.000,9, -999.00,9, -999.00,-999.000,9,-999.000, -999.00,9, -999.00,9, -31.7668,  76.4686,-999.000,-999.000,20090421,       0514
33RR20090320,        I05,     108,          1,          6,          6,2,20090421,       0450,   -31.7667,    76.4685,       3109,  2279.3,   1.9569,  34.7264,2,  34.7268,2,    183.8,2,   183.5,2,   99.39,2,   31.95,2,    0.00,2,    2.27,2,-999.000,9,-999.000,9,-999.0000,9,  -999.0,9,  -999.0,9,-999.0000,9,  -999.00,-999.000,9,-999.000,9,-999.000,9,   1.9566,2,-999.000,9, -999.00,9, -999.00,-999.000,9,-999.000, -999.00,9, -999.00,9, -31.7668,  76.4686,-999.000,-999.000,20090421,       0510
33RR20090320,        I05,     108,          1,          5,          5,2,20090421,       0450,   -31.7667,    76.4685,       3109,  2481.9,   1.8366,  34.7264,2,  34.7266,2,    183.1,2,   182.9,2,  106.48,2,   32.26,2,    0.00,2,    2.28,2,   0.022,2,   0.009,2,   0.0150,2,  -999.0,9,  -999.0,9,-999.0000,9,  -999.00,-999.000,9,-999.000,9,-999.000,9,   1.8358,2,-999.000,9, -999.00,9, -999.00,-999.000,9,-999.000, -999.00,9, -999.00,9, -31.7667,  76.4686,-999.000,-999.000,20090421,       0506
33RR20090320,        I05,     108,          1,          4,          4,2,20090421,       0450,   -31.7667,    76.4685,       3109,  2683.4,   1.8112,  34.7264,2,  34.7268,2,    182.7,2,   182.8,2,  108.72,2,   32.47,2,    0.00,2,    2.29,2,-999.000,9,-999.000,9,-999.0000,9,  -999.0,9,  -999.0,9,-999.0000,9,  -999.00,-999.000,9,-999.000,9,-999.000,9,   1.8108,2,-999.000,9, -999.00,9, -999.00,-999.000,9,-999.000, -999.00,9, -999.00,9, -31.7667,  76.4686,-999.000,-999.000,20090421,       0501
33RR20090320,        I05,     108,          1,          3,          3,2,20090421,       0450,   -31.7667,    76.4685,       3109,  2884.5,   1.7725,  34.7265,2,  34.7264,2,    184.0,2,   183.9,2,  110.03,2,   32.52,2,    0.00,2,    2.29,2,   0.018,6,   0.007,6,   0.0060,6,  -999.0,9,  -999.0,9,-999.0000,9,  -999.00,-999.000,9,-999.000,9,-999.000,9,   1.7724,2,-999.000,9, -999.00,9, -999.00,-999.000,9,-999.000, -999.00,9, -999.00,9, -31.7667,  76.4685,-999.000,-999.000,20090421,       0457
33RR20090320,        I05,     108,          1,          2,          2,2,20090421,       0450,   -31.7667,    76.4685,       3109,  2961.1,   1.7304,  34.7260,2,  34.7270,2,    184.4,2,   183.6,2,  111.71,2,   32.57,2,    0.00,2,    2.30,2,   0.015,6,   0.008,6,   0.0300,6,  -999.0,9,  -999.0,9,-999.0000,9,  -999.00,-999.000,9,-999.000,9,-999.000,9,   1.7303,2,-999.000,9, -999.00,9, -999.00,-999.000,9,-999.000, -999.00,9, -999.00,9, -31.7667,  76.4685,-999.000,-999.000,20090421,       0455
33RR20090320,        I05,     108,          1,          1,          1,2,20090421,       0450,   -31.7667,    76.4685,       3109,  3139.8,   1.7116,  34.7251,2,  34.7252,2,    182.9,2,   183.2,2,  113.77,2,   32.71,2,    0.00,2,    2.30,2,   0.011,6,   0.005,6,   0.0170,6,  2277.2,6,  2373.3,2,   7.6813,2,    20.00,-999.000,9,-999.000,9,-999.000,9,   1.7115,2,-999.000,9, -999.00,9, -999.00,-999.000,9,-999.000, -999.00,9, -999.00,9, -31.7667,  76.4685,-999.000,-999.000,20090421,       0450