BOTTLE,20220814CCHSIOAMB
EXPOCODE,SECT_ID,STNNBR,CASTNO,SAMPNO,BTLNBR,BTLNBR_FLAG_W,DATE,TIME,LATITUDE,LONGITUDE,DEPTH,CTDPRS,CTDTMP,CTDSAL,CTDSAL_FLAG_W,SALNTY,SALNTY_FLAG_W,CTDOXY,CTDOXY_FLAG_W,OXYGEN,OXYGEN_FLAG_W,SILCAT,SILCAT_FLAG_W,NITRAT,NITRAT_FLAG_W,NITRIT,NITRIT_FLAG_W,PHSPHT,PHSPHT_FLAG_W,CFC-11,CFC-11_FLAG_W,CFC-12,CFC-12_FLAG_W,SF6,SF6_FLAG_W,TCARBN,TCARBN_FLAG_W,ALKALI,ALKALI_FLAG_W,PH_TOT,PH_TOT_FLAG_W,PH_TMP,TRITUM,TRITUM_FLAG_W,HELIUM,HELIUM_FLAG_W,DELHE3,DELHE3_FLAG_W,REFTMP,REFTMP_FLAG_W,DELC13,DELC13_FLAG_W,DELC14,DELC14_FLAG_W,C14ERR,NEON,NEON_FLAG_W,NEONER,DOC,DOC_FLAG_W,TDN,TDN_FLAG_W,BTL_LAT,BTL_LON,HELIER,DELHER,BTL_DATE,BTL_TIME
,,,,,,,,,,,METERS,DBAR,ITS-90,PSS-78,,PSS-78,,UMOL/KG,,UMOL/KG,,UMOL/KG,,UMOL/KG,,UMOL/KG,,UMOL/KG,,PMOL/KG,,PMOL/KG,,FMOL/KG,,UMOL/KG,,UMOL/KG,,,,DEG C,TU,,NMOL/KG,,PERCNT,,DEG C,,/MILLE,,/MILLE,,/MILLE,NMOL/KG,,NMOL/KG,UMOL/KG,,UMOL/KG,,,,NMOL/KG,PERCNT,,
33RR20090320,        I05,     166,          1,         36,         36,2,20090505,       0550,   -31.9991,   102.9900,       5256,     5.8,  19.4199,  36.0281,2,  36.0222,2,    230.0,2,   230.4,2,    0.61,2,    0.06,2,    0.00,2,    0.11,2,-999.000,9,-999.000,9,-999.0000,9,  2074.5,6,  2363.3,2,   8.0914,2,    20.00,-999.000,9,-999.000,9,-999.000,9,  19.4176,2,-999.000,9, -999.00,9, -999.00,-999.000,9,-999.000, -999.00,9, -999.00,9, -31.9988, 102.9901,-999.000,-999.000,20090505,       0757
33RR20090320,        I05,     166,          1,         35,         35,2,20090505,       0550,   -31.9991,   102.9900,       5256,    24.0,  19.2459,  36.0234,2,  36.0200,2,    231.2,2,   230.0,2,    0.51,2,    0.06,2,    0.00,2,    0.10,2,-999.000,9,-999.000,9,-999.0000,9,  2074.6,2,  2363.6,2,   8.0912,2,    20.00,-999.000,9,-999.000,9,-999.000,9,  19.2448,2,-999.000,9, -999.00,9, -999.00,-999.000,9,-999.000, -999.00,9, -999.00,9, -31.9988, 102.9902,-999.000,-999.000,20090505,       0756
33RR20090320,        I05,     166,          1,         34,         34,2,20090505,       0550,   -31.9991,   102.9900,       5256,    43.8,  19.2389,  36.0232,2,  36.0198,2,    231.3,2,   230.2,2,    0.40,2,    0.06,2,    0.00,2,    0.10,2,-999.000,9,-999.000,9,-999.0000,9,  2073.7,2,  2362.8,2,   8.0916,2,    20.00,-999.000,9,-999.000,9,-999.000,9,  19.2370,2,-999.000,9, -999.00,9, -999.00,-999.000,9,-999.000, -999.00,9, -999.00,9, -31.9988, 102.9902,-999.000,-999.000,20090505,       0755
33RR20090320,        I05,     166,          1,         33,         33,2,20090505,       0550,   -31.9991,   102.9900,       5256,    68.5,  19.2417,  36.0243,2,  36.0208,2,    231.9,2,   230.2,2,    0.29,2,    0.06,2,    0.00,2,    0.10,2,-999.000,9,-999.000,9,-999.0000,9,  2073.6,2,  2363.4,2,   8.0911,2,    20.00,-999.000,9,-999.000,9,-999.000,9,  19.2394,2,-999.000,9, -999.00,9, -999.00,-999.000,9,-999.000, -999.00,9, -999.00,9, -31.9988, 102.9902,-999.000,-999.000,20090505,       0754
33RR20090320,        I05,     166,          1,         32,         32,2,20090505,       0550,   -31.9991,   102.9900,       5256,    92.3,  18.9103,  35.9795,2,  35.9418,2,    232.1,2,   235.3,2,    0.19,2,    0.06,2,    0.00,2,    0.11,2,-999.000,9,-999.000,9,-999.0000,9,  -999.0,9,  -999.0,9,-999.0000,9,  -999.00,-999.000,9,-999.000,9,-999.000,9,  18.9045,2,-999.000,9, -999.00,9, -999.00,-999.000,9,-999.000, -999.00,9, -999.00,9, -31.9988, 102.9902,-999.000,-999.000,20090505,       0752
33RR20090320,        I05,     166,          1,         31,         31,2,20090505,       0550,   -31.9991,   102.9900,       5256,   137.9,  15.3290,  35.6392,2,  35.6382,2,    236.1,2,   233.8,2,    0.00,2,    1.84,2,    0.05,2,    0.27,2,-999.000,9,-999.000,9,-999.0000,9,  2094.3,2,  2341.6,2,   8.0199,2,    20.00,-999.000,9,-999.000,9,-999.000,9,  15.3494,2,-999.000,9, -999.00,9, -999.00,-999.000,9,-999.000, -999.00,9, -999.00,9, -31.9989, 102.9902,-999.000,-999.000,20090505,       0750
33RR20090320,        I05,     166,          1,         30,         30,2,20090505,       0550,   -31.9991,   102.9900,       5256,   187.5,  14.5122,  35.5320,2,  35.5294,2,    232.8,2,   232.2,2,    0.00,2,    3.78,2,    0.01,2,    0.38,2,-999.000,9,-999.000,9,-999.0000,9,  -999.0,9,  -999.0,9,-999.0000,9,  -999.00,-999.000,9,-999.000,9,-999.000,9,  14.5173,2,-999.000,9, -999.00,9, -999.00,-999.000,9,-999.000, -999.00,9, -999.00,9, -31.9989, 102.9902,-999.000,-999.000,20090505,       0749
33RR20090320,        I05,     166,          1,         29,         29,2,20090505,       0550,   -31.9991,   102.9900,       5256,   238.2,  13.4791,  35.3483,2,  35.3489,2,    234.2,2,   235.0,2,    0.05,2,    5.46,2,    0.01,2,    0.49,2,-999.000,9,-999.000,9,-999.0000,9,  2106.8,2,  2326.3,2,   7.9699,2,    20.00,-999.000,9,-999.000,9,-999.000,9,  13.4689,2,-999.000,9, -999.00,9, -999.00,-999.000,9,-999.000, -999.00,9, -999.00,9, -31.9990, 102.9902,-999.000,-999.000,20090505,       0747
33RR20090320,        I05,     166,          1,         28,         28,2,20090505,       0550,   -31.9991,   102.9900,       5256,   288.6,  12.6700,  35.2065,2,  35.2080,2,    237.0,2,   236.6,2,    0.31,2,    7.19,2,    0.01,2,    0.60,2,-999.000,9,-999.000,9,-999.0000,9,  -999.0,9,  -999.0,9,-999.0000,9,  -999.00,-999.000,9,-999.000,9,-999.000,9,  12.6558,2,-999.000,9, -999.00,9, -999.00,-999.000,9,-999.000, -999.00,9, -999.00,9, -31.9990, 102.9902,-999.000,-999.000,20090505,       0746
33RR20090320,        I05,     166,          1,         27,         27,2,20090505,       0550,   -31.9991,   102.9900,       5256,   338.4,  11.6450,  35.0272,2,  35.0285,2,    238.4,2,   239.0,2,    0.75,2,    9.49,2,    0.00,2,    0.74,2,-999.000,9,-999.000,9,-999.0000,9,  -999.0,9,  -999.0,9,-999.0000,9,  -999.00,-999.000,9,-999.000,9,-999.000,9,  11.6573,2,-999.000,9, -999.00,9, -999.00,-999.000,9,-999.000, -999.00,9, -999.00,9, -31.9990, 102.9903,-999.000,-999.000,20090505,       0743
33RR20090320,        I05,     166,          1,         26,         26,2,20090505,       0550,   -31.9991,   102.9900,       5256,   387.5,  11.0159,  34.9249,2,  34.9241,2,    239.1,2,   239.1,2,    1.02,2,   11.23,2,    0.00,2,    0.85,2,-999.000,9,-999.000,9,-999.0000,9,  -999.0,9,  -999.0,9,-999.0000,9,  -999.00,-999.000,9,-999.000,9,-999.000,9,  11.0212,2,-999.000,9, -999.00,9, -999.00,-999.000,9,-999.000, -999.00,9, -999.00,9, -31.9990, 102.9904,-999.000,-999.000,20090505,       0741
33RR20090320,        I05,     166,          1,         25,         25,2,20090505,       0550,   -31.9991,   102.9900,       5256,   468.9,  10.1283,  34.7959,2,  34.7966,2,    239.2,2,   239.6,2,    1.83,2,   13.69,2,    0.00,2,    1.00,2,-999.000,9,-999.000,9,-999.0000,9,  -999.0,9,  -999.0,9,-999.0000,9,  -999.00,-999.000,9,-999.000,9,-999.000,9,  10.1312,2,-999.000,9, -999.00,9, -999.00,-999.000,9,-999.000, -999.00,9, -999.00,9, -31.9991, 102.9904,-999.000,-999.000,20090505,       0738
33RR20090320,        I05,     166,          1,         24,         24,2,20090505,       0550,   -31.9991,   102.9900,       5256,   565.4,   9.4671,  34.7035,2,  34.7054,2,    239.0,2,   239.2,2,    2.45,2,   15.70,2,    0.00,2,    1.12,2,-999.000,9,-999.000,9,-999.0000,9,  -999.0,9,  -999.0,9,-999.0000,9,  -999.00,-999.000,9,-999.000,9,-999.000,9,   9.4677,2,-999.000,9, -999.00,9, -999.00,-999.000,9,-999.000, -999.00,9, -999.00,9, -31.9991, 102.9904,-999.000,-999.000,20090505,       0735
33RR20090320,        I05,     166,          1,         23,         23,2,20090505,       0550,   -31.9991,   102.9900,       5256,   666.5,   8.9670,  34.6359,2,  34.6378,2,    236.7,2,   236.7,2,    3.63,2,   17.43,2,    0.00,2,    1.24,2,-999.000,9,-999.000,9,-999.0000,9,  -999.0,9,  -999.0,9,-999.0000,9,  -999.00,-999.000,9,-999.000,9,-999.000,9,   8.9724,2,-999.000,9, -999.00,9, -999.00,-999.000,9,-999.000, -999.00,9, -999.00,9, -31.9991, 102.9904,-999.000,-999.000,20090505,       0732
33RR20090320,        I05,     166,          1,         22,         22,2,20090505,       0550,   -31.9991,   102.9900,       5256,   766.3,   8.0527,  34.5399,2,  34.5412,2,    218.8,2,   216.9,2,    7.77,2,   21.48,2,    0.00,2,    1.50,2,-999.000,9,-999.000,9,-999.0000,9,  -999.0,9,  -999.0,9,-999.0000,9,  -999.00,-999.000,9,-999.000,9,-999.000,9,   8.0501,2,-999.000,9, -999.00,9, -999.00,-999.000,9,-999.000, -999.00,9, -999.00,9, -31.9991, 102.9904,-999.000,-999.000,20090505,       0729
33RR20090320,        I05,     166,          1,         21,         21,2,20090505,       0550,   -31.9991,   102.9900,       5256,   867.9,   6.6770,  34.4484,2,  34.4503,2,    198.4,2,   198.0,2,   16.17,2,   26.19,2,    0.00,2,    1.85,2,-999.000,9,-999.000,9,-999.0000,9,  -999.0,9,  -999.0,9,-999.0000,9,  -999.00,-999.000,9,-999.000,9,-999.000,9,   6.6738,2,-999.000,9, -999.00,9, -999.00,-999.000,9,-999.000, -999.00,9, -999.00,9, -31.9991, 102.9904,-999.000,-999.000,20090505,       0726
33RR20090320,        I05,     166,          1,         20,         20,2,20090505,       0550,   -31.9991,   102.9900,       5256,   969.0,   5.2658,  34.3900,2,  34.3929,2,    192.5,2,   192.7,2,   27.20,2,   29.65,2,    0.00,2,    2.10,2,-999.000,9,-999.000,9,-999.0000,9,  -999.0,9,  -999.0,9,-999.0000,9,  -999.00,-999.000,9,-999.000,9,-999.000,9,   5.2657,2,-999.000,9, -999.00,9, -999.00,-999.000,9,-999.000, -999.00,9, -999.00,9, -31.9991, 102.9904,-999.000,-999.000,20090505,       0723
33RR20090320,        I05,     166,          1,         19,         19,2,20090505,       0550,   -31.9991,   102.9900,       5256,  1068.5,   4.4077,  34.3991,2,  34.3996,2,    183.9,2,   183.6,2,   39.61,2,   31.83,2,    0.00,2,    2.29,2,-999.000,9,-999.000,9,-999.0000,9,  -999.0,9,  -999.0,9,-999.0000,9,  -999.00,-999.000,9,-999.000,9,-999.000,9,   4.4082,2,-999.000,9, -999.00,9, -999.00,-999.000,9,-999.000, -999.00,9, -999.00,9, -31.9991, 102.9905,-999.000,-999.000,20090505,       0721
33RR20090320,        I05,     166,          1,         18,         18,2,20090505,       0550,   -31.9991,   102.9900,       5256,  1162.7,   3.9256,  34.4557,2,  34.4562,2,    168.7,2,   164.8,2,   55.27,2,   33.65,2,    0.00,2,    2.44,2,-999.000,9,-999.000,9,-999.0000,9,  -999.0,9,  -999.0,9,-999.0000,9,  -999.00,-999.000,9,-999.000,9,-999.000,9,   3.9259,2,-999.000,9, -999.00,9, -999.00,-999.000,9,-999.000, -999.00,9, -999.00,9, -31.9991, 102.9904,-999.000,-999.000,20090505,       0718
33RR20090320,        I05,     166,          1,         17,         17,2,20090505,       0550,   -31.9991,   102.9900,       5256,  1262.5,   3.7320,  34.5217,2,  34.5208,2,    148.2,2,   148.2,2,   68.56,2,   34.66,2,    0.00,2,    2.54,2,-999.000,9,-999.000,9,-999.0000,9,  -999.0,9,  -999.0,9,-999.0000,9,  -999.00,-999.000,9,-999.000,9,-999.000,9,   3.7297,2,-999.000,9, -999.00,9, -999.00,-999.000,9,-999.000, -999.00,9, -999.00,9, -31.9991, 102.9904,-999.000,-999.000,20090505,       0715
33RR20090320,        I05,     166,          1,         16,         16,2,20090505,       0550,   -31.9991,   102.9900,       5256,  1365.6,   3.4437,  34.5508,2,  34.5516,2,    147.9,2,   147.7,2,   73.75,2,   34.87,2,    0.00,2,    2.56,2,-999.000,9,-999.000,9,-999.0000,9,  -999.0,9,  -999.0,9,-999.0000,9,  -999.00,-999.000,9,-999.000,9,-999.000,9,   3.4433,2,-999.000,9, -999.00,9, -999.00,-999.000,9,-999.000, -999.00,9, -999.00,9, -31.9991, 102.9904,-999.000,-999.000,20090505,       0712
33RR20090320,        I05,     166,          1,         15,         15,2,20090505,       0550,   -31.9991,   102.9900,       5256,  1536.0,   3.1060,  34.6084,2,  34.6084,2,    146.6,2,   147.3,2,   82.19,2,   34.81,2,    0.00,2,    2.55,2,-999.000,9,-999.000,9,-999.0000,9,  -999.0,9,  -999.0,9,-999.0000,9,  -999.00,-999.000,9,-999.000,9,-999.000,9,   3.1065,2,-999.000,9, -999.00,9, -999.00,-999.000,9,-999.000, -999.00,9, -999.00,9, -31.9991, 102.9904,-999.000,-999.000,20090505,       0708
33RR20090320,        I05,     166,          1,         14,         14,2,20090505,       0550,   -31.9991,   102.9900,       5256,  1735.5,   2.8081,  34.6560,2,  34.6568,2,    151.4,2,   151.8,2,   89.13,2,   34.32,2,    0.00,2,    2.51,2,-999.000,9,-999.000,9,-999.0000,9,  -999.0,9,  -999.0,9,-999.0000,9,  -999.00,-999.000,9,-999.000,9,-999.000,9,   2.8092,2,-999.000,9, -999.00,9, -999.00,-999.000,9,-999.000, -999.00,9, -999.00,9, -31.9991, 102.9905,-999.000,-999.000,20090505,       0704
33RR20090320,        I05,     166,          1,         13,         13,2,20090505,       0550,   -31.9991,   102.9900,       5256,  1932.5,   2.5554,  34.6913,2,  34.6909,2,    157.8,2,   157.1,2,   94.76,2,   33.79,2,    0.00,2,    2.47,2,-999.000,9,-999.000,9,-999.0000,9,  2277.7,2,  2364.9,2,   7.6419,2,    20.00,-999.000,9,-999.000,9,-999.000,9,   2.5521,2,-999.000,9, -999.00,9, -999.00,-999.000,9,-999.000, -999.00,9, -999.00,9, -31.9991, 102.9904,-999.000,-999.000,20090505,       0700
33RR20090320,        I05,     166,          1,         12,         12,2,20090505,       0550,   -31.9991,   102.9900,       5256,  2164.6,   2.3194,  34.7138,2,  34.7138,2,    163.5,2,   163.3,2,   99.62,2,   33.31,2,    0.00,2,    2.42,2,-999.000,9,-999.000,9,-999.0000,9,  -999.0,9,  -999.0,9,-999.0000,9,  -999.00,-999.000,9,-999.000,9,-999.000,9,   2.3192,2,-999.000,9, -999.00,9, -999.00,-999.000,9,-999.000, -999.00,9, -999.00,9, -31.9991, 102.9904,-999.000,-999.000,20090505,       0655
33RR20090320,        I05,     166,          1,         11,         11,2,20090505,       0550,   -31.9991,   102.9900,       5256,  2418.8,   2.1093,  34.7298,2,  34.7299,2,    179.6,2,   178.6,2,   94.38,2,   31.92,2,    0.00,2,    2.31,2,-999.000,9,-999.000,9,-999.0000,9,  -999.0,9,  -999.0,9,-999.0000,9,  -999.00,-999.000,9,-999.000,9,-999.000,9,   2.1094,2,-999.000,9, -999.00,9, -999.00,-999.000,9,-999.000, -999.00,9, -999.00,9, -31.9991, 102.9904,-999.000,-999.000,20090505,       0649
33RR20090320,        I05,     166,          1,         10,         10,2,20090505,       0550,   -31.9991,   102.9900,       5256,  2669.3,   1.9110,  34.7354,2,  34.7334,2,    182.8,2,   183.4,2,   99.25,2,   31.80,2,    0.00,2,    2.30,2,-999.000,9,-999.000,9,-999.0000,9,  -999.0,9,  -999.0,9,-999.0000,9,  -999.00,-999.000,9,-999.000,9,-999.000,9,   1.9111,2,-999.000,9, -999.00,9, -999.00,-999.000,9,-999.000, -999.00,9, -999.00,9, -31.9991, 102.9905,-999.000,-999.000,20090505,       0644
33RR20090320,        I05,     166,          1,          9,          9,2,20090505,       0550,   -31.9991,   102.9900,       5256,  2922.8,   1.7000,  34.7335,2,  34.7336,2,    186.6,2,   185.8,2,  106.24,2,   32.02,2,    0.00,2,    2.31,2,-999.000,9,-999.000,9,-999.0000,9,  2269.5,2,  2371.8,2,   7.6782,2,    20.00,-999.000,9,-999.000,9,-999.000,9,   1.6997,2,-999.000,9, -999.00,9, -999.00,-999.000,9,-999.000, -999.00,9, -999.00,9, -31.9990, 102.9904,-999.000,-999.000,20090505,       0639
33RR20090320,        I05,     166,          1,          8,          8,2,20090505,       0550,   -31.9991,   102.9900,       5256,  3211.1,   1.5070,  34.7337,2,  34.7336,2,    195.3,2,   195.2,2,  106.15,2,   31.48,2,    0.00,2,    2.27,2,-999.000,9,-999.000,9,-999.0000,9,  -999.0,9,  -999.0,9,-999.0000,9,  -999.00,-999.000,9,-999.000,9,-999.000,9,   1.5073,2,-999.000,9, -999.00,9, -999.00,-999.000,9,-999.000, -999.00,9, -999.00,9, -31.9991, 102.9904,-999.000,-999.000,20090505,       0633
33RR20090320,        I05,     166,          1,          7,          7,2,20090505,       0550,   -31.9991,   102.9900,       5256,  3516.8,   1.3123,  34.7265,2,  34.7271,2,    198.8,2,   198.9,2,  111.23,2,   31.74,2,    0.00,2,    2.28,2,-999.000,9,-999.000,9,-999.0000,9,  -999.0,9,  -999.0,9,-999.0000,9,  -999.00,-999.000,9,-999.000,9,-999.000,9,   1.3121,2,-999.000,9, -999.00,9, -999.00,-999.000,9,-999.000, -999.00,9, -999.00,9, -31.9990, 102.9904,-999.000,-999.000,20090505,       0627
33RR20090320,        I05,     166,          1,          6,          6,2,20090505,       0550,   -31.9991,   102.9900,       5256,  3820.0,   1.1534,  34.7197,2,  34.7213,2,    201.8,2,   202.1,2,  115.36,2,   31.91,2,    0.00,2,    2.29,2,-999.000,9,-999.000,9,-999.0000,9,  -999.0,9,  -999.0,9,-999.0000,9,  -999.00,-999.000,9,-999.000,9,-999.000,9,   1.1540,2,-999.000,9, -999.00,9, -999.00,-999.000,9,-999.000, -999.00,9, -999.00,9, -31.9990, 102.9904,-999.000,-999.000,20090505,       0621
33RR20090320,        I05,     166,          1,          5,          5,2,20090505,       0550,   -31.9991,   102.9900,       5256,  4160.7,   1.0373,  34.7133,2,  34.7130,2,    204.4,2,   204.8,2,  118.55,2,   32.01,2,    0.00,2,    2.30,2,-999.000,9,-999.000,9,-999.0000,9,  2266.4,2,  2370.6,2,   7.6867,2,    20.00,-999.000,9,-999.000,9,-999.000,9,   1.0368,2,-999.000,9, -999.00,9, -999.00,-999.000,9,-999.000, -999.00,9, -999.00,9, -31.9990, 102.9904,-999.000,-999.000,20090505,       0614
33RR20090320,        I05,     166,          1,          4,          4,2,20090505,       0550,   -31.9991,   102.9900,       5256,  4568.4,   0.9962,  34.7099,2,  34.7097,2,    205.6,2,   206.0,2,  120.57,2,   32.12,2,    0.00,2,    2.31,2,-999.000,9,-999.000,9,-999.0000,9,  -999.0,9,  -999.0,9,-999.0000,9,  -999.00,-999.000,9,-999.000,9,-999.000,9,   0.9965,2,-999.000,9, -999.00,9, -999.00,-999.000,9,-999.000, -999.00,9, -999.00,9, -31.9990, 102.9904,-999.000,-999.000,20090505,       0606
33RR20090320,        I05,     166,          1,          3,          3,2,20090505,       0550,   -31.9991,   102.9900,       5256,  4961.1,   1.0059,  34.7081,2,  34.7073,2,    205.8,2,   206.6,2,  121.07,2,   32.17,2,    0.00,2,    2.31,2,-999.000,9,-999.000,9,-999.0000,9,  -999.0,9,  -999.0,9,-999.0000,9,  -999.00,-999.000,9,-999.000,9,-999.000,9,   1.0062,2,-999.000,9, -999.00,9, -999.00,-999.000,9,-999.000, -999.00,9, -999.00,9, -31.9990, 102.9903,-999.000,-999.000,20090505,       0558
33RR20090320,        I05,     166,          1,          2,          2,2,20090505,       0550,   -31.9991,   102.9900,       5256,  5209.7,   1.0262,  34.7075,2,  34.7071,2,    207.0,2,   206.6,2,  121.17,2,   32.17,2,    0.00,2,    2.32,2,-999.000,9,-999.000,9,-999.0000,9,  -999.0,9,  -999.0,9,-999.0000,9,  -999.00,-999.000,9,-999.000,9,-999.000,9,   1.0266,2,-999.000,9, -999.00,9, -999.00,-999.000,9,-999.000, -999.00,9, -999.00,9, -31.9990, 102.9902,-999.000,-999.000,20090505,       0553
33RR20090320,        I05,     166,          1,          1,          1,2,20090505,       0550,   -31.9991,   102.9900,       5256,  5344.4,   1.0370,  34.7068,2,  34.7069,2,    206.4,2,   206.5,2,  121.47,2,   32.17,2,    0.00,2,    2.32,2,-999.000,9,-999.000,9,-999.0000,9,  2267.9,6,  2371.6,2,   7.6827,2,    20.00,-999.000,9,-999.000,9,-999.000,9,   1.0370,2,-999.000,9, -999.00,9, -999.00,-999.000,9,-999.000, -999.00,9, -999.00,9, -31.9991, 102.9900,-999.000,-999.000,20090505,       0550