BOTTLE,20220814CCHSIOAMB
EXPOCODE,SECT_ID,STNNBR,CASTNO,SAMPNO,BTLNBR,BTLNBR_FLAG_W,DATE,TIME,LATITUDE,LONGITUDE,DEPTH,CTDPRS,CTDTMP,CTDSAL,CTDSAL_FLAG_W,SALNTY,SALNTY_FLAG_W,CTDOXY,CTDOXY_FLAG_W,OXYGEN,OXYGEN_FLAG_W,SILCAT,SILCAT_FLAG_W,NITRAT,NITRAT_FLAG_W,NITRIT,NITRIT_FLAG_W,PHSPHT,PHSPHT_FLAG_W,CFC-11,CFC-11_FLAG_W,CFC-12,CFC-12_FLAG_W,SF6,SF6_FLAG_W,TCARBN,TCARBN_FLAG_W,ALKALI,ALKALI_FLAG_W,PH_TOT,PH_TOT_FLAG_W,PH_TMP,TRITUM,TRITUM_FLAG_W,HELIUM,HELIUM_FLAG_W,DELHE3,DELHE3_FLAG_W,REFTMP,REFTMP_FLAG_W,DELC13,DELC13_FLAG_W,DELC14,DELC14_FLAG_W,C14ERR,NEON,NEON_FLAG_W,NEONER,DOC,DOC_FLAG_W,TDN,TDN_FLAG_W,BTL_LAT,BTL_LON,HELIER,DELHER,BTL_DATE,BTL_TIME
,,,,,,,,,,,METERS,DBAR,ITS-90,PSS-78,,PSS-78,,UMOL/KG,,UMOL/KG,,UMOL/KG,,UMOL/KG,,UMOL/KG,,UMOL/KG,,PMOL/KG,,PMOL/KG,,FMOL/KG,,UMOL/KG,,UMOL/KG,,,,DEG C,TU,,NMOL/KG,,PERCNT,,DEG C,,/MILLE,,/MILLE,,/MILLE,NMOL/KG,,NMOL/KG,UMOL/KG,,UMOL/KG,,,,NMOL/KG,PERCNT,,
33RR20090320,        I05,       4,          1,         36,         36,2,20090324,       1530,   -31.1128,    30.4642,       1770,     4.1,  26.2076,  35.5465,2,  35.5476,2,    203.6,2,   203.7,2,    1.02,2,    0.24,2,    0.00,2,    0.04,2,-999.000,9,-999.000,9,-999.0000,9,  1996.6,6,  2327.2,2,   8.1732,2,    20.00,-999.000,9,-999.000,9,-999.000,9,-999.0000,9,   1.132,2,   51.07,2,     4.4,-999.000,9,-999.000,   68.80,2,    4.44,2, -31.1543,  30.4194,-999.000,-999.000,20090324,       1649
33RR20090320,        I05,       4,          1,         35,         35,2,20090324,       1530,   -31.1128,    30.4642,       1770,    20.1,  26.1862,  35.5418,2,  35.5421,2,    204.3,2,   204.5,2,    0.92,2,    0.27,2,    0.00,2,    0.05,2,-999.000,9,-999.000,9,-999.0000,9,  1997.8,2,  2326.2,2,   8.1735,2,    20.00,-999.000,9,-999.000,9,-999.000,9,-999.0000,9,-999.000,9, -999.00,9, -999.00,-999.000,9,-999.000,   67.47,2,    4.60,2, -31.1532,  30.4206,-999.000,-999.000,20090324,       1648
33RR20090320,        I05,       4,          1,         27,         27,2,20090324,       1530,   -31.1128,    30.4642,       1770,    40.1,  25.9099,  35.5175,2,  35.5202,2,    205.8,2,   205.3,2,    0.91,2,    0.21,2,    0.00,2,    0.03,2,-999.000,9,-999.000,9,-999.0000,9,  1995.4,2,  2325.2,2,   8.1712,2,    20.00,-999.000,9,-999.000,9,-999.000,9,-999.0000,9,-999.000,9, -999.00,9, -999.00,-999.000,9,-999.000,   67.39,2,    4.85,2, -31.1508,  30.4233,-999.000,-999.000,20090324,       1645
33RR20090320,        I05,       4,          1,         26,         26,2,20090324,       1530,   -31.1128,    30.4642,       1770,    64.9,  21.4379,  35.4195,2,  35.4208,2,    187.2,2,   187.0,2,    2.57,2,    2.28,2,    0.17,2,    0.26,2,-999.000,9,-999.000,9,-999.0000,9,  2047.6,2,  2316.0,2,   8.0727,2,    20.00,-999.000,9,-999.000,9,-999.000,9,-999.0000,9,-999.000,9, -999.00,9, -999.00,-999.000,9,-999.000,   58.04,2,    6.31,2, -31.1492,  30.4251,-999.000,-999.000,20090324,       1643
33RR20090320,        I05,       4,          1,         25,         25,2,20090324,       1530,   -31.1128,    30.4642,       1770,    89.3,  20.0691,  35.4669,2,  35.4668,2,    172.4,2,   174.1,2,    3.64,2,    5.20,2,    0.03,2,    0.41,2,-999.000,9,-999.000,9,-999.0000,9,  2070.3,2,  2321.6,2,   8.0329,2,    20.00,-999.000,9,-999.000,9,-999.000,9,-999.0000,9,   0.617,2,   55.84,2,       3,-999.000,9,-999.000,   52.86,2,    8.10,2, -31.1478,  30.4266,-999.000,-999.000,20090324,       1641
33RR20090320,        I05,       4,          1,         24,         24,2,20090324,       1530,   -31.1128,    30.4642,       1770,   114.1,  18.0813,  35.4645,2,  35.4500,2,    181.3,2,   162.7,2,    6.30,2,    8.53,2,    0.01,2,    0.62,2,-999.000,9,-999.000,9,-999.0000,9,  2100.9,2,  2321.7,2,   7.9771,2,    20.00,-999.000,9,-999.000,9,-999.000,9,-999.0000,9,-999.000,9, -999.00,9, -999.00,-999.000,9,-999.000,   51.69,2,   11.02,2, -31.1464,  30.4282,-999.000,-999.000,20090324,       1639
33RR20090320,        I05,       4,          1,         23,         23,2,20090324,       1530,   -31.1128,    30.4642,       1770,   139.7,  17.0345,  35.5289,2,  35.5305,2,    195.7,2,   196.0,2,    3.63,2,    5.52,2,    0.01,2,    0.44,2,-999.000,9,-999.000,9,-999.0000,9,  2088.7,2,  2326.5,2,   8.0078,2,    20.00,-999.000,9,-999.000,9,-999.000,9,-999.0000,9,-999.000,9, -999.00,9, -999.00,-999.000,9,-999.000,   50.01,2,    8.18,2, -31.1446,  30.4302,-999.000,-999.000,20090324,       1637
33RR20090320,        I05,       4,          1,         22,         22,2,20090324,       1530,   -31.1128,    30.4642,       1770,   164.6,  16.3301,  35.5086,2,  35.5102,2,    200.7,2,   200.5,2,    3.53,2,    6.06,2,    0.01,2,    0.48,2,-999.000,9,-999.000,9,-999.0000,9,  2095.2,2,  2327.4,2,   7.9946,2,    20.00,-999.000,9,-999.000,9,-999.000,9,-999.0000,9,   0.725,2,   59.17,2,     3.3,-999.000,9,-999.000,   49.35,2,    8.89,2, -31.1430,  30.4319,-999.000,-999.000,20090324,       1635
33RR20090320,        I05,       4,          1,         21,         21,2,20090324,       1530,   -31.1128,    30.4642,       1770,   189.5,  15.8107,  35.4765,2,  35.4768,2,    196.1,2,   197.0,2,    3.82,2,    7.08,2,    0.01,2,    0.55,2,-999.000,9,-999.000,9,-999.0000,9,  2102.8,2,  2326.5,2,   7.9767,2,    20.00,-999.000,9,-999.000,9,-999.000,9,-999.0000,9,-999.000,9, -999.00,9, -999.00,-999.000,9,-999.000,   48.40,2,    9.36,2, -31.1415,  30.4336,-999.000,-999.000,20090324,       1633
33RR20090320,        I05,       4,          1,         20,         20,2,20090324,       1530,   -31.1128,    30.4642,       1770,   219.2,  15.0526,  35.4281,2,  35.4289,2,    197.0,2,   198.6,2,    4.10,2,    8.01,2,    0.01,2,    0.60,2,-999.000,9,-999.000,9,-999.0000,9,  2110.2,2,  2323.2,2,   7.9602,2,    20.00,-999.000,9,-999.000,9,-999.000,9,-999.0000,9,-999.000,9, -999.00,9, -999.00,-999.000,9,-999.000,   47.48,2,   10.40,2, -31.1399,  30.4353,-999.000,-999.000,20090324,       1631
33RR20090320,        I05,       4,          1,         19,         19,2,20090324,       1530,   -31.1128,    30.4642,       1770,   242.0,  14.4652,  35.3786,2,  35.3852,2,    200.9,2,   201.1,2,    4.20,2,    8.66,2,    0.00,2,    0.64,2,-999.000,9,-999.000,9,-999.0000,9,  2115.5,2,  2322.1,2,   7.9492,2,    20.00,-999.000,9,-999.000,9,-999.000,9,-999.0000,9,   0.814,2,   56.99,2,     3.5,-999.000,9,-999.000,   46.78,2,   10.42,2, -31.1384,  30.4370,-999.000,-999.000,20090324,       1629
33RR20090320,        I05,       4,          1,         18,         18,2,20090324,       1530,   -31.1128,    30.4642,       1770,   291.1,  13.3380,  35.2473,2,  35.2494,2,    196.1,2,   196.2,2,    5.87,2,   11.48,2,    0.00,2,    0.83,2,-999.000,9,-999.000,9,-999.0000,9,  2126.8,2,  2316.4,2,   7.9129,2,    20.00,-999.000,9,-999.000,9,-999.000,9,-999.0000,9,-999.000,9, -999.00,9, -999.00,-999.000,9,-999.000,   45.62,2,   12.80,2, -31.1367,  30.4389,-999.000,-999.000,20090324,       1627
33RR20090320,        I05,       4,          1,         17,         17,2,20090324,       1530,   -31.1128,    30.4642,       1770,   338.2,  12.4158,  35.1494,2,  35.1477,2,    216.4,2,   216.4,2,    3.79,2,   11.33,2,    0.00,2,    0.81,2,-999.000,9,-999.000,9,-999.0000,9,  2121.2,2,  2312.7,2,   7.9160,2,    20.00,-999.000,9,-999.000,9,-999.000,9,-999.0000,9,   0.998,2,   65.64,2,     2.9,-999.000,9,-999.000,   45.42,2,   13.39,2, -31.1350,  30.4409,-999.000,-999.000,20090324,       1624
33RR20090320,        I05,       4,          1,         16,         16,2,20090324,       1530,   -31.1128,    30.4642,       1770,   385.4,  11.8648,  35.0702,2,  35.0704,2,    216.1,2,   217.1,2,    4.07,2,   12.44,2,    0.00,2,    0.88,2,-999.000,9,-999.000,9,-999.0000,9,  2125.7,2,  2309.6,2,   7.9030,2,    20.00,-999.000,9,-999.000,9,-999.000,9,-999.0000,9,-999.000,9, -999.00,9, -999.00,-999.000,9,-999.000,   44.67,2,   13.97,2, -31.1334,  30.4427,-999.000,-999.000,20090324,       1622
33RR20090320,        I05,       4,          1,         15,         15,2,20090324,       1530,   -31.1128,    30.4642,       1770,   436.0,  10.6175,  34.9156,2,  34.9182,2,    197.4,2,   194.6,2,   10.11,2,   17.15,2,    0.00,2,    1.19,2,-999.000,9,-999.000,9,-999.0000,9,  2146.4,2,  2304.3,2,   7.8438,2,    20.00,-999.000,9,-999.000,9,-999.000,9,-999.0000,9,   0.984,2,   31.56,2,       3,-999.000,9,-999.000,   43.87,2,   19.02,2, -31.1318,  30.4445,-999.000,-999.000,20090324,       1620
33RR20090320,        I05,       4,          1,         14,         14,2,20090324,       1530,   -31.1128,    30.4642,       1770,   497.9,   9.6530,  34.8139,2,  34.8142,2,    188.8,2,   189.3,2,   13.98,2,   19.74,2,    0.01,2,    1.39,2,-999.000,9,-999.000,9,-999.0000,9,  2158.4,2,  2304.0,2,   7.8122,2,    20.00,-999.000,9,-999.000,9,-999.000,9,-999.0000,9,-999.000,9, -999.00,9, -999.00,-999.000,9,-999.000,   42.87,2,   21.56,2, -31.1300,  30.4465,-999.000,-999.000,20090324,       1617
33RR20090320,        I05,       4,          1,         13,         13,2,20090324,       1530,   -31.1128,    30.4642,       1770,   596.0,   7.2400,  34.5683,2,  34.5680,2,    187.3,2,   186.7,2,   22.45,2,   25.10,2,    0.00,2,    1.76,2,-999.000,9,-999.000,9,-999.0000,9,  2178.9,2,  2298.2,2,   7.7484,2,    20.00,-999.000,9,-999.000,9,-999.000,9,-999.0000,9,   0.984,2,  -33.87,2,     2.6,-999.000,9,-999.000,   42.24,2,   26.76,2, -31.1283,  30.4484,-999.000,-999.000,20090324,       1614
33RR20090320,        I05,       4,          1,         12,         12,2,20090324,       1530,   -31.1128,    30.4642,       1770,   702.5,   6.5005,  34.6061,2,  34.6051,2,    161.1,2,   161.5,2,   37.35,2,   28.40,2,    0.00,2,    2.04,2,-999.000,9,-999.000,9,-999.0000,9,  2208.6,2,  2312.2,2,   7.6990,2,    20.00,-999.000,9,-999.000,9,-999.000,9,-999.0000,9,    0.78,2,  -75.56,2,       5,-999.000,9,-999.000,   42.06,2,   30.32,2, -31.1266,  30.4502,-999.000,-999.000,20090324,       1610
33RR20090320,        I05,       4,          1,         11,         11,2,20090324,       1530,   -31.1128,    30.4642,       1770,   777.4,   5.2330,  34.5833,2,  34.5847,2,    150.5,2,   150.3,2,   52.35,2,   31.51,2,    0.00,2,    2.28,2,-999.000,9,-999.000,9,-999.0000,9,  2233.8,2,  2322.5,2,   7.6577,2,    20.00,-999.000,9,-999.000,9,-999.000,9,-999.0000,9,   0.653,2, -108.38,2,     2.6,-999.000,9,-999.000,   42.06,2,   33.22,2, -31.1251,  30.4516,-999.000,-999.000,20090324,       1606
33RR20090320,        I05,       4,          1,         10,         10,2,20090324,       1530,   -31.1128,    30.4642,       1770,   893.4,   4.5500,  34.6007,2,  34.6004,2,    140.7,2,   146.7,2,   61.96,2,   32.76,2,    0.00,2,    2.37,2,-999.000,9,-999.000,9,-999.0000,9,  2246.4,6,  2333.5,2,   7.6416,2,    20.00,-999.000,9,-999.000,9,-999.000,9,-999.0000,9,   0.607,2, -122.82,2,     2.5,-999.000,9,-999.000,   41.21,2,   34.22,2, -31.1233,  30.4535,-999.000,-999.000,20090324,       1602
33RR20090320,        I05,       4,          1,          9,          9,2,20090324,       1530,   -31.1128,    30.4642,       1770,   979.3,   3.9482,  34.5804,2,  34.5829,2,    155.7,2,   155.5,2,   63.89,2,   32.81,2,    0.00,2,    2.37,2,-999.000,9,-999.000,9,-999.0000,9,  2248.5,2,  2332.5,2,   7.6429,2,    20.00,-999.000,9,-999.000,9,-999.000,9,-999.0000,9,   0.611,2, -128.32,2,     2.5,-999.000,9,-999.000,   40.54,2,   34.72,2, -31.1217,  30.4552,-999.000,-999.000,20090324,       1558
33RR20090320,        I05,       4,          1,          8,          8,2,20090324,       1530,   -31.1128,    30.4642,       1770,  1087.2,   3.7126,  34.5927,2,  34.5922,2,    157.7,2,   158.2,2,   66.24,2,   32.79,2,    0.00,2,    2.37,2,-999.000,9,-999.000,9,-999.0000,9,  2249.3,2,  2335.8,2,   7.6434,2,    20.00,-999.000,9,-999.000,9,-999.000,9,-999.0000,9,   0.582,2, -132.59,2,     2.9,-999.000,9,-999.000,   39.75,2,   33.99,2, -31.1202,  30.4567,-999.000,-999.000,20090324,       1553
33RR20090320,        I05,       4,          1,          7,          7,2,20090324,       1530,   -31.1128,    30.4642,       1770,  1184.1,   3.5714,  34.6071,2,  34.6079,2,    157.5,2,   158.4,2,   68.59,2,   32.84,2,    0.00,2,    2.37,2,-999.000,9,-999.000,9,-999.0000,9,  2252.7,2,  2337.1,2,   7.6429,2,    20.00,-999.000,9,-999.000,9,-999.000,9,-999.0000,9,   0.602,2, -138.47,2,     2.8,-999.000,9,-999.000,   38.95,2,   34.19,2, -31.1188,  30.4581,-999.000,-999.000,20090324,       1549
33RR20090320,        I05,       4,          1,          6,          6,2,20090324,       1530,   -31.1128,    30.4642,       1770,  1270.2,   3.3564,  34.6427,2,  34.6431,2,    158.4,2,   159.1,2,   72.77,2,   32.54,2,    0.00,2,    2.36,2,-999.000,9,-999.000,9,-999.0000,9,  2256.1,2,  2342.6,2,   7.6453,2,    20.00,-999.000,9,-999.000,9,-999.000,9,-999.0000,9,   0.546,2,  -144.9,2,     2.4,-999.000,9,-999.000,   39.24,2,   34.30,2, -31.1177,  30.4592,-999.000,-999.000,20090324,       1545
33RR20090320,        I05,       4,          1,          5,          5,2,20090324,       1530,   -31.1128,    30.4642,       1770,  1355.6,   3.1784,  34.6618,2,  34.6615,2,    162.8,2,   162.6,2,   74.11,2,   32.21,2,    0.00,2,    2.33,2,-999.000,9,-999.000,9,-999.0000,9,  2255.4,2,  2343.3,2,   7.6511,2,    20.00,-999.000,9,-999.000,9,-999.000,9,-999.0000,9,   0.533,2, -143.57,2,     2.5,-999.000,9,-999.000,   38.51,2,   33.78,2, -31.1167,  30.4603,-999.000,-999.000,20090324,       1542
33RR20090320,        I05,       4,          1,          4,          4,2,20090324,       1530,   -31.1128,    30.4642,       1770,  1449.5,   3.0242,  34.6797,2,  34.6812,2,    167.7,2,   167.8,2,   74.24,2,   31.72,2,    0.00,2,    2.27,2,-999.000,9,-999.000,9,-999.0000,9,  2254.1,2,  2345.3,2,   7.6582,2,    20.00,-999.000,9,-999.000,9,-999.000,9,-999.0000,9,   0.496,2, -147.38,2,       3,-999.000,9,-999.000,   38.58,2,   33.14,2, -31.1157,  30.4613,-999.000,-999.000,20090324,       1539
33RR20090320,        I05,       4,          1,          3,          3,2,20090324,       1530,   -31.1128,    30.4642,       1770,  1546.1,   2.9052,  34.7023,2,  34.7030,2,    173.5,2,   173.1,2,   74.77,2,   31.08,2,    0.00,2,    2.22,2,-999.000,9,-999.000,9,-999.0000,9,  2249.7,2,  2344.6,2,   7.6683,2,    20.00,-999.000,9,-999.000,9,-999.000,9,-999.0000,9,-999.000,9, -999.00,9, -999.00,-999.000,9,-999.000,   38.70,2,   32.66,2, -31.1147,  30.4622,-999.000,-999.000,20090324,       1536
33RR20090320,        I05,       4,          1,          2,          2,2,20090324,       1530,   -31.1128,    30.4642,       1770,  1649.7,   2.8536,  34.7153,2,  34.7156,2,    176.1,2,   176.2,2,   73.46,2,   30.63,2,    0.00,2,    2.19,2,-999.000,9,-999.000,9,-999.0000,9,  2248.0,2,  2345.9,2,   7.6741,2,    20.00,-999.000,9,-999.000,9,-999.000,9,-999.0000,9,-999.000,9, -999.00,9, -999.00,-999.000,9,-999.000,   38.91,2,   32.24,2, -31.1138,  30.4632,-999.000,-999.000,20090324,       1533
33RR20090320,        I05,       4,          1,          1,          1,2,20090324,       1530,   -31.1128,    30.4642,       1770,  1764.8,   2.7702,  34.7338,2,  34.7345,2,    181.5,2,   181.7,2,   72.15,2,   30.00,2,    0.00,2,    2.13,2,-999.000,9,-999.000,9,-999.0000,9,  2244.6,6,  2344.4,2,   7.6836,2,    20.00,-999.000,9,-999.000,9,-999.000,9,-999.0000,9,-999.000,9, -999.00,9, -999.00,-999.000,9,-999.000,   39.11,2,   31.59,2, -31.1130,  30.4641,-999.000,-999.000,20090324,       1530