BOTTLE,20220814CCHSIOAMB
EXPOCODE,SECT_ID,STNNBR,CASTNO,SAMPNO,BTLNBR,BTLNBR_FLAG_W,DATE,TIME,LATITUDE,LONGITUDE,DEPTH,CTDPRS,CTDTMP,CTDSAL,CTDSAL_FLAG_W,SALNTY,SALNTY_FLAG_W,CTDOXY,CTDOXY_FLAG_W,OXYGEN,OXYGEN_FLAG_W,SILCAT,SILCAT_FLAG_W,NITRAT,NITRAT_FLAG_W,NITRIT,NITRIT_FLAG_W,PHSPHT,PHSPHT_FLAG_W,CFC-11,CFC-11_FLAG_W,CFC-12,CFC-12_FLAG_W,SF6,SF6_FLAG_W,TCARBN,TCARBN_FLAG_W,ALKALI,ALKALI_FLAG_W,PH_TOT,PH_TOT_FLAG_W,PH_TMP,TRITUM,TRITUM_FLAG_W,HELIUM,HELIUM_FLAG_W,DELHE3,DELHE3_FLAG_W,REFTMP,REFTMP_FLAG_W,DELC13,DELC13_FLAG_W,DELC14,DELC14_FLAG_W,C14ERR,NEON,NEON_FLAG_W,NEONER,DOC,DOC_FLAG_W,TDN,TDN_FLAG_W,BTL_LAT,BTL_LON,HELIER,DELHER,BTL_DATE,BTL_TIME
,,,,,,,,,,,METERS,DBAR,ITS-90,PSS-78,,PSS-78,,UMOL/KG,,UMOL/KG,,UMOL/KG,,UMOL/KG,,UMOL/KG,,UMOL/KG,,PMOL/KG,,PMOL/KG,,FMOL/KG,,UMOL/KG,,UMOL/KG,,,,DEG C,TU,,NMOL/KG,,PERCNT,,DEG C,,/MILLE,,/MILLE,,/MILLE,NMOL/KG,,NMOL/KG,UMOL/KG,,UMOL/KG,,,,NMOL/KG,PERCNT,,
33RR20090320,        I05,     187,          1,         36,         36,2,20090510,       2118,   -32.2636,   112.8666,       4778,     9.7,  19.9924,  35.9133,2,  35.9133,2,    227.4,2,   228.0,2,    1.55,2,    0.06,2,    0.00,2,    0.08,2,   2.140,6,   1.290,6,   1.1780,6,  2061.2,6,  2354.7,2,   8.1078,2,    20.00,   0.555,2,-999.000,9,-999.000,9,  19.9907,2,-999.000,9, -999.00,9, -999.00,-999.000,9,-999.000,   68.37,2, -999.00,9, -32.2629, 112.8665,-999.000,-999.000,20090510,       2323
33RR20090320,        I05,     187,          1,         35,         35,2,20090510,       2118,   -32.2636,   112.8666,       4778,    41.4,  19.9457,  35.9085,2,  35.9068,2,    228.4,2,   227.6,2,    1.37,2,    0.11,2,    0.00,2,    0.08,2,   2.153,2,   1.296,2,   1.1470,2,  2062.5,2,  2355.5,2,   8.1067,2,    20.00,   0.540,2,-999.000,9,-999.000,9,  19.9505,2,-999.000,9, -999.00,9, -999.00,-999.000,9,-999.000,   67.58,2, -999.00,9, -32.2629, 112.8665,-999.000,-999.000,20090510,       2321
33RR20090320,        I05,     187,          1,         34,         34,2,20090510,       2118,   -32.2636,   112.8666,       4778,    65.7,  18.6487,  35.8100,2,  35.8173,2,    233.6,2,   235.7,2,    1.00,2,    0.05,2,    0.00,2,    0.11,2,   2.337,2,   1.397,2,   1.1640,2,  2070.3,2,  2350.8,2,   8.0865,2,    20.00,   0.511,2,-999.000,9,-999.000,9,  18.6753,2,-999.000,9, -999.00,9, -999.00,-999.000,9,-999.000,   62.82,2, -999.00,9, -32.2628, 112.8665,-999.000,-999.000,20090510,       2320
33RR20090320,        I05,     187,          1,         33,         33,2,20090510,       2118,   -32.2636,   112.8666,       4778,    92.6,  16.4602,  35.6733,2,  35.6853,2,    238.4,2,   235.2,2,    1.01,2,    0.48,2,    0.08,2,    0.19,2,   2.548,2,   1.517,2,   1.2380,2,  2083.9,2,  2344.9,2,   8.0511,2,    20.00,   0.491,2,-999.000,9,-999.000,9,  16.4817,2,-999.000,9, -999.00,9, -999.00,-999.000,9,-999.000,   59.65,2,    4.00,2, -32.2628, 112.8665,-999.000,-999.000,20090510,       2318
33RR20090320,        I05,     187,          1,         32,         32,2,20090510,       2118,   -32.2636,   112.8666,       4778,   120.3,  15.1649,  35.5325,2,  35.5330,2,    233.4,2,   232.3,2,    0.83,2,    2.67,2,    0.01,2,    0.31,2,   2.725,2,   1.602,2,   1.3250,2,  2094.3,2,  2335.4,2,   8.0157,2,    20.00,   0.448,2,-999.000,9,-999.000,9,  15.1249,2,-999.000,9, -999.00,9, -999.00,-999.000,9,-999.000,   57.28,2,    4.64,2, -32.2629, 112.8665,-999.000,-999.000,20090510,       2316
33RR20090320,        I05,     187,          1,         31,         31,2,20090510,       2118,   -32.2636,   112.8666,       4778,   171.5,  13.5303,  35.3189,2,  35.3338,2,    233.7,2,   234.3,2,    1.21,2,    5.31,2,    0.01,2,    0.47,2,   2.936,2,   1.702,2,   1.4290,2,  2105.3,2,  2325.7,2,   7.9763,2,    20.00,   0.390,2,-999.000,9,-999.000,9,  13.5348,2,-999.000,9, -999.00,9, -999.00,-999.000,9,-999.000,   54.10,2,    6.40,2, -32.2631, 112.8664,-999.000,-999.000,20090510,       2314
33RR20090320,        I05,     187,          1,         30,         30,2,20090510,       2118,   -32.2636,   112.8666,       4778,   221.6,  12.2984,  35.1190,2,  35.1165,2,    242.2,2,   242.9,2,    1.41,2,    7.66,2,    0.01,2,    0.61,2,   3.164,2,   1.813,2,   1.3750,2,  2110.1,2,  2313.2,2,   7.9447,2,    20.00,   0.358,2,-999.000,9,-999.000,9,  12.3067,2,-999.000,9, -999.00,9, -999.00,-999.000,9,-999.000,   50.93,2,    8.28,2, -32.2630, 112.8664,-999.000,-999.000,20090510,       2312
33RR20090320,        I05,     187,          1,         29,         29,2,20090510,       2118,   -32.2636,   112.8666,       4778,   272.8,  11.2758,  34.9513,2,  34.9614,2,    245.4,2,   246.2,2,    1.79,2,    9.73,2,    0.01,2,    0.74,2,   3.336,2,   1.892,2,   1.4150,2,  2114.3,2,  2306.4,2,   7.9213,2,    20.00,   0.318,2,-999.000,9,-999.000,9,  11.3110,2,-999.000,9, -999.00,9, -999.00,-999.000,9,-999.000,   49.35,2,    9.79,2, -32.2630, 112.8664,-999.000,-999.000,20090510,       2310
33RR20090320,        I05,     187,          1,         28,         28,2,20090510,       2118,   -32.2636,   112.8666,       4778,   321.2,  10.4929,  34.8281,2,  34.8275,2,    244.8,2,   245.4,2,    2.35,2,   12.02,2,    0.00,2,    0.88,2,   3.487,2,   1.954,2,   1.4770,2,  2120.8,2,  2299.1,2,   7.8956,2,    20.00,   0.305,2,-999.000,9,-999.000,9,  10.4923,2,-999.000,9, -999.00,9, -999.00,-999.000,9,-999.000,   48.25,2,   11.97,2, -32.2630, 112.8664,-999.000,-999.000,20090510,       2308
33RR20090320,        I05,     187,          1,         27,         27,2,20090510,       2118,   -32.2636,   112.8666,       4778,   372.0,   9.9188,  34.7508,2,  34.7506,2,    242.0,2,   243.7,2,    3.29,2,   14.20,2,    0.00,2,    1.01,2,   3.608,2,   1.991,2,   1.3130,2,  2125.8,2,  2295.4,2,   7.8742,2,    20.00,   0.277,2,-999.000,9,-999.000,9,   9.9181,2,-999.000,9, -999.00,9, -999.00,-999.000,9,-999.000,   46.97,2,   14.83,2, -32.2631, 112.8664,-999.000,-999.000,20090510,       2306
33RR20090320,        I05,     187,          1,         26,         26,2,20090510,       2118,   -32.2636,   112.8666,       4778,   441.4,   9.4978,  34.7065,2,  34.7081,2,    240.2,2,   240.7,2,    3.86,2,   15.71,2,    0.00,2,    1.10,2,   3.680,2,   2.001,2,   1.1430,2,  2130.6,2,  2292.4,2,   7.8577,2,    20.00,-999.000,9,-999.000,9,-999.000,9,   9.4968,2,-999.000,9, -999.00,9, -999.00,-999.000,9,-999.000,   46.00,2,   16.87,2, -32.2631, 112.8665,-999.000,-999.000,20090510,       2304
33RR20090320,        I05,     187,          1,         25,         25,2,20090510,       2118,   -32.2636,   112.8666,       4778,   541.7,   8.8854,  34.6260,2,  34.6274,2,    239.8,2,   239.0,2,    5.16,2,   17.67,2,    0.00,2,    1.23,2,   3.662,2,   1.949,2,   1.1220,2,  2135.4,2,  2290.0,2,   7.8419,2,    20.00,   0.212,2,-999.000,9,-999.000,9,   8.8860,2,-999.000,9, -999.00,9, -999.00,-999.000,9,-999.000,   45.07,2,   18.42,2, -32.2631, 112.8665,-999.000,-999.000,20090510,       2301
33RR20090320,        I05,     187,          1,         24,         24,2,20090510,       2118,   -32.2636,   112.8666,       4778,   640.2,   7.8130,  34.5161,2,  34.5174,2,    215.6,2,   214.4,2,   10.56,2,   22.55,2,    0.00,2,    1.54,2,   2.925,2,   1.492,2,   0.5850,2,  2155.8,2,  2289.8,2,   7.7869,2,    20.00,   0.154,2,-999.000,9,-999.000,9,   7.8116,2,-999.000,9, -999.00,9, -999.00,-999.000,9,-999.000,   44.08,2,   21.91,2, -32.2631, 112.8666,-999.000,-999.000,20090510,       2258
33RR20090320,        I05,     187,          1,         23,         23,2,20090510,       2118,   -32.2636,   112.8666,       4778,   742.2,   6.2224,  34.4279,2,  34.4296,2,    196.1,2,   195.6,2,   21.52,2,   27.67,2,    0.00,2,    1.89,2,   1.870,6,   0.927,6,   0.3180,6,  2182.0,2,  2292.6,2,   7.7260,2,    20.00,   0.077,2,-999.000,9,-999.000,9,   6.2258,2,-999.000,9, -999.00,9, -999.00,-999.000,9,-999.000,   43.17,2,   27.41,2, -32.2632, 112.8667,-999.000,-999.000,20090510,       2255
33RR20090320,        I05,     187,          1,         22,         22,2,20090510,       2118,   -32.2636,   112.8666,       4778,   840.7,   4.8001,  34.3800,2,  34.3804,2,    193.6,2,   194.2,2,   33.00,2,   30.76,2,    0.00,2,    2.13,2,   1.462,2,   0.702,2,   0.1220,2,  2201.0,2,  2299.1,2,   7.6922,2,    20.00,   0.001,2,-999.000,9,-999.000,9,   4.8002,2,-999.000,9, -999.00,9, -999.00,-999.000,9,-999.000,   42.29,2,   31.24,2, -32.2632, 112.8669,-999.000,-999.000,20090510,       2253
33RR20090320,        I05,     187,          1,         21,         21,2,20090510,       2118,   -32.2636,   112.8666,       4778,   943.1,   4.0814,  34.4075,2,  34.4076,2,    181.9,2,   182.9,2,   45.78,2,   32.62,2,    0.00,2,    2.27,2,   0.983,2,   0.463,2,   0.1410,2,  2218.9,2,  2314.2,2,   7.6669,2,    20.00,   0.054,2,-999.000,9,-999.000,9,   4.0841,2,-999.000,9, -999.00,9, -999.00,-999.000,9,-999.000,   41.42,2,   33.79,2, -32.2632, 112.8671,-999.000,-999.000,20090510,       2250
33RR20090320,        I05,     187,          1,         20,         20,2,20090510,       2118,   -32.2636,   112.8666,       4778,  1041.8,   3.7754,  34.4413,2,  34.4412,2,    173.8,2,   172.7,2,   54.86,2,   33.68,2,    0.00,2,    2.37,2,   0.663,2,   0.313,2,   0.0630,2,  2233.4,2,  2323.2,2,   7.6511,2,    20.00,   0.008,2,-999.000,9,-999.000,9,   3.7750,2,-999.000,9, -999.00,9, -999.00,-999.000,9,-999.000,   40.63,2,   35.06,2, -32.2631, 112.8671,-999.000,-999.000,20090510,       2247
33RR20090320,        I05,     187,          1,         19,         19,2,20090510,       2118,   -32.2636,   112.8666,       4778,  1143.3,   3.5511,  34.4778,2,  34.4775,2,    165.5,2,   164.2,2,   62.27,2,   34.41,2,    0.00,2,    2.43,2,   0.424,2,   0.198,2,   0.0000,2,  2245.4,2,  2329.6,2,   7.6391,2,    20.00,   0.001,2,-999.000,9,-999.000,9,   3.5538,2,-999.000,9, -999.00,9, -999.00,-999.000,9,-999.000,   40.09,2,   36.04,2, -32.2630, 112.8672,-999.000,-999.000,20090510,       2244
33RR20090320,        I05,     187,          1,         18,         18,2,20090510,       2118,   -32.2636,   112.8666,       4778,  1243.3,   3.3319,  34.5107,2,  34.5109,2,    160.5,2,   159.6,2,   68.21,2,   34.73,2,    0.00,2,    2.46,2,   0.264,2,   0.128,2,   0.0000,2,  2254.3,2,  2338.7,2,   7.6328,2,    20.00,   0.019,2,-999.000,9,-999.000,9,   3.3330,2,-999.000,9, -999.00,9, -999.00,-999.000,9,-999.000,   39.69,2,   36.53,2, -32.2630, 112.8671,-999.000,-999.000,20090510,       2241
33RR20090320,        I05,     187,          1,         17,         17,2,20090510,       2118,   -32.2636,   112.8666,       4778,  1341.7,   3.1868,  34.5593,2,  34.5588,2,    151.6,2,   152.8,2,   76.20,2,   35.01,2,    0.00,2,    2.49,2,   0.122,2,   0.060,2,   0.0000,2,  2264.0,6,  2345.4,2,   7.6267,2,    20.00,   0.068,2,-999.000,9,-999.000,9,   3.1877,2,-999.000,9, -999.00,9, -999.00,-999.000,9,-999.000,   39.46,2,   35.69,2, -32.2630, 112.8670,-999.000,-999.000,20090510,       2238
33RR20090320,        I05,     187,          1,         16,         16,2,20090510,       2118,   -32.2636,   112.8666,       4778,  1444.6,   2.9960,  34.5951,2,  34.5942,2,    152.7,2,   153.0,2,   80.85,2,   34.88,2,    0.00,2,    2.48,2,   0.072,2,   0.035,2,   0.0000,2,  2267.4,2,  2351.3,2,   7.6287,2,    20.00,   0.001,2,-999.000,9,-999.000,9,   2.9964,2,-999.000,9, -999.00,9, -999.00,-999.000,9,-999.000,   39.83,2,   36.13,2, -32.2631, 112.8668,-999.000,-999.000,20090510,       2235
33RR20090320,        I05,     187,          1,         15,         15,2,20090510,       2118,   -32.2636,   112.8666,       4778,  1543.0,   2.8229,  34.6318,2,  34.6317,2,    154.0,2,   154.5,2,   85.88,2,   34.64,2,    0.00,2,    2.46,2,   0.034,2,   0.016,2,   0.0000,2,  2269.5,2,  2356.1,2,   7.6338,2,    20.00,   0.052,2,-999.000,9,-999.000,9,   2.8224,2,-999.000,9, -999.00,9, -999.00,-999.000,9,-999.000,   39.81,2,   35.66,2, -32.2632, 112.8666,-999.000,-999.000,20090510,       2232
33RR20090320,        I05,     187,          1,         14,         14,2,20090510,       2118,   -32.2636,   112.8666,       4778,  1675.3,   2.7018,  34.6578,2,  34.6580,2,    155.6,2,   156.1,2,   90.19,2,   34.34,2,    0.00,2,    2.45,2,   0.020,2,   0.010,2,   0.0000,2,  2273.2,2,  2361.2,2,   7.6389,2,    20.00,   0.001,2,-999.000,9,-999.000,9,   2.7013,2,-999.000,9, -999.00,9, -999.00,-999.000,9,-999.000,   39.62,2,   34.70,2, -32.2633, 112.8663,-999.000,-999.000,20090510,       2229
33RR20090320,        I05,     187,          1,         13,         13,2,20090510,       2118,   -32.2636,   112.8666,       4778,  1874.6,   2.4805,  34.6966,2,  34.6964,2,    158.6,2,   158.1,2,   98.80,2,   34.05,2,    0.00,2,    2.42,2,   0.008,6,   0.004,6,   0.0000,6,  2280.3,2,  2370.2,2,   7.6473,2,    20.00,   0.123,2,-999.000,9,-999.000,9,   2.4791,2,-999.000,9, -999.00,9, -999.00,-999.000,9,-999.000,   39.30,2,   35.16,2, -32.2633, 112.8663,-999.000,-999.000,20090510,       2225
33RR20090320,        I05,     187,          1,         12,         12,2,20090510,       2118,   -32.2636,   112.8666,       4778,  2094.9,   2.2515,  34.7173,2,  34.7178,2,    163.5,2,   163.9,2,  103.88,2,   33.58,2,    0.00,2,    2.38,2,   0.004,2,   0.004,2,   0.0000,2,  2281.1,2,  2376.4,2,   7.6578,2,    20.00,-999.000,9,-999.000,9,-999.000,9,   2.2511,2,-999.000,9, -999.00,9, -999.00,-999.000,9,-999.000,   39.54,2,   35.11,2, -32.2632, 112.8664,-999.000,-999.000,20090510,       2220
33RR20090320,        I05,     187,          1,         11,         11,2,20090510,       2118,   -32.2636,   112.8666,       4778,  2348.2,   2.0392,  34.7258,2,  34.7258,2,    167.6,2,   168.0,2,  109.73,2,   33.45,2,    0.00,2,    2.36,2,   0.007,2,   0.007,2,   0.0000,2,  2283.2,2,  2378.5,2,   7.6645,2,    20.00,   0.043,2,-999.000,9,-999.000,9,   2.0391,2,-999.000,9, -999.00,9, -999.00,-999.000,9,-999.000,   39.25,2,   34.44,2, -32.2632, 112.8663,-999.000,-999.000,20090510,       2214
33RR20090320,        I05,     187,          1,         10,         10,2,20090510,       2118,   -32.2636,   112.8666,       4778,  2550.0,   1.9188,  34.7280,2,  34.7274,2,    171.2,2,   172.1,2,  111.79,2,   33.27,2,    0.00,2,    2.35,2,   0.009,2,   0.006,2,   0.0000,2,  2283.7,2,  2382.2,2,   7.6691,2,    20.00,-999.000,9,-999.000,9,-999.000,9,   1.9179,2,-999.000,9, -999.00,9, -999.00,-999.000,9,-999.000,   39.29,2,   34.26,2, -32.2633, 112.8664,-999.000,-999.000,20090510,       2209
33RR20090320,        I05,     187,          1,          9,          9,2,20090510,       2118,   -32.2636,   112.8666,       4778,  2852.9,   1.7420,  34.7291,2,  34.7282,2,    177.8,2,   177.9,2,  114.07,2,   33.03,2,    0.00,2,    2.33,2,   0.008,2,   0.005,2,   0.0000,2,  2282.3,2,  2381.7,2,   7.6754,2,    20.00,   0.069,2,-999.000,9,-999.000,9,   1.7428,2,-999.000,9, -999.00,9, -999.00,-999.000,9,-999.000,   39.51,2,   34.69,2, -32.2633, 112.8665,-999.000,-999.000,20090510,       2203
33RR20090320,        I05,     187,          1,          8,          8,2,20090510,       2118,   -32.2636,   112.8666,       4778,  3122.8,   1.5851,  34.7276,2,  34.7262,2,    181.9,2,   182.4,2,  116.90,2,   32.90,2,    0.00,2,    2.31,2,   0.009,2,   0.005,2,   0.0000,2,  2282.2,2,  2382.8,2,   7.6802,2,    20.00,-999.000,9,-999.000,9,-999.000,9,   1.5853,2,-999.000,9, -999.00,9, -999.00,-999.000,9,-999.000,   39.87,2,   33.92,2, -32.2633, 112.8669,-999.000,-999.000,20090510,       2157
33RR20090320,        I05,     187,          1,          7,          7,2,20090510,       2118,   -32.2636,   112.8666,       4778,  3429.0,   1.4276,  34.7239,2,  34.7237,2,    187.0,2,   187.1,2,  119.74,2,   32.78,2,    0.00,2,    2.31,2,   0.008,2,   0.005,2,   0.0000,2,  2281.0,2,  2384.5,2,   7.6845,2,    20.00,   0.072,2,-999.000,9,-999.000,9,   1.4271,2,-999.000,9, -999.00,9, -999.00,-999.000,9,-999.000,   39.47,2,   34.31,2, -32.2633, 112.8670,-999.000,-999.000,20090510,       2151
33RR20090320,        I05,     187,          1,          6,          6,2,20090510,       2118,   -32.2636,   112.8666,       4778,  3732.0,   1.3015,  34.7196,2,  34.7189,2,    190.1,2,   190.6,2,  123.17,2,   32.88,2,    0.00,2,    2.31,2,   0.003,2,   0.002,2,   0.0000,2,  2281.6,2,  2387.0,2,   7.6882,2,    20.00,-999.000,9,-999.000,9,-999.000,9,   1.3010,2,-999.000,9, -999.00,9, -999.00,-999.000,9,-999.000,   40.04,2,   33.66,2, -32.2633, 112.8669,-999.000,-999.000,20090510,       2145
33RR20090320,        I05,     187,          1,          5,          5,2,20090510,       2118,   -32.2636,   112.8666,       4778,  4037.0,   1.2354,  34.7171,2,  34.7166,2,    192.7,2,   192.9,2,  124.88,2,   32.81,2,    0.00,2,    2.29,2,   0.005,2,   0.003,2,   0.0000,2,  2281.1,2,  2390.3,2,   7.6911,2,    20.00,   0.012,2,-999.000,9,-999.000,9,   1.2349,2,-999.000,9, -999.00,9, -999.00,-999.000,9,-999.000,   39.80,2,   34.18,2, -32.2633, 112.8668,-999.000,-999.000,20090510,       2138
33RR20090320,        I05,     187,          1,          4,          4,2,20090510,       2118,   -32.2636,   112.8666,       4778,  4340.1,   1.1997,  34.7154,2,  34.7158,2,    195.5,2,   195.4,2,  125.05,2,   32.74,2,    0.00,2,    2.29,2,   0.004,2,   0.004,2,   0.0000,2,  2279.3,2,  2388.5,2,   7.6926,2,    20.00,-999.000,9,-999.000,9,-999.000,9,   1.2000,2,-999.000,9, -999.00,9, -999.00,-999.000,9,-999.000,   39.39,2,   34.56,2, -32.2634, 112.8668,-999.000,-999.000,20090510,       2131
33RR20090320,        I05,     187,          1,          3,          3,2,20090510,       2118,   -32.2636,   112.8666,       4778,  4647.1,   1.1429,  34.7128,2,  34.7125,2,    200.2,2,   199.4,2,  124.67,2,   32.56,2,    0.00,2,    2.28,2,   0.014,6,   0.008,6,   0.0000,6,  2275.8,2,  2384.7,2,   7.6938,2,    20.00,   0.059,2,-999.000,9,-999.000,9,   1.1429,2,-999.000,9, -999.00,9, -999.00,-999.000,9,-999.000,   39.50,2,   34.02,2, -32.2636, 112.8668,-999.000,-999.000,20090510,       2124
33RR20090320,        I05,     187,          1,          2,          2,2,20090510,       2118,   -32.2636,   112.8666,       4778,  4750.9,   1.1212,  34.7117,2,  34.7111,2,    201.7,2,   200.7,2,  124.46,2,   32.49,2,    0.00,2,    2.28,2,   0.015,2,   0.009,2,   0.0000,2,  2274.5,2,  2384.8,2,   7.6932,2,    20.00,-999.000,9,-999.000,9,-999.000,9,   1.1209,2,-999.000,9, -999.00,9, -999.00,-999.000,9,-999.000,   39.47,2,   33.37,2, -32.2636, 112.8667,-999.000,-999.000,20090510,       2121
33RR20090320,        I05,     187,          1,          1,          1,2,20090510,       2118,   -32.2636,   112.8666,       4778,  4848.8,   1.0809,  34.7101,2,  34.7097,2,    204.0,2,   206.0,2,  123.87,2,   32.36,2,    0.00,2,    2.27,2,-999.000,5,-999.000,5,-999.0000,5,  2274.3,6,  2380.7,2,   7.6960,2,    20.00,   0.028,2,-999.000,9,-999.000,9,   1.0806,2,-999.000,9, -999.00,9, -999.00,-999.000,9,-999.000,   39.34,2,   33.78,2, -32.2636, 112.8667,-999.000,-999.000,20090510,       2118