BOTTLE,20220814CCHSIOAMB
EXPOCODE,SECT_ID,STNNBR,CASTNO,SAMPNO,BTLNBR,BTLNBR_FLAG_W,DATE,TIME,LATITUDE,LONGITUDE,DEPTH,CTDPRS,CTDTMP,CTDSAL,CTDSAL_FLAG_W,SALNTY,SALNTY_FLAG_W,CTDOXY,CTDOXY_FLAG_W,OXYGEN,OXYGEN_FLAG_W,SILCAT,SILCAT_FLAG_W,NITRAT,NITRAT_FLAG_W,NITRIT,NITRIT_FLAG_W,PHSPHT,PHSPHT_FLAG_W,CFC-11,CFC-11_FLAG_W,CFC-12,CFC-12_FLAG_W,SF6,SF6_FLAG_W,TCARBN,TCARBN_FLAG_W,ALKALI,ALKALI_FLAG_W,PH_TOT,PH_TOT_FLAG_W,PH_TMP,TRITUM,TRITUM_FLAG_W,HELIUM,HELIUM_FLAG_W,DELHE3,DELHE3_FLAG_W,REFTMP,REFTMP_FLAG_W,DELC13,DELC13_FLAG_W,DELC14,DELC14_FLAG_W,C14ERR,NEON,NEON_FLAG_W,NEONER,DOC,DOC_FLAG_W,TDN,TDN_FLAG_W,BTL_LAT,BTL_LON,HELIER,DELHER,BTL_DATE,BTL_TIME
,,,,,,,,,,,METERS,DBAR,ITS-90,PSS-78,,PSS-78,,UMOL/KG,,UMOL/KG,,UMOL/KG,,UMOL/KG,,UMOL/KG,,UMOL/KG,,PMOL/KG,,PMOL/KG,,FMOL/KG,,UMOL/KG,,UMOL/KG,,,,DEG C,TU,,NMOL/KG,,PERCNT,,DEG C,,/MILLE,,/MILLE,,/MILLE,NMOL/KG,,NMOL/KG,UMOL/KG,,UMOL/KG,,,,NMOL/KG,PERCNT,,
33RR20090320,        I05,      62,          2,         36,         36,2,20090407,       1352,   -33.9984,    55.2942,       1659,     3.6,  20.4372,  35.5030,2,  35.5027,2,    228.0,2,   228.7,2,    1.46,2,    0.10,2,    0.00,2,    0.15,2,-999.000,9,-999.000,9,-999.0000,9,  2048.7,6,  2330.7,2,   8.0832,2,    20.00,-999.000,9,-999.000,9,-999.000,9,  20.4361,2,-999.000,9, -999.00,9, -999.00,-999.000,9,-999.000, -999.00,9, -999.00,9, -34.0010,  55.2951,-999.000,-999.000,20090407,       1456
33RR20090320,        I05,      62,          2,         35,         35,2,20090407,       1352,   -33.9984,    55.2942,       1659,    24.4,  19.9835,  35.5116,2,  35.5092,2,    230.5,2,   230.0,2,    1.44,2,    0.10,2,    0.00,2,    0.14,2,-999.000,9,-999.000,9,-999.0000,9,  -999.0,9,  -999.0,9,-999.0000,9,  -999.00,-999.000,9,-999.000,9,-999.000,9,  20.0170,2,-999.000,9, -999.00,9, -999.00,-999.000,9,-999.000, -999.00,9, -999.00,9, -34.0008,  55.2950,-999.000,-999.000,20090407,       1455
33RR20090320,        I05,      62,          2,         26,         26,2,20090407,       1352,   -33.9984,    55.2942,       1659,    48.5,  17.9522,  35.4561,2,  35.4554,2,   -999.0,9,  -999.0,9,    1.43,2,    0.04,2,    0.00,2,    0.17,2,-999.000,9,-999.000,9,-999.0000,9,  -999.0,9,  -999.0,9,-999.0000,9,  -999.00,-999.000,9,-999.000,9,-999.000,9,  17.9490,2,-999.000,9, -999.00,9, -999.00,-999.000,9,-999.000, -999.00,9, -999.00,9, -34.0006,  55.2948,-999.000,-999.000,20090407,       1453
33RR20090320,        I05,      62,          2,         25,         25,2,20090407,       1352,   -33.9984,    55.2942,       1659,    72.2,  16.3921,  35.4328,2,  35.4325,2,    242.0,2,   243.6,2,    1.81,2,    0.86,2,    0.06,2,    0.24,2,-999.000,9,-999.000,9,-999.0000,9,  -999.0,9,  -999.0,9,-999.0000,9,  -999.00,-999.000,9,-999.000,9,-999.000,9,  16.3810,2,-999.000,9, -999.00,9, -999.00,-999.000,9,-999.000, -999.00,9, -999.00,9, -34.0005,  55.2949,-999.000,-999.000,20090407,       1451
33RR20090320,        I05,      62,          2,         24,         24,2,20090407,       1352,   -33.9984,    55.2942,       1659,    98.2,  14.9831,  35.4058,2,  35.4052,2,    232.6,2,   231.9,2,    2.58,2,    4.10,2,    0.04,2,    0.43,2,-999.000,9,-999.000,9,-999.0000,9,  -999.0,9,  -999.0,9,-999.0000,9,  -999.00,-999.000,9,-999.000,9,-999.000,9,  14.9795,2,-999.000,9, -999.00,9, -999.00,-999.000,9,-999.000, -999.00,9, -999.00,9, -34.0004,  55.2952,-999.000,-999.000,20090407,       1450
33RR20090320,        I05,      62,          2,         23,         23,2,20090407,       1352,   -33.9984,    55.2942,       1659,   123.2,  14.5530,  35.3910,2,  35.3892,2,    229.5,2,   226.5,2,    3.14,2,    5.72,2,    0.01,2,    0.51,2,-999.000,9,-999.000,9,-999.0000,9,  -999.0,9,  -999.0,9,-999.0000,9,  -999.00,-999.000,9,-999.000,9,-999.000,9,  14.5506,2,-999.000,9, -999.00,9, -999.00,-999.000,9,-999.000, -999.00,9, -999.00,9, -34.0002,  55.2954,-999.000,-999.000,20090407,       1448
33RR20090320,        I05,      62,          2,         22,         22,2,20090407,       1352,   -33.9984,    55.2942,       1659,   153.6,  14.2399,  35.3700,2,  35.3681,2,    226.1,2,   226.0,2,    3.33,2,    6.42,2,    0.00,2,    0.56,2,-999.000,9,-999.000,9,-999.0000,9,  -999.0,9,  -999.0,9,-999.0000,9,  -999.00,-999.000,9,-999.000,9,-999.000,9,  14.2417,2,-999.000,9, -999.00,9, -999.00,-999.000,9,-999.000, -999.00,9, -999.00,9, -34.0001,  55.2955,-999.000,-999.000,20090407,       1446
33RR20090320,        I05,      62,          2,         21,         21,2,20090407,       1352,   -33.9984,    55.2942,       1659,   179.1,  13.9709,  35.3529,2,  35.3514,2,    228.3,2,   230.7,2,    3.32,2,    6.53,2,    0.00,2,    0.56,2,-999.000,9,-999.000,9,-999.0000,9,  -999.0,9,  -999.0,9,-999.0000,9,  -999.00,-999.000,9,-999.000,9,-999.000,9,  13.9661,2,-999.000,9, -999.00,9, -999.00,-999.000,9,-999.000, -999.00,9, -999.00,9, -34.0001,  55.2954,-999.000,-999.000,20090407,       1445
33RR20090320,        I05,      62,          2,         20,         20,2,20090407,       1352,   -33.9984,    55.2942,       1659,   202.9,  13.8704,  35.3487,2,  35.3472,2,    231.2,2,   233.9,2,    3.30,2,    6.42,2,    0.00,2,    0.56,2,-999.000,9,-999.000,9,-999.0000,9,  -999.0,9,  -999.0,9,-999.0000,9,  -999.00,-999.000,9,-999.000,9,-999.000,9,  13.8692,2,-999.000,9, -999.00,9, -999.00,-999.000,9,-999.000, -999.00,9, -999.00,9, -34.0000,  55.2953,-999.000,-999.000,20090407,       1443
33RR20090320,        I05,      62,          2,         19,         19,2,20090407,       1352,   -33.9984,    55.2942,       1659,   228.4,  13.7736,  35.3429,2,  35.3415,2,    235.7,2,   235.6,2,    3.29,2,    6.53,2,    0.00,2,    0.56,2,-999.000,9,-999.000,9,-999.0000,9,  -999.0,9,  -999.0,9,-999.0000,9,  -999.00,-999.000,9,-999.000,9,-999.000,9,  13.7719,2,-999.000,9, -999.00,9, -999.00,-999.000,9,-999.000, -999.00,9, -999.00,9, -33.9999,  55.2951,-999.000,-999.000,20090407,       1442
33RR20090320,        I05,      62,          2,         18,         18,2,20090407,       1352,   -33.9984,    55.2942,       1659,   253.1,  13.7054,  35.3400,2,  35.3384,2,    237.5,2,   237.1,2,    3.28,2,    6.64,2,    0.00,2,    0.57,2,-999.000,9,-999.000,9,-999.0000,9,  -999.0,9,  -999.0,9,-999.0000,9,  -999.00,-999.000,9,-999.000,9,-999.000,9,  13.7046,2,-999.000,9, -999.00,9, -999.00,-999.000,9,-999.000, -999.00,9, -999.00,9, -33.9998,  55.2951,-999.000,-999.000,20090407,       1440
33RR20090320,        I05,      62,          2,         17,         17,2,20090407,       1352,   -33.9984,    55.2942,       1659,   302.3,  13.4523,  35.3101,2,  35.3102,2,    237.8,2,   236.2,2,    3.47,2,    7.23,2,    0.00,2,    0.61,2,-999.000,9,-999.000,9,-999.0000,9,  -999.0,9,  -999.0,9,-999.0000,9,  -999.00,-999.000,9,-999.000,9,-999.000,9,  13.4516,2,-999.000,9, -999.00,9, -999.00,-999.000,9,-999.000, -999.00,9, -999.00,9, -33.9997,  55.2950,-999.000,-999.000,20090407,       1438
33RR20090320,        I05,      62,          2,         16,         16,2,20090407,       1352,   -33.9984,    55.2942,       1659,   350.9,  13.1966,  35.2699,2,  35.2682,2,    233.6,2,   233.9,2,    3.64,2,    8.16,2,    0.00,2,    0.65,2,-999.000,9,-999.000,9,-999.0000,9,  -999.0,9,  -999.0,9,-999.0000,9,  -999.00,-999.000,9,-999.000,9,-999.000,9,  13.1960,2,-999.000,9, -999.00,9, -999.00,-999.000,9,-999.000, -999.00,9, -999.00,9, -33.9995,  55.2950,-999.000,-999.000,20090407,       1435
33RR20090320,        I05,      62,          2,         15,         15,2,20090407,       1352,   -33.9984,    55.2942,       1659,   401.2,  12.9018,  35.2201,2,  35.2206,2,    229.4,2,   230.7,2,    3.83,2,    9.09,2,    0.00,2,    0.71,2,-999.000,9,-999.000,9,-999.0000,9,  -999.0,9,  -999.0,9,-999.0000,9,  -999.00,-999.000,9,-999.000,9,-999.000,9,  12.9046,2,-999.000,9, -999.00,9, -999.00,-999.000,9,-999.000, -999.00,9, -999.00,9, -33.9994,  55.2951,-999.000,-999.000,20090407,       1433
33RR20090320,        I05,      62,          2,         14,         14,2,20090407,       1352,   -33.9984,    55.2942,       1659,   450.8,  12.4750,  35.1512,2,  35.1516,2,    231.2,2,   230.1,2,    4.00,2,   10.24,2,    0.00,2,    0.78,2,-999.000,9,-999.000,9,-999.0000,9,  -999.0,9,  -999.0,9,-999.0000,9,  -999.00,-999.000,9,-999.000,9,-999.000,9,  12.4725,2,-999.000,9, -999.00,9, -999.00,-999.000,9,-999.000, -999.00,9, -999.00,9, -33.9993,  55.2952,-999.000,-999.000,20090407,       1430
33RR20090320,        I05,      62,          2,         13,         13,2,20090407,       1352,   -33.9984,    55.2942,       1659,   500.3,  11.9674,  35.0661,2,  35.0666,2,    228.5,2,   229.1,2,    4.19,2,   11.44,2,    0.00,2,    0.86,2,-999.000,9,-999.000,9,-999.0000,9,  -999.0,9,  -999.0,9,-999.0000,9,  -999.00,-999.000,9,-999.000,9,-999.000,9,  11.9692,2,-999.000,9, -999.00,9, -999.00,-999.000,9,-999.000, -999.00,9, -999.00,9, -33.9992,  55.2952,-999.000,-999.000,20090407,       1428
33RR20090320,        I05,      62,          2,         12,         12,2,20090407,       1352,   -33.9984,    55.2942,       1659,   601.8,  10.8151,  34.8962,2,  34.8931,2,    221.0,2,   220.6,2,    5.55,2,   14.62,2,    0.00,2,    1.06,2,-999.000,9,-999.000,9,-999.0000,9,  -999.0,9,  -999.0,9,-999.0000,9,  -999.00,-999.000,9,-999.000,9,-999.000,9,  10.8130,2,-999.000,9, -999.00,9, -999.00,-999.000,9,-999.000, -999.00,9, -999.00,9, -33.9992,  55.2953,-999.000,-999.000,20090407,       1424
33RR20090320,        I05,      62,          2,         11,         11,2,20090407,       1352,   -33.9984,    55.2942,       1659,   702.1,   9.7595,  34.7619,2,  34.7621,2,    215.5,2,   214.7,2,    7.48,2,   17.46,2,    0.00,2,    1.25,2,-999.000,9,-999.000,9,-999.0000,9,  -999.0,9,  -999.0,9,-999.0000,9,  -999.00,-999.000,9,-999.000,9,-999.000,9,   9.7636,2,-999.000,9, -999.00,9, -999.00,-999.000,9,-999.000, -999.00,9, -999.00,9, -33.9993,  55.2952,-999.000,-999.000,20090407,       1421
33RR20090320,        I05,      62,          2,         10,         10,2,20090407,       1352,   -33.9984,    55.2942,       1659,   800.7,   8.4006,  34.6202,2,  34.6230,2,    209.3,2,   207.2,2,   11.97,2,   21.36,2,    0.00,2,    1.51,2,-999.000,9,-999.000,9,-999.0000,9,  -999.0,9,  -999.0,9,-999.0000,9,  -999.00,-999.000,9,-999.000,9,-999.000,9,   8.4121,2,-999.000,9, -999.00,9, -999.00,-999.000,9,-999.000, -999.00,9, -999.00,9, -33.9994,  55.2949,-999.000,-999.000,20090407,       1418
33RR20090320,        I05,      62,          2,          9,          9,2,20090407,       1352,   -33.9984,    55.2942,       1659,   900.1,   7.1131,  34.5018,2,  34.5014,2,    204.4,2,   204.3,2,   16.86,2,   24.72,2,    0.00,2,    1.75,2,-999.000,9,-999.000,9,-999.0000,9,  -999.0,9,  -999.0,9,-999.0000,9,  -999.00,-999.000,9,-999.000,9,-999.000,9,   7.1126,2,-999.000,9, -999.00,9, -999.00,-999.000,9,-999.000, -999.00,9, -999.00,9, -33.9995,  55.2947,-999.000,-999.000,20090407,       1415
33RR20090320,        I05,      62,          2,          8,          8,2,20090407,       1352,   -33.9984,    55.2942,       1659,   997.9,   5.8135,  34.4124,2,  34.4117,2,    205.1,2,   205.9,2,   22.94,2,   27.49,2,    0.00,2,    1.94,2,-999.000,9,-999.000,9,-999.0000,9,  -999.0,9,  -999.0,9,-999.0000,9,  -999.00,-999.000,9,-999.000,9,-999.000,9,   5.8136,2,-999.000,9, -999.00,9, -999.00,-999.000,9,-999.000, -999.00,9, -999.00,9, -33.9995,  55.2945,-999.000,-999.000,20090407,       1412
33RR20090320,        I05,      62,          2,          7,          7,2,20090407,       1352,   -33.9984,    55.2942,       1659,  1099.4,   4.7823,  34.3822,2,  34.3815,2,    202.7,2,   203.2,2,   31.39,2,   29.80,2,    0.00,2,    2.12,2,-999.000,9,-999.000,9,-999.0000,9,  -999.0,9,  -999.0,9,-999.0000,9,  -999.00,-999.000,9,-999.000,9,-999.000,9,   4.7794,2,-999.000,9, -999.00,9, -999.00,-999.000,9,-999.000, -999.00,9, -999.00,9, -33.9994,  55.2945,-999.000,-999.000,20090407,       1409
33RR20090320,        I05,      62,          2,          6,          6,2,20090407,       1352,   -33.9984,    55.2942,       1659,  1199.9,   4.2835,  34.3903,2,  34.3899,2,   -999.0,5,   197.5,2,   38.09,2,   30.97,2,    0.00,2,    2.21,2,-999.000,9,-999.000,9,-999.0000,9,  -999.0,9,  -999.0,9,-999.0000,9,  -999.00,-999.000,9,-999.000,9,-999.000,9,   4.2826,2,-999.000,9, -999.00,9, -999.00,-999.000,9,-999.000, -999.00,9, -999.00,9, -33.9993,  55.2945,-999.000,-999.000,20090407,       1406
33RR20090320,        I05,      62,          2,          5,          5,2,20090407,       1352,   -33.9984,    55.2942,       1659,  1298.8,   3.8967,  34.4107,2,  34.4111,2,    192.9,2,   191.3,2,   44.42,2,   32.02,2,    0.00,2,    2.29,2,-999.000,9,-999.000,9,-999.0000,9,  -999.0,9,  -999.0,9,-999.0000,9,  -999.00,-999.000,9,-999.000,9,-999.000,9,   3.8889,2,-999.000,9, -999.00,9, -999.00,-999.000,9,-999.000, -999.00,9, -999.00,9, -33.9993,  55.2943,-999.000,-999.000,20090407,       1403
33RR20090320,        I05,      62,          2,          4,          4,2,20090407,       1352,   -33.9984,    55.2942,       1659,  1398.4,   3.6953,  34.4293,2,  34.4282,2,    188.0,2,   187.5,2,   48.57,2,   32.52,2,    0.00,2,    2.32,2,-999.000,9,-999.000,9,-999.0000,9,  -999.0,9,  -999.0,9,-999.0000,9,  -999.00,-999.000,9,-999.000,9,-999.000,9,   3.6915,2,-999.000,9, -999.00,9, -999.00,-999.000,9,-999.000, -999.00,9, -999.00,9, -33.9989,  55.2941,-999.000,-999.000,20090407,       1400
33RR20090320,        I05,      62,          2,          3,          3,2,20090407,       1352,   -33.9984,    55.2942,       1659,  1499.7,   3.3856,  34.4780,2,  34.4757,2,    182.2,2,   181.9,2,   55.30,2,   32.96,2,    0.00,2,    2.36,2,-999.000,9,-999.000,9,-999.0000,9,  -999.0,9,  -999.0,9,-999.0000,9,  -999.00,-999.000,9,-999.000,9,-999.000,9,   3.3938,2,-999.000,9, -999.00,9, -999.00,-999.000,9,-999.000, -999.00,9, -999.00,9, -33.9988,  55.2941,-999.000,-999.000,20090407,       1357
33RR20090320,        I05,      62,          2,          2,          2,2,20090407,       1352,   -33.9984,    55.2942,       1659,  1582.2,   3.1246,  34.5331,2,  34.5337,2,    179.7,2,   179.5,2,   61.86,2,   32.84,2,    0.00,2,    2.35,2,-999.000,9,-999.000,9,-999.0000,9,  -999.0,9,  -999.0,9,-999.0000,9,  -999.00,-999.000,9,-999.000,9,-999.000,9,   3.1250,2,-999.000,9, -999.00,9, -999.00,-999.000,9,-999.000, -999.00,9, -999.00,9, -33.9985,  55.2943,-999.000,-999.000,20090407,       1354
33RR20090320,        I05,      62,          2,          1,          1,2,20090407,       1352,   -33.9984,    55.2942,       1659,  1661.5,   2.8167,  34.5995,2,  34.5993,2,    179.7,2,   180.0,2,   68.83,2,   32.28,2,    0.00,2,    2.31,2,-999.000,9,-999.000,9,-999.0000,9,  -999.0,9,  -999.0,9,-999.0000,9,  -999.00,-999.000,9,-999.000,9,-999.000,9,   2.8166,2,-999.000,9, -999.00,9, -999.00,-999.000,9,-999.000, -999.00,9, -999.00,9, -33.9984,  55.2942,-999.000,-999.000,20090407,       1352