BOTTLE,20220814CCHSIOAMB
EXPOCODE,SECT_ID,STNNBR,CASTNO,SAMPNO,BTLNBR,BTLNBR_FLAG_W,DATE,TIME,LATITUDE,LONGITUDE,DEPTH,CTDPRS,CTDTMP,CTDSAL,CTDSAL_FLAG_W,SALNTY,SALNTY_FLAG_W,CTDOXY,CTDOXY_FLAG_W,OXYGEN,OXYGEN_FLAG_W,SILCAT,SILCAT_FLAG_W,NITRAT,NITRAT_FLAG_W,NITRIT,NITRIT_FLAG_W,PHSPHT,PHSPHT_FLAG_W,CFC-11,CFC-11_FLAG_W,CFC-12,CFC-12_FLAG_W,SF6,SF6_FLAG_W,TCARBN,TCARBN_FLAG_W,ALKALI,ALKALI_FLAG_W,PH_TOT,PH_TOT_FLAG_W,PH_TMP,TRITUM,TRITUM_FLAG_W,HELIUM,HELIUM_FLAG_W,DELHE3,DELHE3_FLAG_W,REFTMP,REFTMP_FLAG_W,DELC13,DELC13_FLAG_W,DELC14,DELC14_FLAG_W,C14ERR,NEON,NEON_FLAG_W,NEONER,DOC,DOC_FLAG_W,TDN,TDN_FLAG_W,BTL_LAT,BTL_LON,HELIER,DELHER,BTL_DATE,BTL_TIME
,,,,,,,,,,,METERS,DBAR,ITS-90,PSS-78,,PSS-78,,UMOL/KG,,UMOL/KG,,UMOL/KG,,UMOL/KG,,UMOL/KG,,UMOL/KG,,PMOL/KG,,PMOL/KG,,FMOL/KG,,UMOL/KG,,UMOL/KG,,,,DEG C,TU,,NMOL/KG,,PERCNT,,DEG C,,/MILLE,,/MILLE,,/MILLE,NMOL/KG,,NMOL/KG,UMOL/KG,,UMOL/KG,,,,NMOL/KG,PERCNT,,
33RR20090320,        I05,     189,          2,         36,         36,2,20090511,       1150,   -32.4885,   113.9755,       4038,     5.5,  20.6096,  35.8321,2,  35.8342,2,    224.4,2,   225.3,2,    1.93,2,    0.09,2,    0.00,2,    0.08,2,   2.071,2,   1.254,2,   1.1060,2,  2047.3,2,  2350.3,2,   8.1170,2,    20.00,-999.000,9,-999.000,9,-999.000,9,  20.6087,2,   0.961,2,   35.88,2,     4.1,-999.000,9,-999.000,   68.97,2,    4.49,2, -32.4888, 113.9752,-999.000,-999.000,20090511,       1341
33RR20090320,        I05,     189,          2,         35,         35,2,20090511,       1150,   -32.4885,   113.9755,       4038,    34.5,  20.6196,  35.8322,2,  35.8332,2,    225.7,2,   225.1,2,    1.74,2,    0.09,2,    0.00,2,    0.07,2,   2.098,2,   1.261,2,   1.1400,2,  2048.7,2,  2349.7,2,   8.1170,2,    20.00,-999.000,9,-999.000,9,-999.000,9,  20.6206,2,-999.000,9, -999.00,9, -999.00,-999.000,9,-999.000,   67.79,2,    4.29,2, -32.4888, 113.9751,-999.000,-999.000,20090511,       1339
33RR20090320,        I05,     189,          2,         34,         34,2,20090511,       1150,   -32.4885,   113.9755,       4038,    60.3,  20.4889,  35.8360,2,  35.8379,2,    226.9,2,   226.5,2,    1.72,2,    0.04,2,    0.00,2,    0.08,2,   2.087,2,   1.273,2,   1.1480,2,  2052.6,2,  2351.6,2,   8.1114,2,    20.00,-999.000,9,-999.000,9,-999.000,9,  20.4857,2,-999.000,9, -999.00,9, -999.00,-999.000,9,-999.000,   67.06,2,    4.31,2, -32.4888, 113.9751,-999.000,-999.000,20090511,       1337
33RR20090320,        I05,     189,          2,         33,         33,2,20090511,       1150,   -32.4885,   113.9755,       4038,    84.7,  17.8133,  35.7858,2,  35.7871,2,    237.3,2,   236.8,2,    1.52,2,    0.04,2,    0.00,2,    0.13,2,   2.446,2,   1.456,2,   1.2750,2,  2073.1,2,  2348.7,2,   8.0747,2,    20.00,-999.000,9,-999.000,9,-999.000,9,  17.7949,2,-999.000,9, -999.00,9, -999.00,-999.000,9,-999.000,   62.15,2,    3.90,2, -32.4888, 113.9751,-999.000,-999.000,20090511,       1336
33RR20090320,        I05,     189,          2,         32,         32,2,20090511,       1150,   -32.4885,   113.9755,       4038,   109.6,  16.6047,  35.7287,2,  35.7303,2,    231.3,2,   231.3,2,    1.32,2,    0.82,2,    0.05,2,    0.20,2,   2.567,2,   1.512,2,   1.2250,2,  2083.9,2,  2346.5,2,   8.0479,2,    20.00,-999.000,9,-999.000,9,-999.000,9,  16.5859,2,   1.016,2,   49.77,2,     2.6,-999.000,9,-999.000,   60.00,2,    4.94,2, -32.4887, 113.9751,-999.000,-999.000,20090511,       1334
33RR20090320,        I05,     189,          2,         31,         31,2,20090511,       1150,   -32.4885,   113.9755,       4038,   140.4,  15.6787,  35.6458,2,  35.6482,2,    229.3,2,   229.8,2,    1.31,2,    2.12,2,    0.02,2,    0.27,2,   2.661,2,   1.558,2,   1.2740,2,  2091.7,2,  2340.7,2,   8.0262,2,    20.00,-999.000,9,-999.000,9,-999.000,9,  15.6810,2,-999.000,9, -999.00,9, -999.00,-999.000,9,-999.000,   55.84,2,    5.38,2, -32.4887, 113.9752,-999.000,-999.000,20090511,       1333
33RR20090320,        I05,     189,          2,         30,         30,2,20090511,       1150,   -32.4885,   113.9755,       4038,   166.6,  14.9372,  35.5436,2,  35.5438,2,    230.3,2,   230.0,2,    1.29,2,    3.17,2,    0.01,2,    0.34,2,   2.741,2,   1.601,2,   1.4080,2,  2096.3,2,  2336.8,2,   8.0086,2,    20.00,-999.000,9,-999.000,9,-999.000,9,  14.9151,2,   1.069,2,   51.39,2,     2.8,-999.000,9,-999.000,   53.77,2,    6.13,2, -32.4886, 113.9753,-999.000,-999.000,20090511,       1331
33RR20090320,        I05,     189,          2,         29,         29,2,20090511,       1150,   -32.4885,   113.9755,       4038,   218.3,  13.3954,  35.2950,2,  35.2973,2,    234.4,2,   234.5,2,    1.46,2,    5.70,2,    0.01,2,    0.51,2,   3.025,2,   1.727,2,   1.3630,2,  2104.8,2,  2322.8,2,   7.9697,2,    20.00,-999.000,9,-999.000,9,-999.000,9,  13.3930,2,   1.071,2,   52.04,2,     2.6,-999.000,9,-999.000,   52.31,2,    8.26,2, -32.4884, 113.9753,-999.000,-999.000,20090511,       1330
33RR20090320,        I05,     189,          2,         28,         28,2,20090511,       1150,   -32.4885,   113.9755,       4038,   267.8,  11.9824,  35.0655,2,  35.0714,2,    239.6,2,   240.8,2,    1.83,2,    8.40,2,    0.01,2,    0.68,2,   3.247,2,   1.838,2,   1.4390,2,  2110.5,2,  2312.3,2,   7.9349,2,    20.00,-999.000,9,-999.000,9,-999.000,9,  11.9722,2,   1.137,2,   54.94,2,     2.8,-999.000,9,-999.000,   50.54,2,   10.94,2, -32.4883, 113.9752,-999.000,-999.000,20090511,       1328
33RR20090320,        I05,     189,          2,         27,         27,2,20090511,       1150,   -32.4885,   113.9755,       4038,   318.6,  10.8650,  34.8892,2,  34.8919,2,    243.3,2,   242.0,2,    2.55,2,   11.21,2,    0.00,2,    0.86,2,   3.420,2,   1.901,2,   1.4400,2,  2118.2,2,  2304.1,2,   7.9024,2,    20.00,-999.000,9,-999.000,9,-999.000,9,  10.8363,2,    1.18,2,   45.73,2,     2.6,-999.000,9,-999.000,   50.07,2,   14.08,2, -32.4883, 113.9752,-999.000,-999.000,20090511,       1327
33RR20090320,        I05,     189,          2,         26,         26,2,20090511,       1150,   -32.4885,   113.9755,       4038,   366.6,   9.9704,  34.7617,2,  34.7632,2,    242.3,2,   242.4,2,    3.47,2,   13.95,2,    0.00,2,    1.02,2,   3.616,2,   1.980,2,   1.4030,2,  2124.2,2,  2296.5,2,   7.8738,2,    20.00,-999.000,9,-999.000,9,-999.000,9,   9.9691,2,   1.128,2,   32.64,2,       3,-999.000,9,-999.000,   48.71,2,   16.07,2, -32.4885, 113.9752,-999.000,-999.000,20090511,       1325
33RR20090320,        I05,     189,          2,         25,         25,2,20090511,       1150,   -32.4885,   113.9755,       4038,   419.9,   9.4330,  34.6985,2,  34.7027,2,    239.9,2,   240.2,2,    4.20,2,   15.71,2,    0.00,2,    1.13,2,-999.000,5,-999.000,5,-999.0000,5,  2127.7,2,  2293.8,2,   7.8563,2,    20.00,-999.000,9,-999.000,9,-999.000,9,   9.4542,2,   1.104,2,   11.01,2,     2.5,-999.000,9,-999.000,   48.07,2,   18.76,2, -32.4886, 113.9752,-999.000,-999.000,20090511,       1323
33RR20090320,        I05,     189,          2,         24,         24,2,20090511,       1150,   -32.4885,   113.9755,       4038,   465.4,   9.0256,  34.6484,2,  34.6518,2,    239.3,2,   239.2,2,    5.11,2,   17.03,2,    0.00,2,    1.21,2,   3.662,2,   1.965,2,   1.3320,2,  2132.1,2,  2291.7,2,   7.8454,2,    20.00,-999.000,9,-999.000,9,-999.000,9,   9.0370,2,   1.143,2,    36.9,2,     3.2,-999.000,9,-999.000,   46.78,2,   19.72,2, -32.4886, 113.9753,-999.000,-999.000,20090511,       1321
33RR20090320,        I05,     189,          2,         23,         23,2,20090511,       1150,   -32.4885,   113.9755,       4038,   529.5,   8.1980,  34.5599,2,  34.5634,2,    226.2,2,   225.5,2,    8.81,2,   20.33,2,    0.00,2,    1.44,2,   3.227,2,   1.683,2,   0.9150,2,  2144.8,2,  2290.2,2,   7.8096,2,    20.00,-999.000,9,-999.000,9,-999.000,9,   8.2009,2,   1.124,6,   20.79,6,     2.9,-999.000,9,-999.000,   44.99,2,   22.58,2, -32.4884, 113.9753,-999.000,-999.000,20090511,       1318
33RR20090320,        I05,     189,          2,         22,         22,2,20090511,       1150,   -32.4885,   113.9755,       4038,   630.9,   6.4105,  34.4367,2,  34.4421,2,    198.6,2,   198.3,2,   19.91,2,   26.80,2,    0.00,2,    1.87,2,   2.025,2,   1.018,2,   0.4770,2,  2174.4,2,  2291.2,2,   7.7339,2,    20.00,-999.000,9,-999.000,9,-999.000,9,   6.4060,2,   1.011,2,  -30.34,2,     2.9,-999.000,9,-999.000,   43.23,2,   29.03,2, -32.4883, 113.9754,-999.000,-999.000,20090511,       1315
33RR20090320,        I05,     189,          2,         21,         21,2,20090511,       1150,   -32.4885,   113.9755,       4038,   734.5,   5.0157,  34.3935,2,  34.3959,2,    190.8,2,   190.7,2,   32.48,2,   30.22,2,    0.00,2,    2.14,2,   1.394,2,   0.678,2,   0.2070,2,  2197.0,2,  2299.7,2,   7.6943,2,    20.00,-999.000,9,-999.000,9,-999.000,9,   5.0159,2,   0.924,2,  -85.45,2,     2.3,-999.000,9,-999.000,   42.34,2,   32.47,2, -32.4882, 113.9752,-999.000,-999.000,20090511,       1311
33RR20090320,        I05,     189,          2,         20,         20,2,20090511,       1150,   -32.4885,   113.9755,       4038,   837.8,   4.3046,  34.4045,2,  34.4055,2,    179.7,2,   183.0,2,   43.00,2,   31.95,2,    0.00,2,    2.29,2,   1.037,6,   0.494,6,   0.1390,6,  2213.6,2,  2309.7,2,   7.6721,2,    20.00,-999.000,9,-999.000,9,-999.000,9,   4.3232,2,   0.803,2, -107.68,2,     2.4,-999.000,9,-999.000,   41.90,2,   34.46,2, -32.4883, 113.9751,-999.000,-999.000,20090511,       1308
33RR20090320,        I05,     189,          2,         19,         19,2,20090511,       1150,   -32.4885,   113.9755,       4038,   933.8,   3.9544,  34.4423,2,  34.4427,2,    171.2,2,   170.8,2,   54.08,2,   33.34,2,    0.00,2,    2.40,2,-999.000,9,-999.000,9,-999.0000,9,  2232.1,2,  2320.6,2,   7.6516,2,    20.00,-999.000,9,-999.000,9,-999.000,9,   3.9531,2,   0.723,2, -124.81,2,       3,-999.000,9,-999.000,   41.41,2,   35.42,2, -32.4883, 113.9752,-999.000,-999.000,20090511,       1306
33RR20090320,        I05,     189,          2,         18,         18,2,20090511,       1150,   -32.4885,   113.9755,       4038,  1035.5,   3.6632,  34.4939,2,  34.4947,2,    159.0,2,   157.3,2,   65.37,2,   34.28,2,    0.00,2,    2.49,2,   0.349,2,   0.166,2,   0.0000,2,  2249.2,2,  2333.8,2,   7.6342,2,    20.00,-999.000,9,-999.000,9,-999.000,9,   3.6631,2,   0.614,2, -139.19,2,     2.3,-999.000,9,-999.000,   40.62,2,   35.82,2, -32.4884, 113.9752,-999.000,-999.000,20090511,       1302
33RR20090320,        I05,     189,          2,         17,         17,2,20090511,       1150,   -32.4885,   113.9755,       4038,  1135.6,   3.4734,  34.5108,2,  34.5136,2,    156.1,2,   156.4,2,   68.51,2,   34.55,2,    0.00,2,    2.50,2,-999.000,9,-999.000,9,-999.0000,9,  2252.6,2,  2336.1,2,   7.6310,2,    20.00,-999.000,9,-999.000,9,-999.000,9,   3.4720,2,   0.573,2, -146.06,2,     2.2,-999.000,9,-999.000,   40.33,2,   36.50,2, -32.4883, 113.9754,-999.000,-999.000,20090511,       1259
33RR20090320,        I05,     189,          2,         16,         16,2,20090511,       1150,   -32.4885,   113.9755,       4038,  1236.2,   3.3117,  34.5489,2,  34.5538,2,    152.0,2,   150.8,2,   75.19,2,   34.77,2,    0.00,2,    2.53,2,   0.147,2,   0.070,2,   0.0000,2,  2261.3,2,  2343.3,2,   7.6269,2,    20.00,-999.000,9,-999.000,9,-999.000,9,   3.3120,2,   0.499,2, -154.07,2,     2.8,-999.000,9,-999.000,   39.71,2,   37.10,2, -32.4883, 113.9756,-999.000,-999.000,20090511,       1256
33RR20090320,        I05,     189,          2,         15,         15,2,20090511,       1150,   -32.4885,   113.9755,       4038,  1335.9,   3.1832,  34.5774,2,  34.5807,2,    149.8,2,   149.2,2,   79.45,2,   34.82,2,    0.00,2,    2.54,2,-999.000,9,-999.000,9,-999.0000,9,  2265.3,2,  2347.2,2,   7.6260,2,    20.00,-999.000,9,-999.000,9,-999.000,9,   3.1829,2,   0.447,2, -159.71,2,     2.4,-999.000,9,-999.000,   40.10,2,   36.85,2, -32.4882, 113.9757,-999.000,-999.000,20090511,       1253
33RR20090320,        I05,     189,          2,         14,         14,2,20090511,       1150,   -32.4885,   113.9755,       4038,  1429.6,   2.9976,  34.6071,2,  34.6094,2,    150.6,2,   150.7,2,   83.16,2,   34.59,2,    0.00,2,    2.52,2,   0.053,2,   0.026,2,   0.0000,2,  2269.0,2,  2352.4,2,   7.6293,2,    20.00,-999.000,9,-999.000,9,-999.000,9,   2.9975,2,   0.359,2, -164.65,2,     2.1,-999.000,9,-999.000,   39.91,2,   36.28,2, -32.4880, 113.9756,-999.000,-999.000,20090511,       1250
33RR20090320,        I05,     189,          2,         13,         13,2,20090511,       1150,   -32.4885,   113.9755,       4038,  1534.2,   2.8837,  34.6263,2,  34.6275,2,    152.1,2,   152.3,2,   86.14,2,   34.47,2,    0.00,2,    2.50,2,-999.000,9,-999.000,9,-999.0000,9,  2271.8,2,  2355.8,2,   7.6321,2,    20.00,-999.000,9,-999.000,9,-999.000,9,   2.8830,2,    0.44,2, -167.51,2,     2.4,-999.000,9,-999.000,   39.76,2,   36.53,2, -32.4882, 113.9755,-999.000,-999.000,20090511,       1247
33RR20090320,        I05,     189,          2,         12,         12,2,20090511,       1150,   -32.4885,   113.9755,       4038,  1633.0,   2.7558,  34.6500,2,  34.6521,2,    153.6,2,   154.1,2,   89.12,2,   34.18,2,    0.00,2,    2.48,2,   0.022,2,   0.011,2,   0.0000,2,  2272.8,2,  2358.3,2,   7.6368,2,    20.00,-999.000,9,-999.000,9,-999.000,9,   2.7555,2,   0.403,2, -170.27,2,     2.2,-999.000,9,-999.000,   39.85,2,   36.06,2, -32.4884, 113.9756,-999.000,-999.000,20090511,       1244
33RR20090320,        I05,     189,          2,         11,         11,2,20090511,       1150,   -32.4885,   113.9755,       4038,  1732.8,   2.6505,  34.6692,2,  34.6709,2,    155.3,2,   155.8,2,   91.72,2,   33.95,2,    0.00,2,    2.46,2,-999.000,9,-999.000,9,-999.0000,9,  2274.7,2,  2362.4,2,   7.6411,2,    20.00,-999.000,9,-999.000,9,-999.000,9,   2.6503,2,   0.452,2, -163.89,2,     2.1,-999.000,9,-999.000,   39.92,2,   36.26,2, -32.4884, 113.9756,-999.000,-999.000,20090511,       1241
33RR20090320,        I05,     189,          2,         10,         10,2,20090511,       1150,   -32.4885,   113.9755,       4038,  1865.8,   2.5190,  34.6898,2,  34.6908,2,    157.9,2,   157.6,2,   96.58,2,   33.72,2,    0.00,2,    2.44,2,-999.000,9,-999.000,9,-999.0000,9,  2277.2,2,  2366.6,2,   7.6466,2,    20.00,-999.000,9,-999.000,9,-999.000,9,   2.5198,2,   0.386,2, -168.61,2,     2.2,-999.000,9,-999.000,   39.61,2,   36.14,2, -32.4882, 113.9756,-999.000,-999.000,20090511,       1237
33RR20090320,        I05,     189,          2,          9,          9,2,20090511,       1150,   -32.4885,   113.9755,       4038,  2084.5,   2.2915,  34.7139,2,  34.7146,2,    161.1,2,   161.2,2,  103.72,2,   33.50,2,    0.00,2,    2.42,2,   0.005,2,   0.004,2,   0.0000,2,  2281.5,2,  2373.8,2,   7.6554,2,    20.00,-999.000,9,-999.000,9,-999.000,9,   2.2909,2,   0.398,2, -181.12,2,     2.4,-999.000,9,-999.000,   39.28,2,   34.99,2, -32.4882, 113.9757,-999.000,-999.000,20090511,       1232
33RR20090320,        I05,     189,          2,          8,          8,2,20090511,       1150,   -32.4885,   113.9755,       4038,  2336.4,   2.0921,  34.7237,2,  34.7244,2,    165.2,2,   165.6,2,  109.17,2,   33.22,2,    0.00,2,    2.41,2,-999.000,9,-999.000,9,-999.0000,9,  2284.2,2,  2377.8,2,   7.6625,2,    20.00,-999.000,9,-999.000,9,-999.000,9,   2.0914,2,   0.375,2, -182.66,2,     2.9,-999.000,9,-999.000,   39.63,2,   35.28,2, -32.4883, 113.9756,-999.000,-999.000,20090511,       1227
33RR20090320,        I05,     189,          2,          7,          7,2,20090511,       1150,   -32.4885,   113.9755,       4038,  2583.8,   1.9317,  34.7275,2,  34.7281,2,    170.5,2,   170.4,2,  112.01,2,   33.10,2,    0.00,2,    2.39,2,-999.000,9,-999.000,9,-999.0000,9,  2283.8,6,  2380.4,2,   7.6681,2,    20.00,-999.000,9,-999.000,9,-999.000,9,   1.9316,2,   0.416,2, -188.11,2,     2.3,-999.000,9,-999.000,   39.58,2,   34.84,2, -32.4883, 113.9755,-999.000,-999.000,20090511,       1222
33RR20090320,        I05,     189,          2,          6,          6,2,20090511,       1150,   -32.4885,   113.9755,       4038,  2836.6,   1.7737,  34.7289,2,  34.7295,2,    176.8,2,   176.5,2,  113.51,2,   32.82,2,    0.00,2,    2.35,2,   0.004,2,   0.003,2,   0.0000,2,  2281.3,2,  2383.0,2,   7.6749,2,    20.00,-999.000,9,-999.000,9,-999.000,9,   1.7725,2,   0.427,2, -189.76,2,     2.5,-999.000,9,-999.000,   39.87,2,   34.80,2, -32.4883, 113.9756,-999.000,-999.000,20090511,       1216
33RR20090320,        I05,     189,          2,          5,          5,2,20090511,       1150,   -32.4885,   113.9755,       4038,  3101.8,   1.6155,  34.7270,2,  34.7285,2,    181.3,2,   181.6,2,  116.91,2,   32.75,2,    0.00,2,    2.34,2,   0.004,2,   0.003,2,   0.0000,2,  2281.2,2,  2385.0,2,   7.6797,2,    20.00,-999.000,9,-999.000,9,-999.000,9,   1.6154,2,    0.49,2, -181.15,2,     2.3,-999.000,9,-999.000,   39.90,2,   34.48,2, -32.4883, 113.9755,-999.000,-999.000,20090511,       1211
33RR20090320,        I05,     189,          2,          4,          4,2,20090511,       1150,   -32.4885,   113.9755,       4038,  3405.2,   1.4415,  34.7241,2,  34.7252,2,    185.9,2,   185.7,2,  120.33,2,   32.75,2,    0.00,2,    2.34,2,   0.003,2,   0.002,2,   0.0000,2,  2282.0,2,  2386.6,2,   7.6845,2,    20.00,-999.000,9,-999.000,9,-999.000,9,   1.4421,2,   0.435,2, -175.77,2,     2.3,-999.000,9,-999.000,   39.99,2,   34.22,2, -32.4882, 113.9755,-999.000,-999.000,20090511,       1205
33RR20090320,        I05,     189,          2,          3,          3,2,20090511,       1150,   -32.4885,   113.9755,       4038,  3721.6,   1.2822,  34.7188,2,  34.7205,2,    190.0,2,   190.0,2,  124.32,2,   32.69,2,    0.00,2,    2.34,2,   0.003,2,   0.002,2,   0.0000,2,  2282.8,2,  2388.1,2,   7.6893,2,    20.00,-999.000,9,-999.000,9,-999.000,9,   1.2825,2,   0.479,2, -185.57,2,     2.1,-999.000,9,-999.000,   39.84,2,   34.45,2, -32.4883, 113.9756,-999.000,-999.000,20090511,       1159
33RR20090320,        I05,     189,          2,          2,          2,2,20090511,       1150,   -32.4885,   113.9755,       4038,  3933.0,   1.2140,  34.7166,2,  34.7178,2,    192.4,2,   192.5,2,  125.65,2,   32.74,2,    0.00,2,    2.34,2,   0.005,2,   0.003,2,   0.0000,2,  2283.6,2,  2389.6,2,   7.6914,2,    20.00,-999.000,9,-999.000,9,-999.000,9,   1.2136,2,   0.591,2, -183.92,2,     2.2,-999.000,9,-999.000,   40.18,2,   34.67,2, -32.4885, 113.9756,-999.000,-999.000,20090511,       1154
33RR20090320,        I05,     189,          2,          1,          1,2,20090511,       1150,   -32.4885,   113.9755,       4038,  4089.6,   1.1808,  34.7152,2,  34.7160,2,    193.9,2,   193.8,2,  126.01,2,   32.68,2,    0.00,2,    2.33,2,   0.005,6,   0.004,6,   0.0000,6,  2284.0,2,  2389.9,2,   7.6935,2,    20.00,-999.000,9,-999.000,9,-999.000,9,   1.1787,2,   0.469,2, -179.12,2,     2.3,-999.000,9,-999.000,   39.50,2,   34.48,2, -32.4885, 113.9755,-999.000,-999.000,20090511,       1150