BOTTLE,20220814CCHSIOAMB
EXPOCODE,SECT_ID,STNNBR,CASTNO,SAMPNO,BTLNBR,BTLNBR_FLAG_W,DATE,TIME,LATITUDE,LONGITUDE,DEPTH,CTDPRS,CTDTMP,CTDSAL,CTDSAL_FLAG_W,SALNTY,SALNTY_FLAG_W,CTDOXY,CTDOXY_FLAG_W,OXYGEN,OXYGEN_FLAG_W,SILCAT,SILCAT_FLAG_W,NITRAT,NITRAT_FLAG_W,NITRIT,NITRIT_FLAG_W,PHSPHT,PHSPHT_FLAG_W,CFC-11,CFC-11_FLAG_W,CFC-12,CFC-12_FLAG_W,SF6,SF6_FLAG_W,TCARBN,TCARBN_FLAG_W,ALKALI,ALKALI_FLAG_W,PH_TOT,PH_TOT_FLAG_W,PH_TMP,TRITUM,TRITUM_FLAG_W,HELIUM,HELIUM_FLAG_W,DELHE3,DELHE3_FLAG_W,REFTMP,REFTMP_FLAG_W,DELC13,DELC13_FLAG_W,DELC14,DELC14_FLAG_W,C14ERR,NEON,NEON_FLAG_W,NEONER,DOC,DOC_FLAG_W,TDN,TDN_FLAG_W,BTL_LAT,BTL_LON,HELIER,DELHER,BTL_DATE,BTL_TIME
,,,,,,,,,,,METERS,DBAR,ITS-90,PSS-78,,PSS-78,,UMOL/KG,,UMOL/KG,,UMOL/KG,,UMOL/KG,,UMOL/KG,,UMOL/KG,,PMOL/KG,,PMOL/KG,,FMOL/KG,,UMOL/KG,,UMOL/KG,,,,DEG C,TU,,NMOL/KG,,PERCNT,,DEG C,,/MILLE,,/MILLE,,/MILLE,NMOL/KG,,NMOL/KG,UMOL/KG,,UMOL/KG,,,,NMOL/KG,PERCNT,,
33RR20090320,        I05,     133,          1,         36,         36,2,20090427,       0201,   -31.8206,    88.6982,       3203,    10.0,  19.4892,  35.7036,2,  35.7032,2,    231.7,2,   231.6,2,    1.39,2,    0.08,2,    0.00,2,    0.16,2,   2.228,6,   1.331,6,   1.2180,6,  2071.6,6,  2349.5,2,   8.0772,2,    20.00,   0.451,2,   1.811,2,  -1.718,2,  19.4882,2,-999.000,9, -999.00,9, -999.00,   7.336,2,   0.012,   67.76,2,    3.92,2, -31.8205,  88.6978,   0.000,   0.193,20090427,       0341
33RR20090320,        I05,     133,          1,         35,         35,2,20090427,       0201,   -31.8206,    88.6982,       3203,    25.1,  19.4031,  35.6951,2,  35.6965,2,    231.8,2,   231.5,2,    1.18,2,    0.03,2,    0.00,2,    0.15,2,   2.199,2,   1.330,2,   1.2470,2,  2071.4,2,  2350.1,2,   8.0773,2,    20.00,   0.553,2,   1.828,2,  -1.011,2,  19.3978,2,-999.000,9, -999.00,9, -999.00,   7.481,2,   0.012,   67.38,2,    4.47,2, -31.8205,  88.6978,   0.000,   0.194,20090427,       0340
33RR20090320,        I05,     133,          1,         34,         34,2,20090427,       0201,   -31.8206,    88.6982,       3203,    45.0,  19.4078,  35.7139,2,  35.7141,2,    231.9,2,   231.6,2,    1.15,2,    0.08,2,    0.00,2,    0.15,2,   2.239,2,   1.341,2,   1.2130,2,  2072.2,2,  2349.4,2,   8.0777,2,    20.00,   0.428,2,   1.830,2,  -1.718,2,  19.4069,2,-999.000,9, -999.00,9, -999.00,   7.289,2,   0.010,   66.96,2,    4.18,2, -31.8205,  88.6978,   0.000,   0.187,20090427,       0338
33RR20090320,        I05,     133,          1,         33,         33,2,20090427,       0201,   -31.8206,    88.6982,       3203,    59.3,  19.3671,  35.7133,2,  35.7161,2,    232.3,2,   232.1,2,    1.30,2,    0.08,2,    0.00,2,    0.15,2,   2.242,2,   1.338,2,   1.2080,2,  2072.3,2,  2350.7,2,   8.0774,2,    20.00,   0.470,2,   1.844,2,  -1.742,2,  19.3719,2,-999.000,9, -999.00,9, -999.00,   7.438,2,   0.010,   65.99,2,    4.34,2, -31.8205,  88.6978,   0.000,   0.205,20090427,       0337
33RR20090320,        I05,     133,          1,         32,         32,2,20090427,       0201,   -31.8206,    88.6982,       3203,    96.0,  14.6707,  35.3924,2,  35.3847,2,    243.4,2,   244.8,2,    1.63,2,    1.97,2,    0.32,2,    0.36,2,   2.818,2,   1.643,2,   1.4500,2,  2095.1,2,  2331.1,2,   8.0037,2,    20.00,   0.418,2,   1.862,2,  -1.326,2,  14.7306,2,-999.000,9, -999.00,9, -999.00,   7.571,2,   0.010,   57.54,2,    6.10,2, -31.8205,  88.6977,   0.000,   0.186,20090427,       0335
33RR20090320,        I05,     133,          1,         31,         31,2,20090427,       0201,   -31.8206,    88.6982,       3203,   119.3,  14.1443,  35.3649,2,  35.3674,2,    237.3,2,   236.7,2,    1.60,2,    3.93,2,    0.22,2,    0.45,2,   2.884,2,   1.671,2,   1.3540,2,  2103.7,2,  2330.6,2,   7.9840,2,    20.00,   0.405,2,   1.849,2,  -1.766,2,  14.1539,2,-999.000,9, -999.00,9, -999.00,   7.636,2,   0.011,   55.93,2,    8.07,2, -31.8206,  88.6977,   0.000,   0.199,20090427,       0333
33RR20090320,        I05,     133,          1,         30,         30,2,20090427,       0201,   -31.8206,    88.6982,       3203,   145.3,  13.6899,  35.3073,2,  35.3126,2,    235.3,2,   236.5,2,    1.75,2,    5.17,2,    0.01,2,    0.50,2,   2.932,2,   1.696,2,   1.4800,2,  2106.5,2,  2326.3,2,   7.9712,2,    20.00,-999.000,9,   1.855,2,  -1.836,2,  13.6854,2,-999.000,9, -999.00,9, -999.00,   7.727,2,   0.014,   53.09,2,    8.81,2, -31.8206,  88.6977,   0.000,   0.206,20090427,       0331
33RR20090320,        I05,     133,          1,         29,         29,2,20090427,       0201,   -31.8206,    88.6982,       3203,   189.7,  12.6856,  35.1269,2,  35.1211,2,    236.3,2,   237.4,2,    2.43,2,    7.74,2,    0.00,2,    0.65,2,   3.107,2,   1.777,2,   1.5200,2,  2111.4,2,  2311.8,2,   7.9410,2,    20.00,   0.396,2,-999.000,9,-999.000,9,  12.6735,2,-999.000,9, -999.00,9, -999.00,-999.000,9,-999.000,   51.14,2,   10.15,2, -31.8206,  88.6976,-999.000,-999.000,20090427,       0329
33RR20090320,        I05,     133,          1,         28,         28,2,20090427,       0201,   -31.8206,    88.6982,       3203,   240.0,  12.0757,  35.0613,2,  35.0637,2,    241.7,2,   238.8,2,    2.76,2,    9.03,2,    0.00,2,    0.72,2,   3.190,2,   1.817,2,   1.4230,2,  2115.6,2,  2310.9,2,   7.9278,2,    20.00,   0.407,2,   1.873,2,  -1.621,2,  12.0673,2,-999.000,9, -999.00,9, -999.00,   7.656,2,   0.008,   49.26,2,   11.24,2, -31.8206,  88.6976,   0.000,   0.173,20090427,       0327
33RR20090320,        I05,     133,          1,         27,         27,2,20090427,       0201,   -31.8206,    88.6982,       3203,   289.4,  11.7873,  35.0388,2,  35.0405,2,    237.9,2,   238.7,2,    2.91,2,    9.70,2,    0.00,2,    0.76,2,   3.261,2,   1.843,2,   1.4470,2,  2118.0,2,  2309.8,2,   7.9197,2,    20.00,   0.335,2,   1.901,2,  -1.042,2,  11.7842,2,-999.000,9, -999.00,9, -999.00,   7.795,2,   0.009,   48.50,2,   12.20,2, -31.8206,  88.6976,   0.000,   0.185,20090427,       0324
33RR20090320,        I05,     133,          1,         26,         26,2,20090427,       0201,   -31.8206,    88.6982,       3203,   339.0,  11.4152,  34.9811,2,  34.9818,2,    241.0,2,   241.8,2,    3.06,2,   10.32,2,    0.00,2,    0.80,2,   3.316,2,   1.868,2,   1.3850,2,  2118.9,2,  2308.9,2,   7.9139,2,    20.00,   0.376,2,   1.882,2,  -1.245,2,  11.4170,2,-999.000,9, -999.00,9, -999.00,   7.681,2,   0.009,   47.90,2,   12.48,2, -31.8206,  88.6975,   0.000,   0.184,20090427,       0321
33RR20090320,        I05,     133,          1,         25,         25,2,20090427,       0201,   -31.8206,    88.6982,       3203,   388.0,  11.0550,  34.9274,2,  34.9285,2,    242.2,2,   241.9,2,    3.39,2,   11.24,2,    0.00,2,    0.86,2,   3.389,2,   1.888,2,   1.3650,2,  2118.7,2,  2303.5,2,   7.9055,2,    20.00,   0.311,2,   1.836,2,  -1.439,2,  11.0551,2,-999.000,9, -999.00,9, -999.00,   7.774,2,   0.008,   47.02,2,   13.58,2, -31.8206,  88.6976,   0.000,   0.193,20090427,       0318
33RR20090320,        I05,     133,          1,         24,         24,2,20090427,       0201,   -31.8206,    88.6982,       3203,   439.2,  10.7515,  34.8842,2,  34.8839,2,    241.1,2,   241.2,2,    3.90,2,   12.31,2,    0.00,2,    0.92,2,   3.431,2,   1.895,2,   1.3450,2,  2121.7,2,  2302.4,2,   7.8956,2,    20.00,-999.000,9,   1.852,2,  -1.162,2,  10.7527,2,-999.000,9, -999.00,9, -999.00,   7.672,2,   0.009,   46.23,2,   14.23,2, -31.8207,  88.6976,   0.000,   0.172,20090427,       0316
33RR20090320,        I05,     133,          1,         23,         23,2,20090427,       0201,   -31.8206,    88.6982,       3203,   488.7,  10.5024,  34.8504,2,  34.8527,2,    239.7,2,   240.2,2,    4.04,2,   12.98,2,    0.00,2,    0.97,2,   3.472,2,   1.913,2,   1.3310,2,  2125.5,2,  2300.2,2,   7.8880,2,    20.00,   0.297,2,   1.843,2,  -0.764,2,  10.5081,2,-999.000,9, -999.00,9, -999.00,   7.849,2,   0.008,   45.28,2,   14.83,2, -31.8207,  88.6976,   0.000,   0.207,20090427,       0314
33RR20090320,        I05,     133,          1,         22,         22,2,20090427,       0201,   -31.8206,    88.6982,       3203,   568.2,  10.0536,  34.7912,2,  34.7884,2,    234.0,2,   236.8,2,    4.73,2,   14.47,2,    0.00,2,    1.05,2,   3.493,2,   1.891,2,   1.0750,2,  2128.1,2,  2299.0,2,   7.8737,2,    20.00,-999.000,9,-999.000,9,-999.000,9,  10.0647,2,-999.000,9, -999.00,9, -999.00,-999.000,9,-999.000,   44.47,2,   15.92,2, -31.8208,  88.6976,-999.000,-999.000,20090427,       0312
33RR20090320,        I05,     133,          1,         21,         21,2,20090427,       0201,   -31.8206,    88.6982,       3203,   669.7,   9.3146,  34.6862,2,  34.6833,2,    230.7,2,   232.1,2,    5.76,2,   16.94,2,    0.00,2,    1.21,2,   3.503,6,   1.840,6,   0.9680,6,  2134.5,2,  2290.7,2,   7.8489,2,    20.00,   0.283,2,-999.000,9,-999.000,9,   9.3073,2,-999.000,9, -999.00,9, -999.00,-999.000,9,-999.000,   43.66,2,   18.92,2, -31.8208,  88.6976,-999.000,-999.000,20090427,       0309
33RR20090320,        I05,     133,          1,         20,         20,2,20090427,       0201,   -31.8206,    88.6982,       3203,   769.0,   8.2366,  34.5707,2,  34.5731,2,    214.5,2,   215.6,2,    9.81,2,   21.00,2,    0.00,2,    1.47,2,   2.986,2,   1.515,2,   0.6840,2,  2148.9,2,  2290.4,2,   7.8038,2,    20.00,-999.000,9,-999.000,9,-999.000,9,   8.2462,2,-999.000,9, -999.00,9, -999.00,-999.000,9,-999.000,   42.85,2,   22.81,2, -31.8208,  88.6976,-999.000,-999.000,20090427,       0306
33RR20090320,        I05,     133,          1,         19,         19,2,20090427,       0201,   -31.8206,    88.6982,       3203,   870.3,   6.9065,  34.4662,2,  34.4667,2,    201.9,2,   201.3,2,   17.26,2,   25.50,2,    0.00,2,    1.78,2,   2.228,2,   1.113,2,   0.4100,2,  2170.2,2,  2291.3,2,   7.7511,2,    20.00,   0.132,2,   1.875,2,   1.897,2,   6.9028,2,-999.000,9, -999.00,9, -999.00,   8.094,2,   0.008,   42.35,2,   26.84,2, -31.8209,  88.6976,   0.000,   0.193,20090427,       0303
33RR20090320,        I05,     133,          1,         18,         18,2,20090427,       0201,   -31.8206,    88.6982,       3203,   969.1,   5.3322,  34.3926,2,  34.3929,2,    195.7,2,   195.3,2,   28.30,2,   29.39,2,    0.00,2,    2.06,2,   1.626,2,   0.801,2,   0.2470,2,  2191.9,2,  2297.6,2,   7.7056,2,    20.00,-999.000,9,   1.900,2,   3.031,2,   5.3317,2,-999.000,9, -999.00,9, -999.00,   8.188,2,   0.009,   41.80,2,   31.37,2, -31.8209,  88.6976,   0.000,   0.197,20090427,       0300
33RR20090320,        I05,     133,          1,         17,         17,2,20090427,       0201,   -31.8206,    88.6982,       3203,  1067.5,   4.4932,  34.3993,2,  34.3992,2,    185.8,2,   184.6,2,   40.31,2,   31.67,2,    0.00,2,    2.25,2,   1.055,2,   0.510,2,   0.1500,2,  2210.6,2,  2307.6,2,   7.6770,2,    20.00,   0.011,2,-999.000,9,-999.000,9,   4.4851,2,-999.000,9, -999.00,9, -999.00,-999.000,9,-999.000,   41.36,2,   33.21,2, -31.8209,  88.6976,-999.000,-999.000,20090427,       0257
33RR20090320,        I05,     133,          1,         16,         16,2,20090427,       0201,   -31.8206,    88.6982,       3203,  1167.9,   4.0222,  34.4383,2,  34.4379,2,    171.1,2,   171.2,2,   52.55,2,   33.23,2,    0.00,2,    2.37,2,   0.612,2,   0.291,2,   0.0610,2,  2229.9,2,  2319.7,2,   7.6547,2,    20.00,-999.000,9,-999.000,9,-999.000,9,   4.0220,2,-999.000,9, -999.00,9, -999.00,-999.000,9,-999.000,   40.63,2,   34.46,2, -31.8209,  88.6976,-999.000,-999.000,20090427,       0254
33RR20090320,        I05,     133,          1,         15,         15,2,20090427,       0201,   -31.8206,    88.6982,       3203,  1268.0,   3.7293,  34.4858,2,  34.4852,2,    159.4,2,   159.9,2,   63.04,2,   34.16,2,    0.00,2,    2.46,2,   0.313,2,   0.150,2,   0.0000,2,  2244.9,2,  2330.8,2,   7.6384,2,    20.00,   0.075,2,   1.912,2,   8.257,2,   3.7293,2,-999.000,9, -999.00,9, -999.00,   8.262,2,   0.009,   40.72,2,   35.75,2, -31.8209,  88.6977,   0.000,   0.208,20090427,       0251
33RR20090320,        I05,     133,          1,         14,         14,2,20090427,       0201,   -31.8206,    88.6982,       3203,  1365.3,   3.5318,  34.5186,2,  34.5184,2,    154.4,2,   155.0,2,   69.38,2,   34.47,2,    0.00,2,    2.49,2,   0.194,2,   0.096,2,   0.0000,2,  2253.3,2,  2336.7,2,   7.6322,2,    20.00,-999.000,9,   1.924,2,   9.172,2,   3.5318,2,-999.000,9, -999.00,9, -999.00,   8.649,2,   0.010,   40.14,2,   35.89,2, -31.8209,  88.6978,   0.000,   0.199,20090427,       0249
33RR20090320,        I05,     133,          1,         13,         13,2,20090427,       0201,   -31.8206,    88.6982,       3203,  1466.3,   3.3617,  34.5503,2,  34.5501,2,    151.9,2,   151.6,2,   74.46,2,   34.67,2,    0.00,2,    2.51,2,   0.124,2,   0.061,2,   0.0000,2,  2259.8,2,  2342.9,2,   7.6287,2,    20.00,-999.000,9,-999.000,9,-999.000,9,   3.3614,2,-999.000,9, -999.00,9, -999.00,-999.000,9,-999.000,   40.10,2,   36.58,2, -31.8210,  88.6979,-999.000,-999.000,20090427,       0246
33RR20090320,        I05,     133,          1,         12,         12,2,20090427,       0201,   -31.8206,    88.6982,       3203,  1564.9,   3.1768,  34.5814,2,  34.5815,2,    151.9,2,   152.0,2,   78.64,2,   34.66,2,    0.00,2,    2.50,2,   0.079,2,   0.039,2,   0.0540,2,  2264.8,2,  2349.0,2,   7.6291,2,    20.00,-999.000,9,-999.000,9,-999.000,9,   3.1744,2,-999.000,9, -999.00,9, -999.00,-999.000,9,-999.000,   39.95,2,   36.22,2, -31.8209,  88.6979,-999.000,-999.000,20090427,       0243
33RR20090320,        I05,     133,          1,         11,         11,2,20090427,       0201,   -31.8206,    88.6982,       3203,  1666.5,   3.0325,  34.6076,2,  34.6087,2,    152.4,2,   153.0,2,   82.27,2,   34.49,2,    0.00,2,    2.49,2,   0.053,2,   0.028,2,   0.0000,2,  2267.8,6,  2350.7,2,   7.6321,2,    20.00,-999.000,9,   1.933,2,  10.014,2,   3.0321,2,-999.000,9, -999.00,9, -999.00,   8.622,2,   0.010,   39.91,2,   36.43,2, -31.8209,  88.6980,   0.000,   0.209,20090427,       0240
33RR20090320,        I05,     133,          1,         10,         10,2,20090427,       0201,   -31.8206,    88.6982,       3203,  1767.3,   2.9227,  34.6304,2,  34.6307,2,    153.8,2,   155.6,2,   85.36,2,   34.27,2,    0.00,2,    2.47,2,   0.038,2,   0.019,2,   0.0000,2,  2270.0,2,  2352.6,2,   7.6353,2,    20.00,-999.000,9,-999.000,9,-999.000,9,   2.9230,2,-999.000,9, -999.00,9, -999.00,-999.000,9,-999.000,   40.07,2,   35.68,2, -31.8209,  88.6981,-999.000,-999.000,20090427,       0237
33RR20090320,        I05,     133,          1,          9,          9,2,20090427,       0201,   -31.8206,    88.6982,       3203,  1940.0,   2.7236,  34.6629,2,  34.6630,2,    158.9,2,   158.4,2,   88.45,2,   33.69,2,    0.00,2,    2.43,2,   0.030,2,   0.015,2,   0.0000,2,  2269.4,2,  2356.3,2,   7.6428,2,    20.00,-999.000,9,-999.000,9,-999.000,9,   2.7234,2,-999.000,9, -999.00,9, -999.00,-999.000,9,-999.000,   39.83,2,   35.56,2, -31.8208,  88.6982,-999.000,-999.000,20090427,       0233
33RR20090320,        I05,     133,          1,          8,          8,2,20090427,       0201,   -31.8206,    88.6982,       3203,  2142.6,   2.4975,  34.6934,2,  34.6934,2,    168.4,2,   167.3,2,   89.53,2,   32.84,2,    0.00,2,    2.36,2,   0.030,2,   0.016,2,   0.0230,2,  2266.5,2,  2357.8,2,   7.6553,2,    20.00,-999.000,9,-999.000,9,-999.000,9,   2.4972,2,-999.000,9, -999.00,9, -999.00,-999.000,9,-999.000,   39.86,2,   34.74,2, -31.8207,  88.6983,-999.000,-999.000,20090427,       0229
33RR20090320,        I05,     133,          1,          7,          7,2,20090427,       0201,   -31.8206,    88.6982,       3203,  2345.5,   2.2505,  34.7228,2,  34.7236,2,    180.7,2,   180.9,2,   88.23,2,   31.47,2,    0.00,2,    2.25,2,   0.033,2,   0.018,2,   0.0000,2,  2258.0,2,  2357.8,2,   7.6731,2,    20.00,-999.000,9,   2.047,2,  11.832,2,   2.2502,2,-999.000,9, -999.00,9, -999.00,   9.122,2,   0.011,   39.52,2,   32.82,2, -31.8206,  88.6983,   0.000,   0.197,20090427,       0224
33RR20090320,        I05,     133,          1,          6,          6,2,20090427,       0201,   -31.8206,    88.6982,       3203,  2547.6,   2.0004,  34.7321,2,  34.7318,2,    184.1,2,   184.1,2,   97.02,2,   31.57,2,    0.00,2,    2.25,2,   0.013,2,   0.008,2,   0.0000,2,  2262.2,2,  2363.5,2,   7.6793,2,    20.00,-999.000,9,-999.000,9,-999.000,9,   2.0020,2,-999.000,9, -999.00,9, -999.00,-999.000,9,-999.000,   40.04,2,   32.79,2, -31.8207,  88.6982,-999.000,-999.000,20090427,       0219
33RR20090320,        I05,     133,          1,          5,          5,2,20090427,       0201,   -31.8206,    88.6982,       3203,  2748.6,   1.7439,  34.7356,2,  34.7362,2,    190.5,2,   191.3,2,  101.41,2,   31.40,2,    0.00,2,    2.23,2,   0.017,2,   0.009,2,   0.0000,2,  2260.7,2,  2366.2,2,   7.6858,2,    20.00,-999.000,9,-999.000,9,-999.000,9,   1.7449,2,-999.000,9, -999.00,9, -999.00,-999.000,9,-999.000,   40.07,2,   33.15,2, -31.8206,  88.6981,-999.000,-999.000,20090427,       0215
33RR20090320,        I05,     133,          1,          4,          4,2,20090427,       0201,   -31.8206,    88.6982,       3203,  2952.5,   1.5844,  34.7353,2,  34.7356,2,    195.4,2,   195.6,2,  104.34,2,   31.29,2,    0.00,2,    2.22,2,   0.020,2,   0.012,2,   0.0000,2,  2260.0,2,  2363.8,2,   7.6880,2,    20.00,-999.000,9,-999.000,9,-999.000,9,   1.5841,2,-999.000,9, -999.00,9, -999.00,-999.000,9,-999.000,   39.98,2,   33.25,2, -31.8206,  88.6982,-999.000,-999.000,20090427,       0210
33RR20090320,        I05,     133,          1,          3,          3,2,20090427,       0201,   -31.8206,    88.6982,       3203,  3156.7,   1.3849,  34.7303,2,  34.7320,2,    199.2,2,   199.3,2,  108.93,2,   31.38,2,    0.00,2,    2.23,2,   0.025,2,   0.012,2,   0.0570,2,  2260.4,2,  2367.3,2,   7.6887,2,    20.00,   0.001,2,   2.028,2,  11.000,2,   1.3837,2,-999.000,9, -999.00,9, -999.00,   9.047,2,   0.011,   40.32,2,   33.27,2, -31.8206,  88.6982,   0.000,   0.198,20090427,       0205
33RR20090320,        I05,     133,          1,          2,          2,2,20090427,       0201,   -31.8206,    88.6982,       3203,  3199.8,   1.3480,  34.7292,2,  34.7285,2,    199.9,2,   199.6,2,  109.84,2,   31.43,2,    0.00,2,    2.23,2,   0.025,2,   0.015,2,   0.0650,2,  2261.4,2,  2367.7,2,   7.6887,2,    20.00,-999.000,9,-999.000,9,-999.000,9,   1.3475,2,-999.000,9, -999.00,9, -999.00,-999.000,9,-999.000,   40.27,2,   33.53,2, -31.8206,  88.6982,-999.000,-999.000,20090427,       0203
33RR20090320,        I05,     133,          1,          1,          1,2,20090427,       0201,   -31.8206,    88.6982,       3203,  3235.0,   1.3455,  34.7289,2,  34.7299,2,    199.6,2,   199.9,2,  110.38,2,   31.36,2,    0.00,2,    2.24,2,   0.025,6,   0.014,6,   0.0170,6,  2262.1,6,  2368.7,2,   7.6887,2,    20.00,   0.051,2,   2.000,2,  11.203,2,   1.3464,2,-999.000,9, -999.00,9, -999.00,   8.973,2,   0.011,   40.07,2,   33.06,2, -31.8206,  88.6981,   0.000,   0.199,20090427,       0201