BOTTLE,20220814CCHSIOAMB
EXPOCODE,SECT_ID,STNNBR,CASTNO,SAMPNO,BTLNBR,BTLNBR_FLAG_W,DATE,TIME,LATITUDE,LONGITUDE,DEPTH,CTDPRS,CTDTMP,CTDSAL,CTDSAL_FLAG_W,SALNTY,SALNTY_FLAG_W,CTDOXY,CTDOXY_FLAG_W,OXYGEN,OXYGEN_FLAG_W,SILCAT,SILCAT_FLAG_W,NITRAT,NITRAT_FLAG_W,NITRIT,NITRIT_FLAG_W,PHSPHT,PHSPHT_FLAG_W,CFC-11,CFC-11_FLAG_W,CFC-12,CFC-12_FLAG_W,SF6,SF6_FLAG_W,TCARBN,TCARBN_FLAG_W,ALKALI,ALKALI_FLAG_W,PH_TOT,PH_TOT_FLAG_W,PH_TMP,TRITUM,TRITUM_FLAG_W,HELIUM,HELIUM_FLAG_W,DELHE3,DELHE3_FLAG_W,REFTMP,REFTMP_FLAG_W,DELC13,DELC13_FLAG_W,DELC14,DELC14_FLAG_W,C14ERR,NEON,NEON_FLAG_W,NEONER,DOC,DOC_FLAG_W,TDN,TDN_FLAG_W,BTL_LAT,BTL_LON,HELIER,DELHER,BTL_DATE,BTL_TIME
,,,,,,,,,,,METERS,DBAR,ITS-90,PSS-78,,PSS-78,,UMOL/KG,,UMOL/KG,,UMOL/KG,,UMOL/KG,,UMOL/KG,,UMOL/KG,,PMOL/KG,,PMOL/KG,,FMOL/KG,,UMOL/KG,,UMOL/KG,,,,DEG C,TU,,NMOL/KG,,PERCNT,,DEG C,,/MILLE,,/MILLE,,/MILLE,NMOL/KG,,NMOL/KG,UMOL/KG,,UMOL/KG,,,,NMOL/KG,PERCNT,,
33RR20090320,        I05,      53,          2,         36,         36,2,20090405,       0825,   -33.8367,    50.9774,       4468,     4.5,  21.4483,  35.5585,2,  35.5578,2,    222.5,2,   223.5,2,    1.64,2,    0.12,2,    0.00,2,    0.10,2,   2.006,2,   1.221,2,   1.1910,2,  2037.0,6,  2329.8,2,   8.1064,2,    20.00,-999.000,9,-999.000,9,-999.000,9,  21.4534,2,-999.000,9, -999.00,9, -999.00,-999.000,9,-999.000,   65.57,2,    4.09,2, -33.8367,  50.9775,-999.000,-999.000,20090405,       1025
33RR20090320,        I05,      53,          2,         35,         35,2,20090405,       0825,   -33.8367,    50.9774,       4468,    25.9,  21.2524,  35.5629,2,  35.5627,2,    225.0,2,   223.9,2,    1.62,2,    0.12,2,    0.00,2,    0.10,2,   2.026,2,   1.239,2,   1.1030,2,  2036.6,2,  2329.2,2,   8.1061,2,    20.00,-999.000,9,-999.000,9,-999.000,9,  21.2569,2,-999.000,9, -999.00,9, -999.00,-999.000,9,-999.000,   64.74,2,    4.38,2, -33.8367,  50.9775,-999.000,-999.000,20090405,       1023
33RR20090320,        I05,      53,          2,         34,         34,3,20090405,       0825,   -33.8367,    50.9774,       4468,    51.0,  19.3428,  35.5672,2,  35.5661,2,   -999.0,5,  -999.0,9,    1.80,2,    0.12,2,    0.00,2,    0.13,2,-999.000,9,-999.000,9,-999.0000,9,  -999.0,9,  -999.0,9,-999.0000,9,  -999.00,-999.000,9,-999.000,9,-999.000,9,  19.3429,2,-999.000,9, -999.00,9, -999.00,-999.000,9,-999.000, -999.00,9, -999.00,9, -33.8367,  50.9774,-999.000,-999.000,20090405,       1022
33RR20090320,        I05,      53,          2,         33,         33,2,20090405,       0825,   -33.8367,    50.9774,       4468,    75.7,  18.0230,  35.5450,2,  35.5462,2,    236.6,2,   237.0,2,    1.98,2,    0.17,2,    0.01,2,    0.16,2,   2.386,2,   1.423,2,   1.2120,2,  2054.0,2,  2329.6,2,   8.0773,2,    20.00,-999.000,9,-999.000,9,-999.000,9,  18.0320,2,-999.000,9, -999.00,9, -999.00,-999.000,9,-999.000,   58.78,2,    4.08,2, -33.8367,  50.9774,-999.000,-999.000,20090405,       1020
33RR20090320,        I05,      53,          2,         32,         32,2,20090405,       0825,   -33.8367,    50.9774,       4468,   100.5,  16.8980,  35.5221,2,  35.5198,2,    227.2,2,   226.5,2,    2.55,2,    1.98,2,    0.08,2,    0.29,2,   2.477,2,   1.473,2,   1.3100,2,  2071.0,2,  2326.8,2,   8.0412,2,    20.00,-999.000,9,-999.000,9,-999.000,9,  16.9008,2,-999.000,9, -999.00,9, -999.00,-999.000,9,-999.000,   55.28,2,    5.69,2, -33.8367,  50.9774,-999.000,-999.000,20090405,       1019
33RR20090320,        I05,      53,          2,         31,         31,2,20090405,       0825,   -33.8367,    50.9774,       4468,   149.5,  15.8923,  35.4871,2,  35.4865,2,    219.7,2,   218.4,2,    3.50,2,    4.70,2,    0.01,2,    0.43,2,   2.575,2,   1.512,2,   1.3300,2,  2087.8,2,  2325.2,2,   8.0088,2,    20.00,-999.000,9,-999.000,9,-999.000,9,  15.8724,2,-999.000,9, -999.00,9, -999.00,-999.000,9,-999.000,   51.67,2,    8.67,2, -33.8368,  50.9774,-999.000,-999.000,20090405,       1016
33RR20090320,        I05,      53,          2,         30,         30,2,20090405,       0825,   -33.8367,    50.9774,       4468,   198.9,  15.2727,  35.4452,2,  35.4435,2,    219.1,2,   219.4,2,    3.68,2,    5.62,2,    0.01,2,    0.50,2,   2.649,2,   1.547,2,   1.2350,2,  2094.2,2,  2323.5,2,   7.9930,2,    20.00,-999.000,9,-999.000,9,-999.000,9,  15.2604,2,-999.000,9, -999.00,9, -999.00,-999.000,9,-999.000,   51.22,2,    8.57,2, -33.8368,  50.9774,-999.000,-999.000,20090405,       1014
33RR20090320,        I05,      53,          2,         29,         29,2,20090405,       0825,   -33.8367,    50.9774,       4468,   249.8,  14.6411,  35.3944,2,  35.3930,2,    217.5,2,   218.3,2,    4.06,2,    6.81,2,    0.00,2,    0.57,2,   2.741,2,   1.581,2,   1.2700,2,  2101.1,2,  2321.5,2,   7.9752,2,    20.00,-999.000,9,-999.000,9,-999.000,9,  14.6393,2,-999.000,9, -999.00,9, -999.00,-999.000,9,-999.000,   49.59,2,    9.13,2, -33.8368,  50.9774,-999.000,-999.000,20090405,       1012
33RR20090320,        I05,      53,          2,         28,         28,2,20090405,       0825,   -33.8367,    50.9774,       4468,   300.2,  14.2063,  35.3622,2,  35.3625,2,    218.9,2,   224.0,2,    3.85,2,    6.92,2,    0.00,2,    0.58,2,   2.813,2,   1.621,2,   1.1910,2,  2102.7,2,  2320.0,2,   7.9713,2,    20.00,-999.000,9,-999.000,9,-999.000,9,  14.2146,2,-999.000,9, -999.00,9, -999.00,-999.000,9,-999.000,   48.33,2,    9.35,2, -33.8368,  50.9774,-999.000,-999.000,20090405,       1010
33RR20090320,        I05,      53,          2,         27,         27,2,20090405,       0825,   -33.8367,    50.9774,       4468,   349.2,  13.7145,  35.3115,2,  35.3103,2,    223.7,2,   221.6,2,    4.03,2,    8.27,2,    0.00,2,    0.65,2,   2.882,2,   1.642,2,   1.1890,2,  2109.9,2,  2318.6,2,   7.9545,2,    20.00,-999.000,9,-999.000,9,-999.000,9,  13.7094,2,-999.000,9, -999.00,9, -999.00,-999.000,9,-999.000,   47.40,2,   10.78,2, -33.8368,  50.9774,-999.000,-999.000,20090405,       1007
33RR20090320,        I05,      53,          2,         26,         26,2,20090405,       0825,   -33.8367,    50.9774,       4468,   399.6,  13.4390,  35.2788,2,  35.2770,2,    220.9,2,   221.4,2,    4.21,2,    8.91,2,    0.00,2,    0.70,2,   2.896,2,   1.638,2,   1.1810,2,  2111.2,2,  2317.1,2,   7.9461,2,    20.00,-999.000,9,-999.000,9,-999.000,9,  13.4384,2,-999.000,9, -999.00,9, -999.00,-999.000,9,-999.000,   46.06,2,   10.72,2, -33.8367,  50.9774,-999.000,-999.000,20090405,       1005
33RR20090320,        I05,      53,          2,         25,         25,2,20090405,       0825,   -33.8367,    50.9774,       4468,   448.9,  12.9991,  35.2238,2,  35.2207,2,    223.2,2,   222.4,2,    4.39,2,    9.78,2,    0.00,2,    0.75,2,   2.966,2,   1.673,2,   1.1170,2,  2113.8,2,  2315.5,2,   7.9358,2,    20.00,-999.000,9,-999.000,9,-999.000,9,  12.9988,2,-999.000,9, -999.00,9, -999.00,-999.000,9,-999.000,   45.19,2,   11.52,2, -33.8366,  50.9774,-999.000,-999.000,20090405,       1003
33RR20090320,        I05,      53,          2,         24,         24,2,20090405,       0825,   -33.8367,    50.9774,       4468,   498.6,  12.5766,  35.1636,2,  35.1617,2,    231.8,2,   224.4,2,    4.37,2,   10.53,2,    0.00,2,    0.80,2,   3.024,2,   1.686,2,   1.2270,2,  2117.6,2,  2314.0,2,   7.9275,2,    20.00,-999.000,9,-999.000,9,-999.000,9,  12.5813,2,-999.000,9, -999.00,9, -999.00,-999.000,9,-999.000,   44.35,2,   12.38,2, -33.8366,  50.9773,-999.000,-999.000,20090405,       1001
33RR20090320,        I05,      53,          2,         23,         23,2,20090405,       0825,   -33.8367,    50.9774,       4468,   597.5,  12.0265,  35.0758,2,  35.0757,2,    227.7,2,   229.1,2,    4.36,2,   11.29,2,    0.00,2,    0.86,2,   3.121,2,   1.742,2,   1.2760,2,  2119.2,2,  2308.2,2,   7.9173,2,    20.00,-999.000,9,-999.000,9,-999.000,9,  12.0250,2,-999.000,9, -999.00,9, -999.00,-999.000,9,-999.000,   43.43,2,   12.63,2, -33.8367,  50.9772,-999.000,-999.000,20090405,       0958
33RR20090320,        I05,      53,          2,         22,         22,2,20090405,       0825,   -33.8367,    50.9774,       4468,   698.7,  10.8342,  34.9074,2,  34.9078,2,    218.6,2,   218.9,2,    6.09,2,   14.69,2,    0.00,2,    1.07,2,   3.117,2,   1.664,2,   0.9660,2,  2130.4,6,  2301.9,2,   7.8776,2,    20.00,-999.000,9,-999.000,9,-999.000,9,  10.8281,2,-999.000,9, -999.00,9, -999.00,-999.000,9,-999.000,   42.71,2,   16.25,2, -33.8366,  50.9772,-999.000,-999.000,20090405,       0955
33RR20090320,        I05,      53,          2,         21,         21,2,20090405,       0825,   -33.8367,    50.9774,       4468,   801.9,   9.6928,  34.7619,2,  34.7615,2,    212.7,2,   213.4,2,    8.42,2,   17.72,2,    0.00,2,    1.28,2,   2.964,6,   1.544,6,   0.7610,6,  2140.6,2,  2296.6,2,   7.8414,2,    20.00,-999.000,9,-999.000,9,-999.000,9,   9.6966,2,-999.000,9, -999.00,9, -999.00,-999.000,9,-999.000,   42.15,2,   19.50,2, -33.8367,  50.9771,-999.000,-999.000,20090405,       0952
33RR20090320,        I05,      53,          2,         20,         20,2,20090405,       0825,   -33.8367,    50.9774,       4468,   900.8,   8.1054,  34.5991,2,  34.5987,2,    204.3,2,   205.0,2,   14.06,2,   22.28,2,    0.00,2,    1.58,2,   2.665,2,   1.361,2,   0.5760,2,  2160.1,2,  2293.9,2,   7.7880,2,    20.00,-999.000,9,-999.000,9,-999.000,9,   8.1118,2,-999.000,9, -999.00,9, -999.00,-999.000,9,-999.000,   41.62,2,   24.14,2, -33.8366,  50.9771,-999.000,-999.000,20090405,       0949
33RR20090320,        I05,      53,          2,         19,         19,2,20090405,       0825,   -33.8367,    50.9774,       4468,  1000.3,   6.7506,  34.4835,2,  34.4832,2,    202.0,2,   203.6,2,   19.71,2,   25.64,2,    0.00,2,    1.82,2,   2.463,2,   1.239,2,   0.6120,2,  2174.3,2,  2294.5,2,   7.7497,2,    20.00,-999.000,9,-999.000,9,-999.000,9,   6.7513,2,-999.000,9, -999.00,9, -999.00,-999.000,9,-999.000,   41.54,2,   27.24,2, -33.8366,  50.9771,-999.000,-999.000,20090405,       0946
33RR20090320,        I05,      53,          2,         18,         18,2,20090405,       0825,   -33.8367,    50.9774,       4468,  1100.8,   5.4007,  34.3994,2,  34.3990,2,    203.1,2,   204.7,2,   26.75,2,   28.42,2,    0.00,2,    2.03,2,  -0.001,4,   0.000,4,   0.0930,4,  2189.2,2,  2296.8,2,   7.7178,2,    20.00,-999.000,9,-999.000,9,-999.000,9,   5.4031,2,-999.000,9, -999.00,9, -999.00,-999.000,9,-999.000,   41.47,2,   30.17,2, -33.8366,  50.9771,-999.000,-999.000,20090405,       0943
33RR20090320,        I05,      53,          2,         17,         17,2,20090405,       0825,   -33.8367,    50.9774,       4468,  1202.2,   4.5704,  34.3923,2,  34.3922,2,    200.8,2,   199.0,2,   35.19,2,   30.39,2,    0.00,2,    2.17,2,   1.796,2,   0.887,2,   0.3500,2,  2203.4,2,  2301.3,2,   7.6952,2,    20.00,-999.000,9,-999.000,9,-999.000,9,   4.5751,2,-999.000,9, -999.00,9, -999.00,-999.000,9,-999.000,   41.33,2,   31.71,2, -33.8365,  50.9772,-999.000,-999.000,20090405,       0940
33RR20090320,        I05,      53,          2,         16,         16,2,20090405,       0825,   -33.8367,    50.9774,       4468,  1300.8,   4.0115,  34.4139,2,  34.4128,2,    192.9,2,   191.6,2,   43.65,2,   31.70,2,    0.00,2,    2.28,2,   1.383,2,   0.680,2,   0.2510,2,  2216.8,2,  2310.0,2,   7.6762,2,    20.00,-999.000,9,-999.000,9,-999.000,9,   4.0112,2,-999.000,9, -999.00,9, -999.00,-999.000,9,-999.000,   40.68,2,   32.88,2, -33.8366,  50.9772,-999.000,-999.000,20090405,       0938
33RR20090320,        I05,      53,          2,         15,         15,2,20090405,       0825,   -33.8367,    50.9774,       4468,  1400.4,   3.6497,  34.4387,2,  34.4374,2,    186.5,2,   186.2,2,   49.96,2,   32.41,2,    0.00,2,    2.33,2,   1.118,2,   0.551,2,   0.1010,2,  2226.0,2,  2316.6,2,   7.6636,2,    20.00,-999.000,9,-999.000,9,-999.000,9,   3.6471,2,-999.000,9, -999.00,9, -999.00,-999.000,9,-999.000,   40.11,2,   33.71,2, -33.8367,  50.9772,-999.000,-999.000,20090405,       0935
33RR20090320,        I05,      53,          2,         14,         14,2,20090405,       0825,   -33.8367,    50.9774,       4468,  1502.0,   3.3550,  34.4934,2,  34.4923,2,    180.4,2,   180.6,2,   57.27,2,   32.78,2,    0.00,2,    2.36,2,   0.743,2,   0.365,2,   0.0500,2,  2235.2,2,  2323.9,2,   7.6579,2,    20.00,-999.000,9,-999.000,9,-999.000,9,   3.3548,2,-999.000,9, -999.00,9, -999.00,-999.000,9,-999.000,   40.37,2,   34.40,2, -33.8367,  50.9772,-999.000,-999.000,20090405,       0932
33RR20090320,        I05,      53,          2,         13,         13,2,20090405,       0825,   -33.8367,    50.9774,       4468,  1597.5,   3.1483,  34.5323,2,  34.5311,2,    177.9,2,   178.8,2,   62.03,2,   32.78,2,    0.00,2,    2.36,2,   0.571,2,   0.282,2,   0.0600,2,  2241.8,2,  2327.9,2,   7.6559,2,    20.00,-999.000,9,-999.000,9,-999.000,9,   3.1480,2,-999.000,9, -999.00,9, -999.00,-999.000,9,-999.000,   39.85,2,   34.11,2, -33.8368,  50.9772,-999.000,-999.000,20090405,       0929
33RR20090320,        I05,      53,          2,         12,         12,2,20090405,       0825,   -33.8367,    50.9774,       4468,  1798.8,   2.7680,  34.6183,2,  34.6191,2,    178.2,2,   178.5,2,   69.96,2,   32.33,2,    0.00,2,    2.32,2,   0.280,2,   0.144,2,   0.0000,2,  2248.2,6,  2337.3,2,   7.6605,2,    20.00,-999.000,9,-999.000,9,-999.000,9,   2.7679,2,-999.000,9, -999.00,9, -999.00,-999.000,9,-999.000,   39.25,2,   34.07,2, -33.8366,  50.9772,-999.000,-999.000,20090405,       0924
33RR20090320,        I05,      53,          2,         11,         11,2,20090405,       0825,   -33.8367,    50.9774,       4468,  2001.0,   2.5605,  34.6688,2,  34.6690,2,    182.6,2,   182.3,2,   74.53,2,   31.61,2,    0.00,2,    2.27,2,   0.171,6,   0.089,6,   0.0000,6,  2250.0,2,  2342.0,2,   7.6704,2,    20.00,-999.000,9,-999.000,9,-999.000,9,   2.5593,2,-999.000,9, -999.00,9, -999.00,-999.000,9,-999.000,   39.60,2,   33.33,2, -33.8366,  50.9772,-999.000,-999.000,20090405,       0919
33RR20090320,        I05,      53,          2,         10,         10,2,20090405,       0825,   -33.8367,    50.9774,       4468,  2248.4,   2.3130,  34.7087,2,  34.7083,2,    188.6,2,   188.1,2,   80.90,2,   31.00,2,    0.00,2,    2.22,2,   0.105,2,   0.055,2,   0.0000,2,  2251.6,2,  2348.7,2,   7.6814,2,    20.00,-999.000,9,-999.000,9,-999.000,9,   2.3144,2,-999.000,9, -999.00,9, -999.00,-999.000,9,-999.000,   40.02,2,   32.59,2, -33.8367,  50.9772,-999.000,-999.000,20090405,       0914
33RR20090320,        I05,      53,          2,          9,          9,2,20090405,       0825,   -33.8367,    50.9774,       4468,  2500.4,   2.0789,  34.7304,2,  34.7300,2,    193.8,2,   192.8,2,   86.69,2,   30.56,2,    0.00,2,    2.20,2,   0.074,2,   0.040,2,   0.0000,2,  2252.7,2,  2353.9,2,   7.6889,2,    20.00,-999.000,9,-999.000,9,-999.000,9,   2.0791,2,-999.000,9, -999.00,9, -999.00,-999.000,9,-999.000,   39.72,2,   32.47,2, -33.8367,  50.9772,-999.000,-999.000,20090405,       0908
33RR20090320,        I05,      53,          2,          8,          8,2,20090405,       0825,   -33.8367,    50.9774,       4468,  2748.1,   1.8264,  34.7390,2,  34.7390,2,    197.6,2,   197.8,2,   93.28,2,   30.51,2,    0.00,2,    2.19,2,   0.061,2,   0.032,2,   0.0000,2,  2252.4,2,  2355.5,2,   7.6937,2,    20.00,-999.000,9,-999.000,9,-999.000,9,   1.8264,2,-999.000,9, -999.00,9, -999.00,-999.000,9,-999.000,   39.78,2,   32.22,2, -33.8368,  50.9772,-999.000,-999.000,20090405,       0903
33RR20090320,        I05,      53,          2,          7,          7,2,20090405,       0825,   -33.8367,    50.9774,       4468,  3022.0,   1.5942,  34.7354,2,  34.7351,2,    200.2,2,   200.2,2,  100.69,2,   30.83,2,    0.00,2,    2.21,2,   0.060,2,   0.032,2,   0.0360,2,  2256.8,2,  2359.0,2,   7.6920,2,    20.00,-999.000,9,-999.000,9,-999.000,9,   1.5954,2,-999.000,9, -999.00,9, -999.00,-999.000,9,-999.000,   39.68,2,   32.57,2, -33.8368,  50.9771,-999.000,-999.000,20090405,       0857
33RR20090320,        I05,      53,          2,          6,          6,2,20090405,       0825,   -33.8367,    50.9774,       4468,  3327.0,   1.3247,  34.7251,2,  34.7245,2,    202.7,2,   203.0,2,  108.92,2,   31.26,2,    0.00,2,    2.24,2,   0.069,2,   0.037,2,   0.0210,4,  2259.7,2,  2363.2,2,   7.6890,2,    20.00,-999.000,9,-999.000,9,-999.000,9,   1.3264,2,-999.000,9, -999.00,9, -999.00,-999.000,9,-999.000,   40.01,2,   32.72,2, -33.8368,  50.9771,-999.000,-999.000,20090405,       0851
33RR20090320,        I05,      53,          2,          5,          5,2,20090405,       0825,   -33.8367,    50.9774,       4468,  3631.2,   1.2547,  34.7215,2,  34.7214,2,    204.4,2,   204.7,2,  110.92,2,   31.41,2,    0.00,2,    2.25,2,   0.078,2,   0.041,2,   0.0140,2,  2259.1,2,  2361.3,2,   7.6882,2,    20.00,-999.000,9,-999.000,9,-999.000,9,   1.2546,2,-999.000,9, -999.00,9, -999.00,-999.000,9,-999.000,   39.70,2,   33.39,2, -33.8368,  50.9772,-999.000,-999.000,20090405,       0844
33RR20090320,        I05,      53,          2,          4,          4,2,20090405,       0825,   -33.8367,    50.9774,       4468,  3934.5,   1.1822,  34.7182,2,  34.7183,2,    205.7,2,   206.1,2,  114.15,2,   31.46,2,    0.00,2,    2.26,2,   0.081,2,   0.045,2,   0.0320,2,  2259.5,2,  2362.0,2,   7.6881,2,    20.00,-999.000,9,-999.000,9,-999.000,9,   1.1825,2,-999.000,9, -999.00,9, -999.00,-999.000,9,-999.000,   39.46,2,   33.18,2, -33.8368,  50.9773,-999.000,-999.000,20090405,       0838
33RR20090320,        I05,      53,          2,          3,          3,2,20090405,       0825,   -33.8367,    50.9774,       4468,  4240.6,   1.1603,  34.7158,2,  34.7156,2,    206.3,2,   206.4,2,  115.55,2,   31.57,2,    0.00,2,    2.27,2,   0.076,6,   0.041,6,   0.0090,6,  2260.6,2,  2363.1,2,   7.6877,2,    20.00,-999.000,9,-999.000,9,-999.000,9,   1.1603,2,-999.000,9, -999.00,9, -999.00,-999.000,9,-999.000,   40.17,2,   33.32,2, -33.8369,  50.9773,-999.000,-999.000,20090405,       0832
33RR20090320,        I05,      53,          2,          2,          2,2,20090405,       0825,   -33.8367,    50.9774,       4468,  4384.4,   1.1639,  34.7148,2,  34.7152,2,    206.5,2,   206.3,2,  116.14,2,   31.57,2,    0.00,2,    2.27,2,   0.044,4,   0.015,2,   0.0000,2,  2260.2,2,  2364.7,2,   7.6878,2,    20.00,-999.000,9,-999.000,9,-999.000,9,   1.1637,2,-999.000,9, -999.00,9, -999.00,-999.000,9,-999.000,   39.71,2,   33.39,2, -33.8368,  50.9773,-999.000,-999.000,20090405,       0829
33RR20090320,        I05,      53,          2,          1,          1,2,20090405,       0825,   -33.8367,    50.9774,       4468,  4531.1,   1.1711,  34.7147,2,  34.7144,2,    206.4,2,   206.7,2,  116.73,2,   31.67,2,    0.00,2,    2.27,2,   0.067,4,   0.036,2,   0.0000,2,  2263.0,6,  2366.5,2,   7.6874,2,    20.00,-999.000,9,-999.000,9,-999.000,9,   1.1715,2,-999.000,9, -999.00,9, -999.00,-999.000,9,-999.000,   39.58,2,   33.60,2, -33.8367,  50.9774,-999.000,-999.000,20090405,       0825