BOTTLE,20220814CCHSIOAMB
EXPOCODE,SECT_ID,STNNBR,CASTNO,SAMPNO,BTLNBR,BTLNBR_FLAG_W,DATE,TIME,LATITUDE,LONGITUDE,DEPTH,CTDPRS,CTDTMP,CTDSAL,CTDSAL_FLAG_W,SALNTY,SALNTY_FLAG_W,CTDOXY,CTDOXY_FLAG_W,OXYGEN,OXYGEN_FLAG_W,SILCAT,SILCAT_FLAG_W,NITRAT,NITRAT_FLAG_W,NITRIT,NITRIT_FLAG_W,PHSPHT,PHSPHT_FLAG_W,CFC-11,CFC-11_FLAG_W,CFC-12,CFC-12_FLAG_W,SF6,SF6_FLAG_W,TCARBN,TCARBN_FLAG_W,ALKALI,ALKALI_FLAG_W,PH_TOT,PH_TOT_FLAG_W,PH_TMP,TRITUM,TRITUM_FLAG_W,HELIUM,HELIUM_FLAG_W,DELHE3,DELHE3_FLAG_W,REFTMP,REFTMP_FLAG_W,DELC13,DELC13_FLAG_W,DELC14,DELC14_FLAG_W,C14ERR,NEON,NEON_FLAG_W,NEONER,DOC,DOC_FLAG_W,TDN,TDN_FLAG_W,BTL_LAT,BTL_LON,HELIER,DELHER,BTL_DATE,BTL_TIME
,,,,,,,,,,,METERS,DBAR,ITS-90,PSS-78,,PSS-78,,UMOL/KG,,UMOL/KG,,UMOL/KG,,UMOL/KG,,UMOL/KG,,UMOL/KG,,PMOL/KG,,PMOL/KG,,FMOL/KG,,UMOL/KG,,UMOL/KG,,,,DEG C,TU,,NMOL/KG,,PERCNT,,DEG C,,/MILLE,,/MILLE,,/MILLE,NMOL/KG,,NMOL/KG,UMOL/KG,,UMOL/KG,,,,NMOL/KG,PERCNT,,
33RR20090320,        I05,     135,          2,         36,         36,2,20090427,       1420,   -31.9975,    89.7600,       3716,     3.7,  19.9134,  35.7453,2,  35.7465,2,    227.1,2,   229.7,2,    1.16,2,    0.05,2,    0.00,2,    0.16,2,   2.159,6,   1.287,6,   1.1640,6,  2070.7,6,  2352.0,2,   8.0800,2,    20.00,-999.000,9,-999.000,9,-999.000,9,  19.9114,2,   1.492,2,   45.72,2,     3.4,-999.000,9,-999.000,   67.56,2,    3.69,2, -31.9974,  89.7594,-999.000,-999.000,20090427,       1611
33RR20090320,        I05,     135,          2,         35,         35,2,20090427,       1420,   -31.9975,    89.7600,       3716,    35.2,  19.8046,  35.7453,2,  35.7448,2,    229.3,2,   230.4,2,    1.13,2,    0.10,2,    0.00,2,    0.16,2,   2.186,2,   1.302,2,   1.2140,2,  2069.8,2,  2354.9,2,   8.0798,2,    20.00,-999.000,9,-999.000,9,-999.000,9,  19.8352,2,-999.000,9, -999.00,9, -999.00,-999.000,9,-999.000,   67.28,2,    4.35,2, -31.9975,  89.7595,-999.000,-999.000,20090427,       1609
33RR20090320,        I05,     135,          2,         34,         34,2,20090427,       1420,   -31.9975,    89.7600,       3716,    61.0,  15.8664,  35.4265,4,  35.4586,2,    269.9,2,   266.1,2,    1.27,2,    0.10,2,    0.00,2,    0.20,2,   2.750,2,   1.611,2,   1.3850,2,  2072.8,2,  2335.2,2,   8.0490,2,    20.00,-999.000,9,-999.000,9,-999.000,9,  15.8682,2,-999.000,9, -999.00,9, -999.00,-999.000,9,-999.000,   64.13,2,    4.51,2, -31.9975,  89.7595,-999.000,-999.000,20090427,       1608
33RR20090320,        I05,     135,          2,         33,         33,2,20090427,       1420,   -31.9975,    89.7600,       3716,    85.3,  14.7190,  35.4170,2,  35.4207,2,    257.4,2,   244.5,2,    1.41,2,    2.09,2,    0.20,2,    0.34,2,   2.798,2,   1.617,2,   1.3660,2,  2092.3,2,  2331.5,2,   8.0069,2,    20.00,-999.000,9,-999.000,9,-999.000,9,  14.6872,2,   1.298,2,   47.32,2,     3.3,-999.000,9,-999.000,   60.78,2,    6.25,2, -31.9976,  89.7595,-999.000,-999.000,20090427,       1606
33RR20090320,        I05,     135,          2,         32,         32,2,20090427,       1420,   -31.9975,    89.7600,       3716,   110.8,  13.8391,  35.3149,2,  35.3223,2,    234.6,2,   234.9,2,    1.91,2,    5.14,2,    0.03,2,    0.49,2,   2.896,2,   1.679,2,   1.3100,2,  2100.6,2,  2324.1,2,   7.9745,2,    20.00,-999.000,9,-999.000,9,-999.000,9,  13.8285,2,-999.000,9, -999.00,9, -999.00,-999.000,9,-999.000,   59.28,2,    8.42,2, -31.9977,  89.7594,-999.000,-999.000,20090427,       1604
33RR20090320,        I05,     135,          2,         31,         31,2,20090427,       1420,   -31.9975,    89.7600,       3716,   136.0,  13.2534,  35.2244,2,  35.2244,2,    234.2,2,   236.1,2,    2.24,2,    6.54,2,    0.01,2,    0.58,2,   3.010,2,   1.733,2,   1.4240,2,  2104.9,2,  2320.2,2,   7.9572,2,    20.00,-999.000,9,-999.000,9,-999.000,9,  13.2348,2,   1.184,2,   47.95,2,     2.9,-999.000,9,-999.000,   56.37,2,   10.08,2, -31.9977,  89.7594,-999.000,-999.000,20090427,       1603
33RR20090320,        I05,     135,          2,         30,         30,2,20090427,       1420,   -31.9975,    89.7600,       3716,   165.4,  12.7641,  35.1726,2,  35.1700,2,    233.1,2,   233.6,2,    2.56,2,    7.96,2,    0.00,2,    0.65,2,   3.111,2,   1.764,2,   1.3980,2,  2110.6,2,  2315.4,2,   7.9404,2,    20.00,-999.000,9,-999.000,9,-999.000,9,  12.7587,2,-999.000,9, -999.00,9, -999.00,-999.000,9,-999.000,   53.25,2,   11.16,2, -31.9977,  89.7594,-999.000,-999.000,20090427,       1602
33RR20090320,        I05,     135,          2,         29,         29,2,20090427,       1420,   -31.9975,    89.7600,       3716,   215.6,  11.8679,  35.0286,2,  35.0286,2,    237.2,2,   238.7,2,    3.24,2,    9.95,2,    0.00,2,    0.77,2,   3.249,2,   1.830,2,   1.3820,2,  2114.0,2,  2306.9,2,   7.9198,2,    20.00,-999.000,9,-999.000,9,-999.000,9,  11.8674,2,    1.12,2,   52.41,2,     2.9,-999.000,9,-999.000,   50.60,2,   12.44,2, -31.9977,  89.7593,-999.000,-999.000,20090427,       1600
33RR20090320,        I05,     135,          2,         28,         28,2,20090427,       1420,   -31.9975,    89.7600,       3716,   266.0,  11.5521,  34.9927,2,  34.9926,2,    239.5,2,   240.5,2,    3.56,2,   10.71,2,    0.00,2,    0.82,2,   3.283,2,   1.843,2,   1.4370,2,  2115.2,2,  2306.4,2,   7.9131,2,    20.00,-999.000,9,-999.000,9,-999.000,9,  11.5515,2,   1.111,2,   51.68,2,     3.1,-999.000,9,-999.000,   49.63,2,   12.94,2, -31.9978,  89.7593,-999.000,-999.000,20090427,       1558
33RR20090320,        I05,     135,          2,         27,         27,2,20090427,       1420,   -31.9975,    89.7600,       3716,   315.2,  11.1697,  34.9387,2,  34.9402,2,    241.7,2,   242.4,2,    3.71,2,   11.47,2,    0.00,2,    0.86,2,   3.335,2,   1.853,2,   1.4110,2,  2115.9,2,  2303.5,2,   7.9067,2,    20.00,-999.000,9,-999.000,9,-999.000,9,  11.1671,2,   1.128,2,   48.83,2,     3.1,-999.000,9,-999.000,   48.52,2,   13.35,2, -31.9978,  89.7593,-999.000,-999.000,20090427,       1555
33RR20090320,        I05,     135,          2,         26,         26,2,20090427,       1420,   -31.9975,    89.7600,       3716,   365.6,  10.8599,  34.8949,2,  34.8958,2,    241.7,2,   243.3,2,    4.03,2,   12.28,2,    0.00,2,    0.92,2,   3.398,2,   1.878,2,   1.3250,2,  2118.3,2,  2301.1,2,   7.8995,2,    20.00,-999.000,9,-999.000,9,-999.000,9,  10.8581,2,   1.128,2,   46.84,2,       3,-999.000,9,-999.000,   47.64,2,   13.82,2, -31.9978,  89.7592,-999.000,-999.000,20090427,       1553
33RR20090320,        I05,     135,          2,         25,         25,2,20090427,       1420,   -31.9975,    89.7600,       3716,   415.0,  10.5631,  34.8539,2,  34.8568,2,    241.3,2,   242.0,2,    4.35,2,   13.04,2,    0.00,2,    0.96,2,   3.421,2,   1.892,2,   1.3400,2,  2119.8,2,  2299.3,2,   7.8919,2,    20.00,-999.000,9,-999.000,9,-999.000,9,  10.5629,2,   1.142,2,   48.11,2,       3,-999.000,9,-999.000,   46.69,2,   14.81,2, -31.9978,  89.7593,-999.000,-999.000,20090427,       1551
33RR20090320,        I05,     135,          2,         24,         24,2,20090427,       1420,   -31.9975,    89.7600,       3716,   464.8,  10.3711,  34.8281,2,  34.8281,2,    241.0,2,   241.3,2,    4.50,2,   13.60,2,    0.00,2,    0.99,2,   3.450,2,   1.882,2,   1.3300,2,  2121.6,2,  2299.0,2,   7.8860,2,    20.00,-999.000,9,-999.000,9,-999.000,9,  10.3704,2,   1.151,2,   46.53,2,       3,-999.000,9,-999.000,   45.50,2,   14.82,2, -31.9977,  89.7593,-999.000,-999.000,20090427,       1549
33RR20090320,        I05,     135,          2,         23,         23,2,20090427,       1420,   -31.9975,    89.7600,       3716,   535.2,  10.0396,  34.7871,2,  34.7907,2,    237.0,2,   237.1,2,    4.82,2,   14.82,2,    0.00,2,    1.06,2,   3.504,6,   1.885,6,   1.1610,6,  2125.7,2,  2297.7,2,   7.8740,2,    20.00,-999.000,9,-999.000,9,-999.000,9,  10.0415,2,   1.141,2,   49.07,2,     2.9,-999.000,9,-999.000,   44.96,2,   15.89,2, -31.9977,  89.7594,-999.000,-999.000,20090427,       1546
33RR20090320,        I05,     135,          2,         22,         22,2,20090427,       1420,   -31.9975,    89.7600,       3716,   635.4,   9.2910,  34.6833,2,  34.6836,2,    235.4,2,   234.4,2,    5.50,2,   16.96,2,    0.00,2,    1.20,2,   3.540,2,   1.853,2,   1.0780,2,  2131.6,2,  2292.3,2,   7.8509,2,    20.00,-999.000,9,-999.000,9,-999.000,9,   9.2905,2,   1.168,2,   41.29,2,     2.8,-999.000,9,-999.000,   43.92,2,   18.87,2, -31.9977,  89.7594,-999.000,-999.000,20090427,       1543
33RR20090320,        I05,     135,          2,         21,         21,2,20090427,       1420,   -31.9975,    89.7600,       3716,   735.3,   8.2926,  34.5720,2,  34.5726,2,    219.7,2,   217.5,2,    9.39,2,   20.95,2,    0.00,2,    1.46,2,   3.041,2,   1.531,2,   0.7210,2,  2146.0,2,  2288.6,2,   7.8061,2,    20.00,-999.000,9,-999.000,9,-999.000,9,   8.2930,2,   1.178,2,   27.78,2,     2.9,-999.000,9,-999.000,   43.46,2,   22.58,2, -31.9977,  89.7594,-999.000,-999.000,20090427,       1539
33RR20090320,        I05,     135,          2,         20,         20,2,20090427,       1420,   -31.9975,    89.7600,       3716,   835.8,   7.0560,  34.4763,2,  34.4753,2,    203.0,2,   202.8,2,   16.15,2,   25.19,2,    0.00,2,    1.76,2,   2.337,2,   1.157,2,   0.5410,2,  2166.0,2,  2290.1,2,   7.7562,2,    20.00,-999.000,9,-999.000,9,-999.000,9,   7.0691,2,   1.031,2,  -10.04,2,     2.7,-999.000,9,-999.000,   42.71,2,   26.70,2, -31.9977,  89.7594,-999.000,-999.000,20090427,       1537
33RR20090320,        I05,     135,          2,         19,         19,2,20090427,       1420,   -31.9975,    89.7600,       3716,   935.0,   5.4841,  34.3978,2,  34.3968,2,    195.1,2,   196.2,2,   27.43,2,   29.21,2,    0.00,2,    2.05,2,   1.679,2,   0.822,2,   0.2920,2,  2187.9,2,  2295.0,2,   7.7089,2,    20.00,-999.000,9,-999.000,9,-999.000,9,   5.5145,2,   0.944,2,  -59.69,2,     2.7,-999.000,9,-999.000,   42.14,2,   30.61,2, -31.9976,  89.7595,-999.000,-999.000,20090427,       1533
33RR20090320,        I05,     135,          2,         18,         18,2,20090427,       1420,   -31.9975,    89.7600,       3716,  1036.6,   4.2898,  34.4008,2,  34.4009,2,    184.5,2,   183.4,2,   43.29,2,   32.22,2,    0.00,2,    2.29,2,   1.008,2,   0.485,2,   0.1710,2,  2213.4,2,  2311.6,2,   7.6714,2,    20.00,-999.000,9,-999.000,9,-999.000,9,   4.2919,2,   0.796,2,  -93.93,2,     2.7,-999.000,9,-999.000,   41.44,2,   34.28,2, -31.9976,  89.7596,-999.000,-999.000,20090427,       1530
33RR20090320,        I05,     135,          2,         17,         17,2,20090427,       1420,   -31.9975,    89.7600,       3716,  1135.5,   3.8465,  34.4703,2,  34.4699,2,    163.6,2,   162.4,2,   59.98,2,   33.97,2,    0.00,2,    2.44,2,   0.404,2,   0.193,2,   0.0300,2,  2239.9,2,  2326.4,2,   7.6433,2,    20.00,-999.000,9,-999.000,9,-999.000,9,   3.8443,2,   0.662,2, -127.62,2,     2.4,-999.000,9,-999.000,   40.51,2,   35.63,2, -31.9975,  89.7597,-999.000,-999.000,20090427,       1527
33RR20090320,        I05,     135,          2,         16,         16,2,20090427,       1420,   -31.9975,    89.7600,       3716,  1236.5,   3.6156,  34.5227,2,  34.5227,2,    151.7,2,   151.2,2,   70.54,2,   34.86,2,    0.00,2,    2.52,2,   0.192,2,   0.092,2,   0.0280,2,  2253.7,2,  2337.2,2,   7.6305,2,    20.00,-999.000,9,-999.000,9,-999.000,9,   3.6160,2,   0.482,2, -142.16,2,     2.7,-999.000,9,-999.000,   40.81,2,   35.94,2, -31.9975,  89.7598,-999.000,-999.000,20090427,       1524
33RR20090320,        I05,     135,          2,         15,         15,2,20090427,       1420,   -31.9975,    89.7600,       3716,  1331.8,   3.4605,  34.5494,2,  34.5490,2,    148.7,2,   148.6,2,   75.45,2,   34.91,2,    0.00,2,    2.54,2,   0.119,2,   0.057,2,   0.0000,2,  2259.4,2,  2343.7,2,   7.6270,2,    20.00,-999.000,9,-999.000,9,-999.000,9,   3.4600,2,   0.518,2, -151.85,2,     2.7,-999.000,9,-999.000,   40.36,2,   36.53,2, -31.9976,  89.7598,-999.000,-999.000,20090427,       1521
33RR20090320,        I05,     135,          2,         14,         14,2,20090427,       1420,   -31.9975,    89.7600,       3716,  1432.4,   3.3562,  34.5674,2,  34.5673,2,    147.6,2,   147.6,2,   78.35,2,   35.06,2,    0.00,2,    2.53,2,   0.082,2,   0.040,2,   0.0210,2,  2262.4,2,  2345.1,2,   7.6263,2,    20.00,-999.000,9,-999.000,9,-999.000,9,   3.3553,2,   0.504,2, -156.56,2,     2.8,-999.000,9,-999.000,   40.36,2,   36.76,2, -31.9975,  89.7598,-999.000,-999.000,20090427,       1518
33RR20090320,        I05,     135,          2,         13,         13,2,20090427,       1420,   -31.9975,    89.7600,       3716,  1532.7,   3.2816,  34.5809,2,  34.5812,2,    147.9,2,   147.6,2,   79.96,2,   35.06,2,    0.00,2,    2.53,2,   0.062,2,   0.032,2,   0.0290,2,  2266.5,6,  2348.0,2,   7.6264,2,    20.00,-999.000,9,-999.000,9,-999.000,9,   3.2810,2,   0.516,2, -159.47,2,     2.9,-999.000,9,-999.000,   39.75,2,   37.02,2, -31.9974,  89.7598,-999.000,-999.000,20090427,       1515
33RR20090320,        I05,     135,          2,         12,         12,2,20090427,       1420,   -31.9975,    89.7600,       3716,  1634.5,   3.2198,  34.5909,2,  34.5920,2,    148.0,2,   148.0,2,   81.77,2,   35.01,2,    0.00,2,    2.53,2,   0.053,2,   0.025,2,   0.0000,2,  2265.6,2,  2349.4,2,   7.6272,2,    20.00,-999.000,9,-999.000,9,-999.000,9,   3.2190,2,   0.483,2, -163.31,2,     2.8,-999.000,9,-999.000,   39.61,2,   36.48,2, -31.9974,  89.7599,-999.000,-999.000,20090427,       1512
33RR20090320,        I05,     135,          2,         11,         11,2,20090427,       1420,   -31.9975,    89.7600,       3716,  1732.6,   3.1329,  34.6037,2,  34.6041,2,    149.4,2,   149.2,2,   83.20,2,   34.75,2,    0.00,2,    2.52,2,   0.045,2,   0.024,2,   0.0220,2,  2266.8,2,  2351.2,2,   7.6291,2,    20.00,-999.000,9,-999.000,9,-999.000,9,   3.1324,2,   0.477,2, -165.87,2,     3.8,-999.000,9,-999.000,   40.12,2,   36.62,2, -31.9974,  89.7601,-999.000,-999.000,20090427,       1509
33RR20090320,        I05,     135,          2,         10,         10,2,20090427,       1420,   -31.9975,    89.7600,       3716,  1864.7,   2.9483,  34.6305,2,  34.6308,2,    152.7,2,   152.6,2,   86.11,2,   34.38,2,    0.00,2,    2.49,2,   0.035,2,   0.018,2,   0.0440,2,  2268.3,2,  2353.4,2,   7.6350,2,    20.00,-999.000,9,-999.000,9,-999.000,9,   2.9478,2,   0.443,2, -171.11,2,     2.7,-999.000,9,-999.000,   39.78,2,   36.12,2, -31.9974,  89.7601,-999.000,-999.000,20090427,       1505
33RR20090320,        I05,     135,          2,          9,          9,2,20090427,       1420,   -31.9975,    89.7600,       3716,  2068.2,   2.6485,  34.6745,2,  34.6754,2,    159.8,2,   160.5,2,   89.75,2,   33.65,2,    0.00,2,    2.42,2,   0.028,6,   0.015,6,   0.0000,6,  2267.9,2,  2358.5,2,   7.6468,2,    20.00,-999.000,9,-999.000,9,-999.000,9,   2.6486,2,   0.475,2, -177.57,2,     2.3,-999.000,9,-999.000,   39.53,2,   35.04,2, -31.9975,  89.7599,-999.000,-999.000,20090427,       1501
33RR20090320,        I05,     135,          2,          8,          8,2,20090427,       1420,   -31.9975,    89.7600,       3716,  2268.0,   2.3912,  34.7073,2,  34.7084,2,    172.5,2,   174.4,2,   87.50,2,   32.35,2,    0.00,2,    2.30,2,   0.036,2,   0.016,2,   0.0000,2,  2258.9,2,  2357.5,2,   7.6639,2,    20.00,-999.000,9,-999.000,9,-999.000,9,   2.3917,2,   0.555,2, -170.64,2,     2.3,-999.000,9,-999.000,   40.20,2,   34.32,2, -31.9975,  89.7598,-999.000,-999.000,20090427,       1457
33RR20090320,        I05,     135,          2,          7,          7,2,20090427,       1420,   -31.9975,    89.7600,       3716,  2466.2,   2.1673,  34.7326,2,  34.7340,2,    185.2,2,   185.2,2,   88.02,2,   31.26,2,    0.00,2,    2.22,2,   0.028,2,   0.014,2,   0.0000,2,  2254.4,2,  2355.4,2,   7.6785,2,    20.00,-999.000,9,-999.000,9,-999.000,9,   2.1679,2,   0.568,2, -159.75,2,     2.3,-999.000,9,-999.000,   39.92,2,   32.59,2, -31.9974,  89.7599,-999.000,-999.000,20090427,       1452
33RR20090320,        I05,     135,          2,          6,          6,2,20090427,       1420,   -31.9975,    89.7600,       3716,  2667.6,   1.9533,  34.7438,2,  34.7448,2,    191.6,2,   192.4,2,   91.48,2,   30.84,2,    0.00,2,    2.18,2,   0.026,2,   0.013,2,   0.0000,2,  2250.4,2,  2357.0,2,   7.6873,2,    20.00,-999.000,9,-999.000,9,-999.000,9,   1.9533,2,   0.646,2, -158.56,2,     2.6,-999.000,9,-999.000,   39.58,2,   32.56,2, -31.9975,  89.7600,-999.000,-999.000,20090427,       1448
33RR20090320,        I05,     135,          2,          5,          5,2,20090427,       1420,   -31.9975,    89.7600,       3716,  2868.7,   1.7328,  34.7422,2,  34.7432,2,    196.1,2,   196.6,2,   97.71,2,   30.89,2,    0.00,2,    2.19,2,   0.025,2,   0.013,2,   0.0000,2,  2252.4,2,  2359.7,2,   7.6889,2,    20.00,-999.000,9,-999.000,9,-999.000,9,   1.7334,2,   0.632,2, -158.93,2,     2.5,-999.000,9,-999.000,   39.90,2,   32.87,2, -31.9974,  89.7599,-999.000,-999.000,20090427,       1443
33RR20090320,        I05,     135,          2,          4,          4,2,20090427,       1420,   -31.9975,    89.7600,       3716,  3108.3,   1.5174,  34.7354,2,  34.7359,2,    197.9,2,   197.8,2,  105.07,2,   31.31,2,    0.00,2,    2.22,2,   0.000,4,   0.000,4,   0.0000,4,  2257.4,2,  2365.4,2,   7.6887,2,    20.00,-999.000,9,-999.000,9,-999.000,9,   1.5178,2,   0.598,2,  -160.8,2,     2.3,-999.000,9,-999.000,   39.92,2,   32.96,2, -31.9975,  89.7599,-999.000,-999.000,20090427,       1437
33RR20090320,        I05,     135,          2,          3,          3,2,20090427,       1420,   -31.9975,    89.7600,       3716,  3416.8,   1.3168,  34.7275,2,  34.7284,2,    200.9,2,   200.5,2,  111.33,2,   31.67,2,    0.00,2,    2.24,2,   0.023,2,   0.013,2,   0.0000,2,  2260.6,2,  2369.1,2,   7.6890,2,    20.00,-999.000,9,-999.000,9,-999.000,9,   1.3166,2,   0.564,2, -158.46,2,     2.9,-999.000,9,-999.000,   39.97,2,   33.20,2, -31.9976,  89.7602,-999.000,-999.000,20090427,       1430
33RR20090320,        I05,     135,          2,          2,          2,2,20090427,       1420,   -31.9975,    89.7600,       3716,  3629.4,   1.2165,  34.7228,2,  34.7241,2,    202.8,2,   202.3,2,  114.63,2,   31.83,2,    0.00,2,    2.26,2,   0.021,2,   0.014,2,   0.0170,2,  2263.5,2,  2370.4,2,   7.6906,2,    20.00,-999.000,9,-999.000,9,-999.000,9,   1.2161,2,   0.539,2, -162.72,2,     3.5,-999.000,9,-999.000,   39.92,2,   33.05,2, -31.9975,  89.7601,-999.000,-999.000,20090427,       1425
33RR20090320,        I05,     135,          2,          1,          1,2,20090427,       1420,   -31.9975,    89.7600,       3716,  3760.9,   1.1693,  34.7199,2,  34.7217,2,    202.5,2,   202.3,2,  116.64,2,   31.88,2,    0.00,2,    2.27,2,   0.024,6,   0.014,6,   0.0000,6,  2267.0,6,  2375.2,2,   7.6934,2,    20.00,-999.000,9,-999.000,9,-999.000,9,   1.1695,2,   0.539,2, -161.25,2,     2.3,-999.000,9,-999.000,   40.29,2,   33.58,2, -31.9975,  89.7600,-999.000,-999.000,20090427,       1420