BOTTLE,20220814CCHSIOAMB
EXPOCODE,SECT_ID,STNNBR,CASTNO,SAMPNO,BTLNBR,BTLNBR_FLAG_W,DATE,TIME,LATITUDE,LONGITUDE,DEPTH,CTDPRS,CTDTMP,CTDSAL,CTDSAL_FLAG_W,SALNTY,SALNTY_FLAG_W,CTDOXY,CTDOXY_FLAG_W,OXYGEN,OXYGEN_FLAG_W,SILCAT,SILCAT_FLAG_W,NITRAT,NITRAT_FLAG_W,NITRIT,NITRIT_FLAG_W,PHSPHT,PHSPHT_FLAG_W,CFC-11,CFC-11_FLAG_W,CFC-12,CFC-12_FLAG_W,SF6,SF6_FLAG_W,TCARBN,TCARBN_FLAG_W,ALKALI,ALKALI_FLAG_W,PH_TOT,PH_TOT_FLAG_W,PH_TMP,TRITUM,TRITUM_FLAG_W,HELIUM,HELIUM_FLAG_W,DELHE3,DELHE3_FLAG_W,REFTMP,REFTMP_FLAG_W,DELC13,DELC13_FLAG_W,DELC14,DELC14_FLAG_W,C14ERR,NEON,NEON_FLAG_W,NEONER,DOC,DOC_FLAG_W,TDN,TDN_FLAG_W,BTL_LAT,BTL_LON,HELIER,DELHER,BTL_DATE,BTL_TIME
,,,,,,,,,,,METERS,DBAR,ITS-90,PSS-78,,PSS-78,,UMOL/KG,,UMOL/KG,,UMOL/KG,,UMOL/KG,,UMOL/KG,,UMOL/KG,,PMOL/KG,,PMOL/KG,,FMOL/KG,,UMOL/KG,,UMOL/KG,,,,DEG C,TU,,NMOL/KG,,PERCNT,,DEG C,,/MILLE,,/MILLE,,/MILLE,NMOL/KG,,NMOL/KG,UMOL/KG,,UMOL/KG,,,,NMOL/KG,PERCNT,,
33RR20090320,        I05,     178,          1,         36,         36,2,20090508,       0724,   -31.3605,   107.8106,       5313,     3.9,  20.7754,  35.8030,2,  35.8068,2,    222.9,2,   224.2,2,    2.07,2,    0.09,2,    0.00,2,    0.09,2,-999.000,9,-999.000,9,-999.0000,9,  2044.1,6,  2350.8,2,   8.1229,2,    20.00,-999.000,9,-999.000,9,-999.000,9,  20.7738,2,-999.000,9, -999.00,9, -999.00,-999.000,9,-999.000, -999.00,9, -999.00,9, -31.3604, 107.8109,-999.000,-999.000,20090508,       0935
33RR20090320,        I05,     178,          1,         35,         35,2,20090508,       0724,   -31.3605,   107.8106,       5313,    21.8,  20.5160,  35.9175,2,  35.9171,2,    226.1,2,   225.2,2,    1.68,2,    0.04,2,    0.00,2,    0.09,2,-999.000,9,-999.000,9,-999.0000,9,  2057.4,2,  2355.3,2,   8.1138,2,    20.00,-999.000,9,-999.000,9,-999.000,9,  20.5147,2,-999.000,9, -999.00,9, -999.00,-999.000,9,-999.000, -999.00,9, -999.00,9, -31.3604, 107.8108,-999.000,-999.000,20090508,       0933
33RR20090320,        I05,     178,          1,         34,         34,2,20090508,       0724,   -31.3605,   107.8106,       5313,    41.7,  20.1600,  35.9860,2,  35.9833,2,    228.7,2,   227.6,2,    1.30,2,    0.10,2,    0.00,2,    0.10,2,-999.000,9,-999.000,9,-999.0000,9,  2069.5,2,  2361.8,2,   8.1005,2,    20.00,-999.000,9,-999.000,9,-999.000,9,  20.1492,2,-999.000,9, -999.00,9, -999.00,-999.000,9,-999.000, -999.00,9, -999.00,9, -31.3604, 107.8108,-999.000,-999.000,20090508,       0931
33RR20090320,        I05,     178,          1,         33,         33,2,20090508,       0724,   -31.3605,   107.8106,       5313,    66.2,  19.4267,  35.9268,2,  35.9264,2,    230.0,2,   229.5,2,    1.46,2,    0.10,2,    0.00,2,    0.10,2,-999.000,9,-999.000,9,-999.0000,9,  2067.5,2,  2356.0,2,   8.0979,2,    20.00,-999.000,9,-999.000,9,-999.000,9,  19.4278,2,-999.000,9, -999.00,9, -999.00,-999.000,9,-999.000, -999.00,9, -999.00,9, -31.3604, 107.8108,-999.000,-999.000,20090508,       0930
33RR20090320,        I05,     178,          1,         32,         32,2,20090508,       0724,   -31.3605,   107.8106,       5313,    90.8,  18.5586,  35.8518,2,  35.8549,2,    238.1,2,   236.6,2,    1.26,2,    0.10,2,    0.00,2,    0.12,2,-999.000,9,-999.000,9,-999.0000,9,  2071.3,2,  2353.9,2,   8.0846,2,    20.00,-999.000,9,-999.000,9,-999.000,9,  18.5317,2,-999.000,9, -999.00,9, -999.00,-999.000,9,-999.000, -999.00,9, -999.00,9, -31.3604, 107.8108,-999.000,-999.000,20090508,       0928
33RR20090320,        I05,     178,          1,         31,         31,2,20090508,       0724,   -31.3605,   107.8106,       5313,   136.8,  15.4640,  35.5859,2,  35.5781,2,    238.0,2,   240.9,2,    1.06,2,    1.32,2,    0.12,2,    0.25,2,-999.000,9,-999.000,9,-999.0000,9,  2089.7,2,  2339.1,2,   8.0300,2,    20.00,-999.000,9,-999.000,9,-999.000,9,  15.4577,2,-999.000,9, -999.00,9, -999.00,-999.000,9,-999.000, -999.00,9, -999.00,9, -31.3604, 107.8108,-999.000,-999.000,20090508,       0926
33RR20090320,        I05,     178,          1,         30,         30,2,20090508,       0724,   -31.3605,   107.8106,       5313,   186.4,  13.1526,  35.2232,2,  35.2238,2,    238.4,2,   237.8,2,    1.42,2,    5.71,2,    0.01,2,    0.51,2,-999.000,9,-999.000,9,-999.0000,9,  -999.0,9,  -999.0,9,-999.0000,9,  -999.00,-999.000,9,-999.000,9,-999.000,9,  13.1513,2,-999.000,9, -999.00,9, -999.00,-999.000,9,-999.000, -999.00,9, -999.00,9, -31.3604, 107.8108,-999.000,-999.000,20090508,       0924
33RR20090320,        I05,     178,          1,         29,         29,2,20090508,       0724,   -31.3605,   107.8106,       5313,   236.0,  12.3861,  35.1142,4,  35.0968,2,    241.6,2,   241.1,2,    1.57,2,    7.49,2,    0.01,2,    0.62,2,-999.000,9,-999.000,9,-999.0000,9,  2109.2,2,  2315.3,2,   7.9443,2,    20.00,-999.000,9,-999.000,9,-999.000,9,  12.3812,2,-999.000,9, -999.00,9, -999.00,-999.000,9,-999.000, -999.00,9, -999.00,9, -31.3604, 107.8109,-999.000,-999.000,20090508,       0922
33RR20090320,        I05,     178,          1,         28,         28,2,20090508,       0724,   -31.3605,   107.8106,       5313,   285.7,  11.3370,  34.9611,2,  34.9608,2,    248.7,2,   248.6,2,    1.92,2,    9.38,2,    0.01,2,    0.74,2,-999.000,9,-999.000,9,-999.0000,9,  -999.0,9,  -999.0,9,-999.0000,9,  -999.00,-999.000,9,-999.000,9,-999.000,9,  11.3375,2,-999.000,9, -999.00,9, -999.00,-999.000,9,-999.000, -999.00,9, -999.00,9, -31.3604, 107.8109,-999.000,-999.000,20090508,       0919
33RR20090320,        I05,     178,          1,         27,         27,2,20090508,       0724,   -31.3605,   107.8106,       5313,   335.7,  10.7685,  34.8676,2,  34.8632,2,    253.5,2,   252.3,2,    2.27,2,   10.71,2,    0.01,2,    0.83,2,-999.000,9,-999.000,9,-999.0000,9,  2114.0,2,  2305.7,2,   7.9117,2,    20.00,-999.000,9,-999.000,9,-999.000,9,  10.7666,2,-999.000,9, -999.00,9, -999.00,-999.000,9,-999.000, -999.00,9, -999.00,9, -31.3603, 107.8109,-999.000,-999.000,20090508,       0917
33RR20090320,        I05,     178,          1,         26,         26,2,20090508,       0724,   -31.3605,   107.8106,       5313,   386.5,  10.3030,  34.8049,2,  34.8047,2,    243.5,2,   243.4,2,    3.17,2,   12.94,2,    0.00,2,    0.96,2,-999.000,9,-999.000,9,-999.0000,9,  -999.0,9,  -999.0,9,-999.0000,9,  -999.00,-999.000,9,-999.000,9,-999.000,9,  10.3011,2,-999.000,9, -999.00,9, -999.00,-999.000,9,-999.000, -999.00,9, -999.00,9, -31.3604, 107.8109,-999.000,-999.000,20090508,       0915
33RR20090320,        I05,     178,          1,         25,         25,2,20090508,       0724,   -31.3605,   107.8106,       5313,   465.9,   9.6539,  34.7226,2,  34.7229,2,    241.0,2,   241.1,2,    3.89,2,   15.05,2,    0.00,2,    1.08,2,-999.000,9,-999.000,9,-999.0000,9,  -999.0,9,  -999.0,9,-999.0000,9,  -999.00,-999.000,9,-999.000,9,-999.000,9,   9.6538,2,-999.000,9, -999.00,9, -999.00,-999.000,9,-999.000, -999.00,9, -999.00,9, -31.3604, 107.8109,-999.000,-999.000,20090508,       0912
33RR20090320,        I05,     178,          1,         24,         24,2,20090508,       0724,   -31.3605,   107.8106,       5313,   566.5,   9.1416,  34.6600,2,  34.6604,2,    240.0,2,   240.5,2,    4.61,2,   16.72,2,    0.00,2,    1.19,2,-999.000,9,-999.000,9,-999.0000,9,  -999.0,9,  -999.0,9,-999.0000,9,  -999.00,-999.000,9,-999.000,9,-999.000,9,   9.1383,2,-999.000,9, -999.00,9, -999.00,-999.000,9,-999.000, -999.00,9, -999.00,9, -31.3604, 107.8109,-999.000,-999.000,20090508,       0909
33RR20090320,        I05,     178,          1,         23,         23,2,20090508,       0724,   -31.3605,   107.8106,       5313,   666.5,   8.5464,  34.5833,2,  34.5842,2,    231.3,2,   233.3,2,    6.43,2,   18.95,2,    0.00,2,    1.34,2,-999.000,9,-999.000,9,-999.0000,9,  2138.7,2,  2290.9,2,   7.8278,2,    20.00,-999.000,9,-999.000,9,-999.000,9,   8.5347,2,-999.000,9, -999.00,9, -999.00,-999.000,9,-999.000, -999.00,9, -999.00,9, -31.3604, 107.8109,-999.000,-999.000,20090508,       0906
33RR20090320,        I05,     178,          1,         22,         22,2,20090508,       0724,   -31.3605,   107.8106,       5313,   765.8,   7.0720,  34.4671,2,  34.4672,2,    203.8,2,   202.4,2,   15.25,2,   25.19,2,    0.00,2,    1.76,2,-999.000,9,-999.000,9,-999.0000,9,  -999.0,9,  -999.0,9,-999.0000,9,  -999.00,-999.000,9,-999.000,9,-999.000,9,   7.0691,2,-999.000,9, -999.00,9, -999.00,-999.000,9,-999.000, -999.00,9, -999.00,9, -31.3603, 107.8108,-999.000,-999.000,20090508,       0903
33RR20090320,        I05,     178,          1,         21,         21,2,20090508,       0724,   -31.3605,   107.8106,       5313,   866.2,   5.4400,  34.3971,2,  34.3969,2,    193.7,2,   194.1,2,   27.43,2,   29.16,2,    0.00,2,    2.06,2,-999.000,9,-999.000,9,-999.0000,9,  -999.0,9,  -999.0,9,-999.0000,9,  -999.00,-999.000,9,-999.000,9,-999.000,9,   5.4457,2,-999.000,9, -999.00,9, -999.00,-999.000,9,-999.000, -999.00,9, -999.00,9, -31.3603, 107.8108,-999.000,-999.000,20090508,       0900
33RR20090320,        I05,     178,          1,         20,         20,2,20090508,       0724,   -31.3605,   107.8106,       5313,   966.4,   4.4350,  34.3820,2,  34.3818,2,    190.3,2,   190.7,2,   37.62,2,   31.46,2,    0.00,2,    2.23,2,-999.000,9,-999.000,9,-999.0000,9,  -999.0,9,  -999.0,9,-999.0000,9,  -999.00,-999.000,9,-999.000,9,-999.000,9,   4.4398,2,-999.000,9, -999.00,9, -999.00,-999.000,9,-999.000, -999.00,9, -999.00,9, -31.3603, 107.8108,-999.000,-999.000,20090508,       0857
33RR20090320,        I05,     178,          1,         19,         19,2,20090508,       0724,   -31.3605,   107.8106,       5313,  1066.9,   3.9188,  34.4335,2,  34.4362,2,    174.5,2,   171.6,2,   53.09,2,   33.37,2,    0.00,2,    2.39,2,-999.000,9,-999.000,9,-999.0000,9,  2230.7,2,  2321.6,2,   7.6536,2,    20.00,-999.000,9,-999.000,9,-999.000,9,   3.9193,2,-999.000,9, -999.00,9, -999.00,-999.000,9,-999.000, -999.00,9, -999.00,9, -31.3603, 107.8108,-999.000,-999.000,20090508,       0855
33RR20090320,        I05,     178,          1,         18,         18,2,20090508,       0724,   -31.3605,   107.8106,       5313,  1166.1,   3.6241,  34.4838,2,  34.4831,2,    160.6,2,   160.6,2,   63.57,2,   34.33,2,    0.00,2,    2.48,2,-999.000,9,-999.000,9,-999.0000,9,  -999.0,9,  -999.0,9,-999.0000,9,  -999.00,-999.000,9,-999.000,9,-999.000,9,   3.6235,2,-999.000,9, -999.00,9, -999.00,-999.000,9,-999.000, -999.00,9, -999.00,9, -31.3604, 107.8108,-999.000,-999.000,20090508,       0852
33RR20090320,        I05,     178,          1,         17,         17,2,20090508,       0724,   -31.3605,   107.8106,       5313,  1268.3,   3.4338,  34.5200,2,  34.5202,2,    153.6,2,   154.4,2,   70.50,2,   34.83,2,    0.00,2,    2.51,2,-999.000,9,-999.000,9,-999.0000,9,  -999.0,9,  -999.0,9,-999.0000,9,  -999.00,-999.000,9,-999.000,9,-999.000,9,   3.4300,2,-999.000,9, -999.00,9, -999.00,-999.000,9,-999.000, -999.00,9, -999.00,9, -31.3604, 107.8108,-999.000,-999.000,20090508,       0850
33RR20090320,        I05,     178,          1,         16,         16,2,20090508,       0724,   -31.3605,   107.8106,       5313,  1367.9,   3.2104,  34.5584,2,  34.5581,2,    150.6,2,   152.0,2,   76.51,2,   34.99,2,    0.00,2,    2.53,2,-999.000,9,-999.000,9,-999.0000,9,  -999.0,9,  -999.0,9,-999.0000,9,  -999.00,-999.000,9,-999.000,9,-999.000,9,   3.2093,2,-999.000,9, -999.00,9, -999.00,-999.000,9,-999.000, -999.00,9, -999.00,9, -31.3604, 107.8108,-999.000,-999.000,20090508,       0847
33RR20090320,        I05,     178,          1,         15,         15,2,20090508,       0724,   -31.3605,   107.8106,       5313,  1532.8,   2.9279,  34.6088,2,  34.6080,2,    152.8,2,   152.9,2,   82.70,2,   34.71,2,    0.00,2,    2.51,2,-999.000,9,-999.000,9,-999.0000,9,  2267.7,2,  2352.4,2,   7.6302,2,    20.00,-999.000,9,-999.000,9,-999.000,9,   2.9277,2,-999.000,9, -999.00,9, -999.00,-999.000,9,-999.000, -999.00,9, -999.00,9, -31.3605, 107.8108,-999.000,-999.000,20090508,       0843
33RR20090320,        I05,     178,          1,         14,         14,2,20090508,       0724,   -31.3605,   107.8106,       5313,  1732.6,   2.6662,  34.6615,2,  34.6619,2,    156.1,2,   156.9,2,   90.06,2,   34.20,2,    0.00,2,    2.47,2,-999.000,9,-999.000,9,-999.0000,9,  2272.9,6,  2358.4,2,   7.6401,2,    20.00,-999.000,9,-999.000,9,-999.000,9,   2.6705,2,-999.000,9, -999.00,9, -999.00,-999.000,9,-999.000, -999.00,9, -999.00,9, -31.3605, 107.8108,-999.000,-999.000,20090508,       0839
33RR20090320,        I05,     178,          1,         13,         13,2,20090508,       0724,   -31.3605,   107.8106,       5313,  1935.5,   2.4479,  34.6990,2,  34.6994,2,    160.3,2,   160.6,2,   97.60,2,   33.63,2,    0.00,2,    2.43,2,-999.000,9,-999.000,9,-999.0000,9,  2275.0,2,  2366.3,2,   7.6513,2,    20.00,-999.000,9,-999.000,9,-999.000,9,   2.4478,2,-999.000,9, -999.00,9, -999.00,-999.000,9,-999.000, -999.00,9, -999.00,9, -31.3605, 107.8108,-999.000,-999.000,20090508,       0835
33RR20090320,        I05,     178,          1,         12,         12,2,20090508,       0724,   -31.3605,   107.8106,       5313,  2167.3,   2.2395,  34.7183,2,  34.7187,2,    164.2,2,   163.8,2,  104.98,2,   33.40,2,    0.00,2,    2.41,2,-999.000,9,-999.000,9,-999.0000,9,  -999.0,9,  -999.0,9,-999.0000,9,  -999.00,-999.000,9,-999.000,9,-999.000,9,   2.2395,2,-999.000,9, -999.00,9, -999.00,-999.000,9,-999.000, -999.00,9, -999.00,9, -31.3605, 107.8107,-999.000,-999.000,20090508,       0830
33RR20090320,        I05,     178,          1,         11,         11,2,20090508,       0724,   -31.3605,   107.8106,       5313,  2414.6,   2.0300,  34.7274,2,  34.7272,2,    171.0,2,   170.6,2,  108.00,2,   33.05,2,    0.00,2,    2.38,2,-999.000,9,-999.000,9,-999.0000,9,  2278.6,2,  2374.8,2,   7.6679,2,    20.00,-999.000,9,-999.000,9,-999.000,9,   2.0307,2,-999.000,9, -999.00,9, -999.00,-999.000,9,-999.000, -999.00,9, -999.00,9, -31.3605, 107.8107,-999.000,-999.000,20090508,       0825
33RR20090320,        I05,     178,          1,         10,         10,2,20090508,       0724,   -31.3605,   107.8106,       5313,  2661.7,   1.8595,  34.7301,2,  34.7297,2,    176.5,2,   176.2,2,  110.44,2,   32.77,2,    0.00,2,    2.35,2,-999.000,9,-999.000,9,-999.0000,9,  -999.0,9,  -999.0,9,-999.0000,9,  -999.00,-999.000,9,-999.000,9,-999.000,9,   1.8600,2,-999.000,9, -999.00,9, -999.00,-999.000,9,-999.000, -999.00,9, -999.00,9, -31.3604, 107.8106,-999.000,-999.000,20090508,       0820
33RR20090320,        I05,     178,          1,          9,          9,2,20090508,       0724,   -31.3605,   107.8106,       5313,  2914.8,   1.6972,  34.7307,2,  34.7317,2,    182.4,2,   181.7,2,  112.32,2,   32.59,2,    0.00,2,    2.33,2,   0.005,6,   0.003,6,   0.0000,6,  2274.7,2,  2377.4,2,   7.6796,2,    20.00,-999.000,9,-999.000,9,-999.000,9,   1.6971,2,-999.000,9, -999.00,9, -999.00,-999.000,9,-999.000, -999.00,9, -999.00,9, -31.3605, 107.8106,-999.000,-999.000,20090508,       0815
33RR20090320,        I05,     178,          1,          8,          8,2,20090508,       0724,   -31.3605,   107.8106,       5313,  3197.4,   1.5335,  34.7298,2,  34.7295,2,    188.0,2,   188.2,2,  113.62,2,   32.31,2,    0.00,2,    2.29,2,-999.000,9,-999.000,9,-999.0000,9,  -999.0,9,  -999.0,9,-999.0000,9,  -999.00,-999.000,9,-999.000,9,-999.000,9,   1.5340,2,-999.000,9, -999.00,9, -999.00,-999.000,9,-999.000, -999.00,9, -999.00,9, -31.3605, 107.8106,-999.000,-999.000,20090508,       0809
33RR20090320,        I05,     178,          1,          7,          7,2,20090508,       0724,   -31.3605,   107.8106,       5313,  3502.7,   1.3573,  34.7261,2,  34.7262,2,    195.3,2,   195.1,2,  115.50,2,   32.09,2,    0.00,2,    2.28,2,-999.000,9,-999.000,9,-999.0000,9,  -999.0,9,  -999.0,9,-999.0000,9,  -999.00,-999.000,9,-999.000,9,-999.000,9,   1.3580,2,-999.000,9, -999.00,9, -999.00,-999.000,9,-999.000, -999.00,9, -999.00,9, -31.3606, 107.8106,-999.000,-999.000,20090508,       0803
33RR20090320,        I05,     178,          1,          5,          5,2,20090508,       0724,   -31.3605,   107.8106,       5313,  3867.4,   1.2054,  34.7190,2,  34.7199,2,    196.5,2,   196.5,2,  121.19,2,   32.36,2,    0.00,2,    2.30,2,   0.010,6,   0.005,6,   0.0000,6,  2273.5,2,  2381.3,2,   7.6908,2,    20.00,-999.000,9,-999.000,9,-999.000,9,   1.2063,2,-999.000,9, -999.00,9, -999.00,-999.000,9,-999.000, -999.00,9, -999.00,9, -31.3606, 107.8107,-999.000,-999.000,20090508,       0756
33RR20090320,        I05,     178,          1,          6,          6,2,20090508,       0724,   -31.3605,   107.8106,       5313,  3868.6,   1.2075,  34.7189,2,-999.0000,9,   -999.0,5,  -999.0,9, -999.00,9, -999.00,9, -999.00,9, -999.00,9,   0.011,6,   0.005,6,   0.0000,6,  -999.0,9,  -999.0,9,-999.0000,9,  -999.00,-999.000,9,-999.000,9,-999.000,9,   1.2072,2,-999.000,9, -999.00,9, -999.00,-999.000,9,-999.000, -999.00,9, -999.00,9, -31.3606, 107.8107,-999.000,-999.000,20090508,       0756
33RR20090320,        I05,     178,          1,          4,          4,2,20090508,       0724,   -31.3605,   107.8106,       5313,  4280.5,   1.0933,  34.7141,2,  34.7140,2,    201.2,2,   202.4,2,  122.31,2,   32.30,2,    0.00,2,    2.29,2,-999.000,9,-999.000,9,-999.0000,9,  -999.0,9,  -999.0,9,-999.0000,9,  -999.00,-999.000,9,-999.000,9,-999.000,9,   1.0934,2,-999.000,9, -999.00,9, -999.00,-999.000,9,-999.000, -999.00,9, -999.00,9, -31.3605, 107.8108,-999.000,-999.000,20090508,       0747
33RR20090320,        I05,     178,          1,          3,          3,2,20090508,       0724,   -31.3605,   107.8106,       5313,  4687.5,   1.0143,  34.7094,2,  34.7099,2,    205.4,2,   205.9,2,  123.23,2,   32.24,2,    0.00,2,    2.29,2,   0.034,6,   0.019,6,   0.0000,6,  2268.0,2,  2374.2,2,   7.6901,2,    20.00,-999.000,9,-999.000,9,-999.000,9,   1.0141,2,-999.000,9, -999.00,9, -999.00,-999.000,9,-999.000, -999.00,9, -999.00,9, -31.3605, 107.8108,-999.000,-999.000,20090508,       0739
33RR20090320,        I05,     178,          1,          2,          2,2,20090508,       0724,   -31.3605,   107.8106,       5313,  5080.2,   1.0220,  34.7079,2,  34.7075,2,    207.2,2,   206.4,2,  123.21,2,   32.24,2,    0.00,2,    2.29,2,-999.000,9,-999.000,9,-999.0000,9,  -999.0,9,  -999.0,9,-999.0000,9,  -999.00,-999.000,9,-999.000,9,-999.000,9,   1.0220,2,-999.000,9, -999.00,9, -999.00,-999.000,9,-999.000, -999.00,9, -999.00,9, -31.3605, 107.8107,-999.000,-999.000,20090508,       0731
33RR20090320,        I05,     178,          1,          1,          1,2,20090508,       0724,   -31.3605,   107.8106,       5313,  5401.6,   1.0473,  34.7069,2,  34.7079,3,    207.7,2,   207.6,2,  123.56,2,   32.17,2,    0.00,2,    2.28,2,   0.057,6,   0.029,6,   0.0000,6,  2268.9,6,  2372.4,2,   7.6881,2,    20.00,-999.000,9,-999.000,9,-999.000,9,   1.0470,2,-999.000,9, -999.00,9, -999.00,-999.000,9,-999.000, -999.00,9, -999.00,9, -31.3605, 107.8107,-999.000,-999.000,20090508,       0724