BOTTLE,20220814CCHSIOAMB
EXPOCODE,SECT_ID,STNNBR,CASTNO,SAMPNO,BTLNBR,BTLNBR_FLAG_W,DATE,TIME,LATITUDE,LONGITUDE,DEPTH,CTDPRS,CTDTMP,CTDSAL,CTDSAL_FLAG_W,SALNTY,SALNTY_FLAG_W,CTDOXY,CTDOXY_FLAG_W,OXYGEN,OXYGEN_FLAG_W,SILCAT,SILCAT_FLAG_W,NITRAT,NITRAT_FLAG_W,NITRIT,NITRIT_FLAG_W,PHSPHT,PHSPHT_FLAG_W,CFC-11,CFC-11_FLAG_W,CFC-12,CFC-12_FLAG_W,SF6,SF6_FLAG_W,TCARBN,TCARBN_FLAG_W,ALKALI,ALKALI_FLAG_W,PH_TOT,PH_TOT_FLAG_W,PH_TMP,TRITUM,TRITUM_FLAG_W,HELIUM,HELIUM_FLAG_W,DELHE3,DELHE3_FLAG_W,REFTMP,REFTMP_FLAG_W,DELC13,DELC13_FLAG_W,DELC14,DELC14_FLAG_W,C14ERR,NEON,NEON_FLAG_W,NEONER,DOC,DOC_FLAG_W,TDN,TDN_FLAG_W,BTL_LAT,BTL_LON,HELIER,DELHER,BTL_DATE,BTL_TIME
,,,,,,,,,,,METERS,DBAR,ITS-90,PSS-78,,PSS-78,,UMOL/KG,,UMOL/KG,,UMOL/KG,,UMOL/KG,,UMOL/KG,,UMOL/KG,,PMOL/KG,,PMOL/KG,,FMOL/KG,,UMOL/KG,,UMOL/KG,,,,DEG C,TU,,NMOL/KG,,PERCNT,,DEG C,,/MILLE,,/MILLE,,/MILLE,NMOL/KG,,NMOL/KG,UMOL/KG,,UMOL/KG,,,,NMOL/KG,PERCNT,,
33RR20090320,        I05,     132,          1,         34,         34,2,20090426,       2141,   -31.7485,    88.2653,       2239,     4.5,  20.3132,  36.0053,2,  36.0058,2,    225.9,2,   226.8,2,    1.66,2,    0.00,2,    0.00,2,    0.13,2,-999.000,9,-999.000,9,-999.0000,9,  2074.9,6,  2364.8,2,   8.0904,2,    20.00,-999.000,9,-999.000,9,-999.000,9,  20.3122,2,-999.000,9, -999.00,9, -999.00,-999.000,9,-999.000, -999.00,9, -999.00,9, -31.7482,  88.2650,-999.000,-999.000,20090426,       2255
33RR20090320,        I05,     132,          1,         33,         33,2,20090426,       2141,   -31.7485,    88.2653,       2239,    39.0,  20.2636,  36.0171,2,  36.0185,2,    227.3,2,   227.5,2,    1.65,2,    0.00,2,    0.00,2,    0.13,2,-999.000,9,-999.000,9,-999.0000,9,  2074.1,2,  2368.8,2,   8.0919,2,    20.00,-999.000,9,-999.000,9,-999.000,9,  20.2623,2,-999.000,9, -999.00,9, -999.00,-999.000,9,-999.000, -999.00,9, -999.00,9, -31.7481,  88.2650,-999.000,-999.000,20090426,       2252
33RR20090320,        I05,     132,          1,         32,         32,2,20090426,       2141,   -31.7485,    88.2653,       2239,    64.6,  20.1661,  35.9978,2,  35.9912,2,    227.7,2,   228.2,2,    1.63,2,    0.00,2,    0.00,2,    0.13,2,-999.000,9,-999.000,9,-999.0000,9,  2074.0,2,  2365.7,2,   8.0890,2,    20.00,-999.000,9,-999.000,9,-999.000,9,  20.1740,2,-999.000,9, -999.00,9, -999.00,-999.000,9,-999.000, -999.00,9, -999.00,9, -31.7482,  88.2649,-999.000,-999.000,20090426,       2250
33RR20090320,        I05,     132,          1,         31,         31,2,20090426,       2141,   -31.7485,    88.2653,       2239,    90.0,  16.7951,  35.6873,2,  35.6921,2,    253.3,2,   251.7,2,    1.27,2,    0.00,2,    0.00,2,    0.17,2,-999.000,9,-999.000,9,-999.0000,9,  2076.7,2,  2346.1,2,   8.0602,2,    20.00,-999.000,9,-999.000,9,-999.000,9,  16.8034,2,-999.000,9, -999.00,9, -999.00,-999.000,9,-999.000, -999.00,9, -999.00,9, -31.7482,  88.2649,-999.000,-999.000,20090426,       2248
33RR20090320,        I05,     132,          1,         30,         30,2,20090426,       2141,   -31.7485,    88.2653,       2239,   115.1,  15.6135,  35.5868,2,  35.5910,2,    243.2,2,   241.8,2,    1.42,2,    0.13,2,    0.09,2,    0.26,2,-999.000,9,-999.000,9,-999.0000,9,  -999.0,9,  -999.0,9,-999.0000,9,  -999.00,-999.000,9,-999.000,9,-999.000,9,  15.6084,2,-999.000,9, -999.00,9, -999.00,-999.000,9,-999.000, -999.00,9, -999.00,9, -31.7482,  88.2649,-999.000,-999.000,20090426,       2246
33RR20090320,        I05,     132,          1,         29,         29,2,20090426,       2141,   -31.7485,    88.2653,       2239,   141.2,  14.4282,  35.3873,2,  35.4088,2,    238.0,2,   236.5,2,    1.77,2,    2.73,2,    0.18,2,    0.41,2,-999.000,9,-999.000,9,-999.0000,9,  2100.3,2,  2333.8,2,   7.9925,2,    20.00,-999.000,9,-999.000,9,-999.000,9,  14.4700,2,-999.000,9, -999.00,9, -999.00,-999.000,9,-999.000, -999.00,9, -999.00,9, -31.7482,  88.2649,-999.000,-999.000,20090426,       2245
33RR20090320,        I05,     132,          1,         28,         28,2,20090426,       2141,   -31.7485,    88.2653,       2239,   165.5,  13.5518,  35.2394,2,  35.2408,2,    236.0,2,   237.7,2,    2.11,2,    4.90,2,    0.01,2,    0.53,2,-999.000,9,-999.000,9,-999.0000,9,  -999.0,9,  -999.0,9,-999.0000,9,  -999.00,-999.000,9,-999.000,9,-999.000,9,  13.5547,2,-999.000,9, -999.00,9, -999.00,-999.000,9,-999.000, -999.00,9, -999.00,9, -31.7482,  88.2649,-999.000,-999.000,20090426,       2244
33RR20090320,        I05,     132,          1,         27,         27,2,20090426,       2141,   -31.7485,    88.2653,       2239,   189.9,  12.7713,  35.1072,2,  35.1154,2,    238.3,2,   240.6,2,    2.45,2,    6.57,2,    0.01,2,    0.61,2,-999.000,9,-999.000,9,-999.0000,9,  2105.6,2,  2315.0,2,   7.9482,2,    20.00,-999.000,9,-999.000,9,-999.000,9,  12.7478,2,-999.000,9, -999.00,9, -999.00,-999.000,9,-999.000, -999.00,9, -999.00,9, -31.7482,  88.2650,-999.000,-999.000,20090426,       2242
33RR20090320,        I05,     132,          1,         26,         26,2,20090426,       2141,   -31.7485,    88.2653,       2239,   215.8,  12.3415,  35.0473,2,  35.0483,2,    242.3,2,   242.8,2,    2.79,2,    7.70,2,    0.00,2,    0.67,2,-999.000,9,-999.000,9,-999.0000,9,  -999.0,9,  -999.0,9,-999.0000,9,  -999.00,-999.000,9,-999.000,9,-999.000,9,  12.3343,2,-999.000,9, -999.00,9, -999.00,-999.000,9,-999.000, -999.00,9, -999.00,9, -31.7482,  88.2650,-999.000,-999.000,20090426,       2241
33RR20090320,        I05,     132,          1,         25,         25,2,20090426,       2141,   -31.7485,    88.2653,       2239,   239.2,  12.0323,  35.0192,2,  35.0197,2,    241.6,2,   242.9,2,    3.13,2,    8.72,2,    0.00,2,    0.73,2,-999.000,9,-999.000,9,-999.0000,9,  -999.0,9,  -999.0,9,-999.0000,9,  -999.00,-999.000,9,-999.000,9,-999.000,9,  12.0348,2,-999.000,9, -999.00,9, -999.00,-999.000,9,-999.000, -999.00,9, -999.00,9, -31.7482,  88.2650,-999.000,-999.000,20090426,       2239
33RR20090320,        I05,     132,          1,         24,         24,2,20090426,       2141,   -31.7485,    88.2653,       2239,   270.0,  11.8976,  35.0217,2,  35.0199,2,    240.8,2,   241.4,2,    3.47,2,    9.41,2,    0.00,2,    0.77,2,-999.000,9,-999.000,9,-999.0000,9,  -999.0,9,  -999.0,9,-999.0000,9,  -999.00,-999.000,9,-999.000,9,-999.000,9,  11.8951,2,-999.000,9, -999.00,9, -999.00,-999.000,9,-999.000, -999.00,9, -999.00,9, -31.7482,  88.2650,-999.000,-999.000,20090426,       2238
33RR20090320,        I05,     132,          1,         23,         23,2,20090426,       2141,   -31.7485,    88.2653,       2239,   319.9,  11.5528,  34.9858,2,  34.9855,2,    242.9,2,   243.1,2,    3.63,2,   10.10,2,    0.00,2,    0.82,2,-999.000,9,-999.000,9,-999.0000,9,  2114.5,2,  2309.4,2,   7.9155,2,    20.00,-999.000,9,-999.000,9,-999.000,9,  11.5469,2,-999.000,9, -999.00,9, -999.00,-999.000,9,-999.000, -999.00,9, -999.00,9, -31.7482,  88.2650,-999.000,-999.000,20090426,       2236
33RR20090320,        I05,     132,          1,         22,         22,2,20090426,       2141,   -31.7485,    88.2653,       2239,   369.6,  11.2569,  34.9450,2,  34.9455,2,    243.2,2,   243.4,2,    3.80,2,   10.79,2,    0.00,2,    0.86,2,-999.000,9,-999.000,9,-999.0000,9,  -999.0,9,  -999.0,9,-999.0000,9,  -999.00,-999.000,9,-999.000,9,-999.000,9,  11.2569,2,-999.000,9, -999.00,9, -999.00,-999.000,9,-999.000, -999.00,9, -999.00,9, -31.7482,  88.2650,-999.000,-999.000,20090426,       2234
33RR20090320,        I05,     132,          1,         21,         21,2,20090426,       2141,   -31.7485,    88.2653,       2239,   420.4,  11.0271,  34.9179,2,  34.9168,2,    243.6,2,   242.4,2,    3.96,2,   11.43,2,    0.00,2,    0.89,2,-999.000,9,-999.000,9,-999.0000,9,  -999.0,9,  -999.0,9,-999.0000,9,  -999.00,-999.000,9,-999.000,9,-999.000,9,  11.0185,2,-999.000,9, -999.00,9, -999.00,-999.000,9,-999.000, -999.00,9, -999.00,9, -31.7482,  88.2650,-999.000,-999.000,20090426,       2232
33RR20090320,        I05,     132,          1,         20,         20,2,20090426,       2141,   -31.7485,    88.2653,       2239,   468.6,  10.6829,  34.8719,2,  34.8741,2,    240.2,2,   240.2,2,    4.48,2,   12.49,2,    0.00,2,    0.96,2,-999.000,9,-999.000,9,-999.0000,9,  -999.0,9,  -999.0,9,-999.0000,9,  -999.00,-999.000,9,-999.000,9,-999.000,9,  10.6918,2,-999.000,9, -999.00,9, -999.00,-999.000,9,-999.000, -999.00,9, -999.00,9, -31.7482,  88.2650,-999.000,-999.000,20090426,       2230
33RR20090320,        I05,     132,          1,         19,         19,2,20090426,       2141,   -31.7485,    88.2653,       2239,   539.0,  10.2980,  34.8199,2,  34.8201,2,    237.1,2,   237.0,2,    4.82,2,   13.83,2,    0.00,2,    1.03,2,-999.000,9,-999.000,9,-999.0000,9,  2123.4,2,  2301.4,2,   7.8797,2,    20.00,-999.000,9,-999.000,9,-999.000,9,  10.2933,2,-999.000,9, -999.00,9, -999.00,-999.000,9,-999.000, -999.00,9, -999.00,9, -31.7483,  88.2651,-999.000,-999.000,20090426,       2228
33RR20090320,        I05,     132,          1,         18,         18,2,20090426,       2141,   -31.7485,    88.2653,       2239,   640.2,   9.5581,  34.7189,2,  34.7190,2,    236.3,2,   235.5,2,    5.34,2,   15.76,2,    0.00,2,    1.15,2,-999.000,9,-999.000,9,-999.0000,9,  -999.0,9,  -999.0,9,-999.0000,9,  -999.00,-999.000,9,-999.000,9,-999.000,9,   9.5616,2,-999.000,9, -999.00,9, -999.00,-999.000,9,-999.000, -999.00,9, -999.00,9, -31.7483,  88.2652,-999.000,-999.000,20090426,       2225
33RR20090320,        I05,     132,          1,         17,         17,2,20090426,       2141,   -31.7485,    88.2653,       2239,   738.8,   8.8450,  34.6271,2,  34.6304,2,    226.4,2,   227.7,2,    7.11,2,   18.44,2,    0.00,2,    1.32,2,-999.000,9,-999.000,9,-999.0000,9,  -999.0,9,  -999.0,9,-999.0000,9,  -999.00,-999.000,9,-999.000,9,-999.000,9,   8.8474,2,-999.000,9, -999.00,9, -999.00,-999.000,9,-999.000, -999.00,9, -999.00,9, -31.7483,  88.2652,-999.000,-999.000,20090426,       2222
33RR20090320,        I05,     132,          1,         16,         16,2,20090426,       2141,   -31.7485,    88.2653,       2239,   838.9,   7.5081,  34.5079,2,  34.5092,2,    207.6,2,   207.2,2,   13.86,2,   23.73,2,    0.00,2,    1.65,2,-999.000,9,-999.000,9,-999.0000,9,  -999.0,9,  -999.0,9,-999.0000,9,  -999.00,-999.000,9,-999.000,9,-999.000,9,   7.5345,2,-999.000,9, -999.00,9, -999.00,-999.000,9,-999.000, -999.00,9, -999.00,9, -31.7483,  88.2652,-999.000,-999.000,20090426,       2220
33RR20090320,        I05,     132,          1,         15,         15,2,20090426,       2141,   -31.7485,    88.2653,       2239,   940.1,   6.0422,  34.4175,2,  34.4171,2,    198.0,2,   198.8,2,   22.78,2,   28.16,2,    0.00,2,    1.94,2,-999.000,9,-999.000,9,-999.0000,9,  -999.0,9,  -999.0,9,-999.0000,9,  -999.00,-999.000,9,-999.000,9,-999.000,9,   6.0442,2,-999.000,9, -999.00,9, -999.00,-999.000,9,-999.000, -999.00,9, -999.00,9, -31.7482,  88.2651,-999.000,-999.000,20090426,       2217
33RR20090320,        I05,     132,          1,         14,         14,2,20090426,       2141,   -31.7485,    88.2653,       2239,  1040.0,   5.0523,  34.3896,2,  34.3905,2,    191.4,2,   192.5,2,   32.46,2,   30.76,2,    0.00,2,    2.14,2,-999.000,9,-999.000,9,-999.0000,9,  2196.5,2,  2302.9,2,   7.6983,2,    20.00,-999.000,9,-999.000,9,-999.000,9,   5.0480,2,-999.000,9, -999.00,9, -999.00,-999.000,9,-999.000, -999.00,9, -999.00,9, -31.7482,  88.2651,-999.000,-999.000,20090426,       2214
33RR20090320,        I05,     132,          1,         13,         13,2,20090426,       2141,   -31.7485,    88.2653,       2239,  1140.0,   4.2996,  34.4116,2,  34.4130,2,    180.0,2,   179.5,2,   45.80,2,   32.98,2,    0.00,2,    2.30,2,-999.000,9,-999.000,9,-999.0000,9,  -999.0,9,  -999.0,9,-999.0000,9,  -999.00,-999.000,9,-999.000,9,-999.000,9,   4.2992,2,-999.000,9, -999.00,9, -999.00,-999.000,9,-999.000, -999.00,9, -999.00,9, -31.7482,  88.2651,-999.000,-999.000,20090426,       2212
33RR20090320,        I05,     132,          1,         12,         12,2,20090426,       2141,   -31.7485,    88.2653,       2239,  1241.2,   3.9073,  34.4572,2,  34.4574,2,    168.3,2,   166.1,2,   57.57,2,   34.37,2,    0.00,2,    2.42,2,-999.000,9,-999.000,9,-999.0000,9,  -999.0,9,  -999.0,9,-999.0000,9,  -999.00,-999.000,9,-999.000,9,-999.000,9,   3.9073,2,-999.000,9, -999.00,9, -999.00,-999.000,9,-999.000, -999.00,9, -999.00,9, -31.7483,  88.2651,-999.000,-999.000,20090426,       2209
33RR20090320,        I05,     132,          1,         11,         11,2,20090426,       2141,   -31.7485,    88.2653,       2239,  1341.0,   3.6359,  34.5011,2,  34.5016,2,    157.6,2,   157.1,2,   67.02,2,   35.11,2,    0.00,2,    2.49,2,-999.000,9,-999.000,9,-999.0000,9,  -999.0,9,  -999.0,9,-999.0000,9,  -999.00,-999.000,9,-999.000,9,-999.000,9,   3.6353,2,-999.000,9, -999.00,9, -999.00,-999.000,9,-999.000, -999.00,9, -999.00,9, -31.7483,  88.2652,-999.000,-999.000,20090426,       2206
33RR20090320,        I05,     132,          1,         10,         10,2,20090426,       2141,   -31.7485,    88.2653,       2239,  1440.2,   3.4354,  34.5375,2,  34.5375,2,    153.1,2,   152.8,2,   73.40,2,   35.36,2,    0.00,2,    2.50,2,-999.000,9,-999.000,9,-999.0000,9,  -999.0,9,  -999.0,9,-999.0000,9,  -999.00,-999.000,9,-999.000,9,-999.000,9,   3.4353,2,-999.000,9, -999.00,9, -999.00,-999.000,9,-999.000, -999.00,9, -999.00,9, -31.7483,  88.2652,-999.000,-999.000,20090426,       2203
33RR20090320,        I05,     132,          1,          9,          9,2,20090426,       2141,   -31.7485,    88.2653,       2239,  1542.6,   3.2017,  34.5785,2,  34.5787,2,    151.3,2,   151.0,2,   79.61,2,   35.50,2,    0.00,2,    2.51,2,-999.000,9,-999.000,9,-999.0000,9,  2263.2,2,  2348.5,2,   7.6290,2,    20.00,-999.000,9,-999.000,9,-999.000,9,   3.2003,2,-999.000,9, -999.00,9, -999.00,-999.000,9,-999.000, -999.00,9, -999.00,9, -31.7483,  88.2653,-999.000,-999.000,20090426,       2201
33RR20090320,        I05,     132,          1,          8,          8,2,20090426,       2141,   -31.7485,    88.2653,       2239,  1641.4,   3.0363,  34.6071,2,  34.6067,2,    152.3,2,   152.4,2,   82.91,2,   35.21,2,    0.00,2,    2.50,2,-999.000,9,-999.000,9,-999.0000,9,  -999.0,9,  -999.0,9,-999.0000,9,  -999.00,-999.000,9,-999.000,9,-999.000,9,   3.0370,2,-999.000,9, -999.00,9, -999.00,-999.000,9,-999.000, -999.00,9, -999.00,9, -31.7483,  88.2653,-999.000,-999.000,20090426,       2158
33RR20090320,        I05,     132,          1,          7,          7,2,20090426,       2141,   -31.7485,    88.2653,       2239,  1743.5,   2.8378,  34.6373,2,  34.6387,2,    156.1,2,   156.5,2,   86.03,2,   34.75,2,    0.00,2,    2.46,2,-999.000,9,-999.000,9,-999.0000,9,  -999.0,9,  -999.0,9,-999.0000,9,  -999.00,-999.000,9,-999.000,9,-999.000,9,   2.8369,2,-999.000,9, -999.00,9, -999.00,-999.000,9,-999.000, -999.00,9, -999.00,9, -31.7483,  88.2653,-999.000,-999.000,20090426,       2155
33RR20090320,        I05,     132,          1,          6,          6,2,20090426,       2141,   -31.7485,    88.2653,       2239,  1844.5,   2.6827,  34.6625,2,  34.6623,2,    160.5,2,   161.3,2,   87.85,2,   34.28,2,    0.00,2,    2.42,2,-999.000,9,-999.000,9,-999.0000,9,  -999.0,9,  -999.0,9,-999.0000,9,  -999.00,-999.000,9,-999.000,9,-999.000,9,   2.6827,2,-999.000,9, -999.00,9, -999.00,-999.000,9,-999.000, -999.00,9, -999.00,9, -31.7484,  88.2652,-999.000,-999.000,20090426,       2152
33RR20090320,        I05,     132,          1,          5,          5,2,20090426,       2141,   -31.7485,    88.2653,       2239,  1944.9,   2.5519,  34.6825,2,  34.6835,2,    165.6,2,   165.8,2,   89.14,2,   33.77,2,    0.00,2,    2.37,2,-999.000,9,-999.000,9,-999.0000,9,  -999.0,9,  -999.0,9,-999.0000,9,  -999.00,-999.000,9,-999.000,9,-999.000,9,   2.5511,2,-999.000,9, -999.00,9, -999.00,-999.000,9,-999.000, -999.00,9, -999.00,9, -31.7484,  88.2652,-999.000,-999.000,20090426,       2150
33RR20090320,        I05,     132,          1,          4,          4,2,20090426,       2141,   -31.7485,    88.2653,       2239,  2074.6,   2.3816,  34.7055,2,  34.7057,2,    172.4,2,   173.4,2,   90.23,2,   33.10,2,    0.00,2,    2.31,2,-999.000,9,-999.000,9,-999.0000,9,  -999.0,9,  -999.0,9,-999.0000,9,  -999.00,-999.000,9,-999.000,9,-999.000,9,   2.3827,2,-999.000,9, -999.00,9, -999.00,-999.000,9,-999.000, -999.00,9, -999.00,9, -31.7485,  88.2653,-999.000,-999.000,20090426,       2147
33RR20090320,        I05,     132,          1,          2,          2,2,20090426,       2141,   -31.7485,    88.2653,       2239,  2160.2,   2.2608,  34.7147,2,  34.7179,4,    173.6,2,   173.6,2,   96.12,2,   33.17,2,    0.00,2,    2.32,2,-999.000,9,-999.000,9,-999.0000,9,  -999.0,9,  -999.0,9,-999.0000,9,  -999.00,-999.000,9,-999.000,9,-999.000,9,   2.2594,2,-999.000,9, -999.00,9, -999.00,-999.000,9,-999.000, -999.00,9, -999.00,9, -31.7485,  88.2653,-999.000,-999.000,20090426,       2144
33RR20090320,        I05,     132,          1,          3,          3,2,20090426,       2141,   -31.7485,    88.2653,       2239,  2161.9,   2.2601,  34.7147,2,-999.0000,9,   -999.0,5,  -999.0,9, -999.00,9, -999.00,9, -999.00,9, -999.00,9,-999.000,9,-999.000,9,-999.0000,9,  -999.0,9,  -999.0,9,-999.0000,9,  -999.00,-999.000,9,-999.000,9,-999.000,9,   2.2608,2,-999.000,9, -999.00,9, -999.00,-999.000,9,-999.000, -999.00,9, -999.00,9, -31.7485,  88.2653,-999.000,-999.000,20090426,       2144
33RR20090320,        I05,     132,          1,          1,          1,2,20090426,       2141,   -31.7485,    88.2653,       2239,  2250.0,   2.2151,  34.7183,2,  34.7183,2,    175.0,2,   174.9,2,   97.04,2,   33.16,2,    0.00,2,    2.32,2,-999.000,9,-999.000,9,-999.0000,9,  2266.0,6,  2363.7,2,   7.6688,2,    20.00,-999.000,9,-999.000,9,-999.000,9,   2.2136,2,-999.000,9, -999.00,9, -999.00,-999.000,9,-999.000, -999.00,9, -999.00,9, -31.7485,  88.2653,-999.000,-999.000,20090426,       2141