BOTTLE,20220814CCHSIOAMB
EXPOCODE,SECT_ID,STNNBR,CASTNO,SAMPNO,BTLNBR,BTLNBR_FLAG_W,DATE,TIME,LATITUDE,LONGITUDE,DEPTH,CTDPRS,CTDTMP,CTDSAL,CTDSAL_FLAG_W,SALNTY,SALNTY_FLAG_W,CTDOXY,CTDOXY_FLAG_W,OXYGEN,OXYGEN_FLAG_W,SILCAT,SILCAT_FLAG_W,NITRAT,NITRAT_FLAG_W,NITRIT,NITRIT_FLAG_W,PHSPHT,PHSPHT_FLAG_W,CFC-11,CFC-11_FLAG_W,CFC-12,CFC-12_FLAG_W,SF6,SF6_FLAG_W,TCARBN,TCARBN_FLAG_W,ALKALI,ALKALI_FLAG_W,PH_TOT,PH_TOT_FLAG_W,PH_TMP,TRITUM,TRITUM_FLAG_W,HELIUM,HELIUM_FLAG_W,DELHE3,DELHE3_FLAG_W,REFTMP,REFTMP_FLAG_W,DELC13,DELC13_FLAG_W,DELC14,DELC14_FLAG_W,C14ERR,NEON,NEON_FLAG_W,NEONER,DOC,DOC_FLAG_W,TDN,TDN_FLAG_W,BTL_LAT,BTL_LON,HELIER,DELHER,BTL_DATE,BTL_TIME
,,,,,,,,,,,METERS,DBAR,ITS-90,PSS-78,,PSS-78,,UMOL/KG,,UMOL/KG,,UMOL/KG,,UMOL/KG,,UMOL/KG,,UMOL/KG,,PMOL/KG,,PMOL/KG,,FMOL/KG,,UMOL/KG,,UMOL/KG,,,,DEG C,TU,,NMOL/KG,,PERCNT,,DEG C,,/MILLE,,/MILLE,,/MILLE,NMOL/KG,,NMOL/KG,UMOL/KG,,UMOL/KG,,,,NMOL/KG,PERCNT,,
33RR20090320,        I05,     112,          1,         36,         36,2,20090422,       0248,   -30.8407,    78.3272,       3250,     8.9,  20.9380,  35.8258,2,  35.8248,2,    224.9,2,   224.6,2,    1.37,2,    0.12,2,    0.00,2,    0.13,2,-999.000,9,-999.000,9,-999.0000,9,  2063.5,6,  2353.2,2,   8.0916,2,    20.00,-999.000,9,-999.000,9,-999.000,9,  20.9375,2,-999.000,9, -999.00,9, -999.00,-999.000,9,-999.000, -999.00,9, -999.00,9, -30.8405,  78.3276,-999.000,-999.000,20090422,       0427
33RR20090320,        I05,     112,          1,         35,         35,2,20090422,       0248,   -30.8407,    78.3272,       3250,    24.1,  20.9224,  35.8244,2,  35.8243,2,    225.5,2,   224.1,2,    1.37,2,    0.13,2,    0.00,2,    0.13,2,-999.000,9,-999.000,9,-999.0000,9,  2062.4,2,  2352.9,2,   8.0915,2,    20.00,-999.000,9,-999.000,9,-999.000,9,  20.9241,2,-999.000,9, -999.00,9, -999.00,-999.000,9,-999.000, -999.00,9, -999.00,9, -30.8405,  78.3276,-999.000,-999.000,20090422,       0426
33RR20090320,        I05,     112,          1,         34,         34,2,20090422,       0248,   -30.8407,    78.3272,       3250,    43.8,  20.9391,  35.8337,2,  35.8326,2,    225.5,2,   224.6,2,    1.36,2,    0.13,2,    0.00,2,    0.13,2,-999.000,9,-999.000,9,-999.0000,9,  -999.0,9,  -999.0,9,-999.0000,9,  -999.00,-999.000,9,-999.000,9,-999.000,9,  20.9379,2,-999.000,9, -999.00,9, -999.00,-999.000,9,-999.000, -999.00,9, -999.00,9, -30.8406,  78.3276,-999.000,-999.000,20090422,       0424
33RR20090320,        I05,     112,          1,         33,         33,2,20090422,       0248,   -30.8407,    78.3272,       3250,    69.3,  19.4122,  35.6852,2,  35.6899,2,    235.9,2,   238.9,2,    1.17,2,    0.13,2,    0.00,2,    0.15,2,-999.000,9,-999.000,9,-999.0000,9,  2064.9,2,  2347.5,2,   8.0774,2,    20.00,-999.000,9,-999.000,9,-999.000,9,  19.4359,2,-999.000,9, -999.00,9, -999.00,-999.000,9,-999.000, -999.00,9, -999.00,9, -30.8406,  78.3276,-999.000,-999.000,20090422,       0423
33RR20090320,        I05,     112,          1,         32,         32,2,20090422,       0248,   -30.8407,    78.3272,       3250,    94.6,  16.6960,  35.5938,2,  35.5914,2,    256.1,2,   256.0,2,    1.17,2,    0.13,2,    0.00,2,    0.17,2,-999.000,9,-999.000,9,-999.0000,9,  -999.0,9,  -999.0,9,-999.0000,9,  -999.00,-999.000,9,-999.000,9,-999.000,9,  16.6997,2,-999.000,9, -999.00,9, -999.00,-999.000,9,-999.000, -999.00,9, -999.00,9, -30.8406,  78.3276,-999.000,-999.000,20090422,       0421
33RR20090320,        I05,     112,          1,         31,         31,2,20090422,       0248,   -30.8407,    78.3272,       3250,   118.9,  15.2400,  35.4228,2,  35.4185,2,    252.0,2,   247.1,2,    1.34,2,    0.36,2,    0.03,2,    0.26,2,-999.000,9,-999.000,9,-999.0000,9,  2082.8,2,  2335.4,2,   8.0232,2,    20.00,-999.000,9,-999.000,9,-999.000,9,  15.2303,2,-999.000,9, -999.00,9, -999.00,-999.000,9,-999.000, -999.00,9, -999.00,9, -30.8406,  78.3276,-999.000,-999.000,20090422,       0419
33RR20090320,        I05,     112,          1,         30,         30,2,20090422,       0248,   -30.8407,    78.3272,       3250,   143.2,  14.2768,  35.3239,2,  35.3227,2,    238.8,2,   237.2,2,    1.69,2,    3.59,2,    0.12,2,    0.43,2,-999.000,9,-999.000,9,-999.0000,9,  -999.0,9,  -999.0,9,-999.0000,9,  -999.00,-999.000,9,-999.000,9,-999.000,9,  14.2769,2,-999.000,9, -999.00,9, -999.00,-999.000,9,-999.000, -999.00,9, -999.00,9, -30.8406,  78.3277,-999.000,-999.000,20090422,       0417
33RR20090320,        I05,     112,          1,         29,         29,2,20090422,       0248,   -30.8407,    78.3272,       3250,   188.6,  13.1815,  35.1898,2,  35.1882,2,    233.9,2,   234.0,2,    2.57,2,    7.14,2,    0.00,2,    0.61,2,-999.000,9,-999.000,9,-999.0000,9,  -999.0,9,  -999.0,9,-999.0000,9,  -999.00,-999.000,9,-999.000,9,-999.000,9,  13.1801,2,-999.000,9, -999.00,9, -999.00,-999.000,9,-999.000, -999.00,9, -999.00,9, -30.8405,  78.3277,-999.000,-999.000,20090422,       0415
33RR20090320,        I05,     112,          1,         28,         28,2,20090422,       0248,   -30.8407,    78.3272,       3250,   239.0,  12.5597,  35.1274,2,  35.1281,2,    234.5,2,   235.0,2,    3.27,2,    8.96,2,    0.00,2,    0.70,2,-999.000,9,-999.000,9,-999.0000,9,  2108.6,2,  2301.8,3,   7.9349,2,    20.00,-999.000,9,-999.000,9,-999.000,9,  12.5693,2,-999.000,9, -999.00,9, -999.00,-999.000,9,-999.000, -999.00,9, -999.00,9, -30.8405,  78.3277,-999.000,-999.000,20090422,       0413
33RR20090320,        I05,     112,          1,         27,         27,2,20090422,       0248,   -30.8407,    78.3272,       3250,   289.4,  12.1600,  35.0818,2,  35.0819,2,    235.6,2,   235.8,2,    3.62,2,   10.06,2,    0.00,2,    0.76,2,-999.000,9,-999.000,9,-999.0000,9,  -999.0,9,  -999.0,9,-999.0000,9,  -999.00,-999.000,9,-999.000,9,-999.000,9,  12.1623,2,-999.000,9, -999.00,9, -999.00,-999.000,9,-999.000, -999.00,9, -999.00,9, -30.8405,  78.3277,-999.000,-999.000,20090422,       0411
33RR20090320,        I05,     112,          1,         26,         26,2,20090422,       0248,   -30.8407,    78.3272,       3250,   339.1,  11.8672,  35.0440,2,  35.0442,2,    238.4,2,   238.4,2,    3.79,2,   10.62,2,    0.00,2,    0.80,2,-999.000,9,-999.000,9,-999.0000,9,  -999.0,9,  -999.0,9,-999.0000,9,  -999.00,-999.000,9,-999.000,9,-999.000,9,  11.8669,2,-999.000,9, -999.00,9, -999.00,-999.000,9,-999.000, -999.00,9, -999.00,9, -30.8405,  78.3277,-999.000,-999.000,20090422,       0409
33RR20090320,        I05,     112,          1,         25,         25,2,20090422,       0248,   -30.8407,    78.3272,       3250,   387.8,  11.6275,  35.0098,2,  35.0108,2,    240.4,2,   240.2,2,    3.96,2,   11.09,2,    0.00,2,    0.83,2,-999.000,9,-999.000,9,-999.0000,9,  2113.2,2,  2305.7,2,   7.9161,2,    20.00,-999.000,9,-999.000,9,-999.000,9,  11.6283,2,-999.000,9, -999.00,9, -999.00,-999.000,9,-999.000, -999.00,9, -999.00,9, -30.8406,  78.3276,-999.000,-999.000,20090422,       0407
33RR20090320,        I05,     112,          1,         24,         24,2,20090422,       0248,   -30.8407,    78.3272,       3250,   439.6,  11.2765,  34.9610,2,  34.9616,2,    239.2,2,   238.7,2,    4.13,2,   11.97,2,    0.00,2,    0.89,2,-999.000,9,-999.000,9,-999.0000,9,  -999.0,9,  -999.0,9,-999.0000,9,  -999.00,-999.000,9,-999.000,9,-999.000,9,  11.2790,2,-999.000,9, -999.00,9, -999.00,-999.000,9,-999.000, -999.00,9, -999.00,9, -30.8406,  78.3276,-999.000,-999.000,20090422,       0404
33RR20090320,        I05,     112,          1,         23,         23,2,20090422,       0248,   -30.8407,    78.3272,       3250,   487.7,  11.0200,  34.9254,2,  34.9233,2,    238.3,2,   238.5,2,    4.31,2,   12.60,2,    0.00,2,    0.93,2,-999.000,9,-999.000,9,-999.0000,9,  -999.0,9,  -999.0,9,-999.0000,9,  -999.00,-999.000,9,-999.000,9,-999.000,9,  11.0212,2,-999.000,9, -999.00,9, -999.00,-999.000,9,-999.000, -999.00,9, -999.00,9, -30.8406,  78.3276,-999.000,-999.000,20090422,       0402
33RR20090320,        I05,     112,          1,         22,         22,2,20090422,       0248,   -30.8407,    78.3272,       3250,   569.5,  10.4773,  34.8529,2,  34.8521,2,    234.5,2,   234.6,2,    4.83,2,   14.11,2,    0.00,2,    1.02,2,-999.000,9,-999.000,9,-999.0000,9,  -999.0,9,  -999.0,9,-999.0000,9,  -999.00,-999.000,9,-999.000,9,-999.000,9,  10.4769,2,-999.000,9, -999.00,9, -999.00,-999.000,9,-999.000, -999.00,9, -999.00,9, -30.8406,  78.3275,-999.000,-999.000,20090422,       0400
33RR20090320,        I05,     112,          1,         21,         21,2,20090422,       0248,   -30.8407,    78.3272,       3250,   668.7,   9.7379,  34.7514,2,  34.7525,2,    228.1,2,   228.2,2,    6.06,2,   16.45,2,    0.00,2,    1.17,2,-999.000,9,-999.000,9,-999.0000,9,  2129.7,2,  2295.2,2,   7.8578,2,    20.00,-999.000,9,-999.000,9,-999.000,9,   9.7377,2,-999.000,9, -999.00,9, -999.00,-999.000,9,-999.000, -999.00,9, -999.00,9, -30.8406,  78.3275,-999.000,-999.000,20090422,       0357
33RR20090320,        I05,     112,          1,         20,         20,2,20090422,       0248,   -30.8407,    78.3272,       3250,   769.4,   8.6085,  34.6181,2,  34.6183,2,    213.3,2,   214.9,2,    9.62,2,   20.51,2,    0.00,2,    1.43,2,-999.000,9,-999.000,9,-999.0000,9,  -999.0,9,  -999.0,9,-999.0000,9,  -999.00,-999.000,9,-999.000,9,-999.000,9,   8.6118,2,-999.000,9, -999.00,9, -999.00,-999.000,9,-999.000, -999.00,9, -999.00,9, -30.8406,  78.3274,-999.000,-999.000,20090422,       0354
33RR20090320,        I05,     112,          1,         19,         19,2,20090422,       0248,   -30.8407,    78.3272,       3250,   870.0,   7.1044,  34.4862,2,  34.4871,2,    204.5,2,   204.2,2,   16.04,2,   24.91,2,    0.00,2,    1.74,2,-999.000,9,-999.000,9,-999.0000,9,  -999.0,9,  -999.0,9,-999.0000,9,  -999.00,-999.000,9,-999.000,9,-999.000,9,   7.1065,2,-999.000,9, -999.00,9, -999.00,-999.000,9,-999.000, -999.00,9, -999.00,9, -30.8405,  78.3274,-999.000,-999.000,20090422,       0352
33RR20090320,        I05,     112,          1,         18,         18,2,20090422,       0248,   -30.8407,    78.3272,       3250,   968.7,   5.6507,  34.3929,2,  34.3935,2,    204.8,2,   203.4,2,   23.74,2,   28.43,2,    0.00,2,    1.97,2,-999.000,9,-999.000,9,-999.0000,9,  -999.0,9,  -999.0,9,-999.0000,9,  -999.00,-999.000,9,-999.000,9,-999.000,9,   5.6554,2,-999.000,9, -999.00,9, -999.00,-999.000,9,-999.000, -999.00,9, -999.00,9, -30.8405,  78.3274,-999.000,-999.000,20090422,       0349
33RR20090320,        I05,     112,          1,         17,         17,2,20090422,       0248,   -30.8407,    78.3272,       3250,  1070.3,   4.6390,  34.3812,2,  34.3810,2,    192.7,2,   193.6,2,   35.24,2,   31.11,2,    0.00,2,    2.19,2,-999.000,9,-999.000,9,-999.0000,9,  2200.4,2,  2300.9,2,   7.6895,2,    20.00,-999.000,9,-999.000,9,-999.000,9,   4.6366,2,-999.000,9, -999.00,9, -999.00,-999.000,9,-999.000, -999.00,9, -999.00,9, -30.8405,  78.3274,-999.000,-999.000,20090422,       0346
33RR20090320,        I05,     112,          1,         16,         16,2,20090422,       0248,   -30.8407,    78.3272,       3250,  1161.0,   4.1529,  34.4111,2,  34.4105,2,    179.4,2,   181.1,2,   46.08,2,   32.74,2,    0.00,2,    2.32,2,-999.000,9,-999.000,9,-999.0000,9,  -999.0,9,  -999.0,9,-999.0000,9,  -999.00,-999.000,9,-999.000,9,-999.000,9,   4.1523,2,-999.000,9, -999.00,9, -999.00,-999.000,9,-999.000, -999.00,9, -999.00,9, -30.8405,  78.3273,-999.000,-999.000,20090422,       0343
33RR20090320,        I05,     112,          1,         15,         15,2,20090422,       0248,   -30.8407,    78.3272,       3250,  1270.5,   3.7231,  34.4596,2,  34.4610,2,    166.2,2,   168.3,2,   58.23,2,   34.01,2,    0.00,2,    2.42,2,-999.000,9,-999.000,9,-999.0000,9,  -999.0,9,  -999.0,9,-999.0000,9,  -999.00,-999.000,9,-999.000,9,-999.000,9,   3.7211,2,-999.000,9, -999.00,9, -999.00,-999.000,9,-999.000, -999.00,9, -999.00,9, -30.8405,  78.3273,-999.000,-999.000,20090422,       0340
33RR20090320,        I05,     112,          1,         14,         14,2,20090422,       0248,   -30.8407,    78.3272,       3250,  1370.3,   3.4889,  34.5114,2,  34.5103,2,    161.3,2,   160.2,2,   67.14,2,   34.65,2,    0.00,2,    2.48,2,-999.000,9,-999.000,9,-999.0000,9,  -999.0,9,  -999.0,9,-999.0000,9,  -999.00,-999.000,9,-999.000,9,-999.000,9,   3.4903,2,-999.000,9, -999.00,9, -999.00,-999.000,9,-999.000, -999.00,9, -999.00,9, -30.8405,  78.3274,-999.000,-999.000,20090422,       0337
33RR20090320,        I05,     112,          1,         13,         13,2,20090422,       0248,   -30.8407,    78.3272,       3250,  1471.5,   3.1977,  34.5437,2,  34.5435,2,    160.0,2,   160.2,2,   71.34,2,   34.59,2,    0.00,2,    2.47,2,-999.000,9,-999.000,9,-999.0000,9,  2252.9,2,  2337.6,2,   7.6343,2,    20.00,-999.000,9,-999.000,9,-999.000,9,   3.1976,2,-999.000,9, -999.00,9, -999.00,-999.000,9,-999.000, -999.00,9, -999.00,9, -30.8406,  78.3274,-999.000,-999.000,20090422,       0334
33RR20090320,        I05,     112,          1,         12,         12,2,20090422,       0248,   -30.8407,    78.3272,       3250,  1572.3,   2.9879,  34.5772,2,  34.5775,2,    162.7,2,   162.0,2,   74.26,2,   34.47,2,    0.00,2,    2.45,2,-999.000,9,-999.000,9,-999.0000,9,  -999.0,9,  -999.0,9,-999.0000,9,  -999.00,-999.000,9,-999.000,9,-999.000,9,   2.9876,2,-999.000,9, -999.00,9, -999.00,-999.000,9,-999.000, -999.00,9, -999.00,9, -30.8405,  78.3274,-999.000,-999.000,20090422,       0331
33RR20090320,        I05,     112,          1,         11,         11,2,20090422,       0248,   -30.8407,    78.3272,       3250,  1670.2,   2.8015,  34.6180,2,  34.6173,2,    165.2,2,   164.2,2,   77.57,2,   33.94,2,    0.00,2,    2.41,2,-999.000,9,-999.000,9,-999.0000,9,  -999.0,9,  -999.0,9,-999.0000,9,  -999.00,-999.000,9,-999.000,9,-999.000,9,   2.8065,2,-999.000,9, -999.00,9, -999.00,-999.000,9,-999.000, -999.00,9, -999.00,9, -30.8405,  78.3274,-999.000,-999.000,20090422,       0328
33RR20090320,        I05,     112,          1,         10,         10,2,20090422,       0248,   -30.8407,    78.3272,       3250,  1772.0,   2.6458,  34.6503,2,  34.6493,2,    169.7,2,   168.9,2,   79.20,2,   33.40,2,    0.00,2,    2.35,2,-999.000,9,-999.000,9,-999.0000,9,  2255.3,6,  2346.5,2,   7.6495,2,    20.00,-999.000,9,-999.000,9,-999.000,9,   2.6489,2,-999.000,9, -999.00,9, -999.00,-999.000,9,-999.000, -999.00,9, -999.00,9, -30.8405,  78.3274,-999.000,-999.000,20090422,       0326
33RR20090320,        I05,     112,          1,          9,          9,2,20090422,       0248,   -30.8407,    78.3272,       3250,  1944.8,   2.4197,  34.6965,2,  34.6969,2,    176.9,2,   177.1,2,   81.77,2,   32.34,2,    0.00,2,    2.28,2,-999.000,9,-999.000,9,-999.0000,9,  -999.0,9,  -999.0,9,-999.0000,9,  -999.00,-999.000,9,-999.000,9,-999.000,9,   2.4194,2,-999.000,9, -999.00,9, -999.00,-999.000,9,-999.000, -999.00,9, -999.00,9, -30.8404,  78.3273,-999.000,-999.000,20090422,       0322
33RR20090320,        I05,     112,          1,          8,          8,2,20090422,       0248,   -30.8407,    78.3272,       3250,  2145.7,   2.2029,  34.7263,2,  34.7265,2,    185.7,2,   185.9,2,   84.70,2,   31.44,2,    0.00,2,    2.20,2,-999.000,9,-999.000,9,-999.0000,9,  -999.0,9,  -999.0,9,-999.0000,9,  -999.00,-999.000,9,-999.000,9,-999.000,9,   2.2035,2,-999.000,9, -999.00,9, -999.00,-999.000,9,-999.000, -999.00,9, -999.00,9, -30.8404,  78.3273,-999.000,-999.000,20090422,       0317
33RR20090320,        I05,     112,          1,          7,          7,2,20090422,       0248,   -30.8407,    78.3272,       3250,  2346.9,   2.0054,  34.7389,2,  34.7393,2,    190.4,2,   190.8,2,   90.03,2,   31.17,2,    0.00,2,    2.19,2,-999.000,9,-999.000,9,-999.0000,9,  2252.0,2,  2354.3,2,   7.6858,2,    20.00,-999.000,9,-999.000,9,-999.000,9,   2.0081,2,-999.000,9, -999.00,9, -999.00,-999.000,9,-999.000, -999.00,9, -999.00,9, -30.8404,  78.3274,-999.000,-999.000,20090422,       0313
33RR20090320,        I05,     112,          1,          6,          6,2,20090422,       0248,   -30.8407,    78.3272,       3250,  2549.2,   1.8226,  34.7391,2,  34.7395,2,    192.2,2,   192.5,2,   97.02,2,   31.32,2,    0.00,2,    2.21,2,-999.000,9,-999.000,9,-999.0000,9,  -999.0,9,  -999.0,9,-999.0000,9,  -999.00,-999.000,9,-999.000,9,-999.000,9,   1.8230,2,-999.000,9, -999.00,9, -999.00,-999.000,9,-999.000, -999.00,9, -999.00,9, -30.8405,  78.3274,-999.000,-999.000,20090422,       0308
33RR20090320,        I05,     112,          1,          5,          5,2,20090422,       0248,   -30.8407,    78.3272,       3250,  2753.4,   1.6819,  34.7356,2,  34.7366,2,    192.3,2,   193.0,2,  102.74,2,   31.59,2,    0.00,2,    2.23,2,-999.000,9,-999.000,9,-999.0000,9,  -999.0,9,  -999.0,9,-999.0000,9,  -999.00,-999.000,9,-999.000,9,-999.000,9,   1.6818,2,-999.000,9, -999.00,9, -999.00,-999.000,9,-999.000, -999.00,9, -999.00,9, -30.8406,  78.3273,-999.000,-999.000,20090422,       0303
33RR20090320,        I05,     112,          1,          4,          4,2,20090422,       0248,   -30.8407,    78.3272,       3250,  2954.1,   1.5764,  34.7330,2,  34.7337,2,    193.2,2,   194.1,2,  106.80,2,   31.89,2,    0.00,2,    2.25,2,-999.000,9,-999.000,9,-999.0000,9,  -999.0,9,  -999.0,9,-999.0000,9,  -999.00,-999.000,9,-999.000,9,-999.000,9,   1.5766,2,-999.000,9, -999.00,9, -999.00,-999.000,9,-999.000, -999.00,9, -999.00,9, -30.8406,  78.3273,-999.000,-999.000,20090422,       0258
33RR20090320,        I05,     112,          1,          3,          3,2,20090422,       0248,   -30.8407,    78.3272,       3250,  3156.8,   1.5099,  34.7318,2,  34.7322,2,    194.9,2,   194.8,2,  109.02,2,   31.89,2,    0.00,2,    2.24,2,-999.000,9,-999.000,9,-999.0000,9,  -999.0,9,  -999.0,9,-999.0000,9,  -999.00,-999.000,9,-999.000,9,-999.000,9,   1.5101,2,-999.000,9, -999.00,9, -999.00,-999.000,9,-999.000, -999.00,9, -999.00,9, -30.8406,  78.3273,-999.000,-999.000,20090422,       0253
33RR20090320,        I05,     112,          1,          2,          2,2,20090422,       0248,   -30.8407,    78.3272,       3250,  3211.6,   1.5066,  34.7312,2,  34.7316,2,    195.0,2,   194.9,2,  109.58,2,   31.94,2,    0.00,2,    2.25,2,-999.000,9,-999.000,9,-999.0000,9,  -999.0,9,  -999.0,9,-999.0000,9,  -999.00,-999.000,9,-999.000,9,-999.000,9,   1.5058,2,-999.000,9, -999.00,9, -999.00,-999.000,9,-999.000, -999.00,9, -999.00,9, -30.8406,  78.3273,-999.000,-999.000,20090422,       0251
33RR20090320,        I05,     112,          1,          1,          1,2,20090422,       0248,   -30.8407,    78.3272,       3250,  3283.4,   1.5021,  34.7312,2,  34.7311,2,    194.4,2,   195.4,2,  109.76,2,   31.93,2,    0.00,2,    2.25,2,-999.000,9,-999.000,9,-999.0000,9,  2265.9,6,  2371.8,2,   7.6906,2,    20.00,-999.000,9,-999.000,9,-999.000,9,   1.5023,2,-999.000,9, -999.00,9, -999.00,-999.000,9,-999.000, -999.00,9, -999.00,9, -30.8407,  78.3272,-999.000,-999.000,20090422,       0248