BOTTLE,20220814CCHSIOAMB
EXPOCODE,SECT_ID,STNNBR,CASTNO,SAMPNO,BTLNBR,BTLNBR_FLAG_W,DATE,TIME,LATITUDE,LONGITUDE,DEPTH,CTDPRS,CTDTMP,CTDSAL,CTDSAL_FLAG_W,SALNTY,SALNTY_FLAG_W,CTDOXY,CTDOXY_FLAG_W,OXYGEN,OXYGEN_FLAG_W,SILCAT,SILCAT_FLAG_W,NITRAT,NITRAT_FLAG_W,NITRIT,NITRIT_FLAG_W,PHSPHT,PHSPHT_FLAG_W,CFC-11,CFC-11_FLAG_W,CFC-12,CFC-12_FLAG_W,SF6,SF6_FLAG_W,TCARBN,TCARBN_FLAG_W,ALKALI,ALKALI_FLAG_W,PH_TOT,PH_TOT_FLAG_W,PH_TMP,TRITUM,TRITUM_FLAG_W,HELIUM,HELIUM_FLAG_W,DELHE3,DELHE3_FLAG_W,REFTMP,REFTMP_FLAG_W,DELC13,DELC13_FLAG_W,DELC14,DELC14_FLAG_W,C14ERR,NEON,NEON_FLAG_W,NEONER,DOC,DOC_FLAG_W,TDN,TDN_FLAG_W,BTL_LAT,BTL_LON,HELIER,DELHER,BTL_DATE,BTL_TIME
,,,,,,,,,,,METERS,DBAR,ITS-90,PSS-78,,PSS-78,,UMOL/KG,,UMOL/KG,,UMOL/KG,,UMOL/KG,,UMOL/KG,,UMOL/KG,,PMOL/KG,,PMOL/KG,,FMOL/KG,,UMOL/KG,,UMOL/KG,,,,DEG C,TU,,NMOL/KG,,PERCNT,,DEG C,,/MILLE,,/MILLE,,/MILLE,NMOL/KG,,NMOL/KG,UMOL/KG,,UMOL/KG,,,,NMOL/KG,PERCNT,,
33RR20090320,        I05,     110,          2,         36,         36,2,20090421,       1628,   -31.3027,    77.4003,       3128,     3.7,  22.2350,  35.7679,2,  35.7678,2,    218.0,2,   218.2,2,    2.01,2,    0.13,2,    0.00,2,    0.09,2,-999.000,9,-999.000,9,-999.0000,9,  2038.8,6,  2342.7,2,   8.1264,2,    20.00,-999.000,9,-999.000,9,-999.000,9,  22.2331,2,-999.000,9, -999.00,9, -999.00,-999.000,9,-999.000, -999.00,9, -999.00,9, -31.3027,  77.3999,-999.000,-999.000,20090421,       1802
33RR20090320,        I05,     110,          2,         35,         35,2,20090421,       1628,   -31.3027,    77.4003,       3128,    25.1,  20.9557,  35.6784,2,  35.6770,2,    224.9,2,   224.8,2,    1.64,2,    0.13,2,    0.00,2,    0.12,2,-999.000,9,-999.000,9,-999.0000,9,  2057.4,2,  2344.0,2,   8.0948,2,    20.00,-999.000,9,-999.000,9,-999.000,9,  20.9621,2,-999.000,9, -999.00,9, -999.00,-999.000,9,-999.000, -999.00,9, -999.00,9, -31.3028,  77.3999,-999.000,-999.000,20090421,       1800
33RR20090320,        I05,     110,          2,         34,         34,2,20090421,       1628,   -31.3027,    77.4003,       3128,    50.0,  20.3340,  35.6586,2,  35.6563,2,    228.3,2,   227.8,2,    1.44,2,    0.14,2,    0.00,2,    0.14,2,-999.000,9,-999.000,9,-999.0000,9,  2065.5,2,  2341.4,2,   8.0814,2,    20.00,-999.000,9,-999.000,9,-999.000,9,  20.3338,2,-999.000,9, -999.00,9, -999.00,-999.000,9,-999.000, -999.00,9, -999.00,9, -31.3028,  77.3999,-999.000,-999.000,20090421,       1758
33RR20090320,        I05,     110,          2,         33,         33,2,20090421,       1628,   -31.3027,    77.4003,       3128,    75.5,  18.7121,  35.6084,2,  35.6127,2,    241.7,2,   246.1,2,    1.42,2,    0.14,2,    0.00,2,    0.15,2,-999.000,9,-999.000,9,-999.0000,9,  2067.1,2,  2340.4,2,   8.0742,2,    20.00,-999.000,9,-999.000,9,-999.000,9,  18.7477,2,-999.000,9, -999.00,9, -999.00,-999.000,9,-999.000, -999.00,9, -999.00,9, -31.3028,  77.3999,-999.000,-999.000,20090421,       1757
33RR20090320,        I05,     110,          2,         32,         32,2,20090421,       1628,   -31.3027,    77.4003,       3128,   100.7,  16.0944,  35.4856,2,  35.4982,2,    257.7,2,   255.5,2,    1.41,2,    0.14,2,    0.00,2,    0.19,2,-999.000,9,-999.000,9,-999.0000,9,  2074.1,2,  2334.0,2,   8.0511,2,    20.00,-999.000,9,-999.000,9,-999.000,9,  16.1546,2,-999.000,9, -999.00,9, -999.00,-999.000,9,-999.000, -999.00,9, -999.00,9, -31.3028,  77.3999,-999.000,-999.000,20090421,       1755
33RR20090320,        I05,     110,          2,         31,         31,2,20090421,       1628,   -31.3027,    77.4003,       3128,   125.0,  15.0843,  35.4154,2,  35.4201,2,    247.0,2,   245.7,2,    1.57,2,    0.61,2,    0.05,2,    0.27,2,-999.000,9,-999.000,9,-999.0000,9,  -999.0,9,  -999.0,9,-999.0000,9,  -999.00,-999.000,9,-999.000,9,-999.000,9,  15.0839,2,-999.000,9, -999.00,9, -999.00,-999.000,9,-999.000, -999.00,9, -999.00,9, -31.3027,  77.3999,-999.000,-999.000,20090421,       1754
33RR20090320,        I05,     110,          2,         30,         30,2,20090421,       1628,   -31.3027,    77.4003,       3128,   149.5,  13.8760,  35.2641,2,  35.2737,2,    238.7,2,   238.4,2,    2.26,2,    4.43,2,    0.15,2,    0.47,2,-999.000,9,-999.000,9,-999.0000,9,  -999.0,9,  -999.0,9,-999.0000,9,  -999.00,-999.000,9,-999.000,9,-999.000,9,  13.9089,2,-999.000,9, -999.00,9, -999.00,-999.000,9,-999.000, -999.00,9, -999.00,9, -31.3027,  77.3999,-999.000,-999.000,20090421,       1752
33RR20090320,        I05,     110,          2,         29,         29,2,20090421,       1628,   -31.3027,    77.4003,       3128,   176.4,  13.3891,  35.2153,2,  35.2128,2,    234.8,2,   234.7,2,    2.78,2,    6.55,2,    0.01,2,    0.57,2,-999.000,9,-999.000,9,-999.0000,9,  -999.0,9,  -999.0,9,-999.0000,9,  -999.00,-999.000,9,-999.000,9,-999.000,9,  13.4187,2,-999.000,9, -999.00,9, -999.00,-999.000,9,-999.000, -999.00,9, -999.00,9, -31.3027,  77.3999,-999.000,-999.000,20090421,       1751
33RR20090320,        I05,     110,          2,         28,         28,2,20090421,       1628,   -31.3027,    77.4003,       3128,   199.1,  12.9945,  35.1755,2,  35.1752,2,    235.2,2,   235.0,2,    3.30,2,    7.91,2,    0.00,2,    0.64,2,-999.000,9,-999.000,9,-999.0000,9,  2108.3,2,  2313.7,2,   7.9456,2,    20.00,-999.000,9,-999.000,9,-999.000,9,  12.9935,2,-999.000,9, -999.00,9, -999.00,-999.000,9,-999.000, -999.00,9, -999.00,9, -31.3027,  77.4000,-999.000,-999.000,20090421,       1750
33RR20090320,        I05,     110,          2,         27,         27,2,20090421,       1628,   -31.3027,    77.4003,       3128,   224.1,  12.7662,  35.1589,2,  35.1591,2,    235.2,2,   235.8,2,    3.47,2,    8.53,2,    0.00,2,    0.67,2,-999.000,9,-999.000,9,-999.0000,9,  -999.0,9,  -999.0,9,-999.0000,9,  -999.00,-999.000,9,-999.000,9,-999.000,9,  12.7647,2,-999.000,9, -999.00,9, -999.00,-999.000,9,-999.000, -999.00,9, -999.00,9, -31.3027,  77.4000,-999.000,-999.000,20090421,       1749
33RR20090320,        I05,     110,          2,         26,         26,2,20090421,       1628,   -31.3027,    77.4003,       3128,   249.4,  12.4944,  35.1335,2,  35.1337,2,    237.2,2,   237.0,2,    3.81,2,    9.26,2,    0.00,2,    0.71,2,-999.000,9,-999.000,9,-999.0000,9,  -999.0,9,  -999.0,9,-999.0000,9,  -999.00,-999.000,9,-999.000,9,-999.000,9,  12.4936,2,-999.000,9, -999.00,9, -999.00,-999.000,9,-999.000, -999.00,9, -999.00,9, -31.3027,  77.4000,-999.000,-999.000,20090421,       1747
33RR20090320,        I05,     110,          2,         25,         25,2,20090421,       1628,   -31.3027,    77.4003,       3128,   299.0,  12.1423,  35.0875,2,  35.0870,2,    234.6,2,   235.3,2,    3.96,2,   10.26,2,    0.00,2,    0.77,2,-999.000,9,-999.000,9,-999.0000,9,  2114.4,2,  2307.8,2,   7.9239,2,    20.00,-999.000,9,-999.000,9,-999.000,9,  12.1402,2,-999.000,9, -999.00,9, -999.00,-999.000,9,-999.000, -999.00,9, -999.00,9, -31.3027,  77.4001,-999.000,-999.000,20090421,       1746
33RR20090320,        I05,     110,          2,         24,         24,2,20090421,       1628,   -31.3027,    77.4003,       3128,   349.0,  11.8268,  35.0413,2,  35.0418,2,    237.1,2,   238.2,2,    4.13,2,   10.79,2,    0.00,2,    0.81,2,-999.000,9,-999.000,9,-999.0000,9,  -999.0,9,  -999.0,9,-999.0000,9,  -999.00,-999.000,9,-999.000,9,-999.000,9,  11.8276,2,-999.000,9, -999.00,9, -999.00,-999.000,9,-999.000, -999.00,9, -999.00,9, -31.3027,  77.4001,-999.000,-999.000,20090421,       1744
33RR20090320,        I05,     110,          2,         23,         23,2,20090421,       1628,   -31.3027,    77.4003,       3128,   398.8,  11.5513,  34.9999,2,  35.0003,2,    238.8,2,   239.5,2,    4.11,2,   11.26,2,    0.00,2,    0.84,2,-999.000,9,-999.000,9,-999.0000,9,  -999.0,9,  -999.0,9,-999.0000,9,  -999.00,-999.000,9,-999.000,9,-999.000,9,  11.5536,2,-999.000,9, -999.00,9, -999.00,-999.000,9,-999.000, -999.00,9, -999.00,9, -31.3027,  77.4001,-999.000,-999.000,20090421,       1743
33RR20090320,        I05,     110,          2,         22,         22,2,20090421,       1628,   -31.3027,    77.4003,       3128,   447.9,  11.2124,  34.9510,2,  34.9522,2,    239.1,2,   238.8,2,    4.28,2,   12.14,2,    0.00,2,    0.89,2,-999.000,9,-999.000,9,-999.0000,9,  -999.0,9,  -999.0,9,-999.0000,9,  -999.00,-999.000,9,-999.000,9,-999.000,9,  11.2090,2,-999.000,9, -999.00,9, -999.00,-999.000,9,-999.000, -999.00,9, -999.00,9, -31.3027,  77.4001,-999.000,-999.000,20090421,       1741
33RR20090320,        I05,     110,          2,         21,         21,2,20090421,       1628,   -31.3027,    77.4003,       3128,   499.1,  10.9813,  34.9196,2,  34.9194,2,    238.4,2,   237.5,2,    4.43,2,   12.77,2,    0.00,2,    0.93,2,-999.000,9,-999.000,9,-999.0000,9,  2120.4,2,  2302.4,2,   7.8971,2,    20.00,-999.000,9,-999.000,9,-999.000,9,  10.9806,2,-999.000,9, -999.00,9, -999.00,-999.000,9,-999.000, -999.00,9, -999.00,9, -31.3027,  77.4001,-999.000,-999.000,20090421,       1739
33RR20090320,        I05,     110,          2,         20,         20,2,20090421,       1628,   -31.3027,    77.4003,       3128,   599.7,  10.2567,  34.8207,2,  34.8207,2,    235.2,2,   234.5,2,    5.14,2,   14.60,2,    0.00,2,    1.04,2,-999.000,9,-999.000,9,-999.0000,9,  -999.0,9,  -999.0,9,-999.0000,9,  -999.00,-999.000,9,-999.000,9,-999.000,9,  10.2580,2,-999.000,9, -999.00,9, -999.00,-999.000,9,-999.000, -999.00,9, -999.00,9, -31.3027,  77.4000,-999.000,-999.000,20090421,       1737
33RR20090320,        I05,     110,          2,         19,         19,2,20090421,       1628,   -31.3027,    77.4003,       3128,   700.7,   9.4640,  34.7129,2,  34.7143,2,    228.1,2,   228.8,2,    6.19,2,   17.06,2,    0.00,2,    1.20,2,-999.000,9,-999.000,9,-999.0000,9,  -999.0,9,  -999.0,9,-999.0000,9,  -999.00,-999.000,9,-999.000,9,-999.000,9,   9.4613,2,-999.000,9, -999.00,9, -999.00,-999.000,9,-999.000, -999.00,9, -999.00,9, -31.3027,  77.4000,-999.000,-999.000,20090421,       1734
33RR20090320,        I05,     110,          2,         18,         18,2,20090421,       1628,   -31.3027,    77.4003,       3128,   799.9,   8.4383,  34.5918,2,  34.5915,2,    217.1,2,   217.4,2,    9.39,2,   20.67,2,    0.00,2,    1.45,2,-999.000,9,-999.000,9,-999.0000,9,  -999.0,9,  -999.0,9,-999.0000,9,  -999.00,-999.000,9,-999.000,9,-999.000,9,   8.4360,2,-999.000,9, -999.00,9, -999.00,-999.000,9,-999.000, -999.00,9, -999.00,9, -31.3027,  77.3999,-999.000,-999.000,20090421,       1731
33RR20090320,        I05,     110,          2,         17,         17,2,20090421,       1628,   -31.3027,    77.4003,       3128,   900.6,   6.8997,  34.4709,2,  34.4737,2,    203.7,2,   203.9,2,   17.27,2,   25.40,2,    0.00,2,    1.77,2,-999.000,9,-999.000,9,-999.0000,9,  -999.0,9,  -999.0,9,-999.0000,9,  -999.00,-999.000,9,-999.000,9,-999.000,9,   6.9046,2,-999.000,9, -999.00,9, -999.00,-999.000,9,-999.000, -999.00,9, -999.00,9, -31.3028,  77.3998,-999.000,-999.000,20090421,       1728
33RR20090320,        I05,     110,          2,         16,         16,2,20090421,       1628,   -31.3027,    77.4003,       3128,   999.9,   5.6568,  34.4032,2,  34.4007,2,    197.8,2,   199.2,2,   25.36,2,   28.67,2,    0.00,2,    2.00,2,-999.000,9,-999.000,9,-999.0000,9,  2182.4,2,  2292.5,2,   7.7187,2,    20.00,-999.000,9,-999.000,9,-999.000,9,   5.6579,2,-999.000,9, -999.00,9, -999.00,-999.000,9,-999.000, -999.00,9, -999.00,9, -31.3028,  77.3997,-999.000,-999.000,20090421,       1725
33RR20090320,        I05,     110,          2,         15,         15,2,20090421,       1628,   -31.3027,    77.4003,       3128,  1100.4,   4.6035,  34.3823,2,  34.3827,2,    193.7,2,   192.8,2,   36.01,2,   31.06,2,    0.00,2,    2.20,2,-999.000,9,-999.000,9,-999.0000,9,  -999.0,9,  -999.0,9,-999.0000,9,  -999.00,-999.000,9,-999.000,9,-999.000,9,   4.6041,2,-999.000,9, -999.00,9, -999.00,-999.000,9,-999.000, -999.00,9, -999.00,9, -31.3028,  77.3997,-999.000,-999.000,20090421,       1723
33RR20090320,        I05,     110,          2,         14,         14,2,20090421,       1628,   -31.3027,    77.4003,       3128,  1200.5,   4.0926,  34.4234,2,  34.4233,2,    177.1,2,   177.4,2,   48.71,2,   32.85,2,    0.00,2,    2.34,2,-999.000,9,-999.000,9,-999.0000,9,  -999.0,9,  -999.0,9,-999.0000,9,  -999.00,-999.000,9,-999.000,9,-999.000,9,   4.0930,2,-999.000,9, -999.00,9, -999.00,-999.000,9,-999.000, -999.00,9, -999.00,9, -31.3028,  77.3997,-999.000,-999.000,20090421,       1720
33RR20090320,        I05,     110,          2,         13,         13,2,20090421,       1628,   -31.3027,    77.4003,       3128,  1300.3,   3.7483,  34.4851,2,  34.4846,2,    161.8,2,   161.3,2,   62.21,2,   34.13,2,    0.00,2,    2.45,2,-999.000,9,-999.000,9,-999.0000,9,  -999.0,9,  -999.0,9,-999.0000,9,  -999.00,-999.000,9,-999.000,9,-999.000,9,   3.7480,2,-999.000,9, -999.00,9, -999.00,-999.000,9,-999.000, -999.00,9, -999.00,9, -31.3028,  77.3997,-999.000,-999.000,20090421,       1717
33RR20090320,        I05,     110,          2,         12,         12,2,20090421,       1628,   -31.3027,    77.4003,       3128,  1402.1,   3.5204,  34.5374,2,  34.5386,2,    152.8,2,   152.5,2,   71.72,2,   34.76,2,    0.00,2,    2.50,2,-999.000,9,-999.000,9,-999.0000,9,  2255.9,2,  2337.8,2,   7.6326,2,    20.00,-999.000,9,-999.000,9,-999.000,9,   3.5196,2,-999.000,9, -999.00,9, -999.00,-999.000,9,-999.000, -999.00,9, -999.00,9, -31.3028,  77.3997,-999.000,-999.000,20090421,       1714
33RR20090320,        I05,     110,          2,         11,         11,2,20090421,       1628,   -31.3027,    77.4003,       3128,  1500.8,   3.2777,  34.5655,2,  34.5640,2,    156.1,2,   154.3,2,   75.01,2,   34.61,2,    0.00,2,    2.49,2,-999.000,9,-999.000,9,-999.0000,9,  -999.0,9,  -999.0,9,-999.0000,9,  -999.00,-999.000,9,-999.000,9,-999.000,9,   3.2829,2,-999.000,9, -999.00,9, -999.00,-999.000,9,-999.000, -999.00,9, -999.00,9, -31.3029,  77.3999,-999.000,-999.000,20090421,       1711
33RR20090320,        I05,     110,          2,         10,         10,2,20090421,       1628,   -31.3027,    77.4003,       3128,  1596.5,   3.1158,  34.6081,2,  34.6074,2,    152.7,2,   152.6,2,   81.26,2,   34.44,2,    0.00,2,    2.49,2,-999.000,9,-999.000,9,-999.0000,9,  2265.1,2,  2346.7,3,   7.6340,2,    20.00,-999.000,9,-999.000,9,-999.000,9,   3.1130,2,-999.000,9, -999.00,9, -999.00,-999.000,9,-999.000, -999.00,9, -999.00,9, -31.3029,  77.4001,-999.000,-999.000,20090421,       1708
33RR20090320,        I05,     110,          2,          9,          9,2,20090421,       1628,   -31.3027,    77.4003,       3128,  1698.0,   2.8035,  34.6210,2,  34.6214,2,    160.0,2,   163.7,2,   78.49,2,   33.76,2,    0.00,2,    2.41,2,-999.000,9,-999.000,9,-999.0000,9,  -999.0,9,  -999.0,9,-999.0000,9,  -999.00,-999.000,9,-999.000,9,-999.000,9,   2.8028,2,-999.000,9, -999.00,9, -999.00,-999.000,9,-999.000, -999.00,9, -999.00,9, -31.3029,  77.4003,-999.000,-999.000,20090421,       1704
33RR20090320,        I05,     110,          2,          8,          8,2,20090421,       1628,   -31.3027,    77.4003,       3128,  1798.1,   2.6601,  34.6482,2,  34.6489,2,    168.1,2,   168.4,2,   79.39,2,   33.17,2,    0.00,2,    2.36,2,-999.000,9,-999.000,9,-999.0000,9,  -999.0,9,  -999.0,9,-999.0000,9,  -999.00,-999.000,9,-999.000,9,-999.000,9,   2.6617,2,-999.000,9, -999.00,9, -999.00,-999.000,9,-999.000, -999.00,9, -999.00,9, -31.3030,  77.4005,-999.000,-999.000,20090421,       1701
33RR20090320,        I05,     110,          2,          7,          7,2,20090421,       1628,   -31.3027,    77.4003,       3128,  2000.7,   2.4006,  34.7001,2,  34.7008,2,    177.6,2,   177.9,2,   82.52,2,   32.05,2,    0.00,2,    2.28,2,-999.000,9,-999.000,9,-999.0000,9,  -999.0,9,  -999.0,9,-999.0000,9,  -999.00,-999.000,9,-999.000,9,-999.000,9,   2.3998,2,-999.000,9, -999.00,9, -999.00,-999.000,9,-999.000, -999.00,9, -999.00,9, -31.3030,  77.4005,-999.000,-999.000,20090421,       1656
33RR20090320,        I05,     110,          2,          6,          6,2,20090421,       1628,   -31.3027,    77.4003,       3128,  2204.2,   2.1544,  34.7291,2,  34.7299,2,    187.0,2,   186.9,2,   86.19,2,   31.15,2,    0.00,2,    2.21,2,-999.000,9,-999.000,9,-999.0000,9,  -999.0,9,  -999.0,9,-999.0000,9,  -999.00,-999.000,9,-999.000,9,-999.000,9,   2.1560,2,-999.000,9, -999.00,9, -999.00,-999.000,9,-999.000, -999.00,9, -999.00,9, -31.3030,  77.4003,-999.000,-999.000,20090421,       1652
33RR20090320,        I05,     110,          2,          5,          5,2,20090421,       1628,   -31.3027,    77.4003,       3128,  2403.5,   1.9424,  34.7354,2,  34.7354,2,    188.9,2,   189.2,2,   94.49,2,   31.30,2,    0.00,2,    2.22,2,-999.000,9,-999.000,9,-999.0000,9,  2256.9,2,  2358.3,2,   7.6844,2,    20.00,-999.000,9,-999.000,9,-999.000,9,   1.9420,2,-999.000,9, -999.00,9, -999.00,-999.000,9,-999.000, -999.00,9, -999.00,9, -31.3030,  77.4002,-999.000,-999.000,20090421,       1647
33RR20090320,        I05,     110,          2,          4,          4,2,20090421,       1628,   -31.3027,    77.4003,       3128,  2606.2,   1.7880,  34.7327,2,  34.7331,2,    188.5,2,   188.8,2,  102.27,2,   31.73,2,    0.00,2,    2.25,2,-999.000,9,-999.000,9,-999.0000,9,  -999.0,9,  -999.0,9,-999.0000,9,  -999.00,-999.000,9,-999.000,9,-999.000,9,   1.7882,2,-999.000,9, -999.00,9, -999.00,-999.000,9,-999.000, -999.00,9, -999.00,9, -31.3029,  77.4002,-999.000,-999.000,20090421,       1643
33RR20090320,        I05,     110,          2,          3,          3,2,20090421,       1628,   -31.3027,    77.4003,       3128,  2801.6,   1.6884,  34.7315,2,  34.7323,2,    189.3,2,   189.7,2,  106.34,2,   31.83,2,    0.00,2,    2.26,2,-999.000,9,-999.000,9,-999.0000,9,  -999.0,9,  -999.0,9,-999.0000,9,  -999.00,-999.000,9,-999.000,9,-999.000,9,   1.6879,2,-999.000,9, -999.00,9, -999.00,-999.000,9,-999.000, -999.00,9, -999.00,9, -31.3029,  77.4001,-999.000,-999.000,20090421,       1637
33RR20090320,        I05,     110,          2,          2,          2,2,20090421,       1628,   -31.3027,    77.4003,       3128,  3019.6,   1.6658,  34.7321,2,  34.7321,2,    190.9,2,   190.9,2,  106.89,2,   31.78,2,    0.00,2,    2.26,2,-999.000,9,-999.000,9,-999.0000,9,  2266.4,6,  2368.7,2,   7.6872,2,    20.00,-999.000,9,-999.000,9,-999.000,9,   1.6658,2,-999.000,9, -999.00,9, -999.00,-999.000,9,-999.000, -999.00,9, -999.00,9, -31.3028,  77.4002,-999.000,-999.000,20090421,       1632
33RR20090320,        I05,     110,          2,          1,          1,2,20090421,       1628,   -31.3027,    77.4003,       3128,  3156.3,   1.6556,  34.7324,2,  34.7337,2,    191.5,2,   191.6,2,  106.88,2,   31.78,2,    0.00,2,    2.25,2,-999.000,9,-999.000,9,-999.0000,9,  -999.0,9,  -999.0,9,-999.0000,9,  -999.00,-999.000,9,-999.000,9,-999.000,9,   1.6554,2,-999.000,9, -999.00,9, -999.00,-999.000,9,-999.000, -999.00,9, -999.00,9, -31.3028,  77.4003,-999.000,-999.000,20090421,       1628