BOTTLE,20220814CCHSIOAMB
EXPOCODE,SECT_ID,STNNBR,CASTNO,SAMPNO,BTLNBR,BTLNBR_FLAG_W,DATE,TIME,LATITUDE,LONGITUDE,DEPTH,CTDPRS,CTDTMP,CTDSAL,CTDSAL_FLAG_W,SALNTY,SALNTY_FLAG_W,CTDOXY,CTDOXY_FLAG_W,OXYGEN,OXYGEN_FLAG_W,SILCAT,SILCAT_FLAG_W,NITRAT,NITRAT_FLAG_W,NITRIT,NITRIT_FLAG_W,PHSPHT,PHSPHT_FLAG_W,CFC-11,CFC-11_FLAG_W,CFC-12,CFC-12_FLAG_W,SF6,SF6_FLAG_W,TCARBN,TCARBN_FLAG_W,ALKALI,ALKALI_FLAG_W,PH_TOT,PH_TOT_FLAG_W,PH_TMP,TRITUM,TRITUM_FLAG_W,HELIUM,HELIUM_FLAG_W,DELHE3,DELHE3_FLAG_W,REFTMP,REFTMP_FLAG_W,DELC13,DELC13_FLAG_W,DELC14,DELC14_FLAG_W,C14ERR,NEON,NEON_FLAG_W,NEONER,DOC,DOC_FLAG_W,TDN,TDN_FLAG_W,BTL_LAT,BTL_LON,HELIER,DELHER,BTL_DATE,BTL_TIME
,,,,,,,,,,,METERS,DBAR,ITS-90,PSS-78,,PSS-78,,UMOL/KG,,UMOL/KG,,UMOL/KG,,UMOL/KG,,UMOL/KG,,UMOL/KG,,PMOL/KG,,PMOL/KG,,FMOL/KG,,UMOL/KG,,UMOL/KG,,,,DEG C,TU,,NMOL/KG,,PERCNT,,DEG C,,/MILLE,,/MILLE,,/MILLE,NMOL/KG,,NMOL/KG,UMOL/KG,,UMOL/KG,,,,NMOL/KG,PERCNT,,
33RR20090320,        I05,      76,          1,         36,         36,2,20090411,       0348,   -33.9976,    59.9793,       4942,     8.3,  20.8309,  35.6018,2,  35.6015,2,    224.3,2,   224.3,2,    1.88,2,    0.08,2,    0.00,2,    0.12,2,-999.000,9,-999.000,9,-999.0000,9,  2048.9,6,  2336.2,2,   8.0924,2,    20.00,-999.000,9,-999.000,9,-999.000,9,  20.8312,2,-999.000,9, -999.00,9, -999.00,-999.000,9,-999.000, -999.00,9, -999.00,9, -33.9974,  59.9794,-999.000,-999.000,20090411,       0555
33RR20090320,        I05,      76,          1,         35,         35,2,20090411,       0348,   -33.9976,    59.9793,       4942,    25.6,  20.8381,  35.6018,2,  35.6015,2,    224.5,2,   224.2,2,    2.07,2,    0.08,2,    0.00,2,    0.12,2,-999.000,9,-999.000,9,-999.0000,9,  2048.1,2,  2337.4,2,   8.0924,2,    20.00,-999.000,9,-999.000,9,-999.000,9,  20.8349,2,-999.000,9, -999.00,9, -999.00,-999.000,9,-999.000, -999.00,9, -999.00,9, -33.9974,  59.9794,-999.000,-999.000,20090411,       0553
33RR20090320,        I05,      76,          1,         34,         34,2,20090411,       0348,   -33.9976,    59.9793,       4942,    45.2,  20.6226,  35.5915,2,  35.5891,2,    224.5,2,   226.4,2,    1.83,2,    0.08,2,    0.00,2,    0.12,2,-999.000,9,-999.000,9,-999.0000,9,  2049.5,2,  2334.6,2,   8.0891,2,    20.00,-999.000,9,-999.000,9,-999.000,9,  20.6110,2,-999.000,9, -999.00,9, -999.00,-999.000,9,-999.000, -999.00,9, -999.00,9, -33.9974,  59.9794,-999.000,-999.000,20090411,       0552
33RR20090320,        I05,      76,          1,         33,         33,2,20090411,       0348,   -33.9976,    59.9793,       4942,    70.8,  17.9389,  35.4888,2,  35.4932,2,    242.2,2,   243.4,2,    2.02,2,    0.08,2,    0.00,2,    0.17,2,-999.000,9,-999.000,9,-999.0000,9,  2058.7,2,  2330.7,2,   8.0665,2,    20.00,-999.000,9,-999.000,9,-999.000,9,  17.9514,2,-999.000,9, -999.00,9, -999.00,-999.000,9,-999.000, -999.00,9, -999.00,9, -33.9974,  59.9794,-999.000,-999.000,20090411,       0550
33RR20090320,        I05,      76,          1,         32,         32,2,20090411,       0348,   -33.9976,    59.9793,       4942,    95.5,  15.6962,  35.4440,2,  35.4459,2,    235.5,2,   234.2,2,    2.82,2,    2.50,2,    0.14,2,    0.33,2,-999.000,9,-999.000,9,-999.0000,9,  2080.1,2,  2327.9,2,   8.0217,2,    20.00,-999.000,9,-999.000,9,-999.000,9,  15.7337,2,-999.000,9, -999.00,9, -999.00,-999.000,9,-999.000, -999.00,9, -999.00,9, -33.9973,  59.9794,-999.000,-999.000,20090411,       0549
33RR20090320,        I05,      76,          1,         31,         31,2,20090411,       0348,   -33.9976,    59.9793,       4942,   139.7,  14.6719,  35.4043,2,  35.4043,2,    227.9,2,   226.1,2,    3.63,2,    5.65,2,    0.01,2,    0.50,2,-999.000,9,-999.000,9,-999.0000,9,  2096.4,2,  2325.4,2,   7.9849,2,    20.00,-999.000,9,-999.000,9,-999.000,9,  14.6661,2,-999.000,9, -999.00,9, -999.00,-999.000,9,-999.000, -999.00,9, -999.00,9, -33.9973,  59.9795,-999.000,-999.000,20090411,       0547
33RR20090320,        I05,      76,          1,         30,         30,2,20090411,       0348,   -33.9976,    59.9793,       4942,   189.4,  14.0922,  35.3547,2,  35.3550,2,    225.6,2,   226.9,2,    3.60,2,    6.54,2,    0.01,2,    0.55,2,-999.000,9,-999.000,9,-999.0000,9,  -999.0,9,  -999.0,9,-999.0000,9,  -999.00,-999.000,9,-999.000,9,-999.000,9,  14.0887,2,-999.000,9, -999.00,9, -999.00,-999.000,9,-999.000, -999.00,9, -999.00,9, -33.9972,  59.9796,-999.000,-999.000,20090411,       0544
33RR20090320,        I05,      76,          1,         29,         29,2,20090411,       0348,   -33.9976,    59.9793,       4942,   240.3,  13.6647,  35.3197,2,  35.3197,2,    229.5,2,   229.8,2,    3.99,2,    7.32,2,    0.00,2,    0.60,2,-999.000,9,-999.000,9,-999.0000,9,  2104.4,2,  2321.9,2,   7.9627,2,    20.00,-999.000,9,-999.000,9,-999.000,9,  13.6633,2,-999.000,9, -999.00,9, -999.00,-999.000,9,-999.000, -999.00,9, -999.00,9, -33.9972,  59.9796,-999.000,-999.000,20090411,       0542
33RR20090320,        I05,      76,          1,         28,         28,2,20090411,       0348,   -33.9976,    59.9793,       4942,   289.9,  13.4100,  35.2946,2,  35.2947,2,    229.6,2,   231.8,2,    4.15,2,    7.85,2,    0.00,2,    0.63,2,-999.000,9,-999.000,9,-999.0000,9,  -999.0,9,  -999.0,9,-999.0000,9,  -999.00,-999.000,9,-999.000,9,-999.000,9,  13.4096,2,-999.000,9, -999.00,9, -999.00,-999.000,9,-999.000, -999.00,9, -999.00,9, -33.9973,  59.9793,-999.000,-999.000,20090411,       0539
33RR20090320,        I05,      76,          1,         27,         27,2,20090411,       0348,   -33.9976,    59.9793,       4942,   339.2,  13.2230,  35.2702,2,  35.2697,2,    231.5,2,   231.2,2,    4.18,2,    8.37,2,    0.00,2,    0.65,2,-999.000,9,-999.000,9,-999.0000,9,  2108.1,2,  2319.9,2,   7.9518,2,    20.00,-999.000,9,-999.000,9,-999.000,9,  13.2229,2,-999.000,9, -999.00,9, -999.00,-999.000,9,-999.000, -999.00,9, -999.00,9, -33.9973,  59.9793,-999.000,-999.000,20090411,       0537
33RR20090320,        I05,      76,          1,         26,         26,2,20090411,       0348,   -33.9976,    59.9793,       4942,   391.5,  12.9568,  35.2293,2,  35.2296,2,    230.8,2,   231.7,2,    4.33,2,    8.94,2,    0.00,2,    0.69,2,-999.000,9,-999.000,9,-999.0000,9,  -999.0,9,  -999.0,9,-999.0000,9,  -999.00,-999.000,9,-999.000,9,-999.000,9,  12.9559,2,-999.000,9, -999.00,9, -999.00,-999.000,9,-999.000, -999.00,9, -999.00,9, -33.9973,  59.9793,-999.000,-999.000,20090411,       0535
33RR20090320,        I05,      76,          1,         25,         25,2,20090411,       0348,   -33.9976,    59.9793,       4942,   469.1,  12.4678,  35.1505,2,  35.1488,2,    230.6,2,   230.1,2,    4.52,2,   10.19,2,    0.00,2,    0.77,2,-999.000,9,-999.000,9,-999.0000,9,  2113.3,2,  2314.9,2,   7.9297,2,    20.00,-999.000,9,-999.000,9,-999.000,9,  12.4678,2,-999.000,9, -999.00,9, -999.00,-999.000,9,-999.000, -999.00,9, -999.00,9, -33.9971,  59.9794,-999.000,-999.000,20090411,       0533
33RR20090320,        I05,      76,          1,         24,         24,2,20090411,       0348,   -33.9976,    59.9793,       4942,   568.9,  11.6543,  35.0185,2,  35.0207,2,    226.7,2,   225.7,2,    5.12,2,   12.33,2,    0.00,2,    0.91,2,-999.000,9,-999.000,9,-999.0000,9,  -999.0,9,  -999.0,9,-999.0000,9,  -999.00,-999.000,9,-999.000,9,-999.000,9,  11.6601,2,-999.000,9, -999.00,9, -999.00,-999.000,9,-999.000, -999.00,9, -999.00,9, -33.9972,  59.9795,-999.000,-999.000,20090411,       0530
33RR20090320,        I05,      76,          1,         23,         23,2,20090411,       0348,   -33.9976,    59.9793,       4942,   670.3,  10.6916,  34.8845,2,  34.8828,2,    222.7,2,   222.6,2,    6.13,2,   14.73,2,    0.00,2,    1.06,2,-999.000,9,-999.000,9,-999.0000,9,  2126.4,2,  2305.5,2,   7.8766,2,    20.00,-999.000,9,-999.000,9,-999.000,9,  10.6923,2,-999.000,9, -999.00,9, -999.00,-999.000,9,-999.000, -999.00,9, -999.00,9, -33.9971,  59.9797,-999.000,-999.000,20090411,       0527
33RR20090320,        I05,      76,          1,         22,         22,2,20090411,       0348,   -33.9976,    59.9793,       4942,   769.1,   9.4323,  34.7259,2,  34.7280,2,    215.1,2,   213.3,2,    9.21,2,   18.38,2,    0.00,2,    1.30,2,-999.000,9,-999.000,9,-999.0000,9,  -999.0,9,  -999.0,9,-999.0000,9,  -999.00,-999.000,9,-999.000,9,-999.000,9,   9.4380,2,-999.000,9, -999.00,9, -999.00,-999.000,9,-999.000, -999.00,9, -999.00,9, -33.9973,  59.9796,-999.000,-999.000,20090411,       0524
33RR20090320,        I05,      76,          1,         21,         21,2,20090411,       0348,   -33.9976,    59.9793,       4942,   869.4,   8.0171,  34.5785,2,  34.5785,2,    207.3,2,   205.5,2,   13.96,2,   22.46,2,    0.00,2,    1.58,2,-999.000,9,-999.000,9,-999.0000,9,  2156.4,2,  2292.4,2,   7.7873,2,    20.00,-999.000,9,-999.000,9,-999.000,9,   8.0176,2,-999.000,9, -999.00,9, -999.00,-999.000,9,-999.000, -999.00,9, -999.00,9, -33.9974,  59.9796,-999.000,-999.000,20090411,       0522
33RR20090320,        I05,      76,          1,         20,         20,2,20090411,       0348,   -33.9976,    59.9793,       4942,   969.9,   6.6321,  34.4638,2,  34.4637,2,    203.1,2,   204.3,2,   19.55,2,   25.83,2,    0.00,2,    1.82,2,-999.000,9,-999.000,9,-999.0000,9,  -999.0,9,  -999.0,9,-999.0000,9,  -999.00,-999.000,9,-999.000,9,-999.000,9,   6.6364,2,-999.000,9, -999.00,9, -999.00,-999.000,9,-999.000, -999.00,9, -999.00,9, -33.9972,  59.9797,-999.000,-999.000,20090411,       0519
33RR20090320,        I05,      76,          1,         19,         19,2,20090411,       0348,   -33.9976,    59.9793,       4942,  1070.8,   5.7547,  34.4111,2,  34.4123,2,    202.5,2,   204.9,2,   24.31,2,   27.77,2,    0.00,2,    1.96,2,-999.000,9,-999.000,9,-999.0000,9,  2180.7,2,  2298.9,2,   7.7281,2,    20.00,-999.000,9,-999.000,9,-999.000,9,   5.7490,2,-999.000,9, -999.00,9, -999.00,-999.000,9,-999.000, -999.00,9, -999.00,9, -33.9971,  59.9797,-999.000,-999.000,20090411,       0516
33RR20090320,        I05,      76,          1,         18,         18,2,20090411,       0348,   -33.9976,    59.9793,       4942,  1171.3,   4.8742,  34.3759,2,  34.3754,2,    202.0,2,   202.9,2,   30.75,2,   29.73,2,    0.00,2,    2.11,2,-999.000,9,-999.000,9,-999.0000,9,  -999.0,9,  -999.0,9,-999.0000,9,  -999.00,-999.000,9,-999.000,9,-999.000,9,   4.8736,2,-999.000,9, -999.00,9, -999.00,-999.000,9,-999.000, -999.00,9, -999.00,9, -33.9972,  59.9797,-999.000,-999.000,20090411,       0513
33RR20090320,        I05,      76,          1,         17,         17,2,20090411,       0348,   -33.9976,    59.9793,       4942,  1273.2,   4.1131,  34.3801,2,  34.3791,2,    193.8,2,   196.5,2,   39.72,2,   31.46,2,    0.00,2,    2.24,2,-999.000,9,-999.000,9,-999.0000,9,  2208.3,2,  2303.6,2,   7.6817,2,    20.00,-999.000,9,-999.000,9,-999.000,9,   4.1125,2,-999.000,9, -999.00,9, -999.00,-999.000,9,-999.000, -999.00,9, -999.00,9, -33.9972,  59.9795,-999.000,-999.000,20090411,       0510
33RR20090320,        I05,      76,          1,         16,         16,2,20090411,       0348,   -33.9976,    59.9793,       4942,  1343.2,   3.7275,  34.4059,2,  34.4049,2,    187.5,2,   189.3,2,   46.83,2,   32.36,2,    0.00,2,    2.32,2,-999.000,9,-999.000,9,-999.0000,9,  -999.0,9,  -999.0,9,-999.0000,9,  -999.00,-999.000,9,-999.000,9,-999.000,9,   3.7276,2,-999.000,9, -999.00,9, -999.00,-999.000,9,-999.000, -999.00,9, -999.00,9, -33.9971,  59.9795,-999.000,-999.000,20090411,       0508
33RR20090320,        I05,      76,          1,         15,         15,2,20090411,       0348,   -33.9976,    59.9793,       4942,  1543.2,   3.1522,  34.4978,2,  34.4963,2,    176.2,2,   175.9,2,   60.88,2,   33.52,2,    0.00,2,    2.40,2,-999.000,9,-999.000,9,-999.0000,9,  2237.7,2,  2328.3,2,   7.6455,2,    20.00,-999.000,9,-999.000,9,-999.000,9,   3.1529,2,-999.000,9, -999.00,9, -999.00,-999.000,9,-999.000, -999.00,9, -999.00,9, -33.9972,  59.9797,-999.000,-999.000,20090411,       0503
33RR20090320,        I05,      76,          1,         14,         14,2,20090411,       0348,   -33.9976,    59.9793,       4942,  1744.1,   2.7992,  34.5895,2,  34.5891,2,    173.8,2,   173.2,2,   69.72,2,   33.20,2,    0.00,2,    2.37,2,-999.000,9,-999.000,9,-999.0000,9,  2247.9,6,  2336.1,2,   7.6465,2,    20.00,-999.000,9,-999.000,9,-999.000,9,   2.7986,2,-999.000,9, -999.00,9, -999.00,-999.000,9,-999.000, -999.00,9, -999.00,9, -33.9974,  59.9797,-999.000,-999.000,20090411,       0459
33RR20090320,        I05,      76,          1,         13,         13,2,20090411,       0348,   -33.9976,    59.9793,       4942,  1946.0,   2.5411,  34.6663,2,  34.6661,2,    177.2,2,   177.4,2,   78.15,2,   32.19,2,    0.00,2,    2.30,2,-999.000,9,-999.000,9,-999.0000,9,  2253.2,2,  2351.2,2,   7.6641,2,    20.00,-999.000,9,-999.000,9,-999.000,9,   2.5407,2,-999.000,9, -999.00,9, -999.00,-999.000,9,-999.000, -999.00,9, -999.00,9, -33.9975,  59.9796,-999.000,-999.000,20090411,       0454
33RR20090320,        I05,      76,          1,         12,         12,2,20090411,       0348,   -33.9976,    59.9793,       4942,  2176.8,   2.3517,  34.7051,2,  34.7048,2,    180.7,2,   180.0,2,   86.18,2,   31.76,2,    0.00,2,    2.28,2,-999.000,9,-999.000,9,-999.0000,9,  -999.0,9,  -999.0,9,-999.0000,9,  -999.00,-999.000,9,-999.000,9,-999.000,9,   2.3524,2,-999.000,9, -999.00,9, -999.00,-999.000,9,-999.000, -999.00,9, -999.00,9, -33.9973,  59.9797,-999.000,-999.000,20090411,       0449
33RR20090320,        I05,      76,          1,         11,         11,2,20090411,       0348,   -33.9976,    59.9793,       4942,  2430.1,   2.1661,  34.7278,2,  34.7274,2,    181.1,2,   180.7,2,   94.86,2,   31.76,2,    0.00,2,    2.28,2,-999.000,9,-999.000,9,-999.0000,9,  -999.0,9,  -999.0,9,-999.0000,9,  -999.00,-999.000,9,-999.000,9,-999.000,9,   2.1663,2,-999.000,9, -999.00,9, -999.00,-999.000,9,-999.000, -999.00,9, -999.00,9, -33.9973,  59.9796,-999.000,-999.000,20090411,       0444
33RR20090320,        I05,      76,          1,         10,         10,2,20090411,       0348,   -33.9976,    59.9793,       4942,  2682.5,   1.9928,  34.7341,2,  34.7337,2,    180.3,2,   180.0,2,  103.77,2,   32.07,2,    0.00,2,    2.30,2,-999.000,9,-999.000,9,-999.0000,9,  -999.0,9,  -999.0,9,-999.0000,9,  -999.00,-999.000,9,-999.000,9,-999.000,9,   1.9927,2,-999.000,9, -999.00,9, -999.00,-999.000,9,-999.000, -999.00,9, -999.00,9, -33.9973,  59.9795,-999.000,-999.000,20090411,       0438
33RR20090320,        I05,      76,          1,          9,          9,2,20090411,       0348,   -33.9976,    59.9793,       4942,  2935.2,   1.8458,  34.7343,2,  34.7345,2,    180.7,2,   180.3,2,  109.72,2,   32.28,2,    0.00,2,    2.32,2,-999.000,9,-999.000,9,-999.0000,9,  -999.0,9,  -999.0,9,-999.0000,9,  -999.00,-999.000,9,-999.000,9,-999.000,9,   1.8464,2,-999.000,9, -999.00,9, -999.00,-999.000,9,-999.000, -999.00,9, -999.00,9, -33.9975,  59.9794,-999.000,-999.000,20090411,       0433
33RR20090320,        I05,      76,          1,          8,          8,2,20090411,       0348,   -33.9976,    59.9793,       4942,  3224.5,   1.6489,  34.7321,2,  34.7320,2,    186.5,2,   186.9,2,  111.62,2,   32.12,2,    0.00,2,    2.30,2,-999.000,9,-999.000,9,-999.0000,9,  -999.0,9,  -999.0,9,-999.0000,9,  -999.00,-999.000,9,-999.000,9,-999.000,9,   1.6485,2,-999.000,9, -999.00,9, -999.00,-999.000,9,-999.000, -999.00,9, -999.00,9, -33.9972,  59.9797,-999.000,-999.000,20090411,       0427
33RR20090320,        I05,      76,          1,          7,          7,2,20090411,       0348,   -33.9976,    59.9793,       4942,  3528.6,   1.3743,  34.7234,2,  34.7236,2,    193.7,2,   193.8,2,  116.94,2,   32.12,2,    0.00,2,    2.30,2,-999.000,9,-999.000,9,-999.0000,9,  -999.0,9,  -999.0,9,-999.0000,9,  -999.00,-999.000,9,-999.000,9,-999.000,9,   1.3765,2,-999.000,9, -999.00,9, -999.00,-999.000,9,-999.000, -999.00,9, -999.00,9, -33.9973,  59.9793,-999.000,-999.000,20090411,       0421
33RR20090320,        I05,      76,          1,          6,          6,2,20090411,       0348,   -33.9976,    59.9793,       4942,  3833.2,   0.9649,  34.7097,2,  34.7088,2,    206.7,2,   207.9,2,  119.48,2,   31.85,2,    0.00,2,    2.28,2,-999.000,9,-999.000,9,-999.0000,9,  -999.0,9,  -999.0,9,-999.0000,9,  -999.00,-999.000,9,-999.000,9,-999.000,9,   0.9647,2,-999.000,9, -999.00,9, -999.00,-999.000,9,-999.000, -999.00,9, -999.00,9, -33.9974,  59.9791,-999.000,-999.000,20090411,       0414
33RR20090320,        I05,      76,          1,          5,          5,2,20090411,       0348,   -33.9976,    59.9793,       4942,  4139.3,   0.6907,  34.6970,2,  34.6974,2,    213.0,2,   214.9,2,  124.81,2,   31.96,2,    0.00,2,    2.29,2,-999.000,9,-999.000,9,-999.0000,9,  -999.0,9,  -999.0,9,-999.0000,9,  -999.00,-999.000,9,-999.000,9,-999.000,9,   0.6912,2,-999.000,9, -999.00,9, -999.00,-999.000,9,-999.000, -999.00,9, -999.00,9, -33.9975,  59.9794,-999.000,-999.000,20090411,       0407
33RR20090320,        I05,      76,          1,          4,          4,2,20090411,       0348,   -33.9976,    59.9793,       4942,  4444.4,   0.5394,  34.6883,2,  34.6878,2,    216.6,2,   217.4,2,  129.29,2,   32.27,2,    0.00,2,    2.31,2,-999.000,9,-999.000,9,-999.0000,9,  -999.0,9,  -999.0,9,-999.0000,9,  -999.00,-999.000,9,-999.000,9,-999.000,9,   0.5395,2,-999.000,9, -999.00,9, -999.00,-999.000,9,-999.000, -999.00,9, -999.00,9, -33.9976,  59.9792,-999.000,-999.000,20090411,       0401
33RR20090320,        I05,      76,          1,          3,          3,2,20090411,       0348,   -33.9976,    59.9793,       4942,  4817.3,   0.5214,  34.6850,2,  34.6855,2,    218.6,2,   218.6,2,  131.62,2,   32.32,2,    0.00,2,    2.31,2,-999.000,9,-999.000,9,-999.0000,9,  -999.0,9,  -999.0,9,-999.0000,9,  -999.00,-999.000,9,-999.000,9,-999.000,9,   0.5213,2,-999.000,9, -999.00,9, -999.00,-999.000,9,-999.000, -999.00,9, -999.00,9, -33.9978,  59.9790,-999.000,-999.000,20090411,       0354
33RR20090320,        I05,      76,          1,          2,          2,2,20090411,       0348,   -33.9976,    59.9793,       4942,  4913.9,   0.5222,  34.6845,2,  34.6839,2,    219.0,2,   219.2,2,  131.81,2,   32.37,2,    0.00,2,    2.31,2,-999.000,9,-999.000,9,-999.0000,9,  -999.0,9,  -999.0,9,-999.0000,9,  -999.00,-999.000,9,-999.000,9,-999.000,9,   0.5223,2,-999.000,9, -999.00,9, -999.00,-999.000,9,-999.000, -999.00,9, -999.00,9, -33.9977,  59.9792,-999.000,-999.000,20090411,       0351
33RR20090320,        I05,      76,          1,          1,          1,2,20090411,       0348,   -33.9976,    59.9793,       4942,  5015.6,   0.5266,  34.6838,2,  34.6845,2,    219.7,2,   218.7,2,  132.01,2,   32.37,2,    0.00,2,    2.32,2,-999.000,9,-999.000,9,-999.0000,9,  -999.0,9,  -999.0,9,-999.0000,9,  -999.00,-999.000,9,-999.000,9,-999.000,9,   0.5262,2,-999.000,9, -999.00,9, -999.00,-999.000,9,-999.000, -999.00,9, -999.00,9, -33.9976,  59.9793,-999.000,-999.000,20090411,       0348