BOTTLE,20220814CCHSIOAMB
EXPOCODE,SECT_ID,STNNBR,CASTNO,SAMPNO,BTLNBR,BTLNBR_FLAG_W,DATE,TIME,LATITUDE,LONGITUDE,DEPTH,CTDPRS,CTDTMP,CTDSAL,CTDSAL_FLAG_W,SALNTY,SALNTY_FLAG_W,CTDOXY,CTDOXY_FLAG_W,OXYGEN,OXYGEN_FLAG_W,SILCAT,SILCAT_FLAG_W,NITRAT,NITRAT_FLAG_W,NITRIT,NITRIT_FLAG_W,PHSPHT,PHSPHT_FLAG_W,CFC-11,CFC-11_FLAG_W,CFC-12,CFC-12_FLAG_W,SF6,SF6_FLAG_W,TCARBN,TCARBN_FLAG_W,ALKALI,ALKALI_FLAG_W,PH_TOT,PH_TOT_FLAG_W,PH_TMP,TRITUM,TRITUM_FLAG_W,HELIUM,HELIUM_FLAG_W,DELHE3,DELHE3_FLAG_W,REFTMP,REFTMP_FLAG_W,DELC13,DELC13_FLAG_W,DELC14,DELC14_FLAG_W,C14ERR,NEON,NEON_FLAG_W,NEONER,DOC,DOC_FLAG_W,TDN,TDN_FLAG_W,BTL_LAT,BTL_LON,HELIER,DELHER,BTL_DATE,BTL_TIME
,,,,,,,,,,,METERS,DBAR,ITS-90,PSS-78,,PSS-78,,UMOL/KG,,UMOL/KG,,UMOL/KG,,UMOL/KG,,UMOL/KG,,UMOL/KG,,PMOL/KG,,PMOL/KG,,FMOL/KG,,UMOL/KG,,UMOL/KG,,,,DEG C,TU,,NMOL/KG,,PERCNT,,DEG C,,/MILLE,,/MILLE,,/MILLE,NMOL/KG,,NMOL/KG,UMOL/KG,,UMOL/KG,,,,NMOL/KG,PERCNT,,
33RR20090320,        I05,     173,          1,         36,         36,2,20090506,       2303,   -31.0672,   105.2920,       4370,    12.7,  19.4429,  35.9464,2,  35.9487,2,    229.2,2,   229.5,2,    1.54,2,    0.13,2,    0.00,2,    0.10,2,   2.197,6,   1.314,6,   1.1640,6,  2065.5,6,  2359.1,2,   8.0964,2,    20.00,-999.000,9,-999.000,9,-999.000,9,  19.4407,2,-999.000,9, -999.00,9, -999.00,-999.000,9,-999.000,   68.24,2,    4.64,2, -31.0672, 105.2922,-999.000,-999.000,20090507,       0046
33RR20090320,        I05,     173,          1,         35,         35,2,20090506,       2303,   -31.0672,   105.2920,       4370,    32.6,  19.4266,  35.9454,2,  35.9461,2,    230.4,2,   229.3,2,    1.50,2,    0.15,2,    0.00,2,    0.09,2,   2.191,2,   1.316,2,   1.1940,2,  2066.0,2,  2356.6,2,   8.0975,2,    20.00,-999.000,9,-999.000,9,-999.000,9,  19.4256,2,-999.000,9, -999.00,9, -999.00,-999.000,9,-999.000,   69.07,2,    4.10,2, -31.0672, 105.2922,-999.000,-999.000,20090507,       0044
33RR20090320,        I05,     173,          1,         34,         34,2,20090506,       2303,   -31.0672,   105.2920,       4370,    56.6,  19.3648,  35.9447,2,  35.9456,2,    229.7,2,   230.4,2,    1.46,2,    0.16,2,    0.00,2,    0.09,2,-999.000,9,-999.000,9,-999.0000,9,  -999.0,9,  -999.0,9,-999.0000,9,  -999.00,-999.000,9,-999.000,9,-999.000,9,  19.3648,2,-999.000,9, -999.00,9, -999.00,-999.000,9,-999.000,   67.12,2,    4.79,2, -31.0672, 105.2922,-999.000,-999.000,20090507,       0042
33RR20090320,        I05,     173,          1,         33,         33,2,20090506,       2303,   -31.0672,   105.2920,       4370,    83.3,  19.2809,  35.9400,2,  35.9410,2,    230.1,2,   230.0,2,    1.43,2,    0.18,2,    0.00,2,    0.09,2,   2.218,2,   1.323,2,   1.1680,2,  2066.8,2,  2356.8,2,   8.0951,2,    20.00,-999.000,9,-999.000,9,-999.000,9,  19.2712,2,-999.000,9, -999.00,9, -999.00,-999.000,9,-999.000,   62.23,2,    4.24,2, -31.0672, 105.2921,-999.000,-999.000,20090507,       0041
33RR20090320,        I05,     173,          1,         32,         32,2,20090506,       2303,   -31.0672,   105.2920,       4370,   106.4,  16.9978,  35.7138,2,  35.7158,2,    241.1,2,   240.1,2,    1.20,2,    0.22,2,    0.02,2,    0.14,2,-999.000,9,-999.000,9,-999.0000,9,  -999.0,9,  -999.0,9,-999.0000,9,  -999.00,-999.000,9,-999.000,9,-999.000,9,  16.9934,2,-999.000,9, -999.00,9, -999.00,-999.000,9,-999.000,   58.26,2,    3.99,2, -31.0673, 105.2921,-999.000,-999.000,20090507,       0039
33RR20090320,        I05,     173,          1,         31,         31,2,20090506,       2303,   -31.0672,   105.2920,       4370,   156.3,  14.5725,  35.4726,2,  35.4540,2,    233.4,2,   234.4,2,    1.16,2,    3.79,2,    0.01,2,    0.37,2,   2.856,2,   1.647,2,   1.4040,2,  2095.3,2,  2330.3,2,   7.9977,2,    20.00,-999.000,9,-999.000,9,-999.000,9,  14.5789,2,-999.000,9, -999.00,9, -999.00,-999.000,9,-999.000,   51.84,2,    7.26,2, -31.0673, 105.2921,-999.000,-999.000,20090507,       0038
33RR20090320,        I05,     173,          1,         30,         30,2,20090506,       2303,   -31.0672,   105.2920,       4370,   207.3,  12.8557,  35.2074,2,  35.2102,2,    237.8,2,   237.4,2,    1.49,2,    6.81,2,    0.00,2,    0.56,2,-999.000,9,-999.000,9,-999.0000,9,  -999.0,9,  -999.0,9,-999.0000,9,  -999.00,-999.000,9,-999.000,9,-999.000,9,  12.8524,2,-999.000,9, -999.00,9, -999.00,-999.000,9,-999.000,   50.14,2,    9.73,2, -31.0673, 105.2921,-999.000,-999.000,20090507,       0036
33RR20090320,        I05,     173,          1,         29,         29,2,20090506,       2303,   -31.0672,   105.2920,       4370,   256.4,  11.7857,  35.0342,2,  35.0365,2,    241.4,2,   241.6,2,    2.01,2,    9.12,2,    0.00,2,    0.69,2,   3.317,2,   1.862,2,   1.4100,2,  2110.1,2,  2309.6,2,   7.9264,2,    20.00,-999.000,9,-999.000,9,-999.000,9,  11.7776,2,-999.000,9, -999.00,9, -999.00,-999.000,9,-999.000,   49.23,2,   11.80,2, -31.0673, 105.2921,-999.000,-999.000,20090507,       0035
33RR20090320,        I05,     173,          1,         28,         28,2,20090506,       2303,   -31.0672,   105.2920,       4370,   307.0,  10.8450,  34.8855,2,  34.8782,2,    244.3,2,   243.1,2,    2.34,2,   11.61,2,    0.00,2,    0.85,2,-999.000,9,-999.000,9,-999.0000,9,  -999.0,9,  -999.0,9,-999.0000,9,  -999.00,-999.000,9,-999.000,9,-999.000,9,  10.8346,2,-999.000,9, -999.00,9, -999.00,-999.000,9,-999.000,   48.50,2,   14.58,2, -31.0673, 105.2921,-999.000,-999.000,20090507,       0033
33RR20090320,        I05,     173,          1,         27,         27,2,20090506,       2303,   -31.0672,   105.2920,       4370,   356.2,  10.0173,  34.7642,2,  34.7651,2,    241.8,2,   242.8,2,    3.04,2,   14.04,2,    0.00,2,    1.00,2,   3.652,2,   1.998,2,   1.3580,2,  2121.5,2,  2294.7,2,   7.8725,2,    20.00,-999.000,9,-999.000,9,-999.000,9,  10.0172,2,-999.000,9, -999.00,9, -999.00,-999.000,9,-999.000,   47.66,2,   16.26,2, -31.0673, 105.2921,-999.000,-999.000,20090507,       0031
33RR20090320,        I05,     173,          1,         26,         26,2,20090506,       2303,   -31.0672,   105.2920,       4370,   407.0,   9.6713,  34.7278,2,  34.7297,2,    241.4,2,   241.5,2,    3.56,2,   15.29,2,    0.00,2,    1.06,2,-999.000,9,-999.000,9,-999.0000,9,  -999.0,9,  -999.0,9,-999.0000,9,  -999.00,-999.000,9,-999.000,9,-999.000,9,   9.6767,2,-999.000,9, -999.00,9, -999.00,-999.000,9,-999.000,   46.54,2,   17.31,2, -31.0673, 105.2921,-999.000,-999.000,20090507,       0030
33RR20090320,        I05,     173,          1,         25,         25,2,20090506,       2303,   -31.0672,   105.2920,       4370,   455.0,   9.4419,  34.7007,2,  34.7024,2,    240.7,2,   240.2,2,    3.88,2,   16.10,2,    0.00,2,    1.12,2,-999.000,9,-999.000,9,-999.0000,9,  -999.0,9,  -999.0,9,-999.0000,9,  -999.00,-999.000,9,-999.000,9,-999.000,9,   9.4430,2,-999.000,9, -999.00,9, -999.00,-999.000,9,-999.000,   45.69,2,   17.43,2, -31.0673, 105.2921,-999.000,-999.000,20090507,       0028
33RR20090320,        I05,     173,          1,         24,         24,2,20090506,       2303,   -31.0672,   105.2920,       4370,   507.8,   9.1404,  34.6611,2,  34.6618,2,    241.9,2,   240.4,2,    4.40,2,   17.04,2,    0.00,2,    1.18,2,-999.000,9,-999.000,9,-999.0000,9,  -999.0,9,  -999.0,9,-999.0000,9,  -999.00,-999.000,9,-999.000,9,-999.000,9,   9.1440,2,-999.000,9, -999.00,9, -999.00,-999.000,9,-999.000,   44.91,2,   18.35,2, -31.0674, 105.2922,-999.000,-999.000,20090507,       0027
33RR20090320,        I05,     173,          1,         23,         23,2,20090506,       2303,   -31.0672,   105.2920,       4370,   606.2,   8.2945,  34.5586,2,  34.5592,2,    225.7,2,   227.8,2,    7.49,2,   20.49,2,    0.00,2,    1.40,2,   3.361,2,   1.737,2,   0.8320,2,  2140.4,2,  2288.3,2,   7.8100,2,    20.00,-999.000,9,-999.000,9,-999.000,9,   8.2924,2,-999.000,9, -999.00,9, -999.00,-999.000,9,-999.000,   44.16,2,   21.98,2, -31.0674, 105.2921,-999.000,-999.000,20090507,       0024
33RR20090320,        I05,     173,          1,         22,         22,2,20090506,       2303,   -31.0672,   105.2920,       4370,   706.6,   6.8767,  34.4572,2,  34.4587,2,    202.3,2,   201.8,2,   16.14,2,   26.07,2,    0.00,2,    1.78,2,-999.000,9,-999.000,9,-999.0000,9,  -999.0,9,  -999.0,9,-999.0000,9,  -999.00,-999.000,9,-999.000,9,-999.000,9,   6.8797,2,-999.000,9, -999.00,9, -999.00,-999.000,9,-999.000,   43.50,2,   27.53,2, -31.0674, 105.2921,-999.000,-999.000,20090507,       0022
33RR20090320,        I05,     173,          1,         21,         21,2,20090506,       2303,   -31.0672,   105.2920,       4370,   806.9,   5.3614,  34.3933,2,  34.3942,2,    194.8,2,   195.3,2,   27.25,2,   29.84,2,    0.00,2,    2.05,2,   1.635,2,   0.788,2,   0.2220,2,  2187.7,2,  2294.3,2,   7.7006,2,    20.00,-999.000,9,-999.000,9,-999.000,9,   5.3667,2,-999.000,9, -999.00,9, -999.00,-999.000,9,-999.000,   42.59,2,   31.55,2, -31.0674, 105.2921,-999.000,-999.000,20090507,       0019
33RR20090320,        I05,     173,          1,         20,         20,2,20090506,       2303,   -31.0672,   105.2920,       4370,   907.2,   4.3634,  34.3871,2,  34.3883,2,    188.0,2,   189.1,2,   39.14,2,   32.13,2,    0.00,2,    2.24,2,-999.000,9,-999.000,9,-999.0000,9,  -999.0,9,  -999.0,9,-999.0000,9,  -999.00,-999.000,9,-999.000,9,-999.000,9,   4.3582,2,-999.000,9, -999.00,9, -999.00,-999.000,9,-999.000,   41.72,2,   34.02,2, -31.0674, 105.2920,-999.000,-999.000,20090507,       0017
33RR20090320,        I05,     173,          1,         19,         19,2,20090506,       2303,   -31.0672,   105.2920,       4370,  1006.6,   3.9159,  34.4324,2,  34.4325,2,    174.7,2,   174.4,2,   52.04,2,   33.78,2,    0.00,2,    2.37,2,   0.691,2,   0.322,2,   0.0740,2,  2228.2,2,  2318.5,2,   7.6481,2,    20.00,-999.000,9,-999.000,9,-999.000,9,   3.9152,2,-999.000,9, -999.00,9, -999.00,-999.000,9,-999.000,   40.82,2,   35.72,2, -31.0674, 105.2921,-999.000,-999.000,20090507,       0014
33RR20090320,        I05,     173,          1,         18,         18,2,20090506,       2303,   -31.0672,   105.2920,       4370,  1107.8,   3.6711,  34.4685,2,  34.4696,2,    165.1,2,   164.6,2,   60.26,2,   34.45,2,    0.00,2,    2.45,2,-999.000,9,-999.000,9,-999.0000,9,  -999.0,9,  -999.0,9,-999.0000,9,  -999.00,-999.000,9,-999.000,9,-999.000,9,   3.6699,2,-999.000,9, -999.00,9, -999.00,-999.000,9,-999.000,   39.87,2,   35.84,2, -31.0673, 105.2921,-999.000,-999.000,20090507,       0012
33RR20090320,        I05,     173,          1,         17,         17,2,20090506,       2303,   -31.0672,   105.2920,       4370,  1207.5,   3.4055,  34.5076,2,  34.5061,2,    159.4,2,   159.3,2,   67.57,2,   34.90,2,    0.00,2,    2.50,2,-999.000,9,-999.000,9,-999.0000,9,  -999.0,9,  -999.0,9,-999.0000,9,  -999.00,-999.000,9,-999.000,9,-999.000,9,   3.4057,2,-999.000,9, -999.00,9, -999.00,-999.000,9,-999.000,   39.92,2,   36.48,2, -31.0673, 105.2921,-999.000,-999.000,20090507,       0009
33RR20090320,        I05,     173,          1,         16,         16,2,20090506,       2303,   -31.0672,   105.2920,       4370,  1307.9,   3.1651,  34.5514,2,  34.5525,2,    155.5,2,   154.7,2,   74.71,2,   34.97,2,    0.00,2,    2.52,2,-999.000,9,-999.000,9,-999.0000,9,  -999.0,9,  -999.0,9,-999.0000,9,  -999.00,-999.000,9,-999.000,9,-999.000,9,   3.1643,2,-999.000,9, -999.00,9, -999.00,-999.000,9,-999.000,   39.21,2,   36.56,2, -31.0672, 105.2920,-999.000,-999.000,20090507,       0007
33RR20090320,        I05,     173,          1,         15,         15,2,20090506,       2303,   -31.0672,   105.2920,       4370,  1408.1,   2.9509,  34.5827,2,  34.5827,2,    156.8,2,   156.9,2,   77.88,2,   34.76,2,    0.00,2,    2.50,2,   0.087,2,   0.042,2,   0.0000,2,  2261.4,2,  2346.3,2,   7.6244,2,    20.00,-999.000,9,-999.000,9,-999.000,9,   2.9509,2,-999.000,9, -999.00,9, -999.00,-999.000,9,-999.000,   39.11,2,   36.07,2, -31.0672, 105.2921,-999.000,-999.000,20090507,       0004
33RR20090320,        I05,     173,          1,         14,         14,2,20090506,       2303,   -31.0672,   105.2920,       4370,  1508.6,   2.8417,  34.6173,2,  34.6171,2,    156.0,2,   156.1,2,   82.77,2,   34.45,2,    0.00,2,    2.49,2,-999.000,9,-999.000,9,-999.0000,9,  -999.0,9,  -999.0,9,-999.0000,9,  -999.00,-999.000,9,-999.000,9,-999.000,9,   2.8411,2,-999.000,9, -999.00,9, -999.00,-999.000,9,-999.000,   39.26,2,   35.98,2, -31.0673, 105.2921,-999.000,-999.000,20090507,       0002
33RR20090320,        I05,     173,          1,         13,         13,2,20090506,       2303,   -31.0672,   105.2920,       4370,  1607.4,   2.7133,  34.6503,2,  34.6507,2,    156.9,2,   156.9,2,   87.66,2,   34.14,2,    0.00,2,    2.46,2,   0.023,2,   0.014,2,   0.0000,2,  2269.9,2,  2357.6,2,   7.6324,2,    20.00,-999.000,9,-999.000,9,-999.000,9,   2.7110,2,-999.000,9, -999.00,9, -999.00,-999.000,9,-999.000,   39.50,2,   35.54,2, -31.0672, 105.2921,-999.000,-999.000,20090506,       2359
33RR20090320,        I05,     173,          1,         12,         12,2,20090506,       2303,   -31.0672,   105.2920,       4370,  1811.4,   2.5105,  34.6928,2,  34.6926,2,    160.0,2,   159.6,2,   96.36,2,   33.60,2,    0.00,2,    2.43,2,-999.000,9,-999.000,9,-999.0000,9,  -999.0,9,  -999.0,9,-999.0000,9,  -999.00,-999.000,9,-999.000,9,-999.000,9,   2.5127,2,-999.000,9, -999.00,9, -999.00,-999.000,9,-999.000,   39.62,2,   35.26,2, -31.0672, 105.2922,-999.000,-999.000,20090506,       2355
33RR20090320,        I05,     173,          1,         11,         11,2,20090506,       2303,   -31.0672,   105.2920,       4370,  2012.6,   2.2999,  34.7134,2,  34.7137,2,    163.4,2,   164.7,2,  101.27,2,   33.35,2,    0.00,2,    2.40,2,   0.005,2,   0.003,2,   0.0000,2,  2277.0,2,  2372.4,2,   7.6529,2,    20.00,-999.000,9,-999.000,9,-999.000,9,   2.2994,2,-999.000,9, -999.00,9, -999.00,-999.000,9,-999.000,   39.72,2,   35.01,2, -31.0672, 105.2922,-999.000,-999.000,20090506,       2351
33RR20090320,        I05,     173,          1,         10,         10,2,20090506,       2303,   -31.0672,   105.2920,       4370,  2264.1,   2.0946,  34.7246,2,  34.7249,2,    168.4,2,   169.2,2,  107.51,2,   33.14,2,    0.00,2,    2.38,2,-999.000,9,-999.000,9,-999.0000,9,  -999.0,9,  -999.0,9,-999.0000,9,  -999.00,-999.000,9,-999.000,9,-999.000,9,   2.0952,2,-999.000,9, -999.00,9, -999.00,-999.000,9,-999.000,   39.03,2,   34.94,2, -31.0672, 105.2923,-999.000,-999.000,20090506,       2346
33RR20090320,        I05,     173,          1,          9,          9,2,20090506,       2303,   -31.0672,   105.2920,       4370,  2517.5,   1.9406,  34.7281,2,  34.7286,2,    173.5,2,   172.7,2,  110.34,2,   32.88,2,    0.00,2,    2.37,2,   0.003,2,   0.003,2,   0.0000,2,  2281.7,2,  2380.2,2,   7.6644,2,    20.00,-999.000,9,-999.000,9,-999.000,9,   1.9398,2,-999.000,9, -999.00,9, -999.00,-999.000,9,-999.000,   39.14,2,   34.46,2, -31.0671, 105.2922,-999.000,-999.000,20090506,       2341
33RR20090320,        I05,     173,          1,          8,          8,2,20090506,       2303,   -31.0672,   105.2920,       4370,  2769.8,   1.7505,  34.7294,2,  34.7298,2,    179.1,2,   178.6,2,  113.17,2,   32.68,2,    0.00,2,    2.34,2,-999.000,9,-999.000,9,-999.0000,9,  -999.0,9,  -999.0,9,-999.0000,9,  -999.00,-999.000,9,-999.000,9,-999.000,9,   1.7502,2,-999.000,9, -999.00,9, -999.00,-999.000,9,-999.000,   39.45,2,   34.42,2, -31.0672, 105.2921,-999.000,-999.000,20090506,       2336
33RR20090320,        I05,     173,          1,          7,          7,2,20090506,       2303,   -31.0672,   105.2920,       4370,  3022.4,   1.6225,  34.7296,2,  34.7302,2,    185.0,2,   184.3,2,  113.89,2,   32.43,2,    0.00,2,    2.31,2,-999.000,9,-999.000,9,-999.0000,9,  -999.0,9,  -999.0,9,-999.0000,9,  -999.00,-999.000,9,-999.000,9,-999.000,9,   1.6223,2,-999.000,9, -999.00,9, -999.00,-999.000,9,-999.000,   39.28,2,   33.69,2, -31.0672, 105.2922,-999.000,-999.000,20090506,       2332
33RR20090320,        I05,     173,          1,          6,          6,2,20090506,       2303,   -31.0672,   105.2920,       4370,  3325.2,   1.4345,  34.7263,2,  34.7265,2,    190.5,2,   190.4,2,  115.76,2,   32.33,2,    0.00,2,    2.30,2,-999.000,9,-999.000,9,-999.0000,9,  -999.0,9,  -999.0,9,-999.0000,9,  -999.00,-999.000,9,-999.000,9,-999.000,9,   1.4336,2,-999.000,9, -999.00,9, -999.00,-999.000,9,-999.000,   38.72,2,   33.99,2, -31.0672, 105.2922,-999.000,-999.000,20090506,       2326
33RR20090320,        I05,     173,          1,          5,          5,2,20090506,       2303,   -31.0672,   105.2920,       4370,  3631.4,   1.3120,  34.7224,2,  34.7228,2,    193.7,2,   194.6,2,  119.35,2,   32.23,2,    0.00,2,    2.30,2,   0.006,2,   0.004,2,   0.0000,2,  2276.8,2,  2383.0,2,   7.6829,2,    20.00,-999.000,9,-999.000,9,-999.000,9,   1.3124,2,-999.000,9, -999.00,9, -999.00,-999.000,9,-999.000,   39.87,2,   33.86,2, -31.0671, 105.2923,-999.000,-999.000,20090506,       2320
33RR20090320,        I05,     173,          1,          4,          4,2,20090506,       2303,   -31.0672,   105.2920,       4370,  3935.4,   1.1924,  34.7177,2,  34.7179,2,    197.7,2,   197.7,2,  121.61,2,   32.36,2,    0.00,2,    2.29,2,-999.000,9,-999.000,9,-999.0000,9,  -999.0,9,  -999.0,9,-999.0000,9,  -999.00,-999.000,9,-999.000,9,-999.000,9,   1.1920,2,-999.000,9, -999.00,9, -999.00,-999.000,9,-999.000,   39.96,2,   33.81,2, -31.0671, 105.2922,-999.000,-999.000,20090506,       2314
33RR20090320,        I05,     173,          1,          3,          3,2,20090506,       2303,   -31.0672,   105.2920,       4370,  4239.7,   1.0896,  34.7136,2,  34.7144,2,    202.5,2,   202.2,2,  122.33,2,   32.10,2,    0.00,2,    2.28,2,   0.016,2,   0.009,2,   0.0000,2,  2273.4,2,  2377.1,2,   7.6859,2,    20.00,-999.000,9,-999.000,9,-999.000,9,   1.0895,2,-999.000,9, -999.00,9, -999.00,-999.000,9,-999.000,   39.63,2,   33.45,2, -31.0672, 105.2921,-999.000,-999.000,20090506,       2308
33RR20090320,        I05,     173,          1,          2,          2,2,20090506,       2303,   -31.0672,   105.2920,       4370,  4332.7,   1.0611,  34.7123,2,  34.7120,2,    204.0,2,   204.0,2,  122.29,2,   32.17,2,    0.00,2,    2.27,2,-999.000,9,-999.000,9,-999.0000,9,  -999.0,9,  -999.0,9,-999.0000,9,  -999.00,-999.000,9,-999.000,9,-999.000,9,   1.0611,2,-999.000,9, -999.00,9, -999.00,-999.000,9,-999.000,   39.99,2,   33.78,2, -31.0672, 105.2921,-999.000,-999.000,20090506,       2306
33RR20090320,        I05,     173,          1,          1,          1,2,20090506,       2303,   -31.0672,   105.2920,       4370,  4429.6,   1.0380,  34.7112,2,  34.7111,2,    204.8,2,   204.9,2,  122.06,2,   32.19,2,    0.00,2,    2.28,2,   0.025,6,   0.014,6,   0.0000,6,  2269.2,6,  2375.3,2,   7.6857,2,    20.00,-999.000,9,-999.000,9,-999.000,9,   1.0378,2,-999.000,9, -999.00,9, -999.00,-999.000,9,-999.000,   39.97,2,   33.60,2, -31.0672, 105.2920,-999.000,-999.000,20090506,       2303