BOTTLE,20220814CCHSIOAMB
EXPOCODE,SECT_ID,STNNBR,CASTNO,SAMPNO,BTLNBR,BTLNBR_FLAG_W,DATE,TIME,LATITUDE,LONGITUDE,DEPTH,CTDPRS,CTDTMP,CTDSAL,CTDSAL_FLAG_W,SALNTY,SALNTY_FLAG_W,CTDOXY,CTDOXY_FLAG_W,OXYGEN,OXYGEN_FLAG_W,SILCAT,SILCAT_FLAG_W,NITRAT,NITRAT_FLAG_W,NITRIT,NITRIT_FLAG_W,PHSPHT,PHSPHT_FLAG_W,CFC-11,CFC-11_FLAG_W,CFC-12,CFC-12_FLAG_W,SF6,SF6_FLAG_W,TCARBN,TCARBN_FLAG_W,ALKALI,ALKALI_FLAG_W,PH_TOT,PH_TOT_FLAG_W,PH_TMP,TRITUM,TRITUM_FLAG_W,HELIUM,HELIUM_FLAG_W,DELHE3,DELHE3_FLAG_W,REFTMP,REFTMP_FLAG_W,DELC13,DELC13_FLAG_W,DELC14,DELC14_FLAG_W,C14ERR,NEON,NEON_FLAG_W,NEONER,DOC,DOC_FLAG_W,TDN,TDN_FLAG_W,BTL_LAT,BTL_LON,HELIER,DELHER,BTL_DATE,BTL_TIME
,,,,,,,,,,,METERS,DBAR,ITS-90,PSS-78,,PSS-78,,UMOL/KG,,UMOL/KG,,UMOL/KG,,UMOL/KG,,UMOL/KG,,UMOL/KG,,PMOL/KG,,PMOL/KG,,FMOL/KG,,UMOL/KG,,UMOL/KG,,,,DEG C,TU,,NMOL/KG,,PERCNT,,DEG C,,/MILLE,,/MILLE,,/MILLE,NMOL/KG,,NMOL/KG,UMOL/KG,,UMOL/KG,,,,NMOL/KG,PERCNT,,
33RR20090320,        I05,      77,          1,         36,         36,2,20090411,       1121,   -34.0008,    60.5499,       5436,     4.3,  20.2805,  35.4982,2,  35.4991,2,    226.5,2,   226.9,2,    1.83,2,    0.04,2,    0.02,2,    0.15,2,   2.159,2,   1.296,2,   1.2220,2,  2050.6,6,  2329.4,2,   8.0800,2,    20.00,   0.700,2,-999.000,9,-999.000,9,  20.2743,2,-999.000,9, -999.00,9, -999.00,-999.000,9,-999.000,   66.54,2,    4.10,2, -34.0043,  60.5490,-999.000,-999.000,20090411,       1300
33RR20090320,        I05,      77,          1,         35,         35,2,20090411,       1121,   -34.0008,    60.5499,       5436,    24.1,  20.2794,  35.4985,2,  35.4991,2,    226.8,2,   226.7,2,    1.77,2,    0.04,2,    0.02,2,    0.14,2,   2.155,2,   1.291,2,   1.2560,2,  2049.2,2,  2329.7,2,   8.0791,2,    20.00,-999.000,9,-999.000,9,-999.000,9,  20.2775,2,-999.000,9, -999.00,9, -999.00,-999.000,9,-999.000,   66.31,2,    4.36,2, -34.0044,  60.5491,-999.000,-999.000,20090411,       1300
33RR20090320,        I05,      77,          1,         34,         34,2,20090411,       1121,   -34.0008,    60.5499,       5436,    49.0,  20.2316,  35.5036,2,  35.4987,2,    227.5,2,   227.3,2,    1.71,2,   -0.02,2,    0.02,2,    0.13,2,   2.152,2,   1.294,2,   1.1500,2,  2049.7,2,  2331.0,2,   8.0797,2,    20.00,   0.604,2,-999.000,9,-999.000,9,  20.2229,2,-999.000,9, -999.00,9, -999.00,-999.000,9,-999.000,   65.78,2,    4.14,2, -34.0044,  60.5492,-999.000,-999.000,20090411,       1259
33RR20090320,        I05,      77,          1,         33,         33,2,20090411,       1121,   -34.0008,    60.5499,       5436,    75.7,  17.0063,  35.4817,2,  35.4806,2,    248.5,2,   248.2,2,    1.85,2,   -0.02,2,    0.02,2,    0.19,2,   2.554,6,   1.500,6,   1.2550,6,  2060.6,2,  2329.4,2,   8.0626,2,    20.00,   0.632,2,-999.000,9,-999.000,9,  17.6110,2,-999.000,9, -999.00,9, -999.00,-999.000,9,-999.000,   61.97,2,    4.55,2, -34.0045,  60.5493,-999.000,-999.000,20090411,       1259
33RR20090320,        I05,      77,          1,         32,         32,2,20090411,       1121,   -34.0008,    60.5499,       5436,    97.7,  15.8630,  35.4671,2,  35.4658,2,    242.7,2,   236.3,2,    2.42,2,    1.35,2,    0.12,2,    0.30,2,   2.690,2,   1.554,2,   1.1550,2,  2078.6,2,  2329.4,2,   8.0254,2,    20.00,   0.648,2,-999.000,9,-999.000,9,  15.9600,2,-999.000,9, -999.00,9, -999.00,-999.000,9,-999.000,   57.98,2,    5.50,2, -34.0044,  60.5494,-999.000,-999.000,20090411,       1258
33RR20090320,        I05,      77,          1,         31,         31,2,20090411,       1121,   -34.0008,    60.5499,       5436,   149.6,  14.5412,  35.3928,2,  35.3913,2,    225.7,2,   226.6,2,    3.40,2,    5.50,2,    0.01,2,    0.49,2,   2.793,2,   1.611,2,   1.4130,2,  2096.9,2,  2323.9,2,   7.9815,2,    20.00,-999.000,9,-999.000,9,-999.000,9,  14.5612,2,-999.000,9, -999.00,9, -999.00,-999.000,9,-999.000,   55.73,2,    8.70,2, -34.0044,  60.5491,-999.000,-999.000,20090411,       1257
33RR20090320,        I05,      77,          1,         30,         30,2,20090411,       1121,   -34.0008,    60.5499,       5436,   198.7,  14.0817,  35.3573,2,  35.3580,2,    227.9,2,   228.0,2,    3.54,2,    6.39,2,    0.00,2,    0.56,2,   2.861,2,   1.637,2,   1.3490,2,  2100.2,2,  2322.4,2,   7.9711,2,    20.00,   0.615,2,-999.000,9,-999.000,9,  14.1205,2,-999.000,9, -999.00,9, -999.00,-999.000,9,-999.000,   53.20,2,   10.87,2, -34.0042,  60.5491,-999.000,-999.000,20090411,       1256
33RR20090320,        I05,      77,          1,         29,         29,2,20090411,       1121,   -34.0008,    60.5499,       5436,   250.3,  13.6549,  35.3226,2,  35.3241,2,    230.6,2,   231.1,2,    3.90,2,    7.16,2,    0.00,2,    0.59,2,   2.917,2,   1.670,2,   1.3540,2,  2102.6,2,  2320.4,2,   7.9635,2,    20.00,   0.613,2,-999.000,9,-999.000,9,  13.6901,2,-999.000,9, -999.00,9, -999.00,-999.000,9,-999.000,   51.68,2,   11.09,2, -34.0041,  60.5491,-999.000,-999.000,20090411,       1255
33RR20090320,        I05,      77,          1,         28,         28,2,20090411,       1121,   -34.0008,    60.5499,       5436,   298.5,  13.3720,  35.2905,2,  35.2914,2,    232.1,2,   231.9,2,    4.05,2,    7.85,2,    0.00,2,    0.64,2,   2.936,2,   1.669,2,   1.2990,2,  2105.2,2,  2319.7,2,   7.9568,2,    20.00,   0.583,2,-999.000,9,-999.000,9,  13.4075,2,-999.000,9, -999.00,9, -999.00,-999.000,9,-999.000,   49.87,2,   10.63,2, -34.0040,  60.5489,-999.000,-999.000,20090411,       1254
33RR20090320,        I05,      77,          1,         27,         27,2,20090411,       1121,   -34.0008,    60.5499,       5436,   350.1,  13.1416,  35.2574,2,  35.2587,2,    231.1,2,   231.1,2,    4.21,2,    8.46,2,    0.00,2,    0.68,2,   3.012,2,   1.704,2,   1.2660,2,  2107.2,2,  2316.5,2,   7.9494,2,    20.00,-999.000,9,-999.000,9,-999.000,9,  13.1541,2,-999.000,9, -999.00,9, -999.00,-999.000,9,-999.000,   48.92,2,   11.21,2, -34.0038,  60.5488,-999.000,-999.000,20090411,       1253
33RR20090320,        I05,      77,          1,         26,         26,2,20090411,       1121,   -34.0008,    60.5499,       5436,   399.3,  12.9266,  35.2248,2,  35.2247,2,    231.4,2,   231.2,2,    4.35,2,    9.04,2,    0.00,2,    0.72,2,   3.053,2,   1.717,2,   1.2550,2,  2109.4,2,  2317.1,2,   7.9434,2,    20.00,-999.000,9,-999.000,9,-999.000,9,  12.9240,2,-999.000,9, -999.00,9, -999.00,-999.000,9,-999.000,   47.80,2,   11.38,2, -34.0037,  60.5489,-999.000,-999.000,20090411,       1252
33RR20090320,        I05,      77,          1,         25,         25,2,20090411,       1121,   -34.0008,    60.5499,       5436,   499.5,  12.2474,  35.1132,2,  35.1154,2,    231.0,2,   230.9,2,    4.50,2,   10.54,2,    0.00,2,    0.81,2,   3.103,2,   1.718,2,   1.3390,3,  2113.9,2,  2309.4,2,   7.9245,2,    20.00,   0.523,2,-999.000,9,-999.000,9,  12.2364,2,-999.000,9, -999.00,9, -999.00,-999.000,9,-999.000,   46.50,2,   12.42,2, -34.0038,  60.5494,-999.000,-999.000,20090411,       1249
33RR20090320,        I05,      77,          1,         24,         24,2,20090411,       1121,   -34.0008,    60.5499,       5436,   602.4,  11.3044,  34.9705,2,  34.9772,2,    224.4,2,   225.3,2,    5.07,2,   12.99,2,    0.00,2,    0.98,2,   3.228,2,   1.733,2,   0.9440,2,  2121.5,2,  2306.9,2,   7.8956,2,    20.00,-999.000,9,-999.000,9,-999.000,9,  11.3936,2,-999.000,9, -999.00,9, -999.00,-999.000,9,-999.000,   45.43,2,   14.76,2, -34.0040,  60.5500,-999.000,-999.000,20090411,       1247
33RR20090320,        I05,      77,          1,         23,         23,2,20090411,       1121,   -34.0008,    60.5499,       5436,   697.2,  10.3046,  34.8318,2,  34.8332,2,    220.5,2,   220.0,2,    6.68,2,   15.69,2,    0.00,2,    1.14,2,   3.164,2,   1.651,2,   0.8880,2,  2131.4,2,  2299.0,2,   7.8642,2,    20.00,   0.346,2,-999.000,9,-999.000,9,  10.3188,2,-999.000,9, -999.00,9, -999.00,-999.000,9,-999.000,   44.63,2,   17.18,2, -34.0039,  60.5500,-999.000,-999.000,20090411,       1246
33RR20090320,        I05,      77,          1,         22,         22,2,20090411,       1121,   -34.0008,    60.5499,       5436,   796.4,   9.2504,  34.7052,2,  34.7062,2,    212.8,2,   213.0,2,    9.33,2,   18.77,2,    0.00,2,    1.35,2,   2.983,2,   1.519,2,   0.8350,2,  2141.9,2,  2295.8,2,   7.8298,2,    20.00,-999.000,9,-999.000,9,-999.000,9,   9.2540,2,-999.000,9, -999.00,9, -999.00,-999.000,9,-999.000,   43.84,2,   20.51,2, -34.0040,  60.5498,-999.000,-999.000,20090411,       1244
33RR20090320,        I05,      77,          1,         21,         21,2,20090411,       1121,   -34.0008,    60.5499,       5436,   901.9,   8.0911,  34.5872,2,  34.5887,2,    206.0,2,   206.4,2,   13.45,2,   22.06,2,    0.00,2,    1.57,2,   2.659,2,   1.338,2,   0.6820,2,  2154.6,2,  2292.8,2,   7.7915,2,    20.00,   0.361,2,-999.000,9,-999.000,9,   8.1402,2,-999.000,9, -999.00,9, -999.00,-999.000,9,-999.000,   43.05,2,   23.93,2, -34.0037,  60.5498,-999.000,-999.000,20090411,       1242
33RR20090320,        I05,      77,          1,         20,         20,2,20090411,       1121,   -34.0008,    60.5499,       5436,   998.8,   6.3455,  34.4432,2,  34.4462,2,    204.4,2,   204.6,2,   20.71,2,   26.31,2,    0.00,2,    1.88,2,   2.372,2,   1.169,2,   0.5190,2,  2173.2,2,  2292.6,2,   7.7420,2,    20.00,   0.117,2,-999.000,9,-999.000,9,   6.3331,2,-999.000,9, -999.00,9, -999.00,-999.000,9,-999.000,   42.85,2,   27.74,2, -34.0035,  60.5498,-999.000,-999.000,20090411,       1240
33RR20090320,        I05,      77,          1,         19,         19,2,20090411,       1121,   -34.0008,    60.5499,       5436,  1100.1,   5.0835,  34.3766,2,  34.3779,2,    204.7,2,   205.0,2,   28.20,2,   28.89,2,    0.00,2,    2.07,2,   2.140,2,   1.045,2,   0.5230,2,  2188.0,2,  2296.3,2,   7.7117,2,    20.00,   0.062,2,-999.000,9,-999.000,9,   5.0706,2,-999.000,9, -999.00,9, -999.00,-999.000,9,-999.000,   41.72,2,   30.51,2, -34.0031,  60.5498,-999.000,-999.000,20090411,       1238
33RR20090320,        I05,      77,          1,         18,         18,2,20090411,       1121,   -34.0008,    60.5499,       5436,  1199.4,   4.3050,  34.3778,2,  34.3773,2,    198.2,2,   198.0,2,   37.82,2,   30.89,2,    0.00,2,    2.22,2,   1.602,2,   0.784,2,   0.2940,2,  2203.2,2,  2303.1,2,   7.6879,2,    20.00,   0.037,2,-999.000,9,-999.000,9,   4.3123,2,-999.000,9, -999.00,9, -999.00,-999.000,9,-999.000,   41.18,2,   32.21,2, -34.0031,  60.5500,-999.000,-999.000,20090411,       1236
33RR20090320,        I05,      77,          1,         17,         17,2,20090411,       1121,   -34.0008,    60.5499,       5436,  1300.7,   3.7951,  34.3998,2,  34.3999,2,    191.6,2,   190.8,2,   45.55,2,   32.12,2,    0.00,2,    2.31,2,   1.277,2,   0.622,2,   0.3520,2,  2217.6,2,  2308.9,2,   7.6697,2,    20.00,   0.025,2,-999.000,9,-999.000,9,   3.8170,2,-999.000,9, -999.00,9, -999.00,-999.000,9,-999.000,   40.33,2,   33.58,2, -34.0031,  60.5501,-999.000,-999.000,20090411,       1234
33RR20090320,        I05,      77,          1,         16,         16,2,20090411,       1121,   -34.0008,    60.5499,       5436,  1399.0,   3.4368,  34.4418,2,  34.4419,2,    183.7,2,   182.7,2,   53.53,2,   33.06,2,    0.00,2,    2.37,2,   1.017,2,   0.451,2,   0.1350,2,  2228.8,2,  2317.0,2,   7.6538,2,    20.00,-999.000,9,-999.000,9,-999.000,9,   3.4413,2,-999.000,9, -999.00,9, -999.00,-999.000,9,-999.000,   40.00,2,   34.72,2, -34.0030,  60.5500,-999.000,-999.000,20090411,       1232
33RR20090320,        I05,      77,          1,         15,         15,2,20090411,       1121,   -34.0008,    60.5499,       5436,  1606.4,   2.9790,  34.5391,2,  34.5395,2,    171.9,2,   173.3,2,   65.77,2,   33.43,2,    0.01,2,    2.43,2,   0.406,2,   0.194,2,   0.0970,2,  2243.9,6,  2332.0,2,   7.6438,2,    20.00,   0.001,2,-999.000,9,-999.000,9,   2.9878,2,-999.000,9, -999.00,9, -999.00,-999.000,9,-999.000,   40.25,2,   35.39,2, -34.0026,  60.5497,-999.000,-999.000,20090411,       1229
33RR20090320,        I05,      77,          1,         14,         14,2,20090411,       1121,   -34.0008,    60.5499,       5436,  1799.0,   2.6893,  34.6245,2,  34.6250,2,    174.2,2,   175.3,2,   73.15,2,   32.64,2,    0.00,2,    2.36,2,   0.179,2,   0.088,2,   0.0820,2,  2249.3,2,  2339.2,2,   7.6528,2,    20.00,-999.000,9,-999.000,9,-999.000,9,   2.6916,2,-999.000,9, -999.00,9, -999.00,-999.000,9,-999.000,   39.74,2,   34.15,2, -34.0023,  60.5495,-999.000,-999.000,20090411,       1226
33RR20090320,        I05,      77,          1,         13,         13,2,20090411,       1121,   -34.0008,    60.5499,       5436,  1999.8,   2.4487,  34.6884,2,  34.6891,2,    179.2,2,   179.5,2,   81.61,2,   31.69,2,    0.00,2,    2.29,2,   0.075,2,   0.035,2,   0.0410,2,  2253.6,2,  2349.5,2,   7.6701,2,    20.00,-999.000,9,-999.000,9,-999.000,9,   2.4537,2,-999.000,9, -999.00,9, -999.00,-999.000,9,-999.000,   40.09,2,   33.38,2, -34.0022,  60.5497,-999.000,-999.000,20090411,       1222
33RR20090320,        I05,      77,          1,         12,         12,2,20090411,       1121,   -34.0008,    60.5499,       5436,  2246.7,   2.2513,  34.7200,2,  34.7246,3,    181.6,2,   181.7,2,   89.88,2,   31.42,2,    0.00,2,    2.26,2,   0.039,2,   0.017,2,   0.0140,2,  2262.2,2,  2358.8,2,   7.6799,2,    20.00,-999.000,9,-999.000,9,-999.000,9,   2.2514,2,-999.000,9, -999.00,9, -999.00,-999.000,9,-999.000,   39.97,2,   32.77,2, -34.0023,  60.5490,-999.000,-999.000,20090411,       1218
33RR20090320,        I05,      77,          1,         11,         11,2,20090411,       1121,   -34.0008,    60.5499,       5436,  2499.2,   2.0740,  34.7305,2,  34.7313,2,    180.2,2,   179.6,2,  100.30,2,   31.84,2,    0.00,2,    2.32,2,   0.015,2,   0.008,2,   0.0220,2,  2269.0,2,  2370.1,2,   7.6806,2,    20.00,-999.000,9,-999.000,9,-999.000,9,   2.0755,2,-999.000,9, -999.00,9, -999.00,-999.000,9,-999.000,   39.63,2,   33.13,2, -34.0018,  60.5489,-999.000,-999.000,20090411,       1214
33RR20090320,        I05,      77,          1,         10,         10,2,20090411,       1121,   -34.0008,    60.5499,       5436,  2749.0,   1.9395,  34.7345,2,  34.7347,2,    181.2,2,   180.0,2,  107.55,2,   32.11,2,    0.00,2,    2.34,2,   0.012,2,   0.006,2,   0.0000,2,  2273.4,2,  2374.9,2,   7.6812,2,    20.00,   0.001,2,-999.000,9,-999.000,9,   1.9404,2,-999.000,9, -999.00,9, -999.00,-999.000,9,-999.000,   39.65,2,   33.52,2, -34.0019,  60.5493,-999.000,-999.000,20090411,       1210
33RR20090320,        I05,      77,          1,          9,          9,2,20090411,       1121,   -34.0008,    60.5499,       5436,  2999.7,   1.7831,  34.7339,2,  34.7351,2,    182.1,2,   182.2,2,  112.00,2,   32.21,2,    0.00,2,    2.35,2,   0.014,2,   0.008,2,   0.0410,2,  2276.1,2,  2375.8,2,   7.6815,2,    20.00,-999.000,9,-999.000,9,-999.000,9,   1.7893,2,-999.000,9, -999.00,9, -999.00,-999.000,9,-999.000,   39.61,2,   33.92,2, -34.0010,  60.5495,-999.000,-999.000,20090411,       1206
33RR20090320,        I05,      77,          1,          8,          8,2,20090411,       1121,   -34.0008,    60.5499,       5436,  3300.3,   1.5896,  34.7305,2,  34.7302,2,    187.3,2,   188.1,2,  113.89,2,   32.16,2,    0.00,2,    2.33,2,   0.024,2,   0.012,2,   0.0000,2,  2273.8,2,  2375.1,2,   7.6830,2,    20.00,-999.000,9,-999.000,9,-999.000,9,   1.5942,2,-999.000,9, -999.00,9, -999.00,-999.000,9,-999.000,   40.29,2,   33.72,2, -34.0008,  60.5496,-999.000,-999.000,20090411,       1201
33RR20090320,        I05,      77,          1,          7,          7,2,20090411,       1121,   -34.0008,    60.5499,       5436,  3593.1,   1.3479,  34.7226,2,  34.7223,2,    196.1,2,   195.2,2,  119.00,2,   32.00,2,    0.00,2,    2.32,2,   0.038,6,   0.019,6,   0.0160,6,  2271.1,2,  2372.5,2,   7.6835,2,    20.00,   0.001,2,-999.000,9,-999.000,9,   1.3470,2,-999.000,9, -999.00,9, -999.00,-999.000,9,-999.000,   39.74,2,   33.25,2, -34.0011,  60.5503,-999.000,-999.000,20090411,       1156
33RR20090320,        I05,      77,          1,          6,          6,2,20090411,       1121,   -34.0008,    60.5499,       5436,  3898.8,   0.9804,  34.7098,2,  34.7096,2,    206.2,2,   207.2,2,  120.24,2,   31.85,2,    0.00,2,    2.29,2,   0.089,2,   0.045,2,   0.0000,2,  2261.7,2,  2363.4,2,   7.6831,2,    20.00,-999.000,9,-999.000,9,-999.000,9,   0.9805,2,-999.000,9, -999.00,9, -999.00,-999.000,9,-999.000, -999.00,9, -999.00,9, -34.0012,  60.5502,-999.000,-999.000,20090411,       1151
33RR20090320,        I05,      77,          1,          5,          5,2,20090411,       1121,   -34.0008,    60.5499,       5436,  4331.9,   0.5339,  34.6888,2,  34.6882,2,    216.8,2,   217.0,2,  130.75,2,   32.26,2,    0.00,2,    2.32,2,   0.127,2,   0.062,2,   0.0000,2,  2260.4,2,  2361.6,2,   7.6783,2,    20.00,-999.000,9,-999.000,9,-999.000,9,   0.5361,2,-999.000,9, -999.00,9, -999.00,-999.000,9,-999.000,   40.35,2,   33.75,2, -34.0007,  60.5499,-999.000,-999.000,20090411,       1144
33RR20090320,        I05,      77,          1,          4,          4,2,20090411,       1121,   -34.0008,    60.5499,       5436,  4699.9,   0.4563,  34.6828,2,  34.6829,2,    219.0,2,   219.1,2,  135.66,2,   32.48,2,    0.00,2,    2.33,2,   0.149,2,   0.073,2,   0.0000,2,  2261.7,2,  2360.1,2,   7.6770,2,    20.00,-999.000,9,-999.000,9,-999.000,9,   0.4566,2,-999.000,9, -999.00,9, -999.00,-999.000,9,-999.000,   40.03,2,   33.98,2, -34.0011,  60.5500,-999.000,-999.000,20090411,       1138
33RR20090320,        I05,      77,          1,          3,          3,2,20090411,       1121,   -34.0008,    60.5499,       5436,  5099.4,   0.4798,  34.6814,2,  34.6841,4,    219.0,2,   219.3,2,  135.39,2,   32.48,2,    0.00,2,    2.33,2,   0.154,2,   0.073,2,   0.0000,2,  2261.2,2,  2361.4,2,   7.6778,2,    20.00,-999.000,9,-999.000,9,-999.000,9,   0.4794,2,-999.000,9, -999.00,9, -999.00,-999.000,9,-999.000,   39.82,2,   33.77,2, -34.0009,  60.5501,-999.000,-999.000,20090411,       1131
33RR20090320,        I05,      77,          1,          2,          2,2,20090411,       1121,   -34.0008,    60.5499,       5436,  5350.1,   0.5088,  34.6814,2,  34.6825,2,    220.0,2,   219.6,2,  135.55,2,   32.53,2,    0.00,2,    2.32,2,   0.154,6,   0.078,6,   0.0000,6,  2260.8,2,  2361.7,2,   7.6768,2,    20.00,-999.000,9,-999.000,9,-999.000,9,   0.5087,2,-999.000,9, -999.00,9, -999.00,-999.000,9,-999.000,   40.16,2,   34.35,2, -34.0008,  60.5501,-999.000,-999.000,20090411,       1127
33RR20090320,        I05,      77,          1,          1,          1,2,20090411,       1121,   -34.0008,    60.5499,       5436,  5523.2,   0.5313,  34.6808,2,  34.6816,2,    219.2,2,   219.4,2,  135.51,2,   32.48,2,    0.00,2,    2.33,2,   0.152,2,   0.072,2,   0.0400,2,  2260.9,6,  2362.7,2,   7.6775,2,    20.00,   0.001,2,-999.000,9,-999.000,9,   0.5311,2,-999.000,9, -999.00,9, -999.00,-999.000,9,-999.000,   39.67,2,   33.96,2, -34.0008,  60.5499,-999.000,-999.000,20090411,       1121