BOTTLE,20220814CCHSIOAMB
EXPOCODE,SECT_ID,STNNBR,CASTNO,SAMPNO,BTLNBR,BTLNBR_FLAG_W,DATE,TIME,LATITUDE,LONGITUDE,DEPTH,CTDPRS,CTDTMP,CTDSAL,CTDSAL_FLAG_W,SALNTY,SALNTY_FLAG_W,CTDOXY,CTDOXY_FLAG_W,OXYGEN,OXYGEN_FLAG_W,SILCAT,SILCAT_FLAG_W,NITRAT,NITRAT_FLAG_W,NITRIT,NITRIT_FLAG_W,PHSPHT,PHSPHT_FLAG_W,CFC-11,CFC-11_FLAG_W,CFC-12,CFC-12_FLAG_W,SF6,SF6_FLAG_W,TCARBN,TCARBN_FLAG_W,ALKALI,ALKALI_FLAG_W,PH_TOT,PH_TOT_FLAG_W,PH_TMP,TRITUM,TRITUM_FLAG_W,HELIUM,HELIUM_FLAG_W,DELHE3,DELHE3_FLAG_W,REFTMP,REFTMP_FLAG_W,DELC13,DELC13_FLAG_W,DELC14,DELC14_FLAG_W,C14ERR,NEON,NEON_FLAG_W,NEONER,DOC,DOC_FLAG_W,TDN,TDN_FLAG_W,BTL_LAT,BTL_LON,HELIER,DELHER,BTL_DATE,BTL_TIME
,,,,,,,,,,,METERS,DBAR,ITS-90,PSS-78,,PSS-78,,UMOL/KG,,UMOL/KG,,UMOL/KG,,UMOL/KG,,UMOL/KG,,UMOL/KG,,PMOL/KG,,PMOL/KG,,FMOL/KG,,UMOL/KG,,UMOL/KG,,,,DEG C,TU,,NMOL/KG,,PERCNT,,DEG C,,/MILLE,,/MILLE,,/MILLE,NMOL/KG,,NMOL/KG,UMOL/KG,,UMOL/KG,,,,NMOL/KG,PERCNT,,
33RR20090320,        I05,      17,          1,         36,         36,2,20090327,       1256,   -32.6207,    33.7612,       3030,     3.0,  25.1669,  35.5456,2,  35.5452,2,    206.9,2,   207.5,2,    1.49,2,    0.11,2,    0.00,2,    0.06,2,-999.000,9,-999.000,9,-999.0000,9,  1998.2,6,  2329.5,2,   8.1720,2,    20.00,-999.000,9,-999.000,9,-999.000,9,  25.1665,2,-999.000,9, -999.00,9, -999.00,-999.000,9,-999.000, -999.00,9, -999.00,9, -32.6207,  33.7613,-999.000,-999.000,20090327,       1435
33RR20090320,        I05,      17,          1,         35,         35,2,20090327,       1256,   -32.6207,    33.7612,       3030,    25.4,  24.8758,  35.5271,2,  35.5278,2,    209.6,2,   208.8,2,    1.47,2,    0.07,2,    0.00,2,    0.05,2,-999.000,9,-999.000,9,-999.0000,9,  2000.7,2,  2326.9,2,   8.1687,2,    20.00,-999.000,9,-999.000,9,-999.000,9,  24.8735,2,-999.000,9, -999.00,9, -999.00,-999.000,9,-999.000, -999.00,9, -999.00,9, -32.6207,  33.7612,-999.000,-999.000,20090327,       1433
33RR20090320,        I05,      17,          1,         34,         34,2,20090327,       1256,   -32.6207,    33.7612,       3030,    50.3,  23.3758,  35.4973,2,  35.4981,2,    214.5,2,   214.7,2,    1.46,2,    0.07,2,    0.00,2,    0.06,2,-999.000,9,-999.000,9,-999.0000,9,  2010.8,2,  2326.2,2,   8.1497,2,    20.00,-999.000,9,-999.000,9,-999.000,9,  23.3766,2,-999.000,9, -999.00,9, -999.00,-999.000,9,-999.000, -999.00,9, -999.00,9, -32.6208,  33.7612,-999.000,-999.000,20090327,       1432
33RR20090320,        I05,      17,          1,         33,         33,2,20090327,       1256,   -32.6207,    33.7612,       3030,    74.5,  21.8586,  35.5198,2,  35.5180,2,    193.3,2,   218.0,2,    1.44,2,    0.20,2,    0.00,2,    0.09,2,-999.000,9,-999.000,9,-999.0000,9,  2029.4,2,  2326.9,2,   8.1192,2,    20.00,-999.000,9,-999.000,9,-999.000,9,  21.8453,2,-999.000,9, -999.00,9, -999.00,-999.000,9,-999.000, -999.00,9, -999.00,9, -32.6208,  33.7611,-999.000,-999.000,20090327,       1430
33RR20090320,        I05,      17,          1,         32,         32,2,20090327,       1256,   -32.6207,    33.7612,       3030,    99.6,  20.3404,  35.5396,2,  35.5387,2,    220.4,2,   216.4,2,    1.63,2,    0.76,2,    0.07,2,    0.17,2,-999.000,9,-999.000,9,-999.0000,9,  2044.8,2,  2328.6,2,   8.0925,2,    20.00,-999.000,9,-999.000,9,-999.000,9,  20.3382,2,-999.000,9, -999.00,9, -999.00,-999.000,9,-999.000, -999.00,9, -999.00,9, -32.6208,  33.7611,-999.000,-999.000,20090327,       1428
33RR20090320,        I05,      17,          1,         31,         31,2,20090327,       1256,   -32.6207,    33.7612,       3030,   129.0,  19.0000,  35.5519,2,  35.5517,2,    218.9,2,   214.5,2,    2.22,2,    1.49,2,    0.10,2,    0.21,2,-999.000,9,-999.000,9,-999.0000,9,  -999.0,9,  -999.0,9,-999.0000,9,  -999.00,-999.000,9,-999.000,9,-999.000,9,  18.9956,2,-999.000,9, -999.00,9, -999.00,-999.000,9,-999.000, -999.00,9, -999.00,9, -32.6208,  33.7610,-999.000,-999.000,20090327,       1427
33RR20090320,        I05,      17,          1,         30,         30,2,20090327,       1256,   -32.6207,    33.7612,       3030,   153.8,  18.0949,  35.5572,2,  35.5563,2,    214.8,2,   215.1,2,    0.99,2,    2.30,2,    0.01,2,    0.26,2,-999.000,9,-999.000,9,-999.0000,9,  2062.4,2,  2329.2,2,   8.0607,2,    20.00,-999.000,9,-999.000,9,-999.000,9,  18.0878,2,-999.000,9, -999.00,9, -999.00,-999.000,9,-999.000, -999.00,9, -999.00,9, -32.6208,  33.7610,-999.000,-999.000,20090327,       1425
33RR20090320,        I05,      17,          1,         29,         29,2,20090327,       1256,   -32.6207,    33.7612,       3030,   179.2,  17.8670,  35.5531,2,  35.5543,2,    214.1,2,   213.8,2,    1.79,2,    3.02,2,    0.01,2,    0.29,2,-999.000,9,-999.000,9,-999.0000,9,  -999.0,9,  -999.0,9,-999.0000,9,  -999.00,-999.000,9,-999.000,9,-999.000,9,  17.8646,2,-999.000,9, -999.00,9, -999.00,-999.000,9,-999.000, -999.00,9, -999.00,9, -32.6207,  33.7610,-999.000,-999.000,20090327,       1424
33RR20090320,        I05,      17,          1,         28,         28,2,20090327,       1256,   -32.6207,    33.7612,       3030,   204.5,  17.5028,  35.5467,2,  35.5476,2,    210.6,2,   210.3,2,    2.58,2,    3.83,2,    0.01,2,    0.34,2,-999.000,9,-999.000,9,-999.0000,9,  2073.2,2,  2329.4,2,   8.0388,2,    20.00,-999.000,9,-999.000,9,-999.000,9,  17.5055,2,-999.000,9, -999.00,9, -999.00,-999.000,9,-999.000, -999.00,9, -999.00,9, -32.6206,  33.7610,-999.000,-999.000,20090327,       1422
33RR20090320,        I05,      17,          1,         27,         27,2,20090327,       1256,   -32.6207,    33.7612,       3030,   227.5,  17.1707,  35.5471,2,  35.5470,2,    212.7,2,   212.8,2,    2.76,2,    3.98,2,    0.01,2,    0.36,2,-999.000,9,-999.000,9,-999.0000,9,  -999.0,9,  -999.0,9,-999.0000,9,  -999.00,-999.000,9,-999.000,9,-999.000,9,  17.1623,2,-999.000,9, -999.00,9, -999.00,-999.000,9,-999.000, -999.00,9, -999.00,9, -32.6206,  33.7609,-999.000,-999.000,20090327,       1420
33RR20090320,        I05,      17,          1,         26,         26,2,20090327,       1256,   -32.6207,    33.7612,       3030,   253.6,  16.9672,  35.5506,2,  35.5505,2,    217.4,2,   218.1,2,    2.74,2,    3.70,2,    0.01,2,    0.34,2,-999.000,9,-999.000,9,-999.0000,9,  2074.1,2,  2330.5,2,   8.0359,2,    20.00,-999.000,9,-999.000,9,-999.000,9,  16.9661,2,-999.000,9, -999.00,9, -999.00,-999.000,9,-999.000, -999.00,9, -999.00,9, -32.6207,  33.7609,-999.000,-999.000,20090327,       1419
33RR20090320,        I05,      17,          1,         25,         25,2,20090327,       1256,   -32.6207,    33.7612,       3030,   303.2,  16.5384,  35.5340,2,  35.5339,2,    203.9,2,   216.5,2,    3.13,2,    4.57,2,    0.01,2,    0.41,2,-999.000,9,-999.000,9,-999.0000,9,  -999.0,9,  -999.0,9,-999.0000,9,  -999.00,-999.000,9,-999.000,9,-999.000,9,  16.5379,2,-999.000,9, -999.00,9, -999.00,-999.000,9,-999.000, -999.00,9, -999.00,9, -32.6207,  33.7609,-999.000,-999.000,20090327,       1416
33RR20090320,        I05,      17,          1,         24,         24,2,20090327,       1256,   -32.6207,    33.7612,       3030,   352.2,  15.8038,  35.4768,2,  35.4767,2,    207.7,2,   201.5,2,    3.92,2,    6.67,2,    0.00,2,    0.54,2,-999.000,9,-999.000,9,-999.0000,9,  2100.1,2,  2328.5,2,   7.9826,2,    20.00,-999.000,9,-999.000,9,-999.000,9,  15.7962,2,-999.000,9, -999.00,9, -999.00,-999.000,9,-999.000, -999.00,9, -999.00,9, -32.6206,  33.7608,-999.000,-999.000,20090327,       1414
33RR20090320,        I05,      17,          1,         23,         23,2,20090327,       1256,   -32.6207,    33.7612,       3030,   402.5,  14.9751,  35.4226,2,  35.4230,2,    201.5,2,   201.8,2,    4.11,2,    7.87,2,    0.00,2,    0.61,2,-999.000,9,-999.000,9,-999.0000,9,  -999.0,9,  -999.0,9,-999.0000,9,  -999.00,-999.000,9,-999.000,9,-999.000,9,  14.9723,2,-999.000,9, -999.00,9, -999.00,-999.000,9,-999.000, -999.00,9, -999.00,9, -32.6206,  33.7609,-999.000,-999.000,20090327,       1411
33RR20090320,        I05,      17,          1,         22,         22,2,20090327,       1256,   -32.6207,    33.7612,       3030,   451.8,  14.2937,  35.3692,2,  35.3692,2,    209.8,2,   207.6,2,    3.69,2,    8.45,2,    0.00,2,    0.66,2,-999.000,9,-999.000,9,-999.0000,9,  2109.9,2,  2325.1,2,   7.9508,2,    20.00,-999.000,9,-999.000,9,-999.000,9,  14.2907,2,-999.000,9, -999.00,9, -999.00,-999.000,9,-999.000, -999.00,9, -999.00,9, -32.6206,  33.7609,-999.000,-999.000,20090327,       1408
33RR20090320,        I05,      17,          1,         21,         21,2,20090327,       1256,   -32.6207,    33.7612,       3030,   502.4,  13.7884,  35.3265,2,  35.3258,2,    212.8,2,   211.8,2,    3.47,2,    8.93,2,    0.00,2,    0.69,2,-999.000,9,-999.000,9,-999.0000,9,  -999.0,9,  -999.0,9,-999.0000,9,  -999.00,-999.000,9,-999.000,9,-999.000,9,  13.7878,2,-999.000,9, -999.00,9, -999.00,-999.000,9,-999.000, -999.00,9, -999.00,9, -32.6208,  33.7609,-999.000,-999.000,20090327,       1405
33RR20090320,        I05,      17,          1,         20,         20,2,20090327,       1256,   -32.6207,    33.7612,       3030,   603.1,  12.6993,  35.1849,2,  35.1861,2,    216.2,2,   217.0,2,    3.85,2,   10.90,2,    0.00,2,    0.81,2,-999.000,9,-999.000,9,-999.0000,9,  -999.0,9,  -999.0,9,-999.0000,9,  -999.00,-999.000,9,-999.000,9,-999.000,9,  12.7052,2,-999.000,9, -999.00,9, -999.00,-999.000,9,-999.000, -999.00,9, -999.00,9, -32.6208,  33.7609,-999.000,-999.000,20090327,       1402
33RR20090320,        I05,      17,          1,         19,         19,2,20090327,       1256,   -32.6207,    33.7612,       3030,   702.3,  11.2773,  34.9799,2,  34.9831,2,    211.5,2,   214.6,2,    5.25,2,   14.11,2,    0.00,2,    1.01,2,-999.000,9,-999.000,9,-999.0000,9,  -999.0,9,  -999.0,9,-999.0000,9,  -999.00,-999.000,9,-999.000,9,-999.000,9,  11.2818,2,-999.000,9, -999.00,9, -999.00,-999.000,9,-999.000, -999.00,9, -999.00,9, -32.6208,  33.7609,-999.000,-999.000,20090327,       1359
33RR20090320,        I05,      17,          1,         18,         18,2,20090327,       1256,   -32.6207,    33.7612,       3030,   802.5,  10.0473,  34.8157,2,-999.0000,5,    214.5,2,   214.5,2,    6.64,2,   17.00,2,    0.00,2,    1.20,2,-999.000,9,-999.000,9,-999.0000,9,  -999.0,9,  -999.0,9,-999.0000,9,  -999.00,-999.000,9,-999.000,9,-999.000,9,  10.0459,2,-999.000,9, -999.00,9, -999.00,-999.000,9,-999.000, -999.00,9, -999.00,9, -32.6208,  33.7609,-999.000,-999.000,20090327,       1355
33RR20090320,        I05,      17,          1,         17,         17,2,20090327,       1256,   -32.6207,    33.7612,       3030,   903.8,   8.8824,  34.6932,2,  34.6942,2,    199.1,2,   200.0,2,   12.05,2,   21.06,2,    0.00,2,    1.48,2,-999.000,9,-999.000,9,-999.0000,9,  -999.0,9,  -999.0,9,-999.0000,9,  -999.00,-999.000,9,-999.000,9,-999.000,9,   8.8863,2,-999.000,9, -999.00,9, -999.00,-999.000,9,-999.000, -999.00,9, -999.00,9, -32.6208,  33.7608,-999.000,-999.000,20090327,       1352
33RR20090320,        I05,      17,          1,         16,         16,2,20090327,       1256,   -32.6207,    33.7612,       3030,  1003.1,   7.4083,  34.5573,2,  34.5586,2,    192.8,2,   195.1,2,   18.28,2,   25.00,2,    0.00,2,    1.76,2,-999.000,9,-999.000,9,-999.0000,9,  -999.0,9,  -999.0,9,-999.0000,9,  -999.00,-999.000,9,-999.000,9,-999.000,9,   7.4042,2,-999.000,9, -999.00,9, -999.00,-999.000,9,-999.000, -999.00,9, -999.00,9, -32.6208,  33.7609,-999.000,-999.000,20090327,       1349
33RR20090320,        I05,      17,          1,         15,         15,2,20090327,       1256,   -32.6207,    33.7612,       3030,  1104.4,   6.2342,  34.5083,2,  34.5087,2,    186.0,2,   182.0,2,   30.41,2,   28.66,2,    0.00,2,    2.03,2,-999.000,9,-999.000,9,-999.0000,9,  -999.0,9,  -999.0,9,-999.0000,9,  -999.00,-999.000,9,-999.000,9,-999.000,9,   6.2327,2,-999.000,9, -999.00,9, -999.00,-999.000,9,-999.000, -999.00,9, -999.00,9, -32.6208,  33.7610,-999.000,-999.000,20090327,       1346
33RR20090320,        I05,      17,          1,         14,         14,2,20090327,       1256,   -32.6207,    33.7612,       3030,  1198.8,   5.5121,  34.5246,2,  34.5260,2,    172.1,2,   167.2,2,   42.77,2,   31.03,2,    0.00,2,    2.24,2,-999.000,9,-999.000,9,-999.0000,9,  -999.0,9,  -999.0,9,-999.0000,9,  -999.00,-999.000,9,-999.000,9,-999.000,9,   5.5110,2,-999.000,9, -999.00,9, -999.00,-999.000,9,-999.000, -999.00,9, -999.00,9, -32.6207,  33.7610,-999.000,-999.000,20090327,       1342
33RR20090320,        I05,      17,          1,         13,         13,2,20090327,       1256,   -32.6207,    33.7612,       3030,  1298.8,   4.5984,  34.4960,2,  34.4932,2,    169.2,2,   171.8,2,   49.07,2,   32.30,2,    0.00,2,    2.32,2,-999.000,9,-999.000,9,-999.0000,9,  -999.0,9,  -999.0,9,-999.0000,9,  -999.00,-999.000,9,-999.000,9,-999.000,9,   4.5838,2,-999.000,9, -999.00,9, -999.00,-999.000,9,-999.000, -999.00,9, -999.00,9, -32.6206,  33.7610,-999.000,-999.000,20090327,       1339
33RR20090320,        I05,      17,          1,         12,         12,2,20090327,       1256,   -32.6207,    33.7612,       3030,  1399.5,   4.1904,  34.5248,2,  34.5190,2,    163.5,2,   166.8,2,   55.98,2,   32.96,2,    0.00,2,    2.38,2,-999.000,9,-999.000,9,-999.0000,9,  -999.0,9,  -999.0,9,-999.0000,9,  -999.00,-999.000,9,-999.000,9,-999.000,9,   4.1878,2,-999.000,9, -999.00,9, -999.00,-999.000,9,-999.000, -999.00,9, -999.00,9, -32.6206,  33.7610,-999.000,-999.000,20090327,       1336
33RR20090320,        I05,      17,          1,         11,         11,2,20090327,       1256,   -32.6207,    33.7612,       3030,  1500.5,   3.6593,  34.5524,2,  34.5535,2,    167.8,2,   166.6,2,   62.70,2,   33.31,2,    0.00,2,    2.40,2,-999.000,9,-999.000,9,-999.0000,9,  -999.0,9,  -999.0,9,-999.0000,9,  -999.00,-999.000,9,-999.000,9,-999.000,9,   3.6573,2,-999.000,9, -999.00,9, -999.00,-999.000,9,-999.000, -999.00,9, -999.00,9, -32.6206,  33.7609,-999.000,-999.000,20090327,       1333
33RR20090320,        I05,      17,          1,         10,         10,2,20090327,       1256,   -32.6207,    33.7612,       3030,  1601.0,   3.4146,  34.5884,2,  34.5900,2,    167.1,2,   166.0,2,   67.39,2,   33.27,2,    0.00,2,    2.40,2,-999.000,9,-999.000,9,-999.0000,9,  2245.9,2,  2339.2,2,   7.6484,2,    20.00,-999.000,9,-999.000,9,-999.000,9,   3.4140,2,-999.000,9, -999.00,9, -999.00,-999.000,9,-999.000, -999.00,9, -999.00,9, -32.6206,  33.7609,-999.000,-999.000,20090327,       1330
33RR20090320,        I05,      17,          1,          9,          9,2,20090327,       1256,   -32.6207,    33.7612,       3030,  1696.6,   3.2399,  34.6230,2,  34.6331,2,    166.7,2,   164.8,2,   71.26,2,   33.13,2,    0.00,2,    2.39,2,-999.000,9,-999.000,9,-999.0000,9,  2249.8,2,  2342.6,2,   7.6482,2,    20.00,-999.000,9,-999.000,9,-999.000,9,   3.2321,2,-999.000,9, -999.00,9, -999.00,-999.000,9,-999.000, -999.00,9, -999.00,9, -32.6206,  33.7609,-999.000,-999.000,20090327,       1328
33RR20090320,        I05,      17,          1,          8,          8,2,20090327,       1256,   -32.6207,    33.7612,       3030,  1798.0,   3.1291,  34.6623,2,  34.6628,2,    166.2,2,   165.0,2,   74.92,2,   32.89,2,    0.00,2,    2.37,2,-999.000,9,-999.000,9,-999.0000,9,  -999.0,9,  -999.0,9,-999.0000,9,  -999.00,-999.000,9,-999.000,9,-999.000,9,   3.1287,2,-999.000,9, -999.00,9, -999.00,-999.000,9,-999.000, -999.00,9, -999.00,9, -32.6207,  33.7609,-999.000,-999.000,20090327,       1325
33RR20090320,        I05,      17,          1,          7,          7,2,20090327,       1256,   -32.6207,    33.7612,       3030,  2000.3,   2.8492,  34.7167,2,  34.7178,2,    175.0,2,   174.3,2,   76.54,2,   31.61,2,    0.00,2,    2.26,2,-999.000,9,-999.000,9,-999.0000,9,  -999.0,9,  -999.0,9,-999.0000,9,  -999.00,-999.000,9,-999.000,9,-999.000,9,   2.8498,2,-999.000,9, -999.00,9, -999.00,-999.000,9,-999.000, -999.00,9, -999.00,9, -32.6208,  33.7610,-999.000,-999.000,20090327,       1320
33RR20090320,        I05,      17,          1,          6,          6,2,20090327,       1256,   -32.6207,    33.7612,       3030,  2201.7,   2.6759,  34.7501,2,  34.7516,2,    184.1,2,   184.5,2,   75.08,2,   30.39,2,    0.00,2,    2.17,2,-999.000,9,-999.000,9,-999.0000,9,  -999.0,9,  -999.0,9,-999.0000,9,  -999.00,-999.000,9,-999.000,9,-999.000,9,   2.6761,2,-999.000,9, -999.00,9, -999.00,-999.000,9,-999.000, -999.00,9, -999.00,9, -32.6207,  33.7612,-999.000,-999.000,20090327,       1316
33RR20090320,        I05,      17,          1,          5,          5,2,20090327,       1256,   -32.6207,    33.7612,       3030,  2404.5,   2.5609,  34.7734,2,  34.7748,2,    193.2,2,   193.8,2,   72.38,2,   29.27,2,    0.00,2,    2.08,2,-999.000,9,-999.000,9,-999.0000,9,  -999.0,9,  -999.0,9,-999.0000,9,  -999.00,-999.000,9,-999.000,9,-999.000,9,   2.5605,2,-999.000,9, -999.00,9, -999.00,-999.000,9,-999.000, -999.00,9, -999.00,9, -32.6207,  33.7612,-999.000,-999.000,20090327,       1311
33RR20090320,        I05,      17,          1,          4,          4,2,20090327,       1256,   -32.6207,    33.7612,       3030,  2605.8,   2.4122,  34.7925,2,  34.7938,2,    202.3,2,   203.3,2,   70.52,2,   28.26,2,    0.00,2,    2.00,2,-999.000,9,-999.000,9,-999.0000,9,  -999.0,9,  -999.0,9,-999.0000,9,  -999.00,-999.000,9,-999.000,9,-999.000,9,   2.4119,2,-999.000,9, -999.00,9, -999.00,-999.000,9,-999.000, -999.00,9, -999.00,9, -32.6207,  33.7613,-999.000,-999.000,20090327,       1307
33RR20090320,        I05,      17,          1,          3,          3,2,20090327,       1256,   -32.6207,    33.7612,       3030,  2806.4,   2.2572,  34.8022,2,  34.8039,2,    210.1,2,   210.6,2,   70.28,2,   27.63,2,    0.00,2,    1.94,2,-999.000,9,-999.000,9,-999.0000,9,  -999.0,9,  -999.0,9,-999.0000,9,  -999.00,-999.000,9,-999.000,9,-999.000,9,   2.2572,2,-999.000,9, -999.00,9, -999.00,-999.000,9,-999.000, -999.00,9, -999.00,9, -32.6207,  33.7613,-999.000,-999.000,20090327,       1302
33RR20090320,        I05,      17,          1,          2,          2,2,20090327,       1256,   -32.6207,    33.7612,       3030,  2958.7,   2.1418,  34.8035,2,  34.8045,2,    213.7,2,   213.9,2,   71.90,2,   27.48,2,    0.00,2,    1.92,2,-999.000,9,-999.000,9,-999.0000,9,  -999.0,9,  -999.0,9,-999.0000,9,  -999.00,-999.000,9,-999.000,9,-999.000,9,   2.1428,2,-999.000,9, -999.00,9, -999.00,-999.000,9,-999.000, -999.00,9, -999.00,9, -32.6207,  33.7613,-999.000,-999.000,20090327,       1259
33RR20090320,        I05,      17,          1,          1,          1,2,20090327,       1256,   -32.6207,    33.7612,       3030,  3058.8,   2.0533,  34.8020,2,  34.8037,2,    216.2,2,   215.8,2,   73.32,2,   27.49,2,    0.00,2,    1.92,2,-999.000,9,-999.000,9,-999.0000,9,  2229.2,2,  2346.6,2,   7.7333,2,    20.00,-999.000,9,-999.000,9,-999.000,9,   2.0531,2,-999.000,9, -999.00,9, -999.00,-999.000,9,-999.000, -999.00,9, -999.00,9, -32.6207,  33.7612,-999.000,-999.000,20090327,       1256