BOTTLE,20220814CCHSIOAMB
EXPOCODE,SECT_ID,STNNBR,CASTNO,SAMPNO,BTLNBR,BTLNBR_FLAG_W,DATE,TIME,LATITUDE,LONGITUDE,DEPTH,CTDPRS,CTDTMP,CTDSAL,CTDSAL_FLAG_W,SALNTY,SALNTY_FLAG_W,CTDOXY,CTDOXY_FLAG_W,OXYGEN,OXYGEN_FLAG_W,SILCAT,SILCAT_FLAG_W,NITRAT,NITRAT_FLAG_W,NITRIT,NITRIT_FLAG_W,PHSPHT,PHSPHT_FLAG_W,CFC-11,CFC-11_FLAG_W,CFC-12,CFC-12_FLAG_W,SF6,SF6_FLAG_W,TCARBN,TCARBN_FLAG_W,ALKALI,ALKALI_FLAG_W,PH_TOT,PH_TOT_FLAG_W,PH_TMP,TRITUM,TRITUM_FLAG_W,HELIUM,HELIUM_FLAG_W,DELHE3,DELHE3_FLAG_W,REFTMP,REFTMP_FLAG_W,DELC13,DELC13_FLAG_W,DELC14,DELC14_FLAG_W,C14ERR,NEON,NEON_FLAG_W,NEONER,DOC,DOC_FLAG_W,TDN,TDN_FLAG_W,BTL_LAT,BTL_LON,HELIER,DELHER,BTL_DATE,BTL_TIME
,,,,,,,,,,,METERS,DBAR,ITS-90,PSS-78,,PSS-78,,UMOL/KG,,UMOL/KG,,UMOL/KG,,UMOL/KG,,UMOL/KG,,UMOL/KG,,PMOL/KG,,PMOL/KG,,FMOL/KG,,UMOL/KG,,UMOL/KG,,,,DEG C,TU,,NMOL/KG,,PERCNT,,DEG C,,/MILLE,,/MILLE,,/MILLE,NMOL/KG,,NMOL/KG,UMOL/KG,,UMOL/KG,,,,NMOL/KG,PERCNT,,
33RR20090320,        I05,      59,          1,         36,         36,2,20090406,       2355,   -33.9978,    54.1737,       4057,     8.2,  20.3927,  35.5616,2,  35.5604,2,    226.5,2,   227.6,2,    1.41,2,    0.17,2,    0.00,2,    0.13,2,   2.149,2,   1.289,2,   1.2330,2,  2044.6,6,  2331.2,2,   8.0931,2,    20.00,-999.000,9,-999.000,9,-999.000,9,  20.3919,2,   1.115,2,   62.55,2,     3.6,-999.000,9,-999.000,   64.13,2,    3.54,2, -33.9977,  54.1737,-999.000,-999.000,20090407,       0150
33RR20090320,        I05,      59,          1,         35,         35,2,20090406,       2355,   -33.9978,    54.1737,       4057,    30.2,  20.0322,  35.5030,2,  35.5034,2,    229.4,2,   229.3,2,    1.20,2,    0.17,2,    0.00,2,    0.14,2,   2.186,2,   1.322,2,   1.1400,2,  2046.5,2,  2328.5,2,   8.0845,2,    20.00,-999.000,9,-999.000,9,-999.000,9,  20.0280,2,-999.000,9, -999.00,9, -999.00,-999.000,9,-999.000,   64.89,2,    4.01,2, -33.9976,  54.1737,-999.000,-999.000,20090407,       0149
33RR20090320,        I05,      59,          1,         34,         34,2,20090406,       2355,   -33.9978,    54.1737,       4057,    55.8,  18.7470,  35.5091,2,  35.5076,2,    238.6,2,   238.8,2,    1.38,2,    0.17,2,    0.00,2,    0.15,2,   2.352,2,   1.408,2,   1.2640,2,  2051.5,2,  2328.4,2,   8.0780,2,    20.00,-999.000,9,-999.000,9,-999.000,9,  18.7435,2,-999.000,9, -999.00,9, -999.00,-999.000,9,-999.000,   62.63,2,    4.04,2, -33.9976,  54.1737,-999.000,-999.000,20090407,       0147
33RR20090320,        I05,      59,          1,         33,         33,2,20090406,       2355,   -33.9978,    54.1737,       4057,    80.6,  17.2811,  35.4722,2,  35.4748,2,    244.5,2,   241.1,2,    1.36,2,    0.46,2,    0.03,2,    0.20,2,   2.482,2,   1.484,2,   1.3370,2,  2061.3,2,  2329.2,2,   8.0571,2,    20.00,-999.000,9,-999.000,9,-999.000,9,  17.2815,2,   1.087,2,   52.58,2,     3.5,-999.000,9,-999.000,   59.88,2,    5.68,2, -33.9975,  54.1736,-999.000,-999.000,20090407,       0146
33RR20090320,        I05,      59,          1,         32,         32,2,20090406,       2355,   -33.9978,    54.1737,       4057,   106.1,  15.6267,  35.4295,2,  35.4302,2,    237.0,2,   237.0,2,    2.12,2,    2.63,2,    0.10,2,    0.34,2,   2.665,2,   1.583,2,   1.4410,2,  2080.7,2,  2324.9,2,   8.0196,2,    20.00,-999.000,9,-999.000,9,-999.000,9,  15.6225,2,-999.000,9, -999.00,9, -999.00,-999.000,9,-999.000,   56.62,2,    7.69,2, -33.9976,  54.1736,-999.000,-999.000,20090407,       0144
33RR20090320,        I05,      59,          1,         31,         31,2,20090406,       2355,   -33.9978,    54.1737,       4057,   131.2,  14.7786,  35.4001,2,  35.4001,2,    231.0,2,   230.1,2,    2.68,2,    4.94,2,    0.02,2,    0.47,2,   2.760,2,   1.622,2,   1.3110,2,  2091.3,2,  2323.3,2,   7.9935,2,    20.00,-999.000,9,-999.000,9,-999.000,9,  14.7839,2,   0.937,2,   47.75,2,       3,-999.000,9,-999.000,   54.68,2,    8.57,2, -33.9976,  54.1736,-999.000,-999.000,20090407,       0142
33RR20090320,        I05,      59,          1,         30,         30,2,20090406,       2355,   -33.9978,    54.1737,       4057,   155.6,  14.4710,  35.3839,2,  35.3835,2,    228.8,2,   229.1,2,    3.05,2,    5.82,2,    0.01,2,    0.52,2,   2.800,2,   1.636,2,   1.3940,2,  2095.5,2,  2321.8,2,   7.9839,2,    20.00,-999.000,9,-999.000,9,-999.000,9,  14.4655,2,-999.000,9, -999.00,9, -999.00,-999.000,9,-999.000,   54.02,2,    8.60,2, -33.9976,  54.1735,-999.000,-999.000,20090407,       0141
33RR20090320,        I05,      59,          1,         29,         29,2,20090406,       2355,   -33.9978,    54.1737,       4057,   205.8,  13.9350,  35.3490,2,  35.3480,2,    230.0,2,   230.9,2,    3.23,2,    6.74,2,    0.00,2,    0.57,2,   2.865,6,   1.669,6,   1.3900,6,  2099.9,2,  2321.6,2,   7.9726,2,    20.00,-999.000,9,-999.000,9,-999.000,9,  13.9344,2,   0.895,2,   48.93,2,     3.7,-999.000,9,-999.000,   52.82,2,    8.96,2, -33.9976,  54.1735,-999.000,-999.000,20090407,       0139
33RR20090320,        I05,      59,          1,         28,         28,2,20090406,       2355,   -33.9978,    54.1737,       4057,   253.3,  13.6427,  35.3281,2,  35.3269,2,    229.9,2,   232.5,2,    3.21,2,    7.18,2,    0.00,2,    0.60,2,   2.906,2,   1.693,2,   1.2930,2,  2101.7,2,  2319.4,2,   7.9668,2,    20.00,-999.000,9,-999.000,9,-999.000,9,  13.6371,2,   0.933,2,   52.33,2,     3.2,-999.000,9,-999.000,   52.10,2,    9.98,2, -33.9976,  54.1734,-999.000,-999.000,20090407,       0137
33RR20090320,        I05,      59,          1,         27,         27,2,20090406,       2355,   -33.9978,    54.1737,       4057,   304.5,  13.4077,  35.3035,2,  35.3031,2,    233.3,2,   235.8,2,    3.39,2,    7.51,2,    0.00,2,    0.61,2,   2.939,2,   1.702,2,   1.3930,2,  2103.4,2,  2319.0,2,   7.9638,2,    20.00,-999.000,9,-999.000,9,-999.000,9,  13.4049,2,   0.959,2,   49.13,2,     2.8,-999.000,9,-999.000,   50.85,2,   10.24,2, -33.9977,  54.1734,-999.000,-999.000,20090407,       0135
33RR20090320,        I05,      59,          1,         26,         26,2,20090406,       2355,   -33.9978,    54.1737,       4057,   355.9,  13.0729,  35.2509,2,  35.2528,2,    233.7,2,   233.1,2,    3.56,2,    8.54,2,    0.00,2,    0.68,2,   2.976,2,   1.711,2,   1.3730,2,  2107.1,2,  2316.3,2,   7.9515,2,    20.00,-999.000,9,-999.000,9,-999.000,9,  13.0940,2,  -0.036,4,   41.48,2,     3.2,-999.000,9,-999.000,   49.63,2,   10.81,2, -33.9978,  54.1735,-999.000,-999.000,20090407,       0133
33RR20090320,        I05,      59,          1,         25,         25,2,20090406,       2355,   -33.9978,    54.1737,       4057,   404.3,  12.8372,  35.2105,2,  35.2089,2,    231.5,2,   229.8,2,    3.93,2,    9.46,2,    0.00,2,    0.74,2,   3.013,2,   1.732,2,   1.2870,2,  2110.0,2,  2315.7,2,   7.9405,2,    20.00,-999.000,9,-999.000,9,-999.000,9,  12.8361,2,   0.923,2,   43.41,2,       3,-999.000,9,-999.000,   48.66,2,   11.30,2, -33.9978,  54.1735,-999.000,-999.000,20090407,       0130
33RR20090320,        I05,      59,          1,         24,         24,2,20090406,       2355,   -33.9978,    54.1737,       4057,   455.4,  12.5098,  35.1550,2,  35.1551,2,    226.8,2,   225.1,2,    4.11,2,   10.55,2,    0.00,2,    0.81,2,   3.056,2,   1.721,2,   1.1760,2,  2114.7,2,  2311.8,2,   7.9264,2,    20.00,-999.000,9,-999.000,9,-999.000,9,  12.5112,2,   0.931,2,   47.93,2,     3.5,-999.000,9,-999.000,   47.76,2,   12.45,2, -33.9979,  54.1737,-999.000,-999.000,20090407,       0128
33RR20090320,        I05,      59,          1,         23,         23,2,20090406,       2355,   -33.9978,    54.1737,       4057,   504.2,  12.0876,  35.0876,2,  35.0858,2,    224.3,2,   223.7,2,    4.48,2,   11.64,2,    0.00,2,    0.88,2,   3.094,2,   1.730,2,   1.1970,2,  2120.0,2,  2310.7,2,   7.9132,2,    20.00,-999.000,9,-999.000,9,-999.000,9,  12.0877,2,   0.994,2,   48.48,2,     3.1,-999.000,9,-999.000,   46.63,2,   13.69,2, -33.9980,  54.1738,-999.000,-999.000,20090407,       0126
33RR20090320,        I05,      59,          1,         22,         22,2,20090406,       2355,   -33.9978,    54.1737,       4057,   603.9,  11.1389,  34.9436,2,  34.9431,2,    221.2,2,   220.9,2,    5.24,2,   13.92,2,    0.00,2,    1.03,2,   3.146,2,   1.710,2,   0.9970,2,  2128.0,2,  2304.1,2,   7.8861,2,    20.00,-999.000,9,-999.000,9,-999.000,9,  11.1377,2,   1.071,2,   26.99,3,       3,-999.000,9,-999.000,   45.50,2,   15.77,2, -33.9981,  54.1740,-999.000,-999.000,20090407,       0123
33RR20090320,        I05,      59,          1,         21,         21,2,20090406,       2355,   -33.9978,    54.1737,       4057,   705.3,  10.1526,  34.8104,2,  34.8094,2,    216.8,2,   216.8,2,    6.79,2,   16.43,2,    0.00,2,    1.19,2,   3.076,2,   1.650,2,   0.9650,2,  2135.7,2,  2299.9,2,   7.8569,2,    20.00,-999.000,9,-999.000,9,-999.000,9,  10.1516,2,   1.117,2,   36.09,2,     3.6,-999.000,9,-999.000,   44.63,2,   17.82,2, -33.9981,  54.1741,-999.000,-999.000,20090407,       0120
33RR20090320,        I05,      59,          1,         20,         20,2,20090406,       2355,   -33.9978,    54.1737,       4057,   805.8,   9.0861,  34.6933,2,  34.6934,2,    208.1,2,   209.6,2,   10.09,2,   19.54,2,    0.00,2,    1.40,2,   2.886,2,   1.497,2,   0.7060,2,  2148.4,2,  2297.4,2,   7.8213,2,    20.00,-999.000,9,-999.000,9,-999.000,9,   9.0867,2,   1.149,2,    4.01,2,     3.2,-999.000,9,-999.000,   43.70,2,   21.11,2, -33.9981,  54.1741,-999.000,-999.000,20090407,       0117
33RR20090320,        I05,      59,          1,         19,         19,2,20090406,       2355,   -33.9978,    54.1737,       4057,   906.8,   7.6615,  34.5550,2,  34.5606,2,    205.1,2,   204.8,2,   14.95,2,   23.32,2,    0.00,2,    1.65,2,   2.631,2,   1.321,2,   0.6470,2,  2159.8,2,  2294.7,2,   7.7779,2,    20.00,-999.000,9,-999.000,9,-999.000,9,   7.6960,2,   1.076,2,  -27.55,2,     3.5,-999.000,9,-999.000,   42.89,2,   24.90,2, -33.9981,  54.1740,-999.000,-999.000,20090407,       0114
33RR20090320,        I05,      59,          1,         18,         18,2,20090406,       2355,   -33.9978,    54.1737,       4057,  1006.2,   6.3510,  34.4591,2,  34.4585,2,    203.4,2,   203.5,2,   21.39,2,   26.66,2,    0.00,2,    1.88,2,   2.309,2,   1.163,2,   0.5040,2,  2175.4,2,  2294.7,2,   7.7416,2,    20.00,-999.000,9,-999.000,9,-999.000,9,   6.3490,2,   1.056,2,  -59.84,2,       3,-999.000,9,-999.000,   42.31,2,   28.13,2, -33.9980,  54.1740,-999.000,-999.000,20090407,       0111
33RR20090320,        I05,      59,          1,         17,         17,2,20090406,       2355,   -33.9978,    54.1737,       4057,  1105.9,   5.2199,  34.4040,2,  34.4035,2,    201.0,2,   202.2,2,   28.83,2,   29.08,2,    0.00,2,    2.06,2,   2.033,2,   1.000,2,   0.4870,2,  2189.0,2,  2300.0,2,   7.7128,2,    20.00,-999.000,9,-999.000,9,-999.000,9,   5.2194,2,   0.999,2,   -80.2,2,       3,-999.000,9,-999.000,   41.76,2,   30.56,2, -33.9979,  54.1740,-999.000,-999.000,20090407,       0108
33RR20090320,        I05,      59,          1,         16,         16,2,20090406,       2355,   -33.9978,    54.1737,       4057,  1204.8,   4.3422,  34.4001,2,  34.3996,2,    196.0,2,   195.9,2,   38.46,2,   31.17,2,    0.00,2,    2.22,2,   1.604,2,   0.790,2,   0.3530,2,  2204.6,2,  2306.7,2,   7.6871,2,    20.00,-999.000,9,-999.000,9,-999.000,9,   4.3429,2,   0.854,2,  -78.56,2,     2.6,-999.000,9,-999.000,   41.26,2,   32.38,2, -33.9979,  54.1740,-999.000,-999.000,20090407,       0105
33RR20090320,        I05,      59,          1,         15,         15,2,20090406,       2355,   -33.9978,    54.1737,       4057,  1305.5,   3.7766,  34.4371,2,  34.4351,2,    188.3,2,   187.7,2,   47.73,2,   32.33,2,    0.00,2,    2.30,2,   1.158,6,   0.563,6,   0.1860,6,  2218.4,2,  2314.3,2,   7.6693,2,    20.00,-999.000,9,-999.000,9,-999.000,9,   3.7758,2,   0.762,2, -107.48,2,     2.9,-999.000,9,-999.000,   40.79,2,   34.30,2, -33.9979,  54.1741,-999.000,-999.000,20090407,       0102
33RR20090320,        I05,      59,          1,         14,         14,2,20090406,       2355,   -33.9978,    54.1737,       4057,  1406.2,   3.4316,  34.4819,2,  34.4815,2,    182.3,2,   182.6,2,   55.24,2,   32.93,2,    0.00,2,    2.35,2,   0.842,2,   0.407,2,   0.1100,2,  2228.0,2,  2322.5,2,   7.6593,2,    20.00,-999.000,9,-999.000,9,-999.000,9,   3.4327,2,   0.693,2, -122.46,2,     2.8,-999.000,9,-999.000,   40.82,2,   34.68,2, -33.9979,  54.1741,-999.000,-999.000,20090407,       0059
33RR20090320,        I05,      59,          1,         13,         13,2,20090406,       2355,   -33.9978,    54.1737,       4057,  1508.0,   3.1710,  34.5276,2,  34.5270,2,    179.2,2,   179.0,2,   61.17,2,   33.04,2,    0.00,2,    2.36,2,   0.595,2,   0.288,2,   0.0000,2,  2235.9,2,  2327.5,2,   7.6562,2,    20.00,-999.000,9,-999.000,9,-999.000,9,   3.1706,2,   0.615,2, -129.99,2,       3,-999.000,9,-999.000,   40.80,2,   34.19,2, -33.9979,  54.1741,-999.000,-999.000,20090407,       0056
33RR20090320,        I05,      59,          1,         12,         12,2,20090406,       2355,   -33.9978,    54.1737,       4057,  1609.5,   2.9777,  34.5672,2,  34.5665,2,    176.9,2,   176.5,2,   66.33,2,   33.03,2,    0.00,2,    2.36,2,   0.384,2,   0.188,2,   0.0000,2,  2242.0,2,  2337.1,2,   7.6545,2,    20.00,-999.000,9,-999.000,9,-999.000,9,   2.9782,2,   0.576,2, -138.07,2,     2.8,-999.000,9,-999.000,   40.64,2,   34.71,2, -33.9979,  54.1739,-999.000,-999.000,20090407,       0053
33RR20090320,        I05,      59,          1,         11,         11,2,20090406,       2355,   -33.9978,    54.1737,       4057,  1710.0,   2.8343,  34.6014,2,  34.6009,2,    177.1,2,   176.7,2,   69.69,2,   32.68,2,    0.00,2,    2.34,2,   0.278,2,   0.140,2,   0.0240,2,  2244.8,6,  2335.8,2,   7.6578,2,    20.00,-999.000,9,-999.000,9,-999.000,9,   2.8337,2,   0.575,2, -143.38,2,     2.6,-999.000,9,-999.000,   40.47,2,   33.81,2, -33.9979,  54.1738,-999.000,-999.000,20090407,       0050
33RR20090320,        I05,      59,          1,         10,         10,2,20090406,       2355,   -33.9978,    54.1737,       4057,  1809.4,   2.7285,  34.6278,2,  34.6276,2,    178.5,2,   177.8,2,   72.06,2,   32.52,2,    0.00,2,    2.32,2,   0.212,2,   0.104,2,   0.0000,2,  2246.2,2,  2339.9,2,   7.6617,2,    20.00,-999.000,9,-999.000,9,-999.000,9,   2.7283,2,   0.572,2,  -147.7,2,     2.8,-999.000,9,-999.000,   40.44,2,   34.15,2, -33.9979,  54.1738,-999.000,-999.000,20090407,       0047
33RR20090320,        I05,      59,          1,          9,          9,2,20090406,       2355,   -33.9978,    54.1737,       4057,  2012.6,   2.4969,  34.6817,2,  34.6824,2,    182.0,2,   182.5,2,   77.42,2,   31.79,2,    0.00,2,    2.27,2,   0.104,2,   0.057,2,   0.0000,2,  2248.9,2,  2346.1,2,   7.6731,2,    20.00,-999.000,9,-999.000,9,-999.000,9,   2.4967,2,   0.531,2, -153.01,2,     2.5,-999.000,9,-999.000,   39.91,2,   33.27,2, -33.9978,  54.1739,-999.000,-999.000,20090407,       0042
33RR20090320,        I05,      59,          1,          8,          8,2,20090406,       2355,   -33.9978,    54.1737,       4057,  2263.9,   2.2434,  34.7208,2,  34.7205,2,    188.0,2,   188.7,2,   83.20,2,   31.12,2,    0.00,2,    2.22,2,   0.073,2,   0.035,2,   0.0400,2,  2249.3,2,  2351.6,2,   7.6844,2,    20.00,-999.000,9,-999.000,9,-999.000,9,   2.2437,2,   0.549,2, -154.65,2,     2.8,-999.000,9,-999.000,   39.87,2,   32.87,2, -33.9978,  54.1738,-999.000,-999.000,20090407,       0036
33RR20090320,        I05,      59,          1,          7,          7,2,20090406,       2355,   -33.9978,    54.1737,       4057,  2515.1,   2.0335,  34.7350,2,  34.7347,2,    192.4,2,   192.7,2,   88.98,2,   30.89,2,    0.00,2,    2.20,2,   0.060,2,   0.031,2,   0.0000,2,  2250.8,2,  2354.6,2,   7.6894,2,    20.00,-999.000,9,-999.000,9,-999.000,9,   2.0332,2,   0.566,2, -158.43,2,     2.8,-999.000,9,-999.000,   39.79,2,   32.69,2, -33.9978,  54.1738,-999.000,-999.000,20090407,       0030
33RR20090320,        I05,      59,          1,          6,          6,2,20090406,       2355,   -33.9978,    54.1737,       4057,  2767.6,   1.7574,  34.7350,2,  34.7349,2,    196.3,2,   196.4,2,   96.38,2,   31.06,2,    0.00,2,    2.22,2,   0.063,2,   0.031,2,   0.0000,2,  2253.0,2,  2355.2,2,   7.6902,2,    20.00,-999.000,9,-999.000,9,-999.000,9,   1.7580,2,   0.553,2, -156.77,2,     3.1,-999.000,9,-999.000,   39.79,2,   32.24,2, -33.9977,  54.1737,-999.000,-999.000,20090407,       0024
33RR20090320,        I05,      59,          1,          5,          5,2,20090406,       2355,   -33.9978,    54.1737,       4057,  3021.6,   1.6353,  34.7328,2,  34.7329,2,    199.1,2,   199.6,2,   99.17,2,   31.05,2,    0.00,2,    2.21,2,   0.071,6,   0.035,6,   0.0000,6,  2252.1,2,  2360.7,2,   7.6904,2,    20.00,-999.000,9,-999.000,9,-999.000,9,   1.6351,2,   0.574,2, -160.03,2,     2.6,-999.000,9,-999.000,   39.80,2,   32.85,2, -33.9978,  54.1738,-999.000,-999.000,20090407,       0019
33RR20090320,        I05,      59,          1,          4,          4,2,20090406,       2355,   -33.9978,    54.1737,       4057,  3324.9,   1.4047,  34.7273,2,  34.7272,2,    203.1,2,   203.4,2,  105.19,2,   31.27,2,    0.00,2,    2.23,2,   0.085,2,   0.043,2,   0.0000,2,  2253.5,2,  2357.0,2,   7.6888,2,    20.00,-999.000,9,-999.000,9,-999.000,9,   1.4038,2,    0.59,2, -161.63,2,     2.3,-999.000,9,-999.000,   39.85,2,   32.51,2, -33.9979,  54.1739,-999.000,-999.000,20090407,       0012
33RR20090320,        I05,      59,          1,          3,          3,2,20090406,       2355,   -33.9978,    54.1737,       4057,  3630.7,   1.1893,  34.7194,2,  34.7193,2,    206.7,2,   207.4,2,  111.21,2,   31.54,2,    0.00,2,    2.24,2,   0.107,2,   0.054,2,   0.0220,2,  2254.8,2,  2360.2,2,   7.6868,2,    20.00,-999.000,9,-999.000,9,-999.000,9,   1.1893,2,   0.571,2, -156.26,2,     2.4,-999.000,9,-999.000,   39.80,2,   33.05,2, -33.9980,  54.1739,-999.000,-999.000,20090407,       0005
33RR20090320,        I05,      59,          1,          2,          2,2,20090406,       2355,   -33.9978,    54.1737,       4057,  3864.3,   1.0981,  34.7149,2,  34.7156,2,    209.0,2,   208.7,2,  113.82,2,   31.70,2,    0.00,2,    2.26,2,   0.111,2,   0.056,2,   0.0000,2,  2255.7,2,  2358.3,2,   7.6865,2,    20.00,-999.000,9,-999.000,9,-999.000,9,   1.0968,2,-999.000,5, -999.00,9, -999.00,-999.000,9,-999.000,   39.73,2,   33.72,2, -33.9980,  54.1738,-999.000,-999.000,20090406,       0000
33RR20090320,        I05,      59,          1,          1,          1,2,20090406,       2355,   -33.9978,    54.1737,       4057,  4100.5,   0.9650,  34.7090,2,  34.7081,2,    211.6,2,   211.2,2,  117.02,2,   31.80,2,    0.00,2,    2.28,2,   0.126,2,   0.063,2,   0.0270,2,  2257.6,6,  2360.6,2,   7.6845,2,    20.00,-999.000,9,-999.000,9,-999.000,9,   0.9673,2,   0.555,2, -154.36,2,     3.2,-999.000,9,-999.000,   39.90,2,   33.81,2, -33.9978,  54.1737,-999.000,-999.000,20090406,       2355