BOTTLE,20220814CCHSIOAMB
EXPOCODE,SECT_ID,STNNBR,CASTNO,SAMPNO,BTLNBR,BTLNBR_FLAG_W,DATE,TIME,LATITUDE,LONGITUDE,DEPTH,CTDPRS,CTDTMP,CTDSAL,CTDSAL_FLAG_W,SALNTY,SALNTY_FLAG_W,CTDOXY,CTDOXY_FLAG_W,OXYGEN,OXYGEN_FLAG_W,SILCAT,SILCAT_FLAG_W,NITRAT,NITRAT_FLAG_W,NITRIT,NITRIT_FLAG_W,PHSPHT,PHSPHT_FLAG_W,CFC-11,CFC-11_FLAG_W,CFC-12,CFC-12_FLAG_W,SF6,SF6_FLAG_W,TCARBN,TCARBN_FLAG_W,ALKALI,ALKALI_FLAG_W,PH_TOT,PH_TOT_FLAG_W,PH_TMP,TRITUM,TRITUM_FLAG_W,HELIUM,HELIUM_FLAG_W,DELHE3,DELHE3_FLAG_W,REFTMP,REFTMP_FLAG_W,DELC13,DELC13_FLAG_W,DELC14,DELC14_FLAG_W,C14ERR,NEON,NEON_FLAG_W,NEONER,DOC,DOC_FLAG_W,TDN,TDN_FLAG_W,BTL_LAT,BTL_LON,HELIER,DELHER,BTL_DATE,BTL_TIME
,,,,,,,,,,,METERS,DBAR,ITS-90,PSS-78,,PSS-78,,UMOL/KG,,UMOL/KG,,UMOL/KG,,UMOL/KG,,UMOL/KG,,UMOL/KG,,PMOL/KG,,PMOL/KG,,FMOL/KG,,UMOL/KG,,UMOL/KG,,,,DEG C,TU,,NMOL/KG,,PERCNT,,DEG C,,/MILLE,,/MILLE,,/MILLE,NMOL/KG,,NMOL/KG,UMOL/KG,,UMOL/KG,,,,NMOL/KG,PERCNT,,
33RR20090320,        I05,     162,          1,         36,         36,2,20090504,       0843,   -32.0058,   101.8684,       2975,     3.9,  18.7752,  36.0063,2,  36.0061,2,    231.7,2,   233.3,2,    1.12,2,    0.05,2,    0.00,2,    0.12,2,-999.000,9,-999.000,9,-999.0000,9,  2085.0,6,  2364.8,2,   8.0786,2,    20.00,-999.000,9,-999.000,9,-999.000,9,  18.7739,2,-999.000,9, -999.00,9, -999.00,-999.000,9,-999.000, -999.00,9, -999.00,9, -32.0055, 101.8686,-999.000,-999.000,20090504,       1015
33RR20090320,        I05,     162,          1,         35,         35,2,20090504,       0843,   -32.0058,   101.8684,       2975,    34.5,  18.7245,  36.0103,2,  36.0096,2,    233.8,2,   233.8,2,    1.11,2,    0.04,2,    0.00,2,    0.11,2,-999.000,9,-999.000,9,-999.0000,9,  2085.7,2,  2365.2,2,   8.0793,2,    20.00,-999.000,9,-999.000,9,-999.000,9,  18.7243,2,-999.000,9, -999.00,9, -999.00,-999.000,9,-999.000, -999.00,9, -999.00,9, -32.0055, 101.8686,-999.000,-999.000,20090504,       1014
33RR20090320,        I05,     162,          1,         34,         34,2,20090504,       0843,   -32.0058,   101.8684,       2975,    57.6,  18.7242,  36.0138,2,  36.0138,2,    234.1,2,   232.8,2,    1.09,2,    0.04,2,    0.00,2,    0.11,2,-999.000,9,-999.000,9,-999.0000,9,  2086.7,2,  2365.0,2,   8.0795,2,    20.00,-999.000,9,-999.000,9,-999.000,9,  18.7262,2,-999.000,9, -999.00,9, -999.00,-999.000,9,-999.000, -999.00,9, -999.00,9, -32.0055, 101.8686,-999.000,-999.000,20090504,       1012
33RR20090320,        I05,     162,          1,         33,         33,2,20090504,       0843,   -32.0058,   101.8684,       2975,    85.1,  17.6923,  35.8661,4,  35.9012,2,    239.4,2,   240.0,2,    1.07,2,    0.00,2,    0.00,2,    0.12,2,-999.000,9,-999.000,9,-999.0000,9,  2083.5,2,  2356.0,2,   8.0739,2,    20.00,-999.000,9,-999.000,9,-999.000,9,  17.7419,2,-999.000,9, -999.00,9, -999.00,-999.000,9,-999.000, -999.00,9, -999.00,9, -32.0056, 101.8686,-999.000,-999.000,20090504,       1011
33RR20090320,        I05,     162,          1,         32,         32,2,20090504,       0843,   -32.0058,   101.8684,       2975,   109.7,  15.2606,  35.5948,2,  35.6007,2,    248.7,2,   245.5,2,    1.05,2,    0.49,2,    0.08,2,    0.20,2,-999.000,9,-999.000,9,-999.0000,9,  -999.0,9,  -999.0,9,-999.0000,9,  -999.00,-999.000,9,-999.000,9,-999.000,9,  15.2502,2,-999.000,9, -999.00,9, -999.00,-999.000,9,-999.000, -999.00,9, -999.00,9, -32.0056, 101.8686,-999.000,-999.000,20090504,       1009
33RR20090320,        I05,     162,          1,         31,         31,2,20090504,       0843,   -32.0058,   101.8684,       2975,   133.8,  14.4586,  35.5046,2,  35.5026,2,    238.0,2,   235.7,2,    1.22,2,    3.43,2,    0.06,2,    0.36,2,-999.000,9,-999.000,9,-999.0000,9,  -999.0,9,  -999.0,9,-999.0000,9,  -999.00,-999.000,9,-999.000,9,-999.000,9,  14.4587,2,-999.000,9, -999.00,9, -999.00,-999.000,9,-999.000, -999.00,9, -999.00,9, -32.0056, 101.8686,-999.000,-999.000,20090504,       1008
33RR20090320,        I05,     162,          1,         30,         30,2,20090504,       0843,   -32.0058,   101.8684,       2975,   158.3,  14.0603,  35.4448,2,  35.4468,2,    234.9,2,   235.5,2,    1.39,2,    4.32,2,    0.01,2,    0.42,2,-999.000,9,-999.000,9,-999.0000,9,  -999.0,9,  -999.0,9,-999.0000,9,  -999.00,-999.000,9,-999.000,9,-999.000,9,  14.0509,2,-999.000,9, -999.00,9, -999.00,-999.000,9,-999.000, -999.00,9, -999.00,9, -32.0056, 101.8686,-999.000,-999.000,20090504,       1006
33RR20090320,        I05,     162,          1,         29,         29,2,20090504,       0843,   -32.0058,   101.8684,       2975,   184.6,  13.5058,  35.3502,2,  35.3532,2,    235.0,2,   235.4,2,    1.54,2,    5.40,2,    0.01,2,    0.49,2,-999.000,9,-999.000,9,-999.0000,9,  2108.6,2,  2326.7,2,   7.9728,2,    20.00,-999.000,9,-999.000,9,-999.000,9,  13.5062,2,-999.000,9, -999.00,9, -999.00,-999.000,9,-999.000, -999.00,9, -999.00,9, -32.0056, 101.8686,-999.000,-999.000,20090504,       1005
33RR20090320,        I05,     162,          1,         28,         28,2,20090504,       0843,   -32.0058,   101.8684,       2975,   209.3,  13.0166,  35.2631,2,  35.2636,2,    237.2,2,   237.3,2,    1.53,2,    6.35,2,    0.00,2,    0.55,2,-999.000,9,-999.000,9,-999.0000,9,  -999.0,9,  -999.0,9,-999.0000,9,  -999.00,-999.000,9,-999.000,9,-999.000,9,  13.0266,2,-999.000,9, -999.00,9, -999.00,-999.000,9,-999.000, -999.00,9, -999.00,9, -32.0056, 101.8686,-999.000,-999.000,20090504,       1003
33RR20090320,        I05,     162,          1,         27,         27,2,20090504,       0843,   -32.0058,   101.8684,       2975,   234.3,  12.3764,  35.1507,2,  35.1505,2,    240.5,2,   241.4,2,    1.69,2,    7.47,2,    0.00,2,    0.61,2,-999.000,9,-999.000,9,-999.0000,9,  -999.0,9,  -999.0,9,-999.0000,9,  -999.00,-999.000,9,-999.000,9,-999.000,9,  12.3743,2,-999.000,9, -999.00,9, -999.00,-999.000,9,-999.000, -999.00,9, -999.00,9, -32.0056, 101.8686,-999.000,-999.000,20090504,       1002
33RR20090320,        I05,     162,          1,         26,         26,2,20090504,       0843,   -32.0058,   101.8684,       2975,   263.1,  11.8392,  35.0568,2,  35.0564,2,    240.3,2,   240.1,2,    2.03,2,    8.90,2,    0.00,2,    0.70,2,-999.000,9,-999.000,9,-999.0000,9,  -999.0,9,  -999.0,9,-999.0000,9,  -999.00,-999.000,9,-999.000,9,-999.000,9,  11.8382,2,-999.000,9, -999.00,9, -999.00,-999.000,9,-999.000, -999.00,9, -999.00,9, -32.0056, 101.8686,-999.000,-999.000,20090504,       1000
33RR20090320,        I05,     162,          1,         25,         25,2,20090504,       0843,   -32.0058,   101.8684,       2975,   313.7,  10.7897,  34.8847,2,  34.8884,2,    239.3,2,   240.3,2,    2.56,2,   11.62,2,    0.00,2,    0.87,2,-999.000,9,-999.000,9,-999.0000,9,  2122.1,2,  2302.7,2,   7.8964,2,    20.00,-999.000,9,-999.000,9,-999.000,9,  10.7937,2,-999.000,9, -999.00,9, -999.00,-999.000,9,-999.000, -999.00,9, -999.00,9, -32.0057, 101.8686,-999.000,-999.000,20090504,       0958
33RR20090320,        I05,     162,          1,         24,         24,2,20090504,       0843,   -32.0058,   101.8684,       2975,   363.1,  10.2046,  34.8015,2,  34.8023,2,    240.6,2,   240.6,2,    3.25,2,   13.42,2,    0.00,2,    0.98,2,-999.000,9,-999.000,9,-999.0000,9,  -999.0,9,  -999.0,9,-999.0000,9,  -999.00,-999.000,9,-999.000,9,-999.000,9,  10.2037,2,-999.000,9, -999.00,9, -999.00,-999.000,9,-999.000, -999.00,9, -999.00,9, -32.0057, 101.8685,-999.000,-999.000,20090504,       0956
33RR20090320,        I05,     162,          1,         23,         23,2,20090504,       0843,   -32.0058,   101.8684,       2975,   413.8,   9.7726,  34.7463,2,  34.7485,2,    239.0,2,   239.9,2,    3.78,2,   14.75,2,    0.00,2,    1.06,2,-999.000,9,-999.000,9,-999.0000,9,  -999.0,9,  -999.0,9,-999.0000,9,  -999.00,-999.000,9,-999.000,9,-999.000,9,   9.7791,2,-999.000,9, -999.00,9, -999.00,-999.000,9,-999.000, -999.00,9, -999.00,9, -32.0057, 101.8685,-999.000,-999.000,20090504,       0954
33RR20090320,        I05,     162,          1,         22,         22,2,20090504,       0843,   -32.0058,   101.8684,       2975,   464.2,   9.4414,  34.7013,2,  34.7027,2,    238.7,2,   239.4,2,    4.12,2,   15.87,2,    0.00,2,    1.13,2,-999.000,9,-999.000,9,-999.0000,9,  -999.0,9,  -999.0,9,-999.0000,9,  -999.00,-999.000,9,-999.000,9,-999.000,9,   9.4456,2,-999.000,9, -999.00,9, -999.00,-999.000,9,-999.000, -999.00,9, -999.00,9, -32.0057, 101.8685,-999.000,-999.000,20090504,       0952
33RR20090320,        I05,     162,          1,         21,         21,2,20090504,       0843,   -32.0058,   101.8684,       2975,   533.7,   9.0862,  34.6532,2,  34.6544,2,    238.9,2,   239.2,2,    4.64,2,   16.99,2,    0.00,2,    1.20,2,-999.000,9,-999.000,9,-999.0000,9,  -999.0,9,  -999.0,9,-999.0000,9,  -999.00,-999.000,9,-999.000,9,-999.000,9,   9.0872,2,-999.000,9, -999.00,9, -999.00,-999.000,9,-999.000, -999.00,9, -999.00,9, -32.0057, 101.8685,-999.000,-999.000,20090504,       0950
33RR20090320,        I05,     162,          1,         20,         20,2,20090504,       0843,   -32.0058,   101.8684,       2975,   632.9,   8.4598,  34.5759,2,  34.5760,2,    232.2,2,   229.3,2,    6.96,2,   19.55,2,    0.00,2,    1.37,2,-999.000,9,-999.000,9,-999.0000,9,  -999.0,9,  -999.0,9,-999.0000,9,  -999.00,-999.000,9,-999.000,9,-999.000,9,   8.4559,2,-999.000,9, -999.00,9, -999.00,-999.000,9,-999.000, -999.00,9, -999.00,9, -32.0057, 101.8685,-999.000,-999.000,20090504,       0947
33RR20090320,        I05,     162,          1,         19,         19,2,20090504,       0843,   -32.0058,   101.8684,       2975,   732.9,   7.2254,  34.4766,2,  34.4779,2,    204.4,2,   203.9,2,   14.33,2,   24.69,2,    0.00,2,    1.71,2,-999.000,9,-999.000,9,-999.0000,9,  2165.4,2,  2288.8,2,   7.7570,2,    20.00,-999.000,9,-999.000,9,-999.000,9,   7.2230,2,-999.000,9, -999.00,9, -999.00,-999.000,9,-999.000, -999.00,9, -999.00,9, -32.0057, 101.8685,-999.000,-999.000,20090504,       0944
33RR20090320,        I05,     162,          1,         18,         18,2,20090504,       0843,   -32.0058,   101.8684,       2975,   833.9,   5.7385,  34.4020,2,  34.4035,2,    195.6,2,   195.7,2,   24.07,2,   28.61,2,    0.00,2,    2.00,2,-999.000,9,-999.000,9,-999.0000,9,  -999.0,9,  -999.0,9,-999.0000,9,  -999.00,-999.000,9,-999.000,9,-999.000,9,   5.7460,2,-999.000,9, -999.00,9, -999.00,-999.000,9,-999.000, -999.00,9, -999.00,9, -32.0057, 101.8685,-999.000,-999.000,20090504,       0941
33RR20090320,        I05,     162,          1,         17,         17,2,20090504,       0843,   -32.0058,   101.8684,       2975,   932.1,   4.4689,  34.3831,2,  34.3839,2,    191.1,2,   190.6,2,   37.32,2,   31.36,2,    0.00,2,    2.22,2,-999.000,9,-999.000,9,-999.0000,9,  -999.0,9,  -999.0,9,-999.0000,9,  -999.00,-999.000,9,-999.000,9,-999.000,9,   4.4682,2,-999.000,9, -999.00,9, -999.00,-999.000,9,-999.000, -999.00,9, -999.00,9, -32.0057, 101.8685,-999.000,-999.000,20090504,       0938
33RR20090320,        I05,     162,          1,         16,         16,2,20090504,       0843,   -32.0058,   101.8684,       2975,  1031.5,   3.8687,  34.4141,2,  34.4143,2,    183.7,2,   180.4,2,   49.17,2,   32.92,2,    0.00,2,    2.34,2,-999.000,9,-999.000,9,-999.0000,9,  -999.0,9,  -999.0,9,-999.0000,9,  -999.00,-999.000,9,-999.000,9,-999.000,9,   3.8688,2,-999.000,9, -999.00,9, -999.00,-999.000,9,-999.000, -999.00,9, -999.00,9, -32.0057, 101.8685,-999.000,-999.000,20090504,       0935
33RR20090320,        I05,     162,          1,         15,         15,2,20090504,       0843,   -32.0058,   101.8684,       2975,  1132.9,   3.6154,  34.4763,2,  34.4763,2,    163.6,2,   163.0,2,   62.36,2,   34.22,2,    0.00,2,    2.46,2,-999.000,9,-999.000,9,-999.0000,9,  -999.0,9,  -999.0,9,-999.0000,9,  -999.00,-999.000,9,-999.000,9,-999.000,9,   3.6149,2,-999.000,9, -999.00,9, -999.00,-999.000,9,-999.000, -999.00,9, -999.00,9, -32.0058, 101.8685,-999.000,-999.000,20090504,       0932
33RR20090320,        I05,     162,          1,         14,         14,2,20090504,       0843,   -32.0058,   101.8684,       2975,  1235.5,   3.3109,  34.5170,2,  34.5183,2,    157.3,2,   157.6,2,   69.90,2,   34.65,2,    0.00,2,    2.49,2,-999.000,9,-999.000,9,-999.0000,9,  -999.0,9,  -999.0,9,-999.0000,9,  -999.00,-999.000,9,-999.000,9,-999.000,9,   3.3120,2,-999.000,9, -999.00,9, -999.00,-999.000,9,-999.000, -999.00,9, -999.00,9, -32.0058, 101.8686,-999.000,-999.000,20090504,       0929
33RR20090320,        I05,     162,          1,         13,         13,2,20090504,       0843,   -32.0058,   101.8684,       2975,  1334.2,   3.1400,  34.5694,2,  34.5700,2,    153.0,2,   152.5,2,   77.82,2,   34.81,2,    0.00,2,    2.51,2,-999.000,9,-999.000,9,-999.0000,9,  2263.9,2,  2343.8,2,   7.6237,2,    20.00,-999.000,9,-999.000,9,-999.000,9,   3.1387,2,-999.000,9, -999.00,9, -999.00,-999.000,9,-999.000, -999.00,9, -999.00,9, -32.0058, 101.8685,-999.000,-999.000,20090504,       0926
33RR20090320,        I05,     162,          1,         12,         12,2,20090504,       0843,   -32.0058,   101.8684,       2975,  1438.1,   2.9862,  34.6061,2,  34.6066,2,    152.4,2,   152.0,2,   82.80,2,   34.69,2,    0.00,2,    2.51,2,-999.000,9,-999.000,9,-999.0000,9,  -999.0,9,  -999.0,9,-999.0000,9,  -999.00,-999.000,9,-999.000,9,-999.000,9,   2.9889,2,-999.000,9, -999.00,9, -999.00,-999.000,9,-999.000, -999.00,9, -999.00,9, -32.0058, 101.8685,-999.000,-999.000,20090504,       0923
33RR20090320,        I05,     162,          1,         11,         11,2,20090504,       0843,   -32.0058,   101.8684,       2975,  1535.7,   2.8531,  34.6328,2,  34.6329,2,    153.6,2,   153.3,2,   86.67,2,   34.53,2,    0.00,2,    2.48,2,-999.000,9,-999.000,9,-999.0000,9,  -999.0,9,  -999.0,9,-999.0000,9,  -999.00,-999.000,9,-999.000,9,-999.000,9,   2.8530,2,-999.000,9, -999.00,9, -999.00,-999.000,9,-999.000, -999.00,9, -999.00,9, -32.0058, 101.8684,-999.000,-999.000,20090504,       0920
33RR20090320,        I05,     162,          1,         10,         10,2,20090504,       0843,   -32.0058,   101.8684,       2975,  1635.6,   2.7330,  34.6565,2,  34.6565,2,    155.4,2,   155.3,2,   89.82,2,   34.19,2,    0.00,2,    2.46,2,-999.000,9,-999.000,9,-999.0000,9,  -999.0,9,  -999.0,9,-999.0000,9,  -999.00,-999.000,9,-999.000,9,-999.000,9,   2.7327,2,-999.000,9, -999.00,9, -999.00,-999.000,9,-999.000, -999.00,9, -999.00,9, -32.0058, 101.8684,-999.000,-999.000,20090504,       0917
33RR20090320,        I05,     162,          1,          9,          9,2,20090504,       0843,   -32.0058,   101.8684,       2975,  1735.7,   2.6115,  34.6786,2,  34.6790,2,    157.5,2,   156.9,2,   93.33,2,   33.92,2,    0.00,2,    2.43,2,-999.000,9,-999.000,9,-999.0000,9,  -999.0,9,  -999.0,9,-999.0000,9,  -999.00,-999.000,9,-999.000,9,-999.000,9,   2.6117,2,-999.000,9, -999.00,9, -999.00,-999.000,9,-999.000, -999.00,9, -999.00,9, -32.0058, 101.8685,-999.000,-999.000,20090504,       0914
33RR20090320,        I05,     162,          1,          8,          8,2,20090504,       0843,   -32.0058,   101.8684,       2975,  1831.4,   2.5208,  34.6946,2,  34.6953,2,    158.8,2,   158.3,2,   97.40,2,   33.81,2,    0.00,2,    2.42,2,-999.000,9,-999.000,9,-999.0000,9,  -999.0,9,  -999.0,9,-999.0000,9,  -999.00,-999.000,9,-999.000,9,-999.000,9,   2.5198,2,-999.000,9, -999.00,9, -999.00,-999.000,9,-999.000, -999.00,9, -999.00,9, -32.0058, 101.8685,-999.000,-999.000,20090504,       0911
33RR20090320,        I05,     162,          1,          7,          7,2,20090504,       0843,   -32.0058,   101.8684,       2975,  1934.2,   2.4023,  34.7056,2,  34.7074,2,    161.3,2,   161.2,2,  100.00,2,   33.53,2,    0.00,2,    2.40,2,-999.000,9,-999.000,9,-999.0000,9,  2279.1,2,  2368.1,2,   7.6494,2,    20.00,-999.000,9,-999.000,9,-999.000,9,   2.4020,2,-999.000,9, -999.00,9, -999.00,-999.000,9,-999.000, -999.00,9, -999.00,9, -32.0057, 101.8685,-999.000,-999.000,20090504,       0908
33RR20090320,        I05,     162,          1,          6,          6,2,20090504,       0843,   -32.0058,   101.8684,       2975,  2066.4,   2.2474,  34.7171,2,  34.7182,2,    167.9,2,   168.8,2,   99.05,2,   32.93,2,    0.00,2,    2.35,2,-999.000,9,-999.000,9,-999.0000,9,  -999.0,9,  -999.0,9,-999.0000,9,  -999.00,-999.000,9,-999.000,9,-999.000,9,   2.2505,2,-999.000,9, -999.00,9, -999.00,-999.000,9,-999.000, -999.00,9, -999.00,9, -32.0058, 101.8685,-999.000,-999.000,20090504,       0904
33RR20090320,        I05,     162,          1,          5,          5,2,20090504,       0843,   -32.0058,   101.8684,       2975,  2267.1,   2.0781,  34.7317,2,  34.7328,2,    181.6,2,   181.6,2,   95.14,2,   31.79,2,    0.00,2,    2.26,2,-999.000,9,-999.000,9,-999.0000,9,  -999.0,9,  -999.0,9,-999.0000,9,  -999.00,-999.000,9,-999.000,9,-999.000,9,   2.0781,2,-999.000,9, -999.00,9, -999.00,-999.000,9,-999.000, -999.00,9, -999.00,9, -32.0058, 101.8686,-999.000,-999.000,20090504,       0900
33RR20090320,        I05,     162,          1,          4,          4,2,20090504,       0843,   -32.0058,   101.8684,       2975,  2467.9,   1.9528,  34.7373,2,  34.7385,2,    185.7,2,   187.2,2,   96.05,2,   31.41,2,    0.00,2,    2.22,2,-999.000,9,-999.000,9,-999.0000,9,  2259.9,2,  2361.0,2,   7.6793,2,    20.00,-999.000,9,-999.000,9,-999.000,9,   1.9527,2,-999.000,9, -999.00,9, -999.00,-999.000,9,-999.000, -999.00,9, -999.00,9, -32.0058, 101.8686,-999.000,-999.000,20090504,       0855
33RR20090320,        I05,     162,          1,          3,          3,2,20090504,       0843,   -32.0058,   101.8684,       2975,  2667.4,   1.8889,  34.7370,2,  34.7383,2,    187.5,2,   187.5,2,   98.64,2,   31.52,2,    0.00,2,    2.22,2,-999.000,9,-999.000,9,-999.0000,9,  -999.0,9,  -999.0,9,-999.0000,9,  -999.00,-999.000,9,-999.000,9,-999.000,9,   1.8885,2,-999.000,9, -999.00,9, -999.00,-999.000,9,-999.000, -999.00,9, -999.00,9, -32.0058, 101.8685,-999.000,-999.000,20090504,       0851
33RR20090320,        I05,     162,          1,          2,          2,2,20090504,       0843,   -32.0058,   101.8684,       2975,  2872.2,   1.8246,  34.7380,2,  34.7388,2,    190.4,2,   189.7,2,  100.11,2,   31.40,2,    0.00,2,    2.23,2,-999.000,9,-999.000,9,-999.0000,9,  -999.0,9,  -999.0,9,-999.0000,9,  -999.00,-999.000,9,-999.000,9,-999.000,9,   1.8244,2,-999.000,9, -999.00,9, -999.00,-999.000,9,-999.000, -999.00,9, -999.00,9, -32.0058, 101.8684,-999.000,-999.000,20090504,       0846
33RR20090320,        I05,     162,          1,          1,          1,2,20090504,       0843,   -32.0058,   101.8684,       2975,  3004.6,   1.7127,  34.7379,2,  34.7388,2,    193.2,2,   193.1,2,  101.60,2,   31.23,2,    0.00,2,    2.22,2,-999.000,9,-999.000,9,-999.0000,9,  2261.6,6,  2362.9,2,   7.6836,2,    20.00,-999.000,9,-999.000,9,-999.000,9,   1.7146,2,-999.000,9, -999.00,9, -999.00,-999.000,9,-999.000, -999.00,9, -999.00,9, -32.0058, 101.8684,-999.000,-999.000,20090504,       0843