BOTTLE,20220814CCHSIOAMB
EXPOCODE,SECT_ID,STNNBR,CASTNO,SAMPNO,BTLNBR,BTLNBR_FLAG_W,DATE,TIME,LATITUDE,LONGITUDE,DEPTH,CTDPRS,CTDTMP,CTDSAL,CTDSAL_FLAG_W,SALNTY,SALNTY_FLAG_W,CTDOXY,CTDOXY_FLAG_W,OXYGEN,OXYGEN_FLAG_W,SILCAT,SILCAT_FLAG_W,NITRAT,NITRAT_FLAG_W,NITRIT,NITRIT_FLAG_W,PHSPHT,PHSPHT_FLAG_W,CFC-11,CFC-11_FLAG_W,CFC-12,CFC-12_FLAG_W,SF6,SF6_FLAG_W,TCARBN,TCARBN_FLAG_W,ALKALI,ALKALI_FLAG_W,PH_TOT,PH_TOT_FLAG_W,PH_TMP,TRITUM,TRITUM_FLAG_W,HELIUM,HELIUM_FLAG_W,DELHE3,DELHE3_FLAG_W,REFTMP,REFTMP_FLAG_W,DELC13,DELC13_FLAG_W,DELC14,DELC14_FLAG_W,C14ERR,NEON,NEON_FLAG_W,NEONER,DOC,DOC_FLAG_W,TDN,TDN_FLAG_W,BTL_LAT,BTL_LON,HELIER,DELHER,BTL_DATE,BTL_TIME
,,,,,,,,,,,METERS,DBAR,ITS-90,PSS-78,,PSS-78,,UMOL/KG,,UMOL/KG,,UMOL/KG,,UMOL/KG,,UMOL/KG,,UMOL/KG,,PMOL/KG,,PMOL/KG,,FMOL/KG,,UMOL/KG,,UMOL/KG,,,,DEG C,TU,,NMOL/KG,,PERCNT,,DEG C,,/MILLE,,/MILLE,,/MILLE,NMOL/KG,,NMOL/KG,UMOL/KG,,UMOL/KG,,,,NMOL/KG,PERCNT,,
33RR20090320,        I05,      95,          2,         36,         36,2,20090417,       1531,   -33.9994,    70.8412,       4671,     4.7,  19.7272,  35.4600,2,  35.4597,2,    228.8,2,   229.1,2,    1.37,2,    0.09,2,    0.00,2,    0.16,2,   2.214,2,   1.326,2,   1.2720,2,  2057.5,6,  2331.0,2,   8.0699,2,    20.00,   0.434,2,   1.805,2,  -1.644,2,  19.7240,2,   1.451,2,   46.52,2,     2.9,   7.316,2,   0.009,   66.97,2,    4.29,2, -33.9996,  70.8412,   0.000,   0.197,20090417,       1738
33RR20090320,        I05,      95,          2,         35,         35,2,20090417,       1531,   -33.9994,    70.8412,       4671,    27.6,  19.7383,  35.4602,2,  35.4595,2,    229.4,2,   229.7,2,    1.36,2,    0.09,2,    0.00,2,    0.16,2,   2.234,2,   1.327,2,   1.2850,2,  2057.0,2,  2331.2,2,   8.0702,2,    20.00,   0.438,2,   1.862,2,  -1.431,2,  19.7338,2,-999.000,9, -999.00,9, -999.00,   7.530,2,   0.010,   64.69,2,    4.30,2, -33.9996,  70.8412,   0.000,   0.197,20090417,       1736
33RR20090320,        I05,      95,          2,         34,         34,2,20090417,       1531,   -33.9994,    70.8412,       4671,    51.9,  19.6944,  35.5236,2,  35.5139,2,    230.7,2,   229.4,2,    1.35,2,    0.09,2,    0.00,2,    0.16,2,   2.200,2,   1.323,2,   1.2950,2,  2058.6,2,  2333.7,2,   8.0722,2,    20.00,   0.451,2,   1.816,2,  -0.849,2,  19.6867,2,-999.000,9, -999.00,9, -999.00,   7.393,2,   0.007,   63.90,2,    3.92,2, -33.9997,  70.8412,   0.000,   0.193,20090417,       1734
33RR20090320,        I05,      95,          2,         33,         33,2,20090417,       1531,   -33.9994,    70.8412,       4671,    77.2,  16.4744,  35.3782,2,  35.3631,2,    259.4,2,   259.8,2,    1.54,2,    0.09,2,    0.00,2,    0.20,2,   2.780,2,   1.602,2,   1.3600,2,  2067.1,2,  2327.0,2,   8.0451,2,    20.00,   0.426,2,   1.856,2,  -1.672,2,  16.4798,2,-999.000,9, -999.00,9, -999.00,   7.657,2,   0.010,   62.15,2,    4.14,2, -33.9997,  70.8412,   0.000,   0.196,20090417,       1732
33RR20090320,        I05,      95,          2,         32,         32,2,20090417,       1531,   -33.9994,    70.8412,       4671,   102.5,  14.1707,  35.2673,2,  35.2653,2,    247.3,2,   248.0,2,    2.16,2,    2.74,2,    0.12,2,    0.39,2,   2.953,2,   1.692,2,   1.4620,2,  2091.6,2,  2320.3,2,   7.9949,2,    20.00,   0.397,2,   1.849,2,  -1.551,2,  14.1713,2,   1.252,2,    44.5,2,     3.7,   7.648,2,   0.011,   58.47,2,    7.00,2, -33.9997,  70.8411,   0.001,   0.199,20090417,       1730
33RR20090320,        I05,      95,          2,         31,         31,2,20090417,       1531,   -33.9994,    70.8412,       4671,   152.2,  13.1397,  35.1821,2,  35.1799,2,    238.8,2,   237.5,2,    2.98,2,    6.83,2,    0.01,2,    0.60,2,   3.026,2,   1.702,2,   1.3960,2,  2101.5,2,  2315.0,2,   7.9554,2,    20.00,   0.359,2,   1.694,2,  -2.795,3,  13.1404,2,-999.000,9, -999.00,9, -999.00,   7.301,2,   0.011,   53.93,2,   10.39,2, -33.9997,  70.8411,   0.001,   0.198,20090417,       1728
33RR20090320,        I05,      95,          2,         30,         30,2,20090417,       1531,   -33.9994,    70.8412,       4671,   201.4,  12.8787,  35.1820,2,  35.1806,2,    237.9,2,   238.1,2,    3.59,2,    8.10,2,    0.00,2,    0.65,2,   3.120,2,   1.753,2,   1.4620,2,  2105.9,2,  2312.7,2,   7.9459,2,    20.00,   0.375,2,-999.000,9,-999.000,9,  12.8809,2,   1.008,2,   47.55,2,     3.2,-999.000,9,-999.000,   52.72,2,   10.81,2, -33.9997,  70.8411,-999.000,-999.000,20090417,       1726
33RR20090320,        I05,      95,          2,         29,         29,2,20090417,       1531,   -33.9994,    70.8412,       4671,   252.5,  12.5542,  35.1453,2,  35.1446,2,    239.0,2,   239.5,2,    3.79,2,    8.88,2,    0.00,2,    0.70,2,   3.106,2,   1.736,2,   1.3940,2,  2106.5,2,  2312.7,2,   7.9395,2,    20.00,   0.360,2,   1.911,2,  -0.703,2,  12.5534,2,-999.000,9, -999.00,9, -999.00,   7.939,2,   0.011,   52.23,2,   11.76,2, -33.9997,  70.8412,   0.000,   0.197,20090417,       1724
33RR20090320,        I05,      95,          2,         28,         28,2,20090417,       1531,   -33.9994,    70.8412,       4671,   300.7,  12.3346,  35.1199,2,  35.1193,2,    240.0,2,   240.0,2,    3.98,2,    9.52,2,    0.00,2,    0.73,2,   3.162,2,   1.772,2,   1.3820,2,  2108.3,2,  2310.3,2,   7.9339,2,    20.00,-999.000,9,-999.000,9,-999.000,9,  12.3343,2,   1.004,2,   44.29,2,       3,-999.000,9,-999.000,   51.00,2,   12.13,2, -33.9997,  70.8412,-999.000,-999.000,20090417,       1722
33RR20090320,        I05,      95,          2,         27,         27,2,20090417,       1531,   -33.9994,    70.8412,       4671,   351.8,  12.1892,  35.0986,2,  35.1193,2,    242.6,2,   240.8,2,    3.97,2,    9.83,2,    0.00,2,    0.75,2,   3.171,2,   1.766,2,   1.4650,2,  2108.5,2,  2309.7,2,   7.9313,2,    20.00,-999.000,9,-999.000,9,-999.000,9,  12.1885,2,-999.000,9, -999.00,9, -999.00,-999.000,9,-999.000,   49.54,2,   12.71,2, -33.9997,  70.8412,-999.000,-999.000,20090417,       1720
33RR20090320,        I05,      95,          2,         26,         26,2,20090417,       1531,   -33.9994,    70.8412,       4671,   401.8,  12.1011,  35.0897,2,  35.0900,2,    245.0,2,   241.7,2,    4.17,2,    9.98,2,    0.00,2,    0.77,2,   3.207,2,   1.784,2,   1.4520,2,  2109.0,2,  2308.7,2,   7.9302,2,    20.00,   0.355,2,   1.873,2,  -1.436,2,  12.1020,2,   1.027,2,   41.65,2,       3,   7.845,2,   0.013,   48.49,2,   12.70,2, -33.9997,  70.8413,   0.001,   0.199,20090417,       1718
33RR20090320,        I05,      95,          2,         25,         25,2,20090417,       1531,   -33.9994,    70.8412,       4671,   501.8,  11.6363,  35.0106,2,  35.0106,2,    239.1,2,   240.5,2,    4.36,2,   11.24,2,    0.00,2,    0.85,2,   3.289,2,   1.797,2,   1.3900,2,  2112.4,2,  2306.0,2,   7.9160,2,    20.00,   0.312,2,   1.914,2,  -1.379,2,  11.6342,2,   1.029,2,   51.08,2,     3.2,   8.011,2,   0.011,   46.57,2,   12.61,2, -33.9997,  70.8413,   0.000,   0.195,20090417,       1715
33RR20090320,        I05,      95,          2,         24,         24,2,20090417,       1531,   -33.9994,    70.8412,       4671,   600.9,  11.1170,  34.9289,2,  34.9292,2,    238.9,2,   239.8,2,    4.56,2,   12.55,2,    0.00,2,    0.93,2,   3.346,2,   1.816,2,   1.3490,2,  2115.6,2,  2301.7,2,   7.9014,2,    20.00,-999.000,9,-999.000,9,-999.000,9,  11.1160,2,   1.097,2,   46.52,2,     2.8,-999.000,9,-999.000,   45.62,2,   14.53,2, -33.9997,  70.8412,-999.000,-999.000,20090417,       1713
33RR20090320,        I05,      95,          2,         23,         23,2,20090417,       1531,   -33.9994,    70.8412,       4671,   701.5,  10.5723,  34.8530,2,  34.8531,2,    232.2,2,   233.9,2,    5.17,2,   14.23,2,    0.00,2,    1.03,2,   3.408,6,   1.806,6,   1.1320,6,  2121.9,2,  2300.3,2,   7.8818,2,    20.00,   0.281,2,   1.709,2,   0.739,2,  10.5711,2,   1.109,2,   41.53,2,     2.8,   7.185,2,   0.011,   44.73,2,   15.95,2, -33.9997,  70.8413,   0.001,   0.199,20090417,       1709
33RR20090320,        I05,      95,          2,         22,         22,2,20090417,       1531,   -33.9994,    70.8412,       4671,   802.7,   9.5854,  34.7243,2,  34.7263,2,    223.5,2,   223.6,2,    7.46,2,   17.38,2,    0.00,2,    1.24,2,   3.280,2,   1.695,2,   0.9160,2,  2133.0,2,  2295.3,2,   7.8462,2,    20.00,-999.000,9,-999.000,9,-999.000,9,   9.5885,2,   1.149,2,   36.62,2,       3,-999.000,9,-999.000,   43.82,2,   18.76,2, -33.9997,  70.8414,-999.000,-999.000,20090417,       1706
33RR20090320,        I05,      95,          2,         21,         21,2,20090417,       1531,   -33.9994,    70.8412,       4671,   897.2,   8.4116,  34.6034,2,  34.6043,2,    211.0,2,   210.7,2,   11.62,2,   21.36,2,    0.00,2,    1.49,2,   2.947,2,   1.472,2,   0.7030,2,  2149.9,2,  2290.9,2,   7.7998,2,    20.00,   0.177,2,   1.860,2,   1.414,2,   8.4046,2,   1.117,2,   15.96,2,     2.9,   7.935,2,   0.011,   42.80,2,   22.75,2, -33.9997,  70.8414,   0.000,   0.197,20090417,       1703
33RR20090320,        I05,      95,          2,         20,         20,2,20090417,       1531,   -33.9994,    70.8412,       4671,   997.6,   6.9306,  34.4759,2,  34.4762,2,    204.9,2,   204.5,2,   17.46,2,   25.47,2,    0.00,2,    1.78,2,   2.439,2,   1.203,2,   0.5250,2,  2165.4,2,  2291.7,2,   7.7544,2,    20.00,-999.000,9,-999.000,9,-999.000,9,   6.9288,2,   1.088,2,  -14.06,2,     2.7,-999.000,9,-999.000,   42.08,2,   27.03,2, -33.9998,  70.8415,-999.000,-999.000,20090417,       1700
33RR20090320,        I05,      95,          2,         19,         19,2,20090417,       1531,   -33.9994,    70.8412,       4671,  1098.2,   5.5039,  34.3852,2,  34.3871,2,    204.8,2,   205.4,2,   25.00,2,   28.64,2,    0.00,2,    2.01,2,   2.223,2,   1.087,2,   0.4290,2,  2179.4,2,  2292.5,2,   7.7192,2,    20.00,   0.068,2,   1.932,2,   2.549,2,   5.5025,2,   1.023,2,  -46.31,2,     2.8,   8.233,2,   0.011,   41.44,2,   30.03,2, -33.9999,  70.8414,   0.001,   0.199,20090417,       1657
33RR20090320,        I05,      95,          2,         18,         18,2,20090417,       1531,   -33.9994,    70.8412,       4671,  1197.3,   4.5487,  34.3662,2,  34.3665,2,    201.1,2,   200.4,2,   33.81,2,   30.82,2,    0.00,2,    2.18,2,   1.729,2,   0.846,2,   0.3400,2,  2193.8,2,  2299.5,2,   7.6930,2,    20.00,-999.000,9,   1.929,2,   3.774,2,   4.5706,2,   0.881,2,  -73.88,2,     3.2,   8.712,2,   0.024,   40.88,2,   32.53,2, -33.9999,  70.8414,   0.000,   0.197,20090417,       1654
33RR20090320,        I05,      95,          2,         17,         17,2,20090417,       1531,   -33.9994,    70.8412,       4671,  1299.1,   3.9015,  34.3927,2,  34.3925,2,    190.7,2,   190.3,2,   44.34,2,   32.52,2,    0.00,2,    2.31,2,   1.202,2,   0.582,2,   0.2010,2,  2210.9,2,  2309.6,2,   7.6699,2,    20.00,-999.000,9,   1.919,2,   5.049,2,   3.8995,2,   0.862,2, -100.92,2,     3.3,   8.283,2,   0.012,   40.07,2,   34.24,2, -33.9998,  70.8415,   0.000,   0.198,20090417,       1651
33RR20090320,        I05,      95,          2,         16,         16,2,20090417,       1531,   -33.9994,    70.8412,       4671,  1398.5,   3.5586,  34.4298,2,  34.4296,2,    180.9,2,   181.6,2,   52.36,2,   33.47,2,    0.00,2,    2.39,2,   0.881,2,   0.421,2,   0.1860,2,  2224.4,2,  2315.9,2,   7.6546,2,    20.00,-999.000,9,-999.000,9,-999.000,9,   3.5606,2,   0.718,2, -118.76,2,     2.5,-999.000,9,-999.000,   39.73,2,   34.81,2, -33.9999,  70.8416,-999.000,-999.000,20090417,       1648
33RR20090320,        I05,      95,          2,         15,         15,2,20090417,       1531,   -33.9994,    70.8412,       4671,  1498.5,   3.2948,  34.4861,2,  34.4853,2,    171.5,2,   171.6,2,   61.45,2,   34.10,2,    0.00,2,    2.44,2,   0.496,2,   0.238,2,   0.0640,2,  2239.1,2,  2326.5,2,   7.6430,2,    20.00,-999.000,9,   1.945,2,   8.412,2,   3.2964,2,   0.648,2, -131.55,2,     2.9,   8.166,2,   0.013,   39.60,2,   35.95,2, -33.9999,  70.8416,   0.001,   0.204,20090417,       1645
33RR20090320,        I05,      95,          2,         14,         14,2,20090417,       1531,   -33.9994,    70.8412,       4671,  1600.6,   3.1019,  34.5231,2,  34.5223,2,    169.0,2,   169.3,2,   66.33,2,   34.15,2,    0.00,2,    2.44,2,   0.364,2,   0.173,2,   0.0000,2,  2242.2,2,  2328.9,2,   7.6396,2,    20.00,-999.000,9,   1.989,2,   8.602,2,   3.1017,2,-999.000,9, -999.00,9, -999.00,   8.768,2,   0.013,   39.73,2,   35.53,2, -33.9998,  70.8417,   0.001,   0.202,20090417,       1643
33RR20090320,        I05,      95,          2,         13,         13,2,20090417,       1531,   -33.9994,    70.8412,       4671,  1796.6,   2.7357,  34.6102,2,  34.6095,2,    170.5,2,   171.2,2,   73.54,2,   33.52,2,    0.00,2,    2.39,2,   0.180,2,   0.083,2,   0.0260,2,  2250.3,6,  2337.9,2,   7.6450,2,    20.00,   0.001,2,   1.795,2,  10.210,2,   2.7356,2,-999.000,9, -999.00,9, -999.00,   7.773,2,   0.014,   40.03,2,   35.35,2, -34.0001,  70.8417,   0.001,   0.214,20090417,       1638
33RR20090320,        I05,      95,          2,         12,         12,2,20090417,       1531,   -33.9994,    70.8412,       4671,  1999.3,   2.5355,  34.6673,2,  34.6665,2,    176.4,2,   176.3,2,   77.37,2,   32.55,2,    0.00,2,    2.31,2,   0.092,2,   0.043,2,   0.0000,2,  2250.2,2,  2342.7,2,   7.6576,2,    20.00,-999.000,9,-999.000,9,-999.000,9,   2.5347,2,-999.000,9, -999.00,9, -999.00,-999.000,9,-999.000,   39.88,2,   34.23,2, -34.0001,  70.8418,-999.000,-999.000,20090417,       1633
33RR20090320,        I05,      95,          2,         11,         11,2,20090417,       1531,   -33.9994,    70.8412,       4671,  2245.1,   2.2388,  34.7176,2,  34.7186,2,    182.3,2,   182.2,2,   87.59,2,   31.85,2,    0.00,2,    2.26,2,   0.027,2,   0.015,2,   0.0000,2,  2258.0,2,  2354.6,2,   7.6744,2,    20.00,-999.000,9,   1.988,2,  11.576,2,   2.2384,2,-999.000,9, -999.00,9, -999.00,   8.784,2,   0.013,   39.89,2,   33.79,2, -34.0002,  70.8418,   0.001,   0.199,20090417,       1627
33RR20090320,        I05,      95,          2,         10,         10,2,20090417,       1531,   -33.9994,    70.8412,       4671,  2498.5,   2.0226,  34.7285,2,  34.6667,4,    179.4,2,   179.4,2,  102.13,2,   32.44,2,    0.00,2,    2.32,2,   0.006,2,   0.005,2,   0.0000,2,  2271.9,2,  2368.1,2,   7.6776,2,    20.00,-999.000,9,   2.003,2,  11.786,2,   2.0226,2,-999.000,9, -999.00,9, -999.00,   8.958,2,   0.018,   39.87,2,   34.24,2, -34.0002,  70.8420,   0.000,   0.199,20090417,       1621
33RR20090320,        I05,      95,          2,          9,          9,2,20090417,       1531,   -33.9994,    70.8412,       4671,  2751.1,   1.8749,  34.7297,2,  34.7294,2,    178.0,2,   177.1,2,  111.56,2,   32.92,2,    0.00,2,    2.36,2,   0.003,6,   0.004,6,   0.0000,6,  2279.8,2,  2377.5,2,   7.6766,2,    20.00,-999.000,9,   1.930,2,  13.414,2,   1.8746,2,-999.000,9, -999.00,9, -999.00,   8.068,2,   0.012,   39.70,2,   34.46,2, -34.0000,  70.8421,   0.001,   0.205,20090417,       1615
33RR20090320,        I05,      95,          2,          8,          8,2,20090417,       1531,   -33.9994,    70.8412,       4671,  2996.8,   1.7492,  34.7281,2,  34.7279,2,    179.0,2,   178.3,2,  116.50,2,   33.18,2,    0.00,2,    2.38,2,   0.003,2,   0.003,2,   0.0160,2,  2281.8,2,  2380.6,2,   7.6761,2,    20.00,-999.000,9,-999.000,9,-999.000,9,   1.7488,2,-999.000,9, -999.00,9, -999.00,-999.000,9,-999.000,   39.90,2,   35.16,2, -34.0000,  70.8420,-999.000,-999.000,20090417,       1609
33RR20090320,        I05,      95,          2,          7,          7,2,20090417,       1531,   -33.9994,    70.8412,       4671,  3297.3,   1.5617,  34.7233,2,  34.7240,2,    182.9,2,   182.8,2,  120.80,2,   33.18,2,    0.00,2,    2.37,2,   0.002,2,   0.003,2,   0.0000,2,  2280.9,2,  2380.0,2,-999.0000,5,    20.00,   0.038,2,   2.049,2,  12.179,2,   1.5618,2,-999.000,9, -999.00,9, -999.00,   9.031,2,   0.015,   40.07,2,   34.38,2, -34.0001,  70.8419,   0.001,   0.204,20090417,       1603
33RR20090320,        I05,      95,          2,          6,          6,2,20090417,       1531,   -33.9994,    70.8412,       4671,  3600.3,   1.3522,  34.7165,2,  34.7159,2,    189.3,2,   189.6,2,  123.36,2,   33.12,2,    0.00,2,    2.37,2,   0.006,2,   0.007,2,   0.0000,2,  2278.8,2,  2377.9,2,   7.6797,2,    20.00,-999.000,9,-999.000,9,-999.000,9,   1.3520,2,-999.000,9, -999.00,9, -999.00,-999.000,9,-999.000,   39.66,2,   34.71,2, -34.0000,  70.8420,-999.000,-999.000,20090417,       1556
33RR20090320,        I05,      95,          2,          5,          5,2,20090417,       1531,   -33.9994,    70.8412,       4671,  3896.6,   1.1713,  34.7102,2,  34.7098,2,    196.0,2,   195.9,2,  124.87,2,   33.02,2,    0.00,2,    2.35,2,   0.008,2,   0.009,2,   0.0000,2,  2273.2,2,  2377.8,2,   7.6814,2,    20.00,-999.000,9,   2.101,2,   9.733,2,   1.1704,2,-999.000,9, -999.00,9, -999.00,   9.211,2,   0.017,   39.97,2,   34.42,2, -34.0001,  70.8415,   0.001,   0.206,20090417,       1550
33RR20090320,        I05,      95,          2,          4,          4,2,20090417,       1531,   -33.9994,    70.8412,       4671,  4200.6,   1.0214,  34.7053,2,  34.7042,2,    201.3,2,   201.4,2,  127.02,2,   32.85,2,    0.00,2,    2.34,2,   0.017,2,   0.014,2,   0.0320,2,  2271.3,2,  2374.2,2,   7.6833,2,    20.00,-999.000,9,-999.000,9,-999.000,9,   1.0214,2,-999.000,9, -999.00,9, -999.00,-999.000,9,-999.000,   40.15,2,   34.16,2, -33.9999,  70.8412,-999.000,-999.000,20090417,       1543
33RR20090320,        I05,      95,          2,          3,          3,2,20090417,       1531,   -33.9994,    70.8412,       4671,  4404.9,   0.9233,  34.7014,2,  34.7010,2,    205.0,2,   205.0,2,  128.09,2,   32.74,2,    0.00,2,    2.34,2,   0.019,2,   0.014,2,   0.0260,2,  2270.5,2,  2372.9,2,   7.6833,2,    20.00,   0.025,2,-999.000,9,-999.000,9,   0.9230,2,-999.000,9, -999.00,9, -999.00,-999.000,9,-999.000,   39.87,2,   34.40,2, -33.9997,  70.8415,-999.000,-999.000,20090417,       1539
33RR20090320,        I05,      95,          2,          2,          2,2,20090417,       1531,   -33.9994,    70.8412,       4671,  4639.8,   0.8801,  34.6990,2,  34.6983,2,    207.7,2,   207.0,2,  128.94,2,   32.74,2,    0.00,2,    2.34,2,   0.024,2,   0.016,2,   0.0260,2,  2272.1,2,  2370.6,2,   7.6837,2,    20.00,-999.000,9,-999.000,9,-999.000,9,   0.8798,2,-999.000,9, -999.00,9, -999.00,-999.000,9,-999.000,   40.37,2,   34.06,2, -33.9995,  70.8414,-999.000,-999.000,20090417,       1534
33RR20090320,        I05,      95,          2,          1,          1,2,20090417,       1531,   -33.9994,    70.8412,       4671,  4740.9,   0.8896,  34.6990,2,  34.6985,2,    206.6,2,   207.3,2,  128.72,2,   32.74,2,    0.00,2,    2.33,2,   0.025,6,   0.016,6,   0.0220,6,  2270.0,6,  2372.1,2,   7.6828,2,    20.00,   0.051,2,   2.001,2,   8.581,2,   0.8893,2,-999.000,9, -999.00,9, -999.00,   8.931,2,   0.014,   39.89,2,   34.43,2, -33.9994,  70.8412,   0.001,   0.202,20090417,       1531