BOTTLE,20220814CCHSIOAMB
EXPOCODE,SECT_ID,STNNBR,CASTNO,SAMPNO,BTLNBR,BTLNBR_FLAG_W,DATE,TIME,LATITUDE,LONGITUDE,DEPTH,CTDPRS,CTDTMP,CTDSAL,CTDSAL_FLAG_W,SALNTY,SALNTY_FLAG_W,CTDOXY,CTDOXY_FLAG_W,OXYGEN,OXYGEN_FLAG_W,SILCAT,SILCAT_FLAG_W,NITRAT,NITRAT_FLAG_W,NITRIT,NITRIT_FLAG_W,PHSPHT,PHSPHT_FLAG_W,CFC-11,CFC-11_FLAG_W,CFC-12,CFC-12_FLAG_W,SF6,SF6_FLAG_W,TCARBN,TCARBN_FLAG_W,ALKALI,ALKALI_FLAG_W,PH_TOT,PH_TOT_FLAG_W,PH_TMP,TRITUM,TRITUM_FLAG_W,HELIUM,HELIUM_FLAG_W,DELHE3,DELHE3_FLAG_W,REFTMP,REFTMP_FLAG_W,DELC13,DELC13_FLAG_W,DELC14,DELC14_FLAG_W,C14ERR,NEON,NEON_FLAG_W,NEONER,DOC,DOC_FLAG_W,TDN,TDN_FLAG_W,BTL_LAT,BTL_LON,HELIER,DELHER,BTL_DATE,BTL_TIME
,,,,,,,,,,,METERS,DBAR,ITS-90,PSS-78,,PSS-78,,UMOL/KG,,UMOL/KG,,UMOL/KG,,UMOL/KG,,UMOL/KG,,UMOL/KG,,PMOL/KG,,PMOL/KG,,FMOL/KG,,UMOL/KG,,UMOL/KG,,,,DEG C,TU,,NMOL/KG,,PERCNT,,DEG C,,/MILLE,,/MILLE,,/MILLE,NMOL/KG,,NMOL/KG,UMOL/KG,,UMOL/KG,,,,NMOL/KG,PERCNT,,
33RR20090320,        I05,      37,          1,         36,         36,2,20090401,       1411,   -32.9980,    42.8326,       3527,     3.8,  23.0770,  35.6479,2,  35.6483,2,    216.7,2,   217.3,2,    1.71,2,    0.13,2,    0.00,2,    0.04,2,-999.000,9,-999.000,9,-999.0000,9,  2027.4,6,  2335.3,2,   8.1226,2,    20.00,-999.000,9,-999.000,9,-999.000,9,  23.0751,2,-999.000,9, -999.00,9, -999.00,-999.000,9,-999.000, -999.00,9, -999.00,9, -32.9978,  42.8328,-999.000,-999.000,20090401,       1604
33RR20090320,        I05,      37,          1,         35,         35,2,20090401,       1411,   -32.9980,    42.8326,       3527,    20.6,  22.5880,  35.6531,2,  35.6534,2,    219.5,2,   219.1,2,    1.70,2,    0.13,2,    0.00,2,    0.03,2,-999.000,9,-999.000,9,-999.0000,9,  2025.5,2,  2335.3,2,   8.1265,2,    20.00,-999.000,9,-999.000,9,-999.000,9,  22.5825,2,-999.000,9, -999.00,9, -999.00,-999.000,9,-999.000, -999.00,9, -999.00,9, -32.9978,  42.8328,-999.000,-999.000,20090401,       1603
33RR20090320,        I05,      37,          1,         34,         34,2,20090401,       1411,   -32.9980,    42.8326,       3527,    41.2,  22.2051,  35.6535,2,  35.6524,2,    222.0,2,   221.3,2,    1.69,2,    0.13,2,    0.00,2,    0.03,2,-999.000,9,-999.000,9,-999.0000,9,  2029.5,2,  2334.9,2,   8.1193,2,    20.00,-999.000,9,-999.000,9,-999.000,9,  22.2023,2,-999.000,9, -999.00,9, -999.00,-999.000,9,-999.000, -999.00,9, -999.00,9, -32.9978,  42.8328,-999.000,-999.000,20090401,       1601
33RR20090320,        I05,      37,          1,         33,         33,2,20090401,       1411,   -32.9980,    42.8326,       3527,    66.9,  19.7885,  35.5799,2,  35.5818,2,    241.5,2,   241.2,2,    1.68,2,    0.14,2,    0.00,2,    0.06,2,-999.000,9,-999.000,9,-999.0000,9,  2032.8,2,  2332.1,2,   8.1069,2,    20.00,-999.000,9,-999.000,9,-999.000,9,  19.8327,2,-999.000,9, -999.00,9, -999.00,-999.000,9,-999.000, -999.00,9, -999.00,9, -32.9979,  42.8329,-999.000,-999.000,20090401,       1559
33RR20090320,        I05,      37,          1,         32,         32,2,20090401,       1411,   -32.9980,    42.8326,       3527,    91.2,  18.1241,  35.5598,2,  35.5609,2,    226.3,2,   224.9,2,    2.46,2,    0.53,2,    0.05,2,    0.15,2,-999.000,9,-999.000,9,-999.0000,9,  -999.0,9,  -999.0,9,-999.0000,9,  -999.00,-999.000,9,-999.000,9,-999.000,9,  18.1422,2,-999.000,9, -999.00,9, -999.00,-999.000,9,-999.000, -999.00,9, -999.00,9, -32.9980,  42.8329,-999.000,-999.000,20090401,       1557
33RR20090320,        I05,      37,          1,         31,         31,2,20090401,       1411,   -32.9980,    42.8326,       3527,   115.9,  17.6493,  35.5593,2,  35.5581,2,    215.0,2,   216.9,2,    2.84,2,    1.91,2,    0.06,2,    0.23,2,-999.000,9,-999.000,9,-999.0000,9,  2067.9,2,  2328.3,2,   8.0425,2,    20.00,-999.000,9,-999.000,9,-999.000,9,  17.6528,2,-999.000,9, -999.00,9, -999.00,-999.000,9,-999.000, -999.00,9, -999.00,9, -32.9980,  42.8329,-999.000,-999.000,20090401,       1555
33RR20090320,        I05,      37,          1,         30,         30,2,20090401,       1411,   -32.9980,    42.8326,       3527,   141.4,  17.2762,  35.5538,2,  35.5534,2,    213.5,2,   213.8,2,    3.02,2,    2.86,2,    0.01,2,    0.26,2,-999.000,9,-999.000,9,-999.0000,9,  -999.0,9,  -999.0,9,-999.0000,9,  -999.00,-999.000,9,-999.000,9,-999.000,9,  17.2772,2,-999.000,9, -999.00,9, -999.00,-999.000,9,-999.000, -999.00,9, -999.00,9, -32.9981,  42.8330,-999.000,-999.000,20090401,       1554
33RR20090320,        I05,      37,          1,         29,         29,2,20090401,       1411,   -32.9980,    42.8326,       3527,   184.4,  16.7020,  35.5410,2,  35.5404,2,    209.6,2,   211.4,2,    3.40,2,    4.43,2,    0.01,2,    0.38,2,-999.000,9,-999.000,9,-999.0000,9,  2081.2,2,  2328.9,2,   8.0157,2,    20.00,-999.000,9,-999.000,9,-999.000,9,  16.7083,2,-999.000,9, -999.00,9, -999.00,-999.000,9,-999.000, -999.00,9, -999.00,9, -32.9981,  42.8330,-999.000,-999.000,20090401,       1550
33RR20090320,        I05,      37,          1,         28,         28,2,20090401,       1411,   -32.9980,    42.8326,       3527,   236.0,  16.0118,  35.4996,2,  35.4990,2,    203.1,2,   205.1,2,    3.98,2,    5.99,2,    0.00,2,    0.49,2,-999.000,9,-999.000,9,-999.0000,9,  -999.0,9,  -999.0,9,-999.0000,9,  -999.00,-999.000,9,-999.000,9,-999.000,9,  16.0136,2,-999.000,9, -999.00,9, -999.00,-999.000,9,-999.000, -999.00,9, -999.00,9, -32.9981,  42.8331,-999.000,-999.000,20090401,       1548
33RR20090320,        I05,      37,          1,         27,         27,2,20090401,       1411,   -32.9980,    42.8326,       3527,   286.4,  15.4615,  35.4623,2,  35.4625,2,    212.7,2,   210.8,2,    3.78,2,    6.32,2,    0.00,2,    0.50,2,-999.000,9,-999.000,9,-999.0000,9,  2097.0,2,  2324.6,2,   7.9841,2,    20.00,-999.000,9,-999.000,9,-999.000,9,  15.4647,2,-999.000,9, -999.00,9, -999.00,-999.000,9,-999.000, -999.00,9, -999.00,9, -32.9980,  42.8330,-999.000,-999.000,20090401,       1545
33RR20090320,        I05,      37,          1,         26,         26,2,20090401,       1411,   -32.9980,    42.8326,       3527,   334.6,  14.8162,  35.4185,2,  35.4124,2,    208.7,2,   208.2,2,    4.16,2,    7.67,2,    0.00,2,    0.59,2,-999.000,9,-999.000,9,-999.0000,9,  -999.0,9,  -999.0,9,-999.0000,9,  -999.00,-999.000,9,-999.000,9,-999.000,9,  14.8163,2,-999.000,9, -999.00,9, -999.00,-999.000,9,-999.000, -999.00,9, -999.00,9, -32.9980,  42.8330,-999.000,-999.000,20090401,       1543
33RR20090320,        I05,      37,          1,         25,         25,2,20090401,       1411,   -32.9980,    42.8326,       3527,   385.4,  14.2020,  35.3671,2,  35.3685,2,    208.5,2,   208.4,2,    4.55,2,    8.56,2,    0.00,2,    0.63,2,-999.000,9,-999.000,9,-999.0000,9,  -999.0,9,  -999.0,9,-999.0000,9,  -999.00,-999.000,9,-999.000,9,-999.000,9,  14.2043,2,-999.000,9, -999.00,9, -999.00,-999.000,9,-999.000, -999.00,9, -999.00,9, -32.9980,  42.8329,-999.000,-999.000,20090401,       1540
33RR20090320,        I05,      37,          1,         24,         24,2,20090401,       1411,   -32.9980,    42.8326,       3527,   435.1,  13.6623,  35.3020,2,  35.2993,2,    214.7,2,   215.6,2,    4.15,2,    9.23,2,    0.00,2,    0.66,2,-999.000,9,-999.000,9,-999.0000,9,  -999.0,9,  -999.0,9,-999.0000,9,  -999.00,-999.000,9,-999.000,9,-999.000,9,  13.6653,2,-999.000,9, -999.00,9, -999.00,-999.000,9,-999.000, -999.00,9, -999.00,9, -32.9979,  42.8328,-999.000,-999.000,20090401,       1538
33RR20090320,        I05,      37,          1,         23,         23,2,20090401,       1411,   -32.9980,    42.8326,       3527,   485.4,  13.1831,  35.2431,2,  35.2422,2,    217.1,2,   217.8,2,    4.34,2,   10.01,2,    0.00,2,    0.72,2,-999.000,9,-999.000,9,-999.0000,9,  -999.0,9,  -999.0,9,-999.0000,9,  -999.00,-999.000,9,-999.000,9,-999.000,9,  13.1765,2,-999.000,9, -999.00,9, -999.00,-999.000,9,-999.000, -999.00,9, -999.00,9, -32.9978,  42.8327,-999.000,-999.000,20090401,       1535
33RR20090320,        I05,      37,          1,         22,         22,2,20090401,       1411,   -32.9980,    42.8326,       3527,   565.0,  12.3331,  35.1265,2,  35.1248,2,    218.1,2,   218.3,2,    4.72,2,   11.75,2,    0.00,2,    0.82,2,-999.000,9,-999.000,9,-999.0000,9,  -999.0,9,  -999.0,9,-999.0000,9,  -999.00,-999.000,9,-999.000,9,-999.000,9,  12.3357,2,-999.000,9, -999.00,9, -999.00,-999.000,9,-999.000, -999.00,9, -999.00,9, -32.9977,  42.8327,-999.000,-999.000,20090401,       1532
33RR20090320,        I05,      37,          1,         21,         21,2,20090401,       1411,   -32.9980,    42.8326,       3527,   664.0,  11.2230,  34.9635,2,  34.9648,2,    217.4,2,   217.3,2,    5.49,2,   14.15,2,    0.00,2,    0.99,2,-999.000,9,-999.000,9,-999.0000,9,  -999.0,9,  -999.0,9,-999.0000,9,  -999.00,-999.000,9,-999.000,9,-999.000,9,  11.2242,2,-999.000,9, -999.00,9, -999.00,-999.000,9,-999.000, -999.00,9, -999.00,9, -32.9977,  42.8327,-999.000,-999.000,20090401,       1529
33RR20090320,        I05,      37,          1,         20,         20,2,20090401,       1411,   -32.9980,    42.8326,       3527,   765.2,   9.8994,  34.7884,2,  34.7862,2,    216.3,2,   214.6,2,    7.84,2,   17.28,2,    0.00,2,    1.20,2,-999.000,9,-999.000,9,-999.0000,9,  -999.0,9,  -999.0,9,-999.0000,9,  -999.00,-999.000,9,-999.000,9,-999.000,9,   9.8937,2,-999.000,9, -999.00,9, -999.00,-999.000,9,-999.000, -999.00,9, -999.00,9, -32.9977,  42.8327,-999.000,-999.000,20090401,       1525
33RR20090320,        I05,      37,          1,         19,         19,2,20090401,       1411,   -32.9980,    42.8326,       3527,   866.7,   8.3424,  34.6080,2,  34.6095,2,    207.3,2,   207.8,2,   12.52,2,   21.76,2,    0.00,2,    1.50,2,-999.000,9,-999.000,9,-999.0000,9,  -999.0,9,  -999.0,9,-999.0000,9,  -999.00,-999.000,9,-999.000,9,-999.000,9,   8.3534,2,-999.000,9, -999.00,9, -999.00,-999.000,9,-999.000, -999.00,9, -999.00,9, -32.9978,  42.8327,-999.000,-999.000,20090401,       1522
33RR20090320,        I05,      37,          1,         18,         18,2,20090401,       1411,   -32.9980,    42.8326,       3527,   965.5,   6.9993,  34.5068,2,  34.5062,2,    199.7,2,   199.5,2,   19.58,2,   25.64,2,    0.00,2,    1.78,2,-999.000,9,-999.000,9,-999.0000,9,  -999.0,9,  -999.0,9,-999.0000,9,  -999.00,-999.000,9,-999.000,9,-999.000,9,   7.0015,2,-999.000,9, -999.00,9, -999.00,-999.000,9,-999.000, -999.00,9, -999.00,9, -32.9979,  42.8327,-999.000,-999.000,20090401,       1519
33RR20090320,        I05,      37,          1,         17,         17,2,20090401,       1411,   -32.9980,    42.8326,       3527,  1065.5,   5.7153,  34.4245,2,  34.4212,2,    200.3,2,   201.6,2,   26.06,2,   28.34,2,    0.00,2,    1.98,2,-999.000,9,-999.000,9,-999.0000,9,  -999.0,9,  -999.0,9,-999.0000,9,  -999.00,-999.000,9,-999.000,9,-999.000,9,   5.7214,2,-999.000,9, -999.00,9, -999.00,-999.000,9,-999.000, -999.00,9, -999.00,9, -32.9980,  42.8327,-999.000,-999.000,20090401,       1515
33RR20090320,        I05,      37,          1,         16,         16,2,20090401,       1411,   -32.9980,    42.8326,       3527,  1167.4,   4.7380,  34.4040,2,  34.4026,2,    198.8,2,   197.0,2,   34.92,2,   30.44,2,    0.00,2,    2.15,2,-999.000,9,-999.000,9,-999.0000,9,  -999.0,9,  -999.0,9,-999.0000,9,  -999.00,-999.000,9,-999.000,9,-999.000,9,   4.7498,2,-999.000,9, -999.00,9, -999.00,-999.000,9,-999.000, -999.00,9, -999.00,9, -32.9980,  42.8326,-999.000,-999.000,20090401,       1512
33RR20090320,        I05,      37,          1,         15,         15,2,20090401,       1411,   -32.9980,    42.8326,       3527,  1266.5,   4.1376,  34.4273,2,  34.4258,2,    190.0,2,   186.8,2,   44.41,2,   32.19,2,    0.00,2,    2.27,2,-999.000,9,-999.000,9,-999.0000,9,  -999.0,9,  -999.0,9,-999.0000,9,  -999.00,-999.000,9,-999.000,9,-999.000,9,   4.1371,2,-999.000,9, -999.00,9, -999.00,-999.000,9,-999.000, -999.00,9, -999.00,9, -32.9980,  42.8327,-999.000,-999.000,20090401,       1509
33RR20090320,        I05,      37,          1,         14,         14,2,20090401,       1411,   -32.9980,    42.8326,       3527,  1367.5,   3.7685,  34.4680,2,  34.4670,2,    180.5,2,   179.7,2,   52.14,2,   32.99,2,    0.00,2,    2.33,2,-999.000,9,-999.000,9,-999.0000,9,  -999.0,9,  -999.0,9,-999.0000,9,  -999.00,-999.000,9,-999.000,9,-999.000,9,   3.7691,2,-999.000,9, -999.00,9, -999.00,-999.000,9,-999.000, -999.00,9, -999.00,9, -32.9980,  42.8327,-999.000,-999.000,20090401,       1506
33RR20090320,        I05,      37,          1,         13,         13,2,20090401,       1411,   -32.9980,    42.8326,       3527,  1462.7,   3.5421,  34.5049,2,  34.5041,2,    175.2,2,   175.2,2,   57.70,2,   33.33,2,    0.00,2,    2.36,2,-999.000,9,-999.000,9,-999.0000,9,  -999.0,9,  -999.0,9,-999.0000,9,  -999.00,-999.000,9,-999.000,9,-999.000,9,   3.5449,2,-999.000,9, -999.00,9, -999.00,-999.000,9,-999.000, -999.00,9, -999.00,9, -32.9980,  42.8327,-999.000,-999.000,20090401,       1503
33RR20090320,        I05,      37,          1,         12,         12,2,20090401,       1411,   -32.9980,    42.8326,       3527,  1564.1,   3.2503,  34.5599,2,  34.5598,2,    172.0,2,   171.7,2,   64.46,2,   33.49,2,    0.00,2,    2.36,2,-999.000,9,-999.000,9,-999.0000,9,  -999.0,9,  -999.0,9,-999.0000,9,  -999.00,-999.000,9,-999.000,9,-999.000,9,   3.2504,2,-999.000,9, -999.00,9, -999.00,-999.000,9,-999.000, -999.00,9, -999.00,9, -32.9979,  42.8326,-999.000,-999.000,20090401,       1500
33RR20090320,        I05,      37,          1,         11,         11,2,20090401,       1411,   -32.9980,    42.8326,       3527,  1663.6,   3.0602,  34.6077,2,  34.6046,2,    171.5,2,   171.5,2,   68.44,2,   33.10,2,    0.00,2,    2.34,2,-999.000,9,-999.000,9,-999.0000,9,  -999.0,9,  -999.0,9,-999.0000,9,  -999.00,-999.000,9,-999.000,9,-999.000,9,   3.0614,2,-999.000,9, -999.00,9, -999.00,-999.000,9,-999.000, -999.00,9, -999.00,9, -32.9979,  42.8326,-999.000,-999.000,20090401,       1457
33RR20090320,        I05,      37,          1,         10,         10,2,20090401,       1411,   -32.9980,    42.8326,       3527,  1763.0,   2.9373,  34.6475,2,  34.6459,2,    172.1,2,   172.8,2,   71.22,2,   32.64,2,    0.00,2,    2.31,2,-999.000,9,-999.000,9,-999.0000,9,  -999.0,9,  -999.0,9,-999.0000,9,  -999.00,-999.000,9,-999.000,9,-999.000,9,   2.9380,2,-999.000,9, -999.00,9, -999.00,-999.000,9,-999.000, -999.00,9, -999.00,9, -32.9979,  42.8325,-999.000,-999.000,20090401,       1454
33RR20090320,        I05,      37,          1,          9,          9,2,20090401,       1411,   -32.9980,    42.8326,       3527,  1936.5,   2.7866,  34.6944,2,  34.6933,2,    178.9,2,   178.4,2,   72.41,2,   31.69,2,    0.00,2,    2.24,2,-999.000,9,-999.000,9,-999.0000,9,  -999.0,9,  -999.0,9,-999.0000,9,  -999.00,-999.000,9,-999.000,9,-999.000,9,   2.7862,2,-999.000,9, -999.00,9, -999.00,-999.000,9,-999.000, -999.00,9, -999.00,9, -32.9979,  42.8325,-999.000,-999.000,20090401,       1449
33RR20090320,        I05,      37,          1,          8,          8,2,20090401,       1411,   -32.9980,    42.8326,       3527,  2133.1,   2.6516,  34.7430,2,  34.7426,2,    186.8,2,   186.9,2,   72.20,2,   30.38,2,    0.00,2,    2.15,2,-999.000,9,-999.000,9,-999.0000,9,  -999.0,9,  -999.0,9,-999.0000,9,  -999.00,-999.000,9,-999.000,9,-999.000,9,   2.6513,2,-999.000,9, -999.00,9, -999.00,-999.000,9,-999.000, -999.00,9, -999.00,9, -32.9980,  42.8326,-999.000,-999.000,20090401,       1445
33RR20090320,        I05,      37,          1,          7,          7,2,20090401,       1411,   -32.9980,    42.8326,       3527,  2334.5,   2.5074,  34.7798,2,  34.7792,2,    197.9,2,   198.3,2,   69.40,2,   28.91,2,    0.00,2,    2.02,2,-999.000,9,-999.000,9,-999.0000,9,  -999.0,9,  -999.0,9,-999.0000,9,  -999.00,-999.000,9,-999.000,9,-999.000,9,   2.5073,2,-999.000,9, -999.00,9, -999.00,-999.000,9,-999.000, -999.00,9, -999.00,9, -32.9979,  42.8325,-999.000,-999.000,20090401,       1440
33RR20090320,        I05,      37,          1,          6,          6,2,20090401,       1411,   -32.9980,    42.8326,       3527,  2531.9,   2.3740,  34.7951,2,  34.7950,2,    204.7,2,   205.1,2,   69.79,2,   28.24,2,    0.00,2,    1.95,2,-999.000,9,-999.000,9,-999.0000,9,  -999.0,9,  -999.0,9,-999.0000,9,  -999.00,-999.000,9,-999.000,9,-999.000,9,   2.3744,2,-999.000,9, -999.00,9, -999.00,-999.000,9,-999.000, -999.00,9, -999.00,9, -32.9979,  42.8325,-999.000,-999.000,20090401,       1435
33RR20090320,        I05,      37,          1,          5,          5,2,20090401,       1411,   -32.9980,    42.8326,       3527,  2733.7,   2.2705,  34.8010,2,  34.8017,2,    209.0,2,   209.6,2,   70.77,2,   27.90,2,    0.00,2,    1.94,2,-999.000,9,-999.000,9,-999.0000,9,  -999.0,9,  -999.0,9,-999.0000,9,  -999.00,-999.000,9,-999.000,9,-999.000,9,   2.2700,2,-999.000,9, -999.00,9, -999.00,-999.000,9,-999.000, -999.00,9, -999.00,9, -32.9979,  42.8326,-999.000,-999.000,20090401,       1430
33RR20090320,        I05,      37,          1,          4,          4,2,20090401,       1411,   -32.9980,    42.8326,       3527,  2914.7,   2.1660,  34.8019,2,  34.8011,2,    212.2,2,   211.9,2,   72.17,2,   27.79,2,    0.00,2,    1.91,2,-999.000,9,-999.000,9,-999.0000,9,  -999.0,9,  -999.0,9,-999.0000,9,  -999.00,-999.000,9,-999.000,9,-999.000,9,   2.1657,2,-999.000,9, -999.00,9, -999.00,-999.000,9,-999.000, -999.00,9, -999.00,9, -32.9979,  42.8327,-999.000,-999.000,20090401,       1426
33RR20090320,        I05,      37,          1,          3,          3,2,20090401,       1411,   -32.9980,    42.8326,       3527,  3204.6,   1.9464,  34.7926,2,  34.7928,2,    214.0,2,   213.9,2,   78.16,2,   28.18,2,    0.00,2,    1.97,2,-999.000,9,-999.000,9,-999.0000,9,  -999.0,9,  -999.0,9,-999.0000,9,  -999.00,-999.000,9,-999.000,9,-999.000,9,   1.9461,2,-999.000,9, -999.00,9, -999.00,-999.000,9,-999.000, -999.00,9, -999.00,9, -32.9980,  42.8327,-999.000,-999.000,20090401,       1420
33RR20090320,        I05,      37,          1,          2,          2,2,20090401,       1411,   -32.9980,    42.8326,       3527,  3448.2,   1.7883,  34.7820,2,  34.7818,2,    215.1,2,   215.1,2,   83.76,2,   28.64,2,    0.00,2,    1.99,2,-999.000,9,-999.000,9,-999.0000,9,  -999.0,9,  -999.0,9,-999.0000,9,  -999.00,-999.000,9,-999.000,9,-999.000,9,   1.7879,2,-999.000,9, -999.00,9, -999.00,-999.000,9,-999.000, -999.00,9, -999.00,9, -32.9981,  42.8326,-999.000,-999.000,20090401,       1415
33RR20090320,        I05,      37,          1,          1,          1,2,20090401,       1411,   -32.9980,    42.8326,       3527,  3565.7,   1.4997,  34.7643,2,  34.7644,2,    215.6,2,   215.6,2,   92.18,2,   29.43,2,    0.00,2,    2.02,2,-999.000,9,-999.000,9,-999.0000,9,  -999.0,9,  -999.0,9,-999.0000,9,  -999.00,-999.000,9,-999.000,9,-999.000,9,   1.4985,2,-999.000,9, -999.00,9, -999.00,-999.000,9,-999.000, -999.00,9, -999.00,9, -32.9980,  42.8326,-999.000,-999.000,20090401,       1411