BOTTLE,20220814CCHSIOAMB
EXPOCODE,SECT_ID,STNNBR,CASTNO,SAMPNO,BTLNBR,BTLNBR_FLAG_W,DATE,TIME,LATITUDE,LONGITUDE,DEPTH,CTDPRS,CTDTMP,CTDSAL,CTDSAL_FLAG_W,SALNTY,SALNTY_FLAG_W,CTDOXY,CTDOXY_FLAG_W,OXYGEN,OXYGEN_FLAG_W,SILCAT,SILCAT_FLAG_W,NITRAT,NITRAT_FLAG_W,NITRIT,NITRIT_FLAG_W,PHSPHT,PHSPHT_FLAG_W,CFC-11,CFC-11_FLAG_W,CFC-12,CFC-12_FLAG_W,SF6,SF6_FLAG_W,TCARBN,TCARBN_FLAG_W,ALKALI,ALKALI_FLAG_W,PH_TOT,PH_TOT_FLAG_W,PH_TMP,TRITUM,TRITUM_FLAG_W,HELIUM,HELIUM_FLAG_W,DELHE3,DELHE3_FLAG_W,REFTMP,REFTMP_FLAG_W,DELC13,DELC13_FLAG_W,DELC14,DELC14_FLAG_W,C14ERR,NEON,NEON_FLAG_W,NEONER,DOC,DOC_FLAG_W,TDN,TDN_FLAG_W,BTL_LAT,BTL_LON,HELIER,DELHER,BTL_DATE,BTL_TIME
,,,,,,,,,,,METERS,DBAR,ITS-90,PSS-78,,PSS-78,,UMOL/KG,,UMOL/KG,,UMOL/KG,,UMOL/KG,,UMOL/KG,,UMOL/KG,,PMOL/KG,,PMOL/KG,,FMOL/KG,,UMOL/KG,,UMOL/KG,,,,DEG C,TU,,NMOL/KG,,PERCNT,,DEG C,,/MILLE,,/MILLE,,/MILLE,NMOL/KG,,NMOL/KG,UMOL/KG,,UMOL/KG,,,,NMOL/KG,PERCNT,,
33RR20090320,        I05,       7,          1,         36,         36,2,20090325,       0609,   -31.3498,    30.7575,       2955,     9.1,  25.5763,  35.5046,2,  35.5042,2,    205.7,2,   205.8,2,    1.60,2,    0.08,2,    0.00,2,    0.06,2,-999.000,9,-999.000,9,-999.0000,9,  1996.5,6,  2323.8,2,   8.1723,2,    20.00,-999.000,9,-999.000,9,-999.000,9,  25.5757,2,-999.000,9, -999.00,9, -999.00,-999.000,9,-999.000, -999.00,9, -999.00,9, -31.3658,  30.7379,-999.000,-999.000,20090325,       0743
33RR20090320,        I05,       7,          1,         35,         35,2,20090325,       0609,   -31.3498,    30.7575,       2955,    24.4,  25.5481,  35.5017,2,  35.5014,2,    206.5,2,   206.5,2,    1.55,2,    0.00,2,    0.00,2,    0.04,2,-999.000,9,-999.000,9,-999.0000,9,  1996.7,2,  2324.3,2,   8.1723,2,    20.00,-999.000,9,-999.000,9,-999.000,9,  25.5478,2,-999.000,9, -999.00,9, -999.00,-999.000,9,-999.000, -999.00,9, -999.00,9, -31.3654,  30.7384,-999.000,-999.000,20090325,       0741
33RR20090320,        I05,       7,          1,         34,         34,2,20090325,       0609,   -31.3498,    30.7575,       2955,    44.0,  24.6302,  35.4256,2,  35.4279,2,    209.6,2,   209.7,2,    1.70,2,    0.08,2,    0.00,2,    0.06,2,-999.000,9,-999.000,9,-999.0000,9,  2003.2,2,  2319.4,2,   8.1567,2,    20.00,-999.000,9,-999.000,9,-999.000,9,  24.6297,2,-999.000,9, -999.00,9, -999.00,-999.000,9,-999.000, -999.00,9, -999.00,9, -31.3651,  30.7389,-999.000,-999.000,20090325,       0739
33RR20090320,        I05,       7,          1,         33,         33,2,20090325,       0609,   -31.3498,    30.7575,       2955,    68.8,  22.4083,  35.4739,2,  35.4709,2,    202.6,2,   212.3,2,    1.85,2,    0.08,2,    0.00,2,    0.11,2,-999.000,9,-999.000,9,-999.0000,9,  2026.2,2,  2322.2,2,   8.1216,2,    20.00,-999.000,9,-999.000,9,-999.000,9,  22.4073,2,-999.000,9, -999.00,9, -999.00,-999.000,9,-999.000, -999.00,9, -999.00,9, -31.3647,  30.7393,-999.000,-999.000,20090325,       0738
33RR20090320,        I05,       7,          1,         32,         32,2,20090325,       0609,   -31.3498,    30.7575,       2955,    93.7,  20.5535,  35.4912,2,  35.4861,2,    189.5,2,   189.4,2,    2.99,2,    3.17,2,    0.15,2,    0.30,2,-999.000,9,-999.000,9,-999.0000,9,  2057.9,2,  2322.0,2,   8.0640,2,    20.00,-999.000,9,-999.000,9,-999.000,9,  20.5467,2,-999.000,9, -999.00,9, -999.00,-999.000,9,-999.000, -999.00,9, -999.00,9, -31.3644,  30.7397,-999.000,-999.000,20090325,       0736
33RR20090320,        I05,       7,          1,         31,         31,2,20090325,       0609,   -31.3498,    30.7575,       2955,   118.9,  19.0806,  35.5368,2,  35.5370,2,    195.8,2,   193.6,2,    3.53,2,    3.78,2,    0.02,2,    0.34,2,-999.000,9,-999.000,9,-999.0000,9,  2071.6,2,  2327.1,2,   8.0464,2,    20.00,-999.000,9,-999.000,9,-999.000,9,  19.0824,2,-999.000,9, -999.00,9, -999.00,-999.000,9,-999.000, -999.00,9, -999.00,9, -31.3641,  30.7401,-999.000,-999.000,20090325,       0734
33RR20090320,        I05,       7,          1,         30,         30,2,20090325,       0609,   -31.3498,    30.7575,       2955,   143.7,  18.4342,  35.5493,2,  35.5487,2,    192.3,2,   197.6,2,    3.48,2,    3.83,2,    0.01,2,    0.35,2,-999.000,9,-999.000,9,-999.0000,9,  2076.7,2,  2326.9,2,   8.0379,2,    20.00,-999.000,9,-999.000,9,-999.000,9,  18.4376,2,-999.000,9, -999.00,9, -999.00,-999.000,9,-999.000, -999.00,9, -999.00,9, -31.3637,  30.7405,-999.000,-999.000,20090325,       0733
33RR20090320,        I05,       7,          1,         29,         29,2,20090325,       0609,   -31.3498,    30.7575,       2955,   169.0,  17.6076,  35.5531,2,  35.5520,2,    209.2,2,   208.8,2,    3.04,2,    3.45,2,    0.01,2,    0.34,2,-999.000,9,-999.000,9,-999.0000,9,  2076.0,2,  2328.2,2,   8.0377,2,    20.00,-999.000,9,-999.000,9,-999.000,9,  17.6134,2,-999.000,9, -999.00,9, -999.00,-999.000,9,-999.000, -999.00,9, -999.00,9, -31.3634,  30.7408,-999.000,-999.000,20090325,       0731
33RR20090320,        I05,       7,          1,         28,         28,2,20090325,       0609,   -31.3498,    30.7575,       2955,   193.9,  17.1884,  35.5518,2,  35.5510,2,    212.7,2,   214.0,2,    3.00,2,    3.64,2,    0.01,2,    0.34,2,-999.000,9,-999.000,9,-999.0000,9,  2076.5,2,  2326.1,2,   8.0355,2,    20.00,-999.000,9,-999.000,9,-999.000,9,  17.1874,2,-999.000,9, -999.00,9, -999.00,-999.000,9,-999.000, -999.00,9, -999.00,9, -31.3631,  30.7412,-999.000,-999.000,20090325,       0730
33RR20090320,        I05,       7,          1,         27,         27,2,20090325,       0609,   -31.3498,    30.7575,       2955,   218.6,  16.7771,  35.5442,2,  35.5436,2,    215.8,2,   217.6,2,    2.95,2,    4.00,2,    0.01,2,    0.36,2,-999.000,9,-999.000,9,-999.0000,9,  2078.2,2,  2328.9,2,   8.0310,2,    20.00,-999.000,9,-999.000,9,-999.000,9,  16.7711,2,-999.000,9, -999.00,9, -999.00,-999.000,9,-999.000, -999.00,9, -999.00,9, -31.3627,  30.7416,-999.000,-999.000,20090325,       0728
33RR20090320,        I05,       7,          1,         26,         26,2,20090325,       0609,   -31.3498,    30.7575,       2955,   243.0,  16.3547,  35.5219,2,  35.5213,2,    210.8,2,   208.0,2,    3.69,2,    5.32,2,    0.01,2,    0.45,2,-999.000,9,-999.000,9,-999.0000,9,  2089.5,2,  2326.9,2,   8.0059,2,    20.00,-999.000,9,-999.000,9,-999.000,9,  16.3433,2,-999.000,9, -999.00,9, -999.00,-999.000,9,-999.000, -999.00,9, -999.00,9, -31.3623,  30.7420,-999.000,-999.000,20090325,       0726
33RR20090320,        I05,       7,          1,         25,         25,2,20090325,       0609,   -31.3498,    30.7575,       2955,   289.0,  15.4739,  35.4567,2,  35.4576,2,    200.1,2,   198.5,2,    4.83,2,    7.47,2,    0.00,2,    0.59,2,-999.000,9,-999.000,9,-999.0000,9,  2109.3,2,  2325.9,2,   7.9707,2,    20.00,-999.000,9,-999.000,9,-999.000,9,  15.4750,2,-999.000,9, -999.00,9, -999.00,-999.000,9,-999.000, -999.00,9, -999.00,9, -31.3619,  30.7425,-999.000,-999.000,20090325,       0724
33RR20090320,        I05,       7,          1,         24,         24,2,20090325,       0609,   -31.3498,    30.7575,       2955,   339.2,  14.7092,  35.4112,2,  35.4053,2,    209.9,2,   208.8,2,    4.19,2,    7.74,2,    0.00,2,    0.61,2,-999.000,9,-999.000,9,-999.0000,9,  2110.7,2,  2315.1,3,   7.9619,2,    20.00,-999.000,9,-999.000,9,-999.000,9,  14.7043,2,-999.000,9, -999.00,9, -999.00,-999.000,9,-999.000, -999.00,9, -999.00,9, -31.3614,  30.7431,-999.000,-999.000,20090325,       0722
33RR20090320,        I05,       7,          1,         23,         23,2,20090325,       0609,   -31.3498,    30.7575,       2955,   388.6,  13.8706,  35.3355,2,  35.3377,2,    210.1,2,   212.1,2,    4.33,2,    8.83,2,    0.00,2,    0.66,2,-999.000,9,-999.000,9,-999.0000,9,  2115.1,2,  2319.8,2,   7.9472,2,    20.00,-999.000,9,-999.000,9,-999.000,9,  13.8894,2,-999.000,9, -999.00,9, -999.00,-999.000,9,-999.000, -999.00,9, -999.00,9, -31.3607,  30.7437,-999.000,-999.000,20090325,       0720
33RR20090320,        I05,       7,          1,         22,         22,2,20090325,       0609,   -31.3498,    30.7575,       2955,   438.7,  13.2462,  35.2635,2,  35.2648,2,    203.6,2,   216.3,2,    4.69,2,    9.84,2,    0.00,2,    0.72,2,-999.000,9,-999.000,9,-999.0000,9,  -999.0,9,  -999.0,9,   7.9357,2,    20.00,-999.000,9,-999.000,9,-999.000,9,  13.2407,2,-999.000,9, -999.00,9, -999.00,-999.000,9,-999.000, -999.00,9, -999.00,9, -31.3601,  30.7443,-999.000,-999.000,20090325,       0718
33RR20090320,        I05,       7,          1,         21,         21,2,20090325,       0609,   -31.3498,    30.7575,       2955,   488.2,  12.5397,  35.1575,2,  35.1557,2,    208.0,2,   204.9,2,    6.42,2,   12.32,2,    0.00,2,    0.89,2,-999.000,9,-999.000,9,-999.0000,9,  2130.0,2,  2314.7,2,   7.9031,2,    20.00,-999.000,9,-999.000,9,-999.000,9,  12.5375,2,-999.000,9, -999.00,9, -999.00,-999.000,9,-999.000, -999.00,9, -999.00,9, -31.3595,  30.7449,-999.000,-999.000,20090325,       0716
33RR20090320,        I05,       7,          1,         20,         20,2,20090325,       0609,   -31.3498,    30.7575,       2955,   568.3,  11.5922,  35.0276,2,  35.0287,2,    213.2,2,   215.0,2,    5.97,2,   13.23,2,    0.00,2,    0.95,2,-999.000,9,-999.000,9,-999.0000,9,  -999.0,9,  -999.0,9,-999.0000,5,    20.00,-999.000,9,-999.000,9,-999.000,9,  11.5934,2,-999.000,9, -999.00,9, -999.00,-999.000,9,-999.000, -999.00,9, -999.00,9, -31.3588,  30.7454,-999.000,-999.000,20090325,       0713
33RR20090320,        I05,       7,          1,         19,         19,2,20090325,       0609,   -31.3498,    30.7575,       2955,   668.6,  10.2289,  34.8451,2,  34.8454,2,    211.3,2,   212.1,2,    8.11,2,   16.46,2,    0.00,2,    1.16,2,-999.000,9,-999.000,9,-999.0000,9,  2139.1,2,  2300.6,2,   7.8552,2,    20.00,-999.000,9,-999.000,9,-999.000,9,  10.2302,2,-999.000,9, -999.00,9, -999.00,-999.000,9,-999.000, -999.00,9, -999.00,9, -31.3579,  30.7462,-999.000,-999.000,20090325,       0710
33RR20090320,        I05,       7,          1,         18,         18,2,20090325,       0609,   -31.3498,    30.7575,       2955,   769.5,   9.0078,  34.7190,2,  34.7188,2,    197.4,2,   193.2,2,   15.23,2,   20.89,2,    0.00,2,    1.48,2,-999.000,9,-999.000,9,-999.0000,9,  -999.0,9,  2300.4,2,   7.7996,2,    20.00,-999.000,9,-999.000,9,-999.000,9,   9.0229,2,-999.000,9, -999.00,9, -999.00,-999.000,9,-999.000, -999.00,9, -999.00,9, -31.3572,  30.7468,-999.000,-999.000,20090325,       0707
33RR20090320,        I05,       7,          1,         17,         17,2,20090325,       0609,   -31.3498,    30.7575,       2955,   870.1,   7.6705,  34.5996,2,  34.5995,2,    185.4,2,   187.5,2,   21.57,2,   24.23,2,    0.00,2,    1.74,2,-999.000,9,-999.000,9,-999.0000,9,  2176.6,2,  2299.0,2,   7.7586,2,    20.00,-999.000,9,-999.000,9,-999.000,9,   7.6695,2,-999.000,9, -999.00,9, -999.00,-999.000,9,-999.000, -999.00,9, -999.00,9, -31.3564,  30.7475,-999.000,-999.000,20090325,       0705
33RR20090320,        I05,       7,          1,         16,         16,2,20090325,       0609,   -31.3498,    30.7575,       2955,   970.3,   6.7135,  34.5877,2,  34.5832,2,    164.4,2,   163.7,2,   35.33,2,   28.18,2,    0.00,2,    2.05,2,-999.000,9,-999.000,9,-999.0000,9,  -999.0,9,  -999.0,9,-999.0000,5,    20.00,-999.000,9,-999.000,9,-999.000,9,   6.7044,2,-999.000,9, -999.00,9, -999.00,-999.000,9,-999.000, -999.00,9, -999.00,9, -31.3555,  30.7483,-999.000,-999.000,20090325,       0702
33RR20090320,        I05,       7,          1,         15,         15,2,20090325,       0609,   -31.3498,    30.7575,       2955,  1069.1,   5.9095,  34.6213,2,  34.6202,2,    143.3,2,   142.8,2,   50.18,2,   30.97,2,    0.00,2,    2.30,2,-999.000,9,-999.000,9,-999.0000,9,  2229.9,2,  2322.2,2,   7.6593,2,    20.00,-999.000,9,-999.000,9,-999.000,9,   5.9097,2,-999.000,9, -999.00,9, -999.00,-999.000,9,-999.000, -999.00,9, -999.00,9, -31.3547,  30.7490,-999.000,-999.000,20090325,       0659
33RR20090320,        I05,       7,          1,         14,         14,2,20090325,       0609,   -31.3498,    30.7575,       2955,  1169.1,   5.1596,  34.6174,2,  34.6166,2,    140.9,2,   140.8,2,   59.01,2,   32.23,2,    0.00,2,    2.40,2,-999.000,9,-999.000,9,-999.0000,9,  2244.1,6,  2329.4,2,   7.6429,2,    20.00,-999.000,9,-999.000,9,-999.000,9,   5.1582,2,-999.000,9, -999.00,9, -999.00,-999.000,9,-999.000, -999.00,9, -999.00,9, -31.3542,  30.7497,-999.000,-999.000,20090325,       0656
33RR20090320,        I05,       7,          1,         13,         13,2,20090325,       0609,   -31.3498,    30.7575,       2955,  1268.6,   4.7692,  34.6579,2,  34.6577,2,    134.3,2,   135.0,2,   67.66,2,   32.84,2,    0.00,2,    2.46,2,-999.000,9,-999.000,9,-999.0000,9,  2254.6,2,  2340.0,2,   7.6322,2,    20.00,-999.000,9,-999.000,9,-999.000,9,   4.7695,2,-999.000,9, -999.00,9, -999.00,-999.000,9,-999.000, -999.00,9, -999.00,9, -31.3537,  30.7502,-999.000,-999.000,20090325,       0654
33RR20090320,        I05,       7,          1,         12,         12,2,20090325,       0609,   -31.3498,    30.7575,       2955,  1367.9,   3.9403,  34.6591,2,  34.6597,2,    143.5,2,   145.1,2,   74.52,2,   32.83,2,    0.00,2,    2.45,2,-999.000,9,-999.000,9,-999.0000,9,  2259.9,2,  2344.7,2,   7.6367,2,    20.00,-999.000,9,-999.000,9,-999.000,9,   3.9329,2,-999.000,9, -999.00,9, -999.00,-999.000,9,-999.000, -999.00,9, -999.00,9, -31.3533,  30.7506,-999.000,-999.000,20090325,       0651
33RR20090320,        I05,       7,          1,         11,         11,2,20090325,       0609,   -31.3498,    30.7575,       2955,  1467.8,   3.2678,  34.6528,2,  34.6534,2,    154.7,2,   160.8,2,   74.87,2,   32.16,2,    0.00,2,    2.38,2,-999.000,9,-999.000,9,-999.0000,9,  -999.0,9,  -999.0,9,   7.6483,2,    20.00,-999.000,9,-999.000,9,-999.000,9,   3.2645,2,-999.000,9, -999.00,9, -999.00,-999.000,9,-999.000, -999.00,9, -999.00,9, -31.3528,  30.7510,-999.000,-999.000,20090325,       0648
33RR20090320,        I05,       7,          1,         10,         10,2,20090325,       0609,   -31.3498,    30.7575,       2955,  1565.5,   3.0548,  34.6762,2,  34.6766,2,    166.6,2,   166.3,2,   75.63,2,   31.63,2,    0.00,2,    2.33,2,-999.000,9,-999.000,9,-999.0000,9,  2256.3,2,  2345.7,2,   7.6561,2,    20.00,-999.000,9,-999.000,9,-999.000,9,   3.0542,2,-999.000,9, -999.00,9, -999.00,-999.000,9,-999.000, -999.00,9, -999.00,9, -31.3523,  30.7515,-999.000,-999.000,20090325,       0645
33RR20090320,        I05,       7,          1,          9,          9,2,20090325,       0609,   -31.3498,    30.7575,       2955,  1662.7,   2.8847,  34.7033,2,  34.7049,2,    171.2,2,   172.5,2,   75.58,2,   30.90,2,    0.00,2,    2.27,2,-999.000,9,-999.000,9,-999.0000,9,  -999.0,9,  -999.0,9,   7.6665,2,    20.00,-999.000,9,-999.000,9,-999.000,9,   2.8838,2,-999.000,9, -999.00,9, -999.00,-999.000,9,-999.000, -999.00,9, -999.00,9, -31.3520,  30.7519,-999.000,-999.000,20090325,       0642
33RR20090320,        I05,       7,          1,          8,          8,2,20090325,       0609,   -31.3498,    30.7575,       2955,  1758.3,   2.7953,  34.7261,2,  34.7256,2,    177.8,2,   178.4,2,   74.31,2,   30.13,2,    0.00,2,    2.22,2,-999.000,9,-999.000,9,-999.0000,9,  2250.9,2,  2347.7,2,   7.6773,2,    20.00,-999.000,9,-999.000,9,-999.000,9,   2.7955,2,-999.000,9, -999.00,9, -999.00,-999.000,9,-999.000, -999.00,9, -999.00,9, -31.3516,  30.7522,-999.000,-999.000,20090325,       0639
33RR20090320,        I05,       7,          1,          7,          7,2,20090325,       0609,   -31.3498,    30.7575,       2955,  1921.6,   2.7068,  34.7481,2,  34.7487,2,    186.6,2,   185.8,2,   71.83,2,   29.30,2,    0.00,2,    2.14,2,-999.000,9,-999.000,9,-999.0000,9,  -999.0,9,  -999.0,9,   7.6899,2,    20.00,-999.000,9,-999.000,9,-999.000,9,   2.7063,2,-999.000,9, -999.00,9, -999.00,-999.000,9,-999.000, -999.00,9, -999.00,9, -31.3514,  30.7526,-999.000,-999.000,20090325,       0635
33RR20090320,        I05,       7,          1,          6,          6,2,20090325,       0609,   -31.3498,    30.7575,       2955,  2113.5,   2.5796,  34.7771,2,  34.7772,2,    196.6,2,   196.7,2,   68.53,2,   28.04,2,    0.00,2,    2.03,2,-999.000,9,-999.000,9,-999.0000,9,  2236.3,2,  2344.9,2,   7.7077,2,    20.00,-999.000,9,-999.000,9,-999.000,9,   2.5787,2,-999.000,9, -999.00,9, -999.00,-999.000,9,-999.000, -999.00,9, -999.00,9, -31.3512,  30.7533,-999.000,-999.000,20090325,       0631
33RR20090320,        I05,       7,          1,          5,          5,2,20090325,       0609,   -31.3498,    30.7575,       2955,  2310.3,   2.5256,  34.7934,2,  34.7940,2,    203.9,2,   203.8,2,   65.44,2,   27.16,2,    0.00,2,    1.95,2,-999.000,9,-999.000,9,-999.0000,9,  -999.0,9,  -999.0,9,   7.7193,2,    20.00,-999.000,9,-999.000,9,-999.000,9,   2.5253,2,-999.000,9, -999.00,9, -999.00,-999.000,9,-999.000, -999.00,9, -999.00,9, -31.3512,  30.7539,-999.000,-999.000,20090325,       0626
33RR20090320,        I05,       7,          1,          4,          4,2,20090325,       0609,   -31.3498,    30.7575,       2955,  2508.3,   2.4431,  34.8050,2,  34.8056,2,    209.3,2,   209.5,2,   64.38,2,   26.68,2,    0.00,2,    1.89,2,-999.000,9,-999.000,9,-999.0000,9,  2227.1,2,  2342.8,2,   7.7284,2,    20.00,-999.000,9,-999.000,9,-999.000,9,   2.4425,2,-999.000,9, -999.00,9, -999.00,-999.000,9,-999.000, -999.00,9, -999.00,9, -31.3511,  30.7547,-999.000,-999.000,20090325,       0622
33RR20090320,        I05,       7,          1,          3,          3,2,20090325,       0609,   -31.3498,    30.7575,       2955,  2705.9,   2.3203,  34.8138,2,  34.8152,2,    214.5,2,   215.0,2,   64.93,2,   26.17,2,    0.00,2,    1.86,2,-999.000,9,-999.000,9,-999.0000,9,  2224.2,2,  2343.6,2,   7.7369,2,    20.00,-999.000,9,-999.000,9,-999.000,9,   2.3203,2,-999.000,9, -999.00,9, -999.00,-999.000,9,-999.000, -999.00,9, -999.00,9, -31.3507,  30.7557,-999.000,-999.000,20090325,       0617
33RR20090320,        I05,       7,          1,          2,          2,2,20090325,       0609,   -31.3498,    30.7575,       2955,  2839.4,   2.2222,  34.8145,2,  34.8168,2,    216.4,2,   217.2,2,   66.71,2,   26.06,2,    0.00,2,    1.86,2,-999.000,9,-999.000,9,-999.0000,9,  2224.3,2,  2344.1,2,   7.7391,2,    20.00,-999.000,9,-999.000,9,-999.000,9,   2.2214,2,-999.000,9, -999.00,9, -999.00,-999.000,9,-999.000, -999.00,9, -999.00,9, -31.3502,  30.7564,-999.000,-999.000,20090325,       0613
33RR20090320,        I05,       7,          1,          1,          1,2,20090325,       0609,   -31.3498,    30.7575,       2955,  2973.5,   1.9980,  34.8031,2,  34.8040,2,    216.9,2,   217.4,2,   73.76,2,   26.62,2,    0.00,2,    1.91,2,-999.000,9,-999.000,9,-999.0000,9,  2229.8,6,  2348.9,2,   7.7349,2,    20.00,-999.000,9,-999.000,9,-999.000,9,   1.9958,2,-999.000,9, -999.00,9, -999.00,-999.000,9,-999.000, -999.00,9, -999.00,9, -31.3499,  30.7573,-999.000,-999.000,20090325,       0609