BOTTLE,20220814CCHSIOAMB
EXPOCODE,SECT_ID,STNNBR,CASTNO,SAMPNO,BTLNBR,BTLNBR_FLAG_W,DATE,TIME,LATITUDE,LONGITUDE,DEPTH,CTDPRS,CTDTMP,CTDSAL,CTDSAL_FLAG_W,SALNTY,SALNTY_FLAG_W,CTDOXY,CTDOXY_FLAG_W,OXYGEN,OXYGEN_FLAG_W,SILCAT,SILCAT_FLAG_W,NITRAT,NITRAT_FLAG_W,NITRIT,NITRIT_FLAG_W,PHSPHT,PHSPHT_FLAG_W,CFC-11,CFC-11_FLAG_W,CFC-12,CFC-12_FLAG_W,SF6,SF6_FLAG_W,TCARBN,TCARBN_FLAG_W,ALKALI,ALKALI_FLAG_W,PH_TOT,PH_TOT_FLAG_W,PH_TMP,TRITUM,TRITUM_FLAG_W,HELIUM,HELIUM_FLAG_W,DELHE3,DELHE3_FLAG_W,REFTMP,REFTMP_FLAG_W,DELC13,DELC13_FLAG_W,DELC14,DELC14_FLAG_W,C14ERR,NEON,NEON_FLAG_W,NEONER,DOC,DOC_FLAG_W,TDN,TDN_FLAG_W,BTL_LAT,BTL_LON,HELIER,DELHER,BTL_DATE,BTL_TIME
,,,,,,,,,,,METERS,DBAR,ITS-90,PSS-78,,PSS-78,,UMOL/KG,,UMOL/KG,,UMOL/KG,,UMOL/KG,,UMOL/KG,,UMOL/KG,,PMOL/KG,,PMOL/KG,,FMOL/KG,,UMOL/KG,,UMOL/KG,,,,DEG C,TU,,NMOL/KG,,PERCNT,,DEG C,,/MILLE,,/MILLE,,/MILLE,NMOL/KG,,NMOL/KG,UMOL/KG,,UMOL/KG,,,,NMOL/KG,PERCNT,,
33RR20090320,        I05,     179,          2,         36,         36,2,20090508,       1514,   -31.4292,   108.4001,       5338,     6.9,  19.5358,  35.8679,2,  35.8668,2,    229.5,2,   230.1,2,    1.59,2,    0.09,2,    0.00,2,    0.10,2,   2.189,6,   1.321,6,   1.2010,6,  2061.3,6,  2352.9,2,   8.0990,2,    20.00,-999.000,9,-999.000,9,-999.000,9,  19.5191,2,-999.000,9, -999.00,9, -999.00,-999.000,9,-999.000,   68.01,2,    4.83,2, -31.4295, 108.4002,-999.000,-999.000,20090508,       1729
33RR20090320,        I05,     179,          2,         35,         35,2,20090508,       1514,   -31.4292,   108.4001,       5338,    30.0,  18.9335,  35.8450,2,  35.8430,2,    231.7,2,   232.4,2,    1.39,2,    0.10,2,    0.00,2,    0.10,2,   2.188,2,   1.342,2,   1.2140,2,  2062.6,2,  2352.4,2,   8.0936,2,    20.00,-999.000,9,-999.000,9,-999.000,9,  18.9289,2,-999.000,9, -999.00,9, -999.00,-999.000,9,-999.000,   67.28,2,    4.80,2, -31.4296, 108.4002,-999.000,-999.000,20090508,       1727
33RR20090320,        I05,     179,          2,         34,         34,2,20090508,       1514,   -31.4292,   108.4001,       5338,    56.0,  18.5185,  35.8560,2,  35.8558,2,    234.1,2,   233.4,2,    1.18,2,    0.10,2,    0.00,2,    0.10,2,   2.277,2,   1.368,2,   1.2190,2,  2068.1,2,  2354.7,2,   8.0877,2,    20.00,-999.000,9,-999.000,9,-999.000,9,  18.5152,2,-999.000,9, -999.00,9, -999.00,-999.000,9,-999.000,   65.71,2,    4.33,2, -31.4296, 108.4002,-999.000,-999.000,20090508,       1725
33RR20090320,        I05,     179,          2,         33,         33,2,20090508,       1514,   -31.4292,   108.4001,       5338,    80.5,  18.2422,  35.8533,2,  35.8509,2,    235.6,2,   234.5,2,    1.15,2,    0.10,2,    0.00,2,    0.11,2,   2.269,2,   1.380,2,   1.2600,2,  2069.8,2,  2353.6,2,   8.0839,2,    20.00,-999.000,9,-999.000,9,-999.000,9,  18.2395,2,-999.000,9, -999.00,9, -999.00,-999.000,9,-999.000,   65.71,2,    4.28,2, -31.4296, 108.4002,-999.000,-999.000,20090508,       1723
33RR20090320,        I05,     179,          2,         32,         32,2,20090508,       1514,   -31.4292,   108.4001,       5338,   105.0,  17.1503,  35.7214,2,  35.7257,2,    239.1,2,   238.5,2,    1.12,2,    0.12,2,    0.04,2,    0.14,2,   2.467,2,   1.469,2,   1.2510,2,  2073.5,2,  2347.5,2,   8.0664,2,    20.00,-999.000,9,-999.000,9,-999.000,9,  17.1041,2,-999.000,9, -999.00,9, -999.00,-999.000,9,-999.000,   61.63,2,    4.22,2, -31.4296, 108.4002,-999.000,-999.000,20090508,       1721
33RR20090320,        I05,     179,          2,         31,         31,2,20090508,       1514,   -31.4292,   108.4001,       5338,   155.9,  14.0927,  35.3671,2,  35.3664,2,    234.8,2,   235.1,2,    1.09,2,    4.16,2,    0.01,2,    0.40,2,   2.844,2,   1.669,2,   1.4790,2,  2098.0,2,  2326.2,2,   7.9902,2,    20.00,-999.000,9,-999.000,9,-999.000,9,  14.0952,2,-999.000,9, -999.00,9, -999.00,-999.000,9,-999.000,   56.34,2,    7.42,2, -31.4296, 108.4002,-999.000,-999.000,20090508,       1719
33RR20090320,        I05,     179,          2,         30,         30,2,20090508,       1514,   -31.4292,   108.4001,       5338,   205.0,  12.8570,  35.1939,2,  35.1975,2,    239.2,2,   241.4,2,    1.42,2,    6.38,2,    0.00,2,    0.55,2,   3.055,2,   1.760,2,   1.4400,2,  2105.3,2,  2316.5,2,   7.9607,2,    20.00,-999.000,9,-999.000,9,-999.000,9,  12.8530,2,-999.000,9, -999.00,9, -999.00,-999.000,9,-999.000,   52.28,2,    8.75,2, -31.4295, 108.4002,-999.000,-999.000,20090508,       1717
33RR20090320,        I05,     179,          2,         29,         29,2,20090508,       1514,   -31.4292,   108.4001,       5338,   255.3,  11.7893,  35.0287,2,  35.0232,2,    244.0,2,   244.1,2,    1.77,2,    8.73,2,    0.00,2,    0.69,2,   3.248,2,   1.843,2,   1.3850,2,  2113.5,2,  2308.6,2,   7.9316,2,    20.00,-999.000,9,-999.000,9,-999.000,9,  11.7897,2,-999.000,9, -999.00,9, -999.00,-999.000,9,-999.000,   50.26,2,   10.35,2, -31.4295, 108.4003,-999.000,-999.000,20090508,       1715
33RR20090320,        I05,     179,          2,         28,         28,2,20090508,       1514,   -31.4292,   108.4001,       5338,   305.1,  10.8726,  34.8840,2,  34.8879,2,    250.9,2,   248.3,2,    2.27,2,   10.62,2,    0.00,2,    0.80,2,   3.425,2,   1.917,2,   1.4010,2,  2115.4,2,  2302.5,2,   7.9106,2,    20.00,-999.000,9,-999.000,9,-999.000,9,  10.8796,2,-999.000,9, -999.00,9, -999.00,-999.000,9,-999.000,   48.96,2,   12.24,2, -31.4295, 108.4003,-999.000,-999.000,20090508,       1713
33RR20090320,        I05,     179,          2,         27,         27,2,20090508,       1514,   -31.4292,   108.4001,       5338,   355.4,  10.2179,  34.7791,2,  34.7813,2,    253.9,2,   251.1,2,    2.61,2,   12.34,2,    0.00,2,    0.92,2,   3.550,2,   1.969,2,   1.4340,2,  2117.2,2,  2294.9,2,   7.8940,2,    20.00,-999.000,9,-999.000,9,-999.000,9,  10.2221,2,-999.000,9, -999.00,9, -999.00,-999.000,9,-999.000,   48.22,2,   14.05,2, -31.4295, 108.4003,-999.000,-999.000,20090508,       1711
33RR20090320,        I05,     179,          2,         26,         26,2,20090508,       1514,   -31.4292,   108.4001,       5338,   405.0,   9.8596,  34.7350,2,  34.7341,2,    245.3,2,   245.0,2,    3.49,2,   14.18,2,    0.00,2,    1.02,2,   3.617,2,   1.990,2,   1.3330,2,  2123.8,2,  2293.8,2,   7.8734,2,    20.00,-999.000,9,-999.000,9,-999.000,9,   9.8624,2,-999.000,9, -999.00,9, -999.00,-999.000,9,-999.000,   46.64,2,   15.79,2, -31.4295, 108.4002,-999.000,-999.000,20090508,       1709
33RR20090320,        I05,     179,          2,         25,         25,2,20090508,       1514,   -31.4292,   108.4001,       5338,   506.1,   9.3380,  34.6808,2,  34.6805,2,    240.3,2,   241.9,2,    4.18,2,   16.07,2,    0.00,2,    1.14,2,   3.704,2,   2.000,2,   1.2660,2,  2128.8,2,  2290.9,2,   7.8553,2,    20.00,-999.000,9,-999.000,9,-999.000,9,   9.3353,2,-999.000,9, -999.00,9, -999.00,-999.000,9,-999.000,   45.65,2,   17.40,2, -31.4295, 108.4002,-999.000,-999.000,20090508,       1706
33RR20090320,        I05,     179,          2,         24,         24,2,20090508,       1514,   -31.4292,   108.4001,       5338,   604.8,   8.9539,  34.6348,2,  34.6339,2,    240.5,2,   241.3,2,    4.87,2,   17.24,2,    0.00,2,    1.21,2,   3.699,2,   1.963,2,   1.1620,2,  2134.0,2,  2289.1,2,   7.8448,2,    20.00,-999.000,9,-999.000,9,-999.000,9,   8.9532,2,-999.000,9, -999.00,9, -999.00,-999.000,9,-999.000,   44.67,2,   18.32,2, -31.4295, 108.4002,-999.000,-999.000,20090508,       1703
33RR20090320,        I05,     179,          2,         23,         23,2,20090508,       1514,   -31.4292,   108.4001,       5338,   706.4,   7.8753,  34.5143,2,  34.5172,2,    220.9,2,   219.6,2,    9.55,2,   21.81,2,    0.00,2,    1.51,2,   3.045,2,   1.571,2,   0.7460,2,  2151.2,2,  2287.8,2,   7.7947,2,    20.00,-999.000,9,-999.000,9,-999.000,9,   7.8595,2,-999.000,9, -999.00,9, -999.00,-999.000,9,-999.000,   43.79,2,   23.64,2, -31.4296, 108.4001,-999.000,-999.000,20090508,       1700
33RR20090320,        I05,     179,          2,         22,         22,2,20090508,       1514,   -31.4292,   108.4001,       5338,   805.4,   6.2125,  34.4238,2,  34.3802,4,    197.1,2,   197.2,2,   20.96,2,   27.47,2,    0.00,2,    1.90,2,   1.895,2,   0.959,2,   0.3690,2,  2180.9,2,  2292.8,2,   7.7270,2,    20.00,-999.000,9,-999.000,9,-999.000,9,   6.2152,2,-999.000,9, -999.00,9, -999.00,-999.000,9,-999.000,   42.74,2,   29.15,2, -31.4296, 108.4001,-999.000,-999.000,20090508,       1657
33RR20090320,        I05,     179,          2,         21,         21,2,20090508,       1514,   -31.4292,   108.4001,       5338,   904.7,   4.8165,  34.3812,2,  34.3807,2,    193.5,2,   194.2,2,   32.23,2,   30.44,2,    0.00,2,    2.14,2,   1.461,6,   0.707,6,   0.1790,6,  2201.2,2,  2298.9,2,   7.6933,2,    20.00,-999.000,9,-999.000,9,-999.000,9,   4.8218,2,-999.000,9, -999.00,9, -999.00,-999.000,9,-999.000,   41.69,2,   31.52,2, -31.4296, 108.4001,-999.000,-999.000,20090508,       1654
33RR20090320,        I05,     179,          2,         20,         20,2,20090508,       1514,   -31.4292,   108.4001,       5338,  1006.0,   4.0189,  34.4054,2,  34.4056,2,    182.7,2,   183.0,2,   46.14,2,   32.58,2,    0.00,2,    2.31,2,   0.943,2,   0.446,2,   0.1010,2,  2223.3,2,  2311.5,2,   7.6652,2,    20.00,-999.000,9,-999.000,9,-999.000,9,   4.0191,2,-999.000,9, -999.00,9, -999.00,-999.000,9,-999.000,   41.48,2,   33.88,2, -31.4296, 108.4001,-999.000,-999.000,20090508,       1652
33RR20090320,        I05,     179,          2,         19,         19,2,20090508,       1514,   -31.4292,   108.4001,       5338,  1102.4,   3.5735,  34.4436,2,  34.4435,2,    168.1,2,   174.1,2,   55.87,2,   33.64,2,    0.00,2,    2.40,2,   0.599,2,   0.287,2,   0.0870,2,  2239.0,2,  2321.0,2,   7.6482,2,    20.00,-999.000,9,-999.000,9,-999.000,9,   3.5756,2,-999.000,9, -999.00,9, -999.00,-999.000,9,-999.000,   41.01,2,   35.08,2, -31.4295, 108.4001,-999.000,-999.000,20090508,       1649
33RR20090320,        I05,     179,          2,         18,         18,2,20090508,       1514,   -31.4292,   108.4001,       5338,  1201.6,   3.4992,  34.5076,2,  34.5077,2,    158.5,2,   157.2,2,   67.85,2,   34.54,2,    0.00,2,    2.49,2,   0.271,2,   0.130,2,   0.0250,2,  2255.8,2,  2335.7,2,   7.6315,2,    20.00,-999.000,9,-999.000,9,-999.000,9,   3.4992,2,-999.000,9, -999.00,9, -999.00,-999.000,9,-999.000,   39.84,2,   36.31,2, -31.4295, 108.4001,-999.000,-999.000,20090508,       1645
33RR20090320,        I05,     179,          2,         17,         17,2,20090508,       1514,   -31.4292,   108.4001,       5338,  1301.5,   3.3620,  34.5599,2,  34.5564,2,    150.8,2,   148.4,2,   76.54,2,   34.94,2,    0.00,2,    2.53,2,   0.121,2,   0.057,2,   0.0000,2,  2268.5,2,  2343.8,2,   7.6247,2,    20.00,-999.000,9,-999.000,9,-999.000,9,   3.3620,2,-999.000,9, -999.00,9, -999.00,-999.000,9,-999.000,   39.45,2,   36.72,2, -31.4294, 108.4000,-999.000,-999.000,20090508,       1642
33RR20090320,        I05,     179,          2,         16,         16,2,20090508,       1514,   -31.4292,   108.4001,       5338,  1396.6,   3.1477,  34.5798,2,  34.5782,2,    151.9,2,   150.7,2,   79.49,2,   34.82,2,    0.00,2,    2.52,2,   0.087,2,   0.041,2,   0.0000,2,  2267.2,6,  2347.1,2,   7.6267,2,    20.00,-999.000,9,-999.000,9,-999.000,9,   3.1471,2,-999.000,9, -999.00,9, -999.00,-999.000,9,-999.000,   39.06,2,   36.46,2, -31.4294, 108.4000,-999.000,-999.000,20090508,       1640
33RR20090320,        I05,     179,          2,         15,         15,2,20090508,       1514,   -31.4292,   108.4001,       5338,  1598.0,   2.8353,  34.6328,2,  34.6321,2,    154.7,2,   153.7,2,   86.34,2,   34.36,2,    0.00,2,    2.48,2,   0.034,2,   0.016,2,   0.0850,2,  2274.0,2,  2353.5,2,   7.6333,2,    20.00,-999.000,9,-999.000,9,-999.000,9,   2.8348,2,-999.000,9, -999.00,9, -999.00,-999.000,9,-999.000,   38.27,2,   35.57,2, -31.4294, 108.4000,-999.000,-999.000,20090508,       1635
33RR20090320,        I05,     179,          2,         14,         14,2,20090508,       1514,   -31.4292,   108.4001,       5338,  1800.6,   2.5879,  34.6772,2,  34.6767,2,    158.8,2,   157.8,2,   93.21,2,   33.84,2,    0.00,2,    2.44,2,   0.014,2,   0.008,2,   0.0000,2,  2277.7,2,  2360.4,2,   7.6439,2,    20.00,-999.000,9,-999.000,9,-999.000,9,   2.5876,2,-999.000,9, -999.00,9, -999.00,-999.000,9,-999.000,   38.67,2,   35.35,2, -31.4294, 108.4002,-999.000,-999.000,20090508,       1631
33RR20090320,        I05,     179,          2,         13,         13,2,20090508,       1514,   -31.4292,   108.4001,       5338,  2002.9,   2.3643,  34.7073,2,  34.7073,2,    163.4,2,   162.7,2,   99.72,2,   33.39,2,    0.00,2,    2.40,2,   0.007,2,   0.002,2,   0.0000,2,  2282.4,2,  2368.1,2,   7.6547,2,    20.00,-999.000,9,-999.000,9,-999.000,9,   2.3624,2,-999.000,9, -999.00,9, -999.00,-999.000,9,-999.000,   38.52,2,   34.93,2, -31.4294, 108.4001,-999.000,-999.000,20090508,       1627
33RR20090320,        I05,     179,          2,         12,         12,2,20090508,       1514,   -31.4292,   108.4001,       5338,  2248.6,   2.1673,  34.7219,2,  34.7213,2,    165.9,2,   165.8,2,  106.06,2,   33.27,2,    0.00,2,    2.39,2,   0.004,2,   0.002,2,   0.0000,2,  2285.5,2,  2374.8,2,   7.6605,2,    20.00,-999.000,9,-999.000,9,-999.000,9,   2.1673,2,-999.000,9, -999.00,9, -999.00,-999.000,9,-999.000,   39.28,2,   34.67,2, -31.4295, 108.4001,-999.000,-999.000,20090508,       1622
33RR20090320,        I05,     179,          2,         11,         11,2,20090508,       1514,   -31.4292,   108.4001,       5338,  2501.2,   1.9773,  34.7280,2,  34.7270,2,    171.8,2,   171.9,2,  109.59,2,   32.99,2,    0.00,2,    2.36,2,   0.003,2,   0.001,2,   0.0000,2,  2284.2,2,  2379.1,2,   7.6685,2,    20.00,-999.000,9,-999.000,9,-999.000,9,   1.9774,2,-999.000,9, -999.00,9, -999.00,-999.000,9,-999.000,   38.77,2,   34.33,2, -31.4295, 108.4001,-999.000,-999.000,20090508,       1617
33RR20090320,        I05,     179,          2,         10,         10,2,20090508,       1514,   -31.4292,   108.4001,       5338,  2747.6,   1.8017,  34.7295,2,  34.7290,2,    177.0,2,   177.3,2,  112.56,2,   32.81,2,    0.00,2,    2.34,2,   0.004,2,   0.001,2,   0.0000,2,  2283.2,2,  2378.9,2,   7.6747,2,    20.00,-999.000,9,-999.000,9,-999.000,9,   1.8014,2,-999.000,9, -999.00,9, -999.00,-999.000,9,-999.000,   38.68,2,   34.25,2, -31.4295, 108.4000,-999.000,-999.000,20090508,       1611
33RR20090320,        I05,     179,          2,          9,          9,2,20090508,       1514,   -31.4292,   108.4001,       5338,  3002.0,   1.6374,  34.7295,2,  34.7294,2,    183.0,2,   183.0,2,  114.22,2,   32.53,2,    0.00,2,    2.31,2,   0.011,6,   0.005,6,   0.0000,6,  2282.3,2,  2377.3,2,   7.6805,2,    20.00,-999.000,9,-999.000,9,-999.000,9,   1.6370,2,-999.000,9, -999.00,9, -999.00,-999.000,9,-999.000,   39.14,2,   33.68,2, -31.4296, 108.4001,-999.000,-999.000,20090508,       1606
33RR20090320,        I05,     179,          2,          8,          8,2,20090508,       1514,   -31.4292,   108.4001,       5338,  3299.9,   1.4576,  34.7261,2,  34.7263,2,    187.1,2,   187.7,2,  117.57,2,   32.52,2,    0.00,2,    2.31,2,   0.008,2,   0.003,2,   0.0000,2,  2281.5,2,  2379.3,2,   7.6845,2,    20.00,-999.000,9,-999.000,9,-999.000,9,   1.4579,2,-999.000,9, -999.00,9, -999.00,-999.000,9,-999.000,   39.32,2,   34.18,2, -31.4296, 108.4002,-999.000,-999.000,20090508,       1600
33RR20090320,        I05,     179,          2,          7,          7,2,20090508,       1514,   -31.4292,   108.4001,       5338,  3604.5,   1.3127,  34.7237,2,  34.7236,2,    195.5,2,   194.9,2,  117.92,2,   32.18,2,    0.00,2,    2.28,2,   0.008,2,   0.003,2,   0.0000,2,  2276.1,2,  2376.7,2,   7.6880,2,    20.00,-999.000,9,-999.000,9,-999.000,9,   1.3115,2,-999.000,9, -999.00,9, -999.00,-999.000,9,-999.000,   40.02,2,   33.38,2, -31.4296, 108.4003,-999.000,-999.000,20090508,       1554
33RR20090320,        I05,     179,          2,          6,          6,2,20090508,       1514,   -31.4292,   108.4001,       5338,  3903.2,   1.2012,  34.7177,2,  34.7169,2,    195.0,2,   195.1,2,  123.53,2,   32.63,2,    0.00,2,    2.30,2,   0.005,2,   0.003,2,   0.0000,2,  2283.2,2,  2382.9,2,   7.6911,2,    20.00,-999.000,9,-999.000,9,-999.000,9,   1.2012,2,-999.000,9, -999.00,9, -999.00,-999.000,9,-999.000,   40.12,2,   34.33,2, -31.4295, 108.4002,-999.000,-999.000,20090508,       1548
33RR20090320,        I05,     179,          2,          5,          5,2,20090508,       1514,   -31.4292,   108.4001,       5338,  4309.6,   1.0912,  34.7136,2,  34.7136,2,    200.5,2,   201.6,2,  122.94,2,   32.35,2,    0.00,2,    2.29,2,   0.013,2,   0.008,2,   0.0000,2,  2276.2,2,  2378.4,2,   7.6920,2,    20.00,-999.000,9,-999.000,9,-999.000,9,   1.0916,2,-999.000,9, -999.00,9, -999.00,-999.000,9,-999.000,   39.99,2,   33.84,2, -31.4295, 108.4003,-999.000,-999.000,20090508,       1539
33RR20090320,        I05,     179,          2,          4,          4,2,20090508,       1514,   -31.4292,   108.4001,       5338,  4721.6,   1.0192,  34.7095,2,  34.7093,2,    206.5,2,   206.5,2,  121.98,2,   32.11,2,    0.00,2,    2.27,2,   0.040,2,   0.022,2,   0.0000,2,  2270.7,2,  2372.4,2,   7.6897,2,    20.00,-999.000,9,-999.000,9,-999.000,9,   1.0190,2,-999.000,9, -999.00,9, -999.00,-999.000,9,-999.000,   39.79,2,   33.18,2, -31.4293, 108.4001,-999.000,-999.000,20090508,       1530
33RR20090320,        I05,     179,          2,          3,          3,2,20090508,       1514,   -31.4292,   108.4001,       5338,  5034.6,   1.0226,  34.7081,2,  34.7089,2,    208.4,2,   207.1,2,  123.07,2,   32.11,2,    0.00,2,    2.27,2,   0.046,6,   0.023,6,   0.0000,6,  2269.5,2,  2373.1,2,   7.6884,2,    20.00,-999.000,9,-999.000,9,-999.000,9,   1.0227,2,-999.000,9, -999.00,9, -999.00,-999.000,9,-999.000,   40.03,2,   33.85,2, -31.4292, 108.4001,-999.000,-999.000,20090508,       1524
33RR20090320,        I05,     179,          2,          2,          2,2,20090508,       1514,   -31.4292,   108.4001,       5338,  5259.1,   1.0355,  34.7073,2,  34.7073,2,    209.2,2,   208.3,2,  123.23,2,   32.16,2,    0.00,2,    2.27,2,   0.052,2,   0.026,2,   0.0000,2,  2268.7,2,  2370.2,2,   7.6881,2,    20.00,-999.000,9,-999.000,9,-999.000,9,   1.0352,2,-999.000,9, -999.00,9, -999.00,-999.000,9,-999.000,   39.62,2,   33.57,2, -31.4291, 108.4000,-999.000,-999.000,20090508,       1519
33RR20090320,        I05,     179,          2,          1,          1,2,20090508,       1514,   -31.4292,   108.4001,       5338,  5425.7,   1.0506,  34.7068,2,  34.7067,2,    208.4,2,   209.2,2,  123.20,2,   32.16,2,    0.00,2,    2.28,2,   0.055,2,   0.027,2,   0.0000,2,  2269.8,6,  2371.4,2,   7.6880,2,    20.00,-999.000,9,-999.000,9,-999.000,9,   1.0501,2,-999.000,9, -999.00,9, -999.00,-999.000,9,-999.000,   39.13,2,   33.18,2, -31.4292, 108.4001,-999.000,-999.000,20090508,       1514