BOTTLE,20220814CCHSIOAMB
EXPOCODE,SECT_ID,STNNBR,CASTNO,SAMPNO,BTLNBR,BTLNBR_FLAG_W,DATE,TIME,LATITUDE,LONGITUDE,DEPTH,CTDPRS,CTDTMP,CTDSAL,CTDSAL_FLAG_W,SALNTY,SALNTY_FLAG_W,CTDOXY,CTDOXY_FLAG_W,OXYGEN,OXYGEN_FLAG_W,SILCAT,SILCAT_FLAG_W,NITRAT,NITRAT_FLAG_W,NITRIT,NITRIT_FLAG_W,PHSPHT,PHSPHT_FLAG_W,CFC-11,CFC-11_FLAG_W,CFC-12,CFC-12_FLAG_W,SF6,SF6_FLAG_W,TCARBN,TCARBN_FLAG_W,ALKALI,ALKALI_FLAG_W,PH_TOT,PH_TOT_FLAG_W,PH_TMP,TRITUM,TRITUM_FLAG_W,HELIUM,HELIUM_FLAG_W,DELHE3,DELHE3_FLAG_W,REFTMP,REFTMP_FLAG_W,DELC13,DELC13_FLAG_W,DELC14,DELC14_FLAG_W,C14ERR,NEON,NEON_FLAG_W,NEONER,DOC,DOC_FLAG_W,TDN,TDN_FLAG_W,BTL_LAT,BTL_LON,HELIER,DELHER,BTL_DATE,BTL_TIME
,,,,,,,,,,,METERS,DBAR,ITS-90,PSS-78,,PSS-78,,UMOL/KG,,UMOL/KG,,UMOL/KG,,UMOL/KG,,UMOL/KG,,UMOL/KG,,PMOL/KG,,PMOL/KG,,FMOL/KG,,UMOL/KG,,UMOL/KG,,,,DEG C,TU,,NMOL/KG,,PERCNT,,DEG C,,/MILLE,,/MILLE,,/MILLE,NMOL/KG,,NMOL/KG,UMOL/KG,,UMOL/KG,,,,NMOL/KG,PERCNT,,
33RR20090320,        I05,      84,          1,         36,         36,2,20090414,       1404,   -33.9986,    64.5542,       5123,     5.0,  19.9370,  35.5200,2,  35.5193,2,    228.7,2,   228.0,2,    4.10,2,    0.13,2,    0.00,2,    0.15,2,-999.000,9,-999.000,9,-999.0000,9,  2056.0,6,  2331.6,2,   8.0795,2,    20.00,-999.000,9,-999.000,9,-999.000,9,  19.9368,2,-999.000,9, -999.00,9, -999.00,-999.000,9,-999.000, -999.00,9, -999.00,9, -33.9985,  64.5541,-999.000,-999.000,20090414,       1623
33RR20090320,        I05,      84,          1,         35,         35,2,20090414,       1404,   -33.9986,    64.5542,       5123,    36.2,  19.9164,  35.5147,2,  35.5142,2,    229.7,2,   227.6,2,    4.26,2,    0.14,2,    0.00,2,    0.14,2,-999.000,9,-999.000,9,-999.0000,9,  2055.8,2,  2332.4,2,   8.0789,2,    20.00,-999.000,9,-999.000,9,-999.000,9,  19.9142,2,-999.000,9, -999.00,9, -999.00,-999.000,9,-999.000, -999.00,9, -999.00,9, -33.9985,  64.5542,-999.000,-999.000,20090414,       1621
33RR20090320,        I05,      84,          1,         34,         34,2,20090414,       1404,   -33.9986,    64.5542,       5123,    61.3,  18.3334,  35.4916,2,  35.4870,2,    239.4,2,   245.0,2,    3.80,2,    0.08,2,    0.00,2,    0.15,2,-999.000,9,-999.000,9,-999.0000,9,  2059.6,2,  2330.1,2,   8.0717,2,    20.00,-999.000,9,-999.000,9,-999.000,9,  18.3111,2,-999.000,9, -999.00,9, -999.00,-999.000,9,-999.000, -999.00,9, -999.00,9, -33.9985,  64.5542,-999.000,-999.000,20090414,       1619
33RR20090320,        I05,      84,          1,         33,         33,2,20090414,       1404,   -33.9986,    64.5542,       5123,    87.7,  16.2874,  35.5031,2,  35.5024,2,    250.1,2,   248.6,2,    3.10,2,    0.14,2,    0.00,2,    0.20,2,-999.000,9,-999.000,9,-999.0000,9,  2074.9,2,  2333.1,2,   8.0479,2,    20.00,-999.000,9,-999.000,9,-999.000,9,  16.3072,2,-999.000,9, -999.00,9, -999.00,-999.000,9,-999.000, -999.00,9, -999.00,9, -33.9984,  64.5541,-999.000,-999.000,20090414,       1617
33RR20090320,        I05,      84,          1,         32,         32,2,20090414,       1404,   -33.9986,    64.5542,       5123,   117.7,  14.9430,  35.4232,2,  35.4274,2,    229.7,2,   228.1,2,    4.12,2,    3.45,2,    0.05,2,    0.41,2,-999.000,9,-999.000,9,-999.0000,9,  2098.4,2,  2326.2,2,   7.9951,2,    20.00,-999.000,9,-999.000,9,-999.000,9,  14.9380,2,-999.000,9, -999.00,9, -999.00,-999.000,9,-999.000, -999.00,9, -999.00,9, -33.9984,  64.5542,-999.000,-999.000,20090414,       1615
33RR20090320,        I05,      84,          1,         31,         31,2,20090414,       1404,   -33.9986,    64.5542,       5123,   169.8,  14.1280,  35.3467,2,  35.3441,2,    224.9,2,   225.0,2,    4.71,2,    6.44,2,    0.01,2,    0.56,2,-999.000,9,-999.000,9,-999.0000,9,  2105.7,2,  2321.5,2,   7.9658,2,    20.00,-999.000,9,-999.000,9,-999.000,9,  14.1248,2,-999.000,9, -999.00,9, -999.00,-999.000,9,-999.000, -999.00,9, -999.00,9, -33.9983,  64.5542,-999.000,-999.000,20090414,       1613
33RR20090320,        I05,      84,          1,         30,         30,2,20090414,       1404,   -33.9986,    64.5542,       5123,   218.9,  13.4969,  35.2882,2,  35.2887,2,    227.6,2,   227.4,2,    4.88,2,    7.91,2,    0.00,2,    0.63,2,-999.000,9,-999.000,9,-999.0000,9,  -999.0,9,  -999.0,9,-999.0000,9,  -999.00,-999.000,9,-999.000,9,-999.000,9,  13.4970,2,-999.000,9, -999.00,9, -999.00,-999.000,9,-999.000, -999.00,9, -999.00,9, -33.9983,  64.5542,-999.000,-999.000,20090414,       1611
33RR20090320,        I05,      84,          1,         29,         29,2,20090414,       1404,   -33.9986,    64.5542,       5123,   269.0,  13.2299,  35.2602,2,  35.2605,2,    229.1,2,   229.2,2,    5.47,2,    8.44,2,    0.00,2,    0.67,2,-999.000,9,-999.000,9,-999.0000,9,  2110.5,2,  2317.4,2,   7.9478,2,    20.00,-999.000,9,-999.000,9,-999.000,9,  13.2299,2,-999.000,9, -999.00,9, -999.00,-999.000,9,-999.000, -999.00,9, -999.00,9, -33.9983,  64.5543,-999.000,-999.000,20090414,       1609
33RR20090320,        I05,      84,          1,         28,         28,2,20090414,       1404,   -33.9986,    64.5542,       5123,   318.1,  12.9065,  35.2132,2,  35.2125,2,    233.5,2,   233.7,2,    5.43,2,    8.71,2,    0.00,2,    0.69,2,-999.000,9,-999.000,9,-999.0000,9,  -999.0,9,  -999.0,9,-999.0000,9,  -999.00,-999.000,9,-999.000,9,-999.000,9,  12.9062,2,-999.000,9, -999.00,9, -999.00,-999.000,9,-999.000, -999.00,9, -999.00,9, -33.9983,  64.5544,-999.000,-999.000,20090414,       1607
33RR20090320,        I05,      84,          1,         27,         27,2,20090414,       1404,   -33.9986,    64.5542,       5123,   362.0,  12.7157,  35.1879,2,  35.1875,2,    233.5,2,   234.0,2,    5.38,2,    9.29,2,    0.00,2,    0.72,2,-999.000,9,-999.000,9,-999.0000,9,  2112.9,2,  2314.9,2,   7.9396,2,    20.00,-999.000,9,-999.000,9,-999.000,9,  12.7190,2,-999.000,9, -999.00,9, -999.00,-999.000,9,-999.000, -999.00,9, -999.00,9, -33.9982,  64.5545,-999.000,-999.000,20090414,       1605
33RR20090320,        I05,      84,          1,         26,         26,2,20090414,       1404,   -33.9986,    64.5542,       5123,   434.1,  12.3335,  35.1279,2,  35.1290,2,    233.5,2,   233.6,2,    5.54,2,   10.18,2,    0.00,2,    0.78,2,-999.000,9,-999.000,9,-999.0000,9,  -999.0,9,  -999.0,9,-999.0000,9,  -999.00,-999.000,9,-999.000,9,-999.000,9,  12.3324,2,-999.000,9, -999.00,9, -999.00,-999.000,9,-999.000, -999.00,9, -999.00,9, -33.9982,  64.5545,-999.000,-999.000,20090414,       1602
33RR20090320,        I05,      84,          1,         25,         25,2,20090414,       1404,   -33.9986,    64.5542,       5123,   533.4,  11.6140,  35.0128,2,  35.0157,2,    230.3,2,   228.6,2,    6.35,2,   12.23,2,    0.00,2,    0.92,2,-999.000,9,-999.000,9,-999.0000,9,  2122.0,2,  2306.9,2,   7.9056,2,    20.00,-999.000,9,-999.000,9,-999.000,9,  11.6272,2,-999.000,9, -999.00,9, -999.00,-999.000,9,-999.000, -999.00,9, -999.00,9, -33.9981,  64.5546,-999.000,-999.000,20090414,       1559
33RR20090320,        I05,      84,          1,         24,         24,2,20090414,       1404,   -33.9986,    64.5542,       5123,   632.5,  10.7685,  34.8892,2,  34.8895,2,    225.2,2,   224.0,2,    6.95,2,   14.50,2,    0.00,2,    1.05,2,-999.000,9,-999.000,9,-999.0000,9,  -999.0,9,  -999.0,9,-999.0000,9,  -999.00,-999.000,9,-999.000,9,-999.000,9,  10.7663,2,-999.000,9, -999.00,9, -999.00,-999.000,9,-999.000, -999.00,9, -999.00,9, -33.9981,  64.5546,-999.000,-999.000,20090414,       1556
33RR20090320,        I05,      84,          1,         23,         23,2,20090414,       1404,   -33.9986,    64.5542,       5123,   733.6,   9.6385,  34.7420,2,  34.7409,2,    218.3,2,   219.4,2,    8.18,2,   17.45,2,    0.00,2,    1.26,2,-999.000,9,-999.000,9,-999.0000,9,  2138.1,2,  2296.7,2,   7.8450,2,    20.00,-999.000,9,-999.000,9,-999.000,9,   9.6339,2,-999.000,9, -999.00,9, -999.00,-999.000,9,-999.000, -999.00,9, -999.00,9, -33.9981,  64.5547,-999.000,-999.000,20090414,       1553
33RR20090320,        I05,      84,          1,         22,         22,2,20090414,       1404,   -33.9986,    64.5542,       5123,   832.7,   8.4108,  34.6096,2,  34.6118,2,    209.9,2,   208.9,2,   12.42,2,   21.35,2,    0.00,2,    1.51,2,-999.000,9,-999.000,9,-999.0000,9,  -999.0,9,  -999.0,9,-999.0000,9,  -999.00,-999.000,9,-999.000,9,-999.000,9,   8.4097,2,-999.000,9, -999.00,9, -999.00,-999.000,9,-999.000, -999.00,9, -999.00,9, -33.9981,  64.5547,-999.000,-999.000,20090414,       1550
33RR20090320,        I05,      84,          1,         21,         21,2,20090414,       1404,   -33.9986,    64.5542,       5123,   933.5,   7.2145,  34.5045,2,  34.5068,2,    204.4,2,   204.1,2,   17.10,2,   24.63,2,    0.00,2,    1.75,2,-999.000,9,-999.000,9,-999.0000,9,  2167.6,2,  2291.6,2,   7.7634,2,    20.00,-999.000,9,-999.000,9,-999.000,9,   7.2162,2,-999.000,9, -999.00,9, -999.00,-999.000,9,-999.000, -999.00,9, -999.00,9, -33.9981,  64.5546,-999.000,-999.000,20090414,       1547
33RR20090320,        I05,      84,          1,         20,         20,2,20090414,       1404,   -33.9986,    64.5542,       5123,  1033.5,   5.7649,  34.3993,2,  34.3978,2,    205.3,2,   205.9,2,   23.28,2,   27.81,2,    0.00,2,    1.97,2,-999.000,9,-999.000,9,-999.0000,9,  -999.0,9,  -999.0,9,-999.0000,9,  -999.00,-999.000,9,-999.000,9,-999.000,9,   5.7635,2,-999.000,9, -999.00,9, -999.00,-999.000,9,-999.000, -999.00,9, -999.00,9, -33.9982,  64.5547,-999.000,-999.000,20090414,       1544
33RR20090320,        I05,      84,          1,         19,         19,2,20090414,       1404,   -33.9986,    64.5542,       5123,  1133.2,   4.6692,  34.3571,2,  34.3572,2,    204.8,2,   205.4,2,   30.78,2,   30.11,2,    0.00,2,    2.15,2,-999.000,9,-999.000,9,-999.0000,9,  -999.0,9,  -999.0,9,-999.0000,9,  -999.00,-999.000,9,-999.000,9,-999.000,9,   4.6663,2,-999.000,9, -999.00,9, -999.00,-999.000,9,-999.000, -999.00,9, -999.00,9, -33.9983,  64.5548,-999.000,-999.000,20090414,       1541
33RR20090320,        I05,      84,          1,         18,         18,2,20090414,       1404,   -33.9986,    64.5542,       5123,  1235.3,   4.0585,  34.3770,2,  34.3765,2,    196.0,2,   196.1,2,   40.02,2,   31.76,2,    0.00,2,    2.28,2,-999.000,9,-999.000,9,-999.0000,9,  2208.7,2,  2307.3,2,   7.6790,2,    20.00,-999.000,9,-999.000,9,-999.000,9,   4.0617,2,-999.000,9, -999.00,9, -999.00,-999.000,9,-999.000, -999.00,9, -999.00,9, -33.9984,  64.5548,-999.000,-999.000,20090414,       1537
33RR20090320,        I05,      84,          1,         17,         17,2,20090414,       1404,   -33.9986,    64.5542,       5123,  1336.3,   3.6292,  34.4165,2,  34.4160,2,    185.7,2,   185.9,2,   48.64,2,   32.82,2,    0.00,2,    2.36,2,-999.000,9,-999.000,9,-999.0000,9,  -999.0,9,  -999.0,9,-999.0000,9,  -999.00,-999.000,9,-999.000,9,-999.000,9,   3.6322,2,-999.000,9, -999.00,9, -999.00,-999.000,9,-999.000, -999.00,9, -999.00,9, -33.9985,  64.5546,-999.000,-999.000,20090414,       1534
33RR20090320,        I05,      84,          1,         16,         16,2,20090414,       1404,   -33.9986,    64.5542,       5123,  1467.1,   3.2027,  34.4858,2,  34.4862,2,    175.3,2,   175.3,2,   60.32,2,   33.78,2,    0.00,2,    2.43,2,-999.000,9,-999.000,9,-999.0000,9,  -999.0,9,  -999.0,9,-999.0000,9,  -999.00,-999.000,9,-999.000,9,-999.000,9,   3.2026,2,-999.000,9, -999.00,9, -999.00,-999.000,9,-999.000, -999.00,9, -999.00,9, -33.9984,  64.5543,-999.000,-999.000,20090414,       1530
33RR20090320,        I05,      84,          1,         15,         15,2,20090414,       1404,   -33.9986,    64.5542,       5123,  1660.1,   2.8148,  34.5834,2,  34.5831,2,    171.4,2,   171.6,2,   69.41,2,   33.29,2,    0.00,2,    2.40,2,-999.000,9,-999.000,9,-999.0000,9,  2249.8,2,  2334.2,2,   7.6446,2,    20.00,-999.000,9,-999.000,9,-999.000,9,   2.8145,2,-999.000,9, -999.00,9, -999.00,-999.000,9,-999.000, -999.00,9, -999.00,9, -33.9985,  64.5545,-999.000,-999.000,20090414,       1525
33RR20090320,        I05,      84,          1,         14,         14,2,20090414,       1404,   -33.9986,    64.5542,       5123,  1863.9,   2.5773,  34.6551,2,  34.6538,2,    174.7,2,   176.5,2,   75.04,2,   32.48,2,    0.00,2,    2.33,2,-999.000,9,-999.000,9,-999.0000,9,  -999.0,9,  -999.0,9,-999.0000,9,  -999.00,-999.000,9,-999.000,9,-999.000,9,   2.5777,2,-999.000,9, -999.00,9, -999.00,-999.000,9,-999.000, -999.00,9, -999.00,9, -33.9985,  64.5547,-999.000,-999.000,20090414,       1520
33RR20090320,        I05,      84,          1,         13,         13,2,20090414,       1404,   -33.9986,    64.5542,       5123,  2085.8,   2.3438,  34.7059,2,  34.7055,2,    180.1,2,   180.5,2,   83.30,2,   31.79,2,    0.00,2,    2.27,2,-999.000,9,-999.000,9,-999.0000,9,  2256.0,2,  2352.4,2,   7.6725,2,    20.00,-999.000,9,-999.000,9,-999.000,9,   2.3446,2,-999.000,9, -999.00,9, -999.00,-999.000,9,-999.000, -999.00,9, -999.00,9, -33.9985,  64.5547,-999.000,-999.000,20090414,       1515
33RR20090320,        I05,      84,          1,         12,         12,2,20090414,       1404,   -33.9986,    64.5542,       5123,  2330.8,   2.1371,  34.7242,2,  34.7240,2,    179.3,2,   178.7,2,   96.85,2,   32.16,2,    0.00,2,    2.32,2,-999.000,9,-999.000,9,-999.0000,9,  -999.0,9,  -999.0,9,-999.0000,9,  -999.00,-999.000,9,-999.000,9,-999.000,9,   2.1365,2,-999.000,9, -999.00,9, -999.00,-999.000,9,-999.000, -999.00,9, -999.00,9, -33.9984,  64.5544,-999.000,-999.000,20090414,       1510
33RR20090320,        I05,      84,          1,         11,         11,2,20090414,       1404,   -33.9986,    64.5542,       5123,  2585.2,   1.9824,  34.7302,2,  34.7301,2,    177.5,2,   177.0,2,  106.03,2,   32.47,2,    0.00,2,    2.35,2,-999.000,9,-999.000,9,-999.0000,9,  -999.0,9,  -999.0,9,-999.0000,9,  -999.00,-999.000,9,-999.000,9,-999.000,9,   1.9819,2,-999.000,9, -999.00,9, -999.00,-999.000,9,-999.000, -999.00,9, -999.00,9, -33.9984,  64.5543,-999.000,-999.000,20090414,       1504
33RR20090320,        I05,      84,          1,         10,         10,2,20090414,       1404,   -33.9986,    64.5542,       5123,  2838.9,   1.8402,  34.7313,2,  34.7313,2,    177.8,2,   177.3,2,  112.81,2,   32.73,2,    0.00,2,    2.37,2,-999.000,9,-999.000,9,-999.0000,9,  2279.0,2,  2379.8,2,   7.6783,2,    20.00,-999.000,9,-999.000,9,-999.000,9,   1.8401,2,-999.000,9, -999.00,9, -999.00,-999.000,9,-999.000, -999.00,9, -999.00,9, -33.9983,  64.5544,-999.000,-999.000,20090414,       1458
33RR20090320,        I05,      84,          1,          9,          9,2,20090414,       1404,   -33.9986,    64.5542,       5123,  3095.9,   1.6969,  34.7293,2,  34.7296,2,    180.2,2,   179.4,2,  116.96,2,   32.95,2,    0.00,2,    2.39,2,-999.000,9,-999.000,9,-999.0000,9,  2282.8,2,  2382.6,2,   7.6783,2,    20.00,-999.000,9,-999.000,9,-999.000,9,   1.6974,2,-999.000,9, -999.00,9, -999.00,-999.000,9,-999.000, -999.00,9, -999.00,9, -33.9984,  64.5543,-999.000,-999.000,20090414,       1453
33RR20090320,        I05,      84,          1,          8,          8,2,20090414,       1404,   -33.9986,    64.5542,       5123,  3400.8,   1.5224,  34.7246,2,  34.7243,2,    184.8,2,   184.4,2,  120.01,2,   32.94,2,    0.00,2,    2.38,2,-999.000,9,-999.000,9,-999.0000,9,  2281.8,2,  2381.3,2,   7.6797,2,    20.00,-999.000,9,-999.000,9,-999.000,9,   1.5223,2,-999.000,9, -999.00,9, -999.00,-999.000,9,-999.000, -999.00,9, -999.00,9, -33.9985,  64.5543,-999.000,-999.000,20090414,       1446
33RR20090320,        I05,      84,          1,          7,          7,2,20090414,       1404,   -33.9986,    64.5542,       5123,  3696.4,   1.2169,  34.7145,2,  34.7145,2,    194.5,2,   194.5,2,  122.83,2,   32.77,2,    0.00,2,    2.36,2,-999.000,9,-999.000,9,-999.0000,9,  -999.0,9,  -999.0,9,-999.0000,9,  -999.00,-999.000,9,-999.000,9,-999.000,9,   1.2203,2,-999.000,9, -999.00,9, -999.00,-999.000,9,-999.000, -999.00,9, -999.00,9, -33.9986,  64.5545,-999.000,-999.000,20090414,       1440
33RR20090320,        I05,      84,          1,          6,          6,2,20090414,       1404,   -33.9986,    64.5542,       5123,  4002.0,   0.8775,  34.7025,2,  34.7027,2,    204.8,2,   205.3,2,  128.98,2,   32.56,2,    0.00,2,    2.34,2,-999.000,9,-999.000,9,-999.0000,9,  -999.0,9,  -999.0,9,-999.0000,9,  -999.00,-999.000,9,-999.000,9,-999.000,9,   0.8767,2,-999.000,9, -999.00,9, -999.00,-999.000,9,-999.000, -999.00,9, -999.00,9, -33.9985,  64.5544,-999.000,-999.000,20090414,       1433
33RR20090320,        I05,      84,          1,          5,          5,2,20090414,       1404,   -33.9986,    64.5542,       5123,  4297.8,   0.7188,  34.6959,2,  34.6959,2,    209.8,2,   210.4,2,  130.48,2,   32.61,2,    0.00,2,    2.34,2,-999.000,9,-999.000,9,-999.0000,9,  2267.3,2,  2370.0,2,   7.6841,2,    20.00,-999.000,9,-999.000,9,-999.000,9,   0.7191,2,-999.000,9, -999.00,9, -999.00,-999.000,9,-999.000, -999.00,9, -999.00,9, -33.9983,  64.5543,-999.000,-999.000,20090414,       1427
33RR20090320,        I05,      84,          1,          4,          4,2,20090414,       1404,   -33.9986,    64.5542,       5123,  4606.1,   0.7129,  34.6940,2,  34.6937,2,    211.4,2,   211.6,2,  130.88,2,   32.55,2,    0.00,2,    2.34,2,-999.000,9,-999.000,9,-999.0000,9,  -999.0,9,  -999.0,9,-999.0000,9,  -999.00,-999.000,9,-999.000,9,-999.000,9,   0.7129,2,-999.000,9, -999.00,9, -999.00,-999.000,9,-999.000, -999.00,9, -999.00,9, -33.9984,  64.5545,-999.000,-999.000,20090414,       1419
33RR20090320,        I05,      84,          1,          3,          3,2,20090414,       1404,   -33.9986,    64.5542,       5123,  4804.2,   0.6488,  34.6903,2,  34.6912,2,    214.0,2,   214.3,2,  132.17,2,   32.50,2,    0.00,2,    2.33,2,-999.000,9,-999.000,9,-999.0000,9,  -999.0,9,  -999.0,9,-999.0000,9,  -999.00,-999.000,9,-999.000,9,-999.000,9,   0.6486,2,-999.000,9, -999.00,9, -999.00,-999.000,9,-999.000, -999.00,9, -999.00,9, -33.9985,  64.5545,-999.000,-999.000,20090414,       1414
33RR20090320,        I05,      84,          1,          2,          2,2,20090414,       1404,   -33.9986,    64.5542,       5123,  5059.6,   0.6618,  34.6894,2,  34.6898,2,    215.3,2,   214.7,2,  133.01,2,   32.55,2,    0.00,2,    2.33,2,-999.000,9,-999.000,9,-999.0000,9,  -999.0,9,  -999.0,9,-999.0000,9,  -999.00,-999.000,9,-999.000,9,-999.000,9,   0.6615,2,-999.000,9, -999.00,9, -999.00,-999.000,9,-999.000, -999.00,9, -999.00,9, -33.9986,  64.5544,-999.000,-999.000,20090414,       1409
33RR20090320,        I05,      84,          1,          1,          1,2,20090414,       1404,   -33.9986,    64.5542,       5123,  5207.6,   0.6698,  34.6889,2,  34.6897,2,    215.2,2,   215.0,2,  132.96,2,   32.55,2,    0.00,2,    2.33,2,-999.000,9,-999.000,9,-999.0000,9,  2265.3,6,  2366.6,2,   7.6802,2,    20.00,-999.000,9,-999.000,9,-999.000,9,   0.6702,2,-999.000,9, -999.00,9, -999.00,-999.000,9,-999.000, -999.00,9, -999.00,9, -33.9986,  64.5542,-999.000,-999.000,20090414,       1404