BOTTLE,20220814CCHSIOAMB
EXPOCODE,SECT_ID,STNNBR,CASTNO,SAMPNO,BTLNBR,BTLNBR_FLAG_W,DATE,TIME,LATITUDE,LONGITUDE,DEPTH,CTDPRS,CTDTMP,CTDSAL,CTDSAL_FLAG_W,SALNTY,SALNTY_FLAG_W,CTDOXY,CTDOXY_FLAG_W,OXYGEN,OXYGEN_FLAG_W,SILCAT,SILCAT_FLAG_W,NITRAT,NITRAT_FLAG_W,NITRIT,NITRIT_FLAG_W,PHSPHT,PHSPHT_FLAG_W,CFC-11,CFC-11_FLAG_W,CFC-12,CFC-12_FLAG_W,SF6,SF6_FLAG_W,TCARBN,TCARBN_FLAG_W,ALKALI,ALKALI_FLAG_W,PH_TOT,PH_TOT_FLAG_W,PH_TMP,TRITUM,TRITUM_FLAG_W,HELIUM,HELIUM_FLAG_W,DELHE3,DELHE3_FLAG_W,REFTMP,REFTMP_FLAG_W,DELC13,DELC13_FLAG_W,DELC14,DELC14_FLAG_W,C14ERR,NEON,NEON_FLAG_W,NEONER,DOC,DOC_FLAG_W,TDN,TDN_FLAG_W,BTL_LAT,BTL_LON,HELIER,DELHER,BTL_DATE,BTL_TIME
,,,,,,,,,,,METERS,DBAR,ITS-90,PSS-78,,PSS-78,,UMOL/KG,,UMOL/KG,,UMOL/KG,,UMOL/KG,,UMOL/KG,,UMOL/KG,,PMOL/KG,,PMOL/KG,,FMOL/KG,,UMOL/KG,,UMOL/KG,,,,DEG C,TU,,NMOL/KG,,PERCNT,,DEG C,,/MILLE,,/MILLE,,/MILLE,NMOL/KG,,NMOL/KG,UMOL/KG,,UMOL/KG,,,,NMOL/KG,PERCNT,,
33RR20090320,        I05,     138,          1,         36,         36,2,20090428,       0908,   -32.4029,    91.3398,       4126,     3.8,  19.4585,  35.5772,2,  35.5774,2,    234.7,2,   232.3,2,    1.06,2,    0.06,2,    0.00,2,    0.18,2,-999.000,9,-999.000,9,-999.0000,9,  2070.5,6,  2344.6,2,   8.0760,2,    20.00,-999.000,9,-999.000,9,-999.000,9,  19.4563,2,-999.000,9, -999.00,9, -999.00,-999.000,9,-999.000, -999.00,9, -999.00,9, -32.4031,  91.3400,-999.000,-999.000,20090428,       1100
33RR20090320,        I05,     138,          1,         35,         35,2,20090428,       0908,   -32.4029,    91.3398,       4126,    36.7,  19.2684,  35.6015,2,  35.6017,2,    237.8,2,   232.8,2,    1.04,2,    0.06,2,    0.00,2,    0.17,2,-999.000,9,-999.000,9,-999.0000,9,  2070.8,2,  2344.0,2,   8.0753,2,    20.00,-999.000,9,-999.000,9,-999.000,9,  19.2701,2,-999.000,9, -999.00,9, -999.00,-999.000,9,-999.000, -999.00,9, -999.00,9, -32.4031,  91.3400,-999.000,-999.000,20090428,       1059
33RR20090320,        I05,     138,          1,         34,         34,2,20090428,       0908,   -32.4029,    91.3398,       4126,    61.2,  18.4598,  35.6235,4,  35.5350,2,    242.8,2,   253.1,2,    1.20,2,    0.07,2,    0.00,2,    0.19,2,-999.000,9,-999.000,9,-999.0000,9,  2073.8,2,  2340.0,2,   8.0615,2,    20.00,-999.000,9,-999.000,9,-999.000,9,  18.7585,2,-999.000,9, -999.00,9, -999.00,-999.000,9,-999.000, -999.00,9, -999.00,9, -32.4031,  91.3399,-999.000,-999.000,20090428,       1057
33RR20090320,        I05,     138,          1,         33,         33,2,20090428,       0908,   -32.4029,    91.3398,       4126,    87.3,  14.7395,  35.4135,2,  35.4117,2,    248.8,2,   246.7,2,    1.53,2,    1.66,2,    0.20,2,    0.34,2,-999.000,9,-999.000,9,-999.0000,9,  2095.1,2,  2331.6,2,   8.0072,2,    20.00,-999.000,9,-999.000,9,-999.000,9,  14.7504,2,-999.000,9, -999.00,9, -999.00,-999.000,9,-999.000, -999.00,9, -999.00,9, -32.4031,  91.3399,-999.000,-999.000,20090428,       1056
33RR20090320,        I05,     138,          1,         32,         32,2,20090428,       0908,   -32.4029,    91.3398,       4126,   112.4,  14.1844,  35.3709,2,  35.3687,2,    240.0,2,   237.2,2,    1.69,2,    3.91,2,    0.40,2,    0.46,2,-999.000,9,-999.000,9,-999.0000,9,  -999.0,9,  -999.0,9,-999.0000,9,  -999.00,-999.000,9,-999.000,9,-999.000,9,  14.1910,2,-999.000,9, -999.00,9, -999.00,-999.000,9,-999.000, -999.00,9, -999.00,9, -32.4030,  91.3399,-999.000,-999.000,20090428,       1054
33RR20090320,        I05,     138,          1,         31,         31,2,20090428,       0908,   -32.4029,    91.3398,       4126,   136.8,  13.6711,  35.2946,2,  35.2980,2,    235.8,2,   235.5,2,    2.02,2,    5.51,2,    0.02,2,    0.53,2,-999.000,9,-999.000,9,-999.0000,9,  2106.3,2,  2322.2,2,   7.9680,2,    20.00,-999.000,9,-999.000,9,-999.000,9,  13.6684,2,-999.000,9, -999.00,9, -999.00,-999.000,9,-999.000, -999.00,9, -999.00,9, -32.4030,  91.3398,-999.000,-999.000,20090428,       1053
33RR20090320,        I05,     138,          1,         30,         30,2,20090428,       0908,   -32.4029,    91.3398,       4126,   166.0,  13.2272,  35.2532,2,  35.2664,2,    236.7,2,   236.4,2,    1.99,2,    6.25,2,    0.01,2,    0.56,2,-999.000,9,-999.000,9,-999.0000,9,  -999.0,9,  -999.0,9,-999.0000,9,  -999.00,-999.000,9,-999.000,9,-999.000,9,  13.2635,2,-999.000,9, -999.00,9, -999.00,-999.000,9,-999.000, -999.00,9, -999.00,9, -32.4030,  91.3399,-999.000,-999.000,20090428,       1051
33RR20090320,        I05,     138,          1,         29,         29,2,20090428,       0908,   -32.4029,    91.3398,       4126,   216.6,  12.3997,  35.1277,2,  35.1260,2,    237.1,2,   237.0,2,    2.51,2,    8.34,2,    0.00,2,    0.68,2,-999.000,9,-999.000,9,-999.0000,9,  2112.5,2,  2312.7,2,   7.9350,2,    20.00,-999.000,9,-999.000,9,-999.000,9,  12.3907,2,-999.000,9, -999.00,9, -999.00,-999.000,9,-999.000, -999.00,9, -999.00,9, -32.4030,  91.3398,-999.000,-999.000,20090428,       1049
33RR20090320,        I05,     138,          1,         28,         28,2,20090428,       0908,   -32.4029,    91.3398,       4126,   266.2,  11.8425,  35.0431,2,  35.0333,2,    237.7,2,   239.0,2,    3.02,2,    9.93,2,    0.00,2,    0.78,2,-999.000,9,-999.000,9,-999.0000,9,  -999.0,9,  -999.0,9,-999.0000,9,  -999.00,-999.000,9,-999.000,9,-999.000,9,  11.8439,2,-999.000,9, -999.00,9, -999.00,-999.000,9,-999.000, -999.00,9, -999.00,9, -32.4030,  91.3398,-999.000,-999.000,20090428,       1046
33RR20090320,        I05,     138,          1,         27,         27,2,20090428,       0908,   -32.4029,    91.3398,       4126,   316.5,  11.3586,  34.9667,2,  34.9687,2,    241.5,2,   242.1,2,    3.35,2,   10.70,2,    0.00,2,    0.83,2,-999.000,9,-999.000,9,-999.0000,9,  2115.8,2,  2305.0,2,   7.9114,2,    20.00,-999.000,9,-999.000,9,-999.000,9,  11.3591,2,-999.000,9, -999.00,9, -999.00,-999.000,9,-999.000, -999.00,9, -999.00,9, -32.4030,  91.3398,-999.000,-999.000,20090428,       1044
33RR20090320,        I05,     138,          1,         26,         26,2,20090428,       0908,   -32.4029,    91.3398,       4126,   365.6,  11.0275,  34.9151,2,  34.9162,2,    242.9,2,   243.6,2,    3.68,2,   11.52,2,    0.00,2,    0.88,2,-999.000,9,-999.000,9,-999.0000,9,  -999.0,9,  -999.0,9,-999.0000,9,  -999.00,-999.000,9,-999.000,9,-999.000,9,  11.0288,2,-999.000,9, -999.00,9, -999.00,-999.000,9,-999.000, -999.00,9, -999.00,9, -32.4030,  91.3399,-999.000,-999.000,20090428,       1042
33RR20090320,        I05,     138,          1,         25,         25,2,20090428,       0908,   -32.4029,    91.3398,       4126,   415.5,  10.7367,  34.8714,2,  34.8715,2,    243.8,2,   244.1,2,    3.84,2,   12.24,2,    0.00,2,    0.93,2,-999.000,9,-999.000,9,-999.0000,9,  -999.0,9,  -999.0,9,-999.0000,9,  -999.00,-999.000,9,-999.000,9,-999.000,9,  10.7346,2,-999.000,9, -999.00,9, -999.00,-999.000,9,-999.000, -999.00,9, -999.00,9, -32.4030,  91.3400,-999.000,-999.000,20090428,       1040
33RR20090320,        I05,     138,          1,         24,         24,2,20090428,       0908,   -32.4029,    91.3398,       4126,   465.6,  10.4509,  34.8376,2,  34.8367,2,    242.3,2,   242.0,2,    4.17,2,   13.11,2,    0.00,2,    0.98,2,-999.000,9,-999.000,9,-999.0000,9,  -999.0,9,  -999.0,9,-999.0000,9,  -999.00,-999.000,9,-999.000,9,-999.000,9,  10.4500,2,-999.000,9, -999.00,9, -999.00,-999.000,9,-999.000, -999.00,9, -999.00,9, -32.4030,  91.3400,-999.000,-999.000,20090428,       1038
33RR20090320,        I05,     138,          1,         23,         23,2,20090428,       0908,   -32.4029,    91.3398,       4126,   535.3,  10.0012,  34.7784,2,  34.7799,2,    239.5,2,   239.0,2,    4.51,2,   14.54,2,    0.00,2,    1.06,2,-999.000,9,-999.000,9,-999.0000,9,  2125.1,2,  2294.3,2,   7.8725,2,    20.00,-999.000,9,-999.000,9,-999.000,9,   9.9990,2,-999.000,9, -999.00,9, -999.00,-999.000,9,-999.000, -999.00,9, -999.00,9, -32.4030,  91.3401,-999.000,-999.000,20090428,       1035
33RR20090320,        I05,     138,          1,         22,         22,2,20090428,       0908,   -32.4029,    91.3398,       4126,   635.6,   9.3686,  34.6903,2,  34.6885,2,    236.1,2,   235.1,2,    5.56,2,   16.64,2,    0.00,2,    1.20,2,-999.000,9,-999.000,9,-999.0000,9,  -999.0,9,  -999.0,9,-999.0000,9,  -999.00,-999.000,9,-999.000,9,-999.000,9,   9.3653,2,-999.000,9, -999.00,9, -999.00,-999.000,9,-999.000, -999.00,9, -999.00,9, -32.4030,  91.3401,-999.000,-999.000,20090428,       1033
33RR20090320,        I05,     138,          1,         21,         21,2,20090428,       0908,   -32.4029,    91.3398,       4126,   736.6,   8.5195,  34.5936,2,  34.5950,2,    222.4,2,   218.6,2,    8.92,2,   20.33,2,    0.00,2,    1.44,2,-999.000,9,-999.000,9,-999.0000,9,  -999.0,9,  -999.0,9,-999.0000,9,  -999.00,-999.000,9,-999.000,9,-999.000,9,   8.5224,2,-999.000,9, -999.00,9, -999.00,-999.000,9,-999.000, -999.00,9, -999.00,9, -32.4031,  91.3401,-999.000,-999.000,20090428,       1030
33RR20090320,        I05,     138,          1,         20,         20,2,20090428,       0908,   -32.4029,    91.3398,       4126,   835.7,   7.2122,  34.4828,2,  34.4842,2,    206.8,2,   204.4,2,   15.17,2,   24.64,2,    0.00,2,    1.73,2,-999.000,9,-999.000,9,-999.0000,9,  -999.0,9,  -999.0,9,-999.0000,9,  -999.00,-999.000,9,-999.000,9,-999.000,9,   7.2209,2,-999.000,9, -999.00,9, -999.00,-999.000,9,-999.000, -999.00,9, -999.00,9, -32.4031,  91.3400,-999.000,-999.000,20090428,       1028
33RR20090320,        I05,     138,          1,         19,         19,2,20090428,       0908,   -32.4029,    91.3398,       4126,   938.0,   5.9191,  34.4032,2,  34.4039,2,    200.4,2,   200.7,2,   22.53,2,   27.89,2,    0.00,2,    1.97,2,-999.000,9,-999.000,9,-999.0000,9,  2178.0,2,  2290.9,2,   7.7226,2,    20.00,-999.000,9,-999.000,9,-999.000,9,   5.9088,2,-999.000,9, -999.00,9, -999.00,-999.000,9,-999.000, -999.00,9, -999.00,9, -32.4031,  91.3400,-999.000,-999.000,20090428,       1025
33RR20090320,        I05,     138,          1,         18,         18,2,20090428,       0908,   -32.4029,    91.3398,       4126,  1036.5,   4.8305,  34.3665,2,  34.3664,2,    198.1,2,   198.7,2,   31.16,2,   30.16,2,    0.00,2,    2.15,2,-999.000,9,-999.000,9,-999.0000,9,  -999.0,9,  -999.0,9,-999.0000,9,  -999.00,-999.000,9,-999.000,9,-999.000,9,   4.8413,2,-999.000,9, -999.00,9, -999.00,-999.000,9,-999.000, -999.00,9, -999.00,9, -32.4031,  91.3398,-999.000,-999.000,20090428,       1022
33RR20090320,        I05,     138,          1,         17,         17,2,20090428,       0908,   -32.4029,    91.3398,       4126,  1131.1,   4.0788,  34.3923,2,  34.3914,2,    186.7,2,   186.4,2,   43.82,2,   32.34,2,    0.00,2,    2.32,2,-999.000,9,-999.000,9,-999.0000,9,  -999.0,9,  -999.0,9,-999.0000,9,  -999.00,-999.000,9,-999.000,9,-999.000,9,   4.0853,2,-999.000,9, -999.00,9, -999.00,-999.000,9,-999.000, -999.00,9, -999.00,9, -32.4031,  91.3399,-999.000,-999.000,20090428,       1019
33RR20090320,        I05,     138,          1,         16,         16,2,20090428,       0908,   -32.4029,    91.3398,       4126,  1231.4,   3.7232,  34.4510,2,  34.4520,2,    171.5,2,   169.3,2,   57.45,2,   33.84,2,    0.00,2,    2.44,2,-999.000,9,-999.000,9,-999.0000,9,  -999.0,9,  -999.0,9,-999.0000,9,  -999.00,-999.000,9,-999.000,9,-999.000,9,   3.7228,2,-999.000,9, -999.00,9, -999.00,-999.000,9,-999.000, -999.00,9, -999.00,9, -32.4031,  91.3400,-999.000,-999.000,20090428,       1017
33RR20090320,        I05,     138,          1,         15,         15,2,20090428,       0908,   -32.4029,    91.3398,       4126,  1334.1,   3.5517,  34.5102,2,  34.5082,2,    157.5,2,   156.1,2,   68.40,2,   34.62,2,    0.00,2,    2.51,2,-999.000,9,-999.000,9,-999.0000,9,  -999.0,9,  -999.0,9,-999.0000,9,  -999.00,-999.000,9,-999.000,9,-999.000,9,   3.5562,2,-999.000,9, -999.00,9, -999.00,-999.000,9,-999.000, -999.00,9, -999.00,9, -32.4031,  91.3402,-999.000,-999.000,20090428,       1014
33RR20090320,        I05,     138,          1,         14,         14,2,20090428,       0908,   -32.4029,    91.3398,       4126,  1434.5,   3.3208,  34.5496,2,  34.5496,2,    152.4,2,   152.5,2,   74.99,2,   34.84,2,    0.00,2,    2.53,2,-999.000,9,-999.000,9,-999.0000,9,  -999.0,9,  -999.0,9,-999.0000,9,  -999.00,-999.000,9,-999.000,9,-999.000,9,   3.3212,2,-999.000,9, -999.00,9, -999.00,-999.000,9,-999.000, -999.00,9, -999.00,9, -32.4031,  91.3402,-999.000,-999.000,20090428,       1011
33RR20090320,        I05,     138,          1,         13,         13,2,20090428,       0908,   -32.4029,    91.3398,       4126,  1535.3,   3.1488,  34.5776,2,  34.5775,2,    152.7,2,   152.3,2,   78.82,2,   34.62,2,    0.00,2,    2.53,2,-999.000,9,-999.000,9,-999.0000,9,  -999.0,9,  -999.0,9,-999.0000,9,  -999.00,-999.000,9,-999.000,9,-999.000,9,   3.1496,2,-999.000,9, -999.00,9, -999.00,-999.000,9,-999.000, -999.00,9, -999.00,9, -32.4031,  91.3402,-999.000,-999.000,20090428,       1008
33RR20090320,        I05,     138,          1,         12,         12,2,20090428,       0908,   -32.4029,    91.3398,       4126,  1635.4,   2.9772,  34.6087,2,  34.6079,2,    153.9,2,   154.1,2,   82.48,2,   34.53,2,    0.00,2,    2.50,2,-999.000,9,-999.000,9,-999.0000,9,  -999.0,9,  -999.0,9,-999.0000,9,  -999.00,-999.000,9,-999.000,9,-999.000,9,   2.9754,2,-999.000,9, -999.00,9, -999.00,-999.000,9,-999.000, -999.00,9, -999.00,9, -32.4031,  91.3402,-999.000,-999.000,20090428,       1005
33RR20090320,        I05,     138,          1,         11,         11,2,20090428,       0908,   -32.4029,    91.3398,       4126,  1735.4,   2.8149,  34.6330,2,  34.6333,2,    158.2,2,   158.0,2,   84.30,2,   34.11,2,    0.00,2,    2.46,2,-999.000,9,-999.000,9,-999.0000,9,  -999.0,9,  -999.0,9,-999.0000,9,  -999.00,-999.000,9,-999.000,9,-999.000,9,   2.8138,2,-999.000,9, -999.00,9, -999.00,-999.000,9,-999.000, -999.00,9, -999.00,9, -32.4033,  91.3401,-999.000,-999.000,20090428,       1003
33RR20090320,        I05,     138,          1,         10,         10,2,20090428,       0908,   -32.4029,    91.3398,       4126,  1866.8,   2.6235,  34.6640,2,  34.6637,2,    163.4,2,   164.9,2,   85.38,2,   33.43,2,    0.00,2,    2.40,2,-999.000,9,-999.000,9,-999.0000,9,  -999.0,9,  -999.0,9,-999.0000,9,  -999.00,-999.000,9,-999.000,9,-999.000,9,   2.6234,2,-999.000,9, -999.00,9, -999.00,-999.000,9,-999.000, -999.00,9, -999.00,9, -32.4034,  91.3400,-999.000,-999.000,20090428,       0959
33RR20090320,        I05,     138,          1,          9,          9,2,20090428,       0908,   -32.4029,    91.3398,       4126,  2081.5,   2.3908,  34.7053,2,  34.7050,2,    173.2,2,   173.9,2,   87.75,2,   32.34,2,    0.00,2,    2.32,2,-999.000,9,-999.000,9,-999.0000,9,  -999.0,9,  -999.0,9,-999.0000,9,  -999.00,-999.000,9,-999.000,9,-999.000,9,   2.3922,2,-999.000,9, -999.00,9, -999.00,-999.000,9,-999.000, -999.00,9, -999.00,9, -32.4033,  91.3400,-999.000,-999.000,20090428,       0954
33RR20090320,        I05,     138,          1,          8,          8,2,20090428,       0908,   -32.4029,    91.3398,       4126,  2335.8,   2.1302,  34.7383,2,  34.7383,2,    187.7,2,   188.3,2,   87.36,2,   30.94,2,    0.00,2,    2.21,2,-999.000,9,-999.000,9,-999.0000,9,  -999.0,9,  -999.0,9,-999.0000,9,  -999.00,-999.000,9,-999.000,9,-999.000,9,   2.1296,2,-999.000,9, -999.00,9, -999.00,-999.000,9,-999.000, -999.00,9, -999.00,9, -32.4032,  91.3399,-999.000,-999.000,20090428,       0948
33RR20090320,        I05,     138,          1,          7,          7,2,20090428,       0908,   -32.4029,    91.3398,       4126,  2582.7,   1.8777,  34.7465,2,  34.7460,2,    194.7,2,   194.4,2,   93.23,2,   30.68,2,    0.00,2,    2.18,2,-999.000,9,-999.000,9,-999.0000,9,  -999.0,9,  -999.0,9,-999.0000,9,  -999.00,-999.000,9,-999.000,9,-999.000,9,   1.8783,2,-999.000,9, -999.00,9, -999.00,-999.000,9,-999.000, -999.00,9, -999.00,9, -32.4030,  91.3401,-999.000,-999.000,20090428,       0942
33RR20090320,        I05,     138,          1,          6,          6,2,20090428,       0908,   -32.4029,    91.3398,       4126,  2837.2,   1.6076,  34.7400,2,  34.7395,2,    198.2,2,   197.5,2,  102.09,2,   30.94,2,    0.00,2,    2.21,2,-999.000,9,-999.000,9,-999.0000,9,  -999.0,9,  -999.0,9,-999.0000,9,  -999.00,-999.000,9,-999.000,9,-999.000,9,   1.6071,2,-999.000,9, -999.00,9, -999.00,-999.000,9,-999.000, -999.00,9, -999.00,9, -32.4031,  91.3399,-999.000,-999.000,20090428,       0936
33RR20090320,        I05,     138,          1,          5,          5,2,20090428,       0908,   -32.4029,    91.3398,       4126,  3103.1,   1.3963,  34.7317,2,  34.7323,2,    200.0,2,   199.3,2,  109.49,2,   31.56,2,    0.00,2,    2.24,2,-999.000,9,-999.000,9,-999.0000,9,  -999.0,9,  -999.0,9,-999.0000,9,  -999.00,-999.000,9,-999.000,9,-999.000,9,   1.3960,2,-999.000,9, -999.00,9, -999.00,-999.000,9,-999.000, -999.00,9, -999.00,9, -32.4031,  91.3397,-999.000,-999.000,20090428,       0931
33RR20090320,        I05,     138,          1,          4,          4,2,20090428,       0908,   -32.4029,    91.3398,       4126,  3408.0,   1.2609,  34.7259,2,  34.7258,2,    201.9,2,   201.0,2,  113.73,2,   31.66,2,    0.00,2,    2.26,2,-999.000,9,-999.000,9,-999.0000,9,  -999.0,9,  -999.0,9,-999.0000,9,  -999.00,-999.000,9,-999.000,9,-999.000,9,   1.2608,2,-999.000,9, -999.00,9, -999.00,-999.000,9,-999.000, -999.00,9, -999.00,9, -32.4033,  91.3395,-999.000,-999.000,20090428,       0925
33RR20090320,        I05,     138,          1,          3,          3,2,20090428,       0908,   -32.4029,    91.3398,       4126,  3710.5,   1.1509,  34.7199,2,  34.7195,2,    203.4,2,   202.4,2,  117.24,2,   31.87,2,    0.00,2,    2.27,2,-999.000,9,-999.000,9,-999.0000,9,  -999.0,9,  -999.0,9,-999.0000,9,  -999.00,-999.000,9,-999.000,9,-999.000,9,   1.1507,2,-999.000,9, -999.00,9, -999.00,-999.000,9,-999.000, -999.00,9, -999.00,9, -32.4032,  91.3395,-999.000,-999.000,20090428,       0918
33RR20090320,        I05,     138,          1,          2,          2,2,20090428,       0908,   -32.4029,    91.3398,       4126,  3934.2,   1.1224,  34.7179,2,  34.7177,2,    204.2,2,   203.2,2,  118.89,2,   31.92,2,    0.00,2,    2.27,2,-999.000,9,-999.000,9,-999.0000,9,  -999.0,9,  -999.0,9,-999.0000,9,  -999.00,-999.000,9,-999.000,9,-999.000,9,   1.1224,2,-999.000,9, -999.00,9, -999.00,-999.000,9,-999.000, -999.00,9, -999.00,9, -32.4030,  91.3397,-999.000,-999.000,20090428,       0913
33RR20090320,        I05,     138,          1,          1,          1,2,20090428,       0908,   -32.4029,    91.3398,       4126,  4177.7,   1.1007,  34.7156,2,  34.7156,2,    202.4,2,   203.9,2,  119.98,2,   31.97,2,    0.00,2,    2.27,2,-999.000,9,-999.000,9,-999.0000,9,  2269.4,6,  2374.4,2,   7.6933,2,    20.00,-999.000,9,-999.000,9,-999.000,9,   1.1002,2,-999.000,9, -999.00,9, -999.00,-999.000,9,-999.000, -999.00,9, -999.00,9, -32.4029,  91.3398,-999.000,-999.000,20090428,       0908