BOTTLE,20220814CCHSIOAMB
EXPOCODE,SECT_ID,STNNBR,CASTNO,SAMPNO,BTLNBR,BTLNBR_FLAG_W,DATE,TIME,LATITUDE,LONGITUDE,DEPTH,CTDPRS,CTDTMP,CTDSAL,CTDSAL_FLAG_W,SALNTY,SALNTY_FLAG_W,CTDOXY,CTDOXY_FLAG_W,OXYGEN,OXYGEN_FLAG_W,SILCAT,SILCAT_FLAG_W,NITRAT,NITRAT_FLAG_W,NITRIT,NITRIT_FLAG_W,PHSPHT,PHSPHT_FLAG_W,CFC-11,CFC-11_FLAG_W,CFC-12,CFC-12_FLAG_W,SF6,SF6_FLAG_W,TCARBN,TCARBN_FLAG_W,ALKALI,ALKALI_FLAG_W,PH_TOT,PH_TOT_FLAG_W,PH_TMP,TRITUM,TRITUM_FLAG_W,HELIUM,HELIUM_FLAG_W,DELHE3,DELHE3_FLAG_W,REFTMP,REFTMP_FLAG_W,DELC13,DELC13_FLAG_W,DELC14,DELC14_FLAG_W,C14ERR,NEON,NEON_FLAG_W,NEONER,DOC,DOC_FLAG_W,TDN,TDN_FLAG_W,BTL_LAT,BTL_LON,HELIER,DELHER,BTL_DATE,BTL_TIME
,,,,,,,,,,,METERS,DBAR,ITS-90,PSS-78,,PSS-78,,UMOL/KG,,UMOL/KG,,UMOL/KG,,UMOL/KG,,UMOL/KG,,UMOL/KG,,PMOL/KG,,PMOL/KG,,FMOL/KG,,UMOL/KG,,UMOL/KG,,,,DEG C,TU,,NMOL/KG,,PERCNT,,DEG C,,/MILLE,,/MILLE,,/MILLE,NMOL/KG,,NMOL/KG,UMOL/KG,,UMOL/KG,,,,NMOL/KG,PERCNT,,
33RR20090320,        I05,      89,          1,         36,         36,2,20090415,       2347,   -34.0014,    67.4120,       4709,     8.6,  20.3683,  35.6608,2,  35.6617,2,    226.5,2,   226.5,2,    1.35,2,    0.18,2,    0.00,2,    0.13,2,   2.135,2,   1.285,2,   1.2160,2,  2063.4,6,  2341.2,2,   8.0825,2,    20.00,   0.502,2,   1.828,2,  -1.380,2,  20.3667,2,-999.000,9, -999.00,9, -999.00,   7.377,2,   0.011,   68.11,2,    5.60,2, -34.0004,  67.4116,   0.001,   0.199,20090416,       0139
33RR20090320,        I05,      89,          1,         35,         35,2,20090415,       2347,   -34.0014,    67.4120,       4709,    32.3,  20.3743,  35.6600,2,  35.6590,2,    227.0,2,   226.0,2,    1.31,2,    0.18,2,    0.00,2,    0.13,2,   2.141,2,   1.284,2,   1.2540,2,  2064.5,2,  2340.8,2,   8.0818,2,    20.00,   0.534,2,   1.794,2,  -1.525,2,  20.3691,2,-999.000,9, -999.00,9, -999.00,   7.247,2,   0.009,   67.13,2,    4.14,2, -34.0004,  67.4115,   0.000,   0.195,20090416,       0137
33RR20090320,        I05,      89,          1,         34,         34,2,20090415,       2347,   -34.0014,    67.4120,       4709,    57.8,  19.0866,  35.3941,2,  35.3933,2,    232.5,2,   233.4,2,    1.06,2,    0.13,2,    0.00,2,    0.15,2,   2.304,2,   1.373,2,   1.3540,2,  2062.6,2,  2328.5,2,   8.0674,2,    20.00,   0.475,2,   1.810,2,  -1.420,2,  19.0773,2,-999.000,9, -999.00,9, -999.00,   7.417,2,   0.008,   65.45,2,    4.55,2, -34.0005,  67.4116,   0.000,   0.193,20090416,       0136
33RR20090320,        I05,      89,          1,         33,         33,2,20090415,       2347,   -34.0014,    67.4120,       4709,    83.0,  16.3880,  35.4584,2,  35.4552,2,    256.2,2,   257.6,2,    1.02,2,    0.18,2,    0.00,2,    0.18,2,   2.689,2,   1.558,2,   1.3500,2,  2071.4,2,  2331.3,2,   8.0559,2,    20.00,   0.458,2,   1.851,2,  -1.377,2,  16.3983,2,-999.000,9, -999.00,9, -999.00,   7.605,2,   0.010,   61.91,2,    6.10,2, -34.0006,  67.4116,   0.000,   0.199,20090416,       0135
33RR20090320,        I05,      89,          1,         32,         32,2,20090415,       2347,   -34.0014,    67.4120,       4709,   105.9,  15.1723,  35.4258,2,  35.4247,2,    245.5,2,   239.9,2,    1.61,2,    1.05,2,    0.08,2,    0.29,2,   2.772,2,   1.615,2,   1.3200,2,  2093.1,2,  2327.6,2,   8.0137,2,    20.00,   0.436,2,   1.813,2,  -1.203,2,  15.1755,2,-999.000,9, -999.00,9, -999.00,   7.503,2,   0.009,   58.77,2,    5.98,2, -34.0007,  67.4116,   0.000,   0.196,20090416,       0133
33RR20090320,        I05,      89,          1,         31,         31,2,20090415,       2347,   -34.0014,    67.4120,       4709,   158.7,  13.5428,  35.2832,2,  35.2826,2,    234.3,2,   236.9,2,    3.22,2,    6.94,2,    0.01,2,    0.57,2,   2.944,2,   1.685,2,   1.3540,2,  2107.7,2,  2317.1,2,   7.9655,2,    20.00,   0.415,2,   1.862,2,  -1.703,2,  13.5409,2,-999.000,9, -999.00,9, -999.00,   7.726,2,   0.011,   52.89,2,   10.06,2, -34.0008,  67.4117,   0.000,   0.198,20090416,       0132
33RR20090320,        I05,      89,          1,         30,         30,2,20090415,       2347,   -34.0014,    67.4120,       4709,   207.5,  13.3594,  35.2942,2,  35.2948,2,    236.3,2,   237.9,2,    3.59,2,    7.57,2,    0.00,2,    0.60,2,   2.964,2,   1.697,2,   1.3630,2,  2107.9,2,  2317.3,2,   7.9626,2,    20.00,   0.420,2,   1.884,2,  -1.955,2,  13.3646,2,-999.000,9, -999.00,9, -999.00,   7.794,2,   0.011,   52.46,2,   10.78,2, -34.0008,  67.4116,   0.000,   0.196,20090416,       0130
33RR20090320,        I05,      89,          1,         29,         29,2,20090415,       2347,   -34.0014,    67.4120,       4709,   258.1,  13.1133,  35.2589,2,  35.2562,2,    237.8,2,   237.5,2,    3.55,2,    8.16,2,    0.00,2,    0.63,2,   2.998,6,   1.717,6,   1.4420,6,  2110.8,2,  2316.1,2,   7.9554,2,    20.00,   0.443,2,   1.832,2,  -1.466,2,  13.1092,2,-999.000,9, -999.00,9, -999.00,   7.642,2,   0.011,   50.85,2,   11.71,2, -34.0009,  67.4116,   0.000,   0.199,20090416,       0129
33RR20090320,        I05,      89,          1,         28,         28,2,20090415,       2347,   -34.0014,    67.4120,       4709,   307.4,  12.7056,  35.1874,2,  35.1865,2,    238.1,2,   238.1,2,    3.51,2,    8.95,2,    0.00,2,    0.68,2,   3.068,2,   1.759,2,   1.5260,2,  2113.1,2,  2312.8,2,   7.9446,2,    20.00,   0.381,2,   1.821,2,  -1.471,2,  12.7060,2,-999.000,9, -999.00,9, -999.00,   7.692,2,   0.009,   49.63,2,   12.33,2, -34.0009,  67.4116,   0.000,   0.194,20090416,       0127
33RR20090320,        I05,      89,          1,         27,         27,2,20090415,       2347,   -34.0014,    67.4120,       4709,   358.3,  12.4974,  35.1604,2,  35.1596,2,    238.8,2,   239.7,2,    3.47,2,    9.42,2,    0.00,2,    0.70,2,   3.116,2,   1.760,2,   1.4050,2,  2111.9,2,  2313.0,2,   7.9403,2,    20.00,   0.383,2,   1.873,2,  -1.387,2,  12.4969,2,-999.000,9, -999.00,9, -999.00,   7.829,2,   0.011,   48.61,2,   12.56,2, -34.0009,  67.4117,   0.000,   0.187,20090416,       0125
33RR20090320,        I05,      89,          1,         26,         26,2,20090415,       2347,   -34.0014,    67.4120,       4709,   407.2,  12.4288,  35.1601,2,  35.1610,2,    243.4,2,   243.0,2,    3.43,2,    9.26,2,    0.00,2,    0.70,2,   3.114,2,   1.761,2,   1.3980,2,  2112.1,2,  2312.6,2,   7.9437,2,    20.00,   0.444,2,   1.865,2,  -1.391,2,  12.4274,2,-999.000,9, -999.00,9, -999.00,   7.774,2,   0.010,   47.63,2,   11.98,2, -34.0008,  67.4117,   0.000,   0.197,20090416,       0124
33RR20090320,        I05,      89,          1,         25,         25,2,20090415,       2347,   -34.0014,    67.4120,       4709,   507.3,  11.6725,  35.0196,2,  35.0210,2,    234.3,2,   233.3,2,    3.82,2,   11.89,2,    0.00,2,    0.86,2,   3.232,2,   1.783,2,   1.2410,2,  2122.7,2,  2306.7,2,   7.9105,2,    20.00,   0.369,2,   1.946,2,  -0.974,2,  11.6732,2,-999.000,9, -999.00,9, -999.00,   8.055,2,   0.010,   46.81,2,   13.69,2, -34.0008,  67.4118,   0.001,   0.195,20090416,       0121
33RR20090320,        I05,      89,          1,         24,         24,2,20090415,       2347,   -34.0014,    67.4120,       4709,   606.4,  10.8223,  34.8939,2,  34.8935,2,    227.8,2,   227.3,2,    4.81,2,   14.27,2,    0.00,2,    1.01,2,   3.288,2,   1.766,2,   1.0470,2,  2130.1,2,  2300.7,2,   7.8829,2,    20.00,   0.312,2,   1.890,2,  -0.136,2,  10.8302,2,-999.000,9, -999.00,9, -999.00,   7.916,2,   0.010,   45.70,2,   16.22,2, -34.0007,  67.4119,   0.000,   0.196,20090416,       0119
33RR20090320,        I05,      89,          1,         23,         23,2,20090415,       2347,   -34.0014,    67.4120,       4709,   706.7,   9.7489,  34.7550,2,  34.7573,2,    219.9,2,   220.1,2,    6.43,2,   17.28,2,    0.00,2,    1.21,2,   3.218,2,   1.666,2,   0.8910,2,  2139.3,2,  2296.5,2,   7.8489,2,    20.00,   0.230,2,   1.926,2,   0.642,2,   9.7560,2,-999.000,9, -999.00,9, -999.00,   8.189,2,   0.012,   44.73,2,   19.12,2, -34.0008,  67.4119,   0.000,   0.195,20090416,       0116
33RR20090320,        I05,      89,          1,         22,         22,2,20090415,       2347,   -34.0014,    67.4120,       4709,   807.0,   8.3235,  34.6001,2,  34.5954,2,    208.4,2,   208.1,2,   11.36,2,   21.94,2,    0.00,2,    1.51,2,   2.822,2,   1.424,2,   0.6750,2,  2157.9,2,  2292.5,2,   7.7950,2,    20.00,-999.000,9,   1.863,2,   1.074,2,   8.3253,2,-999.000,9, -999.00,9, -999.00,   8.009,2,   0.019,   43.85,2,   23.40,2, -34.0009,  67.4118,   0.001,   0.210,20090416,       0114
33RR20090320,        I05,      89,          1,         21,         21,2,20090415,       2347,   -34.0014,    67.4120,       4709,   906.6,   6.9210,  34.4777,2,  34.4815,2,    204.3,2,   204.4,2,   16.52,2,   25.39,2,    0.00,2,    1.75,2,   2.535,2,   1.269,2,   0.6140,2,  2170.3,2,  2291.1,2,   7.7560,2,    20.00,   0.216,2,-999.000,9,-999.000,9,   6.9624,2,-999.000,9, -999.00,9, -999.00,-999.000,9,-999.000,   42.75,2,   26.89,2, -34.0009,  67.4118,-999.000,-999.000,20090416,       0111
33RR20090320,        I05,      89,          1,         20,         20,2,20090415,       2347,   -34.0014,    67.4120,       4709,  1006.4,   5.6675,  34.3938,2,  34.3938,2,    204.4,2,   205.6,2,   22.51,2,   28.26,2,    0.00,2,    1.96,2,   2.327,2,   1.149,2,   0.5380,2,  2183.5,2,  2292.2,2,   7.7243,2,    20.00,-999.000,9,   1.952,2,   2.310,2,   5.6670,2,-999.000,9, -999.00,9, -999.00,   8.380,2,   0.020,   41.79,2,   30.25,2, -34.0008,  67.4118,   0.001,   0.210,20090416,       0109
33RR20090320,        I05,      89,          1,         19,         19,2,20090415,       2347,   -34.0014,    67.4120,       4709,  1109.4,   4.6032,  34.3637,2,  34.3630,2,    201.4,2,   201.4,2,   31.65,2,   30.66,2,    0.00,2,    2.15,2,   1.845,2,   0.902,2,   0.3230,2,  2198.8,2,  2299.1,2,   7.6961,2,    20.00,   0.097,2,   1.974,2,   3.384,2,   4.6057,2,-999.000,9, -999.00,9, -999.00,   8.529,2,   0.020,   41.12,2,   32.03,2, -34.0008,  67.4119,   0.001,   0.211,20090416,       0106
33RR20090320,        I05,      89,          1,         18,         18,2,20090415,       2347,   -34.0014,    67.4120,       4709,  1209.2,   3.9878,  34.3830,2,  34.3825,2,    193.6,2,   192.9,2,   41.03,2,   32.21,2,    0.00,2,    2.27,2,   1.359,2,   0.657,2,   0.2630,2,  2212.9,2,  2308.1,2,   7.6738,2,    20.00,-999.000,9,-999.000,9,-999.000,9,   3.9868,2,-999.000,9, -999.00,9, -999.00,-999.000,9,-999.000,   40.50,2,   33.69,2, -34.0008,  67.4119,-999.000,-999.000,20090416,       0104
33RR20090320,        I05,      89,          1,         17,         17,2,20090415,       2347,   -34.0014,    67.4120,       4709,  1310.1,   3.5769,  34.4221,2,  34.4209,2,    185.4,2,   184.0,2,   49.38,2,   33.21,2,    0.00,2,    2.35,2,   0.994,2,   0.481,2,   0.1710,2,  2225.7,2,  2315.6,2,   7.6574,2,    20.00,   0.110,2,   1.913,2,   5.942,2,   3.5776,2,-999.000,9, -999.00,9, -999.00,   8.392,2,   0.013,   40.05,2,   34.91,2, -34.0007,  67.4118,   0.001,   0.201,20090416,       0101
33RR20090320,        I05,      89,          1,         16,         16,2,20090415,       2347,   -34.0014,    67.4120,       4709,  1409.9,   3.2918,  34.4699,2,  34.4691,2,    176.7,2,   175.7,2,   57.75,2,   33.95,2,    0.00,2,    2.41,2,   0.662,2,   0.312,2,   0.1190,2,  2237.3,2,  2322.9,2,   7.6453,2,    20.00,-999.000,9,-999.000,9,-999.000,9,   3.2924,2,-999.000,9, -999.00,9, -999.00,-999.000,9,-999.000,   39.80,2,   35.59,2, -34.0008,  67.4117,-999.000,-999.000,20090416,       0059
33RR20090320,        I05,      89,          1,         15,         15,2,20090415,       2347,   -34.0014,    67.4120,       4709,  1509.5,   3.0790,  34.5146,2,  34.5154,2,    172.2,2,   172.0,2,   63.62,2,   34.05,2,    0.00,2,    2.42,2,   0.446,2,   0.213,2,   0.1220,2,  2245.1,6,  2328.4,2,   7.6410,2,    20.00,   0.045,2,   1.914,2,   9.248,2,   3.0778,2,-999.000,9, -999.00,9, -999.00,   8.435,2,   0.013,   39.79,2,   35.64,2, -34.0009,  67.4117,   0.001,   0.202,20090416,       0056
33RR20090320,        I05,      89,          1,         14,         14,2,20090415,       2347,   -34.0014,    67.4120,       4709,  1612.3,   2.8896,  34.5613,2,  34.5608,2,    170.2,2,   171.1,2,   68.01,2,   33.93,2,    0.00,2,    2.40,2,   0.305,2,   0.147,2,   0.0240,2,  2250.9,2,  2334.0,2,   7.6406,2,    20.00,-999.000,9,   1.965,2,   9.291,2,   2.8916,2,-999.000,9, -999.00,9, -999.00,   8.667,2,   0.021,   39.80,2,   35.72,2, -34.0009,  67.4117,   0.001,   0.211,20090416,       0053
33RR20090320,        I05,      89,          1,         13,         13,2,20090415,       2347,   -34.0014,    67.4120,       4709,  1811.4,   2.6362,  34.6369,2,  34.6367,2,    173.3,2,   173.3,2,   73.25,2,   33.06,2,    0.00,2,    2.33,2,   0.141,2,   0.067,2,   0.0480,2,  2252.6,2,  2339.9,2,   7.6506,2,    20.00,   0.039,2,   1.926,2,  10.031,2,   2.6359,2,-999.000,9, -999.00,9, -999.00,   8.395,2,   0.021,   40.00,2,   34.59,2, -34.0012,  67.4117,   0.001,   0.211,20090416,       0049
33RR20090320,        I05,      89,          1,         12,         12,2,20090415,       2347,   -34.0014,    67.4120,       4709,  2013.5,   2.4139,  34.6932,2,  34.6921,2,    179.4,2,   179.7,2,   78.92,2,   32.08,2,    0.00,2,    2.25,2,   0.059,2,   0.029,2,   0.0380,2,  2253.0,2,  2346.9,2,   7.6675,2,    20.00,-999.000,9,   1.944,2,  10.268,2,   2.4138,2,-999.000,9, -999.00,9, -999.00,   8.522,2,   0.023,   40.03,2,   33.36,2, -34.0012,  67.4118,   0.001,   0.221,20090416,       0045
33RR20090320,        I05,      89,          1,         11,         11,2,20090415,       2347,   -34.0014,    67.4120,       4709,  2240.8,   2.1837,  34.7193,2,  34.7195,2,    178.7,2,   178.9,2,   93.73,2,   32.35,2,    0.00,2,    2.28,2,-999.000,5,-999.000,5,-999.0000,5,  2266.0,2,  2362.7,2,   7.6758,2,    20.00,   0.020,2,   1.960,2,  10.991,2,   2.1832,2,-999.000,9, -999.00,9, -999.00,   8.386,2,   0.045,   40.07,2,   33.81,2, -34.0012,  67.4119,   0.001,   0.209,20090416,       0040
33RR20090320,        I05,      89,          1,         10,         10,2,20090415,       2347,   -34.0014,    67.4120,       4709,  2517.5,   2.0190,  34.7286,2,  34.7279,2,    177.3,2,   177.3,2,  102.84,2,   32.71,2,    0.00,2,    2.32,2,   0.012,2,   0.008,2,   0.0000,2,  2274.9,2,  2373.6,2,   7.6771,2,    20.00,-999.000,9,-999.000,9,-999.000,9,   2.0190,2,-999.000,9, -999.00,9, -999.00,-999.000,9,-999.000,   40.07,2,   34.62,2, -34.0013,  67.4119,-999.000,-999.000,20090416,       0035
33RR20090320,        I05,      89,          1,          9,          9,2,20090415,       2347,   -34.0014,    67.4120,       4709,  2770.9,   1.8726,  34.7309,2,  34.7305,2,    177.1,2,   176.8,2,  110.26,2,   32.91,2,    0.00,2,    2.35,2,   0.006,6,   0.004,6,   0.0000,6,  2281.3,2,  2379.1,2,   7.6767,2,    20.00,   0.057,2,   1.983,2,  12.269,2,   1.8724,2,-999.000,9, -999.00,9, -999.00,   8.819,2,   0.021,   39.98,2,   34.15,2, -34.0014,  67.4118,   0.001,   0.196,20090416,       0029
33RR20090320,        I05,      89,          1,          8,          8,2,20090415,       2347,   -34.0014,    67.4120,       4709,  3024.1,   1.7456,  34.7300,2,  34.7298,2,    178.7,2,   178.6,2,  114.50,2,   33.07,2,    0.00,2,    2.36,2,   0.006,2,   0.004,2,   0.0000,6,  2282.2,2,  2382.3,2,   7.6778,2,    20.00,-999.000,9,-999.000,9,-999.000,9,   1.7462,2,-999.000,9, -999.00,9, -999.00,-999.000,9,-999.000,   39.80,2,   34.93,2, -34.0015,  67.4119,-999.000,-999.000,20090416,       0024
33RR20090320,        I05,      89,          1,          7,          7,2,20090415,       2347,   -34.0014,    67.4120,       4709,  3328.5,   1.6038,  34.7267,2,  34.7259,2,    182.7,2,   182.1,2,  117.45,2,   33.11,2,    0.00,2,    2.36,2,   0.010,2,   0.005,2,   0.0000,2,  2281.1,2,  2382.4,2,   7.6782,2,    20.00,-999.000,9,   1.800,2,  10.415,2,   1.6041,2,-999.000,9, -999.00,9, -999.00,   8.097,2,   0.020,   39.33,2,   35.01,2, -34.0016,  67.4120,   0.001,   0.207,20090416,       0018
33RR20090320,        I05,      89,          1,          6,          6,2,20090415,       2347,   -34.0014,    67.4120,       4709,  3631.8,   1.3319,  34.7182,2,  34.7172,2,    190.2,2,   190.6,2,  120.40,2,   32.94,2,    0.00,2,    2.33,2,   0.024,2,   0.011,2,   0.0000,2,  2274.6,2,  2379.4,2,   7.6795,2,    20.00,-999.000,9,   2.017,2,  10.687,2,   1.3322,2,-999.000,9, -999.00,9, -999.00,   8.840,2,   0.014,   40.20,2,   34.64,2, -34.0016,  67.4120,   0.001,   0.204,20090416,       0012
33RR20090320,        I05,      89,          1,          5,          5,2,20090415,       2347,   -34.0014,    67.4120,       4709,  3938.7,   0.9775,  34.7058,2,  34.7054,2,    201.3,2,   201.9,2,  124.65,2,   32.77,2,    0.00,2,    2.32,2,   0.023,2,   0.012,2,   0.0000,2,  2269.3,2,  2372.9,2,   7.6811,2,    20.00,-999.000,9,   1.946,2,   9.083,2,   0.9783,2,-999.000,9, -999.00,9, -999.00,   8.538,2,   0.015,   39.94,2,   33.98,2, -34.0015,  67.4118,   0.001,   0.214,20090416,       0005
33RR20090320,        I05,      89,          1,          4,          4,2,20090415,       2347,   -34.0014,    67.4120,       4709,  4243.7,   0.7399,  34.6963,2,  34.6959,2,    209.4,2,   210.1,2,  127.40,2,   32.71,2,    0.00,2,    2.31,2,   0.047,2,   0.024,2,   0.0000,2,  2265.1,2,  2369.3,2,   7.6821,2,    20.00,-999.000,9,   1.971,2,   7.781,2,   0.7407,2,-999.000,9, -999.00,9, -999.00,   8.768,2,   0.021,   40.13,2,   34.22,2, -34.0015,  67.4119,   0.001,   0.222,20090415,       2359
33RR20090320,        I05,      89,          1,          3,          3,2,20090415,       2347,   -34.0014,    67.4120,       4709,  4549.0,   0.6950,  34.6934,2,  34.6931,2,    212.4,2,   212.2,2,  128.65,2,   32.70,2,    0.00,2,    2.31,2,   0.059,2,   0.030,2,   0.0320,2,  2263.7,2,  2367.7,2,   7.6817,2,    20.00,-999.000,9,   1.970,2,   7.861,2,   0.6952,2,-999.000,9, -999.00,9, -999.00,   8.711,2,   0.014,   39.81,2,   34.07,2, -34.0014,  67.4120,   0.001,   0.203,20090415,       2353
33RR20090320,        I05,      89,          1,          2,          2,2,20090415,       2347,   -34.0014,    67.4120,       4709,  4648.3,   0.6981,  34.6931,2,  34.6922,2,    212.9,2,   212.1,2,  131.40,2,   32.69,2,    0.00,2,    2.31,2,   0.058,2,   0.028,2,   0.0320,2,  2264.3,2,  2366.1,2,   7.6824,2,    20.00,-999.000,9,   2.075,2,   8.003,2,   0.6984,2,-999.000,9, -999.00,9, -999.00,   9.124,2,   0.015,   39.89,2,   33.81,2, -34.0014,  67.4120,   0.001,   0.204,20090415,       2350
33RR20090320,        I05,      89,          1,          1,          1,2,20090415,       2347,   -34.0014,    67.4120,       4709,  4779.0,   0.7105,  34.6925,2,  34.6926,2,    212.9,2,   212.6,2,  132.01,2,   32.68,2,    0.00,2,    2.31,2,   0.059,6,   0.030,6,   0.0200,6,  2265.7,6,  2369.1,2,   7.6817,2,    20.00,-999.000,9,   1.980,2,   8.181,2,   0.7100,2,-999.000,9, -999.00,9, -999.00,   8.721,2,   0.015,   40.13,2,   34.40,2, -34.0014,  67.4119,   0.001,   0.203,20090415,       2347