BOTTLE,20220814CCHSIOAMB
EXPOCODE,SECT_ID,STNNBR,CASTNO,SAMPNO,BTLNBR,BTLNBR_FLAG_W,DATE,TIME,LATITUDE,LONGITUDE,DEPTH,CTDPRS,CTDTMP,CTDSAL,CTDSAL_FLAG_W,SALNTY,SALNTY_FLAG_W,CTDOXY,CTDOXY_FLAG_W,OXYGEN,OXYGEN_FLAG_W,SILCAT,SILCAT_FLAG_W,NITRAT,NITRAT_FLAG_W,NITRIT,NITRIT_FLAG_W,PHSPHT,PHSPHT_FLAG_W,CFC-11,CFC-11_FLAG_W,CFC-12,CFC-12_FLAG_W,SF6,SF6_FLAG_W,TCARBN,TCARBN_FLAG_W,ALKALI,ALKALI_FLAG_W,PH_TOT,PH_TOT_FLAG_W,PH_TMP,TRITUM,TRITUM_FLAG_W,HELIUM,HELIUM_FLAG_W,DELHE3,DELHE3_FLAG_W,REFTMP,REFTMP_FLAG_W,DELC13,DELC13_FLAG_W,DELC14,DELC14_FLAG_W,C14ERR,NEON,NEON_FLAG_W,NEONER,DOC,DOC_FLAG_W,TDN,TDN_FLAG_W,BTL_LAT,BTL_LON,HELIER,DELHER,BTL_DATE,BTL_TIME
,,,,,,,,,,,METERS,DBAR,ITS-90,PSS-78,,PSS-78,,UMOL/KG,,UMOL/KG,,UMOL/KG,,UMOL/KG,,UMOL/KG,,UMOL/KG,,PMOL/KG,,PMOL/KG,,FMOL/KG,,UMOL/KG,,UMOL/KG,,,,DEG C,TU,,NMOL/KG,,PERCNT,,DEG C,,/MILLE,,/MILLE,,/MILLE,NMOL/KG,,NMOL/KG,UMOL/KG,,UMOL/KG,,,,NMOL/KG,PERCNT,,
33RR20090320,        I05,      44,          1,         28,         28,2,20090402,       2037,   -33.1510,    45.6605,       1752,    10.1,  22.8619,  35.6128,2,  35.6121,2,    216.8,2,   217.3,2,    1.69,2,    0.08,2,    0.00,2,    0.08,2,   1.918,2,   1.177,2,   1.0820,2,  2031.2,6,  2332.5,2,   8.1177,2,    20.00,-999.000,9,-999.000,9,-999.000,9,  22.8596,2,-999.000,9, -999.00,9, -999.00,-999.000,9,-999.000, -999.00,9, -999.00,9, -33.1505,  45.6602,-999.000,-999.000,20090402,       2140
33RR20090320,        I05,      44,          1,         27,         27,2,20090402,       2037,   -33.1510,    45.6605,       1752,    29.7,  22.7854,  35.6520,2,  35.6493,2,    218.5,2,   218.4,2,    1.48,2,    0.02,2,    0.00,2,    0.08,2,   1.920,2,   1.165,2,   1.1190,2,  2033.5,2,  2334.0,2,   8.1182,2,    20.00,-999.000,9,-999.000,9,-999.000,9,  22.7949,2,-999.000,9, -999.00,9, -999.00,-999.000,9,-999.000, -999.00,9, -999.00,9, -33.1505,  45.6602,-999.000,-999.000,20090402,       2138
33RR20090320,        I05,      44,          1,         26,         26,2,20090402,       2037,   -33.1510,    45.6605,       1752,    54.5,  21.6208,  35.6206,2,  35.6230,2,    228.1,2,   227.1,2,    1.67,2,    0.08,2,    0.00,2,    0.09,2,-999.000,9,-999.000,9,-999.0000,9,  -999.0,9,  -999.0,9,-999.0000,9,  -999.00,-999.000,9,-999.000,9,-999.000,9,  21.7011,2,-999.000,9, -999.00,9, -999.00,-999.000,9,-999.000, -999.00,9, -999.00,9, -33.1506,  45.6601,-999.000,-999.000,20090402,       2137
33RR20090320,        I05,      44,          1,         25,         25,2,20090402,       2037,   -33.1510,    45.6605,       1752,    79.5,  17.9403,  35.5554,2,  35.5595,2,    238.1,2,   236.9,2,    2.05,2,    0.08,2,    0.00,2,    0.16,2,-999.000,9,-999.000,9,-999.0000,9,  -999.0,9,  -999.0,9,-999.0000,9,  -999.00,-999.000,9,-999.000,9,-999.000,9,  17.9652,2,-999.000,9, -999.00,9, -999.00,-999.000,9,-999.000, -999.00,9, -999.00,9, -33.1506,  45.6601,-999.000,-999.000,20090402,       2135
33RR20090320,        I05,      44,          1,         24,         24,2,20090402,       2037,   -33.1510,    45.6605,       1752,   104.8,  16.9067,  35.5445,2,  35.5443,2,    220.0,2,   222.2,2,    2.62,2,    2.09,2,    0.02,2,    0.30,2,   2.452,2,   1.460,2,   1.3080,2,  2075.4,2,  2329.0,2,   8.0340,2,    20.00,-999.000,9,-999.000,9,-999.000,9,  16.9120,2,-999.000,9, -999.00,9, -999.00,-999.000,9,-999.000, -999.00,9, -999.00,9, -33.1505,  45.6602,-999.000,-999.000,20090402,       2133
33RR20090320,        I05,      44,          1,         23,         23,2,20090402,       2037,   -33.1510,    45.6605,       1752,   130.5,  16.6533,  35.5432,2,  35.5425,2,    221.0,2,   221.4,2,    3.01,2,    3.42,2,    0.01,2,    0.35,2,-999.000,9,-999.000,9,-999.0000,9,  -999.0,9,  -999.0,9,-999.0000,9,  -999.00,-999.000,9,-999.000,9,-999.000,9,  16.6481,2,-999.000,9, -999.00,9, -999.00,-999.000,9,-999.000, -999.00,9, -999.00,9, -33.1505,  45.6602,-999.000,-999.000,20090402,       2131
33RR20090320,        I05,      44,          1,         22,         22,2,20090402,       2037,   -33.1510,    45.6605,       1752,   154.7,  16.4016,  35.5295,2,  35.5299,2,    220.9,2,   220.5,2,    3.19,2,    3.85,2,    0.00,2,    0.38,2,-999.000,9,-999.000,9,-999.0000,9,  -999.0,9,  -999.0,9,-999.0000,9,  -999.00,-999.000,9,-999.000,9,-999.000,9,  16.4030,2,-999.000,9, -999.00,9, -999.00,-999.000,9,-999.000, -999.00,9, -999.00,9, -33.1505,  45.6602,-999.000,-999.000,20090402,       2130
33RR20090320,        I05,      44,          1,         21,         21,2,20090402,       2037,   -33.1510,    45.6605,       1752,   179.5,  16.1898,  35.5159,2,  35.5153,2,    219.7,2,   218.8,2,    2.99,2,    4.19,2,    0.00,2,    0.39,2,   2.520,2,   1.494,2,   1.2660,2,  2083.9,2,  2326.7,2,   8.0146,2,    20.00,-999.000,9,-999.000,9,-999.000,9,  16.1849,2,-999.000,9, -999.00,9, -999.00,-999.000,9,-999.000, -999.00,9, -999.00,9, -33.1505,  45.6602,-999.000,-999.000,20090402,       2129
33RR20090320,        I05,      44,          1,         20,         20,2,20090402,       2037,   -33.1510,    45.6605,       1752,   204.8,  15.9721,  35.5015,2,  35.4990,2,    219.4,2,   218.8,2,    3.17,2,    4.67,2,    0.00,2,    0.43,2,-999.000,9,-999.000,9,-999.0000,9,  -999.0,9,  -999.0,9,-999.0000,9,  -999.00,-999.000,9,-999.000,9,-999.000,9,  15.9722,2,-999.000,9, -999.00,9, -999.00,-999.000,9,-999.000, -999.00,9, -999.00,9, -33.1505,  45.6602,-999.000,-999.000,20090402,       2127
33RR20090320,        I05,      44,          1,         19,         19,2,20090402,       2037,   -33.1510,    45.6605,       1752,   229.6,  15.6977,  35.4839,2,  35.4842,2,    213.9,2,   217.0,2,    3.55,2,    5.28,2,    0.00,2,    0.47,2,-999.000,9,-999.000,9,-999.0000,9,  -999.0,9,  -999.0,9,-999.0000,9,  -999.00,-999.000,9,-999.000,9,-999.000,9,  15.6987,2,-999.000,9, -999.00,9, -999.00,-999.000,9,-999.000, -999.00,9, -999.00,9, -33.1505,  45.6602,-999.000,-999.000,20090402,       2126
33RR20090320,        I05,      44,          1,         18,         18,2,20090402,       2037,   -33.1510,    45.6605,       1752,   254.1,  15.4209,  35.4668,2,  35.4665,2,    219.5,2,   218.1,2, -999.00,5, -999.00,5, -999.00,5, -999.00,5,   2.620,2,   1.538,2,   1.2580,2,  2094.8,2,  2325.3,2,   7.9931,2,    20.00,-999.000,9,-999.000,9,-999.000,9,  15.4233,2,-999.000,9, -999.00,9, -999.00,-999.000,9,-999.000, -999.00,9, -999.00,9, -33.1506,  45.6602,-999.000,-999.000,20090402,       2124
33RR20090320,        I05,      44,          1,         17,         17,2,20090402,       2037,   -33.1510,    45.6605,       1752,   303.6,  14.8444,  35.4197,2,  35.4195,2,    218.2,2,   216.8,2,    3.74,2,    6.65,2,    0.00,2,    0.55,2,-999.000,9,-999.000,9,-999.0000,9,  -999.0,9,  -999.0,9,-999.0000,9,  -999.00,-999.000,9,-999.000,9,-999.000,9,  14.8459,2,-999.000,9, -999.00,9, -999.00,-999.000,9,-999.000, -999.00,9, -999.00,9, -33.1506,  45.6602,-999.000,-999.000,20090402,       2122
33RR20090320,        I05,      44,          1,         16,         16,2,20090402,       2037,   -33.1510,    45.6605,       1752,   354.8,  14.2294,  35.3693,2,  35.3679,2,    222.6,2,   222.6,2,    3.53,2,    7.09,2,    0.00,2,    0.58,2,-999.000,9,-999.000,9,-999.0000,9,  -999.0,9,  -999.0,9,-999.0000,9,  -999.00,-999.000,9,-999.000,9,-999.000,9,  14.2270,2,-999.000,9, -999.00,9, -999.00,-999.000,9,-999.000, -999.00,9, -999.00,9, -33.1507,  45.6603,-999.000,-999.000,20090402,       2120
33RR20090320,        I05,      44,          1,         15,         15,2,20090402,       2037,   -33.1510,    45.6605,       1752,   404.0,  13.8071,  35.3272,2,  35.3273,2,    224.6,2,   224.2,2,    3.52,2,    7.80,2,    0.00,2,    0.62,2,   2.861,6,   1.645,6,   1.2270,6,  2106.7,2,  2318.4,2,   7.9566,2,    20.00,-999.000,9,-999.000,9,-999.000,9,  13.8059,2,-999.000,9, -999.00,9, -999.00,-999.000,9,-999.000, -999.00,9, -999.00,9, -33.1507,  45.6603,-999.000,-999.000,20090402,       2118
33RR20090320,        I05,      44,          1,         14,         14,2,20090402,       2037,   -33.1510,    45.6605,       1752,   453.2,  13.4427,  35.2871,2,  35.2891,2,    224.1,2,   223.9,2,    3.71,2,    8.62,2,    0.00,2,    0.67,2,-999.000,9,-999.000,9,-999.0000,9,  -999.0,9,  -999.0,9,-999.0000,9,  -999.00,-999.000,9,-999.000,9,-999.000,9,  13.4441,2,-999.000,9, -999.00,9, -999.00,-999.000,9,-999.000, -999.00,9, -999.00,9, -33.1507,  45.6602,-999.000,-999.000,20090402,       2116
33RR20090320,        I05,      44,          1,         13,         13,2,20090402,       2037,   -33.1510,    45.6605,       1752,   500.2,  13.2163,  35.2600,2,  35.2589,2,    224.7,2,   223.8,2,    3.89,2,    9.22,2,    0.00,2,    0.71,2,-999.000,9,-999.000,9,-999.0000,9,  -999.0,9,  -999.0,9,-999.0000,9,  -999.00,-999.000,9,-999.000,9,-999.000,9,  13.2166,2,-999.000,9, -999.00,9, -999.00,-999.000,9,-999.000, -999.00,9, -999.00,9, -33.1506,  45.6601,-999.000,-999.000,20090402,       2114
33RR20090320,        I05,      44,          1,         12,         12,2,20090402,       2037,   -33.1510,    45.6605,       1752,   601.0,  12.5345,  35.1610,2,  35.1615,2,    224.6,2,   224.6,2,    4.08,2,   10.59,2,    0.00,2,    0.80,2,-999.000,9,-999.000,9,-999.0000,9,  -999.0,9,  -999.0,9,-999.0000,9,  -999.00,-999.000,9,-999.000,9,-999.000,9,  12.5305,2,-999.000,9, -999.00,9, -999.00,-999.000,9,-999.000, -999.00,9, -999.00,9, -33.1506,  45.6601,-999.000,-999.000,20090402,       2111
33RR20090320,        I05,      44,          1,         11,         11,2,20090402,       2037,   -33.1510,    45.6605,       1752,   700.0,  11.5704,  35.0152,2,  35.0174,2,    219.9,2,   219.6,2,    4.85,2,   12.99,2,    0.00,2,    0.96,2,   3.093,2,   1.679,2,   0.9840,2,  2123.7,2,  2307.0,2,   7.8961,2,    20.00,-999.000,9,-999.000,9,-999.000,9,  11.5739,2,-999.000,9, -999.00,9, -999.00,-999.000,9,-999.000, -999.00,9, -999.00,9, -33.1505,  45.6602,-999.000,-999.000,20090402,       2107
33RR20090320,        I05,      44,          1,         10,         10,2,20090402,       2037,   -33.1510,    45.6605,       1752,   799.0,  10.5178,  34.8682,2,  34.8678,2,    217.1,2,   217.6,2,    6.60,2,   15.62,2,    0.00,2,    1.12,2,-999.000,9,-999.000,9,-999.0000,9,  -999.0,9,  -999.0,9,-999.0000,9,  -999.00,-999.000,9,-999.000,9,-999.000,9,  10.5197,2,-999.000,9, -999.00,9, -999.00,-999.000,9,-999.000, -999.00,9, -999.00,9, -33.1505,  45.6602,-999.000,-999.000,20090402,       2104
33RR20090320,        I05,      44,          1,          9,          9,2,20090402,       2037,   -33.1510,    45.6605,       1752,   898.8,   9.2466,  34.7132,2,  34.7137,2,    212.0,2,   212.4,2,    9.33,2,   18.91,2,    0.00,2,    1.35,2,-999.000,9,-999.000,9,-999.0000,9,  -999.0,9,  -999.0,9,-999.0000,9,  -999.00,-999.000,9,-999.000,9,-999.000,9,   9.2471,2,-999.000,9, -999.00,9, -999.00,-999.000,9,-999.000, -999.00,9, -999.00,9, -33.1505,  45.6601,-999.000,-999.000,20090402,       2101
33RR20090320,        I05,      44,          1,          8,          8,2,20090402,       2037,   -33.1510,    45.6605,       1752,   998.6,   7.9624,  34.5877,2,  34.5884,2,    204.6,2,   204.8,2,   14.40,2,   22.70,2,    0.00,2,    1.60,2,-999.000,9,-999.000,9,-999.0000,9,  -999.0,9,  -999.0,9,-999.0000,9,  -999.00,-999.000,9,-999.000,9,-999.000,9,   7.9656,2,-999.000,9, -999.00,9, -999.00,-999.000,9,-999.000, -999.00,9, -999.00,9, -33.1506,  45.6601,-999.000,-999.000,20090402,       2058
33RR20090320,        I05,      44,          1,          7,          7,2,20090402,       2037,   -33.1510,    45.6605,       1752,  1100.4,   6.4235,  34.4708,2,  34.4710,2,    200.6,2,   200.7,2,   22.23,2,   26.67,2,    0.00,2,    1.89,2,   2.154,6,   1.074,6,   0.4550,6,  2175.8,2,  2294.5,2,   7.7400,2,    20.00,-999.000,9,-999.000,9,-999.000,9,   6.4227,2,-999.000,9, -999.00,9, -999.00,-999.000,9,-999.000, -999.00,9, -999.00,9, -33.1508,  45.6601,-999.000,-999.000,20090402,       2055
33RR20090320,        I05,      44,          1,          6,          6,2,20090402,       2037,   -33.1510,    45.6605,       1752,  1199.9,   5.1913,  34.4093,2,  34.4105,2,    199.2,2,   199.1,2,   30.29,2,   29.27,2,    0.00,2,    2.06,2,-999.000,9,-999.000,9,-999.0000,9,  -999.0,9,  -999.0,9,-999.0000,9,  -999.00,-999.000,9,-999.000,9,-999.000,9,   5.1917,2,-999.000,9, -999.00,9, -999.00,-999.000,9,-999.000, -999.00,9, -999.00,9, -33.1509,  45.6601,-999.000,-999.000,20090402,       2052
33RR20090320,        I05,      44,          1,          5,          5,2,20090402,       2037,   -33.1510,    45.6605,       1752,  1300.2,   4.5049,  34.4150,2,  34.4150,2,    192.0,2,   192.1,2,   39.15,2,   31.09,2,    0.00,2,    2.20,2,-999.000,9,-999.000,9,-999.0000,9,  -999.0,9,  -999.0,9,-999.0000,9,  -999.00,-999.000,9,-999.000,9,-999.000,9,   4.5081,2,-999.000,9, -999.00,9, -999.00,-999.000,9,-999.000, -999.00,9, -999.00,9, -33.1510,  45.6602,-999.000,-999.000,20090402,       2049
33RR20090320,        I05,      44,          1,          4,          4,2,20090402,       2037,   -33.1510,    45.6605,       1752,  1400.0,   3.9694,  34.4378,2,  34.4370,2,    186.0,2,   185.2,2,   47.25,2,   32.43,2,    0.00,2,    2.30,2,   1.121,2,   0.533,2,   0.1920,2,  2218.4,2,  2314.1,2,   7.6695,2,    20.00,-999.000,9,-999.000,9,-999.000,9,   3.9691,2,-999.000,9, -999.00,9, -999.00,-999.000,9,-999.000, -999.00,9, -999.00,9, -33.1510,  45.6604,-999.000,-999.000,20090402,       2046
33RR20090320,        I05,      44,          1,          3,          3,2,20090402,       2037,   -33.1510,    45.6605,       1752,  1502.0,   3.5614,  34.4848,2,  34.4836,2,    180.1,2,   178.3,2,   55.77,2,   33.08,2,    0.00,2,    2.35,2,-999.000,9,-999.000,9,-999.0000,9,  -999.0,9,  -999.0,9,-999.0000,9,  -999.00,-999.000,9,-999.000,9,-999.000,9,   3.5625,2,-999.000,9, -999.00,9, -999.00,-999.000,9,-999.000, -999.00,9, -999.00,9, -33.1511,  45.6604,-999.000,-999.000,20090402,       2043
33RR20090320,        I05,      44,          1,          2,          2,2,20090402,       2037,   -33.1510,    45.6605,       1752,  1639.3,   3.1797,  34.5444,2,  34.5456,2,    176.9,2,   175.8,2,   62.92,2,   33.19,2,    0.00,2,    2.36,2,-999.000,9,-999.000,9,-999.0000,9,  -999.0,9,  -999.0,9,-999.0000,9,  -999.00,-999.000,9,-999.000,9,-999.000,9,   3.1786,2,-999.000,9, -999.00,9, -999.00,-999.000,9,-999.000, -999.00,9, -999.00,9, -33.1511,  45.6605,-999.000,-999.000,20090402,       2040
33RR20090320,        I05,      44,          1,          1,          1,2,20090402,       2037,   -33.1510,    45.6605,       1752,  1755.3,   3.0653,  34.5776,2,  34.5777,2,    174.1,2,   175.6,2,   65.50,2,   32.96,2,    0.00,2,    2.35,2,   0.411,2,   0.193,2,   0.0720,2,  2243.0,2,  2333.1,2,   7.6559,2,    20.00,-999.000,9,-999.000,9,-999.000,9,   3.0641,2,-999.000,9, -999.00,9, -999.00,-999.000,9,-999.000, -999.00,9, -999.00,9, -33.1510,  45.6605,-999.000,-999.000,20090402,       2037