BOTTLE,20220814CCHSIOAMB
EXPOCODE,SECT_ID,STNNBR,CASTNO,SAMPNO,BTLNBR,BTLNBR_FLAG_W,DATE,TIME,LATITUDE,LONGITUDE,DEPTH,CTDPRS,CTDTMP,CTDSAL,CTDSAL_FLAG_W,SALNTY,SALNTY_FLAG_W,CTDOXY,CTDOXY_FLAG_W,OXYGEN,OXYGEN_FLAG_W,SILCAT,SILCAT_FLAG_W,NITRAT,NITRAT_FLAG_W,NITRIT,NITRIT_FLAG_W,PHSPHT,PHSPHT_FLAG_W,CFC-11,CFC-11_FLAG_W,CFC-12,CFC-12_FLAG_W,SF6,SF6_FLAG_W,TCARBN,TCARBN_FLAG_W,ALKALI,ALKALI_FLAG_W,PH_TOT,PH_TOT_FLAG_W,PH_TMP,TRITUM,TRITUM_FLAG_W,HELIUM,HELIUM_FLAG_W,DELHE3,DELHE3_FLAG_W,REFTMP,REFTMP_FLAG_W,DELC13,DELC13_FLAG_W,DELC14,DELC14_FLAG_W,C14ERR,NEON,NEON_FLAG_W,NEONER,DOC,DOC_FLAG_W,TDN,TDN_FLAG_W,BTL_LAT,BTL_LON,HELIER,DELHER,BTL_DATE,BTL_TIME
,,,,,,,,,,,METERS,DBAR,ITS-90,PSS-78,,PSS-78,,UMOL/KG,,UMOL/KG,,UMOL/KG,,UMOL/KG,,UMOL/KG,,UMOL/KG,,PMOL/KG,,PMOL/KG,,FMOL/KG,,UMOL/KG,,UMOL/KG,,,,DEG C,TU,,NMOL/KG,,PERCNT,,DEG C,,/MILLE,,/MILLE,,/MILLE,NMOL/KG,,NMOL/KG,UMOL/KG,,UMOL/KG,,,,NMOL/KG,PERCNT,,
33RR20090320,        I05,      94,          1,         36,         36,2,20090417,       0846,   -34.0015,    70.2700,       4002,     4.4,  20.0091,  35.5184,2,  35.5190,2,    225.5,2,   227.6,2,    1.57,2,    0.14,2,    0.00,2,    0.16,2,-999.000,9,-999.000,9,-999.0000,9,  2059.8,6,  2334.8,2,   8.0731,2,    20.00,-999.000,9,-999.000,9,-999.000,9,  20.0065,2,-999.000,9, -999.00,9, -999.00,-999.000,9,-999.000, -999.00,9, -999.00,9, -34.0007,  70.2700,-999.000,-999.000,20090417,       1028
33RR20090320,        I05,      94,          1,         35,         35,2,20090417,       0846,   -34.0015,    70.2700,       4002,    20.4,  19.9982,  35.5190,2,  35.5190,2,    228.8,2,   227.7,2,    1.36,2,    0.14,2,    0.00,2,    0.15,2,-999.000,9,-999.000,9,-999.0000,9,  2060.2,2,  2334.8,2,   8.0731,2,    20.00,-999.000,9,-999.000,9,-999.000,9,  19.9987,2,-999.000,9, -999.00,9, -999.00,-999.000,9,-999.000, -999.00,9, -999.00,9, -34.0007,  70.2700,-999.000,-999.000,20090417,       1027
33RR20090320,        I05,      94,          1,         34,         34,2,20090417,       0846,   -34.0015,    70.2700,       4002,    40.9,  19.9451,  35.5202,2,  35.5202,2,    229.5,2,   228.0,2,    1.55,2,    0.09,2,    0.00,2,    0.15,2,-999.000,9,-999.000,9,-999.0000,9,  -999.0,9,  -999.0,9,-999.0000,9,  -999.00,-999.000,9,-999.000,9,-999.000,9,  19.9431,2,-999.000,9, -999.00,9, -999.00,-999.000,9,-999.000, -999.00,9, -999.00,9, -34.0007,  70.2701,-999.000,-999.000,20090417,       1026
33RR20090320,        I05,      94,          1,         33,         33,2,20090417,       0846,   -34.0015,    70.2700,       4002,    66.2,  19.5821,  35.4785,2,  35.4778,2,    230.5,2,   230.7,2,    1.33,2,    0.09,2,    0.00,2,    0.16,2,-999.000,9,-999.000,9,-999.0000,9,  2059.8,2,  2331.2,2,   8.0676,2,    20.00,-999.000,9,-999.000,9,-999.000,9,  19.5772,2,-999.000,9, -999.00,9, -999.00,-999.000,9,-999.000, -999.00,9, -999.00,9, -34.0007,  70.2702,-999.000,-999.000,20090417,       1024
33RR20090320,        I05,      94,          1,         32,         32,2,20090417,       0846,   -34.0015,    70.2700,       4002,    91.1,  15.6020,  35.3467,2,  35.3463,2,    258.4,2,   259.1,2,    1.53,2,    0.15,2,    0.00,2,    0.22,2,-999.000,9,-999.000,9,-999.0000,9,  -999.0,9,  -999.0,9,-999.0000,9,  -999.00,-999.000,9,-999.000,9,-999.000,9,  15.5924,2,-999.000,9, -999.00,9, -999.00,-999.000,9,-999.000, -999.00,9, -999.00,9, -34.0007,  70.2702,-999.000,-999.000,20090417,       1023
33RR20090320,        I05,      94,          1,         31,         31,2,20090417,       0846,   -34.0015,    70.2700,       4002,   135.0,  13.7664,  35.2601,2,  35.2596,2,    237.2,2,   235.4,2,    2.56,2,    5.38,2,    0.10,2,    0.52,2,-999.000,9,-999.000,9,-999.0000,9,  2101.7,2,  2317.4,2,   7.9695,2,    20.00,-999.000,9,-999.000,9,-999.000,9,  13.7678,2,-999.000,9, -999.00,9, -999.00,-999.000,9,-999.000, -999.00,9, -999.00,9, -34.0009,  70.2702,-999.000,-999.000,20090417,       1021
33RR20090320,        I05,      94,          1,         30,         30,2,20090417,       0846,   -34.0015,    70.2700,       4002,   185.4,  13.1175,  35.2162,2,  35.2135,2,    234.4,2,   235.2,2,    3.58,2,    7.70,2,    0.00,2,    0.63,2,-999.000,9,-999.000,9,-999.0000,9,  -999.0,9,  -999.0,9,-999.0000,9,  -999.00,-999.000,9,-999.000,9,-999.000,9,  13.1301,2,-999.000,9, -999.00,9, -999.00,-999.000,9,-999.000, -999.00,9, -999.00,9, -34.0010,  70.2702,-999.000,-999.000,20090417,       1019
33RR20090320,        I05,      94,          1,         29,         29,2,20090417,       0846,   -34.0015,    70.2700,       4002,   236.9,  12.8756,  35.1992,2,  35.1996,2,    237.8,2,   237.5,2,    3.78,2,    8.27,2,    0.00,2,    0.66,2,-999.000,9,-999.000,9,-999.0000,9,  2108.6,2,  2313.5,2,   7.9462,2,    20.00,-999.000,9,-999.000,9,-999.000,9,  12.8649,2,-999.000,9, -999.00,9, -999.00,-999.000,9,-999.000, -999.00,9, -999.00,9, -34.0010,  70.2702,-999.000,-999.000,20090417,       1017
33RR20090320,        I05,      94,          1,         28,         28,2,20090417,       0846,   -34.0015,    70.2700,       4002,   285.9,  12.5960,  35.1655,2,  35.1691,2,    234.2,2,   234.0,2,    4.19,2,    9.36,2,    0.00,2,    0.72,2,-999.000,9,-999.000,9,-999.0000,9,  -999.0,9,  -999.0,9,-999.0000,9,  -999.00,-999.000,9,-999.000,9,-999.000,9,  12.5938,2,-999.000,9, -999.00,9, -999.00,-999.000,9,-999.000, -999.00,9, -999.00,9, -34.0010,  70.2702,-999.000,-999.000,20090417,       1016
33RR20090320,        I05,      94,          1,         27,         27,2,20090417,       0846,   -34.0015,    70.2700,       4002,   336.3,  12.3406,  35.1302,2,  35.1299,2,    239.1,2,   239.4,2,    4.18,2,    9.52,2,    0.00,2,    0.74,2,-999.000,9,-999.000,9,-999.0000,9,  2110.0,2,  2310.8,2,   7.9338,2,    20.00,-999.000,9,-999.000,9,-999.000,9,  12.3400,2,-999.000,9, -999.00,9, -999.00,-999.000,9,-999.000, -999.00,9, -999.00,9, -34.0010,  70.2702,-999.000,-999.000,20090417,       1014
33RR20090320,        I05,      94,          1,         26,         26,2,20090417,       0846,   -34.0015,    70.2700,       4002,   385.6,  12.2447,  35.1234,2,  35.1228,2,    243.3,2,   243.7,2,    4.16,2,    9.47,2,    0.00,2,    0.74,2,-999.000,9,-999.000,9,-999.0000,9,  -999.0,9,  -999.0,9,-999.0000,9,  -999.00,-999.000,9,-999.000,9,-999.000,9,  12.2441,2,-999.000,9, -999.00,9, -999.00,-999.000,9,-999.000, -999.00,9, -999.00,9, -34.0010,  70.2703,-999.000,-999.000,20090417,       1012
33RR20090320,        I05,      94,          1,         25,         25,2,20090417,       0846,   -34.0015,    70.2700,       4002,   435.9,  12.0167,  35.0794,2,  35.0793,2,    240.7,2,   240.5,2,    4.35,2,   10.24,2,    0.00,2,    0.79,2,-999.000,9,-999.000,9,-999.0000,9,  2111.0,2,  2308.6,2,   7.9271,2,    20.00,-999.000,9,-999.000,9,-999.000,9,  12.0127,2,-999.000,9, -999.00,9, -999.00,-999.000,9,-999.000, -999.00,9, -999.00,9, -34.0010,  70.2702,-999.000,-999.000,20090417,       1011
33RR20090320,        I05,      94,          1,         24,         24,2,20090417,       0846,   -34.0015,    70.2700,       4002,   486.1,  11.7007,  35.0245,2,  35.0315,2,    239.5,2,   238.5,2,    4.56,2,   11.18,2,    0.00,2,    0.85,2,-999.000,9,-999.000,9,-999.0000,9,  -999.0,9,  -999.0,9,-999.0000,9,  -999.00,-999.000,9,-999.000,9,-999.000,9,  11.7020,2,-999.000,9, -999.00,9, -999.00,-999.000,9,-999.000, -999.00,9, -999.00,9, -34.0010,  70.2702,-999.000,-999.000,20090417,       1009
33RR20090320,        I05,      94,          1,         23,         23,2,20090417,       0846,   -34.0015,    70.2700,       4002,   565.9,  11.1140,  34.9342,2,  34.9365,2,    233.2,2,   233.2,2,    4.96,2,   12.89,2,    0.00,2,    0.96,2,-999.000,9,-999.000,9,-999.0000,9,  2121.3,6,  2303.1,2,   7.8954,2,    20.00,-999.000,9,-999.000,9,-999.000,9,  11.1169,2,-999.000,9, -999.00,9, -999.00,-999.000,9,-999.000, -999.00,9, -999.00,9, -34.0011,  70.2702,-999.000,-999.000,20090417,       1007
33RR20090320,        I05,      94,          1,         22,         22,2,20090417,       0846,   -34.0015,    70.2700,       4002,   665.5,  10.3550,  34.8288,2,  34.8287,2,    228.6,2,   228.1,2,    5.99,2,   15.01,2,    0.00,2,    1.09,2,-999.000,9,-999.000,9,-999.0000,9,  -999.0,9,  -999.0,9,-999.0000,9,  -999.00,-999.000,9,-999.000,9,-999.000,9,  10.3621,2,-999.000,9, -999.00,9, -999.00,-999.000,9,-999.000, -999.00,9, -999.00,9, -34.0012,  70.2702,-999.000,-999.000,20090417,       1005
33RR20090320,        I05,      94,          1,         21,         21,2,20090417,       0846,   -34.0015,    70.2700,       4002,   761.5,   9.5610,  34.7294,2,  34.7294,2,    219.3,2,   218.7,2,    7.86,2,   17.65,2,    0.00,2,    1.27,2,-999.000,9,-999.000,9,-999.0000,9,  -999.0,9,  -999.0,9,-999.0000,9,  -999.00,-999.000,9,-999.000,9,-999.000,9,   9.5585,2,-999.000,9, -999.00,9, -999.00,-999.000,9,-999.000, -999.00,9, -999.00,9, -34.0012,  70.2703,-999.000,-999.000,20090417,       1002
33RR20090320,        I05,      94,          1,         20,         20,2,20090417,       0846,   -34.0015,    70.2700,       4002,   859.8,   8.4695,  34.6076,2,  34.6080,2,    210.5,2,   211.9,2,   10.98,2,   20.94,2,    0.00,2,    1.48,2,-999.000,9,-999.000,9,-999.0000,9,  -999.0,9,  -999.0,9,-999.0000,9,  -999.00,-999.000,9,-999.000,9,-999.000,9,   8.4748,2,-999.000,9, -999.00,9, -999.00,-999.000,9,-999.000, -999.00,9, -999.00,9, -34.0011,  70.2702,-999.000,-999.000,20090417,       0959
33RR20090320,        I05,      94,          1,         19,         19,2,20090417,       0846,   -34.0015,    70.2700,       4002,   961.5,   6.9973,  34.4808,2,  34.4786,2,    204.0,2,   204.3,2,   17.45,2,   25.16,2,    0.00,2,    1.77,2,-999.000,9,-999.000,9,-999.0000,9,  2164.8,2,  2290.6,2,   7.7555,2,    20.00,-999.000,9,-999.000,9,-999.000,9,   7.0009,2,-999.000,9, -999.00,9, -999.00,-999.000,9,-999.000, -999.00,9, -999.00,9, -34.0010,  70.2701,-999.000,-999.000,20090417,       0957
33RR20090320,        I05,      94,          1,         18,         18,2,20090417,       0846,   -34.0015,    70.2700,       4002,  1062.2,   5.3470,  34.3789,2,  34.3785,2,    203.3,2,   204.5,2,   26.04,2,   28.82,2,    0.00,2,    2.03,2,-999.000,9,-999.000,9,-999.0000,9,  -999.0,9,  -999.0,9,-999.0000,9,  -999.00,-999.000,9,-999.000,9,-999.000,9,   5.3441,2,-999.000,9, -999.00,9, -999.00,-999.000,9,-999.000, -999.00,9, -999.00,9, -34.0008,  70.2700,-999.000,-999.000,20090417,       0954
33RR20090320,        I05,      94,          1,         17,         17,2,20090417,       0846,   -34.0015,    70.2700,       4002,  1161.9,   4.5370,  34.3622,2,  34.3617,2,    201.6,2,   201.4,2,   33.59,2,   30.55,2,    0.00,2,    2.18,2,-999.000,9,-999.000,9,-999.0000,9,  -999.0,9,  -999.0,9,-999.0000,9,  -999.00,-999.000,9,-999.000,9,-999.000,9,   4.5361,2,-999.000,9, -999.00,9, -999.00,-999.000,9,-999.000, -999.00,9, -999.00,9, -34.0007,  70.2699,-999.000,-999.000,20090417,       0952
33RR20090320,        I05,      94,          1,         16,         16,2,20090417,       0846,   -34.0015,    70.2700,       4002,  1262.2,   4.0096,  34.3811,2,  34.3803,2,    193.6,2,   193.3,2,   42.01,2,   31.97,2,    0.00,2,    2.29,2,-999.000,9,-999.000,9,-999.0000,9,  -999.0,9,  -999.0,9,-999.0000,9,  -999.00,-999.000,9,-999.000,9,-999.000,9,   4.0098,2,-999.000,9, -999.00,9, -999.00,-999.000,9,-999.000, -999.00,9, -999.00,9, -34.0006,  70.2699,-999.000,-999.000,20090417,       0950
33RR20090320,        I05,      94,          1,         15,         15,2,20090417,       0846,   -34.0015,    70.2700,       4002,  1362.7,   3.6054,  34.4268,2,  34.4270,2,    182.3,2,   181.9,2,   51.72,2,   33.14,2,    0.00,2,    2.38,2,-999.000,9,-999.000,9,-999.0000,9,  2225.4,2,  2316.4,2,   7.6561,2,    20.00,-999.000,9,-999.000,9,-999.000,9,   3.6047,2,-999.000,9, -999.00,9, -999.00,-999.000,9,-999.000, -999.00,9, -999.00,9, -34.0005,  70.2699,-999.000,-999.000,20090417,       0947
33RR20090320,        I05,      94,          1,         14,         14,2,20090417,       0846,   -34.0015,    70.2700,       4002,  1464.7,   3.3411,  34.4766,2,  34.4763,2,    172.3,2,   172.9,2,   60.39,2,   33.82,2,    0.00,2,    2.43,2,-999.000,9,-999.000,9,-999.0000,9,  -999.0,9,  -999.0,9,-999.0000,9,  -999.00,-999.000,9,-999.000,9,-999.000,9,   3.3406,2,-999.000,9, -999.00,9, -999.00,-999.000,9,-999.000, -999.00,9, -999.00,9, -34.0004,  70.2699,-999.000,-999.000,20090417,       0945
33RR20090320,        I05,      94,          1,         13,         13,2,20090417,       0846,   -34.0015,    70.2700,       4002,  1564.1,   3.0543,  34.5188,2,  34.5176,2,    172.7,2,   172.4,2,   64.63,2,   33.76,2,    0.00,2,    2.43,2,-999.000,9,-999.000,9,-999.0000,9,  -999.0,9,  -999.0,9,-999.0000,9,  -999.00,-999.000,9,-999.000,9,-999.000,9,   3.0543,2,-999.000,9, -999.00,9, -999.00,-999.000,9,-999.000, -999.00,9, -999.00,9, -34.0004,  70.2700,-999.000,-999.000,20090417,       0942
33RR20090320,        I05,      94,          1,         12,         12,2,20090417,       0846,   -34.0015,    70.2700,       4002,  1735.5,   2.7842,  34.5941,2,  34.5938,2,    170.7,2,   170.7,2,   71.41,2,   33.44,2,    0.00,2,    2.40,2,-999.000,9,-999.000,9,-999.0000,9,  -999.0,9,  -999.0,9,-999.0000,9,  -999.00,-999.000,9,-999.000,9,-999.000,9,   2.7845,2,-999.000,9, -999.00,9, -999.00,-999.000,9,-999.000, -999.00,9, -999.00,9, -34.0005,  70.2700,-999.000,-999.000,20090417,       0939
33RR20090320,        I05,      94,          1,         11,         11,2,20090417,       0846,   -34.0015,    70.2700,       4002,  1937.6,   2.5445,  34.6638,2,  34.6626,2,    175.6,2,   175.5,2,   77.36,2,   32.39,2,    0.00,2,    2.32,2,-999.000,9,-999.000,9,-999.0000,9,  2250.3,6,  2341.4,2,   7.6578,2,    20.00,-999.000,9,-999.000,9,-999.000,9,   2.5462,2,-999.000,9, -999.00,9, -999.00,-999.000,9,-999.000, -999.00,9, -999.00,9, -34.0007,  70.2701,-999.000,-999.000,20090417,       0934
33RR20090320,        I05,      94,          1,         10,         10,2,20090417,       0846,   -34.0015,    70.2700,       4002,  2163.1,   2.3140,  34.7101,2,  34.7090,2,    181.1,2,   181.5,2,   84.39,2,   31.64,2,    0.00,2,    2.27,2,-999.000,9,-999.000,9,-999.0000,9,  -999.0,9,  -999.0,9,-999.0000,9,  -999.00,-999.000,9,-999.000,9,-999.000,9,   2.3142,2,-999.000,9, -999.00,9, -999.00,-999.000,9,-999.000, -999.00,9, -999.00,9, -34.0008,  70.2701,-999.000,-999.000,20090417,       0928
33RR20090320,        I05,      94,          1,          9,          9,2,20090417,       0846,   -34.0015,    70.2700,       4002,  2411.1,   2.0662,  34.7271,2,  34.7265,2,    179.2,2,   179.2,2,   99.78,2,   32.17,2,    0.00,2,    2.31,2,   0.011,2,   0.006,2,   0.0000,2,  -999.0,9,  -999.0,9,-999.0000,9,  -999.00,-999.000,9,-999.000,9,-999.000,9,   2.0656,2,-999.000,9, -999.00,9, -999.00,-999.000,9,-999.000, -999.00,9, -999.00,9, -34.0009,  70.2700,-999.000,-999.000,20090417,       0923
33RR20090320,        I05,      94,          1,          8,          8,2,20090417,       0846,   -34.0015,    70.2700,       4002,  2663.2,   1.9156,  34.7298,2,  34.7509,4,    176.6,2,   176.6,2,  110.05,2,   32.70,2,    0.00,2,    2.36,2,-999.000,9,-999.000,9,-999.0000,9,  -999.0,9,  -999.0,9,-999.0000,9,  -999.00,-999.000,9,-999.000,9,-999.000,9,   1.9158,2,-999.000,9, -999.00,9, -999.00,-999.000,9,-999.000, -999.00,9, -999.00,9, -34.0011,  70.2701,-999.000,-999.000,20090417,       0918
33RR20090320,        I05,      94,          1,          7,          7,2,20090417,       0846,   -34.0015,    70.2700,       4002,  2916.9,   1.7948,  34.7295,2,  34.7287,2,    177.4,2,   177.0,2,  115.21,2,   32.91,2,    0.00,2,    2.37,2,   0.007,2,   0.004,2,   0.0100,2,  2280.0,2,  2381.3,2,   7.6761,2,    20.00,-999.000,9,-999.000,9,-999.000,9,   1.7945,2,-999.000,9, -999.00,9, -999.00,-999.000,9,-999.000, -999.00,9, -999.00,9, -34.0012,  70.2700,-999.000,-999.000,20090417,       0913
33RR20090320,        I05,      94,          1,          6,          6,2,20090417,       0846,   -34.0015,    70.2700,       4002,  3201.1,   1.6715,  34.7277,2,  34.7273,2,    179.9,2,   179.6,2,  118.64,2,   33.02,2,    0.00,2,    2.36,2,   0.008,2,   0.004,2,   0.0000,2,  2282.1,2,  2381.1,2,   7.6769,2,    20.00,-999.000,9,-999.000,9,-999.000,9,   1.6714,2,-999.000,9, -999.00,9, -999.00,-999.000,9,-999.000, -999.00,9, -999.00,9, -34.0013,  70.2701,-999.000,-999.000,20090417,       0906
33RR20090320,        I05,      94,          1,          5,          5,2,20090417,       0846,   -34.0015,    70.2700,       4002,  3505.5,   1.4958,  34.7229,2,  34.7226,2,    185.3,2,   184.9,2,  121.43,2,   32.96,2,    0.00,2,    2.37,2,   0.014,2,   0.008,2,   0.0000,2,  2279.4,2,  2382.0,2,   7.6787,2,    20.00,-999.000,9,-999.000,9,-999.000,9,   1.4938,2,-999.000,9, -999.00,9, -999.00,-999.000,9,-999.000, -999.00,9, -999.00,9, -34.0014,  70.2701,-999.000,-999.000,20090417,       0900
33RR20090320,        I05,      94,          1,          4,          4,2,20090417,       0846,   -34.0015,    70.2700,       4002,  3733.6,   1.2502,  34.7145,2,  34.7144,2,    192.7,2,   193.0,2,  123.78,2,   32.76,2,    0.00,2,    2.35,2,-999.000,9,-999.000,9,-999.0000,9,  -999.0,9,  -999.0,9,-999.0000,9,  -999.00,-999.000,9,-999.000,9,-999.000,9,   1.2495,2,-999.000,9, -999.00,9, -999.00,-999.000,9,-999.000, -999.00,9, -999.00,9, -34.0014,  70.2701,-999.000,-999.000,20090417,       0854
33RR20090320,        I05,      94,          1,          3,          3,2,20090417,       0846,   -34.0015,    70.2700,       4002,  3935.4,   1.0341,  34.7069,2,  34.7060,2,    199.9,2,   200.1,2,  126.35,2,   32.70,2,    0.00,2,    2.35,2,   0.028,2,   0.015,2,   0.0220,2,  -999.0,9,  -999.0,9,-999.0000,9,  -999.00,-999.000,9,-999.000,9,-999.000,9,   1.0350,2,-999.000,9, -999.00,9, -999.00,-999.000,9,-999.000, -999.00,9, -999.00,9, -34.0014,  70.2700,-999.000,-999.000,20090417,       0850
33RR20090320,        I05,      94,          1,          2,          2,2,20090417,       0846,   -34.0015,    70.2700,       4002,  4052.1,   0.9517,  34.7033,2,  34.7030,2,    202.5,2,   202.6,2,  127.43,2,   32.59,2,    0.00,2,    2.33,2,   0.027,6,   0.014,6,   0.0000,6,  2270.1,6,  2373.8,2,   7.6820,2,    20.00,-999.000,9,-999.000,9,-999.000,9,   0.9492,2,-999.000,9, -999.00,9, -999.00,-999.000,9,-999.000, -999.00,9, -999.00,9, -34.0015,  70.2700,-999.000,-999.000,20090417,       0847
33RR20090320,        I05,      94,          1,          1,          1,2,20090417,       0846,   -34.0015,    70.2700,       4002,  4053.3,   0.9505,  34.7036,2,-999.0000,9,   -999.0,5,  -999.0,9, -999.00,9, -999.00,9, -999.00,9, -999.00,9,   0.031,6,   0.015,6,   0.0000,6,  -999.0,9,  -999.0,9,-999.0000,9,  -999.00,-999.000,9,-999.000,9,-999.000,9,   0.9511,2,-999.000,9, -999.00,9, -999.00,-999.000,9,-999.000, -999.00,9, -999.00,9, -34.0015,  70.2700,-999.000,-999.000,20090417,       0846