BOTTLE,20220814CCHSIOAMB
EXPOCODE,SECT_ID,STNNBR,CASTNO,SAMPNO,BTLNBR,BTLNBR_FLAG_W,DATE,TIME,LATITUDE,LONGITUDE,DEPTH,CTDPRS,CTDTMP,CTDSAL,CTDSAL_FLAG_W,SALNTY,SALNTY_FLAG_W,CTDOXY,CTDOXY_FLAG_W,OXYGEN,OXYGEN_FLAG_W,SILCAT,SILCAT_FLAG_W,NITRAT,NITRAT_FLAG_W,NITRIT,NITRIT_FLAG_W,PHSPHT,PHSPHT_FLAG_W,CFC-11,CFC-11_FLAG_W,CFC-12,CFC-12_FLAG_W,SF6,SF6_FLAG_W,TCARBN,TCARBN_FLAG_W,ALKALI,ALKALI_FLAG_W,PH_TOT,PH_TOT_FLAG_W,PH_TMP,TRITUM,TRITUM_FLAG_W,HELIUM,HELIUM_FLAG_W,DELHE3,DELHE3_FLAG_W,REFTMP,REFTMP_FLAG_W,DELC13,DELC13_FLAG_W,DELC14,DELC14_FLAG_W,C14ERR,NEON,NEON_FLAG_W,NEONER,DOC,DOC_FLAG_W,TDN,TDN_FLAG_W,BTL_LAT,BTL_LON,HELIER,DELHER,BTL_DATE,BTL_TIME
,,,,,,,,,,,METERS,DBAR,ITS-90,PSS-78,,PSS-78,,UMOL/KG,,UMOL/KG,,UMOL/KG,,UMOL/KG,,UMOL/KG,,UMOL/KG,,PMOL/KG,,PMOL/KG,,FMOL/KG,,UMOL/KG,,UMOL/KG,,,,DEG C,TU,,NMOL/KG,,PERCNT,,DEG C,,/MILLE,,/MILLE,,/MILLE,NMOL/KG,,NMOL/KG,UMOL/KG,,UMOL/KG,,,,NMOL/KG,PERCNT,,
33RR20090320,        I05,      31,          1,         36,         36,2,20090330,       2219,   -32.9977,    39.8344,       5103,    12.1,  22.7577,  35.6354,2,  35.6356,2,    219.1,2,   218.9,2,    1.93,2,    0.06,2,    0.00,2,    0.08,2,   1.963,2,   1.212,2,   1.0310,2,  2033.0,6,  2334.1,2,   8.1154,2,    20.00,-999.000,9,-999.000,9,-999.000,9,  22.6992,2,-999.000,9, -999.00,9, -999.00,-999.000,9,-999.000, -999.00,9, -999.00,9, -32.9978,  39.8345,-999.000,-999.000,20090331,       0046
33RR20090320,        I05,      31,          1,         35,         35,2,20090330,       2219,   -32.9977,    39.8344,       5103,    26.9,  21.9362,  35.6229,2,  35.6222,2,    222.8,2,   222.1,2,    1.72,2,    0.07,2,    0.00,2,    0.08,2,   2.002,6,   1.235,6,   1.1320,6,  2034.2,2,  2334.2,2,   8.1136,2,    20.00,-999.000,9,-999.000,9,-999.000,9,  21.9341,2,-999.000,9, -999.00,9, -999.00,-999.000,9,-999.000, -999.00,9, -999.00,9, -32.9978,  39.8345,-999.000,-999.000,20090331,       0045
33RR20090320,        I05,      31,          1,         34,         34,2,20090330,       2219,   -32.9977,    39.8344,       5103,    47.2,  21.7040,  35.6086,2,  35.6082,2,    223.0,2,   223.6,2,    1.69,2,    0.07,2,    0.00,2,    0.07,2,   2.025,2,   1.247,2,   1.0300,2,  2035.4,2,  2332.0,2,   8.1144,2,    20.00,-999.000,9,-999.000,9,-999.000,9,  21.7067,2,-999.000,9, -999.00,9, -999.00,-999.000,9,-999.000, -999.00,9, -999.00,9, -32.9978,  39.8346,-999.000,-999.000,20090331,       0043
33RR20090320,        I05,      31,          1,         33,         33,2,20090330,       2219,   -32.9977,    39.8344,       5103,    72.5,  18.6182,  35.5608,2,  35.5630,2,    238.8,2,   239.8,2,    2.05,2,    0.08,2,    0.00,2,    0.12,2,   2.333,2,   1.402,2,   1.2040,2,  2042.9,2,  2331.7,2,   8.0943,2,    20.00,-999.000,9,-999.000,9,-999.000,9,  18.6962,2,-999.000,9, -999.00,9, -999.00,-999.000,9,-999.000, -999.00,9, -999.00,9, -32.9978,  39.8346,-999.000,-999.000,20090331,       0041
33RR20090320,        I05,      31,          1,         32,         32,2,20090330,       2219,   -32.9977,    39.8344,       5103,    96.3,  17.7235,  35.5493,2,  35.5490,2,    217.6,2,   220.0,2,    2.80,2,    1.07,2,    0.05,2,    0.24,2,-999.000,9,-999.000,9,-999.0000,9,  2066.6,2,  2330.5,2,   8.0498,2,    20.00,-999.000,9,-999.000,9,-999.000,9,  17.7198,2,-999.000,9, -999.00,9, -999.00,-999.000,9,-999.000, -999.00,9, -999.00,9, -32.9978,  39.8346,-999.000,-999.000,20090331,       0038
33RR20090320,        I05,      31,          1,         31,         31,2,20090330,       2219,   -32.9977,    39.8344,       5103,   141.3,  16.9322,  35.5317,2,  35.5490,2,    208.9,2,   204.9,2,    4.14,2,    4.99,2,    0.01,2,    0.44,2,   2.421,2,   1.452,2,   1.1850,2,  2084.0,2,  2329.3,2,   8.0136,2,    20.00,-999.000,9,-999.000,9,-999.000,9,  16.9355,2,-999.000,9, -999.00,9, -999.00,-999.000,9,-999.000, -999.00,9, -999.00,9, -32.9978,  39.8346,-999.000,-999.000,20090331,       0036
33RR20090320,        I05,      31,          1,         30,         30,2,20090330,       2219,   -32.9977,    39.8344,       5103,   191.8,  16.3743,  35.5164,2,  35.5157,2,    211.2,2,   210.8,2,    4.12,2,    5.28,2,    0.01,2,    0.46,2,   2.484,2,   1.489,2,   1.0880,2,  2088.3,2,  2328.1,2,   8.0074,2,    20.00,-999.000,9,-999.000,9,-999.000,9,  16.3727,2,-999.000,9, -999.00,9, -999.00,-999.000,9,-999.000, -999.00,9, -999.00,9, -32.9978,  39.8346,-999.000,-999.000,20090331,       0034
33RR20090320,        I05,      31,          1,         29,         29,2,20090330,       2219,   -32.9977,    39.8344,       5103,   241.0,  15.7191,  35.4751,2,  35.4739,2,    205.6,2,   206.6,2,    4.09,2,    6.37,2,    0.00,2,    0.54,2,   2.588,2,   1.522,2,   1.1220,2,  2096.6,2,  2327.4,2,   7.9846,2,    20.00,-999.000,9,-999.000,9,-999.000,9,  15.7194,2,-999.000,9, -999.00,9, -999.00,-999.000,9,-999.000, -999.00,9, -999.00,9, -32.9978,  39.8346,-999.000,-999.000,20090331,       0031
33RR20090320,        I05,      31,          1,         28,         28,2,20090330,       2219,   -32.9977,    39.8344,       5103,   291.6,  15.0503,  35.4256,2,  35.4263,2,    206.8,2,   207.3,2,    4.25,2,    7.20,2,    0.00,2,    0.59,2,-999.000,9,-999.000,9,-999.0000,9,  -999.0,9,  2323.3,2,-999.0000,9,  -999.00,-999.000,9,-999.000,9,-999.000,9,  15.0534,2,-999.000,9, -999.00,9, -999.00,-999.000,9,-999.000, -999.00,9, -999.00,9, -32.9978,  39.8347,-999.000,-999.000,20090331,       0029
33RR20090320,        I05,      31,          1,         27,         27,2,20090330,       2219,   -32.9977,    39.8344,       5103,   341.4,  14.3603,  35.3678,2,  35.3639,2,    207.9,2,   207.8,2,    4.43,2,    8.41,2,    0.00,2,    0.67,2,   2.792,2,   1.595,2,   1.0190,2,  2111.1,2,  2323.0,2,   7.9506,2,    20.00,-999.000,9,-999.000,9,-999.000,9,  14.3603,2,-999.000,9, -999.00,9, -999.00,-999.000,9,-999.000, -999.00,9, -999.00,9, -32.9978,  39.8347,-999.000,-999.000,20090331,       0026
33RR20090320,        I05,      31,          1,         26,         26,2,20090330,       2219,   -32.9977,    39.8344,       5103,   391.3,  13.8338,  35.3162,2,  35.3162,2,    209.1,2,   211.0,2,    4.40,2,    9.01,2,    0.00,2,    0.71,2,-999.000,9,-999.000,9,-999.0000,9,  -999.0,9,  -999.0,9,-999.0000,9,  -999.00,-999.000,9,-999.000,9,-999.000,9,  13.8353,2,-999.000,9, -999.00,9, -999.00,-999.000,9,-999.000, -999.00,9, -999.00,9, -32.9978,  39.8347,-999.000,-999.000,20090331,       0024
33RR20090320,        I05,      31,          1,         25,         25,2,20090330,       2219,   -32.9977,    39.8344,       5103,   470.8,  12.9604,  35.2117,2,  35.2104,2,    214.1,2,   214.6,2,    4.76,2,   10.44,2,    0.00,2,    0.80,2,   2.990,2,   1.658,2,   0.9050,2,  2118.1,2,  2315.9,2,   7.9241,2,    20.00,-999.000,9,-999.000,9,-999.000,9,  12.9625,2,-999.000,9, -999.00,9, -999.00,-999.000,9,-999.000, -999.00,9, -999.00,9, -32.9978,  39.8345,-999.000,-999.000,20090331,       0021
33RR20090320,        I05,      31,          1,         24,         24,2,20090330,       2219,   -32.9977,    39.8344,       5103,   571.2,  12.0310,  35.0830,2,  35.0839,2,    215.3,2,   215.9,2,    4.94,2,   12.20,2,    0.00,2,    0.92,2,-999.000,9,-999.000,9,-999.0000,9,  -999.0,9,  -999.0,9,-999.0000,9,  -999.00,-999.000,9,-999.000,9,-999.000,9,  12.0312,2,-999.000,9, -999.00,9, -999.00,-999.000,9,-999.000, -999.00,9, -999.00,9, -32.9977,  39.8345,-999.000,-999.000,20090331,       0017
33RR20090320,        I05,      31,          1,         23,         23,2,20090330,       2219,   -32.9977,    39.8344,       5103,   670.8,  10.9127,  34.9230,2,  34.9247,2,    217.4,2,   218.0,2,    5.88,2,   14.44,2,    0.00,2,    1.05,2,   3.147,2,   1.672,2,   0.8290,2,  2128.6,2,  2304.9,2,   7.8779,2,    20.00,-999.000,9,-999.000,9,-999.000,9,  10.9219,2,-999.000,9, -999.00,9, -999.00,-999.000,9,-999.000, -999.00,9, -999.00,9, -32.9978,  39.8344,-999.000,-999.000,20090331,       0014
33RR20090320,        I05,      31,          1,         22,         22,2,20090330,       2219,   -32.9977,    39.8344,       5103,   772.8,   9.5265,  34.7467,2,  34.7491,2,    212.7,2,   211.5,2,    8.97,2,   18.22,2,    0.00,2,    1.31,2,-999.000,9,-999.000,9,-999.0000,9,  -999.0,9,  -999.0,9,-999.0000,9,  -999.00,-999.000,9,-999.000,9,-999.000,9,   9.5372,2,-999.000,9, -999.00,9, -999.00,-999.000,9,-999.000, -999.00,9, -999.00,9, -32.9979,  39.8344,-999.000,-999.000,20090331,       0010
33RR20090320,        I05,      31,          1,         21,         21,2,20090330,       2219,   -32.9977,    39.8344,       5103,   871.7,   8.1825,  34.6125,2,  34.6133,2,    202.8,2,   201.7,2,   14.60,2,   22.40,2,    0.00,2,    1.59,2,   2.570,2,   1.299,2,   0.5990,2,  2158.3,2,  2296.5,2,   7.7862,2,    20.00,-999.000,9,-999.000,9,-999.000,9,   8.1835,2,-999.000,9, -999.00,9, -999.00,-999.000,9,-999.000, -999.00,9, -999.00,9, -32.9981,  39.8343,-999.000,-999.000,20090331,       0005
33RR20090320,        I05,      31,          1,         20,         20,2,20090330,       2219,   -32.9977,    39.8344,       5103,   971.4,   6.6036,  34.4777,2,  34.4727,2,    200.0,2,   201.4,2,   20.64,2,   26.32,2,    0.00,2,    1.87,2,-999.000,9,-999.000,9,-999.0000,9,  -999.0,9,  -999.0,9,-999.0000,9,  -999.00,-999.000,9,-999.000,9,-999.000,9,   6.6020,2,-999.000,9, -999.00,9, -999.00,-999.000,9,-999.000, -999.00,9, -999.00,9, -32.9980,  39.8344,-999.000,-999.000,20090331,       0002
33RR20090320,        I05,      31,          1,         19,         19,2,20090330,       2219,   -32.9977,    39.8344,       5103,  1072.1,   5.3916,  34.3976,2,  34.3981,2,    203.4,2,   204.1,2,   26.89,2,   28.64,2,    0.00,2,    2.04,2,   2.353,2,   1.185,2,   0.5310,2,  2186.6,2,  2297.4,2,   7.7162,2,    20.00,-999.000,9,-999.000,9,-999.000,9,   5.3951,2,-999.000,9, -999.00,9, -999.00,-999.000,9,-999.000, -999.00,9, -999.00,9, -32.9978,  39.8344,-999.000,-999.000,20090330,       2359
33RR20090320,        I05,      31,          1,         18,         18,2,20090330,       2219,   -32.9977,    39.8344,       5103,  1172.5,   4.7383,  34.3968,2,  34.3973,2,    198.4,2,   198.1,2,   34.33,2,   30.30,2,    0.00,2,    2.17,2,-999.000,9,-999.000,9,-999.0000,9,  -999.0,9,  -999.0,9,-999.0000,9,  -999.00,-999.000,9,-999.000,9,-999.000,9,   4.7379,2,-999.000,9, -999.00,9, -999.00,-999.000,9,-999.000, -999.00,9, -999.00,9, -32.9976,  39.8346,-999.000,-999.000,20090330,       2356
33RR20090320,        I05,      31,          1,         17,         17,2,20090330,       2219,   -32.9977,    39.8344,       5103,  1272.9,   4.2334,  34.4136,2,  34.4144,2,    189.3,2,   190.3,2,   42.00,2,   31.53,2,    0.00,2,    2.26,2,   1.592,2,   0.789,2,   0.2800,2,  2212.9,2,  2310.1,2,   7.6760,2,    20.00,-999.000,9,-999.000,9,-999.000,9,   4.2334,2,-999.000,9, -999.00,9, -999.00,-999.000,9,-999.000, -999.00,9, -999.00,9, -32.9976,  39.8346,-999.000,-999.000,20090330,       2353
33RR20090320,        I05,      31,          1,         16,         16,2,20090330,       2219,   -32.9977,    39.8344,       5103,  1371.5,   3.8423,  34.4573,2,  34.4580,2,    178.9,2,   180.2,2,   50.66,2,   32.75,2,    0.00,2,    2.35,2,-999.000,9,-999.000,9,-999.0000,9,  -999.0,9,  -999.0,9,-999.0000,9,  -999.00,-999.000,9,-999.000,9,-999.000,9,   3.8415,2,-999.000,9, -999.00,9, -999.00,-999.000,9,-999.000, -999.00,9, -999.00,9, -32.9977,  39.8346,-999.000,-999.000,20090330,       2350
33RR20090320,        I05,      31,          1,         15,         15,2,20090330,       2219,   -32.9977,    39.8344,       5103,  1543.0,   3.3737,  34.5585,2,  34.5576,2,    167.4,2,   167.9,2,   63.72,2,   33.48,2,    0.00,2,    2.41,2,   0.494,6,   0.234,6,   0.1210,6,  2244.4,6,  2334.1,2,   7.6454,2,    20.00,-999.000,9,-999.000,9,-999.000,9,   3.3728,2,-999.000,9, -999.00,9, -999.00,-999.000,9,-999.000, -999.00,9, -999.00,9, -32.9978,  39.8346,-999.000,-999.000,20090330,       2345
33RR20090320,        I05,      31,          1,         14,         14,2,20090330,       2219,   -32.9977,    39.8344,       5103,  1743.3,   3.0808,  34.6441,2,  34.6444,2,    168.1,2,   168.6,2,   71.46,2,   32.76,2,    0.00,2,    2.36,2,-999.000,9,-999.000,9,-999.0000,9,  -999.0,9,  -999.0,9,-999.0000,9,  -999.00,-999.000,9,-999.000,9,-999.000,9,   3.0796,2,-999.000,9, -999.00,9, -999.00,-999.000,9,-999.000, -999.00,9, -999.00,9, -32.9978,  39.8345,-999.000,-999.000,20090330,       2340
33RR20090320,        I05,      31,          1,         13,         13,2,20090330,       2219,   -32.9977,    39.8344,       5103,  1942.8,   2.9093,  34.7084,2,  34.7090,2,    170.8,2,   170.0,2,   78.01,2,   31.98,2,    0.00,2,    2.31,2,-999.000,9,-999.000,9,-999.0000,9,  -999.0,9,  -999.0,9,-999.0000,9,  -999.00,-999.000,9,-999.000,9,-999.000,9,   2.9093,2,-999.000,9, -999.00,9, -999.00,-999.000,9,-999.000, -999.00,9, -999.00,9, -32.9979,  39.8345,-999.000,-999.000,20090330,       2335
33RR20090320,        I05,      31,          1,         12,         12,2,20090330,       2219,   -32.9977,    39.8344,       5103,  2174.2,   2.6993,  34.7445,2,  34.7448,2,    179.9,2,   180.2,2,   77.38,2,   30.77,2,    0.00,2,    2.22,2,-999.000,9,-999.000,9,-999.0000,9,  -999.0,9,  -999.0,9,-999.0000,9,  -999.00,-999.000,9,-999.000,9,-999.000,9,   2.6990,2,-999.000,9, -999.00,9, -999.00,-999.000,9,-999.000, -999.00,9, -999.00,9, -32.9979,  39.8346,-999.000,-999.000,20090330,       2330
33RR20090320,        I05,      31,          1,         11,         11,2,20090330,       2219,   -32.9977,    39.8344,       5103,  2428.3,   2.5151,  34.7745,2,  34.7751,2,    191.9,2,   192.1,2,   74.97,2,   29.40,2,    0.00,2,    2.11,2,-999.000,9,-999.000,9,-999.0000,9,  -999.0,9,  -999.0,9,-999.0000,9,  -999.00,-999.000,9,-999.000,9,-999.000,9,   2.5148,2,-999.000,9, -999.00,9, -999.00,-999.000,9,-999.000, -999.00,9, -999.00,9, -32.9979,  39.8348,-999.000,-999.000,20090330,       2324
33RR20090320,        I05,      31,          1,         10,         10,2,20090330,       2219,   -32.9977,    39.8344,       5103,  2680.8,   2.3695,  34.7931,2,  34.7936,2,    202.6,2,   202.8,2,   72.16,2,   28.23,2,    0.00,2,    2.01,2,-999.000,9,-999.000,9,-999.0000,9,  -999.0,9,  -999.0,9,-999.0000,9,  -999.00,-999.000,9,-999.000,9,-999.000,9,   2.3693,2,-999.000,9, -999.00,9, -999.00,-999.000,9,-999.000, -999.00,9, -999.00,9, -32.9979,  39.8348,-999.000,-999.000,20090330,       2318
33RR20090320,        I05,      31,          1,          9,          9,2,20090330,       2219,   -32.9977,    39.8344,       5103,  2933.7,   2.2643,  34.8049,2,  34.8056,2,    209.8,2,   211.2,2,   69.75,2,   27.41,2,    0.00,2,    1.94,2,-999.000,9,-999.000,9,-999.0000,9,  -999.0,9,  -999.0,9,-999.0000,9,  -999.00,-999.000,9,-999.000,9,-999.000,9,   2.2645,2,-999.000,9, -999.00,9, -999.00,-999.000,9,-999.000, -999.00,9, -999.00,9, -32.9979,  39.8348,-999.000,-999.000,20090330,       2312
33RR20090320,        I05,      31,          1,          8,          8,2,20090330,       2219,   -32.9977,    39.8344,       5103,  3222.9,   2.0848,  34.8057,2,  34.8070,2,    217.2,2,   216.7,2,   72.12,2,   27.20,2,    0.00,2,    1.92,2,-999.000,9,-999.000,9,-999.0000,9,  -999.0,9,  -999.0,9,-999.0000,9,  -999.00,-999.000,9,-999.000,9,-999.000,9,   2.0851,2,-999.000,9, -999.00,9, -999.00,-999.000,9,-999.000, -999.00,9, -999.00,9, -32.9978,  39.8349,-999.000,-999.000,20090330,       2305
33RR20090320,        I05,      31,          1,          7,          7,2,20090330,       2219,   -32.9977,    39.8344,       5103,  3525.2,   1.7744,  34.7848,2,  34.7850,2,    217.5,2,   216.4,2,   82.28,2,   28.14,2,    0.00,2,    1.99,2,-999.000,9,-999.000,9,-999.0000,9,  -999.0,9,  -999.0,9,-999.0000,9,  -999.00,-999.000,9,-999.000,9,-999.000,9,   1.7736,2,-999.000,9, -999.00,9, -999.00,-999.000,9,-999.000, -999.00,9, -999.00,9, -32.9977,  39.8349,-999.000,-999.000,20090330,       2259
33RR20090320,        I05,      31,          1,          6,          6,2,20090330,       2219,   -32.9977,    39.8344,       5103,  3830.7,   1.4021,  34.7571,2,  34.7570,2,    215.6,2,   216.0,2,   95.47,2,   29.47,2,    0.00,2,    2.09,2,-999.000,9,-999.000,9,-999.0000,9,  -999.0,9,  -999.0,9,-999.0000,9,  -999.00,-999.000,9,-999.000,9,-999.000,9,   1.4024,2,-999.000,9, -999.00,9, -999.00,-999.000,9,-999.000, -999.00,9, -999.00,9, -32.9978,  39.8349,-999.000,-999.000,20090330,       2252
33RR20090320,        I05,      31,          1,          5,          5,2,20090330,       2219,   -32.9977,    39.8344,       5103,  4132.2,   1.0707,  34.7329,2,  34.7333,2,    216.2,2,   216.9,2,  106.10,2,   30.47,2,    0.00,2,    2.17,2,-999.000,9,-999.000,9,-999.0000,9,  -999.0,9,  -999.0,9,-999.0000,9,  -999.00,-999.000,9,-999.000,9,-999.000,9,   1.0693,2,-999.000,9, -999.00,9, -999.00,-999.000,9,-999.000, -999.00,9, -999.00,9, -32.9978,  39.8347,-999.000,-999.000,20090330,       2245
33RR20090320,        I05,      31,          1,          4,          4,2,20090330,       2219,   -32.9977,    39.8344,       5103,  4437.1,   0.7911,  34.7118,2,  34.7118,2,    217.4,2,   218.2,2,  115.35,2,   31.48,2,    0.00,2,    2.24,2,-999.000,9,-999.000,9,-999.0000,9,  -999.0,9,  -999.0,9,-999.0000,9,  -999.00,-999.000,9,-999.000,9,-999.000,9,   0.7914,2,-999.000,9, -999.00,9, -999.00,-999.000,9,-999.000, -999.00,9, -999.00,9, -32.9977,  39.8346,-999.000,-999.000,20090330,       2238
33RR20090320,        I05,      31,          1,          3,          3,2,20090330,       2219,   -32.9977,    39.8344,       5103,  4740.7,   0.6683,  34.7004,2,  34.7009,2,    218.5,2,   218.9,2,  119.56,2,   31.82,2,    0.00,2,    2.27,2,-999.000,9,-999.000,9,-999.0000,9,  -999.0,9,  -999.0,9,-999.0000,9,  -999.00,-999.000,9,-999.000,9,-999.000,9,   0.6680,2,-999.000,9, -999.00,9, -999.00,-999.000,9,-999.000, -999.00,9, -999.00,9, -32.9979,  39.8343,-999.000,-999.000,20090330,       2230
33RR20090320,        I05,      31,          1,          2,          2,2,20090330,       2219,   -32.9977,    39.8344,       5103,  4960.1,   0.6129,  34.6948,2,  34.6950,2,    219.2,2,   219.4,2,  121.77,2,   31.98,2,    0.00,2,    2.28,2,-999.000,9,-999.000,9,-999.0000,9,  -999.0,9,  -999.0,9,-999.0000,9,  -999.00,-999.000,9,-999.000,9,-999.000,9,   0.6138,2,-999.000,9, -999.00,9, -999.00,-999.000,9,-999.000, -999.00,9, -999.00,9, -32.9978,  39.8343,-999.000,-999.000,20090330,       2224
33RR20090320,        I05,      31,          1,          1,          1,2,20090330,       2219,   -32.9977,    39.8344,       5103,  5186.7,   0.5906,  34.6908,2,  34.6916,2,    220.5,2,   220.3,2,  123.17,2,   32.16,2,    0.00,2,    2.29,2,-999.000,9,-999.000,9,-999.0000,9,  -999.0,9,  -999.0,9,-999.0000,9,  -999.00,-999.000,9,-999.000,9,-999.000,9,   0.5910,2,-999.000,9, -999.00,9, -999.00,-999.000,9,-999.000, -999.00,9, -999.00,9, -32.9977,  39.8344,-999.000,-999.000,20090330,       2219