BOTTLE,20220814CCHSIOAMB
EXPOCODE,SECT_ID,STNNBR,CASTNO,SAMPNO,BTLNBR,BTLNBR_FLAG_W,DATE,TIME,LATITUDE,LONGITUDE,DEPTH,CTDPRS,CTDTMP,CTDSAL,CTDSAL_FLAG_W,SALNTY,SALNTY_FLAG_W,CTDOXY,CTDOXY_FLAG_W,OXYGEN,OXYGEN_FLAG_W,SILCAT,SILCAT_FLAG_W,NITRAT,NITRAT_FLAG_W,NITRIT,NITRIT_FLAG_W,PHSPHT,PHSPHT_FLAG_W,CFC-11,CFC-11_FLAG_W,CFC-12,CFC-12_FLAG_W,SF6,SF6_FLAG_W,TCARBN,TCARBN_FLAG_W,ALKALI,ALKALI_FLAG_W,PH_TOT,PH_TOT_FLAG_W,PH_TMP,TRITUM,TRITUM_FLAG_W,HELIUM,HELIUM_FLAG_W,DELHE3,DELHE3_FLAG_W,REFTMP,REFTMP_FLAG_W,DELC13,DELC13_FLAG_W,DELC14,DELC14_FLAG_W,C14ERR,NEON,NEON_FLAG_W,NEONER,DOC,DOC_FLAG_W,TDN,TDN_FLAG_W,BTL_LAT,BTL_LON,HELIER,DELHER,BTL_DATE,BTL_TIME
,,,,,,,,,,,METERS,DBAR,ITS-90,PSS-78,,PSS-78,,UMOL/KG,,UMOL/KG,,UMOL/KG,,UMOL/KG,,UMOL/KG,,UMOL/KG,,PMOL/KG,,PMOL/KG,,FMOL/KG,,UMOL/KG,,UMOL/KG,,,,DEG C,TU,,NMOL/KG,,PERCNT,,DEG C,,/MILLE,,/MILLE,,/MILLE,NMOL/KG,,NMOL/KG,UMOL/KG,,UMOL/KG,,,,NMOL/KG,PERCNT,,
33RR20090320,        I05,      70,          1,         36,         36,2,20090409,       1205,   -33.8470,    57.0647,       4614,     3.4,  21.1896,  35.4904,2,  35.4900,2,    219.9,2,   223.6,2,    1.26,2,    0.13,2,    0.00,2,    0.06,2,-999.000,9,-999.000,9,-999.0000,9,  2036.4,6,  2324.2,2,   8.1056,2,    20.00,-999.000,9,-999.000,9,-999.000,9,  21.1896,2,-999.000,9, -999.00,9, -999.00,-999.000,9,-999.000, -999.00,9, -999.00,9, -33.8467,  57.0643,-999.000,-999.000,20090409,       1410
33RR20090320,        I05,      70,          1,         35,         35,2,20090409,       1205,   -33.8470,    57.0647,       4614,    21.5,  21.1882,  35.4898,2,  35.4896,2,    224.0,2,   223.7,2,    1.21,2,    0.07,2,    0.00,2,    0.05,2,-999.000,9,-999.000,9,-999.0000,9,  2037.3,2,  2325.1,2,   8.1053,2,    20.00,-999.000,9,-999.000,9,-999.000,9,  21.1936,2,-999.000,9, -999.00,9, -999.00,-999.000,9,-999.000, -999.00,9, -999.00,9, -33.8467,  57.0644,-999.000,-999.000,20090409,       1409
33RR20090320,        I05,      70,          1,         34,         34,2,20090409,       1205,   -33.8470,    57.0647,       4614,    42.0,  20.5555,  35.4516,2,  35.4529,2,   -999.0,9,  -999.0,9,    1.16,2,    0.07,2,    0.00,2,    0.08,2,-999.000,9,-999.000,9,-999.0000,9,  -999.0,9,  -999.0,9,-999.0000,9,  -999.00,-999.000,9,-999.000,9,-999.000,9,  20.6037,2,-999.000,9, -999.00,9, -999.00,-999.000,9,-999.000, -999.00,9, -999.00,9, -33.8466,  57.0644,-999.000,-999.000,20090409,       1408
33RR20090320,        I05,      70,          1,         33,         33,2,20090409,       1205,   -33.8470,    57.0647,       4614,    65.7,  18.2552,  35.4989,2,  35.4993,2,    241.2,2,   240.3,2,    1.32,2,    0.13,2,    0.00,2,    0.12,2,-999.000,9,-999.000,9,-999.0000,9,  2059.9,2,  2326.6,2,   8.0709,2,    20.00,-999.000,9,-999.000,9,-999.000,9,  18.2560,2,-999.000,9, -999.00,9, -999.00,-999.000,9,-999.000, -999.00,9, -999.00,9, -33.8467,  57.0643,-999.000,-999.000,20090409,       1406
33RR20090320,        I05,      70,          1,         32,         32,2,20090409,       1205,   -33.8470,    57.0647,       4614,    90.1,  17.0068,  35.4970,2,  35.4955,2,    232.1,2,   232.4,2,    1.89,2,    1.36,2,    0.06,2,    0.21,2,-999.000,9,-999.000,9,-999.0000,9,  2072.9,2,  2325.5,2,   8.0459,2,    20.00,-999.000,9,-999.000,9,-999.000,9,  16.9989,2,-999.000,9, -999.00,9, -999.00,-999.000,9,-999.000, -999.00,9, -999.00,9, -33.8467,  57.0643,-999.000,-999.000,20090409,       1405
33RR20090320,        I05,      70,          1,         31,         31,2,20090409,       1205,   -33.8470,    57.0647,       4614,   135.6,  15.7336,  35.4673,2,  35.4701,2,    223.1,2,   222.5,2,    2.67,2,    4.29,2,    0.02,2,    0.36,2,-999.000,9,-999.000,9,-999.0000,9,  2089.4,2,  2324.9,2,   8.0098,2,    20.00,-999.000,9,-999.000,9,-999.000,9,  15.7540,2,-999.000,9, -999.00,9, -999.00,-999.000,9,-999.000, -999.00,9, -999.00,9, -33.8467,  57.0643,-999.000,-999.000,20090409,       1403
33RR20090320,        I05,      70,          1,         30,         30,2,20090409,       1205,   -33.8470,    57.0647,       4614,   185.8,  14.8142,  35.4099,2,  35.4078,2,    222.7,2,   223.3,2,    3.04,2,    5.86,2,    0.01,2,    0.46,2,-999.000,9,-999.000,9,-999.0000,9,  -999.0,9,  -999.0,9,-999.0000,9,  -999.00,-999.000,9,-999.000,9,-999.000,9,  14.8147,2,-999.000,9, -999.00,9, -999.00,-999.000,9,-999.000, -999.00,9, -999.00,9, -33.8467,  57.0642,-999.000,-999.000,20090409,       1400
33RR20090320,        I05,      70,          1,         29,         29,2,20090409,       1205,   -33.8470,    57.0647,       4614,   234.9,  14.3435,  35.3809,2,  35.3798,2,    224.6,2,   221.5,2,    3.19,2,    6.76,2,    0.01,2,    0.52,2,-999.000,9,-999.000,9,-999.0000,9,  2104.9,2,  2321.4,2,   7.9712,2,    20.00,-999.000,9,-999.000,9,-999.000,9,  14.3414,2,-999.000,9, -999.00,9, -999.00,-999.000,9,-999.000, -999.00,9, -999.00,9, -33.8466,  57.0642,-999.000,-999.000,20090409,       1358
33RR20090320,        I05,      70,          1,         28,         28,2,20090409,       1205,   -33.8470,    57.0647,       4614,   286.1,  13.9386,  35.3463,2,  35.3460,2,    223.6,2,   227.0,2,    3.14,2,    7.14,2,    0.00,2,    0.54,2,-999.000,9,-999.000,9,-999.0000,9,  -999.0,9,  -999.0,9,-999.0000,9,  -999.00,-999.000,9,-999.000,9,-999.000,9,  13.9413,2,-999.000,9, -999.00,9, -999.00,-999.000,9,-999.000, -999.00,9, -999.00,9, -33.8468,  57.0641,-999.000,-999.000,20090409,       1356
33RR20090320,        I05,      70,          1,         27,         27,2,20090409,       1205,   -33.8470,    57.0647,       4614,   336.9,  13.5316,  35.3067,2,  35.3082,2,    228.8,2,   230.2,2,    3.30,2,    7.74,2,    0.00,2,    0.58,2,-999.000,9,-999.000,9,-999.0000,9,  2109.1,2,  2317.8,2,   7.9598,2,    20.00,-999.000,9,-999.000,9,-999.000,9,  13.5405,2,-999.000,9, -999.00,9, -999.00,-999.000,9,-999.000, -999.00,9, -999.00,9, -33.8468,  57.0642,-999.000,-999.000,20090409,       1353
33RR20090320,        I05,      70,          1,         26,         26,2,20090409,       1205,   -33.8470,    57.0647,       4614,   386.2,  13.2683,  35.2732,2,  35.2714,2,   -999.0,5,   229.9,2,    3.25,2,    8.43,2,    0.00,2,    0.62,2,-999.000,9,-999.000,9,-999.0000,9,  -999.0,9,  -999.0,9,-999.0000,9,  -999.00,-999.000,9,-999.000,9,-999.000,9,  13.2678,2,-999.000,9, -999.00,9, -999.00,-999.000,9,-999.000, -999.00,9, -999.00,9, -33.8468,  57.0643,-999.000,-999.000,20090409,       1351
33RR20090320,        I05,      70,          1,         25,         25,2,20090409,       1205,   -33.8470,    57.0647,       4614,   466.5,  12.8369,  35.2094,2,  35.2103,2,    230.0,2,   229.5,2,    3.61,2,    9.46,2,    0.00,2,    0.68,2,-999.000,9,-999.000,9,-999.0000,9,  2114.5,2,  2315.8,2,   7.9393,2,    20.00,-999.000,9,-999.000,9,-999.000,9,  12.8397,2,-999.000,9, -999.00,9, -999.00,-999.000,9,-999.000, -999.00,9, -999.00,9, -33.8467,  57.0643,-999.000,-999.000,20090409,       1349
33RR20090320,        I05,      70,          1,         24,         24,2,20090409,       1205,   -33.8470,    57.0647,       4614,   564.2,  12.1531,  35.0965,2,  35.0972,2,    228.7,2,   228.8,2,    3.77,2,   11.06,2,    0.00,2,    0.78,2,-999.000,9,-999.000,9,-999.0000,9,  -999.0,9,  -999.0,9,-999.0000,9,  -999.00,-999.000,9,-999.000,9,-999.000,9,  12.1442,2,-999.000,9, -999.00,9, -999.00,-999.000,9,-999.000, -999.00,9, -999.00,9, -33.8467,  57.0644,-999.000,-999.000,20090409,       1345
33RR20090320,        I05,      70,          1,         23,         23,2,20090409,       1205,   -33.8470,    57.0647,       4614,   666.2,  11.2634,  34.9613,2,  34.9679,2,    222.7,2,   222.2,2,    4.76,2,   13.42,2,    0.00,2,    0.94,2,-999.000,9,-999.000,9,-999.0000,9,  2127.4,2,  2303.8,2,   7.8922,2,    20.00,-999.000,9,-999.000,9,-999.000,9,  11.2844,2,-999.000,9, -999.00,9, -999.00,-999.000,9,-999.000, -999.00,9, -999.00,9, -33.8469,  57.0644,-999.000,-999.000,20090409,       1342
33RR20090320,        I05,      70,          1,         22,         22,2,20090409,       1205,   -33.8470,    57.0647,       4614,   763.8,  10.2483,  34.8270,2,  34.8261,2,    217.2,2,   217.0,2,    6.38,2,   16.22,2,    0.00,2,    1.12,2,-999.000,9,-999.000,9,-999.0000,9,  -999.0,9,  -999.0,9,-999.0000,9,  -999.00,-999.000,9,-999.000,9,-999.000,9,  10.2467,2,-999.000,9, -999.00,9, -999.00,-999.000,9,-999.000, -999.00,9, -999.00,9, -33.8470,  57.0646,-999.000,-999.000,20090409,       1339
33RR20090320,        I05,      70,          1,         21,         21,2,20090409,       1205,   -33.8470,    57.0647,       4614,   866.8,   8.6096,  34.6407,2,  34.6427,2,    207.9,2,   207.5,2,   10.92,2,   20.79,2,    0.00,2,    1.43,2,-999.000,9,-999.000,9,-999.0000,9,  2153.8,2,  2295.2,2,   7.8055,2,    20.00,-999.000,9,-999.000,9,-999.000,9,   8.6112,2,-999.000,9, -999.00,9, -999.00,-999.000,9,-999.000, -999.00,9, -999.00,9, -33.8472,  57.0647,-999.000,-999.000,20090409,       1335
33RR20090320,        I05,      70,          1,         20,         20,2,20090409,       1205,   -33.8470,    57.0647,       4614,   966.6,   7.0744,  34.5056,2,  34.5038,2,    204.3,2,   204.0,2,   16.92,2,   24.79,2,    0.00,2,    1.71,2,-999.000,9,-999.000,9,-999.0000,9,  -999.0,9,  -999.0,9,-999.0000,9,  -999.00,-999.000,9,-999.000,9,-999.000,9,   7.0751,2,-999.000,9, -999.00,9, -999.00,-999.000,9,-999.000, -999.00,9, -999.00,9, -33.8473,  57.0647,-999.000,-999.000,20090409,       1332
33RR20090320,        I05,      70,          1,         19,         19,2,20090409,       1205,   -33.8470,    57.0647,       4614,  1067.4,   5.8492,  34.4267,2,  34.4261,2,    202.9,2,   203.4,2,   23.79,2,   27.55,2,    0.00,2,    1.90,2,-999.000,9,-999.000,9,-999.0000,9,  2183.0,2,  2293.6,2,   7.7297,2,    20.00,-999.000,9,-999.000,9,-999.000,9,   5.8474,2,-999.000,9, -999.00,9, -999.00,-999.000,9,-999.000, -999.00,9, -999.00,9, -33.8474,  57.0645,-999.000,-999.000,20090409,       1329
33RR20090320,        I05,      70,          1,         18,         18,2,20090409,       1205,   -33.8470,    57.0647,       4614,  1167.0,   4.9273,  34.3964,2,  34.3967,2,   -999.0,5,  -999.0,9,   31.52,2,   29.67,2,    0.00,2,    2.06,2,-999.000,9,-999.000,9,-999.0000,9,  -999.0,9,  -999.0,9,-999.0000,9,  -999.00,-999.000,9,-999.000,9,-999.000,9,   4.9303,2,-999.000,9, -999.00,9, -999.00,-999.000,9,-999.000, -999.00,9, -999.00,9, -33.8472,  57.0647,-999.000,-999.000,20090409,       1325
33RR20090320,        I05,      70,          1,         17,         17,2,20090409,       1205,   -33.8470,    57.0647,       4614,  1261.9,   4.1695,  34.4069,2,  34.4053,2,    193.5,2,   192.5,2,   41.16,2,   31.47,2,    0.00,2,    2.20,2,-999.000,9,-999.000,9,-999.0000,9,  2212.2,2,  2308.3,2,   7.6811,2,    20.00,-999.000,9,-999.000,9,-999.000,9,   4.1732,2,-999.000,9, -999.00,9, -999.00,-999.000,9,-999.000, -999.00,9, -999.00,9, -33.8470,  57.0648,-999.000,-999.000,20090409,       1322
33RR20090320,        I05,      70,          1,         16,         16,2,20090409,       1205,   -33.8470,    57.0647,       4614,  1362.6,   3.6313,  34.4549,2,  34.4555,2,    183.9,2,   183.1,2,   51.46,2,   32.67,2,    0.00,2,    2.29,2,-999.000,9,-999.000,9,-999.0000,9,  -999.0,9,  -999.0,9,-999.0000,9,  -999.00,-999.000,9,-999.000,9,-999.000,9,   3.6284,2,-999.000,9, -999.00,9, -999.00,-999.000,9,-999.000, -999.00,9, -999.00,9, -33.8470,  57.0647,-999.000,-999.000,20090409,       1319
33RR20090320,        I05,      70,          1,         15,         15,2,20090409,       1205,   -33.8470,    57.0647,       4614,  1463.2,   3.3149,  34.4983,2,  34.4960,2,    179.0,2,   179.1,2,   58.19,2,   33.05,2,    0.00,2,    2.31,2,-999.000,9,-999.000,9,-999.0000,9,  2237.0,2,  2325.6,2,   7.6555,2,    20.00,-999.000,9,-999.000,9,-999.000,9,   3.3156,2,-999.000,9, -999.00,9, -999.00,-999.000,9,-999.000, -999.00,9, -999.00,9, -33.8470,  57.0647,-999.000,-999.000,20090409,       1317
33RR20090320,        I05,      70,          1,         14,         14,2,20090409,       1205,   -33.8470,    57.0647,       4614,  1563.8,   3.1305,  34.5345,2,  34.5366,2,    176.6,2,   177.2,2,   63.22,2,   32.94,2,    0.00,2,    2.32,2,-999.000,9,-999.000,9,-999.0000,9,  -999.0,9,  -999.0,9,-999.0000,9,  -999.00,-999.000,9,-999.000,9,-999.000,9,   3.1289,2,-999.000,9, -999.00,9, -999.00,-999.000,9,-999.000, -999.00,9, -999.00,9, -33.8470,  57.0648,-999.000,-999.000,20090409,       1314
33RR20090320,        I05,      70,          1,         13,         13,2,20090409,       1205,   -33.8470,    57.0647,       4614,  1734.6,   2.8697,  34.5887,2,  34.5873,2,    175.7,2,   177.1,2,   67.63,2,   32.77,2,    0.00,2,    2.29,2,-999.000,9,-999.000,9,-999.0000,9,  2245.6,2,  2332.9,2,   7.6564,2,    20.00,-999.000,9,-999.000,9,-999.000,9,   2.8713,2,-999.000,9, -999.00,9, -999.00,-999.000,9,-999.000, -999.00,9, -999.00,9, -33.8469,  57.0647,-999.000,-999.000,20090409,       1310
33RR20090320,        I05,      70,          1,         12,         12,2,20090409,       1205,   -33.8470,    57.0647,       4614,  1930.5,   2.6347,  34.6518,2,  34.6498,2,    179.0,2,   178.1,2,   73.55,2,   32.23,2,    0.00,2,    2.26,2,   0.208,2,   0.084,2,   0.0280,2,  -999.0,9,  -999.0,9,-999.0000,9,  -999.00,-999.000,9,-999.000,9,-999.000,9,   2.6420,2,-999.000,9, -999.00,9, -999.00,-999.000,9,-999.000, -999.00,9, -999.00,9, -33.8469,  57.0643,-999.000,-999.000,20090409,       1306
33RR20090320,        I05,      70,          1,         11,         11,2,20090409,       1205,   -33.8470,    57.0647,       4614,  2162.1,   2.4214,  34.7034,2,  34.7030,2,    183.1,2,   183.8,2,   79.04,2,   31.36,2,    0.00,2,    2.19,2,   0.118,2,   0.046,2,   0.0180,2,  2250.4,2,  2347.1,2,   7.6768,2,    20.00,-999.000,9,-999.000,9,-999.000,9,   2.4211,2,-999.000,9, -999.00,9, -999.00,-999.000,9,-999.000, -999.00,9, -999.00,9, -33.8468,  57.0644,-999.000,-999.000,20090409,       1301
33RR20090320,        I05,      70,          1,         10,         10,2,20090409,       1205,   -33.8470,    57.0647,       4614,  2414.1,   2.2314,  34.7293,2,  34.7278,2,    187.5,2,   188.1,2,   84.75,2,   30.92,2,    0.00,2,    2.16,2,   0.083,2,   0.032,2,   0.0000,2,  -999.0,9,  -999.0,9,-999.0000,9,  -999.00,-999.000,9,-999.000,9,-999.000,9,   2.2307,2,-999.000,9, -999.00,9, -999.00,-999.000,9,-999.000, -999.00,9, -999.00,9, -33.8466,  57.0643,-999.000,-999.000,20090409,       1256
33RR20090320,        I05,      70,          1,          9,          9,2,20090409,       1205,   -33.8470,    57.0647,       4614,  2663.0,   2.0780,  34.7452,2,  34.7445,2,    192.1,2,   191.8,2,   88.55,2,   30.65,2,    0.00,2,    2.13,2,   0.069,2,   0.024,2,   0.0000,2,  2253.9,2,  2354.9,2,   7.6919,2,    20.00,-999.000,9,-999.000,9,-999.000,9,   2.0782,2,-999.000,9, -999.00,9, -999.00,-999.000,9,-999.000, -999.00,9, -999.00,9, -33.8468,  57.0643,-999.000,-999.000,20090409,       1251
33RR20090320,        I05,      70,          1,          8,          8,2,20090409,       1205,   -33.8470,    57.0647,       4614,  2916.0,   1.8265,  34.7442,2,  34.7429,2,    193.2,2,   192.9,2,   98.35,2,   31.03,2,    0.00,2,    2.17,2,   0.062,2,   0.023,2,   0.0210,2,  -999.0,9,  -999.0,9,-999.0000,9,  -999.00,-999.000,9,-999.000,9,-999.000,9,   1.8263,2,-999.000,9, -999.00,9, -999.00,-999.000,9,-999.000, -999.00,9, -999.00,9, -33.8469,  57.0643,-999.000,-999.000,20090409,       1245
33RR20090320,        I05,      70,          1,          7,          7,2,20090409,       1205,   -33.8470,    57.0647,       4614,  3197.5,   1.6020,  34.7376,2,  34.7374,2,    196.9,2,   195.4,2,  104.53,2,   31.35,2,    0.00,2,    2.19,2,   0.072,2,   0.025,2,   0.0000,2,  2263.6,2,  2364.5,2,   7.6897,2,    20.00,-999.000,9,-999.000,9,-999.000,9,   1.5994,2,-999.000,9, -999.00,9, -999.00,-999.000,9,-999.000, -999.00,9, -999.00,9, -33.8470,  57.0643,-999.000,-999.000,20090409,       1239
33RR20090320,        I05,      70,          1,          6,          6,2,20090409,       1205,   -33.8470,    57.0647,       4614,  3502.5,   1.3579,  34.7289,2,  34.7280,2,    202.0,2,   201.2,2,  109.20,2,   31.41,2,    0.00,2,    2.19,2,   0.097,2,   0.036,2,   0.0000,2,  2262.1,2,  2361.1,2,   7.6878,2,    20.00,-999.000,9,-999.000,9,-999.000,9,   1.3566,2,-999.000,9, -999.00,9, -999.00,-999.000,9,-999.000, -999.00,9, -999.00,9, -33.8469,  57.0645,-999.000,-999.000,20090409,       1232
33RR20090320,        I05,      70,          1,          5,          5,2,20090409,       1205,   -33.8470,    57.0647,       4614,  3803.1,   1.1056,  34.7184,2,  34.7184,2,    208.4,2,   207.9,2,  113.02,2,   31.47,2,    0.00,2,    2.19,2,   0.143,2,   0.054,2,   0.0000,2,  2258.4,2,  2357.7,2,   7.6864,2,    20.00,-999.000,9,-999.000,9,-999.000,9,   1.0849,2,-999.000,9, -999.00,9, -999.00,-999.000,9,-999.000, -999.00,9, -999.00,9, -33.8470,  57.0647,-999.000,-999.000,20090409,       1226
33RR20090320,        I05,      70,          1,          4,          4,2,20090409,       1205,   -33.8470,    57.0647,       4614,  4099.6,   0.7554,  34.7000,2,  34.6987,2,    213.2,2,   213.4,2,  122.89,2,   32.02,2,    0.00,2,    2.23,2,   0.179,2,   0.070,2,   0.0310,2,  2260.6,2,  2358.0,2,   7.6817,2,    20.00,-999.000,9,-999.000,9,-999.000,9,   0.7539,2,-999.000,9, -999.00,9, -999.00,-999.000,9,-999.000, -999.00,9, -999.00,9, -33.8470,  57.0643,-999.000,-999.000,20090409,       1219
33RR20090320,        I05,      70,          1,          3,          3,2,20090409,       1205,   -33.8470,    57.0647,       4614,  4292.4,   0.6470,  34.6943,2,  34.6942,2,    214.9,2,   215.5,2,  126.29,2,   32.17,2,    0.00,2,    2.24,2,   0.194,2,   0.075,2,   0.0130,2,  2261.6,2,  2360.1,2,   7.6798,2,    20.00,-999.000,9,-999.000,9,-999.000,9,   0.6481,2,-999.000,9, -999.00,9, -999.00,-999.000,9,-999.000, -999.00,9, -999.00,9, -33.8470,  57.0643,-999.000,-999.000,20090409,       1214
33RR20090320,        I05,      70,          1,          2,          2,2,20090409,       1205,   -33.8470,    57.0647,       4614,  4540.2,   0.5881,  34.6900,2,  34.6887,2,    217.0,2,   216.7,2,  128.19,2,   32.29,2,    0.00,2,    2.26,2,   0.210,2,   0.082,2,   0.0000,2,  2260.7,2,  2358.6,2,   7.6777,2,    20.00,-999.000,9,-999.000,9,-999.000,9,   0.5876,2,-999.000,9, -999.00,9, -999.00,-999.000,9,-999.000, -999.00,9, -999.00,9, -33.8469,  57.0644,-999.000,-999.000,20090409,       1209
33RR20090320,        I05,      70,          1,          1,          1,2,20090409,       1205,   -33.8470,    57.0647,       4614,  4683.6,   0.5822,  34.6888,2,  34.6885,2,    217.4,2,   217.3,2,  129.01,2,   32.29,2,    0.00,2,    2.25,2,   0.213,6,   0.084,6,   0.0040,6,  2262.3,6,  2359.3,2,   7.6780,2,    20.00,-999.000,9,-999.000,9,-999.000,9,   0.5820,2,-999.000,9, -999.00,9, -999.00,-999.000,9,-999.000, -999.00,9, -999.00,9, -33.8470,  57.0646,-999.000,-999.000,20090409,       1205