BOTTLE,20220814CCHSIOAMB
EXPOCODE,SECT_ID,STNNBR,CASTNO,SAMPNO,BTLNBR,BTLNBR_FLAG_W,DATE,TIME,LATITUDE,LONGITUDE,DEPTH,CTDPRS,CTDTMP,CTDSAL,CTDSAL_FLAG_W,SALNTY,SALNTY_FLAG_W,CTDOXY,CTDOXY_FLAG_W,OXYGEN,OXYGEN_FLAG_W,SILCAT,SILCAT_FLAG_W,NITRAT,NITRAT_FLAG_W,NITRIT,NITRIT_FLAG_W,PHSPHT,PHSPHT_FLAG_W,CFC-11,CFC-11_FLAG_W,CFC-12,CFC-12_FLAG_W,SF6,SF6_FLAG_W,TCARBN,TCARBN_FLAG_W,ALKALI,ALKALI_FLAG_W,PH_TOT,PH_TOT_FLAG_W,PH_TMP,TRITUM,TRITUM_FLAG_W,HELIUM,HELIUM_FLAG_W,DELHE3,DELHE3_FLAG_W,REFTMP,REFTMP_FLAG_W,DELC13,DELC13_FLAG_W,DELC14,DELC14_FLAG_W,C14ERR,NEON,NEON_FLAG_W,NEONER,DOC,DOC_FLAG_W,TDN,TDN_FLAG_W,BTL_LAT,BTL_LON,HELIER,DELHER,BTL_DATE,BTL_TIME
,,,,,,,,,,,METERS,DBAR,ITS-90,PSS-78,,PSS-78,,UMOL/KG,,UMOL/KG,,UMOL/KG,,UMOL/KG,,UMOL/KG,,UMOL/KG,,PMOL/KG,,PMOL/KG,,FMOL/KG,,UMOL/KG,,UMOL/KG,,,,DEG C,TU,,NMOL/KG,,PERCNT,,DEG C,,/MILLE,,/MILLE,,/MILLE,NMOL/KG,,NMOL/KG,UMOL/KG,,UMOL/KG,,,,NMOL/KG,PERCNT,,
33RR20090320,        I05,      55,          2,         36,         36,2,20090405,       2159,   -33.9991,    52.1656,       4427,    11.9,  21.5784,  35.6372,2,  35.6374,2,    221.7,2,   222.1,2,    1.65,2,    0.14,2,    0.00,2,    0.13,2,   2.015,2,   1.231,2,   1.1530,2,  2047.8,6,  2337.6,2,   8.0952,2,    20.00,   0.536,2,   1.763,2,  -1.621,2,  21.5821,2,   1.139,2,    59.1,2,     2.7,   7.178,2,   0.012,   65.69,2,    3.99,2, -33.9991,  52.1651,   0.001,   0.218,20090406,       0001
33RR20090320,        I05,      55,          2,         35,         35,2,20090405,       2159,   -33.9991,    52.1656,       4427,    26.6,  21.5852,  35.6369,2,  35.6372,2,    222.8,2,   221.9,2,    1.64,2,    0.08,2,    0.00,2,    0.12,2,   2.015,2,   1.239,2,   1.1660,2,  2047.9,2,  2336.0,2,   8.0950,2,    20.00,   0.536,2,   1.789,2,  -1.229,2,  21.5862,2,-999.000,9, -999.00,9, -999.00,   7.255,2,   0.012,   64.86,2,    4.18,2, -33.9992,  52.1651,   0.001,   0.207,20090405,       0000
33RR20090320,        I05,      55,          2,         34,         34,2,20090405,       2159,   -33.9991,    52.1656,       4427,    47.5,  21.5837,  35.6368,2,  35.6330,2,    223.0,2,   223.0,2,    1.62,2,    0.09,2,    0.00,2,    0.12,2,   2.020,2,   1.237,2,   1.1240,2,  2048.9,2,  2334.9,2,   8.0949,2,    20.00,   0.522,2,   1.801,2,  -1.238,2,  21.5751,2,-999.000,9, -999.00,9, -999.00,   7.366,2,   0.013,   64.17,2,    3.64,2, -33.9992,  52.1651,   0.001,   0.217,20090405,       2358
33RR20090320,        I05,      55,          2,         33,         33,2,20090405,       2159,   -33.9991,    52.1656,       4427,    74.1,  18.5501,  35.5235,2,  35.5328,2,    242.4,2,   242.1,2,    1.81,2,    0.09,2,    0.00,2,    0.15,2,   2.386,2,   1.425,2,   1.2770,2,  2056.4,2,  2330.9,2,   8.0756,2,    20.00,   0.534,2,   1.806,2,  -1.548,2,  18.7513,2,   1.148,2,   41.12,2,     3.1,   7.442,2,   0.022,   60.93,2,    3.87,2, -33.9991,  52.1651,   0.001,   0.215,20090405,       2356
33RR20090320,        I05,      55,          2,         32,         32,2,20090405,       2159,   -33.9991,    52.1656,       4427,    96.5,  16.9011,  35.4839,2,  35.4858,2,    238.3,2,   239.1,2,    1.99,2,    0.78,2,    0.07,2,    0.23,2,   2.548,2,   1.508,2,   1.2750,2,  2070.5,2,  2329.4,2,   8.0457,2,    20.00,   0.484,2,   1.839,2,  -1.811,2,  16.9133,2,-999.000,9, -999.00,9, -999.00,   7.629,2,   0.017,   58.05,2,    4.71,2, -33.9991,  52.1652,   0.001,   0.217,20090405,       2354
33RR20090320,        I05,      55,          2,         31,         31,2,20090405,       2159,   -33.9991,    52.1656,       4427,   141.3,  15.0282,  35.4259,2,  35.4257,2,    226.7,2,   225.9,2,    2.95,2,    4.99,2,    0.01,2,    0.47,2,   2.724,2,   1.595,2,   1.3020,2,  2094.8,2,  2326.2,2,   7.9921,2,    20.00,   0.484,2,-999.000,9,-999.000,9,  15.0276,2,   0.886,2,   48.21,2,       3,-999.000,9,-999.000,   53.08,2,    8.11,2, -33.9991,  52.1653,-999.000,-999.000,20090405,       2352
33RR20090320,        I05,      55,          2,         30,         30,2,20090405,       2159,   -33.9991,    52.1656,       4427,   191.0,  14.4442,  35.3876,2,  35.3873,2,    224.0,2,   223.4,2,    3.33,2,    6.35,2,    0.00,2,    0.55,2,   2.787,2,   1.622,2,   1.2530,2,  2102.2,2,  2323.2,2,   7.9760,2,    20.00,   0.411,2,   1.866,2,  -0.871,2,  14.4406,2,-999.000,9, -999.00,9, -999.00,   7.794,2,   0.016,   52.37,2,    9.49,2, -33.9992,  52.1653,   0.001,   0.231,20090405,       2350
33RR20090320,        I05,      55,          2,         29,         29,2,20090405,       2159,   -33.9991,    52.1656,       4427,   240.1,  14.1544,  35.3618,2,  35.3614,2,    222.6,2,   222.7,2,    3.51,2,    7.12,2,    0.00,2,    0.60,2,   2.834,2,   1.638,2,   1.2330,2,  2106.3,2,  2321.5,2,   7.9674,2,    20.00,   0.443,2,   1.827,2,  -0.977,2,  14.1523,2,   0.886,2,   54.38,2,     4.6,   7.646,2,   0.015,   52.09,2,    9.99,2, -33.9993,  52.1653,   0.001,   0.236,20090405,       2348
33RR20090320,        I05,      55,          2,         28,         28,2,20090405,       2159,   -33.9991,    52.1656,       4427,   290.7,  13.6811,  35.3113,2,  35.3110,2,    222.8,2,   222.4,2,    3.88,2,    8.21,2,    0.00,2,    0.65,2,   2.893,2,   1.656,2,   1.2280,2,  2108.9,2,  2319.0,2,   7.9543,2,    20.00,   0.432,2,   1.860,2,  -1.118,2,  13.6714,2,-999.000,9, -999.00,9, -999.00,   7.726,2,   0.009,   50.64,2,   10.67,2, -33.9992,  52.1653,   0.001,   0.194,20090405,       2345
33RR20090320,        I05,      55,          2,         27,         27,2,20090405,       2159,   -33.9991,    52.1656,       4427,   339.4,  13.3870,  35.2788,2,  35.2781,2,    223.2,2,   223.0,2,    3.87,2,    8.81,2,    0.00,2,    0.69,2,   2.929,2,   1.682,2,   1.2380,2,  2112.2,2,  2317.2,2,   7.9467,2,    20.00,   0.405,2,   1.852,2,  -1.209,2,  13.3836,2,   0.894,2,   59.74,2,     2.8,   7.660,2,   0.009,   49.19,2,   10.57,2, -33.9992,  52.1653,   0.001,   0.192,20090405,       2343
33RR20090320,        I05,      55,          2,         26,         26,2,20090405,       2159,   -33.9991,    52.1656,       4427,   391.6,  13.0318,  35.2360,2,  35.2371,2,    226.1,2,   225.6,2,    4.06,2,    9.41,2,    0.00,2,    0.73,2,   3.005,2,   1.703,2,   1.2390,2,  2113.3,2,  2315.9,2,   7.9403,2,    20.00,-999.000,9,   1.830,2,  -1.056,2,  13.0344,2,-999.000,9, -999.00,9, -999.00,   7.636,2,   0.009,   48.66,2,   11.27,2, -33.9993,  52.1653,   0.001,   0.192,20090405,       2341
33RR20090320,        I05,      55,          2,         25,         25,2,20090405,       2159,   -33.9991,    52.1656,       4427,   440.8,  12.8122,  35.2061,2,  35.2048,2,    227.4,2,   227.7,2,    3.85,2,    9.68,2,    0.00,2,    0.75,2,   3.031,2,   1.715,2,   1.0440,2,  2112.0,2,  2314.3,2,   7.9366,2,    20.00,   0.392,2,   1.829,2,  -0.825,2,  12.8118,2,   0.922,2,   53.11,2,     3.6,   7.648,2,   0.009,   48.21,2,   11.67,2, -33.9993,  52.1653,   0.001,   0.192,20090405,       2338
33RR20090320,        I05,      55,          2,         24,         24,2,20090405,       2159,   -33.9991,    52.1656,       4427,   491.7,  12.3863,  35.1381,2,  35.1362,2,    224.6,2,   225.3,2,    4.23,2,   10.83,2,    0.00,2,    0.82,2,   3.065,2,   1.717,2,   1.0600,2,  2116.9,2,  2311.3,2,   7.9230,2,    20.00,-999.000,9,-999.000,9,-999.000,9,  12.3853,2,-999.000,9, -999.00,9, -999.00,-999.000,9,-999.000,   46.66,2,   12.39,2, -33.9993,  52.1653,-999.000,-999.000,20090405,       2336
33RR20090320,        I05,      55,          2,         23,         23,2,20090405,       2159,   -33.9991,    52.1656,       4427,   570.8,  11.5670,  35.0116,2,  35.0118,2,    222.6,2,   222.3,2,    4.80,2,   12.85,2,    0.00,2,    0.96,2,   3.128,6,   1.709,6,   0.9920,6,  2123.1,2,  2306.9,2,   7.8992,2,    20.00,-999.000,9,   1.845,2,  -0.071,2,  11.5711,2,   1.038,2,   40.34,2,     3.3,   7.716,2,   0.009,   45.07,2,   14.72,2, -33.9993,  52.1653,   0.001,   0.194,20090405,       2334
33RR20090320,        I05,      55,          2,         22,         22,2,20090405,       2159,   -33.9991,    52.1656,       4427,   672.9,  10.5281,  34.8663,2,  34.8652,2,    218.0,2,   218.1,2,    6.36,2,   15.46,2,    0.00,2,    1.12,2,   3.107,2,   1.650,2,   0.8410,2,  2131.2,2,  2300.0,2,   7.8680,2,    20.00,-999.000,9,-999.000,9,-999.000,9,  10.5285,2,   1.084,2,   41.83,2,     2.8,-999.000,9,-999.000,   44.40,2,   16.87,2, -33.9993,  52.1654,-999.000,-999.000,20090405,       2331
33RR20090320,        I05,      55,          2,         21,         21,2,20090405,       2159,   -33.9991,    52.1656,       4427,   772.7,   9.2955,  34.7172,2,  34.7184,2,    212.2,2,   211.9,2,    9.30,2,   18.85,2,    0.00,2,    1.35,2,   2.908,2,   1.505,2,   0.6350,2,  2143.4,2,  2296.8,2,   7.8297,2,    20.00,   0.213,2,   1.893,2,   0.894,2,   9.2995,2,   1.045,2,   34.95,2,     3.1,   7.964,2,   0.009,   43.71,2,   20.02,2, -33.9992,  52.1655,   0.001,   0.194,20090405,       2328
33RR20090320,        I05,      55,          2,         20,         20,2,20090405,       2159,   -33.9991,    52.1656,       4427,   873.0,   7.7780,  34.5686,2,  34.5661,2,    206.3,2,   205.7,2,   14.79,2,   23.12,2,    0.00,2,    1.64,2,   2.565,2,   1.308,2,   0.5730,2,  2159.7,2,  2294.5,2,   7.7809,2,    20.00,   0.176,2,-999.000,9,-999.000,9,   7.7722,2,   1.048,2,   25.43,2,     3.9,-999.000,9,-999.000,   42.76,2,   24.32,2, -33.9992,  52.1656,-999.000,-999.000,20090405,       2325
33RR20090320,        I05,      55,          2,         19,         19,2,20090405,       2159,   -33.9991,    52.1656,       4427,   969.7,   6.6733,  34.4796,2,  34.4791,2,    204.4,2,   205.0,2,   19.52,2,   25.82,2,    0.00,2,    1.83,2,   2.388,2,   1.202,2,   0.5010,2,  2171.0,2,  2294.6,2,   7.7508,2,    20.00,   0.124,2,-999.000,9,-999.000,9,   6.6717,2,   0.843,3,  -30.77,2,     3.2,-999.000,9,-999.000,   41.79,2,   27.25,2, -33.9991,  52.1657,-999.000,-999.000,20090405,       2322
33RR20090320,        I05,      55,          2,         18,         18,2,20090405,       2159,   -33.9991,    52.1656,       4427,  1074.1,   5.4339,  34.4065,2,  34.4065,2,    202.9,2,   203.5,2,   26.83,2,   28.57,2,    0.00,2,    2.03,2,   2.120,2,   1.064,2,   0.5740,3,  2184.2,2,  2297.4,2,   7.7186,2,    20.00,-999.000,9,-999.000,9,-999.000,9,   5.4324,2,   0.956,2,  -45.12,2,     2.7,-999.000,9,-999.000,   41.25,2,   30.32,2, -33.9991,  52.1657,-999.000,-999.000,20090405,       2318
33RR20090320,        I05,      55,          2,         17,         17,2,20090405,       2159,   -33.9991,    52.1656,       4427,  1172.1,   4.6680,  34.3959,2,  34.3947,2,    198.7,2,   198.6,2,   34.55,2,   30.33,2,    0.00,2,    2.17,2,   1.757,2,   0.871,2,   0.3510,2,  2198.9,2,  2302.3,2,   7.6967,2,    20.00,-999.000,9,   1.884,2,   4.005,2,   4.6697,2,   0.894,2,  -74.52,2,     2.9,   8.142,2,   0.010,   41.10,2,   31.92,2, -33.9991,  52.1657,   0.001,   0.206,20090405,       2315
33RR20090320,        I05,      55,          2,         16,         16,2,20090405,       2159,   -33.9991,    52.1656,       4427,  1272.3,   4.0511,  34.4146,2,  34.4137,2,    192.5,2,   191.9,2,   43.10,2,   31.76,2,    0.00,2,    2.27,2,   1.382,2,   0.682,2,   0.2470,2,  2213.2,2,  2311.0,2,   7.6772,2,    20.00,-999.000,9,-999.000,9,-999.000,9,   4.0534,2,   0.804,2,  -91.91,2,     3.2,-999.000,9,-999.000,   40.55,2,   33.47,2, -33.9991,  52.1657,-999.000,-999.000,20090405,       2312
33RR20090320,        I05,      55,          2,         15,         15,2,20090405,       2159,   -33.9991,    52.1656,       4427,  1373.3,   3.6239,  34.4549,2,  34.4542,2,    185.3,2,   185.0,2,   51.07,2,   32.65,2,    0.00,2,    2.33,2,   1.000,2,   0.494,2,   0.1610,2,  2225.5,2,  2318.3,2,   7.6639,2,    20.00,-999.000,9,   1.892,2,   5.506,2,   3.6247,2,   0.698,2, -117.29,2,     3.1,   8.167,2,   0.010,   40.74,2,   34.36,2, -33.9990,  52.1658,   0.001,   0.205,20090405,       2309
33RR20090320,        I05,      55,          2,         14,         14,2,20090405,       2159,   -33.9991,    52.1656,       4427,  1474.6,   3.3470,  34.4962,2,  34.4952,2,    180.5,2,   180.6,2,   57.65,2,   32.98,2,    0.00,2,    2.36,2,   0.719,2,   0.359,2,   0.0880,2,  2232.6,2,  2323.7,2,   7.6570,2,    20.00,-999.000,9,-999.000,9,-999.000,9,   3.3464,2,   0.667,2, -129.04,2,     2.8,-999.000,9,-999.000,   40.81,2,   34.42,2, -33.9990,  52.1658,-999.000,-999.000,20090405,       2306
33RR20090320,        I05,      55,          2,         13,         13,2,20090405,       2159,   -33.9991,    52.1656,       4427,  1574.5,   3.1100,  34.5410,2,  34.5400,2,    177.8,2,   178.0,2,   63.24,2,   32.92,2,    0.00,2,    2.35,2,   0.507,6,   0.253,6,   0.0290,6,  2238.4,2,  2328.5,2,   7.6553,2,    20.00,   0.044,2,   1.926,2,   7.695,2,   3.1102,2,-999.000,9, -999.00,9, -999.00,   8.312,2,   0.010,   40.28,2,   34.26,2, -33.9990,  52.1658,   0.001,   0.193,20090405,       2303
33RR20090320,        I05,      55,          2,         12,         12,2,20090405,       2159,   -33.9991,    52.1656,       4427,  1742.9,   2.8430,  34.5997,2,  34.5983,2,    177.3,2,   177.4,2,   69.45,2,   32.74,2,    0.00,2,    2.33,2,   0.299,2,   0.153,2,   0.0000,2,  2244.6,6,  2338.2,2,   7.6584,2,    20.00,-999.000,9,-999.000,9,-999.000,9,   2.8425,2,-999.000,9, -999.00,9, -999.00,-999.000,9,-999.000,   40.15,2,   34.15,2, -33.9990,  52.1658,-999.000,-999.000,20090405,       2259
33RR20090320,        I05,      55,          2,         11,         11,2,20090405,       2159,   -33.9991,    52.1656,       4427,  1946.6,   2.6046,  34.6580,2,  34.6566,2,    181.4,2,   181.3,2,   74.06,2,   31.97,2,    0.00,2,    2.28,2,   0.183,2,   0.095,2,   0.0000,2,  2246.1,2,  2344.9,2,   7.6678,2,    20.00,-999.000,9,   1.963,2,   8.575,2,   2.6047,2,-999.000,9, -999.00,9, -999.00,   8.440,2,   0.011,   40.22,2,   33.84,2, -33.9991,  52.1656,   0.001,   0.194,20090405,       2254
33RR20090320,        I05,      55,          2,         10,         10,2,20090405,       2159,   -33.9991,    52.1656,       4427,  2179.1,   2.3581,  34.7053,2,  34.7038,2,    187.4,2,   187.5,2,   79.48,2,   31.19,2,    0.00,2,    2.22,2,   0.105,2,   0.055,2,   0.0000,2,  2246.8,2,  2346.9,2,   7.6806,2,    20.00,-999.000,9,-999.000,9,-999.000,9,   2.3585,2,-999.000,9, -999.00,9, -999.00,-999.000,9,-999.000,   39.63,2,   32.62,2, -33.9992,  52.1655,-999.000,-999.000,20090405,       2248
33RR20090320,        I05,      55,          2,          9,          9,2,20090405,       2159,   -33.9991,    52.1656,       4427,  2430.9,   2.1023,  34.7295,2,  34.7276,2,    192.7,2,   192.6,2,   85.72,2,   30.85,2,    0.00,2,    2.19,2,   0.071,2,   0.036,2,   0.0000,2,  2248.1,2,  2351.8,2,   7.6886,2,    20.00,-999.000,9,-999.000,9,-999.000,9,   2.1020,2,-999.000,9, -999.00,9, -999.00,-999.000,9,-999.000,   39.88,2,   32.42,2, -33.9993,  52.1655,-999.000,-999.000,20090405,       2243
33RR20090320,        I05,      55,          2,          8,          8,2,20090405,       2159,   -33.9991,    52.1656,       4427,  2684.3,   1.8866,  34.7394,2,  34.7388,2,    197.5,2,   197.1,2,   90.96,2,   30.58,2,    0.00,2,    2.18,2,   0.063,2,   0.034,2,   0.0000,2,  2247.5,2,  2357.0,2,   7.6925,2,    20.00,-999.000,9,-999.000,9,-999.000,9,   1.8864,2,-999.000,9, -999.00,9, -999.00,-999.000,9,-999.000,   39.80,2,   32.56,2, -33.9994,  52.1655,-999.000,-999.000,20090405,       2237
33RR20090320,        I05,      55,          2,          7,          7,2,20090405,       2159,   -33.9991,    52.1656,       4427,  2935.9,   1.6791,  34.7368,2,  34.7368,2,    199.7,2,   199.3,2,   98.03,2,   30.85,2,    0.00,2,    2.20,2,   0.067,2,   0.036,2,   0.0000,2,  2252.6,2,  2357.7,2,   7.6921,2,    20.00,-999.000,9,   1.970,2,   8.977,2,   1.6788,2,-999.000,9, -999.00,9, -999.00,   8.807,2,   0.017,   39.86,2,   32.54,2, -33.9991,  52.1655,   0.001,   0.198,20090405,       2232
33RR20090320,        I05,      55,          2,          6,          6,2,20090405,       2159,   -33.9991,    52.1656,       4427,  3224.9,   1.4512,  34.7295,2,  34.7286,2,    202.1,2,   201.6,2,  105.11,2,   31.24,2,    0.00,2,    2.23,2,   0.065,2,   0.035,2,   0.0000,2,  2255.1,2,  2362.3,2,   7.6904,2,    20.00,-999.000,9,-999.000,9,-999.000,9,   1.4521,2,-999.000,9, -999.00,9, -999.00,-999.000,9,-999.000,   39.11,2,   32.89,2, -33.9992,  52.1655,-999.000,-999.000,20090405,       2226
33RR20090320,        I05,      55,          2,          5,          5,2,20090405,       2159,   -33.9991,    52.1656,       4427,  3528.2,   1.3021,  34.7238,2,  34.7237,2,    204.4,2,   205.0,2,  109.16,2,   31.57,2,    0.00,2,    2.24,2,   0.069,6,   0.037,6,   0.0000,6,  2256.2,2,  2363.3,2,   7.6886,2,    20.00,   0.013,2,-999.000,9,-999.000,9,   1.3019,2,-999.000,9, -999.00,9, -999.00,-999.000,9,-999.000,   39.39,2,   33.06,2, -33.9993,  52.1655,-999.000,-999.000,20090405,       2220
33RR20090320,        I05,      55,          2,          4,          4,2,20090405,       2159,   -33.9991,    52.1656,       4427,  3835.1,   1.1824,  34.7182,2,  34.7176,2,    205.4,2,   205.1,2,  114.23,2,   31.78,2,    0.00,2,    2.27,2,   0.073,2,   0.040,2,   0.0000,2,  2257.8,2,  2363.8,2,   7.6864,2,    20.00,-999.000,9,-999.000,9,-999.000,9,   1.1828,2,-999.000,9, -999.00,9, -999.00,-999.000,9,-999.000,   39.15,2,   33.72,2, -33.9992,  52.1656,-999.000,-999.000,20090405,       2214
33RR20090320,        I05,      55,          2,          3,          3,2,20090405,       2159,   -33.9991,    52.1656,       4427,  4138.1,   1.1320,  34.7149,2,  34.7138,2,    206.8,2,   206.8,2,  115.24,2,   31.83,2,    0.00,2,    2.26,2,   0.076,2,   0.041,2,   0.0000,2,  2257.5,2,  2364.5,2,   7.6865,2,    20.00,-999.000,9,-999.000,9,-999.000,9,   1.1318,2,-999.000,9, -999.00,9, -999.00,-999.000,9,-999.000,   39.33,2,   33.65,2, -33.9993,  52.1658,-999.000,-999.000,20090405,       2207
33RR20090320,        I05,      55,          2,          2,          2,2,20090405,       2159,   -33.9991,    52.1656,       4427,  4317.4,   1.1268,  34.7143,2,  34.7138,2,    207.9,2,   208.0,2,  116.44,2,   31.77,2,    0.00,2,    2.27,2,   0.078,2,   0.043,2,   0.0000,2,  2257.1,2,  2365.7,2,   7.6871,2,    20.00,-999.000,9,   1.952,2,   8.194,2,   1.1271,2,-999.000,9, -999.00,9, -999.00,   8.757,2,   0.016,   39.54,2,   33.86,2, -33.9993,  52.1657,   0.001,   0.186,20090405,       2203
33RR20090320,        I05,      55,          2,          1,          1,2,20090405,       2159,   -33.9991,    52.1656,       4427,  4490.8,   1.1432,  34.7140,2,  34.7131,2,    207.4,2,   207.3,2,  116.43,2,   31.72,2,    0.00,2,    2.27,2,   0.079,2,   0.043,2,   0.0000,2,  2259.9,6,  2365.1,2,   7.6870,2,    20.00,-999.000,9,   1.987,2,   7.876,2,   1.1435,2,-999.000,9, -999.00,9, -999.00,   8.909,2,   0.023,   39.40,2,   33.79,2, -33.9991,  52.1656,   0.001,   0.196,20090405,       2159