BOTTLE,20220814CCHSIOAMB
EXPOCODE,SECT_ID,STNNBR,CASTNO,SAMPNO,BTLNBR,BTLNBR_FLAG_W,DATE,TIME,LATITUDE,LONGITUDE,DEPTH,CTDPRS,CTDTMP,CTDSAL,CTDSAL_FLAG_W,SALNTY,SALNTY_FLAG_W,CTDOXY,CTDOXY_FLAG_W,OXYGEN,OXYGEN_FLAG_W,SILCAT,SILCAT_FLAG_W,NITRAT,NITRAT_FLAG_W,NITRIT,NITRIT_FLAG_W,PHSPHT,PHSPHT_FLAG_W,CFC-11,CFC-11_FLAG_W,CFC-12,CFC-12_FLAG_W,SF6,SF6_FLAG_W,TCARBN,TCARBN_FLAG_W,ALKALI,ALKALI_FLAG_W,PH_TOT,PH_TOT_FLAG_W,PH_TMP,TRITUM,TRITUM_FLAG_W,HELIUM,HELIUM_FLAG_W,DELHE3,DELHE3_FLAG_W,REFTMP,REFTMP_FLAG_W,DELC13,DELC13_FLAG_W,DELC14,DELC14_FLAG_W,C14ERR,NEON,NEON_FLAG_W,NEONER,DOC,DOC_FLAG_W,TDN,TDN_FLAG_W,BTL_LAT,BTL_LON,HELIER,DELHER,BTL_DATE,BTL_TIME
,,,,,,,,,,,METERS,DBAR,ITS-90,PSS-78,,PSS-78,,UMOL/KG,,UMOL/KG,,UMOL/KG,,UMOL/KG,,UMOL/KG,,UMOL/KG,,PMOL/KG,,PMOL/KG,,FMOL/KG,,UMOL/KG,,UMOL/KG,,,,DEG C,TU,,NMOL/KG,,PERCNT,,DEG C,,/MILLE,,/MILLE,,/MILLE,NMOL/KG,,NMOL/KG,UMOL/KG,,UMOL/KG,,,,NMOL/KG,PERCNT,,
33RR20090320,        I05,      49,          1,         36,         36,2,20090404,       0409,   -33.5341,    48.6105,       4086,     9.7,  23.3776,  35.4660,2,  35.4661,2,    213.8,2,   214.2,2,    1.41,2,    0.11,2,    0.00,2,    0.06,2,   1.849,2,   1.133,2,   1.1250,2,  2014.9,6,  2324.3,2,   8.1325,2,    20.00,-999.000,9,-999.000,9,-999.000,9,  23.3781,2,-999.000,9, -999.00,9, -999.00,-999.000,9,-999.000,   67.15,2,    4.97,2, -33.5341,  48.6102,-999.000,-999.000,20090404,       0607
33RR20090320,        I05,      49,          1,         35,         35,2,20090404,       0409,   -33.5341,    48.6105,       4086,    24.6,  23.3781,  35.4660,2,  35.4661,2,    215.5,2,   214.4,2,    1.38,2,    0.10,2,    0.00,2,    0.06,2,   1.879,2,   1.137,2,   1.1870,2,  2014.5,2,  2324.9,2,   8.1326,2,    20.00,-999.000,9,-999.000,9,-999.000,9,  23.3813,2,-999.000,9, -999.00,9, -999.00,-999.000,9,-999.000,   67.01,2,    4.91,2, -33.5341,  48.6102,-999.000,-999.000,20090404,       0605
33RR20090320,        I05,      49,          1,         34,         34,2,20090404,       0409,   -33.5341,    48.6105,       4086,    45.3,  23.2291,  35.4778,2,  35.4744,2,    216.2,2,   215.7,2,    1.52,2,    0.16,2,    0.00,2,    0.06,2,   1.867,2,   1.144,2,   1.1270,2,  2017.2,2,  2324.7,2,   8.1301,2,    20.00,-999.000,9,-999.000,9,-999.000,9,  23.2364,2,-999.000,9, -999.00,9, -999.00,-999.000,9,-999.000,   66.80,2,    5.06,2, -33.5341,  48.6102,-999.000,-999.000,20090404,       0604
33RR20090320,        I05,      49,          1,         33,         33,2,20090404,       0409,   -33.5341,    48.6105,       4086,    70.0,  20.1801,  35.5737,2,  35.5744,2,    240.9,2,   243.8,2,    1.48,2,    0.16,2,    0.00,2,    0.11,2,   2.299,2,   1.374,2,   1.2750,2,  2044.9,2,  2330.6,2,   8.0946,2,    20.00,-999.000,9,-999.000,9,-999.000,9,  20.1891,2,-999.000,9, -999.00,9, -999.00,-999.000,9,-999.000,   61.04,2,    3.73,2, -33.5341,  48.6102,-999.000,-999.000,20090404,       0602
33RR20090320,        I05,      49,          1,         32,         32,2,20090404,       0409,   -33.5341,    48.6105,       4086,    93.7,  18.3854,  35.5711,2,  35.5717,2,    244.3,2,   242.5,2,    1.64,2,    0.15,2,    0.00,2,    0.14,2,   2.405,2,   1.433,2,   1.2410,2,  2055.4,2,  2331.3,2,   8.0763,2,    20.00,-999.000,9,-999.000,9,-999.000,9,  18.3623,2,-999.000,9, -999.00,9, -999.00,-999.000,9,-999.000,   56.59,2,    4.08,2, -33.5340,  48.6102,-999.000,-999.000,20090404,       0600
33RR20090320,        I05,      49,          1,         31,         31,2,20090404,       0409,   -33.5341,    48.6105,       4086,   121.0,  17.0873,  35.5440,2,  35.5453,2,    226.6,2,   225.5,2,    2.18,2,    1.32,2,    0.09,2,    0.26,2,   2.462,2,   1.460,2,   1.2900,2,  2074.0,2,  2329.1,2,   8.0394,2,    20.00,-999.000,9,-999.000,9,-999.000,9,  17.1145,2,-999.000,9, -999.00,9, -999.00,-999.000,9,-999.000,   55.41,2,    5.07,2, -33.5340,  48.6101,-999.000,-999.000,20090404,       0558
33RR20090320,        I05,      49,          1,         30,         30,2,20090404,       0409,   -33.5341,    48.6105,       4086,   143.0,  16.5635,  35.5369,2,  35.5368,2,    216.9,2,   213.7,2,    2.92,2,    3.54,2,    0.01,2,    0.37,2,   2.497,2,   1.476,2,   1.3400,2,  2089.9,2,  2329.5,2,   8.0179,2,    20.00,-999.000,9,-999.000,9,-999.000,9,  16.5613,2,-999.000,9, -999.00,9, -999.00,-999.000,9,-999.000,   53.95,2,    6.67,2, -33.5339,  48.6100,-999.000,-999.000,20090404,       0556
33RR20090320,        I05,      49,          1,         29,         29,2,20090404,       0409,   -33.5341,    48.6105,       4086,   190.9,  16.0378,  35.5069,2,  35.5078,2,   -999.0,5,  -999.0,5,    3.06,2,    4.69,2,    0.00,2,    0.44,2,   2.556,2,   1.506,2,   1.2880,2,  2096.3,2,  2328.3,2,   8.0020,2,    20.00,-999.000,9,-999.000,9,-999.000,9,  16.0506,2,-999.000,9, -999.00,9, -999.00,-999.000,9,-999.000,   51.80,2,    7.39,2, -33.5339,  48.6099,-999.000,-999.000,20090404,       0554
33RR20090320,        I05,      49,          1,         28,         28,2,20090404,       0409,   -33.5341,    48.6105,       4086,   237.5,  15.1342,  35.4458,2,  35.4449,2,    215.4,2,   215.8,2,    3.22,2,    5.95,2,    0.00,2,    0.52,2,   2.684,2,   1.564,2,   1.2340,2,  2102.1,2,  2325.8,2,   7.9818,2,    20.00,-999.000,9,-999.000,9,-999.000,9,  15.1337,2,-999.000,9, -999.00,9, -999.00,-999.000,9,-999.000,   50.00,2,    8.92,2, -33.5340,  48.6100,-999.000,-999.000,20090404,       0551
33RR20090320,        I05,      49,          1,         27,         27,2,20090404,       0409,   -33.5341,    48.6105,       4086,   290.2,  14.4839,  35.3942,2,  35.3936,2,    218.3,2,   218.6,2,    3.38,2,    6.88,2,    0.00,2,    0.58,2,   2.779,2,   1.609,2,   1.2170,2,  2103.3,2,  2324.5,2,   7.9678,2,    20.00,-999.000,9,-999.000,9,-999.000,9,  14.4872,2,-999.000,9, -999.00,9, -999.00,-999.000,9,-999.000,   48.99,2,    9.37,2, -33.5339,  48.6100,-999.000,-999.000,20090404,       0549
33RR20090320,        I05,      49,          1,         26,         26,2,20090404,       0409,   -33.5341,    48.6105,       4086,   339.2,  13.8864,  35.3401,2,  35.3400,2,    221.4,2,   220.1,2,    3.52,2,    7.97,2,    0.00,2,    0.63,2,   2.873,2,   1.643,2,   1.3750,2,  2112.0,2,  2320.9,2,   7.9533,2,    20.00,-999.000,9,-999.000,9,-999.000,9,  13.8880,2,-999.000,9, -999.00,9, -999.00,-999.000,9,-999.000,   47.90,2,   10.21,2, -33.5340,  48.6099,-999.000,-999.000,20090404,       0546
33RR20090320,        I05,      49,          1,         25,         25,2,20090404,       0409,   -33.5341,    48.6105,       4086,   388.6,  13.4606,  35.2929,2,  35.2947,2,    223.0,2,   223.6,2,    3.48,2,    8.58,2,    0.00,2,    0.67,2,   2.926,2,   1.668,2,   1.2810,2,  2112.7,2,  2319.8,2,   7.9473,2,    20.00,-999.000,9,-999.000,9,-999.000,9,  13.4718,2,-999.000,9, -999.00,9, -999.00,-999.000,9,-999.000,   47.20,2,   10.92,2, -33.5338,  48.6099,-999.000,-999.000,20090404,       0544
33RR20090320,        I05,      49,          1,         24,         24,2,20090404,       0409,   -33.5341,    48.6105,       4086,   438.7,  13.1829,  35.2582,2,  35.2577,2,    224.2,2,   225.2,2,    3.43,2,    9.12,2,    0.00,2,    0.70,2,   2.983,6,   1.683,6,   1.2580,6,  2114.4,2,  2317.0,2,   7.9416,2,    20.00,-999.000,9,-999.000,9,-999.000,9,  13.1814,2,-999.000,9, -999.00,9, -999.00,-999.000,9,-999.000,   46.75,2,   11.17,2, -33.5337,  48.6099,-999.000,-999.000,20090404,       0541
33RR20090320,        I05,      49,          1,         23,         23,2,20090404,       0409,   -33.5341,    48.6105,       4086,   489.2,  12.7453,  35.1948,2,  35.1952,2,    223.9,2,   224.6,2,    3.59,2,   10.16,2,    0.00,2,    0.77,2,   3.039,2,   1.698,2,   1.3440,2,  2116.5,2,  2316.0,2,   7.9299,2,    20.00,-999.000,9,-999.000,9,-999.000,9,  12.7492,2,-999.000,9, -999.00,9, -999.00,-999.000,9,-999.000,   46.41,2,   11.60,2, -33.5338,  48.6099,-999.000,-999.000,20090404,       0539
33RR20090320,        I05,      49,          1,         22,         22,2,20090404,       0409,   -33.5341,    48.6105,       4086,   568.6,  12.1064,  35.0971,2,  35.0987,2,    224.1,2,   222.9,2,    3.94,2,   11.63,2,    0.00,2,    0.86,2,   3.106,2,   1.705,2,   1.1030,2,  2121.7,2,  2312.7,2,   7.9115,2,    20.00,-999.000,9,-999.000,9,-999.000,9,  12.1024,2,-999.000,9, -999.00,9, -999.00,-999.000,9,-999.000,   45.24,2,   13.31,2, -33.5340,  48.6099,-999.000,-999.000,20090404,       0537
33RR20090320,        I05,      49,          1,         21,         21,2,20090404,       0409,   -33.5341,    48.6105,       4086,   669.8,  11.3171,  34.9832,2,  34.9822,2,    221.8,2,   221.4,2,    4.48,2,   13.33,2,    0.00,2,    0.98,2,   3.150,2,   1.698,2,   0.9970,2,  2127.6,2,  2309.1,2,   7.8916,2,    20.00,-999.000,9,-999.000,9,-999.000,9,  11.3164,2,-999.000,9, -999.00,9, -999.00,-999.000,9,-999.000,   43.98,2,   15.19,2, -33.5340,  48.6100,-999.000,-999.000,20090404,       0534
33RR20090320,        I05,      49,          1,         20,         20,2,20090404,       0409,   -33.5341,    48.6105,       4086,   767.7,  10.4980,  34.8662,2,  34.8659,2,    219.8,2,   220.1,2,    5.61,2,   15.36,2,    0.00,2,    1.10,2,   3.137,2,   1.644,2,   0.8880,2,  2134.6,2,  2303.1,2,   7.8696,2,    20.00,-999.000,9,-999.000,9,-999.000,9,  10.4984,2,-999.000,9, -999.00,9, -999.00,-999.000,9,-999.000,   43.20,2,   16.77,2, -33.5341,  48.6101,-999.000,-999.000,20090404,       0531
33RR20090320,        I05,      49,          1,         19,         19,2,20090404,       0409,   -33.5341,    48.6105,       4086,   870.5,   9.0646,  34.6888,2,  34.6874,2,    213.2,2,   213.4,2,    8.90,2,   19.37,2,    0.00,2,    1.38,2,   2.853,2,   1.464,2,   0.6640,2,  2146.2,2,  2297.0,2,   7.8248,2,    20.00,-999.000,9,-999.000,9,-999.000,9,   9.0579,2,-999.000,9, -999.00,9, -999.00,-999.000,9,-999.000,   42.39,2,   20.89,2, -33.5341,  48.6102,-999.000,-999.000,20090404,       0528
33RR20090320,        I05,      49,          1,         18,         18,2,20090404,       0409,   -33.5341,    48.6105,       4086,   971.4,   7.7954,  34.5667,2,  34.5656,2,    206.3,2,   205.8,2,   13.77,2,   23.05,2,    0.00,2,    1.62,2,   2.462,2,   1.232,2,   0.4610,2,  2160.0,6,  2294.6,2,   7.7834,2,    20.00,-999.000,9,-999.000,9,-999.000,9,   7.7967,2,-999.000,9, -999.00,9, -999.00,-999.000,9,-999.000,   41.72,2,   24.67,2, -33.5342,  48.6103,-999.000,-999.000,20090404,       0525
33RR20090320,        I05,      49,          1,         17,         17,2,20090404,       0409,   -33.5341,    48.6105,       4086,  1069.8,   6.5780,  34.4778,2,  34.4763,2,    201.7,2,   201.5,2,   20.42,2,   26.30,2,    0.00,2,    1.86,2,-999.000,9,-999.000,9,-999.0000,9,  -999.0,9,  -999.0,9,-999.0000,9,  -999.00,-999.000,9,-999.000,9,-999.000,9,   6.5767,2,-999.000,9, -999.00,9, -999.00,-999.000,9,-999.000, -999.00,9, -999.00,9, -33.5342,  48.6103,-999.000,-999.000,20090404,       0522
33RR20090320,        I05,      49,          1,         16,         16,2,20090404,       0409,   -33.5341,    48.6105,       4086,  1169.7,   5.3022,  34.4072,2,  34.4066,2,    199.8,2,   200.5,2,   28.46,2,   29.07,2,    0.00,2,    2.06,2,   1.922,6,   0.946,6,   0.3660,6,  2192.7,2,  2299.4,2,   7.7126,2,    20.00,-999.000,9,-999.000,9,-999.000,9,   5.3126,2,-999.000,9, -999.00,9, -999.00,-999.000,9,-999.000,   40.46,2,   30.77,2, -33.5341,  48.6105,-999.000,-999.000,20090404,       0519
33RR20090320,        I05,      49,          1,         15,         15,2,20090404,       0409,   -33.5341,    48.6105,       4086,  1272.0,   4.5107,  34.3953,2,  34.3946,2,    196.3,2,   197.4,2,   36.14,2,   30.73,2,    0.00,2,    2.19,2,   1.724,2,   0.844,2,   0.3400,2,  2206.8,2,  2307.2,2,   7.6904,2,    20.00,-999.000,9,-999.000,9,-999.000,9,   4.5126,2,-999.000,9, -999.00,9, -999.00,-999.000,9,-999.000,   40.52,2,   32.64,2, -33.5341,  48.6106,-999.000,-999.000,20090404,       0516
33RR20090320,        I05,      49,          1,         14,         14,2,20090404,       0409,   -33.5341,    48.6105,       4086,  1371.7,   3.9172,  34.4239,2,  34.4227,2,    189.4,2,   189.4,2,   45.23,2,   32.16,2,    0.00,2,    2.29,2,   1.321,2,   0.637,2,   0.2610,2,  2219.6,2,  2315.1,2,   7.6703,2,    20.00,-999.000,9,-999.000,9,-999.000,9,   3.9189,2,-999.000,9, -999.00,9, -999.00,-999.000,9,-999.000,   39.97,2,   33.89,2, -33.5340,  48.6106,-999.000,-999.000,20090404,       0513
33RR20090320,        I05,      49,          1,         13,         13,2,20090404,       0409,   -33.5341,    48.6105,       4086,  1472.2,   3.5229,  34.4729,2,  34.4722,2,    181.5,2,   181.1,2,   53.95,2,   32.99,2,    0.00,2,    2.32,2,   0.868,2,   0.415,2,   0.1390,2,  2231.8,2,  2320.9,2,   7.6570,2,    20.00,-999.000,9,-999.000,9,-999.000,9,   3.5237,2,-999.000,9, -999.00,9, -999.00,-999.000,9,-999.000,   39.92,2,   34.40,2, -33.5340,  48.6106,-999.000,-999.000,20090404,       0510
33RR20090320,        I05,      49,          1,         12,         12,2,20090404,       0409,   -33.5341,    48.6105,       4086,  1573.1,   3.2289,  34.5232,2,  34.4726,4,    177.2,2,   176.4,2,   61.09,2,   33.27,2,    0.00,2,    2.34,2,   0.533,2,   0.255,2,   0.0740,2,  2240.9,2,  2326.9,2,   7.6521,2,    20.00,-999.000,9,-999.000,9,-999.000,9,   3.2290,2,-999.000,9, -999.00,9, -999.00,-999.000,9,-999.000,   40.08,2,   34.87,2, -33.5339,  48.6104,-999.000,-999.000,20090404,       0507
33RR20090320,        I05,      49,          1,         11,         11,2,20090404,       0409,   -33.5341,    48.6105,       4086,  1745.7,   2.8954,  34.5958,2,  34.5955,2,    175.1,2,   175.5,2,   69.05,2,   32.92,2,    0.00,2,    2.35,2,   0.266,2,   0.134,2,   0.0670,2,  2248.9,6,  2335.8,2,   7.6556,2,    20.00,-999.000,9,-999.000,9,-999.000,9,   2.9007,2,-999.000,9, -999.00,9, -999.00,-999.000,9,-999.000,   40.11,2,   34.42,2, -33.5340,  48.6101,-999.000,-999.000,20090404,       0503
33RR20090320,        I05,      49,          1,         10,         10,2,20090404,       0409,   -33.5341,    48.6105,       4086,  1946.0,   2.6583,  34.6602,2,  34.6598,2,    179.0,2,   179.6,2,   74.01,2,   32.02,2,    0.00,2,    2.28,2,   0.141,2,   0.070,2,   0.1190,2,  2250.1,2,  2342.8,2,   7.6670,2,    20.00,-999.000,9,-999.000,9,-999.000,9,   2.6574,2,-999.000,9, -999.00,9, -999.00,-999.000,9,-999.000,   39.28,2,   33.86,2, -33.5340,  48.6100,-999.000,-999.000,20090404,       0458
33RR20090320,        I05,      49,          1,          9,          9,2,20090404,       0409,   -33.5341,    48.6105,       4086,  2177.5,   2.5111,  34.7114,2,  34.7111,2,    182.3,2,   182.3,2,   79.99,2,   31.35,2,    0.00,2,    2.24,2,   0.056,2,   0.027,2,   0.0000,2,  2252.9,2,  2352.2,3,   7.6800,2,    20.00,-999.000,9,-999.000,9,-999.000,9,   2.5110,2,-999.000,9, -999.00,9, -999.00,-999.000,9,-999.000,   39.81,2,   32.80,2, -33.5340,  48.6100,-999.000,-999.000,20090404,       0453
33RR20090320,        I05,      49,          1,          8,          8,2,20090404,       0409,   -33.5341,    48.6105,       4086,  2430.8,   2.3693,  34.7464,2,  34.7460,2,    190.4,2,   190.3,2,   79.95,2,   30.34,2,    0.00,2,    2.16,2,   0.038,2,   0.019,2,   0.0000,2,  2248.9,2,  2352.7,2,   7.6937,2,    20.00,-999.000,9,-999.000,9,-999.000,9,   2.3693,2,-999.000,9, -999.00,9, -999.00,-999.000,9,-999.000,   39.84,2,   31.74,2, -33.5340,  48.6100,-999.000,-999.000,20090404,       0448
33RR20090320,        I05,      49,          1,          7,          7,2,20090404,       0409,   -33.5341,    48.6105,       4086,  2681.9,   2.1874,  34.7639,2,  34.7633,2,    198.8,2,   198.8,2,   80.51,2,   29.56,2,    0.00,2,    2.09,2,   0.032,2,   0.015,2,   0.0000,2,  2247.0,2,  2353.0,2,   7.7044,2,    20.00,-999.000,9,-999.000,9,-999.000,9,   2.1875,2,-999.000,9, -999.00,9, -999.00,-999.000,9,-999.000,   39.91,2,   31.28,2, -33.5339,  48.6100,-999.000,-999.000,20090404,       0442
33RR20090320,        I05,      49,          1,          6,          6,2,20090404,       0409,   -33.5341,    48.6105,       4086,  2935.7,   1.9180,  34.7533,2,  34.7525,2,    198.0,2,   197.1,2,   92.12,2,   30.40,2,    0.00,2,    2.16,2,   0.030,2,   0.014,2,   0.0000,2,  2254.1,2,  2357.6,2,   7.6982,2,    20.00,-999.000,9,-999.000,9,-999.000,9,   1.9175,2,-999.000,9, -999.00,9, -999.00,-999.000,9,-999.000,   40.08,2,   31.63,2, -33.5337,  48.6100,-999.000,-999.000,20090404,       0436
33RR20090320,        I05,      49,          1,          5,          5,2,20090404,       0409,   -33.5341,    48.6105,       4086,  3225.7,   1.5974,  34.7396,2,  34.7394,2,    196.3,2,   196.8,2,  104.22,2,   31.26,2,    0.00,2,    2.23,2,   0.026,2,   0.015,2,   0.0000,2,  2262.9,2,  2367.0,2,   7.6921,2,    20.00,-999.000,9,-999.000,9,-999.000,9,   1.5977,2,-999.000,9, -999.00,9, -999.00,-999.000,9,-999.000,   40.27,2,   32.71,2, -33.5339,  48.6100,-999.000,-999.000,20090404,       0430
33RR20090320,        I05,      49,          1,          4,          4,2,20090404,       0409,   -33.5341,    48.6105,       4086,  3528.6,   1.2785,  34.7221,2,  34.7221,2,    199.3,2,   199.5,2,  114.92,2,   31.98,2,    0.00,2,    2.27,2,   0.032,2,   0.018,2,   0.0000,2,  2268.0,2,  2367.5,2,   7.6853,2,    20.00,-999.000,9,-999.000,9,-999.000,9,   1.2787,2,-999.000,9, -999.00,9, -999.00,-999.000,9,-999.000,   39.76,2,   33.62,2, -33.5339,  48.6099,-999.000,-999.000,20090404,       0424
33RR20090320,        I05,      49,          1,          3,          3,2,20090404,       0409,   -33.5341,    48.6105,       4086,  3832.9,   1.0915,  34.7140,2,  34.7132,2,    204.8,2,   204.7,2,  117.72,2,   31.97,2,    0.00,2,    2.27,2,   0.049,2,   0.024,2,   0.0000,2,  2265.7,2,  2365.8,2,   7.6855,2,    20.00,-999.000,9,-999.000,9,-999.000,9,   1.0913,2,-999.000,9, -999.00,9, -999.00,-999.000,9,-999.000,   39.34,2,   33.37,2, -33.5340,  48.6101,-999.000,-999.000,20090404,       0417
33RR20090320,        I05,      49,          1,          2,          2,2,20090404,       0409,   -33.5341,    48.6105,       4086,  3986.5,   1.0510,  34.7118,2,  34.7117,2,    206.3,2,   206.4,2,  118.90,2,   31.96,2,    0.00,2,    2.28,2,   0.054,2,   0.026,2,   0.0000,2,  2265.5,2,  2367.9,2,   7.6864,2,    20.00,-999.000,9,-999.000,9,-999.000,9,   1.0509,2,-999.000,9, -999.00,9, -999.00,-999.000,9,-999.000,   39.58,2,   33.28,2, -33.5341,  48.6103,-999.000,-999.000,20090404,       0413
33RR20090320,        I05,      49,          1,          1,          1,2,20090404,       0409,   -33.5341,    48.6105,       4086,  4134.7,   1.0189,  34.7097,2,  34.7093,2,    207.1,2,   206.9,2,  119.88,2,   32.07,2,    0.00,2,    2.28,2,   0.062,6,   0.031,6,   0.0090,6,  2266.4,6,  2365.4,2,   7.6859,2,    20.00,-999.000,9,-999.000,9,-999.000,9,   1.0188,2,-999.000,9, -999.00,9, -999.00,-999.000,9,-999.000,   39.68,2,   33.63,2, -33.5341,  48.6105,-999.000,-999.000,20090404,       0409