BOTTLE,20220814CCHSIOAMB
EXPOCODE,SECT_ID,STNNBR,CASTNO,SAMPNO,BTLNBR,BTLNBR_FLAG_W,DATE,TIME,LATITUDE,LONGITUDE,DEPTH,CTDPRS,CTDTMP,CTDSAL,CTDSAL_FLAG_W,SALNTY,SALNTY_FLAG_W,CTDOXY,CTDOXY_FLAG_W,OXYGEN,OXYGEN_FLAG_W,SILCAT,SILCAT_FLAG_W,NITRAT,NITRAT_FLAG_W,NITRIT,NITRIT_FLAG_W,PHSPHT,PHSPHT_FLAG_W,CFC-11,CFC-11_FLAG_W,CFC-12,CFC-12_FLAG_W,SF6,SF6_FLAG_W,TCARBN,TCARBN_FLAG_W,ALKALI,ALKALI_FLAG_W,PH_TOT,PH_TOT_FLAG_W,PH_TMP,TRITUM,TRITUM_FLAG_W,HELIUM,HELIUM_FLAG_W,DELHE3,DELHE3_FLAG_W,REFTMP,REFTMP_FLAG_W,DELC13,DELC13_FLAG_W,DELC14,DELC14_FLAG_W,C14ERR,NEON,NEON_FLAG_W,NEONER,DOC,DOC_FLAG_W,TDN,TDN_FLAG_W,BTL_LAT,BTL_LON,HELIER,DELHER,BTL_DATE,BTL_TIME
,,,,,,,,,,,METERS,DBAR,ITS-90,PSS-78,,PSS-78,,UMOL/KG,,UMOL/KG,,UMOL/KG,,UMOL/KG,,UMOL/KG,,UMOL/KG,,PMOL/KG,,PMOL/KG,,FMOL/KG,,UMOL/KG,,UMOL/KG,,,,DEG C,TU,,NMOL/KG,,PERCNT,,DEG C,,/MILLE,,/MILLE,,/MILLE,NMOL/KG,,NMOL/KG,UMOL/KG,,UMOL/KG,,,,NMOL/KG,PERCNT,,
33RR20090320,        I05,     192,          1,         25,         25,2,20090512,       0051,   -32.5705,   114.3729,       1849,     6.9,  20.9708,  35.6820,2,  35.6816,2,    222.7,2,   223.1,2,    1.90,2,    0.11,2,    0.00,2,    0.07,2,   2.033,6,   1.231,6,   1.0860,6,  2035.4,2,  2342.7,2,   8.1281,2,    20.00,-999.000,9,-999.000,9,-999.000,9,  20.9695,2,-999.000,9, -999.00,9, -999.00,-999.000,9,-999.000, -999.00,9, -999.00,9, -32.5704, 114.3734,-999.000,-999.000,20090512,       0149
33RR20090320,        I05,     192,          1,         24,         24,2,20090512,       0051,   -32.5705,   114.3729,       1849,    40.1,  20.6633,  35.8177,2,  35.8181,2,    226.2,2,   225.4,2,    1.47,2,    0.05,2,    0.00,2,    0.07,2,-999.000,9,-999.000,9,-999.0000,9,  -999.0,9,  -999.0,9,-999.0000,9,  -999.00,-999.000,9,-999.000,9,-999.000,9,  20.6619,2,-999.000,9, -999.00,9, -999.00,-999.000,9,-999.000, -999.00,9, -999.00,9, -32.5704, 114.3735,-999.000,-999.000,20090512,       0148
33RR20090320,        I05,     192,          1,         23,         23,2,20090512,       0051,   -32.5705,   114.3729,       1849,    65.6,  20.3796,  35.8264,2,  35.8266,2,    226.9,2,   226.8,2,    1.41,2,    0.11,2,    0.00,2,    0.07,2,   2.139,2,   1.280,2,   1.1470,2,  -999.0,5,  2350.5,2,   8.1104,2,    20.00,-999.000,9,-999.000,9,-999.000,9,  20.3942,2,-999.000,9, -999.00,9, -999.00,-999.000,9,-999.000, -999.00,9, -999.00,9, -32.5704, 114.3735,-999.000,-999.000,20090512,       0146
33RR20090320,        I05,     192,          1,         22,         22,2,20090512,       0051,   -32.5705,   114.3729,       1849,    91.1,  18.2091,  35.7722,2,  35.7695,2,    235.2,2,   236.3,2,    0.99,2,    0.04,2,    0.01,2,    0.12,2,-999.000,9,-999.000,9,-999.0000,9,  -999.0,9,  -999.0,9,-999.0000,9,  -999.00,-999.000,9,-999.000,9,-999.000,9,  18.2458,2,-999.000,9, -999.00,9, -999.00,-999.000,9,-999.000, -999.00,9, -999.00,9, -32.5704, 114.3735,-999.000,-999.000,20090512,       0145
33RR20090320,        I05,     192,          1,         21,         21,2,20090512,       0051,   -32.5705,   114.3729,       1849,   117.8,  16.4942,  35.6985,2,  35.6962,2,    236.4,2,   233.8,2,    0.93,2,    0.88,2,    0.05,2,    0.20,2,   2.603,2,   1.518,2,   1.2980,2,  2085.1,2,  2346.1,2,   8.0462,2,    20.00,-999.000,9,-999.000,9,-999.000,9,  16.4694,2,-999.000,9, -999.00,9, -999.00,-999.000,9,-999.000, -999.00,9, -999.00,9, -32.5703, 114.3735,-999.000,-999.000,20090512,       0143
33RR20090320,        I05,     192,          1,         20,         20,2,20090512,       0051,   -32.5705,   114.3729,       1849,   166.9,  14.3663,  35.4432,2,  35.4494,2,    232.0,2,   232.7,2,    0.86,2,    3.82,2,    0.01,2,    0.38,2,-999.000,9,-999.000,9,-999.0000,9,  -999.0,9,  -999.0,9,-999.0000,9,  -999.00,-999.000,9,-999.000,9,-999.000,9,  14.3290,2,-999.000,9, -999.00,9, -999.00,-999.000,9,-999.000, -999.00,9, -999.00,9, -32.5703, 114.3734,-999.000,-999.000,20090512,       0142
33RR20090320,        I05,     192,          1,         19,         19,2,20090512,       0051,   -32.5705,   114.3729,       1849,   215.8,  12.8584,  35.2062,2,  35.2072,2,    237.9,2,   238.9,2,    1.17,2,    6.56,2,    0.01,2,    0.56,2,   3.097,2,   1.761,2,   1.3980,2,  -999.0,9,  -999.0,9,-999.0000,9,  -999.00,-999.000,9,-999.000,9,-999.000,9,  12.8354,2,-999.000,9, -999.00,9, -999.00,-999.000,9,-999.000, -999.00,9, -999.00,9, -32.5704, 114.3734,-999.000,-999.000,20090512,       0140
33RR20090320,        I05,     192,          1,         18,         18,2,20090512,       0051,   -32.5705,   114.3729,       1849,   266.0,  11.4185,  34.9764,2,  34.9809,2,    243.7,2,   244.0,2,    1.66,2,    9.52,2,    0.01,2,    0.74,2,-999.000,9,-999.000,9,-999.0000,9,  -999.0,9,  -999.0,9,-999.0000,9,  -999.00,-999.000,9,-999.000,9,-999.000,9,  11.4207,2,-999.000,9, -999.00,9, -999.00,-999.000,9,-999.000, -999.00,9, -999.00,9, -32.5704, 114.3735,-999.000,-999.000,20090512,       0138
33RR20090320,        I05,     192,          1,         17,         17,2,20090512,       0051,   -32.5705,   114.3729,       1849,   313.1,  10.4354,  34.8246,2,  34.8281,2,    244.3,2,   243.3,2,    2.34,2,   12.25,2,    0.00,2,    0.91,2,   3.501,2,   1.950,2,   1.4110,2,  2121.3,2,  2302.0,2,   7.8903,2,    20.00,-999.000,9,-999.000,9,-999.000,9,  10.4239,2,-999.000,9, -999.00,9, -999.00,-999.000,9,-999.000, -999.00,9, -999.00,9, -32.5705, 114.3734,-999.000,-999.000,20090512,       0136
33RR20090320,        I05,     192,          1,         16,         16,2,20090512,       0051,   -32.5705,   114.3729,       1849,   363.7,   9.8004,  34.7421,2,  34.7430,2,    241.8,2,   241.7,2,    3.02,2,   14.45,2,    0.00,2,    1.04,2,-999.000,9,-999.000,9,-999.0000,9,  -999.0,9,  -999.0,9,-999.0000,9,  -999.00,-999.000,9,-999.000,9,-999.000,9,   9.7864,2,-999.000,9, -999.00,9, -999.00,-999.000,9,-999.000, -999.00,9, -999.00,9, -32.5705, 114.3734,-999.000,-999.000,20090512,       0133
33RR20090320,        I05,     192,          1,         15,         15,2,20090512,       0051,   -32.5705,   114.3729,       1849,   412.9,   9.3471,  34.6888,2,  34.6887,2,    240.5,2,   240.0,2,    3.69,2,   15.92,2,    0.00,2,    1.14,2,-999.000,9,-999.000,9,-999.0000,9,  -999.0,9,  -999.0,9,-999.0000,9,  -999.00,-999.000,9,-999.000,9,-999.000,9,   9.3442,2,-999.000,9, -999.00,9, -999.00,-999.000,9,-999.000, -999.00,9, -999.00,9, -32.5705, 114.3733,-999.000,-999.000,20090512,       0131
33RR20090320,        I05,     192,          1,         14,         14,2,20090512,       0051,   -32.5705,   114.3729,       1849,   465.2,   9.0363,  34.6476,2,  34.6494,2,    240.9,2,   240.4,2,    4.19,2,   16.85,2,    0.00,2,    1.20,2,   3.675,2,   1.966,2,   1.1570,2,  2132.4,2,  2292.4,2,   7.8464,2,    20.00,-999.000,9,-999.000,9,-999.000,9,   9.0394,2,-999.000,9, -999.00,9, -999.00,-999.000,9,-999.000, -999.00,9, -999.00,9, -32.5705, 114.3731,-999.000,-999.000,20090512,       0129
33RR20090320,        I05,     192,          1,         13,         13,2,20090512,       0051,   -32.5705,   114.3729,       1849,   533.7,   8.4022,  34.5720,2,  34.5728,2,    230.0,2,   230.6,2,    6.52,2,   19.48,2,    0.00,2,    1.37,2,-999.000,9,-999.000,9,-999.0000,9,  -999.0,9,  -999.0,9,-999.0000,9,  -999.00,-999.000,9,-999.000,9,-999.000,9,   8.4016,2,-999.000,9, -999.00,9, -999.00,-999.000,9,-999.000, -999.00,9, -999.00,9, -32.5705, 114.3730,-999.000,-999.000,20090512,       0127
33RR20090320,        I05,     192,          1,         12,         12,2,20090512,       0051,   -32.5705,   114.3729,       1849,   632.1,   6.9066,  34.4610,2,  34.4617,2,    201.8,2,   202.4,2,   15.87,2,   25.38,2,    0.00,2,    1.77,2,-999.000,9,-999.000,9,-999.0000,9,  -999.0,9,  -999.0,9,-999.0000,9,  -999.00,-999.000,9,-999.000,9,-999.000,9,   6.9039,2,-999.000,9, -999.00,9, -999.00,-999.000,9,-999.000, -999.00,9, -999.00,9, -32.5705, 114.3731,-999.000,-999.000,20090512,       0124
33RR20090320,        I05,     192,          1,         11,         11,2,20090512,       0051,   -32.5705,   114.3729,       1849,   735.0,   5.2973,  34.3971,2,  34.3977,2,    192.3,2,   193.3,2,   28.51,2,   29.41,2,    0.00,2,    2.08,2,   1.559,2,   0.757,2,   0.2200,2,  2191.9,2,  2299.2,2,   7.7042,2,    20.00,-999.000,9,-999.000,9,-999.000,9,   5.2998,2,-999.000,9, -999.00,9, -999.00,-999.000,9,-999.000, -999.00,9, -999.00,9, -32.5705, 114.3731,-999.000,-999.000,20090512,       0121
33RR20090320,        I05,     192,          1,         10,         10,2,20090512,       0051,   -32.5705,   114.3729,       1849,   833.2,   4.3825,  34.4085,2,  34.4122,3,    181.3,2,   181.4,2,   42.61,2,   31.79,2,    0.00,2,    2.28,2,-999.000,9,-999.000,9,-999.0000,9,  -999.0,9,  -999.0,9,-999.0000,9,  -999.00,-999.000,9,-999.000,9,-999.000,9,   4.3792,2,-999.000,9, -999.00,9, -999.00,-999.000,9,-999.000, -999.00,9, -999.00,9, -32.5705, 114.3732,-999.000,-999.000,20090512,       0118
33RR20090320,        I05,     192,          1,          9,          9,2,20090512,       0051,   -32.5705,   114.3729,       1849,   935.4,   4.0103,  34.4354,2,  34.4348,2,    172.0,2,   172.2,2,   51.57,2,   33.06,2,    0.00,2,    2.37,2,-999.000,9,-999.000,9,-999.0000,9,  -999.0,9,  -999.0,9,-999.0000,9,  -999.00,-999.000,9,-999.000,9,-999.000,9,   4.0101,2,-999.000,9, -999.00,9, -999.00,-999.000,9,-999.000, -999.00,9, -999.00,9, -32.5705, 114.3733,-999.000,-999.000,20090512,       0116
33RR20090320,        I05,     192,          1,          8,          8,2,20090512,       0051,   -32.5705,   114.3729,       1849,  1034.4,   3.8445,  34.4793,2,  34.4780,2,    161.5,2,   160.2,2,   61.10,2,   33.89,2,    0.00,2,    2.46,2,   0.462,2,   0.217,2,   0.0220,2,  2244.5,2,  2328.7,2,   7.6391,2,    20.00,-999.000,9,-999.000,9,-999.000,9,   3.8408,2,-999.000,9, -999.00,9, -999.00,-999.000,9,-999.000, -999.00,9, -999.00,9, -32.5706, 114.3734,-999.000,-999.000,20090512,       0113
33RR20090320,        I05,     192,          1,          7,          7,2,20090512,       0051,   -32.5705,   114.3729,       1849,  1134.7,   3.7333,  34.4983,2,  34.4978,2,    155.7,2,   155.3,2,   65.48,2,   34.27,2,    0.00,2,    2.50,2,-999.000,9,-999.000,9,-999.0000,9,  -999.0,9,  -999.0,9,-999.0000,9,  -999.00,-999.000,9,-999.000,9,-999.000,9,   3.7329,2,-999.000,9, -999.00,9, -999.00,-999.000,9,-999.000, -999.00,9, -999.00,9, -32.5705, 114.3733,-999.000,-999.000,20090512,       0110
33RR20090320,        I05,     192,          1,          6,          6,2,20090512,       0051,   -32.5705,   114.3729,       1849,  1238.7,   3.6648,  34.5096,2,  34.5096,2,    153.5,2,   153.6,2,   67.65,2,   34.48,2,    0.00,2,    2.51,2,-999.000,9,-999.000,9,-999.0000,9,  -999.0,9,  -999.0,9,-999.0000,9,  -999.00,-999.000,9,-999.000,9,-999.000,9,   3.6657,2,-999.000,9, -999.00,9, -999.00,-999.000,9,-999.000, -999.00,9, -999.00,9, -32.5704, 114.3730,-999.000,-999.000,20090512,       0107
33RR20090320,        I05,     192,          1,          5,          5,2,20090512,       0051,   -32.5705,   114.3729,       1849,  1338.0,   3.4102,  34.5442,2,  34.5440,2,    150.7,2,   151.3,2,   73.70,2,   34.64,2,    0.00,2,    2.53,2,   0.171,2,   0.082,2,   0.0000,2,  2260.8,2,  2342.3,2,   7.6266,2,    20.00,-999.000,9,-999.000,9,-999.000,9,   3.4104,2,-999.000,9, -999.00,9, -999.00,-999.000,9,-999.000, -999.00,9, -999.00,9, -32.5704, 114.3728,-999.000,-999.000,20090512,       0105
33RR20090320,        I05,     192,          1,          4,          4,2,20090512,       0051,   -32.5705,   114.3729,       1849,  1436.5,   3.1406,  34.5819,2,  34.5819,2,    150.9,2,   150.8,2,   79.02,2,   34.58,2,    0.00,2,    2.53,2,-999.000,9,-999.000,9,-999.0000,9,  -999.0,9,  -999.0,9,-999.0000,9,  -999.00,-999.000,9,-999.000,9,-999.000,9,   3.1384,2,-999.000,9, -999.00,9, -999.00,-999.000,9,-999.000, -999.00,9, -999.00,9, -32.5705, 114.3732,-999.000,-999.000,20090512,       0102
33RR20090320,        I05,     192,          1,          3,          3,2,20090512,       0051,   -32.5705,   114.3729,       1849,  1536.5,   2.9635,  34.6116,2,  34.6110,2,    151.5,2,   151.9,2,   82.87,2,   34.40,2,    0.00,2,    2.51,2,   0.048,2,   0.022,2,   0.0000,2,  2268.4,2,  2351.4,2,   7.6299,2,    20.00,-999.000,9,-999.000,9,-999.000,9,   2.9626,2,-999.000,9, -999.00,9, -999.00,-999.000,9,-999.000, -999.00,9, -999.00,9, -32.5706, 114.3735,-999.000,-999.000,20090512,       0059
33RR20090320,        I05,     192,          1,          2,          2,2,20090512,       0051,   -32.5705,   114.3729,       1849,  1649.3,   2.8363,  34.6360,2,  34.6361,2,    153.1,2,   153.5,2,   85.98,2,   34.18,2,    0.00,2,    2.49,2,-999.000,9,-999.000,9,-999.0000,9,  -999.0,9,  -999.0,9,-999.0000,9,  -999.00,-999.000,9,-999.000,9,-999.000,9,   2.8362,2,-999.000,9, -999.00,9, -999.00,-999.000,9,-999.000, -999.00,9, -999.00,9, -32.5706, 114.3734,-999.000,-999.000,20090512,       0055
33RR20090320,        I05,     192,          1,          1,          1,2,20090512,       0051,   -32.5705,   114.3729,       1849,  1850.0,   2.5520,  34.6834,2,  34.6835,2,    158.2,2,   158.1,2,   94.33,2,   33.66,2,    0.00,2,    2.45,2,   0.009,2,   0.003,2,   0.0000,2,  2275.3,2,  2364.7,2,   7.6453,2,    20.00,-999.000,9,-999.000,9,-999.000,9,   2.5508,2,-999.000,9, -999.00,9, -999.00,-999.000,9,-999.000, -999.00,9, -999.00,9, -32.5705, 114.3729,-999.000,-999.000,20090512,       0051