BOTTLE,20220814CCHSIOAMB
EXPOCODE,SECT_ID,STNNBR,CASTNO,SAMPNO,BTLNBR,BTLNBR_FLAG_W,DATE,TIME,LATITUDE,LONGITUDE,DEPTH,CTDPRS,CTDTMP,CTDSAL,CTDSAL_FLAG_W,SALNTY,SALNTY_FLAG_W,CTDOXY,CTDOXY_FLAG_W,OXYGEN,OXYGEN_FLAG_W,SILCAT,SILCAT_FLAG_W,NITRAT,NITRAT_FLAG_W,NITRIT,NITRIT_FLAG_W,PHSPHT,PHSPHT_FLAG_W,CFC-11,CFC-11_FLAG_W,CFC-12,CFC-12_FLAG_W,SF6,SF6_FLAG_W,TCARBN,TCARBN_FLAG_W,ALKALI,ALKALI_FLAG_W,PH_TOT,PH_TOT_FLAG_W,PH_TMP,TRITUM,TRITUM_FLAG_W,HELIUM,HELIUM_FLAG_W,DELHE3,DELHE3_FLAG_W,REFTMP,REFTMP_FLAG_W,DELC13,DELC13_FLAG_W,DELC14,DELC14_FLAG_W,C14ERR,NEON,NEON_FLAG_W,NEONER,DOC,DOC_FLAG_W,TDN,TDN_FLAG_W,BTL_LAT,BTL_LON,HELIER,DELHER,BTL_DATE,BTL_TIME
,,,,,,,,,,,METERS,DBAR,ITS-90,PSS-78,,PSS-78,,UMOL/KG,,UMOL/KG,,UMOL/KG,,UMOL/KG,,UMOL/KG,,UMOL/KG,,PMOL/KG,,PMOL/KG,,FMOL/KG,,UMOL/KG,,UMOL/KG,,,,DEG C,TU,,NMOL/KG,,PERCNT,,DEG C,,/MILLE,,/MILLE,,/MILLE,NMOL/KG,,NMOL/KG,UMOL/KG,,UMOL/KG,,,,NMOL/KG,PERCNT,,
33RR20090320,        I05,     107,          1,         36,         36,2,20090420,       2349,   -32.0000,    76.0031,       3408,     6.6,  21.1468,  35.8857,2,  35.8857,2,    223.8,2,   223.0,2,    1.72,2,    0.06,2,    0.00,2,    0.13,2,   2.043,2,   1.236,2,   1.2380,2,  2063.1,6,  2351.4,2,   8.0997,2,    20.00,-999.000,9,-999.000,9,-999.000,9,  21.1442,2,-999.000,9, -999.00,9, -999.00,-999.000,9,-999.000,   67.59,2,    4.33,2, -31.9983,  76.0020,-999.000,-999.000,20090421,       0118
33RR20090320,        I05,     107,          1,         35,         35,2,20090420,       2349,   -32.0000,    76.0031,       3408,    31.2,  21.1549,  35.8856,2,  35.8855,2,    224.1,2,   223.0,2,    1.71,2,    0.06,2,    0.00,2,    0.12,2,   2.042,2,   1.240,2,   1.1590,2,  2063.1,2,  2352.2,2,   8.0997,2,    20.00,-999.000,9,-999.000,9,-999.000,9,  21.1556,2,-999.000,9, -999.00,9, -999.00,-999.000,9,-999.000,   67.79,2,    4.60,2, -31.9983,  76.0020,-999.000,-999.000,20090421,       0116
33RR20090320,        I05,     107,          1,         34,         34,2,20090420,       2349,   -32.0000,    76.0031,       3408,    55.5,  21.1459,  35.8839,2,  35.8760,2,    224.2,2,   224.2,2,    1.70,2,    0.06,2,    0.00,2,    0.12,2,   2.063,2,   1.243,2,   1.1300,2,  2062.4,2,  2352.3,2,   8.0985,2,    20.00,-999.000,9,-999.000,9,-999.000,9,  21.1549,2,-999.000,9, -999.00,9, -999.00,-999.000,9,-999.000,   66.82,2,    4.76,2, -31.9982,  76.0021,-999.000,-999.000,20090421,       0115
33RR20090320,        I05,     107,          1,         33,         33,2,20090420,       2349,   -32.0000,    76.0031,       3408,    80.5,  17.8106,  35.6425,4,  35.6258,2,    251.7,2,   253.9,2,    1.50,2,    0.06,2,    0.00,2,    0.16,2,   2.572,2,   1.513,2,   1.2260,2,  2069.3,2,  2339.5,2,   8.0697,2,    20.00,-999.000,9,-999.000,9,-999.000,9,  17.8400,2,-999.000,9, -999.00,9, -999.00,-999.000,9,-999.000,   64.22,2,    3.52,2, -31.9982,  76.0021,-999.000,-999.000,20090421,       0114
33RR20090320,        I05,     107,          1,         32,         32,2,20090420,       2349,   -32.0000,    76.0031,       3408,   106.5,  16.0111,  35.5226,2,  35.5244,2,    250.5,2,   250.7,2,    1.49,2,    0.06,2,    0.00,2,    0.20,2,   2.669,2,   1.573,2,   1.1700,2,  2078.0,2,  2336.0,2,   8.0453,2,    20.00,-999.000,9,-999.000,9,-999.000,9,  16.0066,2,-999.000,9, -999.00,9, -999.00,-999.000,9,-999.000,   60.19,2,    4.27,2, -31.9982,  76.0021,-999.000,-999.000,20090421,       0112
33RR20090320,        I05,     107,          1,         31,         31,2,20090420,       2349,   -32.0000,    76.0031,       3408,   132.7,  14.9842,  35.4178,2,  35.4252,2,    242.8,2,   241.4,2,    1.67,2,    1.03,2,    0.14,2,    0.31,2,   2.747,2,   1.611,2,   1.4420,2,  2089.7,2,  2329.0,2,   8.0126,2,    20.00,-999.000,9,-999.000,9,-999.000,9,  14.9558,2,-999.000,9, -999.00,9, -999.00,-999.000,9,-999.000,   55.72,2,    5.18,2, -31.9982,  76.0021,-999.000,-999.000,20090421,       0111
33RR20090320,        I05,     107,          1,         30,         30,2,20090420,       2349,   -32.0000,    76.0031,       3408,   157.3,  14.0792,  35.3039,2,  35.3056,2,    235.2,2,   234.0,2,    2.01,2,    4.42,2,    0.04,2,    0.47,2,   2.884,2,   1.663,2,   1.3950,2,  2097.7,2,  2321.0,2,   7.9806,2,    20.00,-999.000,9,-999.000,9,-999.000,9,  14.0688,2,-999.000,9, -999.00,9, -999.00,-999.000,9,-999.000,   53.45,2,    8.28,2, -31.9982,  76.0021,-999.000,-999.000,20090421,       0110
33RR20090320,        I05,     107,          1,         29,         29,2,20090420,       2349,   -32.0000,    76.0031,       3408,   207.3,  13.2743,  35.2215,2,  35.2204,2,    232.7,2,   231.0,2,    2.54,2,    7.05,2,    0.01,2,    0.61,2,   2.997,2,   1.728,2,   1.3270,2,  2107.4,2,  2315.4,2,   7.9510,2,    20.00,-999.000,9,-999.000,9,-999.000,9,  13.2734,2,-999.000,9, -999.00,9, -999.00,-999.000,9,-999.000,   51.59,2,   10.01,2, -31.9983,  76.0021,-999.000,-999.000,20090421,       0108
33RR20090320,        I05,     107,          1,         28,         28,2,20090420,       2349,   -32.0000,    76.0031,       3408,   257.6,  12.6380,  35.1447,2,  35.1439,2,    232.2,2,   232.9,2,    3.25,2,    8.84,2,    0.00,2,    0.70,2,   3.122,2,   1.770,2,   1.2750,2,  2113.5,2,  2310.7,2,   7.9331,2,    20.00,-999.000,9,-999.000,9,-999.000,9,  12.6470,2,-999.000,9, -999.00,9, -999.00,-999.000,9,-999.000,   50.41,2,   10.98,2, -31.9982,  76.0021,-999.000,-999.000,20090421,       0107
33RR20090320,        I05,     107,          1,         27,         27,2,20090420,       2349,   -32.0000,    76.0031,       3408,   307.3,  12.2734,  35.1051,2,  35.1069,2,    232.9,2,   233.6,2,    3.59,2,    9.63,2,    0.00,2,    0.75,2,   3.168,6,   1.792,6,   1.3710,6,  2115.1,2,  2307.7,2,   7.9258,2,    20.00,-999.000,9,-999.000,9,-999.000,9,  12.2786,2,-999.000,9, -999.00,9, -999.00,-999.000,9,-999.000,   49.59,2,   11.50,2, -31.9982,  76.0021,-999.000,-999.000,20090421,       0105
33RR20090320,        I05,     107,          1,         26,         26,2,20090420,       2349,   -32.0000,    76.0031,       3408,   355.2,  11.9101,  35.0540,2,  35.0548,2,    236.1,2,   237.5,2,    3.94,2,   10.48,2,    0.00,2,    0.80,2,   3.205,2,   1.808,2,   1.3220,2,  2115.3,2,  2306.3,2,   7.9199,2,    20.00,-999.000,9,-999.000,9,-999.000,9,  11.9153,2,-999.000,9, -999.00,9, -999.00,-999.000,9,-999.000,   48.85,2,   11.99,2, -31.9982,  76.0021,-999.000,-999.000,20090421,       0103
33RR20090320,        I05,     107,          1,         25,         25,2,20090420,       2349,   -32.0000,    76.0031,       3408,   405.0,  11.6767,  35.0249,2,  35.0253,2,    237.0,2,   237.2,2,    3.93,2,   10.85,2,    0.00,2,    0.83,2,   3.236,2,   1.816,2,   1.3890,2,  2116.9,2,  2304.5,2,   7.9149,2,    20.00,-999.000,9,-999.000,9,-999.000,9,  11.6723,2,-999.000,9, -999.00,9, -999.00,-999.000,9,-999.000,   47.97,2,   12.94,2, -31.9982,  76.0020,-999.000,-999.000,20090421,       0102
33RR20090320,        I05,     107,          1,         24,         24,2,20090420,       2349,   -32.0000,    76.0031,       3408,   455.9,  11.4016,  34.9880,2,  34.9846,2,    237.4,2,   237.3,2,    3.92,2,   11.48,2,    0.00,2,    0.87,2,   3.318,2,   1.852,2,   1.1840,2,  2118.0,2,  2303.5,2,   7.9077,2,    20.00,-999.000,9,-999.000,9,-999.000,9,  11.3960,2,-999.000,9, -999.00,9, -999.00,-999.000,9,-999.000,   47.15,2,   13.49,2, -31.9982,  76.0019,-999.000,-999.000,20090421,       0100
33RR20090320,        I05,     107,          1,         23,         23,2,20090420,       2349,   -32.0000,    76.0031,       3408,   506.4,  11.0744,  34.9442,2,  34.9442,2,    236.5,2,   236.6,2,    4.09,2,   12.22,2,    0.00,2,    0.92,2,   3.371,2,   1.852,2,   1.1540,2,  2119.4,2,  2300.8,2,   7.9005,2,    20.00,-999.000,9,-999.000,9,-999.000,9,  11.0653,2,-999.000,9, -999.00,9, -999.00,-999.000,9,-999.000,   46.31,2,   14.28,2, -31.9982,  76.0019,-999.000,-999.000,20090421,       0059
33RR20090320,        I05,     107,          1,         22,         22,2,20090420,       2349,   -32.0000,    76.0031,       3408,   606.4,  10.4585,  34.8539,2,  34.8546,2,    236.8,2,   236.3,2,    4.62,2,   13.70,2,    0.00,2,    1.01,2,   3.465,2,   1.869,2,   1.0670,2,  2122.9,2,  2297.8,2,   7.8852,2,    20.00,-999.000,9,-999.000,9,-999.000,9,  10.4625,2,-999.000,9, -999.00,9, -999.00,-999.000,9,-999.000,   45.40,2,   15.24,2, -31.9982,  76.0019,-999.000,-999.000,20090421,       0056
33RR20090320,        I05,     107,          1,         21,         21,2,20090420,       2349,   -32.0000,    76.0031,       3408,   705.7,   9.6298,  34.7343,2,  34.7345,2,    235.8,2,   232.9,2,    5.51,2,   16.08,2,    0.00,2,    1.16,2,   3.470,2,   1.825,2,   1.0470,2,  2127.7,2,  2292.0,2,   7.8606,2,    20.00,-999.000,9,-999.000,9,-999.000,9,   9.6156,2,-999.000,9, -999.00,9, -999.00,-999.000,9,-999.000,   44.25,2,   17.82,2, -31.9982,  76.0019,-999.000,-999.000,20090421,       0054
33RR20090320,        I05,     107,          1,         20,         20,2,20090420,       2349,   -32.0000,    76.0031,       3408,   805.3,   8.5979,  34.6144,2,  34.6128,2,    218.1,2,   216.2,2,    9.44,2,   20.32,2,    0.00,2,    1.43,2,   3.014,2,   1.532,2,   0.6470,2,  2142.9,2,  2290.0,2,   7.8141,2,    20.00,-999.000,9,-999.000,9,-999.000,9,   8.5970,2,-999.000,9, -999.00,9, -999.00,-999.000,9,-999.000,   43.53,2,   21.72,2, -31.9982,  76.0019,-999.000,-999.000,20090421,       0051
33RR20090320,        I05,     107,          1,         19,         19,2,20090420,       2349,   -32.0000,    76.0031,       3408,   905.5,   7.3255,  34.5040,2,  34.5084,2,    205.6,2,   206.4,2,   15.19,2,   24.05,2,    0.00,2,    1.69,2,   2.505,2,   1.245,2,   0.4890,2,  2161.1,2,  2288.9,2,   7.7694,2,    20.00,-999.000,9,-999.000,9,-999.000,9,   7.3462,2,-999.000,9, -999.00,9, -999.00,-999.000,9,-999.000,   42.67,2,   25.54,2, -31.9982,  76.0019,-999.000,-999.000,20090421,       0048
33RR20090320,        I05,     107,          1,         18,         18,2,20090420,       2349,   -32.0000,    76.0031,       3408,  1006.2,   5.9088,  34.4074,2,  34.4094,2,    203.2,2,   203.6,2,   22.22,2,   27.67,2,    0.00,2,    1.94,2,   2.180,2,   1.076,2,   0.4000,2,  2177.9,2,  2290.4,2,   7.7292,2,    20.00,-999.000,9,-999.000,9,-999.000,9,   5.9292,2,-999.000,9, -999.00,9, -999.00,-999.000,9,-999.000,   42.13,2,   29.02,2, -31.9981,  76.0018,-999.000,-999.000,20090421,       0046
33RR20090320,        I05,     107,          1,         17,         17,2,20090420,       2349,   -32.0000,    76.0031,       3408,  1105.6,   4.7945,  34.3654,2,  34.3637,2,    200.0,2,   202.5,2,   30.72,2,   30.07,2,    0.00,2,    2.12,2,   1.874,2,   0.909,2,   0.3650,2,  2193.0,2,  2295.2,2,   7.7010,2,    20.00,-999.000,9,-999.000,9,-999.000,9,   4.7904,2,-999.000,9, -999.00,9, -999.00,-999.000,9,-999.000,   41.67,2,   32.01,2, -31.9982,  76.0017,-999.000,-999.000,20090421,       0043
33RR20090320,        I05,     107,          1,         16,         16,2,20090420,       2349,   -32.0000,    76.0031,       3408,  1206.7,   4.0787,  34.3895,2,  34.3885,2,    190.3,2,   189.4,2,   42.71,2,   32.16,2,    0.00,2,    2.28,2,   1.196,2,   0.573,2,   0.1830,2,  2213.1,2,  2306.1,2,   7.6735,2,    20.00,-999.000,9,-999.000,9,-999.000,9,   4.0816,2,-999.000,9, -999.00,9, -999.00,-999.000,9,-999.000,   40.85,2,   33.74,2, -31.9981,  76.0017,-999.000,-999.000,20090421,       0041
33RR20090320,        I05,     107,          1,         15,         15,2,20090420,       2349,   -32.0000,    76.0031,       3408,  1309.3,   3.6279,  34.4436,2,  34.4423,2,    176.6,2,   175.8,2,   54.74,2,   33.50,2,    0.00,2,    2.39,2,   0.692,2,   0.324,2,   0.0700,2,  2231.6,2,  2318.6,2,   7.6517,2,    20.00,-999.000,9,-999.000,9,-999.000,9,   3.6337,2,-999.000,9, -999.00,9, -999.00,-999.000,9,-999.000,   40.12,2,   34.79,2, -31.9981,  76.0017,-999.000,-999.000,20090421,       0038
33RR20090320,        I05,     107,          1,         14,         14,2,20090420,       2349,   -32.0000,    76.0031,       3408,  1406.6,   3.3604,  34.4923,2,  34.4920,2,    167.1,2,   167.3,2,   63.34,2,   34.20,2,    0.00,2,    2.44,2,   0.414,2,   0.194,2,   0.0400,2,  2244.1,2,  -999.0,5,   7.6405,2,    20.00,-999.000,9,-999.000,9,-999.000,9,   3.3608,2,-999.000,9, -999.00,9, -999.00,-999.000,9,-999.000,   40.20,2,   35.88,2, -31.9981,  76.0017,-999.000,-999.000,20090421,       0036
33RR20090320,        I05,     107,          1,         13,         13,2,20090420,       2349,   -32.0000,    76.0031,       3408,  1507.3,   3.1019,  34.5335,2,  34.5329,2,    165.8,2,   165.6,2,   68.66,2,   34.30,2,    0.00,2,    2.45,2,   0.307,2,   0.146,2,   0.0400,2,  2250.7,2,  2335.4,2,   7.6372,2,    20.00,-999.000,9,-999.000,9,-999.000,9,   3.1018,2,-999.000,9, -999.00,9, -999.00,-999.000,9,-999.000,   40.28,2,   35.49,2, -31.9982,  76.0017,-999.000,-999.000,20090421,       0033
33RR20090320,        I05,     107,          1,         12,         12,2,20090420,       2349,   -32.0000,    76.0031,       3408,  1609.2,   2.8959,  34.5779,2,  34.5779,2,    165.6,2,   165.9,2,   72.88,2,   34.07,2,    0.00,2,    2.42,2,   0.217,2,   0.101,2,   0.0220,2,  2255.5,2,  2339.4,2,   7.6383,2,    20.00,-999.000,9,-999.000,9,-999.000,9,   2.8970,2,-999.000,9, -999.00,9, -999.00,-999.000,9,-999.000,   40.34,2,   35.77,2, -31.9982,  76.0018,-999.000,-999.000,20090421,       0031
33RR20090320,        I05,     107,          1,         11,         11,2,20090420,       2349,   -32.0000,    76.0031,       3408,  1707.8,   2.7519,  34.6198,2,  34.6196,2,    166.9,2,   167.4,2,   76.92,2,   33.63,2,    0.00,2,    2.39,2,   0.137,2,   0.065,2,   0.0000,2,  2257.1,2,  2342.0,2,   7.6436,2,    20.00,-999.000,9,-999.000,9,-999.000,9,   2.7513,2,-999.000,9, -999.00,9, -999.00,-999.000,9,-999.000,   39.66,2,   35.05,2, -31.9983,  76.0020,-999.000,-999.000,20090421,       0028
33RR20090320,        I05,     107,          1,         10,         10,2,20090420,       2349,   -32.0000,    76.0031,       3408,  1810.8,   2.6339,  34.6499,2,  34.6492,2,    169.3,2,   170.2,2,   78.94,2,   33.14,2,    0.00,2,    2.35,2,   0.101,2,   0.048,2,   0.0230,2,  2257.1,2,  2343.9,2,   7.6499,2,    20.00,-999.000,9,-999.000,9,-999.000,9,   2.6343,2,-999.000,9, -999.00,9, -999.00,-999.000,9,-999.000,   40.29,2,   34.75,2, -31.9983,  76.0020,-999.000,-999.000,20090421,       0025
33RR20090320,        I05,     107,          1,          9,          9,2,20090420,       2349,   -32.0000,    76.0031,       3408,  2009.8,   2.3613,  34.6999,2,  34.6996,2,    179.2,2,   178.8,2,   83.53,2,   32.06,2,    0.00,2,    2.26,2,   0.062,2,   0.028,2,   0.0360,2,  2254.7,2,  2348.0,2,   7.6671,2,    20.00,-999.000,9,-999.000,9,-999.000,9,   2.3608,2,-999.000,9, -999.00,9, -999.00,-999.000,9,-999.000,   40.22,2,   33.38,2, -31.9985,  76.0022,-999.000,-999.000,20090421,       0021
33RR20090320,        I05,     107,          1,          8,          8,2,20090420,       2349,   -32.0000,    76.0031,       3408,  2212.2,   2.0748,  34.7230,2,  34.7228,2,    182.5,2,   182.4,2,   95.00,2,   32.00,2,    0.00,2,    2.26,2,   0.031,2,   0.015,2,   0.0170,2,  2262.9,2,  2360.2,2,   7.6764,2,    20.00,-999.000,9,-999.000,9,-999.000,9,   2.0747,2,-999.000,9, -999.00,9, -999.00,-999.000,9,-999.000,   40.34,2,   33.91,2, -31.9987,  76.0023,-999.000,-999.000,20090421,       0017
33RR20090320,        I05,     107,          1,          7,          7,2,20090420,       2349,   -32.0000,    76.0031,       3408,  2414.2,   1.8797,  34.7262,2,  34.7261,2,    180.6,2,   180.5,2,  106.32,2,   32.53,2,    0.00,2,    2.31,2,   0.016,2,   0.009,2,   0.0000,2,  2271.5,2,  2369.6,2,   7.6776,2,    20.00,-999.000,9,-999.000,9,-999.000,9,   1.8796,2,-999.000,9, -999.00,9, -999.00,-999.000,9,-999.000,   40.33,2,   34.29,2, -31.9989,  76.0024,-999.000,-999.000,20090421,       0013
33RR20090320,        I05,     107,          1,          6,          6,2,20090420,       2349,   -32.0000,    76.0031,       3408,  2614.0,   1.7655,  34.7253,2,  34.7248,2,    182.6,2,   182.1,2,  110.58,2,   32.63,2,    0.00,2,    2.32,2,   0.012,2,   0.005,2,   0.0250,2,  2273.1,2,  2374.6,2,   7.6788,2,    20.00,-999.000,9,-999.000,9,-999.000,9,   1.7651,2,-999.000,9, -999.00,9, -999.00,-999.000,9,-999.000,   40.41,2,   33.80,2, -31.9991,  76.0026,-999.000,-999.000,20090421,       0008
33RR20090320,        I05,     107,          1,          5,          5,2,20090420,       2349,   -32.0000,    76.0031,       3408,  2816.9,   1.6911,  34.7238,2,  34.7236,2,    182.1,2,   182.3,2,  114.85,2,   32.95,2,    0.00,2,    2.33,2,   0.009,6,   0.005,6,   0.0270,6,  2277.8,2,  2377.7,2,   7.6790,2,    20.00,-999.000,9,-999.000,9,-999.000,9,   1.6905,2,-999.000,9, -999.00,9, -999.00,-999.000,9,-999.000,   40.33,2,   34.30,2, -31.9993,  76.0027,-999.000,-999.000,20090421,       0004
33RR20090320,        I05,     107,          1,          4,          4,2,20090420,       2349,   -32.0000,    76.0031,       3408,  3019.6,   1.6676,  34.7227,2,  34.7230,2,    181.7,2,   181.5,2,  116.89,2,   33.00,2,    0.00,2,    2.35,2,   0.014,2,   0.010,2,   0.0000,2,  2279.0,6,  2380.5,2,   7.6789,2,    20.00,-999.000,9,-999.000,9,-999.000,9,   1.6674,2,-999.000,9, -999.00,9, -999.00,-999.000,9,-999.000,   40.25,2,   34.33,2, -31.9995,  76.0028,-999.000,-999.000,20090420,       0000
33RR20090320,        I05,     107,          1,          3,          3,2,20090420,       2349,   -32.0000,    76.0031,       3408,  3223.6,   1.6715,  34.7226,2,  34.7222,2,    182.2,2,   181.7,2,  117.44,2,   33.04,2,    0.00,2,    2.35,2,   0.014,2,   0.007,2,   0.0000,2,  2278.6,2,  2380.9,2,   7.6785,2,    20.00,-999.000,9,-999.000,9,-999.000,9,   1.6714,2,-999.000,9, -999.00,9, -999.00,-999.000,9,-999.000,   39.86,2,   34.18,2, -31.9998,  76.0029,-999.000,-999.000,20090420,       2355
33RR20090320,        I05,     107,          1,          2,          2,2,20090420,       2349,   -32.0000,    76.0031,       3408,  3332.3,   1.6746,  34.7223,2,  34.7221,2,    182.1,2,   182.5,2,  117.79,2,   33.14,2,    0.00,2,    2.35,2,   0.009,2,   0.005,2,   0.0390,2,  2279.7,2,  2381.3,2,   7.6786,2,    20.00,-999.000,9,-999.000,9,-999.000,9,   1.6738,2,-999.000,9, -999.00,9, -999.00,-999.000,9,-999.000,   40.42,2,   34.97,2, -31.9999,  76.0030,-999.000,-999.000,20090420,       2353
33RR20090320,        I05,     107,          1,          1,          1,2,20090420,       2349,   -32.0000,    76.0031,       3408,  3443.4,   1.6685,  34.7221,2,  34.7233,2,    181.7,2,   181.6,2,  117.97,2,   33.19,2,    0.00,2,    2.35,2,   0.007,6,   0.006,6,   0.0170,6,  2281.5,6,  2380.1,2,   7.6793,2,    20.00,-999.000,9,-999.000,9,-999.000,9,   1.6673,2,-999.000,9, -999.00,9, -999.00,-999.000,9,-999.000,   40.37,2,   34.79,2, -32.0001,  76.0031,-999.000,-999.000,20090420,       2349