BOTTLE,20220814CCHSIOAMB
EXPOCODE,SECT_ID,STNNBR,CASTNO,SAMPNO,BTLNBR,BTLNBR_FLAG_W,DATE,TIME,LATITUDE,LONGITUDE,DEPTH,CTDPRS,CTDTMP,CTDSAL,CTDSAL_FLAG_W,SALNTY,SALNTY_FLAG_W,CTDOXY,CTDOXY_FLAG_W,OXYGEN,OXYGEN_FLAG_W,SILCAT,SILCAT_FLAG_W,NITRAT,NITRAT_FLAG_W,NITRIT,NITRIT_FLAG_W,PHSPHT,PHSPHT_FLAG_W,CFC-11,CFC-11_FLAG_W,CFC-12,CFC-12_FLAG_W,SF6,SF6_FLAG_W,TCARBN,TCARBN_FLAG_W,ALKALI,ALKALI_FLAG_W,PH_TOT,PH_TOT_FLAG_W,PH_TMP,TRITUM,TRITUM_FLAG_W,HELIUM,HELIUM_FLAG_W,DELHE3,DELHE3_FLAG_W,REFTMP,REFTMP_FLAG_W,DELC13,DELC13_FLAG_W,DELC14,DELC14_FLAG_W,C14ERR,NEON,NEON_FLAG_W,NEONER,DOC,DOC_FLAG_W,TDN,TDN_FLAG_W,BTL_LAT,BTL_LON,HELIER,DELHER,BTL_DATE,BTL_TIME
,,,,,,,,,,,METERS,DBAR,ITS-90,PSS-78,,PSS-78,,UMOL/KG,,UMOL/KG,,UMOL/KG,,UMOL/KG,,UMOL/KG,,UMOL/KG,,PMOL/KG,,PMOL/KG,,FMOL/KG,,UMOL/KG,,UMOL/KG,,,,DEG C,TU,,NMOL/KG,,PERCNT,,DEG C,,/MILLE,,/MILLE,,/MILLE,NMOL/KG,,NMOL/KG,UMOL/KG,,UMOL/KG,,,,NMOL/KG,PERCNT,,
33RR20090320,        I05,     109,          1,         35,         35,2,20090421,       1031,   -31.5341,    76.9342,       2625,     3.9,  20.5233,  35.6552,2,  35.6571,2,    226.0,2,   226.4,2,    1.54,2,    0.06,2,    0.00,2,    0.15,2,   2.128,6,   1.279,6,   1.2250,6,  2064.5,6,  2343.4,2,   8.0812,2,    20.00,   0.463,2,   1.793,2,  -1.657,2,  20.5395,2,   1.356,2,   54.35,2,     2.9,   7.290,2,   0.012,   67.34,2,    4.25,2, -31.5341,  76.9341,   0.001,   0.193,20090421,       1155
33RR20090320,        I05,     109,          1,         34,         34,2,20090421,       1031,   -31.5341,    76.9342,       2625,    19.8,  20.4824,  35.6532,2,  35.6540,2,    226.9,2,   226.8,2,    1.53,2,    0.00,2,    0.00,2,    0.15,2,   2.123,2,   1.282,2,   1.1700,2,  2064.6,2,  2342.9,2,   8.0814,2,    20.00,   0.466,2,   1.808,2,  -1.250,2,  20.4810,2,-999.000,9, -999.00,9, -999.00,   7.388,2,   0.013,   65.95,2,    4.68,2, -31.5341,  76.9342,   0.001,   0.193,20090421,       1154
33RR20090320,        I05,     109,          1,         33,         33,2,20090421,       1031,   -31.5341,    76.9342,       2625,    39.6,  20.4571,  35.6518,2,  35.6526,2,    226.7,2,   226.9,2,    1.52,2,    0.00,2,    0.00,2,    0.15,2,   2.123,2,   1.284,2,   1.2360,2,  2064.2,2,  2342.3,2,   8.0813,2,    20.00,   0.445,2,   1.787,2,  -1.370,2,  20.4544,2,-999.000,9, -999.00,9, -999.00,   7.259,2,   0.013,   65.93,2,    3.91,2, -31.5341,  76.9342,   0.001,   0.193,20090421,       1152
33RR20090320,        I05,     109,          1,         32,         32,2,20090421,       1031,   -31.5341,    76.9342,       2625,    64.5,  20.2254,  35.6406,2,  35.6423,2,    228.3,2,   228.8,2,    1.51,2,    0.00,2,    0.00,2,    0.15,2,   2.146,2,   1.293,2,   1.2820,2,  2064.7,2,  2342.5,2,   8.0805,2,    20.00,   0.435,2,   1.807,2,  -1.926,2,  20.2024,2,   1.389,2,    57.6,2,     3.2,   7.362,2,   0.014,   63.87,2,    4.26,2, -31.5341,  76.9343,   0.001,   0.193,20090421,       1151
33RR20090320,        I05,     109,          1,         31,         31,2,20090421,       1031,   -31.5341,    76.9342,       2625,    88.8,  16.1551,  35.5195,2,  35.5174,2,    255.4,2,   253.0,2,    1.50,2,    0.00,2,    0.00,2,    0.20,2,   2.663,2,   1.564,2,   1.3500,2,  2077.0,2,  2335.5,2,   8.0501,2,    20.00,   0.411,2,-999.000,9,-999.000,9,  16.1472,2,   1.428,2,   54.52,2,       3,-999.000,9,-999.000,   61.68,2,    4.23,2, -31.5341,  76.9343,-999.000,-999.000,20090421,       1150
33RR20090320,        I05,     109,          1,         30,         30,2,20090421,       1031,   -31.5341,    76.9342,       2625,   113.8,  15.1034,  35.4287,2,  35.4245,2,    245.7,2,   242.3,2,    1.67,2,    0.75,2,    0.09,2,    0.30,2,   2.749,2,   1.606,2,   1.4270,2,  2090.8,2,  2332.1,2,   8.0163,2,    20.00,   0.405,2,   1.828,2,  -1.506,2,  15.0873,2,   1.269,2,   54.52,2,     3.2,   7.670,2,   0.020,   57.98,2,    5.67,2, -31.5341,  76.9343,   0.002,   0.195,20090421,       1148
33RR20090320,        I05,     109,          1,         29,         29,2,20090421,       1031,   -31.5341,    76.9342,       2625,   139.3,  14.4138,  35.3451,2,  35.3421,2,    236.8,2,   236.2,2,    2.02,2,    3.23,2,    0.12,2,    0.42,2,   2.820,2,   1.644,2,   1.4520,2,  2098.7,2,  2325.4,2,   7.9915,2,    20.00,   0.378,2,-999.000,9,-999.000,9,  14.4285,2,   1.173,2,   50.48,2,     2.8,-999.000,9,-999.000,   54.65,2,    7.20,2, -31.5341,  76.9343,-999.000,-999.000,20090421,       1146
33RR20090320,        I05,     109,          1,         28,         28,2,20090421,       1031,   -31.5341,    76.9342,       2625,   165.5,  13.6841,  35.2483,2,  35.2484,2,    234.0,2,   234.6,2,    2.37,2,    5.52,2,    0.01,2,    0.53,2,   2.925,2,   1.697,2,   1.3490,2,  2103.9,2,  2318.6,2,   7.9699,2,    20.00,-999.000,9,   1.874,2,  -1.704,2,  13.6689,2,   1.151,2,   53.69,2,       3,   7.785,2,   0.014,   53.62,2,    9.00,2, -31.5341,  76.9343,   0.001,   0.193,20090421,       1145
33RR20090320,        I05,     109,          1,         27,         27,2,20090421,       1031,   -31.5341,    76.9342,       2625,   189.8,  13.2866,  35.2119,2,  35.2108,2,    232.4,2,   233.3,2,    2.90,2,    6.99,2,    0.01,2,    0.61,2,   2.991,2,   1.724,2,   1.4630,2,  2109.1,2,  2315.4,2,   7.9544,2,    20.00,-999.000,9,   1.846,2,  -1.799,2,  13.2658,2,   1.067,2,   50.11,2,       3,   7.754,2,   0.009,   52.35,2,    9.98,2, -31.5341,  76.9343,   0.001,   0.199,20090421,       1144
33RR20090320,        I05,     109,          1,         26,         26,2,20090421,       1031,   -31.5341,    76.9342,       2625,   214.3,  13.0830,  35.2056,2,  35.2057,2,    231.4,2,   232.2,2,    3.43,2,    7.98,2,    0.00,2,    0.65,2,   3.002,2,   1.734,2,   1.3270,2,  2111.5,2,  2314.1,2,   7.9458,2,    20.00,   0.394,2,-999.000,9,-999.000,9,  13.0818,2,-999.000,9, -999.00,9, -999.00,-999.000,9,-999.000,   51.47,2,   10.43,2, -31.5341,  76.9343,-999.000,-999.000,20090421,       1142
33RR20090320,        I05,     109,          1,         25,         25,2,20090421,       1031,   -31.5341,    76.9342,       2625,   239.8,  12.8214,  35.1714,2,  35.1716,2,    232.1,2,   233.6,2,    3.42,2,    8.39,2,    0.00,2,    0.68,2,   3.033,2,   1.755,2,   1.3170,2,  2111.7,2,  2312.1,2,   7.9405,2,    20.00,   0.365,2,   1.833,2,  -1.174,2,  12.8320,2,   1.041,2,    54.6,2,       4,-999.000,5,-999.000,   50.62,2,   10.46,2, -31.5341,  76.9342,   0.001,   0.198,20090421,       1141
33RR20090320,        I05,     109,          1,         24,         24,2,20090421,       1031,   -31.5341,    76.9342,       2625,   284.3,  12.3962,  35.1079,2,  35.1058,2,    234.1,2,   234.8,2,    3.58,2,    9.50,2,    0.00,2,    0.74,2,   3.123,2,   1.789,2,   1.3500,2,  2114.5,2,  2310.5,2,   7.9283,2,    20.00,-999.000,9,-999.000,9,-999.000,9,  12.3830,2,   1.048,2,   49.87,2,     3.4,-999.000,9,-999.000,   49.84,2,   10.91,2, -31.5341,  76.9342,-999.000,-999.000,20090421,       1139
33RR20090320,        I05,     109,          1,         23,         23,2,20090421,       1031,   -31.5341,    76.9342,       2625,   334.4,  12.1311,  35.0938,2,  35.0948,2,    240.5,2,   240.4,2,    4.12,2,    9.86,2,    0.00,2,    0.76,2,   3.134,2,   1.783,2,   1.3970,2,  2111.2,2,  2308.5,2,   7.9316,2,    20.00,   0.364,2,   1.863,2,  -1.509,2,  12.1256,2,   1.032,2,   46.74,2,     2.8,   7.835,2,   0.011,   48.97,2,   11.38,2, -31.5341,  76.9343,   0.001,   0.198,20090421,       1137
33RR20090320,        I05,     109,          1,         22,         22,2,20090421,       1031,   -31.5341,    76.9342,       2625,   383.9,  11.8591,  35.0508,2,  35.0442,2,    240.8,2,   240.9,2,    4.29,2,   10.59,2,    0.00,2,    0.81,2,   3.182,2,   1.800,2,   1.3550,2,  2112.6,2,  2308.3,2,   7.9239,2,    20.00,-999.000,9,-999.000,9,-999.000,9,  11.8560,2,   0.968,2,   50.99,2,     3.9,-999.000,9,-999.000,   48.07,2,   12.42,2, -31.5341,  76.9342,-999.000,-999.000,20090421,       1135
33RR20090320,        I05,     109,          1,         21,         21,2,20090421,       1031,   -31.5341,    76.9342,       2625,   433.6,  11.5548,  35.0035,2,  35.0023,2,    236.7,2,   236.3,2,    4.45,2,   11.53,2,    0.00,2,    0.87,2,   3.237,2,   1.811,2,   1.2830,2,  2117.0,2,  2303.3,2,   7.9111,2,    20.00,   0.332,2,   1.854,2,  -0.639,2,  11.5564,2,   1.022,2,    45.8,2,       3,   7.505,2,   0.013,   47.18,2,   13.12,2, -31.5341,  76.9342,   0.001,   0.193,20090421,       1133
33RR20090320,        I05,     109,          1,         20,         20,2,20090421,       1031,   -31.5341,    76.9342,       2625,   483.7,  11.2096,  34.9522,2,  34.9517,2,    236.3,2,   236.7,2,    4.44,2,   12.25,2,    0.00,2,    0.91,2,   3.289,2,   1.804,2,   1.1840,2,  2118.1,2,  2302.7,2,   7.9025,2,    20.00,-999.000,9,-999.000,9,-999.000,9,  11.2090,2,   1.029,2,   44.54,2,       3,-999.000,9,-999.000,   46.43,2,   13.38,2, -31.5341,  76.9342,-999.000,-999.000,20090421,       1131
33RR20090320,        I05,     109,          1,         19,         19,2,20090421,       1031,   -31.5341,    76.9342,       2625,   565.1,  10.7513,  34.8894,2,  34.8886,2,    234.7,2,   235.3,2,    4.79,2,   13.40,2,    0.00,2,    0.98,2,   3.350,2,   1.842,2,   1.1810,2,  2120.8,2,  2298.7,2,   7.8897,2,    20.00,   0.269,2,   1.843,2,  -0.571,2,  10.7474,2,    1.06,2,   46.52,2,     3.8,   7.767,2,   0.014,   45.68,2,   15.32,2, -31.5340,  76.9342,   0.001,   0.181,20090421,       1129
33RR20090320,        I05,     109,          1,         18,         18,4,20090421,       1031,   -31.5341,    76.9342,       2625,   663.4,  10.0289,  34.7895,2,  34.7206,4,    230.3,2,   214.1,4,   15.25,4,   18.99,4,    0.00,4,    1.32,4,   1.521,4,   0.796,4,   0.3740,4,  2154.3,4,  2301.0,4,   7.8286,4,    20.00,-999.000,9,-999.000,9,-999.000,9,  10.0515,2,   0.997,4,    6.33,4,     4.2,-999.000,9,-999.000,   43.99,4,   20.98,4, -31.5340,  76.9343,-999.000,-999.000,20090421,       1126
33RR20090320,        I05,     109,          1,         17,         17,2,20090421,       1031,   -31.5341,    76.9342,       2625,   764.6,   8.8628,  34.6480,2,  34.6503,2,    214.5,2,   215.1,2,    9.45,2,   19.67,2,    0.00,2,    1.39,2,   3.034,2,   1.552,2,   0.6330,2,  2142.2,2,  2292.0,2,   7.8202,2,    20.00,-999.000,9,   1.879,2,   1.240,2,   8.8675,2,   1.056,2,   26.62,2,     2.8,   7.978,2,   0.016,   43.16,2,   21.33,2, -31.5340,  76.9344,   0.001,   0.194,20090421,       1124
33RR20090320,        I05,     109,          1,         16,         16,2,20090421,       1031,   -31.5341,    76.9342,       2625,   864.4,   7.3899,  34.5099,2,  34.5114,2,    205.4,2,   205.5,2,   15.22,2,   24.08,2,    0.00,2,    1.69,2,   2.577,2,   1.284,2,   0.4960,2,  2159.9,2,  2289.8,2,   7.7692,2,    20.00,-999.000,9,-999.000,9,-999.000,9,   7.3916,2,    1.11,2,   -7.23,2,     2.7,-999.000,9,-999.000,   42.33,2,   25.95,2, -31.5341,  76.9344,-999.000,-999.000,20090421,       1121
33RR20090320,        I05,     109,          1,         15,         15,2,20090421,       1031,   -31.5341,    76.9342,       2625,   962.9,   6.0100,  34.4152,2,  34.4156,2,    201.9,2,   202.5,2,   22.28,2,   27.56,2,    0.00,2,    1.93,2,   2.107,2,   1.039,2,   0.4030,2,  2175.5,2,  2293.8,2,   7.7303,2,    20.00,-999.000,9,-999.000,9,-999.000,9,   6.0371,2,    1.09,2,  -41.24,2,       3,-999.000,9,-999.000,   41.60,2,   28.97,2, -31.5342,  76.9344,-999.000,-999.000,20090421,       1118
33RR20090320,        I05,     109,          1,         14,         14,2,20090421,       1031,   -31.5341,    76.9342,       2625,  1064.8,   4.8663,  34.3674,2,  34.3681,2,    199.8,2,   223.0,4,   30.45,2,   29.99,2,    0.00,2,    2.11,2,   1.827,2,   0.886,2,   0.3040,2,  2190.8,2,  2296.5,2,   7.7017,2,    20.00,-999.000,9,-999.000,9,-999.000,9,   4.8740,2,       1,2,  -63.73,2,     2.9,-999.000,9,-999.000,   40.86,2,   31.44,2, -31.5342,  76.9344,-999.000,-999.000,20090421,       1115
33RR20090320,        I05,     109,          1,         13,         13,2,20090421,       1031,   -31.5341,    76.9342,       2625,  1165.8,   4.1785,  34.3897,2,  34.3897,2,    189.3,2,   188.7,2,   41.93,2,   31.94,2,    0.00,2,    2.27,2,   1.150,2,   0.548,2,   0.1660,2,  2210.8,2,  2307.4,2,   7.6753,2,    20.00,   0.013,2,   1.933,2,   4.487,2,   4.1773,2,   0.923,2,  -94.23,2,     2.2,   8.411,2,   0.012,   40.33,2,   33.44,2, -31.5343,  76.9344,   0.001,   0.188,20090421,       1113
33RR20090320,        I05,     109,          1,         12,         12,2,20090421,       1031,   -31.5341,    76.9342,       2625,  1265.1,   3.7338,  34.4303,2,  34.4314,2,    178.0,2,   177.5,2,   52.54,2,   33.21,2,    0.00,2,    2.36,2,   0.751,2,   0.358,2,   0.1170,2,  2227.1,2,  2316.0,2,   7.6558,2,    20.00,-999.000,9,-999.000,9,-999.000,9,   3.7338,2,    0.77,2, -112.77,2,     2.9,-999.000,9,-999.000,   39.96,2,   35.12,2, -31.5343,  76.9343,-999.000,-999.000,20090421,       1110
33RR20090320,        I05,     109,          1,         11,         11,2,20090421,       1031,   -31.5341,    76.9342,       2625,  1364.7,   3.4477,  34.4767,2,  34.4793,2,    170.0,2,   168.7,2,   61.17,2,   33.90,2,    0.00,2,    2.42,2,   0.462,2,   0.219,2,   0.0730,2,  2243.4,2,  2324.6,2,   7.6432,2,    20.00,   0.028,2,-999.000,9,-999.000,9,   3.4511,2,   0.674,2, -129.66,2,     3.3,-999.000,9,-999.000,   40.13,2,   35.80,2, -31.5343,  76.9343,-999.000,-999.000,20090421,       1107
33RR20090320,        I05,     109,          1,         10,         10,2,20090421,       1031,   -31.5341,    76.9342,       2625,  1466.3,   3.2237,  34.5247,2,  34.5251,2,    163.7,2,   163.4,2,   68.16,2,   34.22,2,    0.00,2,    2.45,2,   0.298,2,   0.142,2,   0.0000,2,  2252.1,2,  2333.0,2,   7.6370,2,    20.00,-999.000,9,-999.000,9,-999.000,9,   3.2238,2,   0.547,2, -138.65,2,     2.4,-999.000,9,-999.000,   39.61,2,   35.57,2, -31.5342,  76.9343,-999.000,-999.000,20090421,       1104
33RR20090320,        I05,     109,          1,          9,          9,2,20090421,       1031,   -31.5341,    76.9342,       2625,  1567.0,   2.9746,  34.5633,2,  34.5647,2,    164.9,2,   164.6,2,   72.02,2,   34.11,2,    0.00,2,    2.43,2,   0.238,6,   0.113,6,   0.0690,6,  2253.7,6,  2336.0,2,   7.6369,2,    20.00,   0.001,2,   1.959,2,   9.361,2,   2.9741,2,   0.595,2, -147.47,2,     2.3,   8.741,2,   0.011,   39.08,2,   35.63,2, -31.5342,  76.9343,   0.001,   0.205,20090421,       1101
33RR20090320,        I05,     109,          1,          8,          8,2,20090421,       1031,   -31.5341,    76.9342,       2625,  1667.6,   2.8019,  34.6064,2,  34.6080,2,    165.2,2,   166.0,2,   75.70,2,   33.68,2,    0.00,2,    2.40,2,   0.166,2,   0.078,2,   0.0490,2,  2257.7,2,  2341.4,2,   7.6411,2,    20.00,-999.000,9,-999.000,9,-999.000,9,   2.8035,2,   0.565,2, -145.68,2,     2.5,-999.000,9,-999.000,   39.47,2,   34.92,2, -31.5342,  76.9343,-999.000,-999.000,20090421,       1059
33RR20090320,        I05,     109,          1,          7,          7,2,20090421,       1031,   -31.5341,    76.9342,       2625,  1768.0,   2.6489,  34.6444,2,  34.6445,2,    168.6,2,   169.2,2,   78.28,2,   33.14,2,    0.00,2,    2.35,2,   0.118,2,   0.058,2,   0.0480,2,  2258.1,2,  2342.8,2,   7.6486,2,    20.00,   0.060,2,   1.976,2,  10.015,2,   2.6491,2,   0.562,2, -148.47,2,       3,   8.789,2,   0.011,   39.44,2,   34.81,2, -31.5342,  76.9344,   0.001,   0.203,20090421,       1056
33RR20090320,        I05,     109,          1,          6,          6,2,20090421,       1031,   -31.5341,    76.9342,       2625,  1873.6,   2.5203,  34.6759,2,  34.6773,2,    171.9,2,   173.3,2,   80.85,2,   32.55,2,    0.00,2,    2.30,2,   0.083,2,   0.039,2,   0.0000,2,  2257.5,2,  2347.1,2,   7.6575,2,    20.00,-999.000,9,-999.000,9,-999.000,9,   2.5210,2,   0.573,2, -152.28,2,     2.4,-999.000,9,-999.000,   39.44,2,   33.96,2, -31.5342,  76.9344,-999.000,-999.000,20090421,       1053
33RR20090320,        I05,     109,          1,          5,          5,2,20090421,       1031,   -31.5341,    76.9342,       2625,  1984.0,   2.3925,  34.7003,2,  34.7007,2,    177.1,2,   178.3,2,   82.13,2,   31.86,2,    0.00,2,    2.27,2,   0.066,2,   0.032,2,   0.0690,2,  2254.4,2,  2347.6,2,   7.6661,2,    20.00,-999.000,9,   1.972,2,  11.801,2,   2.3918,2,   0.592,2,  -148.6,2,     2.9,   8.758,2,   0.011,   40.08,2,   33.82,2, -31.5342,  76.9344,   0.001,   0.218,20090421,       1049
33RR20090320,        I05,     109,          1,          4,          4,2,20090421,       1031,   -31.5341,    76.9342,       2625,  2134.7,   2.2265,  34.7225,2,  34.7233,2,    183.8,2,   184.6,2,   84.53,2,   31.22,2,    0.00,2,    2.21,2,   0.054,2,   0.028,2,   0.0540,2,  2253.5,2,  2349.9,2,   7.6768,2,    20.00,-999.000,9,-999.000,9,-999.000,9,   2.2274,2,    0.61,2, -154.38,2,     2.4,-999.000,9,-999.000,   39.83,2,   32.39,2, -31.5342,  76.9343,-999.000,-999.000,20090421,       1045
33RR20090320,        I05,     109,          1,          3,          3,2,20090421,       1031,   -31.5341,    76.9342,       2625,  2333.5,   1.9742,  34.7338,2,  34.7349,2,    187.9,2,   187.7,2,   93.98,2,   31.27,2,    0.00,2,    2.22,2,   0.034,2,   0.016,2,   0.0000,2,  2258.4,2,  2356.6,2,   7.6829,2,    20.00,   0.045,2,   1.997,2,  16.856,2,   1.9740,2,   0.613,2, -150.51,2,     2.9,   8.779,2,   0.011,   39.93,2,   33.26,2, -31.5342,  76.9342,   0.001,   0.217,20090421,       1039
33RR20090320,        I05,     109,          1,          2,          2,2,20090421,       1031,   -31.5341,    76.9342,       2625,  2533.8,   1.8013,  34.7291,2,  34.7302,2,    185.5,2,   185.2,2,  105.14,2,   32.06,2,    0.00,2,    2.27,2,   0.021,2,   0.010,2,   0.0170,2,  2269.9,2,  2368.7,2,   7.6821,2,    20.00,-999.000,9,   2.069,2,  18.420,2,   1.8004,2,   0.527,2, -160.73,2,     2.5,   9.040,2,   0.012,   38.96,2,   33.82,2, -31.5341,  76.9342,   0.001,   0.204,20090421,       1034
33RR20090320,        I05,     109,          1,          1,          1,2,20090421,       1031,   -31.5341,    76.9342,       2625,  2645.2,   1.7793,  34.7288,2,  34.7304,2,    185.2,2,   185.2,2,  106.43,2,   32.00,2,    0.00,2,    2.28,2,   0.020,6,   0.009,6,   0.0130,6,  2270.6,6,  2368.8,2,   7.6831,2,    20.00,   0.047,2,   1.984,2,  18.636,2,   1.7781,2,   0.488,2, -184.61,2,     2.5,   8.582,2,   0.014,   39.65,2,   33.34,2, -31.5341,  76.9342,   0.001,   0.223,20090421,       1031