BOTTLE,20220814CCHSIOAMB
EXPOCODE,SECT_ID,STNNBR,CASTNO,SAMPNO,BTLNBR,BTLNBR_FLAG_W,DATE,TIME,LATITUDE,LONGITUDE,DEPTH,CTDPRS,CTDTMP,CTDSAL,CTDSAL_FLAG_W,SALNTY,SALNTY_FLAG_W,CTDOXY,CTDOXY_FLAG_W,OXYGEN,OXYGEN_FLAG_W,SILCAT,SILCAT_FLAG_W,NITRAT,NITRAT_FLAG_W,NITRIT,NITRIT_FLAG_W,PHSPHT,PHSPHT_FLAG_W,CFC-11,CFC-11_FLAG_W,CFC-12,CFC-12_FLAG_W,SF6,SF6_FLAG_W,TCARBN,TCARBN_FLAG_W,ALKALI,ALKALI_FLAG_W,PH_TOT,PH_TOT_FLAG_W,PH_TMP,TRITUM,TRITUM_FLAG_W,HELIUM,HELIUM_FLAG_W,DELHE3,DELHE3_FLAG_W,REFTMP,REFTMP_FLAG_W,DELC13,DELC13_FLAG_W,DELC14,DELC14_FLAG_W,C14ERR,NEON,NEON_FLAG_W,NEONER,DOC,DOC_FLAG_W,TDN,TDN_FLAG_W,BTL_LAT,BTL_LON,HELIER,DELHER,BTL_DATE,BTL_TIME
,,,,,,,,,,,METERS,DBAR,ITS-90,PSS-78,,PSS-78,,UMOL/KG,,UMOL/KG,,UMOL/KG,,UMOL/KG,,UMOL/KG,,UMOL/KG,,PMOL/KG,,PMOL/KG,,FMOL/KG,,UMOL/KG,,UMOL/KG,,,,DEG C,TU,,NMOL/KG,,PERCNT,,DEG C,,/MILLE,,/MILLE,,/MILLE,NMOL/KG,,NMOL/KG,UMOL/KG,,UMOL/KG,,,,NMOL/KG,PERCNT,,
33RR20090320,        I05,       3,          2,         23,         23,2,20090324,       1146,   -31.0993,    30.3777,       1219,     3.4,  26.5085,  35.4698,2,  35.4705,2,    202.2,2,   202.9,2,    1.78,2,    0.00,2,    0.00,2,    0.05,2,   1.305,3,   0.983,3,   1.0730,3,  1992.8,6,  2324.0,2,   8.1768,2,    20.00,   0.578,2,   1.779,2,  -1.269,2,  26.5024,2,-999.000,9, -999.00,9, -999.00,   7.116,2,   0.016, -999.00,9, -999.00,9, -31.1266,  30.3434,   0.001,   0.207,20090324,       1246
33RR20090320,        I05,       3,          2,         22,         22,2,20090324,       1146,   -31.0993,    30.3777,       1219,    35.2,  24.4155,  35.3877,2,  35.3931,2,    205.9,2,   214.3,2,    1.99,2,    0.18,2,    0.03,2,    0.21,2,   1.570,3,   1.049,3,   1.0700,3,  2005.8,2,  2321.8,2,   8.1506,2,    20.00,   0.536,2,   1.786,2,  -1.429,2,  24.4224,2,-999.000,9, -999.00,9, -999.00,   7.157,2,   0.015, -999.00,9, -999.00,9, -31.1250,  30.3453,   0.001,   0.216,20090324,       1244
33RR20090320,        I05,       3,          2,         21,         21,2,20090324,       1146,   -31.0993,    30.3777,       1219,    60.4,  21.7328,  35.3360,2,  35.3440,2,    191.1,2,   189.7,2,    3.59,2,    2.54,2,    0.26,2,    0.35,2,   1.733,3,   1.151,3,   1.1510,3,  2049.5,2,  2318.9,2,   8.0743,2,    20.00,   0.542,2,   1.861,2,  -0.475,2,  21.7342,2,-999.000,9, -999.00,9, -999.00,   7.489,2,   0.018, -999.00,9, -999.00,9, -31.1235,  30.3470,   0.001,   0.218,20090324,       1242
33RR20090320,        I05,       3,          2,         20,         20,2,20090324,       1146,   -31.0993,    30.3777,       1219,    86.0,  19.0036,  35.4239,2,  35.4241,2,    158.7,2,   158.5,2,    6.77,2,    8.56,2,    0.03,2,    0.61,2,   1.754,3,   1.179,3,   0.9470,3,  2096.0,2,  2321.0,2,   7.9842,2,    20.00,   0.493,2,   1.843,2,   0.592,2,  19.0225,2,-999.000,9, -999.00,9, -999.00,   7.555,2,   0.011, -999.00,9, -999.00,9, -31.1220,  30.3487,   0.000,   0.211,20090324,       1240
33RR20090320,        I05,       3,          2,         19,         19,2,20090324,       1146,   -31.0993,    30.3777,       1219,   110.2,  17.2300,  35.4390,2,  35.4364,2,    170.7,2,   165.8,2,    7.59,2,    9.18,2,    0.01,2,    0.66,2,   1.857,3,   1.250,3,   1.0420,3,  2109.1,2,  2323.4,2,   7.9637,2,    20.00,   0.508,2,   1.936,2,  -0.042,2,  17.2338,2,-999.000,9, -999.00,9, -999.00,   7.990,2,   0.019, -999.00,9, -999.00,9, -31.1204,  30.3505,   0.001,   0.208,20090324,       1238
33RR20090320,        I05,       3,          2,         18,         18,2,20090324,       1146,   -31.0993,    30.3777,       1219,   135.2,  15.8632,  35.3863,2,  35.3871,2,    177.8,2,   172.8,2,    7.81,2,   10.13,2,    0.01,2,    0.73,2,   2.011,3,   1.309,3,   0.9920,3,  2118.4,2,  2323.3,2,   7.9421,2,    20.00,   0.460,2,-999.000,9,-999.000,9,  15.8611,2,-999.000,9, -999.00,9, -999.00,-999.000,9,-999.000, -999.00,9, -999.00,9, -31.1190,  30.3522,-999.000,-999.000,20090324,       1236
33RR20090320,        I05,       3,          2,         17,         17,2,20090324,       1146,   -31.0993,    30.3777,       1219,   159.9,  14.8404,  35.3313,2,  35.3330,2,    174.3,2,   174.8,2,    8.43,2,   11.29,2,    0.01,2,    0.81,2,   2.205,3,   1.337,3,   0.9340,3,  2126.2,2,  2320.4,2,   7.9208,2,    20.00,   0.387,2,   1.867,2,   0.900,2,  14.8346,2,-999.000,9, -999.00,9, -999.00,   7.755,2,   0.019, -999.00,9, -999.00,9, -31.1177,  30.3538,   0.001,   0.208,20090324,       1234
33RR20090320,        I05,       3,          2,         16,         16,2,20090324,       1146,   -31.0993,    30.3777,       1219,   184.8,  13.9090,  35.2584,2,  35.2604,2,    179.4,2,   180.3,2,    8.66,2,   12.26,2,    0.01,2,    0.87,2,   2.314,3,   1.364,3,   0.9490,3,  2130.3,2,  2318.0,2,   7.9056,2,    20.00,   0.369,2,   1.892,2,   0.513,2,  13.9006,2,-999.000,9, -999.00,9, -999.00,   7.873,2,   0.027, -999.00,9, -999.00,9, -31.1165,  30.3552,   0.001,   0.215,20090324,       1232
33RR20090320,        I05,       3,          2,         15,         15,2,20090324,       1146,   -31.0993,    30.3777,       1219,   209.7,  13.5595,  35.2499,2,  35.2501,2,    183.8,2,   186.3,2,    8.10,2,   12.14,2,    0.01,2,    0.86,2,   1.779,3,   1.382,3,   1.0390,3,  2130.3,2,  2316.8,2,   7.9045,2,    20.00,   0.426,2,   1.891,2,   0.714,2,  13.5579,2,-999.000,9, -999.00,9, -999.00,   7.968,2,   0.012, -999.00,9, -999.00,9, -31.1152,  30.3567,   0.001,   0.200,20090324,       1231
33RR20090320,        I05,       3,          2,         14,         14,2,20090324,       1146,   -31.0993,    30.3777,       1219,   235.4,  12.9830,  35.1895,2,  35.1927,2,    189.4,2,   190.5,2,    8.13,2,   12.81,2,    0.01,2,    1.76,4,   2.109,3,   1.443,3,   0.9300,3,  2131.4,2,  2314.3,2,   7.8962,2,    20.00,   0.408,2,   1.887,2,   0.979,2,  12.9919,2,-999.000,9, -999.00,9, -999.00,   7.953,2,   0.018, -999.00,9, -999.00,9, -31.1138,  30.3584,   0.001,   0.207,20090324,       1229
33RR20090320,        I05,       3,          2,         13,         13,2,20090324,       1146,   -31.0993,    30.3777,       1219,   270.1,  12.2173,  35.0956,2,  35.0971,2,    193.8,2,   193.0,2,    8.94,2,   14.22,2,    0.01,2,    0.99,2,   2.184,3,   1.336,3,   0.7370,3,  2134.7,2,  2311.3,2,   7.8806,2,    20.00,-999.000,9,   1.882,2,   0.980,2,  12.2188,2,-999.000,9, -999.00,9, -999.00,   7.906,2,   0.029, -999.00,9, -999.00,9, -31.1122,  30.3605,   0.001,   0.205,20090324,       1226
33RR20090320,        I05,       3,          2,         12,         12,2,20090324,       1146,   -31.0993,    30.3777,       1219,   324.5,  10.3723,  34.8903,2,  34.8935,2,    190.2,2,   192.2,2,   12.54,2,   17.86,2,    0.01,2,    1.23,2,   2.301,3,   1.447,3,   0.9310,3,  2149.2,2,  2305.6,2,   7.8344,2,    20.00,   0.273,2,   1.889,2,   1.567,2,  10.3741,2,-999.000,9, -999.00,9, -999.00,   8.094,2,   0.012, -999.00,9, -999.00,9, -31.1105,  30.3627,   0.001,   0.200,20090324,       1223
33RR20090320,        I05,       3,          2,         11,         11,2,20090324,       1146,   -31.0993,    30.3777,       1219,   389.4,   8.5276,  34.7141,2,  34.7133,2,    190.1,2,   187.4,2,   20.32,2,   22.13,2,    0.00,2,    1.53,2,   1.643,3,   1.079,3,   0.4760,3,  2169.9,2,  2305.0,2,   7.7833,2,    20.00,   0.236,2,   1.901,2,   2.113,2,   8.5273,2,-999.000,9, -999.00,9, -999.00,   8.145,2,   0.020, -999.00,9, -999.00,9, -31.1090,  30.3646,   0.001,   0.207,20090324,       1220
33RR20090320,        I05,       3,          2,         10,         10,2,20090324,       1146,   -31.0993,    30.3777,       1219,   444.5,   8.0504,  34.6889,2,  34.6907,2,    180.2,2,   181.6,2,   24.34,2,   23.60,2,    0.00,2,    1.60,2,   1.706,3,   0.968,3,   0.4030,3,  2179.1,2,  2304.0,2,   7.7645,2,    20.00,   0.171,2,   1.883,2,   2.722,2,   8.0504,2,-999.000,9, -999.00,9, -999.00,   8.101,2,   0.018, -999.00,9, -999.00,9, -31.1082,  30.3658,   0.001,   0.207,20090324,       1217
33RR20090320,        I05,       3,          2,          9,          9,2,20090324,       1146,   -31.0993,    30.3777,       1219,   477.3,   7.5591,  34.6464,2,  34.6496,2,    172.8,2,   177.1,2,   27.37,2,   25.30,2,    0.00,2,    1.71,2,   1.469,3,   0.864,3,   0.3520,3,  2185.3,2,  2305.5,2,   7.7462,2,    20.00,   0.116,2,   1.896,2,   3.535,2,   7.5498,2,-999.000,9, -999.00,9, -999.00,   8.057,2,   0.038, -999.00,9, -999.00,9, -31.1073,  30.3670,   0.001,   0.206,20090324,       1214
33RR20090320,        I05,       3,          2,          8,          8,2,20090324,       1146,   -31.0993,    30.3777,       1219,   564.1,   6.1995,  34.5579,2,  34.5618,2,    165.5,2,   166.7,2,   37.61,2,   28.95,2,    0.00,2,    1.96,2,   0.909,3,   0.592,3,   0.2430,3,  2206.3,2,  2309.6,2,   7.6978,2,    20.00,   0.060,2,   1.952,2,   4.802,2,   6.1887,2,-999.000,9, -999.00,9, -999.00,   8.412,2,   0.020, -999.00,9, -999.00,9, -31.1049,  30.3695,   0.001,   0.212,20090324,       1210
33RR20090320,        I05,       3,          2,          7,          7,2,20090324,       1146,   -31.0993,    30.3777,       1219,   666.7,   5.7184,  34.5939,2,  34.5955,2,    152.5,2,   151.6,2,   47.49,2,   30.87,2,    0.00,2,    2.12,2,   0.790,3,   0.426,3,   0.1400,3,  2225.6,2,  2320.8,2,   7.6687,2,    20.00,   0.060,2,   2.048,2,   5.666,2,   5.7200,2,-999.000,9, -999.00,9, -999.00,   8.777,2,   0.020, -999.00,9, -999.00,9, -31.1035,  30.3712,   0.001,   0.219,20090324,       1205
33RR20090320,        I05,       3,          2,          6,          6,2,20090324,       1146,   -31.0993,    30.3777,       1219,   757.8,   4.7487,  34.5425,2,  34.5448,2,    159.2,2,   159.5,2,   53.17,2,   32.04,2,    0.00,2,    2.21,2,   0.763,3,   0.380,3,   0.1370,3,  2232.5,2,  2322.8,2,   7.6574,2,    20.00,   0.056,2,   2.006,2,   6.324,2,   4.7477,2,-999.000,9, -999.00,9, -999.00,   8.646,2,   0.027, -999.00,9, -999.00,9, -31.1029,  30.3724,   0.001,   0.207,20090324,       1202
33RR20090320,        I05,       3,          2,          5,          5,2,20090324,       1146,   -31.0993,    30.3777,       1219,   864.9,   4.4237,  34.5688,2,  34.5729,2,    152.8,2,   153.5,2,   59.88,2,   32.62,2,    0.00,2,    2.29,2,   0.487,3,   0.268,3,   0.1440,3,  2242.2,2,  2329.3,2,   7.6458,2,    20.00,   0.054,2,   1.949,2,   7.701,2,   4.4270,2,-999.000,9, -999.00,9, -999.00,   8.287,2,   0.021, -999.00,9, -999.00,9, -31.1022,  30.3734,   0.001,   0.211,20090324,       1158
33RR20090320,        I05,       3,          2,          4,          4,2,20090324,       1146,   -31.0993,    30.3777,       1219,   979.3,   3.9522,  34.5671,2,  34.5682,2,    159.5,2,   158.9,2,   63.17,2,   32.57,2,    0.00,2,    2.31,2,   0.513,3,   0.239,3,   0.0740,3,  2243.9,2,  2331.4,2,   7.6438,2,    20.00,   0.022,2,   1.972,2,   7.699,2,   3.9476,2,-999.000,9, -999.00,9, -999.00,   8.562,2,   0.022, -999.00,9, -999.00,9, -31.1012,  30.3748,   0.001,   0.211,20090324,       1155
33RR20090320,        I05,       3,          2,          3,          3,2,20090324,       1146,   -31.0993,    30.3777,       1219,  1054.1,   3.7204,  34.5660,2,  34.5678,2,    160.6,2,   161.4,2,   64.45,2,   32.52,2,    0.00,2,    2.31,2,   0.436,3,   0.225,3,   0.1080,3,  2245.1,2,  2333.7,2,   7.6446,2,    20.00,   0.060,2,   1.961,2,   7.673,2,   3.7185,2,-999.000,9, -999.00,9, -999.00,   8.483,2,   0.034, -999.00,9, -999.00,9, -31.1005,  30.3758,   0.001,   0.208,20090324,       1151
33RR20090320,        I05,       3,          2,          2,          2,2,20090324,       1146,   -31.0993,    30.3777,       1219,  1123.8,   3.6637,  34.6055,2,  34.6040,2,    157.1,2,   157.9,2,   68.56,2,   32.36,2,    0.00,2,    2.31,2,   0.373,3,   0.163,3,   0.0730,3,  2248.8,2,  2336.8,2,   7.6431,2,    20.00,   0.012,2,   2.041,2,   7.797,2,   3.6617,2,-999.000,9, -999.00,9, -999.00,   8.846,2,   0.014, -999.00,9, -999.00,9, -31.1002,  30.3765,   0.001,   0.215,20090324,       1148
33RR20090320,        I05,       3,          2,          1,          1,2,20090324,       1146,   -31.0993,    30.3777,       1219,  1206.2,   3.3915,  34.6364,2,  34.6369,2,    158.1,2,   159.5,2,   72.67,2,   32.35,2,    0.00,2,    2.32,2,   0.238,3,   0.158,3,   0.0000,2,  2253.2,6,  2342.4,2,   7.6461,2,    20.00,   0.004,2,-999.000,9,-999.000,9,   3.3911,2,-999.000,9, -999.00,9, -999.00,-999.000,9,-999.000, -999.00,9, -999.00,9, -31.0996,  30.3774,-999.000,-999.000,20090324,       1146