BOTTLE,20220814CCHSIOAMB
EXPOCODE,SECT_ID,STNNBR,CASTNO,SAMPNO,BTLNBR,BTLNBR_FLAG_W,DATE,TIME,LATITUDE,LONGITUDE,DEPTH,CTDPRS,CTDTMP,CTDSAL,CTDSAL_FLAG_W,SALNTY,SALNTY_FLAG_W,CTDOXY,CTDOXY_FLAG_W,OXYGEN,OXYGEN_FLAG_W,SILCAT,SILCAT_FLAG_W,NITRAT,NITRAT_FLAG_W,NITRIT,NITRIT_FLAG_W,PHSPHT,PHSPHT_FLAG_W,CFC-11,CFC-11_FLAG_W,CFC-12,CFC-12_FLAG_W,SF6,SF6_FLAG_W,TCARBN,TCARBN_FLAG_W,ALKALI,ALKALI_FLAG_W,PH_TOT,PH_TOT_FLAG_W,PH_TMP,TRITUM,TRITUM_FLAG_W,HELIUM,HELIUM_FLAG_W,DELHE3,DELHE3_FLAG_W,REFTMP,REFTMP_FLAG_W,DELC13,DELC13_FLAG_W,DELC14,DELC14_FLAG_W,C14ERR,NEON,NEON_FLAG_W,NEONER,DOC,DOC_FLAG_W,TDN,TDN_FLAG_W,BTL_LAT,BTL_LON,HELIER,DELHER,BTL_DATE,BTL_TIME
,,,,,,,,,,,METERS,DBAR,ITS-90,PSS-78,,PSS-78,,UMOL/KG,,UMOL/KG,,UMOL/KG,,UMOL/KG,,UMOL/KG,,UMOL/KG,,PMOL/KG,,PMOL/KG,,FMOL/KG,,UMOL/KG,,UMOL/KG,,,,DEG C,TU,,NMOL/KG,,PERCNT,,DEG C,,/MILLE,,/MILLE,,/MILLE,NMOL/KG,,NMOL/KG,UMOL/KG,,UMOL/KG,,,,NMOL/KG,PERCNT,,
33RR20090320,        I05,      96,          1,         36,         36,2,20090417,       2143,   -34.0022,    71.4129,       4428,     4.8,  19.7036,  35.5000,2,  35.4999,2,    229.4,2,   228.9,2,    1.36,2,    0.02,2,    0.00,2,    0.16,2,   2.204,2,   1.321,2,   1.2560,2,  2057.5,6,  2333.0,2,   8.0729,2,    20.00,-999.000,9,-999.000,9,-999.000,9,  19.7008,2,-999.000,9, -999.00,9, -999.00,-999.000,9,-999.000, -999.00,9, -999.00,9, -34.0013,  71.4125,-999.000,-999.000,20090417,       2340
33RR20090320,        I05,      96,          1,         35,         35,2,20090417,       2143,   -34.0022,    71.4129,       4428,    41.1,  19.6757,  35.5426,2,  35.5423,2,    231.1,2,   229.3,2,    1.35,2,    0.08,2,    0.00,2,    0.15,2,-999.000,9,-999.000,9,-999.0000,9,  2058.0,2,  2334.3,2,   8.0731,2,    20.00,-999.000,9,-999.000,9,-999.000,9,  19.6740,2,-999.000,9, -999.00,9, -999.00,-999.000,9,-999.000, -999.00,9, -999.00,9, -34.0013,  71.4125,-999.000,-999.000,20090417,       2337
33RR20090320,        I05,      96,          1,         34,         34,2,20090417,       2143,   -34.0022,    71.4129,       4428,    65.9,  18.5198,  35.4903,4,  35.4693,2,    238.2,2,   242.6,2,    1.34,2,    0.03,2,    0.00,2,    0.16,2,-999.000,9,-999.000,9,-999.0000,9,  2059.0,2,  2333.0,2,   8.0649,2,    20.00,-999.000,9,-999.000,9,-999.000,9,  18.5927,2,-999.000,9, -999.00,9, -999.00,-999.000,9,-999.000, -999.00,9, -999.00,9, -34.0014,  71.4125,-999.000,-999.000,20090417,       2336
33RR20090320,        I05,      96,          1,         33,         33,2,20090417,       2143,   -34.0022,    71.4129,       4428,    91.8,  14.8878,  35.3715,2,  35.3731,2,    246.3,2,   245.7,2,    1.74,2,    1.00,2,    0.07,2,    0.31,2,   2.811,2,   1.629,2,   1.3990,2,  2083.6,2,  2326.4,2,   8.0126,2,    20.00,-999.000,9,-999.000,9,-999.000,9,  14.8696,2,-999.000,9, -999.00,9, -999.00,-999.000,9,-999.000, -999.00,9, -999.00,9, -34.0014,  71.4125,-999.000,-999.000,20090417,       2334
33RR20090320,        I05,      96,          1,         32,         32,2,20090417,       2143,   -34.0022,    71.4129,       4428,   121.6,  13.9921,  35.2947,2,  35.2982,2,    235.8,2,   234.3,2,    2.55,2,    4.80,2,    0.09,2,    0.49,2,-999.000,9,-999.000,9,-999.0000,9,  2097.3,2,  2319.8,2,   7.9763,2,    20.00,-999.000,9,-999.000,9,-999.000,9,  14.0006,2,-999.000,9, -999.00,9, -999.00,-999.000,9,-999.000, -999.00,9, -999.00,9, -34.0014,  71.4125,-999.000,-999.000,20090417,       2332
33RR20090320,        I05,      96,          1,         31,         31,2,20090417,       2143,   -34.0022,    71.4129,       4428,   170.9,  13.4618,  35.2567,2,  35.2582,2,    232.9,2,   234.9,2,    3.37,2,    6.92,2,    0.01,2,    0.59,2,-999.000,9,-999.000,9,-999.0000,9,  2103.1,2,  2317.5,2,   7.9582,2,    20.00,-999.000,9,-999.000,9,-999.000,9,  13.4345,2,-999.000,9, -999.00,9, -999.00,-999.000,9,-999.000, -999.00,9, -999.00,9, -34.0015,  71.4125,-999.000,-999.000,20090417,       2330
33RR20090320,        I05,      96,          1,         30,         30,2,20090417,       2143,   -34.0022,    71.4129,       4428,   220.9,  12.9090,  35.1956,2,  35.1946,2,    235.4,2,   235.5,2,    3.56,2,    8.28,2,    0.00,2,    0.66,2,-999.000,9,-999.000,9,-999.0000,9,  -999.0,9,  -999.0,9,-999.0000,9,  -999.00,-999.000,9,-999.000,9,-999.000,9,  12.9091,2,-999.000,9, -999.00,9, -999.00,-999.000,9,-999.000, -999.00,9, -999.00,9, -34.0016,  71.4125,-999.000,-999.000,20090417,       2328
33RR20090320,        I05,      96,          1,         29,         29,2,20090417,       2143,   -34.0022,    71.4129,       4428,   272.2,  12.6307,  35.1636,2,  35.1665,2,    236.8,2,   236.2,2,    3.96,2,    9.02,2,    0.00,2,    0.70,2,   3.134,2,   1.765,2,   1.3370,2,  2108.8,2,  2311.9,2,   7.9383,2,    20.00,-999.000,9,-999.000,9,-999.000,9,  12.6442,2,-999.000,9, -999.00,9, -999.00,-999.000,9,-999.000, -999.00,9, -999.00,9, -34.0016,  71.4125,-999.000,-999.000,20090417,       2326
33RR20090320,        I05,      96,          1,         28,         28,2,20090417,       2143,   -34.0022,    71.4129,       4428,   321.1,  12.3644,  35.1268,2,  35.1257,2,    238.1,2,   238.5,2,    3.94,2,    9.59,2,    0.00,2,    0.73,2,-999.000,9,-999.000,9,-999.0000,9,  -999.0,9,  -999.0,9,-999.0000,9,  -999.00,-999.000,9,-999.000,9,-999.000,9,  12.3644,2,-999.000,9, -999.00,9, -999.00,-999.000,9,-999.000, -999.00,9, -999.00,9, -34.0015,  71.4125,-999.000,-999.000,20090417,       2324
33RR20090320,        I05,      96,          1,         27,         27,2,20090417,       2143,   -34.0022,    71.4129,       4428,   369.0,  12.2119,  35.1097,2,  35.1092,2,    239.5,2,   239.8,2,    4.14,2,    9.86,2,    0.00,2,    0.75,2,-999.000,9,-999.000,9,-999.0000,9,  2109.1,2,  2310.2,2,   7.9316,2,    20.00,-999.000,9,-999.000,9,-999.000,9,  12.2092,2,-999.000,9, -999.00,9, -999.00,-999.000,9,-999.000, -999.00,9, -999.00,9, -34.0015,  71.4124,-999.000,-999.000,20090417,       2322
33RR20090320,        I05,      96,          1,         26,         26,2,20090417,       2143,   -34.0022,    71.4129,       4428,   419.8,  11.9912,  35.0734,2,  35.0733,2,    238.7,2,   238.4,2,    4.33,2,   10.53,2,    0.00,2,    0.80,2,-999.000,9,-999.000,9,-999.0000,9,  -999.0,9,  -999.0,9,-999.0000,9,  -999.00,-999.000,9,-999.000,9,-999.000,9,  11.9900,2,-999.000,9, -999.00,9, -999.00,-999.000,9,-999.000, -999.00,9, -999.00,9, -34.0014,  71.4123,-999.000,-999.000,20090417,       2320
33RR20090320,        I05,      96,          1,         25,         25,2,20090417,       2143,   -34.0022,    71.4129,       4428,   469.3,  11.7796,  35.0374,2,  35.0369,2,    236.9,2,   234.8,2,    4.53,2,   11.37,2,    0.00,2,    0.85,2,   3.254,2,   1.785,2,   1.2930,2,  2113.9,2,  2306.4,2,   7.9149,2,    20.00,-999.000,9,-999.000,9,-999.000,9,  11.7765,2,-999.000,9, -999.00,9, -999.00,-999.000,9,-999.000, -999.00,9, -999.00,9, -34.0013,  71.4123,-999.000,-999.000,20090417,       2318
33RR20090320,        I05,      96,          1,         24,         24,2,20090417,       2143,   -34.0022,    71.4129,       4428,   539.0,  11.2555,  34.9568,2,  34.9573,2,    232.8,2,   232.7,2,    4.72,2,   12.68,2,    0.00,2,    0.93,2,-999.000,9,-999.000,9,-999.0000,9,  -999.0,9,  -999.0,9,-999.0000,9,  -999.00,-999.000,9,-999.000,9,-999.000,9,  11.2536,2,-999.000,9, -999.00,9, -999.00,-999.000,9,-999.000, -999.00,9, -999.00,9, -34.0013,  71.4123,-999.000,-999.000,20090417,       2316
33RR20090320,        I05,      96,          1,         23,         23,2,20090417,       2143,   -34.0022,    71.4129,       4428,   640.1,  10.5919,  34.8635,2,  34.8632,2,    233.1,2,   232.1,2,    5.12,2,   14.19,2,    0.00,2,    1.03,2,-999.000,9,-999.000,9,-999.0000,9,  -999.0,9,  -999.0,9,-999.0000,9,  -999.00,-999.000,9,-999.000,9,-999.000,9,  10.5881,2,-999.000,9, -999.00,9, -999.00,-999.000,9,-999.000, -999.00,9, -999.00,9, -34.0013,  71.4125,-999.000,-999.000,20090417,       2314
33RR20090320,        I05,      96,          1,         22,         22,2,20090417,       2143,   -34.0022,    71.4129,       4428,   742.0,   9.7428,  34.7468,2,  34.7453,2,    223.1,2,   222.9,2,    7.18,2,   17.01,2,    0.00,2,    1.21,2,-999.000,9,-999.000,9,-999.0000,9,  -999.0,9,  -999.0,9,-999.0000,9,  -999.00,-999.000,9,-999.000,9,-999.000,9,   9.7391,2,-999.000,9, -999.00,9, -999.00,-999.000,9,-999.000, -999.00,9, -999.00,9, -34.0014,  71.4124,-999.000,-999.000,20090417,       2311
33RR20090320,        I05,      96,          1,         21,         21,2,20090417,       2143,   -34.0022,    71.4129,       4428,   841.5,   8.5281,  34.6130,2,  34.6124,2,    212.2,2,   212.2,2,   10.48,2,   20.89,2,    0.00,2,    1.46,2,   2.964,6,   1.490,6,   0.7110,6,  2146.1,6,  2290.2,2,   7.8058,2,    20.00,-999.000,9,-999.000,9,-999.000,9,   8.5296,2,-999.000,9, -999.00,9, -999.00,-999.000,9,-999.000, -999.00,9, -999.00,9, -34.0014,  71.4124,-999.000,-999.000,20090417,       2308
33RR20090320,        I05,      96,          1,         20,         20,2,20090417,       2143,   -34.0022,    71.4129,       4428,   941.1,   6.9312,  34.4782,2,  34.4777,2,    204.6,2,   204.3,2,   17.52,2,   25.31,2,    0.00,2,    1.78,2,-999.000,9,-999.000,9,-999.0000,9,  -999.0,9,  -999.0,9,-999.0000,9,  -999.00,-999.000,9,-999.000,9,-999.000,9,   6.9333,2,-999.000,9, -999.00,9, -999.00,-999.000,9,-999.000, -999.00,9, -999.00,9, -34.0014,  71.4125,-999.000,-999.000,20090417,       2306
33RR20090320,        I05,      96,          1,         19,         19,2,20090417,       2143,   -34.0022,    71.4129,       4428,  1041.7,   5.7551,  34.3980,2,  34.4000,2,    204.7,2,   206.4,2,   22.91,2,   27.88,2,    0.00,2,    1.95,2,-999.000,9,-999.000,9,-999.0000,9,  -999.0,9,  -999.0,9,-999.0000,9,  -999.00,-999.000,9,-999.000,9,-999.000,9,   5.7765,2,-999.000,9, -999.00,9, -999.00,-999.000,9,-999.000, -999.00,9, -999.00,9, -34.0015,  71.4125,-999.000,-999.000,20090417,       2303
33RR20090320,        I05,      96,          1,         18,         18,2,20090417,       2143,   -34.0022,    71.4129,       4428,  1142.6,   4.7093,  34.3572,2,  34.3576,2,    205.0,2,   206.4,2,   30.39,2,   29.99,2,    0.00,2,    2.12,2,-999.000,9,-999.000,9,-999.0000,9,  -999.0,9,  -999.0,9,-999.0000,9,  -999.00,-999.000,9,-999.000,9,-999.000,9,   4.7195,2,-999.000,9, -999.00,9, -999.00,-999.000,9,-999.000, -999.00,9, -999.00,9, -34.0015,  71.4125,-999.000,-999.000,20090417,       2300
33RR20090320,        I05,      96,          1,         17,         17,2,20090417,       2143,   -34.0022,    71.4129,       4428,  1243.4,   4.0677,  34.3672,2,  34.3659,2,    197.9,2,   199.4,2,   38.52,2,   31.59,2,    0.00,2,    2.24,2,   1.671,2,   0.826,2,   0.3060,2,  2204.1,2,  2304.0,2,   7.6813,2,    20.00,-999.000,9,-999.000,9,-999.000,9,   4.0674,2,-999.000,9, -999.00,9, -999.00,-999.000,9,-999.000, -999.00,9, -999.00,9, -34.0016,  71.4126,-999.000,-999.000,20090417,       2258
33RR20090320,        I05,      96,          1,         16,         16,2,20090417,       2143,   -34.0022,    71.4129,       4428,  1343.1,   3.6060,  34.4117,2,  34.4149,2,    187.3,2,   187.2,2,   48.97,2,   32.96,2,    0.00,2,    2.34,2,-999.000,9,-999.000,9,-999.0000,9,  -999.0,9,  -999.0,9,-999.0000,9,  -999.00,-999.000,9,-999.000,9,-999.000,9,   3.6046,2,-999.000,9, -999.00,9, -999.00,-999.000,9,-999.000, -999.00,9, -999.00,9, -34.0016,  71.4127,-999.000,-999.000,20090417,       2255
33RR20090320,        I05,      96,          1,         15,         15,2,20090417,       2143,   -34.0022,    71.4129,       4428,  1443.5,   3.3036,  34.4618,2,  34.4658,2,    179.6,2,   178.7,2,   56.94,2,   33.64,2,    0.00,2,    2.39,2,-999.000,9,-999.000,9,-999.0000,9,  -999.0,9,  -999.0,9,-999.0000,9,  -999.00,-999.000,9,-999.000,9,-999.000,9,   3.3027,2,-999.000,9, -999.00,9, -999.00,-999.000,9,-999.000, -999.00,9, -999.00,9, -34.0018,  71.4127,-999.000,-999.000,20090417,       2252
33RR20090320,        I05,      96,          1,         14,         14,2,20090417,       2143,   -34.0022,    71.4129,       4428,  1542.8,   3.0886,  34.5088,2,  34.5094,2,    173.5,2,   173.5,2,   63.44,2,   33.91,2,    0.00,2,    2.41,2,-999.000,9,-999.000,9,-999.0000,9,  -999.0,9,  -999.0,9,-999.0000,9,  -999.00,-999.000,9,-999.000,9,-999.000,9,   3.0885,2,-999.000,9, -999.00,9, -999.00,-999.000,9,-999.000, -999.00,9, -999.00,9, -34.0018,  71.4128,-999.000,-999.000,20090417,       2250
33RR20090320,        I05,      96,          1,         13,         13,2,20090417,       2143,   -34.0022,    71.4129,       4428,  1644.3,   2.8956,  34.5600,2,  34.5597,2,    170.7,2,   170.9,2,   69.12,2,   33.79,2,    0.00,2,    2.41,2,   0.310,2,   0.148,2,   0.0780,2,  2246.8,2,  2333.4,2,   7.6401,2,    20.00,-999.000,9,-999.000,9,-999.000,9,   2.8958,2,-999.000,9, -999.00,9, -999.00,-999.000,9,-999.000, -999.00,9, -999.00,9, -34.0018,  71.4129,-999.000,-999.000,20090417,       2247
33RR20090320,        I05,      96,          1,         12,         12,2,20090417,       2143,   -34.0022,    71.4129,       4428,  1876.0,   2.6417,  34.6362,2,  34.6351,2,    174.6,2,   174.3,2,   73.96,2,   32.94,2,    0.00,2,    2.33,2,-999.000,9,-999.000,9,-999.0000,9,  -999.0,9,  -999.0,9,-999.0000,9,  -999.00,-999.000,9,-999.000,9,-999.000,9,   2.6420,2,-999.000,9, -999.00,9, -999.00,-999.000,9,-999.000, -999.00,9, -999.00,9, -34.0019,  71.4130,-999.000,-999.000,20090417,       2242
33RR20090320,        I05,      96,          1,         11,         11,2,20090417,       2143,   -34.0022,    71.4129,       4428,  2096.7,   2.3882,  34.7006,2,  34.6998,2,    181.1,2,   181.2,2,   80.28,2,   31.76,2,    0.00,2,    2.25,2,   0.054,2,   0.028,2,   0.0000,2,  -999.0,9,  -999.0,9,-999.0000,9,  -999.00,-999.000,9,-999.000,9,-999.000,9,   2.3882,2,-999.000,9, -999.00,9, -999.00,-999.000,9,-999.000, -999.00,9, -999.00,9, -34.0019,  71.4130,-999.000,-999.000,20090417,       2237
33RR20090320,        I05,      96,          1,         10,         10,2,20090417,       2143,   -34.0022,    71.4129,       4428,  2349.5,   2.1749,  34.7249,2,  34.7238,2,    182.5,2,   182.4,2,   90.63,2,   31.70,2,    0.00,2,    2.25,2,-999.000,9,-999.000,9,-999.0000,9,  -999.0,9,  -999.0,9,-999.0000,9,  -999.00,-999.000,9,-999.000,9,-999.000,9,   2.1743,2,-999.000,9, -999.00,9, -999.00,-999.000,9,-999.000, -999.00,9, -999.00,9, -34.0018,  71.4129,-999.000,-999.000,20090417,       2231
33RR20090320,        I05,      96,          1,          9,          9,2,20090417,       2143,   -34.0022,    71.4129,       4428,  2603.2,   1.9561,  34.7295,2,  34.7289,2,    178.7,2,   178.4,2,  105.70,2,   32.54,2,    0.00,2,    2.33,2,   0.011,2,   0.004,2,   0.0000,2,  2273.2,2,  2376.5,2,   7.6769,2,    20.00,-999.000,9,-999.000,9,-999.000,9,   1.9562,2,-999.000,9, -999.00,9, -999.00,-999.000,9,-999.000, -999.00,9, -999.00,9, -34.0019,  71.4128,-999.000,-999.000,20090417,       2226
33RR20090320,        I05,      96,          1,          8,          8,2,20090417,       2143,   -34.0022,    71.4129,       4428,  2855.9,   1.7949,  34.7288,2,  34.7281,2,    178.4,2,   177.6,2,  113.99,2,   32.96,2,    0.00,2,    2.36,2,-999.000,9,-999.000,9,-999.0000,9,  -999.0,9,  -999.0,9,-999.0000,9,  -999.00,-999.000,9,-999.000,9,-999.000,9,   1.7945,2,-999.000,9, -999.00,9, -999.00,-999.000,9,-999.000, -999.00,9, -999.00,9, -34.0020,  71.4128,-999.000,-999.000,20090417,       2220
33RR20090320,        I05,      96,          1,          7,          7,2,20090417,       2143,   -34.0022,    71.4129,       4428,  3121.8,   1.6608,  34.7261,2,  34.7257,2,    180.6,2,   179.8,2,  118.24,2,   33.01,2,    0.00,2,    2.37,2,   0.011,2,   0.005,2,   0.0000,2,  2281.3,2,  2382.5,2,   7.6766,2,    20.00,-999.000,9,-999.000,9,-999.000,9,   1.6619,2,-999.000,9, -999.00,9, -999.00,-999.000,9,-999.000, -999.00,9, -999.00,9, -34.0019,  71.4128,-999.000,-999.000,20090417,       2215
33RR20090320,        I05,      96,          1,          6,          6,2,20090417,       2143,   -34.0022,    71.4129,       4428,  3427.8,   1.4671,  34.7201,2,  34.7201,2,    186.0,2,   185.8,2,  121.43,2,   33.12,2,    0.00,2,    2.36,2,   0.015,2,   0.005,2,   0.0000,2,  -999.0,9,  -999.0,9,-999.0000,9,  -999.00,-999.000,9,-999.000,9,-999.000,9,   1.4669,2,-999.000,9, -999.00,9, -999.00,-999.000,9,-999.000, -999.00,9, -999.00,9, -34.0020,  71.4126,-999.000,-999.000,20090417,       2208
33RR20090320,        I05,      96,          1,          5,          5,2,20090417,       2143,   -34.0022,    71.4129,       4428,  3733.0,   1.2706,  34.7135,2,  34.7136,2,    192.6,2,   192.9,2,  123.77,2,   33.00,2,    0.00,2,    2.34,2,   0.019,2,   0.009,2,   0.0170,2,  -999.0,9,  -999.0,9,-999.0000,9,  -999.00,-999.000,9,-999.000,9,-999.000,9,   1.2706,2,-999.000,9, -999.00,9, -999.00,-999.000,9,-999.000, -999.00,9, -999.00,9, -34.0021,  71.4126,-999.000,-999.000,20090417,       2201
33RR20090320,        I05,      96,          1,          4,          4,2,20090417,       2143,   -34.0022,    71.4129,       4428,  4036.3,   1.0754,  34.7070,2,  34.7069,2,    198.8,2,   199.1,2,  126.11,2,   32.90,2,    0.00,2,    2.33,2,   0.025,2,   0.012,2,   0.0000,2,  -999.0,9,  -999.0,9,-999.0000,9,  -999.00,-999.000,9,-999.000,9,-999.000,9,   1.0756,2,-999.000,9, -999.00,9, -999.00,-999.000,9,-999.000, -999.00,9, -999.00,9, -34.0022,  71.4126,-999.000,-999.000,20090417,       2155
33RR20090320,        I05,      96,          1,          3,          3,2,20090417,       2143,   -34.0022,    71.4129,       4428,  4342.7,   1.0208,  34.7045,2,  34.7044,2,    202.6,2,   201.7,2,  126.95,2,   32.73,2,    0.00,2,    2.33,2,-999.000,9,-999.000,9,-999.0000,9,  -999.0,9,  -999.0,9,-999.0000,9,  -999.00,-999.000,9,-999.000,9,-999.000,9,   1.0210,2,-999.000,9, -999.00,9, -999.00,-999.000,9,-999.000, -999.00,9, -999.00,9, -34.0022,  71.4127,-999.000,-999.000,20090417,       2148
33RR20090320,        I05,      96,          1,          2,          2,2,20090417,       2143,   -34.0022,    71.4129,       4428,  4415.9,   0.9922,  34.7033,2,  34.7030,2,    203.6,2,   203.6,2,  127.59,2,   32.78,2,    0.00,2,    2.33,2,-999.000,9,-999.000,9,-999.0000,9,  -999.0,9,  -999.0,9,-999.0000,9,  -999.00,-999.000,9,-999.000,9,-999.000,9,   0.9918,2,-999.000,9, -999.00,9, -999.00,-999.000,9,-999.000, -999.00,9, -999.00,9, -34.0022,  71.4128,-999.000,-999.000,20090417,       2146
33RR20090320,        I05,      96,          1,          1,          1,2,20090417,       2143,   -34.0022,    71.4129,       4428,  4491.4,   0.9455,  34.7016,2,  34.7000,2,    204.4,2,   204.5,2,  127.79,2,   32.72,2,    0.00,2,    2.32,2,   0.034,2,   0.014,2,   0.0190,2,  2270.0,6,  2373.3,2,   7.6845,2,    20.00,-999.000,9,-999.000,9,-999.000,9,   0.9457,2,-999.000,9, -999.00,9, -999.00,-999.000,9,-999.000, -999.00,9, -999.00,9, -34.0022,  71.4129,-999.000,-999.000,20090417,       2143