BOTTLE,20220814CCHSIOAMB
EXPOCODE,SECT_ID,STNNBR,CASTNO,SAMPNO,BTLNBR,BTLNBR_FLAG_W,DATE,TIME,LATITUDE,LONGITUDE,DEPTH,CTDPRS,CTDTMP,CTDSAL,CTDSAL_FLAG_W,SALNTY,SALNTY_FLAG_W,CTDOXY,CTDOXY_FLAG_W,OXYGEN,OXYGEN_FLAG_W,SILCAT,SILCAT_FLAG_W,NITRAT,NITRAT_FLAG_W,NITRIT,NITRIT_FLAG_W,PHSPHT,PHSPHT_FLAG_W,CFC-11,CFC-11_FLAG_W,CFC-12,CFC-12_FLAG_W,SF6,SF6_FLAG_W,TCARBN,TCARBN_FLAG_W,ALKALI,ALKALI_FLAG_W,PH_TOT,PH_TOT_FLAG_W,PH_TMP,TRITUM,TRITUM_FLAG_W,HELIUM,HELIUM_FLAG_W,DELHE3,DELHE3_FLAG_W,REFTMP,REFTMP_FLAG_W,DELC13,DELC13_FLAG_W,DELC14,DELC14_FLAG_W,C14ERR,NEON,NEON_FLAG_W,NEONER,DOC,DOC_FLAG_W,TDN,TDN_FLAG_W,BTL_LAT,BTL_LON,HELIER,DELHER,BTL_DATE,BTL_TIME
,,,,,,,,,,,METERS,DBAR,ITS-90,PSS-78,,PSS-78,,UMOL/KG,,UMOL/KG,,UMOL/KG,,UMOL/KG,,UMOL/KG,,UMOL/KG,,PMOL/KG,,PMOL/KG,,FMOL/KG,,UMOL/KG,,UMOL/KG,,,,DEG C,TU,,NMOL/KG,,PERCNT,,DEG C,,/MILLE,,/MILLE,,/MILLE,NMOL/KG,,NMOL/KG,UMOL/KG,,UMOL/KG,,,,NMOL/KG,PERCNT,,
33RR20090320,        I05,      69,          1,         36,         36,2,20090409,       0547,   -33.5577,    57.0411,       5864,     4.4,  21.1091,  35.5849,2,  35.5849,2,    224.0,2,   224.0,2,    2.33,2,    0.07,2,    0.00,2,    0.09,2,-999.000,9,-999.000,9,-999.0000,9,  2044.0,6,  2335.6,2,   8.0981,2,    20.00,-999.000,9,-999.000,9,-999.000,9,  21.1075,2,-999.000,9, -999.00,9, -999.00,-999.000,9,-999.000, -999.00,9, -999.00,9, -33.5579,  57.0412,-999.000,-999.000,20090409,       0844
33RR20090320,        I05,      69,          1,         35,         35,2,20090409,       0547,   -33.5577,    57.0411,       5864,    37.4,  19.6440,  35.5431,2,  35.5405,2,    232.7,2,   234.5,2,    2.39,2,    0.07,2,    0.00,2,    0.11,2,-999.000,9,-999.000,9,-999.0000,9,  2049.9,2,  2331.7,2,   8.0838,2,    20.00,-999.000,9,-999.000,9,-999.000,9,  19.6680,2,-999.000,9, -999.00,9, -999.00,-999.000,9,-999.000, -999.00,9, -999.00,9, -33.5579,  57.0412,-999.000,-999.000,20090409,       0842
33RR20090320,        I05,      69,          1,         34,         34,2,20090409,       0547,   -33.5577,    57.0411,       5864,    62.1,  17.7871,  35.5261,2,  35.5237,2,    236.9,2,   235.8,2,    2.65,2,    0.58,2,    0.04,2,    0.18,2,-999.000,9,-999.000,9,-999.0000,9,  2061.5,2,  2330.6,2,   8.0631,2,    20.00,-999.000,9,-999.000,9,-999.000,9,  17.7871,2,-999.000,9, -999.00,9, -999.00,-999.000,9,-999.000, -999.00,9, -999.00,9, -33.5578,  57.0412,-999.000,-999.000,20090409,       0841
33RR20090320,        I05,      69,          1,         33,         33,2,20090409,       0547,   -33.5577,    57.0411,       5864,    87.4,  16.5579,  35.5016,2,  35.4997,2,    227.4,2,   225.6,2,    3.33,2,    2.77,2,    0.05,2,    0.31,2,-999.000,9,-999.000,9,-999.0000,9,  2076.2,2,  2327.7,2,   8.0307,2,    20.00,-999.000,9,-999.000,9,-999.000,9,  16.5610,2,-999.000,9, -999.00,9, -999.00,-999.000,9,-999.000, -999.00,9, -999.00,9, -33.5579,  57.0411,-999.000,-999.000,20090409,       0839
33RR20090320,        I05,      69,          1,         32,         32,2,20090409,       0547,   -33.5577,    57.0411,       5864,   116.8,  15.8371,  35.4756,2,  35.4746,2,    221.8,2,   222.5,2,    3.81,2,    4.15,2,    0.01,2,    0.39,2,-999.000,9,-999.000,9,-999.0000,9,  -999.0,9,  -999.0,9,-999.0000,9,  -999.00,-999.000,9,-999.000,9,-999.000,9,  15.8596,2,-999.000,9, -999.00,9, -999.00,-999.000,9,-999.000, -999.00,9, -999.00,9, -33.5579,  57.0411,-999.000,-999.000,20090409,       0837
33RR20090320,        I05,      69,          1,         31,         31,2,20090409,       0547,   -33.5577,    57.0411,       5864,   167.0,  14.9659,  35.4304,2,  35.4300,2,    219.5,2,   220.9,2,    4.28,2,    5.72,2,    0.01,2,    0.48,2,-999.000,9,-999.000,9,-999.0000,9,  2096.1,2,  2325.6,2,   7.9872,2,    20.00,-999.000,9,-999.000,9,-999.000,9,  14.9627,2,-999.000,9, -999.00,9, -999.00,-999.000,9,-999.000, -999.00,9, -999.00,9, -33.5579,  57.0411,-999.000,-999.000,20090409,       0834
33RR20090320,        I05,      69,          1,         30,         30,2,20090409,       0547,   -33.5577,    57.0411,       5864,   216.5,  14.4432,  35.3870,2,  35.3879,2,    222.0,2,   225.0,2,    4.33,2,    6.26,2,    0.01,2,    0.52,2,-999.000,9,-999.000,9,-999.0000,9,  -999.0,9,  -999.0,9,-999.0000,9,  -999.00,-999.000,9,-999.000,9,-999.000,9,  14.4443,2,-999.000,9, -999.00,9, -999.00,-999.000,9,-999.000, -999.00,9, -999.00,9, -33.5580,  57.0412,-999.000,-999.000,20090409,       0832
33RR20090320,        I05,      69,          1,         29,         29,2,20090409,       0547,   -33.5577,    57.0411,       5864,   267.0,  13.8471,  35.3351,2,  35.3338,2,    225.7,2,   227.4,2,    4.39,2,    7.33,2,    0.00,2,    0.59,2,-999.000,9,-999.000,9,-999.0000,9,  2103.7,2,  2320.9,2,   7.9645,2,    20.00,-999.000,9,-999.000,9,-999.000,9,  13.8448,2,-999.000,9, -999.00,9, -999.00,-999.000,9,-999.000, -999.00,9, -999.00,9, -33.5580,  57.0412,-999.000,-999.000,20090409,       0829
33RR20090320,        I05,      69,          1,         28,         28,2,20090409,       0547,   -33.5577,    57.0411,       5864,   317.2,  13.5315,  35.3076,2,  35.3062,2,    230.8,2,   230.6,2,    4.46,2,    7.76,2,    0.00,2,    0.62,2,-999.000,9,-999.000,9,-999.0000,9,  -999.0,9,  -999.0,9,-999.0000,9,  -999.00,-999.000,9,-999.000,9,-999.000,9,  13.5299,2,-999.000,9, -999.00,9, -999.00,-999.000,9,-999.000, -999.00,9, -999.00,9, -33.5580,  57.0412,-999.000,-999.000,20090409,       0827
33RR20090320,        I05,      69,          1,         27,         27,2,20090409,       0547,   -33.5577,    57.0411,       5864,   366.5,  13.2459,  35.2734,2,  35.2725,2,    230.6,2,   231.2,2,    4.72,2,    8.36,2,    0.00,2,    0.65,2,-999.000,9,-999.000,9,-999.0000,9,  2107.0,2,  2319.6,2,   7.9527,2,    20.00,-999.000,9,-999.000,9,-999.000,9,  13.2476,2,-999.000,9, -999.00,9, -999.00,-999.000,9,-999.000, -999.00,9, -999.00,9, -33.5580,  57.0412,-999.000,-999.000,20090409,       0825
33RR20090320,        I05,      69,          1,         26,         26,2,20090409,       0547,   -33.5577,    57.0411,       5864,   435.4,  12.8446,  35.2125,2,  35.2107,2,    232.5,2,   231.1,2,    4.78,2,    9.32,2,    0.00,2,    0.71,2,-999.000,9,-999.000,9,-999.0000,9,  -999.0,9,  -999.0,9,-999.0000,9,  -999.00,-999.000,9,-999.000,9,-999.000,9,  12.8453,2,-999.000,9, -999.00,9, -999.00,-999.000,9,-999.000, -999.00,9, -999.00,9, -33.5580,  57.0410,-999.000,-999.000,20090409,       0822
33RR20090320,        I05,      69,          1,         25,         25,2,20090409,       0547,   -33.5577,    57.0411,       5864,   536.2,  12.1214,  35.0929,2,  35.0915,2,    230.6,2,   228.2,2,    5.26,2,   11.15,2,    0.00,2,    0.83,2,-999.000,9,-999.000,9,-999.0000,9,  2117.3,2,  2310.2,2,   7.9193,2,    20.00,-999.000,9,-999.000,9,-999.000,9,  12.1242,2,-999.000,9, -999.00,9, -999.00,-999.000,9,-999.000, -999.00,9, -999.00,9, -33.5578,  57.0410,-999.000,-999.000,20090409,       0819
33RR20090320,        I05,      69,          1,         24,         24,2,20090409,       0547,   -33.5577,    57.0411,       5864,   637.0,  11.2709,  34.9645,2,  34.9628,2,    226.5,2,   222.2,2,    6.15,2,   13.52,2,    0.00,2,    0.99,2,-999.000,9,-999.000,9,-999.0000,9,  -999.0,9,  -999.0,9,-999.0000,9,  -999.00,-999.000,9,-999.000,9,-999.000,9,  11.2730,2,-999.000,9, -999.00,9, -999.00,-999.000,9,-999.000, -999.00,9, -999.00,9, -33.5576,  57.0410,-999.000,-999.000,20090409,       0816
33RR20090320,        I05,      69,          1,         23,         23,2,20090409,       0547,   -33.5577,    57.0411,       5864,   735.5,  10.1452,  34.8166,2,  34.8163,2,    221.1,2,   216.7,2,    8.08,2,   16.48,2,    0.00,2,    1.19,2,-999.000,9,-999.000,9,-999.0000,9,  2136.0,2,  2301.2,2,   7.8570,2,    20.00,-999.000,9,-999.000,9,-999.000,9,  10.1437,2,-999.000,9, -999.00,9, -999.00,-999.000,9,-999.000, -999.00,9, -999.00,9, -33.5575,  57.0409,-999.000,-999.000,20090409,       0812
33RR20090320,        I05,      69,          1,         22,         22,2,20090409,       0547,   -33.5577,    57.0411,       5864,   836.7,   8.9115,  34.6776,2,  34.6765,2,    213.8,2,   210.3,2,   11.67,2,   19.99,2,    0.00,2,    1.43,2,-999.000,9,-999.000,9,-999.0000,9,  -999.0,9,  -999.0,9,-999.0000,9,  -999.00,-999.000,9,-999.000,9,-999.000,9,   8.9160,2,-999.000,9, -999.00,9, -999.00,-999.000,9,-999.000, -999.00,9, -999.00,9, -33.5574,  57.0409,-999.000,-999.000,20090409,       0809
33RR20090320,        I05,      69,          1,         21,         21,2,20090409,       0547,   -33.5577,    57.0411,       5864,   937.5,   7.6134,  34.5495,2,  34.5490,2,    206.3,2,   204.2,2,   16.52,2,   23.56,2,    0.00,2,    1.67,2,-999.000,9,-999.000,9,-999.0000,9,  2163.7,2,  2293.9,2,   7.7739,2,    20.00,-999.000,9,-999.000,9,-999.000,9,   7.6135,2,-999.000,9, -999.00,9, -999.00,-999.000,9,-999.000, -999.00,9, -999.00,9, -33.5574,  57.0409,-999.000,-999.000,20090409,       0805
33RR20090320,        I05,      69,          1,         20,         20,2,20090409,       0547,   -33.5577,    57.0411,       5864,  1033.1,   6.7315,  34.4787,2,  34.4795,2,    205.1,2,   204.4,2,   20.13,2,   25.62,2,    0.00,2,    1.82,2,-999.000,9,-999.000,9,-999.0000,9,  -999.0,9,  -999.0,9,-999.0000,9,  -999.00,-999.000,9,-999.000,9,-999.000,9,   6.7393,2,-999.000,9, -999.00,9, -999.00,-999.000,9,-999.000, -999.00,9, -999.00,9, -33.5574,  57.0411,-999.000,-999.000,20090409,       0802
33RR20090320,        I05,      69,          1,         19,         19,2,20090409,       0547,   -33.5577,    57.0411,       5864,  1133.8,   5.6087,  34.4091,2,  34.4084,2,    204.9,2,   204.9,2,   26.26,2,   28.06,2,    0.00,2,    2.00,2,-999.000,9,-999.000,9,-999.0000,9,  2183.5,2,  2297.2,2,   7.7235,2,    20.00,-999.000,9,-999.000,9,-999.000,9,   5.6202,2,-999.000,9, -999.00,9, -999.00,-999.000,9,-999.000, -999.00,9, -999.00,9, -33.5575,  57.0412,-999.000,-999.000,20090409,       0759
33RR20090320,        I05,      69,          1,         18,         18,2,20090409,       0547,   -33.5577,    57.0411,       5864,  1233.7,   4.7671,  34.3862,2,  34.3853,2,    200.1,2,   201.5,2,   32.81,2,   29.97,2,    0.00,2,    2.15,2,-999.000,9,-999.000,9,-999.0000,9,  -999.0,9,  -999.0,9,-999.0000,9,  -999.00,-999.000,9,-999.000,9,-999.000,9,   4.7661,2,-999.000,9, -999.00,9, -999.00,-999.000,9,-999.000, -999.00,9, -999.00,9, -33.5575,  57.0412,-999.000,-999.000,20090409,       0756
33RR20090320,        I05,      69,          1,         17,         17,2,20090409,       0547,   -33.5577,    57.0411,       5864,  1334.8,   4.0639,  34.4072,2,  34.4059,2,    187.7,2,   193.2,2,   43.18,2,   31.66,2,    0.00,2,    2.28,2,-999.000,9,-999.000,9,-999.0000,9,  2213.3,2,  2311.2,2,   7.6784,2,    20.00,-999.000,9,-999.000,9,-999.000,9,   4.0645,2,-999.000,9, -999.00,9, -999.00,-999.000,9,-999.000, -999.00,9, -999.00,9, -33.5577,  57.0412,-999.000,-999.000,20090409,       0753
33RR20090320,        I05,      69,          1,         16,         16,2,20090409,       0547,   -33.5577,    57.0411,       5864,  1474.0,   3.4549,  34.4806,2,  34.4793,2,    180.0,2,   179.9,2,   56.73,2,   32.97,2,    0.00,2,    2.38,2,-999.000,9,-999.000,9,-999.0000,9,  -999.0,9,  -999.0,9,-999.0000,9,  -999.00,-999.000,9,-999.000,9,-999.000,9,   3.4552,2,-999.000,9, -999.00,9, -999.00,-999.000,9,-999.000, -999.00,9, -999.00,9, -33.5579,  57.0412,-999.000,-999.000,20090409,       0749
33RR20090320,        I05,      69,          1,         15,         15,2,20090409,       0547,   -33.5577,    57.0411,       5864,  1676.4,   2.9354,  34.5716,2,-999.0000,5,    177.3,2,   176.5,2,   67.60,2,   33.01,2,    0.00,2,    2.38,2,-999.000,9,-999.000,9,-999.0000,9,  2244.4,2,  2337.0,2,   7.6542,2,    20.00,-999.000,9,-999.000,9,-999.000,9,   2.9350,2,-999.000,9, -999.00,9, -999.00,-999.000,9,-999.000, -999.00,9, -999.00,9, -33.5580,  57.0411,-999.000,-999.000,20090409,       0744
33RR20090320,        I05,      69,          1,         14,         14,2,20090409,       0547,   -33.5577,    57.0411,       5864,  1877.5,   2.6455,  34.6446,2,  34.6425,2,    177.8,2,   180.0,2,   74.47,2,   32.19,2,    0.00,2,    2.32,2,   0.255,2,   0.100,2,   0.0000,2,  -999.0,9,  -999.0,9,-999.0000,9,  -999.00,-999.000,9,-999.000,9,-999.000,9,   2.6476,2,-999.000,9, -999.00,9, -999.00,-999.000,9,-999.000, -999.00,9, -999.00,9, -33.5580,  57.0411,-999.000,-999.000,20090409,       0740
33RR20090320,        I05,      69,          1,         13,         13,2,20090409,       0547,   -33.5577,    57.0411,       5864,  2097.6,   2.4220,  34.6969,2,  34.6954,2,    183.3,2,   183.8,2,   79.65,2,   31.48,2,    0.00,2,    2.28,2,   0.135,2,   0.050,2,   0.0000,2,  2251.3,2,  2349.5,2,   7.6756,2,    20.00,-999.000,9,-999.000,9,-999.000,9,   2.4221,2,-999.000,9, -999.00,9, -999.00,-999.000,9,-999.000, -999.00,9, -999.00,9, -33.5580,  57.0414,-999.000,-999.000,20090409,       0735
33RR20090320,        I05,      69,          1,         12,         12,2,20090409,       0547,   -33.5577,    57.0411,       5864,  2350.6,   2.2523,  34.7270,2,  34.7258,2,    185.0,2,   184.7,2,   87.61,2,   31.26,2,    0.00,2,    2.27,2,   0.065,2,   0.023,2,   0.0680,2,  -999.0,9,  -999.0,9,-999.0000,9,  -999.00,-999.000,9,-999.000,9,-999.000,9,   2.2528,2,-999.000,9, -999.00,9, -999.00,-999.000,9,-999.000, -999.00,9, -999.00,9, -33.5578,  57.0413,-999.000,-999.000,20090409,       0730
33RR20090320,        I05,      69,          1,         11,         11,2,20090409,       0547,   -33.5577,    57.0411,       5864,  2604.1,   2.0852,  34.7463,2,  34.7457,2,    191.7,2,   191.2,2,   90.04,2,   30.65,2,    0.00,2,    2.22,2,   0.067,2,   0.023,2,   0.0000,2,  2254.0,2,  2359.4,2,   7.6917,2,    20.00,-999.000,9,-999.000,9,-999.000,9,   2.0849,2,-999.000,9, -999.00,9, -999.00,-999.000,9,-999.000, -999.00,9, -999.00,9, -33.5577,  57.0412,-999.000,-999.000,20090409,       0724
33RR20090320,        I05,      69,          1,         10,         10,2,20090409,       0547,   -33.5577,    57.0411,       5864,  2855.7,   1.8683,  34.7458,2,  34.7445,2,    192.4,2,   192.9,2,   97.18,2,   30.98,2,    0.00,2,    2.25,2,   0.060,6,   0.020,6,   0.0000,6,  -999.0,9,  -999.0,9,-999.0000,9,  -999.00,-999.000,9,-999.000,9,-999.000,9,   1.8684,2,-999.000,9, -999.00,9, -999.00,-999.000,9,-999.000, -999.00,9, -999.00,9, -33.5577,  57.0414,-999.000,-999.000,20090409,       0719
33RR20090320,        I05,      69,          1,          9,          9,2,20090409,       0547,   -33.5577,    57.0411,       5864,  3122.9,   1.6370,  34.7376,2,  34.7362,2,    193.9,2,   193.2,2,  106.48,2,   31.57,2,    0.00,2,    2.29,2,   0.060,2,   0.020,2,   0.0000,2,  2264.1,2,  2368.9,2,   7.6884,2,    20.00,-999.000,9,-999.000,9,-999.000,9,   1.6371,2,-999.000,9, -999.00,9, -999.00,-999.000,9,-999.000, -999.00,9, -999.00,9, -33.5577,  57.0415,-999.000,-999.000,20090409,       0713
33RR20090320,        I05,      69,          1,          8,          8,2,20090409,       0547,   -33.5577,    57.0411,       5864,  3426.6,   1.4123,  34.7313,2,  34.7304,2,    199.2,2,   199.6,2,  109.79,2,   31.47,2,    0.00,2,    2.29,2,   0.087,2,   0.031,2,   0.0110,2,  -999.0,9,  -999.0,9,-999.0000,9,  -999.00,-999.000,9,-999.000,9,-999.000,9,   1.4137,2,-999.000,9, -999.00,9, -999.00,-999.000,9,-999.000, -999.00,9, -999.00,9, -33.5577,  57.0412,-999.000,-999.000,20090409,       0707
33RR20090320,        I05,      69,          1,          7,          7,2,20090409,       0547,   -33.5577,    57.0411,       5864,  3764.5,   1.0071,  34.7141,2,  34.7123,2,    209.0,2,   208.7,2,  117.18,2,   31.73,2,    0.00,2,    2.30,2,   0.143,2,   0.054,2,   0.0000,2,  2258.8,2,  2362.4,2,   7.6844,2,    20.00,-999.000,9,-999.000,9,-999.000,9,   1.0070,2,-999.000,9, -999.00,9, -999.00,-999.000,9,-999.000, -999.00,9, -999.00,9, -33.5577,  57.0412,-999.000,-999.000,20090409,       0659
33RR20090320,        I05,      69,          1,          6,          6,2,20090409,       0547,   -33.5577,    57.0411,       5864,  4172.0,   0.7462,  34.7002,2,  34.6993,2,    213.7,2,   213.8,2,  123.74,2,   32.06,2,    0.00,2,    2.32,2,   0.189,2,   0.068,2,   0.0000,2,  2258.5,2,  2361.3,2,   7.6802,2,    20.00,-999.000,9,-999.000,9,-999.000,9,   0.7467,2,-999.000,9, -999.00,9, -999.00,-999.000,9,-999.000, -999.00,9, -999.00,9, -33.5578,  57.0409,-999.000,-999.000,20090409,       0651
33RR20090320,        I05,      69,          1,          5,          5,2,20090409,       0547,   -33.5577,    57.0411,       5864,  4580.2,   0.7118,  34.6961,2,  34.6952,2,    215.2,2,   215.2,2,  126.21,2,   32.17,2,    0.00,2,    2.33,2,   0.194,2,   0.074,2,   0.0000,2,  2257.8,2,  2361.8,2,   7.6797,2,    20.00,-999.000,9,-999.000,9,-999.000,9,   0.7117,2,-999.000,9, -999.00,9, -999.00,-999.000,9,-999.000, -999.00,9, -999.00,9, -33.5576,  57.0412,-999.000,-999.000,20090409,       0643
33RR20090320,        I05,      69,          1,          4,          4,2,20090409,       0547,   -33.5577,    57.0411,       5864,  4987.0,   0.6608,  34.6913,2,  34.6903,2,    216.9,2,   216.5,2,  129.11,2,   32.33,2,    0.00,2,    2.35,2,   0.204,2,   0.077,2,   0.0000,2,  2257.8,2,  2362.5,2,   7.6783,2,    20.00,-999.000,9,-999.000,9,-999.000,9,   0.6605,2,-999.000,9, -999.00,9, -999.00,-999.000,9,-999.000, -999.00,9, -999.00,9, -33.5577,  57.0410,-999.000,-999.000,20090409,       0635
33RR20090320,        I05,      69,          1,          3,          3,2,20090409,       0547,   -33.5577,    57.0411,       5864,  5397.4,   0.6858,  34.6898,2,  34.6887,2,    217.1,2,   217.0,2,  129.65,2,   32.38,2,    0.00,2,    2.35,2,   0.208,2,   0.078,2,   0.0290,2,  2257.9,2,  2361.8,2,   7.6776,2,    20.00,-999.000,9,-999.000,9,-999.000,9,   0.6863,2,-999.000,9, -999.00,9, -999.00,-999.000,9,-999.000, -999.00,9, -999.00,9, -33.5578,  57.0414,-999.000,-999.000,20090409,       0623
33RR20090320,        I05,      69,          1,          2,          2,2,20090409,       0547,   -33.5577,    57.0411,       5864,  5678.2,   0.7150,  34.6891,2,  34.6883,2,    217.1,2,   217.0,2,  129.74,2,   32.32,2,    0.00,2,    2.35,2,   0.211,2,   0.082,2,   0.0000,2,  2258.5,2,  2362.3,2,   7.6781,2,    20.00,-999.000,9,-999.000,9,-999.000,9,   0.7153,2,-999.000,9, -999.00,9, -999.00,-999.000,9,-999.000, -999.00,9, -999.00,9, -33.5580,  57.0412,-999.000,-999.000,20090409,       0608
33RR20090320,        I05,      69,          1,          1,          1,2,20090409,       0547,   -33.5577,    57.0411,       5864,  5960.1,   0.7444,  34.6884,2,  34.6879,2,    217.3,2,   217.0,2,  130.05,2,   32.37,2,    0.00,2,    2.36,2,   0.209,6,   0.079,6,   0.0000,6,  2258.8,2,  2360.6,2,   7.6798,2,    20.00,-999.000,9,-999.000,9,-999.000,9,   0.7449,2,-999.000,9, -999.00,9, -999.00,-999.000,9,-999.000, -999.00,9, -999.00,9, -33.5577,  57.0411,-999.000,-999.000,20090409,       0547