BOTTLE,20220814CCHSIOAMB
EXPOCODE,SECT_ID,STNNBR,CASTNO,SAMPNO,BTLNBR,BTLNBR_FLAG_W,DATE,TIME,LATITUDE,LONGITUDE,DEPTH,CTDPRS,CTDTMP,CTDSAL,CTDSAL_FLAG_W,SALNTY,SALNTY_FLAG_W,CTDOXY,CTDOXY_FLAG_W,OXYGEN,OXYGEN_FLAG_W,SILCAT,SILCAT_FLAG_W,NITRAT,NITRAT_FLAG_W,NITRIT,NITRIT_FLAG_W,PHSPHT,PHSPHT_FLAG_W,CFC-11,CFC-11_FLAG_W,CFC-12,CFC-12_FLAG_W,SF6,SF6_FLAG_W,TCARBN,TCARBN_FLAG_W,ALKALI,ALKALI_FLAG_W,PH_TOT,PH_TOT_FLAG_W,PH_TMP,TRITUM,TRITUM_FLAG_W,HELIUM,HELIUM_FLAG_W,DELHE3,DELHE3_FLAG_W,REFTMP,REFTMP_FLAG_W,DELC13,DELC13_FLAG_W,DELC14,DELC14_FLAG_W,C14ERR,NEON,NEON_FLAG_W,NEONER,DOC,DOC_FLAG_W,TDN,TDN_FLAG_W,BTL_LAT,BTL_LON,HELIER,DELHER,BTL_DATE,BTL_TIME
,,,,,,,,,,,METERS,DBAR,ITS-90,PSS-78,,PSS-78,,UMOL/KG,,UMOL/KG,,UMOL/KG,,UMOL/KG,,UMOL/KG,,UMOL/KG,,PMOL/KG,,PMOL/KG,,FMOL/KG,,UMOL/KG,,UMOL/KG,,,,DEG C,TU,,NMOL/KG,,PERCNT,,DEG C,,/MILLE,,/MILLE,,/MILLE,NMOL/KG,,NMOL/KG,UMOL/KG,,UMOL/KG,,,,NMOL/KG,PERCNT,,
33RR20090320,        I05,     158,          1,         36,         36,2,20090503,       1253,   -32.6941,   100.3038,       3086,     3.8,  18.9425,  36.0066,2,  36.0064,2,    232.0,2,   232.5,2,    1.29,2,    0.06,2,    0.00,2,    0.12,2,-999.000,9,-999.000,9,-999.0000,9,  2081.3,6,  2364.5,2,   8.0829,2,    20.00,-999.000,9,-999.000,9,-999.000,9,  18.9435,2,-999.000,9, -999.00,9, -999.00,-999.000,9,-999.000, -999.00,9, -999.00,9, -32.6942, 100.3036,-999.000,-999.000,20090503,       1426
33RR20090320,        I05,     158,          1,         35,         35,2,20090503,       1253,   -32.6941,   100.3038,       3086,    24.4,  18.9144,  36.0064,2,  36.0067,2,    232.8,2,   232.0,2,    1.27,2,    0.06,2,    0.00,2,    0.11,2,-999.000,9,-999.000,9,-999.0000,9,  2080.9,2,  2362.6,2,   8.0839,2,    20.00,-999.000,9,-999.000,9,-999.000,9,  18.9133,2,-999.000,9, -999.00,9, -999.00,-999.000,9,-999.000, -999.00,9, -999.00,9, -32.6942, 100.3036,-999.000,-999.000,20090503,       1425
33RR20090320,        I05,     158,          1,         34,         34,2,20090503,       1253,   -32.6941,   100.3038,       3086,    50.2,  18.8826,  36.0030,2,  36.0027,2,    232.4,2,   232.2,2,    1.25,2,    0.00,2,    0.00,2,    0.11,2,-999.000,9,-999.000,9,-999.0000,9,  2080.7,2,  2363.2,2,   8.0835,2,    20.00,-999.000,9,-999.000,9,-999.000,9,  18.8810,2,-999.000,9, -999.00,9, -999.00,-999.000,9,-999.000, -999.00,9, -999.00,9, -32.6943, 100.3036,-999.000,-999.000,20090503,       1424
33RR20090320,        I05,     158,          1,         33,         33,2,20090503,       1253,   -32.6941,   100.3038,       3086,    74.4,  18.6770,  35.9759,2,  35.9644,2,    235.1,2,   235.3,2,    1.04,2,    0.00,2,    0.00,2,    0.11,2,-999.000,9,-999.000,9,-999.0000,9,  2082.7,2,  2360.3,2,   8.0786,2,    20.00,-999.000,9,-999.000,9,-999.000,9,  18.7054,2,-999.000,9, -999.00,9, -999.00,-999.000,9,-999.000, -999.00,9, -999.00,9, -32.6942, 100.3035,-999.000,-999.000,20090503,       1422
33RR20090320,        I05,     158,          1,         32,         32,2,20090503,       1253,   -32.6941,   100.3038,       3086,   100.3,  15.5732,  35.6117,2,  35.6134,2,    253.5,2,   253.7,2,    1.02,2,    0.20,2,    0.02,2,    0.19,2,-999.000,9,-999.000,9,-999.0000,9,  -999.0,9,  -999.0,9,-999.0000,9,  -999.00,-999.000,9,-999.000,9,-999.000,9,  15.5565,2,-999.000,9, -999.00,9, -999.00,-999.000,9,-999.000, -999.00,9, -999.00,9, -32.6943, 100.3035,-999.000,-999.000,20090503,       1420
33RR20090320,        I05,     158,          1,         31,         31,2,20090503,       1253,   -32.6941,   100.3038,       3086,   124.8,  14.7286,  35.5512,4,  35.5734,2,    239.5,2,   238.6,2,    1.19,2,    2.08,2,    0.18,2,    0.30,2,-999.000,9,-999.000,9,-999.0000,9,  -999.0,9,  -999.0,9,-999.0000,9,  -999.00,-999.000,9,-999.000,9,-999.000,9,  14.8085,2,-999.000,9, -999.00,9, -999.00,-999.000,9,-999.000, -999.00,9, -999.00,9, -32.6943, 100.3035,-999.000,-999.000,20090503,       1419
33RR20090320,        I05,     158,          1,         30,         30,2,20090503,       1253,   -32.6941,   100.3038,       3086,   148.5,  14.1171,  35.4631,2,  35.4683,2,    234.8,2,   235.8,2,    1.35,2,    4.14,2,    0.01,2,    0.40,2,-999.000,9,-999.000,9,-999.0000,9,  2104.3,2,  2329.2,2,   7.9893,2,    20.00,-999.000,9,-999.000,9,-999.000,9,  14.1069,2,-999.000,9, -999.00,9, -999.00,-999.000,9,-999.000, -999.00,9, -999.00,9, -32.6943, 100.3035,-999.000,-999.000,20090503,       1418
33RR20090320,        I05,     158,          1,         29,         29,2,20090503,       1253,   -32.6941,   100.3038,       3086,   173.3,  13.5911,  35.3734,2,  35.3663,2,    235.9,2,   236.6,2,    1.33,2,    5.21,2,    0.00,2,    0.47,2,-999.000,9,-999.000,9,-999.0000,9,  -999.0,9,  -999.0,9,-999.0000,9,  -999.00,-999.000,9,-999.000,9,-999.000,9,  13.5765,2,-999.000,9, -999.00,9, -999.00,-999.000,9,-999.000, -999.00,9, -999.00,9, -32.6943, 100.3034,-999.000,-999.000,20090503,       1416
33RR20090320,        I05,     158,          1,         28,         28,2,20090503,       1253,   -32.6941,   100.3038,       3086,   198.5,  13.1896,  35.3017,2,  35.3053,2,    238.1,2,   237.3,2,    1.48,2,    5.86,2,    0.00,2,    0.51,2,-999.000,9,-999.000,9,-999.0000,9,  -999.0,9,  -999.0,9,-999.0000,9,  -999.00,-999.000,9,-999.000,9,-999.000,9,  13.1960,2,-999.000,9, -999.00,9, -999.00,-999.000,9,-999.000, -999.00,9, -999.00,9, -32.6943, 100.3034,-999.000,-999.000,20090503,       1415
33RR20090320,        I05,     158,          1,         27,         27,2,20090503,       1253,   -32.6941,   100.3038,       3086,   225.6,  12.7942,  35.2314,2,  35.2361,2,    240.1,2,   239.4,2,    1.65,2,    6.61,2,    0.00,2,    0.56,2,-999.000,9,-999.000,9,-999.0000,9,  -999.0,9,  -999.0,9,-999.0000,9,  -999.00,-999.000,9,-999.000,9,-999.000,9,  12.7962,2,-999.000,9, -999.00,9, -999.00,-999.000,9,-999.000, -999.00,9, -999.00,9, -32.6943, 100.3034,-999.000,-999.000,20090503,       1414
33RR20090320,        I05,     158,          1,         26,         26,2,20090503,       1253,   -32.6941,   100.3038,       3086,   250.3,  12.5699,  35.1903,2,  35.1936,2,    240.6,2,   240.3,2,    1.63,2,    7.09,2,    0.00,2,    0.60,2,-999.000,9,-999.000,9,-999.0000,9,  2112.2,2,  2316.8,2,   7.9494,2,    20.00,-999.000,9,-999.000,9,-999.000,9,  12.5682,2,-999.000,9, -999.00,9, -999.00,-999.000,9,-999.000, -999.00,9, -999.00,9, -32.6943, 100.3034,-999.000,-999.000,20090503,       1413
33RR20090320,        I05,     158,          1,         25,         25,2,20090503,       1253,   -32.6941,   100.3038,       3086,   300.4,  11.7484,  35.0443,2,  35.0442,2,    244.0,2,   243.0,2,    1.97,2,    8.91,2,    0.00,2,    0.70,2,-999.000,9,-999.000,9,-999.0000,9,  -999.0,9,  -999.0,9,-999.0000,9,  -999.00,-999.000,9,-999.000,9,-999.000,9,  11.7484,2,-999.000,9, -999.00,9, -999.00,-999.000,9,-999.000, -999.00,9, -999.00,9, -32.6943, 100.3035,-999.000,-999.000,20090503,       1411
33RR20090320,        I05,     158,          1,         24,         24,2,20090503,       1253,   -32.6941,   100.3038,       3086,   350.0,  10.9515,  34.9064,2,  34.9064,2,    244.7,2,   245.4,2,    2.49,2,   10.79,2,    0.00,2,    0.82,2,-999.000,9,-999.000,9,-999.0000,9,  -999.0,9,  -999.0,9,-999.0000,9,  -999.00,-999.000,9,-999.000,9,-999.000,9,  10.9515,2,-999.000,9, -999.00,9, -999.00,-999.000,9,-999.000, -999.00,9, -999.00,9, -32.6942, 100.3036,-999.000,-999.000,20090503,       1409
33RR20090320,        I05,     158,          1,         23,         23,2,20090503,       1253,   -32.6941,   100.3038,       3086,   399.8,  10.2929,  34.8067,2,  34.8069,2,    243.2,2,   243.3,2,    3.19,2,   12.94,2,    0.00,2,    0.95,2,-999.000,9,-999.000,9,-999.0000,9,  2120.6,2,  2297.8,2,   7.8837,2,    20.00,-999.000,9,-999.000,9,-999.000,9,  10.2914,2,-999.000,9, -999.00,9, -999.00,-999.000,9,-999.000, -999.00,9, -999.00,9, -32.6942, 100.3037,-999.000,-999.000,20090503,       1408
33RR20090320,        I05,     158,          1,         22,         22,2,20090503,       1253,   -32.6941,   100.3038,       3086,   448.7,   9.9169,  34.7607,2,  34.7612,2,    241.5,2,   242.0,2,    3.53,2,   14.12,2,    0.00,2,    1.02,2,-999.000,9,-999.000,9,-999.0000,9,  -999.0,9,  -999.0,9,-999.0000,9,  -999.00,-999.000,9,-999.000,9,-999.000,9,   9.9177,2,-999.000,9, -999.00,9, -999.00,-999.000,9,-999.000, -999.00,9, -999.00,9, -32.6942, 100.3037,-999.000,-999.000,20090503,       1406
33RR20090320,        I05,     158,          1,         21,         21,2,20090503,       1253,   -32.6941,   100.3038,       3086,   500.2,   9.6159,  34.7225,2,  34.7219,2,    239.2,2,   240.0,2,    4.05,2,   15.24,2,    0.00,2,    1.09,2,-999.000,9,-999.000,9,-999.0000,9,  -999.0,9,  -999.0,9,-999.0000,9,  -999.00,-999.000,9,-999.000,9,-999.000,9,   9.6136,2,-999.000,9, -999.00,9, -999.00,-999.000,9,-999.000, -999.00,9, -999.00,9, -32.6942, 100.3037,-999.000,-999.000,20090503,       1404
33RR20090320,        I05,     158,          1,         20,         20,2,20090503,       1253,   -32.6941,   100.3038,       3086,   599.0,   9.1237,  34.6565,2,  34.6570,2,    238.1,2,   239.0,2,    4.75,2,   16.74,2,    0.00,2,    1.18,2,-999.000,9,-999.000,9,-999.0000,9,  -999.0,9,  -999.0,9,-999.0000,9,  -999.00,-999.000,9,-999.000,9,-999.000,9,   9.1235,2,-999.000,9, -999.00,9, -999.00,-999.000,9,-999.000, -999.00,9, -999.00,9, -32.6942, 100.3037,-999.000,-999.000,20090503,       1402
33RR20090320,        I05,     158,          1,         19,         19,2,20090503,       1253,   -32.6941,   100.3038,       3086,   699.8,   8.2427,  34.5544,2,  34.5545,2,    224.4,2,   222.6,2,    8.18,2,   20.56,2,    0.00,2,    1.44,2,-999.000,9,-999.000,9,-999.0000,9,  2144.9,2,  2287.3,2,   7.8062,2,    20.00,-999.000,9,-999.000,9,-999.000,9,   8.2439,2,-999.000,9, -999.00,9, -999.00,-999.000,9,-999.000, -999.00,9, -999.00,9, -32.6942, 100.3037,-999.000,-999.000,20090503,       1359
33RR20090320,        I05,     158,          1,         18,         18,2,20090503,       1253,   -32.6941,   100.3038,       3086,   801.0,   7.1004,  34.4696,2,  34.4715,2,    203.3,2,   202.6,2,   15.06,2,   25.00,2,    0.00,2,    1.73,2,-999.000,9,-999.000,9,-999.0000,9,  -999.0,9,  -999.0,9,-999.0000,9,  -999.00,-999.000,9,-999.000,9,-999.000,9,   7.1143,2,-999.000,9, -999.00,9, -999.00,-999.000,9,-999.000, -999.00,9, -999.00,9, -32.6942, 100.3036,-999.000,-999.000,20090503,       1355
33RR20090320,        I05,     158,          1,         17,         17,2,20090503,       1253,   -32.6941,   100.3038,       3086,   899.9,   5.5719,  34.3933,2,  34.3955,2,    194.2,2,   195.9,2,   25.24,2,   28.79,2,    0.00,2,    2.01,2,-999.000,9,-999.000,9,-999.0000,9,  -999.0,9,  -999.0,9,-999.0000,9,  -999.00,-999.000,9,-999.000,9,-999.000,9,   5.5793,2,-999.000,9, -999.00,9, -999.00,-999.000,9,-999.000, -999.00,9, -999.00,9, -32.6942, 100.3036,-999.000,-999.000,20090503,       1353
33RR20090320,        I05,     158,          1,         16,         16,2,20090503,       1253,   -32.6941,   100.3038,       3086,  1001.3,   4.4859,  34.3888,2,  34.3874,2,    186.7,2,   188.3,2,   38.21,2,   31.40,2,    0.00,2,    2.22,2,-999.000,9,-999.000,9,-999.0000,9,  -999.0,9,  -999.0,9,-999.0000,9,  -999.00,-999.000,9,-999.000,9,-999.000,9,   4.4913,2,-999.000,9, -999.00,9, -999.00,-999.000,9,-999.000, -999.00,9, -999.00,9, -32.6942, 100.3035,-999.000,-999.000,20090503,       1349
33RR20090320,        I05,     158,          1,         15,         15,2,20090503,       1253,   -32.6941,   100.3038,       3086,  1100.8,   4.0307,  34.4225,2,  34.4236,2,    176.1,2,   175.7,2,   49.79,2,   32.97,2,    0.00,2,    2.35,2,-999.000,9,-999.000,9,-999.0000,9,  2225.0,2,  2316.0,2,   7.6550,2,    20.00,-999.000,9,-999.000,9,-999.000,9,   4.0380,2,-999.000,9, -999.00,9, -999.00,-999.000,9,-999.000, -999.00,9, -999.00,9, -32.6942, 100.3035,-999.000,-999.000,20090503,       1346
33RR20090320,        I05,     158,          1,         14,         14,2,20090503,       1253,   -32.6941,   100.3038,       3086,  1201.3,   3.6569,  34.4715,2,  34.4713,2,    163.1,2,   164.3,2,   60.84,2,   34.06,2,    0.00,2,    2.45,2,-999.000,9,-999.000,9,-999.0000,9,  -999.0,9,  -999.0,9,-999.0000,9,  -999.00,-999.000,9,-999.000,9,-999.000,9,   3.6567,2,-999.000,9, -999.00,9, -999.00,-999.000,9,-999.000, -999.00,9, -999.00,9, -32.6942, 100.3036,-999.000,-999.000,20090503,       1343
33RR20090320,        I05,     158,          1,         13,         13,2,20090503,       1253,   -32.6941,   100.3038,       3086,  1302.5,   3.3949,  34.5106,2,  34.5108,2,    157.7,2,   158.2,2,   68.04,2,   34.55,2,    0.00,2,    2.49,2,-999.000,9,-999.000,9,-999.0000,9,  -999.0,9,  -999.0,9,-999.0000,9,  -999.00,-999.000,9,-999.000,9,-999.000,9,   3.3922,2,-999.000,9, -999.00,9, -999.00,-999.000,9,-999.000, -999.00,9, -999.00,9, -32.6941, 100.3037,-999.000,-999.000,20090503,       1340
33RR20090320,        I05,     158,          1,         12,         12,2,20090503,       1253,   -32.6941,   100.3038,       3086,  1400.9,   3.1801,  34.5498,2,  34.5497,2,    154.9,2,   155.0,2,   74.14,2,   34.64,2,    0.00,2,    2.50,2,-999.000,9,-999.000,9,-999.0000,9,  -999.0,9,  -999.0,9,-999.0000,9,  -999.00,-999.000,9,-999.000,9,-999.000,9,   3.1798,2,-999.000,9, -999.00,9, -999.00,-999.000,9,-999.000, -999.00,9, -999.00,9, -32.6942, 100.3037,-999.000,-999.000,20090503,       1337
33RR20090320,        I05,     158,          1,         11,         11,2,20090503,       1253,   -32.6941,   100.3038,       3086,  1501.7,   3.0379,  34.5883,2,  34.5882,2,    152.5,2,   153.0,2,   79.51,2,   34.59,2,    0.00,2,    2.50,2,-999.000,9,-999.000,9,-999.0000,9,  -999.0,9,  -999.0,9,-999.0000,9,  -999.00,-999.000,9,-999.000,9,-999.000,9,   3.0374,2,-999.000,9, -999.00,9, -999.00,-999.000,9,-999.000, -999.00,9, -999.00,9, -32.6942, 100.3036,-999.000,-999.000,20090503,       1333
33RR20090320,        I05,     158,          1,         10,         10,2,20090503,       1253,   -32.6941,   100.3038,       3086,  1596.1,   2.9325,  34.6166,2,  34.6169,2,    154.7,2,   154.1,2,   82.84,2,   34.25,2,    0.00,2,    2.48,2,-999.000,9,-999.000,9,-999.0000,9,  -999.0,9,  -999.0,9,-999.0000,9,  -999.00,-999.000,9,-999.000,9,-999.000,9,   2.9306,2,-999.000,9, -999.00,9, -999.00,-999.000,9,-999.000, -999.00,9, -999.00,9, -32.6941, 100.3035,-999.000,-999.000,20090503,       1330
33RR20090320,        I05,     158,          1,          9,          9,2,20090503,       1253,   -32.6941,   100.3038,       3086,  1698.4,   2.7896,  34.6433,2,  34.6437,2,    156.3,2,   155.9,2,   86.16,2,   34.03,2,    0.00,2,    2.45,2,-999.000,9,-999.000,9,-999.0000,9,  -999.0,9,  -999.0,9,-999.0000,9,  -999.00,-999.000,9,-999.000,9,-999.000,9,   2.7898,2,-999.000,9, -999.00,9, -999.00,-999.000,9,-999.000, -999.00,9, -999.00,9, -32.6941, 100.3035,-999.000,-999.000,20090503,       1327
33RR20090320,        I05,     158,          1,          8,          8,2,20090503,       1253,   -32.6941,   100.3038,       3086,  1798.8,   2.6664,  34.6645,2,  34.6649,2,    159.4,2,   158.9,2,   88.94,2,   33.75,2,    0.00,2,    2.43,2,-999.000,9,-999.000,9,-999.0000,9,  2269.6,2,  2356.8,2,   7.6397,2,    20.00,-999.000,9,-999.000,9,-999.000,9,   2.6662,2,-999.000,9, -999.00,9, -999.00,-999.000,9,-999.000, -999.00,9, -999.00,9, -32.6941, 100.3035,-999.000,-999.000,20090503,       1324
33RR20090320,        I05,     158,          1,          7,          7,2,20090503,       1253,   -32.6941,   100.3038,       3086,  1999.3,   2.4278,  34.6994,2,  34.6991,2,    168.3,2,   169.3,2,   89.66,2,   32.66,2,    0.00,2,    2.33,2,-999.000,9,-999.000,9,-999.0000,9,  -999.0,9,  -999.0,9,-999.0000,9,  -999.00,-999.000,9,-999.000,9,-999.000,9,   2.4264,2,-999.000,9, -999.00,9, -999.00,-999.000,9,-999.000, -999.00,9, -999.00,9, -32.6941, 100.3035,-999.000,-999.000,20090503,       1320
33RR20090320,        I05,     158,          1,          6,          6,2,20090503,       1253,   -32.6941,   100.3038,       3086,  2201.7,   2.2261,  34.7221,2,  34.7231,2,    178.9,2,   179.3,2,   89.62,2,   31.73,2,    0.00,2,    2.27,2,-999.000,9,-999.000,9,-999.0000,9,  -999.0,9,  -999.0,9,-999.0000,9,  -999.00,-999.000,9,-999.000,9,-999.000,9,   2.2259,2,-999.000,9, -999.00,9, -999.00,-999.000,9,-999.000, -999.00,9, -999.00,9, -32.6941, 100.3037,-999.000,-999.000,20090503,       1315
33RR20090320,        I05,     158,          1,          5,          5,2,20090503,       1253,   -32.6941,   100.3038,       3086,  2397.0,   2.0454,  34.7363,2,  34.7371,2,    186.4,2,   186.3,2,   91.45,2,   31.12,2,    0.00,2,    2.21,2,-999.000,9,-999.000,9,-999.0000,9,  2257.6,2,  2357.0,2,   7.6787,2,    20.00,-999.000,9,-999.000,9,-999.000,9,   2.0440,2,-999.000,9, -999.00,9, -999.00,-999.000,9,-999.000, -999.00,9, -999.00,9, -32.6942, 100.3037,-999.000,-999.000,20090503,       1310
33RR20090320,        I05,     158,          1,          4,          4,2,20090503,       1253,   -32.6941,   100.3038,       3086,  2597.0,   1.8667,  34.7409,2,  34.7416,2,    191.3,2,   191.4,2,   94.98,2,   30.90,2,    0.00,2,    2.19,2,-999.000,9,-999.000,9,-999.0000,9,  -999.0,9,  -999.0,9,-999.0000,9,  -999.00,-999.000,9,-999.000,9,-999.000,9,   1.8666,2,-999.000,9, -999.00,9, -999.00,-999.000,9,-999.000, -999.00,9, -999.00,9, -32.6942, 100.3038,-999.000,-999.000,20090503,       1306
33RR20090320,        I05,     158,          1,          3,          3,2,20090503,       1253,   -32.6941,   100.3038,       3086,  2798.9,   1.7240,  34.7403,2,  34.7415,2,    194.1,2,   194.7,2,   98.70,2,   30.90,2,    0.00,2,    2.19,2,-999.000,9,-999.000,9,-999.0000,9,  -999.0,9,  -999.0,9,-999.0000,9,  -999.00,-999.000,9,-999.000,9,-999.000,9,   1.7239,2,-999.000,9, -999.00,9, -999.00,-999.000,9,-999.000, -999.00,9, -999.00,9, -32.6941, 100.3037,-999.000,-999.000,20090503,       1301
33RR20090320,        I05,     158,          1,          2,          2,2,20090503,       1253,   -32.6941,   100.3038,       3086,  2993.2,   1.5204,  34.7358,2,  34.7366,2,    197.5,2,   197.6,2,  104.10,2,   31.11,2,    0.00,2,    2.21,2,-999.000,9,-999.000,9,-999.0000,9,  -999.0,9,  -999.0,9,-999.0000,9,  -999.00,-999.000,9,-999.000,9,-999.000,9,   1.5208,2,-999.000,9, -999.00,9, -999.00,-999.000,9,-999.000, -999.00,9, -999.00,9, -32.6940, 100.3037,-999.000,-999.000,20090503,       1257
33RR20090320,        I05,     158,          1,          1,          1,2,20090503,       1253,   -32.6941,   100.3038,       3086,  3114.0,   1.4289,  34.7325,2,  34.7329,2,    199.0,2,   198.9,2,  106.70,2,   31.16,2,    0.00,2,    2.21,2,-999.000,9,-999.000,9,-999.0000,9,  2260.8,6,  2362.8,2,   7.6862,2,    20.00,-999.000,9,-999.000,9,-999.000,9,   1.4288,2,-999.000,9, -999.00,9, -999.00,-999.000,9,-999.000, -999.00,9, -999.00,9, -32.6940, 100.3038,-999.000,-999.000,20090503,       1253