BOTTLE,20220814CCHSIOAMB
EXPOCODE,SECT_ID,STNNBR,CASTNO,SAMPNO,BTLNBR,BTLNBR_FLAG_W,DATE,TIME,LATITUDE,LONGITUDE,DEPTH,CTDPRS,CTDTMP,CTDSAL,CTDSAL_FLAG_W,SALNTY,SALNTY_FLAG_W,CTDOXY,CTDOXY_FLAG_W,OXYGEN,OXYGEN_FLAG_W,SILCAT,SILCAT_FLAG_W,NITRAT,NITRAT_FLAG_W,NITRIT,NITRIT_FLAG_W,PHSPHT,PHSPHT_FLAG_W,CFC-11,CFC-11_FLAG_W,CFC-12,CFC-12_FLAG_W,SF6,SF6_FLAG_W,TCARBN,TCARBN_FLAG_W,ALKALI,ALKALI_FLAG_W,PH_TOT,PH_TOT_FLAG_W,PH_TMP,TRITUM,TRITUM_FLAG_W,HELIUM,HELIUM_FLAG_W,DELHE3,DELHE3_FLAG_W,REFTMP,REFTMP_FLAG_W,DELC13,DELC13_FLAG_W,DELC14,DELC14_FLAG_W,C14ERR,NEON,NEON_FLAG_W,NEONER,DOC,DOC_FLAG_W,TDN,TDN_FLAG_W,BTL_LAT,BTL_LON,HELIER,DELHER,BTL_DATE,BTL_TIME
,,,,,,,,,,,METERS,DBAR,ITS-90,PSS-78,,PSS-78,,UMOL/KG,,UMOL/KG,,UMOL/KG,,UMOL/KG,,UMOL/KG,,UMOL/KG,,PMOL/KG,,PMOL/KG,,FMOL/KG,,UMOL/KG,,UMOL/KG,,,,DEG C,TU,,NMOL/KG,,PERCNT,,DEG C,,/MILLE,,/MILLE,,/MILLE,NMOL/KG,,NMOL/KG,UMOL/KG,,UMOL/KG,,,,NMOL/KG,PERCNT,,
33RR20090320,        I05,     180,          1,         36,         36,2,20090508,       2202,   -31.4986,   108.9886,       5198,     7.0,  19.6614,  35.8714,2,  35.8708,2,    226.9,2,   229.3,2,    1.53,2,    0.14,2,    0.00,2,    0.09,2,   2.185,6,   1.309,6,   1.1660,6,  2059.4,6,  2352.4,2,   8.1023,2,    20.00,-999.000,9,-999.000,9,-999.000,9,  19.6633,2,-999.000,9, -999.00,9, -999.00,-999.000,9,-999.000, -999.00,9, -999.00,9, -31.4985, 108.9887,-999.000,-999.000,20090509,       0005
33RR20090320,        I05,     180,          1,         35,         35,2,20090508,       2202,   -31.4986,   108.9886,       5198,    42.1,  19.4647,  35.8721,2,  35.8720,2,    230.0,2,   229.0,2,    1.50,2,    0.09,2,    0.00,2,    0.09,2,-999.000,9,-999.000,9,-999.0000,9,  2059.6,2,  2353.4,2,   8.1013,2,    20.00,-999.000,9,-999.000,9,-999.000,9,  19.4691,2,-999.000,9, -999.00,9, -999.00,-999.000,9,-999.000, -999.00,9, -999.00,9, -31.4985, 108.9887,-999.000,-999.000,20090509,       0003
33RR20090320,        I05,     180,          1,         34,         34,2,20090508,       2202,   -31.4986,   108.9886,       5198,    67.9,  18.2765,  35.7493,2,  35.7531,2,    236.0,2,   234.5,2,    1.10,2,    0.14,2,    0.00,2,    0.12,2,-999.000,9,-999.000,9,-999.0000,9,  -999.0,9,  -999.0,9,-999.0000,9,  -999.00,-999.000,9,-999.000,9,-999.000,9,  18.2516,2,-999.000,9, -999.00,9, -999.00,-999.000,9,-999.000, -999.00,9, -999.00,9, -31.4985, 108.9887,-999.000,-999.000,20090509,       0001
33RR20090320,        I05,     180,          1,         33,         33,2,20090508,       2202,   -31.4986,   108.9886,       5198,    91.9,  16.7900,  35.6336,2,  35.6329,2,    237.1,2,   237.0,2,    1.07,2,    0.74,2,    0.06,2,    0.19,2,   2.584,2,   1.510,2,   1.3040,2,  2077.5,2,  2340.1,2,   8.0517,2,    20.00,-999.000,9,-999.000,9,-999.000,9,  16.8551,2,-999.000,9, -999.00,9, -999.00,-999.000,9,-999.000, -999.00,9, -999.00,9, -31.4985, 108.9887,-999.000,-999.000,20090508,       0000
33RR20090320,        I05,     180,          1,         32,         32,2,20090508,       2202,   -31.4986,   108.9886,       5198,   121.6,  15.1810,  35.5159,2,  35.5169,2,    234.2,2,   233.7,2,    1.04,2,    2.58,2,    0.01,2,    0.30,2,-999.000,9,-999.000,9,-999.0000,9,  -999.0,9,  -999.0,9,-999.0000,9,  -999.00,-999.000,9,-999.000,9,-999.000,9,  15.1803,2,-999.000,9, -999.00,9, -999.00,-999.000,9,-999.000, -999.00,9, -999.00,9, -31.4985, 108.9887,-999.000,-999.000,20090508,       2358
33RR20090320,        I05,     180,          1,         31,         31,2,20090508,       2202,   -31.4986,   108.9886,       5198,   172.4,  13.3364,  35.2485,2,  35.2482,2,    238.1,2,   237.5,2,    1.01,2,    5.37,2,    0.01,2,    0.49,2,   3.001,2,   1.721,2,   1.3460,2,  2103.3,2,  2320.8,2,   7.9705,2,    20.00,-999.000,9,-999.000,9,-999.000,9,  13.3308,2,-999.000,9, -999.00,9, -999.00,-999.000,9,-999.000, -999.00,9, -999.00,9, -31.4985, 108.9887,-999.000,-999.000,20090508,       2357
33RR20090320,        I05,     180,          1,         30,         30,2,20090508,       2202,   -31.4986,   108.9886,       5198,   222.4,  11.9209,  35.0259,2,  35.0204,2,    242.1,2,   242.0,2,    1.33,2,    8.36,2,    0.00,2,    0.67,2,-999.000,9,-999.000,9,-999.0000,9,  -999.0,9,  -999.0,9,-999.0000,9,  -999.00,-999.000,9,-999.000,9,-999.000,9,  11.9179,2,-999.000,9, -999.00,9, -999.00,-999.000,9,-999.000, -999.00,9, -999.00,9, -31.4985, 108.9887,-999.000,-999.000,20090508,       2355
33RR20090320,        I05,     180,          1,         29,         29,2,20090508,       2202,   -31.4986,   108.9886,       5198,   272.0,  11.0231,  34.9038,2,  34.9059,2,    241.6,2,   243.2,2,    1.84,2,   10.59,2,    0.00,2,    0.81,2,   3.451,2,   1.907,2,   1.4190,2,  2117.0,2,  2300.9,2,   7.9072,2,    20.00,-999.000,9,-999.000,9,-999.000,9,  11.0236,2,-999.000,9, -999.00,9, -999.00,-999.000,9,-999.000, -999.00,9, -999.00,9, -31.4984, 108.9888,-999.000,-999.000,20090508,       2353
33RR20090320,        I05,     180,          1,         28,         28,2,20090508,       2202,   -31.4986,   108.9886,       5198,   321.7,  10.2654,  34.8042,2,  34.8072,2,    241.2,2,   239.4,2,    2.70,2,   13.26,2,    0.00,2,    0.97,2,-999.000,9,-999.000,9,-999.0000,9,  -999.0,9,  -999.0,9,-999.0000,9,  -999.00,-999.000,9,-999.000,9,-999.000,9,  10.2727,2,-999.000,9, -999.00,9, -999.00,-999.000,9,-999.000, -999.00,9, -999.00,9, -31.4984, 108.9888,-999.000,-999.000,20090508,       2351
33RR20090320,        I05,     180,          1,         27,         27,2,20090508,       2202,   -31.4986,   108.9886,       5198,   372.0,   9.7819,  34.7421,2,  34.7405,2,    240.4,2,   240.9,2,    3.39,2,   14.76,2,    0.00,2,    1.04,2,   3.641,2,   1.998,2,   1.3720,2,  2126.5,2,  2293.2,2,   7.8649,2,    20.00,-999.000,9,-999.000,9,-999.000,9,   9.7819,2,-999.000,9, -999.00,9, -999.00,-999.000,9,-999.000, -999.00,9, -999.00,9, -31.4984, 108.9888,-999.000,-999.000,20090508,       2350
33RR20090320,        I05,     180,          1,         26,         26,2,20090508,       2202,   -31.4986,   108.9886,       5198,   441.5,   9.3461,  34.6838,2,  34.6833,2,    240.3,2,   240.6,2,    4.07,2,   16.10,2,    0.00,2,    1.13,2,-999.000,9,-999.000,9,-999.0000,9,  -999.0,9,  -999.0,9,-999.0000,9,  -999.00,-999.000,9,-999.000,9,-999.000,9,   9.3453,2,-999.000,9, -999.00,9, -999.00,-999.000,9,-999.000, -999.00,9, -999.00,9, -31.4984, 108.9887,-999.000,-999.000,20090508,       2348
33RR20090320,        I05,     180,          1,         25,         25,2,20090508,       2202,   -31.4986,   108.9886,       5198,   541.8,   8.9387,  34.6305,2,  34.6305,2,    239.4,2,   240.4,2,    4.76,2,   17.33,2,    0.00,2,    1.21,2,   3.703,2,   1.966,2,   1.2720,2,  2131.9,2,  2290.7,2,   7.8441,2,    20.00,-999.000,9,-999.000,9,-999.000,9,   8.9366,2,-999.000,9, -999.00,9, -999.00,-999.000,9,-999.000, -999.00,9, -999.00,9, -31.4984, 108.9887,-999.000,-999.000,20090508,       2345
33RR20090320,        I05,     180,          1,         24,         24,2,20090508,       2202,   -31.4986,   108.9886,       5198,   641.4,   8.1486,  34.5409,2,  34.5389,2,    228.6,2,   226.1,2,    7.98,2,   20.67,2,    0.00,2,    1.44,2,-999.000,9,-999.000,9,-999.0000,9,  -999.0,9,  -999.0,9,-999.0000,9,  -999.00,-999.000,9,-999.000,9,-999.000,9,   8.1578,2,-999.000,9, -999.00,9, -999.00,-999.000,9,-999.000, -999.00,9, -999.00,9, -31.4984, 108.9887,-999.000,-999.000,20090508,       2342
33RR20090320,        I05,     180,          1,         23,         23,2,20090508,       2202,   -31.4986,   108.9886,       5198,   742.8,   6.6683,  34.4430,2,  34.4422,2,    201.9,2,   200.5,2,   17.34,2,   26.15,2,    0.00,2,    1.81,2,   2.184,2,   1.093,2,   0.4300,2,  2171.7,2,  2289.4,2,   7.7413,2,    20.00,-999.000,9,-999.000,9,-999.000,9,   6.6623,2,-999.000,9, -999.00,9, -999.00,-999.000,9,-999.000, -999.00,9, -999.00,9, -31.4984, 108.9888,-999.000,-999.000,20090508,       2340
33RR20090320,        I05,     180,          1,         22,         22,2,20090508,       2202,   -31.4986,   108.9886,       5198,   842.0,   5.2735,  34.3930,2,  34.3923,2,    193.7,2,   194.5,2,   28.76,2,   29.63,2,    0.00,2,    2.06,2,-999.000,9,-999.000,9,-999.0000,9,  -999.0,9,  -999.0,9,-999.0000,9,  -999.00,-999.000,9,-999.000,9,-999.000,9,   5.2693,2,-999.000,9, -999.00,9, -999.00,-999.000,9,-999.000, -999.00,9, -999.00,9, -31.4984, 108.9887,-999.000,-999.000,20090508,       2337
33RR20090320,        I05,     180,          1,         21,         21,2,20090508,       2202,   -31.4986,   108.9886,       5198,   942.5,   4.3027,  34.3938,2,  34.3931,2,    184.8,2,   186.4,2,   40.94,2,   31.88,2,    0.00,2,    2.25,2,   1.122,2,   0.530,2,   0.1300,2,  2211.0,2,  2305.1,2,   7.6751,2,    20.00,-999.000,9,-999.000,9,-999.000,9,   4.3048,2,-999.000,9, -999.00,9, -999.00,-999.000,9,-999.000, -999.00,9, -999.00,9, -31.4984, 108.9888,-999.000,-999.000,20090508,       2334
33RR20090320,        I05,     180,          1,         20,         20,2,20090508,       2202,   -31.4986,   108.9886,       5198,  1041.4,   3.8732,  34.4455,2,  34.4447,2,    169.2,2,   170.4,2,   55.03,2,   33.51,2,    0.00,2,    2.37,2,-999.000,9,-999.000,9,-999.0000,9,  -999.0,9,  -999.0,9,-999.0000,9,  -999.00,-999.000,9,-999.000,9,-999.000,9,   3.8733,2,-999.000,9, -999.00,9, -999.00,-999.000,9,-999.000, -999.00,9, -999.00,9, -31.4984, 108.9887,-999.000,-999.000,20090508,       2332
33RR20090320,        I05,     180,          1,         19,         19,2,20090508,       2202,   -31.4986,   108.9886,       5198,  1142.3,   3.6235,  34.4949,2,  34.4944,2,    158.6,2,   158.2,2,   65.50,2,   34.42,2,    0.00,2,    2.46,2,   0.343,2,   0.164,2,   0.0210,2,  2247.5,2,  2332.8,2,   7.6343,2,    20.00,-999.000,9,-999.000,9,-999.000,9,   3.6249,2,-999.000,9, -999.00,9, -999.00,-999.000,9,-999.000, -999.00,9, -999.00,9, -31.4984, 108.9887,-999.000,-999.000,20090508,       2329
33RR20090320,        I05,     180,          1,         18,         18,2,20090508,       2202,   -31.4986,   108.9886,       5198,  1242.9,   3.3838,  34.5314,2,  34.5306,2,    155.5,2,   153.3,2,   72.29,2,   34.76,2,    0.00,2,    2.49,2,-999.000,9,-999.000,9,-999.0000,9,  -999.0,9,  -999.0,9,-999.0000,9,  -999.00,-999.000,9,-999.000,9,-999.000,9,   3.3832,2,-999.000,9, -999.00,9, -999.00,-999.000,9,-999.000, -999.00,9, -999.00,9, -31.4985, 108.9887,-999.000,-999.000,20090508,       2326
33RR20090320,        I05,     180,          1,         17,         17,2,20090508,       2202,   -31.4986,   108.9886,       5198,  1342.5,   3.2485,  34.5637,2,  34.5624,2,    149.6,2,   150.3,2,   77.44,2,   34.87,2,    0.00,2,    2.51,2,   0.117,2,   0.055,2,   0.0000,2,  2263.0,2,  2344.3,2,   7.6259,2,    20.00,-999.000,9,-999.000,9,-999.000,9,   3.2540,2,-999.000,9, -999.00,9, -999.00,-999.000,9,-999.000, -999.00,9, -999.00,9, -31.4985, 108.9887,-999.000,-999.000,20090508,       2323
33RR20090320,        I05,     180,          1,         16,         16,2,20090508,       2202,   -31.4986,   108.9886,       5198,  1474.0,   3.0022,  34.5983,2,  34.5986,2,    152.6,2,   152.5,2,   81.84,2,   34.64,2,    0.00,2,    2.49,2,-999.000,9,-999.000,9,-999.0000,9,  -999.0,9,  -999.0,9,-999.0000,9,  -999.00,-999.000,9,-999.000,9,-999.000,9,   3.0010,2,-999.000,9, -999.00,9, -999.00,-999.000,9,-999.000, -999.00,9, -999.00,9, -31.4985, 108.9888,-999.000,-999.000,20090508,       2320
33RR20090320,        I05,     180,          1,         15,         15,2,20090508,       2202,   -31.4986,   108.9886,       5198,  1674.7,   2.7160,  34.6561,2,  34.6551,2,    155.9,2,   155.7,2,   89.23,2,   34.24,2,    0.00,2,    2.44,2,   0.019,2,   0.011,2,   0.0000,2,  2270.6,2,  2357.6,2,   7.6384,2,    20.00,-999.000,9,-999.000,9,-999.000,9,   2.7164,2,-999.000,9, -999.00,9, -999.00,-999.000,9,-999.000, -999.00,9, -999.00,9, -31.4985, 108.9888,-999.000,-999.000,20090508,       2315
33RR20090320,        I05,     180,          1,         14,         14,2,20090508,       2202,   -31.4986,   108.9886,       5198,  1877.3,   2.4855,  34.6926,2,  34.6927,2,    160.7,2,   161.1,2,   95.51,2,   33.62,2,    0.00,2,    2.40,2,-999.000,9,-999.000,9,-999.0000,9,  -999.0,9,  -999.0,9,-999.0000,9,  -999.00,-999.000,9,-999.000,9,-999.000,9,   2.4854,2,-999.000,9, -999.00,9, -999.00,-999.000,9,-999.000, -999.00,9, -999.00,9, -31.4985, 108.9888,-999.000,-999.000,20090508,       2311
33RR20090320,        I05,     180,          1,         13,         13,2,20090508,       2202,   -31.4986,   108.9886,       5198,  2098.4,   2.2793,  34.7153,2,  34.7153,2,    164.5,2,   164.3,2,  102.37,2,   33.33,2,    0.00,2,    2.38,2,-999.000,9,-999.000,9,-999.0000,9,  -999.0,9,  -999.0,9,-999.0000,9,  -999.00,-999.000,9,-999.000,9,-999.000,9,   2.2786,2,-999.000,9, -999.00,9, -999.00,-999.000,9,-999.000, -999.00,9, -999.00,9, -31.4985, 108.9888,-999.000,-999.000,20090508,       2306
33RR20090320,        I05,     180,          1,         12,         12,2,20090508,       2202,   -31.4986,   108.9886,       5198,  2350.4,   2.0506,  34.7264,2,  34.7263,2,    171.6,2,   170.9,2,  106.98,2,   33.00,2,    0.00,2,    2.34,2,   0.004,2,   0.001,2,   0.0000,2,  2277.5,2,  2374.2,2,   7.6670,2,    20.00,-999.000,9,-999.000,9,-999.000,9,   2.0497,2,-999.000,9, -999.00,9, -999.00,-999.000,9,-999.000, -999.00,9, -999.00,9, -31.4985, 108.9887,-999.000,-999.000,20090508,       2301
33RR20090320,        I05,     180,          1,         11,         11,2,20090508,       2202,   -31.4986,   108.9886,       5198,  2602.1,   1.8600,  34.7285,2,  34.7281,2,    174.9,2,   173.3,2,  113.30,2,   33.11,2,    0.00,2,    2.35,2,-999.000,9,-999.000,9,-999.0000,9,  -999.0,9,  -999.0,9,-999.0000,9,  -999.00,-999.000,9,-999.000,9,-999.000,9,   1.8604,2,-999.000,9, -999.00,9, -999.00,-999.000,9,-999.000, -999.00,9, -999.00,9, -31.4985, 108.9888,-999.000,-999.000,20090508,       2256
33RR20090320,        I05,     180,          1,         10,         10,2,20090508,       2202,   -31.4986,   108.9886,       5198,  2854.6,   1.7126,  34.7305,2,  34.7297,2,    181.5,2,   182.2,2,  111.94,2,   32.60,2,    0.00,2,    2.30,2,-999.000,9,-999.000,9,-999.0000,9,  -999.0,9,  -999.0,9,-999.0000,9,  -999.00,-999.000,9,-999.000,9,-999.000,9,   1.7127,2,-999.000,9, -999.00,9, -999.00,-999.000,9,-999.000, -999.00,9, -999.00,9, -31.4984, 108.9888,-999.000,-999.000,20090508,       2251
33RR20090320,        I05,     180,          1,          9,          9,2,20090508,       2202,   -31.4986,   108.9886,       5198,  3123.7,   1.5647,  34.7288,2,  34.7287,2,    185.6,2,   185.8,2,  114.70,2,   32.48,2,    0.00,2,    2.29,2,   0.008,2,   0.004,2,   0.0000,2,  2276.4,2,  2378.7,2,   7.6826,2,    20.00,-999.000,9,-999.000,9,-999.000,9,   1.5650,2,-999.000,9, -999.00,9, -999.00,-999.000,9,-999.000, -999.00,9, -999.00,9, -31.4985, 108.9888,-999.000,-999.000,20090508,       2246
33RR20090320,        I05,     180,          1,          8,          8,2,20090508,       2202,   -31.4986,   108.9886,       5198,  3427.9,   1.3950,  34.7234,2,  34.7234,2,    187.2,2,   187.6,2,  120.84,2,   32.76,2,    0.00,2,    2.31,2,-999.000,9,-999.000,9,-999.0000,9,  -999.0,9,  -999.0,9,-999.0000,9,  -999.00,-999.000,9,-999.000,9,-999.000,9,   1.3955,2,-999.000,9, -999.00,9, -999.00,-999.000,9,-999.000, -999.00,9, -999.00,9, -31.4985, 108.9888,-999.000,-999.000,20090508,       2240
33RR20090320,        I05,     180,          1,          7,          7,2,20090508,       2202,   -31.4986,   108.9886,       5198,  3731.6,   1.2849,  34.7212,2,  34.7212,2,    193.9,2,   194.0,2,  120.42,2,   32.48,2,    0.00,2,    2.28,2,-999.000,9,-999.000,9,-999.0000,9,  -999.0,9,  -999.0,9,-999.0000,9,  -999.00,-999.000,9,-999.000,9,-999.000,9,   1.2846,2,-999.000,9, -999.00,9, -999.00,-999.000,9,-999.000, -999.00,9, -999.00,9, -31.4984, 108.9887,-999.000,-999.000,20090508,       2234
33RR20090320,        I05,     180,          1,          6,          6,2,20090508,       2202,   -31.4986,   108.9886,       5198,  4036.1,   1.1989,  34.7180,2,  34.7175,2,    197.4,2,   197.6,2,  121.69,2,   32.37,2,    0.00,2,    2.28,2,   0.010,2,   0.005,2,   0.0000,2,  2274.7,2,  2380.1,2,   7.6913,2,    20.00,-999.000,9,-999.000,9,-999.000,9,   1.1997,2,-999.000,9, -999.00,9, -999.00,-999.000,9,-999.000, -999.00,9, -999.00,9, -31.4984, 108.9887,-999.000,-999.000,20090508,       2228
33RR20090320,        I05,     180,          1,          5,          5,2,20090508,       2202,   -31.4986,   108.9886,       5198,  4342.4,   1.1256,  34.7148,2,  34.7142,2,    200.7,2,   201.2,2,  122.21,2,   32.26,2,    0.00,2,    2.27,2,-999.000,9,-999.000,9,-999.0000,9,  -999.0,9,  -999.0,9,-999.0000,9,  -999.00,-999.000,9,-999.000,9,-999.000,9,   1.1256,2,-999.000,9, -999.00,9, -999.00,-999.000,9,-999.000, -999.00,9, -999.00,9, -31.4984, 108.9887,-999.000,-999.000,20090508,       2222
33RR20090320,        I05,     180,          1,          4,          4,2,20090508,       2202,   -31.4986,   108.9886,       5198,  4683.0,   1.0462,  34.7106,2,  34.7109,2,    204.8,2,   204.8,2,  122.91,2,   32.26,2,    0.00,2,    2.27,2,-999.000,9,-999.000,9,-999.0000,9,  -999.0,9,  -999.0,9,-999.0000,9,  -999.00,-999.000,9,-999.000,9,-999.000,9,   1.0464,2,-999.000,9, -999.00,9, -999.00,-999.000,9,-999.000, -999.00,9, -999.00,9, -31.4985, 108.9886,-999.000,-999.000,20090508,       2215
33RR20090320,        I05,     180,          1,          3,          3,2,20090508,       2202,   -31.4986,   108.9886,       5198,  5091.0,   1.0294,  34.7081,2,  34.7081,2,    207.6,2,   206.8,2,  122.86,2,   32.14,2,    0.00,2,    2.27,2,   0.046,2,   0.024,2,   0.0000,2,  2266.1,2,  2372.4,2,   7.6884,2,    20.00,-999.000,9,-999.000,9,-999.000,9,   1.0294,2,-999.000,9, -999.00,9, -999.00,-999.000,9,-999.000, -999.00,9, -999.00,9, -31.4985, 108.9886,-999.000,-999.000,20090508,       2207
33RR20090320,        I05,     180,          1,          2,          2,2,20090508,       2202,   -31.4986,   108.9886,       5198,  5188.3,   1.0348,  34.7076,2,  34.7071,2,    208.0,2,   207.6,2,  123.38,2,   32.14,2,    0.00,2,    2.27,2,-999.000,9,-999.000,9,-999.0000,9,  -999.0,9,  -999.0,9,-999.0000,9,  -999.00,-999.000,9,-999.000,9,-999.000,9,   1.0346,2,-999.000,9, -999.00,9, -999.00,-999.000,9,-999.000, -999.00,9, -999.00,9, -31.4986, 108.9886,-999.000,-999.000,20090508,       2205
33RR20090320,        I05,     180,          1,          1,          1,2,20090508,       2202,   -31.4986,   108.9886,       5198,  5282.7,   1.0374,  34.7071,2,  34.7077,2,    206.9,2,   207.3,2,  123.53,2,   32.14,2,    0.00,2,    2.27,2,   0.056,6,   0.028,6,   0.0000,6,  2267.5,6,  2372.1,2,   7.6884,2,    20.00,-999.000,9,-999.000,9,-999.000,9,   1.0372,2,-999.000,9, -999.00,9, -999.00,-999.000,9,-999.000, -999.00,9, -999.00,9, -31.4985, 108.9886,-999.000,-999.000,20090508,       2202