BOTTLE,20220814CCHSIOAMB
EXPOCODE,SECT_ID,STNNBR,CASTNO,SAMPNO,BTLNBR,BTLNBR_FLAG_W,DATE,TIME,LATITUDE,LONGITUDE,DEPTH,CTDPRS,CTDTMP,CTDSAL,CTDSAL_FLAG_W,SALNTY,SALNTY_FLAG_W,CTDOXY,CTDOXY_FLAG_W,OXYGEN,OXYGEN_FLAG_W,SILCAT,SILCAT_FLAG_W,NITRAT,NITRAT_FLAG_W,NITRIT,NITRIT_FLAG_W,PHSPHT,PHSPHT_FLAG_W,CFC-11,CFC-11_FLAG_W,CFC-12,CFC-12_FLAG_W,SF6,SF6_FLAG_W,TCARBN,TCARBN_FLAG_W,ALKALI,ALKALI_FLAG_W,PH_TOT,PH_TOT_FLAG_W,PH_TMP,TRITUM,TRITUM_FLAG_W,HELIUM,HELIUM_FLAG_W,DELHE3,DELHE3_FLAG_W,REFTMP,REFTMP_FLAG_W,DELC13,DELC13_FLAG_W,DELC14,DELC14_FLAG_W,C14ERR,NEON,NEON_FLAG_W,NEONER,DOC,DOC_FLAG_W,TDN,TDN_FLAG_W,BTL_LAT,BTL_LON,HELIER,DELHER,BTL_DATE,BTL_TIME
,,,,,,,,,,,METERS,DBAR,ITS-90,PSS-78,,PSS-78,,UMOL/KG,,UMOL/KG,,UMOL/KG,,UMOL/KG,,UMOL/KG,,UMOL/KG,,PMOL/KG,,PMOL/KG,,FMOL/KG,,UMOL/KG,,UMOL/KG,,,,DEG C,TU,,NMOL/KG,,PERCNT,,DEG C,,/MILLE,,/MILLE,,/MILLE,NMOL/KG,,NMOL/KG,UMOL/KG,,UMOL/KG,,,,NMOL/KG,PERCNT,,
33RR20090320,        I05,     183,          2,         36,         36,2,20090509,       1839,   -31.8169,   110.6528,       5086,     7.7,  21.1065,  35.7403,2,  35.7423,2,    222.9,2,   223.5,2,    1.87,2,    0.18,2,    0.00,2,    0.07,2,   2.038,6,   1.229,6,   1.1580,6,  2036.8,6,  2343.9,2,   8.1301,2,    20.00,-999.000,9,-999.000,9,-999.000,9,  21.1148,2,-999.000,9, -999.00,9, -999.00,-999.000,9,-999.000,   68.77,2,    4.52,2, -31.8171, 110.6525,-999.000,-999.000,20090509,       2043
33RR20090320,        I05,     183,          2,         35,         35,2,20090509,       1839,   -31.8169,   110.6528,       5086,    42.1,  20.2645,  35.9435,2,  35.9436,2,    227.6,2,   226.5,2,    1.55,2,    0.18,2,    0.00,2,    0.08,2,   2.113,2,   1.268,2,   1.2050,2,  2057.4,2,  2358.0,2,   8.1097,2,    20.00,-999.000,9,-999.000,9,-999.000,9,  20.2636,2,-999.000,9, -999.00,9, -999.00,-999.000,9,-999.000,   69.08,2,    4.22,2, -31.8171, 110.6525,-999.000,-999.000,20090509,       2041
33RR20090320,        I05,     183,          2,         34,         34,2,20090509,       1839,   -31.8169,   110.6528,       5086,    66.8,  20.0097,  35.9522,2,  35.9547,2,    228.2,2,   227.6,2,    1.40,2,    0.18,2,    0.00,2,    0.08,2,   2.141,2,   1.286,2,   1.1890,2,  2061.1,2,  2357.4,2,   8.1037,2,    20.00,-999.000,9,-999.000,9,-999.000,9,  19.9850,2,-999.000,9, -999.00,9, -999.00,-999.000,9,-999.000,   67.85,2,    4.28,2, -31.8171, 110.6524,-999.000,-999.000,20090509,       2039
33RR20090320,        I05,     183,          2,         33,         33,2,20090509,       1839,   -31.8169,   110.6528,       5086,    92.8,  17.5521,  35.8093,2,  35.8125,2,    244.1,2,   245.2,2,    0.91,2,    0.18,2,    0.00,2,    0.12,2,   2.533,2,   1.490,2,   1.3030,2,  2076.7,2,  2352.3,2,   8.0708,2,    20.00,-999.000,9,-999.000,9,-999.000,9,  17.5514,2,-999.000,9, -999.00,9, -999.00,-999.000,9,-999.000,   62.35,2,    3.72,2, -31.8171, 110.6523,-999.000,-999.000,20090509,       2037
33RR20090320,        I05,     183,          2,         32,         32,2,20090509,       1839,   -31.8169,   110.6528,       5086,   120.9,  16.1523,  35.6967,2,  35.6991,2,    246.0,2,   244.5,2,    0.76,2,    0.39,2,    0.06,2,    0.17,2,   2.643,2,   1.547,2,   1.3360,2,  2082.6,2,  2344.8,2,   8.0498,2,    20.00,-999.000,9,-999.000,9,-999.000,9,  16.1076,2,-999.000,9, -999.00,9, -999.00,-999.000,9,-999.000,   58.59,2,    3.97,2, -31.8171, 110.6523,-999.000,-999.000,20090509,       2035
33RR20090320,        I05,     183,          2,         31,         31,2,20090509,       1839,   -31.8169,   110.6528,       5086,   171.2,  14.3140,  35.4549,2,  35.4594,2,    235.6,2,   234.7,2,    0.80,2,    3.92,2,    0.01,2,    0.37,2,   2.844,2,   1.645,2,   1.3190,2,  2100.8,2,  2331.7,2,   7.9968,2,    20.00,-999.000,9,-999.000,9,-999.000,9,  14.2828,2,-999.000,9, -999.00,9, -999.00,-999.000,9,-999.000,   54.00,2,    7.02,2, -31.8171, 110.6522,-999.000,-999.000,20090509,       2033
33RR20090320,        I05,     183,          2,         30,         30,2,20090509,       1839,   -31.8169,   110.6528,       5086,   222.6,  13.2232,  35.2963,2,  35.2940,2,    239.7,2,   239.9,2,    1.01,2,    5.83,2,    0.01,2,    0.50,2,   3.040,2,   1.732,2,   1.4290,2,  2106.0,2,  2324.7,2,   7.9696,2,    20.00,-999.000,9,-999.000,9,-999.000,9,  13.2194,2,-999.000,9, -999.00,9, -999.00,-999.000,9,-999.000,   52.12,2,    8.75,2, -31.8171, 110.6522,-999.000,-999.000,20090509,       2032
33RR20090320,        I05,     183,          2,         29,         29,2,20090509,       1839,   -31.8169,   110.6528,       5086,   272.2,  12.4123,  35.1573,2,  35.1577,2,    239.5,2,   241.5,2,    1.22,2,    7.52,2,    0.00,2,    0.61,2,   3.177,2,   1.799,2,   1.3220,2,  2113.1,2,  2315.8,2,   7.9472,2,    20.00,-999.000,9,-999.000,9,-999.000,9,  12.4095,2,-999.000,9, -999.00,9, -999.00,-999.000,9,-999.000,   50.50,2,   10.04,2, -31.8171, 110.6521,-999.000,-999.000,20090509,       2030
33RR20090320,        I05,     183,          2,         28,         28,2,20090509,       1839,   -31.8169,   110.6528,       5086,   321.2,  11.4284,  34.9867,2,  34.9841,2,    241.8,2,   239.7,2,    1.79,2,   10.08,2,    0.00,2,    0.76,2,   3.353,2,   1.870,2,   1.4620,2,  2118.5,2,  2305.7,2,   7.9155,2,    20.00,-999.000,9,-999.000,9,-999.000,9,  11.4229,2,-999.000,9, -999.00,9, -999.00,-999.000,9,-999.000,   48.50,2,   12.37,2, -31.8171, 110.6521,-999.000,-999.000,20090509,       2028
33RR20090320,        I05,     183,          2,         27,         27,2,20090509,       1839,   -31.8169,   110.6528,       5086,   371.3,  10.4787,  34.8370,2,  34.8362,2,    242.3,2,   241.9,2,    2.54,2,   12.53,2,    0.00,2,    0.91,2,   3.520,2,   1.944,2,   1.3390,2,  2123.6,2,  2299.6,2,   7.8898,2,    20.00,-999.000,9,-999.000,9,-999.000,9,  10.4743,2,-999.000,9, -999.00,9, -999.00,-999.000,9,-999.000,   46.84,2,   13.87,2, -31.8171, 110.6521,-999.000,-999.000,20090509,       2026
33RR20090320,        I05,     183,          2,         26,         26,2,20090509,       1839,   -31.8169,   110.6528,       5086,   440.6,   9.8005,  34.7497,2,  34.7489,2,    240.8,2,   241.0,2,    3.29,2,   14.77,2,    0.00,2,    1.03,2,   3.661,2,   1.980,2,   1.2580,2,  2126.8,2,  2295.0,2,   7.8674,2,    20.00,-999.000,9,-999.000,9,-999.000,9,   9.7973,2,-999.000,9, -999.00,9, -999.00,-999.000,9,-999.000,   46.22,2,   15.95,2, -31.8171, 110.6522,-999.000,-999.000,20090509,       2024
33RR20090320,        I05,     183,          2,         25,         25,2,20090509,       1839,   -31.8169,   110.6528,       5086,   542.4,   9.1900,  34.6667,2,  34.6668,2,    239.4,2,   240.0,2,    4.03,2,   16.73,2,    0.00,2,    1.16,2,   3.720,2,   1.973,2,   1.1750,2,  2130.1,2,  2292.1,2,   7.8501,2,    20.00,-999.000,9,-999.000,9,-999.000,9,   9.1930,2,-999.000,9, -999.00,9, -999.00,-999.000,9,-999.000,   45.15,2,   18.18,2, -31.8172, 110.6522,-999.000,-999.000,20090509,       2022
33RR20090320,        I05,     183,          2,         24,         24,2,20090509,       1839,   -31.8169,   110.6528,       5086,   641.4,   8.4162,  34.5730,2,  34.5747,2,    228.9,2,   228.4,2,    6.92,2,   19.85,2,    0.00,2,    1.37,2,   3.365,2,   1.746,2,   0.8860,2,  2138.8,2,  2289.9,2,   7.8186,2,    20.00,-999.000,9,-999.000,9,-999.000,9,   8.4141,2,-999.000,9, -999.00,9, -999.00,-999.000,9,-999.000,   43.21,2,   21.75,2, -31.8171, 110.6522,-999.000,-999.000,20090509,       2019
33RR20090320,        I05,     183,          2,         23,         23,2,20090509,       1839,   -31.8169,   110.6528,       5086,   740.9,   7.0361,  34.4709,2,  34.4702,2,    202.9,2,   201.9,2,   15.38,2,   25.33,2,    0.00,2,    1.74,2,   2.299,2,   1.147,2,   0.4340,2,  2166.0,2,  2289.4,2,   7.7534,2,    20.00,-999.000,9,-999.000,9,-999.000,9,   7.0469,2,-999.000,9, -999.00,9, -999.00,-999.000,9,-999.000,   42.27,2,   26.74,2, -31.8171, 110.6522,-999.000,-999.000,20090509,       2016
33RR20090320,        I05,     183,          2,         22,         22,2,20090509,       1839,   -31.8169,   110.6528,       5086,   841.2,   5.5928,  34.4037,2,  34.4029,2,    192.9,2,   193.7,2,   26.04,2,   29.13,2,    0.00,2,    2.01,2,   1.632,2,   0.792,2,   0.2060,2,  2186.3,2,  2295.7,2,   7.7091,2,    20.00,-999.000,9,-999.000,9,-999.000,9,   5.5940,2,-999.000,9, -999.00,9, -999.00,-999.000,9,-999.000,   41.25,2,   30.62,2, -31.8170, 110.6523,-999.000,-999.000,20090509,       2013
33RR20090320,        I05,     183,          2,         21,         21,2,20090509,       1839,   -31.8169,   110.6528,       5086,   940.9,   4.5571,  34.4056,2,  34.4045,2,    181.9,2,   182.2,2,   40.37,2,   31.88,2,    0.00,2,    2.24,2,   1.059,6,   0.503,6,   0.1120,6,  2209.9,2,  2308.2,2,   7.6753,2,    20.00,-999.000,9,-999.000,9,-999.000,9,   4.5582,2,-999.000,9, -999.00,9, -999.00,-999.000,9,-999.000,   40.77,2,   33.07,2, -31.8170, 110.6523,-999.000,-999.000,20090509,       2011
33RR20090320,        I05,     183,          2,         20,         20,2,20090509,       1839,   -31.8169,   110.6528,       5086,  1042.0,   4.0225,  34.4358,2,  34.4352,2,    171.6,2,   171.6,2,   51.71,2,   33.31,2,    0.00,2,    2.36,2,   0.702,2,   0.332,2,   0.0780,2,  2228.2,2,  2319.6,2,   7.6539,2,    20.00,-999.000,9,-999.000,9,-999.000,9,   4.0263,2,-999.000,9, -999.00,9, -999.00,-999.000,9,-999.000,   40.62,2,   35.18,2, -31.8170, 110.6523,-999.000,-999.000,20090509,       2008
33RR20090320,        I05,     183,          2,         19,         19,2,20090509,       1839,   -31.8169,   110.6528,       5086,  1143.0,   3.6728,  34.4815,2,  34.4819,2,    161.8,2,   160.4,2,   62.72,2,   34.31,2,    0.00,2,    2.45,2,   0.385,2,   0.180,2,   0.0210,2,  2244.8,2,  2332.1,2,   7.6368,2,    20.00,-999.000,9,-999.000,9,-999.000,9,   3.6676,2,-999.000,9, -999.00,9, -999.00,-999.000,9,-999.000,   39.81,2,   35.79,2, -31.8170, 110.6524,-999.000,-999.000,20090509,       2005
33RR20090320,        I05,     183,          2,         18,         18,2,20090509,       1839,   -31.8169,   110.6528,       5086,  1243.9,   3.5232,  34.5469,2,  34.5377,2,    149.0,2,   149.3,2,   73.41,2,   34.97,2,    0.00,2,    2.51,2,   0.169,2,   0.083,2,   0.0000,2,  2260.3,2,  2341.7,2,   7.6258,2,    20.00,-999.000,9,-999.000,9,-999.000,9,   3.4958,2,-999.000,9, -999.00,9, -999.00,-999.000,9,-999.000,   40.08,2,   36.23,2, -31.8169, 110.6525,-999.000,-999.000,20090509,       2003
33RR20090320,        I05,     183,          2,         17,         17,2,20090509,       1839,   -31.8169,   110.6528,       5086,  1344.5,   3.2511,  34.5672,2,  34.5631,2,    149.9,2,   150.5,2,   76.96,2,   34.97,2,    0.00,2,    2.51,2,   0.109,2,   0.053,2,   0.0000,2,  2263.7,6,  2345.3,2,   7.6260,2,    20.00,-999.000,9,-999.000,9,-999.000,9,   3.2446,2,-999.000,9, -999.00,9, -999.00,-999.000,9,-999.000,   39.33,2,   36.39,2, -31.8170, 110.6525,-999.000,-999.000,20090509,       2000
33RR20090320,        I05,     183,          2,         16,         16,2,20090509,       1839,   -31.8169,   110.6528,       5086,  1472.9,   2.9723,  34.6080,2,  34.6071,2,    151.3,2,   151.8,2,   82.73,2,   34.80,2,    0.00,2,    2.49,2,   0.049,2,   0.025,2,   0.0000,2,  2269.2,2,  2352.5,2,   7.6295,2,    20.00,-999.000,9,-999.000,9,-999.000,9,   2.9730,2,-999.000,9, -999.00,9, -999.00,-999.000,9,-999.000,   39.86,2,   36.25,2, -31.8169, 110.6526,-999.000,-999.000,20090509,       1957
33RR20090320,        I05,     183,          2,         15,         15,2,20090509,       1839,   -31.8169,   110.6528,       5086,  1673.4,   2.7066,  34.6620,2,  34.6602,2,    154.8,2,   154.5,2,   90.73,2,   34.29,2,    0.00,2,    2.45,2,   0.016,2,   0.009,2,   0.0000,2,  2275.0,2,  2360.2,2,   7.6382,2,    20.00,-999.000,9,-999.000,9,-999.000,9,   2.7068,2,-999.000,9, -999.00,9, -999.00,-999.000,9,-999.000,   39.41,2,   36.18,2, -31.8169, 110.6526,-999.000,-999.000,20090509,       1953
33RR20090320,        I05,     183,          2,         14,         14,2,20090509,       1839,   -31.8169,   110.6528,       5086,  1876.9,   2.4886,  34.6980,2,  34.6980,2,    157.0,2,   157.0,2,   99.87,2,   34.01,2,    0.00,2,    2.43,2,   0.004,2,   0.004,2,   0.0000,2,  2282.4,2,  2370.1,2,   7.6468,2,    20.00,-999.000,9,-999.000,9,-999.000,9,   2.4884,2,-999.000,9, -999.00,9, -999.00,-999.000,9,-999.000,   39.73,2,   35.39,2, -31.8169, 110.6526,-999.000,-999.000,20090509,       1948
33RR20090320,        I05,     183,          2,         13,         13,2,20090509,       1839,   -31.8169,   110.6528,       5086,  2097.5,   2.2813,  34.7160,2,  34.7149,2,    161.2,2,   160.5,2,  105.87,2,   33.74,2,    0.00,2,    2.41,2,   0.004,2,   0.002,2,   0.0000,2,  2284.0,2,  2376.2,2,   7.6547,2,    20.00,-999.000,9,-999.000,9,-999.000,9,   2.2810,2,-999.000,9, -999.00,9, -999.00,-999.000,9,-999.000,   39.56,2,   34.99,2, -31.8168, 110.6527,-999.000,-999.000,20090509,       1943
33RR20090320,        I05,     183,          2,         12,         12,2,20090509,       1839,   -31.8169,   110.6528,       5086,  2349.0,   2.0595,  34.7257,2,  34.7250,2,    167.2,2,   166.7,2,  109.84,2,   33.40,2,    0.00,2,    2.37,2,   0.002,2,   0.002,2,   0.0000,2,  2285.5,2,  2380.9,2,   7.6635,2,    20.00,-999.000,9,-999.000,9,-999.000,9,   2.0596,2,-999.000,9, -999.00,9, -999.00,-999.000,9,-999.000,   39.80,2,   34.73,2, -31.8168, 110.6527,-999.000,-999.000,20090509,       1938
33RR20090320,        I05,     183,          2,         11,         11,2,20090509,       1839,   -31.8169,   110.6528,       5086,  2600.2,   1.8820,  34.7278,2,  34.7272,2,    171.1,2,   170.7,2,  114.56,2,   33.40,2,    0.00,2,    2.36,2,   0.002,2,   0.000,2,   0.0000,2,  2287.1,2,  2383.0,2,   7.6685,2,    20.00,-999.000,9,-999.000,9,-999.000,9,   1.8821,2,-999.000,9, -999.00,9, -999.00,-999.000,9,-999.000,   39.82,2,   34.43,2, -31.8168, 110.6527,-999.000,-999.000,20090509,       1933
33RR20090320,        I05,     183,          2,         10,         10,2,20090509,       1839,   -31.8169,   110.6528,       5086,  2854.7,   1.7277,  34.7285,2,  34.7276,2,    176.7,2,   176.8,2,  115.75,2,   33.17,2,    0.00,2,    2.34,2,   0.006,2,   0.003,2,   0.0000,2,  2285.0,2,  2384.8,2,   7.6749,2,    20.00,-999.000,9,-999.000,9,-999.000,9,   1.7282,2,-999.000,9, -999.00,9, -999.00,-999.000,9,-999.000,   40.15,2,   34.23,2, -31.8169, 110.6527,-999.000,-999.000,20090509,       1928
33RR20090320,        I05,     183,          2,          9,          9,2,20090509,       1839,   -31.8169,   110.6528,       5086,  3124.3,   1.5875,  34.7272,2,  34.7268,2,    181.7,2,   181.7,2,  118.05,2,   32.95,2,    0.00,2,    2.31,2,   0.003,6,   0.001,6,   0.0000,6,  2283.7,2,  2385.8,2,   7.6804,2,    20.00,-999.000,9,-999.000,9,-999.000,9,   1.5870,2,-999.000,9, -999.00,9, -999.00,-999.000,9,-999.000,   39.54,2,   34.06,2, -31.8169, 110.6528,-999.000,-999.000,20090509,       1922
33RR20090320,        I05,     183,          2,          8,          8,2,20090509,       1839,   -31.8169,   110.6528,       5086,  3427.6,   1.4308,  34.7242,2,  34.7237,2,    186.2,2,   186.5,2,  120.36,2,   32.83,2,    0.00,2,    2.31,2,   0.004,2,   0.002,2,   0.0000,2,  2282.9,2,  2386.3,2,   7.6842,2,    20.00,-999.000,9,-999.000,9,-999.000,9,   1.4315,2,-999.000,9, -999.00,9, -999.00,-999.000,9,-999.000,   40.06,2,   34.46,2, -31.8169, 110.6528,-999.000,-999.000,20090509,       1916
33RR20090320,        I05,     183,          2,          7,          7,2,20090509,       1839,   -31.8169,   110.6528,       5086,  3732.7,   1.3101,  34.7205,2,  34.7202,2,    190.0,2,   190.5,2,  122.67,2,   32.83,2,    0.00,2,    2.30,2,   0.005,2,   0.002,2,   0.0000,2,  2281.0,2,  2387.3,2,   7.6878,2,    20.00,-999.000,9,-999.000,9,-999.000,9,   1.3101,2,-999.000,9, -999.00,9, -999.00,-999.000,9,-999.000,   39.95,2,   34.15,2, -31.8168, 110.6528,-999.000,-999.000,20090509,       1910
33RR20090320,        I05,     183,          2,          6,          6,2,20090509,       1839,   -31.8169,   110.6528,       5086,  4037.0,   1.2413,  34.7175,2,  34.7176,2,    192.8,2,   192.9,2,  124.23,2,   32.83,2,    0.00,2,    2.30,2,   0.004,2,   0.002,2,   0.0000,2,  2283.1,2,  2388.2,2,   7.6906,2,    20.00,-999.000,9,-999.000,9,-999.000,9,   1.2409,2,-999.000,9, -999.00,9, -999.00,-999.000,9,-999.000,   39.81,2,   34.64,2, -31.8168, 110.6528,-999.000,-999.000,20090509,       1904
33RR20090320,        I05,     183,          2,          5,          5,2,20090509,       1839,   -31.8169,   110.6528,       5086,  4341.3,   1.1843,  34.7151,2,  34.7151,2,    196.0,2,   196.2,2,  124.50,2,   32.71,2,    0.00,2,    2.29,2,   0.005,2,   0.003,2,   0.0000,2,  2278.8,2,  2387.1,2,   7.6927,2,    20.00,-999.000,9,-999.000,9,-999.000,9,   1.1842,2,-999.000,9, -999.00,9, -999.00,-999.000,9,-999.000,   39.86,2,   34.69,2, -31.8168, 110.6527,-999.000,-999.000,20090509,       1858
33RR20090320,        I05,     183,          2,          4,          4,2,20090509,       1839,   -31.8169,   110.6528,       5086,  4648.7,   1.1307,  34.7131,2,  34.7133,2,    200.6,2,   200.6,2,  124.57,2,   32.59,2,    0.00,2,    2.29,2,   0.014,2,   0.006,2,   0.0000,2,  2274.4,2,  2383.9,2,   7.6931,2,    20.00,-999.000,9,-999.000,9,-999.000,9,   1.1308,2,-999.000,9, -999.00,9, -999.00,-999.000,9,-999.000,   39.81,2,   34.14,2, -31.8168, 110.6527,-999.000,-999.000,20090509,       1852
33RR20090320,        I05,     183,          2,          3,          3,2,20090509,       1839,   -31.8169,   110.6528,       5086,  4954.2,   1.0739,  34.7101,2,  34.7100,2,    205.2,2,   204.6,2,  123.71,2,   32.49,2,    0.00,2,    2.26,2,   0.028,2,   0.017,2,   0.0000,2,  2271.1,2,  2375.4,2,   7.6920,2,    20.00,-999.000,9,-999.000,9,-999.000,9,   1.0738,2,-999.000,9, -999.00,9, -999.00,-999.000,9,-999.000,   40.21,2,   33.79,2, -31.8168, 110.6528,-999.000,-999.000,20090509,       1845
33RR20090320,        I05,     183,          2,          2,          2,2,20090509,       1839,   -31.8169,   110.6528,       5086,  5060.0,   1.0552,  34.7092,2,  34.7091,2,    206.5,2,   206.0,2,  123.40,2,   32.37,2,    0.00,2,    2.26,2,   0.033,2,   0.019,2,   0.0000,2,  2269.7,2,  2376.6,2,   7.6911,2,    20.00,-999.000,9,-999.000,9,-999.000,9,   1.0553,2,-999.000,9, -999.00,9, -999.00,-999.000,9,-999.000,   39.89,2,   33.63,2, -31.8168, 110.6528,-999.000,-999.000,20090509,       1842
33RR20090320,        I05,     183,          2,          1,          1,2,20090509,       1839,   -31.8169,   110.6528,       5086,  5167.0,   1.0601,  34.7084,2,  34.7087,2,    206.2,2,   206.4,2,  123.47,2,   32.31,2,    0.00,2,    2.26,2,   0.035,6,   0.019,6,   0.0000,6,  2269.2,6,  2375.6,2,   7.6914,2,    20.00,-999.000,9,-999.000,9,-999.000,9,   1.0596,2,-999.000,9, -999.00,9, -999.00,-999.000,9,-999.000,   39.81,2,   33.64,2, -31.8168, 110.6528,-999.000,-999.000,20090509,       1839