BOTTLE,20220814CCHSIOAMB
EXPOCODE,SECT_ID,STNNBR,CASTNO,SAMPNO,BTLNBR,BTLNBR_FLAG_W,DATE,TIME,LATITUDE,LONGITUDE,DEPTH,CTDPRS,CTDTMP,CTDSAL,CTDSAL_FLAG_W,SALNTY,SALNTY_FLAG_W,CTDOXY,CTDOXY_FLAG_W,OXYGEN,OXYGEN_FLAG_W,SILCAT,SILCAT_FLAG_W,NITRAT,NITRAT_FLAG_W,NITRIT,NITRIT_FLAG_W,PHSPHT,PHSPHT_FLAG_W,CFC-11,CFC-11_FLAG_W,CFC-12,CFC-12_FLAG_W,SF6,SF6_FLAG_W,TCARBN,TCARBN_FLAG_W,ALKALI,ALKALI_FLAG_W,PH_TOT,PH_TOT_FLAG_W,PH_TMP,TRITUM,TRITUM_FLAG_W,HELIUM,HELIUM_FLAG_W,DELHE3,DELHE3_FLAG_W,REFTMP,REFTMP_FLAG_W,DELC13,DELC13_FLAG_W,DELC14,DELC14_FLAG_W,C14ERR,NEON,NEON_FLAG_W,NEONER,DOC,DOC_FLAG_W,TDN,TDN_FLAG_W,BTL_LAT,BTL_LON,HELIER,DELHER,BTL_DATE,BTL_TIME
,,,,,,,,,,,METERS,DBAR,ITS-90,PSS-78,,PSS-78,,UMOL/KG,,UMOL/KG,,UMOL/KG,,UMOL/KG,,UMOL/KG,,UMOL/KG,,PMOL/KG,,PMOL/KG,,FMOL/KG,,UMOL/KG,,UMOL/KG,,,,DEG C,TU,,NMOL/KG,,PERCNT,,DEG C,,/MILLE,,/MILLE,,/MILLE,NMOL/KG,,NMOL/KG,UMOL/KG,,UMOL/KG,,,,NMOL/KG,PERCNT,,
33RR20090320,        I05,      28,          1,         36,         36,2,20090330,       0047,   -32.9983,    38.1044,       5085,    12.0,  23.7564,  35.5522,2,  35.5528,2,    211.4,2,   212.3,2,    1.72,2,    0.04,2,    0.00,2,    0.06,2,   1.812,2,   1.134,2,   1.0440,2,  2008.6,6,  2330.3,2,   8.1491,2,    20.00,-999.000,9,-999.000,9,-999.000,9,  23.7562,2,-999.000,9, -999.00,9, -999.00,-999.000,9,-999.000,   66.72,2,    4.63,2, -32.9985,  38.1039,-999.000,-999.000,20090330,       0302
33RR20090320,        I05,      28,          1,         35,         35,2,20090330,       0047,   -32.9983,    38.1044,       5085,    26.9,  22.0874,  35.6136,2,  35.6106,2,    220.1,2,   220.5,2,    1.71,2,    0.05,2,    0.00,2,    0.06,2,   1.985,6,   1.234,6,   1.0920,6,  2030.5,2,  2335.4,2,   8.1204,2,    20.00,-999.000,9,-999.000,9,-999.000,9,  22.0760,2,-999.000,9, -999.00,9, -999.00,-999.000,9,-999.000,   66.46,2,    3.81,2, -32.9984,  38.1039,-999.000,-999.000,20090330,       0301
33RR20090320,        I05,      28,          1,         34,         34,2,20090330,       0047,   -32.9983,    38.1044,       5085,    46.9,  21.7603,  35.6212,2,  35.6207,2,    222.8,2,   221.2,2,    1.50,2,    0.00,2,    0.00,2,    0.06,2,   1.997,2,   1.258,2,   1.1110,2,  2034.3,2,  2334.4,2,   8.1163,2,    20.00,-999.000,9,-999.000,9,-999.000,9,  21.7583,2,-999.000,9, -999.00,9, -999.00,-999.000,9,-999.000,   65.52,2,    4.13,2, -32.9984,  38.1038,-999.000,-999.000,20090330,       0259
33RR20090320,        I05,      28,          1,         33,         33,2,20090330,       0047,   -32.9983,    38.1044,       5085,    72.0,  20.2957,  35.6165,2,  35.6177,2,    230.2,2,   232.2,2,    1.50,2,    0.00,2,    0.00,2,    0.08,2,   2.152,2,   1.337,2,   1.1150,2,  2038.8,2,  2334.7,2,   8.1132,2,    20.00,-999.000,9,-999.000,9,-999.000,9,  20.2835,2,-999.000,9, -999.00,9, -999.00,-999.000,9,-999.000,   58.85,2,    4.26,2, -32.9984,  38.1037,-999.000,-999.000,20090330,       0257
33RR20090320,        I05,      28,          1,         32,         32,2,20090330,       0047,   -32.9983,    38.1044,       5085,    96.0,  18.9223,  35.5706,2,  35.5704,2,    224.7,2,   227.7,2,    1.88,2,    0.08,2,    0.04,2,    0.15,2,   2.274,2,   1.398,2,   1.1630,2,  2057.1,2,  2331.7,2,   8.0812,2,    20.00,-999.000,9,-999.000,9,-999.000,9,  18.9195,2,-999.000,9, -999.00,9, -999.00,-999.000,9,-999.000,   57.85,2,    4.43,2, -32.9984,  38.1037,-999.000,-999.000,20090330,       0255
33RR20090320,        I05,      28,          1,         31,         31,2,20090330,       0047,   -32.9983,    38.1044,       5085,   141.3,  17.7879,  35.5505,2,  35.5505,2,    214.3,2,   213.1,2,    2.86,2,    3.12,2,    0.01,2,    0.32,2,   2.334,2,   1.431,2,   1.1990,2,  2073.9,2,  2328.6,2,   8.0477,2,    20.00,-999.000,9,-999.000,9,-999.000,9,  17.7870,2,-999.000,9, -999.00,9, -999.00,-999.000,9,-999.000,   55.27,2,    6.54,2, -32.9984,  38.1038,-999.000,-999.000,20090330,       0253
33RR20090320,        I05,      28,          1,         30,         30,2,20090330,       0047,   -32.9983,    38.1044,       5085,   191.5,  17.0905,  35.5529,2,  35.5522,2,    216.5,2,   217.4,2,    3.04,2,    3.51,2,    0.01,2,    0.35,2,   2.422,2,   1.476,2,   1.2080,2,  2083.4,2,  2329.9,2,   8.0333,2,    20.00,-999.000,9,-999.000,9,-999.000,9,  17.0902,2,-999.000,9, -999.00,9, -999.00,-999.000,9,-999.000,   52.17,2,    6.90,2, -32.9984,  38.1038,-999.000,-999.000,20090330,       0251
33RR20090320,        I05,      28,          1,         29,         29,2,20090330,       0047,   -32.9983,    38.1044,       5085,   241.6,  16.5791,  35.5353,2,  35.5353,2,    211.8,2,   215.7,2,    3.43,2,    4.40,2,    0.01,2,    0.40,2,   2.474,2,   1.484,2,   1.2070,2,  2089.3,2,  2329.7,2,   8.0199,2,    20.00,-999.000,9,-999.000,9,-999.000,9,  16.5797,2,-999.000,9, -999.00,9, -999.00,-999.000,9,-999.000,   50.86,2,    7.74,2, -32.9984,  38.1039,-999.000,-999.000,20090330,       0249
33RR20090320,        I05,      28,          1,         28,         28,2,20090330,       0047,   -32.9983,    38.1044,       5085,   290.4,  15.7438,  35.4750,2,  35.4747,2,    204.5,2,   201.0,2,    4.41,2,    6.65,2,    0.00,2,    0.55,2,   2.562,2,   1.528,2,   1.1270,2,  2106.8,2,  2326.7,2,   7.9776,2,    20.00,-999.000,9,-999.000,9,-999.000,9,  15.7405,2,-999.000,9, -999.00,9, -999.00,-999.000,9,-999.000,   49.81,2,    9.62,2, -32.9985,  38.1039,-999.000,-999.000,20090330,       0246
33RR20090320,        I05,      28,          1,         27,         27,2,20090330,       0047,   -32.9983,    38.1044,       5085,   340.7,  14.9424,  35.4197,2,  35.4197,2,    202.3,2,   201.2,2,    4.79,2,    7.91,2,    0.00,2,    0.63,2,   2.684,2,   1.573,2,   1.0410,2,  2112.1,2,  2324.0,2,   7.9572,2,    20.00,-999.000,9,-999.000,9,-999.000,9,  14.9395,2,-999.000,9, -999.00,9, -999.00,-999.000,9,-999.000,   48.84,2,   10.13,2, -32.9986,  38.1040,-999.000,-999.000,20090330,       0244
33RR20090320,        I05,      28,          1,         26,         26,2,20090330,       0047,   -32.9983,    38.1044,       5085,   391.6,  14.1664,  35.3591,2,  35.3586,2,    207.9,2,   208.8,2,    4.39,2,    8.52,2,    0.00,2,    0.66,2,   2.821,2,   1.634,2,   1.0400,2,  2114.5,2,  2322.2,2,   7.9472,2,    20.00,-999.000,9,-999.000,9,-999.000,9,  14.1692,2,-999.000,9, -999.00,9, -999.00,-999.000,9,-999.000,   47.85,2,   10.66,2, -32.9986,  38.1040,-999.000,-999.000,20090330,       0242
33RR20090320,        I05,      28,          1,         25,         25,2,20090330,       0047,   -32.9983,    38.1044,       5085,   471.0,  13.2398,  35.2591,2,  35.2595,2,    215.0,2,   216.0,2,    4.38,2,    9.73,2,    0.00,2,    0.74,2,   2.976,2,   1.703,2,   0.9910,2,  2117.0,2,  2319.5,2,   7.9326,2,    20.00,-999.000,9,-999.000,9,-999.000,9,  13.2388,2,-999.000,9, -999.00,9, -999.00,-999.000,9,-999.000,   45.59,2,   11.31,2, -32.9986,  38.1040,-999.000,-999.000,20090330,       0239
33RR20090320,        I05,      28,          1,         24,         24,2,20090330,       0047,   -32.9983,    38.1044,       5085,   570.8,  12.3936,  35.1410,2,  35.1401,2,    217.8,2,   218.3,2,    4.57,2,   11.32,2,    0.00,2,    0.84,2,   3.068,2,   1.725,2,   0.9570,2,  2120.1,2,  2312.2,2,   7.9142,2,    20.00,-999.000,9,-999.000,9,-999.000,9,  12.3907,2,-999.000,9, -999.00,9, -999.00,-999.000,9,-999.000,   44.67,2,   13.18,2, -32.9986,  38.1041,-999.000,-999.000,20090330,       0236
33RR20090320,        I05,      28,          1,         23,         23,2,20090330,       0047,   -32.9983,    38.1044,       5085,   671.0,  11.2439,  34.9784,2,  34.9755,2,    218.0,2,   219.9,2,    5.35,2,   13.51,2,    0.00,2,    0.99,2,   3.188,2,   1.730,2,   0.8680,2,  2126.2,2,  2306.9,2,   7.8881,2,    20.00,-999.000,9,-999.000,9,-999.000,9,  11.2434,2,-999.000,9, -999.00,9, -999.00,-999.000,9,-999.000,   43.97,2,   14.66,2, -32.9985,  38.1040,-999.000,-999.000,20090330,       0233
33RR20090320,        I05,      28,          1,         22,         22,2,20090330,       0047,   -32.9983,    38.1044,       5085,   771.5,   9.9622,  34.7960,2,  34.7975,2,    216.6,2,   215.3,2,    7.70,2,   16.86,2,    0.00,2,    1.21,2,   3.053,2,   1.625,2,   0.7600,2,  2135.8,2,  2299.2,2,   7.8501,2,    20.00,-999.000,9,-999.000,9,-999.000,9,   9.9641,2,-999.000,9, -999.00,9, -999.00,-999.000,9,-999.000,   43.02,2,   18.65,2, -32.9986,  38.1041,-999.000,-999.000,20090330,       0231
33RR20090320,        I05,      28,          1,         21,         21,2,20090330,       0047,   -32.9983,    38.1044,       5085,   871.8,   8.7309,  34.6651,2,  34.6660,2,    207.3,2,   205.4,2,   12.21,2,   20.72,2,    0.00,2,    1.46,2,   2.695,2,   1.396,2,   0.5750,2,  2150.2,2,  2298.5,2,   7.8066,2,    20.00,-999.000,9,-999.000,9,-999.000,9,   8.7265,2,-999.000,9, -999.00,9, -999.00,-999.000,9,-999.000,   42.07,2,   22.69,2, -32.9985,  38.1040,-999.000,-999.000,20090330,       0228
33RR20090320,        I05,      28,          1,         20,         20,2,20090330,       0047,   -32.9983,    38.1044,       5085,   971.1,   7.2688,  34.5347,2,  34.5348,2,    199.9,2,   199.6,2,   18.51,2,   24.80,2,    0.00,2,    1.75,2,   2.365,2,   1.226,2,   0.4720,2,  2166.7,2,  2296.2,2,   7.7594,2,    20.00,-999.000,9,-999.000,9,-999.000,9,   7.2691,2,-999.000,9, -999.00,9, -999.00,-999.000,9,-999.000,   41.45,2,   26.02,2, -32.9986,  38.1039,-999.000,-999.000,20090330,       0225
33RR20090320,        I05,      28,          1,         19,         19,2,20090330,       0047,   -32.9983,    38.1044,       5085,  1071.2,   6.1954,  34.4803,2,  34.4810,2,    196.3,2,   190.7,2,   27.59,2,   27.95,2,    0.00,2,    1.98,2,   1.816,6,   0.918,6,   0.3240,6,  2184.9,2,  2300.9,2,   7.7239,2,    20.00,-999.000,9,-999.000,9,-999.000,9,   6.1937,2,-999.000,9, -999.00,9, -999.00,-999.000,9,-999.000,   41.25,2,   29.67,2, -32.9986,  38.1040,-999.000,-999.000,20090330,       0222
33RR20090320,        I05,      28,          1,         18,         18,2,20090330,       0047,   -32.9983,    38.1044,       5085,  1172.2,   5.2555,  34.4620,2,  34.4631,2,    181.6,2,   182.7,2,   37.49,2,   30.39,2,    0.00,2,    2.17,2,   1.460,2,   0.735,2,   0.2480,2,  2202.5,2,  2308.3,2,   7.6927,2,    20.00,-999.000,9,-999.000,9,-999.000,9,   5.2567,2,-999.000,9, -999.00,9, -999.00,-999.000,9,-999.000,   40.44,2,   31.73,2, -32.9986,  38.1040,-999.000,-999.000,20090330,       0219
33RR20090320,        I05,      28,          1,         17,         17,2,20090330,       0047,   -32.9983,    38.1044,       5085,  1272.3,   5.1167,  34.5712,2,  34.5768,2,    152.2,2,   149.6,2,   54.60,2,   32.72,2,    0.00,2,    2.37,2,   0.698,2,   0.329,2,   0.0320,2,  2234.3,2,  2326.1,2,   7.6544,2,    20.00,-999.000,9,-999.000,9,-999.000,9,   5.1172,2,-999.000,9, -999.00,9, -999.00,-999.000,9,-999.000,   39.72,2,   34.40,2, -32.9986,  38.1041,-999.000,-999.000,20090330,       0216
33RR20090320,        I05,      28,          1,         16,         16,2,20090330,       0047,   -32.9983,    38.1044,       5085,  1373.4,   4.8130,  34.6211,2,  34.6212,2,    138.9,2,   140.6,2,   63.18,2,   33.66,2,    0.00,2,    2.46,2,   0.475,2,   0.220,2,   0.0500,2,  2248.0,2,  2335.4,2,   7.6392,2,    20.00,-999.000,9,-999.000,9,-999.000,9,   4.8149,2,-999.000,9, -999.00,9, -999.00,-999.000,9,-999.000,   39.83,2,   35.60,2, -32.9986,  38.1041,-999.000,-999.000,20090330,       0213
33RR20090320,        I05,      28,          1,         15,         15,2,20090330,       0047,   -32.9983,    38.1044,       5085,  1473.5,   4.6750,  34.6885,2,  34.6853,2,    129.7,2,   128.9,2,   73.17,2,   34.38,2,    0.00,2,    2.53,2,   0.265,2,   0.123,2,   0.0140,2,  2266.6,6,  2347.1,2,   7.6272,2,    20.00,-999.000,9,-999.000,9,-999.000,9,   4.6735,2,-999.000,9, -999.00,9, -999.00,-999.000,9,-999.000,   40.07,2,   35.90,2, -32.9986,  38.1041,-999.000,-999.000,20090330,       0210
33RR20090320,        I05,      28,          1,         14,         14,2,20090330,       0047,   -32.9983,    38.1044,       5085,  1744.5,   3.4189,  34.6722,2,  34.6729,2,    155.0,2,   154.4,2,   78.17,2,   33.50,2,    0.00,2,    2.43,2,   0.166,2,   0.078,2,   0.0000,2,  2260.5,2,  2349.7,2,   7.6459,2,    20.00,-999.000,9,-999.000,9,-999.000,9,   3.4183,2,-999.000,9, -999.00,9, -999.00,-999.000,9,-999.000,   39.76,2,   35.21,2, -32.9986,  38.1040,-999.000,-999.000,20090330,       0204
33RR20090320,        I05,      28,          1,         13,         13,2,20090330,       0047,   -32.9983,    38.1044,       5085,  1945.9,   2.9975,  34.7032,2,  34.7022,2,    169.7,2,   166.2,2,   79.35,2,   32.49,2,    0.00,2,    2.34,2,   0.101,2,   0.000,2,   0.0020,2,  2256.4,2,  2352.4,2,   7.6622,2,    20.00,-999.000,9,-999.000,9,-999.000,9,   2.9972,2,-999.000,9, -999.00,9, -999.00,-999.000,9,-999.000,   40.01,2,   34.22,2, -32.9986,  38.1040,-999.000,-999.000,20090330,       0200
33RR20090320,        I05,      28,          1,         12,         12,2,20090330,       0047,   -32.9983,    38.1044,       5085,  2176.3,   2.6960,  34.7411,2,  34.7413,2,    183.9,2,   183.7,2,   73.90,2,   30.60,2,    0.00,2,    2.18,2,   0.063,2,   0.031,2,   0.0010,2,  2243.3,2,  2350.9,2,   7.6866,2,    20.00,-999.000,9,-999.000,9,-999.000,9,   2.6958,2,-999.000,9, -999.00,9, -999.00,-999.000,9,-999.000,   39.89,2,   32.54,2, -32.9985,  38.1040,-999.000,-999.000,20090330,       0154
33RR20090320,        I05,      28,          1,         11,         11,2,20090330,       0047,   -32.9983,    38.1044,       5085,  2428.4,   2.5325,  34.7729,2,  34.7732,2,    191.3,2,   191.3,2,   75.08,2,   29.60,2,    0.00,2,    2.11,2,   0.025,2,   0.016,2,   0.0000,2,  2241.3,2,  2351.9,2,   7.7024,2,    20.00,-999.000,9,-999.000,9,-999.000,9,   2.5323,2,-999.000,9, -999.00,9, -999.00,-999.000,9,-999.000,   39.53,2,   31.21,2, -32.9985,  38.1039,-999.000,-999.000,20090330,       0149
33RR20090320,        I05,      28,          1,         10,         10,2,20090330,       0047,   -32.9983,    38.1044,       5085,  2681.1,   2.3959,  34.7940,2,  34.7938,2,    202.0,2,   203.4,2,   71.25,2,   28.33,2,    0.00,2,    2.00,2,   0.018,2,   0.012,2,  -0.0010,2,  2230.9,2,  2349.9,2,   7.7194,2,    20.00,-999.000,9,-999.000,9,-999.000,9,   2.3957,2,-999.000,9, -999.00,9, -999.00,-999.000,9,-999.000,   39.45,2,   30.34,2, -32.9986,  38.1040,-999.000,-999.000,20090330,       0144
33RR20090320,        I05,      28,          1,          9,          9,2,20090330,       0047,   -32.9983,    38.1044,       5085,  2931.9,   2.2534,  34.7990,2,  34.7991,2,    208.7,2,   208.0,2,   72.63,2,   27.99,2,    0.00,2,    1.98,2,   0.013,2,   0.010,2,   0.0160,2,  2231.0,2,  2348.9,2,   7.7251,2,    20.00,-999.000,9,-999.000,9,-999.000,9,   2.2531,2,-999.000,9, -999.00,9, -999.00,-999.000,9,-999.000,   39.60,2,   29.76,2, -32.9985,  38.1040,-999.000,-999.000,20090330,       0138
33RR20090320,        I05,      28,          1,          8,          8,2,20090330,       0047,   -32.9983,    38.1044,       5085,  3220.2,   2.0639,  34.7973,2,  34.7966,2,    212.9,2,   212.8,2,   75.81,2,   27.88,2,    0.00,2,    1.96,2,   0.015,2,   0.007,2,   0.0110,2,  2230.9,2,  2351.1,2,   7.7286,2,    20.00,-999.000,9,-999.000,9,-999.000,9,   2.0637,2,-999.000,9, -999.00,9, -999.00,-999.000,9,-999.000,   39.18,2,   29.69,2, -32.9986,  38.1041,-999.000,-999.000,20090330,       0132
33RR20090320,        I05,      28,          1,          7,          7,2,20090330,       0047,   -32.9983,    38.1044,       5085,  3524.2,   1.7275,  34.7793,2,  34.7789,2,    215.0,2,   215.0,2,   85.23,2,   28.65,2,    0.00,2,    2.02,2,   0.023,2,   0.015,2,   0.0110,2,  2236.9,2,  2355.3,2,   7.7233,2,    20.00,-999.000,9,-999.000,9,-999.000,9,   1.7277,2,-999.000,9, -999.00,9, -999.00,-999.000,9,-999.000,   39.62,2,   30.38,2, -32.9985,  38.1040,-999.000,-999.000,20090330,       0125
33RR20090320,        I05,      28,          1,          6,          6,2,20090330,       0047,   -32.9983,    38.1044,       5085,  3828.2,   1.3882,  34.7562,2,  34.7557,2,    215.8,2,   216.0,2,   96.07,2,   29.65,2,    0.00,2,    2.09,2,   0.039,2,   0.020,2,   0.0130,2,  2243.4,2,  2359.1,2,   7.7149,2,    20.00,-999.000,9,-999.000,9,-999.000,9,   1.3873,2,-999.000,9, -999.00,9, -999.00,-999.000,9,-999.000,   40.09,2,   31.13,2, -32.9986,  38.1041,-999.000,-999.000,20090330,       0118
33RR20090320,        I05,      28,          1,          5,          5,2,20090330,       0047,   -32.9983,    38.1044,       5085,  4133.2,   0.9748,  34.7266,2,  34.7264,2,    216.9,2,   217.2,2,  108.97,2,   30.87,2,    0.00,2,    2.19,2,   0.065,2,   0.035,2,   0.0150,2,  2251.9,2,  2364.5,2,   7.7034,2,    20.00,-999.000,9,-999.000,9,-999.000,9,   0.9746,2,-999.000,9, -999.00,9, -999.00,-999.000,9,-999.000,   40.05,2,   32.36,2, -32.9986,  38.1041,-999.000,-999.000,20090330,       0111
33RR20090320,        I05,      28,          1,          4,          4,2,20090330,       0047,   -32.9983,    38.1044,       5085,  4439.1,   0.7843,  34.7111,2,  34.7111,2,    217.6,2,   218.4,2,  115.82,2,   31.48,2,    0.00,2,    2.24,2,   0.105,2,   0.049,2,   0.0270,2,  2256.3,2,  2366.6,2,   7.6978,2,    20.00,-999.000,9,-999.000,9,-999.000,9,   0.7837,2,-999.000,9, -999.00,9, -999.00,-999.000,9,-999.000,   40.02,2,   33.43,2, -32.9985,  38.1043,-999.000,-999.000,20090330,       0104
33RR20090320,        I05,      28,          1,          3,          3,2,20090330,       0047,   -32.9983,    38.1044,       5085,  4745.9,   0.6578,  34.6998,2,  34.6995,2,    218.0,2,   219.1,2,  120.45,2,   31.81,2,    0.00,2,    2.27,2,   0.151,6,   0.068,6,   0.0150,2,  2259.3,2,  2368.5,2,   7.6928,2,    20.00,-999.000,9,-999.000,9,-999.000,9,   0.6582,2,-999.000,9, -999.00,9, -999.00,-999.000,9,-999.000,   40.15,2,   33.50,2, -32.9984,  38.1043,-999.000,-999.000,20090330,       0058
33RR20090320,        I05,      28,          1,          2,          2,2,20090330,       0047,   -32.9983,    38.1044,       5085,  4951.0,   0.6249,  34.6955,2,  34.6952,2,    219.1,2,   219.1,2,  122.04,2,   32.09,2,    0.00,2,    2.28,2,   0.180,2,   0.079,2,   0.0000,2,  2261.2,2,  2367.4,2,   7.6902,2,    20.00,-999.000,9,-999.000,9,-999.000,9,   0.6251,2,-999.000,9, -999.00,9, -999.00,-999.000,9,-999.000,   39.48,2,   33.92,2, -32.9984,  38.1044,-999.000,-999.000,20090330,       0052
33RR20090320,        I05,      28,          1,          1,          1,2,20090330,       0047,   -32.9983,    38.1044,       5085,  5165.2,   0.6279,  34.6935,2,  34.6944,2,    219.5,2,   219.6,2,  122.61,2,   32.14,2,    0.00,2,    2.29,2,   0.194,2,   0.087,2,   0.0000,2,  2262.3,6,  2368.9,2,   7.6896,2,    20.00,-999.000,9,-999.000,9,-999.000,9,   0.6278,2,-999.000,9, -999.00,9, -999.00,-999.000,9,-999.000,   39.70,2,   34.06,2, -32.9984,  38.1044,-999.000,-999.000,20090330,       0047