BOTTLE,20220814CCHSIOAMB
EXPOCODE,SECT_ID,STNNBR,CASTNO,SAMPNO,BTLNBR,BTLNBR_FLAG_W,DATE,TIME,LATITUDE,LONGITUDE,DEPTH,CTDPRS,CTDTMP,CTDSAL,CTDSAL_FLAG_W,SALNTY,SALNTY_FLAG_W,CTDOXY,CTDOXY_FLAG_W,OXYGEN,OXYGEN_FLAG_W,SILCAT,SILCAT_FLAG_W,NITRAT,NITRAT_FLAG_W,NITRIT,NITRIT_FLAG_W,PHSPHT,PHSPHT_FLAG_W,CFC-11,CFC-11_FLAG_W,CFC-12,CFC-12_FLAG_W,SF6,SF6_FLAG_W,TCARBN,TCARBN_FLAG_W,ALKALI,ALKALI_FLAG_W,PH_TOT,PH_TOT_FLAG_W,PH_TMP,TRITUM,TRITUM_FLAG_W,HELIUM,HELIUM_FLAG_W,DELHE3,DELHE3_FLAG_W,REFTMP,REFTMP_FLAG_W,DELC13,DELC13_FLAG_W,DELC14,DELC14_FLAG_W,C14ERR,NEON,NEON_FLAG_W,NEONER,DOC,DOC_FLAG_W,TDN,TDN_FLAG_W,BTL_LAT,BTL_LON,HELIER,DELHER,BTL_DATE,BTL_TIME
,,,,,,,,,,,METERS,DBAR,ITS-90,PSS-78,,PSS-78,,UMOL/KG,,UMOL/KG,,UMOL/KG,,UMOL/KG,,UMOL/KG,,UMOL/KG,,PMOL/KG,,PMOL/KG,,FMOL/KG,,UMOL/KG,,UMOL/KG,,,,DEG C,TU,,NMOL/KG,,PERCNT,,DEG C,,/MILLE,,/MILLE,,/MILLE,NMOL/KG,,NMOL/KG,UMOL/KG,,UMOL/KG,,,,NMOL/KG,PERCNT,,
33RR20090320,        I05,      25,          1,         36,         36,2,20090329,       0430,   -32.9997,    36.4947,       4514,    11.3,  25.3233,  35.5160,2,  35.5151,2,    206.6,2,   206.2,2,    1.78,2,    0.06,2,    0.00,2,    0.05,2,-999.000,9,-999.000,9,-999.0000,9,  1993.5,6,  2326.9,2,   8.1680,2,    20.00,-999.000,9,-999.000,9,-999.000,9,  25.3220,2,-999.000,9, -999.00,9, -999.00,-999.000,9,-999.000, -999.00,9, -999.00,9, -32.9995,  36.4946,-999.000,-999.000,20090329,       0644
33RR20090320,        I05,      25,          1,         35,         35,2,20090329,       0430,   -32.9997,    36.4947,       4514,    26.6,  24.6998,  35.5034,2,  35.5078,2,    208.3,2,   208.4,2,    1.76,2,    0.07,2,    0.00,2,    0.05,2,-999.000,9,-999.000,9,-999.0000,9,  1998.0,2,  2325.8,2,   8.1611,2,    20.00,-999.000,9,-999.000,9,-999.000,9,  24.7068,2,-999.000,9, -999.00,9, -999.00,-999.000,9,-999.000, -999.00,9, -999.00,9, -32.9995,  36.4946,-999.000,-999.000,20090329,       0643
33RR20090320,        I05,      25,          1,         34,         34,2,20090329,       0430,   -32.9997,    36.4947,       4514,    46.5,  24.2744,  35.4992,2,  35.4993,2,    210.8,2,   210.1,2,    1.93,2,    0.08,2,    0.00,2,    0.05,2,-999.000,9,-999.000,9,-999.0000,9,  2000.5,2,  2324.3,2,   8.1558,2,    20.00,-999.000,9,-999.000,9,-999.000,9,  24.2786,2,-999.000,9, -999.00,9, -999.00,-999.000,9,-999.000, -999.00,9, -999.00,9, -32.9995,  36.4946,-999.000,-999.000,20090329,       0641
33RR20090320,        I05,      25,          1,         33,         33,2,20090329,       0430,   -32.9997,    36.4947,       4514,    71.9,  22.5748,  35.5474,2,  35.5465,2,    216.2,2,   219.3,2,    1.91,2,    0.08,2,    0.00,2,    0.07,2,-999.000,9,-999.000,9,-999.0000,9,  2021.4,2,  2328.9,2,   8.1251,2,    20.00,-999.000,9,-999.000,9,-999.000,9,  22.5509,2,-999.000,9, -999.00,9, -999.00,-999.000,9,-999.000, -999.00,9, -999.00,9, -32.9995,  36.4946,-999.000,-999.000,20090329,       0639
33RR20090320,        I05,      25,          1,         32,         32,2,20090329,       0430,   -32.9997,    36.4947,       4514,    96.3,  19.9715,  35.5315,2,  35.5321,2,    207.9,2,   205.5,2,    2.66,2,    1.94,2,    0.14,2,    0.23,2,-999.000,9,-999.000,9,-999.0000,9,  2054.2,2,  2328.2,2,   8.0686,2,    20.00,-999.000,9,-999.000,9,-999.000,9,  19.9680,2,-999.000,9, -999.00,9, -999.00,-999.000,9,-999.000, -999.00,9, -999.00,9, -32.9995,  36.4946,-999.000,-999.000,20090329,       0638
33RR20090320,        I05,      25,          1,         31,         31,2,20090329,       0430,   -32.9997,    36.4947,       4514,   141.1,  18.2858,  35.5422,2,  35.5412,2,    200.0,2,   198.4,2,    4.01,2,    3.92,2,    0.01,2,    0.36,2,-999.000,9,-999.000,9,-999.0000,9,  2075.8,2,  2328.5,2,   8.0301,2,    20.00,-999.000,9,-999.000,9,-999.000,9,  18.2813,2,-999.000,9, -999.00,9, -999.00,-999.000,9,-999.000, -999.00,9, -999.00,9, -32.9995,  36.4946,-999.000,-999.000,20090329,       0635
33RR20090320,        I05,      25,          1,         30,         30,2,20090329,       0430,   -32.9997,    36.4947,       4514,   191.8,  17.1172,  35.5458,2,  35.5465,2,    201.6,2,   204.0,2,    3.80,2,    4.52,2,    0.01,2,    0.41,2,-999.000,9,-999.000,9,-999.0000,9,  2084.6,2,  2328.7,2,   8.0146,2,    20.00,-999.000,9,-999.000,9,-999.000,9,  17.1157,2,-999.000,9, -999.00,9, -999.00,-999.000,9,-999.000, -999.00,9, -999.00,9, -32.9995,  36.4946,-999.000,-999.000,20090329,       0633
33RR20090320,        I05,      25,          1,         29,         29,2,20090329,       0430,   -32.9997,    36.4947,       4514,   241.1,  16.3870,  35.5205,2,  35.5197,2,    205.5,2,   207.2,2,    4.17,2,    5.31,2,    0.01,2,    0.46,2,-999.000,9,-999.000,9,-999.0000,9,  2090.0,2,  2328.7,2,   8.0022,2,    20.00,-999.000,9,-999.000,9,-999.000,9,  16.3846,2,-999.000,9, -999.00,9, -999.00,-999.000,9,-999.000, -999.00,9, -999.00,9, -32.9995,  36.4946,-999.000,-999.000,20090329,       0630
33RR20090320,        I05,      25,          1,         28,         28,2,20090329,       0430,   -32.9997,    36.4947,       4514,   290.9,  15.6917,  35.4800,2,  35.4798,2,    199.6,2,   202.0,2,    4.33,2,    6.62,2,    0.00,2,    0.55,2,-999.000,9,-999.000,9,-999.0000,9,  2102.8,2,  2326.5,2,   7.9773,2,    20.00,-999.000,9,-999.000,9,-999.000,9,  15.6889,2,-999.000,9, -999.00,9, -999.00,-999.000,9,-999.000, -999.00,9, -999.00,9, -32.9997,  36.4947,-999.000,-999.000,20090329,       0628
33RR20090320,        I05,      25,          1,         27,         27,2,20090329,       0430,   -32.9997,    36.4947,       4514,   340.4,  14.8795,  35.4221,2,  35.4221,2,    203.8,2,   204.2,2,    4.70,2,    7.70,2,    0.00,2,    0.61,2,-999.000,9,-999.000,9,-999.0000,9,  2108.0,2,  2326.5,2,   7.9598,2,    20.00,-999.000,9,-999.000,9,-999.000,9,  14.8847,2,-999.000,9, -999.00,9, -999.00,-999.000,9,-999.000, -999.00,9, -999.00,9, -32.9997,  36.4946,-999.000,-999.000,20090329,       0626
33RR20090320,        I05,      25,          1,         26,         26,2,20090329,       0430,   -32.9997,    36.4947,       4514,   390.6,  14.3463,  35.3838,2,  35.3828,2,    209.7,2,   210.3,2,    4.29,2,    8.00,2,    0.00,2,    0.63,2,-999.000,9,-999.000,9,-999.0000,9,  -999.0,9,  -999.0,9,-999.0000,9,  -999.00,-999.000,9,-999.000,9,-999.000,9,  14.3537,2,-999.000,9, -999.00,9, -999.00,-999.000,9,-999.000, -999.00,9, -999.00,9, -32.9997,  36.4946,-999.000,-999.000,20090329,       0623
33RR20090320,        I05,      25,          1,         25,         25,2,20090329,       0430,   -32.9997,    36.4947,       4514,   441.0,  13.7666,  35.3185,2,  35.3237,2,    208.6,2,   209.2,2,    4.86,2,    9.17,2,    0.00,2,    0.70,2,-999.000,9,-999.000,9,-999.0000,9,  2113.8,2,  2321.9,2,   7.9388,2,    20.00,-999.000,9,-999.000,9,-999.000,9,  13.7786,2,-999.000,9, -999.00,9, -999.00,-999.000,9,-999.000, -999.00,9, -999.00,9, -32.9997,  36.4946,-999.000,-999.000,20090329,       0621
33RR20090320,        I05,      25,          1,         24,         24,2,20090329,       0430,   -32.9997,    36.4947,       4514,   490.6,  13.2612,  35.2653,2,  35.2636,2,    216.1,2,   216.3,2,    4.45,2,    9.71,2,    0.00,2,    0.74,2,-999.000,9,-999.000,9,-999.0000,9,  -999.0,9,  -999.0,9,-999.0000,9,  -999.00,-999.000,9,-999.000,9,-999.000,9,  13.2681,2,-999.000,9, -999.00,9, -999.00,-999.000,9,-999.000, -999.00,9, -999.00,9, -32.9997,  36.4946,-999.000,-999.000,20090329,       0618
33RR20090320,        I05,      25,          1,         23,         23,2,20090329,       0430,   -32.9997,    36.4947,       4514,   570.6,  12.4752,  35.1536,2,  35.1547,2,    215.6,2,   215.9,2,    4.82,2,   11.32,2,    0.00,2,    0.83,2,-999.000,9,-999.000,9,-999.0000,9,  2117.6,2,  2313.3,2,   7.9141,2,    20.00,-999.000,9,-999.000,9,-999.000,9,  12.4760,2,-999.000,9, -999.00,9, -999.00,-999.000,9,-999.000, -999.00,9, -999.00,9, -32.9997,  36.4946,-999.000,-999.000,20090329,       0616
33RR20090320,        I05,      25,          1,         22,         22,2,20090329,       0430,   -32.9997,    36.4947,       4514,   670.3,  11.4284,  35.0028,2,  35.0005,2,    218.4,2,   214.8,2,    5.97,2,   13.71,2,    0.00,2,    0.99,2,-999.000,9,-999.000,9,-999.0000,9,  -999.0,9,  -999.0,9,-999.0000,9,  -999.00,-999.000,9,-999.000,9,-999.000,9,  11.4310,2,-999.000,9, -999.00,9, -999.00,-999.000,9,-999.000, -999.00,9, -999.00,9, -32.9997,  36.4946,-999.000,-999.000,20090329,       0613
33RR20090320,        I05,      25,          1,         21,         21,2,20090329,       0430,   -32.9997,    36.4947,       4514,   770.0,  10.2958,  34.8498,2,  34.8522,2,    211.5,2,   213.3,2,    7.71,2,   16.30,2,    0.00,2,    1.16,2,-999.000,9,-999.000,9,-999.0000,9,  2133.2,2,  2303.4,2,   7.8583,2,    20.00,-999.000,9,-999.000,9,-999.000,9,  10.3040,2,-999.000,9, -999.00,9, -999.00,-999.000,9,-999.000, -999.00,9, -999.00,9, -32.9997,  36.4946,-999.000,-999.000,20090329,       0610
33RR20090320,        I05,      25,          1,         20,         20,2,20090329,       0430,   -32.9997,    36.4947,       4514,   873.0,   9.0828,  34.7019,2,  34.7026,2,    208.7,2,   210.0,2,   10.63,2,   19.53,2,    0.00,2,    1.37,2,-999.000,9,-999.000,9,-999.0000,9,  -999.0,9,  -999.0,9,-999.0000,9,  -999.00,-999.000,9,-999.000,9,-999.000,9,   9.0952,2,-999.000,9, -999.00,9, -999.00,-999.000,9,-999.000, -999.00,9, -999.00,9, -32.9997,  36.4947,-999.000,-999.000,20090329,       0607
33RR20090320,        I05,      25,          1,         19,         19,2,20090329,       0430,   -32.9997,    36.4947,       4514,   971.0,   7.6630,  34.5703,2,  34.5694,2,    201.5,2,   200.2,2,   17.29,2,   23.91,2,    0.00,2,    1.68,2,-999.000,9,-999.000,9,-999.0000,9,  -999.0,9,  -999.0,9,-999.0000,9,  -999.00,-999.000,9,-999.000,9,-999.000,9,   7.6596,2,-999.000,9, -999.00,9, -999.00,-999.000,9,-999.000, -999.00,9, -999.00,9, -32.9998,  36.4946,-999.000,-999.000,20090329,       0605
33RR20090320,        I05,      25,          1,         18,         18,2,20090329,       0430,   -32.9997,    36.4947,       4514,  1071.3,   6.7000,  34.5284,2,  34.5300,2,    189.2,2,   185.0,2,   26.73,2,   27.50,2,    0.00,2,    1.91,2,-999.000,9,-999.000,9,-999.0000,9,  -999.0,9,  -999.0,9,-999.0000,9,  -999.00,-999.000,9,-999.000,9,-999.000,9,   6.7264,2,-999.000,9, -999.00,9, -999.00,-999.000,9,-999.000, -999.00,9, -999.00,9, -32.9997,  36.4945,-999.000,-999.000,20090329,       0602
33RR20090320,        I05,      25,          1,         17,         17,2,20090329,       0430,   -32.9997,    36.4947,       4514,  1173.4,   5.2589,  34.4400,2,  34.4485,2,    188.2,2,   188.3,2,   34.82,2,   30.19,2,    0.00,2,    2.11,2,-999.000,9,-999.000,9,-999.0000,9,  -999.0,9,  -999.0,9,-999.0000,9,  -999.00,-999.000,9,-999.000,9,-999.000,9,   5.2916,2,-999.000,9, -999.00,9, -999.00,-999.000,9,-999.000, -999.00,9, -999.00,9, -32.9996,  36.4945,-999.000,-999.000,20090329,       0559
33RR20090320,        I05,      25,          1,         16,         16,2,20090329,       0430,   -32.9997,    36.4947,       4514,  1272.2,   5.0171,  34.5296,2,  34.5264,2,    179.1,2,   162.2,2,   49.89,2,   32.38,2,    0.00,2,    2.28,2,-999.000,9,-999.000,9,-999.0000,9,  -999.0,9,  -999.0,9,-999.0000,9,  -999.00,-999.000,9,-999.000,9,-999.000,9,   5.0266,2,-999.000,9, -999.00,9, -999.00,-999.000,9,-999.000, -999.00,9, -999.00,9, -32.9995,  36.4944,-999.000,-999.000,20090329,       0556
33RR20090320,        I05,      25,          1,         15,         15,2,20090329,       0430,   -32.9997,    36.4947,       4514,  1373.8,   4.1553,  34.4855,2,  34.4833,2,    168.8,2,   174.2,2,   51.67,2,   32.92,2,    0.00,2,    2.32,2,-999.000,9,-999.000,9,-999.0000,9,  -999.0,9,  -999.0,9,-999.0000,9,  -999.00,-999.000,9,-999.000,9,-999.000,9,   4.1516,2,-999.000,9, -999.00,9, -999.00,-999.000,9,-999.000, -999.00,9, -999.00,9, -32.9995,  36.4945,-999.000,-999.000,20090329,       0553
33RR20090320,        I05,      25,          1,         14,         14,2,20090329,       0430,   -32.9997,    36.4947,       4514,  1473.5,   3.8055,  34.5255,2,  34.5271,2,    164.4,2,   168.4,2,   59.04,2,   33.32,2,    0.00,2,    2.37,2,-999.000,9,-999.000,9,-999.0000,9,  -999.0,9,  -999.0,9,-999.0000,9,  -999.00,-999.000,9,-999.000,9,-999.000,9,   3.8088,2,-999.000,9, -999.00,9, -999.00,-999.000,9,-999.000, -999.00,9, -999.00,9, -32.9995,  36.4945,-999.000,-999.000,20090329,       0551
33RR20090320,        I05,      25,          1,         13,         13,2,20090329,       0430,   -32.9997,    36.4947,       4514,  1573.8,   3.5589,  34.5665,2,  34.5654,2,    166.8,2,   165.1,2,   64.63,2,   33.63,2,    0.00,2,    2.38,2,-999.000,9,-999.000,9,-999.0000,9,  -999.0,9,  -999.0,9,-999.0000,9,  -999.00,-999.000,9,-999.000,9,-999.000,9,   3.5587,2,-999.000,9, -999.00,9, -999.00,-999.000,9,-999.000, -999.00,9, -999.00,9, -32.9996,  36.4946,-999.000,-999.000,20090329,       0548
33RR20090320,        I05,      25,          1,         12,         12,2,20090329,       0430,   -32.9997,    36.4947,       4514,  1746.0,   3.1287,  34.6495,2,  34.6499,2,    164.7,2,   166.4,2,   72.62,2,   32.93,2,    0.00,2,    2.33,2,-999.000,9,-999.000,9,-999.0000,9,  -999.0,9,  -999.0,9,-999.0000,9,  -999.00,-999.000,9,-999.000,9,-999.000,9,   3.1285,2,-999.000,9, -999.00,9, -999.00,-999.000,9,-999.000, -999.00,9, -999.00,9, -32.9996,  36.4946,-999.000,-999.000,20090329,       0543
33RR20090320,        I05,      25,          1,         11,         11,2,20090329,       0430,   -32.9997,    36.4947,       4514,  1946.0,   2.8952,  34.7014,2,  34.7011,2,    171.8,2,   173.2,2,   74.81,2,   31.88,2,    0.00,2,    2.26,2,-999.000,9,-999.000,9,-999.0000,9,  -999.0,9,  -999.0,9,-999.0000,9,  -999.00,-999.000,9,-999.000,9,-999.000,9,   2.8947,2,-999.000,9, -999.00,9, -999.00,-999.000,9,-999.000, -999.00,9, -999.00,9, -32.9997,  36.4946,-999.000,-999.000,20090329,       0538
33RR20090320,        I05,      25,          1,         10,         10,2,20090329,       0430,   -32.9997,    36.4947,       4514,  2178.1,   2.7186,  34.7414,2,  34.7416,2,    181.9,2,   182.9,2,   74.20,2,   30.55,2,    0.00,2,    2.17,2,-999.000,9,-999.000,9,-999.0000,9,  -999.0,9,  -999.0,9,-999.0000,9,  -999.00,-999.000,9,-999.000,9,-999.000,9,   2.7182,2,-999.000,9, -999.00,9, -999.00,-999.000,9,-999.000, -999.00,9, -999.00,9, -32.9997,  36.4945,-999.000,-999.000,20090329,       0533
33RR20090320,        I05,      25,          1,          9,          9,2,20090329,       0430,   -32.9997,    36.4947,       4514,  2429.5,   2.5939,  34.7746,2,  34.7755,2,    196.2,2,   195.9,2,   68.78,2,   28.82,2,    0.00,2,    2.02,2,-999.000,9,-999.000,9,-999.0000,9,  -999.0,9,  -999.0,9,-999.0000,9,  -999.00,-999.000,9,-999.000,9,-999.000,9,   2.5937,2,-999.000,9, -999.00,9, -999.00,-999.000,9,-999.000, -999.00,9, -999.00,9, -32.9997,  36.4945,-999.000,-999.000,20090329,       0527
33RR20090320,        I05,      25,          1,          8,          8,2,20090329,       0430,   -32.9997,    36.4947,       4514,  2682.7,   2.4524,  34.7985,2,  34.7987,2,    205.6,2,   206.5,2,   66.75,2,   27.64,2,    0.00,2,    1.94,2,   0.031,2,   0.011,2,   0.0000,2,  -999.0,9,  -999.0,9,-999.0000,9,  -999.00,-999.000,9,-999.000,9,-999.000,9,   2.4520,2,-999.000,9, -999.00,9, -999.00,-999.000,9,-999.000, -999.00,9, -999.00,9, -32.9996,  36.4945,-999.000,-999.000,20090329,       0521
33RR20090320,        I05,      25,          1,          7,          7,2,20090329,       0430,   -32.9997,    36.4947,       4514,  2937.1,   2.3554,  34.8079,2,  34.8077,2,    212.4,2,   212.0,2,   66.74,2,   26.99,2,    0.00,2,    1.90,2,   0.028,2,   0.013,2,   0.0000,2,  -999.0,9,  -999.0,9,-999.0000,9,  -999.00,-999.000,9,-999.000,9,-999.000,9,   2.3551,2,-999.000,9, -999.00,9, -999.00,-999.000,9,-999.000, -999.00,9, -999.00,9, -32.9997,  36.4944,-999.000,-999.000,20090329,       0515
33RR20090320,        I05,      25,          1,          6,          6,2,20090329,       0430,   -32.9997,    36.4947,       4514,  3225.3,   2.0377,  34.8006,2,  34.8005,2,    215.5,2,   215.3,2,   74.56,2,   27.44,2,    0.00,2,    1.93,2,   0.027,2,   0.014,2,   0.0000,2,  -999.0,9,  -999.0,9,-999.0000,9,  -999.00,-999.000,9,-999.000,9,-999.000,9,   2.0378,2,-999.000,9, -999.00,9, -999.00,-999.000,9,-999.000, -999.00,9, -999.00,9, -32.9998,  36.4945,-999.000,-999.000,20090329,       0508
33RR20090320,        I05,      25,          1,          5,          5,2,20090329,       0430,   -32.9997,    36.4947,       4514,  3530.1,   1.6421,  34.7759,2,  34.7761,2,    216.2,2,   216.2,2,   86.62,2,   28.58,2,    0.00,2,    2.01,2,   0.053,2,   0.022,2,   0.0030,2,  -999.0,9,  -999.0,9,-999.0000,9,  -999.00,-999.000,9,-999.000,9,-999.000,9,   1.6422,2,-999.000,9, -999.00,9, -999.00,-999.000,9,-999.000, -999.00,9, -999.00,9, -32.9997,  36.4944,-999.000,-999.000,20090329,       0502
33RR20090320,        I05,      25,          1,          4,          4,2,20090329,       0430,   -32.9997,    36.4947,       4514,  3834.4,   1.3716,  34.7550,2,  34.7549,2,    216.1,2,   216.2,2,   96.50,2,   29.52,2,    0.00,2,    2.07,2,   0.071,2,   0.033,2,   0.0230,2,  -999.0,9,  -999.0,9,-999.0000,9,  -999.00,-999.000,9,-999.000,9,-999.000,9,   1.3713,2,-999.000,9, -999.00,9, -999.00,-999.000,9,-999.000, -999.00,9, -999.00,9, -32.9997,  36.4945,-999.000,-999.000,20090329,       0455
33RR20090320,        I05,      25,          1,          3,          3,2,20090329,       0430,   -32.9997,    36.4947,       4514,  4140.1,   1.1973,  34.7408,2,  34.7411,2,    216.3,2,   216.6,2,  102.57,2,   30.17,2,    0.00,2,    2.13,2,   0.084,2,   0.036,2,   0.0230,2,  -999.0,9,  -999.0,9,-999.0000,9,  -999.00,-999.000,9,-999.000,9,-999.000,9,   1.1973,2,-999.000,9, -999.00,9, -999.00,-999.000,9,-999.000, -999.00,9, -999.00,9, -32.9995,  36.4946,-999.000,-999.000,20090329,       0445
33RR20090320,        I05,      25,          1,          2,          2,2,20090329,       0430,   -32.9997,    36.4947,       4514,  4343.2,   0.9941,  34.7255,2,  34.7256,2,    217.4,2,   217.5,2,  109.46,2,   30.97,2,    0.00,2,    2.16,2,   0.103,2,   0.042,2,   0.0000,2,  -999.0,9,  -999.0,9,-999.0000,9,  -999.00,-999.000,9,-999.000,9,-999.000,9,   0.9943,2,-999.000,9, -999.00,9, -999.00,-999.000,9,-999.000, -999.00,9, -999.00,9, -32.9999,  36.4947,-999.000,-999.000,20090329,       0436
33RR20090320,        I05,      25,          1,          1,          1,2,20090329,       0430,   -32.9997,    36.4947,       4514,  4569.1,   0.7076,  34.7047,2,  34.7013,3,    218.5,2,   219.1,2,  119.61,2,   32.06,2,    0.00,2,    2.23,2,   0.182,6,   0.077,6,   0.0210,6,  -999.0,9,  -999.0,9,-999.0000,9,  -999.00,-999.000,9,-999.000,9,-999.000,9,   0.6958,2,-999.000,9, -999.00,9, -999.00,-999.000,9,-999.000, -999.00,9, -999.00,9, -32.9997,  36.4947,-999.000,-999.000,20090329,       0430