BOTTLE,20220814CCHSIOAMB
EXPOCODE,SECT_ID,STNNBR,CASTNO,SAMPNO,BTLNBR,BTLNBR_FLAG_W,DATE,TIME,LATITUDE,LONGITUDE,DEPTH,CTDPRS,CTDTMP,CTDSAL,CTDSAL_FLAG_W,SALNTY,SALNTY_FLAG_W,CTDOXY,CTDOXY_FLAG_W,OXYGEN,OXYGEN_FLAG_W,SILCAT,SILCAT_FLAG_W,NITRAT,NITRAT_FLAG_W,NITRIT,NITRIT_FLAG_W,PHSPHT,PHSPHT_FLAG_W,CFC-11,CFC-11_FLAG_W,CFC-12,CFC-12_FLAG_W,SF6,SF6_FLAG_W,TCARBN,TCARBN_FLAG_W,ALKALI,ALKALI_FLAG_W,PH_TOT,PH_TOT_FLAG_W,PH_TMP,TRITUM,TRITUM_FLAG_W,HELIUM,HELIUM_FLAG_W,DELHE3,DELHE3_FLAG_W,REFTMP,REFTMP_FLAG_W,DELC13,DELC13_FLAG_W,DELC14,DELC14_FLAG_W,C14ERR,NEON,NEON_FLAG_W,NEONER,DOC,DOC_FLAG_W,TDN,TDN_FLAG_W,BTL_LAT,BTL_LON,HELIER,DELHER,BTL_DATE,BTL_TIME
,,,,,,,,,,,METERS,DBAR,ITS-90,PSS-78,,PSS-78,,UMOL/KG,,UMOL/KG,,UMOL/KG,,UMOL/KG,,UMOL/KG,,UMOL/KG,,PMOL/KG,,PMOL/KG,,FMOL/KG,,UMOL/KG,,UMOL/KG,,,,DEG C,TU,,NMOL/KG,,PERCNT,,DEG C,,/MILLE,,/MILLE,,/MILLE,NMOL/KG,,NMOL/KG,UMOL/KG,,UMOL/KG,,,,NMOL/KG,PERCNT,,
33RR20090320,        I05,     161,          1,         36,         36,2,20090504,       0441,   -32.0069,   101.5723,       2167,     5.0,  18.7984,  36.0319,2,  36.0335,2,    233.9,2,   233.1,2,    1.05,2,    0.07,2,    0.00,2,    0.12,2,   2.303,6,   1.362,6,   1.1480,6,  2086.2,6,  2368.4,2,   8.0779,2,    20.00,-999.000,9,-999.000,9,-999.000,9,  18.7956,2,   1.179,2,    49.2,2,     2.8,-999.000,9,-999.000,   66.04,2,    4.10,2, -32.0072, 101.5720,-999.000,-999.000,20090504,       0559
33RR20090320,        I05,     161,          1,         32,         32,2,20090504,       0441,   -32.0069,   101.5723,       2167,    29.0,  18.7808,  36.0323,2,  36.0331,2,    233.8,2,   233.5,2,    1.05,2,    0.07,2,    0.00,2,    0.12,2,   2.309,2,   1.365,2,   1.2210,2,  2087.4,2,  2368.0,2,   8.0780,2,    20.00,-999.000,9,-999.000,9,-999.000,9,  18.7795,2,-999.000,9, -999.00,9, -999.00,-999.000,9,-999.000,   65.30,2,    4.34,2, -32.0072, 101.5720,-999.000,-999.000,20090504,       0557
33RR20090320,        I05,     161,          1,         31,         31,2,20090504,       0441,   -32.0069,   101.5723,       2167,    53.9,  18.7655,  36.0311,2,  36.0321,2,    232.5,2,   232.8,2,    1.05,2,    0.02,2,    0.00,2,    0.12,2,   2.315,2,   1.365,2,   1.1350,2,  2086.6,2,  2369.4,2,   8.0776,2,    20.00,-999.000,9,-999.000,9,-999.000,9,  18.7659,2,-999.000,9, -999.00,9, -999.00,-999.000,9,-999.000,   65.34,2,    3.98,2, -32.0071, 101.5721,-999.000,-999.000,20090504,       0555
33RR20090320,        I05,     161,          1,         30,         30,2,20090504,       0441,   -32.0069,   101.5723,       2167,    79.3,  17.1313,  35.8060,2,  35.8015,2,    245.7,2,   247.2,2,    0.87,2,    0.08,2,    0.00,2,    0.12,2,-999.000,9,-999.000,9,-999.0000,9,  2079.3,2,  2353.9,2,   8.0700,2,    20.00,-999.000,9,-999.000,9,-999.000,9,  17.1247,2,-999.000,9, -999.00,9, -999.00,-999.000,9,-999.000,   59.43,2,    3.52,2, -32.0071, 101.5721,-999.000,-999.000,20090504,       0553
33RR20090320,        I05,     161,          1,         29,         29,2,20090504,       0441,   -32.0069,   101.5723,       2167,   102.4,  15.6458,  35.6972,2,  35.6974,2,    243.2,2,   236.6,2,    1.04,2,    0.52,2,    0.10,2,    0.19,2,   2.701,2,   1.565,2,   1.3520,2,  2090.0,2,  2349.6,2,   8.0404,2,    20.00,-999.000,9,-999.000,9,-999.000,9,  15.6432,2,   1.047,2,   43.12,2,     2.8,-999.000,9,-999.000,   56.54,2,    4.43,2, -32.0071, 101.5720,-999.000,-999.000,20090504,       0552
33RR20090320,        I05,     161,          1,         28,         28,2,20090504,       0441,   -32.0069,   101.5723,       2167,   130.0,  15.2671,  35.6387,2,  35.6496,2,    233.6,2,   232.4,2,    1.03,2,    1.82,2,    0.02,2,    0.26,2,-999.000,9,-999.000,9,-999.0000,9,  2093.6,2,  2342.6,2,   8.0286,2,    20.00,-999.000,9,-999.000,9,-999.000,9,  15.3108,2,-999.000,9, -999.00,9, -999.00,-999.000,9,-999.000,   53.74,2,    5.20,2, -32.0072, 101.5720,-999.000,-999.000,20090504,       0550
33RR20090320,        I05,     161,          1,         27,         27,2,20090504,       0441,   -32.0069,   101.5723,       2167,   154.1,  14.4191,  35.4894,2,  35.4933,2,    235.5,2,   233.5,2,    1.21,2,    3.48,2,    0.01,2,    0.36,2,   2.864,2,   1.647,2,   1.2980,2,  2101.3,2,  2338.7,2,   8.0010,2,    20.00,-999.000,9,-999.000,9,-999.000,9,  14.4242,2,   1.081,2,   51.18,2,     3.5,-999.000,9,-999.000,   52.44,2,    6.02,2, -32.0072, 101.5720,-999.000,-999.000,20090504,       0548
33RR20090320,        I05,     161,          1,         26,         26,2,20090504,       0441,   -32.0069,   101.5723,       2167,   177.9,  13.9419,  35.4092,2,  35.4109,2,    233.1,2,   233.9,2,    1.21,2,    4.56,2,    0.01,2,    0.43,2,-999.000,9,-999.000,9,-999.0000,9,  2104.2,2,  2329.5,2,   7.9862,2,    20.00,-999.000,9,-999.000,9,-999.000,9,  13.9328,2,-999.000,9, -999.00,9, -999.00,-999.000,9,-999.000,   51.70,2,    7.73,2, -32.0072, 101.5720,-999.000,-999.000,20090504,       0546
33RR20090320,        I05,     161,          1,         25,         25,2,20090504,       0441,   -32.0069,   101.5723,       2167,   202.6,  13.4545,  35.3259,2,  35.3265,2,    235.1,2,   234.9,2,    1.21,2,    5.51,2,    0.01,2,    0.50,2,   3.005,2,   1.722,2,   1.3910,2,  2108.2,2,  2325.9,2,   7.9721,2,    20.00,-999.000,9,-999.000,9,-999.000,9,  13.4545,2,   1.192,2,   57.86,2,       3,-999.000,9,-999.000,   50.39,2,    7.95,2, -32.0072, 101.5720,-999.000,-999.000,20090504,       0545
33RR20090320,        I05,     161,          1,         24,         24,2,20090504,       0441,   -32.0069,   101.5723,       2167,   227.7,  12.9541,  35.2409,2,  35.2438,2,    237.0,2,   237.3,2,    1.39,2,    6.42,2,    0.00,2,    0.56,2,-999.000,9,-999.000,9,-999.0000,9,  2111.4,2,  2319.8,2,   7.9595,2,    20.00,-999.000,9,-999.000,9,-999.000,9,  12.9536,2,-999.000,9, -999.00,9, -999.00,-999.000,9,-999.000,   49.50,2,    8.18,2, -32.0072, 101.5720,-999.000,-999.000,20090504,       0543
33RR20090320,        I05,     161,          1,         23,         23,2,20090504,       0441,   -32.0069,   101.5723,       2167,   252.8,  12.3349,  35.1324,2,  35.1333,2,    239.3,2,   239.2,2,    1.56,2,    7.76,2,    0.00,2,    0.63,2,   3.208,2,   1.818,2,   1.3580,2,  2113.7,2,  2315.8,2,   7.9411,2,    20.00,-999.000,9,-999.000,9,-999.000,9,  12.3335,2,-999.000,9, -999.00,9, -999.00,-999.000,9,-999.000,   48.78,2,    9.54,2, -32.0072, 101.5720,-999.000,-999.000,20090504,       0541
33RR20090320,        I05,     161,          1,         22,         22,2,20090504,       0441,   -32.0069,   101.5723,       2167,   302.0,  11.1268,  34.9320,2,  34.9335,2,    241.1,2,   241.9,2,    2.10,2,   10.59,2,    0.00,2,    0.81,2,   3.476,2,   1.921,2,   1.3940,2,  2120.0,2,  2305.6,2,   7.9084,2,    20.00,-999.000,9,-999.000,9,-999.000,9,  11.1253,2,   1.149,2,   43.37,2,     3.8,-999.000,9,-999.000,   47.15,2,   12.49,2, -32.0072, 101.5720,-999.000,-999.000,20090504,       0537
33RR20090320,        I05,     161,          1,         21,         21,2,20090504,       0441,   -32.0069,   101.5723,       2167,   352.0,  10.1829,  34.7878,2,  34.7901,2,    242.1,2,   241.1,2,    3.00,2,   13.32,2,    0.00,2,    0.99,2,   3.670,2,   1.997,2,   1.3680,2,  2126.2,2,  2298.2,2,   7.8783,2,    20.00,-999.000,9,-999.000,9,-999.000,9,  10.1865,2,-999.000,9, -999.00,9, -999.00,-999.000,9,-999.000,   46.34,2,   15.16,2, -32.0072, 101.5720,-999.000,-999.000,20090504,       0535
33RR20090320,        I05,     161,          1,         20,         20,2,20090504,       0441,   -32.0069,   101.5723,       2167,   402.8,   9.7342,  34.7384,2,  34.7390,2,    240.1,2,   239.4,2,    3.71,2,   14.92,2,    0.00,2,    1.08,2,   3.734,2,   2.007,2,   1.3490,2,  2131.1,2,  2294.3,2,   7.8623,2,    20.00,-999.000,9,-999.000,9,-999.000,9,   9.7332,2,   1.192,2,   46.09,2,     2.7,-999.000,9,-999.000,   45.53,2,   16.65,2, -32.0072, 101.5720,-999.000,-999.000,20090504,       0532
33RR20090320,        I05,     161,          1,         19,         19,2,20090504,       0441,   -32.0069,   101.5723,       2167,   449.7,   9.4145,  34.6999,2,  34.7019,2,    238.3,2,   238.7,2,    4.06,2,   15.99,2,    0.00,2,    1.14,2,   3.789,2,   2.021,2,   1.2980,2,  2132.9,2,  2292.3,2,   7.8521,2,    20.00,-999.000,9,-999.000,9,-999.000,9,   9.4134,2,-999.000,9, -999.00,9, -999.00,-999.000,9,-999.000,   45.05,2,   17.29,2, -32.0072, 101.5720,-999.000,-999.000,20090504,       0529
33RR20090320,        I05,     161,          1,         18,         18,2,20090504,       0441,   -32.0069,   101.5723,       2167,   500.0,   9.1010,  34.6570,2,  34.6584,2,    238.8,2,   239.7,2,    4.60,2,   16.89,2,    0.00,2,    1.20,2,   3.779,2,   2.007,2,   1.1860,2,  2134.2,2,  2292.1,2,   7.8460,2,    20.00,-999.000,9,-999.000,9,-999.000,9,   9.1025,2,   1.113,2,   52.37,2,     2.6,-999.000,9,-999.000,   44.15,2,   18.18,2, -32.0072, 101.5721,-999.000,-999.000,20090504,       0527
33RR20090320,        I05,     161,          1,         17,         17,2,20090504,       0441,   -32.0069,   101.5723,       2167,   599.9,   8.2924,  34.5584,2,  34.5616,2,    227.0,2,   226.5,2,    7.48,2,   20.22,2,    0.00,2,    1.43,2,   3.390,2,   1.742,2,   0.8540,2,  2145.3,2,  2290.5,2,   7.8112,2,    20.00,-999.000,9,-999.000,9,-999.000,9,   8.2997,2,    1.08,2,   25.43,2,     2.5,-999.000,9,-999.000,   43.18,2,   21.50,2, -32.0074, 101.5722,-999.000,-999.000,20090504,       0525
33RR20090320,        I05,     161,          1,         16,         16,2,20090504,       0441,   -32.0069,   101.5723,       2167,   699.2,   6.9654,  34.4620,2,  34.4638,2,    200.8,2,   201.9,2,   15.79,2,   25.42,2,    0.00,2,    1.78,2,   2.325,2,   1.162,2,   0.4980,2,  2169.8,2,  2290.2,2,   7.7480,2,    20.00,-999.000,9,-999.000,9,-999.000,9,   6.9586,2,   1.051,2,   -5.72,2,     2.5,-999.000,9,-999.000,   42.28,2,   26.65,2, -32.0074, 101.5722,-999.000,-999.000,20090504,       0522
33RR20090320,        I05,     161,          1,         15,         15,2,20090504,       0441,   -32.0069,   101.5723,       2167,   801.2,   5.3984,  34.3910,2,  34.3931,2,    194.4,2,   195.1,2,   26.69,2,   29.31,2,    0.00,2,    2.07,2,   1.667,2,   0.810,2,   0.1820,2,  2190.2,2,  2296.9,2,   7.7040,2,    20.00,-999.000,9,-999.000,9,-999.000,9,   5.4071,2,   0.965,2,  -50.94,2,     2.7,-999.000,9,-999.000,   41.43,2,   30.95,2, -32.0074, 101.5723,-999.000,-999.000,20090504,       0519
33RR20090320,        I05,     161,          1,         14,         14,2,20090504,       0441,   -32.0069,   101.5723,       2167,   895.0,   4.3628,  34.3840,2,  34.3845,2,    188.2,2,   190.2,2,   38.53,2,   31.69,2,    0.00,2,    2.26,2,   1.228,2,   0.573,2,   0.1950,6,  2208.3,2,  2306.0,2,   7.6766,2,    20.00,-999.000,9,-999.000,9,-999.000,9,   4.3608,2,   0.881,2,  -88.59,2,     2.4,-999.000,9,-999.000,   41.21,2,   33.33,2, -32.0074, 101.5723,-999.000,-999.000,20090504,       0516
33RR20090320,        I05,     161,          1,         13,         13,2,20090504,       0441,   -32.0069,   101.5723,       2167,   996.4,   3.6309,  34.4398,2,  34.4400,2,    172.6,2,   173.9,2,   54.85,2,   33.64,2,    0.00,2,    2.42,2,-999.000,9,-999.000,9,-999.0000,9,  -999.0,9,  -999.0,9,-999.0000,9,  -999.00,-999.000,9,-999.000,9,-999.000,9,   3.6316,2,-999.000,9, -999.00,9, -999.00,-999.000,9,-999.000, -999.00,9, -999.00,9, -32.0074, 101.5724,-999.000,-999.000,20090504,       0513
33RR20090320,        I05,     161,          1,         12,         12,2,20090504,       0441,   -32.0069,   101.5723,       2167,  1096.6,   3.4406,  34.4744,2,  34.4760,2,    165.4,2,   166.3,2,   62.03,2,   34.17,2,    0.00,2,    2.48,2,   0.421,2,   0.189,2,   0.0170,2,  2243.6,2,  2329.7,2,   7.6367,2,    20.00,-999.000,9,-999.000,9,-999.000,9,   3.4395,2,   0.647,2, -139.86,2,     2.4,-999.000,9,-999.000,   40.65,2,   35.38,2, -32.0074, 101.5725,-999.000,-999.000,20090504,       0511
33RR20090320,        I05,     161,          1,         11,         11,2,20090504,       0441,   -32.0069,   101.5723,       2167,  1199.1,   3.3352,  34.4970,2,  34.4985,2,    161.9,2,   162.4,2,   65.91,2,   34.45,2,    0.00,2,    2.50,2,   0.311,2,   0.143,2,   0.0120,2,  2249.8,2,  2333.6,2,   7.6315,2,    20.00,-999.000,9,-999.000,9,-999.000,9,   3.3352,2,   0.499,2, -143.97,2,     2.2,-999.000,9,-999.000,   39.98,2,   36.16,2, -32.0074, 101.5725,-999.000,-999.000,20090504,       0508
33RR20090320,        I05,     161,          1,         10,         10,2,20090504,       0441,   -32.0069,   101.5723,       2167,  1299.3,   3.1975,  34.5253,2,  34.5264,2,    159.7,2,   159.1,2,   70.52,2,   34.71,2,    0.00,2,    2.51,2,-999.000,9,-999.000,9,-999.0000,9,  2255.7,2,  2337.4,2,   7.6277,2,    20.00,-999.000,9,-999.000,9,-999.000,9,   3.1966,2,   0.519,2, -152.14,2,       3,-999.000,9,-999.000,   40.09,2,   36.18,2, -32.0074, 101.5726,-999.000,-999.000,20090504,       0506
33RR20090320,        I05,     161,          1,          9,          9,2,20090504,       0441,   -32.0069,   101.5723,       2167,  1400.8,   2.9803,  34.5681,2,  34.5667,2,    157.6,2,   157.5,2,   75.70,2,   34.71,2,    0.00,2,    2.51,2,   0.116,2,   0.058,2,   0.0000,2,  2260.4,2,  2342.2,2,   7.6263,2,    20.00,-999.000,9,-999.000,9,-999.000,9,   2.9854,2,   0.501,2, -159.71,2,     2.3,-999.000,9,-999.000,   39.83,2,   36.63,2, -32.0074, 101.5726,-999.000,-999.000,20090504,       0503
33RR20090320,        I05,     161,          1,          8,          8,2,20090504,       0441,   -32.0069,   101.5723,       2167,  1501.0,   2.8636,  34.6297,2,  34.6303,2,    153.1,2,   153.3,2,   85.53,2,   34.48,2,    0.00,2,    2.51,2,-999.000,9,-999.000,9,-999.0000,9,  2271.6,6,  2353.5,2,   7.6301,2,    20.00,-999.000,9,-999.000,9,-999.000,9,   2.8636,2,   0.784,3, -153.98,2,     2.6,-999.000,9,-999.000,   39.78,2,   35.82,2, -32.0073, 101.5726,-999.000,-999.000,20090504,       0500
33RR20090320,        I05,     161,          1,          7,          7,2,20090504,       0441,   -32.0069,   101.5723,       2167,  1599.7,   2.7418,  34.6579,2,  34.6594,2,    154.2,2,   154.3,2,   90.55,2,   34.27,2,    0.00,2,    2.49,2,   0.021,2,   0.010,2,   0.0000,2,  2272.7,2,  2358.6,2,   7.6346,2,    20.00,-999.000,9,-999.000,9,-999.000,9,   2.7420,2,-999.000,9, -999.00,9, -999.00,-999.000,9,-999.000,   39.55,2,   36.17,2, -32.0072, 101.5726,-999.000,-999.000,20090504,       0457
33RR20090320,        I05,     161,          1,          6,          6,2,20090504,       0441,   -32.0069,   101.5723,       2167,  1699.5,   2.6093,  34.6796,2,  34.6810,2,    157.0,2,   156.7,2,   94.08,2,   34.04,2,    0.00,2,    2.47,2,-999.000,9,-999.000,9,-999.0000,9,  2274.3,2,  2363.1,2,   7.6401,2,    20.00,-999.000,9,-999.000,9,-999.000,9,   2.6090,2,-999.000,9, -999.00,9, -999.00,-999.000,9,-999.000,   39.68,2,   35.49,2, -32.0072, 101.5726,-999.000,-999.000,20090504,       0455
33RR20090320,        I05,     161,          1,          5,          5,2,20090504,       0441,   -32.0069,   101.5723,       2167,  1802.9,   2.5059,  34.6945,2,  34.6962,2,    158.6,2,   158.6,2,   97.43,2,   33.77,2,    0.00,2,    2.46,2,   0.008,2,   0.006,2,   0.0000,2,  2274.7,2,  2366.0,2,   7.6451,2,    20.00,-999.000,9,-999.000,9,-999.000,9,   2.5051,2,-999.000,9, -999.00,9, -999.00,-999.000,9,-999.000,   40.22,2,   35.56,2, -32.0071, 101.5726,-999.000,-999.000,20090504,       0452
33RR20090320,        I05,     161,          1,          4,          4,2,20090504,       0441,   -32.0069,   101.5723,       2167,  1910.0,   2.3527,  34.7097,2,  34.7105,2,    162.4,2,   162.4,2,  101.53,2,   33.49,2,    0.00,2,    2.43,2,-999.000,9,-999.000,9,-999.0000,9,  2275.6,2,  2370.2,2,   7.6515,2,    20.00,-999.000,9,-999.000,9,-999.000,9,   2.3535,2,-999.000,9, -999.00,9, -999.00,-999.000,9,-999.000,   39.96,2,   34.89,2, -32.0071, 101.5725,-999.000,-999.000,20090504,       0449
33RR20090320,        I05,     161,          1,          3,          3,2,20090504,       0441,   -32.0069,   101.5723,       2167,  2009.1,   2.2384,  34.7174,2,  34.7189,2,    166.2,2,   167.8,2,  101.34,2,   33.00,2,    0.00,2,    2.38,2,   0.010,2,   0.004,2,   0.0000,2,  2271.6,2,  2368.8,2,   7.6577,2,    20.00,-999.000,9,-999.000,9,-999.000,9,   2.2389,2,-999.000,9, -999.00,9, -999.00,-999.000,9,-999.000,   40.24,2,   34.53,2, -32.0070, 101.5724,-999.000,-999.000,20090504,       0447
33RR20090320,        I05,     161,          1,          2,          2,2,20090504,       0441,   -32.0069,   101.5723,       2167,  2090.6,   2.1704,  34.7224,2,  34.7239,2,    172.8,2,   172.6,2,   98.72,2,   32.72,2,    0.00,2,    2.34,2,-999.000,9,-999.000,9,-999.0000,9,  2267.8,2,  2367.1,2,   7.6632,2,    20.00,-999.000,9,-999.000,9,-999.000,9,   2.1708,2,-999.000,9, -999.00,9, -999.00,-999.000,9,-999.000,   39.82,2,   34.08,2, -32.0069, 101.5724,-999.000,-999.000,20090504,       0444
33RR20090320,        I05,     161,          1,          1,          1,2,20090504,       0441,   -32.0069,   101.5723,       2167,  2178.8,   2.0974,  34.7259,2,  34.7280,2,    173.3,2,   173.4,2,  101.90,2,   32.61,2,    0.00,2,    2.34,2,   0.009,6,   0.005,6,   0.0000,6,  2273.1,6,  2369.4,2,   7.6654,2,    20.00,-999.000,9,-999.000,9,-999.000,9,   2.0973,2,-999.000,9, -999.00,9, -999.00,-999.000,9,-999.000,   40.31,2,   34.31,2, -32.0069, 101.5723,-999.000,-999.000,20090504,       0441