BOTTLE,20220814CCHSIOAMB
EXPOCODE,SECT_ID,STNNBR,CASTNO,SAMPNO,BTLNBR,BTLNBR_FLAG_W,DATE,TIME,LATITUDE,LONGITUDE,DEPTH,CTDPRS,CTDTMP,CTDSAL,CTDSAL_FLAG_W,SALNTY,SALNTY_FLAG_W,CTDOXY,CTDOXY_FLAG_W,OXYGEN,OXYGEN_FLAG_W,SILCAT,SILCAT_FLAG_W,NITRAT,NITRAT_FLAG_W,NITRIT,NITRIT_FLAG_W,PHSPHT,PHSPHT_FLAG_W,CFC-11,CFC-11_FLAG_W,CFC-12,CFC-12_FLAG_W,SF6,SF6_FLAG_W,TCARBN,TCARBN_FLAG_W,ALKALI,ALKALI_FLAG_W,PH_TOT,PH_TOT_FLAG_W,PH_TMP,TRITUM,TRITUM_FLAG_W,HELIUM,HELIUM_FLAG_W,DELHE3,DELHE3_FLAG_W,REFTMP,REFTMP_FLAG_W,DELC13,DELC13_FLAG_W,DELC14,DELC14_FLAG_W,C14ERR,NEON,NEON_FLAG_W,NEONER,DOC,DOC_FLAG_W,TDN,TDN_FLAG_W,BTL_LAT,BTL_LON,HELIER,DELHER,BTL_DATE,BTL_TIME
,,,,,,,,,,,METERS,DBAR,ITS-90,PSS-78,,PSS-78,,UMOL/KG,,UMOL/KG,,UMOL/KG,,UMOL/KG,,UMOL/KG,,UMOL/KG,,PMOL/KG,,PMOL/KG,,FMOL/KG,,UMOL/KG,,UMOL/KG,,,,DEG C,TU,,NMOL/KG,,PERCNT,,DEG C,,/MILLE,,/MILLE,,/MILLE,NMOL/KG,,NMOL/KG,UMOL/KG,,UMOL/KG,,,,NMOL/KG,PERCNT,,
33RR20090320,        I05,      66,          1,         36,         36,2,20090408,       1020,   -33.9985,    56.9860,       5068,     3.6,  20.4223,  35.5173,2,  35.5172,2,    227.8,2,   227.6,2,    1.54,2,    0.08,2,    0.00,2,    0.14,2,-999.000,9,-999.000,9,-999.0000,9,  2045.8,6,  2329.6,2,   8.0901,2,    20.00,-999.000,9,-999.000,9,-999.000,9,  20.4208,2,-999.000,9, -999.00,9, -999.00,-999.000,9,-999.000, -999.00,9, -999.00,9, -33.9986,  56.9868,-999.000,-999.000,20090408,       1238
33RR20090320,        I05,      66,          1,         35,         35,2,20090408,       1020,   -33.9985,    56.9860,       5068,    37.4,  19.2108,  35.5109,2,  35.5099,2,    236.6,2,   236.9,2,    1.52,2,    0.08,2,    0.00,2,    0.16,2,-999.000,9,-999.000,9,-999.0000,9,  2051.0,2,  2329.8,2,   8.0810,2,    20.00,-999.000,9,-999.000,9,-999.000,9,  19.2185,2,-999.000,9, -999.00,9, -999.00,-999.000,9,-999.000, -999.00,9, -999.00,9, -33.9986,  56.9867,-999.000,-999.000,20090408,       1236
33RR20090320,        I05,      66,          1,         34,         34,2,20090408,       1020,   -33.9985,    56.9860,       5068,    62.5,  17.9077,  35.5117,2,  35.5105,2,    240.8,2,   238.5,2,    1.88,2,    0.28,2,    0.01,2,    0.19,2,-999.000,9,-999.000,9,-999.0000,9,  2059.0,2,  2331.2,2,   8.0670,2,    20.00,-999.000,9,-999.000,9,-999.000,9,  17.8971,2,-999.000,9, -999.00,9, -999.00,-999.000,9,-999.000, -999.00,9, -999.00,9, -33.9986,  56.9867,-999.000,-999.000,20090408,       1234
33RR20090320,        I05,      66,          1,         33,         33,2,20090408,       1020,   -33.9985,    56.9860,       5068,    87.2,  16.6175,  35.5012,2,  35.4999,2,    230.2,2,   227.2,2,    2.44,2,    2.56,2,    0.05,2,    0.32,2,-999.000,9,-999.000,9,-999.0000,9,  2074.7,2,  2330.1,2,   8.0333,2,    20.00,-999.000,9,-999.000,9,-999.000,9,  16.6134,2,-999.000,9, -999.00,9, -999.00,-999.000,9,-999.000, -999.00,9, -999.00,9, -33.9986,  56.9867,-999.000,-999.000,20090408,       1233
33RR20090320,        I05,      66,          1,         32,         32,2,20090408,       1020,   -33.9985,    56.9860,       5068,   117.0,  15.8599,  35.4724,2,  35.4717,2,    222.6,2,   222.2,2,    3.00,2,    4.21,2,    0.01,2,    0.42,2,-999.000,9,-999.000,9,-999.0000,9,  2085.0,2,  2327.3,2,   8.0113,2,    20.00,-999.000,9,-999.000,9,-999.000,9,  15.8593,2,-999.000,9, -999.00,9, -999.00,-999.000,9,-999.000, -999.00,9, -999.00,9, -33.9986,  56.9867,-999.000,-999.000,20090408,       1231
33RR20090320,        I05,      66,          1,         31,         31,2,20090408,       1020,   -33.9985,    56.9860,       5068,   167.4,  14.9717,  35.4189,2,  35.4173,2,    221.0,2,   222.6,2,    3.36,2,    5.66,2,    0.01,2,    0.51,2,-999.000,9,-999.000,9,-999.0000,9,  2095.1,2,  2324.3,2,   7.9882,2,    20.00,-999.000,9,-999.000,9,-999.000,9,  14.9687,2,-999.000,9, -999.00,9, -999.00,-999.000,9,-999.000, -999.00,9, -999.00,9, -33.9986,  56.9868,-999.000,-999.000,20090408,       1229
33RR20090320,        I05,      66,          1,         30,         30,2,20090408,       1020,   -33.9985,    56.9860,       5068,   217.5,  14.3962,  35.3730,2,  35.3719,2,    219.0,2,   220.4,2,    3.72,2,    6.95,2,    0.00,2,    0.59,2,-999.000,9,-999.000,9,-999.0000,9,  -999.0,9,  -999.0,9,-999.0000,9,  -999.00,-999.000,9,-999.000,9,-999.000,9,  14.3914,2,-999.000,9, -999.00,9, -999.00,-999.000,9,-999.000, -999.00,9, -999.00,9, -33.9986,  56.9867,-999.000,-999.000,20090408,       1226
33RR20090320,        I05,      66,          1,         29,         29,2,20090408,       1020,   -33.9985,    56.9860,       5068,   266.1,  13.8821,  35.3369,2,  35.3357,2,    224.6,2,   226.8,2,    3.50,2,    7.21,2,    0.00,2,    0.61,2,-999.000,9,-999.000,9,-999.0000,9,  2103.6,2,  2321.8,2,   7.9653,2,    20.00,-999.000,9,-999.000,9,-999.000,9,  13.8830,2,-999.000,9, -999.00,9, -999.00,-999.000,9,-999.000, -999.00,9, -999.00,9, -33.9985,  56.9867,-999.000,-999.000,20090408,       1224
33RR20090320,        I05,      66,          1,         28,         28,2,20090408,       1020,   -33.9985,    56.9860,       5068,   316.9,  13.6687,  35.3270,2,  35.3264,2,    233.2,2,   232.9,2,    3.28,2,    7.16,2,    0.00,2,    0.61,2,-999.000,9,-999.000,9,-999.0000,9,  -999.0,9,  -999.0,9,-999.0000,9,  -999.00,-999.000,9,-999.000,9,-999.000,9,  13.6654,2,-999.000,9, -999.00,9, -999.00,-999.000,9,-999.000, -999.00,9, -999.00,9, -33.9984,  56.9866,-999.000,-999.000,20090408,       1223
33RR20090320,        I05,      66,          1,         27,         27,2,20090408,       1020,   -33.9985,    56.9860,       5068,   366.1,  13.4940,  35.3105,2,  35.3079,2,    233.6,2,   234.1,2,    3.45,2,    7.49,2,    0.00,2,    0.61,2,-999.000,9,-999.000,9,-999.0000,9,  2104.2,2,  2321.3,2,   7.9626,2,    20.00,-999.000,9,-999.000,9,-999.000,9,  13.4940,2,-999.000,9, -999.00,9, -999.00,-999.000,9,-999.000, -999.00,9, -999.00,9, -33.9984,  56.9866,-999.000,-999.000,20090408,       1220
33RR20090320,        I05,      66,          1,         26,         26,2,20090408,       1020,   -33.9985,    56.9860,       5068,   437.0,  13.1018,  35.2522,2,  35.2511,2,    230.4,2,   231.5,2,    3.62,2,    8.67,2,    0.00,2,    0.69,2,-999.000,9,-999.000,9,-999.0000,9,  -999.0,9,  -999.0,9,-999.0000,9,  -999.00,-999.000,9,-999.000,9,-999.000,9,  13.1000,2,-999.000,9, -999.00,9, -999.00,-999.000,9,-999.000, -999.00,9, -999.00,9, -33.9984,  56.9865,-999.000,-999.000,20090408,       1218
33RR20090320,        I05,      66,          1,         25,         25,2,20090408,       1020,   -33.9985,    56.9860,       5068,   536.5,  12.4427,  35.1447,2,  35.1436,2,    230.8,2,   229.7,2,    3.98,2,   10.33,2,    0.00,2,    0.80,2,-999.000,9,-999.000,9,-999.0000,9,  2113.1,2,  2313.6,2,   7.9284,2,    20.00,-999.000,9,-999.000,9,-999.000,9,  12.4422,2,-999.000,9, -999.00,9, -999.00,-999.000,9,-999.000, -999.00,9, -999.00,9, -33.9984,  56.9864,-999.000,-999.000,20090408,       1214
33RR20090320,        I05,      66,          1,         24,         24,2,20090408,       1020,   -33.9985,    56.9860,       5068,   635.7,  11.6850,  35.0181,2,  35.0170,2,    225.3,2,   226.7,2,    4.54,2,   12.31,2,    0.00,2,    0.93,2,-999.000,9,-999.000,9,-999.0000,9,  -999.0,9,  -999.0,9,-999.0000,9,  -999.00,-999.000,9,-999.000,9,-999.000,9,  11.6826,2,-999.000,9, -999.00,9, -999.00,-999.000,9,-999.000, -999.00,9, -999.00,9, -33.9984,  56.9862,-999.000,-999.000,20090408,       1210
33RR20090320,        I05,      66,          1,         23,         23,2,20090408,       1020,   -33.9985,    56.9860,       5068,   736.5,  10.7295,  34.8868,2,  34.8895,2,    219.5,2,   219.9,2,    5.68,2,   14.83,2,    0.00,2,    1.09,2,-999.000,9,-999.000,9,-999.0000,9,  -999.0,9,  -999.0,9,-999.0000,9,  -999.00,-999.000,9,-999.000,9,-999.000,9,  10.7314,2,-999.000,9, -999.00,9, -999.00,-999.000,9,-999.000, -999.00,9, -999.00,9, -33.9986,  56.9862,-999.000,-999.000,20090408,       1207
33RR20090320,        I05,      66,          1,         22,         22,2,20090408,       1020,   -33.9985,    56.9860,       5068,   836.6,   8.8089,  34.6655,2,  34.6666,2,    210.2,2,   209.0,2,   10.92,2,   20.26,2,    0.00,2,    1.46,2,-999.000,9,-999.000,9,-999.0000,9,  -999.0,9,  -999.0,9,-999.0000,9,  -999.00,-999.000,9,-999.000,9,-999.000,9,   8.8087,2,-999.000,9, -999.00,9, -999.00,-999.000,9,-999.000, -999.00,9, -999.00,9, -33.9986,  56.9861,-999.000,-999.000,20090408,       1204
33RR20090320,        I05,      66,          1,         21,         21,2,20090408,       1020,   -33.9985,    56.9860,       5068,   937.2,   7.4309,  34.5344,2,  34.5361,2,    205.9,2,   204.4,2,   15.77,2,   23.93,2,    0.00,2,    1.71,2,-999.000,9,-999.000,9,-999.0000,9,  -999.0,9,  -999.0,9,-999.0000,9,  -999.00,-999.000,9,-999.000,9,-999.000,9,   7.4297,2,-999.000,9, -999.00,9, -999.00,-999.000,9,-999.000, -999.00,9, -999.00,9, -33.9987,  56.9860,-999.000,-999.000,20090408,       1201
33RR20090320,        I05,      66,          1,         20,         20,2,20090408,       1020,   -33.9985,    56.9860,       5068,  1037.4,   6.0642,  34.4364,2,  34.4346,2,    204.0,2,   203.7,2,   22.59,2,   27.17,2,    0.00,2,    1.94,2,-999.000,9,-999.000,9,-999.0000,9,  -999.0,9,  -999.0,9,-999.0000,9,  -999.00,-999.000,9,-999.000,9,-999.000,9,   6.0639,2,-999.000,9, -999.00,9, -999.00,-999.000,9,-999.000, -999.00,9, -999.00,9, -33.9987,  56.9860,-999.000,-999.000,20090408,       1157
33RR20090320,        I05,      66,          1,         19,         19,2,20090408,       1020,   -33.9985,    56.9860,       5068,  1132.4,   5.0635,  34.3973,2,  34.3972,2,    201.8,2,   200.9,2,   30.03,2,   29.34,2,    0.00,2,    2.10,2,-999.000,9,-999.000,9,-999.0000,9,  -999.0,9,  -999.0,9,-999.0000,9,  -999.00,-999.000,9,-999.000,9,-999.000,9,   5.0656,2,-999.000,9, -999.00,9, -999.00,-999.000,9,-999.000, -999.00,9, -999.00,9, -33.9986,  56.9860,-999.000,-999.000,20090408,       1154
33RR20090320,        I05,      66,          1,         18,         18,2,20090408,       1020,   -33.9985,    56.9860,       5068,  1263.9,   4.0491,  34.4093,2,  34.4091,2,    193.8,2,   191.9,2,   42.80,2,   31.68,2,    0.00,2,    2.29,2,-999.000,9,-999.000,9,-999.0000,9,  -999.0,9,  -999.0,9,-999.0000,9,  -999.00,-999.000,9,-999.000,9,-999.000,9,   4.0493,2,-999.000,9, -999.00,9, -999.00,-999.000,9,-999.000, -999.00,9, -999.00,9, -33.9986,  56.9860,-999.000,-999.000,20090408,       1150
33RR20090320,        I05,      66,          1,         17,         17,2,20090408,       1020,   -33.9985,    56.9860,       5068,  1465.0,   3.3657,  34.4811,2,  34.4802,2,    180.2,2,   180.2,2,   56.41,2,   32.97,2,    0.00,2,    2.38,2,-999.000,9,-999.000,9,-999.0000,9,  -999.0,9,  -999.0,9,-999.0000,9,  -999.00,-999.000,9,-999.000,9,-999.000,9,   3.3654,2,-999.000,9, -999.00,9, -999.00,-999.000,9,-999.000, -999.00,9, -999.00,9, -33.9987,  56.9860,-999.000,-999.000,20090408,       1145
33RR20090320,        I05,      66,          1,         16,         16,2,20090408,       1020,   -33.9985,    56.9860,       5068,  1665.7,   2.9115,  34.5724,2,  34.5719,2,    174.7,2,   174.3,2,   67.50,2,   33.13,2,    0.00,2,    2.38,2,-999.000,9,-999.000,9,-999.0000,9,  -999.0,9,  -999.0,9,-999.0000,9,  -999.00,-999.000,9,-999.000,9,-999.000,9,   2.9111,2,-999.000,9, -999.00,9, -999.00,-999.000,9,-999.000, -999.00,9, -999.00,9, -33.9988,  56.9861,-999.000,-999.000,20090408,       1140
33RR20090320,        I05,      66,          1,         15,         15,2,20090408,       1020,   -33.9985,    56.9860,       5068,  1860.8,   2.6770,  34.6376,2,  34.6379,2,    176.7,2,   177.4,2,   73.24,2,   32.47,2,    0.00,2,    2.33,2,   0.252,2,   0.084,2,   0.0000,2,  2248.4,2,  2340.7,2,   7.6598,2,    20.00,-999.000,9,-999.000,9,-999.000,9,   2.6762,2,-999.000,9, -999.00,9, -999.00,-999.000,9,-999.000, -999.00,9, -999.00,9, -33.9987,  56.9862,-999.000,-999.000,20090408,       1136
33RR20090320,        I05,      66,          1,         14,         14,2,20090408,       1020,   -33.9985,    56.9860,       5068,  2082.9,   2.4712,  34.6882,2,  34.6872,2,    181.6,2,   181.5,2,   79.20,2,   31.71,2,    0.00,2,    2.29,2,   0.147,2,   0.050,2,   0.0000,2,  -999.0,9,  -999.0,9,-999.0000,9,  -999.00,-999.000,9,-999.000,9,-999.000,9,   2.4719,2,-999.000,9, -999.00,9, -999.00,-999.000,9,-999.000, -999.00,9, -999.00,9, -33.9986,  56.9864,-999.000,-999.000,20090408,       1130
33RR20090320,        I05,      66,          1,         13,         13,2,20090408,       1020,   -33.9985,    56.9860,       5068,  2330.3,   2.2810,  34.7241,2,  34.7252,2,    186.7,2,   187.1,2,   83.16,2,   30.95,2,    0.00,2,    2.23,2,   0.095,2,   0.032,2,   0.0000,2,  2250.4,2,  2351.5,2,   7.6840,2,    20.00,-999.000,9,-999.000,9,-999.000,9,   2.2835,2,-999.000,9, -999.00,9, -999.00,-999.000,9,-999.000, -999.00,9, -999.00,9, -33.9985,  56.9864,-999.000,-999.000,20090408,       1125
33RR20090320,        I05,      66,          1,         12,         12,2,20090408,       1020,   -33.9985,    56.9860,       5068,  2582.2,   2.1315,  34.7459,2,  34.7458,2,    191.4,2,   191.6,2,   86.72,2,   30.51,2,    0.00,2,    2.20,2,   0.078,2,   0.026,2,   0.0000,2,  -999.0,9,  -999.0,9,-999.0000,9,  -999.00,-999.000,9,-999.000,9,-999.000,9,   2.1319,2,-999.000,9, -999.00,9, -999.00,-999.000,9,-999.000, -999.00,9, -999.00,9, -33.9984,  56.9865,-999.000,-999.000,20090408,       1119
33RR20090320,        I05,      66,          1,         10,         10,2,20090408,       1020,   -33.9985,    56.9860,       5068,  2832.6,   1.9424,  34.7480,2,-999.0000,9,   -999.0,5,  -999.0,9, -999.00,9, -999.00,9, -999.00,9, -999.00,9,   0.071,6,   0.023,6,   0.0050,6,  -999.0,9,  -999.0,9,-999.0000,9,  -999.00,-999.000,9,-999.000,9,-999.000,9,   1.9401,2,-999.000,9, -999.00,9, -999.00,-999.000,9,-999.000, -999.00,9, -999.00,9, -33.9982,  56.9866,-999.000,-999.000,20090408,       1112
33RR20090320,        I05,      66,          1,         11,         11,2,20090408,       1020,   -33.9985,    56.9860,       5068,  2834.3,   1.9344,  34.7476,2,  34.7478,2,    193.0,2,   193.2,2,   93.50,2,   30.72,2,    0.00,2,    2.21,2,   0.069,6,   0.023,6,   0.0000,6,  2253.8,2,  2359.9,2,   7.6930,2,    20.00,-999.000,9,-999.000,9,-999.000,9,   1.9375,2,-999.000,9, -999.00,9, -999.00,-999.000,9,-999.000, -999.00,9, -999.00,9, -33.9982,  56.9866,-999.000,-999.000,20090408,       1113
33RR20090320,        I05,      66,          1,          9,          9,2,20090408,       1020,   -33.9985,    56.9860,       5068,  3102.2,   1.6851,  34.7404,2,  34.7401,2,    195.5,2,   194.7,2,  102.29,2,   31.26,2,    0.00,2,    2.25,2,   0.073,2,   0.024,2,   0.0000,2,  -999.0,9,  -999.0,9,-999.0000,9,  -999.00,-999.000,9,-999.000,9,-999.000,9,   1.6848,2,-999.000,9, -999.00,9, -999.00,-999.000,9,-999.000, -999.00,9, -999.00,9, -33.9981,  56.9866,-999.000,-999.000,20090408,       1106
33RR20090320,        I05,      66,          1,          8,          8,2,20090408,       1020,   -33.9985,    56.9860,       5068,  3391.9,   1.4209,  34.7318,2,  34.7311,2,    200.2,2,   200.1,2,  108.09,2,   31.31,2,    0.00,2,    2.26,2,   0.099,2,   0.032,2,   0.0000,2,  2258.7,2,  2363.4,2,   7.6896,2,    20.00,-999.000,9,-999.000,9,-999.000,9,   1.4202,2,-999.000,9, -999.00,9, -999.00,-999.000,9,-999.000, -999.00,9, -999.00,9, -33.9982,  56.9866,-999.000,-999.000,20090408,       1100
33RR20090320,        I05,      66,          1,          7,          7,2,20090408,       1020,   -33.9985,    56.9860,       5068,  3696.9,   1.0458,  34.7165,2,  34.7156,2,    208.2,2,   208.7,2,  114.50,2,   31.52,2,    0.00,2,    2.27,2,   0.162,2,   0.053,2,   0.0040,2,  -999.0,9,  -999.0,9,-999.0000,9,  -999.00,-999.000,9,-999.000,9,-999.000,9,   1.0453,2,-999.000,9, -999.00,9, -999.00,-999.000,9,-999.000, -999.00,9, -999.00,9, -33.9982,  56.9866,-999.000,-999.000,20090408,       1054
33RR20090320,        I05,      66,          1,          6,          6,2,20090408,       1020,   -33.9985,    56.9860,       5068,  3989.9,   0.8370,  34.7053,2,  34.7046,2,    212.3,2,   212.3,2,  120.10,2,   31.79,2,    0.00,2,    2.29,2,   0.202,2,   0.067,2,   0.0000,2,  2256.8,2,  2358.8,2,   7.6818,2,    20.00,-999.000,9,-999.000,9,-999.000,9,   0.8371,2,-999.000,9, -999.00,9, -999.00,-999.000,9,-999.000, -999.00,9, -999.00,9, -33.9982,  56.9867,-999.000,-999.000,20090408,       1047
33RR20090320,        I05,      66,          1,          5,          5,2,20090408,       1020,   -33.9985,    56.9860,       5068,  4399.2,   0.6479,  34.6941,2,  34.6926,2,    215.8,2,   215.5,2,  126.53,2,   32.12,2,    0.00,2,    2.31,2,   0.226,2,   0.075,2,   0.0000,2,  -999.0,9,  -999.0,9,-999.0000,9,  -999.00,-999.000,9,-999.000,9,-999.000,9,   0.6480,2,-999.000,9, -999.00,9, -999.00,-999.000,9,-999.000, -999.00,9, -999.00,9, -33.9982,  56.9867,-999.000,-999.000,20090408,       1039
33RR20090320,        I05,      66,          1,          4,          4,2,20090408,       1020,   -33.9985,    56.9860,       5068,  4599.1,   0.6475,  34.6930,2,  34.6928,2,    216.3,2,   216.0,2,  127.10,2,   32.22,2,    0.00,2,    2.31,2,-999.000,5,-999.000,5,-999.0000,5,  2257.7,2,  2360.5,2,   7.6785,2,    20.00,-999.000,9,-999.000,9,-999.000,9,   0.6478,2,-999.000,9, -999.00,9, -999.00,-999.000,9,-999.000, -999.00,9, -999.00,9, -33.9982,  56.9866,-999.000,-999.000,20090408,       1034
33RR20090320,        I05,      66,          1,          3,          3,2,20090408,       1020,   -33.9985,    56.9860,       5068,  4848.3,   0.6031,  34.6892,2,  34.6889,2,    217.5,2,   217.1,2,  129.29,2,   32.27,2,    0.00,2,    2.32,2,   0.239,2,   0.078,2,   0.0000,2,  -999.0,9,  -999.0,9,-999.0000,9,  -999.00,-999.000,9,-999.000,9,-999.000,9,   0.6035,2,-999.000,9, -999.00,9, -999.00,-999.000,9,-999.000, -999.00,9, -999.00,9, -33.9983,  56.9863,-999.000,-999.000,20090408,       1028
33RR20090320,        I05,      66,          1,          2,          2,2,20090408,       1020,   -33.9985,    56.9860,       5068,  5044.0,   0.6046,  34.6879,2,  34.6883,2,    218.0,2,   217.1,2,  129.87,2,   32.22,2,    0.00,2,    2.33,2,   0.236,2,   0.078,2,   0.0000,2,  -999.0,9,  -999.0,9,-999.0000,9,  -999.00,-999.000,9,-999.000,9,-999.000,9,   0.6049,2,-999.000,9, -999.00,9, -999.00,-999.000,9,-999.000, -999.00,9, -999.00,9, -33.9984,  56.9860,-999.000,-999.000,20090408,       1023
33RR20090320,        I05,      66,          1,          1,          1,2,20090408,       1020,   -33.9985,    56.9860,       5068,  5148.5,   0.6166,  34.6876,2,  34.6879,2,    216.7,2,   217.3,2,  129.84,2,   32.26,2,    0.00,2,    2.33,2,   0.235,2,   0.078,2,   0.0000,2,  2260.9,6,  2360.2,2,   7.6776,2,    20.00,-999.000,9,-999.000,9,-999.000,9,   0.6165,2,-999.000,9, -999.00,9, -999.00,-999.000,9,-999.000, -999.00,9, -999.00,9, -33.9985,  56.9860,-999.000,-999.000,20090408,       1020