BOTTLE,20220814CCHSIOAMB
EXPOCODE,SECT_ID,STNNBR,CASTNO,SAMPNO,BTLNBR,BTLNBR_FLAG_W,DATE,TIME,LATITUDE,LONGITUDE,DEPTH,CTDPRS,CTDTMP,CTDSAL,CTDSAL_FLAG_W,SALNTY,SALNTY_FLAG_W,CTDOXY,CTDOXY_FLAG_W,OXYGEN,OXYGEN_FLAG_W,SILCAT,SILCAT_FLAG_W,NITRAT,NITRAT_FLAG_W,NITRIT,NITRIT_FLAG_W,PHSPHT,PHSPHT_FLAG_W,CFC-11,CFC-11_FLAG_W,CFC-12,CFC-12_FLAG_W,SF6,SF6_FLAG_W,TCARBN,TCARBN_FLAG_W,ALKALI,ALKALI_FLAG_W,PH_TOT,PH_TOT_FLAG_W,PH_TMP,TRITUM,TRITUM_FLAG_W,HELIUM,HELIUM_FLAG_W,DELHE3,DELHE3_FLAG_W,REFTMP,REFTMP_FLAG_W,DELC13,DELC13_FLAG_W,DELC14,DELC14_FLAG_W,C14ERR,NEON,NEON_FLAG_W,NEONER,DOC,DOC_FLAG_W,TDN,TDN_FLAG_W,BTL_LAT,BTL_LON,HELIER,DELHER,BTL_DATE,BTL_TIME
,,,,,,,,,,,METERS,DBAR,ITS-90,PSS-78,,PSS-78,,UMOL/KG,,UMOL/KG,,UMOL/KG,,UMOL/KG,,UMOL/KG,,UMOL/KG,,PMOL/KG,,PMOL/KG,,FMOL/KG,,UMOL/KG,,UMOL/KG,,,,DEG C,TU,,NMOL/KG,,PERCNT,,DEG C,,/MILLE,,/MILLE,,/MILLE,NMOL/KG,,NMOL/KG,UMOL/KG,,UMOL/KG,,,,NMOL/KG,PERCNT,,
33RR20090320,        I05,      83,          1,         36,         36,2,20090414,       0653,   -33.9977,    63.9806,       4618,     6.0,  19.9056,  35.5086,2,  35.5085,2,    228.4,2,   228.0,2,    1.81,2,    0.12,2,    0.00,2,    0.14,2,   2.177,6,   1.308,6,   1.2070,6,  2053.0,6,  2333.8,2,   8.0774,2,    20.00,   0.473,2,   1.850,2,  -1.796,2,  19.9054,2,-999.000,9, -999.00,9, -999.00,   7.452,2,   0.008,   66.32,2,    3.91,2, -33.9973,  63.9815,   0.001,   0.192,20090414,       0852
33RR20090320,        I05,      83,          1,         35,         35,2,20090414,       0653,   -33.9977,    63.9806,       4618,    27.7,  19.8807,  35.5058,2,  35.5058,2,    229.3,2,   228.6,2,    1.59,2,    0.12,2,    0.00,2,    0.14,2,   2.179,2,   1.303,2,   1.1860,2,  2050.7,2,  2331.0,2,   8.0776,2,    20.00,   0.470,2,   1.774,2,  -1.774,2,  19.8783,2,-999.000,9, -999.00,9, -999.00,   7.175,2,   0.008,   66.01,2,    4.20,2, -33.9974,  63.9815,   0.001,   0.204,20090414,       0851
33RR20090320,        I05,      83,          1,         34,         34,2,20090414,       0653,   -33.9977,    63.9806,       4618,    53.3,  18.8848,  35.4563,2,  35.4567,2,    233.4,2,   236.5,2,    1.58,2,    0.17,2,    0.00,2,    0.15,2,   2.326,2,   1.389,2,   1.2950,2,  2052.1,2,  2330.4,2,   8.0712,2,    20.00,   0.463,2,   1.782,2,  -1.763,2,  18.8951,2,-999.000,9, -999.00,9, -999.00,   7.333,2,   0.016,   65.50,2,    3.87,2, -33.9974,  63.9815,   0.001,   0.195,20090414,       0849
33RR20090320,        I05,      83,          1,         33,         33,2,20090414,       0653,   -33.9977,    63.9806,       4618,    78.8,  16.2727,  35.4709,2,  35.4708,2,    251.2,2,   250.4,2,    1.79,2,    0.17,2,    0.00,2,    0.19,2,   2.647,2,   1.562,2,   1.3660,2,  2066.0,2,  2331.6,2,   8.0500,2,    20.00,   0.432,2,   1.939,2,  -0.960,2,  16.2537,2,-999.000,9, -999.00,9, -999.00,   7.946,2,   0.349,   61.56,2,    4.15,2, -33.9974,  63.9814,   0.091,   0.207,20090414,       0848
33RR20090320,        I05,      83,          1,         32,         32,2,20090414,       0653,   -33.9977,    63.9806,       4618,   103.2,  15.2727,  35.4222,2,  35.4227,2,    231.9,2,   226.5,2,    3.02,2,    4.13,2,    0.02,2,    0.40,2,   2.666,2,   1.549,2,   1.4130,2,  2081.6,2,  2325.5,2,   8.0100,2,    20.00,   0.457,2,   1.796,2,  -1.621,2,  15.2832,2,-999.000,9, -999.00,9, -999.00,   7.475,2,   0.015,   57.30,2,    6.64,2, -33.9974,  63.9814,   0.001,   0.195,20090414,       0846
33RR20090320,        I05,      83,          1,         31,         31,2,20090414,       0653,   -33.9977,    63.9806,       4618,   151.8,  14.4252,  35.3501,2,  35.3511,2,    229.2,2,   229.5,2,    3.63,2,    5.70,2,    0.01,2,    0.50,2,   2.805,2,   1.632,2,   1.3670,2,  2094.0,2,  2323.1,2,   7.9833,2,    20.00,   0.427,2,   1.908,2,  -1.487,2,  14.4313,2,-999.000,9, -999.00,9, -999.00,   7.817,2,   0.009,   55.28,2,    8.35,2, -33.9975,  63.9814,   0.001,   0.180,20090414,       0845
33RR20090320,        I05,      83,          1,         30,         30,2,20090414,       0653,   -33.9977,    63.9806,       4618,   203.6,  13.8829,  35.3282,2,  35.3275,2,    232.5,2,   232.3,2,    4.04,2,    6.80,2,    0.01,2,    0.56,2,   2.858,2,   1.664,2,   1.3150,2,  2099.2,2,  2321.2,2,   7.9704,2,    20.00,   0.412,2,   1.819,2,  -1.682,2,  13.8783,2,-999.000,9, -999.00,9, -999.00,   7.550,2,   0.008,   53.28,2,    9.63,2, -33.9974,  63.9815,   0.001,   0.192,20090414,       0842
33RR20090320,        I05,      83,          1,         29,         29,2,20090414,       0653,   -33.9977,    63.9806,       4618,   252.8,  13.5691,  35.3118,2,  35.3108,2,    238.0,2,   235.1,2,    4.03,2,    7.16,2,    0.01,2,    0.59,2,   2.913,2,   1.686,2,   1.4060,2,  2101.8,2,  2319.8,2,   7.9661,2,    20.00,   0.371,2,-999.000,9,-999.000,9,  13.5682,2,-999.000,9, -999.00,9, -999.00,-999.000,9,-999.000,   52.39,2,    9.92,2, -33.9975,  63.9815,-999.000,-999.000,20090414,       0841
33RR20090320,        I05,      83,          1,         28,         28,2,20090414,       0653,   -33.9977,    63.9806,       4618,   302.4,  13.2687,  35.2718,2,  35.2730,2,    235.6,2,   235.1,2,    4.24,2,    7.90,2,    0.00,2,    0.62,2,   2.953,2,   1.697,2,   1.3540,2,  2105.7,2,  2319.6,2,   7.9578,2,    20.00,   0.395,2,   1.829,2,  -0.991,2,  13.2672,2,-999.000,9, -999.00,9, -999.00,   7.712,2,   0.014,   51.48,2,   10.77,2, -33.9975,  63.9815,   0.000,   0.212,20090414,       0839
33RR20090320,        I05,      83,          1,         27,         27,2,20090414,       0653,   -33.9977,    63.9806,       4618,   352.6,  12.9715,  35.2281,2,  35.2295,2,    234.7,2,   234.6,2,    4.23,2,    8.69,2,    0.00,2,    0.67,2,   3.002,2,   1.722,2,   1.3790,2,  2108.3,2,  2316.6,2,   7.9476,2,    20.00,   0.382,2,   1.868,2,  -1.305,2,  12.9714,2,-999.000,9, -999.00,9, -999.00,   7.868,2,   0.012,   50.57,2,   11.12,2, -33.9976,  63.9815,   0.000,   0.188,20090414,       0837
33RR20090320,        I05,      83,          1,         26,         26,2,20090414,       0653,   -33.9977,    63.9806,       4618,   402.1,  12.6421,  35.1781,2,  35.1771,2,    234.2,2,   234.9,2,    4.42,2,    9.47,2,    0.00,2,    0.72,2,   3.053,2,   1.741,2,   1.3260,2,  2110.2,2,  2315.4,2,   7.9393,2,    20.00,   0.360,2,   1.822,2,  -1.250,2,  12.6420,2,-999.000,9, -999.00,9, -999.00,   7.619,2,   0.009,   49.22,2,   11.52,2, -33.9977,  63.9815,   0.001,   0.192,20090414,       0834
33RR20090320,        I05,      83,          1,         25,         25,2,20090414,       0653,   -33.9977,    63.9806,       4618,   450.9,  12.3945,  35.1458,2,  35.1429,2,    238.0,2,   238.5,2,    4.21,2,    9.72,2,    0.00,2,    0.73,2,   3.087,2,   1.765,2,   1.2870,2,  2111.1,2,  2312.8,2,   7.9364,2,    20.00,   0.359,2,   1.839,2,  -1.347,2,  12.3965,2,-999.000,9, -999.00,9, -999.00,   7.678,2,   0.009,   48.13,2,   11.28,2, -33.9976,  63.9814,   0.001,   0.192,20090414,       0832
33RR20090320,        I05,      83,          1,         24,         24,2,20090414,       0653,   -33.9977,    63.9806,       4618,   501.6,  12.1467,  35.0994,2,  35.0994,2,    239.4,2,   232.0,2,    4.82,2,   10.88,2,    0.00,2,    0.81,2,   3.097,2,   1.746,2,   1.1770,2,  2114.5,2,  2311.3,2,   7.9232,2,    20.00,   0.351,2,   1.851,2,  -1.001,2,  12.1463,2,-999.000,9, -999.00,9, -999.00,   7.785,2,   0.009,   46.95,2,   12.51,2, -33.9976,  63.9814,   0.001,   0.206,20090414,       0829
33RR20090320,        I05,      83,          1,         23,         23,2,20090414,       0653,   -33.9977,    63.9806,       4618,   600.6,  11.4765,  34.9880,2,  34.9884,2,    224.4,2,   223.2,2,    5.44,2,   13.12,2,    0.00,2,    0.95,2,   3.164,2,   1.725,2,   1.2020,2,  2122.2,2,  2308.0,2,   7.8965,2,    20.00,   0.312,2,-999.000,9,-999.000,9,  11.4719,2,-999.000,9, -999.00,9, -999.00,-999.000,9,-999.000,   46.01,2,   14.50,2, -33.9973,  63.9813,-999.000,-999.000,20090414,       0827
33RR20090320,        I05,      83,          1,         22,         22,2,20090414,       0653,   -33.9977,    63.9806,       4618,   702.0,  10.4645,  34.8453,2,  34.8450,2,    221.9,2,   221.7,2,    6.47,2,   15.48,2,    0.00,2,    1.10,2,-999.000,9,-999.000,9,-999.0000,9,  2128.6,2,  2301.2,2,   7.8690,2,    20.00,-999.000,9,   1.878,2,  -0.182,2,  10.4622,2,-999.000,9, -999.00,9, -999.00,   7.880,2,   0.009,   45.04,2,   17.00,2, -33.9971,  63.9817,   0.001,   0.192,20090414,       0824
33RR20090320,        I05,      83,          1,         21,         21,2,20090414,       0653,   -33.9977,    63.9806,       4618,   802.7,   9.2599,  34.6994,2,  34.7011,2,    213.0,2,   212.4,2,    9.58,2,   19.03,2,    0.00,2,    1.34,2,   2.993,2,   1.561,2,   0.7660,2,  2142.0,2,  2296.1,2,   7.8267,2,    20.00,   0.201,2,-999.000,9,-999.000,9,   9.2698,2,-999.000,9, -999.00,9, -999.00,-999.000,9,-999.000,   44.02,2,   20.22,2, -33.9970,  63.9821,-999.000,-999.000,20090414,       0821
33RR20090320,        I05,      83,          1,         20,         20,2,20090414,       0653,   -33.9977,    63.9806,       4618,   903.9,   7.6426,  34.5432,2,  34.5434,2,    204.5,2,   204.5,2,   15.41,2,   23.61,2,    0.00,2,    1.65,2,-999.000,9,-999.000,9,-999.0000,9,  2159.2,2,  2294.6,2,   7.7738,2,    20.00,-999.000,9,-999.000,9,-999.000,9,   7.6433,2,-999.000,9, -999.00,9, -999.00,-999.000,9,-999.000,   43.29,2,   25.25,2, -33.9971,  63.9825,-999.000,-999.000,20090414,       0818
33RR20090320,        I05,      83,          1,         19,         19,2,20090414,       0653,   -33.9977,    63.9806,       4618,  1003.1,   6.2090,  34.4289,2,  34.4290,2,    204.3,2,   204.5,2,   21.04,2,   26.98,2,    0.00,2,    1.89,2,   2.343,2,   1.163,2,   0.5750,2,  2172.7,2,  2294.7,2,   7.7372,2,    20.00,   0.152,2,-999.000,9,-999.000,9,   6.2084,2,-999.000,9, -999.00,9, -999.00,-999.000,9,-999.000,   42.49,2,   28.83,2, -33.9972,  63.9825,-999.000,-999.000,20090414,       0815
33RR20090320,        I05,      83,          1,         18,         18,2,20090414,       0653,   -33.9977,    63.9806,       4618,  1100.2,   5.1006,  34.3693,2,  34.3691,2,    204.5,2,   206.1,2,   27.51,2,   29.25,2,    0.00,2,    2.06,2,-999.000,9,-999.000,9,-999.0000,9,  2184.8,2,  2297.0,2,   7.7123,2,    20.00,-999.000,9,-999.000,9,-999.000,9,   5.1029,2,-999.000,9, -999.00,9, -999.00,-999.000,9,-999.000,   41.72,2,   31.23,2, -33.9973,  63.9824,-999.000,-999.000,20090414,       0812
33RR20090320,        I05,      83,          1,         17,         17,2,20090414,       0653,   -33.9977,    63.9806,       4618,  1197.7,   4.3239,  34.3679,2,  34.3678,2,    198.5,2,   199.4,2,   36.09,2,   31.10,2,    0.00,2,    2.21,2,   1.708,2,   0.822,2,   0.3280,2,  2199.8,2,  2302.8,2,   7.6887,2,    20.00,   0.040,2,-999.000,9,-999.000,9,   4.3270,2,-999.000,9, -999.00,9, -999.00,-999.000,9,-999.000,   41.05,2,   32.60,2, -33.9973,  63.9819,-999.000,-999.000,20090414,       0809
33RR20090320,        I05,      83,          1,         16,         16,2,20090414,       0653,   -33.9977,    63.9806,       4618,  1299.8,   3.8610,  34.3919,2,  34.3918,2,    190.3,2,   191.5,2,   44.29,2,   32.31,2,    0.00,2,    2.31,2,-999.000,9,-999.000,9,-999.0000,9,  2213.7,2,  2311.4,2,   7.6709,2,    20.00,-999.000,9,-999.000,9,-999.000,9,   3.8601,2,-999.000,9, -999.00,9, -999.00,-999.000,9,-999.000,   40.37,2,   33.72,2, -33.9974,  63.9814,-999.000,-999.000,20090414,       0806
33RR20090320,        I05,      83,          1,         15,         15,2,20090414,       0653,   -33.9977,    63.9806,       4618,  1400.4,   3.4642,  34.4414,2,  34.4412,2,    182.1,2,   181.1,2,   53.76,2,   33.37,2,    0.00,2,    2.37,2,   0.891,2,   0.408,2,   0.1570,2,  2229.5,2,  2316.1,2,   7.6536,2,    20.00,   0.087,2,-999.000,9,-999.000,9,   3.4651,2,-999.000,9, -999.00,9, -999.00,-999.000,9,-999.000,   40.34,2,   34.86,2, -33.9977,  63.9810,-999.000,-999.000,20090414,       0803
33RR20090320,        I05,      83,          1,         14,         14,2,20090414,       0653,   -33.9977,    63.9806,       4618,  1499.5,   3.1527,  34.4965,2,  34.4959,2,    176.0,2,   175.5,2,   61.15,2,   33.73,2,    0.00,2,    2.41,2,-999.000,9,-999.000,9,-999.0000,9,  2239.9,2,  2326.7,2,   7.6442,2,    20.00,-999.000,9,-999.000,9,-999.000,9,   3.1590,2,-999.000,9, -999.00,9, -999.00,-999.000,9,-999.000,   39.99,2,   35.10,2, -33.9978,  63.9812,-999.000,-999.000,20090414,       0800
33RR20090320,        I05,      83,          1,         13,         13,2,20090414,       0653,   -33.9977,    63.9806,       4618,  1595.7,   2.9755,  34.5391,2,  34.5391,2,    172.2,2,   172.4,2,   66.02,2,   33.73,2,    0.00,2,    2.39,2,   0.417,2,   0.184,2,   0.0600,2,  2244.9,2,  2332.4,2,   7.6420,2,    20.00,   0.061,2,-999.000,9,-999.000,9,   2.9752,2,-999.000,9, -999.00,9, -999.00,-999.000,9,-999.000,   39.45,2,   35.63,2, -33.9979,  63.9812,-999.000,-999.000,20090414,       0758
33RR20090320,        I05,      83,          1,         12,         12,2,20090414,       0653,   -33.9977,    63.9806,       4618,  1797.0,   2.6810,  34.6243,2,  34.6236,2,    173.4,2,   173.6,2,   72.57,2,   32.97,2,    0.00,2,    2.34,2,-999.000,9,-999.000,9,-999.0000,9,  2250.2,2,  2341.0,2,   7.6500,2,    20.00,-999.000,9,-999.000,9,-999.000,9,   2.6808,2,-999.000,9, -999.00,9, -999.00,-999.000,9,-999.000,   39.63,2,   34.37,2, -33.9977,  63.9811,-999.000,-999.000,20090414,       0753
33RR20090320,        I05,      83,          1,         11,         11,2,20090414,       0653,   -33.9977,    63.9806,       4618,  2012.7,   2.4709,  34.6843,2,  34.6849,2,    178.7,2,   179.2,2,   77.87,2,   31.94,2,    0.00,2,    2.27,2,   0.073,2,   0.031,2,   0.1720,2,  2251.1,2,  2348.0,2,   7.6654,2,    20.00,   0.001,2,-999.000,9,-999.000,9,   2.4714,2,-999.000,9, -999.00,9, -999.00,-999.000,9,-999.000,   39.76,2,   33.27,2, -33.9977,  63.9810,-999.000,-999.000,20090414,       0748
33RR20090320,        I05,      83,          1,         10,         10,2,20090414,       0653,   -33.9977,    63.9806,       4618,  2265.7,   2.2215,  34.7206,2,  34.7208,2,    180.6,2,   180.9,2,   90.42,2,   31.78,2,    0.00,2,    2.27,2,-999.000,9,-999.000,9,-999.0000,9,  2260.6,2,  2361.6,2,   7.6774,2,    20.00,-999.000,9,-999.000,9,-999.000,9,   2.2217,2,-999.000,9, -999.00,9, -999.00,-999.000,9,-999.000,   39.89,2,   33.25,2, -33.9978,  63.9810,-999.000,-999.000,20090414,       0743
33RR20090320,        I05,      83,          1,          9,          9,2,20090414,       0653,   -33.9977,    63.9806,       4618,  2519.3,   2.0507,  34.7293,2,  34.7291,2,    178.4,2,   178.1,2,  101.30,2,   32.30,2,    0.00,2,    2.30,2,   0.008,2,   0.006,2,   0.0000,2,  2271.5,2,  2372.3,2,   7.6779,2,    20.00,-999.000,9,   2.003,2,  11.622,2,   2.0511,2,-999.000,9, -999.00,9, -999.00,   8.978,2,   0.019,   39.42,2,   33.78,2, -33.9978,  63.9811,   0.000,   0.195,20090414,       0737
33RR20090320,        I05,      83,          1,          8,          8,2,20090414,       0653,   -33.9977,    63.9806,       4618,  2772.7,   1.8966,  34.7317,2,  34.7325,2,    178.2,2,   177.5,2,  109.85,2,   32.62,2,    0.00,2,    2.34,2,-999.000,9,-999.000,9,-999.0000,9,  2278.4,6,  2376.7,2,   7.6778,2,    20.00,-999.000,9,   1.960,2,  12.533,2,   1.8972,2,-999.000,9, -999.00,9, -999.00,   8.814,2,   0.018,   39.75,2,   33.99,2, -33.9976,  63.9808,   0.000,   0.205,20090414,       0732
33RR20090320,        I05,      83,          1,          7,          7,2,20090414,       0653,   -33.9977,    63.9806,       4618,  3023.5,   1.7581,  34.7304,2,  34.7307,2,    179.0,2,   178.7,2,  114.78,2,   32.87,2,    0.00,2,    2.36,2,   0.009,2,   0.005,2,   0.1190,3,  2282.6,2,  2381.3,2,   7.6782,2,    20.00,-999.000,9,   1.962,2,  12.104,2,   1.7575,2,-999.000,9, -999.00,9, -999.00,   8.808,2,   0.011,   39.85,2,   34.10,2, -33.9978,  63.9810,   0.000,   0.202,20090414,       0727
33RR20090320,        I05,      83,          1,          6,          6,2,20090414,       0653,   -33.9977,    63.9806,       4618,  3329.5,   1.6116,  34.7268,2,  34.7270,2,    182.5,2,   182.0,2,  118.20,2,   32.92,2,    0.00,2,    2.36,2,-999.000,9,-999.000,9,-999.0000,9,  2282.4,2,  2383.3,2,   7.6783,2,    20.00,-999.000,9,-999.000,9,-999.000,9,   1.6114,2,-999.000,9, -999.00,9, -999.00,-999.000,9,-999.000,   40.04,2,   34.13,2, -33.9978,  63.9811,-999.000,-999.000,20090414,       0721
33RR20090320,        I05,      83,          1,          5,          5,2,20090414,       0653,   -33.9977,    63.9806,       4618,  3634.4,   1.3471,  34.7189,2,  34.7194,2,    190.3,2,   190.8,2,  121.42,2,   32.65,2,    0.00,2,    2.34,2,   0.022,2,   0.011,2,   0.0000,2,  2277.9,2,  2378.3,2,   7.6803,2,    20.00,-999.000,9,   2.006,2,  10.391,2,   1.3496,2,-999.000,9, -999.00,9, -999.00,   9.009,2,   0.011,   39.75,2,   33.96,2, -33.9977,  63.9809,   0.000,   0.214,20090414,       0714
33RR20090320,        I05,      83,          1,          4,          4,2,20090414,       0653,   -33.9977,    63.9806,       4618,  3939.1,   0.9402,  34.7048,2,  34.7043,2,    202.2,2,   204.1,2,  125.29,2,   32.48,2,    0.00,2,    2.32,2,-999.000,9,-999.000,9,-999.0000,9,  2269.6,2,  2372.6,2,   7.6815,2,    20.00,-999.000,9,   1.980,2,   8.770,2,   0.9407,2,-999.000,9, -999.00,9, -999.00,   8.951,2,   0.018,   40.11,2,   33.93,2, -33.9977,  63.9808,   0.000,   0.183,20090414,       0708
33RR20090320,        I05,      83,          1,          3,          3,2,20090414,       0653,   -33.9977,    63.9806,       4618,  4243.1,   0.7131,  34.6954,2,  34.6959,2,    210.1,2,   210.8,2,  128.29,2,   32.47,2,    0.00,2,    2.31,2,   0.060,2,   0.028,2,   0.0000,2,  2270.0,2,  2368.5,2,   7.6813,2,    20.00,   0.001,2,   2.003,2,   7.726,2,   0.7127,2,-999.000,9, -999.00,9, -999.00,   9.055,2,   0.022,   39.96,2,   34.01,2, -33.9975,  63.9809,   0.000,   0.204,20090414,       0702
33RR20090320,        I05,      83,          1,          2,          2,2,20090414,       0653,   -33.9977,    63.9806,       4618,  4436.2,   0.6400,  34.6920,2,  34.6922,2,    213.4,2,   213.3,2,  131.08,2,   32.52,2,    0.00,2,    2.31,2,-999.000,9,-999.000,9,-999.0000,9,  2266.4,2,  2368.3,2,   7.6809,2,    20.00,-999.000,9,   2.095,2,   7.934,2,   0.6402,2,-999.000,9, -999.00,9, -999.00,   9.386,2,   0.022,   40.03,2,   34.09,2, -33.9976,  63.9807,   0.000,   0.194,20090414,       0658
33RR20090320,        I05,      83,          1,          1,          1,2,20090414,       0653,   -33.9977,    63.9806,       4618,  4686.8,   0.6272,  34.6898,2,  34.6898,2,    214.4,2,   214.6,2,  130.66,2,   32.51,2,    0.00,2,    2.31,2,   0.097,6,   0.044,6,   0.0390,6,  2263.8,6,  2367.0,2,   7.6809,2,    20.00,   0.010,2,   1.961,2,   7.507,2,   0.6261,2,-999.000,9, -999.00,9, -999.00,   8.948,2,   0.019,   39.93,2,   34.08,2, -33.9977,  63.9806,   0.000,   0.191,20090414,       0653