BOTTLE,20220814CCHSIOAMB
EXPOCODE,SECT_ID,STNNBR,CASTNO,SAMPNO,BTLNBR,BTLNBR_FLAG_W,DATE,TIME,LATITUDE,LONGITUDE,DEPTH,CTDPRS,CTDTMP,CTDSAL,CTDSAL_FLAG_W,SALNTY,SALNTY_FLAG_W,CTDOXY,CTDOXY_FLAG_W,OXYGEN,OXYGEN_FLAG_W,SILCAT,SILCAT_FLAG_W,NITRAT,NITRAT_FLAG_W,NITRIT,NITRIT_FLAG_W,PHSPHT,PHSPHT_FLAG_W,CFC-11,CFC-11_FLAG_W,CFC-12,CFC-12_FLAG_W,SF6,SF6_FLAG_W,TCARBN,TCARBN_FLAG_W,ALKALI,ALKALI_FLAG_W,PH_TOT,PH_TOT_FLAG_W,PH_TMP,TRITUM,TRITUM_FLAG_W,HELIUM,HELIUM_FLAG_W,DELHE3,DELHE3_FLAG_W,REFTMP,REFTMP_FLAG_W,DELC13,DELC13_FLAG_W,DELC14,DELC14_FLAG_W,C14ERR,NEON,NEON_FLAG_W,NEONER,DOC,DOC_FLAG_W,TDN,TDN_FLAG_W,BTL_LAT,BTL_LON,HELIER,DELHER,BTL_DATE,BTL_TIME
,,,,,,,,,,,METERS,DBAR,ITS-90,PSS-78,,PSS-78,,UMOL/KG,,UMOL/KG,,UMOL/KG,,UMOL/KG,,UMOL/KG,,UMOL/KG,,PMOL/KG,,PMOL/KG,,FMOL/KG,,UMOL/KG,,UMOL/KG,,,,DEG C,TU,,NMOL/KG,,PERCNT,,DEG C,,/MILLE,,/MILLE,,/MILLE,NMOL/KG,,NMOL/KG,UMOL/KG,,UMOL/KG,,,,NMOL/KG,PERCNT,,
33RR20090320,        I05,     113,          1,         36,         36,2,20090422,       0859,   -30.6105,    78.7907,       3479,     4.0,  21.9917,  35.8338,2,  35.8339,2,    217.7,2,   218.9,2,    1.16,2,    0.11,2,    0.00,2,    0.10,2,   1.934,2,   1.184,2,   1.1580,2,  2045.3,6,  2348.5,2,   8.1187,2,    20.00,-999.000,9,-999.000,9,-999.000,9,  21.9906,2,-999.000,9, -999.00,9, -999.00,-999.000,9,-999.000,   68.12,2,    4.17,2, -30.6105,  78.7905,-999.000,-999.000,20090422,       1043
33RR20090320,        I05,     113,          1,         35,         35,2,20090422,       0859,   -30.6105,    78.7907,       3479,    25.8,  21.8363,  35.8323,2,  35.8317,2,    220.5,2,   219.2,2,    1.31,2,    0.06,2,    0.00,2,    0.10,2,   1.958,2,   1.188,2,   1.1060,2,  2046.8,2,  2350.9,2,   8.1162,2,    20.00,-999.000,9,-999.000,9,-999.000,9,  21.8391,2,-999.000,9, -999.00,9, -999.00,-999.000,9,-999.000,   67.72,2,    4.25,2, -30.6105,  78.7904,-999.000,-999.000,20090422,       1041
33RR20090320,        I05,     113,          1,         34,         34,2,20090422,       0859,   -30.6105,    78.7907,       3479,    51.7,  20.9547,  35.7698,2,  35.7632,2,    226.0,2,   226.5,2,    1.27,2,    0.07,2,    0.00,2,    0.14,2,   2.093,2,   1.262,2,   1.0850,2,  2063.9,2,  2348.0,2,   8.0882,2,    20.00,-999.000,9,-999.000,9,-999.000,9,  20.9615,2,-999.000,9, -999.00,9, -999.00,-999.000,9,-999.000,   65.74,2,    4.11,2, -30.6105,  78.7904,-999.000,-999.000,20090422,       1040
33RR20090320,        I05,     113,          1,         33,         33,2,20090422,       0859,   -30.6105,    78.7907,       3479,    77.0,  16.9763,  35.6274,2,  35.6216,2,    254.6,2,   254.2,2,    1.06,2,    0.08,2,    0.00,2,    0.17,2,   2.620,2,   1.530,2,   1.2930,2,  2071.8,2,  2341.3,2,   8.0646,2,    20.00,-999.000,9,-999.000,9,-999.000,9,  16.9655,2,-999.000,9, -999.00,9, -999.00,-999.000,9,-999.000,   62.35,2,    3.57,2, -30.6105,  78.7903,-999.000,-999.000,20090422,       1038
33RR20090320,        I05,     113,          1,         32,         32,2,20090422,       0859,   -30.6105,    78.7907,       3479,   101.6,  15.8137,  35.4913,2,  35.4945,2,    251.9,2,   252.4,2,    1.56,2,    0.08,2,    0.00,2,    0.21,2,   2.699,2,   1.569,2,   1.3200,2,  2077.2,2,  2334.5,2,   8.0438,2,    20.00,-999.000,9,-999.000,9,-999.000,9,  15.7826,2,-999.000,9, -999.00,9, -999.00,-999.000,9,-999.000,   60.21,2,    3.86,2, -30.6106,  78.7902,-999.000,-999.000,20090422,       1035
33RR20090320,        I05,     113,          1,         31,         31,2,20090422,       0859,   -30.6105,    78.7907,       3479,   127.7,  14.8216,  35.4142,2,  35.4117,2,    240.1,2,   237.5,2,    1.53,2,    2.09,2,    0.23,2,    0.37,2,   2.778,2,   1.605,2,   1.3130,2,  2092.5,2,  2330.1,2,   8.0028,2,    20.00,-999.000,9,-999.000,9,-999.000,9,  14.8088,2,-999.000,9, -999.00,9, -999.00,-999.000,9,-999.000,   56.56,2,    5.99,2, -30.6106,  78.7902,-999.000,-999.000,20090422,       1034
33RR20090320,        I05,     113,          1,         30,         30,2,20090422,       0859,   -30.6105,    78.7907,       3479,   151.2,  13.9708,  35.3001,2,  35.3015,2,    233.1,2,   233.1,2,    1.67,2,    5.00,2,    0.03,2,    0.50,2,   2.874,2,   1.660,2,   1.3770,2,  2099.3,2,  2321.0,2,   7.9756,2,    20.00,-999.000,9,-999.000,9,-999.000,9,  13.9688,2,-999.000,9, -999.00,9, -999.00,-999.000,9,-999.000,   54.91,2,    8.19,2, -30.6106,  78.7901,-999.000,-999.000,20090422,       1032
33RR20090320,        I05,     113,          1,         29,         29,2,20090422,       0859,   -30.6105,    78.7907,       3479,   200.7,  12.9957,  35.1675,2,  35.1648,2,    233.8,2,   235.4,2,    2.72,2,    7.78,2,    0.01,2,    0.64,2,   3.046,2,   1.738,2,   1.3700,2,  2105.3,2,  2312.4,2,   7.9471,2,    20.00,-999.000,9,-999.000,9,-999.000,9,  12.9941,2,-999.000,9, -999.00,9, -999.00,-999.000,9,-999.000,   53.20,2,   10.64,2, -30.6106,  78.7901,-999.000,-999.000,20090422,       1030
33RR20090320,        I05,     113,          1,         28,         28,2,20090422,       0859,   -30.6105,    78.7907,       3479,   251.1,  12.4983,  35.1264,2,  35.1225,2,    233.3,2,   233.5,2,    2.68,2,    9.15,2,    0.00,2,    0.72,2,   3.156,2,   1.777,2,   1.3650,2,  2111.5,2,  2310.0,2,   7.9304,2,    20.00,-999.000,9,-999.000,9,-999.000,9,  12.4996,2,-999.000,9, -999.00,9, -999.00,-999.000,9,-999.000,   51.06,2,   11.18,2, -30.6107,  78.7901,-999.000,-999.000,20090422,       1028
33RR20090320,        I05,     113,          1,         27,         27,2,20090422,       0859,   -30.6105,    78.7907,       3479,   301.1,  11.9469,  35.0527,2,  35.0537,2,    237.7,2,   237.8,2,    3.00,2,   10.25,2,    0.00,2,    0.79,2,   3.203,2,   1.793,2,   1.3100,2,  2112.9,2,  2307.7,2,   7.9217,2,    20.00,-999.000,9,-999.000,9,-999.000,9,  11.9478,2,-999.000,9, -999.00,9, -999.00,-999.000,9,-999.000,   49.55,2,   12.65,2, -30.6107,  78.7901,-999.000,-999.000,20090422,       1026
33RR20090320,        I05,     113,          1,         26,         26,2,20090422,       0859,   -30.6105,    78.7907,       3479,   350.6,  11.6620,  35.0166,2,  35.0161,2,    240.4,2,   238.8,2,    3.32,2,   11.03,2,    0.00,2,    0.84,2,   3.207,2,   1.790,2,   1.3650,2,  2116.0,2,  2304.3,2,   7.9159,2,    20.00,-999.000,9,-999.000,9,-999.000,9,  11.6664,2,-999.000,9, -999.00,9, -999.00,-999.000,9,-999.000,   48.31,2,   13.55,2, -30.6108,  78.7901,-999.000,-999.000,20090422,       1024
33RR20090320,        I05,     113,          1,         25,         25,2,20090422,       0859,   -30.6105,    78.7907,       3479,   401.1,  11.3590,  34.9695,2,  34.9679,2,    239.6,2,   240.1,2,    3.47,2,   11.56,2,    0.00,2,    0.88,2,   3.290,2,   1.830,2,   1.2660,2,  2117.1,2,  2303.7,2,   7.9093,2,    20.00,-999.000,9,-999.000,9,-999.000,9,  11.3657,2,-999.000,9, -999.00,9, -999.00,-999.000,9,-999.000,   47.56,2,   14.42,2, -30.6108,  78.7901,-999.000,-999.000,20090422,       1022
33RR20090320,        I05,     113,          1,         24,         24,2,20090422,       0859,   -30.6105,    78.7907,       3479,   451.0,  11.0652,  34.9297,2,  34.9301,2,    239.0,2,   239.8,2,    3.26,2,   12.29,2,    0.00,2,    0.92,2,   3.371,2,   1.848,2,   1.2940,2,  2117.7,2,  2301.8,2,   7.9023,2,    20.00,-999.000,9,-999.000,9,-999.000,9,  11.0647,2,-999.000,9, -999.00,9, -999.00,-999.000,9,-999.000,   46.06,2,   13.93,2, -30.6108,  78.7901,-999.000,-999.000,20090422,       1020
33RR20090320,        I05,     113,          1,         23,         23,2,20090422,       0859,   -30.6105,    78.7907,       3479,   500.4,  10.8157,  34.9036,2,  34.9054,2,    236.7,2,   237.5,2,    3.76,2,   12.82,2,    0.00,2,    0.96,2,   3.405,2,   1.859,2,   1.1920,2,  2120.8,2,  2301.5,2,   7.8950,2,    20.00,-999.000,9,-999.000,9,-999.000,9,  10.8224,2,-999.000,9, -999.00,9, -999.00,-999.000,9,-999.000,   45.56,2,   14.72,2, -30.6108,  78.7901,-999.000,-999.000,20090422,       1018
33RR20090320,        I05,     113,          1,         22,         22,2,20090422,       0859,   -30.6105,    78.7907,       3479,   601.1,  10.0786,  34.7937,2,  34.7913,2,    235.8,2,   234.5,2,    4.26,2,   15.05,2,    0.00,2,    1.09,2,   3.433,2,   1.850,2,   1.1080,2,  2126.4,2,  2295.6,2,   7.8723,2,    20.00,-999.000,9,-999.000,9,-999.000,9,  10.0699,2,-999.000,9, -999.00,9, -999.00,-999.000,9,-999.000,   44.90,2,   16.37,2, -30.6108,  78.7901,-999.000,-999.000,20090422,       1015
33RR20090320,        I05,     113,          1,         21,         21,2,20090422,       0859,   -30.6105,    78.7907,       3479,   702.2,   9.2647,  34.6846,2,  34.6838,2,    230.7,2,   228.3,2,    5.30,2,   17.61,2,    0.00,2,    1.26,2,   3.389,6,   1.766,6,   0.9540,6,  2134.2,2,  2292.3,2,   7.8458,2,    20.00,-999.000,9,-999.000,9,-999.000,9,   9.2553,2,-999.000,9, -999.00,9, -999.00,-999.000,9,-999.000,   43.61,2,   19.19,2, -30.6108,  78.7902,-999.000,-999.000,20090422,       1012
33RR20090320,        I05,     113,          1,         20,         20,2,20090422,       0859,   -30.6105,    78.7907,       3479,   797.1,   8.0724,  34.5611,2,  34.5594,2,    211.0,2,   211.4,2,   10.28,2,   22.17,2,    0.00,2,    1.55,2,   2.765,2,   1.400,2,   0.6710,2,  2152.2,2,  2289.0,2,   7.7952,2,    20.00,-999.000,9,-999.000,9,-999.000,9,   8.0903,2,-999.000,9, -999.00,9, -999.00,-999.000,9,-999.000,   43.22,2,   23.72,2, -30.6108,  78.7902,-999.000,-999.000,20090422,       1009
33RR20090320,        I05,     113,          1,         19,         19,2,20090422,       0859,   -30.6105,    78.7907,       3479,   902.3,   6.8453,  34.4666,2,  34.4724,2,    201.2,2,   202.2,2,   16.71,2,   25.79,2,    0.00,2,    1.81,2,   2.180,2,   1.093,2,   0.3910,2,  2168.8,2,  2290.7,2,   7.7520,2,    20.00,-999.000,9,-999.000,9,-999.000,9,   6.8410,2,-999.000,9, -999.00,9, -999.00,-999.000,9,-999.000,   42.22,2,   27.09,2, -30.6108,  78.7902,-999.000,-999.000,20090422,       1006
33RR20090320,        I05,     113,          1,         18,         18,2,20090422,       0859,   -30.6105,    78.7907,       3479,  1001.1,   5.5387,  34.3989,2,  34.4000,2,    195.8,2,   197.2,2,   24.97,2,   29.05,2,    0.00,2,    2.04,2,   1.717,2,   0.848,2,   0.3630,2,  2186.8,2,  2295.9,2,   7.7150,2,    20.00,-999.000,9,-999.000,9,-999.000,9,   5.5421,2,-999.000,9, -999.00,9, -999.00,-999.000,9,-999.000,   41.18,2,   30.37,2, -30.6108,  78.7902,-999.000,-999.000,20090422,       1003
33RR20090320,        I05,     113,          1,         17,         17,2,20090422,       0859,   -30.6105,    78.7907,       3479,  1096.7,   4.4294,  34.3878,2,  34.3870,2,    189.6,2,   190.0,2,   37.60,2,   31.65,2,    0.00,2,    2.26,2,   1.217,4,   0.587,4,   0.1710,4,  2207.4,2,  2303.9,2,   7.6823,2,    20.00,-999.000,9,-999.000,9,-999.000,9,   4.4159,2,-999.000,9, -999.00,9, -999.00,-999.000,9,-999.000,   40.72,2,   32.81,2, -30.6108,  78.7903,-999.000,-999.000,20090422,       1000
33RR20090320,        I05,     113,          1,         16,         16,2,20090422,       0859,   -30.6105,    78.7907,       3479,  1197.6,   3.9452,  34.4221,2,  34.4222,2,    178.0,2,   177.8,2,   49.02,2,   33.29,2,    0.00,2,    2.37,2,   0.765,4,   0.373,4,   0.0600,4,  2226.0,2,  2315.5,2,   7.6600,2,    20.00,-999.000,9,-999.000,9,-999.000,9,   3.9416,2,-999.000,9, -999.00,9, -999.00,-999.000,9,-999.000,   40.20,2,   34.67,2, -30.6108,  78.7903,-999.000,-999.000,20090422,       0957
33RR20090320,        I05,     113,          1,         15,         15,2,20090422,       0859,   -30.6105,    78.7907,       3479,  1297.1,   3.7014,  34.4772,2,  34.4765,2,    163.3,2,   163.4,2,   60.50,2,   34.30,2,    0.00,2,    2.47,2,   0.364,2,   0.182,2,   0.0000,2,  2242.4,2,  2326.3,2,   7.6429,2,    20.00,-999.000,9,-999.000,9,-999.000,9,   3.7016,2,-999.000,9, -999.00,9, -999.00,-999.000,9,-999.000,   40.43,2,   36.27,2, -30.6108,  78.7904,-999.000,-999.000,20090422,       0954
33RR20090320,        I05,     113,          1,         14,         14,2,20090422,       0859,   -30.6105,    78.7907,       3479,  1398.5,   3.3764,  34.5226,2,  34.5229,2,    158.6,2,   158.7,2,   68.36,2,   34.73,2,    0.00,2,    2.50,2,   0.218,2,   0.109,2,   0.0000,2,  2252.3,2,  2335.1,2,   7.6353,2,    20.00,-999.000,9,-999.000,9,-999.000,9,   3.3765,2,-999.000,9, -999.00,9, -999.00,-999.000,9,-999.000,   39.90,2,   36.59,2, -30.6108,  78.7903,-999.000,-999.000,20090422,       0951
33RR20090320,        I05,     113,          1,         13,         13,2,20090422,       0859,   -30.6105,    78.7907,       3479,  1499.6,   3.1534,  34.5592,2,  34.5594,2,    158.4,2,   158.1,2,   72.56,2,   34.72,2,    0.00,2,    2.50,2,   0.161,2,   0.080,2,   0.0000,2,  2256.3,6,  2339.2,2,   7.6340,2,    20.00,-999.000,9,-999.000,9,-999.000,9,   3.1529,2,-999.000,9, -999.00,9, -999.00,-999.000,9,-999.000,   39.76,2,   36.53,2, -30.6107,  78.7903,-999.000,-999.000,20090422,       0948
33RR20090320,        I05,     113,          1,         12,         12,2,20090422,       0859,   -30.6105,    78.7907,       3479,  1598.2,   2.9153,  34.5977,2,  34.5967,2,    161.5,2,   161.1,2,   76.39,2,   34.35,2,    0.00,2,    2.46,2,   0.137,2,   0.068,2,   0.0030,2,  2258.2,2,  2343.1,2,   7.6377,2,    20.00,-999.000,9,-999.000,9,-999.000,9,   2.9192,2,-999.000,9, -999.00,9, -999.00,-999.000,9,-999.000,   40.01,2,   35.62,2, -30.6107,  78.7903,-999.000,-999.000,20090422,       0945
33RR20090320,        I05,     113,          1,         11,         11,2,20090422,       0859,   -30.6105,    78.7907,       3479,  1700.3,   2.7708,  34.6344,2,  34.6339,2,    163.3,2,   162.6,2,   80.05,2,   33.77,2,    0.00,2,    2.43,2,   0.094,2,   0.045,2,   0.0080,2,  2260.8,2,  2346.7,2,   7.6426,2,    20.00,-999.000,9,-999.000,9,-999.000,9,   2.7707,2,-999.000,9, -999.00,9, -999.00,-999.000,9,-999.000,   39.56,2,   35.07,2, -30.6107,  78.7903,-999.000,-999.000,20090422,       0942
33RR20090320,        I05,     113,          1,         10,         10,2,20090422,       0859,   -30.6105,    78.7907,       3479,  1799.4,   2.6131,  34.6612,2,  34.6602,2,    169.3,2,   169.2,2,   80.21,2,   33.25,2,    0.00,2,    2.37,2,   0.094,2,   0.046,2,   0.0140,2,  2257.5,2,  2347.5,2,   7.6517,2,    20.00,-999.000,9,-999.000,9,-999.000,9,   2.6133,2,-999.000,9, -999.00,9, -999.00,-999.000,9,-999.000,   39.72,2,   34.99,2, -30.6108,  78.7904,-999.000,-999.000,20090422,       0939
33RR20090320,        I05,     113,          1,          9,          9,2,20090422,       0859,   -30.6105,    78.7907,       3479,  2001.8,   2.3694,  34.7066,2,  34.7058,2,    178.1,2,   178.0,2,   83.68,2,   32.18,2,    0.00,2,    2.29,2,   0.051,2,   0.027,2,   0.0000,2,  2254.8,2,  2349.5,2,   7.6676,2,    20.00,-999.000,9,-999.000,9,-999.000,9,   2.3695,2,-999.000,9, -999.00,9, -999.00,-999.000,9,-999.000,   39.70,2,   33.71,2, -30.6109,  78.7906,-999.000,-999.000,20090422,       0934
33RR20090320,        I05,     113,          1,          8,          8,2,20090422,       0859,   -30.6105,    78.7907,       3479,  2197.8,   2.1438,  34.7321,2,  34.7317,2,    186.7,2,   186.9,2,   86.61,2,   31.34,2,    0.00,2,    2.22,2,   0.038,2,   0.021,2,   0.0000,2,  2251.2,2,  2352.9,2,   7.6805,2,    20.00,-999.000,9,-999.000,9,-999.000,9,   2.1455,2,-999.000,9, -999.00,9, -999.00,-999.000,9,-999.000,   39.58,2,   32.85,2, -30.6108,  78.7906,-999.000,-999.000,20090422,       0929
33RR20090320,        I05,     113,          1,          7,          7,2,20090422,       0859,   -30.6105,    78.7907,       3479,  2400.9,   1.9381,  34.7403,2,  34.7408,2,    191.2,2,   191.7,2,   91.77,2,   31.13,2,    0.00,2,    2.21,2,   0.031,6,   0.017,6,   0.0000,6,  2251.7,2,  2355.5,2,   7.6870,2,    20.00,-999.000,9,-999.000,9,-999.000,9,   1.9373,2,-999.000,9, -999.00,9, -999.00,-999.000,9,-999.000,   39.38,2,   32.63,2, -30.6108,  78.7907,-999.000,-999.000,20090422,       0924
33RR20090320,        I05,     113,          1,          6,          6,2,20090422,       0859,   -30.6105,    78.7907,       3479,  2602.5,   1.7484,  34.7394,2,  34.7392,2,    193.3,2,   193.7,2,   98.23,2,   31.35,2,    0.00,2,    2.22,2,   0.025,2,   0.014,2,   0.0000,2,  2255.3,2,  2360.6,2,   7.6882,2,    20.00,-999.000,9,-999.000,9,-999.000,9,   1.7475,2,-999.000,9, -999.00,9, -999.00,-999.000,9,-999.000,   39.17,2,   32.70,2, -30.6108,  78.7906,-999.000,-999.000,20090422,       0919
33RR20090320,        I05,     113,          1,          5,          5,2,20090422,       0859,   -30.6105,    78.7907,       3479,  2800.1,   1.6040,  34.7346,2,  34.7343,2,    193.2,2,   193.8,2,  104.52,2,   31.72,2,    0.00,2,    2.25,2,   0.027,2,   0.014,2,   0.0000,2,  2259.7,2,  2364.3,2,   7.6881,2,    20.00,-999.000,9,-999.000,9,-999.000,9,   1.6038,2,-999.000,9, -999.00,9, -999.00,-999.000,9,-999.000,   39.51,2,   33.13,2, -30.6107,  78.7906,-999.000,-999.000,20090422,       0914
33RR20090320,        I05,     113,          1,          4,          4,2,20090422,       0859,   -30.6105,    78.7907,       3479,  3002.0,   1.5083,  34.7321,2,  34.7325,2,    194.3,2,   194.9,2,  108.59,2,   31.83,2,    0.00,2,    2.26,2,   0.019,2,   0.011,2,   0.0000,2,  2263.6,2,  2368.9,2,   7.6906,2,    20.00,-999.000,9,-999.000,9,-999.000,9,   1.5077,2,-999.000,9, -999.00,9, -999.00,-999.000,9,-999.000,   39.95,2,   33.05,2, -30.6106,  78.7905,-999.000,-999.000,20090422,       0910
33RR20090320,        I05,     113,          1,          3,          3,2,20090422,       0859,   -30.6105,    78.7907,       3479,  3205.1,   1.4672,  34.7303,2,  34.7311,2,    194.7,2,   194.8,2,  110.80,2,   31.98,2,    0.00,2,    2.27,2,   0.014,2,   0.008,2,   0.0000,2,  2265.5,2,  2370.6,2,   7.6914,2,    20.00,-999.000,9,-999.000,9,-999.000,9,   1.4666,2,-999.000,9, -999.00,9, -999.00,-999.000,9,-999.000,   40.07,2,   33.69,2, -30.6106,  78.7906,-999.000,-999.000,20090422,       0906
33RR20090320,        I05,     113,          1,          2,          2,2,20090422,       0859,   -30.6105,    78.7907,       3479,  3406.1,   1.4699,  34.7301,2,  34.7307,2,    195.1,2,   195.2,2,  111.34,2,   31.98,2,    0.00,2,    2.27,2,   0.010,2,   0.006,2,   0.0000,2,  2266.1,2,  2372.4,2,   7.6920,2,    20.00,-999.000,9,-999.000,9,-999.000,9,   1.4703,2,-999.000,9, -999.00,9, -999.00,-999.000,9,-999.000,   39.81,2,   33.77,2, -30.6106,  78.7907,-999.000,-999.000,20090422,       0902
33RR20090320,        I05,     113,          1,          1,          1,2,20090422,       0859,   -30.6105,    78.7907,       3479,  3517.6,   1.4629,  34.7295,2,  34.7294,2,    194.7,2,   195.1,2,  111.32,2,   32.04,2,    0.00,2,    2.27,2,   0.010,6,   0.005,6,  -0.0060,6,  2268.8,6,  2373.4,2,   7.6934,2,    20.00,-999.000,9,-999.000,9,-999.000,9,   1.4626,2,-999.000,9, -999.00,9, -999.00,-999.000,9,-999.000,   39.72,2,   33.32,2, -30.6105,  78.7907,-999.000,-999.000,20090422,       0859