BOTTLE,20220814CCHSIOAMB
EXPOCODE,SECT_ID,STNNBR,CASTNO,SAMPNO,BTLNBR,BTLNBR_FLAG_W,DATE,TIME,LATITUDE,LONGITUDE,DEPTH,CTDPRS,CTDTMP,CTDSAL,CTDSAL_FLAG_W,SALNTY,SALNTY_FLAG_W,CTDOXY,CTDOXY_FLAG_W,OXYGEN,OXYGEN_FLAG_W,SILCAT,SILCAT_FLAG_W,NITRAT,NITRAT_FLAG_W,NITRIT,NITRIT_FLAG_W,PHSPHT,PHSPHT_FLAG_W,CFC-11,CFC-11_FLAG_W,CFC-12,CFC-12_FLAG_W,SF6,SF6_FLAG_W,TCARBN,TCARBN_FLAG_W,ALKALI,ALKALI_FLAG_W,PH_TOT,PH_TOT_FLAG_W,PH_TMP,TRITUM,TRITUM_FLAG_W,HELIUM,HELIUM_FLAG_W,DELHE3,DELHE3_FLAG_W,REFTMP,REFTMP_FLAG_W,DELC13,DELC13_FLAG_W,DELC14,DELC14_FLAG_W,C14ERR,NEON,NEON_FLAG_W,NEONER,DOC,DOC_FLAG_W,TDN,TDN_FLAG_W,BTL_LAT,BTL_LON,HELIER,DELHER,BTL_DATE,BTL_TIME
,,,,,,,,,,,METERS,DBAR,ITS-90,PSS-78,,PSS-78,,UMOL/KG,,UMOL/KG,,UMOL/KG,,UMOL/KG,,UMOL/KG,,UMOL/KG,,PMOL/KG,,PMOL/KG,,FMOL/KG,,UMOL/KG,,UMOL/KG,,,,DEG C,TU,,NMOL/KG,,PERCNT,,DEG C,,/MILLE,,/MILLE,,/MILLE,NMOL/KG,,NMOL/KG,UMOL/KG,,UMOL/KG,,,,NMOL/KG,PERCNT,,
33RR20090320,        I05,      48,          1,         36,         36,2,20090403,       2203,   -33.4578,    48.0231,       3864,    10.4,  22.6473,  35.4011,2,  35.4009,2,    218.9,2,   217.3,2,    1.49,2,    0.03,2,    0.00,2,    0.08,2,   1.906,2,   1.165,2,   0.9850,2,  2015.7,6,  2319.7,2,   8.1215,2,    20.00,-999.000,9,-999.000,9,-999.000,9,  22.6481,2,-999.000,9, -999.00,9, -999.00,-999.000,9,-999.000, -999.00,9, -999.00,9, -33.4578,  48.0231,-999.000,-999.000,20090403,       2358
33RR20090320,        I05,      48,          1,         35,         35,2,20090403,       2203,   -33.4578,    48.0231,       3864,    41.2,  20.3039,  35.5891,2,  35.5930,2,    233.3,2,   235.8,2,    1.66,2,    0.03,2,    0.00,2,    0.11,2,-999.000,9,-999.000,9,-999.0000,9,  2036.3,2,  2329.6,2,   8.1020,2,    20.00,-999.000,9,-999.000,9,-999.000,9,  20.2090,2,-999.000,9, -999.00,9, -999.00,-999.000,9,-999.000, -999.00,9, -999.00,9, -33.4579,  48.0230,-999.000,-999.000,20090403,       2355
33RR20090320,        I05,      48,          1,         34,         34,2,20090403,       2203,   -33.4578,    48.0231,       3864,    64.7,  18.1612,  35.5703,2,  35.5703,2,    237.9,2,   237.1,2,    1.81,2,    0.03,2,    0.00,2,    0.15,2,-999.000,9,-999.000,9,-999.0000,9,  2047.0,2,  2328.9,2,   8.0816,2,    20.00,-999.000,9,-999.000,9,-999.000,9,  18.1287,2,-999.000,9, -999.00,9, -999.00,-999.000,9,-999.000, -999.00,9, -999.00,9, -33.4579,  48.0230,-999.000,-999.000,20090403,       2353
33RR20090320,        I05,      48,          1,         33,         33,2,20090403,       2203,   -33.4578,    48.0231,       3864,    91.4,  17.2284,  35.5576,2,  35.5569,2,    222.9,2,   221.7,2,    2.57,2,    2.08,2,    0.04,2,    0.29,2,   2.397,2,   1.432,2,   1.2620,2,  2066.1,2,  2327.6,2,   8.0469,2,    20.00,-999.000,9,-999.000,9,-999.000,9,  17.2324,2,-999.000,9, -999.00,9, -999.00,-999.000,9,-999.000, -999.00,9, -999.00,9, -33.4577,  48.0229,-999.000,-999.000,20090403,       2351
33RR20090320,        I05,      48,          1,         32,         32,2,20090403,       2203,   -33.4578,    48.0231,       3864,   116.4,  16.8413,  35.5570,2,  35.5562,2,    220.7,2,   223.1,2,    2.73,2,    2.82,2,    0.01,2,    0.32,2,-999.000,9,-999.000,9,-999.0000,9,  -999.0,9,  -999.0,9,-999.0000,9,  -999.00,-999.000,9,-999.000,9,-999.000,9,  16.8398,2,-999.000,9, -999.00,9, -999.00,-999.000,9,-999.000, -999.00,9, -999.00,9, -33.4576,  48.0230,-999.000,-999.000,20090403,       2349
33RR20090320,        I05,      48,          1,         31,         31,2,20090403,       2203,   -33.4578,    48.0231,       3864,   141.3,  16.7232,  35.5496,2,  35.5465,2,    222.8,2,   221.8,2,    3.08,2,    3.32,2,    0.01,2,    0.35,2,-999.000,9,-999.000,9,-999.0000,9,  2072.3,2,  2325.1,2,   8.0349,2,    20.00,-999.000,9,-999.000,9,-999.000,9,  16.7215,2,-999.000,9, -999.00,9, -999.00,-999.000,9,-999.000, -999.00,9, -999.00,9, -33.4576,  48.0230,-999.000,-999.000,20090403,       2348
33RR20090320,        I05,      48,          1,         30,         30,2,20090403,       2203,   -33.4578,    48.0231,       3864,   171.7,  16.5488,  35.5372,2,  35.5365,2,    220.4,2,   220.6,2,    3.25,2,    3.87,2,    0.01,2,    0.38,2,-999.000,9,-999.000,9,-999.0000,9,  -999.0,9,  -999.0,9,-999.0000,9,  -999.00,-999.000,9,-999.000,9,-999.000,9,  16.5521,2,-999.000,9, -999.00,9, -999.00,-999.000,9,-999.000, -999.00,9, -999.00,9, -33.4575,  48.0229,-999.000,-999.000,20090403,       2346
33RR20090320,        I05,      48,          1,         29,         29,2,20090403,       2203,   -33.4578,    48.0231,       3864,   221.6,  16.1321,  35.5074,2,  35.5067,2,    216.4,2,   216.2,2,    3.40,2,    4.64,2,    0.00,2,    0.44,2,   2.517,2,   1.493,2,   1.2150,2,  2085.2,2,  2324.4,2,   8.0090,2,    20.00,-999.000,9,-999.000,9,-999.000,9,  16.1317,2,-999.000,9, -999.00,9, -999.00,-999.000,9,-999.000, -999.00,9, -999.00,9, -33.4577,  48.0228,-999.000,-999.000,20090403,       2344
33RR20090320,        I05,      48,          1,         28,         28,2,20090403,       2203,   -33.4578,    48.0231,       3864,   270.6,  15.4814,  35.4614,2,  35.4604,2,    212.8,2,   214.3,2,    3.77,2,    5.90,2,    0.00,2,    0.52,2,-999.000,9,-999.000,9,-999.0000,9,  -999.0,9,  -999.0,9,-999.0000,9,  -999.00,-999.000,9,-999.000,9,-999.000,9,  15.4824,2,-999.000,9, -999.00,9, -999.00,-999.000,9,-999.000, -999.00,9, -999.00,9, -33.4578,  48.0228,-999.000,-999.000,20090403,       2342
33RR20090320,        I05,      48,          1,         27,         27,2,20090403,       2203,   -33.4578,    48.0231,       3864,   321.6,  14.8760,  35.4245,2,  35.4253,2,    216.5,2,   216.8,2,    3.54,2,    6.35,2,    0.00,2,    0.55,2,-999.000,9,-999.000,9,-999.0000,9,  2099.6,2,  2322.6,2,   7.9770,2,    20.00,-999.000,9,-999.000,9,-999.000,9,  14.8771,2,-999.000,9, -999.00,9, -999.00,-999.000,9,-999.000, -999.00,9, -999.00,9, -33.4577,  48.0228,-999.000,-999.000,20090403,       2339
33RR20090320,        I05,      48,          1,         26,         26,2,20090403,       2203,   -33.4578,    48.0231,       3864,   369.8,  14.1625,  35.3648,2,  35.3640,2,    219.5,2,   219.7,2,    3.70,2,    7.39,2,    0.00,2,    0.60,2,-999.000,9,-999.000,9,-999.0000,9,  -999.0,9,  -999.0,9,-999.0000,9,  -999.00,-999.000,9,-999.000,9,-999.000,9,  14.1670,2,-999.000,9, -999.00,9, -999.00,-999.000,9,-999.000, -999.00,9, -999.00,9, -33.4575,  48.0227,-999.000,-999.000,20090403,       2337
33RR20090320,        I05,      48,          1,         25,         25,2,20090403,       2203,   -33.4578,    48.0231,       3864,   420.5,  13.6579,  35.3122,2,  35.3110,2,    220.6,2,   221.0,2,    3.86,2,    8.32,2,    0.00,2,    0.67,2,   2.902,2,   1.656,2,   1.0770,2,  2109.8,2,  2317.4,2,   7.9493,2,    20.00,-999.000,9,-999.000,9,-999.000,9,  13.6601,2,-999.000,9, -999.00,9, -999.00,-999.000,9,-999.000, -999.00,9, -999.00,9, -33.4575,  48.0227,-999.000,-999.000,20090403,       2335
33RR20090320,        I05,      48,          1,         24,         24,2,20090403,       2203,   -33.4578,    48.0231,       3864,   468.8,  13.1039,  35.2402,2,  35.2395,2,    221.0,2,   221.4,2,    4.03,2,    9.53,2,    0.00,2,    0.74,2,-999.000,9,-999.000,9,-999.0000,9,  -999.0,9,  -999.0,9,-999.0000,9,  -999.00,-999.000,9,-999.000,9,-999.000,9,  13.1032,2,-999.000,9, -999.00,9, -999.00,-999.000,9,-999.000, -999.00,9, -999.00,9, -33.4576,  48.0227,-999.000,-999.000,20090403,       2333
33RR20090320,        I05,      48,          1,         23,         23,2,20090403,       2203,   -33.4578,    48.0231,       3864,   539.7,  12.5712,  35.1709,2,  35.1709,2,    220.7,2,   220.6,2,    3.99,2,   10.58,2,    0.00,2,    0.81,2,-999.000,9,-999.000,9,-999.0000,9,  2117.8,2,  2311.4,2,   7.9221,2,    20.00,-999.000,9,-999.000,9,-999.000,9,  12.5669,2,-999.000,9, -999.00,9, -999.00,-999.000,9,-999.000, -999.00,9, -999.00,9, -33.4577,  48.0227,-999.000,-999.000,20090403,       2330
33RR20090320,        I05,      48,          1,         22,         22,2,20090403,       2203,   -33.4578,    48.0231,       3864,   639.6,  11.5296,  35.0169,2,  35.0164,2,    220.9,2,   220.9,2,    4.74,2,   12.77,2,    0.00,2,    0.96,2,-999.000,9,-999.000,9,-999.0000,9,  -999.0,9,  -999.0,9,-999.0000,9,  -999.00,-999.000,9,-999.000,9,-999.000,9,  11.5239,2,-999.000,9, -999.00,9, -999.00,-999.000,9,-999.000, -999.00,9, -999.00,9, -33.4576,  48.0227,-999.000,-999.000,20090403,       2327
33RR20090320,        I05,      48,          1,         21,         21,2,20090403,       2203,   -33.4578,    48.0231,       3864,   738.6,  10.4686,  34.8668,2,  34.8683,2,    219.9,2,   219.7,2,    6.08,2,   15.19,2,    0.00,2,    1.11,2,   3.112,6,   1.637,6,   0.8390,6,  2130.4,2,  2300.4,2,   7.8696,2,    20.00,-999.000,9,-999.000,9,-999.000,9,  10.4361,2,-999.000,9, -999.00,9, -999.00,-999.000,9,-999.000, -999.00,9, -999.00,9, -33.4576,  48.0227,-999.000,-999.000,20090403,       2324
33RR20090320,        I05,      48,          1,         20,         20,2,20090403,       2203,   -33.4578,    48.0231,       3864,   842.7,   9.1677,  34.7104,2,  34.7098,2,    211.9,2,   211.3,2,    9.76,2,   19.09,2,    0.00,2,    1.37,2,-999.000,9,-999.000,9,-999.0000,9,  -999.0,9,  -999.0,9,-999.0000,9,  -999.00,-999.000,9,-999.000,9,-999.000,9,   9.1675,2,-999.000,9, -999.00,9, -999.00,-999.000,9,-999.000, -999.00,9, -999.00,9, -33.4577,  48.0227,-999.000,-999.000,20090403,       2321
33RR20090320,        I05,      48,          1,         19,         19,2,20090403,       2203,   -33.4578,    48.0231,       3864,   941.0,   7.9096,  34.5866,2,  34.5861,2,    203.8,2,   203.8,2,   15.02,2,   22.78,2,    0.00,2,    1.62,2,-999.000,9,-999.000,9,-999.0000,9,  -999.0,9,  -999.0,9,-999.0000,9,  -999.00,-999.000,9,-999.000,9,-999.000,9,   7.9173,2,-999.000,9, -999.00,9, -999.00,-999.000,9,-999.000, -999.00,9, -999.00,9, -33.4577,  48.0228,-999.000,-999.000,20090403,       2318
33RR20090320,        I05,      48,          1,         18,         18,2,20090403,       2203,   -33.4578,    48.0231,       3864,  1041.5,   6.5435,  34.4716,2,  34.4718,2,    201.6,2,   202.6,2,   20.48,2,   26.05,2,    0.00,2,    1.85,2,-999.000,9,-999.000,9,-999.0000,9,  -999.0,9,  -999.0,9,-999.0000,9,  -999.00,-999.000,9,-999.000,9,-999.000,9,   6.5430,2,-999.000,9, -999.00,9, -999.00,-999.000,9,-999.000, -999.00,9, -999.00,9, -33.4578,  48.0228,-999.000,-999.000,20090403,       2315
33RR20090320,        I05,      48,          1,         17,         17,2,20090403,       2203,   -33.4578,    48.0231,       3864,  1146.0,   5.4153,  34.4082,2,  34.4080,2,    201.0,2,   202.1,2,   27.35,2,   28.49,2,    0.00,2,    2.03,2,   2.056,2,   1.014,2,   0.3540,2,  2187.1,2,  2297.4,2,   7.7163,2,    20.00,-999.000,9,-999.000,9,-999.000,9,   5.4297,2,-999.000,9, -999.00,9, -999.00,-999.000,9,-999.000, -999.00,9, -999.00,9, -33.4578,  48.0228,-999.000,-999.000,20090403,       2312
33RR20090320,        I05,      48,          1,         16,         16,2,20090403,       2203,   -33.4578,    48.0231,       3864,  1241.1,   4.6053,  34.4091,2,  34.4084,2,    195.9,2,   193.3,2,   37.19,2,   30.60,2,    0.00,2,    2.20,2,-999.000,9,-999.000,9,-999.0000,9,  -999.0,9,  -999.0,9,-999.0000,9,  -999.00,-999.000,9,-999.000,9,-999.000,9,   4.6014,2,-999.000,9, -999.00,9, -999.00,-999.000,9,-999.000, -999.00,9, -999.00,9, -33.4577,  48.0228,-999.000,-999.000,20090403,       2309
33RR20090320,        I05,      48,          1,         15,         15,2,20090403,       2203,   -33.4578,    48.0231,       3864,  1342.4,   4.0044,  34.4265,2,  34.4261,2,    189.8,2,   186.6,2,   46.07,2,   31.98,2,    0.00,2,    2.30,2,-999.000,9,-999.000,9,-999.0000,9,  -999.0,9,  -999.0,9,-999.0000,9,  -999.00,-999.000,9,-999.000,9,-999.000,9,   4.0039,2,-999.000,9, -999.00,9, -999.00,-999.000,9,-999.000, -999.00,9, -999.00,9, -33.4577,  48.0228,-999.000,-999.000,20090403,       2306
33RR20090320,        I05,      48,          1,         14,         14,2,20090403,       2203,   -33.4578,    48.0231,       3864,  1440.3,   3.6915,  34.4656,2,  34.4646,2,    180.9,2,   179.8,2,   53.19,2,   32.70,2,    0.00,2,    2.35,2,-999.000,9,-999.000,9,-999.0000,9,  -999.0,9,  -999.0,9,-999.0000,9,  -999.00,-999.000,9,-999.000,9,-999.000,9,   3.6897,2,-999.000,9, -999.00,9, -999.00,-999.000,9,-999.000, -999.00,9, -999.00,9, -33.4575,  48.0228,-999.000,-999.000,20090403,       2303
33RR20090320,        I05,      48,          1,         13,         13,2,20090403,       2203,   -33.4578,    48.0231,       3864,  1545.1,   3.3917,  34.5091,2,  34.5086,2,    175.2,2,   175.6,2,   59.72,2,   32.98,2,    0.00,2,    2.38,2,   0.585,2,   0.273,2,   0.0310,2,  2237.3,2,  2326.3,2,   7.6535,2,    20.00,-999.000,9,-999.000,9,-999.000,9,   3.3933,2,-999.000,9, -999.00,9, -999.00,-999.000,9,-999.000, -999.00,9, -999.00,9, -33.4576,  48.0227,-999.000,-999.000,20090403,       2259
33RR20090320,        I05,      48,          1,         12,         12,2,20090403,       2203,   -33.4578,    48.0231,       3864,  1645.0,   3.1284,  34.5500,2,  34.5496,2,    173.4,2,   175.4,2,   64.28,2,   33.03,2,    0.00,2,    2.37,2,-999.000,9,-999.000,9,-999.0000,9,  -999.0,9,  -999.0,9,-999.0000,9,  -999.00,-999.000,9,-999.000,9,-999.000,9,   3.1276,2,-999.000,9, -999.00,9, -999.00,-999.000,9,-999.000, -999.00,9, -999.00,9, -33.4575,  48.0226,-999.000,-999.000,20090403,       2256
33RR20090320,        I05,      48,          1,         11,         11,2,20090403,       2203,   -33.4578,    48.0231,       3864,  1746.2,   2.9404,  34.5990,2,  34.5981,2,    175.5,2,   174.6,2,   69.64,2,   32.69,2,    0.00,2,    2.36,2,   0.258,2,   0.123,2,   0.0000,2,  2247.8,2,  2337.2,2,   7.6569,2,    20.00,-999.000,9,-999.000,9,-999.000,9,   2.9403,2,-999.000,9, -999.00,9, -999.00,-999.000,9,-999.000, -999.00,9, -999.00,9, -33.4575,  48.0226,-999.000,-999.000,20090403,       2253
33RR20090320,        I05,      48,          1,         10,         10,2,20090403,       2203,   -33.4578,    48.0231,       3864,  1874.9,   2.7750,  34.6403,2,  34.6390,2,    176.8,2,   176.1,2,   73.80,2,   32.25,2,    0.00,2,    2.32,2,-999.000,9,-999.000,9,-999.0000,9,  2248.7,6,  2341.9,2,   7.6624,2,    20.00,-999.000,9,-999.000,9,-999.000,9,   2.7753,2,-999.000,9, -999.00,9, -999.00,-999.000,9,-999.000, -999.00,9, -999.00,9, -33.4576,  48.0226,-999.000,-999.000,20090403,       2250
33RR20090320,        I05,      48,          1,          9,          9,2,20090403,       2203,   -33.4578,    48.0231,       3864,  2096.4,   2.5666,  34.7101,2,  34.7092,2,    185.3,2,   185.8,2,   73.77,2,   30.69,2,    0.00,2,    2.20,2,   0.086,2,   0.043,2,   0.0150,2,  2244.2,2,  2344.5,2,   7.6823,2,    20.00,-999.000,9,-999.000,9,-999.000,9,   2.5642,2,-999.000,9, -999.00,9, -999.00,-999.000,9,-999.000, -999.00,9, -999.00,9, -33.4575,  48.0228,-999.000,-999.000,20090403,       2244
33RR20090320,        I05,      48,          1,          8,          8,2,20090403,       2203,   -33.4578,    48.0231,       3864,  2349.0,   2.3559,  34.7486,2,  34.7483,2,    193.9,2,   194.7,2,   76.15,2,   29.57,2,    0.00,2,    2.12,2,-999.000,9,-999.000,9,-999.0000,9,  -999.0,9,  -999.0,9,-999.0000,9,  -999.00,-999.000,9,-999.000,9,-999.000,9,   2.3562,2,-999.000,9, -999.00,9, -999.00,-999.000,9,-999.000, -999.00,9, -999.00,9, -33.4577,  48.0227,-999.000,-999.000,20090403,       2239
33RR20090320,        I05,      48,          1,          7,          7,2,20090403,       2203,   -33.4578,    48.0231,       3864,  2601.8,   2.1450,  34.7600,2,  34.7591,2,    198.8,2,   199.1,2,   81.33,2,   29.47,2,    0.00,2,    2.11,2,   0.037,2,   0.019,2,   0.0500,2,  2243.2,2,  2351.1,2,   7.7043,2,    20.00,-999.000,9,-999.000,9,-999.000,9,   2.1450,2,-999.000,9, -999.00,9, -999.00,-999.000,9,-999.000, -999.00,9, -999.00,9, -33.4576,  48.0228,-999.000,-999.000,20090403,       2233
33RR20090320,        I05,      48,          1,          6,          6,2,20090403,       2203,   -33.4578,    48.0231,       3864,  2854.6,   1.8432,  34.7500,2,  34.7501,2,    197.2,2,   197.3,2,   94.36,2,   30.35,2,    0.00,2,    2.18,2,-999.000,9,-999.000,9,-999.0000,9,  -999.0,9,  -999.0,9,-999.0000,9,  -999.00,-999.000,9,-999.000,9,-999.000,9,   1.8468,2,-999.000,9, -999.00,9, -999.00,-999.000,9,-999.000, -999.00,9, -999.00,9, -33.4576,  48.0230,-999.000,-999.000,20090403,       2228
33RR20090320,        I05,      48,          1,          5,          5,2,20090403,       2203,   -33.4578,    48.0231,       3864,  3107.3,   1.5906,  34.7390,2,  34.7387,2,    197.1,2,   197.0,2,  104.41,2,   31.02,2,    0.00,2,    2.23,2,   0.028,2,   0.015,2,   0.0290,2,  2261.2,2,  2367.3,2,   7.6916,2,    20.00,-999.000,9,-999.000,9,-999.000,9,   1.5904,2,-999.000,9, -999.00,9, -999.00,-999.000,9,-999.000, -999.00,9, -999.00,9, -33.4577,  48.0230,-999.000,-999.000,20090403,       2222
33RR20090320,        I05,      48,          1,          4,          4,2,20090403,       2203,   -33.4578,    48.0231,       3864,  3362.1,   1.3391,  34.7254,2,  34.7256,2,    198.7,2,   199.2,2,  112.46,2,   31.62,2,    0.00,2,    2.26,2,-999.000,9,-999.000,9,-999.0000,9,  -999.0,9,  -999.0,9,-999.0000,9,  -999.00,-999.000,9,-999.000,9,-999.000,9,   1.3388,2,-999.000,9, -999.00,9, -999.00,-999.000,9,-999.000, -999.00,9, -999.00,9, -33.4579,  48.0230,-999.000,-999.000,20090403,       2217
33RR20090320,        I05,      48,          1,          3,          3,2,20090403,       2203,   -33.4578,    48.0231,       3864,  3616.3,   1.1603,  34.7179,2,  34.7167,2,    202.8,2,   202.7,2,  116.48,2,   31.68,2,    0.00,2,    2.27,2,   0.040,6,   0.020,6,   0.0160,6,  2264.0,2,  2366.2,2,   7.6852,2,    20.00,-999.000,9,-999.000,9,-999.000,9,   1.1605,2,-999.000,9, -999.00,9, -999.00,-999.000,9,-999.000, -999.00,9, -999.00,9, -33.4578,  48.0231,-999.000,-999.000,20090403,       2212
33RR20090320,        I05,      48,          1,          2,          2,2,20090403,       2203,   -33.4578,    48.0231,       3864,  3762.6,   1.1044,  34.7150,2,  34.7144,2,    204.9,2,   204.7,2,  117.67,2,   31.85,2,    0.00,2,    2.28,2,-999.000,9,-999.000,9,-999.0000,9,  -999.0,9,  -999.0,9,-999.0000,9,  -999.00,-999.000,9,-999.000,9,-999.000,9,   1.1040,2,-999.000,9, -999.00,9, -999.00,-999.000,9,-999.000, -999.00,9, -999.00,9, -33.4578,  48.0231,-999.000,-999.000,20090403,       2208
33RR20090320,        I05,      48,          1,          1,          1,2,20090403,       2203,   -33.4578,    48.0231,       3864,  3912.3,   1.0875,  34.7133,2,  34.7130,2,    205.3,2,   205.1,2,  118.25,2,   31.85,2,    0.00,2,    2.28,2,   0.045,2,   0.023,2,   0.0000,2,  2265.9,6,  2367.6,2,   7.6879,2,    20.00,-999.000,9,-999.000,9,-999.000,9,   1.0874,2,-999.000,9, -999.00,9, -999.00,-999.000,9,-999.000, -999.00,9, -999.00,9, -33.4578,  48.0231,-999.000,-999.000,20090403,       2203