BOTTLE,20220814CCHSIOAMB
EXPOCODE,SECT_ID,STNNBR,CASTNO,SAMPNO,BTLNBR,BTLNBR_FLAG_W,DATE,TIME,LATITUDE,LONGITUDE,DEPTH,CTDPRS,CTDTMP,CTDSAL,CTDSAL_FLAG_W,SALNTY,SALNTY_FLAG_W,CTDOXY,CTDOXY_FLAG_W,OXYGEN,OXYGEN_FLAG_W,SILCAT,SILCAT_FLAG_W,NITRAT,NITRAT_FLAG_W,NITRIT,NITRIT_FLAG_W,PHSPHT,PHSPHT_FLAG_W,CFC-11,CFC-11_FLAG_W,CFC-12,CFC-12_FLAG_W,SF6,SF6_FLAG_W,TCARBN,TCARBN_FLAG_W,ALKALI,ALKALI_FLAG_W,PH_TOT,PH_TOT_FLAG_W,PH_TMP,TRITUM,TRITUM_FLAG_W,HELIUM,HELIUM_FLAG_W,DELHE3,DELHE3_FLAG_W,REFTMP,REFTMP_FLAG_W,DELC13,DELC13_FLAG_W,DELC14,DELC14_FLAG_W,C14ERR,NEON,NEON_FLAG_W,NEONER,DOC,DOC_FLAG_W,TDN,TDN_FLAG_W,BTL_LAT,BTL_LON,HELIER,DELHER,BTL_DATE,BTL_TIME
,,,,,,,,,,,METERS,DBAR,ITS-90,PSS-78,,PSS-78,,UMOL/KG,,UMOL/KG,,UMOL/KG,,UMOL/KG,,UMOL/KG,,UMOL/KG,,PMOL/KG,,PMOL/KG,,FMOL/KG,,UMOL/KG,,UMOL/KG,,,,DEG C,TU,,NMOL/KG,,PERCNT,,DEG C,,/MILLE,,/MILLE,,/MILLE,NMOL/KG,,NMOL/KG,UMOL/KG,,UMOL/KG,,,,NMOL/KG,PERCNT,,
33RR20090320,        I05,     121,          1,         36,         36,2,20090424,       0855,   -31.1923,    82.5640,     -999.0,     4.6,  21.7432,  35.9988,2,  35.9986,2,    218.8,2,   220.3,2,    2.00,2,    0.09,2,    0.00,2,    0.11,2,   1.976,2,   1.190,2,   1.0550,2,  2060.1,6,  2360.8,2,   8.1126,2,    20.00,   0.525,2,-999.000,9,-999.000,9,  21.7404,2,   1.069,2,   54.26,2,     3.5,-999.000,9,-999.000,   68.78,2,    4.69,2, -31.1920,  82.5630,-999.000,-999.000,20090424,       1029
33RR20090320,        I05,     121,          1,         35,         35,2,20090424,       0855,   -31.1923,    82.5640,     -999.0,    21.3,  21.5927,  35.9745,2,  35.9634,2,    221.5,2,   221.0,2,    1.81,2,    0.09,2,    0.00,2,    0.12,2,   2.007,2,   1.218,2,   1.1330,2,  2061.8,2,  2359.3,2,   8.1085,2,    20.00,   0.509,2,   1.781,2,  -1.481,2,  21.5965,2,-999.000,9, -999.00,9, -999.00,   7.185,2,   0.007,   68.58,2,    4.06,2, -31.1920,  82.5629,   0.001,   0.209,20090424,       1028
33RR20090320,        I05,     121,          1,         34,         34,2,20090424,       0855,   -31.1923,    82.5640,     -999.0,    40.5,  21.0230,  35.8532,4,  35.8721,2,    223.8,2,   223.9,2,    1.61,2,    0.09,2,    0.00,2,    0.13,2,   2.063,2,   1.242,2,   1.1390,2,  2066.5,2,  2356.1,2,   8.0983,2,    20.00,   0.499,2,-999.000,9,-999.000,9,  21.0263,2,-999.000,9, -999.00,9, -999.00,-999.000,9,-999.000,   68.03,2,    4.25,2, -31.1920,  82.5629,-999.000,-999.000,20090424,       1027
33RR20090320,        I05,     121,          1,         33,         33,2,20090424,       0855,   -31.1923,    82.5640,     -999.0,    65.9,  20.8746,  35.9186,2,  35.9115,2,    229.1,2,   228.0,2,    1.60,2,    0.09,2,    0.00,2,    0.13,2,   2.122,2,   1.270,2,   1.1610,2,  2067.9,2,  2357.4,2,   8.0975,2,    20.00,-999.000,9,   1.845,2,  -1.476,2,  20.8608,2,   1.202,2,    52.8,2,     3.1,   7.444,2,   0.008,   67.81,2,    4.29,2, -31.1920,  82.5628,   0.001,   0.197,20090424,       1026
33RR20090320,        I05,     121,          1,         32,         32,2,20090424,       0855,   -31.1923,    82.5640,     -999.0,    90.9,  18.0490,  35.7558,2,  35.7580,2,    248.6,2,   248.9,2,    1.58,2,    0.10,2,    0.00,2,    0.15,2,   2.518,2,   1.459,2,   1.2120,2,  2071.8,2,  2349.3,2,   8.0781,2,    20.00,   0.469,2,   1.802,2,  -1.390,2,  18.0443,2,-999.000,9, -999.00,9, -999.00,   7.453,2,   0.018,   63.79,2,    4.31,2, -31.1920,  82.5629,   0.001,   0.205,20090424,       1025
33RR20090320,        I05,     121,          1,         31,         31,2,20090424,       0855,   -31.1923,    82.5640,     -999.0,   115.8,  16.6434,  35.6908,2,  35.6956,2,    241.8,2,   240.1,2,    1.56,2,    0.10,2,    0.00,2,    0.20,2,   2.592,2,   1.514,2,   1.2870,2,  2085.7,2,  2345.7,2,   8.0503,2,    20.00,   0.449,2,   1.855,2,  -1.462,2,  16.7071,2,   1.236,2,      53,2,     4.4,   7.676,2,   0.008,   58.73,2,    4.33,2, -31.1920,  82.5630,   0.001,   0.186,20090424,       1024
33RR20090320,        I05,     121,          1,         30,         30,2,20090424,       0855,   -31.1923,    82.5640,     -999.0,   139.3,  15.6185,  35.5780,2,  35.5821,2,    235.5,2,   231.3,2,    1.54,2,    1.37,2,    0.14,2,    0.31,2,   2.668,2,   1.551,2,   1.2790,2,  2097.2,2,  2340.7,2,   8.0182,2,    20.00,   0.428,2,-999.000,9,-999.000,9,  15.6718,2,-999.000,9, -999.00,9, -999.00,-999.000,9,-999.000,   55.35,2,    5.63,2, -31.1920,  82.5630,-999.000,-999.000,20090424,       1022
33RR20090320,        I05,     121,          1,         29,         29,2,20090424,       0855,   -31.1923,    82.5640,     -999.0,   185.3,  14.1966,  35.3760,2,  35.3786,2,    227.0,2,   227.3,2,    2.06,2,    5.22,2,    0.01,2,    0.50,2,   2.907,2,   1.663,2,   1.2690,2,  2107.7,2,  2326.7,2,   7.9760,2,    20.00,   0.368,2,   1.895,2,  -1.298,2,  14.2070,2,   1.118,2,   52.01,2,     3.4,   7.861,2,   0.008,   51.49,2,    8.84,2, -31.1920,  82.5629,   0.001,   0.199,20090424,       1021
33RR20090320,        I05,     121,          1,         28,         28,2,20090424,       0855,   -31.1923,    82.5640,     -999.0,   235.5,  13.0897,  35.2027,2,  35.2004,2,    229.2,2,   232.4,2,    2.58,2,    7.40,2,    0.00,2,    0.62,2,   3.081,2,   1.740,2,   1.3090,2,  2111.1,2,  2317.4,2,   7.9487,2,    20.00,   0.369,2,   1.821,2,  -1.657,2,  13.0878,2,   1.118,2,   50.78,2,     3.3,   7.598,2,   0.008,   50.37,2,   10.42,2, -31.1921,  82.5629,   0.001,   0.194,20090424,       1020
33RR20090320,        I05,     121,          1,         27,         27,2,20090424,       0855,   -31.1923,    82.5640,     -999.0,   285.5,  12.3977,  35.1223,2,  35.1262,2,    232.4,2,   233.0,2,    3.09,2,    9.22,2,    0.00,2,    0.73,2,   3.197,2,   1.791,2,   1.3340,2,  2115.5,2,  2311.4,2,   7.9303,2,    20.00,-999.000,9,-999.000,9,-999.000,9,  12.3916,2,   1.057,2,   49.97,2,     2.9,-999.000,9,-999.000,   48.95,2,   12.34,2, -31.1921,  82.5629,-999.000,-999.000,20090424,       1018
33RR20090320,        I05,     121,          1,         26,         26,2,20090424,       0855,   -31.1923,    82.5640,     -999.0,   335.4,  11.9120,  35.0530,2,  35.0524,2,    236.4,2,   237.2,2,    3.79,2,   10.47,2,    0.00,2,    0.80,2,   3.242,2,   1.812,2,   1.3050,2,  2113.7,2,  2308.5,2,   7.9205,2,    20.00,   0.383,2,   1.831,2,  -1.480,2,  11.9011,2,   1.079,2,   48.67,2,     2.9,   7.722,2,   0.008,   47.98,2,   12.89,2, -31.1921,  82.5629,   0.001,   0.199,20090424,       1017
33RR20090320,        I05,     121,          1,         25,         25,2,20090424,       0855,   -31.1923,    82.5640,     -999.0,   385.1,  11.6232,  35.0127,2,  35.0106,2,    238.5,2,   238.4,2,    3.77,2,   11.09,2,    0.00,2,    0.84,2,   3.296,2,   1.836,2,   1.2600,2,  2115.2,2,  2306.1,2,   7.9144,2,    20.00,   0.343,2,   1.851,2,  -1.663,2,  11.6215,2,   1.172,2,   56.42,2,     4.4,   7.809,2,   0.008,   46.76,2,   13.50,2, -31.1921,  82.5630,   0.001,   0.203,20090424,       1015
33RR20090320,        I05,     121,          1,         24,         24,2,20090424,       0855,   -31.1923,    82.5640,     -999.0,   435.0,  11.2769,  34.9652,2,  34.9628,2,    238.3,2,   238.4,2,    3.94,2,   11.86,2,    0.00,2,    0.89,2,   3.354,2,   1.854,2,   1.3030,2,  2118.5,2,  2304.6,2,   7.9066,2,    20.00,-999.000,9,   1.869,2,  -0.493,2,  11.2763,2,   1.072,2,   56.94,2,     2.9,   7.874,2,   0.024,   45.81,2,   13.64,2, -31.1921,  82.5630,   0.001,   0.199,20090424,       1014
33RR20090320,        I05,     121,          1,         23,         23,2,20090424,       0855,   -31.1923,    82.5640,     -999.0,   485.4,  10.9788,  34.9299,2,  34.9335,2,    237.3,2,   237.4,2,    3.92,2,   12.28,2,    0.00,2,    0.92,2,   3.440,6,   1.875,6,   1.1570,6,  2121.3,2,  2302.7,2,   7.9007,2,    20.00,   0.368,2,   1.857,2,  -0.584,2,  10.9849,2,   1.094,2,   48.23,2,     3.2,   7.829,2,   0.008,   44.96,2,   14.08,2, -31.1921,  82.5630,   0.001,   0.198,20090424,       1012
33RR20090320,        I05,     121,          1,         22,         22,2,20090424,       0855,   -31.1923,    82.5640,     -999.0,   565.5,  10.4832,  34.8564,2,  34.8566,2,    235.7,2,   236.6,2,    4.43,2,   13.74,2,    0.00,2,    1.01,2,   3.484,2,   1.873,2,   1.1380,2,  2123.4,2,  2300.1,2,   7.8858,2,    20.00,-999.000,9,   1.838,2,  -0.407,2,  10.4824,2,   1.132,2,   47.71,2,     3.2,   7.774,2,   0.008,   44.20,2,   15.30,2, -31.1921,  82.5631,   0.001,   0.199,20090424,       1010
33RR20090320,        I05,     121,          1,         21,         21,2,20090424,       0855,   -31.1923,    82.5640,     -999.0,   665.2,   9.7376,  34.7478,2,  34.7434,2,    233.4,2,   233.1,2,    5.30,2,   16.02,2,    0.00,2,    1.15,2,   3.517,2,   1.846,2,   0.9970,2,  2129.0,2,  2295.2,2,   7.8625,2,    20.00,   0.251,2,-999.000,9,-999.000,9,   9.7366,2,    1.17,2,   39.77,2,     2.8,-999.000,9,-999.000,   43.43,2,   17.24,2, -31.1921,  82.5631,-999.000,-999.000,20090424,       1008
33RR20090320,        I05,     121,          1,         20,         20,2,20090424,       0855,   -31.1923,    82.5640,     -999.0,   765.2,   8.8583,  34.6341,2,  34.6357,2,    225.6,2,   225.3,2,    7.24,2,   18.93,2,    0.00,2,    1.34,2,   3.347,2,   1.702,2,   0.8350,2,  2138.2,2,  2291.1,2,   7.8329,2,    20.00,-999.000,9,   1.887,2,  -0.193,2,   8.8612,2,   1.151,2,   31.81,2,     2.8,   8.013,2,   0.009,   42.56,2,   20.55,2, -31.1921,  82.5632,   0.001,   0.195,20090424,       1006
33RR20090320,        I05,     121,          1,         19,         19,2,20090424,       0855,   -31.1923,    82.5640,     -999.0,   865.3,   7.5936,  34.5182,2,  34.5173,2,    206.5,2,   207.1,2,   13.64,2,   23.68,2,    0.00,2,    1.66,2,   2.563,2,   1.277,2,   0.4720,2,  2157.9,2,  2288.8,2,   7.7773,2,    20.00,   0.155,2,-999.000,9,-999.000,9,   7.5937,2,   1.095,2,   -3.19,2,     3.1,-999.000,9,-999.000,   41.75,2,   25.17,2, -31.1921,  82.5632,-999.000,-999.000,20090424,       1004
33RR20090320,        I05,     121,          1,         18,         18,2,20090424,       0855,   -31.1923,    82.5640,     -999.0,   965.5,   6.1311,  34.4237,2,  34.4254,2,    198.7,2,   198.7,2,   22.20,2,   27.70,2,    0.00,2,    1.94,2,   1.958,2,   0.958,2,   0.2560,2,  2178.1,2,  2293.5,2,   7.7304,2,    20.00,-999.000,9,-999.000,9,-999.000,9,   6.1347,2,   1.029,2,  -47.05,2,     2.8,-999.000,9,-999.000,   40.81,2,   29.19,2, -31.1921,  82.5632,-999.000,-999.000,20090424,       1001
33RR20090320,        I05,     121,          1,         17,         17,2,20090424,       0855,   -31.1923,    82.5640,     -999.0,  1066.8,   4.9817,  34.3911,2,  34.3905,2,    192.4,2,   192.2,2,   32.96,2,   30.60,2,    0.00,2,    2.16,2,   1.390,6,   0.673,6,   0.1750,6,  2197.4,2,  2299.7,2,   7.6971,2,    20.00,   0.088,2,   1.889,2,   3.702,2,   4.9845,2,   0.922,2,  -76.65,2,     2.5,   8.187,2,   0.009,   39.97,2,   32.24,2, -31.1922,  82.5630,   0.001,   0.200,20090424,       0959
33RR20090320,        I05,     121,          1,         16,         16,2,20090424,       0855,   -31.1923,    82.5640,     -999.0,  1165.7,   4.2664,  34.4140,2,  34.4132,2,    179.9,2,   179.6,2,   45.93,2,   32.60,2,    0.00,2,    2.33,2,   0.852,2,   0.412,2,   0.0540,2,  2218.7,2,  2315.3,2,   7.6688,2,    20.00,-999.000,9,   1.896,2,   5.574,2,   4.2723,2,   0.697,2,  -118.2,2,     3.2,   8.193,2,   0.009,   39.42,2,   34.55,2, -31.1922,  82.5629,   0.001,   0.201,20090424,       0956
33RR20090320,        I05,     121,          1,         15,         15,2,20090424,       0855,   -31.1923,    82.5640,     -999.0,  1266.4,   3.9158,  34.4598,2,  34.4600,2,    165.7,2,   165.6,2,   57.70,2,   34.01,2,    0.00,2,    2.44,2,   0.460,2,   0.222,2,   0.0430,2,  2236.8,2,  2324.7,2,   7.6486,2,    20.00,   0.031,2,   1.988,2,   7.468,2,   3.9167,2,    0.68,2, -124.95,2,     2.4,   8.854,2,   0.020,   39.78,2,   35.23,2, -31.1923,  82.5629,   0.000,   0.190,20090424,       0953
33RR20090320,        I05,     121,          1,         14,         14,2,20090424,       0855,   -31.1923,    82.5640,     -999.0,  1367.5,   3.5757,  34.5100,2,  34.5098,2,    157.1,2,   156.9,2,   67.51,2,   34.75,2,    0.00,2,    2.51,2,   0.215,2,   0.105,2,   0.0240,2,  2249.9,2,  2333.0,2,   7.6361,2,    20.00,-999.000,9,-999.000,9,-999.000,9,   3.5745,2,   0.604,2,  -138.9,2,     3.9,-999.000,9,-999.000,   39.12,2,   36.24,2, -31.1923,  82.5630,-999.000,-999.000,20090424,       0950
33RR20090320,        I05,     121,          1,         13,         13,2,20090424,       0855,   -31.1923,    82.5640,     -999.0,  1466.9,   3.3795,  34.5464,2,  34.5454,2,    153.0,2,   153.6,2,   73.51,2,   34.97,2,    0.00,2,    2.53,2,   0.132,2,   0.066,2,   0.0090,2,  2257.3,2,  2341.2,2,   7.6319,2,    20.00,   0.022,2,   1.923,2,   9.295,2,   3.3786,2,-999.000,5, -999.00,9, -999.00,   8.266,2,   0.009,   39.92,2,   36.76,2, -31.1923,  82.5631,   0.001,   0.203,20090424,       0948
33RR20090320,        I05,     121,          1,         12,         12,2,20090424,       0855,   -31.1923,    82.5640,     -999.0,  1561.9,   3.2245,  34.5889,2,  34.5898,2,    150.5,2,   150.4,2,   80.07,2,   35.01,2,    0.00,2,    2.53,2,   0.066,2,   0.032,2,   0.0000,2,  2264.7,6,  2346.8,2,   7.6312,2,    20.00,-999.000,9,   1.957,2,  10.301,2,   3.2251,2,    0.48,2, -152.28,2,     2.7,   8.709,2,   0.015,   39.55,2,   36.68,2, -31.1923,  82.5632,   0.000,   0.195,20090424,       0945
33RR20090320,        I05,     121,          1,         11,         11,2,20090424,       0855,   -31.1923,    82.5640,     -999.0,  1663.4,   3.0267,  34.6203,2,  34.6198,2,    152.6,2,   152.7,2,   83.90,2,   34.69,2,    0.00,2,    2.51,2,   0.050,2,   0.026,2,   0.0000,2,  2267.1,2,  2352.0,2,   7.6348,2,    20.00,-999.000,9,   1.958,2,  10.628,2,   3.0259,2,   0.466,2, -159.35,2,     2.5,   8.763,2,   0.017,   39.57,2,   35.97,2, -31.1922,  82.5634,   0.000,   0.192,20090424,       0942
33RR20090320,        I05,     121,          1,         10,         10,2,20090424,       0855,   -31.1923,    82.5640,     -999.0,  1763.9,   2.8831,  34.6489,2,  34.6485,2,    154.6,2,   154.7,2,   87.36,2,   34.48,2,    0.00,2,    2.50,2,   0.032,2,   0.018,2,   0.0000,2,  2269.0,2,  2355.5,2,   7.6397,2,    20.00,-999.000,9,   1.996,2,  11.227,2,   2.8830,2,    0.48,2,  -161.8,2,     2.3,   8.865,2,   0.018,   39.01,2,   36.05,2, -31.1921,  82.5636,   0.000,   0.203,20090424,       0939
33RR20090320,        I05,     121,          1,          9,          9,2,20090424,       0855,   -31.1923,    82.5640,     -999.0,  1935.9,   2.6053,  34.6857,2,  34.6853,2,    162.1,2,   162.2,2,   91.38,2,   33.68,2,    0.00,2,    2.43,2,   0.023,2,   0.014,2,   0.0000,2,  2268.5,2,  2360.2,2,   7.6514,2,    20.00,-999.000,9,   1.986,2,  12.051,2,   2.6045,2,   0.454,2, -164.89,2,     2.3,   8.859,2,   0.021,   39.43,2,   34.85,2, -31.1921,  82.5638,   0.000,   0.191,20090424,       0935
33RR20090320,        I05,     121,          1,          8,          8,2,20090424,       0855,   -31.1923,    82.5640,     -999.0,  2131.9,   2.3382,  34.7115,2,  34.7118,2,    171.5,2,   172.3,2,   93.20,2,   32.83,2,    0.00,2,    2.34,2,   0.018,2,   0.011,2,   0.0000,2,  2264.2,2,  2360.0,2,   7.6651,2,    20.00,-999.000,9,   1.971,2,  12.586,2,   2.3384,2,   0.523,2, -163.06,2,     2.3,   8.830,2,   0.018,   39.73,2,   34.76,2, -31.1921,  82.5639,   0.000,   0.204,20090424,       0931
33RR20090320,        I05,     121,          1,          7,          7,2,20090424,       0855,   -31.1923,    82.5640,     -999.0,  2333.4,   2.1197,  34.7293,2,  34.7289,2,    182.8,2,   183.1,2,   92.81,2,   31.84,2,    0.00,2,    2.27,2,   0.018,2,   0.011,2,   0.0000,2,  2257.9,2,  2356.7,2,   7.6775,2,    20.00,-999.000,9,-999.000,9,-999.000,9,   2.1200,2,    0.51,2, -161.54,2,     2.6,-999.000,9,-999.000,   39.67,2,   33.79,2, -31.1921,  82.5637,-999.000,-999.000,20090424,       0927
33RR20090320,        I05,     121,          1,          6,          6,2,20090424,       0855,   -31.1923,    82.5640,     -999.0,  2536.1,   1.9244,  34.7399,2,  34.7401,2,    190.5,2,   190.7,2,   94.45,2,   31.31,2,    0.00,2,    2.22,2,   0.020,2,   0.012,2,   0.0000,2,  2253.4,2,  2357.5,2,   7.6862,2,    20.00,-999.000,9,   1.965,2,  13.976,2,   1.9240,2,   0.572,2, -161.31,2,     2.7,   8.828,2,   0.019,   40.22,2,   33.26,2, -31.1920,  82.5636,   0.000,   0.203,20090424,       0922
33RR20090320,        I05,     121,          1,          5,          5,2,20090424,       0855,   -31.1923,    82.5640,     -999.0,  2738.8,   1.7463,  34.7393,2,  34.7392,2,    193.5,2,   193.5,2,  100.13,2,   31.47,2,    0.00,2,    2.23,2,   0.019,2,   0.010,2,   0.0000,2,  2255.3,2,  2361.1,2,   7.6880,2,    20.00,-999.000,9,   1.970,2,  12.715,2,   1.7459,2,   0.587,2, -156.99,2,     2.6,   8.849,2,   0.018,   40.01,2,   33.33,2, -31.1919,  82.5636,   0.000,   0.194,20090424,       0918
33RR20090320,        I05,     121,          1,          4,          4,2,20090424,       0855,   -31.1923,    82.5640,     -999.0,  2940.7,   1.6205,  34.7369,2,  34.7366,2,    195.3,2,   195.2,2,  103.98,2,   31.51,2,    0.00,2,    2.24,2,   0.016,2,   0.010,2,   0.0000,2,  2258.2,2,  2362.9,2,   7.6888,2,    20.00,-999.000,9,-999.000,9,-999.000,9,   1.6205,2,   0.591,2, -158.84,2,     2.4,-999.000,9,-999.000,   40.34,2,   33.10,2, -31.1921,  82.5636,-999.000,-999.000,20090424,       0913
33RR20090320,        I05,     121,          1,          3,          3,2,20090424,       0855,   -31.1923,    82.5640,     -999.0,  3223.0,   1.4362,  34.7316,2,  34.7313,2,    197.0,2,   197.1,2,  109.85,2,   31.83,2,    0.00,2,    2.26,2,   0.015,2,   0.010,2,   0.0000,2,  2262.8,2,  2367.1,2,   7.6906,2,    20.00,   0.073,2,   1.980,2,  11.210,2,   1.4366,2,   0.579,2, -163.84,2,     2.7,   8.866,2,   0.018,   40.33,2,   33.26,2, -31.1922,  82.5638,   0.000,   0.194,20090424,       0906
33RR20090320,        I05,     121,          1,          2,          2,2,20090424,       0855,   -31.1923,    82.5640,     -999.0,  3529.3,   1.4059,  34.7284,2,  34.7280,2,    196.8,2,   196.6,2,  113.17,2,   31.98,2,    0.00,2,    2.28,2,   0.015,2,   0.008,2,   0.0000,2,  2266.2,2,  2372.4,2,   7.6919,2,    20.00,-999.000,9,   2.053,2,  10.876,2,   1.4055,2,   0.502,2, -161.47,2,     2.6,   9.188,2,   0.021,   40.21,2,   33.46,2, -31.1922,  82.5640,   0.000,   0.180,20090424,       0900
33RR20090320,        I05,     121,          1,          1,          1,2,20090424,       0855,   -31.1923,    82.5640,     -999.0,  3713.8,   1.4099,  34.7275,2,  34.7266,2,    195.9,2,   196.2,2,  113.51,2,   32.14,2,    0.00,2,    2.28,2,   0.013,6,   0.008,6,   0.0000,6,  2268.5,6,  2375.3,2,   7.6930,2,    20.00,-999.000,9,-999.000,9,-999.000,9,   1.4094,2,   0.497,2,  -167.4,2,     2.5,-999.000,9,-999.000,   40.15,2,   33.62,2, -31.1923,  82.5640,-999.000,-999.000,20090424,       0855