BOTTLE,20220814CCHSIOAMB
EXPOCODE,SECT_ID,STNNBR,CASTNO,SAMPNO,BTLNBR,BTLNBR_FLAG_W,DATE,TIME,LATITUDE,LONGITUDE,DEPTH,CTDPRS,CTDTMP,CTDSAL,CTDSAL_FLAG_W,SALNTY,SALNTY_FLAG_W,CTDOXY,CTDOXY_FLAG_W,OXYGEN,OXYGEN_FLAG_W,SILCAT,SILCAT_FLAG_W,NITRAT,NITRAT_FLAG_W,NITRIT,NITRIT_FLAG_W,PHSPHT,PHSPHT_FLAG_W,CFC-11,CFC-11_FLAG_W,CFC-12,CFC-12_FLAG_W,SF6,SF6_FLAG_W,TCARBN,TCARBN_FLAG_W,ALKALI,ALKALI_FLAG_W,PH_TOT,PH_TOT_FLAG_W,PH_TMP,TRITUM,TRITUM_FLAG_W,HELIUM,HELIUM_FLAG_W,DELHE3,DELHE3_FLAG_W,REFTMP,REFTMP_FLAG_W,DELC13,DELC13_FLAG_W,DELC14,DELC14_FLAG_W,C14ERR,NEON,NEON_FLAG_W,NEONER,DOC,DOC_FLAG_W,TDN,TDN_FLAG_W,BTL_LAT,BTL_LON,HELIER,DELHER,BTL_DATE,BTL_TIME
,,,,,,,,,,,METERS,DBAR,ITS-90,PSS-78,,PSS-78,,UMOL/KG,,UMOL/KG,,UMOL/KG,,UMOL/KG,,UMOL/KG,,UMOL/KG,,PMOL/KG,,PMOL/KG,,FMOL/KG,,UMOL/KG,,UMOL/KG,,,,DEG C,TU,,NMOL/KG,,PERCNT,,DEG C,,/MILLE,,/MILLE,,/MILLE,NMOL/KG,,NMOL/KG,UMOL/KG,,UMOL/KG,,,,NMOL/KG,PERCNT,,
33RR20090320,        I05,     146,          1,         36,         36,2,20090430,       1212,   -33.9960,    95.5601,       4422,     4.3,  19.0524,  35.9398,2,  35.9397,2,    232.2,2,   231.7,2,    0.89,2,    0.07,2,    0.00,2,    0.13,2,-999.000,9,-999.000,9,-999.0000,9,  2084.0,6,  2362.9,2,   8.0749,2,    20.00,-999.000,9,-999.000,9,-999.000,9,  19.0517,2,-999.000,9, -999.00,9, -999.00,-999.000,9,-999.000, -999.00,9, -999.00,9, -33.9966,  95.5609,-999.000,-999.000,20090430,       1409
33RR20090320,        I05,     146,          1,         35,         35,2,20090430,       1212,   -33.9960,    95.5601,       4422,    26.7,  19.0660,  35.9420,2,  35.9413,2,    232.4,2,   232.3,2,    0.70,2,    0.00,2,    0.00,2,    0.13,2,-999.000,9,-999.000,9,-999.0000,9,  2085.3,2,  2362.4,2,   8.0748,2,    20.00,-999.000,9,-999.000,9,-999.000,9,  19.0634,2,-999.000,9, -999.00,9, -999.00,-999.000,9,-999.000, -999.00,9, -999.00,9, -33.9966,  95.5607,-999.000,-999.000,20090430,       1408
33RR20090320,        I05,     146,          1,         34,         34,2,20090430,       1212,   -33.9960,    95.5601,       4422,    50.0,  19.0727,  35.9603,2,  35.9585,2,    232.0,2,   231.7,2,    0.88,2,    0.00,2,    0.00,2,    0.13,2,-999.000,9,-999.000,9,-999.0000,9,  2085.7,2,  2363.8,2,   8.0767,2,    20.00,-999.000,9,-999.000,9,-999.000,9,  19.0711,2,-999.000,9, -999.00,9, -999.00,-999.000,9,-999.000, -999.00,9, -999.00,9, -33.9966,  95.5607,-999.000,-999.000,20090430,       1406
33RR20090320,        I05,     146,          1,         33,         33,2,20090430,       1212,   -33.9960,    95.5601,       4422,    75.5,  19.1267,  36.0176,2,  36.0226,2,    231.5,2,   231.3,2,    1.05,2,    0.07,2,    0.00,2,    0.12,2,-999.000,9,-999.000,9,-999.0000,9,  2084.9,2,  2366.0,2,   8.0788,2,    20.00,-999.000,9,-999.000,9,-999.000,9,  19.1224,2,-999.000,9, -999.00,9, -999.00,-999.000,9,-999.000, -999.00,9, -999.00,9, -33.9965,  95.5607,-999.000,-999.000,20090430,       1404
33RR20090320,        I05,     146,          1,         32,         32,2,20090430,       1212,   -33.9960,    95.5601,       4422,   100.6,  16.3363,  35.7263,2,  35.7266,2,    249.1,2,   250.0,2,    0.87,2,    0.06,2,    0.00,2,    0.15,2,-999.000,9,-999.000,9,-999.0000,9,  -999.0,9,  -999.0,9,-999.0000,9,  -999.00,-999.000,9,-999.000,9,-999.000,9,  16.3369,2,-999.000,9, -999.00,9, -999.00,-999.000,9,-999.000, -999.00,9, -999.00,9, -33.9965,  95.5607,-999.000,-999.000,20090430,       1402
33RR20090320,        I05,     146,          1,         31,         31,2,20090430,       1212,   -33.9960,    95.5601,       4422,   150.5,  14.7417,  35.5646,2,  35.5720,2,    233.7,2,   234.3,2,    1.05,2,    2.80,2,    0.04,2,    0.33,2,-999.000,9,-999.000,9,-999.0000,9,  2100.3,2,  2338.5,2,   8.0066,2,    20.00,-999.000,9,-999.000,9,-999.000,9,  14.7371,2,-999.000,9, -999.00,9, -999.00,-999.000,9,-999.000, -999.00,9, -999.00,9, -33.9965,  95.5607,-999.000,-999.000,20090430,       1400
33RR20090320,        I05,     146,          1,         30,         30,2,20090430,       1212,   -33.9960,    95.5601,       4422,   200.1,  13.7116,  35.3834,2,  35.3843,2,    237.0,2,   233.9,2,    1.40,2,    5.17,2,    0.01,2,    0.47,2,-999.000,9,-999.000,9,-999.0000,9,  -999.0,9,  -999.0,9,-999.0000,9,  -999.00,-999.000,9,-999.000,9,-999.000,9,  13.7112,2,-999.000,9, -999.00,9, -999.00,-999.000,9,-999.000, -999.00,9, -999.00,9, -33.9965,  95.5607,-999.000,-999.000,20090430,       1358
33RR20090320,        I05,     146,          1,         29,         29,2,20090430,       1212,   -33.9960,    95.5601,       4422,   249.0,  12.8659,  35.2335,2,  35.2338,2,    235.7,2,   236.7,2,    1.40,2,    6.72,2,    0.00,2,    0.57,2,-999.000,9,-999.000,9,-999.0000,9,  2110.0,2,  2319.4,2,   7.9549,2,    20.00,-999.000,9,-999.000,9,-999.000,9,  12.8437,2,-999.000,9, -999.00,9, -999.00,-999.000,9,-999.000, -999.00,9, -999.00,9, -33.9965,  95.5607,-999.000,-999.000,20090430,       1355
33RR20090320,        I05,     146,          1,         28,         28,2,20090430,       1212,   -33.9960,    95.5601,       4422,   300.0,  11.8875,  35.0610,2,  35.0607,2,    239.3,2,   239.3,2,    1.94,2,    8.84,2,    0.00,2,    0.69,2,-999.000,9,-999.000,9,-999.0000,9,  -999.0,9,  -999.0,9,-999.0000,9,  -999.00,-999.000,9,-999.000,9,-999.000,9,  11.8862,2,-999.000,9, -999.00,9, -999.00,-999.000,9,-999.000, -999.00,9, -999.00,9, -33.9966,  95.5607,-999.000,-999.000,20090430,       1353
33RR20090320,        I05,     146,          1,         27,         27,2,20090430,       1212,   -33.9960,    95.5601,       4422,   349.1,  11.1359,  34.9353,2,  34.9351,2,    238.7,2,   240.6,2,    2.30,2,   10.67,2,    0.00,2,    0.81,2,-999.000,9,-999.000,9,-999.0000,9,  2117.2,2,  2303.0,2,   7.9074,2,    20.00,-999.000,9,-999.000,9,-999.000,9,  11.1317,2,-999.000,9, -999.00,9, -999.00,-999.000,9,-999.000, -999.00,9, -999.00,9, -33.9966,  95.5608,-999.000,-999.000,20090430,       1351
33RR20090320,        I05,     146,          1,         26,         26,2,20090430,       1212,   -33.9960,    95.5601,       4422,   399.0,  10.4959,  34.8369,2,  34.8368,2,    239.6,2,   240.5,2,    2.85,2,   12.44,2,    0.00,2,    0.92,2,-999.000,9,-999.000,9,-999.0000,9,  -999.0,9,  -999.0,9,-999.0000,9,  -999.00,-999.000,9,-999.000,9,-999.000,9,  10.4950,2,-999.000,9, -999.00,9, -999.00,-999.000,9,-999.000, -999.00,9, -999.00,9, -33.9966,  95.5609,-999.000,-999.000,20090430,       1348
33RR20090320,        I05,     146,          1,         25,         25,2,20090430,       1212,   -33.9960,    95.5601,       4422,   448.1,  10.0193,  34.7760,2,  34.7763,2,    240.5,2,   240.1,2,    3.39,2,   13.95,2,    0.00,2,    1.01,2,-999.000,9,-999.000,9,-999.0000,9,  2125.3,2,  2295.2,2,   7.8724,2,    20.00,-999.000,9,-999.000,9,-999.000,9,  10.0186,2,-999.000,9, -999.00,9, -999.00,-999.000,9,-999.000, -999.00,9, -999.00,9, -33.9967,  95.5610,-999.000,-999.000,20090430,       1346
33RR20090320,        I05,     146,          1,         24,         24,2,20090430,       1212,   -33.9960,    95.5601,       4422,   498.0,   9.6631,  34.7309,2,  34.7315,2,    239.8,2,   239.5,2,    3.92,2,   15.17,2,    0.00,2,    1.08,2,-999.000,9,-999.000,9,-999.0000,9,  -999.0,9,  -999.0,9,-999.0000,9,  -999.00,-999.000,9,-999.000,9,-999.000,9,   9.6647,2,-999.000,9, -999.00,9, -999.00,-999.000,9,-999.000, -999.00,9, -999.00,9, -33.9967,  95.5611,-999.000,-999.000,20090430,       1344
33RR20090320,        I05,     146,          1,         23,         23,2,20090430,       1212,   -33.9960,    95.5601,       4422,   597.5,   9.0685,  34.6498,2,  34.6497,2,    239.0,2,   239.0,2,    4.83,2,   17.00,2,    0.00,2,    1.20,2,-999.000,9,-999.000,9,-999.0000,9,  2131.2,2,  2290.4,2,   7.8460,2,    20.00,-999.000,9,-999.000,9,-999.000,9,   9.0679,2,-999.000,9, -999.00,9, -999.00,-999.000,9,-999.000, -999.00,9, -999.00,9, -33.9968,  95.5611,-999.000,-999.000,20090430,       1341
33RR20090320,        I05,     146,          1,         22,         22,2,20090430,       1212,   -33.9960,    95.5601,       4422,   697.3,   8.1611,  34.5471,2,  34.5476,2,    219.6,2,   221.5,2,    8.65,2,   20.90,2,    0.00,2,    1.45,2,-999.000,9,-999.000,9,-999.0000,9,  -999.0,9,  -999.0,9,-999.0000,9,  -999.00,-999.000,9,-999.000,9,-999.000,9,   8.1630,2,-999.000,9, -999.00,9, -999.00,-999.000,9,-999.000, -999.00,9, -999.00,9, -33.9968,  95.5611,-999.000,-999.000,20090430,       1339
33RR20090320,        I05,     146,          1,         21,         21,2,20090430,       1212,   -33.9960,    95.5601,       4422,   797.3,   6.8544,  34.4651,2,  34.4657,2,    199.6,2,   199.6,2,   17.38,2,   25.69,2,    0.00,2,    1.79,2,-999.000,9,-999.000,9,-999.0000,9,  -999.0,9,  -999.0,9,-999.0000,9,  -999.00,-999.000,9,-999.000,9,-999.000,9,   6.8535,2,-999.000,9, -999.00,9, -999.00,-999.000,9,-999.000, -999.00,9, -999.00,9, -33.9968,  95.5611,-999.000,-999.000,20090430,       1336
33RR20090320,        I05,     146,          1,         20,         20,2,20090430,       1212,   -33.9960,    95.5601,       4422,   898.9,   5.4377,  34.3931,2,  34.3943,2,    195.3,2,   195.5,2,   26.72,2,   29.11,2,    0.00,2,    2.04,2,-999.000,9,-999.000,9,-999.0000,9,  2187.9,2,  2295.3,2,   7.7067,2,    20.00,-999.000,9,-999.000,9,-999.000,9,   5.4491,2,-999.000,9, -999.00,9, -999.00,-999.000,9,-999.000, -999.00,9, -999.00,9, -33.9969,  95.5610,-999.000,-999.000,20090430,       1333
33RR20090320,        I05,     146,          1,         19,         19,2,20090430,       1212,   -33.9960,    95.5601,       4422,   998.1,   4.7120,  34.4025,2,  34.4030,2,    185.1,2,   183.9,2,   38.47,2,   31.30,2,    0.00,2,    2.23,2,-999.000,9,-999.000,9,-999.0000,9,  -999.0,9,  -999.0,9,-999.0000,9,  -999.00,-999.000,9,-999.000,9,-999.000,9,   4.7109,2,-999.000,9, -999.00,9, -999.00,-999.000,9,-999.000, -999.00,9, -999.00,9, -33.9969,  95.5611,-999.000,-999.000,20090430,       1331
33RR20090320,        I05,     146,          1,         18,         18,2,20090430,       1212,   -33.9960,    95.5601,       4422,  1098.5,   4.1655,  34.4264,2,  34.4275,2,    174.0,2,   173.8,2,   49.35,2,   32.64,2,    0.00,2,    2.34,2,-999.000,9,-999.000,9,-999.0000,9,  -999.0,9,  -999.0,9,-999.0000,9,  -999.00,-999.000,9,-999.000,9,-999.000,9,   4.1658,2,-999.000,9, -999.00,9, -999.00,-999.000,9,-999.000, -999.00,9, -999.00,9, -33.9969,  95.5611,-999.000,-999.000,20090430,       1329
33RR20090320,        I05,     146,          1,         17,         17,2,20090430,       1212,   -33.9960,    95.5601,       4422,  1200.5,   3.6299,  34.4460,2,  34.4456,2,    171.7,2,   171.4,2,   56.38,2,   33.60,2,    0.00,2,    2.41,2,-999.000,9,-999.000,9,-999.0000,9,  2233.9,2,  2323.0,2,   7.6442,2,    20.00,-999.000,9,-999.000,9,-999.000,9,   3.6294,2,-999.000,9, -999.00,9, -999.00,-999.000,9,-999.000, -999.00,9, -999.00,9, -33.9970,  95.5611,-999.000,-999.000,20090430,       1326
33RR20090320,        I05,     146,          1,         16,         16,2,20090430,       1212,   -33.9960,    95.5601,       4422,  1300.3,   3.5249,  34.5098,2,  34.5088,2,    156.7,2,   156.3,2,   67.70,2,   34.44,2,    0.00,2,    2.48,2,-999.000,9,-999.000,9,-999.0000,9,  -999.0,9,  -999.0,9,-999.0000,9,  -999.00,-999.000,9,-999.000,9,-999.000,9,   3.5261,2,-999.000,9, -999.00,9, -999.00,-999.000,9,-999.000, -999.00,9, -999.00,9, -33.9971,  95.5611,-999.000,-999.000,20090430,       1323
33RR20090320,        I05,     146,          1,         15,         15,2,20090430,       1212,   -33.9960,    95.5601,       4422,  1401.8,   3.3309,  34.5441,2,  34.5436,2,    153.5,2,   152.4,2,   73.66,2,   34.66,2,    0.00,2,    2.51,2,-999.000,9,-999.000,9,-999.0000,9,  -999.0,9,  -999.0,9,-999.0000,9,  -999.00,-999.000,9,-999.000,9,-999.000,9,   3.3247,2,-999.000,9, -999.00,9, -999.00,-999.000,9,-999.000, -999.00,9, -999.00,9, -33.9971,  95.5611,-999.000,-999.000,20090430,       1321
33RR20090320,        I05,     146,          1,         14,         14,2,20090430,       1212,   -33.9960,    95.5601,       4422,  1501.9,   3.1259,  34.5769,2,  34.5768,2,    152.1,2,   152.6,2,   77.76,2,   34.59,2,    0.00,2,    2.50,2,-999.000,9,-999.000,9,-999.0000,9,  -999.0,9,  -999.0,9,-999.0000,9,  -999.00,-999.000,9,-999.000,9,-999.000,9,   3.1256,2,-999.000,9, -999.00,9, -999.00,-999.000,9,-999.000, -999.00,9, -999.00,9, -33.9971,  95.5610,-999.000,-999.000,20090430,       1318
33RR20090320,        I05,     146,          1,         13,         13,2,20090430,       1212,   -33.9960,    95.5601,       4422,  1596.3,   2.9856,  34.6071,2,  34.6069,2,    152.1,2,   153.5,2,   81.86,2,   34.36,2,    0.00,2,    2.48,2,-999.000,9,-999.000,9,-999.0000,9,  2265.4,2,  2349.1,2,   7.6294,2,    20.00,-999.000,9,-999.000,9,-999.000,9,   2.9850,2,-999.000,9, -999.00,9, -999.00,-999.000,9,-999.000, -999.00,9, -999.00,9, -33.9970,  95.5609,-999.000,-999.000,20090430,       1315
33RR20090320,        I05,     146,          1,         12,         12,2,20090430,       1212,   -33.9960,    95.5601,       4422,  1798.0,   2.7118,  34.6570,2,  34.6574,2,    158.5,2,   159.4,2,   86.53,2,   33.62,2,    0.00,2,    2.42,2,-999.000,9,-999.000,9,-999.0000,9,  -999.0,9,  -999.0,9,-999.0000,9,  -999.00,-999.000,9,-999.000,9,-999.000,9,   2.7115,2,-999.000,9, -999.00,9, -999.00,-999.000,9,-999.000, -999.00,9, -999.00,9, -33.9968,  95.5607,-999.000,-999.000,20090430,       1311
33RR20090320,        I05,     146,          1,         11,         11,2,20090430,       1212,   -33.9960,    95.5601,       4422,  1996.0,   2.4718,  34.6937,2,  34.6937,2,    168.1,2,   167.9,2,   88.58,2,   32.71,2,    0.00,2,    2.34,2,-999.000,9,-999.000,9,-999.0000,9,  -999.0,9,  -999.0,9,-999.0000,9,  -999.00,-999.000,9,-999.000,9,-999.000,9,   2.4717,2,-999.000,9, -999.00,9, -999.00,-999.000,9,-999.000, -999.00,9, -999.00,9, -33.9968,  95.5606,-999.000,-999.000,20090430,       1306
33RR20090320,        I05,     146,          1,         10,         10,2,20090430,       1212,   -33.9960,    95.5601,       4422,  2248.7,   2.2252,  34.7242,2,  34.7250,2,    179.2,2,   179.4,2,   89.70,2,   31.64,2,    0.00,2,    2.25,2,-999.000,9,-999.000,9,-999.0000,9,  -999.0,9,  -999.0,9,-999.0000,9,  -999.00,-999.000,9,-999.000,9,-999.000,9,   2.2249,2,-999.000,9, -999.00,9, -999.00,-999.000,9,-999.000, -999.00,9, -999.00,9, -33.9965,  95.5605,-999.000,-999.000,20090430,       1301
33RR20090320,        I05,     146,          1,          9,          9,2,20090430,       1212,   -33.9960,    95.5601,       4422,  2501.3,   2.0081,  34.7400,2,  34.7398,2,    189.1,2,   188.4,2,   91.38,2,   30.67,2,    0.00,2,    2.20,2,-999.000,9,-999.000,9,-999.0000,9,  2253.7,2,  2357.2,2,   7.6811,2,    20.00,-999.000,9,-999.000,9,-999.000,9,   2.0085,2,-999.000,9, -999.00,9, -999.00,-999.000,9,-999.000, -999.00,9, -999.00,9, -33.9964,  95.5604,-999.000,-999.000,20090430,       1255
33RR20090320,        I05,     146,          1,          8,          8,2,20090430,       1212,   -33.9960,    95.5601,       4422,  2747.9,   1.7597,  34.7424,2,  34.7420,2,    194.7,2,   194.7,2,   97.00,2,   30.78,2,    0.00,2,    2.19,2,-999.000,9,-999.000,9,-999.0000,9,  -999.0,9,  -999.0,9,-999.0000,9,  -999.00,-999.000,9,-999.000,9,-999.000,9,   1.7603,2,-999.000,9, -999.00,9, -999.00,-999.000,9,-999.000, -999.00,9, -999.00,9, -33.9963,  95.5605,-999.000,-999.000,20090430,       1250
33RR20090320,        I05,     146,          1,          7,          7,2,20090430,       1212,   -33.9960,    95.5601,       4422,  3001.6,   1.5509,  34.7377,2,  34.7378,2,    198.3,2,   197.9,2,  102.81,2,   30.95,2,    0.00,2,    2.20,2,-999.000,9,-999.000,9,-999.0000,9,  -999.0,9,  -999.0,9,-999.0000,9,  -999.00,-999.000,9,-999.000,9,-999.000,9,   1.5510,2,-999.000,9, -999.00,9, -999.00,-999.000,9,-999.000, -999.00,9, -999.00,9, -33.9963,  95.5604,-999.000,-999.000,20090430,       1244
33RR20090320,        I05,     146,          1,          6,          6,2,20090430,       1212,   -33.9960,    95.5601,       4422,  3299.8,   1.3482,  34.7298,2,  34.7308,2,    200.7,2,   200.6,2,  109.21,2,   31.28,2,    0.00,2,    2.23,2,-999.000,9,-999.000,9,-999.0000,9,  -999.0,9,  -999.0,9,-999.0000,9,  -999.00,-999.000,9,-999.000,9,-999.000,9,   1.3482,2,-999.000,9, -999.00,9, -999.00,-999.000,9,-999.000, -999.00,9, -999.00,9, -33.9962,  95.5604,-999.000,-999.000,20090430,       1238
33RR20090320,        I05,     146,          1,          5,          5,2,20090430,       1212,   -33.9960,    95.5601,       4422,  3598.0,   1.1851,  34.7223,2,  34.7225,2,    202.7,2,   202.9,2,  114.48,2,   31.49,2,    0.00,2,    2.23,2,-999.000,9,-999.000,9,-999.0000,9,  2262.6,2,  2368.3,2,   7.6885,2,    20.00,-999.000,9,-999.000,9,-999.000,9,   1.1853,2,-999.000,9, -999.00,9, -999.00,-999.000,9,-999.000, -999.00,9, -999.00,9, -33.9962,  95.5603,-999.000,-999.000,20090430,       1232
33RR20090320,        I05,     146,          1,          4,          4,2,20090430,       1212,   -33.9960,    95.5601,       4422,  3898.1,   1.1112,  34.7175,2,  34.7176,2,    203.6,2,   203.9,2,  117.68,2,   31.72,2,    0.00,2,    2.25,2,-999.000,9,-999.000,9,-999.0000,9,  -999.0,9,  -999.0,9,-999.0000,9,  -999.00,-999.000,9,-999.000,9,-999.000,9,   1.1105,2,-999.000,9, -999.00,9, -999.00,-999.000,9,-999.000, -999.00,9, -999.00,9, -33.9962,  95.5602,-999.000,-999.000,20090430,       1225
33RR20090320,        I05,     146,          1,          3,          3,2,20090430,       1212,   -33.9960,    95.5601,       4422,  4137.6,   1.0970,  34.7157,2,  34.7157,2,    204.1,2,   204.2,2,  118.43,2,   31.77,2,    0.00,2,    2.25,2,-999.000,9,-999.000,9,-999.0000,9,  -999.0,9,  -999.0,9,-999.0000,9,  -999.00,-999.000,9,-999.000,9,-999.000,9,   1.0967,2,-999.000,9, -999.00,9, -999.00,-999.000,9,-999.000, -999.00,9, -999.00,9, -33.9962,  95.5602,-999.000,-999.000,20090430,       1220
33RR20090320,        I05,     146,          1,          2,          2,2,20090430,       1212,   -33.9960,    95.5601,       4422,  4367.5,   1.0802,  34.7137,2,  34.7136,2,    205.2,2,   204.8,2,  119.55,2,   31.65,2,    0.00,2,    2.26,2,-999.000,9,-999.000,9,-999.0000,9,  -999.0,9,  -999.0,9,-999.0000,9,  -999.00,-999.000,9,-999.000,9,-999.000,9,   1.0799,2,-999.000,9, -999.00,9, -999.00,-999.000,9,-999.000, -999.00,9, -999.00,9, -33.9960,  95.5601,-999.000,-999.000,20090430,       1215
33RR20090320,        I05,     146,          1,          1,          1,2,20090430,       1212,   -33.9960,    95.5601,       4422,  4485.6,   1.0899,  34.7138,2,  34.7140,2,    204.7,2,   204.8,2,  119.36,2,   31.64,2,    0.00,2,    2.26,2,-999.000,9,-999.000,9,-999.0000,9,  2269.0,6,  2373.1,2,   7.6914,2,    20.00,-999.000,9,-999.000,9,-999.000,9,   1.0897,2,-999.000,9, -999.00,9, -999.00,-999.000,9,-999.000, -999.00,9, -999.00,9, -33.9960,  95.5601,-999.000,-999.000,20090430,       1212