BOTTLE,20220814CCHSIOAMB
EXPOCODE,SECT_ID,STNNBR,CASTNO,SAMPNO,BTLNBR,BTLNBR_FLAG_W,DATE,TIME,LATITUDE,LONGITUDE,DEPTH,CTDPRS,CTDTMP,CTDSAL,CTDSAL_FLAG_W,SALNTY,SALNTY_FLAG_W,CTDOXY,CTDOXY_FLAG_W,OXYGEN,OXYGEN_FLAG_W,SILCAT,SILCAT_FLAG_W,NITRAT,NITRAT_FLAG_W,NITRIT,NITRIT_FLAG_W,PHSPHT,PHSPHT_FLAG_W,CFC-11,CFC-11_FLAG_W,CFC-12,CFC-12_FLAG_W,SF6,SF6_FLAG_W,TCARBN,TCARBN_FLAG_W,ALKALI,ALKALI_FLAG_W,PH_TOT,PH_TOT_FLAG_W,PH_TMP,TRITUM,TRITUM_FLAG_W,HELIUM,HELIUM_FLAG_W,DELHE3,DELHE3_FLAG_W,REFTMP,REFTMP_FLAG_W,DELC13,DELC13_FLAG_W,DELC14,DELC14_FLAG_W,C14ERR,NEON,NEON_FLAG_W,NEONER,DOC,DOC_FLAG_W,TDN,TDN_FLAG_W,BTL_LAT,BTL_LON,HELIER,DELHER,BTL_DATE,BTL_TIME
,,,,,,,,,,,METERS,DBAR,ITS-90,PSS-78,,PSS-78,,UMOL/KG,,UMOL/KG,,UMOL/KG,,UMOL/KG,,UMOL/KG,,UMOL/KG,,PMOL/KG,,PMOL/KG,,FMOL/KG,,UMOL/KG,,UMOL/KG,,,,DEG C,TU,,NMOL/KG,,PERCNT,,DEG C,,/MILLE,,/MILLE,,/MILLE,NMOL/KG,,NMOL/KG,UMOL/KG,,UMOL/KG,,,,NMOL/KG,PERCNT,,
33RR20090320,        I05,     177,          1,         36,         36,2,20090508,       0007,   -31.2926,   107.2215,       5099,    13.8,  20.6396,  35.8521,2,  35.8526,2,    224.8,2,   224.4,2,    1.84,2,    0.00,2,    0.00,2,    0.09,2,   2.058,2,   1.245,2,   1.1900,2,  2047.1,6,  2353.0,2,   8.1211,2,    20.00,-999.000,9,-999.000,9,-999.000,9,  20.6362,2,-999.000,9, -999.00,9, -999.00,-999.000,9,-999.000,   68.21,2,    4.49,2, -31.2920, 107.2216,-999.000,-999.000,20090508,       0213
33RR20090320,        I05,     177,          1,         35,         35,2,20090508,       0007,   -31.2926,   107.2215,       5099,    43.7,  20.3253,  35.9632,2,  35.9661,2,    226.4,2,   226.1,2,    1.46,2,    0.00,2,    0.00,2,    0.10,2,   2.114,2,   1.277,2,   1.1450,2,  2063.9,2,  2358.1,2,   8.1057,2,    20.00,-999.000,9,-999.000,9,-999.000,9,  20.3349,2,-999.000,9, -999.00,9, -999.00,-999.000,9,-999.000,   68.20,2,    4.57,2, -31.2920, 107.2216,-999.000,-999.000,20090508,       0211
33RR20090320,        I05,     177,          1,         34,         34,2,20090508,       0007,   -31.2926,   107.2215,       5099,    68.5,  19.1785,  35.9438,2,  35.9437,2,    233.3,2,   232.4,2,    1.28,2,    0.00,2,    0.00,2,    0.12,2,   2.276,2,   1.367,2,   1.1980,2,  2076.2,2,  2357.1,2,   8.0838,2,    20.00,-999.000,9,-999.000,9,-999.000,9,  19.1849,2,-999.000,9, -999.00,9, -999.00,-999.000,9,-999.000,   63.94,2,    4.15,2, -31.2920, 107.2216,-999.000,-999.000,20090508,       0209
33RR20090320,        I05,     177,          1,         33,         33,2,20090508,       0007,   -31.2926,   107.2215,       5099,    93.5,  17.5472,  35.8506,2,  35.8522,2,    218.2,2,   219.6,2,    1.65,2,    1.41,2,    0.01,2,    0.22,2,   2.444,2,   1.443,2,   1.1550,2,  2089.4,2,  2351.8,2,   8.0485,2,    20.00,-999.000,9,-999.000,9,-999.000,9,  17.5473,2,-999.000,9, -999.00,9, -999.00,-999.000,9,-999.000,   58.72,2,    5.72,2, -31.2920, 107.2216,-999.000,-999.000,20090508,       0208
33RR20090320,        I05,     177,          1,         32,         32,2,20090508,       0007,   -31.2926,   107.2215,       5099,   122.8,  16.1855,  35.7289,2,  35.7296,2,    223.6,2,   223.9,2,    1.45,2,    2.15,2,    0.01,2,    0.28,2,   2.584,2,   1.511,2,   1.1890,2,  2095.6,2,  2345.2,2,   8.0259,2,    20.00,-999.000,9,-999.000,9,-999.000,9,  16.1918,2,-999.000,9, -999.00,9, -999.00,-999.000,9,-999.000,   56.85,2,    6.29,2, -31.2920, 107.2216,-999.000,-999.000,20090508,       0206
33RR20090320,        I05,     177,          1,         31,         31,2,20090508,       0007,   -31.2926,   107.2215,       5099,   172.8,  14.8226,  35.5565,2,  35.5417,2,    228.0,2,   227.5,2,    1.45,2,    3.88,2,    0.01,2,    0.39,2,   2.802,2,   1.626,2,   1.2910,2,  2103.1,2,  2337.4,2,   7.9964,2,    20.00,-999.000,9,-999.000,9,-999.000,9,  14.8667,2,-999.000,9, -999.00,9, -999.00,-999.000,9,-999.000,   54.32,2,    8.09,2, -31.2920, 107.2217,-999.000,-999.000,20090508,       0203
33RR20090320,        I05,     177,          1,         30,         30,2,20090508,       0007,   -31.2926,   107.2215,       5099,   223.5,  13.5036,  35.3539,2,  35.3506,2,    234.0,2,   234.2,2,    1.44,2,    5.73,2,    0.01,2,    0.51,2,   2.994,2,   1.720,2,   1.3860,2,  2108.0,2,  2325.6,2,   7.9687,2,    20.00,-999.000,9,-999.000,9,-999.000,9,  13.5018,2,-999.000,9, -999.00,9, -999.00,-999.000,9,-999.000,   51.35,2,    9.21,2, -31.2921, 107.2218,-999.000,-999.000,20090508,       0201
33RR20090320,        I05,     177,          1,         29,         29,2,20090508,       0007,   -31.2926,   107.2215,       5099,   272.3,  12.5615,  35.1869,2,  35.1955,2,    238.1,2,   237.7,2,    1.63,2,    7.35,2,    0.01,2,    0.61,2,   3.145,2,   1.778,2,   1.3140,2,  2112.2,2,  2318.0,2,   7.9472,2,    20.00,-999.000,9,-999.000,9,-999.000,9,  12.5998,2,-999.000,9, -999.00,9, -999.00,-999.000,9,-999.000,   50.22,2,   10.17,2, -31.2921, 107.2218,-999.000,-999.000,20090508,       0159
33RR20090320,        I05,     177,          1,         28,         28,2,20090508,       0007,   -31.2926,   107.2215,       5099,   323.0,  11.5167,  35.0077,2,  35.0054,2,    239.1,2,   237.9,2,    2.19,2,   10.09,2,    0.00,2,    0.77,2,   3.341,2,   1.866,2,   1.2810,2,  2116.2,2,  2308.3,2,   7.9147,2,    20.00,-999.000,9,-999.000,9,-999.000,9,  11.5107,2,-999.000,9, -999.00,9, -999.00,-999.000,9,-999.000,   48.96,2,   12.96,2, -31.2920, 107.2218,-999.000,-999.000,20090508,       0157
33RR20090320,        I05,     177,          1,         27,         27,2,20090508,       0007,   -31.2926,   107.2215,       5099,   373.2,  10.7071,  34.8798,2,  34.8765,2,    239.7,2,   239.6,2,    2.74,2,   12.15,2,    0.00,2,    0.89,2,   3.480,6,   1.934,6,   1.3420,6,  2122.0,2,  2301.9,2,   7.8928,2,    20.00,-999.000,9,-999.000,9,-999.000,9,  10.7029,2,-999.000,9, -999.00,9, -999.00,-999.000,9,-999.000,   47.90,2,   13.91,2, -31.2920, 107.2217,-999.000,-999.000,20090508,       0155
33RR20090320,        I05,     177,          1,         26,         26,2,20090508,       0007,   -31.2926,   107.2215,       5099,   443.1,   9.9530,  34.7733,2,  34.7685,2,    240.5,2,   240.5,2,    3.49,2,   14.38,2,    0.00,2,    1.03,2,   3.642,2,   1.975,2,   1.1910,2,  2125.5,2,  2295.6,2,   7.8711,2,    20.00,-999.000,9,-999.000,9,-999.000,9,   9.9566,2,-999.000,9, -999.00,9, -999.00,-999.000,9,-999.000,   46.46,2,   16.28,2, -31.2920, 107.2217,-999.000,-999.000,20090508,       0152
33RR20090320,        I05,     177,          1,         25,         25,2,20090508,       0007,   -31.2926,   107.2215,       5099,   542.9,   9.3146,  34.6843,2,  34.6858,2,    240.4,2,   239.8,2,    4.41,2,   16.33,2,    0.00,2,    1.15,2,   3.705,2,   1.975,2,   1.0660,2,  2130.5,2,  2293.6,2,   7.8540,2,    20.00,-999.000,9,-999.000,9,-999.000,9,   9.3140,2,-999.000,9, -999.00,9, -999.00,-999.000,9,-999.000,   45.51,2,   18.05,2, -31.2919, 107.2216,-999.000,-999.000,20090508,       0150
33RR20090320,        I05,     177,          1,         24,         24,2,20090508,       0007,   -31.2926,   107.2215,       5099,   643.1,   8.7814,  34.6126,2,  34.6109,2,    236.2,2,   235.2,2,    5.71,2,   18.33,2,    0.00,2,    1.28,2,   3.536,2,   1.868,2,   1.0240,2,  2135.4,2,  2292.0,2,   7.8347,2,    20.00,-999.000,9,-999.000,9,-999.000,9,   8.7806,2,-999.000,9, -999.00,9, -999.00,-999.000,9,-999.000,   44.50,2,   19.78,2, -31.2920, 107.2216,-999.000,-999.000,20090508,       0147
33RR20090320,        I05,     177,          1,         23,         23,2,20090508,       0007,   -31.2926,   107.2215,       5099,   743.0,   7.7295,  34.5104,2,  34.5116,2,    211.3,2,   212.8,2,   10.75,2,   22.86,2,    0.00,2,    1.57,2,   2.831,6,   1.443,6,   0.6370,6,  2154.9,2,  2289.4,2,   7.7830,2,    20.00,-999.000,9,-999.000,9,-999.000,9,   7.7240,2,-999.000,9, -999.00,9, -999.00,-999.000,9,-999.000,   43.72,2,   23.99,2, -31.2920, 107.2215,-999.000,-999.000,20090508,       0144
33RR20090320,        I05,     177,          1,         22,         22,2,20090508,       0007,   -31.2926,   107.2215,       5099,   843.2,   6.1246,  34.4177,2,  34.4109,2,    198.3,2,   197.6,2,   21.98,2,   28.01,2,    0.00,2,    1.92,2,   1.911,2,   0.936,2,   0.2910,2,  2181.9,2,  2291.6,2,   7.7223,2,    20.00,-999.000,9,-999.000,9,-999.000,9,   6.1188,2,-999.000,9, -999.00,9, -999.00,-999.000,9,-999.000,   42.17,2,   29.12,2, -31.2920, 107.2215,-999.000,-999.000,20090508,       0141
33RR20090320,        I05,     177,          1,         21,         21,2,20090508,       0007,   -31.2926,   107.2215,       5099,   943.2,   4.7762,  34.3755,2,  34.3757,2,    194.8,2,   194.9,2,   32.50,2,   30.53,2,    0.00,2,    2.13,2,   1.505,2,   0.719,2,   0.1230,2,  2199.6,2,  2300.6,2,   7.6929,2,    20.00,-999.000,9,-999.000,9,-999.000,9,   4.7759,2,-999.000,9, -999.00,9, -999.00,-999.000,9,-999.000,   41.31,2,   31.87,2, -31.2920, 107.2214,-999.000,-999.000,20090508,       0139
33RR20090320,        I05,     177,          1,         20,         20,2,20090508,       0007,   -31.2926,   107.2215,       5099,  1042.9,   4.0614,  34.4110,2,  34.4087,2,    180.3,2,   181.8,2,   46.47,2,   32.79,2,    0.00,2,    2.31,2,   0.919,2,   0.433,2,   0.1050,2,  2223.8,2,  2310.1,2,   7.6643,2,    20.00,-999.000,9,-999.000,9,-999.000,9,   4.0603,2,-999.000,9, -999.00,9, -999.00,-999.000,9,-999.000,   40.83,2,   34.50,2, -31.2921, 107.2214,-999.000,-999.000,20090508,       0136
33RR20090320,        I05,     177,          1,         19,         19,2,20090508,       0007,   -31.2926,   107.2215,       5099,  1144.1,   3.6552,  34.4411,2,  34.4417,2,    173.7,2,   173.5,2,   55.75,2,   33.85,2,    0.00,2,    2.39,2,   0.608,2,   0.284,2,   0.0270,2,  2237.0,2,  2321.6,2,   7.6486,2,    20.00,-999.000,9,-999.000,9,-999.000,9,   3.6533,2,-999.000,9, -999.00,9, -999.00,-999.000,9,-999.000,   40.07,2,   35.64,2, -31.2921, 107.2214,-999.000,-999.000,20090508,       0133
33RR20090320,        I05,     177,          1,         18,         18,2,20090508,       0007,   -31.2926,   107.2215,       5099,  1243.7,   3.4421,  34.4994,2,  34.4998,2,    158.8,2,   159.7,2,   66.96,2,   34.70,2,    0.00,2,    2.46,2,   0.299,2,   0.144,2,   0.0200,2,  2252.5,2,  2334.0,2,   7.6335,2,    20.00,-999.000,9,-999.000,9,-999.000,9,   3.4409,2,-999.000,9, -999.00,9, -999.00,-999.000,9,-999.000,   39.96,2,   36.29,2, -31.2921, 107.2215,-999.000,-999.000,20090508,       0130
33RR20090320,        I05,     177,          1,         17,         17,2,20090508,       0007,   -31.2926,   107.2215,       5099,  1344.4,   3.2377,  34.5507,2,  34.5499,2,    155.0,2,   153.4,2,   74.96,2,   34.98,2,    0.00,2,    2.50,2,   0.124,2,   0.061,2,   0.0000,2,  2261.2,2,  2342.2,2,   7.6279,2,    20.00,-999.000,9,-999.000,9,-999.000,9,   3.2400,2,-999.000,9, -999.00,9, -999.00,-999.000,9,-999.000,   39.68,2,   36.53,2, -31.2922, 107.2215,-999.000,-999.000,20090508,       0128
33RR20090320,        I05,     177,          1,         16,         16,2,20090508,       0007,   -31.2926,   107.2215,       5099,  1474.9,   3.0534,  34.6022,2,  34.6019,2,    150.7,2,   149.6,2,   83.35,2,   34.87,2,    0.00,2,    2.50,2,   0.049,2,   0.024,2,   0.0000,2,  2268.8,2,  2351.3,2,   7.6275,2,    20.00,-999.000,9,-999.000,9,-999.000,9,   3.0537,2,-999.000,9, -999.00,9, -999.00,-999.000,9,-999.000,   39.05,2,   36.30,2, -31.2922, 107.2215,-999.000,-999.000,20090508,       0124
33RR20090320,        I05,     177,          1,         15,         15,2,20090508,       0007,   -31.2926,   107.2215,       5099,  1675.8,   2.7089,  34.6506,2,  34.6493,2,    157.6,2,   157.1,2,   87.74,2,   34.31,2,    0.00,2,    2.44,2,   0.027,2,   0.013,2,   0.0000,2,  2270.8,6,  2355.1,2,   7.6383,2,    20.00,-999.000,9,-999.000,9,-999.000,9,   2.7115,2,-999.000,9, -999.00,9, -999.00,-999.000,9,-999.000,   39.15,2,   35.40,2, -31.2922, 107.2215,-999.000,-999.000,20090508,       0120
33RR20090320,        I05,     177,          1,         14,         14,2,20090508,       0007,   -31.2926,   107.2215,       5099,  1877.6,   2.4804,  34.6942,2,  34.6939,2,    160.9,2,   160.7,2,   96.35,2,   33.91,2,    0.00,2,    2.39,2,   0.009,2,   0.004,2,   0.0000,2,  2275.9,2,  2364.8,2,   7.6498,2,    20.00,-999.000,9,-999.000,9,-999.000,9,   2.4795,2,-999.000,9, -999.00,9, -999.00,-999.000,9,-999.000,   39.18,2,   35.21,2, -31.2922, 107.2214,-999.000,-999.000,20090508,       0115
33RR20090320,        I05,     177,          1,         13,         13,2,20090508,       0007,   -31.2926,   107.2215,       5099,  2099.0,   2.2538,  34.7171,2,  34.7169,2,    163.4,2,   163.1,2,  104.97,2,   33.69,2,    0.00,2,    2.39,2,   0.005,2,   0.002,2,   0.0000,2,  2280.3,2,  2376.6,2,   7.6574,2,    20.00,-999.000,9,-999.000,9,-999.000,9,   2.2543,2,-999.000,9, -999.00,9, -999.00,-999.000,9,-999.000,   39.29,2,   35.49,2, -31.2922, 107.2214,-999.000,-999.000,20090508,       0110
33RR20090320,        I05,     177,          1,         12,         12,2,20090508,       0007,   -31.2926,   107.2215,       5099,  2350.9,   2.0431,  34.7256,2,  34.7255,2,    168.3,2,   168.0,2,  110.15,2,   33.58,2,    0.00,2,    2.36,2,   0.003,2,   0.002,2,   0.0000,2,  2283.0,2,  2379.5,2,   7.6647,2,    20.00,-999.000,9,-999.000,9,-999.000,9,   2.0429,2,-999.000,9, -999.00,9, -999.00,-999.000,9,-999.000,   39.38,2,   34.98,2, -31.2922, 107.2214,-999.000,-999.000,20090508,       0105
33RR20090320,        I05,     177,          1,         11,         11,2,20090508,       0007,   -31.2926,   107.2215,       5099,  2604.2,   1.8603,  34.7286,2,  34.7281,2,    174.3,2,   174.3,2,  113.01,2,   33.30,2,    0.00,2,    2.34,2,   0.006,2,   0.004,2,   0.0000,2,  2281.7,2,  2380.9,2,   7.6717,2,    20.00,-999.000,9,-999.000,9,-999.000,9,   1.8590,2,-999.000,9, -999.00,9, -999.00,-999.000,9,-999.000,   39.51,2,   34.74,2, -31.2922, 107.2215,-999.000,-999.000,20090508,       0059
33RR20090320,        I05,     177,          1,         10,         10,2,20090508,       0007,   -31.2926,   107.2215,       5099,  2856.9,   1.7072,  34.7290,2,  34.7279,2,    179.6,2,   179.8,2,  114.71,2,   33.08,2,    0.00,2,    2.32,2,   0.004,2,   0.001,2,   0.0000,2,  2280.6,2,  2382.4,2,   7.6776,2,    20.00,-999.000,9,-999.000,9,-999.000,9,   1.7065,2,-999.000,9, -999.00,9, -999.00,-999.000,9,-999.000,   39.56,2,   34.30,2, -31.2923, 107.2215,-999.000,-999.000,20090508,       0054
33RR20090320,        I05,     177,          1,          9,          9,2,20090508,       0007,   -31.2926,   107.2215,       5099,  3124.8,   1.5367,  34.7270,2,  34.7270,2,    184.7,2,   184.5,2,  117.77,2,   32.86,2,    0.00,2,    2.31,2,   0.004,6,   0.001,6,   0.0000,6,  2279.6,2,  2383.5,2,   7.6822,2,    20.00,-999.000,9,-999.000,9,-999.000,9,   1.5369,2,-999.000,9, -999.00,9, -999.00,-999.000,9,-999.000,   39.67,2,   34.39,2, -31.2923, 107.2216,-999.000,-999.000,20090508,       0049
33RR20090320,        I05,     177,          1,          8,          8,2,20090508,       0007,   -31.2926,   107.2215,       5099,  3428.3,   1.3780,  34.7241,2,  34.7227,2,    190.2,2,   190.1,2,  120.24,2,   32.69,2,    0.00,2,    2.31,2,   0.005,2,   0.001,2,   0.0000,2,  2277.5,2,  2383.4,2,   7.6861,2,    20.00,-999.000,9,-999.000,9,-999.000,9,   1.3789,2,-999.000,9, -999.00,9, -999.00,-999.000,9,-999.000,   39.47,2,   34.16,2, -31.2925, 107.2215,-999.000,-999.000,20090508,       0042
33RR20090320,        I05,     177,          1,          7,          7,2,20090508,       0007,   -31.2926,   107.2215,       5099,  3733.8,   1.2631,  34.7205,2,  34.7205,2,    194.6,2,   194.6,2,  121.18,2,   32.58,2,    0.00,2,    2.29,2,   0.007,2,   0.003,2,   0.0000,2,  2276.0,2,  2382.8,2,   7.6894,2,    20.00,-999.000,9,-999.000,9,-999.000,9,   1.2631,2,-999.000,9, -999.00,9, -999.00,-999.000,9,-999.000,   39.80,2,   34.39,2, -31.2925, 107.2215,-999.000,-999.000,20090508,       0036
33RR20090320,        I05,     177,          1,          6,          6,2,20090508,       0007,   -31.2926,   107.2215,       5099,  4036.9,   1.1701,  34.7170,2,  34.7164,2,    198.6,2,   198.5,2,  122.11,2,   32.42,2,    0.00,2,    2.29,2,   0.011,2,   0.005,2,   0.0000,2,  2273.5,2,  2380.8,2,   7.6916,2,    20.00,-999.000,9,-999.000,9,-999.000,9,   1.1702,2,-999.000,9, -999.00,9, -999.00,-999.000,9,-999.000,   39.41,2,   33.90,2, -31.2924, 107.2216,-999.000,-999.000,20090508,       0030
33RR20090320,        I05,     177,          1,          5,          5,2,20090508,       0007,   -31.2926,   107.2215,       5099,  4342.9,   1.0756,  34.7136,2,  34.7134,2,    204.5,2,   204.4,2,  121.50,2,   32.19,2,    0.00,2,    2.28,2,   0.023,2,   0.012,2,   0.0000,2,  2268.2,2,  2375.4,2,   7.6905,2,    20.00,-999.000,9,-999.000,9,-999.000,9,   1.0756,2,-999.000,9, -999.00,9, -999.00,-999.000,9,-999.000,   39.52,2,   33.45,2, -31.2925, 107.2216,-999.000,-999.000,20090508,       0024
33RR20090320,        I05,     177,          1,          4,          4,2,20090508,       0007,   -31.2926,   107.2215,       5099,  4647.9,   1.0268,  34.7101,2,  34.7095,2,    205.5,2,   205.3,2,  123.21,2,   32.03,2,    0.00,2,    2.28,2,   0.027,2,   0.016,2,   0.0000,2,  2268.2,2,  2373.5,2,   7.6905,2,    20.00,-999.000,9,-999.000,9,-999.000,9,   1.0268,2,-999.000,9, -999.00,9, -999.00,-999.000,9,-999.000,   39.68,2,   33.31,2, -31.2926, 107.2216,-999.000,-999.000,20090508,       0018
33RR20090320,        I05,     177,          1,          3,          3,2,20090508,       0007,   -31.2926,   107.2215,       5099,  4953.6,   1.0253,  34.7085,2,  34.7085,2,    207.2,2,   206.5,2,  123.17,2,   32.08,2,    0.00,2,    2.28,2,   0.040,2,   0.020,2,   0.0000,2,  2267.7,2,  2372.7,2,   7.6892,2,    20.00,-999.000,9,-999.000,9,-999.000,9,   1.0253,2,-999.000,9, -999.00,9, -999.00,-999.000,9,-999.000,   39.59,2,   33.67,2, -31.2926, 107.2216,-999.000,-999.000,20090508,       0012
33RR20090320,        I05,     177,          1,          2,          2,2,20090508,       0007,   -31.2926,   107.2215,       5099,  5066.0,   1.0313,  34.7081,2,  34.7077,2,    207.5,2,   206.9,2,  122.75,2,   32.14,2,    0.00,2,    2.28,2,   0.039,2,   0.021,2,   0.0000,2,  2267.4,2,  2373.3,2,   7.6891,2,    20.00,-999.000,9,-999.000,9,-999.000,9,   1.0309,2,-999.000,9, -999.00,9, -999.00,-999.000,9,-999.000,   39.50,2,   33.59,2, -31.2926, 107.2216,-999.000,-999.000,20090508,       0010
33RR20090320,        I05,     177,          1,          1,          1,2,20090508,       0007,   -31.2926,   107.2215,       5099,  5178.8,   1.0371,  34.7076,2,  34.7075,2,    205.8,2,   206.9,2,  123.10,2,   31.98,2,    0.00,2,    2.28,2,   0.045,6,   0.023,6,   0.0000,6,  2268.3,6,  2373.4,2,   7.6882,2,    20.00,-999.000,9,-999.000,9,-999.000,9,   1.0367,2,-999.000,9, -999.00,9, -999.00,-999.000,9,-999.000,   39.80,2,   33.76,2, -31.2926, 107.2215,-999.000,-999.000,20090508,       0007