BOTTLE,20220814CCHSIOAMB
EXPOCODE,SECT_ID,STNNBR,CASTNO,SAMPNO,BTLNBR,BTLNBR_FLAG_W,DATE,TIME,LATITUDE,LONGITUDE,DEPTH,CTDPRS,CTDTMP,CTDSAL,CTDSAL_FLAG_W,SALNTY,SALNTY_FLAG_W,CTDOXY,CTDOXY_FLAG_W,OXYGEN,OXYGEN_FLAG_W,SILCAT,SILCAT_FLAG_W,NITRAT,NITRAT_FLAG_W,NITRIT,NITRIT_FLAG_W,PHSPHT,PHSPHT_FLAG_W,CFC-11,CFC-11_FLAG_W,CFC-12,CFC-12_FLAG_W,SF6,SF6_FLAG_W,TCARBN,TCARBN_FLAG_W,ALKALI,ALKALI_FLAG_W,PH_TOT,PH_TOT_FLAG_W,PH_TMP,TRITUM,TRITUM_FLAG_W,HELIUM,HELIUM_FLAG_W,DELHE3,DELHE3_FLAG_W,REFTMP,REFTMP_FLAG_W,DELC13,DELC13_FLAG_W,DELC14,DELC14_FLAG_W,C14ERR,NEON,NEON_FLAG_W,NEONER,DOC,DOC_FLAG_W,TDN,TDN_FLAG_W,BTL_LAT,BTL_LON,HELIER,DELHER,BTL_DATE,BTL_TIME
,,,,,,,,,,,METERS,DBAR,ITS-90,PSS-78,,PSS-78,,UMOL/KG,,UMOL/KG,,UMOL/KG,,UMOL/KG,,UMOL/KG,,UMOL/KG,,PMOL/KG,,PMOL/KG,,FMOL/KG,,UMOL/KG,,UMOL/KG,,,,DEG C,TU,,NMOL/KG,,PERCNT,,DEG C,,/MILLE,,/MILLE,,/MILLE,NMOL/KG,,NMOL/KG,UMOL/KG,,UMOL/KG,,,,NMOL/KG,PERCNT,,
33RR20090320,        I05,      98,          1,         36,         36,2,20090418,       1030,   -33.9994,    72.5559,       4152,     4.5,  19.2940,  35.4170,2,  35.4159,2,    231.6,2,   231.5,2,    1.52,2,    0.13,2,    0.00,2,    0.16,2,-999.000,9,-999.000,9,-999.0000,9,  2061.6,6,  2329.0,2,   8.0700,2,    20.00,-999.000,9,-999.000,9,-999.000,9,  19.2916,2,-999.000,9, -999.00,9, -999.00,-999.000,9,-999.000, -999.00,9, -999.00,9, -33.9990,  72.5553,-999.000,-999.000,20090418,       1215
33RR20090320,        I05,      98,          1,         35,         35,2,20090418,       1030,   -33.9994,    72.5559,       4152,    27.4,  19.2243,  35.4151,2,  35.4154,2,    232.9,2,   231.9,2,    1.48,2,    0.13,2,    0.00,2,    0.16,2,-999.000,9,-999.000,9,-999.0000,9,  2061.9,2,  2330.0,2,   8.0709,2,    20.00,-999.000,9,-999.000,9,-999.000,9,  19.2204,2,-999.000,9, -999.00,9, -999.00,-999.000,9,-999.000, -999.00,9, -999.00,9, -33.9990,  72.5554,-999.000,-999.000,20090418,       1214
33RR20090320,        I05,      98,          1,         34,         34,2,20090418,       1030,   -33.9994,    72.5559,       4152,    52.3,  17.4172,  35.2739,2,  35.2690,2,    245.8,2,   248.4,2,    1.43,2,    0.22,2,    0.01,2,    0.19,2,-999.000,9,-999.000,9,-999.0000,9,  2061.4,2,  2321.0,2,   8.0601,2,    20.00,-999.000,9,-999.000,9,-999.000,9,  17.3914,2,-999.000,9, -999.00,9, -999.00,-999.000,9,-999.000, -999.00,9, -999.00,9, -33.9990,  72.5554,-999.000,-999.000,20090418,       1212
33RR20090320,        I05,      98,          1,         33,         33,2,20090418,       1030,   -33.9994,    72.5559,       4152,    76.6,  14.9584,  35.2642,2,  35.2601,2,    253.5,2,   250.7,2,    2.01,2,    2.05,2,    0.21,2,    0.34,2,-999.000,9,-999.000,9,-999.0000,9,  2082.7,2,  2320.0,2,   8.0155,2,    20.00,-999.000,9,-999.000,9,-999.000,9,  14.9551,2,-999.000,9, -999.00,9, -999.00,-999.000,9,-999.000, -999.00,9, -999.00,9, -33.9990,  72.5555,-999.000,-999.000,20090418,       1211
33RR20090320,        I05,      98,          1,         32,         32,2,20090418,       1030,   -33.9994,    72.5559,       4152,   101.7,  13.8541,  35.2274,2,  35.2265,2,    238.8,2,   238.7,2,    3.01,2,    5.62,2,    0.31,2,    0.54,2,-999.000,9,-999.000,9,-999.0000,9,  2099.1,2,  2315.0,2,   7.9735,2,    20.00,-999.000,9,-999.000,9,-999.000,9,  13.8406,2,-999.000,9, -999.00,9, -999.00,-999.000,9,-999.000, -999.00,9, -999.00,9, -33.9990,  72.5555,-999.000,-999.000,20090418,       1210
33RR20090320,        I05,      98,          1,         31,         31,2,20090418,       1030,   -33.9994,    72.5559,       4152,   151.8,  13.2439,  35.2420,2,  35.2403,2,    236.6,2,   238.1,2,    3.80,2,    7.69,2,    0.01,2,    0.61,2,-999.000,9,-999.000,9,-999.0000,9,  2106.7,2,  2315.1,2,   7.9579,2,    20.00,-999.000,9,-999.000,9,-999.000,9,  13.2434,2,-999.000,9, -999.00,9, -999.00,-999.000,9,-999.000, -999.00,9, -999.00,9, -33.9990,  72.5556,-999.000,-999.000,20090418,       1208
33RR20090320,        I05,      98,          1,         30,         30,2,20090418,       1030,   -33.9994,    72.5559,       4152,   202.5,  13.0292,  35.2311,2,  35.2299,2,    237.8,2,   237.6,2,    3.96,2,    8.21,2,    0.01,2,    0.64,2,-999.000,9,-999.000,9,-999.0000,9,  -999.0,9,  -999.0,9,-999.0000,9,  -999.00,-999.000,9,-999.000,9,-999.000,9,  13.0292,2,-999.000,9, -999.00,9, -999.00,-999.000,9,-999.000, -999.00,9, -999.00,9, -33.9991,  72.5557,-999.000,-999.000,20090418,       1206
33RR20090320,        I05,      98,          1,         29,         29,2,20090418,       1030,   -33.9994,    72.5559,       4152,   252.0,  12.7491,  35.1960,2,  35.1955,2,    237.8,2,   237.1,2,    4.12,2,    8.88,2,    0.00,2,    0.68,2,-999.000,9,-999.000,9,-999.0000,9,  -999.0,9,  -999.0,9,-999.0000,9,  -999.00,-999.000,9,-999.000,9,-999.000,9,  12.7466,2,-999.000,9, -999.00,9, -999.00,-999.000,9,-999.000, -999.00,9, -999.00,9, -33.9992,  72.5557,-999.000,-999.000,20090418,       1204
33RR20090320,        I05,      98,          1,         28,         28,2,20090418,       1030,   -33.9994,    72.5559,       4152,   302.3,  12.5354,  35.1656,2,  35.1650,2,    239.7,2,   239.5,2,    4.08,2,    9.20,2,    0.00,2,    0.71,2,-999.000,9,-999.000,9,-999.0000,9,  2111.5,2,  2311.0,2,   7.9410,2,    20.00,-999.000,9,-999.000,9,-999.000,9,  12.5341,2,-999.000,9, -999.00,9, -999.00,-999.000,9,-999.000, -999.00,9, -999.00,9, -33.9992,  72.5557,-999.000,-999.000,20090418,       1202
33RR20090320,        I05,      98,          1,         27,         27,2,20090418,       1030,   -33.9994,    72.5559,       4152,   352.7,  12.4450,  35.1665,2,  35.1643,2,    243.7,2,   243.4,2,    4.25,2,    9.10,2,    0.00,2,    0.71,2,-999.000,9,-999.000,9,-999.0000,9,  -999.0,9,  -999.0,9,-999.0000,9,  -999.00,-999.000,9,-999.000,9,-999.000,9,  12.4445,2,-999.000,9, -999.00,9, -999.00,-999.000,9,-999.000, -999.00,9, -999.00,9, -33.9992,  72.5557,-999.000,-999.000,20090418,       1200
33RR20090320,        I05,      98,          1,         26,         26,2,20090418,       1030,   -33.9994,    72.5559,       4152,   400.5,  12.3571,  35.1495,2,  35.1485,2,    243.3,2,   243.2,2,    4.20,2,    9.35,2,    0.00,2,    0.72,2,-999.000,9,-999.000,9,-999.0000,9,  -999.0,9,  -999.0,9,-999.0000,9,  -999.00,-999.000,9,-999.000,9,-999.000,9,  12.3589,2,-999.000,9, -999.00,9, -999.00,-999.000,9,-999.000, -999.00,9, -999.00,9, -33.9993,  72.5558,-999.000,-999.000,20090418,       1158
33RR20090320,        I05,      98,          1,         25,         25,2,20090418,       1030,   -33.9994,    72.5559,       4152,   451.2,  12.0647,  35.0919,2,  35.0871,2,    240.4,2,   240.0,2,    4.36,2,   10.34,2,    0.00,2,    0.79,2,-999.000,9,-999.000,9,-999.0000,9,  2113.1,2,  2310.0,2,   7.9293,2,    20.00,-999.000,9,-999.000,9,-999.000,9,  12.0646,2,-999.000,9, -999.00,9, -999.00,-999.000,9,-999.000, -999.00,9, -999.00,9, -33.9994,  72.5558,-999.000,-999.000,20090418,       1156
33RR20090320,        I05,      98,          1,         24,         24,2,20090418,       1030,   -33.9994,    72.5559,       4152,   502.0,  11.6982,  35.0224,2,  35.0212,2,    235.2,2,   235.2,2,    4.73,2,   11.59,2,    0.00,2,    0.87,2,-999.000,9,-999.000,9,-999.0000,9,  -999.0,9,  -999.0,9,-999.0000,9,  -999.00,-999.000,9,-999.000,9,-999.000,9,  11.6994,2,-999.000,9, -999.00,9, -999.00,-999.000,9,-999.000, -999.00,9, -999.00,9, -33.9995,  72.5558,-999.000,-999.000,20090418,       1154
33RR20090320,        I05,      98,          1,         23,         23,2,20090418,       1030,   -33.9994,    72.5559,       4152,   600.8,  10.6923,  34.8691,2,  34.8700,2,    228.7,2,   227.4,2,    5.73,2,   14.44,2,    0.00,2,    1.05,2,-999.000,9,-999.000,9,-999.0000,9,  -999.0,9,  -999.0,9,-999.0000,9,  -999.00,-999.000,9,-999.000,9,-999.000,9,  10.6926,2,-999.000,9, -999.00,9, -999.00,-999.000,9,-999.000, -999.00,9, -999.00,9, -33.9995,  72.5558,-999.000,-999.000,20090418,       1151
33RR20090320,        I05,      98,          1,         22,         22,2,20090418,       1030,   -33.9994,    72.5559,       4152,   702.0,   9.7497,  34.7522,2,  34.7530,2,    222.5,2,   223.5,2,    6.94,2,   16.93,2,    0.00,2,    1.20,2,-999.000,9,-999.000,9,-999.0000,9,  -999.0,9,  -999.0,9,-999.0000,9,  -999.00,-999.000,9,-999.000,9,-999.000,9,   9.7427,2,-999.000,9, -999.00,9, -999.00,-999.000,9,-999.000, -999.00,9, -999.00,9, -33.9995,  72.5558,-999.000,-999.000,20090418,       1148
33RR20090320,        I05,      98,          1,         21,         21,2,20090418,       1030,   -33.9994,    72.5559,       4152,   801.4,   8.6230,  34.6239,2,  34.6257,2,    214.8,2,   212.7,2,   10.23,2,   20.52,2,    0.00,2,    1.44,2,-999.000,9,-999.000,9,-999.0000,9,  2147.5,2,  2292.3,2,   7.8106,2,    20.00,-999.000,9,-999.000,9,-999.000,9,   8.6137,2,-999.000,9, -999.00,9, -999.00,-999.000,9,-999.000, -999.00,9, -999.00,9, -33.9996,  72.5559,-999.000,-999.000,20090418,       1146
33RR20090320,        I05,      98,          1,         20,         20,2,20090418,       1030,   -33.9994,    72.5559,       4152,   900.5,   7.0614,  34.4878,2,  34.4883,2,    204.0,2,   204.4,2,   17.08,2,   25.11,2,    0.00,2,    1.76,2,-999.000,9,-999.000,9,-999.0000,9,  -999.0,9,  -999.0,9,-999.0000,9,  -999.00,-999.000,9,-999.000,9,-999.000,9,   7.0683,2,-999.000,9, -999.00,9, -999.00,-999.000,9,-999.000, -999.00,9, -999.00,9, -33.9997,  72.5560,-999.000,-999.000,20090418,       1143
33RR20090320,        I05,      98,          1,         19,         19,2,20090418,       1030,   -33.9994,    72.5559,       4152,  1003.5,   5.6151,  34.3906,2,  34.3921,2,    204.7,2,   205.0,2,   23.73,2,   28.21,2,    0.00,2,    1.98,2,-999.000,9,-999.000,9,-999.0000,9,  -999.0,9,  -999.0,9,-999.0000,9,  -999.00,-999.000,9,-999.000,9,-999.000,9,   5.6306,2,-999.000,9, -999.00,9, -999.00,-999.000,9,-999.000, -999.00,9, -999.00,9, -33.9997,  72.5559,-999.000,-999.000,20090418,       1140
33RR20090320,        I05,      98,          1,         18,         18,2,20090418,       1030,   -33.9994,    72.5559,       4152,  1102.8,   4.7962,  34.3661,2,  34.3661,2,    201.2,2,   202.1,2,   30.82,2,   30.20,2,    0.00,2,    2.13,2,-999.000,9,-999.000,9,-999.0000,9,  -999.0,9,  -999.0,9,-999.0000,9,  -999.00,-999.000,9,-999.000,9,-999.000,9,   4.7970,2,-999.000,9, -999.00,9, -999.00,-999.000,9,-999.000, -999.00,9, -999.00,9, -33.9997,  72.5560,-999.000,-999.000,20090418,       1138
33RR20090320,        I05,      98,          1,         17,         17,2,20090418,       1030,   -33.9994,    72.5559,       4152,  1203.0,   4.0626,  34.3777,2,  34.3757,2,    193.9,2,   194.8,2,   40.45,2,   31.83,2,    0.00,2,    2.27,2,-999.000,9,-999.000,9,-999.0000,9,  -999.0,5,  2305.3,2,   7.6773,2,    20.00,-999.000,9,-999.000,9,-999.000,9,   4.0668,2,-999.000,9, -999.00,9, -999.00,-999.000,9,-999.000, -999.00,9, -999.00,9, -33.9997,  72.5561,-999.000,-999.000,20090418,       1135
33RR20090320,        I05,      98,          1,         16,         16,2,20090418,       1030,   -33.9994,    72.5559,       4152,  1302.3,   3.6277,  34.4164,2,  34.4156,2,    184.9,2,   184.5,2,   49.91,2,   33.15,2,    0.00,2,    2.36,2,-999.000,9,-999.000,9,-999.0000,9,  -999.0,9,  -999.0,9,-999.0000,9,  -999.00,-999.000,9,-999.000,9,-999.000,9,   3.6294,2,-999.000,9, -999.00,9, -999.00,-999.000,9,-999.000, -999.00,9, -999.00,9, -33.9998,  72.5561,-999.000,-999.000,20090418,       1132
33RR20090320,        I05,      98,          1,         15,         15,2,20090418,       1030,   -33.9994,    72.5559,       4152,  1403.6,   3.3534,  34.4599,2,  34.4577,2,    178.3,2,   177.5,2,   57.47,2,   33.78,2,    0.00,2,    2.41,2,-999.000,9,-999.000,9,-999.0000,9,  -999.0,9,  -999.0,9,-999.0000,9,  -999.00,-999.000,9,-999.000,9,-999.000,9,   3.3559,2,-999.000,9, -999.00,9, -999.00,-999.000,9,-999.000, -999.00,9, -999.00,9, -33.9998,  72.5561,-999.000,-999.000,20090418,       1130
33RR20090320,        I05,      98,          1,         14,         14,2,20090418,       1030,   -33.9994,    72.5559,       4152,  1497.8,   3.0850,  34.5105,2,  34.5096,2,    173.0,2,   172.5,2,   64.00,2,   33.99,2,    0.00,2,    2.42,2,-999.000,9,-999.000,9,-999.0000,9,  -999.0,9,  -999.0,9,-999.0000,9,  -999.00,-999.000,9,-999.000,9,-999.000,9,   3.0848,2,-999.000,9, -999.00,9, -999.00,-999.000,9,-999.000, -999.00,9, -999.00,9, -33.9998,  72.5561,-999.000,-999.000,20090418,       1127
33RR20090320,        I05,      98,          1,         13,         13,2,20090418,       1030,   -33.9994,    72.5559,       4152,  1600.2,   2.9178,  34.5570,2,  34.5548,2,    170.3,2,   169.6,2,   69.27,2,   33.99,2,    0.00,2,    2.42,2,-999.000,9,-999.000,9,-999.0000,9,  2249.6,2,  2332.5,2,   7.6402,2,    20.00,-999.000,9,-999.000,9,-999.000,9,   2.9184,2,-999.000,9, -999.00,9, -999.00,-999.000,9,-999.000, -999.00,9, -999.00,9, -33.9999,  72.5561,-999.000,-999.000,20090418,       1124
33RR20090320,        I05,      98,          1,         12,         12,2,20090418,       1030,   -33.9994,    72.5559,       4152,  1801.1,   2.6247,  34.6401,2,  34.6395,2,    172.5,2,   173.3,2,   75.61,2,   32.99,2,    0.00,2,    2.35,2,-999.000,9,-999.000,9,-999.0000,9,  -999.0,9,  -999.0,9,-999.0000,9,  -999.00,-999.000,9,-999.000,9,-999.000,9,   2.6253,2,-999.000,9, -999.00,9, -999.00,-999.000,9,-999.000, -999.00,9, -999.00,9, -33.9999,  72.5561,-999.000,-999.000,20090418,       1120
33RR20090320,        I05,      98,          1,         11,         11,2,20090418,       1030,   -33.9994,    72.5559,       4152,  1997.9,   2.4028,  34.6941,2,  34.6932,2,    179.1,2,   179.4,2,   80.67,2,   32.04,2,    0.00,2,    2.28,2,-999.000,9,-999.000,9,-999.0000,9,  -999.0,9,  -999.0,9,-999.0000,9,  -999.00,-999.000,9,-999.000,9,-999.000,9,   2.4032,2,-999.000,9, -999.00,9, -999.00,-999.000,9,-999.000, -999.00,9, -999.00,9, -33.9998,  72.5561,-999.000,-999.000,20090418,       1115
33RR20090320,        I05,      98,          1,         10,         10,2,20090418,       1030,   -33.9994,    72.5559,       4152,  2250.1,   2.1485,  34.7228,2,  34.7227,2,    181.8,2,   182.1,2,   91.94,2,   31.88,2,    0.00,2,    2.27,2,-999.000,9,-999.000,9,-999.0000,9,  -999.0,9,  -999.0,9,-999.0000,9,  -999.00,-999.000,9,-999.000,9,-999.000,9,   2.1488,2,-999.000,9, -999.00,9, -999.00,-999.000,9,-999.000, -999.00,9, -999.00,9, -33.9998,  72.5560,-999.000,-999.000,20090418,       1110
33RR20090320,        I05,      98,          1,          9,          9,2,20090418,       1030,   -33.9994,    72.5559,       4152,  2503.8,   1.9464,  34.7283,2,  34.7283,2,    179.6,2,   179.0,2,  105.39,2,   32.50,2,    0.00,2,    2.31,2,-999.000,9,-999.000,9,-999.0000,9,  -999.0,9,  -999.0,9,-999.0000,9,  -999.00,-999.000,9,-999.000,9,-999.000,9,   1.9461,2,-999.000,9, -999.00,9, -999.00,-999.000,9,-999.000, -999.00,9, -999.00,9, -33.9997,  72.5562,-999.000,-999.000,20090418,       1105
33RR20090320,        I05,      98,          1,          8,          8,2,20090418,       1030,   -33.9994,    72.5559,       4152,  2749.4,   1.8098,  34.7280,2,  34.7269,2,    178.2,2,   178.1,2,  113.29,2,   32.98,2,    0.00,2,    2.36,2,-999.000,9,-999.000,9,-999.0000,9,  -999.0,9,  -999.0,9,-999.0000,9,  -999.00,-999.000,9,-999.000,9,-999.000,9,   1.8105,2,-999.000,9, -999.00,9, -999.00,-999.000,9,-999.000, -999.00,9, -999.00,9, -33.9997,  72.5561,-999.000,-999.000,20090418,       1059
33RR20090320,        I05,      98,          1,          7,          7,2,20090418,       1030,   -33.9994,    72.5559,       4152,  3021.4,   1.6507,  34.7253,2,  34.7256,2,    180.3,2,   180.0,2,  118.63,2,   33.08,2,    0.00,2,    2.38,2,   0.002,2,   0.003,2,   0.0000,2,  2284.2,6,  2382.2,2,   7.6778,2,    20.00,-999.000,9,-999.000,9,-999.000,9,   1.6507,2,-999.000,9, -999.00,9, -999.00,-999.000,9,-999.000, -999.00,9, -999.00,9, -33.9996,  72.5559,-999.000,-999.000,20090418,       1054
33RR20090320,        I05,      98,          1,          6,          6,2,20090418,       1030,   -33.9994,    72.5559,       4152,  3327.5,   1.4809,  34.7207,2,  34.7197,2,    184.6,2,   184.5,2,  121.18,2,   33.14,2,    0.00,2,    2.37,2,-999.000,9,-999.000,9,-999.0000,9,  -999.0,9,  -999.0,9,-999.0000,9,  -999.00,-999.000,9,-999.000,9,-999.000,9,   1.4808,2,-999.000,9, -999.00,9, -999.00,-999.000,9,-999.000, -999.00,9, -999.00,9, -33.9994,  72.5559,-999.000,-999.000,20090418,       1048
33RR20090320,        I05,      98,          1,          5,          5,2,20090418,       1030,   -33.9994,    72.5559,       4152,  3633.4,   1.2203,  34.7123,2,  34.7115,2,    192.3,2,   193.1,2,  125.23,2,   32.98,2,    0.00,2,    2.36,2,   0.007,2,   0.009,2,   0.0000,2,  -999.0,9,  -999.0,9,-999.0000,9,  -999.00,-999.000,9,-999.000,9,-999.000,9,   1.2203,2,-999.000,9, -999.00,9, -999.00,-999.000,9,-999.000, -999.00,9, -999.00,9, -33.9994,  72.5558,-999.000,-999.000,20090418,       1042
33RR20090320,        I05,      98,          1,          4,          4,2,20090418,       1030,   -33.9994,    72.5559,       4152,  3885.6,   1.1089,  34.7083,2,  34.7080,2,    196.6,2,   197.3,2,  126.50,2,   32.88,2,    0.00,2,    2.35,2,   0.009,6,   0.008,6,   0.0000,6,  -999.0,9,  -999.0,9,-999.0000,9,  -999.00,-999.000,9,-999.000,9,-999.000,9,   1.1084,2,-999.000,9, -999.00,9, -999.00,-999.000,9,-999.000, -999.00,9, -999.00,9, -33.9994,  72.5559,-999.000,-999.000,20090418,       1037
33RR20090320,        I05,      98,          1,          3,          3,2,20090418,       1030,   -33.9994,    72.5559,       4152,  3885.8,   1.1084,  34.7083,2,-999.0000,9,   -999.0,5,  -999.0,9, -999.00,9, -999.00,9, -999.00,9, -999.00,9,   0.008,6,   0.009,6,   0.0090,6,  -999.0,9,  -999.0,9,-999.0000,9,  -999.00,-999.000,9,-999.000,9,-999.000,9,   1.1084,2,-999.000,9, -999.00,9, -999.00,-999.000,9,-999.000, -999.00,9, -999.00,9, -33.9993,  72.5559,-999.000,-999.000,20090418,       1037
33RR20090320,        I05,      98,          1,          2,          2,2,20090418,       1030,   -33.9994,    72.5559,       4152,  4091.0,   1.0916,  34.7071,2,  34.7071,2,    198.1,2,   198.2,2,  126.90,2,   32.82,2,    0.00,2,    2.34,2,   0.008,2,   0.008,2,   0.0000,2,  -999.0,9,  -999.0,9,-999.0000,9,  -999.00,-999.000,9,-999.000,9,-999.000,9,   1.0921,2,-999.000,9, -999.00,9, -999.00,-999.000,9,-999.000, -999.00,9, -999.00,9, -33.9993,  72.5560,-999.000,-999.000,20090418,       1033
33RR20090320,        I05,      98,          1,          1,          1,2,20090418,       1030,   -33.9994,    72.5559,       4152,  4206.6,   1.0831,  34.7068,2,  34.7057,2,    198.7,2,   198.9,2,  126.43,2,   32.92,2,    0.00,2,    2.34,2,   0.007,2,   0.008,2,   0.0000,2,  -999.0,9,  -999.0,9,-999.0000,9,  -999.00,-999.000,9,-999.000,9,-999.000,9,   1.0831,2,-999.000,9, -999.00,9, -999.00,-999.000,9,-999.000, -999.00,9, -999.00,9, -33.9994,  72.5560,-999.000,-999.000,20090418,       1030