BOTTLE,20220814CCHSIOAMB
EXPOCODE,SECT_ID,STNNBR,CASTNO,SAMPNO,BTLNBR,BTLNBR_FLAG_W,DATE,TIME,LATITUDE,LONGITUDE,DEPTH,CTDPRS,CTDTMP,CTDSAL,CTDSAL_FLAG_W,SALNTY,SALNTY_FLAG_W,CTDOXY,CTDOXY_FLAG_W,OXYGEN,OXYGEN_FLAG_W,SILCAT,SILCAT_FLAG_W,NITRAT,NITRAT_FLAG_W,NITRIT,NITRIT_FLAG_W,PHSPHT,PHSPHT_FLAG_W,CFC-11,CFC-11_FLAG_W,CFC-12,CFC-12_FLAG_W,SF6,SF6_FLAG_W,TCARBN,TCARBN_FLAG_W,ALKALI,ALKALI_FLAG_W,PH_TOT,PH_TOT_FLAG_W,PH_TMP,TRITUM,TRITUM_FLAG_W,HELIUM,HELIUM_FLAG_W,DELHE3,DELHE3_FLAG_W,REFTMP,REFTMP_FLAG_W,DELC13,DELC13_FLAG_W,DELC14,DELC14_FLAG_W,C14ERR,NEON,NEON_FLAG_W,NEONER,DOC,DOC_FLAG_W,TDN,TDN_FLAG_W,BTL_LAT,BTL_LON,HELIER,DELHER,BTL_DATE,BTL_TIME
,,,,,,,,,,,METERS,DBAR,ITS-90,PSS-78,,PSS-78,,UMOL/KG,,UMOL/KG,,UMOL/KG,,UMOL/KG,,UMOL/KG,,UMOL/KG,,PMOL/KG,,PMOL/KG,,FMOL/KG,,UMOL/KG,,UMOL/KG,,,,DEG C,TU,,NMOL/KG,,PERCNT,,DEG C,,/MILLE,,/MILLE,,/MILLE,NMOL/KG,,NMOL/KG,UMOL/KG,,UMOL/KG,,,,NMOL/KG,PERCNT,,
33RR20090320,        I05,     176,          1,         36,         36,2,20090507,       1741,   -31.2233,   106.6329,       5079,     6.4,  19.7405,  35.9377,2,  35.9422,2,    228.7,2,   228.9,2,    1.57,2,    0.14,2,    0.00,2,    0.10,2,   2.181,6,   1.309,6,   1.1680,6,  2064.0,6,  2356.2,2,   8.1021,2,    20.00,-999.000,9,-999.000,9,-999.000,9,  19.7215,2,-999.000,9, -999.00,9, -999.00,-999.000,9,-999.000, -999.00,9, -999.00,9, -31.2232, 106.6329,-999.000,-999.000,20090507,       1950
33RR20090320,        I05,     176,          1,         35,         35,2,20090507,       1741,   -31.2233,   106.6329,       5079,    30.3,  19.4696,  35.9530,2,  35.9534,2,    230.9,2,   229.5,2,    1.38,2,    0.14,2,    0.00,2,    0.10,2,-999.000,9,-999.000,9,-999.0000,9,  2066.8,2,  2358.7,2,   8.0991,2,    20.00,-999.000,9,-999.000,9,-999.000,9,  19.4700,2,-999.000,9, -999.00,9, -999.00,-999.000,9,-999.000, -999.00,9, -999.00,9, -31.2232, 106.6329,-999.000,-999.000,20090507,       1948
33RR20090320,        I05,     176,          1,         34,         34,2,20090507,       1741,   -31.2233,   106.6329,       5079,    55.1,  19.3835,  35.9514,2,  35.9520,2,    230.9,2,   230.9,2,    1.37,2,    0.14,2,    0.00,2,    0.09,2,-999.000,9,-999.000,9,-999.0000,9,  -999.0,9,  -999.0,9,-999.0000,9,  -999.00,-999.000,9,-999.000,9,-999.000,9,  19.3817,2,-999.000,9, -999.00,9, -999.00,-999.000,9,-999.000, -999.00,9, -999.00,9, -31.2233, 106.6329,-999.000,-999.000,20090507,       1946
33RR20090320,        I05,     176,          1,         33,         33,2,20090507,       1741,   -31.2233,   106.6329,       5079,    80.2,  19.3646,  35.9553,2,  35.9560,2,    231.9,2,   229.7,2,    1.36,2,    0.15,2,    0.00,2,    0.09,2,   2.189,2,   1.317,2,   1.1800,2,  2068.5,2,  2359.1,2,   8.0972,2,    20.00,-999.000,9,-999.000,9,-999.000,9,  19.3627,2,-999.000,9, -999.00,9, -999.00,-999.000,9,-999.000, -999.00,9, -999.00,9, -31.2233, 106.6329,-999.000,-999.000,20090507,       1944
33RR20090320,        I05,     176,          1,         32,         32,2,20090507,       1741,   -31.2233,   106.6329,       5079,   105.6,  18.3878,  35.8431,2,  35.7929,2,    236.8,2,   239.9,2,    1.16,2,    0.19,2,    0.01,2,    0.13,2,-999.000,9,-999.000,9,-999.0000,9,  -999.0,9,  -999.0,9,-999.0000,9,  -999.00,-999.000,9,-999.000,9,-999.000,9,  18.3749,2,-999.000,9, -999.00,9, -999.00,-999.000,9,-999.000, -999.00,9, -999.00,9, -31.2233, 106.6329,-999.000,-999.000,20090507,       1942
33RR20090320,        I05,     176,          1,         31,         31,2,20090507,       1741,   -31.2233,   106.6329,       5079,   154.4,  15.3613,  35.5968,2,  35.5975,2,    239.4,2,   240.0,2,    0.98,2,    1.28,2,    0.03,2,    0.23,2,-999.000,9,-999.000,9,-999.0000,9,  -999.0,9,  -999.0,9,-999.0000,9,  -999.00,-999.000,9,-999.000,9,-999.000,9,  15.3502,2,-999.000,9, -999.00,9, -999.00,-999.000,9,-999.000, -999.00,9, -999.00,9, -31.2233, 106.6328,-999.000,-999.000,20090507,       1940
33RR20090320,        I05,     176,          1,         30,         30,2,20090507,       1741,   -31.2233,   106.6329,       5079,   205.1,  13.6799,  35.3412,2,  35.3371,2,    236.6,2,   234.8,2,    1.33,2,    5.18,2,    0.01,2,    0.47,2,   2.968,2,   1.701,2,   1.3900,2,  2102.6,2,  2325.4,2,   7.9778,2,    20.00,-999.000,9,-999.000,9,-999.000,9,  13.6801,2,-999.000,9, -999.00,9, -999.00,-999.000,9,-999.000, -999.00,9, -999.00,9, -31.2233, 106.6328,-999.000,-999.000,20090507,       1938
33RR20090320,        I05,     176,          1,         29,         29,2,20090507,       1741,   -31.2233,   106.6329,       5079,   255.0,  12.3130,  35.1167,2,  35.1148,2,    240.7,2,   241.2,2,    1.50,2,    7.62,2,    0.00,2,    0.62,2,-999.000,9,-999.000,9,-999.0000,9,  -999.0,9,  -999.0,9,-999.0000,9,  -999.00,-999.000,9,-999.000,9,-999.000,9,  12.3138,2,-999.000,9, -999.00,9, -999.00,-999.000,9,-999.000, -999.00,9, -999.00,9, -31.2233, 106.6328,-999.000,-999.000,20090507,       1937
33RR20090320,        I05,     176,          1,         28,         28,2,20090507,       1741,   -31.2233,   106.6329,       5079,   304.4,  11.4381,  34.9788,2,  34.9772,2,    244.7,2,   244.5,2,    1.85,2,    9.56,2,    0.00,2,    0.74,2,-999.000,9,-999.000,9,-999.0000,9,  -999.0,9,  -999.0,9,-999.0000,9,  -999.00,-999.000,9,-999.000,9,-999.000,9,  11.4516,2,-999.000,9, -999.00,9, -999.00,-999.000,9,-999.000, -999.00,9, -999.00,9, -31.2233, 106.6328,-999.000,-999.000,20090507,       1934
33RR20090320,        I05,     176,          1,         27,         27,2,20090507,       1741,   -31.2233,   106.6329,       5079,   354.6,  10.4171,  34.8157,2,  34.8122,2,    245.7,2,   244.8,2,    2.58,2,   12.44,2,    0.00,2,    0.92,2,   3.528,2,   1.967,2,   1.4820,2,  2118.5,2,  2296.8,2,   7.8904,2,    20.00,-999.000,9,-999.000,9,-999.000,9,  10.4229,2,-999.000,9, -999.00,9, -999.00,-999.000,9,-999.000, -999.00,9, -999.00,9, -31.2232, 106.6328,-999.000,-999.000,20090507,       1932
33RR20090320,        I05,     176,          1,         26,         26,2,20090507,       1741,   -31.2233,   106.6329,       5079,   404.5,   9.9732,  34.7624,2,  34.7634,2,    243.7,2,   243.7,2,    3.30,2,   14.00,2,    0.00,2,    1.02,2,-999.000,9,-999.000,9,-999.0000,9,  -999.0,9,  -999.0,9,-999.0000,9,  -999.00,-999.000,9,-999.000,9,-999.000,9,   9.9769,2,-999.000,9, -999.00,9, -999.00,-999.000,9,-999.000, -999.00,9, -999.00,9, -31.2232, 106.6328,-999.000,-999.000,20090507,       1931
33RR20090320,        I05,     176,          1,         25,         25,2,20090507,       1741,   -31.2233,   106.6329,       5079,   504.3,   9.4533,  34.7007,2,  34.6983,2,    240.5,2,   240.3,2,    4.02,2,   15.83,2,    0.00,2,    1.13,2,-999.000,9,-999.000,9,-999.0000,9,  -999.0,9,  -999.0,9,-999.0000,9,  -999.00,-999.000,9,-999.000,9,-999.000,9,   9.4535,2,-999.000,9, -999.00,9, -999.00,-999.000,9,-999.000, -999.00,9, -999.00,9, -31.2232, 106.6328,-999.000,-999.000,20090507,       1928
33RR20090320,        I05,     176,          1,         24,         24,2,20090507,       1741,   -31.2233,   106.6329,       5079,   605.6,   8.9177,  34.6299,2,  34.6305,2,    240.7,2,   240.0,2,    5.12,2,   17.43,2,    0.00,2,    1.23,2,-999.000,9,-999.000,9,-999.0000,9,  -999.0,9,  -999.0,9,-999.0000,9,  -999.00,-999.000,9,-999.000,9,-999.000,9,   8.9149,2,-999.000,9, -999.00,9, -999.00,-999.000,9,-999.000, -999.00,9, -999.00,9, -31.2233, 106.6329,-999.000,-999.000,20090507,       1925
33RR20090320,        I05,     176,          1,         23,         23,2,20090507,       1741,   -31.2233,   106.6329,       5079,   705.2,   8.1096,  34.5395,2,  34.5391,2,    221.3,2,   221.3,2,    8.78,2,   21.16,2,    0.00,2,    1.47,2,   3.132,2,   1.613,2,   0.7690,2,  2146.1,2,  2287.6,2,   7.8015,2,    20.00,-999.000,9,-999.000,9,-999.000,9,   8.0855,2,-999.000,9, -999.00,9, -999.00,-999.000,9,-999.000, -999.00,9, -999.00,9, -31.2233, 106.6329,-999.000,-999.000,20090507,       1922
33RR20090320,        I05,     176,          1,         22,         22,2,20090507,       1741,   -31.2233,   106.6329,       5079,   805.1,   6.4750,  34.4326,2,  34.4356,2,    199.7,2,   199.2,2,   18.52,2,   26.68,2,    0.00,2,    1.85,2,-999.000,9,-999.000,9,-999.0000,9,  -999.0,9,  -999.0,9,-999.0000,9,  -999.00,-999.000,9,-999.000,9,-999.000,9,   6.4893,2,-999.000,9, -999.00,9, -999.00,-999.000,9,-999.000, -999.00,9, -999.00,9, -31.2232, 106.6329,-999.000,-999.000,20090507,       1919
33RR20090320,        I05,     176,          1,         21,         21,2,20090507,       1741,   -31.2233,   106.6329,       5079,   905.1,   4.9784,  34.3867,2,  34.3879,2,    193.5,2,   193.7,2,   31.45,2,   30.15,2,    0.00,2,    2.12,2,-999.000,9,-999.000,9,-999.0000,9,  -999.0,9,  -999.0,9,-999.0000,9,  -999.00,-999.000,9,-999.000,9,-999.000,9,   4.9799,2,-999.000,9, -999.00,9, -999.00,-999.000,9,-999.000, -999.00,9, -999.00,9, -31.2232, 106.6329,-999.000,-999.000,20090507,       1916
33RR20090320,        I05,     176,          1,         20,         20,2,20090507,       1741,   -31.2233,   106.6329,       5079,  1005.1,   4.1887,  34.4027,2,  34.4023,2,    184.2,2,   183.6,2,   43.89,2,   32.23,2,    0.00,2,    2.28,2,-999.000,9,-999.000,9,-999.0000,9,  -999.0,9,  -999.0,9,-999.0000,9,  -999.00,-999.000,9,-999.000,9,-999.000,9,   4.1879,2,-999.000,9, -999.00,9, -999.00,-999.000,9,-999.000, -999.00,9, -999.00,9, -31.2232, 106.6329,-999.000,-999.000,20090507,       1913
33RR20090320,        I05,     176,          1,         19,         19,2,20090507,       1741,   -31.2233,   106.6329,       5079,  1105.7,   3.7266,  34.4458,2,  34.4461,2,    169.7,2,   172.3,2,   55.82,2,   33.58,2,    0.00,2,    2.40,2,   0.605,2,   0.288,2,   0.0970,2,  2233.8,2,  2320.3,2,   7.6468,2,    20.00,-999.000,9,-999.000,9,-999.000,9,   3.7318,2,-999.000,9, -999.00,9, -999.00,-999.000,9,-999.000, -999.00,9, -999.00,9, -31.2232, 106.6330,-999.000,-999.000,20090507,       1910
33RR20090320,        I05,     176,          1,         18,         18,2,20090507,       1741,   -31.2233,   106.6329,       5079,  1205.7,   3.4631,  34.4874,2,  34.4888,2,    163.9,2,   162.5,2,   64.80,2,   34.30,2,    0.00,2,    2.47,2,-999.000,9,-999.000,9,-999.0000,9,  -999.0,9,  -999.0,9,-999.0000,9,  -999.00,-999.000,9,-999.000,9,-999.000,9,   3.4657,2,-999.000,9, -999.00,9, -999.00,-999.000,9,-999.000, -999.00,9, -999.00,9, -31.2233, 106.6330,-999.000,-999.000,20090507,       1907
33RR20090320,        I05,     176,          1,         17,         17,2,20090507,       1741,   -31.2233,   106.6329,       5079,  1306.4,   3.2564,  34.5292,2,  34.5301,2,    157.9,2,   157.6,2,   71.53,2,   34.58,2,    0.00,2,    2.50,2,-999.000,9,-999.000,9,-999.0000,9,  -999.0,9,  -999.0,9,-999.0000,9,  -999.00,-999.000,9,-999.000,9,-999.000,9,   3.2558,2,-999.000,9, -999.00,9, -999.00,-999.000,9,-999.000, -999.00,9, -999.00,9, -31.2232, 106.6330,-999.000,-999.000,20090507,       1904
33RR20090320,        I05,     176,          1,         16,         16,2,20090507,       1741,   -31.2233,   106.6329,       5079,  1406.6,   3.1213,  34.5764,2,  34.5766,2,    152.9,2,   152.1,2,   78.66,2,   34.80,2,    0.00,2,    2.52,2,-999.000,9,-999.000,9,-999.0000,9,  -999.0,9,  -999.0,9,-999.0000,9,  -999.00,-999.000,9,-999.000,9,-999.000,9,   3.1248,2,-999.000,9, -999.00,9, -999.00,-999.000,9,-999.000, -999.00,9, -999.00,9, -31.2232, 106.6330,-999.000,-999.000,20090507,       1901
33RR20090320,        I05,     176,          1,         15,         15,2,20090507,       1741,   -31.2233,   106.6329,       5079,  1607.5,   2.8178,  34.6413,2,  34.6420,2,    153.8,2,   153.1,2,   87.88,2,   34.35,2,    0.00,2,    2.49,2,   0.022,2,   0.012,2,   0.0000,2,  2271.2,2,  2357.3,2,   7.6333,2,    20.00,-999.000,9,-999.000,9,-999.000,9,   2.8181,2,-999.000,9, -999.00,9, -999.00,-999.000,9,-999.000, -999.00,9, -999.00,9, -31.2232, 106.6330,-999.000,-999.000,20090507,       1857
33RR20090320,        I05,     176,          1,         14,         14,2,20090507,       1741,   -31.2233,   106.6329,       5079,  1808.9,   2.5750,  34.6856,2,  34.6867,2,    157.0,2,   156.6,2,   96.55,2,   33.89,2,    0.00,2,    2.45,2,-999.000,9,-999.000,9,-999.0000,9,  -999.0,9,  -999.0,9,-999.0000,9,  -999.00,-999.000,9,-999.000,9,-999.000,9,   2.5757,2,-999.000,9, -999.00,9, -999.00,-999.000,9,-999.000, -999.00,9, -999.00,9, -31.2231, 106.6330,-999.000,-999.000,20090507,       1852
33RR20090320,        I05,     176,          1,         13,         13,2,20090507,       1741,   -31.2233,   106.6329,       5079,  2010.4,   2.3646,  34.7087,2,  34.7093,2,    162.3,2,   162.3,2,  101.45,2,   33.44,2,    0.00,2,    2.41,2,-999.000,9,-999.000,9,-999.0000,9,  2278.9,2,  2370.2,2,   7.6520,2,    20.00,-999.000,9,-999.000,9,-999.000,9,   2.3642,2,-999.000,9, -999.00,9, -999.00,-999.000,9,-999.000, -999.00,9, -999.00,9, -31.2231, 106.6330,-999.000,-999.000,20090507,       1847
33RR20090320,        I05,     176,          1,         12,         12,2,20090507,       1741,   -31.2233,   106.6329,       5079,  2261.1,   2.1303,  34.7235,2,  34.7242,2,    168.0,2,   167.6,2,  106.54,2,   33.10,2,    0.00,2,    2.38,2,-999.000,9,-999.000,9,-999.0000,9,  -999.0,9,  -999.0,9,-999.0000,9,  -999.00,-999.000,9,-999.000,9,-999.000,9,   2.1308,2,-999.000,9, -999.00,9, -999.00,-999.000,9,-999.000, -999.00,9, -999.00,9, -31.2231, 106.6329,-999.000,-999.000,20090507,       1842
33RR20090320,        I05,     176,          1,         11,         11,2,20090507,       1741,   -31.2233,   106.6329,       5079,  2514.7,   1.9373,  34.7288,2,  34.7295,2,    173.7,2,   173.9,2,  110.13,2,   32.65,2,    0.00,2,    2.36,2,   0.003,2,   0.002,2,   0.0000,2,  2279.0,2,  2376.5,2,   7.6688,2,    20.00,-999.000,9,-999.000,9,-999.000,9,   1.9385,2,-999.000,9, -999.00,9, -999.00,-999.000,9,-999.000, -999.00,9, -999.00,9, -31.2231, 106.6330,-999.000,-999.000,20090507,       1836
33RR20090320,        I05,     176,          1,         10,         10,2,20090507,       1741,   -31.2233,   106.6329,       5079,  2767.8,   1.7659,  34.7303,2,  34.7307,2,    179.5,2,   179.7,2,  112.00,2,   32.59,2,    0.00,2,    2.33,2,-999.000,9,-999.000,9,-999.0000,9,  -999.0,9,  -999.0,9,-999.0000,9,  -999.00,-999.000,9,-999.000,9,-999.000,9,   1.7654,2,-999.000,9, -999.00,9, -999.00,-999.000,9,-999.000, -999.00,9, -999.00,9, -31.2231, 106.6329,-999.000,-999.000,20090507,       1831
33RR20090320,        I05,     176,          1,          9,          9,2,20090507,       1741,   -31.2233,   106.6329,       5079,  3020.2,   1.6157,  34.7300,2,  34.7308,2,    185.1,2,   184.8,2,  114.45,2,   32.37,2,    0.00,2,    2.31,2,-999.000,9,-999.000,9,-999.0000,9,  -999.0,9,  -999.0,9,-999.0000,9,  -999.00,-999.000,9,-999.000,9,-999.000,9,   1.6162,2,-999.000,9, -999.00,9, -999.00,-999.000,9,-999.000, -999.00,9, -999.00,9, -31.2232, 106.6329,-999.000,-999.000,20090507,       1826
33RR20090320,        I05,     176,          1,          8,          8,2,20090507,       1741,   -31.2233,   106.6329,       5079,  3323.8,   1.4400,  34.7259,2,  34.7265,2,    189.5,2,   189.1,2,  118.03,2,   32.42,2,    0.00,2,    2.30,2,   0.005,2,   0.002,2,   0.0000,2,  2275.4,2,  2380.5,2,   7.6832,2,    20.00,-999.000,9,-999.000,9,-999.000,9,   1.4400,2,-999.000,9, -999.00,9, -999.00,-999.000,9,-999.000, -999.00,9, -999.00,9, -31.2232, 106.6329,-999.000,-999.000,20090507,       1819
33RR20090320,        I05,     176,          1,          7,          7,2,20090507,       1741,   -31.2233,   106.6329,       5079,  3628.9,   1.3020,  34.7222,2,  34.7231,2,    194.0,2,   193.6,2,  119.72,2,   32.36,2,    0.00,2,    2.29,2,-999.000,9,-999.000,9,-999.0000,9,  -999.0,9,  -999.0,9,-999.0000,9,  -999.00,-999.000,9,-999.000,9,-999.000,9,   1.3022,2,-999.000,9, -999.00,9, -999.00,-999.000,9,-999.000, -999.00,9, -999.00,9, -31.2232, 106.6329,-999.000,-999.000,20090507,       1813
33RR20090320,        I05,     176,          1,          6,          6,2,20090507,       1741,   -31.2233,   106.6329,       5079,  3933.8,   1.2051,  34.7180,2,  34.7180,2,    196.7,2,   195.8,2,  123.12,2,   32.52,2,    0.00,2,    2.30,2,   0.007,2,   0.004,2,   0.0000,2,  2276.0,2,  2381.5,2,   7.6892,2,    20.00,-999.000,9,-999.000,9,-999.000,9,   1.2054,2,-999.000,9, -999.00,9, -999.00,-999.000,9,-999.000, -999.00,9, -999.00,9, -31.2233, 106.6329,-999.000,-999.000,20090507,       1807
33RR20090320,        I05,     176,          1,          5,          5,2,20090507,       1741,   -31.2233,   106.6329,       5079,  4238.9,   1.1192,  34.7143,2,  34.7156,2,    200.2,2,   201.0,2,  123.47,2,   32.30,2,    0.00,2,    2.28,2,-999.000,9,-999.000,9,-999.0000,9,  -999.0,9,  -999.0,9,-999.0000,9,  -999.00,-999.000,9,-999.000,9,-999.000,9,   1.1186,2,-999.000,9, -999.00,9, -999.00,-999.000,9,-999.000, -999.00,9, -999.00,9, -31.2233, 106.6328,-999.000,-999.000,20090507,       1801
33RR20090320,        I05,     176,          1,          4,          4,2,20090507,       1741,   -31.2233,   106.6329,       5079,  4544.9,   1.0465,  34.7112,2,  34.7118,2,    205.1,2,   204.7,2,  123.06,2,   32.24,2,    0.00,2,    2.27,2,   0.023,2,   0.014,2,   0.0000,2,  -999.0,9,  -999.0,9,-999.0000,9,  -999.00,-999.000,9,-999.000,9,-999.000,9,   1.0471,2,-999.000,9, -999.00,9, -999.00,-999.000,9,-999.000, -999.00,9, -999.00,9, -31.2232, 106.6328,-999.000,-999.000,20090507,       1755
33RR20090320,        I05,     176,          1,          3,          3,2,20090507,       1741,   -31.2233,   106.6329,       5079,  4952.0,   1.0267,  34.7084,2,  34.7096,2,    207.4,2,   206.5,2,  123.80,2,   32.24,2,    0.00,2,    2.27,2,   0.036,6,   0.020,6,   0.0000,6,  2268.3,2,  2374.1,2,   7.6878,2,    20.00,-999.000,9,-999.000,9,-999.000,9,   1.0264,2,-999.000,9, -999.00,9, -999.00,-999.000,9,-999.000, -999.00,9, -999.00,9, -31.2233, 106.6329,-999.000,-999.000,20090507,       1747
33RR20090320,        I05,     176,          1,          2,          2,2,20090507,       1741,   -31.2233,   106.6329,       5079,  5054.2,   1.0320,  34.7080,2,  34.7086,2,    207.7,2,   207.2,2,  123.96,2,   32.18,2,    0.00,2,    2.26,2,-999.000,9,-999.000,9,-999.0000,9,  -999.0,9,  -999.0,9,-999.0000,9,  -999.00,-999.000,9,-999.000,9,-999.000,9,   1.0317,2,-999.000,9, -999.00,9, -999.00,-999.000,9,-999.000, -999.00,9, -999.00,9, -31.2233, 106.6329,-999.000,-999.000,20090507,       1744
33RR20090320,        I05,     176,          1,          1,          1,2,20090507,       1741,   -31.2233,   106.6329,       5079,  5160.5,   1.0398,  34.7079,2,  34.7090,3,    206.8,2,   207.4,2,  123.75,2,   32.24,2,    0.00,2,    2.27,2,   0.043,2,   0.023,2,   0.0000,2,  2268.6,6,  2374.3,2,   7.6875,2,    20.00,-999.000,9,-999.000,9,-999.000,9,   1.0402,2,-999.000,9, -999.00,9, -999.00,-999.000,9,-999.000, -999.00,9, -999.00,9, -31.2233, 106.6329,-999.000,-999.000,20090507,       1741