BOTTLE,20220814CCHSIOAMB
EXPOCODE,SECT_ID,STNNBR,CASTNO,SAMPNO,BTLNBR,BTLNBR_FLAG_W,DATE,TIME,LATITUDE,LONGITUDE,DEPTH,CTDPRS,CTDTMP,CTDSAL,CTDSAL_FLAG_W,SALNTY,SALNTY_FLAG_W,CTDOXY,CTDOXY_FLAG_W,OXYGEN,OXYGEN_FLAG_W,SILCAT,SILCAT_FLAG_W,NITRAT,NITRAT_FLAG_W,NITRIT,NITRIT_FLAG_W,PHSPHT,PHSPHT_FLAG_W,CFC-11,CFC-11_FLAG_W,CFC-12,CFC-12_FLAG_W,SF6,SF6_FLAG_W,TCARBN,TCARBN_FLAG_W,ALKALI,ALKALI_FLAG_W,PH_TOT,PH_TOT_FLAG_W,PH_TMP,TRITUM,TRITUM_FLAG_W,HELIUM,HELIUM_FLAG_W,DELHE3,DELHE3_FLAG_W,REFTMP,REFTMP_FLAG_W,DELC13,DELC13_FLAG_W,DELC14,DELC14_FLAG_W,C14ERR,NEON,NEON_FLAG_W,NEONER,DOC,DOC_FLAG_W,TDN,TDN_FLAG_W,BTL_LAT,BTL_LON,HELIER,DELHER,BTL_DATE,BTL_TIME
,,,,,,,,,,,METERS,DBAR,ITS-90,PSS-78,,PSS-78,,UMOL/KG,,UMOL/KG,,UMOL/KG,,UMOL/KG,,UMOL/KG,,UMOL/KG,,PMOL/KG,,PMOL/KG,,FMOL/KG,,UMOL/KG,,UMOL/KG,,,,DEG C,TU,,NMOL/KG,,PERCNT,,DEG C,,/MILLE,,/MILLE,,/MILLE,NMOL/KG,,NMOL/KG,UMOL/KG,,UMOL/KG,,,,NMOL/KG,PERCNT,,
33RR20090320,        I05,     164,          1,         36,         36,2,20090504,       1802,   -32.0051,   102.0827,       4466,     7.2,  18.7437,  35.9400,2,  35.9398,2,    233.6,2,   233.4,2,    1.50,2,    0.03,2,    0.00,2,    0.13,2,-999.000,9,-999.000,9,-999.0000,9,  2081.3,2,  2361.0,2,   8.0781,2,    20.00,-999.000,9,-999.000,9,-999.000,9,  18.7416,2,-999.000,9, -999.00,9, -999.00,-999.000,9,-999.000, -999.00,9, -999.00,9, -32.0052, 102.0826,-999.000,-999.000,20090504,       2002
33RR20090320,        I05,     164,          1,         35,         35,2,20090504,       1802,   -32.0051,   102.0827,       4466,    30.9,  18.7339,  35.9574,2,  35.9556,2,    234.2,2,   233.4,2,    1.46,2,    0.03,2,    0.00,2,    0.12,2,-999.000,9,-999.000,9,-999.0000,9,  -999.0,9,  -999.0,9,-999.0000,9,  -999.00,-999.000,9,-999.000,9,-999.000,9,  18.7298,2,-999.000,9, -999.00,9, -999.00,-999.000,9,-999.000, -999.00,9, -999.00,9, -32.0052, 102.0826,-999.000,-999.000,20090504,       2000
33RR20090320,        I05,     164,          1,         34,         34,2,20090504,       1802,   -32.0051,   102.0827,       4466,    55.6,  18.5851,  35.9402,2,  35.9404,2,    233.7,2,   234.0,2,    1.42,2,    0.03,2,    0.00,2,    0.12,2,-999.000,9,-999.000,9,-999.0000,9,  2080.8,2,  2362.1,2,   8.0777,2,    20.00,-999.000,9,-999.000,9,-999.000,9,  18.5829,2,-999.000,9, -999.00,9, -999.00,-999.000,9,-999.000, -999.00,9, -999.00,9, -32.0053, 102.0826,-999.000,-999.000,20090504,       1958
33RR20090320,        I05,     164,          1,         33,         33,2,20090504,       1802,   -32.0051,   102.0827,       4466,    80.7,  16.6383,  35.7343,2,  35.7569,2,    247.7,2,   247.3,2,    1.38,2,    0.03,2,    0.00,2,    0.14,2,-999.000,9,-999.000,9,-999.0000,9,  -999.0,9,  -999.0,9,-999.0000,9,  -999.00,-999.000,9,-999.000,9,-999.000,9,  16.6560,2,-999.000,9, -999.00,9, -999.00,-999.000,9,-999.000, -999.00,9, -999.00,9, -32.0053, 102.0826,-999.000,-999.000,20090504,       1956
33RR20090320,        I05,     164,          1,         32,         32,2,20090504,       1802,   -32.0051,   102.0827,       4466,   104.7,  15.2587,  35.6008,2,  35.6021,2,    242.7,2,   242.7,2,    1.52,2,    1.11,2,    0.14,2,    0.24,2,-999.000,9,-999.000,9,-999.0000,9,  2091.1,2,  2340.8,2,   8.0265,2,    20.00,-999.000,9,-999.000,9,-999.000,9,  15.2431,2,-999.000,9, -999.00,9, -999.00,-999.000,9,-999.000, -999.00,9, -999.00,9, -32.0053, 102.0826,-999.000,-999.000,20090504,       1954
33RR20090320,        I05,     164,          1,         31,         31,2,20090504,       1802,   -32.0051,   102.0827,       4466,   154.8,  13.7473,  35.3880,2,  35.3859,2,    238.3,2,   237.3,2,    1.66,2,    4.90,2,    0.01,2,    0.45,2,-999.000,9,-999.000,9,-999.0000,9,  -999.0,9,  -999.0,9,-999.0000,9,  -999.00,-999.000,9,-999.000,9,-999.000,9,  13.7464,2,-999.000,9, -999.00,9, -999.00,-999.000,9,-999.000, -999.00,9, -999.00,9, -32.0053, 102.0826,-999.000,-999.000,20090504,       1952
33RR20090320,        I05,     164,          1,         30,         30,2,20090504,       1802,   -32.0051,   102.0827,       4466,   206.3,  12.9231,  35.2495,2,  35.2527,2,    239.8,2,   239.4,2,    1.99,2,    6.39,2,    0.00,2,    0.55,2,-999.000,9,-999.000,9,-999.0000,9,  -999.0,9,  -999.0,9,-999.0000,9,  -999.00,-999.000,9,-999.000,9,-999.000,9,  12.9302,2,-999.000,9, -999.00,9, -999.00,-999.000,9,-999.000, -999.00,9, -999.00,9, -32.0053, 102.0826,-999.000,-999.000,20090504,       1950
33RR20090320,        I05,     164,          1,         29,         29,2,20090504,       1802,   -32.0051,   102.0827,       4466,   253.8,  12.1767,  35.1169,2,  35.1202,2,    242.0,2,   241.1,2,    2.13,2,    7.98,2,    0.00,2,    0.64,2,-999.000,9,-999.000,9,-999.0000,9,  2110.5,2,  2316.5,2,   7.9384,2,    20.00,-999.000,9,-999.000,9,-999.000,9,  12.1425,2,-999.000,9, -999.00,9, -999.00,-999.000,9,-999.000, -999.00,9, -999.00,9, -32.0053, 102.0825,-999.000,-999.000,20090504,       1948
33RR20090320,        I05,     164,          1,         28,         28,2,20090504,       1802,   -32.0051,   102.0827,       4466,   306.2,  11.2526,  34.9549,2,  34.9574,2,    241.5,2,   242.2,2,    2.64,2,   10.21,2,    0.00,2,    0.78,2,-999.000,9,-999.000,9,-999.0000,9,  -999.0,9,  -999.0,9,-999.0000,9,  -999.00,-999.000,9,-999.000,9,-999.000,9,  11.2584,2,-999.000,9, -999.00,9, -999.00,-999.000,9,-999.000, -999.00,9, -999.00,9, -32.0053, 102.0826,-999.000,-999.000,20090504,       1946
33RR20090320,        I05,     164,          1,         27,         27,2,20090504,       1802,   -32.0051,   102.0827,       4466,   353.6,  10.4916,  34.8342,2,  34.8343,2,    241.8,2,   242.3,2,    3.14,2,   12.38,2,    0.00,2,    0.92,2,-999.000,9,-999.000,9,-999.0000,9,  -999.0,9,  -999.0,9,-999.0000,9,  -999.00,-999.000,9,-999.000,9,-999.000,9,  10.4892,2,-999.000,9, -999.00,9, -999.00,-999.000,9,-999.000, -999.00,9, -999.00,9, -32.0053, 102.0826,-999.000,-999.000,20090504,       1944
33RR20090320,        I05,     164,          1,         26,         26,2,20090504,       1802,   -32.0051,   102.0827,       4466,   404.3,   9.9720,  34.7675,2,  34.7686,2,    241.7,2,   242.3,2,    3.84,2,   14.03,2,    0.00,2,    1.02,2,-999.000,9,-999.000,9,-999.0000,9,  -999.0,9,  -999.0,9,-999.0000,9,  -999.00,-999.000,9,-999.000,9,-999.000,9,   9.9666,2,-999.000,9, -999.00,9, -999.00,-999.000,9,-999.000, -999.00,9, -999.00,9, -32.0052, 102.0826,-999.000,-999.000,20090504,       1942
33RR20090320,        I05,     164,          1,         25,         25,2,20090504,       1802,   -32.0051,   102.0827,       4466,   455.5,   9.6649,  34.7295,2,  34.7301,2,    240.5,2,   240.2,2,    4.17,2,   15.14,2,    0.00,2,    1.08,2,-999.000,9,-999.000,9,-999.0000,9,  -999.0,9,  -999.0,9,-999.0000,9,  -999.00,-999.000,9,-999.000,9,-999.000,9,   9.6641,2,-999.000,9, -999.00,9, -999.00,-999.000,9,-999.000, -999.00,9, -999.00,9, -32.0052, 102.0827,-999.000,-999.000,20090504,       1940
33RR20090320,        I05,     164,          1,         24,         24,2,20090504,       1802,   -32.0051,   102.0827,       4466,   504.6,   9.3777,  34.6918,2,  34.6932,2,    239.3,2,   239.5,2,    4.49,2,   16.05,2,    0.00,2,    1.14,2,-999.000,9,-999.000,9,-999.0000,9,  2130.5,2,  2294.3,2,   7.8529,2,    20.00,-999.000,9,-999.000,9,-999.000,9,   9.3771,2,-999.000,9, -999.00,9, -999.00,-999.000,9,-999.000, -999.00,9, -999.00,9, -32.0052, 102.0827,-999.000,-999.000,20090504,       1938
33RR20090320,        I05,     164,          1,         23,         23,2,20090504,       1802,   -32.0051,   102.0827,       4466,   603.7,   8.8746,  34.6245,2,  34.6244,2,    237.1,2,   236.8,2,    5.55,2,   17.80,2,    0.00,2,    1.26,2,-999.000,9,-999.000,9,-999.0000,9,  -999.0,9,  -999.0,9,-999.0000,9,  -999.00,-999.000,9,-999.000,9,-999.000,9,   8.8687,2,-999.000,9, -999.00,9, -999.00,-999.000,9,-999.000, -999.00,9, -999.00,9, -32.0052, 102.0827,-999.000,-999.000,20090504,       1935
33RR20090320,        I05,     164,          1,         22,         22,2,20090504,       1802,   -32.0051,   102.0827,       4466,   705.2,   7.9336,  34.5274,2,  34.5289,2,    217.5,2,   216.6,2,   10.11,2,   21.95,2,    0.00,2,    1.52,2,-999.000,9,-999.000,9,-999.0000,9,  -999.0,9,  -999.0,9,-999.0000,9,  -999.00,-999.000,9,-999.000,9,-999.000,9,   7.9440,2,-999.000,9, -999.00,9, -999.00,-999.000,9,-999.000, -999.00,9, -999.00,9, -32.0052, 102.0828,-999.000,-999.000,20090504,       1932
33RR20090320,        I05,     164,          1,         21,         21,2,20090504,       1802,   -32.0051,   102.0827,       4466,   804.1,   6.3912,  34.4316,2,  34.4325,2,    198.9,2,   198.2,2,   19.65,2,   27.03,2,    0.00,2,    1.88,2,-999.000,9,-999.000,9,-999.0000,9,  -999.0,9,  -999.0,9,-999.0000,9,  -999.00,-999.000,9,-999.000,9,-999.000,9,   6.3921,2,-999.000,9, -999.00,9, -999.00,-999.000,9,-999.000, -999.00,9, -999.00,9, -32.0052, 102.0828,-999.000,-999.000,20090504,       1929
33RR20090320,        I05,     164,          1,         20,         20,2,20090504,       1802,   -32.0051,   102.0827,       4466,   904.6,   4.9704,  34.3854,2,  34.3858,2,    193.0,2,   193.1,2,   31.84,2,   30.26,2,    0.00,2,    2.14,2,-999.000,9,-999.000,9,-999.0000,9,  -999.0,9,  -999.0,9,-999.0000,9,  -999.00,-999.000,9,-999.000,9,-999.000,9,   4.9797,2,-999.000,9, -999.00,9, -999.00,-999.000,9,-999.000, -999.00,9, -999.00,9, -32.0052, 102.0828,-999.000,-999.000,20090504,       1927
33RR20090320,        I05,     164,          1,         19,         19,2,20090504,       1802,   -32.0051,   102.0827,       4466,  1004.6,   4.1761,  34.3977,2,  34.3972,2,    184.8,2,   184.9,2,   43.15,2,   32.13,2,    0.00,2,    2.29,2,-999.000,9,-999.000,9,-999.0000,9,  -999.0,9,  -999.0,9,-999.0000,9,  -999.00,-999.000,9,-999.000,9,-999.000,9,   4.1810,2,-999.000,9, -999.00,9, -999.00,-999.000,9,-999.000, -999.00,9, -999.00,9, -32.0052, 102.0828,-999.000,-999.000,20090504,       1924
33RR20090320,        I05,     164,          1,         18,         18,2,20090504,       1802,   -32.0051,   102.0827,       4466,  1104.9,   3.8351,  34.4485,2,  34.4487,2,    174.6,2,   169.3,2,   56.20,2,   33.64,2,    0.00,2,    2.41,2,-999.000,9,-999.000,9,-999.0000,9,  -999.0,9,  -999.0,9,-999.0000,9,  -999.00,-999.000,9,-999.000,9,-999.000,9,   3.8359,2,-999.000,9, -999.00,9, -999.00,-999.000,9,-999.000, -999.00,9, -999.00,9, -32.0051, 102.0828,-999.000,-999.000,20090504,       1921
33RR20090320,        I05,     164,          1,         17,         17,2,20090504,       1802,   -32.0051,   102.0827,       4466,  1205.9,   3.5924,  34.4896,2,  34.4905,2,    159.7,2,   159.9,2,   64.79,2,   34.29,2,    0.00,2,    2.48,2,-999.000,9,-999.000,9,-999.0000,9,  -999.0,9,  -999.0,9,-999.0000,9,  -999.00,-999.000,9,-999.000,9,-999.000,9,   3.5913,2,-999.000,9, -999.00,9, -999.00,-999.000,9,-999.000, -999.00,9, -999.00,9, -32.0051, 102.0828,-999.000,-999.000,20090504,       1918
33RR20090320,        I05,     164,          1,         16,         16,2,20090504,       1802,   -32.0051,   102.0827,       4466,  1305.0,   3.3804,  34.5292,2,  34.5294,2,    154.4,2,   154.5,2,   71.73,2,   34.78,2,    0.00,2,    2.51,2,-999.000,9,-999.000,9,-999.0000,9,  -999.0,9,  -999.0,9,-999.0000,9,  -999.00,-999.000,9,-999.000,9,-999.000,9,   3.3801,2,-999.000,9, -999.00,9, -999.00,-999.000,9,-999.000, -999.00,9, -999.00,9, -32.0050, 102.0827,-999.000,-999.000,20090504,       1915
33RR20090320,        I05,     164,          1,         15,         15,2,20090504,       1802,   -32.0051,   102.0827,       4466,  1408.0,   3.1965,  34.5612,2,  34.5618,2,    153.4,2,   152.9,2,   76.40,2,   34.77,2,    0.00,2,    2.52,2,-999.000,9,-999.000,9,-999.0000,9,  -999.0,9,  -999.0,9,-999.0000,9,  -999.00,-999.000,9,-999.000,9,-999.000,9,   3.1963,2,-999.000,9, -999.00,9, -999.00,-999.000,9,-999.000, -999.00,9, -999.00,9, -32.0050, 102.0827,-999.000,-999.000,20090504,       1912
33RR20090320,        I05,     164,          1,         14,         14,2,20090504,       1802,   -32.0051,   102.0827,       4466,  1507.0,   3.0541,  34.5934,2,  34.5936,2,    152.5,2,   152.4,2,   80.72,2,   34.67,2,    0.00,2,    2.51,2,-999.000,9,-999.000,9,-999.0000,9,  2266.5,2,  2349.2,2,   7.6258,2,    20.00,-999.000,9,-999.000,9,-999.000,9,   3.0537,2,-999.000,9, -999.00,9, -999.00,-999.000,9,-999.000, -999.00,9, -999.00,9, -32.0049, 102.0826,-999.000,-999.000,20090504,       1909
33RR20090320,        I05,     164,          1,         13,         13,2,20090504,       1802,   -32.0051,   102.0827,       4466,  1607.8,   2.9053,  34.6234,2,  34.6239,2,    153.7,2,   153.1,2,   85.04,2,   34.50,2,    0.00,2,    2.49,2,-999.000,9,-999.000,9,-999.0000,9,  -999.0,9,  -999.0,9,-999.0000,9,  -999.00,-999.000,9,-999.000,9,-999.000,9,   2.9063,2,-999.000,9, -999.00,9, -999.00,-999.000,9,-999.000, -999.00,9, -999.00,9, -32.0049, 102.0826,-999.000,-999.000,20090504,       1906
33RR20090320,        I05,     164,          1,         12,         12,2,20090504,       1802,   -32.0051,   102.0827,       4466,  1807.2,   2.6217,  34.6703,2,  34.6701,2,    158.4,2,   158.6,2,   90.69,2,   33.84,2,    0.00,2,    2.44,2,-999.000,9,-999.000,9,-999.0000,9,  -999.0,9,  -999.0,9,-999.0000,9,  -999.00,-999.000,9,-999.000,9,-999.000,9,   2.6228,2,-999.000,9, -999.00,9, -999.00,-999.000,9,-999.000, -999.00,9, -999.00,9, -32.0050, 102.0826,-999.000,-999.000,20090504,       1902
33RR20090320,        I05,     164,          1,         11,         11,2,20090504,       1802,   -32.0051,   102.0827,       4466,  2009.8,   2.4121,  34.7035,2,  34.7039,2,    163.4,2,   164.4,2,   96.53,2,   33.31,2,    0.00,2,    2.38,2,-999.000,9,-999.000,9,-999.0000,9,  -999.0,9,  -999.0,9,-999.0000,9,  -999.00,-999.000,9,-999.000,9,-999.000,9,   2.4121,2,-999.000,9, -999.00,9, -999.00,-999.000,9,-999.000, -999.00,9, -999.00,9, -32.0050, 102.0826,-999.000,-999.000,20090504,       1857
33RR20090320,        I05,     164,          1,         10,         10,2,20090504,       1802,   -32.0051,   102.0827,       4466,  2263.9,   2.1856,  34.7225,2,  34.7224,2,    173.1,2,   172.4,2,  100.11,2,   32.66,2,    0.00,2,    2.34,2,-999.000,9,-999.000,9,-999.0000,9,  -999.0,9,  -999.0,9,-999.0000,9,  -999.00,-999.000,9,-999.000,9,-999.000,9,   2.1833,2,-999.000,9, -999.00,9, -999.00,-999.000,9,-999.000, -999.00,9, -999.00,9, -32.0050, 102.0826,-999.000,-999.000,20090504,       1851
33RR20090320,        I05,     164,          1,          9,          9,2,20090504,       1802,   -32.0051,   102.0827,       4466,  2516.8,   1.9954,  34.7382,2,  34.7387,2,    188.2,2,   188.1,2,   93.43,2,   31.26,2,    0.00,2,    2.22,2,-999.000,9,-999.000,9,-999.0000,9,  -999.0,9,  -999.0,9,-999.0000,9,  -999.00,-999.000,9,-999.000,9,-999.000,9,   1.9956,2,-999.000,9, -999.00,9, -999.00,-999.000,9,-999.000, -999.00,9, -999.00,9, -32.0050, 102.0827,-999.000,-999.000,20090504,       1846
33RR20090320,        I05,     164,          1,          8,          8,2,20090504,       1802,   -32.0051,   102.0827,       4466,  2767.1,   1.7703,  34.7372,2,  34.7370,2,    191.1,2,   190.0,2,  101.58,2,   31.58,2,    0.00,2,    2.24,2,-999.000,9,-999.000,9,-999.0000,9,  -999.0,9,  -999.0,9,-999.0000,9,  -999.00,-999.000,9,-999.000,9,-999.000,9,   1.7702,2,-999.000,9, -999.00,9, -999.00,-999.000,9,-999.000, -999.00,9, -999.00,9, -32.0050, 102.0828,-999.000,-999.000,20090504,       1840
33RR20090320,        I05,     164,          1,          7,          7,2,20090504,       1802,   -32.0051,   102.0827,       4466,  3021.4,   1.5611,  34.7354,2,  34.7370,2,    196.0,2,   196.2,2,  105.36,2,   31.47,2,    0.00,2,    2.23,2,-999.000,9,-999.000,9,-999.0000,9,  -999.0,9,  -999.0,9,-999.0000,9,  -999.00,-999.000,9,-999.000,9,-999.000,9,   1.5622,2,-999.000,9, -999.00,9, -999.00,-999.000,9,-999.000, -999.00,9, -999.00,9, -32.0051, 102.0828,-999.000,-999.000,20090504,       1834
33RR20090320,        I05,     164,          1,          6,          6,2,20090504,       1802,   -32.0051,   102.0827,       4466,  3324.8,   1.3773,  34.7300,2,  34.7311,2,    199.9,2,   200.0,2,  109.33,2,   31.58,2,    0.00,2,    2.23,2,-999.000,9,-999.000,9,-999.0000,9,  -999.0,9,  -999.0,9,-999.0000,9,  -999.00,-999.000,9,-999.000,9,-999.000,9,   1.3774,2,-999.000,9, -999.00,9, -999.00,-999.000,9,-999.000, -999.00,9, -999.00,9, -32.0050, 102.0828,-999.000,-999.000,20090504,       1828
33RR20090320,        I05,     164,          1,          5,          5,2,20090504,       1802,   -32.0051,   102.0827,       4466,  3628.6,   1.2791,  34.7253,2,  34.7258,2,    201.6,2,   201.6,2,  112.93,2,   31.63,2,    0.00,2,    2.25,2,-999.000,9,-999.000,9,-999.0000,9,  2263.2,2,  2366.5,2,   7.6850,2,    20.00,-999.000,9,-999.000,9,-999.000,9,   1.2788,2,-999.000,9, -999.00,9, -999.00,-999.000,9,-999.000, -999.00,9, -999.00,9, -32.0049, 102.0829,-999.000,-999.000,20090504,       1821
33RR20090320,        I05,     164,          1,          4,          4,2,20090504,       1802,   -32.0051,   102.0827,       4466,  3934.4,   1.1748,  34.7203,2,  34.7207,2,    203.6,2,   203.8,2,  116.15,2,   31.95,2,    0.00,2,    2.25,2,-999.000,9,-999.000,9,-999.0000,9,  2264.3,2,  2368.7,2,   7.6856,2,    20.00,-999.000,9,-999.000,9,-999.000,9,   1.1749,2,-999.000,9, -999.00,9, -999.00,-999.000,9,-999.000, -999.00,9, -999.00,9, -32.0050, 102.0828,-999.000,-999.000,20090504,       1815
33RR20090320,        I05,     164,          1,          3,          3,2,20090504,       1802,   -32.0051,   102.0827,       4466,  4237.9,   1.0987,  34.7154,2,  34.7160,2,    205.0,2,   205.1,2,  118.61,2,   32.06,2,    0.00,2,    2.25,2,-999.000,9,-999.000,9,-999.0000,9,  2264.0,2,  2369.3,2,   7.6869,2,    20.00,-999.000,9,-999.000,9,-999.000,9,   1.0982,2,-999.000,9, -999.00,9, -999.00,-999.000,9,-999.000, -999.00,9, -999.00,9, -32.0050, 102.0828,-999.000,-999.000,20090504,       1809
33RR20090320,        I05,     164,          1,          2,          2,2,20090504,       1802,   -32.0051,   102.0827,       4466,  4380.3,   1.0849,  34.7143,2,  34.7146,2,    206.0,2,   205.6,2,  119.72,2,   31.95,2,    0.00,2,    2.25,2,-999.000,9,-999.000,9,-999.0000,9,  2265.5,2,  2370.9,2,   7.6865,2,    20.00,-999.000,9,-999.000,9,-999.000,9,   1.0848,2,-999.000,9, -999.00,9, -999.00,-999.000,9,-999.000, -999.00,9, -999.00,9, -32.0050, 102.0828,-999.000,-999.000,20090504,       1805
33RR20090320,        I05,     164,          1,          1,          1,2,20090504,       1802,   -32.0051,   102.0827,       4466,  4530.5,   1.0626,  34.7122,2,  34.7129,2,    205.9,2,   205.5,2,  120.66,2,   32.12,2,    0.00,2,    2.26,2,-999.000,9,-999.000,9,-999.0000,9,  2267.4,6,  2372.2,2,   7.6867,2,    20.00,-999.000,9,-999.000,9,-999.000,9,   1.0625,2,-999.000,9, -999.00,9, -999.00,-999.000,9,-999.000, -999.00,9, -999.00,9, -32.0051, 102.0827,-999.000,-999.000,20090504,       1802