BOTTLE,20220814CCHSIOAMB
EXPOCODE,SECT_ID,STNNBR,CASTNO,SAMPNO,BTLNBR,BTLNBR_FLAG_W,DATE,TIME,LATITUDE,LONGITUDE,DEPTH,CTDPRS,CTDTMP,CTDSAL,CTDSAL_FLAG_W,SALNTY,SALNTY_FLAG_W,CTDOXY,CTDOXY_FLAG_W,OXYGEN,OXYGEN_FLAG_W,SILCAT,SILCAT_FLAG_W,NITRAT,NITRAT_FLAG_W,NITRIT,NITRIT_FLAG_W,PHSPHT,PHSPHT_FLAG_W,CFC-11,CFC-11_FLAG_W,CFC-12,CFC-12_FLAG_W,SF6,SF6_FLAG_W,TCARBN,TCARBN_FLAG_W,ALKALI,ALKALI_FLAG_W,PH_TOT,PH_TOT_FLAG_W,PH_TMP,TRITUM,TRITUM_FLAG_W,HELIUM,HELIUM_FLAG_W,DELHE3,DELHE3_FLAG_W,REFTMP,REFTMP_FLAG_W,DELC13,DELC13_FLAG_W,DELC14,DELC14_FLAG_W,C14ERR,NEON,NEON_FLAG_W,NEONER,DOC,DOC_FLAG_W,TDN,TDN_FLAG_W,BTL_LAT,BTL_LON,HELIER,DELHER,BTL_DATE,BTL_TIME
,,,,,,,,,,,METERS,DBAR,ITS-90,PSS-78,,PSS-78,,UMOL/KG,,UMOL/KG,,UMOL/KG,,UMOL/KG,,UMOL/KG,,UMOL/KG,,PMOL/KG,,PMOL/KG,,FMOL/KG,,UMOL/KG,,UMOL/KG,,,,DEG C,TU,,NMOL/KG,,PERCNT,,DEG C,,/MILLE,,/MILLE,,/MILLE,NMOL/KG,,NMOL/KG,UMOL/KG,,UMOL/KG,,,,NMOL/KG,PERCNT,,
33RR20090320,        I05,     134,          1,         36,         36,2,20090427,       0810,   -31.9085,    89.2284,       3463,     3.7,  19.9760,  35.7558,2,  35.7569,2,    229.6,2,   229.4,2,    1.20,2,    0.02,2,    0.00,2,    0.16,2,-999.000,9,-999.000,9,-999.0000,9,  2070.4,6,  2352.6,2,   8.0797,2,    20.00,-999.000,9,-999.000,9,-999.000,9,  19.9735,2,-999.000,9, -999.00,9, -999.00,-999.000,9,-999.000, -999.00,9, -999.00,9, -31.9085,  89.2287,-999.000,-999.000,20090427,       0942
33RR20090320,        I05,     134,          1,         35,         35,2,20090427,       0810,   -31.9085,    89.2284,       3463,    26.5,  19.9181,  35.7622,2,  35.7626,2,    231.8,2,   229.7,2,    1.19,2,    0.02,2,    0.00,2,    0.16,2,-999.000,9,-999.000,9,-999.0000,9,  2071.8,2,  2354.3,2,   8.0790,2,    20.00,-999.000,9,-999.000,9,-999.000,9,  19.9169,2,-999.000,9, -999.00,9, -999.00,-999.000,9,-999.000, -999.00,9, -999.00,9, -31.9085,  89.2287,-999.000,-999.000,20090427,       0941
33RR20090320,        I05,     134,          1,         34,         34,2,20090427,       0810,   -31.9085,    89.2284,       3463,    50.8,  18.6879,  35.6658,2,  35.6750,2,    237.8,2,   241.4,2,    1.18,2,    0.02,2,    0.00,2,    0.16,2,-999.000,9,-999.000,9,-999.0000,9,  2069.7,2,  2348.6,2,   8.0742,2,    20.00,-999.000,9,-999.000,9,-999.000,9,  18.8220,2,-999.000,9, -999.00,9, -999.00,-999.000,9,-999.000, -999.00,9, -999.00,9, -31.9086,  89.2286,-999.000,-999.000,20090427,       0939
33RR20090320,        I05,     134,          1,         33,         33,2,20090427,       0810,   -31.9085,    89.2284,       3463,    75.4,  15.9304,  35.5229,2,  35.5354,2,    260.8,2,   258.7,2,    1.36,2,    0.07,2,    0.01,2,    0.20,2,-999.000,9,-999.000,9,-999.0000,9,  2075.1,2,  2341.9,2,   8.0500,2,    20.00,-999.000,9,-999.000,9,-999.000,9,  15.9875,2,-999.000,9, -999.00,9, -999.00,-999.000,9,-999.000, -999.00,9, -999.00,9, -31.9086,  89.2286,-999.000,-999.000,20090427,       0938
33RR20090320,        I05,     134,          1,         32,         32,2,20090427,       0810,   -31.9085,    89.2284,       3463,   100.9,  14.8831,  35.4676,2,  35.4668,2,    239.2,2,   238.7,2,    1.52,2,    2.30,2,    0.21,2,    0.36,2,-999.000,9,-999.000,9,-999.0000,9,  -999.0,9,  -999.0,9,-999.0000,9,  -999.00,-999.000,9,-999.000,9,-999.000,9,  14.8824,2,-999.000,9, -999.00,9, -999.00,-999.000,9,-999.000, -999.00,9, -999.00,9, -31.9087,  89.2286,-999.000,-999.000,20090427,       0936
33RR20090320,        I05,     134,          1,         31,         31,2,20090427,       0810,   -31.9085,    89.2284,       3463,   126.6,  14.3050,  35.3975,2,  35.4047,2,    233.5,2,   233.3,2,    1.87,2,    4.26,2,    0.03,2,    0.45,2,-999.000,9,-999.000,9,-999.0000,9,  2100.3,2,  2331.2,2,   7.9863,2,    20.00,-999.000,9,-999.000,9,-999.000,9,  14.2852,2,-999.000,9, -999.00,9, -999.00,-999.000,9,-999.000, -999.00,9, -999.00,9, -31.9087,  89.2286,-999.000,-999.000,20090427,       0935
33RR20090320,        I05,     134,          1,         30,         30,2,20090427,       0810,   -31.9085,    89.2284,       3463,   151.4,  13.6280,  35.2835,2,  35.2862,2,    234.0,2,   234.5,2,    2.05,2,    5.60,2,    0.01,2,    0.53,2,-999.000,9,-999.000,9,-999.0000,9,  -999.0,9,  -999.0,9,-999.0000,9,  -999.00,-999.000,9,-999.000,9,-999.000,9,  13.6530,2,-999.000,9, -999.00,9, -999.00,-999.000,9,-999.000, -999.00,9, -999.00,9, -31.9087,  89.2286,-999.000,-999.000,20090427,       0934
33RR20090320,        I05,     134,          1,         29,         29,2,20090427,       0810,   -31.9085,    89.2284,       3463,   177.1,  13.1088,  35.2003,2,  35.2027,2,    234.9,2,   235.4,2,    2.22,2,    6.73,2,    0.01,2,    0.60,2,-999.000,9,-999.000,9,-999.0000,9,  2106.4,2,  2320.2,2,   7.9540,2,    20.00,-999.000,9,-999.000,9,-999.000,9,  13.1630,2,-999.000,9, -999.00,9, -999.00,-999.000,9,-999.000, -999.00,9, -999.00,9, -31.9088,  89.2286,-999.000,-999.000,20090427,       0933
33RR20090320,        I05,     134,          1,         28,         28,2,20090427,       0810,   -31.9085,    89.2284,       3463,   200.4,  12.5805,  35.1251,2,  35.1241,2,    236.1,2,   236.4,2,    2.39,2,    8.05,2,    0.00,2,    0.66,2,-999.000,9,-999.000,9,-999.0000,9,  -999.0,9,  -999.0,9,-999.0000,9,  -999.00,-999.000,9,-999.000,9,-999.000,9,  12.5987,2,-999.000,9, -999.00,9, -999.00,-999.000,9,-999.000, -999.00,9, -999.00,9, -31.9088,  89.2286,-999.000,-999.000,20090427,       0932
33RR20090320,        I05,     134,          1,         27,         27,2,20090427,       0810,   -31.9085,    89.2284,       3463,   249.7,  12.2680,  35.1128,2,  35.1144,2,    233.8,2,   234.2,2,    2.74,2,    9.07,2,    0.00,2,    0.72,2,-999.000,9,-999.000,9,-999.0000,9,  -999.0,9,  -999.0,9,-999.0000,9,  -999.00,-999.000,9,-999.000,9,-999.000,9,  12.2683,2,-999.000,9, -999.00,9, -999.00,-999.000,9,-999.000, -999.00,9, -999.00,9, -31.9088,  89.2286,-999.000,-999.000,20090427,       0931
33RR20090320,        I05,     134,          1,         26,         26,2,20090427,       0810,   -31.9085,    89.2284,       3463,   301.2,  11.7516,  35.0367,2,  35.0412,2,    236.7,2,   237.4,2,    3.08,2,   10.08,2,    0.00,2,    0.78,2,-999.000,9,-999.000,9,-999.0000,9,  -999.0,9,  -999.0,9,-999.0000,9,  -999.00,-999.000,9,-999.000,9,-999.000,9,  11.7523,2,-999.000,9, -999.00,9, -999.00,-999.000,9,-999.000, -999.00,9, -999.00,9, -31.9088,  89.2286,-999.000,-999.000,20090427,       0929
33RR20090320,        I05,     134,          1,         25,         25,2,20090427,       0810,   -31.9085,    89.2284,       3463,   349.2,  11.3292,  34.9741,2,  34.9763,2,    238.2,2,   239.3,2,    3.44,2,   11.05,2,    0.00,2,    0.84,2,-999.000,9,-999.000,9,-999.0000,9,  2115.7,2,  2305.8,2,   7.9093,2,    20.00,-999.000,9,-999.000,9,-999.000,9,  11.3255,2,-999.000,9, -999.00,9, -999.00,-999.000,9,-999.000, -999.00,9, -999.00,9, -31.9088,  89.2285,-999.000,-999.000,20090427,       0927
33RR20090320,        I05,     134,          1,         24,         24,2,20090427,       0810,   -31.9085,    89.2284,       3463,   400.8,  11.0059,  34.9256,2,  34.9243,2,    238.9,2,   240.4,2,    3.79,2,   11.97,2,    0.00,2,    0.90,2,-999.000,9,-999.000,9,-999.0000,9,  -999.0,9,  -999.0,9,-999.0000,9,  -999.00,-999.000,9,-999.000,9,-999.000,9,  11.0141,2,-999.000,9, -999.00,9, -999.00,-999.000,9,-999.000, -999.00,9, -999.00,9, -31.9088,  89.2286,-999.000,-999.000,20090427,       0926
33RR20090320,        I05,     134,          1,         23,         23,2,20090427,       0810,   -31.9085,    89.2284,       3463,   450.8,  10.7374,  34.8875,2,  34.8877,2,    238.4,2,   239.5,2,    4.14,2,   12.68,2,    0.00,2,    0.95,2,-999.000,9,-999.000,9,-999.0000,9,  -999.0,9,  -999.0,9,-999.0000,9,  -999.00,-999.000,9,-999.000,9,-999.000,9,  10.7453,2,-999.000,9, -999.00,9, -999.00,-999.000,9,-999.000, -999.00,9, -999.00,9, -31.9088,  89.2286,-999.000,-999.000,20090427,       0924
33RR20090320,        I05,     134,          1,         22,         22,2,20090427,       0810,   -31.9085,    89.2284,       3463,   500.5,  10.4196,  34.8392,2,  34.8363,2,    239.4,2,   239.7,2,    4.31,2,   13.55,2,    0.00,2,    1.00,2,-999.000,9,-999.000,9,-999.0000,9,  -999.0,9,  -999.0,9,-999.0000,9,  -999.00,-999.000,9,-999.000,9,-999.000,9,  10.4243,2,-999.000,9, -999.00,9, -999.00,-999.000,9,-999.000, -999.00,9, -999.00,9, -31.9088,  89.2286,-999.000,-999.000,20090427,       0922
33RR20090320,        I05,     134,          1,         21,         21,2,20090427,       0810,   -31.9085,    89.2284,       3463,   602.3,   9.8037,  34.7556,2,  34.7590,2,    235.8,2,   237.3,2,    4.66,2,   15.08,2,    0.00,2,    1.09,2,-999.000,9,-999.000,9,-999.0000,9,  2123.7,2,  2298.3,2,   7.8684,2,    20.00,-999.000,9,-999.000,9,-999.000,9,   9.8082,2,-999.000,9, -999.00,9, -999.00,-999.000,9,-999.000, -999.00,9, -999.00,9, -31.9089,  89.2287,-999.000,-999.000,20090427,       0920
33RR20090320,        I05,     134,          1,         20,         20,2,20090427,       0810,   -31.9085,    89.2284,       3463,   699.6,   9.0608,  34.6505,2,  34.6517,2,    231.2,2,   229.6,2,    6.61,2,   17.93,2,    0.00,2,    1.28,2,-999.000,9,-999.000,9,-999.0000,9,  -999.0,9,  -999.0,9,-999.0000,9,  -999.00,-999.000,9,-999.000,9,-999.000,9,   9.0626,2,-999.000,9, -999.00,9, -999.00,-999.000,9,-999.000, -999.00,9, -999.00,9, -31.9090,  89.2286,-999.000,-999.000,20090427,       0917
33RR20090320,        I05,     134,          1,         19,         19,2,20090427,       0810,   -31.9085,    89.2284,       3463,   801.0,   8.0743,  34.5524,2,  34.5537,2,    211.7,2,   211.8,2,   10.90,2,   21.92,2,    0.00,2,    1.54,2,-999.000,9,-999.000,9,-999.0000,9,  -999.0,9,  -999.0,9,-999.0000,9,  -999.00,-999.000,9,-999.000,9,-999.000,9,   8.0746,2,-999.000,9, -999.00,9, -999.00,-999.000,9,-999.000, -999.00,9, -999.00,9, -31.9089,  89.2286,-999.000,-999.000,20090427,       0915
33RR20090320,        I05,     134,          1,         18,         18,2,20090427,       0810,   -31.9085,    89.2284,       3463,   900.7,   6.5901,  34.4446,2,  34.4451,2,    201.2,2,   200.8,2,   18.77,2,   26.39,2,    0.00,2,    1.86,2,-999.000,9,-999.000,9,-999.0000,9,  -999.0,9,  -999.0,9,-999.0000,9,  -999.00,-999.000,9,-999.000,9,-999.000,9,   6.5910,2,-999.000,9, -999.00,9, -999.00,-999.000,9,-999.000, -999.00,9, -999.00,9, -31.9089,  89.2285,-999.000,-999.000,20090427,       0912
33RR20090320,        I05,     134,          1,         17,         17,2,20090427,       0810,   -31.9085,    89.2284,       3463,  1000.3,   5.2573,  34.3911,2,  34.3915,2,    193.6,2,   194.5,2,   29.19,2,   29.63,2,    0.00,2,    2.10,2,-999.000,9,-999.000,9,-999.0000,9,  2188.6,2,  2298.4,2,   7.7034,2,    20.00,-999.000,9,-999.000,9,-999.000,9,   5.2610,2,-999.000,9, -999.00,9, -999.00,-999.000,9,-999.000, -999.00,9, -999.00,9, -31.9088,  89.2285,-999.000,-999.000,20090427,       0909
33RR20090320,        I05,     134,          1,         16,         16,2,20090427,       0810,   -31.9085,    89.2284,       3463,  1100.7,   4.5405,  34.4080,2,  34.4088,2,    183.1,2,   180.8,2,   42.39,2,   31.91,2,    0.00,2,    2.29,2,-999.000,9,-999.000,9,-999.0000,9,  -999.0,9,  -999.0,9,-999.0000,9,  -999.00,-999.000,9,-999.000,9,-999.000,9,   4.5429,2,-999.000,9, -999.00,9, -999.00,-999.000,9,-999.000, -999.00,9, -999.00,9, -31.9088,  89.2285,-999.000,-999.000,20090427,       0906
33RR20090320,        I05,     134,          1,         15,         15,2,20090427,       0810,   -31.9085,    89.2284,       3463,  1202.3,   4.0470,  34.4410,2,  34.4427,2,    168.6,2,   169.3,2,   53.82,2,   33.36,2,    0.00,2,    2.40,2,-999.000,9,-999.000,9,-999.0000,9,  -999.0,9,  -999.0,9,-999.0000,9,  -999.00,-999.000,9,-999.000,9,-999.000,9,   4.0434,2,-999.000,9, -999.00,9, -999.00,-999.000,9,-999.000, -999.00,9, -999.00,9, -31.9087,  89.2285,-999.000,-999.000,20090427,       0903
33RR20090320,        I05,     134,          1,         14,         14,2,20090427,       0810,   -31.9085,    89.2284,       3463,  1302.0,   3.7954,  34.4951,2,  34.4959,2,    156.5,2,   155.7,2,   65.30,2,   34.44,2,    0.00,2,    2.50,2,-999.000,9,-999.000,9,-999.0000,9,  -999.0,9,  -999.0,9,-999.0000,9,  -999.00,-999.000,9,-999.000,9,-999.000,9,   3.7933,2,-999.000,9, -999.00,9, -999.00,-999.000,9,-999.000, -999.00,9, -999.00,9, -31.9087,  89.2284,-999.000,-999.000,20090427,       0901
33RR20090320,        I05,     134,          1,         13,         13,2,20090427,       0810,   -31.9085,    89.2284,       3463,  1397.5,   3.5793,  34.5327,2,  34.5329,2,    149.9,2,   150.2,2,   72.25,2,   34.80,2,    0.00,2,    2.53,2,-999.000,9,-999.000,9,-999.0000,9,  2254.3,2,  2338.7,2,   7.6294,2,    20.00,-999.000,9,-999.000,9,-999.000,9,   3.5791,2,-999.000,9, -999.00,9, -999.00,-999.000,9,-999.000, -999.00,9, -999.00,9, -31.9087,  89.2284,-999.000,-999.000,20090427,       0858
33RR20090320,        I05,     134,          1,         12,         12,2,20090427,       0810,   -31.9085,    89.2284,       3463,  1499.9,   3.3066,  34.5597,2,  34.5602,2,    151.7,2,   151.8,2,   76.10,2,   34.75,2,    0.00,2,    2.53,2,-999.000,9,-999.000,9,-999.0000,9,  -999.0,9,  -999.0,9,-999.0000,9,  -999.00,-999.000,9,-999.000,9,-999.000,9,   3.3060,2,-999.000,9, -999.00,9, -999.00,-999.000,9,-999.000, -999.00,9, -999.00,9, -31.9087,  89.2285,-999.000,-999.000,20090427,       0855
33RR20090320,        I05,     134,          1,         11,         11,2,20090427,       0810,   -31.9085,    89.2284,       3463,  1598.7,   3.0906,  34.5975,2,  34.5975,2,    151.4,2,   152.0,2,   81.22,2,   34.59,2,    0.00,2,    2.52,2,-999.000,9,-999.000,9,-999.0000,9,  -999.0,9,  -999.0,9,-999.0000,9,  -999.00,-999.000,9,-999.000,9,-999.000,9,   3.0911,2,-999.000,9, -999.00,9, -999.00,-999.000,9,-999.000, -999.00,9, -999.00,9, -31.9087,  89.2284,-999.000,-999.000,20090427,       0852
33RR20090320,        I05,     134,          1,         10,         10,2,20090427,       0810,   -31.9085,    89.2284,       3463,  1799.5,   2.7634,  34.6510,2,  34.6513,2,    157.1,2,   158.1,2,   86.74,2,   33.96,2,    0.00,2,    2.46,2,-999.000,9,-999.000,9,-999.0000,9,  2265.7,2,  2354.9,2,   7.6414,2,    20.00,-999.000,9,-999.000,9,-999.000,9,   2.7643,2,-999.000,9, -999.00,9, -999.00,-999.000,9,-999.000, -999.00,9, -999.00,9, -31.9087,  89.2284,-999.000,-999.000,20090427,       0848
33RR20090320,        I05,     134,          1,          9,          9,2,20090427,       0810,   -31.9085,    89.2284,       3463,  1995.2,   2.5095,  34.6901,2,  34.6906,2,    165.7,2,   166.4,2,   90.04,2,   33.13,2,    0.00,2,    2.38,2,-999.000,9,-999.000,9,-999.0000,9,  -999.0,9,  -999.0,9,-999.0000,9,  -999.00,-999.000,9,-999.000,9,-999.000,9,   2.5093,2,-999.000,9, -999.00,9, -999.00,-999.000,9,-999.000, -999.00,9, -999.00,9, -31.9087,  89.2284,-999.000,-999.000,20090427,       0843
33RR20090320,        I05,     134,          1,          8,          8,2,20090427,       0810,   -31.9085,    89.2284,       3463,  2198.6,   2.2897,  34.7157,2,  34.7162,2,    174.9,2,   175.2,2,   92.25,2,   32.30,2,    0.00,2,    2.31,2,-999.000,9,-999.000,9,-999.0000,9,  -999.0,9,  -999.0,9,-999.0000,9,  -999.00,-999.000,9,-999.000,9,-999.000,9,   2.2892,2,-999.000,9, -999.00,9, -999.00,-999.000,9,-999.000, -999.00,9, -999.00,9, -31.9088,  89.2284,-999.000,-999.000,20090427,       0839
33RR20090320,        I05,     134,          1,          7,          7,2,20090427,       0810,   -31.9085,    89.2284,       3463,  2395.5,   2.1019,  34.7304,2,  34.7305,2,    182.5,2,   182.6,2,   93.90,2,   31.52,2,    0.00,2,    2.27,2,-999.000,9,-999.000,9,-999.0000,9,  -999.0,9,  -999.0,9,-999.0000,9,  -999.00,-999.000,9,-999.000,9,-999.000,9,   2.1021,2,-999.000,9, -999.00,9, -999.00,-999.000,9,-999.000, -999.00,9, -999.00,9, -31.9087,  89.2284,-999.000,-999.000,20090427,       0834
33RR20090320,        I05,     134,          1,          6,          6,2,20090427,       0810,   -31.9085,    89.2284,       3463,  2597.8,   1.9228,  34.7390,2,  34.7392,2,    189.2,2,   189.7,2,   95.92,2,   31.21,2,    0.00,2,    2.23,2,-999.000,9,-999.000,9,-999.0000,9,  -999.0,9,  -999.0,9,-999.0000,9,  -999.00,-999.000,9,-999.000,9,-999.000,9,   1.9219,2,-999.000,9, -999.00,9, -999.00,-999.000,9,-999.000, -999.00,9, -999.00,9, -31.9086,  89.2284,-999.000,-999.000,20090427,       0830
33RR20090320,        I05,     134,          1,          5,          5,2,20090427,       0810,   -31.9085,    89.2284,       3463,  2799.8,   1.7275,  34.7393,2,  34.7388,2,    192.9,2,   193.6,2,  100.54,2,   31.20,2,    0.00,2,    2.22,2,-999.000,9,-999.000,9,-999.0000,9,  2256.0,2,  2362.8,2,   7.6875,2,    20.00,-999.000,9,-999.000,9,-999.000,9,   1.7281,2,-999.000,9, -999.00,9, -999.00,-999.000,9,-999.000, -999.00,9, -999.00,9, -31.9085,  89.2284,-999.000,-999.000,20090427,       0825
33RR20090320,        I05,     134,          1,          4,          4,2,20090427,       0810,   -31.9085,    89.2284,       3463,  3001.5,   1.5657,  34.7368,2,  34.7370,2,    196.4,2,   197.1,2,  104.41,2,   31.20,2,    0.00,2,    2.22,2,-999.000,9,-999.000,9,-999.0000,9,  -999.0,9,  -999.0,9,-999.0000,9,  -999.00,-999.000,9,-999.000,9,-999.000,9,   1.5653,2,-999.000,9, -999.00,9, -999.00,-999.000,9,-999.000, -999.00,9, -999.00,9, -31.9086,  89.2285,-999.000,-999.000,20090427,       0821
33RR20090320,        I05,     134,          1,          3,          3,2,20090427,       0810,   -31.9085,    89.2284,       3463,  3205.0,   1.4238,  34.7317,2,  34.7325,2,    198.5,2,   198.7,2,  108.66,2,   31.46,2,    0.00,2,    2.24,2,-999.000,9,-999.000,9,-999.0000,9,  -999.0,9,  -999.0,9,-999.0000,9,  -999.00,-999.000,9,-999.000,9,-999.000,9,   1.4235,2,-999.000,9, -999.00,9, -999.00,-999.000,9,-999.000, -999.00,9, -999.00,9, -31.9085,  89.2284,-999.000,-999.000,20090427,       0816
33RR20090320,        I05,     134,          1,          2,          2,2,20090427,       0810,   -31.9085,    89.2284,       3463,  3377.1,   1.3232,  34.7276,2,  34.7282,2,    200.1,2,   200.1,2,  111.81,2,   31.66,2,    0.00,2,    2.25,2,-999.000,9,-999.000,9,-999.0000,9,  -999.0,9,  -999.0,9,-999.0000,9,  -999.00,-999.000,9,-999.000,9,-999.000,9,   1.3225,2,-999.000,9, -999.00,9, -999.00,-999.000,9,-999.000, -999.00,9, -999.00,9, -31.9086,  89.2284,-999.000,-999.000,20090427,       0813
33RR20090320,        I05,     134,          1,          1,          1,2,20090427,       0810,   -31.9085,    89.2284,       3463,  3499.6,   1.2554,  34.7246,2,  34.7252,2,    201.2,2,   200.8,2,  113.47,2,   31.76,2,    0.00,2,    2.26,2,-999.000,9,-999.000,9,-999.0000,9,  2262.8,6,  2371.5,2,   7.6908,2,    20.00,-999.000,9,-999.000,9,-999.000,9,   1.2548,2,-999.000,9, -999.00,9, -999.00,-999.000,9,-999.000, -999.00,9, -999.00,9, -31.9086,  89.2284,-999.000,-999.000,20090427,       0810