BOTTLE,20220814CCHSIOAMB
EXPOCODE,SECT_ID,STNNBR,CASTNO,SAMPNO,BTLNBR,BTLNBR_FLAG_W,DATE,TIME,LATITUDE,LONGITUDE,DEPTH,CTDPRS,CTDTMP,CTDSAL,CTDSAL_FLAG_W,SALNTY,SALNTY_FLAG_W,CTDOXY,CTDOXY_FLAG_W,OXYGEN,OXYGEN_FLAG_W,SILCAT,SILCAT_FLAG_W,NITRAT,NITRAT_FLAG_W,NITRIT,NITRIT_FLAG_W,PHSPHT,PHSPHT_FLAG_W,CFC-11,CFC-11_FLAG_W,CFC-12,CFC-12_FLAG_W,SF6,SF6_FLAG_W,TCARBN,TCARBN_FLAG_W,ALKALI,ALKALI_FLAG_W,PH_TOT,PH_TOT_FLAG_W,PH_TMP,TRITUM,TRITUM_FLAG_W,HELIUM,HELIUM_FLAG_W,DELHE3,DELHE3_FLAG_W,REFTMP,REFTMP_FLAG_W,DELC13,DELC13_FLAG_W,DELC14,DELC14_FLAG_W,C14ERR,NEON,NEON_FLAG_W,NEONER,DOC,DOC_FLAG_W,TDN,TDN_FLAG_W,BTL_LAT,BTL_LON,HELIER,DELHER,BTL_DATE,BTL_TIME
,,,,,,,,,,,METERS,DBAR,ITS-90,PSS-78,,PSS-78,,UMOL/KG,,UMOL/KG,,UMOL/KG,,UMOL/KG,,UMOL/KG,,UMOL/KG,,PMOL/KG,,PMOL/KG,,FMOL/KG,,UMOL/KG,,UMOL/KG,,,,DEG C,TU,,NMOL/KG,,PERCNT,,DEG C,,/MILLE,,/MILLE,,/MILLE,NMOL/KG,,NMOL/KG,UMOL/KG,,UMOL/KG,,,,NMOL/KG,PERCNT,,
33RR20090320,        I05,     144,          1,         36,         36,2,20090429,       2334,   -33.7668,    94.4654,       4536,     6.3,  18.4148,  35.5261,2,  35.5265,2,    235.9,2,   236.2,2,    0.59,2,    0.07,2,    0.00,2,    0.16,2,-999.000,9,-999.000,9,-999.0000,9,  2067.8,6,  2342.5,2,   8.0724,2,    20.00,-999.000,9,-999.000,9,-999.000,9,  18.4136,2,-999.000,9, -999.00,9, -999.00,-999.000,9,-999.000, -999.00,9, -999.00,9, -33.7669,  94.4654,-999.000,-999.000,20090430,       0114
33RR20090320,        I05,     144,          1,         35,         35,2,20090429,       2334,   -33.7668,    94.4654,       4536,    41.9,  18.4233,  35.5260,2,  35.5261,2,    237.9,2,   236.2,2,    0.58,2,    0.00,2,    0.00,2,    0.15,2,-999.000,9,-999.000,9,-999.0000,9,  2068.3,2,  2342.0,2,   8.0718,2,    20.00,-999.000,9,-999.000,9,-999.000,9,  18.4184,2,-999.000,9, -999.00,9, -999.00,-999.000,9,-999.000, -999.00,9, -999.00,9, -33.7669,  94.4654,-999.000,-999.000,20090430,       0113
33RR20090320,        I05,     144,          1,         34,         34,2,20090429,       2334,   -33.7668,    94.4654,       4536,    65.6,  18.2669,  35.5375,2,  35.5383,2,    238.1,2,   238.2,2,    0.56,2,    0.06,2,    0.00,2,    0.16,2,-999.000,9,-999.000,9,-999.0000,9,  2070.0,2,  2342.5,2,   8.0690,2,    20.00,-999.000,9,-999.000,9,-999.000,9,  18.2163,2,-999.000,9, -999.00,9, -999.00,-999.000,9,-999.000, -999.00,9, -999.00,9, -33.7669,  94.4654,-999.000,-999.000,20090430,       0112
33RR20090320,        I05,     144,          1,         33,         33,2,20090429,       2334,   -33.7668,    94.4654,       4536,    91.7,  14.7714,  35.4203,2,  35.4210,2,    250.7,2,   250.0,2,    1.26,2,    2.01,2,    0.19,2,    0.32,2,-999.000,9,-999.000,9,-999.0000,9,  -999.0,9,  -999.0,9,-999.0000,9,  -999.00,-999.000,9,-999.000,9,-999.000,9,  14.7626,2,-999.000,9, -999.00,9, -999.00,-999.000,9,-999.000, -999.00,9, -999.00,9, -33.7668,  94.4654,-999.000,-999.000,20090430,       0111
33RR20090320,        I05,     144,          1,         32,         32,2,20090429,       2334,   -33.7668,    94.4654,       4536,   121.8,  13.7752,  35.3286,2,  35.3356,2,    239.0,2,   239.4,2,    1.60,2,    4.83,2,    0.17,2,    0.47,2,-999.000,9,-999.000,9,-999.0000,9,  2104.5,2,  2327.3,2,   7.9758,2,    20.00,-999.000,9,-999.000,9,-999.000,9,  13.7915,2,-999.000,9, -999.00,9, -999.00,-999.000,9,-999.000, -999.00,9, -999.00,9, -33.7668,  94.4654,-999.000,-999.000,20090430,       0109
33RR20090320,        I05,     144,          1,         31,         31,2,20090429,       2334,   -33.7668,    94.4654,       4536,   171.3,  13.0429,  35.2492,2,  35.2532,2,    239.2,2,   239.0,2,    1.76,2,    6.45,2,    0.01,2,    0.55,2,-999.000,9,-999.000,9,-999.0000,9,  -999.0,9,  -999.0,9,-999.0000,9,  -999.00,-999.000,9,-999.000,9,-999.000,9,  13.0425,2,-999.000,9, -999.00,9, -999.00,-999.000,9,-999.000, -999.00,9, -999.00,9, -33.7668,  94.4653,-999.000,-999.000,20090430,       0108
33RR20090320,        I05,     144,          1,         30,         30,2,20090429,       2334,   -33.7668,    94.4654,       4536,   220.0,  12.2723,  35.1145,2,  35.1163,2,    240.1,2,   241.2,2,    2.10,2,    8.19,2,    0.00,2,    0.65,2,-999.000,9,-999.000,9,-999.0000,9,  -999.0,9,  -999.0,9,-999.0000,9,  -999.00,-999.000,9,-999.000,9,-999.000,9,  12.2735,2,-999.000,9, -999.00,9, -999.00,-999.000,9,-999.000, -999.00,9, -999.00,9, -33.7668,  94.4653,-999.000,-999.000,20090430,       0106
33RR20090320,        I05,     144,          1,         29,         29,2,20090429,       2334,   -33.7668,    94.4654,       4536,   270.7,  11.6753,  35.0137,2,  35.0142,2,    242.2,2,   242.3,2,    2.62,2,    9.76,2,    0.00,2,    0.74,2,-999.000,9,-999.000,9,-999.0000,9,  2113.5,2,  2310.0,2,   7.9209,2,    20.00,-999.000,9,-999.000,9,-999.000,9,  11.6731,2,-999.000,9, -999.00,9, -999.00,-999.000,9,-999.000, -999.00,9, -999.00,9, -33.7668,  94.4653,-999.000,-999.000,20090430,       0105
33RR20090320,        I05,     144,          1,         28,         28,2,20090429,       2334,   -33.7668,    94.4654,       4536,   320.2,  11.2590,  34.9481,2,  34.9498,2,    244.1,2,   244.3,2,    2.97,2,   10.77,2,    0.00,2,    0.80,2,-999.000,9,-999.000,9,-999.0000,9,  -999.0,9,  -999.0,9,-999.0000,9,  -999.00,-999.000,9,-999.000,9,-999.000,9,  11.2620,2,-999.000,9, -999.00,9, -999.00,-999.000,9,-999.000, -999.00,9, -999.00,9, -33.7669,  94.4654,-999.000,-999.000,20090430,       0103
33RR20090320,        I05,     144,          1,         27,         27,2,20090429,       2334,   -33.7668,    94.4654,       4536,   371.7,  10.8895,  34.8927,2,  34.8932,2,    244.9,2,   244.9,2,    3.31,2,   11.67,2,    0.00,2,    0.87,2,-999.000,9,-999.000,9,-999.0000,9,  -999.0,9,  -999.0,9,-999.0000,9,  -999.00,-999.000,9,-999.000,9,-999.000,9,  10.8885,2,-999.000,9, -999.00,9, -999.00,-999.000,9,-999.000, -999.00,9, -999.00,9, -33.7669,  94.4654,-999.000,-999.000,20090430,       0102
33RR20090320,        I05,     144,          1,         26,         26,2,20090429,       2334,   -33.7668,    94.4654,       4536,   421.0,  10.6323,  34.8574,2,  34.8576,2,    244.0,2,   244.2,2,    3.65,2,   12.51,2,    0.00,2,    0.92,2,-999.000,9,-999.000,9,-999.0000,9,  2118.7,2,  2297.6,2,   7.8942,2,    20.00,-999.000,9,-999.000,9,-999.000,9,  10.6325,2,-999.000,9, -999.00,9, -999.00,-999.000,9,-999.000, -999.00,9, -999.00,9, -33.7669,  94.4654,-999.000,-999.000,20090430,       0100
33RR20090320,        I05,     144,          1,         25,         25,2,20090429,       2334,   -33.7668,    94.4654,       4536,   469.7,  10.3689,  34.8263,2,  34.8257,2,    241.5,2,   241.5,2,    3.81,2,   13.35,2,    0.00,2,    0.97,2,-999.000,9,-999.000,9,-999.0000,9,  -999.0,9,  -999.0,9,-999.0000,9,  -999.00,-999.000,9,-999.000,9,-999.000,9,  10.3718,2,-999.000,9, -999.00,9, -999.00,-999.000,9,-999.000, -999.00,9, -999.00,9, -33.7668,  94.4654,-999.000,-999.000,20090430,       0059
33RR20090320,        I05,     144,          1,         24,         24,2,20090429,       2334,   -33.7668,    94.4654,       4536,   540.0,   9.9913,  34.7754,2,  34.7756,2,    239.8,2,   240.0,2,    4.15,2,   14.47,2,    0.00,2,    1.02,2,-999.000,9,-999.000,9,-999.0000,9,  -999.0,9,  -999.0,9,-999.0000,9,  -999.00,-999.000,9,-999.000,9,-999.000,9,   9.9967,2,-999.000,9, -999.00,9, -999.00,-999.000,9,-999.000, -999.00,9, -999.00,9, -33.7668,  94.4654,-999.000,-999.000,20090430,       0057
33RR20090320,        I05,     144,          1,         23,         23,2,20090429,       2334,   -33.7668,    94.4654,       4536,   640.2,   9.3954,  34.6926,2,  34.6942,2,    237.0,2,   237.5,2,    4.85,2,   16.27,2,    0.00,2,    1.15,2,-999.000,9,-999.000,9,-999.0000,9,  2128.0,2,  2295.7,2,   7.8535,2,    20.00,-999.000,9,-999.000,9,-999.000,9,   9.4011,2,-999.000,9, -999.00,9, -999.00,-999.000,9,-999.000, -999.00,9, -999.00,9, -33.7668,  94.4654,-999.000,-999.000,20090430,       0054
33RR20090320,        I05,     144,          1,         22,         22,2,20090429,       2334,   -33.7668,    94.4654,       4536,   740.2,   8.6407,  34.5978,2,  34.5993,2,    226.8,2,   227.2,2,    6.99,2,   19.23,2,    0.00,2,    1.34,2,-999.000,9,-999.000,9,-999.0000,9,  -999.0,9,  -999.0,9,-999.0000,9,  -999.00,-999.000,9,-999.000,9,-999.000,9,   8.6525,2,-999.000,9, -999.00,9, -999.00,-999.000,9,-999.000, -999.00,9, -999.00,9, -33.7668,  94.4655,-999.000,-999.000,20090430,       0052
33RR20090320,        I05,     144,          1,         21,         21,2,20090429,       2334,   -33.7668,    94.4654,       4536,   841.2,   7.3245,  34.4880,2,  34.4875,2,    207.0,2,   205.1,2,   14.17,2,   24.42,2,    0.00,2,    1.67,2,-999.000,9,-999.000,9,-999.0000,9,  -999.0,9,  -999.0,9,-999.0000,9,  -999.00,-999.000,9,-999.000,9,-999.000,9,   7.3129,2,-999.000,9, -999.00,9, -999.00,-999.000,9,-999.000, -999.00,9, -999.00,9, -33.7669,  94.4655,-999.000,-999.000,20090430,       0050
33RR20090320,        I05,     144,          1,         20,         20,2,20090429,       2334,   -33.7668,    94.4654,       4536,   943.0,   5.7052,  34.3965,2,  34.3957,2,    199.9,2,   198.6,2,   23.91,2,   28.66,2,    0.00,2,    1.97,2,-999.000,9,-999.000,9,-999.0000,9,  -999.0,9,  -999.0,9,-999.0000,9,  -999.00,-999.000,9,-999.000,9,-999.000,9,   5.7073,2,-999.000,9, -999.00,9, -999.00,-999.000,9,-999.000, -999.00,9, -999.00,9, -33.7670,  94.4655,-999.000,-999.000,20090430,       0047
33RR20090320,        I05,     144,          1,         19,         19,2,20090429,       2334,   -33.7668,    94.4654,       4536,  1041.0,   4.5712,  34.3637,2,  34.3635,2,    198.5,2,   198.5,2,   33.33,2,   30.93,2,    0.00,2,    2.15,2,-999.000,9,-999.000,9,-999.0000,9,  2197.2,2,  2300.7,2,   7.6885,2,    20.00,-999.000,9,-999.000,9,-999.000,9,   4.5739,2,-999.000,9, -999.00,9, -999.00,-999.000,9,-999.000, -999.00,9, -999.00,9, -33.7670,  94.4655,-999.000,-999.000,20090430,       0045
33RR20090320,        I05,     144,          1,         18,         18,2,20090429,       2334,   -33.7668,    94.4654,       4536,  1144.0,   4.0275,  34.3991,2,  34.3978,2,    185.3,2,   184.3,2,   45.17,2,   32.69,2,    0.00,2,    2.30,2,-999.000,9,-999.000,9,-999.0000,9,  -999.0,9,  -999.0,9,-999.0000,9,  -999.00,-999.000,9,-999.000,9,-999.000,9,   4.0231,2,-999.000,9, -999.00,9, -999.00,-999.000,9,-999.000, -999.00,9, -999.00,9, -33.7670,  94.4654,-999.000,-999.000,20090430,       0043
33RR20090320,        I05,     144,          1,         17,         17,2,20090429,       2334,   -33.7668,    94.4654,       4536,  1242.1,   3.7410,  34.4552,2,  34.4536,2,    167.9,2,   168.2,2,   57.23,2,   33.98,2,    0.00,2,    2.40,2,-999.000,9,-999.000,9,-999.0000,9,  -999.0,9,  -999.0,9,-999.0000,9,  -999.00,-999.000,9,-999.000,9,-999.000,9,   3.7433,2,-999.000,9, -999.00,9, -999.00,-999.000,9,-999.000, -999.00,9, -999.00,9, -33.7670,  94.4654,-999.000,-999.000,20090430,       0040
33RR20090320,        I05,     144,          1,         16,         16,2,20090429,       2334,   -33.7668,    94.4654,       4536,  1341.6,   3.4836,  34.4973,2,  34.4968,2,    160.0,2,   160.4,2,   65.67,2,   34.55,2,    0.00,2,    2.46,2,-999.000,9,-999.000,9,-999.0000,9,  -999.0,9,  -999.0,9,-999.0000,9,  -999.00,-999.000,9,-999.000,9,-999.000,9,   3.4825,2,-999.000,9, -999.00,9, -999.00,-999.000,9,-999.000, -999.00,9, -999.00,9, -33.7670,  94.4654,-999.000,-999.000,20090430,       0038
33RR20090320,        I05,     144,          1,         15,         15,2,20090429,       2334,   -33.7668,    94.4654,       4536,  1445.8,   3.2751,  34.5393,2,  34.5384,2,    155.8,2,   156.2,2,   72.29,2,   34.83,2,    0.00,2,    2.48,2,-999.000,9,-999.000,9,-999.0000,9,  2255.6,2,  2340.6,2,   7.6287,2,    20.00,-999.000,9,-999.000,9,-999.000,9,   3.2772,2,-999.000,9, -999.00,9, -999.00,-999.000,9,-999.000, -999.00,9, -999.00,9, -33.7669,  94.4654,-999.000,-999.000,20090430,       0036
33RR20090320,        I05,     144,          1,         14,         14,2,20090429,       2334,   -33.7668,    94.4654,       4536,  1543.0,   3.1248,  34.5751,2,  34.5732,2,    154.0,2,   153.9,2,   77.44,2,   34.83,2,    0.00,2,    2.49,2,-999.000,9,-999.000,9,-999.0000,9,  -999.0,9,  -999.0,9,-999.0000,9,  -999.00,-999.000,9,-999.000,9,-999.000,9,   3.1253,2,-999.000,9, -999.00,9, -999.00,-999.000,9,-999.000, -999.00,9, -999.00,9, -33.7669,  94.4654,-999.000,-999.000,20090430,       0033
33RR20090320,        I05,     144,          1,         13,         13,2,20090429,       2334,   -33.7668,    94.4654,       4536,  1674.3,   2.9244,  34.6138,2,  34.6125,2,    155.6,2,   155.7,2,   81.87,2,   34.48,2,    0.00,2,    2.46,2,-999.000,9,-999.000,9,-999.0000,9,  2264.4,2,  2351.5,2,   7.6309,2,    20.00,-999.000,9,-999.000,9,-999.000,9,   2.9241,2,-999.000,9, -999.00,9, -999.00,-999.000,9,-999.000, -999.00,9, -999.00,9, -33.7669,  94.4654,-999.000,-999.000,20090430,       0031
33RR20090320,        I05,     144,          1,         12,         12,2,20090429,       2334,   -33.7668,    94.4654,       4536,  1876.1,   2.6377,  34.6657,2,  34.6651,2,    162.7,2,   163.1,2,   85.92,2,   33.63,2,    0.00,2,    2.38,2,-999.000,9,-999.000,9,-999.0000,9,  -999.0,9,  -999.0,9,-999.0000,9,  -999.00,-999.000,9,-999.000,9,-999.000,9,   2.6379,2,-999.000,9, -999.00,9, -999.00,-999.000,9,-999.000, -999.00,9, -999.00,9, -33.7669,  94.4655,-999.000,-999.000,20090430,       0027
33RR20090320,        I05,     144,          1,         11,         11,2,20090429,       2334,   -33.7668,    94.4654,       4536,  2096.2,   2.3818,  34.7068,2,  34.7058,2,    173.0,2,   173.8,2,   88.13,2,   32.48,2,    0.00,2,    2.29,2,-999.000,9,-999.000,9,-999.0000,9,  2259.1,2,  2357.2,2,   7.6609,2,    20.00,-999.000,9,-999.000,9,-999.000,9,   2.3819,2,-999.000,9, -999.00,9, -999.00,-999.000,9,-999.000, -999.00,9, -999.00,9, -33.7668,  94.4656,-999.000,-999.000,20090430,       0022
33RR20090320,        I05,     144,          1,         10,         10,2,20090429,       2334,   -33.7668,    94.4654,       4536,  2350.9,   2.1440,  34.7340,2,  34.7341,2,    185.5,2,   186.1,2,   87.93,2,   31.34,2,    0.00,2,    2.20,2,-999.000,9,-999.000,9,-999.0000,9,  -999.0,9,  -999.0,9,-999.0000,9,  -999.00,-999.000,9,-999.000,9,-999.000,9,   2.1439,2,-999.000,9, -999.00,9, -999.00,-999.000,9,-999.000, -999.00,9, -999.00,9, -33.7668,  94.4655,-999.000,-999.000,20090430,       0018
33RR20090320,        I05,     144,          1,          9,          9,2,20090429,       2334,   -33.7668,    94.4654,       4536,  2601.8,   1.9034,  34.7449,2,  34.7453,2,    193.6,2,   193.5,2,   92.55,2,   30.94,2,    0.00,2,    2.16,2,-999.000,9,-999.000,9,-999.0000,9,  2251.1,2,  2357.1,2,   7.6856,2,    20.00,-999.000,9,-999.000,9,-999.000,9,   1.9039,2,-999.000,9, -999.00,9, -999.00,-999.000,9,-999.000, -999.00,9, -999.00,9, -33.7668,  94.4655,-999.000,-999.000,20090430,       0013
33RR20090320,        I05,     144,          1,          8,          8,2,20090429,       2334,   -33.7668,    94.4654,       4536,  2854.5,   1.6668,  34.7414,2,  34.7400,2,    197.2,2,   197.1,2,   99.97,2,   31.11,2,    0.00,2,    2.18,2,-999.000,9,-999.000,9,-999.0000,9,  -999.0,9,  -999.0,9,-999.0000,9,  -999.00,-999.000,9,-999.000,9,-999.000,9,   1.6657,2,-999.000,9, -999.00,9, -999.00,-999.000,9,-999.000, -999.00,9, -999.00,9, -33.7669,  94.4655,-999.000,-999.000,20090430,       0008
33RR20090320,        I05,     144,          1,          7,          7,2,20090429,       2334,   -33.7668,    94.4654,       4536,  3125.0,   1.4250,  34.7335,2,  34.7333,2,    200.1,2,   200.2,2,  107.03,2,   31.39,2,    0.00,2,    2.20,2,-999.000,9,-999.000,9,-999.0000,9,  -999.0,9,  -999.0,9,-999.0000,9,  -999.00,-999.000,9,-999.000,9,-999.000,9,   1.4257,2,-999.000,9, -999.00,9, -999.00,-999.000,9,-999.000, -999.00,9, -999.00,9, -33.7669,  94.4655,-999.000,-999.000,20090430,       0003
33RR20090320,        I05,     144,          1,          6,          6,2,20090429,       2334,   -33.7668,    94.4654,       4536,  3427.4,   1.2503,  34.7255,2,  34.7256,2,    202.2,2,   202.4,2,  112.43,2,   31.72,2,    0.00,2,    2.22,2,-999.000,9,-999.000,9,-999.0000,9,  -999.0,9,  -999.0,9,-999.0000,9,  -999.00,-999.000,9,-999.000,9,-999.000,9,   1.2497,2,-999.000,9, -999.00,9, -999.00,-999.000,9,-999.000, -999.00,9, -999.00,9, -33.7668,  94.4655,-999.000,-999.000,20090429,       2357
33RR20090320,        I05,     144,          1,          5,          5,2,20090429,       2334,   -33.7668,    94.4654,       4536,  3734.3,   1.1342,  34.7197,2,  34.7197,2,    203.5,2,   203.6,2,  116.16,2,   31.95,2,    0.00,2,    2.23,2,-999.000,9,-999.000,9,-999.0000,9,  -999.0,9,  -999.0,9,-999.0000,9,  -999.00,-999.000,9,-999.000,9,-999.000,9,   1.1347,2,-999.000,9, -999.00,9, -999.00,-999.000,9,-999.000, -999.00,9, -999.00,9, -33.7668,  94.4655,-999.000,-999.000,20090429,       2351
33RR20090320,        I05,     144,          1,          4,          4,2,20090429,       2334,   -33.7668,    94.4654,       4536,  4038.4,   1.0730,  34.7156,2,  34.7138,2,    204.7,2,   205.2,2,  118.95,2,   32.06,2,    0.00,2,    2.24,2,-999.000,9,-999.000,9,-999.0000,9,  -999.0,9,  -999.0,9,-999.0000,9,  -999.00,-999.000,9,-999.000,9,-999.000,9,   1.0735,2,-999.000,9, -999.00,9, -999.00,-999.000,9,-999.000, -999.00,9, -999.00,9, -33.7668,  94.4653,-999.000,-999.000,20090429,       2345
33RR20090320,        I05,     144,          1,          3,          3,2,20090429,       2334,   -33.7668,    94.4654,       4536,  4341.1,   1.0392,  34.7126,2,  34.7123,2,    205.5,2,   205.4,2,  120.62,2,   32.17,2,    0.00,2,    2.25,2,-999.000,9,-999.000,9,-999.0000,9,  2267.5,2,  2376.2,2,   7.6918,2,    20.00,-999.000,9,-999.000,9,-999.000,9,   1.0391,2,-999.000,9, -999.00,9, -999.00,-999.000,9,-999.000, -999.00,9, -999.00,9, -33.7668,  94.4653,-999.000,-999.000,20090429,       2340
33RR20090320,        I05,     144,          1,          2,          2,2,20090429,       2334,   -33.7668,    94.4654,       4536,  4470.4,   1.0465,  34.7117,2,  34.7119,2,    205.8,2,   205.8,2,  120.80,2,   32.10,2,    0.00,2,    2.25,2,-999.000,9,-999.000,9,-999.0000,9,  -999.0,9,  -999.0,9,-999.0000,9,  -999.00,-999.000,9,-999.000,9,-999.000,9,   1.0458,2,-999.000,9, -999.00,9, -999.00,-999.000,9,-999.000, -999.00,9, -999.00,9, -33.7667,  94.4653,-999.000,-999.000,20090429,       2337
33RR20090320,        I05,     144,          1,          1,          1,2,20090429,       2334,   -33.7668,    94.4654,       4536,  4600.4,   1.0601,  34.7120,2,  34.7121,2,    205.5,2,   205.5,2,  120.97,2,   32.16,2,    0.00,2,    2.26,2,-999.000,9,-999.000,9,-999.0000,9,  2268.5,6,  2375.5,2,   7.6921,2,    20.00,-999.000,9,-999.000,9,-999.000,9,   1.0603,2,-999.000,9, -999.00,9, -999.00,-999.000,9,-999.000, -999.00,9, -999.00,9, -33.7668,  94.4654,-999.000,-999.000,20090429,       2334