BOTTLE,20220814CCHSIOAMB
EXPOCODE,SECT_ID,STNNBR,CASTNO,SAMPNO,BTLNBR,BTLNBR_FLAG_W,DATE,TIME,LATITUDE,LONGITUDE,DEPTH,CTDPRS,CTDTMP,CTDSAL,CTDSAL_FLAG_W,SALNTY,SALNTY_FLAG_W,CTDOXY,CTDOXY_FLAG_W,OXYGEN,OXYGEN_FLAG_W,SILCAT,SILCAT_FLAG_W,NITRAT,NITRAT_FLAG_W,NITRIT,NITRIT_FLAG_W,PHSPHT,PHSPHT_FLAG_W,CFC-11,CFC-11_FLAG_W,CFC-12,CFC-12_FLAG_W,SF6,SF6_FLAG_W,TCARBN,TCARBN_FLAG_W,ALKALI,ALKALI_FLAG_W,PH_TOT,PH_TOT_FLAG_W,PH_TMP,TRITUM,TRITUM_FLAG_W,HELIUM,HELIUM_FLAG_W,DELHE3,DELHE3_FLAG_W,REFTMP,REFTMP_FLAG_W,DELC13,DELC13_FLAG_W,DELC14,DELC14_FLAG_W,C14ERR,NEON,NEON_FLAG_W,NEONER,DOC,DOC_FLAG_W,TDN,TDN_FLAG_W,BTL_LAT,BTL_LON,HELIER,DELHER,BTL_DATE,BTL_TIME
,,,,,,,,,,,METERS,DBAR,ITS-90,PSS-78,,PSS-78,,UMOL/KG,,UMOL/KG,,UMOL/KG,,UMOL/KG,,UMOL/KG,,UMOL/KG,,PMOL/KG,,PMOL/KG,,FMOL/KG,,UMOL/KG,,UMOL/KG,,,,DEG C,TU,,NMOL/KG,,PERCNT,,DEG C,,/MILLE,,/MILLE,,/MILLE,NMOL/KG,,NMOL/KG,UMOL/KG,,UMOL/KG,,,,NMOL/KG,PERCNT,,
33RR20090320,        I05,      38,          1,         36,         36,2,20090401,       1836,   -32.9971,    42.8683,       2955,     4.3,  23.0460,  35.6401,2,  35.6404,2,    217.9,2,   217.5,2,    1.63,2,    0.25,2,    0.00,2,    0.05,2,   1.942,2,   1.191,2,   1.1290,2,  2030.8,6,  2334.6,2,   8.1231,2,    20.00,   0.536,2,   1.796,2,  -1.574,2,  23.0456,2,   1.091,2,   53.19,2,     2.8,   7.188,2,   0.014,   66.35,2,    4.29,2, -32.9975,  42.8687,   0.001,   0.193,20090401,       2013
33RR20090320,        I05,      38,          1,         35,         35,2,20090401,       1836,   -32.9971,    42.8683,       2955,    25.8,  22.7974,  35.6646,2,  35.6645,2,    219.8,2,   219.1,2,    1.62,2,    0.25,2,    0.00,2,    0.04,2,   1.949,2,   1.190,2,   1.1250,2,  2038.2,2,  2335.6,2,   8.1233,2,    20.00,   0.600,2,   1.810,2,  -1.453,2,  22.7918,2,-999.000,9, -999.00,9, -999.00,   7.201,2,   0.012,   66.35,2,    4.77,2, -32.9975,  42.8686,   0.001,   0.205,20090401,       2011
33RR20090320,        I05,      38,          1,         34,         34,2,20090401,       1836,   -32.9971,    42.8683,       2955,    50.5,  22.2522,  35.6516,2,  35.6501,2,    221.2,2,   220.7,2,    1.60,2,    0.24,2,    0.00,2,    0.04,2,   1.987,2,   1.209,2,   1.0970,2,  2034.1,2,  2333.7,2,   8.1192,2,    20.00,   0.579,2,-999.000,9,-999.000,9,  22.2506,2,-999.000,9, -999.00,9, -999.00,-999.000,9,-999.000,   65.48,2,    4.05,2, -32.9975,  42.8686,-999.000,-999.000,20090401,       2010
33RR20090320,        I05,      38,          1,         33,         33,2,20090401,       1836,   -32.9971,    42.8683,       2955,    74.1,  18.8749,  35.5717,2,  35.5733,2,    239.2,2,   242.0,2,    1.98,2,    0.24,2,    0.00,2,    0.10,2,   2.341,2,   1.395,2,   1.1750,2,  2045.1,2,  2330.4,2,   8.0952,2,    20.00,   0.588,2,   1.786,2,  -1.874,2,  18.8304,2,   1.114,2,   51.44,2,     2.8,   7.331,2,   0.012,   61.50,2,    3.93,2, -32.9975,  42.8685,   0.001,   0.205,20090401,       2008
33RR20090320,        I05,      38,          1,         32,         32,2,20090401,       1836,   -32.9971,    42.8683,       2955,   100.4,  17.7838,  35.5539,2,  35.5526,2,    218.1,2,   213.3,2,    2.74,2,    2.67,2,    0.03,2,    0.28,2,   2.363,2,   1.409,2,   1.1110,2,  2072.6,2,  2327.3,2,   8.0423,2,    20.00,   0.718,2,   1.867,2,  -0.991,2,  17.7832,2,-999.000,9, -999.00,9, -999.00,   7.624,2,   0.013,   54.74,2,    6.22,2, -32.9975,  42.8685,   0.001,   0.181,20090401,       2006
33RR20090320,        I05,      38,          1,         31,         31,2,20090401,       1836,   -32.9971,    42.8683,       2955,   125.5,  17.1821,  35.5478,2,  35.5465,2,    212.8,2,   211.6,2,    3.11,2,    3.79,2,    0.01,2,    0.35,2,   2.416,2,   1.438,2,   1.2460,2,  2078.7,2,  2327.5,2,   8.0283,2,    20.00,   0.526,2,   1.875,2,  -1.639,2,  17.1853,2,-999.000,9, -999.00,9, -999.00,   7.650,2,   0.015,   52.35,2,    7.19,2, -32.9974,  42.8685,   0.001,   0.181,20090401,       2005
33RR20090320,        I05,      38,          1,         30,         30,2,20090401,       1836,   -32.9971,    42.8683,       2955,   150.2,  16.9135,  35.5470,2,  35.5469,2,    214.6,2,   214.7,2,    3.09,2,    3.96,2,    0.01,2,    0.36,2,   2.450,2,   1.460,2,   1.1930,2,  2081.6,2,  2326.8,2,   8.0253,2,    20.00,   0.556,2,   1.876,2,  -1.176,2,  16.9138,2,   0.767,2,   50.16,2,     2.8,   7.442,2,   0.013,   51.95,2,    7.30,2, -32.9974,  42.8684,   0.001,   0.182,20090401,       2003
33RR20090320,        I05,      38,          1,         29,         29,2,20090401,       1836,   -32.9971,    42.8683,       2955,   175.0,  16.7562,  35.5449,2,  35.5436,2,    211.4,2,   219.5,2,    2.89,2,    3.84,2,    0.01,2,    0.34,2,   2.466,2,   1.468,2,   1.2150,2,  2077.7,2,  2328.2,2,   8.0290,2,    20.00,   0.497,2,   1.830,2,  -1.686,2,  16.7549,2,-999.000,9, -999.00,9, -999.00,   7.514,2,   0.013,   51.44,2,    6.80,2, -32.9974,  42.8684,   0.001,   0.193,20090401,       2001
33RR20090320,        I05,      38,          1,         28,         28,2,20090401,       1836,   -32.9971,    42.8683,       2955,   199.1,  16.5858,  35.5352,2,  35.5347,2,    210.2,2,   208.0,2,    3.45,2,    4.90,2,    0.01,2,    0.41,2,   2.487,2,   1.464,2,   1.2190,2,  2088.1,2,  2327.0,2,   8.0091,2,    20.00,   0.577,2,   1.845,2,  -0.851,2,  16.5835,2,   0.688,2,   54.85,2,     2.9,   7.579,2,   0.016,   50.92,2,    7.61,2, -32.9974,  42.8684,   0.001,   0.214,20090401,       2000
33RR20090320,        I05,      38,          1,         27,         27,2,20090401,       1836,   -32.9971,    42.8683,       2955,   223.3,  16.3962,  35.5291,2,  35.5280,2,    210.0,2,   216.5,2,    3.25,2,    4.56,2,    0.01,2,    0.41,2,   2.516,2,   1.492,2,   1.2660,2,  2084.6,2,  2326.7,2,   8.0150,2,    20.00,   0.554,2,   1.852,2,  -1.881,2,  16.3954,2,-999.000,9, -999.00,9, -999.00,   7.715,2,   0.017,   50.21,2,    7.07,2, -32.9974,  42.8685,   0.001,   0.209,20090401,       1959
33RR20090320,        I05,      38,          1,         26,         26,2,20090401,       1836,   -32.9971,    42.8683,       2955,   248.6,  16.0522,  35.5016,2,  35.5002,2,    211.4,2,   212.1,2,    3.42,2,    5.34,2,    0.00,2,    0.46,2,   2.574,2,   1.510,2,   1.1290,2,  2092.5,2,  2325.7,2,   8.0005,2,    20.00,   0.590,2,   1.844,2,  -1.233,2,  16.0399,2,-999.000,9, -999.00,9, -999.00,   7.536,2,   0.013,   49.43,2,    7.60,2, -32.9974,  42.8684,   0.001,   0.193,20090401,       1957
33RR20090320,        I05,      38,          1,         25,         25,2,20090401,       1836,   -32.9971,    42.8683,       2955,   299.9,  15.3191,  35.4463,2,  35.4464,2,    213.6,2,   208.9,2,    3.79,2,    6.73,2,    0.00,2,    0.55,2,   2.652,2,   1.541,2,   1.1410,2,  2101.4,2,  2324.7,2,   7.9779,2,    20.00,   0.550,2,   1.825,2,  -0.993,2,  15.3192,2,   0.806,2,   54.46,2,       3,   7.562,2,   0.013,   48.14,2,    8.72,2, -32.9975,  42.8684,   0.001,   0.181,20090401,       1955
33RR20090320,        I05,      38,          1,         24,         24,2,20090401,       1836,   -32.9971,    42.8683,       2955,   348.9,  14.6291,  35.3938,2,  35.3912,2,    209.0,2,   209.8,2,    4.17,2,    7.78,2,    0.00,2,    0.60,2,-999.000,9,-999.000,9,-999.0000,9,  2107.8,2,  2321.0,2,   7.9605,2,    20.00,-999.000,9,-999.000,9,-999.000,9,  14.6351,2,-999.000,9, -999.00,9, -999.00,-999.000,9,-999.000,   47.57,2,    9.20,2, -32.9975,  42.8684,-999.000,-999.000,20090401,       1953
33RR20090320,        I05,      38,          1,         23,         23,2,20090401,       1836,   -32.9971,    42.8683,       2955,   399.9,  14.0679,  35.3425,2,  35.3425,2,    211.7,2,   213.4,2,    4.15,2,    8.46,2,    0.00,2,    0.64,2,   2.862,2,   1.629,2,   1.1390,2,  2110.0,2,  2320.6,2,   7.9501,2,    20.00,   0.468,2,   1.883,2,  -1.055,2,  14.0701,2,   0.883,2,   48.39,2,       3,   7.819,2,   0.015,   46.75,2,   10.26,2, -32.9975,  42.8685,   0.001,   0.194,20090401,       1950
33RR20090320,        I05,      38,          1,         22,         22,2,20090401,       1836,   -32.9971,    42.8683,       2955,   449.2,  13.4645,  35.2794,2,  35.2783,2,    216.2,2,   217.1,2,    4.14,2,    9.28,2,    0.00,2,    0.71,2,-999.000,9,-999.000,9,-999.0000,9,  2113.5,2,  2316.6,2,   7.9393,2,    20.00,-999.000,9,-999.000,9,-999.000,9,  13.4604,2,-999.000,9, -999.00,9, -999.00,-999.000,9,-999.000,   46.21,2,   11.24,2, -32.9975,  42.8685,-999.000,-999.000,20090401,       1948
33RR20090320,        I05,      38,          1,         21,         21,2,20090401,       1836,   -32.9971,    42.8683,       2955,   498.5,  12.8708,  35.2033,2,  35.1995,2,    217.5,2,   218.2,2,    4.32,2,   10.50,2,    0.00,2,    0.78,2,   3.029,2,   1.685,2,   1.2220,2,  2117.1,2,  2315.4,2,   7.9251,2,    20.00,   0.398,2,   1.855,2,  -0.478,2,  12.8698,2,   0.956,2,   54.87,2,     2.9,   7.682,2,   0.014,   45.46,2,   12.11,2, -32.9975,  42.8686,   0.001,   0.187,20090401,       1945
33RR20090320,        I05,      38,          1,         20,         20,2,20090401,       1836,   -32.9971,    42.8683,       2955,   599.2,  11.7851,  35.0458,2,  35.0491,2,    217.4,2,   218.0,2,    4.89,2,   12.68,2,    0.00,2,    0.93,2,-999.000,9,-999.000,9,-999.0000,9,  2123.1,2,  2309.1,2,   7.8994,2,    20.00,-999.000,9,-999.000,9,-999.000,9,  11.7827,2,   1.029,2,   48.34,2,     3.5,-999.000,9,-999.000,   44.68,2,   13.86,2, -32.9974,  42.8685,-999.000,-999.000,20090401,       1942
33RR20090320,        I05,      38,          1,         19,         19,2,20090401,       1836,   -32.9971,    42.8683,       2955,   701.4,  10.7411,  34.8953,2,  34.8978,2,    216.7,2,   217.0,2,    6.04,2,   15.02,2,    0.00,2,    1.08,2,   3.114,6,   1.654,6,   0.9290,6,  2130.5,2,  2302.5,2,   7.8719,2,    20.00,   0.370,2,-999.000,9,-999.000,9,  10.7638,2,   1.033,2,   34.83,2,     3.4,-999.000,9,-999.000,   43.05,2,   16.82,2, -32.9974,  42.8685,-999.000,-999.000,20090401,       1939
33RR20090320,        I05,      38,          1,         18,         18,2,20090401,       1836,   -32.9971,    42.8683,       2955,   801.0,   9.4911,  34.7416,2,  34.7436,2,    212.1,2,   211.7,2,    8.94,2,   18.38,2,    0.00,2,    1.30,2,-999.000,9,-999.000,9,-999.0000,9,  2139.4,2,  2297.8,2,   7.8340,2,    20.00,-999.000,9,-999.000,9,-999.000,9,   9.5050,2,   1.131,2,   27.43,2,       3,-999.000,9,-999.000,   42.38,2,   19.76,2, -32.9973,  42.8685,-999.000,-999.000,20090401,       1936
33RR20090320,        I05,      38,          1,         17,         17,2,20090401,       1836,   -32.9971,    42.8683,       2955,   899.1,   8.1934,  34.6097,2,  34.6104,2,    202.2,2,   203.0,2,   13.98,2,   22.36,2,    0.00,2,    1.56,2,   2.601,2,   1.332,2,   0.6540,2,  2155.7,2,  2293.3,2,   7.7875,2,    20.00,   0.315,2,   1.845,2,   1.531,2,   8.1935,2,   1.058,2,    5.37,2,     2.8,   7.937,2,   0.015,   41.36,2,   23.92,2, -32.9973,  42.8686,   0.001,   0.194,20090401,       1933
33RR20090320,        I05,      38,          1,         16,         16,2,20090401,       1836,   -32.9971,    42.8683,       2955,   999.7,   6.6578,  34.4801,2,  34.4818,2,    198.6,2,   201.0,2,   20.60,2,   26.29,2,    0.00,2,    1.82,2,-999.000,9,-999.000,9,-999.0000,9,  2171.9,2,  2293.4,2,   7.7427,2,    20.00,-999.000,9,-999.000,9,-999.000,9,   6.6682,2,   1.001,2,  -29.97,2,     2.9,-999.000,9,-999.000,   40.47,2,   28.03,2, -32.9973,  42.8685,-999.000,-999.000,20090401,       1930
33RR20090320,        I05,      38,          1,         15,         15,2,20090401,       1836,   -32.9971,    42.8683,       2955,  1102.2,   5.4425,  34.4076,2,  34.4086,2,    202.3,2,   202.0,2,   27.43,2,   28.82,2,    0.00,2,    2.01,2,   2.228,2,   1.126,2,   0.5390,2,  2186.2,2,  2296.1,2,   7.7153,2,    20.00,   0.001,2,   1.887,2,   2.129,2,   5.4487,2,   0.942,2,  -51.41,2,     3.3,   8.253,2,   0.013,   39.89,2,   29.85,2, -32.9974,  42.8685,   0.001,   0.200,20090401,       1928
33RR20090320,        I05,      38,          1,         14,         14,2,20090401,       1836,   -32.9971,    42.8683,       2955,  1200.5,   4.6771,  34.4035,2,  34.4029,2,    196.6,2,   197.0,2,   35.66,2,   30.57,2,    0.00,2,    2.16,2,-999.000,9,-999.000,9,-999.0000,9,  2200.5,2,  2303.4,2,   7.6928,2,    20.00,-999.000,9,-999.000,9,-999.000,9,   4.6868,2,   1.025,2,  -70.21,2,     3.6,-999.000,9,-999.000,   39.11,2,   31.83,2, -32.9974,  42.8686,-999.000,-999.000,20090401,       1925
33RR20090320,        I05,      38,          1,         13,         13,2,20090401,       1836,   -32.9971,    42.8683,       2955,  1301.2,   4.1135,  34.4290,2,  34.4289,2,    186.5,2,   187.0,2,   44.88,2,   32.20,2,    0.00,2,    2.26,2,   1.370,2,   0.670,2,   0.2900,2,  2217.7,2,  2309.2,2,   7.6715,2,    20.00,   0.066,2,   1.914,2,   4.917,2,   4.1168,2,   0.772,2,  -94.33,2,     2.6,   8.462,2,   0.014,   39.05,2,   33.53,2, -32.9974,  42.8686,   0.001,   0.201,20090401,       1922
33RR20090320,        I05,      38,          1,         12,         12,2,20090401,       1836,   -32.9971,    42.8683,       2955,  1402.8,   3.7472,  34.4717,2,  34.4723,2,    179.4,2,   179.8,2,   52.77,2,   32.87,2,    0.00,2,    2.29,2,-999.000,9,-999.000,9,-999.0000,9,  2226.7,2,  2319.4,2,   7.6604,2,    20.00,-999.000,9,-999.000,9,-999.000,9,   3.7470,2,   0.696,2, -109.05,2,     2.4,-999.000,9,-999.000,   38.80,2,   34.80,2, -32.9974,  42.8685,-999.000,-999.000,20090401,       1919
33RR20090320,        I05,      38,          1,         11,         11,2,20090401,       1836,   -32.9971,    42.8683,       2955,  1498.2,   3.4451,  34.5137,2,  34.5133,2,    175.9,2,   175.7,2,   58.88,2,   33.27,2,    0.00,2,    2.35,2,   0.659,2,   0.319,2,   0.0850,2,  2234.5,2,  2324.8,2,   7.6535,2,    20.00,   0.086,2,   1.915,2,   6.478,2,   3.4446,2,-999.000,9, -999.00,9, -999.00,   8.398,2,   0.013,   39.19,2,   35.25,2, -32.9973,  42.8685,   0.001,   0.202,20090401,       1916
33RR20090320,        I05,      38,          1,         10,         10,2,20090401,       1836,   -32.9971,    42.8683,       2955,  1599.3,   3.2386,  34.5621,2,  34.5610,2,    171.1,2,   171.6,2,   64.41,2,   33.38,2,    0.00,2,    2.36,2,-999.000,9,-999.000,9,-999.0000,9,  2242.3,2,  2331.5,2,   7.6493,2,    20.00,-999.000,9,-999.000,9,-999.000,9,   3.2419,2,-999.000,9, -999.00,9, -999.00,-999.000,9,-999.000,   39.24,2,   34.64,2, -32.9973,  42.8686,-999.000,-999.000,20090401,       1913
33RR20090320,        I05,      38,          1,          9,          9,2,20090401,       1836,   -32.9971,    42.8683,       2955,  1699.2,   3.0465,  34.6145,2,  34.6155,2,    170.7,2,   171.5,2,   69.16,2,   32.96,2,    0.00,2,    2.33,2,   0.257,2,   0.128,2,  -0.0210,2,  2246.7,6,  2335.8,2,   7.6541,2,    20.00,   0.003,2,   1.924,2,   8.323,2,   3.0454,2,-999.000,9, -999.00,9, -999.00,   8.266,2,   0.019,   39.06,2,   34.70,2, -32.9973,  42.8686,   0.001,   0.224,20090401,       1909
33RR20090320,        I05,      38,          1,          8,          8,2,20090401,       1836,   -32.9971,    42.8683,       2955,  1801.0,   2.9184,  34.6497,2,  34.6497,2,    172.6,2,   173.9,2,   71.12,2,   32.50,2,    0.00,2,    2.29,2,-999.000,9,-999.000,9,-999.0000,9,  2245.9,2,  2340.6,2,   7.6603,2,    20.00,-999.000,9,-999.000,9,-999.000,9,   2.9189,2,-999.000,9, -999.00,9, -999.00,-999.000,9,-999.000,   39.12,2,   34.00,2, -32.9972,  42.8685,-999.000,-999.000,20090401,       1906
33RR20090320,        I05,      38,          1,          7,          7,2,20090401,       1836,   -32.9971,    42.8683,       2955,  1899.6,   2.8110,  34.6788,2,  34.6795,2,    177.4,2,   177.9,2,   72.30,2,   31.82,2,    0.00,2,    2.21,2,   0.129,2,   0.066,2,   0.0000,2,  2244.1,2,  2341.7,2,   7.6687,2,    20.00,   0.108,2,   1.940,2,   8.765,2,   2.8107,2,-999.000,9, -999.00,9, -999.00,   8.416,2,   0.020,   39.45,2,   33.71,2, -32.9972,  42.8685,   0.001,   0.225,20090401,       1903
33RR20090320,        I05,      38,          1,          6,          6,2,20090401,       1836,   -32.9971,    42.8683,       2955,  1999.1,   2.7266,  34.7136,2,  34.7137,2,    181.4,2,   181.9,2,   72.28,2,   31.08,2,    0.00,2,    2.20,2,-999.000,9,-999.000,9,-999.0000,9,  2242.1,2,  2343.8,2,   7.6791,2,    20.00,-999.000,9,-999.000,9,-999.000,9,   2.7254,2,-999.000,9, -999.00,9, -999.00,-999.000,9,-999.000,   39.76,2,   33.03,2, -32.9972,  42.8685,-999.000,-999.000,20090401,       1900
33RR20090320,        I05,      38,          1,          5,          5,2,20090401,       1836,   -32.9971,    42.8683,       2955,  2197.5,   2.6117,  34.7571,2,  34.7578,2,    191.6,2,   191.5,2,   70.09,2,   29.72,2,    0.00,2,    2.08,2,   0.046,6,   0.024,6,   0.0000,6,  2235.3,2,  2343.8,2,   7.6975,2,    20.00,   0.088,2,   1.923,2,   8.197,2,   2.6118,2,-999.000,9, -999.00,9, -999.00,   8.479,2,   0.014,   39.90,2,   31.36,2, -32.9973,  42.8684,   0.001,   0.202,20090401,       1855
33RR20090320,        I05,      38,          1,          4,          4,2,20090401,       1836,   -32.9971,    42.8683,       2955,  2398.7,   2.4812,  34.7846,2,  34.7844,2,    198.2,2,   199.5,2,   69.68,2,   28.70,2,    0.00,2,    2.00,2,-999.000,9,-999.000,9,-999.0000,9,  2231.1,2,  2346.2,2,   7.7135,2,    20.00,-999.000,9,-999.000,9,-999.000,9,   2.4818,2,-999.000,9, -999.00,9, -999.00,-999.000,9,-999.000,   39.77,2,   30.54,2, -32.9974,  42.8683,-999.000,-999.000,20090401,       1850
33RR20090320,        I05,      38,          1,          3,          3,2,20090401,       1836,   -32.9971,    42.8683,       2955,  2616.6,   2.3147,  34.7951,2,  34.7962,2,    204.2,2,   205.5,2,   71.45,2,   28.19,2,    0.00,2,    1.96,2,   0.018,2,   0.012,2,   0.0100,2,  2229.3,2,  2347.1,2,   7.7219,2,    20.00,   0.001,2,   1.956,2,   6.796,2,   2.3145,2,-999.000,9, -999.00,9, -999.00,   8.519,2,   0.020,   39.99,2,   29.90,2, -32.9973,  42.8683,   0.001,   0.213,20090401,       1845
33RR20090320,        I05,      38,          1,          2,          2,2,20090401,       1836,   -32.9971,    42.8683,       2955,  2818.9,   2.1726,  34.8007,2,  34.8001,2,    209.3,2,   210.9,2,   72.83,2,   27.78,2,    0.00,2,    1.92,2,-999.000,9,-999.000,9,-999.0000,9,  2227.7,2,  2349.3,2,   7.7285,2,    20.00,-999.000,9,-999.000,9,-999.000,9,   2.1700,2,-999.000,9, -999.00,9, -999.00,-999.000,9,-999.000,   39.58,2,   29.31,2, -32.9971,  42.8683,-999.000,-999.000,20090401,       1840
33RR20090320,        I05,      38,          1,          1,          1,2,20090401,       1836,   -32.9971,    42.8683,       2955,  2981.7,   2.0447,  34.7966,2,  34.7968,2,    213.8,2,   212.7,2,   75.60,2,   27.89,2,    0.00,2,    1.94,2,   0.015,2,   0.011,2,   0.0000,2,  2229.6,6,  2349.3,2,   7.7289,2,    20.00,-999.000,9,   2.006,2,   6.579,2,   2.0459,2,-999.000,9, -999.00,9, -999.00,   8.858,2,   0.021,   39.62,2,   28.91,2, -32.9971,  42.8683,   0.001,   0.213,20090401,       1836