BOTTLE,20220814CCHSIOAMB
EXPOCODE,SECT_ID,STNNBR,CASTNO,SAMPNO,BTLNBR,BTLNBR_FLAG_W,DATE,TIME,LATITUDE,LONGITUDE,DEPTH,CTDPRS,CTDTMP,CTDSAL,CTDSAL_FLAG_W,SALNTY,SALNTY_FLAG_W,CTDOXY,CTDOXY_FLAG_W,OXYGEN,OXYGEN_FLAG_W,SILCAT,SILCAT_FLAG_W,NITRAT,NITRAT_FLAG_W,NITRIT,NITRIT_FLAG_W,PHSPHT,PHSPHT_FLAG_W,CFC-11,CFC-11_FLAG_W,CFC-12,CFC-12_FLAG_W,SF6,SF6_FLAG_W,TCARBN,TCARBN_FLAG_W,ALKALI,ALKALI_FLAG_W,PH_TOT,PH_TOT_FLAG_W,PH_TMP,TRITUM,TRITUM_FLAG_W,HELIUM,HELIUM_FLAG_W,DELHE3,DELHE3_FLAG_W,REFTMP,REFTMP_FLAG_W,DELC13,DELC13_FLAG_W,DELC14,DELC14_FLAG_W,C14ERR,NEON,NEON_FLAG_W,NEONER,DOC,DOC_FLAG_W,TDN,TDN_FLAG_W,BTL_LAT,BTL_LON,HELIER,DELHER,BTL_DATE,BTL_TIME
,,,,,,,,,,,METERS,DBAR,ITS-90,PSS-78,,PSS-78,,UMOL/KG,,UMOL/KG,,UMOL/KG,,UMOL/KG,,UMOL/KG,,UMOL/KG,,PMOL/KG,,PMOL/KG,,FMOL/KG,,UMOL/KG,,UMOL/KG,,,,DEG C,TU,,NMOL/KG,,PERCNT,,DEG C,,/MILLE,,/MILLE,,/MILLE,NMOL/KG,,NMOL/KG,UMOL/KG,,UMOL/KG,,,,NMOL/KG,PERCNT,,
33RR20090320,        I05,       8,          1,         36,         36,2,20090325,       1125,   -31.4938,    30.9750,       2913,     3.8,  26.0074,  35.4356,2,  35.4365,2,    205.4,2,   205.4,2,    1.66,2,    0.21,2,    0.00,2,    0.04,2,-999.000,9,-999.000,9,-999.0000,9,  1990.5,6,  2320.5,2,   8.1750,2,    20.00,-999.000,9,-999.000,9,-999.000,9,  26.0047,2,-999.000,9, -999.00,9, -999.00,-999.000,9,-999.000,   66.46,2,    4.55,2, -31.5040,  30.9643,-999.000,-999.000,20090325,       1256
33RR20090320,        I05,       8,          1,         35,         35,2,20090325,       1125,   -31.4938,    30.9750,       2913,    26.5,  25.8328,  35.4304,2,  35.4302,2,    206.0,2,   205.6,2,    1.65,2,    0.15,2,    0.00,2,    0.03,2,-999.000,9,-999.000,9,-999.0000,9,  1988.6,2,  2318.8,2,   8.1744,2,    20.00,-999.000,9,-999.000,9,-999.000,9,  25.8314,2,-999.000,9, -999.00,9, -999.00,-999.000,9,-999.000,   66.72,2,    4.19,2, -31.5038,  30.9645,-999.000,-999.000,20090325,       1255
33RR20090320,        I05,       8,          1,         34,         34,2,20090325,       1125,   -31.4938,    30.9750,       2913,    51.4,  24.2615,  35.3595,2,  35.3608,2,    210.8,2,   212.5,2,    1.63,2,    0.15,2,    0.00,2,    0.07,2,-999.000,9,-999.000,9,-999.0000,9,  2001.7,2,  2316.4,2,   8.1470,2,    20.00,-999.000,9,-999.000,9,-999.000,9,  24.2608,2,-999.000,9, -999.00,9, -999.00,-999.000,9,-999.000,   62.52,2,    4.17,2, -31.5035,  30.9647,-999.000,-999.000,20090325,       1253
33RR20090320,        I05,       8,          1,         33,         33,2,20090325,       1125,   -31.4938,    30.9750,       2913,    76.3,  22.4368,  35.3765,2,  35.3742,2,    197.2,2,   195.0,2,    2.21,2,    1.29,2,    0.09,2,    0.18,2,-999.000,9,-999.000,9,-999.0000,9,  2026.8,2,  2315.6,2,   8.1020,2,    20.00,-999.000,9,-999.000,9,-999.000,9,  22.4332,2,-999.000,9, -999.00,9, -999.00,-999.000,9,-999.000,   60.65,2,    5.11,2, -31.5032,  30.9650,-999.000,-999.000,20090325,       1252
33RR20090320,        I05,       8,          1,         32,         32,2,20090325,       1125,   -31.4938,    30.9750,       2913,   101.7,  21.2934,  35.5064,2,  35.5083,2,    183.7,2,   205.4,2,    2.00,2,    1.57,2,    0.06,2,    0.16,2,-999.000,9,-999.000,9,-999.0000,9,  2038.3,2,  2325.3,2,   8.0964,2,    20.00,-999.000,9,-999.000,9,-999.000,9,  21.2910,2,-999.000,9, -999.00,9, -999.00,-999.000,9,-999.000,   57.11,2,    5.64,2, -31.5030,  30.9652,-999.000,-999.000,20090325,       1250
33RR20090320,        I05,       8,          1,         31,         31,2,20090325,       1125,   -31.4938,    30.9750,       2913,   131.4,  19.8936,  35.5030,2,  35.5041,2,    181.5,2,   183.3,2,    3.56,2,    4.61,2,    0.01,2,    0.34,2,-999.000,9,-999.000,9,-999.0000,9,  2066.2,2,  2321.7,2,   8.0446,2,    20.00,-999.000,9,-999.000,9,-999.000,9,  19.8901,2,-999.000,9, -999.00,9, -999.00,-999.000,9,-999.000,   53.79,2,    7.97,2, -31.5028,  30.9654,-999.000,-999.000,20090325,       1249
33RR20090320,        I05,       8,          1,         30,         30,2,20090325,       1125,   -31.4938,    30.9750,       2913,   155.5,  18.8800,  35.5389,2,  35.5371,2,    187.8,2,   190.5,2,    3.54,2,    4.44,2,    0.01,2,    0.35,2,-999.000,9,-999.000,9,-999.0000,9,  2072.3,2,  2327.6,2,   8.0379,2,    20.00,-999.000,9,-999.000,9,-999.000,9,  18.8737,2,-999.000,9, -999.00,9, -999.00,-999.000,9,-999.000,   53.48,2,    7.88,2, -31.5026,  30.9656,-999.000,-999.000,20090325,       1247
33RR20090320,        I05,       8,          1,         29,         29,2,20090325,       1125,   -31.4938,    30.9750,       2913,   181.2,  18.2788,  35.5417,2,  35.5408,2,    198.1,2,   194.3,2,    3.73,2,    4.55,2,    0.01,2,    0.36,2,-999.000,9,-999.000,9,-999.0000,9,  2075.6,2,  2325.9,2,   8.0313,2,    20.00,-999.000,9,-999.000,9,-999.000,9,  18.2884,2,-999.000,9, -999.00,9, -999.00,-999.000,9,-999.000,   52.98,2,    7.32,2, -31.5024,  30.9657,-999.000,-999.000,20090325,       1246
33RR20090320,        I05,       8,          1,         28,         28,2,20090325,       1125,   -31.4938,    30.9750,       2913,   205.8,  17.8626,  35.5480,2,  35.5465,2,    201.4,2,   199.2,2,    3.51,2,    4.48,2,    0.01,2,    0.36,2,-999.000,9,-999.000,9,-999.0000,9,  2077.0,2,  2328.6,2,   8.0293,2,    20.00,-999.000,9,-999.000,9,-999.000,9,  17.8641,2,-999.000,9, -999.00,9, -999.00,-999.000,9,-999.000,   51.95,2,    6.90,2, -31.5022,  30.9659,-999.000,-999.000,20090325,       1245
33RR20090320,        I05,       8,          1,         27,         27,2,20090325,       1125,   -31.4938,    30.9750,       2913,   229.8,  17.2443,  35.5367,2,  35.5366,2,    203.3,2,   200.7,2,    3.89,2,    5.10,2,    0.01,2,    0.40,2,-999.000,9,-999.000,9,-999.0000,9,  2081.9,2,  2325.9,2,   8.0169,2,    20.00,-999.000,9,-999.000,9,-999.000,9,  17.2415,2,-999.000,9, -999.00,9, -999.00,-999.000,9,-999.000,   50.91,2,    7.67,2, -31.5020,  30.9661,-999.000,-999.000,20090325,       1244
33RR20090320,        I05,       8,          1,         26,         26,2,20090325,       1125,   -31.4938,    30.9750,       2913,   254.6,  16.7227,  35.5119,2,  35.5100,2,    194.8,2,   196.1,2,    4.67,2,    6.34,2,    0.00,2,    0.48,2,-999.000,9,-999.000,9,-999.0000,9,  2092.8,2,  2328.2,2,   7.9975,2,    20.00,-999.000,9,-999.000,9,-999.000,9,  16.7216,2,-999.000,9, -999.00,9, -999.00,-999.000,9,-999.000,   50.13,2,    8.37,2, -31.5018,  30.9663,-999.000,-999.000,20090325,       1242
33RR20090320,        I05,       8,          1,         25,         25,2,20090325,       1125,   -31.4938,    30.9750,       2913,   303.1,  15.6343,  35.4645,2,  35.4652,2,    197.3,2,   196.7,2,    4.46,2,    7.49,2,    0.00,2,    0.56,2,-999.000,9,-999.000,9,-999.0000,9,  2103.8,2,  2323.6,2,   7.9715,2,    20.00,-999.000,9,-999.000,9,-999.000,9,  15.6148,2,-999.000,9, -999.00,9, -999.00,-999.000,9,-999.000,   49.33,2,    9.42,2, -31.5015,  30.9666,-999.000,-999.000,20090325,       1240
33RR20090320,        I05,       8,          1,         24,         24,2,20090325,       1125,   -31.4938,    30.9750,       2913,   354.9,  14.7493,  35.4188,2,  35.4204,2,    204.3,2,   207.0,2,    3.85,2,    7.70,2,    0.00,2,    0.58,2,-999.000,9,-999.000,9,-999.0000,9,  2111.0,2,  2325.2,2,   7.9631,2,    20.00,-999.000,9,-999.000,9,-999.000,9,  14.7614,2,-999.000,9, -999.00,9, -999.00,-999.000,9,-999.000,   48.31,2,    9.20,2, -31.5012,  30.9669,-999.000,-999.000,20090325,       1238
33RR20090320,        I05,       8,          1,         23,         23,2,20090325,       1125,   -31.4938,    30.9750,       2913,   404.1,  13.9833,  35.3277,2,  35.3264,2,    203.7,2,   201.8,2,    5.22,2,    9.76,2,    0.00,2,    0.70,2,-999.000,9,-999.000,9,-999.0000,9,  2117.9,2,  2321.9,2,   7.9364,2,    20.00,-999.000,9,-999.000,9,-999.000,9,  13.9820,2,-999.000,9, -999.00,9, -999.00,-999.000,9,-999.000,   47.38,2,   11.24,2, -31.5009,  30.9672,-999.000,-999.000,20090325,       1236
33RR20090320,        I05,       8,          1,         22,         22,2,20090325,       1125,   -31.4938,    30.9750,       2913,   453.0,  13.3694,  35.2457,2,  35.2499,2,    195.5,2,   196.3,2,    6.59,2,   11.43,2,    0.00,2,    0.81,2,-999.000,9,-999.000,9,-999.0000,9,  2126.3,2,  2318.9,2,   7.9137,2,    20.00,-999.000,9,-999.000,9,-999.000,9,  13.3676,2,-999.000,9, -999.00,9, -999.00,-999.000,9,-999.000,   46.12,2,   12.95,2, -31.5006,  30.9674,-999.000,-999.000,20090325,       1234
33RR20090320,        I05,       8,          1,         21,         21,2,20090325,       1125,   -31.4938,    30.9750,       2913,   502.2,  12.7778,  35.1840,2,  35.1855,2,    194.8,2,   203.3,2,    6.18,2,   11.92,2,    0.00,2,    0.84,2,-999.000,9,-999.000,9,-999.0000,9,  2125.9,2,  2316.8,2,   7.9080,2,    20.00,-999.000,9,-999.000,9,-999.000,9,  12.7661,2,-999.000,9, -999.00,9, -999.00,-999.000,9,-999.000,   44.82,2,   13.71,2, -31.5002,  30.9677,-999.000,-999.000,20090325,       1232
33RR20090320,        I05,       8,          1,         20,         20,2,20090325,       1125,   -31.4938,    30.9750,       2913,   602.0,  11.6404,  35.0317,2,  35.0311,2,    210.3,2,   198.8,2,    7.95,2,   14.64,2,    0.00,2,    1.02,2,-999.000,9,-999.000,9,-999.0000,9,  2137.3,2,  2308.9,2,   7.8732,2,    20.00,-999.000,9,-999.000,9,-999.000,9,  11.6343,2,-999.000,9, -999.00,9, -999.00,-999.000,9,-999.000,   43.86,2,   16.02,2, -31.4999,  30.9681,-999.000,-999.000,20090325,       1229
33RR20090320,        I05,       8,          1,         19,         19,2,20090325,       1125,   -31.4938,    30.9750,       2913,   700.8,  10.7395,  34.9171,2,  34.9162,2,    192.8,2,   200.1,2,    9.31,2,   16.46,2,    0.00,2,    1.14,2,-999.000,9,-999.000,9,-999.0000,9,  2142.7,2,  2304.9,2,   7.8511,2,    20.00,-999.000,9,-999.000,9,-999.000,9,  10.7390,2,-999.000,9, -999.00,9, -999.00,-999.000,9,-999.000,   42.85,2,   18.20,2, -31.4994,  30.9685,-999.000,-999.000,20090325,       1227
33RR20090320,        I05,       8,          1,         18,         18,2,20090325,       1125,   -31.4938,    30.9750,       2913,   803.1,   9.8283,  34.8145,2,  34.8141,2,    186.7,2,   190.0,2,   13.27,2,   19.17,2,    0.00,2,    1.34,2,-999.000,9,-999.000,9,-999.0000,9,  2155.7,2,  2302.8,2,   7.8159,2,    20.00,-999.000,9,-999.000,9,-999.000,9,   9.8258,2,-999.000,9, -999.00,9, -999.00,-999.000,9,-999.000,   42.21,2,   20.49,2, -31.4993,  30.9688,-999.000,-999.000,20090325,       1224
33RR20090320,        I05,       8,          1,         17,         17,2,20090325,       1125,   -31.4938,    30.9750,       2913,   905.8,   8.9238,  34.7280,2,  34.7280,2,    179.6,2,   180.1,2,   18.41,2,   22.02,2,    0.00,2,    1.55,2,-999.000,9,-999.000,9,-999.0000,9,  2169.0,2,  2304.2,2,   7.7794,2,    20.00,-999.000,9,-999.000,9,-999.000,9,   8.9227,2,-999.000,9, -999.00,9, -999.00,-999.000,9,-999.000,   41.20,2,   23.99,2, -31.4991,  30.9691,-999.000,-999.000,20090325,       1221
33RR20090320,        I05,       8,          1,         16,         16,2,20090325,       1125,   -31.4938,    30.9750,       2913,   995.8,   7.7424,  34.6504,2,  34.6493,2,    168.6,2,   167.3,2,   27.55,2,   25.54,2,    0.00,2,    1.83,2,-999.000,9,-999.000,9,-999.0000,9,  2190.5,2,  2305.7,2,   7.7329,2,    20.00,-999.000,9,-999.000,9,-999.000,9,   7.7489,2,-999.000,9, -999.00,9, -999.00,-999.000,9,-999.000,   40.34,2,   27.29,2, -31.4987,  30.9695,-999.000,-999.000,20090325,       1219
33RR20090320,        I05,       8,          1,         15,         15,2,20090325,       1125,   -31.4938,    30.9750,       2913,  1096.5,   6.4611,  34.5685,2,  34.5653,2,    166.5,2,   165.9,2,   35.52,2,   28.24,2,    0.00,2,    2.03,2,-999.000,9,-999.000,9,-999.0000,9,  2203.6,2,  2310.5,2,   7.6994,2,    20.00,-999.000,9,-999.000,9,-999.000,9,   6.4525,2,-999.000,9, -999.00,9, -999.00,-999.000,9,-999.000,   39.82,2,   29.75,2, -31.4982,  30.9700,-999.000,-999.000,20090325,       1216
33RR20090320,        I05,       8,          1,         14,         14,2,20090325,       1125,   -31.4938,    30.9750,       2913,  1197.3,   5.8708,  34.6003,2,  34.5971,2,    147.7,2,   148.2,2,   47.33,2,   30.50,2,    0.00,2,    2.29,2,-999.000,9,-999.000,9,-999.0000,9,  2227.9,2,  2321.2,2,   7.6649,2,    20.00,-999.000,9,-999.000,9,-999.000,9,   5.8744,2,-999.000,9, -999.00,9, -999.00,-999.000,9,-999.000,   39.67,2,   32.47,2, -31.4979,  30.9704,-999.000,-999.000,20090325,       1213
33RR20090320,        I05,       8,          1,         13,         13,2,20090325,       1125,   -31.4938,    30.9750,       2913,  1296.1,   5.5091,  34.6823,2,  34.6817,2,    133.2,2,   126.5,2,   61.98,2,   32.39,2,    0.00,2,    2.41,2,-999.000,9,-999.000,9,-999.0000,9,  2253.9,6,  2337.5,2,   7.6323,2,    20.00,-999.000,9,-999.000,9,-999.000,9,   5.5055,2,-999.000,9, -999.00,9, -999.00,-999.000,9,-999.000,   39.05,2,   33.97,2, -31.4975,  30.9708,-999.000,-999.000,20090325,       1210
33RR20090320,        I05,       8,          1,         12,         12,2,20090325,       1125,   -31.4938,    30.9750,       2913,  1396.8,   4.5605,  34.6614,2,  34.6609,2,    140.3,2,   135.1,2,   69.66,2,   32.93,2,    0.00,2,    2.42,2,-999.000,9,-999.000,9,-999.0000,9,  2259.5,2,  2343.0,2,   7.6304,2,    20.00,-999.000,9,-999.000,9,-999.000,9,   4.5611,2,-999.000,9, -999.00,9, -999.00,-999.000,9,-999.000,   39.16,2,   34.43,2, -31.4973,  30.9711,-999.000,-999.000,20090325,       1208
33RR20090320,        I05,       8,          1,         11,         11,2,20090325,       1125,   -31.4938,    30.9750,       2913,  1497.8,   3.6356,  34.6369,2,  34.6365,2,    153.7,2,   153.8,2,   72.27,2,   32.49,2,    0.00,2,    2.36,2,-999.000,9,-999.000,9,-999.0000,9,  2256.6,2,  2341.4,2,   7.6420,2,    20.00,-999.000,9,-999.000,9,-999.000,9,   3.6342,2,-999.000,9, -999.00,9, -999.00,-999.000,9,-999.000,   39.50,2,   33.76,2, -31.4970,  30.9714,-999.000,-999.000,20090325,       1205
33RR20090320,        I05,       8,          1,         10,         10,2,20090325,       1125,   -31.4938,    30.9750,       2913,  1597.4,   3.1285,  34.6563,2,  34.6554,2,    164.7,2,   165.4,2,   72.66,2,   31.69,2,    0.00,2,    2.29,2,-999.000,9,-999.000,9,-999.0000,9,  2253.7,2,  2344.8,2,   7.6517,2,    20.00,-999.000,9,-999.000,9,-999.000,9,   3.1277,2,-999.000,9, -999.00,9, -999.00,-999.000,9,-999.000,   39.46,2,   32.92,2, -31.4967,  30.9718,-999.000,-999.000,20090325,       1202
33RR20090320,        I05,       8,          1,          9,          9,2,20090325,       1125,   -31.4938,    30.9750,       2913,  1697.6,   2.9639,  34.6887,2,  34.6880,2,    170.1,2,   169.7,2,   74.26,2,   31.13,2,    0.00,2,    2.25,2,-999.000,9,-999.000,9,-999.0000,9,  2252.8,2,  2347.4,2,   7.6608,2,    20.00,-999.000,9,-999.000,9,-999.000,9,   2.9637,2,-999.000,9, -999.00,9, -999.00,-999.000,9,-999.000,   39.44,2,   32.97,2, -31.4964,  30.9721,-999.000,-999.000,20090325,       1159
33RR20090320,        I05,       8,          1,          8,          8,2,20090325,       1125,   -31.4938,    30.9750,       2913,  1796.6,   2.8120,  34.7222,2,  34.7218,2,    176.9,2,   177.5,2,   73.43,2,   30.11,2,    0.00,2,    2.17,2,-999.000,9,-999.000,9,-999.0000,9,  2249.7,2,  2348.8,2,   7.6755,2,    20.00,-999.000,9,-999.000,9,-999.000,9,   2.8106,2,-999.000,9, -999.00,9, -999.00,-999.000,9,-999.000,   39.24,2,   31.56,2, -31.4961,  30.9725,-999.000,-999.000,20090325,       1156
33RR20090320,        I05,       8,          1,          7,          7,2,20090325,       1125,   -31.4938,    30.9750,       2913,  1908.0,   2.7171,  34.7409,2,  34.7405,2,    181.9,2,   182.6,2,   72.82,2,   29.41,2,    0.00,2,    2.12,2,-999.000,9,-999.000,9,-999.0000,9,  2247.1,2,  2350.0,2,   7.6849,2,    20.00,-999.000,9,-999.000,9,-999.000,9,   2.7169,2,-999.000,9, -999.00,9, -999.00,-999.000,9,-999.000,   39.34,2,   31.22,2, -31.4958,  30.9729,-999.000,-999.000,20090325,       1153
33RR20090320,        I05,       8,          1,          6,          6,2,20090325,       1125,   -31.4938,    30.9750,       2913,  2006.0,   2.6550,  34.7547,2,  34.7546,2,    186.6,2,   187.3,2,   71.79,2,   28.87,2,    0.00,2,    2.07,2,-999.000,9,-999.000,9,-999.0000,9,  2242.3,2,  2346.7,2,   7.6928,2,    20.00,-999.000,9,-999.000,9,-999.000,9,   2.6543,2,-999.000,9, -999.00,9, -999.00,-999.000,9,-999.000,   39.28,2,   30.33,2, -31.4955,  30.9732,-999.000,-999.000,20090325,       1150
33RR20090320,        I05,       8,          1,          5,          5,2,20090325,       1125,   -31.4938,    30.9750,       2913,  2204.8,   2.5668,  34.7814,2,  34.7805,2,    197.6,2,   199.0,2,   66.93,2,   27.57,2,    0.00,2,    1.96,2,-999.000,9,-999.000,9,-999.0000,9,  2232.9,2,  2346.3,2,   7.7110,2,    20.00,-999.000,9,-999.000,9,-999.000,9,   2.5664,2,-999.000,9, -999.00,9, -999.00,-999.000,9,-999.000,   39.28,2,   29.08,2, -31.4951,  30.9736,-999.000,-999.000,20090325,       1145
33RR20090320,        I05,       8,          1,          4,          4,2,20090325,       1125,   -31.4938,    30.9750,       2913,  2400.5,   2.4791,  34.7971,2,  34.7966,2,    205.8,2,   205.6,2,   65.10,2,   26.80,2,    0.00,2,    1.90,2,-999.000,9,-999.000,9,-999.0000,9,  2227.7,2,  2345.2,2,   7.7226,2,    20.00,-999.000,9,-999.000,9,-999.000,9,   2.4782,2,-999.000,9, -999.00,9, -999.00,-999.000,9,-999.000,   39.82,2,   28.65,2, -31.4947,  30.9740,-999.000,-999.000,20090325,       1139
33RR20090320,        I05,       8,          1,          3,          3,2,20090325,       1125,   -31.4938,    30.9750,       2913,  2600.2,   2.3725,  34.8097,2,  34.8096,2,    212.6,2,   212.4,2,   64.08,2,   26.16,2,    0.00,2,    1.85,2,-999.000,9,-999.000,9,-999.0000,9,  2220.8,2,  2344.4,2,   7.7329,2,    20.00,-999.000,9,-999.000,9,-999.000,9,   2.3731,2,-999.000,9, -999.00,9, -999.00,-999.000,9,-999.000,   39.73,2,   27.98,2, -31.4944,  30.9744,-999.000,-999.000,20090325,       1134
33RR20090320,        I05,       8,          1,          2,          2,2,20090325,       1125,   -31.4938,    30.9750,       2913,  2797.1,   2.2607,  34.8146,2,  34.8147,2,    216.6,2,   217.2,2,   65.07,2,   25.90,2,    0.00,2,    1.81,2,-999.000,9,-999.000,9,-999.0000,9,  2224.7,2,  2346.2,2,   7.7387,2,    20.00,-999.000,9,-999.000,9,-999.000,9,   2.2597,2,-999.000,9, -999.00,9, -999.00,-999.000,9,-999.000,   39.85,2,   27.68,2, -31.4941,  30.9747,-999.000,-999.000,20090325,       1129
33RR20090320,        I05,       8,          1,          1,          1,2,20090325,       1125,   -31.4938,    30.9750,       2913,  2939.3,   2.1186,  34.8099,2,  34.8120,2,    217.2,2,   217.9,2,   67.88,2,   26.12,2,    0.00,2,    1.83,2,-999.000,9,-999.000,9,-999.0000,9,  2224.8,6,  2346.2,2,   7.7396,2,    20.00,-999.000,9,-999.000,9,-999.000,9,   2.1182,2,-999.000,9, -999.00,9, -999.00,-999.000,9,-999.000,   39.76,2,   28.10,2, -31.4938,  30.9750,-999.000,-999.000,20090325,       1125