BOTTLE,20220814CCHSIOAMB
EXPOCODE,SECT_ID,STNNBR,CASTNO,SAMPNO,BTLNBR,BTLNBR_FLAG_W,DATE,TIME,LATITUDE,LONGITUDE,DEPTH,CTDPRS,CTDTMP,CTDSAL,CTDSAL_FLAG_W,SALNTY,SALNTY_FLAG_W,CTDOXY,CTDOXY_FLAG_W,OXYGEN,OXYGEN_FLAG_W,SILCAT,SILCAT_FLAG_W,NITRAT,NITRAT_FLAG_W,NITRIT,NITRIT_FLAG_W,PHSPHT,PHSPHT_FLAG_W,CFC-11,CFC-11_FLAG_W,CFC-12,CFC-12_FLAG_W,SF6,SF6_FLAG_W,TCARBN,TCARBN_FLAG_W,ALKALI,ALKALI_FLAG_W,PH_TOT,PH_TOT_FLAG_W,PH_TMP,TRITUM,TRITUM_FLAG_W,HELIUM,HELIUM_FLAG_W,DELHE3,DELHE3_FLAG_W,REFTMP,REFTMP_FLAG_W,DELC13,DELC13_FLAG_W,DELC14,DELC14_FLAG_W,C14ERR,NEON,NEON_FLAG_W,NEONER,DOC,DOC_FLAG_W,TDN,TDN_FLAG_W,BTL_LAT,BTL_LON,HELIER,DELHER,BTL_DATE,BTL_TIME
,,,,,,,,,,,METERS,DBAR,ITS-90,PSS-78,,PSS-78,,UMOL/KG,,UMOL/KG,,UMOL/KG,,UMOL/KG,,UMOL/KG,,UMOL/KG,,PMOL/KG,,PMOL/KG,,FMOL/KG,,UMOL/KG,,UMOL/KG,,,,DEG C,TU,,NMOL/KG,,PERCNT,,DEG C,,/MILLE,,/MILLE,,/MILLE,NMOL/KG,,NMOL/KG,UMOL/KG,,UMOL/KG,,,,NMOL/KG,PERCNT,,
33RR20090320,        I05,       9,          2,         36,         36,2,20090325,       1652,   -31.6528,    31.1739,       3135,     4.6,  25.8160,  35.4372,2,  35.4375,2,    204.2,2,   205.0,2,    1.23,2,    0.16,2,    0.00,2,    0.07,2,   1.691,6,   1.059,6,   1.0470,6,  1994.6,6,  2320.3,2,   8.1710,2,    20.00,   0.580,2,-999.000,9,-999.000,9,  25.8150,2,-999.000,9, -999.00,9, -999.00,-999.000,9,-999.000, -999.00,9, -999.00,9, -31.6591,  31.1570,-999.000,-999.000,20090325,       1844
33RR20090320,        I05,       9,          2,         35,         35,2,20090325,       1652,   -31.6528,    31.1739,       3135,    34.7,  25.7768,  35.4345,2,  35.4387,2,    205.6,2,   205.4,2,    1.18,2,    0.08,2,    0.00,2,    0.06,2,   1.701,2,   1.058,2,   1.0170,2,  1995.2,2,  2318.1,2,   8.1701,2,    20.00,   0.640,2,   1.836,2,  -1.790,2,  25.7550,2,-999.000,9, -999.00,9, -999.00,   7.293,2,   0.013, -999.00,9, -999.00,9, -31.6590,  31.1574,   0.001,   0.216,20090325,       1841
33RR20090320,        I05,       9,          2,         34,         34,2,20090325,       1652,   -31.6528,    31.1739,       3135,    60.0,  24.2395,  35.5332,2,  35.5306,2,    208.2,2,   209.6,2,    0.95,2,    0.15,2,    0.00,2,    0.05,2,   1.783,2,   1.124,2,   1.0920,2,  -999.0,9,  -999.0,9,-999.0000,9,  -999.00,   0.626,2,   1.826,2,  -1.329,2,  24.2403,2,-999.000,9, -999.00,9, -999.00,   7.294,2,   0.012, -999.00,9, -999.00,9, -31.6590,  31.1576,   0.001,   0.199,20090325,       1839
33RR20090320,        I05,       9,          2,         33,         33,2,20090325,       1652,   -31.6528,    31.1739,       3135,    85.1,  23.2155,  35.4199,2,  35.4249,2,    207.3,2,   206.0,2,    1.30,2,    0.57,2,    0.02,2,    0.11,2,   1.921,2,   1.188,2,   1.0400,2,  2021.1,2,  2320.5,2,   8.1270,2,    20.00,   0.578,2,-999.000,9,-999.000,9,  23.1987,2,-999.000,9, -999.00,9, -999.00,-999.000,9,-999.000, -999.00,9, -999.00,9, -31.6589,  31.1579,-999.000,-999.000,20090325,       1838
33RR20090320,        I05,       9,          2,         32,         32,2,20090325,       1652,   -31.6528,    31.1739,       3135,   109.7,  21.8309,  35.5422,2,  35.5503,2,    210.9,2,   208.5,2,    1.25,2,    0.74,2,    0.06,2,    0.12,2,   2.020,2,   1.227,2,   1.1120,2,  -999.0,9,  -999.0,9,-999.0000,9,  -999.00,-999.000,9,-999.000,9,-999.000,9,  21.7522,2,-999.000,9, -999.00,9, -999.00,-999.000,9,-999.000, -999.00,9, -999.00,9, -31.6588,  31.1581,-999.000,-999.000,20090325,       1836
33RR20090320,        I05,       9,          2,         31,         31,2,20090325,       1652,   -31.6528,    31.1739,       3135,   134.9,  20.2186,  35.5772,2,  35.5598,2,    202.2,2,   211.3,2,    1.40,2,    1.39,2,    0.09,2,    0.18,2,   2.109,2,   1.309,2,   1.1470,2,  2049.6,2,  2327.8,2,   8.0889,2,    20.00,   0.630,2,   1.895,2,  -1.507,2,  20.1930,2,-999.000,9, -999.00,9, -999.00,   7.717,2,   0.011, -999.00,9, -999.00,9, -31.6586,  31.1584,   0.001,   0.199,20090325,       1835
33RR20090320,        I05,       9,          2,         30,         30,2,20090325,       1652,   -31.6528,    31.1739,       3135,   160.2,  18.9003,  35.5390,2,  35.5398,2,    189.5,2,   190.4,2,    2.94,2,    4.47,2,    0.01,2,    0.36,2,   2.201,2,   1.336,2,   1.0600,2,  -999.0,9,  -999.0,9,-999.0000,9,  -999.00,   0.668,2,   1.902,2,  -0.761,2,  18.9016,2,-999.000,9, -999.00,9, -999.00,   7.834,2,   0.014, -999.00,9, -999.00,9, -31.6585,  31.1587,   0.001,   0.208,20090325,       1833
33RR20090320,        I05,       9,          2,         29,         29,2,20090325,       1652,   -31.6528,    31.1739,       3135,   185.2,  17.9371,  35.5254,2,  35.5153,2,    186.7,2,   183.7,2,    4.28,2,    6.16,2,    0.01,2,    0.47,2,   2.228,2,   1.340,2,   1.0680,2,  2091.6,2,  2326.9,2,   8.0075,2,    20.00,   0.548,2,   1.884,2,  -0.452,2,  17.9429,2,-999.000,9, -999.00,9, -999.00,   7.731,2,   0.013, -999.00,9, -999.00,9, -31.6584,  31.1590,   0.001,   0.200,20090325,       1831
33RR20090320,        I05,       9,          2,         28,         28,2,20090325,       1652,   -31.6528,    31.1739,       3135,   209.4,  16.9666,  35.4468,2,  35.4469,2,    173.4,2,   169.8,2,    6.41,2,    8.95,2,    0.00,2,    0.65,2,   2.287,2,   1.323,2,   0.9690,2,  -999.0,9,  -999.0,9,-999.0000,9,  -999.00,   0.452,2,   1.843,2,   0.446,2,  16.9551,2,-999.000,9, -999.00,9, -999.00,   7.621,2,   0.015, -999.00,9, -999.00,9, -31.6582,  31.1594,   0.001,   0.216,20090325,       1829
33RR20090320,        I05,       9,          2,         27,         27,2,20090325,       1652,   -31.6528,    31.1739,       3135,   235.1,  16.0384,  35.4075,2,  35.4053,2,    173.7,2,   170.6,2,    7.16,2,   10.07,2,    0.00,2,    0.73,2,   2.360,2,   1.338,2,   0.8910,2,  2119.6,2,  2324.3,2,   7.9446,2,    20.00,   0.447,2,   1.816,2,   1.273,2,  16.0349,2,-999.000,9, -999.00,9, -999.00,   7.581,2,   0.013, -999.00,9, -999.00,9, -31.6581,  31.1597,   0.001,   0.206,20090325,       1827
33RR20090320,        I05,       9,          2,         26,         26,2,20090325,       1652,   -31.6528,    31.1739,       3135,   265.2,  15.1758,  35.3451,2,  35.3469,2,    166.3,2,   168.2,2,    8.11,2,   11.48,2,    0.00,2,    0.82,2,   2.395,2,   1.345,2,   0.8220,2,  -999.0,9,  -999.0,9,-999.0000,9,  -999.00,   0.458,2,   1.831,2,   1.422,2,  15.1967,2,-999.000,9, -999.00,9, -999.00,   7.614,2,   0.011, -999.00,9, -999.00,9, -31.6580,  31.1600,   0.000,   0.200,20090325,       1825
33RR20090320,        I05,       9,          2,         25,         25,2,20090325,       1652,   -31.6528,    31.1739,       3135,   314.4,  14.4498,  35.3092,2,  35.3075,2,    174.4,2,   176.6,2,    7.67,2,   11.67,2,    0.00,2,    0.84,2,   2.513,2,   1.402,2,   0.8650,2,  -999.0,9,  -999.0,9,-999.0000,9,  -999.00,-999.000,9,   1.826,2,   1.478,2,  14.4506,2,-999.000,9, -999.00,9, -999.00,   7.568,2,   0.013, -999.00,9, -999.00,9, -31.6577,  31.1604,   0.000,   0.188,20090325,       1823
33RR20090320,        I05,       9,          2,         24,         24,2,20090325,       1652,   -31.6528,    31.1739,       3135,   364.7,  14.1224,  35.2868,2,  35.2854,2,    179.7,2,   180.3,2,    7.43,2,   11.83,2,    0.00,2,    0.85,2,   2.573,2,   1.427,2,   0.8300,2,  2132.3,2,  2319.1,2,   7.9130,2,    20.00,   0.415,2,   1.840,2,   1.075,2,  14.1207,2,-999.000,9, -999.00,9, -999.00,   7.649,2,   0.013, -999.00,9, -999.00,9, -31.6575,  31.1610,   0.001,   0.188,20090325,       1820
33RR20090320,        I05,       9,          2,         23,         23,2,20090325,       1652,   -31.6528,    31.1739,       3135,   413.1,  13.8670,  35.2655,2,  35.2662,2,    182.0,2,   182.9,2,    7.58,2,   12.02,2,    0.00,2,    0.86,2,   2.610,2,   1.437,2,   0.8860,2,  -999.0,9,  -999.0,9,-999.0000,9,  -999.00,-999.000,9,   2.000,2,   0.850,2,  13.8632,2,-999.000,9, -999.00,9, -999.00,   8.357,2,   0.013, -999.00,9, -999.00,9, -31.6570,  31.1616,   0.001,   0.201,20090325,       1817
33RR20090320,        I05,       9,          2,         22,         22,2,20090325,       1652,   -31.6528,    31.1739,       3135,   464.6,  13.5784,  35.2375,2,  35.2359,2,    183.7,2,   183.9,2,    7.54,2,   12.37,2,    0.00,2,    0.89,2,   2.633,2,   1.443,2,   0.8740,2,  -999.0,9,  -999.0,9,-999.0000,9,  -999.00,-999.000,9,   1.948,2,   0.601,2,  13.5781,2,-999.000,9, -999.00,9, -999.00,   8.266,2,   0.016, -999.00,9, -999.00,9, -31.6563,  31.1622,   0.001,   0.210,20090325,       1815
33RR20090320,        I05,       9,          2,         21,         21,2,20090325,       1652,   -31.6528,    31.1739,       3135,   534.6,  13.0845,  35.1813,2,  35.1792,2,    182.4,2,   182.2,2,    8.29,2,   13.48,2,    0.00,2,    0.95,2,   2.610,2,   1.445,2,   0.8860,2,  2139.1,2,  2316.8,2,   7.8880,2,    20.00,   0.346,2,   1.891,2,   1.659,2,  13.0850,2,-999.000,9, -999.00,9, -999.00,   7.980,2,   0.013, -999.00,9, -999.00,9, -31.6562,  31.1628,   0.001,   0.200,20090325,       1811
33RR20090320,        I05,       9,          2,         20,         20,2,20090325,       1652,   -31.6528,    31.1739,       3135,   634.0,  12.0932,  35.0727,2,  35.0703,2,    183.6,2,   184.3,2,    9.05,2,   15.23,2,    0.00,2,    1.08,2,-999.000,9,-999.000,9,-999.0000,9,  -999.0,9,  -999.0,9,-999.0000,9,  -999.00,-999.000,9,-999.000,9,-999.000,9,  12.0922,2,-999.000,9, -999.00,9, -999.00,-999.000,9,-999.000, -999.00,9, -999.00,9, -31.6562,  31.1633,-999.000,-999.000,20090325,       1808
33RR20090320,        I05,       9,          2,         19,         19,2,20090325,       1652,   -31.6528,    31.1739,       3135,   739.1,  11.1906,  34.9716,2,  34.9710,2,    188.1,2,   188.4,2,    9.59,2,   16.60,2,    0.00,2,    1.16,2,   2.706,2,   1.432,2,   0.7880,2,  -999.0,9,  -999.0,9,-999.0000,9,  -999.00,   0.305,2,   1.918,2,   2.015,2,  11.1906,2,-999.000,9, -999.00,9, -999.00,   8.237,2,   0.013, -999.00,9, -999.00,9, -31.6560,  31.1639,   0.001,   0.201,20090325,       1804
33RR20090320,        I05,       9,          2,         18,         18,2,20090325,       1652,   -31.6528,    31.1739,       3135,   834.1,  10.2669,  34.8665,2,  34.8648,2,    187.6,2,   188.1,2,   11.55,2,   18.59,2,    0.00,2,    1.30,2,   2.598,2,   1.364,2,   0.6610,2,  2154.0,2,  2305.5,2,   7.8237,2,    20.00,   0.260,2,-999.000,9,-999.000,9,  10.2637,2,-999.000,9, -999.00,9, -999.00,-999.000,9,-999.000, -999.00,9, -999.00,9, -31.6557,  31.1645,-999.000,-999.000,20090325,       1800
33RR20090320,        I05,       9,          2,         17,         17,2,20090325,       1652,   -31.6528,    31.1739,       3135,   934.3,   9.3464,  34.7711,2,  34.7706,2,    181.0,2,   182.3,2,   15.69,2,   21.10,2,    0.00,2,    1.47,2,   2.313,2,   1.186,2,   0.5210,2,  -999.0,9,  -999.0,9,-999.0000,9,  -999.00,   0.235,2,-999.000,9,-999.000,9,   9.3335,2,-999.000,9, -999.00,9, -999.00,-999.000,9,-999.000, -999.00,9, -999.00,9, -31.6554,  31.1652,-999.000,-999.000,20090325,       1756
33RR20090320,        I05,       9,          2,         16,         16,2,20090325,       1652,   -31.6528,    31.1739,       3135,  1035.1,   8.0766,  34.6794,2,  34.6792,2,    166.2,2,   166.1,2,   25.03,2,   25.07,2,    0.00,2,    1.79,2,   1.719,2,   0.858,2,   0.3370,2,  -999.0,9,  -999.0,9,-999.0000,9,  -999.00,   0.199,2,   1.862,2,   2.920,2,   8.0762,2,-999.000,9, -999.00,9, -999.00,   8.129,2,   0.013, -999.00,9, -999.00,9, -31.6551,  31.1659,   0.001,   0.211,20090325,       1752
33RR20090320,        I05,       9,          2,         15,         15,2,20090325,       1652,   -31.6528,    31.1739,       3135,  1139.6,   6.7413,  34.5915,2,  34.5929,2,    164.9,2,   163.1,2,   33.61,2,   27.90,2,    0.00,2,    2.00,2,-999.000,9,-999.000,9,-999.0000,9,  2204.6,2,  2310.0,2,   7.7031,2,    20.00,-999.000,9,-999.000,9,-999.000,9,   6.7413,2,-999.000,9, -999.00,9, -999.00,-999.000,9,-999.000, -999.00,9, -999.00,9, -31.6550,  31.1665,-999.000,-999.000,20090325,       1748
33RR20090320,        I05,       9,          2,         14,         14,2,20090325,       1652,   -31.6528,    31.1739,       3135,  1239.3,   5.8356,  34.5856,2,  34.5859,2,    145.4,2,   151.3,2,   45.43,2,   30.35,2,    0.00,2,    2.21,2,   0.945,2,   0.431,2,   0.1770,2,  -999.0,9,  -999.0,9,-999.0000,9,  -999.00,   0.044,2,-999.000,9,-999.000,9,   5.8280,2,-999.000,9, -999.00,9, -999.00,-999.000,9,-999.000, -999.00,9, -999.00,9, -31.6550,  31.1670,-999.000,-999.000,20090325,       1744
33RR20090320,        I05,       9,          2,         13,         13,2,20090325,       1652,   -31.6528,    31.1739,       3135,  1338.8,   5.1255,  34.5952,2,  34.5917,2,    147.0,2,   146.1,2,   55.08,2,   31.85,2,    0.00,2,    2.32,2,-999.000,9,-999.000,9,-999.0000,9,  -999.0,9,  -999.0,9,-999.0000,9,  -999.00,-999.000,9,   1.930,2,   7.639,2,   5.1345,2,-999.000,9, -999.00,9, -999.00,   8.363,2,   0.013, -999.00,9, -999.00,9, -31.6548,  31.1675,   0.001,   0.202,20090325,       1740
33RR20090320,        I05,       9,          2,         12,         12,2,20090325,       1652,   -31.6528,    31.1739,       3135,  1437.9,   4.8877,  34.6542,2,  34.6534,2,    135.1,2,   134.7,2,   64.56,2,   32.65,2,    0.00,2,    2.40,2,   0.456,2,   0.191,2,   0.0640,2,  2256.9,2,  2335.2,2,   7.6333,2,    20.00,   0.008,2,   1.963,2,   8.165,2,   4.8872,2,-999.000,9, -999.00,9, -999.00,   8.454,2,   0.016, -999.00,9, -999.00,9, -31.6544,  31.1681,   0.001,   0.221,20090325,       1736
33RR20090320,        I05,       9,          2,         11,         11,2,20090325,       1652,   -31.6528,    31.1739,       3135,  1538.0,   3.9088,  34.6526,2,  34.6528,2,    144.0,2,   146.5,2,   71.83,2,   32.68,2,    0.00,2,    2.40,2,   0.306,2,   0.121,2,   0.0040,2,  2260.4,2,  2345.0,2,   7.6375,2,    20.00,   0.006,2,   1.957,2,   8.921,2,   3.9104,2,-999.000,9, -999.00,9, -999.00,   8.410,2,   0.014, -999.00,9, -999.00,9, -31.6542,  31.1687,   0.001,   0.203,20090325,       1733
33RR20090320,        I05,       9,          2,         10,         10,2,20090325,       1652,   -31.6528,    31.1739,       3135,  1635.5,   3.2639,  34.6487,2,  34.6487,2,    160.7,2,   161.7,2,   72.21,2,   32.06,2,    0.00,2,    2.30,2,-999.000,9,-999.000,9,-999.0000,9,  -999.0,9,  -999.0,9,-999.0000,9,  -999.00,-999.000,9,-999.000,9,-999.000,9,   3.2618,2,-999.000,9, -999.00,9, -999.00,-999.000,9,-999.000, -999.00,9, -999.00,9, -31.6539,  31.1691,-999.000,-999.000,20090325,       1730
33RR20090320,        I05,       9,          2,          9,          9,2,20090325,       1652,   -31.6528,    31.1739,       3135,  1734.5,   3.0930,  34.6708,2,  34.6733,2,    165.0,2,   165.9,2,   72.99,2,   31.59,2,    0.00,2,    2.28,2,   0.200,2,   0.078,2,   0.0360,2,  -999.0,9,  -999.0,9,-999.0000,9,  -999.00,   0.021,2,   1.996,2,   8.816,2,   3.0919,2,-999.000,9, -999.00,9, -999.00,   8.673,2,   0.027, -999.00,9, -999.00,9, -31.6538,  31.1694,   0.001,   0.210,20090325,       1727
33RR20090320,        I05,       9,          2,          8,          8,2,20090325,       1652,   -31.6528,    31.1739,       3135,  1863.2,   2.8662,  34.7099,2,  34.7090,2,    174.0,2,   174.1,2,   73.35,2,   30.62,2,    0.00,2,    2.21,2,   0.116,2,   0.042,2,   0.0210,2,  2255.3,2,  2344.3,2,   7.6692,2,    20.00,   0.063,2,   1.983,2,   8.482,2,   2.8651,2,-999.000,9, -999.00,9, -999.00,   8.671,2,   0.021, -999.00,9, -999.00,9, -31.6535,  31.1699,   0.001,   0.214,20090325,       1723
33RR20090320,        I05,       9,          2,          7,          7,2,20090325,       1652,   -31.6528,    31.1739,       3135,  2063.9,   2.7051,  34.7509,2,  34.7514,2,    185.9,2,   187.1,2,   69.25,2,   29.07,2,    0.00,2,    2.07,2,   0.068,2,   0.025,2,   0.0210,2,  -999.0,9,  -999.0,9,-999.0000,9,  -999.00,-999.000,9,   1.999,2,   7.480,2,   2.7040,2,-999.000,9, -999.00,9, -999.00,   8.735,2,   0.019, -999.00,9, -999.00,9, -31.6531,  31.1706,   0.001,   0.216,20090325,       1718
33RR20090320,        I05,       9,          2,          6,          6,2,20090325,       1652,   -31.6528,    31.1739,       3135,  2264.1,   2.5760,  34.7773,2,  34.7770,2,    195.6,2,   196.3,2,   67.39,2,   28.02,2,    0.00,2,    1.98,2,   0.042,2,   0.018,2,   0.0340,2,  2236.4,2,  2344.5,2,   7.7077,2,    20.00,   0.013,2,   2.011,2,   7.395,2,   2.5756,2,-999.000,9, -999.00,9, -999.00,   8.590,2,   0.020, -999.00,9, -999.00,9, -31.6529,  31.1712,   0.001,   0.213,20090325,       1714
33RR20090320,        I05,       9,          2,          5,          5,2,20090325,       1652,   -31.6528,    31.1739,       3135,  2463.6,   2.5094,  34.7933,2,  34.7929,2,    203.9,2,   203.4,2,   64.91,2,   27.18,2,    0.00,2,    1.91,2,   0.035,2,   0.015,2,   0.0080,2,  -999.0,9,  -999.0,9,-999.0000,9,  -999.00,-999.000,9,-999.000,9,-999.000,9,   2.5091,2,-999.000,9, -999.00,9, -999.00,-999.000,9,-999.000, -999.00,9, -999.00,9, -31.6529,  31.1718,-999.000,-999.000,20090325,       1709
33RR20090320,        I05,       9,          2,          4,          4,2,20090325,       1652,   -31.6528,    31.1739,       3135,  2661.5,   2.4239,  34.8087,2,  34.8088,2,    210.3,2,   211.2,2,   62.45,2,   26.33,2,    0.00,2,    1.84,2,   0.030,2,   0.012,2,   0.0240,2,  2226.9,2,  2341.3,2,   7.7318,2,    20.00,   0.001,2,   1.983,2,   6.761,2,   2.4233,2,-999.000,9, -999.00,9, -999.00,   8.452,2,   0.020, -999.00,9, -999.00,9, -31.6529,  31.1724,   0.001,   0.213,20090325,       1704
33RR20090320,        I05,       9,          2,          3,          3,2,20090325,       1652,   -31.6528,    31.1739,       3135,  2861.9,   2.3218,  34.8135,2,  34.8137,2,    213.9,2,   215.2,2,   63.43,2,   26.03,2,    0.00,2,    1.82,2,   0.030,2,   0.012,2,  -0.0090,2,  2225.6,2,  2343.8,2,   7.7365,2,    20.00,   0.001,2,   2.054,2,   5.579,2,   2.3208,2,-999.000,9, -999.00,9, -999.00,   8.872,2,   0.038, -999.00,9, -999.00,9, -31.6530,  31.1729,   0.001,   0.208,20090325,       1700
33RR20090320,        I05,       9,          2,          2,          2,2,20090325,       1652,   -31.6528,    31.1739,       3135,  3060.1,   2.1382,  34.8110,2,  34.8116,2,    216.2,2,   217.7,2,   67.66,2,   26.16,2,    0.00,2,    1.84,2,   0.036,2,   0.015,2,   0.0030,2,  2227.8,2,  2345.1,2,   7.7394,2,    20.00,-999.000,9,   2.058,2,   6.199,2,   2.1378,2,-999.000,9, -999.00,9, -999.00,   8.994,2,   0.025, -999.00,9, -999.00,9, -31.6529,  31.1735,   0.001,   0.210,20090325,       1655
33RR20090320,        I05,       9,          2,          1,          1,2,20090325,       1652,   -31.6528,    31.1739,       3135,  3165.4,   1.8926,  34.7956,2,  34.7964,2,    217.5,2,   217.1,2,   75.57,2,   26.84,2,    0.00,2,    1.89,2,   0.049,6,   0.020,6,   0.0060,6,  2233.6,6,  2352.0,2,   7.7321,2,    20.00,   0.118,2,   1.993,2,   6.117,2,   1.8925,2,-999.000,9, -999.00,9, -999.00,   8.781,2,   0.021, -999.00,9, -999.00,9, -31.6528,  31.1739,   0.001,   0.211,20090325,       1652