BOTTLE,20220814CCHSIOAMB
EXPOCODE,SECT_ID,STNNBR,CASTNO,SAMPNO,BTLNBR,BTLNBR_FLAG_W,DATE,TIME,LATITUDE,LONGITUDE,DEPTH,CTDPRS,CTDTMP,CTDSAL,CTDSAL_FLAG_W,SALNTY,SALNTY_FLAG_W,CTDOXY,CTDOXY_FLAG_W,OXYGEN,OXYGEN_FLAG_W,SILCAT,SILCAT_FLAG_W,NITRAT,NITRAT_FLAG_W,NITRIT,NITRIT_FLAG_W,PHSPHT,PHSPHT_FLAG_W,CFC-11,CFC-11_FLAG_W,CFC-12,CFC-12_FLAG_W,SF6,SF6_FLAG_W,TCARBN,TCARBN_FLAG_W,ALKALI,ALKALI_FLAG_W,PH_TOT,PH_TOT_FLAG_W,PH_TMP,TRITUM,TRITUM_FLAG_W,HELIUM,HELIUM_FLAG_W,DELHE3,DELHE3_FLAG_W,REFTMP,REFTMP_FLAG_W,DELC13,DELC13_FLAG_W,DELC14,DELC14_FLAG_W,C14ERR,NEON,NEON_FLAG_W,NEONER,DOC,DOC_FLAG_W,TDN,TDN_FLAG_W,BTL_LAT,BTL_LON,HELIER,DELHER,BTL_DATE,BTL_TIME
,,,,,,,,,,,METERS,DBAR,ITS-90,PSS-78,,PSS-78,,UMOL/KG,,UMOL/KG,,UMOL/KG,,UMOL/KG,,UMOL/KG,,UMOL/KG,,PMOL/KG,,PMOL/KG,,FMOL/KG,,UMOL/KG,,UMOL/KG,,,,DEG C,TU,,NMOL/KG,,PERCNT,,DEG C,,/MILLE,,/MILLE,,/MILLE,NMOL/KG,,NMOL/KG,UMOL/KG,,UMOL/KG,,,,NMOL/KG,PERCNT,,
33RR20090320,        I05,      47,          1,         36,         36,2,20090403,       1442,   -33.3803,    47.4282,       3581,     6.7,  22.6308,  35.6282,2,  35.6290,2,    216.7,2,   218.0,2,    1.63,2,    0.10,2,    0.00,2,    0.07,2,   1.923,2,   1.170,2,   1.0850,2,  2032.1,6,  2332.8,2,   8.1210,2,    20.00,-999.000,9,-999.000,9,-999.000,9,  22.6293,2,   1.071,2,   53.65,2,     2.8,-999.000,9,-999.000,   66.89,2,    4.92,2, -33.3800,  47.4281,-999.000,-999.000,20090403,       1632
33RR20090320,        I05,      47,          1,         35,         35,2,20090403,       1442,   -33.3803,    47.4282,       3581,    28.0,  22.6277,  35.6300,2,  35.6315,2,    219.2,2,   218.1,2,    1.61,2,    0.09,2,    0.00,2,    0.07,2,   1.928,2,   1.174,2,   1.0950,2,  2031.2,2,  2332.4,2,   8.1211,2,    20.00,-999.000,9,-999.000,9,-999.000,9,  22.6326,2,-999.000,9, -999.00,9, -999.00,-999.000,9,-999.000,   67.03,2,    4.81,2, -33.3801,  47.4281,-999.000,-999.000,20090403,       1631
33RR20090320,        I05,      47,          1,         34,         34,2,20090403,       1442,   -33.3803,    47.4282,       3581,    53.2,  20.5994,  35.6004,2,  35.5994,2,    230.4,2,   230.9,2,    1.79,2,    0.09,2,    0.00,2,    0.10,2,   2.147,2,   1.291,2,   1.2250,2,  2041.7,2,  2330.3,2,   8.1010,2,    20.00,-999.000,9,-999.000,9,-999.000,9,  20.6022,2,-999.000,9, -999.00,9, -999.00,-999.000,9,-999.000,   64.59,2,    4.46,2, -33.3801,  47.4282,-999.000,-999.000,20090403,       1629
33RR20090320,        I05,      47,          1,         33,         33,2,20090403,       1442,   -33.3803,    47.4282,       3581,    77.2,  18.6935,  35.5682,2,  35.5694,2,    239.4,2,   238.9,2,    1.96,2,    0.09,2,    0.00,2,    0.14,2,   2.312,2,   1.379,2,   1.2210,2,  2051.6,2,  2327.3,2,   8.0846,2,    20.00,-999.000,9,-999.000,9,-999.000,9,  18.6399,2,-999.000,9, -999.00,9, -999.00,-999.000,9,-999.000,   57.96,2,    4.56,2, -33.3801,  47.4282,-999.000,-999.000,20090403,       1627
33RR20090320,        I05,      47,          1,         32,         32,2,20090403,       1442,   -33.3803,    47.4282,       3581,   104.4,  17.4013,  35.5547,2,  35.5532,2,    223.9,2,   223.4,2,    2.54,2,    1.20,2,    0.08,2,    0.25,2,   2.413,2,   1.436,2,   1.2620,2,  2072.5,2,  2328.5,2,   8.0441,2,    20.00,-999.000,9,-999.000,9,-999.000,9,  17.4240,2,   0.851,2,   53.99,2,     2.9,-999.000,9,-999.000,   54.02,2,    5.61,2, -33.3801,  47.4282,-999.000,-999.000,20090403,       1626
33RR20090320,        I05,      47,          1,         31,         31,2,20090403,       1442,   -33.3803,    47.4282,       3581,   129.6,  16.8094,  35.5435,2,  35.5451,2,    214.3,2,   215.2,2,    3.31,2,    3.46,2,    0.01,2,    0.37,2,   2.421,6,   1.439,6,   1.2400,6,  2082.7,2,  2325.9,2,   8.0238,2,    20.00,-999.000,9,-999.000,9,-999.000,9,  16.8258,2,-999.000,9, -999.00,9, -999.00,-999.000,9,-999.000,   53.05,2,    6.58,2, -33.3801,  47.4281,-999.000,-999.000,20090403,       1624
33RR20090320,        I05,      47,          1,         30,         30,2,20090403,       1442,   -33.3803,    47.4282,       3581,   151.9,  16.6080,  35.5389,2,  35.5393,2,    215.2,2,   215.6,2,    3.48,2,    4.07,2,    0.01,2,    0.39,2,   2.418,2,   1.433,2,   1.2400,2,  2085.1,2,  2326.7,2,   8.0197,2,    20.00,-999.000,9,-999.000,9,-999.000,9,  16.6046,2,-999.000,9, -999.00,9, -999.00,-999.000,9,-999.000,   52.04,2,    7.38,2, -33.3802,  47.4282,-999.000,-999.000,20090403,       1623
33RR20090320,        I05,      47,          1,         29,         29,2,20090403,       1442,   -33.3803,    47.4282,       3581,   203.4,  16.0070,  35.5024,2,  35.5032,2,    212.6,2,   213.2,2,    3.66,2,    4.89,2,    0.00,2,    0.46,2,   2.527,2,   1.486,2,   1.1710,2,  2092.8,2,  2324.9,2,   8.0014,2,    20.00,-999.000,9,-999.000,9,-999.000,9,  16.0036,2,   0.736,2,   56.78,2,     3.1,-999.000,9,-999.000,   50.82,2,    7.71,2, -33.3802,  47.4282,-999.000,-999.000,20090403,       1621
33RR20090320,        I05,      47,          1,         28,         28,2,20090403,       1442,   -33.3803,    47.4282,       3581,   253.5,  15.4204,  35.4675,2,  35.4701,2,    218.2,2,   213.4,2,    3.83,2,    5.70,2,    0.00,2,    0.51,2,   2.593,2,   1.511,2,   1.2150,2,  2099.7,2,  2324.5,2,   7.9871,2,    20.00,-999.000,9,-999.000,9,-999.000,9,  15.4281,2,-999.000,9, -999.00,9, -999.00,-999.000,9,-999.000,   49.19,2,    8.24,2, -33.3801,  47.4283,-999.000,-999.000,20090403,       1619
33RR20090320,        I05,      47,          1,         27,         27,2,20090403,       1442,   -33.3803,    47.4282,       3581,   300.7,  14.8210,  35.4196,2,  35.4196,2,    218.4,2,   218.8,2,    3.82,2,    6.19,2,    0.00,2,    0.54,2,   2.664,2,   1.557,2,   1.1380,2,  2102.0,2,  2322.1,2,   7.9785,2,    20.00,-999.000,9,-999.000,9,-999.000,9,  14.8321,2,    0.81,2,   60.09,2,       3,-999.000,9,-999.000,   48.21,2,    8.72,2, -33.3801,  47.4282,-999.000,-999.000,20090403,       1617
33RR20090320,        I05,      47,          1,         26,         26,2,20090403,       1442,   -33.3803,    47.4282,       3581,   351.4,  14.2013,  35.3666,2,  35.3673,2,    219.1,2,   220.6,2,    3.81,2,    7.17,2,    0.00,2,    0.60,2,   2.769,2,   1.593,2,   1.1690,2,  2107.5,2,  2320.5,2,   7.9639,2,    20.00,-999.000,9,-999.000,9,-999.000,9,  14.2073,2,-999.000,9, -999.00,9, -999.00,-999.000,9,-999.000,   47.32,2,    8.81,2, -33.3800,  47.4282,-999.000,-999.000,20090403,       1615
33RR20090320,        I05,      47,          1,         25,         25,2,20090403,       1442,   -33.3803,    47.4282,       3581,   402.2,  13.7611,  35.3224,2,  35.3242,2,    220.3,2,   221.4,2,    3.98,2,    7.93,2,    0.00,2,    0.64,2,   2.842,2,   1.628,2,   1.1890,2,  2111.0,2,  2319.8,2,   7.9534,2,    20.00,-999.000,9,-999.000,9,-999.000,9,  13.7709,2,   0.854,2,   60.92,2,       3,-999.000,9,-999.000,   46.42,2,    9.36,2, -33.3799,  47.4281,-999.000,-999.000,20090403,       1613
33RR20090320,        I05,      47,          1,         24,         24,2,20090403,       1442,   -33.3803,    47.4282,       3581,   453.4,  13.3449,  35.2751,2,  35.2757,2,    223.1,2,   223.1,2,    3.96,2,    8.80,2,    0.00,2,    0.70,2,   2.920,2,   1.665,2,   1.2240,2,  2112.7,2,  2318.2,2,   7.9436,2,    20.00,-999.000,9,-999.000,9,-999.000,9,  13.3372,2,-999.000,9, -999.00,9, -999.00,-999.000,9,-999.000,   45.61,2,   10.45,2, -33.3800,  47.4281,-999.000,-999.000,20090403,       1611
33RR20090320,        I05,      47,          1,         23,         23,2,20090403,       1442,   -33.3803,    47.4282,       3581,   507.8,  12.9886,  35.2279,2,  35.2262,2,    222.8,2,   223.3,2,    4.14,2,    9.56,2,    0.00,2,    0.75,2,   0.000,4,   0.000,4,   0.0110,4,  2116.3,2,  2315.4,2,   7.9341,2,    20.00,-999.000,9,-999.000,9,-999.000,9,  12.9869,2,   0.933,2,   53.99,2,     3.2,-999.000,9,-999.000,   44.97,2,   11.45,2, -33.3801,  47.4280,-999.000,-999.000,20090403,       1609
33RR20090320,        I05,      47,          1,         22,         22,2,20090403,       1442,   -33.3803,    47.4282,       3581,   608.2,  12.0375,  35.0914,2,  35.0905,2,    221.5,2,   221.4,2,    4.52,2,   11.58,2,    0.00,2,    0.88,2,   3.234,2,   1.758,2,   1.0410,2,  2121.3,2,  2308.6,2,   7.9091,2,    20.00,-999.000,9,-999.000,9,-999.000,9,  12.0389,2,   1.015,2,   56.14,2,       3,-999.000,9,-999.000,   44.24,2,   12.85,2, -33.3800,  47.4283,-999.000,-999.000,20090403,       1606
33RR20090320,        I05,      47,          1,         21,         21,2,20090403,       1442,   -33.3803,    47.4282,       3581,   707.6,  11.0840,  34.9495,2,  34.9482,2,    221.0,2,   221.0,2,    5.29,2,   13.70,2,    0.00,2,    1.02,2,   3.102,6,   1.657,6,   0.8400,6,  2127.4,2,  2302.4,2,   7.8853,2,    20.00,-999.000,9,-999.000,9,-999.000,9,  11.0849,2,   1.088,2,    54.1,2,       3,-999.000,9,-999.000,   43.53,2,   15.40,2, -33.3802,  47.4281,-999.000,-999.000,20090403,       1603
33RR20090320,        I05,      47,          1,         20,         20,2,20090403,       1442,   -33.3803,    47.4282,       3581,   797.3,  10.0039,  34.8086,2,  34.8105,2,    219.3,2,   218.1,2,    7.05,2,   16.33,2,    0.00,2,    1.19,2,   3.014,2,   1.563,2,   0.7050,2,  2134.9,2,  2298.0,2,   7.8569,2,    20.00,-999.000,9,-999.000,9,-999.000,9,  10.0166,2,   1.144,2,   43.01,2,       3,-999.000,9,-999.000,   42.65,2,   17.68,2, -33.3802,  47.4283,-999.000,-999.000,20090403,       1600
33RR20090320,        I05,      47,          1,         19,         19,2,20090403,       1442,   -33.3803,    47.4282,       3581,   898.1,   8.6770,  34.6577,2,  34.6574,2,    210.2,2,   209.5,2,   11.57,2,   20.43,2,    0.00,2,    1.46,2,   2.623,2,   1.357,2,   0.6280,2,  2150.4,2,  2293.8,2,   7.8099,2,    20.00,-999.000,9,-999.000,9,-999.000,9,   8.6787,2,   1.041,2,   15.03,2,     3.3,-999.000,9,-999.000,   41.79,2,   22.32,2, -33.3801,  47.4284,-999.000,-999.000,20090403,       1557
33RR20090320,        I05,      47,          1,         18,         18,2,20090403,       1442,   -33.3803,    47.4282,       3581,   998.3,   7.4835,  34.5511,2,  34.5515,2,    203.1,2,   202.5,2,   17.29,2,   23.83,2,    0.00,2,    1.70,2,   2.362,2,   1.192,2,   0.4840,2,  2167.2,2,  2294.3,2,   7.7699,2,    20.00,-999.000,9,-999.000,9,-999.000,9,   7.4828,2,   1.064,2,   -9.48,2,       3,-999.000,9,-999.000,   41.14,2,   25.27,2, -33.3802,  47.4285,-999.000,-999.000,20090403,       1553
33RR20090320,        I05,      47,          1,         17,         17,2,20090403,       1442,   -33.3803,    47.4282,       3581,  1098.3,   6.1023,  34.4445,2,  34.4455,2,    199.8,2,   202.3,2,   23.23,2,   27.02,2,    0.00,2,    1.92,2,   2.225,2,   1.117,2,   0.4500,2,  2181.1,2,  2294.0,2,   7.7336,2,    20.00,-999.000,9,-999.000,9,-999.000,9,   6.1027,2,   1.064,2,  -37.89,2,     2.8,-999.000,9,-999.000,   40.20,2,   28.55,2, -33.3802,  47.4285,-999.000,-999.000,20090403,       1550
33RR20090320,        I05,      47,          1,         16,         16,2,20090403,       1442,   -33.3803,    47.4282,       3581,  1197.6,   5.2115,  34.4146,2,  34.4146,2,    196.7,2,   197.5,2,   30.97,2,   29.16,2,    0.00,2,    2.09,2,   1.787,2,   0.878,2,   0.2940,2,  2194.4,2,  2299.3,2,   7.7080,2,    20.00,-999.000,9,-999.000,9,-999.000,9,   5.2098,2,   0.948,2,  -65.53,2,     2.7,-999.000,9,-999.000,   39.78,2,   30.73,2, -33.3802,  47.4284,-999.000,-999.000,20090403,       1547
33RR20090320,        I05,      47,          1,         15,         15,2,20090403,       1442,   -33.3803,    47.4282,       3581,  1299.6,   4.4180,  34.4049,2,  34.4052,2,    193.4,2,   193.4,2,   39.13,2,   30.93,2,    0.00,2,    2.22,2,   1.507,2,   0.733,2,   0.3280,2,  2207.8,2,  2304.8,2,   7.6862,2,    20.00,-999.000,9,-999.000,9,-999.000,9,   4.4144,2,   0.873,2,  -85.94,2,     2.6,-999.000,9,-999.000,   39.39,2,   32.68,2, -33.3800,  47.4283,-999.000,-999.000,20090403,       1543
33RR20090320,        I05,      47,          1,         14,         14,2,20090403,       1442,   -33.3803,    47.4282,       3581,  1399.2,   3.9372,  34.4341,2,  34.4337,2,    185.5,2,   185.6,2,   47.52,2,   32.02,2,    0.00,2,    2.31,2,   1.111,2,   0.529,2,   0.2280,2,  2223.5,2,  2315.1,2,   7.6696,2,    20.00,-999.000,9,-999.000,9,-999.000,9,   3.9393,2,   0.787,2,  -105.4,2,     2.9,-999.000,9,-999.000,   39.69,2,   33.75,2, -33.3798,  47.4282,-999.000,-999.000,20090403,       1541
33RR20090320,        I05,      47,          1,         13,         13,2,20090403,       1442,   -33.3803,    47.4282,       3581,  1501.5,   3.6018,  34.4773,2,  34.4763,2,    179.3,2,   178.3,2,   55.93,2,   32.78,2,    0.00,2,    2.36,2,   0.735,2,   0.346,2,   0.1010,2,  2234.4,2,  2319.8,2,   7.6580,2,    20.00,-999.000,9,-999.000,9,-999.000,9,   3.6014,2,    0.69,2, -123.99,2,     2.4,-999.000,9,-999.000,   39.75,2,   34.14,2, -33.3799,  47.4281,-999.000,-999.000,20090403,       1538
33RR20090320,        I05,      47,          1,         12,         12,2,20090403,       1442,   -33.3803,    47.4282,       3581,  1596.7,   3.3370,  34.5213,2,  34.5214,2,    174.7,2,   174.2,2,   62.15,2,   33.04,2,    0.00,2,    2.39,2,   0.506,2,   0.239,2,   0.0590,2,  2240.5,6,  2326.9,2,   7.6525,2,    20.00,-999.000,9,-999.000,9,-999.000,9,   3.3357,2,-999.000,9, -999.00,9, -999.00,-999.000,9,-999.000,   39.72,2,   34.60,2, -33.3796,  47.4282,-999.000,-999.000,20090403,       1532
33RR20090320,        I05,      47,          1,         11,         11,2,20090403,       1442,   -33.3803,    47.4282,       3581,  1697.4,   3.1115,  34.5668,2,  34.5658,2,    174.3,2,   174.6,2,   65.76,2,   32.76,2,    0.00,2,    2.37,2,   0.403,2,   0.192,2,   0.0000,2,  2244.3,2,  2330.8,2,   7.6531,2,    20.00,-999.000,9,-999.000,9,-999.000,9,   3.1113,2,-999.000,9, -999.00,9, -999.00,-999.000,9,-999.000,   39.74,2,   34.09,2, -33.3796,  47.4283,-999.000,-999.000,20090403,       1529
33RR20090320,        I05,      47,          1,         10,         10,2,20090403,       1442,   -33.3803,    47.4282,       3581,  1797.8,   2.9286,  34.6102,2,  34.6098,2,    175.4,2,   175.3,2,   69.18,2,   32.41,2,    0.00,2,    2.34,2,   0.267,2,   0.130,2,   0.0590,2,  2247.3,2,  2335.8,2,   7.6578,2,    20.00,-999.000,9,-999.000,9,-999.000,9,   2.9285,2,-999.000,9, -999.00,9, -999.00,-999.000,9,-999.000,   39.91,2,   33.62,2, -33.3797,  47.4284,-999.000,-999.000,20090403,       1526
33RR20090320,        I05,      47,          1,          9,          9,2,20090403,       1442,   -33.3803,    47.4282,       3581,  2000.2,   2.6775,  34.6767,2,  34.6758,2,    180.8,2,   180.8,2,   73.80,2,   31.35,2,    0.00,2,    2.26,2,   0.130,2,   0.063,2,   0.0000,2,  2247.7,2,  2340.9,2,   7.6720,2,    20.00,-999.000,9,-999.000,9,-999.000,9,   2.6776,2,-999.000,9, -999.00,9, -999.00,-999.000,9,-999.000,   40.26,2,   32.82,2, -33.3799,  47.4281,-999.000,-999.000,20090403,       1521
33RR20090320,        I05,      47,          1,          8,          8,2,20090403,       1442,   -33.3803,    47.4282,       3581,  2200.6,   2.4792,  34.7251,2,  34.7249,2,    188.8,2,   188.9,2,   75.81,2,   30.29,2,    0.00,2,    2.18,2,   0.069,2,   0.032,2,   0.0000,2,  2246.3,2,  2345.6,2,   7.6881,2,    20.00,-999.000,9,-999.000,9,-999.000,9,   2.4788,2,-999.000,9, -999.00,9, -999.00,-999.000,9,-999.000,   40.06,2,   31.89,2, -33.3799,  47.4282,-999.000,-999.000,20090403,       1516
33RR20090320,        I05,      47,          1,          7,          7,2,20090403,       1442,   -33.3803,    47.4282,       3581,  2397.1,   2.3595,  34.7573,2,  34.7565,2,    196.2,2,   196.3,2,   75.59,2,   29.22,2,    0.00,2,    2.10,2,   0.044,2,   0.022,2,   0.0000,2,  2241.7,2,  2345.9,2,   7.7023,2,    20.00,-999.000,9,-999.000,9,-999.000,9,   2.3591,2,-999.000,9, -999.00,9, -999.00,-999.000,9,-999.000,   39.91,2,   31.06,2, -33.3800,  47.4279,-999.000,-999.000,20090403,       1511
33RR20090320,        I05,      47,          1,          6,          6,2,20090403,       1442,   -33.3803,    47.4282,       3581,  2599.9,   2.1743,  34.7655,2,  34.7685,2,    199.0,2,   199.2,2,   80.84,2,   29.21,2,    0.00,2,    2.10,2,   0.033,2,   0.016,2,   0.0000,2,  2244.3,2,  2349.6,2,   7.7065,2,    20.00,-999.000,9,-999.000,9,-999.000,9,   2.1743,2,-999.000,9, -999.00,9, -999.00,-999.000,9,-999.000,   39.59,2,   30.94,2, -33.3800,  47.4277,-999.000,-999.000,20090403,       1506
33RR20090320,        I05,      47,          1,          5,          5,2,20090403,       1442,   -33.3803,    47.4282,       3581,  2798.4,   1.9789,  34.7615,2,  34.7616,2,    199.9,2,   200.2,2,   88.34,2,   29.59,2,    0.00,2,    2.13,2,   0.030,2,   0.016,2,   0.0200,2,  2248.2,2,  2354.2,2,   7.7042,2,    20.00,-999.000,9,-999.000,9,-999.000,9,   1.9773,2,-999.000,9, -999.00,9, -999.00,-999.000,9,-999.000,   39.45,2,   31.07,2, -33.3801,  47.4277,-999.000,-999.000,20090403,       1502
33RR20090320,        I05,      47,          1,          4,          4,2,20090403,       1442,   -33.3803,    47.4282,       3581,  3000.6,   1.7364,  34.7464,2,  34.7461,2,    197.1,2,   196.7,2,   99.91,2,   30.63,2,    0.00,2,    2.21,2,   0.028,2,   0.013,2,   0.0000,2,  2258.2,2,  2362.0,2,   7.6953,2,    20.00,-999.000,9,-999.000,9,-999.000,9,   1.7369,2,-999.000,9, -999.00,9, -999.00,-999.000,9,-999.000,   40.07,2,   31.97,2, -33.3801,  47.4281,-999.000,-999.000,20090403,       1457
33RR20090320,        I05,      47,          1,          3,          3,2,20090403,       1442,   -33.3803,    47.4282,       3581,  3248.3,   1.4795,  34.7313,2,  34.7302,2,    196.8,2,   196.5,2,  109.88,2,   31.39,2,    0.00,2,    2.26,2,   0.029,6,   0.015,6,   0.0190,6,  2265.2,2,  2364.7,2,   7.6880,2,    20.00,-999.000,9,-999.000,9,-999.000,9,   1.4792,2,-999.000,9, -999.00,9, -999.00,-999.000,9,-999.000,   39.93,2,   32.99,2, -33.3802,  47.4284,-999.000,-999.000,20090403,       1451
33RR20090320,        I05,      47,          1,          2,          2,2,20090403,       1442,   -33.3803,    47.4282,       3581,  3491.7,   1.2791,  34.7223,2,  34.7225,2,    201.1,2,   201.1,2,  114.37,2,   31.59,2,    0.00,2,    2.27,2,   0.038,2,   0.019,2,   0.0000,2,  2264.9,2,  2366.3,2,   7.6870,2,    20.00,-999.000,9,-999.000,9,-999.000,9,   1.2780,2,-999.000,9, -999.00,9, -999.00,-999.000,9,-999.000,   39.79,2,   32.97,2, -33.3803,  47.4284,-999.000,-999.000,20090403,       1445
33RR20090320,        I05,      47,          1,          1,          1,2,20090403,       1442,   -33.3803,    47.4282,       3581,  3623.3,   1.2131,  34.7194,2,  34.7192,2,    202.2,2,   202.4,2,  116.00,2,   31.58,2,    0.00,2,    2.27,2,   0.042,2,   0.022,2,   0.0000,2,  2266.1,6,  2364.9,2,   7.6872,2,    20.00,-999.000,9,-999.000,9,-999.000,9,   1.2130,2,-999.000,9, -999.00,9, -999.00,-999.000,9,-999.000,   39.67,2,   33.26,2, -33.3803,  47.4282,-999.000,-999.000,20090403,       1442