BOTTLE,20220814CCHSIOAMB
EXPOCODE,SECT_ID,STNNBR,CASTNO,SAMPNO,BTLNBR,BTLNBR_FLAG_W,DATE,TIME,LATITUDE,LONGITUDE,DEPTH,CTDPRS,CTDTMP,CTDSAL,CTDSAL_FLAG_W,SALNTY,SALNTY_FLAG_W,CTDOXY,CTDOXY_FLAG_W,OXYGEN,OXYGEN_FLAG_W,SILCAT,SILCAT_FLAG_W,NITRAT,NITRAT_FLAG_W,NITRIT,NITRIT_FLAG_W,PHSPHT,PHSPHT_FLAG_W,CFC-11,CFC-11_FLAG_W,CFC-12,CFC-12_FLAG_W,SF6,SF6_FLAG_W,TCARBN,TCARBN_FLAG_W,ALKALI,ALKALI_FLAG_W,PH_TOT,PH_TOT_FLAG_W,PH_TMP,TRITUM,TRITUM_FLAG_W,HELIUM,HELIUM_FLAG_W,DELHE3,DELHE3_FLAG_W,REFTMP,REFTMP_FLAG_W,DELC13,DELC13_FLAG_W,DELC14,DELC14_FLAG_W,C14ERR,NEON,NEON_FLAG_W,NEONER,DOC,DOC_FLAG_W,TDN,TDN_FLAG_W,BTL_LAT,BTL_LON,HELIER,DELHER,BTL_DATE,BTL_TIME
,,,,,,,,,,,METERS,DBAR,ITS-90,PSS-78,,PSS-78,,UMOL/KG,,UMOL/KG,,UMOL/KG,,UMOL/KG,,UMOL/KG,,UMOL/KG,,PMOL/KG,,PMOL/KG,,FMOL/KG,,UMOL/KG,,UMOL/KG,,,,DEG C,TU,,NMOL/KG,,PERCNT,,DEG C,,/MILLE,,/MILLE,,/MILLE,NMOL/KG,,NMOL/KG,UMOL/KG,,UMOL/KG,,,,NMOL/KG,PERCNT,,
33RR20090320,        I05,     103,          1,         36,         36,2,20090419,       2144,   -33.6115,    74.1494,       4822,    11.8,  20.9608,  35.7767,2,  35.7768,2,    223.7,2,   224.3,2,    1.77,2,    0.31,2,    0.00,2,    0.12,2,   2.070,2,   1.251,2,   1.1280,2,  2061.5,6,  2347.3,2,   8.0946,2,    20.00,   0.530,2,   1.832,2,  -1.600,2,  20.9589,2,-999.000,9, -999.00,9, -999.00,   7.427,2,   0.008,   68.58,2,    4.02,2, -33.6117,  74.1490,   0.001,   0.201,20090419,       2345
33RR20090320,        I05,     103,          1,         35,         35,2,20090419,       2144,   -33.6115,    74.1494,       4822,    26.7,  20.9608,  35.7767,2,  35.7762,2,    224.4,2,   223.6,2,    1.74,2,    0.31,2,    0.00,2,    0.12,2,   2.080,2,   1.248,2,   1.1880,2,  2064.1,2,  2345.6,2,   8.0948,2,    20.00,   0.224,2,   1.794,2,  -1.403,2,  20.9600,2,-999.000,9, -999.00,9, -999.00,   7.288,2,   0.010,   68.59,2,    4.22,2, -33.6116,  74.1490,   0.001,   0.198,20090419,       2344
33RR20090320,        I05,     103,          1,         34,         34,2,20090419,       2144,   -33.6115,    74.1494,       4822,    47.2,  20.9624,  35.7768,2,  35.7768,2,    224.4,2,   223.8,2,    1.71,2,    0.26,2,    0.00,2,    0.12,2,   2.066,2,   1.247,2,   1.1570,2,  2062.8,2,  2347.4,2,   8.0945,2,    20.00,   0.486,2,   1.793,2,  -1.802,2,  20.9593,2,-999.000,9, -999.00,9, -999.00,   7.244,2,   0.009,   67.92,2,    4.09,2, -33.6116,  74.1491,   0.001,   0.199,20090419,       2342
33RR20090320,        I05,     103,          1,         33,         33,2,20090419,       2144,   -33.6115,    74.1494,       4822,    71.5,  18.3807,  35.6042,2,  35.6023,2,    249.9,2,   250.7,2,    1.50,2,    0.26,2,    0.00,2,    0.15,2,   2.519,2,   1.472,2,   1.3310,2,  2068.8,2,  2338.3,2,   8.0744,2,    20.00,   0.428,2,   1.822,2,  -1.688,2,  18.3723,2,-999.000,9, -999.00,9, -999.00,   7.513,2,   0.009,   64.59,2,    3.98,2, -33.6116,  74.1491,   0.001,   0.199,20090419,       2340
33RR20090320,        I05,     103,          1,         32,         32,2,20090419,       2144,   -33.6115,    74.1494,       4822,    95.7,  16.4914,  35.5432,2,  35.5402,2,    252.1,2,   252.5,2,    1.47,2,    0.20,2,    0.00,2,    0.18,2,   2.678,2,   1.547,2,   1.3480,2,  2077.4,2,  2335.9,2,   8.0533,2,    20.00,   0.425,2,   1.808,2,  -1.488,2,  16.4823,2,-999.000,9, -999.00,9, -999.00,   7.273,2,   0.009,   60.83,2,    3.59,2, -33.6116,  74.1491,   0.001,   0.199,20090419,       2339
33RR20090320,        I05,     103,          1,         31,         31,2,20090419,       2144,   -33.6115,    74.1494,       4822,   142.7,  14.6924,  35.3929,2,  35.3834,2,    235.9,2,   235.4,2,    1.81,2,    2.94,2,    0.16,2,    0.39,2,   2.872,2,   1.639,2,   1.3460,2,  2101.1,2,  2325.7,2,   7.9950,2,    20.00,   0.388,2,   1.866,2,  -2.121,2,  14.6694,2,-999.000,9, -999.00,9, -999.00,   7.752,2,   0.011,   55.92,2,    6.68,2, -33.6115,  74.1492,   0.001,   0.199,20090419,       2336
33RR20090320,        I05,     103,          1,         30,         30,2,20090419,       2144,   -33.6115,    74.1494,       4822,   191.9,  13.4285,  35.2313,2,  35.2325,2,    232.6,2,   232.4,2,    2.50,2,    6.67,2,    0.01,2,    0.57,2,   3.040,2,   1.722,2,   1.4340,2,  2110.1,2,  2316.2,2,   7.9566,2,    20.00,   0.396,2,   1.862,2,  -1.272,2,  13.4316,2,-999.000,9, -999.00,9, -999.00,   7.808,2,   0.011,   54.34,2,   10.28,2, -33.6115,  74.1492,   0.000,   0.188,20090419,       2335
33RR20090320,        I05,     103,          1,         29,         29,2,20090419,       2144,   -33.6115,    74.1494,       4822,   241.8,  12.7023,  35.1507,2,  35.1498,2,    232.1,2,   231.8,2,    3.19,2,    8.78,2,    0.00,2,    0.68,2,   3.163,2,   1.782,2,   1.4320,2,  2115.5,2,  2310.7,2,   7.9341,2,    20.00,-999.000,9,   1.849,2,  -1.423,2,  12.7010,2,-999.000,9, -999.00,9, -999.00,   7.754,2,   0.011,   52.79,2,   11.15,2, -33.6115,  74.1492,   0.000,   0.190,20090419,       2333
33RR20090320,        I05,     103,          1,         28,         28,2,20090419,       2144,   -33.6115,    74.1494,       4822,   289.6,  12.3182,  35.1042,2,  35.1037,2,    233.7,2,   232.9,2,    3.52,2,    9.73,2,    0.00,2,    0.74,2,   3.229,2,   1.793,2,   1.4040,2,  2116.6,2,  2309.5,2,   7.9250,2,    20.00,-999.000,9,   1.829,2,  -1.179,2,  12.3200,2,-999.000,9, -999.00,9, -999.00,   7.703,2,   0.010,   50.85,2,   11.75,2, -33.6114,  74.1492,   0.000,   0.197,20090419,       2331
33RR20090320,        I05,     103,          1,         27,         27,2,20090419,       2144,   -33.6115,    74.1494,       4822,   340.5,  11.9951,  35.0659,2,  35.0657,2,    236.0,2,   236.2,2,    3.85,2,   10.47,2,    0.00,2,    0.78,2,   3.292,2,   1.811,2,   1.3120,2,  2116.5,2,  2308.2,2,   7.9207,2,    20.00,   0.343,2,   1.847,2,  -1.700,2,  11.9897,2,-999.000,9, -999.00,9, -999.00,   7.769,2,   0.011,   48.92,2,   13.13,2, -33.6115,  74.1492,   0.000,   0.196,20090419,       2329
33RR20090320,        I05,     103,          1,         26,         26,2,20090419,       2144,   -33.6115,    74.1494,       4822,   390.0,  11.6478,  35.0170,2,  35.0171,2,    237.2,2,   238.0,2,    4.01,2,   11.20,2,    0.00,2,    0.83,2,   3.293,2,   1.822,2,   1.2600,2,  2119.1,2,  2305.6,2,   7.9144,2,    20.00,-999.000,9,   1.881,2,  -1.393,2,  11.6441,2,-999.000,9, -999.00,9, -999.00,   7.951,2,   0.011,   48.23,2,   13.62,2, -33.6116,  74.1492,   0.000,   0.196,20090419,       2328
33RR20090320,        I05,     103,          1,         25,         25,2,20090419,       2144,   -33.6115,    74.1494,       4822,   469.4,  11.2689,  34.9683,2,  34.9677,2,    236.6,2,   235.8,2,    4.16,2,   12.05,2,    0.00,2,    0.89,2,   3.382,6,   1.847,6,   1.2520,6,  2120.7,2,  2303.3,2,   7.9039,2,    20.00,-999.000,9,   1.829,2,  -0.911,2,  11.2705,2,-999.000,9, -999.00,9, -999.00,   7.725,2,   0.008,   47.28,2,   13.24,2, -33.6117,  74.1492,   0.000,   0.195,20090419,       2325
33RR20090320,        I05,     103,          1,         24,         24,2,20090419,       2144,   -33.6115,    74.1494,       4822,   571.7,  10.6582,  34.8782,2,  34.8800,2,    236.0,2,   236.4,2,    4.50,2,   13.47,2,    0.00,2,    0.97,2,   3.489,2,   1.865,2,   1.2030,2,  2123.8,2,  2299.6,2,   7.8896,2,    20.00,-999.000,9,   1.846,2,  -0.449,2,  10.6564,2,-999.000,9, -999.00,9, -999.00,   7.869,2,   0.012,   45.67,2,   15.07,2, -33.6119,  74.1492,   0.000,   0.199,20090419,       2323
33RR20090320,        I05,     103,          1,         23,         23,2,20090419,       2144,   -33.6115,    74.1494,       4822,   671.2,   9.8674,  34.7667,2,  34.7662,2,    233.6,2,   233.6,2,    5.19,2,   15.69,2,    0.00,2,    1.11,2,   3.539,2,   1.845,2,   1.0560,2,  2128.2,2,  2294.0,2,   7.8667,2,    20.00,-999.000,9,   1.881,2,  -0.325,2,   9.8616,2,-999.000,9, -999.00,9, -999.00,   7.992,2,   0.014,   44.51,2,   16.98,2, -33.6120,  74.1493,   0.000,   0.199,20090419,       2320
33RR20090320,        I05,     103,          1,         22,         22,2,20090419,       2144,   -33.6115,    74.1494,       4822,   772.4,   8.9975,  34.6552,2,  34.6547,2,    223.3,2,   223.0,2,    7.51,2,   18.86,2,    0.00,2,    1.32,2,   3.309,2,   1.668,2,   0.7390,2,  2139.0,2,  2291.5,2,   7.8325,2,    20.00,-999.000,9,   1.859,2,   0.679,2,   8.9920,2,-999.000,9, -999.00,9, -999.00,   7.947,2,   0.008,   43.50,2,   20.42,2, -33.6120,  74.1494,   0.000,   0.196,20090419,       2317
33RR20090320,        I05,     103,          1,         21,         21,2,20090419,       2144,   -33.6115,    74.1494,       4822,   871.6,   7.7375,  34.5337,2,  34.5331,2,    208.6,2,   207.9,2,   13.07,2,   23.26,2,    0.00,2,    1.61,2,   2.667,2,   1.331,2,   0.5590,2,  2157.6,2,  2288.7,2,   7.7815,2,    20.00,   0.130,2,   2.025,2,   1.324,2,   7.7348,2,-999.000,9, -999.00,9, -999.00,   8.831,2,   0.018,   42.60,2,   24.82,2, -33.6121,  74.1493,   0.000,   0.188,20090419,       2315
33RR20090320,        I05,     103,          1,         20,         20,2,20090419,       2144,   -33.6115,    74.1494,       4822,   972.1,   6.3424,  34.4330,2,  34.4324,2,    202.4,2,   202.7,2,   20.28,2,   26.98,2,    0.00,2,    1.87,2,   2.215,2,   1.091,2,   0.4380,2,  2174.5,2,  2289.0,2,   7.7386,2,    20.00,-999.000,9,-999.000,9,-999.000,9,   6.3325,2,-999.000,9, -999.00,9, -999.00,-999.000,9,-999.000,   41.75,2,   28.77,2, -33.6122,  74.1493,-999.000,-999.000,20090419,       2312
33RR20090320,        I05,     103,          1,         19,         19,2,20090419,       2144,   -33.6115,    74.1494,       4822,  1072.9,   5.3173,  34.3827,2,  34.3830,2,    200.3,2,   201.3,2,   26.79,2,   29.27,2,    0.00,2,    2.04,2,   1.898,2,   0.933,2,   0.3500,2,  2186.7,2,  2293.0,2,   7.7122,2,    20.00,   0.069,2,   1.897,2,   2.305,2,   5.3102,2,-999.000,9, -999.00,9, -999.00,   8.112,2,   0.012,   40.77,2,   31.05,2, -33.6122,  74.1493,   0.000,   0.202,20090419,       2309
33RR20090320,        I05,     103,          1,         18,         18,2,20090419,       2144,   -33.6115,    74.1494,       4822,  1171.5,   4.3780,  34.3774,2,  34.3761,2,    194.9,2,   195.2,2,   37.33,2,   31.46,2,    0.00,2,    2.21,2,   1.464,2,   0.702,2,   0.2050,2,  2205.1,2,  2302.0,2,   7.6855,2,    20.00,-999.000,9,   1.918,2,   4.346,2,   4.3795,2,-999.000,9, -999.00,9, -999.00,   8.321,2,   0.014,   40.63,2,   32.79,2, -33.6121,  74.1494,   0.000,   0.189,20090419,       2307
33RR20090320,        I05,     103,          1,         17,         17,2,20090419,       2144,   -33.6115,    74.1494,       4822,  1272.2,   3.8458,  34.3936,2,  34.4022,2,    188.5,2,   189.8,2,   45.17,2,   32.58,2,    0.00,2,    2.30,2,   1.211,2,   0.586,2,   0.1890,2,  2215.3,2,  2307.1,2,   7.6677,2,    20.00,-999.000,9,   1.936,2,   5.272,2,   3.8450,2,-999.000,9, -999.00,9, -999.00,   8.713,2,   0.010,   39.99,2,   34.18,2, -33.6120,  74.1494,   0.000,   0.197,20090419,       2304
33RR20090320,        I05,     103,          1,         16,         16,2,20090419,       2144,   -33.6115,    74.1494,       4822,  1371.4,   3.4612,  34.4447,2,  34.4429,2,    179.2,2,   178.8,2,   55.05,2,   33.66,2,    0.00,2,    2.38,2,   0.767,2,   0.369,2,   0.1480,2,  2233.0,2,  2318.6,2,   7.6505,2,    20.00,-999.000,9,-999.000,9,-999.000,9,   3.4615,2,-999.000,9, -999.00,9, -999.00,-999.000,9,-999.000,   39.51,2,   35.17,2, -33.6119,  74.1495,-999.000,-999.000,20090419,       2301
33RR20090320,        I05,     103,          1,         15,         15,2,20090419,       2144,   -33.6115,    74.1494,       4822,  1543.3,   3.0653,  34.5265,2,  34.5242,2,    169.8,2,   169.8,2,   66.44,2,   34.19,2,    0.00,2,    2.42,2,   0.368,2,   0.182,2,   0.0440,2,  2248.8,6,  2330.8,2,   7.6395,2,    20.00,-999.000,9,-999.000,9,-999.000,9,   3.0675,2,-999.000,9, -999.00,9, -999.00,-999.000,9,-999.000,   39.97,2,   35.64,2, -33.6119,  74.1497,-999.000,-999.000,20090419,       2257
33RR20090320,        I05,     103,          1,         14,         14,2,20090419,       2144,   -33.6115,    74.1494,       4822,  1743.6,   2.7162,  34.6169,2,  34.6161,2,    170.7,2,   171.6,2,   74.18,2,   33.44,2,    0.00,2,    2.36,2,   0.161,2,   0.077,2,   0.0300,2,  2252.6,2,  2339.3,2,   7.6463,2,    20.00,-999.000,9,   1.968,2,  10.534,2,   2.7175,2,-999.000,9, -999.00,9, -999.00,   8.817,2,   0.010,   39.32,2,   34.70,2, -33.6120,  74.1498,   0.000,   0.199,20090419,       2253
33RR20090320,        I05,     103,          1,         13,         13,2,20090419,       2144,   -33.6115,    74.1494,       4822,  1946.5,   2.4720,  34.6790,2,  34.6784,2,    176.9,2,   177.0,2,   79.52,2,   32.46,2,    0.00,2,    2.28,2,   0.068,2,   0.035,2,   0.0370,2,  2252.9,2,  2343.4,2,   7.6614,2,    20.00,   0.001,2,   1.972,2,  10.655,2,   2.4715,2,-999.000,9, -999.00,9, -999.00,   8.853,2,   0.018,   39.85,2,   34.07,2, -33.6119,  74.1498,   0.000,   0.193,20090419,       2248
33RR20090320,        I05,     103,          1,         12,         12,2,20090419,       2144,   -33.6115,    74.1494,       4822,  2178.1,   2.2204,  34.7153,2,  34.7150,2,    180.8,2,   180.3,2,   90.45,2,   32.14,2,    0.00,2,    2.26,2,   0.019,2,   0.011,2,   0.0000,2,  2259.7,2,  2356.9,2,   7.6742,2,    20.00,-999.000,9,-999.000,9,-999.000,9,   2.2196,2,-999.000,9, -999.00,9, -999.00,-999.000,9,-999.000,   39.94,2,   33.46,2, -33.6117,  74.1497,-999.000,-999.000,20090419,       2244
33RR20090320,        I05,     103,          1,         11,         11,2,20090419,       2144,   -33.6115,    74.1494,       4822,  2431.6,   2.0127,  34.7263,2,  34.7262,2,    178.0,2,   177.4,2,  104.22,2,   32.72,2,    0.00,2,    2.32,2,   0.005,2,   0.003,2,   0.0000,2,  2273.8,2,  2372.4,2,   7.6762,2,    20.00,   0.039,2,   2.000,2,  12.531,2,   2.0126,2,-999.000,9, -999.00,9, -999.00,   8.951,2,   0.019,   39.76,2,   34.15,2, -33.6115,  74.1495,   0.000,   0.190,20090419,       2239
33RR20090320,        I05,     103,          1,         10,         10,2,20090419,       2144,   -33.6115,    74.1494,       4822,  2684.0,   1.8672,  34.7285,2,  34.7274,2,    177.2,2,   176.7,2,  112.79,2,   33.10,2,    0.00,2,    2.35,2,   0.007,2,   0.007,2,   0.0000,2,  2279.7,2,  2378.5,2,   7.6766,2,    20.00,-999.000,9,   2.022,2,  13.043,2,   1.8673,2,-999.000,9, -999.00,9, -999.00,   8.883,2,   0.014,   39.16,2,   35.15,2, -33.6113,  74.1495,   0.001,   0.200,20090419,       2233
33RR20090320,        I05,     103,          1,          9,          9,2,20090419,       2144,   -33.6115,    74.1494,       4822,  2937.6,   1.7492,  34.7273,2,  34.7276,2,    178.4,2,   178.2,2,  116.52,2,   33.31,2,    0.00,2,    2.36,2,   0.010,6,   0.008,6,   0.0000,6,  2282.4,2,  2380.2,2,   7.6763,2,    20.00,   0.028,2,   1.961,2,  13.564,2,   1.7487,2,-999.000,9, -999.00,9, -999.00,   8.777,2,   0.016,   39.08,2,   34.96,2, -33.6113,  74.1495,   0.000,   0.197,20090419,       2228
33RR20090320,        I05,     103,          1,          8,          8,2,20090419,       2144,   -33.6115,    74.1494,       4822,  3226.7,   1.5474,  34.7217,2,  34.7204,2,    183.0,2,   183.2,2,  120.24,2,   33.26,2,    0.00,2,    2.36,2,   0.007,2,   0.006,2,   0.0000,2,  2281.5,2,  2381.8,2,   7.6786,2,    20.00,-999.000,9,-999.000,9,-999.000,9,   1.5477,2,-999.000,9, -999.00,9, -999.00,-999.000,9,-999.000,   39.84,2,   35.13,2, -33.6114,  74.1496,-999.000,-999.000,20090419,       2221
33RR20090320,        I05,     103,          1,          7,          7,2,20090419,       2144,   -33.6115,    74.1494,       4822,  3529.1,   1.3984,  34.7165,2,  34.7165,2,    187.9,2,   188.5,2,  122.10,2,   33.20,2,    0.00,2,    2.36,2,   0.008,2,   0.007,2,  -0.0030,2,  2280.9,2,  2381.4,2,   7.6814,2,    20.00,-999.000,9,   1.971,2,  12.145,2,   1.3982,2,-999.000,9, -999.00,9, -999.00,   8.878,2,   0.018,   40.10,2,   35.15,2, -33.6115,  74.1497,   0.000,   0.194,20090419,       2215
33RR20090320,        I05,     103,          1,          6,          6,2,20090419,       2144,   -33.6115,    74.1494,       4822,  3836.7,   1.3282,  34.7140,2,  34.7135,2,    190.6,2,   190.9,2,  123.96,2,   33.14,2,    0.00,2,    2.35,2,   0.007,2,   0.004,2,   0.0000,2,  2277.1,2,  2379.4,2,   7.6829,2,    20.00,-999.000,9,   1.981,2,  11.182,2,   1.3277,2,-999.000,9, -999.00,9, -999.00,   8.918,2,   0.020,   39.59,2,   34.61,2, -33.6116,  74.1497,   0.000,   0.191,20090419,       2209
33RR20090320,        I05,     103,          1,          5,          5,2,20090419,       2144,   -33.6115,    74.1494,       4822,  4140.7,   1.2349,  34.7108,2,  34.7108,2,    194.4,2,   194.4,2,  125.07,2,   33.09,2,    0.00,2,    2.34,2,   0.008,2,   0.007,2,  -0.0030,2,  2275.8,2,  2378.0,2,   7.6839,2,    20.00,-999.000,9,   1.972,2,  10.277,2,   1.2350,2,-999.000,9, -999.00,9, -999.00,   8.839,2,   0.018,   40.33,2,   34.69,2, -33.6116,  74.1494,   0.000,   0.194,20090419,       2202
33RR20090320,        I05,     103,          1,          4,          4,2,20090419,       2144,   -33.6115,    74.1494,       4822,  4444.3,   1.1490,  34.7076,2,  34.7069,2,    197.4,2,   198.2,2,  126.17,2,   33.04,2,    0.00,2,    2.33,2,   0.015,2,   0.010,2,   0.0350,2,  2273.1,2,  2375.5,2,   7.6847,2,    20.00,-999.000,9,-999.000,9,-999.000,9,   1.1484,2,-999.000,9, -999.00,9, -999.00,-999.000,9,-999.000,   40.01,2,   34.43,2, -33.6116,  74.1495,-999.000,-999.000,20090419,       2156
33RR20090320,        I05,     103,          1,          3,          3,2,20090419,       2144,   -33.6115,    74.1494,       4822,  4750.9,   1.1685,  34.7069,2,  34.7079,2,    198.8,2,   198.7,2,  126.15,2,   32.92,2,    0.00,2,    2.33,2,   0.015,2,   0.011,2,   0.0000,2,  2274.1,2,  2376.7,2,   7.6848,2,    20.00,   0.020,2,   2.005,2,   9.474,2,   1.1680,2,-999.000,9, -999.00,9, -999.00,   9.055,2,   0.019,   39.62,2,   34.42,2, -33.6116,  74.1495,   0.000,   0.210,20090419,       2149
33RR20090320,        I05,     103,          1,          2,          2,2,20090419,       2144,   -33.6115,    74.1494,       4822,  4823.1,   1.1761,  34.7068,2,  34.7071,2,    198.9,2,   198.6,2,  126.50,2,   33.03,2,    0.00,2,    2.34,2,   0.012,2,   0.008,2,   0.0300,2,  2274.5,2,  2377.7,2,   7.6851,2,    20.00,-999.000,9,   2.048,2,   9.806,2,   1.1755,2,-999.000,9, -999.00,9, -999.00,   9.079,2,   0.015,   39.76,2,   34.53,2, -33.6116,  74.1494,   0.001,   0.203,20090419,       2146
33RR20090320,        I05,     103,          1,          1,          1,2,20090419,       2144,   -33.6115,    74.1494,       4822,  4895.8,   1.1847,  34.7068,2,  34.7071,2,    198.5,2,   198.4,2,  126.67,2,   32.97,2,    0.00,2,    2.34,2,   0.012,6,   0.010,6,   0.0050,6,  2276.1,6,  2377.9,2,   7.6859,2,    20.00,   0.031,2,   2.003,2,   9.896,2,   1.1844,2,-999.000,9, -999.00,9, -999.00,   9.045,2,   0.019,   39.15,2,   34.33,2, -33.6115,  74.1494,   0.000,   0.195,20090419,       2144