BOTTLE,20220814CCHSIOAMB
EXPOCODE,SECT_ID,STNNBR,CASTNO,SAMPNO,BTLNBR,BTLNBR_FLAG_W,DATE,TIME,LATITUDE,LONGITUDE,DEPTH,CTDPRS,CTDTMP,CTDSAL,CTDSAL_FLAG_W,SALNTY,SALNTY_FLAG_W,CTDOXY,CTDOXY_FLAG_W,OXYGEN,OXYGEN_FLAG_W,SILCAT,SILCAT_FLAG_W,NITRAT,NITRAT_FLAG_W,NITRIT,NITRIT_FLAG_W,PHSPHT,PHSPHT_FLAG_W,CFC-11,CFC-11_FLAG_W,CFC-12,CFC-12_FLAG_W,SF6,SF6_FLAG_W,TCARBN,TCARBN_FLAG_W,ALKALI,ALKALI_FLAG_W,PH_TOT,PH_TOT_FLAG_W,PH_TMP,TRITUM,TRITUM_FLAG_W,HELIUM,HELIUM_FLAG_W,DELHE3,DELHE3_FLAG_W,REFTMP,REFTMP_FLAG_W,DELC13,DELC13_FLAG_W,DELC14,DELC14_FLAG_W,C14ERR,NEON,NEON_FLAG_W,NEONER,DOC,DOC_FLAG_W,TDN,TDN_FLAG_W,BTL_LAT,BTL_LON,HELIER,DELHER,BTL_DATE,BTL_TIME
,,,,,,,,,,,METERS,DBAR,ITS-90,PSS-78,,PSS-78,,UMOL/KG,,UMOL/KG,,UMOL/KG,,UMOL/KG,,UMOL/KG,,UMOL/KG,,PMOL/KG,,PMOL/KG,,FMOL/KG,,UMOL/KG,,UMOL/KG,,,,DEG C,TU,,NMOL/KG,,PERCNT,,DEG C,,/MILLE,,/MILLE,,/MILLE,NMOL/KG,,NMOL/KG,UMOL/KG,,UMOL/KG,,,,NMOL/KG,PERCNT,,
33RR20090320,        I05,      24,          1,         36,         36,2,20090328,       2323,   -32.9997,    36.4804,       3717,    11.6,  25.2925,  35.5063,2,  35.5062,2,    205.8,2,   206.6,2,    1.66,2,    0.00,2,    0.00,2,    0.05,2,   1.710,2,   1.071,2,   0.9670,2,  1998.1,6,  2325.5,2,   8.1672,2,    20.00,-999.000,9,-999.000,9,-999.000,9,  25.2901,2,-999.000,9, -999.00,9, -999.00,-999.000,9,-999.000,   68.17,2,    4.54,2, -32.9997,  36.4800,-999.000,-999.000,20090329,       0121
33RR20090320,        I05,      24,          1,         35,         35,2,20090328,       2323,   -32.9997,    36.4804,       3717,    41.7,  24.4165,  35.5029,2,  35.5026,2,    209.8,2,   209.4,2,    1.81,2,    0.00,2,    0.00,2,    0.05,2,   1.762,6,   1.105,6,   0.9670,6,  2002.9,2,  2325.1,2,   8.1586,2,    20.00,-999.000,9,-999.000,9,-999.000,9,  24.4154,2,-999.000,9, -999.00,9, -999.00,-999.000,9,-999.000,   65.59,2,    4.31,2, -32.9999,  36.4800,-999.000,-999.000,20090329,       0118
33RR20090320,        I05,      24,          1,         34,         34,2,20090328,       2323,   -32.9997,    36.4804,       3717,    65.9,  22.8401,  35.5363,2,-999.0000,9,    220.6,2,   219.2,2,    1.79,2,    0.00,2,    0.00,2,    0.07,2,   1.977,2,   1.212,2,   1.0360,2,  2024.1,2,  2328.6,2,   8.1255,2,    20.00,-999.000,9,-999.000,9,-999.000,9,  22.8811,2,-999.000,9, -999.00,9, -999.00,-999.000,9,-999.000,   62.97,2,    4.15,2, -33.0000,  36.4800,-999.000,-999.000,20090329,       0116
33RR20090320,        I05,      24,          1,         33,         33,2,20090328,       2323,   -32.9997,    36.4804,       3717,    91.4,  20.4766,  35.5380,2,-999.0000,9,    213.5,2,   211.5,2,    2.33,2,    1.29,2,    0.12,2,    0.20,2,   2.142,2,   1.295,2,   1.1160,2,  2048.2,2,  2327.3,2,   8.0809,2,    20.00,-999.000,9,-999.000,9,-999.000,9,  20.5072,2,-999.000,9, -999.00,9, -999.00,-999.000,9,-999.000,   56.97,2,    5.06,2, -33.0000,  36.4800,-999.000,-999.000,20090329,       0114
33RR20090320,        I05,      24,          1,         32,         32,2,20090328,       2323,   -32.9997,    36.4804,       3717,   117.0,  19.0243,  35.5501,2,-999.0000,9,    209.4,2,   208.2,2,    3.07,2,    2.13,2,    0.06,2,    0.25,2,   2.247,2,   1.356,2,   1.0870,2,  2062.8,2,  2328.1,2,   8.0552,2,    20.00,-999.000,9,-999.000,9,-999.000,9,  19.0556,2,-999.000,9, -999.00,9, -999.00,-999.000,9,-999.000,   55.54,2,    5.49,2, -33.0000,  36.4800,-999.000,-999.000,20090329,       0112
33RR20090320,        I05,      24,          1,         31,         31,2,20090328,       2323,   -32.9997,    36.4804,       3717,   141.0,  18.0830,  35.5372,2,-999.0000,9,    198.1,2,   194.9,2,    4.40,2,    4.46,2,    0.01,2,    0.39,2,   2.276,2,   1.370,2,   1.0480,2,  2079.7,2,  2328.4,2,   8.0231,2,    20.00,-999.000,9,-999.000,9,-999.000,9,  18.0851,2,-999.000,9, -999.00,9, -999.00,-999.000,9,-999.000,   52.25,2,    7.58,2, -33.0000,  36.4800,-999.000,-999.000,20090329,       0110
33RR20090320,        I05,      24,          1,         30,         30,2,20090328,       2323,   -32.9997,    36.4804,       3717,   171.7,  17.4334,  35.5360,2,-999.0000,9,    193.3,2,   195.3,2,    4.56,2,    5.00,2,    0.01,2,    0.43,2,   2.350,2,   1.417,2,   1.0060,2,  2087.0,2,  2331.1,2,   8.0095,2,    20.00,-999.000,9,-999.000,9,-999.000,9,  17.4316,2,-999.000,9, -999.00,9, -999.00,-999.000,9,-999.000,   50.89,2,    7.60,2, -33.0000,  36.4800,-999.000,-999.000,20090329,       0108
33RR20090320,        I05,      24,          1,         29,         29,2,20090328,       2323,   -32.9997,    36.4804,       3717,   221.2,  16.5358,  35.5237,2,-999.0000,9,    207.5,2,   204.6,2,    4.13,2,    5.35,2,    0.01,2,    0.45,2,   2.463,2,   1.464,2,   1.1710,2,  2090.3,2,  2328.8,2,   8.0035,2,    20.00,-999.000,9,-999.000,9,-999.000,9,  16.5324,2,-999.000,9, -999.00,9, -999.00,-999.000,9,-999.000,   49.80,2,    7.90,2, -32.9999,  36.4801,-999.000,-999.000,20090329,       0105
33RR20090320,        I05,      24,          1,         28,         28,2,20090328,       2323,   -32.9997,    36.4804,       3717,   271.4,  15.6216,  35.4763,2,-999.0000,9,    203.8,2,   202.2,2,    4.28,2,    6.66,2,    0.00,2,    0.54,2,   2.599,2,   1.532,2,   1.0800,2,  2102.6,2,  2328.4,2,   7.9761,2,    20.00,-999.000,9,-999.000,9,-999.000,9,  15.6337,2,-999.000,9, -999.00,9, -999.00,-999.000,9,-999.000,   49.03,2,    8.88,2, -32.9999,  36.4801,-999.000,-999.000,20090329,       0103
33RR20090320,        I05,      24,          1,         27,         27,2,20090328,       2323,   -32.9997,    36.4804,       3717,   321.5,  14.9884,  35.4336,2,-999.0000,9,    206.9,2,   205.6,2,    4.25,2,    7.36,2,    0.00,2,    0.59,2,   2.683,2,   1.580,2,   1.1600,2,  2108.3,2,  2326.2,2,   7.9640,2,    20.00,-999.000,9,-999.000,9,-999.000,9,  14.9871,2,-999.000,9, -999.00,9, -999.00,-999.000,9,-999.000,   48.33,2,    9.54,2, -32.9999,  36.4801,-999.000,-999.000,20090329,       0101
33RR20090320,        I05,      24,          1,         26,         26,2,20090328,       2323,   -32.9997,    36.4804,       3717,   370.7,  14.2896,  35.3791,2,-999.0000,9,    210.8,2,   211.4,2,    4.21,2,    7.99,2,    0.00,2,    0.61,2,   2.816,2,   1.638,2,   1.1400,2,  2115.5,2,  2325.2,2,   7.9537,2,    20.00,-999.000,9,-999.000,9,-999.000,9,  14.2944,2,-999.000,9, -999.00,9, -999.00,-999.000,9,-999.000,   48.05,2,   10.12,2, -32.9998,  36.4801,-999.000,-999.000,20090329,       0059
33RR20090320,        I05,      24,          1,         25,         25,2,20090328,       2323,   -32.9997,    36.4804,       3717,   421.3,  13.7224,  35.3150,2,-999.0000,9,    209.3,2,   209.3,2,    4.96,2,    9.36,2,    0.00,2,    0.69,2,   2.860,2,   1.677,2,   1.0560,2,  2119.3,2,  2322.0,2,   7.9374,2,    20.00,-999.000,9,-999.000,9,-999.000,9,  13.7307,2,-999.000,9, -999.00,9, -999.00,-999.000,9,-999.000,   46.69,2,   11.12,2, -32.9998,  36.4802,-999.000,-999.000,20090329,       0056
33RR20090320,        I05,      24,          1,         24,         24,2,20090328,       2323,   -32.9997,    36.4804,       3717,   471.6,  13.3056,  35.2662,2,-999.0000,9,    212.8,2,   211.4,2,    4.92,2,    9.95,2,    0.00,2,    0.73,2,   2.925,2,   1.697,2,   0.9820,2,  2119.1,2,  2321.2,2,   7.9296,2,    20.00,-999.000,9,-999.000,9,-999.000,9,  13.3072,2,-999.000,9, -999.00,9, -999.00,-999.000,9,-999.000,   45.96,2,   11.60,2, -32.9998,  36.4802,-999.000,-999.000,20090329,       0054
33RR20090320,        I05,      24,          1,         23,         23,2,20090328,       2323,   -32.9997,    36.4804,       3717,   541.1,  12.6646,  35.1816,2,-999.0000,9,    215.4,2,   215.6,2,    4.69,2,   10.98,2,    0.00,2,    0.80,2,   3.026,2,   1.748,2,   0.9600,2,  2122.0,2,  2317.7,2,   7.9186,2,    20.00,-999.000,9,-999.000,9,-999.000,9,  12.6670,2,-999.000,9, -999.00,9, -999.00,-999.000,9,-999.000,   45.50,2,   13.06,2, -32.9998,  36.4802,-999.000,-999.000,20090329,       0051
33RR20090320,        I05,      24,          1,         22,         22,2,20090328,       2323,   -32.9997,    36.4804,       3717,   640.8,  11.5059,  35.0136,2,-999.0000,9,    215.3,2,   215.2,2,    5.83,2,   13.42,2,    0.00,2,    0.96,2,   3.097,2,   1.711,2,   0.8500,2,  2129.6,2,  2310.6,2,   7.8894,2,    20.00,-999.000,9,-999.000,9,-999.000,9,  11.5008,2,-999.000,9, -999.00,9, -999.00,-999.000,9,-999.000,   44.27,2,   15.46,2, -32.9997,  36.4802,-999.000,-999.000,20090329,       0048
33RR20090320,        I05,      24,          1,         21,         21,2,20090328,       2323,   -32.9997,    36.4804,       3717,   742.0,  10.5009,  34.8716,2,-999.0000,9,    215.2,2,   217.6,2,    6.37,2,   15.43,2,    0.00,2,    1.09,2,   3.105,6,   1.692,6,   0.7600,6,  2133.2,2,  2302.7,2,   7.8679,2,    20.00,-999.000,9,-999.000,9,-999.000,9,  10.4992,2,-999.000,9, -999.00,9, -999.00,-999.000,9,-999.000,   43.53,2,   17.06,2, -32.9996,  36.4801,-999.000,-999.000,20090329,       0045
33RR20090320,        I05,      24,          1,         20,         20,2,20090328,       2323,   -32.9997,    36.4804,       3717,   842.1,   9.3204,  34.7303,2,-999.0000,9,    210.3,2,   210.3,2,    9.85,2,   18.77,2,    0.00,2,    1.31,2,   2.838,2,   1.519,2,   0.5620,2,  2144.9,2,  2298.6,2,   7.8300,2,    20.00,-999.000,9,-999.000,9,-999.000,9,   9.3414,2,-999.000,9, -999.00,9, -999.00,-999.000,9,-999.000,   42.53,2,   20.57,2, -32.9995,  36.4801,-999.000,-999.000,20090329,       0042
33RR20090320,        I05,      24,          1,         19,         19,2,20090328,       2323,   -32.9997,    36.4804,       3717,   942.1,   8.0616,  34.6052,2,-999.0000,9,    202.3,2,   202.9,2,   15.09,2,   22.61,2,    0.00,2,    1.57,2,   2.438,2,   1.275,2,   0.4530,2,  2161.5,2,  2296.4,2,   7.7866,2,    20.00,-999.000,9,-999.000,9,-999.000,9,   8.0552,2,-999.000,9, -999.00,9, -999.00,-999.000,9,-999.000,   41.83,2,   24.10,2, -32.9995,  36.4801,-999.000,-999.000,20090329,       0039
33RR20090320,        I05,      24,          1,         18,         18,2,20090328,       2323,   -32.9997,    36.4804,       3717,  1042.7,   6.8470,  34.5409,2,-999.0000,9,    185.2,2,   183.9,2,   26.44,2,   27.21,2,    0.00,2,    1.88,2,   1.776,2,   0.900,2,   0.3020,2,  2187.1,2,  2304.1,2,   7.7320,2,    20.00,-999.000,9,-999.000,9,-999.000,9,   6.8404,2,-999.000,9, -999.00,9, -999.00,-999.000,9,-999.000,   41.38,2,   28.67,2, -32.9995,  36.4802,-999.000,-999.000,20090329,       0036
33RR20090320,        I05,      24,          1,         17,         17,2,20090328,       2323,   -32.9997,    36.4804,       3717,  1143.0,   5.5589,  34.4512,2,-999.0000,9,    173.6,2,   190.3,2,   31.72,2,   29.45,2,    0.00,2,    2.04,2,   1.741,2,   0.870,2,   0.3010,2,  2196.2,2,  2304.2,2,   7.7082,2,    20.00,-999.000,9,-999.000,9,-999.000,9,   5.5583,2,-999.000,9, -999.00,9, -999.00,-999.000,9,-999.000,   40.64,2,   31.20,2, -32.9995,  36.4802,-999.000,-999.000,20090329,       0032
33RR20090320,        I05,      24,          1,         16,         16,2,20090328,       2323,   -32.9997,    36.4804,       3717,  1242.1,   4.9089,  34.4507,2,  34.4548,2,    187.0,2,   182.4,2,   40.37,2,   31.21,2,    0.00,2,    2.18,2,   1.413,2,   0.695,2,   0.2350,2,  2208.4,2,  2310.4,2,   7.6848,2,    20.00,-999.000,9,-999.000,9,-999.000,9,   4.9115,2,-999.000,9, -999.00,9, -999.00,-999.000,9,-999.000,   40.04,2,   32.87,2, -32.9995,  36.4802,-999.000,-999.000,20090329,       0029
33RR20090320,        I05,      24,          1,         15,         15,2,20090328,       2323,   -32.9997,    36.4804,       3717,  1342.4,   4.4051,  34.4923,2,  34.4905,2,    172.3,2,   171.9,2,   50.23,2,   32.67,2,    0.00,2,    2.29,2,   1.030,2,   0.492,2,   0.1330,2,  2226.6,2,  2320.6,2,   7.6640,2,    20.00,-999.000,9,-999.000,9,-999.000,9,   4.4069,2,-999.000,9, -999.00,9, -999.00,-999.000,9,-999.000,   39.87,2,   34.63,2, -32.9995,  36.4802,-999.000,-999.000,20090329,       0025
33RR20090320,        I05,      24,          1,         14,         14,2,20090328,       2323,   -32.9997,    36.4804,       3717,  1444.1,   3.9196,  34.5086,2,  34.5078,2,    168.4,2,   170.7,2,   55.94,2,   33.22,2,    0.00,2,    2.34,2,   0.832,2,   0.388,2,   0.0940,2,  2234.9,6,  2324.6,2,   7.6549,2,    20.00,-999.000,9,-999.000,9,-999.000,9,   3.9198,2,-999.000,9, -999.00,9, -999.00,-999.000,9,-999.000,   39.70,2,   34.54,2, -32.9996,  36.4802,-999.000,-999.000,20090329,       0022
33RR20090320,        I05,      24,          1,         13,         13,2,20090328,       2323,   -32.9997,    36.4804,       3717,  1544.0,   3.6039,  34.5300,2,  34.5286,2,    170.6,2,   171.2,2,   60.48,2,   33.29,2,    0.00,2,    2.35,2,   0.631,2,   0.287,2,   0.1090,2,  2238.4,2,  2329.3,2,   7.6541,2,    20.00,-999.000,9,-999.000,9,-999.000,9,   3.6020,2,-999.000,9, -999.00,9, -999.00,-999.000,9,-999.000,   39.59,2,   34.65,2, -32.9997,  36.4802,-999.000,-999.000,20090329,       0019
33RR20090320,        I05,      24,          1,         12,         12,2,20090328,       2323,   -32.9997,    36.4804,       3717,  1645.3,   3.3968,  34.5965,2,  34.5968,2,    166.7,2,   164.0,2,   68.21,2,   33.60,2,    0.00,2,    2.37,2,   0.379,2,   0.172,2,   0.0610,2,  2249.5,2,  2333.7,2,   7.6484,2,    20.00,-999.000,9,-999.000,9,-999.000,9,   3.3982,2,-999.000,9, -999.00,9, -999.00,-999.000,9,-999.000,   39.97,2,   35.01,2, -32.9997,  36.4802,-999.000,-999.000,20090329,       0016
33RR20090320,        I05,      24,          1,         11,         11,2,20090328,       2323,   -32.9997,    36.4804,       3717,  1745.3,   3.2103,  34.6358,2,  34.6355,2,    167.0,2,   165.3,2,   71.96,2,   33.16,2,    0.00,2,    2.35,2,   0.253,2,   0.115,2,   0.0150,2,  2252.5,2,  2343.7,2,   7.6523,2,    20.00,-999.000,9,-999.000,9,-999.000,9,   3.2110,2,-999.000,9, -999.00,9, -999.00,-999.000,9,-999.000,   39.98,2,   34.51,2, -32.9996,  36.4802,-999.000,-999.000,20090329,       0013
33RR20090320,        I05,      24,          1,         10,         10,2,20090328,       2323,   -32.9997,    36.4804,       3717,  1875.5,   2.9870,  34.6798,2,  35.5447,4,    171.1,2,   170.2,2,   74.12,2,   32.37,2,    0.00,2,    2.30,2,   0.152,2,   0.066,2,   0.0200,2,  2251.6,2,  2346.2,2,   7.6625,2,    20.00,-999.000,9,-999.000,9,-999.000,9,   2.9867,2,-999.000,9, -999.00,9, -999.00,-999.000,9,-999.000,   40.02,2,   33.66,2, -32.9996,  36.4801,-999.000,-999.000,20090329,       0009
33RR20090320,        I05,      24,          1,          9,          9,2,20090328,       2323,   -32.9997,    36.4804,       3717,  2098.1,   2.7626,  34.7311,2,  34.7324,2,    181.8,2,   180.9,2,   73.08,2,   30.69,2,    0.00,2,    2.20,2,   0.075,2,   0.035,2,   0.0440,2,  2248.1,2,  2349.2,2,   7.6819,2,    20.00,-999.000,9,-999.000,9,-999.000,9,   2.7621,2,-999.000,9, -999.00,9, -999.00,-999.000,9,-999.000,   40.27,2,   32.42,2, -32.9998,  36.4801,-999.000,-999.000,20090329,       0003
33RR20090320,        I05,      24,          1,          8,          8,2,20090328,       2323,   -32.9997,    36.4804,       3717,  2350.7,   2.6358,  34.7664,2,  34.7660,2,    191.5,2,   192.5,2,   69.45,2,   29.21,2,    0.00,2,    2.07,2,   0.048,2,   0.020,2,   0.0040,2,  2238.8,2,  2345.6,2,   7.7017,2,    20.00,-999.000,9,-999.000,9,-999.000,9,   2.6355,2,-999.000,9, -999.00,9, -999.00,-999.000,9,-999.000,   40.31,2,   31.01,2, -32.9997,  36.4800,-999.000,-999.000,20090328,       2357
33RR20090320,        I05,      24,          1,          7,          7,2,20090328,       2323,   -32.9997,    36.4804,       3717,  2603.2,   2.5038,  34.7937,2,  34.7942,2,    203.4,2,   203.6,2,   66.62,2,   27.92,2,    0.00,2,    1.95,2,   0.032,2,   0.014,2,   0.0030,2,  2230.0,2,  2345.5,2,   7.7198,2,    20.00,-999.000,9,-999.000,9,-999.000,9,   2.5036,2,-999.000,9, -999.00,9, -999.00,-999.000,9,-999.000,   39.93,2,   29.34,2, -32.9996,  36.4801,-999.000,-999.000,20090328,       2351
33RR20090320,        I05,      24,          1,          6,          6,2,20090328,       2323,   -32.9997,    36.4804,       3717,  2907.6,   2.3408,  34.8034,2,  34.8040,2,    210.2,2,   210.2,2,   67.58,2,   27.49,2,    0.00,2,    1.90,2,   0.031,2,   0.016,2,   0.0000,2,  2227.7,2,  2345.2,2,   7.7289,2,    20.00,-999.000,9,-999.000,9,-999.000,9,   2.3405,2,-999.000,9, -999.00,9, -999.00,-999.000,9,-999.000,   39.79,2,   29.04,2, -32.9997,  36.4802,-999.000,-999.000,20090328,       2344
33RR20090320,        I05,      24,          1,          5,          5,2,20090328,       2323,   -32.9997,    36.4804,       3717,  3109.9,   2.2494,  34.8068,2,  34.8072,2,    213.3,2,   214.2,2,   68.94,2,   27.25,2,    0.00,2,    1.88,2,   0.034,2,   0.016,2,   0.0090,2,  2226.6,2,  2348.0,2,   7.7330,2,    20.00,-999.000,9,-999.000,9,-999.000,9,   2.2494,2,-999.000,9, -999.00,9, -999.00,-999.000,9,-999.000,   39.45,2,   28.81,2, -32.9999,  36.4801,-999.000,-999.000,20090328,       2339
33RR20090320,        I05,      24,          1,          4,          4,2,20090328,       2323,   -32.9997,    36.4804,       3717,  3362.9,   1.8199,  34.7865,2,  34.7873,2,    215.5,2,   215.4,2,   81.29,2,   28.20,2,    0.00,2,    1.95,2,   0.028,2,   0.016,2,   0.0030,2,  2234.7,2,  2354.1,2,   7.7269,2,    20.00,-999.000,9,-999.000,9,-999.000,9,   1.8198,2,-999.000,9, -999.00,9, -999.00,-999.000,9,-999.000,   39.35,2,   29.75,2, -32.9997,  36.4802,-999.000,-999.000,20090328,       2333
33RR20090320,        I05,      24,          1,          3,          3,2,20090328,       2323,   -32.9997,    36.4804,       3717,  3617.4,   1.5328,  34.7672,2,  34.7675,2,    216.4,2,   216.1,2,   90.46,2,   29.01,2,    0.00,2,    2.02,2,   0.053,6,   0.025,6,   0.0150,6,  2241.5,2,  2357.3,2,   7.7191,2,    20.00,-999.000,9,-999.000,9,-999.000,9,   1.5326,2,-999.000,9, -999.00,9, -999.00,-999.000,9,-999.000,   39.48,2,   30.60,2, -32.9997,  36.4803,-999.000,-999.000,20090328,       2328
33RR20090320,        I05,      24,          1,          2,          2,2,20090328,       2323,   -32.9997,    36.4804,       3717,  3728.9,   1.4162,  34.7587,2,  34.7590,2,    216.7,2,   216.6,2,   94.63,2,   29.42,2,    0.00,2,    2.03,2,   0.065,2,   0.030,2,   0.0000,2,  2244.4,2,  2359.0,2,   7.7163,2,    20.00,-999.000,9,-999.000,9,-999.000,9,   1.4173,2,-999.000,9, -999.00,9, -999.00,-999.000,9,-999.000,   39.67,2,   31.01,2, -32.9997,  36.4804,-999.000,-999.000,20090328,       2324
33RR20090320,        I05,      24,          1,          1,          1,2,20090328,       2323,   -32.9997,    36.4804,       3717,  3744.2,   1.4046,  34.7575,2,  34.7573,2,    216.3,2,   216.2,2,   95.01,2,   29.44,2,    0.00,2,    2.04,2,   0.064,2,   0.031,2,   0.0210,2,  2245.2,6,  2358.7,2,   7.7155,2,    20.00,-999.000,9,-999.000,9,-999.000,9,   1.4052,2,-999.000,9, -999.00,9, -999.00,-999.000,9,-999.000,   39.70,2,   31.09,2, -32.9997,  36.4804,-999.000,-999.000,20090328,       2323