BOTTLE,20220814CCHSIOAMB
EXPOCODE,SECT_ID,STNNBR,CASTNO,SAMPNO,BTLNBR,BTLNBR_FLAG_W,DATE,TIME,LATITUDE,LONGITUDE,DEPTH,CTDPRS,CTDTMP,CTDSAL,CTDSAL_FLAG_W,SALNTY,SALNTY_FLAG_W,CTDOXY,CTDOXY_FLAG_W,OXYGEN,OXYGEN_FLAG_W,SILCAT,SILCAT_FLAG_W,NITRAT,NITRAT_FLAG_W,NITRIT,NITRIT_FLAG_W,PHSPHT,PHSPHT_FLAG_W,CFC-11,CFC-11_FLAG_W,CFC-12,CFC-12_FLAG_W,SF6,SF6_FLAG_W,TCARBN,TCARBN_FLAG_W,ALKALI,ALKALI_FLAG_W,PH_TOT,PH_TOT_FLAG_W,PH_TMP,TRITUM,TRITUM_FLAG_W,HELIUM,HELIUM_FLAG_W,DELHE3,DELHE3_FLAG_W,REFTMP,REFTMP_FLAG_W,DELC13,DELC13_FLAG_W,DELC14,DELC14_FLAG_W,C14ERR,NEON,NEON_FLAG_W,NEONER,DOC,DOC_FLAG_W,TDN,TDN_FLAG_W,BTL_LAT,BTL_LON,HELIER,DELHER,BTL_DATE,BTL_TIME
,,,,,,,,,,,METERS,DBAR,ITS-90,PSS-78,,PSS-78,,UMOL/KG,,UMOL/KG,,UMOL/KG,,UMOL/KG,,UMOL/KG,,UMOL/KG,,PMOL/KG,,PMOL/KG,,FMOL/KG,,UMOL/KG,,UMOL/KG,,,,DEG C,TU,,NMOL/KG,,PERCNT,,DEG C,,/MILLE,,/MILLE,,/MILLE,NMOL/KG,,NMOL/KG,UMOL/KG,,UMOL/KG,,,,NMOL/KG,PERCNT,,
33RR20090320,        I05,      68,          1,         36,         36,2,20090408,       2316,   -33.1999,    57.0500,       6155,     9.9,  21.5109,  35.6100,2,  35.6094,2,    221.5,2,   222.0,2,    0.67,2,    0.18,2,    0.00,2,    0.12,2,-999.000,9,-999.000,9,-999.0000,9,  2049.3,6,  2336.0,2,   8.0954,2,    20.00,-999.000,9,-999.000,9,-999.000,9,  21.5103,2,-999.000,9, -999.00,9, -999.00,-999.000,9,-999.000, -999.00,9, -999.00,9, -33.1999,  57.0503,-999.000,-999.000,20090409,       0155
33RR20090320,        I05,      68,          1,         35,         35,2,20090408,       2316,   -33.1999,    57.0500,       6155,    32.8,  21.5163,  35.6100,2,  35.6094,2,    222.3,2,   222.5,2,    0.61,2,    0.23,2,    0.00,2,    0.12,2,-999.000,9,-999.000,9,-999.0000,9,  2050.2,2,  2335.1,2,   8.0951,2,    20.00,-999.000,9,-999.000,9,-999.000,9,  21.5172,2,-999.000,9, -999.00,9, -999.00,-999.000,9,-999.000, -999.00,9, -999.00,9, -33.1999,  57.0503,-999.000,-999.000,20090409,       0153
33RR20090320,        I05,      68,          1,         34,         34,2,20090408,       2316,   -33.1999,    57.0500,       6155,    58.1,  21.5115,  35.6118,2,  35.6116,2,    223.9,2,   222.4,2,    0.55,2,    0.23,2,    0.00,2,    0.12,2,-999.000,9,-999.000,9,-999.0000,9,  2050.4,2,  2334.0,2,   8.0938,2,    20.00,-999.000,9,-999.000,9,-999.000,9,  21.5108,2,-999.000,9, -999.00,9, -999.00,-999.000,9,-999.000, -999.00,9, -999.00,9, -33.2000,  57.0503,-999.000,-999.000,20090409,       0152
33RR20090320,        I05,      68,          1,         33,         33,2,20090408,       2316,   -33.1999,    57.0500,       6155,    83.0,  19.3363,  35.5145,2,  35.5160,2,    240.4,2,   238.1,2,    0.49,2,    0.23,2,    0.00,2,    0.14,2,-999.000,9,-999.000,9,-999.0000,9,  2056.7,2,  2331.1,2,   8.0774,2,    20.00,-999.000,9,-999.000,9,-999.000,9,  19.3459,2,-999.000,9, -999.00,9, -999.00,-999.000,9,-999.000, -999.00,9, -999.00,9, -33.2000,  57.0503,-999.000,-999.000,20090409,       0150
33RR20090320,        I05,      68,          1,         32,         32,2,20090408,       2316,   -33.1999,    57.0500,       6155,   107.3,  16.8106,  35.4990,2,  35.4984,2,    234.4,2,   238.6,2,    0.81,2,    0.89,2,    0.05,2,    0.22,2,-999.000,9,-999.000,9,-999.0000,9,  -999.0,9,  -999.0,9,-999.0000,9,  -999.00,-999.000,9,-999.000,9,-999.000,9,  16.8109,2,-999.000,9, -999.00,9, -999.00,-999.000,9,-999.000, -999.00,9, -999.00,9, -33.2000,  57.0502,-999.000,-999.000,20090409,       0149
33RR20090320,        I05,      68,          1,         31,         31,2,20090408,       2316,   -33.1999,    57.0500,       6155,   157.6,  15.2230,  35.4487,2,  35.4496,2,    230.0,2,   228.1,2,    1.34,2,    3.60,2,    0.03,2,    0.39,2,-999.000,9,-999.000,9,-999.0000,9,  2095.1,2,  2328.4,2,   8.0024,2,    20.00,-999.000,9,-999.000,9,-999.000,9,  15.2253,2,-999.000,9, -999.00,9, -999.00,-999.000,9,-999.000, -999.00,9, -999.00,9, -33.1998,  57.0502,-999.000,-999.000,20090409,       0147
33RR20090320,        I05,      68,          1,         30,         30,2,20090408,       2316,   -33.1999,    57.0500,       6155,   205.5,  14.3070,  35.3725,2,  35.3703,2,    227.9,2,   228.0,2,    1.85,2,    6.05,2,    0.00,2,    0.53,2,-999.000,9,-999.000,9,-999.0000,9,  -999.0,9,  -999.0,9,-999.0000,9,  -999.00,-999.000,9,-999.000,9,-999.000,9,  14.3058,2,-999.000,9, -999.00,9, -999.00,-999.000,9,-999.000, -999.00,9, -999.00,9, -33.1997,  57.0502,-999.000,-999.000,20090409,       0146
33RR20090320,        I05,      68,          1,         29,         29,2,20090408,       2316,   -33.1999,    57.0500,       6155,   257.7,  13.8202,  35.3275,2,  35.3260,2,    229.0,2,   228.7,2,    2.19,2,    7.12,2,    0.00,2,    0.59,2,-999.000,9,-999.000,9,-999.0000,9,  2107.0,2,  2318.9,2,   7.9646,2,    20.00,-999.000,9,-999.000,9,-999.000,9,  13.8189,2,-999.000,9, -999.00,9, -999.00,-999.000,9,-999.000, -999.00,9, -999.00,9, -33.1996,  57.0504,-999.000,-999.000,20090409,       0144
33RR20090320,        I05,      68,          1,         28,         28,2,20090408,       2316,   -33.1999,    57.0500,       6155,   306.7,  13.5839,  35.3088,2,  35.3077,2,    230.2,2,   230.2,2,    2.51,2,    7.61,2,    0.00,2,    0.61,2,-999.000,9,-999.000,9,-999.0000,9,  -999.0,9,  -999.0,9,-999.0000,9,  -999.00,-999.000,9,-999.000,9,-999.000,9,  13.5864,2,-999.000,9, -999.00,9, -999.00,-999.000,9,-999.000, -999.00,9, -999.00,9, -33.1994,  57.0504,-999.000,-999.000,20090409,       0142
33RR20090320,        I05,      68,          1,         27,         27,2,20090408,       2316,   -33.1999,    57.0500,       6155,   356.4,  13.3426,  35.2764,2,  35.2742,2,    232.6,2,   230.6,2,    2.45,2,    8.20,2,    0.00,2,    0.65,2,-999.000,9,-999.000,9,-999.0000,9,  2110.6,2,  2317.6,2,   7.9528,2,    20.00,-999.000,9,-999.000,9,-999.000,9,  13.3400,2,-999.000,9, -999.00,9, -999.00,-999.000,9,-999.000, -999.00,9, -999.00,9, -33.1993,  57.0503,-999.000,-999.000,20090409,       0141
33RR20090320,        I05,      68,          1,         26,         26,2,20090408,       2316,   -33.1999,    57.0500,       6155,   407.7,  13.0168,  35.2346,2,  35.2321,2,    231.5,2,   231.2,2,    2.59,2,    8.96,2,    0.00,2,    0.70,2,-999.000,9,-999.000,9,-999.0000,9,  -999.0,9,  -999.0,9,-999.0000,9,  -999.00,-999.000,9,-999.000,9,-999.000,9,  13.0149,2,-999.000,9, -999.00,9, -999.00,-999.000,9,-999.000, -999.00,9, -999.00,9, -33.1992,  57.0502,-999.000,-999.000,20090409,       0139
33RR20090320,        I05,      68,          1,         25,         25,2,20090408,       2316,   -33.1999,    57.0500,       6155,   507.5,  12.5118,  35.1562,2,  35.1557,2,    230.5,2,   230.7,2,    2.91,2,   10.14,2,    0.00,2,    0.77,2,-999.000,9,-999.000,9,-999.0000,9,  2116.0,2,  2311.5,2,   7.9313,2,    20.00,-999.000,9,-999.000,9,-999.000,9,  12.5105,2,-999.000,9, -999.00,9, -999.00,-999.000,9,-999.000, -999.00,9, -999.00,9, -33.1992,  57.0503,-999.000,-999.000,20090409,       0136
33RR20090320,        I05,      68,          1,         24,         24,2,20090408,       2316,   -33.1999,    57.0500,       6155,   607.7,  11.7945,  35.0419,2,  35.0409,2,    226.6,2,   229.4,2,    3.24,2,   11.81,2,    0.00,2,    0.88,2,-999.000,9,-999.000,9,-999.0000,9,  -999.0,9,  -999.0,9,-999.0000,9,  -999.00,-999.000,9,-999.000,9,-999.000,9,  11.7955,2,-999.000,9, -999.00,9, -999.00,-999.000,9,-999.000, -999.00,9, -999.00,9, -33.1993,  57.0502,-999.000,-999.000,20090409,       0134
33RR20090320,        I05,      68,          1,         23,         23,2,20090408,       2316,   -33.1999,    57.0500,       6155,   707.4,  10.7333,  34.8861,2,  34.8931,2,    221.6,2,   221.7,2,    4.55,2,   14.72,2,    0.00,2,    1.06,2,-999.000,9,-999.000,9,-999.0000,9,  2130.9,2,  2303.6,2,   7.8780,2,    20.00,-999.000,9,-999.000,9,-999.000,9,  10.7448,2,-999.000,9, -999.00,9, -999.00,-999.000,9,-999.000, -999.00,9, -999.00,9, -33.1993,  57.0503,-999.000,-999.000,20090409,       0131
33RR20090320,        I05,      68,          1,         22,         22,2,20090408,       2316,   -33.1999,    57.0500,       6155,   807.0,   9.4021,  34.7218,2,  34.7205,2,    215.9,2,   215.8,2,    7.23,2,   18.44,2,    0.00,2,    1.31,2,-999.000,9,-999.000,9,-999.0000,9,  -999.0,9,  -999.0,9,-999.0000,9,  -999.00,-999.000,9,-999.000,9,-999.000,9,   9.4014,2,-999.000,9, -999.00,9, -999.00,-999.000,9,-999.000, -999.00,9, -999.00,9, -33.1993,  57.0504,-999.000,-999.000,20090409,       0128
33RR20090320,        I05,      68,          1,         21,         21,2,20090408,       2316,   -33.1999,    57.0500,       6155,   904.6,   7.9575,  34.5796,2,  34.5799,2,    208.4,2,   206.8,2,   12.65,2,   22.56,2,    0.00,2,    1.59,2,-999.000,9,-999.000,9,-999.0000,9,  2160.3,2,  2292.0,2,   7.7886,2,    20.00,-999.000,9,-999.000,9,-999.000,9,   7.9517,2,-999.000,9, -999.00,9, -999.00,-999.000,9,-999.000, -999.00,9, -999.00,9, -33.1994,  57.0503,-999.000,-999.000,20090409,       0126
33RR20090320,        I05,      68,          1,         20,         20,2,20090408,       2316,   -33.1999,    57.0500,       6155,  1005.4,   6.4921,  34.4674,2,  34.4666,2,    203.5,2,   203.5,2,   19.66,2,   26.25,2,    0.00,2,    1.86,2,-999.000,9,-999.000,9,-999.0000,9,  -999.0,9,  -999.0,9,-999.0000,9,  -999.00,-999.000,9,-999.000,9,-999.000,9,   6.4811,2,-999.000,9, -999.00,9, -999.00,-999.000,9,-999.000, -999.00,9, -999.00,9, -33.1995,  57.0502,-999.000,-999.000,20090409,       0123
33RR20090320,        I05,      68,          1,         19,         19,2,20090408,       2316,   -33.1999,    57.0500,       6155,  1107.5,   5.1945,  34.4082,2,  34.4073,2,    199.8,2,   198.7,2,   29.25,2,   29.35,2,    0.00,2,    2.09,2,-999.000,9,-999.000,9,-999.0000,9,  2195.6,2,  2299.3,2,   7.7105,2,    20.00,-999.000,9,-999.000,9,-999.000,9,   5.1939,2,-999.000,9, -999.00,9, -999.00,-999.000,9,-999.000, -999.00,9, -999.00,9, -33.1996,  57.0502,-999.000,-999.000,20090409,       0120
33RR20090320,        I05,      68,          1,         18,         18,2,20090408,       2316,   -33.1999,    57.0500,       6155,  1206.1,   4.6690,  34.4026,2,  34.4019,2,    196.0,2,   194.7,2,   35.13,2,   30.72,2,    0.00,2,    2.19,2,-999.000,9,-999.000,9,-999.0000,9,  -999.0,9,  -999.0,9,-999.0000,9,  -999.00,-999.000,9,-999.000,9,-999.000,9,   4.6684,2,-999.000,9, -999.00,9, -999.00,-999.000,9,-999.000, -999.00,9, -999.00,9, -33.1996,  57.0502,-999.000,-999.000,20090409,       0117
33RR20090320,        I05,      68,          1,         17,         17,2,20090408,       2316,   -33.1999,    57.0500,       6155,  1307.7,   4.0197,  34.4152,2,  34.4145,2,    189.1,2,   190.7,2,   43.20,2,   31.86,2,    0.00,2,    2.29,2,-999.000,9,-999.000,9,-999.0000,9,  2218.1,2,  2310.9,2,   7.6757,2,    20.00,-999.000,9,-999.000,9,-999.000,9,   4.0191,2,-999.000,9, -999.00,9, -999.00,-999.000,9,-999.000, -999.00,9, -999.00,9, -33.1997,  57.0502,-999.000,-999.000,20090409,       0115
33RR20090320,        I05,      68,          1,         16,         16,2,20090408,       2316,   -33.1999,    57.0500,       6155,  1407.6,   3.6194,  34.4579,2,  34.4571,2,    184.3,2,   183.8,2,   50.90,2,   32.74,2,    0.00,2,    2.34,2,-999.000,9,-999.000,9,-999.0000,9,  -999.0,9,  -999.0,9,-999.0000,9,  -999.00,-999.000,9,-999.000,9,-999.000,9,   3.6188,2,-999.000,9, -999.00,9, -999.00,-999.000,9,-999.000, -999.00,9, -999.00,9, -33.1996,  57.0501,-999.000,-999.000,20090409,       0112
33RR20090320,        I05,      68,          1,         15,         15,2,20090408,       2316,   -33.1999,    57.0500,       6155,  1608.1,   3.0484,  34.5499,2,  34.5488,2,    175.3,2,   176.2,2,   64.41,2,   33.22,2,    0.00,2,    2.38,2,-999.000,9,-999.000,9,-999.0000,9,  2244.4,2,  2332.2,2,   7.6538,2,    20.00,-999.000,9,-999.000,9,-999.000,9,   3.0499,2,-999.000,9, -999.00,9, -999.00,-999.000,9,-999.000, -999.00,9, -999.00,9, -33.1996,  57.0500,-999.000,-999.000,20090409,       0108
33RR20090320,        I05,      68,          1,         14,         14,2,20090408,       2316,   -33.1999,    57.0500,       6155,  1810.1,   2.7762,  34.6116,2,  34.6113,2,    175.5,2,   175.9,2,   71.76,2,   32.89,2,    0.00,2,    2.35,2,   0.284,2,   0.106,2,   0.0000,2,  -999.0,9,  -999.0,9,-999.0000,9,  -999.00,-999.000,9,-999.000,9,-999.000,9,   2.7767,2,-999.000,9, -999.00,9, -999.00,-999.000,9,-999.000, -999.00,9, -999.00,9, -33.1996,  57.0498,-999.000,-999.000,20090409,       0104
33RR20090320,        I05,      68,          1,         13,         13,2,20090408,       2316,   -33.1999,    57.0500,       6155,  2012.6,   2.5459,  34.6710,2,  34.6703,2,    178.5,2,   178.9,2,   78.94,2,   32.28,2,    0.00,2,    2.31,2,   0.140,2,   0.050,2,   0.0000,2,  2255.1,2,  2348.5,2,   7.6679,2,    20.00,-999.000,9,-999.000,9,-999.000,9,   2.5468,2,-999.000,9, -999.00,9, -999.00,-999.000,9,-999.000, -999.00,9, -999.00,9, -33.1995,  57.0497,-999.000,-999.000,20090409,       0100
33RR20090320,        I05,      68,          1,         12,         12,2,20090408,       2316,   -33.1999,    57.0500,       6155,  2265.1,   2.3506,  34.7115,2,  34.7110,2,    183.4,2,   182.9,2,   84.12,2,   31.63,2,    0.00,2,    2.28,2,   0.080,2,   0.029,2,   0.0000,2,  -999.0,9,  -999.0,9,-999.0000,9,  -999.00,-999.000,9,-999.000,9,-999.000,9,   2.3518,2,-999.000,9, -999.00,9, -999.00,-999.000,9,-999.000, -999.00,9, -999.00,9, -33.1997,  57.0497,-999.000,-999.000,20090409,       0054
33RR20090320,        I05,      68,          1,         11,         11,2,20090408,       2316,   -33.1999,    57.0500,       6155,  2517.2,   2.1319,  34.7339,2,  34.7330,2,    188.3,2,   187.9,2,   89.51,2,   31.25,2,    0.00,2,    2.24,2,   0.065,2,   0.023,2,   0.0000,2,  2257.5,2,  2360.1,2,   7.6870,2,    20.00,-999.000,9,-999.000,9,-999.000,9,   2.1316,2,-999.000,9, -999.00,9, -999.00,-999.000,9,-999.000, -999.00,9, -999.00,9, -33.1999,  57.0502,-999.000,-999.000,20090409,       0049
33RR20090320,        I05,      68,          1,         10,         10,2,20090408,       2316,   -33.1999,    57.0500,       6155,  2770.6,   1.9317,  34.7412,2,  34.7409,2,    193.7,2,   193.2,2,   93.10,2,   30.96,2,    0.00,2,    2.22,2,   0.079,2,   0.028,2,   0.0000,2,  -999.0,9,  -999.0,9,-999.0000,9,  -999.00,-999.000,9,-999.000,9,-999.000,9,   1.9315,2,-999.000,9, -999.00,9, -999.00,-999.000,9,-999.000, -999.00,9, -999.00,9, -33.2000,  57.0501,-999.000,-999.000,20090409,       0044
33RR20090320,        I05,      68,          1,          9,          9,2,20090408,       2316,   -33.1999,    57.0500,       6155,  3023.4,   1.6838,  34.7435,2,  34.7439,2,    197.4,2,   196.6,2,   99.32,2,   31.02,2,    0.00,2,    2.23,2,   0.084,2,   0.030,2,   0.0000,2,  2258.9,2,  2363.2,2,   7.6927,2,    20.00,-999.000,9,-999.000,9,-999.000,9,   1.6853,2,-999.000,9, -999.00,9, -999.00,-999.000,9,-999.000, -999.00,9, -999.00,9, -33.1998,  57.0502,-999.000,-999.000,20090409,       0039
33RR20090320,        I05,      68,          1,          8,          8,2,20090408,       2316,   -33.1999,    57.0500,       6155,  3324.2,   1.4143,  34.7307,2,  34.7311,2,    198.6,2,   198.8,2,  108.60,2,   31.57,2,    0.00,2,    2.28,2,   0.088,2,   0.032,2,   0.0000,2,  -999.0,9,  -999.0,9,-999.0000,9,  -999.00,-999.000,9,-999.000,9,-999.000,9,   1.4140,2,-999.000,9, -999.00,9, -999.00,-999.000,9,-999.000, -999.00,9, -999.00,9, -33.1998,  57.0502,-999.000,-999.000,20090409,       0032
33RR20090320,        I05,      68,          1,          7,          7,2,20090408,       2316,   -33.1999,    57.0500,       6155,  3627.2,   1.1060,  34.7190,2,  34.7186,2,    206.4,2,   206.7,2,  113.62,2,   31.62,2,    0.00,2,    2.27,2,   0.131,2,   0.046,2,   0.0000,2,  2260.4,2,  2361.6,2,   7.6859,2,    20.00,-999.000,9,-999.000,9,-999.000,9,   1.1060,2,-999.000,9, -999.00,9, -999.00,-999.000,9,-999.000, -999.00,9, -999.00,9, -33.1999,  57.0501,-999.000,-999.000,20090409,       0026
33RR20090320,        I05,      68,          1,          6,          6,2,20090408,       2316,   -33.1999,    57.0500,       6155,  4035.2,   0.7803,  34.7025,2,  34.7021,2,    212.5,2,   213.3,2,  121.11,2,   32.00,2,    0.00,2,    2.29,2,   0.184,2,   0.065,2,   0.0000,2,  2259.8,2,  2360.8,2,   7.6807,2,    20.00,-999.000,9,-999.000,9,-999.000,9,   0.7815,2,-999.000,9, -999.00,9, -999.00,-999.000,9,-999.000, -999.00,9, -999.00,9, -33.1999,  57.0502,-999.000,-999.000,20090409,       0018
33RR20090320,        I05,      68,          1,          5,          5,2,20090408,       2316,   -33.1999,    57.0500,       6155,  4442.0,   0.7058,  34.6967,2,  34.6970,2,    215.4,2,   215.3,2,  124.53,2,   32.05,2,    0.00,2,    2.29,2,   0.205,2,   0.074,2,   0.0000,2,  2259.9,2,  2361.3,2,   7.6791,2,    20.00,-999.000,9,-999.000,9,-999.000,9,   0.7057,2,-999.000,9, -999.00,9, -999.00,-999.000,9,-999.000, -999.00,9, -999.00,9, -33.1997,  57.0504,-999.000,-999.000,20090409,       0010
33RR20090320,        I05,      68,          1,          4,          4,2,20090408,       2316,   -33.1999,    57.0500,       6155,  4851.1,   0.6719,  34.6926,2,  34.6925,2,    216.6,2,   216.4,2,  126.55,2,   32.21,2,    0.00,2,    2.30,2,   0.209,2,   0.076,2,   0.0170,2,  2260.0,2,  2360.1,2,   7.6784,2,    20.00,-999.000,9,-999.000,9,-999.000,9,   0.6720,2,-999.000,9, -999.00,9, -999.00,-999.000,9,-999.000, -999.00,9, -999.00,9, -33.1997,  57.0504,-999.000,-999.000,20090409,       0002
33RR20090320,        I05,      68,          1,          3,          3,2,20090408,       2316,   -33.1999,    57.0500,       6155,  5260.9,   0.6780,  34.6903,2,  34.6900,2,    216.9,2,   217.0,2,  128.14,2,   32.26,2,    0.00,2,    2.31,2,   0.214,2,   0.080,2,   0.0000,2,  2260.1,2,  2360.2,2,   7.6778,2,    20.00,-999.000,9,-999.000,9,-999.000,9,   0.6786,2,-999.000,9, -999.00,9, -999.00,-999.000,9,-999.000, -999.00,9, -999.00,9, -33.1995,  57.0504,-999.000,-999.000,20090408,       2352
33RR20090320,        I05,      68,          1,          2,          2,2,20090408,       2316,   -33.1999,    57.0500,       6155,  5618.8,   0.7138,  34.6894,2,  34.6892,2,    217.7,2,   217.2,2,  128.52,2,   32.10,2,    0.00,2,    2.31,2,   0.218,2,   0.079,2,   0.0000,2,  2260.6,2,  2360.2,2,   7.6779,2,    20.00,-999.000,9,-999.000,9,-999.000,9,   0.7136,2,-999.000,9, -999.00,9, -999.00,-999.000,9,-999.000, -999.00,9, -999.00,9, -33.1995,  57.0505,-999.000,-999.000,20090408,       2336
33RR20090320,        I05,      68,          1,          1,          1,2,20090408,       2316,   -33.1999,    57.0500,       6155,  6000.2,   0.7538,  34.6885,2,  34.6889,2,    217.3,2,   217.2,2,  128.69,2,   32.31,2,    0.00,2,    2.32,2,   0.220,6,   0.079,6,   0.0000,6,  2261.7,6,  2359.8,2,   7.6779,2,    20.00,-999.000,9,-999.000,9,-999.000,9,   0.7542,2,-999.000,9, -999.00,9, -999.00,-999.000,9,-999.000, -999.00,9, -999.00,9, -33.1999,  57.0500,-999.000,-999.000,20090408,       2316