BOTTLE,20220814CCHSIOAMB
EXPOCODE,SECT_ID,STNNBR,CASTNO,SAMPNO,BTLNBR,BTLNBR_FLAG_W,DATE,TIME,LATITUDE,LONGITUDE,DEPTH,CTDPRS,CTDTMP,CTDSAL,CTDSAL_FLAG_W,SALNTY,SALNTY_FLAG_W,CTDOXY,CTDOXY_FLAG_W,OXYGEN,OXYGEN_FLAG_W,SILCAT,SILCAT_FLAG_W,NITRAT,NITRAT_FLAG_W,NITRIT,NITRIT_FLAG_W,PHSPHT,PHSPHT_FLAG_W,CFC-11,CFC-11_FLAG_W,CFC-12,CFC-12_FLAG_W,SF6,SF6_FLAG_W,TCARBN,TCARBN_FLAG_W,ALKALI,ALKALI_FLAG_W,PH_TOT,PH_TOT_FLAG_W,PH_TMP,TRITUM,TRITUM_FLAG_W,HELIUM,HELIUM_FLAG_W,DELHE3,DELHE3_FLAG_W,REFTMP,REFTMP_FLAG_W,DELC13,DELC13_FLAG_W,DELC14,DELC14_FLAG_W,C14ERR,NEON,NEON_FLAG_W,NEONER,DOC,DOC_FLAG_W,TDN,TDN_FLAG_W,BTL_LAT,BTL_LON,HELIER,DELHER,BTL_DATE,BTL_TIME
,,,,,,,,,,,METERS,DBAR,ITS-90,PSS-78,,PSS-78,,UMOL/KG,,UMOL/KG,,UMOL/KG,,UMOL/KG,,UMOL/KG,,UMOL/KG,,PMOL/KG,,PMOL/KG,,FMOL/KG,,UMOL/KG,,UMOL/KG,,,,DEG C,TU,,NMOL/KG,,PERCNT,,DEG C,,/MILLE,,/MILLE,,/MILLE,NMOL/KG,,NMOL/KG,UMOL/KG,,UMOL/KG,,,,NMOL/KG,PERCNT,,
33RR20090320,        I05,     156,          1,         36,         36,2,20090503,       0331,   -32.7915,   100.2044,       4326,     5.3,  18.6409,  35.9745,2,  35.9765,2,    233.9,2,   233.4,2,    1.22,2,    0.12,2,    0.00,2,    0.12,2,-999.000,9,-999.000,9,-999.0000,9,  2077.9,2,  2365.4,2,   8.0807,2,    20.00,-999.000,9,-999.000,9,-999.000,9,  18.6396,2,-999.000,9, -999.00,9, -999.00,-999.000,9,-999.000, -999.00,9, -999.00,9, -32.7922, 100.2041,-999.000,-999.000,20090503,       0529
33RR20090320,        I05,     156,          1,         35,         35,2,20090503,       0331,   -32.7915,   100.2044,       4326,    38.2,  18.6313,  35.9790,2,  35.9797,2,    235.1,2,   233.2,2,    1.21,2,    0.12,2,    0.00,2,    0.11,2,-999.000,9,-999.000,9,-999.0000,9,  2077.7,2,  2363.6,2,   8.0805,2,    20.00,-999.000,9,-999.000,9,-999.000,9,  18.6298,2,-999.000,9, -999.00,9, -999.00,-999.000,9,-999.000, -999.00,9, -999.00,9, -32.7921, 100.2041,-999.000,-999.000,20090503,       0527
33RR20090320,        I05,     156,          1,         34,         34,2,20090503,       0331,   -32.7915,   100.2044,       4326,    61.8,  18.5456,  35.9597,2,  35.9607,2,    235.0,2,   234.2,2,    1.02,2,    0.12,2,    0.00,2,    0.11,2,-999.000,9,-999.000,9,-999.0000,9,  -999.0,9,  -999.0,9,-999.0000,9,  -999.00,-999.000,9,-999.000,9,-999.000,9,  18.5434,2,-999.000,9, -999.00,9, -999.00,-999.000,9,-999.000, -999.00,9, -999.00,9, -32.7919, 100.2043,-999.000,-999.000,20090503,       0525
33RR20090320,        I05,     156,          1,         33,         33,2,20090503,       0331,   -32.7915,   100.2044,       4326,    88.3,  16.9366,  35.7473,4,  35.7610,2,    242.9,2,   246.9,2,    1.02,2,    0.11,2,    0.01,2,    0.14,2,-999.000,9,-999.000,9,-999.0000,9,  2076.0,2,  2352.2,2,   8.0635,2,    20.00,-999.000,9,-999.000,9,-999.000,9,  16.9135,2,-999.000,9, -999.00,9, -999.00,-999.000,9,-999.000, -999.00,9, -999.00,9, -32.7918, 100.2043,-999.000,-999.000,20090503,       0524
33RR20090320,        I05,     156,          1,         32,         32,2,20090503,       0331,   -32.7915,   100.2044,       4326,   113.2,  15.4968,  35.6471,2,  35.6401,2,    240.6,2,   240.1,2,    1.19,2,    1.16,2,    0.14,2,    0.24,2,-999.000,9,-999.000,9,-999.0000,9,  -999.0,9,  -999.0,9,-999.0000,9,  -999.00,-999.000,9,-999.000,9,-999.000,9,  15.4868,2,-999.000,9, -999.00,9, -999.00,-999.000,9,-999.000, -999.00,9, -999.00,9, -32.7917, 100.2044,-999.000,-999.000,20090503,       0522
33RR20090320,        I05,     156,          1,         31,         31,2,20090503,       0331,   -32.7915,   100.2044,       4326,   138.1,  14.5300,  35.5204,4,  35.5401,2,    236.1,2,   235.9,2,    1.37,2,    3.14,2,    0.05,2,    0.34,2,-999.000,9,-999.000,9,-999.0000,9,  -999.0,9,  -999.0,9,-999.0000,9,  -999.00,-999.000,9,-999.000,9,-999.000,9,  14.5868,2,-999.000,9, -999.00,9, -999.00,-999.000,9,-999.000, -999.00,9, -999.00,9, -32.7916, 100.2045,-999.000,-999.000,20090503,       0520
33RR20090320,        I05,     156,          1,         30,         30,2,20090503,       0331,   -32.7915,   100.2044,       4326,   168.0,  13.8677,  35.4141,2,  35.4166,2,    236.0,2,   235.5,2,    1.37,2,    4.70,2,    0.01,2,    0.43,2,-999.000,9,-999.000,9,-999.0000,9,  2101.0,2,  2330.8,2,   7.9827,2,    20.00,-999.000,9,-999.000,9,-999.000,9,  13.8869,2,-999.000,9, -999.00,9, -999.00,-999.000,9,-999.000, -999.00,9, -999.00,9, -32.7917, 100.2045,-999.000,-999.000,20090503,       0518
33RR20090320,        I05,     156,          1,         29,         29,2,20090503,       0331,   -32.7915,   100.2044,       4326,   218.2,  12.8939,  35.2486,2,  35.2497,2,    238.9,2,   239.4,2,    1.72,2,    6.54,2,    0.01,2,    0.55,2,-999.000,9,-999.000,9,-999.0000,9,  -999.0,9,  -999.0,9,-999.0000,9,  -999.00,-999.000,9,-999.000,9,-999.000,9,  12.8942,2,-999.000,9, -999.00,9, -999.00,-999.000,9,-999.000, -999.00,9, -999.00,9, -32.7916, 100.2046,-999.000,-999.000,20090503,       0516
33RR20090320,        I05,     156,          1,         28,         28,2,20090503,       0331,   -32.7915,   100.2044,       4326,   268.1,  12.2315,  35.1296,2,  35.1319,2,    241.8,2,   242.3,2,    1.89,2,    7.84,2,    0.01,2,    0.62,2,-999.000,9,-999.000,9,-999.0000,9,  -999.0,9,  -999.0,9,-999.0000,9,  -999.00,-999.000,9,-999.000,9,-999.000,9,  12.2254,2,-999.000,9, -999.00,9, -999.00,-999.000,9,-999.000, -999.00,9, -999.00,9, -32.7916, 100.2046,-999.000,-999.000,20090503,       0514
33RR20090320,        I05,     156,          1,         27,         27,2,20090503,       0331,   -32.7915,   100.2044,       4326,   316.9,  11.3314,  34.9731,2,  34.9659,2,    243.3,2,   242.0,2,    2.43,2,   10.33,2,    0.00,2,    0.78,2,-999.000,9,-999.000,9,-999.0000,9,  2114.4,2,  2305.7,2,   7.9120,2,    20.00,-999.000,9,-999.000,9,-999.000,9,  11.3320,2,-999.000,9, -999.00,9, -999.00,-999.000,9,-999.000, -999.00,9, -999.00,9, -32.7916, 100.2046,-999.000,-999.000,20090503,       0512
33RR20090320,        I05,     156,          1,         26,         26,2,20090503,       0331,   -32.7915,   100.2044,       4326,   365.9,  10.6616,  34.8614,2,  34.8644,2,    245.3,2,   244.8,2,    2.97,2,   11.73,2,    0.00,2,    0.87,2,-999.000,9,-999.000,9,-999.0000,9,  -999.0,9,  -999.0,9,-999.0000,9,  -999.00,-999.000,9,-999.000,9,-999.000,9,  10.6530,2,-999.000,9, -999.00,9, -999.00,-999.000,9,-999.000, -999.00,9, -999.00,9, -32.7916, 100.2046,-999.000,-999.000,20090503,       0509
33RR20090320,        I05,     156,          1,         25,         25,2,20090503,       0331,   -32.7915,   100.2044,       4326,   415.7,  10.2420,  34.8068,2,  34.8083,2,    242.4,2,   241.1,2,    3.50,2,   13.36,2,    0.00,2,    0.97,2,-999.000,9,-999.000,9,-999.0000,9,  -999.0,9,  -999.0,9,-999.0000,9,  -999.00,-999.000,9,-999.000,9,-999.000,9,  10.2407,2,-999.000,9, -999.00,9, -999.00,-999.000,9,-999.000, -999.00,9, -999.00,9, -32.7916, 100.2046,-999.000,-999.000,20090503,       0507
33RR20090320,        I05,     156,          1,         24,         24,2,20090503,       0331,   -32.7915,   100.2044,       4326,   466.5,   9.8752,  34.7562,2,  34.7557,2,    240.7,2,   242.4,2,    3.87,2,   14.38,2,    0.00,2,    1.03,2,-999.000,9,-999.000,9,-999.0000,9,  -999.0,9,  -999.0,9,-999.0000,9,  -999.00,-999.000,9,-999.000,9,-999.000,9,   9.8744,2,-999.000,9, -999.00,9, -999.00,-999.000,9,-999.000, -999.00,9, -999.00,9, -32.7916, 100.2046,-999.000,-999.000,20090503,       0505
33RR20090320,        I05,     156,          1,         23,         23,2,20090503,       0331,   -32.7915,   100.2044,       4326,   536.7,   9.4835,  34.7066,2,  34.7079,2,    239.0,2,   239.5,2,    4.40,2,   15.74,2,    0.00,2,    1.11,2,-999.000,9,-999.000,9,-999.0000,9,  2127.6,2,  2292.8,2,   7.8561,2,    20.00,-999.000,9,-999.000,9,-999.000,9,   9.4840,2,-999.000,9, -999.00,9, -999.00,-999.000,9,-999.000, -999.00,9, -999.00,9, -32.7916, 100.2046,-999.000,-999.000,20090503,       0503
33RR20090320,        I05,     156,          1,         22,         22,2,20090503,       0331,   -32.7915,   100.2044,       4326,   635.0,   8.9517,  34.6334,2,  34.6338,2,    236.7,2,   237.3,2,    5.49,2,   17.53,2,    0.00,2,    1.22,2,-999.000,9,-999.000,9,-999.0000,9,  -999.0,9,  -999.0,9,-999.0000,9,  -999.00,-999.000,9,-999.000,9,-999.000,9,   8.9468,2,-999.000,9, -999.00,9, -999.00,-999.000,9,-999.000, -999.00,9, -999.00,9, -32.7916, 100.2045,-999.000,-999.000,20090503,       0500
33RR20090320,        I05,     156,          1,         21,         21,2,20090503,       0331,   -32.7915,   100.2044,       4326,   733.9,   8.1721,  34.5465,2,  34.5493,2,    221.0,2,   221.4,2,    8.93,2,   20.95,2,    0.00,2,    1.45,2,-999.000,9,-999.000,9,-999.0000,9,  -999.0,9,  -999.0,9,-999.0000,9,  -999.00,-999.000,9,-999.000,9,-999.000,9,   8.1489,2,-999.000,9, -999.00,9, -999.00,-999.000,9,-999.000, -999.00,9, -999.00,9, -32.7916, 100.2044,-999.000,-999.000,20090503,       0457
33RR20090320,        I05,     156,          1,         20,         20,2,20090503,       0331,   -32.7915,   100.2044,       4326,   836.7,   6.5302,  34.4392,2,  34.4409,2,    197.4,2,   197.5,2,   19.34,2,   26.72,2,    0.00,2,    1.85,2,-999.000,9,-999.000,9,-999.0000,9,  -999.0,9,  -999.0,9,-999.0000,9,  -999.00,-999.000,9,-999.000,9,-999.000,9,   6.5205,2,-999.000,9, -999.00,9, -999.00,-999.000,9,-999.000, -999.00,9, -999.00,9, -32.7916, 100.2044,-999.000,-999.000,20090503,       0454
33RR20090320,        I05,     156,          1,         19,         19,2,20090503,       0331,   -32.7915,   100.2044,       4326,   938.5,   5.1122,  34.3885,2,  34.3891,2,    194.4,2,   193.1,2,   30.70,2,   30.00,2,    0.00,2,    2.09,2,-999.000,9,-999.000,9,-999.0000,9,  2193.8,2,  2299.2,2,   7.6955,2,    20.00,-999.000,9,-999.000,9,-999.000,9,   5.1182,2,-999.000,9, -999.00,9, -999.00,-999.000,9,-999.000, -999.00,9, -999.00,9, -32.7916, 100.2044,-999.000,-999.000,20090503,       0452
33RR20090320,        I05,     156,          1,         18,         18,2,20090503,       0331,   -32.7915,   100.2044,       4326,  1035.8,   4.2754,  34.3940,2,  34.3940,2,    185.8,2,   185.7,2,   42.31,2,   31.92,2,    0.00,2,    2.29,2,-999.000,9,-999.000,9,-999.0000,9,  -999.0,9,  -999.0,9,-999.0000,9,  -999.00,-999.000,9,-999.000,9,-999.000,9,   4.2776,2,-999.000,9, -999.00,9, -999.00,-999.000,9,-999.000, -999.00,9, -999.00,9, -32.7916, 100.2043,-999.000,-999.000,20090503,       0449
33RR20090320,        I05,     156,          1,         17,         17,2,20090503,       0331,   -32.7915,   100.2044,       4326,  1143.7,   3.8138,  34.4425,2,  34.4429,2,    175.2,2,   170.6,2,   55.26,2,   33.51,2,    0.00,2,    2.39,2,-999.000,9,-999.000,9,-999.0000,9,  -999.0,9,  -999.0,9,-999.0000,9,  -999.00,-999.000,9,-999.000,9,-999.000,9,   3.8129,2,-999.000,9, -999.00,9, -999.00,-999.000,9,-999.000, -999.00,9, -999.00,9, -32.7916, 100.2042,-999.000,-999.000,20090503,       0446
33RR20090320,        I05,     156,          1,         16,         16,2,20090503,       0331,   -32.7915,   100.2044,       4326,  1242.6,   3.5560,  34.4829,2,  34.4835,2,    161.8,2,   161.8,2,   63.99,2,   34.05,2,    0.00,2,    2.45,2,-999.000,9,-999.000,9,-999.0000,9,  -999.0,9,  -999.0,9,-999.0000,9,  -999.00,-999.000,9,-999.000,9,-999.000,9,   3.5528,2,-999.000,9, -999.00,9, -999.00,-999.000,9,-999.000, -999.00,9, -999.00,9, -32.7916, 100.2042,-999.000,-999.000,20090503,       0444
33RR20090320,        I05,     156,          1,         15,         15,2,20090503,       0331,   -32.7915,   100.2044,       4326,  1341.8,   3.3227,  34.5231,2,  34.5238,2,    156.2,2,   156.9,2,   70.71,2,   34.55,2,    0.00,2,    2.47,2,-999.000,9,-999.000,9,-999.0000,9,  -999.0,9,  -999.0,9,-999.0000,9,  -999.00,-999.000,9,-999.000,9,-999.000,9,   3.3226,2,-999.000,9, -999.00,9, -999.00,-999.000,9,-999.000, -999.00,9, -999.00,9, -32.7915, 100.2043,-999.000,-999.000,20090503,       0441
33RR20090320,        I05,     156,          1,         14,         14,2,20090503,       0331,   -32.7915,   100.2044,       4326,  1445.2,   3.1531,  34.5629,2,  34.5634,2,    153.2,2,   153.6,2,   76.69,2,   34.66,2,    0.00,2,    2.49,2,-999.000,9,-999.000,9,-999.0000,9,  -999.0,9,  -999.0,9,-999.0000,9,  -999.00,-999.000,9,-999.000,9,-999.000,9,   3.1516,2,-999.000,9, -999.00,9, -999.00,-999.000,9,-999.000, -999.00,9, -999.00,9, -32.7915, 100.2043,-999.000,-999.000,20090503,       0436
33RR20090320,        I05,     156,          1,         13,         13,2,20090503,       0331,   -32.7915,   100.2044,       4326,  1546.1,   3.0062,  34.5964,2,  34.5970,2,    152.9,2,   153.3,2,   81.36,2,   34.54,2,    0.00,2,    2.48,2,-999.000,9,-999.000,9,-999.0000,9,  -999.0,9,  -999.0,9,-999.0000,9,  -999.00,-999.000,9,-999.000,9,-999.000,9,   3.0062,2,-999.000,9, -999.00,9, -999.00,-999.000,9,-999.000, -999.00,9, -999.00,9, -32.7916, 100.2044,-999.000,-999.000,20090503,       0433
33RR20090320,        I05,     156,          1,         12,         12,2,20090503,       0331,   -32.7915,   100.2044,       4326,  1675.0,   2.8434,  34.6358,2,  34.6363,2,    154.7,2,   154.9,2,   86.23,2,   34.16,2,    0.00,2,    2.45,2,-999.000,9,-999.000,9,-999.0000,9,  -999.0,9,  -999.0,9,-999.0000,9,  -999.00,-999.000,9,-999.000,9,-999.000,9,   2.8437,2,-999.000,9, -999.00,9, -999.00,-999.000,9,-999.000, -999.00,9, -999.00,9, -32.7917, 100.2044,-999.000,-999.000,20090503,       0430
33RR20090320,        I05,     156,          1,         11,         11,2,20090503,       0331,   -32.7915,   100.2044,       4326,  1877.1,   2.5748,  34.6788,2,  34.6795,2,    163.3,2,   163.0,2,   89.99,2,   33.33,2,    0.00,2,    2.38,2,-999.000,9,-999.000,9,-999.0000,9,  -999.0,5,  2355.0,2,   7.6461,2,    20.00,-999.000,9,-999.000,9,-999.000,9,   2.5746,2,-999.000,9, -999.00,9, -999.00,-999.000,9,-999.000, -999.00,9, -999.00,9, -32.7917, 100.2045,-999.000,-999.000,20090503,       0425
33RR20090320,        I05,     156,          1,         10,         10,2,20090503,       0331,   -32.7915,   100.2044,       4326,  2100.8,   2.3129,  34.7135,2,  34.7145,2,    174.1,2,   173.5,2,   91.87,2,   32.33,2,    0.00,2,    2.29,2,-999.000,9,-999.000,9,-999.0000,9,  -999.0,9,  -999.0,9,-999.0000,9,  -999.00,-999.000,9,-999.000,9,-999.000,9,   2.3142,2,-999.000,9, -999.00,9, -999.00,-999.000,9,-999.000, -999.00,9, -999.00,9, -32.7917, 100.2044,-999.000,-999.000,20090503,       0420
33RR20090320,        I05,     156,          1,          9,          9,2,20090503,       0331,   -32.7915,   100.2044,       4326,  2349.3,   2.0832,  34.7330,2,  34.7334,2,    181.8,2,   182.5,2,   94.50,2,   31.62,2,    0.00,2,    2.24,2,-999.000,9,-999.000,9,-999.0000,9,  2263.1,3,  2360.8,2,   7.6738,2,    20.00,-999.000,9,-999.000,9,-999.000,9,   2.0823,2,-999.000,9, -999.00,9, -999.00,-999.000,9,-999.000, -999.00,9, -999.00,9, -32.7917, 100.2044,-999.000,-999.000,20090503,       0414
33RR20090320,        I05,     156,          1,          8,          8,2,20090503,       0331,   -32.7915,   100.2044,       4326,  2603.5,   1.8642,  34.7419,2,  34.7428,2,    191.7,2,   191.7,2,   96.20,2,   30.95,2,    0.00,2,    2.19,2,-999.000,9,-999.000,9,-999.0000,9,  -999.0,9,  -999.0,9,-999.0000,9,  -999.00,-999.000,9,-999.000,9,-999.000,9,   1.8642,2,-999.000,9, -999.00,9, -999.00,-999.000,9,-999.000, -999.00,9, -999.00,9, -32.7916, 100.2044,-999.000,-999.000,20090503,       0408
33RR20090320,        I05,     156,          1,          7,          7,2,20090503,       0331,   -32.7915,   100.2044,       4326,  2857.1,   1.6434,  34.7395,2,  34.7406,2,    196.3,2,   196.0,2,  101.85,2,   31.00,2,    0.00,2,    2.19,2,   0.015,6,   0.009,6,   0.0000,6,  2257.1,2,  2362.3,2,   7.6854,2,    20.00,-999.000,9,-999.000,9,-999.000,9,   1.6431,2,-999.000,9, -999.00,9, -999.00,-999.000,9,-999.000, -999.00,9, -999.00,9, -32.7917, 100.2045,-999.000,-999.000,20090503,       0403
33RR20090320,        I05,     156,          1,          6,          6,2,20090503,       0331,   -32.7915,   100.2044,       4326,  3123.9,   1.4223,  34.7326,2,  34.7343,2,    199.4,2,   199.1,2,  107.89,2,   31.33,2,    0.00,2,    2.21,2,-999.000,9,-999.000,9,-999.0000,9,  -999.0,9,  -999.0,9,-999.0000,9,  -999.00,-999.000,9,-999.000,9,-999.000,9,   1.4220,2,-999.000,9, -999.00,9, -999.00,-999.000,9,-999.000, -999.00,9, -999.00,9, -32.7916, 100.2046,-999.000,-999.000,20090503,       0357
33RR20090320,        I05,     156,          1,          5,          5,2,20090503,       0331,   -32.7915,   100.2044,       4326,  3430.5,   1.2829,  34.7266,2,  34.7268,2,    201.0,2,   201.9,2,  112.99,2,   31.44,2,    0.00,2,    2.23,2,   0.020,6,   0.011,6,   0.0000,6,  -999.0,9,  -999.0,9,-999.0000,9,  -999.00,-999.000,9,-999.000,9,-999.000,9,   1.2845,2,-999.000,9, -999.00,9, -999.00,-999.000,9,-999.000, -999.00,9, -999.00,9, -32.7917, 100.2045,-999.000,-999.000,20090503,       0351
33RR20090320,        I05,     156,          1,          4,          4,2,20090503,       0331,   -32.7915,   100.2044,       4326,  3731.1,   1.2074,  34.7228,2,  34.7235,2,    202.5,2,   202.6,2,  115.27,2,   31.60,2,    0.00,2,    2.24,2,-999.000,9,-999.000,9,-999.0000,9,  2263.7,2,  2369.4,2,   7.6879,2,    20.00,-999.000,9,-999.000,9,-999.000,9,   1.2078,2,-999.000,9, -999.00,9, -999.00,-999.000,9,-999.000, -999.00,9, -999.00,9, -32.7916, 100.2044,-999.000,-999.000,20090503,       0345
33RR20090320,        I05,     156,          1,          3,          3,2,20090503,       0331,   -32.7915,   100.2044,       4326,  4036.0,   1.1687,  34.7197,2,  34.7205,2,    203.9,2,   203.3,2,  117.55,2,   31.76,2,    0.00,2,    2.25,2,-999.000,9,-999.000,9,-999.0000,9,  -999.0,9,  -999.0,9,-999.0000,9,  -999.00,-999.000,9,-999.000,9,-999.000,9,   1.1688,2,-999.000,9, -999.00,9, -999.00,-999.000,9,-999.000, -999.00,9, -999.00,9, -32.7915, 100.2043,-999.000,-999.000,20090503,       0338
33RR20090320,        I05,     156,          1,          2,          2,2,20090503,       0331,   -32.7915,   100.2044,       4326,  4208.3,   1.1374,  34.7171,2,  34.7172,2,    204.6,2,   204.5,2,  119.07,2,   31.81,2,    0.00,2,    2.26,2,-999.000,9,-999.000,9,-999.0000,9,  -999.0,9,  -999.0,9,-999.0000,9,  -999.00,-999.000,9,-999.000,9,-999.000,9,   1.1372,2,-999.000,9, -999.00,9, -999.00,-999.000,9,-999.000, -999.00,9, -999.00,9, -32.7915, 100.2043,-999.000,-999.000,20090503,       0334
33RR20090320,        I05,     156,          1,          1,          1,2,20090503,       0331,   -32.7915,   100.2044,       4326,  4382.4,   1.0848,  34.7139,2,  34.7154,2,    205.0,2,   205.1,2,  120.78,2,   31.92,2,    0.00,2,    2.27,2,-999.000,9,-999.000,9,-999.0000,9,  2267.1,6,  2373.1,2,   7.6890,2,    20.00,-999.000,9,-999.000,9,-999.000,9,   1.0840,2,-999.000,9, -999.00,9, -999.00,-999.000,9,-999.000, -999.00,9, -999.00,9, -32.7915, 100.2045,-999.000,-999.000,20090503,       0331