BOTTLE,20220814CCHSIOAMB
EXPOCODE,SECT_ID,STNNBR,CASTNO,SAMPNO,BTLNBR,BTLNBR_FLAG_W,DATE,TIME,LATITUDE,LONGITUDE,DEPTH,CTDPRS,CTDTMP,CTDSAL,CTDSAL_FLAG_W,SALNTY,SALNTY_FLAG_W,CTDOXY,CTDOXY_FLAG_W,OXYGEN,OXYGEN_FLAG_W,SILCAT,SILCAT_FLAG_W,NITRAT,NITRAT_FLAG_W,NITRIT,NITRIT_FLAG_W,PHSPHT,PHSPHT_FLAG_W,CFC-11,CFC-11_FLAG_W,CFC-12,CFC-12_FLAG_W,SF6,SF6_FLAG_W,TCARBN,TCARBN_FLAG_W,ALKALI,ALKALI_FLAG_W,PH_TOT,PH_TOT_FLAG_W,PH_TMP,TRITUM,TRITUM_FLAG_W,HELIUM,HELIUM_FLAG_W,DELHE3,DELHE3_FLAG_W,REFTMP,REFTMP_FLAG_W,DELC13,DELC13_FLAG_W,DELC14,DELC14_FLAG_W,C14ERR,NEON,NEON_FLAG_W,NEONER,DOC,DOC_FLAG_W,TDN,TDN_FLAG_W,BTL_LAT,BTL_LON,HELIER,DELHER,BTL_DATE,BTL_TIME
,,,,,,,,,,,METERS,DBAR,ITS-90,PSS-78,,PSS-78,,UMOL/KG,,UMOL/KG,,UMOL/KG,,UMOL/KG,,UMOL/KG,,UMOL/KG,,PMOL/KG,,PMOL/KG,,FMOL/KG,,UMOL/KG,,UMOL/KG,,,,DEG C,TU,,NMOL/KG,,PERCNT,,DEG C,,/MILLE,,/MILLE,,/MILLE,NMOL/KG,,NMOL/KG,UMOL/KG,,UMOL/KG,,,,NMOL/KG,PERCNT,,
33RR20090320,        I05,      72,          1,         36,         36,2,20090410,       0049,   -33.9985,    57.8591,       4494,     9.9,  21.1042,  35.6145,2,  35.6140,2,    222.9,2,   224.2,2,    1.16,2,    0.07,2,    0.00,2,    0.10,2,   2.057,2,   1.249,2,   1.2040,2,  2051.0,6,  2337.1,2,   8.0900,2,    20.00,-999.000,9,-999.000,9,-999.000,9,  21.1030,2,-999.000,9, -999.00,9, -999.00,-999.000,9,-999.000, -999.00,9, -999.00,9, -33.9988,  57.8594,-999.000,-999.000,20090410,       0239
33RR20090320,        I05,      72,          1,         35,         35,2,20090410,       0049,   -33.9985,    57.8591,       4494,    41.8,  21.1138,  35.6150,2,  35.6146,2,    224.2,2,   223.5,2,    1.09,2,    0.07,2,    0.00,2,    0.10,2,-999.000,9,-999.000,9,-999.0000,9,  2050.2,2,  2336.5,2,   8.0912,2,    20.00,-999.000,9,-999.000,9,-999.000,9,  21.1106,2,-999.000,9, -999.00,9, -999.00,-999.000,9,-999.000, -999.00,9, -999.00,9, -33.9988,  57.8594,-999.000,-999.000,20090410,       0237
33RR20090320,        I05,      72,          1,         34,         34,2,20090410,       0049,   -33.9985,    57.8591,       4494,    65.0,  21.1170,  35.6129,2,  35.6123,2,    224.8,2,   224.5,2,    1.03,2,    0.07,2,    0.00,2,    0.10,2,-999.000,9,-999.000,9,-999.0000,9,  2049.7,2,  2335.8,2,   8.0914,2,    20.00,-999.000,9,-999.000,9,-999.000,9,  21.1162,2,-999.000,9, -999.00,9, -999.00,-999.000,9,-999.000, -999.00,9, -999.00,9, -33.9988,  57.8594,-999.000,-999.000,20090410,       0236
33RR20090320,        I05,      72,          1,         33,         33,2,20090410,       0049,   -33.9985,    57.8591,       4494,    91.5,  19.2886,  35.5188,2,  35.5192,2,    239.8,2,   238.0,2,    1.18,2,    0.07,2,    0.00,2,    0.12,2,   2.316,2,   1.392,2,   1.2590,2,  2052.5,2,  2330.4,2,   8.0774,2,    20.00,-999.000,9,-999.000,9,-999.000,9,  19.3278,2,-999.000,9, -999.00,9, -999.00,-999.000,9,-999.000, -999.00,9, -999.00,9, -33.9987,  57.8595,-999.000,-999.000,20090410,       0234
33RR20090320,        I05,      72,          1,         32,         32,2,20090410,       0049,   -33.9985,    57.8591,       4494,   120.0,  17.1675,  35.5217,2,  35.5170,2,    237.0,2,   240.3,2,    1.11,2,    0.25,2,    0.03,2,    0.18,2,-999.000,9,-999.000,9,-999.0000,9,  -999.0,9,  -999.0,9,-999.0000,9,  -999.00,-999.000,9,-999.000,9,-999.000,9,  17.1095,2,-999.000,9, -999.00,9, -999.00,-999.000,9,-999.000, -999.00,9, -999.00,9, -33.9987,  57.8596,-999.000,-999.000,20090410,       0233
33RR20090320,        I05,      72,          1,         31,         31,2,20090410,       0049,   -33.9985,    57.8591,       4494,   171.0,  15.5283,  35.4643,2,  35.4630,2,    226.3,2,   226.1,2,    2.09,2,    3.63,2,    0.01,2,    0.37,2,   2.665,2,   1.566,2,   1.3650,2,  2087.7,2,  2326.9,2,   8.0066,2,    20.00,-999.000,9,-999.000,9,-999.000,9,  15.5312,2,-999.000,9, -999.00,9, -999.00,-999.000,9,-999.000, -999.00,9, -999.00,9, -33.9987,  57.8597,-999.000,-999.000,20090410,       0231
33RR20090320,        I05,      72,          1,         30,         30,2,20090410,       0049,   -33.9985,    57.8591,       4494,   220.9,  14.7108,  35.4075,2,  35.4074,2,    227.0,2,   226.9,2,    2.44,2,    5.21,2,    0.00,2,    0.46,2,-999.000,9,-999.000,9,-999.0000,9,  -999.0,9,  -999.0,9,-999.0000,9,  -999.00,-999.000,9,-999.000,9,-999.000,9,  14.7079,2,-999.000,9, -999.00,9, -999.00,-999.000,9,-999.000, -999.00,9, -999.00,9, -33.9987,  57.8596,-999.000,-999.000,20090410,       0230
33RR20090320,        I05,      72,          1,         29,         29,2,20090410,       0049,   -33.9985,    57.8591,       4494,   270.1,  14.1200,  35.3591,2,  35.3562,2,    229.6,2,   227.7,2,    2.58,2,    6.47,2,    0.00,2,    0.54,2,-999.000,9,-999.000,9,-999.0000,9,  2101.1,2,  2322.1,2,   7.9718,2,    20.00,-999.000,9,-999.000,9,-999.000,9,  14.1216,2,-999.000,9, -999.00,9, -999.00,-999.000,9,-999.000, -999.00,9, -999.00,9, -33.9987,  57.8594,-999.000,-999.000,20090410,       0228
33RR20090320,        I05,      72,          1,         28,         28,2,20090410,       0049,   -33.9985,    57.8591,       4494,   320.1,  13.6333,  35.3074,2,  35.3071,2,    230.1,2,   229.1,2,    2.72,2,    7.37,2,    0.00,2,    0.59,2,-999.000,9,-999.000,9,-999.0000,9,  -999.0,9,  -999.0,9,-999.0000,9,  -999.00,-999.000,9,-999.000,9,-999.000,9,  13.6362,2,-999.000,9, -999.00,9, -999.00,-999.000,9,-999.000, -999.00,9, -999.00,9, -33.9987,  57.8593,-999.000,-999.000,20090410,       0226
33RR20090320,        I05,      72,          1,         27,         27,2,20090410,       0049,   -33.9985,    57.8591,       4494,   371.1,  13.3874,  35.2884,2,  35.2862,2,    232.7,2,   232.7,2,    3.07,2,    7.84,2,    0.00,2,    0.61,2,   2.954,2,   1.699,2,   1.3510,2,  2105.5,2,  2318.1,2,   7.9564,2,    20.00,-999.000,9,-999.000,9,-999.000,9,  13.3879,2,-999.000,9, -999.00,9, -999.00,-999.000,9,-999.000, -999.00,9, -999.00,9, -33.9988,  57.8592,-999.000,-999.000,20090410,       0225
33RR20090320,        I05,      72,          1,         26,         26,2,20090410,       0049,   -33.9985,    57.8591,       4494,   420.2,  13.0848,  35.2465,2,  35.2479,2,    231.0,2,   230.6,2,    3.22,2,    8.73,2,    0.00,2,    0.66,2,-999.000,9,-999.000,9,-999.0000,9,  -999.0,9,  -999.0,9,-999.0000,9,  -999.00,-999.000,9,-999.000,9,-999.000,9,  13.0925,2,-999.000,9, -999.00,9, -999.00,-999.000,9,-999.000, -999.00,9, -999.00,9, -33.9987,  57.8591,-999.000,-999.000,20090410,       0223
33RR20090320,        I05,      72,          1,         25,         25,2,20090410,       0049,   -33.9985,    57.8591,       4494,   471.2,  12.8189,  35.2048,2,  35.2040,2,    231.8,2,   231.8,2,    3.16,2,    9.30,2,    0.00,2,    0.70,2,-999.000,9,-999.000,9,-999.0000,9,  2113.2,2,  2316.5,2,   7.9404,2,    20.00,-999.000,9,-999.000,9,-999.000,9,  12.8168,2,-999.000,9, -999.00,9, -999.00,-999.000,9,-999.000, -999.00,9, -999.00,9, -33.9987,  57.8590,-999.000,-999.000,20090410,       0221
33RR20090320,        I05,      72,          1,         24,         24,2,20090410,       0049,   -33.9985,    57.8591,       4494,   541.0,  12.3637,  35.1305,2,  35.1255,2,    231.3,2,   231.5,2,    3.31,2,   10.36,2,    0.00,2,    0.77,2,-999.000,9,-999.000,9,-999.0000,9,  -999.0,9,  -999.0,9,-999.0000,9,  -999.00,-999.000,9,-999.000,9,-999.000,9,  12.3541,2,-999.000,9, -999.00,9, -999.00,-999.000,9,-999.000, -999.00,9, -999.00,9, -33.9986,  57.8591,-999.000,-999.000,20090410,       0219
33RR20090320,        I05,      72,          1,         23,         23,2,20090410,       0049,   -33.9985,    57.8591,       4494,   640.9,  11.7758,  35.0385,2,  35.0406,2,    227.4,2,   227.9,2,    3.66,2,   11.87,2,    0.00,2,    0.87,2,   3.174,6,   1.753,6,   1.1440,6,  2121.7,2,  2307.8,2,   7.9096,2,    20.00,-999.000,9,-999.000,9,-999.000,9,  11.7823,2,-999.000,9, -999.00,9, -999.00,-999.000,9,-999.000, -999.00,9, -999.00,9, -33.9986,  57.8592,-999.000,-999.000,20090410,       0216
33RR20090320,        I05,      72,          1,         22,         22,2,20090410,       0049,   -33.9985,    57.8591,       4494,   741.6,  10.7644,  34.8931,2,  34.8929,2,    222.9,2,   223.6,2,    4.63,2,   14.50,2,    0.00,2,    1.03,2,-999.000,9,-999.000,9,-999.0000,9,  -999.0,9,  -999.0,9,-999.0000,9,  -999.00,-999.000,9,-999.000,9,-999.000,9,  10.7639,2,-999.000,9, -999.00,9, -999.00,-999.000,9,-999.000, -999.00,9, -999.00,9, -33.9985,  57.8594,-999.000,-999.000,20090410,       0214
33RR20090320,        I05,      72,          1,         21,         21,2,20090410,       0049,   -33.9985,    57.8591,       4494,   840.0,   9.6805,  34.7526,2,  34.7540,2,    218.9,2,   219.9,2,    6.23,2,   17.18,2,    0.00,2,    1.21,2,-999.000,9,-999.000,9,-999.0000,9,  2135.6,2,  2297.2,2,   7.8496,2,    20.00,-999.000,9,-999.000,9,-999.000,9,   9.6783,2,-999.000,9, -999.00,9, -999.00,-999.000,9,-999.000, -999.00,9, -999.00,9, -33.9985,  57.8595,-999.000,-999.000,20090410,       0211
33RR20090320,        I05,      72,          1,         20,         20,2,20090410,       0049,   -33.9985,    57.8591,       4494,   941.2,   8.4569,  34.6204,2,  34.6189,2,    208.6,2,   208.9,2,   10.52,2,   21.18,2,    0.00,2,    1.48,2,-999.000,9,-999.000,9,-999.0000,9,  -999.0,9,  -999.0,9,-999.0000,9,  -999.00,-999.000,9,-999.000,9,-999.000,9,   8.4540,2,-999.000,9, -999.00,9, -999.00,-999.000,9,-999.000, -999.00,9, -999.00,9, -33.9986,  57.8593,-999.000,-999.000,20090410,       0208
33RR20090320,        I05,      72,          1,         19,         19,2,20090410,       0049,   -33.9985,    57.8591,       4494,  1041.0,   6.8873,  34.4860,2,  34.4859,2,    204.0,2,   204.0,2,   17.11,2,   25.25,2,    0.00,2,    1.77,2,   2.378,2,   1.199,2,   0.5300,2,  2169.5,2,  2293.5,2,   7.7561,2,    20.00,-999.000,9,-999.000,9,-999.000,9,   6.8964,2,-999.000,9, -999.00,9, -999.00,-999.000,9,-999.000, -999.00,9, -999.00,9, -33.9987,  57.8592,-999.000,-999.000,20090410,       0206
33RR20090320,        I05,      72,          1,         18,         18,2,20090410,       0049,   -33.9985,    57.8591,       4494,  1142.8,   5.4694,  34.3995,2,  34.3986,2,    203.2,2,   204.0,2,   25.19,2,   28.43,2,    0.00,2,    2.00,2,-999.000,9,-999.000,9,-999.0000,9,  -999.0,9,  -999.0,9,-999.0000,9,  -999.00,-999.000,9,-999.000,9,-999.000,9,   5.4587,2,-999.000,9, -999.00,9, -999.00,-999.000,9,-999.000, -999.00,9, -999.00,9, -33.9987,  57.8592,-999.000,-999.000,20090410,       0203
33RR20090320,        I05,      72,          1,         17,         17,2,20090410,       0049,   -33.9985,    57.8591,       4494,  1242.3,   4.6330,  34.3829,2,  34.3821,2,    200.2,2,   200.1,2,   33.07,2,   30.23,2,    0.00,2,    2.15,2,-999.000,9,-999.000,9,-999.0000,9,  -999.0,9,  -999.0,9,-999.0000,9,  -999.00,-999.000,9,-999.000,9,-999.000,9,   4.6325,2,-999.000,9, -999.00,9, -999.00,-999.000,9,-999.000, -999.00,9, -999.00,9, -33.9986,  57.8593,-999.000,-999.000,20090410,       0201
33RR20090320,        I05,      72,          1,         16,         16,2,20090410,       0049,   -33.9985,    57.8591,       4494,  1343.4,   3.9967,  34.4024,2,  34.4018,2,    192.5,2,   192.3,2,   42.03,2,   31.83,2,    0.00,2,    2.27,2,-999.000,9,-999.000,9,-999.0000,9,  -999.0,9,  -999.0,9,-999.0000,9,  -999.00,-999.000,9,-999.000,9,-999.000,9,   3.9981,2,-999.000,9, -999.00,9, -999.00,-999.000,9,-999.000, -999.00,9, -999.00,9, -33.9986,  57.8592,-999.000,-999.000,20090410,       0158
33RR20090320,        I05,      72,          1,         15,         15,2,20090410,       0049,   -33.9985,    57.8591,       4494,  1441.2,   3.5701,  34.4440,2,  34.4438,2,    184.5,2,   183.5,2,   50.81,2,   32.84,2,    0.00,2,    2.34,2,   0.963,2,   0.462,2,   0.1940,2,  -999.0,9,  -999.0,9,-999.0000,9,  -999.00,-999.000,9,-999.000,9,-999.000,9,   3.5714,2,-999.000,9, -999.00,9, -999.00,-999.000,9,-999.000, -999.00,9, -999.00,9, -33.9987,  57.8591,-999.000,-999.000,20090410,       0155
33RR20090320,        I05,      72,          1,         14,         14,2,20090410,       0049,   -33.9985,    57.8591,       4494,  1542.7,   3.2754,  34.5030,2,  34.5023,2,    177.5,2,   178.1,2,   58.77,2,   33.15,2,    0.00,2,    2.36,2,-999.000,9,-999.000,9,-999.0000,9,  2237.4,2,  2326.9,2,   7.6528,2,    20.00,-999.000,9,-999.000,9,-999.000,9,   3.2744,2,-999.000,9, -999.00,9, -999.00,-999.000,9,-999.000, -999.00,9, -999.00,9, -33.9987,  57.8591,-999.000,-999.000,20090410,       0153
33RR20090320,        I05,      72,          1,         13,         13,2,20090410,       0049,   -33.9985,    57.8591,       4494,  1673.3,   3.0038,  34.5590,2,  34.5583,2,    174.8,2,   175.5,2,   65.48,2,   33.04,2,    0.00,2,    2.36,2,-999.000,9,-999.000,9,-999.0000,9,  2244.0,2,  2336.2,2,   7.6533,2,    20.00,-999.000,9,-999.000,9,-999.000,9,   3.0033,2,-999.000,9, -999.00,9, -999.00,-999.000,9,-999.000, -999.00,9, -999.00,9, -33.9987,  57.8592,-999.000,-999.000,20090410,       0149
33RR20090320,        I05,      72,          1,         12,         12,2,20090410,       0049,   -33.9985,    57.8591,       4494,  1875.0,   2.7478,  34.6204,2,  34.6196,2,    176.4,2,   177.1,2,   71.57,2,   32.61,2,    0.00,2,    2.32,2,   0.249,2,   0.114,2,   0.0560,2,  2247.8,2,  2340.3,2,   7.6599,2,    20.00,-999.000,9,-999.000,9,-999.000,9,   2.7493,2,-999.000,9, -999.00,9, -999.00,-999.000,9,-999.000, -999.00,9, -999.00,9, -33.9988,  57.8593,-999.000,-999.000,20090410,       0145
33RR20090320,        I05,      72,          1,         11,         11,2,20090410,       0049,   -33.9985,    57.8591,       4494,  2098.2,   2.5356,  34.6715,2,  34.6711,2,    179.0,2,   178.8,2,   78.52,2,   32.07,2,    0.00,2,    2.28,2,-999.000,9,-999.000,9,-999.0000,9,  -999.0,9,  -999.0,9,-999.0000,9,  -999.00,-999.000,9,-999.000,9,-999.000,9,   2.5359,2,-999.000,9, -999.00,9, -999.00,-999.000,9,-999.000, -999.00,9, -999.00,9, -33.9986,  57.8593,-999.000,-999.000,20090410,       0141
33RR20090320,        I05,      72,          1,         10,         10,2,20090410,       0049,   -33.9985,    57.8591,       4494,  2349.1,   2.2997,  34.7218,2,  34.7220,2,    187.1,2,   187.0,2,   81.66,2,   31.05,2,    0.00,2,    2.21,2,   0.086,2,   0.039,2,   0.0000,2,  -999.0,9,  -999.0,9,-999.0000,9,  -999.00,-999.000,9,-999.000,9,-999.000,9,   2.3000,2,-999.000,9, -999.00,9, -999.00,-999.000,9,-999.000, -999.00,9, -999.00,9, -33.9986,  57.8588,-999.000,-999.000,20090410,       0135
33RR20090320,        I05,      72,          1,          9,          9,2,20090410,       0049,   -33.9985,    57.8591,       4494,  2602.0,   2.0926,  34.7448,2,  34.7456,2,    190.6,2,   190.7,2,   87.78,2,   30.73,2,    0.00,2,    2.18,2,-999.000,9,-999.000,9,-999.0000,9,  -999.0,9,  -999.0,9,-999.0000,9,  -999.00,-999.000,9,-999.000,9,-999.000,9,   2.0923,2,-999.000,9, -999.00,9, -999.00,-999.000,9,-999.000, -999.00,9, -999.00,9, -33.9984,  57.8591,-999.000,-999.000,20090410,       0130
33RR20090320,        I05,      72,          1,          8,          8,2,20090410,       0049,   -33.9985,    57.8591,       4494,  2854.7,   1.8819,  34.7482,2,  34.7478,2,    194.8,2,   194.6,2,   93.49,2,   30.78,2,    0.00,2,    2.18,2,-999.000,5,-999.000,5,-999.0000,5,  -999.0,9,  -999.0,9,-999.0000,9,  -999.00,-999.000,9,-999.000,9,-999.000,9,   1.8823,2,-999.000,9, -999.00,9, -999.00,-999.000,9,-999.000, -999.00,9, -999.00,9, -33.9986,  57.8594,-999.000,-999.000,20090410,       0125
33RR20090320,        I05,      72,          1,          7,          7,2,20090410,       0049,   -33.9985,    57.8591,       4494,  3113.7,   1.6571,  34.7432,2,  34.7431,2,    198.5,2,   198.3,2,   98.58,2,   30.87,2,    0.00,2,    2.20,2,-999.000,9,-999.000,9,-999.0000,9,  -999.0,9,  -999.0,9,-999.0000,9,  -999.00,-999.000,9,-999.000,9,-999.000,9,   1.6579,2,-999.000,9, -999.00,9, -999.00,-999.000,9,-999.000, -999.00,9, -999.00,9, -33.9988,  57.8595,-999.000,-999.000,20090410,       0120
33RR20090320,        I05,      72,          1,          6,          6,2,20090410,       0049,   -33.9985,    57.8591,       4494,  3419.8,   1.3514,  34.7290,2,  34.7296,2,    201.8,2,   201.6,2,  107.51,2,   31.46,2,    0.00,2,    2.24,2,   0.092,2,   0.039,2,   0.0120,2,  -999.0,9,  -999.0,9,-999.0000,9,  -999.00,-999.000,9,-999.000,9,-999.000,9,   1.3510,2,-999.000,9, -999.00,9, -999.00,-999.000,9,-999.000, -999.00,9, -999.00,9, -33.9989,  57.8596,-999.000,-999.000,20090410,       0114
33RR20090320,        I05,      72,          1,          5,          5,2,20090410,       0049,   -33.9985,    57.8591,       4494,  3732.1,   1.0386,  34.7151,2,  34.7149,2,    208.7,2,   208.6,2,  113.70,2,   31.62,2,    0.00,2,    2.25,2,-999.000,9,-999.000,9,-999.0000,9,  -999.0,9,  -999.0,9,-999.0000,9,  -999.00,-999.000,9,-999.000,9,-999.000,9,   1.0382,2,-999.000,9, -999.00,9, -999.00,-999.000,9,-999.000, -999.00,9, -999.00,9, -33.9988,  57.8596,-999.000,-999.000,20090410,       0108
33RR20090320,        I05,      72,          1,          4,          4,2,20090410,       0049,   -33.9985,    57.8591,       4494,  4036.8,   0.7058,  34.6977,2,  34.6971,2,    213.9,2,   214.1,2,  122.24,2,   32.15,2,    0.00,2,    2.28,2,   0.161,2,   0.072,2,   0.0160,2,  -999.0,9,  -999.0,9,-999.0000,9,  -999.00,-999.000,9,-999.000,9,-999.000,9,   0.7059,2,-999.000,9, -999.00,9, -999.00,-999.000,9,-999.000, -999.00,9, -999.00,9, -33.9986,  57.8596,-999.000,-999.000,20090410,       0101
33RR20090320,        I05,      72,          1,          3,          3,2,20090410,       0049,   -33.9985,    57.8591,       4494,  4342.6,   0.5116,  34.6875,2,  34.6868,2,    217.6,2,   217.8,2,  128.89,2,   32.35,2,    0.00,2,    2.30,2,-999.000,9,-999.000,9,-999.0000,9,  -999.0,9,  -999.0,9,-999.0000,9,  -999.00,-999.000,9,-999.000,9,-999.000,9,   0.5120,2,-999.000,9, -999.00,9, -999.00,-999.000,9,-999.000, -999.00,9, -999.00,9, -33.9985,  57.8595,-999.000,-999.000,20090410,       0055
33RR20090320,        I05,      72,          1,          2,          2,2,20090410,       0049,   -33.9985,    57.8591,       4494,  4443.8,   0.4911,  34.6857,2,  34.6849,2,    218.2,2,   218.0,2,  130.15,2,   32.35,2,    0.00,2,    2.30,2,   0.195,2,   0.088,2,   0.0330,2,  2260.6,2,  2362.2,2,   7.6775,2,    20.00,-999.000,9,-999.000,9,-999.000,9,   0.4910,2,-999.000,9, -999.00,9, -999.00,-999.000,9,-999.000, -999.00,9, -999.00,9, -33.9985,  57.8593,-999.000,-999.000,20090410,       0052
33RR20090320,        I05,      72,          1,          1,          1,2,20090410,       0049,   -33.9985,    57.8591,       4494,  4559.0,   0.4913,  34.6851,2,  34.6841,2,    217.8,2,   218.4,2,  129.89,2,   32.45,2,    0.00,2,    2.30,2,   0.196,2,   0.087,2,   0.0070,2,  2261.4,6,  2361.0,2,   7.6767,2,    20.00,-999.000,9,-999.000,9,-999.000,9,   0.4913,2,-999.000,9, -999.00,9, -999.00,-999.000,9,-999.000, -999.00,9, -999.00,9, -33.9985,  57.8591,-999.000,-999.000,20090410,       0049