BOTTLE,20220814CCHSIOAMB
EXPOCODE,SECT_ID,STNNBR,CASTNO,SAMPNO,BTLNBR,BTLNBR_FLAG_W,DATE,TIME,LATITUDE,LONGITUDE,DEPTH,CTDPRS,CTDTMP,CTDSAL,CTDSAL_FLAG_W,SALNTY,SALNTY_FLAG_W,CTDOXY,CTDOXY_FLAG_W,OXYGEN,OXYGEN_FLAG_W,SILCAT,SILCAT_FLAG_W,NITRAT,NITRAT_FLAG_W,NITRIT,NITRIT_FLAG_W,PHSPHT,PHSPHT_FLAG_W,CFC-11,CFC-11_FLAG_W,CFC-12,CFC-12_FLAG_W,SF6,SF6_FLAG_W,TCARBN,TCARBN_FLAG_W,ALKALI,ALKALI_FLAG_W,PH_TOT,PH_TOT_FLAG_W,PH_TMP,TRITUM,TRITUM_FLAG_W,HELIUM,HELIUM_FLAG_W,DELHE3,DELHE3_FLAG_W,REFTMP,REFTMP_FLAG_W,DELC13,DELC13_FLAG_W,DELC14,DELC14_FLAG_W,C14ERR,NEON,NEON_FLAG_W,NEONER,DOC,DOC_FLAG_W,TDN,TDN_FLAG_W,BTL_LAT,BTL_LON,HELIER,DELHER,BTL_DATE,BTL_TIME
,,,,,,,,,,,METERS,DBAR,ITS-90,PSS-78,,PSS-78,,UMOL/KG,,UMOL/KG,,UMOL/KG,,UMOL/KG,,UMOL/KG,,UMOL/KG,,PMOL/KG,,PMOL/KG,,FMOL/KG,,UMOL/KG,,UMOL/KG,,,,DEG C,TU,,NMOL/KG,,PERCNT,,DEG C,,/MILLE,,/MILLE,,/MILLE,NMOL/KG,,NMOL/KG,UMOL/KG,,UMOL/KG,,,,NMOL/KG,PERCNT,,
33RR20090320,        I05,     165,          1,         36,         36,2,20090504,       2326,   -32.0028,   102.4311,       5136,    13.2,  19.5161,  36.0151,2,  36.0162,2,    230.1,2,   229.3,2,    1.43,2,    0.05,2,    0.01,2,    0.10,2,   2.177,6,   1.313,6,   1.2340,6,  2071.8,6,  2363.4,2,   8.0944,2,    20.00,-999.000,9,-999.000,9,-999.000,9,  19.5143,2,     1.1,2,   43.77,2,     3.3,-999.000,9,-999.000,   63.56,2,    3.95,2, -32.0027, 102.4310,-999.000,-999.000,20090505,       0134
33RR20090320,        I05,     165,          1,         35,         35,2,20090504,       2326,   -32.0028,   102.4311,       5136,    43.3,  19.3567,  36.0196,2,  36.0245,2,    232.2,2,   230.0,2,    1.59,2,    0.10,2,    0.01,2,    0.10,2,   2.197,2,   1.326,2,   1.2910,2,  2074.3,2,  2364.7,2,   8.0924,2,    20.00,-999.000,9,-999.000,9,-999.000,9,  19.3533,2,-999.000,9, -999.00,9, -999.00,-999.000,9,-999.000,   64.22,2,    3.54,2, -32.0027, 102.4310,-999.000,-999.000,20090505,       0132
33RR20090320,        I05,     165,          1,         34,         34,2,20090504,       2326,   -32.0028,   102.4311,       5136,    67.1,  17.9550,  35.8350,2,  35.8368,2,    242.1,2,   244.1,2,    1.20,2,    0.10,2,    0.01,2,    0.12,2,   2.443,2,   1.456,2,   1.3930,2,  2076.9,2,  2356.1,2,   8.0740,2,    20.00,-999.000,9,-999.000,9,-999.000,9,  17.9552,2,-999.000,9, -999.00,9, -999.00,-999.000,9,-999.000,   60.23,2,    3.70,2, -32.0028, 102.4311,-999.000,-999.000,20090505,       0130
33RR20090320,        I05,     165,          1,         33,         33,2,20090504,       2326,   -32.0028,   102.4311,       5136,    90.8,  16.2697,  35.7024,2,  35.7039,2,    246.7,2,   249.3,2,    1.00,2,    0.15,2,    0.01,2,    0.14,2,   2.650,2,   1.564,2,   1.2500,2,  2079.9,2,  2347.2,2,   8.0559,2,    20.00,-999.000,9,-999.000,9,-999.000,9,  16.2514,2,-999.000,9, -999.00,9, -999.00,-999.000,9,-999.000,   57.83,2,    3.74,2, -32.0028, 102.4311,-999.000,-999.000,20090505,       0129
33RR20090320,        I05,     165,          1,         32,         32,2,20090504,       2326,   -32.0028,   102.4311,       5136,   123.8,  15.3193,  35.6411,2,  35.6486,2,    233.4,2,   232.1,2,    1.33,2,    2.17,2,    0.06,2,    0.28,2,   2.705,2,   1.587,2,   1.3880,2,  2097.2,2,  2343.2,2,   8.0173,2,    20.00,-999.000,9,-999.000,9,-999.000,9,  15.3405,2,   1.065,2,    47.4,2,       3,-999.000,9,-999.000,   51.91,2,    5.01,2, -32.0028, 102.4311,-999.000,-999.000,20090505,       0127
33RR20090320,        I05,     165,          1,         31,         31,2,20090504,       2326,   -32.0028,   102.4311,       5136,   172.6,  14.3182,  35.4988,2,  35.5061,2,    234.6,2,   233.9,2,    1.31,2,    4.06,2,    0.01,2,    0.38,2,   2.882,2,   1.656,2,   1.3730,2,  2102.7,2,  2334.6,2,   7.9932,2,    20.00,-999.000,9,-999.000,9,-999.000,9,  14.3256,2,-999.000,9, -999.00,9, -999.00,-999.000,9,-999.000,   50.23,2,    6.95,2, -32.0029, 102.4310,-999.000,-999.000,20090505,       0124
33RR20090320,        I05,     165,          1,         30,         30,2,20090504,       2326,   -32.0028,   102.4311,       5136,   222.3,  13.4563,  35.3569,2,  35.3590,2,    240.8,2,   238.8,2,    1.28,2,    5.34,2,    0.01,2,    0.47,2,   2.996,2,   1.730,2,   1.4160,2,  2104.8,2,  2329.4,2,   7.9743,2,    20.00,-999.000,9,-999.000,9,-999.000,9,  13.4510,2,   1.127,2,   38.95,2,     3.1,-999.000,9,-999.000,   49.01,2,    7.98,2, -32.0029, 102.4310,-999.000,-999.000,20090505,       0122
33RR20090320,        I05,     165,          1,         29,         29,2,20090504,       2326,   -32.0028,   102.4311,       5136,   271.4,  12.6940,  35.2125,2,  35.2141,2,    243.9,2,   237.8,2,    1.62,2,    7.24,2,    0.01,2,    0.59,2,   3.157,2,   1.786,2,   1.4060,2,  2110.6,2,  2319.3,2,   7.9483,2,    20.00,-999.000,9,-999.000,9,-999.000,9,  12.6892,2,   1.172,2,   43.01,2,     2.1,-999.000,9,-999.000,   47.52,2,    9.53,2, -32.0029, 102.4310,-999.000,-999.000,20090505,       0120
33RR20090320,        I05,     165,          1,         28,         28,2,20090504,       2326,   -32.0028,   102.4311,       5136,   323.1,  11.7109,  35.0401,2,  35.0432,2,    244.1,2,   238.7,2,    2.14,2,    9.78,2,    0.01,2,    0.73,2,   3.345,2,   1.872,2,   1.5070,2,  2116.5,2,  2311.0,2,   7.9187,2,    20.00,-999.000,9,-999.000,9,-999.000,9,  11.7184,2,   1.144,2,   46.53,2,     2.4,-999.000,9,-999.000,   46.62,2,   12.19,2, -32.0029, 102.4310,-999.000,-999.000,20090505,       0118
33RR20090320,        I05,     165,          1,         27,         27,2,20090504,       2326,   -32.0028,   102.4311,       5136,   372.4,  11.0343,  34.9238,2,  34.9226,2,    244.1,2,   242.4,2,    2.48,2,   11.27,2,    0.01,2,    0.82,2,   3.478,2,   1.925,2,   1.4010,2,  2118.2,2,  2303.7,2,   7.9036,2,    20.00,-999.000,9,-999.000,9,-999.000,9,  11.0325,2,   1.188,2,    37.4,2,     2.8,-999.000,9,-999.000,   45.45,2,   13.78,2, -32.0029, 102.4309,-999.000,-999.000,20090505,       0115
33RR20090320,        I05,     165,          1,         26,         26,2,20090504,       2326,   -32.0028,   102.4311,       5136,   440.8,  10.3189,  34.8158,2,  34.8160,2,    241.4,2,   241.8,2,    3.18,2,   13.28,2,    0.00,2,    0.95,2,   3.593,2,   1.981,2,   1.4670,2,  2123.0,2,  2300.5,2,   7.8808,2,    20.00,-999.000,9,-999.000,9,-999.000,9,  10.3130,2,   1.195,2,   40.45,2,     2.8,-999.000,9,-999.000,   44.89,2,   15.86,2, -32.0029, 102.4308,-999.000,-999.000,20090505,       0113
33RR20090320,        I05,     165,          1,         25,         25,2,20090504,       2326,   -32.0028,   102.4311,       5136,   541.7,   9.5431,  34.7139,2,  34.7161,2,    239.5,2,   239.8,2,    3.90,2,   15.66,2,    0.00,2,    1.10,2,   3.757,2,   2.001,2,   1.2330,2,  2127.9,2,  2294.4,2,   7.8576,2,    20.00,-999.000,9,-999.000,9,-999.000,9,   9.5420,2,   1.111,2,    37.6,2,     4.1,-999.000,9,-999.000,   43.54,2,   17.65,2, -32.0029, 102.4308,-999.000,-999.000,20090505,       0110
33RR20090320,        I05,     165,          1,         24,         24,2,20090504,       2326,   -32.0028,   102.4311,       5136,   640.8,   9.0327,  34.6437,2,  34.6445,2,    237.4,2,   237.4,2,    4.76,2,   17.40,2,    0.00,2,    1.21,2,   3.722,2,   1.962,2,   1.2690,2,  2131.0,2,  2291.3,2,   7.8421,2,    20.00,-999.000,9,-999.000,9,-999.000,9,   9.0306,2,   1.157,2,   36.37,2,     2.8,-999.000,9,-999.000,   43.13,2,   18.81,2, -32.0030, 102.4307,-999.000,-999.000,20090505,       0107
33RR20090320,        I05,     165,          1,         23,         23,2,20090504,       2326,   -32.0028,   102.4311,       5136,   742.0,   8.2047,  34.5523,2,  34.5543,2,    220.6,2,   220.4,2,    8.41,2,   21.08,2,    0.00,2,    1.45,2,   3.209,2,   1.628,2,   0.8370,2,  2144.4,2,  2290.2,2,   7.8020,2,    20.00,-999.000,9,-999.000,9,-999.000,9,   8.2043,2,   1.094,2,   22.17,2,     2.9,-999.000,9,-999.000,   42.34,2,   22.47,2, -32.0030, 102.4307,-999.000,-999.000,20090505,       0104
33RR20090320,        I05,     165,          1,         22,         22,2,20090504,       2326,   -32.0028,   102.4311,       5136,   842.3,   6.7384,  34.4528,2,  34.4510,2,    200.3,2,   199.0,2,   17.59,2,   26.29,2,    0.00,2,    1.82,2,   2.115,2,   1.056,2,   0.3570,2,  2169.5,2,  2292.5,2,   7.7388,2,    20.00,-999.000,9,-999.000,9,-999.000,9,   6.7385,2,-999.000,5, -999.00,9, -999.00,-999.000,9,-999.000,   41.63,2,   27.87,2, -32.0031, 102.4306,-999.000,-999.000,20090505,       0102
33RR20090320,        I05,     165,          1,         21,         21,2,20090504,       2326,   -32.0028,   102.4311,       5136,   942.3,   5.1963,  34.3908,2,  34.3908,2,    193.8,2,   193.5,2,   29.04,2,   29.83,2,    0.00,2,    2.08,2,   1.534,6,   0.737,6,   0.2280,6,  2190.3,2,  2299.0,2,   7.6975,2,    20.00,-999.000,9,-999.000,9,-999.000,9,   5.2019,2,   0.914,2,  -61.56,2,     2.5,-999.000,9,-999.000,   40.83,2,   31.06,2, -32.0031, 102.4305,-999.000,-999.000,20090505,       0059
33RR20090320,        I05,     165,          1,         20,         20,2,20090504,       2326,   -32.0028,   102.4311,       5136,  1042.2,   4.2944,  34.3923,2,  34.3921,2,    186.3,2,   186.7,2,   40.73,2,   32.08,2,    0.00,2,    2.25,2,   1.130,2,   0.529,2,   0.1620,2,  2209.5,2,  2307.6,2,   7.6708,2,    20.00,-999.000,9,-999.000,9,-999.000,9,   4.2924,2,   0.824,2,  -95.92,2,     3.3,-999.000,9,-999.000,   40.36,2,   33.35,2, -32.0031, 102.4306,-999.000,-999.000,20090505,       0056
33RR20090320,        I05,     165,          1,         19,         19,2,20090504,       2326,   -32.0028,   102.4311,       5136,  1141.9,   3.8869,  34.4410,2,  34.4404,2,    170.9,2,   171.9,2,   53.41,2,   33.53,2,    0.00,2,    2.38,2,   0.646,2,   0.298,2,   0.0350,2,  2229.7,2,  2318.2,2,   7.6473,2,    20.00,-999.000,9,-999.000,9,-999.000,9,   3.8865,2,   0.768,2, -120.42,2,     2.4,-999.000,9,-999.000,   39.46,2,   35.46,2, -32.0031, 102.4307,-999.000,-999.000,20090505,       0053
33RR20090320,        I05,     165,          1,         18,         18,2,20090504,       2326,   -32.0028,   102.4311,       5136,  1243.4,   3.5568,  34.4789,2,  34.4795,2,    163.6,2,   163.2,2,   62.38,2,   34.38,2,    0.00,2,    2.45,2,   0.396,2,   0.184,2,   0.0230,2,  2242.5,2,  2329.3,2,   7.6333,2,    20.00,-999.000,9,-999.000,9,-999.000,9,   3.5494,2,   0.588,2, -133.65,2,     2.5,-999.000,9,-999.000,   39.22,2,   36.13,2, -32.0031, 102.4308,-999.000,-999.000,20090505,       0050
33RR20090320,        I05,     165,          1,         17,         17,2,20090504,       2326,   -32.0028,   102.4311,       5136,  1344.0,   3.3163,  34.5258,2,  34.5250,2,    156.4,2,   157.0,2,   70.05,2,   34.75,2,    0.00,2,    2.49,2,   0.203,2,   0.094,2,   0.0000,2,  2253.3,2,  2337.6,2,   7.6258,2,    20.00,-999.000,9,-999.000,9,-999.000,9,   3.3165,2,   0.506,2,    -150,2,     2.8,-999.000,9,-999.000,   39.08,2,   36.22,2, -32.0030, 102.4309,-999.000,-999.000,20090505,       0048
33RR20090320,        I05,     165,          1,         16,         16,2,20090504,       2326,   -32.0028,   102.4311,       5136,  1474.9,   3.1021,  34.5746,2,  34.5747,2,    153.3,2,   153.1,2,   77.38,2,   34.80,2,    0.00,2,    2.50,2,   0.093,2,   0.044,2,   0.0000,2,  2261.2,2,  2346.0,2,   7.6239,2,    20.00,-999.000,9,-999.000,9,-999.000,9,   3.1013,2,    0.51,2,  -175.7,2,     3.5,-999.000,9,-999.000,   38.96,2,   36.03,2, -32.0029, 102.4309,-999.000,-999.000,20090505,       0045
33RR20090320,        I05,     165,          1,         15,         15,2,20090504,       2326,   -32.0028,   102.4311,       5136,  1675.2,   2.8152,  34.6366,2,  34.6367,2,    155.5,2,   155.4,2,   85.28,2,   34.30,2,    0.00,2,    2.46,2,   0.036,2,   0.017,2,   0.0000,2,  2267.0,6,  2356.8,2,   7.6321,2,    20.00,-999.000,9,-999.000,9,-999.000,9,   2.8152,2,   0.446,2, -168.23,2,       2,-999.000,9,-999.000,   38.84,2,   36.19,2, -32.0028, 102.4309,-999.000,-999.000,20090505,       0040
33RR20090320,        I05,     165,          1,         14,         14,2,20090504,       2326,   -32.0028,   102.4311,       5136,  1875.4,   2.5673,  34.6821,2,  34.6825,2,    160.2,2,   160.1,2,   91.87,2,   33.70,2,    0.00,2,    2.41,2,   0.021,2,   0.011,2,   0.0000,2,  2270.2,2,  2362.2,2,   7.6428,2,    20.00,-999.000,9,-999.000,9,-999.000,9,   2.5676,2,    0.46,2, -183.46,2,     3.4,-999.000,9,-999.000,   38.99,2,   35.30,2, -32.0028, 102.4309,-999.000,-999.000,20090505,       0036
33RR20090320,        I05,     165,          1,         13,         13,2,20090504,       2326,   -32.0028,   102.4311,       5136,  2099.3,   2.3373,  34.7111,2,  34.7112,2,    168.5,2,   168.4,2,   94.88,2,   32.88,2,    0.00,2,    2.35,2,   0.017,2,   0.007,2,   0.0000,2,  2267.4,2,  2364.3,2,   7.6555,2,    20.00,-999.000,9,-999.000,9,-999.000,9,   2.3357,2,   0.464,2, -178.61,2,       2,-999.000,9,-999.000,   39.11,2,   34.65,2, -32.0028, 102.4309,-999.000,-999.000,20090505,       0031
33RR20090320,        I05,     165,          1,         12,         12,2,20090504,       2326,   -32.0028,   102.4311,       5136,  2349.4,   2.0992,  34.7282,2,  34.7283,2,    177.0,2,   176.1,2,   98.83,2,   32.39,2,    0.00,2,    2.29,2,   0.013,2,   0.006,2,   0.0000,2,  2266.9,2,  2367.8,2,   7.6671,2,    20.00,-999.000,9,-999.000,9,-999.000,9,   2.0996,2,   0.527,2, -190.73,2,     2.5,-999.000,9,-999.000,   39.43,2,   34.35,2, -32.0028, 102.4308,-999.000,-999.000,20090505,       0026
33RR20090320,        I05,     165,          1,         11,         11,2,20090504,       2326,   -32.0028,   102.4311,       5136,  2602.5,   1.8934,  34.7335,2,  34.7334,2,    183.2,2,   182.1,2,  103.18,2,   32.22,2,    0.00,2,    2.28,2,   0.010,2,   0.004,2,   0.0000,2,  2267.6,2,  2370.3,2,   7.6737,2,    20.00,-999.000,9,-999.000,9,-999.000,9,   1.8928,2,   0.532,2, -168.88,2,     3.5,-999.000,9,-999.000,   39.56,2,   33.29,2, -32.0028, 102.4308,-999.000,-999.000,20090505,       0020
33RR20090320,        I05,     165,          1,         10,         10,2,20090504,       2326,   -32.0028,   102.4311,       5136,  2855.6,   1.7275,  34.7374,2,  34.7373,2,    190.9,2,   190.7,2,  102.00,2,   31.57,2,    0.00,2,    2.23,2,   0.011,2,   0.007,2,   0.0000,2,  2262.6,2,  2367.2,2,   7.6808,2,    20.00,-999.000,9,-999.000,9,-999.000,9,   1.7274,2,   0.556,2, -163.12,2,     2.5,-999.000,9,-999.000,   39.64,2,   33.25,2, -32.0028, 102.4309,-999.000,-999.000,20090505,       0015
33RR20090320,        I05,     165,          1,          9,          9,2,20090504,       2326,   -32.0028,   102.4311,       5136,  3123.8,   1.5426,  34.7333,2,  34.7334,2,    193.9,2,   193.6,2,  107.30,2,   31.73,2,    0.00,2,    2.24,2,   0.012,2,   0.006,2,   0.0000,2,  2265.1,2,  2368.8,2,   7.6825,2,    20.00,-999.000,9,-999.000,9,-999.000,9,   1.5428,2,   0.526,2, -180.53,2,     2.1,-999.000,9,-999.000,   39.83,2,   33.24,2, -32.0028, 102.4309,-999.000,-999.000,20090505,       0010
33RR20090320,        I05,     165,          1,          8,          8,2,20090504,       2326,   -32.0028,   102.4311,       5136,  3429.4,   1.3364,  34.7278,2,  34.7273,2,    199.0,2,   199.1,2,  111.27,2,   31.72,2,    0.00,2,    2.24,2,   0.016,2,   0.009,2,   0.0000,2,  2262.6,2,  2370.4,2,   7.6847,2,    20.00,-999.000,9,-999.000,9,-999.000,9,   1.3364,2,   0.593,2,  -176.6,2,     2.4,-999.000,9,-999.000,   39.35,2,   33.22,2, -32.0028, 102.4309,-999.000,-999.000,20090505,       0004
33RR20090320,        I05,     165,          1,          7,          7,2,20090504,       2326,   -32.0028,   102.4311,       5136,  3732.8,   1.1984,  34.7213,2,  34.7210,2,    201.2,2,   201.5,2,  115.25,2,   31.98,2,    0.00,2,    2.25,2,   0.020,2,   0.012,2,   0.0000,2,  2265.2,2,  2372.0,2,   7.6861,2,    20.00,-999.000,9,-999.000,9,-999.000,9,   1.1982,2,   0.461,2, -172.69,2,     2.8,-999.000,9,-999.000,   39.13,2,   33.56,2, -32.0027, 102.4309,-999.000,-999.000,20090504,       2358
33RR20090320,        I05,     165,          1,          6,          6,2,20090504,       2326,   -32.0028,   102.4311,       5136,  4037.6,   1.1033,  34.7165,2,  34.7168,2,    204.2,2,   204.3,2,  117.71,2,   31.91,2,    0.00,2,    2.26,2,   0.028,2,   0.016,2,   0.0000,2,  2263.8,2,  2372.7,2,   7.6866,2,    20.00,-999.000,9,-999.000,9,-999.000,9,   1.1031,2,   0.494,2,  -160.7,2,     2.2,-999.000,9,-999.000,   39.48,2,   33.28,2, -32.0027, 102.4309,-999.000,-999.000,20090504,       2352
33RR20090320,        I05,     165,          1,          5,          5,2,20090504,       2326,   -32.0028,   102.4311,       5136,  4343.5,   1.0344,  34.7124,2,  34.7127,2,    205.9,2,   206.4,2,  119.58,2,   32.07,2,    0.00,2,    2.25,2,   0.038,2,   0.022,2,   0.0000,2,  2264.2,2,  2371.5,2,   7.6865,2,    20.00,-999.000,9,-999.000,9,-999.000,9,   1.0345,2,   0.474,2,  -173.3,2,     2.6,-999.000,9,-999.000,   39.63,2,   33.48,2, -32.0027, 102.4310,-999.000,-999.000,20090504,       2346
33RR20090320,        I05,     165,          1,          4,          4,2,20090504,       2326,   -32.0028,   102.4311,       5136,  4648.4,   1.0134,  34.7101,2,  34.7101,2,    207.2,2,   206.6,2,  121.27,2,   32.23,2,    0.00,2,    2.27,2,   0.043,2,   0.022,2,   0.0000,2,  2265.2,2,  2371.7,2,   7.6855,2,    20.00,-999.000,9,-999.000,9,-999.000,9,   1.0136,2,   0.503,2, -160.57,2,     2.2,-999.000,9,-999.000,   39.60,2,   33.52,2, -32.0028, 102.4311,-999.000,-999.000,20090504,       2340
33RR20090320,        I05,     165,          1,          3,          3,2,20090504,       2326,   -32.0028,   102.4311,       5136,  4954.0,   1.0103,  34.7080,2,  34.7086,2,    207.8,2,   207.6,2,  122.01,2,   32.22,2,    0.00,2,    2.26,2,   0.052,2,   0.026,2,   0.0000,2,  2264.6,2,  2372.4,2,   7.6845,2,    20.00,-999.000,9,-999.000,9,-999.000,9,   1.0101,2,   0.505,2, -157.47,2,     2.1,-999.000,9,-999.000,   39.52,2,   33.53,2, -32.0028, 102.4311,-999.000,-999.000,20090504,       2334
33RR20090320,        I05,     165,          1,          2,          2,2,20090504,       2326,   -32.0028,   102.4311,       5136,  5082.7,   1.0171,  34.7074,2,  34.7072,2,    208.3,2,   207.6,2,  122.18,2,   32.27,2,    0.00,2,    2.27,2,   0.054,2,   0.029,2,   0.0000,2,  2265.1,2,  2372.1,2,   7.6845,2,    20.00,-999.000,9,-999.000,9,-999.000,9,   1.0167,2,   0.511,2, -155.64,2,     2.2,-999.000,9,-999.000,   39.66,2,   33.80,2, -32.0028, 102.4311,-999.000,-999.000,20090504,       2330
33RR20090320,        I05,     165,          1,          1,          1,2,20090504,       2326,   -32.0028,   102.4311,       5136,  5215.6,   1.0283,  34.7071,2,  34.7084,4,    207.4,2,   207.4,2,  122.53,2,   32.26,2,    0.00,2,    2.28,2,   0.056,6,   0.028,6,   0.0000,6,  2266.1,6,  2372.3,2,   7.6837,2,    20.00,-999.000,9,-999.000,9,-999.000,9,   1.0280,2,   0.472,2, -166.25,2,     2.4,-999.000,9,-999.000,   39.57,2,   33.98,2, -32.0028, 102.4310,-999.000,-999.000,20090504,       2326