BOTTLE,20220814CCHSIOAMB
EXPOCODE,SECT_ID,STNNBR,CASTNO,SAMPNO,BTLNBR,BTLNBR_FLAG_W,DATE,TIME,LATITUDE,LONGITUDE,DEPTH,CTDPRS,CTDTMP,CTDSAL,CTDSAL_FLAG_W,SALNTY,SALNTY_FLAG_W,CTDOXY,CTDOXY_FLAG_W,OXYGEN,OXYGEN_FLAG_W,SILCAT,SILCAT_FLAG_W,NITRAT,NITRAT_FLAG_W,NITRIT,NITRIT_FLAG_W,PHSPHT,PHSPHT_FLAG_W,CFC-11,CFC-11_FLAG_W,CFC-12,CFC-12_FLAG_W,SF6,SF6_FLAG_W,TCARBN,TCARBN_FLAG_W,ALKALI,ALKALI_FLAG_W,PH_TOT,PH_TOT_FLAG_W,PH_TMP,TRITUM,TRITUM_FLAG_W,HELIUM,HELIUM_FLAG_W,DELHE3,DELHE3_FLAG_W,REFTMP,REFTMP_FLAG_W,DELC13,DELC13_FLAG_W,DELC14,DELC14_FLAG_W,C14ERR,NEON,NEON_FLAG_W,NEONER,DOC,DOC_FLAG_W,TDN,TDN_FLAG_W,BTL_LAT,BTL_LON,HELIER,DELHER,BTL_DATE,BTL_TIME
,,,,,,,,,,,METERS,DBAR,ITS-90,PSS-78,,PSS-78,,UMOL/KG,,UMOL/KG,,UMOL/KG,,UMOL/KG,,UMOL/KG,,UMOL/KG,,PMOL/KG,,PMOL/KG,,FMOL/KG,,UMOL/KG,,UMOL/KG,,,,DEG C,TU,,NMOL/KG,,PERCNT,,DEG C,,/MILLE,,/MILLE,,/MILLE,NMOL/KG,,NMOL/KG,UMOL/KG,,UMOL/KG,,,,NMOL/KG,PERCNT,,
33RR20090320,        I05,     140,          1,         36,         36,2,20090428,       2147,   -32.8560,    92.3776,       4597,     6.5,  19.4973,  35.6864,2,  35.6869,2,    230.3,2,   231.5,2,    1.41,2,    0.12,2,    0.00,2,    0.16,2,   2.225,2,   1.327,2,   1.1150,2,  2073.8,6,  2352.4,2,   8.0773,2,    20.00,-999.000,9,-999.000,9,-999.000,9,  19.4958,2,-999.000,9, -999.00,9, -999.00,-999.000,9,-999.000, -999.00,9, -999.00,9, -32.8563,  92.3780,-999.000,-999.000,20090428,       2343
33RR20090320,        I05,     140,          1,         35,         35,2,20090428,       2147,   -32.8560,    92.3776,       4597,    33.8,  19.4837,  35.6821,2,  35.6818,2,    231.9,2,   231.6,2,    1.38,2,    0.12,2,    0.00,2,    0.16,2,-999.000,9,-999.000,9,-999.0000,9,  -999.0,9,  -999.0,9,-999.0000,9,  -999.00,-999.000,9,-999.000,9,-999.000,9,  19.4823,2,-999.000,9, -999.00,9, -999.00,-999.000,9,-999.000, -999.00,9, -999.00,9, -32.8562,  92.3781,-999.000,-999.000,20090428,       2341
33RR20090320,        I05,     140,          1,         34,         34,2,20090428,       2147,   -32.8560,    92.3776,       4597,    57.6,  19.3583,  35.6672,2,  35.6684,2,    234.7,2,   232.7,2,    1.37,2,    0.12,2,    0.00,2,    0.16,2,   2.255,6,   1.339,6,   1.2700,6,  2074.0,2,  2348.2,2,   8.0760,2,    20.00,-999.000,9,-999.000,9,-999.000,9,  19.3308,2,-999.000,9, -999.00,9, -999.00,-999.000,9,-999.000, -999.00,9, -999.00,9, -32.8561,  92.3781,-999.000,-999.000,20090428,       2339
33RR20090320,        I05,     140,          1,         33,         33,2,20090428,       2147,   -32.8560,    92.3776,       4597,    82.7,  14.8472,  35.3125,2,  35.3102,2,    263.4,2,   264.2,2,    1.70,2,    1.21,2,    0.03,2,    0.28,2,-999.000,9,-999.000,9,-999.0000,9,  -999.0,9,  -999.0,9,-999.0000,9,  -999.00,-999.000,9,-999.000,9,-999.000,9,  14.8112,2,-999.000,9, -999.00,9, -999.00,-999.000,9,-999.000, -999.00,9, -999.00,9, -32.8561,  92.3782,-999.000,-999.000,20090428,       2338
33RR20090320,        I05,     140,          1,         32,         32,2,20090428,       2147,   -32.8560,    92.3776,       4597,   108.0,  14.3337,  35.3509,2,  35.3447,2,    243.7,2,   243.3,2,    2.02,2,    3.10,2,    0.47,2,    0.41,2,-999.000,9,-999.000,9,-999.0000,9,  -999.0,9,  -999.0,9,-999.0000,9,  -999.00,-999.000,9,-999.000,9,-999.000,9,  14.3358,2,-999.000,9, -999.00,9, -999.00,-999.000,9,-999.000, -999.00,9, -999.00,9, -32.8561,  92.3782,-999.000,-999.000,20090428,       2336
33RR20090320,        I05,     140,          1,         31,         31,2,20090428,       2147,   -32.8560,    92.3776,       4597,   158.0,  12.9338,  35.1669,2,  35.1707,2,    240.5,2,   240.2,2,    2.35,2,    6.87,2,    0.01,2,    0.59,2,   3.077,2,   1.762,2,   1.4180,2,  2110.9,2,  2318.0,2,   7.9513,2,    20.00,-999.000,9,-999.000,9,-999.000,9,  12.9338,2,-999.000,9, -999.00,9, -999.00,-999.000,9,-999.000, -999.00,9, -999.00,9, -32.8561,  92.3782,-999.000,-999.000,20090428,       2335
33RR20090320,        I05,     140,          1,         30,         30,2,20090428,       2147,   -32.8560,    92.3776,       4597,   209.3,  12.0523,  35.0519,2,  35.0475,2,    239.3,2,   239.4,2,    3.03,2,    9.36,2,    0.00,2,    0.72,2,-999.000,9,-999.000,9,-999.0000,9,  -999.0,9,  -999.0,9,-999.0000,9,  -999.00,-999.000,9,-999.000,9,-999.000,9,  12.0477,2,-999.000,9, -999.00,9, -999.00,-999.000,9,-999.000, -999.00,9, -999.00,9, -32.8560,  92.3783,-999.000,-999.000,20090428,       2333
33RR20090320,        I05,     140,          1,         29,         29,2,20090428,       2147,   -32.8560,    92.3776,       4597,   256.5,  11.7180,  35.0251,2,  35.0280,2,    240.5,2,   240.1,2,    3.19,2,    9.86,2,    0.00,2,    0.76,2,-999.000,9,-999.000,9,-999.0000,9,  -999.0,9,  -999.0,9,-999.0000,9,  -999.00,-999.000,9,-999.000,9,-999.000,9,  11.7159,2,-999.000,9, -999.00,9, -999.00,-999.000,9,-999.000, -999.00,9, -999.00,9, -32.8560,  92.3783,-999.000,-999.000,20090428,       2331
33RR20090320,        I05,     140,          1,         28,         28,2,20090428,       2147,   -32.8560,    92.3776,       4597,   310.2,  11.2193,  34.9459,2,  34.9475,2,    242.0,2,   243.0,2,    3.52,2,   10.94,2,    0.00,2,    0.83,2,   3.379,2,   1.888,2,   1.4520,2,  2118.2,2,  2304.3,2,   7.9094,2,    20.00,-999.000,9,-999.000,9,-999.000,9,  11.2288,2,-999.000,9, -999.00,9, -999.00,-999.000,9,-999.000, -999.00,9, -999.00,9, -32.8559,  92.3784,-999.000,-999.000,20090428,       2329
33RR20090320,        I05,     140,          1,         27,         27,2,20090428,       2147,   -32.8560,    92.3776,       4597,   357.3,  10.8260,  34.8875,2,  34.8869,2,    243.6,2,   243.8,2,    3.84,2,   12.00,2,    0.00,2,    0.89,2,-999.000,9,-999.000,9,-999.0000,9,  -999.0,9,  -999.0,9,-999.0000,9,  -999.00,-999.000,9,-999.000,9,-999.000,9,  10.8249,2,-999.000,9, -999.00,9, -999.00,-999.000,9,-999.000, -999.00,9, -999.00,9, -32.8558,  92.3784,-999.000,-999.000,20090428,       2327
33RR20090320,        I05,     140,          1,         26,         26,2,20090428,       2147,   -32.8560,    92.3776,       4597,   407.9,  10.5935,  34.8551,2,  34.8531,2,    243.6,2,   243.0,2,    4.35,2,   12.81,2,    0.00,2,    0.94,2,-999.000,9,-999.000,9,-999.0000,9,  -999.0,9,  -999.0,9,-999.0000,9,  -999.00,-999.000,9,-999.000,9,-999.000,9,  10.5941,2,-999.000,9, -999.00,9, -999.00,-999.000,9,-999.000, -999.00,9, -999.00,9, -32.8558,  92.3785,-999.000,-999.000,20090428,       2326
33RR20090320,        I05,     140,          1,         25,         25,2,20090428,       2147,   -32.8560,    92.3776,       4597,   508.7,  10.1093,  34.7919,2,  34.7927,2,    239.5,2,   240.1,2,    4.68,2,   14.24,2,    0.00,2,    1.02,2,   3.573,2,   1.931,2,   1.3090,2,  2125.4,2,  2297.1,2,   7.8756,2,    20.00,-999.000,9,-999.000,9,-999.000,9,  10.1068,2,-999.000,9, -999.00,9, -999.00,-999.000,9,-999.000, -999.00,9, -999.00,9, -32.8557,  92.3784,-999.000,-999.000,20090428,       2323
33RR20090320,        I05,     140,          1,         24,         24,2,20090428,       2147,   -32.8560,    92.3776,       4597,   604.7,   9.5242,  34.7130,2,  34.7153,2,    236.2,2,   236.2,2,    5.37,2,   16.03,2,    0.00,2,    1.14,2,-999.000,9,-999.000,9,-999.0000,9,  -999.0,9,  -999.0,9,-999.0000,9,  -999.00,-999.000,9,-999.000,9,-999.000,9,   9.5281,2,-999.000,9, -999.00,9, -999.00,-999.000,9,-999.000, -999.00,9, -999.00,9, -32.8557,  92.3784,-999.000,-999.000,20090428,       2320
33RR20090320,        I05,     140,          1,         23,         23,2,20090428,       2147,   -32.8560,    92.3776,       4597,   707.3,   8.7521,  34.6161,2,  34.6147,2,    224.4,2,   224.4,2,    7.83,2,   19.24,2,    0.00,2,    1.35,2,-999.000,9,-999.000,9,-999.0000,9,  -999.0,9,  -999.0,9,-999.0000,9,  -999.00,-999.000,9,-999.000,9,-999.000,9,   8.7483,2,-999.000,9, -999.00,9, -999.00,-999.000,9,-999.000, -999.00,9, -999.00,9, -32.8558,  92.3782,-999.000,-999.000,20090428,       2317
33RR20090320,        I05,     140,          1,         22,         22,2,20090428,       2147,   -32.8560,    92.3776,       4597,   808.8,   7.5759,  34.5106,2,  34.5104,2,    207.1,2,   207.5,2,   13.47,2,   23.53,2,    0.00,2,    1.64,2,-999.000,9,-999.000,9,-999.0000,9,  -999.0,9,  -999.0,9,-999.0000,9,  -999.00,-999.000,9,-999.000,9,-999.000,9,   7.5781,2,-999.000,9, -999.00,9, -999.00,-999.000,9,-999.000, -999.00,9, -999.00,9, -32.8558,  92.3782,-999.000,-999.000,20090428,       2314
33RR20090320,        I05,     140,          1,         21,         21,2,20090428,       2147,   -32.8560,    92.3776,       4597,   909.2,   6.2900,  34.4238,2,  34.4244,2,    201.4,2,   200.9,2,   20.56,2,   27.02,2,    0.00,2,    1.88,2,   2.170,2,   1.063,2,   0.3710,2,  2175.5,2,  2290.8,2,   7.7317,2,    20.00,-999.000,9,-999.000,9,-999.000,9,   6.2925,2,-999.000,9, -999.00,9, -999.00,-999.000,9,-999.000, -999.00,9, -999.00,9, -32.8558,  92.3781,-999.000,-999.000,20090428,       2312
33RR20090320,        I05,     140,          1,         20,         20,2,20090428,       2147,   -32.8560,    92.3776,       4597,  1008.8,   5.0162,  34.3806,2,  34.3803,2,    196.2,2,   196.1,2,   31.25,2,   30.07,2,    0.00,2,    2.11,2,-999.000,9,-999.000,9,-999.0000,9,  -999.0,9,  -999.0,9,-999.0000,9,  -999.00,-999.000,9,-999.000,9,-999.000,9,   5.0203,2,-999.000,9, -999.00,9, -999.00,-999.000,9,-999.000, -999.00,9, -999.00,9, -32.8559,  92.3780,-999.000,-999.000,20090428,       2309
33RR20090320,        I05,     140,          1,         19,         19,2,20090428,       2147,   -32.8560,    92.3776,       4597,  1106.8,   4.3596,  34.3953,2,  34.3958,2,    187.8,2,   185.5,2,   41.99,2,   31.87,2,    0.00,2,    2.26,2,-999.000,9,-999.000,9,-999.0000,9,  -999.0,9,  -999.0,9,-999.0000,9,  -999.00,-999.000,9,-999.000,9,-999.000,9,   4.3552,2,-999.000,9, -999.00,9, -999.00,-999.000,9,-999.000, -999.00,9, -999.00,9, -32.8560,  92.3780,-999.000,-999.000,20090428,       2306
33RR20090320,        I05,     140,          1,         18,         18,2,20090428,       2147,   -32.8560,    92.3776,       4597,  1209.1,   3.8934,  34.4387,2,  34.4386,2,    173.3,2,   171.6,2,   54.38,2,   33.27,2,    0.00,2,    2.39,2,-999.000,9,-999.000,9,-999.0000,9,  -999.0,9,  -999.0,9,-999.0000,9,  -999.00,-999.000,9,-999.000,9,-999.000,9,   3.8916,2,-999.000,9, -999.00,9, -999.00,-999.000,9,-999.000, -999.00,9, -999.00,9, -32.8561,  92.3779,-999.000,-999.000,20090428,       2303
33RR20090320,        I05,     140,          1,         17,         17,2,20090428,       2147,   -32.8560,    92.3776,       4597,  1305.3,   3.6499,  34.4805,2,  34.4792,2,    161.0,2,   162.3,2,   63.04,2,   34.15,2,    0.00,2,    2.46,2,   0.342,2,   0.168,2,   0.1010,2,  2245.0,2,  2329.9,2,   7.6367,2,    20.00,-999.000,9,-999.000,9,-999.000,9,   3.6478,2,-999.000,9, -999.00,9, -999.00,-999.000,9,-999.000, -999.00,9, -999.00,9, -32.8562,  92.3778,-999.000,-999.000,20090428,       2301
33RR20090320,        I05,     140,          1,         16,         16,2,20090428,       2147,   -32.8560,    92.3776,       4597,  1410.0,   3.3880,  34.5306,2,  34.5299,2,    155.1,2,   154.7,2,   71.90,2,   34.62,2,    0.00,2,    2.50,2,-999.000,9,-999.000,9,-999.0000,9,  -999.0,9,  -999.0,9,-999.0000,9,  -999.00,-999.000,9,-999.000,9,-999.000,9,   3.3879,2,-999.000,9, -999.00,9, -999.00,-999.000,9,-999.000, -999.00,9, -999.00,9, -32.8561,  92.3778,-999.000,-999.000,20090428,       2258
33RR20090320,        I05,     140,          1,         15,         15,2,20090428,       2147,   -32.8560,    92.3776,       4597,  1512.4,   3.2243,  34.5656,2,  34.5644,2,    152.8,2,   153.3,2,   76.95,2,   34.62,2,    0.00,2,    2.50,2,   0.099,2,   0.049,2,   0.0000,2,  2261.5,2,  2342.8,2,   7.6278,2,    20.00,-999.000,9,-999.000,9,-999.000,9,   3.2253,2,-999.000,9, -999.00,9, -999.00,-999.000,9,-999.000, -999.00,9, -999.00,9, -32.8562,  92.3776,-999.000,-999.000,20090428,       2255
33RR20090320,        I05,     140,          1,         14,         14,2,20090428,       2147,   -32.8560,    92.3776,       4597,  1613.0,   3.0660,  34.5927,2,  34.5925,2,    152.9,2,   153.5,2,   80.39,2,   34.56,2,    0.00,2,    2.49,2,-999.000,9,-999.000,9,-999.0000,9,  -999.0,9,  -999.0,9,-999.0000,9,  -999.00,-999.000,9,-999.000,9,-999.000,9,   3.0679,2,-999.000,9, -999.00,9, -999.00,-999.000,9,-999.000, -999.00,9, -999.00,9, -32.8562,  92.3776,-999.000,-999.000,20090428,       2252
33RR20090320,        I05,     140,          1,         13,         13,2,20090428,       2147,   -32.8560,    92.3776,       4597,  1812.0,   2.7244,  34.6519,2,  34.6501,2,    160.0,2,   160.7,2,   85.82,2,   33.73,2,    0.00,2,    2.42,2,   0.052,2,   0.024,2,   0.0000,2,  2266.7,2,  2352.4,2,   7.6399,2,    20.00,-999.000,9,-999.000,9,-999.000,9,   2.7246,2,-999.000,9, -999.00,9, -999.00,-999.000,9,-999.000, -999.00,9, -999.00,9, -32.8563,  92.3777,-999.000,-999.000,20090428,       2248
33RR20090320,        I05,     140,          1,         12,         12,2,20090428,       2147,   -32.8560,    92.3776,       4597,  2013.7,   2.5057,  34.6888,2,  34.6876,2,    168.8,2,   168.5,2,   87.80,2,   32.90,2,    0.00,2,    2.35,2,-999.000,9,-999.000,9,-999.0000,9,  -999.0,9,  -999.0,9,-999.0000,9,  -999.00,-999.000,9,-999.000,9,-999.000,9,   2.5055,2,-999.000,9, -999.00,9, -999.00,-999.000,9,-999.000, -999.00,9, -999.00,9, -32.8563,  92.3781,-999.000,-999.000,20090428,       2243
33RR20090320,        I05,     140,          1,         11,         11,2,20090428,       2147,   -32.8560,    92.3776,       4597,  2268.7,   2.2256,  34.7273,2,  34.7270,2,    183.6,2,   182.9,2,   87.40,2,   31.35,2,    0.00,2,    2.23,2,-999.000,9,-999.000,9,-999.0000,9,  -999.0,9,  -999.0,9,-999.0000,9,  -999.00,-999.000,9,-999.000,9,-999.000,9,   2.2271,2,-999.000,9, -999.00,9, -999.00,-999.000,9,-999.000, -999.00,9, -999.00,9, -32.8561,  92.3781,-999.000,-999.000,20090428,       2238
33RR20090320,        I05,     140,          1,         10,         10,2,20090428,       2147,   -32.8560,    92.3776,       4597,  2517.0,   1.9853,  34.7435,2,  34.7413,2,    191.1,2,   191.8,2,   91.39,2,   30.72,2,    0.00,2,    2.18,2,   0.026,2,   0.012,2,   0.0000,2,  2253.5,2,  2353.3,2,   7.6838,2,    20.00,-999.000,9,-999.000,9,-999.000,9,   1.9861,2,-999.000,9, -999.00,9, -999.00,-999.000,9,-999.000, -999.00,9, -999.00,9, -32.8560,  92.3783,-999.000,-999.000,20090428,       2233
33RR20090320,        I05,     140,          1,          9,          9,2,20090428,       2147,   -32.8560,    92.3776,       4597,  2770.7,   1.7445,  34.7428,2,  34.7421,2,    196.1,2,   196.3,2,   97.75,2,   30.77,2,    0.00,2,    2.18,2,-999.000,9,-999.000,9,-999.0000,9,  -999.0,9,  -999.0,9,-999.0000,9,  -999.00,-999.000,9,-999.000,9,-999.000,9,   1.7437,2,-999.000,9, -999.00,9, -999.00,-999.000,9,-999.000, -999.00,9, -999.00,9, -32.8560,  92.3784,-999.000,-999.000,20090428,       2227
33RR20090320,        I05,     140,          1,          8,          8,2,20090428,       2147,   -32.8560,    92.3776,       4597,  3026.7,   1.4960,  34.7356,2,  34.7343,2,    198.9,2,   198.7,2,  105.60,2,   31.13,2,    0.00,2,    2.21,2,-999.000,9,-999.000,9,-999.0000,9,  -999.0,9,  -999.0,9,-999.0000,9,  -999.00,-999.000,9,-999.000,9,-999.000,9,   1.4972,2,-999.000,9, -999.00,9, -999.00,-999.000,9,-999.000, -999.00,9, -999.00,9, -32.8559,  92.3784,-999.000,-999.000,20090428,       2222
33RR20090320,        I05,     140,          1,          7,          7,2,20090428,       2147,   -32.8560,    92.3776,       4597,  3329.4,   1.3107,  34.7288,2,  34.7274,2,    201.5,2,   201.7,2,  110.90,2,   31.45,2,    0.00,2,    2.23,2,-999.000,9,-999.000,9,-999.0000,9,  -999.0,9,  -999.0,9,-999.0000,9,  -999.00,-999.000,9,-999.000,9,-999.000,9,   1.3108,2,-999.000,9, -999.00,9, -999.00,-999.000,9,-999.000, -999.00,9, -999.00,9, -32.8558,  92.3783,-999.000,-999.000,20090428,       2216
33RR20090320,        I05,     140,          1,          6,          6,2,20090428,       2147,   -32.8560,    92.3776,       4597,  3631.9,   1.1829,  34.7219,2,  34.7215,2,    203.1,2,   203.0,2,  115.27,2,   31.65,2,    0.00,2,    2.24,2,-999.000,9,-999.000,9,-999.0000,9,  -999.0,9,  -999.0,9,-999.0000,9,  -999.00,-999.000,9,-999.000,9,-999.000,9,   1.1828,2,-999.000,9, -999.00,9, -999.00,-999.000,9,-999.000, -999.00,9, -999.00,9, -32.8555,  92.3782,-999.000,-999.000,20090428,       2209
33RR20090320,        I05,     140,          1,          5,          5,2,20090428,       2147,   -32.8560,    92.3776,       4597,  3934.2,   1.1232,  34.7181,2,  34.7174,2,    203.9,2,   203.9,2,  118.18,2,   31.91,2,    0.00,2,    2.25,2,   0.023,2,   0.012,2,   0.0000,2,  2268.2,2,  2372.3,2,   7.6914,2,    20.00,-999.000,9,-999.000,9,-999.000,9,   1.1231,2,-999.000,9, -999.00,9, -999.00,-999.000,9,-999.000, -999.00,9, -999.00,9, -32.8554,  92.3782,-999.000,-999.000,20090428,       2203
33RR20090320,        I05,     140,          1,          4,          4,2,20090428,       2147,   -32.8560,    92.3776,       4597,  4242.8,   1.1069,  34.7159,2,  34.7156,2,    204.4,2,   204.4,2,  119.25,2,   31.90,2,    0.00,2,    2.26,2,-999.000,9,-999.000,9,-999.0000,9,  -999.0,9,  -999.0,9,-999.0000,9,  -999.00,-999.000,9,-999.000,9,-999.000,9,   1.1071,2,-999.000,9, -999.00,9, -999.00,-999.000,9,-999.000, -999.00,9, -999.00,9, -32.8556,  92.3781,-999.000,-999.000,20090428,       2157
33RR20090320,        I05,     140,          1,          3,          3,2,20090428,       2147,   -32.8560,    92.3776,       4597,  4549.6,   1.1214,  34.7145,2,  34.7146,2,    205.2,2,   204.4,2,  119.78,2,   31.96,2,    0.00,2,    2.26,2,   0.030,6,   0.017,6,   0.0000,6,  -999.0,9,  -999.0,9,-999.0000,9,  -999.00,-999.000,9,-999.000,9,-999.000,9,   1.1210,2,-999.000,9, -999.00,9, -999.00,-999.000,9,-999.000, -999.00,9, -999.00,9, -32.8558,  92.3778,-999.000,-999.000,20090428,       2151
33RR20090320,        I05,     140,          1,          2,          2,2,20090428,       2147,   -32.8560,    92.3776,       4597,  4603.0,   1.1265,  34.7150,2,  34.7144,2,    205.3,2,   204.9,2,  119.93,2,   31.96,2,    0.00,2,    2.25,2,-999.000,9,-999.000,9,-999.0000,9,  -999.0,9,  -999.0,9,-999.0000,9,  -999.00,-999.000,9,-999.000,9,-999.000,9,   1.1268,2,-999.000,9, -999.00,9, -999.00,-999.000,9,-999.000, -999.00,9, -999.00,9, -32.8559,  92.3777,-999.000,-999.000,20090428,       2149
33RR20090320,        I05,     140,          1,          1,          1,2,20090428,       2147,   -32.8560,    92.3776,       4597,  4662.0,   1.1311,  34.7141,2,  34.7146,2,    204.2,2,   204.9,2,  119.71,2,   31.96,2,    0.00,2,    2.26,2,   0.031,2,   0.018,2,   0.0000,2,  2269.5,6,  2376.4,2,   7.6921,2,    20.00,-999.000,9,-999.000,9,-999.000,9,   1.1305,2,-999.000,9, -999.00,9, -999.00,-999.000,9,-999.000, -999.00,9, -999.00,9, -32.8560,  92.3776,-999.000,-999.000,20090428,       2147