BOTTLE,20220814CCHSIOAMB
EXPOCODE,SECT_ID,STNNBR,CASTNO,SAMPNO,BTLNBR,BTLNBR_FLAG_W,DATE,TIME,LATITUDE,LONGITUDE,DEPTH,CTDPRS,CTDTMP,CTDSAL,CTDSAL_FLAG_W,SALNTY,SALNTY_FLAG_W,CTDOXY,CTDOXY_FLAG_W,OXYGEN,OXYGEN_FLAG_W,SILCAT,SILCAT_FLAG_W,NITRAT,NITRAT_FLAG_W,NITRIT,NITRIT_FLAG_W,PHSPHT,PHSPHT_FLAG_W,CFC-11,CFC-11_FLAG_W,CFC-12,CFC-12_FLAG_W,SF6,SF6_FLAG_W,TCARBN,TCARBN_FLAG_W,ALKALI,ALKALI_FLAG_W,PH_TOT,PH_TOT_FLAG_W,PH_TMP,TRITUM,TRITUM_FLAG_W,HELIUM,HELIUM_FLAG_W,DELHE3,DELHE3_FLAG_W,REFTMP,REFTMP_FLAG_W,DELC13,DELC13_FLAG_W,DELC14,DELC14_FLAG_W,C14ERR,NEON,NEON_FLAG_W,NEONER,DOC,DOC_FLAG_W,TDN,TDN_FLAG_W,BTL_LAT,BTL_LON,HELIER,DELHER,BTL_DATE,BTL_TIME
,,,,,,,,,,,METERS,DBAR,ITS-90,PSS-78,,PSS-78,,UMOL/KG,,UMOL/KG,,UMOL/KG,,UMOL/KG,,UMOL/KG,,UMOL/KG,,PMOL/KG,,PMOL/KG,,FMOL/KG,,UMOL/KG,,UMOL/KG,,,,DEG C,TU,,NMOL/KG,,PERCNT,,DEG C,,/MILLE,,/MILLE,,/MILLE,NMOL/KG,,NMOL/KG,UMOL/KG,,UMOL/KG,,,,NMOL/KG,PERCNT,,
33RR20090320,        I05,     175,          2,         36,         36,2,20090507,       1110,   -31.1567,   106.0456,       5155,     3.0,  20.1473,  35.9676,2,  35.9689,2,    226.8,2,   227.5,2,    1.93,2,    0.12,2,    0.00,2,    0.09,2,   2.143,2,   1.285,2,   1.1490,2,  2062.3,6,  2361.6,2,   8.1069,2,    20.00,   0.542,2,-999.000,9,-999.000,9,  20.1471,2,    1.09,2,   39.57,2,     2.9,-999.000,9,-999.000,   67.46,2,    4.35,2, -31.1567, 106.0456,-999.000,-999.000,20090507,       1322
33RR20090320,        I05,     175,          2,         35,         35,2,20090507,       1110,   -31.1567,   106.0456,       5155,    20.6,  19.9447,  35.9653,2,  35.9654,2,    227.7,2,   227.3,2,    1.71,2,    0.12,2,    0.00,2,    0.09,2,   2.138,6,   1.293,6,   1.1630,6,  2061.1,2,  2360.2,2,   8.1051,2,    20.00,   0.566,2,-999.000,9,-999.000,9,  19.9431,2,-999.000,9, -999.00,9, -999.00,-999.000,9,-999.000,   68.07,2,    4.46,2, -31.1567, 106.0456,-999.000,-999.000,20090507,       1321
33RR20090320,        I05,     175,          2,         34,         34,2,20090507,       1110,   -31.1567,   106.0456,       5155,    41.2,  19.6500,  35.9499,2,  35.9496,2,    229.8,2,   228.3,2,    1.68,2,    0.12,2,    0.00,2,    0.09,2,   2.170,2,   1.302,2,   1.1870,2,  2062.0,2,  2359.1,2,   8.1022,2,    20.00,   0.535,2,-999.000,9,-999.000,9,  19.6442,2,-999.000,9, -999.00,9, -999.00,-999.000,9,-999.000,   66.60,2,    4.70,2, -31.1567, 106.0456,-999.000,-999.000,20090507,       1319
33RR20090320,        I05,     175,          2,         33,         33,2,20090507,       1110,   -31.1567,   106.0456,       5155,    65.6,  19.1268,  35.9005,2,  35.9002,2,    232.4,2,   233.2,2,    1.46,2,    0.12,2,    0.00,2,    0.10,2,   2.275,2,   1.358,2,   1.2780,2,  2068.7,2,  2357.1,2,   8.0884,2,    20.00,   0.500,2,-999.000,9,-999.000,9,  19.1346,2,-999.000,9, -999.00,9, -999.00,-999.000,9,-999.000,   63.97,2,    5.34,2, -31.1566, 106.0456,-999.000,-999.000,20090507,       1317
33RR20090320,        I05,     175,          2,         32,         32,2,20090507,       1110,   -31.1567,   106.0456,       5155,    90.7,  16.7974,  35.7064,2,  35.7069,2,    243.9,2,   242.6,2,    1.24,2,    0.20,2,    0.03,2,    0.15,2,   2.573,2,   1.505,2,   1.3780,2,  2074.6,2,  2347.0,2,   8.0609,2,    20.00,   0.460,2,-999.000,9,-999.000,9,  16.7960,2,   1.211,2,   41.33,2,       3,-999.000,9,-999.000,   57.94,2,    4.87,2, -31.1566, 106.0457,-999.000,-999.000,20090507,       1315
33RR20090320,        I05,     175,          2,         31,         31,2,20090507,       1110,   -31.1567,   106.0456,       5155,   135.2,  15.3510,  35.6501,2,  35.6473,2,    232.5,2,   232.2,2,    1.40,2,    2.25,2,    0.04,2,    0.28,2,   2.701,2,   1.580,2,   1.3230,2,  2098.2,2,  2341.0,2,   8.0179,2,    20.00,   0.464,2,-999.000,9,-999.000,9,  15.3445,2,-999.000,9, -999.00,9, -999.00,-999.000,9,-999.000,   52.73,2,    5.03,2, -31.1566, 106.0456,-999.000,-999.000,20090507,       1313
33RR20090320,        I05,     175,          2,         30,         30,2,20090507,       1110,   -31.1567,   106.0456,       5155,   185.2,  13.9936,  35.4397,2,  35.4394,2,    233.1,2,   234.0,2,    1.36,2,    4.72,2,    0.01,2,    0.42,2,   2.906,2,   1.676,2,   1.3550,2,  2102.6,2,  2331.9,2,   7.9844,2,    20.00,-999.000,9,-999.000,9,-999.000,9,  13.9920,2,   1.178,2,   44.34,2,       4,-999.000,9,-999.000,   50.76,2,    7.65,2, -31.1566, 106.0457,-999.000,-999.000,20090507,       1311
33RR20090320,        I05,     175,          2,         29,         29,2,20090507,       1110,   -31.1567,   106.0456,       5155,   235.3,  12.9853,  35.2619,2,  35.2628,2,    235.6,2,   236.3,2,    1.69,2,    6.63,2,    0.01,2,    0.55,2,   3.065,2,   1.753,2,   1.3470,2,  2109.4,2,  2322.2,2,   7.9572,2,    20.00,   0.352,2,-999.000,9,-999.000,9,  12.9856,2,   1.243,2,    41.1,2,     4.1,-999.000,9,-999.000,   49.19,2,    8.54,2, -31.1566, 106.0457,-999.000,-999.000,20090507,       1309
33RR20090320,        I05,     175,          2,         28,         28,2,20090507,       1110,   -31.1567,   106.0456,       5155,   284.8,  11.8539,  35.0627,2,  35.0631,2,    238.2,2,   237.6,2,    2.02,2,    9.18,2,    0.00,2,    0.70,2,   3.294,2,   1.849,2,   1.3530,2,  2114.6,2,  2310.8,2,   7.9258,2,    20.00,   0.362,2,-999.000,9,-999.000,9,  11.8513,2,   1.289,2,   41.75,2,     3.4,-999.000,9,-999.000,   47.72,2,   10.59,2, -31.1566, 106.0457,-999.000,-999.000,20090507,       1307
33RR20090320,        I05,     175,          2,         27,         27,2,20090507,       1110,   -31.1567,   106.0456,       5155,   335.4,  10.9415,  34.9074,2,  34.9109,2,    244.5,2,   244.0,2,    2.54,2,   11.08,2,    0.00,2,    0.82,2,   3.457,2,   1.922,2,   1.4330,2,  2116.2,2,  2301.5,2,   7.9062,2,    20.00,   0.348,2,   1.827,2,  -1.451,2,  10.9564,2,    1.31,2,   39.85,2,     3.9,   7.721,2,   0.008,   46.83,2,   12.30,2, -31.1567, 106.0458,   0.001,   0.199,20090507,       1305
33RR20090320,        I05,     175,          2,         26,         26,2,20090507,       1110,   -31.1567,   106.0456,       5155,   384.6,  10.3133,  34.8048,2,  34.8055,2,    243.4,2,   243.9,2,    3.06,2,   12.88,2,    0.00,2,    0.93,2,   3.584,2,   1.973,2,   1.3890,2,  2120.8,2,  2296.8,2,   7.8863,2,    20.00,   0.293,2,   1.889,2,  -1.330,2,  10.3123,2,   1.254,2,   44.45,2,     3.9,   8.025,2,   0.010,   45.90,2,   14.11,2, -31.1567, 106.0457,   0.001,   0.199,20090507,       1303
33RR20090320,        I05,     175,          2,         25,         25,2,20090507,       1110,   -31.1567,   106.0456,       5155,   465.1,   9.7118,  34.7303,2,  34.7310,2,    241.8,2,   241.6,2,    3.76,2,   14.95,2,    0.00,2,    1.05,2,   3.703,2,   1.999,2,   1.3240,2,  2126.5,2,  2292.2,2,   7.8620,2,    20.00,   0.260,2,   1.880,2,  -1.337,2,   9.7109,2,   1.181,2,   37.64,2,     3.6,   7.949,2,   0.009,   45.22,2,   15.94,2, -31.1567, 106.0457,   0.001,   0.201,20090507,       1300
33RR20090320,        I05,     175,          2,         24,         24,2,20090507,       1110,   -31.1567,   106.0456,       5155,   564.7,   9.1365,  34.6598,2,  34.6589,2,    240.2,2,   240.6,2,    4.64,2,   16.79,2,    0.00,2,    1.17,2,   3.733,2,   1.995,2,   1.2280,2,  2131.8,2,  2290.6,2,   7.8447,2,    20.00,   0.228,2,   1.841,2,  -0.690,2,   9.1366,2,   1.164,2,    43.7,2,     2.8,   7.859,2,   0.008,   44.30,2,   18.10,2, -31.1567, 106.0456,   0.001,   0.199,20090507,       1257
33RR20090320,        I05,     175,          2,         23,         23,2,20090507,       1110,   -31.1567,   106.0456,       5155,   664.7,   8.5158,  34.5811,2,  34.5827,2,    230.9,2,   231.5,2,    6.63,2,   19.24,2,    0.00,2,    1.34,2,   3.477,2,   1.816,2,   0.9630,2,  2139.3,2,  2288.2,2,   7.8199,2,    20.00,   0.195,2,-999.000,9,-999.000,9,   8.5143,2,   1.181,2,   26.97,2,       3,-999.000,9,-999.000,   43.63,2,   20.30,2, -31.1567, 106.0456,-999.000,-999.000,20090507,       1255
33RR20090320,        I05,     175,          2,         22,         22,2,20090507,       1110,   -31.1567,   106.0456,       5155,   764.7,   7.2618,  34.4800,2,  34.4798,2,    204.4,2,   203.8,2,   14.15,2,   24.65,2,    0.00,2,    1.70,2,   2.438,2,   1.229,2,   0.5360,2,  2163.5,2,  2289.2,2,   7.7556,2,    20.00,   0.113,2,   1.886,2,   1.572,2,   7.2599,2,   1.087,2,      -7,2,     3.3,   8.070,2,   0.009,   42.72,2,   26.37,2, -31.1567, 106.0456,   0.001,   0.199,20090507,       1252
33RR20090320,        I05,     175,          2,         21,         21,2,20090507,       1110,   -31.1567,   106.0456,       5155,   864.9,   5.5886,  34.3952,2,  34.3961,2,    196.1,2,   196.2,2,   25.21,2,   28.88,2,    0.00,2,    1.99,2,   1.744,6,   0.853,6,   0.2890,6,  2187.3,2,  2292.4,2,   7.7060,2,    20.00,   0.071,2,   1.881,2,   3.301,2,   5.5873,2,   0.973,2,  -51.07,2,     3.1,   8.113,2,   0.009,   42.05,2,   30.30,2, -31.1568, 106.0456,   0.001,   0.202,20090507,       1249
33RR20090320,        I05,     175,          2,         20,         20,2,20090507,       1110,   -31.1567,   106.0456,       5155,   964.8,   4.5297,  34.3844,2,  34.3859,2,    190.1,2,   190.0,2,   36.89,2,   31.35,2,    0.00,2,    2.19,2,   1.267,2,   0.600,2,   0.1660,2,  2204.2,2,  2304.3,2,   7.6777,2,    20.00,   0.001,2,   1.887,2,   3.989,2,   4.5292,2,-999.000,5, -999.00,9, -999.00,   8.203,2,   0.012,   41.50,2,   33.10,2, -31.1568, 106.0456,   0.001,   0.200,20090507,       1246
33RR20090320,        I05,     175,          2,         19,         19,2,20090507,       1110,   -31.1567,   106.0456,       5155,  1065.7,   3.8297,  34.4188,2,  34.4216,2,    180.5,2,   178.1,2,   50.50,2,   33.16,2,    0.00,2,    2.34,2,   0.784,2,   0.364,2,   0.0690,2,  2224.8,2,  2316.0,2,   7.6512,2,    20.00,-999.000,9,-999.000,9,-999.000,9,   3.8294,2,   0.764,2, -101.86,2,       3,-999.000,9,-999.000,   41.11,2,   35.10,2, -31.1567, 106.0456,-999.000,-999.000,20090507,       1243
33RR20090320,        I05,     175,          2,         18,         18,2,20090507,       1110,   -31.1567,   106.0456,       5155,  1167.0,   3.5384,  34.4836,2,  34.4849,2,    161.4,2,   161.9,2,   63.61,2,   34.38,2,    0.00,2,    2.44,2,   0.381,2,   0.181,2,   0.0000,2,  2244.3,2,  2329.3,2,   7.6309,2,    20.00,-999.000,9,   1.955,2,   8.512,2,   3.5370,2,   0.742,2, -136.21,2,     2.6,   8.414,2,   0.013,   41.13,2,   35.53,2, -31.1568, 106.0457,   0.001,   0.209,20090507,       1241
33RR20090320,        I05,     175,          2,         17,         17,2,20090507,       1110,   -31.1567,   106.0456,       5155,  1266.7,   3.3817,  34.5262,2,  34.5275,2,    154.2,2,   154.4,2,   71.49,2,   34.82,2,    0.00,2,    2.49,2,   0.203,2,   0.099,2,   0.0000,2,  2255.4,2,  2337.6,2,   7.6229,2,    20.00,   0.008,2,   1.979,2,   8.379,2,   3.3794,2,   0.521,2, -147.22,2,     2.3,   8.826,2,   0.010,   41.04,2,   36.00,2, -31.1567, 106.0457,   0.000,   0.195,20090507,       1238
33RR20090320,        I05,     175,          2,         16,         16,2,20090507,       1110,   -31.1567,   106.0456,       5155,  1366.5,   3.0780,  34.5545,2,  34.5563,2,    156.3,2,   157.0,2,   74.67,2,   34.70,2,    0.00,2,    2.48,2,   0.134,2,   0.065,2,   0.0000,2,  2257.7,2,  2341.8,2,   7.6232,2,    20.00,   0.014,2,   1.929,2,   9.267,2,   3.0793,2,   0.536,2, -158.77,2,     2.5,   8.319,2,   0.009,   40.26,2,   36.34,2, -31.1567, 106.0457,   0.001,   0.202,20090507,       1236
33RR20090320,        I05,     175,          2,         15,         15,2,20090507,       1110,   -31.1567,   106.0456,       5155,  1533.2,   2.9084,  34.6115,2,  34.6135,2,    153.8,2,   153.3,2,   82.95,2,   34.64,2,    0.00,2,    2.48,2,   0.048,2,   0.025,2,   0.0000,2,  2266.9,2,  2351.5,2,   7.6251,2,    20.00,   0.014,2,   1.908,2,   9.730,2,   2.9047,2,   0.475,2,  -167.6,2,     2.4,   8.151,2,   0.009,   40.29,2,   36.41,2, -31.1567, 106.0457,   0.000,   0.211,20090507,       1232
33RR20090320,        I05,     175,          2,         14,         14,2,20090507,       1110,   -31.1567,   106.0456,       5155,  1734.1,   2.6505,  34.6730,2,  34.6750,2,    155.8,2,   155.5,2,   92.97,2,   33.98,2,    0.00,2,    2.44,2,   0.012,2,   0.006,2,   0.0000,2,  2276.0,6,  2360.8,2,   7.6357,2,    20.00,   0.029,2,-999.000,9,-999.000,9,   2.6508,2,   0.408,2,  -173.6,2,     2.5,-999.000,9,-999.000,   40.20,2,   35.51,2, -31.1566, 106.0457,-999.000,-999.000,20090507,       1228
33RR20090320,        I05,     175,          2,         13,         13,2,20090507,       1110,   -31.1567,   106.0456,       5155,  1935.2,   2.4393,  34.7012,2,  34.7022,2,    159.9,2,   159.8,2,   98.44,2,   33.63,2,    0.00,2,    2.41,2,   0.006,2,   0.004,2,   0.0000,2,  2276.5,2,  2368.6,2,   7.6446,2,    20.00,   0.001,2,   2.043,2,  11.796,2,   2.4396,2,   0.376,2, -176.38,2,     2.3,   8.897,2,   0.014,   40.23,2,   35.70,2, -31.1566, 106.0457,   0.001,   0.201,20090507,       1223
33RR20090320,        I05,     175,          2,         12,         12,2,20090507,       1110,   -31.1567,   106.0456,       5155,  2162.4,   2.2056,  34.7200,2,  34.7214,2,    162.4,2,   162.8,2,  107.18,2,   33.53,2,    0.00,2,    2.40,2,   0.004,2,   0.003,2,   0.0000,2,  2282.9,2,  2376.3,2,   7.6524,2,    20.00,-999.000,9,-999.000,9,-999.000,9,   2.2052,2,   0.366,2,  -201.7,2,     2.5,-999.000,9,-999.000,   39.93,2,   34.98,2, -31.1565, 106.0457,-999.000,-999.000,20090507,       1218
33RR20090320,        I05,     175,          2,         11,         11,2,20090507,       1110,   -31.1567,   106.0456,       5155,  2414.4,   2.0047,  34.7268,2,  34.7286,3,    169.6,2,   168.9,2,  110.20,2,   33.19,2,    0.00,2,    2.37,2,   0.004,2,   0.003,2,   0.0000,2,  2281.7,2,  2379.5,2,   7.6604,2,    20.00,   0.001,2,-999.000,9,-999.000,9,   2.0044,2,   0.387,2, -184.92,2,     2.2,-999.000,9,-999.000,   40.20,2,   35.05,2, -31.1565, 106.0457,-999.000,-999.000,20090507,       1212
33RR20090320,        I05,     175,          2,         10,         10,2,20090507,       1110,   -31.1567,   106.0456,       5155,  2662.4,   1.8351,  34.7301,2,  34.7317,3,    176.6,2,   176.9,2,  110.74,2,   32.69,2,    0.00,2,    2.32,2,   0.003,2,   0.003,2,   0.0000,2,  2278.3,2,  2377.5,2,   7.6689,2,    20.00,   0.013,2,   2.060,2,  13.311,2,   1.8346,2,   0.439,2, -187.51,2,     2.6,   9.083,2,   0.011,   39.96,2,   34.32,2, -31.1565, 106.0457,   0.000,   0.210,20090507,       1206
33RR20090320,        I05,     175,          2,          9,          9,2,20090507,       1110,   -31.1567,   106.0456,       5155,  2914.8,   1.6658,  34.7307,2,  34.7316,2,    183.0,2,   183.1,2,  112.24,2,   32.41,2,    0.00,2,    2.30,2,   0.005,6,   0.003,6,   0.0000,6,  2278.8,2,  2378.6,2,   7.6752,2,    20.00,   0.048,2,   1.987,2,  12.303,2,   1.6660,2,   0.461,2, -186.67,2,     2.3,   8.915,2,   0.011,   40.33,2,   34.18,2, -31.1565, 106.0458,   0.000,   0.198,20090507,       1200
33RR20090320,        I05,     175,          2,          8,          8,2,20090507,       1110,   -31.1567,   106.0456,       5155,  3198.2,   1.4991,  34.7285,2,  34.7304,3,    188.3,2,   188.5,2,  114.70,2,   32.24,2,    0.00,2,    2.28,2,   0.006,2,   0.003,2,   0.0000,2,  2275.7,2,  2376.9,2,   7.6787,2,    20.00,   0.001,2,   2.008,2,  11.960,2,   1.4988,2,   0.488,2, -183.16,2,     2.2,   9.000,2,   0.011,   40.21,2,   33.82,2, -31.1566, 106.0457,   0.000,   0.197,20090507,       1153
33RR20090320,        I05,     175,          2,          7,          7,2,20090507,       1110,   -31.1567,   106.0456,       5155,  3497.5,   1.3566,  34.7243,2,  34.7252,2,    192.3,2,   191.9,2,  117.92,2,   32.30,2,    0.00,2,    2.28,2,   0.006,2,   0.004,2,   0.0000,2,  2276.9,2,  2378.7,2,   7.6818,2,    20.00,-999.000,9,   1.979,2,  11.588,2,   1.3566,2,   0.473,2, -191.44,2,     2.4,   8.858,2,   0.010,   39.79,2,   33.52,2, -31.1566, 106.0457,   0.000,   0.201,20090507,       1147
33RR20090320,        I05,     175,          2,          6,          6,2,20090507,       1110,   -31.1567,   106.0456,       5155,  3796.9,   1.2462,  34.7199,2,  34.7215,3,    194.7,2,   194.6,2,  121.14,2,   32.40,2,    0.00,2,    2.29,2,   0.006,2,   0.004,2,   0.0000,2,  2277.5,2,  2379.3,2,   7.6844,2,    20.00,-999.000,9,   1.979,2,  10.633,2,   1.2453,2,   0.494,2, -181.75,2,     2.4,   8.877,2,   0.010,   39.90,2,   33.79,2, -31.1566, 106.0457,   0.000,   0.200,20090507,       1140
33RR20090320,        I05,     175,          2,          5,          5,2,20090507,       1110,   -31.1567,   106.0456,       5155,  4163.1,   1.1429,  34.7159,2,  34.7174,3,    199.3,2,   199.1,2,  122.26,2,   32.35,2,    0.00,2,    2.28,2,   0.012,2,   0.007,2,   0.0000,2,  2274.6,2,  2379.0,2,   7.6866,2,    20.00,-999.000,9,-999.000,9,-999.000,9,   1.1430,2,   0.529,2, -174.14,2,     2.6,-999.000,9,-999.000,   39.93,2,   34.17,2, -31.1567, 106.0456,-999.000,-999.000,20090507,       1133
33RR20090320,        I05,     175,          2,          4,          4,2,20090507,       1110,   -31.1567,   106.0456,       5155,  4564.8,   1.0285,  34.7103,2,  34.7121,3,    204.5,2,   204.5,2,  122.80,2,   32.23,2,    0.00,2,    2.27,2,   0.024,2,   0.015,2,   0.0000,2,  2269.9,2,  2376.3,2,   7.6853,2,    20.00,-999.000,9,-999.000,9,-999.000,9,   1.0282,2,   0.547,2, -168.47,2,     2.4,-999.000,9,-999.000,   39.72,2,   33.70,2, -31.1567, 106.0457,-999.000,-999.000,20090507,       1125
33RR20090320,        I05,     175,          2,          3,          3,2,20090507,       1110,   -31.1567,   106.0456,       5155,  4870.5,   1.0243,  34.7089,2,  34.7100,3,    205.7,2,   205.9,2,  123.16,2,   32.23,2,    0.00,2,    2.27,2,   0.034,6,   0.020,6,   0.0000,6,  -999.0,5,  2374.6,2,   7.6842,2,    20.00,   0.027,2,   2.039,2,   9.992,2,   1.0246,2,   0.553,2, -171.63,2,     2.6,   9.075,2,   0.011,   39.68,2,   34.10,2, -31.1567, 106.0456,   0.000,   0.200,20090507,       1119
33RR20090320,        I05,     175,          2,          2,          2,2,20090507,       1110,   -31.1567,   106.0456,       5155,  5106.5,   1.0355,  34.7081,2,  34.7104,3,    207.1,2,   205.8,2,  123.33,2,   32.23,2,    0.00,2,    2.27,2,   0.041,2,   0.023,2,   0.0000,2,  -999.0,5,  2372.1,2,   7.6838,2,    20.00,-999.000,9,   2.046,2,  10.392,2,   1.0358,2,   0.532,2, -167.69,2,     2.9,   9.179,2,   0.011,   39.76,2,   33.46,2, -31.1567, 106.0457,   0.000,   0.199,20090507,       1114
33RR20090320,        I05,     175,          2,          1,          1,2,20090507,       1110,   -31.1567,   106.0456,       5155,  5239.2,   1.0436,  34.7076,2,  34.7091,3,    206.1,2,   206.7,2,  123.48,2,   32.22,2,    0.00,2,    2.27,2,   0.046,2,   0.025,2,   0.0000,2,  2273.0,6,  2373.1,2,   7.6836,2,    20.00,   0.000,2,-999.000,9,-999.000,9,   1.0439,2,   0.438,2, -166.42,2,     2.6,-999.000,9,-999.000,   39.93,2,   34.18,2, -31.1567, 106.0456,-999.000,-999.000,20090507,       1110