BOTTLE,20220814CCHSIOAMB
EXPOCODE,SECT_ID,STNNBR,CASTNO,SAMPNO,BTLNBR,BTLNBR_FLAG_W,DATE,TIME,LATITUDE,LONGITUDE,DEPTH,CTDPRS,CTDTMP,CTDSAL,CTDSAL_FLAG_W,SALNTY,SALNTY_FLAG_W,CTDOXY,CTDOXY_FLAG_W,OXYGEN,OXYGEN_FLAG_W,SILCAT,SILCAT_FLAG_W,NITRAT,NITRAT_FLAG_W,NITRIT,NITRIT_FLAG_W,PHSPHT,PHSPHT_FLAG_W,CFC-11,CFC-11_FLAG_W,CFC-12,CFC-12_FLAG_W,SF6,SF6_FLAG_W,TCARBN,TCARBN_FLAG_W,ALKALI,ALKALI_FLAG_W,PH_TOT,PH_TOT_FLAG_W,PH_TMP,TRITUM,TRITUM_FLAG_W,HELIUM,HELIUM_FLAG_W,DELHE3,DELHE3_FLAG_W,REFTMP,REFTMP_FLAG_W,DELC13,DELC13_FLAG_W,DELC14,DELC14_FLAG_W,C14ERR,NEON,NEON_FLAG_W,NEONER,DOC,DOC_FLAG_W,TDN,TDN_FLAG_W,BTL_LAT,BTL_LON,HELIER,DELHER,BTL_DATE,BTL_TIME
,,,,,,,,,,,METERS,DBAR,ITS-90,PSS-78,,PSS-78,,UMOL/KG,,UMOL/KG,,UMOL/KG,,UMOL/KG,,UMOL/KG,,UMOL/KG,,PMOL/KG,,PMOL/KG,,FMOL/KG,,UMOL/KG,,UMOL/KG,,,,DEG C,TU,,NMOL/KG,,PERCNT,,DEG C,,/MILLE,,/MILLE,,/MILLE,NMOL/KG,,NMOL/KG,UMOL/KG,,UMOL/KG,,,,NMOL/KG,PERCNT,,
33RR20090320,        I05,      26,          1,         36,         36,2,20090329,       1023,   -32.9978,    36.9490,       5021,     5.5,  25.5999,  35.5459,2,  35.5462,2,    204.8,2,   205.8,2,    1.68,2,    0.11,2,    0.00,2,    0.04,2,   1.683,2,   1.065,2,   0.9410,2,  1997.2,6,  2328.1,2,   8.1674,2,    20.00,   0.570,2,   1.865,2,  -1.366,2,  25.5971,2,    1.09,2,   33.68,2,     2.9,   7.479,2,   0.011,   67.41,2,    5.09,2, -32.9978,  36.9494,   0.000,   0.197,20090329,       1234
33RR20090320,        I05,      26,          1,         35,         35,2,20090329,       1023,   -32.9978,    36.9490,       5021,    26.6,  25.4490,  35.5290,2,  35.5326,2,    208.1,2,   207.8,2,    1.67,2,    0.06,2,    0.00,2,    0.03,2,   1.695,2,   1.069,2,   0.9260,2,  1996.6,2,  2326.8,2,   8.1678,2,    20.00,   0.545,2,   1.818,2,  -0.966,2,  25.4480,2,-999.000,9, -999.00,9, -999.00,   7.185,2,   0.012,   67.24,2,    4.97,2, -32.9978,  36.9495,   0.000,   0.199,20090329,       1232
33RR20090320,        I05,      26,          1,         34,         34,2,20090329,       1023,   -32.9978,    36.9490,       5021,    51.0,  24.9619,  35.5580,2,  35.5585,2,    209.7,2,   208.1,2,    1.66,2,    0.05,2,    0.00,2,    0.03,2,   1.724,2,   1.067,2,   0.9420,2,  2000.9,2,  2329.1,2,   8.1609,2,    20.00,   0.547,2,   1.881,2,  -1.850,2,  24.9598,2,-999.000,9, -999.00,9, -999.00,   7.282,2,   0.007,   67.07,2,    4.60,2, -32.9979,  36.9494,   0.000,   0.183,20090329,       1231
33RR20090320,        I05,      26,          1,         33,         33,2,20090329,       1023,   -32.9978,    36.9490,       5021,    75.6,  21.9565,  35.4564,2,  35.4604,2,    209.8,2,   209.0,2,    2.42,2,    0.36,2,    0.02,2,    0.14,2,   1.988,2,   1.201,2,   1.0400,2,  2036.2,2,  2323.7,2,   8.1022,2,    20.00,   0.524,2,   1.827,2,  -0.576,2,  21.9157,2,   0.924,2,   40.45,2,     2.8,   7.191,2,   0.007,   58.24,2,    4.25,2, -32.9979,  36.9494,   0.000,   0.183,20090329,       1230
33RR20090320,        I05,      26,          1,         32,         32,2,20090329,       1023,   -32.9978,    36.9490,       5021,   101.2,  20.4819,  35.5092,2,  35.5119,2,    201.5,2,   199.8,2,    2.99,2,    2.17,2,    0.11,2,    0.25,2,   2.100,2,   1.272,2,   0.9660,2,  2057.1,2,  2326.3,2,   8.0681,2,    20.00,-999.000,9,   1.869,2,  -1.069,2,  20.4576,2,-999.000,9, -999.00,9, -999.00,   7.391,2,   0.007,   55.95,2,    5.87,2, -32.9980,  36.9493,   0.000,   0.183,20090329,       1228
33RR20090320,        I05,      26,          1,         31,         31,2,20090329,       1023,   -32.9978,    36.9490,       5021,   151.1,  18.3653,  35.5426,2,  35.5413,2,    198.5,2,   197.8,2,    3.95,2,    3.74,2,    0.01,2,    0.35,2,   2.265,2,   1.351,2,   1.0580,2,  2077.2,2,  2328.9,2,   8.0325,2,    20.00,   0.504,2,   1.912,2,  -0.614,2,  18.3631,2,   0.725,2,   37.34,2,     2.8,   7.591,2,   0.008,   53.54,2,    6.86,2, -32.9981,  36.9492,   0.000,   0.183,20090329,       1226
33RR20090320,        I05,      26,          1,         30,         30,2,20090329,       1023,   -32.9978,    36.9490,       5021,   201.6,  17.2627,  35.5277,2,  35.5241,2,    180.1,2,   193.7,2,    4.90,2,    5.60,2,    0.01,2,    0.47,2,   2.342,2,   1.398,2,   1.0390,2,  2092.8,2,  2327.8,2,   8.0019,2,    20.00,   0.497,2,   1.966,2,  -0.311,2,  17.2556,2,-999.000,9, -999.00,9, -999.00,   7.748,2,   0.009,   51.28,2,    8.77,2, -32.9982,  36.9491,   0.001,   0.171,20090329,       1224
33RR20090320,        I05,      26,          1,         29,         29,2,20090329,       1023,   -32.9978,    36.9490,       5021,   251.4,  16.3309,  35.4645,2,  35.4658,2,    180.2,2,   181.7,2,    6.43,2,    8.16,2,    0.00,2,    0.63,2,   2.381,2,   1.399,2,   0.9380,2,  2109.9,2,  2328.1,2,   7.9636,2,    20.00,   0.455,2,   1.899,2,   0.396,2,  16.3279,2,   0.701,2,   46.14,2,       4,   7.624,2,   0.009,   49.19,2,   10.72,2, -32.9982,  36.9491,   0.000,   0.172,20090329,       1222
33RR20090320,        I05,      26,          1,         28,         28,2,20090329,       1023,   -32.9978,    36.9490,       5021,   301.3,  15.6721,  35.4492,2,  35.4472,2,    189.7,2,   188.2,2,    6.04,2,    8.21,2,    0.00,2,    0.63,2,   2.489,2,   1.452,2,   0.9510,2,  2111.8,2,  2326.0,2,   7.9578,2,    20.00,-999.000,9,   1.814,2,   0.022,2,  15.6685,2,   0.712,2,   43.25,2,     2.9,   7.504,2,   0.013,   47.83,2,   10.37,2, -32.9982,  36.9490,   0.000,   0.211,20090329,       1219
33RR20090320,        I05,      26,          1,         27,         27,2,20090329,       1023,   -32.9978,    36.9490,       5021,   350.8,  14.7522,  35.3992,2,  35.4017,2,    194.6,2,   196.5,2,    5.45,2,    8.70,2,    0.00,2,    0.66,2,   2.661,2,   1.526,2,   0.9800,2,  2115.1,2,  2325.2,2,   7.9477,2,    20.00,   0.418,2,   1.826,2,  -0.362,2,  14.7424,2,   0.801,2,   59.25,2,     2.9,   7.731,2,   0.012,   46.96,2,   10.93,2, -32.9982,  36.9489,   0.000,   0.210,20090329,       1217
33RR20090320,        I05,      26,          1,         26,         26,2,20090329,       1023,   -32.9978,    36.9490,       5021,   401.3,  14.0770,  35.3351,2,  35.3354,2,    197.9,2,   198.0,2,    5.83,2,    9.79,2,    0.00,2,    0.73,2,   2.724,6,   1.551,6,   0.9720,6,  2121.3,2,  2320.2,2,   7.9319,2,    20.00,-999.000,9,   1.830,2,  -0.319,2,  14.0761,2,   0.833,2,   54.69,2,       3,   7.830,2,   0.013,   45.93,2,   11.36,2, -32.9981,  36.9489,   0.001,   0.211,20090329,       1214
33RR20090320,        I05,      26,          1,         25,         25,2,20090329,       1023,   -32.9978,    36.9490,       5021,   499.8,  12.9621,  35.2246,2,  35.2249,2,    212.0,2,   215.8,2,    4.67,2,   10.34,2,    0.00,2,    0.77,2,   2.997,2,   1.684,2,   0.9590,2,  2117.4,2,  2318.2,2,   7.9261,2,    20.00,   0.379,2,   1.879,2,  -0.803,2,  12.9730,2,   0.893,2,   56.67,2,     2.9,   8.023,2,   0.013,   44.75,2,   11.80,2, -32.9980,  36.9488,   0.001,   0.211,20090329,       1211
33RR20090320,        I05,      26,          1,         24,         24,2,20090329,       1023,   -32.9978,    36.9490,       5021,   600.3,  11.9981,  35.0881,2,  35.0886,2,    217.6,2,   219.0,2,    4.66,2,   11.97,2,    0.00,2,    0.87,2,   3.110,2,   1.728,2,   0.9370,2,  2122.5,2,  2311.0,2,   7.9064,2,    20.00,   0.341,2,   1.833,2,  -0.349,2,  11.9977,2,   1.052,2,   62.35,2,     3.3,   7.829,2,   0.014,   43.85,2,   13.21,2, -32.9980,  36.9489,   0.001,   0.205,20090329,       1208
33RR20090320,        I05,      26,          1,         23,         23,2,20090329,       1023,   -32.9978,    36.9490,       5021,   700.5,  10.9977,  34.9460,2,  34.9439,2,    221.3,2,   219.9,2,    5.62,2,   14.04,2,    0.00,2,    1.00,2,   3.152,2,   1.705,2,   0.8850,2,  2126.4,2,  2305.4,2,   7.8828,2,    20.00,   0.289,2,   1.990,2,  -0.386,2,  11.0151,2,    1.09,2,   56.89,2,       3,   8.455,2,   0.014,   42.89,2,   15.91,2, -32.9980,  36.9489,   0.001,   0.200,20090329,       1204
33RR20090320,        I05,      26,          1,         22,         22,2,20090329,       1023,   -32.9978,    36.9490,       5021,   801.8,  10.0468,  34.8141,2,  34.8135,2,    218.7,2,   216.7,2,    7.35,2,   16.62,2,    0.00,2,    1.17,2,   3.043,2,   1.603,2,   0.7000,2,  2134.5,2,  2298.1,2,   7.8557,2,    20.00,-999.000,9,   1.889,2,   0.855,2,  10.0423,2,   1.126,2,   47.58,2,     3.6,   8.191,2,   0.013,   42.12,2,   18.44,2, -32.9980,  36.9490,   0.001,   0.200,20090329,       1201
33RR20090320,        I05,      26,          1,         21,         21,2,20090329,       1023,   -32.9978,    36.9490,       5021,   901.0,   8.8202,  34.6817,2,  34.6816,2,    205.2,2,   204.1,2,   12.55,2,   20.72,2,    0.00,2,    1.44,2,   2.577,2,   1.344,2,   0.5220,2,  2150.8,2,  2297.6,2,   7.8095,2,    20.00,   0.161,2,   1.882,2,   1.677,2,   8.8306,2,   1.137,2,   18.57,2,     2.8,   8.003,2,   0.013,   41.11,2,   22.31,2, -32.9980,  36.9490,   0.001,   0.212,20090329,       1159
33RR20090320,        I05,      26,          1,         20,         20,2,20090329,       1023,   -32.9978,    36.9490,       5021,  1000.5,   7.7245,  34.6095,2,  34.6101,2,    189.3,2,   183.7,2,   22.42,2,   25.05,2,    0.00,2,    1.76,2,   1.931,2,   0.977,2,   0.3610,2,  2173.7,2,  2301.7,2,   7.7550,2,    20.00,   0.151,2,   1.860,2,   2.825,2,   7.7260,2,   0.952,2,   -20.6,2,     2.9,   8.058,2,   0.015,   40.57,2,   26.24,2, -32.9980,  36.9491,   0.001,   0.214,20090329,       1156
33RR20090320,        I05,      26,          1,         19,         19,2,20090329,       1023,   -32.9978,    36.9490,       5021,  1096.8,   6.3063,  34.4950,2,  34.5011,2,    184.3,2,   186.9,2,   28.24,2,   28.03,2,    0.00,2,    1.97,2,   1.893,2,   0.960,2,   0.3680,2,  2187.2,2,  2304.6,2,   7.7207,2,    20.00,   0.141,2,   1.928,2,   3.215,2,   6.3179,2,   0.871,2,  -45.23,2,     2.7,   8.276,2,   0.013,   40.15,2,   29.63,2, -32.9980,  36.9492,   0.001,   0.201,20090329,       1154
33RR20090320,        I05,      26,          1,         18,         18,2,20090329,       1023,   -32.9978,    36.9490,       5021,  1197.3,   5.5884,  34.5073,2,  34.5021,2,    180.9,2,   173.6,2,   39.32,2,   30.51,2,    0.00,2,    2.16,2,   1.398,2,   0.686,2,   0.2410,2,  2208.4,2,  2309.0,2,   7.6884,2,    20.00,   0.102,2,   1.898,2,   4.839,2,   5.5910,2,   0.821,2,  -74.51,2,     2.7,   8.355,2,   0.013,   40.22,2,   32.23,2, -32.9980,  36.9492,   0.001,   0.211,20090329,       1152
33RR20090320,        I05,      26,          1,         17,         17,2,20090329,       1023,   -32.9978,    36.9490,       5021,  1298.2,   5.2066,  34.5576,2,  34.5565,2,    166.6,2,   155.4,2,   51.05,2,   32.29,2,    0.00,2,    2.33,2,   0.877,2,   0.408,2,   0.1530,2,  2228.7,2,  2323.0,2,   7.6614,2,    20.00,   0.096,2,   1.902,2,   6.284,2,   5.2045,2,   0.686,2, -105.41,2,     3.1,   8.308,2,   0.015,   40.10,2,   33.57,2, -32.9980,  36.9492,   0.001,   0.212,20090329,       1149
33RR20090320,        I05,      26,          1,         16,         16,2,20090329,       1023,   -32.9978,    36.9490,       5021,  1399.4,   4.5480,  34.5717,2,  34.5697,2,    157.8,2,   153.2,2,   59.28,2,   33.33,2,    0.00,2,    2.40,2,   0.681,2,   0.307,2,   0.0830,2,  2241.1,2,  2327.6,2,   7.6476,2,    20.00,   0.092,2,   1.941,2,   7.234,2,   4.5467,2,   0.627,2, -125.96,2,     2.6,   8.464,2,   0.016,   40.11,2,   35.14,2, -32.9980,  36.9493,   0.001,   0.214,20090329,       1146
33RR20090320,        I05,      26,          1,         15,         15,2,20090329,       1023,   -32.9978,    36.9490,       5021,  1499.2,   3.9860,  34.5600,2,  34.5595,2,    159.3,2,   159.7,2,   62.63,2,   33.55,2,    0.00,2,    2.41,2,   0.583,2,   0.259,2,   0.0750,2,  2242.3,2,  2331.2,2,   7.6473,2,    20.00,   0.106,2,   1.921,2,   7.171,2,   3.9859,2,   0.648,2, -130.15,2,     2.5,   8.453,2,   0.016,   40.11,2,   35.03,2, -32.9980,  36.9493,   0.001,   0.224,20090329,       1143
33RR20090320,        I05,      26,          1,         14,         14,2,20090329,       1023,   -32.9978,    36.9490,       5021,  1597.9,   4.1244,  34.6727,2,  34.6732,2,    145.0,2,   137.9,2,   75.82,2,   34.33,2,    0.00,2,    2.50,2,   0.254,2,   0.110,2,   0.0410,2,  2263.5,2,  2346.1,2,   7.6322,2,    20.00,   0.013,2,   1.968,2,   9.034,2,   4.1299,2,    0.48,2, -145.55,2,     2.3,   8.625,2,   0.014,   40.07,2,   35.54,2, -32.9979,  36.9493,   0.001,   0.215,20090329,       1140
33RR20090320,        I05,      26,          1,         13,         13,2,20090329,       1023,   -32.9978,    36.9490,       5021,  1801.0,   3.4011,  34.6707,2,  34.6713,2,    152.6,2,   154.8,2,   77.79,2,   33.55,2,    0.00,2,    2.42,2,   0.190,2,   0.081,2,   0.0180,2,  2260.2,6,  2349.9,2,   7.6466,2,    20.00,-999.000,9,-999.000,9,-999.000,9,   3.4008,2,   0.485,2, -157.03,2,     2.5,-999.000,9,-999.000,   40.04,2,   35.48,2, -32.9978,  36.9492,-999.000,-999.000,20090329,       1136
33RR20090320,        I05,      26,          1,         12,         12,2,20090329,       1023,   -32.9978,    36.9490,       5021,  2003.3,   3.0651,  34.7127,2,  34.7127,2,    160.0,2,   161.6,2,   82.33,2,   32.77,2,    0.00,2,    2.36,2,   0.092,2,   0.039,2,   0.0090,2,  2261.9,2,  2355.3,2,   7.6590,2,    20.00,-999.000,9,   1.955,2,   9.000,2,   3.0650,2,   0.508,2, -155.49,2,     2.4,   8.534,2,   0.016,   39.84,2,   34.69,2, -32.9979,  36.9493,   0.001,   0.225,20090329,       1131
33RR20090320,        I05,      26,          1,         11,         11,2,20090329,       1023,   -32.9978,    36.9490,       5021,  2253.3,   2.6472,  34.7506,2,  34.7509,2,    182.9,2,   184.5,2,   76.40,2,   30.45,2,    0.00,2,    2.16,2,   0.050,2,   0.026,2,   0.0050,2,  2245.5,2,  2351.7,2,   7.6896,2,    20.00,-999.000,9,-999.000,9,-999.000,9,   2.6470,2,   0.639,2, -154.85,2,     2.4,-999.000,9,-999.000,   39.86,2,   32.12,2, -32.9981,  36.9493,-999.000,-999.000,20090329,       1125
33RR20090320,        I05,      26,          1,         10,         10,2,20090329,       1023,   -32.9978,    36.9490,       5021,  2504.5,   2.4952,  34.7806,2,  34.7806,2,    194.0,2,   195.8,2,   73.63,2,   29.12,2,    0.00,2,    2.05,2,   0.025,2,   0.014,2,   0.0070,2,  2239.2,2,  2350.1,2,   7.7090,2,    20.00,   0.065,2,   1.967,2,   7.640,2,   2.4943,2,   0.678,2,  -145.9,2,     2.4,   8.538,2,   0.014,   39.76,2,   30.92,2, -32.9981,  36.9493,   0.001,   0.202,20090329,       1120
33RR20090320,        I05,      26,          1,          9,          9,2,20090329,       1023,   -32.9978,    36.9490,       5021,  2756.5,   2.3659,  34.7952,2,  34.7955,2,    203.5,2,   204.0,2,   71.86,2,   28.29,2,    0.00,2,    1.98,2,   0.020,6,   0.013,6,   0.0060,6,  2233.9,2,  2350.8,2,   7.7207,2,    20.00,   0.025,2,   1.983,2,   7.130,2,   2.3655,2,   0.726,2, -149.57,2,     2.5,   8.740,2,   0.014,   39.59,2,   30.28,2, -32.9981,  36.9492,   0.001,   0.202,20090329,       1114
33RR20090320,        I05,      26,          1,          8,          8,2,20090329,       1023,   -32.9978,    36.9490,       5021,  3018.5,   2.2052,  34.7984,2,  34.7983,2,    209.3,2,   208.9,2,   74.22,2,   28.12,2,    0.00,2,    1.96,2,   0.018,2,   0.013,2,   0.0100,2,  2233.4,2,  2350.3,2,   7.7260,2,    20.00,-999.000,9,-999.000,9,-999.000,9,   2.2049,2,   0.755,2, -148.46,2,     2.7,-999.000,9,-999.000,   39.97,2,   29.69,2, -32.9980,  36.9491,-999.000,-999.000,20090329,       1108
33RR20090320,        I05,      26,          1,          7,          7,2,20090329,       1023,   -32.9978,    36.9490,       5021,  3323.2,   2.0046,  34.7935,2,  34.7936,2,    213.2,2,   212.9,2,   78.37,2,   28.23,2,    0.00,2,    1.96,2,   0.016,2,   0.010,2,   0.0120,6,  2233.6,2,  2353.2,2,   7.7272,2,    20.00,   0.002,2,   1.970,2,   6.591,2,   2.0042,2,   0.773,2, -156.98,2,     3.1,   8.735,2,   0.014,   40.27,2,   30.19,2, -32.9980,  36.9490,   0.001,   0.202,20090329,       1102
33RR20090320,        I05,      26,          1,          6,          6,2,20090329,       1023,   -32.9978,    36.9490,       5021,  3627.7,   1.7092,  34.7772,2,  34.7773,2,    215.5,2,   214.9,2,   86.68,2,   28.85,2,    0.00,2,    2.02,2,   0.025,2,   0.015,2,   0.0000,2,  2238.8,2,  2355.7,2,   7.7228,2,    20.00,-999.000,9,   1.953,2,   6.547,2,   1.7095,2,    0.67,2, -150.76,2,     2.3,   8.632,2,   0.013,   40.33,2,   30.45,2, -32.9979,  36.9489,   0.001,   0.202,20090329,       1055
33RR20090320,        I05,      26,          1,          5,          5,2,20090329,       1023,   -32.9978,    36.9490,       5021,  3934.0,   1.3208,  34.7510,2,  34.7507,2,    216.1,2,   216.9,2,   99.19,2,   29.95,2,    0.00,2,    2.10,2,   0.050,2,   0.025,2,   0.0220,2,  2245.8,2,  2362.3,2,   7.7129,2,    20.00,-999.000,9,-999.000,9,-999.000,9,   1.3210,2,   0.609,2,  -155.9,2,     2.3,-999.000,9,-999.000,   39.94,2,   31.44,2, -32.9978,  36.9489,-999.000,-999.000,20090329,       1049
33RR20090320,        I05,      26,          1,          4,          4,2,20090329,       1023,   -32.9978,    36.9490,       5021,  4239.2,   0.9957,  34.7269,2,  34.7268,2,    217.2,2,   217.5,2,  108.93,2,   30.94,2,    0.00,2,    2.18,2,   0.079,2,   0.037,2,   0.0150,2,  2252.5,2,  2363.8,2,   7.7038,2,    20.00,-999.000,9,   1.976,2,   6.508,2,   0.9958,2,     0.6,2, -155.08,2,     2.5,   8.745,2,   0.014,   40.04,2,   32.25,2, -32.9979,  36.9489,   0.001,   0.202,20090329,       1042
33RR20090320,        I05,      26,          1,          3,          3,2,20090329,       1023,   -32.9978,    36.9490,       5021,  4544.3,   0.7238,  34.7062,2,  34.7060,2,    218.2,2,   218.4,2,  118.32,2,   31.78,2,    0.00,2,    2.24,2,   0.127,6,   0.054,6,   0.0150,6,  2258.0,2,  2365.9,2,   7.6961,2,    20.00,   0.062,2,   1.986,2,   6.722,2,   0.7240,2,   0.566,2, -164.15,2,     2.4,   8.840,2,   0.017,   40.14,2,   33.21,2, -32.9978,  36.9490,   0.001,   0.214,20090329,       1036
33RR20090320,        I05,      26,          1,          2,          2,2,20090329,       1023,   -32.9978,    36.9490,       5021,  4850.6,   0.6076,  34.6951,2,  34.6950,2,    219.3,2,   219.5,2,  122.53,2,   32.16,2,    0.00,2,    2.27,2,   0.198,2,   0.086,2,   0.0490,3,  2259.3,2,  2366.3,2,   7.6897,2,    20.00,   0.057,2,   1.991,2,   6.904,2,   0.6080,2,   0.557,2, -159.29,2,     2.4,   8.682,2,   0.015,   40.07,2,   33.86,2, -32.9978,  36.9490,   0.001,   0.202,20090329,       1028
33RR20090320,        I05,      26,          1,          1,          1,2,20090329,       1023,   -32.9978,    36.9490,       5021,  5102.1,   0.5479,  34.6887,2,  34.6889,2,    220.5,2,   220.8,2,  124.72,2,   32.38,2,    0.00,2,    2.29,2,   0.260,2,   0.111,2,   0.0230,2,  2261.1,6,  2367.4,2,   7.6866,2,    20.00,-999.000,9,   1.975,2,   6.964,2,   0.5485,2,    0.54,2, -158.97,2,     2.4,   8.689,2,   0.018,   39.81,2,   34.07,2, -32.9978,  36.9490,   0.001,   0.224,20090329,       1023