BOTTLE,20220814CCHSIOAMB
EXPOCODE,SECT_ID,STNNBR,CASTNO,SAMPNO,BTLNBR,BTLNBR_FLAG_W,DATE,TIME,LATITUDE,LONGITUDE,DEPTH,CTDPRS,CTDTMP,CTDSAL,CTDSAL_FLAG_W,SALNTY,SALNTY_FLAG_W,CTDOXY,CTDOXY_FLAG_W,OXYGEN,OXYGEN_FLAG_W,SILCAT,SILCAT_FLAG_W,NITRAT,NITRAT_FLAG_W,NITRIT,NITRIT_FLAG_W,PHSPHT,PHSPHT_FLAG_W,CFC-11,CFC-11_FLAG_W,CFC-12,CFC-12_FLAG_W,SF6,SF6_FLAG_W,TCARBN,TCARBN_FLAG_W,ALKALI,ALKALI_FLAG_W,PH_TOT,PH_TOT_FLAG_W,PH_TMP,TRITUM,TRITUM_FLAG_W,HELIUM,HELIUM_FLAG_W,DELHE3,DELHE3_FLAG_W,REFTMP,REFTMP_FLAG_W,DELC13,DELC13_FLAG_W,DELC14,DELC14_FLAG_W,C14ERR,NEON,NEON_FLAG_W,NEONER,DOC,DOC_FLAG_W,TDN,TDN_FLAG_W,BTL_LAT,BTL_LON,HELIER,DELHER,BTL_DATE,BTL_TIME
,,,,,,,,,,,METERS,DBAR,ITS-90,PSS-78,,PSS-78,,UMOL/KG,,UMOL/KG,,UMOL/KG,,UMOL/KG,,UMOL/KG,,UMOL/KG,,PMOL/KG,,PMOL/KG,,FMOL/KG,,UMOL/KG,,UMOL/KG,,,,DEG C,TU,,NMOL/KG,,PERCNT,,DEG C,,/MILLE,,/MILLE,,/MILLE,NMOL/KG,,NMOL/KG,UMOL/KG,,UMOL/KG,,,,NMOL/KG,PERCNT,,
33RR20090320,        I05,      85,          2,         36,         36,2,20090414,       2129,   -33.9986,    65.1243,       4587,    13.0,  19.7391,  35.5315,2,  35.5320,2,    228.4,2,   228.6,2,    1.75,2,    0.08,2,    0.00,2,    0.15,2,   2.191,2,   1.318,2,   1.2150,2,  2058.1,6,  2334.0,2,   8.0759,2,    20.00,-999.000,9,-999.000,9,-999.000,9,  19.7369,2,-999.000,9, -999.00,9, -999.00,-999.000,9,-999.000,   67.56,2,    4.06,2, -33.9977,  65.1239,-999.000,-999.000,20090414,       2334
33RR20090320,        I05,      85,          2,         35,         35,2,20090414,       2129,   -33.9986,    65.1243,       4587,    27.2,  19.7387,  35.5316,2,  35.5307,2,    229.5,2,   228.7,2,    1.52,2,    0.09,2,    0.00,2,    0.14,2,   2.192,2,   1.328,2,   1.2320,2,  2060.0,2,  2333.1,2,   8.0760,2,    20.00,-999.000,9,-999.000,9,-999.000,9,  19.7373,2,-999.000,9, -999.00,9, -999.00,-999.000,9,-999.000,   67.46,2,    4.09,2, -33.9977,  65.1242,-999.000,-999.000,20090414,       2333
33RR20090320,        I05,      85,          2,         34,         34,2,20090414,       2129,   -33.9986,    65.1243,       4587,    47.9,  19.7394,  35.5302,2,  35.5301,2,    229.8,2,   229.6,2,    1.50,2,    0.09,2,    0.00,2,    0.14,2,   2.197,2,   1.318,2,   1.2160,2,  2058.9,2,  2334.1,2,   8.0758,2,    20.00,-999.000,9,-999.000,9,-999.000,9,  19.7256,2,-999.000,9, -999.00,9, -999.00,-999.000,9,-999.000,   65.55,2,    4.48,2, -33.9977,  65.1244,-999.000,-999.000,20090414,       2331
33RR20090320,        I05,      85,          2,         33,         33,2,20090414,       2129,   -33.9986,    65.1243,       4587,    70.9,  16.3663,  35.4265,2,  35.4254,2,    254.6,2,   253.5,2,    1.70,2,    0.14,2,    0.01,2,    0.19,2,   2.637,2,   1.563,2,   1.3730,2,  2064.9,2,  2326.2,2,   8.0555,2,    20.00,-999.000,9,-999.000,9,-999.000,9,  16.3884,2,-999.000,9, -999.00,9, -999.00,-999.000,9,-999.000,   61.83,2,    4.11,2, -33.9978,  65.1245,-999.000,-999.000,20090414,       2329
33RR20090320,        I05,      85,          2,         32,         32,2,20090414,       2129,   -33.9986,    65.1243,       4587,    95.9,  14.9783,  35.3976,2,  35.3974,2,    241.6,2,   236.9,2,    2.93,2,    3.01,2,    0.16,2,    0.37,2,   2.751,2,   1.618,2,   1.3160,2,  2087.1,2,  2324.9,2,   8.0069,2,    20.00,-999.000,9,-999.000,9,-999.000,9,  14.9749,2,-999.000,9, -999.00,9, -999.00,-999.000,9,-999.000,   56.60,2,    6.54,2, -33.9977,  65.1244,-999.000,-999.000,20090414,       2327
33RR20090320,        I05,      85,          2,         31,         31,2,20090414,       2129,   -33.9986,    65.1243,       4587,   142.5,  14.2603,  35.3601,2,  35.3598,2,    226.8,2,   227.4,2,    4.16,2,    6.49,2,    0.01,2,    0.54,2,   2.805,6,   1.632,6,   1.3290,6,  2100.0,2,  2319.9,2,   7.9765,2,    20.00,-999.000,9,-999.000,9,-999.000,9,  14.2596,2,-999.000,9, -999.00,9, -999.00,-999.000,9,-999.000,   53.96,2,    9.19,2, -33.9977,  65.1244,-999.000,-999.000,20090414,       2325
33RR20090320,        I05,      85,          2,         30,         30,2,20090414,       2129,   -33.9986,    65.1243,       4587,   192.0,  13.7404,  35.3275,2,  35.3269,2,    231.9,2,   234.7,2,    3.93,2,    6.61,2,    0.01,2,    0.55,2,   2.889,2,   1.680,2,   1.3330,2,  2103.2,2,  2319.1,2,   7.9706,2,    20.00,-999.000,9,-999.000,9,-999.000,9,  13.7404,2,-999.000,9, -999.00,9, -999.00,-999.000,9,-999.000,   52.80,2,    9.32,2, -33.9977,  65.1244,-999.000,-999.000,20090414,       2323
33RR20090320,        I05,      85,          2,         29,         29,2,20090414,       2129,   -33.9986,    65.1243,       4587,   241.6,  13.5070,  35.3120,2,  35.3141,2,    239.9,2,   237.3,2,    4.12,2,    7.85,2,    0.01,2,    0.62,2,   2.911,2,   1.688,2,   1.3680,2,  2104.6,2,  2319.5,2,   7.9677,2,    20.00,-999.000,9,-999.000,9,-999.000,9,  13.4942,2,-999.000,9, -999.00,9, -999.00,-999.000,9,-999.000,   51.15,2,   10.03,2, -33.9977,  65.1243,-999.000,-999.000,20090414,       2321
33RR20090320,        I05,      85,          2,         28,         28,2,20090414,       2129,   -33.9986,    65.1243,       4587,   292.7,  13.1964,  35.2679,2,  35.2682,2,    235.6,2,   236.9,2,    3.90,2,    7.02,2,    0.01,2,    0.58,2,   2.955,2,   1.709,2,   1.3180,2,  2107.6,2,  2317.7,2,   7.9573,2,    20.00,-999.000,9,-999.000,9,-999.000,9,  13.2020,2,-999.000,9, -999.00,9, -999.00,-999.000,9,-999.000,   50.07,2,    9.98,2, -33.9977,  65.1243,-999.000,-999.000,20090414,       2319
33RR20090320,        I05,      85,          2,         27,         27,2,20090414,       2129,   -33.9986,    65.1243,       4587,   344.0,  12.9079,  35.2212,2,  35.2209,2,    236.3,2,   233.5,2,    4.09,2,    8.85,2,    0.00,2,    0.68,2,   3.017,2,   1.731,2,   1.3260,2,  2110.4,2,  2314.8,2,   7.9454,2,    20.00,-999.000,9,-999.000,9,-999.000,9,  12.9078,2,-999.000,9, -999.00,9, -999.00,-999.000,9,-999.000,   49.02,2,   11.76,2, -33.9977,  65.1241,-999.000,-999.000,20090414,       2317
33RR20090320,        I05,      85,          2,         26,         26,2,20090414,       2129,   -33.9986,    65.1243,       4587,   389.4,  12.6680,  35.1820,2,  35.1821,2,    234.3,2,   235.1,2,    4.28,2,    9.37,2,    0.00,2,    0.71,2,   3.047,2,   1.741,2,   1.3830,2,  2111.3,2,  2313.6,2,   7.9394,2,    20.00,-999.000,9,-999.000,9,-999.000,9,  12.6672,2,-999.000,9, -999.00,9, -999.00,-999.000,9,-999.000,   47.98,2,   11.84,2, -33.9978,  65.1241,-999.000,-999.000,20090414,       2315
33RR20090320,        I05,      85,          2,         25,         25,2,20090414,       2129,   -33.9986,    65.1243,       4587,   470.0,  12.3094,  35.1261,2,  35.1256,2,    237.3,2,   236.8,2,    4.26,2,    9.94,2,    0.01,2,    0.76,2,   3.103,2,   1.765,2,   1.2860,2,  2111.7,2,  2310.7,2,   7.9320,2,    20.00,-999.000,9,-999.000,9,-999.000,9,  12.3048,2,-999.000,9, -999.00,9, -999.00,-999.000,9,-999.000,   46.90,2,   12.25,2, -33.9978,  65.1241,-999.000,-999.000,20090414,       2312
33RR20090320,        I05,      85,          2,         24,         24,2,20090414,       2129,   -33.9986,    65.1243,       4587,   568.8,  11.7116,  35.0254,2,  35.0266,2,    231.2,2,   232.0,2,    4.66,2,   11.72,2,    0.00,2,    0.87,2,   3.199,2,   1.784,2,   1.3220,2,  2118.0,2,  2307.7,2,   7.9102,2,    20.00,-999.000,9,-999.000,9,-999.000,9,  11.7177,2,-999.000,9, -999.00,9, -999.00,-999.000,9,-999.000,   45.72,2,   13.60,2, -33.9978,  65.1242,-999.000,-999.000,20090414,       2309
33RR20090320,        I05,      85,          2,         23,         23,2,20090414,       2129,   -33.9986,    65.1243,       4587,   673.2,  10.6775,  34.8811,2,  34.8869,2,    227.4,2,   225.5,2,    5.69,2,   14.38,2,    0.00,2,    1.04,2,   3.246,2,   1.744,2,   1.0740,2,  2126.3,2,  2301.1,2,   7.8798,2,    20.00,-999.000,9,-999.000,9,-999.000,9,  10.6954,2,-999.000,9, -999.00,9, -999.00,-999.000,9,-999.000,   44.72,2,   15.67,2, -33.9978,  65.1242,-999.000,-999.000,20090414,       2306
33RR20090320,        I05,      85,          2,         22,         22,2,20090414,       2129,   -33.9986,    65.1243,       4587,   769.7,   9.6656,  34.7479,2,  34.7495,2,    218.5,2,   218.5,2,    7.54,2,   17.40,2,    0.00,2,    1.24,2,   3.110,2,   1.625,2,   0.8700,2,  2136.4,2,  2296.8,2,   7.8463,2,    20.00,-999.000,9,-999.000,9,-999.000,9,   9.6563,2,-999.000,9, -999.00,9, -999.00,-999.000,9,-999.000,   43.72,2,   18.69,2, -33.9979,  65.1242,-999.000,-999.000,20090414,       2303
33RR20090320,        I05,      85,          2,         21,         21,2,20090414,       2129,   -33.9986,    65.1243,       4587,   871.0,   8.2334,  34.5918,2,  34.5921,2,    208.6,2,   207.9,2,   12.52,2,   21.75,2,    0.00,2,    1.53,2,   2.734,2,   1.389,2,   0.6770,2,  2153.8,2,  2292.1,2,   7.7951,2,    20.00,-999.000,9,-999.000,9,-999.000,9,   8.2364,2,-999.000,9, -999.00,9, -999.00,-999.000,9,-999.000,   42.78,2,   23.58,2, -33.9980,  65.1241,-999.000,-999.000,20090414,       2300
33RR20090320,        I05,      85,          2,         20,         20,2,20090414,       2129,   -33.9986,    65.1243,       4587,   970.4,   6.7184,  34.4642,2,  34.4659,2,    205.1,2,   204.3,2,   18.54,2,   25.64,2,    0.00,2,    1.80,2,   2.415,2,   1.214,2,   0.4480,2,  2168.9,2,  2292.3,2,   7.7503,2,    20.00,-999.000,9,-999.000,9,-999.000,9,   6.7153,2,-999.000,9, -999.00,9, -999.00,-999.000,9,-999.000,   42.02,2,   27.05,2, -33.9980,  65.1241,-999.000,-999.000,20090414,       2257
33RR20090320,        I05,      85,          2,         19,         19,2,20090414,       2129,   -33.9986,    65.1243,       4587,  1070.8,   5.4134,  34.3810,2,  34.3817,2,    207.1,2,   207.6,2,   25.21,2,   28.37,2,    0.00,2,    2.00,2,   2.285,2,   1.138,2,   0.4770,2,  2178.5,2,  2293.4,2,   7.7192,2,    20.00,-999.000,9,-999.000,9,-999.000,9,   5.3968,2,-999.000,9, -999.00,9, -999.00,-999.000,9,-999.000,   41.50,2,   30.28,2, -33.9979,  65.1242,-999.000,-999.000,20090414,       2254
33RR20090320,        I05,      85,          2,         18,         18,2,20090414,       2129,   -33.9986,    65.1243,       4587,  1172.4,   4.3573,  34.3587,2,  34.3591,2,    202.5,2,   203.3,2,   34.61,2,   30.65,2,    0.00,2,    2.18,2,   1.918,2,   0.939,2,   0.3640,2,  2194.4,2,  2301.6,2,   7.6920,2,    20.00,-999.000,9,-999.000,9,-999.000,9,   4.3583,2,-999.000,9, -999.00,9, -999.00,-999.000,9,-999.000,   41.03,2,   32.26,2, -33.9980,  65.1239,-999.000,-999.000,20090414,       2252
33RR20090320,        I05,      85,          2,         17,         17,2,20090414,       2129,   -33.9986,    65.1243,       4587,  1273.5,   3.8774,  34.3903,2,  34.3894,2,    193.2,2,   192.3,2,   43.62,2,   32.07,2,    0.00,2,    2.28,2,   1.340,6,   0.636,6,   0.2310,6,  2209.0,2,  2309.3,2,   7.6718,2,    20.00,-999.000,9,-999.000,9,-999.000,9,   3.8770,2,-999.000,9, -999.00,9, -999.00,-999.000,9,-999.000,   40.47,2,   33.40,2, -33.9979,  65.1237,-999.000,-999.000,20090414,       2249
33RR20090320,        I05,      85,          2,         16,         16,2,20090414,       2129,   -33.9986,    65.1243,       4587,  1373.1,   3.4680,  34.4386,2,  34.4382,2,    182.5,2,   181.6,2,   53.29,2,   33.08,2,    0.00,2,    2.37,2,   0.888,2,   0.417,2,   0.1390,2,  2224.6,2,  2318.4,2,   7.6533,2,    20.00,-999.000,9,-999.000,9,-999.000,9,   3.4671,2,-999.000,9, -999.00,9, -999.00,-999.000,9,-999.000,   40.09,2,   34.84,2, -33.9979,  65.1237,-999.000,-999.000,20090414,       2246
33RR20090320,        I05,      85,          2,         15,         15,2,20090414,       2129,   -33.9986,    65.1243,       4587,  1475.6,   3.2039,  34.4843,2,  34.4840,2,    176.7,2,   175.9,2,   60.02,2,   33.55,2,    0.00,2,    2.41,2,   0.640,2,   0.284,2,   0.0410,2,  2234.8,2,  2325.4,2,   7.6449,2,    20.00,-999.000,9,-999.000,9,-999.000,9,   3.2038,2,-999.000,9, -999.00,9, -999.00,-999.000,9,-999.000,   39.99,2,   35.24,2, -33.9979,  65.1237,-999.000,-999.000,20090414,       2243
33RR20090320,        I05,      85,          2,         14,         14,2,20090414,       2129,   -33.9986,    65.1243,       4587,  1573.8,   2.9884,  34.5327,2,  34.5325,2,    173.2,2,   172.6,2,   65.51,2,   33.60,2,    0.00,2,    2.40,2,   0.430,2,   0.192,2,   0.0780,2,  2241.5,2,  2329.9,2,   7.6412,2,    20.00,-999.000,9,-999.000,9,-999.000,9,   2.9881,2,-999.000,9, -999.00,9, -999.00,-999.000,9,-999.000,   39.87,2,   35.06,2, -33.9978,  65.1238,-999.000,-999.000,20090414,       2240
33RR20090320,        I05,      85,          2,         13,         13,2,20090414,       2129,   -33.9986,    65.1243,       4587,  1745.9,   2.7134,  34.6143,2,  34.6142,2,    171.9,2,   172.6,2,   72.69,2,   33.07,2,    0.00,2,    2.35,2,   0.185,2,   0.080,2,   0.0460,2,  2250.0,6,  2338.7,2,   7.6476,2,    20.00,-999.000,9,-999.000,9,-999.000,9,   2.7146,2,-999.000,9, -999.00,9, -999.00,-999.000,9,-999.000,   39.81,2,   34.85,2, -33.9979,  65.1236,-999.000,-999.000,20090414,       2235
33RR20090320,        I05,      85,          2,         12,         12,2,20090414,       2129,   -33.9986,    65.1243,       4587,  1947.9,   2.5003,  34.6756,2,  34.6752,2,    177.1,2,   178.4,2,   77.77,2,   32.01,2,    0.00,2,    2.28,2,   0.084,2,   0.033,2,   0.0000,2,  2247.8,2,  2344.3,2,   7.6628,2,    20.00,-999.000,9,-999.000,9,-999.000,9,   2.5003,2,-999.000,9, -999.00,9, -999.00,-999.000,9,-999.000,   40.10,2,   33.80,2, -33.9981,  65.1238,-999.000,-999.000,20090414,       2231
33RR20090320,        I05,      85,          2,         11,         11,2,20090414,       2129,   -33.9986,    65.1243,       4587,  2181.6,   2.2953,  34.7121,2,  34.7121,2,    180.0,2,   180.7,2,   87.32,2,   31.59,2,    0.00,2,    2.25,2,   0.032,2,   0.013,2,   0.0000,2,  2254.8,2,  2356.5,2,   7.6744,2,    20.00,-999.000,9,-999.000,9,-999.000,9,   2.2952,2,-999.000,9, -999.00,9, -999.00,-999.000,9,-999.000,   39.87,2,   33.03,2, -33.9983,  65.1236,-999.000,-999.000,20090414,       2225
33RR20090320,        I05,      85,          2,         10,         10,2,20090414,       2129,   -33.9986,    65.1243,       4587,  2430.8,   2.0758,  34.7271,2,  34.7265,2,    178.0,2,   177.7,2,  101.37,2,   32.28,2,    0.00,2,    2.27,2,   0.010,2,   0.004,2,   0.0580,2,  2268.4,2,  2369.7,2,   7.6773,2,    20.00,-999.000,9,-999.000,9,-999.000,9,   2.0754,2,-999.000,9, -999.00,9, -999.00,-999.000,9,-999.000,   40.20,2,   33.93,2, -33.9985,  65.1239,-999.000,-999.000,20090414,       2220
33RR20090320,        I05,      85,          2,          9,          9,2,20090414,       2129,   -33.9986,    65.1243,       4587,  2681.5,   1.9269,  34.7314,2,  34.7306,2,    176.9,2,   176.8,2,  109.27,2,   32.75,2,    0.00,2,    2.30,2,   0.012,2,   0.004,2,   0.0180,2,  2275.8,2,  2377.7,2,   7.6776,2,    20.00,-999.000,9,-999.000,9,-999.000,9,   1.9263,2,-999.000,9, -999.00,9, -999.00,-999.000,9,-999.000,   39.89,2,   34.30,2, -33.9985,  65.1241,-999.000,-999.000,20090414,       2214
33RR20090320,        I05,      85,          2,          8,          8,2,20090414,       2129,   -33.9986,    65.1243,       4587,  2936.5,   1.7977,  34.7311,2,  34.7306,2,    177.9,2,   177.7,2,  114.39,2,   33.45,2,    0.00,2,    2.32,2,   0.009,2,   0.004,2,   0.0000,2,  2279.6,2,  2381.4,2,   7.6771,2,    20.00,-999.000,9,-999.000,9,-999.000,9,   1.7982,2,-999.000,9, -999.00,9, -999.00,-999.000,9,-999.000,   39.83,2,   35.24,2, -33.9983,  65.1240,-999.000,-999.000,20090414,       2208
33RR20090320,        I05,      85,          2,          7,          7,2,20090414,       2129,   -33.9986,    65.1243,       4587,  3227.6,   1.6455,  34.7277,2,  34.7279,2,    181.4,2,   180.8,2,  118.44,2,   33.60,2,    0.00,2,    2.33,2,   0.017,6,   0.007,6,   0.0000,6,  2279.4,2,  2382.4,2,   7.6783,2,    20.00,-999.000,9,-999.000,9,-999.000,9,   1.6452,2,-999.000,9, -999.00,9, -999.00,-999.000,9,-999.000,   39.44,2,   35.49,2, -33.9983,  65.1241,-999.000,-999.000,20090414,       2202
33RR20090320,        I05,      85,          2,          6,          6,2,20090414,       2129,   -33.9986,    65.1243,       4587,  3532.0,   1.4560,  34.7223,2,  34.7228,2,    187.0,2,   187.3,2,  121.44,2,   33.50,2,    0.00,2,    2.32,2,   0.013,2,   0.005,2,   0.0000,2,  2275.4,2,  2379.9,2,   7.6792,2,    20.00,-999.000,9,-999.000,9,-999.000,9,   1.4569,2,-999.000,9, -999.00,9, -999.00,-999.000,9,-999.000,   39.64,2,   35.16,2, -33.9984,  65.1243,-999.000,-999.000,20090414,       2156
33RR20090320,        I05,      85,          2,          5,          5,2,20090414,       2129,   -33.9986,    65.1243,       4587,  3834.8,   1.1422,  34.7112,2,  34.7114,2,    197.0,2,   198.1,2,  124.21,2,   33.17,2,    0.00,2,    2.31,2,   0.018,2,   0.007,2,   0.0270,2,  2270.2,2,  2376.6,2,   7.6808,2,    20.00,-999.000,9,-999.000,9,-999.000,9,   1.1428,2,-999.000,9, -999.00,9, -999.00,-999.000,9,-999.000,   39.81,2,   35.26,2, -33.9987,  65.1241,-999.000,-999.000,20090414,       2149
33RR20090320,        I05,      85,          2,          4,          4,2,20090414,       2129,   -33.9986,    65.1243,       4587,  4141.4,   0.8323,  34.7003,2,  34.7000,2,    207.1,2,   207.5,2,  127.85,2,   32.96,2,    0.00,2,    2.30,2,   0.042,2,   0.017,2,   0.0000,2,  2264.9,2,  2369.7,2,   7.6826,2,    20.00,-999.000,9,-999.000,9,-999.000,9,   0.8321,2,-999.000,9, -999.00,9, -999.00,-999.000,9,-999.000,   39.54,2,   34.39,2, -33.9988,  65.1239,-999.000,-999.000,20090414,       2143
33RR20090320,        I05,      85,          2,          3,          3,2,20090414,       2129,   -33.9986,    65.1243,       4587,  4445.2,   0.6929,  34.6939,2,  34.6938,2,    212.5,2,   212.1,2,  129.78,2,   32.74,2,    0.00,2,    2.30,2,   0.065,2,   0.026,2,   0.0300,2,  2263.1,2,  2368.6,2,   7.6813,2,    20.00,-999.000,9,-999.000,9,-999.000,9,   0.6932,2,-999.000,9, -999.00,9, -999.00,-999.000,9,-999.000,   40.06,2,   34.24,2, -33.9987,  65.1243,-999.000,-999.000,20090414,       2136
33RR20090320,        I05,      85,          2,          2,          2,2,20090414,       2129,   -33.9986,    65.1243,       4587,  4549.4,   0.6800,  34.6929,2,  34.6928,2,    213.8,2,   213.3,2,  130.20,2,   32.70,2,    0.00,2,    2.30,2,   0.078,2,   0.034,2,   0.0000,2,  2262.4,2,  2366.9,2,   7.6816,2,    20.00,-999.000,9,-999.000,9,-999.000,9,   0.6806,2,-999.000,9, -999.00,9, -999.00,-999.000,9,-999.000,   39.92,2,   34.59,2, -33.9986,  65.1244,-999.000,-999.000,20090414,       2132
33RR20090320,        I05,      85,          2,          1,          1,2,20090414,       2129,   -33.9986,    65.1243,       4587,  4656.3,   0.6801,  34.6920,2,  34.6920,2,    213.6,2,   213.3,2,  130.40,2,   32.64,2,    0.00,2,    2.31,2,   0.081,2,   0.035,2,   0.0000,2,  2261.3,6,  2366.6,2,   7.6809,2,    20.00,-999.000,9,-999.000,9,-999.000,9,   0.6795,2,-999.000,9, -999.00,9, -999.00,-999.000,9,-999.000,   40.01,2,   34.13,2, -33.9986,  65.1243,-999.000,-999.000,20090414,       2129