BOTTLE,20220814CCHSIOAMB
EXPOCODE,SECT_ID,STNNBR,CASTNO,SAMPNO,BTLNBR,BTLNBR_FLAG_W,DATE,TIME,LATITUDE,LONGITUDE,DEPTH,CTDPRS,CTDTMP,CTDSAL,CTDSAL_FLAG_W,SALNTY,SALNTY_FLAG_W,CTDOXY,CTDOXY_FLAG_W,OXYGEN,OXYGEN_FLAG_W,SILCAT,SILCAT_FLAG_W,NITRAT,NITRAT_FLAG_W,NITRIT,NITRIT_FLAG_W,PHSPHT,PHSPHT_FLAG_W,CFC-11,CFC-11_FLAG_W,CFC-12,CFC-12_FLAG_W,SF6,SF6_FLAG_W,TCARBN,TCARBN_FLAG_W,ALKALI,ALKALI_FLAG_W,PH_TOT,PH_TOT_FLAG_W,PH_TMP,TRITUM,TRITUM_FLAG_W,HELIUM,HELIUM_FLAG_W,DELHE3,DELHE3_FLAG_W,REFTMP,REFTMP_FLAG_W,DELC13,DELC13_FLAG_W,DELC14,DELC14_FLAG_W,C14ERR,NEON,NEON_FLAG_W,NEONER,DOC,DOC_FLAG_W,TDN,TDN_FLAG_W,BTL_LAT,BTL_LON,HELIER,DELHER,BTL_DATE,BTL_TIME
,,,,,,,,,,,METERS,DBAR,ITS-90,PSS-78,,PSS-78,,UMOL/KG,,UMOL/KG,,UMOL/KG,,UMOL/KG,,UMOL/KG,,UMOL/KG,,PMOL/KG,,PMOL/KG,,FMOL/KG,,UMOL/KG,,UMOL/KG,,,,DEG C,TU,,NMOL/KG,,PERCNT,,DEG C,,/MILLE,,/MILLE,,/MILLE,NMOL/KG,,NMOL/KG,UMOL/KG,,UMOL/KG,,,,NMOL/KG,PERCNT,,
33RR20090320,        I05,     147,          2,         36,         36,2,20090430,       1911,   -33.9965,    96.1319,       4355,     4.0,  18.6663,  35.6838,2,  35.6852,2,    234.8,2,   234.7,2,    0.47,2,    0.08,2,    0.00,2,    0.14,2,   2.301,2,   1.362,2,   1.2400,2,  2074.5,6,  2349.6,2,   8.0756,2,    20.00,-999.000,9,-999.000,9,-999.000,9,  18.6677,2,-999.000,9, -999.00,9, -999.00,-999.000,9,-999.000,   67.68,2,    4.56,2, -33.9964,  96.1323,-999.000,-999.000,20090430,       2106
33RR20090320,        I05,     147,          2,         35,         35,2,20090430,       1911,   -33.9965,    96.1319,       4355,    41.3,  18.7282,  35.7023,2,  35.7029,2,    235.1,2,   234.7,2,    0.46,2,    0.08,2,    0.00,2,    0.14,2,   2.301,2,   1.366,2,   1.2010,2,  2077.1,2,  2350.5,2,   8.0758,2,    20.00,-999.000,9,-999.000,9,-999.000,9,  18.7261,2,-999.000,9, -999.00,9, -999.00,-999.000,9,-999.000,   67.07,2,    4.43,2, -33.9965,  96.1322,-999.000,-999.000,20090430,       2104
33RR20090320,        I05,     147,          2,         34,         34,2,20090430,       1911,   -33.9965,    96.1319,       4355,    66.6,  18.5097,  35.7444,2,  35.7566,2,    239.1,2,   238.4,2,    0.62,2,    0.09,2,    0.00,2,    0.14,2,   2.332,2,   1.383,2,   1.2740,2,  2081.0,2,  2352.3,2,   8.0722,2,    20.00,-999.000,9,-999.000,9,-999.000,9,  18.5120,2,-999.000,9, -999.00,9, -999.00,-999.000,9,-999.000,   65.17,2,    4.61,2, -33.9965,  96.1322,-999.000,-999.000,20090430,       2102
33RR20090320,        I05,     147,          2,         33,         33,2,20090430,       1911,   -33.9965,    96.1319,       4355,    91.3,  14.6121,  35.3749,2,  35.3760,2,    248.1,2,   249.7,2,    1.15,2,    2.46,2,    0.22,2,    0.35,2,   2.931,2,   1.676,2,   1.4510,2,  2099.2,2,  2331.1,2,   8.0019,2,    20.00,-999.000,9,-999.000,9,-999.000,9,  14.6132,2,-999.000,9, -999.00,9, -999.00,-999.000,9,-999.000,   60.56,2,    6.90,2, -33.9965,  96.1323,-999.000,-999.000,20090430,       2101
33RR20090320,        I05,     147,          2,         32,         32,2,20090430,       1911,   -33.9965,    96.1319,       4355,   116.0,  13.8349,  35.3043,2,  35.3068,2,    239.2,2,   240.1,2,    1.33,2,    4.71,2,    0.23,2,    0.47,2,   2.996,2,   1.709,2,   1.4890,2,  2108.0,2,  2326.6,2,   7.9756,2,    20.00,-999.000,9,-999.000,9,-999.000,9,  13.8330,2,-999.000,9, -999.00,9, -999.00,-999.000,9,-999.000,   55.43,2,    8.58,2, -33.9965,  96.1323,-999.000,-999.000,20090430,       2059
33RR20090320,        I05,     147,          2,         31,         31,2,20090430,       1911,   -33.9965,    96.1319,       4355,   140.6,  13.5324,  35.3035,2,  35.3068,2,    239.2,2,   238.6,2,    1.49,2,    5.60,2,    0.01,2,    0.50,2,   3.020,2,   1.722,2,   1.5190,2,  2111.0,2,  2323.8,2,   7.9680,2,    20.00,-999.000,9,-999.000,9,-999.000,9,  13.5354,2,-999.000,9, -999.00,9, -999.00,-999.000,9,-999.000,   53.92,2,    8.48,2, -33.9965,  96.1324,-999.000,-999.000,20090430,       2057
33RR20090320,        I05,     147,          2,         30,         30,2,20090430,       1911,   -33.9965,    96.1319,       4355,   171.2,  13.2415,  35.2894,2,  35.2824,2,    238.7,2,   238.4,2,    1.48,2,    6.10,2,    0.01,2,    0.53,2,   3.026,2,   1.722,2,   1.4540,2,  2112.0,2,  2321.4,2,   7.9612,2,    20.00,-999.000,9,-999.000,9,-999.000,9,  13.2362,2,-999.000,9, -999.00,9, -999.00,-999.000,9,-999.000,   52.10,2,    9.25,2, -33.9964,  96.1324,-999.000,-999.000,20090430,       2056
33RR20090320,        I05,     147,          2,         29,         29,2,20090430,       1911,   -33.9965,    96.1319,       4355,   220.5,  12.5714,  35.1833,2,  35.1859,2,    239.9,2,   239.2,2,    1.65,2,    7.37,2,    0.00,2,    0.60,2,   3.166,2,   1.781,2,   1.5300,2,  2113.8,2,  2316.7,2,   7.9453,2,    20.00,-999.000,9,-999.000,9,-999.000,9,  12.5700,2,-999.000,9, -999.00,9, -999.00,-999.000,9,-999.000,   51.02,2,    9.82,2, -33.9963,  96.1324,-999.000,-999.000,20090430,       2054
33RR20090320,        I05,     147,          2,         28,         28,2,20090430,       1911,   -33.9965,    96.1319,       4355,   271.4,  11.8963,  35.0587,2,  35.0592,2,    243.4,2,   242.3,2,    2.00,2,    8.92,2,    0.00,2,    0.70,2,   3.268,2,   1.838,2,   1.5260,2,  2115.3,2,  2309.7,2,   7.9283,2,    20.00,-999.000,9,-999.000,9,-999.000,9,  11.8944,2,-999.000,9, -999.00,9, -999.00,-999.000,9,-999.000,   49.22,2,   11.55,2, -33.9963,  96.1323,-999.000,-999.000,20090430,       2052
33RR20090320,        I05,     147,          2,         27,         27,2,20090430,       1911,   -33.9965,    96.1319,       4355,   321.5,  11.3493,  34.9660,2,  34.9628,2,    241.3,2,   243.4,2,    2.53,2,   10.35,2,    0.00,2,    0.78,2,   3.354,2,   1.876,2,   1.4370,2,  2118.7,2,  2304.6,2,   7.9127,2,    20.00,-999.000,9,-999.000,9,-999.000,9,  11.3517,2,-999.000,9, -999.00,9, -999.00,-999.000,9,-999.000,   47.59,2,   12.51,2, -33.9963,  96.1322,-999.000,-999.000,20090430,       2050
33RR20090320,        I05,     147,          2,         26,         26,2,20090430,       1911,   -33.9965,    96.1319,       4355,   371.6,  11.0059,  34.9173,2,  34.9185,2,    242.6,2,   243.2,2,    2.88,2,   11.24,2,    0.00,2,    0.84,2,   3.417,2,   1.895,2,   1.3720,2,  2120.0,2,  2301.6,2,   7.9034,2,    20.00,-999.000,9,-999.000,9,-999.000,9,  11.0076,2,-999.000,9, -999.00,9, -999.00,-999.000,9,-999.000,   46.79,2,   12.73,2, -33.9963,  96.1322,-999.000,-999.000,20090430,       2048
33RR20090320,        I05,     147,          2,         25,         25,2,20090430,       1911,   -33.9965,    96.1319,       4355,   420.8,  10.6435,  34.8647,2,  34.8654,2,    242.4,2,   242.2,2,    3.05,2,   12.24,2,    0.00,2,    0.90,2,   3.494,2,   1.924,2,   1.3340,2,  2122.4,2,  2299.8,2,   7.8926,2,    20.00,-999.000,9,-999.000,9,-999.000,9,  10.6424,2,-999.000,9, -999.00,9, -999.00,-999.000,9,-999.000,   45.89,2,   14.10,2, -33.9962,  96.1322,-999.000,-999.000,20090430,       2046
33RR20090320,        I05,     147,          2,         24,         24,2,20090430,       1911,   -33.9965,    96.1319,       4355,   470.8,  10.2760,  34.8105,2,  34.8117,2,    241.3,2,   242.0,2,    3.58,2,   13.40,2,    0.00,2,    0.97,2,   3.548,2,   1.943,2,   1.3680,2,  2124.1,2,  2297.1,2,   7.8823,2,    20.00,-999.000,9,-999.000,9,-999.000,9,  10.2775,2,-999.000,9, -999.00,9, -999.00,-999.000,9,-999.000,   45.24,2,   15.15,2, -33.9962,  96.1321,-999.000,-999.000,20090430,       2044
33RR20090320,        I05,     147,          2,         23,         23,2,20090430,       1911,   -33.9965,    96.1319,       4355,   540.8,   9.9291,  34.7669,2,  34.7679,2,    238.8,2,   239.2,2,    4.29,2,   14.77,2,    0.00,2,    1.05,2,   3.600,2,   1.924,2,   1.2020,2,  2128.4,2,  2295.9,2,   7.8707,2,    20.00,-999.000,9,-999.000,9,-999.000,9,   9.9298,2,-999.000,9, -999.00,9, -999.00,-999.000,9,-999.000,   44.67,2,   16.01,2, -33.9963,  96.1322,-999.000,-999.000,20090430,       2042
33RR20090320,        I05,     147,          2,         22,         22,2,20090430,       1911,   -33.9965,    96.1319,       4355,   640.3,   9.2579,  34.6730,2,  34.6702,2,    234.0,2,   235.2,2,    5.36,2,   16.93,2,    0.00,2,    1.19,2,   3.632,2,   1.893,2,   1.0070,2,  2133.3,2,  2291.8,2,   7.8479,2,    20.00,-999.000,9,-999.000,9,-999.000,9,   9.2574,2,-999.000,9, -999.00,9, -999.00,-999.000,9,-999.000,   44.06,2,   18.68,2, -33.9963,  96.1322,-999.000,-999.000,20090430,       2039
33RR20090320,        I05,     147,          2,         21,         21,2,20090430,       1911,   -33.9965,    96.1319,       4355,   741.8,   8.4301,  34.5778,2,  34.5789,2,    220.4,2,   220.8,2,    8.05,2,   20.25,2,    0.00,2,    1.41,2,   3.255,2,   1.644,2,   0.7670,2,  2146.0,2,  2288.9,2,   7.8099,2,    20.00,-999.000,9,-999.000,9,-999.000,9,   8.4261,2,-999.000,9, -999.00,9, -999.00,-999.000,9,-999.000,   42.96,2,   21.35,2, -33.9964,  96.1322,-999.000,-999.000,20090430,       2037
33RR20090320,        I05,     147,          2,         20,         20,2,20090430,       1911,   -33.9965,    96.1319,       4355,   841.2,   7.1946,  34.4773,2,  34.4777,2,    204.8,2,   205.0,2,   14.55,2,   24.58,2,    0.00,2,    1.70,2,   2.502,2,   1.241,2,   0.5010,2,  2165.2,2,  2288.3,2,   7.7576,2,    20.00,-999.000,9,-999.000,9,-999.000,9,   7.1933,2,-999.000,9, -999.00,9, -999.00,-999.000,9,-999.000,   41.94,2,   25.78,2, -33.9964,  96.1324,-999.000,-999.000,20090430,       2034
33RR20090320,        I05,     147,          2,         19,         19,2,20090430,       1911,   -33.9965,    96.1319,       4355,   941.8,   5.7288,  34.3921,2,  34.3921,2,    200.5,2,   201.0,2,   22.88,2,   28.08,2,    0.00,2,    1.95,2,   2.039,2,   0.991,2,   0.3370,2,  2182.8,2,  2292.2,2,   7.7180,2,    20.00,-999.000,9,-999.000,9,-999.000,9,   5.7266,2,-999.000,9, -999.00,9, -999.00,-999.000,9,-999.000,   41.63,2,   29.64,2, -33.9963,  96.1325,-999.000,-999.000,20090430,       2031
33RR20090320,        I05,     147,          2,         18,         18,2,20090430,       1911,   -33.9965,    96.1319,       4355,  1041.4,   4.5655,  34.3706,2,  34.3711,2,    196.6,2,   195.1,2,   34.15,2,   30.65,2,    0.00,2,    2.16,2,   1.452,2,   0.697,2,   0.2250,2,  2202.2,2,  2300.8,2,   7.6859,2,    20.00,-999.000,9,-999.000,9,-999.000,9,   4.5652,2,-999.000,9, -999.00,9, -999.00,-999.000,9,-999.000,   40.97,2,   32.27,2, -33.9963,  96.1326,-999.000,-999.000,20090430,       2028
33RR20090320,        I05,     147,          2,         17,         17,2,20090430,       1911,   -33.9965,    96.1319,       4355,  1142.2,   4.1662,  34.4141,2,  34.4147,2,    182.6,2,   178.7,2,   46.76,2,   32.38,2,    0.00,2,    2.29,2,   0.874,2,   0.408,2,   0.0920,2,  2221.4,2,  2312.9,2,   7.6611,2,    20.00,-999.000,9,-999.000,9,-999.000,9,   4.1639,2,-999.000,9, -999.00,9, -999.00,-999.000,9,-999.000,   40.49,2,   33.77,2, -33.9963,  96.1327,-999.000,-999.000,20090430,       2025
33RR20090320,        I05,     147,          2,         16,         16,2,20090430,       1911,   -33.9965,    96.1319,       4355,  1242.4,   3.7862,  34.4600,2,  34.4606,2,    166.7,2,  -999.0,5,   57.96,2,   33.55,2,    0.00,2,    2.39,2,   0.478,2,   0.226,2,   0.0540,2,  2238.5,2,  2324.3,2,   7.6425,2,    20.00,-999.000,9,-999.000,9,-999.000,9,   3.7854,2,-999.000,9, -999.00,9, -999.00,-999.000,9,-999.000,   39.83,2,   35.31,2, -33.9963,  96.1329,-999.000,-999.000,20090430,       2023
33RR20090320,        I05,     147,          2,         15,         15,2,20090430,       1911,   -33.9965,    96.1319,       4355,  1343.2,   3.5257,  34.5052,2,  34.5058,2,    157.7,2,   157.9,2,   66.43,2,   34.23,2,    0.00,2,    2.46,2,   0.250,2,   0.117,2,   0.0580,2,  2250.3,2,  2333.6,2,   7.6312,2,    20.00,-999.000,9,-999.000,9,-999.000,9,   3.5249,2,-999.000,9, -999.00,9, -999.00,-999.000,9,-999.000,   40.17,2,   35.62,2, -33.9963,  96.1329,-999.000,-999.000,20090430,       2020
33RR20090320,        I05,     147,          2,         14,         14,2,20090430,       1911,   -33.9965,    96.1319,       4355,  1442.2,   3.3258,  34.5439,2,  34.5433,2,    152.9,2,   153.3,2,   73.26,2,   34.51,2,    0.00,2,    2.48,2,   0.136,2,   0.066,2,   0.0000,2,  2260.1,2,  2340.4,2,   7.6264,2,    20.00,-999.000,9,-999.000,9,-999.000,9,   3.3271,2,-999.000,9, -999.00,9, -999.00,-999.000,9,-999.000,   39.96,2,   35.89,2, -33.9963,  96.1331,-999.000,-999.000,20090430,       2017
33RR20090320,        I05,     147,          2,         13,         13,2,20090430,       1911,   -33.9965,    96.1319,       4355,  1544.4,   3.1616,  34.5718,2,  34.5726,2,    152.9,2,   153.3,2,   76.96,2,   34.39,2,    0.00,2,    2.47,2,   0.092,2,   0.045,2,   0.0000,2,  2265.3,6,  2345.2,2,   7.6261,2,    20.00,-999.000,9,-999.000,9,-999.000,9,   3.1614,2,-999.000,9, -999.00,9, -999.00,-999.000,9,-999.000,   39.63,2,   35.93,2, -33.9963,  96.1332,-999.000,-999.000,20090430,       2014
33RR20090320,        I05,     147,          2,         12,         12,2,20090430,       1911,   -33.9965,    96.1319,       4355,  1644.0,   3.0204,  34.6016,2,  34.6024,2,    153.1,2,   153.9,2,   80.85,2,   34.22,2,    0.00,2,    2.46,2,   0.058,2,   0.027,2,   0.0300,2,  2266.8,2,  2349.2,2,   7.6289,2,    20.00,-999.000,9,-999.000,9,-999.000,9,   3.0196,2,-999.000,9, -999.00,9, -999.00,-999.000,9,-999.000,   39.93,2,   35.66,2, -33.9963,  96.1332,-999.000,-999.000,20090430,       2011
33RR20090320,        I05,     147,          2,         11,         11,2,20090430,       1911,   -33.9965,    96.1319,       4355,  1874.9,   2.6475,  34.6669,2,  34.6667,2,    161.2,2,   161.2,2,   87.52,2,   33.33,2,    0.00,2,    2.38,2,   0.027,2,   0.014,2,   0.0000,2,  2269.6,2,  2355.7,2,   7.6429,2,    20.00,-999.000,9,-999.000,9,-999.000,9,   2.6479,2,-999.000,9, -999.00,9, -999.00,-999.000,9,-999.000,   40.18,2,   35.06,2, -33.9961,  96.1331,-999.000,-999.000,20090430,       2006
33RR20090320,        I05,     147,          2,         10,         10,2,20090430,       1911,   -33.9965,    96.1319,       4355,  2096.3,   2.4027,  34.7035,2,  34.7036,2,    171.9,2,   172.4,2,   88.25,2,   32.20,2,    0.00,2,    2.29,2,   0.032,2,   0.016,2,   0.0220,2,  2264.2,2,  2357.4,2,   7.6589,2,    20.00,-999.000,9,-999.000,9,-999.000,9,   2.4025,2,-999.000,9, -999.00,9, -999.00,-999.000,9,-999.000,   40.02,2,   33.51,2, -33.9961,  96.1330,-999.000,-999.000,20090430,       2001
33RR20090320,        I05,     147,          2,          9,          9,2,20090430,       1911,   -33.9965,    96.1319,       4355,  2347.9,   2.1642,  34.7305,2,  34.7311,2,    183.5,2,   183.5,2,   88.99,2,   31.14,2,    0.00,2,    2.20,2,   0.024,2,   0.012,2,   0.0340,2,  2258.6,2,  2357.8,2,   7.6747,2,    20.00,-999.000,9,-999.000,9,-999.000,9,   2.1640,2,-999.000,9, -999.00,9, -999.00,-999.000,9,-999.000,   39.93,2,   32.72,2, -33.9960,  96.1328,-999.000,-999.000,20090430,       1956
33RR20090320,        I05,     147,          2,          8,          8,2,20090430,       1911,   -33.9965,    96.1319,       4355,  2600.7,   1.9055,  34.7423,2,  34.7421,2,    192.2,2,   191.9,2,   93.08,2,   30.63,2,    0.00,2,    2.16,2,   0.025,2,   0.013,2,   0.0110,2,  2255.3,2,  2357.9,2,   7.6843,2,    20.00,-999.000,9,-999.000,9,-999.000,9,   1.9056,2,-999.000,9, -999.00,9, -999.00,-999.000,9,-999.000,   40.22,2,   32.13,2, -33.9960,  96.1326,-999.000,-999.000,20090430,       1950
33RR20090320,        I05,     147,          2,          7,          7,2,20090430,       1911,   -33.9965,    96.1319,       4355,  2854.2,   1.6793,  34.7405,2,  34.7414,2,    196.0,2,   196.1,2,   99.23,2,   30.69,2,    0.00,2,    2.17,2,   0.019,2,   0.009,2,   0.0000,2,  2256.1,2,  2360.9,2,   7.6865,2,    20.00,-999.000,9,-999.000,9,-999.000,9,   1.6799,2,-999.000,9, -999.00,9, -999.00,-999.000,9,-999.000,   40.08,2,   32.39,2, -33.9962,  96.1325,-999.000,-999.000,20090430,       1945
33RR20090320,        I05,     147,          2,          6,          6,2,20090430,       1911,   -33.9965,    96.1319,       4355,  3122.7,   1.4561,  34.7345,2,  34.7349,2,    199.7,2,   199.6,2,  105.57,2,   30.91,2,    0.00,2,    2.18,2,   0.020,2,   0.010,2,   0.0000,2,  2257.8,2,  2362.8,2,   7.6867,2,    20.00,-999.000,9,-999.000,9,-999.000,9,   1.4569,2,-999.000,9, -999.00,9, -999.00,-999.000,9,-999.000,   40.16,2,   32.48,2, -33.9964,  96.1324,-999.000,-999.000,20090430,       1939
33RR20090320,        I05,     147,          2,          5,          5,2,20090430,       1911,   -33.9965,    96.1319,       4355,  3426.4,   1.2860,  34.7270,2,  34.7280,2,    201.6,2,   202.3,2,  111.17,2,   31.25,2,    0.00,2,    2.20,2,   0.022,2,   0.013,2,   0.0000,2,  2261.7,2,  2367.0,2,   7.6870,2,    20.00,-999.000,9,-999.000,9,-999.000,9,   1.2867,2,-999.000,9, -999.00,9, -999.00,-999.000,9,-999.000,   40.12,2,   32.57,2, -33.9964,  96.1324,-999.000,-999.000,20090430,       1933
33RR20090320,        I05,     147,          2,          4,          4,2,20090430,       1911,   -33.9965,    96.1319,       4355,  3731.1,   1.1538,  34.7205,2,  34.7207,2,    203.7,2,   203.9,2,  115.29,2,   31.53,2,    0.00,2,    2.22,2,   0.027,2,   0.014,2,   0.0000,2,  2264.0,2,  2367.1,2,   7.6890,2,    20.00,-999.000,9,-999.000,9,-999.000,9,   1.1549,2,-999.000,9, -999.00,9, -999.00,-999.000,9,-999.000,   40.06,2,   33.37,2, -33.9963,  96.1323,-999.000,-999.000,20090430,       1926
33RR20090320,        I05,     147,          2,          3,          3,2,20090430,       1911,   -33.9965,    96.1319,       4355,  4036.2,   1.0718,  34.7155,2,  34.7158,2,    204.8,2,   205.2,2,  118.28,2,   31.69,2,    0.00,2,    2.22,2,   0.034,2,   0.018,2,   0.0000,2,  2265.4,2,  2373.5,2,   7.6901,2,    20.00,-999.000,9,-999.000,9,-999.000,9,   1.0721,2,-999.000,9, -999.00,9, -999.00,-999.000,9,-999.000,   39.64,2,   33.32,2, -33.9964,  96.1321,-999.000,-999.000,20090430,       1920
33RR20090320,        I05,     147,          2,          2,          2,2,20090430,       1911,   -33.9965,    96.1319,       4355,  4219.9,   1.0517,  34.7135,2,  34.7138,2,    206.0,2,   206.0,2,  119.22,2,   31.70,2,    0.00,2,    2.23,2,   0.036,2,   0.019,2,   0.0000,2,  2266.7,2,  2372.7,2,   7.6907,2,    20.00,-999.000,9,-999.000,9,-999.000,9,   1.0516,2,-999.000,9, -999.00,9, -999.00,-999.000,9,-999.000,   39.68,2,   33.02,2, -33.9964,  96.1320,-999.000,-999.000,20090430,       1916
33RR20090320,        I05,     147,          2,          1,          1,2,20090430,       1911,   -33.9965,    96.1319,       4355,  4414.6,   1.0639,  34.7128,2,  34.7136,2,    205.5,2,   205.5,2,  119.39,2,   31.80,2,    0.00,2,    2.23,2,   0.035,6,   0.019,6,   0.0140,6,  2268.1,6,  2375.4,2,   7.6906,2,    20.00,-999.000,9,-999.000,9,-999.000,9,   1.0633,2,-999.000,9, -999.00,9, -999.00,-999.000,9,-999.000,   39.69,2,   33.33,2, -33.9965,  96.1319,-999.000,-999.000,20090430,       1911