BOTTLE,20220814CCHSIOAMB
EXPOCODE,SECT_ID,STNNBR,CASTNO,SAMPNO,BTLNBR,BTLNBR_FLAG_W,DATE,TIME,LATITUDE,LONGITUDE,DEPTH,CTDPRS,CTDTMP,CTDSAL,CTDSAL_FLAG_W,SALNTY,SALNTY_FLAG_W,CTDOXY,CTDOXY_FLAG_W,OXYGEN,OXYGEN_FLAG_W,SILCAT,SILCAT_FLAG_W,NITRAT,NITRAT_FLAG_W,NITRIT,NITRIT_FLAG_W,PHSPHT,PHSPHT_FLAG_W,CFC-11,CFC-11_FLAG_W,CFC-12,CFC-12_FLAG_W,SF6,SF6_FLAG_W,TCARBN,TCARBN_FLAG_W,ALKALI,ALKALI_FLAG_W,PH_TOT,PH_TOT_FLAG_W,PH_TMP,TRITUM,TRITUM_FLAG_W,HELIUM,HELIUM_FLAG_W,DELHE3,DELHE3_FLAG_W,REFTMP,REFTMP_FLAG_W,DELC13,DELC13_FLAG_W,DELC14,DELC14_FLAG_W,C14ERR,NEON,NEON_FLAG_W,NEONER,DOC,DOC_FLAG_W,TDN,TDN_FLAG_W,BTL_LAT,BTL_LON,HELIER,DELHER,BTL_DATE,BTL_TIME
,,,,,,,,,,,METERS,DBAR,ITS-90,PSS-78,,PSS-78,,UMOL/KG,,UMOL/KG,,UMOL/KG,,UMOL/KG,,UMOL/KG,,UMOL/KG,,PMOL/KG,,PMOL/KG,,FMOL/KG,,UMOL/KG,,UMOL/KG,,,,DEG C,TU,,NMOL/KG,,PERCNT,,DEG C,,/MILLE,,/MILLE,,/MILLE,NMOL/KG,,NMOL/KG,UMOL/KG,,UMOL/KG,,,,NMOL/KG,PERCNT,,
33RR20090320,        I05,      82,          1,         36,         36,2,20090414,       0039,   -34.0031,    63.4085,       4753,     9.7,  19.8346,  35.4998,2,  35.4996,2,    226.0,2,   228.0,2,    1.82,2,    0.18,2,    0.00,2,    0.14,2,-999.000,9,-999.000,9,-999.0000,9,  2054.6,6,  2330.6,2,   8.0772,2,    20.00,-999.000,9,-999.000,9,-999.000,9,  19.8338,2,-999.000,9, -999.00,9, -999.00,-999.000,9,-999.000, -999.00,9, -999.00,9, -34.0035,  63.4105,-999.000,-999.000,20090414,       0234
33RR20090320,        I05,      82,          1,         35,         35,2,20090414,       0039,   -34.0031,    63.4085,       4753,    27.0,  19.8188,  35.4978,2,  35.4978,2,    227.4,2,   228.0,2,    1.59,2,    0.18,2,    0.00,2,    0.14,2,-999.000,9,-999.000,9,-999.0000,9,  2055.1,2,  2330.8,2,   8.0773,2,    20.00,-999.000,9,-999.000,9,-999.000,9,  19.8176,2,-999.000,9, -999.00,9, -999.00,-999.000,9,-999.000, -999.00,9, -999.00,9, -34.0037,  63.4105,-999.000,-999.000,20090414,       0233
33RR20090320,        I05,      82,          1,         34,         34,2,20090414,       0039,   -34.0031,    63.4085,       4753,    50.6,  19.7641,  35.4933,2,  35.4941,2,    227.9,2,   228.3,2,    1.59,2,    0.18,2,    0.00,2,    0.14,2,-999.000,9,-999.000,9,-999.0000,9,  2055.4,2,  2330.1,2,   8.0774,2,    20.00,-999.000,9,-999.000,9,-999.000,9,  19.7583,2,-999.000,9, -999.00,9, -999.00,-999.000,9,-999.000, -999.00,9, -999.00,9, -34.0039,  63.4105,-999.000,-999.000,20090414,       0231
33RR20090320,        I05,      82,          1,         33,         33,2,20090414,       0039,   -34.0031,    63.4085,       4753,    70.3,  17.0391,  35.4654,2,  35.4671,2,    244.9,2,   245.1,2,    1.79,2,    0.27,2,    0.01,2,    0.18,2,-999.000,9,-999.000,9,-999.0000,9,  2061.9,2,  2328.5,2,   8.0632,2,    20.00,-999.000,9,-999.000,9,-999.000,9,  16.7914,2,-999.000,9, -999.00,9, -999.00,-999.000,9,-999.000, -999.00,9, -999.00,9, -34.0040,  63.4105,-999.000,-999.000,20090414,       0230
33RR20090320,        I05,      82,          1,         32,         32,2,20090414,       0039,   -34.0031,    63.4085,       4753,    89.7,  15.7300,  35.4451,2,  35.4436,2,    246.5,2,   225.5,2,    2.82,2,    3.60,2,    0.03,2,    0.37,2,-999.000,9,-999.000,9,-999.0000,9,  2082.7,2,  2324.1,2,   8.0188,2,    20.00,-999.000,9,-999.000,9,-999.000,9,  15.7719,2,-999.000,9, -999.00,9, -999.00,-999.000,9,-999.000, -999.00,9, -999.00,9, -34.0039,  63.4093,-999.000,-999.000,20090414,       0225
33RR20090320,        I05,      82,          1,         31,         31,2,20090414,       0039,   -34.0031,    63.4085,       4753,   138.7,  14.7188,  35.3939,2,  35.3959,2,    232.5,2,   231.2,2,    3.02,2,    4.19,2,    0.07,2,    0.43,2,-999.000,9,-999.000,9,-999.0000,9,  2094.2,2,  2323.1,2,   7.9940,2,    20.00,-999.000,9,-999.000,9,-999.000,9,  14.7137,2,-999.000,9, -999.00,9, -999.00,-999.000,9,-999.000, -999.00,9, -999.00,9, -34.0035,  63.4090,-999.000,-999.000,20090414,       0223
33RR20090320,        I05,      82,          1,         30,         30,2,20090414,       0039,   -34.0031,    63.4085,       4753,   190.4,  13.8451,  35.3206,2,  35.3208,2,    232.1,2,   231.5,2,    3.43,2,    6.50,2,    0.01,2,    0.54,2,-999.000,9,-999.000,9,-999.0000,9,  -999.0,9,  -999.0,9,-999.0000,9,  -999.00,-999.000,9,-999.000,9,-999.000,9,  13.8445,2,-999.000,9, -999.00,9, -999.00,-999.000,9,-999.000, -999.00,9, -999.00,9, -34.0033,  63.4085,-999.000,-999.000,20090414,       0221
33RR20090320,        I05,      82,          1,         29,         29,2,20090414,       0039,   -34.0031,    63.4085,       4753,   242.1,  13.5948,  35.3132,2,  35.3121,2,    236.0,2,   236.3,2,    3.62,2,    6.92,2,    0.00,2,    0.57,2,-999.000,9,-999.000,9,-999.0000,9,  2102.2,2,  2318.0,2,   7.9684,2,    20.00,-999.000,9,-999.000,9,-999.000,9,  13.5913,2,-999.000,9, -999.00,9, -999.00,-999.000,9,-999.000, -999.00,9, -999.00,9, -34.0032,  63.4083,-999.000,-999.000,20090414,       0220
33RR20090320,        I05,      82,          1,         28,         28,2,20090414,       0039,   -34.0031,    63.4085,       4753,   292.2,  13.3709,  35.2867,2,  35.2847,2,    236.9,2,   236.1,2,    3.83,2,    7.54,2,    0.00,2,    0.60,2,-999.000,9,-999.000,9,-999.0000,9,  -999.0,9,  -999.0,9,-999.0000,9,  -999.00,-999.000,9,-999.000,9,-999.000,9,  13.3710,2,-999.000,9, -999.00,9, -999.00,-999.000,9,-999.000, -999.00,9, -999.00,9, -34.0030,  63.4083,-999.000,-999.000,20090414,       0218
33RR20090320,        I05,      82,          1,         27,         27,2,20090414,       0039,   -34.0031,    63.4085,       4753,   341.2,  13.1929,  35.2709,2,  35.2754,2,    234.4,2,   236.3,2,    4.02,2,    8.01,2,    0.00,2,    0.62,2,-999.000,9,-999.000,9,-999.0000,9,  2105.5,2,  2316.7,2,   7.9585,2,    20.00,-999.000,9,-999.000,9,-999.000,9,  13.1978,2,-999.000,9, -999.00,9, -999.00,-999.000,9,-999.000, -999.00,9, -999.00,9, -34.0029,  63.4084,-999.000,-999.000,20090414,       0216
33RR20090320,        I05,      82,          1,         26,         26,2,20090414,       0039,   -34.0031,    63.4085,       4753,   390.7,  12.7956,  35.2022,2,  35.2015,2,    234.0,2,   233.8,2,    4.23,2,    9.21,2,    0.00,2,    0.70,2,-999.000,9,-999.000,9,-999.0000,9,  -999.0,9,  -999.0,9,-999.0000,9,  -999.00,-999.000,9,-999.000,9,-999.000,9,  12.7951,2,-999.000,9, -999.00,9, -999.00,-999.000,9,-999.000, -999.00,9, -999.00,9, -34.0030,  63.4085,-999.000,-999.000,20090414,       0215
33RR20090320,        I05,      82,          1,         25,         25,2,20090414,       0039,   -34.0031,    63.4085,       4753,   471.8,  12.3394,  35.1320,2,  35.1314,2,    237.3,2,   236.1,2,    4.22,2,   10.05,2,    0.00,2,    0.75,2,-999.000,9,-999.000,9,-999.0000,9,  2112.7,2,  2311.5,2,   7.9323,2,    20.00,-999.000,9,-999.000,9,-999.000,9,  12.3410,2,-999.000,9, -999.00,9, -999.00,-999.000,9,-999.000, -999.00,9, -999.00,9, -34.0031,  63.4086,-999.000,-999.000,20090414,       0213
33RR20090320,        I05,      82,          1,         24,         24,2,20090414,       0039,   -34.0031,    63.4085,       4753,   571.6,  11.6401,  35.0146,2,  35.0131,2,    230.7,2,   230.2,2,    4.83,2,   12.09,2,    0.00,2,    0.89,2,-999.000,9,-999.000,9,-999.0000,9,  -999.0,9,  -999.0,9,-999.0000,9,  -999.00,-999.000,9,-999.000,9,-999.000,9,  11.6384,2,-999.000,9, -999.00,9, -999.00,-999.000,9,-999.000, -999.00,9, -999.00,9, -34.0031,  63.4087,-999.000,-999.000,20090414,       0210
33RR20090320,        I05,      82,          1,         23,         23,2,20090414,       0039,   -34.0031,    63.4085,       4753,   670.9,  10.7716,  34.8873,2,  34.8872,2,    223.0,2,   223.4,2,    5.86,2,   14.61,2,    0.00,2,    1.04,2,-999.000,9,-999.000,9,-999.0000,9,  2127.6,2,  2301.7,2,   7.8776,2,    20.00,-999.000,9,-999.000,9,-999.000,9,  10.7634,2,-999.000,9, -999.00,9, -999.00,-999.000,9,-999.000, -999.00,9, -999.00,9, -34.0033,  63.4087,-999.000,-999.000,20090414,       0208
33RR20090320,        I05,      82,          1,         22,         22,2,20090414,       0039,   -34.0031,    63.4085,       4753,   770.8,   9.6954,  34.7519,2,  34.7517,2,    215.5,2,   215.9,2,    8.14,2,   17.69,2,    0.00,2,    1.25,2,-999.000,9,-999.000,9,-999.0000,9,  -999.0,9,  -999.0,9,-999.0000,9,  -999.00,-999.000,9,-999.000,9,-999.000,9,   9.6943,2,-999.000,9, -999.00,9, -999.00,-999.000,9,-999.000, -999.00,9, -999.00,9, -34.0033,  63.4087,-999.000,-999.000,20090414,       0205
33RR20090320,        I05,      82,          1,         21,         21,2,20090414,       0039,   -34.0031,    63.4085,       4753,   871.6,   8.2706,  34.5961,2,  34.5978,2,    208.8,2,   207.8,2,   12.29,2,   21.74,2,    0.00,2,    1.52,2,-999.000,9,-999.000,9,-999.0000,9,  2153.7,2,  2291.6,2,   7.7963,2,    20.00,-999.000,9,-999.000,9,-999.000,9,   8.2700,2,-999.000,9, -999.00,9, -999.00,-999.000,9,-999.000, -999.00,9, -999.00,9, -34.0032,  63.4085,-999.000,-999.000,20090414,       0203
33RR20090320,        I05,      82,          1,         20,         20,2,20090414,       0039,   -34.0031,    63.4085,       4753,   973.3,   6.6053,  34.4549,2,  34.4576,2,    205.1,2,   204.4,2,   18.76,2,   25.95,2,    0.00,2,    1.82,2,-999.000,9,-999.000,9,-999.0000,9,  -999.0,9,  -999.0,9,-999.0000,9,  -999.00,-999.000,9,-999.000,9,-999.000,9,   6.6301,2,-999.000,9, -999.00,9, -999.00,-999.000,9,-999.000, -999.00,9, -999.00,9, -34.0032,  63.4085,-999.000,-999.000,20090414,       0200
33RR20090320,        I05,      82,          1,         19,         19,2,20090414,       0039,   -34.0031,    63.4085,       4753,  1072.0,   5.5169,  34.3873,2,  34.3873,2,    205.0,2,   206.0,2,   24.60,2,   28.32,2,    0.00,2,    1.98,2,-999.000,9,-999.000,9,-999.0000,9,  2182.4,2,  2294.5,2,   7.7210,2,    20.00,-999.000,9,-999.000,9,-999.000,9,   5.5163,2,-999.000,9, -999.00,9, -999.00,-999.000,9,-999.000, -999.00,9, -999.00,9, -34.0031,  63.4086,-999.000,-999.000,20090414,       0158
33RR20090320,        I05,      82,          1,         18,         18,2,20090414,       0039,   -34.0031,    63.4085,       4753,  1170.8,   4.4422,  34.3644,2,  34.3643,2,    200.2,2,   201.3,2,   34.45,2,   30.66,2,    0.00,2,    2.17,2,-999.000,9,-999.000,9,-999.0000,9,  -999.0,9,  -999.0,9,-999.0000,9,  -999.00,-999.000,9,-999.000,9,-999.000,9,   4.4397,2,-999.000,9, -999.00,9, -999.00,-999.000,9,-999.000, -999.00,9, -999.00,9, -34.0030,  63.4087,-999.000,-999.000,20090414,       0155
33RR20090320,        I05,      82,          1,         17,         17,2,20090414,       0039,   -34.0031,    63.4085,       4753,  1272.5,   3.7848,  34.4023,2,  34.4016,2,    189.5,2,   188.8,2,   46.00,2,   32.45,2,    0.00,2,    2.31,2,-999.000,9,-999.000,9,-999.0000,9,  -999.0,9,  -999.0,9,-999.0000,9,  -999.00,-999.000,9,-999.000,9,-999.000,9,   3.7848,2,-999.000,9, -999.00,9, -999.00,-999.000,9,-999.000, -999.00,9, -999.00,9, -34.0032,  63.4087,-999.000,-999.000,20090414,       0153
33RR20090320,        I05,      82,          1,         16,         16,2,20090414,       0039,   -34.0031,    63.4085,       4753,  1372.5,   3.4266,  34.4476,2,  34.4472,2,    181.4,2,   180.2,2,   54.84,2,   33.41,2,    0.00,2,    2.38,2,-999.000,9,-999.000,9,-999.0000,9,  -999.0,9,  -999.0,9,-999.0000,9,  -999.00,-999.000,9,-999.000,9,-999.000,9,   3.4273,2,-999.000,9, -999.00,9, -999.00,-999.000,9,-999.000, -999.00,9, -999.00,9, -34.0032,  63.4085,-999.000,-999.000,20090414,       0150
33RR20090320,        I05,      82,          1,         15,         15,2,20090414,       0039,   -34.0031,    63.4085,       4753,  1473.9,   3.1958,  34.4916,2,  34.4907,2,    174.8,2,   174.4,2,   61.18,2,   33.78,2,    0.00,2,    2.41,2,-999.000,9,-999.000,9,-999.0000,9,  2239.0,2,  2325.8,2,   7.6447,2,    20.00,-999.000,9,-999.000,9,-999.000,9,   3.1955,2,-999.000,9, -999.00,9, -999.00,-999.000,9,-999.000, -999.00,9, -999.00,9, -34.0033,  63.4084,-999.000,-999.000,20090414,       0148
33RR20090320,        I05,      82,          1,         14,         14,2,20090414,       0039,   -34.0031,    63.4085,       4753,  1574.4,   3.0045,  34.5328,2,  34.5320,2,    172.1,2,   172.0,2,   65.61,2,   33.72,2,    0.00,2,    2.41,2,-999.000,9,-999.000,9,-999.0000,9,  2243.0,2,  2330.4,2,   7.6414,2,    20.00,-999.000,9,-999.000,9,-999.000,9,   3.0045,2,-999.000,9, -999.00,9, -999.00,-999.000,9,-999.000, -999.00,9, -999.00,9, -34.0034,  63.4084,-999.000,-999.000,20090414,       0145
33RR20090320,        I05,      82,          1,         13,         13,2,20090414,       0039,   -34.0031,    63.4085,       4753,  1749.4,   2.7392,  34.6061,2,  34.6062,2,    171.5,2,   172.8,2,   71.75,2,   33.12,2,    0.00,2,    2.35,2,-999.000,9,-999.000,9,-999.0000,9,  -999.0,9,  -999.0,9,-999.0000,9,  -999.00,-999.000,9,-999.000,9,-999.000,9,   2.7387,2,-999.000,9, -999.00,9, -999.00,-999.000,9,-999.000, -999.00,9, -999.00,9, -34.0034,  63.4083,-999.000,-999.000,20090414,       0140
33RR20090320,        I05,      82,          1,         12,         12,2,20090414,       0039,   -34.0031,    63.4085,       4753,  1948.0,   2.5074,  34.6743,2,  34.6734,2,    176.7,2,   177.9,2,   77.05,2,   32.11,2,    0.00,2,    2.28,2,-999.000,9,-999.000,9,-999.0000,9,  2248.4,2,  2344.4,2,   7.6616,2,    20.00,-999.000,9,-999.000,9,-999.000,9,   2.5079,2,-999.000,9, -999.00,9, -999.00,-999.000,9,-999.000, -999.00,9, -999.00,9, -34.0033,  63.4083,-999.000,-999.000,20090414,       0137
33RR20090320,        I05,      82,          1,         11,         11,2,20090414,       0039,   -34.0031,    63.4085,       4753,  2180.0,   2.3329,  34.7084,2,  34.7078,2,    180.7,2,   180.6,2,   84.48,2,   31.58,2,    0.00,2,    2.26,2,-999.000,9,-999.000,9,-999.0000,9,  2252.6,2,  2353.6,2,   7.6728,2,    20.00,-999.000,9,-999.000,9,-999.000,9,   2.3323,2,-999.000,9, -999.00,9, -999.00,-999.000,9,-999.000, -999.00,9, -999.00,9, -34.0032,  63.4079,-999.000,-999.000,20090414,       0132
33RR20090320,        I05,      82,          1,         10,         10,2,20090414,       0039,   -34.0031,    63.4085,       4753,  2432.0,   2.1139,  34.7270,2,  34.7265,2,    179.9,2,   179.7,2,   97.27,2,   31.94,2,    0.00,2,    2.28,2,-999.000,9,-999.000,9,-999.0000,9,  -999.0,9,  -999.0,9,-999.0000,9,  -999.00,-999.000,9,-999.000,9,-999.000,9,   2.1137,2,-999.000,9, -999.00,9, -999.00,-999.000,9,-999.000, -999.00,9, -999.00,9, -34.0033,  63.4080,-999.000,-999.000,20090414,       0127
33RR20090320,        I05,      82,          1,          9,          9,2,20090414,       0039,   -34.0031,    63.4085,       4753,  2684.3,   1.9512,  34.7312,2,  34.7314,2,    178.6,2,   177.7,2,  107.31,2,   32.47,2,    0.00,2,    2.32,2,-999.000,9,-999.000,9,-999.0000,9,  -999.0,9,  -999.0,9,-999.0000,9,  -999.00,-999.000,9,-999.000,9,-999.000,9,   1.9511,2,-999.000,9, -999.00,9, -999.00,-999.000,9,-999.000, -999.00,9, -999.00,9, -34.0033,  63.4080,-999.000,-999.000,20090414,       0122
33RR20090320,        I05,      82,          1,          8,          8,2,20090414,       0039,   -34.0031,    63.4085,       4753,  2938.2,   1.8002,  34.7318,2,  34.7314,2,    178.9,2,   178.3,2,  113.51,2,   32.73,2,    0.00,2,    2.34,2,-999.000,9,-999.000,9,-999.0000,9,  2278.4,2,  2380.6,2,   7.6776,2,    20.00,-999.000,9,-999.000,9,-999.000,9,   1.8010,2,-999.000,9, -999.00,9, -999.00,-999.000,9,-999.000, -999.00,9, -999.00,9, -34.0036,  63.4080,-999.000,-999.000,20090414,       0117
33RR20090320,        I05,      82,          1,          7,          7,2,20090414,       0039,   -34.0031,    63.4085,       4753,  3226.9,   1.6474,  34.7284,2,  34.7280,2,    182.0,2,   181.4,2,  117.37,2,   32.83,2,    0.00,2,    2.35,2,-999.000,9,-999.000,9,-999.0000,9,  2279.6,2,  2382.4,2,   7.6784,2,    20.00,-999.000,9,-999.000,9,-999.000,9,   1.6473,2,-999.000,9, -999.00,9, -999.00,-999.000,9,-999.000, -999.00,9, -999.00,9, -34.0034,  63.4079,-999.000,-999.000,20090414,       0111
33RR20090320,        I05,      82,          1,          6,          6,2,20090414,       0039,   -34.0031,    63.4085,       4753,  3529.4,   1.4369,  34.7225,2,  34.7215,2,    188.0,2,   187.9,2,  120.15,2,   32.78,2,    0.00,2,    2.34,2,-999.000,9,-999.000,9,-999.0000,9,  -999.0,9,  -999.0,9,-999.0000,9,  -999.00,-999.000,9,-999.000,9,-999.000,9,   1.4379,2,-999.000,9, -999.00,9, -999.00,-999.000,9,-999.000, -999.00,9, -999.00,9, -34.0030,  63.4081,-999.000,-999.000,20090414,       0105
33RR20090320,        I05,      82,          1,          5,          5,2,20090414,       0039,   -34.0031,    63.4085,       4753,  3835.5,   1.0763,  34.7097,2,  34.7088,2,    198.4,2,   200.0,2,  124.01,2,   32.46,2,    0.00,2,    2.31,2,-999.000,9,-999.000,9,-999.0000,9,  -999.0,9,  -999.0,9,-999.0000,9,  -999.00,-999.000,9,-999.000,9,-999.000,9,   1.0767,2,-999.000,9, -999.00,9, -999.00,-999.000,9,-999.000, -999.00,9, -999.00,9, -34.0031,  63.4081,-999.000,-999.000,20090414,       0059
33RR20090320,        I05,      82,          1,          4,          4,2,20090414,       0039,   -34.0031,    63.4085,       4753,  4139.5,   0.8022,  34.6992,2,  34.6987,2,    208.3,2,   208.0,2,  127.66,2,   32.51,2,    0.00,2,    2.30,2,-999.000,9,-999.000,9,-999.0000,9,  -999.0,9,  -999.0,9,-999.0000,9,  -999.00,-999.000,9,-999.000,9,-999.000,9,   0.8016,2,-999.000,9, -999.00,9, -999.00,-999.000,9,-999.000, -999.00,9, -999.00,9, -34.0037,  63.4082,-999.000,-999.000,20090414,       0053
33RR20090320,        I05,      82,          1,          3,          3,2,20090414,       0039,   -34.0031,    63.4085,       4753,  4444.3,   0.7213,  34.6949,2,  34.6952,2,    211.3,2,   211.0,2,  129.37,2,   32.45,2,    0.00,2,    2.31,2,-999.000,9,-999.000,9,-999.0000,9,  -999.0,9,  -999.0,9,-999.0000,9,  -999.00,-999.000,9,-999.000,9,-999.000,9,   0.7215,2,-999.000,9, -999.00,9, -999.00,-999.000,9,-999.000, -999.00,9, -999.00,9, -34.0038,  63.4081,-999.000,-999.000,20090414,       0047
33RR20090320,        I05,      82,          1,          2,          2,2,20090414,       0039,   -34.0031,    63.4085,       4753,  4629.1,   0.6341,  34.6906,2,  34.6905,2,    214.7,2,   214.3,2,  130.66,2,   32.44,2,    0.00,2,    2.30,2,-999.000,9,-999.000,9,-999.0000,9,  -999.0,9,  -999.0,9,-999.0000,9,  -999.00,-999.000,9,-999.000,9,-999.000,9,   0.6342,2,-999.000,9, -999.00,9, -999.00,-999.000,9,-999.000, -999.00,9, -999.00,9, -34.0035,  63.4083,-999.000,-999.000,20090414,       0043
33RR20090320,        I05,      82,          1,          1,          1,2,20090414,       0039,   -34.0031,    63.4085,       4753,  4823.6,   0.5904,  34.6878,2,  34.6873,2,    215.5,2,   215.9,2,  131.52,2,   32.38,2,    0.00,2,    2.30,2,-999.000,9,-999.000,9,-999.0000,9,  2264.0,6,  2365.3,2,   7.6790,2,    20.00,-999.000,9,-999.000,9,-999.000,9,   0.5906,2,-999.000,9, -999.00,9, -999.00,-999.000,9,-999.000, -999.00,9, -999.00,9, -34.0031,  63.4085,-999.000,-999.000,20090414,       0039