BOTTLE,20220814CCHSIOAMB
EXPOCODE,SECT_ID,STNNBR,CASTNO,SAMPNO,BTLNBR,BTLNBR_FLAG_W,DATE,TIME,LATITUDE,LONGITUDE,DEPTH,CTDPRS,CTDTMP,CTDSAL,CTDSAL_FLAG_W,SALNTY,SALNTY_FLAG_W,CTDOXY,CTDOXY_FLAG_W,OXYGEN,OXYGEN_FLAG_W,SILCAT,SILCAT_FLAG_W,NITRAT,NITRAT_FLAG_W,NITRIT,NITRIT_FLAG_W,PHSPHT,PHSPHT_FLAG_W,CFC-11,CFC-11_FLAG_W,CFC-12,CFC-12_FLAG_W,SF6,SF6_FLAG_W,TCARBN,TCARBN_FLAG_W,ALKALI,ALKALI_FLAG_W,PH_TOT,PH_TOT_FLAG_W,PH_TMP,TRITUM,TRITUM_FLAG_W,HELIUM,HELIUM_FLAG_W,DELHE3,DELHE3_FLAG_W,REFTMP,REFTMP_FLAG_W,DELC13,DELC13_FLAG_W,DELC14,DELC14_FLAG_W,C14ERR,NEON,NEON_FLAG_W,NEONER,DOC,DOC_FLAG_W,TDN,TDN_FLAG_W,BTL_LAT,BTL_LON,HELIER,DELHER,BTL_DATE,BTL_TIME
,,,,,,,,,,,METERS,DBAR,ITS-90,PSS-78,,PSS-78,,UMOL/KG,,UMOL/KG,,UMOL/KG,,UMOL/KG,,UMOL/KG,,UMOL/KG,,PMOL/KG,,PMOL/KG,,FMOL/KG,,UMOL/KG,,UMOL/KG,,,,DEG C,TU,,NMOL/KG,,PERCNT,,DEG C,,/MILLE,,/MILLE,,/MILLE,NMOL/KG,,NMOL/KG,UMOL/KG,,UMOL/KG,,,,NMOL/KG,PERCNT,,
33RR20090320,        I05,      61,          1,         36,         36,2,20090407,       0827,   -33.9975,    54.8836,       3905,     3.3,  20.2685,  35.4449,2,  35.4438,2,    229.3,2,   229.6,2,    1.40,2,    0.14,2,    0.00,2,    0.16,2,   2.185,6,   1.320,6,   1.2010,6,  2052.1,6,  2328.1,2,   8.0764,2,    20.00,   0.454,2,-999.000,9,-999.000,9,  20.2630,2,-999.000,9, -999.00,9, -999.00,-999.000,9,-999.000,   63.37,2,    3.90,2, -33.9975,  54.8840,-999.000,-999.000,20090407,       1021
33RR20090320,        I05,      61,          1,         35,         35,2,20090407,       0827,   -33.9975,    54.8836,       3905,    19.9,  20.0327,  35.4528,2,  35.4531,2,    230.2,2,   230.5,2,    1.38,2,    0.14,2,    0.00,2,    0.16,2,   2.197,2,   1.320,2,   1.1960,2,  2049.9,2,  2327.5,2,   8.0782,2,    20.00,   0.474,2,   1.797,2,  -1.387,2,  20.0325,2,-999.000,9, -999.00,9, -999.00,   7.182,2,   0.009,   64.24,2,    3.71,2, -33.9975,  54.8840,   0.001,   0.185,20090407,       1020
33RR20090320,        I05,      61,          1,         34,         34,2,20090407,       0827,   -33.9975,    54.8836,       3905,    40.5,  18.9577,  35.4678,2,  35.4640,2,    239.6,2,   239.1,2,    1.36,2,    0.14,2,    0.00,2,    0.16,2,   2.342,2,   1.400,2,   1.2590,2,  2052.0,2,  2328.2,2,   8.0752,2,    20.00,   0.467,2,-999.000,9,-999.000,9,  18.9324,2,-999.000,9, -999.00,9, -999.00,-999.000,9,-999.000,   63.15,2,    3.97,2, -33.9975,  54.8841,-999.000,-999.000,20090407,       1019
33RR20090320,        I05,      61,          1,         33,         33,2,20090407,       0827,   -33.9975,    54.8836,       3905,    64.9,  16.5457,  35.4365,2,  35.4387,2,    245.5,2,   244.1,2,    1.92,2,    0.91,2,    0.04,2,    0.24,2,   2.571,2,   1.537,2,   1.3070,2,  2067.3,2,  2327.1,2,   8.0464,2,    20.00,   0.459,2,   1.835,2,  -1.967,2,  16.5315,2,-999.000,9, -999.00,9, -999.00,   7.505,2,   0.008,   59.73,2,    4.50,2, -33.9974,  54.8841,   0.001,   0.193,20090407,       1017
33RR20090320,        I05,      61,          1,         32,         32,2,20090407,       0827,   -33.9975,    54.8836,       3905,    89.9,  15.9122,  35.4193,2,  35.4190,2,    241.4,2,   240.9,2,    2.09,2,    1.89,2,    0.08,2,    0.30,2,   2.665,2,   1.569,2,   1.2530,2,  2077.6,2,  2326.5,2,   8.0285,2,    20.00,   0.442,2,   1.814,2,  -2.025,2,  15.9128,2,-999.000,9, -999.00,9, -999.00,   7.366,2,   0.009,   56.71,2,    5.48,2, -33.9975,  54.8841,   0.000,   0.186,20090407,       1016
33RR20090320,        I05,      61,          1,         31,         31,2,20090407,       0827,   -33.9975,    54.8836,       3905,   115.5,  15.1517,  35.4038,2,  35.4040,2,    235.3,2,   235.2,2,    2.46,2,    3.50,2,    0.09,2,    0.40,2,   2.729,2,   1.612,2,   1.4540,2,  2086.4,2,  2323.7,2,   8.0075,2,    20.00,   0.433,2,   1.882,2,  -1.045,2,  15.1624,2,-999.000,9, -999.00,9, -999.00,   7.622,2,   0.011,   54.20,2,    6.97,2, -33.9975,  54.8842,   0.000,   0.174,20090407,       1014
33RR20090320,        I05,      61,          1,         30,         30,2,20090407,       0827,   -33.9975,    54.8836,       3905,   139.2,  14.7020,  35.3869,2,  35.3864,2,    231.9,2,   232.6,2,    2.83,2,    4.78,2,    0.05,2,    0.47,2,   2.762,2,   1.638,2,   1.2360,2,  2093.4,2,  2323.8,2,   7.9916,2,    20.00,   0.444,2,-999.000,9,-999.000,9,  14.7021,2,-999.000,9, -999.00,9, -999.00,-999.000,9,-999.000,   52.57,2,    7.83,2, -33.9975,  54.8842,-999.000,-999.000,20090407,       1012
33RR20090320,        I05,      61,          1,         29,         29,2,20090407,       0827,   -33.9975,    54.8836,       3905,   184.7,  13.9852,  35.3528,2,  35.3542,2,    232.0,2,   231.6,2,    3.40,2,    6.44,2,    0.00,2,    0.56,2,   2.832,2,   1.664,2,   1.3790,2,  2100.3,2,  2320.6,2,   7.9750,2,    20.00,   0.431,2,-999.000,9,-999.000,9,  13.9973,2,-999.000,9, -999.00,9, -999.00,-999.000,9,-999.000,   51.39,2,    9.24,2, -33.9976,  54.8843,-999.000,-999.000,20090407,       1010
33RR20090320,        I05,      61,          1,         28,         28,2,20090407,       0827,   -33.9975,    54.8836,       3905,   234.9,  13.6693,  35.3253,2,  35.3247,2,    232.1,2,   231.8,2,    3.38,2,    7.20,2,    0.00,2,    0.60,2,   2.868,2,   1.694,2,   1.3320,2,  2107.0,2,  2320.4,2,   7.9654,2,    20.00,   0.412,2,   1.823,2,  -1.493,2,  13.6692,2,-999.000,9, -999.00,9, -999.00,   7.582,2,   0.011,   50.06,2,    9.89,2, -33.9977,  54.8843,   0.001,   0.186,20090407,       1007
33RR20090320,        I05,      61,          1,         27,         27,2,20090407,       0827,   -33.9975,    54.8836,       3905,   283.9,  13.5173,  35.3157,2,  35.3152,2,    233.5,2,   234.5,2,    3.54,2,    7.41,2,    0.00,2,    0.62,2,   2.887,2,   1.701,2,   1.3350,2,  2107.3,2,  2319.0,2,   7.9653,2,    20.00,   0.419,2,   1.835,2,  -1.262,2,  13.5160,2,-999.000,9, -999.00,9, -999.00,   7.635,2,   0.009,   48.16,2,    9.85,2, -33.9977,  54.8843,   0.001,   0.192,20090407,       1005
33RR20090320,        I05,      61,          1,         26,         26,2,20090407,       0827,   -33.9975,    54.8836,       3905,   333.5,  13.2705,  35.2782,2,  35.2776,2,    230.9,2,   232.2,2,    3.72,2,    8.22,2,    0.00,2,    0.66,2,   2.946,2,   1.715,2,   1.2470,2,  2107.5,2,  2318.1,2,   7.9549,2,    20.00,   0.392,2,   1.839,2,  -1.009,2,  13.2689,2,-999.000,9, -999.00,9, -999.00,   7.654,2,   0.009,   47.38,2,   10.37,2, -33.9976,  54.8843,   0.001,   0.192,20090407,       1002
33RR20090320,        I05,      61,          1,         25,         25,2,20090407,       0827,   -33.9975,    54.8836,       3905,   384.2,  13.0140,  35.2386,2,  35.2362,2,    229.7,2,   229.4,2,    3.90,2,    9.14,2,    0.00,2,    0.71,2,   2.966,2,   1.730,2,   1.2940,2,  2109.5,2,  2317.0,2,   7.9438,2,    20.00,   0.372,2,   1.932,2,  -0.752,2,  13.0183,2,-999.000,9, -999.00,9, -999.00,   7.968,2,   0.009,   45.72,2,   11.04,2, -33.9976,  54.8843,   0.001,   0.180,20090407,       1000
33RR20090320,        I05,      61,          1,         24,         24,2,20090407,       0827,   -33.9975,    54.8836,       3905,   434.9,  12.5823,  35.1689,2,  35.1702,2,    228.6,2,   228.1,2,    4.07,2,   10.17,2,    0.00,2,    0.78,2,   3.037,2,   1.729,2,   1.2430,2,  2112.6,2,  2315.3,2,   7.9309,2,    20.00,   0.364,2,   1.851,2,  -1.505,2,  12.5857,2,-999.000,9, -999.00,9, -999.00,   7.710,2,   0.009,   45.02,2,   11.96,2, -33.9977,  54.8843,   0.001,   0.194,20090407,       0958
33RR20090320,        I05,      61,          1,         23,         23,2,20090407,       0827,   -33.9975,    54.8836,       3905,   485.0,  12.2053,  35.1065,2,  35.1027,2,    228.1,2,   226.2,2,    4.44,2,   11.24,2,    0.00,2,    0.85,2,   3.074,2,   1.748,2,   1.0860,2,  2118.3,2,  2310.7,2,   7.9184,2,    20.00,   0.352,2,-999.000,9,-999.000,9,  12.2060,2,-999.000,9, -999.00,9, -999.00,-999.000,9,-999.000,   44.32,2,   12.85,2, -33.9977,  54.8842,-999.000,-999.000,20090407,       0955
33RR20090320,        I05,      61,          1,         22,         22,2,20090407,       0827,   -33.9975,    54.8836,       3905,   565.1,  11.6302,  35.0150,2,  35.0141,2,    223.7,2,   223.6,2,    4.81,2,   12.70,2,    0.00,2,    0.95,2,   3.124,2,   1.750,2,   1.1100,2,  2122.9,2,  2306.8,2,   7.9016,2,    20.00,   0.325,2,-999.000,9,-999.000,9,  11.6240,2,-999.000,9, -999.00,9, -999.00,-999.000,9,-999.000,   43.51,2,   13.92,2, -33.9978,  54.8841,-999.000,-999.000,20090407,       0953
33RR20090320,        I05,      61,          1,         21,         21,2,20090407,       0827,   -33.9975,    54.8836,       3905,   664.1,  10.7346,  34.8881,2,  34.8881,2,    219.6,2,   219.1,2,    6.16,2,   15.01,2,    0.00,2,    1.10,2,   3.091,2,   1.692,2,   0.9710,2,  2130.2,2,  2302.8,2,   7.8737,2,    20.00,   0.278,2,   1.847,2,  -0.109,2,  10.7357,2,-999.000,9, -999.00,9, -999.00,   7.806,2,   0.009,   42.53,2,   16.76,2, -33.9978,  54.8840,   0.001,   0.192,20090407,       0949
33RR20090320,        I05,      61,          1,         20,         20,2,20090407,       0827,   -33.9975,    54.8836,       3905,   764.7,   9.6279,  34.7508,2,  34.7524,2,    212.2,2,   213.7,2,    8.29,2,   17.92,2,    0.00,2,    1.30,2,   2.970,2,   1.577,2,   0.7440,2,  2141.2,2,  2299.5,2,   7.8396,2,    20.00,   0.249,2,-999.000,9,-999.000,9,   9.6285,2,-999.000,9, -999.00,9, -999.00,-999.000,9,-999.000,   41.79,2,   19.32,2, -33.9978,  54.8839,-999.000,-999.000,20090407,       0946
33RR20090320,        I05,      61,          1,         19,         19,2,20090407,       0827,   -33.9975,    54.8836,       3905,   864.1,   7.9805,  34.5830,2,  34.5780,2,    206.9,2,   206.0,2,   14.18,2,   22.73,2,    0.00,2,    1.61,2,   2.620,2,   1.348,2,   0.5730,2,  2158.6,2,  2293.4,2,   7.7851,2,    20.00,-999.000,9,   1.899,2,   1.487,2,   7.9764,2,-999.000,9, -999.00,9, -999.00,   8.125,2,   0.009,   41.24,2,   24.55,2, -33.9977,  54.8839,   0.001,   0.189,20090407,       0943
33RR20090320,        I05,      61,          1,         18,         18,2,20090407,       0827,   -33.9975,    54.8836,       3905,   963.9,   6.3644,  34.4608,2,  34.4627,2,    204.8,2,   203.9,2,   21.25,2,   26.37,2,    0.00,2,    1.88,2,   2.268,2,   1.161,2,   0.5280,2,  2175.1,2,  2294.7,2,   7.7441,2,    20.00,-999.000,9,   1.888,2,   2.520,2,   6.3731,2,-999.000,9, -999.00,9, -999.00,   8.093,2,   0.009,   41.06,2,   28.30,2, -33.9977,  54.8839,   0.001,   0.205,20090407,       0940
33RR20090320,        I05,      61,          1,         17,         17,2,20090407,       0827,   -33.9975,    54.8836,       3905,  1065.3,   5.3094,  34.4011,2,  34.4011,2,    202.9,2,   203.7,2,   27.74,2,   28.87,2,    0.00,2,    2.05,2,   2.126,2,   1.055,2,   0.4410,2,  2186.8,2,  2297.6,2,   7.7155,2,    20.00,   0.115,2,   1.887,2,   2.954,2,   5.3038,2,-999.000,9, -999.00,9, -999.00,   8.159,2,   0.010,   40.85,2,   30.73,2, -33.9976,  54.8840,   0.001,   0.195,20090407,       0937
33RR20090320,        I05,      61,          1,         16,         16,2,20090407,       0827,   -33.9975,    54.8836,       3905,  1166.9,   4.4532,  34.3955,2,  34.3973,2,    198.3,2,   197.9,2,   36.83,2,   30.73,2,    0.00,2,    2.20,2,   1.698,2,   0.834,2,   0.3660,2,  2201.8,2,  2304.3,2,   7.6918,2,    20.00,-999.000,9,-999.000,9,-999.000,9,   4.4575,2,-999.000,9, -999.00,9, -999.00,-999.000,9,-999.000,   40.41,2,   32.26,2, -33.9976,  54.8840,-999.000,-999.000,20090407,       0934
33RR20090320,        I05,      61,          1,         15,         15,2,20090407,       0827,   -33.9975,    54.8836,       3905,  1266.1,   3.9494,  34.4179,2,  34.4195,2,    191.0,2,   191.3,2,   44.75,2,   31.81,2,    0.00,2,    2.29,2,   1.352,2,   0.652,2,   0.2540,2,  2213.2,2,  2311.6,2,   7.6750,2,    20.00,-999.000,9,   1.900,2,   4.900,2,   3.9501,2,-999.000,9, -999.00,9, -999.00,   8.164,2,   0.009,   39.97,2,   33.46,2, -33.9976,  54.8839,   0.001,   0.193,20090407,       0931
33RR20090320,        I05,      61,          1,         14,         14,2,20090407,       0827,   -33.9975,    54.8836,       3905,  1366.2,   3.4684,  34.4665,2,  34.4659,2,    184.0,2,   183.0,2,   54.09,2,   32.80,2,    0.00,2,    2.36,2,   0.933,2,   0.436,2,   0.2070,2,  2226.6,2,  2320.2,2,   7.6594,2,    20.00,   0.028,2,   1.937,2,   5.983,2,   3.4683,2,-999.000,9, -999.00,9, -999.00,   8.362,2,   0.010,   40.24,2,   34.75,2, -33.9978,  54.8839,   0.001,   0.196,20090407,       0928
33RR20090320,        I05,      61,          1,         13,         13,2,20090407,       0827,   -33.9975,    54.8836,       3905,  1461.9,   3.2557,  34.5048,2,  34.5046,2,    180.4,2,   179.9,2,   58.25,2,   32.95,2,    0.00,2,    2.37,2,   0.729,2,   0.342,2,   0.0510,2,  2232.7,2,  2325.7,2,   7.6551,2,    20.00,-999.000,9,-999.000,9,-999.000,9,   3.2546,2,-999.000,9, -999.00,9, -999.00,-999.000,9,-999.000,   40.18,2,   34.83,2, -33.9979,  54.8839,-999.000,-999.000,20090407,       0924
33RR20090320,        I05,      61,          1,         12,         12,2,20090407,       0827,   -33.9975,    54.8836,       3905,  1563.7,   2.9853,  34.5598,2,  34.5601,2,    177.6,2,   177.5,2,   65.42,2,   32.89,2,    0.00,2,    2.35,2,   0.462,2,   0.211,2,   0.0560,2,  2240.9,6,  2336.3,2,   7.6540,2,    20.00,-999.000,9,-999.000,9,-999.000,9,   2.9826,2,-999.000,9, -999.00,9, -999.00,-999.000,9,-999.000,   40.43,2,   34.65,2, -33.9980,  54.8838,-999.000,-999.000,20090407,       0921
33RR20090320,        I05,      61,          1,         11,         11,2,20090407,       0827,   -33.9975,    54.8836,       3905,  1663.3,   2.8385,  34.5964,2,  34.5961,2,    177.7,2,   177.8,2,   68.99,2,   32.62,2,    0.00,2,    2.35,2,   0.328,2,   0.150,2,   0.0000,2,  2241.9,2,  2336.7,2,   7.6579,2,    20.00,-999.000,9,   1.927,2,   8.523,2,   2.8383,2,-999.000,9, -999.00,9, -999.00,   8.280,2,   0.010,   40.46,2,   34.25,2, -33.9979,  54.8837,   0.001,   0.206,20090407,       0918
33RR20090320,        I05,      61,          1,         10,         10,2,20090407,       0827,   -33.9975,    54.8836,       3905,  1764.6,   2.7194,  34.6249,2,  34.6242,2,    179.1,2,   179.2,2,   72.16,2,   32.35,2,    0.00,2,    2.33,2,   0.262,2,   0.123,2,   0.0000,2,  2244.8,2,  2338.9,2,   7.6621,2,    20.00,-999.000,9,   1.950,2,   8.647,2,   2.7197,2,-999.000,9, -999.00,9, -999.00,   8.540,2,   0.020,   40.13,2,   33.89,2, -33.9978,  54.8835,   0.001,   0.254,20090407,       0915
33RR20090320,        I05,      61,          1,          9,          9,2,20090407,       0827,   -33.9975,    54.8836,       3905,  1936.5,   2.5676,  34.6609,2,  34.6599,2,    182.5,2,   182.0,2,   74.74,2,   31.74,2,    0.00,2,    2.28,2,   0.208,2,   0.090,2,   0.0000,2,  2245.7,2,  2343.9,2,   7.6691,2,    20.00,-999.000,9,   1.937,2,   8.538,2,   2.5679,2,-999.000,9, -999.00,9, -999.00,   8.451,2,   0.016,   40.04,2,   33.54,2, -33.9976,  54.8835,   0.001,   0.221,20090407,       0911
33RR20090320,        I05,      61,          1,          8,          8,2,20090407,       0827,   -33.9975,    54.8836,       3905,  2162.0,   2.3622,  34.6967,2,  34.6959,2,    186.1,2,   186.1,2,   80.53,2,   31.30,2,    0.00,2,    2.25,2,   0.121,2,   0.052,2,   0.0000,2,  2248.1,2,  2350.1,2,   7.6781,2,    20.00,-999.000,9,-999.000,9,-999.000,9,   2.3620,2,-999.000,9, -999.00,9, -999.00,-999.000,9,-999.000,   39.57,2,   32.73,2, -33.9976,  54.8835,-999.000,-999.000,20090407,       0905
33RR20090320,        I05,      61,          1,          7,          7,2,20090407,       0827,   -33.9975,    54.8836,       3905,  2414.8,   2.1935,  34.7238,2,  34.7234,2,    191.1,2,   190.9,2,   83.71,2,   30.75,2,    0.00,2,    2.21,2,   0.085,6,   0.040,6,   0.0000,6,  2248.2,2,  2351.5,2,   7.6859,2,    20.00,-999.000,9,   1.968,2,   8.457,2,   2.1946,2,-999.000,9, -999.00,9, -999.00,   8.566,2,   0.019,   39.53,2,   32.43,2, -33.9976,  54.8836,   0.001,   0.221,20090407,       0900
33RR20090320,        I05,      61,          1,          6,          6,2,20090407,       0827,   -33.9975,    54.8836,       3905,  2662.6,   1.9227,  34.7345,2,  34.7344,2,    195.1,2,   194.9,2,   91.53,2,   30.69,2,    0.00,2,    2.21,2,   0.069,2,   0.035,2,   0.0000,2,  2252.2,2,  2355.9,2,   7.6903,2,    20.00,-999.000,9,   1.934,2,   8.588,2,   1.9225,2,-999.000,9, -999.00,9, -999.00,   8.515,2,   0.018,   39.47,2,   32.42,2, -33.9976,  54.8836,   0.001,   0.222,20090407,       0855
33RR20090320,        I05,      61,          1,          5,          5,2,20090407,       0827,   -33.9975,    54.8836,       3905,  2936.9,   1.6634,  34.7347,2,  34.7347,2,    199.1,2,   199.3,2,   97.95,2,   30.91,2,    0.00,2,    2.22,2,   0.074,2,   0.037,2,   0.0000,2,  2253.0,2,  2359.3,2,   7.6910,2,    20.00,-999.000,9,   1.947,2,   9.011,2,   1.6642,2,-999.000,9, -999.00,9, -999.00,   8.549,2,   0.016,   39.44,2,   32.54,2, -33.9978,  54.8836,   0.001,   0.222,20090407,       0849
33RR20090320,        I05,      61,          1,          4,          4,2,20090407,       0827,   -33.9975,    54.8836,       3905,  3223.6,   1.3784,  34.7263,2,  34.7260,2,    202.6,2,   203.0,2,  106.41,2,   31.23,2,    0.00,2,    2.24,2,   0.084,2,   0.041,2,   0.0000,2,  2256.0,2,  2360.2,2,   7.6895,2,    20.00,-999.000,9,-999.000,9,-999.000,9,   1.3794,2,-999.000,9, -999.00,9, -999.00,-999.000,9,-999.000,   39.80,2,   32.93,2, -33.9978,  54.8835,-999.000,-999.000,20090407,       0843
33RR20090320,        I05,      61,          1,          3,          3,2,20090407,       0827,   -33.9975,    54.8836,       3905,  3527.5,   1.2600,  34.7218,2,  34.7213,2,    204.7,2,   204.7,2,  110.21,2,   31.39,2,    0.00,2,    2.25,2,   0.093,2,   0.046,2,   0.0000,2,  2256.9,2,  2361.9,2,   7.6887,2,    20.00,   0.036,2,   1.977,2,   8.549,2,   1.2599,2,-999.000,9, -999.00,9, -999.00,   8.718,2,   0.021,   39.20,2,   33.11,2, -33.9977,  54.8835,   0.001,   0.212,20090407,       0837
33RR20090320,        I05,      61,          1,          2,          2,2,20090407,       0827,   -33.9975,    54.8836,       3905,  3730.9,   1.2523,  34.7208,2,  34.7205,2,    205.7,2,   205.0,2,  111.39,2,   31.44,2,    0.00,2,    2.26,2,   0.086,2,   0.042,2,   0.0000,2,  2257.3,2,  2363.0,2,   7.6889,2,    20.00,-999.000,9,   1.946,2,   8.581,2,   1.2521,2,-999.000,9, -999.00,9, -999.00,   8.580,2,   0.020,   40.02,2,   32.84,2, -33.9975,  54.8835,   0.001,   0.222,20090407,       0832
33RR20090320,        I05,      61,          1,          1,          1,2,20090407,       0827,   -33.9975,    54.8836,       3905,  3955.0,   1.2602,  34.7202,2,  34.7197,2,    205.5,2,   205.3,2,  111.76,2,   31.38,2,    0.00,2,    2.26,2,   0.086,2,   0.041,2,   0.0000,2,  2257.1,6,  2363.8,2,   7.6885,2,    20.00,-999.000,9,   1.975,2,   8.630,2,   1.2604,2,-999.000,9, -999.00,9, -999.00,   8.667,2,   0.020,   40.14,2,   32.47,2, -33.9975,  54.8836,   0.001,   0.211,20090407,       0827