BOTTLE,20220814CCHSIOAMB
EXPOCODE,SECT_ID,STNNBR,CASTNO,SAMPNO,BTLNBR,BTLNBR_FLAG_W,DATE,TIME,LATITUDE,LONGITUDE,DEPTH,CTDPRS,CTDTMP,CTDSAL,CTDSAL_FLAG_W,SALNTY,SALNTY_FLAG_W,CTDOXY,CTDOXY_FLAG_W,OXYGEN,OXYGEN_FLAG_W,SILCAT,SILCAT_FLAG_W,NITRAT,NITRAT_FLAG_W,NITRIT,NITRIT_FLAG_W,PHSPHT,PHSPHT_FLAG_W,CFC-11,CFC-11_FLAG_W,CFC-12,CFC-12_FLAG_W,SF6,SF6_FLAG_W,TCARBN,TCARBN_FLAG_W,ALKALI,ALKALI_FLAG_W,PH_TOT,PH_TOT_FLAG_W,PH_TMP,TRITUM,TRITUM_FLAG_W,HELIUM,HELIUM_FLAG_W,DELHE3,DELHE3_FLAG_W,REFTMP,REFTMP_FLAG_W,DELC13,DELC13_FLAG_W,DELC14,DELC14_FLAG_W,C14ERR,NEON,NEON_FLAG_W,NEONER,DOC,DOC_FLAG_W,TDN,TDN_FLAG_W,BTL_LAT,BTL_LON,HELIER,DELHER,BTL_DATE,BTL_TIME
,,,,,,,,,,,METERS,DBAR,ITS-90,PSS-78,,PSS-78,,UMOL/KG,,UMOL/KG,,UMOL/KG,,UMOL/KG,,UMOL/KG,,UMOL/KG,,PMOL/KG,,PMOL/KG,,FMOL/KG,,UMOL/KG,,UMOL/KG,,,,DEG C,TU,,NMOL/KG,,PERCNT,,DEG C,,/MILLE,,/MILLE,,/MILLE,NMOL/KG,,NMOL/KG,UMOL/KG,,UMOL/KG,,,,NMOL/KG,PERCNT,,
33RR20090320,        I05,     105,          1,         36,         36,2,20090420,       1053,   -32.8138,    75.0492,       3883,     4.0,  20.7698,  35.7724,2,  35.7734,2,    225.0,2,   224.8,2,    1.35,2,    0.13,2,    0.00,2,    0.14,2,   2.086,6,   1.251,6,   1.2580,6,  2061.8,6,  2347.5,2,   8.0924,2,    20.00,-999.000,9,-999.000,9,-999.000,9,  20.7678,2,   1.262,2,   57.23,2,     3.1,-999.000,9,-999.000,   67.45,2,    3.98,2, -32.8139,  75.0492,-999.000,-999.000,20090420,       1245
33RR20090320,        I05,     105,          1,         35,         35,2,20090420,       1053,   -32.8138,    75.0492,       3883,    33.8,  20.7357,  35.7771,2,  35.7776,2,    225.9,2,   224.9,2,    1.31,2,    0.13,2,    0.00,2,    0.14,2,   2.134,2,   1.284,2,   1.3270,2,  2060.4,2,  2348.7,2,   8.0934,2,    20.00,-999.000,9,-999.000,9,-999.000,9,  20.7359,2,-999.000,9, -999.00,9, -999.00,-999.000,9,-999.000,   67.17,2,    4.86,2, -32.8139,  75.0492,-999.000,-999.000,20090420,       1243
33RR20090320,        I05,     105,          1,         34,         34,2,20090420,       1053,   -32.8138,    75.0492,       3883,    60.7,  20.1561,  35.6288,2,  35.6311,2,    228.3,2,   229.0,2,    1.27,2,    0.14,2,    0.00,2,    0.15,2,   2.161,2,   1.288,2,   1.1360,2,  2061.1,2,  2341.0,2,   8.0820,2,    20.00,-999.000,9,-999.000,9,-999.000,9,  20.1570,2,-999.000,9, -999.00,9, -999.00,-999.000,9,-999.000,   66.45,2,    4.06,2, -32.8139,  75.0492,-999.000,-999.000,20090420,       1242
33RR20090320,        I05,     105,          1,         33,         33,2,20090420,       1053,   -32.8138,    75.0492,       3883,    84.1,  17.7904,  35.5374,2,  35.5387,2,    250.9,2,   251.3,2,    1.04,2,    0.14,2,    0.00,2,    0.17,2,   2.532,2,   1.489,2,   1.1860,2,  2063.7,2,  2336.6,2,   8.0691,2,    20.00,-999.000,9,-999.000,9,-999.000,9,  17.7923,2,   1.465,2,   51.98,2,       3,-999.000,9,-999.000,   63.86,2,    4.25,2, -32.8140,  75.0492,-999.000,-999.000,20090420,       1240
33RR20090320,        I05,     105,          1,         32,         32,2,20090420,       1053,   -32.8138,    75.0492,       3883,   109.3,  15.5591,  35.4418,2,  35.4431,2,    249.0,2,   250.4,2,    1.19,2,    0.19,2,    0.01,2,    0.23,2,   2.700,2,   1.573,2,   1.3650,2,  2078.2,2,  2331.8,2,   8.0347,2,    20.00,-999.000,9,-999.000,9,-999.000,9,  15.5421,2,-999.000,9, -999.00,9, -999.00,-999.000,9,-999.000,   58.24,2,    3.60,2, -32.8140,  75.0492,-999.000,-999.000,20090420,       1238
33RR20090320,        I05,     105,          1,         31,         31,2,20090420,       1053,   -32.8138,    75.0492,       3883,   135.1,  14.8543,  35.3978,2,  35.3987,2,    239.5,2,   239.5,2,    1.51,2,    1.73,2,    0.15,2,    0.36,2,   2.777,2,   1.605,2,   1.3520,2,  2089.5,2,  2329.3,2,   8.0057,2,    20.00,-999.000,9,-999.000,9,-999.000,9,  14.8373,2,   1.212,2,   56.24,2,       3,-999.000,9,-999.000,   57.75,2,    5.16,2, -32.8141,  75.0492,-999.000,-999.000,20090420,       1237
33RR20090320,        I05,     105,          1,         30,         30,2,20090420,       1053,   -32.8138,    75.0492,       3883,   165.7,  13.9781,  35.2940,2,  35.2933,2,    235.5,2,   233.3,2,    2.02,2,    5.14,2,    0.04,2,    0.50,2,   2.891,2,   1.683,2,   1.3590,2,  2098.5,2,  2319.4,2,   7.9753,2,    20.00,-999.000,9,-999.000,9,-999.000,9,  13.9877,2,-999.000,9, -999.00,9, -999.00,-999.000,9,-999.000,   54.01,2,    8.31,2, -32.8141,  75.0493,-999.000,-999.000,20090420,       1235
33RR20090320,        I05,     105,          1,         29,         29,2,20090420,       1053,   -32.8138,    75.0492,       3883,   215.3,  13.2566,  35.2165,2,  35.2156,2,    231.9,2,   232.0,2,    2.54,2,    7.43,2,    0.01,2,    0.62,2,   2.999,2,   1.731,2,   1.4010,2,  2105.6,2,  2316.1,2,   7.9509,2,    20.00,-999.000,9,-999.000,9,-999.000,9,  13.2353,2,   1.052,2,   54.83,2,     3.7,-999.000,9,-999.000,   50.91,2,   10.22,2, -32.8142,  75.0493,-999.000,-999.000,20090420,       1233
33RR20090320,        I05,     105,          1,         28,         28,2,20090420,       1053,   -32.8138,    75.0492,       3883,   262.9,  12.5597,  35.1232,2,  35.1229,2,    235.2,2,   234.7,2,    2.86,2,    9.06,2,    0.00,2,    0.72,2,   3.109,2,   1.781,2,   1.4110,2,  2110.2,2,  2310.4,2,   7.9332,2,    20.00,-999.000,9,-999.000,9,-999.000,9,  12.5524,2,-999.000,9, -999.00,9, -999.00,-999.000,9,-999.000,   49.73,2,   11.07,2, -32.8142,  75.0494,-999.000,-999.000,20090420,       1230
33RR20090320,        I05,     105,          1,         27,         27,2,20090420,       1053,   -32.8138,    75.0492,       3883,   314.9,  12.1991,  35.0830,2,  35.0870,2,    235.1,2,   235.0,2,    3.18,2,   10.00,2,    0.00,2,    0.78,2,   3.169,2,   1.801,2,   1.3270,2,  2113.6,2,  2308.6,2,   7.9248,2,    20.00,-999.000,9,-999.000,9,-999.000,9,  12.2097,2,   1.058,2,    53.8,2,       3,-999.000,9,-999.000,   48.83,2,   12.43,2, -32.8142,  75.0493,-999.000,-999.000,20090420,       1227
33RR20090320,        I05,     105,          1,         26,         26,2,20090420,       1053,   -32.8138,    75.0492,       3883,   364.0,  11.9997,  35.0689,2,  35.0691,2,    236.3,2,   237.1,2,    3.51,2,   10.52,2,    0.00,2,    0.81,2,   3.194,2,   1.806,2,   1.2950,2,  2114.7,2,  2308.2,2,   7.9223,2,    20.00,-999.000,9,-999.000,9,-999.000,9,  11.9981,2,-999.000,9, -999.00,9, -999.00,-999.000,9,-999.000,   48.17,2,   13.42,2, -32.8142,  75.0493,-999.000,-999.000,20090420,       1225
33RR20090320,        I05,     105,          1,         25,         25,2,20090420,       1053,   -32.8138,    75.0492,       3883,   413.3,  11.7203,  35.0287,2,  35.0296,2,    236.3,2,   236.3,2,    3.65,2,   11.21,2,    0.00,2,    0.86,2,   3.214,2,   1.811,2,   1.3640,2,  2117.2,2,  2306.6,2,   7.9152,2,    20.00,-999.000,9,-999.000,9,-999.000,9,  11.7254,2,    1.03,2,   51.55,2,       3,-999.000,9,-999.000,   47.23,2,   13.59,2, -32.8142,  75.0493,-999.000,-999.000,20090420,       1222
33RR20090320,        I05,     105,          1,         24,         24,2,20090420,       1053,   -32.8138,    75.0492,       3883,   464.9,  11.4272,  34.9851,2,  34.9849,2,    235.0,2,   235.3,2,    3.80,2,   11.94,2,    0.00,2,    0.91,2,   3.286,2,   1.828,2,   1.2340,2,  2119.5,2,  2302.9,2,   7.9070,2,    20.00,-999.000,9,-999.000,9,-999.000,9,  11.4267,2,-999.000,9, -999.00,9, -999.00,-999.000,9,-999.000,   46.24,2,   13.78,2, -32.8142,  75.0492,-999.000,-999.000,20090420,       1221
33RR20090320,        I05,     105,          1,         23,         23,2,20090420,       1053,   -32.8138,    75.0492,       3883,   535.0,  11.0399,  34.9306,2,  34.9300,2,    235.2,2,   234.4,2,    3.94,2,   12.89,2,    0.00,2,    0.97,2,   3.349,2,   1.838,2,   1.2120,2,  2122.6,2,  2302.2,2,   7.8965,2,    20.00,-999.000,9,-999.000,9,-999.000,9,  11.0357,2,    1.09,2,   58.87,2,     3.8,-999.000,9,-999.000,   45.27,2,   14.42,2, -32.8142,  75.0492,-999.000,-999.000,20090420,       1219
33RR20090320,        I05,     105,          1,         22,         22,2,20090420,       1053,   -32.8138,    75.0492,       3883,   634.4,  10.3468,  34.8356,2,  34.8331,2,    230.3,2,   230.3,2,    4.81,2,   14.88,2,    0.00,2,    1.09,2,   3.354,2,   1.783,2,   1.0100,2,  2127.3,2,  2296.3,2,   7.8756,2,    20.00,-999.000,9,-999.000,9,-999.000,9,  10.3454,2,   1.108,2,    51.2,2,       3,-999.000,9,-999.000,   44.63,2,   16.17,2, -32.8142,  75.0492,-999.000,-999.000,20090420,       1216
33RR20090320,        I05,     105,          1,         21,         21,2,20090420,       1053,   -32.8138,    75.0492,       3883,   735.4,   9.4719,  34.7183,2,  34.7179,2,    223.6,2,   223.4,2,    6.42,2,   17.56,2,    0.00,2,    1.26,2,   3.261,2,   1.688,2,   0.8520,2,  2135.6,2,  2293.3,2,   7.8465,2,    20.00,-999.000,9,-999.000,9,-999.000,9,   9.4639,2,   1.107,2,   43.03,2,       3,-999.000,9,-999.000,   43.80,2,   19.55,2, -32.8143,  75.0491,-999.000,-999.000,20090420,       1214
33RR20090320,        I05,     105,          1,         20,         20,2,20090420,       1053,   -32.8138,    75.0492,       3883,   834.4,   8.1720,  34.5752,2,  34.5750,2,    211.4,2,   210.6,2,   10.94,2,   21.93,2,    0.00,2,    1.55,2,   2.808,2,   1.413,2,   0.6240,2,  2150.7,2,  2289.9,2,   7.7967,2,    20.00,-999.000,9,-999.000,9,-999.000,9,   8.1736,2,   1.058,2,   12.67,2,     3.2,-999.000,9,-999.000,   42.99,2,   23.83,2, -32.8143,  75.0491,-999.000,-999.000,20090420,       1212
33RR20090320,        I05,     105,          1,         19,         19,2,20090420,       1053,   -32.8138,    75.0492,       3883,   934.4,   6.8580,  34.4685,2,  34.4700,2,    203.2,2,   204.4,2,   16.94,2,   25.58,2,    0.00,2,    1.81,2,   2.358,6,   1.163,6,   0.4510,6,  2168.3,2,  2287.4,2,   7.7535,2,    20.00,-999.000,9,-999.000,9,-999.000,9,   6.8596,2,   1.074,2,  -24.43,2,     2.6,-999.000,9,-999.000,   42.28,2,   27.40,2, -32.8143,  75.0492,-999.000,-999.000,20090420,       1209
33RR20090320,        I05,     105,          1,         18,         18,2,20090420,       1053,   -32.8138,    75.0492,       3883,  1034.7,   5.4536,  34.3831,2,  34.3852,2,    203.5,2,   203.0,2,   24.59,2,   28.81,2,    0.00,2,    2.04,2,   2.049,2,   0.999,2,   0.3410,2,  2184.8,2,  2292.3,2,   7.7178,2,    20.00,-999.000,9,-999.000,9,-999.000,9,   5.4997,2,   0.996,2,  -47.92,2,     2.7,-999.000,9,-999.000,   41.44,2,   30.46,2, -32.8143,  75.0493,-999.000,-999.000,20090420,       1207
33RR20090320,        I05,     105,          1,         17,         17,2,20090420,       1053,   -32.8138,    75.0492,       3883,  1135.8,   4.5314,  34.3691,2,  34.3691,2,    196.8,2,   197.2,2,   34.12,2,   31.04,2,    0.00,2,    2.22,2,   1.593,2,   0.769,2,   0.2430,2,  2200.1,2,  2299.0,2,   7.6913,2,    20.00,-999.000,9,-999.000,9,-999.000,9,   4.5365,2,   0.964,2,  -74.55,2,     2.8,-999.000,9,-999.000,   41.02,2,   32.39,2, -32.8143,  75.0493,-999.000,-999.000,20090420,       1204
33RR20090320,        I05,     105,          1,         16,         16,2,20090420,       1053,   -32.8138,    75.0492,       3883,  1237.8,   3.9793,  34.3951,2,  34.3932,2,    187.0,2,   187.6,2,   44.05,2,   32.54,2,    0.00,2,    2.33,2,   1.125,2,   0.532,2,   0.1680,2,  2217.6,2,  2307.3,2,   7.6700,2,    20.00,-999.000,9,-999.000,9,-999.000,9,   3.9917,2,   0.862,2,  -94.04,2,     2.9,-999.000,9,-999.000,   40.63,2,   34.07,2, -32.8143,  75.0493,-999.000,-999.000,20090420,       1201
33RR20090320,        I05,     105,          1,         15,         15,2,20090420,       1053,   -32.8138,    75.0492,       3883,  1336.0,   3.6267,  34.4364,2,  34.4364,2,    176.4,2,   177.2,2,   53.09,2,   33.59,2,    0.00,2,    2.42,2,   0.749,2,   0.350,2,   0.0500,2,  2230.0,2,  2317.7,2,   7.6530,2,    20.00,-999.000,9,-999.000,9,-999.000,9,   3.6251,2,   0.707,2,  -113.2,2,     3.6,-999.000,9,-999.000,   40.08,2,   34.66,2, -32.8142,  75.0494,-999.000,-999.000,20090420,       1159
33RR20090320,        I05,     105,          1,         14,         14,2,20090420,       1053,   -32.8138,    75.0492,       3883,  1435.9,   3.3358,  34.4803,2,  34.4810,2,    170.0,2,   170.6,2,   61.03,2,   34.17,2,    0.00,2,    2.47,2,   0.521,2,   0.240,2,   0.0210,2,  2240.4,2,  2323.3,2,   7.6423,2,    20.00,-999.000,9,-999.000,9,-999.000,9,   3.3348,2,   0.657,2, -134.83,2,     2.4,-999.000,9,-999.000,   40.15,2,   35.92,2, -32.8141,  75.0494,-999.000,-999.000,20090420,       1155
33RR20090320,        I05,     105,          1,         13,         13,2,20090420,       1053,   -32.8138,    75.0492,       3883,  1531.2,   3.1335,  34.5202,2,  34.5197,2,    166.9,2,   167.2,2,   66.58,2,   34.39,2,    0.00,2,    2.48,2,   0.373,2,   0.171,2,   0.0000,2,  2247.9,2,  2330.3,2,   7.6379,2,    20.00,-999.000,9,-999.000,9,-999.000,9,   3.1332,2,-999.000,9, -999.00,9, -999.00,-999.000,9,-999.000,   39.67,2,   35.88,2, -32.8142,  75.0494,-999.000,-999.000,20090420,       1152
33RR20090320,        I05,     105,          1,         12,         12,2,20090420,       1053,   -32.8138,    75.0492,       3883,  1632.5,   2.9419,  34.5721,2,  34.5727,2,    165.6,2,   164.6,2,   72.69,2,   34.22,2,    0.00,2,    2.47,2,   0.220,2,   0.101,2,   0.0200,2,  2252.0,6,  2336.1,2,   7.6384,2,    20.00,-999.000,9,-999.000,9,-999.000,9,   2.9424,2,-999.000,9, -999.00,9, -999.00,-999.000,9,-999.000,   40.06,2,   35.85,2, -32.8142,  75.0493,-999.000,-999.000,20090420,       1148
33RR20090320,        I05,     105,          1,         11,         11,2,20090420,       1053,   -32.8138,    75.0492,       3883,  1733.3,   2.7899,  34.6061,2,  34.6061,2,    167.4,2,   166.8,2,   75.07,2,   33.84,2,    0.00,2,    2.44,2,   0.167,2,   0.079,2,   0.0000,2,  2253.0,2,  2340.5,2,   7.6423,2,    20.00,-999.000,9,-999.000,9,-999.000,9,   2.7899,2,-999.000,9, -999.00,9, -999.00,-999.000,9,-999.000,   40.03,2,   35.18,2, -32.8142,  75.0493,-999.000,-999.000,20090420,       1145
33RR20090320,        I05,     105,          1,         10,         10,2,20090420,       1053,   -32.8138,    75.0492,       3883,  1863.9,   2.6150,  34.6518,2,  34.6517,2,    171.1,2,   170.9,2,   78.01,2,   33.09,2,    0.00,2,    2.36,2,   0.111,2,   0.050,2,   0.0290,2,  2253.7,2,  2342.8,2,   7.6516,2,    20.00,-999.000,9,-999.000,9,-999.000,9,   2.6139,2,-999.000,9, -999.00,9, -999.00,-999.000,9,-999.000,   39.58,2,   34.64,2, -32.8141,  75.0493,-999.000,-999.000,20090420,       1142
33RR20090320,        I05,     105,          1,          9,          9,2,20090420,       1053,   -32.8138,    75.0492,       3883,  2087.0,   2.3267,  34.7046,2,  34.7048,2,    179.9,2,   180.0,2,   84.14,2,   32.07,2,    0.00,2,    2.29,2,   0.044,2,   0.021,2,   0.0000,2,  2253.4,2,  2349.8,2,   7.6697,2,    20.00,-999.000,9,-999.000,9,-999.000,9,   2.3259,2,-999.000,9, -999.00,9, -999.00,-999.000,9,-999.000,   39.57,2,   33.56,2, -32.8139,  75.0494,-999.000,-999.000,20090420,       1136
33RR20090320,        I05,     105,          1,          8,          8,2,20090420,       1053,   -32.8138,    75.0492,       3883,  2331.4,   2.0728,  34.7235,2,  34.7229,2,    177.9,2,   177.9,2,  100.05,2,   32.38,2,    0.00,2,    2.34,2,   0.009,2,   0.005,2,   0.0000,2,  2267.1,2,  2365.4,2,   7.6761,2,    20.00,-999.000,9,-999.000,9,-999.000,9,   2.0738,2,-999.000,9, -999.00,9, -999.00,-999.000,9,-999.000,   39.52,2,   34.03,2, -32.8139,  75.0494,-999.000,-999.000,20090420,       1130
33RR20090320,        I05,     105,          1,          7,          7,2,20090420,       1053,   -32.8138,    75.0492,       3883,  2585.6,   1.8823,  34.7273,2,  34.7270,2,    176.6,2,   176.4,2,  110.94,2,   33.02,2,    0.00,2,    2.38,2,   0.007,2,   0.004,2,   0.0000,2,  2277.2,2,  2377.6,2,   7.6764,2,    20.00,-999.000,9,-999.000,9,-999.000,9,   1.8822,2,-999.000,9, -999.00,9, -999.00,-999.000,9,-999.000,   39.59,2,   34.36,2, -32.8140,  75.0494,-999.000,-999.000,20090420,       1124
33RR20090320,        I05,     105,          1,          6,          6,2,20090420,       1053,   -32.8138,    75.0492,       3883,  2832.3,   1.7334,  34.7251,2,  34.7254,2,    178.6,2,   178.6,2,  115.81,2,   33.23,2,    0.00,2,    2.39,2,   0.006,2,   0.004,2,   0.0000,2,  2279.8,2,  2379.3,2,   7.6773,2,    20.00,-999.000,9,-999.000,9,-999.000,9,   1.7341,2,-999.000,9, -999.00,9, -999.00,-999.000,9,-999.000,   39.19,2,   34.41,2, -32.8140,  75.0493,-999.000,-999.000,20090420,       1118
33RR20090320,        I05,     105,          1,          5,          5,2,20090420,       1053,   -32.8138,    75.0492,       3883,  3086.1,   1.6334,  34.7225,2,  34.7227,2,    181.0,2,   181.4,2,  118.77,2,   33.22,2,    0.00,2,    2.39,2,   0.007,6,   0.005,6,   0.0000,6,  2280.5,6,  2380.6,2,   7.6777,2,    20.00,-999.000,9,-999.000,9,-999.000,9,   1.6331,2,-999.000,9, -999.00,9, -999.00,-999.000,9,-999.000,   39.11,2,   35.02,2, -32.8139,  75.0493,-999.000,-999.000,20090420,       1113
33RR20090320,        I05,     105,          1,          4,          4,2,20090420,       1053,   -32.8138,    75.0492,       3883,  3325.9,   1.5808,  34.7208,2,  34.7211,2,    182.5,2,   182.5,2,  120.24,2,   33.27,2,    0.00,2,    2.39,2,   0.006,2,   0.005,2,   0.0000,2,  2280.1,2,  2380.5,2,   7.6791,2,    20.00,-999.000,9,-999.000,9,-999.000,9,   1.5803,2,-999.000,9, -999.00,9, -999.00,-999.000,9,-999.000,   39.46,2,   35.15,2, -32.8139,  75.0492,-999.000,-999.000,20090420,       1107
33RR20090320,        I05,     105,          1,          3,          3,2,20090420,       1053,   -32.8138,    75.0492,       3883,  3563.9,   1.5215,  34.7192,2,  34.7191,2,    184.3,2,   184.5,2,  121.13,2,   33.16,2,    0.00,2,    2.39,2,   0.009,2,   0.005,2,   0.0000,2,  2282.8,2,  2381.4,2,   7.6796,2,    20.00,-999.000,9,-999.000,9,-999.000,9,   1.5216,2,-999.000,9, -999.00,9, -999.00,-999.000,9,-999.000,   39.33,2,   34.87,2, -32.8139,  75.0492,-999.000,-999.000,20090420,       1101
33RR20090320,        I05,     105,          1,          2,          2,2,20090420,       1053,   -32.8138,    75.0492,       3883,  3819.7,   1.4749,  34.7172,2,  34.7178,2,    187.0,2,   186.9,2,  124.49,2,   33.21,2,    0.00,2,    2.39,2,   0.007,2,   0.004,2,   0.0000,2,  2281.5,2,  2380.5,2,   7.6808,2,    20.00,-999.000,9,-999.000,9,-999.000,9,   1.4755,2,-999.000,9, -999.00,9, -999.00,-999.000,9,-999.000,   39.49,2,   35.17,2, -32.8138,  75.0492,-999.000,-999.000,20090420,       1056
33RR20090320,        I05,     105,          1,          1,          1,2,20090420,       1053,   -32.8138,    75.0492,       3883,  3931.5,   1.4467,  34.7162,2,  34.7164,2,    187.4,2,   187.5,2,  124.06,2,   33.15,2,    0.00,2,    2.36,2,   0.009,2,   0.005,2,   0.0000,2,  2282.1,6,  2381.1,2,   7.6823,2,    20.00,-999.000,9,-999.000,9,-999.000,9,   1.4461,2,-999.000,9, -999.00,9, -999.00,-999.000,9,-999.000,   39.59,2,   34.96,2, -32.8138,  75.0492,-999.000,-999.000,20090420,       1053