BOTTLE,20220814CCHSIOAMB
EXPOCODE,SECT_ID,STNNBR,CASTNO,SAMPNO,BTLNBR,BTLNBR_FLAG_W,DATE,TIME,LATITUDE,LONGITUDE,DEPTH,CTDPRS,CTDTMP,CTDSAL,CTDSAL_FLAG_W,SALNTY,SALNTY_FLAG_W,CTDOXY,CTDOXY_FLAG_W,OXYGEN,OXYGEN_FLAG_W,SILCAT,SILCAT_FLAG_W,NITRAT,NITRAT_FLAG_W,NITRIT,NITRIT_FLAG_W,PHSPHT,PHSPHT_FLAG_W,CFC-11,CFC-11_FLAG_W,CFC-12,CFC-12_FLAG_W,SF6,SF6_FLAG_W,TCARBN,TCARBN_FLAG_W,ALKALI,ALKALI_FLAG_W,PH_TOT,PH_TOT_FLAG_W,PH_TMP,TRITUM,TRITUM_FLAG_W,HELIUM,HELIUM_FLAG_W,DELHE3,DELHE3_FLAG_W,REFTMP,REFTMP_FLAG_W,DELC13,DELC13_FLAG_W,DELC14,DELC14_FLAG_W,C14ERR,NEON,NEON_FLAG_W,NEONER,DOC,DOC_FLAG_W,TDN,TDN_FLAG_W,BTL_LAT,BTL_LON,HELIER,DELHER,BTL_DATE,BTL_TIME
,,,,,,,,,,,METERS,DBAR,ITS-90,PSS-78,,PSS-78,,UMOL/KG,,UMOL/KG,,UMOL/KG,,UMOL/KG,,UMOL/KG,,UMOL/KG,,PMOL/KG,,PMOL/KG,,FMOL/KG,,UMOL/KG,,UMOL/KG,,,,DEG C,TU,,NMOL/KG,,PERCNT,,DEG C,,/MILLE,,/MILLE,,/MILLE,NMOL/KG,,NMOL/KG,UMOL/KG,,UMOL/KG,,,,NMOL/KG,PERCNT,,
33RR20090320,        I05,      10,          1,         36,         36,2,20090325,       2219,   -31.7921,    31.3919,       3317,    10.4,  25.9442,  35.4282,2,  35.4301,2,    202.2,2,   203.7,2,    0.97,2,    0.09,2,    0.00,2,    0.11,2,   1.708,2,   1.048,2,   1.0120,2,  1992.9,6,  2319.4,2,   8.1718,2,    20.00,-999.000,9,-999.000,9,-999.000,9,  25.9431,2,   1.044,2,   42.71,2,       3,-999.000,9,-999.000,   66.71,2,    6.95,2, -31.7920,  31.3920,-999.000,-999.000,20090326,       0003
33RR20090320,        I05,      10,          1,         35,         35,2,20090325,       2219,   -31.7921,    31.3919,       3317,    25.4,  25.9406,  35.4289,2,-999.0000,9,    203.3,2,   203.4,2,    1.08,2,    0.09,2,    0.00,2,    0.10,2,-999.000,9,-999.000,9,-999.0000,9,  1994.5,2,  2319.9,2,   8.1715,2,    20.00,-999.000,9,-999.000,9,-999.000,9,  25.9360,2,-999.000,9, -999.00,9, -999.00,-999.000,9,-999.000,   66.92,2,    6.56,2, -31.7919,  31.3919,-999.000,-999.000,20090326,       0002
33RR20090320,        I05,      10,          1,         34,         34,2,20090325,       2219,   -31.7921,    31.3919,       3317,    44.6,  25.4953,  35.4615,2,-999.0000,9,    204.6,2,   204.8,2,    0.81,2,    0.08,2,    0.00,2,    0.08,2,-999.000,9,-999.000,9,-999.0000,9,  1998.1,2,  2323.5,2,   8.1678,2,    20.00,-999.000,9,-999.000,9,-999.000,9,  25.4871,2,-999.000,9, -999.00,9, -999.00,-999.000,9,-999.000,   66.86,2,    6.71,2, -31.7919,  31.3920,-999.000,-999.000,20090325,       0000
33RR20090320,        I05,      10,          1,         33,         33,2,20090325,       2219,   -31.7921,    31.3919,       3317,    70.8,  24.8302,  35.4938,2,-999.0000,9,    205.6,2,   206.4,2,    0.73,2,    0.08,2,    0.00,2,    0.03,2,-999.000,9,-999.000,9,-999.0000,9,  2004.6,2,  2323.9,2,   8.1607,2,    20.00,-999.000,9,-999.000,9,-999.000,9,  24.8399,2,   1.014,2,   39.71,2,     3.8,-999.000,9,-999.000,   59.11,2,    6.30,2, -31.7919,  31.3920,-999.000,-999.000,20090325,       2358
33RR20090320,        I05,      10,          1,         32,         32,2,20090325,       2219,   -31.7921,    31.3919,       3317,    95.4,  22.8248,  35.3600,2,-999.0000,9,    200.1,2,   196.1,2,    1.24,2,    1.31,2,    0.05,2,    0.18,2,-999.000,9,-999.000,9,-999.0000,9,  2029.4,2,  2317.2,2,   8.1055,2,    20.00,-999.000,9,-999.000,9,-999.000,9,  22.8216,2,-999.000,9, -999.00,9, -999.00,-999.000,9,-999.000,   55.04,2,    6.70,2, -31.7918,  31.3920,-999.000,-999.000,20090325,       2356
33RR20090320,        I05,      10,          1,         31,         31,2,20090325,       2219,   -31.7921,    31.3919,       3317,   120.2,  21.4776,  35.4126,2,-999.0000,9,    180.7,2,   181.0,2,    2.16,2,    3.65,2,    0.02,2,    0.30,2,   2.017,2,   1.212,2,   1.0870,2,  2051.3,2,  2318.1,2,   8.0684,2,    20.00,-999.000,9,-999.000,9,-999.000,9,  21.4808,2,   0.657,2,   41.09,2,     3.4,-999.000,9,-999.000,   53.77,2,    8.61,2, -31.7919,  31.3920,-999.000,-999.000,20090325,       2354
33RR20090320,        I05,      10,          1,         30,         30,2,20090325,       2219,   -31.7921,    31.3919,       3317,   145.6,  20.2438,  35.4795,2,-999.0000,9,    183.1,2,   180.7,2,    2.67,2,    4.56,2,    0.01,2,    0.34,2,-999.000,9,-999.000,9,-999.0000,9,  2066.1,2,  2322.8,2,   8.0482,2,    20.00,-999.000,9,-999.000,9,-999.000,9,  20.2560,2,-999.000,9, -999.00,9, -999.00,-999.000,9,-999.000,   52.60,2,    8.98,2, -31.7920,  31.3919,-999.000,-999.000,20090325,       2352
33RR20090320,        I05,      10,          1,         29,         29,2,20090325,       2219,   -31.7921,    31.3919,       3317,   189.9,  18.6975,  35.5445,2,-999.0000,9,    190.5,2,   192.9,2,    2.79,2,    4.35,2,    0.01,2,    0.34,2,-999.000,9,-999.000,9,-999.0000,9,  2075.5,2,  2327.6,2,   8.0374,2,    20.00,-999.000,9,-999.000,9,-999.000,9,  18.6912,2,   0.693,2,   50.66,2,       3,-999.000,9,-999.000,   51.42,2,    8.68,2, -31.7921,  31.3919,-999.000,-999.000,20090325,       2351
33RR20090320,        I05,      10,          1,         28,         28,2,20090325,       2219,   -31.7921,    31.3919,       3317,   239.5,  17.5417,  35.5579,2,-999.0000,9,    195.1,2,   206.5,2,    2.32,2,    4.07,2,    0.00,2,    0.33,2,-999.000,9,-999.000,9,-999.0000,9,  2076.9,2,  2329.2,2,   8.0326,2,    20.00,-999.000,9,-999.000,9,-999.000,9,  17.5581,2,   0.721,2,   46.92,2,     3.4,-999.000,9,-999.000,   50.27,2,    8.74,2, -31.7921,  31.3919,-999.000,-999.000,20090325,       2348
33RR20090320,        I05,      10,          1,         27,         27,2,20090325,       2219,   -31.7921,    31.3919,       3317,   289.5,  16.5895,  35.4763,2,-999.0000,9,    182.2,2,   185.0,2,    5.01,2,    7.74,2,    0.00,2,    0.56,2,   2.392,2,   1.388,2,   0.9910,2,  2103.8,2,  2326.7,2,   7.9782,2,    20.00,-999.000,9,-999.000,9,-999.000,9,  16.5896,2,   0.756,2,    48.7,2,     2.8,-999.000,9,-999.000,   49.35,2,   11.11,2, -31.7921,  31.3919,-999.000,-999.000,20090325,       2346
33RR20090320,        I05,      10,          1,         26,         26,2,20090325,       2219,   -31.7921,    31.3919,       3317,   340.7,  15.6554,  35.4236,2,-999.0000,9,    188.5,2,   183.1,2,    5.34,2,    9.14,2,    0.00,2,    0.64,2,-999.000,9,-999.000,9,-999.0000,9,  2113.4,2,  2325.6,2,   7.9530,2,    20.00,-999.000,9,-999.000,9,-999.000,9,  15.6751,2,   0.703,2,   53.64,2,       3,-999.000,9,-999.000,   48.45,2,   11.57,2, -31.7920,  31.3920,-999.000,-999.000,20090325,       2344
33RR20090320,        I05,      10,          1,         25,         25,2,20090325,       2219,   -31.7921,    31.3919,       3317,   389.6,  14.8345,  35.3901,2,-999.0000,9,    199.1,2,   190.6,2,    5.06,2,    9.57,2,    0.00,2,    0.67,2,-999.000,9,-999.000,9,-999.0000,9,  2118.3,2,  2324.6,2,   7.9421,2,    20.00,-999.000,9,-999.000,9,-999.000,9,  14.8329,2,   0.806,2,   48.83,2,     2.8,-999.000,9,-999.000,   47.54,2,   11.72,2, -31.7919,  31.3921,-999.000,-999.000,20090325,       2342
33RR20090320,        I05,      10,          1,         24,         24,2,20090325,       2219,   -31.7921,    31.3919,       3317,   439.9,  14.1451,  35.3444,2,-999.0000,9,    190.1,2,   200.6,2,    4.19,2,    9.67,2,    0.00,2,    0.67,2,-999.000,9,-999.000,9,-999.0000,9,  2116.5,2,  2321.9,2,   7.9388,2,    20.00,-999.000,9,-999.000,9,-999.000,9,  14.1440,2,   0.838,2,   49.93,2,     3.3,-999.000,9,-999.000,   46.90,2,   11.18,2, -31.7919,  31.3921,-999.000,-999.000,20090325,       2340
33RR20090320,        I05,      10,          1,         23,         23,2,20090325,       2219,   -31.7921,    31.3919,       3317,   489.1,  13.5938,  35.2928,2,-999.0000,9,    200.5,2,   206.1,2,    3.91,2,   10.20,2,    0.00,2,    0.71,2,   2.856,2,   1.600,2,   1.0930,2,  2119.1,2,  2319.9,2,   7.9321,2,    20.00,-999.000,9,-999.000,9,-999.000,9,  13.5949,2,   0.892,2,   49.27,2,     3.8,-999.000,9,-999.000,   46.37,2,   11.71,2, -31.7920,  31.3921,-999.000,-999.000,20090325,       2337
33RR20090320,        I05,      10,          1,         22,         22,2,20090325,       2219,   -31.7921,    31.3919,       3317,   568.6,  12.7851,  35.1993,2,-999.0000,9,    214.0,2,   216.2,2,    3.04,2,   10.72,2,    0.00,2,    0.75,2,-999.000,9,-999.000,9,-999.0000,9,  -999.0,9,  2315.6,2,   7.9244,2,    20.00,-999.000,9,-999.000,9,-999.000,9,  12.7768,2,   1.022,2,   56.22,2,     2.9,-999.000,9,-999.000,   45.49,2,   12.46,2, -31.7920,  31.3922,-999.000,-999.000,20090325,       2334
33RR20090320,        I05,      10,          1,         21,         21,2,20090325,       2219,   -31.7921,    31.3919,       3317,   668.5,  11.7197,  35.0450,2,-999.0000,9,    212.9,2,   210.1,2,    4.96,2,   13.56,2,    0.00,2,    0.93,2,   3.043,2,   1.629,2,   0.9120,2,  2130.3,2,  2309.0,2,   7.8894,2,    20.00,-999.000,9,-999.000,9,-999.000,9,  11.7155,2,   1.042,2,   50.94,2,     2.8,-999.000,9,-999.000,   44.74,2,   15.40,2, -31.7920,  31.3922,-999.000,-999.000,20090325,       2330
33RR20090320,        I05,      10,          1,         20,         20,2,20090325,       2219,   -31.7921,    31.3919,       3317,   770.2,  10.6821,  34.9071,2,-999.0000,9,    208.4,2,   202.1,2,    7.66,2,   16.51,2,    0.00,2,    1.13,2,-999.000,9,-999.000,9,-999.0000,9,  -999.0,9,  2304.4,2,   7.8525,2,    20.00,-999.000,9,-999.000,9,-999.000,9,  10.6815,2,    1.06,2,   38.86,2,     2.9,-999.000,9,-999.000,   44.01,2,   18.18,2, -31.7919,  31.3923,-999.000,-999.000,20090325,       2327
33RR20090320,        I05,      10,          1,         19,         19,2,20090325,       2219,   -31.7921,    31.3919,       3317,   870.5,   9.5463,  34.7653,2,-999.0000,9,    205.9,2,   204.8,2,    9.18,2,   18.67,2,    0.00,2,    1.28,2,   2.805,2,   1.435,2,   0.8920,2,  2144.8,2,  2298.7,2,   7.8286,2,    20.00,-999.000,9,-999.000,9,-999.000,9,   9.5427,2,   1.028,2,   27.72,2,     2.9,-999.000,9,-999.000,   43.02,2,   20.57,2, -31.7919,  31.3922,-999.000,-999.000,20090325,       2325
33RR20090320,        I05,      10,          1,         18,         18,2,20090325,       2219,   -31.7921,    31.3919,       3317,   970.8,   8.4701,  34.6790,2,-999.0000,9,    179.8,2,   181.7,2,   18.30,2,   23.03,2,    0.00,2,    1.60,2,-999.000,9,-999.000,9,-999.0000,9,  -999.0,9,  2301.9,2,   7.7695,2,    20.00,-999.000,9,-999.000,9,-999.000,9,   8.4823,2,   0.967,2,   -5.54,2,     3.4,-999.000,9,-999.000,   42.19,2,   24.94,2, -31.7920,  31.3922,-999.000,-999.000,20090325,       2321
33RR20090320,        I05,      10,          1,         17,         17,2,20090325,       2219,   -31.7921,    31.3919,       3317,  1070.6,   7.0811,  34.5888,2,  34.5902,2,    173.8,2,   171.8,2,   28.06,2,   26.65,2,    0.00,2,    1.88,2,   1.614,2,   0.788,2,   0.3250,2,  2191.9,2,  2306.8,2,   7.7224,2,    20.00,-999.000,9,-999.000,9,-999.000,9,   7.0880,2,   0.887,2,  -41.89,2,     3.4,-999.000,9,-999.000,   41.60,2,   28.53,2, -31.7919,  31.3922,-999.000,-999.000,20090325,       2318
33RR20090320,        I05,      10,          1,         16,         16,2,20090325,       2219,   -31.7921,    31.3919,       3317,  1171.0,   6.4546,  34.6207,2,  34.6191,2,    146.2,2,   150.6,2,   40.68,2,   29.41,2,    0.00,2,    2.11,2,-999.000,9,-999.000,9,-999.0000,9,  -999.0,9,  2317.2,2,   7.6805,2,    20.00,-999.000,9,-999.000,9,-999.000,9,   6.4501,2,   0.766,2,  -85.62,2,     2.5,-999.000,9,-999.000,   40.97,2,   31.16,2, -31.7919,  31.3922,-999.000,-999.000,20090325,       2315
33RR20090320,        I05,      10,          1,         15,         15,2,20090325,       2219,   -31.7921,    31.3919,       3317,  1271.3,   5.7544,  34.5999,2,  34.5996,2,    145.4,2,   147.5,2,   48.10,2,   30.91,2,    0.00,2,    2.25,2,   0.881,2,   0.403,2,   0.3680,3,  2228.3,2,  2323.1,2,   7.6611,2,    20.00,-999.000,9,-999.000,9,-999.000,9,   5.7546,2,   0.711,2,  -97.27,2,     2.6,-999.000,9,-999.000,   40.20,2,   32.24,2, -31.7920,  31.3921,-999.000,-999.000,20090325,       2313
33RR20090320,        I05,      10,          1,         14,         14,2,20090325,       2219,   -31.7921,    31.3919,       3317,  1371.8,   5.1426,  34.6091,2,  34.6094,2,    148.4,2,   142.8,2,   56.34,2,   32.07,2,    0.00,2,    2.33,2,-999.000,9,-999.000,9,-999.0000,9,  2241.0,6,  2330.1,2,   7.6446,2,    20.00,-999.000,9,-999.000,9,-999.000,9,   5.1422,2,   0.591,2, -112.47,2,     2.8,-999.000,9,-999.000,   39.88,2,   33.61,2, -31.7920,  31.3921,-999.000,-999.000,20090325,       2309
33RR20090320,        I05,      10,          1,         13,         13,2,20090325,       2219,   -31.7921,    31.3919,       3317,  1472.5,   4.7061,  34.6625,2,  34.6635,2,    136.1,2,   134.5,2,   67.26,2,   32.91,2,    0.00,2,    2.41,2,   0.402,2,   0.166,2,   0.2500,3,  2255.6,2,  2341.5,2,   7.6306,2,    20.00,-999.000,9,-999.000,9,-999.000,9,   4.7036,2,    0.52,2, -129.76,2,     2.4,-999.000,9,-999.000,   40.01,2,   34.28,2, -31.7920,  31.3922,-999.000,-999.000,20090325,       2307
33RR20090320,        I05,      10,          1,         12,         12,2,20090325,       2219,   -31.7921,    31.3919,       3317,  1574.0,   3.7678,  34.6415,2,  34.6446,2,    152.1,2,   150.2,2,   71.49,2,   32.63,2,    0.00,2,    2.37,2,-999.000,9,-999.000,9,-999.0000,9,  -999.0,9,  2343.4,2,   7.6393,2,    20.00,-999.000,9,-999.000,9,-999.000,9,   3.7765,2,   0.521,2, -138.08,2,     2.5,-999.000,9,-999.000,   39.98,2,   34.60,2, -31.7920,  31.3922,-999.000,-999.000,20090325,       2304
33RR20090320,        I05,      10,          1,         11,         11,2,20090325,       2219,   -31.7921,    31.3919,       3317,  1674.0,   3.2914,  34.6420,2,  34.6438,2,    159.7,2,   161.8,2,   71.23,2,   32.20,2,    0.00,2,    2.32,2,   0.283,2,   0.104,2,  -0.1090,3,  2251.3,2,  2345.0,2,   7.6476,2,    20.00,-999.000,9,-999.000,9,-999.000,9,   3.2910,2,   0.572,2,  -140.1,2,     2.3,-999.000,9,-999.000,   39.69,2,   33.76,2, -31.7920,  31.3921,-999.000,-999.000,20090325,       2301
33RR20090320,        I05,      10,          1,         10,         10,2,20090325,       2219,   -31.7921,    31.3919,       3317,  1773.5,   3.0720,  34.6861,2,  34.6873,2,    163.9,2,   166.1,2,   74.85,2,   31.52,2,    0.00,2,    2.28,2,-999.000,9,-999.000,9,-999.0000,9,  -999.0,9,  2347.0,2,   7.6576,2,    20.00,-999.000,9,-999.000,9,-999.000,9,   3.0722,2,   0.569,2, -143.03,2,     2.4,-999.000,9,-999.000,   39.50,2,   33.22,2, -31.7921,  31.3920,-999.000,-999.000,20090325,       2258
33RR20090320,        I05,      10,          1,          9,          9,2,20090325,       2219,   -31.7921,    31.3919,       3317,  1946.9,   2.7873,  34.7297,2,  34.6670,3,    176.7,2,   176.9,2,   74.58,2,   30.22,2,    0.00,2,    2.22,2,   0.085,2,   0.032,2,   0.0890,2,  2247.5,2,  2351.1,2,   7.6767,2,    20.00,-999.000,9,-999.000,9,-999.000,9,   2.7879,2,   0.618,2, -144.29,2,     2.6,-999.000,9,-999.000,   39.72,2,   32.07,2, -31.7919,  31.3921,-999.000,-999.000,20090325,       2253
33RR20090320,        I05,      10,          1,          8,          8,2,20090325,       2219,   -31.7921,    31.3919,       3317,  2146.8,   2.6475,  34.7605,2,  34.7620,2,    189.5,2,   190.0,2,   69.41,2,   28.77,2,    0.00,2,    2.05,2,-999.000,9,-999.000,9,-999.0000,9,  -999.0,9,  2346.8,2,   7.6968,2,    20.00,-999.000,9,-999.000,9,-999.000,9,   2.6474,2,   0.663,2, -135.72,2,     2.7,-999.000,9,-999.000,   39.65,2,   30.13,2, -31.7918,  31.3922,-999.000,-999.000,20090325,       2249
33RR20090320,        I05,      10,          1,          7,          7,2,20090325,       2219,   -31.7921,    31.3919,       3317,  2348.8,   2.5339,  34.7842,2,  34.7861,2,    199.1,2,   199.2,2,   67.11,2,   27.75,2,    0.00,2,    1.95,2,   0.037,2,   0.014,2,   0.0080,2,  2231.6,2,  2346.4,2,   7.7119,2,    20.00,-999.000,9,-999.000,9,-999.000,9,   2.5334,2,   0.722,2, -141.15,2,     2.3,-999.000,9,-999.000,   39.53,2,   29.53,2, -31.7922,  31.3922,-999.000,-999.000,20090325,       2244
33RR20090320,        I05,      10,          1,          6,          6,2,20090325,       2219,   -31.7921,    31.3919,       3317,  2551.3,   2.4551,  34.7992,2,  34.8005,2,    206.1,2,   206.3,2,   64.80,2,   27.01,2,    0.00,2,    1.88,2,   0.035,2,   0.012,2,   0.2810,4,  2226.4,2,  2344.6,2,   7.7235,2,    20.00,-999.000,9,-999.000,9,-999.000,9,   2.4548,2,   0.754,2, -134.18,2,     2.8,-999.000,9,-999.000,   39.41,2,   28.72,2, -31.7923,  31.3923,-999.000,-999.000,20090325,       2239
33RR20090320,        I05,      10,          1,          5,          5,2,20090325,       2219,   -31.7921,    31.3919,       3317,  2753.1,   2.3450,  34.8111,2,  34.8125,2,    213.0,2,   213.2,2,   63.72,2,   26.42,2,    0.00,2,    1.82,2,   0.031,2,   0.010,2,  -0.0040,2,  2222.0,2,  2344.0,2,   7.7339,2,    20.00,-999.000,9,-999.000,9,-999.000,9,   2.3448,2,   0.768,2, -136.54,2,     2.4,-999.000,9,-999.000,   39.44,2,   28.18,2, -31.7920,  31.3924,-999.000,-999.000,20090325,       2235
33RR20090320,        I05,      10,          1,          4,          4,2,20090325,       2219,   -31.7921,    31.3919,       3317,  2955.9,   2.1888,  34.8114,2,  34.8131,2,    215.8,2,   216.7,2,   66.52,2,   26.32,2,    0.00,2,    1.81,2,   0.041,2,   0.015,2,  -0.1340,3,  2224.3,2,  2347.9,2,   7.7370,2,    20.00,-999.000,9,-999.000,9,-999.000,9,   2.1884,2,   0.786,2, -141.08,2,     3.7,-999.000,9,-999.000,   39.94,2,   27.91,2, -31.7919,  31.3924,-999.000,-999.000,20090325,       2230
33RR20090320,        I05,      10,          1,          3,          3,2,20090325,       2219,   -31.7921,    31.3919,       3317,  3158.0,   1.9283,  34.7977,2,  34.7978,2,    216.7,2,   217.1,2,   75.25,2,   26.90,2,    0.00,2,    1.85,2,   0.053,2,   0.018,2,  -0.0980,3,  2230.3,2,  2349.8,2,   7.7316,2,    20.00,-999.000,9,-999.000,9,-999.000,9,   1.9287,2,   0.741,2, -151.28,2,     2.9,-999.000,9,-999.000,   39.48,2,   28.88,2, -31.7921,  31.3921,-999.000,-999.000,20090325,       2225
33RR20090320,        I05,      10,          1,          2,          2,2,20090325,       2219,   -31.7921,    31.3919,       3317,  3259.5,   1.7471,  34.7854,2,  34.7862,2,    216.2,2,   217.1,2,   81.15,2,   27.38,2,    0.00,2,    1.89,2,   0.058,2,   0.021,2,   0.0140,2,  2234.7,2,  2354.0,2,   7.7280,2,    20.00,-999.000,9,-999.000,9,-999.000,9,   1.7468,2,   0.737,2, -145.24,2,     3.5,-999.000,9,-999.000,   39.83,2,   28.72,2, -31.7922,  31.3920,-999.000,-999.000,20090325,       2222
33RR20090320,        I05,      10,          1,          1,          1,2,20090325,       2219,   -31.7921,    31.3919,       3317,  3345.5,   1.5340,  34.7702,2,  34.7720,2,    215.8,2,   216.4,2,   88.49,2,   28.13,2,    0.00,2,    1.96,2,   0.078,2,   0.028,2,  -0.0250,2,  2240.9,6,  2353.6,2,   7.7205,2,    20.00,-999.000,9,-999.000,9,-999.000,9,   1.5253,2,   0.696,2,    -152,2,     3.5,-999.000,9,-999.000,   39.48,2,   29.81,2, -31.7921,  31.3919,-999.000,-999.000,20090325,       2219