BOTTLE,20220814CCHSIOAMB
EXPOCODE,SECT_ID,STNNBR,CASTNO,SAMPNO,BTLNBR,BTLNBR_FLAG_W,DATE,TIME,LATITUDE,LONGITUDE,DEPTH,CTDPRS,CTDTMP,CTDSAL,CTDSAL_FLAG_W,SALNTY,SALNTY_FLAG_W,CTDOXY,CTDOXY_FLAG_W,OXYGEN,OXYGEN_FLAG_W,SILCAT,SILCAT_FLAG_W,NITRAT,NITRAT_FLAG_W,NITRIT,NITRIT_FLAG_W,PHSPHT,PHSPHT_FLAG_W,CFC-11,CFC-11_FLAG_W,CFC-12,CFC-12_FLAG_W,SF6,SF6_FLAG_W,TCARBN,TCARBN_FLAG_W,ALKALI,ALKALI_FLAG_W,PH_TOT,PH_TOT_FLAG_W,PH_TMP,TRITUM,TRITUM_FLAG_W,HELIUM,HELIUM_FLAG_W,DELHE3,DELHE3_FLAG_W,REFTMP,REFTMP_FLAG_W,DELC13,DELC13_FLAG_W,DELC14,DELC14_FLAG_W,C14ERR,NEON,NEON_FLAG_W,NEONER,DOC,DOC_FLAG_W,TDN,TDN_FLAG_W,BTL_LAT,BTL_LON,HELIER,DELHER,BTL_DATE,BTL_TIME
,,,,,,,,,,,METERS,DBAR,ITS-90,PSS-78,,PSS-78,,UMOL/KG,,UMOL/KG,,UMOL/KG,,UMOL/KG,,UMOL/KG,,UMOL/KG,,PMOL/KG,,PMOL/KG,,FMOL/KG,,UMOL/KG,,UMOL/KG,,,,DEG C,TU,,NMOL/KG,,PERCNT,,DEG C,,/MILLE,,/MILLE,,/MILLE,NMOL/KG,,NMOL/KG,UMOL/KG,,UMOL/KG,,,,NMOL/KG,PERCNT,,
33RR20090320,        I05,       5,          2,         36,         36,2,20090324,       2033,   -31.1679,    30.5138,       2336,     9.4,  26.0596,  35.5483,2,  35.5492,2,    203.2,2,   204.4,2,    0.40,2,    0.00,2,    0.00,2,    0.05,2,   1.503,3,   0.989,3,   1.1180,3,  1997.0,6,  2330.2,2,   8.1724,2,    20.00,-999.000,9,-999.000,9,-999.000,9,  26.0575,2,-999.000,9, -999.00,9, -999.00,-999.000,9,-999.000, -999.00,9, -999.00,9, -31.2040,  30.4706,-999.000,-999.000,20090324,       2212
33RR20090320,        I05,       5,          2,         35,         35,2,20090324,       2033,   -31.1679,    30.5138,       2336,    29.4,  26.0536,  35.5474,2,  35.5480,2,    204.5,2,   204.9,2,    0.21,2,    0.00,2,    0.00,2,    0.04,2,   1.329,3,   1.059,3,   2.2760,3,  1997.3,2,  2327.1,2,   8.1725,2,    20.00,-999.000,9,-999.000,9,-999.000,9,  26.0512,2,-999.000,9, -999.00,9, -999.00,-999.000,9,-999.000, -999.00,9, -999.00,9, -31.2019,  30.4731,-999.000,-999.000,20090324,       2209
33RR20090320,        I05,       5,          2,         31,         31,2,20090324,       2033,   -31.1679,    30.5138,       2336,    54.4,  22.7240,  35.4379,2,  35.4397,2,    215.0,2,   211.8,2,    0.79,2,    0.00,2,    0.00,2,    0.11,2,   1.642,3,   1.153,3,   1.9840,3,  2021.9,2,  2322.3,2,   8.1231,2,    20.00,-999.000,9,-999.000,9,-999.000,9,  22.7539,2,-999.000,9, -999.00,9, -999.00,-999.000,9,-999.000, -999.00,9, -999.00,9, -31.2003,  30.4749,-999.000,-999.000,20090324,       2206
33RR20090320,        I05,       5,          2,         30,         30,2,20090324,       2033,   -31.1679,    30.5138,       2336,    79.5,  20.3870,  35.4900,2,  35.4875,2,    196.6,2,   191.9,2,    1.78,2,    2.96,2,    0.12,2,    0.31,2,-999.000,9,-999.000,9,-999.0000,9,  2060.1,2,  2324.0,2,   8.0577,2,    20.00,-999.000,9,-999.000,9,-999.000,9,  20.3839,2,-999.000,9, -999.00,9, -999.00,-999.000,9,-999.000, -999.00,9, -999.00,9, -31.1988,  30.4763,-999.000,-999.000,20090324,       2204
33RR20090320,        I05,       5,          2,         29,         29,2,20090324,       2033,   -31.1679,    30.5138,       2336,   104.0,  18.5777,  35.5236,2,  35.5235,2,    189.0,2,   192.5,2,    4.14,2,    4.15,2,    0.02,2,    0.38,2,   1.729,3,   1.262,3,   1.2500,3,  2074.0,2,  2328.2,2,   8.0347,2,    20.00,-999.000,9,-999.000,9,-999.000,9,  18.5855,2,-999.000,9, -999.00,9, -999.00,-999.000,9,-999.000, -999.00,9, -999.00,9, -31.1971,  30.4776,-999.000,-999.000,20090324,       2202
33RR20090320,        I05,       5,          2,         28,         28,2,20090324,       2033,   -31.1679,    30.5138,       2336,   128.7,  17.8107,  35.5414,2,  35.5517,2,    204.0,2,   200.3,2,    1.97,2,    3.85,2,    0.01,2,    0.36,2,   1.855,3,   1.312,3,   1.2390,3,  2077.9,2,  2328.7,2,   8.0323,2,    20.00,-999.000,9,-999.000,9,-999.000,9,  17.7719,2,-999.000,9, -999.00,9, -999.00,-999.000,9,-999.000, -999.00,9, -999.00,9, -31.1955,  30.4789,-999.000,-999.000,20090324,       2201
33RR20090320,        I05,       5,          2,         27,         27,2,20090324,       2033,   -31.1679,    30.5138,       2336,   153.8,  17.2444,  35.5531,2,  35.5537,2,    210.1,2,   210.8,2,    1.58,2,    3.46,2,    0.01,2,    0.35,2,   2.427,2,   1.472,2,   1.6410,4,  2077.5,2,  2328.8,2,   8.0308,2,    20.00,-999.000,9,-999.000,9,-999.000,9,  17.2436,2,-999.000,9, -999.00,9, -999.00,-999.000,9,-999.000, -999.00,9, -999.00,9, -31.1940,  30.4801,-999.000,-999.000,20090324,       2159
33RR20090320,        I05,       5,          2,         26,         26,2,20090324,       2033,   -31.1679,    30.5138,       2336,   178.7,  16.7582,  35.5436,2,  35.5446,2,    203.0,2,   215.2,2,    1.39,2,    3.83,2,    0.01,2,    0.36,2,-999.000,9,-999.000,9,-999.0000,9,  2081.1,2,  2328.3,2,   8.0267,2,    20.00,-999.000,9,-999.000,9,-999.000,9,  16.7564,2,-999.000,9, -999.00,9, -999.00,-999.000,9,-999.000, -999.00,9, -999.00,9, -31.1927,  30.4812,-999.000,-999.000,20090324,       2157
33RR20090320,        I05,       5,          2,         25,         25,2,20090324,       2033,   -31.1679,    30.5138,       2336,   208.6,  16.1810,  35.5057,2,  35.5060,2,    200.0,2,   203.1,2,    2.18,2,    5.88,2,    0.01,2,    0.48,2,   2.512,2,   1.476,2,   1.1230,2,  2110.2,2,  2327.4,2,   7.9948,2,    20.00,-999.000,9,-999.000,9,-999.000,9,  16.1788,2,-999.000,9, -999.00,9, -999.00,-999.000,9,-999.000, -999.00,9, -999.00,9, -31.1911,  30.4827,-999.000,-999.000,20090324,       2155
33RR20090320,        I05,       5,          2,         24,         24,2,20090324,       2033,   -31.1679,    30.5138,       2336,   231.3,  15.6365,  35.4690,2,  35.4762,2,    195.0,2,   198.8,2,    2.57,2,    6.88,2,    0.01,2,    0.55,2,   2.568,2,   1.501,2,   1.0780,2,  2097.9,2,  2325.2,2,   7.9770,2,    20.00,-999.000,9,-999.000,9,-999.000,9,  15.6334,2,-999.000,9, -999.00,9, -999.00,-999.000,9,-999.000, -999.00,9, -999.00,9, -31.1896,  30.4841,-999.000,-999.000,20090324,       2153
33RR20090320,        I05,       5,          2,         23,         23,2,20090324,       2033,   -31.1679,    30.5138,       2336,   246.3,  14.8832,  35.3848,2,  35.3864,2,    197.6,2,   187.7,2,    4.36,2,    9.45,2,    0.01,2,    0.71,2,   2.566,2,   1.470,2,   0.9300,2,  2118.3,2,  2324.0,2,   7.9398,2,    20.00,-999.000,9,-999.000,9,-999.000,9,  14.8821,2,-999.000,9, -999.00,9, -999.00,-999.000,9,-999.000, -999.00,9, -999.00,9, -31.1887,  30.4857,-999.000,-999.000,20090324,       2151
33RR20090320,        I05,       5,          2,         22,         22,2,20090324,       2033,   -31.1679,    30.5138,       2336,   298.2,  13.7417,  35.3143,2,  35.3143,2,    210.0,2,   207.1,2,    2.77,2,    9.53,2,    0.00,2,    0.70,2,-999.000,9,-999.000,9,-999.0000,9,  2117.5,2,  2319.0,2,   7.9373,2,    20.00,-999.000,9,-999.000,9,-999.000,9,  13.7380,2,-999.000,9, -999.00,9, -999.00,-999.000,9,-999.000, -999.00,9, -999.00,9, -31.1881,  30.4874,-999.000,-999.000,20090324,       2149
33RR20090320,        I05,       5,          2,         21,         21,2,20090324,       2033,   -31.1679,    30.5138,       2336,   345.1,  12.9967,  35.2310,2,  35.2311,2,    215.9,2,   215.4,2,    2.19,2,   10.13,2,    0.00,2,    0.74,2,   2.972,2,   1.676,2,   1.0730,2,  2116.7,2,  2317.4,2,   7.9294,2,    20.00,-999.000,9,-999.000,9,-999.000,9,  12.9965,2,-999.000,9, -999.00,9, -999.00,-999.000,9,-999.000, -999.00,9, -999.00,9, -31.1874,  30.4891,-999.000,-999.000,20090324,       2146
33RR20090320,        I05,       5,          2,         20,         20,2,20090324,       2033,   -31.1679,    30.5138,       2336,   392.9,  12.1488,  35.1141,2,  35.1157,2,    215.2,2,   217.8,2,    2.38,2,   11.62,2,    0.00,2,    0.84,2,   3.102,2,   1.697,2,   1.0040,2,  2121.2,2,  2310.7,2,   7.9115,2,    20.00,-999.000,9,-999.000,9,-999.000,9,  12.1443,2,-999.000,9, -999.00,9, -999.00,-999.000,9,-999.000, -999.00,9, -999.00,9, -31.1868,  30.4906,-999.000,-999.000,20090324,       2144
33RR20090320,        I05,       5,          2,         19,         19,2,20090324,       2033,   -31.1679,    30.5138,       2336,   445.9,  11.2585,  34.9769,2,  34.9775,2,    216.0,2,   216.8,2,    3.17,2,   13.77,2,    0.00,2,    0.98,2,   3.082,2,   1.674,2,   0.8930,2,  2127.9,2,  2303.8,2,   7.8875,2,    20.00,-999.000,9,-999.000,9,-999.000,9,  11.2577,2,-999.000,9, -999.00,9, -999.00,-999.000,9,-999.000, -999.00,9, -999.00,9, -31.1861,  30.4922,-999.000,-999.000,20090324,       2141
33RR20090320,        I05,       5,          2,         18,         18,2,20090324,       2033,   -31.1679,    30.5138,       2336,   499.1,  10.5918,  34.8933,2,  34.8947,2,    217.2,2,   216.7,2,    3.98,2,   15.08,2,    0.00,2,    1.06,2,   3.101,2,   1.647,2,   0.7620,2,  2131.2,2,  2302.8,2,   7.8713,2,    20.00,-999.000,9,-999.000,9,-999.000,9,  10.5868,2,-999.000,9, -999.00,9, -999.00,-999.000,9,-999.000, -999.00,9, -999.00,9, -31.1853,  30.4940,-999.000,-999.000,20090324,       2139
33RR20090320,        I05,       5,          2,         17,         17,2,20090324,       2033,   -31.1679,    30.5138,       2336,   613.2,   8.5106,  34.6593,2,  34.6609,2,    198.6,2,   197.6,2,   12.94,2,   21.66,2,    0.00,2,    1.50,2,   2.366,2,   1.209,2,   0.4680,2,  2159.0,2,  2297.5,2,   7.7936,2,    20.00,-999.000,9,-999.000,9,-999.000,9,   8.5079,2,-999.000,9, -999.00,9, -999.00,-999.000,9,-999.000, -999.00,9, -999.00,9, -31.1842,  30.4960,-999.000,-999.000,20090324,       2136
33RR20090320,        I05,       5,          2,         16,         16,2,20090324,       2033,   -31.1679,    30.5138,       2336,   731.5,   6.8510,  34.5801,2,  34.5817,2,    170.1,2,   170.9,2,   29.76,2,   27.42,2,    0.00,2,    1.93,2,   1.297,3,   0.700,3,   0.3510,3,  2199.6,2,  2306.3,2,   7.7170,2,    20.00,-999.000,9,-999.000,9,-999.000,9,   6.8458,2,-999.000,9, -999.00,9, -999.00,-999.000,9,-999.000, -999.00,9, -999.00,9, -31.1828,  30.4977,-999.000,-999.000,20090324,       2132
33RR20090320,        I05,       5,          2,         15,         15,2,20090324,       2033,   -31.1679,    30.5138,       2336,   842.0,   5.5610,  34.5609,2,  34.5548,2,    156.3,2,   159.3,2,   44.28,2,   30.73,2,    0.00,2,    2.20,2,   0.646,3,   0.414,3,   0.2170,3,  2221.1,2,  2319.2,2,   7.6731,2,    20.00,-999.000,9,-999.000,9,-999.000,9,   5.5579,2,-999.000,9, -999.00,9, -999.00,-999.000,9,-999.000, -999.00,9, -999.00,9, -31.1816,  30.4990,-999.000,-999.000,20090324,       2128
33RR20090320,        I05,       5,          2,         14,         14,2,20090324,       2033,   -31.1679,    30.5138,       2336,   970.4,   4.8602,  34.6374,2,  34.6381,2,    137.3,2,   137.4,2,   62.33,2,   32.98,2,    0.00,2,    2.40,2,   0.363,3,   0.188,3,   0.0340,3,  2252.6,6,  2337.4,2,   7.6353,2,    20.00,-999.000,9,-999.000,9,-999.000,9,   4.8538,2,-999.000,9, -999.00,9, -999.00,-999.000,9,-999.000, -999.00,9, -999.00,9, -31.1805,  30.5002,-999.000,-999.000,20090324,       2123
33RR20090320,        I05,       5,          2,         13,         13,2,20090324,       2033,   -31.1679,    30.5138,       2336,  1078.0,   4.0802,  34.6053,2,  34.6104,2,    148.5,2,   149.4,2,   65.02,2,   33.09,2,    0.00,2,    2.37,2,   0.385,3,   0.179,3,   0.0320,3,  2250.6,2,  2335.4,2,   7.6399,2,    20.00,-999.000,9,-999.000,9,-999.000,9,   4.0971,2,-999.000,9, -999.00,9, -999.00,-999.000,9,-999.000, -999.00,9, -999.00,9, -31.1794,  30.5012,-999.000,-999.000,20090324,       2120
33RR20090320,        I05,       5,          2,         12,         12,2,20090324,       2033,   -31.1679,    30.5138,       2336,  1172.8,   3.6565,  34.5986,2,  34.5960,2,    159.5,2,   158.6,2,   65.88,2,   33.00,2,    0.00,2,    2.36,2,   0.359,3,   0.171,3,   0.0680,3,  2253.8,2,  2337.7,2,   7.6433,2,    20.00,-999.000,9,-999.000,9,-999.000,9,   3.6553,2,-999.000,9, -999.00,9, -999.00,-999.000,9,-999.000, -999.00,9, -999.00,9, -31.1784,  30.5023,-999.000,-999.000,20090324,       2116
33RR20090320,        I05,       5,          2,         11,         11,2,20090324,       2033,   -31.1679,    30.5138,       2336,  1247.5,   3.5085,  34.6244,2,  34.6235,2,    157.5,2,   157.6,2,   69.59,2,   32.92,2,    0.00,2,    2.36,2,   0.264,3,   0.127,3,   0.0320,3,  2253.1,2,  2342.4,2,   7.6433,2,    20.00,-999.000,9,-999.000,9,-999.000,9,   3.5073,2,-999.000,9, -999.00,9, -999.00,-999.000,9,-999.000, -999.00,9, -999.00,9, -31.1777,  30.5034,-999.000,-999.000,20090324,       2111
33RR20090320,        I05,       5,          2,         10,         10,2,20090324,       2033,   -31.1679,    30.5138,       2336,  1324.5,   3.3464,  34.6530,2,  34.6534,2,    158.3,2,   158.0,2,   73.32,2,   32.75,2,    0.00,2,    2.35,2,   0.192,3,   0.086,3,   0.0130,3,  2257.4,2,  2346.9,2,   7.6455,2,    20.00,-999.000,9,-999.000,9,-999.000,9,   3.3438,2,-999.000,9, -999.00,9, -999.00,-999.000,9,-999.000, -999.00,9, -999.00,9, -31.1770,  30.5043,-999.000,-999.000,20090324,       2108
33RR20090320,        I05,       5,          2,          9,          9,2,20090324,       2033,   -31.1679,    30.5138,       2336,  1420.6,   3.1676,  34.6693,2,  34.6697,2,    162.0,2,   162.0,2,   74.39,2,   32.39,2,    0.00,2,    2.34,2,   0.153,3,   0.063,3,   0.0060,3,  2258.8,2,  2347.4,2,   7.6515,2,    20.00,-999.000,9,-999.000,9,-999.000,9,   3.1675,2,-999.000,9, -999.00,9, -999.00,-999.000,9,-999.000, -999.00,9, -999.00,9, -31.1761,  30.5055,-999.000,-999.000,20090324,       2104
33RR20090320,        I05,       5,          2,          8,          8,2,20090324,       2033,   -31.1679,    30.5138,       2336,  1531.4,   2.9774,  34.6922,2,  34.6931,2,    168.5,2,   167.8,2,   74.65,2,   31.75,2,    0.00,2,    2.27,2,   0.138,2,   0.048,2,   0.0580,2,  2257.2,2,  2349.1,2,   7.6598,2,    20.00,-999.000,9,-999.000,9,-999.000,9,   2.9754,2,-999.000,9, -999.00,9, -999.00,-999.000,9,-999.000, -999.00,9, -999.00,9, -31.1753,  30.5069,-999.000,-999.000,20090324,       2059
33RR20090320,        I05,       5,          2,          7,          7,2,20090324,       2033,   -31.1679,    30.5138,       2336,  1624.8,   2.8546,  34.7130,2,  34.7139,2,    174.1,2,   175.2,2,   72.86,2,   30.95,2,    0.00,2,    2.20,2,   0.119,2,   0.039,2,   0.0000,2,  2252.6,2,  2346.4,2,   7.6717,2,    20.00,-999.000,9,-999.000,9,-999.000,9,   2.8538,2,-999.000,9, -999.00,9, -999.00,-999.000,9,-999.000, -999.00,9, -999.00,9, -31.1747,  30.5081,-999.000,-999.000,20090324,       2055
33RR20090320,        I05,       5,          2,          6,          6,2,20090324,       2033,   -31.1679,    30.5138,       2336,  1723.1,   2.7666,  34.7312,2,  34.7323,2,    179.7,2,   180.5,2,   71.48,2,   30.20,2,    0.00,2,    2.15,2,   0.093,2,   0.030,2,   0.0000,2,  2248.5,2,  2346.7,2,   7.6805,2,    20.00,-999.000,9,-999.000,9,-999.000,9,   2.7663,2,-999.000,9, -999.00,9, -999.00,-999.000,9,-999.000, -999.00,9, -999.00,9, -31.1738,  30.5090,-999.000,-999.000,20090324,       2052
33RR20090320,        I05,       5,          2,          5,          5,2,20090324,       2033,   -31.1679,    30.5138,       2336,  1817.8,   2.7084,  34.7481,2,  34.7495,2,    184.2,2,   186.6,2,   69.27,2,   29.53,2,    0.00,2,    2.09,2,   0.061,3,   0.021,3,  -0.0150,3,  2243.9,2,  2346.9,2,   7.6906,2,    20.00,-999.000,9,-999.000,9,-999.000,9,   2.7074,2,-999.000,9, -999.00,9, -999.00,-999.000,9,-999.000, -999.00,9, -999.00,9, -31.1728,  30.5100,-999.000,-999.000,20090324,       2048
33RR20090320,        I05,       5,          2,          4,          4,2,20090324,       2033,   -31.1679,    30.5138,       2336,  1878.4,   2.6804,  34.7548,2,  34.7559,2,    187.1,2,   188.8,2,   68.71,2,   29.20,2,    0.00,2,    2.05,2,   0.062,3,   0.024,3,  -0.0180,3,  2243.5,2,  2345.5,2,   7.6946,2,    20.00,-999.000,9,-999.000,9,-999.000,9,   2.6799,2,-999.000,9, -999.00,9, -999.00,-999.000,9,-999.000, -999.00,9, -999.00,9, -31.1722,  30.5106,-999.000,-999.000,20090324,       2045
33RR20090320,        I05,       5,          2,          3,          3,2,20090324,       2033,   -31.1679,    30.5138,       2336,  2030.7,   2.6585,  34.7630,2,  34.7644,2,    190.6,2,   191.9,2,   68.55,2,   28.93,2,    0.00,2,    2.02,2,   0.063,6,   0.021,6,   0.0100,6,  2236.9,2,  2345.2,2,   7.6999,2,    20.00,-999.000,9,-999.000,9,-999.000,9,   2.6579,2,-999.000,9, -999.00,9, -999.00,-999.000,9,-999.000, -999.00,9, -999.00,9, -31.1709,  30.5117,-999.000,-999.000,20090324,       2040
33RR20090320,        I05,       5,          2,          2,          2,2,20090324,       2033,   -31.1679,    30.5138,       2336,  2207.4,   2.5619,  34.7854,2,  34.7870,2,    200.0,2,   200.2,2,   65.53,2,   27.94,2,    0.00,2,    1.93,2,   0.048,2,   0.015,2,   0.0000,2,  2233.4,2,  2339.4,3,   7.7152,2,    20.00,-999.000,9,-999.000,9,-999.000,9,   2.5613,2,-999.000,9, -999.00,9, -999.00,-999.000,9,-999.000, -999.00,9, -999.00,9, -31.1695,  30.5127,-999.000,-999.000,20090324,       2036
33RR20090320,        I05,       5,          2,          1,          1,2,20090324,       2033,   -31.1679,    30.5138,       2336,  2332.1,   2.5352,  34.7918,2,  34.7939,2,    202.6,2,   203.2,2,   64.54,2,   27.54,2,    0.00,2,    1.92,2,   0.000,2,   0.013,2,   0.0390,2,  2228.5,6,  2344.1,2,   7.7191,2,    20.00,-999.000,9,-999.000,9,-999.000,9,   2.5349,2,-999.000,9, -999.00,9, -999.00,-999.000,9,-999.000, -999.00,9, -999.00,9, -31.1684,  30.5134,-999.000,-999.000,20090324,       2033