BOTTLE,20220814CCHSIOAMB
EXPOCODE,SECT_ID,STNNBR,CASTNO,SAMPNO,BTLNBR,BTLNBR_FLAG_W,DATE,TIME,LATITUDE,LONGITUDE,DEPTH,CTDPRS,CTDTMP,CTDSAL,CTDSAL_FLAG_W,SALNTY,SALNTY_FLAG_W,CTDOXY,CTDOXY_FLAG_W,OXYGEN,OXYGEN_FLAG_W,SILCAT,SILCAT_FLAG_W,NITRAT,NITRAT_FLAG_W,NITRIT,NITRIT_FLAG_W,PHSPHT,PHSPHT_FLAG_W,CFC-11,CFC-11_FLAG_W,CFC-12,CFC-12_FLAG_W,SF6,SF6_FLAG_W,TCARBN,TCARBN_FLAG_W,ALKALI,ALKALI_FLAG_W,PH_TOT,PH_TOT_FLAG_W,PH_TMP,TRITUM,TRITUM_FLAG_W,HELIUM,HELIUM_FLAG_W,DELHE3,DELHE3_FLAG_W,REFTMP,REFTMP_FLAG_W,DELC13,DELC13_FLAG_W,DELC14,DELC14_FLAG_W,C14ERR,NEON,NEON_FLAG_W,NEONER,DOC,DOC_FLAG_W,TDN,TDN_FLAG_W,BTL_LAT,BTL_LON,HELIER,DELHER,BTL_DATE,BTL_TIME
,,,,,,,,,,,METERS,DBAR,ITS-90,PSS-78,,PSS-78,,UMOL/KG,,UMOL/KG,,UMOL/KG,,UMOL/KG,,UMOL/KG,,UMOL/KG,,PMOL/KG,,PMOL/KG,,FMOL/KG,,UMOL/KG,,UMOL/KG,,,,DEG C,TU,,NMOL/KG,,PERCNT,,DEG C,,/MILLE,,/MILLE,,/MILLE,NMOL/KG,,NMOL/KG,UMOL/KG,,UMOL/KG,,,,NMOL/KG,PERCNT,,
33RR20090320,        I05,     186,          1,         36,         36,2,20090510,       1453,   -32.1515,   112.3113,       4985,     7.4,  20.0718,  35.8678,2,  35.8671,2,    226.2,2,   226.9,2,    1.75,2,    0.12,2,    0.00,2,    0.09,2,-999.000,9,-999.000,9,-999.0000,9,  2056.2,6,  2353.0,2,   8.1065,2,    20.00,-999.000,9,-999.000,9,-999.000,9,  20.0690,2,-999.000,9, -999.00,9, -999.00,-999.000,9,-999.000, -999.00,9, -999.00,9, -32.1521, 112.3117,-999.000,-999.000,20090510,       1659
33RR20090320,        I05,     186,          1,         35,         35,2,20090510,       1453,   -32.1515,   112.3113,       4985,    40.8,  20.0682,  35.8753,2,  35.8744,2,    227.7,2,   227.5,2,    1.74,2,    0.12,2,    0.00,2,    0.08,2,-999.000,9,-999.000,9,-999.0000,9,  -999.0,9,  -999.0,9,-999.0000,9,  -999.00,-999.000,9,-999.000,9,-999.000,9,  20.0676,2,-999.000,9, -999.00,9, -999.00,-999.000,9,-999.000, -999.00,9, -999.00,9, -32.1520, 112.3117,-999.000,-999.000,20090510,       1656
33RR20090320,        I05,     186,          1,         34,         34,2,20090510,       1453,   -32.1515,   112.3113,       4985,    66.4,  20.0112,  35.8691,2,  35.8689,2,    226.3,2,   225.8,2,    1.72,2,    0.12,2,    0.00,2,    0.08,2,-999.000,9,-999.000,9,-999.0000,9,  -999.0,9,  -999.0,9,-999.0000,9,  -999.00,-999.000,9,-999.000,9,-999.000,9,  20.0143,2,-999.000,9, -999.00,9, -999.00,-999.000,9,-999.000, -999.00,9, -999.00,9, -32.1520, 112.3115,-999.000,-999.000,20090510,       1654
33RR20090320,        I05,     186,          1,         33,         33,2,20090510,       1453,   -32.1515,   112.3113,       4985,    89.5,  19.2539,  35.7979,2,  35.8128,2,    228.0,2,   228.2,2,    1.53,2,    0.17,2,    0.01,2,    0.10,2,-999.000,9,-999.000,9,-999.0000,9,  2065.4,2,  2350.5,2,   8.0916,2,    20.00,-999.000,9,-999.000,9,-999.000,9,  19.1173,2,-999.000,9, -999.00,9, -999.00,-999.000,9,-999.000, -999.00,9, -999.00,9, -32.1520, 112.3115,-999.000,-999.000,20090510,       1652
33RR20090320,        I05,     186,          1,         32,         32,2,20090510,       1453,   -32.1515,   112.3113,       4985,   119.1,  17.0572,  35.6566,2,  35.6486,2,    235.8,2,   233.7,2,    1.34,2,    0.79,2,    0.10,2,    0.19,2,-999.000,9,-999.000,9,-999.0000,9,  -999.0,9,  -999.0,9,-999.0000,9,  -999.00,-999.000,9,-999.000,9,-999.000,9,  16.9659,2,-999.000,9, -999.00,9, -999.00,-999.000,9,-999.000, -999.00,9, -999.00,9, -32.1521, 112.3114,-999.000,-999.000,20090510,       1649
33RR20090320,        I05,     186,          1,         31,         31,2,20090510,       1453,   -32.1515,   112.3113,       4985,   171.1,  13.9231,  35.3264,2,  35.3312,2,    236.4,2,   235.6,2,    0.97,2,    4.02,2,    0.01,2,    0.41,2,-999.000,9,-999.000,9,-999.0000,9,  2100.3,2,  2327.1,2,   7.9846,2,    20.00,-999.000,9,-999.000,9,-999.000,9,  13.9499,2,-999.000,9, -999.00,9, -999.00,-999.000,9,-999.000, -999.00,9, -999.00,9, -32.1521, 112.3113,-999.000,-999.000,20090510,       1647
33RR20090320,        I05,     186,          1,         30,         30,2,20090510,       1453,   -32.1515,   112.3113,       4985,   218.8,  12.5653,  35.1244,2,  35.1246,2,    239.0,2,   240.1,2,    1.32,2,    6.67,2,    0.01,2,    0.57,2,-999.000,9,-999.000,9,-999.0000,9,  -999.0,9,  -999.0,9,-999.0000,9,  -999.00,-999.000,9,-999.000,9,-999.000,9,  12.5611,2,-999.000,9, -999.00,9, -999.00,-999.000,9,-999.000, -999.00,9, -999.00,9, -32.1521, 112.3111,-999.000,-999.000,20090510,       1645
33RR20090320,        I05,     186,          1,         29,         29,2,20090510,       1453,   -32.1515,   112.3113,       4985,   270.1,  11.3396,  34.9286,2,  34.9213,2,    247.1,2,   246.8,2,    1.85,2,    9.43,2,    0.01,2,    0.73,2,-999.000,9,-999.000,9,-999.0000,9,  -999.0,9,  -999.0,9,-999.0000,9,  -999.00,-999.000,9,-999.000,9,-999.000,9,  11.3428,2,-999.000,9, -999.00,9, -999.00,-999.000,9,-999.000, -999.00,9, -999.00,9, -32.1522, 112.3110,-999.000,-999.000,20090510,       1644
33RR20090320,        I05,     186,          1,         28,         28,2,20090510,       1453,   -32.1515,   112.3113,       4985,   321.1,  10.6067,  34.8414,2,  34.8420,2,    239.5,2,   243.6,2,    2.39,2,   11.80,2,    0.01,2,    0.87,2,-999.000,9,-999.000,9,-999.0000,9,  2120.1,2,  2300.2,2,   7.8943,2,    20.00,-999.000,9,-999.000,9,-999.000,9,  10.6146,2,-999.000,9, -999.00,9, -999.00,-999.000,9,-999.000, -999.00,9, -999.00,9, -32.1522, 112.3109,-999.000,-999.000,20090510,       1642
33RR20090320,        I05,     186,          1,         27,         27,2,20090510,       1453,   -32.1515,   112.3113,       4985,   368.1,  10.0601,  34.7855,2,  34.7835,2,    239.7,2,   238.5,2,    3.29,2,   14.01,2,    0.00,2,    1.00,2,-999.000,9,-999.000,9,-999.0000,9,  -999.0,9,  -999.0,9,-999.0000,9,  -999.00,-999.000,9,-999.000,9,-999.000,9,  10.0589,2,-999.000,9, -999.00,9, -999.00,-999.000,9,-999.000, -999.00,9, -999.00,9, -32.1522, 112.3109,-999.000,-999.000,20090510,       1640
33RR20090320,        I05,     186,          1,         26,         26,2,20090510,       1453,   -32.1515,   112.3113,       4985,   441.4,   9.4261,  34.6995,2,  34.7015,2,    241.3,2,   240.8,2,    4.01,2,   15.72,2,    0.00,2,    1.10,2,-999.000,9,-999.000,9,-999.0000,9,  -999.0,9,  -999.0,9,-999.0000,9,  -999.00,-999.000,9,-999.000,9,-999.000,9,   9.4388,2,-999.000,9, -999.00,9, -999.00,-999.000,9,-999.000, -999.00,9, -999.00,9, -32.1522, 112.3108,-999.000,-999.000,20090510,       1638
33RR20090320,        I05,     186,          1,         25,         25,2,20090510,       1453,   -32.1515,   112.3113,       4985,   539.3,   8.9027,  34.6281,2,  34.6288,2,    241.2,2,   241.3,2,    5.10,2,   17.31,2,    0.00,2,    1.21,2,-999.000,9,-999.000,9,-999.0000,9,  2132.0,2,  2290.7,2,   7.8435,2,    20.00,-999.000,9,-999.000,9,-999.000,9,   8.9052,2,-999.000,9, -999.00,9, -999.00,-999.000,9,-999.000, -999.00,9, -999.00,9, -32.1522, 112.3108,-999.000,-999.000,20090510,       1635
33RR20090320,        I05,     186,          1,         24,         24,2,20090510,       1453,   -32.1515,   112.3113,       4985,   639.5,   7.9140,  34.5212,2,  34.5200,2,    218.9,2,   218.0,2,   10.01,2,   21.85,2,    0.00,2,    1.50,2,-999.000,9,-999.000,9,-999.0000,9,  -999.0,9,  -999.0,9,-999.0000,9,  -999.00,-999.000,9,-999.000,9,-999.000,9,   7.9118,2,-999.000,9, -999.00,9, -999.00,-999.000,9,-999.000, -999.00,9, -999.00,9, -32.1522, 112.3107,-999.000,-999.000,20090510,       1633
33RR20090320,        I05,     186,          1,         23,         23,2,20090510,       1453,   -32.1515,   112.3113,       4985,   739.4,   6.1907,  34.4229,2,  34.4219,2,    198.1,2,   197.6,2,   21.29,2,   27.40,2,    0.00,2,    1.89,2,-999.000,9,-999.000,9,-999.0000,9,  -999.0,9,  -999.0,9,-999.0000,9,  -999.00,-999.000,9,-999.000,9,-999.000,9,   6.1935,2,-999.000,9, -999.00,9, -999.00,-999.000,9,-999.000, -999.00,9, -999.00,9, -32.1522, 112.3106,-999.000,-999.000,20090510,       1630
33RR20090320,        I05,     186,          1,         22,         22,2,20090510,       1453,   -32.1515,   112.3113,       4985,   837.9,   4.9123,  34.3904,2,  34.3893,2,    190.9,2,   191.6,2,   33.27,2,   30.40,2,    0.00,2,    2.13,2,-999.000,9,-999.000,9,-999.0000,9,  -999.0,9,  -999.0,9,-999.0000,9,  -999.00,-999.000,9,-999.000,9,-999.000,9,   4.9085,2,-999.000,9, -999.00,9, -999.00,-999.000,9,-999.000, -999.00,9, -999.00,9, -32.1521, 112.3108,-999.000,-999.000,20090510,       1627
33RR20090320,        I05,     186,          1,         21,         21,2,20090510,       1453,   -32.1515,   112.3113,       4985,   941.1,   4.1779,  34.4168,2,  34.4157,2,    179.4,2,   178.7,2,   47.06,2,   32.57,2,    0.00,2,    2.30,2,-999.000,9,-999.000,9,-999.0000,9,  2220.4,2,  2313.9,2,   7.6629,2,    20.00,-999.000,9,-999.000,9,-999.000,9,   4.1871,2,-999.000,9, -999.00,9, -999.00,-999.000,9,-999.000, -999.00,9, -999.00,9, -32.1522, 112.3111,-999.000,-999.000,20090510,       1625
33RR20090320,        I05,     186,          1,         20,         20,2,20090510,       1453,   -32.1515,   112.3113,       4985,  1039.2,   3.6584,  34.4539,2,  34.4512,2,    170.3,2,   170.6,2,   57.41,2,   33.63,2,    0.00,2,    2.39,2,-999.000,9,-999.000,9,-999.0000,9,  -999.0,9,  -999.0,9,-999.0000,9,  -999.00,-999.000,9,-999.000,9,-999.000,9,   3.6558,2,-999.000,9, -999.00,9, -999.00,-999.000,9,-999.000, -999.00,9, -999.00,9, -32.1522, 112.3114,-999.000,-999.000,20090510,       1622
33RR20090320,        I05,     186,          1,         19,         19,2,20090510,       1453,   -32.1515,   112.3113,       4985,  1136.8,   3.4436,  34.4976,2,  34.4983,2,    160.6,2,   160.0,2,   66.32,2,   34.34,2,    0.00,2,    2.45,2,-999.000,9,-999.000,9,-999.0000,9,  -999.0,9,  -999.0,9,-999.0000,9,  -999.00,-999.000,9,-999.000,9,-999.000,9,   3.4500,2,-999.000,9, -999.00,9, -999.00,-999.000,9,-999.000, -999.00,9, -999.00,9, -32.1521, 112.3114,-999.000,-999.000,20090510,       1619
33RR20090320,        I05,     186,          1,         18,         18,2,20090510,       1453,   -32.1515,   112.3113,       4985,  1236.0,   3.1483,  34.5144,2,  34.5137,2,    162.3,2,   164.2,2,   68.14,2,   34.33,2,    0.00,2,    2.45,2,-999.000,9,-999.000,9,-999.0000,9,  -999.0,9,  -999.0,9,-999.0000,9,  -999.00,-999.000,9,-999.000,9,-999.000,9,   3.1476,2,-999.000,9, -999.00,9, -999.00,-999.000,9,-999.000, -999.00,9, -999.00,9, -32.1520, 112.3114,-999.000,-999.000,20090510,       1617
33RR20090320,        I05,     186,          1,         17,         17,2,20090510,       1453,   -32.1515,   112.3113,       4985,  1334.1,   3.0331,  34.5670,2,  34.5659,2,    155.8,2,   156.5,2,   75.99,2,   34.60,2,    0.00,2,    2.47,2,-999.000,9,-999.000,9,-999.0000,9,  -999.0,9,  -999.0,9,-999.0000,9,  -999.00,-999.000,9,-999.000,9,-999.000,9,   3.0324,2,-999.000,9, -999.00,9, -999.00,-999.000,9,-999.000, -999.00,9, -999.00,9, -32.1520, 112.3114,-999.000,-999.000,20090510,       1614
33RR20090320,        I05,     186,          1,         16,         16,2,20090510,       1453,   -32.1515,   112.3113,       4985,  1434.9,   2.9186,  34.6065,2,  34.6043,2,    154.6,2,   154.6,2,   81.47,2,   34.36,2,    0.00,2,    2.46,2,-999.000,9,-999.000,9,-999.0000,9,  2266.1,2,  2349.4,2,   7.6305,2,    20.00,-999.000,9,-999.000,9,-999.000,9,   2.9197,2,-999.000,9, -999.00,9, -999.00,-999.000,9,-999.000, -999.00,9, -999.00,9, -32.1520, 112.3113,-999.000,-999.000,20090510,       1611
33RR20090320,        I05,     186,          1,         15,         15,2,20090510,       1453,   -32.1515,   112.3113,       4985,  1536.8,   2.8226,  34.6342,2,  34.6330,2,    154.4,2,   153.7,2,   86.06,2,   34.35,2,    0.00,2,    2.45,2,-999.000,9,-999.000,9,-999.0000,9,  -999.0,9,  -999.0,9,-999.0000,9,  -999.00,-999.000,9,-999.000,9,-999.000,9,   2.8219,2,-999.000,9, -999.00,9, -999.00,-999.000,9,-999.000, -999.00,9, -999.00,9, -32.1520, 112.3111,-999.000,-999.000,20090510,       1609
33RR20090320,        I05,     186,          1,         14,         14,2,20090510,       1453,   -32.1515,   112.3113,       4985,  1661.8,   2.6696,  34.6618,2,  34.6613,2,    156.8,2,   156.9,2,   90.09,2,   33.90,2,    0.00,2,    2.42,2,-999.000,9,-999.000,9,-999.0000,9,  -999.0,9,  -999.0,9,-999.0000,9,  -999.00,-999.000,9,-999.000,9,-999.000,9,   2.6686,2,-999.000,9, -999.00,9, -999.00,-999.000,9,-999.000, -999.00,9, -999.00,9, -32.1520, 112.3111,-999.000,-999.000,20090510,       1605
33RR20090320,        I05,     186,          1,         13,         13,2,20090510,       1453,   -32.1515,   112.3113,       4985,  1865.2,   2.4479,  34.6985,2,  34.6979,2,    160.6,2,   160.5,2,   97.46,2,   33.44,2,    0.00,2,    2.39,2,-999.000,9,-999.000,9,-999.0000,9,  -999.0,9,  -999.0,9,-999.0000,9,  -999.00,-999.000,9,-999.000,9,-999.000,9,   2.4478,2,-999.000,9, -999.00,9, -999.00,-999.000,9,-999.000, -999.00,9, -999.00,9, -32.1520, 112.3112,-999.000,-999.000,20090510,       1600
33RR20090320,        I05,     186,          1,         12,         12,2,20090510,       1453,   -32.1515,   112.3113,       4985,  2087.1,   2.2441,  34.7170,2,  34.7167,2,    164.6,2,   164.0,2,  103.75,2,   33.27,2,    0.00,2,    2.37,2,-999.000,9,-999.000,9,-999.0000,9,  -999.0,9,  -999.0,9,-999.0000,9,  -999.00,-999.000,9,-999.000,9,-999.000,9,   2.2445,2,-999.000,9, -999.00,9, -999.00,-999.000,9,-999.000, -999.00,9, -999.00,9, -32.1520, 112.3111,-999.000,-999.000,20090510,       1554
33RR20090320,        I05,     186,          1,         11,         11,2,20090510,       1453,   -32.1515,   112.3113,       4985,  2332.6,   2.0397,  34.7258,2,  34.7248,2,    168.3,2,   168.4,2,  109.68,2,   33.20,2,    0.00,2,    2.36,2,-999.000,9,-999.000,9,-999.0000,9,  2283.9,2,  2379.2,2,   7.6644,2,    20.00,-999.000,9,-999.000,9,-999.000,9,   2.0397,2,-999.000,9, -999.00,9, -999.00,-999.000,9,-999.000, -999.00,9, -999.00,9, -32.1520, 112.3112,-999.000,-999.000,20090510,       1548
33RR20090320,        I05,     186,          1,         10,         10,2,20090510,       1453,   -32.1515,   112.3113,       4985,  2586.4,   1.8635,  34.7284,2,  34.7276,2,    173.2,2,   173.6,2,  112.48,2,   32.92,2,    0.00,2,    2.34,2,-999.000,9,-999.000,9,-999.0000,9,  -999.0,9,  -999.0,9,-999.0000,9,  -999.00,-999.000,9,-999.000,9,-999.000,9,   1.8639,2,-999.000,9, -999.00,9, -999.00,-999.000,9,-999.000, -999.00,9, -999.00,9, -32.1520, 112.3112,-999.000,-999.000,20090510,       1543
33RR20090320,        I05,     186,          1,          9,          9,2,20090510,       1453,   -32.1515,   112.3113,       4985,  2832.7,   1.7232,  34.7289,2,  34.7282,2,    178.3,2,   178.2,2,  114.34,2,   32.68,2,    0.00,2,    2.32,2,-999.000,9,-999.000,9,-999.0000,9,  -999.0,9,  -999.0,9,-999.0000,9,  -999.00,-999.000,9,-999.000,9,-999.000,9,   1.7235,2,-999.000,9, -999.00,9, -999.00,-999.000,9,-999.000, -999.00,9, -999.00,9, -32.1519, 112.3112,-999.000,-999.000,20090510,       1538
33RR20090320,        I05,     186,          1,          8,          8,2,20090510,       1453,   -32.1515,   112.3113,       4985,  3101.1,   1.5529,  34.7268,2,  34.7263,2,    183.2,2,   183.3,2,  117.32,2,   32.56,2,    0.00,2,    2.30,2,-999.000,9,-999.000,9,-999.0000,9,  -999.0,9,  -999.0,9,-999.0000,9,  -999.00,-999.000,9,-999.000,9,-999.000,9,   1.5530,2,-999.000,9, -999.00,9, -999.00,-999.000,9,-999.000, -999.00,9, -999.00,9, -32.1520, 112.3113,-999.000,-999.000,20090510,       1532
33RR20090320,        I05,     186,          1,          7,          7,2,20090510,       1453,   -32.1515,   112.3113,       4985,  3398.7,   1.4114,  34.7239,2,  34.7233,2,    187.1,2,   187.7,2,  119.76,2,   32.50,2,    0.00,2,    2.29,2,-999.000,9,-999.000,9,-999.0000,9,  2280.2,2,  2384.8,2,   7.6847,2,    20.00,-999.000,9,-999.000,9,-999.000,9,   1.4118,2,-999.000,9, -999.00,9, -999.00,-999.000,9,-999.000, -999.00,9, -999.00,9, -32.1520, 112.3113,-999.000,-999.000,20090510,       1526
33RR20090320,        I05,     186,          1,          6,          6,2,20090510,       1453,   -32.1515,   112.3113,       4985,  3701.3,   1.2969,  34.7202,2,  34.7200,2,    190.7,2,   191.4,2,  122.00,2,   32.55,2,    0.00,2,    2.29,2,-999.000,9,-999.000,9,-999.0000,9,  -999.0,9,  -999.0,9,-999.0000,9,  -999.00,-999.000,9,-999.000,9,-999.000,9,   1.2965,2,-999.000,9, -999.00,9, -999.00,-999.000,9,-999.000, -999.00,9, -999.00,9, -32.1519, 112.3112,-999.000,-999.000,20090510,       1520
33RR20090320,        I05,     186,          1,          5,          5,2,20090510,       1453,   -32.1515,   112.3113,       4985,  4000.2,   1.2191,  34.7171,2,  34.7189,3,    193.3,2,   193.2,2,  124.45,2,   32.60,2,    0.00,2,    2.29,2,-999.000,9,-999.000,9,-999.0000,9,  -999.0,9,  -999.0,9,-999.0000,9,  -999.00,-999.000,9,-999.000,9,-999.000,9,   1.2193,2,-999.000,9, -999.00,9, -999.00,-999.000,9,-999.000, -999.00,9, -999.00,9, -32.1518, 112.3111,-999.000,-999.000,20090510,       1514
33RR20090320,        I05,     186,          1,          4,          4,2,20090510,       1453,   -32.1515,   112.3113,       4985,  4298.4,   1.1815,  34.7153,2,  34.7146,2,    195.8,2,   196.3,2,  124.81,2,   32.48,2,    0.00,2,    2.29,2,-999.000,9,-999.000,9,-999.0000,9,  -999.0,9,  -999.0,9,-999.0000,9,  -999.00,-999.000,9,-999.000,9,-999.000,9,   1.1818,2,-999.000,9, -999.00,9, -999.00,-999.000,9,-999.000, -999.00,9, -999.00,9, -32.1517, 112.3111,-999.000,-999.000,20090510,       1509
33RR20090320,        I05,     186,          1,          3,          3,2,20090510,       1453,   -32.1515,   112.3113,       4985,  4606.5,   1.1406,  34.7130,2,  34.7128,2,    199.6,2,   199.8,2,  123.86,2,   32.30,2,    0.00,2,    2.27,2,-999.000,9,-999.000,9,-999.0000,9,  -999.0,9,  -999.0,9,-999.0000,9,  -999.00,-999.000,9,-999.000,9,-999.000,9,   1.1405,2,-999.000,9, -999.00,9, -999.00,-999.000,9,-999.000, -999.00,9, -999.00,9, -32.1516, 112.3111,-999.000,-999.000,20090510,       1503
33RR20090320,        I05,     186,          1,          2,          2,2,20090510,       1453,   -32.1515,   112.3113,       4985,  4900.9,   1.0904,  34.7105,2,  34.7105,2,    204.3,2,   204.1,2,  123.10,2,   32.29,2,    0.00,2,    2.26,2,-999.000,9,-999.000,9,-999.0000,9,  -999.0,9,  -999.0,9,-999.0000,9,  -999.00,-999.000,9,-999.000,9,-999.000,9,   1.0898,2,-999.000,9, -999.00,9, -999.00,-999.000,9,-999.000, -999.00,9, -999.00,9, -32.1516, 112.3113,-999.000,-999.000,20090510,       1457
33RR20090320,        I05,     186,          1,          1,          1,2,20090510,       1453,   -32.1515,   112.3113,       4985,  5064.2,   1.0616,  34.7091,2,  34.7091,2,    206.0,2,   205.7,2,  123.10,2,   32.18,2,    0.00,2,    2.26,2,-999.000,9,-999.000,9,-999.0000,9,  2271.7,6,  2378.0,2,   7.6920,2,    20.00,-999.000,9,-999.000,9,-999.000,9,   1.0620,2,-999.000,9, -999.00,9, -999.00,-999.000,9,-999.000, -999.00,9, -999.00,9, -32.1515, 112.3113,-999.000,-999.000,20090510,       1453