BOTTLE,20220814CCHSIOAMB
EXPOCODE,SECT_ID,STNNBR,CASTNO,SAMPNO,BTLNBR,BTLNBR_FLAG_W,DATE,TIME,LATITUDE,LONGITUDE,DEPTH,CTDPRS,CTDTMP,CTDSAL,CTDSAL_FLAG_W,SALNTY,SALNTY_FLAG_W,CTDOXY,CTDOXY_FLAG_W,OXYGEN,OXYGEN_FLAG_W,SILCAT,SILCAT_FLAG_W,NITRAT,NITRAT_FLAG_W,NITRIT,NITRIT_FLAG_W,PHSPHT,PHSPHT_FLAG_W,CFC-11,CFC-11_FLAG_W,CFC-12,CFC-12_FLAG_W,SF6,SF6_FLAG_W,TCARBN,TCARBN_FLAG_W,ALKALI,ALKALI_FLAG_W,PH_TOT,PH_TOT_FLAG_W,PH_TMP,TRITUM,TRITUM_FLAG_W,HELIUM,HELIUM_FLAG_W,DELHE3,DELHE3_FLAG_W,REFTMP,REFTMP_FLAG_W,DELC13,DELC13_FLAG_W,DELC14,DELC14_FLAG_W,C14ERR,NEON,NEON_FLAG_W,NEONER,DOC,DOC_FLAG_W,TDN,TDN_FLAG_W,BTL_LAT,BTL_LON,HELIER,DELHER,BTL_DATE,BTL_TIME
,,,,,,,,,,,METERS,DBAR,ITS-90,PSS-78,,PSS-78,,UMOL/KG,,UMOL/KG,,UMOL/KG,,UMOL/KG,,UMOL/KG,,UMOL/KG,,PMOL/KG,,PMOL/KG,,FMOL/KG,,UMOL/KG,,UMOL/KG,,,,DEG C,TU,,NMOL/KG,,PERCNT,,DEG C,,/MILLE,,/MILLE,,/MILLE,NMOL/KG,,NMOL/KG,UMOL/KG,,UMOL/KG,,,,NMOL/KG,PERCNT,,
33RR20090320,        I05,     119,          1,         36,         36,2,20090423,       2025,   -31.1886,    81.3576,       4393,    12.4,  21.9799,  36.0228,2,  36.0285,2,    219.8,2,   219.3,2,    2.03,2,    0.04,2,    0.00,2,    0.10,2,   1.951,2,   1.195,2,   1.1550,2,  2058.9,2,  2359.2,2,   8.1206,2,    20.00,-999.000,9,-999.000,9,-999.000,9,  21.9780,2,-999.000,9, -999.00,9, -999.00,-999.000,9,-999.000,   69.41,2,    4.83,2, -31.1884,  81.3574,-999.000,-999.000,20090423,       2226
33RR20090320,        I05,     119,          1,         35,         35,2,20090423,       2025,   -31.1886,    81.3576,       4393,    32.2,  21.9882,  36.0226,2,  36.0222,2,    220.2,2,   220.6,2,    2.02,2,    0.04,2,    0.00,2,    0.09,2,   1.941,6,   1.192,6,   1.1260,6,  2058.4,2,  2360.5,2,   8.1199,2,    20.00,-999.000,9,-999.000,9,-999.000,9,  21.9855,2,-999.000,9, -999.00,9, -999.00,-999.000,9,-999.000,   69.77,2,    4.44,2, -31.1884,  81.3573,-999.000,-999.000,20090423,       2224
33RR20090320,        I05,     119,          1,         34,         34,2,20090423,       2025,   -31.1886,    81.3576,       4393,    56.9,  21.9884,  36.0221,2,  36.0222,2,    220.3,2,   220.2,2,    2.01,2,    0.05,2,    0.00,2,    0.09,2,   1.950,2,   1.194,2,   1.1160,2,  2060.1,2,  2359.9,2,   8.1198,2,    20.00,-999.000,9,-999.000,9,-999.000,9,  21.9819,2,-999.000,9, -999.00,9, -999.00,-999.000,9,-999.000,   69.32,2,    4.31,2, -31.1883,  81.3573,-999.000,-999.000,20090423,       2222
33RR20090320,        I05,     119,          1,         33,         33,2,20090423,       2025,   -31.1886,    81.3576,       4393,    81.8,  19.6691,  35.8249,2,  35.8207,2,    245.9,2,   247.0,2,    1.64,2,    0.05,2,    0.00,2,    0.13,2,   2.382,2,   1.419,2,   1.2460,2,  2068.1,2,  2352.3,2,   8.0928,2,    20.00,-999.000,9,-999.000,9,-999.000,9,  19.6920,2,-999.000,9, -999.00,9, -999.00,-999.000,9,-999.000,   67.65,2,    4.30,2, -31.1883,  81.3573,-999.000,-999.000,20090423,       2220
33RR20090320,        I05,     119,          1,         32,         32,2,20090423,       2025,   -31.1886,    81.3576,       4393,   107.2,  17.7385,  35.7608,2,  35.7630,2,    243.5,2,   234.9,2,    1.81,2,    0.06,2,    0.00,2,    0.17,2,   2.447,2,   1.459,2,   1.1990,2,  2081.5,2,  2347.8,2,   8.0638,2,    20.00,-999.000,9,-999.000,9,-999.000,9,  17.7417,2,-999.000,9, -999.00,9, -999.00,-999.000,9,-999.000,   60.54,2,    3.45,2, -31.1883,  81.3574,-999.000,-999.000,20090423,       2218
33RR20090320,        I05,     119,          1,         31,         31,2,20090423,       2025,   -31.1886,    81.3576,       4393,   156.5,  15.6350,  35.5553,2,  35.5567,2,    230.1,2,   231.5,2,    1.79,2,    1.46,2,    0.15,2,    0.31,2,   2.663,2,   1.565,2,   1.3370,2,  2098.1,2,  2338.9,2,   8.0154,2,    20.00,-999.000,9,-999.000,9,-999.000,9,  15.6319,2,-999.000,9, -999.00,9, -999.00,-999.000,9,-999.000,   55.20,2,    4.87,2, -31.1882,  81.3574,-999.000,-999.000,20090423,       2216
33RR20090320,        I05,     119,          1,         30,         30,2,20090423,       2025,   -31.1886,    81.3576,       4393,   206.0,  14.3260,  35.3758,2,  35.3672,2,    228.3,2,   227.3,2,    2.13,2,    5.06,2,    0.01,2,    0.48,2,   2.848,2,   1.660,2,   1.1630,2,  2107.3,2,  2327.8,2,   7.9756,2,    20.00,-999.000,9,-999.000,9,-999.000,9,  14.3273,2,-999.000,9, -999.00,9, -999.00,-999.000,9,-999.000,   50.51,2,    8.61,2, -31.1882,  81.3574,-999.000,-999.000,20090423,       2214
33RR20090320,        I05,     119,          1,         29,         29,2,20090423,       2025,   -31.1886,    81.3576,       4393,   256.5,  13.3048,  35.2368,2,  35.2336,2,    233.3,2,   229.6,2,    2.66,2,    7.17,2,    0.00,2,    0.61,2,   2.999,2,   1.712,2,   1.3390,2,  2113.6,2,  2320.4,2,   7.9506,2,    20.00,-999.000,9,-999.000,9,-999.000,9,  13.3004,2,-999.000,9, -999.00,9, -999.00,-999.000,9,-999.000,   48.50,2,   10.66,2, -31.1882,  81.3574,-999.000,-999.000,20090423,       2212
33RR20090320,        I05,     119,          1,         28,         28,2,20090423,       2025,   -31.1886,    81.3576,       4393,   306.6,  12.4703,  35.1152,2,  35.1148,2,    235.4,2,   235.3,2,    3.17,2,    8.99,2,    0.00,2,    0.70,2,   3.143,2,   1.789,2,   1.3780,2,  2115.5,2,  2312.6,2,   7.9325,2,    20.00,-999.000,9,-999.000,9,-999.000,9,  12.4631,2,-999.000,9, -999.00,9, -999.00,-999.000,9,-999.000,   47.76,2,   12.30,2, -31.1882,  81.3574,-999.000,-999.000,20090423,       2210
33RR20090320,        I05,     119,          1,         27,         27,2,20090423,       2025,   -31.1886,    81.3576,       4393,   356.6,  12.0288,  35.0656,2,  35.0646,2,    237.4,2,   236.4,2,    3.69,2,   10.17,2,    0.00,2,    0.77,2,   3.193,2,   1.806,2,   1.2890,2,  2116.8,2,  2310.7,2,   7.9214,2,    20.00,-999.000,9,-999.000,9,-999.000,9,  12.0183,2,-999.000,9, -999.00,9, -999.00,-999.000,9,-999.000,   47.05,2,   13.54,2, -31.1883,  81.3574,-999.000,-999.000,20090423,       2208
33RR20090320,        I05,     119,          1,         26,         26,2,20090423,       2025,   -31.1886,    81.3576,       4393,   407.0,  11.6822,  35.0160,2,  35.0129,2,    239.8,2,   240.7,2,    3.86,2,   10.85,2,    0.00,2,    0.82,2,   3.245,2,   1.822,2,   1.3660,2,  2116.5,2,  2307.1,2,   7.9163,2,    20.00,-999.000,9,-999.000,9,-999.000,9,  11.6803,2,-999.000,9, -999.00,9, -999.00,-999.000,9,-999.000,   46.16,2,   13.39,2, -31.1883,  81.3574,-999.000,-999.000,20090423,       2206
33RR20090320,        I05,     119,          1,         25,         25,2,20090423,       2025,   -31.1886,    81.3576,       4393,   456.2,  11.4144,  34.9798,2,  34.9798,2,    238.0,2,   240.1,2,    4.02,2,   11.37,2,    0.00,2,    0.85,2,   3.295,2,   1.843,2,   1.2890,2,  2118.1,2,  2306.9,2,   7.9109,2,    20.00,-999.000,9,-999.000,9,-999.000,9,  11.4201,2,-999.000,9, -999.00,9, -999.00,-999.000,9,-999.000,   45.41,2,   14.31,2, -31.1884,  81.3574,-999.000,-999.000,20090423,       2204
33RR20090320,        I05,     119,          1,         24,         24,2,20090423,       2025,   -31.1886,    81.3576,       4393,   505.7,  11.2046,  34.9619,2,  34.9617,2,    236.3,2,   237.1,2,    4.00,2,   11.99,2,    0.00,2,    0.88,2,   3.343,2,   1.846,2,   1.2320,2,  2121.7,2,  2306.7,2,   7.9035,2,    20.00,-999.000,9,-999.000,9,-999.000,9,  11.2096,2,-999.000,9, -999.00,9, -999.00,-999.000,9,-999.000,   44.72,2,   14.57,2, -31.1884,  81.3574,-999.000,-999.000,20090423,       2202
33RR20090320,        I05,     119,          1,         23,         23,2,20090423,       2025,   -31.1886,    81.3576,       4393,   606.1,  10.4698,  34.8551,2,  34.8574,2,    236.5,2,   237.0,2,    4.35,2,   13.75,2,    0.00,2,    0.99,2,   3.462,2,   1.871,2,   1.1810,2,  2124.1,2,  2301.3,2,   7.8858,2,    20.00,-999.000,9,-999.000,9,-999.000,9,  10.4748,2,-999.000,9, -999.00,9, -999.00,-999.000,9,-999.000,   44.37,2,   15.41,2, -31.1883,  81.3575,-999.000,-999.000,20090423,       2159
33RR20090320,        I05,     119,          1,         22,         22,2,20090423,       2025,   -31.1886,    81.3576,       4393,   706.1,   9.7614,  34.7510,2,  34.7440,2,    234.0,2,   234.5,2,    5.22,2,   15.87,2,    0.00,2,    1.13,2,   3.496,2,   1.855,2,   1.0670,2,  2129.7,2,  2295.9,2,   7.8640,2,    20.00,-999.000,9,-999.000,9,-999.000,9,   9.7641,2,-999.000,9, -999.00,9, -999.00,-999.000,9,-999.000,   43.36,2,   17.38,2, -31.1883,  81.3576,-999.000,-999.000,20090423,       2156
33RR20090320,        I05,     119,          1,         21,         21,2,20090423,       2025,   -31.1886,    81.3576,       4393,   806.4,   8.8800,  34.6376,2,  34.6377,2,    224.6,2,   223.9,2,    7.53,2,   19.08,2,    0.00,2,    1.33,2,   3.274,6,   1.669,6,   0.8120,6,  2140.2,2,  2291.9,2,   7.8301,2,    20.00,-999.000,9,-999.000,9,-999.000,9,   8.8765,2,-999.000,9, -999.00,9, -999.00,-999.000,9,-999.000,   42.54,2,   20.97,2, -31.1883,  81.3576,-999.000,-999.000,20090423,       2153
33RR20090320,        I05,     119,          1,         20,         20,2,20090423,       2025,   -31.1886,    81.3576,       4393,   905.5,   7.4335,  34.5062,2,  34.5067,2,    206.9,2,   206.5,2,   14.30,2,   24.11,2,    0.00,2,    1.66,2,   2.472,2,   1.239,2,   0.4800,2,  2161.1,2,  2290.4,2,   7.7723,2,    20.00,-999.000,9,-999.000,9,-999.000,9,   7.4418,2,-999.000,9, -999.00,9, -999.00,-999.000,9,-999.000,   41.64,2,   25.74,2, -31.1883,  81.3576,-999.000,-999.000,20090423,       2150
33RR20090320,        I05,     119,          1,         19,         19,2,20090423,       2025,   -31.1886,    81.3576,       4393,  1006.6,   5.8608,  34.4113,2,  34.4107,2,    197.8,2,   199.2,2,   23.97,2,   28.39,2,    0.00,2,    1.97,2,   1.831,2,   0.907,2,   0.3620,2,  2183.1,2,  2295.1,2,   7.7227,2,    20.00,-999.000,9,-999.000,9,-999.000,9,   5.8667,2,-999.000,9, -999.00,9, -999.00,-999.000,9,-999.000,   40.87,2,   30.35,2, -31.1883,  81.3576,-999.000,-999.000,20090423,       2147
33RR20090320,        I05,     119,          1,         18,         18,2,20090423,       2025,   -31.1886,    81.3576,       4393,  1107.5,   4.7645,  34.3870,2,  34.3865,2,    191.6,2,   191.8,2,   35.29,2,   31.12,2,    0.00,2,    2.18,2,   1.330,2,   0.647,2,   0.2130,2,  2202.3,2,  2301.9,2,   7.6904,2,    20.00,-999.000,9,-999.000,9,-999.000,9,   4.7580,2,-999.000,9, -999.00,9, -999.00,-999.000,9,-999.000,   40.81,2,   33.02,2, -31.1883,  81.3574,-999.000,-999.000,20090423,       2144
33RR20090320,        I05,     119,          1,         17,         17,2,20090423,       2025,   -31.1886,    81.3576,       4393,  1206.8,   4.1283,  34.4224,2,  34.4207,2,    178.6,2,   177.2,2,   48.66,2,   33.12,2,    0.00,2,    2.34,2,   0.757,2,   0.362,2,   0.1110,2,  2222.8,2,  2316.6,2,   7.6631,2,    20.00,-999.000,9,-999.000,9,-999.000,9,   4.1312,2,-999.000,9, -999.00,9, -999.00,-999.000,9,-999.000,   40.15,2,   35.15,2, -31.1883,  81.3574,-999.000,-999.000,20090423,       2141
33RR20090320,        I05,     119,          1,         16,         16,2,20090423,       2025,   -31.1886,    81.3576,       4393,  1308.0,   3.7619,  34.4621,2,  34.4617,2,    166.6,2,   166.8,2,   59.00,2,   34.16,2,    0.00,2,    2.42,2,   0.458,2,   0.220,2,   0.0370,2,  2237.9,2,  2327.1,2,   7.6467,2,    20.00,-999.000,9,-999.000,9,-999.000,9,   3.7589,2,-999.000,9, -999.00,9, -999.00,-999.000,9,-999.000,   40.20,2,   36.10,2, -31.1883,  81.3574,-999.000,-999.000,20090423,       2138
33RR20090320,        I05,     119,          1,         15,         15,2,20090423,       2025,   -31.1886,    81.3576,       4393,  1408.5,   3.4523,  34.5068,2,  34.5057,2,    160.4,2,   160.7,2,   66.82,2,   34.64,2,    0.00,2,    2.47,2,   0.267,2,   0.130,2,   0.0270,2,  2248.4,2,  2335.0,2,   7.6368,2,    20.00,-999.000,9,-999.000,9,-999.000,9,   3.4509,2,-999.000,9, -999.00,9, -999.00,-999.000,9,-999.000,   40.47,2,   36.16,2, -31.1883,  81.3573,-999.000,-999.000,20090423,       2135
33RR20090320,        I05,     119,          1,         14,         14,2,20090423,       2025,   -31.1886,    81.3576,       4393,  1509.4,   3.3361,  34.5606,2,  34.5601,2,    152.0,2,   152.5,2,   75.58,2,   34.95,2,    0.00,2,    2.51,2,   0.103,2,   0.052,2,   0.0260,6,  2259.4,2,  2342.7,2,   7.6313,2,    20.00,-999.000,9,-999.000,9,-999.000,9,   3.3354,2,-999.000,9, -999.00,9, -999.00,-999.000,9,-999.000,   40.60,2,   36.69,2, -31.1883,  81.3572,-999.000,-999.000,20090423,       2132
33RR20090320,        I05,     119,          1,         13,         13,2,20090423,       2025,   -31.1886,    81.3576,       4393,  1608.6,   3.1562,  34.5971,2,  34.5963,2,    151.4,2,   152.1,2,   80.50,2,   34.84,2,    0.00,2,    2.50,2,   0.068,2,   0.034,2,   0.0110,2,  2268.6,6,  2348.6,2,   7.6321,2,    20.00,-999.000,9,-999.000,9,-999.000,9,   3.1581,2,-999.000,9, -999.00,9, -999.00,-999.000,9,-999.000,   39.97,2,   36.84,2, -31.1882,  81.3572,-999.000,-999.000,20090423,       2129
33RR20090320,        I05,     119,          1,         12,         12,2,20090423,       2025,   -31.1886,    81.3576,       4393,  1811.5,   2.8614,  34.6578,2,  34.6568,2,    155.0,2,   155.6,2,   88.01,2,   34.27,2,    0.00,2,    2.45,2,   0.035,2,   0.018,2,   0.0000,2,  2272.0,2,  2358.4,2,   7.6412,2,    20.00,-999.000,9,-999.000,9,-999.000,9,   2.8611,2,-999.000,9, -999.00,9, -999.00,-999.000,9,-999.000,   39.37,2,   35.48,2, -31.1882,  81.3571,-999.000,-999.000,20090423,       2124
33RR20090320,        I05,     119,          1,         11,         11,2,20090423,       2025,   -31.1886,    81.3576,       4393,  2011.4,   2.5792,  34.6929,2,  34.6906,2,    162.5,2,   163.4,2,   91.84,2,   33.53,2,    0.00,2,    2.38,2,   0.024,2,   0.013,2,   0.0000,2,  2272.3,2,  2361.0,2,   7.6531,2,    20.00,-999.000,9,-999.000,9,-999.000,9,   2.5792,2,-999.000,9, -999.00,9, -999.00,-999.000,9,-999.000,   39.88,2,   35.28,2, -31.1882,  81.3571,-999.000,-999.000,20090423,       2119
33RR20090320,        I05,     119,          1,         10,         10,2,20090423,       2025,   -31.1886,    81.3576,       4393,  2264.7,   2.2332,  34.7187,2,  34.7183,2,    174.6,2,   175.1,2,   95.87,2,   32.64,2,    0.00,2,    2.31,2,   0.013,2,   0.008,2,   0.0190,2,  2269.5,2,  2364.7,2,   7.6695,2,    20.00,-999.000,9,-999.000,9,-999.000,9,   2.2331,2,-999.000,9, -999.00,9, -999.00,-999.000,9,-999.000,   39.46,2,   34.63,2, -31.1882,  81.3569,-999.000,-999.000,20090423,       2114
33RR20090320,        I05,     119,          1,          9,          9,2,20090423,       2025,   -31.1886,    81.3576,       4393,  2517.6,   2.0059,  34.7355,2,  34.7346,2,    188.1,2,   187.7,2,   93.82,2,   31.58,2,    0.00,2,    2.22,2,   0.018,2,   0.011,2,   0.0000,2,  2260.3,2,  2357.5,2,   7.6825,2,    20.00,-999.000,9,-999.000,9,-999.000,9,   2.0041,2,-999.000,9, -999.00,9, -999.00,-999.000,9,-999.000,   39.41,2,   33.20,2, -31.1882,  81.3567,-999.000,-999.000,20090423,       2108
33RR20090320,        I05,     119,          1,          8,          8,2,20090423,       2025,   -31.1886,    81.3576,       4393,  2768.5,   1.7734,  34.7391,2,  34.7388,2,    193.2,2,   193.3,2,   99.33,2,   31.48,2,    0.00,2,    2.21,2,   0.021,2,   0.010,2,   0.0000,2,  2261.9,2,  2361.8,2,   7.6877,2,    20.00,-999.000,9,-999.000,9,-999.000,9,   1.7732,2,-999.000,9, -999.00,9, -999.00,-999.000,9,-999.000,   39.07,2,   32.85,2, -31.1883,  81.3567,-999.000,-999.000,20090423,       2103
33RR20090320,        I05,     119,          1,          7,          7,2,20090423,       2025,   -31.1886,    81.3576,       4393,  3021.8,   1.6008,  34.7353,2,  34.7346,2,    194.8,2,   195.1,2,  105.58,2,   31.64,2,    0.00,2,    2.23,2,   0.015,6,   0.008,6,   0.0000,6,  2264.8,2,  2364.2,2,   7.6889,2,    20.00,-999.000,9,-999.000,9,-999.000,9,   1.6013,2,-999.000,9, -999.00,9, -999.00,-999.000,9,-999.000,   39.00,2,   33.54,2, -31.1882,  81.3569,-999.000,-999.000,20090423,       2057
33RR20090320,        I05,     119,          1,          6,          6,2,20090423,       2025,   -31.1886,    81.3576,       4393,  3325.8,   1.4663,  34.7310,2,  34.7303,2,    195.7,2,   196.2,2,  110.73,2,   31.90,2,    0.00,2,    2.25,2,   0.032,3,   0.019,3,   0.0450,3,  2268.5,2,  2372.5,2,   7.6910,2,    20.00,-999.000,9,-999.000,9,-999.000,9,   1.4662,2,-999.000,9, -999.00,9, -999.00,-999.000,9,-999.000,   39.85,2,   33.76,2, -31.1884,  81.3569,-999.000,-999.000,20090423,       2050
33RR20090320,        I05,     119,          1,          5,          5,2,20090423,       2025,   -31.1886,    81.3576,       4393,  3630.9,   1.4289,  34.7290,2,  34.7286,2,    196.6,2,   197.2,2,  112.38,2,   32.00,2,    0.00,2,    2.26,2,   0.014,2,   0.009,2,   0.0420,3,  2270.5,2,  2372.4,2,   7.6916,2,    20.00,-999.000,9,-999.000,9,-999.000,9,   1.4288,2,-999.000,9, -999.00,9, -999.00,-999.000,9,-999.000,   39.57,2,   33.84,2, -31.1884,  81.3572,-999.000,-999.000,20090423,       2044
33RR20090320,        I05,     119,          1,          4,          4,2,20090423,       2025,   -31.1886,    81.3576,       4393,  3935.3,   1.4342,  34.7271,2,  34.7262,2,    194.9,2,   195.1,2,  114.94,2,   32.26,2,    0.00,2,    2.28,2,   0.013,2,   0.007,2,   0.0340,3,  2274.1,2,  2379.2,2,   7.6934,2,    20.00,-999.000,9,-999.000,9,-999.000,9,   1.4338,2,-999.000,9, -999.00,9, -999.00,-999.000,9,-999.000,   39.81,2,   33.55,2, -31.1885,  81.3573,-999.000,-999.000,20090423,       2037
33RR20090320,        I05,     119,          1,          3,          3,2,20090423,       2025,   -31.1886,    81.3576,       4393,  4241.4,   1.4519,  34.7259,2,  34.7256,2,    195.2,2,   195.2,2,  116.21,2,   32.32,2,    0.00,2,    2.28,2,   0.010,2,   0.007,2,   0.0180,2,  2277.3,2,  2379.7,2,   7.6928,2,    20.00,-999.000,9,-999.000,9,-999.000,9,   1.4518,2,-999.000,9, -999.00,9, -999.00,-999.000,9,-999.000,   39.96,2,   34.16,2, -31.1885,  81.3576,-999.000,-999.000,20090423,       2031
33RR20090320,        I05,     119,          1,          2,          2,2,20090423,       2025,   -31.1886,    81.3576,       4393,  4347.4,   1.4633,  34.7259,2,  34.7252,2,    195.1,2,   195.5,2,  116.19,2,   32.32,2,    0.00,2,    2.28,2,   0.008,2,   0.006,2,   0.0530,3,  2278.3,2,  2381.7,2,   7.6932,2,    20.00,-999.000,9,-999.000,9,-999.000,9,   1.4631,2,-999.000,9, -999.00,9, -999.00,-999.000,9,-999.000,   39.79,2,   34.01,2, -31.1886,  81.3576,-999.000,-999.000,20090423,       2028
33RR20090320,        I05,     119,          1,          1,          1,2,20090423,       2025,   -31.1886,    81.3576,       4393,  4454.0,   1.4765,  34.7258,2,  34.7252,2,    194.7,2,   195.1,2,  116.16,2,   32.37,2,    0.00,2,    2.28,2,   0.007,6,   0.003,6,   0.0100,6,  2278.7,6,  2380.1,2,   7.6939,2,    20.00,-999.000,9,-999.000,9,-999.000,9,   1.4759,2,-999.000,9, -999.00,9, -999.00,-999.000,9,-999.000,   39.33,2,   33.82,2, -31.1886,  81.3575,-999.000,-999.000,20090423,       2025