BOTTLE,20220814CCHSIOAMB
EXPOCODE,SECT_ID,STNNBR,CASTNO,SAMPNO,BTLNBR,BTLNBR_FLAG_W,DATE,TIME,LATITUDE,LONGITUDE,DEPTH,CTDPRS,CTDTMP,CTDSAL,CTDSAL_FLAG_W,SALNTY,SALNTY_FLAG_W,CTDOXY,CTDOXY_FLAG_W,OXYGEN,OXYGEN_FLAG_W,SILCAT,SILCAT_FLAG_W,NITRAT,NITRAT_FLAG_W,NITRIT,NITRIT_FLAG_W,PHSPHT,PHSPHT_FLAG_W,CFC-11,CFC-11_FLAG_W,CFC-12,CFC-12_FLAG_W,SF6,SF6_FLAG_W,TCARBN,TCARBN_FLAG_W,ALKALI,ALKALI_FLAG_W,PH_TOT,PH_TOT_FLAG_W,PH_TMP,TRITUM,TRITUM_FLAG_W,HELIUM,HELIUM_FLAG_W,DELHE3,DELHE3_FLAG_W,REFTMP,REFTMP_FLAG_W,DELC13,DELC13_FLAG_W,DELC14,DELC14_FLAG_W,C14ERR,NEON,NEON_FLAG_W,NEONER,DOC,DOC_FLAG_W,TDN,TDN_FLAG_W,BTL_LAT,BTL_LON,HELIER,DELHER,BTL_DATE,BTL_TIME
,,,,,,,,,,,METERS,DBAR,ITS-90,PSS-78,,PSS-78,,UMOL/KG,,UMOL/KG,,UMOL/KG,,UMOL/KG,,UMOL/KG,,UMOL/KG,,PMOL/KG,,PMOL/KG,,FMOL/KG,,UMOL/KG,,UMOL/KG,,,,DEG C,TU,,NMOL/KG,,PERCNT,,DEG C,,/MILLE,,/MILLE,,/MILLE,NMOL/KG,,NMOL/KG,UMOL/KG,,UMOL/KG,,,,NMOL/KG,PERCNT,,
33RR20090320,        I05,     157,          1,         36,         36,2,20090503,       0819,   -32.7515,   100.2442,       3989,     3.6,  18.8903,  35.9915,2,  35.9924,2,    231.5,2,   232.6,2,    1.04,2,    0.14,2,    0.00,2,    0.12,2,   2.312,6,   1.369,6,   1.1970,6,  2079.2,6,  2364.2,2,   8.0827,2,    20.00,-999.000,9,-999.000,9,-999.000,9,  18.8901,2,-999.000,9, -999.00,9, -999.00,-999.000,9,-999.000,   66.72,2,    3.88,2, -32.7516, 100.2442,-999.000,-999.000,20090503,       1012
33RR20090320,        I05,     157,          1,         35,         35,2,20090503,       0819,   -32.7515,   100.2442,       3989,    19.8,  18.7687,  35.9838,2,  35.9847,2,    232.4,2,   233.1,2,    0.86,2,    0.14,2,    0.00,2,    0.11,2,-999.000,9,-999.000,9,-999.0000,9,  2078.2,2,  2362.9,2,   8.0827,2,    20.00,-999.000,9,-999.000,9,-999.000,9,  18.7683,2,-999.000,9, -999.00,9, -999.00,-999.000,9,-999.000,   66.64,2,    4.49,2, -32.7516, 100.2442,-999.000,-999.000,20090503,       1011
33RR20090320,        I05,     157,          1,         34,         34,2,20090503,       0819,   -32.7515,   100.2442,       3989,    39.4,  18.7351,  35.9797,2,  35.9795,2,    233.5,2,   232.5,2,    0.85,2,    0.08,2,    0.00,2,    0.11,2,   2.278,2,   1.336,2,   1.2190,2,  2077.5,2,  2362.3,2,   8.0826,2,    20.00,-999.000,9,-999.000,9,-999.000,9,  18.7342,2,-999.000,9, -999.00,9, -999.00,-999.000,9,-999.000,   65.82,2,    4.46,2, -32.7516, 100.2442,-999.000,-999.000,20090503,       1009
33RR20090320,        I05,     157,          1,         33,         33,2,20090503,       0819,   -32.7515,   100.2442,       3989,    65.5,  18.4335,  35.9449,2,  35.9471,2,    234.3,2,   234.1,2,    0.84,2,    0.03,2,    0.00,2,    0.11,2,-999.000,9,-999.000,9,-999.0000,9,  2077.6,2,  2361.3,2,   8.0790,2,    20.00,-999.000,9,-999.000,9,-999.000,9,  18.4314,2,-999.000,9, -999.00,9, -999.00,-999.000,9,-999.000,   62.74,2,    3.96,2, -32.7516, 100.2442,-999.000,-999.000,20090503,       1008
33RR20090320,        I05,     157,          1,         32,         32,2,20090503,       0819,   -32.7515,   100.2442,       3989,    89.8,  15.7481,  35.6472,2,  35.6505,2,    249.0,2,   248.0,2,    0.65,2,    0.32,2,    0.04,2,    0.19,2,-999.000,5,-999.000,5,-999.0000,5,  2086.6,2,  2343.3,2,   8.0418,2,    20.00,-999.000,9,-999.000,9,-999.000,9,  15.7533,2,-999.000,9, -999.00,9, -999.00,-999.000,9,-999.000,   60.94,2,    4.63,2, -32.7516, 100.2441,-999.000,-999.000,20090503,       1006
33RR20090320,        I05,     157,          1,         31,         31,2,20090503,       0819,   -32.7515,   100.2442,       3989,   113.1,  15.1013,  35.5971,2,  35.5966,2,    242.1,2,   239.2,2,    0.83,2,    1.73,2,    0.15,2,    0.27,2,   2.783,2,   1.611,2,   1.3610,2,  2092.0,2,  2338.7,2,   8.0186,2,    20.00,-999.000,9,-999.000,9,-999.000,9,  15.1126,2,-999.000,9, -999.00,9, -999.00,-999.000,9,-999.000,   59.11,2,    5.56,2, -32.7516, 100.2441,-999.000,-999.000,20090503,       1004
33RR20090320,        I05,     157,          1,         30,         30,2,20090503,       0819,   -32.7515,   100.2442,       3989,   139.7,  14.3969,  35.5029,2,  35.5039,2,    234.8,2,   236.2,2,    1.01,2,    3.65,2,    0.02,2,    0.37,2,-999.000,9,-999.000,9,-999.0000,9,  -999.0,9,  -999.0,9,-999.0000,9,  -999.00,-999.000,9,-999.000,9,-999.000,9,  14.3984,2,-999.000,9, -999.00,9, -999.00,-999.000,9,-999.000,   56.46,2,    7.76,2, -32.7516, 100.2441,-999.000,-999.000,20090503,       1003
33RR20090320,        I05,     157,          1,         29,         29,2,20090503,       0819,   -32.7515,   100.2442,       3989,   184.6,  13.5668,  35.3673,2,  35.3712,2,    234.0,2,   236.7,2,    1.18,2,    5.23,2,    0.01,2,    0.47,2,   2.966,2,   1.714,2,   1.4600,2,  2102.6,2,  2326.4,2,   7.9747,2,    20.00,-999.000,9,-999.000,9,-999.000,9,  13.5639,2,-999.000,9, -999.00,9, -999.00,-999.000,9,-999.000,   54.10,2,    8.96,2, -32.7516, 100.2441,-999.000,-999.000,20090503,       1000
33RR20090320,        I05,     157,          1,         28,         28,2,20090503,       0819,   -32.7515,   100.2442,       3989,   234.9,  12.4874,  35.1760,2,  35.1743,2,    238.1,2,   241.3,2,    1.53,2,    7.35,2,    0.00,2,    0.61,2,-999.000,9,-999.000,9,-999.0000,9,  -999.0,9,  -999.0,9,-999.0000,9,  -999.00,-999.000,9,-999.000,9,-999.000,9,  12.4873,2,-999.000,9, -999.00,9, -999.00,-999.000,9,-999.000,   52.17,2,    9.62,2, -32.7516, 100.2442,-999.000,-999.000,20090503,       0958
33RR20090320,        I05,     157,          1,         27,         27,2,20090503,       0819,   -32.7515,   100.2442,       3989,   283.6,  11.8489,  35.0635,2,  35.0643,2,    243.0,2,   243.3,2,    1.71,2,    8.71,2,    0.00,2,    0.68,2,   3.300,2,   1.847,2,   1.3860,2,  2109.6,2,  2312.0,2,   7.9308,2,    20.00,-999.000,9,-999.000,9,-999.000,9,  11.8500,2,-999.000,9, -999.00,9, -999.00,-999.000,9,-999.000,   50.57,2,   11.36,2, -32.7516, 100.2442,-999.000,-999.000,20090503,       0957
33RR20090320,        I05,     157,          1,         26,         26,2,20090503,       0819,   -32.7515,   100.2442,       3989,   334.4,  11.1041,  34.9351,2,  34.9368,2,    243.4,2,   242.4,2,    2.25,2,   10.72,2,    0.00,2,    0.80,2,-999.000,9,-999.000,9,-999.0000,9,  -999.0,9,  -999.0,9,-999.0000,9,  -999.00,-999.000,9,-999.000,9,-999.000,9,  11.1029,2,-999.000,9, -999.00,9, -999.00,-999.000,9,-999.000,   49.11,2,   13.37,2, -32.7516, 100.2442,-999.000,-999.000,20090503,       0955
33RR20090320,        I05,     157,          1,         25,         25,2,20090503,       0819,   -32.7515,   100.2442,       3989,   383.2,  10.5755,  34.8507,2,  34.8536,2,    241.3,2,   242.4,2,    2.78,2,   12.29,2,    0.00,2,    0.90,2,   3.539,2,   1.949,2,   1.3820,2,  2116.5,2,  2299.4,2,   7.8920,2,    20.00,-999.000,9,-999.000,9,-999.000,9,  10.5692,2,-999.000,9, -999.00,9, -999.00,-999.000,9,-999.000,   47.68,2,   14.26,2, -32.7516, 100.2441,-999.000,-999.000,20090503,       0953
33RR20090320,        I05,     157,          1,         24,         24,2,20090503,       0819,   -32.7515,   100.2442,       3989,   434.6,  10.2174,  34.8019,2,  34.8013,2,    240.8,2,   241.4,2,    3.13,2,   13.48,2,    0.00,2,    0.98,2,   3.618,2,   1.977,2,   1.3900,2,  -999.0,9,  -999.0,9,-999.0000,9,  -999.00,   0.272,2,-999.000,9,-999.000,9,  10.2163,2,-999.000,9, -999.00,9, -999.00,-999.000,9,-999.000,   47.24,2,   15.09,2, -32.7516, 100.2441,-999.000,-999.000,20090503,       0951
33RR20090320,        I05,     157,          1,         23,         23,2,20090503,       0819,   -32.7515,   100.2442,       3989,   484.1,   9.8515,  34.7547,2,  34.7565,2,    240.5,2,   240.9,2,    3.50,2,   14.57,2,    0.00,2,    1.03,2,   3.662,2,   1.992,2,   1.2700,2,  2122.9,2,  2295.7,2,   7.8687,2,    20.00,-999.000,9,-999.000,9,-999.000,9,   9.8587,2,-999.000,9, -999.00,9, -999.00,-999.000,9,-999.000,   45.56,2,   15.77,2, -32.7516, 100.2442,-999.000,-999.000,20090503,       0949
33RR20090320,        I05,     157,          1,         22,         22,2,20090503,       0819,   -32.7515,   100.2442,       3989,   564.3,   9.3711,  34.6906,2,  34.6918,2,    238.2,2,   239.3,2,    4.03,2,   16.03,2,    0.00,2,    1.14,2,   3.767,2,   2.004,2,   1.2570,2,  -999.0,9,  -999.0,9,-999.0000,9,  -999.00,-999.000,9,-999.000,9,-999.000,9,   9.3705,2,-999.000,9, -999.00,9, -999.00,-999.000,9,-999.000,   44.14,2,   17.92,2, -32.7516, 100.2442,-999.000,-999.000,20090503,       0947
33RR20090320,        I05,     157,          1,         21,         21,2,20090503,       0819,   -32.7515,   100.2442,       3989,   664.8,   8.7188,  34.6047,2,  34.6006,2,    235.2,2,   233.6,2,    6.02,2,   18.59,2,    0.00,2,    1.30,2,   3.597,2,   1.856,2,   1.0230,2,  2134.3,2,  2288.9,2,   7.8298,2,    20.00,-999.000,9,-999.000,9,-999.000,9,   8.7063,2,-999.000,9, -999.00,9, -999.00,-999.000,9,-999.000,   43.18,2,   19.98,2, -32.7516, 100.2442,-999.000,-999.000,20090503,       0944
33RR20090320,        I05,     157,          1,         20,         20,2,20090503,       0819,   -32.7515,   100.2442,       3989,   766.2,   7.5050,  34.4951,2,  34.4971,2,    209.6,2,   207.8,2,   12.37,2,   23.66,2,    0.00,2,    1.63,2,   2.672,2,   1.345,2,   0.5180,2,  -999.0,9,  -999.0,9,-999.0000,9,  -999.00,-999.000,9,-999.000,9,-999.000,9,   7.5219,2,-999.000,9, -999.00,9, -999.00,-999.000,9,-999.000,   42.28,2,   25.60,2, -32.7515, 100.2442,-999.000,-999.000,20090503,       0941
33RR20090320,        I05,     157,          1,         19,         19,2,20090503,       0819,   -32.7515,   100.2442,       3989,   864.0,   5.9293,  34.4118,2,  34.4127,2,    195.0,2,   195.6,2,   22.95,2,   28.20,2,    0.00,2,    1.95,2,   1.810,2,   0.885,2,   0.2880,2,  -999.0,9,  -999.0,9,-999.0000,9,  -999.00,-999.000,9,-999.000,9,-999.000,9,   5.9267,2,-999.000,9, -999.00,9, -999.00,-999.000,9,-999.000,   41.84,2,   29.41,2, -32.7515, 100.2441,-999.000,-999.000,20090503,       0938
33RR20090320,        I05,     157,          1,         18,         18,2,20090503,       0819,   -32.7515,   100.2442,       3989,   962.7,   4.7591,  34.3889,2,  34.3902,2,    188.6,2,   189.6,2,   34.86,2,   30.83,2,    0.00,2,    2.16,2,   1.336,2,   0.634,2,   0.1810,2,  2203.0,2,  2302.2,2,   7.6855,2,    20.00,-999.000,9,-999.000,9,-999.000,9,   4.7499,2,-999.000,9, -999.00,9, -999.00,-999.000,9,-999.000,   41.41,2,   32.21,2, -32.7514, 100.2441,-999.000,-999.000,20090503,       0935
33RR20090320,        I05,     157,          1,         17,         17,2,20090503,       0819,   -32.7515,   100.2442,       3989,  1065.3,   4.2325,  34.4052,2,  34.4053,2,    180.2,2,   181.6,2,   44.23,2,   32.37,2,    0.00,2,    2.29,2,-999.000,9,-999.000,9,-999.0000,9,  -999.0,9,  -999.0,9,-999.0000,9,  -999.00,-999.000,9,-999.000,9,-999.000,9,   4.2341,2,-999.000,9, -999.00,9, -999.00,-999.000,9,-999.000,   41.01,2,   33.89,2, -32.7514, 100.2442,-999.000,-999.000,20090503,       0932
33RR20090320,        I05,     157,          1,         16,         16,2,20090503,       0819,   -32.7515,   100.2442,       3989,  1166.8,   3.7801,  34.4469,2,  34.4473,2,    169.1,2,   169.7,2,   55.50,2,   33.63,2,    0.00,2,    2.39,2,-999.000,9,-999.000,9,-999.0000,9,  -999.0,9,  -999.0,9,-999.0000,9,  -999.00,-999.000,9,-999.000,9,-999.000,9,   3.7795,2,-999.000,9, -999.00,9, -999.00,-999.000,9,-999.000,   40.88,2,   35.23,2, -32.7514, 100.2442,-999.000,-999.000,20090503,       0929
33RR20090320,        I05,     157,          1,         15,         15,2,20090503,       0819,   -32.7515,   100.2442,       3989,  1265.2,   3.4996,  34.4762,2,  34.4768,2,    163.1,2,   164.8,2,   62.17,2,   34.24,2,    0.00,2,    2.44,2,   0.392,2,   0.185,2,   0.0290,2,  2243.8,2,  2327.6,2,   7.6357,2,    20.00,-999.000,9,-999.000,9,-999.000,9,   3.4987,2,-999.000,9, -999.00,9, -999.00,-999.000,9,-999.000,   40.66,2,   36.03,2, -32.7514, 100.2443,-999.000,-999.000,20090503,       0926
33RR20090320,        I05,     157,          1,         14,         14,2,20090503,       0819,   -32.7515,   100.2442,       3989,  1363.7,   3.2699,  34.5296,2,  34.5302,2,    157.3,2,   156.6,2,   70.90,2,   34.68,2,    0.00,2,    2.48,2,-999.000,9,-999.000,9,-999.0000,9,  -999.0,9,  -999.0,9,-999.0000,9,  -999.00,-999.000,9,-999.000,9,-999.000,9,   3.2687,2,-999.000,9, -999.00,9, -999.00,-999.000,9,-999.000,   40.65,2,   36.13,2, -32.7514, 100.2444,-999.000,-999.000,20090503,       0922
33RR20090320,        I05,     157,          1,         13,         13,2,20090503,       0819,   -32.7515,   100.2442,       3989,  1466.5,   3.1065,  34.5677,2,  34.5687,2,    154.7,2,   154.2,2,   76.47,2,   34.73,2,    0.00,2,    2.49,2,-999.000,9,-999.000,9,-999.0000,9,  -999.0,9,  -999.0,9,-999.0000,9,  -999.00,-999.000,9,-999.000,9,-999.000,9,   3.1058,2,-999.000,9, -999.00,9, -999.00,-999.000,9,-999.000,   40.19,2,   36.15,2, -32.7514, 100.2444,-999.000,-999.000,20090503,       0920
33RR20090320,        I05,     157,          1,         12,         12,2,20090503,       0819,   -32.7515,   100.2442,       3989,  1567.8,   2.9778,  34.6059,2,  34.6066,2,    154.1,2,   152.8,2,   81.69,2,   34.56,2,    0.00,2,    2.49,2,   0.053,2,   0.026,2,   0.0000,2,  2267.4,2,  2350.0,2,   7.6273,2,    20.00,-999.000,9,-999.000,9,-999.000,9,   2.9778,2,-999.000,9, -999.00,9, -999.00,-999.000,9,-999.000,   39.98,2,   35.93,2, -32.7514, 100.2444,-999.000,-999.000,20090503,       0916
33RR20090320,        I05,     157,          1,         11,         11,2,20090503,       0819,   -32.7515,   100.2442,       3989,  1737.0,   2.7485,  34.6497,2,  34.6506,2,    157.6,2,   157.1,2,   86.54,2,   34.01,2,    0.00,2,    2.44,2,   0.031,2,   0.016,2,   0.0000,2,  2268.7,2,  2353.8,2,   7.6362,2,    20.00,-999.000,9,-999.000,9,-999.000,9,   2.7486,2,-999.000,9, -999.00,9, -999.00,-999.000,9,-999.000,   40.09,2,   35.22,2, -32.7514, 100.2445,-999.000,-999.000,20090503,       0911
33RR20090320,        I05,     157,          1,         10,         10,2,20090503,       0819,   -32.7515,   100.2442,       3989,  1932.0,   2.5141,  34.6884,2,  34.6884,2,    164.3,2,   164.3,2,   90.08,2,   33.24,2,    0.00,2,    2.37,2,-999.000,9,-999.000,9,-999.0000,9,  -999.0,9,  -999.0,9,-999.0000,9,  -999.00,-999.000,9,-999.000,9,-999.000,9,   2.5156,2,-999.000,9, -999.00,9, -999.00,-999.000,9,-999.000,   40.05,2,   34.87,2, -32.7514, 100.2445,-999.000,-999.000,20090503,       0906
33RR20090320,        I05,     157,          1,          9,          9,2,20090503,       0819,   -32.7515,   100.2442,       3989,  2159.3,   2.2761,  34.7179,2,  34.7191,2,    174.6,2,   175.0,2,   91.39,2,   32.07,2,    0.00,2,    2.28,2,   0.017,2,   0.011,2,   0.0000,2,  2263.4,2,  2358.1,2,   7.6643,2,    20.00,-999.000,9,-999.000,9,-999.000,9,   2.2760,2,-999.000,9, -999.00,9, -999.00,-999.000,9,-999.000,   40.33,2,   33.92,2, -32.7514, 100.2445,-999.000,-999.000,20090503,       0901
33RR20090320,        I05,     157,          1,          8,          8,2,20090503,       0819,   -32.7515,   100.2442,       3989,  2415.3,   2.0517,  34.7367,2,  34.7371,2,    185.8,2,   186.2,2,   91.76,2,   31.20,2,    0.00,2,    2.22,2,-999.000,9,-999.000,9,-999.0000,9,  -999.0,9,  -999.0,9,-999.0000,9,  -999.00,-999.000,9,-999.000,9,-999.000,9,   2.0513,2,-999.000,9, -999.00,9, -999.00,-999.000,9,-999.000,   40.48,2,   33.08,2, -32.7513, 100.2445,-999.000,-999.000,20090503,       0855
33RR20090320,        I05,     157,          1,          7,          7,2,20090503,       0819,   -32.7515,   100.2442,       3989,  2665.9,   1.8289,  34.7418,2,  34.7425,2,    192.1,2,   192.6,2,   95.68,2,   30.97,2,    0.00,2,    2.19,2,   0.016,2,   0.009,2,   0.0000,2,  2255.5,2,  2359.5,2,   7.6840,2,    20.00,-999.000,9,-999.000,9,-999.000,9,   1.8280,2,-999.000,9, -999.00,9, -999.00,-999.000,9,-999.000,   40.25,2,   32.87,2, -32.7513, 100.2445,-999.000,-999.000,20090503,       0850
33RR20090320,        I05,     157,          1,          6,          6,2,20090503,       0819,   -32.7515,   100.2442,       3989,  2918.9,   1.6127,  34.7382,2,  34.7389,2,    196.0,2,   196.7,2,  101.49,2,   30.97,2,    0.00,2,    2.19,2,   0.013,2,   0.010,2,   0.0000,2,  -999.0,9,  -999.0,9,-999.0000,9,  -999.00,-999.000,9,-999.000,9,-999.000,9,   1.6115,2,-999.000,9, -999.00,9, -999.00,-999.000,9,-999.000,   40.33,2,   32.75,2, -32.7513, 100.2445,-999.000,-999.000,20090503,       0844
33RR20090320,        I05,     157,          1,          5,          5,2,20090503,       0819,   -32.7515,   100.2442,       3989,  3201.2,   1.4382,  34.7326,2,  34.7342,2,    198.6,2,   199.2,2,  106.76,2,   31.19,2,    0.00,2,    2.21,2,   0.015,2,   0.011,2,   0.0000,2,  2259.2,2,  2364.6,2,   7.6857,2,    20.00,-999.000,9,-999.000,9,-999.000,9,   1.4375,2,-999.000,9, -999.00,9, -999.00,-999.000,9,-999.000,   40.32,2,   32.40,2, -32.7512, 100.2443,-999.000,-999.000,20090503,       0836
33RR20090320,        I05,     157,          1,          4,          4,2,20090503,       0819,   -32.7515,   100.2442,       3989,  3501.8,   1.2916,  34.7265,2,  34.7274,2,    201.0,2,   201.3,2,  111.07,2,   31.41,2,    0.00,2,    2.23,2,   0.020,2,   0.012,2,   0.0000,2,  -999.0,9,  -999.0,9,-999.0000,9,  -999.00,-999.000,9,-999.000,9,-999.000,9,   1.2912,2,-999.000,9, -999.00,9, -999.00,-999.000,9,-999.000,   40.10,2,   32.85,2, -32.7513, 100.2441,-999.000,-999.000,20090503,       0830
33RR20090320,        I05,     157,          1,          3,          3,2,20090503,       0819,   -32.7515,   100.2442,       3989,  3730.3,   1.2313,  34.7231,2,  34.7244,2,    202.0,2,   202.1,2,  113.14,2,   31.62,2,    0.00,2,    2.24,2,   0.021,2,   0.012,2,   0.0000,2,  2263.0,2,  2368.4,2,   7.6874,2,    20.00,-999.000,9,-999.000,9,-999.000,9,   1.2307,2,-999.000,9, -999.00,9, -999.00,-999.000,9,-999.000,   40.03,2,   33.20,2, -32.7513, 100.2442,-999.000,-999.000,20090503,       0825
33RR20090320,        I05,     157,          1,          2,          2,2,20090503,       0819,   -32.7515,   100.2442,       3989,  3931.4,   1.1999,  34.7209,2,  34.7227,3,    202.8,2,   202.8,2,  115.40,2,   31.62,2,    0.00,2,    2.24,2,   0.022,2,   0.012,2,   0.0000,2,  -999.0,9,  -999.0,9,-999.0000,9,  -999.00,-999.000,9,-999.000,9,-999.000,9,   1.1994,2,-999.000,9, -999.00,9, -999.00,-999.000,9,-999.000,   39.66,2,   33.03,2, -32.7514, 100.2441,-999.000,-999.000,20090503,       0821
33RR20090320,        I05,     157,          1,          1,          1,2,20090503,       0819,   -32.7515,   100.2442,       3989,  4040.0,   1.2026,  34.7206,2,  34.7217,2,    203.6,2,   203.3,2,  115.57,2,   31.73,2,    0.00,2,    2.25,2,   0.025,6,   0.014,6,   0.0000,2,  2264.8,6,  2370.0,2,   7.6879,2,    20.00,-999.000,9,-999.000,9,-999.000,9,   1.2019,2,-999.000,9, -999.00,9, -999.00,-999.000,9,-999.000,   39.83,2,   32.89,2, -32.7515, 100.2442,-999.000,-999.000,20090503,       0819