BOTTLE,20220814CCHSIOAMB
EXPOCODE,SECT_ID,STNNBR,CASTNO,SAMPNO,BTLNBR,BTLNBR_FLAG_W,DATE,TIME,LATITUDE,LONGITUDE,DEPTH,CTDPRS,CTDTMP,CTDSAL,CTDSAL_FLAG_W,SALNTY,SALNTY_FLAG_W,CTDOXY,CTDOXY_FLAG_W,OXYGEN,OXYGEN_FLAG_W,SILCAT,SILCAT_FLAG_W,NITRAT,NITRAT_FLAG_W,NITRIT,NITRIT_FLAG_W,PHSPHT,PHSPHT_FLAG_W,CFC-11,CFC-11_FLAG_W,CFC-12,CFC-12_FLAG_W,SF6,SF6_FLAG_W,TCARBN,TCARBN_FLAG_W,ALKALI,ALKALI_FLAG_W,PH_TOT,PH_TOT_FLAG_W,PH_TMP,TRITUM,TRITUM_FLAG_W,HELIUM,HELIUM_FLAG_W,DELHE3,DELHE3_FLAG_W,REFTMP,REFTMP_FLAG_W,DELC13,DELC13_FLAG_W,DELC14,DELC14_FLAG_W,C14ERR,NEON,NEON_FLAG_W,NEONER,DOC,DOC_FLAG_W,TDN,TDN_FLAG_W,BTL_LAT,BTL_LON,HELIER,DELHER,BTL_DATE,BTL_TIME
,,,,,,,,,,,METERS,DBAR,ITS-90,PSS-78,,PSS-78,,UMOL/KG,,UMOL/KG,,UMOL/KG,,UMOL/KG,,UMOL/KG,,UMOL/KG,,PMOL/KG,,PMOL/KG,,FMOL/KG,,UMOL/KG,,UMOL/KG,,,,DEG C,TU,,NMOL/KG,,PERCNT,,DEG C,,/MILLE,,/MILLE,,/MILLE,NMOL/KG,,NMOL/KG,UMOL/KG,,UMOL/KG,,,,NMOL/KG,PERCNT,,
33RR20090320,        I05,     131,          2,         25,         25,2,20090426,       1737,   -31.6648,    87.7621,       1411,     4.2,  20.6209,  35.9584,2,  35.9587,2,    226.1,2,   225.3,2,    1.80,2,    0.18,2,    0.00,2,    0.13,2,   2.122,2,   1.268,2,   1.1220,2,  2069.0,6,  2360.4,2,   8.0965,2,    20.00,-999.000,9,-999.000,9,-999.000,9,  20.6174,2,-999.000,9, -999.00,9, -999.00,-999.000,9,-999.000,   67.02,2,    4.18,2, -31.6646,  87.7624,-999.000,-999.000,20090426,       1831
33RR20090320,        I05,     131,          2,         24,         24,2,20090426,       1737,   -31.6648,    87.7621,       1411,    28.6,  20.4077,  35.9171,4,  35.8836,2,    226.5,2,   227.3,2,    1.56,2,    0.18,2,    0.00,2,    0.13,2,   2.119,2,   1.280,2,   1.2040,2,  2069.4,2,  2357.1,2,   8.0902,2,    20.00,-999.000,9,-999.000,9,-999.000,9,  20.3683,2,-999.000,9, -999.00,9, -999.00,-999.000,9,-999.000,   67.30,2,    4.83,2, -31.6647,  87.7624,-999.000,-999.000,20090426,       1829
33RR20090320,        I05,     131,          2,         23,         23,2,20090426,       1737,   -31.6648,    87.7621,       1411,    54.0,  19.4869,  35.7010,2,  35.7038,2,    231.6,2,   232.1,2,    1.33,2,    0.13,2,    0.00,2,    0.15,2,   2.246,2,   1.337,2,   1.2660,2,  2068.5,2,  2350.0,2,   8.0779,2,    20.00,-999.000,9,-999.000,9,-999.000,9,  19.4911,2,-999.000,9, -999.00,9, -999.00,-999.000,9,-999.000,   66.74,2,    4.42,2, -31.6647,  87.7624,-999.000,-999.000,20090426,       1827
33RR20090320,        I05,     131,          2,         22,         22,2,20090426,       1737,   -31.6648,    87.7621,       1411,    78.2,  19.7617,  35.8696,2,  35.8727,2,    231.0,2,   230.3,2,    1.44,2,    0.18,2,    0.00,2,    0.13,2,   2.196,2,   1.315,2,   1.1450,2,  2073.5,2,  2357.0,2,   8.0827,2,    20.00,-999.000,9,-999.000,9,-999.000,9,  19.7574,2,-999.000,9, -999.00,9, -999.00,-999.000,9,-999.000,   61.95,2,    4.49,2, -31.6647,  87.7625,-999.000,-999.000,20090426,       1825
33RR20090320,        I05,     131,          2,         21,         21,2,20090426,       1737,   -31.6648,    87.7621,       1411,   102.5,  17.0162,  35.7002,2,  35.7003,2,    252.6,2,   251.7,2,    1.38,2,    0.13,2,    0.00,2,    0.16,2,   2.609,2,   1.530,2,   1.3360,2,  2077.3,2,  2347.1,2,   8.0626,2,    20.00,-999.000,9,-999.000,9,-999.000,9,  16.9954,2,-999.000,9, -999.00,9, -999.00,-999.000,9,-999.000,   56.35,2,    4.82,2, -31.6647,  87.7624,-999.000,-999.000,20090426,       1824
33RR20090320,        I05,     131,          2,         20,         20,2,20090426,       1737,   -31.6648,    87.7621,       1411,   128.4,  15.6185,  35.5930,2,  35.5959,2,    237.7,2,   239.0,2,    1.49,2,    0.87,2,    0.15,2,    0.26,2,-999.000,9,-999.000,9,-999.0000,9,  2093.6,2,  2341.3,2,   8.0248,2,    20.00,-999.000,9,-999.000,9,-999.000,9,  15.6267,2,-999.000,9, -999.00,9, -999.00,-999.000,9,-999.000,   54.35,2,    4.91,2, -31.6647,  87.7624,-999.000,-999.000,20090426,       1822
33RR20090320,        I05,     131,          2,         19,         19,2,20090426,       1737,   -31.6648,    87.7621,       1411,   152.6,  14.9948,  35.5139,2,  35.5095,2,    233.0,2,   233.5,2,    1.79,2,    3.22,2,    0.04,2,    0.37,2,   2.737,2,   1.604,2,   1.3660,2,  2101.1,2,  2337.1,2,   8.0015,2,    20.00,-999.000,9,-999.000,9,-999.000,9,  14.9833,2,-999.000,9, -999.00,9, -999.00,-999.000,9,-999.000,   53.18,2,    6.29,2, -31.6647,  87.7624,-999.000,-999.000,20090426,       1820
33RR20090320,        I05,     131,          2,         18,         18,2,20090426,       1737,   -31.6648,    87.7621,       1411,   178.3,  14.0319,  35.3561,2,  35.3549,2,    232.7,2,   232.7,2,    1.89,2,    5.23,2,    0.01,2,    0.49,2,-999.000,9,-999.000,9,-999.0000,9,  2105.6,2,  2325.8,2,   7.9756,2,    20.00,-999.000,9,-999.000,9,-999.000,9,  14.0327,2,-999.000,9, -999.00,9, -999.00,-999.000,9,-999.000,   52.20,2,    8.34,2, -31.6646,  87.7624,-999.000,-999.000,20090426,       1818
33RR20090320,        I05,     131,          2,         17,         17,2,20090426,       1737,   -31.6648,    87.7621,       1411,   203.2,  13.2435,  35.2123,2,  35.2201,2,    236.6,2,   236.1,2,    2.19,2,    6.54,2,    0.00,2,    0.57,2,   2.993,2,   1.730,2,   1.4080,2,  2107.6,2,  2319.3,2,   7.9592,2,    20.00,-999.000,9,-999.000,9,-999.000,9,  13.2498,2,-999.000,9, -999.00,9, -999.00,-999.000,9,-999.000,   51.38,2,   10.19,2, -31.6645,  87.7623,-999.000,-999.000,20090426,       1817
33RR20090320,        I05,     131,          2,         16,         16,2,20090426,       1737,   -31.6648,    87.7621,       1411,   227.9,  12.4649,  35.0909,2,  35.0872,2,    239.4,2,   239.7,2,    2.48,2,    8.32,2,    0.00,2,    0.66,2,-999.000,9,-999.000,9,-999.0000,9,  2111.0,2,  2312.3,2,   7.9382,2,    20.00,-999.000,9,-999.000,9,-999.000,9,  12.4672,2,-999.000,9, -999.00,9, -999.00,-999.000,9,-999.000,   50.67,2,   10.71,2, -31.6645,  87.7623,-999.000,-999.000,20090426,       1815
33RR20090320,        I05,     131,          2,         15,         15,2,20090426,       1737,   -31.6648,    87.7621,       1411,   253.1,  12.0659,  35.0457,2,  35.0488,2,    240.8,2,   242.0,2,    2.95,2,    9.31,2,    0.00,2,    0.72,2,   3.169,2,   1.810,2,   1.5530,2,  2110.9,2,  2308.4,2,   7.9313,2,    20.00,-999.000,9,-999.000,9,-999.000,9,  12.0713,2,-999.000,9, -999.00,9, -999.00,-999.000,9,-999.000,   49.82,2,   11.49,2, -31.6645,  87.7623,-999.000,-999.000,20090426,       1813
33RR20090320,        I05,     131,          2,         14,         14,2,20090426,       1737,   -31.6648,    87.7621,       1411,   303.3,  11.7584,  35.0085,2,  35.0098,2,    248.6,2,   248.9,2,    3.60,2,    9.83,2,    0.00,2,    0.75,2,   3.195,2,   1.817,2,   1.4840,2,  2109.9,2,  2308.1,2,   7.9321,2,    20.00,-999.000,9,-999.000,9,-999.000,9,  11.7609,2,-999.000,9, -999.00,9, -999.00,-999.000,9,-999.000,   49.15,2,   12.15,2, -31.6644,  87.7622,-999.000,-999.000,20090426,       1811
33RR20090320,        I05,     131,          2,         13,         13,2,20090426,       1737,   -31.6648,    87.7621,       1411,   352.5,  11.4434,  34.9640,2,  34.9645,2,    250.5,2,   251.8,2,    3.71,2,   10.45,2,    0.00,2,    0.79,2,   3.233,2,   1.837,2,   1.5140,2,  2110.1,6,  2305.2,2,   7.9258,2,    20.00,-999.000,9,-999.000,9,-999.000,9,  11.4427,2,-999.000,9, -999.00,9, -999.00,-999.000,9,-999.000,   48.32,2,   12.74,2, -31.6645,  87.7621,-999.000,-999.000,20090426,       1809
33RR20090320,        I05,     131,          2,         12,         12,2,20090426,       1737,   -31.6648,    87.7621,       1411,   402.4,  11.2292,  34.9396,2,  34.9395,2,    243.4,2,   244.0,2,    3.83,2,   11.55,2,    0.00,2,    0.86,2,   3.312,2,   1.854,2,   1.4640,2,  2118.3,2,  2303.4,2,   7.9085,2,    20.00,-999.000,9,-999.000,9,-999.000,9,  11.2273,2,-999.000,9, -999.00,9, -999.00,-999.000,9,-999.000,   47.40,2,   13.88,2, -31.6645,  87.7621,-999.000,-999.000,20090426,       1807
33RR20090320,        I05,     131,          2,         11,         11,2,20090426,       1737,   -31.6648,    87.7621,       1411,   451.0,  10.8560,  34.8857,2,  34.8880,2,    244.2,2,   245.1,2,    3.94,2,   12.33,2,    0.00,2,    0.91,2,   3.366,6,   1.870,6,   1.4240,6,  2119.5,2,  2301.4,2,   7.9010,2,    20.00,-999.000,9,-999.000,9,-999.000,9,  10.8622,2,-999.000,9, -999.00,9, -999.00,-999.000,9,-999.000,   46.50,2,   13.53,2, -31.6646,  87.7620,-999.000,-999.000,20090426,       1805
33RR20090320,        I05,     131,          2,         10,         10,2,20090426,       1737,   -31.6648,    87.7621,       1411,   502.0,  10.6162,  34.8581,2,  34.8581,2,    242.1,2,   242.2,2,    4.06,2,   13.17,2,    0.00,2,    0.95,2,   3.438,2,   1.901,2,   1.3560,2,  2122.7,2,  2302.7,2,   7.8925,2,    20.00,-999.000,9,-999.000,9,-999.000,9,  10.6150,2,-999.000,9, -999.00,9, -999.00,-999.000,9,-999.000,   45.82,2,   14.40,2, -31.6646,  87.7620,-999.000,-999.000,20090426,       1802
33RR20090320,        I05,     131,          2,          9,          9,2,20090426,       1737,   -31.6648,    87.7621,       1411,   601.4,  10.0593,  34.7921,2,  34.7917,2,    236.7,2,   238.0,2,    4.53,2,   14.68,2,    0.00,2,    1.04,2,   3.525,2,   1.893,2,   1.2360,2,  2126.5,2,  2297.5,2,   7.8754,2,    20.00,-999.000,9,-999.000,9,-999.000,9,  10.0547,2,-999.000,9, -999.00,9, -999.00,-999.000,9,-999.000,   45.05,2,   16.28,2, -31.6646,  87.7619,-999.000,-999.000,20090426,       1759
33RR20090320,        I05,     131,          2,          8,          8,2,20090426,       1737,   -31.6648,    87.7621,       1411,   702.7,   9.3005,  34.6834,2,  34.6832,2,    233.3,2,   234.3,2,    5.54,2,   17.08,2,    0.00,2,    1.20,2,   3.541,2,   1.865,2,   1.0960,2,  2132.8,2,  2294.9,2,   7.8513,2,    20.00,-999.000,9,-999.000,9,-999.000,9,   9.3002,2,-999.000,9, -999.00,9, -999.00,-999.000,9,-999.000,   44.05,2,   18.62,2, -31.6647,  87.7619,-999.000,-999.000,20090426,       1756
33RR20090320,        I05,     131,          2,          7,          7,2,20090426,       1737,   -31.6648,    87.7621,       1411,   802.7,   8.4076,  34.5823,2,  34.5802,2,    218.2,2,   218.9,2,    9.03,2,   20.80,2,    0.00,2,    1.44,2,   3.113,2,   1.582,2,   0.7660,2,  2147.4,2,  2291.0,2,   7.8096,2,    20.00,-999.000,9,-999.000,9,-999.000,9,   8.4129,2,-999.000,9, -999.00,9, -999.00,-999.000,9,-999.000,   42.76,2,   22.21,2, -31.6647,  87.7619,-999.000,-999.000,20090426,       1753
33RR20090320,        I05,     131,          2,          6,          6,2,20090426,       1737,   -31.6648,    87.7621,       1411,   903.3,   6.6808,  34.4529,2,  34.4518,2,    199.7,2,   200.3,2,   18.81,2,   26.47,2,    0.00,2,    1.84,2,   2.140,2,   1.056,2,   0.4840,2,  2172.8,2,  2293.2,2,   7.7433,2,    20.00,-999.000,9,-999.000,9,-999.000,9,   6.6768,2,-999.000,9, -999.00,9, -999.00,-999.000,9,-999.000,   41.80,2,   27.98,2, -31.6647,  87.7618,-999.000,-999.000,20090426,       1750
33RR20090320,        I05,     131,          2,          5,          5,2,20090426,       1737,   -31.6648,    87.7621,       1411,  1002.8,   5.5663,  34.4019,2,  34.4037,2,    194.3,2,   195.8,2,   26.82,2,   29.22,2,    0.00,2,    2.03,2,   1.683,2,   0.816,2,   0.3000,2,  2187.9,2,  2298.6,2,   7.7117,2,    20.00,-999.000,9,-999.000,9,-999.000,9,   5.5630,2,-999.000,9, -999.00,9, -999.00,-999.000,9,-999.000,   41.63,2,   31.12,2, -31.6648,  87.7619,-999.000,-999.000,20090426,       1748
33RR20090320,        I05,     131,          2,          4,          4,2,20090426,       1737,   -31.6648,    87.7621,       1411,  1103.8,   4.6586,  34.3999,2,  34.3998,2,    185.3,2,   185.2,2,   39.21,2,   31.71,2,    0.00,2,    2.23,2,   1.126,2,   0.534,2,   0.1970,2,  2208.4,2,  2308.7,2,   7.6812,2,    20.00,-999.000,9,-999.000,9,-999.000,9,   4.6658,2,-999.000,9, -999.00,9, -999.00,-999.000,9,-999.000,   40.75,2,   33.20,2, -31.6648,  87.7619,-999.000,-999.000,20090426,       1744
33RR20090320,        I05,     131,          2,          3,          3,2,20090426,       1737,   -31.6648,    87.7621,       1411,  1203.6,   4.1585,  34.4429,2,  34.4441,2,    169.9,2,   169.1,2,   53.11,2,   33.56,2,    0.00,2,    2.39,2,   0.598,2,   0.285,2,   0.0930,2,  2230.5,2,  2321.7,2,   7.6543,2,    20.00,-999.000,9,-999.000,9,-999.000,9,   4.1600,2,-999.000,9, -999.00,9, -999.00,-999.000,9,-999.000,   40.10,2,   35.10,2, -31.6648,  87.7620,-999.000,-999.000,20090426,       1742
33RR20090320,        I05,     131,          2,          2,          2,2,20090426,       1737,   -31.6648,    87.7621,       1411,  1303.7,   3.8161,  34.4826,2,  34.4828,2,    160.2,2,   161.4,2,   62.15,2,   34.36,2,    0.00,2,    2.45,2,   0.359,2,   0.171,2,   0.0000,2,  2243.8,2,  2332.1,2,   7.6414,2,    20.00,-999.000,9,-999.000,9,-999.000,9,   3.8180,2,-999.000,9, -999.00,9, -999.00,-999.000,9,-999.000,   39.71,2,   36.35,2, -31.6648,  87.7621,-999.000,-999.000,20090426,       1739
33RR20090320,        I05,     131,          2,          1,          1,2,20090426,       1737,   -31.6648,    87.7621,       1411,  1412.2,   3.3889,  34.5400,2,  34.5402,2,    155.1,2,   155.6,2,   72.14,2,   34.93,2,    0.00,2,    2.50,2,   0.182,6,   0.089,6,   0.0160,6,  2257.9,6,  2340.4,2,   7.6328,2,    20.00,-999.000,9,-999.000,9,-999.000,9,   3.3894,2,-999.000,9, -999.00,9, -999.00,-999.000,9,-999.000,   39.96,2,   36.58,2, -31.6648,  87.7621,-999.000,-999.000,20090426,       1737