BOTTLE,20220814CCHSIOAMB
EXPOCODE,SECT_ID,STNNBR,CASTNO,SAMPNO,BTLNBR,BTLNBR_FLAG_W,DATE,TIME,LATITUDE,LONGITUDE,DEPTH,CTDPRS,CTDTMP,CTDSAL,CTDSAL_FLAG_W,SALNTY,SALNTY_FLAG_W,CTDOXY,CTDOXY_FLAG_W,OXYGEN,OXYGEN_FLAG_W,SILCAT,SILCAT_FLAG_W,NITRAT,NITRAT_FLAG_W,NITRIT,NITRIT_FLAG_W,PHSPHT,PHSPHT_FLAG_W,CFC-11,CFC-11_FLAG_W,CFC-12,CFC-12_FLAG_W,SF6,SF6_FLAG_W,TCARBN,TCARBN_FLAG_W,ALKALI,ALKALI_FLAG_W,PH_TOT,PH_TOT_FLAG_W,PH_TMP,TRITUM,TRITUM_FLAG_W,HELIUM,HELIUM_FLAG_W,DELHE3,DELHE3_FLAG_W,REFTMP,REFTMP_FLAG_W,DELC13,DELC13_FLAG_W,DELC14,DELC14_FLAG_W,C14ERR,NEON,NEON_FLAG_W,NEONER,DOC,DOC_FLAG_W,TDN,TDN_FLAG_W,BTL_LAT,BTL_LON,HELIER,DELHER,BTL_DATE,BTL_TIME
,,,,,,,,,,,METERS,DBAR,ITS-90,PSS-78,,PSS-78,,UMOL/KG,,UMOL/KG,,UMOL/KG,,UMOL/KG,,UMOL/KG,,UMOL/KG,,PMOL/KG,,PMOL/KG,,FMOL/KG,,UMOL/KG,,UMOL/KG,,,,DEG C,TU,,NMOL/KG,,PERCNT,,DEG C,,/MILLE,,/MILLE,,/MILLE,NMOL/KG,,NMOL/KG,UMOL/KG,,UMOL/KG,,,,NMOL/KG,PERCNT,,
33RR20090320,        I05,      79,          1,         36,         36,2,20090413,       0241,   -33.9993,    61.6952,       4773,    11.4,  20.1084,  35.4616,2,  35.4618,2,    230.4,2,   227.1,2,    1.67,2,    0.14,2,    0.00,2,    0.14,2,   2.163,6,   1.301,6,   1.1560,6,  2055.4,6,  2330.6,2,   8.0769,2,    20.00,-999.000,9,-999.000,9,-999.000,9,  20.1069,2,-999.000,9, -999.00,9, -999.00,-999.000,9,-999.000,   66.20,2,    3.82,2, -33.9991,  61.6953,-999.000,-999.000,20090413,       0447
33RR20090320,        I05,      79,          1,         35,         35,2,20090413,       0241,   -33.9993,    61.6952,       4773,    26.1,  20.1070,  35.4610,2,  35.4611,2,    231.3,2,   227.1,2,    1.67,2,    0.09,2,    0.00,2,    0.14,2,-999.000,9,-999.000,9,-999.0000,9,  2056.0,2,  2328.9,2,   8.0767,2,    20.00,-999.000,9,-999.000,9,-999.000,9,  20.1064,2,-999.000,9, -999.00,9, -999.00,-999.000,9,-999.000,   65.38,2,    4.36,2, -33.9992,  61.6954,-999.000,-999.000,20090413,       0446
33RR20090320,        I05,      79,          1,         34,         34,2,20090413,       0241,   -33.9993,    61.6952,       4773,    45.2,  20.1049,  35.4611,2,  35.4616,2,    231.2,2,   227.3,2,    1.67,2,    0.15,2,    0.00,2,    0.14,2,   2.152,2,   1.302,2,   1.3390,2,  2055.5,2,  2328.7,2,   8.0765,2,    20.00,-999.000,9,-999.000,9,-999.000,9,  20.1065,2,-999.000,9, -999.00,9, -999.00,-999.000,9,-999.000,   64.84,2,    3.89,2, -33.9992,  61.6955,-999.000,-999.000,20090413,       0444
33RR20090320,        I05,      79,          1,         33,         33,2,20090413,       0241,   -33.9993,    61.6952,       4773,    71.7,  17.3816,  35.4998,2,  35.5015,2,    244.1,2,   255.0,2,    1.67,2,    0.15,2,    0.00,2,    0.16,2,-999.000,9,-999.000,9,-999.0000,9,  2063.0,2,  2333.1,2,   8.0669,2,    20.00,-999.000,9,-999.000,9,-999.000,9,  17.4234,2,-999.000,9, -999.00,9, -999.00,-999.000,9,-999.000,   61.61,2,    4.00,2, -33.9992,  61.6954,-999.000,-999.000,20090413,       0442
33RR20090320,        I05,      79,          1,         32,         32,2,20090413,       0241,   -33.9993,    61.6952,       4773,    95.9,  15.5403,  35.4286,2,  35.4201,2,    246.2,2,   249.3,2,    1.87,2,    0.29,2,    0.01,2,    0.24,2,-999.000,9,-999.000,9,-999.0000,9,  2080.9,2,  2330.3,2,   8.0294,2,    20.00,-999.000,9,-999.000,9,-999.000,9,  15.5088,2,-999.000,9, -999.00,9, -999.00,-999.000,9,-999.000,   56.28,2,    4.10,2, -33.9992,  61.6955,-999.000,-999.000,20090413,       0441
33RR20090320,        I05,      79,          1,         31,         31,2,20090413,       0241,   -33.9993,    61.6952,       4773,   140.9,  13.8620,  35.2899,2,  35.2918,2,    237.5,2,   230.9,2,    2.91,2,    5.84,2,    0.02,2,    0.53,2,   2.921,2,   1.697,2,   1.3790,2,  2104.5,2,  2319.8,2,   7.9672,2,    20.00,-999.000,9,-999.000,9,-999.000,9,  13.8639,2,-999.000,9, -999.00,9, -999.00,-999.000,9,-999.000,   51.70,2,    8.48,2, -33.9992,  61.6954,-999.000,-999.000,20090413,       0439
33RR20090320,        I05,      79,          1,         30,         30,2,20090413,       0241,   -33.9993,    61.6952,       4773,   189.6,  13.2536,  35.2403,2,  35.2394,2,    235.7,2,   231.7,2,    3.74,2,    7.82,2,    0.00,2,    0.62,2,-999.000,9,-999.000,9,-999.0000,9,  2108.3,2,  2317.7,2,   7.9496,2,    20.00,-999.000,9,-999.000,9,-999.000,9,  13.2439,2,-999.000,9, -999.00,9, -999.00,-999.000,9,-999.000,   49.82,2,   10.55,2, -33.9992,  61.6953,-999.000,-999.000,20090413,       0436
33RR20090320,        I05,      79,          1,         29,         29,2,20090413,       0241,   -33.9993,    61.6952,       4773,   241.4,  12.9496,  35.2142,2,  35.2144,2,    234.0,2,   233.4,2,    3.94,2,    8.67,2,    0.00,2,    0.67,2,-999.000,9,-999.000,9,-999.0000,9,  2109.8,2,  2315.1,2,   7.9446,2,    20.00,-999.000,9,-999.000,9,-999.000,9,  12.9479,2,-999.000,9, -999.00,9, -999.00,-999.000,9,-999.000,   48.63,2,   11.28,2, -33.9992,  61.6952,-999.000,-999.000,20090413,       0434
33RR20090320,        I05,      79,          1,         28,         28,2,20090413,       0241,   -33.9993,    61.6952,       4773,   289.7,  12.6641,  35.1762,2,  35.1769,2,    234.2,2,   234.4,2,    4.16,2,    9.30,2,    0.00,2,    0.71,2,-999.000,5,-999.000,5,-999.0000,5,  2111.1,2,  2314.3,2,   7.9381,2,    20.00,-999.000,9,-999.000,9,-999.000,9,  12.6669,2,-999.000,9, -999.00,9, -999.00,-999.000,9,-999.000,   47.71,2,   11.67,2, -33.9992,  61.6953,-999.000,-999.000,20090413,       0432
33RR20090320,        I05,      79,          1,         27,         27,2,20090413,       0241,   -33.9993,    61.6952,       4773,   340.8,  12.4167,  35.1391,2,  35.1384,2,    234.6,2,   235.0,2,    4.36,2,    9.84,2,    0.00,2,    0.74,2,-999.000,9,-999.000,9,-999.0000,9,  2112.5,2,  2312.1,2,   7.9326,2,    20.00,-999.000,9,-999.000,9,-999.000,9,  12.4162,2,-999.000,9, -999.00,9, -999.00,-999.000,9,-999.000,   47.07,2,   12.57,2, -33.9992,  61.6953,-999.000,-999.000,20090413,       0429
33RR20090320,        I05,      79,          1,         26,         26,2,20090413,       0241,   -33.9993,    61.6952,       4773,   390.8,  12.1782,  35.1028,2,  35.1043,2,    234.6,2,   235.6,2,    4.36,2,   10.36,2,    0.00,2,    0.78,2,-999.000,9,-999.000,9,-999.0000,9,  2113.7,2,  2312.5,2,   7.9274,2,    20.00,-999.000,9,-999.000,9,-999.000,9,  12.1781,2,-999.000,9, -999.00,9, -999.00,-999.000,9,-999.000,   46.60,2,   12.64,2, -33.9993,  61.6952,-999.000,-999.000,20090413,       0426
33RR20090320,        I05,      79,          1,         25,         25,2,20090413,       0241,   -33.9993,    61.6952,       4773,   471.8,  11.6831,  35.0226,2,  35.0228,2,    232.0,2,   232.4,2,    4.77,2,   11.74,2,    0.00,2,    0.87,2,   3.223,2,   1.794,2,   1.2890,2,  2118.0,2,  2308.4,2,   7.9105,2,    20.00,-999.000,9,-999.000,9,-999.000,9,  11.6927,2,-999.000,9, -999.00,9, -999.00,-999.000,9,-999.000,   45.77,2,   13.19,2, -33.9993,  61.6951,-999.000,-999.000,20090413,       0424
33RR20090320,        I05,      79,          1,         24,         24,2,20090413,       0241,   -33.9993,    61.6952,       4773,   571.3,  10.9409,  34.9134,2,  35.2107,4,    228.1,2,   229.7,2,    5.40,2,   13.65,2,    0.00,2,    0.99,2,-999.000,9,-999.000,9,-999.0000,9,  2123.3,2,  2303.6,2,   7.8886,2,    20.00,-999.000,9,-999.000,9,-999.000,9,  10.9445,2,-999.000,9, -999.00,9, -999.00,-999.000,9,-999.000,   43.96,2,   15.42,2, -33.9993,  61.6951,-999.000,-999.000,20090413,       0421
33RR20090320,        I05,      79,          1,         23,         23,2,20090413,       0241,   -33.9993,    61.6952,       4773,   669.5,  10.0733,  34.7961,2,  34.7996,2,    225.2,2,   222.6,2,    6.85,2,   16.14,2,    0.00,2,    1.15,2,-999.000,9,-999.000,9,-999.0000,9,  2130.8,2,  2298.8,2,   7.8612,2,    20.00,-999.000,9,-999.000,9,-999.000,9,  10.0816,2,-999.000,9, -999.00,9, -999.00,-999.000,9,-999.000,   43.16,2,   17.77,2, -33.9994,  61.6951,-999.000,-999.000,20090413,       0418
33RR20090320,        I05,      79,          1,         22,         22,2,20090413,       0241,   -33.9993,    61.6952,       4773,   770.1,   8.9798,  34.6637,2,  34.6656,2,    217.7,2,   216.7,2,    8.93,2,   19.32,2,    0.00,2,    1.35,2,   3.046,2,   1.567,2,   0.8210,2,  2140.9,2,  2295.8,2,   7.8254,2,    20.00,-999.000,9,-999.000,9,-999.000,9,   8.9830,2,-999.000,9, -999.00,9, -999.00,-999.000,9,-999.000,   42.34,2,   21.15,2, -33.9993,  61.6951,-999.000,-999.000,20090413,       0415
33RR20090320,        I05,      79,          1,         21,         21,2,20090413,       0241,   -33.9993,    61.6952,       4773,   871.8,   7.5928,  34.5322,2,  34.5339,2,    205.7,2,   205.2,2,   14.76,2,   23.57,2,    0.00,2,    1.65,2,-999.000,9,-999.000,9,-999.0000,9,  2158.7,2,  2293.2,2,   7.7760,2,    20.00,-999.000,9,-999.000,9,-999.000,9,   7.6026,2,-999.000,9, -999.00,9, -999.00,-999.000,9,-999.000,   41.49,2,   25.04,2, -33.9993,  61.6951,-999.000,-999.000,20090413,       0412
33RR20090320,        I05,      79,          1,         20,         20,2,20090413,       0241,   -33.9993,    61.6952,       4773,   970.9,   6.1481,  34.4225,2,  34.4236,2,    203.2,2,   204.7,2,   21.23,2,   27.14,2,    0.00,2,    1.89,2,-999.000,9,-999.000,9,-999.0000,9,  2174.0,2,  2294.2,2,   7.7355,2,    20.00,-999.000,9,-999.000,9,-999.000,9,   6.1566,2,-999.000,9, -999.00,9, -999.00,-999.000,9,-999.000,   40.82,2,   28.49,2, -33.9994,  61.6952,-999.000,-999.000,20090413,       0408
33RR20090320,        I05,      79,          1,         19,         19,2,20090413,       0241,   -33.9993,    61.6952,       4773,  1072.2,   5.0926,  34.3704,2,  34.3730,2,    204.9,2,   205.3,2,   27.70,2,   29.28,2,    0.00,2,    2.05,2,   2.122,2,   1.049,2,   0.4860,2,  2185.7,2,  2295.1,2,   7.7112,2,    20.00,-999.000,9,-999.000,9,-999.000,9,   5.0951,2,-999.000,9, -999.00,9, -999.00,-999.000,9,-999.000,   40.11,2,   30.52,2, -33.9995,  61.6951,-999.000,-999.000,20090413,       0405
33RR20090320,        I05,      79,          1,         18,         18,2,20090413,       0241,   -33.9993,    61.6952,       4773,  1170.9,   4.3309,  34.3745,2,  34.3746,2,    196.6,2,   198.3,2,   36.51,2,   31.05,2,    0.00,2,    2.20,2,-999.000,9,-999.000,9,-999.0000,9,  2201.4,2,  2305.0,2,   7.6883,2,    20.00,-999.000,9,-999.000,9,-999.000,9,   4.3371,2,-999.000,9, -999.00,9, -999.00,-999.000,9,-999.000,   40.01,2,   32.43,2, -33.9995,  61.6951,-999.000,-999.000,20090413,       0402
33RR20090320,        I05,      79,          1,         17,         17,2,20090413,       0241,   -33.9993,    61.6952,       4773,  1272.7,   3.7792,  34.3980,2,  34.3978,2,    189.9,2,   190.7,2,   45.54,2,   32.45,2,    0.00,2,    2.30,2,-999.000,9,-999.000,9,-999.0000,9,  2214.7,2,  2312.5,2,   7.6687,2,    20.00,-999.000,9,-999.000,9,-999.000,9,   3.7783,2,-999.000,9, -999.00,9, -999.00,-999.000,9,-999.000,   40.00,2,   33.95,2, -33.9996,  61.6951,-999.000,-999.000,20090413,       0359
33RR20090320,        I05,      79,          1,         16,         16,2,20090413,       0241,   -33.9993,    61.6952,       4773,  1371.8,   3.4089,  34.4474,2,  34.4470,2,    180.7,2,   181.2,2,   54.18,2,   33.74,2,    0.00,2,    2.37,2,   0.886,2,   0.414,2,   0.1290,2,  2228.3,2,  2320.3,2,   7.6525,2,    20.00,-999.000,9,-999.000,9,-999.000,9,   3.4095,2,-999.000,9, -999.00,9, -999.00,-999.000,9,-999.000,   39.46,2,   35.09,2, -33.9997,  61.6951,-999.000,-999.000,20090413,       0356
33RR20090320,        I05,      79,          1,         15,         15,2,20090413,       0241,   -33.9993,    61.6952,       4773,  1471.7,   3.1481,  34.5024,2,  34.5022,2,    173.2,2,   174.7,2,   61.99,2,   33.62,2,    0.00,2,    2.40,2,-999.000,9,-999.000,9,-999.0000,9,  2238.6,2,  2329.6,2,   7.6448,2,    20.00,-999.000,9,-999.000,9,-999.000,9,   3.1467,2,-999.000,9, -999.00,9, -999.00,-999.000,9,-999.000,   39.67,2,   35.31,2, -33.9996,  61.6951,-999.000,-999.000,20090413,       0353
33RR20090320,        I05,      79,          1,         14,         14,2,20090413,       0241,   -33.9993,    61.6952,       4773,  1573.0,   2.9648,  34.5479,2,  34.5476,2,    170.0,2,   172.0,2,   67.28,2,   33.78,2,    0.00,2,    2.40,2,-999.000,9,-999.000,9,-999.0000,9,  2244.7,2,  2334.1,2,   7.6436,2,    20.00,-999.000,9,-999.000,9,-999.000,9,   2.9650,2,-999.000,9, -999.00,9, -999.00,-999.000,9,-999.000,   39.81,2,   35.32,2, -33.9997,  61.6951,-999.000,-999.000,20090413,       0350
33RR20090320,        I05,      79,          1,         13,         13,2,20090413,       0241,   -33.9993,    61.6952,       4773,  1744.4,   2.7008,  34.6197,2,  34.6211,2,    171.6,2,   173.9,2,   73.20,2,   33.02,2,    0.00,2,    2.33,2,   0.189,2,   0.080,2,   0.0250,2,  2249.7,6,  2341.2,2,   7.6514,2,    20.00,-999.000,9,-999.000,9,-999.000,9,   2.7016,2,-999.000,9, -999.00,9, -999.00,-999.000,9,-999.000,   39.50,2,   34.73,2, -33.9995,  61.6951,-999.000,-999.000,20090413,       0345
33RR20090320,        I05,      79,          1,         12,         12,2,20090413,       0241,   -33.9993,    61.6952,       4773,  1945.6,   2.4630,  34.6849,2,  34.6871,2,    177.0,2,   179.1,2,   79.57,2,   32.05,2,    0.00,2,    2.26,2,-999.000,9,-999.000,9,-999.0000,9,  2249.1,2,  2344.7,2,   7.6663,2,    20.00,-999.000,9,-999.000,9,-999.000,9,   2.4639,2,-999.000,9, -999.00,9, -999.00,-999.000,9,-999.000,   39.49,2,   33.34,2, -33.9993,  61.6952,-999.000,-999.000,20090413,       0340
33RR20090320,        I05,      79,          1,         11,         11,2,20090413,       0241,   -33.9993,    61.6952,       4773,  2176.2,   2.2735,  34.7162,2,  34.7156,2,    182.4,2,   181.4,2,   87.65,2,   31.78,2,    0.00,2,    2.26,2,-999.000,9,-999.000,9,-999.0000,9,  2254.5,2,  2359.5,2,   7.6760,2,    20.00,-999.000,9,-999.000,9,-999.000,9,   2.2729,2,-999.000,9, -999.00,9, -999.00,-999.000,9,-999.000,   39.68,2,   33.75,2, -33.9993,  61.6952,-999.000,-999.000,20090413,       0336
33RR20090320,        I05,      79,          1,         10,         10,2,20090413,       0241,   -33.9993,    61.6952,       4773,  2429.3,   2.0785,  34.7294,2,  34.7292,2,    180.4,2,   179.5,2,   99.79,2,   32.21,2,    0.00,2,    2.29,2,   0.033,2,   0.012,2,   0.0000,2,  2266.1,2,  2369.0,2,   7.6791,2,    20.00,-999.000,9,-999.000,9,-999.000,9,   2.0786,2,-999.000,9, -999.00,9, -999.00,-999.000,9,-999.000,   39.86,2,   33.63,2, -33.9995,  61.6953,-999.000,-999.000,20090413,       0330
33RR20090320,        I05,      79,          1,          9,          9,2,20090413,       0241,   -33.9993,    61.6952,       4773,  2682.3,   1.9473,  34.7334,2,  34.7330,2,    180.3,2,   178.8,2,  107.06,2,   32.47,2,    0.00,2,    2.31,2,-999.000,9,-999.000,9,-999.0000,9,  2271.8,2,  2378.2,2,   7.6796,2,    20.00,-999.000,9,-999.000,9,-999.000,9,   1.9474,2,-999.000,9, -999.00,9, -999.00,-999.000,9,-999.000,   39.35,2,   34.28,2, -33.9995,  61.6953,-999.000,-999.000,20090413,       0325
33RR20090320,        I05,      79,          1,          8,          8,2,20090413,       0241,   -33.9993,    61.6952,       4773,  2937.0,   1.8051,  34.7331,2,  34.7338,2,    180.9,2,   180.1,2,  112.19,2,   32.73,2,    0.00,2,    2.33,2,-999.000,9,-999.000,9,-999.0000,9,  2275.8,2,  2381.2,2,   7.6794,2,    20.00,-999.000,9,-999.000,9,-999.000,9,   1.8051,2,-999.000,9, -999.00,9, -999.00,-999.000,9,-999.000,   39.12,2,   34.59,2, -33.9996,  61.6952,-999.000,-999.000,20090413,       0320
33RR20090320,        I05,      79,          1,          7,          7,2,20090413,       0241,   -33.9993,    61.6952,       4773,  3226.5,   1.6425,  34.7303,2,  34.7306,2,    185.8,2,   184.6,2,  114.76,2,   32.58,2,    0.00,2,    2.32,2,   0.038,2,   0.014,2,   0.0000,2,  2274.4,2,  2380.3,2,   7.6809,2,    20.00,-999.000,9,-999.000,9,-999.000,9,   1.6428,2,-999.000,9, -999.00,9, -999.00,-999.000,9,-999.000,   39.23,2,   34.13,2, -33.9995,  61.6951,-999.000,-999.000,20090413,       0315
33RR20090320,        I05,      79,          1,          6,          6,2,20090413,       0241,   -33.9993,    61.6952,       4773,  3531.5,   1.3627,  34.7210,2,  34.7208,2,    192.0,2,   192.2,2,  119.69,2,   32.63,2,    0.00,2,    2.32,2,-999.000,9,-999.000,9,-999.0000,9,  2271.1,2,  2378.6,2,   7.6813,2,    20.00,-999.000,9,-999.000,9,-999.000,9,   1.3638,2,-999.000,9, -999.00,9, -999.00,-999.000,9,-999.000,   39.58,2,   34.37,2, -33.9995,  61.6951,-999.000,-999.000,20090413,       0309
33RR20090320,        I05,      79,          1,          5,          5,2,20090413,       0241,   -33.9993,    61.6952,       4773,  3835.2,   0.9996,  34.7073,2,  34.7079,2,    202.6,2,   202.3,2,  124.85,2,   32.57,2,    0.00,2,    2.31,2,-999.000,9,-999.000,9,-999.0000,9,  2266.1,2,  2371.8,2,   7.6807,2,    20.00,-999.000,9,-999.000,9,-999.000,9,   0.9996,2,-999.000,9, -999.00,9, -999.00,-999.000,9,-999.000,   39.78,2,   34.00,2, -33.9996,  61.6954,-999.000,-999.000,20090413,       0303
33RR20090320,        I05,      79,          1,          4,          4,2,20090413,       0241,   -33.9993,    61.6952,       4773,  4140.1,   0.7417,  34.6968,2,  34.6977,2,    209.7,2,   209.8,2,  128.72,2,   32.62,2,    0.00,2,    2.31,2,   0.076,2,   0.030,2,   0.0000,2,  2263.2,2,  2370.0,2,   7.6818,2,    20.00,-999.000,9,-999.000,9,-999.000,9,   0.7410,2,-999.000,9, -999.00,9, -999.00,-999.000,9,-999.000,   39.13,2,   34.00,2, -33.9994,  61.6951,-999.000,-999.000,20090413,       0256
33RR20090320,        I05,      79,          1,          3,          3,2,20090413,       0241,   -33.9993,    61.6952,       4773,  4444.4,   0.5940,  34.6899,2,  34.6900,2,    213.7,2,   214.8,2,  131.08,2,   32.62,2,    0.00,2,    2.30,2,-999.000,9,-999.000,9,-999.0000,9,  2259.8,2,  2367.7,2,   7.6798,2,    20.00,-999.000,9,-999.000,9,-999.000,9,   0.5937,2,-999.000,9, -999.00,9, -999.00,-999.000,9,-999.000,   39.21,2,   34.04,2, -33.9995,  61.6951,-999.000,-999.000,20090413,       0250
33RR20090320,        I05,      79,          1,          2,          2,2,20090413,       0241,   -33.9993,    61.6952,       4773,  4647.5,   0.5114,  34.6858,2,  34.6859,2,    217.5,2,   218.2,2,  132.15,2,   32.56,2,    0.00,2,    2.29,2,-999.000,9,-999.000,9,-999.0000,9,  2257.7,2,  2363.7,2,   7.6778,2,    20.00,-999.000,9,-999.000,9,-999.000,9,   0.5114,2,-999.000,9, -999.00,9, -999.00,-999.000,9,-999.000,   39.23,2,   33.68,2, -33.9993,  61.6951,-999.000,-999.000,20090413,       0246
33RR20090320,        I05,      79,          1,          1,          1,2,20090413,       0241,   -33.9993,    61.6952,       4773,  4846.8,   0.4547,  34.6820,2,  34.6816,2,    218.8,2,   219.3,2,  134.30,2,   32.67,2,    0.00,2,    2.31,2,   0.174,2,   0.073,2,   0.0240,2,  2260.2,6,  2363.7,2,   7.6772,2,    20.00,-999.000,9,-999.000,9,-999.000,9,   0.4548,2,-999.000,9, -999.00,9, -999.00,-999.000,9,-999.000,   39.17,2,   33.95,2, -33.9993,  61.6952,-999.000,-999.000,20090413,       0241