BOTTLE,20220814CCHSIOAMB
EXPOCODE,SECT_ID,STNNBR,CASTNO,SAMPNO,BTLNBR,BTLNBR_FLAG_W,DATE,TIME,LATITUDE,LONGITUDE,DEPTH,CTDPRS,CTDTMP,CTDSAL,CTDSAL_FLAG_W,SALNTY,SALNTY_FLAG_W,CTDOXY,CTDOXY_FLAG_W,OXYGEN,OXYGEN_FLAG_W,SILCAT,SILCAT_FLAG_W,NITRAT,NITRAT_FLAG_W,NITRIT,NITRIT_FLAG_W,PHSPHT,PHSPHT_FLAG_W,CFC-11,CFC-11_FLAG_W,CFC-12,CFC-12_FLAG_W,SF6,SF6_FLAG_W,TCARBN,TCARBN_FLAG_W,ALKALI,ALKALI_FLAG_W,PH_TOT,PH_TOT_FLAG_W,PH_TMP,TRITUM,TRITUM_FLAG_W,HELIUM,HELIUM_FLAG_W,DELHE3,DELHE3_FLAG_W,REFTMP,REFTMP_FLAG_W,DELC13,DELC13_FLAG_W,DELC14,DELC14_FLAG_W,C14ERR,NEON,NEON_FLAG_W,NEONER,DOC,DOC_FLAG_W,TDN,TDN_FLAG_W,BTL_LAT,BTL_LON,HELIER,DELHER,BTL_DATE,BTL_TIME
,,,,,,,,,,,METERS,DBAR,ITS-90,PSS-78,,PSS-78,,UMOL/KG,,UMOL/KG,,UMOL/KG,,UMOL/KG,,UMOL/KG,,UMOL/KG,,PMOL/KG,,PMOL/KG,,FMOL/KG,,UMOL/KG,,UMOL/KG,,,,DEG C,TU,,NMOL/KG,,PERCNT,,DEG C,,/MILLE,,/MILLE,,/MILLE,NMOL/KG,,NMOL/KG,UMOL/KG,,UMOL/KG,,,,NMOL/KG,PERCNT,,
33RR20090320,        I05,      13,          2,         36,         36,2,20090326,       1433,   -32.1799,    32.3194,       3557,     3.9,  24.0110,  35.5766,2,  35.5775,2,    211.2,2,   211.5,2,    1.61,2,    0.08,2,    0.00,2,    0.07,2,-999.000,9,-999.000,9,-999.0000,9,  2008.4,6,  2330.5,2,   8.1582,2,    20.00,-999.000,9,-999.000,9,-999.000,9,  24.0079,2,-999.000,9, -999.00,9, -999.00,-999.000,9,-999.000, -999.00,9, -999.00,9, -32.1799,  32.3194,-999.000,-999.000,20090326,       1619
33RR20090320,        I05,      13,          2,         35,         35,2,20090326,       1433,   -32.1799,    32.3194,       3557,    20.6,  23.8345,  35.5720,2,-999.0000,9,    212.5,2,   212.1,2,    1.59,2,    0.03,2,    0.00,2,    0.05,2,-999.000,9,-999.000,9,-999.0000,9,  -999.0,9,  -999.0,9,-999.0000,9,  -999.00,-999.000,9,-999.000,9,-999.000,9,  23.8231,2,-999.000,9, -999.00,9, -999.00,-999.000,9,-999.000, -999.00,9, -999.00,9, -32.1800,  32.3193,-999.000,-999.000,20090326,       1618
33RR20090320,        I05,      13,          2,         34,         34,2,20090326,       1433,   -32.1799,    32.3194,       3557,    40.9,  22.7581,  35.5716,2,-999.0000,9,    216.2,2,   221.8,2,    1.56,2,    0.03,2,    0.00,2,    0.05,2,-999.000,9,-999.000,9,-999.0000,9,  -999.0,9,  -999.0,9,-999.0000,9,  -999.00,-999.000,9,-999.000,9,-999.000,9,  22.7523,2,-999.000,9, -999.00,9, -999.00,-999.000,9,-999.000, -999.00,9, -999.00,9, -32.1801,  32.3192,-999.000,-999.000,20090326,       1617
33RR20090320,        I05,      13,          2,         33,         33,2,20090326,       1433,   -32.1799,    32.3194,       3557,    66.0,  20.4523,  35.5266,2,-999.0000,9,    197.2,2,   199.7,2,    2.73,2,    2.23,2,    0.04,2,    0.24,2,-999.000,9,-999.000,9,-999.0000,9,  2051.2,2,  2324.9,2,   8.0786,2,    20.00,-999.000,9,-999.000,9,-999.000,9,  20.4389,2,-999.000,9, -999.00,9, -999.00,-999.000,9,-999.000, -999.00,9, -999.00,9, -32.1802,  32.3193,-999.000,-999.000,20090326,       1615
33RR20090320,        I05,      13,          2,         32,         32,2,20090326,       1433,   -32.1799,    32.3194,       3557,    90.0,  19.4267,  35.5626,2,-999.0000,9,    215.0,2,   215.9,2,    2.12,2,    0.79,2,    0.14,2,    0.18,2,-999.000,9,-999.000,9,-999.0000,9,  -999.0,9,  -999.0,9,-999.0000,9,  -999.00,-999.000,9,-999.000,9,-999.000,9,  19.4354,2,-999.000,9, -999.00,9, -999.00,-999.000,9,-999.000, -999.00,9, -999.00,9, -32.1802,  32.3192,-999.000,-999.000,20090326,       1614
33RR20090320,        I05,      13,          2,         31,         31,2,20090326,       1433,   -32.1799,    32.3194,       3557,   115.9,  18.7871,  35.5520,2,-999.0000,9,    211.5,2,   209.0,2,    2.49,2,    2.20,2,    0.01,2,    0.27,2,-999.000,9,-999.000,9,-999.0000,9,  -999.0,9,  -999.0,9,-999.0000,9,  -999.00,-999.000,9,-999.000,9,-999.000,9,  18.7882,2,-999.000,9, -999.00,9, -999.00,-999.000,9,-999.000, -999.00,9, -999.00,9, -32.1802,  32.3193,-999.000,-999.000,20090326,       1612
33RR20090320,        I05,      13,          2,         30,         30,2,20090326,       1433,   -32.1799,    32.3194,       3557,   141.0,  18.1487,  35.5517,2,-999.0000,9,    207.7,2,   208.5,2,    2.86,2,    3.06,2,    0.01,2,    0.30,2,-999.000,9,-999.000,9,-999.0000,9,  2065.6,2,  2327.7,2,   8.0522,2,    20.00,-999.000,9,-999.000,9,-999.000,9,  18.1471,2,-999.000,9, -999.00,9, -999.00,-999.000,9,-999.000, -999.00,9, -999.00,9, -32.1802,  32.3193,-999.000,-999.000,20090326,       1610
33RR20090320,        I05,      13,          2,         29,         29,2,20090326,       1433,   -32.1799,    32.3194,       3557,   185.7,  17.7079,  35.5444,2,  35.5441,2,    209.4,2,   209.3,2,    3.24,2,    3.86,2,    0.01,2,    0.34,2,-999.000,9,-999.000,9,-999.0000,9,  -999.0,9,  -999.0,9,-999.0000,9,  -999.00,-999.000,9,-999.000,9,-999.000,9,  17.7068,2,-999.000,9, -999.00,9, -999.00,-999.000,9,-999.000, -999.00,9, -999.00,9, -32.1802,  32.3193,-999.000,-999.000,20090326,       1608
33RR20090320,        I05,      13,          2,         28,         28,2,20090326,       1433,   -32.1799,    32.3194,       3557,   234.4,  17.1410,  35.5369,2,-999.0000,9,    209.2,2,   203.8,2,    3.80,2,    4.86,2,    0.01,2,    0.42,2,-999.000,9,-999.000,9,-999.0000,9,  -999.0,9,  -999.0,9,-999.0000,9,  -999.00,-999.000,9,-999.000,9,-999.000,9,  17.1378,2,-999.000,9, -999.00,9, -999.00,-999.000,9,-999.000, -999.00,9, -999.00,9, -32.1801,  32.3193,-999.000,-999.000,20090326,       1606
33RR20090320,        I05,      13,          2,         27,         27,2,20090326,       1433,   -32.1799,    32.3194,       3557,   285.0,  16.3419,  35.5057,2,-999.0000,9,    203.9,2,   203.0,2,    4.18,2,    6.00,2,    0.00,2,    0.49,2,-999.000,9,-999.000,9,-999.0000,9,  2093.6,2,  2326.7,2,   7.9983,2,    20.00,-999.000,9,-999.000,9,-999.000,9,  16.3364,2,-999.000,9, -999.00,9, -999.00,-999.000,9,-999.000, -999.00,9, -999.00,9, -32.1801,  32.3194,-999.000,-999.000,20090326,       1604
33RR20090320,        I05,      13,          2,         26,         26,2,20090326,       1433,   -32.1799,    32.3194,       3557,   335.3,  15.4401,  35.4595,2,-999.0000,9,    201.3,2,   201.6,2,    4.36,2,    7.30,2,    0.00,2,    0.58,2,-999.000,9,-999.000,9,-999.0000,9,  -999.0,9,  -999.0,9,-999.0000,9,  -999.00,-999.000,9,-999.000,9,-999.000,9,  15.4396,2,-999.000,9, -999.00,9, -999.00,-999.000,9,-999.000, -999.00,9, -999.00,9, -32.1800,  32.3194,-999.000,-999.000,20090326,       1602
33RR20090320,        I05,      13,          2,         25,         25,2,20090326,       1433,   -32.1799,    32.3194,       3557,   385.2,  14.7665,  35.4103,2,-999.0000,9,    204.0,2,   204.6,2,    4.34,2,    8.05,2,    0.00,2,    0.62,2,-999.000,9,-999.000,9,-999.0000,9,  -999.0,9,  -999.0,9,-999.0000,9,  -999.00,-999.000,9,-999.000,9,-999.000,9,  14.7676,2,-999.000,9, -999.00,9, -999.00,-999.000,9,-999.000, -999.00,9, -999.00,9, -32.1799,  32.3194,-999.000,-999.000,20090326,       1600
33RR20090320,        I05,      13,          2,         24,         24,2,20090326,       1433,   -32.1799,    32.3194,       3557,   434.4,  13.9911,  35.3359,2,-999.0000,9,    208.2,2,   208.0,2,    4.31,2,    8.99,2,    0.00,2,    0.68,2,-999.000,9,-999.000,9,-999.0000,9,  -999.0,9,  -999.0,9,-999.0000,9,  -999.00,-999.000,9,-999.000,9,-999.000,9,  14.0018,2,-999.000,9, -999.00,9, -999.00,-999.000,9,-999.000, -999.00,9, -999.00,9, -32.1798,  32.3195,-999.000,-999.000,20090326,       1557
33RR20090320,        I05,      13,          2,         23,         23,2,20090326,       1433,   -32.1799,    32.3194,       3557,   485.4,  13.5368,  35.2962,2,-999.0000,9,    214.4,2,   215.5,2,    3.89,2,    9.19,2,    0.00,2,    0.70,2,-999.000,9,-999.000,9,-999.0000,9,  2115.2,2,  2318.6,2,   7.9410,2,    20.00,-999.000,9,-999.000,9,-999.000,9,  13.5290,2,-999.000,9, -999.00,9, -999.00,-999.000,9,-999.000, -999.00,9, -999.00,9, -32.1798,  32.3195,-999.000,-999.000,20090326,       1555
33RR20090320,        I05,      13,          2,         22,         22,2,20090326,       1433,   -32.1799,    32.3194,       3557,   565.5,  12.6228,  35.1737,2,-999.0000,9,    217.5,2,   217.4,2,    4.27,2,   10.89,2,    0.00,2,    0.81,2,-999.000,9,-999.000,9,-999.0000,9,  -999.0,9,  -999.0,9,-999.0000,9,  -999.00,-999.000,9,-999.000,9,-999.000,9,  12.6218,2,-999.000,9, -999.00,9, -999.00,-999.000,9,-999.000, -999.00,9, -999.00,9, -32.1799,  32.3194,-999.000,-999.000,20090326,       1552
33RR20090320,        I05,      13,          2,         21,         21,2,20090326,       1433,   -32.1799,    32.3194,       3557,   664.7,  11.3456,  34.9850,2,-999.0000,9,    216.6,2,   216.5,2,    5.44,2,   13.68,2,    0.00,2,    0.98,2,-999.000,9,-999.000,9,-999.0000,9,  -999.0,9,  -999.0,9,-999.0000,9,  -999.00,-999.000,9,-999.000,9,-999.000,9,  11.3450,2,-999.000,9, -999.00,9, -999.00,-999.000,9,-999.000, -999.00,9, -999.00,9, -32.1800,  32.3194,-999.000,-999.000,20090326,       1549
33RR20090320,        I05,      13,          2,         20,         20,2,20090326,       1433,   -32.1799,    32.3194,       3557,   764.6,  10.2790,  34.8441,2,-999.0000,9,    211.8,2,   212.7,2,    7.81,2,   16.57,2,    0.00,2,    1.17,2,-999.000,9,-999.000,9,-999.0000,9,  -999.0,9,  -999.0,9,-999.0000,9,  -999.00,-999.000,9,-999.000,9,-999.000,9,  10.2804,2,-999.000,9, -999.00,9, -999.00,-999.000,9,-999.000, -999.00,9, -999.00,9, -32.1800,  32.3194,-999.000,-999.000,20090326,       1546
33RR20090320,        I05,      13,          2,         19,         19,2,20090326,       1433,   -32.1799,    32.3194,       3557,   864.9,   9.0105,  34.6943,2,  34.6935,2,    204.8,2,   206.9,2,   11.36,2,   20.03,2,    0.00,2,    1.42,2,-999.000,9,-999.000,9,-999.0000,9,  -999.0,9,  -999.0,9,-999.0000,9,  -999.00,-999.000,9,-999.000,9,-999.000,9,   9.0087,2,-999.000,9, -999.00,9, -999.00,-999.000,9,-999.000, -999.00,9, -999.00,9, -32.1798,  32.3195,-999.000,-999.000,20090326,       1543
33RR20090320,        I05,      13,          2,         18,         18,2,20090326,       1433,   -32.1799,    32.3194,       3557,   965.4,   7.2609,  34.5377,2,-999.0000,9,    197.5,2,   196.2,2,   19.52,2,   25.14,2,    0.00,2,    1.76,2,-999.000,9,-999.000,9,-999.0000,9,  -999.0,9,  -999.0,9,-999.0000,9,  -999.00,-999.000,9,-999.000,9,-999.000,9,   7.2632,2,-999.000,9, -999.00,9, -999.00,-999.000,9,-999.000, -999.00,9, -999.00,9, -32.1798,  32.3195,-999.000,-999.000,20090326,       1540
33RR20090320,        I05,      13,          2,         17,         17,2,20090326,       1433,   -32.1799,    32.3194,       3557,  1066.5,   6.1927,  34.5205,2,  34.5204,2,    176.4,2,   176.9,2,   32.91,2,   28.93,2,    0.00,2,    2.03,2,-999.000,9,-999.000,9,-999.0000,9,  -999.0,9,  -999.0,9,-999.0000,9,  -999.00,-999.000,9,-999.000,9,-999.000,9,   6.1934,2,-999.000,9, -999.00,9, -999.00,-999.000,9,-999.000, -999.00,9, -999.00,9, -32.1799,  32.3195,-999.000,-999.000,20090326,       1537
33RR20090320,        I05,      13,          2,         16,         16,2,20090326,       1433,   -32.1799,    32.3194,       3557,  1166.8,   5.2955,  34.4946,2,-999.0000,9,    173.0,2,   173.1,2,   41.33,2,   30.86,2,    0.00,2,    2.20,2,-999.000,9,-999.000,9,-999.0000,9,  -999.0,9,  -999.0,9,-999.0000,9,  -999.00,-999.000,9,-999.000,9,-999.000,9,   5.2828,2,-999.000,9, -999.00,9, -999.00,-999.000,9,-999.000, -999.00,9, -999.00,9, -32.1799,  32.3194,-999.000,-999.000,20090326,       1534
33RR20090320,        I05,      13,          2,         15,         15,2,20090326,       1433,   -32.1799,    32.3194,       3557,  1266.4,   4.5674,  34.4732,2,  34.4739,2,    176.4,2,   176.2,2,   45.95,2,   31.87,2,    0.00,2,    2.28,2,-999.000,9,-999.000,9,-999.0000,9,  -999.0,9,  -999.0,9,-999.0000,9,  -999.00,-999.000,9,-999.000,9,-999.000,9,   4.5689,2,-999.000,9, -999.00,9, -999.00,-999.000,9,-999.000, -999.00,9, -999.00,9, -32.1799,  32.3194,-999.000,-999.000,20090326,       1530
33RR20090320,        I05,      13,          2,         14,         14,2,20090326,       1433,   -32.1799,    32.3194,       3557,  1366.7,   4.3476,  34.5462,2,-999.0000,9,    159.9,2,   159.8,2,   57.44,2,   33.09,2,    0.00,2,    2.37,2,-999.000,9,-999.000,9,-999.0000,9,  -999.0,9,  -999.0,9,-999.0000,9,  -999.00,-999.000,9,-999.000,9,-999.000,9,   4.3457,2,-999.000,9, -999.00,9, -999.00,-999.000,9,-999.000, -999.00,9, -999.00,9, -32.1799,  32.3194,-999.000,-999.000,20090326,       1527
33RR20090320,        I05,      13,          2,         13,         13,2,20090326,       1433,   -32.1799,    32.3194,       3557,  1466.8,   3.7133,  34.5442,2,  34.5454,2,    165.3,2,   166.1,2,   61.47,2,   33.40,2,    0.00,2,    2.38,2,-999.000,9,-999.000,9,-999.0000,9,  -999.0,9,  -999.0,9,-999.0000,9,  -999.00,-999.000,9,-999.000,9,-999.000,9,   3.7124,2,-999.000,9, -999.00,9, -999.00,-999.000,9,-999.000, -999.00,9, -999.00,9, -32.1798,  32.3194,-999.000,-999.000,20090326,       1524
33RR20090320,        I05,      13,          2,         12,         12,2,20090326,       1433,   -32.1799,    32.3194,       3557,  1567.8,   3.5894,  34.6247,2,  34.6247,2,    160.5,2,   156.6,2,   70.77,2,   33.61,2,    0.00,2,    2.40,2,-999.000,9,-999.000,9,-999.0000,9,  2258.1,2,  2341.3,2,   7.6426,2,    20.00,-999.000,9,-999.000,9,-999.000,9,   3.5912,2,-999.000,9, -999.00,9, -999.00,-999.000,9,-999.000, -999.00,9, -999.00,9, -32.1798,  32.3195,-999.000,-999.000,20090326,       1521
33RR20090320,        I05,      13,          2,         11,         11,2,20090326,       1433,   -32.1799,    32.3194,       3557,  1668.6,   3.2917,  34.6534,2,  34.6538,2,    159.9,2,   160.2,2,   74.41,2,   33.24,2,    0.00,2,    2.37,2,-999.000,9,-999.000,9,-999.0000,9,  -999.0,9,  -999.0,9,-999.0000,9,  -999.00,-999.000,9,-999.000,9,-999.000,9,   3.2921,2,-999.000,9, -999.00,9, -999.00,-999.000,9,-999.000, -999.00,9, -999.00,9, -32.1798,  32.3195,-999.000,-999.000,20090326,       1519
33RR20090320,        I05,      13,          2,         10,         10,2,20090326,       1433,   -32.1799,    32.3194,       3557,  1764.2,   3.1448,  34.6780,2,  34.6772,2,    162.5,2,   162.8,2,   76.42,2,   32.89,2,    0.00,2,    2.34,2,-999.000,9,-999.000,9,-999.0000,9,  -999.0,9,  -999.0,9,-999.0000,9,  -999.00,-999.000,9,-999.000,9,-999.000,9,   3.1441,2,-999.000,9, -999.00,9, -999.00,-999.000,9,-999.000, -999.00,9, -999.00,9, -32.1798,  32.3195,-999.000,-999.000,20090326,       1516
33RR20090320,        I05,      13,          2,          9,          9,2,20090326,       1433,   -32.1799,    32.3194,       3557,  1936.2,   2.8796,  34.7125,2,  34.7130,2,    172.9,2,   172.4,2,   76.41,2,   31.88,2,    0.00,2,    2.26,2,-999.000,9,-999.000,9,-999.0000,9,  -999.0,9,  -999.0,9,-999.0000,9,  -999.00,-999.000,9,-999.000,9,-999.000,9,   2.8784,2,-999.000,9, -999.00,9, -999.00,-999.000,9,-999.000, -999.00,9, -999.00,9, -32.1798,  32.3195,-999.000,-999.000,20090326,       1512
33RR20090320,        I05,      13,          2,          8,          8,2,20090326,       1433,   -32.1799,    32.3194,       3557,  2131.6,   2.6924,  34.7469,2,  34.7472,2,    182.5,2,   183.4,2,   74.35,2,   30.50,2,    0.00,2,    2.19,2,-999.000,9,-999.000,9,-999.0000,9,  -999.0,9,  -999.0,9,-999.0000,9,  -999.00,-999.000,9,-999.000,9,-999.000,9,   2.6925,2,-999.000,9, -999.00,9, -999.00,-999.000,9,-999.000, -999.00,9, -999.00,9, -32.1799,  32.3195,-999.000,-999.000,20090326,       1508
33RR20090320,        I05,      13,          2,          7,          7,2,20090326,       1433,   -32.1799,    32.3194,       3557,  2334.1,   2.5694,  34.7745,2,  34.7753,2,    194.0,2,   194.6,2,   70.47,2,   29.13,2,    0.00,2,    2.05,2,-999.000,9,-999.000,9,-999.0000,9,  -999.0,9,  -999.0,9,-999.0000,9,  -999.00,-999.000,9,-999.000,9,-999.000,9,   2.5692,2,-999.000,9, -999.00,9, -999.00,-999.000,9,-999.000, -999.00,9, -999.00,9, -32.1799,  32.3194,-999.000,-999.000,20090326,       1504
33RR20090320,        I05,      13,          2,          6,          6,2,20090326,       1433,   -32.1799,    32.3194,       3557,  2535.8,   2.5002,  34.7926,2,  34.7940,2,    202.8,2,   203.0,2,   67.00,2,   28.13,2,    0.00,2,    1.96,2,-999.000,9,-999.000,9,-999.0000,9,  -999.0,9,  -999.0,9,-999.0000,9,  -999.00,-999.000,9,-999.000,9,-999.000,9,   2.4999,2,-999.000,9, -999.00,9, -999.00,-999.000,9,-999.000, -999.00,9, -999.00,9, -32.1799,  32.3194,-999.000,-999.000,20090326,       1459
33RR20090320,        I05,      13,          2,          5,          5,2,20090326,       1433,   -32.1799,    32.3194,       3557,  2738.0,   2.4078,  34.8056,2,  34.8064,2,    209.9,2,   210.6,2,   65.56,2,   27.36,2,    0.00,2,    1.90,2,-999.000,9,-999.000,9,-999.0000,9,  -999.0,9,  -999.0,9,-999.0000,9,  -999.00,-999.000,9,-999.000,9,-999.000,9,   2.4072,2,-999.000,9, -999.00,9, -999.00,-999.000,9,-999.000, -999.00,9, -999.00,9, -32.1797,  32.3194,-999.000,-999.000,20090326,       1454
33RR20090320,        I05,      13,          2,          4,          4,2,20090326,       1433,   -32.1799,    32.3194,       3557,  2946.7,   2.2811,  34.8119,2,  34.8127,2,    215.3,2,   215.1,2,   66.35,2,   27.06,2,    0.00,2,    1.87,2,-999.000,9,-999.000,9,-999.0000,9,  -999.0,9,  -999.0,9,-999.0000,9,  -999.00,-999.000,9,-999.000,9,-999.000,9,   2.2804,2,-999.000,9, -999.00,9, -999.00,-999.000,9,-999.000, -999.00,9, -999.00,9, -32.1797,  32.3194,-999.000,-999.000,20090326,       1449
33RR20090320,        I05,      13,          2,          3,          3,2,20090326,       1433,   -32.1799,    32.3194,       3557,  3224.9,   1.9906,  34.8014,2,  34.8025,2,    217.8,2,   217.6,2,   74.26,2,   27.47,2,    0.00,2,    1.90,2,-999.000,9,-999.000,9,-999.0000,9,  -999.0,9,  -999.0,9,-999.0000,9,  -999.00,-999.000,9,-999.000,9,-999.000,9,   1.9885,2,-999.000,9, -999.00,9, -999.00,-999.000,9,-999.000, -999.00,9, -999.00,9, -32.1799,  32.3193,-999.000,-999.000,20090326,       1443
33RR20090320,        I05,      13,          2,          2,          2,2,20090326,       1433,   -32.1799,    32.3194,       3557,  3428.5,   1.6542,  34.7778,2,  34.7795,2,    217.4,2,   217.3,2,   85.86,2,   28.58,2,    0.00,2,    1.99,2,-999.000,9,-999.000,9,-999.0000,9,  -999.0,9,  -999.0,9,-999.0000,9,  -999.00,-999.000,9,-999.000,9,-999.000,9,   1.6543,2,-999.000,9, -999.00,9, -999.00,-999.000,9,-999.000, -999.00,9, -999.00,9, -32.1799,  32.3194,-999.000,-999.000,20090326,       1438
33RR20090320,        I05,      13,          2,          1,          1,2,20090326,       1433,   -32.1799,    32.3194,       3557,  3597.7,   1.1932,  34.7445,2,  34.7445,2,    215.7,2,   216.0,2,  101.39,2,   30.10,2,    0.00,2,    2.12,2,-999.000,9,-999.000,9,-999.0000,9,  2257.1,2,  2364.8,2,   7.7103,2,    20.00,-999.000,9,-999.000,9,-999.000,9,   1.1922,2,-999.000,9, -999.00,9, -999.00,-999.000,9,-999.000, -999.00,9, -999.00,9, -32.1799,  32.3194,-999.000,-999.000,20090326,       1433