BOTTLE,20220814CCHSIOAMB
EXPOCODE,SECT_ID,STNNBR,CASTNO,SAMPNO,BTLNBR,BTLNBR_FLAG_W,DATE,TIME,LATITUDE,LONGITUDE,DEPTH,CTDPRS,CTDTMP,CTDSAL,CTDSAL_FLAG_W,SALNTY,SALNTY_FLAG_W,CTDOXY,CTDOXY_FLAG_W,OXYGEN,OXYGEN_FLAG_W,SILCAT,SILCAT_FLAG_W,NITRAT,NITRAT_FLAG_W,NITRIT,NITRIT_FLAG_W,PHSPHT,PHSPHT_FLAG_W,CFC-11,CFC-11_FLAG_W,CFC-12,CFC-12_FLAG_W,SF6,SF6_FLAG_W,TCARBN,TCARBN_FLAG_W,ALKALI,ALKALI_FLAG_W,PH_TOT,PH_TOT_FLAG_W,PH_TMP,TRITUM,TRITUM_FLAG_W,HELIUM,HELIUM_FLAG_W,DELHE3,DELHE3_FLAG_W,REFTMP,REFTMP_FLAG_W,DELC13,DELC13_FLAG_W,DELC14,DELC14_FLAG_W,C14ERR,NEON,NEON_FLAG_W,NEONER,DOC,DOC_FLAG_W,TDN,TDN_FLAG_W,BTL_LAT,BTL_LON,HELIER,DELHER,BTL_DATE,BTL_TIME
,,,,,,,,,,,METERS,DBAR,ITS-90,PSS-78,,PSS-78,,UMOL/KG,,UMOL/KG,,UMOL/KG,,UMOL/KG,,UMOL/KG,,UMOL/KG,,PMOL/KG,,PMOL/KG,,FMOL/KG,,UMOL/KG,,UMOL/KG,,,,DEG C,TU,,NMOL/KG,,PERCNT,,DEG C,,/MILLE,,/MILLE,,/MILLE,NMOL/KG,,NMOL/KG,UMOL/KG,,UMOL/KG,,,,NMOL/KG,PERCNT,,
33RR20090320,        I05,     143,          2,         36,         36,2,20090429,       1743,   -33.5391,    93.9432,       4392,     4.2,  18.6748,  35.5390,2,  35.5391,2,    235.1,2,   235.7,2,    0.95,2,    0.07,2,    0.00,2,    0.17,2,   2.332,6,   1.379,6,   1.2180,6,  2066.9,6,  2343.0,2,   8.0760,2,    20.00,-999.000,9,-999.000,9,-999.000,9,  18.6747,2,-999.000,9, -999.00,9, -999.00,-999.000,9,-999.000,   67.41,2,    5.15,2, -33.5389,  93.9437,-999.000,-999.000,20090429,       1933
33RR20090320,        I05,     143,          2,         35,         35,2,20090429,       1743,   -33.5391,    93.9432,       4392,    31.6,  18.8982,  35.6489,2,  35.6372,2,    237.3,2,   234.5,2,    0.93,2,    0.08,2,    0.00,2,    0.16,2,   2.310,2,   1.362,2,   1.1980,2,  2071.7,2,  2346.9,2,   8.0765,2,    20.00,-999.000,9,-999.000,9,-999.000,9,  18.8792,2,-999.000,9, -999.00,9, -999.00,-999.000,9,-999.000,   65.59,2,    4.63,2, -33.5389,  93.9437,-999.000,-999.000,20090429,       1931
33RR20090320,        I05,     143,          2,         34,         34,2,20090429,       1743,   -33.5391,    93.9432,       4392,    54.8,  18.0804,  35.5716,4,  35.5906,2,    238.5,2,   241.8,2,    1.09,2,    0.02,2,    0.00,2,    0.16,2,   2.424,2,   1.421,2,   1.2320,2,  2073.3,2,  2343.9,2,   8.0705,2,    20.00,-999.000,9,-999.000,9,-999.000,9,  17.9395,2,-999.000,9, -999.00,9, -999.00,-999.000,9,-999.000,   64.04,2,    4.22,2, -33.5389,  93.9437,-999.000,-999.000,20090429,       1929
33RR20090320,        I05,     143,          2,         33,         33,2,20090429,       1743,   -33.5391,    93.9432,       4392,    80.0,  14.7281,  35.3852,2,  35.3851,2,    251.9,2,   247.8,2,    1.61,2,    1.86,2,    0.23,2,    0.35,2,   2.899,2,   1.661,2,   1.4440,2,  2095.0,2,  2330.4,2,   8.0052,2,    20.00,-999.000,9,-999.000,9,-999.000,9,  14.7851,2,-999.000,9, -999.00,9, -999.00,-999.000,9,-999.000,   54.85,2,    6.63,2, -33.5389,  93.9437,-999.000,-999.000,20090429,       1928
33RR20090320,        I05,     143,          2,         32,         32,2,20090429,       1743,   -33.5391,    93.9432,       4392,   104.5,  13.8830,  35.2852,2,  35.2878,2,    240.0,2,   241.0,2,    1.95,2,    4.28,2,    0.49,2,    0.48,2,   2.986,2,   1.710,2,   1.4240,2,  2103.1,2,  2323.2,2,   7.9767,2,    20.00,-999.000,9,-999.000,9,-999.000,9,  13.8771,2,-999.000,9, -999.00,9, -999.00,-999.000,9,-999.000,   54.41,2,    8.86,2, -33.5389,  93.9437,-999.000,-999.000,20090429,       1926
33RR20090320,        I05,     143,          2,         31,         31,2,20090429,       1743,   -33.5391,    93.9432,       4392,   129.8,  13.3021,  35.2131,2,  35.2169,2,    239.4,2,   240.8,2,    2.12,2,    5.99,2,    0.08,2,    0.56,2,   3.062,2,   1.746,2,   1.3950,2,  2108.9,2,  2319.4,2,   7.9612,2,    20.00,-999.000,9,-999.000,9,-999.000,9,  13.3147,2,-999.000,9, -999.00,9, -999.00,-999.000,9,-999.000,   51.22,2,    9.42,2, -33.5389,  93.9436,-999.000,-999.000,20090429,       1925
33RR20090320,        I05,     143,          2,         30,         30,2,20090429,       1743,   -33.5391,    93.9432,       4392,   155.9,  12.6820,  35.1467,2,  35.1471,2,    238.1,2,   239.4,2,    2.27,2,    7.46,2,    0.01,2,    0.63,2,   3.160,2,   1.781,2,   1.3740,2,  2112.5,2,  2314.9,2,   7.9442,2,    20.00,-999.000,9,-999.000,9,-999.000,9,  12.6708,2,-999.000,9, -999.00,9, -999.00,-999.000,9,-999.000,   50.55,2,   10.35,2, -33.5389,  93.9436,-999.000,-999.000,20090429,       1923
33RR20090320,        I05,     143,          2,         29,         29,2,20090429,       1743,   -33.5391,    93.9432,       4392,   205.8,  12.1994,  35.1006,2,  35.1044,2,    241.8,2,   241.9,2,    2.44,2,    8.13,2,    0.00,2,    0.67,2,   3.220,2,   1.810,2,   1.4010,2,  2114.5,2,  2311.7,2,   7.9372,2,    20.00,-999.000,9,-999.000,9,-999.000,9,  12.2045,2,-999.000,9, -999.00,9, -999.00,-999.000,9,-999.000,   49.20,2,   10.81,2, -33.5389,  93.9436,-999.000,-999.000,20090429,       1922
33RR20090320,        I05,     143,          2,         28,         28,2,20090429,       1743,   -33.5391,    93.9432,       4392,   255.4,  11.5359,  34.9866,2,  34.9871,2,    242.0,2,   242.5,2,    3.32,2,   10.15,2,    0.00,2,    0.79,2,   3.348,2,   1.863,2,   1.3690,2,  2117.6,2,  2304.6,2,   7.9163,2,    20.00,-999.000,9,-999.000,9,-999.000,9,  11.5362,2,-999.000,9, -999.00,9, -999.00,-999.000,9,-999.000,   48.19,2,   12.50,2, -33.5389,  93.9436,-999.000,-999.000,20090429,       1920
33RR20090320,        I05,     143,          2,         27,         27,2,20090429,       1743,   -33.5391,    93.9432,       4392,   305.1,  11.1854,  34.9366,2,  34.9363,2,    243.5,2,   243.8,2,    3.48,2,   10.99,2,    0.00,2,    0.85,2,   3.394,2,   1.885,2,   1.3300,2,  2119.0,2,  2304.2,2,   7.9073,2,    20.00,-999.000,9,-999.000,9,-999.000,9,  11.1860,2,-999.000,9, -999.00,9, -999.00,-999.000,9,-999.000,   47.49,2,   12.98,2, -33.5390,  93.9436,-999.000,-999.000,20090429,       1918
33RR20090320,        I05,     143,          2,         26,         26,2,20090429,       1743,   -33.5391,    93.9432,       4392,   356.4,  10.9398,  34.9020,2,  34.9008,2,    243.9,2,   244.7,2,    3.82,2,   11.67,2,    0.00,2,    0.89,2,   3.434,2,   1.909,2,   1.5090,2,  2119.6,2,  2302.8,2,   7.9017,2,    20.00,-999.000,9,-999.000,9,-999.000,9,  10.9402,2,-999.000,9, -999.00,9, -999.00,-999.000,9,-999.000,   47.02,2,   13.35,2, -33.5391,  93.9436,-999.000,-999.000,20090429,       1916
33RR20090320,        I05,     143,          2,         25,         25,2,20090429,       1743,   -33.5391,    93.9432,       4392,   404.3,  10.6401,  34.8608,2,  34.8606,2,    244.0,2,   243.5,2,    3.98,2,   12.45,2,    0.00,2,    0.94,2,   3.516,2,   1.924,2,   1.2630,2,  2121.8,2,  2300.0,2,   7.8938,2,    20.00,-999.000,9,-999.000,9,-999.000,9,  10.6403,2,-999.000,9, -999.00,9, -999.00,-999.000,9,-999.000,   45.80,2,   13.81,2, -33.5391,  93.9436,-999.000,-999.000,20090429,       1915
33RR20090320,        I05,     143,          2,         24,         24,2,20090429,       1743,   -33.5391,    93.9432,       4392,   456.6,  10.3672,  34.8255,2,  34.8262,2,    242.5,2,   241.8,2,    4.32,2,   13.29,2,    0.00,2,    0.99,2,   3.526,2,   1.930,2,   1.3690,2,  2123.9,2,  2298.5,2,   7.8851,2,    20.00,-999.000,9,-999.000,9,-999.000,9,  10.3722,2,-999.000,9, -999.00,9, -999.00,-999.000,9,-999.000,   44.89,2,   15.07,2, -33.5391,  93.9436,-999.000,-999.000,20090429,       1913
33RR20090320,        I05,     143,          2,         23,         23,2,20090429,       1743,   -33.5391,    93.9432,       4392,   506.7,  10.1030,  34.7898,2,  34.7883,2,    241.0,2,   240.3,2,    4.49,2,   14.08,2,    0.00,2,    1.03,2,   3.572,2,   1.938,2,   1.2740,2,  2126.9,2,  2297.1,2,   7.8757,2,    20.00,-999.000,9,-999.000,9,-999.000,9,  10.0996,2,-999.000,9, -999.00,9, -999.00,-999.000,9,-999.000,   44.15,2,   15.96,2, -33.5391,  93.9437,-999.000,-999.000,20090429,       1911
33RR20090320,        I05,     143,          2,         22,         22,2,20090429,       1743,   -33.5391,    93.9432,       4392,   605.7,   9.4749,  34.7041,2,  34.7034,2,    238.0,2,   237.9,2,    5.01,2,   15.93,2,    0.00,2,    1.14,2,   3.682,2,   1.956,2,   1.1170,2,  2132.3,2,  2292.9,2,   7.8565,2,    20.00,-999.000,9,-999.000,9,-999.000,9,   9.4758,2,-999.000,9, -999.00,9, -999.00,-999.000,9,-999.000,   43.33,2,   17.64,2, -33.5390,  93.9438,-999.000,-999.000,20090429,       1908
33RR20090320,        I05,     143,          2,         21,         21,2,20090429,       1743,   -33.5391,    93.9432,       4392,   704.8,   8.8732,  34.6242,2,  34.6215,2,    235.2,2,   232.1,2,    6.61,2,   18.18,2,    0.00,2,    1.29,2,   3.545,2,   1.837,2,   0.9260,2,  2137.9,2,  2289.4,2,   7.8342,2,    20.00,-999.000,9,-999.000,9,-999.000,9,   8.8718,2,-999.000,9, -999.00,9, -999.00,-999.000,9,-999.000,   42.60,2,   19.70,2, -33.5390,  93.9438,-999.000,-999.000,20090429,       1905
33RR20090320,        I05,     143,          2,         20,         20,2,20090429,       1743,   -33.5391,    93.9432,       4392,   805.4,   7.8763,  34.5310,2,  34.5309,2,    214.1,2,   210.5,2,   11.80,2,   22.45,2,    0.00,2,    1.58,2,   2.853,2,   1.438,2,   0.6140,2,  2155.7,2,  2288.8,2,   7.7837,2,    20.00,-999.000,9,-999.000,9,-999.000,9,   7.8819,2,-999.000,9, -999.00,9, -999.00,-999.000,9,-999.000,   41.63,2,   23.81,2, -33.5390,  93.9438,-999.000,-999.000,20090429,       1903
33RR20090320,        I05,     143,          2,         19,         19,2,20090429,       1743,   -33.5391,    93.9432,       4392,   908.2,   6.3652,  34.4291,2,  34.4296,2,    200.2,2,   201.3,2,   19.89,2,   26.74,2,    0.00,2,    1.87,2,-999.000,5,-999.000,5,-999.0000,5,  2175.5,2,  2289.7,2,   7.7346,2,    20.00,-999.000,9,-999.000,9,-999.000,9,   6.3880,2,-999.000,9, -999.00,9, -999.00,-999.000,9,-999.000,   40.65,2,   28.26,2, -33.5391,  93.9437,-999.000,-999.000,20090429,       1900
33RR20090320,        I05,     143,          2,         18,         18,2,20090429,       1743,   -33.5391,    93.9432,       4392,  1004.1,   5.0537,  34.3718,2,  34.3710,2,    198.6,2,   199.5,2,   28.92,2,   29.63,2,    0.00,2,    2.09,2,   1.769,2,   0.854,2,   0.2120,2,  2191.8,2,  2295.6,2,   7.7009,2,    20.00,-999.000,9,-999.000,9,-999.000,9,   5.0433,2,-999.000,9, -999.00,9, -999.00,-999.000,9,-999.000,   40.14,2,   31.49,2, -33.5390,  93.9438,-999.000,-999.000,20090429,       1857
33RR20090320,        I05,     143,          2,         17,         17,2,20090429,       1743,   -33.5391,    93.9432,       4392,  1105.9,   4.2929,  34.3856,2,  34.3837,2,    189.1,2,   188.8,2,   40.71,2,   31.68,2,    0.00,2,    2.25,2,   1.161,6,   0.549,6,   0.1290,6,  2211.1,2,  2306.1,2,   7.6738,2,    20.00,-999.000,9,-999.000,9,-999.000,9,   4.2897,2,-999.000,9, -999.00,9, -999.00,-999.000,9,-999.000,   39.63,2,   33.49,2, -33.5390,  93.9437,-999.000,-999.000,20090429,       1855
33RR20090320,        I05,     143,          2,         16,         16,2,20090429,       1743,   -33.5391,    93.9432,       4392,  1202.9,   3.8723,  34.4298,2,  34.4259,2,    175.6,2,   175.0,2,   52.37,2,   33.10,2,    0.00,2,    2.37,2,   0.678,2,   0.319,2,   0.1040,2,  2228.6,2,  2317.6,2,   7.6523,2,    20.00,-999.000,9,-999.000,9,-999.000,9,   3.8697,2,-999.000,9, -999.00,9, -999.00,-999.000,9,-999.000,   39.56,2,   34.27,2, -33.5390,  93.9437,-999.000,-999.000,20090429,       1852
33RR20090320,        I05,     143,          2,         15,         15,2,20090429,       1743,   -33.5391,    93.9432,       4392,  1307.9,   3.5635,  34.4841,2,  34.4823,2,    163.2,2,   162.6,2,   63.34,2,   34.01,2,    0.00,2,    2.46,2,   0.341,2,   0.166,2,   0.1300,2,  2244.7,2,  2328.8,2,   7.6361,2,    20.00,-999.000,9,-999.000,9,-999.000,9,   3.5626,2,-999.000,9, -999.00,9, -999.00,-999.000,9,-999.000,   39.66,2,   35.75,2, -33.5390,  93.9436,-999.000,-999.000,20090429,       1849
33RR20090320,        I05,     143,          2,         14,         14,2,20090429,       1743,   -33.5391,    93.9432,       4392,  1406.0,   3.3345,  34.5264,2,  34.5251,2,    158.7,2,   157.6,2,   70.49,2,   34.41,2,    0.00,2,    2.49,2,   0.198,2,   0.099,2,   0.0000,2,  2255.9,2,  2337.4,2,   7.6291,2,    20.00,-999.000,9,-999.000,9,-999.000,9,   3.3343,2,-999.000,9, -999.00,9, -999.00,-999.000,9,-999.000,   39.29,2,   36.00,2, -33.5390,  93.9437,-999.000,-999.000,20090429,       1847
33RR20090320,        I05,     143,          2,         13,         13,2,20090429,       1743,   -33.5391,    93.9432,       4392,  1507.4,   3.1915,  34.5689,2,  34.5667,2,    153.7,2,   153.6,2,   77.29,2,   34.52,2,    0.00,2,    2.51,2,   0.097,2,   0.044,2,   0.0000,2,  2263.5,2,  2343.7,2,   7.6268,2,    20.00,-999.000,9,-999.000,9,-999.000,9,   3.1917,2,-999.000,9, -999.00,9, -999.00,-999.000,9,-999.000,   39.46,2,   35.91,2, -33.5390,  93.9437,-999.000,-999.000,20090429,       1844
33RR20090320,        I05,     143,          2,         12,         12,2,20090429,       1743,   -33.5391,    93.9432,       4392,  1609.0,   3.0302,  34.5994,2,  34.5988,2,    154.3,2,   154.1,2,   81.15,2,   34.36,2,    0.00,2,    2.49,2,   0.042,2,   0.022,2,   0.0550,2,  2267.1,6,  2348.0,2,   7.6289,2,    20.00,-999.000,9,-999.000,9,-999.000,9,   3.0296,2,-999.000,9, -999.00,9, -999.00,-999.000,9,-999.000,   39.14,2,   35.90,2, -33.5390,  93.9436,-999.000,-999.000,20090429,       1841
33RR20090320,        I05,     143,          2,         11,         11,2,20090429,       1743,   -33.5391,    93.9432,       4392,  1809.3,   2.7365,  34.6437,2,  34.6438,2,    161.6,2,   161.5,2,   83.34,2,   33.57,2,    0.00,2,    2.42,2,   0.067,2,   0.032,2,   0.0000,2,  2265.9,2,  2350.1,2,   7.6391,2,    20.00,-999.000,9,-999.000,9,-999.000,9,   2.7385,2,-999.000,9, -999.00,9, -999.00,-999.000,9,-999.000,   39.20,2,   35.54,2, -33.5389,  93.9436,-999.000,-999.000,20090429,       1837
33RR20090320,        I05,     143,          2,         10,         10,2,20090429,       1743,   -33.5391,    93.9432,       4392,  2012.4,   2.4821,  34.6903,2,  34.6900,2,    170.0,2,   171.0,2,   86.27,2,   32.60,2,    0.00,2,    2.33,2,   0.063,2,   0.033,2,   0.0060,2,  2262.8,2,  2353.2,2,   7.6541,2,    20.00,-999.000,9,-999.000,9,-999.000,9,   2.4837,2,-999.000,9, -999.00,9, -999.00,-999.000,9,-999.000,   39.06,2,   34.08,2, -33.5389,  93.9437,-999.000,-999.000,20090429,       1833
33RR20090320,        I05,     143,          2,          9,          9,2,20090429,       1743,   -33.5391,    93.9432,       4392,  2264.6,   2.2306,  34.7257,2,  34.7254,2,    182.2,2,   181.8,2,   88.10,2,   31.41,2,    0.00,2,    2.24,2,   0.029,2,   0.015,2,   0.0000,2,  2257.0,2,  2354.0,2,   7.6719,2,    20.00,-999.000,9,-999.000,9,-999.000,9,   2.2318,2,-999.000,9, -999.00,9, -999.00,-999.000,9,-999.000,   39.59,2,   32.80,2, -33.5389,  93.9436,-999.000,-999.000,20090429,       1828
33RR20090320,        I05,     143,          2,          8,          8,2,20090429,       1743,   -33.5391,    93.9432,       4392,  2516.8,   1.9966,  34.7434,2,  34.7431,2,    191.6,2,   191.8,2,   90.67,2,   30.67,2,    0.00,2,    2.18,2,   0.022,2,   0.013,2,   0.0220,2,  2252.5,2,  2354.9,2,   7.6842,2,    20.00,-999.000,9,-999.000,9,-999.000,9,   1.9968,2,-999.000,9, -999.00,9, -999.00,-999.000,9,-999.000,   39.20,2,   32.67,2, -33.5390,  93.9436,-999.000,-999.000,20090429,       1823
33RR20090320,        I05,     143,          2,          7,          7,2,20090429,       1743,   -33.5391,    93.9432,       4392,  2769.7,   1.7348,  34.7422,2,  34.7417,2,    196.3,2,   196.2,2,   97.88,2,   30.78,2,    0.00,2,    2.19,2,   0.023,2,   0.011,2,   0.0000,2,  2256.0,2,  2358.2,2,   7.6868,2,    20.00,-999.000,9,-999.000,9,-999.000,9,   1.7362,2,-999.000,9, -999.00,9, -999.00,-999.000,9,-999.000,   39.24,2,   32.38,2, -33.5390,  93.9435,-999.000,-999.000,20090429,       1817
33RR20090320,        I05,     143,          2,          6,          6,2,20090429,       1743,   -33.5391,    93.9432,       4392,  3021.7,   1.4890,  34.7354,2,  34.7360,2,    199.3,2,   199.1,2,  105.48,2,   31.18,2,    0.00,2,    2.21,2,   0.019,2,   0.012,2,   0.0000,2,  2260.1,2,  2362.6,2,   7.6864,2,    20.00,-999.000,9,-999.000,9,-999.000,9,   1.4889,2,-999.000,9, -999.00,9, -999.00,-999.000,9,-999.000,   39.37,2,   32.33,2, -33.5389,  93.9434,-999.000,-999.000,20090429,       1812
33RR20090320,        I05,     143,          2,          5,          5,2,20090429,       1743,   -33.5391,    93.9432,       4392,  3374.5,   1.2920,  34.7277,2,  34.7272,2,    201.9,2,   202.1,2,  111.60,2,   31.47,2,    0.00,2,    2.22,2,   0.021,2,   0.010,2,   0.0000,2,  2263.0,2,  2365.5,2,   7.6870,2,    20.00,-999.000,9,-999.000,9,-999.000,9,   1.2921,2,-999.000,9, -999.00,9, -999.00,-999.000,9,-999.000,   39.46,2,   33.05,2, -33.5390,  93.9432,-999.000,-999.000,20090429,       1805
33RR20090320,        I05,     143,          2,          4,          4,2,20090429,       1743,   -33.5391,    93.9432,       4392,  3731.9,   1.1456,  34.7202,2,  34.7193,2,    204.2,2,   203.7,2,  116.62,2,   31.76,2,    0.00,2,    2.24,2,   0.026,2,   0.015,2,   0.0410,2,  2266.0,2,  2372.1,2,   7.6890,2,    20.00,-999.000,9,-999.000,9,-999.000,9,   1.1457,2,-999.000,9, -999.00,9, -999.00,-999.000,9,-999.000,   39.22,2,   32.99,2, -33.5391,  93.9430,-999.000,-999.000,20090429,       1759
33RR20090320,        I05,     143,          2,          3,          3,2,20090429,       1743,   -33.5391,    93.9432,       4392,  4064.8,   1.0869,  34.7157,2,  34.7156,2,    205.1,2,   204.8,2,  119.02,2,   31.87,2,    0.00,2,    2.25,2,   0.027,6,   0.016,6,   0.0230,6,  2267.8,2,  2374.6,2,   7.6911,2,    20.00,-999.000,9,-999.000,9,-999.000,9,   1.0865,2,-999.000,9, -999.00,9, -999.00,-999.000,9,-999.000,   39.38,2,   33.48,2, -33.5391,  93.9431,-999.000,-999.000,20090429,       1752
33RR20090320,        I05,     143,          2,          2,          2,2,20090429,       1743,   -33.5391,    93.9432,       4392,  4292.0,   1.0663,  34.7134,2,  34.7128,2,    206.5,2,   205.9,2,  120.12,2,   31.98,2,    0.00,2,    2.25,2,   0.038,2,   0.020,2,   0.0000,2,  2269.9,2,  2373.9,2,   7.6919,2,    20.00,-999.000,9,-999.000,9,-999.000,9,   1.0658,2,-999.000,9, -999.00,9, -999.00,-999.000,9,-999.000,   39.41,2,   33.25,2, -33.5391,  93.9433,-999.000,-999.000,20090429,       1747
33RR20090320,        I05,     143,          2,          1,          1,2,20090429,       1743,   -33.5391,    93.9432,       4392,  4451.4,   1.0683,  34.7126,2,  34.7125,2,    205.0,2,   205.6,2,  120.29,2,   31.94,2,    0.00,2,    2.26,2,   0.032,2,   0.019,2,   0.0000,2,  2270.1,6,  2375.9,2,   7.6916,2,    20.00,-999.000,9,-999.000,9,-999.000,9,   1.0677,2,-999.000,9, -999.00,9, -999.00,-999.000,9,-999.000,   39.44,2,   33.66,2, -33.5391,  93.9432,-999.000,-999.000,20090429,       1743