BOTTLE,20220814CCHSIOAMB
EXPOCODE,SECT_ID,STNNBR,CASTNO,SAMPNO,BTLNBR,BTLNBR_FLAG_W,DATE,TIME,LATITUDE,LONGITUDE,DEPTH,CTDPRS,CTDTMP,CTDSAL,CTDSAL_FLAG_W,SALNTY,SALNTY_FLAG_W,CTDOXY,CTDOXY_FLAG_W,OXYGEN,OXYGEN_FLAG_W,SILCAT,SILCAT_FLAG_W,NITRAT,NITRAT_FLAG_W,NITRIT,NITRIT_FLAG_W,PHSPHT,PHSPHT_FLAG_W,CFC-11,CFC-11_FLAG_W,CFC-12,CFC-12_FLAG_W,SF6,SF6_FLAG_W,TCARBN,TCARBN_FLAG_W,ALKALI,ALKALI_FLAG_W,PH_TOT,PH_TOT_FLAG_W,PH_TMP,TRITUM,TRITUM_FLAG_W,HELIUM,HELIUM_FLAG_W,DELHE3,DELHE3_FLAG_W,REFTMP,REFTMP_FLAG_W,DELC13,DELC13_FLAG_W,DELC14,DELC14_FLAG_W,C14ERR,NEON,NEON_FLAG_W,NEONER,DOC,DOC_FLAG_W,TDN,TDN_FLAG_W,BTL_LAT,BTL_LON,HELIER,DELHER,BTL_DATE,BTL_TIME
,,,,,,,,,,,METERS,DBAR,ITS-90,PSS-78,,PSS-78,,UMOL/KG,,UMOL/KG,,UMOL/KG,,UMOL/KG,,UMOL/KG,,UMOL/KG,,PMOL/KG,,PMOL/KG,,FMOL/KG,,UMOL/KG,,UMOL/KG,,,,DEG C,TU,,NMOL/KG,,PERCNT,,DEG C,,/MILLE,,/MILLE,,/MILLE,NMOL/KG,,NMOL/KG,UMOL/KG,,UMOL/KG,,,,NMOL/KG,PERCNT,,
33RR20090320,        I05,      35,          1,         36,         36,2,20090401,       0207,   -32.9968,    42.1408,       4253,     7.5,  22.3662,  35.5663,2,  35.5659,2,    219.3,2,   219.9,2,    1.87,2,    0.31,2,    0.00,2,    0.08,2,-999.000,9,-999.000,9,-999.0000,9,  2034.7,6,  2331.3,2,   8.1081,2,    20.00,-999.000,9,-999.000,9,-999.000,9,  22.3629,2,-999.000,9, -999.00,9, -999.00,-999.000,9,-999.000, -999.00,9, -999.00,9, -32.9969,  42.1407,-999.000,-999.000,20090401,       0356
33RR20090320,        I05,      35,          1,         35,         35,2,20090401,       0207,   -32.9968,    42.1408,       4253,    31.4,  21.1583,  35.6135,2,  35.6129,2,    225.3,2,   224.7,2,    1.85,2,    0.25,2,    0.00,2,    0.06,2,-999.000,9,-999.000,9,-999.0000,9,  2035.0,2,  2332.5,2,   8.1110,2,    20.00,-999.000,9,-999.000,9,-999.000,9,  21.1569,2,-999.000,9, -999.00,9, -999.00,-999.000,9,-999.000, -999.00,9, -999.00,9, -32.9968,  42.1407,-999.000,-999.000,20090401,       0354
33RR20090320,        I05,      35,          1,         34,         34,2,20090401,       0207,   -32.9968,    42.1408,       4253,    55.7,  20.5040,  35.5850,2,  35.5838,2,    227.7,2,   227.1,2,    1.84,2,    0.20,2,    0.00,2,    0.08,2,-999.000,9,-999.000,9,-999.0000,9,  2031.1,2,  2331.6,2,   8.1136,2,    20.00,-999.000,9,-999.000,9,-999.000,9,  20.4944,2,-999.000,9, -999.00,9, -999.00,-999.000,9,-999.000, -999.00,9, -999.00,9, -32.9967,  42.1407,-999.000,-999.000,20090401,       0353
33RR20090320,        I05,      35,          1,         33,         33,2,20090401,       0207,   -32.9968,    42.1408,       4253,    80.8,  19.1459,  35.5570,2,  35.5558,2,    223.5,2,   223.5,2,    2.42,2,    0.20,2,    0.00,2,    0.15,2,-999.000,9,-999.000,9,-999.0000,9,  2044.0,2,  2329.2,2,   8.0905,2,    20.00,-999.000,9,-999.000,9,-999.000,9,  19.1439,2,-999.000,9, -999.00,9, -999.00,-999.000,9,-999.000, -999.00,9, -999.00,9, -32.9967,  42.1408,-999.000,-999.000,20090401,       0351
33RR20090320,        I05,      35,          1,         32,         32,2,20090401,       0207,   -32.9968,    42.1408,       4253,   105.7,  18.4131,  35.5484,2,  35.5483,2,    210.1,2,   207.5,2,    2.99,2,    2.89,2,    0.02,2,    0.31,2,-999.000,9,-999.000,9,-999.0000,9,  2062.0,2,  2328.7,2,   8.0534,2,    20.00,-999.000,9,-999.000,9,-999.000,9,  18.4108,2,-999.000,9, -999.00,9, -999.00,-999.000,9,-999.000, -999.00,9, -999.00,9, -32.9967,  42.1408,-999.000,-999.000,20090401,       0350
33RR20090320,        I05,      35,          1,         31,         31,2,20090401,       0207,   -32.9968,    42.1408,       4253,   131.8,  18.0443,  35.5504,2,  35.5488,2,    205.8,2,   211.1,2,    3.18,2,    3.24,2,    0.01,2,    0.31,2,-999.000,9,-999.000,9,-999.0000,9,  -999.0,9,  -999.0,9,-999.0000,9,  -999.00,-999.000,9,-999.000,9,-999.000,9,  18.0435,2,-999.000,9, -999.00,9, -999.00,-999.000,9,-999.000, -999.00,9, -999.00,9, -32.9967,  42.1408,-999.000,-999.000,20090401,       0349
33RR20090320,        I05,      35,          1,         30,         30,2,20090401,       0207,   -32.9968,    42.1408,       4253,   155.0,  17.8481,  35.5467,2,  35.5449,2,    204.5,2,   205.8,2,    3.56,2,    4.03,2,    0.01,2,    0.36,2,-999.000,9,-999.000,9,-999.0000,9,  2072.0,2,  2329.5,2,   8.0369,2,    20.00,-999.000,9,-999.000,9,-999.000,9,  17.8496,2,-999.000,9, -999.00,9, -999.00,-999.000,9,-999.000, -999.00,9, -999.00,9, -32.9967,  42.1409,-999.000,-999.000,20090401,       0347
33RR20090320,        I05,      35,          1,         29,         29,2,20090401,       0207,   -32.9968,    42.1408,       4253,   206.9,  16.8096,  35.5352,2,  35.5356,2,    214.8,2,   211.8,2,    3.74,2,    4.14,2,    0.00,2,    0.39,2,-999.000,9,-999.000,9,-999.0000,9,  2080.5,2,  2326.8,2,   8.0204,2,    20.00,-999.000,9,-999.000,9,-999.000,9,  16.8240,2,-999.000,9, -999.00,9, -999.00,-999.000,9,-999.000, -999.00,9, -999.00,9, -32.9967,  42.1408,-999.000,-999.000,20090401,       0346
33RR20090320,        I05,      35,          1,         28,         28,2,20090401,       0207,   -32.9968,    42.1408,       4253,   255.5,  16.0566,  35.4998,2,  35.4972,2,    209.9,2,   208.8,2,    4.12,2,    5.72,2,    0.00,2,    0.49,2,-999.000,9,-999.000,9,-999.0000,9,  -999.0,9,  -999.0,9,-999.0000,9,  -999.00,-999.000,9,-999.000,9,-999.000,9,  16.0733,2,-999.000,9, -999.00,9, -999.00,-999.000,9,-999.000, -999.00,9, -999.00,9, -32.9967,  42.1409,-999.000,-999.000,20090401,       0344
33RR20090320,        I05,      35,          1,         27,         27,2,20090401,       0207,   -32.9968,    42.1408,       4253,   306.5,  15.4377,  35.4573,2,  35.4554,2,    206.4,2,   206.0,2,    4.50,2,    6.80,2,    0.00,2,    0.57,2,-999.000,9,-999.000,9,-999.0000,9,  2104.2,2,  2326.2,2,   7.9758,2,    20.00,-999.000,9,-999.000,9,-999.000,9,  15.4377,2,-999.000,9, -999.00,9, -999.00,-999.000,9,-999.000, -999.00,9, -999.00,9, -32.9968,  42.1409,-999.000,-999.000,20090401,       0342
33RR20090320,        I05,      35,          1,         26,         26,2,20090401,       0207,   -32.9968,    42.1408,       4253,   356.6,  14.8230,  35.4083,2,  35.4069,2,    207.1,2,   206.6,2,    4.68,2,    7.69,2,    0.00,2,    0.62,2,-999.000,9,-999.000,9,-999.0000,9,  -999.0,9,  -999.0,9,-999.0000,9,  -999.00,-999.000,9,-999.000,9,-999.000,9,  14.8232,2,-999.000,9, -999.00,9, -999.00,-999.000,9,-999.000, -999.00,9, -999.00,9, -32.9968,  42.1409,-999.000,-999.000,20090401,       0341
33RR20090320,        I05,      35,          1,         25,         25,2,20090401,       0207,   -32.9968,    42.1408,       4253,   404.3,  14.2017,  35.3568,2,  35.3566,2,    209.5,2,   209.7,2,    4.67,2,    8.49,2,    0.00,2,    0.66,2,-999.000,9,-999.000,9,-999.0000,9,  2115.3,2,  2323.0,2,   7.9493,2,    20.00,-999.000,9,-999.000,9,-999.000,9,  14.2011,2,-999.000,9, -999.00,9, -999.00,-999.000,9,-999.000, -999.00,9, -999.00,9, -32.9968,  42.1409,-999.000,-999.000,20090401,       0339
33RR20090320,        I05,      35,          1,         24,         24,2,20090401,       0207,   -32.9968,    42.1408,       4253,   456.3,  13.5633,  35.2854,2,  35.2874,2,    213.3,2,   214.2,2,    4.66,2,    9.28,2,    0.00,2,    0.72,2,-999.000,9,-999.000,9,-999.0000,9,  -999.0,9,  -999.0,9,-999.0000,9,  -999.00,-999.000,9,-999.000,9,-999.000,9,  13.5620,2,-999.000,9, -999.00,9, -999.00,-999.000,9,-999.000, -999.00,9, -999.00,9, -32.9968,  42.1408,-999.000,-999.000,20090401,       0336
33RR20090320,        I05,      35,          1,         23,         23,2,20090401,       0207,   -32.9968,    42.1408,       4253,   506.2,  13.0620,  35.2206,2,  35.2238,2,    216.9,2,   217.9,2,    4.65,2,   10.01,2,    0.00,2,    0.77,2,-999.000,9,-999.000,9,-999.0000,9,  2118.0,2,  2316.4,2,   7.9302,2,    20.00,-999.000,9,-999.000,9,-999.000,9,  13.0661,2,-999.000,9, -999.00,9, -999.00,-999.000,9,-999.000, -999.00,9, -999.00,9, -32.9969,  42.1409,-999.000,-999.000,20090401,       0334
33RR20090320,        I05,      35,          1,         22,         22,2,20090401,       0207,   -32.9968,    42.1408,       4253,   606.8,  11.7311,  35.0366,2,  35.0352,2,    218.0,2,   218.1,2,    5.23,2,   12.83,2,    0.00,2,    0.96,2,-999.000,9,-999.000,9,-999.0000,9,  -999.0,9,  -999.0,9,-999.0000,9,  -999.00,-999.000,9,-999.000,9,-999.000,9,  11.7276,2,-999.000,9, -999.00,9, -999.00,-999.000,9,-999.000, -999.00,9, -999.00,9, -32.9969,  42.1408,-999.000,-999.000,20090401,       0332
33RR20090320,        I05,      35,          1,         21,         21,2,20090401,       0207,   -32.9968,    42.1408,       4253,   706.4,  10.6228,  34.8801,2,  34.8895,2,    217.0,2,   216.7,2,    6.39,2,   15.25,2,    0.00,2,    1.11,2,-999.000,9,-999.000,9,-999.0000,9,  -999.0,9,  -999.0,9,-999.0000,9,  -999.00,-999.000,9,-999.000,9,-999.000,9,  10.6323,2,-999.000,9, -999.00,9, -999.00,-999.000,9,-999.000, -999.00,9, -999.00,9, -32.9969,  42.1407,-999.000,-999.000,20090401,       0329
33RR20090320,        I05,      35,          1,         20,         20,2,20090401,       0207,   -32.9968,    42.1408,       4253,   806.0,   9.3990,  34.7307,2,  34.7301,2,    211.7,2,   210.6,2,    9.50,2,   18.74,2,    0.00,2,    1.35,2,-999.000,9,-999.000,9,-999.0000,9,  -999.0,9,  -999.0,9,-999.0000,9,  -999.00,-999.000,9,-999.000,9,-999.000,9,   9.4064,2,-999.000,9, -999.00,9, -999.00,-999.000,9,-999.000, -999.00,9, -999.00,9, -32.9969,  42.1406,-999.000,-999.000,20090401,       0327
33RR20090320,        I05,      35,          1,         19,         19,2,20090401,       0207,   -32.9968,    42.1408,       4253,   906.8,   7.8505,  34.5837,2,  34.5786,2,    203.5,2,   202.2,2,   15.96,2,   23.44,2,    0.00,2,    1.66,2,-999.000,9,-999.000,9,-999.0000,9,  -999.0,9,  -999.0,9,-999.0000,9,  -999.00,-999.000,9,-999.000,9,-999.000,9,   7.8291,2,-999.000,9, -999.00,9, -999.00,-999.000,9,-999.000, -999.00,9, -999.00,9, -32.9969,  42.1406,-999.000,-999.000,20090401,       0324
33RR20090320,        I05,      35,          1,         18,         18,2,20090401,       0207,   -32.9968,    42.1408,       4253,  1006.1,   6.3767,  34.4629,2,  34.4638,2,    199.5,2,   201.0,2,   22.44,2,   26.84,2,    0.00,2,    1.89,2,-999.000,9,-999.000,9,-999.0000,9,  -999.0,9,  -999.0,9,-999.0000,9,  -999.00,-999.000,9,-999.000,9,-999.000,9,   6.3822,2,-999.000,9, -999.00,9, -999.00,-999.000,9,-999.000, -999.00,9, -999.00,9, -32.9969,  42.1406,-999.000,-999.000,20090401,       0321
33RR20090320,        I05,      35,          1,         17,         17,2,20090401,       0207,   -32.9968,    42.1408,       4253,  1107.0,   5.3730,  34.4082,2,  34.4081,2,    198.2,2,   200.1,2,   28.92,2,   29.11,2,    0.00,2,    2.07,2,-999.000,9,-999.000,9,-999.0000,9,  2190.7,2,  2300.6,2,   7.7119,2,    20.00,-999.000,9,-999.000,9,-999.000,9,   5.3760,2,-999.000,9, -999.00,9, -999.00,-999.000,9,-999.000, -999.00,9, -999.00,9, -32.9969,  42.1406,-999.000,-999.000,20090401,       0318
33RR20090320,        I05,      35,          1,         16,         16,2,20090401,       0207,   -32.9968,    42.1408,       4253,  1208.3,   4.6144,  34.4064,2,  34.4052,2,    193.2,2,   194.1,2,   37.59,2,   31.10,2,    0.00,2,    2.21,2,-999.000,9,-999.000,9,-999.0000,9,  -999.0,9,  -999.0,9,-999.0000,9,  -999.00,-999.000,9,-999.000,9,-999.000,9,   4.6124,2,-999.000,9, -999.00,9, -999.00,-999.000,9,-999.000, -999.00,9, -999.00,9, -32.9970,  42.1405,-999.000,-999.000,20090401,       0316
33RR20090320,        I05,      35,          1,         15,         15,2,20090401,       0207,   -32.9968,    42.1408,       4253,  1307.2,   4.0913,  34.4282,2,  34.4275,2,    187.1,2,   186.8,2,   45.30,2,   32.35,2,    0.00,2,    2.30,2,-999.000,9,-999.000,9,-999.0000,9,  -999.0,9,  -999.0,9,-999.0000,9,  -999.00,-999.000,9,-999.000,9,-999.000,9,   4.0904,2,-999.000,9, -999.00,9, -999.00,-999.000,9,-999.000, -999.00,9, -999.00,9, -32.9970,  42.1405,-999.000,-999.000,20090401,       0313
33RR20090320,        I05,      35,          1,         14,         14,2,20090401,       0207,   -32.9968,    42.1408,       4253,  1408.5,   3.6922,  34.4815,2,  34.4808,2,    177.1,2,   175.4,2,   55.02,2,   33.26,2,    0.00,2,    2.39,2,-999.000,9,-999.000,9,-999.0000,9,  -999.0,9,  -999.0,9,-999.0000,9,  -999.00,-999.000,9,-999.000,9,-999.000,9,   3.6916,2,-999.000,9, -999.00,9, -999.00,-999.000,9,-999.000, -999.00,9, -999.00,9, -32.9971,  42.1405,-999.000,-999.000,20090401,       0310
33RR20090320,        I05,      35,          1,         13,         13,2,20090401,       0207,   -32.9968,    42.1408,       4253,  1507.3,   3.4340,  34.5307,2,  34.5299,2,    172.9,2,   172.4,2,   61.37,2,   33.43,2,    0.00,2,    2.40,2,-999.000,9,-999.000,9,-999.0000,9,  -999.0,9,  -999.0,9,-999.0000,9,  -999.00,-999.000,9,-999.000,9,-999.000,9,   3.4335,2,-999.000,9, -999.00,9, -999.00,-999.000,9,-999.000, -999.00,9, -999.00,9, -32.9971,  42.1405,-999.000,-999.000,20090401,       0308
33RR20090320,        I05,      35,          1,         12,         12,2,20090401,       0207,   -32.9968,    42.1408,       4253,  1610.0,   3.2165,  34.5751,2,  34.5744,2,    170.8,2,   170.4,2,   65.95,2,   33.42,2,    0.00,2,    2.39,2,-999.000,9,-999.000,9,-999.0000,9,  2244.3,2,  2334.3,2,-999.0000,5,    20.00,-999.000,9,-999.000,9,-999.000,9,   3.2170,2,-999.000,9, -999.00,9, -999.00,-999.000,9,-999.000, -999.00,9, -999.00,9, -32.9971,  42.1404,-999.000,-999.000,20090401,       0305
33RR20090320,        I05,      35,          1,         11,         11,2,20090401,       0207,   -32.9968,    42.1408,       4253,  1709.3,   3.0205,  34.6155,2,  34.6131,2,    171.7,2,   172.3,2,   68.13,2,   33.08,2,    0.00,2,    2.36,2,-999.000,9,-999.000,9,-999.0000,9,  -999.0,9,  -999.0,9,-999.0000,9,  -999.00,-999.000,9,-999.000,9,-999.000,9,   3.0196,2,-999.000,9, -999.00,9, -999.00,-999.000,9,-999.000, -999.00,9, -999.00,9, -32.9970,  42.1403,-999.000,-999.000,20090401,       0302
33RR20090320,        I05,      35,          1,         10,         10,2,20090401,       0207,   -32.9968,    42.1408,       4253,  1811.3,   2.9027,  34.6543,2,  34.6536,2,    174.2,2,   174.5,2,   71.51,2,   32.50,2,    0.00,2,    2.32,2,-999.000,9,-999.000,9,-999.0000,9,  -999.0,9,  -999.0,9,-999.0000,9,  -999.00,-999.000,9,-999.000,9,-999.000,9,   2.9021,2,-999.000,9, -999.00,9, -999.00,-999.000,9,-999.000, -999.00,9, -999.00,9, -32.9970,  42.1402,-999.000,-999.000,20090401,       0259
33RR20090320,        I05,      35,          1,          9,          9,2,20090401,       0207,   -32.9968,    42.1408,       4253,  2013.7,   2.7105,  34.7108,2,  34.7102,2,    181.6,2,   181.6,2,   73.49,2,   31.24,2,    0.00,2,    2.22,2,-999.000,9,-999.000,9,-999.0000,9,  2245.7,2,  2346.7,2,   7.6791,2,    20.00,-999.000,9,-999.000,9,-999.000,9,   2.7104,2,-999.000,9, -999.00,9, -999.00,-999.000,9,-999.000, -999.00,9, -999.00,9, -32.9970,  42.1402,-999.000,-999.000,20090401,       0254
33RR20090320,        I05,      35,          1,          8,          8,2,20090401,       0207,   -32.9968,    42.1408,       4253,  2263.5,   2.5513,  34.7710,2,  34.7696,2,    193.9,2,   194.3,2,   71.08,2,   29.31,2,    0.00,2,    2.08,2,-999.000,9,-999.000,9,-999.0000,9,  -999.0,9,  -999.0,9,-999.0000,9,  -999.00,-999.000,9,-999.000,9,-999.000,9,   2.5518,2,-999.000,9, -999.00,9, -999.00,-999.000,9,-999.000, -999.00,9, -999.00,9, -32.9970,  42.1402,-999.000,-999.000,20090401,       0249
33RR20090320,        I05,      35,          1,          7,          7,2,20090401,       0207,   -32.9968,    42.1408,       4253,  2518.3,   2.4027,  34.7927,2,  34.7928,2,    203.3,2,   203.3,2,   70.07,2,   28.40,2,    0.00,2,    2.00,2,-999.000,9,-999.000,9,-999.0000,9,  -999.0,9,  -999.0,9,-999.0000,9,  -999.00,-999.000,9,-999.000,9,-999.000,9,   2.4021,2,-999.000,9, -999.00,9, -999.00,-999.000,9,-999.000, -999.00,9, -999.00,9, -32.9970,  42.1402,-999.000,-999.000,20090401,       0244
33RR20090320,        I05,      35,          1,          6,          6,2,20090401,       0207,   -32.9968,    42.1408,       4253,  2771.3,   2.2453,  34.7978,2,  34.7975,2,    208.2,2,   208.0,2,   72.46,2,   28.17,2,    0.00,2,    1.97,2,-999.000,9,-999.000,9,-999.0000,9,  -999.0,9,  -999.0,9,-999.0000,9,  -999.00,-999.000,9,-999.000,9,-999.000,9,   2.2443,2,-999.000,9, -999.00,9, -999.00,-999.000,9,-999.000, -999.00,9, -999.00,9, -32.9971,  42.1402,-999.000,-999.000,20090401,       0239
33RR20090320,        I05,      35,          1,          5,          5,2,20090401,       0207,   -32.9968,    42.1408,       4253,  3022.5,   2.1164,  34.7986,2,  34.7981,2,    211.4,2,   211.4,2,   74.45,2,   28.11,2,    0.00,2,    1.96,2,-999.000,9,-999.000,9,-999.0000,9,  2231.5,2,  2349.3,2,   7.7281,2,    20.00,-999.000,9,-999.000,9,-999.000,9,   2.1157,2,-999.000,9, -999.00,9, -999.00,-999.000,9,-999.000, -999.00,9, -999.00,9, -32.9971,  42.1403,-999.000,-999.000,20090401,       0233
33RR20090320,        I05,      35,          1,          4,          4,2,20090401,       0207,   -32.9968,    42.1408,       4253,  3327.3,   1.8582,  34.7869,2,  34.7869,2,    214.0,2,   214.0,2,   81.44,2,   28.50,2,    0.00,2,    1.99,2,-999.000,9,-999.000,9,-999.0000,9,  -999.0,9,  -999.0,9,-999.0000,9,  -999.00,-999.000,9,-999.000,9,-999.000,9,   1.8579,2,-999.000,9, -999.00,9, -999.00,-999.000,9,-999.000, -999.00,9, -999.00,9, -32.9971,  42.1404,-999.000,-999.000,20090401,       0227
33RR20090320,        I05,      35,          1,          3,          3,2,20090401,       0207,   -32.9968,    42.1408,       4253,  3631.9,   1.4520,  34.7612,2,  34.7602,2,    215.7,2,   215.7,2,   93.68,2,   29.58,2,    0.00,2,    2.08,2,-999.000,9,-999.000,9,-999.0000,9,  -999.0,9,  -999.0,9,-999.0000,9,  -999.00,-999.000,9,-999.000,9,-999.000,9,   1.4523,2,-999.000,9, -999.00,9, -999.00,-999.000,9,-999.000, -999.00,9, -999.00,9, -32.9971,  42.1406,-999.000,-999.000,20090401,       0221
33RR20090320,        I05,      35,          1,          2,          2,2,20090401,       0207,   -32.9968,    42.1408,       4253,  3935.4,   1.0984,  34.7358,2,  34.7353,2,    216.6,2,   217.0,2,  104.94,2,   30.66,2,    0.00,2,    2.17,2,-999.000,9,-999.000,9,-999.0000,9,  2251.5,2,  2362.8,2,   7.7068,2,    20.00,-999.000,9,-999.000,9,-999.000,9,   1.0999,2,-999.000,9, -999.00,9, -999.00,-999.000,9,-999.000, -999.00,9, -999.00,9, -32.9970,  42.1408,-999.000,-999.000,20090401,       0214
33RR20090320,        I05,      35,          1,          1,          1,2,20090401,       0207,   -32.9968,    42.1408,       4253,  4310.6,   0.6806,  34.7044,2,  34.7050,2,    218.5,2,   218.2,2,  118.26,2,   31.97,2,    0.00,2,    2.26,2,-999.000,9,-999.000,9,-999.0000,9,  2260.7,6,  2364.6,2,   7.6976,2,    20.00,-999.000,9,-999.000,9,-999.000,9,   0.6860,2,-999.000,9, -999.00,9, -999.00,-999.000,9,-999.000, -999.00,9, -999.00,9, -32.9968,  42.1408,-999.000,-999.000,20090401,       0207