BOTTLE,20220814CCHSIOAMB
EXPOCODE,SECT_ID,STNNBR,CASTNO,SAMPNO,BTLNBR,BTLNBR_FLAG_W,DATE,TIME,LATITUDE,LONGITUDE,DEPTH,CTDPRS,CTDTMP,CTDSAL,CTDSAL_FLAG_W,SALNTY,SALNTY_FLAG_W,CTDOXY,CTDOXY_FLAG_W,OXYGEN,OXYGEN_FLAG_W,SILCAT,SILCAT_FLAG_W,NITRAT,NITRAT_FLAG_W,NITRIT,NITRIT_FLAG_W,PHSPHT,PHSPHT_FLAG_W,CFC-11,CFC-11_FLAG_W,CFC-12,CFC-12_FLAG_W,SF6,SF6_FLAG_W,TCARBN,TCARBN_FLAG_W,ALKALI,ALKALI_FLAG_W,PH_TOT,PH_TOT_FLAG_W,PH_TMP,TRITUM,TRITUM_FLAG_W,HELIUM,HELIUM_FLAG_W,DELHE3,DELHE3_FLAG_W,REFTMP,REFTMP_FLAG_W,DELC13,DELC13_FLAG_W,DELC14,DELC14_FLAG_W,C14ERR,NEON,NEON_FLAG_W,NEONER,DOC,DOC_FLAG_W,TDN,TDN_FLAG_W,BTL_LAT,BTL_LON,HELIER,DELHER,BTL_DATE,BTL_TIME
,,,,,,,,,,,METERS,DBAR,ITS-90,PSS-78,,PSS-78,,UMOL/KG,,UMOL/KG,,UMOL/KG,,UMOL/KG,,UMOL/KG,,UMOL/KG,,PMOL/KG,,PMOL/KG,,FMOL/KG,,UMOL/KG,,UMOL/KG,,,,DEG C,TU,,NMOL/KG,,PERCNT,,DEG C,,/MILLE,,/MILLE,,/MILLE,NMOL/KG,,NMOL/KG,UMOL/KG,,UMOL/KG,,,,NMOL/KG,PERCNT,,
33RR20090320,        I05,     101,          1,         36,         36,2,20090419,       0713,   -34.4025,    73.2475,       4913,     6.1,  18.8252,  35.2904,2,  35.2909,2,    234.4,2,   234.7,2,    1.38,2,    0.15,2,    0.00,2,    0.17,2,   2.353,6,   1.390,6,   1.2770,6,  2055.3,6,  2320.3,2,   8.0689,2,    20.00,-999.000,9,-999.000,9,-999.000,9,  18.8199,2,-999.000,9, -999.00,9, -999.00,-999.000,9,-999.000, -999.00,9, -999.00,9, -34.4028,  73.2473,-999.000,-999.000,20090419,       0912
33RR20090320,        I05,     101,          1,         35,         35,2,20090419,       0713,   -34.4025,    73.2475,       4913,    26.1,  18.7144,  35.2892,2,  35.2905,2,    235.1,2,   234.6,2,    1.35,2,    0.15,2,    0.00,2,    0.17,2,   2.359,2,   1.388,2,   1.2520,2,  2054.2,2,  2323.2,2,   8.0688,2,    20.00,-999.000,9,-999.000,9,-999.000,9,  18.6819,2,-999.000,9, -999.00,9, -999.00,-999.000,9,-999.000, -999.00,9, -999.00,9, -34.4028,  73.2473,-999.000,-999.000,20090419,       0911
33RR20090320,        I05,     101,          1,         34,         34,2,20090419,       0713,   -34.4025,    73.2475,       4913,    51.8,  17.9933,  35.2562,2,  35.2588,2,    240.0,2,   242.2,2,    1.14,2,    0.16,2,    0.00,2,    0.17,2,   2.451,2,   1.436,2,   1.3490,2,  2054.2,2,  2321.5,2,   8.0682,2,    20.00,-999.000,9,-999.000,9,-999.000,9,  18.0329,2,-999.000,9, -999.00,9, -999.00,-999.000,9,-999.000, -999.00,9, -999.00,9, -34.4028,  73.2474,-999.000,-999.000,20090419,       0909
33RR20090320,        I05,     101,          1,         33,         33,2,20090419,       0713,   -34.4025,    73.2475,       4913,    76.4,  15.3991,  35.2055,2,  35.2009,2,    251.7,2,   249.1,2,    1.65,2,    1.68,2,    0.12,2,    0.31,2,   2.803,2,   1.608,2,   1.4470,2,  2071.4,2,  2318.0,2,   8.0284,2,    20.00,-999.000,9,-999.000,9,-999.000,9,  15.4254,2,-999.000,9, -999.00,9, -999.00,-999.000,9,-999.000, -999.00,9, -999.00,9, -34.4028,  73.2475,-999.000,-999.000,20090419,       0908
33RR20090320,        I05,     101,          1,         32,         32,2,20090419,       0713,   -34.4025,    73.2475,       4913,   101.2,  14.0134,  35.2813,2,  35.2803,2,    238.5,2,   237.0,2,    2.52,2,    4.72,2,    0.19,2,    0.49,2,   2.964,2,   1.684,2,   1.4600,2,  2098.0,2,  2319.5,2,   7.9793,2,    20.00,-999.000,9,-999.000,9,-999.000,9,  14.0115,2,-999.000,9, -999.00,9, -999.00,-999.000,9,-999.000, -999.00,9, -999.00,9, -34.4028,  73.2475,-999.000,-999.000,20090419,       0907
33RR20090320,        I05,     101,          1,         31,         31,2,20090419,       0713,   -34.4025,    73.2475,       4913,   149.2,  13.4579,  35.2675,2,  35.2659,2,    231.9,2,   233.8,2,    3.39,2,    7.23,2,    0.01,2,    0.60,2,   3.024,2,   1.712,2,   1.3770,2,  2105.5,2,  2316.6,2,   7.9584,2,    20.00,-999.000,9,-999.000,9,-999.000,9,  13.4790,2,-999.000,9, -999.00,9, -999.00,-999.000,9,-999.000, -999.00,9, -999.00,9, -34.4028,  73.2475,-999.000,-999.000,20090419,       0906
33RR20090320,        I05,     101,          1,         30,         30,2,20090419,       0713,   -34.4025,    73.2475,       4913,   199.7,  12.9643,  35.2181,2,  35.2181,2,    237.7,2,   238.0,2,    3.90,2,    8.92,2,    0.00,2,    0.69,2,   3.084,2,   1.740,2,   1.3930,2,  2107.1,2,  2315.0,2,   7.9513,2,    20.00,-999.000,9,-999.000,9,-999.000,9,  12.9691,2,-999.000,9, -999.00,9, -999.00,-999.000,9,-999.000, -999.00,9, -999.00,9, -34.4028,  73.2476,-999.000,-999.000,20090419,       0904
33RR20090320,        I05,     101,          1,         29,         29,2,20090419,       0713,   -34.4025,    73.2475,       4913,   252.1,  12.7214,  35.1816,2,  35.1825,2,    236.4,2,   236.8,2,    3.87,2,    8.93,2,    0.00,2,    0.69,2,   3.126,2,   1.754,2,   1.4130,2,  2109.3,2,  2314.2,2,   7.9436,2,    20.00,-999.000,9,-999.000,9,-999.000,9,  12.7173,2,-999.000,9, -999.00,9, -999.00,-999.000,9,-999.000, -999.00,9, -999.00,9, -34.4028,  73.2476,-999.000,-999.000,20090419,       0902
33RR20090320,        I05,     101,          1,         28,         28,2,20090419,       0713,   -34.4025,    73.2475,       4913,   300.1,  12.4705,  35.1483,2,  35.1482,2,    237.2,2,   237.9,2,    4.01,2,    9.51,2,    0.00,2,    0.73,2,   3.163,2,   1.773,2,   1.3500,2,  2111.8,2,  2312.1,2,   7.9383,2,    20.00,-999.000,9,-999.000,9,-999.000,9,  12.4634,2,-999.000,9, -999.00,9, -999.00,-999.000,9,-999.000, -999.00,9, -999.00,9, -34.4028,  73.2476,-999.000,-999.000,20090419,       0901
33RR20090320,        I05,     101,          1,         27,         27,2,20090419,       0713,   -34.4025,    73.2475,       4913,   350.5,  12.3239,  35.1301,2,  35.1295,2,    239.1,2,   239.4,2,    4.17,2,    9.78,2,    0.00,2,    0.75,2,   3.191,2,   1.773,2,   1.3540,2,  2113.2,2,  2311.1,2,   7.9359,2,    20.00,-999.000,9,-999.000,9,-999.000,9,  12.3245,2,-999.000,9, -999.00,9, -999.00,-999.000,9,-999.000, -999.00,9, -999.00,9, -34.4028,  73.2476,-999.000,-999.000,20090419,       0859
33RR20090320,        I05,     101,          1,         26,         26,2,20090419,       0713,   -34.4025,    73.2475,       4913,   401.2,  12.1710,  35.1082,2,  35.1073,2,    240.7,2,   240.1,2,    4.14,2,   10.15,2,    0.00,2,    0.77,2,   3.199,2,   1.772,2,   1.3190,2,  2114.7,2,  2309.4,2,   7.9324,2,    20.00,-999.000,9,-999.000,9,-999.000,9,  12.1732,2,-999.000,9, -999.00,9, -999.00,-999.000,9,-999.000, -999.00,9, -999.00,9, -34.4028,  73.2476,-999.000,-999.000,20090419,       0857
33RR20090320,        I05,     101,          1,         25,         25,2,20090419,       0713,   -34.4025,    73.2475,       4913,   500.4,  11.5803,  35.0055,2,  35.0065,2,    231.9,2,   230.8,2,    4.65,2,   12.21,2,    0.00,2,    0.90,2,   3.280,2,   1.786,2,   1.2040,2,  2122.9,2,  2305.9,2,   7.9074,2,    20.00,-999.000,9,-999.000,9,-999.000,9,  11.5776,2,-999.000,9, -999.00,9, -999.00,-999.000,9,-999.000, -999.00,9, -999.00,9, -34.4028,  73.2476,-999.000,-999.000,20090419,       0855
33RR20090320,        I05,     101,          1,         24,         24,2,20090419,       0713,   -34.4025,    73.2475,       4913,   600.2,  10.6311,  34.8650,2,  34.8631,2,    226.5,2,   226.7,2,    5.69,2,   14.75,2,    0.00,2,    1.06,2,   3.352,2,   1.765,2,   1.1500,2,  2129.9,2,  2300.3,2,   7.8779,2,    20.00,-999.000,9,-999.000,9,-999.000,9,  10.6407,2,-999.000,9, -999.00,9, -999.00,-999.000,9,-999.000, -999.00,9, -999.00,9, -34.4028,  73.2476,-999.000,-999.000,20090419,       0852
33RR20090320,        I05,     101,          1,         23,         23,2,20090419,       0713,   -34.4025,    73.2475,       4913,   701.1,   9.6518,  34.7392,2,  34.7390,2,    218.2,2,   217.3,2,    8.02,2,   17.82,2,    0.00,2,    1.26,2,   3.213,2,   1.646,2,   0.9100,2,  2141.9,2,  2296.9,2,   7.8429,2,    20.00,-999.000,9,-999.000,9,-999.000,9,   9.6538,2,-999.000,9, -999.00,9, -999.00,-999.000,9,-999.000, -999.00,9, -999.00,9, -34.4028,  73.2476,-999.000,-999.000,20090419,       0849
33RR20090320,        I05,     101,          1,         22,         22,2,20090419,       0713,   -34.4025,    73.2475,       4913,   797.0,   8.5131,  34.6186,2,  34.6144,2,    209.5,2,   208.4,2,   11.59,2,   21.37,2,    0.00,2,    1.50,2,   2.913,2,   1.462,2,   0.6840,2,  2154.5,2,  2294.4,2,   7.8016,2,    20.00,-999.000,9,-999.000,9,-999.000,9,   8.5085,2,-999.000,9, -999.00,9, -999.00,-999.000,9,-999.000, -999.00,9, -999.00,9, -34.4027,  73.2476,-999.000,-999.000,20090419,       0846
33RR20090320,        I05,     101,          1,         21,         21,2,20090419,       0713,   -34.4025,    73.2475,       4913,   899.9,   7.0194,  34.4848,2,  34.4872,2,    204.1,2,   204.3,2,   16.82,2,   25.20,2,    0.00,2,    1.76,2,   2.526,6,   1.250,6,   0.5110,6,  2169.1,2,  2292.5,2,   7.7589,2,    20.00,-999.000,9,-999.000,9,-999.000,9,   7.0242,2,-999.000,9, -999.00,9, -999.00,-999.000,9,-999.000, -999.00,9, -999.00,9, -34.4027,  73.2476,-999.000,-999.000,20090419,       0843
33RR20090320,        I05,     101,          1,         20,         20,2,20090419,       0713,   -34.4025,    73.2475,       4913,   996.9,   5.5594,  34.3856,2,  34.3855,2,    205.1,2,   206.5,2,   24.06,2,   28.41,2,    0.00,2,    1.99,2,   2.392,2,   1.168,2,   0.5140,2,  2184.1,2,  2291.9,2,   7.7227,2,    20.00,-999.000,9,-999.000,9,-999.000,9,   5.5582,2,-999.000,9, -999.00,9, -999.00,-999.000,9,-999.000, -999.00,9, -999.00,9, -34.4028,  73.2477,-999.000,-999.000,20090419,       0841
33RR20090320,        I05,     101,          1,         19,         19,2,20090419,       0713,   -34.4025,    73.2475,       4913,  1096.4,   4.6847,  34.3584,2,  34.3573,2,    204.0,2,   205.7,2,   30.95,2,   30.33,2,    0.00,2,    2.14,2,   2.063,2,   1.005,2,   0.4310,2,  2196.0,2,  2297.0,2,   7.7012,2,    20.00,-999.000,9,-999.000,9,-999.000,9,   4.6846,2,-999.000,9, -999.00,9, -999.00,-999.000,9,-999.000, -999.00,9, -999.00,9, -34.4027,  73.2477,-999.000,-999.000,20090419,       0838
33RR20090320,        I05,     101,          1,         18,         18,2,20090419,       0713,   -34.4025,    73.2475,       4913,  1197.7,   4.0126,  34.3755,2,  34.3752,2,    195.5,2,   195.6,2,   40.61,2,   32.04,2,    0.00,2,    2.27,2,   1.518,2,   0.737,2,   0.3110,2,  2211.6,2,  2307.1,2,   7.6777,2,    20.00,-999.000,9,-999.000,9,-999.000,9,   4.0135,2,-999.000,9, -999.00,9, -999.00,-999.000,9,-999.000, -999.00,9, -999.00,9, -34.4027,  73.2478,-999.000,-999.000,20090419,       0836
33RR20090320,        I05,     101,          1,         17,         17,2,20090419,       0713,   -34.4025,    73.2475,       4913,  1295.8,   3.5804,  34.4203,2,  34.4174,2,    185.6,2,   184.8,2,   50.12,2,   33.27,2,    0.00,2,    2.36,2,   1.027,2,   0.496,2,   0.1580,2,  2227.3,2,  2316.4,2,   7.6595,2,    20.00,-999.000,9,-999.000,9,-999.000,9,   3.5891,2,-999.000,9, -999.00,9, -999.00,-999.000,9,-999.000, -999.00,9, -999.00,9, -34.4027,  73.2479,-999.000,-999.000,20090419,       0833
33RR20090320,        I05,     101,          1,         16,         16,2,20090419,       0713,   -34.4025,    73.2475,       4913,  1397.0,   3.3133,  34.4643,2,  34.4637,2,    177.2,2,   176.7,2,   57.82,2,   33.91,2,    0.00,2,    2.41,2,   0.697,2,   0.331,2,   0.0670,2,  2238.2,2,  2322.2,2,   7.6472,2,    20.00,-999.000,9,-999.000,9,-999.000,9,   3.3137,2,-999.000,9, -999.00,9, -999.00,-999.000,9,-999.000, -999.00,9, -999.00,9, -34.4027,  73.2479,-999.000,-999.000,20090419,       0830
33RR20090320,        I05,     101,          1,         15,         15,2,20090419,       0713,   -34.4025,    73.2475,       4913,  1498.3,   3.1001,  34.5111,2,  34.5099,2,    171.3,2,   171.3,2,   64.44,2,   34.23,2,    0.00,2,    2.43,2,   0.456,2,   0.219,2,   0.0580,2,  2245.8,2,  2330.2,2,   7.6410,2,    20.00,-999.000,9,-999.000,9,-999.000,9,   3.1023,2,-999.000,9, -999.00,9, -999.00,-999.000,9,-999.000, -999.00,9, -999.00,9, -34.4027,  73.2479,-999.000,-999.000,20090419,       0827
33RR20090320,        I05,     101,          1,         14,         14,2,20090419,       0713,   -34.4025,    73.2475,       4913,  1599.9,   2.9168,  34.5571,2,  34.5566,2,    169.3,2,   169.4,2,   69.41,2,   34.18,2,    0.00,2,    2.42,2,   0.305,2,   0.145,2,   0.0240,2,  2252.3,6,  2335.0,2,   7.6400,2,    20.00,-999.000,9,-999.000,9,-999.000,9,   2.9163,2,-999.000,9, -999.00,9, -999.00,-999.000,9,-999.000, -999.00,9, -999.00,9, -34.4027,  73.2478,-999.000,-999.000,20090419,       0825
33RR20090320,        I05,     101,          1,         13,         13,2,20090419,       0713,   -34.4025,    73.2475,       4913,  1800.9,   2.6831,  34.6234,2,  34.6217,2,    172.4,2,   171.7,2,   74.20,2,   33.47,2,    0.00,2,    2.37,2,   0.169,2,   0.082,2,   0.0000,2,  2255.1,2,  2340.8,2,   7.6479,2,    20.00,-999.000,9,-999.000,9,-999.000,9,   2.6841,2,-999.000,9, -999.00,9, -999.00,-999.000,9,-999.000, -999.00,9, -999.00,9, -34.4026,  73.2477,-999.000,-999.000,20090419,       0820
33RR20090320,        I05,     101,          1,         12,         12,2,20090419,       0713,   -34.4025,    73.2475,       4913,  2001.3,   2.4231,  34.6903,2,  34.6895,2,    178.7,2,   179.1,2,   79.36,2,   32.13,2,    0.00,2,    2.28,2,   0.074,2,   0.034,2,   0.0000,2,  2253.8,2,  2344.9,2,   7.6654,2,    20.00,-999.000,9,-999.000,9,-999.000,9,   2.4243,2,-999.000,9, -999.00,9, -999.00,-999.000,9,-999.000, -999.00,9, -999.00,9, -34.4024,  73.2479,-999.000,-999.000,20090419,       0816
33RR20090320,        I05,     101,          1,         11,         11,2,20090419,       0713,   -34.4025,    73.2475,       4913,  2238.4,   2.1542,  34.7225,2,  34.7225,2,    182.5,2,   182.8,2,   90.49,2,   31.92,2,    0.00,2,    2.26,2,   0.025,2,   0.015,2,   0.0230,2,  2260.8,2,  2356.9,2,   7.6773,2,    20.00,-999.000,9,-999.000,9,-999.000,9,   2.1548,2,-999.000,9, -999.00,9, -999.00,-999.000,9,-999.000, -999.00,9, -999.00,9, -34.4023,  73.2480,-999.000,-999.000,20090419,       0811
33RR20090320,        I05,     101,          1,         10,         10,2,20090419,       0713,   -34.4025,    73.2475,       4913,  2502.7,   1.9310,  34.7285,2,  34.7282,2,    179.3,2,   179.2,2,  105.79,2,   32.66,2,    0.00,2,    2.32,2,   0.011,2,   0.004,2,   0.0290,2,  2274.9,2,  2370.9,2,   7.6778,2,    20.00,-999.000,9,-999.000,9,-999.000,9,   1.9312,2,-999.000,9, -999.00,9, -999.00,-999.000,9,-999.000, -999.00,9, -999.00,9, -34.4024,  73.2478,-999.000,-999.000,20090419,       0806
33RR20090320,        I05,     101,          1,          9,          9,2,20090419,       0713,   -34.4025,    73.2475,       4913,  2749.5,   1.7659,  34.7275,2,  34.7273,2,    178.2,2,   178.1,2,  114.57,2,   33.15,2,    0.00,2,    2.36,2,   0.005,6,   0.003,6,   0.0110,6,  2281.2,2,  2380.8,2,   7.6660,4,    20.00,-999.000,9,-999.000,9,-999.000,9,   1.7658,2,-999.000,9, -999.00,9, -999.00,-999.000,9,-999.000, -999.00,9, -999.00,9, -34.4025,  73.2476,-999.000,-999.000,20090419,       0800
33RR20090320,        I05,     101,          1,          8,          8,2,20090419,       0713,   -34.4025,    73.2475,       4913,  2995.8,   1.6463,  34.7256,2,  34.7243,2,    180.2,2,   179.8,2,  118.68,2,   33.24,2,    0.00,2,    2.37,2,   0.010,2,   0.006,2,   0.0000,2,  2282.0,2,  2381.0,2,   7.6775,2,    20.00,-999.000,9,-999.000,9,-999.000,9,   1.6475,2,-999.000,9, -999.00,9, -999.00,-999.000,9,-999.000, -999.00,9, -999.00,9, -34.4025,  73.2476,-999.000,-999.000,20090419,       0755
33RR20090320,        I05,     101,          1,          7,          7,2,20090419,       0713,   -34.4025,    73.2475,       4913,  3295.2,   1.4498,  34.7198,2,  34.7196,2,    185.4,2,   185.3,2,  122.22,2,   33.24,2,    0.00,2,    2.37,2,   0.005,2,   0.002,2,   0.0000,2,  2280.5,2,  2381.4,2,   7.6792,2,    20.00,-999.000,9,-999.000,9,-999.000,9,   1.4496,2,-999.000,9, -999.00,9, -999.00,-999.000,9,-999.000, -999.00,9, -999.00,9, -34.4026,  73.2476,-999.000,-999.000,20090419,       0748
33RR20090320,        I05,     101,          1,          6,          6,2,20090419,       0713,   -34.4025,    73.2475,       4913,  3602.8,   1.2910,  34.7140,2,  34.7132,2,    190.8,2,   191.0,2,  124.27,2,   33.14,2,    0.00,2,    2.36,2,   0.009,2,   0.007,2,   0.0250,2,  2280.6,2,  2378.4,2,   7.6815,2,    20.00,-999.000,9,-999.000,9,-999.000,9,   1.2914,2,-999.000,9, -999.00,9, -999.00,-999.000,9,-999.000, -999.00,9, -999.00,9, -34.4026,  73.2477,-999.000,-999.000,20090419,       0742
33RR20090320,        I05,     101,          1,          5,          5,2,20090419,       0713,   -34.4025,    73.2475,       4913,  3895.6,   1.1651,  34.7100,2,  34.7089,2,    195.1,2,   196.2,2,  125.94,2,   32.97,2,    0.00,2,    2.35,2,   0.011,2,   0.008,2,   0.0270,2,  2278.9,2,  2378.1,2,   7.6838,2,    20.00,-999.000,9,-999.000,9,-999.000,9,   1.1650,2,-999.000,9, -999.00,9, -999.00,-999.000,9,-999.000, -999.00,9, -999.00,9, -34.4025,  73.2478,-999.000,-999.000,20090419,       0736
33RR20090320,        I05,     101,          1,          4,          4,2,20090419,       0713,   -34.4025,    73.2475,       4913,  4202.3,   1.1238,  34.7077,2,  34.7073,2,    197.6,2,   197.6,2,  126.67,2,   32.97,2,    0.00,2,    2.35,2,   0.016,2,   0.012,2,   0.0000,2,  2277.7,2,  2374.8,2,   7.6848,2,    20.00,-999.000,9,-999.000,9,-999.000,9,   1.1234,2,-999.000,9, -999.00,9, -999.00,-999.000,9,-999.000, -999.00,9, -999.00,9, -34.4025,  73.2476,-999.000,-999.000,20090419,       0730
33RR20090320,        I05,     101,          1,          3,          3,2,20090419,       0713,   -34.4025,    73.2475,       4913,  4544.7,   1.0611,  34.7050,2,  34.7046,2,    201.1,2,   200.7,2,  127.58,2,   32.91,2,    0.00,2,    2.34,2,   0.020,2,   0.013,2,   0.0430,2,  2275.4,2,  2374.2,2,   7.6854,2,    20.00,-999.000,9,-999.000,9,-999.000,9,   1.0611,2,-999.000,9, -999.00,9, -999.00,-999.000,9,-999.000, -999.00,9, -999.00,9, -34.4026,  73.2477,-999.000,-999.000,20090419,       0722
33RR20090320,        I05,     101,          1,          2,          2,2,20090419,       0713,   -34.4025,    73.2475,       4913,  4855.1,   1.0787,  34.7043,2,  34.7036,2,    202.2,2,   201.8,2,  127.56,2,   32.91,2,    0.00,2,    2.34,2,   0.015,2,   0.011,2,   0.0000,2,  2275.9,2,  2374.3,2,   7.6856,2,    20.00,-999.000,9,-999.000,9,-999.000,9,   1.0788,2,-999.000,9, -999.00,9, -999.00,-999.000,9,-999.000, -999.00,9, -999.00,9, -34.4025,  73.2476,-999.000,-999.000,20090419,       0716
33RR20090320,        I05,     101,          1,          1,          1,2,20090419,       0713,   -34.4025,    73.2475,       4913,  4987.0,   1.0921,  34.7041,2,  34.7044,2,    201.5,2,   201.5,2,  127.54,2,   32.85,2,    0.00,2,    2.34,2,   0.021,6,   0.012,6,   0.0000,6,  2275.8,6,  2374.8,2,   7.6866,2,    20.00,-999.000,9,-999.000,9,-999.000,9,   1.0919,2,-999.000,9, -999.00,9, -999.00,-999.000,9,-999.000, -999.00,9, -999.00,9, -34.4025,  73.2475,-999.000,-999.000,20090419,       0713