BOTTLE,20220814CCHSIOAMB
EXPOCODE,SECT_ID,STNNBR,CASTNO,SAMPNO,BTLNBR,BTLNBR_FLAG_W,DATE,TIME,LATITUDE,LONGITUDE,DEPTH,CTDPRS,CTDTMP,CTDSAL,CTDSAL_FLAG_W,SALNTY,SALNTY_FLAG_W,CTDOXY,CTDOXY_FLAG_W,OXYGEN,OXYGEN_FLAG_W,SILCAT,SILCAT_FLAG_W,NITRAT,NITRAT_FLAG_W,NITRIT,NITRIT_FLAG_W,PHSPHT,PHSPHT_FLAG_W,CFC-11,CFC-11_FLAG_W,CFC-12,CFC-12_FLAG_W,SF6,SF6_FLAG_W,TCARBN,TCARBN_FLAG_W,ALKALI,ALKALI_FLAG_W,PH_TOT,PH_TOT_FLAG_W,PH_TMP,TRITUM,TRITUM_FLAG_W,HELIUM,HELIUM_FLAG_W,DELHE3,DELHE3_FLAG_W,REFTMP,REFTMP_FLAG_W,DELC13,DELC13_FLAG_W,DELC14,DELC14_FLAG_W,C14ERR,NEON,NEON_FLAG_W,NEONER,DOC,DOC_FLAG_W,TDN,TDN_FLAG_W,BTL_LAT,BTL_LON,HELIER,DELHER,BTL_DATE,BTL_TIME
,,,,,,,,,,,METERS,DBAR,ITS-90,PSS-78,,PSS-78,,UMOL/KG,,UMOL/KG,,UMOL/KG,,UMOL/KG,,UMOL/KG,,UMOL/KG,,PMOL/KG,,PMOL/KG,,FMOL/KG,,UMOL/KG,,UMOL/KG,,,,DEG C,TU,,NMOL/KG,,PERCNT,,DEG C,,/MILLE,,/MILLE,,/MILLE,NMOL/KG,,NMOL/KG,UMOL/KG,,UMOL/KG,,,,NMOL/KG,PERCNT,,
33RR20090320,        I05,     145,          2,         36,         36,2,20090430,       0612,   -33.9966,    94.9896,       4450,     6.8,  18.9743,  35.9779,2,  35.9782,2,    232.5,2,   232.7,2,    1.04,2,    0.00,2,    0.00,2,    0.13,2,   2.243,2,   1.352,2,   1.2400,2,  2082.1,6,  2367.0,2,   8.0776,2,    20.00,   0.465,2,   1.825,2,  -1.161,2,  18.9722,2,   1.229,2,    47.7,2,     3.4,   7.298,2,   0.008,   66.85,2,    4.42,2, -33.9966,  94.9899,   0.000,   0.198,20090430,       0810
33RR20090320,        I05,     145,          2,         35,         35,2,20090430,       0612,   -33.9966,    94.9896,       4450,    20.2,  18.9647,  35.9764,2,  35.9758,2,    232.7,2,   232.2,2,    0.86,2,    0.00,2,    0.00,2,    0.13,2,   2.250,6,   1.347,6,   1.2020,6,  2082.4,2,  2365.3,2,   8.0779,2,    20.00,   0.542,2,-999.000,9,-999.000,9,  18.9667,2,-999.000,9, -999.00,9, -999.00,-999.000,9,-999.000,   66.16,2,    4.29,2, -33.9966,  94.9899,-999.000,-999.000,20090430,       0809
33RR20090320,        I05,     145,          2,         34,         34,2,20090430,       0612,   -33.9966,    94.9896,       4450,    40.1,  18.6575,  35.8871,2,  35.8907,2,    233.0,2,   234.1,2,    0.85,2,    0.00,2,    0.00,2,    0.14,2,   2.299,2,   1.367,2,   1.2350,2,  2079.4,2,  2360.7,2,   8.0764,2,    20.00,   0.497,2,   1.920,2,  -1.294,2,  18.6513,2,-999.000,9, -999.00,9, -999.00,   7.624,2,   0.008,   65.53,2,    4.28,2, -33.9966,  94.9899,   0.000,   0.183,20090430,       0808
33RR20090320,        I05,     145,          2,         33,         33,2,20090430,       0612,   -33.9966,    94.9896,       4450,    65.9,  18.5194,  35.8543,2,  35.8563,2,    235.1,2,   234.7,2,    0.84,2,    0.01,2,    0.00,2,    0.14,2,   2.314,2,   1.379,2,   1.2400,2,  2079.9,2,  2358.8,2,   8.0757,2,    20.00,   0.462,2,   1.819,2,  -1.615,2,  18.5178,2,-999.000,9, -999.00,9, -999.00,   7.298,2,   0.007,   63.89,2,    4.53,2, -33.9966,  94.9899,   0.000,   0.184,20090430,       0807
33RR20090320,        I05,     145,          2,         32,         32,2,20090430,       0612,   -33.9966,    94.9896,       4450,    85.6,  17.7834,  35.6473,2,  35.6509,2,    239.5,2,   238.7,2,    0.47,2,    0.01,2,    0.00,2,    0.16,2,   2.422,2,   1.420,2,   1.2920,2,  2074.9,2,  2350.8,2,   8.0682,2,    20.00,   0.425,2,   1.820,2,  -1.535,2,  17.8049,2,   1.384,2,   44.65,2,     3.2,   7.271,2,   0.007,   63.06,2,    4.30,2, -33.9966,  94.9899,   0.000,   0.184,20090430,       0805
33RR20090320,        I05,     145,          2,         31,         31,2,20090430,       0612,   -33.9966,    94.9896,       4450,   134.9,  15.2831,  35.6012,2,  35.6067,2,    245.2,2,   239.2,2,    1.00,2,    1.41,2,    0.13,2,    0.27,2,   2.750,2,   1.597,2,   1.3580,2,  2093.8,2,  2342.3,2,   8.0221,2,    20.00,   0.431,2,   1.892,2,  -1.201,2,  15.2847,2,-999.000,9, -999.00,9, -999.00,   7.671,2,   0.008,   55.84,2,    5.42,2, -33.9967,  94.9898,   0.001,   0.171,20090430,       0803
33RR20090320,        I05,     145,          2,         30,         30,2,20090430,       0612,   -33.9966,    94.9896,       4450,   184.6,  14.1547,  35.4646,2,  35.4672,2,    236.2,2,   234.6,2,    1.18,2,    4.23,2,    0.01,2,    0.43,2,   2.902,2,   1.656,2,   1.4250,2,  2103.1,2,  2334.1,2,   7.9871,2,    20.00,   0.413,2,   1.852,2,  -1.677,2,  14.1597,2,   1.011,2,   39.79,2,     3.2,   7.462,2,   0.008,   51.12,2,    7.61,2, -33.9967,  94.9898,   0.001,   0.184,20090430,       0801
33RR20090320,        I05,     145,          2,         29,         29,2,20090430,       0612,   -33.9966,    94.9896,       4450,   234.0,  13.3280,  35.3220,2,  35.3243,2,    235.6,2,   236.0,2,    1.54,2,    5.92,2,    0.01,2,    0.53,2,   2.988,2,   1.720,2,   1.5020,2,  2107.9,2,  2325.0,2,   7.9645,2,    20.00,-999.000,9,   1.838,2,  -1.460,2,  13.3314,2,   1.085,2,   39.77,2,     3.5,   7.469,2,   0.008,   50.09,2,    9.77,2, -33.9967,  94.9898,   0.000,   0.185,20090430,       0759
33RR20090320,        I05,     145,          2,         28,         28,2,20090430,       0612,   -33.9966,    94.9896,       4450,   288.8,  12.1851,  35.1262,2,  35.1269,2,    233.9,2,   233.5,2,    2.08,2,    8.74,2,    0.00,2,    0.70,2,   3.232,2,   1.806,2,   1.4090,2,  2115.4,2,  2313.7,2,   7.9299,2,    20.00,   0.348,2,   1.815,2,  -0.804,2,  12.1844,2,   1.113,2,   53.66,2,     3.2,   7.422,2,   0.007,   47.74,2,   11.62,2, -33.9967,  94.9899,   0.001,   0.183,20090430,       0757
33RR20090320,        I05,     145,          2,         27,         27,2,20090430,       0612,   -33.9966,    94.9896,       4450,   339.0,  11.4556,  35.0079,2,  35.0092,2,    234.6,2,   234.9,2,    2.44,2,   10.43,2,    0.00,2,    0.81,2,   3.345,2,   1.858,2,   1.3630,2,  2118.5,2,  2308.6,2,   7.9096,2,    20.00,   0.443,2,   1.849,2,  -1.132,2,  11.4556,2,   1.136,2,   43.35,2,     3.2,   7.605,2,   0.008,   47.37,2,   12.59,2, -33.9967,  94.9899,   0.000,   0.172,20090430,       0755
33RR20090320,        I05,     145,          2,         26,         26,2,20090430,       0612,   -33.9966,    94.9896,       4450,   388.1,  10.6686,  34.8882,2,  34.8900,2,    235.0,2,   236.0,2,    3.15,2,   12.46,2,    0.00,2,    0.93,2,   3.503,2,   1.917,2,   1.2720,2,  2122.3,2,  2304.3,2,   7.8879,2,    20.00,   0.271,2,   1.848,2,  -0.913,2,  10.6724,2,   1.146,2,   41.18,2,     3.4,   7.631,2,   0.008,   46.62,2,   13.91,2, -33.9967,  94.9899,   0.000,   0.183,20090430,       0754
33RR20090320,        I05,     145,          2,         25,         25,2,20090430,       0612,   -33.9966,    94.9896,       4450,   436.0,  10.1038,  34.8043,2,  34.8060,2,    235.8,2,   237.3,2,    3.69,2,   13.98,2,    0.00,2,    1.02,2,   3.600,2,   1.949,2,   1.3520,2,  2125.0,2,  2301.1,2,   7.8745,2,    20.00,   0.271,2,   1.886,2,  -0.852,2,  10.1010,2,   0.774,3,   41.25,2,       3,   7.767,2,   0.009,   45.37,2,   15.13,2, -33.9967,  94.9899,   0.000,   0.196,20090430,       0752
33RR20090320,        I05,     145,          2,         24,         24,2,20090430,       0612,   -33.9966,    94.9896,       4450,   480.3,   9.6911,  34.7427,2,  34.7433,2,    236.9,2,   237.7,2,    4.05,2,   15.17,2,    0.00,2,    1.10,2,   3.649,2,   1.961,2,   1.2080,2,  2127.5,2,  2296.4,2,   7.8635,2,    20.00,   0.259,2,   1.849,2,  -1.233,2,   9.6890,2,   1.172,2,   39.88,2,     3.2,   7.631,2,   0.008,   44.69,2,   16.49,2, -33.9967,  94.9899,   0.000,   0.184,20090430,       0750
33RR20090320,        I05,     145,          2,         23,         23,2,20090430,       0612,   -33.9966,    94.9896,       4450,   562.6,   9.1564,  34.6642,2,  34.6670,2,    237.9,2,   236.4,2,    4.96,2,   16.91,2,    0.00,2,    1.21,2,   3.651,2,   1.932,2,   1.2170,2,  2131.8,2,  2294.0,2,   7.8476,2,    20.00,   0.242,2,   1.887,2,  -1.240,2,   9.1658,2,   1.159,2,   36.35,2,     2.8,   7.813,2,   0.009,   43.91,2,   18.23,2, -33.9967,  94.9899,   0.000,   0.184,20090430,       0748
33RR20090320,        I05,     145,          2,         22,         22,2,20090430,       0612,   -33.9966,    94.9896,       4450,   661.1,   8.4840,  34.5846,2,  34.5837,2,    229.1,2,   224.2,2,    7.68,2,   19.96,2,    0.00,2,    1.41,2,   3.298,2,   1.694,2,   0.8360,2,  2142.9,2,  2289.4,2,   7.8152,2,    20.00,-999.000,9,-999.000,9,-999.000,9,   8.4862,2,   1.045,2,   23.13,2,     3.1,-999.000,9,-999.000,   42.95,2,   21.78,2, -33.9967,  94.9899,-999.000,-999.000,20090430,       0745
33RR20090320,        I05,     145,          2,         21,         21,2,20090430,       0612,   -33.9966,    94.9896,       4450,   762.7,   6.9104,  34.4629,2,  34.4644,2,    203.1,2,   201.1,2,   16.61,2,   25.61,2,    0.00,2,    1.80,2,   2.246,2,   1.127,2,   0.5160,2,  2169.4,2,  2290.8,2,   7.7478,2,    20.00,   0.089,2,   1.885,2,   1.337,2,   6.9113,2,   1.018,2,  -20.68,2,     2.8,   7.845,2,   0.009,   41.98,2,   27.31,2, -33.9966,  94.9900,   0.001,   0.196,20090430,       0743
33RR20090320,        I05,     145,          2,         20,         20,2,20090430,       0612,   -33.9966,    94.9896,       4450,   862.3,   5.8049,  34.4015,2,  34.4016,2,    195.3,2,   197.8,2,   23.20,2,   28.40,2,    0.00,2,    1.99,2,   1.886,2,   0.927,2,   0.3260,2,  2183.2,2,  2292.4,2,   7.7169,2,    20.00,   0.096,2,-999.000,9,-999.000,9,   5.8151,2,   0.958,2,  -45.04,2,     3.9,-999.000,9,-999.000,   41.01,2,   30.04,2, -33.9965,  94.9902,-999.000,-999.000,20090430,       0740
33RR20090320,        I05,     145,          2,         19,         19,2,20090430,       0612,   -33.9966,    94.9896,       4450,   964.1,   4.8150,  34.3851,2,  34.3868,2,    190.5,2,   191.4,2,   33.68,2,   30.78,2,    0.00,2,    2.18,2,   1.374,2,   0.664,2,   0.1230,2,  2200.9,2,  2301.3,2,   7.6888,2,    20.00,   0.052,2,   1.890,2,   3.748,2,   4.8189,2,   1.154,2,  -76.17,2,     2.9,   7.988,2,   0.009,   40.49,2,   32.62,2, -33.9965,  94.9902,   0.000,   0.183,20090430,       0737
33RR20090320,        I05,     145,          2,         18,         18,2,20090430,       0612,   -33.9966,    94.9896,       4450,  1064.1,   4.2014,  34.4072,2,  34.4092,2,    179.3,2,   180.8,2,   45.12,2,   32.55,2,    0.00,2,    2.32,2,   0.927,2,   0.438,2,   0.0000,2,  2219.7,2,  2312.2,2,   7.6648,2,    20.00,   0.031,2,   1.984,2,   5.289,2,   4.2010,2,   0.811,2,   -97.1,2,     2.5,   8.516,2,   0.011,   39.76,2,   34.03,2, -33.9965,  94.9903,   0.000,   0.184,20090430,       0734
33RR20090320,        I05,     145,          2,         17,         17,2,20090430,       0612,   -33.9966,    94.9896,       4450,  1163.3,   3.8422,  34.4550,2,  34.4552,2,    167.0,2,   166.6,2,   56.97,2,   33.81,2,    0.00,2,    2.44,2,   0.530,2,   0.251,2,   0.0000,2,  2237.2,2,  2322.8,2,   7.6438,2,    20.00,   0.009,2,   1.904,2,   7.459,2,   3.8409,2,   0.703,2, -124.87,2,     2.7,   8.265,2,   0.010,   39.91,2,   35.27,2, -33.9964,  94.9903,   0.001,   0.184,20090430,       0731
33RR20090320,        I05,     145,          2,         16,         16,2,20090430,       0612,   -33.9966,    94.9896,       4450,  1266.0,   3.5490,  34.5028,2,  34.5050,2,    158.8,2,   157.4,2,   66.83,2,   34.60,2,    0.00,2,    2.51,2,   0.254,2,   0.123,2,   0.0000,2,  2252.2,2,  2333.7,2,   7.6316,2,    20.00,-999.000,9,-999.000,9,-999.000,9,   3.5486,2,   0.581,2, -142.98,2,     2.9,-999.000,9,-999.000,   39.52,2,   35.99,2, -33.9964,  94.9902,-999.000,-999.000,20090430,       0728
33RR20090320,        I05,     145,          2,         15,         15,2,20090430,       0612,   -33.9966,    94.9896,       4450,  1362.1,   3.3689,  34.5375,2,  34.5400,2,    153.3,2,   153.3,2,   72.78,2,   34.84,2,    0.00,2,    2.54,2,   0.147,2,   0.073,2,   0.0000,2,  2259.0,2,  2340.5,2,   7.6272,2,    20.00,   0.001,2,   1.928,2,   8.814,2,   3.3708,2,   0.542,2, -152.78,2,     2.5,   8.361,2,   0.010,   39.54,2,   36.59,2, -33.9964,  94.9902,   0.000,   0.184,20090430,       0724
33RR20090320,        I05,     145,          2,         14,         14,2,20090430,       0612,   -33.9966,    94.9896,       4450,  1459.5,   3.1472,  34.5778,2,  34.5797,2,    152.2,2,   152.6,2,   78.19,2,   34.67,2,    0.00,2,    2.53,2,   0.000,2,   0.039,2,   0.0000,2,  2263.8,6,  2347.1,2,   7.6273,2,    20.00,-999.000,9,   1.968,2,  10.301,2,   3.1455,2,   0.459,2, -165.46,2,     2.4,   8.503,2,   0.011,   39.85,2,   36.43,2, -33.9964,  94.9902,   0.000,   0.185,20090430,       0721
33RR20090320,        I05,     145,          2,         13,         13,2,20090430,       0612,   -33.9966,    94.9896,       4450,  1563.4,   3.0080,  34.6041,2,  34.6052,2,    153.0,2,   153.1,2,   81.55,2,   34.61,2,    0.00,2,    2.52,2,   0.055,2,   0.028,2,   0.0000,2,  2266.3,2,  2349.3,2,   7.6296,2,    20.00,   0.001,2,   1.952,2,  10.757,2,   3.0067,2,    0.49,2, -191.08,3,     2.7,   8.368,2,   0.010,   39.76,2,   36.10,2, -33.9963,  94.9902,   0.001,   0.198,20090430,       0718
33RR20090320,        I05,     145,          2,         12,         12,2,20090430,       0612,   -33.9966,    94.9896,       4450,  1735.0,   2.7457,  34.6510,2,  34.6530,3,    157.1,2,   158.2,2,   86.22,2,   33.99,2,    0.00,2,    2.46,2,   0.036,2,   0.020,2,   0.0580,2,  2268.0,2,  2353.3,2,   7.6389,2,    20.00,-999.000,9,   1.941,2,  11.173,2,   2.7457,2,   0.481,2, -170.16,2,     1.7,   8.373,2,   0.010,   40.02,2,   35.81,2, -33.9964,  94.9901,   0.000,   0.198,20090430,       0714
33RR20090320,        I05,     145,          2,         11,         11,2,20090430,       0612,   -33.9966,    94.9896,       4450,  1930.5,   2.5216,  34.6859,2,  34.6872,3,    165.3,2,   164.9,2,   89.39,2,   33.24,2,    0.00,2,    2.39,2,   0.028,2,   0.015,2,   0.0000,2,  2266.4,2,  2356.8,2,   7.6499,2,    20.00,   0.001,2,   1.958,2,  10.820,2,   2.5210,2,   0.501,2, -168.25,2,     2.4,   8.460,2,   0.010,   39.49,2,   34.41,2, -33.9965,  94.9902,   0.001,   0.185,20090430,       0709
33RR20090320,        I05,     145,          2,         10,         10,2,20090430,       0612,   -33.9966,    94.9896,       4450,  2163.3,   2.2882,  34.7184,2,  34.7201,3,    177.7,2,   178.3,2,   88.06,2,   31.93,2,    0.00,2,    2.29,2,   0.027,2,   0.016,2,   0.3560,4,  2259.8,2,  2356.0,2,   7.6675,2,    20.00,-999.000,9,-999.000,9,-999.000,9,   2.2888,2,   0.534,2, -165.88,2,     2.4,-999.000,9,-999.000,   39.43,2,   33.30,2, -33.9966,  94.9902,-999.000,-999.000,20090430,       0704
33RR20090320,        I05,     145,          2,          9,          9,2,20090430,       0612,   -33.9966,    94.9896,       4450,  2414.5,   2.0672,  34.7393,2,  34.7405,3,    187.8,2,   188.1,2,   89.36,2,   30.91,2,    0.00,2,    2.22,2,   0.024,6,   0.014,6,   0.0000,2,  2255.2,2,  2354.9,2,   7.6805,2,    20.00,   0.014,2,   2.053,2,  11.931,2,   2.0672,2,    0.57,2, -164.94,2,     3.7,   8.725,2,   0.011,   39.50,2,   32.43,2, -33.9966,  94.9903,   0.000,   0.185,20090430,       0658
33RR20090320,        I05,     145,          2,          8,          8,2,20090430,       0612,   -33.9966,    94.9896,       4450,  2668.3,   1.8094,  34.7424,2,  34.7439,3,    194.1,2,   193.7,2,   96.11,2,   30.97,2,    0.00,2,    2.21,2,   0.020,2,   0.011,2,   0.0000,2,  2255.6,2,  2358.6,2,   7.6860,2,    20.00,   0.034,2,   1.938,2,  12.320,2,   1.8097,2,   0.546,2, -165.74,2,     2.6,   8.335,2,   0.010,   39.37,2,   32.27,2, -33.9966,  94.9903,   0.001,   0.215,20090430,       0652
33RR20090320,        I05,     145,          2,          7,          7,2,20090430,       0612,   -33.9966,    94.9896,       4450,  2912.2,   1.5910,  34.7386,2,  34.7405,3,    197.3,2,   197.2,2,  101.93,2,   31.14,2,    0.00,2,    2.22,2,   0.018,2,   0.011,2,   0.0930,4,  2257.7,2,  2361.4,2,   7.6872,2,    20.00,-999.000,9,   1.970,2,  11.257,2,   1.5903,2,   0.571,2, -165.65,2,     2.7,   8.486,2,   0.011,   39.63,2,   32.89,2, -33.9966,  94.9903,   0.000,   0.198,20090430,       0646
33RR20090320,        I05,     145,          2,          6,          6,2,20090430,       0612,   -33.9966,    94.9896,       4450,  3198.3,   1.3968,  34.7318,2,  34.7338,3,    199.8,2,   199.8,2,  108.33,2,   31.44,2,    0.00,2,    2.23,2,   0.020,2,   0.013,2,   0.0000,2,  2259.8,2,  2364.0,2,   7.6867,2,    20.00,-999.000,9,-999.000,9,-999.000,9,   1.3967,2,   0.539,2, -162.66,2,       3,-999.000,9,-999.000,   39.38,2,   33.09,2, -33.9966,  94.9902,-999.000,-999.000,20090430,       0640
33RR20090320,        I05,     145,          2,          5,          5,2,20090430,       0612,   -33.9966,    94.9896,       4450,  3495.3,   1.2153,  34.7243,2,  34.7256,3,    202.0,2,   202.1,2,  113.60,2,   31.72,2,    0.00,2,    2.25,2,   0.025,2,   0.013,2,   0.3580,4,  2262.6,2,  2367.2,2,   7.6878,2,    20.00,   0.003,2,   1.978,2,  10.149,2,   1.2158,2,   0.553,2, -162.72,2,     2.6,   8.607,2,   0.011,   39.76,2,   33.26,2, -33.9965,  94.9901,   0.000,   0.198,20090430,       0633
33RR20090320,        I05,     145,          2,          4,          4,2,20090430,       0612,   -33.9966,    94.9896,       4450,  3802.3,   1.1259,  34.7186,2,  34.7197,3,    203.4,2,   203.5,2,  116.99,2,   31.94,2,    0.00,2,    2.27,2,   0.033,2,   0.019,2,   0.0540,4,  2263.8,2,  2371.1,2,   7.6894,2,    20.00,-999.000,9,   1.966,2,  10.219,2,   1.1254,2,   0.562,2, -168.37,2,     2.6,   8.603,2,   0.014,   39.22,2,   33.35,2, -33.9964,  94.9899,   0.001,   0.203,20090430,       0627
33RR20090320,        I05,     145,          2,          3,          3,2,20090430,       0612,   -33.9966,    94.9896,       4450,  4107.1,   1.0718,  34.7146,2,  34.7172,3,    204.1,2,   204.5,2,  118.86,2,   32.06,2,    0.00,2,    2.28,2,   0.036,6,   0.020,6,   0.0000,6,  2266.1,2,  2372.7,2,   7.6909,2,    20.00,   0.012,2,   2.072,2,  10.258,2,   1.0714,2,   0.553,2, -163.23,2,     3.3,   8.859,2,   0.011,   40.06,2,   33.54,2, -33.9964,  94.9899,   0.000,   0.187,20090430,       0621
33RR20090320,        I05,     145,          2,          2,          2,2,20090430,       0612,   -33.9966,    94.9896,       4450,  4341.9,   1.0544,  34.7130,2,  34.7152,3,    205.0,2,   204.7,2,  120.36,2,   32.12,2,    0.00,2,    2.29,2,   0.030,2,   0.018,2,   0.3680,4,  2268.0,2,  2374.7,2,   7.6909,2,    20.00,   0.012,2,-999.000,9,-999.000,9,   1.0545,2,   0.539,2, -168.27,2,     2.3,-999.000,9,-999.000,   39.95,2,   33.42,2, -33.9965,  94.9897,-999.000,-999.000,20090430,       0616
33RR20090320,        I05,     145,          2,          1,          1,2,20090430,       0612,   -33.9966,    94.9896,       4450,  4512.2,   1.0269,  34.7106,2,  34.7126,3,    205.4,2,   205.5,2,  121.29,2,   32.18,2,    0.00,2,    2.29,2,   0.037,2,   0.022,2,   0.0000,2,  2269.4,6,  2375.0,2,   7.6917,2,    20.00,   0.049,2,   1.967,2,  10.342,2,   1.0262,2,    0.58,2, -165.04,2,     2.6,   8.837,2,   0.011,   40.10,2,   33.95,2, -33.9966,  94.9896,   0.001,   0.204,20090430,       0612