BOTTLE,20220814CCHSIOAMB
EXPOCODE,SECT_ID,STNNBR,CASTNO,SAMPNO,BTLNBR,BTLNBR_FLAG_W,DATE,TIME,LATITUDE,LONGITUDE,DEPTH,CTDPRS,CTDTMP,CTDSAL,CTDSAL_FLAG_W,SALNTY,SALNTY_FLAG_W,CTDOXY,CTDOXY_FLAG_W,OXYGEN,OXYGEN_FLAG_W,SILCAT,SILCAT_FLAG_W,NITRAT,NITRAT_FLAG_W,NITRIT,NITRIT_FLAG_W,PHSPHT,PHSPHT_FLAG_W,CFC-11,CFC-11_FLAG_W,CFC-12,CFC-12_FLAG_W,SF6,SF6_FLAG_W,TCARBN,TCARBN_FLAG_W,ALKALI,ALKALI_FLAG_W,PH_TOT,PH_TOT_FLAG_W,PH_TMP,TRITUM,TRITUM_FLAG_W,HELIUM,HELIUM_FLAG_W,DELHE3,DELHE3_FLAG_W,REFTMP,REFTMP_FLAG_W,DELC13,DELC13_FLAG_W,DELC14,DELC14_FLAG_W,C14ERR,NEON,NEON_FLAG_W,NEONER,DOC,DOC_FLAG_W,TDN,TDN_FLAG_W,BTL_LAT,BTL_LON,HELIER,DELHER,BTL_DATE,BTL_TIME
,,,,,,,,,,,METERS,DBAR,ITS-90,PSS-78,,PSS-78,,UMOL/KG,,UMOL/KG,,UMOL/KG,,UMOL/KG,,UMOL/KG,,UMOL/KG,,PMOL/KG,,PMOL/KG,,FMOL/KG,,UMOL/KG,,UMOL/KG,,,,DEG C,TU,,NMOL/KG,,PERCNT,,DEG C,,/MILLE,,/MILLE,,/MILLE,NMOL/KG,,NMOL/KG,UMOL/KG,,UMOL/KG,,,,NMOL/KG,PERCNT,,
33RR20090320,        I05,     102,          2,         36,         36,2,20090419,       1501,   -34.0067,    73.6985,       4896,     5.6,  20.3573,  35.5713,2,  35.5713,2,    227.0,2,   226.7,2,    1.65,2,    0.09,2,    0.00,2,    0.15,2,-999.000,9,-999.000,9,-999.0000,9,  2059.3,6,  2335.9,2,   8.0820,2,    20.00,-999.000,9,-999.000,9,-999.000,9,  20.3541,2,-999.000,9, -999.00,9, -999.00,-999.000,9,-999.000, -999.00,9, -999.00,9, -34.0071,  73.6988,-999.000,-999.000,20090419,       1715
33RR20090320,        I05,     102,          2,         35,         35,2,20090419,       1501,   -34.0067,    73.6985,       4896,    37.4,  20.3599,  35.5716,2,  35.5705,2,    227.0,2,   227.3,2,    1.63,2,    0.09,2,    0.00,2,    0.15,2,-999.000,9,-999.000,9,-999.0000,9,  2058.7,2,  2336.5,2,   8.0815,2,    20.00,-999.000,9,-999.000,9,-999.000,9,  20.3558,2,-999.000,9, -999.00,9, -999.00,-999.000,9,-999.000, -999.00,9, -999.00,9, -34.0070,  73.6988,-999.000,-999.000,20090419,       1713
33RR20090320,        I05,     102,          2,         34,         34,2,20090419,       1501,   -34.0067,    73.6985,       4896,    61.7,  20.3197,  35.5648,2,  35.5644,2,    227.9,2,   227.2,2,    1.61,2,    0.09,2,    0.00,2,    0.15,2,-999.000,9,-999.000,9,-999.0000,9,  2057.7,2,  2336.7,2,   8.0822,2,    20.00,-999.000,9,-999.000,9,-999.000,9,  20.3014,2,-999.000,9, -999.00,9, -999.00,-999.000,9,-999.000, -999.00,9, -999.00,9, -34.0070,  73.6988,-999.000,-999.000,20090419,       1711
33RR20090320,        I05,     102,          2,         33,         33,2,20090419,       1501,   -34.0067,    73.6985,       4896,    86.3,  15.7588,  35.3430,2,  35.3422,2,    260.0,2,   260.2,2,    1.77,2,    0.15,2,    0.00,2,    0.22,2,-999.000,9,-999.000,9,-999.0000,9,  2072.3,2,  2324.3,2,   8.0413,2,    20.00,-999.000,9,-999.000,9,-999.000,9,  15.7640,2,-999.000,9, -999.00,9, -999.00,-999.000,9,-999.000, -999.00,9, -999.00,9, -34.0072,  73.6988,-999.000,-999.000,20090419,       1709
33RR20090320,        I05,     102,          2,         32,         32,2,20090419,       1501,   -34.0067,    73.6985,       4896,   117.0,  14.2000,  35.3024,2,  35.3005,2,    237.4,2,   238.4,2,    2.47,2,    3.82,2,    0.16,2,    0.45,2,-999.000,9,-999.000,9,-999.0000,9,  2097.8,2,  2320.5,2,   7.9850,2,    20.00,-999.000,9,-999.000,9,-999.000,9,  14.1976,2,-999.000,9, -999.00,9, -999.00,-999.000,9,-999.000, -999.00,9, -999.00,9, -34.0073,  73.6987,-999.000,-999.000,20090419,       1708
33RR20090320,        I05,     102,          2,         31,         31,2,20090419,       1501,   -34.0067,    73.6985,       4896,   167.1,  13.3063,  35.2263,2,  35.2260,2,    233.4,2,   233.2,2,    3.17,2,    7.10,2,    0.01,2,    0.61,2,-999.000,9,-999.000,9,-999.0000,9,  2108.1,2,  2314.9,2,   7.9537,2,    20.00,-999.000,9,-999.000,9,-999.000,9,  13.2942,2,-999.000,9, -999.00,9, -999.00,-999.000,9,-999.000, -999.00,9, -999.00,9, -34.0075,  73.6987,-999.000,-999.000,20090419,       1706
33RR20090320,        I05,     102,          2,         30,         30,2,20090419,       1501,   -34.0067,    73.6985,       4896,   216.4,  12.8211,  35.1869,2,  35.1866,2,    233.5,2,   235.2,2,    3.87,2,    8.59,2,    0.00,2,    0.68,2,-999.000,9,-999.000,9,-999.0000,9,  2111.1,2,  2313.6,2,   7.9424,2,    20.00,-999.000,9,-999.000,9,-999.000,9,  12.8163,2,-999.000,9, -999.00,9, -999.00,-999.000,9,-999.000, -999.00,9, -999.00,9, -34.0076,  73.6987,-999.000,-999.000,20090419,       1704
33RR20090320,        I05,     102,          2,         29,         29,2,20090419,       1501,   -34.0067,    73.6985,       4896,   267.0,  12.5277,  35.1538,2,  35.1510,2,    232.9,2,   233.2,2,    4.22,2,    9.50,2,    0.00,2,    0.74,2,-999.000,9,-999.000,9,-999.0000,9,  2113.5,2,  2310.7,2,   7.9327,2,    20.00,-999.000,9,-999.000,9,-999.000,9,  12.5184,2,-999.000,9, -999.00,9, -999.00,-999.000,9,-999.000, -999.00,9, -999.00,9, -34.0076,  73.6988,-999.000,-999.000,20090419,       1703
33RR20090320,        I05,     102,          2,         28,         28,2,20090419,       1501,   -34.0067,    73.6985,       4896,   317.1,  12.3047,  35.1214,2,  35.1205,2,    232.9,2,   233.6,2,    4.20,2,   10.03,2,    0.00,2,    0.77,2,-999.000,9,-999.000,9,-999.0000,9,  -999.0,9,  -999.0,9,-999.0000,9,  -999.00,-999.000,9,-999.000,9,-999.000,9,  12.3030,2,-999.000,9, -999.00,9, -999.00,-999.000,9,-999.000, -999.00,9, -999.00,9, -34.0076,  73.6988,-999.000,-999.000,20090419,       1701
33RR20090320,        I05,     102,          2,         27,         27,2,20090419,       1501,   -34.0067,    73.6985,       4896,   367.1,  12.1011,  35.0912,2,  35.0906,2,    232.6,2,   233.7,2,    4.36,2,   10.51,2,    0.00,2,    0.80,2,-999.000,9,-999.000,9,-999.0000,9,  2116.3,2,  2308.9,2,   7.9228,2,    20.00,-999.000,9,-999.000,9,-999.000,9,  12.1022,2,-999.000,9, -999.00,9, -999.00,-999.000,9,-999.000, -999.00,9, -999.00,9, -34.0076,  73.6988,-999.000,-999.000,20090419,       1700
33RR20090320,        I05,     102,          2,         26,         26,2,20090419,       1501,   -34.0067,    73.6985,       4896,   436.7,  11.8301,  35.0475,2,  35.0483,2,    235.2,2,   234.8,2,    4.34,2,   11.10,2,    0.00,2,    0.84,2,-999.000,9,-999.000,9,-999.0000,9,  -999.0,9,  -999.0,9,-999.0000,9,  -999.00,-999.000,9,-999.000,9,-999.000,9,  11.8281,2,-999.000,9, -999.00,9, -999.00,-999.000,9,-999.000, -999.00,9, -999.00,9, -34.0075,  73.6987,-999.000,-999.000,20090419,       1658
33RR20090320,        I05,     102,          2,         25,         25,2,20090419,       1501,   -34.0067,    73.6985,       4896,   536.6,  11.2761,  34.9667,2,  34.9635,2,    232.9,2,   233.0,2,    4.69,2,   12.53,2,    0.00,2,    0.93,2,-999.000,9,-999.000,9,-999.0000,9,  2121.5,2,  2303.6,2,   7.9005,2,    20.00,-999.000,9,-999.000,9,-999.000,9,  11.2793,2,-999.000,9, -999.00,9, -999.00,-999.000,9,-999.000, -999.00,9, -999.00,9, -34.0075,  73.6988,-999.000,-999.000,20090419,       1655
33RR20090320,        I05,     102,          2,         24,         24,2,20090419,       1501,   -34.0067,    73.6985,       4896,   637.9,  10.5049,  34.8524,2,  34.8532,2,    231.0,2,   231.1,2,    5.56,2,   14.50,2,    0.00,2,    1.05,2,-999.000,9,-999.000,9,-999.0000,9,  -999.0,9,  -999.0,9,-999.0000,9,  -999.00,-999.000,9,-999.000,9,-999.000,9,  10.5021,2,-999.000,9, -999.00,9, -999.00,-999.000,9,-999.000, -999.00,9, -999.00,9, -34.0075,  73.6988,-999.000,-999.000,20090419,       1652
33RR20090320,        I05,     102,          2,         23,         23,2,20090419,       1501,   -34.0067,    73.6985,       4896,   735.7,   9.5009,  34.7202,2,  34.7229,2,    221.6,2,   221.7,2,    7.55,2,   17.63,2,    0.00,2,    1.25,2,-999.000,9,-999.000,9,-999.0000,9,  2136.8,2,  2294.6,2,   7.8438,2,    20.00,-999.000,9,-999.000,9,-999.000,9,   9.5037,2,-999.000,9, -999.00,9, -999.00,-999.000,9,-999.000, -999.00,9, -999.00,9, -34.0075,  73.6987,-999.000,-999.000,20090419,       1650
33RR20090320,        I05,     102,          2,         22,         22,2,20090419,       1501,   -34.0067,    73.6985,       4896,   837.3,   8.3437,  34.5986,2,  34.5969,2,    209.6,2,   209.6,2,   11.88,2,   21.69,2,    0.00,2,    1.51,2,-999.000,9,-999.000,9,-999.0000,9,  -999.0,9,  -999.0,9,-999.0000,9,  -999.00,-999.000,9,-999.000,9,-999.000,9,   8.3417,2,-999.000,9, -999.00,9, -999.00,-999.000,9,-999.000, -999.00,9, -999.00,9, -34.0075,  73.6986,-999.000,-999.000,20090419,       1647
33RR20090320,        I05,     102,          2,         21,         21,2,20090419,       1501,   -34.0067,    73.6985,       4896,   938.1,   6.8084,  34.4674,2,  34.4707,2,    205.8,2,   204.8,2,   18.23,2,   25.75,2,    0.00,2,    1.79,2,-999.000,9,-999.000,9,-999.0000,9,  2170.4,2,  2292.8,2,   7.7520,2,    20.00,-999.000,9,-999.000,9,-999.000,9,   6.8089,2,-999.000,9, -999.00,9, -999.00,-999.000,9,-999.000, -999.00,9, -999.00,9, -34.0075,  73.6986,-999.000,-999.000,20090419,       1644
33RR20090320,        I05,     102,          2,         20,         20,2,20090419,       1501,   -34.0067,    73.6985,       4896,  1037.3,   5.5350,  34.3866,2,  34.3885,2,    206.4,2,   206.2,2,   24.43,2,   28.60,2,    0.00,2,    1.99,2,-999.000,9,-999.000,9,-999.0000,9,  -999.0,9,  -999.0,9,-999.0000,9,  -999.00,-999.000,9,-999.000,9,-999.000,9,   5.5474,2,-999.000,9, -999.00,9, -999.00,-999.000,9,-999.000, -999.00,9, -999.00,9, -34.0076,  73.6987,-999.000,-999.000,20090419,       1641
33RR20090320,        I05,     102,          2,         19,         19,2,20090419,       1501,   -34.0067,    73.6985,       4896,  1139.7,   4.5908,  34.3522,2,  34.3526,2,    205.5,2,   206.7,2,   31.37,2,   30.47,2,    0.00,2,    2.14,2,-999.000,9,-999.000,9,-999.0000,9,  -999.0,9,  -999.0,9,-999.0000,9,  -999.00,-999.000,9,-999.000,9,-999.000,9,   4.5851,2,-999.000,9, -999.00,9, -999.00,-999.000,9,-999.000, -999.00,9, -999.00,9, -34.0076,  73.6988,-999.000,-999.000,20090419,       1639
33RR20090320,        I05,     102,          2,         18,         18,2,20090419,       1501,   -34.0067,    73.6985,       4896,  1236.2,   3.9023,  34.3809,2,  34.3817,2,    194.2,2,   194.2,2,   42.56,2,   32.40,2,    0.00,2,    2.29,2,-999.000,9,-999.000,9,-999.0000,9,  2213.6,2,  2306.5,2,   7.6738,2,    20.00,-999.000,9,-999.000,9,-999.000,9,   3.9022,2,-999.000,9, -999.00,9, -999.00,-999.000,9,-999.000, -999.00,9, -999.00,9, -34.0076,  73.6988,-999.000,-999.000,20090419,       1635
33RR20090320,        I05,     102,          2,         17,         17,2,20090419,       1501,   -34.0067,    73.6985,       4896,  1338.6,   3.5469,  34.4244,2,  34.4294,2,    182.0,2,   182.3,2,   52.51,2,   33.60,2,    0.00,2,    2.38,2,-999.000,9,-999.000,9,-999.0000,9,  -999.0,9,  -999.0,9,-999.0000,9,  -999.00,-999.000,9,-999.000,9,-999.000,9,   3.5375,2,-999.000,9, -999.00,9, -999.00,-999.000,9,-999.000, -999.00,9, -999.00,9, -34.0077,  73.6988,-999.000,-999.000,20090419,       1632
33RR20090320,        I05,     102,          2,         16,         16,2,20090419,       1501,   -34.0067,    73.6985,       4896,  1433.3,   3.2503,  34.4757,2,  34.4756,2,    176.3,2,   175.5,2,   59.72,2,   34.13,2,    0.00,2,    2.42,2,-999.000,9,-999.000,9,-999.0000,9,  -999.0,9,  -999.0,9,-999.0000,9,  -999.00,-999.000,9,-999.000,9,-999.000,9,   3.2499,2,-999.000,9, -999.00,9, -999.00,-999.000,9,-999.000, -999.00,9, -999.00,9, -34.0077,  73.6989,-999.000,-999.000,20090419,       1629
33RR20090320,        I05,     102,          2,         15,         15,2,20090419,       1501,   -34.0067,    73.6985,       4896,  1532.4,   3.0346,  34.5262,2,  34.5260,2,    171.8,2,   170.5,2,   66.38,2,   34.29,2,    0.00,2,    2.44,2,-999.000,9,-999.000,9,-999.0000,9,  2248.4,6,  2331.1,2,   7.6395,2,    20.00,-999.000,9,-999.000,9,-999.000,9,   3.0316,2,-999.000,9, -999.00,9, -999.00,-999.000,9,-999.000, -999.00,9, -999.00,9, -34.0077,  73.6990,-999.000,-999.000,20090419,       1626
33RR20090320,        I05,     102,          2,         14,         14,2,20090419,       1501,   -34.0067,    73.6985,       4896,  1665.1,   2.8267,  34.5818,2,  34.5823,2,    171.1,2,   169.3,2,   71.95,2,   33.95,2,    0.00,2,    2.42,2,-999.000,9,-999.000,9,-999.0000,9,  -999.0,9,  -999.0,9,-999.0000,9,  -999.00,-999.000,9,-999.000,9,-999.000,9,   2.8267,2,-999.000,9, -999.00,9, -999.00,-999.000,9,-999.000, -999.00,9, -999.00,9, -34.0076,  73.6992,-999.000,-999.000,20090419,       1621
33RR20090320,        I05,     102,          2,         13,         13,2,20090419,       1501,   -34.0067,    73.6985,       4896,  1861.5,   2.5973,  34.6507,2,  34.6510,2,    175.1,2,   173.1,2,   77.16,2,   33.03,2,    0.00,2,    2.35,2,-999.000,9,-999.000,9,-999.0000,9,  2253.1,2,  2341.0,2,   7.6522,2,    20.00,-999.000,9,-999.000,9,-999.000,9,   2.5970,2,-999.000,9, -999.00,9, -999.00,-999.000,9,-999.000, -999.00,9, -999.00,9, -34.0075,  73.6993,-999.000,-999.000,20090419,       1616
33RR20090320,        I05,     102,          2,         12,         12,2,20090419,       1501,   -34.0067,    73.6985,       4896,  2083.0,   2.3498,  34.7028,2,  34.7037,2,    181.7,2,   180.5,2,   82.55,2,   32.05,2,    0.00,2,    2.27,2,-999.000,9,-999.000,9,-999.0000,9,  -999.0,9,  -999.0,9,-999.0000,9,  -999.00,-999.000,9,-999.000,9,-999.000,9,   2.3496,2,-999.000,9, -999.00,9, -999.00,-999.000,9,-999.000, -999.00,9, -999.00,9, -34.0074,  73.6993,-999.000,-999.000,20090419,       1611
33RR20090320,        I05,     102,          2,         11,         11,2,20090419,       1501,   -34.0067,    73.6985,       4896,  2341.2,   2.0799,  34.7256,2,  34.7259,2,    181.5,2,   181.6,2,   95.84,2,   32.27,2,    0.00,2,    2.28,2,-999.000,9,-999.000,9,-999.0000,9,  2263.4,2,  2361.2,2,   7.6777,2,    20.00,-999.000,9,-999.000,9,-999.000,9,   2.0799,2,-999.000,9, -999.00,9, -999.00,-999.000,9,-999.000, -999.00,9, -999.00,9, -34.0069,  73.6989,-999.000,-999.000,20090419,       1604
33RR20090320,        I05,     102,          2,         10,         10,2,20090419,       1501,   -34.0067,    73.6985,       4896,  2589.0,   1.8792,  34.7293,2,  34.7285,2,    178.6,2,   178.7,2,  109.36,2,   32.96,2,    0.00,2,    2.35,2,-999.000,9,-999.000,9,-999.0000,9,  -999.0,9,  -999.0,9,-999.0000,9,  -999.00,-999.000,9,-999.000,9,-999.000,9,   1.8795,2,-999.000,9, -999.00,9, -999.00,-999.000,9,-999.000, -999.00,9, -999.00,9, -34.0068,  73.6984,-999.000,-999.000,20090419,       1557
33RR20090320,        I05,     102,          2,          9,          9,2,20090419,       1501,   -34.0067,    73.6985,       4896,  2836.0,   1.7551,  34.7283,2,  34.7280,2,    178.5,2,   177.9,2,  115.77,2,   33.28,2,    0.00,2,    2.37,2,   0.002,2,   0.003,2,   0.0410,2,  2281.5,2,  2380.1,2,   7.6780,2,    20.00,-999.000,9,-999.000,9,-999.000,9,   1.7554,2,-999.000,9, -999.00,9, -999.00,-999.000,9,-999.000, -999.00,9, -999.00,9, -34.0068,  73.6986,-999.000,-999.000,20090419,       1550
33RR20090320,        I05,     102,          2,          8,          8,2,20090419,       1501,   -34.0067,    73.6985,       4896,  3099.2,   1.5942,  34.7241,2,  34.7251,2,    181.2,2,   181.4,2,  119.91,2,   33.39,2,    0.00,2,    2.38,2,   0.004,2,   0.004,2,   0.0290,2,  2281.8,2,  2381.5,2,   7.6784,2,    20.00,-999.000,9,-999.000,9,-999.000,9,   1.5941,2,-999.000,9, -999.00,9, -999.00,-999.000,9,-999.000, -999.00,9, -999.00,9, -34.0070,  73.6988,-999.000,-999.000,20090419,       1544
33RR20090320,        I05,     102,          2,          7,          7,2,20090419,       1501,   -34.0067,    73.6985,       4896,  3397.9,   1.4044,  34.7182,2,  34.7180,2,    186.4,2,   187.5,2,  122.92,2,   33.23,2,    0.00,2,    2.37,2,   0.005,2,   0.004,2,   0.0150,2,  2279.0,2,  2380.3,2,   7.6797,2,    20.00,-999.000,9,-999.000,9,-999.000,9,   1.4036,2,-999.000,9, -999.00,9, -999.00,-999.000,9,-999.000, -999.00,9, -999.00,9, -34.0070,  73.6987,-999.000,-999.000,20090419,       1537
33RR20090320,        I05,     102,          2,          6,          6,2,20090419,       1501,   -34.0067,    73.6985,       4896,  3704.4,   1.2808,  34.7134,2,  34.7143,2,    190.7,2,   191.9,2,  124.81,2,   33.27,2,    0.00,2,    2.36,2,   0.006,2,   0.006,2,   0.0000,2,  -999.0,9,  -999.0,9,-999.0000,9,  -999.00,-999.000,9,-999.000,9,-999.000,9,   1.2812,2,-999.000,9, -999.00,9, -999.00,-999.000,9,-999.000, -999.00,9, -999.00,9, -34.0072,  73.6986,-999.000,-999.000,20090419,       1530
33RR20090320,        I05,     102,          2,          5,          5,2,20090419,       1501,   -34.0067,    73.6985,       4896,  3997.3,   1.2343,  34.7113,2,  34.7114,2,    192.9,2,   194.1,2,  125.56,2,   33.22,2,    0.00,2,    2.36,2,   0.008,6,   0.007,6,   0.0000,6,  -999.0,9,  -999.0,9,-999.0000,9,  -999.00,-999.000,9,-999.000,9,-999.000,9,   1.2341,2,-999.000,9, -999.00,9, -999.00,-999.000,9,-999.000, -999.00,9, -999.00,9, -34.0072,  73.6987,-999.000,-999.000,20090419,       1524
33RR20090320,        I05,     102,          2,          4,          4,2,20090419,       1501,   -34.0067,    73.6985,       4896,  4301.1,   1.1563,  34.7083,2,  34.7084,2,    196.3,2,   197.2,2,  126.69,2,   33.11,2,    0.00,2,    2.35,2,   0.010,2,   0.007,2,   0.0000,2,  2275.6,2,  2378.3,2,   7.6843,2,    20.00,-999.000,9,-999.000,9,-999.000,9,   1.1562,2,-999.000,9, -999.00,9, -999.00,-999.000,9,-999.000, -999.00,9, -999.00,9, -34.0071,  73.6988,-999.000,-999.000,20090419,       1517
33RR20090320,        I05,     102,          2,          3,          3,2,20090419,       1501,   -34.0067,    73.6985,       4896,  4649.5,   1.1131,  34.7060,2,  34.7071,2,    199.4,2,   199.8,2,  127.63,2,   33.10,2,    0.00,2,    2.35,2,   0.012,2,   0.009,2,   0.0000,2,  -999.0,9,  -999.0,9,-999.0000,9,  -999.00,-999.000,9,-999.000,9,-999.000,9,   1.1130,2,-999.000,9, -999.00,9, -999.00,-999.000,9,-999.000, -999.00,9, -999.00,9, -34.0067,  73.6983,-999.000,-999.000,20090419,       1509
33RR20090320,        I05,     102,          2,          2,          2,2,20090419,       1501,   -34.0067,    73.6985,       4896,  4853.9,   1.1285,  34.7055,2,  34.7075,2,    200.7,2,   200.1,2,  127.62,2,   33.10,2,    0.00,2,    2.34,2,   0.012,2,   0.009,2,   0.0000,2,  -999.0,9,  -999.0,9,-999.0000,9,  -999.00,-999.000,9,-999.000,9,-999.000,9,   1.1281,2,-999.000,9, -999.00,9, -999.00,-999.000,9,-999.000, -999.00,9, -999.00,9, -34.0066,  73.6984,-999.000,-999.000,20090419,       1505
33RR20090320,        I05,     102,          2,          1,          1,2,20090419,       1501,   -34.0067,    73.6985,       4896,  4973.5,   1.1418,  34.7055,2,  34.7060,2,    201.2,2,   200.0,2,  127.61,2,   32.99,2,    0.00,2,    2.35,2,   0.014,6,   0.010,6,   0.0220,6,  2275.2,6,  2376.5,2,   7.6847,2,    20.00,-999.000,9,-999.000,9,-999.000,9,   1.1414,2,-999.000,9, -999.00,9, -999.00,-999.000,9,-999.000, -999.00,9, -999.00,9, -34.0067,  73.6985,-999.000,-999.000,20090419,       1501