BOTTLE,20220814CCHSIOAMB
EXPOCODE,SECT_ID,STNNBR,CASTNO,SAMPNO,BTLNBR,BTLNBR_FLAG_W,DATE,TIME,LATITUDE,LONGITUDE,DEPTH,CTDPRS,CTDTMP,CTDSAL,CTDSAL_FLAG_W,SALNTY,SALNTY_FLAG_W,CTDOXY,CTDOXY_FLAG_W,OXYGEN,OXYGEN_FLAG_W,SILCAT,SILCAT_FLAG_W,NITRAT,NITRAT_FLAG_W,NITRIT,NITRIT_FLAG_W,PHSPHT,PHSPHT_FLAG_W,CFC-11,CFC-11_FLAG_W,CFC-12,CFC-12_FLAG_W,SF6,SF6_FLAG_W,TCARBN,TCARBN_FLAG_W,ALKALI,ALKALI_FLAG_W,PH_TOT,PH_TOT_FLAG_W,PH_TMP,TRITUM,TRITUM_FLAG_W,HELIUM,HELIUM_FLAG_W,DELHE3,DELHE3_FLAG_W,REFTMP,REFTMP_FLAG_W,DELC13,DELC13_FLAG_W,DELC14,DELC14_FLAG_W,C14ERR,NEON,NEON_FLAG_W,NEONER,DOC,DOC_FLAG_W,TDN,TDN_FLAG_W,BTL_LAT,BTL_LON,HELIER,DELHER,BTL_DATE,BTL_TIME
,,,,,,,,,,,METERS,DBAR,ITS-90,PSS-78,,PSS-78,,UMOL/KG,,UMOL/KG,,UMOL/KG,,UMOL/KG,,UMOL/KG,,UMOL/KG,,PMOL/KG,,PMOL/KG,,FMOL/KG,,UMOL/KG,,UMOL/KG,,,,DEG C,TU,,NMOL/KG,,PERCNT,,DEG C,,/MILLE,,/MILLE,,/MILLE,NMOL/KG,,NMOL/KG,UMOL/KG,,UMOL/KG,,,,NMOL/KG,PERCNT,,
33RR20090320,        I05,     117,          1,         36,         36,2,20090423,       0720,   -31.1868,    80.1515,       3818,     5.6,  22.2552,  35.8969,2,  35.8963,2,    216.7,2,   218.2,2,    2.00,2,    0.10,2,    0.00,2,    0.11,2,   1.933,6,   1.183,6,   1.1440,6,  2049.1,6,  2354.5,2,   8.1193,2,    20.00,-999.000,9,-999.000,9,-999.000,9,  22.2545,2,-999.000,9, -999.00,9, -999.00,-999.000,9,-999.000,   69.50,2,    4.35,2, -31.1874,  80.1515,-999.000,-999.000,20090423,       0905
33RR20090320,        I05,     117,          1,         35,         35,2,20090423,       0720,   -31.1868,    80.1515,       3818,    34.7,  22.0209,  35.8746,2,  35.8722,2,    220.6,2,   219.2,2,    1.81,2,    0.11,2,    0.00,2,    0.11,2,   1.936,2,   1.184,2,   1.1140,2,  2052.4,2,  2352.3,2,   8.1131,2,    20.00,-999.000,9,-999.000,9,-999.000,9,  21.9919,2,-999.000,9, -999.00,9, -999.00,-999.000,9,-999.000,   69.07,2,    4.80,2, -31.1874,  80.1516,-999.000,-999.000,20090423,       0903
33RR20090320,        I05,     117,          1,         34,         34,2,20090423,       0720,   -31.1868,    80.1515,       3818,    59.4,  21.3202,  35.9318,2,  35.9309,2,    225.4,2,   224.9,2,    1.61,2,    0.11,2,    0.00,2,    0.13,2,   2.496,3,   1.509,3,   1.4220,3,  2067.6,2,  2359.9,2,   8.0968,2,    20.00,-999.000,9,-999.000,9,-999.000,9,  21.3233,2,-999.000,9, -999.00,9, -999.00,-999.000,9,-999.000,   68.84,2,    4.50,2, -31.1874,  80.1516,-999.000,-999.000,20090423,       0902
33RR20090320,        I05,     117,          1,         33,         33,2,20090423,       0720,   -31.1868,    80.1515,       3818,    84.7,  18.6388,  35.7508,2,  35.7557,2,    249.5,2,   251.7,2,    1.59,2,    0.06,2,    0.00,2,    0.15,2,   2.467,2,   1.467,2,   1.3300,2,  2068.0,2,  2348.9,2,   8.0838,2,    20.00,-999.000,9,-999.000,9,-999.000,9,  18.6801,2,-999.000,9, -999.00,9, -999.00,-999.000,9,-999.000,   64.94,2,    4.86,2, -31.1874,  80.1517,-999.000,-999.000,20090423,       0900
33RR20090320,        I05,     117,          1,         32,         32,2,20090423,       0720,   -31.1868,    80.1515,       3818,   109.6,  16.8768,  35.6716,2,  35.6756,2,    243.6,2,   240.8,2,    1.58,2,    0.07,2,    0.00,2,    0.20,2,   2.577,2,   1.506,2,   1.2410,2,  2080.7,2,  2345.0,2,   8.0538,2,    20.00,-999.000,9,-999.000,9,-999.000,9,  16.8971,2,-999.000,9, -999.00,9, -999.00,-999.000,9,-999.000,   61.44,2,    4.21,2, -31.1875,  80.1518,-999.000,-999.000,20090423,       0859
33RR20090320,        I05,     117,          1,         31,         31,2,20090423,       0720,   -31.1868,    80.1515,       3818,   134.8,  15.7273,  35.5552,2,  35.5487,2,    233.2,2,   236.7,2,    1.56,2,    0.69,2,    0.05,2,    0.27,2,   2.664,2,   1.554,2,   1.2740,2,  2092.9,2,  2338.5,2,   8.0237,2,    20.00,-999.000,9,-999.000,9,-999.000,9,  15.7323,2,-999.000,9, -999.00,9, -999.00,-999.000,9,-999.000,   57.94,2,    5.71,2, -31.1875,  80.1518,-999.000,-999.000,20090423,       0858
33RR20090320,        I05,     117,          1,         30,         30,2,20090423,       0720,   -31.1868,    80.1515,       3818,   164.3,  14.6708,  35.4171,2,  35.4181,2,    232.5,2,   231.6,2,    1.72,2,    3.45,2,    0.12,2,    0.42,2,   2.800,2,   1.633,2,   1.3640,2,  2100.1,2,  2331.8,2,   7.9929,2,    20.00,-999.000,9,-999.000,9,-999.000,9,  14.6704,2,-999.000,9, -999.00,9, -999.00,-999.000,9,-999.000,   53.38,2,    7.54,2, -31.1875,  80.1518,-999.000,-999.000,20090423,       0856
33RR20090320,        I05,     117,          1,         29,         29,2,20090423,       0720,   -31.1868,    80.1515,       3818,   214.0,  13.4248,  35.2436,2,  35.2437,2,    231.2,2,   230.6,2,    2.41,2,    6.64,2,    0.01,2,    0.59,2,   3.010,2,   1.712,2,   1.3200,2,  2108.4,2,  2319.0,2,   7.9559,2,    20.00,-999.000,9,-999.000,9,-999.000,9,  13.4294,2,-999.000,9, -999.00,9, -999.00,-999.000,9,-999.000,   51.42,2,   10.16,2, -31.1876,  80.1518,-999.000,-999.000,20090423,       0855
33RR20090320,        I05,     117,          1,         28,         28,2,20090423,       0720,   -31.1868,    80.1515,       3818,   264.7,  12.7787,  35.1574,2,  35.1529,2,    232.2,2,   233.1,2,    2.75,2,    8.23,2,    0.00,2,    0.67,2,   3.112,2,   1.764,2,   1.4040,2,  2112.0,2,  2314.5,2,   7.9384,2,    20.00,-999.000,9,-999.000,9,-999.000,9,  12.7864,2,-999.000,9, -999.00,9, -999.00,-999.000,9,-999.000,   49.52,2,   10.87,2, -31.1876,  80.1519,-999.000,-999.000,20090423,       0853
33RR20090320,        I05,     117,          1,         27,         27,2,20090423,       0720,   -31.1868,    80.1515,       3818,   313.8,  12.2388,  35.0979,2,  35.0958,2,    232.6,2,   234.5,2,    3.27,2,    9.68,2,    0.00,2,    0.76,2,   3.204,2,   1.807,2,   1.3300,2,  2114.7,2,  2310.0,2,   7.9256,2,    20.00,-999.000,9,-999.000,9,-999.000,9,  12.2296,2,-999.000,9, -999.00,9, -999.00,-999.000,9,-999.000,   49.15,2,   12.25,2, -31.1877,  80.1519,-999.000,-999.000,20090423,       0852
33RR20090320,        I05,     117,          1,         26,         26,2,20090423,       0720,   -31.1868,    80.1515,       3818,   364.1,  11.7011,  35.0153,2,  35.0141,2,    239.3,2,   241.2,2,    3.79,2,   10.71,2,    0.00,2,    0.82,2,-999.000,5,-999.000,5,-999.0000,5,  2114.6,2,  2307.3,2,   7.9184,2,    20.00,-999.000,9,-999.000,9,-999.000,9,  11.7009,2,-999.000,9, -999.00,9, -999.00,-999.000,9,-999.000,   47.84,2,   13.57,2, -31.1877,  80.1520,-999.000,-999.000,20090423,       0850
33RR20090320,        I05,     117,          1,         25,         25,2,20090423,       0720,   -31.1868,    80.1515,       3818,   413.9,  11.4162,  34.9762,2,  34.9742,2,    240.7,2,   240.4,2,    3.95,2,   11.43,2,    0.00,2,    0.87,2,   3.306,2,   1.837,2,   1.3520,2,  2115.6,2,  2304.8,2,   7.9111,2,    20.00,-999.000,9,-999.000,9,-999.000,9,  11.4157,2,-999.000,9, -999.00,9, -999.00,-999.000,9,-999.000,   47.24,2,   13.47,2, -31.1878,  80.1520,-999.000,-999.000,20090423,       0848
33RR20090320,        I05,     117,          1,         24,         24,2,20090423,       0720,   -31.1868,    80.1515,       3818,   463.8,  11.1243,  34.9382,2,  34.9372,2,    239.2,2,   239.6,2,    4.11,2,   12.10,2,    0.00,2,    0.91,2,   3.370,2,   1.865,2,   1.2830,2,  2118.0,2,  2304.1,2,   7.9040,2,    20.00,-999.000,9,-999.000,9,-999.000,9,  11.1236,2,-999.000,9, -999.00,9, -999.00,-999.000,9,-999.000,   46.46,2,   14.05,2, -31.1879,  80.1521,-999.000,-999.000,20090423,       0847
33RR20090320,        I05,     117,          1,         23,         23,2,20090423,       0720,   -31.1868,    80.1515,       3818,   534.1,  10.7265,  34.8875,2,  34.8865,2,    237.2,2,   237.5,2,    4.27,2,   13.08,2,    0.00,2,    0.97,2,   3.440,2,   1.868,2,   1.2740,2,  2120.7,2,  2300.9,2,   7.8917,2,    20.00,-999.000,9,-999.000,9,-999.000,9,  10.7255,2,-999.000,9, -999.00,9, -999.00,-999.000,9,-999.000,   45.72,2,   14.65,2, -31.1879,  80.1521,-999.000,-999.000,20090423,       0845
33RR20090320,        I05,     117,          1,         22,         22,2,20090423,       0720,   -31.1868,    80.1515,       3818,   633.7,   9.9590,  34.7807,2,  34.7809,2,    235.8,2,   236.1,2,    4.79,2,   14.98,2,    0.00,2,    1.09,2,   3.518,2,   1.876,2,   1.1220,2,  2124.4,2,  2297.3,2,   7.8722,2,    20.00,-999.000,9,-999.000,9,-999.000,9,   9.9610,2,-999.000,9, -999.00,9, -999.00,-999.000,9,-999.000,   44.46,2,   16.53,2, -31.1880,  80.1522,-999.000,-999.000,20090423,       0842
33RR20090320,        I05,     117,          1,         21,         21,2,20090423,       0720,   -31.1868,    80.1515,       3818,   733.7,   9.1541,  34.6687,2,  34.6663,2,    231.3,2,   229.2,2,    6.37,2,   17.76,2,    0.00,2,    1.27,2,   3.440,2,   1.774,2,   0.9210,2,  2132.6,2,  2291.2,2,   7.8434,2,    20.00,-999.000,9,-999.000,9,-999.000,9,   9.1535,2,-999.000,9, -999.00,9, -999.00,-999.000,9,-999.000,   43.36,2,   19.56,2, -31.1879,  80.1523,-999.000,-999.000,20090423,       0838
33RR20090320,        I05,     117,          1,         20,         20,2,20090423,       0720,   -31.1868,    80.1515,       3818,   834.6,   8.1420,  34.5667,2,  34.5651,2,    213.3,2,   211.9,2,   10.98,2,   21.78,2,    0.00,2,    1.53,2,   2.835,6,   1.439,6,   0.6620,6,  2149.4,2,  2290.6,2,   7.7967,2,    20.00,-999.000,9,-999.000,9,-999.000,9,   8.1411,2,-999.000,9, -999.00,9, -999.00,-999.000,9,-999.000,   42.07,2,   22.99,2, -31.1880,  80.1525,-999.000,-999.000,20090423,       0836
33RR20090320,        I05,     117,          1,         19,         19,2,20090423,       0720,   -31.1868,    80.1515,       3818,   934.8,   6.5901,  34.4499,2,  34.4499,2,    201.3,2,   201.2,2,   19.18,2,   26.33,2,    0.00,2,    1.86,2,   2.127,2,   1.055,2,   0.4190,2,  2170.2,2,  2290.6,2,   7.7437,2,    20.00,-999.000,9,-999.000,9,-999.000,9,   6.5813,2,-999.000,9, -999.00,9, -999.00,-999.000,9,-999.000,   40.76,2,   28.26,2, -31.1880,  80.1526,-999.000,-999.000,20090423,       0833
33RR20090320,        I05,     117,          1,         18,         18,2,20090423,       0720,   -31.1868,    80.1515,       3818,  1034.3,   5.2902,  34.3863,2,  34.3832,2,    200.1,2,   199.1,2,   27.95,2,   29.40,2,    0.00,2,    2.08,2,   1.775,2,   0.878,2,   0.3430,2,  2186.6,2,  2297.5,2,   7.7084,2,    20.00,-999.000,9,-999.000,9,-999.000,9,   5.2799,2,-999.000,9, -999.00,9, -999.00,-999.000,9,-999.000,   40.27,2,   30.97,2, -31.1881,  80.1527,-999.000,-999.000,20090423,       0830
33RR20090320,        I05,     117,          1,         17,         17,2,20090423,       0720,   -31.1868,    80.1515,       3818,  1134.7,   4.3674,  34.3887,2,  34.3887,2,    188.2,2,   189.2,2,   39.63,2,   31.70,2,    0.00,2,    2.26,2,   1.163,2,   0.567,2,   0.2090,2,  2205.6,2,  2305.4,2,   7.6794,2,    20.00,-999.000,9,-999.000,9,-999.000,9,   4.3851,2,-999.000,9, -999.00,9, -999.00,-999.000,9,-999.000,   40.14,2,   33.17,2, -31.1881,  80.1528,-999.000,-999.000,20090423,       0828
33RR20090320,        I05,     117,          1,         16,         16,2,20090423,       0720,   -31.1868,    80.1515,       3818,  1235.7,   3.9913,  34.4377,2,  34.4395,2,    171.0,2,   172.1,2,   52.82,2,   33.31,2,    0.00,2,    2.39,2,   0.591,2,   0.284,2,   0.1180,2,  2226.8,2,  2320.2,2,   7.6556,2,    20.00,-999.000,9,-999.000,9,-999.000,9,   3.9921,2,-999.000,9, -999.00,9, -999.00,-999.000,9,-999.000,   40.09,2,   34.85,2, -31.1882,  80.1528,-999.000,-999.000,20090423,       0825
33RR20090320,        I05,     117,          1,         15,         15,2,20090423,       0720,   -31.1868,    80.1515,       3818,  1335.2,   3.6124,  34.4880,2,  34.4863,2,    161.7,2,   162.1,2,   63.17,2,   34.26,2,    0.00,2,    2.47,2,   0.310,2,   0.152,2,   0.0000,2,  2242.0,2,  2329.4,2,   7.6407,2,    20.00,-999.000,9,-999.000,9,-999.000,9,   3.6124,2,-999.000,9, -999.00,9, -999.00,-999.000,9,-999.000,   40.14,2,   35.50,2, -31.1882,  80.1528,-999.000,-999.000,20090423,       0822
33RR20090320,        I05,     117,          1,         14,         14,2,20090423,       0720,   -31.1868,    80.1515,       3818,  1436.3,   3.4194,  34.5318,2,  34.5301,2,    155.3,2,   155.9,2,   70.63,2,   34.62,2,    0.00,2,    2.50,2,   0.170,2,   0.083,2,   0.0000,2,  2252.7,2,  2339.2,2,   7.6339,2,    20.00,-999.000,9,-999.000,9,-999.000,9,   3.4199,2,-999.000,9, -999.00,9, -999.00,-999.000,9,-999.000,   39.92,2,   35.99,2, -31.1881,  80.1527,-999.000,-999.000,20090423,       0820
33RR20090320,        I05,     117,          1,         13,         13,2,20090423,       0720,   -31.1868,    80.1515,       3818,  1532.4,   3.2517,  34.5667,2,  34.5666,2,    153.5,2,   153.7,2,   75.73,2,   34.68,2,    0.00,2,    2.51,2,   0.106,2,   0.053,2,   0.0100,2,  2259.1,2,  2343.6,2,   7.6318,2,    20.00,-999.000,9,-999.000,9,-999.000,9,   3.2511,2,-999.000,9, -999.00,9, -999.00,-999.000,9,-999.000,   39.42,2,   35.88,2, -31.1880,  80.1527,-999.000,-999.000,20090423,       0817
33RR20090320,        I05,     117,          1,         12,         12,2,20090423,       0720,   -31.1868,    80.1515,       3818,  1632.3,   3.0782,  34.6079,2,  34.6077,2,    153.1,2,   152.9,2,   81.39,2,   34.51,2,    0.00,2,    2.50,2,   0.063,2,   0.033,2,   0.0000,2,  2264.5,2,  2350.7,2,   7.6333,2,    20.00,-999.000,9,-999.000,9,-999.000,9,   3.0795,2,-999.000,9, -999.00,9, -999.00,-999.000,9,-999.000,   39.77,2,   36.38,2, -31.1880,  80.1527,-999.000,-999.000,20090423,       0815
33RR20090320,        I05,     117,          1,         11,         11,2,20090423,       0720,   -31.1868,    80.1515,       3818,  1733.6,   2.8978,  34.6338,2,  34.6330,2,    157.8,2,   157.8,2,   82.65,2,   34.04,2,    0.00,2,    2.45,2,   0.071,2,   0.035,2,   0.0000,2,  2263.9,6,  2350.8,2,   7.6393,2,    20.00,-999.000,9,-999.000,9,-999.000,9,   2.8941,2,-999.000,9, -999.00,9, -999.00,-999.000,9,-999.000,   39.85,2,   35.71,2, -31.1880,  80.1527,-999.000,-999.000,20090423,       0812
33RR20090320,        I05,     117,          1,         10,         10,2,20090423,       0720,   -31.1868,    80.1515,       3818,  1864.6,   2.7207,  34.6652,2,  34.6660,2,    160.6,2,   160.9,2,   86.67,2,   33.73,2,    0.00,2,    2.42,2,   0.048,2,   0.024,2,   0.0000,2,  2268.3,2,  2356.5,2,   7.6466,2,    20.00,-999.000,9,-999.000,9,-999.000,9,   2.7203,2,-999.000,9, -999.00,9, -999.00,-999.000,9,-999.000,   40.24,2,   35.60,2, -31.1879,  80.1528,-999.000,-999.000,20090423,       0807
33RR20090320,        I05,     117,          1,          9,          9,2,20090423,       0720,   -31.1868,    80.1515,       3818,  2063.8,   2.4164,  34.7010,2,  34.7006,2,    175.0,2,   175.1,2,   85.18,2,   32.21,2,    0.00,2,    2.31,2,   0.045,2,   0.022,2,   0.0000,2,  2260.9,2,  2353.2,2,   7.6639,2,    20.00,-999.000,9,-999.000,9,-999.000,9,   2.4159,2,-999.000,9, -999.00,9, -999.00,-999.000,9,-999.000,   39.90,2,   33.86,2, -31.1878,  80.1528,-999.000,-999.000,20090423,       0802
33RR20090320,        I05,     117,          1,          8,          8,2,20090423,       0720,   -31.1868,    80.1515,       3818,  2262.5,   2.1864,  34.7274,2,  34.7274,2,    183.9,2,   184.1,2,   87.91,2,   31.42,2,    0.00,2,    2.25,2,   0.027,2,   0.014,2,   0.0160,2,  2256.4,2,  2355.5,2,   7.6775,2,    20.00,-999.000,9,-999.000,9,-999.000,9,   2.1862,2,-999.000,9, -999.00,9, -999.00,-999.000,9,-999.000,   40.13,2,   33.27,2, -31.1876,  80.1526,-999.000,-999.000,20090423,       0757
33RR20090320,        I05,     117,          1,          7,          7,2,20090423,       0720,   -31.1868,    80.1515,       3818,  2464.8,   2.0041,  34.7402,2,  34.7403,2,    190.7,2,   190.8,2,   90.10,2,   30.85,2,    0.00,2,    2.20,2,   0.027,6,   0.014,6,   0.0000,6,  2253.7,2,  2354.9,2,   7.6855,2,    20.00,-999.000,9,-999.000,9,-999.000,9,   2.0040,2,-999.000,9, -999.00,9, -999.00,-999.000,9,-999.000,   40.45,2,   32.37,2, -31.1874,  80.1526,-999.000,-999.000,20090423,       0751
33RR20090320,        I05,     117,          1,          6,          6,2,20090423,       0720,   -31.1868,    80.1515,       3818,  2665.9,   1.8143,  34.7406,2,  34.7409,2,    193.1,2,   193.2,2,   96.70,2,   31.06,2,    0.00,2,    2.21,2,   0.024,2,   0.013,2,   0.0000,2,  2257.4,2,  2360.2,2,   7.6878,2,    20.00,-999.000,9,-999.000,9,-999.000,9,   1.8140,2,-999.000,9, -999.00,9, -999.00,-999.000,9,-999.000,   40.28,2,   32.25,2, -31.1872,  80.1525,-999.000,-999.000,20090423,       0746
33RR20090320,        I05,     117,          1,          5,          5,2,20090423,       0720,   -31.1868,    80.1515,       3818,  2863.8,   1.6429,  34.7360,2,  34.7366,2,    193.5,2,   193.9,2,  101.48,2,   31.37,2,    0.00,2,    2.22,2,   0.018,2,   0.010,2,   0.0000,2,  2262.8,2,  2364.3,2,   7.6875,2,    20.00,-999.000,9,-999.000,9,-999.000,9,   1.6423,2,-999.000,9, -999.00,9, -999.00,-999.000,9,-999.000,   40.02,2,   32.92,2, -31.1872,  80.1524,-999.000,-999.000,20090423,       0741
33RR20090320,        I05,     117,          1,          4,          4,2,20090423,       0720,   -31.1868,    80.1515,       3818,  3120.8,   1.4710,  34.7320,2,  34.7321,2,    195.6,2,   196.3,2,  108.66,2,   31.63,2,    0.00,2,    2.26,2,   0.014,2,   0.008,2,   0.0180,2,  2264.8,2,  2369.9,2,   7.6907,2,    20.00,-999.000,9,-999.000,9,-999.000,9,   1.4705,2,-999.000,9, -999.00,9, -999.00,-999.000,9,-999.000,   40.24,2,   33.19,2, -31.1873,  80.1524,-999.000,-999.000,20090423,       0736
33RR20090320,        I05,     117,          1,          3,          3,2,20090423,       0720,   -31.1868,    80.1515,       3818,  3425.6,   1.4322,  34.7296,2,  34.7299,2,    195.0,2,   195.9,2,  111.42,2,   31.73,2,    0.00,2,    2.27,2,   0.014,2,   0.008,2,   0.0000,2,  2269.9,2,  2373.9,2,   7.6921,2,    20.00,-999.000,9,-999.000,9,-999.000,9,   1.4319,2,-999.000,9, -999.00,9, -999.00,-999.000,9,-999.000,   39.85,2,   33.16,2, -31.1872,  80.1521,-999.000,-999.000,20090423,       0730
33RR20090320,        I05,     117,          1,          2,          2,2,20090423,       0720,   -31.1868,    80.1515,       3818,  3730.6,   1.4278,  34.7279,2,  34.7272,2,    194.8,2,   195.4,2,  113.62,2,   31.94,2,    0.00,2,    2.28,2,   0.008,2,   0.004,2,   0.0000,2,  2271.1,2,  2376.6,2,   7.6928,2,    20.00,-999.000,9,-999.000,9,-999.000,9,   1.4278,2,-999.000,9, -999.00,9, -999.00,-999.000,9,-999.000,   39.73,2,   33.57,2, -31.1869,  80.1517,-999.000,-999.000,20090423,       0724
33RR20090320,        I05,     117,          1,          1,          1,2,20090423,       0720,   -31.1868,    80.1515,       3818,  3864.7,   1.4422,  34.7276,2,  34.7282,2,    195.0,2,   195.2,2,  113.79,2,   31.89,2,    0.00,2,    2.28,2,   0.008,6,   0.004,6,   0.0000,6,  2271.3,6,  2376.5,2,   7.6937,2,    20.00,-999.000,9,-999.000,9,-999.000,9,   1.4418,2,-999.000,9, -999.00,9, -999.00,-999.000,9,-999.000,   40.27,2,   33.66,2, -31.1868,  80.1515,-999.000,-999.000,20090423,       0720