BOTTLE,20220814CCHSIOAMB
EXPOCODE,SECT_ID,STNNBR,CASTNO,SAMPNO,BTLNBR,BTLNBR_FLAG_W,DATE,TIME,LATITUDE,LONGITUDE,DEPTH,CTDPRS,CTDTMP,CTDSAL,CTDSAL_FLAG_W,SALNTY,SALNTY_FLAG_W,CTDOXY,CTDOXY_FLAG_W,OXYGEN,OXYGEN_FLAG_W,SILCAT,SILCAT_FLAG_W,NITRAT,NITRAT_FLAG_W,NITRIT,NITRIT_FLAG_W,PHSPHT,PHSPHT_FLAG_W,CFC-11,CFC-11_FLAG_W,CFC-12,CFC-12_FLAG_W,SF6,SF6_FLAG_W,TCARBN,TCARBN_FLAG_W,ALKALI,ALKALI_FLAG_W,PH_TOT,PH_TOT_FLAG_W,PH_TMP,TRITUM,TRITUM_FLAG_W,HELIUM,HELIUM_FLAG_W,DELHE3,DELHE3_FLAG_W,REFTMP,REFTMP_FLAG_W,DELC13,DELC13_FLAG_W,DELC14,DELC14_FLAG_W,C14ERR,NEON,NEON_FLAG_W,NEONER,DOC,DOC_FLAG_W,TDN,TDN_FLAG_W,BTL_LAT,BTL_LON,HELIER,DELHER,BTL_DATE,BTL_TIME
,,,,,,,,,,,METERS,DBAR,ITS-90,PSS-78,,PSS-78,,UMOL/KG,,UMOL/KG,,UMOL/KG,,UMOL/KG,,UMOL/KG,,UMOL/KG,,PMOL/KG,,PMOL/KG,,FMOL/KG,,UMOL/KG,,UMOL/KG,,,,DEG C,TU,,NMOL/KG,,PERCNT,,DEG C,,/MILLE,,/MILLE,,/MILLE,NMOL/KG,,NMOL/KG,UMOL/KG,,UMOL/KG,,,,NMOL/KG,PERCNT,,
33RR20090320,        I05,      29,          1,         36,         36,2,20090330,       0814,   -32.9973,    38.6804,       5059,     4.7,  22.3948,  35.6299,2,  35.6287,2,    219.7,2,   219.9,2,    1.86,2,    0.15,2,    0.00,2,    0.09,2,-999.000,9,-999.000,9,-999.0000,9,  2033.8,2,  2335.3,2,   8.1123,2,    20.00,-999.000,9,-999.000,9,-999.000,9,  22.3986,2,-999.000,9, -999.00,9, -999.00,-999.000,9,-999.000, -999.00,9, -999.00,9, -32.9951,  38.6807,-999.000,-999.000,20090330,       1022
33RR20090320,        I05,      29,          1,         35,         35,2,20090330,       0814,   -32.9973,    38.6804,       5059,    27.5,  21.7936,  35.6185,2,  35.6186,2,    223.4,2,   221.8,2,    1.66,2,    0.15,2,    0.00,2,    0.08,2,-999.000,9,-999.000,9,-999.0000,9,  2039.9,2,  2329.9,2,   8.1142,2,    20.00,-999.000,9,-999.000,9,-999.000,9,  21.7922,2,-999.000,9, -999.00,9, -999.00,-999.000,9,-999.000, -999.00,9, -999.00,9, -32.9951,  38.6807,-999.000,-999.000,20090330,       1020
33RR20090320,        I05,      29,          1,         34,         34,2,20090330,       0814,   -32.9973,    38.6804,       5059,    52.2,  20.7871,  35.5957,2,  35.5967,2,    229.0,2,   231.0,2,    1.84,2,    0.10,2,    0.00,2,    0.10,2,-999.000,9,-999.000,9,-999.0000,9,  2039.0,2,  2331.1,2,   8.1122,2,    20.00,-999.000,9,-999.000,9,-999.000,9,  20.7404,2,-999.000,9, -999.00,9, -999.00,-999.000,9,-999.000, -999.00,9, -999.00,9, -32.9951,  38.6807,-999.000,-999.000,20090330,       1019
33RR20090320,        I05,      29,          1,         33,         33,2,20090330,       0814,   -32.9973,    38.6804,       5059,    77.7,  18.4268,  35.5615,2,  35.5606,2,    233.5,2,   231.2,2,    2.22,2,    0.04,2,    0.00,2,    0.17,2,-999.000,9,-999.000,9,-999.0000,9,  2055.2,2,  2330.8,2,   8.0785,2,    20.00,-999.000,9,-999.000,9,-999.000,9,  18.4245,2,-999.000,9, -999.00,9, -999.00,-999.000,9,-999.000, -999.00,9, -999.00,9, -32.9951,  38.6807,-999.000,-999.000,20090330,       1017
33RR20090320,        I05,      29,          1,         32,         32,2,20090330,       0814,   -32.9973,    38.6804,       5059,   103.0,  17.5328,  35.5454,2,  35.5442,2,    212.0,2,   208.1,2,    3.39,2,    3.42,2,    0.02,2,    0.38,2,-999.000,9,-999.000,9,-999.0000,9,  2078.7,2,  2328.9,2,   8.0320,2,    20.00,-999.000,9,-999.000,9,-999.000,9,  17.5513,2,-999.000,9, -999.00,9, -999.00,-999.000,9,-999.000, -999.00,9, -999.00,9, -32.9951,  38.6808,-999.000,-999.000,20090330,       1016
33RR20090320,        I05,      29,          1,         31,         31,2,20090330,       0814,   -32.9973,    38.6804,       5059,   152.3,  17.0329,  35.5417,2,  35.5416,2,    212.5,2,   210.3,2,    3.56,2,    3.87,2,    0.01,2,    0.41,2,-999.000,9,-999.000,9,-999.0000,9,  2081.0,2,  2327.6,2,   8.0224,2,    20.00,-999.000,9,-999.000,9,-999.000,9,  17.0309,2,-999.000,9, -999.00,9, -999.00,-999.000,9,-999.000, -999.00,9, -999.00,9, -32.9951,  38.6808,-999.000,-999.000,20090330,       1013
33RR20090320,        I05,      29,          1,         30,         30,2,20090330,       0814,   -32.9973,    38.6804,       5059,   202.2,  16.4929,  35.5301,2,  35.5292,2,    214.8,2,   215.6,2,    3.55,2,    4.37,2,    0.01,2,    0.43,2,-999.000,9,-999.000,9,-999.0000,9,  2083.6,2,  2327.6,2,   8.0171,2,    20.00,-999.000,9,-999.000,9,-999.000,9,  16.4926,2,-999.000,9, -999.00,9, -999.00,-999.000,9,-999.000, -999.00,9, -999.00,9, -32.9950,  38.6808,-999.000,-999.000,20090330,       1011
33RR20090320,        I05,      29,          1,         29,         29,2,20090330,       0814,   -32.9973,    38.6804,       5059,   251.6,  16.0041,  35.4941,2,  35.4933,2,    208.7,2,   208.8,2,    4.13,2,    5.70,2,    0.01,2,    0.51,2,-999.000,9,-999.000,9,-999.0000,9,  2094.2,2,  2327.0,2,   7.9950,2,    20.00,-999.000,9,-999.000,9,-999.000,9,  15.9962,2,-999.000,9, -999.00,9, -999.00,-999.000,9,-999.000, -999.00,9, -999.00,9, -32.9950,  38.6808,-999.000,-999.000,20090330,       1008
33RR20090320,        I05,      29,          1,         28,         28,2,20090330,       0814,   -32.9973,    38.6804,       5059,   301.6,  15.4195,  35.4559,2,  35.4552,2,    206.2,2,   207.7,2,    4.12,2,    6.52,2,    0.00,2,    0.56,2,-999.000,9,-999.000,9,-999.0000,9,  2100.0,2,  2324.5,2,   7.9781,2,    20.00,-999.000,9,-999.000,9,-999.000,9,  15.4199,2,-999.000,9, -999.00,9, -999.00,-999.000,9,-999.000, -999.00,9, -999.00,9, -32.9950,  38.6808,-999.000,-999.000,20090330,       1006
33RR20090320,        I05,      29,          1,         27,         27,2,20090330,       0814,   -32.9973,    38.6804,       5059,   351.2,  14.6912,  35.3937,2,  35.3927,2,    205.2,2,   206.4,2,    4.69,2,    7.95,2,    0.00,2,    0.64,2,-999.000,9,-999.000,9,-999.0000,9,  2107.0,2,  2325.3,2,   7.9582,2,    20.00,-999.000,9,-999.000,9,-999.000,9,  14.6930,2,-999.000,9, -999.00,9, -999.00,-999.000,9,-999.000, -999.00,9, -999.00,9, -32.9950,  38.6809,-999.000,-999.000,20090330,       1003
33RR20090320,        I05,      29,          1,         26,         26,2,20090330,       0814,   -32.9973,    38.6804,       5059,   405.5,  14.0108,  35.3290,2,  35.3300,2,    209.1,2,   211.3,2,    4.68,2,    8.72,2,    0.00,2,    0.69,2,-999.000,9,-999.000,9,-999.0000,9,  -999.0,9,  -999.0,9,-999.0000,9,  -999.00,-999.000,9,-999.000,9,-999.000,9,  14.0115,2,-999.000,9, -999.00,9, -999.00,-999.000,9,-999.000, -999.00,9, -999.00,9, -32.9950,  38.6808,-999.000,-999.000,20090330,       1001
33RR20090320,        I05,      29,          1,         25,         25,2,20090330,       0814,   -32.9973,    38.6804,       5059,   503.4,  13.0597,  35.2245,2,  35.2240,2,    214.6,2,   214.1,2,    4.66,2,   10.36,2,    0.00,2,    0.79,2,-999.000,9,-999.000,9,-999.0000,9,  2115.5,2,  2319.2,2,   7.9255,2,    20.00,-999.000,9,-999.000,9,-999.000,9,  13.0486,2,-999.000,9, -999.00,9, -999.00,-999.000,9,-999.000, -999.00,9, -999.00,9, -32.9950,  38.6809,-999.000,-999.000,20090330,       0958
33RR20090320,        I05,      29,          1,         24,         24,2,20090330,       0814,   -32.9973,    38.6804,       5059,   603.2,  11.9640,  35.0738,2,  35.0733,2,    217.5,2,   218.2,2,    5.05,2,   12.35,2,    0.00,2,    0.92,2,-999.000,9,-999.000,9,-999.0000,9,  -999.0,9,  -999.0,9,-999.0000,9,  -999.00,-999.000,9,-999.000,9,-999.000,9,  11.9656,2,-999.000,9, -999.00,9, -999.00,-999.000,9,-999.000, -999.00,9, -999.00,9, -32.9950,  38.6810,-999.000,-999.000,20090330,       0955
33RR20090320,        I05,      29,          1,         23,         23,2,20090330,       0814,   -32.9973,    38.6804,       5059,   702.3,  10.6482,  34.8863,2,  34.8859,2,    216.9,2,   216.8,2,    6.60,2,   15.26,2,    0.00,2,    1.10,2,-999.000,9,-999.000,9,-999.0000,9,  2129.2,2,  2301.2,2,   7.8692,2,    20.00,-999.000,9,-999.000,9,-999.000,9,  10.6432,2,-999.000,9, -999.00,9, -999.00,-999.000,9,-999.000, -999.00,9, -999.00,9, -32.9950,  38.6810,-999.000,-999.000,20090330,       0952
33RR20090320,        I05,      29,          1,         22,         22,2,20090330,       0814,   -32.9973,    38.6804,       5059,   801.6,   9.2530,  34.7178,2,  34.7170,2,    210.1,2,   209.6,2,   10.30,2,   19.21,2,    0.00,2,    1.37,2,-999.000,9,-999.000,9,-999.0000,9,  -999.0,9,  -999.0,9,-999.0000,9,  -999.00,-999.000,9,-999.000,9,-999.000,9,   9.2478,2,-999.000,9, -999.00,9, -999.00,-999.000,9,-999.000, -999.00,9, -999.00,9, -32.9950,  38.6810,-999.000,-999.000,20090330,       0949
33RR20090320,        I05,      29,          1,         21,         21,2,20090330,       0814,   -32.9973,    38.6804,       5059,   901.4,   7.8859,  34.5836,2,  34.5842,2,    200.9,2,   200.6,2,   15.96,2,   23.40,2,    0.00,2,    1.65,2,-999.000,9,-999.000,9,-999.0000,9,  -999.0,9,  -999.0,9,-999.0000,9,  -999.00,-999.000,9,-999.000,9,-999.000,9,   7.8891,2,-999.000,9, -999.00,9, -999.00,-999.000,9,-999.000, -999.00,9, -999.00,9, -32.9951,  38.6810,-999.000,-999.000,20090330,       0947
33RR20090320,        I05,      29,          1,         20,         20,2,20090330,       0814,   -32.9973,    38.6804,       5059,   999.2,   6.5396,  34.4801,2,  34.4811,2,    195.0,2,   197.3,2,   23.01,2,   26.83,2,    0.00,2,    1.89,2,-999.000,9,-999.000,9,-999.0000,9,  -999.0,9,  -999.0,9,-999.0000,9,  -999.00,-999.000,9,-999.000,9,-999.000,9,   6.5343,2,-999.000,9, -999.00,9, -999.00,-999.000,9,-999.000, -999.00,9, -999.00,9, -32.9951,  38.6809,-999.000,-999.000,20090330,       0943
33RR20090320,        I05,      29,          1,         19,         19,2,20090330,       0814,   -32.9973,    38.6804,       5059,  1099.5,   5.6391,  34.4737,2,  34.4730,2,    188.1,2,   183.5,2,   34.42,2,   29.65,2,    0.00,2,    2.11,2,-999.000,9,-999.000,9,-999.0000,9,  -999.0,9,  -999.0,9,-999.0000,9,  -999.00,-999.000,9,-999.000,9,-999.000,9,   5.6410,2,-999.000,9, -999.00,9, -999.00,-999.000,9,-999.000, -999.00,9, -999.00,9, -32.9951,  38.6809,-999.000,-999.000,20090330,       0940
33RR20090320,        I05,      29,          1,         18,         18,2,20090330,       0814,   -32.9973,    38.6804,       5059,  1196.8,   5.0907,  34.5186,2,  34.5182,2,    166.7,2,   164.8,2,   47.65,2,   31.88,2,    0.00,2,    2.29,2,-999.000,9,-999.000,9,-999.0000,9,  -999.0,9,  -999.0,9,-999.0000,9,  -999.00,-999.000,9,-999.000,9,-999.000,9,   5.0863,2,-999.000,9, -999.00,9, -999.00,-999.000,9,-999.000, -999.00,9, -999.00,9, -32.9952,  38.6808,-999.000,-999.000,20090330,       0938
33RR20090320,        I05,      29,          1,         17,         17,2,20090330,       0814,   -32.9973,    38.6804,       5059,  1294.7,   4.3886,  34.4892,2,  34.4891,2,    158.0,2,   172.7,2,   50.41,2,   32.48,2,    0.00,2,    2.33,2,-999.000,9,-999.000,9,-999.0000,9,  -999.0,9,  -999.0,9,-999.0000,9,  -999.00,-999.000,9,-999.000,9,-999.000,9,   4.3802,2,-999.000,9, -999.00,9, -999.00,-999.000,9,-999.000, -999.00,9, -999.00,9, -32.9952,  38.6807,-999.000,-999.000,20090330,       0935
33RR20090320,        I05,      29,          1,         16,         16,2,20090330,       0814,   -32.9973,    38.6804,       5059,  1394.0,   4.1691,  34.5393,2,  34.5382,2,    162.3,2,   162.4,2,   58.73,2,   33.32,2,    0.00,2,    2.41,2,-999.000,9,-999.000,9,-999.0000,9,  2237.6,2,  2327.5,2,   7.6512,2,    20.00,-999.000,9,-999.000,9,-999.000,9,   4.1712,2,-999.000,9, -999.00,9, -999.00,-999.000,9,-999.000, -999.00,9, -999.00,9, -32.9952,  38.6807,-999.000,-999.000,20090330,       0932
33RR20090320,        I05,      29,          1,         15,         15,2,20090330,       0814,   -32.9973,    38.6804,       5059,  1592.3,   3.4009,  34.6105,2,  34.6101,2,    162.9,2,   162.0,2,   70.46,2,   33.54,2,    0.00,2,    2.42,2,-999.000,9,-999.000,9,-999.0000,9,  -999.0,9,  -999.0,9,-999.0000,9,  -999.00,-999.000,9,-999.000,9,-999.000,9,   3.3991,2,-999.000,9, -999.00,9, -999.00,-999.000,9,-999.000, -999.00,9, -999.00,9, -32.9952,  38.6806,-999.000,-999.000,20090330,       0928
33RR20090320,        I05,      29,          1,         14,         14,2,20090330,       0814,   -32.9973,    38.6804,       5059,  1793.8,   3.0294,  34.6719,2,  34.6708,2,    167.6,2,   167.5,2,   75.44,2,   32.70,2,    0.00,2,    2.36,2,-999.000,9,-999.000,9,-999.0000,9,  -999.0,9,  -999.0,9,-999.0000,9,  -999.00,-999.000,9,-999.000,9,-999.000,9,   3.0274,2,-999.000,9, -999.00,9, -999.00,-999.000,9,-999.000, -999.00,9, -999.00,9, -32.9951,  38.6806,-999.000,-999.000,20090330,       0923
33RR20090320,        I05,      29,          1,         13,         13,2,20090330,       0814,   -32.9973,    38.6804,       5059,  1998.5,   2.8772,  34.7241,2,  34.7238,2,    171.6,2,   169.1,2,   80.82,2,   32.09,2,    0.00,2,    2.31,2,-999.000,9,-999.000,9,-999.0000,9,  -999.0,9,  -999.0,9,-999.0000,9,  -999.00,-999.000,9,-999.000,9,-999.000,9,   2.8760,2,-999.000,9, -999.00,9, -999.00,-999.000,9,-999.000, -999.00,9, -999.00,9, -32.9951,  38.6808,-999.000,-999.000,20090330,       0919
33RR20090320,        I05,      29,          1,         12,         12,2,20090330,       0814,   -32.9973,    38.6804,       5059,  2251.0,   2.6201,  34.7546,2,  34.7543,2,    186.6,2,   186.7,2,   75.01,2,   30.20,2,    0.00,2,    2.16,2,-999.000,9,-999.000,9,-999.0000,9,  -999.0,9,  -999.0,9,-999.0000,9,  -999.00,-999.000,9,-999.000,9,-999.000,9,   2.6198,2,-999.000,9, -999.00,9, -999.00,-999.000,9,-999.000, -999.00,9, -999.00,9, -32.9952,  38.6809,-999.000,-999.000,20090330,       0914
33RR20090320,        I05,      29,          1,         11,         11,2,20090330,       0814,   -32.9973,    38.6804,       5059,  2498.5,   2.4648,  34.7814,2,  34.7792,2,    197.2,2,   196.7,2,   73.39,2,   29.03,2,    0.00,2,    2.07,2,-999.000,9,-999.000,9,-999.0000,9,  -999.0,9,  -999.0,9,-999.0000,9,  -999.00,-999.000,9,-999.000,9,-999.000,9,   2.4646,2,-999.000,9, -999.00,9, -999.00,-999.000,9,-999.000, -999.00,9, -999.00,9, -32.9954,  38.6807,-999.000,-999.000,20090330,       0909
33RR20090320,        I05,      29,          1,         10,         10,2,20090330,       0814,   -32.9973,    38.6804,       5059,  2749.6,   2.3466,  34.7981,2,  34.7975,2,    206.1,2,   206.4,2,   70.78,2,   28.03,2,    0.00,2,    1.98,2,-999.000,9,-999.000,9,-999.0000,9,  -999.0,9,  -999.0,9,-999.0000,9,  -999.00,-999.000,9,-999.000,9,-999.000,9,   2.3463,2,-999.000,9, -999.00,9, -999.00,-999.000,9,-999.000, -999.00,9, -999.00,9, -32.9957,  38.6807,-999.000,-999.000,20090330,       0903
33RR20090320,        I05,      29,          1,          9,          9,2,20090330,       0814,   -32.9973,    38.6804,       5059,  2999.8,   2.2220,  34.8030,2,  34.8030,2,    211.1,2,   211.2,2,   71.56,2,   27.70,2,    0.00,2,    1.95,2,-999.000,9,-999.000,9,-999.0000,9,  -999.0,9,  -999.0,9,-999.0000,9,  -999.00,-999.000,9,-999.000,9,-999.000,9,   2.2220,2,-999.000,9, -999.00,9, -999.00,-999.000,9,-999.000, -999.00,9, -999.00,9, -32.9960,  38.6807,-999.000,-999.000,20090330,       0858
33RR20090320,        I05,      29,          1,          8,          8,2,20090330,       0814,   -32.9973,    38.6804,       5059,  3302.8,   1.9894,  34.7954,2,  34.7950,2,    213.9,2,   214.3,2,   77.13,2,   27.99,2,    0.00,2,    1.97,2,-999.000,9,-999.000,9,-999.0000,9,  -999.0,9,  -999.0,9,-999.0000,9,  -999.00,-999.000,9,-999.000,9,-999.000,9,   1.9893,2,-999.000,9, -999.00,9, -999.00,-999.000,9,-999.000, -999.00,9, -999.00,9, -32.9962,  38.6807,-999.000,-999.000,20090330,       0852
33RR20090320,        I05,      29,          1,          7,          7,2,20090330,       0814,   -32.9973,    38.6804,       5059,  3609.5,   1.6261,  34.7723,2,  34.7717,2,    215.0,2,   215.3,2,   88.73,2,   29.03,2,    0.00,2,    2.05,2,-999.000,9,-999.000,9,-999.0000,9,  -999.0,9,  -999.0,9,-999.0000,9,  -999.00,-999.000,9,-999.000,9,-999.000,9,   1.6265,2,-999.000,9, -999.00,9, -999.00,-999.000,9,-999.000, -999.00,9, -999.00,9, -32.9962,  38.6808,-999.000,-999.000,20090330,       0846
33RR20090320,        I05,      29,          1,          6,          6,2,20090330,       0814,   -32.9973,    38.6804,       5059,  3913.6,   1.2788,  34.7483,2,  34.7475,2,    216.0,2,   216.1,2,   99.55,2,   30.03,2,    0.00,2,    2.13,2,-999.000,9,-999.000,9,-999.0000,9,  -999.0,9,  -999.0,9,-999.0000,9,  -999.00,-999.000,9,-999.000,9,-999.000,9,   1.2790,2,-999.000,9, -999.00,9, -999.00,-999.000,9,-999.000, -999.00,9, -999.00,9, -32.9962,  38.6806,-999.000,-999.000,20090330,       0840
33RR20090320,        I05,      29,          1,          5,          5,2,20090330,       0814,   -32.9973,    38.6804,       5059,  4215.6,   0.9438,  34.7238,2,  34.7227,2,    216.9,2,   217.5,2,  110.39,2,   30.97,2,    0.00,2,    2.21,2,-999.000,9,-999.000,9,-999.0000,9,  -999.0,9,  -999.0,9,-999.0000,9,  -999.00,-999.000,9,-999.000,9,-999.000,9,   0.9438,2,-999.000,9, -999.00,9, -999.00,-999.000,9,-999.000, -999.00,9, -999.00,9, -32.9962,  38.6804,-999.000,-999.000,20090330,       0834
33RR20090320,        I05,      29,          1,          4,          4,2,20090330,       0814,   -32.9973,    38.6804,       5059,  4521.7,   0.7559,  34.7084,2,  34.7074,2,    217.8,2,   218.3,2,  117.03,2,   31.58,2,    0.00,2,    2.25,2,-999.000,9,-999.000,9,-999.0000,9,  -999.0,9,  -999.0,9,-999.0000,9,  -999.00,-999.000,9,-999.000,9,-999.000,9,   0.7557,2,-999.000,9, -999.00,9, -999.00,-999.000,9,-999.000, -999.00,9, -999.00,9, -32.9966,  38.6804,-999.000,-999.000,20090330,       0828
33RR20090320,        I05,      29,          1,          3,          3,2,20090330,       0814,   -32.9973,    38.6804,       5059,  4826.0,   0.6597,  34.6991,2,  34.6989,2,    218.8,2,   218.9,2,  120.85,2,   31.97,2,    0.00,2,    2.28,2,-999.000,9,-999.000,9,-999.0000,9,  -999.0,9,  -999.0,9,-999.0000,9,  -999.00,-999.000,9,-999.000,9,-999.000,9,   0.6600,2,-999.000,9, -999.00,9, -999.00,-999.000,9,-999.000, -999.00,9, -999.00,9, -32.9969,  38.6804,-999.000,-999.000,20090330,       0822
33RR20090320,        I05,      29,          1,          2,          2,2,20090330,       0814,   -32.9973,    38.6804,       5059,  4979.1,   0.6495,  34.6968,2,  34.6964,2,    219.7,2,   219.5,2,  121.64,2,   32.03,2,    0.00,2,    2.28,2,-999.000,9,-999.000,9,-999.0000,9,  -999.0,9,  -999.0,9,-999.0000,9,  -999.00,-999.000,9,-999.000,9,-999.000,9,   0.6493,2,-999.000,9, -999.00,9, -999.00,-999.000,9,-999.000, -999.00,9, -999.00,9, -32.9971,  38.6804,-999.000,-999.000,20090330,       0818
33RR20090320,        I05,      29,          1,          1,          1,2,20090330,       0814,   -32.9973,    38.6804,       5059,  5137.4,   0.6134,  34.6928,2,  34.6926,2,    219.8,2,   219.6,2,  123.24,2,   32.19,2,    0.00,2,    2.30,2,-999.000,9,-999.000,9,-999.0000,9,  2261.7,6,  2365.0,2,   7.6894,2,    20.00,-999.000,9,-999.000,9,-999.000,9,   0.6134,2,-999.000,9, -999.00,9, -999.00,-999.000,9,-999.000, -999.00,9, -999.00,9, -32.9973,  38.6804,-999.000,-999.000,20090330,       0814