BOTTLE,20220814CCHSIOAMB
EXPOCODE,SECT_ID,STNNBR,CASTNO,SAMPNO,BTLNBR,BTLNBR_FLAG_W,DATE,TIME,LATITUDE,LONGITUDE,DEPTH,CTDPRS,CTDTMP,CTDSAL,CTDSAL_FLAG_W,SALNTY,SALNTY_FLAG_W,CTDOXY,CTDOXY_FLAG_W,OXYGEN,OXYGEN_FLAG_W,SILCAT,SILCAT_FLAG_W,NITRAT,NITRAT_FLAG_W,NITRIT,NITRIT_FLAG_W,PHSPHT,PHSPHT_FLAG_W,CFC-11,CFC-11_FLAG_W,CFC-12,CFC-12_FLAG_W,SF6,SF6_FLAG_W,TCARBN,TCARBN_FLAG_W,ALKALI,ALKALI_FLAG_W,PH_TOT,PH_TOT_FLAG_W,PH_TMP,TRITUM,TRITUM_FLAG_W,HELIUM,HELIUM_FLAG_W,DELHE3,DELHE3_FLAG_W,REFTMP,REFTMP_FLAG_W,DELC13,DELC13_FLAG_W,DELC14,DELC14_FLAG_W,C14ERR,NEON,NEON_FLAG_W,NEONER,DOC,DOC_FLAG_W,TDN,TDN_FLAG_W,BTL_LAT,BTL_LON,HELIER,DELHER,BTL_DATE,BTL_TIME
,,,,,,,,,,,METERS,DBAR,ITS-90,PSS-78,,PSS-78,,UMOL/KG,,UMOL/KG,,UMOL/KG,,UMOL/KG,,UMOL/KG,,UMOL/KG,,PMOL/KG,,PMOL/KG,,FMOL/KG,,UMOL/KG,,UMOL/KG,,,,DEG C,TU,,NMOL/KG,,PERCNT,,DEG C,,/MILLE,,/MILLE,,/MILLE,NMOL/KG,,NMOL/KG,UMOL/KG,,UMOL/KG,,,,NMOL/KG,PERCNT,,
33RR20090320,        I05,     172,          1,         36,         36,2,20090506,       1900,   -31.0552,   105.1914,       2956,     6.1,  19.4539,  35.9387,2,  35.9390,2,    227.4,2,   229.5,2,    1.07,2,    0.02,2,    0.00,2,    0.10,2,-999.000,9,-999.000,9,-999.0000,9,  2066.9,6,  2357.5,2,   8.0982,2,    20.00,-999.000,9,-999.000,9,-999.000,9,  19.4525,2,-999.000,9, -999.00,9, -999.00,-999.000,9,-999.000, -999.00,9, -999.00,9, -31.0553, 105.1912,-999.000,-999.000,20090506,       2032
33RR20090320,        I05,     172,          1,         35,         35,2,20090506,       1900,   -31.0552,   105.1914,       2956,    26.1,  19.4422,  35.9492,2,  35.9489,2,    230.3,2,   229.0,2,    1.00,2,    0.02,2,    0.00,2,    0.09,2,-999.000,9,-999.000,9,-999.0000,9,  2067.5,2,  2358.0,2,   8.0977,2,    20.00,-999.000,9,-999.000,9,-999.000,9,  19.4406,2,-999.000,9, -999.00,9, -999.00,-999.000,9,-999.000, -999.00,9, -999.00,9, -31.0552, 105.1912,-999.000,-999.000,20090506,       2030
33RR20090320,        I05,     172,          1,         34,         34,2,20090506,       1900,   -31.0552,   105.1914,       2956,    45.5,  19.4254,  35.9488,2,  35.9489,2,    230.0,2,   229.2,2,    0.92,2,    0.02,2,    0.00,2,    0.09,2,-999.000,9,-999.000,9,-999.0000,9,  -999.0,9,  -999.0,9,-999.0000,9,  -999.00,-999.000,9,-999.000,9,-999.000,9,  19.4245,2,-999.000,9, -999.00,9, -999.00,-999.000,9,-999.000, -999.00,9, -999.00,9, -31.0552, 105.1912,-999.000,-999.000,20090506,       2028
33RR20090320,        I05,     172,          1,         33,         33,2,20090506,       1900,   -31.0552,   105.1914,       2956,    70.4,  19.1252,  35.9406,2,  35.9406,2,    229.2,2,   230.8,2,    0.65,2,    0.02,2,    0.00,2,    0.10,2,-999.000,9,-999.000,9,-999.0000,9,  2072.7,2,  2356.6,2,   8.0914,2,    20.00,-999.000,9,-999.000,9,-999.000,9,  19.1240,2,-999.000,9, -999.00,9, -999.00,-999.000,9,-999.000, -999.00,9, -999.00,9, -31.0552, 105.1912,-999.000,-999.000,20090506,       2026
33RR20090320,        I05,     172,          1,         32,         32,2,20090506,       1900,   -31.0552,   105.1914,       2956,    95.9,  16.8909,  35.7048,2,  35.7068,2,    240.1,2,   237.4,2,    0.58,2,    0.20,2,    0.04,2,    0.16,2,-999.000,9,-999.000,9,-999.0000,9,  -999.0,9,  -999.0,9,-999.0000,9,  -999.00,-999.000,9,-999.000,9,-999.000,9,  16.9190,2,-999.000,9, -999.00,9, -999.00,-999.000,9,-999.000, -999.00,9, -999.00,9, -31.0552, 105.1912,-999.000,-999.000,20090506,       2024
33RR20090320,        I05,     172,          1,         31,         31,2,20090506,       1900,   -31.0552,   105.1914,       2956,   120.3,  15.4335,  35.5753,2,  35.5686,2,    235.6,2,   235.4,2,    0.50,2,    1.87,2,    0.01,2,    0.26,2,-999.000,9,-999.000,9,-999.0000,9,  2090.5,2,  2336.7,2,   8.0242,2,    20.00,-999.000,9,-999.000,9,-999.000,9,  15.4242,2,-999.000,9, -999.00,9, -999.00,-999.000,9,-999.000, -999.00,9, -999.00,9, -31.0551, 105.1912,-999.000,-999.000,20090506,       2023
33RR20090320,        I05,     172,          1,         30,         30,2,20090506,       1900,   -31.0552,   105.1914,       2956,   145.6,  14.6998,  35.4894,2,  35.4925,2,    234.3,2,   233.3,2,    0.42,2,    3.15,2,    0.01,2,    0.34,2,-999.000,9,-999.000,9,-999.0000,9,  -999.0,9,  -999.0,9,-999.0000,9,  -999.00,-999.000,9,-999.000,9,-999.000,9,  14.7042,2,-999.000,9, -999.00,9, -999.00,-999.000,9,-999.000, -999.00,9, -999.00,9, -31.0551, 105.1912,-999.000,-999.000,20090506,       2021
33RR20090320,        I05,     172,          1,         29,         29,2,20090506,       1900,   -31.0552,   105.1914,       2956,   160.0,  14.3106,  35.4390,2,  35.4391,2,    233.5,2,   233.7,2,    0.53,2,    3.95,2,    0.01,2,    0.39,2,-999.000,9,-999.000,9,-999.0000,9,  -999.0,9,  -999.0,9,-999.0000,9,  -999.00,-999.000,9,-999.000,9,-999.000,9,  14.3084,2,-999.000,9, -999.00,9, -999.00,-999.000,9,-999.000, -999.00,9, -999.00,9, -31.0551, 105.1912,-999.000,-999.000,20090506,       2020
33RR20090320,        I05,     172,          1,         28,         28,2,20090506,       1900,   -31.0552,   105.1914,       2956,   195.8,  13.3906,  35.2883,2,  35.2921,2,    236.1,2,   236.1,2,    0.45,2,    5.45,2,    0.00,2,    0.49,2,-999.000,9,-999.000,9,-999.0000,9,  -999.0,9,  -999.0,9,-999.0000,9,  -999.00,-999.000,9,-999.000,9,-999.000,9,  13.4078,2,-999.000,9, -999.00,9, -999.00,-999.000,9,-999.000, -999.00,9, -999.00,9, -31.0551, 105.1912,-999.000,-999.000,20090506,       2019
33RR20090320,        I05,     172,          1,         27,         27,2,20090506,       1900,   -31.0552,   105.1914,       2956,   220.2,  12.7999,  35.1929,2,  35.1963,2,    237.6,2,   237.7,2,    0.56,2,    6.73,2,    0.00,2,    0.57,2,-999.000,9,-999.000,9,-999.0000,9,  -999.0,9,  -999.0,9,-999.0000,9,  -999.00,-999.000,9,-999.000,9,-999.000,9,  12.7976,2,-999.000,9, -999.00,9, -999.00,-999.000,9,-999.000, -999.00,9, -999.00,9, -31.0551, 105.1913,-999.000,-999.000,20090506,       2017
33RR20090320,        I05,     172,          1,         26,         26,2,20090506,       1900,   -31.0552,   105.1914,       2956,   244.5,  12.0487,  35.0756,2,  35.0761,2,    240.3,2,   241.5,2,    0.86,2,    8.22,2,    0.00,2,    0.65,2,-999.000,9,-999.000,9,-999.0000,9,  -999.0,9,  -999.0,9,-999.0000,9,  -999.00,-999.000,9,-999.000,9,-999.000,9,  12.0258,2,-999.000,9, -999.00,9, -999.00,-999.000,9,-999.000, -999.00,9, -999.00,9, -31.0550, 105.1913,-999.000,-999.000,20090506,       2015
33RR20090320,        I05,     172,          1,         25,         25,2,20090506,       1900,   -31.0552,   105.1914,       2956,   290.5,  10.9539,  34.9011,2,  34.8974,2,    242.6,2,   242.9,2,    1.52,2,   10.99,2,    0.00,2,    0.83,2,-999.000,9,-999.000,9,-999.0000,9,  2119.3,2,  2303.1,2,   7.9012,2,    20.00,-999.000,9,-999.000,9,-999.000,9,  10.9535,2,-999.000,9, -999.00,9, -999.00,-999.000,9,-999.000, -999.00,9, -999.00,9, -31.0550, 105.1913,-999.000,-999.000,20090506,       2013
33RR20090320,        I05,     172,          1,         24,         24,2,20090506,       1900,   -31.0552,   105.1914,       2956,   339.6,  10.1331,  34.7785,2,  34.7796,2,    243.1,2,   243.2,2,    2.01,2,   13.34,2,    0.00,2,    0.97,2,-999.000,9,-999.000,9,-999.0000,9,  -999.0,9,  -999.0,9,-999.0000,9,  -999.00,-999.000,9,-999.000,9,-999.000,9,  10.1326,2,-999.000,9, -999.00,9, -999.00,-999.000,9,-999.000, -999.00,9, -999.00,9, -31.0550, 105.1914,-999.000,-999.000,20090506,       2012
33RR20090320,        I05,     172,          1,         23,         23,2,20090506,       1900,   -31.0552,   105.1914,       2956,   390.2,   9.7320,  34.7347,2,  34.7346,2,    241.1,2,   241.2,2,    2.69,2,   14.78,2,    0.00,2,    1.06,2,-999.000,9,-999.000,9,-999.0000,9,  -999.0,9,  -999.0,9,-999.0000,9,  -999.00,-999.000,9,-999.000,9,-999.000,9,   9.7279,2,-999.000,9, -999.00,9, -999.00,-999.000,9,-999.000, -999.00,9, -999.00,9, -31.0549, 105.1913,-999.000,-999.000,20090506,       2010
33RR20090320,        I05,     172,          1,         22,         22,2,20090506,       1900,   -31.0552,   105.1914,       2956,   440.1,   9.3235,  34.6863,2,  34.6851,2,    239.5,2,   240.2,2,    3.36,2,   16.17,2,    0.00,2,    1.14,2,-999.000,9,-999.000,9,-999.0000,9,  -999.0,9,  -999.0,9,-999.0000,9,  -999.00,-999.000,9,-999.000,9,-999.000,9,   9.3225,2,-999.000,9, -999.00,9, -999.00,-999.000,9,-999.000, -999.00,9, -999.00,9, -31.0550, 105.1913,-999.000,-999.000,20090506,       2008
33RR20090320,        I05,     172,          1,         21,         21,2,20090506,       1900,   -31.0552,   105.1914,       2956,   489.8,   9.0279,  34.6471,2,  34.6478,2,    239.4,2,   239.9,2,    3.65,2,   16.97,2,    0.00,2,    1.19,2,-999.000,9,-999.000,9,-999.0000,9,  2132.4,2,  2289.6,2,   7.8421,2,    20.00,-999.000,9,-999.000,9,-999.000,9,   9.0269,2,-999.000,9, -999.00,9, -999.00,-999.000,9,-999.000, -999.00,9, -999.00,9, -31.0550, 105.1912,-999.000,-999.000,20090506,       2005
33RR20090320,        I05,     172,          1,         20,         20,2,20090506,       1900,   -31.0552,   105.1914,       2956,   570.4,   8.5259,  34.5833,2,  34.5842,2,    234.4,2,   233.2,2,    6.58,2,   18.94,2,    0.00,2,    1.32,2,-999.000,9,-999.000,9,-999.0000,9,  -999.0,9,  -999.0,9,-999.0000,9,  -999.00,-999.000,9,-999.000,9,-999.000,9,   8.5261,2,-999.000,9, -999.00,9, -999.00,-999.000,9,-999.000, -999.00,9, -999.00,9, -31.0550, 105.1913,-999.000,-999.000,20090506,       2003
33RR20090320,        I05,     172,          1,         19,         19,2,20090506,       1900,   -31.0552,   105.1914,       2956,   670.1,   7.5522,  34.4969,2,  34.4976,2,    211.5,2,   210.9,2,   11.00,2,   23.22,2,    0.00,2,    1.61,2,-999.000,9,-999.000,9,-999.0000,9,  -999.0,9,  -999.0,9,-999.0000,9,  -999.00,-999.000,9,-999.000,9,-999.000,9,   7.5517,2,-999.000,9, -999.00,9, -999.00,-999.000,9,-999.000, -999.00,9, -999.00,9, -31.0550, 105.1913,-999.000,-999.000,20090506,       2000
33RR20090320,        I05,     172,          1,         18,         18,2,20090506,       1900,   -31.0552,   105.1914,       2956,   770.5,   5.9017,  34.4061,2,  34.4069,2,    196.9,2,   197.5,2,   21.28,2,   27.91,2,    0.00,2,    1.94,2,-999.000,9,-999.000,9,-999.0000,9,  -999.0,9,  -999.0,9,-999.0000,9,  -999.00,-999.000,9,-999.000,9,-999.000,9,   5.9027,2,-999.000,9, -999.00,9, -999.00,-999.000,9,-999.000, -999.00,9, -999.00,9, -31.0548, 105.1913,-999.000,-999.000,20090506,       1957
33RR20090320,        I05,     172,          1,         17,         17,2,20090506,       1900,   -31.0552,   105.1914,       2956,   870.0,   4.7156,  34.3876,2,  34.3887,2,    189.1,2,   189.9,2,   34.26,2,   30.93,2,    0.00,2,    2.18,2,-999.000,9,-999.000,9,-999.0000,9,  -999.0,9,  -999.0,9,-999.0000,9,  -999.00,-999.000,9,-999.000,9,-999.000,9,   4.7211,2,-999.000,9, -999.00,9, -999.00,-999.000,9,-999.000, -999.00,9, -999.00,9, -31.0548, 105.1913,-999.000,-999.000,20090506,       1954
33RR20090320,        I05,     172,          1,         16,         16,2,20090506,       1900,   -31.0552,   105.1914,       2956,   970.5,   4.0211,  34.4056,2,  34.4061,2,    180.7,2,   182.7,2,   44.62,2,   32.44,2,    0.00,2,    2.30,2,-999.000,9,-999.000,9,-999.0000,9,  -999.0,9,  -999.0,9,-999.0000,9,  -999.00,-999.000,9,-999.000,9,-999.000,9,   4.0214,2,-999.000,9, -999.00,9, -999.00,-999.000,9,-999.000, -999.00,9, -999.00,9, -31.0548, 105.1913,-999.000,-999.000,20090506,       1952
33RR20090320,        I05,     172,          1,         15,         15,2,20090506,       1900,   -31.0552,   105.1914,       2956,  1070.2,   3.7178,  34.4633,2,  34.4623,2,    164.9,2,   165.8,2,   57.50,2,   33.85,2,    0.00,2,    2.41,2,-999.000,9,-999.000,9,-999.0000,9,  2239.2,2,  2325.3,2,   7.6373,2,    20.00,-999.000,9,-999.000,9,-999.000,9,   3.7225,2,-999.000,9, -999.00,9, -999.00,-999.000,9,-999.000, -999.00,9, -999.00,9, -31.0548, 105.1913,-999.000,-999.000,20090506,       1949
33RR20090320,        I05,     172,          1,         14,         14,2,20090506,       1900,   -31.0552,   105.1914,       2956,  1171.4,   3.3937,  34.5038,2,  34.5069,2,    160.2,2,   159.0,2,   65.83,2,   34.39,2,    0.00,2,    2.46,2,-999.000,9,-999.000,9,-999.0000,9,  -999.0,9,  -999.0,9,-999.0000,9,  -999.00,-999.000,9,-999.000,9,-999.000,9,   3.3928,2,-999.000,9, -999.00,9, -999.00,-999.000,9,-999.000, -999.00,9, -999.00,9, -31.0548, 105.1913,-999.000,-999.000,20090506,       1946
33RR20090320,        I05,     172,          1,         13,         13,2,20090506,       1900,   -31.0552,   105.1914,       2956,  1272.2,   3.2335,  34.5426,2,  34.5427,2,    155.6,2,   154.8,2,   71.49,2,   34.56,2,    0.00,2,    2.48,2,-999.000,9,-999.000,9,-999.0000,9,  -999.0,9,  -999.0,9,-999.0000,9,  -999.00,-999.000,9,-999.000,9,-999.000,9,   3.2332,2,-999.000,9, -999.00,9, -999.00,-999.000,9,-999.000, -999.00,9, -999.00,9, -31.0547, 105.1913,-999.000,-999.000,20090506,       1943
33RR20090320,        I05,     172,          1,         12,         12,2,20090506,       1900,   -31.0552,   105.1914,       2956,  1372.7,   3.0763,  34.5764,2,  34.5769,2,    154.7,2,   153.5,2,   76.19,2,   34.56,2,    0.00,2,    2.48,2,-999.000,9,-999.000,9,-999.0000,9,  -999.0,9,  -999.0,9,-999.0000,9,  -999.00,-999.000,9,-999.000,9,-999.000,9,   3.0704,2,-999.000,9, -999.00,9, -999.00,-999.000,9,-999.000, -999.00,9, -999.00,9, -31.0547, 105.1913,-999.000,-999.000,20090506,       1940
33RR20090320,        I05,     172,          1,         11,         11,2,20090506,       1900,   -31.0552,   105.1914,       2956,  1472.8,   2.8795,  34.6089,2,  34.6103,2,    154.6,2,   155.5,2,   79.94,2,   34.33,2,    0.00,2,    2.46,2,-999.000,9,-999.000,9,-999.0000,9,  -999.0,9,  -999.0,9,-999.0000,9,  -999.00,-999.000,9,-999.000,9,-999.000,9,   2.8778,2,-999.000,9, -999.00,9, -999.00,-999.000,9,-999.000, -999.00,9, -999.00,9, -31.0547, 105.1912,-999.000,-999.000,20090506,       1938
33RR20090320,        I05,     172,          1,         10,         10,2,20090506,       1900,   -31.0552,   105.1914,       2956,  1572.6,   2.7759,  34.6442,2,  34.6421,2,    154.7,2,   155.5,2,   84.45,2,   34.12,2,    0.00,2,    2.45,2,-999.000,9,-999.000,9,-999.0000,9,  2268.6,2,  2354.0,2,   7.6320,2,    20.00,-999.000,9,-999.000,9,-999.000,9,   2.7756,2,-999.000,9, -999.00,9, -999.00,-999.000,9,-999.000, -999.00,9, -999.00,9, -31.0547, 105.1912,-999.000,-999.000,20090506,       1935
33RR20090320,        I05,     172,          1,          9,          9,2,20090506,       1900,   -31.0552,   105.1914,       2956,  1674.3,   2.7025,  34.6672,2,  34.6681,2,    154.6,2,   154.3,2,   90.33,2,   34.06,2,    0.00,2,    2.44,2,-999.000,9,-999.000,9,-999.0000,9,  -999.0,9,  -999.0,9,-999.0000,9,  -999.00,-999.000,9,-999.000,9,-999.000,9,   2.7025,2,-999.000,9, -999.00,9, -999.00,-999.000,9,-999.000, -999.00,9, -999.00,9, -31.0547, 105.1912,-999.000,-999.000,20090506,       1932
33RR20090320,        I05,     172,          1,          8,          8,2,20090506,       1900,   -31.0552,   105.1914,       2956,  1773.8,   2.5737,  34.6884,2,  34.6897,2,    156.5,2,   156.2,2,   94.46,2,   33.84,2,    0.00,2,    2.43,2,-999.000,9,-999.000,9,-999.0000,9,  -999.0,9,  -999.0,9,-999.0000,9,  -999.00,-999.000,9,-999.000,9,-999.000,9,   2.5731,2,-999.000,9, -999.00,9, -999.00,-999.000,9,-999.000, -999.00,9, -999.00,9, -31.0547, 105.1911,-999.000,-999.000,20090506,       1929
33RR20090320,        I05,     172,          1,          7,          7,2,20090506,       1900,   -31.0552,   105.1914,       2956,  1944.9,   2.3873,  34.7072,2,  34.7080,2,    159.6,2,   159.9,2,  101.32,2,   33.52,2,    0.00,2,    2.41,2,-999.000,9,-999.000,9,-999.0000,9,  2281.6,2,  2370.4,2,   7.6469,2,    20.00,-999.000,9,-999.000,9,-999.000,9,   2.3865,2,-999.000,9, -999.00,9, -999.00,-999.000,9,-999.000, -999.00,9, -999.00,9, -31.0548, 105.1912,-999.000,-999.000,20090506,       1925
33RR20090320,        I05,     172,          1,          6,          6,2,20090506,       1900,   -31.0552,   105.1914,       2956,  2145.7,   2.1958,  34.7199,2,  34.7208,2,    163.6,2,   164.1,2,  106.04,2,   33.35,2,    0.00,2,    2.39,2,-999.000,9,-999.000,9,-999.0000,9,  -999.0,9,  -999.0,9,-999.0000,9,  -999.00,-999.000,9,-999.000,9,-999.000,9,   2.1969,2,-999.000,9, -999.00,9, -999.00,-999.000,9,-999.000, -999.00,9, -999.00,9, -31.0548, 105.1911,-999.000,-999.000,20090506,       1921
33RR20090320,        I05,     172,          1,          5,          5,2,20090506,       1900,   -31.0552,   105.1914,       2956,  2348.3,   2.0286,  34.7259,2,  34.7269,2,    168.2,2,   169.0,2,  109.61,2,   33.14,2,    0.00,2,    2.36,2,-999.000,9,-999.000,9,-999.0000,9,  2283.5,2,  2379.1,2,   7.6596,2,    20.00,-999.000,9,-999.000,9,-999.000,9,   2.0285,2,-999.000,9, -999.00,9, -999.00,-999.000,9,-999.000, -999.00,9, -999.00,9, -31.0550, 105.1911,-999.000,-999.000,20090506,       1916
33RR20090320,        I05,     172,          1,          4,          4,2,20090506,       1900,   -31.0552,   105.1914,       2956,  2551.2,   1.9029,  34.7283,2,  34.7289,2,    172.1,2,   173.7,2,  110.28,2,   32.86,2,    0.00,2,    2.33,2,-999.000,9,-999.000,9,-999.0000,9,  -999.0,9,  -999.0,9,-999.0000,9,  -999.00,-999.000,9,-999.000,9,-999.000,9,   1.9025,2,-999.000,9, -999.00,9, -999.00,-999.000,9,-999.000, -999.00,9, -999.00,9, -31.0550, 105.1913,-999.000,-999.000,20090506,       1911
33RR20090320,        I05,     172,          1,          3,          3,2,20090506,       1900,   -31.0552,   105.1914,       2956,  2753.3,   1.7677,  34.7289,2,  34.7303,2,    178.1,2,   178.3,2,  112.88,2,   32.70,2,    0.00,2,    2.33,2,-999.000,9,-999.000,9,-999.0000,9,  2281.9,2,  2380.2,2,   7.6698,2,    20.00,-999.000,9,-999.000,9,-999.000,9,   1.7676,2,-999.000,9, -999.00,9, -999.00,-999.000,9,-999.000, -999.00,9, -999.00,9, -31.0552, 105.1913,-999.000,-999.000,20090506,       1907
33RR20090320,        I05,     172,          1,          2,          2,2,20090506,       1900,   -31.0552,   105.1914,       2956,  2869.0,   1.6762,  34.7300,2,  34.7301,2,    182.7,2,   183.2,2,  112.58,2,   32.38,2,    0.00,2,    2.30,2,-999.000,9,-999.000,9,-999.0000,9,  -999.0,9,  -999.0,9,-999.0000,9,  -999.00,-999.000,9,-999.000,9,-999.000,9,   1.6757,2,-999.000,9, -999.00,9, -999.00,-999.000,9,-999.000, -999.00,9, -999.00,9, -31.0552, 105.1913,-999.000,-999.000,20090506,       1904
33RR20090320,        I05,     172,          1,          1,          1,2,20090506,       1900,   -31.0552,   105.1914,       2956,  2980.8,   1.6264,  34.7298,2,  34.7299,2,    185.6,2,   184.7,2,  113.45,2,   32.38,2,    0.00,2,    2.30,2,-999.000,9,-999.000,9,-999.0000,9,  2278.4,6,  2379.2,2,   7.6758,2,    20.00,-999.000,9,-999.000,9,-999.000,9,   1.6257,2,-999.000,9, -999.00,9, -999.00,-999.000,9,-999.000, -999.00,9, -999.00,9, -31.0552, 105.1914,-999.000,-999.000,20090506,       1900