BOTTLE,20220814CCHSIOAMB
EXPOCODE,SECT_ID,STNNBR,CASTNO,SAMPNO,BTLNBR,BTLNBR_FLAG_W,DATE,TIME,LATITUDE,LONGITUDE,DEPTH,CTDPRS,CTDTMP,CTDSAL,CTDSAL_FLAG_W,SALNTY,SALNTY_FLAG_W,CTDOXY,CTDOXY_FLAG_W,OXYGEN,OXYGEN_FLAG_W,SILCAT,SILCAT_FLAG_W,NITRAT,NITRAT_FLAG_W,NITRIT,NITRIT_FLAG_W,PHSPHT,PHSPHT_FLAG_W,CFC-11,CFC-11_FLAG_W,CFC-12,CFC-12_FLAG_W,SF6,SF6_FLAG_W,TCARBN,TCARBN_FLAG_W,ALKALI,ALKALI_FLAG_W,PH_TOT,PH_TOT_FLAG_W,PH_TMP,TRITUM,TRITUM_FLAG_W,HELIUM,HELIUM_FLAG_W,DELHE3,DELHE3_FLAG_W,REFTMP,REFTMP_FLAG_W,DELC13,DELC13_FLAG_W,DELC14,DELC14_FLAG_W,C14ERR,NEON,NEON_FLAG_W,NEONER,DOC,DOC_FLAG_W,TDN,TDN_FLAG_W,BTL_LAT,BTL_LON,HELIER,DELHER,BTL_DATE,BTL_TIME
,,,,,,,,,,,METERS,DBAR,ITS-90,PSS-78,,PSS-78,,UMOL/KG,,UMOL/KG,,UMOL/KG,,UMOL/KG,,UMOL/KG,,UMOL/KG,,PMOL/KG,,PMOL/KG,,FMOL/KG,,UMOL/KG,,UMOL/KG,,,,DEG C,TU,,NMOL/KG,,PERCNT,,DEG C,,/MILLE,,/MILLE,,/MILLE,NMOL/KG,,NMOL/KG,UMOL/KG,,UMOL/KG,,,,NMOL/KG,PERCNT,,
33RR20090320,        I05,     106,          2,         36,         36,2,20090420,       1756,   -32.4197,    75.5012,       3561,    11.0,  21.2920,  35.9057,2,  35.9061,2,    222.6,2,   222.5,2,    1.38,2,    0.06,2,    0.00,2,    0.12,2,-999.000,9,-999.000,9,-999.0000,9,  2059.6,6,  2354.8,2,   8.1050,2,    20.00,-999.000,9,-999.000,9,-999.000,9,  21.2895,2,-999.000,9, -999.00,9, -999.00,-999.000,9,-999.000, -999.00,9, -999.00,9, -32.4196,  75.5011,-999.000,-999.000,20090420,       1935
33RR20090320,        I05,     106,          2,         35,         35,2,20090420,       1756,   -32.4197,    75.5012,       3561,    24.2,  21.2914,  35.9059,2,  35.9051,2,    223.9,2,   223.2,2,    1.35,2,    0.06,2,    0.00,2,    0.11,2,-999.000,9,-999.000,9,-999.0000,9,  2060.1,2,  2353.1,2,   8.1048,2,    20.00,-999.000,9,-999.000,9,-999.000,9,  21.2918,2,-999.000,9, -999.00,9, -999.00,-999.000,9,-999.000, -999.00,9, -999.00,9, -32.4196,  75.5012,-999.000,-999.000,20090420,       1934
33RR20090320,        I05,     106,          2,         34,         34,2,20090420,       1756,   -32.4197,    75.5012,       3561,    45.5,  21.2924,  35.9058,2,  35.9056,2,    225.2,2,   222.6,2,    1.31,2,    0.06,2,    0.00,2,    0.11,2,-999.000,9,-999.000,9,-999.0000,9,  2061.1,2,  2354.4,2,   8.1048,2,    20.00,-999.000,9,-999.000,9,-999.000,9,  21.2893,2,-999.000,9, -999.00,9, -999.00,-999.000,9,-999.000, -999.00,9, -999.00,9, -32.4196,  75.5011,-999.000,-999.000,20090420,       1932
33RR20090320,        I05,     106,          2,         33,         33,2,20090420,       1756,   -32.4197,    75.5012,       3561,    71.0,  19.9645,  35.7946,2,  35.7912,2,    234.9,2,   239.5,2,    1.28,2,    0.06,2,    0.00,2,    0.13,2,-999.000,9,-999.000,9,-999.0000,9,  2063.7,2,  2347.5,2,   8.0925,2,    20.00,-999.000,9,-999.000,9,-999.000,9,  19.9415,2,-999.000,9, -999.00,9, -999.00,-999.000,9,-999.000, -999.00,9, -999.00,9, -32.4196,  75.5011,-999.000,-999.000,20090420,       1930
33RR20090320,        I05,     106,          2,         32,         32,2,20090420,       1756,   -32.4197,    75.5012,       3561,    94.7,  16.6642,  35.5932,2,  35.6045,2,    251.9,2,   249.3,2,    1.07,2,    0.12,2,    0.00,2,    0.18,2,-999.000,9,-999.000,9,-999.0000,9,  2076.7,2,  2340.1,2,   8.0560,2,    20.00,-999.000,9,-999.000,9,-999.000,9,  16.6432,2,-999.000,9, -999.00,9, -999.00,-999.000,9,-999.000, -999.00,9, -999.00,9, -32.4196,  75.5011,-999.000,-999.000,20090420,       1929
33RR20090320,        I05,     106,          2,         31,         31,2,20090420,       1756,   -32.4197,    75.5012,       3561,   120.4,  15.9462,  35.5859,2,  35.5903,2,    240.2,2,   239.2,2,    1.04,2,    0.30,2,    0.02,2,    0.23,2,-999.000,9,-999.000,9,-999.0000,9,  2087.9,2,  2338.5,2,   8.0335,2,    20.00,-999.000,9,-999.000,9,-999.000,9,  15.9427,2,-999.000,9, -999.00,9, -999.00,-999.000,9,-999.000, -999.00,9, -999.00,9, -32.4197,  75.5012,-999.000,-999.000,20090420,       1927
33RR20090320,        I05,     106,          2,         30,         30,2,20090420,       1756,   -32.4197,    75.5012,       3561,   145.2,  15.3153,  35.5121,2,  35.5098,2,    234.4,2,   234.6,2,    1.19,2,    1.51,2,    0.17,2,    0.32,2,-999.000,9,-999.000,9,-999.0000,9,  -999.0,9,  -999.0,9,-999.0000,9,  -999.00,-999.000,9,-999.000,9,-999.000,9,  15.3288,2,-999.000,9, -999.00,9, -999.00,-999.000,9,-999.000, -999.00,9, -999.00,9, -32.4198,  75.5012,-999.000,-999.000,20090420,       1925
33RR20090320,        I05,     106,          2,         29,         29,2,20090420,       1756,   -32.4197,    75.5012,       3561,   190.2,  13.8953,  35.2919,2,  35.2780,2,    232.0,2,   232.5,2,    1.87,2,    5.65,2,    0.01,2,    0.51,2,-999.000,9,-999.000,9,-999.0000,9,  -999.0,9,  -999.0,9,-999.0000,9,  -999.00,-999.000,9,-999.000,9,-999.000,9,  13.8873,2,-999.000,9, -999.00,9, -999.00,-999.000,9,-999.000, -999.00,9, -999.00,9, -32.4198,  75.5013,-999.000,-999.000,20090420,       1924
33RR20090320,        I05,     106,          2,         28,         28,2,20090420,       1756,   -32.4197,    75.5012,       3561,   238.1,  12.8753,  35.1633,2,  35.1638,2,    233.1,2,   233.0,2,    2.57,2,    8.21,2,    0.00,2,    0.65,2,-999.000,9,-999.000,9,-999.0000,9,  -999.0,9,  -999.0,9,-999.0000,9,  -999.00,-999.000,9,-999.000,9,-999.000,9,  12.8635,2,-999.000,9, -999.00,9, -999.00,-999.000,9,-999.000, -999.00,9, -999.00,9, -32.4198,  75.5014,-999.000,-999.000,20090420,       1922
33RR20090320,        I05,     106,          2,         27,         27,2,20090420,       1756,   -32.4197,    75.5012,       3561,   290.9,  12.3340,  35.1011,2,  35.1043,2,    234.3,2,   234.8,2,    3.07,2,    9.67,2,    0.00,2,    0.73,2,-999.000,9,-999.000,9,-999.0000,9,  -999.0,9,  -999.0,9,-999.0000,9,  -999.00,-999.000,9,-999.000,9,-999.000,9,  12.3355,2,-999.000,9, -999.00,9, -999.00,-999.000,9,-999.000, -999.00,9, -999.00,9, -32.4198,  75.5013,-999.000,-999.000,20090420,       1920
33RR20090320,        I05,     106,          2,         26,         26,2,20090420,       1756,   -32.4197,    75.5012,       3561,   339.1,  12.0687,  35.0708,2,  35.0713,2,    236.0,2,   236.5,2,    3.41,2,   10.36,2,    0.00,2,    0.77,2,-999.000,9,-999.000,9,-999.0000,9,  -999.0,9,  -999.0,9,-999.0000,9,  -999.00,-999.000,9,-999.000,9,-999.000,9,  12.0700,2,-999.000,9, -999.00,9, -999.00,-999.000,9,-999.000, -999.00,9, -999.00,9, -32.4198,  75.5013,-999.000,-999.000,20090420,       1918
33RR20090320,        I05,     106,          2,         25,         25,2,20090420,       1756,   -32.4197,    75.5012,       3561,   389.9,  11.7561,  35.0329,2,  35.0297,2,    236.5,2,   237.1,2,    3.55,2,   11.09,2,    0.00,2,    0.82,2,-999.000,9,-999.000,9,-999.0000,9,  -999.0,9,  -999.0,9,-999.0000,9,  -999.00,-999.000,9,-999.000,9,-999.000,9,  11.7516,2,-999.000,9, -999.00,9, -999.00,-999.000,9,-999.000, -999.00,9, -999.00,9, -32.4198,  75.5012,-999.000,-999.000,20090420,       1916
33RR20090320,        I05,     106,          2,         24,         24,2,20090420,       1756,   -32.4197,    75.5012,       3561,   439.9,  11.4481,  34.9926,2,  34.9937,2,    236.3,2,   236.8,2,    3.52,2,   11.61,2,    0.00,2,    0.85,2,-999.000,9,-999.000,9,-999.0000,9,  -999.0,9,  -999.0,9,-999.0000,9,  -999.00,-999.000,9,-999.000,9,-999.000,9,  11.4517,2,-999.000,9, -999.00,9, -999.00,-999.000,9,-999.000, -999.00,9, -999.00,9, -32.4199,  75.5012,-999.000,-999.000,20090420,       1914
33RR20090320,        I05,     106,          2,         23,         23,2,20090420,       1756,   -32.4197,    75.5012,       3561,   489.7,  11.1330,  34.9516,2,  34.9522,2,    236.9,2,   236.5,2,    3.67,2,   12.23,2,    0.00,2,    0.90,2,-999.000,9,-999.000,9,-999.0000,9,  -999.0,9,  -999.0,9,-999.0000,9,  -999.00,-999.000,9,-999.000,9,-999.000,9,  11.1333,2,-999.000,9, -999.00,9, -999.00,-999.000,9,-999.000, -999.00,9, -999.00,9, -32.4198,  75.5012,-999.000,-999.000,20090420,       1912
33RR20090320,        I05,     106,          2,         22,         22,2,20090420,       1756,   -32.4197,    75.5012,       3561,   570.0,  10.6961,  34.8893,2,  34.8897,2,    236.5,2,   236.3,2,    3.82,2,   13.28,2,    0.00,2,    0.96,2,-999.000,9,-999.000,9,-999.0000,9,  -999.0,9,  -999.0,9,-999.0000,9,  -999.00,-999.000,9,-999.000,9,-999.000,9,  10.6985,2,-999.000,9, -999.00,9, -999.00,-999.000,9,-999.000, -999.00,9, -999.00,9, -32.4198,  75.5013,-999.000,-999.000,20090420,       1910
33RR20090320,        I05,     106,          2,         21,         21,2,20090420,       1756,   -32.4197,    75.5012,       3561,   671.3,   9.9763,  34.7829,2,  34.7835,2,    234.5,2,   234.2,2,    4.69,2,   15.31,2,    0.00,2,    1.08,2,-999.000,9,-999.000,9,-999.0000,9,  -999.0,9,  -999.0,9,-999.0000,9,  -999.00,-999.000,9,-999.000,9,-999.000,9,   9.9809,2,-999.000,9, -999.00,9, -999.00,-999.000,9,-999.000, -999.00,9, -999.00,9, -32.4198,  75.5013,-999.000,-999.000,20090420,       1907
33RR20090320,        I05,     106,          2,         20,         20,2,20090420,       1756,   -32.4197,    75.5012,       3561,   769.9,   9.0970,  34.6683,2,  34.6692,2,    223.6,2,   223.2,2,    7.00,2,   18.45,2,    0.00,2,    1.29,2,-999.000,9,-999.000,9,-999.0000,9,  -999.0,9,  -999.0,9,-999.0000,9,  -999.00,-999.000,9,-999.000,9,-999.000,9,   9.0975,2,-999.000,9, -999.00,9, -999.00,-999.000,9,-999.000, -999.00,9, -999.00,9, -32.4198,  75.5014,-999.000,-999.000,20090420,       1904
33RR20090320,        I05,     106,          2,         19,         19,2,20090420,       1756,   -32.4197,    75.5012,       3561,   870.3,   7.8015,  34.5415,2,  34.5437,2,    209.3,2,   208.5,2,   12.39,2,   22.86,2,    0.00,2,    1.58,2,-999.000,9,-999.000,9,-999.0000,9,  -999.0,9,  -999.0,9,-999.0000,9,  -999.00,-999.000,9,-999.000,9,-999.000,9,   7.7987,2,-999.000,9, -999.00,9, -999.00,-999.000,9,-999.000, -999.00,9, -999.00,9, -32.4198,  75.5013,-999.000,-999.000,20090420,       1901
33RR20090320,        I05,     106,          2,         18,         18,2,20090420,       1756,   -32.4197,    75.5012,       3561,   969.4,   6.4816,  34.4421,2,  34.4425,2,    202.9,2,   202.6,2,   18.88,2,   26.49,2,    0.00,2,    1.84,2,-999.000,9,-999.000,9,-999.0000,9,  -999.0,9,  -999.0,9,-999.0000,9,  -999.00,-999.000,9,-999.000,9,-999.000,9,   6.4634,2,-999.000,9, -999.00,9, -999.00,-999.000,9,-999.000, -999.00,9, -999.00,9, -32.4198,  75.5013,-999.000,-999.000,20090420,       1858
33RR20090320,        I05,     106,          2,         17,         17,2,20090420,       1756,   -32.4197,    75.5012,       3561,  1070.2,   5.1498,  34.3753,2,  34.3751,2,    200.8,2,   201.7,2,   27.41,2,   29.45,2,    0.00,2,    2.06,2,-999.000,9,-999.000,9,-999.0000,9,  -999.0,9,  -999.0,9,-999.0000,9,  -999.00,-999.000,9,-999.000,9,-999.000,9,   5.1503,2,-999.000,9, -999.00,9, -999.00,-999.000,9,-999.000, -999.00,9, -999.00,9, -32.4197,  75.5013,-999.000,-999.000,20090420,       1856
33RR20090320,        I05,     106,          2,         16,         16,2,20090420,       1756,   -32.4197,    75.5012,       3561,  1170.0,   4.2752,  34.3756,2,  34.3752,2,    194.4,2,   194.3,2,   38.15,2,   31.62,2,    0.00,2,    2.22,2,-999.000,9,-999.000,9,-999.0000,9,  -999.0,9,  -999.0,9,-999.0000,9,  -999.00,-999.000,9,-999.000,9,-999.000,9,   4.2814,2,-999.000,9, -999.00,9, -999.00,-999.000,9,-999.000, -999.00,9, -999.00,9, -32.4197,  75.5012,-999.000,-999.000,20090420,       1853
33RR20090320,        I05,     106,          2,         15,         15,2,20090420,       1756,   -32.4197,    75.5012,       3561,  1267.3,   3.7884,  34.4136,2,  34.4152,2,    184.1,2,   182.9,2,   48.77,2,   33.00,2,    0.00,2,    2.33,2,-999.000,9,-999.000,9,-999.0000,9,  -999.0,9,  -999.0,9,-999.0000,9,  -999.00,-999.000,9,-999.000,9,-999.000,9,   3.7867,2,-999.000,9, -999.00,9, -999.00,-999.000,9,-999.000, -999.00,9, -999.00,9, -32.4197,  75.5012,-999.000,-999.000,20090420,       1850
33RR20090320,        I05,     106,          2,         14,         14,2,20090420,       1756,   -32.4197,    75.5012,       3561,  1368.2,   3.4857,  34.4578,2,  34.4604,2,    173.9,2,   173.6,2,   57.76,2,   33.80,2,    0.00,2,    2.40,2,-999.000,9,-999.000,9,-999.0000,9,  -999.0,9,  -999.0,9,-999.0000,9,  -999.00,-999.000,9,-999.000,9,-999.000,9,   3.4896,2,-999.000,9, -999.00,9, -999.00,-999.000,9,-999.000, -999.00,9, -999.00,9, -32.4196,  75.5012,-999.000,-999.000,20090420,       1847
33RR20090320,        I05,     106,          2,         13,         13,2,20090420,       1756,   -32.4197,    75.5012,       3561,  1467.2,   3.2213,  34.5076,2,  34.5073,2,    167.5,2,   167.7,2,   65.12,2,   34.20,2,    0.00,2,    2.43,2,-999.000,9,-999.000,9,-999.0000,9,  -999.0,9,  -999.0,9,-999.0000,9,  -999.00,-999.000,9,-999.000,9,-999.000,9,   3.2229,2,-999.000,9, -999.00,9, -999.00,-999.000,9,-999.000, -999.00,9, -999.00,9, -32.4196,  75.5012,-999.000,-999.000,20090420,       1845
33RR20090320,        I05,     106,          2,         12,         12,2,20090420,       1756,   -32.4197,    75.5012,       3561,  1567.8,   3.0035,  34.5555,2,  34.5557,2,    165.6,2,   165.0,2,   70.83,2,   34.14,2,    0.00,2,    2.42,2,-999.000,9,-999.000,9,-999.0000,9,  -999.0,9,  -999.0,9,-999.0000,9,  -999.00,-999.000,9,-999.000,9,-999.000,9,   3.0037,2,-999.000,9, -999.00,9, -999.00,-999.000,9,-999.000, -999.00,9, -999.00,9, -32.4196,  75.5012,-999.000,-999.000,20090420,       1842
33RR20090320,        I05,     106,          2,         11,         11,2,20090420,       1756,   -32.4197,    75.5012,       3561,  1669.9,   2.8349,  34.5979,2,  34.5979,2,    165.9,2,   166.0,2,   74.51,2,   33.87,2,    0.00,2,    2.40,2,-999.000,9,-999.000,9,-999.0000,9,  -999.0,9,  -999.0,9,-999.0000,9,  -999.00,-999.000,9,-999.000,9,-999.000,9,   2.8368,2,-999.000,9, -999.00,9, -999.00,-999.000,9,-999.000, -999.00,9, -999.00,9, -32.4196,  75.5012,-999.000,-999.000,20090420,       1839
33RR20090320,        I05,     106,          2,         10,         10,2,20090420,       1756,   -32.4197,    75.5012,       3561,  1769.3,   2.6975,  34.6302,2,  34.6303,2,    168.8,2,   169.0,2,   76.71,2,   33.39,2,    0.00,2,    2.36,2,-999.000,9,-999.000,9,-999.0000,9,  -999.0,9,  -999.0,9,-999.0000,9,  -999.00,-999.000,9,-999.000,9,-999.000,9,   2.6980,2,-999.000,9, -999.00,9, -999.00,-999.000,9,-999.000, -999.00,9, -999.00,9, -32.4195,  75.5011,-999.000,-999.000,20090420,       1836
33RR20090320,        I05,     106,          2,          9,          9,2,20090420,       1756,   -32.4197,    75.5012,       3561,  1933.5,   2.4772,  34.6800,2,  34.6791,2,    175.9,2,   175.8,2,   80.04,2,   32.37,2,    0.00,2,    2.28,2,-999.000,9,-999.000,9,-999.0000,9,  -999.0,9,  -999.0,9,-999.0000,9,  -999.00,-999.000,9,-999.000,9,-999.000,9,   2.4781,2,-999.000,9, -999.00,9, -999.00,-999.000,9,-999.000, -999.00,9, -999.00,9, -32.4195,  75.5011,-999.000,-999.000,20090420,       1832
33RR20090320,        I05,     106,          2,          8,          8,2,20090420,       1756,   -32.4197,    75.5012,       3561,  2163.7,   2.1908,  34.7167,2,  34.7174,2,    180.2,2,   180.4,2,   91.18,2,   31.99,2,    0.00,2,    2.26,2,-999.000,9,-999.000,9,-999.0000,9,  -999.0,9,  -999.0,9,-999.0000,9,  -999.00,-999.000,9,-999.000,9,-999.000,9,   2.1909,2,-999.000,9, -999.00,9, -999.00,-999.000,9,-999.000, -999.00,9, -999.00,9, -32.4195,  75.5011,-999.000,-999.000,20090420,       1827
33RR20090320,        I05,     106,          2,          7,          7,2,20090420,       1756,   -32.4197,    75.5012,       3561,  2415.6,   1.9780,  34.7261,2,  34.7267,2,    177.7,2,   178.0,2,  105.18,2,   32.57,2,    0.00,2,    2.31,2,-999.000,9,-999.000,9,-999.0000,9,  -999.0,9,  -999.0,9,-999.0000,9,  -999.00,-999.000,9,-999.000,9,-999.000,9,   1.9784,2,-999.000,9, -999.00,9, -999.00,-999.000,9,-999.000, -999.00,9, -999.00,9, -32.4196,  75.5012,-999.000,-999.000,20090420,       1822
33RR20090320,        I05,     106,          2,          6,          6,2,20090420,       1756,   -32.4197,    75.5012,       3561,  2666.1,   1.7949,  34.7256,2,  34.7253,2,    178.9,2,   179.6,2,  112.85,2,   32.88,2,    0.00,2,    2.33,2,-999.000,9,-999.000,9,-999.0000,9,  -999.0,9,  -999.0,9,-999.0000,9,  -999.00,-999.000,9,-999.000,9,-999.000,9,   1.7951,2,-999.000,9, -999.00,9, -999.00,-999.000,9,-999.000, -999.00,9, -999.00,9, -32.4195,  75.5011,-999.000,-999.000,20090420,       1816
33RR20090320,        I05,     106,          2,          4,          4,2,20090420,       1756,   -32.4197,    75.5012,       3561,  2918.3,   1.6935,  34.7241,2,  34.7238,2,    180.2,2,   180.3,2,  116.77,2,   32.98,2,    0.00,2,    2.35,2,   0.006,6,   0.004,6,   0.0370,6,  2280.7,2,  2380.0,2,   7.6775,2,    20.00,-999.000,9,-999.000,9,-999.000,9,   1.6943,2,-999.000,9, -999.00,9, -999.00,-999.000,9,-999.000, -999.00,9, -999.00,9, -32.4196,  75.5011,-999.000,-999.000,20090420,       1810
33RR20090320,        I05,     106,          2,          5,          5,2,20090420,       1756,   -32.4197,    75.5012,       3561,  2921.9,   1.6947,  34.7239,2,-999.0000,9,   -999.0,5,  -999.0,9, -999.00,9, -999.00,9, -999.00,9, -999.00,9,   0.008,6,   0.004,6,   0.0210,6,  -999.0,9,  -999.0,9,-999.0000,9,  -999.00,-999.000,9,-999.000,9,-999.000,9,   1.6946,2,-999.000,9, -999.00,9, -999.00,-999.000,9,-999.000, -999.00,9, -999.00,9, -32.4196,  75.5011,-999.000,-999.000,20090420,       1811
33RR20090320,        I05,     106,          2,          3,          3,2,20090420,       1756,   -32.4197,    75.5012,       3561,  3165.2,   1.6058,  34.7216,2,  34.7218,2,    182.6,2,   182.4,2,  119.20,2,   32.98,2,    0.00,2,    2.35,2,   0.003,2,   0.003,2,   0.0000,2,  2280.3,2,  2379.8,2,   7.6799,2,    20.00,-999.000,9,-999.000,9,-999.000,9,   1.6057,2,-999.000,9, -999.00,9, -999.00,-999.000,9,-999.000, -999.00,9, -999.00,9, -32.4197,  75.5011,-999.000,-999.000,20090420,       1805
33RR20090320,        I05,     106,          2,          2,          2,2,20090420,       1756,   -32.4197,    75.5012,       3561,  3442.2,   1.5867,  34.7207,2,  34.7205,2,    184.3,2,   183.5,2,  120.32,2,   33.02,2,    0.00,2,    2.34,2,   0.005,2,   0.005,2,   0.0000,2,  2280.8,2,  2381.1,2,   7.6794,2,    20.00,-999.000,9,-999.000,9,-999.000,9,   1.5865,2,-999.000,9, -999.00,9, -999.00,-999.000,9,-999.000, -999.00,9, -999.00,9, -32.4197,  75.5011,-999.000,-999.000,20090420,       1759
33RR20090320,        I05,     106,          2,          1,          1,2,20090420,       1756,   -32.4197,    75.5012,       3561,  3602.7,   1.5976,  34.7205,2,  34.7209,2,    183.2,2,   183.3,2,  120.30,2,   33.02,2,    0.00,2,    2.35,2,   0.003,2,   0.004,2,   0.0000,2,  2281.7,6,  2380.4,2,   7.6788,2,    20.00,-999.000,9,-999.000,9,-999.000,9,   1.5975,2,-999.000,9, -999.00,9, -999.00,-999.000,9,-999.000, -999.00,9, -999.00,9, -32.4197,  75.5012,-999.000,-999.000,20090420,       1756