BOTTLE,20220814CCHSIOAMB
EXPOCODE,SECT_ID,STNNBR,CASTNO,SAMPNO,BTLNBR,BTLNBR_FLAG_W,DATE,TIME,LATITUDE,LONGITUDE,DEPTH,CTDPRS,CTDTMP,CTDSAL,CTDSAL_FLAG_W,SALNTY,SALNTY_FLAG_W,CTDOXY,CTDOXY_FLAG_W,OXYGEN,OXYGEN_FLAG_W,SILCAT,SILCAT_FLAG_W,NITRAT,NITRAT_FLAG_W,NITRIT,NITRIT_FLAG_W,PHSPHT,PHSPHT_FLAG_W,CFC-11,CFC-11_FLAG_W,CFC-12,CFC-12_FLAG_W,SF6,SF6_FLAG_W,TCARBN,TCARBN_FLAG_W,ALKALI,ALKALI_FLAG_W,PH_TOT,PH_TOT_FLAG_W,PH_TMP,TRITUM,TRITUM_FLAG_W,HELIUM,HELIUM_FLAG_W,DELHE3,DELHE3_FLAG_W,REFTMP,REFTMP_FLAG_W,DELC13,DELC13_FLAG_W,DELC14,DELC14_FLAG_W,C14ERR,NEON,NEON_FLAG_W,NEONER,DOC,DOC_FLAG_W,TDN,TDN_FLAG_W,BTL_LAT,BTL_LON,HELIER,DELHER,BTL_DATE,BTL_TIME
,,,,,,,,,,,METERS,DBAR,ITS-90,PSS-78,,PSS-78,,UMOL/KG,,UMOL/KG,,UMOL/KG,,UMOL/KG,,UMOL/KG,,UMOL/KG,,PMOL/KG,,PMOL/KG,,FMOL/KG,,UMOL/KG,,UMOL/KG,,,,DEG C,TU,,NMOL/KG,,PERCNT,,DEG C,,/MILLE,,/MILLE,,/MILLE,NMOL/KG,,NMOL/KG,UMOL/KG,,UMOL/KG,,,,NMOL/KG,PERCNT,,
33RR20090320,        I05,     136,          1,         36,         36,2,20090427,       1959,   -32.0873,    90.2917,       4155,     4.7,  19.8957,  35.7407,2,  35.7412,2,    229.3,2,   229.8,2,    1.23,2,    0.02,2,    0.00,2,    0.16,2,-999.000,9,-999.000,9,-999.0000,9,  2071.4,6,  2355.5,2,   8.0785,2,    20.00,-999.000,9,-999.000,9,-999.000,9,  19.8979,2,-999.000,9, -999.00,9, -999.00,-999.000,9,-999.000, -999.00,9, -999.00,9, -32.0870,  90.2919,-999.000,-999.000,20090427,       2154
33RR20090320,        I05,     136,          1,         35,         35,2,20090427,       1959,   -32.0873,    90.2917,       4155,    27.2,  19.8799,  35.7430,2,  35.7430,2,    230.5,2,   230.5,2,    1.21,2,    0.03,2,    0.00,2,    0.15,2,-999.000,9,-999.000,9,-999.0000,9,  2071.8,2,  2354.1,2,   8.0788,2,    20.00,-999.000,9,-999.000,9,-999.000,9,  19.8747,2,-999.000,9, -999.00,9, -999.00,-999.000,9,-999.000, -999.00,9, -999.00,9, -32.0870,  90.2919,-999.000,-999.000,20090427,       2152
33RR20090320,        I05,     136,          1,         34,         34,2,20090427,       1959,   -32.0873,    90.2917,       4155,    45.3,  19.8021,  35.7361,2,  35.7414,2,    230.7,2,   229.9,2,    1.19,2,    0.03,2,    0.00,2,    0.15,2,-999.000,9,-999.000,9,-999.0000,9,  2070.5,2,  2353.6,2,   8.0782,2,    20.00,-999.000,9,-999.000,9,-999.000,9,  19.8079,2,-999.000,9, -999.00,9, -999.00,-999.000,9,-999.000, -999.00,9, -999.00,9, -32.0870,  90.2920,-999.000,-999.000,20090427,       2150
33RR20090320,        I05,     136,          1,         33,         33,2,20090427,       1959,   -32.0873,    90.2917,       4155,    71.2,  15.2289,  35.3637,2,  35.3632,2,    268.3,2,   268.0,2,    1.52,2,    0.22,2,    0.01,2,    0.23,2,-999.000,9,-999.000,9,-999.0000,9,  -999.0,9,  -999.0,9,-999.0000,9,  -999.00,-999.000,9,-999.000,9,-999.000,9,  15.2240,2,-999.000,9, -999.00,9, -999.00,-999.000,9,-999.000, -999.00,9, -999.00,9, -32.0870,  90.2920,-999.000,-999.000,20090427,       2148
33RR20090320,        I05,     136,          1,         32,         32,2,20090427,       1959,   -32.0873,    90.2917,       4155,    96.6,  14.4292,  35.3716,2,  35.3663,2,    246.3,2,   241.3,2,    1.84,2,    3.24,2,    0.25,2,    0.41,2,-999.000,9,-999.000,9,-999.0000,9,  -999.0,9,  -999.0,9,-999.0000,9,  -999.00,-999.000,9,-999.000,9,-999.000,9,  14.4327,2,-999.000,9, -999.00,9, -999.00,-999.000,9,-999.000, -999.00,9, -999.00,9, -32.0870,  90.2920,-999.000,-999.000,20090427,       2147
33RR20090320,        I05,     136,          1,         31,         31,2,20090427,       1959,   -32.0873,    90.2917,       4155,   121.6,  13.6961,  35.2681,2,  35.2682,2,    237.1,2,   237.6,2,    2.00,2,    5.33,2,    0.04,2,    0.51,2,-999.000,9,-999.000,9,-999.0000,9,  2101.6,2,  2324.0,2,   7.9701,2,    20.00,-999.000,9,-999.000,9,-999.000,9,  13.6923,2,-999.000,9, -999.00,9, -999.00,-999.000,9,-999.000, -999.00,9, -999.00,9, -32.0870,  90.2920,-999.000,-999.000,20090427,       2145
33RR20090320,        I05,     136,          1,         30,         30,2,20090427,       1959,   -32.0873,    90.2917,       4155,   145.6,  13.2998,  35.2269,2,  35.2280,2,    234.9,2,   235.4,2,    2.16,2,    6.43,2,    0.01,2,    0.57,2,-999.000,9,-999.000,9,-999.0000,9,  -999.0,9,  -999.0,9,-999.0000,9,  -999.00,-999.000,9,-999.000,9,-999.000,9,  13.3022,2,-999.000,9, -999.00,9, -999.00,-999.000,9,-999.000, -999.00,9, -999.00,9, -32.0870,  90.2920,-999.000,-999.000,20090427,       2144
33RR20090320,        I05,     136,          1,         29,         29,2,20090427,       1959,   -32.0873,    90.2917,       4155,   190.5,  12.6818,  35.1696,2,  35.1775,2,    231.6,2,   232.2,2,    2.66,2,    8.06,2,    0.00,2,    0.65,2,-999.000,9,-999.000,9,-999.0000,9,  2111.3,2,  2317.7,2,   7.9375,2,    20.00,-999.000,9,-999.000,9,-999.000,9,  12.6762,2,-999.000,9, -999.00,9, -999.00,-999.000,9,-999.000, -999.00,9, -999.00,9, -32.0870,  90.2920,-999.000,-999.000,20090427,       2142
33RR20090320,        I05,     136,          1,         28,         28,2,20090427,       1959,   -32.0873,    90.2917,       4155,   239.7,  12.1738,  35.1078,2,  35.1137,2,    234.1,2,   233.5,2,    3.00,2,    9.18,2,    0.00,2,    0.72,2,-999.000,9,-999.000,9,-999.0000,9,  -999.0,9,  -999.0,9,-999.0000,9,  -999.00,-999.000,9,-999.000,9,-999.000,9,  12.1810,2,-999.000,9, -999.00,9, -999.00,-999.000,9,-999.000, -999.00,9, -999.00,9, -32.0869,  90.2920,-999.000,-999.000,20090427,       2140
33RR20090320,        I05,     136,          1,         27,         27,2,20090427,       1959,   -32.0873,    90.2917,       4155,   293.0,  11.6372,  35.0249,2,  35.0265,2,    237.1,2,   237.5,2,    3.33,2,   10.35,2,    0.00,2,    0.80,2,-999.000,9,-999.000,9,-999.0000,9,  -999.0,9,  -999.0,9,-999.0000,9,  -999.00,-999.000,9,-999.000,9,-999.000,9,  11.6365,2,-999.000,9, -999.00,9, -999.00,-999.000,9,-999.000, -999.00,9, -999.00,9, -32.0869,  90.2920,-999.000,-999.000,20090427,       2138
33RR20090320,        I05,     136,          1,         26,         26,2,20090427,       1959,   -32.0873,    90.2917,       4155,   340.2,  11.1902,  34.9569,2,  34.9574,2,    239.7,2,   239.5,2,    3.66,2,   11.32,2,    0.00,2,    0.85,2,-999.000,9,-999.000,9,-999.0000,9,  2116.1,2,  2305.2,2,   7.9059,2,    20.00,-999.000,9,-999.000,9,-999.000,9,  11.1897,2,-999.000,9, -999.00,9, -999.00,-999.000,9,-999.000, -999.00,9, -999.00,9, -32.0869,  90.2920,-999.000,-999.000,20090427,       2136
33RR20090320,        I05,     136,          1,         25,         25,2,20090427,       1959,   -32.0873,    90.2917,       4155,   389.6,  10.9065,  34.9180,2,  34.9179,2,    239.4,2,   238.8,2,    3.98,2,   12.18,2,    0.00,2,    0.90,2,-999.000,9,-999.000,9,-999.0000,9,  -999.0,9,  -999.0,9,-999.0000,9,  -999.00,-999.000,9,-999.000,9,-999.000,9,  10.9097,2,-999.000,9, -999.00,9, -999.00,-999.000,9,-999.000, -999.00,9, -999.00,9, -32.0869,  90.2920,-999.000,-999.000,20090427,       2134
33RR20090320,        I05,     136,          1,         24,         24,2,20090427,       1959,   -32.0873,    90.2917,       4155,   441.3,  10.5244,  34.8606,2,  34.8673,3,    239.0,2,   238.7,2,    4.31,2,   13.31,2,    0.00,2,    0.98,2,-999.000,9,-999.000,9,-999.0000,9,  -999.0,9,  -999.0,9,-999.0000,9,  -999.00,-999.000,9,-999.000,9,-999.000,9,  10.5189,2,-999.000,9, -999.00,9, -999.00,-999.000,9,-999.000, -999.00,9, -999.00,9, -32.0869,  90.2919,-999.000,-999.000,20090427,       2132
33RR20090320,        I05,     136,          1,         23,         23,2,20090427,       1959,   -32.0873,    90.2917,       4155,   490.8,  10.1775,  34.8087,2,  34.8097,2,    238.8,2,   237.8,2,    4.65,2,   14.21,2,    0.00,2,    1.03,2,-999.000,9,-999.000,9,-999.0000,9,  2122.3,2,  2300.3,2,   7.8767,2,    20.00,-999.000,9,-999.000,9,-999.000,9,  10.1770,2,-999.000,9, -999.00,9, -999.00,-999.000,9,-999.000, -999.00,9, -999.00,9, -32.0869,  90.2918,-999.000,-999.000,20090427,       2130
33RR20090320,        I05,     136,          1,         22,         22,2,20090427,       1959,   -32.0873,    90.2917,       4155,   570.4,   9.7428,  34.7470,2,  34.7470,2,    237.4,2,   238.1,2,    4.80,2,   15.29,2,    0.00,2,    1.10,2,-999.000,9,-999.000,9,-999.0000,9,  -999.0,9,  -999.0,9,-999.0000,9,  -999.00,-999.000,9,-999.000,9,-999.000,9,   9.7413,2,-999.000,9, -999.00,9, -999.00,-999.000,9,-999.000, -999.00,9, -999.00,9, -32.0869,  90.2918,-999.000,-999.000,20090427,       2127
33RR20090320,        I05,     136,          1,         21,         21,2,20090427,       1959,   -32.0873,    90.2917,       4155,   670.1,   9.0548,  34.6523,2,  34.6540,2,    228.8,2,   230.3,2,    6.55,2,   17.88,2,    0.00,2,    1.27,2,-999.000,9,-999.000,9,-999.0000,9,  -999.0,9,  -999.0,9,-999.0000,9,  -999.00,-999.000,9,-999.000,9,-999.000,9,   9.0597,2,-999.000,9, -999.00,9, -999.00,-999.000,9,-999.000, -999.00,9, -999.00,9, -32.0869,  90.2917,-999.000,-999.000,20090427,       2124
33RR20090320,        I05,     136,          1,         20,         20,2,20090427,       1959,   -32.0873,    90.2917,       4155,   771.4,   8.1097,  34.5564,2,  34.5566,2,    211.4,2,   212.5,2,   10.97,2,   21.81,2,    0.00,2,    1.53,2,-999.000,9,-999.000,9,-999.0000,9,  -999.0,9,  -999.0,9,-999.0000,9,  -999.00,-999.000,9,-999.000,9,-999.000,9,   8.1235,2,-999.000,9, -999.00,9, -999.00,-999.000,9,-999.000, -999.00,9, -999.00,9, -32.0870,  90.2917,-999.000,-999.000,20090427,       2122
33RR20090320,        I05,     136,          1,         19,         19,2,20090427,       1959,   -32.0873,    90.2917,       4155,   870.6,   6.6599,  34.4512,2,  34.4509,2,    200.4,2,   200.6,2,   18.97,2,   26.37,2,    0.00,2,    1.84,2,-999.000,9,-999.000,9,-999.0000,9,  -999.0,9,  -999.0,9,-999.0000,9,  -999.00,-999.000,9,-999.000,9,-999.000,9,   6.6611,2,-999.000,9, -999.00,9, -999.00,-999.000,9,-999.000, -999.00,9, -999.00,9, -32.0869,  90.2917,-999.000,-999.000,20090427,       2119
33RR20090320,        I05,     136,          1,         18,         18,2,20090427,       1959,   -32.0873,    90.2917,       4155,   971.7,   5.3394,  34.3955,2,  34.3958,2,    193.5,2,   193.7,2,   29.51,2,   29.62,2,    0.00,2,    2.08,2,-999.000,9,-999.000,9,-999.0000,9,  -999.0,9,  -999.0,9,-999.0000,9,  -999.00,-999.000,9,-999.000,9,-999.000,9,   5.3282,2,-999.000,9, -999.00,9, -999.00,-999.000,9,-999.000, -999.00,9, -999.00,9, -32.0869,  90.2918,-999.000,-999.000,20090427,       2115
33RR20090320,        I05,     136,          1,         17,         17,2,20090427,       1959,   -32.0873,    90.2917,       4155,  1068.9,   4.4721,  34.3900,2,  34.3887,2,    188.2,2,   188.7,2,   39.37,2,   31.57,2,    0.00,2,    2.24,2,-999.000,9,-999.000,9,-999.0000,9,  2205.0,2,  2307.3,2,   7.6800,2,    20.00,-999.000,9,-999.000,9,-999.000,9,   4.4699,2,-999.000,9, -999.00,9, -999.00,-999.000,9,-999.000, -999.00,9, -999.00,9, -32.0870,  90.2921,-999.000,-999.000,20090427,       2112
33RR20090320,        I05,     136,          1,         16,         16,2,20090427,       1959,   -32.0873,    90.2917,       4155,  1171.7,   4.0644,  34.4370,2,  34.4362,2,    172.3,2,   171.6,2,   52.54,2,   33.23,2,    0.00,2,    2.38,2,-999.000,9,-999.000,9,-999.0000,9,  -999.0,9,  -999.0,9,-999.0000,9,  -999.00,-999.000,9,-999.000,9,-999.000,9,   4.0645,2,-999.000,9, -999.00,9, -999.00,-999.000,9,-999.000, -999.00,9, -999.00,9, -32.0870,  90.2922,-999.000,-999.000,20090427,       2110
33RR20090320,        I05,     136,          1,         15,         15,2,20090427,       1959,   -32.0873,    90.2917,       4155,  1271.3,   3.7896,  34.4789,2,  34.4770,2,    161.3,2,   161.1,2,   61.95,2,   34.11,2,    0.00,2,    2.45,2,-999.000,9,-999.000,9,-999.0000,9,  -999.0,9,  -999.0,9,-999.0000,9,  -999.00,-999.000,9,-999.000,9,-999.000,9,   3.7945,2,-999.000,9, -999.00,9, -999.00,-999.000,9,-999.000, -999.00,9, -999.00,9, -32.0871,  90.2922,-999.000,-999.000,20090427,       2107
33RR20090320,        I05,     136,          1,         14,         14,2,20090427,       1959,   -32.0873,    90.2917,       4155,  1373.8,   3.5527,  34.5195,2,  34.5179,2,    154.8,2,   154.2,2,   69.75,2,   34.61,2,    0.00,2,    2.49,2,-999.000,9,-999.000,9,-999.0000,9,  -999.0,9,  -999.0,9,-999.0000,9,  -999.00,-999.000,9,-999.000,9,-999.000,9,   3.5544,2,-999.000,9, -999.00,9, -999.00,-999.000,9,-999.000, -999.00,9, -999.00,9, -32.0871,  90.2922,-999.000,-999.000,20090427,       2104
33RR20090320,        I05,     136,          1,         13,         13,2,20090427,       1959,   -32.0873,    90.2917,       4155,  1470.9,   3.3954,  34.5593,2,  34.5589,2,    149.3,2,   149.7,2,   76.47,2,   34.82,2,    0.00,2,    2.52,2,-999.000,9,-999.000,9,-999.0000,9,  -999.0,9,  -999.0,9,-999.0000,9,  -999.00,-999.000,9,-999.000,9,-999.000,9,   3.3956,2,-999.000,9, -999.00,9, -999.00,-999.000,9,-999.000, -999.00,9, -999.00,9, -32.0872,  90.2921,-999.000,-999.000,20090427,       2101
33RR20090320,        I05,     136,          1,         12,         12,2,20090427,       1959,   -32.0873,    90.2917,       4155,  1572.0,   3.1648,  34.5880,2,  34.5862,2,    151.6,2,   151.3,2,   80.11,2,   34.66,2,    0.00,2,    2.50,2,-999.000,9,-999.000,9,-999.0000,9,  -999.0,9,  -999.0,9,-999.0000,9,  -999.00,-999.000,9,-999.000,9,-999.000,9,   3.1640,2,-999.000,9, -999.00,9, -999.00,-999.000,9,-999.000, -999.00,9, -999.00,9, -32.0872,  90.2920,-999.000,-999.000,20090427,       2058
33RR20090320,        I05,     136,          1,         11,         11,2,20090427,       1959,   -32.0873,    90.2917,       4155,  1745.1,   2.8364,  34.6344,2,  34.6310,2,    156.8,2,   157.9,2,   84.11,2,   34.08,2,    0.00,2,    2.44,2,-999.000,9,-999.000,9,-999.0000,9,  -999.0,9,  -999.0,9,-999.0000,9,  -999.00,-999.000,9,-999.000,9,-999.000,9,   2.8344,2,-999.000,9, -999.00,9, -999.00,-999.000,9,-999.000, -999.00,9, -999.00,9, -32.0872,  90.2921,-999.000,-999.000,20090427,       2054
33RR20090320,        I05,     136,          1,         10,         10,2,20090427,       1959,   -32.0873,    90.2917,       4155,  1944.1,   2.5712,  34.6787,2,  34.6785,2,    164.5,2,   166.0,2,   87.76,2,   33.24,2,    0.00,2,    2.37,2,-999.000,9,-999.000,9,-999.0000,9,  -999.0,9,  -999.0,9,-999.0000,9,  -999.00,-999.000,9,-999.000,9,-999.000,9,   2.5711,2,-999.000,9, -999.00,9, -999.00,-999.000,9,-999.000, -999.00,9, -999.00,9, -32.0872,  90.2924,-999.000,-999.000,20090427,       2049
33RR20090320,        I05,     136,          1,          9,          9,2,20090427,       1959,   -32.0873,    90.2917,       4155,  2179.4,   2.3264,  34.7142,2,  34.7141,2,    179.2,2,   177.2,2,   87.92,2,   32.05,2,    0.00,2,    2.27,2,-999.000,9,-999.000,9,-999.0000,9,  -999.0,9,  -999.0,9,-999.0000,9,  -999.00,-999.000,9,-999.000,9,-999.000,9,   2.3268,2,-999.000,9, -999.00,9, -999.00,-999.000,9,-999.000, -999.00,9, -999.00,9, -32.0873,  90.2925,-999.000,-999.000,20090427,       2044
33RR20090320,        I05,     136,          1,          8,          8,2,20090427,       1959,   -32.0873,    90.2917,       4155,  2430.6,   2.0639,  34.7325,2,  34.7314,2,    184.2,2,   184.2,2,   94.33,2,   31.48,2,    0.00,2,    2.25,2,-999.000,9,-999.000,9,-999.0000,9,  -999.0,9,  -999.0,9,-999.0000,9,  -999.00,-999.000,9,-999.000,9,-999.000,9,   2.0639,2,-999.000,9, -999.00,9, -999.00,-999.000,9,-999.000, -999.00,9, -999.00,9, -32.0873,  90.2923,-999.000,-999.000,20090427,       2038
33RR20090320,        I05,     136,          1,          7,          7,2,20090427,       1959,   -32.0873,    90.2917,       4155,  2682.8,   1.8375,  34.7398,2,  34.7400,2,    192.0,2,   192.1,2,   97.26,2,   31.06,2,    0.00,2,    2.21,2,-999.000,9,-999.000,9,-999.0000,9,  -999.0,9,  -999.0,9,-999.0000,9,  -999.00,-999.000,9,-999.000,9,-999.000,9,   1.8376,2,-999.000,9, -999.00,9, -999.00,-999.000,9,-999.000, -999.00,9, -999.00,9, -32.0872,  90.2922,-999.000,-999.000,20090427,       2033
33RR20090320,        I05,     136,          1,          6,          6,2,20090427,       1959,   -32.0873,    90.2917,       4155,  2937.4,   1.6239,  34.7376,2,  34.7373,2,    196.2,2,   196.4,2,  103.13,2,   31.06,2,    0.00,2,    2.21,2,-999.000,9,-999.000,9,-999.0000,9,  -999.0,9,  -999.0,9,-999.0000,9,  -999.00,-999.000,9,-999.000,9,-999.000,9,   1.6238,2,-999.000,9, -999.00,9, -999.00,-999.000,9,-999.000, -999.00,9, -999.00,9, -32.0873,  90.2921,-999.000,-999.000,20090427,       2027
33RR20090320,        I05,     136,          1,          5,          5,2,20090427,       1959,   -32.0873,    90.2917,       4155,  3224.0,   1.4313,  34.7324,2,  34.7325,2,    199.3,2,   199.4,2,  107.91,2,   31.42,2,    0.00,2,    2.22,2,-999.000,9,-999.000,9,-999.0000,9,  -999.0,9,  -999.0,9,-999.0000,9,  -999.00,-999.000,9,-999.000,9,-999.000,9,   1.4310,2,-999.000,9, -999.00,9, -999.00,-999.000,9,-999.000, -999.00,9, -999.00,9, -32.0874,  90.2920,-999.000,-999.000,20090427,       2021
33RR20090320,        I05,     136,          1,          4,          4,2,20090427,       1959,   -32.0873,    90.2917,       4155,  3529.1,   1.2840,  34.7260,2,  34.7245,2,    201.2,2,   201.6,2,  112.89,2,   31.57,2,    0.00,2,    2.23,2,-999.000,9,-999.000,9,-999.0000,9,  -999.0,9,  -999.0,9,-999.0000,9,  -999.00,-999.000,9,-999.000,9,-999.000,9,   1.2840,2,-999.000,9, -999.00,9, -999.00,-999.000,9,-999.000, -999.00,9, -999.00,9, -32.0874,  90.2918,-999.000,-999.000,20090427,       2014
33RR20090320,        I05,     136,          1,          3,          3,2,20090427,       1959,   -32.0873,    90.2917,       4155,  3831.2,   1.1758,  34.7206,2,  34.7201,2,    202.7,2,   203.0,2,  116.76,2,   31.93,2,    0.00,2,    2.26,2,-999.000,9,-999.000,9,-999.0000,9,  -999.0,9,  -999.0,9,-999.0000,9,  -999.00,-999.000,9,-999.000,9,-999.000,9,   1.1754,2,-999.000,9, -999.00,9, -999.00,-999.000,9,-999.000, -999.00,9, -999.00,9, -32.0873,  90.2918,-999.000,-999.000,20090427,       2007
33RR20090320,        I05,     136,          1,          2,          2,2,20090427,       1959,   -32.0873,    90.2917,       4155,  4019.8,   1.1564,  34.7185,2,  34.7176,2,    203.5,2,   203.5,2,  117.66,2,   31.98,2,    0.00,2,    2.26,2,-999.000,9,-999.000,9,-999.0000,9,  -999.0,9,  -999.0,9,-999.0000,9,  -999.00,-999.000,9,-999.000,9,-999.000,9,   1.1561,2,-999.000,9, -999.00,9, -999.00,-999.000,9,-999.000, -999.00,9, -999.00,9, -32.0874,  90.2918,-999.000,-999.000,20090427,       2003
33RR20090320,        I05,     136,          1,          1,          1,2,20090427,       1959,   -32.0873,    90.2917,       4155,  4207.4,   1.1051,  34.7158,2,  34.7152,2,    204.4,2,   204.4,2,  119.31,2,   32.07,2,    0.00,2,    2.27,2,-999.000,9,-999.000,9,-999.0000,9,  2268.2,6,  2376.0,2,   7.6956,2,    20.00,-999.000,9,-999.000,9,-999.000,9,   1.1044,2,-999.000,9, -999.00,9, -999.00,-999.000,9,-999.000, -999.00,9, -999.00,9, -32.0873,  90.2917,-999.000,-999.000,20090427,       1959