BOTTLE,20220814CCHSIOAMB
EXPOCODE,SECT_ID,STNNBR,CASTNO,SAMPNO,BTLNBR,BTLNBR_FLAG_W,DATE,TIME,LATITUDE,LONGITUDE,DEPTH,CTDPRS,CTDTMP,CTDSAL,CTDSAL_FLAG_W,SALNTY,SALNTY_FLAG_W,CTDOXY,CTDOXY_FLAG_W,OXYGEN,OXYGEN_FLAG_W,SILCAT,SILCAT_FLAG_W,NITRAT,NITRAT_FLAG_W,NITRIT,NITRIT_FLAG_W,PHSPHT,PHSPHT_FLAG_W,CFC-11,CFC-11_FLAG_W,CFC-12,CFC-12_FLAG_W,SF6,SF6_FLAG_W,TCARBN,TCARBN_FLAG_W,ALKALI,ALKALI_FLAG_W,PH_TOT,PH_TOT_FLAG_W,PH_TMP,TRITUM,TRITUM_FLAG_W,HELIUM,HELIUM_FLAG_W,DELHE3,DELHE3_FLAG_W,REFTMP,REFTMP_FLAG_W,DELC13,DELC13_FLAG_W,DELC14,DELC14_FLAG_W,C14ERR,NEON,NEON_FLAG_W,NEONER,DOC,DOC_FLAG_W,TDN,TDN_FLAG_W,BTL_LAT,BTL_LON,HELIER,DELHER,BTL_DATE,BTL_TIME
,,,,,,,,,,,METERS,DBAR,ITS-90,PSS-78,,PSS-78,,UMOL/KG,,UMOL/KG,,UMOL/KG,,UMOL/KG,,UMOL/KG,,UMOL/KG,,PMOL/KG,,PMOL/KG,,FMOL/KG,,UMOL/KG,,UMOL/KG,,,,DEG C,TU,,NMOL/KG,,PERCNT,,DEG C,,/MILLE,,/MILLE,,/MILLE,NMOL/KG,,NMOL/KG,UMOL/KG,,UMOL/KG,,,,NMOL/KG,PERCNT,,
33RR20090320,        I05,     141,          1,         36,         36,2,20090429,       0351,   -33.0831,    92.8975,       4330,     6.7,  19.1766,  35.7514,2,  35.7527,2,    233.1,2,   232.5,2,    0.96,2,    0.00,2,    0.00,2,    0.17,2,   2.264,6,   1.344,6,   1.1000,6,  2074.1,6,  2355.2,2,   8.0800,2,    20.00,-999.000,9,-999.000,9,-999.000,9,  19.1759,2,   1.463,2,   40.68,2,     3.7,-999.000,9,-999.000,   66.97,2,    4.51,2, -33.0825,  92.8977,-999.000,-999.000,20090429,       0534
33RR20090320,        I05,     141,          1,         35,         35,2,20090429,       0351,   -33.0831,    92.8975,       4330,    44.2,  19.1692,  35.7508,2,  35.7522,2,    234.4,2,   233.0,2,    0.95,2,    0.00,2,    0.00,2,    0.17,2,   2.239,2,   1.354,2,   1.1490,2,  2075.4,2,  2354.6,2,   8.0802,2,    20.00,-999.000,9,-999.000,9,-999.000,9,  19.1680,2,-999.000,9, -999.00,9, -999.00,-999.000,9,-999.000,   66.87,2,    4.24,2, -33.0825,  92.8976,-999.000,-999.000,20090429,       0532
33RR20090320,        I05,     141,          1,         34,         34,2,20090429,       0351,   -33.0831,    92.8975,       4330,    68.0,  17.7799,  35.6809,4,  35.6568,2,    246.2,2,   249.9,2,    1.11,2,    0.07,2,    0.01,2,    0.18,2,   2.536,2,   1.484,2,   1.2470,2,  2076.1,2,  2348.5,2,   8.0660,2,    20.00,-999.000,9,-999.000,9,-999.000,9,  17.8888,2,-999.000,9, -999.00,9, -999.00,-999.000,9,-999.000,   64.28,2,    4.66,2, -33.0825,  92.8977,-999.000,-999.000,20090429,       0531
33RR20090320,        I05,     141,          1,         33,         33,2,20090429,       0351,   -33.0831,    92.8975,       4330,    90.9,  14.7583,  35.4011,2,  35.4055,2,    252.0,2,   248.5,2,    1.27,2,    1.46,2,    0.22,2,    0.35,2,   2.886,2,   1.649,2,   1.3450,2,  2095.1,2,  2333.9,2,   8.0105,2,    20.00,-999.000,9,-999.000,9,-999.000,9,  14.7490,2,-999.000,9, -999.00,9, -999.00,-999.000,9,-999.000,   58.34,2,    6.37,2, -33.0825,  92.8977,-999.000,-999.000,20090429,       0530
33RR20090320,        I05,     141,          1,         32,         32,2,20090429,       0351,   -33.0831,    92.8975,       4330,   119.6,  14.2004,  35.3489,2,  35.3444,2,    235.5,2,   238.1,2,    1.80,2,    3.62,2,    0.86,2,    0.48,2,   2.924,2,   1.671,2,   1.3450,2,  2104.1,2,  2328.9,2,   7.9820,2,    20.00,-999.000,9,-999.000,9,-999.000,9,  14.2038,2,   1.209,2,   25.77,2,     2.8,-999.000,9,-999.000,   55.79,2,    8.56,2, -33.0825,  92.8977,-999.000,-999.000,20090429,       0528
33RR20090320,        I05,     141,          1,         31,         31,2,20090429,       0351,   -33.0831,    92.8975,       4330,   141.9,  13.6533,  35.2704,2,  35.2698,2,    234.4,2,   237.4,2,    1.79,2,    5.46,2,    0.14,2,    0.54,2,   3.002,2,   1.701,2,   1.2960,2,  2108.0,2,  2323.9,2,   7.9679,2,    20.00,-999.000,9,-999.000,9,-999.000,9,  13.6585,2,-999.000,9, -999.00,9, -999.00,-999.000,9,-999.000,   54.31,2,    9.41,2, -33.0825,  92.8977,-999.000,-999.000,20090429,       0527
33RR20090320,        I05,     141,          1,         30,         30,2,20090429,       0351,   -33.0831,    92.8975,       4330,   173.0,  13.3174,  35.2477,2,  35.2615,2,    235.2,2,   236.5,2,    1.95,2,    6.36,2,    0.01,2,    0.58,2,   3.028,2,   1.724,2,   1.4220,2,  2111.5,2,  2321.9,2,   7.9596,2,    20.00,-999.000,9,-999.000,9,-999.000,9,  13.3077,2,   1.208,2,   43.27,2,     2.8,-999.000,9,-999.000,   51.82,2,    9.46,2, -33.0825,  92.8977,-999.000,-999.000,20090429,       0526
33RR20090320,        I05,     141,          1,         29,         29,2,20090429,       0351,   -33.0831,    92.8975,       4330,   222.9,  12.5992,  35.1590,2,  35.1591,2,    235.1,2,   236.4,2,    2.47,2,    8.01,2,    0.00,2,    0.67,2,   3.142,2,   1.778,2,   1.3800,2,  2115.4,2,  2317.0,2,   7.9404,2,    20.00,-999.000,9,-999.000,9,-999.000,9,  12.5998,2,-999.000,9, -999.00,9, -999.00,-999.000,9,-999.000,   50.75,2,   11.23,2, -33.0825,  92.8977,-999.000,-999.000,20090429,       0524
33RR20090320,        I05,     141,          1,         28,         28,2,20090429,       0351,   -33.0831,    92.8975,       4330,   271.0,  12.0189,  35.0782,2,  35.0794,2,    237.0,2,   238.0,2,    2.82,2,    9.23,2,    0.00,2,    0.75,2,   3.254,2,   1.827,2,   1.3700,2,  2116.0,2,  2313.9,2,   7.9260,2,    20.00,-999.000,9,-999.000,9,-999.000,9,  12.0201,2,   1.164,2,    41.1,2,     2.8,-999.000,9,-999.000,   49.42,2,   12.76,2, -33.0824,  92.8977,-999.000,-999.000,20090429,       0523
33RR20090320,        I05,     141,          1,         27,         27,2,20090429,       0351,   -33.0831,    92.8975,       4330,   323.1,  11.4639,  34.9936,2,  34.9993,2,    240.9,2,   240.2,2,    3.16,2,   10.35,2,    0.00,2,    0.82,2,   3.339,2,   1.853,2,   1.3330,2,  2116.4,2,  2310.8,2,   7.9150,2,    20.00,-999.000,9,-999.000,9,-999.000,9,  11.4724,2,-999.000,9, -999.00,9, -999.00,-999.000,9,-999.000,   47.76,2,   12.69,2, -33.0824,  92.8976,-999.000,-999.000,20090429,       0521
33RR20090320,        I05,     141,          1,         26,         26,2,20090429,       0351,   -33.0831,    92.8975,       4330,   372.3,  11.1248,  34.9462,2,  34.9456,2,    240.3,2,   240.4,2,    3.50,2,   11.22,2,    0.00,2,    0.87,2,   3.419,2,   1.891,2,   1.3620,2,  2118.3,2,  2307.3,2,   7.9058,2,    20.00,-999.000,9,-999.000,9,-999.000,9,  11.1259,2,   1.199,2,   33.97,2,     2.6,-999.000,9,-999.000,   46.78,2,   13.54,2, -33.0824,  92.8976,-999.000,-999.000,20090429,       0520
33RR20090320,        I05,     141,          1,         25,         25,2,20090429,       0351,   -33.0831,    92.8975,       4330,   423.9,  10.6855,  34.8793,2,  34.8767,2,    241.2,2,   240.2,2,    4.03,2,   12.54,2,    0.00,2,    0.95,2,   3.488,2,   1.914,2,   1.2820,2,  2120.6,2,  2300.9,2,   7.8931,2,    20.00,-999.000,9,-999.000,9,-999.000,9,  10.6748,2,-999.000,9, -999.00,9, -999.00,-999.000,9,-999.000,   46.34,2,   14.63,2, -33.0824,  92.8976,-999.000,-999.000,20090429,       0518
33RR20090320,        I05,     141,          1,         24,         24,2,20090429,       0351,   -33.0831,    92.8975,       4330,   473.5,  10.3653,  34.8298,2,  34.8311,2,    240.6,2,   240.7,2,    4.37,2,   13.46,2,    0.00,2,    1.01,2,   3.532,2,   1.923,2,   1.2980,2,  2122.4,2,  2299.4,2,   7.8831,2,    20.00,-999.000,9,-999.000,9,-999.000,9,  10.3659,2,-999.000,5, -999.00,9, -999.00,-999.000,9,-999.000,   45.55,2,   14.88,2, -33.0824,  92.8976,-999.000,-999.000,20090429,       0516
33RR20090320,        I05,     141,          1,         23,         23,2,20090429,       0351,   -33.0831,    92.8975,       4330,   542.1,   9.9109,  34.7674,2,  34.7682,2,    238.8,2,   237.9,2,    5.08,2,   14.92,2,    0.00,2,    1.10,2,   3.594,2,   1.916,2,   1.1390,2,  2126.8,2,  2297.7,2,   7.8673,2,    20.00,-999.000,9,-999.000,9,-999.000,9,   9.9087,2,   1.266,2,   29.86,2,     4.4,-999.000,9,-999.000,   44.75,2,   16.61,2, -33.0824,  92.8976,-999.000,-999.000,20090429,       0514
33RR20090320,        I05,     141,          1,         22,         22,2,20090429,       0351,   -33.0831,    92.8975,       4330,   639.9,   9.2960,  34.6803,2,  34.6816,2,    237.3,2,   237.2,2,    5.43,2,   16.60,2,    0.00,2,    1.21,2,   3.661,2,   1.942,2,   1.1340,2,  2130.6,2,  2295.2,2,   7.8515,2,    20.00,-999.000,9,-999.000,9,-999.000,9,   9.2981,2,   1.208,2,   35.87,2,       3,-999.000,9,-999.000,   43.91,2,   17.95,2, -33.0824,  92.8976,-999.000,-999.000,20090429,       0511
33RR20090320,        I05,     141,          1,         21,         21,2,20090429,       0351,   -33.0831,    92.8975,       4330,   743.4,   8.4098,  34.5758,2,  34.5800,2,    223.6,2,   221.7,2,    8.63,2,   20.26,2,    0.00,2,    1.44,2,   3.259,6,   1.657,6,   0.7400,6,  2143.8,2,  2290.7,2,   7.8124,2,    20.00,-999.000,9,-999.000,9,-999.000,9,   8.4177,2,    1.14,2,   19.96,2,     2.9,-999.000,9,-999.000,   42.61,2,   21.57,2, -33.0824,  92.8976,-999.000,-999.000,20090429,       0508
33RR20090320,        I05,     141,          1,         20,         20,2,20090429,       0351,   -33.0831,    92.8975,       4330,   840.4,   7.1368,  34.4776,2,  34.4799,2,    203.8,2,   203.4,2,   15.79,2,   24.89,2,    0.00,2,    1.75,2,   2.433,2,   1.214,2,   0.5060,2,  2165.6,2,  2292.2,2,   7.7573,2,    20.00,-999.000,9,-999.000,9,-999.000,9,   7.1308,2,   1.064,2,   -9.95,2,     3.7,-999.000,9,-999.000,   41.22,2,   26.41,2, -33.0824,  92.8976,-999.000,-999.000,20090429,       0506
33RR20090320,        I05,     141,          1,         19,         19,2,20090429,       0351,   -33.0831,    92.8975,       4330,   943.5,   5.6850,  34.3948,2,  34.3957,2,    198.2,2,   199.2,2,   24.55,2,   28.49,2,    0.00,2,    2.00,2,   1.922,2,   0.944,2,   0.3560,2,  2183.1,2,  2295.5,2,   7.7158,2,    20.00,-999.000,9,-999.000,9,-999.000,9,   5.6795,2,    1.03,2,  -48.64,2,       3,-999.000,9,-999.000,   40.76,2,   30.28,2, -33.0824,  92.8975,-999.000,-999.000,20090429,       0503
33RR20090320,        I05,     141,          1,         18,         18,2,20090429,       0351,   -33.0831,    92.8975,       4330,  1044.0,   4.6425,  34.3742,2,  34.3761,2,    193.2,2,   193.9,2,   35.13,2,   30.91,2,    0.00,2,    2.19,2,   1.418,2,   0.681,2,   0.2600,2,  2202.8,2,  2300.7,2,   7.6865,2,    20.00,-999.000,9,-999.000,9,-999.000,9,   4.6275,2,   0.947,2,  -76.98,2,     2.7,-999.000,9,-999.000,   40.45,2,   32.31,2, -33.0823,  92.8976,-999.000,-999.000,20090429,       0501
33RR20090320,        I05,     141,          1,         17,         17,2,20090429,       0351,   -33.0831,    92.8975,       4330,  1142.7,   4.0864,  34.4038,2,  34.4034,2,    183.2,2,   182.3,2,   46.09,2,   32.46,2,    0.00,2,    2.32,2,   0.924,2,   0.441,2,   0.0630,2,  2219.4,2,  2311.9,2,   7.6647,2,    20.00,-999.000,9,-999.000,9,-999.000,9,   4.0854,2,   0.824,2, -107.64,2,     2.6,-999.000,9,-999.000,   40.04,2,   34.37,2, -33.0823,  92.8976,-999.000,-999.000,20090429,       0458
33RR20090320,        I05,     141,          1,         16,         16,2,20090429,       0351,   -33.0831,    92.8975,       4330,  1242.3,   3.7801,  34.4500,2,  34.4505,2,    169.0,2,   169.1,2,   56.89,2,   33.60,2,    0.00,2,    2.42,2,   0.525,2,   0.247,2,   0.0660,2,  2237.2,2,  2323.7,2,   7.6455,2,    20.00,-999.000,9,-999.000,9,-999.000,9,   3.7835,2,   0.305,3, -125.37,2,     2.4,-999.000,9,-999.000,   39.90,2,   35.52,2, -33.0823,  92.8976,-999.000,-999.000,20090429,       0455
33RR20090320,        I05,     141,          1,         15,         15,2,20090429,       0351,   -33.0831,    92.8975,       4330,  1343.5,   3.5622,  34.5140,2,  34.5145,2,    157.2,2,   154.9,2,   68.99,2,   34.54,2,    0.00,2,    2.50,2,   0.219,2,   0.107,2,   0.0220,2,  2254.4,2,  2336.1,2,   7.6300,2,    20.00,-999.000,9,-999.000,9,-999.000,9,   3.5621,2,   0.672,2, -151.77,2,     2.4,-999.000,9,-999.000,   39.69,2,   35.65,2, -33.0823,  92.8976,-999.000,-999.000,20090429,       0453
33RR20090320,        I05,     141,          1,         14,         14,2,20090429,       0351,   -33.0831,    92.8975,       4330,  1444.0,   3.3368,  34.5447,2,  34.5456,2,    153.4,2,   152.8,2,   74.06,2,   34.64,2,    0.00,2,    2.52,2,   0.132,2,   0.067,2,   0.0520,2,  2260.3,2,  2340.5,2,   7.6267,2,    20.00,-999.000,9,-999.000,9,-999.000,9,   3.3366,2,-999.000,9, -999.00,9, -999.00,-999.000,9,-999.000,   39.93,2,   36.18,2, -33.0823,  92.8976,-999.000,-999.000,20090429,       0450
33RR20090320,        I05,     141,          1,         13,         13,2,20090429,       0351,   -33.0831,    92.8975,       4330,  1543.2,   3.1809,  34.5810,2,  34.5808,2,    151.5,2,   151.3,2,   79.49,2,   34.68,2,    0.00,2,    2.52,2,   0.074,2,   0.040,2,   0.0000,2,  2266.3,6,  2346.6,2,   7.6265,2,    20.00,-999.000,9,-999.000,9,-999.000,9,   3.1797,2,   0.498,2, -164.71,2,     2.3,-999.000,9,-999.000,   40.02,2,   36.50,2, -33.0823,  92.8976,-999.000,-999.000,20090429,       0448
33RR20090320,        I05,     141,          1,         12,         12,2,20090429,       0351,   -33.0831,    92.8975,       4330,  1676.1,   2.9451,  34.6127,2,  34.6132,2,    155.6,2,   155.1,2,   82.20,2,   34.31,2,    0.00,2,    2.49,2,   0.062,2,   0.034,2,   0.0370,2,  2266.1,2,  2350.3,2,   7.6312,2,    20.00,-999.000,9,-999.000,9,-999.000,9,   2.9457,2,-999.000,9, -999.00,9, -999.00,-999.000,9,-999.000,   39.89,2,   35.50,2, -33.0824,  92.8976,-999.000,-999.000,20090429,       0445
33RR20090320,        I05,     141,          1,         11,         11,2,20090429,       0351,   -33.0831,    92.8975,       4330,  1894.6,   2.6786,  34.6677,2,  34.6680,2,    160.0,2,   159.8,2,   89.11,2,   33.57,2,    0.00,2,    2.43,2,   0.035,2,   0.022,2,   0.0290,2,  2269.2,2,  2356.9,2,   7.6424,2,    20.00,-999.000,9,-999.000,9,-999.000,9,   2.6790,2,-999.000,9, -999.00,9, -999.00,-999.000,9,-999.000,   39.57,2,   35.06,2, -33.0825,  92.8976,-999.000,-999.000,20090429,       0441
33RR20090320,        I05,     141,          1,         10,         10,2,20090429,       0351,   -33.0831,    92.8975,       4330,  2098.6,   2.4637,  34.6970,2,  34.6977,2,    168.3,2,   168.5,2,   90.18,2,   32.73,2,    0.00,2,    2.36,2,   0.029,2,   0.017,2,   0.0270,2,  2266.0,2,  2357.9,2,   7.6552,2,    20.00,-999.000,9,-999.000,9,-999.000,9,   2.4638,2,-999.000,9, -999.00,9, -999.00,-999.000,9,-999.000,   39.87,2,   34.58,2, -33.0826,  92.8975,-999.000,-999.000,20090429,       0436
33RR20090320,        I05,     141,          1,          9,          9,2,20090429,       0351,   -33.0831,    92.8975,       4330,  2346.6,   2.1337,  34.7299,2,  34.7296,2,    182.5,2,   183.2,2,   91.62,2,   31.42,2,    0.00,2,    2.25,2,   0.027,2,   0.014,2,   0.0000,2,  2259.0,2,  2359.2,2,   7.6748,2,    20.00,-999.000,9,-999.000,9,-999.000,9,   2.1329,2,-999.000,9, -999.00,9, -999.00,-999.000,9,-999.000,   39.46,2,   33.12,2, -33.0826,  92.8975,-999.000,-999.000,20090429,       0431
33RR20090320,        I05,     141,          1,          8,          8,2,20090429,       0351,   -33.0831,    92.8975,       4330,  2601.9,   1.8035,  34.7401,2,  34.7412,2,    192.3,2,   192.4,2,   97.66,2,   31.00,2,    0.00,2,    2.22,2,   0.023,2,   0.013,2,   0.0000,2,  2256.7,2,  2360.6,2,   7.6849,2,    20.00,-999.000,9,-999.000,9,-999.000,9,   1.8031,2,-999.000,9, -999.00,9, -999.00,-999.000,9,-999.000,   39.95,2,   32.61,2, -33.0827,  92.8976,-999.000,-999.000,20090429,       0426
33RR20090320,        I05,     141,          1,          7,          7,2,20090429,       0351,   -33.0831,    92.8975,       4330,  2853.8,   1.6048,  34.7377,2,  34.7385,2,    196.2,2,   196.0,2,  103.16,2,   31.05,2,    0.00,2,    2.22,2,   0.021,2,   0.010,2,   0.0000,2,  2258.5,2,  2362.2,2,   7.6866,2,    20.00,-999.000,9,-999.000,9,-999.000,9,   1.6046,2,-999.000,9, -999.00,9, -999.00,-999.000,9,-999.000,   39.74,2,   32.43,2, -33.0829,  92.8975,-999.000,-999.000,20090429,       0421
33RR20090320,        I05,     141,          1,          6,          6,2,20090429,       0351,   -33.0831,    92.8975,       4330,  3123.9,   1.4063,  34.7330,2,  34.7334,2,    199.8,2,   200.3,2,  107.92,2,   31.20,2,    0.00,2,    2.23,2,   0.025,2,   0.014,2,   0.0040,2,  2258.4,2,  2363.1,2,   7.6861,2,    20.00,-999.000,9,-999.000,9,-999.000,9,   1.4064,2,-999.000,9, -999.00,9, -999.00,-999.000,9,-999.000,   39.83,2,   32.58,2, -33.0831,  92.8976,-999.000,-999.000,20090429,       0416
33RR20090320,        I05,     141,          1,          5,          5,2,20090429,       0351,   -33.0831,    92.8975,       4330,  3426.9,   1.2508,  34.7254,2,  34.7257,2,    202.2,2,   201.4,2,  113.45,2,   31.56,2,    0.00,2,    2.25,2,   0.022,2,   0.012,2,   0.0140,2,  2261.9,2,  2368.3,2,   7.6875,2,    20.00,-999.000,9,-999.000,9,-999.000,9,   1.2509,2,-999.000,9, -999.00,9, -999.00,-999.000,9,-999.000,   39.54,2,   33.37,2, -33.0832,  92.8976,-999.000,-999.000,20090429,       0410
33RR20090320,        I05,     141,          1,          4,          4,2,20090429,       0351,   -33.0831,    92.8975,       4330,  3733.6,   1.1651,  34.7203,2,  34.7206,2,    203.8,2,   202.7,2,  116.41,2,   31.87,2,    0.00,2,    2.27,2,   0.023,2,   0.014,2,   0.0000,2,  2266.2,2,  2371.4,2,   7.6895,2,    20.00,-999.000,9,-999.000,9,-999.000,9,   1.1649,2,-999.000,9, -999.00,9, -999.00,-999.000,9,-999.000,   39.75,2,   33.45,2, -33.0831,  92.8976,-999.000,-999.000,20090429,       0405
33RR20090320,        I05,     141,          1,          3,          3,2,20090429,       0351,   -33.0831,    92.8975,       4330,  4039.2,   1.1166,  34.7172,2,  34.7175,2,    205.1,2,   203.8,2,  118.26,2,   31.87,2,    0.00,2,    2.27,2,   0.024,2,   0.015,2,   0.0000,2,  2265.9,2,  2372.9,2,   7.6908,2,    20.00,-999.000,9,-999.000,9,-999.000,9,   1.1172,2,-999.000,9, -999.00,9, -999.00,-999.000,9,-999.000,   40.11,2,   33.62,2, -33.0831,  92.8975,-999.000,-999.000,20090429,       0359
33RR20090320,        I05,     141,          1,          2,          2,2,20090429,       0351,   -33.0831,    92.8975,       4330,  4213.7,   1.1020,  34.7155,2,  34.7162,2,    205.5,2,   204.4,2,  119.19,2,   31.56,2,    0.00,2,    2.25,2,   0.027,2,   0.016,2,   0.0000,2,  2267.2,2,  2374.4,2,   7.6910,2,    20.00,-999.000,9,-999.000,9,-999.000,9,   1.1014,2,-999.000,9, -999.00,9, -999.00,-999.000,9,-999.000,   40.00,2,   33.46,2, -33.0831,  92.8976,-999.000,-999.000,20090429,       0355
33RR20090320,        I05,     141,          1,          1,          1,2,20090429,       0351,   -33.0831,    92.8975,       4330,  4392.7,   1.1016,  34.7144,2,  34.7162,3,    202.9,2,   204.5,2,  119.92,2,   31.71,2,    0.00,2,    2.26,2,   0.030,6,   0.018,6,   0.0000,6,  2269.6,6,  2375.2,2,   7.6922,2,    20.00,-999.000,9,-999.000,9,-999.000,9,   1.1012,2,-999.000,9, -999.00,9, -999.00,-999.000,9,-999.000,   39.80,2,   32.86,2, -33.0831,  92.8975,-999.000,-999.000,20090429,       0351