BOTTLE,20220814CCHSIOAMB
EXPOCODE,SECT_ID,STNNBR,CASTNO,SAMPNO,BTLNBR,BTLNBR_FLAG_W,DATE,TIME,LATITUDE,LONGITUDE,DEPTH,CTDPRS,CTDTMP,CTDSAL,CTDSAL_FLAG_W,SALNTY,SALNTY_FLAG_W,CTDOXY,CTDOXY_FLAG_W,OXYGEN,OXYGEN_FLAG_W,SILCAT,SILCAT_FLAG_W,NITRAT,NITRAT_FLAG_W,NITRIT,NITRIT_FLAG_W,PHSPHT,PHSPHT_FLAG_W,CFC-11,CFC-11_FLAG_W,CFC-12,CFC-12_FLAG_W,SF6,SF6_FLAG_W,TCARBN,TCARBN_FLAG_W,ALKALI,ALKALI_FLAG_W,PH_TOT,PH_TOT_FLAG_W,PH_TMP,TRITUM,TRITUM_FLAG_W,HELIUM,HELIUM_FLAG_W,DELHE3,DELHE3_FLAG_W,REFTMP,REFTMP_FLAG_W,DELC13,DELC13_FLAG_W,DELC14,DELC14_FLAG_W,C14ERR,NEON,NEON_FLAG_W,NEONER,DOC,DOC_FLAG_W,TDN,TDN_FLAG_W,BTL_LAT,BTL_LON,HELIER,DELHER,BTL_DATE,BTL_TIME
,,,,,,,,,,,METERS,DBAR,ITS-90,PSS-78,,PSS-78,,UMOL/KG,,UMOL/KG,,UMOL/KG,,UMOL/KG,,UMOL/KG,,UMOL/KG,,PMOL/KG,,PMOL/KG,,FMOL/KG,,UMOL/KG,,UMOL/KG,,,,DEG C,TU,,NMOL/KG,,PERCNT,,DEG C,,/MILLE,,/MILLE,,/MILLE,NMOL/KG,,NMOL/KG,UMOL/KG,,UMOL/KG,,,,NMOL/KG,PERCNT,,
33RR20090320,        I05,     116,          1,         36,         36,2,20090423,       0131,   -30.9183,    79.8517,       3738,     9.9,  21.6376,  35.8449,2,  35.8451,2,    220.1,2,   221.6,2,    1.81,2,    0.18,2,    0.00,2,    0.11,2,-999.000,9,-999.000,9,-999.0000,9,  2058.8,6,  2352.9,2,   8.1057,2,    20.00,-999.000,9,-999.000,9,-999.000,9,  21.6367,2,-999.000,9, -999.00,9, -999.00,-999.000,9,-999.000, -999.00,9, -999.00,9, -30.9179,  79.8507,-999.000,-999.000,20090423,       0314
33RR20090320,        I05,     116,          1,         35,         35,2,20090423,       0131,   -30.9183,    79.8517,       3738,    29.4,  21.6391,  35.8462,2,  35.8465,2,    221.2,2,   221.0,2,    1.63,2,    0.18,2,    0.00,2,    0.10,2,-999.000,9,-999.000,9,-999.0000,9,  2058.4,2,  2352.2,2,   8.1054,2,    20.00,-999.000,9,-999.000,9,-999.000,9,  21.6384,2,-999.000,9, -999.00,9, -999.00,-999.000,9,-999.000, -999.00,9, -999.00,9, -30.9180,  79.8506,-999.000,-999.000,20090423,       0312
33RR20090320,        I05,     116,          1,         34,         34,2,20090423,       0131,   -30.9183,    79.8517,       3738,    54.7,  21.2276,  35.9374,2,  35.9433,2,    225.4,2,   225.4,2,    1.62,2,    0.17,2,    0.00,2,    0.11,2,-999.000,9,-999.000,9,-999.0000,9,  2066.6,2,  2354.3,2,   8.0996,2,    20.00,-999.000,9,-999.000,9,-999.000,9,  21.2192,2,-999.000,9, -999.00,9, -999.00,-999.000,9,-999.000, -999.00,9, -999.00,9, -30.9181,  79.8505,-999.000,-999.000,20090423,       0310
33RR20090320,        I05,     116,          1,         33,         33,2,20090423,       0131,   -30.9183,    79.8517,       3738,    79.4,  17.5036,  35.7016,2,  35.7019,2,    252.9,2,   250.9,2,    1.42,2,    0.17,2,    0.00,2,    0.15,2,-999.000,9,-999.000,9,-999.0000,9,  2073.1,2,  2349.8,2,   8.0711,2,    20.00,-999.000,9,-999.000,9,-999.000,9,  17.5014,2,-999.000,9, -999.00,9, -999.00,-999.000,9,-999.000, -999.00,9, -999.00,9, -30.9182,  79.8504,-999.000,-999.000,20090423,       0309
33RR20090320,        I05,     116,          1,         32,         32,2,20090423,       0131,   -30.9183,    79.8517,       3738,   104.7,  16.3069,  35.6251,2,  35.6238,2,    235.6,2,   231.9,2,    1.59,2,    0.68,2,    0.04,2,    0.24,2,-999.000,9,-999.000,9,-999.0000,9,  -999.0,9,  -999.0,9,-999.0000,9,  -999.00,-999.000,9,-999.000,9,-999.000,9,  16.3095,2,-999.000,9, -999.00,9, -999.00,-999.000,9,-999.000, -999.00,9, -999.00,9, -30.9183,  79.8503,-999.000,-999.000,20090423,       0307
33RR20090320,        I05,     116,          1,         31,         31,2,20090423,       0131,   -30.9183,    79.8517,       3738,   129.6,  15.2424,  35.4977,2,  35.4955,2,    228.4,2,   229.9,2,    1.75,2,    2.32,2,    0.14,2,    0.34,2,-999.000,9,-999.000,9,-999.0000,9,  2099.8,2,  2337.0,2,   8.0034,2,    20.00,-999.000,9,-999.000,9,-999.000,9,  15.2417,2,-999.000,9, -999.00,9, -999.00,-999.000,9,-999.000, -999.00,9, -999.00,9, -30.9184,  79.8503,-999.000,-999.000,20090423,       0305
33RR20090320,        I05,     116,          1,         30,         30,2,20090423,       0131,   -30.9183,    79.8517,       3738,   155.0,  14.4963,  35.3876,2,  35.3873,2,    232.4,2,   233.6,2,    1.74,2,    3.89,2,    0.10,2,    0.42,2,-999.000,9,-999.000,9,-999.0000,9,  -999.0,9,  -999.0,9,-999.0000,9,  -999.00,-999.000,9,-999.000,9,-999.000,9,  14.4945,2,-999.000,9, -999.00,9, -999.00,-999.000,9,-999.000, -999.00,9, -999.00,9, -30.9185,  79.8503,-999.000,-999.000,20090423,       0304
33RR20090320,        I05,     116,          1,         29,         29,2,20090423,       0131,   -30.9183,    79.8517,       3738,   204.9,  13.1054,  35.1826,2,  35.1843,2,    235.0,2,   235.5,2,    2.42,2,    7.07,2,    0.01,2,    0.59,2,-999.000,9,-999.000,9,-999.0000,9,  2109.4,2,  2317.3,2,   7.9523,2,    20.00,-999.000,9,-999.000,9,-999.000,9,  13.1116,2,-999.000,9, -999.00,9, -999.00,-999.000,9,-999.000, -999.00,9, -999.00,9, -30.9185,  79.8504,-999.000,-999.000,20090423,       0302
33RR20090320,        I05,     116,          1,         28,         28,2,20090423,       0131,   -30.9183,    79.8517,       3738,   253.7,  12.5809,  35.1379,2,  35.1390,2,    234.4,2,   232.8,2,    3.10,2,    8.92,2,    0.00,2,    0.69,2,-999.000,9,-999.000,9,-999.0000,9,  -999.0,9,  -999.0,9,-999.0000,9,  -999.00,-999.000,9,-999.000,9,-999.000,9,  12.5824,2,-999.000,9, -999.00,9, -999.00,-999.000,9,-999.000, -999.00,9, -999.00,9, -30.9183,  79.8507,-999.000,-999.000,20090423,       0300
33RR20090320,        I05,     116,          1,         27,         27,2,20090423,       0131,   -30.9183,    79.8517,       3738,   303.6,  11.9629,  35.0520,2,  35.0524,2,    235.9,2,   238.8,2,    3.61,2,   10.09,2,    0.00,2,    0.76,2,-999.000,9,-999.000,9,-999.0000,9,  2117.1,2,  2309.8,2,   7.9230,2,    20.00,-999.000,9,-999.000,9,-999.000,9,  11.9621,2,-999.000,9, -999.00,9, -999.00,-999.000,9,-999.000, -999.00,9, -999.00,9, -30.9182,  79.8509,-999.000,-999.000,20090423,       0258
33RR20090320,        I05,     116,          1,         26,         26,2,20090423,       0131,   -30.9183,    79.8517,       3738,   353.9,  11.7025,  35.0221,2,  35.0215,2,    238.6,2,   239.6,2,    3.78,2,   10.81,2,    0.00,2,    0.80,2,-999.000,9,-999.000,9,-999.0000,9,  -999.0,9,  -999.0,9,-999.0000,9,  -999.00,-999.000,9,-999.000,9,-999.000,9,  11.7020,2,-999.000,9, -999.00,9, -999.00,-999.000,9,-999.000, -999.00,9, -999.00,9, -30.9180,  79.8512,-999.000,-999.000,20090423,       0256
33RR20090320,        I05,     116,          1,         25,         25,2,20090423,       0131,   -30.9183,    79.8517,       3738,   403.4,  11.3982,  34.9777,2,  34.9772,2,    239.8,2,   239.7,2,    3.93,2,   11.52,2,    0.00,2,    0.85,2,-999.000,9,-999.000,9,-999.0000,9,  -999.0,9,  -999.0,9,-999.0000,9,  -999.00,-999.000,9,-999.000,9,-999.000,9,  11.4011,2,-999.000,9, -999.00,9, -999.00,-999.000,9,-999.000, -999.00,9, -999.00,9, -30.9178,  79.8515,-999.000,-999.000,20090423,       0254
33RR20090320,        I05,     116,          1,         24,         24,2,20090423,       0131,   -30.9183,    79.8517,       3738,   454.1,  11.0728,  34.9338,2,  34.9323,2,    239.2,2,   239.0,2,    4.10,2,   12.29,2,    0.00,2,    0.89,2,-999.000,9,-999.000,9,-999.0000,9,  -999.0,9,  -999.0,9,-999.0000,9,  -999.00,-999.000,9,-999.000,9,-999.000,9,  11.0711,2,-999.000,9, -999.00,9, -999.00,-999.000,9,-999.000, -999.00,9, -999.00,9, -30.9178,  79.8516,-999.000,-999.000,20090423,       0252
33RR20090320,        I05,     116,          1,         23,         23,2,20090423,       0131,   -30.9183,    79.8517,       3738,   503.9,  10.8247,  34.8966,2,  34.8971,2,    238.5,2,   238.5,2,    4.43,2,   12.96,2,    0.00,2,    0.94,2,-999.000,9,-999.000,9,-999.0000,9,  2124.1,2,  2303.8,2,   7.8943,2,    20.00,-999.000,9,-999.000,9,-999.000,9,  10.8245,2,-999.000,9, -999.00,9, -999.00,-999.000,9,-999.000, -999.00,9, -999.00,9, -30.9179,  79.8517,-999.000,-999.000,20090423,       0250
33RR20090320,        I05,     116,          1,         22,         22,2,20090423,       0131,   -30.9183,    79.8517,       3738,   603.7,  10.1705,  34.8071,2,  34.8078,2,    237.2,2,   235.3,2,    4.95,2,   14.70,2,    0.00,2,    1.04,2,-999.000,9,-999.000,9,-999.0000,9,  -999.0,9,  -999.0,9,-999.0000,9,  -999.00,-999.000,9,-999.000,9,-999.000,9,  10.1707,2,-999.000,9, -999.00,9, -999.00,-999.000,9,-999.000, -999.00,9, -999.00,9, -30.9180,  79.8517,-999.000,-999.000,20090423,       0247
33RR20090320,        I05,     116,          1,         21,         21,2,20090423,       0131,   -30.9183,    79.8517,       3738,   702.5,   9.4239,  34.7031,2,  34.7030,2,    233.2,2,   233.1,2,    5.63,2,   16.71,2,    0.00,2,    1.17,2,-999.000,9,-999.000,9,-999.0000,9,  -999.0,9,  -999.0,9,-999.0000,9,  -999.00,-999.000,9,-999.000,9,-999.000,9,   9.4234,2,-999.000,9, -999.00,9, -999.00,-999.000,9,-999.000, -999.00,9, -999.00,9, -30.9181,  79.8518,-999.000,-999.000,20090423,       0244
33RR20090320,        I05,     116,          1,         20,         20,2,20090423,       0131,   -30.9183,    79.8517,       3738,   801.8,   8.3636,  34.5879,2,  34.5881,2,    214.8,2,   213.9,2,   10.17,2,   21.14,2,    0.00,2,    1.46,2,-999.000,9,-999.000,9,-999.0000,9,  -999.0,9,  -999.0,9,-999.0000,9,  -999.00,-999.000,9,-999.000,9,-999.000,9,   8.3591,2,-999.000,9, -999.00,9, -999.00,-999.000,9,-999.000, -999.00,9, -999.00,9, -30.9183,  79.8517,-999.000,-999.000,20090423,       0241
33RR20090320,        I05,     116,          1,         19,         19,2,20090423,       0131,   -30.9183,    79.8517,       3738,   903.0,   6.9324,  34.4705,2,  34.4716,2,    204.6,2,   204.0,2,   16.82,2,   25.34,2,    0.00,2,    1.75,2,-999.000,9,-999.000,9,-999.0000,9,  2169.1,2,  2289.9,2,   7.7553,2,    20.00,-999.000,9,-999.000,9,-999.000,9,   6.9349,2,-999.000,9, -999.00,9, -999.00,-999.000,9,-999.000, -999.00,9, -999.00,9, -30.9186,  79.8517,-999.000,-999.000,20090423,       0237
33RR20090320,        I05,     116,          1,         18,         18,2,20090423,       0131,   -30.9183,    79.8517,       3738,  1005.0,   5.4559,  34.3834,2,  34.3835,2,    201.9,2,   202.6,2,   25.26,2,   28.77,2,    0.00,2,    2.00,2,-999.000,9,-999.000,9,-999.0000,9,  -999.0,9,  -999.0,9,-999.0000,9,  -999.00,-999.000,9,-999.000,9,-999.000,9,   5.4472,2,-999.000,9, -999.00,9, -999.00,-999.000,9,-999.000, -999.00,9, -999.00,9, -30.9189,  79.8518,-999.000,-999.000,20090423,       0233
33RR20090320,        I05,     116,          1,         17,         17,2,20090423,       0131,   -30.9183,    79.8517,       3738,  1103.7,   4.4181,  34.3859,2,  34.3862,2,    190.5,2,   190.2,2,   38.69,2,   31.58,2,    0.00,2,    2.22,2,-999.000,9,-999.000,9,-999.0000,9,  2209.0,2,  2307.6,2,   7.6819,2,    20.00,-999.000,9,-999.000,9,-999.000,9,   4.4188,2,-999.000,9, -999.00,9, -999.00,-999.000,9,-999.000, -999.00,9, -999.00,9, -30.9189,  79.8520,-999.000,-999.000,20090423,       0230
33RR20090320,        I05,     116,          1,         16,         16,2,20090423,       0131,   -30.9183,    79.8517,       3738,  1205.7,   3.9894,  34.4271,2,  34.4271,2,    177.3,2,   176.5,2,   50.23,2,   33.03,2,    0.00,2,    2.34,2,-999.000,9,-999.000,9,-999.0000,9,  -999.0,9,  -999.0,9,-999.0000,9,  -999.00,-999.000,9,-999.000,9,-999.000,9,   3.9883,2,-999.000,9, -999.00,9, -999.00,-999.000,9,-999.000, -999.00,9, -999.00,9, -30.9190,  79.8522,-999.000,-999.000,20090423,       0228
33RR20090320,        I05,     116,          1,         15,         15,2,20090423,       0131,   -30.9183,    79.8517,       3738,  1304.8,   3.7259,  34.4743,2,  34.4746,2,    165.5,2,   163.8,2,   60.59,2,   33.97,2,    0.00,2,    2.42,2,-999.000,9,-999.000,9,-999.0000,9,  -999.0,9,  -999.0,9,-999.0000,9,  -999.00,-999.000,9,-999.000,9,-999.000,9,   3.7269,2,-999.000,9, -999.00,9, -999.00,-999.000,9,-999.000, -999.00,9, -999.00,9, -30.9190,  79.8523,-999.000,-999.000,20090423,       0225
33RR20090320,        I05,     116,          1,         14,         14,2,20090423,       0131,   -30.9183,    79.8517,       3738,  1404.8,   3.4814,  34.5277,2,  34.5286,2,    155.3,2,   155.5,2,   70.25,2,   34.59,2,    0.00,2,    2.47,2,-999.000,9,-999.000,9,-999.0000,9,  -999.0,9,  -999.0,9,-999.0000,9,  -999.00,-999.000,9,-999.000,9,-999.000,9,   3.4807,2,-999.000,9, -999.00,9, -999.00,-999.000,9,-999.000, -999.00,9, -999.00,9, -30.9188,  79.8524,-999.000,-999.000,20090423,       0222
33RR20090320,        I05,     116,          1,         13,         13,2,20090423,       0131,   -30.9183,    79.8517,       3738,  1506.5,   3.2975,  34.5668,2,  34.5663,2,    152.7,2,   152.3,2,   76.00,2,   34.75,2,    0.00,2,    2.48,2,-999.000,9,-999.000,9,-999.0000,9,  2263.0,2,  2339.1,2,   7.6312,2,    20.00,-999.000,9,-999.000,9,-999.000,9,   3.2967,2,-999.000,9, -999.00,9, -999.00,-999.000,9,-999.000, -999.00,9, -999.00,9, -30.9184,  79.8522,-999.000,-999.000,20090423,       0220
33RR20090320,        I05,     116,          1,         12,         12,2,20090423,       0131,   -30.9183,    79.8517,       3738,  1606.3,   3.1179,  34.6082,2,  34.6081,2,    153.0,2,   152.1,2,   81.21,2,   34.58,2,    0.00,2,    2.47,2,-999.000,9,-999.000,9,-999.0000,9,  -999.0,9,  -999.0,9,-999.0000,9,  -999.00,-999.000,9,-999.000,9,-999.000,9,   3.1174,2,-999.000,9, -999.00,9, -999.00,-999.000,9,-999.000, -999.00,9, -999.00,9, -30.9181,  79.8520,-999.000,-999.000,20090423,       0217
33RR20090320,        I05,     116,          1,         11,         11,2,20090423,       0131,   -30.9183,    79.8517,       3738,  1707.3,   2.9155,  34.6370,2,  34.6372,2,    155.3,2,   155.8,2,   84.26,2,   34.20,2,    0.00,2,    2.44,2,-999.000,9,-999.000,9,-999.0000,9,  -999.0,9,  -999.0,9,-999.0000,9,  -999.00,-999.000,9,-999.000,9,-999.000,9,   2.9162,2,-999.000,9, -999.00,9, -999.00,-999.000,9,-999.000, -999.00,9, -999.00,9, -30.9179,  79.8519,-999.000,-999.000,20090423,       0215
33RR20090320,        I05,     116,          1,         10,         10,2,20090423,       0131,   -30.9183,    79.8517,       3738,  1807.7,   2.7433,  34.6629,2,  34.6628,2,    160.1,2,   160.2,2,   86.25,2,   33.78,2,    0.00,2,    2.40,2,-999.000,9,-999.000,9,-999.0000,9,  -999.0,9,  -999.0,9,-999.0000,9,  -999.00,-999.000,9,-999.000,9,-999.000,9,   2.7431,2,-999.000,9, -999.00,9, -999.00,-999.000,9,-999.000, -999.00,9, -999.00,9, -30.9178,  79.8517,-999.000,-999.000,20090423,       0212
33RR20090320,        I05,     116,          1,          9,          9,2,20090423,       0131,   -30.9183,    79.8517,       3738,  2009.5,   2.4836,  34.6991,2,  34.6983,2,    166.8,2,   166.8,2,   91.66,2,   33.15,2,    0.00,2,    2.35,2,-999.000,9,-999.000,9,-999.0000,9,  2269.5,2,  2361.8,2,   7.6573,2,    20.00,-999.000,9,-999.000,9,-999.000,9,   2.4841,2,-999.000,9, -999.00,9, -999.00,-999.000,9,-999.000, -999.00,9, -999.00,9, -30.9177,  79.8512,-999.000,-999.000,20090423,       0208
33RR20090320,        I05,     116,          1,          8,          8,2,20090423,       0131,   -30.9183,    79.8517,       3738,  2261.4,   2.1606,  34.7303,2,  34.7304,2,    185.7,2,   186.1,2,   86.95,2,   31.30,2,    0.00,2,    2.20,2,-999.000,9,-999.000,9,-999.0000,9,  -999.0,9,  -999.0,9,-999.0000,9,  -999.00,-999.000,9,-999.000,9,-999.000,9,   2.1600,2,-999.000,9, -999.00,9, -999.00,-999.000,9,-999.000, -999.00,9, -999.00,9, -30.9176,  79.8508,-999.000,-999.000,20090423,       0203
33RR20090320,        I05,     116,          1,          7,          7,2,20090423,       0131,   -30.9183,    79.8517,       3738,  2513.0,   1.8985,  34.7412,2,  34.7412,2,    192.4,2,   192.7,2,   93.27,2,   31.04,2,    0.00,2,    2.17,2,-999.000,9,-999.000,9,-999.0000,9,  -999.0,9,  -999.0,9,-999.0000,9,  -999.00,-999.000,9,-999.000,9,-999.000,9,   1.8979,2,-999.000,9, -999.00,9, -999.00,-999.000,9,-999.000, -999.00,9, -999.00,9, -30.9176,  79.8507,-999.000,-999.000,20090423,       0158
33RR20090320,        I05,     116,          1,          6,          6,2,20090423,       0131,   -30.9183,    79.8517,       3738,  2765.3,   1.6774,  34.7377,2,  34.7378,2,    194.6,2,   194.7,2,  101.06,2,   31.18,2,    0.00,2,    2.19,2,-999.000,9,-999.000,9,-999.0000,9,  -999.0,9,  -999.0,9,-999.0000,9,  -999.00,-999.000,9,-999.000,9,-999.000,9,   1.6768,2,-999.000,9, -999.00,9, -999.00,-999.000,9,-999.000, -999.00,9, -999.00,9, -30.9179,  79.8504,-999.000,-999.000,20090423,       0153
33RR20090320,        I05,     116,          1,          5,          5,2,20090423,       0131,   -30.9183,    79.8517,       3738,  3019.0,   1.5063,  34.7331,2,  34.7335,2,    196.1,2,   195.7,2,  107.41,2,   31.65,2,    0.00,2,    2.22,2,-999.000,9,-999.000,9,-999.0000,9,  2264.3,2,  2367.9,2,   7.6901,2,    20.00,-999.000,9,-999.000,9,-999.000,9,   1.5063,2,-999.000,9, -999.00,9, -999.00,-999.000,9,-999.000, -999.00,9, -999.00,9, -30.9181,  79.8507,-999.000,-999.000,20090423,       0148
33RR20090320,        I05,     116,          1,          4,          4,2,20090423,       0131,   -30.9183,    79.8517,       3738,  3322.2,   1.4443,  34.7302,2,  34.7300,2,    196.2,2,   196.3,2,  110.68,2,   31.86,2,    0.00,2,    2.23,2,-999.000,9,-999.000,9,-999.0000,9,  -999.0,9,  -999.0,9,-999.0000,9,  -999.00,-999.000,9,-999.000,9,-999.000,9,   1.4442,2,-999.000,9, -999.00,9, -999.00,-999.000,9,-999.000, -999.00,9, -999.00,9, -30.9180,  79.8513,-999.000,-999.000,20090423,       0142
33RR20090320,        I05,     116,          1,          3,          3,2,20090423,       0131,   -30.9183,    79.8517,       3738,  3627.2,   1.4344,  34.7284,2,  34.7284,2,    196.2,2,   195.5,2,  113.04,2,   32.00,2,    0.00,2,    2.24,2,-999.000,9,-999.000,9,-999.0000,9,  -999.0,9,  -999.0,9,-999.0000,9,  -999.00,-999.000,9,-999.000,9,-999.000,9,   1.4345,2,-999.000,9, -999.00,9, -999.00,-999.000,9,-999.000, -999.00,9, -999.00,9, -30.9182,  79.8516,-999.000,-999.000,20090423,       0136
33RR20090320,        I05,     116,          1,          2,          2,2,20090423,       0131,   -30.9183,    79.8517,       3738,  3704.2,   1.4354,  34.7276,2,  34.7276,2,    196.0,2,   195.0,2,  113.77,2,   32.05,2,    0.00,2,    2.26,2,-999.000,9,-999.000,9,-999.0000,9,  -999.0,9,  -999.0,9,-999.0000,9,  -999.00,-999.000,9,-999.000,9,-999.000,9,   1.4350,2,-999.000,9, -999.00,9, -999.00,-999.000,9,-999.000, -999.00,9, -999.00,9, -30.9182,  79.8516,-999.000,-999.000,20090423,       0134
33RR20090320,        I05,     116,          1,          1,          1,2,20090423,       0131,   -30.9183,    79.8517,       3738,  3782.8,   1.4393,  34.7274,2,  34.7272,2,    194.0,2,   195.0,2,  114.12,2,   32.04,2,    0.00,2,    2.25,2,-999.000,9,-999.000,9,-999.0000,9,  2272.7,6,  2377.9,2,   7.6935,2,    20.00,-999.000,9,-999.000,9,-999.000,9,   1.4387,2,-999.000,9, -999.00,9, -999.00,-999.000,9,-999.000, -999.00,9, -999.00,9, -30.9183,  79.8517,-999.000,-999.000,20090423,       0131