BOTTLE,20220814CCHSIOAMB
EXPOCODE,SECT_ID,STNNBR,CASTNO,SAMPNO,BTLNBR,BTLNBR_FLAG_W,DATE,TIME,LATITUDE,LONGITUDE,DEPTH,CTDPRS,CTDTMP,CTDSAL,CTDSAL_FLAG_W,SALNTY,SALNTY_FLAG_W,CTDOXY,CTDOXY_FLAG_W,OXYGEN,OXYGEN_FLAG_W,SILCAT,SILCAT_FLAG_W,NITRAT,NITRAT_FLAG_W,NITRIT,NITRIT_FLAG_W,PHSPHT,PHSPHT_FLAG_W,CFC-11,CFC-11_FLAG_W,CFC-12,CFC-12_FLAG_W,SF6,SF6_FLAG_W,TCARBN,TCARBN_FLAG_W,ALKALI,ALKALI_FLAG_W,PH_TOT,PH_TOT_FLAG_W,PH_TMP,TRITUM,TRITUM_FLAG_W,HELIUM,HELIUM_FLAG_W,DELHE3,DELHE3_FLAG_W,REFTMP,REFTMP_FLAG_W,DELC13,DELC13_FLAG_W,DELC14,DELC14_FLAG_W,C14ERR,NEON,NEON_FLAG_W,NEONER,DOC,DOC_FLAG_W,TDN,TDN_FLAG_W,BTL_LAT,BTL_LON,HELIER,DELHER,BTL_DATE,BTL_TIME
,,,,,,,,,,,METERS,DBAR,ITS-90,PSS-78,,PSS-78,,UMOL/KG,,UMOL/KG,,UMOL/KG,,UMOL/KG,,UMOL/KG,,UMOL/KG,,PMOL/KG,,PMOL/KG,,FMOL/KG,,UMOL/KG,,UMOL/KG,,,,DEG C,TU,,NMOL/KG,,PERCNT,,DEG C,,/MILLE,,/MILLE,,/MILLE,NMOL/KG,,NMOL/KG,UMOL/KG,,UMOL/KG,,,,NMOL/KG,PERCNT,,
33RR20090320,        I05,     170,          2,         36,         36,2,20090506,       0909,   -31.2127,   104.8233,       5734,     3.5,  19.4875,  35.9453,2,  35.9454,2,    227.7,2,   229.7,2,    1.54,2,    0.04,2,    0.00,2,    0.11,2,-999.000,9,-999.000,9,-999.0000,9,  2068.8,6,  2358.2,2,   8.0961,2,    20.00,-999.000,9,-999.000,9,-999.000,9,  19.4712,2,-999.000,9, -999.00,9, -999.00,-999.000,9,-999.000, -999.00,9, -999.00,9, -31.2124, 104.8232,-999.000,-999.000,20090506,       1136
33RR20090320,        I05,     170,          2,         35,         35,2,20090506,       0909,   -31.2127,   104.8233,       5734,    27.8,  19.4070,  35.9437,2,  35.9450,2,    230.0,2,   229.5,2,    1.50,2,    0.05,2,    0.00,2,    0.10,2,-999.000,9,-999.000,9,-999.0000,9,  2068.3,2,  2358.2,2,   8.0958,2,    20.00,-999.000,9,-999.000,9,-999.000,9,  19.4073,2,-999.000,9, -999.00,9, -999.00,-999.000,9,-999.000, -999.00,9, -999.00,9, -31.2124, 104.8232,-999.000,-999.000,20090506,       1135
33RR20090320,        I05,     170,          2,         34,         34,2,20090506,       0909,   -31.2127,   104.8233,       5734,    52.7,  19.3772,  35.9410,2,  35.9423,2,    230.2,2,   229.2,2,    1.46,2,    0.05,2,    0.00,2,    0.10,2,-999.000,9,-999.000,9,-999.0000,9,  -999.0,9,  -999.0,9,-999.0000,9,  -999.00,-999.000,9,-999.000,9,-999.000,9,  19.3759,2,-999.000,9, -999.00,9, -999.00,-999.000,9,-999.000, -999.00,9, -999.00,9, -31.2124, 104.8232,-999.000,-999.000,20090506,       1133
33RR20090320,        I05,     170,          2,         33,         33,2,20090506,       0909,   -31.2127,   104.8233,       5734,    77.7,  19.3343,  35.9362,2,  35.9375,2,    229.7,2,   229.3,2,    1.43,2,    0.05,2,    0.00,2,    0.10,2,-999.000,9,-999.000,9,-999.0000,9,  2069.0,2,  2357.4,2,   8.0940,2,    20.00,-999.000,9,-999.000,9,-999.000,9,  19.3350,2,-999.000,9, -999.00,9, -999.00,-999.000,9,-999.000, -999.00,9, -999.00,9, -31.2124, 104.8233,-999.000,-999.000,20090506,       1132
33RR20090320,        I05,     170,          2,         32,         32,2,20090506,       0909,   -31.2127,   104.8233,       5734,   103.0,  17.1006,  35.7273,2,  35.7289,2,    239.4,2,   241.2,2,    1.21,2,    0.09,2,    0.02,2,    0.15,2,-999.000,9,-999.000,9,-999.0000,9,  2076.6,2,  2343.6,2,   8.0643,2,    20.00,-999.000,9,-999.000,9,-999.000,9,  17.1191,2,-999.000,9, -999.00,9, -999.00,-999.000,9,-999.000, -999.00,9, -999.00,9, -31.2124, 104.8233,-999.000,-999.000,20090506,       1130
33RR20090320,        I05,     170,          2,         31,         31,2,20090506,       0909,   -31.2127,   104.8233,       5734,   153.0,  14.7151,  35.4989,2,  35.4996,2,    232.3,2,   231.8,2,    1.17,2,    3.35,2,    0.01,2,    0.36,2,-999.000,9,-999.000,9,-999.0000,9,  -999.0,9,  -999.0,9,-999.0000,9,  -999.00,-999.000,9,-999.000,9,-999.000,9,  14.6971,2,-999.000,9, -999.00,9, -999.00,-999.000,9,-999.000, -999.00,9, -999.00,9, -31.2123, 104.8233,-999.000,-999.000,20090506,       1128
33RR20090320,        I05,     170,          2,         30,         30,2,20090506,       0909,   -31.2127,   104.8233,       5734,   202.8,  13.2336,  35.2767,2,  35.2725,2,    236.3,2,   236.9,2,    1.32,2,    5.91,2,    0.00,2,    0.52,2,-999.000,9,-999.000,9,-999.0000,9,  -999.0,9,  -999.0,9,-999.0000,9,  -999.00,-999.000,9,-999.000,9,-999.000,9,  13.2173,2,-999.000,9, -999.00,9, -999.00,-999.000,9,-999.000, -999.00,9, -999.00,9, -31.2123, 104.8233,-999.000,-999.000,20090506,       1125
33RR20090320,        I05,     170,          2,         29,         29,2,20090506,       0909,   -31.2127,   104.8233,       5734,   252.0,  12.0202,  35.0745,2,  35.0779,2,    241.0,2,   241.2,2,    1.65,2,    8.30,2,    0.00,2,    0.66,2,-999.000,9,-999.000,9,-999.0000,9,  2113.8,2,  2312.5,2,   7.9329,2,    20.00,-999.000,9,-999.000,9,-999.000,9,  12.0228,2,-999.000,9, -999.00,9, -999.00,-999.000,9,-999.000, -999.00,9, -999.00,9, -31.2123, 104.8233,-999.000,-999.000,20090506,       1123
33RR20090320,        I05,     170,          2,         28,         28,2,20090506,       0909,   -31.2127,   104.8233,       5734,   302.3,  10.8521,  34.8867,2,  34.8870,2,    244.5,2,   242.6,2,    2.34,2,   11.12,2,    0.00,2,    0.84,2,-999.000,9,-999.000,9,-999.0000,9,  -999.0,9,  -999.0,9,-999.0000,9,  -999.00,-999.000,9,-999.000,9,-999.000,9,  10.8523,2,-999.000,9, -999.00,9, -999.00,-999.000,9,-999.000, -999.00,9, -999.00,9, -31.2124, 104.8233,-999.000,-999.000,20090506,       1121
33RR20090320,        I05,     170,          2,         27,         27,2,20090506,       0909,   -31.2127,   104.8233,       5734,   352.1,  10.1053,  34.7754,2,  34.7751,2,    243.8,2,   243.5,2,    3.05,2,   13.37,2,    0.00,2,    0.98,2,-999.000,9,-999.000,9,-999.0000,9,  -999.0,9,  -999.0,9,-999.0000,9,  -999.00,-999.000,9,-999.000,9,-999.000,9,  10.1034,2,-999.000,9, -999.00,9, -999.00,-999.000,9,-999.000, -999.00,9, -999.00,9, -31.2124, 104.8232,-999.000,-999.000,20090506,       1119
33RR20090320,        I05,     170,          2,         26,         26,2,20090506,       0909,   -31.2127,   104.8233,       5734,   401.9,   9.7167,  34.7290,2,  34.7289,2,    242.4,2,   242.0,2,    3.57,2,   14.76,2,    0.00,2,    1.06,2,-999.000,9,-999.000,9,-999.0000,9,  -999.0,9,  -999.0,9,-999.0000,9,  -999.00,-999.000,9,-999.000,9,-999.000,9,   9.7184,2,-999.000,9, -999.00,9, -999.00,-999.000,9,-999.000, -999.00,9, -999.00,9, -31.2124, 104.8232,-999.000,-999.000,20090506,       1117
33RR20090320,        I05,     170,          2,         25,         25,2,20090506,       0909,   -31.2127,   104.8233,       5734,   502.2,   9.1617,  34.6622,2,  34.6632,2,    241.5,2,   241.0,2,    4.26,2,   16.52,2,    0.00,2,    1.17,2,-999.000,9,-999.000,9,-999.0000,9,  2132.0,2,  2291.0,2,   7.8461,2,    20.00,-999.000,9,-999.000,9,-999.000,9,   9.1611,2,-999.000,9, -999.00,9, -999.00,-999.000,9,-999.000, -999.00,9, -999.00,9, -31.2124, 104.8232,-999.000,-999.000,20090506,       1114
33RR20090320,        I05,     170,          2,         24,         24,2,20090506,       0909,   -31.2127,   104.8233,       5734,   601.5,   8.6398,  34.5952,2,  34.5958,2,    233.9,2,   236.4,2,    5.89,2,   18.39,2,    0.00,2,    1.30,2,-999.000,9,-999.000,9,-999.0000,9,  -999.0,9,  -999.0,9,-999.0000,9,  -999.00,-999.000,9,-999.000,9,-999.000,9,   8.6405,2,-999.000,9, -999.00,9, -999.00,-999.000,9,-999.000, -999.00,9, -999.00,9, -31.2124, 104.8232,-999.000,-999.000,20090506,       1111
33RR20090320,        I05,     170,          2,         23,         23,2,20090506,       0909,   -31.2127,   104.8233,       5734,   701.8,   7.3782,  34.4869,2,  34.4859,2,    204.7,2,   206.7,2,   13.26,2,   23.90,2,    0.00,2,    1.67,2,-999.000,9,-999.000,9,-999.0000,9,  -999.0,9,  -999.0,9,-999.0000,9,  -999.00,-999.000,9,-999.000,9,-999.000,9,   7.3745,2,-999.000,9, -999.00,9, -999.00,-999.000,9,-999.000, -999.00,9, -999.00,9, -31.2124, 104.8232,-999.000,-999.000,20090506,       1108
33RR20090320,        I05,     170,          2,         22,         22,2,20090506,       0909,   -31.2127,   104.8233,       5734,   796.5,   5.6941,  34.4034,2,  34.4036,2,    195.3,2,   195.3,2,   24.56,2,   28.47,2,    0.00,2,    1.99,2,-999.000,9,-999.000,9,-999.0000,9,  -999.0,9,  -999.0,9,-999.0000,9,  -999.00,-999.000,9,-999.000,9,-999.000,9,   5.7308,2,-999.000,9, -999.00,9, -999.00,-999.000,9,-999.000, -999.00,9, -999.00,9, -31.2124, 104.8233,-999.000,-999.000,20090506,       1105
33RR20090320,        I05,     170,          2,         21,         21,2,20090506,       0909,   -31.2127,   104.8233,       5734,   897.4,   4.5800,  34.3883,2,  34.3893,2,    189.8,2,   189.2,2,   37.05,2,   31.06,2,    0.00,2,    2.20,2,-999.000,9,-999.000,9,-999.0000,9,  2206.6,2,  2304.0,2,   7.6782,2,    20.00,-999.000,9,-999.000,9,-999.000,9,   4.5811,2,-999.000,9, -999.00,9, -999.00,-999.000,9,-999.000, -999.00,9, -999.00,9, -31.2123, 104.8233,-999.000,-999.000,20090506,       1102
33RR20090320,        I05,     170,          2,         20,         20,2,20090506,       0909,   -31.2127,   104.8233,       5734,   998.3,   3.9044,  34.4312,2,  34.4335,2,    176.6,2,   173.3,2,   52.79,2,   33.17,2,    0.00,2,    2.37,2,-999.000,9,-999.000,9,-999.0000,9,  -999.0,9,  -999.0,9,-999.0000,9,  -999.00,-999.000,9,-999.000,9,-999.000,9,   3.9031,2,-999.000,9, -999.00,9, -999.00,-999.000,9,-999.000, -999.00,9, -999.00,9, -31.2124, 104.8232,-999.000,-999.000,20090506,       1059
33RR20090320,        I05,     170,          2,         19,         19,2,20090506,       0909,   -31.2127,   104.8233,       5734,  1098.6,   3.5118,  34.4542,2,  34.4521,2,    170.9,2,   171.2,2,   57.84,2,   33.67,2,    0.00,2,    2.41,2,-999.000,9,-999.000,9,-999.0000,9,  -999.0,9,  -999.0,9,-999.0000,9,  -999.00,-999.000,9,-999.000,9,-999.000,9,   3.5115,2,-999.000,9, -999.00,9, -999.00,-999.000,9,-999.000, -999.00,9, -999.00,9, -31.2124, 104.8231,-999.000,-999.000,20090506,       1057
33RR20090320,        I05,     170,          2,         18,         18,2,20090506,       0909,   -31.2127,   104.8233,       5734,  1199.1,   3.3707,  34.5155,2,  34.5159,2,    156.3,2,   156.7,2,   69.34,2,   34.48,2,    0.00,2,    2.49,2,-999.000,9,-999.000,9,-999.0000,9,  -999.0,9,  -999.0,9,-999.0000,9,  -999.00,-999.000,9,-999.000,9,-999.000,9,   3.3705,2,-999.000,9, -999.00,9, -999.00,-999.000,9,-999.000, -999.00,9, -999.00,9, -31.2124, 104.8231,-999.000,-999.000,20090506,       1054
33RR20090320,        I05,     170,          2,         17,         17,2,20090506,       0909,   -31.2127,   104.8233,       5734,  1299.0,   3.1977,  34.5632,2,  34.5632,2,    151.8,2,   151.5,2,   77.26,2,   34.64,2,    0.00,2,    2.51,2,-999.000,9,-999.000,9,-999.0000,9,  -999.0,9,  -999.0,9,-999.0000,9,  -999.00,-999.000,9,-999.000,9,-999.000,9,   3.1976,2,-999.000,9, -999.00,9, -999.00,-999.000,9,-999.000, -999.00,9, -999.00,9, -31.2124, 104.8231,-999.000,-999.000,20090506,       1051
33RR20090320,        I05,     170,          2,         16,         16,2,20090506,       0909,   -31.2127,   104.8233,       5734,  1400.4,   3.0557,  34.5939,2,  34.5940,2,    151.1,2,   150.8,2,   81.02,2,   34.58,2,    0.00,2,    2.51,2,-999.000,9,-999.000,9,-999.0000,9,  -999.0,9,  -999.0,9,-999.0000,9,  -999.00,-999.000,9,-999.000,9,-999.000,9,   3.0563,2,-999.000,9, -999.00,9, -999.00,-999.000,9,-999.000, -999.00,9, -999.00,9, -31.2124, 104.8231,-999.000,-999.000,20090506,       1049
33RR20090320,        I05,     170,          2,         15,         15,2,20090506,       0909,   -31.2127,   104.8233,       5734,  1600.4,   2.7827,  34.6512,2,  34.6530,2,    153.3,2,   152.8,2,   89.92,2,   34.21,2,    0.00,2,    2.48,2,-999.000,9,-999.000,9,-999.0000,9,  2275.3,2,  2358.7,2,   7.6310,2,    20.00,-999.000,9,-999.000,9,-999.000,9,   2.7797,2,-999.000,9, -999.00,9, -999.00,-999.000,9,-999.000, -999.00,9, -999.00,9, -31.2123, 104.8231,-999.000,-999.000,20090506,       1045
33RR20090320,        I05,     170,          2,         14,         14,2,20090506,       0909,   -31.2127,   104.8233,       5734,  1800.5,   2.5280,  34.6930,2,  34.6936,2,    156.7,2,   156.9,2,   98.09,2,   33.72,2,    0.00,2,    2.44,2,-999.000,9,-999.000,9,-999.0000,9,  -999.0,9,  -999.0,9,-999.0000,9,  -999.00,-999.000,9,-999.000,9,-999.000,9,   2.5280,2,-999.000,9, -999.00,9, -999.00,-999.000,9,-999.000, -999.00,9, -999.00,9, -31.2123, 104.8232,-999.000,-999.000,20090506,       1041
33RR20090320,        I05,     170,          2,         13,         13,2,20090506,       0909,   -31.2127,   104.8233,       5734,  2003.3,   2.3347,  34.7117,2,  34.7131,2,    160.7,2,   160.3,2,  104.16,2,   33.51,2,    0.00,2,    2.42,2,-999.000,9,-999.000,9,-999.0000,9,  -999.0,9,  -999.0,9,-999.0000,9,  -999.00,-999.000,9,-999.000,9,-999.000,9,   2.3324,2,-999.000,9, -999.00,9, -999.00,-999.000,9,-999.000, -999.00,9, -999.00,9, -31.2123, 104.8232,-999.000,-999.000,20090506,       1036
33RR20090320,        I05,     170,          2,         12,         12,2,20090506,       0909,   -31.2127,   104.8233,       5734,  2253.7,   2.0745,  34.7250,2,  34.7259,2,    169.1,2,   168.3,2,  108.15,2,   33.02,2,    0.00,2,    2.37,2,-999.000,9,-999.000,9,-999.0000,9,  -999.0,9,  -999.0,9,-999.0000,9,  -999.00,-999.000,9,-999.000,9,-999.000,9,   2.0736,2,-999.000,9, -999.00,9, -999.00,-999.000,9,-999.000, -999.00,9, -999.00,9, -31.2123, 104.8230,-999.000,-999.000,20090506,       1031
33RR20090320,        I05,     170,          2,         11,         11,2,20090506,       0909,   -31.2127,   104.8233,       5734,  2501.6,   1.9282,  34.7302,2,  34.7306,2,    175.9,2,   175.4,2,  107.91,2,   32.48,2,    0.00,2,    2.33,2,-999.000,9,-999.000,9,-999.0000,9,  2278.0,2,  2374.1,2,   7.6673,2,    20.00,-999.000,9,-999.000,9,-999.000,9,   1.9280,2,-999.000,9, -999.00,9, -999.00,-999.000,9,-999.000, -999.00,9, -999.00,9, -31.2123, 104.8231,-999.000,-999.000,20090506,       1026
33RR20090320,        I05,     170,          2,         10,         10,2,20090506,       0909,   -31.2127,   104.8233,       5734,  2749.1,   1.8356,  34.7317,2,  34.7314,2,    179.0,2,   178.8,2,  109.41,2,   32.32,2,    0.00,2,    2.32,2,-999.000,9,-999.000,9,-999.0000,9,  -999.0,9,  -999.0,9,-999.0000,9,  -999.00,-999.000,9,-999.000,9,-999.000,9,   1.8357,2,-999.000,9, -999.00,9, -999.00,-999.000,9,-999.000, -999.00,9, -999.00,9, -31.2122, 104.8231,-999.000,-999.000,20090506,       1020
33RR20090320,        I05,     170,          2,          9,          9,2,20090506,       0909,   -31.2127,   104.8233,       5734,  2997.2,   1.7346,  34.7323,2,  34.7333,2,    182.1,2,   183.6,2,  109.75,2,   32.11,2,    0.00,2,    2.30,2,-999.000,9,-999.000,9,   0.0000,2,  -999.0,9,  -999.0,9,-999.0000,9,  -999.00,-999.000,9,-999.000,9,-999.000,9,   1.7340,2,-999.000,9, -999.00,9, -999.00,-999.000,9,-999.000, -999.00,9, -999.00,9, -31.2122, 104.8231,-999.000,-999.000,20090506,       1014
33RR20090320,        I05,     170,          2,          8,          8,2,20090506,       0909,   -31.2127,   104.8233,       5734,  3300.9,   1.5462,  34.7289,2,  34.7286,2,    188.0,2,   187.3,2,  115.09,2,   32.11,2,    0.00,2,    2.30,2,   0.004,2,   0.003,2,   0.0030,2,  -999.0,9,  -999.0,9,-999.0000,9,  -999.00,-999.000,9,-999.000,9,-999.000,9,   1.5452,2,-999.000,9, -999.00,9, -999.00,-999.000,9,-999.000, -999.00,9, -999.00,9, -31.2122, 104.8230,-999.000,-999.000,20090506,       1008
33RR20090320,        I05,     170,          2,          7,          7,2,20090506,       0909,   -31.2127,   104.8233,       5734,  3610.5,   1.3474,  34.7252,2,  34.7253,2,    194.8,2,   194.7,2,  117.35,2,   32.00,2,    0.00,2,    2.28,2,   0.008,2,   0.005,2,   0.0000,2,  -999.0,9,  -999.0,9,-999.0000,9,  -999.00,-999.000,9,-999.000,9,-999.000,9,   1.3476,2,-999.000,9, -999.00,9, -999.00,-999.000,9,-999.000, -999.00,9, -999.00,9, -31.2121, 104.8229,-999.000,-999.000,20090506,       1001
33RR20090320,        I05,     170,          2,          6,          6,2,20090506,       0909,   -31.2127,   104.8233,       5734,  4022.0,   1.1661,  34.7184,2,  34.7184,2,    201.0,2,   201.2,2,  119.03,2,   31.90,2,    0.00,2,    2.27,2,-999.000,9,-999.000,9,-999.0000,9,  -999.0,9,  -999.0,9,-999.0000,9,  -999.00,-999.000,9,-999.000,9,-999.000,9,   1.1659,2,-999.000,9, -999.00,9, -999.00,-999.000,9,-999.000, -999.00,9, -999.00,9, -31.2120, 104.8230,-999.000,-999.000,20090506,       0952
33RR20090320,        I05,     170,          2,          5,          5,2,20090506,       0909,   -31.2127,   104.8233,       5734,  4428.1,   1.0582,  34.7130,2,  34.7123,2,    205.4,2,   205.5,2,  120.92,2,   31.90,2,    0.00,2,    2.26,2,   0.032,2,   0.017,2,   0.0000,2,  2268.1,2,  2371.5,2,   7.6850,2,    20.00,-999.000,9,-999.000,9,-999.000,9,   1.0584,2,-999.000,9, -999.00,9, -999.00,-999.000,9,-999.000, -999.00,9, -999.00,9, -31.2120, 104.8231,-999.000,-999.000,20090506,       0944
33RR20090320,        I05,     170,          2,          4,          4,2,20090506,       0909,   -31.2127,   104.8233,       5734,  4852.4,   1.0259,  34.7093,2,  34.7093,2,    206.4,2,   206.4,2,  122.61,2,   32.06,2,    0.00,2,    2.28,2,   0.039,2,   0.024,2,   0.0000,2,  -999.0,9,  -999.0,9,-999.0000,9,  -999.00,-999.000,9,-999.000,9,-999.000,9,   1.0258,2,-999.000,9, -999.00,9, -999.00,-999.000,9,-999.000, -999.00,9, -999.00,9, -31.2121, 104.8230,-999.000,-999.000,20090506,       0936
33RR20090320,        I05,     170,          2,          3,          3,2,20090506,       0909,   -31.2127,   104.8233,       5734,  5261.2,   1.0429,  34.7077,2,  34.7082,2,    207.3,2,   206.9,2,  123.14,2,   32.12,2,    0.00,2,    2.28,2,   0.052,2,   0.027,2,   0.0000,2,  2268.4,2,  2371.0,2,   7.6833,2,    20.00,-999.000,9,-999.000,9,-999.000,9,   1.0425,2,-999.000,9, -999.00,9, -999.00,-999.000,9,-999.000, -999.00,9, -999.00,9, -31.2124, 104.8232,-999.000,-999.000,20090506,       0928
33RR20090320,        I05,     170,          2,          2,          2,2,20090506,       0909,   -31.2127,   104.8233,       5734,  5669.5,   1.0837,  34.7070,2,  34.7072,2,    207.9,2,   206.7,2,  123.49,2,   32.12,2,    0.00,2,    2.28,2,   0.054,2,   0.028,2,   0.0000,2,  -999.0,9,  -999.0,9,-999.0000,9,  -999.00,-999.000,9,-999.000,9,-999.000,9,   1.0839,2,-999.000,9, -999.00,9, -999.00,-999.000,9,-999.000, -999.00,9, -999.00,9, -31.2126, 104.8234,-999.000,-999.000,20090506,       0916
33RR20090320,        I05,     170,          2,          1,          1,2,20090506,       0909,   -31.2127,   104.8233,       5734,  5837.3,   1.1047,  34.7064,2,  34.7074,3,    207.0,2,   206.9,2,  124.02,2,   32.12,2,    0.00,2,    2.28,2,   0.057,6,   0.031,6,   0.0000,6,  2269.2,6,  2370.7,2,   7.6847,2,    20.00,-999.000,9,-999.000,9,-999.000,9,   1.1042,2,-999.000,9, -999.00,9, -999.00,-999.000,9,-999.000, -999.00,9, -999.00,9, -31.2127, 104.8233,-999.000,-999.000,20090506,       0909