BOTTLE,20220814CCHSIOAMB
EXPOCODE,SECT_ID,STNNBR,CASTNO,SAMPNO,BTLNBR,BTLNBR_FLAG_W,DATE,TIME,LATITUDE,LONGITUDE,DEPTH,CTDPRS,CTDTMP,CTDSAL,CTDSAL_FLAG_W,SALNTY,SALNTY_FLAG_W,CTDOXY,CTDOXY_FLAG_W,OXYGEN,OXYGEN_FLAG_W,SILCAT,SILCAT_FLAG_W,NITRAT,NITRAT_FLAG_W,NITRIT,NITRIT_FLAG_W,PHSPHT,PHSPHT_FLAG_W,CFC-11,CFC-11_FLAG_W,CFC-12,CFC-12_FLAG_W,SF6,SF6_FLAG_W,TCARBN,TCARBN_FLAG_W,ALKALI,ALKALI_FLAG_W,PH_TOT,PH_TOT_FLAG_W,PH_TMP,TRITUM,TRITUM_FLAG_W,HELIUM,HELIUM_FLAG_W,DELHE3,DELHE3_FLAG_W,REFTMP,REFTMP_FLAG_W,DELC13,DELC13_FLAG_W,DELC14,DELC14_FLAG_W,C14ERR,NEON,NEON_FLAG_W,NEONER,DOC,DOC_FLAG_W,TDN,TDN_FLAG_W,BTL_LAT,BTL_LON,HELIER,DELHER,BTL_DATE,BTL_TIME
,,,,,,,,,,,METERS,DBAR,ITS-90,PSS-78,,PSS-78,,UMOL/KG,,UMOL/KG,,UMOL/KG,,UMOL/KG,,UMOL/KG,,UMOL/KG,,PMOL/KG,,PMOL/KG,,FMOL/KG,,UMOL/KG,,UMOL/KG,,,,DEG C,TU,,NMOL/KG,,PERCNT,,DEG C,,/MILLE,,/MILLE,,/MILLE,NMOL/KG,,NMOL/KG,UMOL/KG,,UMOL/KG,,,,NMOL/KG,PERCNT,,
33RR20090320,        I05,     160,          1,         34,         34,2,20090503,       2321,   -32.0099,   100.9905,       2242,     3.7,  18.7111,  36.0145,2,  36.0151,2,    233.0,2,   233.8,2,    2.07,2,    0.07,2,    0.00,2,    0.12,2,-999.000,9,-999.000,9,-999.0000,9,  2081.6,6,  2366.7,2,   8.0790,2,    20.00,-999.000,9,-999.000,9,-999.000,9,  18.7101,2,-999.000,9, -999.00,9, -999.00,-999.000,9,-999.000, -999.00,9, -999.00,9, -32.0100, 100.9901,-999.000,-999.000,20090504,       0025
33RR20090320,        I05,     160,          1,         33,         33,2,20090503,       2321,   -32.0099,   100.9905,       2242,    24.0,  18.7167,  36.0147,2,  36.0161,2,    233.6,2,   233.3,2,    1.93,2,    0.07,2,    0.00,2,    0.11,2,-999.000,9,-999.000,9,-999.0000,9,  2082.1,2,  2366.3,2,   8.0786,2,    20.00,-999.000,9,-999.000,9,-999.000,9,  18.7154,2,-999.000,9, -999.00,9, -999.00,-999.000,9,-999.000, -999.00,9, -999.00,9, -32.0100, 100.9901,-999.000,-999.000,20090504,       0024
33RR20090320,        I05,     160,          1,         32,         32,2,20090503,       2321,   -32.0099,   100.9905,       2242,    44.4,  18.7294,  36.0189,2,  36.0231,2,    234.9,2,   233.0,2,    2.15,2,    0.02,2,    0.00,2,    0.11,2,-999.000,9,-999.000,9,-999.0000,9,  -999.0,9,  -999.0,9,-999.0000,9,  -999.00,-999.000,9,-999.000,9,-999.000,9,  18.7288,2,-999.000,9, -999.00,9, -999.00,-999.000,9,-999.000, -999.00,9, -999.00,9, -32.0100, 100.9901,-999.000,-999.000,20090504,       0023
33RR20090320,        I05,     160,          1,         31,         31,2,20090503,       2321,   -32.0099,   100.9905,       2242,    68.9,  18.6804,  36.0172,2,  36.0195,2,    234.0,2,   234.2,2,    1.82,2,    0.02,2,    0.00,2,    0.11,2,-999.000,9,-999.000,9,-999.0000,9,  2082.0,2,  2364.9,2,   8.0779,2,    20.00,-999.000,9,-999.000,9,-999.000,9,  18.6756,2,-999.000,9, -999.00,9, -999.00,-999.000,9,-999.000, -999.00,9, -999.00,9, -32.0101, 100.9901,-999.000,-999.000,20090504,       0021
33RR20090320,        I05,     160,          1,         30,         30,2,20090503,       2321,   -32.0099,   100.9905,       2242,    93.7,  15.8215,  35.6420,2,  35.6343,2,    251.1,2,   250.9,2,    1.33,2,    0.11,2,    0.02,2,    0.16,2,-999.000,9,-999.000,9,-999.0000,9,  -999.0,9,  -999.0,9,-999.0000,9,  -999.00,-999.000,9,-999.000,9,-999.000,9,  15.8207,2,-999.000,9, -999.00,9, -999.00,-999.000,9,-999.000, -999.00,9, -999.00,9, -32.0101, 100.9902,-999.000,-999.000,20090504,       0020
33RR20090320,        I05,     160,          1,         29,         29,2,20090503,       2321,   -32.0099,   100.9905,       2242,   119.0,  15.1513,  35.5817,2,  35.5836,2,    244.2,2,   243.8,2,    1.19,2,    0.92,2,    0.12,2,    0.22,2,-999.000,9,-999.000,9,-999.0000,9,  2088.6,2,  2341.1,2,   8.0291,2,    20.00,-999.000,9,-999.000,9,-999.000,9,  15.1473,2,-999.000,9, -999.00,9, -999.00,-999.000,9,-999.000, -999.00,9, -999.00,9, -32.0101, 100.9902,-999.000,-999.000,20090504,       0019
33RR20090320,        I05,     160,          1,         28,         28,2,20090503,       2321,   -32.0099,   100.9905,       2242,   144.2,  14.4899,  35.5013,2,  35.5051,2,    236.8,2,   236.7,2,    1.22,2,    3.12,2,    0.06,2,    0.34,2,-999.000,9,-999.000,9,-999.0000,9,  -999.0,9,  -999.0,9,-999.0000,9,  -999.00,-999.000,9,-999.000,9,-999.000,9,  14.4963,2,-999.000,9, -999.00,9, -999.00,-999.000,9,-999.000, -999.00,9, -999.00,9, -32.0101, 100.9902,-999.000,-999.000,20090504,       0018
33RR20090320,        I05,     160,          1,         27,         27,2,20090503,       2321,   -32.0099,   100.9905,       2242,   166.6,  13.8874,  35.4091,2,  35.4109,2,    235.6,2,   234.9,2,    1.08,2,    4.62,2,    0.01,2,    0.42,2,-999.000,9,-999.000,9,-999.0000,9,  -999.0,9,  -999.0,9,-999.0000,9,  -999.00,-999.000,9,-999.000,9,-999.000,9,  13.8782,2,-999.000,9, -999.00,9, -999.00,-999.000,9,-999.000, -999.00,9, -999.00,9, -32.0100, 100.9902,-999.000,-999.000,20090504,       0016
33RR20090320,        I05,     160,          1,         26,         26,2,20090503,       2321,   -32.0099,   100.9905,       2242,   193.4,  13.3978,  35.3272,2,  35.3277,2,    237.2,2,   236.9,2,    0.94,2,    5.52,2,    0.00,2,    0.49,2,-999.000,9,-999.000,9,-999.0000,9,  2104.7,2,  2325.0,2,   7.9713,2,    20.00,-999.000,9,-999.000,9,-999.000,9,  13.3980,2,-999.000,9, -999.00,9, -999.00,-999.000,9,-999.000, -999.00,9, -999.00,9, -32.0100, 100.9902,-999.000,-999.000,20090504,       0015
33RR20090320,        I05,     160,          1,         25,         25,2,20090503,       2321,   -32.0099,   100.9905,       2242,   218.2,  12.9125,  35.2422,2,  35.2463,2,    239.3,2,   239.0,2,    0.80,2,    6.38,2,    0.00,2,    0.54,2,-999.000,9,-999.000,9,-999.0000,9,  -999.0,9,  -999.0,9,-999.0000,9,  -999.00,-999.000,9,-999.000,9,-999.000,9,  12.9199,2,-999.000,9, -999.00,9, -999.00,-999.000,9,-999.000, -999.00,9, -999.00,9, -32.0099, 100.9902,-999.000,-999.000,20090504,       0014
33RR20090320,        I05,     160,          1,         24,         24,2,20090503,       2321,   -32.0099,   100.9905,       2242,   243.6,  12.4327,  35.1567,2,  35.1638,2,    241.8,2,   240.8,2,    0.83,2,    7.35,2,    0.00,2,    0.60,2,-999.000,9,-999.000,9,-999.0000,9,  -999.0,9,  -999.0,9,-999.0000,9,  -999.00,-999.000,9,-999.000,9,-999.000,9,  12.4363,2,-999.000,9, -999.00,9, -999.00,-999.000,9,-999.000, -999.00,9, -999.00,9, -32.0099, 100.9902,-999.000,-999.000,20090504,       0013
33RR20090320,        I05,     160,          1,         23,         23,2,20090503,       2321,   -32.0099,   100.9905,       2242,   286.6,  11.2982,  34.9616,2,  34.9642,2,    241.9,2,   242.4,2,    0.87,2,   10.07,2,    0.00,2,    0.76,2,-999.000,9,-999.000,9,-999.0000,9,  2114.7,2,  2305.3,2,   7.9142,2,    20.00,-999.000,9,-999.000,9,-999.000,9,  11.2909,2,-999.000,9, -999.00,9, -999.00,-999.000,9,-999.000, -999.00,9, -999.00,9, -32.0099, 100.9902,-999.000,-999.000,20090504,       0011
33RR20090320,        I05,     160,          1,         22,         22,2,20090503,       2321,   -32.0099,   100.9905,       2242,   337.1,  10.3849,  34.8160,2,  34.8167,2,    242.4,2,   242.4,2,    1.98,2,   12.58,2,    0.00,2,    0.92,2,-999.000,9,-999.000,9,-999.0000,9,  -999.0,9,  -999.0,9,-999.0000,9,  -999.00,-999.000,9,-999.000,9,-999.000,9,  10.3844,2,-999.000,9, -999.00,9, -999.00,-999.000,9,-999.000, -999.00,9, -999.00,9, -32.0099, 100.9902,-999.000,-999.000,20090504,       0009
33RR20090320,        I05,     160,          1,         21,         21,2,20090503,       2321,   -32.0099,   100.9905,       2242,   386.6,   9.9750,  34.7631,2,  34.7650,2,    241.6,2,   241.7,2,    2.21,2,   14.03,2,    0.00,2,    1.01,2,-999.000,9,-999.000,9,-999.0000,9,  -999.0,9,  -999.0,9,-999.0000,9,  -999.00,-999.000,9,-999.000,9,-999.000,9,   9.9762,2,-999.000,9, -999.00,9, -999.00,-999.000,9,-999.000, -999.00,9, -999.00,9, -32.0100, 100.9902,-999.000,-999.000,20090504,       0008
33RR20090320,        I05,     160,          1,         20,         20,2,20090503,       2321,   -32.0099,   100.9905,       2242,   436.0,   9.7250,  34.7362,2,  34.7373,2,    240.6,2,   240.7,2,    2.78,2,   14.94,2,    0.00,2,    1.06,2,-999.000,9,-999.000,9,-999.0000,9,  -999.0,9,  -999.0,9,-999.0000,9,  -999.00,-999.000,9,-999.000,9,-999.000,9,   9.7231,2,-999.000,9, -999.00,9, -999.00,-999.000,9,-999.000, -999.00,9, -999.00,9, -32.0100, 100.9902,-999.000,-999.000,20090504,       0006
33RR20090320,        I05,     160,          1,         19,         19,2,20090503,       2321,   -32.0099,   100.9905,       2242,   484.8,   9.3848,  34.6937,2,  34.6953,2,    240.2,2,   240.3,2,    2.65,2,   16.06,2,    0.00,2,    1.13,2,-999.000,9,-999.000,9,-999.0000,9,  -999.0,9,  -999.0,9,-999.0000,9,  -999.00,-999.000,9,-999.000,9,-999.000,9,   9.3842,2,-999.000,9, -999.00,9, -999.00,-999.000,9,-999.000, -999.00,9, -999.00,9, -32.0100, 100.9902,-999.000,-999.000,20090504,       0005
33RR20090320,        I05,     160,          1,         18,         18,2,20090503,       2321,   -32.0099,   100.9905,       2242,   566.9,   8.9533,  34.6350,2,  34.6391,2,    239.7,2,   239.4,2,    3.22,2,   17.35,2,    0.00,2,    1.21,2,-999.000,9,-999.000,9,-999.0000,9,  -999.0,9,  -999.0,9,-999.0000,9,  -999.00,-999.000,9,-999.000,9,-999.000,9,   8.9669,2,-999.000,9, -999.00,9, -999.00,-999.000,9,-999.000, -999.00,9, -999.00,9, -32.0100, 100.9903,-999.000,-999.000,20090504,       0002
33RR20090320,        I05,     160,          1,         17,         17,2,20090503,       2321,   -32.0099,   100.9905,       2242,   665.8,   7.8876,  34.5209,2,  34.5279,2,    221.4,2,   216.9,2,    7.78,2,   21.96,2,    0.00,2,    1.51,2,-999.000,9,-999.000,9,-999.0000,9,  2149.1,2,  2289.0,2,   7.7903,2,    20.00,-999.000,9,-999.000,9,-999.000,9,   7.9136,2,-999.000,9, -999.00,9, -999.00,-999.000,9,-999.000, -999.00,9, -999.00,9, -32.0100, 100.9903,-999.000,-999.000,20090504,       0000
33RR20090320,        I05,     160,          1,         16,         16,2,20090503,       2321,   -32.0099,   100.9905,       2242,   766.2,   6.5962,  34.4403,2,  34.4441,2,    198.6,2,   198.9,2,   15.64,2,   26.44,2,    0.00,2,    1.82,2,-999.000,9,-999.000,9,-999.0000,9,  -999.0,9,  -999.0,9,-999.0000,9,  -999.00,-999.000,9,-999.000,9,-999.000,9,   6.6357,2,-999.000,9, -999.00,9, -999.00,-999.000,9,-999.000, -999.00,9, -999.00,9, -32.0100, 100.9903,-999.000,-999.000,20090503,       2358
33RR20090320,        I05,     160,          1,         15,         15,2,20090503,       2321,   -32.0099,   100.9905,       2242,   867.4,   5.1201,  34.3826,2,  34.3856,2,    194.8,2,   195.2,2,   26.84,2,   29.79,2,    0.00,2,    2.07,2,-999.000,9,-999.000,9,-999.0000,9,  -999.0,9,  -999.0,9,-999.0000,9,  -999.00,-999.000,9,-999.000,9,-999.000,9,   5.1618,2,-999.000,9, -999.00,9, -999.00,-999.000,9,-999.000, -999.00,9, -999.00,9, -32.0100, 100.9903,-999.000,-999.000,20090503,       2355
33RR20090320,        I05,     160,          1,         14,         14,2,20090503,       2321,   -32.0099,   100.9905,       2242,   965.7,   4.1585,  34.3950,2,  34.3962,2,    187.9,2,   186.0,2,   41.22,2,   32.22,2,    0.00,2,    2.28,2,-999.000,9,-999.000,9,-999.0000,9,  -999.0,9,  -999.0,9,-999.0000,9,  -999.00,-999.000,9,-999.000,9,-999.000,9,   4.1564,2,-999.000,9, -999.00,9, -999.00,-999.000,9,-999.000, -999.00,9, -999.00,9, -32.0099, 100.9903,-999.000,-999.000,20090503,       2353
33RR20090320,        I05,     160,          1,         13,         13,2,20090503,       2321,   -32.0099,   100.9905,       2242,  1065.6,   3.6910,  34.4414,2,  34.4414,2,    173.9,2,   173.1,2,   53.13,2,   33.63,2,    0.00,2,    2.40,2,-999.000,9,-999.000,9,-999.0000,9,  2231.3,2,  2322.0,2,   7.6454,2,    20.00,-999.000,9,-999.000,9,-999.000,9,   3.6902,2,-999.000,9, -999.00,9, -999.00,-999.000,9,-999.000, -999.00,9, -999.00,9, -32.0099, 100.9903,-999.000,-999.000,20090503,       2350
33RR20090320,        I05,     160,          1,         12,         12,2,20090503,       2321,   -32.0099,   100.9905,       2242,  1164.5,   3.4298,  34.4815,2,  34.4825,2,    167.0,2,   164.7,2,   61.37,2,   34.33,2,    0.00,2,    2.45,2,-999.000,9,-999.000,9,-999.0000,9,  -999.0,9,  -999.0,9,-999.0000,9,  -999.00,-999.000,9,-999.000,9,-999.000,9,   3.4297,2,-999.000,9, -999.00,9, -999.00,-999.000,9,-999.000, -999.00,9, -999.00,9, -32.0099, 100.9903,-999.000,-999.000,20090503,       2347
33RR20090320,        I05,     160,          1,         11,         11,2,20090503,       2321,   -32.0099,   100.9905,       2242,  1269.4,   3.2441,  34.5137,2,  34.5149,2,    160.5,2,   160.9,2,   66.67,2,   34.66,2,    0.00,2,    2.47,2,-999.000,9,-999.000,9,-999.0000,9,  -999.0,9,  -999.0,9,-999.0000,9,  -999.00,-999.000,9,-999.000,9,-999.000,9,   3.2430,2,-999.000,9, -999.00,9, -999.00,-999.000,9,-999.000, -999.00,9, -999.00,9, -32.0099, 100.9904,-999.000,-999.000,20090503,       2345
33RR20090320,        I05,     160,          1,         10,         10,2,20090503,       2321,   -32.0099,   100.9905,       2242,  1355.7,   3.0560,  34.5549,2,  34.5553,2,    157.9,2,   158.2,2,   72.73,2,   34.76,2,    0.00,2,    2.48,2,-999.000,9,-999.000,9,-999.0000,9,  -999.0,9,  -999.0,9,-999.0000,9,  -999.00,-999.000,9,-999.000,9,-999.000,9,   3.0547,2,-999.000,9, -999.00,9, -999.00,-999.000,9,-999.000, -999.00,9, -999.00,9, -32.0099, 100.9904,-999.000,-999.000,20090503,       2343
33RR20090320,        I05,     160,          1,          9,          9,2,20090503,       2321,   -32.0099,   100.9905,       2242,  1471.2,   2.9039,  34.6235,2,  34.6241,2,    153.0,2,   153.1,2,   82.37,2,   34.60,2,    0.00,2,    2.49,2,-999.000,9,-999.000,9,-999.0000,9,  -999.0,9,  -999.0,9,-999.0000,9,  -999.00,-999.000,9,-999.000,9,-999.000,9,   2.9050,2,-999.000,9, -999.00,9, -999.00,-999.000,9,-999.000, -999.00,9, -999.00,9, -32.0100, 100.9904,-999.000,-999.000,20090503,       2340
33RR20090320,        I05,     160,          1,          8,          8,2,20090503,       2321,   -32.0099,   100.9905,       2242,  1568.4,   2.7511,  34.6532,2,  34.6544,2,    155.2,2,   155.3,2,   86.80,2,   34.20,2,    0.00,2,    2.45,2,-999.000,9,-999.000,9,-999.0000,9,  -999.0,9,  -999.0,9,-999.0000,9,  -999.00,-999.000,9,-999.000,9,-999.000,9,   2.7512,2,-999.000,9, -999.00,9, -999.00,-999.000,9,-999.000, -999.00,9, -999.00,9, -32.0100, 100.9904,-999.000,-999.000,20090503,       2337
33RR20090320,        I05,     160,          1,          7,          7,2,20090503,       2321,   -32.0099,   100.9905,       2242,  1670.2,   2.6352,  34.6712,2,  34.6721,2,    158.3,2,   158.5,2,   88.59,2,   33.88,2,    0.00,2,    2.43,2,-999.000,9,-999.000,9,-999.0000,9,  2268.9,2,  2361.6,2,   7.6406,2,    20.00,-999.000,9,-999.000,9,-999.000,9,   2.6365,2,-999.000,9, -999.00,9, -999.00,-999.000,9,-999.000, -999.00,9, -999.00,9, -32.0100, 100.9904,-999.000,-999.000,20090503,       2335
33RR20090320,        I05,     160,          1,          6,          6,2,20090503,       2321,   -32.0099,   100.9905,       2242,  1770.0,   2.5594,  34.6832,2,  34.6862,2,    160.2,2,   160.7,2,   93.80,2,   33.66,2,    0.00,2,    2.41,2,-999.000,9,-999.000,9,-999.0000,9,  -999.0,9,  -999.0,9,-999.0000,9,  -999.00,-999.000,9,-999.000,9,-999.000,9,   2.5580,2,-999.000,9, -999.00,9, -999.00,-999.000,9,-999.000, -999.00,9, -999.00,9, -32.0099, 100.9904,-999.000,-999.000,20090503,       2332
33RR20090320,        I05,     160,          1,          5,          5,2,20090503,       2321,   -32.0099,   100.9905,       2242,  1870.0,   2.4522,  34.6969,2,  34.6983,2,    165.1,2,   165.3,2,   92.02,2,   33.22,2,    0.00,2,    2.37,2,-999.000,9,-999.000,9,-999.0000,9,  -999.0,9,  -999.0,9,-999.0000,9,  -999.00,-999.000,9,-999.000,9,-999.000,9,   2.4535,2,-999.000,9, -999.00,9, -999.00,-999.000,9,-999.000, -999.00,9, -999.00,9, -32.0099, 100.9904,-999.000,-999.000,20090503,       2330
33RR20090320,        I05,     160,          1,          4,          4,2,20090503,       2321,   -32.0099,   100.9905,       2242,  1973.2,   2.3503,  34.7081,2,  34.7097,2,    167.7,2,   167.5,2,   95.15,2,   33.00,2,    0.00,2,    2.35,2,-999.000,9,-999.000,9,-999.0000,9,  -999.0,9,  -999.0,9,-999.0000,9,  -999.00,-999.000,9,-999.000,9,-999.000,9,   2.3503,2,-999.000,9, -999.00,9, -999.00,-999.000,9,-999.000, -999.00,9, -999.00,9, -32.0099, 100.9905,-999.000,-999.000,20090503,       2327
33RR20090320,        I05,     160,          1,          3,          3,2,20090503,       2321,   -32.0099,   100.9905,       2242,  2141.4,   2.0937,  34.7264,2,-999.0000,9,   -999.0,5,  -999.0,9, -999.00,9, -999.00,9, -999.00,9, -999.00,9,-999.000,9,-999.000,9,-999.0000,9,  -999.0,9,  -999.0,9,   7.6681,2,    20.00,-999.000,9,-999.000,9,-999.000,9,   2.0934,2,-999.000,9, -999.00,9, -999.00,-999.000,9,-999.000, -999.00,9, -999.00,9, -32.0099, 100.9905,-999.000,-999.000,20090503,       2324
33RR20090320,        I05,     160,          1,          2,          2,2,20090503,       2321,   -32.0099,   100.9905,       2242,  2142.2,   2.0929,  34.7264,2,  34.7274,2,    177.9,2,   177.4,2,   97.72,2,   32.40,2,    0.00,2,    2.29,2,-999.000,9,-999.000,9,-999.0000,9,  -999.0,9,  -999.0,9,-999.0000,9,  -999.00,-999.000,9,-999.000,9,-999.000,9,   2.0929,2,-999.000,9, -999.00,9, -999.00,-999.000,9,-999.000, -999.00,9, -999.00,9, -32.0099, 100.9905,-999.000,-999.000,20090503,       2323
33RR20090320,        I05,     160,          1,          1,          1,2,20090503,       2321,   -32.0099,   100.9905,       2242,  2255.9,   2.0117,  34.7297,2,  34.7309,2,    179.1,2,   178.7,2,  101.62,2,   32.34,2,    0.00,2,    2.28,2,-999.000,9,-999.000,9,-999.0000,9,  2268.0,6,  2368.3,2,   7.6701,2,    20.00,-999.000,9,-999.000,9,-999.000,9,   2.0114,2,-999.000,9, -999.00,9, -999.00,-999.000,9,-999.000, -999.00,9, -999.00,9, -32.0099, 100.9905,-999.000,-999.000,20090503,       2321