BOTTLE,20220814CCHSIOAMB
EXPOCODE,SECT_ID,STNNBR,CASTNO,SAMPNO,BTLNBR,BTLNBR_FLAG_W,DATE,TIME,LATITUDE,LONGITUDE,DEPTH,CTDPRS,CTDTMP,CTDSAL,CTDSAL_FLAG_W,SALNTY,SALNTY_FLAG_W,CTDOXY,CTDOXY_FLAG_W,OXYGEN,OXYGEN_FLAG_W,SILCAT,SILCAT_FLAG_W,NITRAT,NITRAT_FLAG_W,NITRIT,NITRIT_FLAG_W,PHSPHT,PHSPHT_FLAG_W,CFC-11,CFC-11_FLAG_W,CFC-12,CFC-12_FLAG_W,SF6,SF6_FLAG_W,TCARBN,TCARBN_FLAG_W,ALKALI,ALKALI_FLAG_W,PH_TOT,PH_TOT_FLAG_W,PH_TMP,TRITUM,TRITUM_FLAG_W,HELIUM,HELIUM_FLAG_W,DELHE3,DELHE3_FLAG_W,REFTMP,REFTMP_FLAG_W,DELC13,DELC13_FLAG_W,DELC14,DELC14_FLAG_W,C14ERR,NEON,NEON_FLAG_W,NEONER,DOC,DOC_FLAG_W,TDN,TDN_FLAG_W,BTL_LAT,BTL_LON,HELIER,DELHER,BTL_DATE,BTL_TIME
,,,,,,,,,,,METERS,DBAR,ITS-90,PSS-78,,PSS-78,,UMOL/KG,,UMOL/KG,,UMOL/KG,,UMOL/KG,,UMOL/KG,,UMOL/KG,,PMOL/KG,,PMOL/KG,,FMOL/KG,,UMOL/KG,,UMOL/KG,,,,DEG C,TU,,NMOL/KG,,PERCNT,,DEG C,,/MILLE,,/MILLE,,/MILLE,NMOL/KG,,NMOL/KG,UMOL/KG,,UMOL/KG,,,,NMOL/KG,PERCNT,,
33RR20090320,        I05,      15,          1,         36,         36,2,20090327,       0243,   -32.4249,    33.0390,       3542,    10.2,  24.3467,  35.5539,2,  35.5553,2,    210.7,2,   209.7,2,    1.70,2,    0.12,2,    0.00,2,    0.05,2,-999.000,9,-999.000,9,-999.0000,9,  2005.7,6,  2328.4,2,   8.1593,2,    20.00,-999.000,9,-999.000,9,-999.000,9,  24.3462,2,-999.000,9, -999.00,9, -999.00,-999.000,9,-999.000, -999.00,9, -999.00,9, -32.4251,  33.0388,-999.000,-999.000,20090327,       0420
33RR20090320,        I05,      15,          1,         35,         35,2,20090327,       0243,   -32.4249,    33.0390,       3542,    40.7,  22.5792,  35.6210,4,  35.5962,2,    220.0,2,   217.8,2,    1.89,2,    0.12,2,    0.00,2,    0.06,2,-999.000,9,-999.000,9,-999.0000,9,  2022.6,2,  2330.9,2,   8.1385,2,    20.00,-999.000,9,-999.000,9,-999.000,9,  22.5687,2,-999.000,9, -999.00,9, -999.00,-999.000,9,-999.000, -999.00,9, -999.00,9, -32.4250,  33.0388,-999.000,-999.000,20090327,       0418
33RR20090320,        I05,      15,          1,         34,         34,2,20090327,       0243,   -32.4249,    33.0390,       3542,    65.2,  20.5845,  35.5556,2,  35.5563,2,    207.2,2,   217.9,2,    2.27,2,    0.49,2,    0.08,2,    0.13,2,-999.000,9,-999.000,9,-999.0000,9,  2043.0,2,  2328.5,2,   8.0994,2,    20.00,-999.000,9,-999.000,9,-999.000,9,  20.5703,2,-999.000,9, -999.00,9, -999.00,-999.000,9,-999.000, -999.00,9, -999.00,9, -32.4250,  33.0388,-999.000,-999.000,20090327,       0417
33RR20090320,        I05,      15,          1,         33,         33,2,20090327,       0243,   -32.4249,    33.0390,       3542,    89.9,  19.3560,  35.5459,2,  35.5470,2,    209.1,2,   209.6,2,    2.86,2,    1.50,2,    0.10,2,    0.22,2,-999.000,9,-999.000,9,-999.0000,9,  2056.9,2,  2325.4,2,   8.0723,2,    20.00,-999.000,9,-999.000,9,-999.000,9,  19.2995,2,-999.000,9, -999.00,9, -999.00,-999.000,9,-999.000, -999.00,9, -999.00,9, -32.4250,  33.0388,-999.000,-999.000,20090327,       0415
33RR20090320,        I05,      15,          1,         32,         32,2,20090327,       0243,   -32.4249,    33.0390,       3542,   115.4,  18.5376,  35.5431,2,  35.5443,2,    206.2,2,   201.5,2,    3.64,2,    3.23,2,    0.01,2,    0.32,2,-999.000,9,-999.000,9,-999.0000,9,  2068.8,2,  2326.7,2,   8.0487,2,    20.00,-999.000,9,-999.000,9,-999.000,9,  18.5375,2,-999.000,9, -999.00,9, -999.00,-999.000,9,-999.000, -999.00,9, -999.00,9, -32.4250,  33.0388,-999.000,-999.000,20090327,       0414
33RR20090320,        I05,      15,          1,         31,         31,2,20090327,       0243,   -32.4249,    33.0390,       3542,   140.0,  18.2024,  35.5428,2,  35.5445,2,    203.3,2,   198.5,2,    3.82,2,    3.88,2,    0.01,2,    0.36,2,-999.000,9,-999.000,9,-999.0000,9,  2073.9,2,  2329.4,2,   8.0364,2,    20.00,-999.000,9,-999.000,9,-999.000,9,  18.1988,2,-999.000,9, -999.00,9, -999.00,-999.000,9,-999.000, -999.00,9, -999.00,9, -32.4250,  33.0388,-999.000,-999.000,20090327,       0413
33RR20090320,        I05,      15,          1,         30,         30,2,20090327,       0243,   -32.4249,    33.0390,       3542,   169.8,  17.6254,  35.5382,2,  35.5376,2,    202.0,2,   198.0,2,    4.41,2,    4.73,2,    0.01,2,    0.41,2,-999.000,9,-999.000,9,-999.0000,9,  2081.6,2,  2330.0,2,   8.0231,2,    20.00,-999.000,9,-999.000,9,-999.000,9,  17.6234,2,-999.000,9, -999.00,9, -999.00,-999.000,9,-999.000, -999.00,9, -999.00,9, -32.4251,  33.0388,-999.000,-999.000,20090327,       0411
33RR20090320,        I05,      15,          1,         29,         29,2,20090327,       0243,   -32.4249,    33.0390,       3542,   219.6,  16.7551,  35.5171,2,  35.5171,2,    198.5,2,   196.9,2,    4.99,2,    5.87,2,    0.01,2,    0.50,2,-999.000,9,-999.000,9,-999.0000,9,  2093.0,2,  2327.7,2,   8.0005,2,    20.00,-999.000,9,-999.000,9,-999.000,9,  16.7449,2,-999.000,9, -999.00,9, -999.00,-999.000,9,-999.000, -999.00,9, -999.00,9, -32.4251,  33.0388,-999.000,-999.000,20090327,       0409
33RR20090320,        I05,      15,          1,         28,         28,2,20090327,       0243,   -32.4249,    33.0390,       3542,   270.1,  16.2597,  35.5094,2,  35.5100,2,    208.2,2,   207.2,2,    4.18,2,    5.42,2,    0.00,2,    0.47,2,-999.000,9,-999.000,9,-999.0000,9,  2090.3,2,  -999.0,5,   8.0022,2,    20.00,-999.000,9,-999.000,9,-999.000,9,  16.2585,2,-999.000,9, -999.00,9, -999.00,-999.000,9,-999.000, -999.00,9, -999.00,9, -32.4251,  33.0388,-999.000,-999.000,20090327,       0408
33RR20090320,        I05,      15,          1,         27,         27,2,20090327,       0243,   -32.4249,    33.0390,       3542,   319.0,  15.3891,  35.4488,2,  35.4495,2,    202.1,2,   199.6,2,    4.97,2,    7.36,2,    0.00,2,    0.59,2,-999.000,9,-999.000,9,-999.0000,9,  2105.3,2,  2325.9,2,   7.9694,2,    20.00,-999.000,9,-999.000,9,-999.000,9,  15.3873,2,-999.000,9, -999.00,9, -999.00,-999.000,9,-999.000, -999.00,9, -999.00,9, -32.4251,  33.0388,-999.000,-999.000,20090327,       0406
33RR20090320,        I05,      15,          1,         26,         26,2,20090327,       0243,   -32.4249,    33.0390,       3542,   369.0,  14.6104,  35.3977,2,  35.3984,2,    204.6,2,   203.9,2,    4.96,2,    8.16,2,    0.00,2,    0.63,2,-999.000,9,-999.000,9,-999.0000,9,  -999.0,9,  -999.0,9,-999.0000,9,  -999.00,-999.000,9,-999.000,9,-999.000,9,  14.6102,2,-999.000,9, -999.00,9, -999.00,-999.000,9,-999.000, -999.00,9, -999.00,9, -32.4251,  33.0388,-999.000,-999.000,20090327,       0403
33RR20090320,        I05,      15,          1,         25,         25,2,20090327,       0243,   -32.4249,    33.0390,       3542,   420.1,  13.9291,  35.3368,2,  35.3367,2,    209.7,2,   209.9,2,    4.75,2,    8.90,2,    0.00,2,    0.68,2,-999.000,9,-999.000,9,-999.0000,9,  2112.7,2,  2320.3,2,   7.9456,2,    20.00,-999.000,9,-999.000,9,-999.000,9,  13.9262,2,-999.000,9, -999.00,9, -999.00,-999.000,9,-999.000, -999.00,9, -999.00,9, -32.4251,  33.0388,-999.000,-999.000,20090327,       0401
33RR20090320,        I05,      15,          1,         24,         24,2,20090327,       0243,   -32.4249,    33.0390,       3542,   470.0,  13.3909,  35.2770,2,  35.2788,2,    213.0,2,   213.7,2,    4.74,2,    9.60,2,    0.00,2,    0.72,2,-999.000,9,-999.000,9,-999.0000,9,  -999.0,9,  -999.0,9,-999.0000,9,  -999.00,-999.000,9,-999.000,9,-999.000,9,  13.3961,2,-999.000,9, -999.00,9, -999.00,-999.000,9,-999.000, -999.00,9, -999.00,9, -32.4250,  33.0388,-999.000,-999.000,20090327,       0400
33RR20090320,        I05,      15,          1,         23,         23,2,20090327,       0243,   -32.4249,    33.0390,       3542,   539.9,  12.4950,  35.1527,2,  35.1553,2,    215.7,2,   216.3,2,    4.93,2,   11.23,2,    0.00,2,    0.83,2,-999.000,9,-999.000,9,-999.0000,9,  -999.0,9,  -999.0,9,-999.0000,9,  -999.00,-999.000,9,-999.000,9,-999.000,9,  12.4979,2,-999.000,9, -999.00,9, -999.00,-999.000,9,-999.000, -999.00,9, -999.00,9, -32.4250,  33.0387,-999.000,-999.000,20090327,       0358
33RR20090320,        I05,      15,          1,         22,         22,2,20090327,       0243,   -32.4249,    33.0390,       3542,   638.9,  11.3816,  34.9932,2,  34.9925,2,    216.0,2,   217.0,2,    5.71,2,   13.47,2,    0.00,2,    0.99,2,-999.000,9,-999.000,9,-999.0000,9,  -999.0,9,  -999.0,9,-999.0000,9,  -999.00,-999.000,9,-999.000,9,-999.000,9,  11.3808,2,-999.000,9, -999.00,9, -999.00,-999.000,9,-999.000, -999.00,9, -999.00,9, -32.4249,  33.0387,-999.000,-999.000,20090327,       0355
33RR20090320,        I05,      15,          1,         21,         21,2,20090327,       0243,   -32.4249,    33.0390,       3542,   737.7,  10.1304,  34.8236,2,  34.8281,2,    214.3,2,   214.7,2,    7.68,2,   16.41,2,    0.00,2,    1.17,2,-999.000,9,-999.000,9,-999.0000,9,  -999.0,9,  -999.0,9,-999.0000,9,  -999.00,-999.000,9,-999.000,9,-999.000,9,  10.1212,2,-999.000,9, -999.00,9, -999.00,-999.000,9,-999.000, -999.00,9, -999.00,9, -32.4248,  33.0387,-999.000,-999.000,20090327,       0352
33RR20090320,        I05,      15,          1,         20,         20,2,20090327,       0243,   -32.4249,    33.0390,       3542,   837.2,   9.0399,  34.7001,2,  34.7013,2,    205.4,2,   206.8,2,   11.45,2,   19.74,2,    0.00,2,    1.40,2,-999.000,9,-999.000,9,-999.0000,9,  2147.0,2,  2297.5,2,   7.8180,2,    20.00,-999.000,9,-999.000,9,-999.000,9,   9.0376,2,-999.000,9, -999.00,9, -999.00,-999.000,9,-999.000, -999.00,9, -999.00,9, -32.4248,  33.0387,-999.000,-999.000,20090327,       0350
33RR20090320,        I05,      15,          1,         19,         19,2,20090327,       0243,   -32.4249,    33.0390,       3542,   937.7,   7.4497,  34.5581,2,  34.5606,2,    195.6,2,   196.4,2,   19.42,2,   24.49,2,    0.00,2,    1.72,2,-999.000,9,-999.000,9,-999.0000,9,  -999.0,9,  -999.0,9,-999.0000,9,  -999.00,-999.000,9,-999.000,9,-999.000,9,   7.4494,2,-999.000,9, -999.00,9, -999.00,-999.000,9,-999.000, -999.00,9, -999.00,9, -32.4248,  33.0388,-999.000,-999.000,20090327,       0347
33RR20090320,        I05,      15,          1,         18,         18,2,20090327,       0243,   -32.4249,    33.0390,       3542,  1037.4,   6.3104,  34.4949,2,  34.4962,2,    186.7,2,   188.1,2,   28.00,2,   27.76,2,    0.00,2,    1.96,2,-999.000,9,-999.000,9,-999.0000,9,  -999.0,9,  -999.0,9,-999.0000,9,  -999.00,-999.000,9,-999.000,9,-999.000,9,   6.3085,2,-999.000,9, -999.00,9, -999.00,-999.000,9,-999.000, -999.00,9, -999.00,9, -32.4248,  33.0388,-999.000,-999.000,20090327,       0344
33RR20090320,        I05,      15,          1,         17,         17,2,20090327,       0243,   -32.4249,    33.0390,       3542,  1137.9,   5.4518,  34.4903,2,  34.4897,2,    174.9,2,   176.1,2,   39.21,2,   30.39,2,    0.00,2,    2.17,2,-999.000,9,-999.000,9,-999.0000,9,  -999.0,9,  -999.0,9,-999.0000,9,  -999.00,-999.000,9,-999.000,9,-999.000,9,   5.4525,2,-999.000,9, -999.00,9, -999.00,-999.000,9,-999.000, -999.00,9, -999.00,9, -32.4248,  33.0389,-999.000,-999.000,20090327,       0342
33RR20090320,        I05,      15,          1,         16,         16,2,20090327,       0243,   -32.4249,    33.0390,       3542,  1238.2,   4.8999,  34.5114,2,  34.5117,2,    166.6,2,   167.2,2,   48.06,2,   31.85,2,    0.00,2,    2.29,2,-999.000,9,-999.000,9,-999.0000,9,  2222.6,2,  2318.1,2,   7.6673,2,    20.00,-999.000,9,-999.000,9,-999.000,9,   4.9007,2,-999.000,9, -999.00,9, -999.00,-999.000,9,-999.000, -999.00,9, -999.00,9, -32.4248,  33.0389,-999.000,-999.000,20090327,       0339
33RR20090320,        I05,      15,          1,         15,         15,2,20090327,       0243,   -32.4249,    33.0390,       3542,  1337.8,   4.3829,  34.5243,2,  34.5239,2,    163.4,2,   164.3,2,   54.90,2,   32.76,2,    0.00,2,    2.36,2,-999.000,9,-999.000,9,-999.0000,9,  -999.0,9,  -999.0,9,-999.0000,9,  -999.00,-999.000,9,-999.000,9,-999.000,9,   4.3851,2,-999.000,9, -999.00,9, -999.00,-999.000,9,-999.000, -999.00,9, -999.00,9, -32.4248,  33.0389,-999.000,-999.000,20090327,       0337
33RR20090320,        I05,      15,          1,         14,         14,2,20090327,       0243,   -32.4249,    33.0390,       3542,  1436.8,   3.8983,  34.5600,2,  34.5610,2,    161.8,2,   160.4,2,   63.17,2,   33.36,2,    0.00,2,    2.41,2,-999.000,9,-999.000,9,-999.0000,9,  -999.0,9,  -999.0,9,-999.0000,9,  -999.00,-999.000,9,-999.000,9,-999.000,9,   3.9001,2,-999.000,9, -999.00,9, -999.00,-999.000,9,-999.000, -999.00,9, -999.00,9, -32.4247,  33.0390,-999.000,-999.000,20090327,       0334
33RR20090320,        I05,      15,          1,         13,         13,2,20090327,       0243,   -32.4249,    33.0390,       3542,  1536.2,   3.6318,  34.5960,2,  34.5960,2,    159.6,2,   159.3,2,   68.44,2,   33.52,2,    0.00,2,    2.40,2,-999.000,9,-999.000,9,-999.0000,9,  -999.0,9,  -999.0,9,-999.0000,9,  -999.00,-999.000,9,-999.000,9,-999.000,9,   3.6303,2,-999.000,9, -999.00,9, -999.00,-999.000,9,-999.000, -999.00,9, -999.00,9, -32.4247,  33.0390,-999.000,-999.000,20090327,       0331
33RR20090320,        I05,      15,          1,         12,         12,2,20090327,       0243,   -32.4249,    33.0390,       3542,  1636.1,   3.3183,  34.6179,2,  34.6186,2,    161.4,2,   163.1,2,   70.84,2,   33.31,2,    0.00,2,    2.38,2,-999.000,9,-999.000,9,-999.0000,9,  -999.0,9,  -999.0,9,-999.0000,9,  -999.00,-999.000,9,-999.000,9,-999.000,9,   3.3173,2,-999.000,9, -999.00,9, -999.00,-999.000,9,-999.000, -999.00,9, -999.00,9, -32.4248,  33.0390,-999.000,-999.000,20090327,       0329
33RR20090320,        I05,      15,          1,         11,         11,2,20090327,       0243,   -32.4249,    33.0390,       3542,  1737.2,   3.2261,  34.6643,2,  34.6652,2,    161.9,2,   161.4,2,   75.91,2,   33.00,2,    0.00,2,    2.39,2,-999.000,9,-999.000,9,-999.0000,9,  -999.0,9,  -999.0,9,-999.0000,9,  -999.00,-999.000,9,-999.000,9,-999.000,9,   3.2257,2,-999.000,9, -999.00,9, -999.00,-999.000,9,-999.000, -999.00,9, -999.00,9, -32.4248,  33.0391,-999.000,-999.000,20090327,       0326
33RR20090320,        I05,      15,          1,         10,         10,2,20090327,       0243,   -32.4249,    33.0390,       3542,  1867.0,   2.9969,  34.6950,2,  34.6945,2,    168.4,2,   168.0,2,   76.91,2,   32.29,2,    0.00,2,    2.30,2,-999.000,9,-999.000,9,-999.0000,9,  -999.0,9,  -999.0,9,-999.0000,9,  -999.00,-999.000,9,-999.000,9,-999.000,9,   2.9967,2,-999.000,9, -999.00,9, -999.00,-999.000,9,-999.000, -999.00,9, -999.00,9, -32.4248,  33.0391,-999.000,-999.000,20090327,       0323
33RR20090320,        I05,      15,          1,          9,          9,2,20090327,       0243,   -32.4249,    33.0390,       3542,  2065.9,   2.7572,  34.7344,2,  34.7340,2,    180.0,2,   179.2,2,   75.67,2,   30.97,2,    0.00,2,    2.20,2,-999.000,9,-999.000,9,-999.0000,9,  -999.0,9,  -999.0,9,-999.0000,9,  -999.00,-999.000,9,-999.000,9,-999.000,9,   2.7569,2,-999.000,9, -999.00,9, -999.00,-999.000,9,-999.000, -999.00,9, -999.00,9, -32.4248,  33.0391,-999.000,-999.000,20090327,       0318
33RR20090320,        I05,      15,          1,          8,          8,2,20090327,       0243,   -32.4249,    33.0390,       3542,  2269.0,   2.6094,  34.7645,2,  34.7647,2,    189.7,2,   190.3,2,   72.82,2,   29.76,2,    0.00,2,    2.09,2,-999.000,9,-999.000,9,-999.0000,9,  -999.0,9,  -999.0,9,-999.0000,9,  -999.00,-999.000,9,-999.000,9,-999.000,9,   2.6088,2,-999.000,9, -999.00,9, -999.00,-999.000,9,-999.000, -999.00,9, -999.00,9, -32.4249,  33.0391,-999.000,-999.000,20090327,       0314
33RR20090320,        I05,      15,          1,          7,          7,2,20090327,       0243,   -32.4249,    33.0390,       3542,  2469.9,   2.5090,  34.7837,2,  34.7842,2,    198.4,2,   198.7,2,   70.37,2,   28.74,2,    0.00,2,    2.00,2,-999.000,9,-999.000,9,-999.0000,9,  -999.0,9,  -999.0,9,-999.0000,9,  -999.00,-999.000,9,-999.000,9,-999.000,9,   2.5088,2,-999.000,9, -999.00,9, -999.00,-999.000,9,-999.000, -999.00,9, -999.00,9, -32.4250,  33.0391,-999.000,-999.000,20090327,       0310
33RR20090320,        I05,      15,          1,          6,          6,2,20090327,       0243,   -32.4249,    33.0390,       3542,  2670.5,   2.4248,  34.8027,2,  34.8030,2,    208.3,2,   208.3,2,   66.71,2,   27.58,2,    0.00,2,    1.91,2,-999.000,9,-999.000,9,-999.0000,9,  -999.0,9,  -999.0,9,-999.0000,9,  -999.00,-999.000,9,-999.000,9,-999.000,9,   2.4241,2,-999.000,9, -999.00,9, -999.00,-999.000,9,-999.000, -999.00,9, -999.00,9, -32.4250,  33.0390,-999.000,-999.000,20090327,       0305
33RR20090320,        I05,      15,          1,          5,          5,2,20090327,       0243,   -32.4249,    33.0390,       3542,  2871.4,   2.3025,  34.8129,2,  34.8137,2,    214.9,2,   214.9,2,   65.88,2,   27.03,2,    0.00,2,    1.86,2,-999.000,9,-999.000,9,-999.0000,9,  -999.0,9,  -999.0,9,-999.0000,9,  -999.00,-999.000,9,-999.000,9,-999.000,9,   2.3020,2,-999.000,9, -999.00,9, -999.00,-999.000,9,-999.000, -999.00,9, -999.00,9, -32.4250,  33.0390,-999.000,-999.000,20090327,       0301
33RR20090320,        I05,      15,          1,          4,          4,2,20090327,       0243,   -32.4249,    33.0390,       3542,  3108.8,   2.1098,  34.8092,2,  34.8099,2,    217.3,2,   217.7,2,   70.52,2,   27.13,2,    0.00,2,    1.87,2,-999.000,9,-999.000,9,-999.0000,9,  -999.0,9,  -999.0,9,-999.0000,9,  -999.00,-999.000,9,-999.000,9,-999.000,9,   2.1071,2,-999.000,9, -999.00,9, -999.00,-999.000,9,-999.000, -999.00,9, -999.00,9, -32.4250,  33.0390,-999.000,-999.000,20090327,       0256
33RR20090320,        I05,      15,          1,          3,          3,2,20090327,       0243,   -32.4249,    33.0390,       3542,  3412.0,   1.5832,  34.7734,2,  34.7739,2,    216.4,2,   216.5,2,   88.41,2,   28.84,2,    0.00,2,    2.00,2,-999.000,9,-999.000,9,-999.0000,9,  -999.0,9,  -999.0,9,-999.0000,9,  -999.00,-999.000,9,-999.000,9,-999.000,9,   1.5832,2,-999.000,9, -999.00,9, -999.00,-999.000,9,-999.000, -999.00,9, -999.00,9, -32.4250,  33.0390,-999.000,-999.000,20090327,       0249
33RR20090320,        I05,      15,          1,          2,          2,2,20090327,       0243,   -32.4249,    33.0390,       3542,  3493.2,   1.4321,  34.7621,2,  34.7626,2,    215.8,2,   216.3,2,   93.28,2,   29.34,2,    0.00,2,    2.04,2,-999.000,9,-999.000,9,-999.0000,9,  -999.0,9,  -999.0,9,-999.0000,9,  -999.00,-999.000,9,-999.000,9,-999.000,9,   1.4329,2,-999.000,9, -999.00,9, -999.00,-999.000,9,-999.000, -999.00,9, -999.00,9, -32.4249,  33.0390,-999.000,-999.000,20090327,       0246
33RR20090320,        I05,      15,          1,          1,          1,2,20090327,       0243,   -32.4249,    33.0390,       3542,  3577.8,   1.2420,  34.7480,2,  34.7486,2,    215.1,2,   215.7,2,  100.01,2,   30.04,2,    0.00,2,    2.10,2,-999.000,9,-999.000,9,-999.0000,9,  -999.0,9,  -999.0,9,-999.0000,9,  -999.00,-999.000,9,-999.000,9,-999.000,9,   1.2417,2,-999.000,9, -999.00,9, -999.00,-999.000,9,-999.000, -999.00,9, -999.00,9, -32.4250,  33.0390,-999.000,-999.000,20090327,       0243