BOTTLE,20220814CCHSIOAMB
EXPOCODE,SECT_ID,STNNBR,CASTNO,SAMPNO,BTLNBR,BTLNBR_FLAG_W,DATE,TIME,LATITUDE,LONGITUDE,DEPTH,CTDPRS,CTDTMP,CTDSAL,CTDSAL_FLAG_W,SALNTY,SALNTY_FLAG_W,CTDOXY,CTDOXY_FLAG_W,OXYGEN,OXYGEN_FLAG_W,SILCAT,SILCAT_FLAG_W,NITRAT,NITRAT_FLAG_W,NITRIT,NITRIT_FLAG_W,PHSPHT,PHSPHT_FLAG_W,CFC-11,CFC-11_FLAG_W,CFC-12,CFC-12_FLAG_W,SF6,SF6_FLAG_W,TCARBN,TCARBN_FLAG_W,ALKALI,ALKALI_FLAG_W,PH_TOT,PH_TOT_FLAG_W,PH_TMP,TRITUM,TRITUM_FLAG_W,HELIUM,HELIUM_FLAG_W,DELHE3,DELHE3_FLAG_W,REFTMP,REFTMP_FLAG_W,DELC13,DELC13_FLAG_W,DELC14,DELC14_FLAG_W,C14ERR,NEON,NEON_FLAG_W,NEONER,DOC,DOC_FLAG_W,TDN,TDN_FLAG_W,BTL_LAT,BTL_LON,HELIER,DELHER,BTL_DATE,BTL_TIME
,,,,,,,,,,,METERS,DBAR,ITS-90,PSS-78,,PSS-78,,UMOL/KG,,UMOL/KG,,UMOL/KG,,UMOL/KG,,UMOL/KG,,UMOL/KG,,PMOL/KG,,PMOL/KG,,FMOL/KG,,UMOL/KG,,UMOL/KG,,,,DEG C,TU,,NMOL/KG,,PERCNT,,DEG C,,/MILLE,,/MILLE,,/MILLE,NMOL/KG,,NMOL/KG,UMOL/KG,,UMOL/KG,,,,NMOL/KG,PERCNT,,
33RR20090320,        I05,      33,          1,         36,         36,2,20090331,       1228,   -32.9970,    40.9864,       4973,     4.7,  23.8146,  35.5496,2,  35.5485,2,    213.1,2,   214.0,2,    1.69,2,    0.16,2,    0.00,2,    0.07,2,-999.000,9,-999.000,9,-999.0000,9,  2012.8,6,  2328.7,2,   8.1455,2,    20.00,-999.000,9,-999.000,9,-999.000,9,  23.8285,2,-999.000,9, -999.00,9, -999.00,-999.000,9,-999.000, -999.00,9, -999.00,9, -32.9968,  40.9868,-999.000,-999.000,20090331,       1439
33RR20090320,        I05,      33,          1,         35,         35,2,20090331,       1228,   -32.9970,    40.9864,       4973,    37.7,  21.7102,  35.5747,2,  35.5744,2,    226.4,2,   225.9,2,    1.68,2,    0.10,2,    0.00,2,    0.08,2,-999.000,9,-999.000,9,-999.0000,9,  2028.1,2,  2331.2,2,   8.1232,2,    20.00,-999.000,9,-999.000,9,-999.000,9,  21.7125,2,-999.000,9, -999.00,9, -999.00,-999.000,9,-999.000, -999.00,9, -999.00,9, -32.9968,  40.9867,-999.000,-999.000,20090331,       1436
33RR20090320,        I05,      33,          1,         34,         34,2,20090331,       1228,   -32.9970,    40.9864,       4973,    62.9,  19.5879,  35.5828,2,  35.5906,2,    229.5,2,   229.9,2,    1.66,2,    0.04,2,    0.00,2,    0.12,2,-999.000,9,-999.000,9,-999.0000,9,  2040.6,2,  2332.4,2,   8.1055,2,    20.00,-999.000,9,-999.000,9,-999.000,9,  19.6004,2,-999.000,9, -999.00,9, -999.00,-999.000,9,-999.000, -999.00,9, -999.00,9, -32.9968,  40.9867,-999.000,-999.000,20090331,       1435
33RR20090320,        I05,      33,          1,         33,         33,2,20090331,       1228,   -32.9970,    40.9864,       4973,    83.3,  19.0590,  35.5707,2,  35.5709,2,    220.3,2,   221.2,2,    2.05,2,    0.14,2,    0.01,2,    0.17,2,-999.000,9,-999.000,9,-999.0000,9,  2053.0,2,  2330.2,2,   8.0841,2,    20.00,-999.000,9,-999.000,9,-999.000,9,  19.0560,2,-999.000,9, -999.00,9, -999.00,-999.000,9,-999.000, -999.00,9, -999.00,9, -32.9968,  40.9868,-999.000,-999.000,20090331,       1433
33RR20090320,        I05,      33,          1,         32,         32,2,20090331,       1228,   -32.9970,    40.9864,       4973,   112.6,  18.4015,  35.5557,2,  35.5555,2,    210.4,2,   208.7,2,    2.82,2,    2.58,2,    0.03,2,    0.31,2,-999.000,9,-999.000,9,-999.0000,9,  2067.8,2,  2329.0,2,   8.0536,2,    20.00,-999.000,9,-999.000,9,-999.000,9,  18.3979,2,-999.000,9, -999.00,9, -999.00,-999.000,9,-999.000, -999.00,9, -999.00,9, -32.9968,  40.9868,-999.000,-999.000,20090331,       1431
33RR20090320,        I05,      33,          1,         31,         31,2,20090331,       1228,   -32.9970,    40.9864,       4973,   162.2,  17.5404,  35.5472,2,  35.5470,2,    208.7,2,   208.8,2,    3.39,2,    3.81,2,    0.01,2,    0.38,2,-999.000,9,-999.000,9,-999.0000,9,  2077.4,2,  2327.8,2,   8.0338,2,    20.00,-999.000,9,-999.000,9,-999.000,9,  17.5458,2,-999.000,9, -999.00,9, -999.00,-999.000,9,-999.000, -999.00,9, -999.00,9, -32.9967,  40.9868,-999.000,-999.000,20090331,       1427
33RR20090320,        I05,      33,          1,         30,         30,2,20090331,       1228,   -32.9970,    40.9864,       4973,   211.6,  16.8193,  35.5451,2,  35.5297,2,    213.7,2,   216.7,2,    3.38,2,    4.03,2,    0.01,2,    0.40,2,-999.000,9,-999.000,9,-999.0000,9,  -999.0,9,  -999.0,9,-999.0000,9,  -999.00,-999.000,9,-999.000,9,-999.000,9,  16.8165,2,-999.000,9, -999.00,9, -999.00,-999.000,9,-999.000, -999.00,9, -999.00,9, -32.9967,  40.9868,-999.000,-999.000,20090331,       1425
33RR20090320,        I05,      33,          1,         29,         29,2,20090331,       1228,   -32.9970,    40.9864,       4973,   262.3,  16.4645,  35.5288,2,  35.5289,2,    215.0,2,   214.5,2,    3.77,2,    4.68,2,    0.01,2,    0.44,2,-999.000,9,-999.000,9,-999.0000,9,  2087.4,2,  2328.2,2,   8.0150,2,    20.00,-999.000,9,-999.000,9,-999.000,9,  16.4578,2,-999.000,9, -999.00,9, -999.00,-999.000,9,-999.000, -999.00,9, -999.00,9, -32.9967,  40.9868,-999.000,-999.000,20090331,       1424
33RR20090320,        I05,      33,          1,         28,         28,2,20090331,       1228,   -32.9970,    40.9864,       4973,   312.2,  15.8658,  35.4844,2,  35.4843,2,    207.1,2,   206.5,2,    4.15,2,    6.11,2,    0.01,2,    0.54,2,-999.000,9,-999.000,9,-999.0000,9,  -999.0,9,  -999.0,9,-999.0000,9,  -999.00,-999.000,9,-999.000,9,-999.000,9,  15.8664,2,-999.000,9, -999.00,9, -999.00,-999.000,9,-999.000, -999.00,9, -999.00,9, -32.9967,  40.9868,-999.000,-999.000,20090331,       1422
33RR20090320,        I05,      33,          1,         27,         27,2,20090331,       1228,   -32.9970,    40.9864,       4973,   361.5,  15.0644,  35.4257,2,  35.4259,2,    206.3,2,   206.4,2,    4.33,2,    7.31,2,    0.01,2,    0.61,2,-999.000,9,-999.000,9,-999.0000,9,  2107.8,2,  2324.8,2,   7.9674,2,    20.00,-999.000,9,-999.000,9,-999.000,9,  15.0736,2,-999.000,9, -999.00,9, -999.00,-999.000,9,-999.000, -999.00,9, -999.00,9, -32.9966,  40.9868,-999.000,-999.000,20090331,       1421
33RR20090320,        I05,      33,          1,         26,         26,2,20090331,       1228,   -32.9970,    40.9864,       4973,   431.5,  14.1217,  35.3536,2,  35.3451,2,    209.2,2,   210.3,2,    4.52,2,    8.62,2,    0.00,2,    0.70,2,-999.000,9,-999.000,9,-999.0000,9,  -999.0,9,  -999.0,9,-999.0000,9,  -999.00,-999.000,9,-999.000,9,-999.000,9,  14.1215,2,-999.000,9, -999.00,9, -999.00,-999.000,9,-999.000, -999.00,9, -999.00,9, -32.9966,  40.9867,-999.000,-999.000,20090331,       1419
33RR20090320,        I05,      33,          1,         25,         25,2,20090331,       1228,   -32.9970,    40.9864,       4973,   532.4,  13.0264,  35.2201,2,  35.2194,2,    216.1,2,   216.1,2,    4.70,2,   10.16,2,    0.00,2,    0.80,2,-999.000,9,-999.000,9,-999.0000,9,  2119.5,2,  2317.7,2,   7.9276,2,    20.00,-999.000,9,-999.000,9,-999.000,9,  13.0246,2,-999.000,9, -999.00,9, -999.00,-999.000,9,-999.000, -999.00,9, -999.00,9, -32.9966,  40.9867,-999.000,-999.000,20090331,       1416
33RR20090320,        I05,      33,          1,         24,         24,2,20090331,       1228,   -32.9970,    40.9864,       4973,   631.4,  11.8685,  35.0593,2,  35.0617,2,    217.9,2,   217.9,2,    5.08,2,   12.39,2,    0.00,2,    0.95,2,-999.000,9,-999.000,9,-999.0000,9,  -999.0,9,  -999.0,9,-999.0000,9,  -999.00,-999.000,9,-999.000,9,-999.000,9,  11.8700,2,-999.000,9, -999.00,9, -999.00,-999.000,9,-999.000, -999.00,9, -999.00,9, -32.9966,  40.9866,-999.000,-999.000,20090331,       1414
33RR20090320,        I05,      33,          1,         23,         23,2,20090331,       1228,   -32.9970,    40.9864,       4973,   731.6,  10.7069,  34.8929,2,  34.8938,2,    217.1,2,   217.5,2,    6.26,2,   14.91,2,    0.00,2,    1.11,2,-999.000,9,-999.000,9,-999.0000,9,  2133.0,2,  2302.5,2,   7.8717,2,    20.00,-999.000,9,-999.000,9,-999.000,9,  10.7299,2,-999.000,9, -999.00,9, -999.00,-999.000,9,-999.000, -999.00,9, -999.00,9, -32.9966,  40.9865,-999.000,-999.000,20090331,       1411
33RR20090320,        I05,      33,          1,         22,         22,2,20090331,       1228,   -32.9970,    40.9864,       4973,   832.2,   9.5260,  34.7482,2,  34.7461,2,    212.2,2,   212.0,2,    9.20,2,   18.26,2,    0.00,2,    1.34,2,-999.000,9,-999.000,9,-999.0000,9,  -999.0,9,  -999.0,9,-999.0000,9,  -999.00,-999.000,9,-999.000,9,-999.000,9,   9.5392,2,-999.000,9, -999.00,9, -999.00,-999.000,9,-999.000, -999.00,9, -999.00,9, -32.9966,  40.9865,-999.000,-999.000,20090331,       1409
33RR20090320,        I05,      33,          1,         21,         21,2,20090331,       1228,   -32.9970,    40.9864,       4973,   933.4,   8.0631,  34.6023,2,  34.6033,2,    201.7,2,   201.1,2,   15.11,2,   22.67,2,    0.00,2,    1.64,2,-999.000,9,-999.000,9,-999.0000,9,  2162.5,2,  2296.7,2,   7.7838,2,    20.00,-999.000,9,-999.000,9,-999.000,9,   8.0648,2,-999.000,9, -999.00,9, -999.00,-999.000,9,-999.000, -999.00,9, -999.00,9, -32.9965,  40.9864,-999.000,-999.000,20090331,       1406
33RR20090320,        I05,      33,          1,         20,         20,2,20090331,       1228,   -32.9970,    40.9864,       4973,  1033.2,   6.5534,  34.4729,2,  34.4729,2,    200.0,2,   200.8,2,   21.62,2,   26.42,2,    0.00,2,    1.89,2,-999.000,9,-999.000,9,-999.0000,9,  -999.0,9,  -999.0,9,-999.0000,9,  -999.00,-999.000,9,-999.000,9,-999.000,9,   6.5489,2,-999.000,9, -999.00,9, -999.00,-999.000,9,-999.000, -999.00,9, -999.00,9, -32.9965,  40.9864,-999.000,-999.000,20090331,       1403
33RR20090320,        I05,      33,          1,         19,         19,2,20090331,       1228,   -32.9970,    40.9864,       4973,  1133.4,   5.3999,  34.4251,2,  34.4248,2,    196.4,2,   197.6,2,   30.33,2,   29.06,2,    0.00,2,    2.09,2,-999.000,9,-999.000,9,-999.0000,9,  2193.8,2,  2300.7,2,   7.7115,2,    20.00,-999.000,9,-999.000,9,-999.000,9,   5.4022,2,-999.000,9, -999.00,9, -999.00,-999.000,9,-999.000, -999.00,9, -999.00,9, -32.9965,  40.9864,-999.000,-999.000,20090331,       1401
33RR20090320,        I05,      33,          1,         18,         18,2,20090331,       1228,   -32.9970,    40.9864,       4973,  1233.8,   4.5628,  34.4300,2,  34.4291,2,    188.0,2,   188.1,2,   40.87,2,   31.16,2,    0.00,2,    2.26,2,-999.000,9,-999.000,9,-999.0000,9,  -999.0,9,  -999.0,9,-999.0000,9,  -999.00,-999.000,9,-999.000,9,-999.000,9,   4.5676,2,-999.000,9, -999.00,9, -999.00,-999.000,9,-999.000, -999.00,9, -999.00,9, -32.9966,  40.9863,-999.000,-999.000,20090331,       1358
33RR20090320,        I05,      33,          1,         17,         17,2,20090331,       1228,   -32.9970,    40.9864,       4973,  1334.9,   4.0804,  34.4713,2,  34.4701,2,    177.1,2,   177.6,2,   50.83,2,   32.27,2,    0.00,2,    2.36,2,-999.000,9,-999.000,9,-999.0000,9,  2227.7,2,  2319.1,2,   7.6643,2,    20.00,-999.000,9,-999.000,9,-999.000,9,   4.0808,2,-999.000,9, -999.00,9, -999.00,-999.000,9,-999.000, -999.00,9, -999.00,9, -32.9967,  40.9863,-999.000,-999.000,20090331,       1355
33RR20090320,        I05,      33,          1,         16,         16,2,20090331,       1228,   -32.9970,    40.9864,       4973,  1436.3,   3.7142,  34.5108,2,  34.5098,2,    173.7,2,   172.0,2,   58.43,2,   33.09,2,    0.00,2,    2.40,2,-999.000,9,-999.000,9,-999.0000,9,  -999.0,9,  -999.0,9,-999.0000,9,  -999.00,-999.000,9,-999.000,9,-999.000,9,   3.7120,2,-999.000,9, -999.00,9, -999.00,-999.000,9,-999.000, -999.00,9, -999.00,9, -32.9967,  40.9862,-999.000,-999.000,20090331,       1352
33RR20090320,        I05,      33,          1,         15,         15,2,20090331,       1228,   -32.9970,    40.9864,       4973,  1541.3,   3.4209,  34.5602,2,  34.5597,2,    167.1,2,   168.2,2,   65.04,2,   33.37,2,    0.00,2,    2.43,2,-999.000,9,-999.000,9,-999.0000,9,  2246.1,2,  2333.6,2,   7.6491,2,    20.00,-999.000,9,-999.000,9,-999.000,9,   3.4258,2,-999.000,9, -999.00,9, -999.00,-999.000,9,-999.000, -999.00,9, -999.00,9, -32.9967,  40.9862,-999.000,-999.000,20090331,       1349
33RR20090320,        I05,      33,          1,         14,         14,2,20090331,       1228,   -32.9970,    40.9864,       4973,  1661.1,   3.1375,  34.6097,2,  34.6094,2,    168.1,2,   168.9,2,   70.05,2,   33.02,2,    0.00,2,    2.40,2,-999.000,9,-999.000,9,-999.0000,9,  2250.4,2,  2339.2,2,   7.6519,2,    20.00,-999.000,9,-999.000,9,-999.000,9,   3.1370,2,-999.000,9, -999.00,9, -999.00,-999.000,9,-999.000, -999.00,9, -999.00,9, -32.9966,  40.9862,-999.000,-999.000,20090331,       1345
33RR20090320,        I05,      33,          1,         13,         13,2,20090331,       1228,   -32.9970,    40.9864,       4973,  1862.7,   2.9124,  34.6745,2,  34.6739,2,    172.9,2,   172.2,2,   74.46,2,   32.18,2,    0.00,2,    2.34,2,-999.000,9,-999.000,9,-999.0000,9,  2252.0,2,  2345.1,2,   7.6636,2,    20.00,-999.000,9,-999.000,9,-999.000,9,   2.9114,2,-999.000,9, -999.00,9, -999.00,-999.000,9,-999.000, -999.00,9, -999.00,9, -32.9966,  40.9861,-999.000,-999.000,20090331,       1340
33RR20090320,        I05,      33,          1,         12,         12,2,20090331,       1228,   -32.9970,    40.9864,       4973,  2079.6,   2.7075,  34.7226,2,  34.7232,2,    182.1,2,   182.0,2,   74.05,2,   30.84,2,    0.00,2,    2.23,2,-999.000,9,-999.000,9,-999.0000,9,  -999.0,9,  -999.0,9,-999.0000,9,  -999.00,-999.000,9,-999.000,9,-999.000,9,   2.7070,2,-999.000,9, -999.00,9, -999.00,-999.000,9,-999.000, -999.00,9, -999.00,9, -32.9967,  40.9861,-999.000,-999.000,20090331,       1335
33RR20090320,        I05,      33,          1,         11,         11,2,20090331,       1228,   -32.9970,    40.9864,       4973,  2331.9,   2.5612,  34.7674,2,  34.7672,2,    191.7,2,   191.9,2,   73.23,2,   29.51,2,    0.00,2,    2.13,2,-999.000,9,-999.000,9,-999.0000,9,  -999.0,9,  -999.0,9,-999.0000,9,  -999.00,-999.000,9,-999.000,9,-999.000,9,   2.5610,2,-999.000,9, -999.00,9, -999.00,-999.000,9,-999.000, -999.00,9, -999.00,9, -32.9969,  40.9862,-999.000,-999.000,20090331,       1329
33RR20090320,        I05,      33,          1,         10,         10,2,20090331,       1228,   -32.9970,    40.9864,       4973,  2585.3,   2.4149,  34.7861,2,  34.7855,2,    198.2,2,   197.9,2,   74.82,2,   28.83,2,    0.00,2,    2.08,2,-999.000,9,-999.000,9,-999.0000,9,  2240.2,2,  2352.1,3,   7.7123,2,    20.00,-999.000,9,-999.000,9,-999.000,9,   2.4150,2,-999.000,9, -999.00,9, -999.00,-999.000,9,-999.000, -999.00,9, -999.00,9, -32.9969,  40.9864,-999.000,-999.000,20090331,       1324
33RR20090320,        I05,      33,          1,          9,          9,2,20090331,       1228,   -32.9970,    40.9864,       4973,  2836.9,   2.2871,  34.7972,2,  34.7977,2,    205.7,2,   206.2,2,   73.01,2,   28.05,2,    0.00,2,    2.01,2,-999.000,9,-999.000,9,-999.0000,9,  -999.0,9,  -999.0,9,-999.0000,9,  -999.00,-999.000,9,-999.000,9,-999.000,9,   2.2874,2,-999.000,9, -999.00,9, -999.00,-999.000,9,-999.000, -999.00,9, -999.00,9, -32.9967,  40.9864,-999.000,-999.000,20090331,       1318
33RR20090320,        I05,      33,          1,          8,          8,2,20090331,       1228,   -32.9970,    40.9864,       4973,  3106.1,   2.1618,  34.7999,2,  34.7999,2,    211.2,2,   211.3,2,   74.00,2,   27.71,2,    0.00,2,    1.98,2,-999.000,9,-999.000,9,-999.0000,9,  -999.0,9,  -999.0,9,-999.0000,9,  -999.00,-999.000,9,-999.000,9,-999.000,9,   2.1615,2,-999.000,9, -999.00,9, -999.00,-999.000,9,-999.000, -999.00,9, -999.00,9, -32.9965,  40.9862,-999.000,-999.000,20090331,       1312
33RR20090320,        I05,      33,          1,          7,          7,2,20090331,       1228,   -32.9970,    40.9864,       4973,  3388.3,   1.9639,  34.7924,2,  34.7928,2,    214.0,2,   213.7,2,   79.03,2,   27.98,2,    0.00,2,    2.01,2,-999.000,9,-999.000,9,-999.0000,9,  2235.5,2,  2351.8,2,   7.7275,2,    20.00,-999.000,9,-999.000,9,-999.000,9,   1.9649,2,-999.000,9, -999.00,9, -999.00,-999.000,9,-999.000, -999.00,9, -999.00,9, -32.9967,  40.9861,-999.000,-999.000,20090331,       1306
33RR20090320,        I05,      33,          1,          6,          6,2,20090331,       1228,   -32.9970,    40.9864,       4973,  3694.1,   1.6756,  34.7743,2,  34.7747,2,    215.0,2,   214.7,2,   87.90,2,   28.74,2,    0.00,2,    2.05,2,-999.000,9,-999.000,9,-999.0000,9,  -999.0,9,  -999.0,9,-999.0000,9,  -999.00,-999.000,9,-999.000,9,-999.000,9,   1.6793,2,-999.000,9, -999.00,9, -999.00,-999.000,9,-999.000, -999.00,9, -999.00,9, -32.9969,  40.9862,-999.000,-999.000,20090331,       1259
33RR20090320,        I05,      33,          1,          5,          5,2,20090331,       1228,   -32.9970,    40.9864,       4973,  3999.6,   1.3348,  34.7513,2,  34.7520,2,    216.3,2,   216.2,2,   98.61,2,   29.74,2,    0.00,2,    2.12,2,-999.000,9,-999.000,9,-999.0000,9,  -999.0,9,  -999.0,9,-999.0000,9,  -999.00,-999.000,9,-999.000,9,-999.000,9,   1.3346,2,-999.000,9, -999.00,9, -999.00,-999.000,9,-999.000, -999.00,9, -999.00,9, -32.9969,  40.9862,-999.000,-999.000,20090331,       1252
33RR20090320,        I05,      33,          1,          4,          4,2,20090331,       1228,   -32.9970,    40.9864,       4973,  4294.8,   0.9909,  34.7263,2,  34.7262,2,    217.3,2,   217.5,2,  109.56,2,   30.89,2,    0.00,2,    2.20,2,-999.000,9,-999.000,9,-999.0000,9,  2255.7,2,  2365.5,2,   7.7043,2,    20.00,-999.000,9,-999.000,9,-999.000,9,   0.9909,2,-999.000,9, -999.00,9, -999.00,-999.000,9,-999.000, -999.00,9, -999.00,9, -32.9969,  40.9862,-999.000,-999.000,20090331,       1246
33RR20090320,        I05,      33,          1,          3,          3,2,20090331,       1228,   -32.9970,    40.9864,       4973,  4650.6,   0.7470,  34.7068,2,  34.7066,2,    218.0,2,   218.4,2,  118.09,2,   31.77,2,    0.00,2,    2.26,2,-999.000,9,-999.000,9,-999.0000,9,  -999.0,9,  -999.0,9,-999.0000,9,  -999.00,-999.000,9,-999.000,9,-999.000,9,   0.7483,2,-999.000,9, -999.00,9, -999.00,-999.000,9,-999.000, -999.00,9, -999.00,9, -32.9969,  40.9863,-999.000,-999.000,20090331,       1238
33RR20090320,        I05,      33,          1,          2,          2,2,20090331,       1228,   -32.9970,    40.9864,       4973,  4906.9,   0.6820,  34.6997,2,  34.6995,2,    219.0,2,   218.9,2,  120.93,2,   32.15,2,    0.00,2,    2.27,2,-999.000,9,-999.000,9,-999.0000,9,  -999.0,9,  -999.0,9,-999.0000,9,  -999.00,-999.000,9,-999.000,9,-999.000,9,   0.6821,2,-999.000,9, -999.00,9, -999.00,-999.000,9,-999.000, -999.00,9, -999.00,9, -32.9969,  40.9864,-999.000,-999.000,20090331,       1231
33RR20090320,        I05,      33,          1,          1,          1,2,20090331,       1228,   -32.9970,    40.9864,       4973,  5044.4,   0.6596,  34.6968,2,  34.6977,2,    218.9,2,   218.8,2,  121.94,2,   32.26,2,    0.00,2,    2.29,2,-999.000,9,-999.000,9,-999.0000,9,  2265.8,6,  2368.6,2,   7.6926,2,    20.00,-999.000,9,-999.000,9,-999.000,9,   0.6597,2,-999.000,9, -999.00,9, -999.00,-999.000,9,-999.000, -999.00,9, -999.00,9, -32.9970,  40.9864,-999.000,-999.000,20090331,       1228