BOTTLE,20220814CCHSIOAMB
EXPOCODE,SECT_ID,STNNBR,CASTNO,SAMPNO,BTLNBR,BTLNBR_FLAG_W,DATE,TIME,LATITUDE,LONGITUDE,DEPTH,CTDPRS,CTDTMP,CTDSAL,CTDSAL_FLAG_W,SALNTY,SALNTY_FLAG_W,CTDOXY,CTDOXY_FLAG_W,OXYGEN,OXYGEN_FLAG_W,SILCAT,SILCAT_FLAG_W,NITRAT,NITRAT_FLAG_W,NITRIT,NITRIT_FLAG_W,PHSPHT,PHSPHT_FLAG_W,CFC-11,CFC-11_FLAG_W,CFC-12,CFC-12_FLAG_W,SF6,SF6_FLAG_W,TCARBN,TCARBN_FLAG_W,ALKALI,ALKALI_FLAG_W,PH_TOT,PH_TOT_FLAG_W,PH_TMP,TRITUM,TRITUM_FLAG_W,HELIUM,HELIUM_FLAG_W,DELHE3,DELHE3_FLAG_W,REFTMP,REFTMP_FLAG_W,DELC13,DELC13_FLAG_W,DELC14,DELC14_FLAG_W,C14ERR,NEON,NEON_FLAG_W,NEONER,DOC,DOC_FLAG_W,TDN,TDN_FLAG_W,BTL_LAT,BTL_LON,HELIER,DELHER,BTL_DATE,BTL_TIME
,,,,,,,,,,,METERS,DBAR,ITS-90,PSS-78,,PSS-78,,UMOL/KG,,UMOL/KG,,UMOL/KG,,UMOL/KG,,UMOL/KG,,UMOL/KG,,PMOL/KG,,PMOL/KG,,FMOL/KG,,UMOL/KG,,UMOL/KG,,,,DEG C,TU,,NMOL/KG,,PERCNT,,DEG C,,/MILLE,,/MILLE,,/MILLE,NMOL/KG,,NMOL/KG,UMOL/KG,,UMOL/KG,,,,NMOL/KG,PERCNT,,
33RR20090320,        I05,     139,          2,         36,         36,2,20090428,       1548,   -32.6280,    91.8581,       3775,     3.8,  19.8422,  35.8485,2,  35.8453,2,    229.3,2,   229.3,2,    1.18,2,    0.03,2,    0.00,2,    0.14,2,   2.186,6,   1.300,6,   1.2760,6,  2070.9,6,  2356.4,2,   8.0886,2,    20.00,   0.455,2,   1.834,2,  -1.500,2,  19.8378,2,-999.000,9, -999.00,9, -999.00,   7.440,2,   0.008,   66.89,2,    4.41,2, -32.6279,  91.8579,   0.001,   0.199,20090428,       1725
33RR20090320,        I05,     139,          2,         35,         35,2,20090428,       1548,   -32.6280,    91.8581,       3775,    19.6,  19.8375,  35.8572,2,  35.8601,2,    231.4,2,   229.2,2,    1.13,2,    0.00,2,    0.00,2,    0.14,2,   2.187,2,   1.301,2,   1.2560,2,  2072.1,2,  2356.9,2,   8.0892,2,    20.00,   0.444,2,   1.911,2,  -1.754,2,  19.8399,2,-999.000,9, -999.00,9, -999.00,   8.090,2,   0.013,   67.16,2,    4.52,2, -32.6279,  91.8579,   0.001,   0.199,20090428,       1724
33RR20090320,        I05,     139,          2,         34,         34,2,20090428,       1548,   -32.6280,    91.8581,       3775,    41.1,  19.7936,  35.8647,4,  35.8538,2,    231.0,2,   231.5,2,    0.91,2,    0.00,2,    0.00,2,    0.14,2,   2.206,2,   1.310,2,   1.3290,2,  2072.5,2,  2357.0,2,   8.0883,2,    20.00,   0.447,2,   1.824,2,  -1.755,2,  19.7836,2,-999.000,9, -999.00,9, -999.00,   7.419,2,   0.010,   66.63,2,    4.66,2, -32.6279,  91.8579,   0.001,   0.199,20090428,       1723
33RR20090320,        I05,     139,          2,         33,         33,2,20090428,       1548,   -32.6280,    91.8581,       3775,    64.6,  17.5297,  35.5624,4,  35.6098,2,    253.0,2,   255.5,2,    0.86,2,    0.00,2,    0.00,2,    0.16,2,   2.529,2,   1.484,2,   1.4010,2,  2071.7,2,  2344.0,2,   8.0719,2,    20.00,   0.426,2,   1.844,2,  -1.369,2,  17.4346,2,-999.000,9, -999.00,9, -999.00,   7.642,2,   0.012,   63.52,2,    3.76,2, -32.6279,  91.8579,   0.001,   0.198,20090428,       1721
33RR20090320,        I05,     139,          2,         32,         32,2,20090428,       1548,   -32.6280,    91.8581,       3775,    88.2,  15.1980,  35.5332,2,  35.5370,2,    246.0,2,   239.6,2,    0.99,2,    1.47,2,    0.09,2,    0.30,2,   2.765,2,   1.596,2,   1.3490,2,  2098.9,2,  2337.6,2,   8.0153,2,    20.00,   0.429,2,   1.889,2,  -1.816,2,  15.1474,2,-999.000,9, -999.00,9, -999.00,   7.981,2,   0.009,   56.36,2,    5.66,2, -32.6279,  91.8579,   0.001,   0.202,20090428,       1719
33RR20090320,        I05,     139,          2,         31,         31,2,20090428,       1548,   -32.6280,    91.8581,       3775,   117.4,  14.4016,  35.4428,2,  35.4451,2,    229.8,2,   229.8,2,    1.46,2,    4.48,2,    0.02,2,    0.45,2,   2.859,2,   1.643,2,   1.3150,2,  2108.9,2,  2331.2,2,   7.9822,2,    20.00,   0.397,2,   1.844,2,  -1.780,2,  14.4066,2,-999.000,9, -999.00,9, -999.00,   7.648,2,   0.011,   53.63,2,    7.54,2, -32.6279,  91.8578,   0.001,   0.198,20090428,       1718
33RR20090320,        I05,     139,          2,         30,         30,2,20090428,       1548,   -32.6280,    91.8581,       3775,   137.3,  13.8028,  35.3517,2,  35.3498,2,    234.5,2,   232.4,2,    1.77,2,    5.41,2,    0.01,2,    0.51,2,   2.941,2,   1.688,2,   1.4210,2,  2108.9,2,  2326.0,2,   7.9696,2,    20.00,   0.390,2,-999.000,9,-999.000,9,  13.7882,2,-999.000,9, -999.00,9, -999.00,-999.000,9,-999.000,   52.71,2,    8.52,2, -32.6278,  91.8579,-999.000,-999.000,20090428,       1716
33RR20090320,        I05,     139,          2,         29,         29,2,20090428,       1548,   -32.6280,    91.8581,       3775,   184.8,  12.9656,  35.2451,2,  35.2385,2,    232.6,2,   233.0,2,    2.06,2,    7.29,2,    0.00,2,    0.60,2,   3.083,2,   1.751,2,   1.3070,2,  2115.0,2,  2317.7,2,   7.9469,2,    20.00,   0.351,2,   1.760,2,  -1.578,2,  12.9628,2,-999.000,9, -999.00,9, -999.00,   7.147,2,   0.008,   50.51,2,    9.74,2, -32.6278,  91.8580,   0.001,   0.201,20090428,       1715
33RR20090320,        I05,     139,          2,         28,         28,2,20090428,       1548,   -32.6280,    91.8581,       3775,   236.0,  11.7691,  35.0134,2,  35.0144,2,    241.9,2,   242.3,2,    2.71,2,    9.57,2,    0.00,2,    0.75,2,   3.255,2,   1.840,2,   1.4040,2,  2115.1,2,  2307.5,2,   7.9221,2,    20.00,   0.319,2,   1.775,2,  -1.669,2,  11.7711,2,-999.000,9, -999.00,9, -999.00,   7.474,2,   0.011,   48.77,2,   12.09,2, -32.6277,  91.8580,   0.000,   0.197,20090428,       1713
33RR20090320,        I05,     139,          2,         27,         27,2,20090428,       1548,   -32.6280,    91.8581,       3775,   285.8,  11.4867,  34.9872,2,  34.9876,2,    241.7,2,   240.9,2,    2.84,2,   10.44,2,    0.00,2,    0.80,2,   3.297,2,   1.847,2,   1.4890,2,  2117.5,2,  2306.3,2,   7.9135,2,    20.00,   0.329,2,   1.819,2,  -1.713,2,  11.4856,2,-999.000,9, -999.00,9, -999.00,   7.722,2,   0.011,   47.59,2,   13.47,2, -32.6277,  91.8580,   0.001,   0.198,20090428,       1712
33RR20090320,        I05,     139,          2,         26,         26,2,20090428,       1548,   -32.6280,    91.8581,       3775,   331.6,  11.1290,  34.9285,2,  34.9276,2,    243.1,2,   244.5,2,    3.32,2,   11.40,2,    0.00,2,    0.86,2,   3.358,2,   1.862,2,   1.5620,2,  2118.4,2,  2301.9,2,   7.9057,2,    20.00,   0.322,2,   1.879,2,  -1.729,2,  11.1250,2,-999.000,9, -999.00,9, -999.00,   7.924,2,   0.009,   46.74,2,   14.37,2, -32.6276,  91.8581,   0.001,   0.201,20090428,       1710
33RR20090320,        I05,     139,          2,         25,         25,2,20090428,       1548,   -32.6280,    91.8581,       3775,   384.2,  10.7658,  34.8744,2,  34.8751,2,    244.5,2,   245.0,2,    3.80,2,   12.27,2,    0.00,2,    0.91,2,   3.408,2,   1.906,2,   1.3910,2,  2119.8,2,  2300.9,2,   7.8988,2,    20.00,   0.369,2,   1.834,2,  -1.503,2,  10.7659,2,-999.000,9, -999.00,9, -999.00,   7.750,2,   0.016,   45.90,2,   14.78,2, -32.6277,  91.8582,   0.000,   0.182,20090428,       1708
33RR20090320,        I05,     139,          2,         24,         24,2,20090428,       1548,   -32.6280,    91.8581,       3775,   434.7,  10.5500,  34.8494,2,  34.8509,2,    243.5,2,   242.5,2,    4.09,2,   12.98,2,    0.00,2,    0.95,2,   3.452,2,   1.897,2,   1.2570,2,  2122.0,2,  2299.2,2,   7.8904,2,    20.00,   0.302,2,   1.880,2,  -0.982,2,  10.5503,2,-999.000,9, -999.00,9, -999.00,   7.944,2,   0.008,   45.25,2,   15.20,2, -32.6278,  91.8583,   0.000,   0.194,20090428,       1707
33RR20090320,        I05,     139,          2,         23,         23,2,20090428,       1548,   -32.6280,    91.8581,       3775,   483.3,  10.2420,  34.8093,2,  34.8090,2,    240.3,2,   240.1,2,    4.39,2,   14.04,2,    0.00,2,    1.02,2,   3.460,2,   1.872,2,   1.2400,2,  2124.4,2,  2298.3,2,   7.8797,2,    20.00,   0.373,2,   1.862,2,  -0.797,2,  10.2473,2,-999.000,9, -999.00,9, -999.00,   7.925,2,   0.011,   44.56,2,   15.70,2, -32.6279,  91.8584,   0.001,   0.210,20090428,       1705
33RR20090320,        I05,     139,          2,         22,         22,2,20090428,       1548,   -32.6280,    91.8581,       3775,   565.5,   9.7500,  34.7438,2,  34.7430,2,    236.4,2,   237.4,2,    4.87,2,   15.36,2,    0.00,2,    1.10,2,   3.583,2,   1.904,2,   1.2530,2,  2128.4,2,  2294.3,2,   7.8643,2,    20.00,-999.000,9,-999.000,9,-999.000,9,   9.7537,2,-999.000,9, -999.00,9, -999.00,-999.000,9,-999.000,   43.72,2,   16.95,2, -32.6280,  91.8584,-999.000,-999.000,20090428,       1703
33RR20090320,        I05,     139,          2,         21,         21,2,20090428,       1548,   -32.6280,    91.8581,       3775,   665.4,   9.0375,  34.6466,2,  34.6465,2,    232.1,2,   231.8,2,    6.23,2,   17.80,2,    0.00,2,    1.26,2,   3.485,6,   1.816,6,   1.0590,6,  2134.9,2,  2291.0,2,   7.8392,2,    20.00,   0.227,2,   1.867,2,  -0.549,2,   9.0361,2,-999.000,9, -999.00,9, -999.00,   7.976,2,   0.009,   42.86,2,   19.49,2, -32.6281,  91.8584,   0.001,   0.188,20090428,       1700
33RR20090320,        I05,     139,          2,         20,         20,2,20090428,       1548,   -32.6280,    91.8581,       3775,   766.4,   8.1290,  34.5533,2,  34.5546,2,    214.8,2,   214.4,2,   10.22,2,   21.57,2,    0.00,2,    1.50,2,   2.985,2,   1.510,2,   0.6370,2,  2148.9,2,  2288.1,2,   7.7960,2,    20.00,-999.000,9,   1.965,2,   0.511,2,   8.1446,2,-999.000,9, -999.00,9, -999.00,   8.666,2,   0.012,   42.08,2,   22.87,2, -32.6281,  91.8583,   0.000,   0.195,20090428,       1658
33RR20090320,        I05,     139,          2,         19,         19,2,20090428,       1548,   -32.6280,    91.8581,       3775,   864.6,   6.5714,  34.4401,2,  34.4409,2,    200.3,2,   201.8,2,   18.45,2,   26.34,2,    0.00,2,    1.84,2,   2.208,2,   1.085,2,   0.4280,2,  2172.2,2,  2290.8,2,   7.7387,2,    20.00,   0.142,2,-999.000,9,-999.000,9,   6.5757,2,-999.000,9, -999.00,9, -999.00,-999.000,9,-999.000,   41.85,2,   28.08,2, -32.6281,  91.8583,-999.000,-999.000,20090428,       1656
33RR20090320,        I05,     139,          2,         18,         18,2,20090428,       1548,   -32.6280,    91.8581,       3775,   964.9,   5.2602,  34.3843,2,  34.3845,2,    196.9,2,   197.3,2,   27.96,2,   29.41,2,    0.00,2,    2.06,2,   1.730,2,   0.831,2,   0.2640,2,  2189.6,2,  2296.9,2,   7.7041,2,    20.00,-999.000,9,   1.925,2,   2.831,2,   5.2616,2,-999.000,9, -999.00,9, -999.00,   8.616,2,   0.015,   41.08,2,   30.97,2, -32.6281,  91.8582,   0.000,   0.198,20090428,       1653
33RR20090320,        I05,     139,          2,         17,         17,2,20090428,       1548,   -32.6280,    91.8581,       3775,  1065.6,   4.4727,  34.3889,2,  34.3893,2,    189.4,2,   188.5,2,   38.76,2,   31.48,2,    0.00,2,    2.23,2,   1.194,2,   0.562,2,   0.1880,2,  2207.1,2,  2305.9,2,   7.6779,2,    20.00,   0.118,2,-999.000,9,-999.000,9,   4.4738,2,-999.000,9, -999.00,9, -999.00,-999.000,9,-999.000,   40.70,2,   33.27,2, -32.6281,  91.8582,-999.000,-999.000,20090428,       1650
33RR20090320,        I05,     139,          2,         16,         16,2,20090428,       1548,   -32.6280,    91.8581,       3775,  1166.3,   3.9611,  34.4285,2,-999.0000,5,    174.9,2,   174.8,2,   51.21,2,   33.13,2,    0.00,2,    2.36,2,   0.697,2,   0.323,2,   0.0340,2,  2226.0,2,  2318.6,2,   7.6540,2,    20.00,   0.027,2,   1.952,2,   5.618,2,   3.9615,2,-999.000,9, -999.00,9, -999.00,   8.726,2,   0.016,   40.27,2,   34.33,2, -32.6281,  91.8583,   0.000,   0.196,20090428,       1648
33RR20090320,        I05,     139,          2,         15,         15,2,20090428,       1548,   -32.6280,    91.8581,       3775,  1265.5,   3.7042,  34.4792,2,  34.4790,2,    162.4,2,   162.0,2,   61.93,2,   34.12,2,    0.00,2,    2.45,2,   0.360,2,   0.170,2,   0.0710,2,  2242.8,2,  2328.6,2,   7.6376,2,    20.00,   0.046,2,   1.954,2,   7.652,2,   3.7029,2,-999.000,9, -999.00,9, -999.00,   8.733,2,   0.016,   40.03,2,   35.74,2, -32.6280,  91.8584,   0.000,   0.187,20090428,       1645
33RR20090320,        I05,     139,          2,         14,         14,2,20090428,       1548,   -32.6280,    91.8581,       3775,  1364.2,   3.4600,  34.5168,2,  34.5177,2,    156.1,2,   156.7,2,   68.72,2,   34.58,2,    0.00,2,    2.48,2,   0.204,2,   0.102,2,   0.0000,2,  2255.2,2,  2337.0,2,   7.6299,2,    20.00,-999.000,9,-999.000,9,-999.000,9,   3.4598,2,-999.000,9, -999.00,9, -999.00,-999.000,9,-999.000,   39.76,2,   35.83,2, -32.6280,  91.8585,-999.000,-999.000,20090428,       1643
33RR20090320,        I05,     139,          2,         13,         13,2,20090428,       1548,   -32.6280,    91.8581,       3775,  1461.2,   3.2510,  34.5518,2,  34.5520,2,    154.0,2,   155.1,2,   73.73,2,   34.63,2,    0.00,2,    2.50,2,   0.130,6,   0.068,6,   0.0000,6,  2261.4,2,  2340.5,2,   7.6273,2,    20.00,-999.000,9,   2.007,2,   8.969,2,   3.2515,2,-999.000,9, -999.00,9, -999.00,   8.618,2,   0.011,   40.08,2,   36.13,2, -32.6281,  91.8585,   0.000,   0.199,20090428,       1640
33RR20090320,        I05,     139,          2,         12,         12,2,20090428,       1548,   -32.6280,    91.8581,       3775,  1564.5,   3.0825,  34.5843,2,  34.5862,2,    154.3,2,   154.3,2,   78.20,2,   34.48,2,    0.00,2,    2.49,2,   0.085,2,   0.044,2,   0.0500,2,  2264.3,6,  2346.0,2,   7.6281,2,    20.00,-999.000,9,   1.984,2,   9.956,2,   3.0814,2,-999.000,9, -999.00,9, -999.00,   8.557,2,   0.013,   39.87,2,   36.40,2, -32.6281,  91.8583,   0.000,   0.189,20090428,       1637
33RR20090320,        I05,     139,          2,         11,         11,2,20090428,       1548,   -32.6280,    91.8581,       3775,  1663.8,   2.9293,  34.6082,2,  34.6084,2,    157.2,2,   156.7,2,   79.96,2,   34.26,2,    0.00,2,    2.46,2,   0.078,2,   0.036,2,   0.0000,2,  2264.2,2,  2347.8,2,   7.6317,2,    20.00,   0.026,2,-999.000,9,-999.000,9,   2.9288,2,-999.000,9, -999.00,9, -999.00,-999.000,9,-999.000,   39.72,2,   35.56,2, -32.6281,  91.8583,-999.000,-999.000,20090428,       1635
33RR20090320,        I05,     139,          2,         10,         10,2,20090428,       1548,   -32.6280,    91.8581,       3775,  1763.1,   2.7722,  34.6340,2,  34.6314,2,    160.0,2,   160.9,2,   81.54,2,   33.85,2,    0.00,2,    2.42,2,   0.073,2,   0.036,2,   0.0000,2,  2263.7,2,  2349.1,2,   7.6372,2,    20.00,-999.000,9,   2.007,2,   9.817,2,   2.7720,2,-999.000,9, -999.00,9, -999.00,   8.876,2,   0.016,   39.88,2,   35.47,2, -32.6281,  91.8583,   0.000,   0.199,20090428,       1632
33RR20090320,        I05,     139,          2,          9,          9,2,20090428,       1548,   -32.6280,    91.8581,       3775,  1936.2,   2.5468,  34.6808,2,  34.6817,2,    167.7,2,   166.7,2,   86.38,2,   33.07,2,    0.00,2,    2.35,2,   0.036,2,   0.019,2,   0.0000,2,  2264.3,2,  2354.7,2,   7.6491,2,    20.00,-999.000,9,   2.003,2,  11.011,2,   2.5469,2,-999.000,9, -999.00,9, -999.00,   8.593,2,   0.011,   39.54,2,   34.59,2, -32.6281,  91.8583,   0.000,   0.187,20090428,       1628
33RR20090320,        I05,     139,          2,          8,          8,2,20090428,       1548,   -32.6280,    91.8581,       3775,  2160.5,   2.3040,  34.7175,2,  34.7183,2,    179.3,2,   179.2,2,   86.34,2,   31.73,2,    0.00,2,    2.25,2,   0.030,2,   0.016,2,   0.0200,2,  2256.8,2,  2353.7,2,   7.6675,2,    20.00,-999.000,9,-999.000,9,-999.000,9,   2.3059,2,-999.000,9, -999.00,9, -999.00,-999.000,9,-999.000,   39.76,2,   33.26,2, -32.6281,  91.8583,-999.000,-999.000,20090428,       1623
33RR20090320,        I05,     139,          2,          7,          7,2,20090428,       1548,   -32.6280,    91.8581,       3775,  2416.3,   2.0457,  34.7415,2,  34.7425,2,    190.2,2,   190.2,2,   88.10,2,   30.70,2,    0.00,2,    2.18,2,   0.025,2,   0.016,2,   0.0360,2,  2252.1,2,  2353.9,2,   7.6827,2,    20.00,-999.000,9,   1.995,2,  12.434,2,   2.0488,2,-999.000,9, -999.00,9, -999.00,   8.622,2,   0.011,   39.62,2,   32.28,2, -32.6281,  91.8583,   0.000,   0.188,20090428,       1617
33RR20090320,        I05,     139,          2,          6,          6,2,20090428,       1548,   -32.6280,    91.8581,       3775,  2665.8,   1.7899,  34.7444,2,  34.7449,2,    195.4,2,   195.4,2,   94.97,2,   30.74,2,    0.00,2,    2.17,2,   0.021,2,   0.013,2,   0.0890,2,  2252.2,2,  2357.1,2,   7.6870,2,    20.00,-999.000,9,   1.971,2,  12.048,2,   1.7899,2,-999.000,9, -999.00,9, -999.00,   8.529,2,   0.011,   40.37,2,   32.00,2, -32.6281,  91.8582,   0.000,   0.187,20090428,       1612
33RR20090320,        I05,     139,          2,          5,          5,2,20090428,       1548,   -32.6280,    91.8581,       3775,  2920.7,   1.5647,  34.7373,2,  34.7380,2,    197.7,2,   198.1,2,  102.75,2,   31.06,2,    0.00,2,    2.20,2,   0.022,2,   0.014,2,   0.0440,2,  2257.0,2,  2361.5,2,   7.6868,2,    20.00,-999.000,9,   1.963,2,  11.235,2,   1.5642,2,-999.000,9, -999.00,9, -999.00,   8.834,2,   0.015,   39.93,2,   32.70,2, -32.6280,  91.8581,   0.000,   0.204,20090428,       1607
33RR20090320,        I05,     139,          2,          4,          4,2,20090428,       1548,   -32.6280,    91.8581,       3775,  3204.6,   1.3387,  34.7297,2,  34.7293,2,    200.8,2,   200.7,2,  109.82,2,   31.47,2,    0.00,2,    2.22,2,   0.021,2,   0.011,2,   0.0000,2,  2260.0,2,  2365.8,2,   7.6867,2,    20.00,-999.000,9,   1.979,2,  10.694,2,   1.3391,2,-999.000,9, -999.00,9, -999.00,   8.591,2,   0.011,   39.75,2,   32.68,2, -32.6280,  91.8580,   0.000,   0.188,20090428,       1601
33RR20090320,        I05,     139,          2,          3,          3,2,20090428,       1548,   -32.6280,    91.8581,       3775,  3477.4,   1.2127,  34.7233,2,  34.7248,2,    202.5,2,   202.2,2,  113.43,2,   31.62,2,    0.00,2,    2.24,2,   0.021,2,   0.013,2,   0.0230,2,  2262.7,2,  2367.8,2,   7.6878,2,    20.00,   0.021,2,   2.022,2,  10.528,2,   1.2133,2,-999.000,9, -999.00,9, -999.00,   8.759,2,   0.011,   39.63,2,   33.24,2, -32.6280,  91.8581,   0.000,   0.188,20090428,       1556
33RR20090320,        I05,     139,          2,          2,          2,2,20090428,       1548,   -32.6280,    91.8581,       3775,  3680.0,   1.1634,  34.7205,2,  34.7209,2,    204.1,2,   203.7,2,  115.77,2,   31.67,2,    0.00,2,    2.24,2,   0.022,2,   0.012,2,   0.0000,2,  2263.1,2,  2370.3,2,   7.6895,2,    20.00,-999.000,9,   2.050,2,  10.004,2,   1.1629,2,-999.000,9, -999.00,9, -999.00,   8.796,2,   0.011,   39.91,2,   33.20,2, -32.6280,  91.8581,   0.000,   0.187,20090428,       1551
33RR20090320,        I05,     139,          2,          1,          1,2,20090428,       1548,   -32.6280,    91.8581,       3775,  3820.9,   1.1294,  34.7184,2,  34.7184,2,    203.7,2,   204.2,2,  116.46,2,   31.83,2,    0.00,2,    2.25,2,   0.021,6,   0.013,6,   0.0240,6,  2268.8,6,  2373.1,2,   7.6909,2,    20.00,-999.000,9,   1.988,2,   9.803,2,   1.1303,2,-999.000,9, -999.00,9, -999.00,   8.641,2,   0.011,   39.62,2,   33.79,2, -32.6280,  91.8581,   0.001,   0.187,20090428,       1548