BOTTLE,20220814CCHSIOAMB
EXPOCODE,SECT_ID,STNNBR,CASTNO,SAMPNO,BTLNBR,BTLNBR_FLAG_W,DATE,TIME,LATITUDE,LONGITUDE,DEPTH,CTDPRS,CTDTMP,CTDSAL,CTDSAL_FLAG_W,SALNTY,SALNTY_FLAG_W,CTDOXY,CTDOXY_FLAG_W,OXYGEN,OXYGEN_FLAG_W,SILCAT,SILCAT_FLAG_W,NITRAT,NITRAT_FLAG_W,NITRIT,NITRIT_FLAG_W,PHSPHT,PHSPHT_FLAG_W,CFC-11,CFC-11_FLAG_W,CFC-12,CFC-12_FLAG_W,SF6,SF6_FLAG_W,TCARBN,TCARBN_FLAG_W,ALKALI,ALKALI_FLAG_W,PH_TOT,PH_TOT_FLAG_W,PH_TMP,TRITUM,TRITUM_FLAG_W,HELIUM,HELIUM_FLAG_W,DELHE3,DELHE3_FLAG_W,REFTMP,REFTMP_FLAG_W,DELC13,DELC13_FLAG_W,DELC14,DELC14_FLAG_W,C14ERR,NEON,NEON_FLAG_W,NEONER,DOC,DOC_FLAG_W,TDN,TDN_FLAG_W,BTL_LAT,BTL_LON,HELIER,DELHER,BTL_DATE,BTL_TIME
,,,,,,,,,,,METERS,DBAR,ITS-90,PSS-78,,PSS-78,,UMOL/KG,,UMOL/KG,,UMOL/KG,,UMOL/KG,,UMOL/KG,,UMOL/KG,,PMOL/KG,,PMOL/KG,,FMOL/KG,,UMOL/KG,,UMOL/KG,,,,DEG C,TU,,NMOL/KG,,PERCNT,,DEG C,,/MILLE,,/MILLE,,/MILLE,NMOL/KG,,NMOL/KG,UMOL/KG,,UMOL/KG,,,,NMOL/KG,PERCNT,,
33RR20090320,        I05,     159,          1,         34,         34,2,20090503,       1846,   -32.3709,   100.6239,       2392,     5.4,  18.9407,  35.9889,2,  35.9902,2,    230.6,2,   232.1,2,    0.53,2,    0.05,2,    0.00,2,    0.12,2,   2.257,6,   1.352,6,   1.1860,6,  2077.2,2,  2364.7,2,   8.0834,2,    20.00,   0.507,2,   1.809,2,  -1.021,2,  18.9407,2,-999.000,9, -999.00,9, -999.00,   7.348,2,   0.007, -999.00,9, -999.00,9, -32.3653, 100.6239,   0.001,   0.199,20090503,       2005
33RR20090320,        I05,     159,          1,         33,         33,2,20090503,       1846,   -32.3709,   100.6239,       2392,    40.1,  18.8663,  35.9802,2,  35.9821,2,    233.2,2,   232.4,2,    0.49,2,    0.11,2,    0.00,2,    0.11,2,   2.253,2,   1.346,2,   1.1790,2,  2078.1,2,  2364.1,2,   8.0817,2,    20.00,   0.471,2,   1.835,2,  -1.443,2,  18.8670,2,-999.000,9, -999.00,9, -999.00,   7.501,2,   0.010, -999.00,9, -999.00,9, -32.3653, 100.6239,   0.001,   0.198,20090503,       2003
33RR20090320,        I05,     159,          1,         32,         32,2,20090503,       1846,   -32.3709,   100.6239,       2392,    65.8,  18.6870,  35.9528,2,  35.9542,2,    233.5,2,   233.6,2,    0.26,2,    0.05,2,    0.00,2,    0.11,2,   2.298,2,   1.369,2,   1.3260,2,  2079.9,2,  2360.9,2,   8.0769,2,    20.00,   0.476,2,   1.812,2,  -1.775,2,  18.6857,2,-999.000,9, -999.00,9, -999.00,   7.393,2,   0.008, -999.00,9, -999.00,9, -32.3654, 100.6239,   0.000,   0.195,20090503,       2001
33RR20090320,        I05,     159,          1,         31,         31,2,20090503,       1846,   -32.3709,   100.6239,       2392,    91.2,  15.9158,  35.6858,2,  35.6753,2,    245.9,2,   244.3,2,    0.58,2,    0.38,2,    0.04,2,    0.19,2,   2.697,2,   1.574,2,   1.3230,2,  2083.8,2,  2348.5,2,   8.0431,2,    20.00,   0.460,2,   1.822,2,  -1.356,2,  15.9018,2,-999.000,9, -999.00,9, -999.00,   7.557,2,   0.008, -999.00,9, -999.00,9, -32.3655, 100.6239,   0.000,   0.195,20090503,       1959
33RR20090320,        I05,     159,          1,         30,         30,2,20090503,       1846,   -32.3709,   100.6239,       2392,   117.4,  14.8006,  35.5615,2,  35.5692,2,    239.5,2,   236.6,2,    0.53,2,    2.49,2,    0.10,2,    0.30,2,   2.809,2,   1.630,2,   1.4120,2,  -999.0,9,  -999.0,9,-999.0000,9,  -999.00,   0.462,2,   1.900,2,  -1.574,2,  14.8238,2,-999.000,9, -999.00,9, -999.00,   7.842,2,   0.012, -999.00,9, -999.00,9, -32.3655, 100.6240,   0.000,   0.201,20090503,       1958
33RR20090320,        I05,     159,          1,         29,         29,2,20090503,       1846,   -32.3709,   100.6239,       2392,   140.1,  14.1801,  35.4664,2,  35.4707,2,    234.6,2,   234.2,2,    0.66,2,    4.16,2,    0.02,2,    0.40,2,   2.878,2,   1.671,2,   1.3550,2,  2100.5,2,  2335.2,2,   7.9900,2,    20.00,   0.417,2,-999.000,9,-999.000,9,  14.1591,2,-999.000,9, -999.00,9, -999.00,-999.000,9,-999.000, -999.00,9, -999.00,9, -32.3656, 100.6240,-999.000,-999.000,20090503,       1956
33RR20090320,        I05,     159,          1,         28,         28,2,20090503,       1846,   -32.3709,   100.6239,       2392,   164.0,  13.4616,  35.3424,2,  35.3434,2,    238.3,2,   238.4,2,    0.79,2,    5.33,2,    0.00,2,    0.48,2,   3.027,2,   1.729,2,   1.4720,2,  -999.0,9,  -999.0,9,-999.0000,9,  -999.00,   0.453,2,   1.850,2,  -1.736,2,  13.4441,2,-999.000,9, -999.00,9, -999.00,   7.694,2,   0.013, -999.00,9, -999.00,9, -32.3657, 100.6240,   0.000,   0.194,20090503,       1955
33RR20090320,        I05,     159,          1,         27,         27,2,20090503,       1846,   -32.3709,   100.6239,       2392,   188.7,  12.9880,  35.2657,2,  35.2681,2,    239.5,2,   239.8,2,    0.75,2,    6.23,2,    0.00,2,    0.53,2,   3.077,2,   1.769,2,   1.4670,2,  2106.6,2,  2322.7,2,   7.9584,2,    20.00,   0.402,2,   1.844,2,  -1.631,2,  12.9754,2,-999.000,9, -999.00,9, -999.00,   7.728,2,   0.008, -999.00,9, -999.00,9, -32.3657, 100.6240,   0.000,   0.195,20090503,       1953
33RR20090320,        I05,     159,          1,         26,         26,2,20090503,       1846,   -32.3709,   100.6239,       2392,   216.0,  12.4780,  35.1735,2,  35.1795,2,    240.2,2,   240.4,2,    1.05,2,    7.33,2,    0.00,2,    0.60,2,-999.000,9,-999.000,9,-999.0000,9,  -999.0,9,  -999.0,9,-999.0000,9,  -999.00,   0.366,2,   1.865,2,  -1.351,2,  12.5037,2,-999.000,9, -999.00,9, -999.00,   7.630,2,   0.010, -999.00,9, -999.00,9, -32.3658, 100.6241,   0.000,   0.187,20090503,       1952
33RR20090320,        I05,     159,          1,         25,         25,2,20090503,       1846,   -32.3709,   100.6239,       2392,   241.0,  11.9397,  35.0795,2,  35.0842,2,    241.0,2,   241.7,2,    1.19,2,    8.49,2,    0.00,2,    0.66,2,   3.274,2,   1.851,2,   1.4990,2,  2111.2,2,  2314.1,2,   7.9316,2,    20.00,   0.394,2,   1.851,2,  -1.486,2,  11.9567,2,-999.000,9, -999.00,9, -999.00,   7.612,2,   0.008, -999.00,9, -999.00,9, -32.3659, 100.6241,   0.000,   0.184,20090503,       1950
33RR20090320,        I05,     159,          1,         24,         24,2,20090503,       1846,   -32.3709,   100.6239,       2392,   269.6,  11.4722,  34.9961,2,  35.0001,2,    242.0,2,   243.4,2,    1.68,2,    9.55,2,    0.00,2,    0.73,2,-999.000,9,-999.000,9,-999.0000,9,  -999.0,9,  -999.0,9,-999.0000,9,  -999.00,-999.000,9,   1.924,2,  -1.423,2,  11.4572,2,-999.000,9, -999.00,9, -999.00,   8.107,2,   0.018, -999.00,9, -999.00,9, -32.3659, 100.6241,   0.000,   0.194,20090503,       1948
33RR20090320,        I05,     159,          1,         23,         23,2,20090503,       1846,   -32.3709,   100.6239,       2392,   320.1,  10.7308,  34.8718,2,  34.8732,2,    245.1,2,   244.5,2,    1.81,2,   11.39,2,    0.00,2,    0.84,2,   3.521,2,   1.945,2,   1.4000,2,  2114.9,2,  2301.5,2,   7.8996,2,    20.00,   0.361,2,-999.000,9,-999.000,9,  10.7275,2,-999.000,9, -999.00,9, -999.00,-999.000,9,-999.000, -999.00,9, -999.00,9, -32.3660, 100.6241,-999.000,-999.000,20090503,       1947
33RR20090320,        I05,     159,          1,         22,         22,2,20090503,       1846,   -32.3709,   100.6239,       2392,   369.2,  10.2644,  34.8043,2,  34.8032,2,    242.1,2,   242.5,2,    2.47,2,   12.97,2,    0.00,2,    0.94,2,-999.000,9,-999.000,9,-999.0000,9,  -999.0,9,  -999.0,9,-999.0000,9,  -999.00,-999.000,9,   1.853,2,  -1.792,2,  10.2611,2,-999.000,9, -999.00,9, -999.00,   7.809,2,   0.013, -999.00,9, -999.00,9, -32.3661, 100.6242,   0.000,   0.194,20090503,       1945
33RR20090320,        I05,     159,          1,         21,         21,2,20090503,       1846,   -32.3709,   100.6239,       2392,   418.7,   9.8104,  34.7504,2,  34.7511,2,    241.6,2,   240.6,2,    3.13,2,   14.46,2,    0.00,2,    1.03,2,   3.712,2,   2.011,2,   1.3120,2,  2123.1,2,  2296.7,2,   7.8669,2,    20.00,   0.329,2,   1.865,2,  -0.618,2,   9.8036,2,-999.000,9, -999.00,9, -999.00,   7.899,2,   0.013, -999.00,9, -999.00,9, -32.3661, 100.6242,   0.000,   0.206,20090503,       1943
33RR20090320,        I05,     159,          1,         20,         20,2,20090503,       1846,   -32.3709,   100.6239,       2392,   469.0,   9.5724,  34.7189,2,  34.7201,2,    239.4,2,   239.8,2,    3.27,2,   15.30,2,    0.00,2,    1.07,2,-999.000,9,-999.000,9,-999.0000,9,  -999.0,9,  -999.0,9,-999.0000,9,  -999.00,-999.000,9,-999.000,9,-999.000,9,   9.5624,2,-999.000,9, -999.00,9, -999.00,-999.000,9,-999.000, -999.00,9, -999.00,9, -32.3663, 100.6242,-999.000,-999.000,20090503,       1941
33RR20090320,        I05,     159,          1,         19,         19,2,20090503,       1846,   -32.3709,   100.6239,       2392,   539.5,   9.1956,  34.6679,2,  34.6702,2,    238.4,2,   239.7,2,    3.76,2,   16.46,2,    0.00,2,    1.15,2,   3.750,2,   1.969,2,   1.1370,2,  2127.9,2,  2292.7,2,   7.8488,2,    20.00,   0.265,2,   1.852,2,  -0.704,2,   9.1944,2,-999.000,9, -999.00,9, -999.00,   7.738,2,   0.009, -999.00,9, -999.00,9, -32.3663, 100.6242,   0.000,   0.185,20090503,       1939
33RR20090320,        I05,     159,          1,         18,         18,2,20090503,       1846,   -32.3709,   100.6239,       2392,   641.2,   8.6556,  34.5983,2,  34.5995,2,    235.3,2,   233.2,2,    5.50,2,   18.57,2,    0.00,2,    1.28,2,-999.000,9,-999.000,9,-999.0000,9,  2134.7,2,  2290.9,2,   7.8286,2,    20.00,-999.000,9,-999.000,9,-999.000,9,   8.6558,2,-999.000,9, -999.00,9, -999.00,-999.000,9,-999.000, -999.00,9, -999.00,9, -32.3667, 100.6242,-999.000,-999.000,20090503,       1936
33RR20090320,        I05,     159,          1,         17,         17,2,20090503,       1846,   -32.3709,   100.6239,       2392,   738.9,   7.2879,  34.4814,2,  34.4826,2,    207.0,2,   205.0,2,   13.11,2,   24.26,2,    0.00,2,    1.67,2,   2.487,2,   1.247,2,   0.4730,2,  2159.5,2,  2289.5,2,   7.7602,2,    20.00,   0.128,2,   1.917,2,   1.157,2,   7.2900,2,-999.000,9, -999.00,9, -999.00,   8.203,2,   0.011, -999.00,9, -999.00,9, -32.3670, 100.6242,   0.000,   0.195,20090503,       1933
33RR20090320,        I05,     159,          1,         16,         16,2,20090503,       1846,   -32.3709,   100.6239,       2392,   840.6,   5.5550,  34.3956,2,  34.3963,2,    196.0,2,   196.4,2,   24.53,2,   28.62,2,    0.00,2,    1.98,2,-999.000,9,-999.000,9,-999.0000,9,  2183.7,2,  2292.7,2,   7.7084,2,    20.00,-999.000,9,-999.000,9,-999.000,9,   5.5659,2,-999.000,9, -999.00,9, -999.00,-999.000,9,-999.000, -999.00,9, -999.00,9, -32.3673, 100.6242,-999.000,-999.000,20090503,       1930
33RR20090320,        I05,     159,          1,         15,         15,2,20090503,       1846,   -32.3709,   100.6239,       2392,   940.5,   4.5743,  34.3824,2,  34.3839,2,    191.4,2,   191.4,2,   35.28,2,   30.87,2,    0.00,2,    2.16,2,   1.289,2,   0.618,2,   0.2350,2,  2201.2,2,  2303.6,2,   7.6816,2,    20.00,   0.055,2,   1.890,2,   4.634,2,   4.5714,2,-999.000,9, -999.00,9, -999.00,   7.978,2,   0.009, -999.00,9, -999.00,9, -32.3676, 100.6242,   0.000,   0.186,20090503,       1927
33RR20090320,        I05,     159,          1,         14,         14,2,20090503,       1846,   -32.3709,   100.6239,       2392,  1039.7,   3.8277,  34.4181,2,  34.4185,2,    179.4,2,   179.2,2,   48.82,2,   32.74,2,    0.00,2,    2.30,2,-999.000,9,-999.000,9,-999.0000,9,  2223.0,2,  2316.7,2,   7.6549,2,    20.00,-999.000,9,-999.000,9,-999.000,9,   3.8280,2,-999.000,9, -999.00,9, -999.00,-999.000,9,-999.000, -999.00,9, -999.00,9, -32.3677, 100.6242,-999.000,-999.000,20090503,       1924
33RR20090320,        I05,     159,          1,         13,         13,2,20090503,       1846,   -32.3709,   100.6239,       2392,  1141.1,   3.6525,  34.4451,2,  34.4466,2,    171.0,2,   172.3,2,   55.32,2,   33.38,2,    0.00,2,    2.36,2,   0.595,2,   0.277,2,   0.0000,2,  2233.4,2,  2322.6,2,   7.6447,2,    20.00,   0.009,2,   1.905,2,   7.279,2,   3.6519,2,-999.000,9, -999.00,9, -999.00,   8.544,2,   0.021, -999.00,9, -999.00,9, -32.3677, 100.6241,   0.000,   0.197,20090503,       1922
33RR20090320,        I05,     159,          1,         12,         12,2,20090503,       1846,   -32.3709,   100.6239,       2392,  1239.6,   3.3764,  34.5044,2,  34.5047,2,    161.1,2,   160.2,2,   66.03,2,   34.19,2,    0.00,2,    2.44,2,   0.271,2,   0.131,2,   0.0000,2,  2250.6,2,  2333.2,2,   7.6299,2,    20.00,   0.001,2,-999.000,9,-999.000,9,   3.3742,2,-999.000,9, -999.00,9, -999.00,-999.000,9,-999.000, -999.00,9, -999.00,9, -32.3679, 100.6240,-999.000,-999.000,20090503,       1919
33RR20090320,        I05,     159,          1,         11,         11,2,20090503,       1846,   -32.3709,   100.6239,       2392,  1339.2,   3.2598,  34.5421,2,  34.5420,2,    155.8,2,   154.7,2,   71.85,2,   34.50,2,    0.00,2,    2.46,2,-999.000,9,-999.000,9,-999.0000,9,  2259.8,2,  2340.0,2,   7.6252,2,    20.00,-999.000,9,   2.011,2,   9.044,2,   3.2597,2,-999.000,9, -999.00,9, -999.00,   8.540,2,   0.010, -999.00,9, -999.00,9, -32.3682, 100.6240,   0.001,   0.203,20090503,       1916
33RR20090320,        I05,     159,          1,         10,         10,2,20090503,       1846,   -32.3709,   100.6239,       2392,  1444.1,   3.0409,  34.5868,2,  34.5850,2,    154.3,2,   153.7,2,   78.22,2,   34.33,2,    0.00,2,    2.46,2,   0.072,2,   0.034,2,   0.0000,2,  2266.0,2,  2346.1,2,   7.6258,2,    20.00,   0.001,2,-999.000,9,-999.000,9,   3.0408,2,-999.000,9, -999.00,9, -999.00,-999.000,9,-999.000, -999.00,9, -999.00,9, -32.3685, 100.6240,-999.000,-999.000,20090503,       1913
33RR20090320,        I05,     159,          1,          9,          9,2,20090503,       1846,   -32.3709,   100.6239,       2392,  1544.4,   2.9174,  34.6147,2,  34.6155,2,    154.7,2,   153.9,2,   81.68,2,   34.17,2,    0.00,2,    2.44,2,-999.000,9,-999.000,9,-999.0000,9,  2269.5,2,  2352.0,2,   7.6284,2,    20.00,-999.000,9,   1.963,2,  10.260,2,   2.9165,2,-999.000,9, -999.00,9, -999.00,   8.755,2,   0.010, -999.00,9, -999.00,9, -32.3689, 100.6240,   0.000,   0.197,20090503,       1910
33RR20090320,        I05,     159,          1,          8,          8,2,20090503,       1846,   -32.3709,   100.6239,       2392,  1644.1,   2.7586,  34.6486,2,  34.6499,2,    157.6,2,   157.3,2,   85.51,2,   33.78,2,    0.00,2,    2.40,2,   0.040,2,   0.018,2,   0.0000,2,  2271.4,2,  2354.0,2,   7.6358,2,    20.00,   0.066,2,-999.000,9,-999.000,9,   2.7573,2,-999.000,9, -999.00,9, -999.00,-999.000,9,-999.000, -999.00,9, -999.00,9, -32.3692, 100.6240,-999.000,-999.000,20090503,       1907
33RR20090320,        I05,     159,          1,          7,          7,2,20090503,       1846,   -32.3709,   100.6239,       2392,  1744.0,   2.6279,  34.6707,2,  34.6719,2,    160.9,2,   160.8,2,   88.42,2,   33.34,2,    0.00,2,    2.37,2,   0.026,2,   0.013,2,   0.0000,2,  2269.2,2,  2355.6,2,   7.6426,2,    20.00,-999.000,9,-999.000,9,-999.000,9,   2.6274,2,-999.000,9, -999.00,9, -999.00,-999.000,9,-999.000, -999.00,9, -999.00,9, -32.3695, 100.6239,-999.000,-999.000,20090503,       1905
33RR20090320,        I05,     159,          1,          6,          6,2,20090503,       1846,   -32.3709,   100.6239,       2392,  1844.3,   2.4880,  34.6900,2,  34.6912,2,    165.8,2,   166.2,2,   89.31,2,   32.80,2,    0.00,2,    2.32,2,   0.024,2,   0.014,2,   0.0000,2,  2265.8,2,  2357.9,2,   7.6502,2,    20.00,-999.000,9,-999.000,9,-999.000,9,   2.4887,2,-999.000,9, -999.00,9, -999.00,-999.000,9,-999.000, -999.00,9, -999.00,9, -32.3695, 100.6239,-999.000,-999.000,20090503,       1902
33RR20090320,        I05,     159,          1,          5,          5,2,20090503,       1846,   -32.3709,   100.6239,       2392,  1943.6,   2.3768,  34.7046,2,  34.7053,2,    170.8,2,   171.6,2,   89.47,2,   32.31,2,    0.00,2,    2.28,2,   0.022,2,   0.013,2,   0.0000,2,  2262.3,2,  2359.1,2,   7.6574,2,    20.00,-999.000,9,   1.958,2,  12.158,2,   2.3762,2,-999.000,9, -999.00,9, -999.00,   8.394,2,   0.010, -999.00,9, -999.00,9, -32.3695, 100.6240,   0.001,   0.206,20090503,       1859
33RR20090320,        I05,     159,          1,          4,          4,2,20090503,       1846,   -32.3709,   100.6239,       2392,  2073.9,   2.2538,  34.7188,2,  34.7199,2,    176.8,2,   177.7,2,   89.06,2,   31.77,2,    0.00,2,    2.24,2,   0.024,2,   0.014,2,   0.0000,2,  2259.7,2,  2359.3,2,   7.6657,2,    20.00,-999.000,9,-999.000,9,-999.000,9,   2.2539,2,-999.000,9, -999.00,9, -999.00,-999.000,9,-999.000, -999.00,9, -999.00,9, -32.3697, 100.6240,-999.000,-999.000,20090503,       1855
33RR20090320,        I05,     159,          1,          3,          3,2,20090503,       1846,   -32.3709,   100.6239,       2392,  2275.0,   2.0944,  34.7322,2,  34.7323,2,    184.4,2,   184.4,2,   90.51,2,   31.17,2,    0.00,2,    2.19,2,   0.019,2,   0.011,2,   0.0000,2,  2255.7,2,  2358.3,2,   7.6742,2,    20.00,-999.000,9,   2.019,2,  12.128,2,   2.0936,2,-999.000,9, -999.00,9, -999.00,   8.677,2,   0.011, -999.00,9, -999.00,9, -32.3700, 100.6240,   0.000,   0.187,20090503,       1851
33RR20090320,        I05,     159,          1,          2,          2,2,20090503,       1846,   -32.3709,   100.6239,       2392,  2341.0,   2.0441,  34.7345,2,  34.7352,2,    185.4,2,   185.6,2,   91.95,2,   31.17,2,    0.00,2,    2.18,2,   0.016,2,   0.011,2,   0.0000,2,  2256.0,2,  2359.0,2,   7.6764,2,    20.00,-999.000,9,-999.000,9,-999.000,9,   2.0440,2,-999.000,9, -999.00,9, -999.00,-999.000,9,-999.000, -999.00,9, -999.00,9, -32.3703, 100.6240,-999.000,-999.000,20090503,       1848
33RR20090320,        I05,     159,          1,          1,          1,2,20090503,       1846,   -32.3709,   100.6239,       2392,  2409.4,   2.0058,  34.7363,2,  34.7374,2,    187.2,2,   187.4,2,   91.92,2,   31.00,2,    0.00,2,    2.16,2,   0.018,6,   0.009,6,   0.0000,6,  2255.6,6,  2358.2,2,   7.6791,2,    20.00,   0.002,2,-999.000,9,-999.000,9,   2.0063,2,-999.000,9, -999.00,9, -999.00,-999.000,9,-999.000, -999.00,9, -999.00,9, -32.3709, 100.6239,-999.000,-999.000,20090503,       1846