BOTTLE,20220814CCHSIOAMB
EXPOCODE,SECT_ID,STNNBR,CASTNO,SAMPNO,BTLNBR,BTLNBR_FLAG_W,DATE,TIME,LATITUDE,LONGITUDE,DEPTH,CTDPRS,CTDTMP,CTDSAL,CTDSAL_FLAG_W,SALNTY,SALNTY_FLAG_W,CTDOXY,CTDOXY_FLAG_W,OXYGEN,OXYGEN_FLAG_W,SILCAT,SILCAT_FLAG_W,NITRAT,NITRAT_FLAG_W,NITRIT,NITRIT_FLAG_W,PHSPHT,PHSPHT_FLAG_W,CFC-11,CFC-11_FLAG_W,CFC-12,CFC-12_FLAG_W,SF6,SF6_FLAG_W,TCARBN,TCARBN_FLAG_W,ALKALI,ALKALI_FLAG_W,PH_TOT,PH_TOT_FLAG_W,PH_TMP,TRITUM,TRITUM_FLAG_W,HELIUM,HELIUM_FLAG_W,DELHE3,DELHE3_FLAG_W,REFTMP,REFTMP_FLAG_W,DELC13,DELC13_FLAG_W,DELC14,DELC14_FLAG_W,C14ERR,NEON,NEON_FLAG_W,NEONER,DOC,DOC_FLAG_W,TDN,TDN_FLAG_W,BTL_LAT,BTL_LON,HELIER,DELHER,BTL_DATE,BTL_TIME
,,,,,,,,,,,METERS,DBAR,ITS-90,PSS-78,,PSS-78,,UMOL/KG,,UMOL/KG,,UMOL/KG,,UMOL/KG,,UMOL/KG,,UMOL/KG,,PMOL/KG,,PMOL/KG,,FMOL/KG,,UMOL/KG,,UMOL/KG,,,,DEG C,TU,,NMOL/KG,,PERCNT,,DEG C,,/MILLE,,/MILLE,,/MILLE,NMOL/KG,,NMOL/KG,UMOL/KG,,UMOL/KG,,,,NMOL/KG,PERCNT,,
33RR20090320,        I05,      19,          2,         27,         27,2,20090327,       2345,   -32.7734,    34.4856,       1522,     9.5,  24.5161,  35.4821,2,  35.4819,2,    209.4,2,   208.7,2,    0.83,2,    0.00,2,    0.00,2,    0.04,2,-999.000,9,-999.000,9,-999.0000,9,  1999.9,6,  2324.9,2,   8.1596,2,    20.00,-999.000,9,-999.000,9,-999.000,9,  24.5149,2,-999.000,9, -999.00,9, -999.00,-999.000,9,-999.000, -999.00,9, -999.00,9, -32.7741,  34.4851,-999.000,-999.000,20090328,       0100
33RR20090320,        I05,      19,          2,         26,         26,2,20090327,       2345,   -32.7734,    34.4856,       1522,    24.8,  24.5221,  35.4826,2,  35.4815,2,    209.5,2,   208.7,2,    0.71,2,    0.02,2,    0.00,2,    0.03,2,-999.000,9,-999.000,9,-999.0000,9,  -999.0,9,  -999.0,9,-999.0000,9,  -999.00,-999.000,9,-999.000,9,-999.000,9,  24.5207,2,-999.000,9, -999.00,9, -999.00,-999.000,9,-999.000, -999.00,9, -999.00,9, -32.7741,  34.4851,-999.000,-999.000,20090328,       0058
33RR20090320,        I05,      19,          2,         25,         25,2,20090327,       2345,   -32.7734,    34.4856,       1522,    44.6,  24.4751,  35.4784,2,  35.4798,2,    208.7,2,   208.9,2,    0.59,2,    0.00,2,    0.00,2,    0.02,2,-999.000,9,-999.000,9,-999.0000,9,  2001.2,2,  2327.3,2,   8.1587,2,    20.00,-999.000,9,-999.000,9,-999.000,9,  24.4724,2,-999.000,9, -999.00,9, -999.00,-999.000,9,-999.000, -999.00,9, -999.00,9, -32.7742,  34.4851,-999.000,-999.000,20090328,       0056
33RR20090320,        I05,      19,          2,         24,         24,2,20090327,       2345,   -32.7734,    34.4856,       1522,    69.4,  24.2865,  35.4679,2,  35.4740,2,    207.1,2,   198.3,2,    0.46,2,    0.00,2,    0.00,2,    0.03,2,-999.000,9,-999.000,9,-999.0000,9,  2002.3,2,  2323.1,2,   8.1567,2,    20.00,-999.000,9,-999.000,9,-999.000,9,  24.2996,2,-999.000,9, -999.00,9, -999.00,-999.000,9,-999.000, -999.00,9, -999.00,9, -32.7744,  34.4851,-999.000,-999.000,20090328,       0053
33RR20090320,        I05,      19,          2,         23,         23,2,20090327,       2345,   -32.7734,    34.4856,       1522,    94.5,  22.0335,  35.4280,2,  35.4293,2,   -999.0,5,  -999.0,5,    1.14,2,    1.47,2,    0.05,2,    0.19,2,-999.000,9,-999.000,9,-999.0000,9,  2036.8,2,  2321.8,2,   8.0903,2,    20.00,-999.000,9,-999.000,9,-999.000,9,  22.0368,2,-999.000,9, -999.00,9, -999.00,-999.000,9,-999.000, -999.00,9, -999.00,9, -32.7745,  34.4850,-999.000,-999.000,20090328,       0051
33RR20090320,        I05,      19,          2,         22,         22,2,20090327,       2345,   -32.7734,    34.4856,       1522,   119.1,  21.3673,  35.4598,2,  35.4593,2,    192.0,2,   191.5,2,    1.22,2,    2.37,2,    0.03,2,    0.23,2,-999.000,9,-999.000,9,-999.0000,9,  2046.5,2,  2322.0,2,   8.0757,2,    20.00,-999.000,9,-999.000,9,-999.000,9,  21.3704,2,-999.000,9, -999.00,9, -999.00,-999.000,9,-999.000, -999.00,9, -999.00,9, -32.7744,  34.4850,-999.000,-999.000,20090328,       0049
33RR20090320,        I05,      19,          2,         21,         21,2,20090327,       2345,   -32.7734,    34.4856,       1522,   144.3,  20.0832,  35.4929,2,  35.4910,2,    187.2,2,   187.6,2,    2.31,2,    4.18,2,    0.01,2,    0.33,2,-999.000,9,-999.000,9,-999.0000,9,  2066.6,2,  2325.8,2,   8.0446,2,    20.00,-999.000,9,-999.000,9,-999.000,9,  20.0841,2,-999.000,9, -999.00,9, -999.00,-999.000,9,-999.000, -999.00,9, -999.00,9, -32.7743,  34.4851,-999.000,-999.000,20090328,       0047
33RR20090320,        I05,      19,          2,         20,         20,2,20090327,       2345,   -32.7734,    34.4856,       1522,   168.7,  19.1637,  35.5314,2,  35.5307,2,    193.1,2,   193.7,2,    1.99,2,    3.76,2,    0.01,2,    0.32,2,-999.000,9,-999.000,9,-999.0000,9,  2069.0,2,  2327.3,2,   8.0434,2,    20.00,-999.000,9,-999.000,9,-999.000,9,  19.1606,2,-999.000,9, -999.00,9, -999.00,-999.000,9,-999.000, -999.00,9, -999.00,9, -32.7743,  34.4849,-999.000,-999.000,20090328,       0045
33RR20090320,        I05,      19,          2,         19,         19,2,20090327,       2345,   -32.7734,    34.4856,       1522,   194.2,  18.4660,  35.5399,2,  35.5382,2,    204.1,2,   199.7,2,    2.07,2,    3.57,2,    0.01,2,    0.32,2,-999.000,9,-999.000,9,-999.0000,9,  2070.3,2,  2329.2,2,   8.0401,2,    20.00,-999.000,9,-999.000,9,-999.000,9,  18.4652,2,-999.000,9, -999.00,9, -999.00,-999.000,9,-999.000, -999.00,9, -999.00,9, -32.7745,  34.4849,-999.000,-999.000,20090328,       0042
33RR20090320,        I05,      19,          2,         18,         18,2,20090327,       2345,   -32.7734,    34.4856,       1522,   218.9,  17.9110,  35.5532,2,  35.5518,2,    216.3,2,   212.7,2,    1.34,2,    3.14,2,    0.01,2,    0.29,2,-999.000,9,-999.000,9,-999.0000,9,  2066.1,2,  2327.4,2,   8.0472,2,    20.00,-999.000,9,-999.000,9,-999.000,9,  17.9069,2,-999.000,9, -999.00,9, -999.00,-999.000,9,-999.000, -999.00,9, -999.00,9, -32.7742,  34.4848,-999.000,-999.000,20090328,       0040
33RR20090320,        I05,      19,          2,         17,         17,2,20090327,       2345,   -32.7734,    34.4856,       1522,   243.9,  17.5059,  35.5488,2,  35.5483,2,    212.9,2,   213.5,2,    1.62,2,    3.53,2,    0.01,2,    0.31,2,-999.000,9,-999.000,9,-999.0000,9,  2071.7,2,  2329.7,2,   8.0368,2,    20.00,-999.000,9,-999.000,9,-999.000,9,  17.5039,2,-999.000,9, -999.00,9, -999.00,-999.000,9,-999.000, -999.00,9, -999.00,9, -32.7741,  34.4848,-999.000,-999.000,20090328,       0038
33RR20090320,        I05,      19,          2,         16,         16,2,20090327,       2345,   -32.7734,    34.4856,       1522,   288.6,  16.9177,  35.5380,2,  35.5380,2,    210.4,2,   209.2,2,    2.10,2,    4.56,2,    0.00,2,    0.38,2,-999.000,9,-999.000,9,-999.0000,9,  -999.0,9,  -999.0,9,   8.0179,2,    20.00,-999.000,9,-999.000,9,-999.000,9,  16.9195,2,-999.000,9, -999.00,9, -999.00,-999.000,9,-999.000, -999.00,9, -999.00,9, -32.7739,  34.4848,-999.000,-999.000,20090328,       0036
33RR20090320,        I05,      19,          2,         15,         15,2,20090327,       2345,   -32.7734,    34.4856,       1522,   337.8,  16.4467,  35.5134,2,  35.5116,2,    205.8,2,   206.3,2,    2.38,2,    5.57,2,    0.00,2,    0.44,2,-999.000,9,-999.000,9,-999.0000,9,  2090.8,2,  2328.1,2,   8.0013,2,    20.00,-999.000,9,-999.000,9,-999.000,9,  16.4480,2,-999.000,9, -999.00,9, -999.00,-999.000,9,-999.000, -999.00,9, -999.00,9, -32.7740,  34.4847,-999.000,-999.000,20090328,       0033
33RR20090320,        I05,      19,          2,         14,         14,2,20090327,       2345,   -32.7734,    34.4856,       1522,   388.9,  15.5672,  35.4588,2,  35.4583,2,    199.3,2,   199.5,2,    2.87,2,    7.26,2,    0.00,2,    0.56,2,-999.000,9,-999.000,9,-999.0000,9,  -999.0,9,  -999.0,9,-999.0000,9,  -999.00,-999.000,9,-999.000,9,-999.000,9,  15.5674,2,-999.000,9, -999.00,9, -999.00,-999.000,9,-999.000, -999.00,9, -999.00,9, -32.7742,  34.4849,-999.000,-999.000,20090328,       0031
33RR20090320,        I05,      19,          2,         13,         13,2,20090327,       2345,   -32.7734,    34.4856,       1522,   438.6,  14.7546,  35.4108,2,  35.4116,2,    204.6,2,   204.3,2,    2.55,2,    7.94,2,    0.00,2,    0.60,2,-999.000,9,-999.000,9,-999.0000,9,  -999.0,9,  -999.0,9,-999.0000,9,  -999.00,-999.000,9,-999.000,9,-999.000,9,  14.7539,2,-999.000,9, -999.00,9, -999.00,-999.000,9,-999.000, -999.00,9, -999.00,9, -32.7743,  34.4850,-999.000,-999.000,20090328,       0028
33RR20090320,        I05,      19,          2,         12,         12,2,20090327,       2345,   -32.7734,    34.4856,       1522,   489.2,  14.1561,  35.3583,2,  35.3562,2,    207.0,2,   207.7,2,    2.42,2,    8.81,2,    0.00,2,    0.65,2,-999.000,9,-999.000,9,-999.0000,9,  -999.0,9,  -999.0,9,-999.0000,9,  -999.00,-999.000,9,-999.000,9,-999.000,9,  14.1508,2,-999.000,9, -999.00,9, -999.00,-999.000,9,-999.000, -999.00,9, -999.00,9, -32.7742,  34.4852,-999.000,-999.000,20090328,       0026
33RR20090320,        I05,      19,          2,         11,         11,2,20090327,       2345,   -32.7734,    34.4856,       1522,   569.0,  13.1664,  35.2462,2,  35.2471,2,    211.1,2,   212.0,2,    2.70,2,   10.21,2,    0.00,2,    0.74,2,-999.000,9,-999.000,9,-999.0000,9,  -999.0,9,  -999.0,9,-999.0000,9,  -999.00,-999.000,9,-999.000,9,-999.000,9,  13.1625,2,-999.000,9, -999.00,9, -999.00,-999.000,9,-999.000, -999.00,9, -999.00,9, -32.7742,  34.4852,-999.000,-999.000,20090328,       0022
33RR20090320,        I05,      19,          2,         10,         10,2,20090327,       2345,   -32.7734,    34.4856,       1522,   668.9,  11.9688,  35.0790,2,  35.0755,2,    211.4,2,   212.6,2,    3.59,2,   12.77,2,    0.00,2,    0.91,2,-999.000,9,-999.000,9,-999.0000,9,  -999.0,9,  -999.0,9,-999.0000,9,  -999.00,-999.000,9,-999.000,9,-999.000,9,  11.9654,2,-999.000,9, -999.00,9, -999.00,-999.000,9,-999.000, -999.00,9, -999.00,9, -32.7741,  34.4853,-999.000,-999.000,20090328,       0019
33RR20090320,        I05,      19,          2,          9,          9,2,20090327,       2345,   -32.7734,    34.4856,       1522,   768.6,  11.0379,  34.9434,2,  34.9425,2,    212.3,2,   215.3,2,    4.08,2,   14.52,2,    0.00,2,    1.01,2,-999.000,9,-999.000,9,-999.0000,9,  -999.0,9,  -999.0,9,-999.0000,9,  -999.00,-999.000,9,-999.000,9,-999.000,9,  11.0373,2,-999.000,9, -999.00,9, -999.00,-999.000,9,-999.000, -999.00,9, -999.00,9, -32.7744,  34.4853,-999.000,-999.000,20090328,       0015
33RR20090320,        I05,      19,          2,          8,          8,2,20090327,       2345,   -32.7734,    34.4856,       1522,   868.2,  10.1628,  34.8401,2,  34.8394,2,    205.9,2,   205.8,2,    7.22,2,   17.38,2,    0.00,2,    1.21,2,-999.000,9,-999.000,9,-999.0000,9,  -999.0,9,  -999.0,9,-999.0000,9,  -999.00,-999.000,9,-999.000,9,-999.000,9,  10.1630,2,-999.000,9, -999.00,9, -999.00,-999.000,9,-999.000, -999.00,9, -999.00,9, -32.7745,  34.4851,-999.000,-999.000,20090328,       0011
33RR20090320,        I05,      19,          2,          7,          7,2,20090327,       2345,   -32.7734,    34.4856,       1522,   968.8,   8.8770,  34.6786,2,  34.6770,2,    204.9,2,   206.4,2,    9.14,2,   20.63,2,    0.00,2,    1.41,2,-999.000,9,-999.000,9,-999.0000,9,  -999.0,9,  -999.0,9,-999.0000,9,  -999.00,-999.000,9,-999.000,9,-999.000,9,   8.8764,2,-999.000,9, -999.00,9, -999.00,-999.000,9,-999.000, -999.00,9, -999.00,9, -32.7745,  34.4851,-999.000,-999.000,20090328,       0007
33RR20090320,        I05,      19,          2,          6,          6,2,20090327,       2345,   -32.7734,    34.4856,       1522,  1068.7,   7.5932,  34.5757,2,  34.5767,2,    192.6,2,   193.5,2,   17.20,2,   24.77,2,    0.00,2,    1.69,2,-999.000,9,-999.000,9,-999.0000,9,  -999.0,9,  -999.0,9,-999.0000,9,  -999.00,-999.000,9,-999.000,9,-999.000,9,   7.5923,2,-999.000,9, -999.00,9, -999.00,-999.000,9,-999.000, -999.00,9, -999.00,9, -32.7742,  34.4851,-999.000,-999.000,20090328,       0004
33RR20090320,        I05,      19,          2,          5,          5,2,20090327,       2345,   -32.7734,    34.4856,       1522,  1168.9,   6.2934,  34.4977,2,  34.4971,2,    187.4,2,   186.7,2,   26.32,2,   28.31,2,    0.00,2,    1.94,2,-999.000,9,-999.000,9,-999.0000,9,  -999.0,9,  -999.0,9,-999.0000,9,  -999.00,-999.000,9,-999.000,9,-999.000,9,   6.2947,2,-999.000,9, -999.00,9, -999.00,-999.000,9,-999.000, -999.00,9, -999.00,9, -32.7739,  34.4851,-999.000,-999.000,20090327,       0000
33RR20090320,        I05,      19,          2,          4,          4,2,20090327,       2345,   -32.7734,    34.4856,       1522,  1270.0,   5.1647,  34.4482,2,  34.4445,2,    186.6,2,   187.7,2,   33.61,2,   30.48,2,    0.00,2,    2.11,2,-999.000,9,-999.000,9,-999.0000,9,  -999.0,9,  -999.0,9,-999.0000,9,  -999.00,-999.000,9,-999.000,9,-999.000,9,   5.1617,2,-999.000,9, -999.00,9, -999.00,-999.000,9,-999.000, -999.00,9, -999.00,9, -32.7739,  34.4849,-999.000,-999.000,20090327,       2356
33RR20090320,        I05,      19,          2,          3,          3,2,20090327,       2345,   -32.7734,    34.4856,       1522,  1367.9,   4.4670,  34.4680,2,  34.4691,2,    178.7,2,   178.6,2,   44.04,2,   32.06,2,    0.00,2,    2.24,2,-999.000,9,-999.000,9,-999.0000,9,  -999.0,9,  -999.0,9,-999.0000,9,  -999.00,-999.000,9,-999.000,9,-999.000,9,   4.4682,2,-999.000,9, -999.00,9, -999.00,-999.000,9,-999.000, -999.00,9, -999.00,9, -32.7742,  34.4849,-999.000,-999.000,20090327,       2352
33RR20090320,        I05,      19,          2,          2,          2,2,20090327,       2345,   -32.7734,    34.4856,       1522,  1469.2,   3.9667,  34.5208,2,  34.5203,2,    167.7,2,   169.2,2,   54.92,2,   33.15,2,    0.00,2,    2.34,2,-999.000,9,-999.000,9,-999.0000,9,  -999.0,9,  -999.0,9,-999.0000,9,  -999.00,-999.000,9,-999.000,9,-999.000,9,   3.9654,2,-999.000,9, -999.00,9, -999.00,-999.000,9,-999.000, -999.00,9, -999.00,9, -32.7739,  34.4851,-999.000,-999.000,20090327,       2348
33RR20090320,        I05,      19,          2,          1,          1,2,20090327,       2345,   -32.7734,    34.4856,       1522,  1521.0,   3.9514,  34.5234,2,  34.5231,2,    168.5,2,   168.8,2,   55.45,2,   33.21,2,    0.00,2,    2.33,2,-999.000,9,-999.000,9,-999.0000,9,  -999.0,9,  -999.0,9,-999.0000,9,  -999.00,-999.000,9,-999.000,9,-999.000,9,   3.9488,2,-999.000,9, -999.00,9, -999.00,-999.000,9,-999.000, -999.00,9, -999.00,9, -32.7734,  34.4856,-999.000,-999.000,20090327,       2345