BOTTLE,20220814CCHSIOAMB
EXPOCODE,SECT_ID,STNNBR,CASTNO,SAMPNO,BTLNBR,BTLNBR_FLAG_W,DATE,TIME,LATITUDE,LONGITUDE,DEPTH,CTDPRS,CTDTMP,CTDSAL,CTDSAL_FLAG_W,SALNTY,SALNTY_FLAG_W,CTDOXY,CTDOXY_FLAG_W,OXYGEN,OXYGEN_FLAG_W,SILCAT,SILCAT_FLAG_W,NITRAT,NITRAT_FLAG_W,NITRIT,NITRIT_FLAG_W,PHSPHT,PHSPHT_FLAG_W,CFC-11,CFC-11_FLAG_W,CFC-12,CFC-12_FLAG_W,SF6,SF6_FLAG_W,TCARBN,TCARBN_FLAG_W,ALKALI,ALKALI_FLAG_W,PH_TOT,PH_TOT_FLAG_W,PH_TMP,TRITUM,TRITUM_FLAG_W,HELIUM,HELIUM_FLAG_W,DELHE3,DELHE3_FLAG_W,REFTMP,REFTMP_FLAG_W,DELC13,DELC13_FLAG_W,DELC14,DELC14_FLAG_W,C14ERR,NEON,NEON_FLAG_W,NEONER,DOC,DOC_FLAG_W,TDN,TDN_FLAG_W,BTL_LAT,BTL_LON,HELIER,DELHER,BTL_DATE,BTL_TIME
,,,,,,,,,,,METERS,DBAR,ITS-90,PSS-78,,PSS-78,,UMOL/KG,,UMOL/KG,,UMOL/KG,,UMOL/KG,,UMOL/KG,,UMOL/KG,,PMOL/KG,,PMOL/KG,,FMOL/KG,,UMOL/KG,,UMOL/KG,,,,DEG C,TU,,NMOL/KG,,PERCNT,,DEG C,,/MILLE,,/MILLE,,/MILLE,NMOL/KG,,NMOL/KG,UMOL/KG,,UMOL/KG,,,,NMOL/KG,PERCNT,,
33RR20090320,        I05,     104,          1,         36,         36,2,20090420,       0401,   -33.2109,    74.6008,       4065,     8.2,  20.6658,  35.7956,2,  35.7962,2,    225.6,2,   225.0,2,    1.79,2,    0.11,2,    0.00,2,    0.14,2,   2.116,2,   1.272,2,   1.1520,2,  2063.6,6,  2351.3,2,   8.0904,2,    20.00,-999.000,9,-999.000,9,-999.000,9,  20.6660,2,-999.000,9, -999.00,9, -999.00,-999.000,9,-999.000, -999.00,9, -999.00,9, -33.2111,  74.6009,-999.000,-999.000,20090420,       0546
33RR20090320,        I05,     104,          1,         35,         35,2,20090420,       0401,   -33.2109,    74.6008,       4065,    31.3,  20.6446,  35.7941,2,  35.7942,2,    226.3,2,   224.8,2,    1.60,2,    0.05,2,    0.00,2,    0.14,2,-999.000,9,-999.000,9,-999.0000,9,  2065.2,2,  2351.2,2,   8.0899,2,    20.00,-999.000,9,-999.000,9,-999.000,9,  20.6438,2,-999.000,9, -999.00,9, -999.00,-999.000,9,-999.000, -999.00,9, -999.00,9, -33.2111,  74.6009,-999.000,-999.000,20090420,       0544
33RR20090320,        I05,     104,          1,         34,         34,2,20090420,       0401,   -33.2109,    74.6008,       4065,    55.0,  20.6346,  35.7921,2,  35.7928,2,    226.5,2,   225.1,2,    1.60,2,    0.05,2,    0.00,2,    0.13,2,-999.000,9,-999.000,9,-999.0000,9,  2064.4,2,  2350.6,2,   8.0897,2,    20.00,-999.000,9,-999.000,9,-999.000,9,  20.6343,2,-999.000,9, -999.00,9, -999.00,-999.000,9,-999.000, -999.00,9, -999.00,9, -33.2111,  74.6009,-999.000,-999.000,20090420,       0542
33RR20090320,        I05,     104,          1,         33,         33,2,20090420,       0401,   -33.2109,    74.6008,       4065,    81.9,  18.3881,  35.6389,2,  35.6369,2,    243.1,2,   248.8,2,    1.60,2,    0.05,2,    0.00,2,    0.16,2,-999.000,9,-999.000,9,-999.0000,9,  2066.1,2,  2342.6,2,   8.0742,2,    20.00,-999.000,9,-999.000,9,-999.000,9,  18.4789,2,-999.000,9, -999.00,9, -999.00,-999.000,9,-999.000, -999.00,9, -999.00,9, -33.2112,  74.6009,-999.000,-999.000,20090420,       0541
33RR20090320,        I05,     104,          1,         32,         32,2,20090420,       0401,   -33.2109,    74.6008,       4065,   105.2,  16.5324,  35.5581,2,  35.5686,2,    255.1,2,   254.8,2,    1.59,2,    0.05,2,    0.00,2,    0.18,2,   2.662,2,   1.559,2,   1.3520,2,  2071.3,2,  2339.1,2,   8.0594,2,    20.00,-999.000,9,-999.000,9,-999.000,9,  16.5194,2,-999.000,9, -999.00,9, -999.00,-999.000,9,-999.000, -999.00,9, -999.00,9, -33.2112,  74.6008,-999.000,-999.000,20090420,       0539
33RR20090320,        I05,     104,          1,         31,         31,2,20090420,       0401,   -33.2109,    74.6008,       4065,   131.7,  15.0757,  35.4056,2,  35.4057,2,    246.1,2,   244.1,2,    1.77,2,    0.72,2,    0.05,2,    0.30,2,-999.000,9,-999.000,9,-999.0000,9,  -999.0,9,  -999.0,9,-999.0000,9,  -999.00,-999.000,9,-999.000,9,-999.000,9,  15.0740,2,-999.000,9, -999.00,9, -999.00,-999.000,9,-999.000, -999.00,9, -999.00,9, -33.2112,  74.6008,-999.000,-999.000,20090420,       0538
33RR20090320,        I05,     104,          1,         30,         30,2,20090420,       0401,   -33.2109,    74.6008,       4065,   155.6,  14.4845,  35.3533,2,  35.3511,2,    238.0,2,   235.1,2,    2.31,2,    3.17,2,    0.21,2,    0.42,2,   2.864,2,   1.652,2,   1.4960,2,  2093.9,2,  2325.3,2,   7.9906,2,    20.00,-999.000,9,-999.000,9,-999.000,9,  14.4861,2,-999.000,9, -999.00,9, -999.00,-999.000,9,-999.000, -999.00,9, -999.00,9, -33.2112,  74.6008,-999.000,-999.000,20090420,       0537
33RR20090320,        I05,     104,          1,         29,         29,2,20090420,       0401,   -33.2109,    74.6008,       4065,   207.0,  13.2182,  35.1940,2,  35.1934,2,    234.2,2,   234.2,2,    2.85,2,    6.87,2,    0.01,2,    0.60,2,-999.000,9,-999.000,9,-999.0000,9,  -999.0,9,  -999.0,9,-999.0000,9,  -999.00,-999.000,9,-999.000,9,-999.000,9,  13.2188,2,-999.000,9, -999.00,9, -999.00,-999.000,9,-999.000, -999.00,9, -999.00,9, -33.2112,  74.6007,-999.000,-999.000,20090420,       0535
33RR20090320,        I05,     104,          1,         28,         28,2,20090420,       0401,   -33.2109,    74.6008,       4065,   256.7,  12.7073,  35.1517,2,  35.1513,2,    232.2,2,   233.9,2,    3.39,2,    8.59,2,    0.00,2,    0.69,2,-999.000,9,-999.000,9,-999.0000,9,  -999.0,9,  -999.0,9,-999.0000,9,  -999.00,-999.000,9,-999.000,9,-999.000,9,  12.7019,2,-999.000,9, -999.00,9, -999.00,-999.000,9,-999.000, -999.00,9, -999.00,9, -33.2113,  74.6008,-999.000,-999.000,20090420,       0533
33RR20090320,        I05,     104,          1,         27,         27,2,20090420,       0401,   -33.2109,    74.6008,       4065,   306.9,  12.3242,  35.1065,2,  35.1070,2,    233.1,2,   233.8,2,    3.56,2,    9.63,2,    0.00,2,    0.75,2,   3.173,2,   1.796,2,   1.4290,2,  2112.6,2,  2310.7,2,   7.9264,2,    20.00,-999.000,9,-999.000,9,-999.000,9,  12.3183,2,-999.000,9, -999.00,9, -999.00,-999.000,9,-999.000, -999.00,9, -999.00,9, -33.2113,  74.6008,-999.000,-999.000,20090420,       0531
33RR20090320,        I05,     104,          1,         26,         26,2,20090420,       0401,   -33.2109,    74.6008,       4065,   357.5,  11.9943,  35.0636,2,  35.0641,2,    234.5,2,   235.9,2,    3.92,2,   10.41,2,    0.00,2,    0.79,2,-999.000,9,-999.000,9,-999.0000,9,  -999.0,9,  -999.0,9,-999.0000,9,  -999.00,-999.000,9,-999.000,9,-999.000,9,  11.9966,2,-999.000,9, -999.00,9, -999.00,-999.000,9,-999.000, -999.00,9, -999.00,9, -33.2112,  74.6008,-999.000,-999.000,20090420,       0529
33RR20090320,        I05,     104,          1,         25,         25,2,20090420,       0401,   -33.2109,    74.6008,       4065,   405.5,  11.7394,  35.0319,2,  35.0328,2,    237.0,2,   237.0,2,    3.92,2,   10.77,2,    0.00,2,    0.82,2,-999.000,9,-999.000,9,-999.0000,9,  2113.5,2,  2303.7,2,   7.9161,2,    20.00,-999.000,9,-999.000,9,-999.000,9,  11.7427,2,-999.000,9, -999.00,9, -999.00,-999.000,9,-999.000, -999.00,9, -999.00,9, -33.2112,  74.6009,-999.000,-999.000,20090420,       0528
33RR20090320,        I05,     104,          1,         24,         24,2,20090420,       0401,   -33.2109,    74.6008,       4065,   457.9,  11.4431,  34.9909,2,  34.9930,2,    236.8,2,   236.9,2,    4.10,2,   11.44,2,    0.00,2,    0.86,2,-999.000,9,-999.000,9,-999.0000,9,  -999.0,9,  -999.0,9,-999.0000,9,  -999.00,-999.000,9,-999.000,9,-999.000,9,  11.4493,2,-999.000,9, -999.00,9, -999.00,-999.000,9,-999.000, -999.00,9, -999.00,9, -33.2112,  74.6009,-999.000,-999.000,20090420,       0526
33RR20090320,        I05,     104,          1,         23,         23,2,20090420,       0401,   -33.2109,    74.6008,       4065,   505.5,  11.0921,  34.9394,2,  34.9391,2,    236.7,2,   236.7,2,    4.46,2,   12.43,2,    0.00,2,    0.92,2,-999.000,9,-999.000,9,-999.0000,9,  -999.0,9,  -999.0,9,-999.0000,9,  -999.00,-999.000,9,-999.000,9,-999.000,9,  11.0958,2,-999.000,9, -999.00,9, -999.00,-999.000,9,-999.000, -999.00,9, -999.00,9, -33.2111,  74.6009,-999.000,-999.000,20090420,       0524
33RR20090320,        I05,     104,          1,         22,         22,2,20090420,       0401,   -33.2109,    74.6008,       4065,   605.4,  10.4788,  34.8539,2,  34.8541,2,    235.8,2,   235.1,2,    4.81,2,   13.99,2,    0.00,2,    1.02,2,   3.460,2,   1.855,2,   1.1020,2,  2121.1,2,  2297.9,2,   7.8835,2,    20.00,-999.000,9,-999.000,9,-999.000,9,  10.4805,2,-999.000,9, -999.00,9, -999.00,-999.000,9,-999.000, -999.00,9, -999.00,9, -33.2111,  74.6009,-999.000,-999.000,20090420,       0521
33RR20090320,        I05,     104,          1,         21,         21,2,20090420,       0401,   -33.2109,    74.6008,       4065,   704.5,   9.7736,  34.7544,2,  34.7558,2,    231.8,2,   231.1,2,    5.72,2,   16.02,2,    0.00,2,    1.14,2,-999.000,9,-999.000,9,-999.0000,9,  -999.0,9,  -999.0,9,-999.0000,9,  -999.00,-999.000,9,-999.000,9,-999.000,9,   9.7796,2,-999.000,9, -999.00,9, -999.00,-999.000,9,-999.000, -999.00,9, -999.00,9, -33.2111,  74.6009,-999.000,-999.000,20090420,       0519
33RR20090320,        I05,     104,          1,         20,         20,2,20090420,       0401,   -33.2109,    74.6008,       4065,   805.5,   8.7205,  34.6246,2,  34.6240,2,    223.1,2,   218.5,2,    8.80,2,   19.94,2,    0.00,2,    1.40,2,-999.000,9,-999.000,9,-999.0000,9,  -999.0,9,  -999.0,9,-999.0000,9,  -999.00,-999.000,9,-999.000,9,-999.000,9,   8.7199,2,-999.000,9, -999.00,9, -999.00,-999.000,9,-999.000, -999.00,9, -999.00,9, -33.2110,  74.6009,-999.000,-999.000,20090420,       0516
33RR20090320,        I05,     104,          1,         19,         19,2,20090420,       0401,   -33.2109,    74.6008,       4065,   907.2,   7.4939,  34.5153,2,  34.5169,2,    207.2,2,   206.1,2,   14.43,2,   23.87,2,    0.00,2,    1.66,2,   2.562,2,   1.268,2,   0.5260,2,  2157.5,2,  2290.2,2,   7.7741,2,    20.00,-999.000,9,-999.000,9,-999.000,9,   7.4885,2,-999.000,9, -999.00,9, -999.00,-999.000,9,-999.000, -999.00,9, -999.00,9, -33.2110,  74.6009,-999.000,-999.000,20090420,       0514
33RR20090320,        I05,     104,          1,         18,         18,2,20090420,       0401,   -33.2109,    74.6008,       4065,  1006.6,   5.9303,  34.4095,2,  34.4103,2,    201.2,2,   202.1,2,   22.45,2,   27.76,2,    0.00,2,    1.94,2,-999.000,9,-999.000,9,-999.0000,9,  -999.0,9,  -999.0,9,-999.0000,9,  -999.00,-999.000,9,-999.000,9,-999.000,9,   5.9328,2,-999.000,9, -999.00,9, -999.00,-999.000,9,-999.000, -999.00,9, -999.00,9, -33.2110,  74.6009,-999.000,-999.000,20090420,       0511
33RR20090320,        I05,     104,          1,         17,         17,2,20090420,       0401,   -33.2109,    74.6008,       4065,  1106.3,   4.7782,  34.3700,2,  34.3699,2,    199.9,2,   199.0,2,   31.96,2,   30.45,2,    0.00,2,    2.13,2,-999.000,9,-999.000,9,-999.0000,9,  -999.0,9,  -999.0,9,-999.0000,9,  -999.00,-999.000,9,-999.000,9,-999.000,9,   4.7837,2,-999.000,9, -999.00,9, -999.00,-999.000,9,-999.000, -999.00,9, -999.00,9, -33.2110,  74.6008,-999.000,-999.000,20090420,       0509
33RR20090320,        I05,     104,          1,         16,         16,2,20090420,       0401,   -33.2109,    74.6008,       4065,  1158.0,   4.3661,  34.3714,2,  34.3709,2,    196.4,2,   196.2,2,   36.90,2,   31.34,2,    0.00,2,    2.22,2,-999.000,9,-999.000,9,-999.0000,9,  2200.8,2,  2302.2,2,   7.6858,2,    20.00,-999.000,9,-999.000,9,-999.000,9,   4.3717,2,-999.000,9, -999.00,9, -999.00,-999.000,9,-999.000, -999.00,9, -999.00,9, -33.2110,  74.6008,-999.000,-999.000,20090420,       0507
33RR20090320,        I05,     104,          1,         15,         15,2,20090420,       0401,   -33.2109,    74.6008,       4065,  1208.7,   4.1381,  34.3825,2,  34.3815,2,    191.3,2,   192.0,2,   41.13,2,   32.08,2,    0.00,2,    2.27,2,-999.000,9,-999.000,9,-999.0000,9,  -999.0,9,  -999.0,9,-999.0000,9,  -999.00,-999.000,9,-999.000,9,-999.000,9,   4.1367,2,-999.000,9, -999.00,9, -999.00,-999.000,9,-999.000, -999.00,9, -999.00,9, -33.2110,  74.6008,-999.000,-999.000,20090420,       0505
33RR20090320,        I05,     104,          1,         14,         14,2,20090420,       0401,   -33.2109,    74.6008,       4065,  1307.2,   3.7492,  34.4254,2,  34.4243,2,    179.7,2,   179.9,2,   51.26,2,   33.34,2,    0.00,2,    2.37,2,-999.000,9,-999.000,9,-999.0000,9,  -999.0,9,  -999.0,9,-999.0000,9,  -999.00,-999.000,9,-999.000,9,-999.000,9,   3.7484,2,-999.000,9, -999.00,9, -999.00,-999.000,9,-999.000, -999.00,9, -999.00,9, -33.2110,  74.6007,-999.000,-999.000,20090420,       0503
33RR20090320,        I05,     104,          1,         13,         13,2,20090420,       0401,   -33.2109,    74.6008,       4065,  1409.9,   3.4333,  34.4705,2,  34.4690,2,    171.2,2,   171.4,2,   59.77,2,   34.13,2,    0.00,2,    2.43,2,   0.553,2,   0.255,2,   0.1010,2,  2237.8,6,  2326.5,2,   7.6445,2,    20.00,-999.000,9,-999.000,9,-999.000,9,   3.4372,2,-999.000,9, -999.00,9, -999.00,-999.000,9,-999.000, -999.00,9, -999.00,9, -33.2110,  74.6007,-999.000,-999.000,20090420,       0500
33RR20090320,        I05,     104,          1,         12,         12,2,20090420,       0401,   -33.2109,    74.6008,       4065,  1608.3,   2.9595,  34.5575,2,  34.5566,2,    166.8,2,   166.7,2,   70.34,2,   34.01,2,    0.00,2,    2.44,2,-999.000,9,-999.000,9,-999.0000,9,  -999.0,9,  -999.0,9,-999.0000,9,  -999.00,-999.000,9,-999.000,9,-999.000,9,   2.9603,2,-999.000,9, -999.00,9, -999.00,-999.000,9,-999.000, -999.00,9, -999.00,9, -33.2112,  74.6007,-999.000,-999.000,20090420,       0455
33RR20090320,        I05,     104,          1,         11,         11,2,20090420,       0401,   -33.2109,    74.6008,       4065,  1811.5,   2.6607,  34.6359,2,  34.6356,2,    171.1,2,   170.7,2,   76.66,2,   33.26,2,    0.00,2,    2.36,2,-999.000,9,-999.000,9,-999.0000,9,  -999.0,9,  -999.0,9,-999.0000,9,  -999.00,-999.000,9,-999.000,9,-999.000,9,   2.6608,2,-999.000,9, -999.00,9, -999.00,-999.000,9,-999.000, -999.00,9, -999.00,9, -33.2111,  74.6007,-999.000,-999.000,20090420,       0451
33RR20090320,        I05,     104,          1,         10,         10,2,20090420,       0401,   -33.2109,    74.6008,       4065,  2011.8,   2.4185,  34.6896,2,  34.6890,2,    177.2,2,   178.0,2,   81.69,2,   32.30,2,    0.00,2,    2.29,2,   0.055,2,   0.024,2,   0.0100,2,  2250.9,2,  2347.9,2,   7.6655,2,    20.00,-999.000,9,-999.000,9,-999.000,9,   2.4193,2,-999.000,9, -999.00,9, -999.00,-999.000,9,-999.000, -999.00,9, -999.00,9, -33.2111,  74.6008,-999.000,-999.000,20090420,       0447
33RR20090320,        I05,     104,          1,          9,          9,2,20090420,       0401,   -33.2109,    74.6008,       4065,  2264.0,   2.1389,  34.7201,2,  34.7201,2,    178.1,2,   178.6,2,   97.01,2,   32.39,2,    0.00,2,    2.30,2,-999.000,9,-999.000,9,-999.0000,9,  -999.0,9,  -999.0,9,-999.0000,9,  -999.00,-999.000,9,-999.000,9,-999.000,9,   2.1384,2,-999.000,9, -999.00,9, -999.00,-999.000,9,-999.000, -999.00,9, -999.00,9, -33.2112,  74.6008,-999.000,-999.000,20090420,       0442
33RR20090320,        I05,     104,          1,          8,          8,2,20090420,       0401,   -33.2109,    74.6008,       4065,  2514.8,   1.9726,  34.7270,2,  34.7264,2,    176.5,2,   176.4,2,  107.52,2,   32.86,2,    0.00,2,    2.34,2,-999.000,9,-999.000,9,-999.0000,9,  -999.0,9,  -999.0,9,-999.0000,9,  -999.00,-999.000,9,-999.000,9,-999.000,9,   1.9717,2,-999.000,9, -999.00,9, -999.00,-999.000,9,-999.000, -999.00,9, -999.00,9, -33.2113,  74.6007,-999.000,-999.000,20090420,       0436
33RR20090320,        I05,     104,          1,          7,          7,2,20090420,       0401,   -33.2109,    74.6008,       4065,  2770.4,   1.8510,  34.7282,2,  34.7280,2,    176.7,2,   176.8,2,  113.15,2,   33.07,2,    0.00,2,    2.36,2,   0.006,6,   0.003,6,   0.0000,6,  2277.8,2,  2379.3,2,   7.6758,2,    20.00,-999.000,9,-999.000,9,-999.000,9,   1.8503,2,-999.000,9, -999.00,9, -999.00,-999.000,9,-999.000, -999.00,9, -999.00,9, -33.2112,  74.6008,-999.000,-999.000,20090420,       0430
33RR20090320,        I05,     104,          1,          6,          6,2,20090420,       0401,   -33.2109,    74.6008,       4065,  3020.8,   1.7209,  34.7267,2,  34.7264,2,    178.5,2,   178.3,2,  117.67,2,   33.22,2,    0.00,2,    2.37,2,   0.006,2,   0.002,2,   0.0000,2,  -999.0,9,  -999.0,9,-999.0000,9,  -999.00,-999.000,9,-999.000,9,-999.000,9,   1.7213,2,-999.000,9, -999.00,9, -999.00,-999.000,9,-999.000, -999.00,9, -999.00,9, -33.2110,  74.6008,-999.000,-999.000,20090420,       0425
33RR20090320,        I05,     104,          1,          5,          5,2,20090420,       0401,   -33.2109,    74.6008,       4065,  3325.2,   1.5530,  34.7209,2,  34.7207,2,    183.1,2,   183.1,2,  120.87,2,   33.16,2,    0.00,2,    2.36,2,   0.007,2,   0.005,2,   0.0000,2,  2279.0,2,  2381.5,2,   7.6789,2,    20.00,-999.000,9,-999.000,9,-999.000,9,   1.5531,2,-999.000,9, -999.00,9, -999.00,-999.000,9,-999.000, -999.00,9, -999.00,9, -33.2111,  74.6007,-999.000,-999.000,20090420,       0419
33RR20090320,        I05,     104,          1,          4,          4,2,20090420,       0401,   -33.2109,    74.6008,       4065,  3630.1,   1.4487,  34.7176,2,  34.7162,2,    186.8,2,   186.6,2,  122.75,2,   33.21,2,    0.00,2,    2.36,2,   0.008,2,   0.005,2,   0.0000,2,  -999.0,9,  -999.0,9,-999.0000,9,  -999.00,-999.000,9,-999.000,9,-999.000,9,   1.4496,2,-999.000,9, -999.00,9, -999.00,-999.000,9,-999.000, -999.00,9, -999.00,9, -33.2112,  74.6007,-999.000,-999.000,20090420,       0413
33RR20090320,        I05,     104,          1,          3,          3,2,20090420,       0401,   -33.2109,    74.6008,       4065,  3936.8,   1.2004,  34.7101,2,  34.7107,2,    194.9,2,   194.6,2,  125.02,2,   33.09,2,    0.00,2,    2.34,2,   0.012,2,   0.007,2,   0.0000,2,  2275.6,2,  2377.9,2,   7.6837,2,    20.00,-999.000,9,-999.000,9,-999.000,9,   1.2001,2,-999.000,9, -999.00,9, -999.00,-999.000,9,-999.000, -999.00,9, -999.00,9, -33.2112,  74.6008,-999.000,-999.000,20090420,       0406
33RR20090320,        I05,     104,          1,          2,          2,2,20090420,       0401,   -33.2109,    74.6008,       4065,  4023.2,   1.1851,  34.7097,2,  34.7089,2,    195.7,2,   195.5,2,  125.77,2,   33.08,2,    0.00,2,    2.34,2,   0.011,2,   0.006,2,   0.0000,2,  -999.0,9,  -999.0,9,-999.0000,9,  -999.00,-999.000,9,-999.000,9,-999.000,9,   1.1852,2,-999.000,9, -999.00,9, -999.00,-999.000,9,-999.000, -999.00,9, -999.00,9, -33.2111,  74.6008,-999.000,-999.000,20090420,       0403
33RR20090320,        I05,     104,          1,          1,          1,2,20090420,       0401,   -33.2109,    74.6008,       4065,  4111.5,   1.1743,  34.7090,2,  34.7089,2,    195.8,2,   195.9,2,  126.14,2,   33.02,2,    0.00,2,    2.35,2,   0.014,6,   0.008,6,   0.0000,6,  2276.1,6,  2379.9,2,   7.6845,2,    20.00,-999.000,9,-999.000,9,-999.000,9,   1.1736,2,-999.000,9, -999.00,9, -999.00,-999.000,9,-999.000, -999.00,9, -999.00,9, -33.2109,  74.6008,-999.000,-999.000,20090420,       0401