BOTTLE,20220814CCHSIOAMB
EXPOCODE,SECT_ID,STNNBR,CASTNO,SAMPNO,BTLNBR,BTLNBR_FLAG_W,DATE,TIME,LATITUDE,LONGITUDE,DEPTH,CTDPRS,CTDTMP,CTDSAL,CTDSAL_FLAG_W,SALNTY,SALNTY_FLAG_W,CTDOXY,CTDOXY_FLAG_W,OXYGEN,OXYGEN_FLAG_W,SILCAT,SILCAT_FLAG_W,NITRAT,NITRAT_FLAG_W,NITRIT,NITRIT_FLAG_W,PHSPHT,PHSPHT_FLAG_W,CFC-11,CFC-11_FLAG_W,CFC-12,CFC-12_FLAG_W,SF6,SF6_FLAG_W,TCARBN,TCARBN_FLAG_W,ALKALI,ALKALI_FLAG_W,PH_TOT,PH_TOT_FLAG_W,PH_TMP,TRITUM,TRITUM_FLAG_W,HELIUM,HELIUM_FLAG_W,DELHE3,DELHE3_FLAG_W,REFTMP,REFTMP_FLAG_W,DELC13,DELC13_FLAG_W,DELC14,DELC14_FLAG_W,C14ERR,NEON,NEON_FLAG_W,NEONER,DOC,DOC_FLAG_W,TDN,TDN_FLAG_W,BTL_LAT,BTL_LON,HELIER,DELHER,BTL_DATE,BTL_TIME
,,,,,,,,,,,METERS,DBAR,ITS-90,PSS-78,,PSS-78,,UMOL/KG,,UMOL/KG,,UMOL/KG,,UMOL/KG,,UMOL/KG,,UMOL/KG,,PMOL/KG,,PMOL/KG,,FMOL/KG,,UMOL/KG,,UMOL/KG,,,,DEG C,TU,,NMOL/KG,,PERCNT,,DEG C,,/MILLE,,/MILLE,,/MILLE,NMOL/KG,,NMOL/KG,UMOL/KG,,UMOL/KG,,,,NMOL/KG,PERCNT,,
33RR20090320,        I05,     191,          1,         28,         28,2,20090511,       2024,   -32.5323,   114.1859,       2579,     5.6,  20.5829,  35.8269,2,  35.8270,2,    224.3,2,   224.6,2,    1.83,2,    0.05,2,    0.00,2,    0.07,2,   2.090,2,   1.260,2,   1.0950,2,  2048.0,2,  2350.2,2,   8.1163,2,    20.00,-999.000,9,-999.000,9,-999.000,9,  20.5828,2,-999.000,9, -999.00,9, -999.00,-999.000,9,-999.000,   67.62,2,    3.93,2, -32.5321, 114.1861,-999.000,-999.000,20090511,       2132
33RR20090320,        I05,     191,          1,         27,         27,2,20090511,       2024,   -32.5323,   114.1859,       2579,    29.4,  20.5901,  35.8263,2,  35.8267,2,    225.5,2,   225.1,2,    1.80,2,    0.05,2,    0.00,2,    0.07,2,-999.000,9,-999.000,9,-999.0000,9,  2046.9,2,  2350.1,2,   8.1169,2,    20.00,-999.000,9,-999.000,9,-999.000,9,  20.5897,2,-999.000,9, -999.00,9, -999.00,-999.000,9,-999.000,   67.68,2,    4.48,2, -32.5321, 114.1860,-999.000,-999.000,20090511,       2130
33RR20090320,        I05,     191,          1,         26,         26,2,20090511,       2024,   -32.5323,   114.1859,       2579,    55.3,  20.5702,  35.8255,2,  35.8263,2,    226.2,2,   225.4,2,    1.79,2,    0.05,2,    0.00,2,    0.07,2,   2.096,2,   1.263,2,   1.1070,2,  2048.7,2,  2348.8,2,   8.1153,2,    20.00,-999.000,9,-999.000,9,-999.000,9,  20.5707,2,-999.000,9, -999.00,9, -999.00,-999.000,9,-999.000,   67.69,2,    4.30,2, -32.5322, 114.1860,-999.000,-999.000,20090511,       2129
33RR20090320,        I05,     191,          1,         25,         25,2,20090511,       2024,   -32.5323,   114.1859,       2579,    81.1,  19.2628,  35.8078,2,  35.8089,2,    231.7,2,   233.0,2,    1.57,2,    0.05,2,    0.00,2,    0.10,2,-999.000,9,-999.000,9,-999.0000,9,  -999.0,9,  2350.6,2,   8.0923,2,    20.00,-999.000,9,-999.000,9,-999.000,9,  19.2907,2,-999.000,9, -999.00,9, -999.00,-999.000,9,-999.000,   64.42,2,    4.16,2, -32.5321, 114.1859,-999.000,-999.000,20090511,       2127
33RR20090320,        I05,     191,          1,         24,         24,2,20090511,       2024,   -32.5323,   114.1859,       2579,   104.8,  17.4180,  35.7860,2,  35.7887,2,    235.4,2,   234.4,2,    1.55,2,    0.04,2,    0.06,2,    0.14,2,   2.496,2,   1.467,2,   1.3030,2,  2076.8,2,  2350.0,2,   8.0660,2,    20.00,-999.000,9,-999.000,9,-999.000,9,  17.3982,2,-999.000,9, -999.00,9, -999.00,-999.000,9,-999.000,   58.54,2,    4.19,2, -32.5321, 114.1859,-999.000,-999.000,20090511,       2126
33RR20090320,        I05,     191,          1,         23,         23,2,20090511,       2024,   -32.5323,   114.1859,       2579,   154.1,  15.6344,  35.6445,2,  35.6438,2,    229.9,2,   229.4,2,    1.34,2,    2.11,2,    0.01,2,    0.26,2,-999.000,9,-999.000,9,-999.0000,9,  -999.0,9,  2342.3,2,   8.0252,2,    20.00,-999.000,9,-999.000,9,-999.000,9,  15.5919,2,-999.000,9, -999.00,9, -999.00,-999.000,9,-999.000,   54.09,2,    5.60,2, -32.5321, 114.1859,-999.000,-999.000,20090511,       2124
33RR20090320,        I05,     191,          1,         22,         22,2,20090511,       2024,   -32.5323,   114.1859,       2579,   204.3,  14.1512,  35.4238,2,  35.4302,2,    231.1,2,   231.4,2,    1.50,2,    4.45,2,    0.01,2,    0.41,2,   2.872,2,   1.661,2,   1.3030,2,  2102.7,2,  2330.0,2,   7.9890,2,    20.00,-999.000,9,-999.000,9,-999.000,9,  14.1682,2,-999.000,9, -999.00,9, -999.00,-999.000,9,-999.000,   51.34,2,    7.77,2, -32.5320, 114.1859,-999.000,-999.000,20090511,       2122
33RR20090320,        I05,     191,          1,         21,         21,2,20090511,       2024,   -32.5323,   114.1859,       2579,   253.3,  12.8253,  35.2025,2,  35.2073,2,    236.3,2,   236.5,2,    1.66,2,    6.79,2,    0.01,2,    0.57,2,-999.000,9,-999.000,9,-999.0000,9,  -999.0,9,  2317.8,2,   7.9550,2,    20.00,-999.000,9,-999.000,9,-999.000,9,  12.8346,2,-999.000,9, -999.00,9, -999.00,-999.000,9,-999.000,   50.33,2,    9.33,2, -32.5320, 114.1859,-999.000,-999.000,20090511,       2121
33RR20090320,        I05,     191,          1,         20,         20,2,20090511,       2024,   -32.5323,   114.1859,       2579,   300.3,  11.7210,  35.0228,2,  35.0267,2,    240.6,2,   240.3,2,    2.01,2,    9.09,2,    0.01,2,    0.70,2,   3.283,2,   1.853,2,   1.3990,2,  2113.3,2,  2309.1,2,   7.9264,2,    20.00,-999.000,9,-999.000,9,-999.000,9,  11.7226,2,-999.000,9, -999.00,9, -999.00,-999.000,9,-999.000,   48.77,2,   11.58,2, -32.5321, 114.1860,-999.000,-999.000,20090511,       2119
33RR20090320,        I05,     191,          1,         19,         19,2,20090511,       2024,   -32.5323,   114.1859,       2579,   349.1,  10.4825,  34.8335,2,  34.8370,2,    241.3,2,   241.9,2,    2.91,2,   12.30,2,    0.00,2,    0.90,2,-999.000,9,-999.000,9,-999.0000,9,  -999.0,9,  2301.3,2,   7.8911,2,    20.00,-999.000,9,-999.000,9,-999.000,9,  10.4911,2,-999.000,9, -999.00,9, -999.00,-999.000,9,-999.000,   47.23,2,   14.46,2, -32.5321, 114.1860,-999.000,-999.000,20090511,       2118
33RR20090320,        I05,     191,          1,         18,         18,2,20090511,       2024,   -32.5323,   114.1859,       2579,   399.8,   9.6149,  34.7199,2,  34.7252,2,    239.7,2,   240.3,2,    3.99,2,   15.08,2,    0.00,2,    1.06,2,   3.613,6,   1.980,6,   1.3240,6,  2128.9,2,  2294.5,2,   7.8626,2,    20.00,-999.000,9,-999.000,9,-999.000,9,   9.6461,2,-999.000,9, -999.00,9, -999.00,-999.000,9,-999.000,   46.15,2,   17.18,2, -32.5322, 114.1861,-999.000,-999.000,20090511,       2116
33RR20090320,        I05,     191,          1,         17,         17,2,20090511,       2024,   -32.5323,   114.1859,       2579,   497.1,   8.2017,  34.5608,2,  34.5645,2,    226.3,2,   226.3,2,    8.40,2,   20.16,2,    0.00,2,    1.40,2,   3.245,2,   1.694,2,   0.9760,2,  2145.0,2,  2290.7,2,   7.8118,2,    20.00,-999.000,9,-999.000,9,-999.000,9,   8.2358,2,-999.000,9, -999.00,9, -999.00,-999.000,9,-999.000,   44.59,2,   21.78,2, -32.5322, 114.1862,-999.000,-999.000,20090511,       2114
33RR20090320,        I05,     191,          1,         16,         16,2,20090511,       2024,   -32.5323,   114.1859,       2579,   595.9,   5.9286,  34.4174,2,  34.4156,2,    196.1,2,   195.9,2,   23.65,2,   28.01,2,    0.00,2,    1.93,2,   1.811,2,   0.897,2,   0.3610,2,  2182.8,2,  2295.2,2,   7.7201,2,    20.00,-999.000,9,-999.000,9,-999.000,9,   5.9145,2,-999.000,9, -999.00,9, -999.00,-999.000,9,-999.000,   42.09,2,   29.47,2, -32.5321, 114.1860,-999.000,-999.000,20090511,       2111
33RR20090320,        I05,     191,          1,         15,         15,2,20090511,       2024,   -32.5323,   114.1859,       2579,   698.7,   4.8637,  34.3933,2,  34.3935,2,    189.8,2,   189.8,2,   34.30,2,   30.58,2,    0.00,2,    2.14,2,   1.345,2,   0.654,2,   0.1720,2,  -999.0,9,  2302.4,2,   7.6899,2,    20.00,-999.000,9,-999.000,9,-999.000,9,   4.8595,2,-999.000,9, -999.00,9, -999.00,-999.000,9,-999.000,   41.31,2,   32.27,2, -32.5319, 114.1860,-999.000,-999.000,20090511,       2108
33RR20090320,        I05,     191,          1,         14,         14,2,20090511,       2024,   -32.5323,   114.1859,       2579,   797.6,   4.2446,  34.4038,2,  34.4035,2,    183.7,2,   183.7,2,   43.64,2,   32.19,2,    0.00,2,    2.27,2,   1.026,2,   0.485,2,   0.0990,2,  2215.6,2,  2310.9,2,   7.6707,2,    20.00,-999.000,9,-999.000,9,-999.000,9,   4.2408,2,-999.000,9, -999.00,9, -999.00,-999.000,9,-999.000,   40.71,2,   33.92,2, -32.5320, 114.1861,-999.000,-999.000,20090511,       2106
33RR20090320,        I05,     191,          1,         13,         13,2,20090511,       2024,   -32.5323,   114.1859,       2579,   899.2,   3.8981,  34.4453,2,  34.4455,2,    170.0,2,   169.8,2,   54.84,2,   33.34,2,    0.00,2,    2.37,2,-999.000,9,-999.000,9,-999.0000,9,  -999.0,9,  2321.7,2,   7.6503,2,    20.00,-999.000,9,-999.000,9,-999.000,9,   3.8980,2,-999.000,9, -999.00,9, -999.00,-999.000,9,-999.000,   40.11,2,   35.01,2, -32.5320, 114.1861,-999.000,-999.000,20090511,       2103
33RR20090320,        I05,     191,          1,         12,         12,2,20090511,       2024,   -32.5323,   114.1859,       2579,   999.8,   3.7229,  34.5002,2,  34.5010,2,    154.5,2,   154.4,2,   66.80,2,   34.43,2,    0.00,2,    2.47,2,   0.330,2,   0.155,2,   0.0090,2,  2250.8,2,  2330.8,2,   7.6324,2,    20.00,-999.000,9,-999.000,9,-999.000,9,   3.7220,2,-999.000,9, -999.00,9, -999.00,-999.000,9,-999.000,   39.17,2,   36.33,2, -32.5320, 114.1860,-999.000,-999.000,20090511,       2101
33RR20090320,        I05,     191,          1,         11,         11,2,20090511,       2024,   -32.5323,   114.1859,       2579,  1100.7,   3.5467,  34.5239,2,  34.5238,2,    151.7,2,   151.9,2,   71.03,2,   34.64,2,    0.00,2,    2.49,2,-999.000,9,-999.000,9,-999.0000,9,  -999.0,9,  2337.8,2,   7.6280,2,    20.00,-999.000,9,-999.000,9,-999.000,9,   3.5463,2,-999.000,9, -999.00,9, -999.00,-999.000,9,-999.000,   39.06,2,   36.42,2, -32.5321, 114.1861,-999.000,-999.000,20090511,       2059
33RR20090320,        I05,     191,          1,         10,         10,2,20090511,       2024,   -32.5323,   114.1859,       2579,  1200.6,   3.3981,  34.5423,2,  34.5417,2,    150.9,2,   150.8,2,   74.16,2,   34.74,2,    0.00,2,    2.50,2,   0.170,2,   0.083,2,   0.0000,2,  2260.7,2,  2343.1,2,   7.6267,2,    20.00,-999.000,9,-999.000,9,-999.000,9,   3.3976,2,-999.000,9, -999.00,9, -999.00,-999.000,9,-999.000,   39.41,2,   36.14,2, -32.5321, 114.1860,-999.000,-999.000,20090511,       2056
33RR20090320,        I05,     191,          1,          9,          9,2,20090511,       2024,   -32.5323,   114.1859,       2579,  1301.6,   3.2768,  34.5638,2,  34.5639,2,    149.5,2,   149.8,2,   77.66,2,   34.79,2,    0.00,2,    2.50,2,-999.000,9,-999.000,9,-999.0000,9,  -999.0,9,  2346.7,2,   7.6254,2,    20.00,-999.000,9,-999.000,9,-999.000,9,   3.2762,2,-999.000,9, -999.00,9, -999.00,-999.000,9,-999.000,   39.15,2,   36.57,2, -32.5321, 114.1861,-999.000,-999.000,20090511,       2054
33RR20090320,        I05,     191,          1,          8,          8,2,20090511,       2024,   -32.5323,   114.1859,       2579,  1399.2,   3.1353,  34.5795,2,  34.5796,2,    151.1,2,   151.0,2,   79.31,2,   34.67,2,    0.00,2,    2.49,2,-999.000,9,-999.000,9,-999.0000,9,  2265.8,2,  2350.9,2,   7.6269,2,    20.00,-999.000,9,-999.000,9,-999.000,9,   3.1343,2,-999.000,9, -999.00,9, -999.00,-999.000,9,-999.000,   39.68,2,   36.26,2, -32.5320, 114.1860,-999.000,-999.000,20090511,       2051
33RR20090320,        I05,     191,          1,          7,          7,2,20090511,       2024,   -32.5323,   114.1859,       2579,  1501.2,   3.0810,  34.5912,2,  34.5918,2,    151.3,2,   151.4,2,   81.16,2,   34.77,2,    0.00,2,    2.49,2,-999.000,9,-999.000,9,-999.0000,9,  -999.0,9,  2352.1,2,   7.6278,2,    20.00,-999.000,9,-999.000,9,-999.000,9,   3.0804,2,-999.000,9, -999.00,9, -999.00,-999.000,9,-999.000,   39.80,2,   36.38,2, -32.5321, 114.1860,-999.000,-999.000,20090511,       2048
33RR20090320,        I05,     191,          1,          6,          6,2,20090511,       2024,   -32.5323,   114.1859,       2579,  1600.8,   2.8889,  34.6296,2,  34.6297,2,    151.5,2,   152.1,2,   86.34,2,   34.43,2,    0.00,2,    2.48,2,   0.029,2,   0.014,2,   0.0000,2,  2271.8,2,  2358.3,2,   7.6318,2,    20.00,-999.000,9,-999.000,9,-999.000,9,   2.8886,2,-999.000,9, -999.00,9, -999.00,-999.000,9,-999.000,   39.83,2,   36.13,2, -32.5321, 114.1861,-999.000,-999.000,20090511,       2046
33RR20090320,        I05,     191,          1,          5,          5,2,20090511,       2024,   -32.5323,   114.1859,       2579,  1802.2,   2.6142,  34.6753,2,  34.6751,2,    156.9,2,   156.8,2,   93.59,2,   33.86,2,    0.00,2,    2.43,2,-999.000,9,-999.000,9,-999.0000,9,  2275.8,2,  2363.6,2,   7.6422,2,    20.00,-999.000,9,-999.000,9,-999.000,9,   2.6136,2,-999.000,9, -999.00,9, -999.00,-999.000,9,-999.000,   39.31,2,   35.81,2, -32.5321, 114.1860,-999.000,-999.000,20090511,       2041
33RR20090320,        I05,     191,          1,          4,          4,2,20090511,       2024,   -32.5323,   114.1859,       2579,  2002.3,   2.3783,  34.7054,2,  34.7054,2,    160.9,2,   160.5,2,  100.87,2,   33.52,2,    0.00,2,    2.40,2,   0.005,2,   0.002,2,   0.0000,2,  2280.4,2,  2372.8,2,   7.6519,2,    20.00,-999.000,9,-999.000,9,-999.000,9,   2.3783,2,-999.000,9, -999.00,9, -999.00,-999.000,9,-999.000,   39.49,2,   35.27,2, -32.5319, 114.1858,-999.000,-999.000,20090511,       2037
33RR20090320,        I05,     191,          1,          3,          3,2,20090511,       2024,   -32.5323,   114.1859,       2579,  2253.6,   2.2093,  34.7186,2,  34.7184,2,    164.5,2,   164.3,2,  106.12,2,   33.34,2,    0.00,2,    2.39,2,-999.000,9,-999.000,9,-999.0000,9,  2283.0,2,  2376.4,2,   7.6585,2,    20.00,-999.000,9,-999.000,9,-999.000,9,   2.2067,2,-999.000,9, -999.00,9, -999.00,-999.000,9,-999.000,   39.41,2,   35.13,2, -32.5321, 114.1858,-999.000,-999.000,20090511,       2032
33RR20090320,        I05,     191,          1,          2,          2,2,20090511,       2024,   -32.5323,   114.1859,       2579,  2424.0,   2.0727,  34.7242,2,  34.7242,2,    167.3,2,   166.9,2,  109.49,2,   33.22,2,    0.00,2,    2.38,2,-999.000,9,-999.000,9,-999.0000,9,  2283.8,2,  2381.0,2,   7.6628,2,    20.00,-999.000,9,-999.000,9,-999.000,9,   2.0716,2,-999.000,9, -999.00,9, -999.00,-999.000,9,-999.000,   39.97,2,   34.44,2, -32.5323, 114.1859,-999.000,-999.000,20090511,       2028
33RR20090320,        I05,     191,          1,          1,          1,2,20090511,       2024,   -32.5323,   114.1859,       2579,  2599.0,   1.9655,  34.7260,2,  34.7268,2,    170.3,2,   170.6,2,  111.37,2,   33.11,2,    0.00,2,    2.36,2,   0.003,2,   0.005,2,   0.0000,2,  2283.7,2,  2382.8,2,   7.6672,2,    20.00,-999.000,9,-999.000,9,-999.000,9,   1.9643,2,-999.000,9, -999.00,9, -999.00,-999.000,9,-999.000,   40.30,2,   34.81,2, -32.5323, 114.1858,-999.000,-999.000,20090511,       2024