BOTTLE,20220814CCHSIOAMB
EXPOCODE,SECT_ID,STNNBR,CASTNO,SAMPNO,BTLNBR,BTLNBR_FLAG_W,DATE,TIME,LATITUDE,LONGITUDE,DEPTH,CTDPRS,CTDTMP,CTDSAL,CTDSAL_FLAG_W,SALNTY,SALNTY_FLAG_W,CTDOXY,CTDOXY_FLAG_W,OXYGEN,OXYGEN_FLAG_W,SILCAT,SILCAT_FLAG_W,NITRAT,NITRAT_FLAG_W,NITRIT,NITRIT_FLAG_W,PHSPHT,PHSPHT_FLAG_W,CFC-11,CFC-11_FLAG_W,CFC-12,CFC-12_FLAG_W,SF6,SF6_FLAG_W,TCARBN,TCARBN_FLAG_W,ALKALI,ALKALI_FLAG_W,PH_TOT,PH_TOT_FLAG_W,PH_TMP,TRITUM,TRITUM_FLAG_W,HELIUM,HELIUM_FLAG_W,DELHE3,DELHE3_FLAG_W,REFTMP,REFTMP_FLAG_W,DELC13,DELC13_FLAG_W,DELC14,DELC14_FLAG_W,C14ERR,NEON,NEON_FLAG_W,NEONER,DOC,DOC_FLAG_W,TDN,TDN_FLAG_W,BTL_LAT,BTL_LON,HELIER,DELHER,BTL_DATE,BTL_TIME
,,,,,,,,,,,METERS,DBAR,ITS-90,PSS-78,,PSS-78,,UMOL/KG,,UMOL/KG,,UMOL/KG,,UMOL/KG,,UMOL/KG,,UMOL/KG,,PMOL/KG,,PMOL/KG,,FMOL/KG,,UMOL/KG,,UMOL/KG,,,,DEG C,TU,,NMOL/KG,,PERCNT,,DEG C,,/MILLE,,/MILLE,,/MILLE,NMOL/KG,,NMOL/KG,UMOL/KG,,UMOL/KG,,,,NMOL/KG,PERCNT,,
33RR20090320,        I05,      50,          1,         36,         36,2,20090404,       1126,   -33.6104,    49.1990,       4188,     3.6,  22.0987,  35.5051,2,  35.5064,2,    219.8,2,   220.0,2,    1.76,2,    0.19,2,    0.00,2,    0.10,2,   1.985,2,   1.202,2,   1.1580,2,  2032.4,6,  2325.4,2,   8.1076,2,    20.00,-999.000,9,-999.000,9,-999.000,9,  22.1050,2,-999.000,9, -999.00,9, -999.00,-999.000,9,-999.000, -999.00,9, -999.00,9, -33.6103,  49.1993,-999.000,-999.000,20090404,       1314
33RR20090320,        I05,      50,          1,         35,         35,2,20090404,       1126,   -33.6104,    49.1990,       4188,    28.0,  21.9042,  35.5288,2,  35.5291,2,    222.1,2,   221.1,2,    1.69,2,    0.14,2,    0.00,2,    0.10,2,-999.000,9,-999.000,9,-999.0000,9,  2035.6,2,  2327.1,2,   8.1037,2,    20.00,-999.000,9,-999.000,9,-999.000,9,  21.9041,2,-999.000,9, -999.00,9, -999.00,-999.000,9,-999.000, -999.00,9, -999.00,9, -33.6102,  49.1993,-999.000,-999.000,20090404,       1312
33RR20090320,        I05,      50,          1,         34,         34,2,20090404,       1126,   -33.6104,    49.1990,       4188,    54.3,  19.5036,  35.5971,4,  35.6198,2,    236.6,2,   238.4,2,    1.81,2,    0.14,2,    0.00,2,    0.12,2,-999.000,9,-999.000,9,-999.0000,9,  2046.4,2,  2332.5,2,   8.0946,2,    20.00,-999.000,9,-999.000,9,-999.000,9,  19.8380,2,-999.000,9, -999.00,9, -999.00,-999.000,9,-999.000, -999.00,9, -999.00,9, -33.6102,  49.1994,-999.000,-999.000,20090404,       1311
33RR20090320,        I05,      50,          1,         33,         33,2,20090404,       1126,   -33.6104,    49.1990,       4188,    76.7,  17.7780,  35.5616,2,  35.5634,2,    237.5,2,   235.4,2,    2.13,2,    0.26,2,    0.04,2,    0.18,2,   2.391,2,   1.424,2,   1.2910,2,  2057.7,2,  2329.9,2,   8.0698,2,    20.00,-999.000,9,-999.000,9,-999.000,9,  17.7899,2,-999.000,9, -999.00,9, -999.00,-999.000,9,-999.000, -999.00,9, -999.00,9, -33.6102,  49.1994,-999.000,-999.000,20090404,       1309
33RR20090320,        I05,      50,          1,         32,         32,2,20090404,       1126,   -33.6104,    49.1990,       4188,   102.5,  16.8672,  35.5415,2,  35.5425,2,    231.1,2,   225.6,2,    2.63,2,    2.22,2,    0.04,2,    0.29,2,-999.000,9,-999.000,9,-999.0000,9,  -999.0,9,  -999.0,9,-999.0000,9,  -999.00,-999.000,9,-999.000,9,-999.000,9,  16.9030,2,-999.000,9, -999.00,9, -999.00,-999.000,9,-999.000, -999.00,9, -999.00,9, -33.6102,  49.1994,-999.000,-999.000,20090404,       1308
33RR20090320,        I05,      50,          1,         31,         31,2,20090404,       1126,   -33.6104,    49.1990,       4188,   129.5,  16.5064,  35.5313,2,  35.5309,2,    223.0,2,   222.4,2,    3.15,2,    3.61,2,    0.01,2,    0.36,2,-999.000,9,-999.000,9,-999.0000,9,  2078.6,2,  2325.5,2,   8.0247,2,    20.00,-999.000,9,-999.000,9,-999.000,9,  16.5240,2,-999.000,9, -999.00,9, -999.00,-999.000,9,-999.000, -999.00,9, -999.00,9, -33.6101,  49.1994,-999.000,-999.000,20090404,       1306
33RR20090320,        I05,      50,          1,         30,         30,2,20090404,       1126,   -33.6104,    49.1990,       4188,   152.4,  16.3389,  35.5241,2,  35.5245,2,    220.6,2,   220.8,2,    3.27,2,    4.05,2,    0.01,2,    0.39,2,-999.000,9,-999.000,9,-999.0000,9,  -999.0,9,  -999.0,9,-999.0000,9,  -999.00,-999.000,9,-999.000,9,-999.000,9,  16.3358,2,-999.000,9, -999.00,9, -999.00,-999.000,9,-999.000, -999.00,9, -999.00,9, -33.6101,  49.1994,-999.000,-999.000,20090404,       1305
33RR20090320,        I05,      50,          1,         29,         29,2,20090404,       1126,   -33.6104,    49.1990,       4188,   202.8,  15.8390,  35.4922,2,  35.4920,2,    219.5,2,   220.3,2,    3.59,2,    4.81,2,    0.01,2,    0.44,2,   2.585,2,   1.519,2,   1.2720,2,  2086.5,2,  2325.4,2,   8.0061,2,    20.00,-999.000,9,-999.000,9,-999.000,9,  15.8375,2,-999.000,9, -999.00,9, -999.00,-999.000,9,-999.000, -999.00,9, -999.00,9, -33.6102,  49.1993,-999.000,-999.000,20090404,       1303
33RR20090320,        I05,      50,          1,         28,         28,2,20090404,       1126,   -33.6104,    49.1990,       4188,   254.1,  15.3744,  35.4623,2,  35.4630,2,    220.6,2,   221.2,2,    3.51,2,    5.42,2,    0.00,2,    0.48,2,-999.000,9,-999.000,9,-999.0000,9,  -999.0,9,  -999.0,9,-999.0000,9,  -999.00,-999.000,9,-999.000,9,-999.000,9,  15.3913,2,-999.000,9, -999.00,9, -999.00,-999.000,9,-999.000, -999.00,9, -999.00,9, -33.6104,  49.1992,-999.000,-999.000,20090404,       1300
33RR20090320,        I05,      50,          1,         27,         27,2,20090404,       1126,   -33.6104,    49.1990,       4188,   304.2,  14.6944,  35.4058,2,  35.4075,2,    214.1,2,   215.1,2,    3.83,2,    6.99,2,    0.00,2,    0.58,2,-999.000,9,-999.000,9,-999.0000,9,  2101.9,2,  2320.9,2,   7.9699,2,    20.00,-999.000,9,-999.000,9,-999.000,9,  14.6925,2,-999.000,9, -999.00,9, -999.00,-999.000,9,-999.000, -999.00,9, -999.00,9, -33.6104,  49.1992,-999.000,-999.000,20090404,       1258
33RR20090320,        I05,      50,          1,         26,         26,2,20090404,       1126,   -33.6104,    49.1990,       4188,   353.1,  14.3301,  35.3765,2,  35.3791,2,    221.5,2,   221.5,2,    3.77,2,    7.05,2,    0.00,2,    0.59,2,-999.000,9,-999.000,9,-999.0000,9,  -999.0,9,  -999.0,9,-999.0000,9,  -999.00,-999.000,9,-999.000,9,-999.000,9,  14.3359,2,-999.000,9, -999.00,9, -999.00,-999.000,9,-999.000, -999.00,9, -999.00,9, -33.6102,  49.1994,-999.000,-999.000,20090404,       1256
33RR20090320,        I05,      50,          1,         25,         25,2,20090404,       1126,   -33.6104,    49.1990,       4188,   403.3,  13.8748,  35.3342,2,  35.3358,2,    223.0,2,   222.6,2,    3.69,2,    7.76,2,    0.00,2,    0.62,2,   2.877,2,   1.649,2,   1.3090,2,  2106.2,2,  2318.6,2,   7.9561,2,    20.00,-999.000,9,-999.000,9,-999.000,9,  13.8768,2,-999.000,9, -999.00,9, -999.00,-999.000,9,-999.000, -999.00,9, -999.00,9, -33.6101,  49.1994,-999.000,-999.000,20090404,       1253
33RR20090320,        I05,      50,          1,         24,         24,2,20090404,       1126,   -33.6104,    49.1990,       4188,   449.5,  13.5834,  35.3035,2,  35.3030,2,    224.5,2,   223.9,2,    3.82,2,    8.29,2,    0.00,2,    0.66,2,-999.000,9,-999.000,9,-999.0000,9,  -999.0,9,  -999.0,9,-999.0000,9,  -999.00,-999.000,9,-999.000,9,-999.000,9,  13.5805,2,-999.000,9, -999.00,9, -999.00,-999.000,9,-999.000, -999.00,9, -999.00,9, -33.6101,  49.1994,-999.000,-999.000,20090404,       1251
33RR20090320,        I05,      50,          1,         23,         23,2,20090404,       1126,   -33.6104,    49.1990,       4188,   501.8,  13.1519,  35.2515,2,  35.2514,2,    227.1,2,   227.0,2,    3.75,2,    9.01,2,    0.00,2,    0.71,2,-999.000,9,-999.000,9,-999.0000,9,  2108.9,2,  2316.0,2,   7.9420,2,    20.00,-999.000,9,-999.000,9,-999.000,9,  13.1520,2,-999.000,9, -999.00,9, -999.00,-999.000,9,-999.000, -999.00,9, -999.00,9, -33.6101,  49.1992,-999.000,-999.000,20090404,       1249
33RR20090320,        I05,      50,          1,         22,         22,2,20090404,       1126,   -33.6104,    49.1990,       4188,   602.2,  12.4534,  35.1463,2,  35.1429,2,    226.1,2,   226.0,2,    4.26,2,   10.64,2,    0.00,2,    0.81,2,-999.000,9,-999.000,9,-999.0000,9,  -999.0,9,  -999.0,9,-999.0000,9,  -999.00,-999.000,9,-999.000,9,-999.000,9,  12.4523,2,-999.000,9, -999.00,9, -999.00,-999.000,9,-999.000, -999.00,9, -999.00,9, -33.6102,  49.1991,-999.000,-999.000,20090404,       1247
33RR20090320,        I05,      50,          1,         21,         21,2,20090404,       1126,   -33.6104,    49.1990,       4188,   699.6,  11.5439,  35.0079,2,  35.0102,2,    222.6,2,   222.4,2,    4.96,2,   12.86,2,    0.00,2,    0.96,2,   3.123,2,   1.695,2,   0.9850,2,  2121.1,2,  2305.3,2,   7.8966,2,    20.00,-999.000,9,-999.000,9,-999.000,9,  11.5410,2,-999.000,9, -999.00,9, -999.00,-999.000,9,-999.000, -999.00,9, -999.00,9, -33.6102,  49.1991,-999.000,-999.000,20090404,       1244
33RR20090320,        I05,      50,          1,         20,         20,2,20090404,       1126,   -33.6104,    49.1990,       4188,   800.4,  10.4007,  34.8497,2,  34.8535,2,    218.5,2,   218.3,2,    6.45,2,   15.64,2,    0.00,2,    1.14,2,-999.000,9,-999.000,9,-999.0000,9,  -999.0,9,  -999.0,9,-999.0000,9,  -999.00,-999.000,9,-999.000,9,-999.000,9,  10.4081,2,-999.000,9, -999.00,9, -999.00,-999.000,9,-999.000, -999.00,9, -999.00,9, -33.6103,  49.1991,-999.000,-999.000,20090404,       1242
33RR20090320,        I05,      50,          1,         19,         19,2,20090404,       1126,   -33.6104,    49.1990,       4188,   897.9,   8.8733,  34.6712,2,  34.6674,2,    210.4,2,   210.3,2,   10.67,2,   20.16,2,    0.00,2,    1.44,2,-999.000,9,-999.000,9,-999.0000,9,  -999.0,9,  -999.0,9,-999.0000,9,  -999.00,-999.000,9,-999.000,9,-999.000,9,   8.8616,2,-999.000,9, -999.00,9, -999.00,-999.000,9,-999.000, -999.00,9, -999.00,9, -33.6104,  49.1990,-999.000,-999.000,20090404,       1239
33RR20090320,        I05,      50,          1,         18,         18,2,20090404,       1126,   -33.6104,    49.1990,       4188,   997.2,   7.4310,  34.5397,2,  34.5407,2,    205.2,2,   204.3,2,   16.27,2,   23.93,2,    0.00,2,    1.70,2,   2.459,2,   1.242,2,   0.5550,2,  2161.9,2,  2294.9,2,   7.7699,2,    20.00,-999.000,9,-999.000,9,-999.000,9,   7.4434,2,-999.000,9, -999.00,9, -999.00,-999.000,9,-999.000, -999.00,9, -999.00,9, -33.6104,  49.1989,-999.000,-999.000,20090404,       1237
33RR20090320,        I05,      50,          1,         17,         17,2,20090404,       1126,   -33.6104,    49.1990,       4188,  1100.7,   5.8526,  34.4226,2,  34.4231,2,    203.8,2,   204.2,2,   23.85,2,   27.55,2,    0.00,2,    1.96,2,-999.000,9,-999.000,9,-999.0000,9,  -999.0,9,  -999.0,9,-999.0000,9,  -999.00,-999.000,9,-999.000,9,-999.000,9,   5.8614,2,-999.000,9, -999.00,9, -999.00,-999.000,9,-999.000, -999.00,9, -999.00,9, -33.6105,  49.1988,-999.000,-999.000,20090404,       1234
33RR20090320,        I05,      50,          1,         16,         16,2,20090404,       1126,   -33.6104,    49.1990,       4188,  1198.0,   5.0393,  34.3983,2,  34.3989,2,    199.3,2,   200.5,2,   30.65,2,   29.35,2,    0.00,2,    2.11,2,-999.000,9,-999.000,9,-999.0000,9,  -999.0,9,  -999.0,9,-999.0000,9,  -999.00,-999.000,9,-999.000,9,-999.000,9,   5.0376,2,-999.000,9, -999.00,9, -999.00,-999.000,9,-999.000, -999.00,9, -999.00,9, -33.6105,  49.1988,-999.000,-999.000,20090404,       1232
33RR20090320,        I05,      50,          1,         15,         15,2,20090404,       1126,   -33.6104,    49.1990,       4188,  1297.6,   4.2513,  34.4040,2,  34.4038,2,    194.5,2,   194.2,2,   40.05,2,   31.17,2,    0.00,2,    2.24,2,   1.485,2,   0.723,2,   0.3030,2,  2207.4,2,  2307.8,2,   7.6825,2,    20.00,-999.000,9,-999.000,9,-999.000,9,   4.2559,2,-999.000,9, -999.00,9, -999.00,-999.000,9,-999.000, -999.00,9, -999.00,9, -33.6104,  49.1988,-999.000,-999.000,20090404,       1230
33RR20090320,        I05,      50,          1,         14,         14,2,20090404,       1126,   -33.6104,    49.1990,       4188,  1397.5,   3.8571,  34.4351,2,  34.4356,2,    186.6,2,   186.2,2,   47.69,2,   32.15,2,    0.00,2,    2.32,2,-999.000,9,-999.000,9,-999.0000,9,  -999.0,9,  -999.0,9,-999.0000,9,  -999.00,-999.000,9,-999.000,9,-999.000,9,   3.8627,2,-999.000,9, -999.00,9, -999.00,-999.000,9,-999.000, -999.00,9, -999.00,9, -33.6103,  49.1989,-999.000,-999.000,20090404,       1227
33RR20090320,        I05,      50,          1,         13,         13,2,20090404,       1126,   -33.6104,    49.1990,       4188,  1499.9,   3.5727,  34.4933,2,  34.4933,2,    176.0,2,   175.3,2,   57.87,2,   32.90,2,    0.00,2,    2.38,2,-999.000,9,-999.000,9,-999.0000,9,  2233.5,6,  2322.3,2,   7.6557,2,    20.00,-999.000,9,-999.000,9,-999.000,9,   3.5783,2,-999.000,9, -999.00,9, -999.00,-999.000,9,-999.000, -999.00,9, -999.00,9, -33.6101,  49.1990,-999.000,-999.000,20090404,       1225
33RR20090320,        I05,      50,          1,         12,         12,2,20090404,       1126,   -33.6104,    49.1990,       4188,  1601.9,   3.2462,  34.5272,2,  34.5271,2,    175.3,2,   174.8,2,   62.64,2,   33.09,2,    0.00,2,    2.39,2,   0.454,2,   0.220,2,   0.0300,2,  2237.7,2,  2328.9,2,   7.6522,2,    20.00,-999.000,9,-999.000,9,-999.000,9,   3.2486,2,-999.000,9, -999.00,9, -999.00,-999.000,9,-999.000, -999.00,9, -999.00,9, -33.6099,  49.1991,-999.000,-999.000,20090404,       1223
33RR20090320,        I05,      50,          1,         11,         11,2,20090404,       1126,   -33.6104,    49.1990,       4188,  1799.6,   2.8415,  34.6053,2,  34.6045,2,    176.7,2,   176.0,2,   70.34,2,   32.59,2,    0.00,2,    2.35,2,-999.000,9,-999.000,9,-999.0000,9,  2244.1,2,  2336.9,2,   7.6575,2,    20.00,-999.000,9,-999.000,9,-999.000,9,   2.8421,2,-999.000,9, -999.00,9, -999.00,-999.000,9,-999.000, -999.00,9, -999.00,9, -33.6099,  49.1992,-999.000,-999.000,20090404,       1219
33RR20090320,        I05,      50,          1,         10,         10,2,20090404,       1126,   -33.6104,    49.1990,       4188,  2004.0,   2.6270,  34.6703,2,  34.6691,2,    179.8,2,   180.5,2,   74.86,2,   31.70,2,    0.00,2,    2.28,2,-999.000,9,-999.000,9,-999.0000,9,  -999.0,9,  -999.0,9,-999.0000,9,  -999.00,-999.000,9,-999.000,9,-999.000,9,   2.6274,2,-999.000,9, -999.00,9, -999.00,-999.000,9,-999.000, -999.00,9, -999.00,9, -33.6100,  49.1991,-999.000,-999.000,20090404,       1214
33RR20090320,        I05,      50,          1,          9,          9,2,20090404,       1126,   -33.6104,    49.1990,       4188,  2242.0,   2.4425,  34.7194,2,  34.7196,2,    186.1,2,   186.2,2,   78.79,2,   30.71,2,    0.00,2,    2.21,2,-999.000,9,-999.000,9,-999.0000,9,  -999.0,9,  -999.0,9,-999.0000,9,  -999.00,-999.000,9,-999.000,9,-999.000,9,   2.4430,2,-999.000,9, -999.00,9, -999.00,-999.000,9,-999.000, -999.00,9, -999.00,9, -33.6101,  49.1991,-999.000,-999.000,20090404,       1209
33RR20090320,        I05,      50,          1,          8,          8,2,20090404,       1126,   -33.6104,    49.1990,       4188,  2498.8,   2.2996,  34.7482,2,  34.7479,2,    192.9,2,   193.0,2,   79.73,2,   29.94,2,    0.00,2,    2.15,2,   0.039,2,   0.020,2,   0.0000,2,  2243.3,2,  2350.7,2,   7.6969,2,    20.00,-999.000,9,-999.000,9,-999.000,9,   2.2994,2,-999.000,9, -999.00,9, -999.00,-999.000,9,-999.000, -999.00,9, -999.00,9, -33.6104,  49.1988,-999.000,-999.000,20090404,       1204
33RR20090320,        I05,      50,          1,          7,          7,2,20090404,       1126,   -33.6104,    49.1990,       4188,  2750.5,   2.1093,  34.7616,2,  34.7624,2,    196.9,2,   196.6,2,   85.47,2,   29.72,2,    0.00,2,    2.14,2,-999.000,9,-999.000,9,-999.0000,9,  -999.0,9,  -999.0,9,-999.0000,9,  -999.00,-999.000,9,-999.000,9,-999.000,9,   2.1091,2,-999.000,9, -999.00,9, -999.00,-999.000,9,-999.000, -999.00,9, -999.00,9, -33.6104,  49.1988,-999.000,-999.000,20090404,       1158
33RR20090320,        I05,      50,          1,          6,          6,2,20090404,       1126,   -33.6104,    49.1990,       4188,  2996.9,   1.8294,  34.7450,2,  34.7455,2,    197.1,2,   197.0,2,   94.64,2,   30.43,2,    0.00,2,    2.19,2,-999.000,9,-999.000,9,-999.0000,9,  -999.0,9,  -999.0,9,-999.0000,9,  -999.00,-999.000,9,-999.000,9,-999.000,9,   1.8295,2,-999.000,9, -999.00,9, -999.00,-999.000,9,-999.000, -999.00,9, -999.00,9, -33.6102,  49.1987,-999.000,-999.000,20090404,       1153
33RR20090320,        I05,      50,          1,          5,          5,2,20090404,       1126,   -33.6104,    49.1990,       4188,  3296.9,   1.5185,  34.7337,2,  34.7339,2,    196.5,2,   196.6,2,  108.27,2,   31.42,2,    0.00,2,    2.26,2,   0.026,2,   0.014,2,   0.0000,2,  2261.1,2,  2367.9,2,   7.6887,2,    20.00,-999.000,9,-999.000,9,-999.000,9,   1.5199,2,-999.000,9, -999.00,9, -999.00,-999.000,9,-999.000, -999.00,9, -999.00,9, -33.6100,  49.1991,-999.000,-999.000,20090404,       1147
33RR20090320,        I05,      50,          1,          4,          4,2,20090404,       1126,   -33.6104,    49.1990,       4188,  3601.5,   1.2657,  34.7214,2,  34.7225,2,    199.9,2,   199.6,2,  115.07,2,   31.86,2,    0.00,2,    2.28,2,-999.000,9,-999.000,9,-999.0000,9,  -999.0,9,  -999.0,9,-999.0000,9,  -999.00,-999.000,9,-999.000,9,-999.000,9,   1.2657,2,-999.000,9, -999.00,9, -999.00,-999.000,9,-999.000, -999.00,9, -999.00,9, -33.6101,  49.1994,-999.000,-999.000,20090404,       1141
33RR20090320,        I05,      50,          1,          3,          3,2,20090404,       1126,   -33.6104,    49.1990,       4188,  3917.8,   1.0949,  34.7143,2,  34.7142,2,    205.6,2,   205.4,2,  117.63,2,   31.80,2,    0.00,2,    2.28,2,   0.054,2,   0.027,2,   0.0000,2,  2259.6,2,  2365.9,2,   7.6863,2,    20.00,-999.000,9,-999.000,9,-999.000,9,   1.0953,2,-999.000,9, -999.00,9, -999.00,-999.000,9,-999.000, -999.00,9, -999.00,9, -33.6105,  49.1991,-999.000,-999.000,20090404,       1134
33RR20090320,        I05,      50,          1,          2,          2,2,20090404,       1126,   -33.6104,    49.1990,       4188,  4139.8,   1.0486,  34.7110,2,  34.7117,2,    207.2,2,   207.2,2,  118.99,2,   31.80,2,    0.00,2,    2.28,2,-999.000,9,-999.000,9,-999.0000,9,  -999.0,9,  -999.0,9,-999.0000,9,  -999.00,-999.000,9,-999.000,9,-999.000,9,   1.0483,2,-999.000,9, -999.00,9, -999.00,-999.000,9,-999.000, -999.00,9, -999.00,9, -33.6105,  49.1990,-999.000,-999.000,20090404,       1129
33RR20090320,        I05,      50,          1,          1,          1,2,20090404,       1126,   -33.6104,    49.1990,       4188,  4242.8,   1.0488,  34.7104,2,  34.7111,2,    206.8,2,   206.5,2,  119.53,2,   31.80,2,    0.00,2,    2.29,2,   0.058,6,   0.031,6,   0.0130,6,  2262.0,6,  2368.2,2,   7.6861,2,    20.00,-999.000,9,-999.000,9,-999.000,9,   1.0483,2,-999.000,9, -999.00,9, -999.00,-999.000,9,-999.000, -999.00,9, -999.00,9, -33.6105,  49.1990,-999.000,-999.000,20090404,       1126