BOTTLE,20220814CCHSIOAMB
EXPOCODE,SECT_ID,STNNBR,CASTNO,SAMPNO,BTLNBR,BTLNBR_FLAG_W,DATE,TIME,LATITUDE,LONGITUDE,DEPTH,CTDPRS,CTDTMP,CTDSAL,CTDSAL_FLAG_W,SALNTY,SALNTY_FLAG_W,CTDOXY,CTDOXY_FLAG_W,OXYGEN,OXYGEN_FLAG_W,SILCAT,SILCAT_FLAG_W,NITRAT,NITRAT_FLAG_W,NITRIT,NITRIT_FLAG_W,PHSPHT,PHSPHT_FLAG_W,CFC-11,CFC-11_FLAG_W,CFC-12,CFC-12_FLAG_W,SF6,SF6_FLAG_W,TCARBN,TCARBN_FLAG_W,ALKALI,ALKALI_FLAG_W,PH_TOT,PH_TOT_FLAG_W,PH_TMP,TRITUM,TRITUM_FLAG_W,HELIUM,HELIUM_FLAG_W,DELHE3,DELHE3_FLAG_W,REFTMP,REFTMP_FLAG_W,DELC13,DELC13_FLAG_W,DELC14,DELC14_FLAG_W,C14ERR,NEON,NEON_FLAG_W,NEONER,DOC,DOC_FLAG_W,TDN,TDN_FLAG_W,BTL_LAT,BTL_LON,HELIER,DELHER,BTL_DATE,BTL_TIME
,,,,,,,,,,,METERS,DBAR,ITS-90,PSS-78,,PSS-78,,UMOL/KG,,UMOL/KG,,UMOL/KG,,UMOL/KG,,UMOL/KG,,UMOL/KG,,PMOL/KG,,PMOL/KG,,FMOL/KG,,UMOL/KG,,UMOL/KG,,,,DEG C,TU,,NMOL/KG,,PERCNT,,DEG C,,/MILLE,,/MILLE,,/MILLE,NMOL/KG,,NMOL/KG,UMOL/KG,,UMOL/KG,,,,NMOL/KG,PERCNT,,
33RR20090320,        I05,     181,          2,         36,         36,2,20090509,       0508,   -31.5946,   109.5514,       5246,     5.9,  20.1061,  35.9018,2,  35.9014,2,    227.1,2,   227.3,2,    1.90,2,    0.15,2,    0.00,2,    0.09,2,   2.139,6,   1.290,6,   1.1280,6,  2059.4,6,  2357.1,2,   8.1104,2,    20.00,   0.523,2,-999.000,9,-999.000,9,  20.1062,2,   0.983,2,   46.85,2,     2.2,-999.000,9,-999.000,   68.81,2,    4.44,2, -31.5940, 109.5507,-999.000,-999.000,20090509,       0717
33RR20090320,        I05,     181,          2,         35,         35,2,20090509,       0508,   -31.5946,   109.5514,       5246,    22.6,  19.9951,  35.9147,2,  35.9139,2,    226.9,2,   227.7,2,    1.86,2,    0.15,2,    0.00,2,    0.09,2,   2.148,2,   1.294,2,   1.1240,2,  2062.7,2,  2357.2,2,   8.1086,2,    20.00,-999.000,9,-999.000,9,-999.000,9,  19.9941,2,-999.000,9, -999.00,9, -999.00,-999.000,9,-999.000,   68.97,2,    4.78,2, -31.5940, 109.5508,-999.000,-999.000,20090509,       0716
33RR20090320,        I05,     181,          2,         34,         34,2,20090509,       0508,   -31.5946,   109.5514,       5246,    43.3,  19.3091,  35.8975,2,  35.8967,2,    233.4,2,   232.5,2,    1.45,2,    0.15,2,    0.00,2,    0.10,2,   2.208,2,   1.328,2,   1.1950,2,  2071.0,2,  2356.2,2,   8.0950,2,    20.00,-999.000,9,-999.000,9,-999.000,9,  19.3059,2,-999.000,9, -999.00,9, -999.00,-999.000,9,-999.000,   68.33,2,    4.10,2, -31.5941, 109.5508,-999.000,-999.000,20090509,       0715
33RR20090320,        I05,     181,          2,         33,         33,2,20090509,       0508,   -31.5946,   109.5514,       5246,    67.1,  17.4127,  35.6539,2,  35.6538,2,    243.4,2,   242.9,2,    1.05,2,    0.15,2,    0.00,2,    0.15,2,-999.000,9,-999.000,9,-999.0000,9,  2076.9,2,  2342.3,2,   8.0700,2,    20.00,-999.000,9,-999.000,9,-999.000,9,  17.2441,2,-999.000,9, -999.00,9, -999.00,-999.000,9,-999.000,   63.84,2,    4.43,2, -31.5941, 109.5510,-999.000,-999.000,20090509,       0714
33RR20090320,        I05,     181,          2,         32,         32,2,20090509,       0508,   -31.5946,   109.5514,       5246,    92.9,  15.8534,  35.6422,2,  35.6505,2,    242.9,2,   242.7,2,    1.01,2,    0.47,2,    0.12,2,    0.20,2,   2.665,2,   1.559,2,   1.3350,2,  2088.1,2,  2342.6,2,   8.0466,2,    20.00,   0.476,2,-999.000,9,-999.000,9,  15.9573,2,   1.131,6,   45.21,6,     1.9,-999.000,9,-999.000,   58.79,2,    5.18,2, -31.5942, 109.5511,-999.000,-999.000,20090509,       0712
33RR20090320,        I05,     181,          2,         31,         31,2,20090509,       0508,   -31.5946,   109.5514,       5246,   137.2,  14.4749,  35.4793,2,  35.4812,2,    233.8,2,   234.1,2,    1.35,2,    3.60,2,    0.01,2,    0.37,2,-999.000,9,-999.000,9,-999.0000,9,  2100.8,2,  2333.4,2,   8.0005,2,    20.00,-999.000,9,-999.000,9,-999.000,9,  14.4758,2,-999.000,9, -999.00,9, -999.00,-999.000,9,-999.000,   54.32,2,    8.06,2, -31.5942, 109.5512,-999.000,-999.000,20090509,       0711
33RR20090320,        I05,     181,          2,         30,         30,2,20090509,       0508,   -31.5946,   109.5514,       5246,   187.4,  13.3255,  35.2942,2,  35.2971,2,    238.0,2,   237.0,2,    1.31,2,    5.58,2,    0.01,2,    0.50,2,   2.988,2,   1.726,2,   1.4260,2,  2106.2,2,  2324.7,2,   7.9722,2,    20.00,   0.430,2,-999.000,9,-999.000,9,  13.3292,2,   0.722,6,   42.79,6,     3.1,-999.000,9,-999.000,   53.18,2,    8.67,2, -31.5943, 109.5513,-999.000,-999.000,20090509,       0710
33RR20090320,        I05,     181,          2,         29,         29,2,20090509,       0508,   -31.5946,   109.5514,       5246,   236.9,  12.3797,  35.1430,2,  35.1429,2,    243.2,2,   242.7,2,    1.64,2,    7.34,2,    0.01,2,    0.62,2,   3.212,2,   1.810,2,   1.4300,2,  2111.0,2,  2316.4,2,   7.9492,2,    20.00,-999.000,9,-999.000,9,-999.000,9,  12.3788,2,-999.000,9, -999.00,9, -999.00,-999.000,9,-999.000,   51.70,2,    9.68,2, -31.5943, 109.5514,-999.000,-999.000,20090509,       0708
33RR20090320,        I05,     181,          2,         28,         28,2,20090509,       0508,   -31.5946,   109.5514,       5246,   287.5,  11.8561,  35.0642,2,  35.0614,2,    248.0,2,   248.6,2,    1.79,2,    8.28,2,    0.01,2,    0.67,2,   3.232,2,   1.825,2,   1.5540,2,  2112.0,2,  2312.4,2,   7.9388,2,    20.00,   0.356,2,-999.000,9,-999.000,9,  11.8539,2,   1.066,6,   36.92,6,     2.8,-999.000,9,-999.000,   50.02,2,   11.52,2, -31.5943, 109.5514,-999.000,-999.000,20090509,       0707
33RR20090320,        I05,     181,          2,         27,         27,2,20090509,       0508,   -31.5946,   109.5514,       5246,   337.9,  10.7090,  34.8644,2,  34.8666,2,    246.6,2,   248.0,2,    2.48,2,   11.25,2,    0.01,2,    0.86,2,   3.455,2,   1.931,2,   1.4610,2,  2119.0,2,  2301.9,2,   7.9055,2,    20.00,-999.000,9,-999.000,9,-999.000,9,  10.7101,2,-999.000,9, -999.00,9, -999.00,-999.000,9,-999.000,   48.97,2,   13.95,2, -31.5944, 109.5514,-999.000,-999.000,20090509,       0705
33RR20090320,        I05,     181,          2,         26,         26,2,20090509,       0508,   -31.5946,   109.5514,       5246,   387.3,  10.1523,  34.7871,2,  34.7875,2,    243.0,2,   243.1,2,    3.18,2,   13.55,2,    0.01,2,    0.99,2,   3.586,2,   1.977,2,   1.3480,2,  2125.4,2,  2299.1,2,   7.8803,2,    20.00,   0.315,2,-999.000,9,-999.000,9,  10.1509,2,   1.156,2,    30.6,2,     2.7,-999.000,9,-999.000,   47.99,2,   16.54,2, -31.5944, 109.5514,-999.000,-999.000,20090509,       0703
33RR20090320,        I05,     181,          2,         25,         25,2,20090509,       0508,   -31.5946,   109.5514,       5246,   466.6,   9.5982,  34.7221,2,  34.7219,2,    240.8,2,   239.4,2,    3.88,2,   15.43,2,    0.00,2,    1.11,2,   3.676,2,   1.980,2,   1.2630,2,  2129.8,2,  2294.4,2,   7.8606,2,    20.00,   0.265,2,-999.000,9,-999.000,9,   9.5958,2,   1.154,2,    31.6,2,     2.7,-999.000,9,-999.000,   46.92,2,   18.22,2, -31.5944, 109.5514,-999.000,-999.000,20090509,       0701
33RR20090320,        I05,     181,          2,         24,         24,2,20090509,       0508,   -31.5946,   109.5514,       5246,   567.3,   9.0404,  34.6464,2,  34.6474,2,    239.5,2,   240.4,2,    4.77,2,   17.14,2,    0.00,2,    1.21,2,   3.708,2,   1.987,2,   1.1260,2,  2132.8,2,  2290.5,2,   7.8469,2,    20.00,   0.237,2,-999.000,9,-999.000,9,   9.0403,2,   1.148,2,   35.82,2,     3.2,-999.000,9,-999.000,   45.65,2,   19.33,2, -31.5944, 109.5514,-999.000,-999.000,20090509,       0658
33RR20090320,        I05,     181,          2,         23,         23,2,20090509,       0508,   -31.5946,   109.5514,       5246,   666.5,   8.2460,  34.5520,2,  34.5520,2,    226.7,2,   226.0,2,    8.04,2,   20.55,2,    0.00,2,    1.44,2,   3.280,2,   1.710,2,   0.9040,2,  2145.9,2,  2288.1,2,   7.8109,2,    20.00,-999.000,9,-999.000,9,-999.000,9,   8.2432,2,   0.433,4,   10.22,2,     3.8,-999.000,9,-999.000,   44.57,2,   21.98,2, -31.5944, 109.5514,-999.000,-999.000,20090509,       0656
33RR20090320,        I05,     181,          2,         22,         22,2,20090509,       0508,   -31.5946,   109.5514,       5246,   765.6,   6.7342,  34.4493,2,  34.4505,2,    201.2,2,   200.0,2,   17.39,2,   26.20,2,    0.00,2,    1.83,2,   2.187,2,   1.104,2,   0.4510,2,  2171.7,2,  2291.4,2,   7.7434,2,    20.00,-999.000,9,   1.864,2,   1.691,2,   6.7327,2,   1.059,2,  -29.81,2,       3,   8.219,2,   0.013,   43.32,2,   28.06,2, -31.5944, 109.5514,   0.001,   0.198,20090509,       0653
33RR20090320,        I05,     181,          2,         21,         21,2,20090509,       0508,   -31.5946,   109.5514,       5246,   866.6,   5.2025,  34.3857,2,  34.3859,2,    194.4,2,   195.1,2,   28.74,2,   29.86,2,    0.00,2,    2.10,2,   1.596,6,   0.777,6,   0.2200,6,  2193.3,2,  2295.9,2,   7.7028,2,    20.00,-999.000,9,   1.884,2,   3.577,2,   5.2003,2,   0.955,2,  -68.87,2,     2.4,   8.286,2,   0.013,   42.48,2,   31.25,2, -31.5944, 109.5514,   0.001,   0.210,20090509,       0650
33RR20090320,        I05,     181,          2,         20,         20,2,20090509,       0508,   -31.5946,   109.5514,       5246,   967.3,   4.2772,  34.3959,2,  34.3963,2,    185.2,2,   185.4,2,   42.28,2,   32.19,2,    0.00,2,    2.30,2,   1.091,2,   0.519,2,   0.1030,2,  2214.0,2,  2310.6,2,   7.6738,2,    20.00,   0.041,2,   1.917,2,   4.951,2,   4.2788,2,   0.853,2, -108.44,2,     2.9,   8.289,2,   0.011,   41.42,2,   34.23,2, -31.5945, 109.5513,   0.001,   0.201,20090509,       0648
33RR20090320,        I05,     181,          2,         19,         19,2,20090509,       0508,   -31.5946,   109.5514,       5246,  1069.7,   3.8557,  34.4564,2,  34.4572,2,    165.4,2,   166.3,2,   57.67,2,   33.98,2,    0.00,2,    2.44,2,   0.567,2,   0.269,2,   0.0460,2,  2238.5,2,  2324.6,2,   7.6459,2,    20.00,-999.000,9,-999.000,9,-999.000,9,   3.8540,2,    0.66,2,  -111.3,2,     2.8,-999.000,9,-999.000,   40.99,2,   35.60,2, -31.5945, 109.5513,-999.000,-999.000,20090509,       0645
33RR20090320,        I05,     181,          2,         18,         18,2,20090509,       0508,   -31.5946,   109.5514,       5246,  1162.4,   3.6093,  34.4955,2,  34.4953,2,    158.0,2,   157.5,2,   66.11,2,   34.65,2,    0.00,2,    2.51,2,   0.343,2,   0.161,2,   0.0000,2,  2249.7,2,  2334.0,2,   7.6341,2,    20.00,   0.039,2,   1.928,2,   8.952,2,   3.6095,2,   0.628,2, -126.25,2,     3.7,   8.376,2,   0.013,   40.59,2,   36.32,2, -31.5945, 109.5512,   0.001,   0.213,20090509,       0642
33RR20090320,        I05,     181,          2,         17,         17,2,20090509,       0508,   -31.5946,   109.5514,       5246,  1264.0,   3.3741,  34.5324,2,  34.5324,2,    153.1,2,   152.9,2,   72.54,2,   34.98,2,    0.00,2,    2.52,2,   0.192,2,   0.092,2,   0.0000,2,  2257.5,2,  2341.5,2,   7.6286,2,    20.00,-999.000,9,   1.959,2,   9.453,2,   3.3746,2,   0.529,2, -150.64,2,     2.7,   8.440,2,   0.013,   40.38,2,   36.77,2, -31.5945, 109.5512,   0.001,   0.213,20090509,       0639
33RR20090320,        I05,     181,          2,         16,         16,2,20090509,       0508,   -31.5946,   109.5514,       5246,  1363.3,   3.1636,  34.5686,2,  34.5694,2,    151.5,2,   151.2,2,   78.06,2,   35.10,2,    0.00,2,    2.53,2,   0.105,2,   0.051,2,   0.0000,2,  2263.4,2,  2345.3,2,   7.6273,2,    20.00,   0.001,2,   2.049,2,  10.065,2,   3.1591,2,   0.488,2, -159.24,2,     2.2,   8.853,2,   0.014,   40.47,2,   36.57,2, -31.5946, 109.5512,   0.001,   0.203,20090509,       0636
33RR20090320,        I05,     181,          2,         15,         15,2,20090509,       0508,   -31.5946,   109.5514,       5246,  1535.0,   2.8644,  34.6160,2,  34.6167,2,    154.4,2,   154.4,2,   83.23,2,   34.71,2,    0.00,2,    2.50,2,   0.047,2,   0.023,2,   0.0000,2,  2268.6,6,  2350.3,2,   7.6323,2,    20.00,-999.000,9,-999.000,9,-999.000,9,   2.8642,2,   0.497,2, -174.83,2,     2.2,-999.000,9,-999.000,   40.37,2,   36.07,2, -31.5945, 109.5513,-999.000,-999.000,20090509,       0632
33RR20090320,        I05,     181,          2,         14,         14,2,20090509,       0508,   -31.5946,   109.5514,       5246,  1736.0,   2.6226,  34.6658,2,  34.6674,2,    158.8,2,   158.8,2,   89.52,2,   34.04,2,    0.00,2,    2.45,2,   0.021,2,   0.011,2,   0.0000,2,  2270.0,2,  2360.1,2,   7.6424,2,    20.00,   0.005,2,-999.000,9,-999.000,9,   2.6222,2,-999.000,9, -999.00,9, -999.00,-999.000,9,-999.000,   40.28,2,   35.59,2, -31.5945, 109.5513,-999.000,-999.000,20090509,       0627
33RR20090320,        I05,     181,          2,         13,         13,2,20090509,       0508,   -31.5946,   109.5514,       5246,  1931.9,   2.4228,  34.7008,2,  34.7009,2,    162.4,2,   162.2,2,   96.76,2,   33.65,2,    0.00,2,    2.42,2,   0.009,2,   0.005,2,   0.0000,2,  -999.0,9,  2365.1,2,   7.6526,2,    20.00,   0.023,2,   1.994,2,  12.140,2,   2.4224,2,-999.000,9, -999.00,9, -999.00,   8.818,2,   0.012,   39.68,2,   35.62,2, -31.5945, 109.5513,   0.001,   0.203,20090509,       0623
33RR20090320,        I05,     181,          2,         12,         12,2,20090509,       0508,   -31.5946,   109.5514,       5246,  2165.2,   2.2176,  34.7197,2,  34.7201,2,    166.1,2,   165.9,2,  103.86,2,   33.43,2,    0.00,2,    2.40,2,   0.007,2,   0.004,2,   0.0000,2,  2278.7,2,  2373.1,2,   7.6611,2,    20.00,   0.001,2,   1.968,2,  12.962,2,   2.2178,2,-999.000,9, -999.00,9, -999.00,   8.429,2,   0.010,   39.53,2,   34.94,2, -31.5946, 109.5513,   0.001,   0.210,20090509,       0617
33RR20090320,        I05,     181,          2,         11,         11,2,20090509,       0508,   -31.5946,   109.5514,       5246,  2415.7,   2.0058,  34.7276,2,  34.7278,2,    171.6,2,   171.7,2,  108.16,2,   33.14,2,    0.00,2,    2.37,2,   0.005,2,   0.004,2,   0.0000,2,  2279.0,2,  2375.2,2,   7.6690,2,    20.00,-999.000,9,-999.000,9,-999.000,9,   2.0060,2,-999.000,9, -999.00,9, -999.00,-999.000,9,-999.000,   39.71,2,   34.58,2, -31.5945, 109.5514,-999.000,-999.000,20090509,       0611
33RR20090320,        I05,     181,          2,         10,         10,2,20090509,       0508,   -31.5946,   109.5514,       5246,  2670.7,   1.8373,  34.7312,2,  34.7318,2,    178.5,2,   178.6,2,  109.08,2,   32.70,2,    0.00,2,    2.33,2,   0.007,2,   0.004,2,   0.0000,2,  2276.4,2,  2374.8,2,   7.6766,2,    20.00,   0.010,2,   1.933,2,  13.253,2,   1.8374,2,-999.000,9, -999.00,9, -999.00,   8.797,2,   0.014,   39.63,2,   34.53,2, -31.5945, 109.5514,   0.001,   0.204,20090509,       0605
33RR20090320,        I05,     181,          2,          9,          9,2,20090509,       0508,   -31.5946,   109.5514,       5246,  2921.6,   1.6918,  34.7315,2,  34.7316,2,    183.5,2,   182.9,2,  111.71,2,   32.60,2,    0.00,2,    2.32,2,   0.005,2,   0.003,2,   0.0000,2,  2276.0,2,  2376.7,2,   7.6808,2,    20.00,   0.005,2,-999.000,9,-999.000,9,   1.6924,2,-999.000,9, -999.00,9, -999.00,-999.000,9,-999.000,   40.26,2,   33.95,2, -31.5945, 109.5515,-999.000,-999.000,20090509,       0559
33RR20090320,        I05,     181,          2,          8,          8,2,20090509,       0508,   -31.5946,   109.5514,       5246,  3199.5,   1.5220,  34.7299,2,  34.7304,2,    189.4,2,   189.4,2,  113.20,2,   32.37,2,    0.00,2,    2.30,2,   0.008,2,   0.004,2,   0.0000,2,  2272.7,2,  2375.0,2,   7.6849,2,    20.00,   0.001,2,   1.997,2,  11.533,2,   1.5226,2,-999.000,9, -999.00,9, -999.00,   8.871,2,   0.012,   40.37,2,   34.04,2, -31.5945, 109.5515,   0.001,   0.203,20090509,       0553
33RR20090320,        I05,     181,          2,          7,          7,2,20090509,       0508,   -31.5946,   109.5514,       5246,  3498.5,   1.3848,  34.7258,2,  34.7259,2,    192.7,2,   192.7,2,  116.77,2,   32.43,2,    0.00,2,    2.29,2,   0.008,2,   0.005,2,   0.0000,2,  2273.2,2,  2376.2,2,   7.6873,2,    20.00,-999.000,9,-999.000,9,-999.000,9,   1.3848,2,-999.000,9, -999.00,9, -999.00,-999.000,9,-999.000,   40.22,2,   33.98,2, -31.5945, 109.5514,-999.000,-999.000,20090509,       0547
33RR20090320,        I05,     181,          2,          6,          6,2,20090509,       0508,   -31.5946,   109.5514,       5246,  3799.7,   1.2589,  34.7210,2,  34.7212,2,    194.2,2,   195.0,2,  120.74,2,   32.54,2,    0.00,2,    2.31,2,   0.009,2,   0.004,2,   0.0000,2,  2274.3,2,  2380.1,2,   7.6896,2,    20.00,   0.010,2,-999.000,9,-999.000,9,   1.2598,2,-999.000,9, -999.00,9, -999.00,-999.000,9,-999.000,   39.76,2,   33.86,2, -31.5945, 109.5513,-999.000,-999.000,20090509,       0541
33RR20090320,        I05,     181,          2,          5,          5,2,20090509,       0508,   -31.5946,   109.5514,       5246,  4163.9,   1.1728,  34.7162,2,  34.7163,2,    197.2,2,   197.2,2,  124.15,2,   32.76,2,    0.00,2,    2.32,2,   0.009,2,   0.006,2,   0.0000,2,  2276.7,2,  2382.9,2,   7.6924,2,    20.00,-999.000,9,-999.000,9,-999.000,9,   1.1727,2,-999.000,9, -999.00,9, -999.00,-999.000,9,-999.000,   39.62,2,   33.95,2, -31.5946, 109.5513,-999.000,-999.000,20090509,       0534
33RR20090320,        I05,     181,          2,          4,          4,2,20090509,       0508,   -31.5946,   109.5514,       5246,  4565.4,   1.0947,  34.7122,2,  34.7122,2,    201.4,2,   201.2,2,  124.33,2,   32.66,2,    0.00,2,    2.30,2,   0.016,2,   0.011,2,   0.0000,2,  2272.9,2,  2379.7,2,   7.6932,2,    20.00,   0.001,2,   2.027,2,  10.509,2,   1.0948,2,-999.000,9, -999.00,9, -999.00,   9.001,2,   0.013,   40.28,2,   33.74,2, -31.5945, 109.5514,   0.001,   0.203,20090509,       0526
33RR20090320,        I05,     181,          2,          3,          3,2,20090509,       0508,   -31.5946,   109.5514,       5246,  4883.9,   1.0550,  34.7098,2,  34.7106,2,    204.8,2,   204.4,2,  123.93,2,   32.55,2,    0.00,2,    2.30,2,   0.024,6,   0.014,6,   0.0000,6,  2269.3,2,  2375.7,2,   7.6916,2,    20.00,-999.000,9,-999.000,9,-999.000,9,   1.0550,2,-999.000,9, -999.00,9, -999.00,-999.000,9,-999.000,   40.12,2,   34.04,2, -31.5945, 109.5514,-999.000,-999.000,20090509,       0519
33RR20090320,        I05,     181,          2,          2,          2,2,20090509,       0508,   -31.5946,   109.5514,       5246,  5159.5,   1.0477,  34.7082,2,  34.7083,2,    206.6,2,   206.6,2,  123.72,2,   32.49,2,    0.00,2,    2.29,2,   0.040,2,   0.020,2,   0.0000,2,  2267.3,2,  2374.3,2,   7.6902,2,    20.00,   0.019,2,   2.017,2,  10.062,2,   1.0476,2,-999.000,9, -999.00,9, -999.00,   8.880,2,   0.014,   39.87,2,   33.60,2, -31.5946, 109.5514,   0.001,   0.202,20090509,       0513
33RR20090320,        I05,     181,          2,          1,          1,2,20090509,       0508,   -31.5946,   109.5514,       5246,  5326.8,   1.0420,  34.7070,2,  34.7075,2,    206.8,2,   206.9,2,  124.09,2,   32.44,2,    0.00,2,    2.28,2,   0.054,2,   0.029,2,   0.0000,2,  2267.9,6,  2372.4,2,   7.6886,2,    20.00,   0.026,2,-999.000,9,-999.000,9,   1.0417,2,-999.000,9, -999.00,9, -999.00,-999.000,9,-999.000,   40.05,2,   33.89,2, -31.5946, 109.5514,-999.000,-999.000,20090509,       0508