BOTTLE,20220814CCHSIOAMB
EXPOCODE,SECT_ID,STNNBR,CASTNO,SAMPNO,BTLNBR,BTLNBR_FLAG_W,DATE,TIME,LATITUDE,LONGITUDE,DEPTH,CTDPRS,CTDTMP,CTDSAL,CTDSAL_FLAG_W,SALNTY,SALNTY_FLAG_W,CTDOXY,CTDOXY_FLAG_W,OXYGEN,OXYGEN_FLAG_W,SILCAT,SILCAT_FLAG_W,NITRAT,NITRAT_FLAG_W,NITRIT,NITRIT_FLAG_W,PHSPHT,PHSPHT_FLAG_W,CFC-11,CFC-11_FLAG_W,CFC-12,CFC-12_FLAG_W,SF6,SF6_FLAG_W,TCARBN,TCARBN_FLAG_W,ALKALI,ALKALI_FLAG_W,PH_TOT,PH_TOT_FLAG_W,PH_TMP,TRITUM,TRITUM_FLAG_W,HELIUM,HELIUM_FLAG_W,DELHE3,DELHE3_FLAG_W,REFTMP,REFTMP_FLAG_W,DELC13,DELC13_FLAG_W,DELC14,DELC14_FLAG_W,C14ERR,NEON,NEON_FLAG_W,NEONER,DOC,DOC_FLAG_W,TDN,TDN_FLAG_W,BTL_LAT,BTL_LON,HELIER,DELHER,BTL_DATE,BTL_TIME
,,,,,,,,,,,METERS,DBAR,ITS-90,PSS-78,,PSS-78,,UMOL/KG,,UMOL/KG,,UMOL/KG,,UMOL/KG,,UMOL/KG,,UMOL/KG,,PMOL/KG,,PMOL/KG,,FMOL/KG,,UMOL/KG,,UMOL/KG,,,,DEG C,TU,,NMOL/KG,,PERCNT,,DEG C,,/MILLE,,/MILLE,,/MILLE,NMOL/KG,,NMOL/KG,UMOL/KG,,UMOL/KG,,,,NMOL/KG,PERCNT,,
33RR20090320,        I05,      88,          1,         36,         36,2,20090415,       1727,   -34.0004,    66.8383,       4706,     5.6,  18.8577,  35.3947,2,  35.3941,2,    232.9,2,   233.3,2,    1.31,2,    0.09,2,    0.00,2,    0.16,2,-999.000,9,-999.000,9,-999.0000,9,  2057.9,6,  2327.7,2,   8.0665,2,    20.00,-999.000,9,-999.000,9,-999.000,9,  18.8575,2,-999.000,9, -999.00,9, -999.00,-999.000,9,-999.000, -999.00,9, -999.00,9, -34.0004,  66.8381,-999.000,-999.000,20090415,       1932
33RR20090320,        I05,      88,          1,         35,         35,2,20090415,       1727,   -34.0004,    66.8383,       4706,    22.5,  18.8580,  35.3933,2,  35.3922,2,    234.5,2,   233.3,2,    1.29,2,    0.09,2,    0.00,2,    0.16,2,-999.000,9,-999.000,9,-999.0000,9,  2057.5,2,  2325.3,2,   8.0661,2,    20.00,-999.000,9,-999.000,9,-999.000,9,  18.8562,2,-999.000,9, -999.00,9, -999.00,-999.000,9,-999.000, -999.00,9, -999.00,9, -34.0003,  66.8382,-999.000,-999.000,20090415,       1931
33RR20090320,        I05,      88,          1,         34,         34,2,20090415,       1727,   -34.0004,    66.8383,       4706,    41.5,  18.1817,  35.3564,2,  35.3596,2,    237.3,2,   238.5,2,    1.27,2,    0.09,2,    0.00,2,    0.16,2,-999.000,9,-999.000,9,-999.0000,9,  2055.4,2,  2325.5,2,   8.0659,2,    20.00,-999.000,9,-999.000,9,-999.000,9,  18.1554,2,-999.000,9, -999.00,9, -999.00,-999.000,9,-999.000, -999.00,9, -999.00,9, -34.0003,  66.8382,-999.000,-999.000,20090415,       1929
33RR20090320,        I05,      88,          1,         33,         33,2,20090415,       1727,   -34.0004,    66.8383,       4706,    66.9,  15.9795,  35.2992,2,  35.2989,2,    250.1,2,   248.3,2,    1.67,2,    0.66,2,    0.07,2,    0.23,2,-999.000,9,-999.000,9,-999.0000,9,  2067.2,2,  2320.7,2,   8.0429,2,    20.00,-999.000,9,-999.000,9,-999.000,9,  15.9712,2,-999.000,9, -999.00,9, -999.00,-999.000,9,-999.000, -999.00,9, -999.00,9, -34.0003,  66.8382,-999.000,-999.000,20090415,       1927
33RR20090320,        I05,      88,          1,         32,         32,2,20090415,       1727,   -34.0004,    66.8383,       4706,    91.0,  14.8668,  35.3837,2,  35.3839,2,    240.0,2,   240.8,2,    2.49,2,    1.55,2,    0.14,2,    0.33,2,-999.000,9,-999.000,9,-999.0000,9,  2089.6,2,  2327.3,2,   8.0073,2,    20.00,-999.000,9,-999.000,9,-999.000,9,  14.8279,2,-999.000,9, -999.00,9, -999.00,-999.000,9,-999.000, -999.00,9, -999.00,9, -34.0003,  66.8383,-999.000,-999.000,20090415,       1925
33RR20090320,        I05,      88,          1,         31,         31,2,20090415,       1727,   -34.0004,    66.8383,       4706,   136.3,  13.7574,  35.2872,2,  35.2877,2,    231.6,2,   231.8,2,    3.09,2,    6.34,2,    0.01,2,    0.55,2,-999.000,9,-999.000,9,-999.0000,9,  2103.6,2,  2318.3,2,   7.9639,2,    20.00,-999.000,9,-999.000,9,-999.000,9,  13.7413,2,-999.000,9, -999.00,9, -999.00,-999.000,9,-999.000, -999.00,9, -999.00,9, -34.0004,  66.8381,-999.000,-999.000,20090415,       1923
33RR20090320,        I05,      88,          1,         30,         30,2,20090415,       1727,   -34.0004,    66.8383,       4706,   188.0,  13.4043,  35.2734,2,  35.2737,2,    233.6,2,   234.8,2,    4.32,2,    7.35,2,    0.01,2,    0.60,2,-999.000,9,-999.000,9,-999.0000,9,  -999.0,9,  -999.0,9,-999.0000,9,  -999.00,-999.000,9,-999.000,9,-999.000,9,  13.4029,2,-999.000,9, -999.00,9, -999.00,-999.000,9,-999.000, -999.00,9, -999.00,9, -34.0004,  66.8381,-999.000,-999.000,20090415,       1921
33RR20090320,        I05,      88,          1,         29,         29,2,20090415,       1727,   -34.0004,    66.8383,       4706,   239.1,  13.0823,  35.2274,2,  35.2268,2,    235.8,2,   233.9,2,    4.30,2,    8.21,2,    0.00,2,    0.64,2,-999.000,9,-999.000,9,-999.0000,9,  2108.2,2,  2316.3,2,   7.9480,2,    20.00,-999.000,9,-999.000,9,-999.000,9,  13.0834,2,-999.000,9, -999.00,9, -999.00,-999.000,9,-999.000, -999.00,9, -999.00,9, -34.0003,  66.8381,-999.000,-999.000,20090415,       1919
33RR20090320,        I05,      88,          1,         28,         28,2,20090415,       1727,   -34.0004,    66.8383,       4706,   286.8,  12.8849,  35.2084,2,  35.2093,2,    235.3,2,   235.3,2,    4.70,2,    8.73,2,    0.00,2,    0.67,2,-999.000,9,-999.000,9,-999.0000,9,  -999.0,9,  -999.0,9,-999.0000,9,  -999.00,-999.000,9,-999.000,9,-999.000,9,  12.8850,2,-999.000,9, -999.00,9, -999.00,-999.000,9,-999.000, -999.00,9, -999.00,9, -34.0004,  66.8381,-999.000,-999.000,20090415,       1917
33RR20090320,        I05,      88,          1,         27,         27,2,20090415,       1727,   -34.0004,    66.8383,       4706,   336.4,  12.6073,  35.1670,2,  35.1668,2,    235.7,2,   234.8,2,    4.68,2,    9.43,2,    0.00,2,    0.72,2,-999.000,9,-999.000,9,-999.0000,9,  2110.1,2,  2312.4,2,   7.9369,2,    20.00,-999.000,9,-999.000,9,-999.000,9,  12.6071,2,-999.000,9, -999.00,9, -999.00,-999.000,9,-999.000, -999.00,9, -999.00,9, -34.0004,  66.8380,-999.000,-999.000,20090415,       1915
33RR20090320,        I05,      88,          1,         26,         26,2,20090415,       1727,   -34.0004,    66.8383,       4706,   386.0,  12.3823,  35.1339,2,  35.1349,2,    240.3,2,   237.6,2,    4.66,2,    9.85,2,    0.00,2,    0.75,2,-999.000,9,-999.000,9,-999.0000,9,  -999.0,9,  -999.0,9,-999.0000,9,  -999.00,-999.000,9,-999.000,9,-999.000,9,  12.3792,2,-999.000,9, -999.00,9, -999.00,-999.000,9,-999.000, -999.00,9, -999.00,9, -34.0004,  66.8381,-999.000,-999.000,20090415,       1913
33RR20090320,        I05,      88,          1,         25,         25,2,20090415,       1727,   -34.0004,    66.8383,       4706,   466.6,  12.0530,  35.0828,2,  35.0814,2,    235.6,2,   236.7,2,    5.06,2,   10.64,2,    0.00,2,    0.79,2,-999.000,9,-999.000,9,-999.0000,9,  2114.0,2,  2309.9,2,   7.9240,2,    20.00,-999.000,9,-999.000,9,-999.000,9,  12.0549,2,-999.000,9, -999.00,9, -999.00,-999.000,9,-999.000, -999.00,9, -999.00,9, -34.0005,  66.8381,-999.000,-999.000,20090415,       1911
33RR20090320,        I05,      88,          1,         24,         24,2,20090415,       1727,   -34.0004,    66.8383,       4706,   566.0,  11.3418,  34.9668,2,  34.9667,2,    229.4,2,   230.2,2,    5.67,2,   12.81,2,    0.00,2,    0.94,2,-999.000,9,-999.000,9,-999.0000,9,  -999.0,9,  -999.0,9,-999.0000,9,  -999.00,-999.000,9,-999.000,9,-999.000,9,  11.3419,2,-999.000,9, -999.00,9, -999.00,-999.000,9,-999.000, -999.00,9, -999.00,9, -34.0004,  66.8381,-999.000,-999.000,20090415,       1908
33RR20090320,        I05,      88,          1,         23,         23,2,20090415,       1727,   -34.0004,    66.8383,       4706,   665.3,  10.4468,  34.8415,2,  34.8415,2,    224.5,2,   224.2,2,    6.71,2,   15.30,2,    0.00,2,    1.09,2,-999.000,9,-999.000,9,-999.0000,9,  2129.5,2,  2299.1,2,   7.8699,2,    20.00,-999.000,9,-999.000,9,-999.000,9,  10.4489,2,-999.000,9, -999.00,9, -999.00,-999.000,9,-999.000, -999.00,9, -999.00,9, -34.0004,  66.8381,-999.000,-999.000,20090415,       1905
33RR20090320,        I05,      88,          1,         22,         22,2,20090415,       1727,   -34.0004,    66.8383,       4706,   766.2,   9.1986,  34.6910,2,  34.6910,2,    213.3,2,   212.4,2,   10.03,2,   19.23,2,    0.00,2,    1.35,2,-999.000,9,-999.000,9,-999.0000,9,  -999.0,9,  -999.0,9,-999.0000,9,  -999.00,-999.000,9,-999.000,9,-999.000,9,   9.2038,2,-999.000,9, -999.00,9, -999.00,-999.000,9,-999.000, -999.00,9, -999.00,9, -34.0003,  66.8381,-999.000,-999.000,20090415,       1903
33RR20090320,        I05,      88,          1,         21,         21,2,20090415,       1727,   -34.0004,    66.8383,       4706,   866.3,   7.5527,  34.5315,2,  34.5299,2,    204.8,2,   205.9,4,   15.89,2,   23.91,2,    0.00,2,    1.67,2,-999.000,9,-999.000,9,-999.0000,9,  2162.8,2,  2292.1,2,   7.7711,2,    20.00,-999.000,9,-999.000,9,-999.000,9,   7.5459,2,-999.000,9, -999.00,9, -999.00,-999.000,9,-999.000, -999.00,9, -999.00,9, -34.0004,  66.8380,-999.000,-999.000,20090415,       1900
33RR20090320,        I05,      88,          1,         20,         20,2,20090415,       1727,   -34.0004,    66.8383,       4706,   965.2,   6.1680,  34.4222,2,  34.4192,2,    205.9,2,   206.5,2,   21.33,2,   27.11,2,    0.00,2,    1.89,2,-999.000,9,-999.000,9,-999.0000,9,  -999.0,9,  -999.0,9,-999.0000,9,  -999.00,-999.000,9,-999.000,9,-999.000,9,   6.2213,2,-999.000,9, -999.00,9, -999.00,-999.000,9,-999.000, -999.00,9, -999.00,9, -34.0004,  66.8380,-999.000,-999.000,20090415,       1858
33RR20090320,        I05,      88,          1,         19,         19,2,20090415,       1727,   -34.0004,    66.8383,       4706,  1061.4,   5.0572,  34.3617,2,  34.3613,2,    207.9,2,   209.2,2,   26.79,2,   29.31,2,    0.00,2,    2.06,2,-999.000,9,-999.000,9,-999.0000,9,  2186.9,2,  2294.6,2,   7.7114,2,    20.00,-999.000,9,-999.000,9,-999.000,9,   5.0495,2,-999.000,9, -999.00,9, -999.00,-999.000,9,-999.000, -999.00,9, -999.00,9, -34.0005,  66.8381,-999.000,-999.000,20090415,       1855
33RR20090320,        I05,      88,          1,         18,         18,2,20090415,       1727,   -34.0004,    66.8383,       4706,  1160.9,   4.2848,  34.3679,2,  34.3674,2,    203.4,2,   198.3,2,   36.91,2,   31.45,2,    0.00,2,    2.22,2,-999.000,9,-999.000,9,-999.0000,9,  -999.0,9,  -999.0,9,-999.0000,9,  -999.00,-999.000,9,-999.000,9,-999.000,9,   4.2829,2,-999.000,9, -999.00,9, -999.00,-999.000,9,-999.000, -999.00,9, -999.00,9, -34.0005,  66.8382,-999.000,-999.000,20090415,       1853
33RR20090320,        I05,      88,          1,         17,         17,2,20090415,       1727,   -34.0004,    66.8383,       4706,  1262.5,   3.8587,  34.3954,2,  34.3931,2,    189.8,2,   189.9,2,   44.73,2,   32.57,2,    0.00,2,    2.30,2,-999.000,9,-999.000,9,-999.0000,9,  2216.0,2,  2310.1,2,   7.6693,2,    20.00,-999.000,9,-999.000,9,-999.000,9,   3.8639,2,-999.000,9, -999.00,9, -999.00,-999.000,9,-999.000, -999.00,9, -999.00,9, -34.0006,  66.8381,-999.000,-999.000,20090415,       1850
33RR20090320,        I05,      88,          1,         16,         16,2,20090415,       1727,   -34.0004,    66.8383,       4706,  1362.7,   3.5095,  34.4394,2,  34.4373,2,    180.6,2,   179.6,2,   54.04,2,   33.60,2,    0.00,2,    2.39,2,-999.000,9,-999.000,9,-999.0000,9,  -999.0,9,  -999.0,9,-999.0000,9,  -999.00,-999.000,9,-999.000,9,-999.000,9,   3.5093,2,-999.000,9, -999.00,9, -999.00,-999.000,9,-999.000, -999.00,9, -999.00,9, -34.0006,  66.8381,-999.000,-999.000,20090415,       1847
33RR20090320,        I05,      88,          1,         15,         15,2,20090415,       1727,   -34.0004,    66.8383,       4706,  1464.8,   3.2216,  34.4887,2,  34.4887,2,    172.9,2,   173.3,2,   61.89,2,   34.12,2,    0.00,2,    2.42,2,-999.000,9,-999.000,9,-999.0000,9,  -999.0,9,  -999.0,9,-999.0000,9,  -999.00,-999.000,9,-999.000,9,-999.000,9,   3.2205,2,-999.000,9, -999.00,9, -999.00,-999.000,9,-999.000, -999.00,9, -999.00,9, -34.0006,  66.8381,-999.000,-999.000,20090415,       1844
33RR20090320,        I05,      88,          1,         14,         14,2,20090415,       1727,   -34.0004,    66.8383,       4706,  1563.4,   2.9916,  34.5382,2,  34.5370,2,    169.8,2,   170.2,2,   67.63,2,   34.06,2,    0.00,2,    2.43,2,-999.000,9,-999.000,9,-999.0000,9,  2247.3,2,  2333.2,2,   7.6397,2,    20.00,-999.000,9,-999.000,9,-999.000,9,   2.9908,2,-999.000,9, -999.00,9, -999.00,-999.000,9,-999.000, -999.00,9, -999.00,9, -34.0006,  66.8382,-999.000,-999.000,20090415,       1841
33RR20090320,        I05,      88,          1,         13,         13,2,20090415,       1727,   -34.0004,    66.8383,       4706,  1729.5,   2.7594,  34.5993,2,  34.5984,2,    171.3,2,   171.8,2,   72.08,2,   33.57,2,    0.00,2,    2.38,2,-999.000,9,-999.000,9,-999.0000,9,  -999.0,9,  -999.0,9,-999.0000,9,  -999.00,-999.000,9,-999.000,9,-999.000,9,   2.7586,2,-999.000,9, -999.00,9, -999.00,-999.000,9,-999.000, -999.00,9, -999.00,9, -34.0004,  66.8385,-999.000,-999.000,20090415,       1836
33RR20090320,        I05,      88,          1,         12,         12,2,20090415,       1727,   -34.0004,    66.8383,       4706,  1934.4,   2.5030,  34.6727,2,  34.6721,2,    176.6,2,   176.9,2,   78.47,2,   32.49,2,    0.00,2,    2.30,2,-999.000,9,-999.000,9,-999.0000,9,  2252.4,2,  2344.7,2,   7.6606,2,    20.00,-999.000,9,-999.000,9,-999.000,9,   2.5041,2,-999.000,9, -999.00,9, -999.00,-999.000,9,-999.000, -999.00,9, -999.00,9, -34.0004,  66.8385,-999.000,-999.000,20090415,       1831
33RR20090320,        I05,      88,          1,         11,         11,2,20090415,       1727,   -34.0004,    66.8383,       4706,  2161.5,   2.3041,  34.7126,2,  34.7116,2,    181.0,2,   181.2,2,   86.16,2,   32.00,2,    0.00,2,    2.26,2,-999.000,9,-999.000,9,-999.0000,9,  -999.0,9,  -999.0,9,-999.0000,9,  -999.00,-999.000,9,-999.000,9,-999.000,9,   2.3046,2,-999.000,9, -999.00,9, -999.00,-999.000,9,-999.000, -999.00,9, -999.00,9, -34.0005,  66.8384,-999.000,-999.000,20090415,       1826
33RR20090320,        I05,      88,          1,         10,         10,2,20090415,       1727,   -34.0004,    66.8383,       4706,  2420.0,   2.0984,  34.7273,2,  34.7260,2,    179.3,2,   179.2,2,   99.02,2,   32.32,2,    0.00,2,    2.30,2,-999.000,9,-999.000,9,-999.0000,9,  2267.9,2,  2367.9,2,   7.6776,2,    20.00,-999.000,9,-999.000,9,-999.000,9,   2.1004,2,-999.000,9, -999.00,9, -999.00,-999.000,9,-999.000, -999.00,9, -999.00,9, -34.0003,  66.8383,-999.000,-999.000,20090415,       1820
33RR20090320,        I05,      88,          1,          9,          9,2,20090415,       1727,   -34.0004,    66.8383,       4706,  2651.6,   1.9523,  34.7307,2,  34.7299,2,    178.0,2,   177.1,2,  108.04,2,   32.80,2,    0.00,2,    2.34,2,-999.000,9,-999.000,9,-999.0000,9,  -999.0,9,  -999.0,9,-999.0000,9,  -999.00,-999.000,9,-999.000,9,-999.000,9,   1.9522,2,-999.000,9, -999.00,9, -999.00,-999.000,9,-999.000, -999.00,9, -999.00,9, -34.0002,  66.8383,-999.000,-999.000,20090415,       1813
33RR20090320,        I05,      88,          1,          8,          8,2,20090415,       1727,   -34.0004,    66.8383,       4706,  2899.7,   1.8303,  34.7313,2,  34.7311,2,    177.9,2,   177.2,2,  114.06,2,   33.06,2,    0.00,2,    2.36,2,-999.000,9,-999.000,9,-999.0000,9,  2280.4,2,  2380.7,2,   7.6770,2,    20.00,-999.000,9,-999.000,9,-999.000,9,   1.8306,2,-999.000,9, -999.00,9, -999.00,-999.000,9,-999.000, -999.00,9, -999.00,9, -34.0001,  66.8381,-999.000,-999.000,20090415,       1807
33RR20090320,        I05,      88,          1,          7,          7,2,20090415,       1727,   -34.0004,    66.8383,       4706,  3200.6,   1.6823,  34.7283,2,  34.7279,2,    180.4,2,   179.8,2,  118.36,2,   33.22,2,    0.00,2,    2.37,2,-999.000,9,-999.000,9,-999.0000,9,  2281.9,2,  2383.9,2,   7.6777,2,    20.00,-999.000,9,-999.000,9,-999.000,9,   1.6821,2,-999.000,9, -999.00,9, -999.00,-999.000,9,-999.000, -999.00,9, -999.00,9, -34.0000,  66.8381,-999.000,-999.000,20090415,       1801
33RR20090320,        I05,      88,          1,          6,          6,2,20090415,       1727,   -34.0004,    66.8383,       4706,  3499.9,   1.5025,  34.7228,2,  34.7221,2,    185.7,2,   185.1,2,  121.36,2,   33.22,2,    0.00,2,    2.36,2,-999.000,9,-999.000,9,-999.0000,9,  -999.0,9,  -999.0,9,-999.0000,9,  -999.00,-999.000,9,-999.000,9,-999.000,9,   1.5029,2,-999.000,9, -999.00,9, -999.00,-999.000,9,-999.000, -999.00,9, -999.00,9, -34.0000,  66.8380,-999.000,-999.000,20090415,       1755
33RR20090320,        I05,      88,          1,          5,          5,2,20090415,       1727,   -34.0004,    66.8383,       4706,  3807.2,   1.2056,  34.7133,2,  34.7120,2,    194.9,2,   195.5,2,  123.50,2,   32.99,2,    0.00,2,    2.34,2,-999.000,9,-999.000,9,-999.0000,9,  2274.5,2,  2377.8,2,   7.6804,2,    20.00,-999.000,9,-999.000,9,-999.000,9,   1.2066,2,-999.000,9, -999.00,9, -999.00,-999.000,9,-999.000, -999.00,9, -999.00,9, -34.0002,  66.8379,-999.000,-999.000,20090415,       1749
33RR20090320,        I05,      88,          1,          4,          4,2,20090415,       1727,   -34.0004,    66.8383,       4706,  4110.9,   0.9137,  34.7027,2,  34.7028,2,    204.2,2,   204.5,2,  128.03,2,   32.83,2,    0.00,2,    2.33,2,-999.000,9,-999.000,9,-999.0000,9,  -999.0,9,  -999.0,9,-999.0000,9,  -999.00,-999.000,9,-999.000,9,-999.000,9,   0.9138,2,-999.000,9, -999.00,9, -999.00,-999.000,9,-999.000, -999.00,9, -999.00,9, -34.0002,  66.8380,-999.000,-999.000,20090415,       1742
33RR20090320,        I05,      88,          1,          3,          3,2,20090415,       1727,   -34.0004,    66.8383,       4706,  4444.8,   0.7610,  34.6966,2,  34.6955,2,    209.6,2,   210.0,2,  129.95,2,   32.77,2,    0.00,2,    2.32,2,-999.000,9,-999.000,9,-999.0000,9,  2267.1,2,  2371.9,2,   7.6840,2,    20.00,-999.000,9,-999.000,9,-999.000,9,   0.7612,2,-999.000,9, -999.00,9, -999.00,-999.000,9,-999.000, -999.00,9, -999.00,9, -34.0000,  66.8384,-999.000,-999.000,20090415,       1735
33RR20090320,        I05,      88,          1,          2,          2,2,20090415,       1727,   -34.0004,    66.8383,       4706,  4648.8,   0.7285,  34.6945,2,  34.6942,2,    212.5,2,   212.6,2,  130.81,2,   32.71,2,    0.00,2,    2.32,2,-999.000,9,-999.000,9,-999.0000,9,  -999.0,9,  -999.0,9,-999.0000,9,  -999.00,-999.000,9,-999.000,9,-999.000,9,   0.7289,2,-999.000,9, -999.00,9, -999.00,-999.000,9,-999.000, -999.00,9, -999.00,9, -34.0002,  66.8383,-999.000,-999.000,20090415,       1730
33RR20090320,        I05,      88,          1,          1,          1,2,20090415,       1727,   -34.0004,    66.8383,       4706,  4775.1,   0.7323,  34.6935,2,  34.6928,2,    212.6,2,   212.3,2,  130.79,2,   32.71,2,    0.00,2,    2.32,2,-999.000,9,-999.000,9,-999.0000,9,  2267.0,6,  2368.8,2,   7.6834,2,    20.00,-999.000,9,-999.000,9,-999.000,9,   0.7318,2,-999.000,9, -999.00,9, -999.00,-999.000,9,-999.000, -999.00,9, -999.00,9, -34.0003,  66.8383,-999.000,-999.000,20090415,       1727