BOTTLE,20220814CCHSIOAMB
EXPOCODE,SECT_ID,STNNBR,CASTNO,SAMPNO,BTLNBR,BTLNBR_FLAG_W,DATE,TIME,LATITUDE,LONGITUDE,DEPTH,CTDPRS,CTDTMP,CTDSAL,CTDSAL_FLAG_W,SALNTY,SALNTY_FLAG_W,CTDOXY,CTDOXY_FLAG_W,OXYGEN,OXYGEN_FLAG_W,SILCAT,SILCAT_FLAG_W,NITRAT,NITRAT_FLAG_W,NITRIT,NITRIT_FLAG_W,PHSPHT,PHSPHT_FLAG_W,CFC-11,CFC-11_FLAG_W,CFC-12,CFC-12_FLAG_W,SF6,SF6_FLAG_W,TCARBN,TCARBN_FLAG_W,ALKALI,ALKALI_FLAG_W,PH_TOT,PH_TOT_FLAG_W,PH_TMP,TRITUM,TRITUM_FLAG_W,HELIUM,HELIUM_FLAG_W,DELHE3,DELHE3_FLAG_W,REFTMP,REFTMP_FLAG_W,DELC13,DELC13_FLAG_W,DELC14,DELC14_FLAG_W,C14ERR,NEON,NEON_FLAG_W,NEONER,DOC,DOC_FLAG_W,TDN,TDN_FLAG_W,BTL_LAT,BTL_LON,HELIER,DELHER,BTL_DATE,BTL_TIME
,,,,,,,,,,,METERS,DBAR,ITS-90,PSS-78,,PSS-78,,UMOL/KG,,UMOL/KG,,UMOL/KG,,UMOL/KG,,UMOL/KG,,UMOL/KG,,PMOL/KG,,PMOL/KG,,FMOL/KG,,UMOL/KG,,UMOL/KG,,,,DEG C,TU,,NMOL/KG,,PERCNT,,DEG C,,/MILLE,,/MILLE,,/MILLE,NMOL/KG,,NMOL/KG,UMOL/KG,,UMOL/KG,,,,NMOL/KG,PERCNT,,
33RR20090320,        I05,      23,          2,         36,         36,2,20090328,       1901,   -32.9991,    36.4331,       2907,     5.2,  24.3377,  35.5015,2,  35.5012,2,    210.1,2,   210.6,2,    1.85,2,    0.15,2,    0.00,2,    0.06,2,-999.000,9,-999.000,9,-999.0000,9,  2001.5,6,  2324.2,2,   8.1566,2,    20.00,-999.000,9,-999.000,9,-999.000,9,  24.3373,2,-999.000,9, -999.00,9, -999.00,-999.000,9,-999.000, -999.00,9, -999.00,9, -32.9990,  36.4336,-999.000,-999.000,20090328,       2039
33RR20090320,        I05,      23,          2,         35,         35,2,20090328,       1901,   -32.9991,    36.4331,       2907,    25.0,  24.3261,  35.5013,2,-999.0000,9,    211.4,2,   211.1,2,    1.84,2,    0.15,2,    0.00,2,    0.05,2,-999.000,9,-999.000,9,-999.0000,9,  2001.5,2,  2325.4,2,   8.1568,2,    20.00,-999.000,9,-999.000,9,-999.000,9,  24.3256,2,-999.000,9, -999.00,9, -999.00,-999.000,9,-999.000, -999.00,9, -999.00,9, -32.9991,  36.4336,-999.000,-999.000,20090328,       2037
33RR20090320,        I05,      23,          2,         34,         34,2,20090328,       1901,   -32.9991,    36.4331,       2907,    49.5,  24.0112,  35.5203,2,-999.0000,9,    212.7,2,   211.7,2,    1.82,2,    0.11,2,    0.00,2,    0.05,2,-999.000,9,-999.000,9,-999.0000,9,  2006.1,2,  2325.9,2,   8.1509,2,    20.00,-999.000,9,-999.000,9,-999.000,9,  24.0094,2,-999.000,9, -999.00,9, -999.00,-999.000,9,-999.000, -999.00,9, -999.00,9, -32.9991,  36.4336,-999.000,-999.000,20090328,       2035
33RR20090320,        I05,      23,          2,         33,         33,2,20090328,       1901,   -32.9991,    36.4331,       2907,    75.6,  21.0095,  35.5311,2,-999.0000,9,    214.1,2,   216.4,2,    2.01,2,    0.49,2,    0.05,2,    0.15,2,-999.000,9,-999.000,9,-999.0000,9,  2039.5,2,  2328.9,2,   8.0970,2,    20.00,-999.000,9,-999.000,9,-999.000,9,  21.0021,2,-999.000,9, -999.00,9, -999.00,-999.000,9,-999.000, -999.00,9, -999.00,9, -32.9991,  36.4337,-999.000,-999.000,20090328,       2033
33RR20090320,        I05,      23,          2,         32,         32,2,20090328,       1901,   -32.9991,    36.4331,       2907,   100.2,  19.3533,  35.5344,2,-999.0000,9,    206.0,2,   202.4,2,    3.37,2,    2.80,2,    0.03,2,    0.29,2,-999.000,9,-999.000,9,-999.0000,9,  -999.0,9,  -999.0,9,-999.0000,9,  -999.00,-999.000,9,-999.000,9,-999.000,9,  19.3562,2,-999.000,9, -999.00,9, -999.00,-999.000,9,-999.000, -999.00,9, -999.00,9, -32.9991,  36.4337,-999.000,-999.000,20090328,       2032
33RR20090320,        I05,      23,          2,         31,         31,2,20090328,       1901,   -32.9991,    36.4331,       2907,   124.7,  18.4934,  35.5568,2,-999.0000,9,    211.6,2,   211.6,2,    2.96,2,    1.98,2,    0.02,2,    0.25,2,-999.000,9,-999.000,9,-999.0000,9,  2065.1,2,  2328.3,2,   8.0531,2,    20.00,-999.000,9,-999.000,9,-999.000,9,  18.5183,2,-999.000,9, -999.00,9, -999.00,-999.000,9,-999.000, -999.00,9, -999.00,9, -32.9991,  36.4337,-999.000,-999.000,20090328,       2030
33RR20090320,        I05,      23,          2,         30,         30,2,20090328,       1901,   -32.9991,    36.4331,       2907,   150.1,  17.7236,  35.5463,2,-999.0000,9,    199.0,2,   201.2,2,    4.13,2,    4.13,2,    0.01,2,    0.38,2,-999.000,9,-999.000,9,-999.0000,9,  -999.0,9,  -999.0,9,-999.0000,9,  -999.00,-999.000,9,-999.000,9,-999.000,9,  17.7383,2,-999.000,9, -999.00,9, -999.00,-999.000,9,-999.000, -999.00,9, -999.00,9, -32.9992,  36.4336,-999.000,-999.000,20090328,       2029
33RR20090320,        I05,      23,          2,         29,         29,2,20090328,       1901,   -32.9991,    36.4331,       2907,   174.8,  17.3590,  35.5490,2,  35.5476,2,    200.5,2,   201.9,2,    4.11,2,    4.28,2,    0.01,2,    0.40,2,-999.000,9,-999.000,9,-999.0000,9,  2083.5,2,  2332.3,2,   8.0169,2,    20.00,-999.000,9,-999.000,9,-999.000,9,  17.3635,2,-999.000,9, -999.00,9, -999.00,-999.000,9,-999.000, -999.00,9, -999.00,9, -32.9992,  36.4336,-999.000,-999.000,20090328,       2028
33RR20090320,        I05,      23,          2,         28,         28,2,20090328,       1901,   -32.9991,    36.4331,       2907,   200.1,  16.8362,  35.5298,2,-999.0000,9,    201.6,2,   200.6,2,    4.29,2,    5.16,2,    0.01,2,    0.45,2,-999.000,9,-999.000,9,-999.0000,9,  -999.0,9,  -999.0,9,-999.0000,9,  -999.00,-999.000,9,-999.000,9,-999.000,9,  16.8415,2,-999.000,9, -999.00,9, -999.00,-999.000,9,-999.000, -999.00,9, -999.00,9, -32.9992,  36.4336,-999.000,-999.000,20090328,       2026
33RR20090320,        I05,      23,          2,         27,         27,2,20090328,       1901,   -32.9991,    36.4331,       2907,   224.3,  16.5185,  35.5254,2,-999.0000,9,    201.9,2,   207.2,2,    4.08,2,    5.22,2,    0.00,2,    0.45,2,-999.000,9,-999.000,9,-999.0000,9,  -999.0,9,  -999.0,9,-999.0000,9,  -999.00,-999.000,9,-999.000,9,-999.000,9,  16.5240,2,-999.000,9, -999.00,9, -999.00,-999.000,9,-999.000, -999.00,9, -999.00,9, -32.9992,  36.4336,-999.000,-999.000,20090328,       2025
33RR20090320,        I05,      23,          2,         26,         26,2,20090328,       1901,   -32.9991,    36.4331,       2907,   249.0,  16.1118,  35.4956,2,-999.0000,9,    209.6,2,   198.2,2,    4.85,2,    6.54,2,    0.00,2,    0.54,2,-999.000,9,-999.000,9,-999.0000,9,  -999.0,9,  -999.0,9,-999.0000,9,  -999.00,-999.000,9,-999.000,9,-999.000,9,  16.1516,2,-999.000,9, -999.00,9, -999.00,-999.000,9,-999.000, -999.00,9, -999.00,9, -32.9991,  36.4336,-999.000,-999.000,20090328,       2023
33RR20090320,        I05,      23,          2,         25,         25,2,20090328,       1901,   -32.9991,    36.4331,       2907,   300.2,  15.3972,  35.4564,2,  35.4563,2,    197.8,2,   200.3,2,    4.84,2,    7.17,2,    0.00,2,    0.59,2,-999.000,9,-999.000,9,-999.0000,9,  -999.0,9,  -999.0,9,-999.0000,9,  -999.00,-999.000,9,-999.000,9,-999.000,9,  15.3982,2,-999.000,9, -999.00,9, -999.00,-999.000,9,-999.000, -999.00,9, -999.00,9, -32.9990,  36.4336,-999.000,-999.000,20090328,       2021
33RR20090320,        I05,      23,          2,         24,         24,2,20090328,       1901,   -32.9991,    36.4331,       2907,   349.6,  14.7904,  35.4188,2,-999.0000,9,    206.9,2,   207.8,2,    4.43,2,    7.47,2,    0.00,2,    0.60,2,-999.000,9,-999.000,9,-999.0000,9,  -999.0,9,  -999.0,9,-999.0000,9,  -999.00,-999.000,9,-999.000,9,-999.000,9,  14.8026,2,-999.000,9, -999.00,9, -999.00,-999.000,9,-999.000, -999.00,9, -999.00,9, -32.9989,  36.4336,-999.000,-999.000,20090328,       2019
33RR20090320,        I05,      23,          2,         23,         23,2,20090328,       1901,   -32.9991,    36.4331,       2907,   399.9,  14.1715,  35.3640,2,  35.3644,2,    208.3,2,   210.0,2,    4.60,2,    8.30,2,    0.00,2,    0.65,2,-999.000,9,-999.000,9,-999.0000,9,  -999.0,9,  -999.0,9,-999.0000,9,  -999.00,-999.000,9,-999.000,9,-999.000,9,  14.1706,2,-999.000,9, -999.00,9, -999.00,-999.000,9,-999.000, -999.00,9, -999.00,9, -32.9989,  36.4336,-999.000,-999.000,20090328,       2017
33RR20090320,        I05,      23,          2,         22,         22,2,20090328,       1901,   -32.9991,    36.4331,       2907,   449.0,  13.6908,  35.3142,2,-999.0000,9,    212.8,2,   212.0,2,    4.60,2,    9.04,2,    0.00,2,    0.70,2,-999.000,9,-999.000,9,-999.0000,9,  -999.0,9,  -999.0,9,-999.0000,9,  -999.00,-999.000,9,-999.000,9,-999.000,9,  13.6930,2,-999.000,9, -999.00,9, -999.00,-999.000,9,-999.000, -999.00,9, -999.00,9, -32.9990,  36.4335,-999.000,-999.000,20090328,       2015
33RR20090320,        I05,      23,          2,         21,         21,2,20090328,       1901,   -32.9991,    36.4331,       2907,   499.6,  13.1806,  35.2508,2,  35.2505,2,    214.2,2,   213.3,2,    4.98,2,    9.97,2,    0.00,2,    0.76,2,-999.000,9,-999.000,9,-999.0000,9,  -999.0,9,  -999.0,9,-999.0000,9,  -999.00,-999.000,9,-999.000,9,-999.000,9,  13.1790,2,-999.000,9, -999.00,9, -999.00,-999.000,9,-999.000, -999.00,9, -999.00,9, -32.9989,  36.4335,-999.000,-999.000,20090328,       2013
33RR20090320,        I05,      23,          2,         20,         20,2,20090328,       1901,   -32.9991,    36.4331,       2907,   600.1,  12.1070,  35.0998,2,-999.0000,9,    215.8,2,   217.0,2,    4.96,2,   11.84,2,    0.00,2,    0.89,2,-999.000,9,-999.000,9,-999.0000,9,  -999.0,9,  -999.0,9,-999.0000,9,  -999.00,-999.000,9,-999.000,9,-999.000,9,  12.1009,2,-999.000,9, -999.00,9, -999.00,-999.000,9,-999.000, -999.00,9, -999.00,9, -32.9988,  36.4335,-999.000,-999.000,20090328,       2009
33RR20090320,        I05,      23,          2,         19,         19,2,20090328,       1901,   -32.9991,    36.4331,       2907,   699.4,  10.9813,  34.9413,2,  34.9412,2,    214.1,2,   213.7,2,    6.71,2,   14.52,2,    0.00,2,    1.07,2,-999.000,9,-999.000,9,-999.0000,9,  -999.0,9,  -999.0,9,-999.0000,9,  -999.00,-999.000,9,-999.000,9,-999.000,9,  10.9796,2,-999.000,9, -999.00,9, -999.00,-999.000,9,-999.000, -999.00,9, -999.00,9, -32.9988,  36.4334,-999.000,-999.000,20090328,       2006
33RR20090320,        I05,      23,          2,         18,         18,2,20090328,       1901,   -32.9991,    36.4331,       2907,   799.5,   9.7705,  34.7839,2,-999.0000,9,    212.6,2,   212.0,2,    9.26,2,   17.46,2,    0.00,2,    1.26,2,-999.000,9,-999.000,9,-999.0000,9,  -999.0,9,  -999.0,9,-999.0000,9,  -999.00,-999.000,9,-999.000,9,-999.000,9,   9.7668,2,-999.000,9, -999.00,9, -999.00,-999.000,9,-999.000, -999.00,9, -999.00,9, -32.9988,  36.4334,-999.000,-999.000,20090328,       2004
33RR20090320,        I05,      23,          2,         17,         17,2,20090328,       1901,   -32.9991,    36.4331,       2907,   899.8,   8.6565,  34.6584,2,  34.6595,2,    206.7,2,   207.4,2,   12.21,2,   20.66,2,    0.00,2,    1.45,2,-999.000,9,-999.000,9,-999.0000,9,  -999.0,9,  -999.0,9,-999.0000,9,  -999.00,-999.000,9,-999.000,9,-999.000,9,   8.6583,2,-999.000,9, -999.00,9, -999.00,-999.000,9,-999.000, -999.00,9, -999.00,9, -32.9989,  36.4333,-999.000,-999.000,20090328,       2001
33RR20090320,        I05,      23,          2,         16,         16,2,20090328,       1901,   -32.9991,    36.4331,       2907,   999.5,   7.4295,  34.5754,2,-999.0000,9,    188.0,2,   188.2,2,   22.28,2,   25.40,2,    0.00,2,    1.79,2,-999.000,9,-999.000,9,-999.0000,9,  -999.0,9,  -999.0,9,-999.0000,9,  -999.00,-999.000,9,-999.000,9,-999.000,9,   7.4287,2,-999.000,9, -999.00,9, -999.00,-999.000,9,-999.000, -999.00,9, -999.00,9, -32.9990,  36.4334,-999.000,-999.000,20090328,       1957
33RR20090320,        I05,      23,          2,         15,         15,2,20090328,       1901,   -32.9991,    36.4331,       2907,  1101.3,   6.1095,  34.4805,2,-999.0000,9,    187.7,2,   188.7,2,   29.21,2,   28.28,2,    0.00,2,    1.98,2,-999.000,9,-999.000,9,-999.0000,9,  -999.0,9,  -999.0,9,-999.0000,9,  -999.00,-999.000,9,-999.000,9,-999.000,9,   6.1189,2,-999.000,9, -999.00,9, -999.00,-999.000,9,-999.000, -999.00,9, -999.00,9, -32.9992,  36.4333,-999.000,-999.000,20090328,       1955
33RR20090320,        I05,      23,          2,         14,         14,2,20090328,       1901,   -32.9991,    36.4331,       2907,  1200.7,   5.0908,  34.4494,2,-999.0000,9,    186.2,2,   185.8,2,   37.95,2,   30.59,2,    0.00,2,    2.16,2,-999.000,9,-999.000,9,-999.0000,9,  -999.0,9,  -999.0,9,-999.0000,9,  -999.00,-999.000,9,-999.000,9,-999.000,9,   5.0862,2,-999.000,9, -999.00,9, -999.00,-999.000,9,-999.000, -999.00,9, -999.00,9, -32.9993,  36.4333,-999.000,-999.000,20090328,       1952
33RR20090320,        I05,      23,          2,         13,         13,2,20090328,       1901,   -32.9991,    36.4331,       2907,  1300.8,   4.6126,  34.4844,2,-999.0000,9,    173.4,2,   172.3,2,   48.10,2,   32.15,2,    0.00,2,    2.30,2,-999.000,9,-999.000,9,-999.0000,9,  -999.0,9,  -999.0,9,-999.0000,9,  -999.00,-999.000,9,-999.000,9,-999.000,9,   4.6166,2,-999.000,9, -999.00,9, -999.00,-999.000,9,-999.000, -999.00,9, -999.00,9, -32.9993,  36.4332,-999.000,-999.000,20090328,       1949
33RR20090320,        I05,      23,          2,         12,         12,2,20090328,       1901,   -32.9991,    36.4331,       2907,  1401.3,   4.5667,  34.5760,2,-999.0000,9,    152.6,2,   151.9,2,   59.90,2,   33.26,2,    0.00,2,    2.41,2,-999.000,9,-999.000,9,-999.0000,9,  -999.0,9,  -999.0,9,-999.0000,9,  -999.00,-999.000,9,-999.000,9,-999.000,9,   4.5700,2,-999.000,9, -999.00,9, -999.00,-999.000,9,-999.000, -999.00,9, -999.00,9, -32.9992,  36.4332,-999.000,-999.000,20090328,       1946
33RR20090320,        I05,      23,          2,         11,         11,2,20090328,       1901,   -32.9991,    36.4331,       2907,  1501.8,   3.7601,  34.5322,2,  34.5308,2,    166.4,2,   167.5,2,   60.48,2,   33.33,2,    0.00,2,    2.38,2,-999.000,9,-999.000,9,-999.0000,9,  -999.0,9,  -999.0,9,-999.0000,9,  -999.00,-999.000,9,-999.000,9,-999.000,9,   3.7636,2,-999.000,9, -999.00,9, -999.00,-999.000,9,-999.000, -999.00,9, -999.00,9, -32.9992,  36.4333,-999.000,-999.000,20090328,       1943
33RR20090320,        I05,      23,          2,         10,         10,2,20090328,       1901,   -32.9991,    36.4331,       2907,  1597.2,   3.4817,  34.5803,2,  34.5813,2,    165.5,2,   165.6,2,   66.68,2,   33.34,2,    0.00,2,    2.37,2,-999.000,9,-999.000,9,-999.0000,9,  -999.0,9,  -999.0,9,-999.0000,9,  -999.00,-999.000,9,-999.000,9,-999.000,9,   3.4843,2,-999.000,9, -999.00,9, -999.00,-999.000,9,-999.000, -999.00,9, -999.00,9, -32.9992,  36.4334,-999.000,-999.000,20090328,       1940
33RR20090320,        I05,      23,          2,          9,          9,2,20090328,       1901,   -32.9991,    36.4331,       2907,  1698.5,   3.2954,  34.6199,2,  34.6188,2,    163.5,2,   163.7,2,   70.89,2,   33.27,2,    0.00,2,    2.37,2,-999.000,9,-999.000,9,-999.0000,9,  -999.0,9,  -999.0,9,-999.0000,9,  -999.00,-999.000,9,-999.000,9,-999.000,9,   3.2977,2,-999.000,9, -999.00,9, -999.00,-999.000,9,-999.000, -999.00,9, -999.00,9, -32.9991,  36.4335,-999.000,-999.000,20090328,       1936
33RR20090320,        I05,      23,          2,          8,          8,2,20090328,       1901,   -32.9991,    36.4331,       2907,  1798.6,   3.0849,  34.6568,2,  34.6562,2,    166.5,2,   167.2,2,   73.49,2,   32.73,2,    0.00,2,    2.33,2,-999.000,9,-999.000,9,-999.0000,9,  -999.0,9,  -999.0,9,-999.0000,9,  -999.00,-999.000,9,-999.000,9,-999.000,9,   3.0852,2,-999.000,9, -999.00,9, -999.00,-999.000,9,-999.000, -999.00,9, -999.00,9, -32.9991,  36.4334,-999.000,-999.000,20090328,       1933
33RR20090320,        I05,      23,          2,          7,          7,2,20090328,       1901,   -32.9991,    36.4331,       2907,  1900.9,   2.9704,  34.6803,2,  34.6792,2,    169.8,2,   170.5,2,   74.08,2,   32.24,2,    0.00,2,    2.29,2,-999.000,9,-999.000,9,-999.0000,9,  -999.0,9,  -999.0,9,-999.0000,9,  -999.00,-999.000,9,-999.000,9,-999.000,9,   2.9718,2,-999.000,9, -999.00,9, -999.00,-999.000,9,-999.000, -999.00,9, -999.00,9, -32.9992,  36.4334,-999.000,-999.000,20090328,       1929
33RR20090320,        I05,      23,          2,          6,          6,2,20090328,       1901,   -32.9991,    36.4331,       2907,  1999.3,   2.8774,  34.7050,2,  34.7049,2,    173.8,2,   174.2,2,   74.86,2,   31.66,2,    0.00,2,    2.25,2,-999.000,9,-999.000,9,-999.0000,9,  -999.0,9,  -999.0,9,-999.0000,9,  -999.00,-999.000,9,-999.000,9,-999.000,9,   2.8769,2,-999.000,9, -999.00,9, -999.00,-999.000,9,-999.000, -999.00,9, -999.00,9, -32.9992,  36.4333,-999.000,-999.000,20090328,       1926
33RR20090320,        I05,      23,          2,          5,          5,2,20090328,       1901,   -32.9991,    36.4331,       2907,  2203.2,   2.7086,  34.7459,2,  34.7452,2,    185.6,2,   185.3,2,   72.22,2,   30.13,2,    0.00,2,    2.13,2,-999.000,9,-999.000,9,-999.0000,9,  -999.0,9,  -999.0,9,-999.0000,9,  -999.00,-999.000,9,-999.000,9,-999.000,9,   2.7084,2,-999.000,9, -999.00,9, -999.00,-999.000,9,-999.000, -999.00,9, -999.00,9, -32.9990,  36.4333,-999.000,-999.000,20090328,       1920
33RR20090320,        I05,      23,          2,          4,          4,2,20090328,       1901,   -32.9991,    36.4331,       2907,  2414.5,   2.5939,  34.7750,2,  34.7747,2,    195.7,2,   195.8,2,   69.18,2,   28.85,2,    0.00,2,    2.02,2,-999.000,9,-999.000,9,-999.0000,9,  -999.0,9,  -999.0,9,-999.0000,9,  -999.00,-999.000,9,-999.000,9,-999.000,9,   2.5936,2,-999.000,9, -999.00,9, -999.00,-999.000,9,-999.000, -999.00,9, -999.00,9, -32.9991,  36.4333,-999.000,-999.000,20090328,       1915
33RR20090320,        I05,      23,          2,          3,          3,2,20090328,       1901,   -32.9991,    36.4331,       2907,  2617.3,   2.4519,  34.7910,2,  34.7909,2,    202.6,2,   203.1,2,   68.96,2,   28.12,2,    0.00,2,    1.96,2,-999.000,9,-999.000,9,-999.0000,9,  -999.0,9,  -999.0,9,-999.0000,9,  -999.00,-999.000,9,-999.000,9,-999.000,9,   2.4518,2,-999.000,9, -999.00,9, -999.00,-999.000,9,-999.000, -999.00,9, -999.00,9, -32.9991,  36.4332,-999.000,-999.000,20090328,       1910
33RR20090320,        I05,      23,          2,          2,          2,2,20090328,       1901,   -32.9991,    36.4331,       2907,  2819.3,   2.3956,  34.8028,2,  34.8025,2,    208.6,2,   208.6,2,   67.54,2,   27.48,2,    0.00,2,    1.91,2,-999.000,9,-999.000,9,-999.0000,9,  -999.0,9,  -999.0,9,-999.0000,9,  -999.00,-999.000,9,-999.000,9,-999.000,9,   2.3956,2,-999.000,9, -999.00,9, -999.00,-999.000,9,-999.000, -999.00,9, -999.00,9, -32.9991,  36.4332,-999.000,-999.000,20090328,       1905
33RR20090320,        I05,      23,          2,          1,          1,2,20090328,       1901,   -32.9991,    36.4331,       2907,  2934.1,   2.3095,  34.8025,2,  34.8029,2,    209.8,2,   210.6,2,   69.74,2,   27.55,2,    0.00,2,    1.93,2,-999.000,9,-999.000,9,-999.0000,9,  -999.0,9,  -999.0,9,-999.0000,9,  -999.00,-999.000,9,-999.000,9,-999.000,9,   2.3091,2,-999.000,9, -999.00,9, -999.00,-999.000,9,-999.000, -999.00,9, -999.00,9, -32.9991,  36.4331,-999.000,-999.000,20090328,       1901