BOTTLE,20220814CCHSIOAMB
EXPOCODE,SECT_ID,STNNBR,CASTNO,SAMPNO,BTLNBR,BTLNBR_FLAG_W,DATE,TIME,LATITUDE,LONGITUDE,DEPTH,CTDPRS,CTDTMP,CTDSAL,CTDSAL_FLAG_W,SALNTY,SALNTY_FLAG_W,CTDOXY,CTDOXY_FLAG_W,OXYGEN,OXYGEN_FLAG_W,SILCAT,SILCAT_FLAG_W,NITRAT,NITRAT_FLAG_W,NITRIT,NITRIT_FLAG_W,PHSPHT,PHSPHT_FLAG_W,CFC-11,CFC-11_FLAG_W,CFC-12,CFC-12_FLAG_W,SF6,SF6_FLAG_W,TCARBN,TCARBN_FLAG_W,ALKALI,ALKALI_FLAG_W,PH_TOT,PH_TOT_FLAG_W,PH_TMP,TRITUM,TRITUM_FLAG_W,HELIUM,HELIUM_FLAG_W,DELHE3,DELHE3_FLAG_W,REFTMP,REFTMP_FLAG_W,DELC13,DELC13_FLAG_W,DELC14,DELC14_FLAG_W,C14ERR,NEON,NEON_FLAG_W,NEONER,DOC,DOC_FLAG_W,TDN,TDN_FLAG_W,BTL_LAT,BTL_LON,HELIER,DELHER,BTL_DATE,BTL_TIME
,,,,,,,,,,,METERS,DBAR,ITS-90,PSS-78,,PSS-78,,UMOL/KG,,UMOL/KG,,UMOL/KG,,UMOL/KG,,UMOL/KG,,UMOL/KG,,PMOL/KG,,PMOL/KG,,FMOL/KG,,UMOL/KG,,UMOL/KG,,,,DEG C,TU,,NMOL/KG,,PERCNT,,DEG C,,/MILLE,,/MILLE,,/MILLE,NMOL/KG,,NMOL/KG,UMOL/KG,,UMOL/KG,,,,NMOL/KG,PERCNT,,
33RR20090320,        I05,     169,          1,         36,         36,2,20090506,       0201,   -31.4089,   104.3666,       4829,     8.5,  19.3252,  35.9580,2,  35.9587,2,    229.2,2,   229.6,2,    1.59,2,    0.00,2,    0.00,2,    0.10,2,   2.212,6,   1.322,6,   1.1660,6,  2067.6,6,  2360.4,2,   8.0945,2,    20.00,-999.000,9,-999.000,9,-999.000,9,  19.3240,2,   0.968,2,   48.32,2,     2.6,-999.000,9,-999.000,   67.52,2,    4.48,2, -31.4092, 104.3656,-999.000,-999.000,20090506,       0402
33RR20090320,        I05,     169,          1,         35,         35,2,20090506,       0201,   -31.4089,   104.3666,       4829,    27.5,  19.2716,  35.9545,2,  35.9550,2,    230.0,2,   229.7,2,    1.55,2,    0.06,2,    0.00,2,    0.09,2,   2.208,2,   1.325,2,   1.1710,2,  2066.2,2,  2360.0,2,   8.0946,2,    20.00,-999.000,9,-999.000,9,-999.000,9,  19.2723,2,-999.000,9, -999.00,9, -999.00,-999.000,9,-999.000,   67.77,2,    4.60,2, -31.4092, 104.3657,-999.000,-999.000,20090506,       0400
33RR20090320,        I05,     169,          1,         34,         34,2,20090506,       0201,   -31.4089,   104.3666,       4829,    48.5,  19.2624,  35.9545,2,  35.9548,2,    230.7,2,   230.4,2,    1.52,2,    0.00,2,    0.00,2,    0.09,2,   2.211,2,   1.323,2,   1.1460,2,  2066.5,2,  2360.1,2,   8.0943,2,    20.00,-999.000,9,-999.000,9,-999.000,9,  19.2597,2,-999.000,9, -999.00,9, -999.00,-999.000,9,-999.000,   66.43,2,    4.11,2, -31.4092, 104.3657,-999.000,-999.000,20090506,       0358
33RR20090320,        I05,     169,          1,         33,         33,2,20090506,       0201,   -31.4089,   104.3666,       4829,    73.6,  19.1223,  35.9672,2,  35.9676,2,    231.2,2,   230.3,2,    1.49,2,    0.00,2,    0.00,2,    0.10,2,   2.238,2,   1.333,2,   1.1720,2,  2069.2,2,  2361.3,2,   8.0914,2,    20.00,-999.000,9,-999.000,9,-999.000,9,  19.1199,2,-999.000,9, -999.00,9, -999.00,-999.000,9,-999.000,   66.27,2,    4.72,2, -31.4092, 104.3657,-999.000,-999.000,20090506,       0355
33RR20090320,        I05,     169,          1,         32,         32,2,20090506,       0201,   -31.4089,   104.3666,       4829,    97.5,  18.4234,  35.8892,2,  35.8953,2,    233.9,2,   234.0,2,    1.46,2,    0.00,2,    0.00,2,    0.11,2,   2.332,2,   1.388,2,   1.2450,2,  2072.5,2,  2356.8,2,   8.0812,2,    20.00,-999.000,9,-999.000,9,-999.000,9,  18.3808,2,   1.084,2,   60.99,2,     2.8,-999.000,9,-999.000,   58.15,2,    4.90,2, -31.4091, 104.3657,-999.000,-999.000,20090506,       0354
33RR20090320,        I05,     169,          1,         31,         31,2,20090506,       0201,   -31.4089,   104.3666,       4829,   143.2,  15.0998,  35.5623,2,  35.5677,2,    236.9,2,   236.3,2,    1.06,2,    2.09,2,    0.02,2,    0.28,2,   2.763,2,   1.609,2,   1.4070,2,  2092.4,2,  2337.7,2,   8.0191,2,    20.00,-999.000,9,-999.000,9,-999.000,9,  15.1053,2,-999.000,9, -999.00,9, -999.00,-999.000,9,-999.000,   54.58,2,    5.61,2, -31.4091, 104.3657,-999.000,-999.000,20090506,       0351
33RR20090320,        I05,     169,          1,         30,         30,2,20090506,       0201,   -31.4089,   104.3666,       4829,   192.6,  13.8124,  35.3759,2,  35.3656,2,    235.5,2,   235.0,2,    1.41,2,    4.83,2,    0.01,2,    0.45,2,   2.967,2,   1.696,2,   1.3640,2,  2103.2,2,  2328.4,2,   7.9791,2,    20.00,-999.000,9,-999.000,9,-999.000,9,  13.8179,2,   1.081,2,   49.46,2,     2.6,-999.000,9,-999.000,   52.08,2,    7.12,2, -31.4090, 104.3657,-999.000,-999.000,20090506,       0350
33RR20090320,        I05,     169,          1,         29,         29,2,20090506,       0201,   -31.4089,   104.3666,       4829,   243.6,  12.5161,  35.1546,2,  35.1565,2,    240.3,2,   240.0,2,    1.74,2,    7.09,2,    0.00,2,    0.59,2,   3.168,2,   1.798,2,   1.4220,2,  2109.9,2,  2316.0,2,   7.9480,2,    20.00,-999.000,9,-999.000,9,-999.000,9,  12.5242,2,-999.000,9, -999.00,9, -999.00,-999.000,9,-999.000,   49.41,2,    9.15,2, -31.4090, 104.3657,-999.000,-999.000,20090506,       0348
33RR20090320,        I05,     169,          1,         28,         28,2,20090506,       0201,   -31.4089,   104.3666,       4829,   292.0,  11.3997,  34.9737,2,  34.9758,2,    242.3,2,   242.9,2,    2.26,2,    9.66,2,    0.00,2,    0.75,2,   3.396,2,   1.887,2,   1.4080,2,  2114.9,2,  2308.2,2,   7.9163,2,    20.00,-999.000,9,-999.000,9,-999.000,9,  11.3974,2,   1.157,2,   38.42,2,     2.9,-999.000,9,-999.000,   48.82,2,   11.42,2, -31.4090, 104.3657,-999.000,-999.000,20090506,       0346
33RR20090320,        I05,     169,          1,         27,         27,2,20090506,       0201,   -31.4089,   104.3666,       4829,   343.7,  10.4731,  34.8272,2,  34.8283,2,    243.1,2,   242.4,2,    2.77,2,   12.24,2,    0.00,2,    0.91,2,   3.570,2,   1.961,2,   1.4240,2,  2120.8,2,  2299.1,2,   7.8878,2,    20.00,-999.000,9,-999.000,9,-999.000,9,  10.4633,2,-999.000,9, -999.00,9, -999.00,-999.000,9,-999.000,   47.65,2,   13.78,2, -31.4090, 104.3657,-999.000,-999.000,20090506,       0344
33RR20090320,        I05,     169,          1,         26,         26,2,20090506,       0201,   -31.4089,   104.3666,       4829,   392.3,   9.9709,  34.7592,2,  34.7587,2,    241.7,2,   242.5,2,    3.48,2,   13.92,2,    0.00,2,    1.01,2,   3.656,2,   1.998,2,   1.3640,2,  2126.6,2,  2295.8,2,   7.8698,2,    20.00,-999.000,9,-999.000,9,-999.000,9,   9.9694,2,   1.131,2,   44.11,2,     3.2,-999.000,9,-999.000,   46.66,2,   15.10,2, -31.4090, 104.3658,-999.000,-999.000,20090506,       0343
33RR20090320,        I05,     169,          1,         25,         25,2,20090506,       0201,   -31.4089,   104.3666,       4829,   471.7,   9.4703,  34.7035,2,  34.7042,2,    240.7,2,   240.1,2,    4.18,2,   15.60,2,    0.00,2,    1.11,2,   3.722,2,   2.008,2,   1.2860,2,  2130.6,2,  2292.9,2,   7.8541,2,    20.00,-999.000,9,-999.000,9,-999.000,9,   9.4737,2,-999.000,9, -999.00,9, -999.00,-999.000,9,-999.000,   45.29,2,   17.31,2, -31.4090, 104.3658,-999.000,-999.000,20090506,       0341
33RR20090320,        I05,     169,          1,         24,         24,2,20090506,       0201,   -31.4089,   104.3666,       4829,   573.1,   8.9758,  34.6379,2,  34.6392,2,    239.9,2,   240.0,2,    5.06,2,   17.18,2,    0.00,2,    1.20,2,   3.763,2,   1.979,2,   1.1640,2,  2134.4,2,  2292.7,2,   7.8415,2,    20.00,-999.000,9,-999.000,9,-999.000,9,   8.9754,2,   1.106,2,   42.17,2,     2.9,-999.000,9,-999.000,   43.81,2,   18.67,2, -31.4090, 104.3659,-999.000,-999.000,20090506,       0338
33RR20090320,        I05,     169,          1,         23,         23,2,20090506,       0201,   -31.4089,   104.3666,       4829,   671.3,   8.0562,  34.5361,2,  34.5362,2,    222.7,2,   220.2,2,    9.07,2,   21.24,2,    0.00,2,    1.47,2,   3.152,2,   1.610,2,   0.7150,2,  2150.2,2,  2288.6,2,   7.7958,2,    20.00,-999.000,9,-999.000,9,-999.000,9,   8.0543,2,   1.032,2,    4.29,2,     2.9,-999.000,9,-999.000,   42.79,2,   22.65,2, -31.4090, 104.3660,-999.000,-999.000,20090506,       0336
33RR20090320,        I05,     169,          1,         22,         22,2,20090506,       0201,   -31.4089,   104.3666,       4829,   773.5,   6.6182,  34.4432,2,  34.4442,2,    198.6,2,   198.9,2,   18.25,2,   26.27,2,    0.00,2,    1.82,2,   2.112,2,   1.053,2,   0.3610,2,  2175.1,2,  2292.0,2,   7.7349,2,    20.00,-999.000,9,-999.000,9,-999.000,9,   6.6208,2,   1.016,2,  -35.75,2,     2.4,-999.000,9,-999.000,   41.98,2,   28.20,2, -31.4091, 104.3660,-999.000,-999.000,20090506,       0333
33RR20090320,        I05,     169,          1,         21,         21,2,20090506,       0201,   -31.4089,   104.3666,       4829,   872.3,   4.9836,  34.3810,2,  34.3809,2,    195.3,2,   194.6,2,   30.80,2,   29.99,2,    0.00,2,    2.10,2,   1.538,6,   0.744,6,   0.1940,6,  2196.8,2,  2298.7,2,   7.6928,2,    20.00,-999.000,9,-999.000,9,-999.000,9,   4.9838,2,   0.928,2,   -72.1,2,     2.5,-999.000,9,-999.000,   41.06,2,   31.14,2, -31.4090, 104.3660,-999.000,-999.000,20090506,       0331
33RR20090320,        I05,     169,          1,         20,         20,2,20090506,       0201,   -31.4089,   104.3666,       4829,   974.1,   4.1400,  34.3956,2,  34.3961,2,    186.9,2,   185.6,2,   43.41,2,   32.07,2,    0.00,2,    2.27,2,   1.051,2,   0.495,2,   0.1480,2,  2218.6,2,  2309.6,2,-999.0000,5,    20.00,-999.000,9,-999.000,9,-999.000,9,   4.1382,2,   0.773,2,  -99.93,2,     2.5,-999.000,9,-999.000,   39.91,2,   33.19,2, -31.4090, 104.3659,-999.000,-999.000,20090506,       0328
33RR20090320,        I05,     169,          1,         19,         19,2,20090506,       0201,   -31.4089,   104.3666,       4829,  1073.0,   3.7601,  34.4465,2,  34.4467,2,    170.8,2,   171.1,2,   56.09,2,   33.46,2,    0.00,2,    2.39,2,   0.613,2,   0.288,2,   0.0470,2,  2236.9,2,  2322.4,2,   7.6428,2,    20.00,-999.000,9,-999.000,9,-999.000,9,   3.7613,2,   0.625,2, -121.33,2,       3,-999.000,9,-999.000,   39.63,2,   35.24,2, -31.4089, 104.3659,-999.000,-999.000,20090506,       0326
33RR20090320,        I05,     169,          1,         18,         18,2,20090506,       0201,   -31.4089,   104.3666,       4829,  1174.3,   3.3926,  34.4736,2,  34.4738,2,    167.4,2,   167.9,2,   62.06,2,   33.94,2,    0.00,2,    2.42,2,   0.418,2,   0.198,2,   0.0000,2,  2245.1,2,  2330.4,2,   7.6347,2,    20.00,-999.000,9,-999.000,9,-999.000,9,   3.3926,2,   0.574,2, -129.09,2,     2.3,-999.000,9,-999.000,   39.87,2,   35.58,2, -31.4089, 104.3659,-999.000,-999.000,20090506,       0323
33RR20090320,        I05,     169,          1,         17,         17,2,20090506,       0201,   -31.4089,   104.3666,       4829,  1273.6,   3.3334,  34.5400,2,  34.5402,2,    152.8,2,   153.2,2,   73.68,2,   34.74,2,    0.00,2,    2.49,2,   0.167,2,   0.082,2,   0.0000,2,  2262.2,2,  2342.5,2,   7.6226,2,    20.00,-999.000,9,-999.000,9,-999.000,9,   3.3255,2,   0.492,2, -149.47,2,     2.2,-999.000,9,-999.000,   40.04,2,   36.63,2, -31.4088, 104.3659,-999.000,-999.000,20090506,       0321
33RR20090320,        I05,     169,          1,         16,         16,2,20090506,       0201,   -31.4089,   104.3666,       4829,  1373.4,   3.1304,  34.5792,2,  34.5795,2,    150.9,2,   151.0,2,   79.32,2,   34.68,2,    0.00,2,    2.50,2,   0.077,2,   0.038,2,   0.0000,2,  2268.0,2,  2344.9,2,   7.6219,2,    20.00,-999.000,9,-999.000,9,-999.000,9,   3.1294,2,   0.475,2, -143.67,2,     2.7,-999.000,9,-999.000,   39.94,2,   36.25,2, -31.4088, 104.3659,-999.000,-999.000,20090506,       0318
33RR20090320,        I05,     169,          1,         15,         15,2,20090506,       0201,   -31.4089,   104.3666,       4829,  1474.4,   3.0023,  34.6089,2,  34.6093,2,    151.1,2,   150.9,2,   83.62,2,   34.63,2,    0.00,2,    2.49,2,   0.042,2,   0.022,2,   0.0000,2,  2272.4,2,  2353.8,2,   7.6241,2,    20.00,-999.000,9,-999.000,9,-999.000,9,   3.0030,2,   0.371,2, -199.72,3,     3.8,-999.000,9,-999.000,   39.35,2,   36.24,2, -31.4088, 104.3659,-999.000,-999.000,20090506,       0315
33RR20090320,        I05,     169,          1,         14,         14,2,20090506,       0201,   -31.4089,   104.3666,       4829,  1576.0,   2.8710,  34.6353,2,  34.6360,2,    152.8,2,   152.0,2,   87.19,2,   34.35,2,    0.00,2,    2.47,2,   0.025,2,   0.013,2,   0.0000,2,  2272.1,6,  2357.0,2,   7.6286,2,    20.00,-999.000,9,-999.000,9,-999.000,9,   2.8704,2,-999.000,9, -999.00,9, -999.00,-999.000,9,-999.000,   39.89,2,   35.72,2, -31.4088, 104.3660,-999.000,-999.000,20090506,       0313
33RR20090320,        I05,     169,          1,         13,         13,2,20090506,       0201,   -31.4089,   104.3666,       4829,  1747.7,   2.6446,  34.6740,2,  34.6735,2,    157.2,2,   156.6,2,   92.65,2,   33.86,2,    0.00,2,    2.43,2,   0.016,2,   0.009,2,   0.0000,2,  2275.8,2,  2362.2,2,   7.6371,2,    20.00,-999.000,9,-999.000,9,-999.000,9,   2.6474,2,   0.428,2,    -176,2,       2,-999.000,9,-999.000,   39.21,2,   35.00,2, -31.4088, 104.3660,-999.000,-999.000,20090506,       0309
33RR20090320,        I05,     169,          1,         12,         12,2,20090506,       0201,   -31.4089,   104.3666,       4829,  1946.1,   2.4366,  34.7028,2,  34.7032,2,    159.3,2,   158.8,2,  100.98,2,   33.65,2,    0.00,2,    2.41,2,   0.005,2,   0.004,2,   0.0000,2,  2281.8,2,  2370.5,2,   7.6445,2,    20.00,-999.000,9,-999.000,9,-999.000,9,   2.4349,2,-999.000,9, -999.00,9, -999.00,-999.000,9,-999.000,   39.16,2,   34.75,2, -31.4089, 104.3661,-999.000,-999.000,20090506,       0304
33RR20090320,        I05,     169,          1,         11,         11,2,20090506,       0201,   -31.4089,   104.3666,       4829,  2179.9,   2.2153,  34.7196,2,  34.7199,2,    163.8,2,   162.9,2,  107.03,2,   33.43,2,    0.00,2,    2.39,2,   0.007,2,   0.004,2,   0.0000,2,  2284.2,2,  2377.7,2,   7.6526,2,    20.00,-999.000,9,-999.000,9,-999.000,9,   2.2160,2,-999.000,9, -999.00,9, -999.00,-999.000,9,-999.000,   39.96,2,   35.40,2, -31.4089, 104.3661,-999.000,-999.000,20090506,       0259
33RR20090320,        I05,     169,          1,         10,         10,2,20090506,       0201,   -31.4089,   104.3666,       4829,  2431.1,   2.0111,  34.7269,2,  34.7270,2,    168.8,2,   170.3,2,  109.86,2,   33.00,2,    0.00,2,    2.35,2,   0.003,2,   0.002,2,   0.0000,2,  2281.7,2,  2377.7,2,   7.6625,2,    20.00,-999.000,9,-999.000,9,-999.000,9,   2.0114,2,-999.000,9, -999.00,9, -999.00,-999.000,9,-999.000,   39.90,2,   34.97,2, -31.4090, 104.3661,-999.000,-999.000,20090506,       0254
33RR20090320,        I05,     169,          1,          9,          9,2,20090506,       0201,   -31.4089,   104.3666,       4829,  2685.0,   1.8451,  34.7295,2,  34.7294,2,    176.3,2,   176.0,2,  111.73,2,   32.73,2,    0.00,2,    2.33,2,   0.004,2,   0.003,2,   0.0000,2,  2279.8,2,  2379.4,2,   7.6694,2,    20.00,-999.000,9,-999.000,9,-999.000,9,   1.8458,2,-999.000,9, -999.00,9, -999.00,-999.000,9,-999.000,   40.39,2,   34.03,2, -31.4090, 104.3662,-999.000,-999.000,20090506,       0249
33RR20090320,        I05,     169,          1,          8,          8,2,20090506,       0201,   -31.4089,   104.3666,       4829,  2938.5,   1.6818,  34.7301,2,  34.7298,2,    182.5,2,   182.6,2,  113.04,2,   32.36,2,    0.00,2,    2.31,2,   0.004,2,   0.002,2,   0.0000,2,  2276.8,2,  2376.7,2,   7.6750,2,    20.00,-999.000,9,-999.000,9,-999.000,9,   1.6818,2,-999.000,9, -999.00,9, -999.00,-999.000,9,-999.000,   39.77,2,   34.01,2, -31.4091, 104.3662,-999.000,-999.000,20090506,       0243
33RR20090320,        I05,     169,          1,          7,          7,2,20090506,       0201,   -31.4089,   104.3666,       4829,  3225.7,   1.4928,  34.7286,2,  34.7286,2,    188.8,2,   189.5,2,  114.93,2,   32.25,2,    0.00,2,    2.28,2,   0.006,2,   0.004,2,   0.0000,2,  2273.7,2,  2377.2,2,   7.6802,2,    20.00,-999.000,9,-999.000,9,-999.000,9,   1.4937,2,-999.000,9, -999.00,9, -999.00,-999.000,9,-999.000,   39.75,2,   33.60,2, -31.4091, 104.3663,-999.000,-999.000,20090506,       0237
33RR20090320,        I05,     169,          1,          6,          6,2,20090506,       0201,   -31.4089,   104.3666,       4829,  3530.9,   1.3320,  34.7239,2,  34.7239,2,    194.5,2,   193.4,2,  118.33,2,   32.30,2,    0.00,2,    2.28,2,   0.010,2,   0.006,2,   0.0000,2,  2274.2,2,  2378.1,2,   7.6833,2,    20.00,-999.000,9,-999.000,9,-999.000,9,   1.3315,2,-999.000,9, -999.00,9, -999.00,-999.000,9,-999.000,   39.92,2,   33.89,2, -31.4091, 104.3663,-999.000,-999.000,20090506,       0231
33RR20090320,        I05,     169,          1,          5,          5,2,20090506,       0201,   -31.4089,   104.3666,       4829,  3836.4,   1.2022,  34.7208,2,  34.7205,2,    201.5,2,   201.5,2,  116.97,2,   31.82,2,    0.00,2,    2.25,2,   0.016,2,   0.009,2,   0.0000,2,  2267.0,2,  2374.5,2,   7.6853,2,    20.00,-999.000,9,-999.000,9,-999.000,9,   1.2017,2,-999.000,9, -999.00,9, -999.00,-999.000,9,-999.000,   40.06,2,   33.65,2, -31.4090, 104.3663,-999.000,-999.000,20090506,       0224
33RR20090320,        I05,     169,          1,          4,          4,2,20090506,       0201,   -31.4089,   104.3666,       4829,  4140.4,   1.0974,  34.7155,2,  34.7148,2,    203.7,2,   203.1,2,  120.38,2,   32.03,2,    0.00,2,    2.26,2,   0.019,2,   0.011,2,   0.0000,2,  2268.5,2,  2375.4,2,   7.6864,2,    20.00,-999.000,9,-999.000,9,-999.000,9,   1.0977,2,-999.000,9, -999.00,9, -999.00,-999.000,9,-999.000,   39.78,2,   33.30,2, -31.4090, 104.3664,-999.000,-999.000,20090506,       0218
33RR20090320,        I05,     169,          1,          3,          3,2,20090506,       0201,   -31.4089,   104.3666,       4829,  4444.4,   1.0350,  34.7116,2,  34.7119,2,    206.2,2,   205.9,2,  121.50,2,   31.98,2,    0.00,2,    2.26,2,   0.029,6,   0.016,6,   0.0000,6,  2267.1,2,  2372.2,2,   7.6854,2,    20.00,-999.000,9,-999.000,9,-999.000,9,   1.0352,2,-999.000,9, -999.00,9, -999.00,-999.000,9,-999.000,   39.77,2,   33.60,2, -31.4090, 104.3665,-999.000,-999.000,20090506,       0212
33RR20090320,        I05,     169,          1,          2,          2,2,20090506,       0201,   -31.4089,   104.3666,       4829,  4674.4,   1.0187,  34.7098,2,  34.7095,2,    207.4,2,   207.0,2,  122.23,2,   32.03,2,    0.00,2,    2.26,2,   0.035,2,   0.020,2,   0.0000,2,  2266.1,2,  2372.7,2,   7.6851,2,    20.00,-999.000,9,-999.000,9,-999.000,9,   1.0187,2,-999.000,9, -999.00,9, -999.00,-999.000,9,-999.000,   39.87,2,   33.22,2, -31.4090, 104.3666,-999.000,-999.000,20090506,       0206
33RR20090320,        I05,     169,          1,          1,          1,2,20090506,       0201,   -31.4089,   104.3666,       4829,  4900.5,   1.0120,  34.7083,2,  34.7083,2,    206.8,2,   206.8,2,  123.16,2,   32.08,2,    0.00,2,    2.26,2,   0.045,2,   0.023,2,   0.0000,2,  2267.9,6,  2370.9,2,   7.6835,2,    20.00,-999.000,9,-999.000,9,-999.000,9,   1.0114,2,-999.000,9, -999.00,9, -999.00,-999.000,9,-999.000,   40.17,2,   33.75,2, -31.4089, 104.3666,-999.000,-999.000,20090506,       0201