BOTTLE,20220814CCHSIOAMB
EXPOCODE,SECT_ID,STNNBR,CASTNO,SAMPNO,BTLNBR,BTLNBR_FLAG_W,DATE,TIME,LATITUDE,LONGITUDE,DEPTH,CTDPRS,CTDTMP,CTDSAL,CTDSAL_FLAG_W,SALNTY,SALNTY_FLAG_W,CTDOXY,CTDOXY_FLAG_W,OXYGEN,OXYGEN_FLAG_W,SILCAT,SILCAT_FLAG_W,NITRAT,NITRAT_FLAG_W,NITRIT,NITRIT_FLAG_W,PHSPHT,PHSPHT_FLAG_W,CFC-11,CFC-11_FLAG_W,CFC-12,CFC-12_FLAG_W,SF6,SF6_FLAG_W,TCARBN,TCARBN_FLAG_W,ALKALI,ALKALI_FLAG_W,PH_TOT,PH_TOT_FLAG_W,PH_TMP,TRITUM,TRITUM_FLAG_W,HELIUM,HELIUM_FLAG_W,DELHE3,DELHE3_FLAG_W,REFTMP,REFTMP_FLAG_W,DELC13,DELC13_FLAG_W,DELC14,DELC14_FLAG_W,C14ERR,NEON,NEON_FLAG_W,NEONER,DOC,DOC_FLAG_W,TDN,TDN_FLAG_W,BTL_LAT,BTL_LON,HELIER,DELHER,BTL_DATE,BTL_TIME
,,,,,,,,,,,METERS,DBAR,ITS-90,PSS-78,,PSS-78,,UMOL/KG,,UMOL/KG,,UMOL/KG,,UMOL/KG,,UMOL/KG,,UMOL/KG,,PMOL/KG,,PMOL/KG,,FMOL/KG,,UMOL/KG,,UMOL/KG,,,,DEG C,TU,,NMOL/KG,,PERCNT,,DEG C,,/MILLE,,/MILLE,,/MILLE,NMOL/KG,,NMOL/KG,UMOL/KG,,UMOL/KG,,,,NMOL/KG,PERCNT,,
33RR20090320,        I05,     167,          1,         36,         36,2,20090505,       1300,   -31.8027,   103.4499,       5261,     4.8,  19.4711,  35.9794,2,  35.9755,2,    229.3,2,   229.1,2,    1.51,2,    0.03,2,    0.00,2,    0.10,2,   2.194,6,   1.312,6,   1.1860,6,  2068.9,6,  2359.5,2,   8.0967,2,    20.00,   0.582,2,   1.823,2,  -1.768,2,  19.4657,2,-999.000,9, -999.00,9, -999.00,   7.429,2,   0.008,   67.02,2,    4.06,2, -31.8028, 103.4497,   0.001,   0.197,20090505,       1509
33RR20090320,        I05,     167,          1,         35,         35,2,20090505,       1300,   -31.8027,   103.4499,       5261,    26.4,  19.4224,  35.9752,2,  35.9723,2,    230.7,2,   229.9,2,    1.49,2,    0.04,2,    0.00,2,    0.10,2,   2.194,2,   1.313,2,   1.2350,2,  2070.6,2,  2359.9,2,   8.0969,2,    20.00,   0.578,2,   1.798,2,  -1.526,2,  19.4193,2,-999.000,9, -999.00,9, -999.00,   7.299,2,   0.007,   66.80,2,    4.50,2, -31.8028, 103.4497,   0.000,   0.195,20090505,       1507
33RR20090320,        I05,     167,          1,         34,         34,2,20090505,       1300,   -31.8027,   103.4499,       5261,    51.2,  19.3651,  35.9702,2,  35.9670,2,    230.3,2,   229.1,2,    1.47,2,    0.04,2,    0.00,2,    0.09,2,   2.206,2,   1.314,2,   1.1850,2,  2070.8,2,  2359.1,2,   8.0965,2,    20.00,   0.537,2,   1.835,2,  -1.344,2,  19.3627,2,-999.000,9, -999.00,9, -999.00,   7.467,2,   0.008,   66.61,2,    4.10,2, -31.8028, 103.4497,   0.000,   0.195,20090505,       1505
33RR20090320,        I05,     167,          1,         33,         33,2,20090505,       1300,   -31.8027,   103.4499,       5261,    76.5,  19.1727,  35.9582,2,  35.9603,2,    230.3,2,   230.2,2,    1.26,2,    0.00,2,    0.00,2,    0.10,2,   2.211,2,   1.324,2,   1.1600,2,  2071.0,2,  2359.6,2,   8.0939,2,    20.00,   0.546,2,   1.844,2,  -1.457,2,  19.1748,2,-999.000,9, -999.00,9, -999.00,   7.491,2,   0.007,   62.20,2,    4.46,2, -31.8028, 103.4497,   0.000,   0.204,20090505,       1503
33RR20090320,        I05,     167,          1,         32,         32,2,20090505,       1300,   -31.8027,   103.4499,       5261,    99.5,  17.5116,  35.7814,2,  35.7723,2,    240.6,2,   243.6,2,    0.87,2,    0.04,2,    0.00,2,    0.13,2,   2.515,2,   1.482,2,   1.2120,2,  2075.1,2,  2348.4,2,   8.0701,2,    20.00,   0.518,2,   1.822,2,  -1.034,2,  17.5162,2,-999.000,9, -999.00,9, -999.00,   7.537,2,   0.008,   57.32,2,    4.54,2, -31.8027, 103.4497,   0.000,   0.194,20090505,       1501
33RR20090320,        I05,     167,          1,         31,         31,2,20090505,       1300,   -31.8027,   103.4499,       5261,   150.9,  14.4425,  35.4784,2,  35.4829,2,    236.1,2,   234.1,2,    1.03,2,    3.42,2,    0.01,2,    0.36,2,   2.848,2,   1.641,2,   1.3260,2,  2099.6,2,  2333.4,2,   7.9999,2,    20.00,   0.469,2,   1.880,2,  -1.736,2,  14.4438,2,-999.000,9, -999.00,9, -999.00,   7.774,2,   0.008,   52.44,2,    6.06,2, -31.8028, 103.4496,   0.000,   0.193,20090505,       1459
33RR20090320,        I05,     167,          1,         30,         30,2,20090505,       1300,   -31.8027,   103.4499,       5261,   200.3,  13.5041,  35.3509,2,  35.3539,2,    236.9,2,   238.8,2,    1.20,2,    5.11,2,    0.00,2,    0.47,2,-999.000,5,-999.000,5,-999.0000,5,  2106.4,2,  2326.1,2,   7.9761,2,    20.00,   0.442,2,   1.889,2,  -1.505,2,  13.4878,2,-999.000,9, -999.00,9, -999.00,   7.859,2,   0.008,   50.00,2,    7.99,2, -31.8028, 103.4496,   0.001,   0.192,20090505,       1457
33RR20090320,        I05,     167,          1,         29,         29,2,20090505,       1300,   -31.8027,   103.4499,       5261,   249.7,  12.7386,  35.2176,2,  35.2159,2,    240.3,2,   242.7,2,    1.37,2,    6.49,2,    0.00,2,    0.56,2,   3.136,2,   1.780,2,   1.5040,2,  2108.5,2,  2320.0,2,   7.9567,2,    20.00,   0.383,2,   1.896,2,  -1.001,2,  12.7294,2,-999.000,9, -999.00,9, -999.00,   7.631,2,   0.007,   48.66,2,    8.86,2, -31.8028, 103.4496,   0.000,   0.181,20090505,       1456
33RR20090320,        I05,     167,          1,         28,         28,2,20090505,       1300,   -31.8027,   103.4499,       5261,   299.6,  11.8148,  35.0431,2,  35.0427,2,    246.1,2,   245.8,2,    1.72,2,    8.40,2,    0.00,2,    0.68,2,   3.287,2,   1.863,2,   1.4800,2,  2112.7,2,  2309.9,2,   7.9334,2,    20.00,   0.360,2,   1.858,2,  -1.330,2,  11.8129,2,-999.000,9, -999.00,9, -999.00,   7.852,2,   0.008,   47.76,2,   10.45,2, -31.8028, 103.4496,   0.000,   0.201,20090505,       1454
33RR20090320,        I05,     167,          1,         27,         27,2,20090505,       1300,   -31.8027,   103.4499,       5261,   350.7,  10.9948,  34.9055,2,  34.8963,2,    245.4,2,   249.2,2,    2.07,2,   10.41,2,    0.00,2,    0.80,2,   3.447,2,   1.935,2,   1.4880,2,  2117.7,2,  2302.3,2,   7.9112,2,    20.00,   0.336,2,   1.863,2,  -2.137,2,  11.0007,2,-999.000,9, -999.00,9, -999.00,   7.897,2,   0.009,   46.86,2,   12.17,2, -31.8028, 103.4497,   0.002,   0.194,20090505,       1452
33RR20090320,        I05,     167,          1,         26,         26,2,20090505,       1300,   -31.8027,   103.4499,       5261,   399.1,  10.3285,  34.8057,2,  34.8055,2,    246.4,2,   243.3,2,    2.79,2,   12.68,2,    0.00,2,    0.94,2,   3.608,2,   1.979,2,   1.4160,2,  2123.8,2,  2296.7,2,   7.8845,2,    20.00,   0.322,2,   1.861,2,  -1.194,2,  10.3225,2,-999.000,9, -999.00,9, -999.00,   7.876,2,   0.008,   46.12,2,   14.16,2, -31.8028, 103.4497,   0.000,   0.189,20090505,       1450
33RR20090320,        I05,     167,          1,         25,         25,2,20090505,       1300,   -31.8027,   103.4499,       5261,   499.2,   9.5788,  34.7164,2,  34.7166,2,    239.1,2,   240.1,2,    3.71,2,   15.32,2,    0.00,2,    1.10,2,   3.772,2,   2.015,2,   1.3100,2,  2132.5,2,  2292.9,2,   7.8565,2,    20.00,   0.263,2,   1.845,2,  -1.353,2,   9.5804,2,-999.000,9, -999.00,9, -999.00,   7.851,2,   0.008,   45.40,2,   16.66,2, -31.8028, 103.4497,   0.000,   0.192,20090505,       1447
33RR20090320,        I05,     167,          1,         24,         24,2,20090505,       1300,   -31.8027,   103.4499,       5261,   599.8,   9.0539,  34.6487,2,  34.6488,2,    238.8,2,   240.2,2,    4.63,2,   16.92,2,    0.00,2,    1.20,2,   3.750,2,   1.990,2,   1.2100,2,  2135.3,2,  2289.8,2,   7.8436,2,    20.00,-999.000,9,-999.000,9,-999.000,9,   9.0532,2,-999.000,9, -999.00,9, -999.00,-999.000,9,-999.000,   44.58,2,   18.53,2, -31.8028, 103.4497,-999.000,-999.000,20090505,       1445
33RR20090320,        I05,     167,          1,         23,         23,2,20090505,       1300,   -31.8027,   103.4499,       5261,   700.5,   8.3083,  34.5595,2,  34.5590,2,    228.9,2,   225.6,2,    7.60,2,   20.26,2,    0.00,2,    1.42,2,   3.376,2,   1.722,2,   0.8880,2,  2145.9,2,  2288.7,2,   7.8097,2,    20.00,   0.200,2,   1.869,2,   0.090,2,   8.3003,2,-999.000,9, -999.00,9, -999.00,   8.027,2,   0.009,   43.67,2,   21.80,2, -31.8028, 103.4497,   0.000,   0.192,20090505,       1442
33RR20090320,        I05,     167,          1,         22,         22,2,20090505,       1300,   -31.8027,   103.4499,       5261,   801.2,   7.1262,  34.4740,2,  34.4736,2,    202.2,2,   201.9,2,   15.08,2,   25.10,2,    0.00,2,    1.75,2,   2.331,2,   1.163,2,   0.4710,2,  2167.8,2,  2288.4,2,   7.7516,2,    20.00,-999.000,9,   1.879,2,   1.495,2,   7.1165,2,-999.000,9, -999.00,9, -999.00,   8.052,2,   0.008,   42.77,2,   26.88,2, -31.8028, 103.4497,   0.000,   0.190,20090505,       1439
33RR20090320,        I05,     167,          1,         21,         21,2,20090505,       1300,   -31.8027,   103.4499,       5261,   900.3,   5.6760,  34.4049,2,  34.4043,2,    193.6,2,   194.6,2,   24.86,2,   28.73,2,    0.00,2,    2.01,2,   1.686,6,   0.821,6,   0.2670,6,  2188.1,2,  2294.3,2,   7.7092,2,    20.00,   0.117,2,   1.912,2,   2.913,2,   5.6941,2,-999.000,9, -999.00,9, -999.00,   8.260,2,   0.009,   41.95,2,   29.98,2, -31.8028, 103.4497,   0.000,   0.191,20090505,       1437
33RR20090320,        I05,     167,          1,         20,         20,2,20090505,       1300,   -31.8027,   103.4499,       5261,   999.7,   4.5737,  34.3874,2,  34.3882,2,    188.4,2,   189.1,2,   36.57,2,   31.25,2,    0.00,2,    2.22,2,   1.237,2,   0.586,2,   0.1560,2,  2209.1,2,  2303.3,2,   7.6785,2,    20.00,   0.043,2,-999.000,9,-999.000,9,   4.5716,2,-999.000,9, -999.00,9, -999.00,-999.000,9,-999.000,   41.39,2,   33.21,2, -31.8028, 103.4497,-999.000,-999.000,20090505,       1434
33RR20090320,        I05,     167,          1,         19,         19,2,20090505,       1300,   -31.8027,   103.4499,       5261,  1103.3,   4.0341,  34.4273,2,  34.4276,2,    175.9,2,   174.4,2,   49.87,2,   32.97,2,    0.00,2,    2.36,2,   0.745,2,   0.347,2,   0.0810,2,  2229.5,2,  2317.3,2,   7.6527,2,    20.00,   0.051,2,   1.924,2,   6.222,2,   4.0308,2,-999.000,9, -999.00,9, -999.00,   8.333,2,   0.010,   40.98,2,   34.74,2, -31.8028, 103.4498,   0.000,   0.195,20090505,       1431
33RR20090320,        I05,     167,          1,         18,         18,2,20090505,       1300,   -31.8027,   103.4499,       5261,  1201.3,   3.6801,  34.4795,2,  34.4798,2,    161.6,2,   161.1,2,   60.94,2,   34.16,2,    0.00,2,    2.47,2,   0.390,2,   0.183,2,   0.0260,2,  2246.6,2,  2329.2,2,   7.6334,2,    20.00,-999.000,9,-999.000,9,-999.000,9,   3.6806,2,-999.000,9, -999.00,9, -999.00,-999.000,9,-999.000,   40.56,2,   36.13,2, -31.8029, 103.4498,-999.000,-999.000,20090505,       1429
33RR20090320,        I05,     167,          1,         17,         17,2,20090505,       1300,   -31.8027,   103.4499,       5261,  1301.4,   3.4653,  34.5217,2,  34.5211,2,    151.7,2,   154.0,2,   69.56,2,   34.63,2,    0.00,2,    2.51,2,   0.202,2,   0.098,2,   0.0000,2,  2256.5,2,  2337.0,2,   7.6248,2,    20.00,   0.027,2,   1.951,2,   9.131,2,   3.4645,2,-999.000,9, -999.00,9, -999.00,   8.706,2,   0.010,   39.69,2,   36.09,2, -31.8029, 103.4499,   0.000,   0.193,20090505,       1426
33RR20090320,        I05,     167,          1,         16,         16,2,20090505,       1300,   -31.8027,   103.4499,       5261,  1401.5,   3.2862,  34.5516,2,  34.5513,2,    151.5,2,   151.8,2,   74.75,2,   34.85,2,    0.00,2,    2.52,2,   0.127,2,   0.062,2,   0.0090,2,  2261.6,2,  2342.2,2,   7.6227,2,    20.00,   0.001,2,   1.957,2,   9.285,2,   3.2859,2,-999.000,9, -999.00,9, -999.00,   8.715,2,   0.012,   39.06,2,   36.51,2, -31.8029, 103.4499,   0.000,   0.204,20090505,       1424
33RR20090320,        I05,     167,          1,         15,         15,2,20090505,       1300,   -31.8027,   103.4499,       5261,  1598.0,   2.9771,  34.6193,2,  34.6185,2,    150.6,2,   150.4,2,   84.57,2,   34.63,2,    0.00,2,    2.51,2,   0.036,2,   0.019,2,   0.0000,2,  2272.0,6,  2353.3,2,   7.6251,2,    20.00,   0.001,2,   1.962,2,  10.572,2,   2.9790,2,-999.000,9, -999.00,9, -999.00,   8.738,2,   0.010,   39.24,2,   36.54,2, -31.8029, 103.4499,   0.000,   0.193,20090505,       1419
33RR20090320,        I05,     167,          1,         14,         14,2,20090505,       1300,   -31.8027,   103.4499,       5261,  1800.6,   2.7264,  34.6665,2,  34.6659,2,    154.7,2,   154.3,2,   91.72,2,   34.10,2,    0.00,2,    2.47,2,   0.017,2,   0.010,2,   0.0000,2,  2274.9,2,  2360.9,2,   7.6349,2,    20.00,   0.001,2,   1.981,2,  11.736,2,   2.7271,2,-999.000,9, -999.00,9, -999.00,   8.825,2,   0.011,   38.81,2,   35.35,2, -31.8029, 103.4499,   0.000,   0.195,20090505,       1415
33RR20090320,        I05,     167,          1,         13,         13,2,20090505,       1300,   -31.8027,   103.4499,       5261,  1999.6,   2.4859,  34.6989,2,  34.6988,2,    160.1,2,   159.9,2,   97.53,2,   33.61,2,    0.00,2,    2.42,2,   0.010,2,   0.005,2,   0.0000,2,  2276.9,2,  2366.4,2,   7.6453,2,    20.00,   0.001,2,   1.942,2,  12.568,2,   2.4854,2,-999.000,9, -999.00,9, -999.00,   8.358,2,   0.010,   38.83,2,   34.99,2, -31.8029, 103.4498,   0.001,   0.204,20090505,       1411
33RR20090320,        I05,     167,          1,         12,         12,2,20090505,       1300,   -31.8027,   103.4499,       5261,  2247.1,   2.2420,  34.7192,2,  34.7186,2,    167.8,2,   166.5,2,  102.19,2,   33.13,2,    0.00,2,    2.38,2,   0.006,2,   0.003,2,   0.0000,2,  2276.2,2,  2371.3,2,   7.6560,2,    20.00,-999.000,9,-999.000,9,-999.000,9,   2.2414,2,-999.000,9, -999.00,9, -999.00,-999.000,9,-999.000,   39.25,2,   35.11,2, -31.8029, 103.4498,-999.000,-999.000,20090505,       1405
33RR20090320,        I05,     167,          1,         11,         11,2,20090505,       1300,   -31.8027,   103.4499,       5261,  2499.9,   2.0271,  34.7312,2,  34.7309,2,    176.9,2,   178.0,2,  101.42,2,   32.27,2,    0.00,2,    2.30,2,   0.008,2,   0.006,2,   0.0000,2,  2268.5,2,  2368.4,2,   7.6693,2,    20.00,   0.001,2,-999.000,9,-999.000,9,   2.0274,2,-999.000,9, -999.00,9, -999.00,-999.000,9,-999.000,   39.81,2,   34.07,2, -31.8029, 103.4498,-999.000,-999.000,20090505,       1400
33RR20090320,        I05,     167,          1,         10,         10,2,20090505,       1300,   -31.8027,   103.4499,       5261,  2747.6,   1.8241,  34.7339,2,  34.7333,2,    185.0,2,   183.7,2,  104.93,2,   31.89,2,    0.00,2,    2.29,2,   0.009,2,   0.005,2,   0.0000,2,  2267.8,2,  2371.3,2,   7.6755,2,    20.00,   0.001,2,   1.986,2,  12.414,2,   1.8237,2,-999.000,9, -999.00,9, -999.00,   8.784,2,   0.011,   39.62,2,   33.44,2, -31.8028, 103.4498,   0.001,   0.209,20090505,       1354
33RR20090320,        I05,     167,          1,          9,          9,2,20090505,       1300,   -31.8027,   103.4499,       5261,  2999.3,   1.6500,  34.7353,2,  34.7349,2,    190.1,2,   190.6,2,  106.30,2,   31.67,2,    0.00,2,    2.26,2,   0.011,6,   0.007,6,   0.0000,6,  2263.3,2,  2368.1,2,   7.6810,2,    20.00,   0.001,2,   1.979,2,  11.979,2,   1.6502,2,-999.000,9, -999.00,9, -999.00,   8.719,2,   0.014,   39.58,2,   33.29,2, -31.8028, 103.4498,   0.001,   0.201,20090505,       1349
33RR20090320,        I05,     167,          1,          8,          8,2,20090505,       1300,   -31.8027,   103.4499,       5261,  3298.1,   1.4300,  34.7306,2,  34.7303,2,    196.1,2,   196.7,2,  110.00,2,   31.62,2,    0.00,2,    2.25,2,   0.012,2,   0.007,2,   0.0000,2,  2262.4,2,  2368.8,2,   7.6828,2,    20.00,   0.001,2,   1.960,2,  11.470,2,   1.4304,2,-999.000,9, -999.00,9, -999.00,   8.755,2,   0.011,   39.37,2,   33.36,2, -31.8028, 103.4499,   0.001,   0.206,20090505,       1342
33RR20090320,        I05,     167,          1,          7,          7,2,20090505,       1300,   -31.8027,   103.4499,       5261,  3597.8,   1.2666,  34.7237,2,  34.7237,2,    198.8,2,   198.2,2,  115.86,2,   31.94,2,    0.00,2,    2.28,2,   0.012,2,   0.007,2,   0.0000,2,  2267.1,2,  2372.7,2,   7.6845,2,    20.00,   0.001,2,   1.966,2,  11.117,2,   1.2670,2,-999.000,9, -999.00,9, -999.00,   8.755,2,   0.011,   39.13,2,   33.64,2, -31.8028, 103.4499,   0.001,   0.203,20090505,       1336
33RR20090320,        I05,     167,          1,          6,          6,2,20090505,       1300,   -31.8027,   103.4499,       5261,  3899.9,   1.1277,  34.7183,2,  34.7180,2,    202.7,2,   203.4,2,  117.24,2,   31.89,2,    0.00,2,    2.27,2,   0.026,2,   0.014,2,   0.0000,2,  2264.6,2,  2370.6,2,   7.6848,2,    20.00,-999.000,9,-999.000,9,-999.000,9,   1.1289,2,-999.000,9, -999.00,9, -999.00,-999.000,9,-999.000,   38.98,2,   33.72,2, -31.8028, 103.4499,-999.000,-999.000,20090505,       1330
33RR20090320,        I05,     167,          1,          5,          5,2,20090505,       1300,   -31.8027,   103.4499,       5261,  4200.7,   1.0306,  34.7131,2,  34.7129,2,    204.9,2,   205.7,2,  119.60,2,   31.89,2,    0.00,2,    2.27,2,   0.039,2,   0.021,2,   0.0000,2,  2265.3,2,  2371.1,2,   7.6846,2,    20.00,-999.000,9,   1.934,2,  10.610,2,   1.0313,2,-999.000,9, -999.00,9, -999.00,   8.187,2,   0.009,   39.15,2,   32.99,2, -31.8028, 103.4499,   0.001,   0.214,20090505,       1323
33RR20090320,        I05,     167,          1,          4,          4,2,20090505,       1300,   -31.8027,   103.4499,       5261,  4543.4,   1.0061,  34.7102,2,  34.7099,2,    206.7,2,   206.8,2,  121.77,2,   32.05,2,    0.00,2,    2.28,2,   0.041,2,   0.023,2,   0.0000,2,  2266.4,2,  2372.0,2,   7.6850,2,    20.00,-999.000,9,-999.000,9,-999.000,9,   1.0061,2,-999.000,9, -999.00,9, -999.00,-999.000,9,-999.000,   39.40,2,   33.50,2, -31.8028, 103.4499,-999.000,-999.000,20090505,       1316
33RR20090320,        I05,     167,          1,          3,          3,2,20090505,       1300,   -31.8027,   103.4499,       5261,  4901.2,   1.0147,  34.7087,2,  34.7083,2,    206.5,2,   207.3,2,  122.57,2,   32.16,2,    0.00,2,    2.28,2,   0.048,6,   0.027,6,   0.0000,6,  2265.9,2,  2370.9,2,   7.6841,2,    20.00,   0.001,2,   1.998,2,   9.871,2,   1.0143,2,-999.000,9, -999.00,9, -999.00,   8.913,2,   0.012,   39.46,2,   33.58,2, -31.8027, 103.4499,   0.001,   0.203,20090505,       1309
33RR20090320,        I05,     167,          1,          2,          2,2,20090505,       1300,   -31.8027,   103.4499,       5261,  5208.9,   1.0309,  34.7074,2,  34.7074,2,    207.4,2,   207.3,2,  122.97,2,   32.16,2,    0.00,2,    2.29,2,   0.051,2,   0.029,2,   0.0000,2,  2267.3,2,  2371.4,2,   7.6835,2,    20.00,-999.000,9,   2.014,2,   9.732,2,   1.0307,2,-999.000,9, -999.00,9, -999.00,   8.943,2,   0.013,   39.41,2,   33.23,2, -31.8027, 103.4499,   0.001,   0.202,20090505,       1303
33RR20090320,        I05,     167,          1,          1,          1,2,20090505,       1300,   -31.8027,   103.4499,       5261,  5349.3,   1.0414,  34.7071,2,  34.7071,2,    206.8,2,   207.1,2,  123.57,2,   32.21,2,    0.00,2,    2.29,2,   0.059,2,   0.030,2,   0.0000,2,  2268.1,6,  2372.1,2,   7.6830,2,    20.00,   0.001,2,-999.000,9,-999.000,9,   1.0417,2,-999.000,9, -999.00,9, -999.00,-999.000,9,-999.000,   39.62,2,   33.54,2, -31.8027, 103.4499,-999.000,-999.000,20090505,       1300