BOTTLE,20220814CCHSIOAMB
EXPOCODE,SECT_ID,STNNBR,CASTNO,SAMPNO,BTLNBR,BTLNBR_FLAG_W,DATE,TIME,LATITUDE,LONGITUDE,DEPTH,CTDPRS,CTDTMP,CTDSAL,CTDSAL_FLAG_W,SALNTY,SALNTY_FLAG_W,CTDOXY,CTDOXY_FLAG_W,OXYGEN,OXYGEN_FLAG_W,SILCAT,SILCAT_FLAG_W,NITRAT,NITRAT_FLAG_W,NITRIT,NITRIT_FLAG_W,PHSPHT,PHSPHT_FLAG_W,CFC-11,CFC-11_FLAG_W,CFC-12,CFC-12_FLAG_W,SF6,SF6_FLAG_W,TCARBN,TCARBN_FLAG_W,ALKALI,ALKALI_FLAG_W,PH_TOT,PH_TOT_FLAG_W,PH_TMP,TRITUM,TRITUM_FLAG_W,HELIUM,HELIUM_FLAG_W,DELHE3,DELHE3_FLAG_W,REFTMP,REFTMP_FLAG_W,DELC13,DELC13_FLAG_W,DELC14,DELC14_FLAG_W,C14ERR,NEON,NEON_FLAG_W,NEONER,DOC,DOC_FLAG_W,TDN,TDN_FLAG_W,BTL_LAT,BTL_LON,HELIER,DELHER,BTL_DATE,BTL_TIME
,,,,,,,,,,,METERS,DBAR,ITS-90,PSS-78,,PSS-78,,UMOL/KG,,UMOL/KG,,UMOL/KG,,UMOL/KG,,UMOL/KG,,UMOL/KG,,PMOL/KG,,PMOL/KG,,FMOL/KG,,UMOL/KG,,UMOL/KG,,,,DEG C,TU,,NMOL/KG,,PERCNT,,DEG C,,/MILLE,,/MILLE,,/MILLE,NMOL/KG,,NMOL/KG,UMOL/KG,,UMOL/KG,,,,NMOL/KG,PERCNT,,
33RR20090320,        I05,      63,          1,         36,         36,2,20090407,       1825,   -33.9970,    55.7513,       4375,     3.3,  20.0919,  35.4775,2,  35.4714,2,    227.9,2,   229.8,2,    1.24,2,    0.13,2,    0.00,2,    0.16,2,   2.188,2,   1.333,2,   1.2040,2,  2054.2,6,  2329.9,2,   8.0756,2,    20.00,-999.000,9,-999.000,9,-999.000,9,  20.0900,2,   1.246,6,   56.19,6,     2.6,-999.000,9,-999.000,   64.17,2,    4.40,2, -33.9968,  55.7512,-999.000,-999.000,20090407,       2033
33RR20090320,        I05,      63,          1,         35,         35,2,20090407,       1825,   -33.9970,    55.7513,       4375,    35.9,  20.1061,  35.4893,2,  35.4884,2,    230.8,2,   230.0,2,    1.23,2,    0.13,2,    0.00,2,    0.15,2,   2.180,2,   1.332,2,   1.2250,2,  2055.0,2,  2329.9,2,   8.0757,2,    20.00,-999.000,9,-999.000,9,-999.000,9,  20.1058,2,-999.000,9, -999.00,9, -999.00,-999.000,9,-999.000,   62.49,2,    4.11,2, -33.9968,  55.7512,-999.000,-999.000,20090407,       2031
33RR20090320,        I05,      63,          1,         34,         34,2,20090407,       1825,   -33.9970,    55.7513,       4375,    60.4,  18.4540,  35.4733,2,  35.4730,2,    242.3,2,   241.8,2,    1.41,2,    0.13,2,    0.00,2,    0.16,2,   2.348,2,   1.433,2,   1.2480,2,  2055.7,2,  2329.9,2,   8.0732,2,    20.00,-999.000,9,-999.000,9,-999.000,9,  18.5645,2,-999.000,9, -999.00,9, -999.00,-999.000,9,-999.000,   61.31,2,    4.04,2, -33.9968,  55.7512,-999.000,-999.000,20090407,       2029
33RR20090320,        I05,      63,          1,         33,         33,2,20090407,       1825,   -33.9970,    55.7513,       4375,    85.7,  15.5586,  35.4250,2,  35.4233,2,    236.7,2,   237.2,2,    2.17,2,    2.61,2,    0.05,2,    0.33,2,-999.000,9,-999.000,9,-999.0000,9,  2079.5,2,  2326.0,2,   8.0209,2,    20.00,-999.000,9,-999.000,9,-999.000,9,  15.6025,2,    1.06,6,   60.63,6,    8.48,-999.000,9,-999.000,   56.92,2,    7.70,2, -33.9968,  55.7513,-999.000,-999.000,20090407,       2028
33RR20090320,        I05,      63,          1,         32,         32,2,20090407,       1825,   -33.9970,    55.7513,       4375,   110.8,  14.9577,  35.4098,2,  35.4091,2,    229.8,2,   228.4,2,    2.92,2,    4.90,2,    0.01,2,    0.46,2,   2.646,2,   1.618,2,   1.3700,2,  2091.5,2,  2325.2,2,   7.9958,2,    20.00,-999.000,9,-999.000,9,-999.000,9,  14.9600,2,-999.000,9, -999.00,9, -999.00,-999.000,9,-999.000,   55.61,2,    8.66,2, -33.9969,  55.7512,-999.000,-999.000,20090407,       2026
33RR20090320,        I05,      63,          1,         31,         31,2,20090407,       1825,   -33.9970,    55.7513,       4375,   135.8,  14.5586,  35.3919,2,  35.3909,2,    226.6,2,   226.3,2,    3.10,2,    6.04,2,    0.00,2,    0.53,2,-999.000,9,-999.000,9,-999.0000,9,  2097.1,2,  2322.8,2,   7.9822,2,    20.00,-999.000,9,-999.000,9,-999.000,9,  14.5499,2,-999.000,9, -999.00,9, -999.00,-999.000,9,-999.000,   53.07,2,    9.51,2, -33.9969,  55.7512,-999.000,-999.000,20090407,       2024
33RR20090320,        I05,      63,          1,         30,         30,2,20090407,       1825,   -33.9970,    55.7513,       4375,   165.3,  14.1199,  35.3654,2,  35.3641,2,    231.0,2,   231.5,2,    3.28,2,    6.26,2,    0.00,2,    0.54,2,   2.752,2,   1.656,2,   1.3940,2,  2098.2,2,  2323.0,2,   7.9783,2,    20.00,-999.000,9,-999.000,9,-999.000,9,  14.1254,2,   0.926,6,   56.29,6,       4,-999.000,9,-999.000,   52.56,2,   10.05,2, -33.9969,  55.7512,-999.000,-999.000,20090407,       2023
33RR20090320,        I05,      63,          1,         29,         29,2,20090407,       1825,   -33.9970,    55.7513,       4375,   216.2,  13.8006,  35.3442,2,  35.3430,2,    235.9,2,   235.5,2,    3.27,2,    6.64,2,    0.00,2,    0.57,2,   2.788,2,   1.689,2,   1.4150,2,  2099.1,2,  2321.1,2,   7.9746,2,    20.00,-999.000,9,-999.000,9,-999.000,9,  13.8062,2,-999.000,9, -999.00,9, -999.00,-999.000,9,-999.000,   50.65,2,    9.85,2, -33.9969,  55.7511,-999.000,-999.000,20090407,       2020
33RR20090320,        I05,      63,          1,         28,         28,2,20090407,       1825,   -33.9970,    55.7513,       4375,   265.2,  13.5713,  35.3284,2,  35.3276,2,    236.0,2,   237.2,2,    3.45,2,    7.07,2,    0.00,2,    0.59,2,   2.806,2,   1.701,2,   1.3640,2,  2101.4,2,  2321.0,2,   7.9701,2,    20.00,-999.000,9,-999.000,9,-999.000,9,  13.5709,2,   0.953,6,   50.54,6,     2.2,-999.000,9,-999.000,   49.79,2,   10.93,2, -33.9969,  55.7511,-999.000,-999.000,20090407,       2018
33RR20090320,        I05,      63,          1,         27,         27,2,20090407,       1825,   -33.9970,    55.7513,       4375,   315.3,  13.3737,  35.2991,2,  35.2980,2,    232.1,2,   235.4,2,    3.43,2,    7.65,2,    0.00,2,    0.62,2,-999.000,9,-999.000,9,-999.0000,9,  2103.5,2,  2319.9,2,   7.9621,2,    20.00,-999.000,9,-999.000,9,-999.000,9,  13.3737,2,-999.000,9, -999.00,9, -999.00,-999.000,9,-999.000,   48.98,2,   10.98,2, -33.9969,  55.7512,-999.000,-999.000,20090407,       2015
33RR20090320,        I05,      63,          1,         26,         26,2,20090407,       1825,   -33.9970,    55.7513,       4375,   365.8,  12.9411,  35.2263,2,  35.2241,2,    231.0,2,   229.5,2,    3.81,2,    9.32,2,    0.00,2,    0.73,2,   2.909,2,   1.734,2,   1.2400,2,  2111.0,2,  2317.1,2,   7.9414,2,    20.00,-999.000,9,-999.000,9,-999.000,9,  12.9406,2,-999.000,9, -999.00,9, -999.00,-999.000,9,-999.000,   48.08,2,   12.14,2, -33.9969,  55.7512,-999.000,-999.000,20090407,       2012
33RR20090320,        I05,      63,          1,         25,         25,2,20090407,       1825,   -33.9970,    55.7513,       4375,   415.2,  12.6969,  35.1887,2,  35.1879,2,    229.3,2,   230.4,2,    3.79,2,    9.75,2,    0.00,2,    0.75,2,   2.942,6,   1.745,6,   1.2320,6,  2111.1,2,  2313.4,2,   7.9362,2,    20.00,-999.000,9,-999.000,9,-999.000,9,  12.6958,2,-999.000,9, -999.00,9, -999.00,-999.000,9,-999.000,   47.36,2,   11.79,2, -33.9969,  55.7512,-999.000,-999.000,20090407,       2010
33RR20090320,        I05,      63,          1,         24,         24,2,20090407,       1825,   -33.9970,    55.7513,       4375,   463.7,  12.2911,  35.1209,2,  35.1209,2,    228.4,2,   229.7,2,    3.96,2,   10.67,2,    0.00,2,    0.81,2,-999.000,9,-999.000,9,-999.0000,9,  2114.8,2,  2310.8,2,   7.9251,2,    20.00,-999.000,9,-999.000,9,-999.000,9,  12.2788,2,    1.04,6,   46.33,6,     3.2,-999.000,9,-999.000,   46.63,2,   12.42,2, -33.9969,  55.7512,-999.000,-999.000,20090407,       2007
33RR20090320,        I05,      63,          1,         23,         23,2,20090407,       1825,   -33.9970,    55.7513,       4375,   533.9,  11.7641,  35.0370,2,  35.0354,2,    227.8,2,   224.9,2,    4.53,2,   12.28,2,    0.00,2,    0.92,2,   3.023,2,   1.742,2,   1.1480,2,  2119.9,2,  2306.0,2,   7.9062,2,    20.00,-999.000,9,-999.000,9,-999.000,9,  11.7635,2,-999.000,9, -999.00,9, -999.00,-999.000,9,-999.000,   45.69,2,   14.43,2, -33.9969,  55.7512,-999.000,-999.000,20090407,       2004
33RR20090320,        I05,      63,          1,         22,         22,2,20090407,       1825,   -33.9970,    55.7513,       4375,   633.5,  10.7694,  34.8920,2,  34.8934,2,    220.8,2,   220.0,2,    5.68,2,   14.76,2,    0.00,2,    1.08,2,   3.028,2,   1.699,2,   0.8670,2,  2128.5,2,  2301.6,2,   7.8761,2,    20.00,-999.000,9,-999.000,9,-999.000,9,  10.7682,2,-999.000,9, -999.00,9, -999.00,-999.000,9,-999.000,   44.94,2,   16.42,2, -33.9969,  55.7512,-999.000,-999.000,20090407,       2001
33RR20090320,        I05,      63,          1,         21,         21,2,20090407,       1825,   -33.9970,    55.7513,       4375,   734.1,   9.5823,  34.7389,2,  34.7376,2,    213.9,2,   213.7,2,    8.00,2,   18.10,2,    0.00,2,    1.30,2,   2.928,2,   1.591,2,   0.7610,2,  2139.2,2,  2295.2,2,   7.8375,2,    20.00,-999.000,9,-999.000,9,-999.000,9,   9.5809,2,-999.000,9, -999.00,9, -999.00,-999.000,9,-999.000,   44.15,2,   19.74,2, -33.9969,  55.7512,-999.000,-999.000,20090407,       1958
33RR20090320,        I05,      63,          1,         20,         20,2,20090407,       1825,   -33.9970,    55.7513,       4375,   833.0,   8.2499,  34.6051,2,  34.6005,2,    206.7,2,   206.2,2,   12.64,2,   21.99,2,    0.00,2,    1.56,2,   2.655,2,   1.406,2,   0.5940,2,  2155.4,2,  2293.0,2,   7.7925,2,    20.00,-999.000,9,-999.000,9,-999.000,9,   8.2464,2,-999.000,9, -999.00,9, -999.00,-999.000,9,-999.000,   43.29,2,   24.14,2, -33.9969,  55.7513,-999.000,-999.000,20090407,       1955
33RR20090320,        I05,      63,          1,         19,         19,2,20090407,       1825,   -33.9970,    55.7513,       4375,   934.9,   6.6281,  34.4712,2,  34.4700,2,    204.0,2,   205.9,2,   19.24,2,   25.84,2,    0.00,2,    1.84,2,   2.445,2,   1.249,2,   0.4480,2,  2170.7,2,  2291.7,2,   7.7489,2,    20.00,-999.000,9,-999.000,9,-999.000,9,   6.6280,2,-999.000,9, -999.00,9, -999.00,-999.000,9,-999.000,   42.54,2,   27.69,2, -33.9969,  55.7513,-999.000,-999.000,20090407,       1952
33RR20090320,        I05,      63,          1,         18,         18,2,20090407,       1825,   -33.9970,    55.7513,       4375,  1035.6,   5.4122,  34.3981,2,  34.3962,2,    204.9,2,   206.0,2,   26.05,2,   28.45,2,    0.00,2,    2.02,2,   2.283,2,   1.146,2,   0.4130,2,  2183.6,2,  2294.6,2,   7.7195,2,    20.00,-999.000,9,-999.000,9,-999.000,9,   5.4087,2,   1.028,6,  -50.48,6,     6.5,-999.000,9,-999.000,   42.11,2,   29.99,2, -33.9970,  55.7514,-999.000,-999.000,20090407,       1949
33RR20090320,        I05,      63,          1,         17,         17,2,20090407,       1825,   -33.9970,    55.7513,       4375,  1135.9,   4.5610,  34.3691,2,  34.3681,2,    203.0,2,   203.9,2,   32.29,2,   30.30,2,    0.00,2,    2.16,2,   2.034,2,   1.006,2,   0.3960,2,  2195.1,2,  2298.9,2,   7.6981,2,    20.00,-999.000,9,-999.000,9,-999.000,9,   4.5691,2,-999.000,9, -999.00,9, -999.00,-999.000,9,-999.000,   41.60,2,   32.03,2, -33.9970,  55.7513,-999.000,-999.000,20090407,       1946
33RR20090320,        I05,      63,          1,         16,         16,2,20090407,       1825,   -33.9970,    55.7513,       4375,  1236.1,   4.0396,  34.3912,2,  34.3920,2,    195.3,2,   195.6,2,   40.90,2,   31.55,2,    0.00,2,    2.27,2,-999.000,9,-999.000,9,-999.0000,9,  2208.2,2,  2305.8,2,   7.6792,2,    20.00,-999.000,9,-999.000,9,-999.000,9,   4.0396,2,-999.000,9, -999.00,9, -999.00,-999.000,9,-999.000,   40.90,2,   33.23,2, -33.9970,  55.7513,-999.000,-999.000,20090407,       1942
33RR20090320,        I05,      63,          1,         15,         15,2,20090407,       1825,   -33.9970,    55.7513,       4375,  1336.7,   3.6790,  34.4309,2,  34.4302,2,    187.3,2,   187.8,2,   48.35,2,   32.54,2,    0.00,2,    2.33,2,   1.172,2,   0.561,2,   0.1250,2,  2219.7,2,  2312.5,2,   7.6653,2,    20.00,-999.000,9,-999.000,9,-999.000,9,   3.6787,2,-999.000,9, -999.00,9, -999.00,-999.000,9,-999.000,   40.68,2,   34.90,2, -33.9969,  55.7512,-999.000,-999.000,20090407,       1939
33RR20090320,        I05,      63,          1,         14,         14,2,20090407,       1825,   -33.9970,    55.7513,       4375,  1437.0,   3.3917,  34.4817,2,  34.4820,2,    181.8,2,   182.0,2,   55.63,2,   32.86,2,    0.00,2,    2.36,2,   0.849,2,   0.398,2,   0.1090,2,  2228.5,2,  2319.8,2,   7.6582,2,    20.00,-999.000,9,-999.000,9,-999.000,9,   3.3912,2,-999.000,9, -999.00,9, -999.00,-999.000,9,-999.000,   40.31,2,   34.86,2, -33.9969,  55.7511,-999.000,-999.000,20090407,       1935
33RR20090320,        I05,      63,          1,         13,         13,2,20090407,       1825,   -33.9970,    55.7513,       4375,  1532.4,   3.1866,  34.5206,2,  34.5197,2,    178.8,2,   179.5,2,   60.36,2,   32.97,2,    0.00,2,    2.36,2,   0.646,2,   0.300,2,   0.0590,2,  2234.9,2,  2326.6,2,   7.6550,2,    20.00,-999.000,9,-999.000,9,-999.000,9,   3.1880,2,-999.000,9, -999.00,9, -999.00,-999.000,9,-999.000,   40.40,2,   35.16,2, -33.9968,  55.7512,-999.000,-999.000,20090407,       1932
33RR20090320,        I05,      63,          1,         12,         12,2,20090407,       1825,   -33.9970,    55.7513,       4375,  1664.0,   2.9647,  34.5658,2,  34.5658,2,    177.7,2,   177.7,2,   65.88,2,   32.92,2,    0.00,2,    2.36,2,   0.429,2,   0.200,2,   0.0350,2,  2240.8,6,  2330.5,2,   7.6551,2,    20.00,-999.000,9,-999.000,9,-999.000,9,   2.9638,2,-999.000,9, -999.00,9, -999.00,-999.000,9,-999.000,   40.10,2,   34.95,2, -33.9969,  55.7514,-999.000,-999.000,20090407,       1928
33RR20090320,        I05,      63,          1,         11,         11,2,20090407,       1825,   -33.9970,    55.7513,       4375,  1865.3,   2.6484,  34.6416,2,  34.6407,2,    180.9,2,   180.7,2,   72.60,2,   32.09,2,    0.00,2,    2.31,2,   0.234,2,   0.106,2,   0.0000,2,  2244.9,2,  2338.8,2,   7.6646,2,    20.00,-999.000,9,-999.000,9,-999.000,9,   2.6484,2,   0.616,6, -139.54,6,       4,-999.000,9,-999.000,   40.02,2,   34.35,2, -33.9969,  55.7514,-999.000,-999.000,20090407,       1924
33RR20090320,        I05,      63,          1,         10,         10,2,20090407,       1825,   -33.9970,    55.7513,       4375,  2081.9,   2.3935,  34.6923,2,  34.6916,2,    185.4,2,   185.8,2,   79.14,2,   31.38,2,    0.00,2,    2.26,2,   0.131,2,   0.061,2,   0.0000,2,  2248.2,2,  2344.9,2,   7.6763,2,    20.00,-999.000,9,-999.000,9,-999.000,9,   2.3932,2,-999.000,9, -999.00,9, -999.00,-999.000,9,-999.000,   39.90,2,   33.53,2, -33.9969,  55.7511,-999.000,-999.000,20090407,       1919
33RR20090320,        I05,      63,          1,          9,          9,2,20090407,       1825,   -33.9970,    55.7513,       4375,  2332.8,   2.2082,  34.7201,2,  34.7199,2,    189.1,2,   189.3,2,   84.29,2,   30.94,2,    0.00,2,    2.22,2,   0.082,2,   0.039,2,   0.0000,2,  2250.7,2,  2351.9,2,   7.6840,2,    20.00,-999.000,9,-999.000,9,-999.000,9,   2.2086,2,-999.000,9, -999.00,9, -999.00,-999.000,9,-999.000,   40.44,2,   33.86,2, -33.9969,  55.7511,-999.000,-999.000,20090407,       1914
33RR20090320,        I05,      63,          1,          8,          8,2,20090407,       1825,   -33.9970,    55.7513,       4375,  2581.8,   1.9577,  34.7346,2,  34.7340,2,    193.2,2,   193.2,2,   91.65,2,   30.94,2,    0.00,2,    2.22,2,   0.060,2,   0.026,2,   0.0000,2,  2253.6,2,  2356.4,2,   7.6896,2,    20.00,-999.000,9,-999.000,9,-999.000,9,   1.9572,2,-999.000,9, -999.00,9, -999.00,-999.000,9,-999.000,   40.52,2,   32.61,2, -33.9969,  55.7512,-999.000,-999.000,20090407,       1908
33RR20090320,        I05,      63,          1,          7,          7,2,20090407,       1825,   -33.9970,    55.7513,       4375,  2835.2,   1.7012,  34.7369,2,  34.7371,2,    195.3,2,   195.3,2,  100.43,2,   31.16,2,    0.00,2,    2.24,2,   0.047,2,   0.025,2,   0.0000,2,  2257.3,2,  2361.7,2,   7.6896,2,    20.00,-999.000,9,-999.000,9,-999.000,9,   1.7006,2,-999.000,9, -999.00,9, -999.00,-999.000,9,-999.000,   40.57,2,   33.83,2, -33.9969,  55.7512,-999.000,-999.000,20090407,       1902
33RR20090320,        I05,      63,          1,          6,          6,2,20090407,       1825,   -33.9970,    55.7513,       4375,  3097.8,   1.4460,  34.7315,2,  34.7314,2,    201.7,2,   202.0,2,  104.01,2,   31.16,2,    0.00,2,    2.23,2,   0.083,2,   0.037,2,   0.0230,2,  2254.5,2,  2360.2,2,   7.6900,2,    20.00,-999.000,9,-999.000,9,-999.000,9,   1.4453,2,-999.000,9, -999.00,9, -999.00,-999.000,9,-999.000,   40.96,2,   33.25,2, -33.9968,  55.7510,-999.000,-999.000,20090407,       1856
33RR20090320,        I05,      63,          1,          5,          5,2,20090407,       1825,   -33.9970,    55.7513,       4375,  3402.7,   1.3183,  34.7261,2,  34.7261,2,    204.0,2,   205.1,2,  107.60,2,   31.32,2,    0.00,2,    2.24,2,   0.094,2,   0.044,2,   0.0000,2,  2254.5,2,  2361.4,2,   7.6890,2,    20.00,-999.000,9,-999.000,9,-999.000,9,   1.3186,2,-999.000,9, -999.00,9, -999.00,-999.000,9,-999.000,   40.72,2,   34.23,2, -33.9968,  55.7511,-999.000,-999.000,20090407,       1848
33RR20090320,        I05,      63,          1,          4,          4,2,20090407,       1825,   -33.9970,    55.7513,       4375,  3695.9,   1.2232,  34.7228,2,  34.7219,2,    206.0,2,   206.9,2,  110.00,2,   31.37,2,    0.00,2,    2.25,2,   0.105,2,   0.050,2,   0.0000,2,  2254.1,2,  2359.5,2,   7.6878,2,    20.00,-999.000,9,-999.000,9,-999.000,9,   1.2230,2,-999.000,9, -999.00,9, -999.00,-999.000,9,-999.000,   40.00,2,   35.26,2, -33.9967,  55.7510,-999.000,-999.000,20090407,       1841
33RR20090320,        I05,      63,          1,          3,          3,2,20090407,       1825,   -33.9970,    55.7513,       4375,  4037.8,   1.2080,  34.7188,2,  34.7186,2,    206.5,2,   207.4,2,  111.39,2,   31.49,2,    0.00,2,    2.24,2,   0.107,6,   0.051,6,   0.0210,6,  2254.3,2,  2362.3,2,   7.6876,2,    20.00,-999.000,9,-999.000,9,-999.000,9,   1.2077,2,   0.567,6, -154.54,6,     5.7,-999.000,9,-999.000,   39.94,2,   34.59,2, -33.9969,  55.7512,-999.000,-999.000,20090407,       1834
33RR20090320,        I05,      63,          1,          2,          2,2,20090407,       1825,   -33.9970,    55.7513,       4375,  4292.6,   1.2214,  34.7180,2,  34.7180,2,    207.6,2,   208.1,2,  112.18,2,   31.54,2,    0.00,2,    2.26,2,   0.108,2,   0.051,2,   0.0000,2,  2254.5,2,  2361.5,2,   7.6883,2,    20.00,-999.000,9,-999.000,9,-999.000,9,   1.2213,2,-999.000,9, -999.00,9, -999.00,-999.000,9,-999.000,   40.19,2,   34.78,2, -33.9969,  55.7513,-999.000,-999.000,20090407,       1828
33RR20090320,        I05,      63,          1,          1,          1,2,20090407,       1825,   -33.9970,    55.7513,       4375,  4437.0,   1.2360,  34.7178,2,  34.7180,2,    208.8,2,   207.8,2,  112.17,2,   31.48,2,    0.00,2,    2.24,2,   0.105,2,   0.050,2,   0.0000,2,  2256.9,6,  2360.4,2,   7.6882,2,    20.00,-999.000,9,-999.000,9,-999.000,9,   1.2360,2,-999.000,9, -999.00,9, -999.00,-999.000,9,-999.000,   40.07,2,   34.88,2, -33.9970,  55.7513,-999.000,-999.000,20090407,       1825