BOTTLE,20220814CCHSIOAMB
EXPOCODE,SECT_ID,STNNBR,CASTNO,SAMPNO,BTLNBR,BTLNBR_FLAG_W,DATE,TIME,LATITUDE,LONGITUDE,DEPTH,CTDPRS,CTDTMP,CTDSAL,CTDSAL_FLAG_W,SALNTY,SALNTY_FLAG_W,CTDOXY,CTDOXY_FLAG_W,OXYGEN,OXYGEN_FLAG_W,SILCAT,SILCAT_FLAG_W,NITRAT,NITRAT_FLAG_W,NITRIT,NITRIT_FLAG_W,PHSPHT,PHSPHT_FLAG_W,CFC-11,CFC-11_FLAG_W,CFC-12,CFC-12_FLAG_W,SF6,SF6_FLAG_W,TCARBN,TCARBN_FLAG_W,ALKALI,ALKALI_FLAG_W,PH_TOT,PH_TOT_FLAG_W,PH_TMP,TRITUM,TRITUM_FLAG_W,HELIUM,HELIUM_FLAG_W,DELHE3,DELHE3_FLAG_W,REFTMP,REFTMP_FLAG_W,DELC13,DELC13_FLAG_W,DELC14,DELC14_FLAG_W,C14ERR,NEON,NEON_FLAG_W,NEONER,DOC,DOC_FLAG_W,TDN,TDN_FLAG_W,BTL_LAT,BTL_LON,HELIER,DELHER,BTL_DATE,BTL_TIME
,,,,,,,,,,,METERS,DBAR,ITS-90,PSS-78,,PSS-78,,UMOL/KG,,UMOL/KG,,UMOL/KG,,UMOL/KG,,UMOL/KG,,UMOL/KG,,PMOL/KG,,PMOL/KG,,FMOL/KG,,UMOL/KG,,UMOL/KG,,,,DEG C,TU,,NMOL/KG,,PERCNT,,DEG C,,/MILLE,,/MILLE,,/MILLE,NMOL/KG,,NMOL/KG,UMOL/KG,,UMOL/KG,,,,NMOL/KG,PERCNT,,
33RR20090320,        I05,     128,          1,         36,         36,2,20090426,       0250,   -31.4584,    86.5290,       3574,     7.4,  21.5132,  36.0603,2,  36.0614,2,    221.7,2,   221.9,2,    1.85,2,    0.12,2,    0.00,2,    0.12,2,-999.000,9,-999.000,9,-999.0000,9,  2064.9,6,  2368.2,2,   8.1072,2,    20.00,-999.000,9,-999.000,9,-999.000,9,  21.5115,2,-999.000,9, -999.00,9, -999.00,-999.000,9,-999.000, -999.00,9, -999.00,9, -31.4584,  86.5292,-999.000,-999.000,20090426,       0431
33RR20090320,        I05,     128,          1,         35,         35,2,20090426,       0250,   -31.4584,    86.5290,       3574,    31.0,  21.4967,  36.0603,2,  36.0614,2,    222.0,2,   221.5,2,    1.84,2,    0.07,2,    0.00,2,    0.11,2,-999.000,9,-999.000,9,-999.0000,9,  2065.0,2,  2368.7,2,   8.1070,2,    20.00,-999.000,9,-999.000,9,-999.000,9,  21.4962,2,-999.000,9, -999.00,9, -999.00,-999.000,9,-999.000, -999.00,9, -999.00,9, -31.4584,  86.5293,-999.000,-999.000,20090426,       0429
33RR20090320,        I05,     128,          1,         34,         34,2,20090426,       0250,   -31.4584,    86.5290,       3574,    55.7,  21.3234,  36.0668,2,  36.0590,2,    222.6,2,   225.1,2,    1.82,2,    0.07,2,    0.00,2,    0.11,2,-999.000,9,-999.000,9,-999.0000,9,  -999.0,9,  -999.0,9,-999.0000,9,  -999.00,-999.000,9,-999.000,9,-999.000,9,  21.2716,2,-999.000,9, -999.00,9, -999.00,-999.000,9,-999.000, -999.00,9, -999.00,9, -31.4584,  86.5293,-999.000,-999.000,20090426,       0427
33RR20090320,        I05,     128,          1,         33,         33,2,20090426,       0250,   -31.4584,    86.5290,       3574,    80.3,  18.3265,  35.7541,2,  35.7580,2,    250.8,2,   252.9,2,    1.46,2,    0.07,2,    0.00,2,    0.15,2,-999.000,9,-999.000,9,-999.0000,9,  2067.3,2,  2353.9,2,   8.0797,2,    20.00,-999.000,9,-999.000,9,-999.000,9,  18.2968,2,-999.000,9, -999.00,9, -999.00,-999.000,9,-999.000, -999.00,9, -999.00,9, -31.4584,  86.5293,-999.000,-999.000,20090426,       0426
33RR20090320,        I05,     128,          1,         32,         32,2,20090426,       0250,   -31.4584,    86.5290,       3574,   105.5,  16.4965,  35.6605,2,  35.6686,2,    248.3,2,   245.3,2,    1.44,2,    0.12,2,    0.01,2,    0.20,2,-999.000,9,-999.000,9,-999.0000,9,  -999.0,9,  -999.0,9,-999.0000,9,  -999.00,-999.000,9,-999.000,9,-999.000,9,  16.4929,2,-999.000,9, -999.00,9, -999.00,-999.000,9,-999.000, -999.00,9, -999.00,9, -31.4584,  86.5293,-999.000,-999.000,20090426,       0424
33RR20090320,        I05,     128,          1,         31,         31,2,20090426,       0250,   -31.4584,    86.5290,       3574,   130.7,  15.7293,  35.6315,2,  35.6182,2,    235.2,2,   228.1,2,    1.79,2,    2.01,2,    0.11,2,    0.32,2,-999.000,9,-999.000,9,-999.0000,9,  2096.8,2,  2345.7,2,   8.0131,2,    20.00,-999.000,9,-999.000,9,-999.000,9,  15.7347,2,-999.000,9, -999.00,9, -999.00,-999.000,9,-999.000, -999.00,9, -999.00,9, -31.4584,  86.5293,-999.000,-999.000,20090426,       0423
33RR20090320,        I05,     128,          1,         30,         30,2,20090426,       0250,   -31.4584,    86.5290,       3574,   155.8,  14.9222,  35.5092,2,  35.5097,2,    229.1,2,   229.9,2,    1.78,2,    3.36,2,    0.04,2,    0.40,2,-999.000,9,-999.000,9,-999.0000,9,  -999.0,9,  -999.0,9,-999.0000,9,  -999.00,-999.000,9,-999.000,9,-999.000,9,  14.9206,2,-999.000,9, -999.00,9, -999.00,-999.000,9,-999.000, -999.00,9, -999.00,9, -31.4584,  86.5292,-999.000,-999.000,20090426,       0422
33RR20090320,        I05,     128,          1,         29,         29,2,20090426,       0250,   -31.4584,    86.5290,       3574,   204.9,  13.7560,  35.3175,2,  35.3206,2,    230.7,2,   230.8,2,    2.12,2,    5.66,2,    0.01,2,    0.53,2,-999.000,9,-999.000,9,-999.0000,9,  -999.0,9,  -999.0,9,-999.0000,9,  -999.00,-999.000,9,-999.000,9,-999.000,9,  13.7549,2,-999.000,9, -999.00,9, -999.00,-999.000,9,-999.000, -999.00,9, -999.00,9, -31.4584,  86.5292,-999.000,-999.000,20090426,       0420
33RR20090320,        I05,     128,          1,         28,         28,2,20090426,       0250,   -31.4584,    86.5290,       3574,   254.9,  12.9525,  35.2096,2,  35.2060,2,    231.1,2,   231.2,2,    2.64,2,    7.61,2,    0.00,2,    0.63,2,-999.000,9,-999.000,9,-999.0000,9,  -999.0,9,  -999.0,9,-999.0000,9,  -999.00,-999.000,9,-999.000,9,-999.000,9,  12.9522,2,-999.000,9, -999.00,9, -999.00,-999.000,9,-999.000, -999.00,9, -999.00,9, -31.4583,  86.5292,-999.000,-999.000,20090426,       0418
33RR20090320,        I05,     128,          1,         27,         27,2,20090426,       0250,   -31.4584,    86.5290,       3574,   305.4,  12.3439,  35.1310,2,  35.1315,2,    233.2,2,   233.8,2,    2.80,2,    8.84,2,    0.00,2,    0.70,2,-999.000,9,-999.000,9,-999.0000,9,  2113.2,2,  2317.3,2,   7.9297,2,    20.00,-999.000,9,-999.000,9,-999.000,9,  12.3428,2,-999.000,9, -999.00,9, -999.00,-999.000,9,-999.000, -999.00,9, -999.00,9, -31.4583,  86.5292,-999.000,-999.000,20090426,       0417
33RR20090320,        I05,     128,          1,         26,         26,2,20090426,       0250,   -31.4584,    86.5290,       3574,   356.0,  11.7526,  35.0460,2,  35.0476,2,    236.0,2,   236.4,2,    3.14,2,   10.11,2,    0.00,2,    0.78,2,-999.000,9,-999.000,9,-999.0000,9,  -999.0,9,  -999.0,9,-999.0000,9,  -999.00,-999.000,9,-999.000,9,-999.000,9,  11.7522,2,-999.000,9, -999.00,9, -999.00,-999.000,9,-999.000, -999.00,9, -999.00,9, -31.4583,  86.5292,-999.000,-999.000,20090426,       0415
33RR20090320,        I05,     128,          1,         25,         25,2,20090426,       0250,   -31.4584,    86.5290,       3574,   405.9,  11.1952,  34.9611,2,  34.9620,2,    236.8,2,   238.5,2,    3.67,2,   11.43,2,    0.00,2,    0.86,2,-999.000,9,-999.000,9,-999.0000,9,  -999.0,9,  -999.0,9,-999.0000,9,  -999.00,-999.000,9,-999.000,9,-999.000,9,  11.1947,2,-999.000,9, -999.00,9, -999.00,-999.000,9,-999.000, -999.00,9, -999.00,9, -31.4583,  86.5291,-999.000,-999.000,20090426,       0413
33RR20090320,        I05,     128,          1,         24,         24,2,20090426,       0250,   -31.4584,    86.5290,       3574,   455.3,  10.8013,  34.9053,2,  34.9050,2,    237.3,2,   238.1,2,    4.01,2,   12.44,2,    0.00,2,    0.93,2,-999.000,9,-999.000,9,-999.0000,9,  -999.0,9,  -999.0,9,-999.0000,9,  -999.00,-999.000,9,-999.000,9,-999.000,9,  10.8000,2,-999.000,9, -999.00,9, -999.00,-999.000,9,-999.000, -999.00,9, -999.00,9, -31.4583,  86.5292,-999.000,-999.000,20090426,       0411
33RR20090320,        I05,     128,          1,         23,         23,2,20090426,       0250,   -31.4584,    86.5290,       3574,   504.6,  10.3930,  34.8442,2,  34.8440,2,    236.4,2,   237.7,2,    4.36,2,   13.61,2,    0.00,2,    1.00,2,-999.000,9,-999.000,9,-999.0000,9,  2121.8,2,  2302.3,2,   7.8834,2,    20.00,-999.000,9,-999.000,9,-999.000,9,  10.3939,2,-999.000,9, -999.00,9, -999.00,-999.000,9,-999.000, -999.00,9, -999.00,9, -31.4583,  86.5292,-999.000,-999.000,20090426,       0409
33RR20090320,        I05,     128,          1,         22,         22,2,20090426,       0250,   -31.4584,    86.5290,       3574,   604.7,   9.6917,  34.7404,2,  34.7416,2,    235.8,2,   236.1,2,    5.06,2,   15.73,2,    0.00,2,    1.12,2,-999.000,9,-999.000,9,-999.0000,9,  -999.0,9,  -999.0,9,-999.0000,9,  -999.00,-999.000,9,-999.000,9,-999.000,9,   9.6918,2,-999.000,9, -999.00,9, -999.00,-999.000,9,-999.000, -999.00,9, -999.00,9, -31.4583,  86.5292,-999.000,-999.000,20090426,       0406
33RR20090320,        I05,     128,          1,         21,         21,2,20090426,       0250,   -31.4584,    86.5290,       3574,   704.8,   8.8825,  34.6357,2,  34.6370,2,    228.5,2,   224.3,2,    7.55,2,   18.98,2,    0.00,2,    1.33,2,-999.000,9,-999.000,9,-999.0000,9,  -999.0,9,  -999.0,9,-999.0000,9,  -999.00,-999.000,9,-999.000,9,-999.000,9,   8.8828,2,-999.000,9, -999.00,9, -999.00,-999.000,9,-999.000, -999.00,9, -999.00,9, -31.4584,  86.5292,-999.000,-999.000,20090426,       0403
33RR20090320,        I05,     128,          1,         20,         20,2,20090426,       0250,   -31.4584,    86.5290,       3574,   804.3,   7.6757,  34.5206,2,  34.5221,2,    210.3,2,   208.6,2,   12.90,2,   23.40,2,    0.00,2,    1.62,2,-999.000,9,-999.000,9,-999.0000,9,  -999.0,9,  -999.0,9,-999.0000,9,  -999.00,-999.000,9,-999.000,9,-999.000,9,   7.6823,2,-999.000,9, -999.00,9, -999.00,-999.000,9,-999.000, -999.00,9, -999.00,9, -31.4583,  86.5293,-999.000,-999.000,20090426,       0401
33RR20090320,        I05,     128,          1,         19,         19,2,20090426,       0250,   -31.4584,    86.5290,       3574,   905.9,   6.2353,  34.4275,2,  34.4284,2,    198.1,2,   198.7,2,   21.51,2,   27.64,2,    0.00,2,    1.91,2,-999.000,9,-999.000,9,-999.0000,9,  2175.2,2,  2295.8,2,   7.7313,2,    20.00,-999.000,9,-999.000,9,-999.000,9,   6.2277,2,-999.000,9, -999.00,9, -999.00,-999.000,9,-999.000, -999.00,9, -999.00,9, -31.4583,  86.5293,-999.000,-999.000,20090426,       0358
33RR20090320,        I05,     128,          1,         18,         18,2,20090426,       0250,   -31.4584,    86.5290,       3574,  1005.2,   5.0281,  34.3992,2,  34.3994,2,    188.8,2,   188.7,2,   34.31,2,   30.99,2,    0.00,2,    2.17,2,-999.000,9,-999.000,9,-999.0000,9,  -999.0,9,  -999.0,9,-999.0000,9,  -999.00,-999.000,9,-999.000,9,-999.000,9,   5.0259,2,-999.000,9, -999.00,9, -999.00,-999.000,9,-999.000, -999.00,9, -999.00,9, -31.4584,  86.5292,-999.000,-999.000,20090426,       0355
33RR20090320,        I05,     128,          1,         17,         17,2,20090426,       0250,   -31.4584,    86.5290,       3574,  1105.5,   4.3270,  34.4292,2,  34.4310,2,    174.7,2,   173.2,2,   49.35,2,   33.37,2,    0.00,2,    2.34,2,-999.000,9,-999.000,9,-999.0000,9,  2220.6,2,  2316.1,2,   7.6623,2,    20.00,-999.000,9,-999.000,9,-999.000,9,   4.3270,2,-999.000,9, -999.00,9, -999.00,-999.000,9,-999.000, -999.00,9, -999.00,9, -31.4583,  86.5292,-999.000,-999.000,20090426,       0353
33RR20090320,        I05,     128,          1,         16,         16,2,20090426,       0250,   -31.4584,    86.5290,       3574,  1206.5,   3.9566,  34.4654,2,  34.4663,2,    162.9,2,   164.1,2,   58.64,2,   34.31,2,    0.00,2,    2.43,2,-999.000,9,-999.000,9,-999.0000,9,  -999.0,9,  -999.0,9,-999.0000,9,  -999.00,-999.000,9,-999.000,9,-999.000,9,   3.9571,2,-999.000,9, -999.00,9, -999.00,-999.000,9,-999.000, -999.00,9, -999.00,9, -31.4583,  86.5292,-999.000,-999.000,20090426,       0350
33RR20090320,        I05,     128,          1,         15,         15,2,20090426,       0250,   -31.4584,    86.5290,       3574,  1307.1,   3.7699,  34.5183,2,  34.5188,2,    149.0,2,   150.0,2,   70.16,2,   35.40,2,    0.00,2,    2.51,2,-999.000,9,-999.000,9,-999.0000,9,  -999.0,9,  -999.0,9,-999.0000,9,  -999.00,-999.000,9,-999.000,9,-999.000,9,   3.7710,2,-999.000,9, -999.00,9, -999.00,-999.000,9,-999.000, -999.00,9, -999.00,9, -31.4583,  86.5292,-999.000,-999.000,20090426,       0347
33RR20090320,        I05,     128,          1,         14,         14,2,20090426,       0250,   -31.4584,    86.5290,       3574,  1407.5,   3.5200,  34.5584,2,  34.5582,2,    146.5,2,   145.7,2,   77.68,2,   35.74,2,    0.00,2,    2.55,2,-999.000,9,-999.000,9,-999.0000,9,  -999.0,9,  -999.0,9,-999.0000,9,  -999.00,-999.000,9,-999.000,9,-999.000,9,   3.5208,2,-999.000,9, -999.00,9, -999.00,-999.000,9,-999.000, -999.00,9, -999.00,9, -31.4583,  86.5292,-999.000,-999.000,20090426,       0345
33RR20090320,        I05,     128,          1,         13,         13,2,20090426,       0250,   -31.4584,    86.5290,       3574,  1508.3,   3.3071,  34.5852,2,  34.5851,2,    147.2,2,   147.0,2,   81.35,2,   35.70,2,    0.00,2,    2.54,2,-999.000,9,-999.000,9,-999.0000,9,  2264.2,2,  2351.5,2,   7.6275,2,    20.00,-999.000,9,-999.000,9,-999.000,9,   3.3041,2,-999.000,9, -999.00,9, -999.00,-999.000,9,-999.000, -999.00,9, -999.00,9, -31.4583,  86.5293,-999.000,-999.000,20090426,       0342
33RR20090320,        I05,     128,          1,         12,         12,2,20090426,       0250,   -31.4584,    86.5290,       3574,  1607.3,   3.1047,  34.6116,2,  34.6126,2,    149.2,2,   148.9,2,   85.04,2,   35.44,2,    0.00,2,    2.52,2,-999.000,9,-999.000,9,-999.0000,9,  -999.0,9,  -999.0,9,-999.0000,9,  -999.00,-999.000,9,-999.000,9,-999.000,9,   3.1049,2,-999.000,9, -999.00,9, -999.00,-999.000,9,-999.000, -999.00,9, -999.00,9, -31.4584,  86.5293,-999.000,-999.000,20090426,       0339
33RR20090320,        I05,     128,          1,         11,         11,2,20090426,       0250,   -31.4584,    86.5290,       3574,  1709.5,   2.9285,  34.6349,2,  34.6345,2,    152.9,2,   153.9,2,   86.50,2,   35.02,2,    0.00,2,    2.49,2,-999.000,9,-999.000,9,-999.0000,9,  -999.0,9,  -999.0,9,-999.0000,9,  -999.00,-999.000,9,-999.000,9,-999.000,9,   2.9243,2,-999.000,9, -999.00,9, -999.00,-999.000,9,-999.000, -999.00,9, -999.00,9, -31.4584,  86.5293,-999.000,-999.000,20090426,       0336
33RR20090320,        I05,     128,          1,         10,         10,2,20090426,       0250,   -31.4584,    86.5290,       3574,  1809.6,   2.7545,  34.6526,2,  34.6531,2,    158.2,2,   159.2,2,   87.23,2,   34.60,2,    0.00,2,    2.44,2,-999.000,9,-999.000,9,-999.0000,9,  -999.0,9,  -999.0,9,-999.0000,9,  -999.00,-999.000,9,-999.000,9,-999.000,9,   2.7544,2,-999.000,9, -999.00,9, -999.00,-999.000,9,-999.000, -999.00,9, -999.00,9, -31.4583,  86.5293,-999.000,-999.000,20090426,       0333
33RR20090320,        I05,     128,          1,          9,          9,2,20090426,       0250,   -31.4584,    86.5290,       3574,  2011.9,   2.4763,  34.6972,2,  34.6979,2,    164.7,2,   165.0,2,   94.80,2,   33.85,2,    0.00,2,    2.38,2,-999.000,9,-999.000,9,-999.0000,9,  2268.2,2,  2362.9,2,   7.6554,2,    20.00,-999.000,9,-999.000,9,-999.000,9,   2.4745,2,-999.000,9, -999.00,9, -999.00,-999.000,9,-999.000, -999.00,9, -999.00,9, -31.4583,  86.5293,-999.000,-999.000,20090426,       0328
33RR20090320,        I05,     128,          1,          8,          8,2,20090426,       0250,   -31.4584,    86.5290,       3574,  2214.2,   2.2307,  34.7170,2,  34.7180,2,    171.1,2,   170.8,2,  100.16,2,   33.49,2,    0.00,2,    2.35,2,-999.000,9,-999.000,9,-999.0000,9,  -999.0,9,  -999.0,9,-999.0000,9,  -999.00,-999.000,9,-999.000,9,-999.000,9,   2.2298,2,-999.000,9, -999.00,9, -999.00,-999.000,9,-999.000, -999.00,9, -999.00,9, -31.4584,  86.5292,-999.000,-999.000,20090426,       0324
33RR20090320,        I05,     128,          1,          7,          7,2,20090426,       0250,   -31.4584,    86.5290,       3574,  2414.8,   2.0360,  34.7257,2,  34.7262,2,    176.5,2,   176.8,2,  103.69,2,   33.18,2,    0.00,2,    2.32,2,-999.000,9,-999.000,9,-999.0000,9,  -999.0,9,  -999.0,9,-999.0000,9,  -999.00,-999.000,9,-999.000,9,-999.000,9,   2.0357,2,-999.000,9, -999.00,9, -999.00,-999.000,9,-999.000, -999.00,9, -999.00,9, -31.4582,  86.5292,-999.000,-999.000,20090426,       0318
33RR20090320,        I05,     128,          1,          6,          6,2,20090426,       0250,   -31.4584,    86.5290,       3574,  2616.5,   1.8813,  34.7291,2,  34.7298,2,    180.8,2,   181.3,2,  106.28,2,   32.97,2,    0.00,2,    2.31,2,-999.000,9,-999.000,9,-999.0000,9,  -999.0,9,  -999.0,9,-999.0000,9,  -999.00,-999.000,9,-999.000,9,-999.000,9,   1.8810,2,-999.000,9, -999.00,9, -999.00,-999.000,9,-999.000, -999.00,9, -999.00,9, -31.4582,  86.5292,-999.000,-999.000,20090426,       0314
33RR20090320,        I05,     128,          1,          5,          5,2,20090426,       0250,   -31.4584,    86.5290,       3574,  2818.2,   1.7391,  34.7306,2,  34.7315,2,    185.1,2,   185.1,2,  108.69,2,   32.77,2,    0.00,2,    2.30,2,-999.000,9,-999.000,9,-999.0000,9,  -999.0,9,  -999.0,9,-999.0000,9,  -999.00,-999.000,9,-999.000,9,-999.000,9,   1.7391,2,-999.000,9, -999.00,9, -999.00,-999.000,9,-999.000, -999.00,9, -999.00,9, -31.4582,  86.5291,-999.000,-999.000,20090426,       0309
33RR20090320,        I05,     128,          1,          4,          4,2,20090426,       0250,   -31.4584,    86.5290,       3574,  3021.7,   1.6337,  34.7302,2,  34.7306,2,    187.4,2,   187.8,2,  111.10,2,   32.84,2,    0.00,2,    2.30,2,-999.000,9,-999.000,9,-999.0000,9,  -999.0,9,  -999.0,9,-999.0000,9,  -999.00,-999.000,9,-999.000,9,-999.000,9,   1.6345,2,-999.000,9, -999.00,9, -999.00,-999.000,9,-999.000, -999.00,9, -999.00,9, -31.4582,  86.5291,-999.000,-999.000,20090426,       0304
33RR20090320,        I05,     128,          1,          3,          3,2,20090426,       0250,   -31.4584,    86.5290,       3574,  3325.4,   1.4980,  34.7278,2,  34.7278,2,    190.7,2,   191.0,2,  114.63,2,   32.85,2,    0.00,2,    2.30,2,-999.000,9,-999.000,9,-999.0000,9,  -999.0,9,  -999.0,9,-999.0000,9,  -999.00,-999.000,9,-999.000,9,-999.000,9,   1.4982,2,-999.000,9, -999.00,9, -999.00,-999.000,9,-999.000, -999.00,9, -999.00,9, -31.4583,  86.5290,-999.000,-999.000,20090426,       0258
33RR20090320,        I05,     128,          1,          2,          2,2,20090426,       0250,   -31.4584,    86.5290,       3574,  3467.1,   1.4566,  34.7273,2,  34.7276,2,    193.0,2,   192.8,2,  114.81,2,   32.75,2,    0.00,2,    2.29,2,-999.000,9,-999.000,9,-999.0000,9,  -999.0,9,  -999.0,9,-999.0000,9,  -999.00,-999.000,9,-999.000,9,-999.000,9,   1.4561,2,-999.000,9, -999.00,9, -999.00,-999.000,9,-999.000, -999.00,9, -999.00,9, -31.4583,  86.5290,-999.000,-999.000,20090426,       0254
33RR20090320,        I05,     128,          1,          1,          1,2,20090426,       0250,   -31.4584,    86.5290,       3574,  3615.1,   1.4453,  34.7266,2,  34.7272,2,    192.7,2,   193.0,2,  115.56,2,   32.82,2,    0.00,2,    2.29,2,-999.000,9,-999.000,9,-999.0000,9,  2270.6,6,  2380.4,2,   7.6901,2,    20.00,-999.000,9,-999.000,9,-999.000,9,   1.4455,2,-999.000,9, -999.00,9, -999.00,-999.000,9,-999.000, -999.00,9, -999.00,9, -31.4584,  86.5290,-999.000,-999.000,20090426,       0250