BOTTLE,20220814CCHSIOAMB
EXPOCODE,SECT_ID,STNNBR,CASTNO,SAMPNO,BTLNBR,BTLNBR_FLAG_W,DATE,TIME,LATITUDE,LONGITUDE,DEPTH,CTDPRS,CTDTMP,CTDSAL,CTDSAL_FLAG_W,SALNTY,SALNTY_FLAG_W,CTDOXY,CTDOXY_FLAG_W,OXYGEN,OXYGEN_FLAG_W,SILCAT,SILCAT_FLAG_W,NITRAT,NITRAT_FLAG_W,NITRIT,NITRIT_FLAG_W,PHSPHT,PHSPHT_FLAG_W,CFC-11,CFC-11_FLAG_W,CFC-12,CFC-12_FLAG_W,SF6,SF6_FLAG_W,TCARBN,TCARBN_FLAG_W,ALKALI,ALKALI_FLAG_W,PH_TOT,PH_TOT_FLAG_W,PH_TMP,TRITUM,TRITUM_FLAG_W,HELIUM,HELIUM_FLAG_W,DELHE3,DELHE3_FLAG_W,REFTMP,REFTMP_FLAG_W,DELC13,DELC13_FLAG_W,DELC14,DELC14_FLAG_W,C14ERR,NEON,NEON_FLAG_W,NEONER,DOC,DOC_FLAG_W,TDN,TDN_FLAG_W,BTL_LAT,BTL_LON,HELIER,DELHER,BTL_DATE,BTL_TIME
,,,,,,,,,,,METERS,DBAR,ITS-90,PSS-78,,PSS-78,,UMOL/KG,,UMOL/KG,,UMOL/KG,,UMOL/KG,,UMOL/KG,,UMOL/KG,,PMOL/KG,,PMOL/KG,,FMOL/KG,,UMOL/KG,,UMOL/KG,,,,DEG C,TU,,NMOL/KG,,PERCNT,,DEG C,,/MILLE,,/MILLE,,/MILLE,NMOL/KG,,NMOL/KG,UMOL/KG,,UMOL/KG,,,,NMOL/KG,PERCNT,,
33RR20090320,        I05,     111,          1,         36,         36,2,20090421,       2135,   -31.0719,    77.8636,       3275,    11.0,  21.8816,  35.8399,2,  35.8398,2,    219.7,2,   219.5,2,    1.88,2,    0.14,2,    0.00,2,    0.10,2,   1.959,2,   1.193,2,   0.9570,2,  2048.7,6,  2348.6,2,   8.1165,2,    20.00,-999.000,9,-999.000,9,-999.000,9,  21.8809,2,-999.000,9, -999.00,9, -999.00,-999.000,9,-999.000,   68.32,2,    3.74,2, -31.0721,  77.8632,-999.000,-999.000,20090421,       2313
33RR20090320,        I05,     111,          1,         35,         35,2,20090421,       2135,   -31.0719,    77.8636,       3275,    40.6,  21.5133,  35.8492,2,  35.8505,2,    223.8,2,   222.7,2,    1.68,2,    0.14,2,    0.00,2,    0.11,2,   2.015,2,   1.230,2,   1.0790,2,  2059.6,2,  2351.8,2,   8.1026,2,    20.00,-999.000,9,-999.000,9,-999.000,9,  21.5116,2,-999.000,9, -999.00,9, -999.00,-999.000,9,-999.000,   66.78,2,    3.58,2, -31.0721,  77.8632,-999.000,-999.000,20090421,       2311
33RR20090320,        I05,     111,          1,         34,         34,2,20090421,       2135,   -31.0719,    77.8636,       3275,    66.1,  20.4780,  35.8381,2,  35.8416,2,    231.8,2,   233.6,2,    1.65,2,    0.09,2,    0.00,2,    0.12,2,   2.158,2,   1.298,2,   1.1820,2,  2062.7,2,  2352.3,2,   8.0956,2,    20.00,-999.000,9,-999.000,9,-999.000,9,  20.4627,2,-999.000,9, -999.00,9, -999.00,-999.000,9,-999.000,   65.54,2,    3.49,2, -31.0721,  77.8631,-999.000,-999.000,20090421,       2309
33RR20090320,        I05,     111,          1,         33,         33,2,20090421,       2135,   -31.0719,    77.8636,       3275,    90.8,  17.1767,  35.6606,2,  35.6982,2,    252.6,2,   251.2,2,    1.44,2,    0.09,2,    0.00,2,    0.15,2,   2.556,2,   1.510,2,   1.2210,2,  2071.3,2,  2345.6,2,   8.0705,2,    20.00,-999.000,9,-999.000,9,-999.000,9,  17.1918,2,-999.000,9, -999.00,9, -999.00,-999.000,9,-999.000,   64.08,2,    4.08,2, -31.0721,  77.8631,-999.000,-999.000,20090421,       2307
33RR20090320,        I05,     111,          1,         32,         32,2,20090421,       2135,   -31.0719,    77.8636,       3275,   115.3,  16.1247,  35.5595,2,  35.5561,2,    248.1,2,   246.9,2,    1.41,2,    0.15,2,    0.00,2,    0.20,2,   2.664,2,   1.561,2,   1.3550,2,  2079.9,2,  2338.6,2,   8.0432,2,    20.00,-999.000,9,-999.000,9,-999.000,9,  16.1186,2,-999.000,9, -999.00,9, -999.00,-999.000,9,-999.000,   60.24,2,    3.13,2, -31.0721,  77.8630,-999.000,-999.000,20090421,       2306
33RR20090320,        I05,     111,          1,         31,         31,2,20090421,       2135,   -31.0719,    77.8636,       3275,   140.0,  14.6990,  35.3825,2,  35.3880,2,    239.4,2,   239.0,2,    1.74,2,    2.02,2,    0.17,2,    0.35,2,   2.794,2,   1.626,2,   1.3310,2,  2092.1,2,  2327.6,2,   8.0023,2,    20.00,-999.000,9,-999.000,9,-999.000,9,  14.6978,2,-999.000,9, -999.00,9, -999.00,-999.000,9,-999.000,   55.02,2,    5.11,2, -31.0721,  77.8630,-999.000,-999.000,20090421,       2304
33RR20090320,        I05,     111,          1,         30,         30,2,20090421,       2135,   -31.0719,    77.8636,       3275,   165.7,  13.7776,  35.2534,2,  35.2578,2,    234.9,2,   235.7,2,    1.88,2,    4.91,2,    0.01,2,    0.48,2,   2.895,2,   1.682,2,   1.3950,2,  2099.8,2,  2318.4,2,   7.9761,2,    20.00,-999.000,9,-999.000,9,-999.000,9,  13.7810,2,-999.000,9, -999.00,9, -999.00,-999.000,9,-999.000,   54.41,2,    8.18,2, -31.0721,  77.8630,-999.000,-999.000,20090421,       2303
33RR20090320,        I05,     111,          1,         29,         29,2,20090421,       2135,   -31.0719,    77.8636,       3275,   189.1,  13.4412,  35.2185,2,  35.2227,2,    234.7,2,   234.2,2,    2.38,2,    6.18,2,    0.01,2,    0.54,2,   2.965,6,   1.711,6,   1.3500,6,  2104.4,2,  2316.1,2,   7.9621,2,    20.00,-999.000,9,-999.000,9,-999.000,9,  13.4541,2,-999.000,9, -999.00,9, -999.00,-999.000,9,-999.000,   51.68,2,    8.80,2, -31.0722,  77.8629,-999.000,-999.000,20090421,       2301
33RR20090320,        I05,     111,          1,         28,         28,2,20090421,       2135,   -31.0719,    77.8636,       3275,   221.0,  12.9740,  35.1674,2,  35.1685,2,    232.7,2,   233.7,2,    2.89,2,    7.80,2,    0.00,2,    0.63,2,   3.062,2,   1.754,2,   1.3110,2,  2107.5,2,  2311.8,2,   7.9445,2,    20.00,-999.000,9,-999.000,9,-999.000,9,  12.9633,2,-999.000,9, -999.00,9, -999.00,-999.000,9,-999.000,   50.85,2,   10.20,2, -31.0722,  77.8629,-999.000,-999.000,20090421,       2300
33RR20090320,        I05,     111,          1,         27,         27,2,20090421,       2135,   -31.0719,    77.8636,       3275,   270.6,  12.2944,  35.0961,2,  35.0970,2,    233.8,2,   234.2,2,    3.39,2,    9.74,2,    0.00,2,    0.73,2,   3.169,2,   1.790,2,   1.3240,2,  2112.5,2,  2308.6,2,   7.9255,2,    20.00,-999.000,9,-999.000,9,-999.000,9,  12.2916,2,-999.000,9, -999.00,9, -999.00,-999.000,9,-999.000,   49.87,2,   12.60,2, -31.0723,  77.8629,-999.000,-999.000,20090421,       2258
33RR20090320,        I05,     111,          1,         26,         26,2,20090421,       2135,   -31.0719,    77.8636,       3275,   320.2,  11.9711,  35.0615,2,  35.0606,2,    235.9,2,   237.2,2,    3.88,2,   10.52,2,    0.00,2,    0.78,2,   3.221,2,   1.807,2,   1.2570,2,  2114.8,2,  2306.2,2,   7.9209,2,    20.00,-999.000,9,-999.000,9,-999.000,9,  11.9750,2,-999.000,9, -999.00,9, -999.00,-999.000,9,-999.000,   48.48,2,   12.76,2, -31.0723,  77.8630,-999.000,-999.000,20090421,       2256
33RR20090320,        I05,     111,          1,         25,         25,2,20090421,       2135,   -31.0719,    77.8636,       3275,   370.2,  11.6481,  35.0160,2,  35.0169,2,    237.7,2,   238.4,2,    4.04,2,   11.16,2,    0.00,2,    0.82,2,   3.250,2,   1.824,2,   1.3180,2,  2115.7,2,  2305.0,2,   7.9153,2,    20.00,-999.000,9,-999.000,9,-999.000,9,  11.6547,2,-999.000,9, -999.00,9, -999.00,-999.000,9,-999.000,   47.82,2,   13.83,2, -31.0723,  77.8630,-999.000,-999.000,20090421,       2254
33RR20090320,        I05,     111,          1,         24,         24,2,20090421,       2135,   -31.0719,    77.8636,       3275,   420.0,  11.3454,  34.9728,2,  34.9746,2,    237.0,2,   236.7,2,    4.19,2,   11.94,2,    0.00,2,    0.87,2,   3.310,2,   1.827,2,   1.2750,2,  2117.9,2,  2303.1,2,   7.9066,2,    20.00,-999.000,9,-999.000,9,-999.000,9,  11.3498,2,-999.000,9, -999.00,9, -999.00,-999.000,9,-999.000,   46.91,2,   14.69,2, -31.0723,  77.8630,-999.000,-999.000,20090421,       2252
33RR20090320,        I05,     111,          1,         23,         23,2,20090421,       2135,   -31.0719,    77.8636,       3275,   470.3,  11.1019,  34.9382,2,  34.9382,2,    239.0,2,   237.5,2,    4.16,2,   12.41,2,    0.00,2,    0.90,2,   3.355,2,   1.844,2,   1.2750,2,  2117.2,2,  2302.1,2,   7.9004,2,    20.00,-999.000,9,-999.000,9,-999.000,9,  11.1035,2,-999.000,9, -999.00,9, -999.00,-999.000,9,-999.000,   45.54,2,   14.32,2, -31.0722,  77.8630,-999.000,-999.000,20090421,       2251
33RR20090320,        I05,     111,          1,         22,         22,2,20090421,       2135,   -31.0719,    77.8636,       3275,   539.6,  10.6224,  34.8743,2,  34.8739,2,    236.2,2,   235.9,2,    4.48,2,   13.62,2,    0.00,2,    0.98,2,   3.393,2,   1.855,2,   1.1780,2,  2122.3,2,  2294.7,2,   7.8872,2,    20.00,-999.000,9,-999.000,9,-999.000,9,  10.6207,2,-999.000,9, -999.00,9, -999.00,-999.000,9,-999.000,   44.25,2,   15.56,2, -31.0722,  77.8630,-999.000,-999.000,20090421,       2248
33RR20090320,        I05,     111,          1,         21,         21,2,20090421,       2135,   -31.0719,    77.8636,       3275,   640.4,   9.9422,  34.7782,2,  34.7789,2,    235.7,2,   234.6,2,    4.98,2,   15.24,2,    0.00,2,    1.07,2,   3.442,2,   1.850,2,   1.0910,2,  2126.4,2,  2295.2,2,   7.8701,2,    20.00,-999.000,9,-999.000,9,-999.000,9,   9.9441,2,-999.000,9, -999.00,9, -999.00,-999.000,9,-999.000,   43.31,2,   16.54,2, -31.0722,  77.8631,-999.000,-999.000,20090421,       2246
33RR20090320,        I05,     111,          1,         20,         20,2,20090421,       2135,   -31.0719,    77.8636,       3275,   741.1,   9.1719,  34.6789,2,  34.6787,2,    222.7,2,   222.6,2,    7.26,2,   18.38,2,    0.00,2,    1.28,2,   3.220,2,   1.665,2,   0.8320,2,  2136.5,2,  2289.6,2,   7.8360,2,    20.00,-999.000,9,-999.000,9,-999.000,9,   9.1688,2,-999.000,9, -999.00,9, -999.00,-999.000,9,-999.000,   42.41,2,   19.96,2, -31.0721,  77.8632,-999.000,-999.000,20090421,       2243
33RR20090320,        I05,     111,          1,         19,         19,2,20090421,       2135,   -31.0719,    77.8636,       3275,   840.5,   7.9742,  34.5568,2,  34.5569,2,    208.9,2,   213.2,2,   12.03,2,   22.43,2,    0.00,2,    1.54,2,   1.567,2,   0.767,2,   0.2780,2,  2152.5,2,  2289.3,2,   7.7894,2,    20.00,-999.000,9,-999.000,9,-999.000,9,   7.9733,2,-999.000,9, -999.00,9, -999.00,-999.000,9,-999.000,   41.67,2,   24.16,2, -31.0721,  77.8633,-999.000,-999.000,20090421,       2240
33RR20090320,        I05,     111,          1,         18,         18,2,20090421,       2135,   -31.0719,    77.8636,       3275,   941.7,   6.5044,  34.4452,2,  34.4451,2,    201.0,2,   201.1,2,   19.49,2,   26.65,2,    0.00,2,    1.84,2,   2.089,2,   1.040,2,   0.3350,2,  2171.5,2,  2291.8,2,   7.7413,2,    20.00,-999.000,9,-999.000,9,-999.000,9,   6.5010,2,-999.000,9, -999.00,9, -999.00,-999.000,9,-999.000,   40.93,2,   27.93,2, -31.0721,  77.8633,-999.000,-999.000,20090421,       2238
33RR20090320,        I05,     111,          1,         17,         17,2,20090421,       2135,   -31.0719,    77.8636,       3275,  1041.8,   5.1249,  34.3879,2,  34.3874,2,    196.2,2,   195.9,2,   29.85,2,   29.98,2,    0.00,2,    2.09,2,   2.738,2,   1.384,2,   0.5220,2,  2192.4,2,  2296.8,2,   7.7033,2,    20.00,-999.000,9,-999.000,9,-999.000,9,   5.1178,2,-999.000,9, -999.00,9, -999.00,-999.000,9,-999.000,   40.12,2,   31.68,2, -31.0721,  77.8633,-999.000,-999.000,20090421,       2235
33RR20090320,        I05,     111,          1,         16,         16,2,20090421,       2135,   -31.0719,    77.8636,       3275,  1142.1,   4.2850,  34.3989,2,  34.3996,2,    186.0,2,   185.1,2,   42.60,2,   32.26,2,    0.00,2,    2.27,2,   1.007,2,   0.486,2,   0.1260,2,  2212.9,2,  2309.6,2,   7.6742,2,    20.00,-999.000,9,-999.000,9,-999.000,9,   4.2779,2,-999.000,9, -999.00,9, -999.00,-999.000,9,-999.000,   39.35,2,   34.13,2, -31.0721,  77.8634,-999.000,-999.000,20090421,       2232
33RR20090320,        I05,     111,          1,         15,         15,2,20090421,       2135,   -31.0719,    77.8636,       3275,  1242.1,   3.8318,  34.4460,2,  34.4453,2,    172.7,2,   171.5,2,   54.87,2,   33.69,2,    0.00,2,    2.38,2,   0.562,2,   0.270,2,   0.0000,2,  2231.7,2,  2320.9,2,   7.6517,2,    20.00,-999.000,9,-999.000,9,-999.000,9,   3.8278,2,-999.000,9, -999.00,9, -999.00,-999.000,9,-999.000,   39.00,2,   35.35,2, -31.0721,  77.8635,-999.000,-999.000,20090421,       2229
33RR20090320,        I05,     111,          1,         14,         14,2,20090421,       2135,   -31.0719,    77.8636,       3275,  1341.6,   3.5363,  34.5062,2,  34.5054,2,    162.2,2,   159.4,2,   66.11,2,   34.48,2,    0.00,2,    2.46,2,   0.252,2,   0.121,2,   0.0400,2,  2248.1,2,  2332.4,2,   7.6370,2,    20.00,-999.000,9,-999.000,9,-999.000,9,   3.5386,2,-999.000,9, -999.00,9, -999.00,-999.000,9,-999.000,   39.46,2,   35.91,2, -31.0721,  77.8636,-999.000,-999.000,20090421,       2226
33RR20090320,        I05,     111,          1,         13,         13,2,20090421,       2135,   -31.0719,    77.8636,       3275,  1471.7,   3.2708,  34.5712,2,  34.5706,2,    155.8,2,   153.0,2,   76.11,2,   34.85,2,    0.00,2,    2.48,2,   0.103,2,   0.049,2,   0.0160,2,  2261.5,6,  2343.7,2,   7.6317,2,    20.00,-999.000,9,-999.000,9,-999.000,9,   3.2715,2,-999.000,9, -999.00,9, -999.00,-999.000,9,-999.000,   39.02,2,   36.07,2, -31.0719,  77.8637,-999.000,-999.000,20090421,       2222
33RR20090320,        I05,     111,          1,         12,         12,2,20090421,       2135,   -31.0719,    77.8636,       3275,  1573.5,   3.0902,  34.6026,2,  34.6022,2,    154.7,2,   154.1,2,   80.12,2,   34.52,2,    0.00,2,    2.47,2,   0.073,2,   0.035,2,   0.0230,2,  2265.5,2,  2346.9,2,   7.6337,2,    20.00,-999.000,9,-999.000,9,-999.000,9,   3.0892,2,-999.000,9, -999.00,9, -999.00,-999.000,9,-999.000,   39.33,2,   35.98,2, -31.0718,  77.8636,-999.000,-999.000,20090421,       2219
33RR20090320,        I05,     111,          1,         11,         11,2,20090421,       2135,   -31.0719,    77.8636,       3275,  1672.6,   2.9611,  34.6321,2,  34.6313,2,    155.1,2,   154.1,2,   84.49,2,   34.46,2,    0.00,2,    2.46,2,   0.046,2,   0.022,2,   0.0040,2,  2270.1,2,  2352.6,2,   7.6368,2,    20.00,-999.000,9,-999.000,9,-999.000,9,   2.9592,2,-999.000,9, -999.00,9, -999.00,-999.000,9,-999.000,   39.86,2,   36.06,2, -31.0719,  77.8635,-999.000,-999.000,20090421,       2216
33RR20090320,        I05,     111,          1,         10,         10,2,20090421,       2135,   -31.0719,    77.8636,       3275,  1776.2,   2.7743,  34.6494,2,  34.6484,2,    160.2,2,   161.9,2,   83.18,2,   33.81,2,    0.00,2,    2.41,2,   0.066,2,   0.032,2,   0.0500,2,  2264.9,2,  2350.4,2,   7.6438,2,    20.00,-999.000,9,-999.000,9,-999.000,9,   2.7735,2,-999.000,9, -999.00,9, -999.00,-999.000,9,-999.000,   39.98,2,   35.77,2, -31.0720,  77.8636,-999.000,-999.000,20090421,       2213
33RR20090320,        I05,     111,          1,          9,          9,2,20090421,       2135,   -31.0719,    77.8636,       3275,  1875.4,   2.5968,  34.6695,2,  34.6684,2,    169.1,2,   168.9,2,   82.24,2,   33.12,2,    0.00,2,    2.34,2,   0.076,2,   0.036,2,   0.0000,2,  2259.0,2,  2350.4,2,   7.6524,2,    20.00,-999.000,9,-999.000,9,-999.000,9,   2.5970,2,-999.000,9, -999.00,9, -999.00,-999.000,9,-999.000,   39.68,2,   34.83,2, -31.0720,  77.8636,-999.000,-999.000,20090421,       2210
33RR20090320,        I05,     111,          1,          8,          8,2,20090421,       2135,   -31.0719,    77.8636,       3275,  2076.9,   2.3275,  34.7125,2,  34.7125,2,    181.3,2,   181.7,2,   82.41,2,   31.72,2,    0.00,2,    2.22,2,   0.063,2,   0.030,2,   0.0000,2,  2253.5,2,  2349.3,2,   7.6709,2,    20.00,-999.000,9,-999.000,9,-999.000,9,   2.3279,2,-999.000,9, -999.00,9, -999.00,-999.000,9,-999.000,   40.13,2,   34.43,2, -31.0719,  77.8636,-999.000,-999.000,20090421,       2205
33RR20090320,        I05,     111,          1,          7,          7,2,20090421,       2135,   -31.0719,    77.8636,       3275,  2278.2,   2.1011,  34.7342,2,  34.7343,2,    188.5,2,   188.6,2,   82.39,4,   33.05,4,    0.00,4,    2.34,4,   0.043,2,   0.021,2,   0.0800,2,  2253.4,2,  2354.0,2,   7.6818,2,    20.00,-999.000,9,-999.000,9,-999.000,9,   2.1006,2,-999.000,9, -999.00,9, -999.00,-999.000,9,-999.000,   40.31,2,   33.95,2, -31.0718,  77.8636,-999.000,-999.000,20090421,       2201
33RR20090320,        I05,     111,          1,          6,          6,2,20090421,       2135,   -31.0719,    77.8636,       3275,  2481.6,   1.9238,  34.7384,2,  34.7382,2,    191.2,2,   191.4,2,   93.74,2,   31.29,2,    0.00,2,    2.19,2,   0.032,2,   0.015,2,   0.0000,2,  2259.1,2,  2357.0,2,   7.6856,2,    20.00,-999.000,9,-999.000,9,-999.000,9,   1.9224,2,-999.000,9, -999.00,9, -999.00,-999.000,9,-999.000,   39.46,2,   32.69,2, -31.0719,  77.8635,-999.000,-999.000,20090421,       2156
33RR20090320,        I05,     111,          1,          5,          5,2,20090421,       2135,   -31.0719,    77.8636,       3275,  2681.6,   1.7522,  34.7346,2,  34.7343,2,    190.9,2,   191.7,2,  101.82,2,   31.61,2,    0.00,2,    2.23,2,   0.023,6,   0.012,6,   0.0240,6,  2406.8,4,  2363.7,2,   7.6855,2,    20.00,-999.000,9,-999.000,9,-999.000,9,   1.7513,2,-999.000,9, -999.00,9, -999.00,-999.000,9,-999.000,   40.63,2,   33.32,2, -31.0718,  77.8634,-999.000,-999.000,20090421,       2151
33RR20090320,        I05,     111,          1,          4,          4,2,20090421,       2135,   -31.0719,    77.8636,       3275,  2884.0,   1.6316,  34.7322,2,  34.7321,2,    191.6,2,   191.9,2,  106.23,2,   31.86,2,    0.00,2,    2.24,2,   0.023,2,   0.011,2,   0.0000,2,  2266.9,2,  2367.4,2,   7.6864,2,    20.00,-999.000,9,-999.000,9,-999.000,9,   1.6310,2,-999.000,9, -999.00,9, -999.00,-999.000,9,-999.000,   40.05,2,   33.34,2, -31.0718,  77.8634,-999.000,-999.000,20090421,       2146
33RR20090320,        I05,     111,          1,          3,          3,2,20090421,       2135,   -31.0719,    77.8636,       3275,  3085.9,   1.5972,  34.7325,2,  34.7325,2,    193.8,2,   193.5,2,  106.94,2,   31.80,2,    0.00,2,    2.24,2,   0.026,2,   0.015,2,   0.0000,2,  2266.6,2,  2368.0,2,   7.6877,2,    20.00,-999.000,9,-999.000,9,-999.000,9,   1.5974,2,-999.000,9, -999.00,9, -999.00,-999.000,9,-999.000,   40.52,2,   33.42,2, -31.0718,  77.8634,-999.000,-999.000,20090421,       2142
33RR20090320,        I05,     111,          1,          2,          2,2,20090421,       2135,   -31.0719,    77.8636,       3275,  3194.2,   1.5801,  34.7321,2,  34.7317,2,    194.5,2,   194.8,2,  107.67,2,   31.80,2,    0.00,2,    2.24,2,   0.018,2,   0.009,2,   0.0000,2,  2266.5,2,  2368.8,2,   7.6884,2,    20.00,-999.000,9,-999.000,9,-999.000,9,   1.5797,2,-999.000,9, -999.00,9, -999.00,-999.000,9,-999.000,   40.03,2,   33.45,2, -31.0718,  77.8635,-999.000,-999.000,20090421,       2139
33RR20090320,        I05,     111,          1,          1,          1,2,20090421,       2135,   -31.0719,    77.8636,       3275,  3305.5,   1.5596,  34.7318,2,  34.7321,2,    194.4,2,   194.9,2,  108.02,2,   31.79,2,    0.00,2,    2.24,2,   0.017,6,   0.009,6,   0.0060,6,  2264.9,6,  2369.2,2,   7.6901,2,    20.00,-999.000,9,-999.000,9,-999.000,9,   1.5606,2,-999.000,9, -999.00,9, -999.00,-999.000,9,-999.000,   40.35,2,   33.60,2, -31.0718,  77.8636,-999.000,-999.000,20090421,       2135