BOTTLE,20220814CCHSIOAMB
EXPOCODE,SECT_ID,STNNBR,CASTNO,SAMPNO,BTLNBR,BTLNBR_FLAG_W,DATE,TIME,LATITUDE,LONGITUDE,DEPTH,CTDPRS,CTDTMP,CTDSAL,CTDSAL_FLAG_W,SALNTY,SALNTY_FLAG_W,CTDOXY,CTDOXY_FLAG_W,OXYGEN,OXYGEN_FLAG_W,SILCAT,SILCAT_FLAG_W,NITRAT,NITRAT_FLAG_W,NITRIT,NITRIT_FLAG_W,PHSPHT,PHSPHT_FLAG_W,CFC-11,CFC-11_FLAG_W,CFC-12,CFC-12_FLAG_W,SF6,SF6_FLAG_W,TCARBN,TCARBN_FLAG_W,ALKALI,ALKALI_FLAG_W,PH_TOT,PH_TOT_FLAG_W,PH_TMP,TRITUM,TRITUM_FLAG_W,HELIUM,HELIUM_FLAG_W,DELHE3,DELHE3_FLAG_W,REFTMP,REFTMP_FLAG_W,DELC13,DELC13_FLAG_W,DELC14,DELC14_FLAG_W,C14ERR,NEON,NEON_FLAG_W,NEONER,DOC,DOC_FLAG_W,TDN,TDN_FLAG_W,BTL_LAT,BTL_LON,HELIER,DELHER,BTL_DATE,BTL_TIME
,,,,,,,,,,,METERS,DBAR,ITS-90,PSS-78,,PSS-78,,UMOL/KG,,UMOL/KG,,UMOL/KG,,UMOL/KG,,UMOL/KG,,UMOL/KG,,PMOL/KG,,PMOL/KG,,FMOL/KG,,UMOL/KG,,UMOL/KG,,,,DEG C,TU,,NMOL/KG,,PERCNT,,DEG C,,/MILLE,,/MILLE,,/MILLE,NMOL/KG,,NMOL/KG,UMOL/KG,,UMOL/KG,,,,NMOL/KG,PERCNT,,
33RR20090320,        I05,     153,          2,         36,         36,2,20090502,       0929,   -33.6276,    99.3639,       4161,     3.1,  17.6012,  35.6516,2,  35.6522,2,    238.9,2,   240.1,2,    0.42,2,    0.09,2,    0.00,2,    0.15,2,   2.418,6,   1.433,6,   1.3010,6,  2073.2,6,  2348.1,2,   8.0692,2,    20.00,-999.000,9,-999.000,9,-999.000,9,  17.6020,2,-999.000,9, -999.00,9, -999.00,-999.000,9,-999.000,   67.81,2,    4.07,2, -33.6276,  99.3639,-999.000,-999.000,20090502,       1121
33RR20090320,        I05,     153,          2,         35,         35,2,20090502,       0929,   -33.6276,    99.3639,       4161,    33.9,  17.6129,  35.6590,2,  35.6662,2,    241.3,2,   240.2,2,    0.40,2,    0.09,2,    0.00,2,    0.15,2,   2.420,2,   1.433,2,   1.3150,2,  2072.5,2,  2347.7,2,   8.0692,2,    20.00,-999.000,9,-999.000,9,-999.000,9,  17.6122,2,-999.000,9, -999.00,9, -999.00,-999.000,9,-999.000,   67.64,2,    4.54,2, -33.6275,  99.3639,-999.000,-999.000,20090502,       1119
33RR20090320,        I05,     153,          2,         34,         34,2,20090502,       0929,   -33.6276,    99.3639,       4161,    60.0,  17.6500,  35.7752,2,  35.7649,2,    237.8,2,   237.8,2,    0.58,2,    0.15,2,    0.01,2,    0.15,2,   2.433,2,   1.437,2,   1.2920,2,  2077.9,2,  2352.8,2,   8.0659,2,    20.00,-999.000,9,-999.000,9,-999.000,9,  17.7388,2,-999.000,9, -999.00,9, -999.00,-999.000,9,-999.000,   65.07,2,    4.15,2, -33.6275,  99.3639,-999.000,-999.000,20090502,       1117
33RR20090320,        I05,     153,          2,         33,         33,2,20090502,       0929,   -33.6276,    99.3639,       4161,    86.2,  15.1654,  35.5754,2,  35.5813,2,    242.9,2,   243.2,2,    0.93,2,    1.26,2,    0.16,2,    0.28,2,   2.793,2,   1.618,2,   1.3620,2,  2094.4,2,  2340.3,2,   8.0205,2,    20.00,-999.000,9,-999.000,9,-999.000,9,  15.1124,2,-999.000,9, -999.00,9, -999.00,-999.000,9,-999.000,   61.46,2,    5.17,2, -33.6275,  99.3639,-999.000,-999.000,20090502,       1116
33RR20090320,        I05,     153,          2,         32,         32,2,20090502,       0929,   -33.6276,    99.3639,       4161,   110.2,  14.1218,  35.4414,2,  35.4511,2,    237.2,2,   236.2,2,    1.09,2,    4.10,2,    0.07,2,    0.41,2,   2.885,2,   1.671,2,   1.4030,2,  2103.4,2,  2332.3,2,   7.9903,2,    20.00,-999.000,9,-999.000,9,-999.000,9,  14.1661,2,-999.000,9, -999.00,9, -999.00,-999.000,9,-999.000,   58.63,2,    7.50,2, -33.6275,  99.3639,-999.000,-999.000,20090502,       1114
33RR20090320,        I05,     153,          2,         31,         31,2,20090502,       0929,   -33.6276,    99.3639,       4161,   135.9,  13.6311,  35.3620,2,  35.3579,2,    238.8,2,   238.5,2,    1.26,2,    5.31,2,    0.01,2,    0.48,2,   2.993,2,   1.717,2,   1.3990,2,  2106.4,2,  2326.1,2,   7.9737,2,    20.00,-999.000,9,-999.000,9,-999.000,9,  13.5971,2,-999.000,9, -999.00,9, -999.00,-999.000,9,-999.000,   53.02,2,    8.37,2, -33.6276,  99.3639,-999.000,-999.000,20090502,       1113
33RR20090320,        I05,     153,          2,         30,         30,2,20090502,       0929,   -33.6276,    99.3639,       4161,   165.3,  13.1174,  35.2766,2,  35.2854,2,    240.8,2,   240.9,2,    1.42,2,    6.14,2,    0.01,2,    0.54,2,   3.040,2,   1.756,2,   1.4660,2,  2108.1,2,  2324.0,2,   7.9634,2,    20.00,-999.000,9,-999.000,9,-999.000,9,  13.1239,2,-999.000,9, -999.00,9, -999.00,-999.000,9,-999.000, -999.00,9, -999.00,9, -33.6276,  99.3639,-999.000,-999.000,20090502,       1111
33RR20090320,        I05,     153,          2,         29,         29,2,20090502,       0929,   -33.6276,    99.3639,       4161,   215.6,  12.3973,  35.1548,2,  35.1510,2,    243.1,2,   243.5,2,    1.59,2,    7.62,2,    0.01,2,    0.62,2,   3.080,2,   1.753,2,   1.3980,2,  2112.1,2,  2314.6,2,   7.9438,2,    20.00,-999.000,9,-999.000,9,-999.000,9,  12.3944,2,-999.000,9, -999.00,9, -999.00,-999.000,9,-999.000,   49.85,2,    9.58,2, -33.6276,  99.3639,-999.000,-999.000,20090502,       1109
33RR20090320,        I05,     153,          2,         28,         28,2,20090502,       0929,   -33.6276,    99.3639,       4161,   266.8,  11.7140,  35.0351,2,  35.0370,2,    248.2,2,   245.3,2,    1.94,2,    9.06,2,    0.01,2,    0.72,2,   3.252,2,   1.850,2,   1.5350,2,  2113.8,2,  2309.8,2,   7.9280,2,    20.00,-999.000,9,-999.000,9,-999.000,9,  11.7176,2,-999.000,9, -999.00,9, -999.00,-999.000,9,-999.000,   49.15,2,   10.64,2, -33.6277,  99.3639,-999.000,-999.000,20090502,       1107
33RR20090320,        I05,     153,          2,         27,         27,2,20090502,       0929,   -33.6276,    99.3639,       4161,   315.1,  11.2418,  34.9511,2,  34.9539,2,    249.4,2,   249.1,2,    2.11,2,   10.00,2,    0.01,2,    0.77,2,   3.363,2,   1.892,2,   1.5390,2,  2113.0,2,  2305.2,2,   7.9195,2,    20.00,-999.000,9,-999.000,9,-999.000,9,  11.2356,2,-999.000,9, -999.00,9, -999.00,-999.000,9,-999.000,   47.89,2,   11.85,2, -33.6277,  99.3639,-999.000,-999.000,20090502,       1106
33RR20090320,        I05,     153,          2,         26,         26,2,20090502,       0929,   -33.6276,    99.3639,       4161,   365.5,  10.6782,  34.8545,2,  34.8544,2,    249.6,2,   249.6,2,    2.65,2,   11.59,2,    0.01,2,    0.87,2,   3.453,2,   1.925,2,   1.4790,2,  2119.7,2,  2301.2,2,   7.9030,2,    20.00,-999.000,9,-999.000,9,-999.000,9,  10.6800,2,-999.000,9, -999.00,9, -999.00,-999.000,9,-999.000,   47.24,2,   13.55,2, -33.6277,  99.3639,-999.000,-999.000,20090502,       1103
33RR20090320,        I05,     153,          2,         25,         25,2,20090502,       0929,   -33.6276,    99.3639,       4161,   414.7,  10.2142,  34.7819,2,  34.7895,2,    248.2,2,   248.9,2,    3.00,2,   12.69,2,    0.00,2,    0.94,2,   3.552,2,   1.974,2,   1.3770,6,  2120.7,2,  2296.9,2,   7.8910,2,    20.00,-999.000,9,-999.000,9,-999.000,9,  10.2231,2,-999.000,9, -999.00,9, -999.00,-999.000,9,-999.000,   46.56,2,   14.47,2, -33.6277,  99.3638,-999.000,-999.000,20090502,       1101
33RR20090320,        I05,     153,          2,         24,         24,2,20090502,       0929,   -33.6276,    99.3639,       4161,   464.8,   9.9570,  34.7493,2,  34.7502,2,    246.7,2,   247.2,2,    3.53,2,   13.90,2,    0.00,2,    1.01,2,   3.599,2,   1.992,2,   1.4310,2,  2124.1,2,  2296.2,2,   7.8787,2,    20.00,-999.000,9,-999.000,9,-999.000,9,   9.9596,2,-999.000,9, -999.00,9, -999.00,-999.000,9,-999.000,   45.92,2,   15.18,2, -33.6276,  99.3639,-999.000,-999.000,20090502,       1059
33RR20090320,        I05,     153,          2,         23,         23,2,20090502,       0929,   -33.6276,    99.3639,       4161,   535.1,   9.6257,  34.7216,2,  34.7182,2,    241.5,2,   240.2,2,    3.89,2,   15.45,2,    0.00,2,    1.10,2,   3.696,6,   1.999,6,   1.3530,2,  2129.5,2,  2293.3,2,   7.8605,2,    20.00,-999.000,9,-999.000,9,-999.000,9,   9.6255,2,-999.000,9, -999.00,9, -999.00,-999.000,9,-999.000,   45.03,2,   16.94,2, -33.6276,  99.3639,-999.000,-999.000,20090502,       1057
33RR20090320,        I05,     153,          2,         22,         22,2,20090502,       0929,   -33.6276,    99.3639,       4161,   635.7,   9.1095,  34.6527,2,  34.6541,2,    238.4,2,   239.3,2,    4.78,2,   17.05,2,    0.00,2,    1.20,2,   3.656,2,   1.955,2,   1.2930,2,  2132.4,2,  2291.3,2,   7.8468,2,    20.00,-999.000,9,-999.000,9,-999.000,9,   9.1072,2,-999.000,9, -999.00,9, -999.00,-999.000,9,-999.000,   44.15,2,   18.78,2, -33.6275,  99.3640,-999.000,-999.000,20090502,       1054
33RR20090320,        I05,     153,          2,         21,         21,2,20090502,       0929,   -33.6276,    99.3639,       4161,   735.0,   8.5085,  34.5795,2,  34.5812,2,    230.8,2,   229.9,2,    6.81,2,   19.47,2,    0.00,2,    1.36,2,   3.435,2,   1.799,2,   1.0040,2,  2140.1,2,  2287.8,2,   7.8214,2,    20.00,-999.000,9,-999.000,9,-999.000,9,   8.5080,2,-999.000,9, -999.00,9, -999.00,-999.000,9,-999.000,   43.22,2,   20.73,2, -33.6274,  99.3641,-999.000,-999.000,20090502,       1052
33RR20090320,        I05,     153,          2,         20,         20,2,20090502,       0929,   -33.6276,    99.3639,       4161,   835.4,   7.3370,  34.4847,2,  34.4846,2,    206.3,2,   204.4,2,   13.82,2,   24.55,2,    0.00,2,    1.70,2,   2.474,2,   1.242,2,   0.5030,2,  2163.8,2,  2287.8,2,   7.7612,2,    20.00,-999.000,9,-999.000,9,-999.000,9,   7.3347,2,-999.000,9, -999.00,9, -999.00,-999.000,9,-999.000,   42.24,2,   26.01,2, -33.6274,  99.3640,-999.000,-999.000,20090502,       1049
33RR20090320,        I05,     153,          2,         19,         19,2,20090502,       0929,   -33.6276,    99.3639,       4161,   935.0,   5.7831,  34.3999,2,  34.4016,2,    196.1,2,   197.6,2,   23.46,2,   28.49,2,    0.00,2,    1.98,2,   1.855,6,   0.913,6,   0.3230,6,  2183.3,2,  2292.3,2,   7.7155,2,    20.00,-999.000,9,-999.000,9,-999.000,9,   5.7765,2,-999.000,9, -999.00,9, -999.00,-999.000,9,-999.000,   40.97,2,   29.64,2, -33.6274,  99.3640,-999.000,-999.000,20090502,       1047
33RR20090320,        I05,     153,          2,         18,         18,2,20090502,       0929,   -33.6276,    99.3639,       4161,  1035.1,   4.5264,  34.3730,2,  34.3745,2,    193.5,2,   193.9,2,   35.19,2,   31.16,2,    0.00,2,    2.20,2,   1.412,2,   0.682,2,   0.1680,2,  2203.7,2,  2302.2,2,   7.6841,2,    20.00,-999.000,9,-999.000,9,-999.000,9,   4.5344,2,-999.000,9, -999.00,9, -999.00,-999.000,9,-999.000,   40.47,2,   32.43,2, -33.6275,  99.3640,-999.000,-999.000,20090502,       1044
33RR20090320,        I05,     153,          2,         17,         17,2,20090502,       0929,   -33.6276,    99.3639,       4161,  1136.4,   3.9246,  34.4068,2,  34.4074,2,    182.7,2,   181.5,2,   47.91,2,   32.94,2,    0.00,2,    2.34,2,   0.888,2,   0.421,2,   0.1270,2,  2224.9,2,  2314.1,2,   7.6598,2,    20.00,-999.000,9,-999.000,9,-999.000,9,   3.9231,2,-999.000,9, -999.00,9, -999.00,-999.000,9,-999.000,   40.37,2,   34.34,2, -33.6275,  99.3640,-999.000,-999.000,20090502,       1041
33RR20090320,        I05,     153,          2,         16,         16,2,20090502,       0929,   -33.6276,    99.3639,       4161,  1235.5,   3.5877,  34.4382,2,  34.4391,2,    173.3,2,   174.4,2,   55.41,2,   33.78,2,    0.00,2,    2.41,2,   0.642,2,   0.300,2,   0.0580,2,  2237.1,2,  2320.2,2,   7.6461,2,    20.00,-999.000,9,-999.000,9,-999.000,9,   3.5870,2,-999.000,9, -999.00,9, -999.00,-999.000,9,-999.000,   40.11,2,   35.26,2, -33.6275,  99.3640,-999.000,-999.000,20090502,       1038
33RR20090320,        I05,     153,          2,         15,         15,2,20090502,       0929,   -33.6276,    99.3639,       4161,  1336.6,   3.3814,  34.4886,2,  34.4883,2,    163.4,2,   163.9,2,   64.81,2,   34.51,2,    0.00,2,    2.47,2,   0.350,2,   0.166,2,   0.0000,2,  2250.8,2,  2329.5,2,   7.6333,2,    20.00,-999.000,9,-999.000,9,-999.000,9,   3.3823,2,-999.000,9, -999.00,9, -999.00,-999.000,9,-999.000,   39.63,2,   35.53,2, -33.6275,  99.3640,-999.000,-999.000,20090502,       1035
33RR20090320,        I05,     153,          2,         14,         14,2,20090502,       0929,   -33.6276,    99.3639,       4161,  1432.1,   3.2630,  34.5483,2,  34.5482,2,    153.7,2,   153.5,2,   74.62,2,   34.95,2,    0.00,2,    2.52,2,   0.131,2,   0.064,2,   0.0000,2,  2264.2,2,  2339.7,2,   7.6255,2,    20.00,-999.000,9,-999.000,9,-999.000,9,   3.2629,2,-999.000,9, -999.00,9, -999.00,-999.000,9,-999.000,   39.89,2,   36.47,2, -33.6275,  99.3641,-999.000,-999.000,20090502,       1033
33RR20090320,        I05,     153,          2,         13,         13,2,20090502,       0929,   -33.6276,    99.3639,       4161,  1533.8,   3.1299,  34.5849,2,  34.5849,2,    151.3,2,   151.5,2,   80.09,2,   34.90,2,    0.00,2,    2.51,2,   0.066,2,   0.033,2,   0.0000,2,  2265.7,6,  2347.5,2,   7.6265,2,    20.00,-999.000,9,-999.000,9,-999.000,9,   3.1272,2,-999.000,9, -999.00,9, -999.00,-999.000,9,-999.000,   39.45,2,   36.15,2, -33.6275,  99.3641,-999.000,-999.000,20090502,       1030
33RR20090320,        I05,     153,          2,         12,         12,2,20090502,       0929,   -33.6276,    99.3639,       4161,  1633.5,   2.9740,  34.6132,2,  34.6128,2,    152.8,2,   152.8,2,   83.48,2,   34.49,2,    0.00,2,    2.50,2,   0.046,2,   0.024,2,   0.0000,2,  2271.6,2,  2350.5,2,   7.6291,2,    20.00,-999.000,9,-999.000,9,-999.000,9,   2.9736,2,-999.000,9, -999.00,9, -999.00,-999.000,9,-999.000,   39.48,2,   35.76,2, -33.6275,  99.3640,-999.000,-999.000,20090502,       1027
33RR20090320,        I05,     153,          2,         11,         11,2,20090502,       0929,   -33.6276,    99.3639,       4161,  1735.6,   2.8487,  34.6374,2,  34.6378,2,    154.6,2,   154.4,2,   86.31,2,   34.45,2,    0.00,2,    2.48,2,   0.032,2,   0.017,2,   0.0000,2,  2272.3,2,  2354.2,2,   7.6336,2,    20.00,-999.000,9,-999.000,9,-999.000,9,   2.8481,2,-999.000,9, -999.00,9, -999.00,-999.000,9,-999.000,   39.69,2,   35.74,2, -33.6275,  99.3640,-999.000,-999.000,20090502,       1024
33RR20090320,        I05,     153,          2,         10,         10,2,20090502,       0929,   -33.6276,    99.3639,       4161,  1865.6,   2.6820,  34.6629,2,  34.6633,2,    159.4,2,   159.5,2,   88.56,2,   33.83,2,    0.00,2,    2.43,2,   0.029,2,   0.017,2,   0.0000,2,  2272.8,2,  2355.9,2,   7.6406,2,    20.00,-999.000,9,-999.000,9,-999.000,9,   2.6820,2,-999.000,9, -999.00,9, -999.00,-999.000,9,-999.000,   39.46,2,   35.25,2, -33.6275,  99.3640,-999.000,-999.000,20090502,       1021
33RR20090320,        I05,     153,          2,          9,          9,2,20090502,       0929,   -33.6276,    99.3639,       4161,  2085.7,   2.4016,  34.7030,2,  34.7040,2,    170.4,2,   170.4,2,   90.44,2,   32.77,2,    0.00,2,    2.33,2,   0.024,2,   0.014,2,   0.0000,2,  2268.9,2,  2357.5,2,   7.6584,2,    20.00,-999.000,9,-999.000,9,-999.000,9,   2.4012,2,-999.000,9, -999.00,9, -999.00,-999.000,9,-999.000,   39.49,2,   33.99,2, -33.6275,  99.3640,-999.000,-999.000,20090502,       1017
33RR20090320,        I05,     153,          2,          8,          8,2,20090502,       0929,   -33.6276,    99.3639,       4161,  2333.1,   2.1470,  34.7308,2,  34.7315,2,    182.7,2,   183.1,2,   91.36,2,   31.59,2,    0.00,2,    2.24,2,   0.019,2,   0.010,2,   0.0000,2,  2260.2,2,  2356.0,2,   7.6742,2,    20.00,-999.000,9,-999.000,9,-999.000,9,   2.1465,2,-999.000,9, -999.00,9, -999.00,-999.000,9,-999.000,   39.63,2,   32.89,2, -33.6276,  99.3640,-999.000,-999.000,20090502,       1011
33RR20090320,        I05,     153,          2,          7,          7,2,20090502,       0929,   -33.6276,    99.3639,       4161,  2586.9,   1.9634,  34.7393,2,  34.7394,2,    189.8,2,   189.5,2,   93.81,2,   31.20,2,    0.00,2,    2.21,2,   0.017,2,   0.011,2,   0.0000,2,  2257.2,2,  2357.9,2,   7.6820,2,    20.00,-999.000,9,-999.000,9,-999.000,9,   1.9635,2,-999.000,9, -999.00,9, -999.00,-999.000,9,-999.000,   40.30,2,   32.50,2, -33.6276,  99.3639,-999.000,-999.000,20090502,       1005
33RR20090320,        I05,     153,          2,          6,          6,2,20090502,       0929,   -33.6276,    99.3639,       4161,  2838.0,   1.7135,  34.7402,2,  34.7406,2,    194.8,2,   194.9,2,   99.88,2,   31.04,2,    0.00,2,    2.21,2,   0.016,2,   0.009,2,   0.0000,2,  2258.0,2,  2358.9,2,   7.6856,2,    20.00,-999.000,9,-999.000,9,-999.000,9,   1.7136,2,-999.000,9, -999.00,9, -999.00,-999.000,9,-999.000,   40.23,2,   32.62,2, -33.6277,  99.3638,-999.000,-999.000,20090502,       0959
33RR20090320,        I05,     153,          2,          5,          5,2,20090502,       0929,   -33.6276,    99.3639,       4161,  3111.7,   1.5188,  34.7355,2,  34.7358,2,    197.9,2,   198.1,2,  105.58,2,   31.37,2,    0.00,2,    2.22,2,   0.014,2,   0.008,2,   0.0000,2,  2263.6,2,  2361.6,2,   7.6866,2,    20.00,-999.000,9,-999.000,9,-999.000,9,   1.5183,2,-999.000,9, -999.00,9, -999.00,-999.000,9,-999.000,   40.17,2,   32.52,2, -33.6276,  99.3638,-999.000,-999.000,20090502,       0953
33RR20090320,        I05,     153,          2,          4,          4,2,20090502,       0929,   -33.6276,    99.3639,       4161,  3424.7,   1.3333,  34.7288,2,  34.7286,2,    200.4,2,   200.7,2,  111.48,2,   31.59,2,    0.00,2,    2.23,2,   0.016,2,   0.012,2,   0.0000,2,  2263.7,2,  2364.2,2,   7.6868,2,    20.00,-999.000,9,-999.000,9,-999.000,9,   1.3332,2,-999.000,9, -999.00,9, -999.00,-999.000,9,-999.000,   40.49,2,   32.62,2, -33.6277,  99.3638,-999.000,-999.000,20090502,       0946
33RR20090320,        I05,     153,          2,          3,          3,2,20090502,       0929,   -33.6276,    99.3639,       4161,  3731.2,   1.1811,  34.7213,2,  34.7215,2,    202.2,2,   202.8,2,  115.67,2,   31.88,2,    0.00,2,    2.26,2,   0.022,2,   0.015,2,   0.0000,2,  2265.6,2,  2370.2,2,   7.6882,2,    20.00,-999.000,9,-999.000,9,-999.000,9,   1.1819,2,-999.000,9, -999.00,9, -999.00,-999.000,9,-999.000,   40.03,2,   33.33,2, -33.6277,  99.3637,-999.000,-999.000,20090502,       0940
33RR20090320,        I05,     153,          2,          2,          2,2,20090502,       0929,   -33.6276,    99.3639,       4161,  4036.9,   1.0875,  34.7161,2,  34.7162,2,    204.2,2,   204.3,2,  119.09,2,   31.98,2,    0.00,2,    2.27,2,   0.025,2,   0.016,2,   0.0000,2,  2268.0,2,  2371.1,2,   7.6894,2,    20.00,-999.000,9,-999.000,9,-999.000,9,   1.0870,2,-999.000,9, -999.00,9, -999.00,-999.000,9,-999.000,   40.12,2,   33.24,2, -33.6276,  99.3638,-999.000,-999.000,20090502,       0933
33RR20090320,        I05,     153,          2,          1,          1,2,20090502,       0929,   -33.6276,    99.3639,       4161,  4218.5,   1.0752,  34.7144,2,  34.7150,2,    204.7,2,   205.0,2,  119.07,2,   32.09,2,    0.00,2,    2.26,2,   0.027,6,   0.018,6,   0.0000,6,  2270.1,6,  2371.9,2,   7.6899,2,    20.00,-999.000,9,-999.000,9,-999.000,9,   1.0752,2,-999.000,9, -999.00,9, -999.00,-999.000,9,-999.000,   39.98,2,   33.46,2, -33.6276,  99.3639,-999.000,-999.000,20090502,       0929