BOTTLE,20220814CCHSIOAMB
EXPOCODE,SECT_ID,STNNBR,CASTNO,SAMPNO,BTLNBR,BTLNBR_FLAG_W,DATE,TIME,LATITUDE,LONGITUDE,DEPTH,CTDPRS,CTDTMP,CTDSAL,CTDSAL_FLAG_W,SALNTY,SALNTY_FLAG_W,CTDOXY,CTDOXY_FLAG_W,OXYGEN,OXYGEN_FLAG_W,SILCAT,SILCAT_FLAG_W,NITRAT,NITRAT_FLAG_W,NITRIT,NITRIT_FLAG_W,PHSPHT,PHSPHT_FLAG_W,CFC-11,CFC-11_FLAG_W,CFC-12,CFC-12_FLAG_W,SF6,SF6_FLAG_W,TCARBN,TCARBN_FLAG_W,ALKALI,ALKALI_FLAG_W,PH_TOT,PH_TOT_FLAG_W,PH_TMP,TRITUM,TRITUM_FLAG_W,HELIUM,HELIUM_FLAG_W,DELHE3,DELHE3_FLAG_W,REFTMP,REFTMP_FLAG_W,DELC13,DELC13_FLAG_W,DELC14,DELC14_FLAG_W,C14ERR,NEON,NEON_FLAG_W,NEONER,DOC,DOC_FLAG_W,TDN,TDN_FLAG_W,BTL_LAT,BTL_LON,HELIER,DELHER,BTL_DATE,BTL_TIME
,,,,,,,,,,,METERS,DBAR,ITS-90,PSS-78,,PSS-78,,UMOL/KG,,UMOL/KG,,UMOL/KG,,UMOL/KG,,UMOL/KG,,UMOL/KG,,PMOL/KG,,PMOL/KG,,FMOL/KG,,UMOL/KG,,UMOL/KG,,,,DEG C,TU,,NMOL/KG,,PERCNT,,DEG C,,/MILLE,,/MILLE,,/MILLE,NMOL/KG,,NMOL/KG,UMOL/KG,,UMOL/KG,,,,NMOL/KG,PERCNT,,
33RR20090320,        I05,     193,          1,         19,         19,2,20090512,       0310,   -32.5865,   114.4665,        986,     8.8,  21.3737,  35.5764,2,  35.5780,2,    220.9,2,   221.1,2,    2.48,2,    0.12,2,    0.00,2,    0.08,2,   1.985,2,   1.208,2,   1.1760,2,  2025.4,2,  2334.4,2,   8.1361,2,    20.00,-999.000,9,-999.000,9,-999.000,9,  21.3724,2,-999.000,9, -999.00,9, -999.00,-999.000,9,-999.000,   66.67,2,    4.26,2, -32.5866, 114.4669,-999.000,-999.000,20090512,       0340
33RR20090320,        I05,     193,          1,         18,         18,2,20090512,       0310,   -32.5865,   114.4665,        986,    39.7,  20.6068,  35.8515,2,  35.8463,2,    225.2,2,   224.1,2,    2.16,2,    0.18,2,    0.00,2,    0.08,2,-999.000,9,-999.000,9,-999.0000,9,  2052.3,2,  2353.1,2,   8.1144,2,    20.00,-999.000,9,-999.000,9,-999.000,9,  20.6070,2,-999.000,9, -999.00,9, -999.00,-999.000,9,-999.000,   66.65,2,    4.30,2, -32.5866, 114.4668,-999.000,-999.000,20090512,       0339
33RR20090320,        I05,     193,          1,         17,         17,2,20090512,       0310,   -32.5865,   114.4665,        986,    64.8,  20.2755,  35.8897,2,  35.8910,2,    226.4,2,   226.2,2,    2.21,2,    0.12,2,    0.00,2,    0.08,2,   2.125,2,   1.277,2,   1.1450,2,  2056.9,2,  2356.2,2,   8.1102,2,    20.00,-999.000,9,-999.000,9,-999.000,9,  20.2719,2,-999.000,9, -999.00,9, -999.00,-999.000,9,-999.000,   66.33,2,    4.43,2, -32.5865, 114.4668,-999.000,-999.000,20090512,       0337
33RR20090320,        I05,     193,          1,         16,         16,2,20090512,       0310,   -32.5865,   114.4665,        986,    90.0,  19.8717,  35.8937,2,  35.8904,2,    227.7,2,   228.1,2,    2.08,2,    0.12,2,    0.00,2,    0.08,2,-999.000,9,-999.000,9,-999.0000,9,  2063.1,2,  2357.3,2,   8.1007,2,    20.00,-999.000,9,-999.000,9,-999.000,9,  19.8789,2,-999.000,9, -999.00,9, -999.00,-999.000,9,-999.000,   65.28,2,    4.67,2, -32.5865, 114.4668,-999.000,-999.000,20090512,       0336
33RR20090320,        I05,     193,          1,         15,         15,2,20090512,       0310,   -32.5865,   114.4665,        986,   112.4,  17.5694,  35.7622,2,  35.7644,2,    243.7,2,   243.7,2,    2.14,2,    0.17,2,    0.00,2,    0.12,2,   2.525,2,   1.482,2,   1.2130,2,  2073.1,2,  2350.2,2,   8.0723,2,    20.00,-999.000,9,-999.000,9,-999.000,9,  17.5668,2,-999.000,9, -999.00,9, -999.00,-999.000,9,-999.000,   61.12,2,    4.14,2, -32.5865, 114.4668,-999.000,-999.000,20090512,       0335
33RR20090320,        I05,     193,          1,         14,         14,2,20090512,       0310,   -32.5865,   114.4665,        986,   138.6,  15.8850,  35.6151,2,  35.6153,2,    235.8,2,   235.9,2,    1.82,2,    1.33,2,    0.04,2,    0.22,2,-999.000,9,-999.000,9,-999.0000,9,  2085.0,2,  2342.6,2,   8.0361,2,    20.00,-999.000,9,-999.000,9,-999.000,9,  15.8824,2,-999.000,9, -999.00,9, -999.00,-999.000,9,-999.000,   56.76,2,    4.99,2, -32.5866, 114.4667,-999.000,-999.000,20090512,       0334
33RR20090320,        I05,     193,          1,         13,         13,2,20090512,       0310,   -32.5865,   114.4665,        986,   170.8,  14.5561,  35.4592,2,  35.4691,2,    231.8,2,   231.9,2,    1.87,2,    3.54,2,    0.01,2,    0.36,2,   2.805,2,   1.625,2,   1.2950,2,  2097.2,2,  2334.8,2,   8.0025,2,    20.00,-999.000,9,-999.000,9,-999.000,9,  14.5890,2,-999.000,9, -999.00,9, -999.00,-999.000,9,-999.000,   53.90,2,    7.36,2, -32.5866, 114.4666,-999.000,-999.000,20090512,       0333
33RR20090320,        I05,     193,          1,         12,         12,2,20090512,       0310,   -32.5865,   114.4665,        986,   219.8,  12.9981,  35.2298,2,  35.2312,2,    238.1,2,   237.7,2,    2.30,2,    6.22,2,    0.01,2,    0.53,2,-999.000,9,-999.000,9,-999.0000,9,  2107.8,2,  2321.9,2,   7.9622,2,    20.00,-999.000,9,-999.000,9,-999.000,9,  13.0049,2,-999.000,9, -999.00,9, -999.00,-999.000,9,-999.000,   51.90,2,    9.53,2, -32.5866, 114.4666,-999.000,-999.000,20090512,       0331
33RR20090320,        I05,     193,          1,         11,         11,2,20090512,       0310,   -32.5865,   114.4665,        986,   269.4,  11.6927,  35.0179,2,  35.0194,2,    243.4,2,   243.5,2,    2.91,2,    8.88,2,    0.01,2,    0.69,2,   3.281,2,   1.851,2,   1.4150,2,  2114.2,2,  2309.8,2,   7.9288,2,    20.00,-999.000,9,-999.000,9,-999.000,9,  11.6916,2,-999.000,9, -999.00,9, -999.00,-999.000,9,-999.000,   50.23,2,   12.17,2, -32.5866, 114.4665,-999.000,-999.000,20090512,       0330
33RR20090320,        I05,     193,          1,         10,         10,2,20090512,       0310,   -32.5865,   114.4665,        986,   319.1,  10.7273,  34.8655,2,  34.8679,2,    244.8,2,   244.4,2,    3.52,2,   11.35,2,    0.00,2,    0.85,2,-999.000,9,-999.000,9,-999.0000,9,  2119.4,2,  2303.1,2,   7.9011,2,    20.00,-999.000,9,-999.000,9,-999.000,9,  10.7329,2,-999.000,9, -999.00,9, -999.00,-999.000,9,-999.000,   49.47,2,   15.28,2, -32.5865, 114.4665,-999.000,-999.000,20090512,       0328
33RR20090320,        I05,     193,          1,          9,          9,2,20090512,       0310,   -32.5865,   114.4665,        986,   369.0,   9.8286,  34.7439,2,  34.7444,2,    241.9,2,   241.9,2,    4.70,2,   14.34,2,    0.00,2,    1.03,2,-999.000,9,-999.000,9,-999.0000,9,  2126.4,2,  2295.3,2,   7.8692,2,    20.00,-999.000,9,-999.000,9,-999.000,9,   9.8293,2,-999.000,9, -999.00,9, -999.00,-999.000,9,-999.000,   48.46,2,   17.27,2, -32.5866, 114.4666,-999.000,-999.000,20090512,       0326
33RR20090320,        I05,     193,          1,          8,          8,2,20090512,       0310,   -32.5865,   114.4665,        986,   417.2,   9.4364,  34.6996,2,  34.7002,2,    239.6,2,   240.1,2,    5.68,2,   15.70,2,    0.00,2,    1.11,2,   3.695,6,   1.996,6,   1.2790,6,  2130.1,2,  2293.2,2,   7.8562,2,    20.00,-999.000,9,-999.000,9,-999.000,9,   9.4319,2,-999.000,9, -999.00,9, -999.00,-999.000,9,-999.000,   47.11,2,   18.38,2, -32.5866, 114.4666,-999.000,-999.000,20090512,       0325
33RR20090320,        I05,     193,          1,          7,          7,2,20090512,       0310,   -32.5865,   114.4665,        986,   468.0,   9.0213,  34.6459,2,  34.6469,2,    239.6,2,   240.2,2,    6.48,2,   16.96,2,    0.00,2,    1.19,2,-999.000,9,-999.000,9,-999.0000,9,  2134.4,2,  2291.4,2,   7.8465,2,    20.00,-999.000,9,-999.000,9,-999.000,9,   9.0243,2,-999.000,9, -999.00,9, -999.00,-999.000,9,-999.000,   46.29,2,   20.37,2, -32.5866, 114.4667,-999.000,-999.000,20090512,       0323
33RR20090320,        I05,     193,          1,          6,          6,2,20090512,       0310,   -32.5865,   114.4665,        986,   535.2,   8.5965,  34.5927,2,  34.5949,2,    234.4,2,   234.0,2,    8.03,2,   18.60,2,    0.00,2,    1.30,2,-999.000,9,-999.000,9,-999.0000,9,  2139.0,2,  2290.8,2,   7.8300,2,    20.00,-999.000,9,-999.000,9,-999.000,9,   8.5887,2,-999.000,9, -999.00,9, -999.00,-999.000,9,-999.000,   45.40,2,   21.55,2, -32.5866, 114.4667,-999.000,-999.000,20090512,       0322
33RR20090320,        I05,     193,          1,          5,          5,2,20090512,       0310,   -32.5865,   114.4665,        986,   636.4,   7.1739,  34.4775,2,  34.4787,2,    207.2,2,   205.9,2,   16.62,2,   24.36,2,    0.00,2,    1.69,2,   2.474,2,   1.252,2,   0.5210,2,  2165.0,2,  2289.3,2,   7.7611,2,    20.00,-999.000,9,-999.000,9,-999.000,9,   7.1735,2,-999.000,9, -999.00,9, -999.00,-999.000,9,-999.000,   45.02,2,   26.72,2, -32.5866, 114.4667,-999.000,-999.000,20090512,       0319
33RR20090320,        I05,     193,          1,          4,          4,2,20090512,       0310,   -32.5865,   114.4665,        986,   736.9,   5.5325,  34.4037,2,  34.4044,2,    193.6,2,   193.2,2,   29.28,2,   28.93,2,    0.00,2,    2.02,2,-999.000,9,-999.000,9,-999.0000,9,  2190.3,2,  2296.8,2,   7.7080,2,    20.00,-999.000,9,-999.000,9,-999.000,9,   5.5315,2,-999.000,9, -999.00,9, -999.00,-999.000,9,-999.000,   43.85,2,   31.91,2, -32.5865, 114.4667,-999.000,-999.000,20090512,       0317
33RR20090320,        I05,     193,          1,          3,          3,2,20090512,       0310,   -32.5865,   114.4665,        986,   836.3,   4.7983,  34.3942,2,  34.3946,2,    187.4,2,   188.4,2,   38.24,2,   30.69,2,    0.00,2,    2.16,2,   1.311,2,   0.631,2,   0.2000,2,  2203.4,2,  2302.4,2,   7.6875,2,    20.00,-999.000,9,-999.000,9,-999.000,9,   4.7965,2,-999.000,9, -999.00,9, -999.00,-999.000,9,-999.000,   42.97,2,   33.62,2, -32.5865, 114.4665,-999.000,-999.000,20090512,       0314
33RR20090320,        I05,     193,          1,          2,          2,2,20090512,       0310,   -32.5865,   114.4665,        986,   910.1,   4.3989,  34.4087,2,  34.4088,2,    180.3,2,   181.6,2,   45.71,2,   31.85,2,    0.00,2,    2.27,2,-999.000,9,-999.000,9,-999.0000,9,  2216.2,2,  2311.8,2,   7.6718,2,    20.00,-999.000,9,-999.000,9,-999.000,9,   4.3968,2,-999.000,9, -999.00,9, -999.00,-999.000,9,-999.000,   43.17,2,   34.53,2, -32.5864, 114.4665,-999.000,-999.000,20090512,       0312
33RR20090320,        I05,     193,          1,          1,          1,2,20090512,       0310,   -32.5865,   114.4665,        986,   983.3,   4.1764,  34.4328,2,  34.4333,2,    173.6,2,   172.5,2,   52.82,2,   32.79,2,    0.00,2,    2.33,2,   0.811,2,   0.385,2,   0.0810,2,  2227.2,2,  2320.2,2,   7.6589,2,    20.00,-999.000,9,-999.000,9,-999.000,9,   4.1685,2,-999.000,9, -999.00,9, -999.00,-999.000,9,-999.000,   42.82,2,   35.07,2, -32.5864, 114.4665,-999.000,-999.000,20090512,       0310
33RR20090320,        I05,     194,          1,         15,         15,2,20090512,       0615,   -32.6317,   114.6794,        626,     7.0,  22.4447,  35.4127,2,  35.4147,2,    216.8,2,   216.2,2,    1.48,2,    0.06,2,    0.00,2,    0.10,2,   1.891,2,   1.154,2,   1.1410,2,  2015.3,2,  2322.4,2,   8.1365,2,    20.00,-999.000,9,-999.000,9,-999.000,9,  22.4424,2,-999.000,9, -999.00,9, -999.00,-999.000,9,-999.000, -999.00,9, -999.00,9, -32.6316, 114.6798,-999.000,-999.000,20090512,       0635
33RR20090320,        I05,     194,          1,         14,         14,2,20090512,       0615,   -32.6317,   114.6794,        626,    25.3,  22.4400,  35.4141,2,  35.4168,3,    216.7,2,   216.9,2,    1.42,2,    0.11,2,    0.00,2,    0.10,2,-999.000,9,-999.000,9,-999.0000,9,  -999.0,9,  2322.5,2,   8.1367,2,    20.00,-999.000,9,-999.000,9,-999.000,9,  22.4380,2,-999.000,9, -999.00,9, -999.00,-999.000,9,-999.000, -999.00,9, -999.00,9, -32.6316, 114.6799,-999.000,-999.000,20090512,       0634
33RR20090320,        I05,     194,          1,         13,         13,2,20090512,       0615,   -32.6317,   114.6794,        626,    47.9,  22.3044,  35.4405,2,  35.4367,2,    215.0,2,   215.5,2,    1.53,2,    0.05,2,    0.00,2,    0.09,2,   1.906,2,   1.163,2,   1.1200,2,  2017.4,2,  2323.5,2,   8.1338,2,    20.00,-999.000,9,-999.000,9,-999.000,9,  22.3241,2,-999.000,9, -999.00,9, -999.00,-999.000,9,-999.000, -999.00,9, -999.00,9, -32.6315, 114.6798,-999.000,-999.000,20090512,       0633
33RR20090320,        I05,     194,          1,         12,         12,2,20090512,       0615,   -32.6317,   114.6794,        626,    69.5,  21.3705,  35.5751,2,  35.5760,2,    209.0,2,   207.3,2,    2.39,2,    0.98,2,    0.06,2,    0.16,2,-999.000,9,-999.000,9,-999.0000,9,  -999.0,9,  2332.2,2,   8.1041,2,    20.00,-999.000,9,-999.000,9,-999.000,9,  21.3710,2,-999.000,9, -999.00,9, -999.00,-999.000,9,-999.000, -999.00,9, -999.00,9, -32.6315, 114.6798,-999.000,-999.000,20090512,       0632
33RR20090320,        I05,     194,          1,         11,         11,2,20090512,       0615,   -32.6317,   114.6794,        626,    92.7,  20.8906,  35.8442,2,  35.8459,2,    219.5,2,   220.0,2,    1.40,2,    0.03,2,    0.02,2,    0.09,2,   2.059,2,   1.253,2,   1.1980,2,  2055.8,2,  2352.0,2,   8.1085,2,    20.00,-999.000,9,-999.000,9,-999.000,9,  20.8474,2,-999.000,9, -999.00,9, -999.00,-999.000,9,-999.000, -999.00,9, -999.00,9, -32.6315, 114.6798,-999.000,-999.000,20090512,       0630
33RR20090320,        I05,     194,          1,         10,         10,2,20090512,       0615,   -32.6317,   114.6794,        626,   146.7,  20.1405,  35.8881,2,  35.8904,2,    224.8,2,   224.2,2,    1.14,2,    0.08,2,    0.02,2,    0.09,2,-999.000,9,-999.000,9,-999.0000,9,  -999.0,9,  2355.6,2,   8.1020,2,    20.00,-999.000,9,-999.000,9,-999.000,9,  20.1385,2,-999.000,9, -999.00,9, -999.00,-999.000,9,-999.000, -999.00,9, -999.00,9, -32.6316, 114.6796,-999.000,-999.000,20090512,       0629
33RR20090320,        I05,     194,          1,          9,          9,2,20090512,       0615,   -32.6317,   114.6794,        626,   199.6,  16.1016,  35.7073,2,  35.7039,2,    229.0,2,   229.1,2,    0.89,2,    1.62,2,    0.01,2,    0.24,2,-999.000,9,-999.000,9,-999.0000,9,  2091.1,2,  2345.7,2,   8.0347,2,    20.00,-999.000,9,-999.000,9,-999.000,9,  16.0965,2,-999.000,9, -999.00,9, -999.00,-999.000,9,-999.000, -999.00,9, -999.00,9, -32.6317, 114.6795,-999.000,-999.000,20090512,       0627
33RR20090320,        I05,     194,          1,          8,          8,2,20090512,       0615,   -32.6317,   114.6794,        626,   249.3,  14.6676,  35.5180,2,  35.5186,2,    230.9,2,   231.6,2,    1.00,2,    3.44,2,    0.01,2,    0.36,2,   2.803,2,   1.625,2,   1.3090,2,  -999.0,9,  2335.6,2,   8.0031,2,    20.00,-999.000,9,-999.000,9,-999.000,9,  14.6628,2,-999.000,9, -999.00,9, -999.00,-999.000,9,-999.000, -999.00,9, -999.00,9, -32.6317, 114.6795,-999.000,-999.000,20090512,       0626
33RR20090320,        I05,     194,          1,          7,          7,2,20090512,       0615,   -32.6317,   114.6794,        626,   299.1,  12.9654,  35.2038,2,  35.2000,2,    236.3,2,   238.5,2,    0.93,2,    6.23,2,    0.01,2,    0.54,2,-999.000,9,-999.000,9,-999.0000,9,  2107.2,2,  2318.1,2,   7.9604,2,    20.00,-999.000,9,-999.000,9,-999.000,9,  12.9755,2,-999.000,9, -999.00,9, -999.00,-999.000,9,-999.000, -999.00,9, -999.00,9, -32.6317, 114.6795,-999.000,-999.000,20090512,       0624
33RR20090320,        I05,     194,          1,          6,          6,2,20090512,       0615,   -32.6317,   114.6794,        626,   352.0,  10.9480,  34.8964,2,  34.8937,2,    245.6,2,   244.6,2,    1.80,2,   10.78,2,    0.00,2,    0.82,2,-999.000,9,-999.000,9,-999.0000,9,  -999.0,9,  2301.6,2,   7.9071,2,    20.00,-999.000,9,-999.000,9,-999.000,9,  10.9440,2,-999.000,9, -999.00,9, -999.00,-999.000,9,-999.000, -999.00,9, -999.00,9, -32.6317, 114.6794,-999.000,-999.000,20090512,       0623
33RR20090320,        I05,     194,          1,          5,          5,2,20090512,       0615,   -32.6317,   114.6794,        626,   400.6,  10.0320,  34.7649,2,  34.7689,2,    243.3,2,   242.7,2,    3.21,2,   13.57,2,    0.00,2,    0.99,2,   3.585,2,   1.980,2,   1.4190,2,  2126.1,2,  2297.4,2,   7.8776,2,    20.00,-999.000,9,-999.000,9,-999.000,9,  10.0375,2,-999.000,9, -999.00,9, -999.00,-999.000,9,-999.000, -999.00,9, -999.00,9, -32.6317, 114.6794,-999.000,-999.000,20090512,       0621
33RR20090320,        I05,     194,          1,          4,          4,2,20090512,       0615,   -32.6317,   114.6794,        626,   448.9,   9.4053,  34.6946,2,  34.6958,2,    239.1,2,   239.8,2,    4.64,2,   15.88,2,    0.00,2,    1.13,2,-999.000,9,-999.000,9,-999.0000,9,  -999.0,9,  2294.6,2,   7.8556,2,    20.00,-999.000,9,-999.000,9,-999.000,9,   9.4092,2,-999.000,9, -999.00,9, -999.00,-999.000,9,-999.000, -999.00,9, -999.00,9, -32.6317, 114.6794,-999.000,-999.000,20090512,       0620
33RR20090320,        I05,     194,          1,          3,          3,2,20090512,       0615,   -32.6317,   114.6794,        626,   498.4,   8.9151,  34.6357,2,  34.6396,3,    236.7,2,   237.2,2,    5.69,2,   17.41,2,    0.00,2,    1.23,2,   3.578,2,   1.913,2,   1.2560,2,  2136.2,2,  2293.3,2,   7.8414,2,    20.00,-999.000,9,-999.000,9,-999.000,9,   8.9285,2,-999.000,9, -999.00,9, -999.00,-999.000,9,-999.000, -999.00,9, -999.00,9, -32.6317, 114.6794,-999.000,-999.000,20090512,       0618
33RR20090320,        I05,     194,          1,          2,          2,2,20090512,       0615,   -32.6317,   114.6794,        626,   559.5,   8.4871,  34.5866,2,  34.5859,2,    230.2,2,   230.3,2,    7.68,2,   19.22,2,    0.00,2,    1.36,2,-999.000,9,-999.000,9,-999.0000,9,  -999.0,9,  2289.3,2,   7.8235,2,    20.00,-999.000,9,-999.000,9,-999.000,9,   8.4955,2,-999.000,9, -999.00,9, -999.00,-999.000,9,-999.000, -999.00,9, -999.00,9, -32.6317, 114.6794,-999.000,-999.000,20090512,       0617
33RR20090320,        I05,     194,          1,          1,          1,2,20090512,       0615,   -32.6317,   114.6794,        626,   622.3,   8.0054,  34.5433,2,  34.5433,2,    219.8,2,   220.8,2,   10.41,2,   21.25,2,    0.00,2,    1.48,2,   3.086,2,   1.600,2,   0.9470,2,  2150.2,2,  2290.2,2,   7.8003,2,    20.00,-999.000,9,-999.000,9,-999.000,9,   8.0136,2,-999.000,9, -999.00,9, -999.00,-999.000,9,-999.000, -999.00,9, -999.00,9, -32.6317, 114.6794,-999.000,-999.000,20090512,       0615