BOTTLE,20220814CCHSIOAMB
EXPOCODE,SECT_ID,STNNBR,CASTNO,SAMPNO,BTLNBR,BTLNBR_FLAG_W,DATE,TIME,LATITUDE,LONGITUDE,DEPTH,CTDPRS,CTDTMP,CTDSAL,CTDSAL_FLAG_W,SALNTY,SALNTY_FLAG_W,CTDOXY,CTDOXY_FLAG_W,OXYGEN,OXYGEN_FLAG_W,SILCAT,SILCAT_FLAG_W,NITRAT,NITRAT_FLAG_W,NITRIT,NITRIT_FLAG_W,PHSPHT,PHSPHT_FLAG_W,CFC-11,CFC-11_FLAG_W,CFC-12,CFC-12_FLAG_W,SF6,SF6_FLAG_W,TCARBN,TCARBN_FLAG_W,ALKALI,ALKALI_FLAG_W,PH_TOT,PH_TOT_FLAG_W,PH_TMP,TRITUM,TRITUM_FLAG_W,HELIUM,HELIUM_FLAG_W,DELHE3,DELHE3_FLAG_W,REFTMP,REFTMP_FLAG_W,DELC13,DELC13_FLAG_W,DELC14,DELC14_FLAG_W,C14ERR,NEON,NEON_FLAG_W,NEONER,DOC,DOC_FLAG_W,TDN,TDN_FLAG_W,BTL_LAT,BTL_LON,HELIER,DELHER,BTL_DATE,BTL_TIME
,,,,,,,,,,,METERS,DBAR,ITS-90,PSS-78,,PSS-78,,UMOL/KG,,UMOL/KG,,UMOL/KG,,UMOL/KG,,UMOL/KG,,UMOL/KG,,PMOL/KG,,PMOL/KG,,FMOL/KG,,UMOL/KG,,UMOL/KG,,,,DEG C,TU,,NMOL/KG,,PERCNT,,DEG C,,/MILLE,,/MILLE,,/MILLE,NMOL/KG,,NMOL/KG,UMOL/KG,,UMOL/KG,,,,NMOL/KG,PERCNT,,
33RR20090320,        I05,     155,          1,         36,         36,2,20090502,       2152,   -32.8850,   100.1112,       5733,     5.6,  18.5797,  35.9703,2,  35.9710,2,    232.0,2,   233.4,2,    0.64,2,    0.12,2,    0.00,2,    0.12,2,   2.286,6,   1.357,6,   1.1700,6,  2081.4,6,  2362.3,2,   8.0803,2,    20.00,-999.000,9,-999.000,9,-999.000,9,  18.5787,2,   1.179,2,   48.54,2,       3,-999.000,9,-999.000,   67.47,2,    4.30,2, -32.8850, 100.1112,-999.000,-999.000,20090503,       0018
33RR20090320,        I05,     155,          1,         35,         35,2,20090502,       2152,   -32.8850,   100.1112,       5733,    32.5,  18.5853,  35.9700,2,  35.9706,2,    233.2,2,   233.3,2,    0.63,2,    0.12,2,    0.00,2,    0.12,2,   2.305,2,   1.366,2,   1.1930,2,  2082.0,2,  2362.0,2,   8.0801,2,    20.00,-999.000,9,-999.000,9,-999.000,9,  18.5844,2,-999.000,9, -999.00,9, -999.00,-999.000,9,-999.000,   66.69,2,    4.44,2, -32.8850, 100.1112,-999.000,-999.000,20090503,       0016
33RR20090320,        I05,     155,          1,         34,         34,2,20090502,       2152,   -32.8850,   100.1112,       5733,    58.4,  18.5016,  35.9504,2,  35.9507,2,    235.1,2,   234.2,2,    0.62,2,    0.12,2,    0.00,2,    0.12,2,   2.305,2,   1.373,2,   1.1800,2,  2082.0,2,  2361.9,2,   8.0791,2,    20.00,-999.000,9,-999.000,9,-999.000,9,  18.5138,2,-999.000,9, -999.00,9, -999.00,-999.000,9,-999.000,   66.98,2,    4.85,2, -32.8850, 100.1113,-999.000,-999.000,20090503,       0015
33RR20090320,        I05,     155,          1,         33,         33,2,20090502,       2152,   -32.8850,   100.1112,       5733,    82.2,  16.3524,  35.7006,2,  35.7110,2,    246.3,2,   245.0,2,    0.61,2,    0.26,2,    0.02,2,    0.17,2,   2.646,2,   1.533,2,   1.3310,2,  2083.7,2,  2345.9,2,   8.0542,2,    20.00,-999.000,9,-999.000,9,-999.000,9,  16.3245,2,-999.000,9, -999.00,9, -999.00,-999.000,9,-999.000,   61.73,2,    4.95,2, -32.8850, 100.1113,-999.000,-999.000,20090503,       0014
33RR20090320,        I05,     155,          1,         32,         32,2,20090502,       2152,   -32.8850,   100.1112,       5733,   107.2,  15.3252,  35.6265,2,  35.6296,2,    240.5,2,   238.5,2,    0.79,2,    1.46,2,    0.12,2,    0.25,2,   2.738,2,   1.590,2,   1.2610,2,  2094.3,2,  2343.7,2,   8.0255,2,    20.00,-999.000,9,-999.000,9,-999.000,9,  15.2862,2,   1.084,2,   50.06,2,     3.5,-999.000,9,-999.000,   56.24,2,    6.06,2, -32.8850, 100.1113,-999.000,-999.000,20090503,       0013
33RR20090320,        I05,     155,          1,         31,         31,2,20090502,       2152,   -32.8850,   100.1112,       5733,   157.1,  13.9528,  35.4372,2,  35.4303,2,    234.3,2,   236.0,2,    0.96,2,    4.73,2,    0.01,2,    0.44,2,   2.941,2,   1.684,2,   1.3520,2,  2106.6,2,  2329.0,2,   7.9809,2,    20.00,-999.000,9,-999.000,9,-999.000,9,  13.9631,2,-999.000,9, -999.00,9, -999.00,-999.000,9,-999.000,   50.60,2,    7.83,2, -32.8850, 100.1112,-999.000,-999.000,20090503,       0011
33RR20090320,        I05,     155,          1,         30,         30,2,20090502,       2152,   -32.8850,   100.1112,       5733,   207.4,  12.8307,  35.2413,2,  35.2421,2,    239.2,2,   241.8,2,    1.13,2,    6.41,2,    0.01,2,    0.55,2,   3.123,2,   1.766,2,   1.3600,2,  2108.3,2,  2320.2,2,   7.9597,2,    20.00,-999.000,9,-999.000,9,-999.000,9,  12.8336,2,   1.136,2,   55.91,2,       3,-999.000,9,-999.000,   49.56,2,    9.14,2, -32.8850, 100.1112,-999.000,-999.000,20090503,       0009
33RR20090320,        I05,     155,          1,         29,         29,2,20090502,       2152,   -32.8850,   100.1112,       5733,   259.5,  12.1902,  35.1231,2,  35.1272,2,    242.1,2,   242.0,2,    1.30,2,    7.99,2,    0.00,2,    0.63,2,   3.243,2,   1.819,2,   1.4540,2,  2111.6,2,  2315.8,2,   7.9397,2,    20.00,-999.000,9,-999.000,9,-999.000,9,  12.1853,2,   1.152,2,   54.15,2,     2.8,-999.000,9,-999.000,   48.50,2,   10.31,2, -32.8850, 100.1112,-999.000,-999.000,20090503,       0008
33RR20090320,        I05,     155,          1,         28,         28,2,20090502,       2152,   -32.8850,   100.1112,       5733,   307.4,  11.4860,  34.9989,2,  34.9962,2,    242.9,2,   243.0,2,    1.65,2,    9.73,2,    0.00,2,    0.75,2,   3.359,2,   1.883,2,   1.4180,2,  2115.1,2,  2309.2,2,   7.9188,2,    20.00,-999.000,9,-999.000,9,-999.000,9,  11.4886,2,   1.164,2,    63.5,2,     3.3,-999.000,9,-999.000,   46.97,2,   11.74,2, -32.8851, 100.1112,-999.000,-999.000,20090503,       0006
33RR20090320,        I05,     155,          1,         27,         27,2,20090502,       2152,   -32.8850,   100.1112,       5733,   358.7,  10.6966,  34.8700,2,  34.8704,2,    241.9,2,   242.5,2,    2.36,2,   12.02,2,    0.00,2,    0.88,2,   3.529,2,   1.947,2,   1.3910,2,  2119.3,2,  2303.4,2,   7.8952,2,    20.00,-999.000,9,-999.000,9,-999.000,9,  10.7049,2,   1.165,2,   48.96,2,     3.5,-999.000,9,-999.000,   45.75,2,   13.86,2, -32.8851, 100.1112,-999.000,-999.000,20090503,       0005
33RR20090320,        I05,     155,          1,         26,         26,2,20090502,       2152,   -32.8850,   100.1112,       5733,   408.9,  10.1422,  34.7899,2,  34.7910,2,    241.4,2,   241.9,2,    2.90,2,   13.53,2,    0.00,2,    0.98,2,   3.632,2,   1.979,2,   1.4040,2,  2121.1,2,  2298.1,2,   7.8783,2,    20.00,-999.000,9,-999.000,9,-999.000,9,  10.1491,2,   1.162,2,   15.13,2,     2.7,-999.000,9,-999.000,   44.89,2,   15.61,2, -32.8851, 100.1113,-999.000,-999.000,20090503,       0003
33RR20090320,        I05,     155,          1,         25,         25,2,20090502,       2152,   -32.8850,   100.1112,       5733,   507.6,   9.5849,  34.7182,2,  34.7189,2,    240.7,2,   240.3,2,    3.61,2,   15.39,2,    0.00,2,    1.09,2,   3.769,2,   2.005,2,   1.3160,2,  2125.1,2,  2293.8,2,   7.8602,2,    20.00,-999.000,9,-999.000,9,-999.000,9,   9.5839,2,   1.176,2,   18.83,2,     2.7,-999.000,9,-999.000,   44.02,2,   17.02,2, -32.8852, 100.1113,-999.000,-999.000,20090503,       0001
33RR20090320,        I05,     155,          1,         24,         24,2,20090502,       2152,   -32.8850,   100.1112,       5733,   607.7,   9.1553,  34.6614,2,  34.6599,2,    239.4,2,   239.5,2,    3.96,2,   16.80,2,    0.00,2,    1.18,2,   3.759,2,   1.979,2,   1.1510,2,  2119.7,3,  2291.7,3,   7.8473,2,    20.00,-999.000,9,-999.000,9,-999.000,9,   9.1557,2,   1.193,2,   30.99,2,     2.8,-999.000,9,-999.000,   43.33,2,   18.28,2, -32.8852, 100.1113,-999.000,-999.000,20090502,       2358
33RR20090320,        I05,     155,          1,         23,         23,2,20090502,       2152,   -32.8850,   100.1112,       5733,   708.2,   8.4529,  34.5751,2,  34.5778,2,    228.0,2,   228.4,2,    6.48,2,   19.58,2,    0.00,2,    1.36,2,   3.408,2,   1.767,2,   0.9570,2,  -999.0,5,  2287.3,2,   7.8181,2,    20.00,-999.000,9,-999.000,9,-999.000,9,   8.4533,2,   1.152,2,   31.91,2,       3,-999.000,9,-999.000,   42.41,2,   21.13,2, -32.8851, 100.1113,-999.000,-999.000,20090502,       2356
33RR20090320,        I05,     155,          1,         22,         22,2,20090502,       2152,   -32.8850,   100.1112,       5733,   807.6,   7.3258,  34.4833,2,  34.4839,2,    204.9,2,   205.4,2,   13.02,2,   24.23,2,    0.00,2,    1.67,2,   2.530,2,   1.271,2,   0.5170,2,  2157.9,2,  2289.4,2,   7.7617,2,    20.00,-999.000,9,-999.000,9,-999.000,9,   7.3294,2,   1.062,2,  -28.55,2,     3.5,-999.000,9,-999.000,   41.18,2,   25.97,2, -32.8851, 100.1113,-999.000,-999.000,20090502,       2354
33RR20090320,        I05,     155,          1,         21,         21,2,20090502,       2152,   -32.8850,   100.1112,       5733,   907.5,   5.9395,  34.4103,2,  34.4115,2,    196.5,2,   196.4,2,   22.11,2,   28.01,2,    0.00,2,    1.94,2,   1.849,2,   0.902,2,   0.2900,2,  2177.5,2,  2294.0,2,   7.7169,2,    20.00,-999.000,9,-999.000,9,-999.000,9,   5.9378,2,   0.987,2,  -75.56,2,     3.2,-999.000,9,-999.000,   40.32,2,   29.47,2, -32.8850, 100.1112,-999.000,-999.000,20090502,       2351
33RR20090320,        I05,     155,          1,         20,         20,2,20090502,       2152,   -32.8850,   100.1112,       5733,  1008.6,   4.5936,  34.3859,2,  34.3860,2,    189.9,2,   190.0,2,   36.20,2,   31.04,2,    0.00,2,    2.19,2,   1.259,2,   0.604,2,   0.1670,2,  2200.6,2,  2304.9,2,   7.6804,2,    20.00,-999.000,9,-999.000,9,-999.000,9,   4.5904,2,   0.916,2, -104.18,2,     2.4,-999.000,9,-999.000,   40.17,2,   32.98,2, -32.8851, 100.1112,-999.000,-999.000,20090502,       2349
33RR20090320,        I05,     155,          1,         19,         19,2,20090502,       2152,   -32.8850,   100.1112,       5733,  1109.9,   4.0088,  34.4141,2,  34.4146,2,    179.8,2,   179.5,2,   47.24,2,   32.69,2,    0.00,2,    2.30,2,   0.855,2,   0.401,2,   0.1040,2,  2219.1,2,  2312.7,2,   7.6584,2,    20.00,-999.000,9,-999.000,9,-999.000,9,   4.0102,2,   0.737,2,  -104.2,2,     2.4,-999.000,9,-999.000,   39.65,2,   34.08,2, -32.8851, 100.1112,-999.000,-999.000,20090502,       2346
33RR20090320,        I05,     155,          1,         18,         18,2,20090502,       2152,   -32.8850,   100.1112,       5733,  1209.3,   3.7096,  34.4668,2,  34.4684,2,    164.4,2,   164.6,2,   59.43,2,   33.79,2,    0.00,2,    2.41,2,   0.453,2,   0.214,2,   0.0630,2,  2238.2,2,  2327.9,2,   7.6383,2,    20.00,-999.000,9,-999.000,9,-999.000,9,   3.7041,2,   0.642,2,  -127.7,2,     2.3,-999.000,9,-999.000,   39.63,2,   35.46,2, -32.8851, 100.1113,-999.000,-999.000,20090502,       2344
33RR20090320,        I05,     155,          1,         17,         17,2,20090502,       2152,   -32.8850,   100.1112,       5733,  1309.9,   3.4349,  34.5072,2,  34.5061,2,    158.7,2,   158.4,2,   67.21,2,   34.44,2,    0.00,2,    2.46,2,   0.248,6,   0.119,6,   0.0130,6,  2249.0,2,  2336.7,2,   7.6298,2,    20.00,-999.000,9,-999.000,9,-999.000,9,   3.4350,2,    0.62,2, -146.43,2,     2.1,-999.000,9,-999.000,   39.60,2,   35.91,2, -32.8850, 100.1114,-999.000,-999.000,20090502,       2341
33RR20090320,        I05,     155,          1,         16,         16,2,20090502,       2152,   -32.8850,   100.1112,       5733,  1408.2,   3.2645,  34.5440,2,  34.5434,2,    154.5,2,   154.2,2,   73.16,2,   34.55,2,    0.00,2,    2.46,2,   0.140,2,   0.069,2,   0.0000,2,  2256.2,2,  2342.6,2,   7.6257,2,    20.00,-999.000,9,-999.000,9,-999.000,9,   3.2683,2,   0.511,2, -164.78,2,     2.6,-999.000,9,-999.000,   39.84,2,   35.83,2, -32.8850, 100.1114,-999.000,-999.000,20090502,       2339
33RR20090320,        I05,     155,          1,         15,         15,2,20090502,       2152,   -32.8850,   100.1112,       5733,  1609.4,   2.9510,  34.6094,2,  34.6081,2,    153.7,2,   153.8,2,   81.53,2,   34.44,2,    0.00,2,    2.46,2,   0.049,2,   0.025,2,   0.0000,2,  2265.8,6,  2351.4,2,   7.6276,2,    20.00,-999.000,9,-999.000,9,-999.000,9,   2.9508,2,   0.513,2, -164.31,2,     2.1,-999.000,9,-999.000,   39.59,2,   36.34,2, -32.8850, 100.1113,-999.000,-999.000,20090502,       2334
33RR20090320,        I05,     155,          1,         14,         14,2,20090502,       2152,   -32.8850,   100.1112,       5733,  1812.1,   2.6840,  34.6623,2,  34.6617,2,    158.6,2,   158.4,2,   87.50,2,   33.71,2,    0.00,2,    2.41,2,   0.021,2,   0.012,2,   0.0000,2,  2267.5,2,  2357.0,2,   7.6391,2,    20.00,-999.000,9,-999.000,9,-999.000,9,   2.6838,2,   0.422,2, -165.44,2,     2.7,-999.000,9,-999.000,   39.83,2,   35.21,2, -32.8850, 100.1114,-999.000,-999.000,20090502,       2330
33RR20090320,        I05,     155,          1,         13,         13,2,20090502,       2152,   -32.8850,   100.1112,       5733,  2012.8,   2.4586,  34.6967,2,  34.6967,2,    164.6,2,   166.4,2,   91.04,2,   32.87,2,    0.00,2,    2.34,2,   0.016,2,   0.009,2,   0.0000,2,  2265.6,2,  2360.7,2,   7.6522,2,    20.00,-999.000,9,-999.000,9,-999.000,9,   2.4587,2,   0.468,2, -170.95,2,     2.2,-999.000,9,-999.000,   39.24,2,   34.11,2, -32.8850, 100.1114,-999.000,-999.000,20090502,       2326
33RR20090320,        I05,     155,          1,         12,         12,2,20090502,       2152,   -32.8850,   100.1112,       5733,  2264.4,   2.2186,  34.7224,2,  34.7224,2,    174.7,2,   174.2,2,   94.78,2,   32.27,2,    0.00,2,    2.28,2,   0.011,2,   0.006,2,   0.0000,2,  2263.6,2,  2363.0,2,   7.6647,2,    20.00,-999.000,9,-999.000,9,-999.000,9,   2.2180,2,    0.45,2, -173.23,2,     2.2,-999.000,9,-999.000,   39.37,2,   34.19,2, -32.8849, 100.1113,-999.000,-999.000,20090502,       2321
33RR20090320,        I05,     155,          1,         11,         11,2,20090502,       2152,   -32.8850,   100.1112,       5733,  2516.0,   1.9980,  34.7379,2,  34.7380,2,    186.8,2,   186.9,2,   93.47,2,   31.16,2,    0.00,2,    2.19,2,   0.013,2,   0.008,2,   0.0000,2,  2254.0,2,  2360.8,2,   7.6790,2,    20.00,-999.000,9,-999.000,9,-999.000,9,   1.9978,2,   0.499,2, -164.99,2,     2.1,-999.000,9,-999.000,   39.49,2,   32.99,2, -32.8850, 100.1113,-999.000,-999.000,20090502,       2315
33RR20090320,        I05,     155,          1,         10,         10,2,20090502,       2152,   -32.8850,   100.1112,       5733,  2770.6,   1.7741,  34.7416,2,  34.7405,2,    194.2,2,   194.4,2,   96.64,2,   30.83,2,    0.00,2,    2.17,2,   0.014,2,   0.008,2,   0.0000,2,  2252.2,2,  2359.6,2,   7.6854,2,    20.00,-999.000,9,-999.000,9,-999.000,9,   1.7742,2,   0.562,2, -159.31,2,     2.9,-999.000,9,-999.000,   39.11,2,   32.02,2, -32.8850, 100.1113,-999.000,-999.000,20090502,       2310
33RR20090320,        I05,     155,          1,          9,          9,2,20090502,       2152,   -32.8850,   100.1112,       5733,  3023.9,   1.5713,  34.7377,2,  34.7376,2,    198.0,2,   197.6,2,  102.08,2,   31.05,2,    0.00,2,    2.18,2,   0.015,2,   0.008,2,   0.0000,2,  2253.7,2,  2363.3,2,   7.6863,2,    20.00,-999.000,9,-999.000,9,-999.000,9,   1.5711,2,   0.606,2, -159.97,2,     2.6,-999.000,9,-999.000,   39.70,2,   32.36,2, -32.8850, 100.1113,-999.000,-999.000,20090502,       2305
33RR20090320,        I05,     155,          1,          8,          8,2,20090502,       2152,   -32.8850,   100.1112,       5733,  3327.8,   1.3738,  34.7306,2,  34.7307,2,    201.0,2,   200.6,2,  108.28,2,   31.21,2,    0.00,2,    2.20,2,   0.019,2,   0.011,2,   0.0000,2,  2256.1,2,  2364.4,2,   7.6862,2,    20.00,-999.000,9,-999.000,9,-999.000,9,   1.3740,2,   0.502,2, -150.31,2,     2.4,-999.000,9,-999.000,   39.40,2,   32.95,2, -32.8849, 100.1114,-999.000,-999.000,20090502,       2259
33RR20090320,        I05,     155,          1,          7,          7,2,20090502,       2152,   -32.8850,   100.1112,       5733,  3630.7,   1.2269,  34.7243,2,  34.7234,2,    202.5,2,   203.0,2,  112.80,2,   31.53,2,    0.00,2,    2.21,2,   0.023,2,   0.013,2,   0.0000,2,  2258.4,2,  2366.0,2,   7.6869,2,    20.00,-999.000,9,-999.000,9,-999.000,9,   1.2271,2,   0.488,2, -164.27,2,     2.4,-999.000,9,-999.000,   40.13,2,   32.95,2, -32.8848, 100.1115,-999.000,-999.000,20090502,       2254
33RR20090320,        I05,     155,          1,          6,          6,2,20090502,       2152,   -32.8850,   100.1112,       5733,  4034.5,   1.1047,  34.7173,2,  34.7170,2,    204.4,2,   204.6,2,  116.75,2,   31.81,2,    0.00,2,    2.23,2,   0.030,2,   0.019,2,   0.0000,2,  2262.6,2,  2369.7,2,   7.6879,2,    20.00,-999.000,9,-999.000,9,-999.000,9,   1.1047,2,   0.488,2,  -156.8,2,     2.4,-999.000,9,-999.000,   39.92,2,   33.27,2, -32.8847, 100.1115,-999.000,-999.000,20090502,       2246
33RR20090320,        I05,     155,          1,          5,          5,2,20090502,       2152,   -32.8850,   100.1112,       5733,  4445.1,   1.0563,  34.7127,2,  34.7128,2,    205.7,2,   205.9,2,  119.39,2,   31.97,2,    0.00,2,    2.25,2,   0.031,2,   0.020,2,   0.0000,2,  2264.1,2,  2374.5,2,   7.6897,2,    20.00,-999.000,9,-999.000,9,-999.000,9,   1.0560,2,    0.46,2, -158.72,2,     1.8,-999.000,9,-999.000,   39.85,2,   33.28,2, -32.8847, 100.1114,-999.000,-999.000,20090502,       2238
33RR20090320,        I05,     155,          1,          4,          4,2,20090502,       2152,   -32.8850,   100.1112,       5733,  4851.4,   1.0691,  34.7116,2,  34.7105,2,    205.8,2,   206.3,2,  120.14,2,   32.02,2,    0.00,2,    2.25,2,   0.036,2,   0.021,2,   0.0000,2,  2265.2,2,  2374.6,2,   7.6888,2,    20.00,-999.000,9,-999.000,9,-999.000,9,   1.0693,2,   0.509,2, -161.78,2,     1.6,-999.000,9,-999.000,   39.89,2,   33.50,2, -32.8846, 100.1113,-999.000,-999.000,20090502,       2230
33RR20090320,        I05,     155,          1,          3,          3,2,20090502,       2152,   -32.8850,   100.1112,       5733,  5263.9,   1.0979,  34.7104,2,  34.7105,2,    206.6,2,   206.4,2,  121.08,2,   32.07,2,    0.00,2,    2.25,2,   0.040,2,   0.024,2,   0.0000,2,  2264.5,2,  2375.4,2,   7.6883,2,    20.00,-999.000,9,-999.000,9,-999.000,9,   1.0984,2,   0.476,2, -158.03,2,     2.2,-999.000,9,-999.000,   39.54,2,   33.74,2, -32.8848, 100.1111,-999.000,-999.000,20090502,       2218
33RR20090320,        I05,     155,          1,          2,          2,2,20090502,       2152,   -32.8850,   100.1112,       5733,  5539.1,   1.1198,  34.7097,2,  34.7093,2,    206.7,2,   207.0,2,  121.08,2,   32.01,2,    0.00,2,    2.25,2,   0.041,2,   0.023,2,   0.0000,2,  2264.7,2,  2372.8,2,   7.6875,2,    20.00,-999.000,9,-999.000,9,-999.000,9,   1.1205,2,   0.501,2,  -164.3,2,     2.3,-999.000,9,-999.000,   39.85,2,   33.40,2, -32.8849, 100.1110,-999.000,-999.000,20090502,       2206
33RR20090320,        I05,     155,          1,          1,          1,2,20090502,       2152,   -32.8850,   100.1112,       5733,  5833.1,   1.1533,  34.7087,2,  34.7103,2,    207.3,2,   206.9,2,  120.90,2,   32.06,2,    0.00,2,    2.26,2,   0.043,6,   0.025,6,   0.0000,6,  2265.3,6,  2375.7,2,   7.6874,2,    20.00,-999.000,9,-999.000,9,-999.000,9,   1.1533,2,   0.488,2, -157.89,2,       3,-999.000,9,-999.000,   39.56,2,   33.64,2, -32.8850, 100.1112,-999.000,-999.000,20090502,       2152