BOTTLE,20220814CCHSIOAMB
EXPOCODE,SECT_ID,STNNBR,CASTNO,SAMPNO,BTLNBR,BTLNBR_FLAG_W,DATE,TIME,LATITUDE,LONGITUDE,DEPTH,CTDPRS,CTDTMP,CTDSAL,CTDSAL_FLAG_W,SALNTY,SALNTY_FLAG_W,CTDOXY,CTDOXY_FLAG_W,OXYGEN,OXYGEN_FLAG_W,SILCAT,SILCAT_FLAG_W,NITRAT,NITRAT_FLAG_W,NITRIT,NITRIT_FLAG_W,PHSPHT,PHSPHT_FLAG_W,CFC-11,CFC-11_FLAG_W,CFC-12,CFC-12_FLAG_W,SF6,SF6_FLAG_W,TCARBN,TCARBN_FLAG_W,ALKALI,ALKALI_FLAG_W,PH_TOT,PH_TOT_FLAG_W,PH_TMP,TRITUM,TRITUM_FLAG_W,HELIUM,HELIUM_FLAG_W,DELHE3,DELHE3_FLAG_W,REFTMP,REFTMP_FLAG_W,DELC13,DELC13_FLAG_W,DELC14,DELC14_FLAG_W,C14ERR,NEON,NEON_FLAG_W,NEONER,DOC,DOC_FLAG_W,TDN,TDN_FLAG_W,BTL_LAT,BTL_LON,HELIER,DELHER,BTL_DATE,BTL_TIME
,,,,,,,,,,,METERS,DBAR,ITS-90,PSS-78,,PSS-78,,UMOL/KG,,UMOL/KG,,UMOL/KG,,UMOL/KG,,UMOL/KG,,UMOL/KG,,PMOL/KG,,PMOL/KG,,FMOL/KG,,UMOL/KG,,UMOL/KG,,,,DEG C,TU,,NMOL/KG,,PERCNT,,DEG C,,/MILLE,,/MILLE,,/MILLE,NMOL/KG,,NMOL/KG,UMOL/KG,,UMOL/KG,,,,NMOL/KG,PERCNT,,
33RR20090320,        I05,     149,          2,         36,         36,2,20090501,       0804,   -33.9970,    97.2751,       4441,     2.0,  17.2182,  35.4080,2,  35.4095,2,    243.7,2,   245.8,2,    0.52,2,    0.56,2,    0.01,2,    0.20,2,   2.510,6,   1.472,6,   1.3280,6,  2068.0,6,  2336.9,2,   8.0618,2,    20.00,-999.000,9,-999.000,9,-999.000,9,  17.2168,2,   1.693,2,   44.51,2,     2.8,-999.000,9,-999.000,   67.12,2,    4.87,2, -33.9970,  97.2749,-999.000,-999.000,20090501,       0952
33RR20090320,        I05,     149,          2,         35,         35,2,20090501,       0804,   -33.9970,    97.2751,       4441,    25.9,  17.5588,  35.5678,2,  35.5697,2,    242.4,2,   241.8,2,    0.52,2,    0.19,2,    0.01,2,    0.18,2,   2.448,2,   1.444,2,   1.3440,2,  2068.5,2,  2343.1,2,   8.0668,2,    20.00,-999.000,9,-999.000,9,-999.000,9,  17.5616,2,-999.000,9, -999.00,9, -999.00,-999.000,9,-999.000,   67.08,2,    4.83,2, -33.9970,  97.2750,-999.000,-999.000,20090501,       0951
33RR20090320,        I05,     149,          2,         34,         34,2,20090501,       0804,   -33.9970,    97.2751,       4441,    51.3,  17.9051,  35.7415,2,  35.7414,2,    237.9,2,   237.7,2,    0.69,2,    0.03,2,    0.00,2,    0.16,2,   2.406,2,   1.416,2,   1.3270,2,  2074.8,2,  2352.4,2,   8.0694,2,    20.00,-999.000,9,-999.000,9,-999.000,9,  17.9028,2,-999.000,9, -999.00,9, -999.00,-999.000,9,-999.000,   66.99,2,    4.64,2, -33.9969,  97.2750,-999.000,-999.000,20090501,       0949
33RR20090320,        I05,     149,          2,         33,         33,2,20090501,       0804,   -33.9970,    97.2751,       4441,    76.1,  15.7575,  35.5746,2,  35.5821,2,    251.8,2,   251.5,2,    0.69,2,    0.22,2,    0.03,2,    0.21,2,   2.773,2,   1.600,2,   1.3480,2,  2082.6,2,  2340.6,2,   8.0387,2,    20.00,-999.000,9,-999.000,9,-999.000,9,  15.7483,2,-999.000,9, -999.00,9, -999.00,-999.000,9,-999.000,   60.49,2,    5.17,2, -33.9969,  97.2750,-999.000,-999.000,20090501,       0948
33RR20090320,        I05,     149,          2,         32,         32,2,20090501,       0804,   -33.9970,    97.2751,       4441,   101.0,  14.7163,  35.5107,2,  35.5113,2,    240.4,2,   239.4,2,    1.04,2,    2.58,2,    0.30,2,    0.36,2,   2.839,2,   1.648,2,   1.4070,2,  2097.2,2,  2335.9,2,   8.0015,2,    20.00,-999.000,9,-999.000,9,-999.000,9,  14.7150,2,   1.274,2,   50.99,2,     3.4,-999.000,9,-999.000,   55.13,2,    7.50,2, -33.9968,  97.2750,-999.000,-999.000,20090501,       0946
33RR20090320,        I05,     149,          2,         31,         31,2,20090501,       0804,   -33.9970,    97.2751,       4441,   151.0,  13.8521,  35.4123,2,  35.4094,2,    235.6,2,   237.0,2,    1.23,2,    4.68,2,    0.01,2,    0.46,2,   2.955,2,   1.693,2,   1.3750,2,  2104.6,2,  2328.7,2,   7.9787,2,    20.00,-999.000,9,-999.000,9,-999.000,9,  13.8498,2,-999.000,9, -999.00,9, -999.00,-999.000,9,-999.000,   51.98,2,    8.62,2, -33.9968,  97.2750,-999.000,-999.000,20090501,       0944
33RR20090320,        I05,     149,          2,         30,         30,2,20090501,       0804,   -33.9970,    97.2751,       4441,   200.8,  13.2620,  35.3128,2,  35.3152,2,    239.6,2,   241.1,2,    1.40,2,    5.62,2,    0.01,2,    0.52,2,   3.039,2,   1.744,2,   1.3270,2,  2106.2,2,  2324.8,2,   7.9661,2,    20.00,-999.000,9,-999.000,9,-999.000,9,  13.2638,2,   1.199,2,   46.09,2,       3,-999.000,9,-999.000,   50.43,2,    9.11,2, -33.9968,  97.2750,-999.000,-999.000,20090501,       0942
33RR20090320,        I05,     149,          2,         29,         29,2,20090501,       0804,   -33.9970,    97.2751,       4441,   250.8,  12.5124,  35.1745,2,  35.1812,2,    240.7,2,   239.6,2,    1.76,2,    7.37,2,    0.00,2,    0.62,2,   3.187,2,   1.791,2,   1.4470,2,  2111.2,2,  2316.6,2,   7.9451,2,    20.00,-999.000,9,-999.000,9,-999.000,9,  12.5006,2,-999.000,9, -999.00,9, -999.00,-999.000,9,-999.000,   49.41,2,    9.66,2, -33.9968,  97.2750,-999.000,-999.000,20090501,       0941
33RR20090320,        I05,     149,          2,         28,         28,2,20090501,       0804,   -33.9970,    97.2751,       4441,   301.2,  11.8079,  35.0476,2,  35.0499,2,    243.2,2,   242.6,2,    1.93,2,    8.91,2,    0.00,2,    0.71,2,   3.305,2,   1.848,2,   1.3880,2,  2113.0,2,  2310.8,2,   7.9277,2,    20.00,-999.000,9,-999.000,9,-999.000,9,  11.8064,2,   1.182,2,   43.13,2,     3.3,-999.000,9,-999.000,   48.56,2,   11.24,2, -33.9969,  97.2749,-999.000,-999.000,20090501,       0939
33RR20090320,        I05,     149,          2,         27,         27,2,20090501,       0804,   -33.9970,    97.2751,       4441,   350.0,  11.2609,  34.9571,2,  34.9609,2,    243.3,2,   243.2,2,    2.48,2,   10.27,2,    0.00,2,    0.80,2,   3.401,6,   1.886,6,   1.4420,6,  2115.2,2,  2304.9,2,   7.9133,2,    20.00,-999.000,9,-999.000,9,-999.000,9,  11.2591,2,-999.000,9, -999.00,9, -999.00,-999.000,9,-999.000,   47.67,2,   12.31,2, -33.9969,  97.2749,-999.000,-999.000,20090501,       0938
33RR20090320,        I05,     149,          2,         26,         26,2,20090501,       0804,   -33.9970,    97.2751,       4441,   400.9,  10.9113,  34.9001,2,  34.8988,2,    243.8,2,   243.7,2,    2.65,2,   11.37,2,    0.00,2,    0.87,2,   3.578,2,   1.977,2,   1.4060,2,  2117.2,2,  2302.6,2,   7.9019,2,    20.00,-999.000,9,-999.000,9,-999.000,9,  10.9090,2,   1.224,2,   46.16,2,       3,-999.000,9,-999.000,   46.93,2,   12.88,2, -33.9969,  97.2749,-999.000,-999.000,20090501,       0936
33RR20090320,        I05,     149,          2,         25,         25,2,20090501,       0804,   -33.9970,    97.2751,       4441,   450.0,  10.5756,  34.8546,2,  34.8579,2,    242.2,2,   241.9,2,    3.01,2,   12.35,2,    0.00,2,    0.93,2,   3.536,2,   1.936,2,   1.3520,2,  2119.3,2,  2299.0,2,   7.8921,2,    20.00,-999.000,9,-999.000,9,-999.000,9,  10.5801,2,-999.000,9, -999.00,9, -999.00,-999.000,9,-999.000,   46.02,2,   14.07,2, -33.9969,  97.2748,-999.000,-999.000,20090501,       0934
33RR20090320,        I05,     149,          2,         24,         24,2,20090501,       0804,   -33.9970,    97.2751,       4441,   500.8,  10.1811,  34.8002,2,  34.8003,2,    240.7,2,   240.6,2,    3.54,2,   13.67,2,    0.00,2,    1.01,2,   3.607,2,   1.942,2,   1.3000,2,  2121.5,2,  2297.2,2,   7.8781,2,    20.00,-999.000,9,-999.000,9,-999.000,9,  10.1753,2,   1.209,2,   41.93,2,       3,-999.000,9,-999.000,   45.04,2,   14.78,2, -33.9969,  97.2748,-999.000,-999.000,20090501,       0932
33RR20090320,        I05,     149,          2,         23,         23,2,20090501,       0804,   -33.9970,    97.2751,       4441,   600.5,   9.6149,  34.7223,2,  34.7234,2,    239.2,2,   240.1,2,    4.09,2,   15.26,2,    0.00,2,    1.10,2,   3.697,2,   1.984,2,   1.2270,2,  2128.4,2,  2293.2,2,   7.8605,2,    20.00,-999.000,9,-999.000,9,-999.000,9,   9.6106,2,   1.218,2,   37.62,2,     3.3,-999.000,9,-999.000,   44.23,2,   16.65,2, -33.9970,  97.2748,-999.000,-999.000,20090501,       0929
33RR20090320,        I05,     149,          2,         22,         22,2,20090501,       0804,   -33.9970,    97.2751,       4441,   701.2,   9.1202,  34.6545,2,  34.6523,2,    238.2,2,   237.6,2,    4.80,2,   16.90,2,    0.00,2,    1.21,2,   3.705,2,   1.937,2,   1.1370,2,  2132.9,2,  2291.5,2,   7.8457,2,    20.00,-999.000,9,-999.000,9,-999.000,9,   9.1140,2,   1.232,2,   34.38,2,     2.9,-999.000,9,-999.000,   42.96,2,   18.66,2, -33.9970,  97.2747,-999.000,-999.000,20090501,       0926
33RR20090320,        I05,     149,          2,         21,         21,2,20090501,       0804,   -33.9970,    97.2751,       4441,   800.6,   8.3262,  34.5651,2,  34.5670,2,    221.1,2,   220.8,2,    8.24,2,   20.42,2,    0.00,2,    1.44,2,   3.261,2,   1.637,2,   0.7960,2,  2145.3,2,  2288.0,2,   7.8078,2,    20.00,-999.000,9,-999.000,9,-999.000,9,   8.3308,2,   1.221,2,   19.85,2,     3.1,-999.000,9,-999.000,   41.76,2,   21.81,2, -33.9971,  97.2748,-999.000,-999.000,20090501,       0923
33RR20090320,        I05,     149,          2,         20,         20,2,20090501,       0804,   -33.9970,    97.2751,       4441,   901.0,   6.9865,  34.4644,2,  34.4659,2,    199.9,2,   201.1,2,   15.84,2,   25.21,2,    0.00,2,    1.77,2,   2.319,2,   1.143,2,   0.4420,2,  2166.9,2,  2289.5,2,   7.7495,2,    20.00,-999.000,9,-999.000,9,-999.000,9,   6.9890,2,   1.274,2,  -12.41,2,     2.9,-999.000,9,-999.000,   40.96,2,   26.85,2, -33.9971,  97.2749,-999.000,-999.000,20090501,       0921
33RR20090320,        I05,     149,          2,         19,         19,2,20090501,       0804,   -33.9970,    97.2751,       4441,  1001.0,   5.5574,  34.3902,2,  34.3919,2,    196.6,2,   197.8,2,   24.57,2,   28.64,2,    0.00,2,    2.02,2,   1.834,2,   0.887,2,   0.3150,2,  2185.8,2,  2292.9,2,   7.7112,2,    20.00,-999.000,9,-999.000,9,-999.000,9,   5.5515,2,   1.076,2,  -42.86,2,     3.1,-999.000,9,-999.000,   40.20,2,   29.86,2, -33.9971,  97.2749,-999.000,-999.000,20090501,       0918
33RR20090320,        I05,     149,          2,         18,         18,2,20090501,       0804,   -33.9970,    97.2751,       4441,  1101.5,   4.6294,  34.3730,2,  34.3745,2,    192.9,2,   194.3,2,   33.87,2,   30.63,2,    0.00,2,    2.19,2,   1.461,2,   0.697,2,   0.1820,2,  2201.5,2,  2300.7,2,   7.6870,2,    20.00,-999.000,9,-999.000,9,-999.000,9,   4.6286,2,   0.983,2,  -69.55,2,     3.2,-999.000,9,-999.000,   40.12,2,   32.15,2, -33.9972,  97.2750,-999.000,-999.000,20090501,       0915
33RR20090320,        I05,     149,          2,         17,         17,2,20090501,       0804,   -33.9970,    97.2751,       4441,  1201.8,   3.9958,  34.3990,2,  34.3996,2,    182.9,2,   184.1,2,   45.05,2,   32.30,2,    0.00,2,    2.32,2,   1.000,6,   0.469,6,   0.1490,6,  2219.1,2,  2311.3,2,   7.6636,2,    20.00,-999.000,9,-999.000,9,-999.000,9,   3.9961,2,   0.873,2,     -99,2,     2.8,-999.000,9,-999.000,   39.76,2,   33.45,2, -33.9972,  97.2750,-999.000,-999.000,20090501,       0913
33RR20090320,        I05,     149,          2,         16,         16,2,20090501,       0804,   -33.9970,    97.2751,       4441,  1302.2,   3.6224,  34.4381,2,  34.4367,2,    174.7,2,   174.1,2,   54.80,2,   33.40,2,    0.00,2,    2.40,2,   0.668,2,   0.309,2,   0.1240,2,  2233.0,2,  2320.4,2,   7.6458,2,    20.00,-999.000,9,-999.000,9,-999.000,9,   3.6221,2,-999.000,5, -999.00,9, -999.00,-999.000,9,-999.000,   40.26,2,   34.83,2, -33.9972,  97.2751,-999.000,-999.000,20090501,       0910
33RR20090320,        I05,     149,          2,         15,         15,2,20090501,       0804,   -33.9970,    97.2751,       4441,  1397.4,   3.3749,  34.4874,2,  34.4874,2,    164.3,2,   164.2,2,   63.84,2,   34.08,2,    0.00,2,    2.46,2,   0.366,2,   0.172,2,   0.0240,2,  2246.9,2,  2330.3,2,   7.6335,2,    20.00,-999.000,9,-999.000,9,-999.000,9,   3.3741,2,-999.000,9, -999.00,9, -999.00,-999.000,9,-999.000,   40.15,2,   35.62,2, -33.9972,  97.2751,-999.000,-999.000,20090501,       0907
33RR20090320,        I05,     149,          2,         14,         14,2,20090501,       0804,   -33.9970,    97.2751,       4441,  1497.8,   3.1834,  34.5294,2,  34.5304,2,    159.4,2,   159.8,2,   70.12,2,   34.29,2,    0.00,2,    2.49,2,   0.217,2,   0.104,2,   0.0000,2,  2255.4,2,  2334.8,2,   7.6285,2,    20.00,-999.000,9,-999.000,9,-999.000,9,   3.1830,2,   0.586,2, -143.17,2,     2.6,-999.000,9,-999.000,   40.01,2,   35.77,2, -33.9971,  97.2751,-999.000,-999.000,20090501,       0904
33RR20090320,        I05,     149,          2,         13,         13,2,20090501,       0804,   -33.9970,    97.2751,       4441,  1598.5,   3.0143,  34.5615,2,  34.5620,2,    159.0,2,   158.8,2,   74.01,2,   34.23,2,    0.00,2,    2.49,2,   0.157,2,   0.076,2,   0.0000,2,  2259.0,2,  2340.6,2,   7.6280,2,    20.00,-999.000,9,-999.000,9,-999.000,9,   3.0137,2,-999.000,9, -999.00,9, -999.00,-999.000,9,-999.000,   40.04,2,   35.33,2, -33.9971,  97.2752,-999.000,-999.000,20090501,       0902
33RR20090320,        I05,     149,          2,         12,         12,2,20090501,       0804,   -33.9970,    97.2751,       4441,  1798.8,   2.8131,  34.6394,2,  34.6406,2,    155.4,2,   155.1,2,   85.90,2,   34.00,2,    0.00,2,    2.47,2,   0.030,2,   0.015,2,   0.0000,2,  2269.6,6,  2354.3,2,   7.6342,2,    20.00,-999.000,9,-999.000,9,-999.000,9,   2.8129,2,   0.539,2, -171.26,2,     2.6,-999.000,9,-999.000,   39.88,2,   35.50,2, -33.9970,  97.2752,-999.000,-999.000,20090501,       0857
33RR20090320,        I05,     149,          2,         11,         11,2,20090501,       0804,   -33.9970,    97.2751,       4441,  1995.0,   2.5629,  34.6811,2,  34.6817,2,    164.2,2,   163.5,2,   88.49,2,   33.01,2,    0.00,2,    2.39,2,   0.026,2,   0.014,2,   0.0000,2,  2267.0,2,  2356.9,2,   7.6479,2,    20.00,-999.000,9,-999.000,9,-999.000,9,   2.5626,2,-999.000,9, -999.00,9, -999.00,-999.000,9,-999.000,   40.02,2,   34.32,2, -33.9970,  97.2753,-999.000,-999.000,20090501,       0853
33RR20090320,        I05,     149,          2,         10,         10,2,20090501,       0804,   -33.9970,    97.2751,       4441,  2248.9,   2.3116,  34.7151,2,  34.7159,2,    173.1,2,   173.7,2,   91.47,2,   32.06,2,    0.00,2,    2.31,2,   0.017,2,   0.010,2,   0.0000,2,  2263.4,2,  2359.3,2,   7.6634,2,    20.00,-999.000,9,-999.000,9,-999.000,9,   2.3115,2,-999.000,9, -999.00,9, -999.00,-999.000,9,-999.000,   39.89,2,   33.90,2, -33.9970,  97.2753,-999.000,-999.000,20090501,       0847
33RR20090320,        I05,     149,          2,          9,          9,2,20090501,       0804,   -33.9970,    97.2751,       4441,  2500.5,   2.0966,  34.7365,2,  34.7369,2,    185.9,2,   185.9,2,   89.97,2,   30.95,2,    0.00,2,    2.22,2,   0.017,2,   0.010,2,   0.0000,2,  2256.1,2,  2356.4,2,   7.6784,2,    20.00,-999.000,9,-999.000,9,-999.000,9,   2.0972,2,-999.000,9, -999.00,9, -999.00,-999.000,9,-999.000,   39.92,2,   32.58,2, -33.9970,  97.2754,-999.000,-999.000,20090501,       0842
33RR20090320,        I05,     149,          2,          8,          8,2,20090501,       0804,   -33.9970,    97.2751,       4441,  2753.3,   1.8696,  34.7456,2,  34.7464,2,    194.3,2,   194.1,2,   92.76,2,   30.45,2,    0.00,2,    2.17,2,   0.020,2,   0.013,2,   0.0000,2,  2251.6,2,  2356.0,2,   7.6865,2,    20.00,-999.000,9,-999.000,9,-999.000,9,   1.8693,2,-999.000,9, -999.00,9, -999.00,-999.000,9,-999.000,   39.56,2,   31.79,2, -33.9969,  97.2754,-999.000,-999.000,20090501,       0837
33RR20090320,        I05,     149,          2,          7,          7,2,20090501,       0804,   -33.9970,    97.2751,       4441,  3001.6,   1.6094,  34.7407,2,  34.7421,2,    198.0,2,   198.2,2,   99.85,2,   30.61,2,    0.00,2,    2.20,2,   0.022,2,   0.012,2,   0.0000,2,  2253.6,2,  2358.8,2,   7.6868,2,    20.00,-999.000,9,-999.000,9,-999.000,9,   1.6100,2,-999.000,9, -999.00,9, -999.00,-999.000,9,-999.000,   39.73,2,   31.92,2, -33.9969,  97.2754,-999.000,-999.000,20090501,       0832
33RR20090320,        I05,     149,          2,          6,          6,2,20090501,       0804,   -33.9970,    97.2751,       4441,  3300.8,   1.3316,  34.7301,2,  34.7307,2,    201.3,2,   201.8,2,  108.45,2,   31.05,2,    0.00,2,    2.22,2,   0.036,2,   0.019,2,   0.0000,2,  2256.9,2,  2361.8,2,   7.6856,2,    20.00,-999.000,9,-999.000,9,-999.000,9,   1.3315,2,-999.000,9, -999.00,9, -999.00,-999.000,9,-999.000,   39.47,2,   32.89,2, -33.9970,  97.2752,-999.000,-999.000,20090501,       0827
33RR20090320,        I05,     149,          2,          5,          5,2,20090501,       0804,   -33.9970,    97.2751,       4441,  3598.8,   1.1355,  34.7203,2,  34.7211,2,    203.3,2,   203.8,2,  115.19,2,   31.44,2,    0.00,2,    2.24,2,   0.043,2,   0.022,2,   0.0000,2,  2260.7,2,  2365.7,2,   7.6861,2,    20.00,-999.000,9,-999.000,9,-999.000,9,   1.1353,2,-999.000,9, -999.00,9, -999.00,-999.000,9,-999.000,   39.74,2,   33.23,2, -33.9970,  97.2751,-999.000,-999.000,20090501,       0821
33RR20090320,        I05,     149,          2,          4,          4,2,20090501,       0804,   -33.9970,    97.2751,       4441,  3905.1,   1.0320,  34.7145,2,  34.7148,2,    204.5,2,   205.1,2,  118.94,2,   31.71,2,    0.00,2,    2.26,2,   0.038,2,   0.021,2,   0.0000,2,  2264.8,2,  2371.3,2,   7.6886,2,    20.00,-999.000,9,-999.000,9,-999.000,9,   1.0316,2,-999.000,9, -999.00,9, -999.00,-999.000,9,-999.000,   39.71,2,   33.08,2, -33.9970,  97.2752,-999.000,-999.000,20090501,       0816
33RR20090320,        I05,     149,          2,          3,          3,2,20090501,       0804,   -33.9970,    97.2751,       4441,  4138.7,   1.0095,  34.7120,2,  34.7124,2,    204.7,2,   205.5,2,  120.06,2,   31.77,2,    0.00,2,    2.27,2,   0.037,2,   0.021,2,   0.0000,2,  2268.4,2,  2376.2,2,   7.6905,2,    20.00,-999.000,9,-999.000,9,-999.000,9,   1.0094,2,-999.000,9, -999.00,9, -999.00,-999.000,9,-999.000,   40.06,2,   32.95,2, -33.9970,  97.2752,-999.000,-999.000,20090501,       0811
33RR20090320,        I05,     149,          2,          2,          2,2,20090501,       0804,   -33.9970,    97.2751,       4441,  4342.0,   1.0169,  34.7116,2,  34.7118,2,    205.7,2,   205.3,2,  120.80,2,   31.77,2,    0.00,2,    2.27,2,   0.039,2,   0.020,2,   0.0000,2,  2266.3,2,  2373.7,2,   7.6909,2,    20.00,-999.000,9,-999.000,9,-999.000,9,   1.0172,2,-999.000,9, -999.00,9, -999.00,-999.000,9,-999.000,   40.00,2,   33.03,2, -33.9970,  97.2751,-999.000,-999.000,20090501,       0808
33RR20090320,        I05,     149,          2,          1,          1,2,20090501,       0804,   -33.9970,    97.2751,       4441,  4504.7,   1.0343,  34.7110,2,  34.7123,2,    205.8,2,   205.6,2,  120.61,2,   31.82,2,    0.00,2,    2.27,2,   0.039,6,   0.021,6,   0.0000,6,  2269.0,6,  2375.3,2,   7.6909,2,    20.00,-999.000,9,-999.000,9,-999.000,9,   1.0340,2,-999.000,9, -999.00,9, -999.00,-999.000,9,-999.000,   39.88,2,   33.18,2, -33.9970,  97.2751,-999.000,-999.000,20090501,       0804