BOTTLE,20220814CCHSIOAMB
EXPOCODE,SECT_ID,STNNBR,CASTNO,SAMPNO,BTLNBR,BTLNBR_FLAG_W,DATE,TIME,LATITUDE,LONGITUDE,DEPTH,CTDPRS,CTDTMP,CTDSAL,CTDSAL_FLAG_W,SALNTY,SALNTY_FLAG_W,CTDOXY,CTDOXY_FLAG_W,OXYGEN,OXYGEN_FLAG_W,SILCAT,SILCAT_FLAG_W,NITRAT,NITRAT_FLAG_W,NITRIT,NITRIT_FLAG_W,PHSPHT,PHSPHT_FLAG_W,CFC-11,CFC-11_FLAG_W,CFC-12,CFC-12_FLAG_W,SF6,SF6_FLAG_W,TCARBN,TCARBN_FLAG_W,ALKALI,ALKALI_FLAG_W,PH_TOT,PH_TOT_FLAG_W,PH_TMP,TRITUM,TRITUM_FLAG_W,HELIUM,HELIUM_FLAG_W,DELHE3,DELHE3_FLAG_W,REFTMP,REFTMP_FLAG_W,DELC13,DELC13_FLAG_W,DELC14,DELC14_FLAG_W,C14ERR,NEON,NEON_FLAG_W,NEONER,DOC,DOC_FLAG_W,TDN,TDN_FLAG_W,BTL_LAT,BTL_LON,HELIER,DELHER,BTL_DATE,BTL_TIME
,,,,,,,,,,,METERS,DBAR,ITS-90,PSS-78,,PSS-78,,UMOL/KG,,UMOL/KG,,UMOL/KG,,UMOL/KG,,UMOL/KG,,UMOL/KG,,PMOL/KG,,PMOL/KG,,FMOL/KG,,UMOL/KG,,UMOL/KG,,,,DEG C,TU,,NMOL/KG,,PERCNT,,DEG C,,/MILLE,,/MILLE,,/MILLE,NMOL/KG,,NMOL/KG,UMOL/KG,,UMOL/KG,,,,NMOL/KG,PERCNT,,
33RR20090320,        I05,     122,          2,         36,         36,2,20090424,       1536,   -31.1940,    83.1649,       4012,     3.9,  21.1753,  35.9580,2,  35.9576,2,    223.3,2,   223.3,2,    1.92,2,    0.05,2,    0.00,2,    0.11,2,   2.056,2,   1.237,2,   1.1450,2,  2063.2,6,  2359.4,2,   8.1053,2,    20.00,-999.000,9,-999.000,9,-999.000,9,  21.1753,2,-999.000,9, -999.00,9, -999.00,-999.000,9,-999.000, -999.00,9, -999.00,9, -31.1937,  83.1648,-999.000,-999.000,20090424,       1723
33RR20090320,        I05,     122,          2,         35,         35,2,20090424,       1536,   -31.1940,    83.1649,       4012,    25.5,  21.1553,  35.9558,2,  35.9552,2,    224.2,2,   223.2,2,    1.70,2,    0.05,2,    0.00,2,    0.11,2,-999.000,9,-999.000,9,-999.0000,9,  2064.0,2,  2358.7,2,   8.1050,2,    20.00,-999.000,9,-999.000,9,-999.000,9,  21.1546,2,-999.000,9, -999.00,9, -999.00,-999.000,9,-999.000, -999.00,9, -999.00,9, -31.1937,  83.1648,-999.000,-999.000,20090424,       1722
33RR20090320,        I05,     122,          2,         34,         34,2,20090424,       1536,   -31.1940,    83.1649,       4012,    50.6,  21.1383,  35.9531,2,  35.9525,2,    224.1,2,   224.1,2,    1.65,2,    0.06,2,    0.00,2,    0.11,2,-999.000,9,-999.000,9,-999.0000,9,  2063.6,2,  2359.3,2,   8.1042,2,    20.00,-999.000,9,-999.000,9,-999.000,9,  21.1373,2,-999.000,9, -999.00,9, -999.00,-999.000,9,-999.000, -999.00,9, -999.00,9, -31.1937,  83.1648,-999.000,-999.000,20090424,       1720
33RR20090320,        I05,     122,          2,         33,         33,2,20090424,       1536,   -31.1940,    83.1649,       4012,    75.8,  18.8216,  35.7001,2,  35.6961,2,    247.8,2,   249.9,2,    1.42,2,    0.06,2,    0.00,2,    0.14,2,-999.000,9,-999.000,9,-999.0000,9,  2067.2,2,  2346.3,2,   8.0800,2,    20.00,-999.000,9,-999.000,9,-999.000,9,  18.8102,2,-999.000,9, -999.00,9, -999.00,-999.000,9,-999.000, -999.00,9, -999.00,9, -31.1937,  83.1649,-999.000,-999.000,20090424,       1719
33RR20090320,        I05,     122,          2,         32,         32,2,20090424,       1536,   -31.1940,    83.1649,       4012,   100.3,  16.9885,  35.6670,2,  35.6678,2,    248.9,2,   247.3,2,    1.39,2,    0.07,2,    0.00,2,    0.17,2,   2.608,2,   1.506,2,   1.2540,2,  2076.5,2,  2345.0,2,   8.0615,2,    20.00,-999.000,9,-999.000,9,-999.000,9,  16.9877,2,-999.000,9, -999.00,9, -999.00,-999.000,9,-999.000, -999.00,9, -999.00,9, -31.1937,  83.1649,-999.000,-999.000,20090424,       1717
33RR20090320,        I05,     122,          2,         31,         31,2,20090424,       1536,   -31.1940,    83.1649,       4012,   125.3,  15.8791,  35.5977,2,  35.5980,2,    242.2,2,   234.7,2,    1.51,2,    0.62,2,    0.07,2,    0.26,2,-999.000,9,-999.000,9,-999.0000,9,  2094.3,2,  2340.9,2,   8.0256,2,    20.00,-999.000,9,-999.000,9,-999.000,9,  15.8710,2,-999.000,9, -999.00,9, -999.00,-999.000,9,-999.000, -999.00,9, -999.00,9, -31.1936,  83.1649,-999.000,-999.000,20090424,       1715
33RR20090320,        I05,     122,          2,         30,         30,2,20090424,       1536,   -31.1940,    83.1649,       4012,   150.5,  15.1899,  35.5187,2,  35.5137,2,    229.8,2,   228.4,2,    1.64,2,    2.96,2,    0.07,2,    0.38,2,-999.000,9,-999.000,9,-999.0000,9,  -999.0,9,  -999.0,9,-999.0000,9,  -999.00,-999.000,9,-999.000,9,-999.000,9,  15.1896,2,-999.000,9, -999.00,9, -999.00,-999.000,9,-999.000, -999.00,9, -999.00,9, -31.1936,  83.1649,-999.000,-999.000,20090424,       1714
33RR20090320,        I05,     122,          2,         29,         29,2,20090424,       1536,   -31.1940,    83.1649,       4012,   199.8,  13.8799,  35.3347,2,  35.3245,2,    229.0,2,   230.2,2,    2.13,2,    5.78,2,    0.00,2,    0.53,2,   2.937,2,   1.686,2,   1.3230,2,  2107.5,2,  2324.3,2,   7.9673,2,    20.00,-999.000,9,-999.000,9,-999.000,9,  13.8847,2,-999.000,9, -999.00,9, -999.00,-999.000,9,-999.000, -999.00,9, -999.00,9, -31.1936,  83.1649,-999.000,-999.000,20090424,       1712
33RR20090320,        I05,     122,          2,         28,         28,2,20090424,       1536,   -31.1940,    83.1649,       4012,   250.2,  12.8559,  35.1818,2,  35.1830,2,    231.7,2,   232.4,2,    2.61,2,    8.01,2,    0.00,2,    0.65,2,-999.000,9,-999.000,9,-999.0000,9,  -999.0,9,  -999.0,9,-999.0000,9,  -999.00,-999.000,9,-999.000,9,-999.000,9,  12.8517,2,-999.000,9, -999.00,9, -999.00,-999.000,9,-999.000, -999.00,9, -999.00,9, -31.1936,  83.1649,-999.000,-999.000,20090424,       1711
33RR20090320,        I05,     122,          2,         27,         27,2,20090424,       1536,   -31.1940,    83.1649,       4012,   300.0,  12.2579,  35.1010,2,  35.0940,2,    233.7,2,   234.5,2,    3.27,2,    9.63,2,    0.00,2,    0.74,2,-999.000,9,-999.000,9,-999.0000,9,  2115.0,2,  2310.3,2,   7.9249,2,    20.00,-999.000,9,-999.000,9,-999.000,9,  12.2612,2,-999.000,9, -999.00,9, -999.00,-999.000,9,-999.000, -999.00,9, -999.00,9, -31.1936,  83.1649,-999.000,-999.000,20090424,       1709
33RR20090320,        I05,     122,          2,         26,         26,2,20090424,       1536,   -31.1940,    83.1649,       4012,   349.7,  11.8047,  35.0393,2,  35.0395,2,    237.6,2,   238.6,2,    3.57,2,   10.51,2,    0.00,2,    0.80,2,-999.000,9,-999.000,9,-999.0000,9,  -999.0,9,  -999.0,9,-999.0000,9,  -999.00,-999.000,9,-999.000,9,-999.000,9,  11.8068,2,-999.000,9, -999.00,9, -999.00,-999.000,9,-999.000, -999.00,9, -999.00,9, -31.1936,  83.1649,-999.000,-999.000,20090424,       1707
33RR20090320,        I05,     122,          2,         25,         25,2,20090424,       1536,   -31.1940,    83.1649,       4012,   401.1,  11.5875,  35.0119,2,  35.0115,2,    239.5,2,   237.8,2,    3.70,2,   10.92,2,    0.00,2,    0.83,2,   3.340,2,   1.840,2,   1.3040,2,  2117.0,2,  2307.0,2,   7.9133,2,    20.00,-999.000,9,-999.000,9,-999.000,9,  11.5798,2,-999.000,9, -999.00,9, -999.00,-999.000,9,-999.000, -999.00,9, -999.00,9, -31.1937,  83.1649,-999.000,-999.000,20090424,       1706
33RR20090320,        I05,     122,          2,         24,         24,2,20090424,       1536,   -31.1940,    83.1649,       4012,   450.1,  11.1652,  34.9466,2,  34.9447,2,    238.7,2,   239.0,2,    4.01,2,   12.02,2,    0.00,2,    0.89,2,-999.000,9,-999.000,9,-999.0000,9,  -999.0,9,  -999.0,9,-999.0000,9,  -999.00,-999.000,9,-999.000,9,-999.000,9,  11.1671,2,-999.000,9, -999.00,9, -999.00,-999.000,9,-999.000, -999.00,9, -999.00,9, -31.1937,  83.1649,-999.000,-999.000,20090424,       1704
33RR20090320,        I05,     122,          2,         23,         23,2,20090424,       1536,   -31.1940,    83.1649,       4012,   499.3,  10.9990,  34.9398,2,  34.9413,2,    236.8,2,   236.7,2,    3.61,2,   12.08,2,    0.00,2,    0.90,2,-999.000,9,-999.000,9,-999.0000,9,  -999.0,9,  -999.0,9,-999.0000,9,  -999.00,-999.000,9,-999.000,9,-999.000,9,  11.0041,2,-999.000,9, -999.00,9, -999.00,-999.000,9,-999.000, -999.00,9, -999.00,9, -31.1937,  83.1649,-999.000,-999.000,20090424,       1703
33RR20090320,        I05,     122,          2,         22,         22,2,20090424,       1536,   -31.1940,    83.1649,       4012,   601.0,  10.4124,  34.8500,2,  34.8526,2,    237.6,2,   237.5,2,    4.09,2,   13.53,2,    0.00,2,    0.99,2,-999.000,9,-999.000,9,-999.0000,9,  -999.0,9,  -999.0,9,-999.0000,9,  -999.00,-999.000,9,-999.000,9,-999.000,9,  10.4198,2,-999.000,9, -999.00,9, -999.00,-999.000,9,-999.000, -999.00,9, -999.00,9, -31.1938,  83.1649,-999.000,-999.000,20090424,       1700
33RR20090320,        I05,     122,          2,         21,         21,2,20090424,       1536,   -31.1940,    83.1649,       4012,   699.7,   9.0735,  34.6640,2,  34.6682,2,    229.7,2,   230.3,2,    6.17,2,   17.85,2,    0.00,2,    1.25,2,   3.448,6,   1.759,6,   0.8710,6,  2133.7,2,  2291.5,2,   7.8446,2,    20.00,-999.000,9,-999.000,9,-999.000,9,   9.0787,2,-999.000,9, -999.00,9, -999.00,-999.000,9,-999.000, -999.00,9, -999.00,9, -31.1938,  83.1649,-999.000,-999.000,20090424,       1657
33RR20090320,        I05,     122,          2,         20,         20,2,20090424,       1536,   -31.1940,    83.1649,       4012,   801.0,   8.2587,  34.5737,2,  34.5720,2,    215.7,2,   215.4,2,    9.83,2,   21.35,2,    0.00,2,    1.49,2,-999.000,9,-999.000,9,-999.0000,9,  -999.0,9,  -999.0,9,-999.0000,9,  -999.00,-999.000,9,-999.000,9,-999.000,9,   8.2488,2,-999.000,9, -999.00,9, -999.00,-999.000,9,-999.000, -999.00,9, -999.00,9, -31.1938,  83.1649,-999.000,-999.000,20090424,       1654
33RR20090320,        I05,     122,          2,         19,         19,2,20090424,       1536,   -31.1940,    83.1649,       4012,   900.2,   6.8501,  34.4672,2,  34.4675,2,    202.7,2,   203.5,2,   17.42,2,   25.64,2,    0.00,2,    1.80,2,-999.000,9,-999.000,9,-999.0000,9,  -999.0,9,  -999.0,9,-999.0000,9,  -999.00,-999.000,9,-999.000,9,-999.000,9,   6.8519,2,-999.000,9, -999.00,9, -999.00,-999.000,9,-999.000, -999.00,9, -999.00,9, -31.1938,  83.1649,-999.000,-999.000,20090424,       1651
33RR20090320,        I05,     122,          2,         18,         18,2,20090424,       1536,   -31.1940,    83.1649,       4012,  1000.4,   5.5982,  34.3981,2,  34.3986,2,    198.6,2,   199.1,2,   25.57,2,   28.79,2,    0.00,2,    2.02,2,-999.000,9,-999.000,9,-999.0000,9,  -999.0,9,  -999.0,9,-999.0000,9,  -999.00,-999.000,9,-999.000,9,-999.000,9,   5.5951,2,-999.000,9, -999.00,9, -999.00,-999.000,9,-999.000, -999.00,9, -999.00,9, -31.1938,  83.1648,-999.000,-999.000,20090424,       1648
33RR20090320,        I05,     122,          2,         17,         17,2,20090424,       1536,   -31.1940,    83.1649,       4012,  1100.2,   4.6551,  34.4006,2,  34.4004,2,    184.9,2,   185.9,2,   38.60,2,   31.54,2,    0.00,2,    2.24,2,   1.079,2,   0.518,2,   0.1450,2,  2206.3,2,  2305.9,2,   7.6833,2,    20.00,-999.000,9,-999.000,9,-999.000,9,   4.6565,2,-999.000,9, -999.00,9, -999.00,-999.000,9,-999.000, -999.00,9, -999.00,9, -31.1937,  83.1649,-999.000,-999.000,20090424,       1645
33RR20090320,        I05,     122,          2,         16,         16,2,20090424,       1536,   -31.1940,    83.1649,       4012,  1201.7,   4.1282,  34.4418,2,  34.4432,2,    170.5,2,   170.0,2,   52.42,2,   33.39,2,    0.00,2,    2.39,2,-999.000,9,-999.000,9,-999.0000,9,  -999.0,9,  -999.0,9,-999.0000,9,  -999.00,-999.000,9,-999.000,9,-999.000,9,   4.1274,2,-999.000,9, -999.00,9, -999.00,-999.000,9,-999.000, -999.00,9, -999.00,9, -31.1937,  83.1650,-999.000,-999.000,20090424,       1641
33RR20090320,        I05,     122,          2,         15,         15,2,20090424,       1536,   -31.1940,    83.1649,       4012,  1296.8,   3.8122,  34.4755,2,  34.4764,2,    162.2,2,   161.7,2,   61.60,2,   34.24,2,    0.00,2,    2.46,2,-999.000,9,-999.000,9,-999.0000,9,  -999.0,9,  -999.0,9,-999.0000,9,  -999.00,-999.000,9,-999.000,9,-999.000,9,   3.8084,2,-999.000,9, -999.00,9, -999.00,-999.000,9,-999.000, -999.00,9, -999.00,9, -31.1938,  83.1650,-999.000,-999.000,20090424,       1638
33RR20090320,        I05,     122,          2,         14,         14,2,20090424,       1536,   -31.1940,    83.1649,       4012,  1397.6,   3.5632,  34.5167,2,  34.5180,2,    155.4,2,   155.1,2,   69.36,2,   34.72,2,    0.00,2,    2.50,2,-999.000,9,-999.000,9,-999.0000,9,  -999.0,9,  -999.0,9,-999.0000,9,  -999.00,-999.000,9,-999.000,9,-999.000,9,   3.5582,2,-999.000,9, -999.00,9, -999.00,-999.000,9,-999.000, -999.00,9, -999.00,9, -31.1939,  83.1650,-999.000,-999.000,20090424,       1635
33RR20090320,        I05,     122,          2,         13,         13,2,20090424,       1536,   -31.1940,    83.1649,       4012,  1497.5,   3.3291,  34.5554,2,  34.5575,2,    152.2,2,   152.8,2,   75.51,2,   34.87,2,    0.00,2,    2.51,2,   0.116,2,   0.057,2,   0.0000,2,  2259.0,2,  2341.9,2,   7.6313,2,    20.00,-999.000,9,-999.000,9,-999.000,9,   3.3260,2,-999.000,9, -999.00,9, -999.00,-999.000,9,-999.000, -999.00,9, -999.00,9, -31.1938,  83.1650,-999.000,-999.000,20090424,       1632
33RR20090320,        I05,     122,          2,         12,         12,2,20090424,       1536,   -31.1940,    83.1649,       4012,  1597.9,   3.0932,  34.5960,2,  34.5948,2,    153.2,2,   153.2,2,   80.58,2,   34.78,2,    0.00,2,    2.50,2,-999.000,9,-999.000,9,-999.0000,9,  -999.0,9,  -999.0,9,-999.0000,9,  -999.00,-999.000,9,-999.000,9,-999.000,9,   3.0937,2,-999.000,9, -999.00,9, -999.00,-999.000,9,-999.000, -999.00,9, -999.00,9, -31.1938,  83.1650,-999.000,-999.000,20090424,       1629
33RR20090320,        I05,     122,          2,         11,         11,2,20090424,       1536,   -31.1940,    83.1649,       4012,  1698.5,   2.8775,  34.6280,2,  34.6271,2,    157.6,2,   158.1,2,   82.56,2,   34.25,2,    0.00,2,    2.46,2,-999.000,9,-999.000,9,-999.0000,9,  -999.0,9,  -999.0,9,-999.0000,9,  -999.00,-999.000,9,-999.000,9,-999.000,9,   2.8788,2,-999.000,9, -999.00,9, -999.00,-999.000,9,-999.000, -999.00,9, -999.00,9, -31.1938,  83.1650,-999.000,-999.000,20090424,       1627
33RR20090320,        I05,     122,          2,         10,         10,2,20090424,       1536,   -31.1940,    83.1649,       4012,  1799.2,   2.7328,  34.6524,2,  34.6514,2,    162.0,2,   162.4,2,   83.98,2,   33.83,2,    0.00,2,    2.42,2,   0.069,2,   0.033,2,   0.0760,2,  2262.3,2,  2351.2,2,   7.6449,2,    20.00,-999.000,9,-999.000,9,-999.000,9,   2.7330,2,-999.000,9, -999.00,9, -999.00,-999.000,9,-999.000, -999.00,9, -999.00,9, -31.1938,  83.1650,-999.000,-999.000,20090424,       1624
33RR20090320,        I05,     122,          2,          9,          9,2,20090424,       1536,   -31.1940,    83.1649,       4012,  2000.8,   2.4718,  34.6975,2,  34.6972,2,    169.5,2,   169.0,2,   89.80,2,   33.03,2,    0.00,2,    2.35,2,-999.000,9,-999.000,9,-999.0000,9,  -999.0,9,  -999.0,9,-999.0000,9,  -999.00,-999.000,9,-999.000,9,-999.000,9,   2.4725,2,-999.000,9, -999.00,9, -999.00,-999.000,9,-999.000, -999.00,9, -999.00,9, -31.1939,  83.1650,-999.000,-999.000,20090424,       1620
33RR20090320,        I05,     122,          2,          8,          8,2,20090424,       1536,   -31.1940,    83.1649,       4012,  2248.1,   2.1974,  34.7235,2,  34.7234,2,    178.9,2,   179.8,2,   92.15,2,   32.14,2,    0.00,2,    2.28,2,-999.000,9,-999.000,9,-999.0000,9,  -999.0,9,  -999.0,9,-999.0000,9,  -999.00,-999.000,9,-999.000,9,-999.000,9,   2.1973,2,-999.000,9, -999.00,9, -999.00,-999.000,9,-999.000, -999.00,9, -999.00,9, -31.1939,  83.1650,-999.000,-999.000,20090424,       1614
33RR20090320,        I05,     122,          2,          7,          7,2,20090424,       1536,   -31.1940,    83.1649,       4012,  2500.0,   1.9516,  34.7382,2,  34.7377,2,    189.6,2,   189.4,2,   94.50,2,   31.45,2,    0.00,2,    2.22,2,   0.019,2,   0.011,2,   0.0300,2,  2254.9,2,  2357.7,2,   7.6844,2,    20.00,-999.000,9,-999.000,9,-999.000,9,   1.9511,2,-999.000,9, -999.00,9, -999.00,-999.000,9,-999.000, -999.00,9, -999.00,9, -31.1939,  83.1650,-999.000,-999.000,20090424,       1609
33RR20090320,        I05,     122,          2,          6,          6,2,20090424,       1536,   -31.1940,    83.1649,       4012,  2753.3,   1.7387,  34.7378,2,  34.7377,2,    193.2,2,   192.4,2,  101.44,2,   31.51,2,    0.00,2,    2.24,2,-999.000,9,-999.000,9,-999.0000,9,  -999.0,9,  -999.0,9,-999.0000,9,  -999.00,-999.000,9,-999.000,9,-999.000,9,   1.7382,2,-999.000,9, -999.00,9, -999.00,-999.000,9,-999.000, -999.00,9, -999.00,9, -31.1939,  83.1648,-999.000,-999.000,20090424,       1603
33RR20090320,        I05,     122,          2,          5,          5,2,20090424,       1536,   -31.1940,    83.1649,       4012,  3020.6,   1.5582,  34.7337,2,  34.7336,2,    194.4,2,   194.8,2,  107.68,2,   31.77,2,    0.00,2,    2.25,2,-999.000,9,-999.000,9,-999.0000,9,  -999.0,9,  -999.0,9,-999.0000,9,  -999.00,-999.000,9,-999.000,9,-999.000,9,   1.5598,2,-999.000,9, -999.00,9, -999.00,-999.000,9,-999.000, -999.00,9, -999.00,9, -31.1940,  83.1647,-999.000,-999.000,20090424,       1558
33RR20090320,        I05,     122,          2,          4,          4,2,20090424,       1536,   -31.1940,    83.1649,       4012,  3325.8,   1.4192,  34.7299,2,  34.7291,2,    196.9,2,   196.6,2,  111.88,2,   31.88,2,    0.00,2,    2.27,2,   0.013,6,   0.008,6,   0.0090,6,  2265.9,2,  2370.4,2,   7.6919,2,    20.00,-999.000,9,-999.000,9,-999.000,9,   1.4192,2,-999.000,9, -999.00,9, -999.00,-999.000,9,-999.000, -999.00,9, -999.00,9, -31.1940,  83.1648,-999.000,-999.000,20090424,       1552
33RR20090320,        I05,     122,          2,          3,          3,2,20090424,       1536,   -31.1940,    83.1649,       4012,  3629.2,   1.4042,  34.7277,2,  34.7276,2,    196.3,2,   196.2,2,  114.07,2,   32.05,2,    0.00,2,    2.28,2,-999.000,9,-999.000,9,-999.0000,9,  -999.0,9,  -999.0,9,-999.0000,9,  -999.00,-999.000,9,-999.000,9,-999.000,9,   1.4037,2,-999.000,9, -999.00,9, -999.00,-999.000,9,-999.000, -999.00,9, -999.00,9, -31.1940,  83.1649,-999.000,-999.000,20090424,       1545
33RR20090320,        I05,     122,          2,          2,          2,2,20090424,       1536,   -31.1940,    83.1649,       4012,  3933.4,   1.3952,  34.7255,2,  34.7252,2,    196.0,2,   196.3,2,  115.53,2,   32.16,2,    0.00,2,    2.28,2,-999.000,9,-999.000,9,-999.0000,9,  -999.0,9,  -999.0,9,-999.0000,9,  -999.00,-999.000,9,-999.000,9,-999.000,9,   1.3947,2,-999.000,9, -999.00,9, -999.00,-999.000,9,-999.000, -999.00,9, -999.00,9, -31.1940,  83.1649,-999.000,-999.000,20090424,       1539
33RR20090320,        I05,     122,          2,          1,          1,2,20090424,       1536,   -31.1940,    83.1649,       4012,  4062.3,   1.4040,  34.7257,2,  34.7258,2,    196.1,2,   196.3,2,  115.50,2,   32.21,2,    0.00,2,    2.28,2,   0.014,2,   0.008,2,   0.0000,2,  2269.7,6,  2376.5,2,   7.6915,2,    20.00,-999.000,9,-999.000,9,-999.000,9,   1.4039,2,-999.000,9, -999.00,9, -999.00,-999.000,9,-999.000, -999.00,9, -999.00,9, -31.1940,  83.1649,-999.000,-999.000,20090424,       1536