BOTTLE,20220814CCHSIOAMB
EXPOCODE,SECT_ID,STNNBR,CASTNO,SAMPNO,BTLNBR,BTLNBR_FLAG_W,DATE,TIME,LATITUDE,LONGITUDE,DEPTH,CTDPRS,CTDTMP,CTDSAL,CTDSAL_FLAG_W,SALNTY,SALNTY_FLAG_W,CTDOXY,CTDOXY_FLAG_W,OXYGEN,OXYGEN_FLAG_W,SILCAT,SILCAT_FLAG_W,NITRAT,NITRAT_FLAG_W,NITRIT,NITRIT_FLAG_W,PHSPHT,PHSPHT_FLAG_W,CFC-11,CFC-11_FLAG_W,CFC-12,CFC-12_FLAG_W,SF6,SF6_FLAG_W,TCARBN,TCARBN_FLAG_W,ALKALI,ALKALI_FLAG_W,PH_TOT,PH_TOT_FLAG_W,PH_TMP,TRITUM,TRITUM_FLAG_W,HELIUM,HELIUM_FLAG_W,DELHE3,DELHE3_FLAG_W,REFTMP,REFTMP_FLAG_W,DELC13,DELC13_FLAG_W,DELC14,DELC14_FLAG_W,C14ERR,NEON,NEON_FLAG_W,NEONER,DOC,DOC_FLAG_W,TDN,TDN_FLAG_W,BTL_LAT,BTL_LON,HELIER,DELHER,BTL_DATE,BTL_TIME
,,,,,,,,,,,METERS,DBAR,ITS-90,PSS-78,,PSS-78,,UMOL/KG,,UMOL/KG,,UMOL/KG,,UMOL/KG,,UMOL/KG,,UMOL/KG,,PMOL/KG,,PMOL/KG,,FMOL/KG,,UMOL/KG,,UMOL/KG,,,,DEG C,TU,,NMOL/KG,,PERCNT,,DEG C,,/MILLE,,/MILLE,,/MILLE,NMOL/KG,,NMOL/KG,UMOL/KG,,UMOL/KG,,,,NMOL/KG,PERCNT,,
33RR20090320,        I05,      75,          2,         36,         36,2,20090410,       2028,   -33.9979,    59.3188,       5568,    12.5,  20.9488,  35.6017,2,  35.6023,2,    223.6,2,   224.5,2,    1.93,2,    0.00,2,    0.00,2,    0.12,2,   2.073,2,   1.262,2,   1.2490,2,  2050.2,6,  2333.9,2,   8.0912,2,    20.00,-999.000,9,-999.000,9,-999.000,9,  20.9491,2,   1.178,2,   55.96,2,     3.3,-999.000,9,-999.000,   67.18,2,    4.31,2, -33.9977,  59.3182,-999.000,-999.000,20090410,       2254
33RR20090320,        I05,      75,          2,         35,         35,2,20090410,       2028,   -33.9979,    59.3188,       5568,    42.3,  20.9472,  35.6020,2,  35.6015,2,    224.8,2,   224.1,2,    1.91,2,    0.02,2,    0.00,2,    0.12,2,   2.069,2,   1.264,2,   1.1450,2,  2050.7,2,  2333.2,2,   8.0915,2,    20.00,-999.000,9,-999.000,9,-999.000,9,  20.9463,2,-999.000,9, -999.00,9, -999.00,-999.000,9,-999.000,   66.40,2,    3.51,2, -33.9977,  59.3183,-999.000,-999.000,20090410,       2252
33RR20090320,        I05,      75,          2,         34,         34,2,20090410,       2028,   -33.9979,    59.3188,       5568,    68.0,  20.8828,  35.5991,2,  35.5990,2,    225.1,2,   225.1,2,    1.90,2,    0.02,2,    0.00,2,    0.12,2,   2.088,2,   1.268,2,   1.2250,2,  2051.1,2,  2333.1,2,   8.0904,2,    20.00,-999.000,9,-999.000,9,-999.000,9,  20.8521,2,-999.000,9, -999.00,9, -999.00,-999.000,9,-999.000,   64.76,2,    3.60,2, -33.9977,  59.3184,-999.000,-999.000,20090410,       2250
33RR20090320,        I05,      75,          2,         33,         33,2,20090410,       2028,   -33.9979,    59.3188,       5568,    92.3,  17.8274,  35.5045,2,  35.5045,2,    242.4,2,   243.2,2,    1.88,2,    0.02,2,    0.00,2,    0.17,2,   2.476,2,   1.484,2,   1.2870,2,  2060.3,2,  2328.9,2,   8.0657,2,    20.00,-999.000,9,-999.000,9,-999.000,9,  17.8203,2,   1.248,2,   50.84,2,     2.8,-999.000,9,-999.000,   59.76,2,    3.73,2, -33.9978,  59.3185,-999.000,-999.000,20090410,       2248
33RR20090320,        I05,      75,          2,         32,         32,2,20090410,       2028,   -33.9979,    59.3188,       5568,   121.8,  16.0369,  35.4908,2,  35.4920,2,    232.4,2,   231.5,2,    2.49,2,    1.90,2,    0.10,2,    0.31,2,   2.625,2,   1.561,2,   1.3900,2,  2082.4,2,  2329.6,2,   8.0242,2,    20.00,-999.000,9,-999.000,9,-999.000,9,  16.0475,2,-999.000,9, -999.00,9, -999.00,-999.000,9,-999.000,   55.62,2,    5.90,2, -33.9978,  59.3185,-999.000,-999.000,20090410,       2246
33RR20090320,        I05,      75,          2,         31,         31,2,20090410,       2028,   -33.9979,    59.3188,       5568,   171.6,  14.9792,  35.4309,2,  35.4301,2,    223.7,2,   224.8,2,    3.29,2,    4.93,2,    0.01,2,    0.46,2,   2.740,2,   1.613,2,   1.3080,2,  2095.1,2,  2325.2,2,   7.9913,2,    20.00,-999.000,9,-999.000,9,-999.000,9,  14.9809,2,   0.847,2,   57.02,2,     3.2,-999.000,9,-999.000,   54.02,2,    8.22,2, -33.9978,  59.3184,-999.000,-999.000,20090410,       2244
33RR20090320,        I05,      75,          2,         30,         30,2,20090410,       2028,   -33.9979,    59.3188,       5568,   222.2,  14.5367,  35.3991,2,  35.3990,2,    226.7,2,   227.7,2,    3.48,2,    5.72,2,    0.00,2,    0.51,2,   2.781,2,   1.637,2,   1.3600,2,  2097.3,2,  2323.6,2,   7.9844,2,    20.00,-999.000,9,-999.000,9,-999.000,9,  14.5318,2,  -0.097,4,   23.91,3,     2.5,-999.000,9,-999.000,   52.28,2,    8.68,2, -33.9978,  59.3183,-999.000,-999.000,20090410,       2242
33RR20090320,        I05,      75,          2,         29,         29,2,20090410,       2028,   -33.9979,    59.3188,       5568,   272.4,  14.0835,  35.3628,2,  35.3619,2,    229.5,2,   229.2,2,    3.87,2,    6.56,2,    0.00,2,    0.56,2,   2.856,2,   1.670,2,   1.4030,2,  2099.7,2,  2320.5,2,   7.9736,2,    20.00,-999.000,9,-999.000,9,-999.000,9,  14.0864,2,   0.871,2,   51.16,2,     2.7,-999.000,9,-999.000,   50.63,2,    8.86,2, -33.9978,  59.3183,-999.000,-999.000,20090410,       2239
33RR20090320,        I05,      75,          2,         28,         28,2,20090410,       2028,   -33.9979,    59.3188,       5568,   321.8,  13.6720,  35.3165,2,  35.3176,2,    230.1,2,   228.4,2,    3.87,2,    7.29,2,    0.00,2,    0.61,2,   2.933,2,   1.710,2,   1.3600,2,  2104.1,2,  2321.0,2,   7.9611,2,    20.00,-999.000,9,-999.000,9,-999.000,9,  13.6747,2,   0.889,2,   55.06,2,     3.6,-999.000,9,-999.000,   49.25,2,   10.14,2, -33.9977,  59.3183,-999.000,-999.000,20090410,       2237
33RR20090320,        I05,      75,          2,         27,         27,2,20090410,       2028,   -33.9979,    59.3188,       5568,   371.8,  13.4102,  35.2865,2,  35.2849,2,    230.0,2,   229.9,2,    3.85,2,    7.92,2,    0.00,2,    0.64,2,   2.978,2,   1.724,2,   1.3710,2,  2106.2,2,  2318.3,2,   7.9542,2,    20.00,-999.000,9,-999.000,9,-999.000,9,  13.4122,2,   0.817,2,   35.37,2,     2.7,-999.000,9,-999.000,   47.81,2,   10.26,2, -33.9977,  59.3182,-999.000,-999.000,20090410,       2235
33RR20090320,        I05,      75,          2,         26,         26,2,20090410,       2028,   -33.9979,    59.3188,       5568,   442.1,  12.9969,  35.2332,2,  35.2307,2,    230.2,2,   229.7,2,    4.24,2,    9.01,2,    0.00,2,    0.70,2,   3.055,2,   1.748,2,   1.3090,2,  2109.5,2,  2316.7,2,   7.9427,2,    20.00,-999.000,9,-999.000,9,-999.000,9,  12.9959,2,    0.93,2,    49.4,2,     2.6,-999.000,9,-999.000,   46.82,2,   11.12,2, -33.9978,  59.3182,-999.000,-999.000,20090410,       2232
33RR20090320,        I05,      75,          2,         25,         25,2,20090410,       2028,   -33.9979,    59.3188,       5568,   541.5,  12.2380,  35.1122,2,  35.1124,2,    228.9,2,   229.8,2,    4.43,2,   10.69,2,    0.00,2,    0.81,2,   3.142,2,   1.779,2,   1.1830,2,  2115.2,2,  2311.2,2,   7.9236,2,    20.00,-999.000,9,-999.000,9,-999.000,9,  12.2378,2,   0.979,2,   57.23,2,       3,-999.000,9,-999.000,   45.63,2,   12.29,2, -33.9978,  59.3184,-999.000,-999.000,20090410,       2229
33RR20090320,        I05,      75,          2,         24,         24,2,20090410,       2028,   -33.9979,    59.3188,       5568,   642.3,  11.5082,  34.9995,2,  35.0008,2,    228.0,2,   227.8,2,    4.82,2,   12.41,2,    0.00,2,    0.93,2,   3.241,2,   1.795,2,   1.1680,2,  2121.6,2,  2307.1,2,   7.9021,2,    20.00,-999.000,9,-999.000,9,-999.000,9,  11.5132,2,    1.05,2,   37.98,2,       2,-999.000,9,-999.000,   44.75,2,   14.24,2, -33.9978,  59.3182,-999.000,-999.000,20090410,       2226
33RR20090320,        I05,      75,          2,         23,         23,2,20090410,       2028,   -33.9979,    59.3188,       5568,   742.0,  10.6951,  34.8848,2,  34.8861,2,    224.7,2,   225.0,2,    5.63,2,   14.45,2,    0.00,2,    1.05,2,   3.254,6,   1.756,6,   1.0330,6,  2126.7,2,  2302.1,2,   7.8795,2,    20.00,-999.000,9,-999.000,9,-999.000,9,  10.6994,2,   1.055,2,   36.85,2,     3.4,-999.000,9,-999.000,   43.79,2,   15.69,2, -33.9979,  59.3182,-999.000,-999.000,20090410,       2223
33RR20090320,        I05,      75,          2,         22,         22,2,20090410,       2028,   -33.9979,    59.3188,       5568,   841.5,   9.5261,  34.7344,2,  34.7322,2,    217.7,2,   217.5,2,    8.09,2,   17.86,2,    0.00,2,    1.28,2,   3.090,2,   1.611,2,   0.7940,2,  2137.5,2,  2296.9,2,   7.8414,2,    20.00,-999.000,9,-999.000,9,-999.000,9,   9.5288,2,-999.000,5, -999.00,9, -999.00,-999.000,9,-999.000,   43.10,2,   19.50,2, -33.9980,  59.3184,-999.000,-999.000,20090410,       2220
33RR20090320,        I05,      75,          2,         21,         21,2,20090410,       2028,   -33.9979,    59.3188,       5568,   943.7,   8.1966,  34.5961,2,  34.6009,2,    207.1,2,   207.0,2,   13.01,2,   21.85,2,    0.00,2,    1.53,2,   2.716,2,   1.383,2,   0.6320,2,  2154.8,2,  2293.7,2,   7.7951,2,    20.00,-999.000,9,-999.000,9,-999.000,9,   8.2107,2,   1.086,2,    0.98,2,     3.9,-999.000,9,-999.000,   42.37,2,   23.15,2, -33.9981,  59.3185,-999.000,-999.000,20090410,       2217
33RR20090320,        I05,      75,          2,         20,         20,2,20090410,       2028,   -33.9979,    59.3188,       5568,  1042.8,   6.6031,  34.4660,2,  34.4662,2,    204.5,2,   204.5,2,   19.81,2,   25.91,2,    0.00,2,    1.84,2,   2.428,2,   1.222,2,   0.5580,2,  2172.0,2,  2294.9,2,   7.7480,2,    20.00,-999.000,9,-999.000,9,-999.000,9,   6.6080,2,   1.043,2,   -8.07,2,     2.8,-999.000,9,-999.000,   41.39,2,   27.61,2, -33.9982,  59.3184,-999.000,-999.000,20090410,       2214
33RR20090320,        I05,      75,          2,         19,         19,2,20090410,       2028,   -33.9979,    59.3188,       5568,  1143.4,   5.4954,  34.4003,2,  34.4003,2,    204.4,2,   204.7,2,   26.00,2,   28.34,2,    0.00,2,    2.01,2,   2.211,2,   1.092,2,   0.4030,2,  2184.0,2,  2297.1,2,   7.7213,2,    20.00,-999.000,9,-999.000,9,-999.000,9,   5.5035,2,   0.869,2,  -36.69,2,     3.6,-999.000,9,-999.000,   40.66,2,   29.81,2, -33.9982,  59.3183,-999.000,-999.000,20090410,       2211
33RR20090320,        I05,      75,          2,         18,         18,2,20090410,       2028,   -33.9979,    59.3188,       5568,  1244.2,   4.7256,  34.3806,2,  34.3806,2,    200.7,2,   201.7,2,   32.62,2,   30.09,2,    0.00,2,    2.14,2,   1.899,2,   0.929,2,   0.4470,2,  2194.9,2,  2301.3,2,   7.7002,2,    20.00,-999.000,9,-999.000,9,-999.000,9,   4.7229,2,-999.000,9, -999.00,9, -999.00,-999.000,9,-999.000,   40.16,2,   31.19,2, -33.9982,  59.3185,-999.000,-999.000,20090410,       2208
33RR20090320,        I05,      75,          2,         17,         17,2,20090410,       2028,   -33.9979,    59.3188,       5568,  1344.3,   4.0254,  34.4031,2,  34.4040,2,    191.4,2,   192.3,2,   43.00,2,   31.78,2,    0.00,2,    2.28,2,   1.379,2,   0.668,2,   0.2220,2,  2211.5,2,  2309.4,2,   7.6769,2,    20.00,-999.000,9,-999.000,9,-999.000,9,   4.0245,2,   0.782,2,  -80.82,2,     2.7,-999.000,9,-999.000,   39.81,2,   33.03,2, -33.9982,  59.3187,-999.000,-999.000,20090410,       2205
33RR20090320,        I05,      75,          2,         16,         16,2,20090410,       2028,   -33.9979,    59.3188,       5568,  1475.0,   3.4805,  34.4575,2,  34.4582,2,    181.8,2,   181.8,2,   54.03,2,   33.00,2,    0.00,2,    2.37,2,   0.873,2,   0.409,2,   0.0770,2,  2228.3,2,  2320.6,2,   7.6569,2,    20.00,-999.000,9,-999.000,9,-999.000,9,   3.4800,2,-999.000,9, -999.00,9, -999.00,-999.000,9,-999.000,   39.94,2,   34.74,2, -33.9983,  59.3187,-999.000,-999.000,20090410,       2202
33RR20090320,        I05,      75,          2,         15,         15,2,20090410,       2028,   -33.9979,    59.3188,       5568,  1675.5,   2.9891,  34.5529,2,  34.5524,2,    174.7,2,   174.4,2,   65.74,2,   33.31,2,    0.00,2,    2.39,2,   0.393,6,   0.178,6,   0.0000,6,  2243.7,6,  2332.5,2,   7.6486,2,    20.00,-999.000,9,-999.000,9,-999.000,9,   2.9890,2,-999.000,9, -999.00,9, -999.00,-999.000,9,-999.000,   39.95,2,   35.10,2, -33.9984,  59.3185,-999.000,-999.000,20090410,       2157
33RR20090320,        I05,      75,          2,         14,         14,2,20090410,       2028,   -33.9979,    59.3188,       5568,  1877.1,   2.7115,  34.6279,2,  34.6267,2,    175.8,2,   176.6,2,   72.64,2,   32.68,2,    0.00,2,    2.34,2,   0.205,2,   0.093,2,   0.0310,2,  2247.1,2,  2340.5,2,   7.6568,2,    20.00,-999.000,9,-999.000,9,-999.000,9,   2.7122,2,-999.000,9, -999.00,9, -999.00,-999.000,9,-999.000,   39.82,2,   33.89,2, -33.9982,  59.3188,-999.000,-999.000,20090410,       2152
33RR20090320,        I05,      75,          2,         13,         13,2,20090410,       2028,   -33.9979,    59.3188,       5568,  2098.8,   2.5291,  34.6860,2,  34.6857,2,    181.2,2,   181.5,2,   76.20,2,   31.60,2,    0.00,2,    2.27,2,   0.129,2,   0.056,2,   0.0000,2,  2246.3,2,  2345.3,2,   7.6710,2,    20.00,-999.000,9,-999.000,9,-999.000,9,   2.5290,2,-999.000,9, -999.00,9, -999.00,-999.000,9,-999.000,   39.95,2,   33.37,2, -33.9982,  59.3188,-999.000,-999.000,20090410,       2147
33RR20090320,        I05,      75,          2,         12,         12,2,20090410,       2028,   -33.9979,    59.3188,       5568,  2352.5,   2.3325,  34.7295,2,  34.7293,2,    188.9,2,   188.2,2,   80.39,2,   30.75,2,    0.00,2,    2.19,2,   0.084,2,   0.035,2,   0.0000,2,  2246.6,2,  2350.5,2,   7.6848,2,    20.00,-999.000,9,-999.000,9,-999.000,9,   2.3318,2,-999.000,9, -999.00,9, -999.00,-999.000,9,-999.000,   39.96,2,   32.17,2, -33.9984,  59.3187,-999.000,-999.000,20090410,       2141
33RR20090320,        I05,      75,          2,         11,         11,2,20090410,       2028,   -33.9979,    59.3188,       5568,  2603.8,   2.1227,  34.7483,2,  34.7476,2,    192.3,2,   192.4,2,   86.06,2,   30.43,2,    0.00,2,    2.17,2,   0.062,2,   0.026,2,   0.0000,2,  2249.8,2,  2356.4,2,   7.6928,2,    20.00,-999.000,9,-999.000,9,-999.000,9,   2.1233,2,-999.000,9, -999.00,9, -999.00,-999.000,9,-999.000,   40.11,2,   31.84,2, -33.9983,  59.3187,-999.000,-999.000,20090410,       2136
33RR20090320,        I05,      75,          2,         10,         10,2,20090410,       2028,   -33.9979,    59.3188,       5568,  2856.3,   1.9088,  34.7488,2,  34.7501,2,    194.6,2,   194.3,2,   93.85,2,   30.69,2,    0.00,2,    2.19,2,   0.055,2,   0.022,2,   0.0000,2,  2253.4,2,  2361.3,2,   7.6948,2,    20.00,-999.000,9,-999.000,9,-999.000,9,   1.9090,2,-999.000,9, -999.00,9, -999.00,-999.000,9,-999.000,   40.19,2,   32.08,2, -33.9984,  59.3185,-999.000,-999.000,20090410,       2130
33RR20090320,        I05,      75,          2,          9,          9,2,20090410,       2028,   -33.9979,    59.3188,       5568,  3125.8,   1.6287,  34.7403,2,  34.7420,2,    198.4,2,   196.5,2,  102.51,2,   31.11,2,    0.00,2,    2.23,2,   0.060,6,   0.025,6,   0.0000,6,  2257.7,2,  2363.6,2,   7.6913,2,    20.00,-999.000,9,-999.000,9,-999.000,9,   1.6291,2,-999.000,9, -999.00,9, -999.00,-999.000,9,-999.000,   39.57,2,   32.47,2, -33.9983,  59.3188,-999.000,-999.000,20090410,       2124
33RR20090320,        I05,      75,          2,          8,          8,2,20090410,       2028,   -33.9979,    59.3188,       5568,  3428.5,   1.3115,  34.7273,2,  34.7291,2,    201.7,2,   202.2,2,  109.71,2,   31.32,2,    0.00,2,    2.24,2,   0.087,2,   0.038,2,   0.0000,2,  2258.7,2,  2365.8,2,   7.6878,2,    20.00,-999.000,9,-999.000,9,-999.000,9,   1.3122,2,-999.000,9, -999.00,9, -999.00,-999.000,9,-999.000,   39.88,2,   32.55,2, -33.9982,  59.3187,-999.000,-999.000,20090410,       2118
33RR20090320,        I05,      75,          2,          7,          7,2,20090410,       2028,   -33.9979,    59.3188,       5568,  3733.6,   0.9086,  34.7097,2,  34.7098,2,    209.6,2,   210.4,2,  117.97,2,   31.75,2,    0.00,2,    2.27,2,   0.122,2,   0.054,2,   0.0000,2,  2257.4,2,  2362.5,2,   7.6828,2,    20.00,-999.000,9,-999.000,9,-999.000,9,   0.9089,2,-999.000,9, -999.00,9, -999.00,-999.000,9,-999.000,   39.82,2,   33.36,2, -33.9980,  59.3185,-999.000,-999.000,20090410,       2111
33RR20090320,        I05,      75,          2,          6,          6,2,20090410,       2028,   -33.9979,    59.3188,       5568,  4075.0,   0.5916,  34.6928,2,  34.6923,2,    215.1,2,   216.0,2,  126.68,2,   32.22,2,    0.00,2,    2.30,2,   0.154,2,   0.068,2,   0.0000,2,  2259.6,2,  2362.0,2,   7.6785,2,    20.00,-999.000,9,-999.000,9,-999.000,9,   0.5918,2,-999.000,9, -999.00,9, -999.00,-999.000,9,-999.000,   40.06,2,   33.77,2, -33.9980,  59.3184,-999.000,-999.000,20090410,       2104
33RR20090320,        I05,      75,          2,          5,          5,2,20090410,       2028,   -33.9979,    59.3188,       5568,  4482.1,   0.4919,  34.6859,2,  34.6855,2,    217.5,2,   218.1,2,  131.57,2,   32.42,2,    0.00,2,    2.31,2,   0.166,2,   0.072,2,   0.0020,2,  2258.8,2,  2361.3,2,   7.6768,2,    20.00,-999.000,9,-999.000,9,-999.000,9,   0.4921,2,-999.000,9, -999.00,9, -999.00,-999.000,9,-999.000,   39.95,2,   34.35,2, -33.9980,  59.3182,-999.000,-999.000,20090410,       2056
33RR20090320,        I05,      75,          2,          4,          4,2,20090410,       2028,   -33.9979,    59.3188,       5568,  4889.7,   0.5086,  34.6844,2,  34.6841,2,    218.2,2,   218.7,2,  131.77,2,   32.48,2,    0.00,2,    2.30,2,   0.170,2,   0.076,2,   0.0000,2,  2258.6,2,  2362.3,2,   7.6769,2,    20.00,-999.000,9,-999.000,9,-999.000,9,   0.5088,2,-999.000,9, -999.00,9, -999.00,-999.000,9,-999.000,   39.99,2,   33.77,2, -33.9977,  59.3182,-999.000,-999.000,20090410,       2048
33RR20090320,        I05,      75,          2,          3,          3,2,20090410,       2028,   -33.9979,    59.3188,       5568,  5298.3,   0.5267,  34.6824,2,  34.6823,2,    218.8,2,   219.1,2,  133.04,2,   32.53,2,    0.00,2,    2.32,2,   0.169,2,   0.075,2,   0.0000,2,  2258.6,2,  2361.3,2,   7.6762,2,    20.00,-999.000,9,-999.000,9,-999.000,9,   0.5265,2,-999.000,9, -999.00,9, -999.00,-999.000,9,-999.000,   39.89,2,   34.31,2, -33.9977,  59.3182,-999.000,-999.000,20090410,       2039
33RR20090320,        I05,      75,          2,          2,          2,2,20090410,       2028,   -33.9979,    59.3188,       5568,  5482.6,   0.5467,  34.6822,2,  34.6826,2,    219.8,2,   219.1,2,  132.83,2,   32.58,2,    0.00,2,    2.32,2,   0.168,2,   0.073,2,   0.0000,2,  2258.3,2,  2362.1,2,   7.6766,2,    20.00,-999.000,9,-999.000,9,-999.000,9,   0.5469,2,-999.000,9, -999.00,9, -999.00,-999.000,9,-999.000,   40.15,2,   33.82,2, -33.9978,  59.3182,-999.000,-999.000,20090410,       2033
33RR20090320,        I05,      75,          2,          1,          1,2,20090410,       2028,   -33.9979,    59.3188,       5568,  5664.7,   0.5678,  34.6816,2,  34.6826,2,    219.3,2,   219.2,2,  133.25,2,   32.57,2,    0.00,2,    2.32,2,   0.171,2,   0.072,2,   0.0020,2,  2260.6,6,  2362.5,2,   7.6762,2,    20.00,-999.000,9,-999.000,9,-999.000,9,   0.5674,2,-999.000,9, -999.00,9, -999.00,-999.000,9,-999.000,   40.31,2,   34.34,2, -33.9979,  59.3188,-999.000,-999.000,20090410,       2028