BOTTLE,20220814CCHSIOAMB
EXPOCODE,SECT_ID,STNNBR,CASTNO,SAMPNO,BTLNBR,BTLNBR_FLAG_W,DATE,TIME,LATITUDE,LONGITUDE,DEPTH,CTDPRS,CTDTMP,CTDSAL,CTDSAL_FLAG_W,SALNTY,SALNTY_FLAG_W,CTDOXY,CTDOXY_FLAG_W,OXYGEN,OXYGEN_FLAG_W,SILCAT,SILCAT_FLAG_W,NITRAT,NITRAT_FLAG_W,NITRIT,NITRIT_FLAG_W,PHSPHT,PHSPHT_FLAG_W,CFC-11,CFC-11_FLAG_W,CFC-12,CFC-12_FLAG_W,SF6,SF6_FLAG_W,TCARBN,TCARBN_FLAG_W,ALKALI,ALKALI_FLAG_W,PH_TOT,PH_TOT_FLAG_W,PH_TMP,TRITUM,TRITUM_FLAG_W,HELIUM,HELIUM_FLAG_W,DELHE3,DELHE3_FLAG_W,REFTMP,REFTMP_FLAG_W,DELC13,DELC13_FLAG_W,DELC14,DELC14_FLAG_W,C14ERR,NEON,NEON_FLAG_W,NEONER,DOC,DOC_FLAG_W,TDN,TDN_FLAG_W,BTL_LAT,BTL_LON,HELIER,DELHER,BTL_DATE,BTL_TIME
,,,,,,,,,,,METERS,DBAR,ITS-90,PSS-78,,PSS-78,,UMOL/KG,,UMOL/KG,,UMOL/KG,,UMOL/KG,,UMOL/KG,,UMOL/KG,,PMOL/KG,,PMOL/KG,,FMOL/KG,,UMOL/KG,,UMOL/KG,,,,DEG C,TU,,NMOL/KG,,PERCNT,,DEG C,,/MILLE,,/MILLE,,/MILLE,NMOL/KG,,NMOL/KG,UMOL/KG,,UMOL/KG,,,,NMOL/KG,PERCNT,,
33RR20090320,        I05,      20,          1,         27,         27,2,20090328,       0419,   -32.8858,    35.0349,       1587,     8.3,  24.3797,  35.4763,2,  35.4764,2,    208.8,2,   209.0,2,    0.00,2,    0.17,2,    0.00,2,    0.07,2,   1.776,6,   1.108,6,   0.9680,6,  1999.1,2,  2323.6,2,   8.1566,2,    20.00,-999.000,9,-999.000,9,-999.000,9,  24.3792,2,-999.000,9, -999.00,9, -999.00,-999.000,9,-999.000,   67.41,2,    4.24,2, -32.8858,  35.0350,-999.000,-999.000,20090328,       0511
33RR20090320,        I05,      20,          1,         26,         26,2,20090328,       0419,   -32.8858,    35.0349,       1587,    29.2,  24.3846,  35.4763,2,  35.4767,2,    209.7,2,   209.6,2,    0.00,2,    0.13,2,    0.00,2,    0.06,2,-999.000,9,-999.000,9,-999.0000,9,  1998.7,2,  2324.5,2,   8.1570,2,    20.00,-999.000,9,-999.000,9,-999.000,9,  24.3831,2,-999.000,9, -999.00,9, -999.00,-999.000,9,-999.000,   67.36,2,    4.41,2, -32.8859,  35.0350,-999.000,-999.000,20090328,       0509
33RR20090320,        I05,      20,          1,         25,         25,2,20090328,       0419,   -32.8858,    35.0349,       1587,    53.3,  24.3837,  35.4760,2,  35.4765,2,    209.0,2,   209.0,2,    0.00,2,    0.08,2,    0.00,2,    0.06,2,-999.000,9,-999.000,9,-999.0000,9,  1998.9,2,  2325.6,2,   8.1572,2,    20.00,-999.000,9,-999.000,9,-999.000,9,  24.3839,2,-999.000,9, -999.00,9, -999.00,-999.000,9,-999.000,   63.30,2,    4.64,2, -32.8858,  35.0349,-999.000,-999.000,20090328,       0508
33RR20090320,        I05,      20,          1,         24,         24,2,20090328,       0419,   -32.8858,    35.0349,       1587,    77.8,  22.7635,  35.3874,2,  35.3876,2,    200.2,2,   200.1,2,    0.24,2,    0.55,2,    0.06,2,    0.17,2,-999.000,9,-999.000,9,-999.0000,9,  2022.8,2,  2318.3,2,   8.1116,2,    20.00,-999.000,9,-999.000,9,-999.000,9,  22.7591,2,-999.000,9, -999.00,9, -999.00,-999.000,9,-999.000,   60.41,2,    5.24,2, -32.8856,  35.0349,-999.000,-999.000,20090328,       0507
33RR20090320,        I05,      20,          1,         23,         23,2,20090328,       0419,   -32.8858,    35.0349,       1587,   103.4,  21.2798,  35.4459,2,  35.4428,2,    185.9,2,   186.0,2,    0.98,2,    3.06,2,    0.02,2,    0.30,2,   1.996,2,   1.226,2,   0.9840,2,  2049.8,2,  2320.2,2,   8.0686,2,    20.00,-999.000,9,-999.000,9,-999.000,9,  21.2782,2,-999.000,9, -999.00,9, -999.00,-999.000,9,-999.000,   54.60,2,    6.67,2, -32.8855,  35.0348,-999.000,-999.000,20090328,       0505
33RR20090320,        I05,      20,          1,         22,         22,2,20090328,       0419,   -32.8858,    35.0349,       1587,   127.6,  20.3938,  35.4779,2,  35.4785,2,    184.6,2,   183.4,2,    1.50,2,    4.08,2,    0.01,2,    0.35,2,-999.000,9,-999.000,9,-999.0000,9,  2063.2,2,  2323.8,2,   8.0491,2,    20.00,-999.000,9,-999.000,9,-999.000,9,  20.3738,2,-999.000,9, -999.00,9, -999.00,-999.000,9,-999.000,   53.06,2,    7.06,2, -32.8854,  35.0348,-999.000,-999.000,20090328,       0504
33RR20090320,        I05,      20,          1,         21,         21,2,20090328,       0419,   -32.8858,    35.0349,       1587,   153.2,  19.0034,  35.5319,2,  35.5334,2,    199.2,2,   200.7,2,    1.03,2,    3.38,2,    0.01,2,    0.32,2,-999.000,9,-999.000,9,-999.0000,9,  2067.6,2,  2329.2,2,   8.0490,2,    20.00,-999.000,9,-999.000,9,-999.000,9,  19.0046,2,-999.000,9, -999.00,9, -999.00,-999.000,9,-999.000,   51.44,2,    6.42,2, -32.8855,  35.0347,-999.000,-999.000,20090328,       0503
33RR20090320,        I05,      20,          1,         20,         20,2,20090328,       0419,   -32.8858,    35.0349,       1587,   178.6,  18.0879,  35.5595,2,  35.5585,2,    223.4,2,   218.5,2,    0.17,2,    2.00,2,    0.00,2,    0.24,2,-999.000,9,-999.000,9,-999.0000,9,  2061.6,2,  2329.3,2,   8.0627,2,    20.00,-999.000,9,-999.000,9,-999.000,9,  18.0922,2,-999.000,9, -999.00,9, -999.00,-999.000,9,-999.000,   50.75,2,    5.23,2, -32.8856,  35.0347,-999.000,-999.000,20090328,       0501
33RR20090320,        I05,      20,          1,         19,         19,2,20090328,       0419,   -32.8858,    35.0349,       1587,   203.6,  17.9474,  35.5557,2,  35.5555,2,    218.0,2,   218.1,2,    0.29,2,    2.66,2,    0.00,2,    0.27,2,   2.321,2,   1.413,2,   1.1930,2,  2062.2,2,  2328.6,2,   8.0593,2,    20.00,-999.000,9,-999.000,9,-999.000,9,  17.9473,2,-999.000,9, -999.00,9, -999.00,-999.000,9,-999.000,   50.04,2,    5.77,2, -32.8857,  35.0346,-999.000,-999.000,20090328,       0500
33RR20090320,        I05,      20,          1,         18,         18,2,20090328,       0419,   -32.8858,    35.0349,       1587,   228.6,  17.7256,  35.5436,2,  35.5429,2,    214.1,2,   212.7,2,    0.62,2,    3.67,2,    0.00,2,    0.32,2,-999.000,9,-999.000,9,-999.0000,9,  2067.8,2,  2327.4,2,   8.0434,2,    20.00,-999.000,9,-999.000,9,-999.000,9,  17.6808,2,-999.000,9, -999.00,9, -999.00,-999.000,9,-999.000,   49.30,2,    7.01,2, -32.8857,  35.0345,-999.000,-999.000,20090328,       0459
33RR20090320,        I05,      20,          1,         17,         17,3,20090328,       0419,   -32.8858,    35.0349,       1587,   252.4,  17.3385,  35.5685,2,  35.5698,3,    213.1,2,   219.3,3,    0.35,3,    2.86,3,    0.01,3,    0.29,3,-999.000,9,-999.000,9,-999.0000,9,  2069.7,2,  2329.8,3,   8.0429,2,    20.00,-999.000,9,-999.000,9,-999.000,9,  17.3448,2,-999.000,9, -999.00,9, -999.00,-999.000,9,-999.000,   48.84,2,    5.68,2, -32.8857,  35.0344,-999.000,-999.000,20090328,       0457
33RR20090320,        I05,      20,          1,         16,         16,9,20090328,       0419,   -32.8858,    35.0349,       1587,   303.1,  17.0800,  35.5812,2,-999.0000,9,   -999.0,5,  -999.0,9, -999.00,9, -999.00,9, -999.00,9, -999.00,9,-999.000,9,-999.000,9,-999.0000,9,  -999.0,9,  -999.0,9,-999.0000,9,  -999.00,-999.000,9,-999.000,9,-999.000,9,  17.0791,2,-999.000,9, -999.00,9, -999.00,-999.000,9,-999.000, -999.00,9, -999.00,9, -32.8856,  35.0343,-999.000,-999.000,20090328,       0456
33RR20090320,        I05,      20,          1,         15,         15,2,20090328,       0419,   -32.8858,    35.0349,       1587,   352.5,  16.7933,  35.5469,2,  35.5467,2,    227.5,2,   228.0,2,    0.49,2,    3.06,2,    0.00,2,    0.30,2,   2.445,2,   1.483,2,   1.2430,2,  2068.0,6,  2327.3,2,   8.0450,3,    20.00,-999.000,9,-999.000,9,-999.000,9,  16.7925,2,-999.000,9, -999.00,9, -999.00,-999.000,9,-999.000,   46.98,2,    5.18,2, -32.8855,  35.0343,-999.000,-999.000,20090328,       0454
33RR20090320,        I05,      20,          1,         14,         14,2,20090328,       0419,   -32.8858,    35.0349,       1587,   402.2,  16.3295,  35.5065,2,  35.5065,2,    204.3,2,   204.6,2,    1.81,2,    5.93,2,    0.00,2,    0.46,2,-999.000,9,-999.000,9,-999.0000,9,  2093.2,2,  2328.6,2,   7.9972,2,    20.00,-999.000,9,-999.000,9,-999.000,9,  16.3243,2,-999.000,9, -999.00,9, -999.00,-999.000,9,-999.000,   46.31,2,    7.35,2, -32.8856,  35.0344,-999.000,-999.000,20090328,       0452
33RR20090320,        I05,      20,          1,         13,         13,2,20090328,       0419,   -32.8858,    35.0349,       1587,   452.6,  15.3254,  35.4482,2,  35.4491,2,    201.2,2,   200.8,2,    2.16,2,    7.46,2,    0.00,2,    0.57,2,-999.000,9,-999.000,9,-999.0000,9,  2107.9,2,  2325.2,2,   7.9667,2,    20.00,-999.000,9,-999.000,9,-999.000,9,  15.3240,2,-999.000,9, -999.00,9, -999.00,-999.000,9,-999.000,   45.29,2,    9.33,2, -32.8858,  35.0344,-999.000,-999.000,20090328,       0450
33RR20090320,        I05,      20,          1,         12,         12,2,20090328,       0419,   -32.8858,    35.0349,       1587,   502.3,  14.4355,  35.3856,2,  35.3884,2,    209.2,2,   210.4,2,    1.68,2,    8.00,2,    0.00,2,    0.60,2,-999.000,9,-999.000,9,-999.0000,9,  2110.3,2,  2322.8,2,   7.9559,2,    20.00,-999.000,9,-999.000,9,-999.000,9,  14.4584,2,-999.000,9, -999.00,9, -999.00,-999.000,9,-999.000,   44.57,2,    9.79,2, -32.8858,  35.0344,-999.000,-999.000,20090328,       0448
33RR20090320,        I05,      20,          1,         11,         11,2,20090328,       0419,   -32.8858,    35.0349,       1587,   603.5,  13.2399,  35.2599,2,  35.2605,2,    215.6,2,   216.0,2,    2.21,2,    9.82,2,    0.00,2,    0.72,2,   2.961,2,   1.681,2,   0.9780,2,  2116.6,2,  2317.8,2,   7.9323,2,    20.00,-999.000,9,-999.000,9,-999.000,9,  13.2352,2,-999.000,9, -999.00,9, -999.00,-999.000,9,-999.000,   43.67,2,   11.71,2, -32.8858,  35.0344,-999.000,-999.000,20090328,       0446
33RR20090320,        I05,      20,          1,         10,         10,2,20090328,       0419,   -32.8858,    35.0349,       1587,   702.5,  12.0720,  35.0963,2,  35.0913,2,    218.5,2,   218.7,2,    2.15,2,   11.98,2,    0.00,2,    0.86,2,-999.000,9,-999.000,9,-999.0000,9,  2122.1,2,  2310.5,2,   7.9066,2,    20.00,-999.000,9,-999.000,9,-999.000,9,  12.0854,2,-999.000,9, -999.00,9, -999.00,-999.000,9,-999.000,   42.78,2,   13.68,2, -32.8860,  35.0344,-999.000,-999.000,20090328,       0443
33RR20090320,        I05,      20,          1,          9,          9,2,20090328,       0419,   -32.8858,    35.0349,       1587,   803.8,  10.6282,  34.8887,2,  34.8879,2,    217.2,2,   216.8,2,    4.09,2,   15.30,2,    0.00,2,    1.05,2,-999.000,9,-999.000,9,-999.0000,9,  2131.6,2,  2301.6,2,   7.8693,2,    20.00,-999.000,9,-999.000,9,-999.000,9,  10.6221,2,-999.000,9, -999.00,9, -999.00,-999.000,9,-999.000,   41.76,2,   17.23,2, -32.8861,  35.0346,-999.000,-999.000,20090328,       0441
33RR20090320,        I05,      20,          1,          8,          8,2,20090328,       0419,   -32.8858,    35.0349,       1587,   902.9,   9.5503,  34.7583,2,  34.7601,2,    207.8,2,   207.8,2,    7.25,2,   18.73,2,    0.00,2,    1.29,2,-999.000,9,-999.000,9,-999.0000,9,  2143.5,2,  2299.1,2,   7.8316,2,    20.00,-999.000,9,-999.000,9,-999.000,9,   9.5529,2,-999.000,9, -999.00,9, -999.00,-999.000,9,-999.000,   41.00,2,   20.57,2, -32.8859,  35.0347,-999.000,-999.000,20090328,       0438
33RR20090320,        I05,      20,          1,          7,          7,2,20090328,       0419,   -32.8858,    35.0349,       1587,  1004.2,   8.4740,  34.6712,2,  34.6695,2,    187.8,2,   188.6,2,   15.28,2,   23.09,2,    0.00,2,    1.59,2,   2.231,2,   1.153,2,   0.4290,2,  2166.5,6,  2298.2,2,   7.7787,2,    20.00,-999.000,9,-999.000,9,-999.000,9,   8.4689,2,-999.000,9, -999.00,9, -999.00,-999.000,9,-999.000,   40.37,2,   24.73,2, -32.8860,  35.0346,-999.000,-999.000,20090328,       0436
33RR20090320,        I05,      20,          1,          6,          6,2,20090328,       0419,   -32.8858,    35.0349,       1587,  1104.4,   6.9990,  34.5293,2,  34.5316,2,    193.2,2,   192.9,2,   19.67,2,   26.10,2,    0.00,2,    1.80,2,-999.000,9,-999.000,9,-999.0000,9,  2176.7,2,  2299.2,2,   7.7469,2,    20.00,-999.000,9,-999.000,9,-999.000,9,   7.0045,2,-999.000,9, -999.00,9, -999.00,-999.000,9,-999.000,   39.69,2,   27.68,2, -32.8859,  35.0345,-999.000,-999.000,20090328,       0433
33RR20090320,        I05,      20,          1,          5,          5,2,20090328,       0419,   -32.8858,    35.0349,       1587,  1203.2,   5.9171,  34.4566,2,  34.4560,2,    194.1,2,   195.2,2,   25.51,2,   28.51,2,    0.00,2,    1.96,2,-999.000,9,-999.000,9,-999.0000,9,  2187.4,2,  2300.4,2,   7.7199,2,    20.00,-999.000,9,-999.000,9,-999.000,9,   5.9322,2,-999.000,9, -999.00,9, -999.00,-999.000,9,-999.000,   39.57,2,   30.13,2, -32.8859,  35.0345,-999.000,-999.000,20090328,       0431
33RR20090320,        I05,      20,          1,          4,          4,2,20090328,       0419,   -32.8858,    35.0349,       1587,  1305.1,   4.9607,  34.4489,2,  34.4490,2,    184.9,2,   185.1,2,   36.66,2,   30.92,2,    0.00,2,    2.15,2,   1.489,2,   0.734,2,   0.2510,2,  2206.5,2,  2309.8,2,   7.6888,2,    20.00,-999.000,9,-999.000,9,-999.000,9,   4.9649,2,-999.000,9, -999.00,9, -999.00,-999.000,9,-999.000,   39.73,2,   32.71,2, -32.8859,  35.0346,-999.000,-999.000,20090328,       0428
33RR20090320,        I05,      20,          1,          3,          3,2,20090328,       0419,   -32.8858,    35.0349,       1587,  1405.2,   4.2106,  34.4810,2,  34.4808,2,    175.6,2,   175.5,2,   48.69,2,   32.65,2,    0.00,2,    2.27,2,-999.000,9,-999.000,9,-999.0000,9,  2224.0,2,  2321.1,2,   7.6640,2,    20.00,-999.000,9,-999.000,9,-999.000,9,   4.2087,2,-999.000,9, -999.00,9, -999.00,-999.000,9,-999.000,   40.17,2,   34.14,2, -32.8856,  35.0346,-999.000,-999.000,20090328,       0424
33RR20090320,        I05,      20,          1,          2,          2,2,20090328,       0419,   -32.8858,    35.0349,       1587,  1506.1,   3.8797,  34.5228,2,  34.5224,2,    169.7,2,   170.0,2,   55.63,2,   33.15,2,    0.00,2,    2.32,2,-999.000,9,-999.000,9,-999.0000,9,  2235.1,2,  2327.1,2,   7.6558,2,    20.00,-999.000,9,-999.000,9,-999.000,9,   3.8793,2,-999.000,9, -999.00,9, -999.00,-999.000,9,-999.000,   39.26,2,   34.80,2, -32.8858,  35.0347,-999.000,-999.000,20090328,       0421
33RR20090320,        I05,      20,          1,          1,          1,2,20090328,       0419,   -32.8858,    35.0349,       1587,  1586.2,   3.6956,  34.5564,2,  34.5570,2,    166.2,2,   166.4,2,   60.72,2,   33.41,2,    0.00,2,    2.34,2,   0.586,2,   0.269,2,   0.0900,2,  2242.6,6,  2331.6,2,   7.6513,2,    20.00,-999.000,9,-999.000,9,-999.000,9,   3.6954,2,-999.000,9, -999.00,9, -999.00,-999.000,9,-999.000,   39.35,2,   35.14,2, -32.8858,  35.0349,-999.000,-999.000,20090328,       0419