BOTTLE,20220814CCHSIOAMB
EXPOCODE,SECT_ID,STNNBR,CASTNO,SAMPNO,BTLNBR,BTLNBR_FLAG_W,DATE,TIME,LATITUDE,LONGITUDE,DEPTH,CTDPRS,CTDTMP,CTDSAL,CTDSAL_FLAG_W,SALNTY,SALNTY_FLAG_W,CTDOXY,CTDOXY_FLAG_W,OXYGEN,OXYGEN_FLAG_W,SILCAT,SILCAT_FLAG_W,NITRAT,NITRAT_FLAG_W,NITRIT,NITRIT_FLAG_W,PHSPHT,PHSPHT_FLAG_W,CFC-11,CFC-11_FLAG_W,CFC-12,CFC-12_FLAG_W,SF6,SF6_FLAG_W,TCARBN,TCARBN_FLAG_W,ALKALI,ALKALI_FLAG_W,PH_TOT,PH_TOT_FLAG_W,PH_TMP,TRITUM,TRITUM_FLAG_W,HELIUM,HELIUM_FLAG_W,DELHE3,DELHE3_FLAG_W,REFTMP,REFTMP_FLAG_W,DELC13,DELC13_FLAG_W,DELC14,DELC14_FLAG_W,C14ERR,NEON,NEON_FLAG_W,NEONER,DOC,DOC_FLAG_W,TDN,TDN_FLAG_W,BTL_LAT,BTL_LON,HELIER,DELHER,BTL_DATE,BTL_TIME
,,,,,,,,,,,METERS,DBAR,ITS-90,PSS-78,,PSS-78,,UMOL/KG,,UMOL/KG,,UMOL/KG,,UMOL/KG,,UMOL/KG,,UMOL/KG,,PMOL/KG,,PMOL/KG,,FMOL/KG,,UMOL/KG,,UMOL/KG,,,,DEG C,TU,,NMOL/KG,,PERCNT,,DEG C,,/MILLE,,/MILLE,,/MILLE,NMOL/KG,,NMOL/KG,UMOL/KG,,UMOL/KG,,,,NMOL/KG,PERCNT,,
33RR20090320,        I05,      58,          1,         36,         36,2,20090406,       1759,   -33.9977,    53.6360,       4447,     5.4,  20.7468,  35.6108,2,  35.6098,2,    226.5,2,   225.5,2,    1.43,2,    0.14,2,    0.00,2,    0.10,2,-999.000,9,-999.000,9,-999.0000,9,  2041.5,6,  2333.3,2,   8.1045,2,    20.00,-999.000,9,-999.000,9,-999.000,9,  20.7456,2,-999.000,9, -999.00,9, -999.00,-999.000,9,-999.000, -999.00,9, -999.00,9, -33.9979,  53.6355,-999.000,-999.000,20090406,       2008
33RR20090320,        I05,      58,          1,         35,         35,2,20090406,       1759,   -33.9977,    53.6360,       4447,    20.9,  20.4712,  35.5790,2,  35.5796,2,    227.6,2,   227.3,2,    1.40,2,    0.15,2,    0.00,2,    0.11,2,-999.000,9,-999.000,9,-999.0000,9,  2044.2,2,  2332.9,2,   8.0981,2,    20.00,-999.000,9,-999.000,9,-999.000,9,  20.4721,2,-999.000,9, -999.00,9, -999.00,-999.000,9,-999.000, -999.00,9, -999.00,9, -33.9979,  53.6355,-999.000,-999.000,20090406,       2007
33RR20090320,        I05,      58,          1,         34,         34,2,20090406,       1759,   -33.9977,    53.6360,       4447,    40.0,  20.1072,  35.5352,2,  35.5342,2,    229.2,2,   229.8,2,    1.36,2,    0.10,2,    0.00,2,    0.13,2,-999.000,9,-999.000,9,-999.0000,9,  -999.0,9,  -999.0,9,-999.0000,9,  -999.00,-999.000,9,-999.000,9,-999.000,9,  20.1014,2,-999.000,9, -999.00,9, -999.00,-999.000,9,-999.000, -999.00,9, -999.00,9, -33.9979,  53.6355,-999.000,-999.000,20090406,       2005
33RR20090320,        I05,      58,          1,         33,         33,2,20090406,       1759,   -33.9977,    53.6360,       4447,    65.6,  18.2721,  35.5269,2,  35.5257,2,    239.3,2,   238.0,2,    1.50,2,    0.20,2,    0.01,2,    0.16,2,-999.000,9,-999.000,9,-999.0000,9,  2056.4,2,  2330.2,2,   8.0748,2,    20.00,-999.000,9,-999.000,9,-999.000,9,  18.2613,2,-999.000,9, -999.00,9, -999.00,-999.000,9,-999.000, -999.00,9, -999.00,9, -33.9979,  53.6356,-999.000,-999.000,20090406,       2003
33RR20090320,        I05,      58,          1,         32,         32,2,20090406,       1759,   -33.9977,    53.6360,       4447,    91.6,  16.9451,  35.4991,2,  35.5007,2,    230.8,2,   231.5,2,    1.85,2,    1.69,2,    0.04,2,    0.25,2,-999.000,9,-999.000,9,-999.0000,9,  2069.9,2,  2328.2,2,   8.0467,2,    20.00,-999.000,9,-999.000,9,-999.000,9,  16.9411,2,-999.000,9, -999.00,9, -999.00,-999.000,9,-999.000, -999.00,9, -999.00,9, -33.9979,  53.6356,-999.000,-999.000,20090406,       2002
33RR20090320,        I05,      58,          1,         31,         31,2,20090406,       1759,   -33.9977,    53.6360,       4447,   137.6,  15.4008,  35.4473,2,  35.4478,2,    221.5,2,   222.1,2,    2.99,2,    5.03,2,    0.01,2,    0.45,2,-999.000,9,-999.000,9,-999.0000,9,  2091.5,2,  2324.5,2,   7.9997,2,    20.00,-999.000,9,-999.000,9,-999.000,9,  15.4060,2,-999.000,9, -999.00,9, -999.00,-999.000,9,-999.000, -999.00,9, -999.00,9, -33.9979,  53.6357,-999.000,-999.000,20090406,       1959
33RR20090320,        I05,      58,          1,         30,         30,2,20090406,       1759,   -33.9977,    53.6360,       4447,   186.2,  14.6257,  35.3974,2,  35.3954,2,    221.8,2,   222.8,2,    3.33,2,    6.32,2,    0.01,2,    0.54,2,-999.000,9,-999.000,9,-999.0000,9,  -999.0,9,  -999.0,9,-999.0000,9,  -999.00,-999.000,9,-999.000,9,-999.000,9,  14.6240,2,-999.000,9, -999.00,9, -999.00,-999.000,9,-999.000, -999.00,9, -999.00,9, -33.9979,  53.6357,-999.000,-999.000,20090406,       1957
33RR20090320,        I05,      58,          1,         29,         29,2,20090406,       1759,   -33.9977,    53.6360,       4447,   236.1,  14.3161,  35.3744,2,  35.3729,2,    225.2,2,   224.8,2,    3.29,2,    6.66,2,    0.00,2,    0.56,2,-999.000,9,-999.000,9,-999.0000,9,  2102.1,2,  2321.4,2,   7.9741,2,    20.00,-999.000,9,-999.000,9,-999.000,9,  14.3189,2,-999.000,9, -999.00,9, -999.00,-999.000,9,-999.000, -999.00,9, -999.00,9, -33.9979,  53.6357,-999.000,-999.000,20090406,       1955
33RR20090320,        I05,      58,          1,         28,         28,2,20090406,       1759,   -33.9977,    53.6360,       4447,   286.9,  13.8314,  35.3391,2,  35.3380,2,    232.7,2,   230.8,2,    3.05,2,    6.98,2,    0.00,2,    0.58,2,-999.000,9,-999.000,9,-999.0000,9,  -999.0,9,  -999.0,9,-999.0000,9,  -999.00,-999.000,9,-999.000,9,-999.000,9,  13.8339,2,-999.000,9, -999.00,9, -999.00,-999.000,9,-999.000, -999.00,9, -999.00,9, -33.9979,  53.6356,-999.000,-999.000,20090406,       1952
33RR20090320,        I05,      58,          1,         27,         27,2,20090406,       1759,   -33.9977,    53.6360,       4447,   336.6,  13.6153,  35.3277,2,  35.3260,2,    235.5,2,   235.2,2,    3.21,2,    7.10,2,    0.00,2,    0.59,2,-999.000,9,-999.000,9,-999.0000,9,  2103.0,2,  2320.0,2,   7.9677,2,    20.00,-999.000,9,-999.000,9,-999.000,9,  13.6152,2,-999.000,9, -999.00,9, -999.00,-999.000,9,-999.000, -999.00,9, -999.00,9, -33.9979,  53.6356,-999.000,-999.000,20090406,       1950
33RR20090320,        I05,      58,          1,         26,         26,2,20090406,       1759,   -33.9977,    53.6360,       4447,   386.5,  13.4169,  35.3018,2,  35.3008,2,    234.3,2,   235.4,2,    3.17,2,    7.63,2,    0.00,2,    0.61,2,-999.000,9,-999.000,9,-999.0000,9,  -999.0,9,  -999.0,9,-999.0000,9,  -999.00,-999.000,9,-999.000,9,-999.000,9,  13.4146,2,-999.000,9, -999.00,9, -999.00,-999.000,9,-999.000, -999.00,9, -999.00,9, -33.9979,  53.6355,-999.000,-999.000,20090406,       1948
33RR20090320,        I05,      58,          1,         25,         25,2,20090406,       1759,   -33.9977,    53.6360,       4447,   436.1,  13.1592,  35.2636,2,  35.2610,2,    231.8,2,   233.3,2,    3.33,2,    8.45,2,    0.00,2,    0.66,2,-999.000,9,-999.000,9,-999.0000,9,  2105.2,2,  2317.7,2,   7.9519,2,    20.00,-999.000,9,-999.000,9,-999.000,9,  13.1605,2,-999.000,9, -999.00,9, -999.00,-999.000,9,-999.000, -999.00,9, -999.00,9, -33.9979,  53.6354,-999.000,-999.000,20090406,       1946
33RR20090320,        I05,      58,          1,         24,         24,2,20090406,       1759,   -33.9977,    53.6360,       4447,   485.8,  12.8689,  35.2151,2,  35.2153,2,    231.7,2,   231.6,2,    3.48,2,    9.26,2,    0.00,2,    0.71,2,-999.000,9,-999.000,9,-999.0000,9,  -999.0,9,  -999.0,9,-999.0000,9,  -999.00,-999.000,9,-999.000,9,-999.000,9,  12.8722,2,-999.000,9, -999.00,9, -999.00,-999.000,9,-999.000, -999.00,9, -999.00,9, -33.9979,  53.6353,-999.000,-999.000,20090406,       1943
33RR20090320,        I05,      58,          1,         23,         23,2,20090406,       1759,   -33.9977,    53.6360,       4447,   566.6,  12.3097,  35.1227,2,  35.1219,2,    228.8,2,   228.9,2,    3.83,2,   10.84,2,    0.00,2,    0.81,2,-999.000,9,-999.000,9,-999.0000,9,  -999.0,9,  -999.0,9,-999.0000,9,  -999.00,-999.000,9,-999.000,9,-999.000,9,  12.3124,2,-999.000,9, -999.00,9, -999.00,-999.000,9,-999.000, -999.00,9, -999.00,9, -33.9979,  53.6353,-999.000,-999.000,20090406,       1941
33RR20090320,        I05,      58,          1,         22,         22,2,20090406,       1759,   -33.9977,    53.6360,       4447,   665.5,  11.4191,  34.9816,2,  34.9818,2,    223.0,2,   223.4,2,    4.57,2,   13.22,2,    0.00,2,    0.97,2,-999.000,9,-999.000,9,-999.0000,9,  -999.0,9,  -999.0,9,-999.0000,9,  -999.00,-999.000,9,-999.000,9,-999.000,9,  11.4145,2,-999.000,9, -999.00,9, -999.00,-999.000,9,-999.000, -999.00,9, -999.00,9, -33.9980,  53.6354,-999.000,-999.000,20090406,       1937
33RR20090320,        I05,      58,          1,         21,         21,2,20090406,       1759,   -33.9977,    53.6360,       4447,   766.1,  10.1897,  34.8167,2,  34.8160,2,    217.5,2,   216.5,2,    6.68,2,   16.53,2,    0.00,2,    1.18,2,-999.000,9,-999.000,9,-999.0000,9,  2131.8,2,  2299.0,2,   7.8579,2,    20.00,-999.000,9,-999.000,9,-999.000,9,  10.1914,2,-999.000,9, -999.00,9, -999.00,-999.000,9,-999.000, -999.00,9, -999.00,9, -33.9980,  53.6356,-999.000,-999.000,20090406,       1934
33RR20090320,        I05,      58,          1,         20,         20,2,20090406,       1759,   -33.9977,    53.6360,       4447,   865.4,   8.3764,  34.6206,2,  34.6218,2,    207.5,2,   207.0,2,   12.10,2,   21.58,2,    0.00,2,    1.51,2,-999.000,9,-999.000,9,-999.0000,9,  -999.0,9,  -999.0,9,-999.0000,9,  -999.00,-999.000,9,-999.000,9,-999.000,9,   8.3609,2,-999.000,9, -999.00,9, -999.00,-999.000,9,-999.000, -999.00,9, -999.00,9, -33.9980,  53.6356,-999.000,-999.000,20090406,       1930
33RR20090320,        I05,      58,          1,         19,         19,2,20090406,       1759,   -33.9977,    53.6360,       4447,   967.4,   6.8139,  34.4891,2,  34.4882,2,    204.9,2,   205.0,2,   18.53,2,   25.62,2,    0.00,2,    1.79,2,-999.000,9,-999.000,9,-999.0000,9,  -999.0,9,  -999.0,9,-999.0000,9,  -999.00,-999.000,9,-999.000,9,-999.000,9,   6.8128,2,-999.000,9, -999.00,9, -999.00,-999.000,9,-999.000, -999.00,9, -999.00,9, -33.9980,  53.6356,-999.000,-999.000,20090406,       1927
33RR20090320,        I05,      58,          1,         18,         18,2,20090406,       1759,   -33.9977,    53.6360,       4447,  1065.8,   5.5106,  34.4151,2,  34.4152,2,    202.9,2,   202.8,2,   26.15,2,   28.40,2,    0.00,2,    2.00,2,-999.000,9,-999.000,9,-999.0000,9,  -999.0,9,  -999.0,9,-999.0000,9,  -999.00,-999.000,9,-999.000,9,-999.000,9,   5.5056,2,-999.000,9, -999.00,9, -999.00,-999.000,9,-999.000, -999.00,9, -999.00,9, -33.9979,  53.6357,-999.000,-999.000,20090406,       1924
33RR20090320,        I05,      58,          1,         17,         17,2,20090406,       1759,   -33.9977,    53.6360,       4447,  1169.1,   4.7881,  34.3957,2,  34.3940,2,    200.1,2,   200.4,2,   32.60,2,   29.99,2,    0.00,2,    2.12,2,-999.000,9,-999.000,9,-999.0000,9,  2194.1,2,  2300.9,2,   7.7012,2,    20.00,-999.000,9,-999.000,9,-999.000,9,   4.7951,2,-999.000,9, -999.00,9, -999.00,-999.000,9,-999.000, -999.00,9, -999.00,9, -33.9979,  53.6357,-999.000,-999.000,20090406,       1921
33RR20090320,        I05,      58,          1,         16,         16,2,20090406,       1759,   -33.9977,    53.6360,       4447,  1267.0,   3.9956,  34.4177,2,  34.4160,2,    190.7,2,   190.5,2,   43.82,2,   31.92,2,    0.00,2,    2.27,2,-999.000,9,-999.000,9,-999.0000,9,  -999.0,9,  -999.0,9,-999.0000,9,  -999.00,-999.000,9,-999.000,9,-999.000,9,   3.9975,2,-999.000,9, -999.00,9, -999.00,-999.000,9,-999.000, -999.00,9, -999.00,9, -33.9979,  53.6357,-999.000,-999.000,20090406,       1918
33RR20090320,        I05,      58,          1,         15,         15,2,20090406,       1759,   -33.9977,    53.6360,       4447,  1367.9,   3.6032,  34.4568,2,  34.4559,2,    185.8,2,   184.7,2,   51.31,2,   32.63,2,    0.00,2,    2.32,2,-999.000,9,-999.000,9,-999.0000,9,  -999.0,9,  -999.0,9,-999.0000,9,  -999.00,-999.000,9,-999.000,9,-999.000,9,   3.6033,2,-999.000,9, -999.00,9, -999.00,-999.000,9,-999.000, -999.00,9, -999.00,9, -33.9979,  53.6356,-999.000,-999.000,20090406,       1915
33RR20090320,        I05,      58,          1,         14,         14,2,20090406,       1759,   -33.9977,    53.6360,       4447,  1469.2,   3.3102,  34.5023,2,  34.5018,2,    180.3,2,   180.2,2,   58.02,2,   32.90,2,    0.00,2,    2.34,2,-999.000,9,-999.000,9,-999.0000,9,  -999.0,9,  -999.0,9,-999.0000,9,  -999.00,-999.000,9,-999.000,9,-999.000,9,   3.3105,2,-999.000,9, -999.00,9, -999.00,-999.000,9,-999.000, -999.00,9, -999.00,9, -33.9979,  53.6356,-999.000,-999.000,20090406,       1912
33RR20090320,        I05,      58,          1,         13,         13,2,20090406,       1759,   -33.9977,    53.6360,       4447,  1563.3,   3.1483,  34.5326,2,  34.5313,2,    177.5,2,   178.4,2,   61.76,2,   33.01,2,    0.00,2,    2.35,2,-999.000,9,-999.000,9,-999.0000,9,  2236.0,2,  2327.5,2,   7.6556,2,    20.00,-999.000,9,-999.000,9,-999.000,9,   3.1447,2,-999.000,9, -999.00,9, -999.00,-999.000,9,-999.000, -999.00,9, -999.00,9, -33.9979,  53.6356,-999.000,-999.000,20090406,       1909
33RR20090320,        I05,      58,          1,         12,         12,2,20090406,       1759,   -33.9977,    53.6360,       4447,  1734.8,   2.8388,  34.5993,2,  34.5988,2,    178.0,2,   178.5,2,   68.70,2,   32.67,2,    0.00,2,    2.32,2,-999.000,9,-999.000,9,-999.0000,9,  -999.0,9,  -999.0,9,-999.0000,9,  -999.00,-999.000,9,-999.000,9,-999.000,9,   2.8384,2,-999.000,9, -999.00,9, -999.00,-999.000,9,-999.000, -999.00,9, -999.00,9, -33.9979,  53.6357,-999.000,-999.000,20090406,       1904
33RR20090320,        I05,      58,          1,         11,         11,2,20090406,       1759,   -33.9977,    53.6360,       4447,  1936.2,   2.6317,  34.6475,2,  34.6468,2,    181.1,2,   180.9,2,   73.45,2,   32.07,2,    0.00,2,    2.29,2,-999.000,9,-999.000,9,-999.0000,9,  -999.0,9,  -999.0,9,-999.0000,9,  -999.00,-999.000,9,-999.000,9,-999.000,9,   2.6306,2,-999.000,9, -999.00,9, -999.00,-999.000,9,-999.000, -999.00,9, -999.00,9, -33.9979,  53.6358,-999.000,-999.000,20090406,       1859
33RR20090320,        I05,      58,          1,         10,         10,2,20090406,       1759,   -33.9977,    53.6360,       4447,  2162.7,   2.3173,  34.7059,2,  34.7046,2,    186.3,2,   186.7,2,   81.02,2,   31.30,2,    0.00,2,    2.22,2,-999.000,9,-999.000,9,-999.0000,9,  -999.0,9,  -999.0,9,-999.0000,9,  -999.00,-999.000,9,-999.000,9,-999.000,9,   2.3178,2,-999.000,9, -999.00,9, -999.00,-999.000,9,-999.000, -999.00,9, -999.00,9, -33.9980,  53.6359,-999.000,-999.000,20090406,       1854
33RR20090320,        I05,      58,          1,          9,          9,2,20090406,       1759,   -33.9977,    53.6360,       4447,  2414.7,   2.1213,  34.7311,2,  34.7299,2,    190.8,2,   190.7,2,   86.79,2,   30.91,2,    0.00,2,    2.20,2,-999.000,9,-999.000,9,-999.0000,9,  2248.9,2,  2354.4,2,   7.6885,2,    20.00,-999.000,9,-999.000,9,-999.000,9,   2.1212,2,-999.000,9, -999.00,9, -999.00,-999.000,9,-999.000, -999.00,9, -999.00,9, -33.9980,  53.6360,-999.000,-999.000,20090406,       1848
33RR20090320,        I05,      58,          1,          8,          8,2,20090406,       1759,   -33.9977,    53.6360,       4447,  2663.0,   1.8771,  34.7368,2,  34.7364,2,    194.7,2,   194.6,2,   93.57,2,   30.86,2,    0.00,2,    2.20,2,-999.000,9,-999.000,9,-999.0000,9,  -999.0,9,  -999.0,9,-999.0000,9,  -999.00,-999.000,9,-999.000,9,-999.000,9,   1.8786,2,-999.000,9, -999.00,9, -999.00,-999.000,9,-999.000, -999.00,9, -999.00,9, -33.9980,  53.6360,-999.000,-999.000,20090406,       1842
33RR20090320,        I05,      58,          1,          7,          7,2,20090406,       1759,   -33.9977,    53.6360,       4447,  2913.1,   1.6579,  34.7341,2,  34.7339,2,    197.9,2,   197.7,2,   99.58,2,   30.91,2,    0.00,2,    2.21,2,-999.000,9,-999.000,9,-999.0000,9,  -999.0,9,  -999.0,9,-999.0000,9,  -999.00,-999.000,9,-999.000,9,-999.000,9,   1.6574,2,-999.000,9, -999.00,9, -999.00,-999.000,9,-999.000, -999.00,9, -999.00,9, -33.9981,  53.6361,-999.000,-999.000,20090406,       1836
33RR20090320,        I05,      58,          1,          6,          6,2,20090406,       1759,   -33.9977,    53.6360,       4447,  3196.8,   1.4355,  34.7282,2,  34.7276,2,    201.9,2,   202.0,2,  105.19,2,   31.24,2,    0.00,2,    2.22,2,-999.000,9,-999.000,9,-999.0000,9,  -999.0,9,  -999.0,9,-999.0000,9,  -999.00,-999.000,9,-999.000,9,-999.000,9,   1.4354,2,-999.000,9, -999.00,9, -999.00,-999.000,9,-999.000, -999.00,9, -999.00,9, -33.9980,  53.6361,-999.000,-999.000,20090406,       1829
33RR20090320,        I05,      58,          1,          5,          5,2,20090406,       1759,   -33.9977,    53.6360,       4447,  3500.5,   1.2486,  34.7218,2,  34.7217,2,    205.9,2,   206.2,2,  109.99,2,   31.40,2,    0.00,2,    2.23,2,-999.000,9,-999.000,9,-999.0000,9,  2254.9,2,  2359.9,2,   7.6878,2,    20.00,-999.000,9,-999.000,9,-999.000,9,   1.2484,2,-999.000,9, -999.00,9, -999.00,-999.000,9,-999.000, -999.00,9, -999.00,9, -33.9979,  53.6359,-999.000,-999.000,20090406,       1823
33RR20090320,        I05,      58,          1,          4,          4,2,20090406,       1759,   -33.9977,    53.6360,       4447,  3792.8,   1.1390,  34.7178,2,  34.7160,2,    208.6,2,   208.4,2,  115.82,2,   31.73,2,    0.00,2,    2.25,2,-999.000,9,-999.000,9,-999.0000,9,  -999.0,9,  -999.0,9,-999.0000,9,  -999.00,-999.000,9,-999.000,9,-999.000,9,   1.1395,2,-999.000,9, -999.00,9, -999.00,-999.000,9,-999.000, -999.00,9, -999.00,9, -33.9980,  53.6358,-999.000,-999.000,20090406,       1816
33RR20090320,        I05,      58,          1,          3,          3,2,20090406,       1759,   -33.9977,    53.6360,       4447,  4111.1,   1.0174,  34.7119,2,  34.7111,2,    210.7,2,   210.9,2,  115.38,2,   31.62,2,    0.00,2,    2.25,2,-999.000,9,-999.000,9,-999.0000,9,  -999.0,9,  -999.0,9,-999.0000,9,  -999.00,-999.000,9,-999.000,9,-999.000,9,   1.0178,2,-999.000,9, -999.00,9, -999.00,-999.000,9,-999.000, -999.00,9, -999.00,9, -33.9978,  53.6359,-999.000,-999.000,20090406,       1809
33RR20090320,        I05,      58,          1,          2,          2,2,20090406,       1759,   -33.9977,    53.6360,       4447,  4345.1,   0.9777,  34.7090,2,  34.7075,2,    212.4,2,   212.3,2,  117.57,2,   31.73,2,    0.00,2,    2.25,2,-999.000,9,-999.000,9,-999.0000,9,  -999.0,9,  -999.0,9,-999.0000,9,  -999.00,-999.000,9,-999.000,9,-999.000,9,   0.9777,2,-999.000,9, -999.00,9, -999.00,-999.000,9,-999.000, -999.00,9, -999.00,9, -33.9978,  53.6360,-999.000,-999.000,20090406,       1803
33RR20090320,        I05,      58,          1,          1,          1,2,20090406,       1759,   -33.9977,    53.6360,       4447,  4509.9,   0.9927,  34.7087,2,  34.7081,2,    212.1,2,   211.8,2,  117.34,2,   31.78,2,    0.00,2,    2.26,2,-999.000,9,-999.000,9,-999.0000,9,  2256.5,6,  2360.2,2,   7.6852,2,    20.00,-999.000,9,-999.000,9,-999.000,9,   0.9922,2,-999.000,9, -999.00,9, -999.00,-999.000,9,-999.000, -999.00,9, -999.00,9, -33.9977,  53.6360,-999.000,-999.000,20090406,       1759