BOTTLE,20220814CCHSIOAMB
EXPOCODE,SECT_ID,STNNBR,CASTNO,SAMPNO,BTLNBR,BTLNBR_FLAG_W,DATE,TIME,LATITUDE,LONGITUDE,DEPTH,CTDPRS,CTDTMP,CTDSAL,CTDSAL_FLAG_W,SALNTY,SALNTY_FLAG_W,CTDOXY,CTDOXY_FLAG_W,OXYGEN,OXYGEN_FLAG_W,SILCAT,SILCAT_FLAG_W,NITRAT,NITRAT_FLAG_W,NITRIT,NITRIT_FLAG_W,PHSPHT,PHSPHT_FLAG_W,CFC-11,CFC-11_FLAG_W,CFC-12,CFC-12_FLAG_W,SF6,SF6_FLAG_W,TCARBN,TCARBN_FLAG_W,ALKALI,ALKALI_FLAG_W,PH_TOT,PH_TOT_FLAG_W,PH_TMP,TRITUM,TRITUM_FLAG_W,HELIUM,HELIUM_FLAG_W,DELHE3,DELHE3_FLAG_W,REFTMP,REFTMP_FLAG_W,DELC13,DELC13_FLAG_W,DELC14,DELC14_FLAG_W,C14ERR,NEON,NEON_FLAG_W,NEONER,DOC,DOC_FLAG_W,TDN,TDN_FLAG_W,BTL_LAT,BTL_LON,HELIER,DELHER,BTL_DATE,BTL_TIME
,,,,,,,,,,,METERS,DBAR,ITS-90,PSS-78,,PSS-78,,UMOL/KG,,UMOL/KG,,UMOL/KG,,UMOL/KG,,UMOL/KG,,UMOL/KG,,PMOL/KG,,PMOL/KG,,FMOL/KG,,UMOL/KG,,UMOL/KG,,,,DEG C,TU,,NMOL/KG,,PERCNT,,DEG C,,/MILLE,,/MILLE,,/MILLE,NMOL/KG,,NMOL/KG,UMOL/KG,,UMOL/KG,,,,NMOL/KG,PERCNT,,
33RR20090320,        I05,      45,          1,         34,         34,2,20090403,       0251,   -33.2258,    46.2329,       2403,     9.5,  22.7337,  35.6201,2,  35.6101,2,    217.3,2,   217.3,2,    1.16,2,    0.22,2,    0.00,2,    0.07,2,   1.908,2,   1.178,2,   1.1330,2,  2028.0,6,  2333.2,2,   8.1208,2,    20.00,   0.418,2,   1.804,2,  -2.094,2,  22.7316,2,-999.000,9, -999.00,9, -999.00,   7.248,2,   0.009, -999.00,9, -999.00,9, -33.2259,  46.2333,   0.000,   0.189,20090403,       0405
33RR20090320,        I05,      45,          1,         33,         33,2,20090403,       0251,   -33.2258,    46.2329,       2403,    41.1,  22.5301,  35.5909,2,  35.5888,2,    218.9,2,   218.9,2,    1.11,2,    0.22,2,    0.00,2,    0.06,2,   1.923,2,   1.185,2,   1.2870,2,  2024.6,2,  2330.0,2,   8.1206,2,    20.00,   0.586,2,   1.800,2,  -1.500,2,  22.5177,2,-999.000,9, -999.00,9, -999.00,   7.223,2,   0.008, -999.00,9, -999.00,9, -33.2259,  46.2332,   0.000,   0.190,20090403,       0403
33RR20090320,        I05,      45,          1,         32,         32,2,20090403,       0251,   -33.2258,    46.2329,       2403,    65.5,  20.3338,  35.5951,2,  35.5916,2,    236.0,2,   235.8,2,    1.26,2,    0.22,2,    0.00,2,    0.11,2,   2.210,2,   1.336,2,   1.2800,2,  2036.9,2,  2330.1,2,   8.1006,2,    20.00,-999.000,9,-999.000,9,-999.000,9,  20.3358,2,-999.000,9, -999.00,9, -999.00,-999.000,9,-999.000, -999.00,9, -999.00,9, -33.2259,  46.2332,-999.000,-999.000,20090403,       0402
33RR20090320,        I05,      45,          1,         31,         31,2,20090403,       0251,   -33.2258,    46.2329,       2403,    90.9,  17.9035,  35.5634,2,  35.5626,2,    216.6,2,   216.7,2,    2.37,2,    1.67,2,    0.03,2,    0.25,2,   2.340,6,   1.405,6,   1.1560,6,  2065.1,2,  2329.8,2,   8.0476,2,    20.00,   0.523,2,   1.831,2,  -0.890,2,  17.9001,2,-999.000,9, -999.00,9, -999.00,   7.517,2,   0.010, -999.00,9, -999.00,9, -33.2259,  46.2333,   0.000,   0.192,20090403,       0400
33RR20090320,        I05,      45,          1,         30,         30,2,20090403,       0251,   -33.2258,    46.2329,       2403,   115.8,  17.2568,  35.5525,2,  35.5519,2,    224.7,2,   225.6,2,    1.93,2,    1.48,2,    0.05,2,    0.25,2,   2.412,2,   1.454,2,   1.2840,2,  2066.1,2,  2330.5,2,   8.0450,2,    20.00,-999.000,9,-999.000,9,-999.000,9,  17.2555,2,-999.000,9, -999.00,9, -999.00,-999.000,9,-999.000, -999.00,9, -999.00,9, -33.2258,  46.2333,-999.000,-999.000,20090403,       0359
33RR20090320,        I05,      45,          1,         29,         29,2,20090403,       0251,   -33.2258,    46.2329,       2403,   139.7,  16.7967,  35.5464,2,  35.5454,2,    221.8,2,   221.6,2,    2.27,2,    3.23,2,    0.01,2,    0.32,2,   2.444,2,   1.462,2,   1.2920,2,  2072.0,2,  2326.8,2,   8.0344,2,    20.00,   0.494,2,   1.812,2,  -1.396,2,  16.7960,2,-999.000,9, -999.00,9, -999.00,   7.524,2,   0.011, -999.00,9, -999.00,9, -33.2258,  46.2333,   0.000,   0.188,20090403,       0357
33RR20090320,        I05,      45,          1,         28,         28,2,20090403,       0251,   -33.2258,    46.2329,       2403,   170.6,  16.5984,  35.5423,2,  35.5402,2,    221.7,2,   222.2,2,    2.62,2,    3.83,2,    0.00,2,    0.35,2,   2.450,2,   1.469,2,   1.3120,2,  2074.5,2,  2329.8,2,   8.0300,2,    20.00,-999.000,9,-999.000,9,-999.000,9,  16.5978,2,-999.000,9, -999.00,9, -999.00,-999.000,9,-999.000, -999.00,9, -999.00,9, -33.2258,  46.2333,-999.000,-999.000,20090403,       0356
33RR20090320,        I05,      45,          1,         27,         27,2,20090403,       0251,   -33.2258,    46.2329,       2403,   189.4,  16.4045,  35.5311,2,  35.5309,2,    220.7,2,   221.0,2,    2.57,2,    4.16,2,    0.00,2,    0.37,2,   2.474,2,   1.483,2,   1.2650,2,  2077.5,2,  2327.8,2,   8.0234,2,    20.00,-999.000,9,   1.820,2,  -1.313,2,  16.4064,2,-999.000,9, -999.00,9, -999.00,   7.552,2,   0.010, -999.00,9, -999.00,9, -33.2257,  46.2334,   0.000,   0.208,20090403,       0354
33RR20090320,        I05,      45,          1,         26,         26,2,20090403,       0251,   -33.2258,    46.2329,       2403,   215.5,  16.2006,  35.5168,2,  35.5173,2,    219.6,2,   219.8,2,    2.70,2,    4.55,2,    0.00,2,    0.41,2,   2.506,2,   1.490,2,   1.0960,2,  2081.4,2,  2328.2,2,   8.0163,2,    20.00,-999.000,9,-999.000,9,-999.000,9,  16.2001,2,-999.000,9, -999.00,9, -999.00,-999.000,9,-999.000, -999.00,9, -999.00,9, -33.2257,  46.2334,-999.000,-999.000,20090403,       0353
33RR20090320,        I05,      45,          1,         25,         25,2,20090403,       0251,   -33.2258,    46.2329,       2403,   240.4,  15.9381,  35.4989,2,  35.4982,2,    219.2,2,   218.2,2,    2.85,2,    4.82,2,    0.00,2,    0.44,2,   2.541,2,   1.509,2,   1.2270,2,  2086.5,2,  2326.8,2,   8.0069,2,    20.00,   0.471,2,   1.885,2,  -1.796,2,  15.9341,2,-999.000,9, -999.00,9, -999.00,   7.775,2,   0.013, -999.00,9, -999.00,9, -33.2257,  46.2335,   0.000,   0.199,20090403,       0351
33RR20090320,        I05,      45,          1,         24,         24,2,20090403,       0251,   -33.2258,    46.2329,       2403,   270.3,  15.6525,  35.4807,2,  35.4787,2,    218.8,2,   218.7,2,    2.80,2,    5.20,2,    0.00,2,    0.46,2,   2.584,2,   1.529,2,   1.2440,2,  2089.6,2,  2327.5,2,   7.9993,2,    20.00,-999.000,9,-999.000,9,-999.000,9,  15.6527,2,-999.000,9, -999.00,9, -999.00,-999.000,9,-999.000, -999.00,9, -999.00,9, -33.2258,  46.2335,-999.000,-999.000,20090403,       0350
33RR20090320,        I05,      45,          1,         23,         23,2,20090403,       0251,   -33.2258,    46.2329,       2403,   319.3,  15.0109,  35.4335,2,  35.4341,2,    217.6,2,   218.3,2,    2.75,2,    6.07,2,    0.00,2,    0.52,2,   2.672,2,   1.568,2,   1.1640,2,  2096.6,2,  2325.6,2,   7.9827,2,    20.00,   0.505,2,   1.841,2,  -1.276,2,  15.0289,2,-999.000,9, -999.00,9, -999.00,   7.656,2,   0.010, -999.00,9, -999.00,9, -33.2259,  46.2334,   0.000,   0.189,20090403,       0348
33RR20090320,        I05,      45,          1,         22,         22,2,20090403,       0251,   -33.2258,    46.2329,       2403,   369.8,  14.4237,  35.3880,2,  35.3869,2,    220.1,2,   220.7,2,    2.70,2,    6.84,2,    0.00,2,    0.58,2,   2.764,2,   1.613,2,   1.2500,2,  2101.7,2,  2323.7,2,   7.9692,2,    20.00,-999.000,9,-999.000,9,-999.000,9,  14.4314,2,-999.000,9, -999.00,9, -999.00,-999.000,9,-999.000, -999.00,9, -999.00,9, -33.2258,  46.2335,-999.000,-999.000,20090403,       0346
33RR20090320,        I05,      45,          1,         21,         21,2,20090403,       0251,   -33.2258,    46.2329,       2403,   420.2,  14.0005,  35.3489,2,  35.3477,2,    221.4,2,   221.5,2,    2.85,2,    7.66,2,    0.00,2,    0.62,2,   2.827,2,   1.644,2,   1.2300,2,  2106.3,2,  2319.6,2,   7.9583,2,    20.00,   0.427,2,   1.830,2,  -0.825,2,  13.9970,2,-999.000,9, -999.00,9, -999.00,   7.693,2,   0.011, -999.00,9, -999.00,9, -33.2258,  46.2335,   0.001,   0.188,20090403,       0344
33RR20090320,        I05,      45,          1,         20,         20,2,20090403,       0251,   -33.2258,    46.2329,       2403,   470.2,  13.5433,  35.2996,2,  35.2992,2,    223.6,2,   225.1,2,    3.00,2,    8.32,2,    0.00,2,    0.66,2,   2.912,2,   1.677,2,   1.2700,2,  2109.6,2,  2319.8,2,   7.9502,2,    20.00,-999.000,9,-999.000,9,-999.000,9,  13.5380,2,-999.000,9, -999.00,9, -999.00,-999.000,9,-999.000, -999.00,9, -999.00,9, -33.2258,  46.2336,-999.000,-999.000,20090403,       0343
33RR20090320,        I05,      45,          1,         19,         19,2,20090403,       0251,   -33.2258,    46.2329,       2403,   539.9,  13.0985,  35.2467,2,  35.2456,2,    226.9,2,   228.1,2,    3.14,2,    9.08,2,    0.00,2,    0.71,2,   2.964,2,   1.697,2,   1.1850,2,  2110.8,2,  2317.1,2,   7.9421,2,    20.00,   0.393,2,   1.848,2,  -0.754,2,  13.0969,2,-999.000,9, -999.00,9, -999.00,   7.726,2,   0.011, -999.00,9, -999.00,9, -33.2258,  46.2336,   0.000,   0.204,20090403,       0340
33RR20090320,        I05,      45,          1,         18,         18,2,20090403,       0251,   -33.2258,    46.2329,       2403,   638.9,  12.2771,  35.1191,2,  35.1183,2,    222.5,2,   223.4,2,    3.67,2,   11.22,2,    0.00,2,    0.85,2,   3.052,2,   1.698,2,   1.0510,2,  2117.5,2,  2312.5,2,   7.9167,2,    20.00,-999.000,9,-999.000,9,-999.000,9,  12.2769,2,-999.000,9, -999.00,9, -999.00,-999.000,9,-999.000, -999.00,9, -999.00,9, -33.2258,  46.2334,-999.000,-999.000,20090403,       0338
33RR20090320,        I05,      45,          1,         17,         17,2,20090403,       0251,   -33.2258,    46.2329,       2403,   739.9,  11.2903,  34.9715,2,  34.9689,2,    222.1,2,   222.7,2,    4.21,2,   13.46,2,    0.00,2,    1.00,2,   3.128,2,   1.706,2,   0.9820,2,  2125.2,2,  2304.7,2,   7.8904,2,    20.00,   0.309,2,   1.868,2,   0.118,2,  11.2905,2,-999.000,9, -999.00,9, -999.00,   7.881,2,   0.011, -999.00,9, -999.00,9, -33.2257,  46.2332,   0.000,   0.197,20090403,       0335
33RR20090320,        I05,      45,          1,         16,         16,2,20090403,       0251,   -33.2258,    46.2329,       2403,   840.5,  10.4229,  34.8581,2,  34.8586,2,    219.4,2,   220.1,2,    5.32,2,   15.48,2,    0.00,2,    1.12,2,   3.102,2,   1.649,2,   0.8390,2,  2131.6,2,  2302.0,2,   7.8683,2,    20.00,-999.000,9,-999.000,9,-999.000,9,  10.4215,2,-999.000,9, -999.00,9, -999.00,-999.000,9,-999.000, -999.00,9, -999.00,9, -33.2255,  46.2331,-999.000,-999.000,20090403,       0332
33RR20090320,        I05,      45,          1,         15,         15,2,20090403,       0251,   -33.2258,    46.2329,       2403,   940.9,   9.0677,  34.6890,2,  34.6848,2,    211.3,2,   211.4,2,    8.97,2,   19.66,2,    0.00,2,    1.40,2,   2.797,2,   1.454,2,   0.6480,2,  2147.2,2,  2296.9,2,   7.8209,2,    20.00,   0.195,2,   1.876,2,   0.779,2,   9.0485,2,-999.000,9, -999.00,9, -999.00,   8.052,2,   0.013, -999.00,9, -999.00,9, -33.2253,  46.2331,   0.000,   0.199,20090403,       0330
33RR20090320,        I05,      45,          1,         14,         14,2,20090403,       0251,   -33.2258,    46.2329,       2403,  1037.2,   7.5075,  34.5482,2,  34.5478,2,    202.0,2,   202.8,2,   15.75,2,   24.06,2,    0.00,2,    1.70,2,   2.440,2,   1.242,2,   0.5400,2,  2165.1,2,  2295.7,2,   7.7693,2,    20.00,-999.000,9,-999.000,9,-999.000,9,   7.5084,2,-999.000,9, -999.00,9, -999.00,-999.000,9,-999.000, -999.00,9, -999.00,9, -33.2252,  46.2331,-999.000,-999.000,20090403,       0327
33RR20090320,        I05,      45,          1,         13,         13,2,20090403,       0251,   -33.2258,    46.2329,       2403,  1140.3,   6.1969,  34.4512,2,  34.4525,2,    201.8,2,   202.2,2,   21.77,2,   26.98,2,    0.00,2,    1.91,2,   2.242,2,   1.128,2,   0.4140,2,  2179.0,2,  2294.5,2,   7.7353,2,    20.00,   0.091,2,   1.874,2,   1.927,2,   6.2026,2,-999.000,9, -999.00,9, -999.00,   8.090,2,   0.012, -999.00,9, -999.00,9, -33.2252,  46.2330,   0.000,   0.191,20090403,       0324
33RR20090320,        I05,      45,          1,         12,         12,2,20090403,       0251,   -33.2258,    46.2329,       2403,  1242.2,   4.9550,  34.4026,2,  34.4024,2,    197.8,2,   198.0,2,   31.72,2,   29.81,2,    0.00,2,    2.13,2,   1.742,2,   0.859,2,   0.3520,2,  2196.8,2,  2301.9,2,   7.7024,2,    20.00,-999.000,9,-999.000,9,-999.000,9,   4.9531,2,-999.000,9, -999.00,9, -999.00,-999.000,9,-999.000, -999.00,9, -999.00,9, -33.2253,  46.2331,-999.000,-999.000,20090403,       0321
33RR20090320,        I05,      45,          1,         11,         11,2,20090403,       0251,   -33.2258,    46.2329,       2403,  1341.6,   4.2176,  34.4083,2,  34.4087,2,    191.1,2,   191.3,2,   40.73,2,   31.69,2,    0.00,2,    2.27,2,   1.347,2,   0.648,2,   0.2390,2,  2211.3,2,  2310.7,2,   7.6793,2,    20.00,   0.034,2,   1.893,2,   4.269,2,   4.2046,2,-999.000,9, -999.00,9, -999.00,   8.206,2,   0.014, -999.00,9, -999.00,9, -33.2253,  46.2330,   0.000,   0.201,20090403,       0319
33RR20090320,        I05,      45,          1,         10,         10,2,20090403,       0251,   -33.2258,    46.2329,       2403,  1442.4,   3.8261,  34.4484,2,  34.4491,2,    182.8,2,   183.3,2,   49.16,2,   32.58,2,    0.00,2,    2.33,2,   1.019,2,   0.482,2,   0.1720,2,  2223.7,2,  2317.7,2,   7.6645,2,    20.00,-999.000,9,-999.000,9,-999.000,9,   3.8253,2,-999.000,9, -999.00,9, -999.00,-999.000,9,-999.000, -999.00,9, -999.00,9, -33.2254,  46.2330,-999.000,-999.000,20090403,       0316
33RR20090320,        I05,      45,          1,          9,          9,2,20090403,       0251,   -33.2258,    46.2329,       2403,  1543.4,   3.4792,  34.4982,2,  34.4988,2,    177.2,2,   176.9,2,   56.84,2,   33.13,2,    0.00,2,    2.37,2,   0.717,2,   0.338,2,   0.1050,2,  2234.3,2,  2327.9,2,   7.6542,2,    20.00,   0.015,2,   1.933,2,   7.174,2,   3.4812,2,-999.000,9, -999.00,9, -999.00,   8.666,2,   0.010, -999.00,9, -999.00,9, -33.2253,  46.2331,   0.000,   0.199,20090403,       0313
33RR20090320,        I05,      45,          1,          8,          8,2,20090403,       0251,   -33.2258,    46.2329,       2403,  1643.6,   3.1958,  34.5444,2,  34.5444,2,    173.2,2,   174.8,2,   62.74,2,   33.19,2,    0.00,2,    2.38,2,   0.472,2,   0.225,2,   0.1040,2,  2239.5,6,  2331.6,2,   7.6523,2,    20.00,-999.000,9,-999.000,9,-999.000,9,   3.1947,2,-999.000,9, -999.00,9, -999.00,-999.000,9,-999.000, -999.00,9, -999.00,9, -33.2254,  46.2330,-999.000,-999.000,20090403,       0311
33RR20090320,        I05,      45,          1,          7,          7,2,20090403,       0251,   -33.2258,    46.2329,       2403,  1743.9,   2.9892,  34.5836,2,  34.5840,2,    175.5,2,   175.9,2,   65.67,2,   32.92,2,    0.00,2,    2.35,2,   0.363,2,   0.175,2,   0.0540,2,  2243.2,2,  2335.4,2,   7.6542,2,    20.00,-999.000,9,-999.000,9,-999.000,9,   2.9886,2,-999.000,9, -999.00,9, -999.00,-999.000,9,-999.000, -999.00,9, -999.00,9, -33.2254,  46.2330,-999.000,-999.000,20090403,       0308
33RR20090320,        I05,      45,          1,          6,          6,2,20090403,       0251,   -33.2258,    46.2329,       2403,  1845.2,   2.8309,  34.6243,2,  34.6245,2,    177.2,2,   177.5,2,   68.80,2,   32.47,2,    0.00,2,    2.32,2,   0.250,2,   0.123,2,   0.0430,2,  2244.5,2,  2338.2,2,   7.6598,2,    20.00,-999.000,9,-999.000,9,-999.000,9,   2.8305,2,-999.000,9, -999.00,9, -999.00,-999.000,9,-999.000, -999.00,9, -999.00,9, -33.2255,  46.2331,-999.000,-999.000,20090403,       0306
33RR20090320,        I05,      45,          1,          5,          5,2,20090403,       0251,   -33.2258,    46.2329,       2403,  1945.3,   2.6746,  34.6614,2,  34.6614,2,    180.3,2,   180.5,2,   71.73,2,   31.91,2,    0.00,2,    2.28,2,   0.169,2,   0.082,2,   0.0000,2,  2244.2,2,  2340.8,2,   7.6675,2,    20.00,-999.000,9,   1.968,2,   8.848,2,   2.6727,2,-999.000,9, -999.00,9, -999.00,   8.812,2,   0.011, -999.00,9, -999.00,9, -33.2255,  46.2332,   0.000,   0.203,20090403,       0303
33RR20090320,        I05,      45,          1,          4,          4,2,20090403,       0251,   -33.2258,    46.2329,       2403,  2075.8,   2.5908,  34.6975,2,  34.6972,2,    183.9,2,   184.9,2,   72.68,2,   31.24,2,    0.00,2,    2.22,2,   0.111,2,   0.054,2,   0.0000,2,  2243.0,2,  2344.0,2,   7.6782,2,    20.00,-999.000,9,-999.000,9,-999.000,9,   2.5900,2,-999.000,9, -999.00,9, -999.00,-999.000,9,-999.000, -999.00,9, -999.00,9, -33.2255,  46.2331,-999.000,-999.000,20090403,       0300
33RR20090320,        I05,      45,          1,          3,          3,2,20090403,       0251,   -33.2258,    46.2329,       2403,  2278.6,   2.5610,  34.7586,2,  34.7595,2,    194.8,2,   195.0,2,   68.06,2,   29.41,2,    0.00,2,    2.09,2,   0.049,6,   0.025,6,   0.0310,6,  2234.2,2,  2345.2,2,   7.7022,2,    20.00,-999.000,9,-999.000,9,-999.000,9,   2.5607,2,-999.000,9, -999.00,9, -999.00,-999.000,9,-999.000, -999.00,9, -999.00,9, -33.2258,  46.2330,-999.000,-999.000,20090403,       0255
33RR20090320,        I05,      45,          1,          2,          2,2,20090403,       0251,   -33.2258,    46.2329,       2403,  2339.8,   2.5356,  34.7662,2,  34.7675,2,    196.5,2,   197.5,2,   68.21,2,   29.08,2,    0.00,2,    2.06,2,   0.045,2,   0.024,2,   0.0200,2,  2233.3,2,  2343.4,2,   7.7066,2,    20.00,-999.000,9,-999.000,9,-999.000,9,   2.5351,2,-999.000,9, -999.00,9, -999.00,-999.000,9,-999.000, -999.00,9, -999.00,9, -33.2258,  46.2330,-999.000,-999.000,20090403,       0254
33RR20090320,        I05,      45,          1,          1,          1,2,20090403,       0251,   -33.2258,    46.2329,       2403,  2418.4,   2.4758,  34.7812,2,  34.7819,2,    201.9,2,   201.8,2,   67.17,2,   28.58,2,    0.00,2,    2.01,2,   0.033,2,   0.018,2,   0.0170,2,  2231.1,6,  2343.0,2,   7.7143,2,    20.00,-999.000,9,   2.012,2,   7.064,2,   2.4752,2,-999.000,9, -999.00,9, -999.00,   8.943,2,   0.011, -999.00,9, -999.00,9, -33.2258,  46.2329,   0.000,   0.199,20090403,       0251