BOTTLE,20220814CCHSIOAMB
EXPOCODE,SECT_ID,STNNBR,CASTNO,SAMPNO,BTLNBR,BTLNBR_FLAG_W,DATE,TIME,LATITUDE,LONGITUDE,DEPTH,CTDPRS,CTDTMP,CTDSAL,CTDSAL_FLAG_W,SALNTY,SALNTY_FLAG_W,CTDOXY,CTDOXY_FLAG_W,OXYGEN,OXYGEN_FLAG_W,SILCAT,SILCAT_FLAG_W,NITRAT,NITRAT_FLAG_W,NITRIT,NITRIT_FLAG_W,PHSPHT,PHSPHT_FLAG_W,CFC-11,CFC-11_FLAG_W,CFC-12,CFC-12_FLAG_W,SF6,SF6_FLAG_W,TCARBN,TCARBN_FLAG_W,ALKALI,ALKALI_FLAG_W,PH_TOT,PH_TOT_FLAG_W,PH_TMP,TRITUM,TRITUM_FLAG_W,HELIUM,HELIUM_FLAG_W,DELHE3,DELHE3_FLAG_W,REFTMP,REFTMP_FLAG_W,DELC13,DELC13_FLAG_W,DELC14,DELC14_FLAG_W,C14ERR,NEON,NEON_FLAG_W,NEONER,DOC,DOC_FLAG_W,TDN,TDN_FLAG_W,BTL_LAT,BTL_LON,HELIER,DELHER,BTL_DATE,BTL_TIME
,,,,,,,,,,,METERS,DBAR,ITS-90,PSS-78,,PSS-78,,UMOL/KG,,UMOL/KG,,UMOL/KG,,UMOL/KG,,UMOL/KG,,UMOL/KG,,PMOL/KG,,PMOL/KG,,FMOL/KG,,UMOL/KG,,UMOL/KG,,,,DEG C,TU,,NMOL/KG,,PERCNT,,DEG C,,/MILLE,,/MILLE,,/MILLE,NMOL/KG,,NMOL/KG,UMOL/KG,,UMOL/KG,,,,NMOL/KG,PERCNT,,
33RR20090320,        I05,      80,          1,         36,         36,2,20090413,       1024,   -34.0126,    62.2701,       4907,     7.4,  20.0927,  35.4292,2,  35.4279,2,    227.2,2,   228.2,2,    4.95,2,    0.15,2,    0.00,2,    0.15,2,   2.164,6,   1.297,6,   1.1510,6,  2050.6,6,  2328.8,2,   8.0745,2,    20.00,-999.000,9,-999.000,9,-999.000,9,  20.0925,2,-999.000,9, -999.00,9, -999.00,-999.000,9,-999.000, -999.00,9, -999.00,9, -34.0270,  62.2832,-999.000,-999.000,20090413,       1233
33RR20090320,        I05,      80,          1,         35,         35,2,20090413,       1024,   -34.0126,    62.2701,       4907,    28.2,  20.0173,  35.4242,2,  35.4244,2,    228.6,2,   227.8,2,    4.79,2,    0.15,2,    0.00,2,    0.14,2,-999.000,9,-999.000,9,-999.0000,9,  2050.9,2,  2326.1,2,   8.0748,2,    20.00,-999.000,9,-999.000,9,-999.000,9,  20.0163,2,-999.000,9, -999.00,9, -999.00,-999.000,9,-999.000, -999.00,9, -999.00,9, -34.0266,  62.2830,-999.000,-999.000,20090413,       1232
33RR20090320,        I05,      80,          1,         34,         34,2,20090413,       1024,   -34.0126,    62.2701,       4907,    52.9,  20.0058,  35.4247,2,  35.4252,2,    228.6,2,   227.8,2,    3.54,2,    0.16,2,    0.00,2,    0.20,2,-999.000,9,-999.000,9,-999.0000,9,  2050.4,2,  2327.2,2,   8.0736,2,    20.00,-999.000,9,-999.000,9,-999.000,9,  20.0062,2,-999.000,9, -999.00,9, -999.00,-999.000,9,-999.000, -999.00,9, -999.00,9, -34.0264,  62.2829,-999.000,-999.000,20090413,       1230
33RR20090320,        I05,      80,          1,         33,         33,2,20090413,       1024,   -34.0126,    62.2701,       4907,    79.3,  16.5776,  35.4740,2,  35.4676,2,    250.5,2,   251.3,2,    2.73,2,    0.11,2,    0.00,2,    0.19,2,-999.000,9,-999.000,9,-999.0000,9,  2067.4,2,  2331.0,2,   8.0508,2,    20.00,-999.000,9,-999.000,9,-999.000,9,  16.5575,2,-999.000,9, -999.00,9, -999.00,-999.000,9,-999.000, -999.00,9, -999.00,9, -34.0263,  62.2828,-999.000,-999.000,20090413,       1229
33RR20090320,        I05,      80,          1,         32,         32,2,20090413,       1024,   -34.0126,    62.2701,       4907,   103.1,  15.1386,  35.4237,2,  35.4232,2,    241.6,2,   239.1,2,    3.24,2,    1.67,2,    0.07,2,    0.32,2,   2.754,2,   1.598,2,   1.2760,2,  -999.0,9,  -999.0,9,-999.0000,9,  -999.00,-999.000,9,-999.000,9,-999.000,9,  15.1316,2,-999.000,9, -999.00,9, -999.00,-999.000,9,-999.000, -999.00,9, -999.00,9, -34.0263,  62.2828,-999.000,-999.000,20090413,       1228
33RR20090320,        I05,      80,          1,         31,         31,2,20090413,       1024,   -34.0126,    62.2701,       4907,   152.0,  13.9432,  35.3190,2,  35.3178,2,    226.5,2,   228.1,2,    3.76,2,    6.34,2,    0.01,2,    0.55,2,-999.000,9,-999.000,9,-999.0000,9,  2101.5,2,  2322.7,2,   7.9652,2,    20.00,-999.000,9,-999.000,9,-999.000,9,  13.9322,2,-999.000,9, -999.00,9, -999.00,-999.000,9,-999.000, -999.00,9, -999.00,9, -34.0262,  62.2826,-999.000,-999.000,20090413,       1225
33RR20090320,        I05,      80,          1,         30,         30,2,20090413,       1024,   -34.0126,    62.2701,       4907,   203.0,  13.4024,  35.2601,2,  35.2582,2,    230.5,2,   230.6,2,    3.83,2,    7.62,2,    0.00,2,    0.62,2,-999.000,9,-999.000,9,-999.0000,9,  -999.0,9,  -999.0,9,-999.0000,9,  -999.00,-999.000,9,-999.000,9,-999.000,9,  13.4014,2,-999.000,9, -999.00,9, -999.00,-999.000,9,-999.000, -999.00,9, -999.00,9, -34.0262,  62.2824,-999.000,-999.000,20090413,       1223
33RR20090320,        I05,      80,          1,         29,         29,2,20090413,       1024,   -34.0126,    62.2701,       4907,   245.8,  13.1658,  35.2465,2,  35.2451,2,    232.5,2,   233.0,2,    3.68,2,    8.09,2,    0.00,2,    0.65,2,   2.961,2,   1.702,2,   1.2750,2,  2106.1,2,  2316.9,2,   7.9501,2,    20.00,-999.000,9,-999.000,9,-999.000,9,  13.1669,2,-999.000,9, -999.00,9, -999.00,-999.000,9,-999.000, -999.00,9, -999.00,9, -34.0260,  62.2823,-999.000,-999.000,20090413,       1221
33RR20090320,        I05,      80,          1,         28,         28,2,20090413,       1024,   -34.0126,    62.2701,       4907,   308.9,  12.8578,  35.2099,2,  35.2110,2,    232.2,2,   232.0,2,    2.86,2,    9.04,2,    0.00,2,    0.70,2,-999.000,9,-999.000,9,-999.0000,9,  -999.0,9,  -999.0,9,-999.0000,9,  -999.00,-999.000,9,-999.000,9,-999.000,9,  12.8673,2,-999.000,9, -999.00,9, -999.00,-999.000,9,-999.000, -999.00,9, -999.00,9, -34.0259,  62.2820,-999.000,-999.000,20090413,       1219
33RR20090320,        I05,      80,          1,         27,         27,2,20090413,       1024,   -34.0126,    62.2701,       4907,   355.4,  12.5430,  35.1587,2,  35.1582,2,    231.7,2,   233.7,2,    3.59,2,    9.67,2,    0.00,2,    0.74,2,-999.000,9,-999.000,9,-999.0000,9,  2109.3,2,  2314.0,2,   7.9341,2,    20.00,-999.000,9,-999.000,9,-999.000,9,  12.5384,2,-999.000,9, -999.00,9, -999.00,-999.000,9,-999.000, -999.00,9, -999.00,9, -34.0257,  62.2818,-999.000,-999.000,20090413,       1216
33RR20090320,        I05,      80,          1,         26,         26,2,20090413,       1024,   -34.0126,    62.2701,       4907,   402.4,  12.2520,  35.1128,2,  35.1115,2,    234.0,2,   233.5,2,    3.89,2,   10.31,2,    0.00,2,    0.79,2,   3.137,2,   1.763,2,   1.2840,2,  -999.0,9,  -999.0,9,-999.0000,9,  -999.00,-999.000,9,-999.000,9,-999.000,9,  12.2517,2,-999.000,9, -999.00,9, -999.00,-999.000,9,-999.000, -999.00,9, -999.00,9, -34.0256,  62.2817,-999.000,-999.000,20090413,       1214
33RR20090320,        I05,      80,          1,         25,         25,2,20090413,       1024,   -34.0126,    62.2701,       4907,   505.0,  11.6165,  35.0109,2,  35.0105,2,    231.9,2,   229.6,2,    3.96,2,   12.14,2,    0.00,2,    0.91,2,-999.000,9,-999.000,9,-999.0000,9,  2117.3,2,  2306.8,2,   7.9061,2,    20.00,-999.000,9,-999.000,9,-999.000,9,  11.6182,2,-999.000,9, -999.00,9, -999.00,-999.000,9,-999.000, -999.00,9, -999.00,9, -34.0253,  62.2814,-999.000,-999.000,20090413,       1211
33RR20090320,        I05,      80,          1,         24,         24,2,20090413,       1024,   -34.0126,    62.2701,       4907,   606.8,  10.6434,  34.8772,2,  34.8770,2,    229.1,2,   227.8,2,    4.71,2,   14.30,2,    0.00,2,    1.04,2,-999.000,9,-999.000,9,-999.0000,9,  -999.0,9,  -999.0,9,-999.0000,9,  -999.00,-999.000,9,-999.000,9,-999.000,9,  10.6431,2,-999.000,9, -999.00,9, -999.00,-999.000,9,-999.000, -999.00,9, -999.00,9, -34.0251,  62.2809,-999.000,-999.000,20090413,       1208
33RR20090320,        I05,      80,          1,         23,         23,2,20090413,       1024,   -34.0126,    62.2701,       4907,   705.1,   9.8009,  34.7619,2,  34.7621,2,    224.5,2,   225.2,2,    5.45,2,   16.46,2,    0.00,2,    1.18,2,   3.248,2,   1.709,2,   1.0160,2,  2129.9,2,  2296.9,2,   7.8566,2,    20.00,-999.000,9,-999.000,9,-999.000,9,   9.7919,2,-999.000,9, -999.00,9, -999.00,-999.000,9,-999.000, -999.00,9, -999.00,9, -34.0247,  62.2805,-999.000,-999.000,20090413,       1204
33RR20090320,        I05,      80,          1,         22,         22,2,20090413,       1024,   -34.0126,    62.2701,       4907,   802.6,   8.7450,  34.6407,2,  34.6441,2,    212.9,2,   212.4,2,    8.44,2,   20.10,2,    0.00,2,    1.43,2,-999.000,9,-999.000,9,-999.0000,9,  -999.0,9,  -999.0,9,-999.0000,9,  -999.00,-999.000,9,-999.000,9,-999.000,9,   8.7460,2,-999.000,9, -999.00,9, -999.00,-999.000,9,-999.000, -999.00,9, -999.00,9, -34.0244,  62.2802,-999.000,-999.000,20090413,       1201
33RR20090320,        I05,      80,          1,         21,         21,2,20090413,       1024,   -34.0126,    62.2701,       4907,   904.6,   7.1489,  34.4957,2,  34.4956,2,    205.2,2,   204.1,2,   14.13,2,   24.70,2,    0.00,2,    1.74,2,-999.000,9,-999.000,9,-999.0000,9,  2163.1,2,  2292.3,2,   7.7622,2,    20.00,-999.000,9,-999.000,9,-999.000,9,   7.1488,2,-999.000,9, -999.00,9, -999.00,-999.000,9,-999.000, -999.00,9, -999.00,9, -34.0241,  62.2797,-999.000,-999.000,20090413,       1158
33RR20090320,        I05,      80,          1,         20,         20,2,20090413,       1024,   -34.0126,    62.2701,       4907,  1001.8,   5.9307,  34.4187,2,  34.4176,2,    203.6,2,   203.6,2,   20.07,2,   27.51,2,    0.00,2,    1.94,2,   2.165,2,   1.058,2,   0.4750,2,  -999.0,9,  -999.0,9,-999.0000,9,  -999.00,-999.000,9,-999.000,9,-999.000,9,   5.9230,2,-999.000,9, -999.00,9, -999.00,-999.000,9,-999.000, -999.00,9, -999.00,9, -34.0236,  62.2794,-999.000,-999.000,20090413,       1155
33RR20090320,        I05,      80,          1,         19,         19,2,20090413,       1024,   -34.0126,    62.2701,       4907,  1102.5,   4.9718,  34.3734,2,  34.3734,2,    204.3,2,   203.6,2,   26.26,2,   29.43,2,    0.00,2,    2.10,2,-999.000,9,-999.000,9,-999.0000,9,  -999.0,9,  -999.0,9,-999.0000,9,  -999.00,-999.000,9,-999.000,9,-999.000,9,   4.9642,2,-999.000,9, -999.00,9, -999.00,-999.000,9,-999.000, -999.00,9, -999.00,9, -34.0233,  62.2789,-999.000,-999.000,20090413,       1151
33RR20090320,        I05,      80,          1,         18,         18,2,20090413,       1024,   -34.0126,    62.2701,       4907,  1203.4,   4.2917,  34.3661,2,  34.3646,2,    200.5,2,   201.0,2,   34.74,2,   30.97,2,    0.00,2,    2.22,2,-999.000,9,-999.000,9,-999.0000,9,  2199.6,2,  2304.8,2,   7.6887,2,    20.00,-999.000,9,-999.000,9,-999.000,9,   4.2982,2,-999.000,9, -999.00,9, -999.00,-999.000,9,-999.000, -999.00,9, -999.00,9, -34.0230,  62.2786,-999.000,-999.000,20090413,       1149
33RR20090320,        I05,      80,          1,         17,         17,2,20090413,       1024,   -34.0126,    62.2701,       4907,  1302.1,   3.8087,  34.3958,2,  34.3952,2,    190.5,2,   191.4,2,   43.26,2,   32.20,2,    0.00,2,    2.31,2,   1.321,2,   0.636,2,   0.2330,2,  -999.0,9,  -999.0,9,-999.0000,9,  -999.00,-999.000,9,-999.000,9,-999.000,9,   3.8088,2,-999.000,9, -999.00,9, -999.00,-999.000,9,-999.000, -999.00,9, -999.00,9, -34.0228,  62.2783,-999.000,-999.000,20090413,       1146
33RR20090320,        I05,      80,          1,         16,         16,2,20090413,       1024,   -34.0126,    62.2701,       4907,  1405.6,   3.4393,  34.4485,2,  34.4480,2,    181.0,2,   180.8,2,   52.95,2,   33.26,2,    0.00,2,    2.39,2,-999.000,9,-999.000,9,-999.0000,9,  -999.0,9,  -999.0,9,-999.0000,9,  -999.00,-999.000,9,-999.000,9,-999.000,9,   3.4397,2,-999.000,9, -999.00,9, -999.00,-999.000,9,-999.000, -999.00,9, -999.00,9, -34.0224,  62.2778,-999.000,-999.000,20090413,       1142
33RR20090320,        I05,      80,          1,         15,         15,2,20090413,       1024,   -34.0126,    62.2701,       4907,  1607.2,   2.9396,  34.5514,2,  34.5507,2,    173.6,2,   171.8,2,   65.45,2,   33.58,2,    0.00,2,    2.42,2,-999.000,9,-999.000,9,-999.0000,9,  2244.4,2,  2333.0,2,   7.6426,2,    20.00,-999.000,9,-999.000,9,-999.000,9,   2.9395,2,-999.000,9, -999.00,9, -999.00,-999.000,9,-999.000, -999.00,9, -999.00,9, -34.0221,  62.2773,-999.000,-999.000,20090413,       1137
33RR20090320,        I05,      80,          1,         14,         14,2,20090413,       1024,   -34.0126,    62.2701,       4907,  1807.8,   2.6543,  34.6349,2,  34.6342,2,    175.8,2,   175.9,2,   71.55,2,   32.52,2,    0.00,2,    2.34,2,   0.173,2,   0.076,2,   0.0000,2,  -999.0,9,  -999.0,9,-999.0000,9,  -999.00,-999.000,9,-999.000,9,-999.000,9,   2.6542,2,-999.000,9, -999.00,9, -999.00,-999.000,9,-999.000, -999.00,9, -999.00,9, -34.0218,  62.2769,-999.000,-999.000,20090413,       1133
33RR20090320,        I05,      80,          1,         13,         13,2,20090413,       1024,   -34.0126,    62.2701,       4907,  2012.2,   2.4550,  34.6885,2,  34.6880,2,    179.0,2,   179.5,2,   78.37,2,   31.81,2,    0.00,2,    2.28,2,-999.000,9,-999.000,9,-999.0000,9,  2249.7,2,  2349.3,2,   7.6680,2,    20.00,-999.000,9,-999.000,9,-999.000,9,   2.4544,2,-999.000,9, -999.00,9, -999.00,-999.000,9,-999.000, -999.00,9, -999.00,9, -34.0215,  62.2763,-999.000,-999.000,20090413,       1128
33RR20090320,        I05,      80,          1,         12,         12,2,20090413,       1024,   -34.0126,    62.2701,       4907,  2264.9,   2.2128,  34.7216,2,  34.7210,2,    180.2,2,   180.4,2,   90.77,2,   31.76,2,    0.00,2,    2.28,2,-999.000,9,-999.000,9,-999.0000,9,  -999.0,9,  -999.0,9,-999.0000,9,  -999.00,-999.000,9,-999.000,9,-999.000,9,   2.2126,2,-999.000,9, -999.00,9, -999.00,-999.000,9,-999.000, -999.00,9, -999.00,9, -34.0215,  62.2753,-999.000,-999.000,20090413,       1122
33RR20090320,        I05,      80,          1,         11,         11,2,20090413,       1024,   -34.0126,    62.2701,       4907,  2510.4,   2.0373,  34.7305,2,  34.7293,2,    177.7,2,   177.9,2,  101.37,2,   32.19,2,    0.00,2,    2.33,2,   0.013,2,   0.005,2,   0.0000,2,  2269.3,2,  2372.6,2,   7.6784,2,    20.00,-999.000,9,-999.000,9,-999.000,9,   2.0363,2,-999.000,9, -999.00,9, -999.00,-999.000,9,-999.000, -999.00,9, -999.00,9, -34.0210,  62.2752,-999.000,-999.000,20090413,       1117
33RR20090320,        I05,      80,          1,         10,         10,2,20090413,       1024,   -34.0126,    62.2701,       4907,  2744.3,   1.9208,  34.7325,2,  34.7321,2,    178.2,2,   177.7,2,  107.59,2,   32.46,2,    0.00,2,    2.36,2,-999.000,9,-999.000,9,-999.0000,9,  -999.0,9,  -999.0,9,-999.0000,9,  -999.00,-999.000,9,-999.000,9,-999.000,9,   1.9219,2,-999.000,9, -999.00,9, -999.00,-999.000,9,-999.000, -999.00,9, -999.00,9, -34.0205,  62.2749,-999.000,-999.000,20090413,       1112
33RR20090320,        I05,      80,          1,          9,          9,2,20090413,       1024,   -34.0126,    62.2701,       4907,  2984.7,   1.7968,  34.7318,2,  34.7313,2,    178.7,2,   178.2,2,  113.36,2,   32.78,2,    0.00,2,    2.37,2,-999.000,9,-999.000,9,-999.0000,9,  2277.7,2,  2378.0,2,   7.6782,2,    20.00,-999.000,9,-999.000,9,-999.000,9,   1.7973,2,-999.000,9, -999.00,9, -999.00,-999.000,9,-999.000, -999.00,9, -999.00,9, -34.0197,  62.2745,-999.000,-999.000,20090413,       1107
33RR20090320,        I05,      80,          1,          8,          8,2,20090413,       1024,   -34.0126,    62.2701,       4907,  3290.3,   1.6327,  34.7282,2,  34.7276,2,    182.4,2,   182.1,2,  116.82,2,   32.78,2,    0.00,2,    2.38,2,   0.013,2,   0.004,2,   0.0000,2,  -999.0,9,  -999.0,9,-999.0000,9,  -999.00,-999.000,9,-999.000,9,-999.000,9,   1.6321,2,-999.000,9, -999.00,9, -999.00,-999.000,9,-999.000, -999.00,9, -999.00,9, -34.0186,  62.2737,-999.000,-999.000,20090413,       1100
33RR20090320,        I05,      80,          1,          7,          7,2,20090413,       1024,   -34.0126,    62.2701,       4907,  3597.3,   1.3825,  34.7201,2,  34.7195,2,    190.2,2,   190.1,2,  120.29,2,   32.67,2,    0.00,2,    2.36,2,-999.000,9,-999.000,9,-999.0000,9,  2274.8,2,  2378.3,2,   7.6805,2,    20.00,-999.000,9,-999.000,9,-999.000,9,   1.3823,2,-999.000,9, -999.00,9, -999.00,-999.000,9,-999.000, -999.00,9, -999.00,9, -34.0177,  62.2732,-999.000,-999.000,20090413,       1054
33RR20090320,        I05,      80,          1,          6,          6,2,20090413,       1024,   -34.0126,    62.2701,       4907,  3888.0,   0.9929,  34.7070,2,  34.7063,2,    200.9,2,   202.1,2,  124.94,2,   32.51,2,    0.00,2,    2.34,2,-999.000,9,-999.000,9,-999.0000,9,  -999.0,9,  -999.0,9,-999.0000,9,  -999.00,-999.000,9,-999.000,9,-999.000,9,   0.9916,2,-999.000,9, -999.00,9, -999.00,-999.000,9,-999.000, -999.00,9, -999.00,9, -34.0170,  62.2727,-999.000,-999.000,20090413,       1048
33RR20090320,        I05,      80,          1,          5,          5,2,20090413,       1024,   -34.0126,    62.2701,       4907,  4163.4,   0.7763,  34.6986,2,  34.6979,2,    207.9,2,   208.5,2,  128.66,2,   32.40,2,    0.00,2,    2.34,2,   0.052,2,   0.019,2,   0.0000,2,  -999.0,9,  -999.0,9,-999.0000,9,  -999.00,-999.000,9,-999.000,9,-999.000,9,   0.7767,2,-999.000,9, -999.00,9, -999.00,-999.000,9,-999.000, -999.00,9, -999.00,9, -34.0159,  62.2723,-999.000,-999.000,20090413,       1042
33RR20090320,        I05,      80,          1,          4,          4,2,20090413,       1024,   -34.0126,    62.2701,       4907,  4484.3,   0.6876,  34.6935,2,  34.6932,2,    212.0,2,   212.2,2,  130.04,2,   32.40,2,    0.00,2,    2.33,2,-999.000,9,-999.000,9,-999.0000,9,  2263.6,2,  2367.1,2,   7.6810,2,    20.00,-999.000,9,-999.000,9,-999.000,9,   0.6876,2,-999.000,9, -999.00,9, -999.00,-999.000,9,-999.000, -999.00,9, -999.00,9, -34.0143,  62.2714,-999.000,-999.000,20090413,       1036
33RR20090320,        I05,      80,          1,          3,          3,2,20090413,       1024,   -34.0126,    62.2701,       4907,  4695.9,   0.6372,  34.6909,2,  34.6902,2,    214.3,2,   214.1,2,  130.94,2,   32.46,2,    0.00,2,    2.33,2,-999.000,9,-999.000,9,-999.0000,9,  -999.0,9,  -999.0,9,-999.0000,9,  -999.00,-999.000,9,-999.000,9,-999.000,9,   0.6377,2,-999.000,9, -999.00,9, -999.00,-999.000,9,-999.000, -999.00,9, -999.00,9, -34.0133,  62.2707,-999.000,-999.000,20090413,       1031
33RR20090320,        I05,      80,          1,          2,          2,2,20090413,       1024,   -34.0126,    62.2701,       4907,  4863.2,   0.6097,  34.6888,2,  34.6881,2,    216.3,2,   215.1,2,  131.86,2,   32.40,2,    0.00,2,    2.32,2,   0.114,2,   0.049,2,   0.0560,2,  -999.0,9,  -999.0,9,-999.0000,9,  -999.00,-999.000,9,-999.000,9,-999.000,9,   0.6102,2,-999.000,9, -999.00,9, -999.00,-999.000,9,-999.000, -999.00,9, -999.00,9, -34.0129,  62.2704,-999.000,-999.000,20090413,       1027
33RR20090320,        I05,      80,          1,          1,          1,2,20090413,       1024,   -34.0126,    62.2701,       4907,  4983.1,   0.5914,  34.6869,2,  34.6877,2,    216.1,2,   216.1,2,  132.07,2,   32.46,2,    0.00,2,    2.33,2,   0.127,2,   0.055,2,   0.0000,2,  2262.2,6,  2363.6,2,   7.6800,2,    20.00,-999.000,9,-999.000,9,-999.000,9,   0.5916,2,-999.000,9, -999.00,9, -999.00,-999.000,9,-999.000, -999.00,9, -999.00,9, -34.0126,  62.2701,-999.000,-999.000,20090413,       1024