BOTTLE,20220814CCHSIOAMB
EXPOCODE,SECT_ID,STNNBR,CASTNO,SAMPNO,BTLNBR,BTLNBR_FLAG_W,DATE,TIME,LATITUDE,LONGITUDE,DEPTH,CTDPRS,CTDTMP,CTDSAL,CTDSAL_FLAG_W,SALNTY,SALNTY_FLAG_W,CTDOXY,CTDOXY_FLAG_W,OXYGEN,OXYGEN_FLAG_W,SILCAT,SILCAT_FLAG_W,NITRAT,NITRAT_FLAG_W,NITRIT,NITRIT_FLAG_W,PHSPHT,PHSPHT_FLAG_W,CFC-11,CFC-11_FLAG_W,CFC-12,CFC-12_FLAG_W,SF6,SF6_FLAG_W,TCARBN,TCARBN_FLAG_W,ALKALI,ALKALI_FLAG_W,PH_TOT,PH_TOT_FLAG_W,PH_TMP,TRITUM,TRITUM_FLAG_W,HELIUM,HELIUM_FLAG_W,DELHE3,DELHE3_FLAG_W,REFTMP,REFTMP_FLAG_W,DELC13,DELC13_FLAG_W,DELC14,DELC14_FLAG_W,C14ERR,NEON,NEON_FLAG_W,NEONER,DOC,DOC_FLAG_W,TDN,TDN_FLAG_W,BTL_LAT,BTL_LON,HELIER,DELHER,BTL_DATE,BTL_TIME
,,,,,,,,,,,METERS,DBAR,ITS-90,PSS-78,,PSS-78,,UMOL/KG,,UMOL/KG,,UMOL/KG,,UMOL/KG,,UMOL/KG,,UMOL/KG,,PMOL/KG,,PMOL/KG,,FMOL/KG,,UMOL/KG,,UMOL/KG,,,,DEG C,TU,,NMOL/KG,,PERCNT,,DEG C,,/MILLE,,/MILLE,,/MILLE,NMOL/KG,,NMOL/KG,UMOL/KG,,UMOL/KG,,,,NMOL/KG,PERCNT,,
33RR20090320,        I05,     115,          1,         36,         36,2,20090422,       2034,   -30.6492,    79.5516,       3603,    11.1,  21.9874,  35.8167,2,  35.8171,2,    219.6,2,   219.6,2,    1.64,2,    0.14,2,    0.00,2,    0.10,2,   1.958,2,   1.191,2,   1.1040,2,  2048.1,6,  2348.2,2,   8.1158,2,    20.00,   0.492,2,   1.777,2,  -2.066,2,  21.9870,2,   1.107,2,   50.17,2,     3.2,   7.205,2,   0.008,   69.65,2,    4.04,2, -30.6491,  79.5519,   0.001,   0.200,20090422,       2218
33RR20090320,        I05,     115,          1,         35,         35,2,20090422,       2034,   -30.6492,    79.5516,       3603,    25.8,  21.9883,  35.8166,2,  35.8169,2,    220.9,2,   220.0,2,    1.62,2,    0.14,2,    0.00,2,    0.10,2,   1.942,6,   1.195,6,   1.1280,6,  2047.7,2,  2348.0,2,   8.1157,2,    20.00,   0.506,2,   1.802,2,  -1.640,2,  21.9895,2,-999.000,9, -999.00,9, -999.00,   7.241,2,   0.008,   69.62,2,    3.56,2, -30.6492,  79.5519,   0.001,   0.211,20090422,       2217
33RR20090320,        I05,     115,          1,         34,         34,2,20090422,       2034,   -30.6492,    79.5516,       3603,    46.0,  21.3012,  35.8119,2,  35.8110,2,    225.5,2,   224.0,2,    1.26,2,    0.09,2,    0.00,2,    0.13,2,   2.046,2,   1.245,2,   1.1470,2,  2063.8,2,  2352.2,2,   8.0933,2,    20.00,   0.478,2,   1.787,2,  -1.330,2,  21.3008,2,-999.000,9, -999.00,9, -999.00,   7.266,2,   0.010,   65.54,2,    4.44,2, -30.6492,  79.5520,   0.001,   0.199,20090422,       2215
33RR20090320,        I05,     115,          1,         33,         33,2,20090422,       2034,   -30.6492,    79.5516,       3603,    71.2,  20.9415,  35.8839,4,  35.8677,2,    227.4,2,   229.6,2,    1.41,2,    0.09,2,    0.00,2,    0.13,2,   2.113,2,   1.278,2,   1.2580,2,  2068.8,2,  2354.4,2,   8.0916,2,    20.00,   0.469,2,   1.802,2,  -1.314,2,  20.9386,2,   1.292,2,   52.41,2,       3,   7.331,2,   0.007,   64.73,2,    3.76,2, -30.6492,  79.5521,   0.000,   0.195,20090422,       2213
33RR20090320,        I05,     115,          1,         32,         32,2,20090422,       2034,   -30.6492,    79.5516,       3603,    96.1,  17.3570,  35.6673,2,  35.6627,2,    251.6,2,   252.1,2,    1.22,2,    0.10,2,    0.00,2,    0.16,2,   2.563,2,   1.511,2,   1.3640,2,  2072.7,2,  2344.6,2,   8.0676,2,    20.00,   0.429,2,   1.824,2,  -0.944,2,  17.3321,2,-999.000,9, -999.00,9, -999.00,   7.534,2,   0.007,   63.53,2,    4.41,2, -30.6492,  79.5521,   0.000,   0.194,20090422,       2211
33RR20090320,        I05,     115,          1,         31,         31,2,20090422,       2034,   -30.6492,    79.5516,       3603,   121.0,  15.9216,  35.5743,2,  35.5814,2,    243.8,2,   242.1,2,    1.39,2,    0.15,2,    0.01,2,    0.22,2,   2.647,2,   1.553,2,   1.3170,2,  2084.8,2,  2340.3,2,   8.0378,2,    20.00,   0.423,2,   1.857,2,  -1.501,2,  15.9228,2,   1.321,2,   48.52,2,     3.6,   7.681,2,   0.008,   60.57,2,    4.14,2, -30.6492,  79.5521,   0.000,   0.195,20090422,       2210
33RR20090320,        I05,     115,          1,         30,         30,2,20090422,       2034,   -30.6492,    79.5516,       3603,   145.8,  15.1802,  35.4921,2,  35.4962,2,    233.1,2,   231.8,2,    1.54,2,    1.93,2,    0.14,2,    0.34,2,   2.734,2,   1.587,2,   1.3340,2,  2095.9,2,  2334.9,2,   8.0064,2,    20.00,   0.400,2,-999.000,9,-999.000,9,  15.1767,2,-999.000,9, -999.00,9, -999.00,-999.000,9,-999.000,   56.02,2,    5.17,2, -30.6491,  79.5520,-999.000,-999.000,20090422,       2208
33RR20090320,        I05,     115,          1,         29,         29,2,20090422,       2034,   -30.6492,    79.5516,       3603,   190.7,  13.7028,  35.2942,2,  35.2884,2,    227.6,2,   227.8,2,    2.24,2,    6.41,2,    0.00,2,    0.56,2,   2.970,2,   1.699,2,   1.2840,2,  2106.7,2,  2320.2,2,   7.9587,2,    20.00,   0.371,2,-999.000,9,-999.000,9,  13.7122,2,   1.163,2,   49.39,2,     3.8,-999.000,9,-999.000,   53.11,2,    8.98,2, -30.6491,  79.5519,-999.000,-999.000,20090422,       2206
33RR20090320,        I05,     115,          1,         28,         28,2,20090422,       2034,   -30.6492,    79.5516,       3603,   240.7,  12.6038,  35.1382,2,  35.1409,2,    231.7,2,   232.9,2,    2.92,2,    8.69,2,    0.00,2,    0.69,2,   3.128,2,   1.770,2,   1.3960,2,  2111.3,2,  2313.5,2,   7.9341,2,    20.00,-999.000,9,   1.879,2,  -1.023,2,  12.6059,2,-999.000,9, -999.00,9, -999.00,   7.894,2,   0.029,   50.71,2,   11.22,2, -30.6490,  79.5518,   0.001,   0.198,20090422,       2204
33RR20090320,        I05,     115,          1,         27,         27,2,20090422,       2034,   -30.6492,    79.5516,       3603,   291.1,  12.2378,  35.0972,2,  35.0930,2,    233.7,2,   234.7,2,    3.09,2,    9.58,2,    0.00,2,    0.74,2,   3.183,2,   1.804,2,   1.3230,2,  2113.7,2,  2310.6,2,   7.9243,2,    20.00,   0.334,2,   1.866,2,  -1.148,2,  12.2354,2,   1.105,2,   50.84,2,       3,   7.853,2,   0.009,   49.49,2,   12.24,2, -30.6490,  79.5517,   0.001,   0.200,20090422,       2202
33RR20090320,        I05,     115,          1,         26,         26,2,20090422,       2034,   -30.6492,    79.5516,       3603,   341.4,  11.7779,  35.0366,2,  35.0334,2,    237.0,2,   238.0,2,    3.59,2,   10.55,2,    0.00,2,    0.80,2,   3.262,2,   1.821,2,   1.3940,2,  2115.6,2,  2307.2,2,   7.9174,2,    20.00,   0.322,2,-999.000,9,-999.000,9,  11.7730,2,-999.000,9, -999.00,9, -999.00,-999.000,9,-999.000,   47.48,2,   13.30,2, -30.6490,  79.5517,-999.000,-999.000,20090422,       2200
33RR20090320,        I05,     115,          1,         25,         25,2,20090422,       2034,   -30.6492,    79.5516,       3603,   390.6,  11.3763,  34.9790,2,  34.9775,2,    238.7,2,   239.0,2,    3.76,2,   11.38,2,    0.00,2,    0.85,2,   3.312,2,   1.843,2,   1.2950,2,  2117.4,2,  2305.5,2,   7.9095,2,    20.00,   0.313,2,   1.839,2,  -1.482,2,  11.3776,2,   1.109,2,   43.64,2,     2.8,   7.792,2,   0.010,   46.67,2,   13.91,2, -30.6490,  79.5517,   0.001,   0.188,20090422,       2158
33RR20090320,        I05,     115,          1,         24,         24,2,20090422,       2034,   -30.6492,    79.5516,       3603,   440.2,  11.1385,  34.9493,2,  34.9446,2,    238.8,2,   238.5,2,    3.92,2,   12.07,2,    0.00,2,    0.89,2,   3.350,2,   1.854,2,   1.2950,2,  2120.2,2,  2303.9,2,   7.9028,2,    20.00,-999.000,9,-999.000,9,-999.000,9,  11.1378,2,-999.000,9, -999.00,9, -999.00,-999.000,9,-999.000,   45.85,2,   14.07,2, -30.6489,  79.5518,-999.000,-999.000,20090422,       2156
33RR20090320,        I05,     115,          1,         23,         23,2,20090422,       2034,   -30.6492,    79.5516,       3603,   490.5,  10.8081,  34.9023,2,  34.9027,2,    237.7,2,   237.7,2,    4.26,2,   12.84,2,    0.00,2,    0.94,2,   3.416,2,   1.856,2,   1.2090,2,  2122.1,2,  2297.8,2,   7.8944,2,    20.00,   0.290,2,   1.848,2,  -1.044,2,  10.8111,2,   1.131,2,   40.65,2,     3.3,   7.836,2,   0.009,   45.04,2,   14.75,2, -30.6490,  79.5517,   0.001,   0.200,20090422,       2154
33RR20090320,        I05,     115,          1,         22,         22,2,20090422,       2034,   -30.6492,    79.5516,       3603,   570.2,  10.2486,  34.8226,2,  34.8223,2,    236.7,2,   237.0,2,    4.41,2,   14.19,2,    0.00,2,    1.03,2,   3.507,2,   1.885,2,   1.1020,2,  2124.6,2,  2298.4,2,   7.8796,2,    20.00,-999.000,9,-999.000,9,-999.000,9,  10.2479,2,   1.131,2,   41.38,2,       3,-999.000,9,-999.000,   44.16,2,   15.86,2, -30.6490,  79.5517,-999.000,-999.000,20090422,       2152
33RR20090320,        I05,     115,          1,         21,         21,2,20090422,       2034,   -30.6492,    79.5516,       3603,   670.5,   9.5218,  34.7173,2,  34.7160,2,    235.0,2,   235.2,2,    5.28,2,   16.27,2,    0.00,2,    1.15,2,   3.535,2,   1.863,2,   1.0920,2,  2128.8,2,  2294.3,2,   7.8588,2,    20.00,   0.232,2,   1.881,2,  -0.533,2,   9.5219,2,   1.167,2,   46.27,2,     3.3,   7.974,2,   0.009,   43.28,2,   17.76,2, -30.6491,  79.5516,   0.001,   0.200,20090422,       2149
33RR20090320,        I05,     115,          1,         20,         20,2,20090422,       2034,   -30.6492,    79.5516,       3603,   769.7,   8.6342,  34.6096,2,  34.6097,2,    220.8,2,   221.8,2,    8.11,2,   19.80,2,    0.00,2,    1.38,2,   3.196,2,   1.628,2,   0.7710,2,  2141.0,2,  2292.1,2,   7.8216,2,    20.00,-999.000,9,-999.000,9,-999.000,9,   8.6362,2,   1.094,2,   25.63,2,     2.9,-999.000,9,-999.000,   42.50,2,   21.61,2, -30.6491,  79.5514,-999.000,-999.000,20090422,       2146
33RR20090320,        I05,     115,          1,         19,         19,2,20090422,       2034,   -30.6492,    79.5516,       3603,   871.4,   7.1354,  34.4858,2,  34.4873,2,    204.9,2,   204.5,2,   15.91,2,   24.86,2,    0.00,2,    1.72,2,   2.340,2,   1.158,2,   0.4600,2,  2164.7,2,  2290.4,2,   7.7621,2,    20.00,   0.109,2,   1.864,2,   1.318,2,   7.1407,2,   1.074,2,  -12.28,2,     2.8,   8.043,2,   0.009,   41.79,2,   26.29,2, -30.6491,  79.5514,   0.001,   0.203,20090422,       2143
33RR20090320,        I05,     115,          1,         18,         18,2,20090422,       2034,   -30.6492,    79.5516,       3603,   971.3,   5.8729,  34.4097,2,  34.4080,2,    199.9,2,   200.2,2,   23.74,2,   28.10,2,    0.00,2,    1.96,2,   1.917,2,   0.945,2,   0.2830,2,  2179.8,2,  2295.8,2,   7.7239,2,    20.00,-999.000,9,-999.000,9,-999.000,9,   5.8693,2,   1.055,2,  -42.76,2,     2.8,-999.000,9,-999.000,   41.01,2,   30.03,2, -30.6492,  79.5514,-999.000,-999.000,20090422,       2141
33RR20090320,        I05,     115,          1,         17,         17,2,20090422,       2034,   -30.6492,    79.5516,       3603,  1071.4,   4.7556,  34.3875,2,  34.3870,2,    191.3,2,   192.1,2,   35.37,2,   30.88,2,    0.00,2,    2.17,2,   1.318,6,   0.643,6,   0.2030,6,  2201.0,2,  2303.3,2,   7.6908,2,    20.00,-999.000,9,   1.931,2,   3.904,2,   4.7554,2,    0.93,2,  -79.81,2,     2.7,   8.296,2,   0.011,   40.46,2,   32.50,2, -30.6492,  79.5513,   0.001,   0.200,20090422,       2138
33RR20090320,        I05,     115,          1,         16,         16,2,20090422,       2034,   -30.6492,    79.5516,       3603,  1171.2,   4.1213,  34.4293,2,  34.4267,2,    177.6,2,   175.4,2,   49.94,2,   32.98,2,    0.00,2,    2.33,2,   0.716,2,   0.340,2,   0.0970,2,  2224.8,2,  2316.7,2,   7.6612,2,    20.00,-999.000,9,-999.000,9,-999.000,9,   4.1234,2,   0.771,2,  -111.3,2,     2.6,-999.000,9,-999.000,   40.09,2,   34.46,2, -30.6493,  79.5514,-999.000,-999.000,20090422,       2135
33RR20090320,        I05,     115,          1,         15,         15,2,20090422,       2034,   -30.6492,    79.5516,       3603,  1271.5,   3.7458,  34.4813,2,  34.4803,2,    161.9,2,   162.2,2,   62.41,2,   34.15,2,    0.00,2,    2.44,2,   0.348,2,   0.168,2,   0.0290,2,  2243.8,2,  2330.8,2,   7.6419,2,    20.00,-999.000,9,   1.919,2,   6.847,2,   3.7506,2,   0.635,2, -136.79,2,     2.5,   8.250,2,   0.012,   39.81,2,   35.56,2, -30.6493,  79.5516,   0.001,   0.201,20090422,       2132
33RR20090320,        I05,     115,          1,         14,         14,2,20090422,       2034,   -30.6492,    79.5516,       3603,  1372.2,   3.4996,  34.5259,2,  34.5245,2,    155.9,2,   155.3,2,   70.20,2,   34.67,2,    0.00,2,    2.48,2,   0.173,2,   0.085,2,   0.0000,2,  2256.7,2,  2339.3,2,   7.6338,2,    20.00,-999.000,9,-999.000,9,-999.000,9,   3.5008,2,-999.000,9, -999.00,9, -999.00,-999.000,9,-999.000,   40.03,2,   36.59,2, -30.6492,  79.5517,-999.000,-999.000,20090422,       2130
33RR20090320,        I05,     115,          1,         13,         13,2,20090422,       2034,   -30.6492,    79.5516,       3603,  1473.5,   3.3123,  34.5622,2,  34.5630,2,    152.6,2,   153.2,2,   76.01,2,   34.78,2,    0.00,2,    2.49,2,   0.100,2,   0.050,2,   0.0000,2,  2262.0,6,  2345.3,2,   7.6312,2,    20.00,-999.000,9,   1.961,2,   9.493,2,   3.3103,2,   0.464,2,  -154.2,2,     2.3,   8.788,2,   0.029,   40.15,2,   35.98,2, -30.6492,  79.5518,   0.001,   0.207,20090422,       2127
33RR20090320,        I05,     115,          1,         12,         12,2,20090422,       2034,   -30.6492,    79.5516,       3603,  1573.4,   3.1012,  34.6074,2,  34.6076,2,    152.4,2,   153.0,2,   81.64,2,   34.56,2,    0.00,2,    2.47,2,   0.065,2,   0.032,2,   0.0000,2,  2269.2,2,  2350.4,2,   7.6332,2,    20.00,-999.000,9,-999.000,9,-999.000,9,   3.1009,2,-999.000,9, -999.00,9, -999.00,-999.000,9,-999.000,   39.98,2,   36.32,2, -30.6493,  79.5518,-999.000,-999.000,20090422,       2124
33RR20090320,        I05,     115,          1,         11,         11,2,20090422,       2034,   -30.6492,    79.5516,       3603,  1674.4,   2.9396,  34.6330,2,  34.6316,2,    155.2,2,   155.1,2,   84.18,2,   34.24,2,    0.00,2,    2.45,2,   0.058,2,   0.027,2,   0.0000,2,  2270.5,2,  2353.3,2,   7.6376,2,    20.00,   0.001,2,   1.946,2,  10.921,2,   2.9401,2,-999.000,9, -999.00,9, -999.00,   8.355,2,   0.019,   40.07,2,   35.93,2, -30.6493,  79.5517,   0.001,   0.200,20090422,       2121
33RR20090320,        I05,     115,          1,         10,         10,2,20090422,       2034,   -30.6492,    79.5516,       3603,  1773.6,   2.7962,  34.6589,2,  34.6575,2,    157.7,2,   158.1,2,   87.64,2,   34.03,2,    0.00,2,    2.43,2,   0.039,2,   0.020,2,   0.0330,2,  2270.6,2,  2353.9,2,   7.6429,2,    20.00,-999.000,9,-999.000,9,-999.000,9,   2.7992,2,-999.000,9, -999.00,9, -999.00,-999.000,9,-999.000,   39.82,2,   35.38,2, -30.6493,  79.5516,-999.000,-999.000,20090422,       2118
33RR20090320,        I05,     115,          1,          9,          9,2,20090422,       2034,   -30.6492,    79.5516,       3603,  1946.2,   2.5419,  34.6942,2,  34.6931,2,    163.0,2,   163.9,2,   92.57,2,   33.40,2,    0.00,2,    2.36,2,   0.024,2,   0.012,2,   0.0000,2,  2271.5,2,  2356.6,2,   7.6539,2,    20.00,   0.012,2,   1.976,2,  11.970,2,   2.5427,2,-999.000,9, -999.00,9, -999.00,   8.664,2,   0.017,   39.52,2,   35.22,2, -30.6492,  79.5517,   0.001,   0.196,20090422,       2113
33RR20090320,        I05,     115,          1,          8,          8,2,20090422,       2034,   -30.6492,    79.5516,       3603,  2177.3,   2.2441,  34.7220,2,  34.7210,2,    180.6,2,   182.5,2,   87.42,2,   31.60,2,    0.00,2,    2.23,2,   0.034,2,   0.018,2,   0.0000,2,  2257.6,2,  2355.4,2,   7.6741,2,    20.00,-999.000,9,-999.000,9,-999.000,9,   2.2444,2,-999.000,9, -999.00,9, -999.00,-999.000,9,-999.000,   39.66,2,   33.28,2, -30.6493,  79.5518,-999.000,-999.000,20090422,       2108
33RR20090320,        I05,     115,          1,          7,          7,2,20090422,       2034,   -30.6492,    79.5516,       3603,  2430.5,   1.9771,  34.7403,2,  34.7395,2,    191.6,2,   191.6,2,   91.06,2,   30.92,2,    0.00,2,    2.17,2,   0.032,6,   0.016,6,   0.0050,6,  2255.4,2,  2356.2,2,   7.6863,2,    20.00,   0.026,2,   1.981,2,  13.986,2,   1.9772,2,-999.000,9, -999.00,9, -999.00,   8.780,2,   0.014,   39.81,2,   32.42,2, -30.6492,  79.5520,   0.001,   0.210,20090422,       2102
33RR20090320,        I05,     115,          1,          6,          6,2,20090422,       2034,   -30.6492,    79.5516,       3603,  2681.7,   1.7346,  34.7394,2,  34.7383,2,    194.9,2,   194.3,2,   99.65,2,   31.18,2,    0.00,2,    2.19,2,   0.029,2,   0.016,2,   0.0000,2,  2259.2,2,  2361.4,2,   7.6882,2,    20.00,-999.000,9,-999.000,9,-999.000,9,   1.7355,2,-999.000,9, -999.00,9, -999.00,-999.000,9,-999.000,   39.83,2,   32.86,2, -30.6492,  79.5520,-999.000,-999.000,20090422,       2057
33RR20090320,        I05,     115,          1,          5,          5,2,20090422,       2034,   -30.6492,    79.5516,       3603,  2935.8,   1.5389,  34.7339,2,  34.7338,2,    196.2,2,   195.7,2,  106.80,2,   31.55,2,    0.00,2,    2.22,2,   0.015,2,   0.010,2,   0.0000,2,  2264.5,2,  2367.9,2,   7.6895,2,    20.00,-999.000,9,   1.796,2,  12.222,2,   1.5384,2,-999.000,9, -999.00,9, -999.00,   8.791,2,   0.013,   40.02,2,   32.82,2, -30.6492,  79.5520,   0.002,   0.216,20090422,       2051
33RR20090320,        I05,     115,          1,          4,          4,2,20090422,       2034,   -30.6492,    79.5516,       3603,  3189.1,   1.4525,  34.7303,2,  34.7301,2,    195.4,2,   195.6,2,  111.21,2,   31.82,2,    0.00,2,    2.24,2,   0.009,2,   0.007,2,   0.0000,2,  2269.1,2,  2373.7,2,   7.6916,2,    20.00,-999.000,9,-999.000,9,-999.000,9,   1.4520,2,-999.000,9, -999.00,9, -999.00,-999.000,9,-999.000,   39.72,2,   33.52,2, -30.6492,  79.5518,-999.000,-999.000,20090422,       2045
33RR20090320,        I05,     115,          1,          3,          3,2,20090422,       2034,   -30.6492,    79.5516,       3603,  3441.3,   1.4311,  34.7288,2,  34.7289,2,    195.6,2,   195.7,2,  113.03,2,   31.76,2,    0.00,2,    2.25,2,   0.015,2,   0.008,2,   0.0100,2,  2271.0,2,  2376.6,2,   7.6923,2,    20.00,   0.001,2,   1.991,2,  11.517,2,   1.4306,2,-999.000,9, -999.00,9, -999.00,   8.883,2,   0.015,   40.09,2,   33.34,2, -30.6492,  79.5516,   0.001,   0.212,20090422,       2040
33RR20090320,        I05,     115,          1,          2,          2,2,20090422,       2034,   -30.6492,    79.5516,       3603,  3537.8,   1.4343,  34.7288,2,  34.7280,2,    195.6,2,   195.6,2,  113.37,2,   32.02,2,    0.00,2,    2.25,2,   0.006,2,   0.005,2,   0.0370,2,  2272.1,2,  2375.7,2,   7.6926,2,    20.00,-999.000,9,   2.053,2,  10.617,2,   1.4342,2,-999.000,9, -999.00,9, -999.00,   9.106,2,   0.012,   39.99,2,   33.91,2, -30.6492,  79.5516,   0.001,   0.203,20090422,       2037
33RR20090320,        I05,     115,          1,          1,          1,2,20090422,       2034,   -30.6492,    79.5516,       3603,  3639.2,   1.4426,  34.7283,2,  34.7274,2,    194.9,2,   195.3,2,  113.54,2,   32.02,2,    0.00,2,    2.25,2,   0.009,2,   0.005,2,   0.0190,2,  2271.0,6,  2375.5,2,   7.6939,2,    20.00,   0.055,2,   1.968,2,  11.634,2,   1.4415,2,-999.000,9, -999.00,9, -999.00,   8.770,2,   0.012,   40.01,2,   33.47,2, -30.6492,  79.5517,   0.001,   0.208,20090422,       2034