BOTTLE,20220814CCHSIOAMB
EXPOCODE,SECT_ID,STNNBR,CASTNO,SAMPNO,BTLNBR,BTLNBR_FLAG_W,DATE,TIME,LATITUDE,LONGITUDE,DEPTH,CTDPRS,CTDTMP,CTDSAL,CTDSAL_FLAG_W,SALNTY,SALNTY_FLAG_W,CTDOXY,CTDOXY_FLAG_W,OXYGEN,OXYGEN_FLAG_W,SILCAT,SILCAT_FLAG_W,NITRAT,NITRAT_FLAG_W,NITRIT,NITRIT_FLAG_W,PHSPHT,PHSPHT_FLAG_W,CFC-11,CFC-11_FLAG_W,CFC-12,CFC-12_FLAG_W,SF6,SF6_FLAG_W,TCARBN,TCARBN_FLAG_W,ALKALI,ALKALI_FLAG_W,PH_TOT,PH_TOT_FLAG_W,PH_TMP,TRITUM,TRITUM_FLAG_W,HELIUM,HELIUM_FLAG_W,DELHE3,DELHE3_FLAG_W,REFTMP,REFTMP_FLAG_W,DELC13,DELC13_FLAG_W,DELC14,DELC14_FLAG_W,C14ERR,NEON,NEON_FLAG_W,NEONER,DOC,DOC_FLAG_W,TDN,TDN_FLAG_W,BTL_LAT,BTL_LON,HELIER,DELHER,BTL_DATE,BTL_TIME
,,,,,,,,,,,METERS,DBAR,ITS-90,PSS-78,,PSS-78,,UMOL/KG,,UMOL/KG,,UMOL/KG,,UMOL/KG,,UMOL/KG,,UMOL/KG,,PMOL/KG,,PMOL/KG,,FMOL/KG,,UMOL/KG,,UMOL/KG,,,,DEG C,TU,,NMOL/KG,,PERCNT,,DEG C,,/MILLE,,/MILLE,,/MILLE,NMOL/KG,,NMOL/KG,UMOL/KG,,UMOL/KG,,,,NMOL/KG,PERCNT,,
33RR20090320,        I05,     130,          1,         36,         36,2,20090426,       1211,   -31.5711,    87.2054,       1989,     3.2,  21.3792,  36.0646,2,  36.0667,2,    222.1,2,   222.1,2,    1.84,2,    0.17,2,    0.00,2,    0.11,2,-999.000,9,-999.000,9,-999.0000,9,  2069.4,6,  2367.5,2,   8.1053,2,    20.00,-999.000,9,-999.000,9,-999.000,9,  21.3801,2,-999.000,9, -999.00,9, -999.00,-999.000,9,-999.000, -999.00,9, -999.00,9, -31.5708,  87.2055,-999.000,-999.000,20090426,       1328
33RR20090320,        I05,     130,          1,         30,         30,2,20090426,       1211,   -31.5711,    87.2054,       1989,    19.6,  21.3621,  36.0675,2,  36.0679,2,    223.3,2,   223.1,2,    1.81,2,    0.17,2,    0.00,2,    0.11,2,-999.000,9,-999.000,9,-999.0000,9,  -999.0,9,  -999.0,9,-999.0000,9,  -999.00,-999.000,9,-999.000,9,-999.000,9,  21.3598,2,-999.000,9, -999.00,9, -999.00,-999.000,9,-999.000, -999.00,9, -999.00,9, -31.5709,  87.2055,-999.000,-999.000,20090426,       1327
33RR20090320,        I05,     130,          1,         29,         29,2,20090426,       1211,   -31.5711,    87.2054,       1989,    38.4,  21.3115,  36.0622,2,  36.0653,2,    224.8,2,   222.5,2,    1.78,2,    0.17,2,    0.00,2,    0.11,2,-999.000,9,-999.000,9,-999.0000,9,  2070.7,2,  2365.4,2,   8.1041,2,    20.00,-999.000,9,-999.000,9,-999.000,9,  21.3133,2,-999.000,9, -999.00,9, -999.00,-999.000,9,-999.000, -999.00,9, -999.00,9, -31.5710,  87.2056,-999.000,-999.000,20090426,       1325
33RR20090320,        I05,     130,          1,         28,         28,2,20090426,       1211,   -31.5711,    87.2054,       1989,    64.3,  18.8950,  35.8121,2,  35.7993,2,    244.3,2,   248.9,2,    1.39,2,    0.17,2,    0.00,2,    0.14,2,-999.000,9,-999.000,9,-999.0000,9,  -999.0,9,  -999.0,9,-999.0000,9,  -999.00,-999.000,9,-999.000,9,-999.000,9,  18.9425,2,-999.000,9, -999.00,9, -999.00,-999.000,9,-999.000, -999.00,9, -999.00,9, -31.5711,  87.2055,-999.000,-999.000,20090426,       1322
33RR20090320,        I05,     130,          1,         27,         27,2,20090426,       1211,   -31.5711,    87.2054,       1989,    88.6,  17.0672,  35.6998,2,  35.7026,2,    248.5,2,   248.3,2,    1.35,2,    0.17,2,    0.00,2,    0.17,2,-999.000,9,-999.000,9,-999.0000,9,  2078.6,2,  2347.7,2,   8.0624,2,    20.00,-999.000,9,-999.000,9,-999.000,9,  17.1024,2,-999.000,9, -999.00,9, -999.00,-999.000,9,-999.000, -999.00,9, -999.00,9, -31.5711,  87.2056,-999.000,-999.000,20090426,       1320
33RR20090320,        I05,     130,          1,         26,         26,2,20090426,       1211,   -31.5711,    87.2054,       1989,   114.4,  16.0523,  35.6382,2,  35.6337,2,    240.5,2,   239.2,2,    1.31,2,    0.39,2,    0.04,2,    0.23,2,-999.000,9,-999.000,9,-999.0000,9,  -999.0,9,  -999.0,9,-999.0000,9,  -999.00,-999.000,9,-999.000,9,-999.000,9,  16.0538,2,-999.000,9, -999.00,9, -999.00,-999.000,9,-999.000, -999.00,9, -999.00,9, -31.5711,  87.2055,-999.000,-999.000,20090426,       1319
33RR20090320,        I05,     130,          1,         25,         25,2,20090426,       1211,   -31.5711,    87.2054,       1989,   139.4,  15.1717,  35.5162,2,  35.5169,2,    235.1,2,   234.4,2,    1.44,2,    2.23,2,    0.13,2,    0.35,2,-999.000,9,-999.000,9,-999.0000,9,  2098.4,2,  2336.5,2,   8.0081,2,    20.00,-999.000,9,-999.000,9,-999.000,9,  15.1708,2,-999.000,9, -999.00,9, -999.00,-999.000,9,-999.000, -999.00,9, -999.00,9, -31.5711,  87.2055,-999.000,-999.000,20090426,       1317
33RR20090320,        I05,     130,          1,         24,         24,2,20090426,       1211,   -31.5711,    87.2054,       1989,   164.1,  14.7236,  35.4826,2,  35.4828,2,    230.3,2,   228.7,2,    1.77,2,    3.98,2,    0.02,2,    0.42,2,-999.000,9,-999.000,9,-999.0000,9,  -999.0,9,  -999.0,9,-999.0000,9,  -999.00,-999.000,9,-999.000,9,-999.000,9,  14.7241,2,-999.000,9, -999.00,9, -999.00,-999.000,9,-999.000, -999.00,9, -999.00,9, -31.5711,  87.2055,-999.000,-999.000,20090426,       1315
33RR20090320,        I05,     130,          1,         23,         23,2,20090426,       1211,   -31.5711,    87.2054,       1989,   188.7,  14.0395,  35.3562,2,  35.3592,2,    231.9,2,   230.7,2,    1.91,2,    5.14,2,    0.01,2,    0.49,2,-999.000,9,-999.000,9,-999.0000,9,  -999.0,9,  -999.0,9,-999.0000,9,  -999.00,-999.000,9,-999.000,9,-999.000,9,  14.0273,2,-999.000,9, -999.00,9, -999.00,-999.000,9,-999.000, -999.00,9, -999.00,9, -31.5712,  87.2055,-999.000,-999.000,20090426,       1314
33RR20090320,        I05,     130,          1,         22,         22,2,20090426,       1211,   -31.5711,    87.2054,       1989,   214.0,  13.3678,  35.2525,2,  35.2567,2,    230.1,2,   231.2,2,    2.23,2,    6.72,2,    0.00,2,    0.59,2,-999.000,9,-999.000,9,-999.0000,9,  -999.0,9,  -999.0,9,-999.0000,9,  -999.00,-999.000,9,-999.000,9,-999.000,9,  13.3623,2,-999.000,9, -999.00,9, -999.00,-999.000,9,-999.000, -999.00,9, -999.00,9, -31.5712,  87.2055,-999.000,-999.000,20090426,       1312
33RR20090320,        I05,     130,          1,         21,         21,2,20090426,       1211,   -31.5711,    87.2054,       1989,   239.0,  12.9310,  35.1991,2,  35.1988,2,    231.9,2,   232.3,2,    2.55,2,    7.72,2,    0.00,2,    0.64,2,-999.000,9,-999.000,9,-999.0000,9,  2112.8,2,  2317.9,2,   7.9441,2,    20.00,-999.000,9,-999.000,9,-999.000,9,  12.9190,2,-999.000,9, -999.00,9, -999.00,-999.000,9,-999.000, -999.00,9, -999.00,9, -31.5712,  87.2055,-999.000,-999.000,20090426,       1311
33RR20090320,        I05,     130,          1,         20,         20,2,20090426,       1211,   -31.5711,    87.2054,       1989,   284.0,  12.4624,  35.1350,2,  35.1366,2,    233.6,2,   233.9,2,    2.87,2,    8.81,2,    0.00,2,    0.70,2,-999.000,9,-999.000,9,-999.0000,9,  -999.0,9,  -999.0,9,-999.0000,9,  -999.00,-999.000,9,-999.000,9,-999.000,9,  12.4622,2,-999.000,9, -999.00,9, -999.00,-999.000,9,-999.000, -999.00,9, -999.00,9, -31.5713,  87.2055,-999.000,-999.000,20090426,       1309
33RR20090320,        I05,     130,          1,         19,         19,2,20090426,       1211,   -31.5711,    87.2054,       1989,   333.4,  11.8006,  35.0368,2,  35.0364,2,    236.4,2,   238.5,2,    3.54,2,   10.39,2,    0.00,2,    0.80,2,-999.000,9,-999.000,9,-999.0000,9,  -999.0,9,  -999.0,9,-999.0000,9,  -999.00,-999.000,9,-999.000,9,-999.000,9,  11.7995,2,-999.000,9, -999.00,9, -999.00,-999.000,9,-999.000, -999.00,9, -999.00,9, -31.5712,  87.2055,-999.000,-999.000,20090426,       1307
33RR20090320,        I05,     130,          1,         18,         18,2,20090426,       1211,   -31.5711,    87.2054,       1989,   383.9,  11.4842,  34.9980,2,  34.9982,2,    238.8,2,   238.9,2,    3.33,2,   10.76,2,    0.00,2,    0.82,2,-999.000,9,-999.000,9,-999.0000,9,  -999.0,9,  -999.0,9,-999.0000,9,  -999.00,-999.000,9,-999.000,9,-999.000,9,  11.4834,2,-999.000,9, -999.00,9, -999.00,-999.000,9,-999.000, -999.00,9, -999.00,9, -31.5712,  87.2055,-999.000,-999.000,20090426,       1305
33RR20090320,        I05,     130,          1,         17,         17,2,20090426,       1211,   -31.5711,    87.2054,       1989,   434.2,  11.1240,  34.9468,2,  34.9492,2,    238.4,2,   239.0,2,    3.65,2,   11.65,2,    0.00,2,    0.88,2,-999.000,9,-999.000,9,-999.0000,9,  2120.4,2,  2304.6,2,   7.9043,2,    20.00,-999.000,9,-999.000,9,-999.000,9,  11.1305,2,-999.000,9, -999.00,9, -999.00,-999.000,9,-999.000, -999.00,9, -999.00,9, -31.5712,  87.2055,-999.000,-999.000,20090426,       1303
33RR20090320,        I05,     130,          1,         16,         16,2,20090426,       1211,   -31.5711,    87.2054,       1989,   484.0,  10.8621,  34.9108,2,  34.9120,2,    239.1,2,   238.7,2,    3.80,2,   12.38,2,    0.00,2,    0.92,2,-999.000,9,-999.000,9,-999.0000,9,  -999.0,9,  -999.0,9,-999.0000,9,  -999.00,-999.000,9,-999.000,9,-999.000,9,  10.8627,2,-999.000,9, -999.00,9, -999.00,-999.000,9,-999.000, -999.00,9, -999.00,9, -31.5713,  87.2056,-999.000,-999.000,20090426,       1301
33RR20090320,        I05,     130,          1,         15,         15,2,20090426,       1211,   -31.5711,    87.2054,       1989,   562.3,  10.1315,  34.8048,2,  34.8060,2,    238.7,2,   238.0,2,    4.47,2,   14.32,2,    0.00,2,    1.03,2,-999.000,9,-999.000,9,-999.0000,9,  -999.0,9,  -999.0,9,-999.0000,9,  -999.00,-999.000,9,-999.000,9,-999.000,9,  10.1320,2,-999.000,9, -999.00,9, -999.00,-999.000,9,-999.000, -999.00,9, -999.00,9, -31.5712,  87.2055,-999.000,-999.000,20090426,       1258
33RR20090320,        I05,     130,          1,         14,         14,2,20090426,       1211,   -31.5711,    87.2054,       1989,   663.4,   9.3910,  34.6951,2,  34.6938,2,    236.9,2,   236.3,2,    5.33,2,   16.52,2,    0.00,2,    1.17,2,-999.000,9,-999.000,9,-999.0000,9,  -999.0,9,  -999.0,9,-999.0000,9,  -999.00,-999.000,9,-999.000,9,-999.000,9,   9.3936,2,-999.000,9, -999.00,9, -999.00,-999.000,9,-999.000, -999.00,9, -999.00,9, -31.5712,  87.2054,-999.000,-999.000,20090426,       1255
33RR20090320,        I05,     130,          1,         13,         13,2,20090426,       1211,   -31.5711,    87.2054,       1989,   763.4,   8.4285,  34.5829,2,  34.5822,2,    221.7,2,   219.3,2,    9.05,2,   20.68,2,    0.00,2,    1.45,2,-999.000,9,-999.000,9,-999.0000,9,  2145.7,2,  2290.6,2,   7.8114,2,    20.00,-999.000,9,-999.000,9,-999.000,9,   8.4280,2,-999.000,9, -999.00,9, -999.00,-999.000,9,-999.000, -999.00,9, -999.00,9, -31.5712,  87.2053,-999.000,-999.000,20090426,       1252
33RR20090320,        I05,     130,          1,         12,         12,2,20090426,       1211,   -31.5711,    87.2054,       1989,   863.8,   7.3221,  34.4933,2,  34.4948,2,    205.2,2,   204.9,2,   14.93,2,   24.58,2,    0.00,2,    1.71,2,-999.000,9,-999.000,9,-999.0000,9,  -999.0,9,  -999.0,9,-999.0000,9,  -999.00,-999.000,9,-999.000,9,-999.000,9,   7.3214,2,-999.000,9, -999.00,9, -999.00,-999.000,9,-999.000, -999.00,9, -999.00,9, -31.5713,  87.2053,-999.000,-999.000,20090426,       1250
33RR20090320,        I05,     130,          1,         11,         11,2,20090426,       1211,   -31.5711,    87.2054,       1989,   961.5,   5.9128,  34.4178,2,  34.4173,2,    194.8,2,   195.8,2,   24.44,2,   28.56,2,    0.00,2,    1.98,2,-999.000,9,-999.000,9,-999.0000,9,  -999.0,9,  -999.0,9,-999.0000,9,  -999.00,-999.000,9,-999.000,9,-999.000,9,   5.9129,2,-999.000,9, -999.00,9, -999.00,-999.000,9,-999.000, -999.00,9, -999.00,9, -31.5713,  87.2053,-999.000,-999.000,20090426,       1247
33RR20090320,        I05,     130,          1,         10,         10,2,20090426,       1211,   -31.5711,    87.2054,       1989,  1065.3,   4.6828,  34.4007,2,  34.4012,2,    184.4,2,   185.1,2,   39.25,2,   31.91,2,    0.00,2,    2.25,2,-999.000,9,-999.000,9,-999.0000,9,  -999.0,9,  -999.0,9,-999.0000,9,  -999.00,-999.000,9,-999.000,9,-999.000,9,   4.6805,2,-999.000,9, -999.00,9, -999.00,-999.000,9,-999.000, -999.00,9, -999.00,9, -31.5712,  87.2051,-999.000,-999.000,20090426,       1244
33RR20090320,        I05,     130,          1,          9,          9,2,20090426,       1211,   -31.5711,    87.2054,       1989,  1164.8,   4.1366,  34.4392,2,  34.4379,2,    170.9,2,   171.2,2,   51.95,2,   33.50,2,    0.00,2,    2.39,2,-999.000,9,-999.000,9,-999.0000,9,  2227.9,2,  2317.5,2,   7.6582,2,    20.00,-999.000,9,-999.000,9,-999.000,9,   4.1395,2,-999.000,9, -999.00,9, -999.00,-999.000,9,-999.000, -999.00,9, -999.00,9, -31.5713,  87.2052,-999.000,-999.000,20090426,       1241
33RR20090320,        I05,     130,          1,          8,          8,2,20090426,       1211,   -31.5711,    87.2054,       1989,  1265.3,   3.7771,  34.4836,2,  34.4846,2,    160.5,2,   160.1,2,   63.06,2,   34.50,2,    0.00,2,    2.48,2,-999.000,9,-999.000,9,-999.0000,9,  -999.0,9,  -999.0,9,-999.0000,9,  -999.00,-999.000,9,-999.000,9,-999.000,9,   3.7813,2,-999.000,9, -999.00,9, -999.00,-999.000,9,-999.000, -999.00,9, -999.00,9, -31.5713,  87.2052,-999.000,-999.000,20090426,       1238
33RR20090320,        I05,     130,          1,          7,          7,2,20090426,       1211,   -31.5711,    87.2054,       1989,  1365.2,   3.5470,  34.5266,2,  34.5271,2,    152.6,2,   152.7,2,   71.47,2,   35.09,2,    0.00,2,    2.53,2,-999.000,9,-999.000,9,-999.0000,9,  -999.0,9,  -999.0,9,-999.0000,9,  -999.00,-999.000,9,-999.000,9,-999.000,9,   3.5459,2,-999.000,9, -999.00,9, -999.00,-999.000,9,-999.000, -999.00,9, -999.00,9, -31.5712,  87.2052,-999.000,-999.000,20090426,       1234
33RR20090320,        I05,     130,          1,          6,          6,2,20090426,       1211,   -31.5711,    87.2054,       1989,  1466.3,   3.3197,  34.5615,2,  34.5624,2,    151.2,2,   151.1,2,   76.76,2,   35.03,2,    0.00,2,    2.53,2,-999.000,9,-999.000,9,-999.0000,9,  -999.0,9,  -999.0,9,-999.0000,9,  -999.00,-999.000,9,-999.000,9,-999.000,9,   3.3190,2,-999.000,9, -999.00,9, -999.00,-999.000,9,-999.000, -999.00,9, -999.00,9, -31.5712,  87.2054,-999.000,-999.000,20090426,       1231
33RR20090320,        I05,     130,          1,          5,          5,2,20090426,       1211,   -31.5711,    87.2054,       1989,  1565.5,   3.1526,  34.5909,2,  34.5931,2,    151.4,2,   151.3,2,   80.60,2,   34.97,2,    0.00,2,    2.52,2,-999.000,9,-999.000,9,-999.0000,9,  2265.7,2,  2349.0,2,   7.6320,2,    20.00,-999.000,9,-999.000,9,-999.000,9,   3.1510,2,-999.000,9, -999.00,9, -999.00,-999.000,9,-999.000, -999.00,9, -999.00,9, -31.5712,  87.2054,-999.000,-999.000,20090426,       1227
33RR20090320,        I05,     130,          1,          4,          4,2,20090426,       1211,   -31.5711,    87.2054,       1989,  1667.5,   2.9097,  34.6258,2,  34.6255,2,    154.1,2,   155.7,2,   84.43,2,   34.53,2,    0.00,2,    2.49,2,-999.000,9,-999.000,9,-999.0000,9,  -999.0,9,  -999.0,9,-999.0000,9,  -999.00,-999.000,9,-999.000,9,-999.000,9,   2.9090,2,-999.000,9, -999.00,9, -999.00,-999.000,9,-999.000, -999.00,9, -999.00,9, -31.5713,  87.2054,-999.000,-999.000,20090426,       1223
33RR20090320,        I05,     130,          1,          3,          3,2,20090426,       1211,   -31.5711,    87.2054,       1989,  1768.4,   2.7950,  34.6449,2,  34.6444,2,    158.2,2,   158.0,2,   86.42,2,   34.25,2,    0.00,2,    2.46,2,-999.000,9,-999.000,9,-999.0000,9,  -999.0,9,  -999.0,9,-999.0000,9,  -999.00,-999.000,9,-999.000,9,-999.000,9,   2.7957,2,-999.000,9, -999.00,9, -999.00,-999.000,9,-999.000, -999.00,9, -999.00,9, -31.5713,  87.2053,-999.000,-999.000,20090426,       1218
33RR20090320,        I05,     130,          1,          2,          2,2,20090426,       1211,   -31.5711,    87.2054,       1989,  1878.7,   2.6325,  34.6727,2,  34.6746,2,    162.7,2,   162.1,2,   89.34,2,   33.82,2,    0.00,2,    2.42,2,-999.000,9,-999.000,9,-999.0000,9,  -999.0,9,  -999.0,9,-999.0000,9,  -999.00,-999.000,9,-999.000,9,-999.000,9,   2.6327,2,-999.000,9, -999.00,9, -999.00,-999.000,9,-999.000, -999.00,9, -999.00,9, -31.5712,  87.2054,-999.000,-999.000,20090426,       1215
33RR20090320,        I05,     130,          1,          1,          1,2,20090426,       1211,   -31.5711,    87.2054,       1989,  2002.2,   2.4649,  34.6955,2,  34.6953,2,    166.6,2,   166.4,2,   92.83,2,   33.33,2,    0.00,2,    2.38,2,-999.000,9,-999.000,9,-999.0000,9,  2269.2,6,  2361.5,2,   7.6577,2,    20.00,-999.000,9,-999.000,9,-999.000,9,   2.4646,2,-999.000,9, -999.00,9, -999.00,-999.000,9,-999.000, -999.00,9, -999.00,9, -31.5711,  87.2054,-999.000,-999.000,20090426,       1211