BOTTLE,20220814CCHSIOAMB
EXPOCODE,SECT_ID,STNNBR,CASTNO,SAMPNO,BTLNBR,BTLNBR_FLAG_W,DATE,TIME,LATITUDE,LONGITUDE,DEPTH,CTDPRS,CTDTMP,CTDSAL,CTDSAL_FLAG_W,SALNTY,SALNTY_FLAG_W,CTDOXY,CTDOXY_FLAG_W,OXYGEN,OXYGEN_FLAG_W,SILCAT,SILCAT_FLAG_W,NITRAT,NITRAT_FLAG_W,NITRIT,NITRIT_FLAG_W,PHSPHT,PHSPHT_FLAG_W,CFC-11,CFC-11_FLAG_W,CFC-12,CFC-12_FLAG_W,SF6,SF6_FLAG_W,TCARBN,TCARBN_FLAG_W,ALKALI,ALKALI_FLAG_W,PH_TOT,PH_TOT_FLAG_W,PH_TMP,TRITUM,TRITUM_FLAG_W,HELIUM,HELIUM_FLAG_W,DELHE3,DELHE3_FLAG_W,REFTMP,REFTMP_FLAG_W,DELC13,DELC13_FLAG_W,DELC14,DELC14_FLAG_W,C14ERR,NEON,NEON_FLAG_W,NEONER,DOC,DOC_FLAG_W,TDN,TDN_FLAG_W,BTL_LAT,BTL_LON,HELIER,DELHER,BTL_DATE,BTL_TIME
,,,,,,,,,,,METERS,DBAR,ITS-90,PSS-78,,PSS-78,,UMOL/KG,,UMOL/KG,,UMOL/KG,,UMOL/KG,,UMOL/KG,,UMOL/KG,,PMOL/KG,,PMOL/KG,,FMOL/KG,,UMOL/KG,,UMOL/KG,,,,DEG C,TU,,NMOL/KG,,PERCNT,,DEG C,,/MILLE,,/MILLE,,/MILLE,NMOL/KG,,NMOL/KG,UMOL/KG,,UMOL/KG,,,,NMOL/KG,PERCNT,,
33RR20090320,        I05,     171,          1,         36,         36,2,20090506,       1440,   -31.1569,   104.9514,       4162,     3.5,  19.4114,  35.9414,2,  35.9418,2,    228.8,2,   229.6,2,    1.48,2,    0.00,2,    0.00,2,    0.10,2,   2.192,6,   1.312,6,   1.2020,6,  2066.7,6,  2357.0,2,   8.0954,2,    20.00,-999.000,9,-999.000,9,-999.000,9,  19.4115,2,-999.000,9, -999.00,9, -999.00,-999.000,9,-999.000,   66.07,2,    4.08,2, -31.1570, 104.9513,-999.000,-999.000,20090506,       1626
33RR20090320,        I05,     171,          1,         35,         35,2,20090506,       1440,   -31.1569,   104.9514,       4162,    35.3,  19.3779,  35.9391,2,  35.9396,2,    230.2,2,   230.1,2,    1.44,2,    0.00,2,    0.00,2,    0.10,2,   2.192,2,   1.316,2,   1.1440,2,  2065.5,2,  2357.3,2,   8.0955,2,    20.00,-999.000,9,-999.000,9,-999.000,9,  19.3766,2,-999.000,9, -999.00,9, -999.00,-999.000,9,-999.000,   65.10,2,    4.18,2, -31.1570, 104.9513,-999.000,-999.000,20090506,       1624
33RR20090320,        I05,     171,          1,         34,         34,2,20090506,       1440,   -31.1569,   104.9514,       4162,    60.5,  19.3425,  35.9438,2,  35.9438,2,    230.4,2,   229.2,2,    1.40,2,    0.00,2,    0.00,2,    0.10,2,   2.180,2,   1.306,2,   1.1880,2,  2066.5,2,  2358.5,2,   8.0948,2,    20.00,-999.000,9,-999.000,9,-999.000,9,  19.3417,2,-999.000,9, -999.00,9, -999.00,-999.000,9,-999.000,   66.04,2,    4.60,2, -31.1570, 104.9514,-999.000,-999.000,20090506,       1623
33RR20090320,        I05,     171,          1,         33,         33,2,20090506,       1440,   -31.1569,   104.9514,       4162,    85.4,  18.8553,  35.8889,2,  35.8975,2,    231.1,2,   231.7,2,    1.35,2,    0.00,2,    0.00,2,    0.10,2,   2.275,2,   1.354,2,   1.1460,2,  2068.5,2,  2353.8,2,   8.0872,2,    20.00,-999.000,9,-999.000,9,-999.000,9,  18.8511,2,-999.000,9, -999.00,9, -999.00,-999.000,9,-999.000,   65.41,2,    4.59,2, -31.1570, 104.9514,-999.000,-999.000,20090506,       1621
33RR20090320,        I05,     171,          1,         32,         32,2,20090506,       1440,   -31.1569,   104.9514,       4162,   110.6,  16.4509,  35.6901,2,  35.6765,2,    243.2,2,   239.9,2,    0.94,2,    0.50,2,    0.04,2,    0.19,2,   2.621,2,   1.538,2,   1.2820,2,  2081.4,2,  2344.3,2,   8.0480,2,    20.00,-999.000,9,-999.000,9,-999.000,9,  16.4521,2,-999.000,9, -999.00,9, -999.00,-999.000,9,-999.000,   59.26,2,    5.12,2, -31.1570, 104.9514,-999.000,-999.000,20090506,       1619
33RR20090320,        I05,     171,          1,         31,         31,2,20090506,       1440,   -31.1569,   104.9514,       4162,   135.0,  15.2947,  35.5684,2,  35.5520,2,    232.4,2,   232.9,2,    1.07,2,    2.39,2,    0.01,2,    0.30,2,   2.749,2,   1.599,2,   1.3720,2,  2092.8,2,  2334.1,2,   8.0158,2,    20.00,-999.000,9,-999.000,9,-999.000,9,  15.2701,2,-999.000,9, -999.00,9, -999.00,-999.000,9,-999.000,   54.58,2,    6.46,2, -31.1571, 104.9514,-999.000,-999.000,20090506,       1618
33RR20090320,        I05,     171,          1,         30,         30,2,20090506,       1440,   -31.1569,   104.9514,       4162,   165.7,  14.2682,  35.4152,2,  35.4212,2,    233.6,2,   234.6,2,    1.04,2,    3.84,2,    0.01,2,    0.39,2,-999.000,9,-999.000,9,-999.0000,9,  -999.0,9,  -999.0,9,-999.0000,9,  -999.00,-999.000,9,-999.000,9,-999.000,9,  14.2817,2,-999.000,9, -999.00,9, -999.00,-999.000,9,-999.000,   52.58,2,    7.24,2, -31.1571, 104.9514,-999.000,-999.000,20090506,       1617
33RR20090320,        I05,     171,          1,         29,         29,2,20090506,       1440,   -31.1569,   104.9514,       4162,   215.8,  12.9449,  35.2033,2,  35.2039,2,    239.0,2,   239.4,2,    1.17,2,    6.08,2,    0.00,2,    0.54,2,   3.081,2,   1.764,2,   1.3840,2,  2106.7,2,  2318.3,2,   7.9588,2,    20.00,-999.000,9,-999.000,9,-999.000,9,  12.9398,2,-999.000,9, -999.00,9, -999.00,-999.000,9,-999.000,   50.56,2,    9.13,2, -31.1571, 104.9514,-999.000,-999.000,20090506,       1615
33RR20090320,        I05,     171,          1,         28,         28,2,20090506,       1440,   -31.1569,   104.9514,       4162,   264.4,  11.7502,  35.0270,2,  35.0087,2,    242.1,2,   243.2,2,    1.68,2,    9.07,2,    0.00,2,    0.71,2,-999.000,9,-999.000,9,-999.0000,9,  -999.0,9,  -999.0,9,-999.0000,9,  -999.00,-999.000,9,-999.000,9,-999.000,9,  11.7570,2,-999.000,9, -999.00,9, -999.00,-999.000,9,-999.000,   48.64,2,   12.59,2, -31.1571, 104.9514,-999.000,-999.000,20090506,       1614
33RR20090320,        I05,     171,          1,         27,         27,2,20090506,       1440,   -31.1569,   104.9514,       4162,   313.4,  10.4446,  34.8204,2,  34.8293,2,    246.2,2,   246.2,2,    2.19,2,   11.85,2,    0.00,2,    0.89,2,   3.506,2,   1.950,2,   1.4820,2,  2120.0,2,  2298.8,2,   7.8933,2,    20.00,-999.000,9,-999.000,9,-999.000,9,  10.4728,2,-999.000,9, -999.00,9, -999.00,-999.000,9,-999.000,   47.68,2,   14.32,2, -31.1571, 104.9514,-999.000,-999.000,20090506,       1612
33RR20090320,        I05,     171,          1,         26,         26,2,20090506,       1440,   -31.1569,   104.9514,       4162,   365.3,   9.8402,  34.7421,2,  34.7419,2,    243.6,2,   242.5,2,    3.07,2,   14.35,2,    0.00,2,    1.04,2,-999.000,9,-999.000,9,-999.0000,9,  -999.0,9,  -999.0,9,-999.0000,9,  -999.00,-999.000,9,-999.000,9,-999.000,9,   9.8371,2,-999.000,9, -999.00,9, -999.00,-999.000,9,-999.000,   46.95,2,   16.22,2, -31.1571, 104.9514,-999.000,-999.000,20090506,       1610
33RR20090320,        I05,     171,          1,         25,         25,2,20090506,       1440,   -31.1569,   104.9514,       4162,   414.9,   9.5676,  34.7143,2,  34.7140,2,    242.2,2,   240.9,2,    3.58,2,   15.32,2,    0.00,2,    1.09,2,   3.713,2,   2.005,2,   1.3420,2,  2130.7,2,  2292.9,2,   7.8569,2,    20.00,-999.000,9,-999.000,9,-999.000,9,   9.5653,2,-999.000,9, -999.00,9, -999.00,-999.000,9,-999.000,   46.04,2,   17.30,2, -31.1571, 104.9514,-999.000,-999.000,20090506,       1609
33RR20090320,        I05,     171,          1,         24,         24,2,20090506,       1440,   -31.1569,   104.9514,       4162,   464.6,   9.3696,  34.6912,2,  34.6886,2,    240.9,2,   240.5,2,    3.71,2,   16.01,2,    0.00,2,    1.13,2,-999.000,9,-999.000,9,-999.0000,9,  -999.0,9,  -999.0,9,-999.0000,9,  -999.00,-999.000,9,-999.000,9,-999.000,9,   9.3689,2,-999.000,9, -999.00,9, -999.00,-999.000,9,-999.000,   45.12,2,   17.80,2, -31.1571, 104.9514,-999.000,-999.000,20090506,       1607
33RR20090320,        I05,     171,          1,         23,         23,2,20090506,       1440,   -31.1569,   104.9514,       4162,   534.8,   9.0516,  34.6486,2,  34.6486,2,    241.5,2,   240.9,2,    4.22,2,   16.92,2,    0.00,2,    1.19,2,   3.745,2,   1.988,2,   1.2150,2,  2134.1,2,  2290.8,2,   7.8431,2,    20.00,-999.000,9,-999.000,9,-999.000,9,   9.0524,2,-999.000,9, -999.00,9, -999.00,-999.000,9,-999.000,   43.59,2,   18.49,2, -31.1571, 104.9514,-999.000,-999.000,20090506,       1605
33RR20090320,        I05,     171,          1,         22,         22,2,20090506,       1440,   -31.1569,   104.9514,       4162,   635.6,   8.2508,  34.5545,2,  34.5562,2,    225.1,2,   227.1,2,    7.31,2,   20.14,2,    0.00,2,    1.41,2,-999.000,9,-999.000,9,-999.0000,9,  -999.0,9,  -999.0,9,-999.0000,9,  -999.00,-999.000,9,-999.000,9,-999.000,9,   8.2575,2,-999.000,9, -999.00,9, -999.00,-999.000,9,-999.000,   42.64,2,   21.27,2, -31.1570, 104.9514,-999.000,-999.000,20090506,       1603
33RR20090320,        I05,     171,          1,         21,         21,2,20090506,       1440,   -31.1569,   104.9514,       4162,   734.2,   6.7902,  34.4520,2,  34.4483,2,    200.1,2,   200.1,2,   16.89,2,   26.09,2,    0.00,2,    1.81,2,   2.160,2,   1.079,2,   0.4510,2,  2173.8,2,  2289.8,2,   7.7370,2,    20.00,-999.000,9,-999.000,9,-999.000,9,   6.7902,2,-999.000,9, -999.00,9, -999.00,-999.000,9,-999.000,   42.09,2,   27.90,2, -31.1570, 104.9514,-999.000,-999.000,20090506,       1600
33RR20090320,        I05,     171,          1,         20,         20,2,20090506,       1440,   -31.1569,   104.9514,       4162,   835.5,   5.2445,  34.3916,2,  34.3917,2,    193.9,2,   194.2,2,   28.19,2,   29.60,2,    0.00,2,    2.07,2,-999.000,9,-999.000,9,-999.0000,9,  -999.0,9,  -999.0,9,-999.0000,9,  -999.00,-999.000,9,-999.000,9,-999.000,9,   5.2458,2,-999.000,9, -999.00,9, -999.00,-999.000,9,-999.000,   41.36,2,   30.84,2, -31.1570, 104.9514,-999.000,-999.000,20090506,       1558
33RR20090320,        I05,     171,          1,         19,         19,2,20090506,       1440,   -31.1569,   104.9514,       4162,   936.0,   4.2782,  34.3885,2,  34.3884,2,    188.5,2,   188.4,2,   39.72,2,   31.88,2,    0.00,2,    2.25,2,   1.145,6,   0.540,6,   0.1530,6,  2213.4,2,  2305.4,2,   7.6702,2,    20.00,-999.000,9,-999.000,9,-999.000,9,   4.2744,2,-999.000,9, -999.00,9, -999.00,-999.000,9,-999.000,   40.82,2,   33.36,2, -31.1570, 104.9514,-999.000,-999.000,20090506,       1555
33RR20090320,        I05,     171,          1,         18,         18,2,20090506,       1440,   -31.1569,   104.9514,       4162,  1035.6,   3.8450,  34.4347,2,  34.4365,2,    177.4,2,   172.8,2,   52.81,2,   33.39,2,    0.00,2,    2.38,2,-999.000,9,-999.000,9,-999.0000,9,  -999.0,9,  -999.0,9,-999.0000,9,  -999.00,-999.000,9,-999.000,9,-999.000,9,   3.8426,2,-999.000,9, -999.00,9, -999.00,-999.000,9,-999.000,   40.09,2,   35.09,2, -31.1570, 104.9514,-999.000,-999.000,20090506,       1552
33RR20090320,        I05,     171,          1,         17,         17,2,20090506,       1440,   -31.1569,   104.9514,       4162,  1136.6,   3.4193,  34.4705,2,  34.4712,2,    169.2,2,   168.1,2,   60.48,2,   34.10,2,    0.00,2,    2.43,2,   0.433,2,   0.205,2,   0.0210,2,  2243.0,2,  2327.3,2,   7.6349,2,    20.00,-999.000,9,-999.000,9,-999.000,9,   3.4177,2,-999.000,9, -999.00,9, -999.00,-999.000,9,-999.000,   39.62,2,   35.40,2, -31.1571, 104.9515,-999.000,-999.000,20090506,       1549
33RR20090320,        I05,     171,          1,         16,         16,2,20090506,       1440,   -31.1569,   104.9514,       4162,  1234.5,   3.2619,  34.5257,2,  34.5252,2,    157.9,2,   157.7,2,   69.50,2,   34.59,2,    0.00,2,    2.48,2,-999.000,9,-999.000,9,-999.0000,9,  -999.0,9,  -999.0,9,-999.0000,9,  -999.00,-999.000,9,-999.000,9,-999.000,9,   3.2627,2,-999.000,9, -999.00,9, -999.00,-999.000,9,-999.000,   39.35,2,   36.45,2, -31.1571, 104.9515,-999.000,-999.000,20090506,       1547
33RR20090320,        I05,     171,          1,         15,         15,2,20090506,       1440,   -31.1569,   104.9514,       4162,  1336.6,   3.1370,  34.5731,2,  34.5729,2,    152.0,2,   152.5,2,   76.84,2,   34.80,2,    0.00,2,    2.50,2,   0.086,2,   0.044,2,   0.0000,2,  2266.9,2,  2345.3,2,   7.6226,2,    20.00,-999.000,9,-999.000,9,-999.000,9,   3.1367,2,-999.000,9, -999.00,9, -999.00,-999.000,9,-999.000,   39.27,2,   36.51,2, -31.1571, 104.9515,-999.000,-999.000,20090506,       1544
33RR20090320,        I05,     171,          1,         14,         14,2,20090506,       1440,   -31.1569,   104.9514,       4162,  1436.6,   2.9985,  34.6031,2,  34.6037,2,    152.4,2,   152.5,2,   81.53,2,   34.69,2,    0.00,2,    2.49,2,   0.050,2,   0.027,2,   0.0110,2,  2270.4,2,  2349.5,2,   7.6244,2,    20.00,-999.000,9,-999.000,9,-999.000,9,   2.9977,2,-999.000,9, -999.00,9, -999.00,-999.000,9,-999.000,   39.36,2,   36.03,2, -31.1570, 104.9514,-999.000,-999.000,20090506,       1541
33RR20090320,        I05,     171,          1,         12,         12,2,20090506,       1440,   -31.1569,   104.9514,       4162,  1531.6,   2.8980,  34.6261,2,  34.6268,2,    153.7,2,   153.0,2,   83.90,2,   34.48,2,    0.00,2,    2.48,2,-999.000,9,-999.000,9,-999.0000,9,  -999.0,9,  -999.0,9,-999.0000,9,  -999.00,-999.000,9,-999.000,9,-999.000,9,   2.8982,2,-999.000,9, -999.00,9, -999.00,-999.000,9,-999.000,   39.28,2,   35.79,2, -31.1570, 104.9514,-999.000,-999.000,20090506,       1537
33RR20090320,        I05,     171,          1,         13,         13,2,20090506,       1440,   -31.1569,   104.9514,       4162,  1532.9,   2.9018,  34.6251,2,  34.6252,2,    153.6,2,   153.0,2,   83.76,2,   34.59,2,    0.00,2,    2.48,2,   0.039,2,   0.019,2,   0.0000,2,  2271.9,2,  2352.7,2,   7.6274,2,    20.00,-999.000,9,-999.000,9,-999.000,9,   2.9018,2,-999.000,9, -999.00,9, -999.00,-999.000,9,-999.000,   39.28,2,   36.30,2, -31.1570, 104.9514,-999.000,-999.000,20090506,       1539
33RR20090320,        I05,     171,          1,         11,         11,2,20090506,       1440,   -31.1569,   104.9514,       4162,  1732.6,   2.6253,  34.6789,2,  34.6794,2,    155.9,2,   155.7,2,   93.75,2,   34.10,2,    0.00,2,    2.45,2,   0.010,2,   0.005,2,   0.0000,2,  2274.9,2,  2362.6,2,   7.6393,2,    20.00,-999.000,9,-999.000,9,-999.000,9,   2.6258,2,-999.000,9, -999.00,9, -999.00,-999.000,9,-999.000,   39.13,2,   35.70,2, -31.1570, 104.9514,-999.000,-999.000,20090506,       1532
33RR20090320,        I05,     171,          1,         10,         10,2,20090506,       1440,   -31.1569,   104.9514,       4162,  1864.6,   2.4937,  34.6974,2,  34.6974,2,    158.4,2,   158.5,2,   98.09,2,   33.88,2,    0.00,2,    2.43,2,   0.008,2,   0.004,2,   0.0000,2,  2280.1,2,  2369.8,2,   7.6429,2,    20.00,-999.000,9,-999.000,9,-999.000,9,   2.4933,2,-999.000,9, -999.00,9, -999.00,-999.000,9,-999.000,   39.12,2,   35.49,2, -31.1570, 104.9513,-999.000,-999.000,20090506,       1529
33RR20090320,        I05,     171,          1,          9,          9,2,20090506,       1440,   -31.1569,   104.9514,       4162,  2086.2,   2.2974,  34.7149,2,  34.7151,2,    163.4,2,   162.6,2,  102.62,2,   33.51,2,    0.00,2,    2.39,2,-999.000,9,-999.000,9,-999.0000,9,  -999.0,9,  -999.0,9,-999.0000,9,  -999.00,-999.000,9,-999.000,9,-999.000,9,   2.2978,2,-999.000,9, -999.00,9, -999.00,-999.000,9,-999.000,   38.83,2,   35.18,2, -31.1570, 104.9512,-999.000,-999.000,20090506,       1524
33RR20090320,        I05,     171,          1,          8,          8,2,20090506,       1440,   -31.1569,   104.9514,       4162,  2338.8,   2.0838,  34.7248,2,  34.7255,2,    169.1,2,   168.8,2,  106.58,2,   33.24,2,    0.00,2,    2.37,2,   0.007,2,   0.004,2,   0.0000,2,  2282.2,2,  2376.2,2,   7.6599,2,    20.00,-999.000,9,-999.000,9,-999.000,9,   2.0856,2,-999.000,9, -999.00,9, -999.00,-999.000,9,-999.000,   38.58,2,   34.57,2, -31.1570, 104.9513,-999.000,-999.000,20090506,       1518
33RR20090320,        I05,     171,          1,          7,          7,2,20090506,       1440,   -31.1569,   104.9514,       4162,  2584.6,   1.8919,  34.7287,2,  34.7297,2,    173.7,2,   174.2,2,  109.60,2,   33.02,2,    0.00,2,    2.34,2,-999.000,9,-999.000,9,-999.0000,9,  -999.0,9,  -999.0,9,-999.0000,9,  -999.00,-999.000,9,-999.000,9,-999.000,9,   1.8920,2,-999.000,9, -999.00,9, -999.00,-999.000,9,-999.000,   39.24,2,   34.59,2, -31.1570, 104.9513,-999.000,-999.000,20090506,       1513
33RR20090320,        I05,     171,          1,          6,          6,2,20090506,       1440,   -31.1569,   104.9514,       4162,  2839.3,   1.7552,  34.7311,2,  34.7319,2,    181.5,2,   181.5,2,  109.73,2,   32.48,2,    0.00,2,    2.30,2,   0.005,2,   0.003,2,   0.0000,2,  2277.1,2,  2375.8,2,   7.6738,2,    20.00,-999.000,9,-999.000,9,-999.000,9,   1.7573,2,-999.000,9, -999.00,9, -999.00,-999.000,9,-999.000,   38.85,2,   33.84,2, -31.1569, 104.9513,-999.000,-999.000,20090506,       1507
33RR20090320,        I05,     171,          1,          5,          5,2,20090506,       1440,   -31.1569,   104.9514,       4162,  3122.5,   1.5621,  34.7283,2,  34.7287,2,    185.4,2,   185.8,2,  114.86,2,   32.53,2,    0.00,2,    2.31,2,   0.004,2,   0.003,2,   0.0000,2,  2279.6,2,  2378.9,2,   7.6774,2,    20.00,-999.000,9,-999.000,9,-999.000,9,   1.5622,2,-999.000,9, -999.00,9, -999.00,-999.000,9,-999.000,   39.71,2,   33.85,2, -31.1569, 104.9513,-999.000,-999.000,20090506,       1501
33RR20090320,        I05,     171,          1,          4,          4,2,20090506,       1440,   -31.1569,   104.9514,       4162,  3425.8,   1.4104,  34.7262,2,  34.7266,2,    192.3,2,   192.5,2,  116.35,2,   32.27,2,    0.00,2,    2.29,2,-999.000,9,-999.000,9,-999.0000,9,  -999.0,9,  -999.0,9,-999.0000,9,  -999.00,-999.000,9,-999.000,9,-999.000,9,   1.4102,2,-999.000,9, -999.00,9, -999.00,-999.000,9,-999.000,   40.28,2,   33.61,2, -31.1569, 104.9514,-999.000,-999.000,20090506,       1455
33RR20090320,        I05,     171,          1,          3,          3,2,20090506,       1440,   -31.1569,   104.9514,       4162,  3730.4,   1.2824,  34.7224,2,  34.7221,2,    197.4,2,   196.6,2,  117.44,2,   32.27,2,    0.00,2,    2.28,2,   0.010,2,   0.006,2,   0.0000,2,  2273.2,2,  2377.1,2,   7.6843,2,    20.00,-999.000,9,-999.000,9,-999.000,9,   1.2824,2,-999.000,9, -999.00,9, -999.00,-999.000,9,-999.000,   40.18,2,   33.42,2, -31.1569, 104.9514,-999.000,-999.000,20090506,       1450
33RR20090320,        I05,     171,          1,          2,          2,2,20090506,       1440,   -31.1569,   104.9514,       4162,  4034.2,   1.1639,  34.7173,2,  34.7174,2,    201.2,2,   200.7,2,  120.85,2,   32.27,2,    0.00,2,    2.28,2,   0.014,2,   0.009,2,   0.0000,2,  2272.7,2,  2376.3,2,   7.6873,2,    20.00,-999.000,9,-999.000,9,-999.000,9,   1.1638,2,-999.000,9, -999.00,9, -999.00,-999.000,9,-999.000,   39.93,2,   33.93,2, -31.1569, 104.9513,-999.000,-999.000,20090506,       1444
33RR20090320,        I05,     171,          1,          1,          1,2,20090506,       1440,   -31.1569,   104.9514,       4162,  4218.1,   1.0999,  34.7144,2,  34.7148,2,    203.3,2,   203.0,2,  121.00,2,   32.16,2,    0.00,2,    2.27,2,   0.021,6,   0.012,6,   0.0000,6,  2272.1,6,  2375.4,2,   7.6859,2,    20.00,-999.000,9,-999.000,9,-999.000,9,   1.0992,2,-999.000,9, -999.00,9, -999.00,-999.000,9,-999.000,   39.92,2,   33.29,2, -31.1569, 104.9514,-999.000,-999.000,20090506,       1440