BOTTLE,20220814CCHSIOAMB
EXPOCODE,SECT_ID,STNNBR,CASTNO,SAMPNO,BTLNBR,BTLNBR_FLAG_W,DATE,TIME,LATITUDE,LONGITUDE,DEPTH,CTDPRS,CTDTMP,CTDSAL,CTDSAL_FLAG_W,SALNTY,SALNTY_FLAG_W,CTDOXY,CTDOXY_FLAG_W,OXYGEN,OXYGEN_FLAG_W,SILCAT,SILCAT_FLAG_W,NITRAT,NITRAT_FLAG_W,NITRIT,NITRIT_FLAG_W,PHSPHT,PHSPHT_FLAG_W,CFC-11,CFC-11_FLAG_W,CFC-12,CFC-12_FLAG_W,SF6,SF6_FLAG_W,TCARBN,TCARBN_FLAG_W,ALKALI,ALKALI_FLAG_W,PH_TOT,PH_TOT_FLAG_W,PH_TMP,TRITUM,TRITUM_FLAG_W,HELIUM,HELIUM_FLAG_W,DELHE3,DELHE3_FLAG_W,REFTMP,REFTMP_FLAG_W,DELC13,DELC13_FLAG_W,DELC14,DELC14_FLAG_W,C14ERR,NEON,NEON_FLAG_W,NEONER,DOC,DOC_FLAG_W,TDN,TDN_FLAG_W,BTL_LAT,BTL_LON,HELIER,DELHER,BTL_DATE,BTL_TIME
,,,,,,,,,,,METERS,DBAR,ITS-90,PSS-78,,PSS-78,,UMOL/KG,,UMOL/KG,,UMOL/KG,,UMOL/KG,,UMOL/KG,,UMOL/KG,,PMOL/KG,,PMOL/KG,,FMOL/KG,,UMOL/KG,,UMOL/KG,,,,DEG C,TU,,NMOL/KG,,PERCNT,,DEG C,,/MILLE,,/MILLE,,/MILLE,NMOL/KG,,NMOL/KG,UMOL/KG,,UMOL/KG,,,,NMOL/KG,PERCNT,,
33RR20090320,        I05,     185,          2,         36,         36,2,20090510,       0831,   -32.0392,   111.7592,       5014,     3.5,  20.2847,  35.7487,2,  35.7499,2,    225.5,2,   226.1,2,    2.15,2,    0.13,2,    0.00,2,    0.09,2,   2.099,6,   1.274,6,   1.1400,6,  2044.4,6,  2347.1,2,   8.1163,2,    20.00,-999.000,9,-999.000,9,-999.000,9,  20.2873,2,   0.835,2,   42.93,2,       3,-999.000,9,-999.000,   67.72,2,    4.05,2, -32.0389, 111.7586,-999.000,-999.000,20090510,       1040
33RR20090320,        I05,     185,          2,         35,         35,2,20090510,       0831,   -32.0392,   111.7592,       5014,    25.6,  20.1552,  35.7721,2,  35.7727,2,    227.6,2,   227.0,2,    1.92,2,    0.13,2,    0.00,2,    0.09,2,   2.115,2,   1.283,2,   1.1500,2,  2048.7,2,  2346.2,2,   8.1120,2,    20.00,-999.000,9,-999.000,9,-999.000,9,  20.1554,2,-999.000,9, -999.00,9, -999.00,-999.000,9,-999.000,   67.97,2,    4.28,2, -32.0389, 111.7586,-999.000,-999.000,20090510,       1039
33RR20090320,        I05,     185,          2,         34,         34,2,20090510,       0831,   -32.0392,   111.7592,       5014,    50.7,  19.5840,  35.7757,2,  35.7766,2,    229.3,2,   229.6,2,    1.89,2,    0.13,2,    0.00,2,    0.10,2,   2.159,2,   1.310,2,   1.2530,2,  2054.3,2,  2347.5,2,   8.1058,2,    20.00,-999.000,9,-999.000,9,-999.000,9,  19.5811,2,-999.000,9, -999.00,9, -999.00,-999.000,9,-999.000,   67.92,2,    4.14,2, -32.0389, 111.7585,-999.000,-999.000,20090510,       1038
33RR20090320,        I05,     185,          2,         33,         33,2,20090510,       0831,   -32.0392,   111.7592,       5014,    75.9,  19.4795,  35.7883,2,  35.7891,2,    229.2,2,   228.5,2,    1.85,2,    0.13,2,    0.00,2,    0.10,2,   2.157,2,   1.314,2,   1.3000,2,  2055.5,2,  2348.5,2,   8.1035,2,    20.00,-999.000,9,-999.000,9,-999.000,9,  19.4782,2,-999.000,9, -999.00,9, -999.00,-999.000,9,-999.000,   66.12,2,    3.86,2, -32.0388, 111.7585,-999.000,-999.000,20090510,       1036
33RR20090320,        I05,     185,          2,         32,         32,2,20090510,       0831,   -32.0392,   111.7592,       5014,   101.2,  17.6427,  35.5989,2,  35.6093,2,    231.9,2,   231.4,2,    1.26,2,    0.53,2,    0.22,2,    0.17,2,   2.400,2,   1.435,2,   1.2930,2,  2076.1,2,  2341.0,2,   8.0644,2,    20.00,-999.000,9,-999.000,9,-999.000,9,  17.6609,2,   1.157,2,   43.75,2,     2.9,-999.000,9,-999.000,   60.22,2,    4.57,2, -32.0388, 111.7585,-999.000,-999.000,20090510,       1035
33RR20090320,        I05,     185,          2,         31,         31,2,20090510,       0831,   -32.0392,   111.7592,       5014,   149.4,  15.5256,  35.5929,2,  35.5954,2,    233.4,2,   232.7,2,    1.40,2,    2.04,2,    0.03,2,    0.27,2,   2.678,2,   1.570,2,   1.4350,2,  2091.2,2,  2340.1,2,   8.0257,2,    20.00,-999.000,9,-999.000,9,-999.000,9,  15.5239,2,-999.000,9, -999.00,9, -999.00,-999.000,9,-999.000,   56.98,2,    5.42,2, -32.0388, 111.7584,-999.000,-999.000,20090510,       1033
33RR20090320,        I05,     185,          2,         30,         30,2,20090510,       0831,   -32.0392,   111.7592,       5014,   200.5,  13.6405,  35.3271,2,  35.3282,2,    234.1,2,   234.0,2,    1.56,2,    5.19,2,    0.01,2,    0.47,2,   2.924,2,   1.701,2,   1.4520,2,  2105.5,2,  2325.6,2,   7.9768,2,    20.00,-999.000,9,-999.000,9,-999.000,9,  13.6467,2,   1.102,2,   38.54,2,     2.7,-999.000,9,-999.000,   53.78,2,    8.60,2, -32.0388, 111.7584,-999.000,-999.000,20090510,       1031
33RR20090320,        I05,     185,          2,         29,         29,2,20090510,       0831,   -32.0392,   111.7592,       5014,   249.1,  12.3078,  35.1174,2,  35.1186,2,    238.7,2,   239.2,2,    1.90,2,    7.79,2,    0.01,2,    0.63,2,   3.167,2,   1.803,2,   1.4790,2,  2113.9,2,  2314.4,2,   7.9424,2,    20.00,-999.000,9,-999.000,9,-999.000,9,  12.2988,2,-999.000,9, -999.00,9, -999.00,-999.000,9,-999.000,   50.58,2,   11.07,2, -32.0387, 111.7584,-999.000,-999.000,20090510,       1029
33RR20090320,        I05,     185,          2,         28,         28,2,20090510,       0831,   -32.0392,   111.7592,       5014,   299.8,  10.9948,  34.9081,2,  34.9116,2,    244.3,2,   243.0,2,    2.42,2,   10.81,2,    0.01,2,    0.82,2,   3.408,2,   1.915,2,   1.5220,2,  2119.2,2,  2303.3,2,   7.9074,2,    20.00,-999.000,9,-999.000,9,-999.000,9,  10.9871,2,   1.167,2,   46.34,2,     2.7,-999.000,9,-999.000,   49.12,2,   13.53,2, -32.0387, 111.7584,-999.000,-999.000,20090510,       1027
33RR20090320,        I05,     185,          2,         27,         27,2,20090510,       0831,   -32.0392,   111.7592,       5014,   350.8,  10.1458,  34.7801,2,  34.7808,2,    243.5,2,   243.4,2,    3.13,2,   13.25,2,    0.01,2,    0.97,2,   3.532,2,   1.976,2,   1.4230,2,  2125.1,2,  2297.9,2,   7.8819,2,    20.00,-999.000,9,-999.000,9,-999.000,9,  10.1456,2,-999.000,9, -999.00,9, -999.00,-999.000,9,-999.000,   48.04,2,   16.16,2, -32.0387, 111.7585,-999.000,-999.000,20090510,       1025
33RR20090320,        I05,     185,          2,         26,         26,2,20090510,       0831,   -32.0392,   111.7592,       5014,   399.1,   9.7377,  34.7335,2,  34.7337,2,    240.7,2,   242.2,2,    3.85,2,   14.73,2,    0.01,2,    1.05,2,   3.621,2,   1.995,2,   1.3080,2,  2127.5,2,  2293.7,2,   7.8667,2,    20.00,-999.000,9,-999.000,9,-999.000,9,   9.7360,2,   1.143,2,   44.17,2,     3.2,-999.000,9,-999.000,   47.09,2,   18.14,2, -32.0388, 111.7586,-999.000,-999.000,20090510,       1022
33RR20090320,        I05,     185,          2,         25,         25,2,20090510,       0831,   -32.0392,   111.7592,       5014,   498.5,   9.1371,  34.6615,2,  34.6626,2,    239.9,2,   239.8,2,    4.74,2,   16.71,2,    0.01,2,    1.18,2,   3.661,2,   1.981,2,   1.2150,2,  2128.9,2,  2292.1,2,   7.8488,2,    20.00,-999.000,9,-999.000,9,-999.000,9,   9.1356,2,   1.141,2,   34.13,2,     2.7,-999.000,9,-999.000,   46.02,2,   19.33,2, -32.0388, 111.7586,-999.000,-999.000,20090510,       1020
33RR20090320,        I05,     185,          2,         24,         24,2,20090510,       0831,   -32.0392,   111.7592,       5014,   597.9,   8.1910,  34.5503,2,  34.5514,2,    225.7,2,   224.1,2,    8.44,2,   20.64,2,    0.01,2,    1.43,2,   3.222,2,   1.684,2,   0.9020,2,  2143.6,2,  2288.9,2,   7.8081,2,    20.00,-999.000,9,-999.000,9,-999.000,9,   8.1838,2,   1.117,2,   13.32,2,     3.4,-999.000,9,-999.000,   43.37,2,   23.20,2, -32.0388, 111.7586,-999.000,-999.000,20090510,       1016
33RR20090320,        I05,     185,          2,         23,         23,2,20090510,       0831,   -32.0392,   111.7592,       5014,   697.6,   6.7355,  34.4487,2,  34.4501,2,    200.0,2,   200.1,2,   17.53,2,   26.01,2,    0.01,2,    1.81,2,   2.197,2,   1.105,2,   0.4360,2,  2169.4,2,  2291.6,2,   7.7433,2,    20.00,-999.000,9,-999.000,9,-999.000,9,   6.7296,2,    1.02,2,  -20.77,2,     2.7,-999.000,9,-999.000,   42.58,2,   28.33,2, -32.0388, 111.7585,-999.000,-999.000,20090510,       1013
33RR20090320,        I05,     185,          2,         22,         22,2,20090510,       0831,   -32.0392,   111.7592,       5014,   798.8,   5.3676,  34.3935,2,  34.3953,2,    194.5,2,   194.2,2,   27.91,2,   29.35,2,    0.01,2,    2.05,2,   1.619,2,   0.794,2,   0.2590,2,  2189.9,2,  2298.6,2,   7.7057,2,    20.00,-999.000,9,-999.000,9,-999.000,9,   5.3696,2,   0.942,2,  -65.17,2,     2.5,-999.000,9,-999.000,   41.79,2,   32.13,2, -32.0388, 111.7585,-999.000,-999.000,20090510,       1010
33RR20090320,        I05,     185,          2,         21,         21,2,20090510,       0831,   -32.0392,   111.7592,       5014,   899.4,   4.3920,  34.3878,2,  34.3897,2,    188.7,2,   188.5,2,   39.75,2,   31.58,2,    0.00,2,    2.23,2,   1.183,6,   0.567,6,   0.1400,6,  2210.3,2,  2306.5,2,   7.6788,2,    20.00,-999.000,9,-999.000,9,-999.000,9,   4.3934,2,   0.817,2,  -93.77,2,     2.3,-999.000,9,-999.000,   41.07,2,   33.10,2, -32.0387, 111.7584,-999.000,-999.000,20090510,       1007
33RR20090320,        I05,     185,          2,         20,         20,2,20090510,       0831,   -32.0392,   111.7592,       5014,  1001.3,   3.8217,  34.4277,2,  34.4309,2,    171.8,2,   175.0,2,   52.33,2,   33.19,2,    0.00,2,    2.36,2,   0.727,2,   0.345,2,   0.0930,2,  2229.5,2,  2318.4,2,   7.6545,2,    20.00,-999.000,9,-999.000,9,-999.000,9,   3.8211,2,   0.723,2, -127.65,2,     2.8,-999.000,9,-999.000,   40.26,2,   34.65,2, -32.0386, 111.7584,-999.000,-999.000,20090510,       1004
33RR20090320,        I05,     185,          2,         19,         19,2,20090510,       0831,   -32.0392,   111.7592,       5014,  1099.1,   3.6274,  34.4892,2,  34.4904,2,    160.4,2,   159.2,2,   64.58,2,   34.41,2,    0.00,2,    2.47,2,   0.358,2,   0.172,2,   0.0320,2,  2248.1,2,  2331.1,2,   7.6359,2,    20.00,-999.000,9,-999.000,9,-999.000,9,   3.6268,2,   0.561,2, -140.44,2,     2.3,-999.000,9,-999.000,   40.14,2,   36.19,2, -32.0386, 111.7584,-999.000,-999.000,20090510,       1002
33RR20090320,        I05,     185,          2,         18,         18,2,20090510,       0831,   -32.0392,   111.7592,       5014,  1200.4,   3.3037,  34.5149,2,  34.5138,2,    158.7,2,   159.1,2,   69.01,2,   34.57,2,    0.00,2,    2.47,2,   0.250,2,   0.119,2,   0.0000,2,  2253.0,2,  2336.8,2,   7.6322,2,    20.00,-999.000,9,-999.000,9,-999.000,9,   3.3055,2,   0.563,2, -156.95,2,     2.4,-999.000,9,-999.000,   39.98,2,   36.30,2, -32.0386, 111.7584,-999.000,-999.000,20090510,       0959
33RR20090320,        I05,     185,          2,         17,         17,2,20090510,       0831,   -32.0392,   111.7592,       5014,  1300.8,   3.1180,  34.5462,2,  34.5479,2,    158.9,2,   156.6,2,   73.63,2,   34.67,2,    0.00,2,    2.49,2,   0.155,2,   0.076,2,   0.0000,2,  2258.9,2,  2340.8,2,   7.6302,2,    20.00,-999.000,9,-999.000,9,-999.000,9,   3.1173,2,   0.494,2, -158.22,2,     2.3,-999.000,9,-999.000,   39.45,2,   36.33,2, -32.0386, 111.7584,-999.000,-999.000,20090510,       0957
33RR20090320,        I05,     185,          2,         16,         16,2,20090510,       0831,   -32.0392,   111.7592,       5014,  1401.8,   2.9832,  34.5884,2,  34.5892,2,    153.9,2,   153.8,2,   79.94,2,   34.61,2,    0.00,2,    2.49,2,   0.075,2,   0.037,2,   0.0000,2,  2266.3,2,  2347.6,2,   7.6292,2,    20.00,-999.000,9,-999.000,9,-999.000,9,   2.9819,2,   0.488,2, -157.46,2,     2.4,-999.000,9,-999.000,   39.17,2,   36.31,2, -32.0386, 111.7585,-999.000,-999.000,20090510,       0954
33RR20090320,        I05,     185,          2,         15,         15,2,20090510,       0831,   -32.0392,   111.7592,       5014,  1597.6,   2.7268,  34.6339,2,  34.6336,2,    158.5,2,   158.0,2,   84.20,2,   34.15,2,    0.00,2,    2.44,2,   0.041,2,   0.021,2,   0.0000,2,  2267.8,6,  2352.3,2,   7.6373,2,    20.00,-999.000,9,-999.000,9,-999.000,9,   2.7290,2,   0.438,2, -161.74,2,     2.7,-999.000,9,-999.000,   38.94,2,   36.19,2, -32.0386, 111.7587,-999.000,-999.000,20090510,       0950
33RR20090320,        I05,     185,          2,         14,         14,2,20090510,       0831,   -32.0392,   111.7592,       5014,  1799.2,   2.5307,  34.6796,2,  34.6798,2,    161.5,2,   161.4,2,   90.92,2,   33.58,2,    0.00,2,    2.40,2,   0.018,2,   0.009,2,   0.0000,2,  2271.4,2,  2360.6,2,   7.6469,2,    20.00,-999.000,9,-999.000,9,-999.000,9,   2.5303,2,-999.000,9, -999.00,9, -999.00,-999.000,9,-999.000,   38.95,2,   35.28,2, -32.0387, 111.7587,-999.000,-999.000,20090510,       0946
33RR20090320,        I05,     185,          2,         13,         13,2,20090510,       0831,   -32.0392,   111.7592,       5014,  1992.3,   2.3499,  34.7074,2,  34.7081,2,    165.3,2,   165.8,2,   96.71,2,   33.18,2,    0.00,2,    2.37,2,   0.009,2,   0.004,2,   0.0000,2,  2274.1,2,  2365.9,2,   7.6567,2,    20.00,-999.000,9,-999.000,9,-999.000,9,   2.3501,2,-999.000,9, -999.00,9, -999.00,-999.000,9,-999.000,   38.80,2,   34.36,2, -32.0387, 111.7588,-999.000,-999.000,20090510,       0942
33RR20090320,        I05,     185,          2,         12,         12,2,20090510,       0831,   -32.0392,   111.7592,       5014,  2253.1,   2.1327,  34.7242,2,  34.7256,2,    170.5,2,   170.4,2,  102.90,2,   32.84,2,    0.00,2,    2.34,2,   0.006,2,   0.004,2,   0.0000,2,  2276.0,2,  2372.3,2,   7.6657,2,    20.00,-999.000,9,-999.000,9,-999.000,9,   2.1323,2,-999.000,9, -999.00,9, -999.00,-999.000,9,-999.000,   39.30,2,   34.42,2, -32.0388, 111.7588,-999.000,-999.000,20090510,       0936
33RR20090320,        I05,     185,          2,         11,         11,2,20090510,       0831,   -32.0392,   111.7592,       5014,  2499.2,   1.9466,  34.7302,2,  34.7302,2,    175.0,2,   175.2,2,  106.84,2,   32.61,2,    0.00,2,    2.32,2,   0.005,6,   0.004,6,   0.0000,6,  2276.8,2,  2374.5,2,   7.6723,2,    20.00,-999.000,9,-999.000,9,-999.000,9,   1.9473,2,-999.000,9, -999.00,9, -999.00,-999.000,9,-999.000,   39.08,2,   34.25,2, -32.0388, 111.7589,-999.000,-999.000,20090510,       0931
33RR20090320,        I05,     185,          2,         10,         10,2,20090510,       0831,   -32.0392,   111.7592,       5014,  2752.6,   1.7830,  34.7305,2,  34.7306,2,    178.8,2,   178.2,2,  111.54,2,   32.77,2,    0.00,2,    2.32,2,   0.005,2,   0.003,2,   0.0000,2,  2280.0,2,  2379.3,2,   7.6763,2,    20.00,-999.000,9,-999.000,9,-999.000,9,   1.7834,2,-999.000,9, -999.00,9, -999.00,-999.000,9,-999.000,   39.26,2,   34.42,2, -32.0389, 111.7589,-999.000,-999.000,20090510,       0925
33RR20090320,        I05,     185,          2,          9,          9,2,20090510,       0831,   -32.0392,   111.7592,       5014,  2999.3,   1.6262,  34.7297,2,  34.7292,2,    183.1,2,   183.1,2,  114.15,2,   32.54,2,    0.00,2,    2.31,2,   0.003,2,   0.002,2,   0.0000,2,  2277.6,2,  2379.3,2,   7.6809,2,    20.00,-999.000,9,-999.000,9,-999.000,9,   1.6263,2,-999.000,9, -999.00,9, -999.00,-999.000,9,-999.000,   39.12,2,   34.61,2, -32.0389, 111.7590,-999.000,-999.000,20090510,       0920
33RR20090320,        I05,     185,          2,          8,          8,2,20090510,       0831,   -32.0392,   111.7592,       5014,  3299.7,   1.4857,  34.7264,2,  34.7265,2,    185.7,2,   185.9,2,  118.12,2,   32.64,2,    0.00,2,    2.31,2,   0.004,2,   0.002,2,   0.0000,2,  2279.6,2,  2383.0,2,   7.6838,2,    20.00,-999.000,9,-999.000,9,-999.000,9,   1.4860,2,-999.000,9, -999.00,9, -999.00,-999.000,9,-999.000,   39.83,2,   33.85,2, -32.0391, 111.7591,-999.000,-999.000,20090510,       0913
33RR20090320,        I05,     185,          2,          7,          7,2,20090510,       0831,   -32.0392,   111.7592,       5014,  3598.6,   1.3453,  34.7219,2,  34.7224,2,    188.5,2,   188.9,2,  121.89,2,   32.69,2,    0.00,2,    2.31,2,   0.004,2,   0.002,2,   0.0000,2,  2281.3,2,  2384.8,2,   7.6868,2,    20.00,-999.000,9,-999.000,9,-999.000,9,   1.3453,2,-999.000,9, -999.00,9, -999.00,-999.000,9,-999.000,   39.57,2,   34.44,2, -32.0391, 111.7592,-999.000,-999.000,20090510,       0907
33RR20090320,        I05,     185,          2,          6,          6,2,20090510,       0831,   -32.0392,   111.7592,       5014,  3903.0,   1.2574,  34.7189,2,  34.7194,2,    192.7,2,   192.3,2,  123.57,2,   32.68,2,    0.00,2,    2.30,2,   0.004,2,   0.002,2,   0.0000,2,  2279.9,2,  2386.3,2,   7.6900,2,    20.00,-999.000,9,-999.000,9,-999.000,9,   1.2575,2,-999.000,9, -999.00,9, -999.00,-999.000,9,-999.000,   39.86,2,   34.50,2, -32.0391, 111.7592,-999.000,-999.000,20090510,       0901
33RR20090320,        I05,     185,          2,          5,          5,2,20090510,       0831,   -32.0392,   111.7592,       5014,  4207.1,   1.2009,  34.7162,2,  34.7161,2,    195.0,2,   195.1,2,  124.87,2,   32.61,2,    0.00,2,    2.30,2,   0.005,2,   0.002,2,   0.0000,2,  2279.8,2,  2387.2,2,   7.6926,2,    20.00,-999.000,9,-999.000,9,-999.000,9,   1.2005,2,-999.000,9, -999.00,9, -999.00,-999.000,9,-999.000,   39.69,2,   34.48,2, -32.0390, 111.7592,-999.000,-999.000,20090510,       0854
33RR20090320,        I05,     185,          2,          4,          4,2,20090510,       0831,   -32.0392,   111.7592,       5014,  4524.9,   1.1542,  34.7139,2,  34.7144,2,    198.4,2,   198.0,2,  124.45,2,   32.50,2,    0.00,2,    2.29,2,   0.009,2,   0.004,2,   0.0000,2,  2276.8,2,  2383.5,2,   7.6933,2,    20.00,-999.000,9,-999.000,9,-999.000,9,   1.1546,2,-999.000,9, -999.00,9, -999.00,-999.000,9,-999.000,   39.95,2,   34.23,2, -32.0390, 111.7592,-999.000,-999.000,20090510,       0847
33RR20090320,        I05,     185,          2,          3,          3,2,20090510,       0831,   -32.0392,   111.7592,       5014,  4729.0,   1.1100,  34.7119,2,  34.7118,2,    201.6,2,   201.3,2,  123.83,2,   32.32,2,    0.00,2,    2.28,2,   0.014,2,   0.007,2,   0.0000,2,  2272.4,2,  2379.6,2,   7.6929,2,    20.00,-999.000,9,-999.000,9,-999.000,9,   1.1100,2,-999.000,9, -999.00,9, -999.00,-999.000,9,-999.000,   39.88,2,   34.00,2, -32.0391, 111.7592,-999.000,-999.000,20090510,       0841
33RR20090320,        I05,     185,          2,          2,          2,2,20090510,       0831,   -32.0392,   111.7592,       5014,  4951.5,   1.0592,  34.7097,2,  34.7095,2,    205.4,2,   205.2,2,  123.40,2,   32.20,2,    0.00,2,    2.27,2,   0.024,2,   0.015,2,   0.0000,2,  2270.0,2,  2378.0,2,   7.6921,2,    20.00,-999.000,9,-999.000,9,-999.000,9,   1.0594,2,-999.000,9, -999.00,9, -999.00,-999.000,9,-999.000,   39.92,2,   33.85,2, -32.0391, 111.7592,-999.000,-999.000,20090510,       0836
33RR20090320,        I05,     185,          2,          1,          1,2,20090510,       0831,   -32.0392,   111.7592,       5014,  5094.7,   1.0484,  34.7085,2,  34.7083,2,    205.6,2,   205.6,2,  123.74,2,   32.09,2,    0.00,2,    2.27,2,   0.039,6,   0.021,6,   0.0000,6,  2271.2,6,  2375.8,2,   7.6913,2,    20.00,-999.000,9,-999.000,9,-999.000,9,   1.0485,2,-999.000,9, -999.00,9, -999.00,-999.000,9,-999.000,   39.99,2,   33.29,2, -32.0392, 111.7592,-999.000,-999.000,20090510,       0831