BOTTLE,20220814CCHSIOAMB
EXPOCODE,SECT_ID,STNNBR,CASTNO,SAMPNO,BTLNBR,BTLNBR_FLAG_W,DATE,TIME,LATITUDE,LONGITUDE,DEPTH,CTDPRS,CTDTMP,CTDSAL,CTDSAL_FLAG_W,SALNTY,SALNTY_FLAG_W,CTDOXY,CTDOXY_FLAG_W,OXYGEN,OXYGEN_FLAG_W,SILCAT,SILCAT_FLAG_W,NITRAT,NITRAT_FLAG_W,NITRIT,NITRIT_FLAG_W,PHSPHT,PHSPHT_FLAG_W,CFC-11,CFC-11_FLAG_W,CFC-12,CFC-12_FLAG_W,SF6,SF6_FLAG_W,TCARBN,TCARBN_FLAG_W,ALKALI,ALKALI_FLAG_W,PH_TOT,PH_TOT_FLAG_W,PH_TMP,TRITUM,TRITUM_FLAG_W,HELIUM,HELIUM_FLAG_W,DELHE3,DELHE3_FLAG_W,REFTMP,REFTMP_FLAG_W,DELC13,DELC13_FLAG_W,DELC14,DELC14_FLAG_W,C14ERR,NEON,NEON_FLAG_W,NEONER,DOC,DOC_FLAG_W,TDN,TDN_FLAG_W,BTL_LAT,BTL_LON,HELIER,DELHER,BTL_DATE,BTL_TIME
,,,,,,,,,,,METERS,DBAR,ITS-90,PSS-78,,PSS-78,,UMOL/KG,,UMOL/KG,,UMOL/KG,,UMOL/KG,,UMOL/KG,,UMOL/KG,,PMOL/KG,,PMOL/KG,,FMOL/KG,,UMOL/KG,,UMOL/KG,,,,DEG C,TU,,NMOL/KG,,PERCNT,,DEG C,,/MILLE,,/MILLE,,/MILLE,NMOL/KG,,NMOL/KG,UMOL/KG,,UMOL/KG,,,,NMOL/KG,PERCNT,,
33RR20090320,        I05,      46,          1,         36,         36,2,20090403,       0853,   -33.3073,    46.8374,       3007,     5.5,  22.7976,  35.6213,2,  35.6206,2,    217.6,2,   218.2,2,    0.64,2,    0.17,2,    0.00,2,    0.07,2,-999.000,9,-999.000,9,-999.0000,9,  2032.0,6,  2331.7,2,   8.1220,2,    20.00,-999.000,9,-999.000,9,-999.000,9,  22.7958,2,-999.000,9, -999.00,9, -999.00,-999.000,9,-999.000, -999.00,9, -999.00,9, -33.3070,  46.8370,-999.000,-999.000,20090403,       1034
33RR20090320,        I05,      46,          1,         35,         35,2,20090403,       0853,   -33.3073,    46.8374,       3007,    19.6,  22.7983,  35.6207,2,  35.6200,2,    218.4,2,   218.5,2,    0.78,2,    0.18,2,    0.00,2,    0.07,2,-999.000,9,-999.000,9,-999.0000,9,  2030.8,2,  2333.8,2,   8.1214,2,    20.00,-999.000,9,-999.000,9,-999.000,9,  22.7971,2,-999.000,9, -999.00,9, -999.00,-999.000,9,-999.000, -999.00,9, -999.00,9, -33.3070,  46.8370,-999.000,-999.000,20090403,       1033
33RR20090320,        I05,      46,          1,         34,         34,2,20090403,       0853,   -33.3073,    46.8374,       3007,    40.8,  22.6715,  35.5948,2,  35.5977,2,    219.0,2,   218.7,2,    0.71,2,    0.18,2,    0.00,2,    0.07,2,-999.000,9,-999.000,9,-999.0000,9,  2030.2,2,  2333.2,2,   8.1219,2,    20.00,-999.000,9,-999.000,9,-999.000,9,  22.6736,2,-999.000,9, -999.00,9, -999.00,-999.000,9,-999.000, -999.00,9, -999.00,9, -33.3069,  46.8370,-999.000,-999.000,20090403,       1031
33RR20090320,        I05,      46,          1,         33,         33,2,20090403,       0853,   -33.3073,    46.8374,       3007,    64.9,  19.6383,  35.5825,2,  35.5829,2,    237.6,2,   238.0,2,    0.84,2,    0.13,2,    0.00,2,    0.12,2,-999.000,9,-999.000,9,-999.0000,9,  2044.6,2,  2330.3,2,   8.0953,2,    20.00,-999.000,9,-999.000,9,-999.000,9,  19.6420,2,-999.000,9, -999.00,9, -999.00,-999.000,9,-999.000, -999.00,9, -999.00,9, -33.3071,  46.8370,-999.000,-999.000,20090403,       1029
33RR20090320,        I05,      46,          1,         32,         32,2,20090403,       0853,   -33.3073,    46.8374,       3007,    89.3,  17.7328,  35.5608,2,  35.5605,2,    235.8,2,   233.5,2,    1.16,2,    0.18,2,    0.02,2,    0.17,2,-999.000,9,-999.000,9,-999.0000,9,  -999.0,9,  -999.0,9,-999.0000,9,  -999.00,-999.000,9,-999.000,9,-999.000,9,  17.7287,2,-999.000,9, -999.00,9, -999.00,-999.000,9,-999.000, -999.00,9, -999.00,9, -33.3070,  46.8371,-999.000,-999.000,20090403,       1027
33RR20090320,        I05,      46,          1,         31,         31,2,20090403,       0853,   -33.3073,    46.8374,       3007,   114.4,  17.0897,  35.5518,2,  35.5528,2,    223.8,2,   222.7,2,    1.48,2,    1.71,2,    0.02,2,    0.27,2,-999.000,9,-999.000,9,-999.0000,9,  2072.2,2,  2327.5,2,   8.0413,2,    20.00,-999.000,9,-999.000,9,-999.000,9,  17.0863,2,-999.000,9, -999.00,9, -999.00,-999.000,9,-999.000, -999.00,9, -999.00,9, -33.3070,  46.8370,-999.000,-999.000,20090403,       1026
33RR20090320,        I05,      46,          1,         30,         30,2,20090403,       0853,   -33.3073,    46.8374,       3007,   138.6,  16.7801,  35.5472,2,  35.5465,2,    220.4,2,   222.4,2,    2.01,2,    3.24,2,    0.01,2,    0.33,2,-999.000,9,-999.000,9,-999.0000,9,  -999.0,9,  -999.0,9,-999.0000,9,  -999.00,-999.000,9,-999.000,9,-999.000,9,  16.7746,2,-999.000,9, -999.00,9, -999.00,-999.000,9,-999.000, -999.00,9, -999.00,9, -33.3070,  46.8369,-999.000,-999.000,20090403,       1023
33RR20090320,        I05,      46,          1,         29,         29,2,20090403,       0853,   -33.3073,    46.8374,       3007,   165.3,  16.6368,  35.5425,2,  35.5429,2,    220.8,2,   221.8,2,    1.94,2,    3.58,2,    0.00,2,    0.35,2,-999.000,9,-999.000,9,-999.0000,9,  2078.0,2,  2327.0,2,   8.0306,2,    20.00,-999.000,9,-999.000,9,-999.000,9,  16.6407,2,-999.000,9, -999.00,9, -999.00,-999.000,9,-999.000, -999.00,9, -999.00,9, -33.3070,  46.8368,-999.000,-999.000,20090403,       1021
33RR20090320,        I05,      46,          1,         28,         28,2,20090403,       0853,   -33.3073,    46.8374,       3007,   189.1,  16.4711,  35.5352,2,  35.5350,2,    220.4,2,   220.8,2,    2.07,2,    3.91,2,    0.00,2,    0.37,2,-999.000,9,-999.000,9,-999.0000,9,  -999.0,9,  -999.0,9,-999.0000,9,  -999.00,-999.000,9,-999.000,9,-999.000,9,  16.4711,2,-999.000,9, -999.00,9, -999.00,-999.000,9,-999.000, -999.00,9, -999.00,9, -33.3070,  46.8369,-999.000,-999.000,20090403,       1019
33RR20090320,        I05,      46,          1,         27,         27,2,20090403,       0853,   -33.3073,    46.8374,       3007,   216.1,  16.2610,  35.5208,2,  35.5208,2,    219.7,2,   220.3,2,    2.20,2,    4.30,2,    0.00,2,    0.40,2,-999.000,9,-999.000,9,-999.0000,9,  2084.4,2,  2327.2,2,   8.0182,2,    20.00,-999.000,9,-999.000,9,-999.000,9,  16.2741,2,-999.000,9, -999.00,9, -999.00,-999.000,9,-999.000, -999.00,9, -999.00,9, -33.3070,  46.8369,-999.000,-999.000,20090403,       1017
33RR20090320,        I05,      46,          1,         26,         26,2,20090403,       0853,   -33.3073,    46.8374,       3007,   238.7,  16.0548,  35.5067,2,  35.5067,2,    219.3,2,   219.3,2,    2.33,2,    4.58,2,    0.00,2,    0.42,2,-999.000,9,-999.000,9,-999.0000,9,  -999.0,9,  -999.0,9,-999.0000,9,  -999.00,-999.000,9,-999.000,9,-999.000,9,  16.0526,2,-999.000,9, -999.00,9, -999.00,-999.000,9,-999.000, -999.00,9, -999.00,9, -33.3072,  46.8369,-999.000,-999.000,20090403,       1015
33RR20090320,        I05,      46,          1,         25,         25,2,20090403,       0853,   -33.3073,    46.8374,       3007,   284.6,  15.4000,  35.4628,2,  35.4623,2,    217.5,2,   217.8,2,    2.46,2,    5.56,2,    0.00,2,    0.49,2,-999.000,9,-999.000,9,-999.0000,9,  2095.9,2,  2323.9,2,   7.9916,2,    20.00,-999.000,9,-999.000,9,-999.000,9,  15.4001,2,-999.000,9, -999.00,9, -999.00,-999.000,9,-999.000, -999.00,9, -999.00,9, -33.3073,  46.8371,-999.000,-999.000,20090403,       1012
33RR20090320,        I05,      46,          1,         24,         24,2,20090403,       0853,   -33.3073,    46.8374,       3007,   333.6,  14.8860,  35.4246,2,  35.4213,2,    218.6,2,   218.1,2,    2.39,2,    6.38,2,    0.00,2,    0.54,2,-999.000,9,-999.000,9,-999.0000,9,  -999.0,9,  -999.0,9,-999.0000,9,  -999.00,-999.000,9,-999.000,9,-999.000,9,  14.8852,2,-999.000,9, -999.00,9, -999.00,-999.000,9,-999.000, -999.00,9, -999.00,9, -33.3073,  46.8373,-999.000,-999.000,20090403,       1010
33RR20090320,        I05,      46,          1,         23,         23,2,20090403,       0853,   -33.3073,    46.8374,       3007,   383.8,  14.2627,  35.3729,2,  35.3725,2,    218.3,2,   218.3,2,    2.52,2,    7.48,2,    0.00,2,    0.61,2,-999.000,9,-999.000,9,-999.0000,9,  2108.0,2,  2320.1,2,   7.9618,2,    20.00,-999.000,9,-999.000,9,-999.000,9,  14.2655,2,-999.000,9, -999.00,9, -999.00,-999.000,9,-999.000, -999.00,9, -999.00,9, -33.3073,  46.8372,-999.000,-999.000,20090403,       1007
33RR20090320,        I05,      46,          1,         22,         22,2,20090403,       0853,   -33.3073,    46.8374,       3007,   434.2,  13.8008,  35.3271,2,  35.3259,2,    222.7,2,   223.7,2,    2.66,2,    7.93,2,    0.00,2,    0.63,2,-999.000,9,-999.000,9,-999.0000,9,  -999.0,9,  -999.0,9,-999.0000,9,  -999.00,-999.000,9,-999.000,9,-999.000,9,  13.8015,2,-999.000,9, -999.00,9, -999.00,-999.000,9,-999.000, -999.00,9, -999.00,9, -33.3074,  46.8373,-999.000,-999.000,20090403,       1004
33RR20090320,        I05,      46,          1,         21,         21,2,20090403,       0853,   -33.3073,    46.8374,       3007,   479.3,  13.4184,  35.2860,2,  35.2810,2,    224.3,2,   225.0,2,    2.78,2,    8.69,2,    0.00,2,    0.68,2,-999.000,9,-999.000,9,-999.0000,9,  -999.0,9,  -999.0,9,-999.0000,9,  -999.00,-999.000,9,-999.000,9,-999.000,9,  13.4137,2,-999.000,9, -999.00,9, -999.00,-999.000,9,-999.000, -999.00,9, -999.00,9, -33.3074,  46.8374,-999.000,-999.000,20090403,       1002
33RR20090320,        I05,      46,          1,         20,         20,2,20090403,       0853,   -33.3073,    46.8374,       3007,   564.6,  12.8901,  35.2182,2,  35.2184,2,    229.9,2,   229.7,2,    2.91,2,    9.40,2,    0.00,2,    0.73,2,-999.000,9,-999.000,9,-999.0000,9,  2112.0,2,  2315.1,2,   7.9392,2,    20.00,-999.000,9,-999.000,9,-999.000,9,  12.8904,2,-999.000,9, -999.00,9, -999.00,-999.000,9,-999.000, -999.00,9, -999.00,9, -33.3074,  46.8374,-999.000,-999.000,20090403,       1000
33RR20090320,        I05,      46,          1,         19,         19,2,20090403,       0853,   -33.3073,    46.8374,       3007,   664.7,  12.0208,  35.0792,2,  35.0805,2,    225.9,2,   226.0,2,    3.43,2,   11.59,2,    0.00,2,    0.87,2,-999.000,9,-999.000,9,-999.0000,9,  -999.0,9,  -999.0,9,-999.0000,9,  -999.00,-999.000,9,-999.000,9,-999.000,9,  12.0202,2,-999.000,9, -999.00,9, -999.00,-999.000,9,-999.000, -999.00,9, -999.00,9, -33.3073,  46.8375,-999.000,-999.000,20090403,       0957
33RR20090320,        I05,      46,          1,         18,         18,2,20090403,       0853,   -33.3073,    46.8374,       3007,   763.7,  11.1641,  34.9598,2,  34.9571,2,    221.8,2,   221.2,2,    4.15,2,   13.77,2,    0.00,2,    1.01,2,-999.000,9,-999.000,9,-999.0000,9,  -999.0,9,  -999.0,9,-999.0000,9,  -999.00,-999.000,9,-999.000,9,-999.000,9,  11.1726,2,-999.000,9, -999.00,9, -999.00,-999.000,9,-999.000, -999.00,9, -999.00,9, -33.3074,  46.8374,-999.000,-999.000,20090403,       0954
33RR20090320,        I05,      46,          1,         17,         17,2,20090403,       0853,   -33.3073,    46.8374,       3007,   864.2,   9.9630,  34.7965,2,  34.7963,2,    216.1,2,   214.8,2,    6.63,2,   17.05,2,    0.00,2,    1.22,2,-999.000,9,-999.000,9,-999.0000,9,  -999.0,9,  -999.0,9,-999.0000,9,  -999.00,-999.000,9,-999.000,9,-999.000,9,   9.9684,2,-999.000,9, -999.00,9, -999.00,-999.000,9,-999.000, -999.00,9, -999.00,9, -33.3076,  46.8373,-999.000,-999.000,20090403,       0951
33RR20090320,        I05,      46,          1,         16,         16,2,20090403,       0853,   -33.3073,    46.8374,       3007,   964.6,   8.7572,  34.6630,2,  34.6608,2,    208.1,2,   208.1,2,   10.49,2,   20.61,2,    0.00,2,    1.46,2,-999.000,9,-999.000,9,-999.0000,9,  -999.0,9,  -999.0,9,-999.0000,9,  -999.00,-999.000,9,-999.000,9,-999.000,9,   8.7577,2,-999.000,9, -999.00,9, -999.00,-999.000,9,-999.000, -999.00,9, -999.00,9, -33.3075,  46.8373,-999.000,-999.000,20090403,       0947
33RR20090320,        I05,      46,          1,         15,         15,2,20090403,       0853,   -33.3073,    46.8374,       3007,  1066.0,   7.4693,  34.5478,2,  34.5479,2,    202.8,2,   202.9,2,   16.13,2,   24.06,2,    0.00,2,    1.70,2,-999.000,9,-999.000,9,-999.0000,9,  2165.0,2,  2295.5,2,   7.7709,2,    20.00,-999.000,9,-999.000,9,-999.000,9,   7.4579,2,-999.000,9, -999.00,9, -999.00,-999.000,9,-999.000, -999.00,9, -999.00,9, -33.3073,  46.8374,-999.000,-999.000,20090403,       0944
33RR20090320,        I05,      46,          1,         14,         14,2,20090403,       0853,   -33.3073,    46.8374,       3007,  1166.2,   5.9218,  34.4346,2,  34.4340,2,    201.5,2,   202.1,2,   23.76,2,   27.80,2,    0.00,2,    1.96,2,-999.000,9,-999.000,9,-999.0000,9,  -999.0,9,  -999.0,9,-999.0000,9,  -999.00,-999.000,9,-999.000,9,-999.000,9,   5.9180,2,-999.000,9, -999.00,9, -999.00,-999.000,9,-999.000, -999.00,9, -999.00,9, -33.3071,  46.8374,-999.000,-999.000,20090403,       0941
33RR20090320,        I05,      46,          1,         13,         13,2,20090403,       0853,   -33.3073,    46.8374,       3007,  1265.9,   4.8308,  34.4010,2,  34.3987,2,    196.3,2,   197.5,2,   32.79,2,   30.17,2,    0.00,2,    2.15,2,-999.000,9,-999.000,9,-999.0000,9,  -999.0,9,  -999.0,9,-999.0000,9,  -999.00,-999.000,9,-999.000,9,-999.000,9,   4.8307,2,-999.000,9, -999.00,9, -999.00,-999.000,9,-999.000, -999.00,9, -999.00,9, -33.3070,  46.8372,-999.000,-999.000,20090403,       0938
33RR20090320,        I05,      46,          1,         12,         12,2,20090403,       0853,   -33.3073,    46.8374,       3007,  1366.4,   4.2165,  34.4233,2,  34.4230,2,    186.7,2,   187.6,2,   42.85,2,   31.83,2,    0.00,2,    2.28,2,-999.000,9,-999.000,9,-999.0000,9,  -999.0,9,  -999.0,9,-999.0000,9,  -999.00,-999.000,9,-999.000,9,-999.000,9,   4.2126,2,-999.000,9, -999.00,9, -999.00,-999.000,9,-999.000, -999.00,9, -999.00,9, -33.3070,  46.8370,-999.000,-999.000,20090403,       0935
33RR20090320,        I05,      46,          1,         11,         11,2,20090403,       0853,   -33.3073,    46.8374,       3007,  1460.1,   3.8160,  34.4520,2,  34.4507,2,    181.7,2,   181.4,2,   50.16,2,   32.72,2,    0.00,2,    2.34,2,-999.000,9,-999.000,9,-999.0000,9,  -999.0,9,  -999.0,9,-999.0000,9,  -999.00,-999.000,9,-999.000,9,-999.000,9,   3.8183,2,-999.000,9, -999.00,9, -999.00,-999.000,9,-999.000, -999.00,9, -999.00,9, -33.3071,  46.8369,-999.000,-999.000,20090403,       0932
33RR20090320,        I05,      46,          1,         10,         10,2,20090403,       0853,   -33.3073,    46.8374,       3007,  1562.1,   3.5003,  34.4932,2,  34.4924,2,    176.5,2,   176.2,2,   57.28,2,   33.22,2,    0.00,2,    2.38,2,-999.000,9,-999.000,9,-999.0000,9,  -999.0,9,  -999.0,9,-999.0000,9,  -999.00,-999.000,9,-999.000,9,-999.000,9,   3.5000,2,-999.000,9, -999.00,9, -999.00,-999.000,9,-999.000, -999.00,9, -999.00,9, -33.3070,  46.8369,-999.000,-999.000,20090403,       0929
33RR20090320,        I05,      46,          1,          9,          9,2,20090403,       0853,   -33.3073,    46.8374,       3007,  1662.9,   3.2155,  34.5491,2,  34.5499,2,    173.4,2,   172.0,2,   65.21,2,   33.28,2,    0.00,2,    2.40,2,-999.000,9,-999.000,9,-999.0000,9,  2243.2,2,  2330.8,2,   7.6525,2,    20.00,-999.000,9,-999.000,9,-999.000,9,   3.2146,2,-999.000,9, -999.00,9, -999.00,-999.000,9,-999.000, -999.00,9, -999.00,9, -33.3070,  46.8369,-999.000,-999.000,20090403,       0926
33RR20090320,        I05,      46,          1,          8,          8,2,20090403,       0853,   -33.3073,    46.8374,       3007,  1763.9,   2.9929,  34.5927,2,  34.5925,2,    175.8,2,   175.1,2,   66.76,2,   32.89,2,    0.00,2,    2.36,2,-999.000,9,-999.000,9,-999.0000,9,  -999.0,9,  -999.0,9,-999.0000,9,  -999.00,-999.000,9,-999.000,9,-999.000,9,   2.9923,2,-999.000,9, -999.00,9, -999.00,-999.000,9,-999.000, -999.00,9, -999.00,9, -33.3070,  46.8371,-999.000,-999.000,20090403,       0923
33RR20090320,        I05,      46,          1,          7,          7,2,20090403,       0853,   -33.3073,    46.8374,       3007,  1935.3,   2.7606,  34.6776,2,  34.6776,2,    180.2,2,   180.4,2,   69.90,2,   31.51,2,    0.00,2,    2.26,2,-999.000,9,-999.000,9,-999.0000,9,  -999.0,9,  -999.0,9,-999.0000,9,  -999.00,-999.000,9,-999.000,9,-999.000,9,   2.7598,2,-999.000,9, -999.00,9, -999.00,-999.000,9,-999.000, -999.00,9, -999.00,9, -33.3071,  46.8371,-999.000,-999.000,20090403,       0919
33RR20090320,        I05,      46,          1,          6,          6,2,20090403,       0853,   -33.3073,    46.8374,       3007,  2131.0,   2.5044,  34.7199,2,  34.7199,2,    187.6,2,   188.0,2,   74.06,2,   30.58,2,    0.00,2,    2.19,2,-999.000,9,-999.000,9,-999.0000,9,  2242.4,2,  2344.5,2,   7.6862,2,    20.00,-999.000,9,-999.000,9,-999.000,9,   2.5038,2,-999.000,9, -999.00,9, -999.00,-999.000,9,-999.000, -999.00,9, -999.00,9, -33.3072,  46.8370,-999.000,-999.000,20090403,       0914
33RR20090320,        I05,      46,          1,          5,          5,2,20090403,       0853,   -33.3073,    46.8374,       3007,  2332.5,   2.2659,  34.7354,2,  34.7364,2,    190.4,2,   191.4,2,   80.64,2,   30.48,2,    0.00,2,    2.18,2,   0.052,2,   0.026,2,   0.0000,2,  -999.0,9,  -999.0,9,-999.0000,9,  -999.00,-999.000,9,-999.000,9,-999.000,9,   2.2646,2,-999.000,9, -999.00,9, -999.00,-999.000,9,-999.000, -999.00,9, -999.00,9, -33.3075,  46.8369,-999.000,-999.000,20090403,       0910
33RR20090320,        I05,      46,          1,          4,          4,2,20090403,       0853,   -33.3073,    46.8374,       3007,  2535.4,   2.1055,  34.7478,2,  34.7484,2,    194.4,2,   194.9,2,   84.81,2,   30.25,2,    0.00,2,    2.17,2,   0.040,2,   0.021,2,   0.0440,2,  -999.0,9,  -999.0,9,-999.0000,9,  -999.00,-999.000,9,-999.000,9,-999.000,9,   2.1051,2,-999.000,9, -999.00,9, -999.00,-999.000,9,-999.000, -999.00,9, -999.00,9, -33.3073,  46.8372,-999.000,-999.000,20090403,       0905
33RR20090320,        I05,      46,          1,          3,          3,2,20090403,       0853,   -33.3073,    46.8374,       3007,  2737.5,   1.9541,  34.7492,2,  34.7500,2,    195.8,2,   195.9,2,   90.59,2,   30.43,2,    0.00,2,    2.18,2,   0.034,2,   0.018,2,   0.0510,2,  -999.0,9,  -999.0,9,-999.0000,9,  -999.00,-999.000,9,-999.000,9,-999.000,9,   1.9551,2,-999.000,9, -999.00,9, -999.00,-999.000,9,-999.000, -999.00,9, -999.00,9, -33.3074,  46.8372,-999.000,-999.000,20090403,       0900
33RR20090320,        I05,      46,          1,          2,          2,2,20090403,       0853,   -33.3073,    46.8374,       3007,  2919.3,   1.7831,  34.7490,2,  34.7496,2,    196.8,2,   197.2,2,   96.20,2,   30.70,2,    0.00,2,    2.20,2,   0.030,2,   0.015,2,   0.0380,2,  2252.9,2,  2359.0,2,   7.6974,2,    20.00,-999.000,9,-999.000,9,-999.000,9,   1.7828,2,-999.000,9, -999.00,9, -999.00,-999.000,9,-999.000, -999.00,9, -999.00,9, -33.3073,  46.8372,-999.000,-999.000,20090403,       0856
33RR20090320,        I05,      46,          1,          1,          1,2,20090403,       0853,   -33.3073,    46.8374,       3007,  3036.9,   1.6197,  34.7423,2,  34.7429,2,    199.6,2,   199.0,2,  100.80,2,   30.88,2,    0.00,2,    2.21,2,   0.032,6,   0.017,6,   0.0150,6,  2257.8,6,  2360.7,2,   7.6963,2,    20.00,-999.000,9,-999.000,9,-999.000,9,   1.6181,2,-999.000,9, -999.00,9, -999.00,-999.000,9,-999.000, -999.00,9, -999.00,9, -33.3073,  46.8374,-999.000,-999.000,20090403,       0853