BOTTLE,20220814CCHSIOAMB
EXPOCODE,SECT_ID,STNNBR,CASTNO,SAMPNO,BTLNBR,BTLNBR_FLAG_W,DATE,TIME,LATITUDE,LONGITUDE,DEPTH,CTDPRS,CTDTMP,CTDSAL,CTDSAL_FLAG_W,SALNTY,SALNTY_FLAG_W,CTDOXY,CTDOXY_FLAG_W,OXYGEN,OXYGEN_FLAG_W,SILCAT,SILCAT_FLAG_W,NITRAT,NITRAT_FLAG_W,NITRIT,NITRIT_FLAG_W,PHSPHT,PHSPHT_FLAG_W,CFC-11,CFC-11_FLAG_W,CFC-12,CFC-12_FLAG_W,SF6,SF6_FLAG_W,TCARBN,TCARBN_FLAG_W,ALKALI,ALKALI_FLAG_W,PH_TOT,PH_TOT_FLAG_W,PH_TMP,TRITUM,TRITUM_FLAG_W,HELIUM,HELIUM_FLAG_W,DELHE3,DELHE3_FLAG_W,REFTMP,REFTMP_FLAG_W,DELC13,DELC13_FLAG_W,DELC14,DELC14_FLAG_W,C14ERR,NEON,NEON_FLAG_W,NEONER,DOC,DOC_FLAG_W,TDN,TDN_FLAG_W,BTL_LAT,BTL_LON,HELIER,DELHER,BTL_DATE,BTL_TIME
,,,,,,,,,,,METERS,DBAR,ITS-90,PSS-78,,PSS-78,,UMOL/KG,,UMOL/KG,,UMOL/KG,,UMOL/KG,,UMOL/KG,,UMOL/KG,,PMOL/KG,,PMOL/KG,,FMOL/KG,,UMOL/KG,,UMOL/KG,,,,DEG C,TU,,NMOL/KG,,PERCNT,,DEG C,,/MILLE,,/MILLE,,/MILLE,NMOL/KG,,NMOL/KG,UMOL/KG,,UMOL/KG,,,,NMOL/KG,PERCNT,,
33RR20090320,        I05,     184,          1,         36,         36,2,20090510,       0054,   -31.9272,   111.2055,       5048,     5.1,  20.3488,  35.9332,2,  35.9326,2,    224.7,2,   226.0,2,    1.93,2,    0.14,2,    0.00,2,    0.09,2,-999.000,9,-999.000,9,-999.0000,9,  2057.1,6,  2357.6,2,   8.1106,2,    20.00,-999.000,9,-999.000,9,-999.000,9,  20.3469,2,-999.000,9, -999.00,9, -999.00,-999.000,9,-999.000, -999.00,9, -999.00,9, -31.9279, 111.2052,-999.000,-999.000,20090510,       0301
33RR20090320,        I05,     184,          1,         35,         35,2,20090510,       0054,   -31.9272,   111.2055,       5048,    25.4,  20.3354,  35.9322,2,  35.9316,2,    227.9,2,   226.0,2,    1.87,2,    0.14,2,    0.00,2,    0.08,2,-999.000,9,-999.000,9,-999.0000,9,  -999.0,9,  -999.0,9,-999.0000,9,  -999.00,-999.000,9,-999.000,9,-999.000,9,  20.3379,2,-999.000,9, -999.00,9, -999.00,-999.000,9,-999.000, -999.00,9, -999.00,9, -31.9278, 111.2052,-999.000,-999.000,20090510,       0259
33RR20090320,        I05,     184,          1,         34,         34,2,20090510,       0054,   -31.9272,   111.2055,       5048,    45.1,  19.7910,  35.8997,2,  35.9048,2,    229.1,2,   228.2,2,    1.64,2,    0.14,2,    0.00,2,    0.09,2,-999.000,9,-999.000,9,-999.0000,9,  2059.2,2,  2358.0,2,   8.1052,2,    20.00,-999.000,9,-999.000,9,-999.000,9,  19.7878,2,-999.000,9, -999.00,9, -999.00,-999.000,9,-999.000, -999.00,9, -999.00,9, -31.9278, 111.2052,-999.000,-999.000,20090510,       0258
33RR20090320,        I05,     184,          1,         33,         33,2,20090510,       0054,   -31.9272,   111.2055,       5048,    69.3,  19.3237,  35.9049,2,  35.8935,2,    232.2,2,   231.6,2,    1.39,2,    0.14,2,    0.00,2,    0.10,2,-999.000,9,-999.000,9,-999.0000,9,  -999.0,9,  -999.0,9,-999.0000,9,  -999.00,-999.000,9,-999.000,9,-999.000,9,  19.3170,2,-999.000,9, -999.00,9, -999.00,-999.000,9,-999.000, -999.00,9, -999.00,9, -31.9278, 111.2052,-999.000,-999.000,20090510,       0256
33RR20090320,        I05,     184,          1,         32,         32,2,20090510,       0054,   -31.9272,   111.2055,       5048,    95.0,  17.7959,  35.8253,2,  35.8220,2,    242.6,2,   243.0,2,    1.16,2,    0.14,2,    0.00,2,    0.13,2,-999.000,9,-999.000,9,-999.0000,9,  -999.0,9,  -999.0,9,-999.0000,9,  -999.00,-999.000,9,-999.000,9,-999.000,9,  17.8004,2,-999.000,9, -999.00,9, -999.00,-999.000,9,-999.000, -999.00,9, -999.00,9, -31.9278, 111.2052,-999.000,-999.000,20090510,       0255
33RR20090320,        I05,     184,          1,         31,         31,2,20090510,       0054,   -31.9272,   111.2055,       5048,   140.4,  15.4464,  35.6249,2,  35.6322,2,    231.1,2,   233.7,2,    1.11,2,    1.81,2,    0.04,2,    0.26,2,-999.000,9,-999.000,9,-999.0000,9,  2090.2,2,  2343.4,2,   8.0268,2,    20.00,-999.000,9,-999.000,9,-999.000,9,  15.4520,2,-999.000,9, -999.00,9, -999.00,-999.000,9,-999.000, -999.00,9, -999.00,9, -31.9278, 111.2052,-999.000,-999.000,20090510,       0253
33RR20090320,        I05,     184,          1,         30,         30,2,20090510,       0054,   -31.9272,   111.2055,       5048,   189.7,  14.0548,  35.4357,2,  35.4389,2,    233.3,2,   233.0,2,    1.24,2,    4.63,2,    0.01,2,    0.42,2,-999.000,9,-999.000,9,-999.0000,9,  -999.0,9,  -999.0,9,-999.0000,9,  -999.00,-999.000,9,-999.000,9,-999.000,9,  14.0555,2,-999.000,9, -999.00,9, -999.00,-999.000,9,-999.000, -999.00,9, -999.00,9, -31.9278, 111.2052,-999.000,-999.000,20090510,       0251
33RR20090320,        I05,     184,          1,         29,         29,2,20090510,       0054,   -31.9272,   111.2055,       5048,   239.9,  12.8915,  35.2415,2,  35.2455,2,    241.2,2,   239.0,2,    1.54,2,    6.54,2,    0.01,2,    0.55,2,-999.000,9,-999.000,9,-999.0000,9,  -999.0,9,  -999.0,9,-999.0000,9,  -999.00,-999.000,9,-999.000,9,-999.000,9,  12.8908,2,-999.000,9, -999.00,9, -999.00,-999.000,9,-999.000, -999.00,9, -999.00,9, -31.9277, 111.2052,-999.000,-999.000,20090510,       0248
33RR20090320,        I05,     184,          1,         28,         28,2,20090510,       0054,   -31.9272,   111.2055,       5048,   289.6,  11.7656,  35.0367,2,  35.0371,2,    246.5,2,   245.8,2,    1.85,2,    8.74,2,    0.01,2,    0.68,2,-999.000,9,-999.000,9,-999.0000,9,  -999.0,9,  -999.0,9,-999.0000,9,  -999.00,-999.000,9,-999.000,9,-999.000,9,  11.7646,2,-999.000,9, -999.00,9, -999.00,-999.000,9,-999.000, -999.00,9, -999.00,9, -31.9277, 111.2053,-999.000,-999.000,20090510,       0246
33RR20090320,        I05,     184,          1,         27,         27,2,20090510,       0054,   -31.9272,   111.2055,       5048,   339.4,  10.7475,  34.8640,2,  34.8640,2,    247.3,2,   246.2,2,    2.34,2,   11.26,2,    0.00,2,    0.84,2,-999.000,9,-999.000,9,-999.0000,9,  2114.8,2,  2303.1,2,   7.9034,2,    20.00,-999.000,9,-999.000,9,-999.000,9,  10.7471,2,-999.000,9, -999.00,9, -999.00,-999.000,9,-999.000, -999.00,9, -999.00,9, -31.9276, 111.2053,-999.000,-999.000,20090510,       0244
33RR20090320,        I05,     184,          1,         26,         26,2,20090510,       0054,   -31.9272,   111.2055,       5048,   389.4,  10.1377,  34.7751,2,  34.7757,2,    243.9,2,   244.3,2,    3.03,2,   13.28,2,    0.01,2,    0.96,2,-999.000,9,-999.000,9,-999.0000,9,  -999.0,9,  -999.0,9,-999.0000,9,  -999.00,-999.000,9,-999.000,9,-999.000,9,  10.1366,2,-999.000,9, -999.00,9, -999.00,-999.000,9,-999.000, -999.00,9, -999.00,9, -31.9276, 111.2053,-999.000,-999.000,20090510,       0242
33RR20090320,        I05,     184,          1,         25,         25,2,20090510,       0054,   -31.9272,   111.2055,       5048,   468.6,   9.6193,  34.7199,2,  34.7206,2,    239.5,2,   241.2,2,    3.88,2,   15.31,2,    0.00,2,    1.08,2,-999.000,9,-999.000,9,-999.0000,9,  -999.0,9,  -999.0,9,-999.0000,9,  -999.00,-999.000,9,-999.000,9,-999.000,9,   9.6131,2,-999.000,9, -999.00,9, -999.00,-999.000,9,-999.000, -999.00,9, -999.00,9, -31.9276, 111.2053,-999.000,-999.000,20090510,       0239
33RR20090320,        I05,     184,          1,         24,         24,2,20090510,       0054,   -31.9272,   111.2055,       5048,   570.1,   9.0643,  34.6490,2,  34.6479,2,    239.0,2,   240.3,2,    4.74,2,   17.07,2,    0.00,2,    1.19,2,-999.000,9,-999.000,9,-999.0000,9,  -999.0,9,  -999.0,9,-999.0000,9,  -999.00,-999.000,9,-999.000,9,-999.000,9,   9.0627,2,-999.000,9, -999.00,9, -999.00,-999.000,9,-999.000, -999.00,9, -999.00,9, -31.9276, 111.2053,-999.000,-999.000,20090510,       0237
33RR20090320,        I05,     184,          1,         23,         23,2,20090510,       0054,   -31.9272,   111.2055,       5048,   669.6,   8.2983,  34.5570,2,  34.5566,2,    228.3,2,   227.1,2,    7.78,2,   20.19,2,    0.00,2,    1.40,2,-999.000,9,-999.000,9,-999.0000,9,  2139.6,2,  2290.7,2,   7.8135,2,    20.00,-999.000,9,-999.000,9,-999.000,9,   8.2964,2,-999.000,9, -999.00,9, -999.00,-999.000,9,-999.000, -999.00,9, -999.00,9, -31.9276, 111.2053,-999.000,-999.000,20090510,       0233
33RR20090320,        I05,     184,          1,         22,         22,2,20090510,       0054,   -31.9272,   111.2055,       5048,   769.6,   6.8521,  34.4543,2,  34.4541,2,    200.8,2,   201.2,2,   16.83,2,   25.86,2,    0.00,2,    1.78,2,-999.000,9,-999.000,9,-999.0000,9,  -999.0,9,  -999.0,9,-999.0000,9,  -999.00,-999.000,9,-999.000,9,-999.000,9,   6.8511,2,-999.000,9, -999.00,9, -999.00,-999.000,9,-999.000, -999.00,9, -999.00,9, -31.9276, 111.2053,-999.000,-999.000,20090510,       0231
33RR20090320,        I05,     184,          1,         21,         21,2,20090510,       0054,   -31.9272,   111.2055,       5048,   868.7,   5.2664,  34.3889,2,  34.3885,2,    193.3,2,   194.7,2,   28.39,2,   29.62,2,    0.00,2,    2.06,2,-999.000,9,-999.000,9,-999.0000,9,  -999.0,9,  -999.0,9,-999.0000,9,  -999.00,-999.000,9,-999.000,9,-999.000,9,   5.2670,2,-999.000,9, -999.00,9, -999.00,-999.000,9,-999.000, -999.00,9, -999.00,9, -31.9275, 111.2054,-999.000,-999.000,20090510,       0228
33RR20090320,        I05,     184,          1,         20,         20,2,20090510,       0054,   -31.9272,   111.2055,       5048,   969.0,   4.3793,  34.3970,2,  34.3979,2,    180.6,2,   184.5,2,   41.41,2,   31.94,2,    0.00,2,    2.25,2,-999.000,9,-999.000,9,-999.0000,9,  -999.0,9,  -999.0,9,-999.0000,9,  -999.00,-999.000,9,-999.000,9,-999.000,9,   4.3745,2,-999.000,9, -999.00,9, -999.00,-999.000,9,-999.000, -999.00,9, -999.00,9, -31.9275, 111.2054,-999.000,-999.000,20090510,       0225
33RR20090320,        I05,     184,          1,         19,         19,2,20090510,       0054,   -31.9272,   111.2055,       5048,  1069.9,   3.8738,  34.4447,2,  34.4439,2,    173.4,2,   169.5,2,   54.97,2,   33.60,2,    0.00,2,    2.38,2,-999.000,9,-999.000,9,-999.0000,9,  2230.4,2,  2321.8,2,   7.6497,2,    20.00,-999.000,9,-999.000,9,-999.000,9,   3.8716,2,-999.000,9, -999.00,9, -999.00,-999.000,9,-999.000, -999.00,9, -999.00,9, -31.9275, 111.2054,-999.000,-999.000,20090510,       0223
33RR20090320,        I05,     184,          1,         18,         18,2,20090510,       0054,   -31.9272,   111.2055,       5048,  1170.6,   3.4843,  34.4801,2,  34.4817,2,    165.7,2,   163.8,2,   63.29,2,   34.32,2,    0.00,2,    2.44,2,-999.000,9,-999.000,9,-999.0000,9,  -999.0,9,  -999.0,9,-999.0000,9,  -999.00,-999.000,9,-999.000,9,-999.000,9,   3.4820,2,-999.000,9, -999.00,9, -999.00,-999.000,9,-999.000, -999.00,9, -999.00,9, -31.9275, 111.2055,-999.000,-999.000,20090510,       0220
33RR20090320,        I05,     184,          1,         17,         17,2,20090510,       0054,   -31.9272,   111.2055,       5048,  1270.2,   3.2476,  34.5216,2,  34.5191,2,    158.8,2,   159.1,2,   69.61,2,   34.71,2,    0.00,2,    2.48,2,-999.000,9,-999.000,9,-999.0000,9,  -999.0,9,  -999.0,9,-999.0000,9,  -999.00,-999.000,9,-999.000,9,-999.000,9,   3.2505,2,-999.000,9, -999.00,9, -999.00,-999.000,9,-999.000, -999.00,9, -999.00,9, -31.9275, 111.2055,-999.000,-999.000,20090510,       0217
33RR20090320,        I05,     184,          1,         16,         16,2,20090510,       0054,   -31.9272,   111.2055,       5048,  1370.2,   3.0819,  34.5527,2,  34.5508,2,    157.2,2,   157.3,2,   73.94,2,   34.82,2,    0.00,2,    2.48,2,-999.000,9,-999.000,9,-999.0000,9,  -999.0,9,  -999.0,9,-999.0000,9,  -999.00,-999.000,9,-999.000,9,-999.000,9,   3.0817,2,-999.000,9, -999.00,9, -999.00,-999.000,9,-999.000, -999.00,9, -999.00,9, -31.9275, 111.2055,-999.000,-999.000,20090510,       0214
33RR20090320,        I05,     184,          1,         15,         15,2,20090510,       0054,   -31.9272,   111.2055,       5048,  1542.0,   2.8751,  34.6198,2,  34.6190,2,    154.1,2,   154.2,2,   83.76,2,   34.53,2,    0.00,2,    2.47,2,-999.000,9,-999.000,9,-999.0000,9,  2265.0,2,  2354.5,2,   7.6321,2,    20.00,-999.000,9,-999.000,9,-999.000,9,   2.8744,2,-999.000,9, -999.00,9, -999.00,-999.000,9,-999.000, -999.00,9, -999.00,9, -31.9275, 111.2055,-999.000,-999.000,20090510,       0210
33RR20090320,        I05,     184,          1,         14,         14,2,20090510,       0054,   -31.9272,   111.2055,       5048,  1742.4,   2.6578,  34.6724,2,  34.6738,2,    155.2,2,   155.6,2,   93.27,2,   34.25,2,    0.00,2,    2.45,2,-999.000,9,-999.000,9,-999.0000,9,  -999.0,9,  -999.0,9,-999.0000,9,  -999.00,-999.000,9,-999.000,9,-999.000,9,   2.6579,2,-999.000,9, -999.00,9, -999.00,-999.000,9,-999.000, -999.00,9, -999.00,9, -31.9276, 111.2055,-999.000,-999.000,20090510,       0206
33RR20090320,        I05,     184,          1,         13,         13,2,20090510,       0054,   -31.9272,   111.2055,       5048,  1942.2,   2.4290,  34.7041,2,  34.7033,2,    159.2,2,   158.5,2,  101.35,2,   33.80,2,    0.00,2,    2.42,2,   0.005,6,   0.003,6,   0.0000,6,  -999.0,9,  -999.0,9,-999.0000,9,  -999.00,-999.000,9,-999.000,9,-999.000,9,   2.4285,2,-999.000,9, -999.00,9, -999.00,-999.000,9,-999.000, -999.00,9, -999.00,9, -31.9275, 111.2056,-999.000,-999.000,20090510,       0202
33RR20090320,        I05,     184,          1,         12,         12,2,20090510,       0054,   -31.9272,   111.2055,       5048,  2173.9,   2.2143,  34.7196,2,  34.7186,2,    161.8,2,   162.5,2,  107.05,2,   33.62,2,    0.00,2,    2.41,2,-999.000,9,-999.000,9,-999.0000,9,  -999.0,9,  -999.0,9,-999.0000,9,  -999.00,-999.000,9,-999.000,9,-999.000,9,   2.2144,2,-999.000,9, -999.00,9, -999.00,-999.000,9,-999.000, -999.00,9, -999.00,9, -31.9275, 111.2056,-999.000,-999.000,20090510,       0157
33RR20090320,        I05,     184,          1,         11,         11,2,20090510,       0054,   -31.9272,   111.2055,       5048,  2423.3,   2.0459,  34.7274,2,  34.7269,2,    168.4,2,   172.3,2,  105.51,2,   32.84,2,    0.00,2,    2.34,2,-999.000,9,-999.000,9,-999.0000,9,  -999.0,9,  -999.0,9,-999.0000,9,  -999.00,-999.000,9,-999.000,9,-999.000,9,   2.0451,2,-999.000,9, -999.00,9, -999.00,-999.000,9,-999.000, -999.00,9, -999.00,9, -31.9275, 111.2055,-999.000,-999.000,20090510,       0152
33RR20090320,        I05,     184,          1,         10,         10,2,20090510,       0054,   -31.9272,   111.2055,       5048,  2674.0,   1.8740,  34.7287,2,  34.7276,2,    176.0,2,   174.6,2,  111.60,2,   33.01,2,    0.00,2,    2.35,2,   0.004,2,   0.004,2,   0.0000,2,  2279.2,2,  2380.4,2,   7.6714,2,    20.00,-999.000,9,-999.000,9,-999.000,9,   1.8737,2,-999.000,9, -999.00,9, -999.00,-999.000,9,-999.000, -999.00,9, -999.00,9, -31.9276, 111.2055,-999.000,-999.000,20090510,       0146
33RR20090320,        I05,     184,          1,          9,          9,2,20090510,       0054,   -31.9272,   111.2055,       5048,  2925.8,   1.7347,  34.7310,2,  34.7304,2,    182.9,2,   181.8,2,  110.80,2,   32.45,2,    0.00,2,    2.30,2,-999.000,9,-999.000,9,-999.0000,9,  -999.0,9,  -999.0,9,-999.0000,9,  -999.00,-999.000,9,-999.000,9,-999.000,9,   1.7348,2,-999.000,9, -999.00,9, -999.00,-999.000,9,-999.000, -999.00,9, -999.00,9, -31.9276, 111.2054,-999.000,-999.000,20090510,       0141
33RR20090320,        I05,     184,          1,          8,          8,2,20090510,       0054,   -31.9272,   111.2055,       5048,  3213.7,   1.5790,  34.7274,2,  34.7268,2,    183.8,2,   183.7,2,  116.91,2,   32.77,2,    0.00,2,    2.32,2,-999.000,9,-999.000,9,-999.0000,9,  -999.0,9,  -999.0,9,-999.0000,9,  -999.00,-999.000,9,-999.000,9,-999.000,9,   1.5788,2,-999.000,9, -999.00,9, -999.00,-999.000,9,-999.000, -999.00,9, -999.00,9, -31.9275, 111.2054,-999.000,-999.000,20090510,       0135
33RR20090320,        I05,     184,          1,          7,          7,2,20090510,       0054,   -31.9272,   111.2055,       5048,  3517.6,   1.4189,  34.7235,2,  34.7231,2,    187.7,2,   187.4,2,  120.24,2,   32.72,2,    0.00,2,    2.32,2,-999.000,9,-999.000,9,-999.0000,9,  -999.0,9,  -999.0,9,-999.0000,9,  -999.00,-999.000,9,-999.000,9,-999.000,9,   1.4189,2,-999.000,9, -999.00,9, -999.00,-999.000,9,-999.000, -999.00,9, -999.00,9, -31.9275, 111.2055,-999.000,-999.000,20090510,       0128
33RR20090320,        I05,     184,          1,          6,          6,2,20090510,       0054,   -31.9272,   111.2055,       5048,  3821.6,   1.3016,  34.7198,2,  34.7190,2,    191.0,2,   190.7,2,  123.20,2,   32.72,2,    0.00,2,    2.31,2,   0.004,2,   0.002,2,   0.0000,2,  2280.7,2,  2379.3,2,   7.6881,2,    20.00,-999.000,9,-999.000,9,-999.000,9,   1.3014,2,-999.000,9, -999.00,9, -999.00,-999.000,9,-999.000, -999.00,9, -999.00,9, -31.9274, 111.2054,-999.000,-999.000,20090510,       0122
33RR20090320,        I05,     184,          1,          5,          5,2,20090510,       0054,   -31.9272,   111.2055,       5048,  4190.1,   1.2235,  34.7165,2,  34.7158,2,    193.8,2,   193.8,2,  125.03,2,   32.76,2,    0.00,2,    2.31,2,-999.000,9,-999.000,9,-999.0000,9,  -999.0,9,  -999.0,9,-999.0000,9,  -999.00,-999.000,9,-999.000,9,-999.000,9,   1.2230,2,-999.000,9, -999.00,9, -999.00,-999.000,9,-999.000, -999.00,9, -999.00,9, -31.9274, 111.2054,-999.000,-999.000,20090510,       0114
33RR20090320,        I05,     184,          1,          4,          4,2,20090510,       0054,   -31.9272,   111.2055,       5048,  4599.2,   1.1655,  34.7139,2,  34.7137,2,    198.3,2,   198.8,2,  124.41,2,   32.48,2,    0.00,2,    2.28,2,-999.000,9,-999.000,9,-999.0000,9,  -999.0,9,  -999.0,9,-999.0000,9,  -999.00,-999.000,9,-999.000,9,-999.000,9,   1.1654,2,-999.000,9, -999.00,9, -999.00,-999.000,9,-999.000, -999.00,9, -999.00,9, -31.9274, 111.2054,-999.000,-999.000,20090510,       0107
33RR20090320,        I05,     184,          1,          3,          3,2,20090510,       0054,   -31.9272,   111.2055,       5048,  5009.6,   1.0571,  34.7091,2,  34.7089,2,    205.1,2,   205.5,2,  123.43,2,   32.26,2,    0.00,2,    2.27,2,   0.032,2,   0.017,2,   0.0000,2,  -999.0,9,  -999.0,9,-999.0000,9,  -999.00,-999.000,9,-999.000,9,-999.000,9,   1.0566,2,-999.000,9, -999.00,9, -999.00,-999.000,9,-999.000, -999.00,9, -999.00,9, -31.9272, 111.2055,-999.000,-999.000,20090510,       0059
33RR20090320,        I05,     184,          1,          2,          2,2,20090510,       0054,   -31.9272,   111.2055,       5048,  5072.2,   1.0234,  34.7075,2,  34.7072,2,    207.0,2,   207.1,2,  123.37,2,   32.26,2,    0.00,2,    2.26,2,-999.000,9,-999.000,9,-999.0000,9,  -999.0,9,  -999.0,9,-999.0000,9,  -999.00,-999.000,9,-999.000,9,-999.000,9,   1.0232,2,-999.000,9, -999.00,9, -999.00,-999.000,9,-999.000, -999.00,9, -999.00,9, -31.9272, 111.2055,-999.000,-999.000,20090510,       0057
33RR20090320,        I05,     184,          1,          1,          1,2,20090510,       0054,   -31.9272,   111.2055,       5048,  5129.3,   1.0311,  34.7077,2,  34.7077,2,    207.0,2,   206.6,2,  123.33,2,   32.19,2,    0.00,2,    2.27,2,   0.047,6,   0.023,6,   0.0000,6,  2268.5,6,  2376.9,2,   7.6892,2,    20.00,-999.000,9,-999.000,9,-999.000,9,   1.0312,2,-999.000,9, -999.00,9, -999.00,-999.000,9,-999.000, -999.00,9, -999.00,9, -31.9272, 111.2055,-999.000,-999.000,20090510,       0054