BOTTLE,20220814CCHSIOAMB
EXPOCODE,SECT_ID,STNNBR,CASTNO,SAMPNO,BTLNBR,BTLNBR_FLAG_W,DATE,TIME,LATITUDE,LONGITUDE,DEPTH,CTDPRS,CTDTMP,CTDSAL,CTDSAL_FLAG_W,SALNTY,SALNTY_FLAG_W,CTDOXY,CTDOXY_FLAG_W,OXYGEN,OXYGEN_FLAG_W,SILCAT,SILCAT_FLAG_W,NITRAT,NITRAT_FLAG_W,NITRIT,NITRIT_FLAG_W,PHSPHT,PHSPHT_FLAG_W,CFC-11,CFC-11_FLAG_W,CFC-12,CFC-12_FLAG_W,SF6,SF6_FLAG_W,TCARBN,TCARBN_FLAG_W,ALKALI,ALKALI_FLAG_W,PH_TOT,PH_TOT_FLAG_W,PH_TMP,TRITUM,TRITUM_FLAG_W,HELIUM,HELIUM_FLAG_W,DELHE3,DELHE3_FLAG_W,REFTMP,REFTMP_FLAG_W,DELC13,DELC13_FLAG_W,DELC14,DELC14_FLAG_W,C14ERR,NEON,NEON_FLAG_W,NEONER,DOC,DOC_FLAG_W,TDN,TDN_FLAG_W,BTL_LAT,BTL_LON,HELIER,DELHER,BTL_DATE,BTL_TIME
,,,,,,,,,,,METERS,DBAR,ITS-90,PSS-78,,PSS-78,,UMOL/KG,,UMOL/KG,,UMOL/KG,,UMOL/KG,,UMOL/KG,,UMOL/KG,,PMOL/KG,,PMOL/KG,,FMOL/KG,,UMOL/KG,,UMOL/KG,,,,DEG C,TU,,NMOL/KG,,PERCNT,,DEG C,,/MILLE,,/MILLE,,/MILLE,NMOL/KG,,NMOL/KG,UMOL/KG,,UMOL/KG,,,,NMOL/KG,PERCNT,,
33RR20090320,        I05,      18,          1,         36,         36,2,20090327,       1817,   -32.6966,    34.1221,       2493,     6.5,  24.5248,  35.4761,2,  35.4769,2,    208.8,2,   208.6,2,    2.01,2,    0.00,2,    0.00,2,    0.06,2,   1.820,2,   1.103,2,   1.0020,4,  1997.6,6,  2324.1,2,   8.1641,2,    20.00,   0.549,2,-999.000,9,-999.000,9,  24.5230,2,-999.000,9, -999.00,9, -999.00,-999.000,9,-999.000,   66.72,2,    4.58,2, -32.6968,  34.1229,-999.000,-999.000,20090327,       2002
33RR20090320,        I05,      18,          1,         35,         35,2,20090327,       1817,   -32.6966,    34.1221,       2493,    35.4,  24.4714,  35.4723,2,  35.4727,2,    209.1,2,   209.7,2,    1.96,2,    0.00,2,    0.00,2,    0.05,2,   1.775,6,   1.104,6,   0.9840,6,  1997.8,2,  2324.3,2,   8.1640,2,    20.00,   0.653,2,-999.000,9,-999.000,9,  24.4698,2,-999.000,9, -999.00,9, -999.00,-999.000,9,-999.000,   66.87,2,    4.57,2, -32.6969,  34.1229,-999.000,-999.000,20090327,       2000
33RR20090320,        I05,      18,          1,         32,         32,2,20090327,       1817,   -32.6966,    34.1221,       2493,    60.2,  24.3949,  35.4659,2,  35.4676,2,    207.8,2,   209.7,2,    1.90,2,    0.00,2,    0.00,2,    0.04,2,   1.780,2,   1.114,2,   0.9860,2,  2000.3,2,  2323.1,2,   8.1628,2,    20.00,   0.535,2,-999.000,9,-999.000,9,  24.3913,2,-999.000,9, -999.00,9, -999.00,-999.000,9,-999.000,   66.60,2,    4.33,2, -32.6969,  34.1229,-999.000,-999.000,20090327,       1959
33RR20090320,        I05,      18,          1,         31,         31,2,20090327,       1817,   -32.6966,    34.1221,       2493,    84.0,  22.4063,  35.4156,2,  35.4175,2,    200.2,2,   197.6,2,    2.46,2,    0.83,2,    0.07,2,    0.18,2,   1.956,2,   1.205,2,   1.0160,2,  2031.3,2,  2320.1,2,   8.1023,2,    20.00,   0.553,2,-999.000,9,-999.000,9,  22.3358,2,-999.000,9, -999.00,9, -999.00,-999.000,9,-999.000,   63.56,2,    4.94,2, -32.6969,  34.1228,-999.000,-999.000,20090327,       1957
33RR20090320,        I05,      18,          1,         30,         30,2,20090327,       1817,   -32.6966,    34.1221,       2493,   109.8,  20.5953,  35.4725,2,  35.4729,2,    183.0,2,   182.6,2,    3.41,2,    3.86,2,    0.02,2,    0.34,2,   2.054,2,   1.259,2,   0.9980,2,  2059.5,2,  2322.5,2,   8.0561,2,    20.00,   0.596,2,-999.000,9,-999.000,9,  20.5890,2,-999.000,9, -999.00,9, -999.00,-999.000,9,-999.000,   57.65,2,    7.56,2, -32.6969,  34.1228,-999.000,-999.000,20090327,       1955
33RR20090320,        I05,      18,          1,         29,         29,2,20090327,       1817,   -32.6966,    34.1221,       2493,   135.0,  19.5639,  35.4995,2,  35.4988,2,    183.7,2,   183.1,2,    4.17,2,    4.64,2,    0.01,2,    0.39,2,   2.134,2,   1.293,2,   1.0050,2,  2070.9,2,  2326.2,2,   8.0380,2,    20.00,   0.609,2,-999.000,9,-999.000,9,  19.5482,2,-999.000,9, -999.00,9, -999.00,-999.000,9,-999.000,   53.94,2,    7.73,2, -32.6969,  34.1228,-999.000,-999.000,20090327,       1954
33RR20090320,        I05,      18,          1,         28,         28,2,20090327,       1817,   -32.6966,    34.1221,       2493,   159.9,  18.4306,  35.5424,2,  35.5406,2,    197.8,2,   201.0,2,    3.51,2,    3.44,2,    0.01,2,    0.33,2,   2.253,2,   1.364,2,   1.0990,2,  2069.6,2,  2328.2,2,   8.0435,2,    20.00,   0.519,2,-999.000,9,-999.000,9,  18.4595,2,-999.000,9, -999.00,9, -999.00,-999.000,9,-999.000,   53.10,2,    6.62,2, -32.6970,  34.1228,-999.000,-999.000,20090327,       1952
33RR20090320,        I05,      18,          1,         27,         27,2,20090327,       1817,   -32.6966,    34.1221,       2493,   184.9,  18.0285,  35.5578,2,  35.5570,2,    214.7,2,   215.9,2,    2.46,2,    2.34,2,    0.01,2,    0.26,2,   2.317,2,   1.402,2,   1.1370,2,  2058.7,2,  2329.3,2,   8.0628,2,    20.00,   0.543,2,-999.000,9,-999.000,9,  18.0265,2,-999.000,9, -999.00,9, -999.00,-999.000,9,-999.000,   51.67,2,    5.12,2, -32.6969,  34.1228,-999.000,-999.000,20090327,       1951
33RR20090320,        I05,      18,          1,         26,         26,2,20090327,       1817,   -32.6966,    34.1221,       2493,   210.3,  17.8366,  35.5508,2,  35.5501,2,    213.6,2,   212.7,2,    2.81,2,    3.21,2,    0.01,2,    0.30,2,   2.341,2,   1.417,2,   1.1820,4,  2069.6,2,  2328.1,2,   8.0511,2,    20.00,   0.585,2,-999.000,9,-999.000,9,  17.8271,2,-999.000,9, -999.00,9, -999.00,-999.000,9,-999.000,   50.66,2,    6.02,2, -32.6969,  34.1228,-999.000,-999.000,20090327,       1949
33RR20090320,        I05,      18,          1,         25,         25,2,20090327,       1817,   -32.6966,    34.1221,       2493,   235.4,  17.3893,  35.5468,2,  35.5463,2,    211.3,2,   213.7,2,    2.96,2,    3.69,2,    0.01,2,    0.33,2,   2.391,2,   1.439,2,   1.1700,2,  2076.1,2,  2326.8,2,   8.0381,2,    20.00,   0.520,2,-999.000,9,-999.000,9,  17.3802,2,-999.000,9, -999.00,9, -999.00,-999.000,9,-999.000,   49.83,2,    6.27,2, -32.6968,  34.1228,-999.000,-999.000,20090327,       1948
33RR20090320,        I05,      18,          1,         24,         24,2,20090327,       1817,   -32.6966,    34.1221,       2493,   264.5,  17.0425,  35.5525,2,  35.5519,2,    219.5,2,   218.3,2,    2.91,2,    3.50,2,    0.01,2,    0.32,2,   2.431,2,   1.464,2,   1.1950,2,  2076.6,2,  2330.2,2,   8.0379,2,    20.00,   0.522,2,-999.000,9,-999.000,9,  17.0487,2,-999.000,9, -999.00,9, -999.00,-999.000,9,-999.000,   49.21,2,    5.99,2, -32.6968,  34.1228,-999.000,-999.000,20090327,       1946
33RR20090320,        I05,      18,          1,         23,         23,2,20090327,       1817,   -32.6966,    34.1221,       2493,   315.0,  16.5734,  35.5358,2,  35.5341,2,    218.2,2,   215.8,2,    3.26,2,    4.57,2,    0.00,2,    0.38,2,   2.472,2,   1.480,2,   1.1690,2,  2083.0,2,  2327.4,2,   8.0222,2,    20.00,   0.505,2,-999.000,9,-999.000,9,  16.5719,2,-999.000,9, -999.00,9, -999.00,-999.000,9,-999.000,   48.28,2,    7.12,2, -32.6969,  34.1228,-999.000,-999.000,20090327,       1944
33RR20090320,        I05,      18,          1,         22,         22,2,20090327,       1817,   -32.6966,    34.1221,       2493,   364.7,  15.9557,  35.4949,2,  35.4941,2,    205.3,2,   205.3,2,    3.61,2,    6.01,2,    0.00,2,    0.49,2,   2.559,2,   1.516,2,   1.0760,2,  2098.2,2,  2320.3,2,   7.9911,2,    20.00,-999.000,9,-999.000,9,-999.000,9,  15.9543,2,-999.000,9, -999.00,9, -999.00,-999.000,9,-999.000,   47.23,2,    8.74,2, -32.6968,  34.1228,-999.000,-999.000,20090327,       1941
33RR20090320,        I05,      18,          1,         21,         21,2,20090327,       1817,   -32.6966,    34.1221,       2493,   414.8,  14.9819,  35.4202,2,  35.4191,2,    203.1,2,   199.2,2,    4.58,2,    8.19,2,    0.00,2,    0.61,2,   2.651,2,   1.534,2,   1.0650,2,  2112.5,2,  2322.7,2,   7.9585,2,    20.00,   0.549,2,-999.000,9,-999.000,9,  14.9787,2,-999.000,9, -999.00,9, -999.00,-999.000,9,-999.000,   46.41,2,    9.55,2, -32.6968,  34.1228,-999.000,-999.000,20090327,       1939
33RR20090320,        I05,      18,          1,         20,         20,2,20090327,       1817,   -32.6966,    34.1221,       2493,   464.8,  14.2012,  35.3582,2,  35.3582,2,    203.6,2,   206.4,2,    4.32,2,    8.87,2,    0.00,2,    0.66,2,   2.780,2,   1.602,2,   1.0430,2,  2115.3,2,  2323.3,2,   7.9476,2,    20.00,   0.513,2,-999.000,9,-999.000,9,  14.2012,2,-999.000,9, -999.00,9, -999.00,-999.000,9,-999.000,   45.67,2,   10.40,2, -32.6969,  34.1227,-999.000,-999.000,20090327,       1936
33RR20090320,        I05,      18,          1,         19,         19,2,20090327,       1817,   -32.6966,    34.1221,       2493,   536.0,  13.4337,  35.2832,2,  35.2863,2,    212.7,2,   214.4,2,    3.86,2,    9.59,2,    0.00,2,    0.70,2,   2.925,2,   1.655,2,   1.0130,2,  2116.3,2,  2318.7,2,   7.9381,2,    20.00,   0.409,2,-999.000,9,-999.000,9,  13.4405,2,-999.000,9, -999.00,9, -999.00,-999.000,9,-999.000,   45.00,2,   10.78,2, -32.6968,  34.1226,-999.000,-999.000,20090327,       1931
33RR20090320,        I05,      18,          1,         18,         18,2,20090327,       1817,   -32.6966,    34.1221,       2493,   634.9,  12.1825,  35.1025,2,  35.1025,2,    215.5,2,   215.6,2,    4.42,2,   12.15,2,    0.00,2,    0.87,2,   3.056,2,   1.686,2,   0.9420,2,  2122.6,2,  2312.1,2,   7.9085,2,    20.00,   0.352,2,-999.000,9,-999.000,9,  12.1817,2,-999.000,9, -999.00,9, -999.00,-999.000,9,-999.000,   44.08,2,   13.52,2, -32.6968,  34.1227,-999.000,-999.000,20090327,       1927
33RR20090320,        I05,      18,          1,         17,         17,2,20090327,       1817,   -32.6966,    34.1221,       2493,   733.3,  11.1890,  34.9648,2,  34.9643,2,    216.1,2,   215.7,2,    5.18,2,   14.14,2,    0.00,2,    1.00,2,   3.090,2,   1.661,2,   0.8430,2,  2129.0,2,  2306.6,2,   7.8834,2,    20.00,   0.283,2,-999.000,9,-999.000,9,  11.1877,2,-999.000,9, -999.00,9, -999.00,-999.000,9,-999.000,   43.14,2,   15.44,2, -32.6968,  34.1226,-999.000,-999.000,20090327,       1924
33RR20090320,        I05,      18,          1,         16,         16,2,20090327,       1817,   -32.6966,    34.1221,       2493,   834.8,  10.0144,  34.8094,2,  34.8076,2,    206.1,2,   211.9,2,    7.35,2,   17.15,2,    0.00,2,    1.20,2,   2.961,2,   1.556,2,   0.6770,2,  2138.5,2,  2299.3,2,   7.8490,2,    20.00,   0.251,2,-999.000,9,-999.000,9,  10.0146,2,-999.000,9, -999.00,9, -999.00,-999.000,9,-999.000,   42.09,2,   18.99,2, -32.6969,  34.1226,-999.000,-999.000,20090327,       1920
33RR20090320,        I05,      18,          1,         15,         15,2,20090327,       1817,   -32.6966,    34.1221,       2493,   934.6,   8.7812,  34.6754,2,  34.6757,2,    201.4,2,   201.6,2,   11.97,2,   21.04,2,    0.00,2,    1.46,2,   2.588,2,   1.350,2,   0.5290,2,  2153.7,2,  2298.1,2,   7.8031,2,    20.00,   0.285,2,-999.000,9,-999.000,9,   8.7812,2,-999.000,9, -999.00,9, -999.00,-999.000,9,-999.000,   41.23,2,   22.40,2, -32.6968,  34.1227,-999.000,-999.000,20090327,       1916
33RR20090320,        I05,      18,          1,         14,         14,2,20090327,       1817,   -32.6966,    34.1221,       2493,  1034.7,   7.4884,  34.5749,2,  34.5741,2,    190.1,2,   190.2,2,   20.03,2,   25.20,2,    0.00,2,    1.75,2,   2.024,2,   1.036,2,   0.3330,2,  2173.1,2,  2299.4,2,   7.7559,2,    20.00,   0.124,2,-999.000,9,-999.000,9,   7.4799,2,-999.000,9, -999.00,9, -999.00,-999.000,9,-999.000,   40.72,2,   26.95,2, -32.6968,  34.1227,-999.000,-999.000,20090327,       1912
33RR20090320,        I05,      18,          1,         13,         13,2,20090327,       1817,   -32.6966,    34.1221,       2493,  1136.2,   6.1382,  34.5078,2,  34.5091,2,    179.6,2,   179.9,2,   31.00,2,   29.18,2,    0.00,2,    2.02,2,   1.526,2,   0.764,2,   0.2940,2,  2195.9,2,  2306.2,2,   7.7101,2,    20.00,-999.000,9,-999.000,9,-999.000,9,   6.1455,2,-999.000,9, -999.00,9, -999.00,-999.000,9,-999.000,   40.70,2,   31.08,2, -32.6968,  34.1227,-999.000,-999.000,20090327,       1908
33RR20090320,        I05,      18,          1,         12,         12,2,20090327,       1817,   -32.6966,    34.1221,       2493,  1235.6,   5.0611,  34.4548,2,  34.4541,2,    183.0,2,   183.6,2,   37.49,2,   30.91,2,    0.00,2,    2.16,2,   1.425,2,   0.706,2,   0.2370,2,  2207.4,2,  2309.4,2,   7.6892,2,    20.00,-999.000,9,-999.000,9,-999.000,9,   5.0648,2,-999.000,9, -999.00,9, -999.00,-999.000,9,-999.000,   40.55,2,   32.79,2, -32.6968,  34.1226,-999.000,-999.000,20090327,       1905
33RR20090320,        I05,      18,          1,         11,         11,2,20090327,       1817,   -32.6966,    34.1221,       2493,  1336.9,   4.4238,  34.4765,2,  34.4749,2,    174.3,2,   175.7,2,   46.68,2,   32.45,2,    0.00,2,    2.28,2,   1.136,6,   0.552,6,   0.1620,6,  2222.5,2,  2316.6,2,   7.6668,2,    20.00,-999.000,9,-999.000,9,-999.000,9,   4.4210,2,-999.000,9, -999.00,9, -999.00,-999.000,9,-999.000,   40.30,2,   34.18,2, -32.6967,  34.1226,-999.000,-999.000,20090327,       1901
33RR20090320,        I05,      18,          1,         10,         10,2,20090327,       1817,   -32.6966,    34.1221,       2493,  1437.4,   4.2159,  34.5404,2,  34.5405,2,    161.2,2,   161.5,2,   56.91,2,   33.45,2,    0.00,2,    2.37,2,-999.000,9,-999.000,9,-999.0000,9,  2237.5,2,  2328.0,2,   7.6501,2,    20.00,-999.000,9,-999.000,9,-999.000,9,   4.2185,2,-999.000,9, -999.00,9, -999.00,-999.000,9,-999.000,   39.86,2,   34.99,2, -32.6967,  34.1226,-999.000,-999.000,20090327,       1857
33RR20090320,        I05,      18,          1,          9,          9,2,20090327,       1817,   -32.6966,    34.1221,       2493,  1537.8,   3.8844,  34.5789,2,  34.5751,2,    161.5,2,   158.5,2,   63.69,2,   33.85,2,    0.00,2,    2.40,2,   0.505,2,   0.229,2,   0.0700,2,  2247.7,2,  2338.1,2,   7.6434,2,    20.00,   0.005,2,-999.000,9,-999.000,9,   3.8821,2,-999.000,9, -999.00,9, -999.00,-999.000,9,-999.000,   39.71,2,   35.82,2, -32.6966,  34.1227,-999.000,-999.000,20090327,       1853
33RR20090320,        I05,      18,          1,          8,          8,2,20090327,       1817,   -32.6966,    34.1221,       2493,  1637.4,   3.5685,  34.6098,2,  34.6089,2,    157.7,2,   158.5,2,   68.40,2,   33.76,2,    0.00,2,    2.40,2,-999.000,9,-999.000,9,-999.0000,9,  2253.6,6,  2340.7,2,   7.6431,2,    20.00,-999.000,9,-999.000,9,-999.000,9,   3.5691,2,-999.000,9, -999.00,9, -999.00,-999.000,9,-999.000,   39.65,2,   35.42,2, -32.6964,  34.1227,-999.000,-999.000,20090327,       1850
33RR20090320,        I05,      18,          1,          7,          7,2,20090327,       1817,   -32.6966,    34.1221,       2493,  1739.0,   3.3318,  34.6438,2,  34.6437,2,    159.8,2,   160.5,2,   72.29,2,   33.52,2,    0.00,2,    2.39,2,   0.241,2,   0.108,2,   0.0170,2,  2256.1,2,  2345.0,2,   7.6465,2,    20.00,   0.019,2,-999.000,9,-999.000,9,   3.3315,2,-999.000,9, -999.00,9, -999.00,-999.000,9,-999.000,   39.50,2,   35.40,2, -32.6964,  34.1226,-999.000,-999.000,20090327,       1846
33RR20090320,        I05,      18,          1,          6,          6,2,20090327,       1817,   -32.6966,    34.1221,       2493,  1834.0,   3.3313,  34.6940,2,  34.6946,2,    155.9,2,   154.7,2,   79.09,2,   33.48,2,    0.00,2,    2.39,2,-999.000,9,-999.000,9,-999.0000,9,  2262.8,2,  2353.5,2,   7.6478,2,    20.00,-999.000,9,-999.000,9,-999.000,9,   3.3339,2,-999.000,9, -999.00,9, -999.00,-999.000,9,-999.000,   40.01,2,   35.15,2, -32.6964,  34.1224,-999.000,-999.000,20090327,       1842
33RR20090320,        I05,      18,          1,          5,          5,2,20090327,       1817,   -32.6966,    34.1221,       2493,  1935.7,   3.0455,  34.6949,2,  34.6950,2,    165.2,2,   165.7,2,   76.99,2,   32.70,2,    0.00,2,    2.35,2,   0.122,2,   0.055,2,   0.0270,2,  2257.6,2,  2352.5,3,   7.6584,2,    20.00,   0.001,2,-999.000,9,-999.000,9,   3.0455,2,-999.000,9, -999.00,9, -999.00,-999.000,9,-999.000,   39.85,2,   34.40,2, -32.6965,  34.1222,-999.000,-999.000,20090327,       1838
33RR20090320,        I05,      18,          1,          4,          4,2,20090327,       1817,   -32.6966,    34.1221,       2493,  2066.4,   2.8787,  34.7222,2,  34.7221,2,    169.4,2,   171.2,2,   77.99,2,   31.71,2,    0.00,2,    2.26,2,-999.000,9,-999.000,9,-999.0000,9,  2254.8,2,  -999.0,5,   7.6698,2,    20.00,-999.000,9,-999.000,9,-999.000,9,   2.8783,2,-999.000,9, -999.00,9, -999.00,-999.000,9,-999.000,   39.51,2,   33.33,2, -32.6966,  34.1221,-999.000,-999.000,20090327,       1833
33RR20090320,        I05,      18,          1,          3,          3,2,20090327,       1817,   -32.6966,    34.1221,       2493,  2268.4,   2.7025,  34.7449,2,  34.7447,2,    182.8,2,   183.8,2,   72.98,2,   30.38,2,    0.00,2,    2.14,2,   0.057,6,   0.030,6,   0.0270,6,  2245.4,2,  2347.9,2,   7.6867,2,    20.00,   0.021,2,-999.000,9,-999.000,9,   2.7018,2,-999.000,9, -999.00,9, -999.00,-999.000,9,-999.000,   39.65,2,   32.26,2, -32.6966,  34.1221,-999.000,-999.000,20090327,       1827
33RR20090320,        I05,      18,          1,          2,          2,2,20090327,       1817,   -32.6966,    34.1221,       2493,  2410.1,   2.6202,  34.7620,2,  34.7622,2,    188.3,2,   189.1,2,   72.95,2,   29.91,2,    0.00,2,    2.10,2,   0.041,2,   0.021,2,   0.0230,2,  2243.3,2,  2348.7,2,   7.6979,2,    20.00,   0.016,2,-999.000,9,-999.000,9,   2.6196,2,-999.000,9, -999.00,9, -999.00,-999.000,9,-999.000,   39.44,2,   31.59,2, -32.6966,  34.1221,-999.000,-999.000,20090327,       1821
33RR20090320,        I05,      18,          1,          1,          1,2,20090327,       1817,   -32.6966,    34.1221,       2493,  2512.2,   2.5361,  34.7770,2,  34.7764,2,   -999.0,5,  -999.0,5,   70.84,2,   29.12,2,    0.00,2,    2.04,2,   0.031,2,   0.016,2,   0.0160,2,  2237.8,6,  2348.1,2,   7.7064,2,    20.00,   0.090,2,-999.000,9,-999.000,9,   2.5349,2,-999.000,9, -999.00,9, -999.00,-999.000,9,-999.000,   39.76,2,   30.54,2, -32.6966,  34.1221,-999.000,-999.000,20090327,       1817