BOTTLE,20220814CCHSIOAMB
EXPOCODE,SECT_ID,STNNBR,CASTNO,SAMPNO,BTLNBR,BTLNBR_FLAG_W,DATE,TIME,LATITUDE,LONGITUDE,DEPTH,CTDPRS,CTDTMP,CTDSAL,CTDSAL_FLAG_W,SALNTY,SALNTY_FLAG_W,CTDOXY,CTDOXY_FLAG_W,OXYGEN,OXYGEN_FLAG_W,SILCAT,SILCAT_FLAG_W,NITRAT,NITRAT_FLAG_W,NITRIT,NITRIT_FLAG_W,PHSPHT,PHSPHT_FLAG_W,CFC-11,CFC-11_FLAG_W,CFC-12,CFC-12_FLAG_W,SF6,SF6_FLAG_W,TCARBN,TCARBN_FLAG_W,ALKALI,ALKALI_FLAG_W,PH_TOT,PH_TOT_FLAG_W,PH_TMP,TRITUM,TRITUM_FLAG_W,HELIUM,HELIUM_FLAG_W,DELHE3,DELHE3_FLAG_W,REFTMP,REFTMP_FLAG_W,DELC13,DELC13_FLAG_W,DELC14,DELC14_FLAG_W,C14ERR,NEON,NEON_FLAG_W,NEONER,DOC,DOC_FLAG_W,TDN,TDN_FLAG_W,BTL_LAT,BTL_LON,HELIER,DELHER,BTL_DATE,BTL_TIME
,,,,,,,,,,,METERS,DBAR,ITS-90,PSS-78,,PSS-78,,UMOL/KG,,UMOL/KG,,UMOL/KG,,UMOL/KG,,UMOL/KG,,UMOL/KG,,PMOL/KG,,PMOL/KG,,FMOL/KG,,UMOL/KG,,UMOL/KG,,,,DEG C,TU,,NMOL/KG,,PERCNT,,DEG C,,/MILLE,,/MILLE,,/MILLE,NMOL/KG,,NMOL/KG,UMOL/KG,,UMOL/KG,,,,NMOL/KG,PERCNT,,
33RR20090320,        I05,     137,          1,         36,         36,2,20090428,       0134,   -32.1759,    90.8230,       4013,     9.8,  20.2006,  35.8458,2,  35.8485,2,    226.7,2,   228.0,2,    1.67,2,    0.07,2,    0.00,2,    0.15,2,   2.168,6,   1.296,6,   1.2290,6,  2071.5,6,  2358.0,2,   8.0863,2,    20.00,-999.000,9,-999.000,9,-999.000,9,  20.2012,2,-999.000,9, -999.00,9, -999.00,-999.000,9,-999.000,   66.94,2,    4.18,2, -32.1755,  90.8235,-999.000,-999.000,20090428,       0329
33RR20090320,        I05,     137,          1,         35,         35,2,20090428,       0134,   -32.1759,    90.8230,       4013,    30.4,  20.2238,  35.8749,2,  35.8747,2,    227.2,2,   227.4,2,    1.47,2,    0.00,2,    0.00,2,    0.14,2,   2.157,2,   1.287,2,   1.2170,2,  2072.7,2,  2358.4,2,   8.0881,2,    20.00,-999.000,9,-999.000,9,-999.000,9,  20.2206,2,-999.000,9, -999.00,9, -999.00,-999.000,9,-999.000,   67.55,2,    4.44,2, -32.1755,  90.8235,-999.000,-999.000,20090428,       0327
33RR20090320,        I05,     137,          1,         34,         34,2,20090428,       0134,   -32.1759,    90.8230,       4013,    55.1,  20.1301,  35.8735,2,  35.8850,2,    229.2,2,   228.1,2,    1.64,2,    0.07,2,    0.00,2,    0.14,2,   2.161,2,   1.288,2,   1.1980,2,  2073.1,2,  2356.4,2,   8.0887,2,    20.00,-999.000,9,-999.000,9,-999.000,9,  20.1361,2,-999.000,9, -999.00,9, -999.00,-999.000,9,-999.000,   66.03,2,    4.02,2, -32.1754,  90.8235,-999.000,-999.000,20090428,       0326
33RR20090320,        I05,     137,          1,         33,         33,2,20090428,       0134,   -32.1759,    90.8230,       4013,    80.0,  17.0448,  35.6822,2,  35.6749,2,    253.9,2,   253.3,2,    1.45,2,    0.07,2,    0.00,2,    0.17,2,   2.624,2,   1.547,2,   1.3550,2,  2076.9,2,  2347.2,2,   8.0623,2,    20.00,-999.000,9,-999.000,9,-999.000,9,  17.0250,2,-999.000,9, -999.00,9, -999.00,-999.000,9,-999.000,   62.87,2,    3.88,2, -32.1754,  90.8235,-999.000,-999.000,20090428,       0324
33RR20090320,        I05,     137,          1,         32,         32,2,20090428,       0134,   -32.1759,    90.8230,       4013,   104.2,  15.4513,  35.5346,2,  35.5433,2,    245.6,2,   244.1,2,    1.62,2,    0.67,2,    0.12,2,    0.27,2,   2.776,2,   1.597,2,   1.4310,2,  2092.4,2,  2341.3,2,   8.0249,2,    20.00,-999.000,9,-999.000,9,-999.000,9,  15.4595,2,-999.000,9, -999.00,9, -999.00,-999.000,9,-999.000,   57.13,2,    4.77,2, -32.1754,  90.8235,-999.000,-999.000,20090428,       0322
33RR20090320,        I05,     137,          1,         31,         31,2,20090428,       0134,   -32.1759,    90.8230,       4013,   128.9,  14.6126,  35.4348,2,  35.4397,2,    234.3,2,   234.2,2,    1.79,2,    3.27,2,    0.25,2,    0.41,2,   2.851,2,   1.639,2,   1.3830,2,  2100.5,2,  2333.7,2,   7.9952,2,    20.00,-999.000,9,-999.000,9,-999.000,9,  14.6243,2,-999.000,9, -999.00,9, -999.00,-999.000,9,-999.000,   55.15,2,    6.45,2, -32.1754,  90.8235,-999.000,-999.000,20090428,       0320
33RR20090320,        I05,     137,          1,         30,         30,2,20090428,       0134,   -32.1759,    90.8230,       4013,   153.9,  13.6360,  35.2565,2,  35.2582,2,    237.9,2,   239.5,2,    2.13,2,    5.35,2,    0.12,2,    0.52,2,   2.970,2,   1.709,2,   1.5640,2,  2104.8,2,  2321.0,2,   7.9700,2,    20.00,-999.000,9,-999.000,9,-999.000,9,  13.6337,2,-999.000,9, -999.00,9, -999.00,-999.000,9,-999.000,   52.83,2,    7.99,2, -32.1754,  90.8234,-999.000,-999.000,20090428,       0319
33RR20090320,        I05,     137,          1,         29,         29,2,20090428,       0134,   -32.1759,    90.8230,       4013,   204.9,  12.5082,  35.0977,2,  35.1095,2,    237.0,2,   238.1,2,    2.65,2,    8.16,2,    0.01,2,    0.66,2,   3.176,2,   1.789,2,   1.4000,2,  2112.0,2,  2315.9,2,   7.9386,2,    20.00,-999.000,9,-999.000,9,-999.000,9,  12.5061,2,-999.000,9, -999.00,9, -999.00,-999.000,9,-999.000,   51.09,2,   10.91,2, -32.1755,  90.8235,-999.000,-999.000,20090428,       0316
33RR20090320,        I05,     137,          1,         28,         28,2,20090428,       0134,   -32.1759,    90.8230,       4013,   254.6,  12.0779,  35.0761,2,  35.0762,2,    237.1,2,   236.0,2,    3.17,2,    9.63,2,    0.00,2,    0.74,2,   3.238,2,   1.826,2,   1.3130,2,  2114.9,2,  2310.4,2,   7.9237,2,    20.00,-999.000,9,-999.000,9,-999.000,9,  12.0759,2,-999.000,9, -999.00,9, -999.00,-999.000,9,-999.000,   50.51,2,   12.38,2, -32.1756,  90.8235,-999.000,-999.000,20090428,       0313
33RR20090320,        I05,     137,          1,         27,         27,2,20090428,       0134,   -32.1759,    90.8230,       4013,   303.9,  11.5239,  34.9840,2,  34.9845,2,    242.3,2,   242.3,2,    3.70,2,   10.70,2,    0.00,2,    0.81,2,   3.324,2,   1.859,2,   1.5100,2,  2115.9,2,  2307.4,2,   7.9144,2,    20.00,-999.000,9,-999.000,9,-999.000,9,  11.5229,2,-999.000,9, -999.00,9, -999.00,-999.000,9,-999.000,   49.77,2,   13.68,2, -32.1757,  90.8234,-999.000,-999.000,20090428,       0310
33RR20090320,        I05,     137,          1,         26,         26,2,20090428,       0134,   -32.1759,    90.8230,       4013,   353.8,  11.2538,  34.9484,2,  34.9490,2,    242.4,2,   243.4,2,    3.87,2,   11.31,2,    0.00,2,    0.85,2,   3.335,2,   1.880,2,   1.3790,2,  2117.4,2,  2305.2,2,   7.9085,2,    20.00,-999.000,9,-999.000,9,-999.000,9,  11.2484,2,-999.000,9, -999.00,9, -999.00,-999.000,9,-999.000,   48.73,2,   14.25,2, -32.1758,  90.8233,-999.000,-999.000,20090428,       0307
33RR20090320,        I05,     137,          1,         25,         25,2,20090428,       0134,   -32.1759,    90.8230,       4013,   403.2,  10.9538,  34.9075,2,  34.9095,2,    244.0,2,   243.3,2,    4.03,2,   12.02,2,    0.00,2,    0.89,2,   3.416,2,   1.885,2,   1.4070,2,  2118.2,2,  2303.6,2,   7.9020,2,    20.00,-999.000,9,-999.000,9,-999.000,9,  10.9521,2,-999.000,9, -999.00,9, -999.00,-999.000,9,-999.000,   47.51,2,   14.32,2, -32.1759,  90.8231,-999.000,-999.000,20090428,       0305
33RR20090320,        I05,     137,          1,         24,         24,2,20090428,       0134,   -32.1759,    90.8230,       4013,   454.3,  10.7135,  34.8765,2,  34.8776,2,    241.5,2,   242.0,2,    4.20,2,   12.73,2,    0.00,2,    0.93,2,   3.436,2,   1.903,2,   1.3750,2,  2120.6,2,  2302.1,2,   7.8949,2,    20.00,-999.000,9,-999.000,9,-999.000,9,  10.7124,2,-999.000,9, -999.00,9, -999.00,-999.000,9,-999.000,   46.18,2,   14.88,2, -32.1759,  90.8231,-999.000,-999.000,20090428,       0303
33RR20090320,        I05,     137,          1,         23,         23,2,20090428,       0134,   -32.1759,    90.8230,       4013,   504.8,  10.4033,  34.8380,2,  34.8385,2,    239.0,2,   239.6,2,    4.54,2,   13.69,2,    0.00,2,    0.99,2,   3.514,2,   1.916,2,   1.2500,2,  2122.8,2,  2300.3,2,   7.8842,2,    20.00,-999.000,9,-999.000,9,-999.000,9,  10.4017,2,-999.000,9, -999.00,9, -999.00,-999.000,9,-999.000,   45.02,2,   15.64,2, -32.1758,  90.8231,-999.000,-999.000,20090428,       0300
33RR20090320,        I05,     137,          1,         22,         22,2,20090428,       0134,   -32.1759,    90.8230,       4013,   604.5,   9.8068,  34.7540,2,  34.7522,2,    236.6,2,   236.7,2,    5.07,2,   15.45,2,    0.00,2,    1.09,2,   3.578,2,   1.896,2,   1.1540,2,  2126.6,2,  2295.8,2,   7.8658,2,    20.00,-999.000,9,-999.000,9,-999.000,9,   9.8008,2,-999.000,9, -999.00,9, -999.00,-999.000,9,-999.000,   43.99,2,   17.39,2, -32.1758,  90.8230,-999.000,-999.000,20090428,       0257
33RR20090320,        I05,     137,          1,         21,         21,2,20090428,       0134,   -32.1759,    90.8230,       4013,   704.8,   9.0604,  34.6529,2,  34.6541,2,    230.3,2,   229.9,2,    6.48,2,   18.03,2,    0.00,2,    1.26,2,   3.477,6,   1.802,6,   0.9260,6,  2135.7,2,  2292.2,2,   7.8391,2,    20.00,-999.000,9,-999.000,9,-999.000,9,   9.0498,2,-999.000,9, -999.00,9, -999.00,-999.000,9,-999.000,   43.36,2,   19.82,2, -32.1758,  90.8229,-999.000,-999.000,20090428,       0254
33RR20090320,        I05,     137,          1,         20,         20,2,20090428,       0134,   -32.1759,    90.8230,       4013,   805.0,   8.0002,  34.5463,2,  34.5492,2,    211.5,2,   212.4,2,   11.13,2,   22.14,2,    0.00,2,    1.52,2,   2.892,2,   1.445,2,   0.5640,2,  2151.3,2,  2289.8,2,   7.7916,2,    20.00,-999.000,9,-999.000,9,-999.000,9,   8.0012,2,-999.000,9, -999.00,9, -999.00,-999.000,9,-999.000,   41.77,2,   24.12,2, -32.1757,  90.8229,-999.000,-999.000,20090428,       0251
33RR20090320,        I05,     137,          1,         19,         19,2,20090428,       0134,   -32.1759,    90.8230,       4013,   904.6,   6.5573,  34.4476,2,  34.4493,2,    199.2,2,   199.3,2,   19.73,2,   26.56,2,    0.00,2,    1.82,2,   2.057,2,   1.018,2,   0.3950,2,  2171.5,2,  2292.9,2,   7.7388,2,    20.00,-999.000,9,-999.000,9,-999.000,9,   6.5622,2,-999.000,9, -999.00,9, -999.00,-999.000,9,-999.000,   40.96,2,   28.32,2, -32.1757,  90.8229,-999.000,-999.000,20090428,       0249
33RR20090320,        I05,     137,          1,         18,         18,2,20090428,       0134,   -32.1759,    90.8230,       4013,  1004.5,   5.2021,  34.3918,2,  34.3927,2,    193.7,2,   194.1,2,   30.30,2,   29.84,2,    0.00,2,    2.06,2,   1.523,2,   0.737,2,   0.2660,2,  2192.1,2,  2301.0,2,   7.6997,2,    20.00,-999.000,9,-999.000,9,-999.000,9,   5.2258,2,-999.000,9, -999.00,9, -999.00,-999.000,9,-999.000,   40.08,2,   31.43,2, -32.1756,  90.8228,-999.000,-999.000,20090428,       0246
33RR20090320,        I05,     137,          1,         17,         17,2,20090428,       0134,   -32.1759,    90.8230,       4013,  1105.2,   4.3907,  34.4112,2,  34.4092,2,    180.3,2,   180.9,2,   43.78,2,   32.17,2,    0.00,2,    2.25,2,   0.934,2,   0.444,2,   0.1270,2,  2214.4,2,  2311.2,2,   7.6692,2,    20.00,-999.000,9,-999.000,9,-999.000,9,   4.3928,2,-999.000,9, -999.00,9, -999.00,-999.000,9,-999.000,   40.04,2,   34.25,2, -32.1756,  90.8228,-999.000,-999.000,20090428,       0243
33RR20090320,        I05,     137,          1,         16,         16,2,20090428,       0134,   -32.1759,    90.8230,       4013,  1205.5,   4.0085,  34.4614,2,  34.4610,2,    164.6,2,   164.1,2,   57.29,2,   33.67,2,    0.00,2,    2.38,2,   0.461,2,   0.223,2,   0.0160,2,  2236.7,2,  2326.2,2,   7.6451,2,    20.00,-999.000,9,-999.000,9,-999.000,9,   4.0101,2,-999.000,9, -999.00,9, -999.00,-999.000,9,-999.000,   40.21,2,   35.41,2, -32.1756,  90.8227,-999.000,-999.000,20090428,       0240
33RR20090320,        I05,     137,          1,         15,         15,2,20090428,       0134,   -32.1759,    90.8230,       4013,  1306.1,   3.7612,  34.4989,2,  34.4993,2,    158.1,2,   155.8,2,   65.79,2,   34.45,2,    0.00,2,    2.44,2,   0.261,2,   0.128,2,   0.0700,2,  2247.7,6,  2332.5,2,   7.6334,2,    20.00,-999.000,9,-999.000,9,-999.000,9,   3.7614,2,-999.000,9, -999.00,9, -999.00,-999.000,9,-999.000,   39.88,2,   35.73,2, -32.1757,  90.8228,-999.000,-999.000,20090428,       0237
33RR20090320,        I05,     137,          1,         14,         14,2,20090428,       0134,   -32.1759,    90.8230,       4013,  1406.8,   3.5167,  34.5372,2,  34.5368,2,    151.0,2,   151.5,2,   72.85,2,   34.70,2,    0.00,2,    2.47,2,   0.153,2,   0.077,2,   0.0000,2,  2257.8,2,  2337.9,2,   7.6273,2,    20.00,-999.000,9,-999.000,9,-999.000,9,   3.5181,2,-999.000,9, -999.00,9, -999.00,-999.000,9,-999.000,   39.94,2,   36.52,2, -32.1757,  90.8228,-999.000,-999.000,20090428,       0234
33RR20090320,        I05,     137,          1,         13,         13,2,20090428,       0134,   -32.1759,    90.8230,       4013,  1506.0,   3.2661,  34.5682,2,  34.5663,2,    150.9,2,   151.2,2,   77.21,2,   34.86,2,    0.00,2,    2.48,2,   0.092,2,   0.046,2,   0.0430,6,  2260.8,2,  2346.7,2,   7.6264,2,    20.00,-999.000,9,-999.000,9,-999.000,9,   3.2660,2,-999.000,9, -999.00,9, -999.00,-999.000,9,-999.000,   40.04,2,   36.52,2, -32.1757,  90.8229,-999.000,-999.000,20090428,       0231
33RR20090320,        I05,     137,          1,         12,         12,2,20090428,       0134,   -32.1759,    90.8230,       4013,  1606.3,   3.0651,  34.5967,2,  34.5954,2,    152.5,2,   153.5,2,   80.47,2,   34.75,2,    0.00,2,    2.46,2,   0.072,2,   0.037,2,   0.0060,2,  2262.9,2,  2349.7,2,   7.6288,2,    20.00,-999.000,9,-999.000,9,-999.000,9,   3.0655,2,-999.000,9, -999.00,9, -999.00,-999.000,9,-999.000,   39.98,2,   36.41,2, -32.1757,  90.8229,-999.000,-999.000,20090428,       0228
33RR20090320,        I05,     137,          1,         11,         11,2,20090428,       0134,   -32.1759,    90.8230,       4013,  1809.0,   2.7359,  34.6493,2,  34.6496,2,    160.0,2,   160.5,2,   85.20,2,   33.97,2,    0.00,2,    2.39,2,   0.052,2,   0.025,2,   0.0500,2,  2263.6,2,  2352.8,2,   7.6398,2,    20.00,-999.000,9,-999.000,9,-999.000,9,   2.7366,2,-999.000,9, -999.00,9, -999.00,-999.000,9,-999.000,   40.13,2,   35.25,2, -32.1757,  90.8230,-999.000,-999.000,20090428,       0223
33RR20090320,        I05,     137,          1,         10,         10,2,20090428,       0134,   -32.1759,    90.8230,       4013,  2011.0,   2.4802,  34.6917,2,  34.6903,2,    169.8,2,   170.0,2,   87.01,2,   32.82,2,    0.00,2,    2.30,2,   0.038,2,   0.019,2,   0.0290,2,  2260.3,2,  2356.3,2,   7.6549,2,    20.00,-999.000,9,-999.000,9,-999.000,9,   2.4801,2,-999.000,9, -999.00,9, -999.00,-999.000,9,-999.000,   40.00,2,   34.56,2, -32.1756,  90.8231,-999.000,-999.000,20090428,       0219
33RR20090320,        I05,     137,          1,          9,          9,2,20090428,       0134,   -32.1759,    90.8230,       4013,  2261.9,   2.2406,  34.7254,2,  34.7258,2,    182.2,2,   182.6,2,   87.36,2,   31.47,2,    0.00,2,    2.20,2,   0.036,6,   0.018,6,   0.0270,6,  2254.1,2,  2353.2,2,   7.6727,2,    20.00,-999.000,9,-999.000,9,-999.000,9,   2.2403,2,-999.000,9, -999.00,9, -999.00,-999.000,9,-999.000,   39.76,2,   33.06,2, -32.1756,  90.8229,-999.000,-999.000,20090428,       0213
33RR20090320,        I05,     137,          1,          8,          8,2,20090428,       0134,   -32.1759,    90.8230,       4013,  2514.7,   1.9949,  34.7430,2,  34.7431,2,    191.3,2,   191.4,2,   90.27,2,   30.79,2,    0.00,2,    2.15,2,   0.031,2,   0.016,2,   0.0930,4,  2250.7,2,  2353.7,2,   7.6838,2,    20.00,-999.000,9,-999.000,9,-999.000,9,   1.9947,2,-999.000,9, -999.00,9, -999.00,-999.000,9,-999.000,   40.07,2,   32.22,2, -32.1757,  90.8228,-999.000,-999.000,20090428,       0208
33RR20090320,        I05,     137,          1,          7,          7,2,20090428,       0134,   -32.1759,    90.8230,       4013,  2767.1,   1.7575,  34.7435,2,  34.7433,2,    196.3,2,   196.0,2,   96.86,2,   30.84,2,    0.00,2,    2.15,2,   0.025,2,   0.013,2,   0.0000,2,  2252.9,2,  2356.8,2,   7.6870,2,    20.00,-999.000,9,-999.000,9,-999.000,9,   1.7578,2,-999.000,9, -999.00,9, -999.00,-999.000,9,-999.000,   40.23,2,   32.30,2, -32.1756,  90.8227,-999.000,-999.000,20090428,       0203
33RR20090320,        I05,     137,          1,          6,          6,2,20090428,       0134,   -32.1759,    90.8230,       4013,  3021.6,   1.5260,  34.7365,2,  34.7353,2,    198.5,2,   198.5,2,  104.22,2,   31.20,2,    0.00,2,    2.17,2,   0.021,2,   0.011,2,   0.0070,2,  2255.4,2,  2364.4,2,   7.6873,2,    20.00,-999.000,9,-999.000,9,-999.000,9,   1.5252,2,-999.000,9, -999.00,9, -999.00,-999.000,9,-999.000,   40.03,2,   32.59,2, -32.1755,  90.8228,-999.000,-999.000,20090428,       0157
33RR20090320,        I05,     137,          1,          5,          5,2,20090428,       0134,   -32.1759,    90.8230,       4013,  3325.1,   1.3333,  34.7290,2,  34.7288,2,    200.1,2,   200.3,2,  110.86,2,   31.62,2,    0.00,2,    2.20,2,   0.021,2,   0.012,2,   0.0250,2,  2260.7,2,  2366.3,2,   7.6869,2,    20.00,-999.000,9,-999.000,9,-999.000,9,   1.3334,2,-999.000,9, -999.00,9, -999.00,-999.000,9,-999.000,   40.24,2,   33.14,2, -32.1755,  90.8230,-999.000,-999.000,20090428,       0151
33RR20090320,        I05,     137,          1,          4,          4,2,20090428,       0134,   -32.1759,    90.8230,       4013,  3630.0,   1.2095,  34.7226,2,  34.7221,2,    201.4,2,   202.3,2,  115.11,2,   31.76,2,    0.00,2,    2.22,2,   0.029,2,   0.015,2,   0.0000,2,  2262.8,2,  2370.0,2,   7.6889,2,    20.00,-999.000,9,-999.000,9,-999.000,9,   1.2088,2,-999.000,9, -999.00,9, -999.00,-999.000,9,-999.000,   40.07,2,   33.41,2, -32.1756,  90.8231,-999.000,-999.000,20090428,       0144
33RR20090320,        I05,     137,          1,          3,          3,2,20090428,       0134,   -32.1759,    90.8230,       4013,  3933.4,   1.1339,  34.7182,2,  34.7178,2,    203.0,2,   203.3,2,  117.69,2,   31.92,2,    0.00,2,    2.23,2,   0.028,2,   0.015,2,   0.0720,4,  2265.3,2,  2374.8,2,   7.6917,2,    20.00,-999.000,9,-999.000,9,-999.000,9,   1.1338,2,-999.000,9, -999.00,9, -999.00,-999.000,9,-999.000,   40.06,2,   33.17,2, -32.1758,  90.8230,-999.000,-999.000,20090428,       0138
33RR20090320,        I05,     137,          1,          2,          2,2,20090428,       0134,   -32.1759,    90.8230,       4013,  4001.0,   1.1244,  34.7172,2,  34.7180,2,    203.3,2,   203.5,2,  117.87,2,   31.97,2,    0.00,2,    2.23,2,   0.022,2,   0.012,2,   0.0810,4,  2265.7,2,  2376.4,2,   7.6920,2,    20.00,-999.000,9,-999.000,9,-999.000,9,   1.1247,2,-999.000,9, -999.00,9, -999.00,-999.000,9,-999.000,   40.36,2,   33.42,2, -32.1759,  90.8229,-999.000,-999.000,20090428,       0136
33RR20090320,        I05,     137,          1,          1,          1,2,20090428,       0134,   -32.1759,    90.8230,       4013,  4067.1,   1.1066,  34.7163,2,  34.7164,2,    203.2,2,   203.6,2,  118.41,2,   32.02,2,    0.00,2,    2.24,2,   0.023,6,   0.013,6,   0.0000,2,  2267.0,6,  2377.4,2,   7.6927,2,    20.00,-999.000,9,-999.000,9,-999.000,9,   1.1069,2,-999.000,9, -999.00,9, -999.00,-999.000,9,-999.000,   40.16,2,   33.20,2, -32.1759,  90.8229,-999.000,-999.000,20090428,       0134