BOTTLE,20220814CCHSIOAMB
EXPOCODE,SECT_ID,STNNBR,CASTNO,SAMPNO,BTLNBR,BTLNBR_FLAG_W,DATE,TIME,LATITUDE,LONGITUDE,DEPTH,CTDPRS,CTDTMP,CTDSAL,CTDSAL_FLAG_W,SALNTY,SALNTY_FLAG_W,CTDOXY,CTDOXY_FLAG_W,OXYGEN,OXYGEN_FLAG_W,SILCAT,SILCAT_FLAG_W,NITRAT,NITRAT_FLAG_W,NITRIT,NITRIT_FLAG_W,PHSPHT,PHSPHT_FLAG_W,CFC-11,CFC-11_FLAG_W,CFC-12,CFC-12_FLAG_W,SF6,SF6_FLAG_W,TCARBN,TCARBN_FLAG_W,ALKALI,ALKALI_FLAG_W,PH_TOT,PH_TOT_FLAG_W,PH_TMP,TRITUM,TRITUM_FLAG_W,HELIUM,HELIUM_FLAG_W,DELHE3,DELHE3_FLAG_W,REFTMP,REFTMP_FLAG_W,DELC13,DELC13_FLAG_W,DELC14,DELC14_FLAG_W,C14ERR,NEON,NEON_FLAG_W,NEONER,DOC,DOC_FLAG_W,TDN,TDN_FLAG_W,BTL_LAT,BTL_LON,HELIER,DELHER,BTL_DATE,BTL_TIME
,,,,,,,,,,,METERS,DBAR,ITS-90,PSS-78,,PSS-78,,UMOL/KG,,UMOL/KG,,UMOL/KG,,UMOL/KG,,UMOL/KG,,UMOL/KG,,PMOL/KG,,PMOL/KG,,FMOL/KG,,UMOL/KG,,UMOL/KG,,,,DEG C,TU,,NMOL/KG,,PERCNT,,DEG C,,/MILLE,,/MILLE,,/MILLE,NMOL/KG,,NMOL/KG,UMOL/KG,,UMOL/KG,,,,NMOL/KG,PERCNT,,
33RR20090320,        I05,      74,          1,         36,         36,2,20090410,       1304,   -33.9984,    58.7540,       3853,     3.8,  21.1394,  35.5970,2,  35.5967,2,    223.0,2,   223.5,2,    2.12,2,    0.06,2,    0.01,2,    0.13,2,-999.000,9,-999.000,9,-999.0000,9,  2050.5,6,  2334.8,2,   8.0919,2,    20.00,-999.000,9,-999.000,9,-999.000,9,  21.1371,2,-999.000,9, -999.00,9, -999.00,-999.000,9,-999.000, -999.00,9, -999.00,9, -33.9984,  58.7541,-999.000,-999.000,20090410,       1455
33RR20090320,        I05,      74,          1,         35,         35,2,20090410,       1304,   -33.9984,    58.7540,       3853,    24.6,  21.1187,  35.5995,2,  35.5987,2,    224.1,2,   223.7,2,    2.10,2,   -0.01,2,    0.01,2,    0.12,2,-999.000,9,-999.000,9,-999.0000,9,  2050.9,2,  2334.1,2,   8.0918,2,    20.00,-999.000,9,-999.000,9,-999.000,9,  21.1171,2,-999.000,9, -999.00,9, -999.00,-999.000,9,-999.000, -999.00,9, -999.00,9, -33.9984,  58.7541,-999.000,-999.000,20090410,       1454
33RR20090320,        I05,      74,          1,         34,         34,2,20090410,       1304,   -33.9984,    58.7540,       3853,    49.0,  21.0364,  35.6079,2,  35.6074,2,    224.5,2,   224.0,2,    2.07,2,   -0.01,2,    0.01,2,    0.12,2,-999.000,9,-999.000,9,-999.0000,9,  2052.3,2,  2334.7,2,   8.0915,2,    20.00,-999.000,9,-999.000,9,-999.000,9,  21.0373,2,-999.000,9, -999.00,9, -999.00,-999.000,9,-999.000, -999.00,9, -999.00,9, -33.9983,  58.7542,-999.000,-999.000,20090410,       1452
33RR20090320,        I05,      74,          1,         33,         33,2,20090410,       1304,   -33.9984,    58.7540,       3853,    73.8,  20.1878,  35.5519,2,  35.5512,2,    231.5,2,   232.5,2,    2.05,2,   -0.01,2,    0.01,2,    0.13,2,-999.000,9,-999.000,9,-999.0000,9,  2051.9,2,  2329.9,2,   8.0850,2,    20.00,-999.000,9,-999.000,9,-999.000,9,  20.2168,2,-999.000,9, -999.00,9, -999.00,-999.000,9,-999.000, -999.00,9, -999.00,9, -33.9982,  58.7542,-999.000,-999.000,20090410,       1451
33RR20090320,        I05,      74,          1,         32,         32,2,20090410,       1304,   -33.9984,    58.7540,       3853,    99.4,  17.2182,  35.4937,2,  35.4944,2,    238.2,2,   237.8,2,    2.44,2,    0.46,2,    0.07,2,    0.21,2,-999.000,9,-999.000,9,-999.0000,9,  -999.0,9,  -999.0,9,-999.0000,9,  -999.00,-999.000,9,-999.000,9,-999.000,9,  17.2266,2,-999.000,9, -999.00,9, -999.00,-999.000,9,-999.000, -999.00,9, -999.00,9, -33.9982,  58.7541,-999.000,-999.000,20090410,       1449
33RR20090320,        I05,      74,          1,         31,         31,2,20090410,       1304,   -33.9984,    58.7540,       3853,   124.8,  15.8377,  35.4714,2,  35.4707,2,    227.2,2,   226.2,2,    3.26,2,    3.46,2,    0.03,2,    0.37,2,-999.000,9,-999.000,9,-999.0000,9,  2086.9,2,  2324.9,2,   8.0141,2,    20.00,-999.000,9,-999.000,9,-999.000,9,  15.8356,2,-999.000,9, -999.00,9, -999.00,-999.000,9,-999.000, -999.00,9, -999.00,9, -33.9982,  58.7540,-999.000,-999.000,20090410,       1448
33RR20090320,        I05,      74,          1,         30,         30,2,20090410,       1304,   -33.9984,    58.7540,       3853,   148.6,  15.3124,  35.4486,2,  35.4474,2,    223.6,2,   224.3,2,    3.45,2,    4.46,2,    0.01,2,    0.44,2,-999.000,9,-999.000,9,-999.0000,9,  -999.0,9,  -999.0,9,-999.0000,9,  -999.00,-999.000,9,-999.000,9,-999.000,9,  15.3089,2,-999.000,9, -999.00,9, -999.00,-999.000,9,-999.000, -999.00,9, -999.00,9, -33.9982,  58.7540,-999.000,-999.000,20090410,       1447
33RR20090320,        I05,      74,          1,         29,         29,2,20090410,       1304,   -33.9984,    58.7540,       3853,   198.4,  14.7790,  35.4166,2,  35.4151,2,    224.5,2,   224.5,2,    3.63,2,    5.40,2,    0.01,2,    0.49,2,-999.000,9,-999.000,9,-999.0000,9,  2099.0,2,  2323.8,2,   7.9862,2,    20.00,-999.000,9,-999.000,9,-999.000,9,  14.8023,2,-999.000,9, -999.00,9, -999.00,-999.000,9,-999.000, -999.00,9, -999.00,9, -33.9982,  58.7539,-999.000,-999.000,20090410,       1445
33RR20090320,        I05,      74,          1,         28,         28,2,20090410,       1304,   -33.9984,    58.7540,       3853,   249.3,  14.2434,  35.3736,2,  35.3711,2,    224.8,2,   225.4,2,    3.82,2,    6.49,2,    0.01,2,    0.56,2,-999.000,9,-999.000,9,-999.0000,9,  -999.0,9,  -999.0,9,-999.0000,9,  -999.00,-999.000,9,-999.000,9,-999.000,9,  14.2344,2,-999.000,9, -999.00,9, -999.00,-999.000,9,-999.000, -999.00,9, -999.00,9, -33.9983,  58.7538,-999.000,-999.000,20090410,       1444
33RR20090320,        I05,      74,          1,         27,         27,2,20090410,       1304,   -33.9984,    58.7540,       3853,   298.7,  13.7938,  35.3306,2,  35.3307,2,    224.9,2,   225.5,2,    4.22,2,    7.43,2,    0.01,2,    0.61,2,-999.000,9,-999.000,9,-999.0000,9,  2107.3,2,  2319.4,2,   7.9606,2,    20.00,-999.000,9,-999.000,9,-999.000,9,  13.7929,2,-999.000,9, -999.00,9, -999.00,-999.000,9,-999.000, -999.00,9, -999.00,9, -33.9983,  58.7538,-999.000,-999.000,20090410,       1442
33RR20090320,        I05,      74,          1,         26,         26,2,20090410,       1304,   -33.9984,    58.7540,       3853,   349.0,  13.4192,  35.2878,2,  35.2856,2,    226.0,2,   226.2,2,    4.40,2,    8.31,2,    0.01,2,    0.66,2,-999.000,9,-999.000,9,-999.0000,9,  -999.0,9,  -999.0,9,-999.0000,9,  -999.00,-999.000,9,-999.000,9,-999.000,9,  13.4186,2,-999.000,9, -999.00,9, -999.00,-999.000,9,-999.000, -999.00,9, -999.00,9, -33.9984,  58.7538,-999.000,-999.000,20090410,       1440
33RR20090320,        I05,      74,          1,         25,         25,2,20090410,       1304,   -33.9984,    58.7540,       3853,   398.7,  13.1198,  35.2500,2,  35.2499,2,    227.3,2,   227.5,2,    4.37,2,    8.88,2,    0.01,2,    0.69,2,-999.000,9,-999.000,9,-999.0000,9,  2112.2,2,  2317.8,2,   7.9447,2,    20.00,-999.000,9,-999.000,9,-999.000,9,  13.1211,2,-999.000,9, -999.00,9, -999.00,-999.000,9,-999.000, -999.00,9, -999.00,9, -33.9985,  58.7540,-999.000,-999.000,20090410,       1438
33RR20090320,        I05,      74,          1,         24,         24,2,20090410,       1304,   -33.9984,    58.7540,       3853,   449.9,  12.8168,  35.2064,2,  35.2046,2,    228.1,2,   228.4,2,    4.57,2,    9.51,2,    0.01,2,    0.74,2,-999.000,9,-999.000,9,-999.0000,9,  -999.0,9,  -999.0,9,-999.0000,9,  -999.00,-999.000,9,-999.000,9,-999.000,9,  12.8130,2,-999.000,9, -999.00,9, -999.00,-999.000,9,-999.000, -999.00,9, -999.00,9, -33.9984,  58.7541,-999.000,-999.000,20090410,       1436
33RR20090320,        I05,      74,          1,         23,         23,2,20090410,       1304,   -33.9984,    58.7540,       3853,   499.3,  12.5389,  35.1625,2,  35.1591,2,    227.0,2,   226.9,2,    4.75,2,   10.28,2,    0.01,2,    0.79,2,-999.000,9,-999.000,9,-999.0000,9,  2116.3,2,  2313.0,2,   7.9285,2,    20.00,-999.000,9,-999.000,9,-999.000,9,  12.5357,2,-999.000,9, -999.00,9, -999.00,-999.000,9,-999.000, -999.00,9, -999.00,9, -33.9984,  58.7541,-999.000,-999.000,20090410,       1433
33RR20090320,        I05,      74,          1,         22,         22,2,20090410,       1304,   -33.9984,    58.7540,       3853,   599.1,  11.8814,  35.0542,2,  35.0568,2,    226.0,2,   226.0,2,    5.15,2,   11.73,2,    0.01,2,    0.88,2,-999.000,9,-999.000,9,-999.0000,9,  -999.0,9,  -999.0,9,-999.0000,9,  -999.00,-999.000,9,-999.000,9,-999.000,9,  11.8803,2,-999.000,9, -999.00,9, -999.00,-999.000,9,-999.000, -999.00,9, -999.00,9, -33.9986,  58.7539,-999.000,-999.000,20090410,       1430
33RR20090320,        I05,      74,          1,         21,         21,2,20090410,       1304,   -33.9984,    58.7540,       3853,   697.5,  11.0459,  34.9315,2,  34.9306,2,    222.3,2,   222.0,2,    5.97,2,   13.92,2,    0.01,2,    1.03,2,-999.000,9,-999.000,9,-999.0000,9,  -999.0,9,  -999.0,9,-999.0000,9,  -999.00,-999.000,9,-999.000,9,-999.000,9,  11.0459,2,-999.000,9, -999.00,9, -999.00,-999.000,9,-999.000, -999.00,9, -999.00,9, -33.9987,  58.7537,-999.000,-999.000,20090410,       1427
33RR20090320,        I05,      74,          1,         20,         20,2,20090410,       1304,   -33.9984,    58.7540,       3853,   798.8,   9.9300,  34.7868,2,  34.7855,2,    216.4,2,   216.7,2,    8.06,2,   16.94,2,    0.01,2,    1.22,2,-999.000,9,-999.000,9,-999.0000,9,  2137.0,2,  2299.8,2,   7.8512,2,    20.00,-999.000,9,-999.000,9,-999.000,9,   9.9296,2,-999.000,9, -999.00,9, -999.00,-999.000,9,-999.000, -999.00,9, -999.00,9, -33.9985,  58.7538,-999.000,-999.000,20090410,       1424
33RR20090320,        I05,      74,          1,         19,         19,2,20090410,       1304,   -33.9984,    58.7540,       3853,   900.2,   8.8133,  34.6633,2,  34.6622,2,    209.6,2,   209.5,2,   11.41,2,   20.13,2,    0.01,2,    1.44,2,-999.000,9,-999.000,9,-999.0000,9,  -999.0,9,  -999.0,9,-999.0000,9,  -999.00,-999.000,9,-999.000,9,-999.000,9,   8.8077,2,-999.000,9, -999.00,9, -999.00,-999.000,9,-999.000, -999.00,9, -999.00,9, -33.9982,  58.7540,-999.000,-999.000,20090410,       1421
33RR20090320,        I05,      74,          1,         18,         18,2,20090410,       1304,   -33.9984,    58.7540,       3853,   999.4,   7.6881,  34.5576,2,  34.5568,2,    205.1,2,   205.4,2,   15.82,2,   23.16,2,    0.01,2,    1.65,2,-999.000,9,-999.000,9,-999.0000,9,  2161.8,2,  2294.6,2,   7.7787,2,    20.00,-999.000,9,-999.000,9,-999.000,9,   7.6854,2,-999.000,9, -999.00,9, -999.00,-999.000,9,-999.000, -999.00,9, -999.00,9, -33.9982,  58.7539,-999.000,-999.000,20090410,       1418
33RR20090320,        I05,      74,          1,         17,         17,9,20090410,       1304,   -33.9984,    58.7540,       3853,  1100.3,   5.8992,  34.4241,2,-999.0000,9,   -999.0,5,  -999.0,9, -999.00,9, -999.00,9, -999.00,9, -999.00,9,-999.000,9,-999.000,9,-999.0000,9,  -999.0,9,  -999.0,9,-999.0000,9,  -999.00,-999.000,9,-999.000,9,-999.000,9,   5.8983,2,-999.000,9, -999.00,9, -999.00,-999.000,9,-999.000, -999.00,9, -999.00,9, -33.9983,  58.7535,-999.000,-999.000,20090410,       1414
33RR20090320,        I05,      74,          1,         16,         16,2,20090410,       1304,   -33.9984,    58.7540,       3853,  1200.4,   5.1064,  34.3873,2,  34.3864,2,    203.9,2,   203.8,2,   29.58,2,   29.04,2,    0.01,2,    2.07,2,-999.000,9,-999.000,9,-999.0000,9,  -999.0,9,  -999.0,9,-999.0000,9,  -999.00,-999.000,9,-999.000,9,-999.000,9,   5.1083,2,-999.000,9, -999.00,9, -999.00,-999.000,9,-999.000, -999.00,9, -999.00,9, -33.9983,  58.7533,-999.000,-999.000,20090410,       1411
33RR20090320,        I05,      74,          1,         15,         15,2,20090410,       1304,   -33.9984,    58.7540,       3853,  1295.7,   4.3531,  34.3878,2,  34.3877,2,    195.7,2,   197.3,2,   38.50,2,   30.83,2,    0.01,2,    2.22,2,-999.000,9,-999.000,9,-999.0000,9,  -999.0,9,  -999.0,9,-999.0000,9,  -999.00,-999.000,9,-999.000,9,-999.000,9,   4.3511,2,-999.000,9, -999.00,9, -999.00,-999.000,9,-999.000, -999.00,9, -999.00,9, -33.9983,  58.7533,-999.000,-999.000,20090410,       1408
33RR20090320,        I05,      74,          1,         14,         14,2,20090410,       1304,   -33.9984,    58.7540,       3853,  1397.5,   3.8025,  34.4222,2,  34.4215,2,    187.4,2,   188.0,2,   48.08,2,   32.20,2,    0.01,2,    2.32,2,-999.000,9,-999.000,9,-999.0000,9,  2220.2,2,  2313.3,2,   7.6679,2,    20.00,-999.000,9,-999.000,9,-999.000,9,   3.8023,2,-999.000,9, -999.00,9, -999.00,-999.000,9,-999.000, -999.00,9, -999.00,9, -33.9983,  58.7536,-999.000,-999.000,20090410,       1404
33RR20090320,        I05,      74,          1,         13,         13,2,20090410,       1304,   -33.9984,    58.7540,       3853,  1497.6,   3.4194,  34.4705,2,  34.4712,2,    179.7,2,   179.8,2,   56.84,2,   32.93,2,    0.01,2,    2.38,2,-999.000,9,-999.000,9,-999.0000,9,  -999.0,9,  -999.0,9,-999.0000,9,  -999.00,-999.000,9,-999.000,9,-999.000,9,   3.4159,2,-999.000,9, -999.00,9, -999.00,-999.000,9,-999.000, -999.00,9, -999.00,9, -33.9983,  58.7538,-999.000,-999.000,20090410,       1401
33RR20090320,        I05,      74,          1,         12,         12,2,20090410,       1304,   -33.9984,    58.7540,       3853,  1597.6,   3.1674,  34.5189,2,  34.5197,2,    175.8,2,   175.8,2,   63.26,2,   33.09,2,    0.01,2,    2.39,2,-999.000,9,-999.000,9,-999.0000,9,  -999.0,9,  -999.0,9,-999.0000,9,  -999.00,-999.000,9,-999.000,9,-999.000,9,   3.1693,2,-999.000,9, -999.00,9, -999.00,-999.000,9,-999.000, -999.00,9, -999.00,9, -33.9984,  58.7538,-999.000,-999.000,20090410,       1358
33RR20090320,        I05,      74,          1,         11,         11,2,20090410,       1304,   -33.9984,    58.7540,       3853,  1698.1,   2.9503,  34.5698,2,  34.5690,2,    174.9,2,   174.8,2,   68.83,2,   32.93,2,    0.01,2,    2.38,2,-999.000,9,-999.000,9,-999.0000,9,  2246.7,2,  2335.6,2,   7.6529,2,    20.00,-999.000,9,-999.000,9,-999.000,9,   2.9509,2,-999.000,9, -999.00,9, -999.00,-999.000,9,-999.000, -999.00,9, -999.00,9, -33.9986,  58.7539,-999.000,-999.000,20090410,       1355
33RR20090320,        I05,      74,          1,         10,         10,2,20090410,       1304,   -33.9984,    58.7540,       3853,  1798.8,   2.7969,  34.6058,2,  34.6057,2,    175.1,2,   175.1,2,   73.13,2,   32.72,2,    0.01,2,    2.36,2,-999.000,9,-999.000,9,-999.0000,9,  -999.0,9,  -999.0,9,-999.0000,9,  -999.00,-999.000,9,-999.000,9,-999.000,9,   2.7971,2,-999.000,9, -999.00,9, -999.00,-999.000,9,-999.000, -999.00,9, -999.00,9, -33.9986,  58.7540,-999.000,-999.000,20090410,       1351
33RR20090320,        I05,      74,          1,          9,          9,2,20090410,       1304,   -33.9984,    58.7540,       3853,  2000.1,   2.5648,  34.6630,2,  34.6635,2,    178.6,2,   178.6,2,   79.58,2,   32.02,2,    0.01,2,    2.30,2,-999.000,9,-999.000,9,-999.0000,9,  -999.0,9,  -999.0,9,-999.0000,9,  -999.00,-999.000,9,-999.000,9,-999.000,9,   2.5641,2,-999.000,9, -999.00,9, -999.00,-999.000,9,-999.000, -999.00,9, -999.00,9, -33.9986,  58.7540,-999.000,-999.000,20090410,       1347
33RR20090320,        I05,      74,          1,          8,          8,2,20090410,       1304,   -33.9984,    58.7540,       3853,  2248.7,   2.3834,  34.7086,2,  34.7087,2,    182.9,2,   183.1,2,   83.46,2,   31.28,2,    0.01,2,    2.26,2,-999.000,9,-999.000,9,-999.0000,9,  -999.0,9,  -999.0,9,-999.0000,9,  -999.00,-999.000,9,-999.000,9,-999.000,9,   2.3830,2,-999.000,9, -999.00,9, -999.00,-999.000,9,-999.000, -999.00,9, -999.00,9, -33.9984,  58.7541,-999.000,-999.000,20090410,       1341
33RR20090320,        I05,      74,          1,          7,          7,2,20090410,       1304,   -33.9984,    58.7540,       3853,  2494.3,   2.2297,  34.7293,2,  34.7289,2,    185.9,2,   185.5,2,   89.07,2,   31.01,2,    0.01,2,    2.24,2,-999.000,9,-999.000,9,-999.0000,9,  2256.4,2,  2357.0,2,   7.6844,2,    20.00,-999.000,9,-999.000,9,-999.000,9,   2.2285,2,-999.000,9, -999.00,9, -999.00,-999.000,9,-999.000, -999.00,9, -999.00,9, -33.9984,  58.7539,-999.000,-999.000,20090410,       1336
33RR20090320,        I05,      74,          1,          6,          6,2,20090410,       1304,   -33.9984,    58.7540,       3853,  2746.3,   2.0291,  34.7431,2,  34.7435,2,    191.7,2,   192.1,2,   92.10,2,   30.58,2,    0.01,2,    2.20,2,-999.000,9,-999.000,9,-999.0000,9,  -999.0,9,  -999.0,9,-999.0000,9,  -999.00,-999.000,9,-999.000,9,-999.000,9,   2.0288,2,-999.000,9, -999.00,9, -999.00,-999.000,9,-999.000, -999.00,9, -999.00,9, -33.9983,  58.7539,-999.000,-999.000,20090410,       1330
33RR20090320,        I05,      74,          1,          5,          5,2,20090410,       1304,   -33.9984,    58.7540,       3853,  2996.3,   1.8143,  34.7458,2,  34.7465,2,    195.5,2,   196.1,2,   97.72,2,   30.42,2,    0.01,2,    2.20,2,-999.000,9,-999.000,9,-999.0000,9,  -999.0,9,  -999.0,9,-999.0000,9,  -999.00,-999.000,9,-999.000,9,-999.000,9,   1.8135,2,-999.000,9, -999.00,9, -999.00,-999.000,9,-999.000, -999.00,9, -999.00,9, -33.9982,  58.7538,-999.000,-999.000,20090410,       1324
33RR20090320,        I05,      74,          1,          4,          4,2,20090410,       1304,   -33.9984,    58.7540,       3853,  3250.2,   1.5495,  34.7362,2,  34.7366,2,    197.0,2,   196.9,2,  107.05,2,   31.16,2,    0.01,2,    2.24,2,-999.000,9,-999.000,9,-999.0000,9,  2262.3,2,  2366.5,2,   7.6897,2,    20.00,-999.000,9,-999.000,9,-999.000,9,   1.5497,2,-999.000,9, -999.00,9, -999.00,-999.000,9,-999.000, -999.00,9, -999.00,9, -33.9983,  58.7538,-999.000,-999.000,20090410,       1319
33RR20090320,        I05,      74,          1,          3,          3,2,20090410,       1304,   -33.9984,    58.7540,       3853,  3497.4,   1.1952,  34.7234,2,  34.7236,2,    204.8,2,   205.3,2,  112.28,2,   31.26,2,    0.01,2,    2.25,2,-999.000,9,-999.000,9,-999.0000,9,  -999.0,9,  -999.0,9,-999.0000,9,  -999.00,-999.000,9,-999.000,9,-999.000,9,   1.1966,2,-999.000,9, -999.00,9, -999.00,-999.000,9,-999.000, -999.00,9, -999.00,9, -33.9984,  58.7538,-999.000,-999.000,20090410,       1314
33RR20090320,        I05,      74,          1,          2,          2,2,20090410,       1304,   -33.9984,    58.7540,       3853,  3781.5,   0.8251,  34.7052,2,  34.7048,2,    211.5,2,   212.1,2,  121.64,2,   31.68,2,    0.01,2,    2.28,2,-999.000,9,-999.000,9,-999.0000,9,  -999.0,9,  -999.0,9,-999.0000,9,  -999.00,-999.000,9,-999.000,9,-999.000,9,   0.8259,2,-999.000,9, -999.00,9, -999.00,-999.000,9,-999.000, -999.00,9, -999.00,9, -33.9983,  58.7542,-999.000,-999.000,20090410,       1308
33RR20090320,        I05,      74,          1,          1,          1,2,20090410,       1304,   -33.9984,    58.7540,       3853,  3900.1,   0.7485,  34.7011,2,  34.7013,2,    213.5,2,   213.2,2,  123.16,2,   31.84,2,    0.01,2,    2.29,2,-999.000,9,-999.000,9,-999.0000,9,  2260.5,2,  2360.4,2,   7.6812,2,    20.00,-999.000,9,-999.000,9,-999.000,9,   0.7469,2,-999.000,9, -999.00,9, -999.00,-999.000,9,-999.000, -999.00,9, -999.00,9, -33.9984,  58.7539,-999.000,-999.000,20090410,       1304