BOTTLE,20220814CCHSIOAMB
EXPOCODE,SECT_ID,STNNBR,CASTNO,SAMPNO,BTLNBR,BTLNBR_FLAG_W,DATE,TIME,LATITUDE,LONGITUDE,DEPTH,CTDPRS,CTDTMP,CTDSAL,CTDSAL_FLAG_W,SALNTY,SALNTY_FLAG_W,CTDOXY,CTDOXY_FLAG_W,OXYGEN,OXYGEN_FLAG_W,SILCAT,SILCAT_FLAG_W,NITRAT,NITRAT_FLAG_W,NITRIT,NITRIT_FLAG_W,PHSPHT,PHSPHT_FLAG_W,CFC-11,CFC-11_FLAG_W,CFC-12,CFC-12_FLAG_W,SF6,SF6_FLAG_W,TCARBN,TCARBN_FLAG_W,ALKALI,ALKALI_FLAG_W,PH_TOT,PH_TOT_FLAG_W,PH_TMP,TRITUM,TRITUM_FLAG_W,HELIUM,HELIUM_FLAG_W,DELHE3,DELHE3_FLAG_W,REFTMP,REFTMP_FLAG_W,DELC13,DELC13_FLAG_W,DELC14,DELC14_FLAG_W,C14ERR,NEON,NEON_FLAG_W,NEONER,DOC,DOC_FLAG_W,TDN,TDN_FLAG_W,BTL_LAT,BTL_LON,HELIER,DELHER,BTL_DATE,BTL_TIME
,,,,,,,,,,,METERS,DBAR,ITS-90,PSS-78,,PSS-78,,UMOL/KG,,UMOL/KG,,UMOL/KG,,UMOL/KG,,UMOL/KG,,UMOL/KG,,PMOL/KG,,PMOL/KG,,FMOL/KG,,UMOL/KG,,UMOL/KG,,,,DEG C,TU,,NMOL/KG,,PERCNT,,DEG C,,/MILLE,,/MILLE,,/MILLE,NMOL/KG,,NMOL/KG,UMOL/KG,,UMOL/KG,,,,NMOL/KG,PERCNT,,
33RR20090320,        I05,      78,          1,         36,         36,2,20090412,       2001,   -33.9961,    61.1243,       5080,    12.6,  19.8013,  35.4924,2,  35.4924,2,    228.2,2,   228.9,2,    1.63,2,    0.09,2,    0.00,2,    0.15,2,-999.000,9,-999.000,9,-999.0000,9,  2055.7,6,  2331.8,2,   8.0759,2,    20.00,-999.000,9,-999.000,9,-999.000,9,  19.8000,2,-999.000,9, -999.00,9, -999.00,-999.000,9,-999.000, -999.00,9, -999.00,9, -33.9957,  61.1220,-999.000,-999.000,20090412,       2222
33RR20090320,        I05,      78,          1,         35,         35,2,20090412,       2001,   -33.9961,    61.1243,       5080,    43.4,  19.8042,  35.4924,2,  35.4922,2,    229.7,2,   229.7,2,    1.62,2,    0.09,2,    0.00,2,    0.15,2,-999.000,9,-999.000,9,-999.0000,9,  2055.6,2,  2330.3,2,   8.0755,2,    20.00,-999.000,9,-999.000,9,-999.000,9,  19.8024,2,-999.000,9, -999.00,9, -999.00,-999.000,9,-999.000, -999.00,9, -999.00,9, -33.9957,  61.1221,-999.000,-999.000,20090412,       2221
33RR20090320,        I05,      78,          1,         34,         34,2,20090412,       2001,   -33.9961,    61.1243,       5080,    68.1,  19.7961,  35.4922,2,  35.4922,2,    229.6,2,   229.0,2,    1.62,2,    0.10,2,    0.00,2,    0.14,2,-999.000,9,-999.000,9,-999.0000,9,  2056.0,2,  2331.7,2,   8.0751,2,    20.00,-999.000,9,-999.000,9,-999.000,9,  19.7950,2,-999.000,9, -999.00,9, -999.00,-999.000,9,-999.000, -999.00,9, -999.00,9, -33.9957,  61.1222,-999.000,-999.000,20090412,       2218
33RR20090320,        I05,      78,          1,         33,         33,2,20090412,       2001,   -33.9961,    61.1243,       5080,    93.0,  16.5320,  35.4518,2,  35.4547,2,    256.0,2,   254.8,2,    1.62,2,    0.10,2,    0.00,2,    0.18,2,-999.000,9,-999.000,9,-999.0000,9,  2065.6,2,  2329.8,2,   8.0584,2,    20.00,-999.000,9,-999.000,9,-999.000,9,  16.5585,2,-999.000,9, -999.00,9, -999.00,-999.000,9,-999.000, -999.00,9, -999.00,9, -33.9956,  61.1222,-999.000,-999.000,20090412,       2217
33RR20090320,        I05,      78,          1,         32,         32,2,20090412,       2001,   -33.9961,    61.1243,       5080,   123.7,  14.8832,  35.3868,2,  35.3908,2,    237.5,2,   239.0,2,    2.23,2,    1.89,2,    0.13,2,    0.34,2,-999.000,9,-999.000,9,-999.0000,9,  -999.0,9,  -999.0,9,-999.0000,9,  -999.00,-999.000,9,-999.000,9,-999.000,9,  14.9009,2,-999.000,9, -999.00,9, -999.00,-999.000,9,-999.000, -999.00,9, -999.00,9, -33.9956,  61.1223,-999.000,-999.000,20090412,       2215
33RR20090320,        I05,      78,          1,         31,         31,2,20090412,       2001,   -33.9961,    61.1243,       5080,   172.8,  13.6923,  35.2857,2,  35.2854,2,    231.5,2,   229.9,2,    3.26,2,    6.63,2,    0.01,2,    0.57,2,-999.000,9,-999.000,9,-999.0000,9,  2105.5,2,  2319.3,2,   7.9601,2,    20.00,-999.000,9,-999.000,9,-999.000,9,  13.6915,2,-999.000,9, -999.00,9, -999.00,-999.000,9,-999.000, -999.00,9, -999.00,9, -33.9956,  61.1225,-999.000,-999.000,20090412,       2213
33RR20090320,        I05,      78,          1,         30,         30,2,20090412,       2001,   -33.9961,    61.1243,       5080,   223.0,  13.2602,  35.2520,2,  35.2521,2,    231.7,2,   232.5,2,    3.67,2,    7.87,2,    0.00,2,    0.63,2,-999.000,9,-999.000,9,-999.0000,9,  -999.0,9,  -999.0,9,-999.0000,9,  -999.00,-999.000,9,-999.000,9,-999.000,9,  13.2599,2,-999.000,9, -999.00,9, -999.00,-999.000,9,-999.000, -999.00,9, -999.00,9, -33.9955,  61.1224,-999.000,-999.000,20090412,       2211
33RR20090320,        I05,      78,          1,         29,         29,2,20090412,       2001,   -33.9961,    61.1243,       5080,   273.9,  12.9400,  35.2138,2,  35.2125,2,    233.5,2,   233.4,2,    3.87,2,    8.62,2,    0.00,2,    0.68,2,-999.000,9,-999.000,9,-999.0000,9,  2108.3,2,  2314.3,2,   7.9442,2,    20.00,-999.000,9,-999.000,9,-999.000,9,  12.9397,2,-999.000,9, -999.00,9, -999.00,-999.000,9,-999.000, -999.00,9, -999.00,9, -33.9955,  61.1225,-999.000,-999.000,20090412,       2209
33RR20090320,        I05,      78,          1,         28,         28,2,20090412,       2001,   -33.9961,    61.1243,       5080,   322.0,  12.6638,  35.1763,2,  35.1769,2,    234.1,2,   234.5,2,    4.08,2,    9.21,2,    0.00,2,    0.71,2,-999.000,9,-999.000,9,-999.0000,9,  -999.0,9,  -999.0,9,-999.0000,9,  -999.00,-999.000,9,-999.000,9,-999.000,9,  12.6643,2,-999.000,9, -999.00,9, -999.00,-999.000,9,-999.000, -999.00,9, -999.00,9, -33.9955,  61.1224,-999.000,-999.000,20090412,       2206
33RR20090320,        I05,      78,          1,         27,         27,2,20090412,       2001,   -33.9961,    61.1243,       5080,   372.1,  12.3719,  35.1328,2,  35.1326,2,    235.0,2,   234.8,2,    4.27,2,    9.96,2,    0.00,2,    0.76,2,-999.000,9,-999.000,9,-999.0000,9,  2111.2,2,  2312.9,2,   7.9313,2,    20.00,-999.000,9,-999.000,9,-999.000,9,  12.3752,2,-999.000,9, -999.00,9, -999.00,-999.000,9,-999.000, -999.00,9, -999.00,9, -33.9955,  61.1225,-999.000,-999.000,20090412,       2204
33RR20090320,        I05,      78,          1,         26,         26,2,20090412,       2001,   -33.9961,    61.1243,       5080,   441.5,  11.9912,  35.0728,2,  35.0725,2,    235.7,2,   234.2,2,    4.48,2,   10.87,2,    0.00,2,    0.82,2,-999.000,9,-999.000,9,-999.0000,9,  -999.0,9,  -999.0,9,-999.0000,9,  -999.00,-999.000,9,-999.000,9,-999.000,9,  11.9888,2,-999.000,9, -999.00,9, -999.00,-999.000,9,-999.000, -999.00,9, -999.00,9, -33.9955,  61.1224,-999.000,-999.000,20090412,       2202
33RR20090320,        I05,      78,          1,         25,         25,2,20090412,       2001,   -33.9961,    61.1243,       5080,   540.7,  11.2303,  34.9551,2,  34.9545,2,    229.8,2,   228.5,2,    5.09,2,   13.07,2,    0.00,2,    0.96,2,-999.000,9,-999.000,9,-999.0000,9,  2121.2,2,  2303.7,2,   7.8953,2,    20.00,-999.000,9,-999.000,9,-999.000,9,  11.2292,2,-999.000,9, -999.00,9, -999.00,-999.000,9,-999.000, -999.00,9, -999.00,9, -33.9955,  61.1227,-999.000,-999.000,20090412,       2159
33RR20090320,        I05,      78,          1,         24,         24,2,20090412,       2001,   -33.9961,    61.1243,       5080,   639.9,  10.5166,  34.8561,2,  34.8573,2,    223.5,2,   224.2,2,    6.13,2,   15.05,2,    0.00,2,    1.08,2,-999.000,9,-999.000,9,-999.0000,9,  -999.0,9,  -999.0,9,-999.0000,9,  -999.00,-999.000,9,-999.000,9,-999.000,9,  10.5177,2,-999.000,9, -999.00,9, -999.00,-999.000,9,-999.000, -999.00,9, -999.00,9, -33.9954,  61.1224,-999.000,-999.000,20090412,       2155
33RR20090320,        I05,      78,          1,         23,         23,2,20090412,       2001,   -33.9961,    61.1243,       5080,   743.1,   9.5404,  34.7296,2,  34.7293,2,    218.9,2,   219.1,2,    7.78,2,   17.72,2,    0.00,2,    1.25,2,-999.000,9,-999.000,9,-999.0000,9,  2136.8,2,  2297.0,2,   7.8426,2,    20.00,-999.000,9,-999.000,9,-999.000,9,   9.5441,2,-999.000,9, -999.00,9, -999.00,-999.000,9,-999.000, -999.00,9, -999.00,9, -33.9954,  61.1225,-999.000,-999.000,20090412,       2152
33RR20090320,        I05,      78,          1,         22,         22,2,20090412,       2001,   -33.9961,    61.1243,       5080,   844.8,   8.2680,  34.5950,2,  34.5951,2,    208.4,2,   208.1,2,   12.12,2,   21.81,2,    0.00,2,    1.52,2,-999.000,9,-999.000,9,-999.0000,9,  -999.0,9,  -999.0,9,-999.0000,9,  -999.00,-999.000,9,-999.000,9,-999.000,9,   8.2744,2,-999.000,9, -999.00,9, -999.00,-999.000,9,-999.000, -999.00,9, -999.00,9, -33.9954,  61.1227,-999.000,-999.000,20090412,       2149
33RR20090320,        I05,      78,          1,         21,         21,2,20090412,       2001,   -33.9961,    61.1243,       5080,   941.2,   6.8932,  34.4764,2,  34.4761,2,    205.7,2,   204.0,2,   17.93,2,   25.47,2,    0.00,2,    1.78,2,-999.000,9,-999.000,9,-999.0000,9,  2167.1,2,  2291.9,2,   7.7542,2,    20.00,-999.000,9,-999.000,9,-999.000,9,   6.8903,2,-999.000,9, -999.00,9, -999.00,-999.000,9,-999.000, -999.00,9, -999.00,9, -33.9953,  61.1225,-999.000,-999.000,20090412,       2147
33RR20090320,        I05,      78,          1,         20,         20,2,20090412,       2001,   -33.9961,    61.1243,       5080,  1043.4,   5.6594,  34.4008,2,  34.4012,2,    203.9,2,   204.2,2,   24.59,2,   28.27,2,    0.00,2,    1.98,2,-999.000,9,-999.000,9,-999.0000,9,  -999.0,9,  -999.0,9,-999.0000,9,  -999.00,-999.000,9,-999.000,9,-999.000,9,   5.6647,2,-999.000,9, -999.00,9, -999.00,-999.000,9,-999.000, -999.00,9, -999.00,9, -33.9954,  61.1226,-999.000,-999.000,20090412,       2144
33RR20090320,        I05,      78,          1,         19,         19,2,20090412,       2001,   -33.9961,    61.1243,       5080,  1142.3,   4.6665,  34.3668,2,  34.3656,2,    201.9,2,   203.5,2,   32.09,2,   30.33,2,    0.00,2,    2.13,2,-999.000,9,-999.000,9,-999.0000,9,  -999.0,9,  -999.0,9,-999.0000,9,  -999.00,-999.000,9,-999.000,9,-999.000,9,   4.6653,2,-999.000,9, -999.00,9, -999.00,-999.000,9,-999.000, -999.00,9, -999.00,9, -33.9954,  61.1228,-999.000,-999.000,20090412,       2141
33RR20090320,        I05,      78,          1,         18,         18,2,20090412,       2001,   -33.9961,    61.1243,       5080,  1245.2,   4.0180,  34.3912,2,  34.3929,2,    193.4,2,   193.3,2,   42.54,2,   32.11,2,    0.00,2,    2.27,2,-999.000,9,-999.000,9,-999.0000,9,  2211.2,2,  2308.0,2,   7.6756,2,    20.00,-999.000,9,-999.000,9,-999.000,9,   4.0125,2,-999.000,9, -999.00,9, -999.00,-999.000,9,-999.000, -999.00,9, -999.00,9, -33.9953,  61.1227,-999.000,-999.000,20090412,       2138
33RR20090320,        I05,      78,          1,         17,         17,2,20090412,       2001,   -33.9961,    61.1243,       5080,  1345.4,   3.5613,  34.4358,2,  34.4357,2,    186.0,2,   184.6,2,   51.99,2,   33.13,2,    0.00,2,    2.35,2,-999.000,9,-999.000,9,-999.0000,9,  -999.0,9,  -999.0,9,-999.0000,9,  -999.00,-999.000,9,-999.000,9,-999.000,9,   3.5615,2,-999.000,9, -999.00,9, -999.00,-999.000,9,-999.000, -999.00,9, -999.00,9, -33.9954,  61.1228,-999.000,-999.000,20090412,       2135
33RR20090320,        I05,      78,          1,         16,         16,2,20090412,       2001,   -33.9961,    61.1243,       5080,  1474.7,   3.2040,  34.4909,2,  34.4907,2,    176.0,2,   176.4,2,   59.97,2,   33.73,2,    0.00,2,    2.39,2,-999.000,9,-999.000,9,-999.0000,9,  -999.0,9,  -999.0,9,-999.0000,9,  -999.00,-999.000,9,-999.000,9,-999.000,9,   3.2025,2,-999.000,9, -999.00,9, -999.00,-999.000,9,-999.000, -999.00,9, -999.00,9, -33.9953,  61.1227,-999.000,-999.000,20090412,       2130
33RR20090320,        I05,      78,          1,         15,         15,2,20090412,       2001,   -33.9961,    61.1243,       5080,  1676.5,   2.8505,  34.5724,2,  34.5718,2,    171.7,2,   172.7,2,   68.60,2,   33.61,2,    0.00,2,    2.39,2,-999.000,9,-999.000,9,-999.0000,9,  2247.0,2,  2333.7,2,   7.6440,2,    20.00,-999.000,9,-999.000,9,-999.000,9,   2.8500,2,-999.000,9, -999.00,9, -999.00,-999.000,9,-999.000, -999.00,9, -999.00,9, -33.9954,  61.1234,-999.000,-999.000,20090412,       2124
33RR20090320,        I05,      78,          1,         14,         14,2,20090412,       2001,   -33.9961,    61.1243,       5080,  1876.7,   2.6217,  34.6438,2,  34.6429,2,    174.7,2,   174.2,2,   77.69,2,   32.90,2,    0.00,2,    2.33,2,-999.000,9,-999.000,9,-999.0000,9,  -999.0,9,  -999.0,9,-999.0000,9,  -999.00,-999.000,9,-999.000,9,-999.000,9,   2.6214,2,-999.000,9, -999.00,9, -999.00,-999.000,9,-999.000, -999.00,9, -999.00,9, -33.9954,  61.1234,-999.000,-999.000,20090412,       2119
33RR20090320,        I05,      78,          1,         13,         13,2,20090412,       2001,   -33.9961,    61.1243,       5080,  2100.8,   2.3881,  34.6933,2,  34.6927,2,    176.5,2,   177.0,2,   87.21,2,   32.34,2,    0.00,2,    2.30,2,-999.000,9,-999.000,9,-999.0000,9,  -999.0,9,  -999.0,9,-999.0000,9,  -999.00,-999.000,9,-999.000,9,-999.000,9,   2.3885,2,-999.000,9, -999.00,9, -999.00,-999.000,9,-999.000, -999.00,9, -999.00,9, -33.9955,  61.1233,-999.000,-999.000,20090412,       2113
33RR20090320,        I05,      78,          1,         12,         12,2,20090412,       2001,   -33.9961,    61.1243,       5080,  2353.3,   2.2079,  34.7194,2,  34.7188,2,    177.6,2,   178.3,2,   95.70,2,   32.28,2,    0.00,2,    2.29,2,-999.000,9,-999.000,9,-999.0000,9,  -999.0,9,  -999.0,9,-999.0000,9,  -999.00,-999.000,9,-999.000,9,-999.000,9,   2.2085,2,-999.000,9, -999.00,9, -999.00,-999.000,9,-999.000, -999.00,9, -999.00,9, -33.9956,  61.1230,-999.000,-999.000,20090412,       2107
33RR20090320,        I05,      78,          1,         11,         11,2,20090412,       2001,   -33.9961,    61.1243,       5080,  2601.5,   2.0539,  34.7326,2,  34.7322,2,    179.4,2,   179.3,2,  101.86,2,   32.33,2,    0.00,2,    2.30,2,-999.000,9,-999.000,9,-999.0000,9,  2271.1,2,  2370.7,2,   7.6795,2,    20.00,-999.000,9,-999.000,9,-999.000,9,   2.0539,2,-999.000,9, -999.00,9, -999.00,-999.000,9,-999.000, -999.00,9, -999.00,9, -33.9958,  61.1232,-999.000,-999.000,20090412,       2101
33RR20090320,        I05,      78,          1,         10,         10,2,20090412,       2001,   -33.9961,    61.1243,       5080,  2856.7,   1.9264,  34.7356,2,  34.7348,2,    182.0,2,   181.0,2,  106.12,2,   32.38,2,    0.00,2,    2.28,2,-999.000,9,-999.000,9,-999.0000,9,  -999.0,9,  -999.0,9,-999.0000,9,  -999.00,-999.000,9,-999.000,9,-999.000,9,   1.9262,2,-999.000,9, -999.00,9, -999.00,-999.000,9,-999.000, -999.00,9, -999.00,9, -33.9958,  61.1229,-999.000,-999.000,20090412,       2055
33RR20090320,        I05,      78,          1,          9,          9,2,20090412,       2001,   -33.9961,    61.1243,       5080,  3123.0,   1.7521,  34.7342,2,  34.7362,2,    184.4,2,   183.2,2,  111.24,2,   32.52,2,    0.00,2,    2.31,2,-999.000,9,-999.000,9,-999.0000,9,  2275.8,2,  2376.6,2,   7.6818,2,    20.00,-999.000,9,-999.000,9,-999.000,9,   1.7520,2,-999.000,9, -999.00,9, -999.00,-999.000,9,-999.000, -999.00,9, -999.00,9, -33.9957,  61.1229,-999.000,-999.000,20090412,       2049
33RR20090320,        I05,      78,          1,          8,          8,2,20090412,       2001,   -33.9961,    61.1243,       5080,  3428.7,   1.5462,  34.7333,2,  34.7330,2,    194.5,2,   195.1,2,  108.89,2,   31.81,2,    0.00,2,    2.26,2,-999.000,9,-999.000,9,-999.0000,9,  -999.0,9,  -999.0,9,-999.0000,9,  -999.00,-999.000,9,-999.000,9,-999.000,9,   1.5461,2,-999.000,9, -999.00,9, -999.00,-999.000,9,-999.000, -999.00,9, -999.00,9, -33.9958,  61.1231,-999.000,-999.000,20090412,       2042
33RR20090320,        I05,      78,          1,          7,          7,2,20090412,       2001,   -33.9961,    61.1243,       5080,  3735.6,   1.2419,  34.7222,2,  34.7225,2,    202.5,2,   203.2,2,  113.37,2,   31.75,2,    0.00,2,    2.25,2,-999.000,9,-999.000,9,-999.0000,9,  2261.7,2,  2365.7,2,   7.6853,2,    20.00,-999.000,9,-999.000,9,-999.000,9,   1.2418,2,-999.000,9, -999.00,9, -999.00,-999.000,9,-999.000, -999.00,9, -999.00,9, -33.9959,  61.1234,-999.000,-999.000,20090412,       2036
33RR20090320,        I05,      78,          1,          6,          6,2,20090412,       2001,   -33.9961,    61.1243,       5080,  4039.2,   0.8236,  34.7033,2,  34.7032,2,    211.7,2,   211.5,2,  122.13,2,   32.18,2,    0.00,2,    2.27,2,-999.000,9,-999.000,9,-999.0000,9,  -999.0,9,  -999.0,9,-999.0000,9,  -999.00,-999.000,9,-999.000,9,-999.000,9,   0.8244,2,-999.000,9, -999.00,9, -999.00,-999.000,9,-999.000, -999.00,9, -999.00,9, -33.9958,  61.1229,-999.000,-999.000,20090412,       2029
33RR20090320,        I05,      78,          1,          5,          5,2,20090412,       2001,   -33.9961,    61.1243,       5080,  4343.0,   0.5509,  34.6893,2,  34.6906,2,    216.1,2,   216.8,2,  129.83,2,   32.44,2,    0.00,2,    2.30,2,-999.000,9,-999.000,9,-999.0000,9,  -999.0,9,  -999.0,9,-999.0000,9,  -999.00,-999.000,9,-999.000,9,-999.000,9,   0.5507,2,-999.000,9, -999.00,9, -999.00,-999.000,9,-999.000, -999.00,9, -999.00,9, -33.9958,  61.1234,-999.000,-999.000,20090412,       2022
33RR20090320,        I05,      78,          1,          4,          4,2,20090412,       2001,   -33.9961,    61.1243,       5080,  4650.4,   0.4721,  34.6845,2,  34.6835,2,    219.2,2,   219.0,2,  132.40,2,   32.65,2,    0.00,2,    2.30,2,-999.000,9,-999.000,9,-999.0000,9,  2261.3,2,  2362.3,2,   7.6773,2,    20.00,-999.000,9,-999.000,9,-999.000,9,   0.4727,2,-999.000,9, -999.00,9, -999.00,-999.000,9,-999.000, -999.00,9, -999.00,9, -33.9959,  61.1239,-999.000,-999.000,20090412,       2014
33RR20090320,        I05,      78,          1,          3,          3,2,20090412,       2001,   -33.9961,    61.1243,       5080,  4854.2,   0.4663,  34.6830,2,  34.6820,2,    219.8,2,   219.2,2,  133.91,2,   32.70,2,    0.00,2,    2.31,2,-999.000,9,-999.000,9,-999.0000,9,  -999.0,9,  -999.0,9,-999.0000,9,  -999.00,-999.000,9,-999.000,9,-999.000,9,   0.4670,2,-999.000,9, -999.00,9, -999.00,-999.000,9,-999.000, -999.00,9, -999.00,9, -33.9960,  61.1240,-999.000,-999.000,20090412,       2009
33RR20090320,        I05,      78,          1,          2,          2,2,20090412,       2001,   -33.9961,    61.1243,       5080,  5008.3,   0.4759,  34.6823,2,  34.6820,2,    220.2,2,   219.4,2,  134.12,2,   32.69,2,    0.00,2,    2.31,2,-999.000,9,-999.000,9,-999.0000,9,  -999.0,9,  -999.0,9,-999.0000,9,  -999.00,-999.000,9,-999.000,9,-999.000,9,   0.4762,2,-999.000,9, -999.00,9, -999.00,-999.000,9,-999.000, -999.00,9, -999.00,9, -33.9962,  61.1243,-999.000,-999.000,20090412,       2005
33RR20090320,        I05,      78,          1,          1,          1,2,20090412,       2001,   -33.9961,    61.1243,       5080,  5159.9,   0.4944,  34.6818,2,  34.6820,2,    219.3,2,   219.5,2,  133.91,2,   32.68,2,    0.00,2,    2.31,2,-999.000,9,-999.000,9,-999.0000,9,  2261.4,6,  2363.1,2,   7.6762,2,    20.00,-999.000,9,-999.000,9,-999.000,9,   0.4941,2,-999.000,9, -999.00,9, -999.00,-999.000,9,-999.000, -999.00,9, -999.00,9, -33.9961,  61.1243,-999.000,-999.000,20090412,       2001