BOTTLE,20220814CCHSIOAMB
EXPOCODE,SECT_ID,STNNBR,CASTNO,SAMPNO,BTLNBR,BTLNBR_FLAG_W,DATE,TIME,LATITUDE,LONGITUDE,DEPTH,CTDPRS,CTDTMP,CTDSAL,CTDSAL_FLAG_W,SALNTY,SALNTY_FLAG_W,CTDOXY,CTDOXY_FLAG_W,OXYGEN,OXYGEN_FLAG_W,SILCAT,SILCAT_FLAG_W,NITRAT,NITRAT_FLAG_W,NITRIT,NITRIT_FLAG_W,PHSPHT,PHSPHT_FLAG_W,CFC-11,CFC-11_FLAG_W,CFC-12,CFC-12_FLAG_W,SF6,SF6_FLAG_W,TCARBN,TCARBN_FLAG_W,ALKALI,ALKALI_FLAG_W,PH_TOT,PH_TOT_FLAG_W,PH_TMP,TRITUM,TRITUM_FLAG_W,HELIUM,HELIUM_FLAG_W,DELHE3,DELHE3_FLAG_W,REFTMP,REFTMP_FLAG_W,DELC13,DELC13_FLAG_W,DELC14,DELC14_FLAG_W,C14ERR,NEON,NEON_FLAG_W,NEONER,DOC,DOC_FLAG_W,TDN,TDN_FLAG_W,BTL_LAT,BTL_LON,HELIER,DELHER,BTL_DATE,BTL_TIME
,,,,,,,,,,,METERS,DBAR,ITS-90,PSS-78,,PSS-78,,UMOL/KG,,UMOL/KG,,UMOL/KG,,UMOL/KG,,UMOL/KG,,UMOL/KG,,PMOL/KG,,PMOL/KG,,FMOL/KG,,UMOL/KG,,UMOL/KG,,,,DEG C,TU,,NMOL/KG,,PERCNT,,DEG C,,/MILLE,,/MILLE,,/MILLE,NMOL/KG,,NMOL/KG,UMOL/KG,,UMOL/KG,,,,NMOL/KG,PERCNT,,
33RR20090320,        I05,      27,          1,         36,         36,2,20090329,       1812,   -32.9979,    37.5277,       5121,     4.7,  24.4614,  35.5048,2,  35.5058,2,    209.4,2,   209.6,2,    1.88,2,    0.03,2,    0.00,2,    0.06,2,-999.000,9,-999.000,9,-999.0000,9,  1999.0,6,  2325.5,2,   8.1591,2,    20.00,-999.000,9,-999.000,9,-999.000,9,  24.4631,2,-999.000,9, -999.00,9, -999.00,-999.000,9,-999.000, -999.00,9, -999.00,9, -32.9979,  37.5281,-999.000,-999.000,20090329,       2026
33RR20090320,        I05,      27,          1,         35,         35,2,20090329,       1812,   -32.9979,    37.5277,       5121,    37.2,  24.2915,  35.5008,2,  35.5003,2,    210.9,2,   210.5,2,    1.51,2,    0.03,2,    0.00,2,    0.06,2,-999.000,9,-999.000,9,-999.0000,9,  2002.9,2,  2325.1,2,   8.1564,2,    20.00,-999.000,9,-999.000,9,-999.000,9,  24.2914,2,-999.000,9, -999.00,9, -999.00,-999.000,9,-999.000, -999.00,9, -999.00,9, -32.9979,  37.5281,-999.000,-999.000,20090329,       2023
33RR20090320,        I05,      27,          1,         34,         34,2,20090329,       1812,   -32.9979,    37.5277,       5121,    61.9,  22.5433,  35.4400,2,  35.4397,2,   -999.0,5,  -999.0,9,    1.91,2,    0.02,2,    0.00,2,    0.13,2,-999.000,9,-999.000,9,-999.0000,9,  -999.0,9,  -999.0,9,-999.0000,9,  -999.00,-999.000,9,-999.000,9,-999.000,9,  22.5262,2,-999.000,9, -999.00,9, -999.00,-999.000,9,-999.000, -999.00,9, -999.00,9, -32.9979,  37.5281,-999.000,-999.000,20090329,       2022
33RR20090320,        I05,      27,          1,         33,         33,2,20090329,       1812,   -32.9979,    37.5277,       5121,    87.3,  20.7082,  35.5207,2,  35.5222,2,    200.9,2,   200.5,2,    2.51,2,    1.93,2,    0.10,2,    0.23,2,-999.000,9,-999.000,9,-999.0000,9,  2052.0,2,  2326.8,2,   8.0750,2,    20.00,-999.000,9,-999.000,9,-999.000,9,  20.7093,2,-999.000,9, -999.00,9, -999.00,-999.000,9,-999.000, -999.00,9, -999.00,9, -32.9979,  37.5281,-999.000,-999.000,20090329,       2020
33RR20090320,        I05,      27,          1,         32,         32,2,20090329,       1812,   -32.9979,    37.5277,       5121,   117.2,  19.1260,  35.5408,2,  35.5490,2,    200.6,2,   208.2,2,    2.72,2,    2.22,2,    0.08,2,    0.26,2,-999.000,9,-999.000,9,-999.0000,9,  2060.5,2,  2327.7,2,   8.0612,2,    20.00,-999.000,9,-999.000,9,-999.000,9,  19.1250,2,-999.000,9, -999.00,9, -999.00,-999.000,9,-999.000, -999.00,9, -999.00,9, -32.9979,  37.5281,-999.000,-999.000,20090329,       2018
33RR20090320,        I05,      27,          1,         31,         31,2,20090329,       1812,   -32.9979,    37.5277,       5121,   167.4,  17.6454,  35.5504,2,  35.5496,2,    208.7,2,   211.5,2,    2.93,2,    3.43,2,    0.01,2,    0.35,2,-999.000,9,-999.000,9,-999.0000,9,  2072.4,2,  2329.0,2,   8.0381,2,    20.00,-999.000,9,-999.000,9,-999.000,9,  17.6485,2,-999.000,9, -999.00,9, -999.00,-999.000,9,-999.000, -999.00,9, -999.00,9, -32.9979,  37.5280,-999.000,-999.000,20090329,       2017
33RR20090320,        I05,      27,          1,         30,         30,2,20090329,       1812,   -32.9979,    37.5277,       5121,   217.1,  17.0593,  35.5527,2,  35.5518,2,    217.6,2,   217.6,2,    2.95,2,    3.48,2,    0.01,2,    0.35,2,-999.000,9,-999.000,9,-999.0000,9,  2073.9,2,  2327.5,2,   8.0350,2,    20.00,-999.000,9,-999.000,9,-999.000,9,  17.0508,2,-999.000,9, -999.00,9, -999.00,-999.000,9,-999.000, -999.00,9, -999.00,9, -32.9979,  37.5280,-999.000,-999.000,20090329,       2015
33RR20090320,        I05,      27,          1,         29,         29,2,20090329,       1812,   -32.9979,    37.5277,       5121,   266.8,  16.6345,  35.5405,2,  35.5394,2,    220.7,2,   218.8,2,    3.35,2,    4.03,2,    0.01,2,    0.39,2,-999.000,9,-999.000,9,-999.0000,9,  2079.2,2,  2328.0,2,   8.0248,2,    20.00,-999.000,9,-999.000,9,-999.000,9,  16.6351,2,-999.000,9, -999.00,9, -999.00,-999.000,9,-999.000, -999.00,9, -999.00,9, -32.9979,  37.5280,-999.000,-999.000,20090329,       2013
33RR20090320,        I05,      27,          1,         28,         28,2,20090329,       1812,   -32.9979,    37.5277,       5121,   316.6,  16.0483,  35.4962,2,  35.4940,2,    211.3,2,   206.5,2,    3.95,2,    5.76,2,    0.01,2,    0.51,2,-999.000,9,-999.000,9,-999.0000,9,  -999.0,9,  -999.0,9,-999.0000,9,  -999.00,-999.000,9,-999.000,9,-999.000,9,  16.0562,2,-999.000,9, -999.00,9, -999.00,-999.000,9,-999.000, -999.00,9, -999.00,9, -32.9978,  37.5280,-999.000,-999.000,20090329,       2011
33RR20090320,        I05,      27,          1,         27,         27,2,20090329,       1812,   -32.9979,    37.5277,       5121,   366.4,  15.1034,  35.4308,2,  35.4331,2,    204.9,2,   205.2,2,    4.35,2,    7.12,2,    0.00,2,    0.59,2,-999.000,9,-999.000,9,-999.0000,9,  2104.5,2,  2325.3,2,   7.9682,2,    20.00,-999.000,9,-999.000,9,-999.000,9,  15.1101,2,-999.000,9, -999.00,9, -999.00,-999.000,9,-999.000, -999.00,9, -999.00,9, -32.9978,  37.5279,-999.000,-999.000,20090329,       2008
33RR20090320,        I05,      27,          1,         26,         26,2,20090329,       1812,   -32.9979,    37.5277,       5121,   437.1,  13.9949,  35.3386,2,  35.3381,2,    210.3,2,   211.1,2,    4.37,2,    8.59,2,    0.00,2,    0.68,2,-999.000,9,-999.000,9,-999.0000,9,  2113.1,2,  2320.6,2,   7.9452,2,    20.00,-999.000,9,-999.000,9,-999.000,9,  13.9961,2,-999.000,9, -999.00,9, -999.00,-999.000,9,-999.000, -999.00,9, -999.00,9, -32.9978,  37.5278,-999.000,-999.000,20090329,       2006
33RR20090320,        I05,      27,          1,         25,         25,2,20090329,       1812,   -32.9979,    37.5277,       5121,   536.5,  12.9137,  35.2175,2,  35.2178,2,    214.7,2,   216.4,2,    4.39,2,   10.17,2,    0.00,2,    0.78,2,-999.000,9,-999.000,9,-999.0000,9,  2116.7,2,  2316.2,2,   7.9254,2,    20.00,-999.000,9,-999.000,9,-999.000,9,  12.9199,2,-999.000,9, -999.00,9, -999.00,-999.000,9,-999.000, -999.00,9, -999.00,9, -32.9977,  37.5278,-999.000,-999.000,20090329,       2003
33RR20090320,        I05,      27,          1,         24,         24,2,20090329,       1812,   -32.9979,    37.5277,       5121,   636.9,  11.8150,  35.0616,2,  35.0581,2,    218.6,2,   219.3,2,    4.79,2,   12.14,2,    0.00,2,    0.92,2,-999.000,9,-999.000,9,-999.0000,9,  -999.0,9,  -999.0,9,-999.0000,9,  -999.00,-999.000,9,-999.000,9,-999.000,9,  11.8152,2,-999.000,9, -999.00,9, -999.00,-999.000,9,-999.000, -999.00,9, -999.00,9, -32.9977,  37.5278,-999.000,-999.000,20090329,       2000
33RR20090320,        I05,      27,          1,         23,         23,2,20090329,       1812,   -32.9979,    37.5277,       5121,   736.6,  10.9042,  34.9305,2,  34.9320,2,    220.8,2,   220.8,2,    5.58,2,   13.93,2,    0.00,2,    1.03,2,-999.000,9,-999.000,9,-999.0000,9,  2126.7,2,  2303.9,2,   7.8818,2,    20.00,-999.000,9,-999.000,9,-999.000,9,  10.9089,2,-999.000,9, -999.00,9, -999.00,-999.000,9,-999.000, -999.00,9, -999.00,9, -32.9978,  37.5278,-999.000,-999.000,20090329,       1958
33RR20090320,        I05,      27,          1,         22,         22,2,20090329,       1812,   -32.9979,    37.5277,       5121,   837.1,   9.6203,  34.7642,2,  34.7629,2,    215.4,2,   214.0,2,    8.68,2,   17.65,2,    0.00,2,    1.27,2,-999.000,9,-999.000,9,-999.0000,9,  -999.0,9,  -999.0,9,-999.0000,9,  -999.00,-999.000,9,-999.000,9,-999.000,9,   9.6228,2,-999.000,9, -999.00,9, -999.00,-999.000,9,-999.000, -999.00,9, -999.00,9, -32.9978,  37.5278,-999.000,-999.000,20090329,       1955
33RR20090320,        I05,      27,          1,         21,         21,2,20090329,       1812,   -32.9979,    37.5277,       5121,   937.2,   8.3652,  34.6363,2,  34.6365,2,    206.1,2,   202.1,2,   14.48,2,   21.76,2,    0.00,2,    1.54,2,-999.000,9,-999.000,9,-999.0000,9,  2156.1,2,  2296.1,2,   7.7957,2,    20.00,-999.000,9,-999.000,9,-999.000,9,   8.3633,2,-999.000,9, -999.00,9, -999.00,-999.000,9,-999.000, -999.00,9, -999.00,9, -32.9978,  37.5278,-999.000,-999.000,20090329,       1952
33RR20090320,        I05,      27,          1,         20,         20,2,20090329,       1812,   -32.9979,    37.5277,       5121,  1038.2,   7.4999,  34.6024,2,  34.6004,2,    181.2,2,   178.9,2,   25.34,2,   25.77,2,    0.00,2,    1.84,2,-999.000,9,-999.000,9,-999.0000,9,  -999.0,9,  -999.0,9,-999.0000,9,  -999.00,-999.000,9,-999.000,9,-999.000,9,   7.4960,2,-999.000,9, -999.00,9, -999.00,-999.000,9,-999.000, -999.00,9, -999.00,9, -32.9978,  37.5278,-999.000,-999.000,20090329,       1949
33RR20090320,        I05,      27,          1,         19,         19,2,20090329,       1812,   -32.9979,    37.5277,       5121,  1138.7,   6.1937,  34.5222,2,  34.5265,2,    174.4,2,   176.3,2,   33.71,2,   28.87,2,    0.00,2,    2.07,2,-999.000,9,-999.000,9,-999.0000,9,  -999.0,9,  -999.0,9,-999.0000,9,  -999.00,-999.000,9,-999.000,9,-999.000,9,   6.1915,2,-999.000,9, -999.00,9, -999.00,-999.000,9,-999.000, -999.00,9, -999.00,9, -32.9977,  37.5278,-999.000,-999.000,20090329,       1947
33RR20090320,        I05,      27,          1,         18,         18,2,20090329,       1812,   -32.9979,    37.5277,       5121,  1238.7,   5.0726,  34.4446,2,  34.4554,2,    177.3,2,   186.2,2,   37.63,2,   30.20,2,    0.00,2,    2.17,2,-999.000,9,-999.000,9,-999.0000,9,  -999.0,9,  -999.0,9,-999.0000,9,  -999.00,-999.000,9,-999.000,9,-999.000,9,   5.0832,2,-999.000,9, -999.00,9, -999.00,-999.000,9,-999.000, -999.00,9, -999.00,9, -32.9977,  37.5278,-999.000,-999.000,20090329,       1944
33RR20090320,        I05,      27,          1,         17,         17,2,20090329,       1812,   -32.9979,    37.5277,       5121,  1338.1,   4.6086,  34.4759,2,  34.4739,2,    181.2,2,   176.0,2,   47.01,2,   31.75,2,    0.00,2,    2.28,2,-999.000,9,-999.000,9,-999.0000,9,  -999.0,9,  -999.0,9,-999.0000,9,  -999.00,-999.000,9,-999.000,9,-999.000,9,   4.6067,2,-999.000,9, -999.00,9, -999.00,-999.000,9,-999.000, -999.00,9, -999.00,9, -32.9978,  37.5279,-999.000,-999.000,20090329,       1941
33RR20090320,        I05,      27,          1,         16,         16,2,20090329,       1812,   -32.9979,    37.5277,       5121,  1468.8,   3.8958,  34.5013,2,  34.5004,2,    172.2,2,   172.1,2,   56.04,2,   32.81,2,    0.00,2,    2.36,2,-999.000,9,-999.000,9,-999.0000,9,  -999.0,9,  -999.0,9,-999.0000,9,  -999.00,-999.000,9,-999.000,9,-999.000,9,   3.8957,2,-999.000,9, -999.00,9, -999.00,-999.000,9,-999.000, -999.00,9, -999.00,9, -32.9979,  37.5279,-999.000,-999.000,20090329,       1937
33RR20090320,        I05,      27,          1,         15,         15,2,20090329,       1812,   -32.9979,    37.5277,       5121,  1669.0,   3.3833,  34.5763,2,  34.5758,2,    168.0,2,   167.7,2,   66.85,2,   33.04,2,    0.00,2,    2.38,2,-999.000,9,-999.000,9,-999.0000,9,  -999.0,9,  -999.0,9,-999.0000,9,  -999.00,-999.000,9,-999.000,9,-999.000,9,   3.3829,2,-999.000,9, -999.00,9, -999.00,-999.000,9,-999.000, -999.00,9, -999.00,9, -32.9979,  37.5278,-999.000,-999.000,20090329,       1932
33RR20090320,        I05,      27,          1,         14,         14,2,20090329,       1812,   -32.9979,    37.5277,       5121,  1868.5,   3.0328,  34.6492,2,  34.6481,2,    169.4,2,   169.3,2,   73.56,2,   32.54,2,    0.00,2,    2.33,2,-999.000,9,-999.000,9,-999.0000,9,  -999.0,9,  -999.0,9,-999.0000,9,  -999.00,-999.000,9,-999.000,9,-999.000,9,   3.0327,2,-999.000,9, -999.00,9, -999.00,-999.000,9,-999.000, -999.00,9, -999.00,9, -32.9979,  37.5278,-999.000,-999.000,20090329,       1928
33RR20090320,        I05,      27,          1,         13,         13,2,20090329,       1812,   -32.9979,    37.5277,       5121,  2087.3,   2.8306,  34.7080,2,  34.7071,2,    175.8,2,   176.3,2,   74.77,2,   31.42,2,    0.00,2,    2.24,2,-999.000,9,-999.000,9,-999.0000,9,  -999.0,9,  -999.0,9,-999.0000,9,  -999.00,-999.000,9,-999.000,9,-999.000,9,   2.8293,2,-999.000,9, -999.00,9, -999.00,-999.000,9,-999.000, -999.00,9, -999.00,9, -32.9978,  37.5277,-999.000,-999.000,20090329,       1922
33RR20090320,        I05,      27,          1,         12,         12,2,20090329,       1812,   -32.9979,    37.5277,       5121,  2337.5,   2.6669,  34.7510,2,  34.7499,2,    185.9,2,   186.3,2,   74.58,2,   29.99,2,    0.00,2,    2.14,2,-999.000,9,-999.000,9,-999.0000,9,  -999.0,9,  -999.0,9,-999.0000,9,  -999.00,-999.000,9,-999.000,9,-999.000,9,   2.6665,2,-999.000,9, -999.00,9, -999.00,-999.000,9,-999.000, -999.00,9, -999.00,9, -32.9979,  37.5276,-999.000,-999.000,20090329,       1917
33RR20090320,        I05,      27,          1,         11,         11,2,20090329,       1812,   -32.9979,    37.5277,       5121,  2582.6,   2.5452,  34.7776,2,  34.7765,2,    196.1,2,   195.4,2,   72.05,2,   28.99,2,    0.00,2,    2.05,2,-999.000,9,-999.000,9,-999.0000,9,  -999.0,9,  -999.0,9,-999.0000,9,  -999.00,-999.000,9,-999.000,9,-999.000,9,   2.5453,2,-999.000,9, -999.00,9, -999.00,-999.000,9,-999.000, -999.00,9, -999.00,9, -32.9978,  37.5277,-999.000,-999.000,20090329,       1911
33RR20090320,        I05,      27,          1,         10,         10,2,20090329,       1812,   -32.9979,    37.5277,       5121,  2831.2,   2.3619,  34.7972,2,  34.7965,2,    205.7,2,   206.1,2,   71.08,2,   28.00,2,    0.00,2,    1.96,2,-999.000,9,-999.000,9,-999.0000,9,  -999.0,9,  -999.0,9,-999.0000,9,  -999.00,-999.000,9,-999.000,9,-999.000,9,   2.3612,2,-999.000,9, -999.00,9, -999.00,-999.000,9,-999.000, -999.00,9, -999.00,9, -32.9978,  37.5278,-999.000,-999.000,20090329,       1906
33RR20090320,        I05,      27,          1,          9,          9,2,20090329,       1812,   -32.9979,    37.5277,       5121,  3110.2,   2.1145,  34.8010,2,  34.8007,2,    213.2,2,   212.9,2,   74.05,2,   27.66,2,    0.00,2,    1.93,2,-999.000,9,-999.000,9,-999.0000,9,  -999.0,9,  -999.0,9,-999.0000,9,  -999.00,-999.000,9,-999.000,9,-999.000,9,   2.1150,2,-999.000,9, -999.00,9, -999.00,-999.000,9,-999.000, -999.00,9, -999.00,9, -32.9979,  37.5277,-999.000,-999.000,20090329,       1900
33RR20090320,        I05,      27,          1,          8,          8,2,20090329,       1812,   -32.9979,    37.5277,       5121,  3411.9,   1.8454,  34.7871,2,  34.7877,2,    214.7,2,   214.9,2,   81.57,2,   28.22,2,    0.00,2,    1.97,2,-999.000,9,-999.000,9,-999.0000,9,  -999.0,9,  -999.0,9,-999.0000,9,  -999.00,-999.000,9,-999.000,9,-999.000,9,   1.8457,2,-999.000,9, -999.00,9, -999.00,-999.000,9,-999.000, -999.00,9, -999.00,9, -32.9978,  37.5277,-999.000,-999.000,20090329,       1854
33RR20090320,        I05,      27,          1,          7,          7,2,20090329,       1812,   -32.9979,    37.5277,       5121,  3716.6,   1.4259,  34.7593,2,  34.7590,2,    215.9,2,   215.8,2,   95.85,2,   29.44,2,    0.00,2,    2.07,2,-999.000,9,-999.000,9,-999.0000,9,  -999.0,9,  -999.0,9,-999.0000,9,  -999.00,-999.000,9,-999.000,9,-999.000,9,   1.4305,2,-999.000,9, -999.00,9, -999.00,-999.000,9,-999.000, -999.00,9, -999.00,9, -32.9979,  37.5276,-999.000,-999.000,20090329,       1847
33RR20090320,        I05,      27,          1,          6,          6,2,20090329,       1812,   -32.9979,    37.5277,       5121,  4020.0,   1.0759,  34.7341,2,  34.7337,2,    216.9,2,   217.0,2,  106.59,2,   30.49,2,    0.00,2,    2.16,2,-999.000,9,-999.000,9,-999.0000,9,  -999.0,9,  -999.0,9,-999.0000,9,  -999.00,-999.000,9,-999.000,9,-999.000,9,   1.0759,2,-999.000,9, -999.00,9, -999.00,-999.000,9,-999.000, -999.00,9, -999.00,9, -32.9979,  37.5277,-999.000,-999.000,20090329,       1840
33RR20090320,        I05,      27,          1,          5,          5,2,20090329,       1812,   -32.9979,    37.5277,       5121,  4325.9,   0.7899,  34.7126,2,  34.7126,2,    218.1,2,   218.8,2,  115.97,2,   31.33,2,    0.00,2,    2.22,2,-999.000,9,-999.000,9,-999.0000,9,  -999.0,9,  -999.0,9,-999.0000,9,  -999.00,-999.000,9,-999.000,9,-999.000,9,   0.7902,2,-999.000,9, -999.00,9, -999.00,-999.000,9,-999.000, -999.00,9, -999.00,9, -32.9979,  37.5276,-999.000,-999.000,20090329,       1833
33RR20090320,        I05,      27,          1,          4,          4,2,20090329,       1812,   -32.9979,    37.5277,       5121,  4630.8,   0.6774,  34.7022,2,  34.7018,2,    218.8,2,   218.9,2,  120.18,2,   31.72,2,    0.00,2,    2.25,2,-999.000,9,-999.000,9,-999.0000,9,  -999.0,9,  -999.0,9,-999.0000,9,  -999.00,-999.000,9,-999.000,9,-999.000,9,   0.6777,2,-999.000,9, -999.00,9, -999.00,-999.000,9,-999.000, -999.00,9, -999.00,9, -32.9978,  37.5275,-999.000,-999.000,20090329,       1826
33RR20090320,        I05,      27,          1,          3,          3,2,20090329,       1812,   -32.9979,    37.5277,       5121,  4939.2,   0.6192,  34.6951,2,  34.6952,2,    219.7,2,   219.5,2,  122.80,2,   32.01,2,    0.00,2,    2.28,2,-999.000,9,-999.000,9,-999.0000,9,  -999.0,9,  -999.0,9,-999.0000,9,  -999.00,-999.000,9,-999.000,9,-999.000,9,   0.6193,2,-999.000,9, -999.00,9, -999.00,-999.000,9,-999.000, -999.00,9, -999.00,9, -32.9979,  37.5276,-999.000,-999.000,20090329,       1819
33RR20090320,        I05,      27,          1,          2,          2,2,20090329,       1812,   -32.9979,    37.5277,       5121,  5094.3,   0.6142,  34.6932,2,  34.6930,2,    220.2,2,   220.3,2,  123.62,2,   32.07,2,    0.00,2,    2.27,2,-999.000,9,-999.000,9,-999.0000,9,  -999.0,9,  -999.0,9,-999.0000,9,  -999.00,-999.000,9,-999.000,9,-999.000,9,   0.6146,2,-999.000,9, -999.00,9, -999.00,-999.000,9,-999.000, -999.00,9, -999.00,9, -32.9979,  37.5277,-999.000,-999.000,20090329,       1816
33RR20090320,        I05,      27,          1,          1,          1,2,20090329,       1812,   -32.9979,    37.5277,       5121,  5203.2,   0.6097,  34.6920,2,  34.6918,2,    220.0,2,   219.7,2,  126.04,2,   32.13,2,    0.00,2,    2.28,2,-999.000,9,-999.000,9,-999.0000,9,  -999.0,9,  -999.0,9,-999.0000,9,  -999.00,-999.000,9,-999.000,9,-999.000,9,   0.6099,2,-999.000,9, -999.00,9, -999.00,-999.000,9,-999.000, -999.00,9, -999.00,9, -32.9979,  37.5277,-999.000,-999.000,20090329,       1812