BOTTLE,20220814CCHSIOAMB
EXPOCODE,SECT_ID,STNNBR,CASTNO,SAMPNO,BTLNBR,BTLNBR_FLAG_W,DATE,TIME,LATITUDE,LONGITUDE,DEPTH,CTDPRS,CTDTMP,CTDSAL,CTDSAL_FLAG_W,SALNTY,SALNTY_FLAG_W,CTDOXY,CTDOXY_FLAG_W,OXYGEN,OXYGEN_FLAG_W,SILCAT,SILCAT_FLAG_W,NITRAT,NITRAT_FLAG_W,NITRIT,NITRIT_FLAG_W,PHSPHT,PHSPHT_FLAG_W,CFC-11,CFC-11_FLAG_W,CFC-12,CFC-12_FLAG_W,SF6,SF6_FLAG_W,TCARBN,TCARBN_FLAG_W,ALKALI,ALKALI_FLAG_W,PH_TOT,PH_TOT_FLAG_W,PH_TMP,TRITUM,TRITUM_FLAG_W,HELIUM,HELIUM_FLAG_W,DELHE3,DELHE3_FLAG_W,REFTMP,REFTMP_FLAG_W,DELC13,DELC13_FLAG_W,DELC14,DELC14_FLAG_W,C14ERR,NEON,NEON_FLAG_W,NEONER,DOC,DOC_FLAG_W,TDN,TDN_FLAG_W,BTL_LAT,BTL_LON,HELIER,DELHER,BTL_DATE,BTL_TIME
,,,,,,,,,,,METERS,DBAR,ITS-90,PSS-78,,PSS-78,,UMOL/KG,,UMOL/KG,,UMOL/KG,,UMOL/KG,,UMOL/KG,,UMOL/KG,,PMOL/KG,,PMOL/KG,,FMOL/KG,,UMOL/KG,,UMOL/KG,,,,DEG C,TU,,NMOL/KG,,PERCNT,,DEG C,,/MILLE,,/MILLE,,/MILLE,NMOL/KG,,NMOL/KG,UMOL/KG,,UMOL/KG,,,,NMOL/KG,PERCNT,,
33RR20090320,        I05,      92,          1,         36,         36,2,20090416,       1958,   -34.0012,    69.1264,       4493,    11.8,  20.1993,  35.5710,2,  35.5717,2,    227.4,2,   227.1,2,    1.54,2,    0.10,2,    0.00,2,    0.15,2,-999.000,9,-999.000,9,-999.0000,9,  2060.5,6,  2336.9,2,   8.0791,2,    20.00,-999.000,9,-999.000,9,-999.000,9,  20.1988,2,-999.000,9, -999.00,9, -999.00,-999.000,9,-999.000, -999.00,9, -999.00,9, -34.0008,  69.1255,-999.000,-999.000,20090416,       2202
33RR20090320,        I05,      92,          1,         35,         35,2,20090416,       1958,   -34.0012,    69.1264,       4493,    31.9,  20.2054,  35.5709,2,  35.5713,2,    228.1,2,   226.6,2,    1.52,2,    0.10,2,    0.00,2,    0.15,2,-999.000,9,-999.000,9,-999.0000,9,  2058.8,2,  2337.7,2,   8.0791,2,    20.00,-999.000,9,-999.000,9,-999.000,9,  20.2051,2,-999.000,9, -999.00,9, -999.00,-999.000,9,-999.000, -999.00,9, -999.00,9, -34.0008,  69.1255,-999.000,-999.000,20090416,       2200
33RR20090320,        I05,      92,          1,         34,         34,2,20090416,       1958,   -34.0012,    69.1264,       4493,    56.2,  20.1935,  35.5699,2,  35.5713,2,    227.2,2,   226.8,2,    1.50,2,    0.10,2,    0.00,2,    0.14,2,-999.000,9,-999.000,9,-999.0000,9,  2059.5,2,  2337.2,2,   8.0789,2,    20.00,-999.000,9,-999.000,9,-999.000,9,  20.1982,2,-999.000,9, -999.00,9, -999.00,-999.000,9,-999.000, -999.00,9, -999.00,9, -34.0007,  69.1255,-999.000,-999.000,20090416,       2158
33RR20090320,        I05,      92,          1,         33,         33,2,20090416,       1958,   -34.0012,    69.1264,       4493,    81.5,  16.6912,  35.3718,2,  35.3741,2,    250.2,2,   257.4,2,    1.49,2,    0.11,2,    0.00,2,    0.19,2,-999.000,9,-999.000,9,-999.0000,9,  2066.0,2,  2326.5,2,   8.0525,2,    20.00,-999.000,9,-999.000,9,-999.000,9,  16.7176,2,-999.000,9, -999.00,9, -999.00,-999.000,9,-999.000, -999.00,9, -999.00,9, -34.0006,  69.1254,-999.000,-999.000,20090416,       2156
33RR20090320,        I05,      92,          1,         32,         32,2,20090416,       1958,   -34.0012,    69.1264,       4493,   105.9,  14.5464,  35.3417,2,  35.3427,2,    245.0,2,   241.4,2,    2.10,2,    2.48,2,    0.14,2,    0.38,2,-999.000,9,-999.000,9,-999.0000,9,  2092.5,2,  2325.0,2,   7.9975,2,    20.00,-999.000,9,-999.000,9,-999.000,9,  14.5517,2,-999.000,9, -999.00,9, -999.00,-999.000,9,-999.000, -999.00,9, -999.00,9, -34.0006,  69.1254,-999.000,-999.000,20090416,       2154
33RR20090320,        I05,      92,          1,         31,         31,2,20090416,       1958,   -34.0012,    69.1264,       4493,   157.6,  13.4172,  35.2492,2,  35.2470,2,    236.0,2,   231.6,2,    3.11,2,    7.02,2,    0.00,2,    0.60,2,-999.000,9,-999.000,9,-999.0000,9,  2108.4,2,  2316.3,2,   7.9546,2,    20.00,-999.000,9,-999.000,9,-999.000,9,  13.4150,2,-999.000,9, -999.00,9, -999.00,-999.000,9,-999.000, -999.00,9, -999.00,9, -34.0006,  69.1253,-999.000,-999.000,20090416,       2152
33RR20090320,        I05,      92,          1,         30,         30,2,20090416,       1958,   -34.0012,    69.1264,       4493,   206.9,  13.0350,  35.2130,2,  35.2123,2,    232.0,2,   233.0,2,    3.51,2,    8.28,2,    0.00,2,    0.66,2,-999.000,9,-999.000,9,-999.0000,9,  -999.0,9,  -999.0,9,-999.0000,9,  -999.00,-999.000,9,-999.000,9,-999.000,9,  13.0348,2,-999.000,9, -999.00,9, -999.00,-999.000,9,-999.000, -999.00,9, -999.00,9, -34.0006,  69.1252,-999.000,-999.000,20090416,       2150
33RR20090320,        I05,      92,          1,         29,         29,2,20090416,       1958,   -34.0012,    69.1264,       4493,   256.5,  12.7621,  35.1907,2,  35.1922,2,    235.0,2,   234.3,2,    3.91,2,    8.97,2,    0.00,2,    0.70,2,-999.000,9,-999.000,9,-999.0000,9,  2112.5,2,  2313.7,2,   7.9405,2,    20.00,-999.000,9,-999.000,9,-999.000,9,  12.7630,2,-999.000,9, -999.00,9, -999.00,-999.000,9,-999.000, -999.00,9, -999.00,9, -34.0006,  69.1252,-999.000,-999.000,20090416,       2148
33RR20090320,        I05,      92,          1,         28,         28,2,20090416,       1958,   -34.0012,    69.1264,       4493,   306.3,  12.4546,  35.1432,2,  35.1428,2,    234.8,2,   234.2,2,    4.11,2,    9.70,2,    0.00,2,    0.75,2,-999.000,9,-999.000,9,-999.0000,9,  -999.0,9,  -999.0,9,-999.0000,9,  -999.00,-999.000,9,-999.000,9,-999.000,9,  12.4548,2,-999.000,9, -999.00,9, -999.00,-999.000,9,-999.000, -999.00,9, -999.00,9, -34.0006,  69.1252,-999.000,-999.000,20090416,       2146
33RR20090320,        I05,      92,          1,         27,         27,2,20090416,       1958,   -34.0012,    69.1264,       4493,   356.8,  12.2287,  35.1097,2,  35.1083,2,    234.9,2,   235.5,2,    4.09,2,   10.18,2,    0.00,2,    0.78,2,-999.000,9,-999.000,9,-999.0000,9,  2114.1,2,  2309.9,2,-999.0000,5,    20.00,-999.000,9,-999.000,9,-999.000,9,  12.2308,2,-999.000,9, -999.00,9, -999.00,-999.000,9,-999.000, -999.00,9, -999.00,9, -34.0006,  69.1252,-999.000,-999.000,20090416,       2144
33RR20090320,        I05,      92,          1,         26,         26,2,20090416,       1958,   -34.0012,    69.1264,       4493,   407.2,  12.0140,  35.0757,2,  35.0754,2,    235.0,2,   235.1,2,    4.28,2,   10.75,2,    0.00,2,    0.82,2,-999.000,9,-999.000,9,-999.0000,9,  -999.0,9,  -999.0,9,-999.0000,9,  -999.00,-999.000,9,-999.000,9,-999.000,9,  12.0171,2,-999.000,9, -999.00,9, -999.00,-999.000,9,-999.000, -999.00,9, -999.00,9, -34.0007,  69.1252,-999.000,-999.000,20090416,       2142
33RR20090320,        I05,      92,          1,         25,         25,2,20090416,       1958,   -34.0012,    69.1264,       4493,   456.2,  11.7605,  35.0358,2,  35.0327,2,    233.6,2,   233.4,2,    4.47,2,   11.54,2,    0.00,2,    0.87,2,-999.000,9,-999.000,9,-999.0000,9,  2118.3,2,  2306.8,2,   7.9115,2,    20.00,-999.000,9,-999.000,9,-999.000,9,  11.7612,2,-999.000,9, -999.00,9, -999.00,-999.000,9,-999.000, -999.00,9, -999.00,9, -34.0007,  69.1253,-999.000,-999.000,20090416,       2140
33RR20090320,        I05,      92,          1,         24,         24,2,20090416,       1958,   -34.0012,    69.1264,       4493,   505.9,  11.4271,  34.9859,2,  34.9859,2,    231.4,2,   231.2,2,    4.66,2,   12.38,2,    0.00,2,    0.92,2,-999.000,9,-999.000,9,-999.0000,9,  -999.0,9,  -999.0,9,-999.0000,9,  -999.00,-999.000,9,-999.000,9,-999.000,9,  11.4290,2,-999.000,9, -999.00,9, -999.00,-999.000,9,-999.000, -999.00,9, -999.00,9, -34.0007,  69.1254,-999.000,-999.000,20090416,       2138
33RR20090320,        I05,      92,          1,         23,         23,2,20090416,       1958,   -34.0012,    69.1264,       4493,   606.1,  10.5746,  34.8647,2,  34.8618,2,    227.5,2,   227.3,2,    5.69,2,   14.70,2,    0.00,2,    1.06,2,-999.000,9,-999.000,9,-999.0000,9,  2128.3,2,  2298.9,2,   7.8769,2,    20.00,-999.000,9,-999.000,9,-999.000,9,  10.5806,2,-999.000,9, -999.00,9, -999.00,-999.000,9,-999.000, -999.00,9, -999.00,9, -34.0006,  69.1256,-999.000,-999.000,20090416,       2135
33RR20090320,        I05,      92,          1,         22,         22,2,20090416,       1958,   -34.0012,    69.1264,       4493,   707.5,   9.6070,  34.7378,2,  34.7371,2,    225.7,2,   222.8,2,    6.92,2,   17.22,2,    0.00,2,    1.23,2,-999.000,9,-999.000,9,-999.0000,9,  -999.0,9,  -999.0,9,-999.0000,9,  -999.00,-999.000,9,-999.000,9,-999.000,9,   9.6049,2,-999.000,9, -999.00,9, -999.00,-999.000,9,-999.000, -999.00,9, -999.00,9, -34.0005,  69.1258,-999.000,-999.000,20090416,       2132
33RR20090320,        I05,      92,          1,         21,         21,2,20090416,       1958,   -34.0012,    69.1264,       4493,   806.8,   8.6029,  34.6229,2,  34.6240,2,    213.9,2,   213.7,2,   10.01,2,   20.48,2,    0.00,2,    1.44,2,-999.000,9,-999.000,9,-999.0000,9,  2147.3,2,  2292.9,2,   7.8119,2,    20.00,-999.000,9,-999.000,9,-999.000,9,   8.6037,2,-999.000,9, -999.00,9, -999.00,-999.000,9,-999.000, -999.00,9, -999.00,9, -34.0004,  69.1259,-999.000,-999.000,20090416,       2129
33RR20090320,        I05,      92,          1,         20,         20,2,20090416,       1958,   -34.0012,    69.1264,       4493,   907.0,   7.1089,  34.4927,2,  34.4930,2,    204.2,2,   204.1,2,   16.66,2,   24.96,2,    0.00,2,    1.75,2,-999.000,9,-999.000,9,-999.0000,9,  -999.0,9,  -999.0,9,-999.0000,9,  -999.00,-999.000,9,-999.000,9,-999.000,9,   7.1062,2,-999.000,9, -999.00,9, -999.00,-999.000,9,-999.000, -999.00,9, -999.00,9, -34.0004,  69.1260,-999.000,-999.000,20090416,       2126
33RR20090320,        I05,      92,          1,         19,         19,2,20090416,       1958,   -34.0012,    69.1264,       4493,  1007.7,   5.8717,  34.4067,2,  34.4078,2,    203.5,2,   204.8,2,   22.48,2,   27.76,2,    0.00,2,    1.94,2,-999.000,9,-999.000,9,-999.0000,9,  2180.7,2,  2292.1,2,   7.7281,2,    20.00,-999.000,9,-999.000,9,-999.000,9,   5.8593,2,-999.000,9, -999.00,9, -999.00,-999.000,9,-999.000, -999.00,9, -999.00,9, -34.0002,  69.1260,-999.000,-999.000,20090416,       2123
33RR20090320,        I05,      92,          1,         18,         18,2,20090416,       1958,   -34.0012,    69.1264,       4493,  1108.0,   4.8834,  34.3674,2,  34.3677,2,    202.6,2,   203.6,2,   29.99,2,   29.99,2,    0.00,2,    2.12,2,-999.000,9,-999.000,9,-999.0000,9,  -999.0,9,  -999.0,9,-999.0000,9,  -999.00,-999.000,9,-999.000,9,-999.000,9,   4.8827,2,-999.000,9, -999.00,9, -999.00,-999.000,9,-999.000, -999.00,9, -999.00,9, -34.0002,  69.1260,-999.000,-999.000,20090416,       2120
33RR20090320,        I05,      92,          1,         17,         17,2,20090416,       1958,   -34.0012,    69.1264,       4493,  1207.2,   4.2242,  34.3747,2,  34.3736,2,    194.9,2,   196.5,2,   38.37,2,   31.53,2,    0.00,2,    2.24,2,-999.000,9,-999.000,9,-999.0000,9,  2206.9,2,  2304.2,2,   7.6825,2,    20.00,-999.000,9,-999.000,9,-999.000,9,   4.2314,2,-999.000,9, -999.00,9, -999.00,-999.000,9,-999.000, -999.00,9, -999.00,9, -34.0003,  69.1258,-999.000,-999.000,20090416,       2117
33RR20090320,        I05,      92,          1,         16,         16,2,20090416,       1958,   -34.0012,    69.1264,       4493,  1307.6,   3.7555,  34.4126,2,  34.4119,2,    183.8,2,   185.2,2,   48.64,2,   32.98,2,    0.00,2,    2.35,2,-999.000,9,-999.000,9,-999.0000,9,  -999.0,9,  -999.0,9,-999.0000,9,  -999.00,-999.000,9,-999.000,9,-999.000,9,   3.7562,2,-999.000,9, -999.00,9, -999.00,-999.000,9,-999.000, -999.00,9, -999.00,9, -34.0003,  69.1256,-999.000,-999.000,20090416,       2114
33RR20090320,        I05,      92,          1,         15,         15,2,20090416,       1958,   -34.0012,    69.1264,       4493,  1407.2,   3.3783,  34.4535,2,  34.4531,2,    178.9,2,   179.2,2,   56.00,2,   33.72,2,    0.00,2,    2.40,2,-999.000,9,-999.000,9,-999.0000,9,  2233.5,2,  2320.3,2,   7.6494,2,    20.00,-999.000,9,-999.000,9,-999.000,9,   3.3771,2,-999.000,9, -999.00,9, -999.00,-999.000,9,-999.000, -999.00,9, -999.00,9, -34.0003,  69.1257,-999.000,-999.000,20090416,       2111
33RR20090320,        I05,      92,          1,         14,         14,2,20090416,       1958,   -34.0012,    69.1264,       4493,  1508.8,   3.1569,  34.4998,2,  34.5006,2,    172.7,2,   173.5,2,   62.75,2,   34.09,2,    0.00,2,    2.43,2,-999.000,9,-999.000,9,-999.0000,9,  -999.0,9,  -999.0,9,-999.0000,9,  -999.00,-999.000,9,-999.000,9,-999.000,9,   3.1556,2,-999.000,9, -999.00,9, -999.00,-999.000,9,-999.000, -999.00,9, -999.00,9, -34.0004,  69.1258,-999.000,-999.000,20090416,       2108
33RR20090320,        I05,      92,          1,         13,         13,2,20090416,       1958,   -34.0012,    69.1264,       4493,  1609.3,   2.9517,  34.5457,2,  34.5456,2,    171.1,2,   171.3,2,   67.38,2,   33.98,2,    0.00,2,    2.42,2,-999.000,9,-999.000,9,-999.0000,9,  2248.8,2,  2331.4,2,   7.6412,2,    20.00,-999.000,9,-999.000,9,-999.000,9,   2.9519,2,-999.000,9, -999.00,9, -999.00,-999.000,9,-999.000, -999.00,9, -999.00,9, -34.0005,  69.1259,-999.000,-999.000,20090416,       2105
33RR20090320,        I05,      92,          1,         12,         12,2,20090416,       1958,   -34.0012,    69.1264,       4493,  1809.0,   2.6878,  34.6232,2,  34.6238,2,    172.9,2,   172.4,2,   73.93,2,   33.24,2,    0.00,2,    2.36,2,-999.000,9,-999.000,9,-999.0000,9,  -999.0,9,  -999.0,9,-999.0000,9,  -999.00,-999.000,9,-999.000,9,-999.000,9,   2.6869,2,-999.000,9, -999.00,9, -999.00,-999.000,9,-999.000, -999.00,9, -999.00,9, -34.0006,  69.1262,-999.000,-999.000,20090416,       2100
33RR20090320,        I05,      92,          1,         11,         11,2,20090416,       1958,   -34.0012,    69.1264,       4493,  2012.8,   2.4684,  34.6809,2,  34.6812,2,    178.3,2,   177.9,2,   79.86,2,   32.38,2,    0.00,2,    2.30,2,-999.000,9,-999.000,9,-999.0000,9,  2255.3,2,  2346.2,2,   7.6635,2,    20.00,-999.000,9,-999.000,9,-999.000,9,   2.4676,2,-999.000,9, -999.00,9, -999.00,-999.000,9,-999.000, -999.00,9, -999.00,9, -34.0008,  69.1264,-999.000,-999.000,20090416,       2056
33RR20090320,        I05,      92,          1,         10,         10,2,20090416,       1958,   -34.0012,    69.1264,       4493,  2264.3,   2.2321,  34.7173,2,  34.7169,2,    180.2,2,   180.3,2,   90.90,2,   31.95,2,    0.00,2,    2.28,2,-999.000,9,-999.000,9,-999.0000,9,  -999.0,9,  -999.0,9,-999.0000,9,  -999.00,-999.000,9,-999.000,9,-999.000,9,   2.2324,2,-999.000,9, -999.00,9, -999.00,-999.000,9,-999.000, -999.00,9, -999.00,9, -34.0014,  69.1265,-999.000,-999.000,20090416,       2050
33RR20090320,        I05,      92,          1,          9,          9,2,20090416,       1958,   -34.0012,    69.1264,       4493,  2517.6,   2.0427,  34.7272,2,  34.7276,2,    178.1,2,   177.2,2,  103.47,2,   32.59,2,    0.00,2,    2.33,2,-999.000,9,-999.000,9,-999.0000,9,  2274.6,2,  2370.3,2,   7.6764,2,    20.00,-999.000,9,-999.000,9,-999.000,9,   2.0427,2,-999.000,9, -999.00,9, -999.00,-999.000,9,-999.000, -999.00,9, -999.00,9, -34.0015,  69.1263,-999.000,-999.000,20090416,       2044
33RR20090320,        I05,      92,          1,          8,          8,2,20090416,       1958,   -34.0012,    69.1264,       4493,  2769.8,   1.9032,  34.7307,2,  34.7303,2,    177.4,2,   176.7,2,  110.93,2,   32.91,2,    0.00,2,    2.36,2,-999.000,9,-999.000,9,-999.0000,9,  -999.0,9,  -999.0,9,-999.0000,9,  -999.00,-999.000,9,-999.000,9,-999.000,9,   1.9035,2,-999.000,9, -999.00,9, -999.00,-999.000,9,-999.000, -999.00,9, -999.00,9, -34.0014,  69.1264,-999.000,-999.000,20090416,       2039
33RR20090320,        I05,      92,          1,          7,          7,2,20090416,       1958,   -34.0012,    69.1264,       4493,  3023.4,   1.7767,  34.7294,2,  34.7289,2,    178.5,2,   177.8,2,  115.84,2,   33.07,2,    0.00,2,    2.37,2,-999.000,9,-999.000,9,-999.0000,9,  2282.6,2,  2381.9,2,   7.6765,2,    20.00,-999.000,9,-999.000,9,-999.000,9,   1.7768,2,-999.000,9, -999.00,9, -999.00,-999.000,9,-999.000, -999.00,9, -999.00,9, -34.0013,  69.1264,-999.000,-999.000,20090416,       2033
33RR20090320,        I05,      92,          1,          6,          6,2,20090416,       1958,   -34.0012,    69.1264,       4493,  3326.3,   1.6158,  34.7263,2,  34.7262,2,    182.0,2,   181.7,2,  119.70,2,   33.07,2,    0.00,2,    2.38,2,-999.000,9,-999.000,9,-999.0000,9,  -999.0,9,  -999.0,9,-999.0000,9,  -999.00,-999.000,9,-999.000,9,-999.000,9,   1.6155,2,-999.000,9, -999.00,9, -999.00,-999.000,9,-999.000, -999.00,9, -999.00,9, -34.0013,  69.1262,-999.000,-999.000,20090416,       2026
33RR20090320,        I05,      92,          1,          5,          5,2,20090416,       1958,   -34.0012,    69.1264,       4493,  3630.6,   1.3726,  34.7189,2,  34.7189,2,    189.1,2,   189.3,2,  122.47,2,   33.01,2,    0.00,2,    2.36,2,-999.000,9,-999.000,9,-999.0000,9,  -999.0,9,  -999.0,9,-999.0000,9,  -999.00,-999.000,9,-999.000,9,-999.000,9,   1.3753,2,-999.000,9, -999.00,9, -999.00,-999.000,9,-999.000, -999.00,9, -999.00,9, -34.0012,  69.1261,-999.000,-999.000,20090416,       2019
33RR20090320,        I05,      92,          1,          4,          4,2,20090416,       1958,   -34.0012,    69.1264,       4493,  3936.5,   1.0492,  34.7074,2,  34.7073,2,    199.6,2,   200.1,2,  125.90,2,   32.85,2,    0.00,2,    2.34,2,-999.000,9,-999.000,9,-999.0000,9,  2271.9,2,  2371.1,2,   7.6806,2,    20.00,-999.000,9,-999.000,9,-999.000,9,   1.0496,2,-999.000,9, -999.00,9, -999.00,-999.000,9,-999.000, -999.00,9, -999.00,9, -34.0012,  69.1262,-999.000,-999.000,20090416,       2012
33RR20090320,        I05,      92,          1,          3,          3,2,20090416,       1958,   -34.0012,    69.1264,       4493,  4241.6,   0.8029,  34.6983,2,  34.6985,2,    207.3,2,   208.0,2,  129.11,2,   32.70,2,    0.00,2,    2.33,2,-999.000,9,-999.000,9,-999.0000,9,  -999.0,9,  -999.0,9,-999.0000,9,  -999.00,-999.000,9,-999.000,9,-999.000,9,   0.8027,2,-999.000,9, -999.00,9, -999.00,-999.000,9,-999.000, -999.00,9, -999.00,9, -34.0012,  69.1264,-999.000,-999.000,20090416,       2005
33RR20090320,        I05,      92,          1,          2,          2,2,20090416,       1958,   -34.0012,    69.1264,       4493,  4393.5,   0.7472,  34.6957,2,  34.6957,2,    210.0,2,   209.7,2,  129.74,2,   32.70,2,    0.00,2,    2.32,2,-999.000,9,-999.000,9,-999.0000,9,  -999.0,9,  -999.0,9,-999.0000,9,  -999.00,-999.000,9,-999.000,9,-999.000,9,   0.7460,2,-999.000,9, -999.00,9, -999.00,-999.000,9,-999.000, -999.00,9, -999.00,9, -34.0011,  69.1265,-999.000,-999.000,20090416,       2002
33RR20090320,        I05,      92,          1,          1,          1,2,20090416,       1958,   -34.0012,    69.1264,       4493,  4559.5,   0.7359,  34.6945,2,  34.6946,2,    211.1,2,   211.1,2,  129.95,2,   32.70,2,    0.00,2,    2.32,2,-999.000,9,-999.000,9,-999.0000,9,  2267.3,6,  2370.3,2,   7.6837,2,    20.00,-999.000,9,-999.000,9,-999.000,9,   0.7355,2,-999.000,9, -999.00,9, -999.00,-999.000,9,-999.000, -999.00,9, -999.00,9, -34.0012,  69.1265,-999.000,-999.000,20090416,       1958