BOTTLE,20220814CCHSIOAMB
EXPOCODE,SECT_ID,STNNBR,CASTNO,SAMPNO,BTLNBR,BTLNBR_FLAG_W,DATE,TIME,LATITUDE,LONGITUDE,DEPTH,CTDPRS,CTDTMP,CTDSAL,CTDSAL_FLAG_W,SALNTY,SALNTY_FLAG_W,CTDOXY,CTDOXY_FLAG_W,OXYGEN,OXYGEN_FLAG_W,SILCAT,SILCAT_FLAG_W,NITRAT,NITRAT_FLAG_W,NITRIT,NITRIT_FLAG_W,PHSPHT,PHSPHT_FLAG_W,CFC-11,CFC-11_FLAG_W,CFC-12,CFC-12_FLAG_W,SF6,SF6_FLAG_W,TCARBN,TCARBN_FLAG_W,ALKALI,ALKALI_FLAG_W,PH_TOT,PH_TOT_FLAG_W,PH_TMP,TRITUM,TRITUM_FLAG_W,HELIUM,HELIUM_FLAG_W,DELHE3,DELHE3_FLAG_W,REFTMP,REFTMP_FLAG_W,DELC13,DELC13_FLAG_W,DELC14,DELC14_FLAG_W,C14ERR,NEON,NEON_FLAG_W,NEONER,DOC,DOC_FLAG_W,TDN,TDN_FLAG_W,BTL_LAT,BTL_LON,HELIER,DELHER,BTL_DATE,BTL_TIME
,,,,,,,,,,,METERS,DBAR,ITS-90,PSS-78,,PSS-78,,UMOL/KG,,UMOL/KG,,UMOL/KG,,UMOL/KG,,UMOL/KG,,UMOL/KG,,PMOL/KG,,PMOL/KG,,FMOL/KG,,UMOL/KG,,UMOL/KG,,,,DEG C,TU,,NMOL/KG,,PERCNT,,DEG C,,/MILLE,,/MILLE,,/MILLE,NMOL/KG,,NMOL/KG,UMOL/KG,,UMOL/KG,,,,NMOL/KG,PERCNT,,
33RR20090320,        I05,      86,          1,         36,         36,2,20090415,       0337,   -33.9988,    65.6972,       4445,    11.0,  19.7537,  35.5316,2,  35.5316,2,    228.3,2,   227.9,2,    1.14,2,    0.18,2,    0.00,2,    0.14,2,   2.202,6,   1.316,6,   1.2090,6,  2061.5,6,  2336.1,2,   8.0748,2,    20.00,-999.000,9,-999.000,9,-999.000,9,  19.7538,2,-999.000,9, -999.00,9, -999.00,-999.000,9,-999.000, -999.00,9, -999.00,9, -33.9990,  65.6974,-999.000,-999.000,20090415,       0538
33RR20090320,        I05,      86,          1,         35,         35,2,20090415,       0337,   -33.9988,    65.6972,       4445,    31.9,  19.7357,  35.5278,2,  35.5271,2,    229.5,2,   228.0,2,    1.07,2,    0.18,2,    0.00,2,    0.14,2,-999.000,9,-999.000,9,-999.0000,9,  2062.1,2,  2335.6,2,   8.0740,2,    20.00,-999.000,9,-999.000,9,-999.000,9,  19.7344,2,-999.000,9, -999.00,9, -999.00,-999.000,9,-999.000, -999.00,9, -999.00,9, -33.9990,  65.6975,-999.000,-999.000,20090415,       0536
33RR20090320,        I05,      86,          1,         34,         34,2,20090415,       0337,   -33.9988,    65.6972,       4445,    56.3,  19.5731,  35.5027,2,  35.5029,2,    230.6,2,   229.3,2,    0.80,2,    0.18,2,    0.00,2,    0.14,2,-999.000,9,-999.000,9,-999.0000,9,  2063.2,2,  2334.8,2,   8.0708,2,    20.00,-999.000,9,-999.000,9,-999.000,9,  19.5695,2,-999.000,9, -999.00,9, -999.00,-999.000,9,-999.000, -999.00,9, -999.00,9, -33.9990,  65.6976,-999.000,-999.000,20090415,       0534
33RR20090320,        I05,      86,          1,         33,         33,2,20090415,       0337,   -33.9988,    65.6972,       4445,    80.7,  17.4295,  35.3632,2,  35.3643,2,    244.5,2,   248.9,2,    0.73,2,    0.18,2,    0.00,2,    0.16,2,-999.000,9,-999.000,9,-999.0000,9,  2059.3,2,  2326.9,2,   8.0640,2,    20.00,-999.000,9,-999.000,9,-999.000,9,  17.4919,2,-999.000,9, -999.00,9, -999.00,-999.000,9,-999.000, -999.00,9, -999.00,9, -33.9989,  65.6975,-999.000,-999.000,20090415,       0533
33RR20090320,        I05,      86,          1,         32,         32,2,20090415,       0337,   -33.9988,    65.6972,       4445,   105.6,  15.2177,  35.3932,2,  35.3866,2,    248.2,2,   247.4,2,    1.29,2,    1.17,2,    0.10,2,    0.28,2,   2.782,2,   1.612,2,   1.3610,2,  2081.4,2,  2327.4,2,   8.0225,2,    20.00,-999.000,9,-999.000,9,-999.000,9,  15.2925,2,-999.000,9, -999.00,9, -999.00,-999.000,9,-999.000, -999.00,9, -999.00,9, -33.9990,  65.6973,-999.000,-999.000,20090415,       0531
33RR20090320,        I05,      86,          1,         31,         31,2,20090415,       0337,   -33.9988,    65.6972,       4445,   156.3,  13.6709,  35.2821,2,  35.2811,2,    234.0,2,   232.6,2,    2.47,2,    6.61,2,    0.01,2,    0.55,2,-999.000,9,-999.000,9,-999.0000,9,  2102.5,2,  2320.0,2,   7.9637,2,    20.00,-999.000,9,-999.000,9,-999.000,9,  13.6725,2,-999.000,9, -999.00,9, -999.00,-999.000,9,-999.000, -999.00,9, -999.00,9, -33.9990,  65.6973,-999.000,-999.000,20090415,       0529
33RR20090320,        I05,      86,          1,         30,         30,2,20090415,       0337,   -33.9988,    65.6972,       4445,   207.3,  13.2129,  35.2444,2,  35.2441,2,    233.2,2,   233.5,2,    2.82,2,    7.87,2,    0.01,2,    0.62,2,   3.001,2,   1.727,2,   1.2550,2,  -999.0,9,  -999.0,9,-999.0000,9,  -999.00,-999.000,9,-999.000,9,-999.000,9,  13.2124,2,-999.000,9, -999.00,9, -999.00,-999.000,9,-999.000, -999.00,9, -999.00,9, -33.9990,  65.6973,-999.000,-999.000,20090415,       0526
33RR20090320,        I05,      86,          1,         29,         29,2,20090415,       0337,   -33.9988,    65.6972,       4445,   257.0,  12.9675,  35.2219,2,  35.2203,2,    237.1,2,   235.2,2,    3.17,2,    8.56,2,    0.00,2,    0.66,2,-999.000,9,-999.000,9,-999.0000,9,  2109.2,2,  2317.3,2,   7.9472,2,    20.00,-999.000,9,-999.000,9,-999.000,9,  12.9671,2,-999.000,9, -999.00,9, -999.00,-999.000,9,-999.000, -999.00,9, -999.00,9, -33.9989,  65.6974,-999.000,-999.000,20090415,       0524
33RR20090320,        I05,      86,          1,         28,         28,2,20090415,       0337,   -33.9988,    65.6972,       4445,   306.4,  12.7826,  35.1944,2,  35.1943,2,    235.6,2,   235.3,2,    3.10,2,    9.03,2,    0.00,2,    0.69,2,-999.000,9,-999.000,9,-999.0000,9,  -999.0,9,  -999.0,9,-999.0000,9,  -999.00,-999.000,9,-999.000,9,-999.000,9,  12.7836,2,-999.000,9, -999.00,9, -999.00,-999.000,9,-999.000, -999.00,9, -999.00,9, -33.9989,  65.6975,-999.000,-999.000,20090415,       0522
33RR20090320,        I05,      86,          1,         27,         27,2,20090415,       0337,   -33.9988,    65.6972,       4445,   357.6,  12.5764,  35.1685,2,  35.1693,2,    234.8,2,   233.0,2,    3.45,2,    9.82,2,    0.00,2,    0.74,2,-999.000,9,-999.000,9,-999.0000,9,  2112.4,2,  2313.4,2,   7.9360,2,    20.00,-999.000,9,-999.000,9,-999.000,9,  12.5770,2,-999.000,9, -999.00,9, -999.00,-999.000,9,-999.000, -999.00,9, -999.00,9, -33.9989,  65.6976,-999.000,-999.000,20090415,       0519
33RR20090320,        I05,      86,          1,         26,         26,2,20090415,       0337,   -33.9988,    65.6972,       4445,   406.8,  12.3770,  35.1393,2,  35.1398,2,    235.0,2,   238.9,2,    3.18,2,    9.71,2,    0.00,2,    0.73,2,   3.119,2,   1.772,2,   1.2890,2,  -999.0,9,  -999.0,9,-999.0000,9,  -999.00,-999.000,9,-999.000,9,-999.000,9,  12.3792,2,-999.000,9, -999.00,9, -999.00,-999.000,9,-999.000, -999.00,9, -999.00,9, -33.9989,  65.6975,-999.000,-999.000,20090415,       0517
33RR20090320,        I05,      86,          1,         25,         25,2,20090415,       0337,   -33.9988,    65.6972,       4445,   457.5,  12.1625,  35.1073,2,  35.1063,2,    235.5,2,   239.7,2,    3.32,2,   10.18,2,    0.00,2,    0.76,2,-999.000,9,-999.000,9,-999.0000,9,  2111.9,2,  2311.9,2,   7.9310,2,    20.00,-999.000,9,-999.000,9,-999.000,9,  12.1622,2,-999.000,9, -999.00,9, -999.00,-999.000,9,-999.000, -999.00,9, -999.00,9, -33.9990,  65.6974,-999.000,-999.000,20090415,       0515
33RR20090320,        I05,      86,          1,         24,         24,2,20090415,       0337,   -33.9988,    65.6972,       4445,   506.1,  11.8059,  35.0409,2,  35.0400,2,    236.0,2,   236.1,2,    3.67,2,   11.33,2,    0.00,2,    0.84,2,-999.000,9,-999.000,9,-999.0000,9,  -999.0,9,  -999.0,9,-999.0000,9,  -999.00,-999.000,9,-999.000,9,-999.000,9,  11.8042,2,-999.000,9, -999.00,9, -999.00,-999.000,9,-999.000, -999.00,9, -999.00,9, -33.9989,  65.6974,-999.000,-999.000,20090415,       0512
33RR20090320,        I05,      86,          1,         23,         23,2,20090415,       0337,   -33.9988,    65.6972,       4445,   606.2,  11.0817,  34.9281,2,  34.9267,2,    231.0,2,   230.1,2,    4.02,2,   13.48,2,    0.00,2,    0.97,2,   3.261,2,   1.789,2,   1.0950,2,  2123.9,2,  2303.2,2,   7.8916,2,    20.00,-999.000,9,-999.000,9,-999.000,9,  11.0824,2,-999.000,9, -999.00,9, -999.00,-999.000,9,-999.000, -999.00,9, -999.00,9, -33.9988,  65.6973,-999.000,-999.000,20090415,       0510
33RR20090320,        I05,      86,          1,         22,         22,2,20090415,       0337,   -33.9988,    65.6972,       4445,   704.8,  10.1551,  34.8040,2,  34.8040,2,    224.8,2,   223.2,2,    5.20,2,   16.11,2,    0.00,2,    1.13,2,-999.000,9,-999.000,9,-999.0000,9,  -999.0,9,  -999.0,9,-999.0000,9,  -999.00,-999.000,9,-999.000,9,-999.000,9,  10.1531,2,-999.000,9, -999.00,9, -999.00,-999.000,9,-999.000, -999.00,9, -999.00,9, -33.9988,  65.6973,-999.000,-999.000,20090415,       0507
33RR20090320,        I05,      86,          1,         21,         21,2,20090415,       0337,   -33.9988,    65.6972,       4445,   806.9,   9.1163,  34.6793,2,  34.6817,2,    214.3,2,   213.3,2,    8.06,2,   19.37,2,    0.00,2,    1.34,2,-999.000,9,-999.000,9,-999.0000,9,  2144.1,2,  2295.7,2,   7.8232,2,    20.00,-999.000,9,-999.000,9,-999.000,9,   9.1232,2,-999.000,9, -999.00,9, -999.00,-999.000,9,-999.000, -999.00,9, -999.00,9, -33.9988,  65.6974,-999.000,-999.000,20090415,       0504
33RR20090320,        I05,      86,          1,         20,         20,2,20090415,       0337,   -33.9988,    65.6972,       4445,   907.1,   7.5713,  34.5288,2,  34.5283,2,    205.2,2,   205.6,2,   13.64,2,   23.84,2,    0.00,2,    1.65,2,-999.000,9,-999.000,9,-999.0000,9,  -999.0,9,  -999.0,9,-999.0000,9,  -999.00,-999.000,9,-999.000,9,-999.000,9,   7.5767,2,-999.000,9, -999.00,9, -999.00,-999.000,9,-999.000, -999.00,9, -999.00,9, -33.9989,  65.6975,-999.000,-999.000,20090415,       0500
33RR20090320,        I05,      86,          1,         19,         19,2,20090415,       0337,   -33.9988,    65.6972,       4445,  1006.3,   6.0653,  34.4178,2,  34.4178,2,    203.4,2,   205.0,2,   20.07,2,   27.39,2,    0.00,2,    1.90,2,   2.350,2,   1.165,2,   0.4550,2,  2176.9,2,  2293.0,2,   7.7334,2,    20.00,-999.000,9,-999.000,9,-999.000,9,   6.0694,2,-999.000,9, -999.00,9, -999.00,-999.000,9,-999.000, -999.00,9, -999.00,9, -33.9989,  65.6974,-999.000,-999.000,20090415,       0458
33RR20090320,        I05,      86,          1,         18,         18,2,20090415,       0337,   -33.9988,    65.6972,       4445,  1105.1,   4.9973,  34.3658,2,  34.3662,2,    205.1,2,   205.6,2,   26.72,2,   29.62,2,    0.00,2,    2.07,2,-999.000,9,-999.000,9,-999.0000,9,  -999.0,9,  -999.0,9,-999.0000,9,  -999.00,-999.000,9,-999.000,9,-999.000,9,   4.9670,2,-999.000,9, -999.00,9, -999.00,-999.000,9,-999.000, -999.00,9, -999.00,9, -33.9989,  65.6974,-999.000,-999.000,20090415,       0455
33RR20090320,        I05,      86,          1,         17,         17,2,20090415,       0337,   -33.9988,    65.6972,       4445,  1208.2,   4.2340,  34.3707,2,  34.3702,2,    198.6,2,   197.7,2,   40.54,2,   31.53,2,    0.00,2,    2.22,2,-999.000,9,-999.000,9,-999.0000,9,  2204.4,2,  2304.7,2,   7.6848,2,    20.00,-999.000,9,-999.000,9,-999.000,9,   4.2366,2,-999.000,9, -999.00,9, -999.00,-999.000,9,-999.000, -999.00,9, -999.00,9, -33.9989,  65.6975,-999.000,-999.000,20090415,       0452
33RR20090320,        I05,      86,          1,         16,         16,2,20090415,       0337,   -33.9988,    65.6972,       4445,  1306.7,   3.7462,  34.4047,2,  34.4044,2,    187.9,2,   187.7,2,   49.35,2,   32.80,2,    0.00,2,    2.32,2,-999.000,9,-999.000,9,-999.0000,9,  -999.0,9,  -999.0,9,-999.0000,9,  -999.00,-999.000,9,-999.000,9,-999.000,9,   3.7487,2,-999.000,9, -999.00,9, -999.00,-999.000,9,-999.000, -999.00,9, -999.00,9, -33.9989,  65.6975,-999.000,-999.000,20090415,       0449
33RR20090320,        I05,      86,          1,         15,         15,2,20090415,       0337,   -33.9988,    65.6972,       4445,  1406.4,   3.4330,  34.4478,2,  34.4475,2,    178.4,2,   179.5,2,   57.34,2,   33.60,2,    0.00,2,    2.38,2,-999.000,9,-999.000,9,-999.0000,9,  -999.0,9,  -999.0,9,-999.0000,9,  -999.00,-999.000,9,-999.000,9,-999.000,9,   3.4345,2,-999.000,9, -999.00,9, -999.00,-999.000,9,-999.000, -999.00,9, -999.00,9, -33.9989,  65.6974,-999.000,-999.000,20090415,       0446
33RR20090320,        I05,      86,          1,         14,         14,2,20090415,       0337,   -33.9988,    65.6972,       4445,  1505.7,   3.1483,  34.4948,2,  34.4921,2,    173.9,2,   175.1,2,   63.21,2,   33.91,2,    0.00,2,    2.40,2,   0.586,2,   0.274,2,   0.1060,2,  2239.8,2,  2330.0,2,   7.6438,2,    20.00,-999.000,9,-999.000,9,-999.000,9,   3.1549,2,-999.000,9, -999.00,9, -999.00,-999.000,9,-999.000, -999.00,9, -999.00,9, -33.9990,  65.6973,-999.000,-999.000,20090415,       0444
33RR20090320,        I05,      86,          1,         13,         13,2,20090415,       0337,   -33.9988,    65.6972,       4445,  1609.7,   2.9651,  34.5435,2,  34.5434,2,    170.6,2,   171.1,2,   68.88,2,   33.96,2,    0.00,2,    2.40,2,-999.000,9,-999.000,9,-999.0000,9,  -999.0,9,  -999.0,9,-999.0000,9,  -999.00,-999.000,9,-999.000,9,-999.000,9,   2.9645,2,-999.000,9, -999.00,9, -999.00,-999.000,9,-999.000, -999.00,9, -999.00,9, -33.9988,  65.6972,-999.000,-999.000,20090415,       0441
33RR20090320,        I05,      86,          1,         12,         12,2,20090415,       0337,   -33.9988,    65.6972,       4445,  1810.3,   2.6828,  34.6238,2,  34.6236,2,    172.6,2,   173.0,2,   75.21,2,   33.16,2,    0.00,2,    2.34,2,-999.000,9,-999.000,9,-999.0000,9,  -999.0,9,  -999.0,9,-999.0000,9,  -999.00,-999.000,9,-999.000,9,-999.000,9,   2.6828,2,-999.000,9, -999.00,9, -999.00,-999.000,9,-999.000, -999.00,9, -999.00,9, -33.9987,  65.6970,-999.000,-999.000,20090415,       0437
33RR20090320,        I05,      86,          1,         11,         11,2,20090415,       0337,   -33.9988,    65.6972,       4445,  2012.5,   2.4871,  34.6813,2,  34.6812,2,    179.3,2,   179.0,2,   78.97,2,   32.09,2,    0.00,2,    2.26,2,-999.000,5,-999.000,5,-999.0000,5,  2249.3,2,  2345.9,2,   7.6642,2,    20.00,-999.000,9,-999.000,9,-999.000,9,   2.4869,2,-999.000,9, -999.00,9, -999.00,-999.000,9,-999.000, -999.00,9, -999.00,9, -33.9986,  65.6971,-999.000,-999.000,20090415,       0432
33RR20090320,        I05,      86,          1,         10,         10,2,20090415,       0337,   -33.9988,    65.6972,       4445,  2263.3,   2.2237,  34.7196,2,  34.7193,2,    180.8,2,   180.7,2,   92.58,2,   31.92,2,    0.00,2,    2.26,2,-999.000,9,-999.000,9,-999.0000,9,  -999.0,9,  -999.0,9,-999.0000,9,  -999.00,-999.000,9,-999.000,9,-999.000,9,   2.2194,2,-999.000,9, -999.00,9, -999.00,-999.000,9,-999.000, -999.00,9, -999.00,9, -33.9988,  65.6973,-999.000,-999.000,20090415,       0427
33RR20090320,        I05,      86,          1,          9,          9,2,20090415,       0337,   -33.9988,    65.6972,       4445,  2513.6,   2.0593,  34.7283,2,  34.7276,2,    178.0,2,   178.0,2,  103.65,2,   32.50,2,    0.00,2,    2.30,2,-999.000,9,-999.000,9,-999.0000,9,  -999.0,9,  -999.0,9,-999.0000,9,  -999.00,-999.000,9,-999.000,9,-999.000,9,   2.0592,2,-999.000,9, -999.00,9, -999.00,-999.000,9,-999.000, -999.00,9, -999.00,9, -33.9990,  65.6976,-999.000,-999.000,20090415,       0421
33RR20090320,        I05,      86,          1,          8,          8,2,20090415,       0337,   -33.9988,    65.6972,       4445,  2771.3,   1.9068,  34.7314,2,  34.7315,2,    177.2,2,   177.3,2,  111.75,2,   32.87,2,    0.00,2,    2.33,2,-999.000,9,-999.000,9,-999.0000,9,  -999.0,9,  -999.0,9,-999.0000,9,  -999.00,-999.000,9,-999.000,9,-999.000,9,   1.9070,2,-999.000,9, -999.00,9, -999.00,-999.000,9,-999.000, -999.00,9, -999.00,9, -33.9989,  65.6973,-999.000,-999.000,20090415,       0416
33RR20090320,        I05,      86,          1,          7,          7,2,20090415,       0337,   -33.9988,    65.6972,       4445,  3023.0,   1.7756,  34.7304,2,  34.7304,2,    178.1,2,   178.4,2,  116.63,2,   33.09,2,    0.00,2,    2.35,2,   0.007,2,   0.003,2,   0.0000,2,  2280.6,2,  2383.3,2,   7.6783,2,    20.00,-999.000,9,-999.000,9,-999.000,9,   1.7759,2,-999.000,9, -999.00,9, -999.00,-999.000,9,-999.000, -999.00,9, -999.00,9, -33.9988,  65.6969,-999.000,-999.000,20090415,       0410
33RR20090320,        I05,      86,          1,          6,          6,2,20090415,       0337,   -33.9988,    65.6972,       4445,  3325.5,   1.6193,  34.7264,2,  34.7271,2,    181.5,2,   181.6,2,  120.01,2,   33.13,2,    0.00,2,    2.35,2,-999.000,9,-999.000,9,-999.0000,9,  -999.0,9,  -999.0,9,-999.0000,9,  -999.00,-999.000,9,-999.000,9,-999.000,9,   1.6190,2,-999.000,9, -999.00,9, -999.00,-999.000,9,-999.000, -999.00,9, -999.00,9, -33.9987,  65.6970,-999.000,-999.000,20090415,       0404
33RR20090320,        I05,      86,          1,          5,          5,2,20090415,       0337,   -33.9988,    65.6972,       4445,  3631.0,   1.4074,  34.7203,2,  34.7206,2,    188.5,2,   189.1,2,  122.32,2,   32.97,2,    0.00,2,    2.34,2,-999.000,9,-999.000,9,-999.0000,9,  -999.0,9,  -999.0,9,-999.0000,9,  -999.00,-999.000,9,-999.000,9,-999.000,9,   1.4077,2,-999.000,9, -999.00,9, -999.00,-999.000,9,-999.000, -999.00,9, -999.00,9, -33.9987,  65.6970,-999.000,-999.000,20090415,       0357
33RR20090320,        I05,      86,          1,          4,          4,2,20090415,       0337,   -33.9988,    65.6972,       4445,  3936.8,   1.0184,  34.7069,2,  34.7075,2,    200.8,2,   201.2,2,  126.55,2,   32.80,2,    0.00,2,    2.31,2,   0.024,2,   0.012,2,   0.0000,2,  -999.0,9,  -999.0,9,-999.0000,9,  -999.00,-999.000,9,-999.000,9,-999.000,9,   1.0186,2,-999.000,9, -999.00,9, -999.00,-999.000,9,-999.000, -999.00,9, -999.00,9, -33.9987,  65.6970,-999.000,-999.000,20090415,       0351
33RR20090320,        I05,      86,          1,          3,          3,2,20090415,       0337,   -33.9988,    65.6972,       4445,  4239.3,   0.7901,  34.6980,2,  34.6984,2,    208.4,2,   208.6,2,  129.73,2,   32.75,2,    0.00,2,    2.30,2,-999.000,9,-999.000,9,-999.0000,9,  -999.0,9,  -999.0,9,-999.0000,9,  -999.00,-999.000,9,-999.000,9,-999.000,9,   0.7906,2,-999.000,9, -999.00,9, -999.00,-999.000,9,-999.000, -999.00,9, -999.00,9, -33.9989,  65.6971,-999.000,-999.000,20090415,       0345
33RR20090320,        I05,      86,          1,          2,          2,2,20090415,       0337,   -33.9988,    65.6972,       4445,  4368.6,   0.7321,  34.6952,2,  34.6949,2,    210.4,2,   210.5,2,  129.89,2,   32.74,2,    0.00,2,    2.31,2,-999.000,9,-999.000,9,-999.0000,9,  -999.0,9,  -999.0,9,-999.0000,9,  -999.00,-999.000,9,-999.000,9,-999.000,9,   0.7316,2,-999.000,9, -999.00,9, -999.00,-999.000,9,-999.000, -999.00,9, -999.00,9, -33.9988,  65.6973,-999.000,-999.000,20090415,       0341
33RR20090320,        I05,      86,          1,          1,          1,2,20090415,       0337,   -33.9988,    65.6972,       4445,  4504.4,   0.6913,  34.6934,2,  34.6932,2,    212.5,2,   212.1,2,  130.46,2,   32.75,2,    0.00,2,    2.31,2,   0.060,2,   0.029,2,   0.0000,2,  2266.4,6,  2367.7,2,   7.6836,2,    20.00,-999.000,9,-999.000,9,-999.000,9,   0.6914,2,-999.000,9, -999.00,9, -999.00,-999.000,9,-999.000, -999.00,9, -999.00,9, -33.9988,  65.6972,-999.000,-999.000,20090415,       0337