BOTTLE,20220814CCHSIOAMB
EXPOCODE,SECT_ID,STNNBR,CASTNO,SAMPNO,BTLNBR,BTLNBR_FLAG_W,DATE,TIME,LATITUDE,LONGITUDE,DEPTH,CTDPRS,CTDTMP,CTDSAL,CTDSAL_FLAG_W,SALNTY,SALNTY_FLAG_W,CTDOXY,CTDOXY_FLAG_W,OXYGEN,OXYGEN_FLAG_W,SILCAT,SILCAT_FLAG_W,NITRAT,NITRAT_FLAG_W,NITRIT,NITRIT_FLAG_W,PHSPHT,PHSPHT_FLAG_W,CFC-11,CFC-11_FLAG_W,CFC-12,CFC-12_FLAG_W,SF6,SF6_FLAG_W,TCARBN,TCARBN_FLAG_W,ALKALI,ALKALI_FLAG_W,PH_TOT,PH_TOT_FLAG_W,PH_TMP,TRITUM,TRITUM_FLAG_W,HELIUM,HELIUM_FLAG_W,DELHE3,DELHE3_FLAG_W,REFTMP,REFTMP_FLAG_W,DELC13,DELC13_FLAG_W,DELC14,DELC14_FLAG_W,C14ERR,NEON,NEON_FLAG_W,NEONER,DOC,DOC_FLAG_W,TDN,TDN_FLAG_W,BTL_LAT,BTL_LON,HELIER,DELHER,BTL_DATE,BTL_TIME
,,,,,,,,,,,METERS,DBAR,ITS-90,PSS-78,,PSS-78,,UMOL/KG,,UMOL/KG,,UMOL/KG,,UMOL/KG,,UMOL/KG,,UMOL/KG,,PMOL/KG,,PMOL/KG,,FMOL/KG,,UMOL/KG,,UMOL/KG,,,,DEG C,TU,,NMOL/KG,,PERCNT,,DEG C,,/MILLE,,/MILLE,,/MILLE,NMOL/KG,,NMOL/KG,UMOL/KG,,UMOL/KG,,,,NMOL/KG,PERCNT,,
33RR20090320,        I05,      34,          2,         36,         36,2,20090331,       1958,   -32.9947,    41.5630,       4855,    11.2,  23.1599,  35.6626,2,  35.6583,2,    218.2,2,   217.5,2,    1.73,2,    0.18,2,    0.00,2,    0.08,2,   1.922,2,   1.186,2,   1.0180,2,  2030.6,6,  2330.5,2,   8.1197,2,    20.00,-999.000,9,-999.000,9,-999.000,9,  23.1654,2,   1.038,2,   56.88,2,     3.2,-999.000,9,-999.000,   66.50,2,    4.54,2, -32.9947,  41.5634,-999.000,-999.000,20090331,       2209
33RR20090320,        I05,      34,          2,         35,         35,2,20090331,       1958,   -32.9947,    41.5630,       4855,    26.4,  22.0760,  35.5780,2,  35.5786,2,    221.3,2,   221.9,2,    1.72,2,    0.18,2,    0.00,2,    0.07,2,   1.996,6,   1.223,6,   1.0850,6,  2030.7,2,  2330.0,2,   8.1156,2,    20.00,-999.000,9,-999.000,9,-999.000,9,  22.0774,2,-999.000,9, -999.00,9, -999.00,-999.000,9,-999.000,   66.42,2,    4.32,2, -32.9947,  41.5634,-999.000,-999.000,20090331,       2207
33RR20090320,        I05,      34,          2,         34,         34,2,20090331,       1958,   -32.9947,    41.5630,       4855,    46.9,  21.8433,  35.5743,2,  35.5768,2,    222.5,2,   223.4,2,    1.52,2,    0.12,2,    0.00,2,    0.07,2,   2.011,2,   1.251,2,   1.1440,2,  2030.2,2,  2330.3,2,   8.1160,2,    20.00,-999.000,9,-999.000,9,-999.000,9,  21.8413,2,-999.000,9, -999.00,9, -999.00,-999.000,9,-999.000,   65.69,2,    4.10,2, -32.9947,  41.5635,-999.000,-999.000,20090331,       2206
33RR20090320,        I05,      34,          2,         33,         33,2,20090331,       1958,   -32.9947,    41.5630,       4855,    70.8,  19.0281,  35.5700,2,  35.5697,2,    233.7,2,   228.6,2,    2.10,2,    0.12,2,    0.00,2,    0.14,2,   2.249,2,   1.369,2,   1.2430,2,  2045.6,2,  2330.8,2,   8.0906,2,    20.00,-999.000,9,-999.000,9,-999.000,9,  19.0174,2,    0.98,2,   53.67,2,       3,-999.000,9,-999.000,   59.11,2,    3.67,2, -32.9946,  41.5634,-999.000,-999.000,20090331,       2204
33RR20090320,        I05,      34,          2,         32,         32,2,20090331,       1958,   -32.9947,    41.5630,       4855,    96.3,  18.2035,  35.5556,2,  35.5555,2,    213.7,2,   216.0,2,    2.68,2,    1.53,2,    0.06,2,    0.25,2,   2.337,2,   1.400,2,   1.1480,2,  2062.8,2,  2329.8,2,   8.0556,2,    20.00,-999.000,9,-999.000,9,-999.000,9,  18.2171,2,-999.000,9, -999.00,9, -999.00,-999.000,9,-999.000,   56.78,2,    5.25,2, -32.9946,  41.5634,-999.000,-999.000,20090331,       2202
33RR20090320,        I05,      34,          2,         31,         31,2,20090331,       1958,   -32.9947,    41.5630,       4855,   141.8,  17.1560,  35.5488,2,  35.5482,2,    211.7,2,   213.6,2,    3.06,2,    3.61,2,    0.01,2,    0.35,2,   2.420,2,   1.469,2,   1.2580,2,  2074.3,2,  2328.0,2,   8.0312,2,    20.00,-999.000,9,-999.000,9,-999.000,9,  17.1640,2,   0.767,2,   39.78,2,     3.4,-999.000,9,-999.000,   54.33,2,    7.17,2, -32.9946,  41.5634,-999.000,-999.000,20090331,       2200
33RR20090320,        I05,      34,          2,         30,         30,2,20090331,       1958,   -32.9947,    41.5630,       4855,   191.0,  16.7873,  35.5456,2,  35.5443,2,    216.1,2,   218.2,2,    3.06,2,    4.05,2,    0.01,2,    0.37,2,   2.481,2,   1.503,2,   1.2140,2,  2077.3,2,  2329.0,2,   8.0272,2,    20.00,-999.000,9,-999.000,9,-999.000,9,  16.7885,2,-999.000,9, -999.00,9, -999.00,-999.000,9,-999.000,   50.83,2,    7.55,2, -32.9946,  41.5634,-999.000,-999.000,20090331,       2158
33RR20090320,        I05,      34,          2,         29,         29,2,20090331,       1958,   -32.9947,    41.5630,       4855,   241.2,  16.4097,  35.5274,2,  35.5277,2,    216.0,2,   216.4,2,    3.25,2,    4.65,2,    0.01,2,    0.41,2,   2.495,2,   1.490,2,   1.2080,2,  2082.2,2,  2326.9,2,   8.0161,2,    20.00,-999.000,9,-999.000,9,-999.000,9,  16.4149,2,   0.761,2,   56.92,2,       3,-999.000,9,-999.000,   49.78,2,    8.19,2, -32.9946,  41.5633,-999.000,-999.000,20090331,       2156
33RR20090320,        I05,      34,          2,         28,         28,2,20090331,       1958,   -32.9947,    41.5630,       4855,   290.4,  15.7755,  35.4763,2,  35.4752,2,    207.9,2,   206.6,2,    4.03,2,    6.46,2,    0.01,2,    0.53,2,   2.604,2,   1.542,2,   1.1360,2,  2096.2,2,  2326.4,2,   7.9865,2,    20.00,-999.000,9,-999.000,9,-999.000,9,  15.7847,2,   0.785,2,   57.77,2,     3.1,-999.000,9,-999.000,   48.80,2,    9.11,2, -32.9947,  41.5633,-999.000,-999.000,20090331,       2154
33RR20090320,        I05,      34,          2,         27,         27,2,20090331,       1958,   -32.9947,    41.5630,       4855,   340.4,  15.0591,  35.4287,2,  35.4293,2,    209.0,2,   208.2,2,    3.82,2,    7.22,2,    0.00,2,    0.59,2,   2.709,2,   1.552,2,   1.1400,2,  2101.9,2,  2325.3,2,   7.9699,2,    20.00,-999.000,9,-999.000,9,-999.000,9,  15.0607,2,    0.87,2,   55.82,2,       3,-999.000,9,-999.000,   48.51,2,    9.04,2, -32.9947,  41.5633,-999.000,-999.000,20090331,       2152
33RR20090320,        I05,      34,          2,         26,         26,2,20090331,       1958,   -32.9947,    41.5630,       4855,   391.8,  14.3196,  35.3609,2,  35.3607,2,    209.1,2,   209.2,2,    4.41,2,    8.43,2,    0.00,2,    0.65,2,   2.830,2,   1.642,2,   1.1250,2,  2112.9,2,  2324.2,2,   7.9523,2,    20.00,-999.000,9,-999.000,9,-999.000,9,  14.3346,2,   0.909,2,   38.54,2,     4.2,-999.000,9,-999.000,   47.48,2,   10.23,2, -32.9946,  41.5634,-999.000,-999.000,20090331,       2150
33RR20090320,        I05,      34,          2,         25,         25,2,20090331,       1958,   -32.9947,    41.5630,       4855,   469.8,  13.5112,  35.2777,2,  35.2785,2,    213.3,2,   213.5,2,    4.40,2,    9.63,2,    0.00,2,    0.73,2,   2.955,2,   1.642,2,   1.1050,2,  2117.1,2,  2321.1,2,   7.9363,2,    20.00,-999.000,9,-999.000,9,-999.000,9,  13.5273,2,   0.942,2,   51.18,2,     3.3,-999.000,9,-999.000,   46.26,2,   11.41,2, -32.9946,  41.5634,-999.000,-999.000,20090331,       2148
33RR20090320,        I05,      34,          2,         24,         24,2,20090331,       1958,   -32.9947,    41.5630,       4855,   571.2,  12.5672,  35.1529,2,  35.1526,2,    216.8,2,   217.0,2,    4.79,2,   11.27,2,    0.00,2,    0.84,2,   3.082,2,   1.680,2,   1.0690,2,  2121.0,2,  2315.0,2,   7.9167,2,    20.00,-999.000,9,-999.000,9,-999.000,9,  12.5693,2,    1.02,2,   47.06,2,       3,-999.000,9,-999.000,   45.45,2,   12.84,2, -32.9945,  41.5634,-999.000,-999.000,20090331,       2145
33RR20090320,        I05,      34,          2,         23,         23,2,20090331,       1958,   -32.9947,    41.5630,       4855,   670.0,  11.2654,  34.9735,2,  34.9761,2,    220.5,2,   219.8,2,    5.17,2,   13.73,2,    0.00,2,    1.00,2,   3.203,2,   1.684,2,   0.8980,2,  2127.2,2,  2307.6,2,   7.8886,2,    20.00,-999.000,9,-999.000,9,-999.000,9,  11.2550,2,   1.088,2,   45.09,2,     3.1,-999.000,9,-999.000,   44.06,2,   14.96,2, -32.9945,  41.5635,-999.000,-999.000,20090331,       2141
33RR20090320,        I05,      34,          2,         22,         22,2,20090331,       1958,   -32.9947,    41.5630,       4855,   771.4,  10.2804,  34.8387,2,  34.8358,2,    217.1,2,   217.0,2,    6.92,2,   16.20,2,    0.00,2,    1.16,2,   3.125,2,   1.615,2,   0.8180,2,  2134.1,2,  2302.6,2,   7.8596,2,    20.00,-999.000,9,-999.000,9,-999.000,9,  10.2846,2,   1.154,2,   39.22,2,     3.1,-999.000,9,-999.000,   42.88,2,   18.08,2, -32.9945,  41.5635,-999.000,-999.000,20090331,       2139
33RR20090320,        I05,      34,          2,         21,         21,2,20090331,       1958,   -32.9947,    41.5630,       4855,   870.3,   9.0313,  34.6964,2,  34.6978,2,    208.4,2,   209.6,2,   10.42,2,   19.76,2,    0.00,2,    1.40,2,   2.808,2,   1.427,2,   0.5840,2,  2146.5,2,  2298.4,2,   7.8204,2,    20.00,-999.000,9,-999.000,9,-999.000,9,   9.0452,2,   1.113,2,   19.69,2,     2.9,-999.000,9,-999.000,   41.71,2,   21.70,2, -32.9945,  41.5636,-999.000,-999.000,20090331,       2136
33RR20090320,        I05,      34,          2,         20,         20,2,20090331,       1958,   -32.9947,    41.5630,       4855,   970.5,   7.3957,  34.5412,2,  34.5430,2,    202.0,2,   202.5,2,   17.05,2,   24.27,2,    0.00,2,    1.71,2,   2.343,2,   1.174,2,   0.4800,2,  2165.7,2,  2296.4,2,   7.7692,2,    20.00,-999.000,9,-999.000,9,-999.000,9,   7.4039,2,   1.081,2,  -10.35,2,     2.9,-999.000,9,-999.000,   40.62,2,   26.01,2, -32.9945,  41.5635,-999.000,-999.000,20090331,       2133
33RR20090320,        I05,      34,          2,         19,         19,2,20090331,       1958,   -32.9947,    41.5630,       4855,  1072.0,   6.0283,  34.4608,2,  34.4615,2,    196.8,2,   196.4,2,   26.43,2,   27.80,2,    0.00,2,    1.97,2,   1.911,2,   0.963,2,   0.3630,2,  2186.4,2,  2300.5,2,   7.7272,2,    20.00,-999.000,9,-999.000,9,-999.000,9,   6.0266,2,   0.842,3,  -55.07,2,     2.9,-999.000,9,-999.000,   40.41,2,   29.29,2, -32.9946,  41.5635,-999.000,-999.000,20090331,       2130
33RR20090320,        I05,      34,          2,         18,         18,2,20090331,       1958,   -32.9947,    41.5630,       4855,  1173.5,   4.9723,  34.4108,2,  34.4111,2,    196.9,2,   197.4,2,   33.10,2,   30.01,2,    0.00,2,    2.13,2,   1.853,2,   0.933,2,   0.4050,2,  2198.5,2,  2303.4,2,   7.7013,2,    20.00,-999.000,9,-999.000,9,-999.000,9,   4.9775,2,   0.974,2,  -63.79,2,     2.7,-999.000,9,-999.000,   40.25,2,   31.37,2, -32.9946,  41.5635,-999.000,-999.000,20090331,       2127
33RR20090320,        I05,      34,          2,         17,         17,2,20090331,       1958,   -32.9947,    41.5630,       4855,  1273.3,   4.2724,  34.4204,2,  34.4197,2,    190.3,2,   189.9,2,   42.14,2,   31.73,2,    0.00,2,    2.25,2,   1.463,2,   0.731,2,   0.2300,2,  2213.8,2,  2308.8,2,   7.6777,2,    20.00,-999.000,9,-999.000,9,-999.000,9,   4.2719,2,   0.862,2,  -93.88,2,     2.6,-999.000,9,-999.000,   40.08,2,   33.42,2, -32.9947,  41.5635,-999.000,-999.000,20090331,       2124
33RR20090320,        I05,      34,          2,         16,         16,2,20090331,       1958,   -32.9947,    41.5630,       4855,  1372.1,   3.8740,  34.4606,2,  34.4605,2,    181.9,2,   181.2,2,   50.62,2,   32.67,2,    0.00,2,    2.32,2,   0.977,2,   0.489,2,   0.1620,2,  2227.0,2,  2313.1,2,   7.6638,2,    20.00,-999.000,9,-999.000,9,-999.000,9,   3.8763,2,   0.759,2, -109.19,2,     2.4,-999.000,9,-999.000,   39.99,2,   34.14,2, -32.9948,  41.5634,-999.000,-999.000,20090331,       2122
33RR20090320,        I05,      34,          2,         15,         15,2,20090331,       1958,   -32.9947,    41.5630,       4855,  1473.2,   3.5512,  34.5044,2,  34.5047,2,    175.3,2,   174.9,2,   57.15,2,   33.34,2,    0.00,2,    2.37,2,   0.705,2,   0.355,2,   0.1040,2,  2238.3,2,  2319.9,2,   7.6531,2,    20.00,-999.000,9,-999.000,9,-999.000,9,   3.5507,2,   0.686,2, -125.16,2,     2.4,-999.000,9,-999.000,   39.80,2,   34.84,2, -32.9948,  41.5634,-999.000,-999.000,20090331,       2119
33RR20090320,        I05,      34,          2,         14,         14,2,20090331,       1958,   -32.9947,    41.5630,       4855,  1572.5,   3.2991,  34.5551,2,  34.5552,2,    171.8,2,   171.5,2,   63.48,2,   33.44,2,    0.00,2,    2.38,2,   0.453,2,   0.233,2,   0.0610,2,  2245.0,6,  2325.7,2,   7.6502,2,    20.00,-999.000,9,-999.000,9,-999.000,9,   3.3003,2,   0.636,2, -132.72,2,     2.5,-999.000,9,-999.000,   39.60,2,   34.73,2, -32.9948,  41.5633,-999.000,-999.000,20090331,       2115
33RR20090320,        I05,      34,          2,         13,         13,2,20090331,       1958,   -32.9947,    41.5630,       4855,  1744.0,   2.9889,  34.6313,2,  34.6304,2,    172.6,2,   172.0,2,   70.43,2,   32.83,2,    0.00,2,    2.34,2,   0.213,2,   0.112,2,   0.0430,2,  2250.8,2,  2334.6,2,   7.6567,2,    20.00,-999.000,9,-999.000,9,-999.000,9,   2.9897,2,   1.312,4,  -147.1,2,     2.3,-999.000,9,-999.000,   39.65,2,   34.25,2, -32.9948,  41.5634,-999.000,-999.000,20090331,       2111
33RR20090320,        I05,      34,          2,         12,         12,2,20090331,       1958,   -32.9947,    41.5630,       4855,  1946.9,   2.7981,  34.7032,2,  34.7038,2,    179.0,2,   178.7,2,   72.21,2,   31.60,2,    0.00,2,    2.23,2,   0.094,2,   0.049,2,   0.0300,2,  2248.9,2,  2339.2,2,   7.6738,2,    20.00,-999.000,9,-999.000,9,-999.000,9,   2.7977,2,   0.632,2, -144.13,2,     2.9,-999.000,9,-999.000,   39.85,2,   33.10,2, -32.9947,  41.5634,-999.000,-999.000,20090331,       2106
33RR20090320,        I05,      34,          2,         11,         11,2,20090331,       1958,   -32.9947,    41.5630,       4855,  2178.8,   2.6305,  34.7479,2,  34.7480,2,    186.2,2,   186.3,2,   74.18,2,   30.48,2,    0.00,2,    2.16,2,   0.044,2,   0.025,2,   0.0000,2,  2246.5,2,  2344.2,2,   7.6908,2,    20.00,-999.000,9,-999.000,9,-999.000,9,   2.6305,2,   0.658,2, -153.38,2,     2.6,-999.000,9,-999.000,   39.57,2,   32.40,2, -32.9946,  41.5635,-999.000,-999.000,20090331,       2101
33RR20090320,        I05,      34,          2,         10,         10,2,20090331,       1958,   -32.9947,    41.5630,       4855,  2415.9,   2.4911,  34.7785,2,  34.7785,2,    194.1,2,   195.0,2,   73.78,2,   29.38,2,    0.00,2,    2.07,2,   0.023,2,   0.016,2,   0.0690,3,  2242.5,2,  2343.7,2,   7.7073,2,    20.00,-999.000,9,-999.000,9,-999.000,9,   2.4913,2,   0.683,2, -148.33,2,     2.4,-999.000,9,-999.000,   39.85,2,   31.04,2, -32.9947,  41.5636,-999.000,-999.000,20090331,       2055
33RR20090320,        I05,      34,          2,          9,          9,2,20090331,       1958,   -32.9947,    41.5630,       4855,  2658.3,   2.3601,  34.7939,2,  34.7948,2,    202.9,2,   203.2,2,   72.18,2,   28.49,2,    0.00,2,    1.99,2,   0.016,6,   0.010,6,   0.0050,6,  2235.4,2,  2345.1,2,   7.7193,2,    20.00,-999.000,9,-999.000,9,-999.000,9,   2.3596,2,   0.688,2, -137.25,2,     2.3,-999.000,9,-999.000,   40.13,2,   30.40,2, -32.9945,  41.5635,-999.000,-999.000,20090331,       2049
33RR20090320,        I05,      34,          2,          8,          8,2,20090331,       1958,   -32.9947,    41.5630,       4855,  2909.2,   2.2576,  34.8004,2,  34.8007,2,    208.8,2,   208.9,2,   71.78,2,   27.98,2,    0.00,2,    1.95,2,   0.012,2,   0.008,2,   0.0000,2,  2232.8,2,  2344.3,2,   7.7267,2,    20.00,-999.000,9,-999.000,9,-999.000,9,   2.2575,2,   0.703,2, -140.12,2,     2.5,-999.000,9,-999.000,   40.12,2,   29.52,2, -32.9945,  41.5632,-999.000,-999.000,20090331,       2043
33RR20090320,        I05,      34,          2,          7,          7,2,20090331,       1958,   -32.9947,    41.5630,       4855,  3194.6,   2.0922,  34.7998,2,  34.7997,2,    213.3,2,   213.4,2,   74.36,2,   27.99,2,    0.00,2,    1.94,2,   0.013,2,   0.008,2,   0.0060,2,  2233.1,2,  2345.2,2,   7.7304,2,    20.00,-999.000,9,-999.000,9,-999.000,9,   2.0924,2,   0.705,2, -140.51,2,     2.4,-999.000,9,-999.000,   39.70,2,   29.84,2, -32.9948,  41.5629,-999.000,-999.000,20090331,       2036
33RR20090320,        I05,      34,          2,          6,          6,2,20090331,       1958,   -32.9947,    41.5630,       4855,  3499.1,   1.8623,  34.7870,2,  34.7877,2,    214.8,2,   214.6,2,   81.33,2,   28.48,2,    0.00,2,    1.98,2,   0.016,2,   0.009,2,   0.0510,2,  2236.4,2,  2348.2,2,   7.7256,2,    20.00,-999.000,9,-999.000,9,-999.000,9,   1.8624,2,   0.701,2, -141.54,2,     2.8,-999.000,9,-999.000,   39.80,2,   30.45,2, -32.9948,  41.5628,-999.000,-999.000,20090331,       2030
33RR20090320,        I05,      34,          2,          5,          5,2,20090331,       1958,   -32.9947,    41.5630,       4855,  3794.3,   1.5572,  34.7668,2,  34.7669,2,    216.0,2,   215.7,2,   90.71,2,   29.15,2,    0.00,2,    2.05,2,   0.026,2,   0.015,2,   0.0290,2,  2244.4,2,  2353.7,2,   7.7187,2,    20.00,-999.000,9,-999.000,9,-999.000,9,   1.5555,2,   0.627,2, -151.34,2,     2.4,-999.000,9,-999.000,   40.15,2,   31.00,2, -32.9948,  41.5628,-999.000,-999.000,20090331,       2023
33RR20090320,        I05,      34,          2,          4,          4,2,20090331,       1958,   -32.9947,    41.5630,       4855,  4139.4,   1.1154,  34.7356,2,  34.7356,2,    217.1,2,   217.1,2,  104.92,2,   30.69,2,    0.00,2,    2.15,2,   0.050,2,   0.031,2,   0.0620,3,  2251.9,2,  2358.6,2,   7.7075,2,    20.00,-999.000,9,-999.000,9,-999.000,9,   1.1151,2,   0.597,2, -158.14,2,     2.9,-999.000,9,-999.000,   40.13,2,   31.83,2, -32.9950,  41.5630,-999.000,-999.000,20090331,       2015
33RR20090320,        I05,      34,          2,          3,          3,2,20090331,       1958,   -32.9947,    41.5630,       4855,  4445.4,   0.8302,  34.7143,2,  34.7146,2,    218.1,2,   218.1,2,  114.16,2,   31.58,2,    0.00,2,    2.22,2,   0.080,6,   0.042,6,   0.0500,6,  2256.5,2,  2363.5,2,   7.6989,2,    20.00,-999.000,9,-999.000,9,-999.000,9,   0.8306,2,   0.463,3,  -163.2,2,     2.5,-999.000,9,-999.000,   39.80,2,   33.40,2, -32.9948,  41.5631,-999.000,-999.000,20090331,       2009
33RR20090320,        I05,      34,          2,          2,          2,2,20090331,       1958,   -32.9947,    41.5630,       4855,  4751.2,   0.7466,  34.7057,2,  34.7060,2,    219.2,2,   218.5,2,  117.97,2,   31.90,2,    0.00,2,    2.24,2,   0.100,2,   0.055,2,   0.0220,2,  2260.1,2,  2363.4,2,   7.6962,2,    20.00,-999.000,9,-999.000,9,-999.000,9,   0.7466,2,   0.582,2, -161.47,2,     2.5,-999.000,9,-999.000,   39.86,2,   33.39,2, -32.9947,  41.5630,-999.000,-999.000,20090331,       2003
33RR20090320,        I05,      34,          2,          1,          1,2,20090331,       1958,   -32.9947,    41.5630,       4855,  4929.6,   0.7405,  34.7035,2,  34.7042,2,    218.3,2,   218.8,2,  118.77,2,   31.96,2,    0.00,2,    2.26,2,   0.000,2,   0.000,2,   0.0000,2,  2261.0,6,  2364.8,2,   7.6950,2,    20.00,-999.000,9,-999.000,9,-999.000,9,   0.7407,2,   0.568,2, -164.31,2,     2.3,-999.000,9,-999.000,   40.01,2,   33.49,2, -32.9947,  41.5629,-999.000,-999.000,20090331,       1958