BOTTLE,20220814CCHSIOAMB
EXPOCODE,SECT_ID,STNNBR,CASTNO,SAMPNO,BTLNBR,BTLNBR_FLAG_W,DATE,TIME,LATITUDE,LONGITUDE,DEPTH,CTDPRS,CTDTMP,CTDSAL,CTDSAL_FLAG_W,SALNTY,SALNTY_FLAG_W,CTDOXY,CTDOXY_FLAG_W,OXYGEN,OXYGEN_FLAG_W,SILCAT,SILCAT_FLAG_W,NITRAT,NITRAT_FLAG_W,NITRIT,NITRIT_FLAG_W,PHSPHT,PHSPHT_FLAG_W,CFC-11,CFC-11_FLAG_W,CFC-12,CFC-12_FLAG_W,SF6,SF6_FLAG_W,TCARBN,TCARBN_FLAG_W,ALKALI,ALKALI_FLAG_W,PH_TOT,PH_TOT_FLAG_W,PH_TMP,TRITUM,TRITUM_FLAG_W,HELIUM,HELIUM_FLAG_W,DELHE3,DELHE3_FLAG_W,REFTMP,REFTMP_FLAG_W,DELC13,DELC13_FLAG_W,DELC14,DELC14_FLAG_W,C14ERR,NEON,NEON_FLAG_W,NEONER,DOC,DOC_FLAG_W,TDN,TDN_FLAG_W,BTL_LAT,BTL_LON,HELIER,DELHER,BTL_DATE,BTL_TIME
,,,,,,,,,,,METERS,DBAR,ITS-90,PSS-78,,PSS-78,,UMOL/KG,,UMOL/KG,,UMOL/KG,,UMOL/KG,,UMOL/KG,,UMOL/KG,,PMOL/KG,,PMOL/KG,,FMOL/KG,,UMOL/KG,,UMOL/KG,,,,DEG C,TU,,NMOL/KG,,PERCNT,,DEG C,,/MILLE,,/MILLE,,/MILLE,NMOL/KG,,NMOL/KG,UMOL/KG,,UMOL/KG,,,,NMOL/KG,PERCNT,,
33RR20090320,        I05,     182,          1,         36,         36,2,20090509,       1120,   -31.7052,   110.1020,       5123,     3.9,  19.9714,  35.9149,2,  35.9104,2,    227.4,2,   228.8,2,    1.64,2,    0.13,2,    0.00,2,    0.09,2,-999.000,9,-999.000,9,-999.0000,9,  2060.8,6,  2355.6,2,   8.1074,2,    20.00,-999.000,9,-999.000,9,-999.000,9,  19.9677,2,-999.000,9, -999.00,9, -999.00,-999.000,9,-999.000, -999.00,9, -999.00,9, -31.7054, 110.1022,-999.000,-999.000,20090509,       1330
33RR20090320,        I05,     182,          1,         35,         35,2,20090509,       1120,   -31.7052,   110.1020,       5123,    25.5,  19.4694,  35.8504,2,  35.8519,2,    229.5,2,   229.4,2,    1.34,2,    0.13,2,    0.00,2,    0.09,2,-999.000,9,-999.000,9,-999.0000,9,  2062.1,2,  2352.3,2,   8.1032,2,    20.00,-999.000,9,-999.000,9,-999.000,9,  19.4677,2,-999.000,9, -999.00,9, -999.00,-999.000,9,-999.000, -999.00,9, -999.00,9, -31.7055, 110.1020,-999.000,-999.000,20090509,       1329
33RR20090320,        I05,     182,          1,         34,         34,2,20090509,       1120,   -31.7052,   110.1020,       5123,    51.0,  19.3686,  35.8740,2,  35.8749,2,    229.8,2,   229.7,2,    1.22,2,    0.13,2,    0.00,2,    0.09,2,-999.000,9,-999.000,9,-999.0000,9,  2063.5,2,  2352.9,2,   8.1007,2,    20.00,-999.000,9,-999.000,9,-999.000,9,  19.3791,2,-999.000,9, -999.00,9, -999.00,-999.000,9,-999.000, -999.00,9, -999.00,9, -31.7055, 110.1021,-999.000,-999.000,20090509,       1327
33RR20090320,        I05,     182,          1,         33,         33,2,20090509,       1120,   -31.7052,   110.1020,       5123,    75.6,  17.9627,  35.6783,2,  35.7011,2,    234.7,2,   234.9,2,    0.74,2,    0.13,2,    0.00,2,    0.12,2,-999.000,9,-999.000,9,-999.0000,9,  2070.2,2,  2345.3,2,   8.0782,2,    20.00,-999.000,9,-999.000,9,-999.000,9,  17.9743,2,-999.000,9, -999.00,9, -999.00,-999.000,9,-999.000, -999.00,9, -999.00,9, -31.7055, 110.1021,-999.000,-999.000,20090509,       1325
33RR20090320,        I05,     182,          1,         32,         32,2,20090509,       1120,   -31.7052,   110.1020,       5123,    99.9,  16.2808,  35.6433,2,  35.6401,2,    239.4,2,   235.5,2,    1.00,2,    1.01,2,    0.10,2,    0.21,2,-999.000,9,-999.000,9,-999.0000,9,  -999.0,9,  -999.0,9,-999.0000,9,  -999.00,-999.000,9,-999.000,9,-999.000,9,  16.2759,2,-999.000,9, -999.00,9, -999.00,-999.000,9,-999.000, -999.00,9, -999.00,9, -31.7055, 110.1021,-999.000,-999.000,20090509,       1323
33RR20090320,        I05,     182,          1,         31,         31,2,20090509,       1120,   -31.7052,   110.1020,       5123,   152.0,  14.3163,  35.4289,2,  35.4396,2,    233.6,2,   233.8,2,    0.88,2,    3.88,2,    0.01,2,    0.38,2,-999.000,9,-999.000,9,-999.0000,9,  2099.2,2,  2330.1,2,   7.9974,2,    20.00,-999.000,9,-999.000,9,-999.000,9,  14.3657,2,-999.000,9, -999.00,9, -999.00,-999.000,9,-999.000, -999.00,9, -999.00,9, -31.7055, 110.1021,-999.000,-999.000,20090509,       1321
33RR20090320,        I05,     182,          1,         30,         30,2,20090509,       1120,   -31.7052,   110.1020,       5123,   199.0,  12.9974,  35.2271,2,  35.2246,2,    238.6,2,   238.9,2,    1.12,2,    6.18,2,    0.01,2,    0.53,2,-999.000,9,-999.000,9,-999.0000,9,  -999.0,9,  -999.0,9,-999.0000,9,  -999.00,-999.000,9,-999.000,9,-999.000,9,  12.9910,2,-999.000,9, -999.00,9, -999.00,-999.000,9,-999.000, -999.00,9, -999.00,9, -31.7055, 110.1021,-999.000,-999.000,20090509,       1319
33RR20090320,        I05,     182,          1,         29,         29,2,20090509,       1120,   -31.7052,   110.1020,       5123,   248.5,  11.9517,  35.0589,2,  35.0624,2,    243.8,2,   244.1,2,    1.38,2,    8.19,2,    0.01,2,    0.65,2,-999.000,9,-999.000,9,-999.0000,9,  2111.4,2,  2309.9,2,   7.9385,2,    20.00,-999.000,9,-999.000,9,-999.000,9,  11.9396,2,-999.000,9, -999.00,9, -999.00,-999.000,9,-999.000, -999.00,9, -999.00,9, -31.7055, 110.1021,-999.000,-999.000,20090509,       1317
33RR20090320,        I05,     182,          1,         28,         28,2,20090509,       1120,   -31.7052,   110.1020,       5123,   299.6,  11.0156,  34.9089,2,  34.9079,2,    245.5,2,   246.6,2,    1.82,2,   10.48,2,    0.01,2,    0.80,2,-999.000,9,-999.000,9,-999.0000,9,  -999.0,9,  -999.0,9,-999.0000,9,  -999.00,-999.000,9,-999.000,9,-999.000,9,  11.0038,2,-999.000,9, -999.00,9, -999.00,-999.000,9,-999.000, -999.00,9, -999.00,9, -31.7056, 110.1020,-999.000,-999.000,20090509,       1314
33RR20090320,        I05,     182,          1,         27,         27,2,20090509,       1120,   -31.7052,   110.1020,       5123,   349.7,  10.1002,  34.7691,2,  34.7693,2,    244.4,2,   244.2,2,    2.62,2,   13.38,2,    0.00,2,    0.97,2,-999.000,9,-999.000,9,-999.0000,9,  -999.0,9,  -999.0,9,-999.0000,9,  -999.00,-999.000,9,-999.000,9,-999.000,9,  10.0995,2,-999.000,9, -999.00,9, -999.00,-999.000,9,-999.000, -999.00,9, -999.00,9, -31.7056, 110.1021,-999.000,-999.000,20090509,       1312
33RR20090320,        I05,     182,          1,         26,         26,2,20090509,       1120,   -31.7052,   110.1020,       5123,   399.0,   9.7979,  34.7421,2,  34.7414,2,    241.6,2,   241.5,2,    3.24,2,   14.69,2,    0.01,2,    1.05,2,-999.000,9,-999.000,9,-999.0000,9,  -999.0,9,  -999.0,9,-999.0000,9,  -999.00,-999.000,9,-999.000,9,-999.000,9,   9.7948,2,-999.000,9, -999.00,9, -999.00,-999.000,9,-999.000, -999.00,9, -999.00,9, -31.7056, 110.1020,-999.000,-999.000,20090509,       1310
33RR20090320,        I05,     182,          1,         25,         25,2,20090509,       1120,   -31.7052,   110.1020,       5123,   499.9,   9.2073,  34.6673,2,  34.6665,2,    239.4,2,   240.8,2,    4.04,2,   16.61,2,    0.00,2,    1.17,2,-999.000,9,-999.000,9,-999.0000,9,  2132.0,2,  2290.9,2,   7.8504,2,    20.00,-999.000,9,-999.000,9,-999.000,9,   9.2066,2,-999.000,9, -999.00,9, -999.00,-999.000,9,-999.000, -999.00,9, -999.00,9, -31.7055, 110.1020,-999.000,-999.000,20090509,       1308
33RR20090320,        I05,     182,          1,         24,         24,2,20090509,       1120,   -31.7052,   110.1020,       5123,   600.1,   8.6656,  34.5972,2,  34.5977,2,    235.5,2,   235.9,2,    5.58,2,   18.52,2,    0.00,2,    1.30,2,-999.000,9,-999.000,9,-999.0000,9,  -999.0,9,  -999.0,9,-999.0000,9,  -999.00,-999.000,9,-999.000,9,-999.000,9,   8.6647,2,-999.000,9, -999.00,9, -999.00,-999.000,9,-999.000, -999.00,9, -999.00,9, -31.7055, 110.1020,-999.000,-999.000,20090509,       1305
33RR20090320,        I05,     182,          1,         23,         23,2,20090509,       1120,   -31.7052,   110.1020,       5123,   699.5,   7.5474,  34.4933,2,  34.4915,2,    213.9,2,   209.8,2,   11.91,2,   23.56,2,    0.00,2,    1.63,2,-999.000,9,-999.000,9,-999.0000,9,  -999.0,9,  -999.0,9,-999.0000,9,  -999.00,-999.000,9,-999.000,9,-999.000,9,   7.5489,2,-999.000,9, -999.00,9, -999.00,-999.000,9,-999.000, -999.00,9, -999.00,9, -31.7055, 110.1020,-999.000,-999.000,20090509,       1302
33RR20090320,        I05,     182,          1,         22,         22,2,20090509,       1120,   -31.7052,   110.1020,       5123,   800.7,   6.1374,  34.4198,2,  34.4189,2,    195.9,2,   197.0,2,   21.16,2,   27.74,2,    0.00,2,    1.92,2,-999.000,9,-999.000,9,-999.0000,9,  -999.0,9,  -999.0,9,-999.0000,9,  -999.00,-999.000,9,-999.000,9,-999.000,9,   6.1406,2,-999.000,9, -999.00,9, -999.00,-999.000,9,-999.000, -999.00,9, -999.00,9, -31.7055, 110.1020,-999.000,-999.000,20090509,       1259
33RR20090320,        I05,     182,          1,         21,         21,2,20090509,       1120,   -31.7052,   110.1020,       5123,   899.8,   4.8473,  34.3982,2,  34.3967,2,    185.9,2,   186.4,2,   35.92,2,   31.05,2,    0.00,2,    2.19,2,-999.000,9,-999.000,9,-999.0000,9,  2204.4,2,  2302.1,2,   7.6857,2,    20.00,-999.000,9,-999.000,9,-999.000,9,   4.8452,2,-999.000,9, -999.00,9, -999.00,-999.000,9,-999.000, -999.00,9, -999.00,9, -31.7055, 110.1020,-999.000,-999.000,20090509,       1256
33RR20090320,        I05,     182,          1,         20,         20,2,20090509,       1120,   -31.7052,   110.1020,       5123,   998.5,   4.1883,  34.4268,2,  34.4260,2,    174.3,2,   173.7,2,   49.19,2,   32.99,2,    0.00,2,    2.35,2,-999.000,9,-999.000,9,-999.0000,9,  -999.0,9,  -999.0,9,-999.0000,9,  -999.00,-999.000,9,-999.000,9,-999.000,9,   4.1800,2,-999.000,9, -999.00,9, -999.00,-999.000,9,-999.000, -999.00,9, -999.00,9, -31.7054, 110.1020,-999.000,-999.000,20090509,       1253
33RR20090320,        I05,     182,          1,         19,         19,2,20090509,       1120,   -31.7052,   110.1020,       5123,  1101.2,   3.7657,  34.4720,2,  34.4721,2,    162.1,2,   162.1,2,   60.85,2,   34.20,2,    0.00,2,    2.45,2,-999.000,9,-999.000,9,-999.0000,9,  -999.0,9,  -999.0,9,-999.0000,9,  -999.00,-999.000,9,-999.000,9,-999.000,9,   3.7653,2,-999.000,9, -999.00,9, -999.00,-999.000,9,-999.000, -999.00,9, -999.00,9, -31.7055, 110.1020,-999.000,-999.000,20090509,       1249
33RR20090320,        I05,     182,          1,         18,         18,2,20090509,       1120,   -31.7052,   110.1020,       5123,  1200.5,   3.5892,  34.5176,2,  34.5173,2,    151.7,2,   151.7,2,   70.14,2,   34.87,2,    0.00,2,    2.51,2,-999.000,9,-999.000,9,-999.0000,9,  -999.0,9,  -999.0,9,-999.0000,9,  -999.00,-999.000,9,-999.000,9,-999.000,9,   3.5877,2,-999.000,9, -999.00,9, -999.00,-999.000,9,-999.000, -999.00,9, -999.00,9, -31.7055, 110.1020,-999.000,-999.000,20090509,       1246
33RR20090320,        I05,     182,          1,         17,         17,2,20090509,       1120,   -31.7052,   110.1020,       5123,  1301.3,   3.3597,  34.5516,2,  34.5501,2,    148.8,2,   149.1,2,   75.76,2,   34.97,2,    0.00,2,    2.54,2,-999.000,9,-999.000,9,-999.0000,9,  2263.7,2,  2343.2,2,   7.6256,2,    20.00,-999.000,9,-999.000,9,-999.000,9,   3.3596,2,-999.000,9, -999.00,9, -999.00,-999.000,9,-999.000, -999.00,9, -999.00,9, -31.7055, 110.1021,-999.000,-999.000,20090509,       1243
33RR20090320,        I05,     182,          1,         16,         16,2,20090509,       1120,   -31.7052,   110.1020,       5123,  1401.3,   3.0576,  34.5749,2,  34.5739,2,    154.1,2,   153.8,2,   77.69,2,   34.81,2,    0.00,2,    2.50,2,-999.000,9,-999.000,9,-999.0000,9,  -999.0,9,  -999.0,9,-999.0000,9,  -999.00,-999.000,9,-999.000,9,-999.000,9,   3.0582,2,-999.000,9, -999.00,9, -999.00,-999.000,9,-999.000, -999.00,9, -999.00,9, -31.7055, 110.1020,-999.000,-999.000,20090509,       1240
33RR20090320,        I05,     182,          1,         15,         15,2,20090509,       1120,   -31.7052,   110.1020,       5123,  1597.9,   2.7855,  34.6426,2,  34.6425,2,    153.6,2,   153.7,2,   87.41,2,   34.31,2,    0.00,2,    2.48,2,-999.000,9,-999.000,9,-999.0000,9,  -999.0,9,  -999.0,9,-999.0000,9,  -999.00,-999.000,9,-999.000,9,-999.000,9,   2.7855,2,-999.000,9, -999.00,9, -999.00,-999.000,9,-999.000, -999.00,9, -999.00,9, -31.7055, 110.1020,-999.000,-999.000,20090509,       1235
33RR20090320,        I05,     182,          1,         14,         14,2,20090509,       1120,   -31.7052,   110.1020,       5123,  1798.1,   2.5697,  34.6852,2,  34.6850,2,    156.2,2,   156.2,2,   95.87,2,   33.96,2,    0.00,2,    2.45,2,-999.000,9,-999.000,9,-999.0000,9,  -999.0,9,  -999.0,9,-999.0000,9,  -999.00,-999.000,9,-999.000,9,-999.000,9,   2.5698,2,-999.000,9, -999.00,9, -999.00,-999.000,9,-999.000, -999.00,9, -999.00,9, -31.7054, 110.1020,-999.000,-999.000,20090509,       1230
33RR20090320,        I05,     182,          1,         13,         13,2,20090509,       1120,   -31.7052,   110.1020,       5123,  1991.1,   2.3642,  34.7111,2,  34.7111,2,    157.6,2,   156.9,2,  105.69,2,   33.96,2,    0.00,2,    2.45,2,-999.000,9,-999.000,9,-999.0000,9,  -999.0,9,  -999.0,9,-999.0000,9,  -999.00,-999.000,9,-999.000,9,-999.000,9,   2.3650,2,-999.000,9, -999.00,9, -999.00,-999.000,9,-999.000, -999.00,9, -999.00,9, -31.7054, 110.1020,-999.000,-999.000,20090509,       1226
33RR20090320,        I05,     182,          1,         12,         12,2,20090509,       1120,   -31.7052,   110.1020,       5123,  2248.2,   2.1381,  34.7232,2,  34.7231,2,    162.8,2,   163.0,2,  110.48,2,   33.68,2,    0.00,2,    2.42,2,-999.000,9,-999.000,9,-999.0000,9,  2288.0,2,  2378.6,2,   7.6596,2,    20.00,-999.000,9,-999.000,9,-999.000,9,   2.1392,2,-999.000,9, -999.00,9, -999.00,-999.000,9,-999.000, -999.00,9, -999.00,9, -31.7053, 110.1020,-999.000,-999.000,20090509,       1221
33RR20090320,        I05,     182,          1,         11,         11,2,20090509,       1120,   -31.7052,   110.1020,       5123,  2498.8,   1.9468,  34.7273,2,  34.7263,2,    168.1,2,   167.8,2,  114.15,2,   33.47,2,    0.00,2,    2.40,2,-999.000,9,-999.000,9,-999.0000,9,  2287.6,2,  2382.1,2,   7.6662,2,    20.00,-999.000,9,-999.000,9,-999.000,9,   1.9473,2,-999.000,9, -999.00,9, -999.00,-999.000,9,-999.000, -999.00,9, -999.00,9, -31.7052, 110.1021,-999.000,-999.000,20090509,       1216
33RR20090320,        I05,     182,          1,         10,         10,2,20090509,       1120,   -31.7052,   110.1020,       5123,  2751.2,   1.7920,  34.7286,2,  34.7285,2,    173.8,2,   174.0,2,  115.19,2,   33.18,2,    0.00,2,    2.37,2,-999.000,9,-999.000,9,-999.0000,9,  -999.0,9,  -999.0,9,-999.0000,9,  -999.00,-999.000,9,-999.000,9,-999.000,9,   1.7930,2,-999.000,9, -999.00,9, -999.00,-999.000,9,-999.000, -999.00,9, -999.00,9, -31.7052, 110.1021,-999.000,-999.000,20090509,       1211
33RR20090320,        I05,     182,          1,          9,          9,2,20090509,       1120,   -31.7052,   110.1020,       5123,  2994.9,   1.6632,  34.7279,2,  34.7275,2,    178.6,2,   178.4,2,  117.37,2,   33.02,2,    0.00,2,    2.36,2,-999.000,9,-999.000,9,-999.0000,9,  -999.0,9,  -999.0,9,-999.0000,9,  -999.00,-999.000,9,-999.000,9,-999.000,9,   1.6631,2,-999.000,9, -999.00,9, -999.00,-999.000,9,-999.000, -999.00,9, -999.00,9, -31.7053, 110.1021,-999.000,-999.000,20090509,       1206
33RR20090320,        I05,     182,          1,          7,          7,2,20090509,       1120,   -31.7052,   110.1020,       5123,  3296.9,   1.4999,  34.7257,2,  34.7259,2,    183.5,2,   184.1,2,  120.11,2,   32.90,2,    0.00,2,    2.34,2,   0.004,6,   0.004,6,   0.0000,6,  2283.4,2,  2384.4,2,   7.6827,2,    20.00,-999.000,9,-999.000,9,-999.000,9,   1.5010,2,-999.000,9, -999.00,9, -999.00,-999.000,9,-999.000, -999.00,9, -999.00,9, -31.7053, 110.1020,-999.000,-999.000,20090509,       1159
33RR20090320,        I05,     182,          1,          8,          8,2,20090509,       1120,   -31.7052,   110.1020,       5123,  3299.0,   1.5022,  34.7257,2,-999.0000,9,   -999.0,5,  -999.0,9, -999.00,9, -999.00,9, -999.00,9, -999.00,9,   0.004,6,   0.003,6,   0.0000,6,  -999.0,9,  -999.0,9,-999.0000,9,  -999.00,-999.000,9,-999.000,9,-999.000,9,   1.5021,2,-999.000,9, -999.00,9, -999.00,-999.000,9,-999.000, -999.00,9, -999.00,9, -31.7053, 110.1020,-999.000,-999.000,20090509,       1159
33RR20090320,        I05,     182,          1,          6,          6,2,20090509,       1120,   -31.7052,   110.1020,       5123,  3599.0,   1.3796,  34.7223,2,  34.7222,2,    186.6,2,   186.9,2,  122.87,2,   32.84,2,    0.00,2,    2.34,2,-999.000,9,-999.000,9,-999.0000,9,  -999.0,9,  -999.0,9,-999.0000,9,  -999.00,-999.000,9,-999.000,9,-999.000,9,   1.3800,2,-999.000,9, -999.00,9, -999.00,-999.000,9,-999.000, -999.00,9, -999.00,9, -31.7053, 110.1020,-999.000,-999.000,20090509,       1153
33RR20090320,        I05,     182,          1,          5,          5,2,20090509,       1120,   -31.7052,   110.1020,       5123,  3896.4,   1.2761,  34.7194,2,  34.7189,2,    191.1,2,   191.1,2,  124.10,2,   32.78,2,    0.00,2,    2.32,2,-999.000,9,-999.000,9,-999.0000,9,  2282.4,2,  2385.7,2,   7.6896,2,    20.00,-999.000,9,-999.000,9,-999.000,9,   1.2758,2,-999.000,9, -999.00,9, -999.00,-999.000,9,-999.000, -999.00,9, -999.00,9, -31.7053, 110.1020,-999.000,-999.000,20090509,       1147
33RR20090320,        I05,     182,          1,          4,          4,2,20090509,       1120,   -31.7052,   110.1020,       5123,  4299.7,   1.2216,  34.7163,2,  34.7156,2,    193.8,2,   193.9,2,  125.54,2,   32.72,2,    0.00,2,    2.32,2,-999.000,9,-999.000,9,-999.0000,9,  -999.0,9,  -999.0,9,-999.0000,9,  -999.00,-999.000,9,-999.000,9,-999.000,9,   1.2221,2,-999.000,9, -999.00,9, -999.00,-999.000,9,-999.000, -999.00,9, -999.00,9, -31.7053, 110.1020,-999.000,-999.000,20090509,       1139
33RR20090320,        I05,     182,          1,          3,          3,2,20090509,       1120,   -31.7052,   110.1020,       5123,  4700.7,   1.1189,  34.7126,2,  34.7118,2,    200.6,2,   200.3,2,  124.68,2,   32.51,2,    0.00,2,    2.30,2,-999.000,9,-999.000,9,-999.0000,9,  2275.8,2,  2380.0,2,   7.6928,2,    20.00,-999.000,9,-999.000,9,-999.000,9,   1.1193,2,-999.000,9, -999.00,9, -999.00,-999.000,9,-999.000, -999.00,9, -999.00,9, -31.7053, 110.1020,-999.000,-999.000,20090509,       1131
33RR20090320,        I05,     182,          1,          2,          2,2,20090509,       1120,   -31.7052,   110.1020,       5123,  5052.3,   1.0535,  34.7091,2,  34.7091,2,    205.7,2,   205.1,2,  123.81,2,   32.33,2,    0.00,2,    2.28,2,-999.000,9,-999.000,9,-999.0000,9,  -999.0,9,  -999.0,9,-999.0000,9,  -999.00,-999.000,9,-999.000,9,-999.000,9,   1.0537,2,-999.000,9, -999.00,9, -999.00,-999.000,9,-999.000, -999.00,9, -999.00,9, -31.7052, 110.1020,-999.000,-999.000,20090509,       1124
33RR20090320,        I05,     182,          1,          1,          1,2,20090509,       1120,   -31.7052,   110.1020,       5123,  5208.2,   1.0649,  34.7087,2,  34.7089,2,    205.2,2,   205.3,2,  124.29,2,   32.33,2,    0.00,2,    2.29,2,-999.000,9,-999.000,9,-999.0000,9,  2272.9,6,  2374.5,2,   7.6915,2,    20.00,-999.000,9,-999.000,9,-999.000,9,   1.0651,2,-999.000,9, -999.00,9, -999.00,-999.000,9,-999.000, -999.00,9, -999.00,9, -31.7052, 110.1020,-999.000,-999.000,20090509,       1120