BOTTLE,20220814CCHSIOAMB
EXPOCODE,SECT_ID,STNNBR,CASTNO,SAMPNO,BTLNBR,BTLNBR_FLAG_W,DATE,TIME,LATITUDE,LONGITUDE,DEPTH,CTDPRS,CTDTMP,CTDSAL,CTDSAL_FLAG_W,SALNTY,SALNTY_FLAG_W,CTDOXY,CTDOXY_FLAG_W,OXYGEN,OXYGEN_FLAG_W,SILCAT,SILCAT_FLAG_W,NITRAT,NITRAT_FLAG_W,NITRIT,NITRIT_FLAG_W,PHSPHT,PHSPHT_FLAG_W,CFC-11,CFC-11_FLAG_W,CFC-12,CFC-12_FLAG_W,SF6,SF6_FLAG_W,TCARBN,TCARBN_FLAG_W,ALKALI,ALKALI_FLAG_W,PH_TOT,PH_TOT_FLAG_W,PH_TMP,TRITUM,TRITUM_FLAG_W,HELIUM,HELIUM_FLAG_W,DELHE3,DELHE3_FLAG_W,REFTMP,REFTMP_FLAG_W,DELC13,DELC13_FLAG_W,DELC14,DELC14_FLAG_W,C14ERR,NEON,NEON_FLAG_W,NEONER,DOC,DOC_FLAG_W,TDN,TDN_FLAG_W,BTL_LAT,BTL_LON,HELIER,DELHER,BTL_DATE,BTL_TIME
,,,,,,,,,,,METERS,DBAR,ITS-90,PSS-78,,PSS-78,,UMOL/KG,,UMOL/KG,,UMOL/KG,,UMOL/KG,,UMOL/KG,,UMOL/KG,,PMOL/KG,,PMOL/KG,,FMOL/KG,,UMOL/KG,,UMOL/KG,,,,DEG C,TU,,NMOL/KG,,PERCNT,,DEG C,,/MILLE,,/MILLE,,/MILLE,NMOL/KG,,NMOL/KG,UMOL/KG,,UMOL/KG,,,,NMOL/KG,PERCNT,,
33RR20090320,        I05,     127,          1,         36,         36,2,20090425,       2209,   -31.3843,    86.0896,       3084,     4.8,  21.1487,  36.0847,2,  36.0847,2,    223.0,2,   223.6,2,    1.87,2,    0.12,2,    0.00,2,    0.13,2,   2.066,2,   1.242,2,   1.1700,2,  2075.1,6,  2369.7,2,   8.0994,2,    20.00,   0.484,2,   1.807,2,  -1.332,2,  21.1498,2,   1.158,2,    50.3,2,       3,   7.286,2,   0.006,   69.23,2,    4.05,2, -31.3842,  86.0894,   0.000,   0.205,20090425,       2334
33RR20090320,        I05,     127,          1,         35,         35,2,20090425,       2209,   -31.3843,    86.0896,       3084,    26.2,  21.1542,  36.0844,2,  36.0838,2,    224.6,2,   224.3,2,    1.86,2,    0.12,2,    0.00,2,    0.12,2,   2.073,6,   1.241,6,   1.1520,6,  2075.9,2,  2368.2,2,   8.0999,2,    20.00,   0.483,2,   1.768,2,  -1.580,2,  21.1509,2,-999.000,9, -999.00,9, -999.00,   7.127,2,   0.008,   68.86,2,    3.89,2, -31.3842,  86.0893,   0.001,   0.211,20090425,       2333
33RR20090320,        I05,     127,          1,         34,         34,2,20090425,       2209,   -31.3843,    86.0896,       3084,    45.8,  21.1433,  36.0824,2,  36.0828,2,    225.7,2,   223.3,2,    1.85,2,    0.06,2,    0.00,2,    0.12,2,   2.067,2,   1.243,2,   1.1240,2,  2075.5,2,  2371.8,2,   8.0991,2,    20.00,   0.501,2,   1.781,2,  -1.222,2,  21.1406,2,-999.000,9, -999.00,9, -999.00,   7.245,2,   0.012,   68.50,2,    3.90,2, -31.3842,  86.0893,   0.001,   0.203,20090425,       2331
33RR20090320,        I05,     127,          1,         33,         33,2,20090425,       2209,   -31.3843,    86.0896,       3084,    70.1,  18.9716,  35.8334,2,  35.8318,2,    241.3,2,   247.6,2,    1.67,2,    0.06,2,    0.00,2,    0.14,2,   2.436,2,   1.446,2,   1.2480,2,  2071.6,2,  2354.7,2,   8.0851,2,    20.00,-999.000,9,   1.860,2,  -1.679,2,  18.9455,2,-999.000,9, -999.00,9, -999.00,   7.799,2,   0.012,   65.62,2,    3.55,2, -31.3842,  86.0892,   0.000,   0.197,20090425,       2330
33RR20090320,        I05,     127,          1,         32,         32,2,20090425,       2209,   -31.3843,    86.0896,       3084,    95.9,  17.0678,  35.7648,2,  35.7698,2,    245.9,2,   239.7,2,    1.66,2,    0.06,2,    0.00,2,    0.18,2,   2.539,2,   1.484,2,   1.2440,2,  2083.9,2,  2352.1,2,   8.0593,2,    20.00,   0.476,2,   1.835,2,  -1.133,2,  17.0747,2,   1.175,2,   53.21,2,     3.8,   7.552,2,   0.007,   59.91,2,    3.35,2, -31.3842,  86.0892,   0.000,   0.195,20090425,       2328
33RR20090320,        I05,     127,          1,         31,         31,2,20090425,       2209,   -31.3843,    86.0896,       3084,   120.6,  15.9020,  35.6329,2,  35.6341,2,    238.8,2,   236.5,2,    1.65,2,    0.68,2,    0.06,2,    0.26,2,   2.674,2,   1.553,2,   1.3440,2,  2094.4,2,  2346.1,2,   8.0294,2,    20.00,   0.425,2,   1.852,2,  -1.306,2,  15.9057,2,-999.000,9, -999.00,9, -999.00,   7.644,2,   0.008,   56.64,2,    4.09,2, -31.3842,  86.0892,   0.000,   0.193,20090425,       2327
33RR20090320,        I05,     127,          1,         30,         30,2,20090425,       2209,   -31.3843,    86.0896,       3084,   145.9,  15.1687,  35.5461,2,  35.5402,2,    228.0,2,   229.7,2,    1.82,2,    3.14,2,    0.07,2,    0.38,2,   2.747,2,   1.598,2,   1.3080,2,  2103.5,2,  2338.5,2,   8.0012,2,    20.00,   0.410,2,   1.937,2,  -1.768,2,  15.1749,2,   1.118,2,   53.72,2,     2.9,   7.945,2,   0.009,   54.60,2,    6.53,2, -31.3842,  86.0892,   0.000,   0.195,20090425,       2325
33RR20090320,        I05,     127,          1,         29,         29,2,20090425,       2209,   -31.3843,    86.0896,       3084,   170.6,  14.4618,  35.4297,4,  35.4095,2,    228.3,2,   230.8,2,    1.98,2,    4.57,2,    0.01,2,    0.46,2,   2.865,2,   1.647,2,   1.3860,2,  2106.2,2,  2330.4,2,   7.9836,2,    20.00,   0.420,2,   1.838,2,  -1.163,2,  14.4603,2,-999.000,9, -999.00,9, -999.00,   7.663,2,   0.007,   52.14,2,    8.22,2, -31.3841,  86.0892,   0.000,   0.195,20090425,       2324
33RR20090320,        I05,     127,          1,         28,         28,2,20090425,       2209,   -31.3843,    86.0896,       3084,   195.8,  13.9352,  35.3651,2,  35.3623,2,    227.5,2,   228.1,2,    2.15,2,    5.67,2,    0.00,2,    0.53,2,   2.947,2,   1.679,2,   1.2880,2,  2109.8,2,  2328.4,2,   7.9690,2,    20.00,   0.407,2,   1.820,2,  -1.598,2,  13.9282,2,   1.119,2,   52.49,2,     3.9,   7.610,2,   0.009,   51.41,2,    8.32,2, -31.3841,  86.0892,   0.001,   0.201,20090425,       2323
33RR20090320,        I05,     127,          1,         27,         27,2,20090425,       2209,   -31.3843,    86.0896,       3084,   219.8,  13.4393,  35.2879,2,  35.2989,2,    225.5,2,   228.9,2,    2.31,2,    6.62,2,    0.00,2,    0.58,2,   3.029,2,   1.715,2,   1.3100,2,  2113.5,2,  2322.2,2,   7.9570,2,    20.00,   0.368,2,   1.826,2,  -1.133,2,  13.4302,2,-999.000,9, -999.00,9, -999.00,   7.642,2,   0.010,   50.73,2,    8.66,2, -31.3841,  86.0892,   0.001,   0.199,20090425,       2321
33RR20090320,        I05,     127,          1,         26,         26,2,20090425,       2209,   -31.3843,    86.0896,       3084,   245.5,  13.1613,  35.2448,2,  35.2461,2,    226.7,2,   230.5,2,    2.48,2,    7.20,2,    0.00,2,    0.61,2,   3.072,2,   1.741,2,   1.3940,2,  2115.6,2,  2322.9,2,   7.9499,2,    20.00,   0.366,2,   1.842,2,  -1.622,2,  13.1640,2,   1.117,2,   49.85,2,     2.8,   7.697,2,   0.010,   49.68,2,    9.57,2, -31.3841,  86.0892,   0.001,   0.211,20090425,       2320
33RR20090320,        I05,     127,          1,         25,         25,2,20090425,       2209,   -31.3843,    86.0896,       3084,   290.3,  12.5293,  35.1672,2,  35.1620,2,    230.0,2,   232.8,2,    2.83,2,    8.57,2,    0.00,2,    0.69,2,   3.199,2,   1.785,2,   1.3640,2,  2118.8,2,  2316.7,2,   7.9343,2,    20.00,   0.345,2,   1.845,2,  -1.395,2,  12.5284,2,-999.000,9, -999.00,9, -999.00,   7.733,2,   0.011,   48.83,2,   10.82,2, -31.3841,  86.0892,   0.001,   0.198,20090425,       2318
33RR20090320,        I05,     127,          1,         24,         24,2,20090425,       2209,   -31.3843,    86.0896,       3084,   340.8,  11.9166,  35.0756,2,  35.0781,2,    232.6,2,   235.2,2,    3.00,2,    9.72,2,    0.00,2,    0.76,2,   3.261,2,   1.833,2,   1.2530,2,  2119.2,2,  2312.7,2,   7.9222,2,    20.00,-999.000,9,   1.842,2,  -1.510,2,  11.9192,2,   1.107,2,   49.53,2,       3,   7.778,2,   0.009,   48.34,2,   11.46,2, -31.3841,  86.0892,   0.001,   0.200,20090425,       2317
33RR20090320,        I05,     127,          1,         23,         23,2,20090425,       2209,   -31.3843,    86.0896,       3084,   390.5,  11.3128,  34.9792,2,  34.9805,2,    236.2,2,   238.2,2,    3.51,2,   11.20,2,    0.00,2,    0.85,2,   3.392,2,   1.866,2,   1.2880,6,  2121.1,2,  2306.2,2,   7.9088,2,    20.00,-999.000,9,   1.846,2,  -0.967,2,  11.3086,2,-999.000,9, -999.00,9, -999.00,   7.827,2,   0.009,   47.73,2,   12.74,2, -31.3841,  86.0892,   0.001,   0.203,20090425,       2315
33RR20090320,        I05,     127,          1,         22,         22,2,20090425,       2209,   -31.3843,    86.0896,       3084,   439.9,  10.8228,  34.9066,2,  34.9095,2,    237.9,2,   238.1,2,    4.04,2,   12.52,2,    0.00,2,    0.93,2,   3.450,2,   1.888,2,   1.1100,2,  2123.6,2,  2304.8,2,   7.8961,2,    20.00,-999.000,9,   1.874,2,  -1.468,2,  10.8325,2,   1.155,2,   48.79,2,     3.5,   7.932,2,   0.012,   46.99,2,   13.70,2, -31.3841,  86.0892,   0.001,   0.199,20090425,       2314
33RR20090320,        I05,     127,          1,         21,         21,2,20090425,       2209,   -31.3843,    86.0896,       3084,   490.4,  10.4813,  34.8543,2,  34.8485,2,    237.6,2,   237.8,2,    4.56,2,   13.73,2,    0.00,2,    1.00,2,   3.477,2,   1.888,2,   1.0650,2,  2125.2,2,  2302.4,2,   7.8848,2,    20.00,   0.317,2,-999.000,9,-999.000,9,  10.4755,2,-999.000,9, -999.00,9, -999.00,-999.000,9,-999.000,   46.18,2,   15.51,2, -31.3841,  86.0892,-999.000,-999.000,20090425,       2312
33RR20090320,        I05,     127,          1,         20,         20,2,20090425,       2209,   -31.3843,    86.0896,       3084,   570.3,   9.9492,  34.7794,2,  34.7803,2,    238.3,2,   239.1,2,    4.37,2,   14.62,2,    0.00,2,    1.05,2,   3.567,2,   1.934,2,   1.0750,2,  2126.6,2,  2296.7,2,   7.8746,2,    20.00,-999.000,9,-999.000,9,-999.000,9,   9.9515,2,   1.161,2,   42.22,2,     3.7,-999.000,9,-999.000,   45.61,2,   16.14,2, -31.3841,  86.0892,-999.000,-999.000,20090425,       2310
33RR20090320,        I05,     127,          1,         19,         19,2,20090425,       2209,   -31.3843,    86.0896,       3084,   669.7,   9.2305,  34.6764,2,  34.6758,2,    233.8,2,   232.6,2,    5.97,2,   17.41,2,    0.00,2,    1.23,2,   3.518,2,   1.833,2,   0.9510,2,  2133.6,2,  2293.4,2,   7.8468,2,    20.00,   0.219,2,   1.883,2,   0.857,2,   9.2293,2,   1.167,2,   36.41,2,     3.6,   8.032,2,   0.009,   45.05,2,   19.14,2, -31.3841,  86.0893,   0.001,   0.200,20090425,       2307
33RR20090320,        I05,     127,          1,         18,         18,2,20090425,       2209,   -31.3843,    86.0896,       3084,   769.9,   8.3121,  34.5743,2,  34.5748,2,    219.3,2,   218.2,2,    9.51,2,   21.07,2,    0.00,2,    1.46,2,   3.068,2,   1.559,2,   0.6210,2,  2147.1,2,  2291.8,2,   7.8074,2,    20.00,-999.000,9,-999.000,9,-999.000,9,   8.3176,2,    1.13,2,   19.67,2,     2.8,-999.000,9,-999.000,   44.19,2,   22.85,2, -31.3840,  86.0893,-999.000,-999.000,20090425,       2305
33RR20090320,        I05,     127,          1,         17,         17,2,20090425,       2209,   -31.3843,    86.0896,       3084,   870.2,   6.7450,  34.4605,2,  34.4610,2,    200.0,2,   199.3,2,   18.95,2,   26.48,2,    0.00,2,    1.83,2,   2.082,2,   1.026,2,   0.3600,2,  2172.2,2,  2294.1,2,   7.7452,2,    20.00,   0.144,2,   1.867,2,   2.192,2,   6.7408,2,   1.043,2,  -27.19,2,     2.8,   8.080,2,   0.011,   43.11,2,   27.64,2, -31.3841,  86.0893,   0.001,   0.199,20090425,       2302
33RR20090320,        I05,     127,          1,         16,         16,2,20090425,       2209,   -31.3843,    86.0896,       3084,   971.1,   5.4962,  34.4019,2,  34.4019,2,    194.1,2,   194.2,2,   28.25,2,   29.62,2,    0.00,2,    2.06,2,-999.000,5,-999.000,5,   0.0000,2,  2190.6,2,  2297.2,2,   7.7084,2,    20.00,-999.000,9,   1.780,2,   3.123,2,   5.4905,2,    1.01,2,  -61.85,2,     2.5,   8.171,2,   0.012,   42.02,2,   30.70,2, -31.3841,  86.0892,   0.002,   0.202,20090425,       2259
33RR20090320,        I05,     127,          1,         15,         15,2,20090425,       2209,   -31.3843,    86.0896,       3084,  1070.3,   4.6720,  34.4044,2,  34.4047,2,    185.4,2,   184.4,2,   39.39,2,   31.98,2,    0.00,2,    2.24,2,   1.079,2,   0.515,2,   0.1160,2,  2209.6,2,  2309.1,2,   7.6812,2,    20.00,   0.033,2,   1.915,2,   6.170,2,   4.6788,2,   0.718,2,  -92.43,2,     2.9,   8.299,2,   0.012,   41.22,2,   33.13,2, -31.3841,  86.0892,   0.001,   0.201,20090425,       2257
33RR20090320,        I05,     127,          1,         14,         14,2,20090425,       2209,   -31.3843,    86.0896,       3084,  1171.4,   4.0823,  34.4329,2,  34.4335,2,    173.7,2,   173.9,2,   51.31,2,   33.64,2,    0.00,2,    2.37,2,   0.697,2,   0.327,2,   0.0860,2,  2227.1,2,  2318.8,2,   7.6579,2,    20.00,-999.000,9,-999.000,9,-999.000,9,   4.0839,2,     0.7,2, -111.85,2,     3.1,-999.000,9,-999.000,   40.41,2,   34.84,2, -31.3841,  86.0892,-999.000,-999.000,20090425,       2254
33RR20090320,        I05,     127,          1,         13,         13,2,20090425,       2209,   -31.3843,    86.0896,       3084,  1272.3,   3.7582,  34.4823,2,  34.4824,2,    162.0,2,   161.8,2,   62.36,2,   34.60,2,    0.00,2,    2.46,2,   0.362,6,   0.174,6,   0.0710,6,  2244.5,2,  2329.7,2,   7.6410,2,    20.00,   0.001,2,   1.932,2,   7.870,2,   3.7572,2,-999.000,5, -999.00,9, -999.00,   8.324,2,   0.010,   40.67,2,   36.52,2, -31.3841,  86.0892,   0.001,   0.206,20090425,       2252
33RR20090320,        I05,     127,          1,         12,         12,2,20090425,       2209,   -31.3843,    86.0896,       3084,  1372.8,   3.4819,  34.5265,2,  34.5264,2,    156.1,2,   155.3,2,   70.73,2,   35.20,2,    0.00,2,    2.50,2,   0.200,2,   0.096,2,   0.0480,2,  2255.0,2,  2338.9,2,   7.6327,2,    20.00,-999.000,9,   1.911,2,   8.928,2,   3.4826,2,-999.000,9, -999.00,9, -999.00,   8.206,2,   0.009,   40.44,2,   36.27,2, -31.3842,  86.0892,   0.001,   0.214,20090425,       2249
33RR20090320,        I05,     127,          1,         11,         11,2,20090425,       2209,   -31.3843,    86.0896,       3084,  1472.9,   3.2385,  34.5607,2,  34.5610,2,    155.6,2,   154.3,2,   75.82,2,   35.20,2,    0.00,2,    2.51,2,   0.127,2,   0.062,2,   0.0000,2,  2262.4,6,  2345.1,2,   7.6305,2,    20.00,-999.000,9,   1.927,2,   9.686,2,   3.2392,2,   0.537,2, -164.05,2,     2.8,   8.316,2,   0.010,   40.24,2,   36.84,2, -31.3842,  86.0892,   0.001,   0.212,20090425,       2247
33RR20090320,        I05,     127,          1,         10,         10,2,20090425,       2209,   -31.3843,    86.0896,       3084,  1572.2,   3.0718,  34.5949,2,  34.5952,2,    154.8,2,   154.6,2,   80.20,2,   35.15,2,    0.00,2,    2.50,2,   0.084,2,   0.040,2,   0.0000,2,  2264.6,2,  2347.8,2,   7.6329,2,    20.00,-999.000,9,   1.973,2,  10.173,2,   3.0736,2,-999.000,9, -999.00,9, -999.00,   8.454,2,   0.010,   40.20,2,   36.89,2, -31.3842,  86.0893,   0.001,   0.214,20090425,       2244
33RR20090320,        I05,     127,          1,          9,          9,2,20090425,       2209,   -31.3843,    86.0896,       3084,  1672.7,   2.8839,  34.6283,2,  34.6284,2,    157.1,2,   156.8,2,   83.85,2,   34.77,2,    0.00,2,    2.47,2,   0.062,2,   0.030,2,   0.0370,2,  2266.5,2,  2353.3,2,   7.6380,2,    20.00,-999.000,9,   1.932,2,  10.998,2,   2.8848,2,-999.000,9, -999.00,9, -999.00,   8.307,2,   0.009,   40.17,2,   36.04,2, -31.3842,  86.0893,   0.001,   0.203,20090425,       2241
33RR20090320,        I05,     127,          1,          8,          8,2,20090425,       2209,   -31.3843,    86.0896,       3084,  1774.0,   2.7279,  34.6573,2,  34.6581,2,    160.0,2,   160.3,2,   87.68,2,   34.34,2,    0.00,2,    2.44,2,   0.043,2,   0.021,2,   0.0000,2,  2267.4,2,  2354.5,2,   7.6441,2,    20.00,-999.000,9,-999.000,9,-999.000,9,   2.7285,2,-999.000,9, -999.00,9, -999.00,-999.000,9,-999.000,   39.32,2,   36.20,2, -31.3843,  86.0893,-999.000,-999.000,20090425,       2239
33RR20090320,        I05,     127,          1,          7,          7,2,20090425,       2209,   -31.3843,    86.0896,       3084,  1945.6,   2.4785,  34.6959,2,  34.6968,2,    164.7,2,   165.7,2,   93.73,2,   33.75,2,    0.00,2,    2.39,2,   0.020,2,   0.011,2,   0.0000,2,  2267.8,2,  2363.2,2,   7.6552,2,    20.00,-999.000,9,   1.944,2,  11.918,2,   2.4786,2,-999.000,9, -999.00,9, -999.00,   8.808,2,   0.022,   39.75,2,   35.24,2, -31.3843,  86.0893,   0.001,   0.203,20090425,       2235
33RR20090320,        I05,     127,          1,          6,          6,2,20090425,       2209,   -31.3843,    86.0896,       3084,  2147.0,   2.2637,  34.7146,2,  34.7151,2,    170.9,2,   171.6,2,   97.76,2,   33.33,2,    0.00,2,    2.35,2,   0.014,2,   0.007,2,  -0.0010,2,  2268.9,2,  2363.2,2,   7.6651,2,    20.00,-999.000,9,   1.949,2,  13.150,2,   2.2640,2,-999.000,9, -999.00,9, -999.00,   8.370,2,   0.010,   39.31,2,   34.57,2, -31.3844,  86.0894,   0.001,   0.214,20090425,       2231
33RR20090320,        I05,     127,          1,          5,          5,2,20090425,       2209,   -31.3843,    86.0896,       3084,  2349.2,   2.0494,  34.7247,2,  34.7252,2,    176.2,2,   177.0,2,  102.17,2,   32.95,2,    0.00,2,    2.33,2,   0.012,2,   0.007,2,   0.0000,2,  2269.6,2,  2370.9,2,   7.6723,2,    20.00,-999.000,9,   1.979,2,  13.912,2,   2.0491,2,-999.000,9, -999.00,9, -999.00,   8.733,2,   0.011,   39.84,2,   34.21,2, -31.3846,  86.0894,   0.001,   0.219,20090425,       2226
33RR20090320,        I05,     127,          1,          4,          4,2,20090425,       2209,   -31.3843,    86.0896,       3084,  2550.1,   1.9140,  34.7285,2,  34.7287,2,    180.4,2,   181.1,2,  104.91,2,   32.79,2,    0.00,2,    2.31,2,   0.003,2,   0.003,2,   0.0000,2,  2269.4,2,  2373.5,2,   7.6774,2,    20.00,-999.000,9,-999.000,9,-999.000,9,   1.9135,2,-999.000,9, -999.00,9, -999.00,-999.000,9,-999.000,   39.40,2,   33.88,2, -31.3846,  86.0894,-999.000,-999.000,20090425,       2221
33RR20090320,        I05,     127,          1,          3,          3,2,20090425,       2209,   -31.3843,    86.0896,       3084,  2752.0,   1.7670,  34.7303,2,  34.7307,2,    184.6,2,   184.6,2,  107.68,2,   32.58,2,    0.00,2,    2.29,2,   0.011,2,   0.006,2,   0.0070,2,  2269.0,2,  2374.0,2,   7.6820,2,    20.00,-999.000,9,   1.977,2,  13.713,2,   1.7664,2,-999.000,9, -999.00,9, -999.00,   8.751,2,   0.011,   39.46,2,   34.45,2, -31.3846,  86.0894,   0.001,   0.204,20090425,       2217
33RR20090320,        I05,     127,          1,          2,          2,2,20090425,       2209,   -31.3843,    86.0896,       3084,  2833.1,   1.7077,  34.7302,2,  34.7303,2,    186.7,2,   186.7,2,  108.77,2,   32.63,2,    0.00,2,    2.29,2,   0.007,2,   0.005,2,   0.0000,2,  2269.4,2,  2374.8,2,   7.6832,2,    20.00,-999.000,9,   2.031,2,  13.004,2,   1.7076,2,-999.000,9, -999.00,9, -999.00,   8.916,2,   0.012,   39.70,2,   34.19,2, -31.3845,  86.0895,   0.001,   0.207,20090425,       2215
33RR20090320,        I05,     127,          1,          1,          1,2,20090425,       2209,   -31.3843,    86.0896,       3084,  3114.2,   1.5562,  34.7288,2,  34.7291,2,    190.4,2,   189.9,2,  112.27,2,   32.69,2,    0.00,2,    2.28,2,   0.005,6,   0.004,6,   0.0040,6,  2272.7,6,  2379.3,2,   7.6872,2,    20.00,   0.043,2,   1.959,2,  12.696,2,   1.5558,2,-999.000,9, -999.00,9, -999.00,   8.708,2,   0.011, -999.00,9, -999.00,9, -31.3843,  86.0896,   0.001,   0.215,20090425,       2209