BOTTLE,20220814CCHSIOAMB
EXPOCODE,SECT_ID,STNNBR,CASTNO,SAMPNO,BTLNBR,BTLNBR_FLAG_W,DATE,TIME,LATITUDE,LONGITUDE,DEPTH,CTDPRS,CTDTMP,CTDSAL,CTDSAL_FLAG_W,SALNTY,SALNTY_FLAG_W,CTDOXY,CTDOXY_FLAG_W,OXYGEN,OXYGEN_FLAG_W,SILCAT,SILCAT_FLAG_W,NITRAT,NITRAT_FLAG_W,NITRIT,NITRIT_FLAG_W,PHSPHT,PHSPHT_FLAG_W,CFC-11,CFC-11_FLAG_W,CFC-12,CFC-12_FLAG_W,SF6,SF6_FLAG_W,TCARBN,TCARBN_FLAG_W,ALKALI,ALKALI_FLAG_W,PH_TOT,PH_TOT_FLAG_W,PH_TMP,TRITUM,TRITUM_FLAG_W,HELIUM,HELIUM_FLAG_W,DELHE3,DELHE3_FLAG_W,REFTMP,REFTMP_FLAG_W,DELC13,DELC13_FLAG_W,DELC14,DELC14_FLAG_W,C14ERR,NEON,NEON_FLAG_W,NEONER,DOC,DOC_FLAG_W,TDN,TDN_FLAG_W,BTL_LAT,BTL_LON,HELIER,DELHER,BTL_DATE,BTL_TIME
,,,,,,,,,,,METERS,DBAR,ITS-90,PSS-78,,PSS-78,,UMOL/KG,,UMOL/KG,,UMOL/KG,,UMOL/KG,,UMOL/KG,,UMOL/KG,,PMOL/KG,,PMOL/KG,,FMOL/KG,,UMOL/KG,,UMOL/KG,,,,DEG C,TU,,NMOL/KG,,PERCNT,,DEG C,,/MILLE,,/MILLE,,/MILLE,NMOL/KG,,NMOL/KG,UMOL/KG,,UMOL/KG,,,,NMOL/KG,PERCNT,,
33RR20090320,        I05,      22,          1,         36,         36,2,20090328,       1408,   -32.9995,    36.1499,       2184,     4.5,  24.4846,  35.5145,2,  35.5135,2,    209.7,2,   210.1,2,    1.80,2,    0.02,2,    0.00,2,    0.06,2,   1.764,6,   1.123,6,   1.0390,6,  2000.9,6,  2325.3,2,   8.1589,2,    20.00,-999.000,9,-999.000,9,-999.000,9,  24.4872,2,    1.07,2,   43.99,2,       3,-999.000,9,-999.000,   67.02,2,    4.37,2, -32.9992,  36.1500,-999.000,-999.000,20090328,       1523
33RR20090320,        I05,      22,          1,         35,         35,2,20090328,       1408,   -32.9995,    36.1499,       2184,    21.2,  24.3697,  35.5090,2,  35.5100,2,    210.4,2,   210.4,2,    1.55,2,    0.02,2,    0.00,2,    0.05,2,   1.774,2,   1.124,2,   1.0010,2,  2000.1,2,  2326.1,2,   8.1586,2,    20.00,-999.000,9,-999.000,9,-999.000,9,  24.3679,2,-999.000,9, -999.00,9, -999.00,-999.000,9,-999.000,   67.18,2,    4.71,2, -32.9992,  36.1500,-999.000,-999.000,20090328,       1522
33RR20090320,        I05,      22,          1,         31,         31,2,20090328,       1408,   -32.9995,    36.1499,       2184,    41.6,  23.8307,  35.5423,2,  35.5540,2,    213.4,2,   212.4,2,    1.51,2,    0.07,2,    0.00,2,    0.04,2,   1.798,2,   1.132,2,   0.9780,2,  2005.3,2,  2327.9,2,   8.1521,2,    20.00,-999.000,9,-999.000,9,-999.000,9,  23.8427,2,-999.000,9, -999.00,9, -999.00,-999.000,9,-999.000,   67.28,2,    5.09,2, -32.9992,  36.1500,-999.000,-999.000,20090328,       1521
33RR20090320,        I05,      22,          1,         30,         30,2,20090328,       1408,   -32.9995,    36.1499,       2184,    65.5,  22.1470,  35.5579,2,  35.5532,2,    222.0,2,   221.0,2,    1.66,2,    0.12,2,    0.00,2,    0.07,2,   1.968,2,   1.244,2,   1.0980,2,  2022.2,2,  2328.2,2,   8.1253,2,    20.00,-999.000,9,-999.000,9,-999.000,9,  22.1605,2,   1.021,2,      48,2,     2.9,-999.000,9,-999.000,   62.01,2,    4.58,2, -32.9994,  36.1500,-999.000,-999.000,20090328,       1519
33RR20090320,        I05,      22,          1,         29,         29,2,20090328,       1408,   -32.9995,    36.1499,       2184,    90.6,  19.8393,  35.5172,2,  35.5132,2,    190.1,2,   191.5,2,    3.59,2,    3.79,2,    0.02,2,    0.33,2,   2.136,2,   1.317,2,   1.0560,2,  2063.4,2,  2327.3,2,   8.0484,2,    20.00,-999.000,9,-999.000,9,-999.000,9,  19.7920,2,-999.000,9, -999.00,9, -999.00,-999.000,9,-999.000,   55.46,2,    7.49,2, -32.9995,  36.1500,-999.000,-999.000,20090328,       1517
33RR20090320,        I05,      22,          1,         28,         28,2,20090328,       1408,   -32.9995,    36.1499,       2184,   116.1,  18.6746,  35.5361,2,  35.5359,2,    204.7,2,   199.0,2,    3.54,2,    3.65,2,    0.01,2,    0.34,2,   2.229,2,   1.360,2,   1.0890,2,  2069.4,2,  2327.2,2,   8.0415,2,    20.00,-999.000,9,-999.000,9,-999.000,9,  18.6759,2,-999.000,9, -999.00,9, -999.00,-999.000,9,-999.000,   53.82,2,    7.59,2, -32.9994,  36.1501,-999.000,-999.000,20090328,       1516
33RR20090320,        I05,      22,          1,         27,         27,2,20090328,       1408,   -32.9995,    36.1499,       2184,   141.0,  18.1579,  35.5489,2,  35.5486,2,    205.2,2,   209.0,2,    3.30,2,    2.78,2,    0.01,2,    0.30,2,   2.285,2,   1.408,2,   1.1920,2,  2065.0,2,  2328.9,2,   8.0485,2,    20.00,-999.000,9,-999.000,9,-999.000,9,  18.1571,2,-999.000,9, -999.00,9, -999.00,-999.000,9,-999.000,   52.96,2,    6.53,2, -32.9994,  36.1500,-999.000,-999.000,20090328,       1514
33RR20090320,        I05,      22,          1,         26,         26,2,20090328,       1408,   -32.9995,    36.1499,       2184,   165.7,  17.8190,  35.5536,2,  35.5527,2,    213.1,2,   210.0,2,    3.25,2,    3.22,2,    0.01,2,    0.32,2,   2.326,2,   1.421,2,   1.1920,2,  2070.2,2,  2324.4,2,   8.0425,2,    20.00,-999.000,9,-999.000,9,-999.000,9,  17.8195,2,   0.789,2,   46.44,2,       3,-999.000,9,-999.000,   52.64,2,    6.33,2, -32.9994,  36.1500,-999.000,-999.000,20090328,       1513
33RR20090320,        I05,      22,          1,         25,         25,2,20090328,       1408,   -32.9995,    36.1499,       2184,   190.3,  17.3361,  35.5492,2,  35.5478,2,    212.4,2,   212.1,2,    3.40,2,    3.76,2,    0.01,2,    0.35,2,   2.391,2,   1.451,2,   1.1420,2,  2076.0,2,  2327.8,2,   8.0337,2,    20.00,-999.000,9,-999.000,9,-999.000,9,  17.3398,2,-999.000,9, -999.00,9, -999.00,-999.000,9,-999.000,   51.50,2,    6.93,2, -32.9993,  36.1501,-999.000,-999.000,20090328,       1511
33RR20090320,        I05,      22,          1,         24,         24,2,20090328,       1408,   -32.9995,    36.1499,       2184,   215.7,  17.0423,  35.5510,2,  35.5500,2,    212.8,2,   216.3,2,    3.35,2,    3.72,2,    0.01,2,    0.34,2,   2.422,2,   1.471,2,   1.1270,2,  2077.0,2,  2328.8,2,   8.0317,2,    20.00,-999.000,9,-999.000,9,-999.000,9,  17.0424,2,-999.000,9, -999.00,9, -999.00,-999.000,9,-999.000,   50.72,2,    7.23,2, -32.9994,  36.1501,-999.000,-999.000,20090328,       1510
33RR20090320,        I05,      22,          1,         23,         23,2,20090328,       1408,   -32.9995,    36.1499,       2184,   240.8,  16.7748,  35.5341,2,  35.5343,2,    210.5,2,   210.4,2,    4.09,2,    4.69,2,    0.00,2,    0.40,2,   2.432,2,   1.464,2,   1.1930,2,  2083.0,2,  2328.2,2,   8.0169,2,    20.00,-999.000,9,-999.000,9,-999.000,9,  16.7764,2,   0.764,2,   49.04,2,       3,-999.000,9,-999.000,   49.96,2,    7.45,2, -32.9994,  36.1501,-999.000,-999.000,20090328,       1508
33RR20090320,        I05,      22,          1,         22,         22,2,20090328,       1408,   -32.9995,    36.1499,       2184,   285.6,  16.1635,  35.4963,2,  35.4946,2,    205.8,2,   202.0,2,    4.63,2,    6.34,2,    0.00,2,    0.52,2,   2.484,2,   1.485,2,   1.0420,2,  2095.7,2,  2327.1,2,   7.9892,2,    20.00,-999.000,9,-999.000,9,-999.000,9,  16.1646,2,-999.000,9, -999.00,9, -999.00,-999.000,9,-999.000,   49.23,2,    8.68,2, -32.9993,  36.1500,-999.000,-999.000,20090328,       1506
33RR20090320,        I05,      22,          1,         21,         21,2,20090328,       1408,   -32.9995,    36.1499,       2184,   335.3,  15.3507,  35.4489,2,  35.4471,2,    201.9,2,   200.4,2,    4.79,2,    7.42,2,    0.00,2,    0.59,2,   2.613,2,   1.540,2,   1.0330,2,  2106.4,2,  2325.3,2,   7.9667,2,    20.00,-999.000,9,-999.000,9,-999.000,9,  15.3673,2,   0.844,2,   54.33,2,     2.9,-999.000,9,-999.000,   48.14,2,   10.00,2, -32.9992,  36.1499,-999.000,-999.000,20090328,       1503
33RR20090320,        I05,      22,          1,         20,         20,2,20090328,       1408,   -32.9995,    36.1499,       2184,   384.7,  14.5866,  35.3912,2,  35.3919,2,    206.0,2,   206.5,2,    4.34,2,    8.15,2,    0.00,2,    0.63,2,   2.731,2,   1.605,2,   1.0950,2,  2109.7,2,  2323.2,2,   7.9555,2,    20.00,-999.000,9,-999.000,9,-999.000,9,  14.5953,2,-999.000,9, -999.00,9, -999.00,-999.000,9,-999.000,   47.06,2,   10.02,2, -32.9993,  36.1499,-999.000,-999.000,20090328,       1501
33RR20090320,        I05,      22,          1,         19,         19,2,20090328,       1408,   -32.9995,    36.1499,       2184,   435.4,  13.9125,  35.3316,2,  35.3308,2,    211.4,2,   211.2,2,    4.30,2,    8.94,2,    0.00,2,    0.68,2,   2.860,2,   1.653,2,   1.0850,2,  2113.5,2,  2320.7,2,   7.9440,2,    20.00,-999.000,9,-999.000,9,-999.000,9,  13.9148,2,   0.865,2,    61.6,2,     3.6,-999.000,9,-999.000,   45.76,2,   10.63,2, -32.9993,  36.1501,-999.000,-999.000,20090328,       1458
33RR20090320,        I05,      22,          1,         18,         18,2,20090328,       1408,   -32.9995,    36.1499,       2184,   485.3,  13.3118,  35.2646,2,  35.2635,2,    214.8,2,   214.9,2,    4.45,2,    9.77,2,    0.00,2,    0.73,2,   2.940,2,   1.690,2,   1.0550,2,  2116.2,2,  2318.0,2,   7.9335,2,    20.00,-999.000,9,-999.000,9,-999.000,9,  13.3139,2,-999.000,9, -999.00,9, -999.00,-999.000,9,-999.000,   45.33,2,   11.33,2, -32.9992,  36.1501,-999.000,-999.000,20090328,       1456
33RR20090320,        I05,      22,          1,         17,         17,2,20090328,       1408,   -32.9995,    36.1499,       2184,   565.1,  12.5971,  35.1663,2,  35.1677,2,    216.4,2,   216.3,2,    4.60,2,   11.13,2,    0.00,2,    0.82,2,   3.040,2,   1.694,2,   0.9800,2,  2119.6,2,  2313.3,2,   7.9174,2,    20.00,-999.000,9,-999.000,9,-999.000,9,  12.6009,2,    1.01,2,   56.87,2,     3.3,-999.000,9,-999.000,   44.26,2,   12.72,2, -32.9992,  36.1500,-999.000,-999.000,20090328,       1454
33RR20090320,        I05,      22,          1,         16,         16,2,20090328,       1408,   -32.9995,    36.1499,       2184,   665.1,  11.4372,  35.0050,2,  35.0028,2,    213.2,2,   214.1,2,    5.94,2,   13.73,2,    0.00,2,    0.99,2,   3.068,6,   1.675,6,   0.8700,6,  2127.4,2,  2307.8,2,   7.8863,2,    20.00,-999.000,9,-999.000,9,-999.000,9,  11.4442,2,   1.095,2,   51.09,2,       3,-999.000,9,-999.000,   43.55,2,   15.56,2, -32.9993,  36.1499,-999.000,-999.000,20090328,       1451
33RR20090320,        I05,      22,          1,         15,         15,2,20090328,       1408,   -32.9995,    36.1499,       2184,   766.4,  10.4068,  34.8656,2,  34.8714,2,    210.8,2,   212.2,2,    7.67,2,   16.09,2,    0.00,2,    1.14,2,   3.007,2,   1.604,2,   0.7280,2,  2136.0,2,  2302.6,2,   7.8593,2,    20.00,-999.000,9,-999.000,9,-999.000,9,  10.4175,2,   1.131,2,   39.39,2,     3.1,-999.000,9,-999.000,   43.05,2,   17.50,2, -32.9993,  36.1499,-999.000,-999.000,20090328,       1448
33RR20090320,        I05,      22,          1,         14,         14,2,20090328,       1408,   -32.9995,    36.1499,       2184,   865.2,   9.0304,  34.6965,2,  34.6917,2,    207.1,2,   206.2,2,   11.60,2,   20.16,2,    0.00,2,    1.42,2,   2.726,2,   1.424,2,   0.6160,2,  2147.6,2,  2297.7,2,   7.8146,2,    20.00,-999.000,9,-999.000,9,-999.000,9,   9.0341,2,   1.122,2,   16.35,2,     3.3,-999.000,9,-999.000,   42.08,2,   21.95,2, -32.9993,  36.1499,-999.000,-999.000,20090328,       1445
33RR20090320,        I05,      22,          1,         13,         13,2,20090328,       1408,   -32.9995,    36.1499,       2184,   965.1,   7.8719,  34.6163,2,  34.6171,2,    187.6,2,   187.7,2,   20.30,2,   24.60,2,    0.00,2,    1.72,2,   2.115,2,   1.086,2,   0.4340,2,  2171.9,2,  2300.4,2,   7.7629,2,    20.00,-999.000,9,-999.000,9,-999.000,9,   7.8916,2,   1.014,2,  -18.27,2,     2.7,-999.000,9,-999.000,   41.66,2,   26.15,2, -32.9995,  36.1501,-999.000,-999.000,20090328,       1443
33RR20090320,        I05,      22,          1,         12,         12,2,20090328,       1408,   -32.9995,    36.1499,       2184,  1066.8,   6.2750,  34.4748,2,  34.4747,2,    195.9,2,   195.7,2,   25.23,2,   27.68,2,    0.00,2,    1.91,2,   1.988,2,   1.010,2,   0.4270,2,  2181.7,2,  2298.8,2,   7.7323,2,    20.00,-999.000,9,-999.000,9,-999.000,9,   6.2774,2,   1.005,2,   -40.5,2,     2.6,-999.000,9,-999.000,   41.15,2,   29.31,2, -32.9997,  36.1500,-999.000,-999.000,20090328,       1440
33RR20090320,        I05,      22,          1,         11,         11,2,20090328,       1408,   -32.9995,    36.1499,       2184,  1167.5,   5.3462,  34.4325,2,  34.4327,2,    194.1,2,   193.8,2,   31.98,2,   29.68,2,    0.00,2,    2.08,2,   1.814,2,   0.905,2,   0.3510,2,  2194.7,2,  2302.3,2,   7.7069,2,    20.00,-999.000,9,-999.000,9,-999.000,9,   5.3453,2,   0.947,2,  -68.69,2,     2.7,-999.000,9,-999.000,   41.11,2,   30.88,2, -32.9998,  36.1501,-999.000,-999.000,20090328,       1437
33RR20090320,        I05,      22,          1,         10,         10,2,20090328,       1408,   -32.9995,    36.1499,       2184,  1265.9,   4.6483,  34.4524,2,  34.4518,2,    182.8,2,   182.3,2,   42.75,2,   31.73,2,    0.00,2,    2.24,2,   1.337,2,   0.655,2,   0.2140,2,  2214.0,2,  2311.9,2,   7.6798,2,    20.00,-999.000,9,-999.000,9,-999.000,9,   4.6479,2,   0.805,2,     -91,2,     2.5,-999.000,9,-999.000,   41.00,2,   33.49,2, -32.9997,  36.1500,-999.000,-999.000,20090328,       1434
33RR20090320,        I05,      22,          1,          9,          9,2,20090328,       1408,   -32.9995,    36.1499,       2184,  1361.5,   4.2040,  34.4845,2,  34.4838,2,    174.3,2,   174.0,2,   51.14,2,   32.85,2,    0.00,2,    2.31,2,   0.992,2,   0.470,2,   0.1350,2,  2227.5,2,  2319.7,2,   7.6631,2,    20.00,-999.000,9,-999.000,9,-999.000,9,   4.2048,2,   0.734,2, -104.95,2,     3.3,-999.000,9,-999.000,   40.42,2,   34.37,2, -32.9995,  36.1499,-999.000,-999.000,20090328,       1431
33RR20090320,        I05,      22,          1,          8,          8,2,20090328,       1408,   -32.9995,    36.1499,       2184,  1463.3,   3.8528,  34.5199,2,  34.5204,2,    168.4,2,   168.6,2,   58.15,2,   33.46,2,    0.00,2,    2.33,2,   0.753,2,   0.351,2,   0.1120,2,  2238.0,2,  2326.1,2,   7.6518,2,    20.00,-999.000,9,-999.000,9,-999.000,9,   3.8505,2,    0.68,2, -121.75,2,     2.4,-999.000,9,-999.000,   40.46,2,   34.92,2, -32.9995,  36.1498,-999.000,-999.000,20090328,       1428
33RR20090320,        I05,      22,          1,          7,          7,2,20090328,       1408,   -32.9995,    36.1499,       2184,  1563.7,   3.5838,  34.5665,2,  34.5675,2,    164.3,2,   164.3,2,   64.56,2,   33.72,2,    0.00,2,    2.39,2,   0.499,2,   0.228,2,   0.0610,2,  2247.2,2,  2333.7,2,   7.6477,2,    20.00,-999.000,9,-999.000,9,-999.000,9,   3.5857,2,-999.000,9, -999.00,9, -999.00,-999.000,9,-999.000,   40.15,2,   35.05,2, -32.9996,  36.1497,-999.000,-999.000,20090328,       1425
33RR20090320,        I05,      22,          1,          6,          6,2,20090328,       1408,   -32.9995,    36.1499,       2184,  1664.3,   3.3137,  34.6198,2,  34.6198,2,    163.2,2,   163.1,2,   70.79,2,   33.53,2,    0.00,2,    2.39,2,   0.301,2,   0.134,2,   0.0170,2,  2252.5,6,  2341.8,2,   7.6491,2,    20.00,-999.000,9,-999.000,9,-999.000,9,   3.3139,2,-999.000,9, -999.00,9, -999.00,-999.000,9,-999.000,   40.12,2,   35.09,2, -32.9997,  36.1499,-999.000,-999.000,20090328,       1422
33RR20090320,        I05,      22,          1,          5,          5,2,20090328,       1408,   -32.9995,    36.1499,       2184,  1765.4,   3.1404,  34.6480,2,  34.6491,2,    166.2,2,   166.5,2,   72.76,2,   33.04,2,    0.00,2,    2.35,2,   0.222,2,   0.100,2,   0.0330,2,  2252.9,2,  2343.6,2,   7.6552,2,    20.00,-999.000,9,-999.000,9,-999.000,9,   3.1397,2,-999.000,9, -999.00,9, -999.00,-999.000,9,-999.000,   39.74,2,   34.83,2, -32.9997,  36.1498,-999.000,-999.000,20090328,       1419
33RR20090320,        I05,      22,          1,          4,          4,2,20090328,       1408,   -32.9995,    36.1499,       2184,  1871.2,   3.0703,  34.6628,2,  34.6630,2,    167.9,2,   167.8,2,   73.53,2,   32.85,2,    0.00,2,    2.34,2,   0.189,2,   0.083,2,   0.0340,2,  2253.9,2,  2345.3,2,   7.6584,2,    20.00,-999.000,9,-999.000,9,-999.000,9,   3.0700,2,-999.000,9, -999.00,9, -999.00,-999.000,9,-999.000,   39.91,2,   34.37,2, -32.9995,  36.1498,-999.000,-999.000,20090328,       1417
33RR20090320,        I05,      22,          1,          3,          3,2,20090328,       1408,   -32.9995,    36.1499,       2184,  1976.2,   2.9620,  34.6887,2,  34.6900,2,    171.1,2,   171.0,2,   74.49,2,   32.16,2,    0.00,2,    2.29,2,   0.133,6,   0.059,6,   0.0370,6,  2251.9,2,  2346.3,2,   7.6651,2,    20.00,-999.000,9,-999.000,9,-999.000,9,   2.9623,2,-999.000,9, -999.00,9, -999.00,-999.000,9,-999.000,   39.70,2,   33.67,2, -32.9994,  36.1497,-999.000,-999.000,20090328,       1414
33RR20090320,        I05,      22,          1,          2,          2,2,20090328,       1408,   -32.9995,    36.1499,       2184,  2088.0,   2.7630,  34.7286,2,  34.7297,2,    180.7,2,   181.3,2,   73.03,2,   30.82,2,    0.00,2,    2.20,2,   0.078,2,   0.035,2,   0.0110,2,  2246.8,2,  2347.0,2,   7.6821,2,    20.00,-999.000,9,-999.000,9,-999.000,9,   2.7622,2,-999.000,9, -999.00,9, -999.00,-999.000,9,-999.000,   39.53,2,   32.72,2, -32.9996,  36.1498,-999.000,-999.000,20090328,       1411
33RR20090320,        I05,      22,          1,          1,          1,2,20090328,       1408,   -32.9995,    36.1499,       2184,  2192.4,   2.6543,  34.7520,2,  34.7531,2,    188.2,2,   187.9,2,   71.77,2,   29.98,2,    0.00,2,    2.14,2,   0.056,2,   0.025,2,   0.0080,2,  2243.1,6,  2346.8,2,   7.6944,2,    20.00,-999.000,9,-999.000,9,-999.000,9,   2.6537,2,-999.000,9, -999.00,9, -999.00,-999.000,9,-999.000,   39.18,2,   31.67,2, -32.9995,  36.1499,-999.000,-999.000,20090328,       1408