BOTTLE,20220814CCHSIOAMB
EXPOCODE,SECT_ID,STNNBR,CASTNO,SAMPNO,BTLNBR,BTLNBR_FLAG_W,DATE,TIME,LATITUDE,LONGITUDE,DEPTH,CTDPRS,CTDTMP,CTDSAL,CTDSAL_FLAG_W,SALNTY,SALNTY_FLAG_W,CTDOXY,CTDOXY_FLAG_W,OXYGEN,OXYGEN_FLAG_W,SILCAT,SILCAT_FLAG_W,NITRAT,NITRAT_FLAG_W,NITRIT,NITRIT_FLAG_W,PHSPHT,PHSPHT_FLAG_W,CFC-11,CFC-11_FLAG_W,CFC-12,CFC-12_FLAG_W,SF6,SF6_FLAG_W,TCARBN,TCARBN_FLAG_W,ALKALI,ALKALI_FLAG_W,PH_TOT,PH_TOT_FLAG_W,PH_TMP,TRITUM,TRITUM_FLAG_W,HELIUM,HELIUM_FLAG_W,DELHE3,DELHE3_FLAG_W,REFTMP,REFTMP_FLAG_W,DELC13,DELC13_FLAG_W,DELC14,DELC14_FLAG_W,C14ERR,NEON,NEON_FLAG_W,NEONER,DOC,DOC_FLAG_W,TDN,TDN_FLAG_W,BTL_LAT,BTL_LON,HELIER,DELHER,BTL_DATE,BTL_TIME
,,,,,,,,,,,METERS,DBAR,ITS-90,PSS-78,,PSS-78,,UMOL/KG,,UMOL/KG,,UMOL/KG,,UMOL/KG,,UMOL/KG,,UMOL/KG,,PMOL/KG,,PMOL/KG,,FMOL/KG,,UMOL/KG,,UMOL/KG,,,,DEG C,TU,,NMOL/KG,,PERCNT,,DEG C,,/MILLE,,/MILLE,,/MILLE,NMOL/KG,,NMOL/KG,UMOL/KG,,UMOL/KG,,,,NMOL/KG,PERCNT,,
33RR20090320,        I05,     174,          1,         36,         36,2,20090507,       0342,   -31.0858,   105.4576,       5186,     3.8,  19.4703,  35.9429,2,  35.9442,2,    226.5,2,   229.3,2,    1.73,2,    0.09,2,    0.00,2,    0.10,2,   2.210,6,   1.317,6,   1.1520,6,  2067.6,6,  2359.4,2,   8.0965,2,    20.00,-999.000,9,-999.000,9,-999.000,9,  19.4851,2,-999.000,9, -999.00,9, -999.00,-999.000,9,-999.000, -999.00,9, -999.00,9, -31.0857, 105.4577,-999.000,-999.000,20090507,       0549
33RR20090320,        I05,     174,          1,         35,         35,2,20090507,       0342,   -31.0858,   105.4576,       5186,    36.6,  19.4000,  35.9398,2,  35.9410,2,    229.6,2,   230.0,2,    1.53,2,    0.04,2,    0.00,2,    0.09,2,-999.000,9,-999.000,9,-999.0000,9,  2067.0,2,  2359.1,2,   8.0958,2,    20.00,-999.000,9,-999.000,9,-999.000,9,  19.4006,2,-999.000,9, -999.00,9, -999.00,-999.000,9,-999.000, -999.00,9, -999.00,9, -31.0857, 105.4577,-999.000,-999.000,20090507,       0547
33RR20090320,        I05,     174,          1,         34,         34,2,20090507,       0342,   -31.0858,   105.4576,       5186,    61.7,  19.3902,  35.9417,2,  35.9434,2,    229.8,2,   228.9,2,    1.51,2,    0.03,2,    0.00,2,    0.09,2,-999.000,9,-999.000,9,-999.0000,9,  -999.0,9,  -999.0,9,-999.0000,9,  -999.00,-999.000,9,-999.000,9,-999.000,9,  19.3884,2,-999.000,9, -999.00,9, -999.00,-999.000,9,-999.000, -999.00,9, -999.00,9, -31.0857, 105.4577,-999.000,-999.000,20090507,       0545
33RR20090320,        I05,     174,          1,         33,         33,2,20090507,       0342,   -31.0858,   105.4576,       5186,    87.3,  18.2000,  35.8177,2,  35.8114,2,    236.4,2,   237.8,2,    1.32,2,    0.03,2,    0.00,2,    0.11,2,   2.443,2,   1.433,2,   1.1560,2,  2072.3,2,  2353.6,2,   8.0770,2,    20.00,-999.000,9,-999.000,9,-999.000,9,  18.1794,2,-999.000,9, -999.00,9, -999.00,-999.000,9,-999.000, -999.00,9, -999.00,9, -31.0857, 105.4577,-999.000,-999.000,20090507,       0543
33RR20090320,        I05,     174,          1,         32,         32,2,20090507,       0342,   -31.0858,   105.4576,       5186,   117.4,  15.5854,  35.5910,2,  35.5930,2,    238.3,2,   235.9,2,    1.12,2,    1.45,2,    0.02,2,    0.24,2,-999.000,9,-999.000,9,-999.0000,9,  -999.0,9,  -999.0,9,-999.0000,9,  -999.00,-999.000,9,-999.000,9,-999.000,9,  15.6035,2,-999.000,9, -999.00,9, -999.00,-999.000,9,-999.000, -999.00,9, -999.00,9, -31.0857, 105.4577,-999.000,-999.000,20090507,       0541
33RR20090320,        I05,     174,          1,         31,         31,2,20090507,       0342,   -31.0858,   105.4576,       5186,   167.0,  13.9430,  35.3732,2,  35.3664,2,    234.0,2,   234.1,2,    1.29,2,    4.64,2,    0.01,2,    0.43,2,   2.921,2,   1.691,2,   1.3770,2,  2103.2,2,  2329.0,2,   7.9818,2,    20.00,-999.000,9,-999.000,9,-999.000,9,  13.9433,2,-999.000,9, -999.00,9, -999.00,-999.000,9,-999.000, -999.00,9, -999.00,9, -31.0857, 105.4577,-999.000,-999.000,20090507,       0539
33RR20090320,        I05,     174,          1,         30,         30,2,20090507,       0342,   -31.0858,   105.4576,       5186,   215.7,  12.5861,  35.1615,2,  35.1639,2,    238.0,2,   238.8,2,    1.83,2,    7.16,2,    0.00,2,    0.60,2,-999.000,9,-999.000,9,-999.0000,9,  -999.0,9,  -999.0,9,-999.0000,9,  -999.00,-999.000,9,-999.000,9,-999.000,9,  12.5765,2,-999.000,9, -999.00,9, -999.00,-999.000,9,-999.000, -999.00,9, -999.00,9, -31.0857, 105.4577,-999.000,-999.000,20090507,       0537
33RR20090320,        I05,     174,          1,         29,         29,2,20090507,       0342,   -31.0858,   105.4576,       5186,   266.2,  11.5022,  34.9860,2,  34.9843,2,    241.5,2,   241.9,2,    2.19,2,    9.62,2,    0.00,2,    0.74,2,-999.000,9,-999.000,9,-999.0000,9,  -999.0,9,  -999.0,9,-999.0000,9,  -999.00,-999.000,9,-999.000,9,-999.000,9,  11.5023,2,-999.000,9, -999.00,9, -999.00,-999.000,9,-999.000, -999.00,9, -999.00,9, -31.0857, 105.4577,-999.000,-999.000,20090507,       0535
33RR20090320,        I05,     174,          1,         28,         28,2,20090507,       0342,   -31.0858,   105.4576,       5186,   316.6,  10.4063,  34.8189,2,  34.8185,2,    242.4,2,   242.5,2,    3.09,2,   12.46,2,    0.00,2,    0.91,2,-999.000,9,-999.000,9,-999.0000,9,  -999.0,9,  -999.0,9,-999.0000,9,  -999.00,-999.000,9,-999.000,9,-999.000,9,  10.4044,2,-999.000,9, -999.00,9, -999.00,-999.000,9,-999.000, -999.00,9, -999.00,9, -31.0857, 105.4577,-999.000,-999.000,20090507,       0533
33RR20090320,        I05,     174,          1,         27,         27,2,20090507,       0342,   -31.0858,   105.4576,       5186,   366.4,   9.8556,  34.7474,2,  34.7483,2,    241.3,2,   241.4,2,    3.62,2,   14.34,2,    0.00,2,    1.03,2,   3.682,2,   2.000,2,   1.4130,2,  2128.5,2,  2297.4,2,   7.8653,2,    20.00,-999.000,9,-999.000,9,-999.000,9,   9.8543,2,-999.000,9, -999.00,9, -999.00,-999.000,9,-999.000, -999.00,9, -999.00,9, -31.0858, 105.4577,-999.000,-999.000,20090507,       0531
33RR20090320,        I05,     174,          1,         26,         26,2,20090507,       0342,   -31.0858,   105.4576,       5186,   436.3,   9.4246,  34.6982,2,  34.6984,2,    239.7,2,   239.8,2,    4.35,2,   15.84,2,    0.00,2,    1.12,2,-999.000,9,-999.000,9,-999.0000,9,  -999.0,9,  -999.0,9,-999.0000,9,  -999.00,-999.000,9,-999.000,9,-999.000,9,   9.4236,2,-999.000,9, -999.00,9, -999.00,-999.000,9,-999.000, -999.00,9, -999.00,9, -31.0858, 105.4577,-999.000,-999.000,20090507,       0528
33RR20090320,        I05,     174,          1,         25,         25,2,20090507,       0342,   -31.0858,   105.4576,       5186,   535.4,   8.9182,  34.6315,2,  34.6332,2,    239.5,2,   239.2,2,    5.24,2,   17.39,2,    0.00,2,    1.22,2,-999.000,9,-999.000,9,-999.0000,9,  -999.0,9,  -999.0,9,-999.0000,9,  -999.00,-999.000,9,-999.000,9,-999.000,9,   8.9167,2,-999.000,9, -999.00,9, -999.00,-999.000,9,-999.000, -999.00,9, -999.00,9, -31.0857, 105.4577,-999.000,-999.000,20090507,       0525
33RR20090320,        I05,     174,          1,         24,         24,2,20090507,       0342,   -31.0858,   105.4576,       5186,   636.1,   7.9704,  34.5290,2,  34.5304,2,    220.9,2,   218.2,2,    9.83,2,   21.59,2,    0.00,2,    1.49,2,-999.000,9,-999.000,9,-999.0000,9,  -999.0,9,  -999.0,9,-999.0000,9,  -999.00,-999.000,9,-999.000,9,-999.000,9,   7.9686,2,-999.000,9, -999.00,9, -999.00,-999.000,9,-999.000, -999.00,9, -999.00,9, -31.0858, 105.4577,-999.000,-999.000,20090507,       0522
33RR20090320,        I05,     174,          1,         23,         23,2,20090507,       0342,   -31.0858,   105.4576,       5186,   736.0,   6.4951,  34.4354,2,  34.4335,2,    199.5,2,   198.4,2,   19.59,2,   26.73,2,    0.00,2,    1.85,2,   2.080,2,   1.035,2,   0.4250,2,  2177.0,2,  2291.6,2,   7.7290,2,    20.00,-999.000,9,-999.000,9,-999.000,9,   6.4918,2,-999.000,9, -999.00,9, -999.00,-999.000,9,-999.000, -999.00,9, -999.00,9, -31.0858, 105.4576,-999.000,-999.000,20090507,       0520
33RR20090320,        I05,     174,          1,         22,         22,2,20090507,       0342,   -31.0858,   105.4576,       5186,   836.0,   5.3331,  34.3924,2,  34.3930,2,    192.9,2,   194.3,2,   28.47,2,   29.33,2,    0.00,2,    2.06,2,-999.000,9,-999.000,9,-999.0000,9,  -999.0,9,  -999.0,9,-999.0000,9,  -999.00,-999.000,9,-999.000,9,-999.000,9,   5.3362,2,-999.000,9, -999.00,9, -999.00,-999.000,9,-999.000, -999.00,9, -999.00,9, -31.0858, 105.4576,-999.000,-999.000,20090507,       0517
33RR20090320,        I05,     174,          1,         21,         21,2,20090507,       0342,   -31.0858,   105.4576,       5186,   936.1,   4.2618,  34.3962,2,  34.3985,2,    183.3,2,   184.2,2,   43.36,2,   32.00,2,    0.00,2,    2.27,2,   1.038,2,   0.488,2,   0.1090,2,  2217.0,2,  2310.5,2,   7.6657,2,    20.00,-999.000,9,-999.000,9,-999.000,9,   4.2479,2,-999.000,9, -999.00,9, -999.00,-999.000,9,-999.000, -999.00,9, -999.00,9, -31.0858, 105.4576,-999.000,-999.000,20090507,       0513
33RR20090320,        I05,     174,          1,         20,         20,2,20090507,       0342,   -31.0858,   105.4576,       5186,  1036.6,   3.8055,  34.4393,2,  34.4415,2,    172.4,2,   171.5,2,   55.31,2,   33.41,2,    0.00,2,    2.38,2,-999.000,9,-999.000,9,-999.0000,9,  -999.0,9,  -999.0,9,-999.0000,9,  -999.00,-999.000,9,-999.000,9,-999.000,9,   3.8043,2,-999.000,9, -999.00,9, -999.00,-999.000,9,-999.000, -999.00,9, -999.00,9, -31.0858, 105.4576,-999.000,-999.000,20090507,       0511
33RR20090320,        I05,     174,          1,         19,         19,2,20090507,       0342,   -31.0858,   105.4576,       5186,  1137.6,   3.4767,  34.4922,2,  34.4910,2,    161.9,2,   161.2,2,   65.63,2,   34.33,2,    0.00,2,    2.45,2,-999.000,9,-999.000,9,-999.0000,9,  -999.0,9,  -999.0,9,-999.0000,9,  -999.00,-999.000,9,-999.000,9,-999.000,9,   3.4758,2,-999.000,9, -999.00,9, -999.00,-999.000,9,-999.000, -999.00,9, -999.00,9, -31.0858, 105.4575,-999.000,-999.000,20090507,       0508
33RR20090320,        I05,     174,          1,         18,         18,2,20090507,       0342,   -31.0858,   105.4576,       5186,  1237.9,   3.3626,  34.5390,2,  34.5391,2,    151.9,2,   151.6,2,   74.28,2,   34.70,2,    0.00,2,    2.51,2,-999.000,9,-999.000,9,-999.0000,9,  -999.0,9,  -999.0,9,-999.0000,9,  -999.00,-999.000,9,-999.000,9,-999.000,9,   3.3626,2,-999.000,9, -999.00,9, -999.00,-999.000,9,-999.000, -999.00,9, -999.00,9, -31.0858, 105.4575,-999.000,-999.000,20090507,       0505
33RR20090320,        I05,     174,          1,         17,         17,2,20090507,       0342,   -31.0858,   105.4576,       5186,  1337.7,   3.1488,  34.5614,2,  34.5623,2,    152.0,2,   153.0,2,   77.10,2,   34.70,2,    0.00,2,    2.50,2,   0.120,2,   0.059,2,   0.0000,2,  2265.0,2,  2344.2,2,   7.6216,2,    20.00,-999.000,9,-999.000,9,-999.000,9,   3.1519,2,-999.000,9, -999.00,9, -999.00,-999.000,9,-999.000, -999.00,9, -999.00,9, -31.0858, 105.4575,-999.000,-999.000,20090507,       0503
33RR20090320,        I05,     174,          1,         16,         16,2,20090507,       0342,   -31.0858,   105.4576,       5186,  1463.4,   2.9496,  34.6053,2,  34.6069,2,    152.0,2,   152.3,2,   82.95,2,   34.52,2,    0.00,2,    2.49,2,-999.000,9,-999.000,9,-999.0000,9,  -999.0,9,  -999.0,9,-999.0000,9,  -999.00,-999.000,9,-999.000,9,-999.000,9,   2.9490,2,-999.000,9, -999.00,9, -999.00,-999.000,9,-999.000, -999.00,9, -999.00,9, -31.0858, 105.4576,-999.000,-999.000,20090507,       0459
33RR20090320,        I05,     174,          1,         15,         15,2,20090507,       0342,   -31.0858,   105.4576,       5186,  1664.1,   2.6646,  34.6586,2,  34.6588,2,    156.8,2,   157.2,2,   89.37,2,   33.92,2,    0.00,2,    2.44,2,-999.000,9,-999.000,9,-999.0000,9,  2273.8,2,  2357.9,2,   7.6338,2,    20.00,-999.000,9,-999.000,9,-999.000,9,   2.6662,2,-999.000,9, -999.00,9, -999.00,-999.000,9,-999.000, -999.00,9, -999.00,9, -31.0857, 105.4576,-999.000,-999.000,20090507,       0455
33RR20090320,        I05,     174,          1,         14,         14,2,20090507,       0342,   -31.0858,   105.4576,       5186,  1866.2,   2.4540,  34.6958,2,  34.6965,2,    161.4,2,   161.7,2,   96.00,2,   33.37,2,    0.00,2,    2.39,2,-999.000,9,-999.000,9,-999.0000,9,  -999.0,9,  -999.0,9,-999.0000,9,  -999.00,-999.000,9,-999.000,9,-999.000,9,   2.4546,2,-999.000,9, -999.00,9, -999.00,-999.000,9,-999.000, -999.00,9, -999.00,9, -31.0857, 105.4577,-999.000,-999.000,20090507,       0450
33RR20090320,        I05,     174,          1,         13,         13,2,20090507,       0342,   -31.0858,   105.4576,       5186,  2097.2,   2.2397,  34.7178,2,  34.7183,2,    164.1,2,   164.3,2,  104.54,2,   33.19,2,    0.00,2,    2.39,2,   0.004,2,   0.003,2,   0.0000,2,  2282.7,2,  2374.3,2,   7.6527,2,    20.00,-999.000,9,-999.000,9,-999.000,9,   2.2400,2,-999.000,9, -999.00,9, -999.00,-999.000,9,-999.000, -999.00,9, -999.00,9, -31.0857, 105.4577,-999.000,-999.000,20090507,       0446
33RR20090320,        I05,     174,          1,         12,         12,2,20090507,       0342,   -31.0858,   105.4576,       5186,  2349.3,   2.0227,  34.7267,2,  34.7276,2,    169.8,2,   169.8,2,  109.30,2,   32.91,2,    0.00,2,    2.36,2,-999.000,9,-999.000,9,-999.0000,9,  -999.0,9,  -999.0,9,-999.0000,9,  -999.00,-999.000,9,-999.000,9,-999.000,9,   2.0244,2,-999.000,9, -999.00,9, -999.00,-999.000,9,-999.000, -999.00,9, -999.00,9, -31.0857, 105.4577,-999.000,-999.000,20090507,       0440
33RR20090320,        I05,     174,          1,         11,         11,2,20090507,       0342,   -31.0858,   105.4576,       5186,  2602.3,   1.8620,  34.7286,2,  34.7295,2,    173.7,2,   173.1,2,  113.30,2,   32.85,2,    0.00,2,    2.35,2,-999.000,9,-999.000,9,-999.0000,9,  -999.0,9,  -999.0,9,-999.0000,9,  -999.00,-999.000,9,-999.000,9,-999.000,9,   1.8623,2,-999.000,9, -999.00,9, -999.00,-999.000,9,-999.000, -999.00,9, -999.00,9, -31.0857, 105.4577,-999.000,-999.000,20090507,       0435
33RR20090320,        I05,     174,          1,         10,         10,2,20090507,       0342,   -31.0858,   105.4576,       5186,  2854.9,   1.6992,  34.7308,2,  34.7303,2,    182.3,2,   182.0,2,  112.72,2,   32.35,2,    0.00,2,    2.30,2,-999.000,9,-999.000,9,-999.0000,9,  -999.0,9,  -999.0,9,-999.0000,9,  -999.00,-999.000,9,-999.000,9,-999.000,9,   1.6994,2,-999.000,9, -999.00,9, -999.00,-999.000,9,-999.000, -999.00,9, -999.00,9, -31.0857, 105.4577,-999.000,-999.000,20090507,       0430
33RR20090320,        I05,     174,          1,          9,          9,2,20090507,       0342,   -31.0858,   105.4576,       5186,  3123.0,   1.5489,  34.7289,2,  34.7303,2,    185.9,2,   186.2,2,  115.19,2,   32.24,2,    0.00,2,    2.29,2,   0.004,2,   0.003,2,   0.0000,2,  2277.6,2,  2377.6,2,   7.6776,2,    20.00,-999.000,9,-999.000,9,-999.000,9,   1.5498,2,-999.000,9, -999.00,9, -999.00,-999.000,9,-999.000, -999.00,9, -999.00,9, -31.0856, 105.4576,-999.000,-999.000,20090507,       0425
33RR20090320,        I05,     174,          1,          8,          8,2,20090507,       0342,   -31.0858,   105.4576,       5186,  3428.2,   1.3852,  34.7261,2,  34.7270,2,    193.1,2,   193.1,2,  115.56,2,   32.07,2,    0.00,2,    2.28,2,-999.000,9,-999.000,9,-999.0000,9,  -999.0,9,  -999.0,9,-999.0000,9,  -999.00,-999.000,9,-999.000,9,-999.000,9,   1.3846,2,-999.000,9, -999.00,9, -999.00,-999.000,9,-999.000, -999.00,9, -999.00,9, -31.0855, 105.4576,-999.000,-999.000,20090507,       0419
33RR20090320,        I05,     174,          1,          7,          7,2,20090507,       0342,   -31.0858,   105.4576,       5186,  3731.3,   1.2599,  34.7204,2,  34.7213,2,    194.4,2,   194.2,2,  120.52,2,   32.28,2,    0.00,2,    2.28,2,-999.000,9,-999.000,9,-999.0000,9,  -999.0,9,  -999.0,9,-999.0000,9,  -999.00,-999.000,9,-999.000,9,-999.000,9,   1.2594,2,-999.000,9, -999.00,9, -999.00,-999.000,9,-999.000, -999.00,9, -999.00,9, -31.0856, 105.4576,-999.000,-999.000,20090507,       0413
33RR20090320,        I05,     174,          1,          6,          6,2,20090507,       0342,   -31.0858,   105.4576,       5186,  4036.5,   1.1758,  34.7170,2,  34.7178,2,    197.0,2,   197.5,2,  122.04,2,   32.27,2,    0.00,2,    2.29,2,   0.009,2,   0.005,2,   0.0000,2,  2277.2,2,  2382.3,2,   7.6857,2,    20.00,-999.000,9,-999.000,9,-999.000,9,   1.1759,2,-999.000,9, -999.00,9, -999.00,-999.000,9,-999.000, -999.00,9, -999.00,9, -31.0856, 105.4576,-999.000,-999.000,20090507,       0407
33RR20090320,        I05,     174,          1,          5,          5,2,20090507,       0342,   -31.0858,   105.4576,       5186,  4341.9,   1.1008,  34.7138,2,  34.7142,2,    201.3,2,   201.4,2,  122.42,2,   32.05,2,    0.00,2,    2.29,2,-999.000,9,-999.000,9,-999.0000,9,  -999.0,9,  -999.0,9,-999.0000,9,  -999.00,-999.000,9,-999.000,9,-999.000,9,   1.1005,2,-999.000,9, -999.00,9, -999.00,-999.000,9,-999.000, -999.00,9, -999.00,9, -31.0856, 105.4577,-999.000,-999.000,20090507,       0401
33RR20090320,        I05,     174,          1,          4,          4,2,20090507,       0342,   -31.0858,   105.4576,       5186,  4682.1,   1.0440,  34.7104,2,  34.7113,2,    204.5,2,   204.5,2,  122.41,2,   31.99,2,    0.00,2,    2.28,2,-999.000,9,-999.000,9,-999.0000,9,  -999.0,9,  -999.0,9,-999.0000,9,  -999.00,-999.000,9,-999.000,9,-999.000,9,   1.0438,2,-999.000,9, -999.00,9, -999.00,-999.000,9,-999.000, -999.00,9, -999.00,9, -31.0857, 105.4577,-999.000,-999.000,20090507,       0355
33RR20090320,        I05,     174,          1,          3,          3,2,20090507,       0342,   -31.0858,   105.4576,       5186,  5090.3,   1.0478,  34.7087,2,  34.7091,2,    206.2,2,   206.2,2,  122.21,2,   31.98,2,    0.00,2,    2.28,2,   0.039,2,   0.022,2,   0.0000,2,  2269.1,2,  2374.4,2,   7.6835,2,    20.00,-999.000,9,-999.000,9,-999.000,9,   1.0481,2,-999.000,9, -999.00,9, -999.00,-999.000,9,-999.000, -999.00,9, -999.00,9, -31.0858, 105.4577,-999.000,-999.000,20090507,       0347
33RR20090320,        I05,     174,          1,          2,          2,2,20090507,       0342,   -31.0858,   105.4576,       5186,  5178.2,   1.0497,  34.7081,2,  34.7097,3,    206.6,2,   206.4,2,  122.98,2,   32.03,2,    0.00,2,    2.28,2,-999.000,9,-999.000,9,-999.0000,9,  -999.0,9,  -999.0,9,-999.0000,9,  -999.00,-999.000,9,-999.000,9,-999.000,9,   1.0491,2,-999.000,9, -999.00,9, -999.00,-999.000,9,-999.000, -999.00,9, -999.00,9, -31.0858, 105.4576,-999.000,-999.000,20090507,       0345
33RR20090320,        I05,     174,          1,          1,          1,2,20090507,       0342,   -31.0858,   105.4576,       5186,  5270.8,   1.0599,  34.7079,2,  34.7085,2,    205.9,2,   206.4,2,  122.77,2,   32.03,2,    0.00,2,    2.28,2,   0.043,6,   0.023,6,   0.0000,6,  2270.2,6,  2373.5,2,   7.6835,2,    20.00,-999.000,9,-999.000,9,-999.000,9,   1.0595,2,-999.000,9, -999.00,9, -999.00,-999.000,9,-999.000, -999.00,9, -999.00,9, -31.0858, 105.4576,-999.000,-999.000,20090507,       0342