BOTTLE,20220814CCHSIOAMB
EXPOCODE,SECT_ID,STNNBR,CASTNO,SAMPNO,BTLNBR,BTLNBR_FLAG_W,DATE,TIME,LATITUDE,LONGITUDE,DEPTH,CTDPRS,CTDTMP,CTDSAL,CTDSAL_FLAG_W,SALNTY,SALNTY_FLAG_W,CTDOXY,CTDOXY_FLAG_W,OXYGEN,OXYGEN_FLAG_W,SILCAT,SILCAT_FLAG_W,NITRAT,NITRAT_FLAG_W,NITRIT,NITRIT_FLAG_W,PHSPHT,PHSPHT_FLAG_W,CFC-11,CFC-11_FLAG_W,CFC-12,CFC-12_FLAG_W,SF6,SF6_FLAG_W,TCARBN,TCARBN_FLAG_W,ALKALI,ALKALI_FLAG_W,PH_TOT,PH_TOT_FLAG_W,PH_TMP,TRITUM,TRITUM_FLAG_W,HELIUM,HELIUM_FLAG_W,DELHE3,DELHE3_FLAG_W,REFTMP,REFTMP_FLAG_W,DELC13,DELC13_FLAG_W,DELC14,DELC14_FLAG_W,C14ERR,NEON,NEON_FLAG_W,NEONER,DOC,DOC_FLAG_W,TDN,TDN_FLAG_W,BTL_LAT,BTL_LON,HELIER,DELHER,BTL_DATE,BTL_TIME
,,,,,,,,,,,METERS,DBAR,ITS-90,PSS-78,,PSS-78,,UMOL/KG,,UMOL/KG,,UMOL/KG,,UMOL/KG,,UMOL/KG,,UMOL/KG,,PMOL/KG,,PMOL/KG,,FMOL/KG,,UMOL/KG,,UMOL/KG,,,,DEG C,TU,,NMOL/KG,,PERCNT,,DEG C,,/MILLE,,/MILLE,,/MILLE,NMOL/KG,,NMOL/KG,UMOL/KG,,UMOL/KG,,,,NMOL/KG,PERCNT,,
33RR20090320,        I05,      40,          1,         26,         26,2,20090402,       0301,   -32.9962,    43.3613,       1413,     6.9,  23.2253,  35.6199,2,  35.6202,2,    215.4,2,   215.8,2,    0.97,2,    0.12,2,    0.00,2,    0.07,2,   1.898,2,   1.168,2,   1.0600,2,  2032.3,6,  2332.4,2,   8.1222,2,    20.00,-999.000,9,-999.000,9,-999.000,9,  23.2263,2,-999.000,9, -999.00,9, -999.00,-999.000,9,-999.000,   67.21,2,    4.60,2, -32.9962,  43.3613,-999.000,-999.000,20090402,       0350
33RR20090320,        I05,      40,          1,         25,         25,2,20090402,       0301,   -32.9962,    43.3613,       1413,    23.6,  22.9559,  35.6125,2,  35.6108,2,    218.1,2,   217.7,2,    0.90,2,    0.13,2,    0.00,2,    0.06,2,   1.923,6,   1.184,6,   1.1400,6,  2032.2,2,  2333.2,2,   8.1221,2,    20.00,-999.000,9,-999.000,9,-999.000,9,  22.9583,2,-999.000,9, -999.00,9, -999.00,-999.000,9,-999.000,   67.09,2,    4.40,2, -32.9961,  43.3614,-999.000,-999.000,20090402,       0348
33RR20090320,        I05,      40,          1,         24,         24,2,20090402,       0301,   -32.9962,    43.3613,       1413,    44.0,  22.7973,  35.6114,2,  35.6112,2,    219.9,2,   218.9,2,    1.21,2,    0.08,2,    0.00,2,    0.06,2,   1.942,2,   1.188,2,   1.1630,2,  2033.9,2,  2331.7,2,   8.1211,2,    20.00,-999.000,9,-999.000,9,-999.000,9,  22.7953,2,-999.000,9, -999.00,9, -999.00,-999.000,9,-999.000,   65.87,2,    5.24,2, -32.9961,  43.3614,-999.000,-999.000,20090402,       0347
33RR20090320,        I05,      40,          1,         23,         23,2,20090402,       0301,   -32.9962,    43.3613,       1413,    68.3,  19.8506,  35.5848,2,  35.5838,2,    229.8,2,   232.3,2,    1.33,2,    0.08,2,    0.00,2,    0.11,2,   2.249,2,   1.357,2,   1.2120,2,  2049.2,2,  2331.8,2,   8.0907,2,    20.00,-999.000,9,-999.000,9,-999.000,9,  19.8416,2,-999.000,9, -999.00,9, -999.00,-999.000,9,-999.000,   60.15,2,    4.40,2, -32.9960,  43.3614,-999.000,-999.000,20090402,       0346
33RR20090320,        I05,      40,          1,         22,         22,2,20090402,       0301,   -32.9962,    43.3613,       1413,    93.0,  18.1119,  35.5611,2,  35.5597,2,    225.8,2,   225.0,2,    2.03,2,    1.08,2,    0.06,2,    0.20,2,   2.368,2,   1.419,2,   1.2160,2,  2068.0,2,  2330.3,2,   8.0574,2,    20.00,-999.000,9,-999.000,9,-999.000,9,  18.0911,2,-999.000,9, -999.00,9, -999.00,-999.000,9,-999.000,   57.60,2,    5.64,2, -32.9960,  43.3614,-999.000,-999.000,20090402,       0344
33RR20090320,        I05,      40,          1,         21,         21,2,20090402,       0301,   -32.9962,    43.3613,       1413,   117.9,  17.2642,  35.5509,2,  35.5493,2,    215.3,2,   214.6,2,    2.34,2,    2.86,2,    0.03,2,    0.31,2,   2.433,2,   1.449,2,   1.1880,2,  2079.2,2,  2327.8,2,   8.0313,2,    20.00,-999.000,9,-999.000,9,-999.000,9,  17.2754,2,-999.000,9, -999.00,9, -999.00,-999.000,9,-999.000,   54.52,2,    7.17,2, -32.9959,  43.3614,-999.000,-999.000,20090402,       0343
33RR20090320,        I05,      40,          1,         20,         20,2,20090402,       0301,   -32.9962,    43.3613,       1413,   142.9,  16.9116,  35.5429,2,  35.5434,2,    214.8,2,   214.9,2,    2.46,2,    3.43,2,    0.01,2,    0.34,2,   2.471,2,   1.467,2,   1.1760,2,  2082.4,2,  2329.7,2,   8.0241,2,    20.00,-999.000,9,-999.000,9,-999.000,9,  16.9153,2,-999.000,9, -999.00,9, -999.00,-999.000,9,-999.000,   52.93,2,    7.83,2, -32.9959,  43.3614,-999.000,-999.000,20090402,       0341
33RR20090320,        I05,      40,          1,         19,         19,2,20090402,       0301,   -32.9962,    43.3613,       1413,   168.6,  16.2330,  35.5149,2,  35.5142,2,    215.5,2,   209.9,2,    3.16,2,    5.13,2,    0.00,2,    0.44,2,   2.535,2,   1.497,2,   1.2230,2,  2093.6,2,  2326.8,2,   8.0010,2,    20.00,-999.000,9,-999.000,9,-999.000,9,  16.2273,2,-999.000,9, -999.00,9, -999.00,-999.000,9,-999.000,   50.46,2,    8.02,2, -32.9959,  43.3614,-999.000,-999.000,20090402,       0340
33RR20090320,        I05,      40,          1,         18,         18,2,20090402,       0301,   -32.9962,    43.3613,       1413,   192.2,  15.9681,  35.4989,2,  35.4980,2,    210.8,2,   212.6,2,    3.08,2,    5.19,2,    0.00,2,    0.45,2,   2.568,2,   1.513,2,   1.2250,2,  2094.8,2,  2328.3,2,   7.9985,2,    20.00,-999.000,9,-999.000,9,-999.000,9,  15.9680,2,-999.000,9, -999.00,9, -999.00,-999.000,9,-999.000,   49.39,2,    7.87,2, -32.9960,  43.3614,-999.000,-999.000,20090402,       0338
33RR20090320,        I05,      40,          1,         17,         17,2,20090402,       0301,   -32.9962,    43.3613,       1413,   218.1,  15.5374,  35.4716,2,  35.4714,2,    210.7,2,   214.5,2,    3.21,2,    5.75,2,    0.00,2,    0.48,2,   2.592,2,   1.531,2,   1.1920,2,  2098.9,2,  2324.7,2,   7.9885,2,    20.00,-999.000,9,-999.000,9,-999.000,9,  15.5344,2,-999.000,9, -999.00,9, -999.00,-999.000,9,-999.000,   48.98,2,    8.73,2, -32.9961,  43.3613,-999.000,-999.000,20090402,       0336
33RR20090320,        I05,      40,          1,         16,         16,2,20090402,       0301,   -32.9962,    43.3613,       1413,   242.5,  15.4467,  35.4645,2,  35.4634,2,    213.2,2,   214.7,2,    3.14,2,    5.87,2,    0.00,2,    0.48,2,   2.599,2,   1.539,2,   1.2120,2,  2098.7,2,  2327.7,2,   7.9890,2,    20.00,-999.000,9,-999.000,9,-999.000,9,  15.4477,2,-999.000,9, -999.00,9, -999.00,-999.000,9,-999.000,   48.36,2,    8.81,2, -32.9961,  43.3613,-999.000,-999.000,20090402,       0336
33RR20090320,        I05,      40,          1,         15,         15,2,20090402,       0301,   -32.9962,    43.3613,       1413,   288.0,  15.0981,  35.4367,2,  35.4318,2,    215.1,2,   213.9,2,    3.26,2,    6.72,2,    0.00,2,    0.53,2,   2.657,2,   1.559,2,   1.1620,2,  2103.6,2,  2324.9,2,   7.9769,2,    20.00,-999.000,9,-999.000,9,-999.000,9,  15.1187,2,-999.000,9, -999.00,9, -999.00,-999.000,9,-999.000,   47.92,2,    9.45,2, -32.9962,  43.3612,-999.000,-999.000,20090402,       0333
33RR20090320,        I05,      40,          1,         14,         14,2,20090402,       0301,   -32.9962,    43.3613,       1413,   337.4,  14.3755,  35.3755,2,  35.3741,2,    213.2,2,   212.1,2,    3.38,2,    8.01,2,    0.00,2,    0.61,2,   2.748,2,   1.599,2,   1.1130,2,  2111.6,2,  2322.8,2,   7.9569,2,    20.00,-999.000,9,-999.000,9,-999.000,9,  14.3868,2,-999.000,9, -999.00,9, -999.00,-999.000,9,-999.000,   47.43,2,   10.04,2, -32.9962,  43.3612,-999.000,-999.000,20090402,       0331
33RR20090320,        I05,      40,          1,         13,         13,2,20090402,       0301,   -32.9962,    43.3613,       1413,   387.4,  13.7640,  35.3158,2,  35.3171,2,    216.7,2,   216.1,2,    3.50,2,    8.80,2,    0.00,2,    0.67,2,   2.904,2,   1.649,2,   1.1770,2,  2113.9,2,  2318.9,2,   7.9460,2,    20.00,-999.000,9,-999.000,9,-999.000,9,  13.7700,2,-999.000,9, -999.00,9, -999.00,-999.000,9,-999.000,   46.79,2,   11.01,2, -32.9962,  43.3612,-999.000,-999.000,20090402,       0329
33RR20090320,        I05,      40,          1,         12,         12,2,20090402,       0301,   -32.9962,    43.3613,       1413,   437.9,  13.1544,  35.2419,2,  35.2417,2,    218.3,2,   218.0,2,    3.81,2,    9.86,2,    0.00,2,    0.74,2,   2.940,2,   1.668,2,   1.1620,2,  2117.8,2,  2318.9,2,   7.9326,2,    20.00,-999.000,9,-999.000,9,-999.000,9,  13.1559,2,-999.000,9, -999.00,9, -999.00,-999.000,9,-999.000,   46.24,2,   11.48,2, -32.9962,  43.3611,-999.000,-999.000,20090402,       0327
33RR20090320,        I05,      40,          1,         11,         11,2,20090402,       0301,   -32.9962,    43.3613,       1413,   487.9,  12.9118,  35.2081,2,  35.2084,2,    218.7,2,   218.4,2,    3.94,2,   10.32,2,    0.00,2,    0.77,2,   2.999,2,   1.680,2,   1.1310,2,  2118.2,2,  2317.0,2,   7.9268,2,    20.00,-999.000,9,-999.000,9,-999.000,9,  12.9169,2,-999.000,9, -999.00,9, -999.00,-999.000,9,-999.000,   45.76,2,   11.89,2, -32.9961,  43.3611,-999.000,-999.000,20090402,       0325
33RR20090320,        I05,      40,          1,         10,         10,2,20090402,       0301,   -32.9962,    43.3613,       1413,   569.2,  12.1511,  35.0976,2,  35.0975,2,    218.8,2,   218.6,2,    4.25,2,   11.89,2,    0.00,2,    0.88,2,   3.029,2,   1.678,2,   1.1020,2,  2122.7,2,  2311.2,2,   7.9080,2,    20.00,-999.000,9,-999.000,9,-999.000,9,  12.1503,2,-999.000,9, -999.00,9, -999.00,-999.000,9,-999.000,   44.79,2,   13.12,2, -32.9960,  43.3611,-999.000,-999.000,20090402,       0323
33RR20090320,        I05,      40,          1,          9,          9,2,20090402,       0301,   -32.9962,    43.3613,       1413,   666.0,  10.9837,  34.9288,2,  34.9299,2,    217.0,2,   217.4,2,    5.53,2,   14.53,2,    0.00,2,    1.04,2,   3.100,2,   1.659,2,   0.9430,2,  2130.2,2,  2304.9,2,   7.8774,2,    20.00,-999.000,9,-999.000,9,-999.000,9,  10.9893,2,-999.000,9, -999.00,9, -999.00,-999.000,9,-999.000,   43.54,2,   16.30,2, -32.9960,  43.3611,-999.000,-999.000,20090402,       0320
33RR20090320,        I05,      40,          1,          8,          8,2,20090402,       0301,   -32.9962,    43.3613,       1413,   768.2,   9.6890,  34.7649,2,  34.7625,2,    212.5,2,   212.4,2,    8.17,2,   17.94,2,    0.00,2,    1.27,2,   2.973,2,   1.550,2,   0.7160,2,  2140.7,2,  2298.8,2,   7.8384,2,    20.00,-999.000,9,-999.000,9,-999.000,9,   9.6838,2,-999.000,9, -999.00,9, -999.00,-999.000,9,-999.000,   42.22,2,   19.84,2, -32.9961,  43.3611,-999.000,-999.000,20090402,       0318
33RR20090320,        I05,      40,          1,          7,          7,2,20090402,       0301,   -32.9962,    43.3613,       1413,   869.6,   8.4978,  34.6405,2,  34.6401,2,    207.7,2,   206.7,2,   12.16,2,   21.26,2,    0.00,2,    1.49,2,   2.643,2,   1.353,2,   0.5090,2,  2154.0,2,  2296.1,2,   7.8018,2,    20.00,-999.000,9,-999.000,9,-999.000,9,   8.4955,2,-999.000,9, -999.00,9, -999.00,-999.000,9,-999.000,   40.93,2,   23.11,2, -32.9960,  43.3612,-999.000,-999.000,20090402,       0315
33RR20090320,        I05,      40,          1,          6,          6,2,20090402,       0301,   -32.9962,    43.3613,       1413,   968.0,   7.0415,  34.5166,2,  34.5163,2,    202.5,2,   201.2,2,   18.88,2,   25.15,2,    0.00,2,    1.77,2,   2.279,2,   1.148,2,   0.4790,2,  2169.6,2,  2295.6,2,   7.7571,2,    20.00,-999.000,9,-999.000,9,-999.000,9,   7.0432,2,-999.000,9, -999.00,9, -999.00,-999.000,9,-999.000,   40.53,2,   26.74,2, -32.9959,  43.3612,-999.000,-999.000,20090402,       0313
33RR20090320,        I05,      40,          1,          5,          5,2,20090402,       0301,   -32.9962,    43.3613,       1413,  1068.1,   5.7346,  34.4317,2,  34.4317,2,    200.8,2,   200.7,2,   25.81,2,   28.15,2,    0.00,2,    1.97,2,   2.059,2,   1.027,2,   0.4050,2,  2184.8,2,  2297.7,2,   7.7234,2,    20.00,-999.000,9,-999.000,9,-999.000,9,   5.7335,2,-999.000,9, -999.00,9, -999.00,-999.000,9,-999.000,   40.19,2,   29.81,2, -32.9959,  43.3612,-999.000,-999.000,20090402,       0310
33RR20090320,        I05,      40,          1,          4,          4,2,20090402,       0301,   -32.9962,    43.3613,       1413,  1168.1,   5.0815,  34.4059,2,  34.4054,2,    199.0,2,   199.0,2,   31.02,2,   29.62,2,    0.00,2,    2.09,2,   1.846,2,   0.912,2,   0.3190,2,  2194.0,2,  2302.1,2,   7.7058,2,    20.00,-999.000,9,-999.000,9,-999.000,9,   5.0814,2,-999.000,9, -999.00,9, -999.00,-999.000,9,-999.000,   40.01,2,   31.30,2, -32.9960,  43.3612,-999.000,-999.000,20090402,       0308
33RR20090320,        I05,      40,          1,          3,          3,2,20090402,       0301,   -32.9962,    43.3613,       1413,  1268.7,   4.7937,  34.4052,2,  34.4050,2,    196.9,2,   196.6,2,   34.28,2,   30.20,2,    0.00,2,    2.14,2,   1.688,6,   0.834,6,   0.2940,6,  2199.8,2,  2303.6,2,   7.6976,2,    20.00,-999.000,9,-999.000,9,-999.000,9,   4.7960,2,-999.000,9, -999.00,9, -999.00,-999.000,9,-999.000,   39.81,2, -999.00,9, -32.9962,  43.3612,-999.000,-999.000,20090402,       0305
33RR20090320,        I05,      40,          1,          2,          2,2,20090402,       0301,   -32.9962,    43.3613,       1413,  1371.5,   4.2352,  34.4363,2,  34.4363,2,    187.2,2,   186.8,2,   44.20,2,   31.73,2,    0.00,2,    2.25,2,   1.243,2,   0.606,2,   0.1810,2,  2214.9,2,  2313.4,2,   7.6773,2,    20.00,-999.000,9,-999.000,9,-999.000,9,   4.2459,2,-999.000,9, -999.00,9, -999.00,-999.000,9,-999.000,   40.24,2,   33.41,2, -32.9963,  43.3612,-999.000,-999.000,20090402,       0303
33RR20090320,        I05,      40,          1,          1,          1,2,20090402,       0301,   -32.9962,    43.3613,       1413,  1412.7,   4.0625,  34.4466,2,  34.4473,2,    184.7,2,   184.5,2,   47.09,2,   32.07,2,    0.00,2,    2.28,2,   1.116,2,   0.545,2,   0.1580,2,  2220.8,6,  2315.7,2,   7.6708,2,    20.00,-999.000,9,-999.000,9,-999.000,9,   4.0580,2,-999.000,9, -999.00,9, -999.00,-999.000,9,-999.000,   40.35,2,   33.84,2, -32.9962,  43.3612,-999.000,-999.000,20090402,       0301