BOTTLE,20220814CCHSIOAMB
EXPOCODE,SECT_ID,STNNBR,CASTNO,SAMPNO,BTLNBR,BTLNBR_FLAG_W,DATE,TIME,LATITUDE,LONGITUDE,DEPTH,CTDPRS,CTDTMP,CTDSAL,CTDSAL_FLAG_W,SALNTY,SALNTY_FLAG_W,CTDOXY,CTDOXY_FLAG_W,OXYGEN,OXYGEN_FLAG_W,SILCAT,SILCAT_FLAG_W,NITRAT,NITRAT_FLAG_W,NITRIT,NITRIT_FLAG_W,PHSPHT,PHSPHT_FLAG_W,CFC-11,CFC-11_FLAG_W,CFC-12,CFC-12_FLAG_W,SF6,SF6_FLAG_W,TCARBN,TCARBN_FLAG_W,ALKALI,ALKALI_FLAG_W,PH_TOT,PH_TOT_FLAG_W,PH_TMP,TRITUM,TRITUM_FLAG_W,HELIUM,HELIUM_FLAG_W,DELHE3,DELHE3_FLAG_W,REFTMP,REFTMP_FLAG_W,DELC13,DELC13_FLAG_W,DELC14,DELC14_FLAG_W,C14ERR,NEON,NEON_FLAG_W,NEONER,DOC,DOC_FLAG_W,TDN,TDN_FLAG_W,BTL_LAT,BTL_LON,HELIER,DELHER,BTL_DATE,BTL_TIME
,,,,,,,,,,,METERS,DBAR,ITS-90,PSS-78,,PSS-78,,UMOL/KG,,UMOL/KG,,UMOL/KG,,UMOL/KG,,UMOL/KG,,UMOL/KG,,PMOL/KG,,PMOL/KG,,FMOL/KG,,UMOL/KG,,UMOL/KG,,,,DEG C,TU,,NMOL/KG,,PERCNT,,DEG C,,/MILLE,,/MILLE,,/MILLE,NMOL/KG,,NMOL/KG,UMOL/KG,,UMOL/KG,,,,NMOL/KG,PERCNT,,
33RR20090320,        I05,      64,          1,         33,         33,2,20090407,       2308,   -33.9980,    56.0919,       2262,    10.7,  20.3808,  35.4966,2,  35.4941,2,    228.0,2,   228.2,2,    1.14,2,    0.03,2,    0.00,2,    0.14,2,-999.000,9,-999.000,9,-999.0000,9,  2047.8,6,  2327.5,2,   8.0866,2,    20.00,-999.000,9,-999.000,9,-999.000,9,  20.3794,2,-999.000,9, -999.00,9, -999.00,-999.000,9,-999.000, -999.00,9, -999.00,9, -33.9985,  56.0917,-999.000,-999.000,20090408,       0027
33RR20090320,        I05,      64,          1,         32,         32,2,20090407,       2308,   -33.9980,    56.0919,       2262,    25.7,  19.8699,  35.4773,2,  35.4770,2,    231.4,2,   231.8,2,    1.11,2,    0.03,2,    0.00,2,    0.15,2,-999.000,9,-999.000,9,-999.0000,9,  -999.0,9,  -999.0,9,-999.0000,9,  -999.00,-999.000,9,-999.000,9,-999.000,9,  19.8663,2,-999.000,9, -999.00,9, -999.00,-999.000,9,-999.000, -999.00,9, -999.00,9, -33.9984,  56.0917,-999.000,-999.000,20090408,       0025
33RR20090320,        I05,      64,          1,         31,         31,2,20090407,       2308,   -33.9980,    56.0919,       2262,    46.0,  18.6021,  35.5000,2,  35.5008,2,    238.0,2,   239.4,2,    1.08,2,    0.00,2,    0.00,2,    0.16,2,-999.000,9,-999.000,9,-999.0000,9,  2055.2,2,  2331.6,2,   8.0761,2,    20.00,-999.000,9,-999.000,9,-999.000,9,  18.6245,2,-999.000,9, -999.00,9, -999.00,-999.000,9,-999.000, -999.00,9, -999.00,9, -33.9984,  56.0917,-999.000,-999.000,20090408,       0024
33RR20090320,        I05,      64,          1,         30,         30,2,20090407,       2308,   -33.9980,    56.0919,       2262,    70.3,  16.8017,  35.4854,2,  35.4846,2,    235.9,2,   234.6,2,    1.64,2,    1.33,2,    0.05,2,    0.26,2,-999.000,9,-999.000,9,-999.0000,9,  -999.0,9,  -999.0,9,-999.0000,9,  -999.00,-999.000,9,-999.000,9,-999.000,9,  16.8486,2,-999.000,9, -999.00,9, -999.00,-999.000,9,-999.000, -999.00,9, -999.00,9, -33.9984,  56.0917,-999.000,-999.000,20090408,       0022
33RR20090320,        I05,      64,          1,         29,         29,2,20090407,       2308,   -33.9980,    56.0919,       2262,    95.0,  15.8843,  35.4568,2,  35.4560,2,    229.7,2,   229.1,2,    2.19,2,    3.02,2,    0.04,2,    0.36,2,-999.000,9,-999.000,9,-999.0000,9,  2082.1,2,  2329.7,2,   8.0190,2,    20.00,-999.000,9,-999.000,9,-999.000,9,  15.8723,2,-999.000,9, -999.00,9, -999.00,-999.000,9,-999.000, -999.00,9, -999.00,9, -33.9984,  56.0917,-999.000,-999.000,20090408,       0020
33RR20090320,        I05,      64,          1,         28,         28,2,20090407,       2308,   -33.9980,    56.0919,       2262,   120.6,  15.1471,  35.4252,2,  35.4250,2,    228.3,2,   226.4,2,    2.55,2,    4.66,2,    0.01,2,    0.45,2,-999.000,9,-999.000,9,-999.0000,9,  -999.0,9,  -999.0,9,-999.0000,9,  -999.00,-999.000,9,-999.000,9,-999.000,9,  15.1465,2,-999.000,9, -999.00,9, -999.00,-999.000,9,-999.000, -999.00,9, -999.00,9, -33.9984,  56.0917,-999.000,-999.000,20090408,       0018
33RR20090320,        I05,      64,          1,         27,         27,2,20090407,       2308,   -33.9980,    56.0919,       2262,   144.7,  14.9784,  35.4161,2,  35.4150,2,    226.0,2,   226.1,2,    2.71,2,    5.05,2,    0.01,2,    0.47,2,-999.000,9,-999.000,9,-999.0000,9,  2093.7,2,  2326.5,2,   7.9940,2,    20.00,-999.000,9,-999.000,9,-999.000,9,  14.9769,2,-999.000,9, -999.00,9, -999.00,-999.000,9,-999.000, -999.00,9, -999.00,9, -33.9984,  56.0917,-999.000,-999.000,20090408,       0017
33RR20090320,        I05,      64,          1,         26,         26,2,20090407,       2308,   -33.9980,    56.0919,       2262,   169.0,  14.6464,  35.3937,2,  35.3927,2,    225.6,2,   225.8,2,    2.88,2,    5.69,2,    0.01,2,    0.51,2,-999.000,9,-999.000,9,-999.0000,9,  -999.0,9,  -999.0,9,-999.0000,9,  -999.00,-999.000,9,-999.000,9,-999.000,9,  14.6338,2,-999.000,9, -999.00,9, -999.00,-999.000,9,-999.000, -999.00,9, -999.00,9, -33.9984,  56.0917,-999.000,-999.000,20090408,       0015
33RR20090320,        I05,      64,          1,         25,         25,2,20090407,       2308,   -33.9980,    56.0919,       2262,   196.2,  14.4448,  35.3777,2,  35.3818,2,    226.7,2,   226.7,2,    2.85,2,    5.85,2,    0.01,2,    0.52,2,-999.000,9,-999.000,9,-999.0000,9,  2097.5,2,  2325.4,2,   7.9808,2,    20.00,-999.000,9,-999.000,9,-999.000,9,  14.4909,2,-999.000,9, -999.00,9, -999.00,-999.000,9,-999.000, -999.00,9, -999.00,9, -33.9985,  56.0917,-999.000,-999.000,20090408,       0013
33RR20090320,        I05,      64,          1,         24,         24,2,20090407,       2308,   -33.9980,    56.0919,       2262,   220.3,  13.9566,  35.3421,2,  35.3428,2,    230.3,2,   231.0,2,    3.02,2,    6.61,2,    0.01,2,    0.57,2,-999.000,9,-999.000,9,-999.0000,9,  -999.0,9,  -999.0,9,-999.0000,9,  -999.00,-999.000,9,-999.000,9,-999.000,9,  13.9628,2,-999.000,9, -999.00,9, -999.00,-999.000,9,-999.000, -999.00,9, -999.00,9, -33.9985,  56.0917,-999.000,-999.000,20090408,       0011
33RR20090320,        I05,      64,          1,         23,         23,2,20090407,       2308,   -33.9980,    56.0919,       2262,   245.4,  13.6116,  35.3183,2,  35.3177,2,    229.6,2,   230.4,2,    3.18,2,    7.48,2,    0.00,2,    0.61,2,-999.000,9,-999.000,9,-999.0000,9,  2105.7,2,  2320.9,2,   7.9623,2,    20.00,-999.000,9,-999.000,9,-999.000,9,  13.6111,2,-999.000,9, -999.00,9, -999.00,-999.000,9,-999.000, -999.00,9, -999.00,9, -33.9985,  56.0917,-999.000,-999.000,20090408,       0010
33RR20090320,        I05,      64,          1,         22,         22,2,20090407,       2308,   -33.9980,    56.0919,       2262,   290.6,  13.3665,  35.2939,2,  35.2933,2,    229.8,2,   233.5,2,    3.35,2,    7.86,2,    0.00,2,    0.63,2,-999.000,9,-999.000,9,-999.0000,9,  -999.0,9,  -999.0,9,-999.0000,9,  -999.00,-999.000,9,-999.000,9,-999.000,9,  13.3672,2,-999.000,9, -999.00,9, -999.00,-999.000,9,-999.000, -999.00,9, -999.00,9, -33.9985,  56.0918,-999.000,-999.000,20090408,       0008
33RR20090320,        I05,      64,          1,         21,         21,2,20090407,       2308,   -33.9980,    56.0919,       2262,   340.2,  13.1887,  35.2689,2,  35.2685,2,    233.5,2,   233.5,2,    3.33,2,    8.24,2,    0.00,2,    0.66,2,-999.000,9,-999.000,9,-999.0000,9,  2106.8,6,  2319.4,2,   7.9543,2,    20.00,-999.000,9,-999.000,9,-999.000,9,  13.1864,2,-999.000,9, -999.00,9, -999.00,-999.000,9,-999.000, -999.00,9, -999.00,9, -33.9985,  56.0920,-999.000,-999.000,20090408,       0006
33RR20090320,        I05,      64,          1,         20,         20,2,20090407,       2308,   -33.9980,    56.0919,       2262,   390.2,  12.7369,  35.1943,2,  35.1924,2,    230.0,2,   229.1,2,    3.68,2,    9.69,2,    0.00,2,    0.75,2,-999.000,9,-999.000,9,-999.0000,9,  -999.0,9,  -999.0,9,-999.0000,9,  -999.00,-999.000,9,-999.000,9,-999.000,9,  12.7323,2,-999.000,9, -999.00,9, -999.00,-999.000,9,-999.000, -999.00,9, -999.00,9, -33.9984,  56.0921,-999.000,-999.000,20090408,       0004
33RR20090320,        I05,      64,          1,         19,         19,2,20090407,       2308,   -33.9980,    56.0919,       2262,   439.8,  12.3040,  35.1238,2,  35.1305,2,    230.3,2,   229.8,2,    3.66,2,   10.50,2,    0.00,2,    0.80,2,-999.000,9,-999.000,9,-999.0000,9,  -999.0,9,  -999.0,9,-999.0000,9,  -999.00,-999.000,9,-999.000,9,-999.000,9,  12.3168,2,-999.000,9, -999.00,9, -999.00,-999.000,9,-999.000, -999.00,9, -999.00,9, -33.9984,  56.0921,-999.000,-999.000,20090408,       0002
33RR20090320,        I05,      64,          1,         18,         18,2,20090407,       2308,   -33.9980,    56.0919,       2262,   489.4,  12.0468,  35.0797,2,  35.0791,2,    229.8,2,   229.1,2,    4.01,2,   11.20,2,    0.00,2,    0.85,2,-999.000,9,-999.000,9,-999.0000,9,  -999.0,9,  -999.0,9,-999.0000,9,  -999.00,-999.000,9,-999.000,9,-999.000,9,  12.0507,2,-999.000,9, -999.00,9, -999.00,-999.000,9,-999.000, -999.00,9, -999.00,9, -33.9983,  56.0921,-999.000,-999.000,20090407,       0000
33RR20090320,        I05,      64,          1,         17,         17,2,20090407,       2308,   -33.9980,    56.0919,       2262,   570.0,  11.5436,  34.9992,2,  34.9933,2,    225.8,2,   224.9,2,    4.37,2,   12.76,2,    0.00,2,    0.95,2,-999.000,9,-999.000,9,-999.0000,9,  -999.0,9,  -999.0,9,-999.0000,9,  -999.00,-999.000,9,-999.000,9,-999.000,9,  11.5398,2,-999.000,9, -999.00,9, -999.00,-999.000,9,-999.000, -999.00,9, -999.00,9, -33.9983,  56.0921,-999.000,-999.000,20090407,       2357
33RR20090320,        I05,      64,          1,         16,         16,2,20090407,       2308,   -33.9980,    56.0919,       2262,   670.4,  10.6619,  34.8788,2,  34.8770,2,    219.8,2,   219.2,2,    5.70,2,   15.08,2,    0.00,2,    1.10,2,-999.000,9,-999.000,9,-999.0000,9,  -999.0,9,  -999.0,9,-999.0000,9,  -999.00,-999.000,9,-999.000,9,-999.000,9,  10.6638,2,-999.000,9, -999.00,9, -999.00,-999.000,9,-999.000, -999.00,9, -999.00,9, -33.9984,  56.0921,-999.000,-999.000,20090407,       2355
33RR20090320,        I05,      64,          1,         15,         15,2,20090407,       2308,   -33.9980,    56.0919,       2262,   771.1,   9.5625,  34.7458,2,  34.7433,2,    213.7,2,   213.5,2,    8.19,2,   18.16,2,    0.00,2,    1.30,2,-999.000,9,-999.000,9,-999.0000,9,  -999.0,9,  -999.0,9,-999.0000,9,  -999.00,-999.000,9,-999.000,9,-999.000,9,   9.5574,2,-999.000,9, -999.00,9, -999.00,-999.000,9,-999.000, -999.00,9, -999.00,9, -33.9985,  56.0921,-999.000,-999.000,20090407,       2352
33RR20090320,        I05,      64,          1,         14,         14,2,20090407,       2308,   -33.9980,    56.0919,       2262,   870.9,   7.9485,  34.5807,2,-999.0000,5,    206.2,2,   205.8,2,   13.78,2,   22.70,2,    0.00,2,    1.60,2,-999.000,9,-999.000,9,-999.0000,9,  -999.0,9,  -999.0,9,-999.0000,9,  -999.00,-999.000,9,-999.000,9,-999.000,9,   7.9377,2,-999.000,9, -999.00,9, -999.00,-999.000,9,-999.000, -999.00,9, -999.00,9, -33.9985,  56.0920,-999.000,-999.000,20090407,       2349
33RR20090320,        I05,      64,          1,         13,         13,2,20090407,       2308,   -33.9980,    56.0919,       2262,   970.4,   6.0577,  34.4255,2,  34.4243,2,    205.1,2,   206.3,2,   21.34,2,   27.10,2,    0.00,2,    1.91,2,-999.000,9,-999.000,9,-999.0000,9,  -999.0,9,  -999.0,9,-999.0000,9,  -999.00,-999.000,9,-999.000,9,-999.000,9,   6.0538,2,-999.000,9, -999.00,9, -999.00,-999.000,9,-999.000, -999.00,9, -999.00,9, -33.9984,  56.0919,-999.000,-999.000,20090407,       2346
33RR20090320,        I05,      64,          1,         12,         12,2,20090407,       2308,   -33.9980,    56.0919,       2262,  1070.7,   5.0507,  34.3789,2,  34.3778,2,    204.8,2,   205.7,2,   27.74,2,   29.22,2,    0.00,2,    2.07,2,-999.000,9,-999.000,9,-999.0000,9,  -999.0,9,  -999.0,9,-999.0000,9,  -999.00,-999.000,9,-999.000,9,-999.000,9,   5.0564,2,-999.000,9, -999.00,9, -999.00,-999.000,9,-999.000, -999.00,9, -999.00,9, -33.9984,  56.0919,-999.000,-999.000,20090407,       2343
33RR20090320,        I05,      64,          1,         11,         11,2,20090407,       2308,   -33.9980,    56.0919,       2262,  1171.6,   4.2621,  34.3963,2,  34.3954,2,    196.7,2,   196.3,2,   38.46,2,   31.13,2,    0.00,2,    2.22,2,-999.000,9,-999.000,9,-999.0000,9,  -999.0,9,  -999.0,9,-999.0000,9,  -999.00,-999.000,9,-999.000,9,-999.000,9,   4.2604,2,-999.000,9, -999.00,9, -999.00,-999.000,9,-999.000, -999.00,9, -999.00,9, -33.9984,  56.0918,-999.000,-999.000,20090407,       2340
33RR20090320,        I05,      64,          1,         10,         10,2,20090407,       2308,   -33.9980,    56.0919,       2262,  1271.0,   3.9154,  34.4242,2,  34.4235,2,    191.2,2,   190.9,2,   44.71,2,   31.94,2,    0.00,2,    2.28,2,-999.000,9,-999.000,9,-999.0000,9,  -999.0,9,  -999.0,9,-999.0000,9,  -999.00,-999.000,9,-999.000,9,-999.000,9,   3.9154,2,-999.000,9, -999.00,9, -999.00,-999.000,9,-999.000, -999.00,9, -999.00,9, -33.9983,  56.0918,-999.000,-999.000,20090407,       2337
33RR20090320,        I05,      64,          1,          9,          9,2,20090407,       2308,   -33.9980,    56.0919,       2262,  1371.0,   3.4642,  34.4706,2,  34.4708,2,    185.0,2,   183.3,2,   53.52,2,   32.76,2,    0.00,2,    2.34,2,-999.000,9,-999.000,9,-999.0000,9,  -999.0,9,  -999.0,9,-999.0000,9,  -999.00,-999.000,9,-999.000,9,-999.000,9,   3.4615,2,-999.000,9, -999.00,9, -999.00,-999.000,9,-999.000, -999.00,9, -999.00,9, -33.9983,  56.0918,-999.000,-999.000,20090407,       2334
33RR20090320,        I05,      64,          1,          8,          8,2,20090407,       2308,   -33.9980,    56.0919,       2262,  1473.8,   3.2682,  34.5012,2,  34.5004,2,    180.6,2,   180.0,2,   58.42,2,   33.04,2,    0.00,2,    2.36,2,-999.000,9,-999.000,9,-999.0000,9,  -999.0,9,  -999.0,9,-999.0000,9,  -999.00,-999.000,9,-999.000,9,-999.000,9,   3.2672,2,-999.000,9, -999.00,9, -999.00,-999.000,9,-999.000, -999.00,9, -999.00,9, -33.9983,  56.0918,-999.000,-999.000,20090407,       2331
33RR20090320,        I05,      64,          1,          7,          7,2,20090407,       2308,   -33.9980,    56.0919,       2262,  1572.6,   3.0928,  34.5383,2,  34.5373,2,    177.9,2,   178.2,2,   62.54,2,   32.92,2,    0.00,2,    2.37,2,-999.000,9,-999.000,9,-999.0000,9,  -999.0,9,  -999.0,9,-999.0000,9,  -999.00,-999.000,9,-999.000,9,-999.000,9,   3.0923,2,-999.000,9, -999.00,9, -999.00,-999.000,9,-999.000, -999.00,9, -999.00,9, -33.9982,  56.0919,-999.000,-999.000,20090407,       2328
33RR20090320,        I05,      64,          1,          6,          6,2,20090407,       2308,   -33.9980,    56.0919,       2262,  1673.3,   2.8901,  34.5845,2,  34.5827,2,    178.2,2,   178.4,2,   67.46,2,   32.70,2,    0.00,2,    2.34,2,-999.000,9,-999.000,9,-999.0000,9,  -999.0,9,  -999.0,9,-999.0000,9,  -999.00,-999.000,9,-999.000,9,-999.000,9,   2.8913,2,-999.000,9, -999.00,9, -999.00,-999.000,9,-999.000, -999.00,9, -999.00,9, -33.9982,  56.0921,-999.000,-999.000,20090407,       2325
33RR20090320,        I05,      64,          1,          5,          5,2,20090407,       2308,   -33.9980,    56.0919,       2262,  1774.8,   2.7707,  34.6127,2,  34.6129,2,    178.9,2,   179.2,2,   69.62,2,   32.48,2,    0.00,2,    2.32,2,-999.000,9,-999.000,9,-999.0000,9,  -999.0,9,  -999.0,9,-999.0000,9,  -999.00,-999.000,9,-999.000,9,-999.000,9,   2.7700,2,-999.000,9, -999.00,9, -999.00,-999.000,9,-999.000, -999.00,9, -999.00,9, -33.9981,  56.0921,-999.000,-999.000,20090407,       2322
33RR20090320,        I05,      64,          1,          4,          4,2,20090407,       2308,   -33.9980,    56.0919,       2262,  1875.2,   2.6333,  34.6434,2,  34.6420,2,    180.2,2,   180.8,2,   73.36,2,   32.14,2,    0.00,2,    2.29,2,-999.000,9,-999.000,9,-999.0000,9,  -999.0,9,  -999.0,9,-999.0000,9,  -999.00,-999.000,9,-999.000,9,-999.000,9,   2.6354,2,-999.000,9, -999.00,9, -999.00,-999.000,9,-999.000, -999.00,9, -999.00,9, -33.9980,  56.0921,-999.000,-999.000,20090407,       2319
33RR20090320,        I05,      64,          1,          3,          3,2,20090407,       2308,   -33.9980,    56.0919,       2262,  1976.3,   2.5325,  34.6640,2,  34.6636,2,    182.2,2,   182.7,2,   75.90,2,   31.87,2,    0.00,2,    2.27,2,-999.000,9,-999.000,9,-999.0000,9,  -999.0,9,  -999.0,9,-999.0000,9,  -999.00,-999.000,9,-999.000,9,-999.000,9,   2.5325,2,-999.000,9, -999.00,9, -999.00,-999.000,9,-999.000, -999.00,9, -999.00,9, -33.9980,  56.0921,-999.000,-999.000,20090407,       2316
33RR20090320,        I05,      64,          1,          2,          2,2,20090407,       2308,   -33.9980,    56.0919,       2262,  2172.0,   2.4214,  34.6887,2,  34.6883,2,    185.6,2,   185.3,2,   78.86,2,   31.43,2,    0.00,2,    2.25,2,-999.000,9,-999.000,9,-999.0000,9,  -999.0,9,  -999.0,9,-999.0000,9,  -999.00,-999.000,9,-999.000,9,-999.000,9,   2.4204,2,-999.000,9, -999.00,9, -999.00,-999.000,9,-999.000, -999.00,9, -999.00,9, -33.9980,  56.0920,-999.000,-999.000,20090407,       2311
33RR20090320,        I05,      64,          1,          1,          1,2,20090407,       2308,   -33.9980,    56.0919,       2262,  2266.2,   2.3402,  34.7022,2,  34.7019,2,    187.1,2,   186.9,2,   81.02,2,   31.26,2,    0.00,2,    2.24,2,-999.000,9,-999.000,9,-999.0000,9,  -999.0,9,  -999.0,9,-999.0000,9,  -999.00,-999.000,9,-999.000,9,-999.000,9,   2.3394,2,-999.000,9, -999.00,9, -999.00,-999.000,9,-999.000, -999.00,9, -999.00,9, -33.9980,  56.0919,-999.000,-999.000,20090407,       2308