BOTTLE,20220814CCHSIOAMB
EXPOCODE,SECT_ID,STNNBR,CASTNO,SAMPNO,BTLNBR,BTLNBR_FLAG_W,DATE,TIME,LATITUDE,LONGITUDE,DEPTH,CTDPRS,CTDTMP,CTDSAL,CTDSAL_FLAG_W,SALNTY,SALNTY_FLAG_W,CTDOXY,CTDOXY_FLAG_W,OXYGEN,OXYGEN_FLAG_W,SILCAT,SILCAT_FLAG_W,NITRAT,NITRAT_FLAG_W,NITRIT,NITRIT_FLAG_W,PHSPHT,PHSPHT_FLAG_W,CFC-11,CFC-11_FLAG_W,CFC-12,CFC-12_FLAG_W,SF6,SF6_FLAG_W,TCARBN,TCARBN_FLAG_W,ALKALI,ALKALI_FLAG_W,PH_TOT,PH_TOT_FLAG_W,PH_TMP,TRITUM,TRITUM_FLAG_W,HELIUM,HELIUM_FLAG_W,DELHE3,DELHE3_FLAG_W,REFTMP,REFTMP_FLAG_W,DELC13,DELC13_FLAG_W,DELC14,DELC14_FLAG_W,C14ERR,NEON,NEON_FLAG_W,NEONER,DOC,DOC_FLAG_W,TDN,TDN_FLAG_W,BTL_LAT,BTL_LON,HELIER,DELHER,BTL_DATE,BTL_TIME
,,,,,,,,,,,METERS,DBAR,ITS-90,PSS-78,,PSS-78,,UMOL/KG,,UMOL/KG,,UMOL/KG,,UMOL/KG,,UMOL/KG,,UMOL/KG,,PMOL/KG,,PMOL/KG,,FMOL/KG,,UMOL/KG,,UMOL/KG,,,,DEG C,TU,,NMOL/KG,,PERCNT,,DEG C,,/MILLE,,/MILLE,,/MILLE,NMOL/KG,,NMOL/KG,UMOL/KG,,UMOL/KG,,,,NMOL/KG,PERCNT,,
33RR20090320,        I05,     100,          1,         36,         36,2,20090419,       0100,   -34.8002,    72.7994,       4742,     8.4,  18.7726,  35.3432,2,  35.3433,2,    234.2,2,   234.4,2,    1.49,2,    0.00,2,    0.00,2,    0.17,2,   2.313,6,   1.370,6,   1.2510,6,  2054.0,6,  2326.2,2,   8.0696,2,    20.00,-999.000,9,-999.000,9,-999.000,9,  18.7759,2,-999.000,9, -999.00,9, -999.00,-999.000,9,-999.000, -999.00,9, -999.00,9, -34.7998,  72.7992,-999.000,-999.000,20090419,       0248
33RR20090320,        I05,     100,          1,         35,         35,2,20090419,       0100,   -34.8002,    72.7994,       4742,    25.9,  18.6926,  35.3342,2,  35.3382,2,    235.4,2,   234.4,2,    1.30,2,    0.00,2,    0.00,2,    0.17,2,-999.000,9,-999.000,9,-999.0000,9,  2054.6,2,  2324.4,2,   8.0692,2,    20.00,-999.000,9,-999.000,9,-999.000,9,  18.7192,2,-999.000,9, -999.00,9, -999.00,-999.000,9,-999.000, -999.00,9, -999.00,9, -34.7999,  72.7993,-999.000,-999.000,20090419,       0247
33RR20090320,        I05,     100,          1,         34,         34,2,20090419,       0100,   -34.8002,    72.7994,       4742,    46.7,  17.9285,  35.2795,2,  35.2846,2,    240.4,2,   241.9,2,    1.09,2,    0.00,2,    0.00,2,    0.18,2,-999.000,9,-999.000,9,-999.0000,9,  -999.0,9,  -999.0,9,-999.0000,9,  -999.00,-999.000,9,-999.000,9,-999.000,9,  17.9427,2,-999.000,9, -999.00,9, -999.00,-999.000,9,-999.000, -999.00,9, -999.00,9, -34.7999,  72.7993,-999.000,-999.000,20090419,       0246
33RR20090320,        I05,     100,          1,         33,         33,2,20090419,       0100,   -34.8002,    72.7994,       4742,    69.3,  15.3389,  35.1889,2,  35.1899,2,    250.7,2,   248.5,2,    1.62,2,    1.74,2,    0.16,2,    0.34,2,-999.000,9,-999.000,9,-999.0000,9,  2072.7,2,  2319.1,2,   8.0214,2,    20.00,-999.000,9,-999.000,9,-999.000,9,  15.3240,2,-999.000,9, -999.00,9, -999.00,-999.000,9,-999.000, -999.00,9, -999.00,9, -34.8000,  72.7993,-999.000,-999.000,20090419,       0245
33RR20090320,        I05,     100,          1,         32,         32,2,20090419,       0100,   -34.8002,    72.7994,       4742,    95.3,  13.8152,  35.2179,2,  35.2163,2,    238.5,2,   238.7,2,    2.86,2,    5.61,2,    0.28,2,    0.55,2,-999.000,9,-999.000,9,-999.0000,9,  -999.0,9,  -999.0,9,-999.0000,9,  -999.00,-999.000,9,-999.000,9,-999.000,9,  13.8259,2,-999.000,9, -999.00,9, -999.00,-999.000,9,-999.000, -999.00,9, -999.00,9, -34.8000,  72.7993,-999.000,-999.000,20090419,       0243
33RR20090320,        I05,     100,          1,         31,         31,2,20090419,       0100,   -34.8002,    72.7994,       4742,   139.7,  13.1639,  35.2320,2,  35.2360,2,    237.8,2,   238.1,2,    3.75,2,    7.53,2,    0.01,2,    0.62,2,   3.011,2,   1.714,2,   1.3990,2,  2101.2,2,  2314.8,2,   7.9577,2,    20.00,-999.000,9,-999.000,9,-999.000,9,  13.1643,2,-999.000,9, -999.00,9, -999.00,-999.000,9,-999.000, -999.00,9, -999.00,9, -34.8000,  72.7992,-999.000,-999.000,20090419,       0242
33RR20090320,        I05,     100,          1,         30,         30,2,20090419,       0100,   -34.8002,    72.7994,       4742,   190.9,  13.0176,  35.2291,2,  35.2284,2,    237.8,2,   238.8,2,    3.90,2,    8.01,2,    0.01,2,    0.65,2,-999.000,9,-999.000,9,-999.0000,9,  -999.0,9,  -999.0,9,-999.0000,9,  -999.00,-999.000,9,-999.000,9,-999.000,9,  13.0201,2,-999.000,9, -999.00,9, -999.00,-999.000,9,-999.000, -999.00,9, -999.00,9, -34.8000,  72.7992,-999.000,-999.000,20090419,       0240
33RR20090320,        I05,     100,          1,         29,         29,2,20090419,       0100,   -34.8002,    72.7994,       4742,   239.7,  12.7401,  35.1908,2,  35.1906,2,    237.3,2,   237.3,2,    4.07,2,    8.69,2,    0.01,2,    0.69,2,-999.000,9,-999.000,9,-999.0000,9,  2106.3,2,  2313.7,2,   7.9449,2,    20.00,-999.000,9,-999.000,9,-999.000,9,  12.7460,2,-999.000,9, -999.00,9, -999.00,-999.000,9,-999.000, -999.00,9, -999.00,9, -34.7999,  72.7992,-999.000,-999.000,20090419,       0239
33RR20090320,        I05,     100,          1,         28,         28,2,20090419,       0100,   -34.8002,    72.7994,       4742,   289.4,  12.4825,  35.1521,2,  35.1530,2,    238.6,2,   237.9,2,    4.23,2,    9.23,2,    0.01,2,    0.72,2,-999.000,9,-999.000,9,-999.0000,9,  -999.0,9,  -999.0,9,-999.0000,9,  -999.00,-999.000,9,-999.000,9,-999.000,9,  12.4701,2,-999.000,9, -999.00,9, -999.00,-999.000,9,-999.000, -999.00,9, -999.00,9, -34.7999,  72.7991,-999.000,-999.000,20090419,       0237
33RR20090320,        I05,     100,          1,         27,         27,2,20090419,       0100,   -34.8002,    72.7994,       4742,   339.5,  12.3761,  35.1448,2,  35.1435,2,    241.6,2,   241.5,2,    4.22,2,    9.28,2,    0.01,2,    0.73,2,   3.154,2,   1.765,2,   1.3400,2,  2108.5,2,  2311.6,2,   7.9388,2,    20.00,-999.000,9,-999.000,9,-999.000,9,  12.3754,2,-999.000,9, -999.00,9, -999.00,-999.000,9,-999.000, -999.00,9, -999.00,9, -34.7999,  72.7990,-999.000,-999.000,20090419,       0235
33RR20090320,        I05,     100,          1,         26,         26,2,20090419,       0100,   -34.8002,    72.7994,       4742,   390.0,  12.2861,  35.1319,2,  35.1286,2,    241.6,2,   241.7,2,    4.02,2,    9.38,2,    0.01,2,    0.74,2,-999.000,9,-999.000,9,-999.0000,9,  -999.0,9,  -999.0,9,-999.0000,9,  -999.00,-999.000,9,-999.000,9,-999.000,9,  12.2854,2,-999.000,9, -999.00,9, -999.00,-999.000,9,-999.000, -999.00,9, -999.00,9, -34.7999,  72.7990,-999.000,-999.000,20090419,       0234
33RR20090320,        I05,     100,          1,         25,         25,2,20090419,       0100,   -34.8002,    72.7994,       4742,   470.1,  11.7081,  35.0241,2,  35.0266,2,    235.9,2,   235.4,2,    4.54,2,   11.29,2,    0.00,2,    0.85,2,-999.000,9,-999.000,9,-999.0000,9,  2115.3,2,  2308.8,2,   7.9145,2,    20.00,-999.000,9,-999.000,9,-999.000,9,  11.7174,2,-999.000,9, -999.00,9, -999.00,-999.000,9,-999.000, -999.00,9, -999.00,9, -34.7999,  72.7989,-999.000,-999.000,20090419,       0232
33RR20090320,        I05,     100,          1,         24,         24,2,20090419,       0100,   -34.8002,    72.7994,       4742,   570.8,  10.8124,  34.8858,2,  34.8836,2,    227.7,2,   228.3,2,    5.43,2,   13.96,2,    0.00,2,    1.02,2,-999.000,9,-999.000,9,-999.0000,9,  -999.0,9,  -999.0,9,-999.0000,9,  -999.00,-999.000,9,-999.000,9,-999.000,9,  10.7995,2,-999.000,9, -999.00,9, -999.00,-999.000,9,-999.000, -999.00,9, -999.00,9, -34.8000,  72.7989,-999.000,-999.000,20090419,       0229
33RR20090320,        I05,     100,          1,         23,         23,2,20090419,       0100,   -34.8002,    72.7994,       4742,   671.6,   9.7713,  34.7524,2,  34.7513,2,    218.8,2,   217.9,2,    7.75,2,   17.16,2,    0.00,2,    1.23,2,   3.178,2,   1.645,2,   0.8730,2,  2135.2,2,  2296.7,2,   7.8452,2,    20.00,-999.000,9,-999.000,9,-999.000,9,   9.7636,2,-999.000,9, -999.00,9, -999.00,-999.000,9,-999.000, -999.00,9, -999.00,9, -34.8000,  72.7989,-999.000,-999.000,20090419,       0227
33RR20090320,        I05,     100,          1,         22,         22,2,20090419,       0100,   -34.8002,    72.7994,       4742,   770.9,   8.5557,  34.6220,2,  34.6224,2,    210.8,2,   209.4,2,   11.35,2,   20.79,2,    0.00,2,    1.46,2,-999.000,9,-999.000,9,-999.0000,9,  -999.0,9,  -999.0,9,-999.0000,9,  -999.00,-999.000,9,-999.000,9,-999.000,9,   8.5569,2,-999.000,9, -999.00,9, -999.00,-999.000,9,-999.000, -999.00,9, -999.00,9, -34.7999,  72.7989,-999.000,-999.000,20090419,       0224
33RR20090320,        I05,     100,          1,         21,         21,2,20090419,       0100,   -34.8002,    72.7994,       4742,   869.1,   7.2164,  34.4985,2,  34.4997,2,    205.0,2,   205.0,2,   15.85,2,   24.39,2,    0.00,2,    1.71,2,-999.000,9,-999.000,9,-999.0000,9,  -999.0,9,  -999.0,9,-999.0000,9,  -999.00,-999.000,9,-999.000,9,-999.000,9,   7.2116,2,-999.000,9, -999.00,9, -999.00,-999.000,9,-999.000, -999.00,9, -999.00,9, -34.7998,  72.7989,-999.000,-999.000,20090419,       0222
33RR20090320,        I05,     100,          1,         20,         20,2,20090419,       0100,   -34.8002,    72.7994,       4742,   971.6,   5.9506,  34.4086,2,  34.4096,2,    204.1,2,   205.5,2,   21.82,2,   27.34,2,    0.00,2,    1.91,2,-999.000,9,-999.000,9,-999.0000,9,  -999.0,9,  -999.0,9,-999.0000,9,  -999.00,-999.000,9,-999.000,9,-999.000,9,   5.9567,2,-999.000,9, -999.00,9, -999.00,-999.000,9,-999.000, -999.00,9, -999.00,9, -34.7999,  72.7989,-999.000,-999.000,20090419,       0219
33RR20090320,        I05,     100,          1,         19,         19,2,20090419,       0100,   -34.8002,    72.7994,       4742,  1073.7,   4.9407,  34.3605,2,  34.3607,2,    205.7,2,   207.2,2,   27.81,2,   29.33,2,    0.00,2,    2.07,2,   2.202,2,   1.084,2,   0.5010,2,  2186.3,2,  2296.6,2,   7.7079,2,    20.00,-999.000,9,-999.000,9,-999.000,9,   4.9571,2,-999.000,9, -999.00,9, -999.00,-999.000,9,-999.000, -999.00,9, -999.00,9, -34.7999,  72.7990,-999.000,-999.000,20090419,       0217
33RR20090320,        I05,     100,          1,         18,         18,2,20090419,       0100,   -34.8002,    72.7994,       4742,  1172.6,   4.1634,  34.3661,2,  34.3658,2,    199.7,2,   199.2,2,   37.46,2,   31.32,2,    0.00,2,    2.22,2,-999.000,9,-999.000,9,-999.0000,9,  -999.0,9,  -999.0,9,-999.0000,9,  -999.00,-999.000,9,-999.000,9,-999.000,9,   4.1656,2,-999.000,9, -999.00,9, -999.00,-999.000,9,-999.000, -999.00,9, -999.00,9, -34.7999,  72.7991,-999.000,-999.000,20090419,       0215
33RR20090320,        I05,     100,          1,         17,         17,2,20090419,       0100,   -34.8002,    72.7994,       4742,  1272.0,   3.7096,  34.4011,2,  34.4000,2,    189.9,2,   189.7,2,   46.60,2,   32.61,2,    0.00,2,    2.31,2,-999.000,9,-999.000,9,-999.0000,9,  -999.0,9,  -999.0,9,-999.0000,9,  -999.00,-999.000,9,-999.000,9,-999.000,9,   3.7085,2,-999.000,9, -999.00,9, -999.00,-999.000,9,-999.000, -999.00,9, -999.00,9, -34.8000,  72.7991,-999.000,-999.000,20090419,       0212
33RR20090320,        I05,     100,          1,         16,         16,2,20090419,       0100,   -34.8002,    72.7994,       4742,  1373.4,   3.3952,  34.4474,2,  34.4464,2,    181.4,2,   180.5,2,   54.85,2,   33.47,2,    0.00,2,    2.37,2,-999.000,9,-999.000,9,-999.0000,9,  -999.0,9,  -999.0,9,-999.0000,9,  -999.00,-999.000,9,-999.000,9,-999.000,9,   3.3973,2,-999.000,9, -999.00,9, -999.00,-999.000,9,-999.000, -999.00,9, -999.00,9, -34.8000,  72.7991,-999.000,-999.000,20090419,       0210
33RR20090320,        I05,     100,          1,         15,         15,2,20090419,       0100,   -34.8002,    72.7994,       4742,  1473.7,   3.1435,  34.4956,2,  34.4937,2,    175.1,2,   175.0,2,   60.72,2,   33.90,2,    0.00,2,    2.40,2,   0.558,2,   0.268,2,   0.0940,2,  2238.2,6,  2326.0,2,   7.6428,2,    20.00,-999.000,9,-999.000,9,-999.000,9,   3.1496,2,-999.000,9, -999.00,9, -999.00,-999.000,9,-999.000, -999.00,9, -999.00,9, -34.7999,  72.7992,-999.000,-999.000,20090419,       0207
33RR20090320,        I05,     100,          1,         14,         14,2,20090419,       0100,   -34.8002,    72.7994,       4742,  1575.4,   2.9395,  34.5439,2,  34.5424,2,    172.3,2,   172.6,2,   66.98,2,   33.94,2,    0.00,2,    2.40,2,-999.000,9,-999.000,9,-999.0000,9,  -999.0,9,  -999.0,9,-999.0000,9,  -999.00,-999.000,9,-999.000,9,-999.000,9,   2.9425,2,-999.000,9, -999.00,9, -999.00,-999.000,9,-999.000, -999.00,9, -999.00,9, -34.7999,  72.7992,-999.000,-999.000,20090419,       0205
33RR20090320,        I05,     100,          1,         13,         13,2,20090419,       0100,   -34.8002,    72.7994,       4742,  1743.3,   2.7161,  34.6084,2,  34.6082,2,    172.6,2,   172.7,2,   72.33,2,   33.39,2,    0.00,2,    2.35,2,-999.000,9,-999.000,9,-999.0000,9,  -999.0,9,  -999.0,9,-999.0000,9,  -999.00,-999.000,9,-999.000,9,-999.000,9,   2.7160,2,-999.000,9, -999.00,9, -999.00,-999.000,9,-999.000, -999.00,9, -999.00,9, -34.8000,  72.7991,-999.000,-999.000,20090419,       0200
33RR20090320,        I05,     100,          1,         12,         12,2,20090419,       0100,   -34.8002,    72.7994,       4742,  1946.8,   2.4967,  34.6751,2,  34.6753,2,    177.4,2,   177.4,2,   78.05,2,   32.46,2,    0.00,2,    2.27,2,-999.000,9,-999.000,9,-999.0000,9,  -999.0,9,  -999.0,9,-999.0000,9,  -999.00,-999.000,9,-999.000,9,-999.000,9,   2.4958,2,-999.000,9, -999.00,9, -999.00,-999.000,9,-999.000, -999.00,9, -999.00,9, -34.7999,  72.7991,-999.000,-999.000,20090419,       0156
33RR20090320,        I05,     100,          1,         11,         11,2,20090419,       0100,   -34.8002,    72.7994,       4742,  2178.5,   2.2476,  34.7164,2,  34.7165,2,    182.7,2,   182.9,2,   86.21,2,   31.80,2,    0.00,2,    2.23,2,-999.000,9,-999.000,9,-999.0000,9,  2252.6,2,  2352.5,2,   7.6738,2,    20.00,-999.000,9,-999.000,9,-999.000,9,   2.2467,2,-999.000,9, -999.00,9, -999.00,-999.000,9,-999.000, -999.00,9, -999.00,9, -34.7998,  72.7990,-999.000,-999.000,20090419,       0152
33RR20090320,        I05,     100,          1,         10,         10,2,20090419,       0100,   -34.8002,    72.7994,       4742,  2430.7,   2.0093,  34.7277,2,  34.7274,2,    181.1,2,   180.7,2,  100.91,2,   32.33,2,    0.00,2,    2.28,2,-999.000,9,-999.000,9,-999.0000,9,  -999.0,9,  -999.0,9,-999.0000,9,  -999.00,-999.000,9,-999.000,9,-999.000,9,   2.0101,2,-999.000,9, -999.00,9, -999.00,-999.000,9,-999.000, -999.00,9, -999.00,9, -34.8000,  72.7992,-999.000,-999.000,20090419,       0147
33RR20090320,        I05,     100,          1,          9,          9,2,20090419,       0100,   -34.8002,    72.7994,       4742,  2682.9,   1.8462,  34.7286,2,  34.7284,2,    178.7,2,   178.6,2,  110.61,2,   32.93,2,    0.00,2,    2.32,2,   0.005,2,   0.003,2,   0.0270,2,  2276.4,2,  2376.2,2,   7.6766,2,    20.00,-999.000,9,-999.000,9,-999.000,9,   1.8466,2,-999.000,9, -999.00,9, -999.00,-999.000,9,-999.000, -999.00,9, -999.00,9, -34.7999,  72.7991,-999.000,-999.000,20090419,       0142
33RR20090320,        I05,     100,          1,          8,          8,2,20090419,       0100,   -34.8002,    72.7994,       4742,  2936.5,   1.7025,  34.7282,2,  34.7278,2,    179.5,2,   179.3,2,  117.15,2,   33.24,2,    0.00,2,    2.34,2,-999.000,9,-999.000,9,-999.0000,9,  -999.0,9,  -999.0,9,-999.0000,9,  -999.00,-999.000,9,-999.000,9,-999.000,9,   1.7026,2,-999.000,9, -999.00,9, -999.00,-999.000,9,-999.000, -999.00,9, -999.00,9, -34.8000,  72.7992,-999.000,-999.000,20090419,       0137
33RR20090320,        I05,     100,          1,          7,          7,2,20090419,       0100,   -34.8002,    72.7994,       4742,  3224.1,   1.5574,  34.7236,2,  34.7237,2,    183.1,2,   182.8,2,  120.33,2,   33.29,2,    0.00,2,    2.35,2,   0.005,2,   0.005,2,   0.0120,2,  2279.9,2,  2380.6,2,   7.6778,2,    20.00,-999.000,9,-999.000,9,-999.000,9,   1.5578,2,-999.000,9, -999.00,9, -999.00,-999.000,9,-999.000, -999.00,9, -999.00,9, -34.8001,  72.7992,-999.000,-999.000,20090419,       0131
33RR20090320,        I05,     100,          1,          6,          6,2,20090419,       0100,   -34.8002,    72.7994,       4742,  3527.3,   1.3676,  34.7168,2,  34.7163,2,    189.0,2,   189.2,2,  123.13,2,   33.17,2,    0.00,2,    2.34,2,   0.005,2,   0.006,2,   0.0000,2,  -999.0,9,  -999.0,9,-999.0000,9,  -999.00,-999.000,9,-999.000,9,-999.000,9,   1.3665,2,-999.000,9, -999.00,9, -999.00,-999.000,9,-999.000, -999.00,9, -999.00,9, -34.8001,  72.7992,-999.000,-999.000,20090419,       0125
33RR20090320,        I05,     100,          1,          5,          5,2,20090419,       0100,   -34.8002,    72.7994,       4742,  3832.9,   1.1613,  34.7105,2,  34.7104,2,    195.6,2,   196.4,2,  126.49,2,   33.00,2,    0.00,2,    2.33,2,   0.010,2,   0.009,2,   0.0330,2,  2274.0,2,  2377.5,2,   7.6822,2,    20.00,-999.000,9,-999.000,9,-999.000,9,   1.1622,2,-999.000,9, -999.00,9, -999.00,-999.000,9,-999.000, -999.00,9, -999.00,9, -34.8002,  72.7992,-999.000,-999.000,20090419,       0120
33RR20090320,        I05,     100,          1,          4,          4,2,20090419,       0100,   -34.8002,    72.7994,       4742,  4136.4,   1.0894,  34.7071,2,  34.7069,2,    198.9,2,   199.1,2,  127.24,2,   33.05,2,    0.00,2,    2.32,2,   0.011,2,   0.009,2,   0.0300,2,  2272.9,2,  2377.0,2,   7.6837,2,    20.00,-999.000,9,-999.000,9,-999.000,9,   1.0894,2,-999.000,9, -999.00,9, -999.00,-999.000,9,-999.000, -999.00,9, -999.00,9, -34.8002,  72.7993,-999.000,-999.000,20090419,       0114
33RR20090320,        I05,     100,          1,          3,          3,2,20090419,       0100,   -34.8002,    72.7994,       4742,  4446.4,   1.0356,  34.7046,2,  34.7045,2,    201.6,2,   201.7,2,  126.85,2,   32.93,2,    0.00,2,    2.31,2,   0.015,2,   0.012,2,  -0.0050,2,  2271.1,2,  2375.4,2,   7.6845,2,    20.00,-999.000,9,-999.000,9,-999.000,9,   1.0352,2,-999.000,9, -999.00,9, -999.00,-999.000,9,-999.000, -999.00,9, -999.00,9, -34.8002,  72.7994,-999.000,-999.000,20090419,       0108
33RR20090320,        I05,     100,          1,          2,          2,2,20090419,       0100,   -34.8002,    72.7994,       4742,  4623.6,   1.0201,  34.7036,2,  34.7032,2,    203.3,2,   202.9,2,  128.71,2,   32.87,2,    0.00,2,    2.31,2,   0.017,2,   0.014,2,   0.0230,2,  2271.3,2,  2376.1,2,   7.6850,2,    20.00,-999.000,9,-999.000,9,-999.000,9,   1.0198,2,-999.000,9, -999.00,9, -999.00,-999.000,9,-999.000, -999.00,9, -999.00,9, -34.8002,  72.7995,-999.000,-999.000,20090419,       0104
33RR20090320,        I05,     100,          1,          1,          1,2,20090419,       0100,   -34.8002,    72.7994,       4742,  4813.5,   1.0292,  34.7030,2,  34.7040,2,    203.5,2,   203.3,2,  128.70,2,   32.97,2,    0.00,2,    2.31,2,   0.015,2,   0.012,2,   0.0150,2,  2272.4,6,  2376.7,2,   7.6847,2,    20.00,-999.000,9,-999.000,9,-999.000,9,   1.0289,2,-999.000,9, -999.00,9, -999.00,-999.000,9,-999.000, -999.00,9, -999.00,9, -34.8002,  72.7994,-999.000,-999.000,20090419,       0100