BOTTLE,20220814CCHSIOAMB
EXPOCODE,SECT_ID,STNNBR,CASTNO,SAMPNO,BTLNBR,BTLNBR_FLAG_W,DATE,TIME,LATITUDE,LONGITUDE,DEPTH,CTDPRS,CTDTMP,CTDSAL,CTDSAL_FLAG_W,SALNTY,SALNTY_FLAG_W,CTDOXY,CTDOXY_FLAG_W,OXYGEN,OXYGEN_FLAG_W,SILCAT,SILCAT_FLAG_W,NITRAT,NITRAT_FLAG_W,NITRIT,NITRIT_FLAG_W,PHSPHT,PHSPHT_FLAG_W,CFC-11,CFC-11_FLAG_W,CFC-12,CFC-12_FLAG_W,SF6,SF6_FLAG_W,TCARBN,TCARBN_FLAG_W,ALKALI,ALKALI_FLAG_W,PH_TOT,PH_TOT_FLAG_W,PH_TMP,TRITUM,TRITUM_FLAG_W,HELIUM,HELIUM_FLAG_W,DELHE3,DELHE3_FLAG_W,REFTMP,REFTMP_FLAG_W,DELC13,DELC13_FLAG_W,DELC14,DELC14_FLAG_W,C14ERR,NEON,NEON_FLAG_W,NEONER,DOC,DOC_FLAG_W,TDN,TDN_FLAG_W,BTL_LAT,BTL_LON,HELIER,DELHER,BTL_DATE,BTL_TIME
,,,,,,,,,,,METERS,DBAR,ITS-90,PSS-78,,PSS-78,,UMOL/KG,,UMOL/KG,,UMOL/KG,,UMOL/KG,,UMOL/KG,,UMOL/KG,,PMOL/KG,,PMOL/KG,,FMOL/KG,,UMOL/KG,,UMOL/KG,,,,DEG C,TU,,NMOL/KG,,PERCNT,,DEG C,,/MILLE,,/MILLE,,/MILLE,NMOL/KG,,NMOL/KG,UMOL/KG,,UMOL/KG,,,,NMOL/KG,PERCNT,,
33RR20090320,        I05,      43,          2,         36,         36,2,20090402,       1617,   -33.0721,    45.0696,       1142,     3.7,  23.5578,  35.6253,2,  35.6259,2,    213.8,2,   214.2,2,    1.39,2,    0.22,2,    0.00,2,    0.06,2,   1.837,2,   1.132,2,   1.1010,2,  2023.8,6,  2334.1,2,   8.1327,2,    20.00,-999.000,9,-999.000,9,-999.000,9,-999.0000,9,-999.000,9, -999.00,9, -999.00,-999.000,9,-999.000, -999.00,9, -999.00,9, -33.0720,  45.0698,-999.000,-999.000,20090402,       1710
33RR20090320,        I05,      43,          2,         22,         22,2,20090402,       1617,   -33.0721,    45.0696,       1142,    21.0,  23.3324,  35.6354,2,  35.6352,2,    215.4,2,   215.7,2,    1.25,2,    0.19,2,    0.00,2,    0.05,2,   1.863,2,   1.149,2,   1.1120,2,  2024.0,2,  2332.8,2,   8.1299,2,    20.00,-999.000,9,-999.000,9,-999.000,9,  23.3328,2,-999.000,9, -999.00,9, -999.00,-999.000,9,-999.000, -999.00,9, -999.00,9, -33.0721,  45.0699,-999.000,-999.000,20090402,       1707
33RR20090320,        I05,      43,          2,         21,         21,2,20090402,       1617,   -33.0721,    45.0696,       1142,    39.1,  23.0666,  35.6629,2,  35.6636,2,    217.4,2,   216.6,2,    1.11,2,    0.19,2,    0.00,2,    0.04,2,   1.867,2,   1.135,2,   1.0270,2,  2024.6,2,  2335.3,2,   8.1314,2,    20.00,-999.000,9,-999.000,9,-999.000,9,  23.0649,2,-999.000,9, -999.00,9, -999.00,-999.000,9,-999.000, -999.00,9, -999.00,9, -33.0722,  45.0699,-999.000,-999.000,20090402,       1706
33RR20090320,        I05,      43,          2,         20,         20,2,20090402,       1617,   -33.0721,    45.0696,       1142,    63.8,  22.1802,  35.6439,2,  35.6433,2,    225.3,2,   225.4,2,    1.36,2,    0.20,2,    0.00,2,    0.06,2,   1.995,2,   1.215,2,   1.1700,2,  2030.6,2,  2333.3,2,   8.1207,2,    20.00,-999.000,9,-999.000,9,-999.000,9,  22.1758,2,-999.000,9, -999.00,9, -999.00,-999.000,9,-999.000, -999.00,9, -999.00,9, -33.0722,  45.0699,-999.000,-999.000,20090402,       1704
33RR20090320,        I05,      43,          2,         19,         19,2,20090402,       1617,   -33.0721,    45.0696,       1142,    89.1,  19.1679,  35.5715,2,  35.5707,2,    231.5,2,   232.6,2,    1.80,2,    0.28,2,    0.03,2,    0.14,2,   2.284,2,   1.374,2,   1.2520,2,  2049.1,2,  2331.3,2,   8.0826,2,    20.00,-999.000,9,-999.000,9,-999.000,9,  19.1511,2,-999.000,9, -999.00,9, -999.00,-999.000,9,-999.000, -999.00,9, -999.00,9, -33.0723,  45.0699,-999.000,-999.000,20090402,       1702
33RR20090320,        I05,      43,          2,         18,         18,2,20090402,       1617,   -33.0721,    45.0696,       1142,   114.9,  18.0219,  35.5619,2,  35.5616,2,    218.2,2,   218.0,2,    2.22,2,    1.73,2,    0.07,2,    0.24,2,-999.000,9,-999.000,9,-999.0000,9,  -999.0,9,  -999.0,9,-999.0000,9,  -999.00,-999.000,9,-999.000,9,-999.000,9,  18.0187,2,-999.000,9, -999.00,9, -999.00,-999.000,9,-999.000, -999.00,9, -999.00,9, -33.0724,  45.0699,-999.000,-999.000,20090402,       1701
33RR20090320,        I05,      43,          2,         17,         17,2,20090402,       1617,   -33.0721,    45.0696,       1142,   139.3,  17.3670,  35.5550,2,  35.5553,2,    212.7,2,   213.0,2,    2.66,2,    3.05,2,    0.02,2,    0.32,2,   2.394,2,   1.426,2,   1.2370,2,  2074.5,2,  2328.0,2,   8.0330,2,    20.00,-999.000,9,-999.000,9,-999.000,9,  17.3756,2,-999.000,9, -999.00,9, -999.00,-999.000,9,-999.000, -999.00,9, -999.00,9, -33.0724,  45.0699,-999.000,-999.000,20090402,       1700
33RR20090320,        I05,      43,          2,         16,         16,2,20090402,       1617,   -33.0721,    45.0696,       1142,   162.5,  16.8819,  35.5467,2,  35.5462,2,    214.7,2,   214.5,2,    2.72,2,    3.94,2,    0.01,2,    0.36,2,-999.000,9,-999.000,9,-999.0000,9,  -999.0,9,  -999.0,9,-999.0000,9,  -999.00,-999.000,9,-999.000,9,-999.000,9,  16.8926,2,-999.000,9, -999.00,9, -999.00,-999.000,9,-999.000, -999.00,9, -999.00,9, -33.0725,  45.0699,-999.000,-999.000,20090402,       1658
33RR20090320,        I05,      43,          2,         15,         15,2,20090402,       1617,   -33.0721,    45.0696,       1142,   188.7,  16.6211,  35.5380,2,  35.5393,2,    215.2,2,   213.7,2,    2.78,2,    4.33,2,    0.01,2,    0.39,2,   2.453,2,   1.467,2,   1.2000,2,  2082.4,2,  2328.4,2,   8.0177,2,    20.00,-999.000,9,-999.000,9,-999.000,9,  16.6162,2,-999.000,9, -999.00,9, -999.00,-999.000,9,-999.000, -999.00,9, -999.00,9, -33.0725,  45.0698,-999.000,-999.000,20090402,       1656
33RR20090320,        I05,      43,          2,         14,         14,2,20090402,       1617,   -33.0721,    45.0696,       1142,   213.8,  16.3038,  35.5185,2,  35.5181,2,    214.6,2,   214.0,2,    3.02,2,    4.89,2,    0.01,2,    0.43,2,-999.000,9,-999.000,9,-999.0000,9,  -999.0,9,  -999.0,9,-999.0000,9,  -999.00,-999.000,9,-999.000,9,-999.000,9,  16.3033,2,-999.000,9, -999.00,9, -999.00,-999.000,9,-999.000, -999.00,9, -999.00,9, -33.0724,  45.0699,-999.000,-999.000,20090402,       1654
33RR20090320,        I05,      43,          2,         13,         13,2,20090402,       1617,   -33.0721,    45.0696,       1142,   237.2,  16.1714,  35.5094,2,  35.5092,2,    213.0,2,   213.7,2,    3.08,2,    5.11,2,    0.01,2,    0.44,2,   2.501,6,   1.495,6,   1.2060,6,  2087.9,2,  2325.8,2,   8.0061,2,    20.00,-999.000,9,-999.000,9,-999.000,9,  16.1707,2,-999.000,9, -999.00,9, -999.00,-999.000,9,-999.000, -999.00,9, -999.00,9, -33.0723,  45.0699,-999.000,-999.000,20090402,       1652
33RR20090320,        I05,      43,          2,         12,         12,2,20090402,       1617,   -33.0721,    45.0696,       1142,   281.8,  15.5224,  35.4669,2,  35.4674,2,    214.2,2,   213.6,2,    3.13,2,    5.94,2,    0.00,2,    0.50,2,-999.000,9,-999.000,9,-999.0000,9,  -999.0,9,  -999.0,9,-999.0000,9,  -999.00,-999.000,9,-999.000,9,-999.000,9,  15.5082,2,-999.000,9, -999.00,9, -999.00,-999.000,9,-999.000, -999.00,9, -999.00,9, -33.0723,  45.0698,-999.000,-999.000,20090402,       1650
33RR20090320,        I05,      43,          2,         11,         11,2,20090402,       1617,   -33.0721,    45.0696,       1142,   332.1,  14.9324,  35.4297,2,  35.4307,2,    209.3,2,   209.9,2,    3.39,2,    7.05,2,    0.00,2,    0.57,2,-999.000,9,-999.000,9,-999.0000,9,  -999.0,9,  -999.0,9,-999.0000,9,  -999.00,-999.000,9,-999.000,9,-999.000,9,  14.9331,2,-999.000,9, -999.00,9, -999.00,-999.000,9,-999.000, -999.00,9, -999.00,9, -33.0723,  45.0697,-999.000,-999.000,20090402,       1647
33RR20090320,        I05,      43,          2,         10,         10,2,20090402,       1617,   -33.0721,    45.0696,       1142,   382.9,  14.2203,  35.3685,2,  35.3666,2,    211.4,2,   211.5,2,    3.44,2,    8.26,2,    0.00,2,    0.64,2,   2.793,2,   1.615,2,   1.1770,2,  2110.9,2,  2320.6,2,   7.9520,2,    20.00,-999.000,9,-999.000,9,-999.000,9,  14.2226,2,-999.000,9, -999.00,9, -999.00,-999.000,9,-999.000, -999.00,9, -999.00,9, -33.0722,  45.0697,-999.000,-999.000,20090402,       1645
33RR20090320,        I05,      43,          2,          9,          9,2,20090402,       1617,   -33.0721,    45.0696,       1142,   433.2,  13.6994,  35.3200,2,  35.3194,2,    216.0,2,   215.6,2,    3.49,2,    8.86,2,    0.00,2,    0.68,2,-999.000,9,-999.000,9,-999.0000,9,  -999.0,9,  -999.0,9,-999.0000,9,  -999.00,-999.000,9,-999.000,9,-999.000,9,  13.7004,2,-999.000,9, -999.00,9, -999.00,-999.000,9,-999.000, -999.00,9, -999.00,9, -33.0720,  45.0698,-999.000,-999.000,20090402,       1642
33RR20090320,        I05,      43,          2,          8,          8,2,20090402,       1617,   -33.0721,    45.0696,       1142,   482.5,  13.2740,  35.2674,2,  35.2673,2,    218.8,2,   217.4,2,    3.55,2,    9.64,2,    0.00,2,    0.73,2,-999.000,9,-999.000,9,-999.0000,9,  -999.0,9,  -999.0,9,-999.0000,9,  -999.00,-999.000,9,-999.000,9,-999.000,9,  13.2714,2,-999.000,9, -999.00,9, -999.00,-999.000,9,-999.000, -999.00,9, -999.00,9, -33.0720,  45.0699,-999.000,-999.000,20090402,       1640
33RR20090320,        I05,      43,          2,          7,          7,2,20090402,       1617,   -33.0721,    45.0696,       1142,   568.1,  12.6854,  35.1847,2,  35.1846,2,    219.5,2,   219.1,2,    3.60,2,   10.69,2,    0.00,2,    0.80,2,   3.025,6,   1.684,6,   1.1030,6,  2117.7,2,  2313.0,2,   7.9225,2,    20.00,-999.000,9,-999.000,9,-999.000,9,  12.6850,2,-999.000,9, -999.00,9, -999.00,-999.000,9,-999.000, -999.00,9, -999.00,9, -33.0721,  45.0697,-999.000,-999.000,20090402,       1636
33RR20090320,        I05,      43,          2,          6,          6,2,20090402,       1617,   -33.0721,    45.0696,       1142,   668.9,  11.7174,  35.0419,2,  35.0425,2,    219.7,2,   219.5,2,    4.05,2,   12.72,2,    0.00,2,    0.93,2,-999.000,9,-999.000,9,-999.0000,9,  -999.0,9,  -999.0,9,-999.0000,9,  -999.00,-999.000,9,-999.000,9,-999.000,9,  11.7171,2,-999.000,9, -999.00,9, -999.00,-999.000,9,-999.000, -999.00,9, -999.00,9, -33.0722,  45.0695,-999.000,-999.000,20090402,       1632
33RR20090320,        I05,      43,          2,          5,          5,2,20090402,       1617,   -33.0721,    45.0696,       1142,   768.3,  10.6425,  34.8906,2,  34.8868,2,    220.2,2,   220.2,2,    5.08,2,   15.13,2,    0.00,2,    1.08,2,-999.000,9,-999.000,9,-999.0000,9,  -999.0,9,  -999.0,9,-999.0000,9,  -999.00,-999.000,9,-999.000,9,-999.000,9,  10.6431,2,-999.000,9, -999.00,9, -999.00,-999.000,9,-999.000, -999.00,9, -999.00,9, -33.0720,  45.0697,-999.000,-999.000,20090402,       1629
33RR20090320,        I05,      43,          2,          4,          4,2,20090402,       1617,   -33.0721,    45.0696,       1142,   868.5,   9.2062,  34.7131,2,  34.7158,2,    212.7,2,   211.8,2,    8.82,2,   19.10,2,    0.00,2,    1.35,2,   2.803,2,   1.457,2,   0.7020,2,  2141.7,2,  2297.1,2,   7.8285,2,    20.00,-999.000,9,-999.000,9,-999.000,9,   9.2119,2,-999.000,9, -999.00,9, -999.00,-999.000,9,-999.000, -999.00,9, -999.00,9, -33.0720,  45.0697,-999.000,-999.000,20090402,       1626
33RR20090320,        I05,      43,          2,          3,          3,2,20090402,       1617,   -33.0721,    45.0696,       1142,   962.5,   7.7333,  34.5716,2,  34.5712,2,    203.5,2,   203.0,2,   15.11,2,   23.45,2,    0.00,2,    1.65,2,-999.000,9,-999.000,9,-999.0000,9,  -999.0,9,  -999.0,9,-999.0000,9,  -999.00,-999.000,9,-999.000,9,-999.000,9,   7.7356,2,-999.000,9, -999.00,9, -999.00,-999.000,9,-999.000, -999.00,9, -999.00,9, -33.0720,  45.0697,-999.000,-999.000,20090402,       1623
33RR20090320,        I05,      43,          2,          2,          2,2,20090402,       1617,   -33.0721,    45.0696,       1142,  1055.2,   6.5607,  34.4739,2,  34.4753,2,    202.8,2,   203.3,2,   19.86,2,   26.21,2,    0.00,2,    1.85,2,-999.000,9,-999.000,9,-999.0000,9,  -999.0,9,  -999.0,9,-999.0000,9,  -999.00,-999.000,9,-999.000,9,-999.000,9,   6.5760,2,-999.000,9, -999.00,9, -999.00,-999.000,9,-999.000, -999.00,9, -999.00,9, -33.0721,  45.0695,-999.000,-999.000,20090402,       1620
33RR20090320,        I05,      43,          2,          1,          1,2,20090402,       1617,   -33.0721,    45.0696,       1142,  1138.5,   5.7308,  34.4347,2,  34.4353,2,    201.2,2,   200.6,2,   26.00,2,   28.21,2,    0.00,2,    1.99,2,   2.087,2,   1.048,2,   0.4500,2,  2185.1,6,  2298.3,2,   7.7234,2,    20.00,-999.000,9,-999.000,9,-999.000,9,   5.7298,2,-999.000,9, -999.00,9, -999.00,-999.000,9,-999.000, -999.00,9, -999.00,9, -33.0721,  45.0696,-999.000,-999.000,20090402,       1617