BOTTLE,20220814CCHSIOAMB
EXPOCODE,SECT_ID,STNNBR,CASTNO,SAMPNO,BTLNBR,BTLNBR_FLAG_W,DATE,TIME,LATITUDE,LONGITUDE,DEPTH,CTDPRS,CTDTMP,CTDSAL,CTDSAL_FLAG_W,SALNTY,SALNTY_FLAG_W,CTDOXY,CTDOXY_FLAG_W,OXYGEN,OXYGEN_FLAG_W,SILCAT,SILCAT_FLAG_W,NITRAT,NITRAT_FLAG_W,NITRIT,NITRIT_FLAG_W,PHSPHT,PHSPHT_FLAG_W,CFC-11,CFC-11_FLAG_W,CFC-12,CFC-12_FLAG_W,SF6,SF6_FLAG_W,TCARBN,TCARBN_FLAG_W,ALKALI,ALKALI_FLAG_W,PH_TOT,PH_TOT_FLAG_W,PH_TMP,TRITUM,TRITUM_FLAG_W,HELIUM,HELIUM_FLAG_W,DELHE3,DELHE3_FLAG_W,REFTMP,REFTMP_FLAG_W,DELC13,DELC13_FLAG_W,DELC14,DELC14_FLAG_W,C14ERR,NEON,NEON_FLAG_W,NEONER,DOC,DOC_FLAG_W,TDN,TDN_FLAG_W,BTL_LAT,BTL_LON,HELIER,DELHER,BTL_DATE,BTL_TIME
,,,,,,,,,,,METERS,DBAR,ITS-90,PSS-78,,PSS-78,,UMOL/KG,,UMOL/KG,,UMOL/KG,,UMOL/KG,,UMOL/KG,,UMOL/KG,,PMOL/KG,,PMOL/KG,,FMOL/KG,,UMOL/KG,,UMOL/KG,,,,DEG C,TU,,NMOL/KG,,PERCNT,,DEG C,,/MILLE,,/MILLE,,/MILLE,NMOL/KG,,NMOL/KG,UMOL/KG,,UMOL/KG,,,,NMOL/KG,PERCNT,,
33RR20090320,        I05,     150,          1,         36,         36,2,20090501,       1349,   -33.9982,    97.8487,       4388,     3.6,  18.0724,  35.8094,2,  35.8095,2,    236.3,2,   237.2,2,    0.65,2,    0.04,2,    0.00,2,    0.14,2,-999.000,9,-999.000,9,-999.0000,9,  2078.1,6,  2354.1,2,   8.0728,2,    20.00,-999.000,9,-999.000,9,-999.000,9,  18.0714,2,-999.000,9, -999.00,9, -999.00,-999.000,9,-999.000, -999.00,9, -999.00,9, -33.9981,  97.8482,-999.000,-999.000,20090501,       1543
33RR20090320,        I05,     150,          1,         35,         35,2,20090501,       1349,   -33.9982,    97.8487,       4388,    34.6,  18.0885,  35.8117,2,  35.8115,2,    238.3,2,   237.5,2,    0.64,2,    0.04,2,    0.00,2,    0.14,2,-999.000,9,-999.000,9,-999.0000,9,  2080.4,2,  2355.0,2,   8.0725,2,    20.00,-999.000,9,-999.000,9,-999.000,9,  18.0885,2,-999.000,9, -999.00,9, -999.00,-999.000,9,-999.000, -999.00,9, -999.00,9, -33.9980,  97.8482,-999.000,-999.000,20090501,       1541
33RR20090320,        I05,     150,          1,         34,         34,2,20090501,       1349,   -33.9982,    97.8487,       4388,    62.1,  18.0928,  35.8126,2,  35.8124,2,    236.4,2,   236.5,2,    0.63,2,    0.04,2,    0.00,2,    0.14,2,-999.000,9,-999.000,9,-999.0000,9,  2080.3,2,  2355.1,2,   8.0720,2,    20.00,-999.000,9,-999.000,9,-999.000,9,  18.0872,2,-999.000,9, -999.00,9, -999.00,-999.000,9,-999.000, -999.00,9, -999.00,9, -33.9980,  97.8483,-999.000,-999.000,20090501,       1539
33RR20090320,        I05,     150,          1,         33,         33,2,20090501,       1349,   -33.9982,    97.8487,       4388,    86.4,  15.7069,  35.5821,2,  35.5777,2,    249.0,2,   249.3,2,    0.80,2,    0.56,2,    0.04,2,    0.23,2,-999.000,9,-999.000,9,-999.0000,9,  2088.4,2,  2341.4,2,   8.0337,2,    20.00,-999.000,9,-999.000,9,-999.000,9,  15.6967,2,-999.000,9, -999.00,9, -999.00,-999.000,9,-999.000, -999.00,9, -999.00,9, -33.9980,  97.8483,-999.000,-999.000,20090501,       1538
33RR20090320,        I05,     150,          1,         32,         32,2,20090501,       1349,   -33.9982,    97.8487,       4388,   111.4,  13.2333,  35.2045,2,  35.2075,2,    247.2,2,   248.4,2,    1.34,2,    4.98,2,    0.53,2,    0.53,2,-999.000,9,-999.000,9,-999.0000,9,  -999.0,9,  -999.0,9,-999.0000,9,  -999.00,-999.000,9,-999.000,9,-999.000,9,  13.2580,2,-999.000,9, -999.00,9, -999.00,-999.000,9,-999.000, -999.00,9, -999.00,9, -33.9980,  97.8483,-999.000,-999.000,20090501,       1536
33RR20090320,        I05,     150,          1,         31,         31,2,20090501,       1349,   -33.9982,    97.8487,       4388,   135.9,  12.8112,  35.1664,2,  35.1634,2,    247.4,2,   247.3,2,    1.51,2,    6.18,2,    0.48,2,    0.58,2,-999.000,9,-999.000,9,-999.0000,9,  2107.4,2,  2316.5,2,   7.9544,2,    20.00,-999.000,9,-999.000,9,-999.000,9,  12.8087,2,-999.000,9, -999.00,9, -999.00,-999.000,9,-999.000, -999.00,9, -999.00,9, -33.9980,  97.8483,-999.000,-999.000,20090501,       1535
33RR20090320,        I05,     150,          1,         30,         30,2,20090501,       1349,   -33.9982,    97.8487,       4388,   166.1,  12.5178,  35.1474,2,  35.1486,2,    244.3,2,   243.5,2,    1.68,2,    7.53,2,    0.01,2,    0.62,2,-999.000,9,-999.000,9,-999.0000,9,  -999.0,9,  -999.0,9,-999.0000,9,  -999.00,-999.000,9,-999.000,9,-999.000,9,  12.5137,2,-999.000,9, -999.00,9, -999.00,-999.000,9,-999.000, -999.00,9, -999.00,9, -33.9980,  97.8483,-999.000,-999.000,20090501,       1534
33RR20090320,        I05,     150,          1,         29,         29,2,20090501,       1349,   -33.9982,    97.8487,       4388,   216.1,  12.0611,  35.0843,2,  35.0811,2,    246.1,2,   246.4,2,    1.67,2,    8.20,2,    0.00,2,    0.66,2,-999.000,9,-999.000,9,-999.0000,9,  2110.4,2,  2311.6,2,   7.9369,2,    20.00,-999.000,9,-999.000,9,-999.000,9,  12.0585,2,-999.000,9, -999.00,9, -999.00,-999.000,9,-999.000, -999.00,9, -999.00,9, -33.9980,  97.8483,-999.000,-999.000,20090501,       1532
33RR20090320,        I05,     150,          1,         28,         28,2,20090501,       1349,   -33.9982,    97.8487,       4388,   266.5,  11.7605,  35.0336,2,  35.0344,2,    249.4,2,   249.0,2,    1.84,2,    8.69,2,    0.00,2,    0.69,2,-999.000,9,-999.000,9,-999.0000,9,  -999.0,9,  -999.0,9,-999.0000,9,  -999.00,-999.000,9,-999.000,9,-999.000,9,  11.7610,2,-999.000,9, -999.00,9, -999.00,-999.000,9,-999.000, -999.00,9, -999.00,9, -33.9980,  97.8483,-999.000,-999.000,20090501,       1530
33RR20090320,        I05,     150,          1,         27,         27,2,20090501,       1349,   -33.9982,    97.8487,       4388,   316.4,  11.4004,  34.9793,2,  34.9797,2,    244.2,2,   242.5,2,    2.38,2,   10.19,2,    0.00,2,    0.78,2,-999.000,9,-999.000,9,-999.0000,9,  2114.8,2,  2306.2,2,   7.9151,2,    20.00,-999.000,9,-999.000,9,-999.000,9,  11.4003,2,-999.000,9, -999.00,9, -999.00,-999.000,9,-999.000, -999.00,9, -999.00,9, -33.9980,  97.8483,-999.000,-999.000,20090501,       1529
33RR20090320,        I05,     150,          1,         26,         26,2,20090501,       1349,   -33.9982,    97.8487,       4388,   366.6,  10.9087,  34.8953,2,  34.8957,2,    244.2,2,   244.8,2,    2.92,2,   11.56,2,    0.00,2,    0.87,2,-999.000,9,-999.000,9,-999.0000,9,  -999.0,9,  -999.0,9,-999.0000,9,  -999.00,-999.000,9,-999.000,9,-999.000,9,  10.9054,2,-999.000,9, -999.00,9, -999.00,-999.000,9,-999.000, -999.00,9, -999.00,9, -33.9979,  97.8484,-999.000,-999.000,20090501,       1527
33RR20090320,        I05,     150,          1,         25,         25,2,20090501,       1349,   -33.9982,    97.8487,       4388,   416.4,  10.5504,  34.8469,2,  34.8462,2,    242.0,2,   243.0,2,    3.08,2,   12.62,2,    0.00,2,    0.93,2,-999.000,9,-999.000,9,-999.0000,9,  2118.9,2,  2299.0,2,   7.8910,2,    20.00,-999.000,9,-999.000,9,-999.000,9,  10.5513,2,-999.000,9, -999.00,9, -999.00,-999.000,9,-999.000, -999.00,9, -999.00,9, -33.9979,  97.8484,-999.000,-999.000,20090501,       1526
33RR20090320,        I05,     150,          1,         24,         24,2,20090501,       1349,   -33.9982,    97.8487,       4388,   466.0,  10.1930,  34.8005,2,  34.8011,2,    241.5,2,   241.8,2,    3.62,2,   13.83,2,    0.00,2,    1.00,2,-999.000,9,-999.000,9,-999.0000,9,  -999.0,9,  -999.0,9,-999.0000,9,  -999.00,-999.000,9,-999.000,9,-999.000,9,  10.1918,2,-999.000,9, -999.00,9, -999.00,-999.000,9,-999.000, -999.00,9, -999.00,9, -33.9979,  97.8483,-999.000,-999.000,20090501,       1524
33RR20090320,        I05,     150,          1,         23,         23,2,20090501,       1349,   -33.9982,    97.8487,       4388,   536.0,   9.8082,  34.7492,2,  34.7488,2,    240.3,2,   239.9,2,    3.80,2,   14.93,2,    0.00,2,    1.07,2,-999.000,9,-999.000,9,-999.0000,9,  2124.1,2,  2293.0,2,   7.8663,2,    20.00,-999.000,9,-999.000,9,-999.000,9,   9.8072,2,-999.000,9, -999.00,9, -999.00,-999.000,9,-999.000, -999.00,9, -999.00,9, -33.9979,  97.8484,-999.000,-999.000,20090501,       1522
33RR20090320,        I05,     150,          1,         22,         22,2,20090501,       1349,   -33.9982,    97.8487,       4388,   635.9,   9.2676,  34.6747,2,  34.6732,2,    238.0,2,   237.9,2,    4.52,2,   16.70,2,    0.00,2,    1.18,2,-999.000,9,-999.000,9,-999.0000,9,  -999.0,9,  -999.0,9,-999.0000,9,  -999.00,-999.000,9,-999.000,9,-999.000,9,   9.2648,2,-999.000,9, -999.00,9, -999.00,-999.000,9,-999.000, -999.00,9, -999.00,9, -33.9978,  97.8484,-999.000,-999.000,20090501,       1519
33RR20090320,        I05,     150,          1,         21,         21,2,20090501,       1349,   -33.9982,    97.8487,       4388,   735.7,   8.6216,  34.5943,2,  34.5921,2,    232.6,2,   228.5,2,    6.69,2,   19.29,2,    0.00,2,    1.36,2,-999.000,9,-999.000,9,-999.0000,9,  -999.0,9,  -999.0,9,-999.0000,9,  -999.00,-999.000,9,-999.000,9,-999.000,9,   8.6338,2,-999.000,9, -999.00,9, -999.00,-999.000,9,-999.000, -999.00,9, -999.00,9, -33.9979,  97.8485,-999.000,-999.000,20090501,       1517
33RR20090320,        I05,     150,          1,         20,         20,2,20090501,       1349,   -33.9982,    97.8487,       4388,   836.1,   7.4555,  34.4952,2,  34.4970,2,    209.2,2,   206.5,2,   12.90,2,   23.94,2,    0.00,2,    1.66,2,-999.000,9,-999.000,9,-999.0000,9,  -999.0,9,  -999.0,9,-999.0000,9,  -999.00,-999.000,9,-999.000,9,-999.000,9,   7.4798,2,-999.000,9, -999.00,9, -999.00,-999.000,9,-999.000, -999.00,9, -999.00,9, -33.9979,  97.8485,-999.000,-999.000,20090501,       1514
33RR20090320,        I05,     150,          1,         19,         19,2,20090501,       1349,   -33.9982,    97.8487,       4388,   937.2,   6.0994,  34.4158,2,  34.4159,2,    197.5,2,   198.0,2,   21.33,2,   27.71,2,    0.00,2,    1.93,2,-999.000,9,-999.000,9,-999.0000,9,  2176.4,2,  2290.5,2,   7.7233,2,    20.00,-999.000,9,-999.000,9,-999.000,9,   6.0932,2,-999.000,9, -999.00,9, -999.00,-999.000,9,-999.000, -999.00,9, -999.00,9, -33.9980,  97.8486,-999.000,-999.000,20090501,       1512
33RR20090320,        I05,     150,          1,         18,         18,2,20090501,       1349,   -33.9982,    97.8487,       4388,  1036.8,   4.9028,  34.3679,2,  34.3681,2,    197.4,2,   198.2,2,   29.97,2,   30.22,2,    0.00,2,    2.12,2,-999.000,9,-999.000,9,-999.0000,9,  -999.0,9,  -999.0,9,-999.0000,9,  -999.00,-999.000,9,-999.000,9,-999.000,9,   4.8971,2,-999.000,9, -999.00,9, -999.00,-999.000,9,-999.000, -999.00,9, -999.00,9, -33.9980,  97.8485,-999.000,-999.000,20090501,       1509
33RR20090320,        I05,     150,          1,         17,         17,2,20090501,       1349,   -33.9982,    97.8487,       4388,  1136.8,   4.2712,  34.3867,2,  34.3857,2,    186.9,2,   188.5,2,   40.30,2,   31.95,2,    0.00,2,    2.25,2,-999.000,9,-999.000,9,-999.0000,9,  -999.0,9,  -999.0,9,-999.0000,9,  -999.00,-999.000,9,-999.000,9,-999.000,9,   4.2727,2,-999.000,9, -999.00,9, -999.00,-999.000,9,-999.000, -999.00,9, -999.00,9, -33.9979,  97.8485,-999.000,-999.000,20090501,       1507
33RR20090320,        I05,     150,          1,         16,         16,2,20090501,       1349,   -33.9982,    97.8487,       4388,  1237.3,   3.8277,  34.4242,2,  34.4248,2,    175.2,2,   176.6,2,   51.61,2,   33.28,2,    0.00,2,    2.37,2,-999.000,9,-999.000,9,-999.0000,9,  -999.0,9,  -999.0,9,-999.0000,9,  -999.00,-999.000,9,-999.000,9,-999.000,9,   3.8276,2,-999.000,9, -999.00,9, -999.00,-999.000,9,-999.000, -999.00,9, -999.00,9, -33.9979,  97.8484,-999.000,-999.000,20090501,       1504
33RR20090320,        I05,     150,          1,         15,         15,2,20090501,       1349,   -33.9982,    97.8487,       4388,  1331.8,   3.5467,  34.4693,2,  34.4672,2,    167.4,2,   166.6,2,   60.73,2,   34.18,2,    0.00,2,    2.45,2,-999.000,9,-999.000,9,-999.0000,9,  2239.5,2,  2324.6,2,   7.6384,2,    20.00,-999.000,9,-999.000,9,-999.000,9,   3.5497,2,-999.000,9, -999.00,9, -999.00,-999.000,9,-999.000, -999.00,9, -999.00,9, -33.9979,  97.8483,-999.000,-999.000,20090501,       1500
33RR20090320,        I05,     150,          1,         14,         14,2,20090501,       1349,   -33.9982,    97.8487,       4388,  1432.8,   3.3134,  34.5097,2,  34.5104,2,    160.9,2,   160.2,2,   68.01,2,   34.62,2,    0.00,2,    2.49,2,-999.000,9,-999.000,9,-999.0000,9,  -999.0,9,  -999.0,9,-999.0000,9,  -999.00,-999.000,9,-999.000,9,-999.000,9,   3.3119,2,-999.000,9, -999.00,9, -999.00,-999.000,9,-999.000, -999.00,9, -999.00,9, -33.9979,  97.8483,-999.000,-999.000,20090501,       1457
33RR20090320,        I05,     150,          1,         13,         13,2,20090501,       1349,   -33.9982,    97.8487,       4388,  1533.4,   3.1251,  34.5461,2,  34.5467,2,    157.5,2,   157.5,2,   73.24,2,   34.68,2,    0.00,2,    2.50,2,-999.000,9,-999.000,9,-999.0000,9,  -999.0,9,  -999.0,9,-999.0000,9,  -999.00,-999.000,9,-999.000,9,-999.000,9,   3.1244,2,-999.000,9, -999.00,9, -999.00,-999.000,9,-999.000, -999.00,9, -999.00,9, -33.9979,  97.8484,-999.000,-999.000,20090501,       1454
33RR20090320,        I05,     150,          1,         12,         12,2,20090501,       1349,   -33.9982,    97.8487,       4388,  1665.2,   2.9239,  34.5997,2,  34.5992,2,    155.9,2,   156.1,2,   79.80,2,   34.51,2,    0.00,2,    2.48,2,-999.000,9,-999.000,9,-999.0000,9,  -999.0,9,  -999.0,9,-999.0000,9,  -999.00,-999.000,9,-999.000,9,-999.000,9,   2.9248,2,-999.000,9, -999.00,9, -999.00,-999.000,9,-999.000, -999.00,9, -999.00,9, -33.9979,  97.8485,-999.000,-999.000,20090501,       1450
33RR20090320,        I05,     150,          1,         11,         11,2,20090501,       1349,   -33.9982,    97.8487,       4388,  1866.3,   2.6811,  34.6608,2,  34.6617,2,    159.3,2,   158.8,2,   88.05,2,   33.94,2,    0.00,2,    2.44,2,-999.000,9,-999.000,9,-999.0000,9,  2265.7,2,  2355.2,2,   7.6399,2,    20.00,-999.000,9,-999.000,9,-999.000,9,   2.6790,2,-999.000,9, -999.00,9, -999.00,-999.000,9,-999.000, -999.00,9, -999.00,9, -33.9979,  97.8485,-999.000,-999.000,20090501,       1445
33RR20090320,        I05,     150,          1,         10,         10,2,20090501,       1349,   -33.9982,    97.8487,       4388,  2081.8,   2.4507,  34.6993,2,  34.6978,2,    163.9,2,   164.6,2,   93.88,2,   33.27,2,    0.00,2,    2.38,2,-999.000,9,-999.000,9,-999.0000,9,  -999.0,9,  -999.0,9,-999.0000,9,  -999.00,-999.000,9,-999.000,9,-999.000,9,   2.4515,2,-999.000,9, -999.00,9, -999.00,-999.000,9,-999.000, -999.00,9, -999.00,9, -33.9980,  97.8485,-999.000,-999.000,20090501,       1440
33RR20090320,        I05,     150,          1,          9,          9,2,20090501,       1349,   -33.9982,    97.8487,       4388,  2335.5,   2.2266,  34.7242,2,  34.7228,2,    176.6,2,   178.1,2,   91.43,2,   31.98,2,    0.00,2,    2.27,2,-999.000,9,-999.000,9,-999.0000,9,  -999.0,9,  -999.0,9,-999.0000,9,  -999.00,-999.000,9,-999.000,9,-999.000,9,   2.2259,2,-999.000,9, -999.00,9, -999.00,-999.000,9,-999.000, -999.00,9, -999.00,9, -33.9980,  97.8483,-999.000,-999.000,20090501,       1434
33RR20090320,        I05,     150,          1,          8,          8,2,20090501,       1349,   -33.9982,    97.8487,       4388,  2581.4,   2.0083,  34.7413,2,  34.7415,2,    189.6,2,   189.5,2,   91.23,2,   31.09,2,    0.00,2,    2.20,2,-999.000,9,-999.000,9,-999.0000,9,  2251.3,2,  2355.7,2,   7.6823,2,    20.00,-999.000,9,-999.000,9,-999.000,9,   2.0079,2,-999.000,9, -999.00,9, -999.00,-999.000,9,-999.000, -999.00,9, -999.00,9, -33.9980,  97.8484,-999.000,-999.000,20090501,       1429
33RR20090320,        I05,     150,          1,          7,          7,2,20090501,       1349,   -33.9982,    97.8487,       4388,  2835.8,   1.7832,  34.7429,2,  34.7436,2,    195.2,2,   194.7,2,   96.69,2,   30.97,2,    0.00,2,    2.19,2,   0.015,6,   0.009,6,   0.0000,6,  -999.0,9,  -999.0,9,-999.0000,9,  -999.00,-999.000,9,-999.000,9,-999.000,9,   1.7824,2,-999.000,9, -999.00,9, -999.00,-999.000,9,-999.000, -999.00,9, -999.00,9, -33.9980,  97.8485,-999.000,-999.000,20090501,       1422
33RR20090320,        I05,     150,          1,          6,          6,2,20090501,       1349,   -33.9982,    97.8487,       4388,  3098.8,   1.5397,  34.7373,2,  34.7383,2,    198.4,2,   198.6,2,  103.48,2,   31.14,2,    0.00,2,    2.20,2,-999.000,9,-999.000,9,-999.0000,9,  -999.0,9,  -999.0,9,-999.0000,9,  -999.00,-999.000,9,-999.000,9,-999.000,9,   1.5398,2,-999.000,9, -999.00,9, -999.00,-999.000,9,-999.000, -999.00,9, -999.00,9, -33.9981,  97.8485,-999.000,-999.000,20090501,       1416
33RR20090320,        I05,     150,          1,          5,          5,2,20090501,       1349,   -33.9982,    97.8487,       4388,  3401.8,   1.3278,  34.7291,2,  34.7293,2,    201.5,2,   201.8,2,  109.91,2,   31.48,2,    0.00,2,    2.22,2,   0.029,6,   0.015,6,   0.0040,6,  2258.3,2,  2361.7,2,   7.6867,2,    20.00,-999.000,9,-999.000,9,-999.000,9,   1.3278,2,-999.000,9, -999.00,9, -999.00,-999.000,9,-999.000, -999.00,9, -999.00,9, -33.9982,  97.8483,-999.000,-999.000,20090501,       1410
33RR20090320,        I05,     150,          1,          4,          4,2,20090501,       1349,   -33.9982,    97.8487,       4388,  3701.8,   1.1521,  34.7205,2,  34.7211,2,    203.5,2,   204.2,2,  115.60,2,   31.76,2,    0.00,2,    2.24,2,-999.000,9,-999.000,9,-999.0000,9,  -999.0,9,  -999.0,9,-999.0000,9,  -999.00,-999.000,9,-999.000,9,-999.000,9,   1.1516,2,-999.000,9, -999.00,9, -999.00,-999.000,9,-999.000, -999.00,9, -999.00,9, -33.9983,  97.8485,-999.000,-999.000,20090501,       1404
33RR20090320,        I05,     150,          1,          3,          3,2,20090501,       1349,   -33.9982,    97.8487,       4388,  4001.6,   1.0600,  34.7150,2,  34.7154,2,    204.5,2,   205.2,2,  118.82,2,   31.98,2,    0.00,2,    2.25,2,   0.039,6,   0.020,6,   0.0000,6,  -999.0,9,  -999.0,9,-999.0000,9,  -999.00,-999.000,9,-999.000,9,-999.000,9,   1.0598,2,-999.000,9, -999.00,9, -999.00,-999.000,9,-999.000, -999.00,9, -999.00,9, -33.9983,  97.8486,-999.000,-999.000,20090501,       1358
33RR20090320,        I05,     150,          1,          2,          2,2,20090501,       1349,   -33.9982,    97.8487,       4388,  4292.1,   1.0222,  34.7119,2,  34.7126,2,    205.5,2,   205.8,2,  120.71,2,   32.15,2,    0.00,2,    2.26,2,-999.000,9,-999.000,9,-999.0000,9,  -999.0,9,  -999.0,9,-999.0000,9,  -999.00,-999.000,9,-999.000,9,-999.000,9,   1.0222,2,-999.000,9, -999.00,9, -999.00,-999.000,9,-999.000, -999.00,9, -999.00,9, -33.9982,  97.8486,-999.000,-999.000,20090501,       1352
33RR20090320,        I05,     150,          1,          1,          1,2,20090501,       1349,   -33.9982,    97.8487,       4388,  4450.9,   1.0211,  34.7110,2,  34.7119,2,    205.6,2,   206.1,2,  121.28,2,   32.20,2,    0.00,2,    2.27,2,-999.000,9,-999.000,9,-999.0000,9,  2268.5,6,  2374.7,2,   7.6926,2,    20.00,-999.000,9,-999.000,9,-999.000,9,   1.0207,2,-999.000,9, -999.00,9, -999.00,-999.000,9,-999.000, -999.00,9, -999.00,9, -33.9982,  97.8487,-999.000,-999.000,20090501,       1349