BOTTLE,20220814CCHSIOAMB
EXPOCODE,SECT_ID,STNNBR,CASTNO,SAMPNO,BTLNBR,BTLNBR_FLAG_W,DATE,TIME,LATITUDE,LONGITUDE,DEPTH,CTDPRS,CTDTMP,CTDSAL,CTDSAL_FLAG_W,SALNTY,SALNTY_FLAG_W,CTDOXY,CTDOXY_FLAG_W,OXYGEN,OXYGEN_FLAG_W,SILCAT,SILCAT_FLAG_W,NITRAT,NITRAT_FLAG_W,NITRIT,NITRIT_FLAG_W,PHSPHT,PHSPHT_FLAG_W,CFC-11,CFC-11_FLAG_W,CFC-12,CFC-12_FLAG_W,SF6,SF6_FLAG_W,TCARBN,TCARBN_FLAG_W,ALKALI,ALKALI_FLAG_W,PH_TOT,PH_TOT_FLAG_W,PH_TMP,TRITUM,TRITUM_FLAG_W,HELIUM,HELIUM_FLAG_W,DELHE3,DELHE3_FLAG_W,REFTMP,REFTMP_FLAG_W,DELC13,DELC13_FLAG_W,DELC14,DELC14_FLAG_W,C14ERR,NEON,NEON_FLAG_W,NEONER,DOC,DOC_FLAG_W,TDN,TDN_FLAG_W,BTL_LAT,BTL_LON,HELIER,DELHER,BTL_DATE,BTL_TIME
,,,,,,,,,,,METERS,DBAR,ITS-90,PSS-78,,PSS-78,,UMOL/KG,,UMOL/KG,,UMOL/KG,,UMOL/KG,,UMOL/KG,,UMOL/KG,,PMOL/KG,,PMOL/KG,,FMOL/KG,,UMOL/KG,,UMOL/KG,,,,DEG C,TU,,NMOL/KG,,PERCNT,,DEG C,,/MILLE,,/MILLE,,/MILLE,NMOL/KG,,NMOL/KG,UMOL/KG,,UMOL/KG,,,,NMOL/KG,PERCNT,,
33RR20090320,        I05,     125,          1,         36,         36,2,20090425,       1006,   -31.1971,    84.9734,       4396,     4.0,  21.2807,  36.0220,2,  36.0223,2,    223.3,2,   222.7,2,    1.86,2,    0.13,2,    0.00,2,    0.12,2,   2.006,6,   1.198,6,   1.0770,6,  2067.2,6,  2364.3,2,   8.1019,2,    20.00,-999.000,9,-999.000,9,-999.000,9,  21.2794,2,-999.000,9, -999.00,9, -999.00,-999.000,9,-999.000,   67.97,2,    3.90,2, -31.1974,  84.9739,-999.000,-999.000,20090425,       1207
33RR20090320,        I05,     125,          1,         35,         35,2,20090425,       1006,   -31.1971,    84.9734,       4396,    25.9,  21.3253,  36.0723,2,  36.0733,2,    222.7,2,   222.6,2,    1.84,2,    0.13,2,    0.00,2,    0.12,2,   2.061,2,   1.232,2,   1.1080,2,  2070.1,2,  2369.0,2,   8.1012,2,    20.00,-999.000,9,-999.000,9,-999.000,9,  21.3216,2,-999.000,9, -999.00,9, -999.00,-999.000,9,-999.000,   67.97,2,    4.40,2, -31.1974,  84.9738,-999.000,-999.000,20090425,       1205
33RR20090320,        I05,     125,          1,         34,         34,2,20090425,       1006,   -31.1971,    84.9734,       4396,    50.9,  21.2808,  36.0668,2,  36.0593,2,    223.8,2,   224.4,2,    1.83,2,    0.14,2,    0.00,2,    0.12,2,   2.079,2,   1.233,2,   1.0860,2,  2069.4,2,  2366.3,2,   8.0994,2,    20.00,-999.000,9,-999.000,9,-999.000,9,  21.2685,2,-999.000,9, -999.00,9, -999.00,-999.000,9,-999.000,   67.50,2,    4.00,2, -31.1975,  84.9739,-999.000,-999.000,20090425,       1203
33RR20090320,        I05,     125,          1,         33,         33,2,20090425,       1006,   -31.1971,    84.9734,       4396,    76.0,  17.7237,  35.7270,2,  35.7161,2,    253.2,2,   254.2,2,    1.46,2,    0.14,2,    0.00,2,    0.16,2,   2.614,2,   1.507,2,   1.2880,2,  2069.8,2,  2348.5,2,   8.0730,2,    20.00,-999.000,9,-999.000,9,-999.000,9,  17.7211,2,-999.000,9, -999.00,9, -999.00,-999.000,9,-999.000,   65.78,2,    4.54,2, -31.1975,  84.9739,-999.000,-999.000,20090425,       1202
33RR20090320,        I05,     125,          1,         32,         32,2,20090425,       1006,   -31.1971,    84.9734,       4396,   100.8,  16.4295,  35.6434,2,  35.6444,2,    249.6,2,   246.9,2,    1.27,2,    0.14,2,    0.00,2,    0.20,2,   2.657,2,   1.538,2,   1.1900,2,  2079.1,2,  2344.3,2,   8.0504,2,    20.00,-999.000,9,-999.000,9,-999.000,9,  16.4246,2,-999.000,9, -999.00,9, -999.00,-999.000,9,-999.000,   62.74,2,    4.33,2, -31.1975,  84.9739,-999.000,-999.000,20090425,       1200
33RR20090320,        I05,     125,          1,         31,         31,2,20090425,       1006,   -31.1971,    84.9734,       4396,   126.3,  15.5441,  35.5463,2,  35.5393,2,    230.6,2,   230.5,2,    1.62,2,    1.88,2,    0.08,2,    0.33,2,   2.724,2,   1.569,2,   1.2490,2,  2093.5,2,  2338.4,2,   8.0121,2,    20.00,-999.000,9,-999.000,9,-999.000,9,  15.5384,2,-999.000,9, -999.00,9, -999.00,-999.000,9,-999.000,   57.54,2,    5.82,2, -31.1975,  84.9739,-999.000,-999.000,20090425,       1158
33RR20090320,        I05,     125,          1,         30,         30,2,20090425,       1006,   -31.1971,    84.9734,       4396,   150.7,  14.7735,  35.4326,2,  35.4432,2,    232.4,2,   232.1,2,    1.79,2,    3.06,2,    0.14,2,    0.39,2,   2.799,2,   1.618,2,   1.3250,2,  2097.0,2,  2332.1,2,   7.9971,2,    20.00,-999.000,9,-999.000,9,-999.000,9,  14.7747,2,-999.000,9, -999.00,9, -999.00,-999.000,9,-999.000,   54.72,2,    7.45,2, -31.1974,  84.9738,-999.000,-999.000,20090425,       1157
33RR20090320,        I05,     125,          1,         29,         29,2,20090425,       1006,   -31.1971,    84.9734,       4396,   200.9,  13.2941,  35.2180,2,  35.2163,2,    232.4,2,   233.8,2,    2.30,2,    6.74,2,    0.01,2,    0.59,2,   3.064,2,   1.729,2,   1.3360,2,  2104.7,2,  2318.0,2,   7.9552,2,    20.00,-999.000,9,-999.000,9,-999.000,9,  13.2822,2,-999.000,9, -999.00,9, -999.00,-999.000,9,-999.000,   52.28,2,   10.21,2, -31.1974,  84.9737,-999.000,-999.000,20090425,       1154
33RR20090320,        I05,     125,          1,         28,         28,2,20090425,       1006,   -31.1971,    84.9734,       4396,   250.5,  12.5782,  35.1470,2,  35.1490,2,    231.9,2,   232.6,2,    2.83,2,    8.66,2,    0.00,2,    0.69,2,   3.023,2,   1.699,2,   1.3090,2,  2113.8,2,  2314.9,2,   7.9348,2,    20.00,-999.000,9,-999.000,9,-999.000,9,  12.5784,2,-999.000,9, -999.00,9, -999.00,-999.000,9,-999.000,   50.65,2,   11.39,2, -31.1973,  84.9736,-999.000,-999.000,20090425,       1151
33RR20090320,        I05,     125,          1,         27,         27,2,20090425,       1006,   -31.1971,    84.9734,       4396,   300.2,  12.0182,  35.0699,2,  35.0661,2,    235.4,2,   236.4,2,    3.35,2,   10.07,2,    0.00,2,    0.77,2,   3.233,2,   1.794,2,   1.2940,2,  2115.2,2,  2310.8,2,   7.9221,2,    20.00,-999.000,9,-999.000,9,-999.000,9,  12.0176,2,-999.000,9, -999.00,9, -999.00,-999.000,9,-999.000,   49.22,2,   12.92,2, -31.1973,  84.9736,-999.000,-999.000,20090425,       1149
33RR20090320,        I05,     125,          1,         26,         26,2,20090425,       1006,   -31.1971,    84.9734,       4396,   350.3,  11.5549,  34.9976,2,  34.9982,2,    239.6,2,   240.4,2,    3.88,2,   11.10,2,    0.00,2,    0.84,2,   3.305,2,   1.828,2,   1.2800,2,  2116.1,2,  2305.9,2,   7.9143,2,    20.00,-999.000,9,-999.000,9,-999.000,9,  11.5552,2,-999.000,9, -999.00,9, -999.00,-999.000,9,-999.000,   48.21,2,   13.68,2, -31.1972,  84.9736,-999.000,-999.000,20090425,       1147
33RR20090320,        I05,     125,          1,         25,         25,2,20090425,       1006,   -31.1971,    84.9734,       4396,   400.6,  11.2724,  34.9588,2,  34.9581,2,    240.4,2,   240.7,2,    3.86,2,   11.68,2,    0.00,2,    0.87,2,   3.372,2,   1.858,2,   1.3420,2,  2115.7,2,  2305.4,2,   7.9080,2,    20.00,-999.000,9,-999.000,9,-999.000,9,  11.2713,2,-999.000,9, -999.00,9, -999.00,-999.000,9,-999.000,   47.48,2,   14.10,2, -31.1972,  84.9736,-999.000,-999.000,20090425,       1144
33RR20090320,        I05,     125,          1,         24,         24,2,20090425,       1006,   -31.1971,    84.9734,       4396,   450.1,  11.1011,  34.9524,2,  34.9500,2,    237.6,2,   236.7,2,    3.85,2,   12.09,2,    0.00,2,    0.90,2,   3.408,2,   1.842,2,   1.2270,2,  2119.6,2,  2304.6,2,   7.9019,2,    20.00,-999.000,9,-999.000,9,-999.000,9,  11.1058,2,-999.000,9, -999.00,9, -999.00,-999.000,9,-999.000,   45.61,2,   14.31,2, -31.1972,  84.9737,-999.000,-999.000,20090425,       1142
33RR20090320,        I05,     125,          1,         23,         23,2,20090425,       1006,   -31.1971,    84.9734,       4396,   499.8,  10.6655,  34.8832,2,  34.8851,2,    237.2,2,   237.1,2,    4.19,2,   13.18,2,    0.00,2,    0.97,2,   3.490,2,   1.875,2,   1.2210,2,  2121.5,2,  2302.9,2,   7.8912,2,    20.00,-999.000,9,-999.000,9,-999.000,9,  10.6742,2,-999.000,9, -999.00,9, -999.00,-999.000,9,-999.000,   44.98,2,   14.60,2, -31.1972,  84.9738,-999.000,-999.000,20090425,       1139
33RR20090320,        I05,     125,          1,         22,         22,2,20090425,       1006,   -31.1971,    84.9734,       4396,   600.9,   9.9066,  34.7734,2,  34.7775,2,    236.5,2,   236.4,2,    4.72,2,   15.20,2,    0.00,2,    1.09,2,   3.589,2,   1.884,2,   1.1000,2,  2128.2,2,  2296.6,2,   7.8708,2,    20.00,-999.000,9,-999.000,9,-999.000,9,   9.9127,2,-999.000,9, -999.00,9, -999.00,-999.000,9,-999.000,   44.07,2,   16.90,2, -31.1972,  84.9738,-999.000,-999.000,20090425,       1136
33RR20090320,        I05,     125,          1,         21,         21,2,20090425,       1006,   -31.1971,    84.9734,       4396,   700.0,   9.2159,  34.6786,2,  34.6816,2,    227.6,2,   228.1,2,    6.32,2,   17.70,2,    0.00,2,    1.25,2,   3.476,2,   1.777,2,   0.8720,2,  2134.5,2,  2293.8,2,   7.8448,2,    20.00,-999.000,9,-999.000,9,-999.000,9,   9.2207,2,-999.000,9, -999.00,9, -999.00,-999.000,9,-999.000,   43.17,2,   19.62,2, -31.1971,  84.9739,-999.000,-999.000,20090425,       1133
33RR20090320,        I05,     125,          1,         20,         20,2,20090425,       1006,   -31.1971,    84.9734,       4396,   800.4,   7.8923,  34.5456,2,  34.5457,2,    210.4,2,   209.6,2,   12.22,2,   22.71,2,    0.00,2,    1.59,2,   2.781,2,   1.379,2,   0.5950,2,  2154.7,2,  2290.4,2,   7.7869,2,    20.00,-999.000,9,-999.000,9,-999.000,9,   7.8965,2,-999.000,9, -999.00,9, -999.00,-999.000,9,-999.000,   42.44,2,   24.34,2, -31.1971,  84.9738,-999.000,-999.000,20090425,       1130
33RR20090320,        I05,     125,          1,         19,         19,2,20090425,       1006,   -31.1971,    84.9734,       4396,   900.6,   6.7343,  34.4583,2,  34.4607,2,    201.7,2,   202.1,2,   17.97,2,   26.06,2,    0.00,2,    1.83,2,   2.295,2,   1.118,2,   0.4110,2,  2168.7,2,  2292.8,2,   7.7482,2,    20.00,-999.000,9,-999.000,9,-999.000,9,   6.7427,2,-999.000,9, -999.00,9, -999.00,-999.000,9,-999.000,   41.71,2,   27.64,2, -31.1971,  84.9738,-999.000,-999.000,20090425,       1128
33RR20090320,        I05,     125,          1,         18,         18,2,20090425,       1006,   -31.1971,    84.9734,       4396,  1000.8,   5.1081,  34.3825,2,  34.3833,2,    196.5,2,   197.5,2,   29.70,2,   30.00,2,    0.00,2,    2.11,2,   1.722,2,   0.831,2,   0.2450,2,  2192.1,2,  -999.0,9,   7.7033,2,    20.00,-999.000,9,-999.000,9,-999.000,9,   5.1098,2,-999.000,9, -999.00,9, -999.00,-999.000,9,-999.000,   40.92,2,   31.45,2, -31.1971,  84.9738,-999.000,-999.000,20090425,       1125
33RR20090320,        I05,     125,          1,         17,         17,2,20090425,       1006,   -31.1971,    84.9734,       4396,  1101.3,   4.4727,  34.4123,2,  34.4140,2,    181.6,2,   180.0,2,   43.31,2,   32.31,2,    0.00,2,    2.29,2,   0.924,2,   0.435,2,   0.1220,2,  2216.5,2,  2311.0,2,   7.6728,2,    20.00,-999.000,9,-999.000,9,-999.000,9,   4.4680,2,-999.000,9, -999.00,9, -999.00,-999.000,9,-999.000,   40.26,2,   33.65,2, -31.1971,  84.9738,-999.000,-999.000,20090425,       1122
33RR20090320,        I05,     125,          1,         16,         16,2,20090425,       1006,   -31.1971,    84.9734,       4396,  1201.7,   3.9918,  34.4454,2,  34.4464,2,    169.4,2,   169.8,2,   53.89,2,   33.74,2,    0.00,2,    2.40,2,   0.585,2,   0.276,2,   0.0460,2,  2230.8,2,  2321.8,2,   7.6539,2,    20.00,-999.000,9,-999.000,9,-999.000,9,   3.9988,2,-999.000,9, -999.00,9, -999.00,-999.000,9,-999.000,   40.17,2,   35.75,2, -31.1971,  84.9739,-999.000,-999.000,20090425,       1120
33RR20090320,        I05,     125,          1,         15,         15,2,20090425,       1006,   -31.1971,    84.9734,       4396,  1301.3,   3.6722,  34.4961,2,  34.4965,2,    158.3,2,   158.6,2,   64.69,2,   34.62,2,    0.00,2,    2.48,2,   0.287,2,   0.140,2,   0.0000,2,  2246.7,2,  2332.0,2,   7.6379,2,    20.00,-999.000,9,-999.000,9,-999.000,9,   3.6737,2,-999.000,9, -999.00,9, -999.00,-999.000,9,-999.000,   39.93,2,   36.47,2, -31.1970,  84.9739,-999.000,-999.000,20090425,       1117
33RR20090320,        I05,     125,          1,         14,         14,2,20090425,       1006,   -31.1971,    84.9734,       4396,  1402.7,   3.4032,  34.5311,2,  34.5334,2,    155.4,2,   155.6,2,   70.93,2,   34.94,2,    0.00,2,    2.51,2,   0.185,2,   0.089,2,   0.0080,2,  2254.6,2,  2339.3,2,   7.6326,2,    20.00,-999.000,9,-999.000,9,-999.000,9,   3.4011,2,-999.000,9, -999.00,9, -999.00,-999.000,9,-999.000,   39.60,2,   36.67,2, -31.1970,  84.9739,-999.000,-999.000,20090425,       1114
33RR20090320,        I05,     125,          1,         13,         13,2,20090425,       1006,   -31.1971,    84.9734,       4396,  1497.4,   3.1715,  34.5708,2,  34.5709,2,    154.7,2,   154.9,2,   76.07,2,   34.92,2,    0.00,2,    2.50,2,   0.118,2,   0.058,2,   0.0230,2,  2259.7,2,  2343.9,2,   7.6320,2,    20.00,-999.000,9,-999.000,9,-999.000,9,   3.1712,2,-999.000,9, -999.00,9, -999.00,-999.000,9,-999.000,   39.90,2,   36.07,2, -31.1970,  84.9738,-999.000,-999.000,20090425,       1112
33RR20090320,        I05,     125,          1,         12,         12,2,20090425,       1006,   -31.1971,    84.9734,       4396,  1598.6,   2.9859,  34.6088,2,  34.6100,2,    155.6,2,   155.2,2,   81.05,2,   34.65,2,    0.00,2,    2.49,2,   0.074,2,   0.036,2,   0.0040,2,  2263.3,6,  2349.7,2,   7.6347,2,    20.00,-999.000,9,-999.000,9,-999.000,9,   2.9873,2,-999.000,9, -999.00,9, -999.00,-999.000,9,-999.000,   39.92,2,   36.32,2, -31.1970,  84.9737,-999.000,-999.000,20090425,       1109
33RR20090320,        I05,     125,          1,         11,         11,2,20090425,       1006,   -31.1971,    84.9734,       4396,  1799.6,   2.6865,  34.6669,2,  34.6670,2,    159.9,2,   160.4,2,   87.88,2,   33.90,2,    0.00,2,    2.43,2,   0.037,2,   0.018,2,   0.0000,2,  2267.1,2,  2356.3,2,   7.6464,2,    20.00,-999.000,9,-999.000,9,-999.000,9,   2.6868,2,-999.000,9, -999.00,9, -999.00,-999.000,9,-999.000,   40.01,2,   35.26,2, -31.1969,  84.9736,-999.000,-999.000,20090425,       1105
33RR20090320,        I05,     125,          1,         10,         10,2,20090425,       1006,   -31.1971,    84.9734,       4396,  2000.0,   2.4628,  34.6995,2,  34.6994,2,    165.4,2,   165.5,2,   93.61,2,   33.37,2,    0.00,2,    2.39,2,   0.017,2,   0.009,2,   0.0000,2,  2268.9,2,  2363.4,2,   7.6568,2,    20.00,-999.000,9,-999.000,9,-999.000,9,   2.4696,2,-999.000,9, -999.00,9, -999.00,-999.000,9,-999.000,   39.82,2,   34.74,2, -31.1969,  84.9735,-999.000,-999.000,20090425,       1100
33RR20090320,        I05,     125,          1,          9,          9,2,20090425,       1006,   -31.1971,    84.9734,       4396,  2248.1,   2.1683,  34.7200,2,  34.7209,2,    173.9,2,   173.5,2,   99.18,2,   32.83,2,    0.00,2,    2.35,2,   0.007,2,   0.004,2,   0.0240,2,  2268.9,2,  2366.4,2,   7.6689,2,    20.00,-999.000,9,-999.000,9,-999.000,9,   2.1682,2,-999.000,9, -999.00,9, -999.00,-999.000,9,-999.000,   39.97,2,   34.46,2, -31.1969,  84.9733,-999.000,-999.000,20090425,       1055
33RR20090320,        I05,     125,          1,          8,          8,2,20090425,       1006,   -31.1971,    84.9734,       4396,  2501.3,   1.9374,  34.7296,2,  34.7303,2,    180.9,2,   181.4,2,  102.15,2,   32.29,2,    0.00,2,    2.31,2,   0.008,2,   0.006,2,   0.0050,2,  2268.0,2,  2369.6,2,   7.6783,2,    20.00,-999.000,9,-999.000,9,-999.000,9,   1.9374,2,-999.000,9, -999.00,9, -999.00,-999.000,9,-999.000,   39.68,2,   34.12,2, -31.1970,  84.9732,-999.000,-999.000,20090425,       1050
33RR20090320,        I05,     125,          1,          7,          7,2,20090425,       1006,   -31.1971,    84.9734,       4396,  2753.6,   1.7701,  34.7323,2,  34.7338,2,    186.4,2,   186.4,2,  105.11,2,   32.08,2,    0.00,2,    2.29,2,   0.005,2,   0.004,2,   0.0320,2,  2266.4,2,  2369.5,2,   7.6831,2,    20.00,-999.000,9,-999.000,9,-999.000,9,   1.7703,2,-999.000,9, -999.00,9, -999.00,-999.000,9,-999.000,   40.21,2,   33.64,2, -31.1969,  84.9732,-999.000,-999.000,20090425,       1044
33RR20090320,        I05,     125,          1,          6,          6,2,20090425,       1006,   -31.1971,    84.9734,       4396,  2999.8,   1.6129,  34.7306,2,  34.7317,2,    188.0,2,   188.3,2,  110.32,2,   32.23,2,    0.00,2,    2.30,2,   0.002,2,   0.003,2,   0.0000,2,  2270.4,2,  2376.0,2,   7.6862,2,    20.00,-999.000,9,-999.000,9,-999.000,9,   1.6138,2,-999.000,9, -999.00,9, -999.00,-999.000,9,-999.000,   40.37,2,   33.54,2, -31.1970,  84.9733,-999.000,-999.000,20090425,       1039
33RR20090320,        I05,     125,          1,          5,          5,2,20090425,       1006,   -31.1971,    84.9734,       4396,  3306.0,   1.4619,  34.7276,2,  34.7289,2,    191.1,2,   191.6,2,  114.24,2,   32.28,2,    0.00,2,    2.30,2,   0.004,2,   0.003,2,   0.0000,2,  2271.2,2,  2378.1,2,   7.6892,2,    20.00,-999.000,9,-999.000,9,-999.000,9,   1.4611,2,-999.000,9, -999.00,9, -999.00,-999.000,9,-999.000,   40.23,2,   33.51,2, -31.1970,  84.9733,-999.000,-999.000,20090425,       1032
33RR20090320,        I05,     125,          1,          4,          4,2,20090425,       1006,   -31.1971,    84.9734,       4396,  3609.0,   1.4050,  34.7258,2,  34.7270,2,    192.7,2,   192.9,2,  116.10,2,   32.37,2,    0.00,2,    2.30,2,   0.005,2,   0.003,2,   0.0000,2,  2272.2,2,  2379.8,2,   7.6913,2,    20.00,-999.000,9,-999.000,9,-999.000,9,   1.4050,2,-999.000,9, -999.00,9, -999.00,-999.000,9,-999.000,   39.97,2,   33.71,2, -31.1970,  84.9734,-999.000,-999.000,20090425,       1026
33RR20090320,        I05,     125,          1,          3,          3,2,20090425,       1006,   -31.1971,    84.9734,       4396,  3913.7,   1.3972,  34.7249,2,  34.7258,2,    193.7,2,   193.7,2,  116.84,2,   32.36,2,    0.00,2,    2.30,2,   0.007,2,   0.006,2,   0.0000,2,  2273.5,2,  2379.8,2,   7.6918,2,    20.00,-999.000,9,-999.000,9,-999.000,9,   1.3978,2,-999.000,9, -999.00,9, -999.00,-999.000,9,-999.000,   39.15,2,   33.99,2, -31.1970,  84.9734,-999.000,-999.000,20090425,       1018
33RR20090320,        I05,     125,          1,          2,          2,2,20090425,       1006,   -31.1971,    84.9734,       4396,  4238.8,   1.4058,  34.7237,2,  34.7246,2,    194.5,2,   194.3,2,  117.59,2,   32.46,2,    0.00,2,    2.30,2,   0.009,2,   0.004,2,   0.0000,2,  2273.3,2,  2381.8,2,   7.6923,2,    20.00,-999.000,9,-999.000,9,-999.000,9,   1.4051,2,-999.000,9, -999.00,9, -999.00,-999.000,9,-999.000,   40.11,2,   34.05,2, -31.1971,  84.9733,-999.000,-999.000,20090425,       1011
33RR20090320,        I05,     125,          1,          1,          1,2,20090425,       1006,   -31.1971,    84.9734,       4396,  4457.3,   1.4272,  34.7240,2,  34.7252,2,    194.9,2,   194.9,2,  117.21,2,   32.35,2,    0.00,2,    2.29,2,   0.010,6,   0.005,6,   0.0150,6,  2274.1,6,  2381.4,2,   7.6933,2,    20.00,-999.000,9,-999.000,9,-999.000,9,   1.4266,2,-999.000,9, -999.00,9, -999.00,-999.000,9,-999.000,   40.41,2,   33.65,2, -31.1971,  84.9734,-999.000,-999.000,20090425,       1006