BOTTLE,20220814CCHSIOAMB
EXPOCODE,SECT_ID,STNNBR,CASTNO,SAMPNO,BTLNBR,BTLNBR_FLAG_W,DATE,TIME,LATITUDE,LONGITUDE,DEPTH,CTDPRS,CTDTMP,CTDSAL,CTDSAL_FLAG_W,SALNTY,SALNTY_FLAG_W,CTDOXY,CTDOXY_FLAG_W,OXYGEN,OXYGEN_FLAG_W,SILCAT,SILCAT_FLAG_W,NITRAT,NITRAT_FLAG_W,NITRIT,NITRIT_FLAG_W,PHSPHT,PHSPHT_FLAG_W,CFC-11,CFC-11_FLAG_W,CFC-12,CFC-12_FLAG_W,SF6,SF6_FLAG_W,TCARBN,TCARBN_FLAG_W,ALKALI,ALKALI_FLAG_W,PH_TOT,PH_TOT_FLAG_W,PH_TMP,TRITUM,TRITUM_FLAG_W,HELIUM,HELIUM_FLAG_W,DELHE3,DELHE3_FLAG_W,REFTMP,REFTMP_FLAG_W,DELC13,DELC13_FLAG_W,DELC14,DELC14_FLAG_W,C14ERR,NEON,NEON_FLAG_W,NEONER,DOC,DOC_FLAG_W,TDN,TDN_FLAG_W,BTL_LAT,BTL_LON,HELIER,DELHER,BTL_DATE,BTL_TIME
,,,,,,,,,,,METERS,DBAR,ITS-90,PSS-78,,PSS-78,,UMOL/KG,,UMOL/KG,,UMOL/KG,,UMOL/KG,,UMOL/KG,,UMOL/KG,,PMOL/KG,,PMOL/KG,,FMOL/KG,,UMOL/KG,,UMOL/KG,,,,DEG C,TU,,NMOL/KG,,PERCNT,,DEG C,,/MILLE,,/MILLE,,/MILLE,NMOL/KG,,NMOL/KG,UMOL/KG,,UMOL/KG,,,,NMOL/KG,PERCNT,,
33RR20090320,        I05,      97,          1,         36,         36,2,20090418,       0347,   -33.9993,    71.9849,       4846,     9.0,  19.5709,  35.4971,2,  35.4979,2,    229.9,2,   229.5,2,    1.50,2,    0.06,2,    0.00,2,    0.16,2,   2.211,6,   1.322,6,   1.2120,6,  2059.7,6,  2333.3,2,   8.0740,2,    20.00,-999.000,9,-999.000,9,-999.000,9,  19.5705,2,-999.000,9, -999.00,9, -999.00,-999.000,9,-999.000,   67.50,2,    4.52,2, -33.9998,  71.9854,-999.000,-999.000,20090418,       0543
33RR20090320,        I05,      97,          1,         35,         35,2,20090418,       0347,   -33.9993,    71.9849,       4846,    26.0,  19.5684,  35.4973,2,  35.4979,2,    230.4,2,   230.3,2,    1.48,2,    0.00,2,    0.00,2,    0.16,2,   2.207,2,   1.321,2,   1.2300,2,  2056.4,2,  2332.0,2,   8.0736,2,    20.00,-999.000,9,-999.000,9,-999.000,9,  19.5680,2,-999.000,9, -999.00,9, -999.00,-999.000,9,-999.000,   67.86,2,    3.94,2, -33.9998,  71.9854,-999.000,-999.000,20090418,       0542
33RR20090320,        I05,      97,          1,         34,         34,2,20090418,       0347,   -33.9993,    71.9849,       4846,    45.0,  19.3254,  35.5151,2,  35.5153,2,    231.4,2,   231.3,2,    1.46,2,    0.00,2,    0.00,2,    0.16,2,   2.232,2,   1.337,2,   1.1950,2,  2057.2,2,  2333.6,2,   8.0750,2,    20.00,-999.000,9,-999.000,9,-999.000,9,  19.3326,2,-999.000,9, -999.00,9, -999.00,-999.000,9,-999.000,   67.03,2,    3.87,2, -33.9998,  71.9855,-999.000,-999.000,20090418,       0540
33RR20090320,        I05,      97,          1,         33,         33,2,20090418,       0347,   -33.9993,    71.9849,       4846,    70.6,  16.5630,  35.3712,2,  35.3755,2,    251.5,2,   253.8,2,    1.65,2,    0.06,2,    0.01,2,    0.20,2,   2.679,2,   1.554,2,   1.3950,2,  2062.6,2,  2326.7,2,   8.0544,2,    20.00,-999.000,9,-999.000,9,-999.000,9,  16.5665,2,-999.000,9, -999.00,9, -999.00,-999.000,9,-999.000,   65.98,2,    4.72,2, -33.9999,  71.9855,-999.000,-999.000,20090418,       0539
33RR20090320,        I05,      97,          1,         32,         32,2,20090418,       0347,   -33.9993,    71.9849,       4846,    95.4,  15.0098,  35.3508,2,  35.3524,2,    251.5,2,   248.7,2,    1.83,2,    1.17,2,    0.08,2,    0.30,2,   2.845,2,   1.642,2,   1.4770,2,  2080.2,2,  2325.2,2,   8.0173,2,    20.00,-999.000,9,-999.000,9,-999.000,9,  14.9922,2,-999.000,9, -999.00,9, -999.00,-999.000,9,-999.000,   61.15,2,    5.11,2, -33.9999,  71.9855,-999.000,-999.000,20090418,       0538
33RR20090320,        I05,      97,          1,         31,         31,2,20090418,       0347,   -33.9993,    71.9849,       4846,   140.0,  13.5436,  35.2559,2,  35.2576,2,    233.5,2,   233.6,2,    3.05,2,    6.50,2,    0.02,2,    0.57,2,   2.998,2,   1.707,2,   1.4340,2,  2101.2,2,  2317.8,2,   7.9620,2,    20.00,-999.000,9,-999.000,9,-999.000,9,  13.5342,2,-999.000,9, -999.00,9, -999.00,-999.000,9,-999.000,   56.42,2,    9.34,2, -33.9999,  71.9855,-999.000,-999.000,20090418,       0536
33RR20090320,        I05,      97,          1,         30,         30,2,20090418,       0347,   -33.9993,    71.9849,       4846,   191.7,  13.2167,  35.2496,2,  35.2497,2,    234.8,2,   235.8,2,    3.66,2,    7.76,2,    0.01,2,    0.63,2,   3.019,2,   1.719,2,   1.3880,2,  2105.1,2,  2316.4,2,   7.9536,2,    20.00,-999.000,9,-999.000,9,-999.000,9,  13.2092,2,-999.000,9, -999.00,9, -999.00,-999.000,9,-999.000,   53.70,2,   10.64,2, -33.9999,  71.9854,-999.000,-999.000,20090418,       0534
33RR20090320,        I05,      97,          1,         29,         29,2,20090418,       0347,   -33.9993,    71.9849,       4846,   241.2,  12.9117,  35.2189,2,  35.2186,2,    237.7,2,   237.2,2,    3.85,2,    8.44,2,    0.00,2,    0.66,2,   3.074,2,   1.727,2,   1.4560,2,  2107.2,2,  2315.1,2,   7.9494,2,    20.00,-999.000,9,-999.000,9,-999.000,9,  12.9128,2,-999.000,9, -999.00,9, -999.00,-999.000,9,-999.000,   53.15,2,   10.77,2, -33.9999,  71.9854,-999.000,-999.000,20090418,       0533
33RR20090320,        I05,      97,          1,         28,         28,2,20090418,       0347,   -33.9993,    71.9849,       4846,   290.3,  12.4760,  35.1480,2,  35.1484,2,    237.7,2,   238.0,2,    4.03,2,    9.38,2,    0.00,2,    0.73,2,   3.134,2,   1.768,2,   1.3950,2,  2113.2,2,  2312.5,2,   7.9376,2,    20.00,-999.000,9,-999.000,9,-999.000,9,  12.4756,2,-999.000,9, -999.00,9, -999.00,-999.000,9,-999.000,   50.88,2,   11.37,2, -33.9999,  71.9854,-999.000,-999.000,20090418,       0531
33RR20090320,        I05,      97,          1,         27,         27,2,20090418,       0347,   -33.9993,    71.9849,       4846,   340.7,  12.4629,  35.1665,2,  35.1652,2,    238.3,2,   242.7,2,    4.01,2,    9.12,2,    0.00,2,    0.71,2,   3.118,2,   1.754,2,   1.3130,2,  2110.5,2,  2312.1,2,   7.9444,2,    20.00,-999.000,9,-999.000,9,-999.000,9,  12.4620,2,-999.000,9, -999.00,9, -999.00,-999.000,9,-999.000,   49.80,2, -999.00,9, -33.9999,  71.9855,-999.000,-999.000,20090418,       0529
33RR20090320,        I05,      97,          1,         26,         26,2,20090418,       0347,   -33.9993,    71.9849,       4846,   392.0,  12.4300,  35.1647,2,  35.1646,2,    244.3,2,   244.3,2,    4.21,2,    9.06,2,    0.00,2,    0.71,2,   3.112,2,   1.749,2,   1.4510,2,  2110.7,2,  2312.8,2,   7.9451,2,    20.00,-999.000,9,-999.000,9,-999.000,9,  12.4254,2,-999.000,9, -999.00,9, -999.00,-999.000,9,-999.000,   48.28,2,   10.95,2, -33.9999,  71.9856,-999.000,-999.000,20090418,       0528
33RR20090320,        I05,      97,          1,         25,         25,2,20090418,       0347,   -33.9993,    71.9849,       4846,   470.9,  12.0159,  35.0806,2,  35.0797,2,    241.1,2,   240.2,2,    4.39,2,   10.36,2,    0.00,2,    0.80,2,   3.175,2,   1.774,2,   1.3050,2,  2115.1,2,  2309.5,2,   7.9285,2,    20.00,-999.000,9,-999.000,9,-999.000,9,  12.0104,2,-999.000,9, -999.00,9, -999.00,-999.000,9,-999.000,   46.89,2,   12.07,2, -33.9999,  71.9855,-999.000,-999.000,20090418,       0526
33RR20090320,        I05,      97,          1,         24,         24,2,20090418,       0347,   -33.9993,    71.9849,       4846,   570.1,  11.1845,  34.9441,2,  34.9431,2,    232.2,2,   233.0,2,    4.78,2,   12.81,2,    0.00,2,    0.95,2,   3.290,2,   1.795,2,   1.2230,2,  2124.1,2,  2304.5,2,   7.8974,2,    20.00,-999.000,9,-999.000,9,-999.000,9,  11.1842,2,-999.000,9, -999.00,9, -999.00,-999.000,9,-999.000,   45.31,2,   14.24,2, -34.0000,  71.9854,-999.000,-999.000,20090418,       0523
33RR20090320,        I05,      97,          1,         23,         23,2,20090418,       0347,   -33.9993,    71.9849,       4846,   669.1,  10.2888,  34.8245,2,  34.8261,2,    224.8,2,   223.6,2,    6.22,2,   15.56,2,    0.00,2,    1.12,2,   3.287,2,   1.714,2,   0.9820,2,  2133.5,2,  2297.5,2,   7.8665,2,    20.00,-999.000,9,-999.000,9,-999.000,9,  10.2958,2,-999.000,9, -999.00,9, -999.00,-999.000,9,-999.000,   44.57,2,   17.30,2, -33.9999,  71.9853,-999.000,-999.000,20090418,       0521
33RR20090320,        I05,      97,          1,         22,         22,2,20090418,       0347,   -33.9993,    71.9849,       4846,   770.0,   9.1274,  34.6797,2,  34.6804,2,    216.0,2,   215.8,2,    8.90,2,   19.01,2,    0.00,2,    1.35,2,   3.108,2,   1.578,2,   0.7710,2,  2143.6,2,  2292.5,2,   7.8278,2,    20.00,-999.000,9,-999.000,9,-999.000,9,   9.1290,2,-999.000,9, -999.00,9, -999.00,-999.000,9,-999.000,   43.48,2,   20.59,2, -33.9999,  71.9852,-999.000,-999.000,20090418,       0518
33RR20090320,        I05,      97,          1,         21,         21,2,20090418,       0347,   -33.9993,    71.9849,       4846,   871.6,   7.7463,  34.5415,2,  34.5435,2,    207.0,2,   207.0,2,   13.65,2,   23.14,2,    0.00,2,    1.62,2,   2.682,2,   1.346,2,   0.5510,2,  2157.2,2,  2292.3,2,   7.7804,2,    20.00,-999.000,9,-999.000,9,-999.000,9,   7.7574,2,-999.000,9, -999.00,9, -999.00,-999.000,9,-999.000,   42.80,2,   24.68,2, -33.9998,  71.9852,-999.000,-999.000,20090418,       0516
33RR20090320,        I05,      97,          1,         20,         20,2,20090418,       0347,   -33.9993,    71.9849,       4846,   971.3,   6.2347,  34.4273,2,  34.4264,2,    203.5,2,   204.2,2,   20.71,2,   27.03,2,    0.00,2,    1.89,2,   2.310,2,   1.144,2,   0.4320,2,  2173.6,2,  2291.6,2,   7.7360,2,    20.00,-999.000,9,-999.000,9,-999.000,9,   6.2406,2,-999.000,9, -999.00,9, -999.00,-999.000,9,-999.000,   42.13,2,   28.81,2, -33.9998,  71.9852,-999.000,-999.000,20090418,       0513
33RR20090320,        I05,      97,          1,         19,         19,2,20090418,       0347,   -33.9993,    71.9849,       4846,  1072.2,   5.0350,  34.3694,2,  34.3697,2,    203.4,2,   204.1,2,   28.21,2,   29.55,2,    0.00,2,    2.09,2,   2.017,6,   1.004,6,   0.3930,6,  2186.7,2,  2295.3,2,   7.7074,2,    20.00,-999.000,9,-999.000,9,-999.000,9,   5.0385,2,-999.000,9, -999.00,9, -999.00,-999.000,9,-999.000,   41.67,2,   31.12,2, -33.9998,  71.9852,-999.000,-999.000,20090418,       0511
33RR20090320,        I05,      97,          1,         18,         18,2,20090418,       0347,   -33.9993,    71.9849,       4846,  1170.7,   4.2730,  34.3619,2,  34.3619,2,    201.9,2,   201.0,2,   35.93,2,   31.14,2,    0.00,2,    2.22,2,   1.777,2,   0.877,2,   0.4240,2,  2200.3,2,  2301.0,2,   7.6870,2,    20.00,-999.000,9,-999.000,9,-999.000,9,   4.2721,2,-999.000,9, -999.00,9, -999.00,-999.000,9,-999.000,   40.93,2,   32.68,2, -33.9997,  71.9852,-999.000,-999.000,20090418,       0508
33RR20090320,        I05,      97,          1,         17,         17,2,20090418,       0347,   -33.9993,    71.9849,       4846,  1272.7,   3.7779,  34.3869,2,  34.3872,2,    193.6,2,   193.8,2,   44.10,2,   32.35,2,    0.00,2,    2.30,2,   1.446,2,   0.712,2,   0.2120,2,  2214.3,2,  2311.2,2,   7.6683,2,    20.00,-999.000,9,-999.000,9,-999.000,9,   3.7772,2,-999.000,9, -999.00,9, -999.00,-999.000,9,-999.000,   40.94,2,   34.09,2, -33.9997,  71.9851,-999.000,-999.000,20090418,       0506
33RR20090320,        I05,      97,          1,         16,         16,2,20090418,       0347,   -33.9993,    71.9849,       4846,  1370.4,   3.4301,  34.4362,2,  34.4337,2,    182.3,2,   183.3,2,   52.92,2,   33.35,2,    0.00,2,    2.38,2,   0.946,2,   0.467,2,   0.1810,2,  2226.9,2,  2318.9,2,   7.6527,2,    20.00,-999.000,9,-999.000,9,-999.000,9,   3.4293,2,-999.000,9, -999.00,9, -999.00,-999.000,9,-999.000,   40.80,2,   35.05,2, -33.9997,  71.9851,-999.000,-999.000,20090418,       0503
33RR20090320,        I05,      97,          1,         15,         15,2,20090418,       0347,   -33.9993,    71.9849,       4846,  1542.6,   2.9917,  34.5281,2,  34.5277,2,    173.6,2,   172.9,2,   65.14,2,   33.77,2,    0.00,2,    2.42,2,   0.438,2,   0.214,2,   0.0700,2,  2243.7,2,  2330.5,2,   7.6406,2,    20.00,-999.000,9,-999.000,9,-999.000,9,   2.9922,2,-999.000,9, -999.00,9, -999.00,-999.000,9,-999.000,   40.40,2,   35.72,2, -33.9997,  71.9852,-999.000,-999.000,20090418,       0500
33RR20090320,        I05,      97,          1,         14,         14,2,20090418,       0347,   -33.9993,    71.9849,       4846,  1744.5,   2.7004,  34.6143,2,  34.6143,2,    173.5,2,   173.4,2,   72.31,2,   33.17,2,    0.00,2,    2.37,2,   0.197,2,   0.094,2,   0.0000,2,  2252.0,6,  2338.5,2,   7.6473,2,    20.00,-999.000,9,-999.000,9,-999.000,9,   2.7001,2,-999.000,9, -999.00,9, -999.00,-999.000,9,-999.000,   39.91,2,   34.83,2, -33.9996,  71.9853,-999.000,-999.000,20090418,       0455
33RR20090320,        I05,      97,          1,         13,         13,2,20090418,       0347,   -33.9993,    71.9849,       4846,  1946.0,   2.4883,  34.6800,2,  34.6801,2,    179.1,2,   179.2,2,   76.96,2,   32.16,2,    0.00,2,    2.28,2,   0.084,2,   0.040,2,   0.0000,2,  2251.7,2,  2345.2,2,   7.6623,2,    20.00,-999.000,9,-999.000,9,-999.000,9,   2.4878,2,-999.000,9, -999.00,9, -999.00,-999.000,9,-999.000,   39.76,2,   33.63,2, -33.9997,  71.9853,-999.000,-999.000,20090418,       0451
33RR20090320,        I05,      97,          1,         12,         12,2,20090418,       0347,   -33.9993,    71.9849,       4846,  2176.6,   2.2443,  34.7201,2,  34.7198,2,    183.1,2,   182.7,2,   86.72,2,   31.63,2,    0.00,2,    2.26,2,   0.036,2,   0.015,2,   0.0270,2,  2258.1,2,  2353.4,2,   7.6765,2,    20.00,-999.000,9,-999.000,9,-999.000,9,   2.2454,2,-999.000,9, -999.00,9, -999.00,-999.000,9,-999.000,   39.74,2,   33.07,2, -33.9998,  71.9853,-999.000,-999.000,20090418,       0446
33RR20090320,        I05,      97,          1,         11,         11,2,20090418,       0347,   -33.9993,    71.9849,       4846,  2430.0,   2.0279,  34.7289,2,  34.7291,2,    179.7,2,   179.0,2,  102.05,2,   32.36,2,    0.00,2,    2.31,2,   0.009,2,   0.007,2,   0.0000,2,  2271.4,2,  2371.5,2,   7.6776,2,    20.00,-999.000,9,-999.000,9,-999.000,9,   2.0274,2,-999.000,9, -999.00,9, -999.00,-999.000,9,-999.000,   39.84,2,   33.70,2, -33.9999,  71.9852,-999.000,-999.000,20090418,       0441
33RR20090320,        I05,      97,          1,         10,         10,2,20090418,       0347,   -33.9993,    71.9849,       4846,  2683.2,   1.8841,  34.7298,2,  34.7298,2,    177.4,2,   177.2,2,  111.01,2,   32.94,2,    0.00,2,    2.36,2,   0.008,2,   0.003,2,   0.0000,2,  2280.3,2,  2378.9,2,   7.6766,2,    20.00,-999.000,9,-999.000,9,-999.000,9,   1.8840,2,-999.000,9, -999.00,9, -999.00,-999.000,9,-999.000,   39.67,2,   34.61,2, -33.9998,  71.9852,-999.000,-999.000,20090418,       0436
33RR20090320,        I05,      97,          1,          9,          9,2,20090418,       0347,   -33.9993,    71.9849,       4846,  2937.0,   1.7565,  34.7287,2,  34.7290,2,    178.3,2,   177.8,2,  116.15,2,   33.09,2,    0.00,2,    2.38,2,   0.015,2,   0.005,2,   0.0180,2,  2286.1,2,  2383.6,2,   7.6764,2,    20.00,-999.000,9,-999.000,9,-999.000,9,   1.7552,2,-999.000,9, -999.00,9, -999.00,-999.000,9,-999.000,   39.46,2,   35.08,2, -33.9997,  71.9849,-999.000,-999.000,20090418,       0430
33RR20090320,        I05,      97,          1,          8,          8,2,20090418,       0347,   -33.9993,    71.9849,       4846,  3226.3,   1.5966,  34.7244,2,  34.7245,2,    181.9,2,   181.5,2,  120.00,2,   33.14,2,    0.00,2,    2.38,2,   0.008,2,   0.005,2,   0.0000,2,  2284.7,2,  2382.2,2,   7.6772,2,    20.00,-999.000,9,-999.000,9,-999.000,9,   1.5971,2,-999.000,9, -999.00,9, -999.00,-999.000,9,-999.000,   39.62,2,   34.84,2, -33.9996,  71.9849,-999.000,-999.000,20090418,       0424
33RR20090320,        I05,      97,          1,          7,          7,2,20090418,       0347,   -33.9993,    71.9849,       4846,  3527.8,   1.3897,  34.7180,2,  34.7178,2,    187.6,2,   188.2,2,  122.79,2,   33.07,2,    0.00,2,    2.37,2,   0.013,6,   0.006,6,   0.0000,6,  2282.1,2,  2380.0,2,   7.6792,2,    20.00,-999.000,9,-999.000,9,-999.000,9,   1.3893,2,-999.000,9, -999.00,9, -999.00,-999.000,9,-999.000,   39.43,2,   34.88,2, -33.9995,  71.9849,-999.000,-999.000,20090418,       0418
33RR20090320,        I05,      97,          1,          6,          6,2,20090418,       0347,   -33.9993,    71.9849,       4846,  3834.4,   1.1455,  34.7099,2,  34.7097,2,    195.2,2,   196.5,2,  125.79,2,   32.97,2,    0.00,2,    2.36,2,   0.019,2,   0.010,2,   0.0000,2,  2276.8,2,  2377.8,2,   7.6817,2,    20.00,-999.000,9,-999.000,9,-999.000,9,   1.1458,2,-999.000,9, -999.00,9, -999.00,-999.000,9,-999.000,   39.47,2,   34.58,2, -33.9996,  71.9849,-999.000,-999.000,20090418,       0412
33RR20090320,        I05,      97,          1,          5,          5,2,20090418,       0347,   -33.9993,    71.9849,       4846,  4139.2,   1.0427,  34.7058,2,  34.7066,2,    199.5,2,   200.2,2,  126.86,2,   32.86,2,    0.00,2,    2.35,2,   0.028,2,   0.014,2,   0.0150,2,  2274.3,2,  2376.1,2,   7.6830,2,    20.00,-999.000,9,-999.000,9,-999.000,9,   1.0424,2,-999.000,9, -999.00,9, -999.00,-999.000,9,-999.000,   39.47,2,   34.14,2, -33.9995,  71.9849,-999.000,-999.000,20090418,       0406
33RR20090320,        I05,      97,          1,          4,          4,2,20090418,       0347,   -33.9993,    71.9849,       4846,  4443.6,   1.0407,  34.7047,2,  34.7044,2,    200.6,2,   201.3,2,  127.30,2,   32.90,2,    0.00,2,    2.35,2,   0.026,2,   0.013,2,   0.0310,2,  2273.1,2,  2374.3,2,   7.6832,2,    20.00,-999.000,9,-999.000,9,-999.000,9,   1.0406,2,-999.000,9, -999.00,9, -999.00,-999.000,9,-999.000,   39.79,2,   34.10,2, -33.9996,  71.9848,-999.000,-999.000,20090418,       0359
33RR20090320,        I05,      97,          1,          3,          3,2,20090418,       0347,   -33.9993,    71.9849,       4846,  4748.8,   1.0449,  34.7038,2,  34.7036,2,    202.4,2,   202.6,2,  127.72,2,   32.79,2,    0.00,2,    2.34,2,   0.029,2,   0.014,2,   0.0000,2,  2273.0,2,  2374.7,2,   7.6835,2,    20.00,-999.000,9,-999.000,9,-999.000,9,   1.0447,2,-999.000,9, -999.00,9, -999.00,-999.000,9,-999.000,   39.94,2,   34.37,2, -33.9995,  71.9846,-999.000,-999.000,20090418,       0353
33RR20090320,        I05,      97,          1,          2,          2,2,20090418,       0347,   -33.9993,    71.9849,       4846,  4831.2,   1.0540,  34.7036,2,  34.7032,2,    202.8,2,   202.3,2,  128.15,2,   32.73,2,    0.00,2,    2.34,2,   0.023,2,   0.014,2,   0.0630,2,  2273.2,2,  2373.9,2,   7.6842,2,    20.00,-999.000,9,-999.000,9,-999.000,9,   1.0537,2,-999.000,9, -999.00,9, -999.00,-999.000,9,-999.000,   39.57,2,   34.27,2, -33.9994,  71.9848,-999.000,-999.000,20090418,       0350
33RR20090320,        I05,      97,          1,          1,          1,2,20090418,       0347,   -33.9993,    71.9849,       4846,  4921.6,   1.0625,  34.7037,2,  34.7032,2,    202.2,2,   202.6,2,  127.94,2,   32.78,2,    0.00,2,    2.34,2,   0.024,6,   0.011,6,   0.0160,6,  2273.6,6,  2372.8,2,   7.6837,2,    20.00,-999.000,9,-999.000,9,-999.000,9,   1.0629,2,-999.000,9, -999.00,9, -999.00,-999.000,9,-999.000,   39.46,2,   33.92,2, -33.9993,  71.9848,-999.000,-999.000,20090418,       0347