BOTTLE,20220814CCHSIOAMB
EXPOCODE,SECT_ID,STNNBR,CASTNO,SAMPNO,BTLNBR,BTLNBR_FLAG_W,DATE,TIME,LATITUDE,LONGITUDE,DEPTH,CTDPRS,CTDTMP,CTDSAL,CTDSAL_FLAG_W,SALNTY,SALNTY_FLAG_W,CTDOXY,CTDOXY_FLAG_W,OXYGEN,OXYGEN_FLAG_W,SILCAT,SILCAT_FLAG_W,NITRAT,NITRAT_FLAG_W,NITRIT,NITRIT_FLAG_W,PHSPHT,PHSPHT_FLAG_W,CFC-11,CFC-11_FLAG_W,CFC-12,CFC-12_FLAG_W,SF6,SF6_FLAG_W,TCARBN,TCARBN_FLAG_W,ALKALI,ALKALI_FLAG_W,PH_TOT,PH_TOT_FLAG_W,PH_TMP,TRITUM,TRITUM_FLAG_W,HELIUM,HELIUM_FLAG_W,DELHE3,DELHE3_FLAG_W,REFTMP,REFTMP_FLAG_W,DELC13,DELC13_FLAG_W,DELC14,DELC14_FLAG_W,C14ERR,NEON,NEON_FLAG_W,NEONER,DOC,DOC_FLAG_W,TDN,TDN_FLAG_W,BTL_LAT,BTL_LON,HELIER,DELHER,BTL_DATE,BTL_TIME
,,,,,,,,,,,METERS,DBAR,ITS-90,PSS-78,,PSS-78,,UMOL/KG,,UMOL/KG,,UMOL/KG,,UMOL/KG,,UMOL/KG,,UMOL/KG,,PMOL/KG,,PMOL/KG,,FMOL/KG,,UMOL/KG,,UMOL/KG,,,,DEG C,TU,,NMOL/KG,,PERCNT,,DEG C,,/MILLE,,/MILLE,,/MILLE,NMOL/KG,,NMOL/KG,UMOL/KG,,UMOL/KG,,,,NMOL/KG,PERCNT,,
33RR20090320,        I05,      36,          1,         36,         36,2,20090401,       0854,   -32.9964,    42.7154,       4392,     5.4,  22.9773,  35.6417,2,  35.6505,2,    218.2,2,   218.3,2,    1.69,2,    0.20,2,    0.00,2,    0.08,2,   1.935,2,   1.190,2,   1.1250,2,  2028.1,6,  2335.5,2,   8.1241,2,    20.00,-999.000,9,-999.000,9,-999.000,9,  22.9766,2,-999.000,9, -999.00,9, -999.00,-999.000,9,-999.000,   67.77,2,    4.52,2, -32.9957,  42.7155,-999.000,-999.000,20090401,       1056
33RR20090320,        I05,      36,          1,         35,         35,2,20090401,       0854,   -32.9964,    42.7154,       4392,    34.3,  22.2234,  35.6659,2,  35.6611,2,    221.1,2,   222.2,2,    1.68,2,    0.20,2,    0.00,2,    0.08,2,   1.983,2,   1.218,2,   1.1690,2,  2035.2,2,  2333.5,2,   8.1185,2,    20.00,-999.000,9,-999.000,9,-999.000,9,  22.2401,2,-999.000,9, -999.00,9, -999.00,-999.000,9,-999.000,   66.52,2,    4.76,2, -32.9958,  42.7154,-999.000,-999.000,20090401,       1054
33RR20090320,        I05,      36,          1,         34,         34,2,20090401,       0854,   -32.9964,    42.7154,       4392,    59.4,  19.0721,  35.5696,2,  35.5694,2,    239.8,2,   238.4,2,    2.06,2,    0.15,2,    0.00,2,    0.13,2,   2.287,2,   1.380,2,   1.2220,2,  2042.9,2,  2330.4,2,   8.0967,2,    20.00,-999.000,9,-999.000,9,-999.000,9,  19.0798,2,-999.000,9, -999.00,9, -999.00,-999.000,9,-999.000,   64.84,2,    4.07,2, -32.9958,  42.7154,-999.000,-999.000,20090401,       1053
33RR20090320,        I05,      36,          1,         33,         33,2,20090401,       0854,   -32.9964,    42.7154,       4392,    84.4,  17.9526,  35.5603,2,  35.5598,2,    228.5,2,   226.0,2,    2.44,2,    0.38,2,    0.05,2,    0.20,2,   2.377,2,   1.421,2,   1.2330,2,  2061.4,2,  2328.8,2,   8.0613,2,    20.00,-999.000,9,-999.000,9,-999.000,9,  17.9739,2,-999.000,9, -999.00,9, -999.00,-999.000,9,-999.000,   59.63,2,    4.06,2, -32.9958,  42.7154,-999.000,-999.000,20090401,       1051
33RR20090320,        I05,      36,          1,         32,         32,2,20090401,       0854,   -32.9964,    42.7154,       4392,   109.2,  17.3422,  35.5557,2,  35.5547,2,    216.9,2,   212.6,2,    3.21,2,    2.89,2,    0.01,2,    0.33,2,   2.419,2,   1.437,2,   1.2520,2,  2077.4,2,  2329.8,2,   8.0309,2,    20.00,-999.000,9,-999.000,9,-999.000,9,  17.3416,2,-999.000,9, -999.00,9, -999.00,-999.000,9,-999.000,   57.14,2,    6.54,2, -32.9957,  42.7154,-999.000,-999.000,20090401,       1049
33RR20090320,        I05,      36,          1,         31,         31,2,20090401,       0854,   -32.9964,    42.7154,       4392,   134.4,  17.0043,  35.5497,2,  35.5472,2,    207.5,2,   209.2,2,    3.59,2,    4.13,2,    0.01,2,    0.40,2,   2.450,2,   1.457,2,   1.2280,2,  2083.7,2,  2326.6,2,   8.0187,2,    20.00,-999.000,9,-999.000,9,-999.000,9,  17.0151,2,-999.000,9, -999.00,9, -999.00,-999.000,9,-999.000,   54.06,2,    6.68,2, -32.9957,  42.7155,-999.000,-999.000,20090401,       1048
33RR20090320,        I05,      36,          1,         30,         30,2,20090401,       0854,   -32.9964,    42.7154,       4392,   164.8,  16.6499,  35.5392,2,  35.5371,2,    204.8,2,   207.9,2,    3.77,2,    4.86,2,    0.01,2,    0.44,2,   2.470,2,   1.464,2,   1.1400,2,  2088.6,2,  2329.3,2,   8.0091,2,    20.00,-999.000,9,-999.000,9,-999.000,9,  16.6400,2,-999.000,9, -999.00,9, -999.00,-999.000,9,-999.000,   53.11,2,    7.33,2, -32.9957,  42.7155,-999.000,-999.000,20090401,       1046
33RR20090320,        I05,      36,          1,         29,         29,2,20090401,       0854,   -32.9964,    42.7154,       4392,   214.5,  15.9365,  35.4945,2,  35.4922,2,    203.5,2,   202.8,2,    4.55,2,    6.38,2,    0.00,2,    0.54,2,   2.553,2,   1.494,2,   1.2240,2,  2098.7,2,  2325.6,2,   7.9840,2,    20.00,-999.000,9,-999.000,9,-999.000,9,  15.9357,2,-999.000,9, -999.00,9, -999.00,-999.000,9,-999.000,   50.96,2,    8.49,2, -32.9957,  42.7155,-999.000,-999.000,20090401,       1044
33RR20090320,        I05,      36,          1,         28,         28,2,20090401,       0854,   -32.9964,    42.7154,       4392,   263.7,  15.3246,  35.4578,2,  35.4547,2,    202.1,2,   204.1,2,    4.74,2,    7.05,2,    0.00,2,    0.59,2,   2.645,2,   1.531,2,   1.1670,2,  2103.6,2,  2325.8,2,   7.9706,2,    20.00,-999.000,9,-999.000,9,-999.000,9,  15.3242,2,-999.000,9, -999.00,9, -999.00,-999.000,9,-999.000,   50.15,2,    8.70,2, -32.9957,  42.7155,-999.000,-999.000,20090401,       1042
33RR20090320,        I05,      36,          1,         27,         27,4,20090401,       0854,   -32.9964,    42.7154,       4392,   315.1,  14.7172,  35.4098,2,  35.1540,4,    205.6,2,   205.9,4,   21.08,4,   14.57,4,    0.00,4,    1.07,4,   2.092,4,   1.183,4,   0.8600,4,  2142.8,4,  2323.0,4,   7.8848,4,    20.00,-999.000,9,-999.000,9,-999.000,9,  14.7162,2,-999.000,9, -999.00,9, -999.00,-999.000,9,-999.000,   48.90,2,   17.42,3, -32.9957,  42.7154,-999.000,-999.000,20090401,       1040
33RR20090320,        I05,      36,          1,         26,         26,2,20090401,       0854,   -32.9964,    42.7154,       4392,   364.5,  14.0511,  35.3429,2,  35.3383,2,    210.7,2,   213.0,2,    4.71,2,    8.68,2,    0.00,2,    0.68,2,   2.832,2,   1.626,2,   1.0960,2,  2110.4,2,  2322.2,2,   7.9483,2,    20.00,-999.000,9,-999.000,9,-999.000,9,  14.0543,2,-999.000,9, -999.00,9, -999.00,-999.000,9,-999.000,   48.27,2,   10.76,2, -32.9957,  42.7154,-999.000,-999.000,20090401,       1038
33RR20090320,        I05,      36,          1,         25,         25,2,20090401,       0854,   -32.9964,    42.7154,       4392,   413.6,  13.4826,  35.2823,2,  35.2833,2,    214.0,2,   215.6,2,    4.70,2,    9.41,2,    0.00,2,    0.73,2,   2.920,2,   1.652,2,   1.1610,2,  2113.3,2,  2316.9,2,   7.9392,2,    20.00,-999.000,9,-999.000,9,-999.000,9,  13.4807,2,-999.000,9, -999.00,9, -999.00,-999.000,9,-999.000,   47.19,2,   11.15,2, -32.9958,  42.7154,-999.000,-999.000,20090401,       1035
33RR20090320,        I05,      36,          1,         24,         24,2,20090401,       0854,   -32.9964,    42.7154,       4392,   464.6,  13.0076,  35.2247,2,  35.2246,2,    218.3,2,   218.8,2,    4.69,2,   10.19,2,    0.00,2,    0.78,2,   2.988,6,   1.680,6,   1.1270,2,  2115.1,2,  2314.0,2,   7.9298,2,    20.00,-999.000,9,-999.000,9,-999.000,9,  13.0133,2,-999.000,9, -999.00,9, -999.00,-999.000,9,-999.000,   45.93,2,   11.38,2, -32.9959,  42.7154,-999.000,-999.000,20090401,       1033
33RR20090320,        I05,      36,          1,         23,         23,2,20090401,       0854,   -32.9964,    42.7154,       4392,   534.2,  12.4864,  35.1510,2,  35.1505,2,    218.2,2,   218.0,2,    5.07,2,   11.27,2,    0.00,2,    0.85,2,   3.058,2,   1.694,2,   1.0160,2,  2117.5,2,  2311.8,2,   7.9161,2,    20.00,-999.000,9,-999.000,9,-999.000,9,  12.4842,2,-999.000,9, -999.00,9, -999.00,-999.000,9,-999.000,   45.20,2,   12.56,2, -32.9960,  42.7154,-999.000,-999.000,20090401,       1031
33RR20090320,        I05,      36,          1,         22,         22,2,20090401,       0854,   -32.9964,    42.7154,       4392,   634.5,  11.4068,  34.9919,2,  34.9885,2,    217.6,2,   217.9,2,    5.65,2,   13.68,2,    0.00,2,    1.00,2,   3.124,2,   1.702,2,   0.9340,2,  2125.9,2,  2306.7,2,   7.8885,2,    20.00,-999.000,9,-999.000,9,-999.000,9,  11.4045,2,-999.000,9, -999.00,9, -999.00,-999.000,9,-999.000,   43.90,2,   15.32,2, -32.9960,  42.7154,-999.000,-999.000,20090401,       1028
33RR20090320,        I05,      36,          1,         21,         21,2,20090401,       0854,   -32.9964,    42.7154,       4392,   734.6,  10.4194,  34.8560,2,  34.8579,2,    216.6,2,   215.9,2,    7.02,2,   15.98,2,    0.00,2,    1.15,2,   3.073,2,   1.634,2,   0.7670,2,  2131.4,2,  2300.3,2,   7.8628,2,    20.00,-999.000,9,-999.000,9,-999.000,9,  10.4255,2,-999.000,9, -999.00,9, -999.00,-999.000,9,-999.000,   43.00,2,   17.64,2, -32.9960,  42.7154,-999.000,-999.000,20090401,       1025
33RR20090320,        I05,      36,          1,         20,         20,2,20090401,       0854,   -32.9964,    42.7154,       4392,   834.8,   8.9288,  34.6793,2,  34.6784,2,    210.0,2,   207.1,2,   11.54,2,   20.32,2,    0.00,2,    1.43,2,   2.809,2,   1.470,2,   0.7140,2,  2149.9,2,  2296.3,2,   7.8127,2,    20.00,-999.000,9,-999.000,9,-999.000,9,   8.9262,2,-999.000,9, -999.00,9, -999.00,-999.000,9,-999.000,   42.20,2,   21.97,2, -32.9961,  42.7154,-999.000,-999.000,20090401,       1022
33RR20090320,        I05,      36,          1,         19,         19,2,20090401,       0854,   -32.9964,    42.7154,       4392,   935.6,   7.4565,  34.5352,2,  34.5337,2,    202.8,2,   201.8,2,   17.25,2,   24.38,2,    0.00,2,    1.73,2,   2.625,2,   1.363,2,   0.6230,2,  2169.5,2,  2293.4,2,   7.7629,2,    20.00,-999.000,9,-999.000,9,-999.000,9,   7.4387,2,-999.000,9, -999.00,9, -999.00,-999.000,9,-999.000,   41.46,2,   26.18,2, -32.9961,  42.7154,-999.000,-999.000,20090401,       1019
33RR20090320,        I05,      36,          1,         18,         18,2,20090401,       0854,   -32.9964,    42.7154,       4392,  1035.0,   6.1331,  34.4405,2,  34.4422,2,    201.7,2,   201.8,2,   23.76,2,   27.38,2,    0.00,2,    1.94,2,   2.398,2,   1.233,2,   0.6110,2,  2182.0,2,  2296.6,2,   7.7310,2,    20.00,-999.000,9,-999.000,9,-999.000,9,   6.1387,2,-999.000,9, -999.00,9, -999.00,-999.000,9,-999.000,   40.91,2,   29.28,2, -32.9960,  42.7155,-999.000,-999.000,20090401,       1016
33RR20090320,        I05,      36,          1,         17,         17,2,20090401,       0854,   -32.9964,    42.7154,       4392,  1136.9,   5.0941,  34.3875,2,  34.3885,2,    201.6,2,   203.7,2,   29.89,2,   29.37,2,    0.00,2,    2.09,2,   2.275,2,   1.158,2,   0.4850,2,  2192.6,2,  2297.9,2,   7.7087,2,    20.00,-999.000,9,-999.000,9,-999.000,9,   5.0971,2,-999.000,9, -999.00,9, -999.00,-999.000,9,-999.000,   40.75,2,   30.95,2, -32.9959,  42.7155,-999.000,-999.000,20090401,       1013
33RR20090320,        I05,      36,          1,         16,         16,2,20090401,       0854,   -32.9964,    42.7154,       4392,  1235.7,   4.5113,  34.4028,2,  34.4034,2,    193.8,2,   194.3,2,   38.82,2,   31.13,2,    0.00,2,    2.23,2,   1.807,2,   0.888,2,   0.3480,2,  2207.7,2,  2305.7,2,   7.6850,2,    20.00,-999.000,9,-999.000,9,-999.000,9,   4.5105,2,-999.000,9, -999.00,9, -999.00,-999.000,9,-999.000,   40.35,2,   32.42,2, -32.9959,  42.7155,-999.000,-999.000,20090401,       1010
33RR20090320,        I05,      36,          1,         15,         15,2,20090401,       0854,   -32.9964,    42.7154,       4392,  1336.5,   4.0016,  34.4368,2,  34.4370,2,    184.8,2,   185.1,2,   47.77,2,   32.43,2,    0.00,2,    2.31,2,   1.304,2,   0.621,2,   0.2630,2,  2222.3,2,  2314.5,2,   7.6671,2,    20.00,-999.000,9,-999.000,9,-999.000,9,   4.0025,2,-999.000,9, -999.00,9, -999.00,-999.000,9,-999.000,   40.14,2,   33.60,2, -32.9959,  42.7155,-999.000,-999.000,20090401,       1006
33RR20090320,        I05,      36,          1,         14,         14,2,20090401,       0854,   -32.9964,    42.7154,       4392,  1436.5,   3.6468,  34.4826,2,  34.4818,2,    177.6,2,   177.9,2,   55.55,2,   33.28,2,    0.00,2,    2.37,2,   0.905,2,   0.421,2,   0.1320,2,  2231.9,2,  2319.9,2,   7.6551,2,    20.00,-999.000,9,-999.000,9,-999.000,9,   3.6498,2,-999.000,9, -999.00,9, -999.00,-999.000,9,-999.000,   39.91,2,   35.08,2, -32.9959,  42.7156,-999.000,-999.000,20090401,       1003
33RR20090320,        I05,      36,          1,         13,         13,2,20090401,       0854,   -32.9964,    42.7154,       4392,  1538.0,   3.3638,  34.5416,2,  34.5421,2,    172.8,2,   171.5,2,   63.55,2,   33.57,2,    0.00,2,    2.40,2,   0.532,2,   0.252,2,   0.0770,2,  2245.1,2,  2330.3,2,   7.6490,2,    20.00,-999.000,9,-999.000,9,-999.000,9,   3.3629,2,-999.000,9, -999.00,9, -999.00,-999.000,9,-999.000,   40.01,2,   34.88,2, -32.9959,  42.7157,-999.000,-999.000,20090401,       0959
33RR20090320,        I05,      36,          1,         12,         12,2,20090401,       0854,   -32.9964,    42.7154,       4392,  1663.7,   3.1143,  34.5946,2,  34.5941,2,    171.9,2,   170.5,2,   67.94,2,   33.34,2,    0.00,2,    2.38,2,   0.327,2,   0.159,2,   0.0000,2,  2246.7,6,  2332.7,2,   7.6495,2,    20.00,-999.000,9,-999.000,9,-999.000,9,   3.1134,2,-999.000,9, -999.00,9, -999.00,-999.000,9,-999.000,   40.12,2,   35.06,2, -32.9959,  42.7157,-999.000,-999.000,20090401,       0955
33RR20090320,        I05,      36,          1,         11,         11,2,20090401,       0854,   -32.9964,    42.7154,       4392,  1865.0,   2.8279,  34.6783,2,  34.6778,2,    177.4,2,   176.8,2,   72.34,2,   32.03,2,    0.00,2,    2.27,2,   0.134,6,   0.068,6,   0.0090,6,  2249.1,2,  2341.8,2,   7.6674,2,    20.00,-999.000,9,-999.000,9,-999.000,9,   2.8283,2,-999.000,9, -999.00,9, -999.00,-999.000,9,-999.000,   39.93,2,   33.49,2, -32.9960,  42.7156,-999.000,-999.000,20090401,       0951
33RR20090320,        I05,      36,          1,         10,         10,2,20090401,       0854,   -32.9964,    42.7154,       4392,  2086.3,   2.6795,  34.7343,2,  34.7341,2,    185.8,2,   186.1,2,   72.12,2,   30.55,2,    0.00,2,    2.15,2,   0.064,2,   0.034,2,   0.0000,2,  2244.4,2,  2343.3,2,   7.6877,2,    20.00,-999.000,9,-999.000,9,-999.000,9,   2.6796,2,-999.000,9, -999.00,9, -999.00,-999.000,9,-999.000,   40.20,2,   32.17,2, -32.9959,  42.7156,-999.000,-999.000,20090401,       0945
33RR20090320,        I05,      36,          1,          9,          9,2,20090401,       0854,   -32.9964,    42.7154,       4392,  2333.3,   2.5385,  34.7804,2,  34.7809,2,    198.0,2,   198.8,2,   68.69,2,   28.85,2,    0.00,2,    2.01,2,   0.034,2,   0.021,2,   0.0000,2,  2233.4,2,  2344.5,2,   7.7109,2,    20.00,-999.000,9,-999.000,9,-999.000,9,   2.5380,2,-999.000,9, -999.00,9, -999.00,-999.000,9,-999.000,   39.78,2,   30.05,2, -32.9960,  42.7157,-999.000,-999.000,20090401,       0940
33RR20090320,        I05,      36,          1,          8,          8,2,20090401,       0854,   -32.9964,    42.7154,       4392,  2581.1,   2.3677,  34.7973,2,  34.7972,2,    204.1,2,   205.4,2,   70.69,2,   28.17,2,    0.00,2,    1.97,2,   0.021,2,   0.017,2,   0.0000,2,  2233.3,2,  2345.3,2,   7.7222,2,    20.00,-999.000,9,-999.000,9,-999.000,9,   2.3671,2,-999.000,9, -999.00,9, -999.00,-999.000,9,-999.000,   39.82,2,   29.85,2, -32.9960,  42.7156,-999.000,-999.000,20090401,       0934
33RR20090320,        I05,      36,          1,          7,          7,2,20090401,       0854,   -32.9964,    42.7154,       4392,  2834.3,   2.2121,  34.8018,2,  34.8024,2,    210.3,2,   210.8,2,   72.28,2,   27.89,2,    0.00,2,    1.94,2,   0.014,2,   0.012,2,   0.0000,2,  2229.9,2,  2348.0,2,   7.7290,2,    20.00,-999.000,9,-999.000,9,-999.000,9,   2.2119,2,-999.000,9, -999.00,9, -999.00,-999.000,9,-999.000,   39.69,2,   29.64,2, -32.9962,  42.7155,-999.000,-999.000,20090401,       0929
33RR20090320,        I05,      36,          1,          6,          6,2,20090401,       0854,   -32.9964,    42.7154,       4392,  3122.8,   2.0071,  34.7958,2,  34.7969,2,    213.7,2,   213.6,2,   77.29,2,   28.05,2,    0.00,2,    1.96,2,   0.015,2,   0.014,2,   0.0000,2,  2232.0,2,  2349.1,2,   7.7287,2,    20.00,-999.000,9,-999.000,9,-999.000,9,   2.0067,2,-999.000,9, -999.00,9, -999.00,-999.000,9,-999.000,   39.85,2,   29.41,2, -32.9963,  42.7154,-999.000,-999.000,20090401,       0922
33RR20090320,        I05,      36,          1,          5,          5,2,20090401,       0854,   -32.9964,    42.7154,       4392,  3426.9,   1.6835,  34.7765,2,  34.7770,2,    215.5,2,   214.7,2,   87.15,2,   28.90,2,    0.00,2,    2.02,2,   0.020,2,   0.015,2,   0.0000,2,  2239.5,2,  2356.5,2,   7.7225,2,    20.00,-999.000,9,-999.000,9,-999.000,9,   1.6834,2,-999.000,9, -999.00,9, -999.00,-999.000,9,-999.000,   40.10,2,   30.73,2, -32.9963,  42.7153,-999.000,-999.000,20090401,       0916
33RR20090320,        I05,      36,          1,          4,          4,2,20090401,       0854,   -32.9964,    42.7154,       4392,  3732.0,   1.2732,  34.7490,2,  34.7493,2,    216.2,2,   216.2,2,   99.86,2,   30.03,2,    0.00,2,    2.13,2,   0.038,2,   0.022,2,   0.0000,2,  2248.1,2,  2358.7,2,   7.7128,2,    20.00,-999.000,9,-999.000,9,-999.000,9,   1.2733,2,-999.000,9, -999.00,9, -999.00,-999.000,9,-999.000,   39.93,2,   31.45,2, -32.9963,  42.7153,-999.000,-999.000,20090401,       0910
33RR20090320,        I05,      36,          1,          3,          3,2,20090401,       0854,   -32.9964,    42.7154,       4392,  4036.2,   1.0078,  34.7288,2,  34.7285,2,    217.0,2,   217.2,2,  108.16,2,   30.83,2,    0.00,2,    2.20,2,   0.060,6,   0.034,6,   0.0000,6,  2251.9,2,  2364.4,2,   7.7048,2,    20.00,-999.000,9,-999.000,9,-999.000,9,   1.0076,2,-999.000,9, -999.00,9, -999.00,-999.000,9,-999.000,   40.06,2,   32.25,2, -32.9962,  42.7153,-999.000,-999.000,20090401,       0904
33RR20090320,        I05,      36,          1,          2,          2,2,20090401,       0854,   -32.9964,    42.7154,       4392,  4290.8,   0.8207,  34.7142,2,  34.7134,2,    218.3,2,   217.6,2,  114.84,2,   31.46,2,    0.00,2,    2.24,2,   0.081,2,   0.042,2,   0.0000,2,  2257.7,2,  2364.9,2,   7.6999,2,    20.00,-999.000,9,-999.000,9,-999.000,9,   0.8202,2,-999.000,9, -999.00,9, -999.00,-999.000,9,-999.000,   39.63,2,   33.27,2, -32.9963,  42.7154,-999.000,-999.000,20090401,       0858
33RR20090320,        I05,      36,          1,          1,          1,2,20090401,       0854,   -32.9964,    42.7154,       4392,  4453.3,   0.6656,  34.7022,2,  34.7018,2,    217.9,2,   218.4,2,  120.11,2,   31.97,2,    0.00,2,    2.27,2,   0.115,2,   0.058,2,   0.0000,2,  2265.0,6,  2365.9,2,   7.6958,2,    20.00,-999.000,9,-999.000,9,-999.000,9,   0.6654,2,-999.000,9, -999.00,9, -999.00,-999.000,9,-999.000,   40.18,2,   33.30,2, -32.9964,  42.7154,-999.000,-999.000,20090401,       0854