BOTTLE,20220814CCHSIOAMB
EXPOCODE,SECT_ID,STNNBR,CASTNO,SAMPNO,BTLNBR,BTLNBR_FLAG_W,DATE,TIME,LATITUDE,LONGITUDE,DEPTH,CTDPRS,CTDTMP,CTDSAL,CTDSAL_FLAG_W,SALNTY,SALNTY_FLAG_W,CTDOXY,CTDOXY_FLAG_W,OXYGEN,OXYGEN_FLAG_W,SILCAT,SILCAT_FLAG_W,NITRAT,NITRAT_FLAG_W,NITRIT,NITRIT_FLAG_W,PHSPHT,PHSPHT_FLAG_W,CFC-11,CFC-11_FLAG_W,CFC-12,CFC-12_FLAG_W,SF6,SF6_FLAG_W,TCARBN,TCARBN_FLAG_W,ALKALI,ALKALI_FLAG_W,PH_TOT,PH_TOT_FLAG_W,PH_TMP,TRITUM,TRITUM_FLAG_W,HELIUM,HELIUM_FLAG_W,DELHE3,DELHE3_FLAG_W,REFTMP,REFTMP_FLAG_W,DELC13,DELC13_FLAG_W,DELC14,DELC14_FLAG_W,C14ERR,NEON,NEON_FLAG_W,NEONER,DOC,DOC_FLAG_W,TDN,TDN_FLAG_W,BTL_LAT,BTL_LON,HELIER,DELHER,BTL_DATE,BTL_TIME
,,,,,,,,,,,METERS,DBAR,ITS-90,PSS-78,,PSS-78,,UMOL/KG,,UMOL/KG,,UMOL/KG,,UMOL/KG,,UMOL/KG,,UMOL/KG,,PMOL/KG,,PMOL/KG,,FMOL/KG,,UMOL/KG,,UMOL/KG,,,,DEG C,TU,,NMOL/KG,,PERCNT,,DEG C,,/MILLE,,/MILLE,,/MILLE,NMOL/KG,,NMOL/KG,UMOL/KG,,UMOL/KG,,,,NMOL/KG,PERCNT,,
33RR20090320,        I05,     142,          1,         36,         36,2,20090429,       1033,   -33.3118,    93.4189,       4314,     4.5,  18.3192,  35.4517,2,  35.4528,2,    238.6,2,   238.9,2,    0.96,2,    0.00,2,    0.00,2,    0.18,2,-999.000,9,-999.000,9,-999.0000,9,  2064.2,6,  2337.9,2,   8.0712,2,    20.00,-999.000,9,-999.000,9,-999.000,9,  18.3168,2,-999.000,9, -999.00,9, -999.00,-999.000,9,-999.000, -999.00,9, -999.00,9, -33.3116,  93.4204,-999.000,-999.000,20090429,       1228
33RR20090320,        I05,     142,          1,         35,         35,2,20090429,       1033,   -33.3118,    93.4189,       4314,    33.6,  18.2074,  35.4447,2,  35.4462,2,    240.3,2,   239.2,2,    0.76,2,    0.00,2,    0.00,2,    0.18,2,-999.000,9,-999.000,9,-999.0000,9,  2063.8,2,  2337.9,2,   8.0709,2,    20.00,-999.000,9,-999.000,9,-999.000,9,  18.2033,2,-999.000,9, -999.00,9, -999.00,-999.000,9,-999.000, -999.00,9, -999.00,9, -33.3116,  93.4204,-999.000,-999.000,20090429,       1227
33RR20090320,        I05,     142,          1,         34,         34,2,20090429,       1033,   -33.3118,    93.4189,       4314,    62.3,  15.9161,  35.3568,4,  35.3780,2,    253.5,2,   253.3,2,    1.46,2,    1.25,2,    0.03,2,    0.28,2,-999.000,9,-999.000,9,-999.0000,9,  2083.0,2,  2331.4,2,   8.0353,2,    20.00,-999.000,9,-999.000,9,-999.000,9,  16.0743,2,-999.000,9, -999.00,9, -999.00,-999.000,9,-999.000, -999.00,9, -999.00,9, -33.3116,  93.4204,-999.000,-999.000,20090429,       1225
33RR20090320,        I05,     142,          1,         33,         33,2,20090429,       1033,   -33.3118,    93.4189,       4314,    87.1,  13.9140,  35.2830,2,  35.2859,2,    242.1,2,   242.6,2,    1.99,2,    4.07,2,    0.44,2,    0.49,2,-999.000,9,-999.000,9,-999.0000,9,  2100.0,2,  2324.0,2,   7.9791,2,    20.00,-999.000,9,-999.000,9,-999.000,9,  13.9161,2,-999.000,9, -999.00,9, -999.00,-999.000,9,-999.000, -999.00,9, -999.00,9, -33.3116,  93.4204,-999.000,-999.000,20090429,       1224
33RR20090320,        I05,     142,          1,         32,         32,2,20090429,       1033,   -33.3118,    93.4189,       4314,   111.9,  13.3781,  35.2342,2,  35.2294,2,    240.9,2,   239.8,2,    1.98,2,    5.81,2,    0.15,2,    0.56,2,-999.000,9,-999.000,9,-999.0000,9,  -999.0,9,  -999.0,9,-999.0000,9,  -999.00,-999.000,9,-999.000,9,-999.000,9,  13.3739,2,-999.000,9, -999.00,9, -999.00,-999.000,9,-999.000, -999.00,9, -999.00,9, -33.3116,  93.4204,-999.000,-999.000,20090429,       1222
33RR20090320,        I05,     142,          1,         31,         31,2,20090429,       1033,   -33.3118,    93.4189,       4314,   136.2,  13.1999,  35.2415,2,  35.2475,2,    235.9,2,   239.3,2,    2.14,2,    6.12,2,    0.01,2,    0.57,2,-999.000,9,-999.000,9,-999.0000,9,  2106.8,2,  2319.1,2,   7.9595,2,    20.00,-999.000,9,-999.000,9,-999.000,9,  13.2106,2,-999.000,9, -999.00,9, -999.00,-999.000,9,-999.000, -999.00,9, -999.00,9, -33.3116,  93.4204,-999.000,-999.000,20090429,       1221
33RR20090320,        I05,     142,          1,         30,         30,2,20090429,       1033,   -33.3118,    93.4189,       4314,   166.7,  12.6767,  35.1675,2,  35.1688,2,    239.9,2,   242.9,2,    2.30,2,    7.13,2,    0.01,2,    0.62,2,-999.000,9,-999.000,9,-999.0000,9,  -999.0,9,  -999.0,9,-999.0000,9,  -999.00,-999.000,9,-999.000,9,-999.000,9,  12.6774,2,-999.000,9, -999.00,9, -999.00,-999.000,9,-999.000, -999.00,9, -999.00,9, -33.3116,  93.4204,-999.000,-999.000,20090429,       1219
33RR20090320,        I05,     142,          1,         29,         29,2,20090429,       1033,   -33.3118,    93.4189,       4314,   216.2,  12.0522,  35.0683,2,  35.0699,2,    240.8,2,   242.5,2,    2.65,2,    8.58,2,    0.00,2,    0.71,2,-999.000,9,-999.000,9,-999.0000,9,  2111.3,2,  2305.8,2,   7.9318,2,    20.00,-999.000,9,-999.000,9,-999.000,9,  12.0545,2,-999.000,9, -999.00,9, -999.00,-999.000,9,-999.000, -999.00,9, -999.00,9, -33.3117,  93.4204,-999.000,-999.000,20090429,       1217
33RR20090320,        I05,     142,          1,         28,         28,2,20090429,       1033,   -33.3118,    93.4189,       4314,   265.7,  11.5317,  34.9903,2,  34.9942,2,    243.1,2,   243.1,2,    3.00,2,    9.81,2,    0.00,2,    0.78,2,-999.000,9,-999.000,9,-999.0000,9,  -999.0,9,  -999.0,9,-999.0000,9,  -999.00,-999.000,9,-999.000,9,-999.000,9,  11.5400,2,-999.000,9, -999.00,9, -999.00,-999.000,9,-999.000, -999.00,9, -999.00,9, -33.3117,  93.4204,-999.000,-999.000,20090429,       1215
33RR20090320,        I05,     142,          1,         27,         27,2,20090429,       1033,   -33.3118,    93.4189,       4314,   316.6,  11.1472,  34.9298,2,  34.9293,2,    244.6,2,   244.1,2,    3.52,2,   11.09,2,    0.00,2,    0.86,2,-999.000,9,-999.000,9,-999.0000,9,  -999.0,9,  -999.0,9,-999.0000,9,  -999.00,-999.000,9,-999.000,9,-999.000,9,  11.1372,2,-999.000,9, -999.00,9, -999.00,-999.000,9,-999.000, -999.00,9, -999.00,9, -33.3117,  93.4203,-999.000,-999.000,20090429,       1212
33RR20090320,        I05,     142,          1,         26,         26,2,20090429,       1033,   -33.3118,    93.4189,       4314,   366.0,  10.8762,  34.8891,2,  34.8917,2,    245.1,2,   245.0,2,    3.86,2,   11.71,2,    0.00,2,    0.90,2,-999.000,9,-999.000,9,-999.0000,9,  -999.0,9,  -999.0,9,-999.0000,9,  -999.00,-999.000,9,-999.000,9,-999.000,9,  10.8806,2,-999.000,9, -999.00,9, -999.00,-999.000,9,-999.000, -999.00,9, -999.00,9, -33.3117,  93.4202,-999.000,-999.000,20090429,       1210
33RR20090320,        I05,     142,          1,         25,         25,2,20090429,       1033,   -33.3118,    93.4189,       4314,   417.6,  10.6675,  34.8611,2,  34.8622,2,    243.7,2,   243.9,2,    4.03,2,   12.38,2,    0.00,2,    0.94,2,-999.000,9,-999.000,9,-999.0000,9,  2117.5,2,  2300.0,2,   7.8948,2,    20.00,-999.000,9,-999.000,9,-999.000,9,  10.6756,2,-999.000,9, -999.00,9, -999.00,-999.000,9,-999.000, -999.00,9, -999.00,9, -33.3117,  93.4202,-999.000,-999.000,20090429,       1208
33RR20090320,        I05,     142,          1,         24,         24,2,20090429,       1033,   -33.3118,    93.4189,       4314,   464.9,  10.4291,  34.8286,2,  34.8294,2,    242.5,2,   243.7,2,    4.20,2,   12.94,2,    0.00,2,    0.97,2,-999.000,9,-999.000,9,-999.0000,9,  -999.0,9,  -999.0,9,-999.0000,9,  -999.00,-999.000,9,-999.000,9,-999.000,9,  10.4328,2,-999.000,9, -999.00,9, -999.00,-999.000,9,-999.000, -999.00,9, -999.00,9, -33.3116,  93.4201,-999.000,-999.000,20090429,       1206
33RR20090320,        I05,     142,          1,         23,         23,2,20090429,       1033,   -33.3118,    93.4189,       4314,   537.0,  10.1068,  34.7913,2,  34.7931,2,    239.9,2,   239.7,2,    4.72,2,   14.23,2,    0.00,2,    1.04,2,-999.000,9,-999.000,9,-999.0000,9,  -999.0,9,  -999.0,9,-999.0000,9,  -999.00,-999.000,9,-999.000,9,-999.000,9,  10.1080,2,-999.000,9, -999.00,9, -999.00,-999.000,9,-999.000, -999.00,9, -999.00,9, -33.3117,  93.4200,-999.000,-999.000,20090429,       1203
33RR20090320,        I05,     142,          1,         22,         22,2,20090429,       1033,   -33.3118,    93.4189,       4314,   637.1,   9.4116,  34.6953,2,  34.6966,2,    236.2,2,   236.5,2,    5.44,2,   16.24,2,    0.00,2,    1.18,2,-999.000,9,-999.000,9,-999.0000,9,  -999.0,9,  -999.0,9,-999.0000,9,  -999.00,-999.000,9,-999.000,9,-999.000,9,   9.4166,2,-999.000,9, -999.00,9, -999.00,-999.000,9,-999.000, -999.00,9, -999.00,9, -33.3117,  93.4198,-999.000,-999.000,20090429,       1200
33RR20090320,        I05,     142,          1,         21,         21,2,20090429,       1033,   -33.3118,    93.4189,       4314,   735.9,   8.6961,  34.6069,2,  34.6076,2,    224.5,2,   225.1,2,    7.59,2,   19.21,2,    0.00,2,    1.37,2,-999.000,9,-999.000,9,-999.0000,9,  2138.0,2,  2290.2,2,   7.8230,2,    20.00,-999.000,9,-999.000,9,-999.000,9,   8.6956,2,-999.000,9, -999.00,9, -999.00,-999.000,9,-999.000, -999.00,9, -999.00,9, -33.3117,  93.4197,-999.000,-999.000,20090429,       1157
33RR20090320,        I05,     142,          1,         20,         20,2,20090429,       1033,   -33.3118,    93.4189,       4314,   834.9,   7.4923,  34.5033,2,  34.5047,2,    205.9,2,   205.9,2,   13.76,2,   23.76,2,    0.00,2,    1.67,2,-999.000,9,-999.000,9,-999.0000,9,  -999.0,9,  -999.0,9,-999.0000,9,  -999.00,-999.000,9,-999.000,9,-999.000,9,   7.4871,2,-999.000,9, -999.00,9, -999.00,-999.000,9,-999.000, -999.00,9, -999.00,9, -33.3117,  93.4196,-999.000,-999.000,20090429,       1154
33RR20090320,        I05,     142,          1,         19,         19,2,20090429,       1033,   -33.3118,    93.4189,       4314,   932.7,   6.0467,  34.4087,2,  34.4080,2,    200.3,2,   200.9,2,   21.60,2,   27.48,2,    0.00,2,    1.94,2,-999.000,9,-999.000,9,-999.0000,9,  -999.0,9,  -999.0,9,-999.0000,9,  -999.00,-999.000,9,-999.000,9,-999.000,9,   6.0397,2,-999.000,9, -999.00,9, -999.00,-999.000,9,-999.000, -999.00,9, -999.00,9, -33.3118,  93.4196,-999.000,-999.000,20090429,       1151
33RR20090320,        I05,     142,          1,         18,         18,2,20090429,       1033,   -33.3118,    93.4189,       4314,  1037.4,   4.7900,  34.3620,2,  34.3629,2,    200.3,2,   199.6,2,   30.93,2,   30.14,2,    0.00,2,    2.14,2,-999.000,9,-999.000,9,-999.0000,9,  -999.0,9,  -999.0,9,-999.0000,9,  -999.00,-999.000,9,-999.000,9,-999.000,9,   4.7934,2,-999.000,9, -999.00,9, -999.00,-999.000,9,-999.000, -999.00,9, -999.00,9, -33.3118,  93.4195,-999.000,-999.000,20090429,       1148
33RR20090320,        I05,     142,          1,         17,         17,2,20090429,       1033,   -33.3118,    93.4189,       4314,  1137.7,   4.1129,  34.3820,2,  34.3829,2,    189.8,2,   188.9,2,   42.13,2,   32.01,2,    0.00,2,    2.29,2,-999.000,9,-999.000,9,-999.0000,9,  2210.0,2,  2306.5,2,   7.6707,2,    20.00,-999.000,9,-999.000,9,-999.000,9,   4.1139,2,-999.000,9, -999.00,9, -999.00,-999.000,9,-999.000, -999.00,9, -999.00,9, -33.3119,  93.4194,-999.000,-999.000,20090429,       1145
33RR20090320,        I05,     142,          1,         16,         16,2,20090429,       1033,   -33.3118,    93.4189,       4314,  1237.5,   3.8345,  34.4336,2,  34.4338,2,    173.7,2,   173.3,2,   53.93,2,   33.37,2,    0.00,2,    2.40,2,-999.000,9,-999.000,9,-999.0000,9,  -999.0,9,  -999.0,9,-999.0000,9,  -999.00,-999.000,9,-999.000,9,-999.000,9,   3.8334,2,-999.000,9, -999.00,9, -999.00,-999.000,9,-999.000, -999.00,9, -999.00,9, -33.3119,  93.4194,-999.000,-999.000,20090429,       1142
33RR20090320,        I05,     142,          1,         15,         15,2,20090429,       1033,   -33.3118,    93.4189,       4314,  1339.0,   3.5196,  34.4905,2,  34.4917,2,    161.9,2,   160.7,2,   65.41,2,   34.23,2,    0.00,2,    2.48,2,-999.000,9,-999.000,9,-999.0000,9,  -999.0,9,  -999.0,9,-999.0000,9,  -999.00,-999.000,9,-999.000,9,-999.000,9,   3.5188,2,-999.000,9, -999.00,9, -999.00,-999.000,9,-999.000, -999.00,9, -999.00,9, -33.3119,  93.4194,-999.000,-999.000,20090429,       1139
33RR20090320,        I05,     142,          1,         14,         14,2,20090429,       1033,   -33.3118,    93.4189,       4314,  1436.6,   3.2957,  34.5317,2,  34.5316,2,    156.7,2,   156.9,2,   71.90,2,   34.57,2,    0.00,2,    2.50,2,-999.000,9,-999.000,9,-999.0000,9,  -999.0,9,  -999.0,9,-999.0000,9,  -999.00,-999.000,9,-999.000,9,-999.000,9,   3.2951,2,-999.000,9, -999.00,9, -999.00,-999.000,9,-999.000, -999.00,9, -999.00,9, -33.3119,  93.4194,-999.000,-999.000,20090429,       1136
33RR20090320,        I05,     142,          1,         13,         13,2,20090429,       1033,   -33.3118,    93.4189,       4314,  1535.8,   3.0926,  34.5662,2,  34.5675,2,    155.4,2,   156.5,2,   75.98,2,   34.41,2,    0.00,2,    2.50,2,-999.000,9,-999.000,9,-999.0000,9,  -999.0,9,  -999.0,9,-999.0000,9,  -999.00,-999.000,9,-999.000,9,-999.000,9,   3.0903,2,-999.000,9, -999.00,9, -999.00,-999.000,9,-999.000, -999.00,9, -999.00,9, -33.3119,  93.4195,-999.000,-999.000,20090429,       1133
33RR20090320,        I05,     142,          1,         12,         12,2,20090429,       1033,   -33.3118,    93.4189,       4314,  1664.3,   2.9195,  34.6113,2,  34.6120,2,    155.7,2,   155.9,2,   82.11,2,   34.29,2,    0.00,2,    2.49,2,-999.000,9,-999.000,9,-999.0000,9,  -999.0,9,  -999.0,9,-999.0000,9,  -999.00,-999.000,9,-999.000,9,-999.000,9,   2.9198,2,-999.000,9, -999.00,9, -999.00,-999.000,9,-999.000, -999.00,9, -999.00,9, -33.3119,  93.4195,-999.000,-999.000,20090429,       1130
33RR20090320,        I05,     142,          1,         11,         11,2,20090429,       1033,   -33.3118,    93.4189,       4314,  1865.5,   2.6332,  34.6643,2,  34.6638,2,    162.3,2,   163.4,2,   85.83,2,   33.33,2,    0.00,2,    2.41,2,-999.000,9,-999.000,9,-999.0000,9,  2262.6,2,  2352.4,2,   7.6439,2,    20.00,-999.000,9,-999.000,9,-999.000,9,   2.6334,2,-999.000,9, -999.00,9, -999.00,-999.000,9,-999.000, -999.00,9, -999.00,9, -33.3119,  93.4196,-999.000,-999.000,20090429,       1126
33RR20090320,        I05,     142,          1,         10,         10,2,20090429,       1033,   -33.3118,    93.4189,       4314,  2081.9,   2.4030,  34.7038,2,  34.7038,2,    172.3,2,   173.0,2,   88.05,2,   32.30,2,    0.00,2,    2.32,2,-999.000,9,-999.000,9,-999.0000,9,  -999.0,9,  -999.0,9,-999.0000,9,  -999.00,-999.000,9,-999.000,9,-999.000,9,   2.4034,2,-999.000,9, -999.00,9, -999.00,-999.000,9,-999.000, -999.00,9, -999.00,9, -33.3120,  93.4195,-999.000,-999.000,20090429,       1122
33RR20090320,        I05,     142,          1,          9,          9,2,20090429,       1033,   -33.3118,    93.4189,       4314,  2333.9,   2.1718,  34.7325,2,  34.7341,2,    184.9,2,   184.6,2,   88.40,2,   31.11,2,    0.00,2,    2.23,2,-999.000,9,-999.000,9,-999.0000,9,  -999.0,9,  -999.0,9,-999.0000,9,  -999.00,-999.000,9,-999.000,9,-999.000,9,   2.1723,2,-999.000,9, -999.00,9, -999.00,-999.000,9,-999.000, -999.00,9, -999.00,9, -33.3119,  93.4195,-999.000,-999.000,20090429,       1117
33RR20090320,        I05,     142,          1,          8,          8,2,20090429,       1033,   -33.3118,    93.4189,       4314,  2589.2,   1.9248,  34.7440,2,  34.7449,2,    192.5,2,   192.1,2,   93.25,2,   30.72,2,    0.00,2,    2.19,2,-999.000,9,-999.000,9,-999.0000,9,  2251.1,2,  2355.4,2,   7.6845,2,    20.00,-999.000,9,-999.000,9,-999.000,9,   1.9280,2,-999.000,9, -999.00,9, -999.00,-999.000,9,-999.000, -999.00,9, -999.00,9, -33.3118,  93.4193,-999.000,-999.000,20090429,       1112
33RR20090320,        I05,     142,          1,          7,          7,2,20090429,       1033,   -33.3118,    93.4189,       4314,  2833.5,   1.6964,  34.7420,2,  34.7437,3,    196.8,2,   196.3,2,   99.41,2,   30.78,2,    0.00,2,    2.20,2,-999.000,9,-999.000,9,-999.0000,9,  -999.0,9,  -999.0,9,-999.0000,9,  -999.00,-999.000,9,-999.000,9,-999.000,9,   1.6978,2,-999.000,9, -999.00,9, -999.00,-999.000,9,-999.000, -999.00,9, -999.00,9, -33.3118,  93.4192,-999.000,-999.000,20090429,       1106
33RR20090320,        I05,     142,          1,          6,          6,2,20090429,       1033,   -33.3118,    93.4189,       4314,  3097.4,   1.4582,  34.7351,2,  34.7363,2,    198.8,2,   199.3,2,  106.72,2,   31.12,2,    0.00,2,    2.22,2,-999.000,9,-999.000,9,-999.0000,9,  -999.0,9,  -999.0,9,-999.0000,9,  -999.00,-999.000,9,-999.000,9,-999.000,9,   1.4579,2,-999.000,9, -999.00,9, -999.00,-999.000,9,-999.000, -999.00,9, -999.00,9, -33.3118,  93.4191,-999.000,-999.000,20090429,       1101
33RR20090320,        I05,     142,          1,          5,          5,2,20090429,       1033,   -33.3118,    93.4189,       4314,  3396.7,   1.2695,  34.7269,2,  34.7271,2,    201.4,2,   201.4,2,  112.91,2,   31.40,2,    0.00,2,    2.24,2,-999.000,9,-999.000,9,-999.0000,9,  2259.2,2,  2365.4,2,   7.6871,2,    20.00,-999.000,9,-999.000,9,-999.000,9,   1.2698,2,-999.000,9, -999.00,9, -999.00,-999.000,9,-999.000, -999.00,9, -999.00,9, -33.3119,  93.4189,-999.000,-999.000,20090429,       1054
33RR20090320,        I05,     142,          1,          4,          4,2,20090429,       1033,   -33.3118,    93.4189,       4314,  3700.6,   1.1457,  34.7202,2,  34.7212,2,    202.6,2,   203.1,2,  117.22,2,   31.70,2,    0.00,2,    2.26,2,-999.000,9,-999.000,9,-999.0000,9,  -999.0,9,  -999.0,9,-999.0000,9,  -999.00,-999.000,9,-999.000,9,-999.000,9,   1.1456,2,-999.000,9, -999.00,9, -999.00,-999.000,9,-999.000, -999.00,9, -999.00,9, -33.3119,  93.4188,-999.000,-999.000,20090429,       1048
33RR20090320,        I05,     142,          1,          3,          3,2,20090429,       1033,   -33.3118,    93.4189,       4314,  4005.4,   1.0908,  34.7161,2,  34.7183,3,    203.5,2,   203.9,2,  119.65,2,   31.86,2,    0.00,2,    2.27,2,-999.000,9,-999.000,9,-999.0000,9,  -999.0,9,  -999.0,9,-999.0000,9,  -999.00,-999.000,9,-999.000,9,-999.000,9,   1.0911,2,-999.000,9, -999.00,9, -999.00,-999.000,9,-999.000, -999.00,9, -999.00,9, -33.3120,  93.4187,-999.000,-999.000,20090429,       1042
33RR20090320,        I05,     142,          1,          2,          2,2,20090429,       1033,   -33.3118,    93.4189,       4314,  4241.7,   1.0831,  34.7146,2,  34.7159,3,    204.6,2,   204.1,2,  120.57,2,   31.92,2,    0.00,2,    2.27,2,-999.000,9,-999.000,9,-999.0000,9,  -999.0,9,  -999.0,9,-999.0000,9,  -999.00,-999.000,9,-999.000,9,-999.000,9,   1.0830,2,-999.000,9, -999.00,9, -999.00,-999.000,9,-999.000, -999.00,9, -999.00,9, -33.3119,  93.4188,-999.000,-999.000,20090429,       1037
33RR20090320,        I05,     142,          1,          1,          1,2,20090429,       1033,   -33.3118,    93.4189,       4314,  4374.6,   1.0804,  34.7137,2,  34.7150,3,    204.4,2,   204.3,2,  120.74,2,   31.98,2,    0.00,2,    2.28,2,-999.000,9,-999.000,9,-999.0000,9,  2268.0,6,  2375.3,2,   7.6917,2,    20.00,-999.000,9,-999.000,9,-999.000,9,   1.0802,2,-999.000,9, -999.00,9, -999.00,-999.000,9,-999.000, -999.00,9, -999.00,9, -33.3118,  93.4189,-999.000,-999.000,20090429,       1033