BOTTLE,20220814CCHSIOAMB
EXPOCODE,SECT_ID,STNNBR,CASTNO,SAMPNO,BTLNBR,BTLNBR_FLAG_W,DATE,TIME,LATITUDE,LONGITUDE,DEPTH,CTDPRS,CTDTMP,CTDSAL,CTDSAL_FLAG_W,SALNTY,SALNTY_FLAG_W,CTDOXY,CTDOXY_FLAG_W,OXYGEN,OXYGEN_FLAG_W,SILCAT,SILCAT_FLAG_W,NITRAT,NITRAT_FLAG_W,NITRIT,NITRIT_FLAG_W,PHSPHT,PHSPHT_FLAG_W,CFC-11,CFC-11_FLAG_W,CFC-12,CFC-12_FLAG_W,SF6,SF6_FLAG_W,TCARBN,TCARBN_FLAG_W,ALKALI,ALKALI_FLAG_W,PH_TOT,PH_TOT_FLAG_W,PH_TMP,TRITUM,TRITUM_FLAG_W,HELIUM,HELIUM_FLAG_W,DELHE3,DELHE3_FLAG_W,REFTMP,REFTMP_FLAG_W,DELC13,DELC13_FLAG_W,DELC14,DELC14_FLAG_W,C14ERR,NEON,NEON_FLAG_W,NEONER,DOC,DOC_FLAG_W,TDN,TDN_FLAG_W,BTL_LAT,BTL_LON,HELIER,DELHER,BTL_DATE,BTL_TIME
,,,,,,,,,,,METERS,DBAR,ITS-90,PSS-78,,PSS-78,,UMOL/KG,,UMOL/KG,,UMOL/KG,,UMOL/KG,,UMOL/KG,,UMOL/KG,,PMOL/KG,,PMOL/KG,,FMOL/KG,,UMOL/KG,,UMOL/KG,,,,DEG C,TU,,NMOL/KG,,PERCNT,,DEG C,,/MILLE,,/MILLE,,/MILLE,NMOL/KG,,NMOL/KG,UMOL/KG,,UMOL/KG,,,,NMOL/KG,PERCNT,,
33RR20090320,        I05,     152,          1,         36,         36,2,20090502,       0245,   -33.9992,    98.9896,       4728,     6.6,  17.6565,  35.6009,2,  35.6002,2,    240.3,2,   240.1,2,    0.31,2,    0.00,2,    0.00,2,    0.16,2,-999.000,9,-999.000,9,-999.0000,9,  2076.7,6,  2342.7,2,-999.0000,5,    20.00,-999.000,9,-999.000,9,-999.000,9,  17.6540,2,-999.000,9, -999.00,9, -999.00,-999.000,9,-999.000, -999.00,9, -999.00,9, -33.9995,  98.9895,-999.000,-999.000,20090502,       0436
33RR20090320,        I05,     152,          1,         35,         35,2,20090502,       0245,   -33.9992,    98.9896,       4728,    32.6,  17.6479,  35.6334,2,  35.6237,2,    239.6,2,   239.2,2,    0.31,2,    0.06,2,    0.00,2,    0.16,2,-999.000,9,-999.000,9,-999.0000,9,  2080.9,2,  2348.5,2,   8.0662,2,    20.00,-999.000,9,-999.000,9,-999.000,9,  17.6361,2,-999.000,9, -999.00,9, -999.00,-999.000,9,-999.000, -999.00,9, -999.00,9, -33.9995,  98.9895,-999.000,-999.000,20090502,       0435
33RR20090320,        I05,     152,          1,         34,         34,2,20090502,       0245,   -33.9992,    98.9896,       4728,    56.6,  17.8748,  35.7423,2,  35.7459,2,    238.3,2,   238.0,2,    0.49,2,    0.12,2,    0.00,2,    0.14,2,-999.000,9,-999.000,9,-999.0000,9,  2083.2,2,  2353.3,2,   8.0707,2,    20.00,-999.000,9,-999.000,9,-999.000,9,  17.8819,2,-999.000,9, -999.00,9, -999.00,-999.000,9,-999.000, -999.00,9, -999.00,9, -33.9994,  98.9895,-999.000,-999.000,20090502,       0433
33RR20090320,        I05,     152,          1,         33,         33,2,20090502,       0245,   -33.9992,    98.9896,       4728,    82.9,  16.8128,  35.7013,2,  35.6953,2,    246.4,2,   246.4,2,    0.66,2,    0.21,2,    0.01,2,    0.16,2,-999.000,9,-999.000,9,-999.0000,9,  2086.2,2,  2349.7,2,   8.0570,2,    20.00,-999.000,9,-999.000,9,-999.000,9,  16.8055,2,-999.000,9, -999.00,9, -999.00,-999.000,9,-999.000, -999.00,9, -999.00,9, -33.9994,  98.9895,-999.000,-999.000,20090502,       0432
33RR20090320,        I05,     152,          1,         32,         32,2,20090502,       0245,   -33.9992,    98.9896,       4728,   106.3,  14.6747,  35.5310,2,  35.5325,2,    239.2,2,   239.3,2,    1.01,2,    2.70,2,    0.42,2,    0.34,2,-999.000,9,-999.000,9,-999.0000,9,  2104.2,2,  2337.2,2,   8.0052,2,    20.00,-999.000,9,-999.000,9,-999.000,9,  14.6826,2,-999.000,9, -999.00,9, -999.00,-999.000,9,-999.000, -999.00,9, -999.00,9, -33.9994,  98.9895,-999.000,-999.000,20090502,       0431
33RR20090320,        I05,     152,          1,         31,         31,2,20090502,       0245,   -33.9992,    98.9896,       4728,   157.4,  13.6018,  35.3667,2,  35.3698,2,    239.2,2,   238.8,2,    1.38,2,    5.41,2,    0.01,2,    0.47,2,-999.000,9,-999.000,9,-999.0000,9,  -999.0,9,  -999.0,9,-999.0000,9,  -999.00,-999.000,9,-999.000,9,-999.000,9,  13.6046,2,-999.000,9, -999.00,9, -999.00,-999.000,9,-999.000, -999.00,9, -999.00,9, -33.9993,  98.9895,-999.000,-999.000,20090502,       0429
33RR20090320,        I05,     152,          1,         30,         30,2,20090502,       0245,   -33.9992,    98.9896,       4728,   206.4,  12.7186,  35.2114,2,  35.2082,2,    243.1,2,   242.9,2,    1.55,2,    7.05,2,    0.01,2,    0.58,2,-999.000,9,-999.000,9,-999.0000,9,  2114.6,2,  2321.1,2,   7.9527,2,    20.00,-999.000,9,-999.000,9,-999.000,9,  12.7302,2,-999.000,9, -999.00,9, -999.00,-999.000,9,-999.000, -999.00,9, -999.00,9, -33.9992,  98.9895,-999.000,-999.000,20090502,       0428
33RR20090320,        I05,     152,          1,         29,         29,2,20090502,       0245,   -33.9992,    98.9896,       4728,   256.6,  12.0250,  35.0895,2,  35.0890,2,    246.8,2,   246.3,2,    1.73,2,    8.41,2,    0.00,2,    0.65,2,-999.000,9,-999.000,9,-999.0000,9,  -999.0,9,  -999.0,9,-999.0000,9,  -999.00,-999.000,9,-999.000,9,-999.000,9,  12.0272,2,-999.000,9, -999.00,9, -999.00,-999.000,9,-999.000, -999.00,9, -999.00,9, -33.9992,  98.9895,-999.000,-999.000,20090502,       0426
33RR20090320,        I05,     152,          1,         28,         28,2,20090502,       0245,   -33.9992,    98.9896,       4728,   308.2,  11.4281,  34.9833,2,  34.9853,2,    248.4,2,   248.6,2,    2.08,2,    9.78,2,    0.00,2,    0.74,2,-999.000,9,-999.000,9,-999.0000,9,  2116.2,2,  2310.3,2,   7.9233,2,    20.00,-999.000,9,-999.000,9,-999.000,9,  11.4158,2,-999.000,9, -999.00,9, -999.00,-999.000,9,-999.000, -999.00,9, -999.00,9, -33.9992,  98.9895,-999.000,-999.000,20090502,       0424
33RR20090320,        I05,     152,          1,         27,         27,2,20090502,       0245,   -33.9992,    98.9896,       4728,   356.7,  10.7920,  34.8746,2,  34.8820,2,    249.6,2,   249.2,2,    2.63,2,   11.30,2,    0.00,2,    0.84,2,-999.000,9,-999.000,9,-999.0000,9,  -999.0,9,  -999.0,9,-999.0000,9,  -999.00,-999.000,9,-999.000,9,-999.000,9,  10.7997,2,-999.000,9, -999.00,9, -999.00,-999.000,9,-999.000, -999.00,9, -999.00,9, -33.9992,  98.9895,-999.000,-999.000,20090502,       0423
33RR20090320,        I05,     152,          1,         26,         26,2,20090502,       0245,   -33.9992,    98.9896,       4728,   407.3,  10.3962,  34.8154,2,  34.8153,2,    246.6,2,   247.3,2,    3.16,2,   12.84,2,    0.00,2,    0.93,2,-999.000,9,-999.000,9,-999.0000,9,  2123.0,2,  2300.4,2,   7.8912,2,    20.00,-999.000,9,-999.000,9,-999.000,9,  10.3951,2,-999.000,9, -999.00,9, -999.00,-999.000,9,-999.000, -999.00,9, -999.00,9, -33.9991,  98.9894,-999.000,-999.000,20090502,       0421
33RR20090320,        I05,     152,          1,         25,         25,2,20090502,       0245,   -33.9992,    98.9896,       4728,   506.4,   9.8309,  34.7462,2,  34.7495,2,    241.4,2,   243.3,2,    3.89,2,   14.63,2,    0.00,2,    1.04,2,-999.000,9,-999.000,9,-999.0000,9,  2126.4,2,  2297.4,2,   7.8724,2,    20.00,-999.000,9,-999.000,9,-999.000,9,   9.8452,2,-999.000,9, -999.00,9, -999.00,-999.000,9,-999.000, -999.00,9, -999.00,9, -33.9991,  98.9894,-999.000,-999.000,20090502,       0419
33RR20090320,        I05,     152,          1,         24,         24,2,20090502,       0245,   -33.9992,    98.9896,       4728,   606.8,   9.3671,  34.6869,2,  34.6891,2,    237.5,2,   239.1,2,    4.42,2,   16.28,2,    0.00,2,    1.15,2,-999.000,9,-999.000,9,-999.0000,9,  -999.0,9,  -999.0,9,-999.0000,9,  -999.00,-999.000,9,-999.000,9,-999.000,9,   9.3635,2,-999.000,9, -999.00,9, -999.00,-999.000,9,-999.000, -999.00,9, -999.00,9, -33.9991,  98.9894,-999.000,-999.000,20090502,       0416
33RR20090320,        I05,     152,          1,         23,         23,2,20090502,       0245,   -33.9992,    98.9896,       4728,   706.6,   8.7714,  34.6097,2,  34.6097,2,    234.1,2,   233.3,2,    5.88,2,   18.52,2,    0.00,2,    1.29,2,-999.000,9,-999.000,9,-999.0000,9,  2137.1,2,  2291.7,2,   7.8318,2,    20.00,-999.000,9,-999.000,9,-999.000,9,   8.7717,2,-999.000,9, -999.00,9, -999.00,-999.000,9,-999.000, -999.00,9, -999.00,9, -33.9991,  98.9894,-999.000,-999.000,20090502,       0414
33RR20090320,        I05,     152,          1,         22,         22,2,20090502,       0245,   -33.9992,    98.9896,       4728,   806.7,   7.6090,  34.5056,2,  34.5062,2,    211.2,2,   208.6,2,   12.09,2,   23.40,2,    0.00,2,    1.62,2,-999.000,9,-999.000,9,-999.0000,9,  -999.0,9,  -999.0,9,-999.0000,9,  -999.00,-999.000,9,-999.000,9,-999.000,9,   7.6178,2,-999.000,9, -999.00,9, -999.00,-999.000,9,-999.000, -999.00,9, -999.00,9, -33.9991,  98.9894,-999.000,-999.000,20090502,       0412
33RR20090320,        I05,     152,          1,         21,         21,2,20090502,       0245,   -33.9992,    98.9896,       4728,   907.8,   6.2415,  34.4205,2,  34.4222,2,    197.3,2,   198.8,2,   19.97,2,   27.36,2,    0.00,2,    1.89,2,-999.000,9,-999.000,9,-999.0000,9,  2177.0,2,  2292.9,2,   7.7283,2,    20.00,-999.000,9,-999.000,9,-999.000,9,   6.2467,2,-999.000,9, -999.00,9, -999.00,-999.000,9,-999.000, -999.00,9, -999.00,9, -33.9991,  98.9894,-999.000,-999.000,20090502,       0409
33RR20090320,        I05,     152,          1,         20,         20,2,20090502,       0245,   -33.9992,    98.9896,       4728,  1007.9,   5.0768,  34.3776,2,  34.3772,2,    195.4,2,   196.5,2,   29.54,2,   30.06,2,    0.00,2,    2.10,2,-999.000,9,-999.000,9,-999.0000,9,  -999.0,9,  -999.0,9,-999.0000,9,  -999.00,-999.000,9,-999.000,9,-999.000,9,   5.0675,2,-999.000,9, -999.00,9, -999.00,-999.000,9,-999.000, -999.00,9, -999.00,9, -33.9991,  98.9893,-999.000,-999.000,20090502,       0407
33RR20090320,        I05,     152,          1,         19,         19,2,20090502,       0245,   -33.9992,    98.9896,       4728,  1109.0,   4.2167,  34.4003,2,  34.4000,2,    186.3,2,   184.3,2,   43.41,2,   32.32,2,    0.00,2,    2.29,2,-999.000,9,-999.000,9,-999.0000,9,  2215.2,2,  2312.6,2,   7.6673,2,    20.00,-999.000,9,-999.000,9,-999.000,9,   4.2137,2,-999.000,9, -999.00,9, -999.00,-999.000,9,-999.000, -999.00,9, -999.00,9, -33.9990,  98.9893,-999.000,-999.000,20090502,       0404
33RR20090320,        I05,     152,          1,         18,         18,2,20090502,       0245,   -33.9992,    98.9896,       4728,  1208.8,   3.9197,  34.4354,2,  34.4363,2,    172.7,2,   172.3,2,   52.88,2,   33.43,2,    0.00,2,    2.38,2,-999.000,9,-999.000,9,-999.0000,9,  -999.0,9,  -999.0,9,-999.0000,9,  -999.00,-999.000,9,-999.000,9,-999.000,9,   3.9175,2,-999.000,9, -999.00,9, -999.00,-999.000,9,-999.000, -999.00,9, -999.00,9, -33.9991,  98.9893,-999.000,-999.000,20090502,       0402
33RR20090320,        I05,     152,          1,         17,         17,2,20090502,       0245,   -33.9992,    98.9896,       4728,  1308.7,   3.6248,  34.4871,2,  34.4873,2,    159.4,2,   160.0,2,   64.07,2,   34.42,2,    0.00,2,    2.46,2,-999.000,9,-999.000,9,-999.0000,9,  2246.2,2,  2332.4,2,   7.6340,2,    20.00,-999.000,9,-999.000,9,-999.000,9,   3.6236,2,-999.000,9, -999.00,9, -999.00,-999.000,9,-999.000, -999.00,9, -999.00,9, -33.9991,  98.9893,-999.000,-999.000,20090502,       0359
33RR20090320,        I05,     152,          1,         16,         16,2,20090502,       0245,   -33.9992,    98.9896,       4728,  1408.9,   3.3904,  34.5323,2,  34.5327,2,    153.8,2,   153.6,2,   71.74,2,   34.52,2,    0.00,2,    2.50,2,-999.000,9,-999.000,9,-999.0000,9,  -999.0,9,  -999.0,9,-999.0000,9,  -999.00,-999.000,9,-999.000,9,-999.000,9,   3.3916,2,-999.000,9, -999.00,9, -999.00,-999.000,9,-999.000, -999.00,9, -999.00,9, -33.9991,  98.9894,-999.000,-999.000,20090502,       0357
33RR20090320,        I05,     152,          1,         15,         15,2,20090502,       0245,   -33.9992,    98.9896,       4728,  1509.0,   3.2214,  34.5629,2,  34.5633,2,    151.6,2,   152.4,2,   76.43,2,   34.79,2,    0.00,2,    2.51,2,-999.000,9,-999.000,9,-999.0000,9,  2261.5,6,  2344.9,2,   7.6256,2,    20.00,-999.000,9,-999.000,9,-999.000,9,   3.2195,2,-999.000,9, -999.00,9, -999.00,-999.000,9,-999.000, -999.00,9, -999.00,9, -33.9991,  98.9895,-999.000,-999.000,20090502,       0354
33RR20090320,        I05,     152,          1,         14,         14,2,20090502,       0245,   -33.9992,    98.9896,       4728,  1609.5,   3.0730,  34.5925,2,  34.5912,2,    152.0,2,   152.5,2,   79.99,2,   34.67,2,    0.00,2,    2.50,2,-999.000,9,-999.000,9,-999.0000,9,  -999.0,9,  -999.0,9,-999.0000,9,  -999.00,-999.000,9,-999.000,9,-999.000,9,   3.0747,2,-999.000,9, -999.00,9, -999.00,-999.000,9,-999.000, -999.00,9, -999.00,9, -33.9991,  98.9895,-999.000,-999.000,20090502,       0351
33RR20090320,        I05,     152,          1,         13,         13,2,20090502,       0245,   -33.9992,    98.9896,       4728,  1811.5,   2.7474,  34.6521,2,  34.6523,2,    157.8,2,   158.1,2,   86.20,2,   33.94,2,    0.00,2,    2.44,2,-999.000,9,-999.000,9,-999.0000,9,  -999.0,9,  -999.0,9,-999.0000,9,  -999.00,-999.000,9,-999.000,9,-999.000,9,   2.7469,2,-999.000,9, -999.00,9, -999.00,-999.000,9,-999.000, -999.00,9, -999.00,9, -33.9991,  98.9896,-999.000,-999.000,20090502,       0347
33RR20090320,        I05,     152,          1,         12,         12,2,20090502,       0245,   -33.9992,    98.9896,       4728,  2012.4,   2.5063,  34.6897,2,  34.6902,2,    165.2,2,   166.6,2,   89.20,2,   33.10,2,    0.00,2,    2.35,2,-999.000,9,-999.000,9,-999.0000,9,  -999.0,9,  -999.0,9,-999.0000,9,  -999.00,-999.000,9,-999.000,9,-999.000,9,   2.5057,2,-999.000,9, -999.00,9, -999.00,-999.000,9,-999.000, -999.00,9, -999.00,9, -33.9991,  98.9895,-999.000,-999.000,20090502,       0343
33RR20090320,        I05,     152,          1,         11,         11,2,20090502,       0245,   -33.9992,    98.9896,       4728,  2265.3,   2.2801,  34.7183,2,  34.7181,2,    175.5,2,   173.8,2,   93.16,2,   32.38,2,    0.00,2,    2.30,2,-999.000,9,-999.000,9,-999.0000,9,  -999.0,9,  -999.0,9,-999.0000,9,  -999.00,-999.000,9,-999.000,9,-999.000,9,   2.2804,2,-999.000,9, -999.00,9, -999.00,-999.000,9,-999.000, -999.00,9, -999.00,9, -33.9992,  98.9894,-999.000,-999.000,20090502,       0338
33RR20090320,        I05,     152,          1,         10,         10,2,20090502,       0245,   -33.9992,    98.9896,       4728,  2518.1,   2.0539,  34.7364,2,  34.7358,2,    186.5,2,   186.8,2,   91.85,2,   31.20,2,    0.00,2,    2.21,2,-999.000,9,-999.000,9,-999.0000,9,  -999.0,9,  -999.0,9,-999.0000,9,  -999.00,-999.000,9,-999.000,9,-999.000,9,   2.0550,2,-999.000,9, -999.00,9, -999.00,-999.000,9,-999.000, -999.00,9, -999.00,9, -33.9991,  98.9894,-999.000,-999.000,20090502,       0333
33RR20090320,        I05,     152,          1,          9,          9,2,20090502,       0245,   -33.9992,    98.9896,       4728,  2770.3,   1.8388,  34.7423,2,  34.7431,2,    192.7,2,   193.0,2,   95.61,2,   30.92,2,    0.00,2,    2.19,2,   0.016,2,   0.009,6,   0.0000,6,  -999.0,9,  -999.0,9,-999.0000,9,  -999.00,-999.000,9,-999.000,9,-999.000,9,   1.8380,2,-999.000,9, -999.00,9, -999.00,-999.000,9,-999.000, -999.00,9, -999.00,9, -33.9991,  98.9894,-999.000,-999.000,20090502,       0328
33RR20090320,        I05,     152,          1,          8,          8,2,20090502,       0245,   -33.9992,    98.9896,       4728,  3023.8,   1.6018,  34.7383,2,  34.7372,2,    196.8,2,   196.9,2,  102.80,2,   31.09,2,    0.00,2,    2.20,2,-999.000,9,-999.000,9,-999.0000,9,  -999.0,9,  -999.0,9,-999.0000,9,  -999.00,-999.000,9,-999.000,9,-999.000,9,   1.6016,2,-999.000,9, -999.00,9, -999.00,-999.000,9,-999.000, -999.00,9, -999.00,9, -33.9990,  98.9895,-999.000,-999.000,20090502,       0323
33RR20090320,        I05,     152,          1,          7,          7,2,20090502,       0245,   -33.9992,    98.9896,       4728,  3327.0,   1.3913,  34.7314,2,  34.7325,2,    199.8,2,   200.0,2,  108.48,2,   31.35,2,    0.00,2,    2.22,2,   0.020,2,   0.011,2,   0.0120,6,  -999.0,9,  -999.0,9,-999.0000,9,  -999.00,-999.000,9,-999.000,9,-999.000,9,   1.3910,2,-999.000,9, -999.00,9, -999.00,-999.000,9,-999.000, -999.00,9, -999.00,9, -33.9991,  98.9894,-999.000,-999.000,20090502,       0317
33RR20090320,        I05,     152,          1,          6,          6,2,20090502,       0245,   -33.9992,    98.9896,       4728,  3631.2,   1.2145,  34.7234,2,  34.7240,2,    201.9,2,   202.5,2,  114.37,2,   31.68,2,    0.00,2,    2.24,2,-999.000,9,-999.000,9,-999.0000,9,  -999.0,9,  -999.0,9,-999.0000,9,  -999.00,-999.000,9,-999.000,9,-999.000,9,   1.2146,2,-999.000,9, -999.00,9, -999.00,-999.000,9,-999.000, -999.00,9, -999.00,9, -33.9991,  98.9895,-999.000,-999.000,20090502,       0311
33RR20090320,        I05,     152,          1,          5,          5,2,20090502,       0245,   -33.9992,    98.9896,       4728,  3936.3,   1.1005,  34.7171,2,  34.7179,2,    204.1,2,   204.9,2,  117.59,2,   31.89,2,    0.00,2,    2.26,2,   0.030,2,   0.015,2,   0.0000,6,  -999.0,9,  -999.0,9,-999.0000,9,  -999.00,-999.000,9,-999.000,9,-999.000,9,   1.1001,2,-999.000,9, -999.00,9, -999.00,-999.000,9,-999.000, -999.00,9, -999.00,9, -33.9991,  98.9896,-999.000,-999.000,20090502,       0305
33RR20090320,        I05,     152,          1,          4,          4,2,20090502,       0245,   -33.9992,    98.9896,       4728,  4241.0,   1.0473,  34.7135,2,  34.7135,2,    205.4,2,   205.4,2,  119.11,2,   31.94,2,    0.00,2,    2.27,2,-999.000,9,-999.000,9,-999.0000,9,  -999.0,9,  -999.0,9,-999.0000,9,  -999.00,-999.000,9,-999.000,9,-999.000,9,   1.0474,2,-999.000,9, -999.00,9, -999.00,-999.000,9,-999.000, -999.00,9, -999.00,9, -33.9991,  98.9897,-999.000,-999.000,20090502,       0259
33RR20090320,        I05,     152,          1,          3,          3,2,20090502,       0245,   -33.9992,    98.9896,       4728,  4548.1,   1.0271,  34.7109,2,  34.7116,2,    206.2,2,   206.2,2,  121.59,2,   32.04,2,    0.00,2,    2.27,2,   0.042,2,   0.023,2,   0.0000,2,  -999.0,9,  -999.0,9,-999.0000,9,  -999.00,-999.000,9,-999.000,9,-999.000,9,   1.0272,2,-999.000,9, -999.00,9, -999.00,-999.000,9,-999.000, -999.00,9, -999.00,9, -33.9992,  98.9897,-999.000,-999.000,20090502,       0252
33RR20090320,        I05,     152,          1,          2,          2,2,20090502,       0245,   -33.9992,    98.9896,       4728,  4674.0,   1.0277,  34.7102,2,  34.7110,2,    206.5,2,   206.8,2,  121.79,2,   31.98,2,    0.00,2,    2.27,2,-999.000,9,-999.000,9,-999.0000,9,  -999.0,9,  -999.0,9,-999.0000,9,  -999.00,-999.000,9,-999.000,9,-999.000,9,   1.0279,2,-999.000,9, -999.00,9, -999.00,-999.000,9,-999.000, -999.00,9, -999.00,9, -33.9992,  98.9897,-999.000,-999.000,20090502,       0249
33RR20090320,        I05,     152,          1,          1,          1,2,20090502,       0245,   -33.9992,    98.9896,       4728,  4798.2,   1.0360,  34.7098,2,  34.7104,2,    206.8,2,   206.3,2,  121.79,2,   31.92,2,    0.00,2,    2.27,2,-999.000,9,-999.000,9,-999.0000,9,  -999.0,9,  -999.0,9,-999.0000,9,  -999.00,-999.000,9,-999.000,9,-999.000,9,   1.0358,2,-999.000,9, -999.00,9, -999.00,-999.000,9,-999.000, -999.00,9, -999.00,9, -33.9992,  98.9896,-999.000,-999.000,20090502,       0245