BOTTLE,20220814CCHSIOAMB
EXPOCODE,SECT_ID,STNNBR,CASTNO,SAMPNO,BTLNBR,BTLNBR_FLAG_W,DATE,TIME,LATITUDE,LONGITUDE,DEPTH,CTDPRS,CTDTMP,CTDSAL,CTDSAL_FLAG_W,SALNTY,SALNTY_FLAG_W,CTDOXY,CTDOXY_FLAG_W,OXYGEN,OXYGEN_FLAG_W,SILCAT,SILCAT_FLAG_W,NITRAT,NITRAT_FLAG_W,NITRIT,NITRIT_FLAG_W,PHSPHT,PHSPHT_FLAG_W,CFC-11,CFC-11_FLAG_W,CFC-12,CFC-12_FLAG_W,SF6,SF6_FLAG_W,TCARBN,TCARBN_FLAG_W,ALKALI,ALKALI_FLAG_W,PH_TOT,PH_TOT_FLAG_W,PH_TMP,TRITUM,TRITUM_FLAG_W,HELIUM,HELIUM_FLAG_W,DELHE3,DELHE3_FLAG_W,REFTMP,REFTMP_FLAG_W,DELC13,DELC13_FLAG_W,DELC14,DELC14_FLAG_W,C14ERR,NEON,NEON_FLAG_W,NEONER,DOC,DOC_FLAG_W,TDN,TDN_FLAG_W,BTL_LAT,BTL_LON,HELIER,DELHER,BTL_DATE,BTL_TIME
,,,,,,,,,,,METERS,DBAR,ITS-90,PSS-78,,PSS-78,,UMOL/KG,,UMOL/KG,,UMOL/KG,,UMOL/KG,,UMOL/KG,,UMOL/KG,,PMOL/KG,,PMOL/KG,,FMOL/KG,,UMOL/KG,,UMOL/KG,,,,DEG C,TU,,NMOL/KG,,PERCNT,,DEG C,,/MILLE,,/MILLE,,/MILLE,NMOL/KG,,NMOL/KG,UMOL/KG,,UMOL/KG,,,,NMOL/KG,PERCNT,,
33RR20090320,        I05,      71,          2,         36,         36,2,20090409,       1923,   -34.0003,    57.5192,       5235,    13.5,  21.1859,  35.5613,2,  35.5602,2,    222.4,2,   223.7,2,    0.73,2,    0.03,2,    0.00,2,    0.09,2,   2.058,2,   1.248,2,   1.1520,2,  2046.5,6,  2329.8,2,   8.0917,2,    20.00,   0.508,2,   1.870,2,  -1.246,2,  21.1852,2,   1.167,2,   43.62,2,     2.9,   7.467,2,   0.013,   66.30,2,    4.35,2, -34.0003,  57.5193,   0.001,   0.193,20090409,       2132
33RR20090320,        I05,      71,          2,         35,         35,2,20090409,       1923,   -34.0003,    57.5192,       5235,    33.1,  21.1894,  35.5625,2,  35.5620,2,    223.7,2,   223.6,2,    0.64,2,    0.00,2,    0.00,2,    0.09,2,   2.056,2,   1.251,2,   1.1640,2,  2047.5,2,  2329.7,2,   8.0918,2,    20.00,   0.501,2,   1.841,2,  -1.639,2,  21.1889,2,-999.000,9, -999.00,9, -999.00,   7.466,2,   0.010,   65.89,2,    3.93,2, -34.0003,  57.5193,   0.000,   0.188,20090409,       2130
33RR20090320,        I05,      71,          2,         34,         34,2,20090409,       1923,   -34.0003,    57.5192,       5235,    57.8,  21.0645,  35.5495,2,  35.5517,2,    227.3,2,   225.6,2,    0.56,2,    0.00,2,    0.00,2,    0.09,2,   2.071,2,   1.259,2,   1.1790,2,  2046.5,2,  2330.1,2,   8.0914,2,    20.00,   0.505,2,   1.785,2,  -1.563,2,  21.0846,2,-999.000,9, -999.00,9, -999.00,   7.260,2,   0.013,   64.30,2,    4.54,2, -34.0003,  57.5192,   0.001,   0.193,20090409,       2129
33RR20090320,        I05,      71,          2,         33,         33,2,20090409,       1923,   -34.0003,    57.5192,       5235,    83.0,  19.0982,  35.5100,2,  35.5081,2,    240.4,2,   240.0,2,    0.47,2,    0.00,2,    0.00,2,    0.12,2,   2.364,2,   1.416,2,   1.2230,2,  2054.6,2,  2327.8,2,   8.0749,2,    20.00,   0.461,2,   1.851,2,  -1.713,2,  19.0984,2,   1.178,2,   54.82,2,     3.1,   7.544,2,   0.010,   61.33,2,    3.51,2, -34.0003,  57.5190,   0.001,   0.188,20090409,       2127
33RR20090320,        I05,      71,          2,         32,         32,2,20090409,       1923,   -34.0003,    57.5192,       5235,   107.9,  16.8026,  35.5099,2,  35.5099,2,    235.4,2,   237.5,2,    0.79,2,    0.47,2,    0.07,2,    0.20,2,   2.535,2,   1.508,2,   1.2320,2,  2071.6,2,  2325.9,2,   8.0455,2,    20.00,   0.471,2,   1.877,2,  -1.636,2,  16.8009,2,-999.000,9, -999.00,9, -999.00,   7.736,2,   0.015,   55.78,2,    4.12,2, -34.0004,  57.5189,   0.000,   0.189,20090409,       2124
33RR20090320,        I05,      71,          2,         31,         31,2,20090409,       1923,   -34.0003,    57.5192,       5235,   158.5,  15.6636,  35.4705,2,  35.4699,2,    228.2,2,   229.8,2,    1.32,2,    2.76,2,    0.06,2,    0.33,2,   2.639,2,   1.555,2,   1.2230,2,  2086.1,2,  2325.8,2,   8.0138,2,    20.00,   0.450,2,   1.889,2,  -1.170,2,  15.6698,2,   0.995,2,    52.3,2,       3,   7.848,2,   0.010,   53.20,2,    6.36,2, -34.0003,  57.5191,   0.000,   0.194,20090409,       2123
33RR20090320,        I05,      71,          2,         30,         30,2,20090409,       1923,   -34.0003,    57.5192,       5235,   207.3,  14.9120,  35.4220,2,  35.4251,2,    226.6,2,   226.0,2,    1.64,2,    4.62,2,    0.01,2,    0.42,2,   2.722,2,   1.600,2,   1.2820,2,  2094.1,2,  2326.0,2,   7.9934,2,    20.00,   0.466,2,   1.917,2,  -1.443,2,  14.9112,2,-999.000,9, -999.00,9, -999.00,   7.977,2,   0.011,   52.30,2,    7.53,2, -34.0002,  57.5192,   0.000,   0.193,20090409,       2121
33RR20090320,        I05,      71,          2,         29,         29,2,20090409,       1923,   -34.0003,    57.5192,       5235,   257.7,  14.1290,  35.3579,2,  35.3575,2,    228.8,2,   227.4,2,    1.96,2,    6.26,2,    0.00,2,    0.52,2,   2.837,2,   1.653,2,   1.3270,2,  2103.0,2,  2320.9,2,   7.9718,2,    20.00,   0.432,2,   1.902,2,  -0.978,2,  14.1311,2,   0.801,2,   49.29,2,     3.1,   7.921,2,   0.010,   50.49,2,    8.67,2, -34.0001,  57.5193,   0.001,   0.193,20090409,       2119
33RR20090320,        I05,      71,          2,         28,         28,2,20090409,       1923,   -34.0003,    57.5192,       5235,   307.2,  13.7259,  35.3134,2,  35.3111,2,    229.3,2,   229.2,2,    2.08,2,    7.00,2,    0.00,2,    0.57,2,   2.908,2,   1.684,2,   1.3100,2,  2106.6,2,  2319.3,2,   7.9604,2,    20.00,   0.415,2,-999.000,9,-999.000,9,  13.7254,2,   0.915,2,   48.07,2,     3.3,-999.000,9,-999.000,   49.05,2,    9.94,2, -34.0000,  57.5194,-999.000,-999.000,20090409,       2117
33RR20090320,        I05,      71,          2,         27,         27,2,20090409,       1923,   -34.0003,    57.5192,       5235,   357.1,  13.3095,  35.2741,2,  35.2741,2,    230.2,2,   230.0,2,    2.40,2,    7.94,2,    0.00,2,    0.62,2,   2.970,2,   1.705,2,   1.2900,2,  2107.7,2,  2316.5,2,   7.9518,2,    20.00,   0.364,2,   1.855,2,  -1.211,2,  13.3094,2,-999.000,9, -999.00,9, -999.00,   7.724,2,   0.014,   48.14,2,   10.51,2, -34.0000,  57.5192,   0.001,   0.193,20090409,       2115
33RR20090320,        I05,      71,          2,         26,         26,2,20090409,       1923,   -34.0003,    57.5192,       5235,   407.4,  13.0336,  35.2395,2,  35.2386,2,    230.9,2,   231.5,2,    2.52,2,    8.69,2,    0.00,2,    0.66,2,   3.000,2,   1.719,2,   1.2650,2,  2111.0,2,  2314.7,2,   7.9452,2,    20.00,-999.000,9,   1.697,2,  -1.657,2,  13.0289,2,    0.96,2,    43.8,2,     3.2,   7.135,2,   0.013,   47.24,2,   11.71,2, -34.0000,  57.5192,   0.001,   0.198,20090409,       2113
33RR20090320,        I05,      71,          2,         25,         25,2,20090409,       1923,   -34.0003,    57.5192,       5235,   508.1,  12.4590,  35.1481,2,  35.1488,2,    229.5,2,   230.7,2,    2.64,2,    9.95,2,    0.00,2,    0.75,2,   3.081,2,   1.745,2,   1.3300,2,  2113.4,2,  2310.8,2,   7.9299,2,    20.00,   0.392,2,-999.000,9,-999.000,9,  12.4590,2,   0.991,2,   51.62,2,     3.5,-999.000,9,-999.000,   45.79,2,   12.10,2, -34.0000,  57.5192,-999.000,-999.000,20090409,       2110
33RR20090320,        I05,      71,          2,         24,         24,2,20090409,       1923,   -34.0003,    57.5192,       5235,   607.9,  11.6176,  35.0160,2,  35.0149,2,    226.8,2,   226.8,2,    3.17,2,   12.11,2,    0.00,2,    0.89,2,   3.182,2,   1.753,2,   1.1050,2,  2121.1,2,  2306.7,2,   7.9042,2,    20.00,   0.320,2,   1.853,2,  -0.486,2,  11.6157,2,   1.073,2,   44.74,2,     3.2,   7.801,2,   0.014,   44.95,2,   13.55,2, -33.9999,  57.5192,   0.001,   0.193,20090409,       2107
33RR20090320,        I05,      71,          2,         23,         23,2,20090409,       1923,   -34.0003,    57.5192,       5235,   708.1,  10.8061,  34.9009,2,  34.9010,2,    224.5,2,   224.1,2,    3.90,2,   14.07,2,    0.00,2,    1.03,2,   3.211,6,   1.724,6,   0.9920,6,  2125.9,2,  2300.8,2,   7.8813,2,    20.00,   0.284,2,-999.000,9,-999.000,9,  10.8030,2,   1.115,2,   46.81,2,     3.2,-999.000,9,-999.000,   44.07,2,   16.00,2, -33.9999,  57.5192,-999.000,-999.000,20090409,       2104
33RR20090320,        I05,      71,          2,         22,         22,2,20090409,       1923,   -34.0003,    57.5192,       5235,   807.7,   9.8686,  34.7781,2,  34.7775,2,    217.7,2,   217.7,2,    5.89,2,   16.71,2,    0.00,2,    1.19,2,   3.091,2,   1.614,2,   0.8420,2,  2134.8,2,  2296.7,2,   7.8506,2,    20.00,   0.237,2,   1.916,2,   0.581,2,   9.8680,2,   1.139,2,   35.89,2,     2.8,   8.051,2,   0.015,   43.25,2,   18.68,2, -33.9999,  57.5190,   0.001,   0.194,20090409,       2101
33RR20090320,        I05,      71,          2,         21,         21,2,20090409,       1923,   -34.0003,    57.5192,       5235,   908.2,   8.3972,  34.6197,2,  34.6210,2,    208.8,2,   208.2,2,   10.76,2,   20.91,2,    0.00,2,    1.48,2,   2.717,2,   1.396,2,   0.6540,2,  2150.6,2,  2292.0,2,   7.8008,2,    20.00,-999.000,9,   1.837,2,   1.380,2,   8.3973,2,   1.139,2,   13.51,2,     3.2,   7.710,2,   0.014,   42.36,2,   22.59,2, -33.9999,  57.5189,   0.001,   0.194,20090409,       2058
33RR20090320,        I05,      71,          2,         20,         20,2,20090409,       1923,   -34.0003,    57.5192,       5235,  1007.6,   6.9568,  34.4939,2,  34.4953,2,    205.2,2,   204.7,2,   16.48,2,   24.63,2,    0.00,2,    1.74,2,   2.445,2,   1.234,2,   0.5720,2,  2166.3,2,  2292.4,2,   7.7578,2,    20.00,   0.114,2,   1.798,2,   2.297,2,   6.9557,2,   1.049,2,  -18.99,2,     2.7,   7.447,2,   0.013,   41.54,2,   26.19,2, -33.9999,  57.5188,   0.001,   0.194,20090409,       2055
33RR20090320,        I05,      71,          2,         19,         19,2,20090409,       1923,   -34.0003,    57.5192,       5235,  1106.7,   5.8369,  34.4209,2,  34.4221,2,    204.0,2,   205.3,2,   22.42,2,   27.13,2,    0.00,2,    1.92,2,   2.233,2,   1.121,2,   0.4880,2,  2178.5,2,  2292.6,2,   7.7298,2,    20.00,   0.001,2,   1.911,2,   1.624,2,   5.8432,2,   0.984,2,  -45.94,2,     2.9,   8.213,2,   0.016,   40.01,2,   28.74,2, -33.9999,  57.5186,   0.001,   0.194,20090409,       2052
33RR20090320,        I05,      71,          2,         18,         18,2,20090409,       1923,   -34.0003,    57.5192,       5235,  1210.1,   4.7700,  34.3819,2,  34.3817,2,    200.8,2,   201.7,2,   30.68,2,   29.47,2,    0.00,2,    2.10,2,   1.886,2,   0.934,2,   0.4480,2,  2194.0,2,  2298.5,2,   7.7016,2,    20.00,-999.000,9,   1.744,2,   2.890,2,   4.7751,2,   0.934,2,  -64.19,2,     3.1,   7.484,4,   0.018,   39.45,2,   31.20,2, -33.9998,  57.5187,   0.001,   0.199,20090409,       2050
33RR20090320,        I05,      71,          2,         17,         17,2,20090409,       1923,   -34.0003,    57.5192,       5235,  1309.6,   4.0060,  34.3990,2,  34.3989,2,    194.1,2,   192.9,2,   40.83,2,   31.29,2,    0.00,2,    2.24,2,   1.412,2,   0.684,2,   0.2690,2,  2212.0,2,  2308.9,2,   7.6757,2,    20.00,   0.035,2,   2.037,2,   4.376,2,   4.0025,2,   0.833,2, -102.78,2,     2.8,   8.939,2,   0.305,   39.82,2,   33.02,2, -33.9998,  57.5188,   0.073,   0.185,20090409,       2047
33RR20090320,        I05,      71,          2,         16,         16,2,20090409,       1923,   -34.0003,    57.5192,       5235,  1410.2,   3.5986,  34.4433,2,  34.4429,2,    186.4,2,   184.0,2,   49.98,2,   32.24,2,    0.00,2,    2.31,2,   0.994,2,   0.469,2,   0.2000,2,  2226.1,2,  2317.7,2,   7.6602,2,    20.00,-999.000,9,-999.000,9,-999.000,9,   3.6012,2,   0.796,2, -108.16,2,     2.7,-999.000,9,-999.000,   39.88,2,   33.45,2, -33.9998,  57.5189,-999.000,-999.000,20090409,       2044
33RR20090320,        I05,      71,          2,         15,         15,2,20090409,       1923,   -34.0003,    57.5192,       5235,  1610.5,   3.1428,  34.5317,2,  34.5304,2,    176.1,2,   176.7,2,   61.46,2,   32.55,2,    0.00,2,    2.34,2,   0.537,2,   0.243,2,   0.0280,2,  2240.4,6,  2330.7,2,   7.6533,2,    20.00,-999.000,9,   1.933,2,   7.515,2,   3.1430,2,   0.665,2, -129.12,2,     2.4,   8.643,2,   0.021,   39.60,2,   33.72,2, -33.9998,  57.5189,   0.001,   0.207,20090409,       2040
33RR20090320,        I05,      71,          2,         14,         14,2,20090409,       1923,   -34.0003,    57.5192,       5235,  1812.4,   2.7923,  34.6095,2,  34.6082,2,    176.2,2,   176.5,2,   70.03,2,   32.10,2,    0.00,2,    2.31,2,   0.286,2,   0.124,2,   0.0170,2,  2248.4,2,  2337.2,2,   7.6583,2,    20.00,-999.000,9,-999.000,9,-999.000,9,   2.7931,2,    0.58,2, -139.86,2,     2.6,-999.000,9,-999.000,   39.44,2,   33.46,2, -33.9999,  57.5189,-999.000,-999.000,20090409,       2036
33RR20090320,        I05,      71,          2,         13,         13,2,20090409,       1923,   -34.0003,    57.5192,       5235,  2013.7,   2.5501,  34.6673,2,  34.6658,2,    179.0,2,   180.1,2,   76.29,2,   31.43,2,    0.00,2,    2.27,2,   0.161,2,   0.069,2,   0.0000,2,  2251.3,2,  2345.2,2,   7.6682,2,    20.00,-999.000,9,   1.984,2,   7.408,2,   2.5509,2,    0.57,2, -147.07,2,     2.6,   8.920,2,   0.323,   39.50,2,   33.20,2, -34.0000,  57.5190,   0.076,   0.209,20090409,       2031
33RR20090320,        I05,      71,          2,         12,         12,2,20090409,       1923,   -34.0003,    57.5192,       5235,  2266.6,   2.3404,  34.7093,2,  34.7092,2,    184.7,2,   185.2,2,   81.30,2,   30.72,2,    0.00,2,    2.21,2,   0.107,2,   0.044,2,   0.0000,2,  2252.8,2,  2351.0,2,   7.6798,2,    20.00,-999.000,9,   1.956,2,   9.105,2,   2.3403,2,   0.596,2, -151.94,2,     2.7,   8.442,2,   0.011,   39.85,2,   32.67,2, -34.0002,  57.5188,   0.000,   0.186,20090409,       2026
33RR20090320,        I05,      71,          2,         11,         11,2,20090409,       1923,   -34.0003,    57.5192,       5235,  2519.6,   2.1611,  34.7403,2,  34.7398,2,    189.4,2,   189.1,2,   86.73,2,   30.22,2,    0.00,2,    2.18,2,   0.064,2,   0.026,2,   0.0000,2,  2254.6,2,  2358.2,2,   7.6887,2,    20.00,   0.001,2,-999.000,9,-999.000,9,   2.1610,2,   0.578,2, -154.66,2,       3,-999.000,9,-999.000,   39.67,2,   32.02,2, -34.0001,  57.5191,-999.000,-999.000,20090409,       2021
33RR20090320,        I05,      71,          2,         10,         10,2,20090409,       1923,   -34.0003,    57.5192,       5235,  2771.0,   1.9346,  34.7473,2,  34.7463,2,    193.9,2,   193.5,2,   93.03,2,   30.15,2,    0.00,2,    2.17,2,   0.061,2,   0.024,2,   0.0140,2,  2255.4,2,  2359.6,2,   7.6925,2,    20.00,-999.000,9,-999.000,9,-999.000,9,   1.9341,2,   0.551,2, -154.01,2,     2.5,-999.000,9,-999.000,   39.37,2,   32.05,2, -34.0002,  57.5187,-999.000,-999.000,20090409,       2016
33RR20090320,        I05,      71,          2,          9,          9,2,20090409,       1923,   -34.0003,    57.5192,       5235,  3022.8,   1.7436,  34.7456,2,  34.7463,2,    197.9,2,   196.9,2,   97.64,2,   30.25,2,    0.00,2,    2.16,2,   0.069,6,   0.028,6,   0.0110,6,  2257.3,2,  2360.9,2,   7.6928,2,    20.00,-999.000,9,-999.000,9,-999.000,9,   1.7466,2,   0.591,2, -157.52,2,     2.6,-999.000,9,-999.000,   39.72,2,   31.67,2, -34.0001,  57.5187,-999.000,-999.000,20090409,       2011
33RR20090320,        I05,      71,          2,          8,          8,2,20090409,       1923,   -34.0003,    57.5192,       5235,  3328.8,   1.4562,  34.7351,2,  34.7349,2,    202.0,2,   201.7,2,  104.17,2,   30.55,2,    0.00,2,    2.19,2,   0.098,2,   0.039,2,   0.0000,2,  2256.9,2,  2361.0,2,   7.6908,2,    20.00,-999.000,9,-999.000,9,-999.000,9,   1.4559,2,   0.491,2, -155.01,2,     2.9,-999.000,9,-999.000,   39.80,2,   32.24,2, -34.0001,  57.5191,-999.000,-999.000,20090409,       2005
33RR20090320,        I05,      71,          2,          7,          7,2,20090409,       1923,   -34.0003,    57.5192,       5235,  3632.5,   1.1829,  34.7225,2,  34.7227,2,    206.6,2,   206.2,2,  110.72,2,   30.91,2,    0.00,2,    2.21,2,   0.127,2,   0.052,2,   0.0000,2,  2257.6,2,  2361.0,2,   7.6875,2,    20.00,-999.000,9,-999.000,9,-999.000,9,   1.1845,2,   0.559,2, -158.54,2,       3,-999.000,9,-999.000,   40.16,2,   32.45,2, -34.0001,  57.5188,-999.000,-999.000,20090409,       1958
33RR20090320,        I05,      71,          2,          6,          6,2,20090409,       1923,   -34.0003,    57.5192,       5235,  3901.7,   0.8469,  34.7051,2,  34.7052,2,    211.4,2,   211.6,2,  120.27,2,   31.32,2,    0.00,2,    2.26,2,   0.151,2,   0.063,2,   0.0000,2,  2260.0,2,  2360.4,2,   7.6825,2,    20.00,-999.000,9,-999.000,9,-999.000,9,   0.8468,2,   0.793,3, -159.48,2,     2.6,-999.000,9,-999.000,   40.00,2,   33.01,2, -34.0000,  57.5188,-999.000,-999.000,20090409,       1952
33RR20090320,        I05,      71,          2,          5,          5,2,20090409,       1923,   -34.0003,    57.5192,       5235,  4202.9,   0.5591,  34.6909,2,  34.6901,2,    216.1,2,   217.7,2,  127.48,2,   31.69,2,    0.00,2,    2.28,2,   0.192,2,   0.081,2,   0.0000,2,  2260.4,2,  2360.7,2,   7.6775,2,    20.00,-999.000,9,   1.982,2,   6.927,2,   0.5594,2,   0.581,2,  -157.3,2,     3.2,   8.682,2,   0.012,   39.94,2,   33.07,2, -34.0001,  57.5188,   0.000,   0.199,20090409,       1946
33RR20090320,        I05,      71,          2,          4,          4,2,20090409,       1923,   -34.0003,    57.5192,       5235,  4506.6,   0.4890,  34.6857,2,  34.6855,2,    218.0,2,   218.5,2,  131.06,2,   31.94,2,    0.00,2,    2.28,2,   0.205,2,   0.086,2,   0.0200,2,  2260.1,2,  2360.0,2,   7.6764,2,    20.00,-999.000,9,   1.999,2,   7.333,2,   0.4886,2,    0.57,2, -161.94,2,     3.1,   8.775,2,   0.012,   40.05,2,   33.30,2, -34.0001,  57.5186,   0.000,   0.187,20090409,       1940
33RR20090320,        I05,      71,          2,          3,          3,2,20090409,       1923,   -34.0003,    57.5192,       5235,  4958.7,   0.5018,  34.6836,2,  34.6832,2,    218.7,2,   218.9,2,  132.07,2,   31.98,2,    0.00,2,    2.29,2,   0.208,2,   0.088,2,   0.0130,2,  2260.3,2,  2360.9,2,   7.6760,2,    20.00,   0.001,2,   1.991,2,   7.140,2,   0.5020,2,   0.566,2, -161.92,2,     3.1,   8.722,2,   0.012,   39.65,2,   33.81,2, -34.0000,  57.5193,   0.000,   0.187,20090409,       1931
33RR20090320,        I05,      71,          2,          2,          2,2,20090409,       1923,   -34.0003,    57.5192,       5235,  5161.1,   0.5218,  34.6832,2,  34.6842,2,    220.0,2,   219.8,2,  132.43,2,   31.90,2,    0.00,2,    2.29,2,   0.212,2,   0.090,2,   0.0000,2,  2259.8,2,  2360.3,2,   7.6770,2,    20.00,-999.000,9,   2.003,2,   6.984,2,   0.5219,2,   0.553,2, -161.58,2,     2.7,   8.790,2,   0.013,   39.73,2,   33.14,2, -34.0001,  57.5193,   0.000,   0.187,20090409,       1927
33RR20090320,        I05,      71,          2,          1,          1,2,20090409,       1923,   -34.0003,    57.5192,       5235,  5322.8,   0.5398,  34.6830,2,  34.6832,2,    219.1,2,   219.2,2,  132.37,2,   31.94,2,    0.00,2,    2.29,2,   0.212,6,   0.090,6,   0.0000,6,  2260.4,6,  2358.3,2,   7.6764,2,    20.00,   0.001,2,   2.046,2,   6.970,2,   0.5402,2,   0.559,2, -159.54,2,     2.8,   8.924,2,   0.012,   39.39,2,   33.67,2, -34.0003,  57.5192,   0.000,   0.175,20090409,       1923