BOTTLE,20220814CCHSIOAMB
EXPOCODE,SECT_ID,STNNBR,CASTNO,SAMPNO,BTLNBR,BTLNBR_FLAG_W,DATE,TIME,LATITUDE,LONGITUDE,DEPTH,CTDPRS,CTDTMP,CTDSAL,CTDSAL_FLAG_W,SALNTY,SALNTY_FLAG_W,CTDOXY,CTDOXY_FLAG_W,OXYGEN,OXYGEN_FLAG_W,SILCAT,SILCAT_FLAG_W,NITRAT,NITRAT_FLAG_W,NITRIT,NITRIT_FLAG_W,PHSPHT,PHSPHT_FLAG_W,CFC-11,CFC-11_FLAG_W,CFC-12,CFC-12_FLAG_W,SF6,SF6_FLAG_W,TCARBN,TCARBN_FLAG_W,ALKALI,ALKALI_FLAG_W,PH_TOT,PH_TOT_FLAG_W,PH_TMP,TRITUM,TRITUM_FLAG_W,HELIUM,HELIUM_FLAG_W,DELHE3,DELHE3_FLAG_W,REFTMP,REFTMP_FLAG_W,DELC13,DELC13_FLAG_W,DELC14,DELC14_FLAG_W,C14ERR,NEON,NEON_FLAG_W,NEONER,DOC,DOC_FLAG_W,TDN,TDN_FLAG_W,BTL_LAT,BTL_LON,HELIER,DELHER,BTL_DATE,BTL_TIME
,,,,,,,,,,,METERS,DBAR,ITS-90,PSS-78,,PSS-78,,UMOL/KG,,UMOL/KG,,UMOL/KG,,UMOL/KG,,UMOL/KG,,UMOL/KG,,PMOL/KG,,PMOL/KG,,FMOL/KG,,UMOL/KG,,UMOL/KG,,,,DEG C,TU,,NMOL/KG,,PERCNT,,DEG C,,/MILLE,,/MILLE,,/MILLE,NMOL/KG,,NMOL/KG,UMOL/KG,,UMOL/KG,,,,NMOL/KG,PERCNT,,
33RR20090320,        I05,      52,          1,         36,         36,2,20090405,       0058,   -33.7670,    50.3861,       4373,     7.5,  21.4794,  35.5141,2,  35.5147,2,    222.8,2,   221.8,2,    1.47,2,    0.12,2,    0.00,2,    0.10,2,-999.000,9,-999.000,9,-999.0000,9,  2033.0,6,  2326.9,2,   8.1070,2,    20.00,-999.000,9,-999.000,9,-999.000,9,  21.4784,2,-999.000,9, -999.00,9, -999.00,-999.000,9,-999.000, -999.00,9, -999.00,9, -33.7669,  50.3856,-999.000,-999.000,20090405,       0255
33RR20090320,        I05,      52,          1,         35,         35,2,20090405,       0058,   -33.7670,    50.3861,       4373,    26.1,  21.4671,  35.5152,2,  35.5145,2,    223.9,2,   221.8,2,    1.46,2,    0.07,2,    0.00,2,    0.10,2,-999.000,9,-999.000,9,-999.0000,9,  2032.5,2,  2326.5,2,   8.1072,2,    20.00,-999.000,9,-999.000,9,-999.000,9,  21.4688,2,-999.000,9, -999.00,9, -999.00,-999.000,9,-999.000, -999.00,9, -999.00,9, -33.7669,  50.3856,-999.000,-999.000,20090405,       0254
33RR20090320,        I05,      52,          1,         34,         34,2,20090405,       0058,   -33.7670,    50.3861,       4373,    45.4,  20.5758,  35.5758,2,  35.5665,2,    226.9,2,   230.2,2,    1.64,2,    0.06,2,    0.00,2,    0.10,2,-999.000,9,-999.000,9,-999.0000,9,  2036.6,2,  2326.6,2,   8.1035,2,    20.00,-999.000,9,-999.000,9,-999.000,9,  20.5312,2,-999.000,9, -999.00,9, -999.00,-999.000,9,-999.000, -999.00,9, -999.00,9, -33.7669,  50.3856,-999.000,-999.000,20090405,       0252
33RR20090320,        I05,      52,          1,         33,         33,2,20090405,       0058,   -33.7670,    50.3861,       4373,    70.6,  18.8241,  35.5810,2,  35.5827,2,    238.4,2,   237.5,2,    1.63,2,    0.06,2,    0.00,2,    0.13,2,-999.000,9,-999.000,9,-999.0000,9,  2044.5,2,  2330.5,2,   8.0919,2,    20.00,-999.000,9,-999.000,9,-999.000,9,  18.7691,2,-999.000,9, -999.00,9, -999.00,-999.000,9,-999.000, -999.00,9, -999.00,9, -33.7668,  50.3856,-999.000,-999.000,20090405,       0251
33RR20090320,        I05,      52,          1,         32,         32,2,20090405,       0058,   -33.7670,    50.3861,       4373,    95.7,  17.6534,  35.5645,2,  35.5648,2,    230.4,2,   229.1,2,    2.01,2,    0.55,2,    0.07,2,    0.20,2,-999.000,9,-999.000,9,-999.0000,9,  -999.0,9,  -999.0,9,-999.0000,9,  -999.00,-999.000,9,-999.000,9,-999.000,9,  17.6633,2,-999.000,9, -999.00,9, -999.00,-999.000,9,-999.000, -999.00,9, -999.00,9, -33.7669,  50.3857,-999.000,-999.000,20090405,       0249
33RR20090320,        I05,      52,          1,         31,         31,2,20090405,       0058,   -33.7670,    50.3861,       4373,   140.9,  16.8785,  35.5513,2,  35.5510,2,    221.4,2,   221.2,2,    2.77,2,    3.06,2,    0.01,2,    0.33,2,-999.000,9,-999.000,9,-999.0000,9,  2070.2,2,  2328.9,2,   8.0402,2,    20.00,-999.000,9,-999.000,9,-999.000,9,  16.8773,2,-999.000,9, -999.00,9, -999.00,-999.000,9,-999.000, -999.00,9, -999.00,9, -33.7669,  50.3857,-999.000,-999.000,20090405,       0247
33RR20090320,        I05,      52,          1,         30,         30,2,20090405,       0058,   -33.7670,    50.3861,       4373,   190.5,  16.4042,  35.5260,2,  35.5259,2,    218.2,2,   218.0,2,    3.35,2,    4.33,2,    0.01,2,    0.40,2,-999.000,9,-999.000,9,-999.0000,9,  -999.0,9,  -999.0,9,-999.0000,9,  -999.00,-999.000,9,-999.000,9,-999.000,9,  16.4055,2,-999.000,9, -999.00,9, -999.00,-999.000,9,-999.000, -999.00,9, -999.00,9, -33.7669,  50.3857,-999.000,-999.000,20090405,       0245
33RR20090320,        I05,      52,          1,         29,         29,2,20090405,       0058,   -33.7670,    50.3861,       4373,   241.2,  15.7291,  35.4751,2,  35.4770,2,    217.1,2,   217.2,2,    3.34,2,    5.21,2,    0.00,2,    0.46,2,-999.000,9,-999.000,9,-999.0000,9,  2089.3,2,  2324.4,2,   8.0022,2,    20.00,-999.000,9,-999.000,9,-999.000,9,  15.7085,2,-999.000,9, -999.00,9, -999.00,-999.000,9,-999.000, -999.00,9, -999.00,9, -33.7670,  50.3858,-999.000,-999.000,20090405,       0243
33RR20090320,        I05,      52,          1,         28,         28,2,20090405,       0058,   -33.7670,    50.3861,       4373,   289.8,  14.9038,  35.4193,2,  35.4194,2,    218.4,2,   218.3,2,    3.71,2,    6.41,2,    0.00,2,    0.54,2,-999.000,9,-999.000,9,-999.0000,9,  -999.0,9,  -999.0,9,-999.0000,9,  -999.00,-999.000,9,-999.000,9,-999.000,9,  14.9017,2,-999.000,9, -999.00,9, -999.00,-999.000,9,-999.000, -999.00,9, -999.00,9, -33.7670,  50.3858,-999.000,-999.000,20090405,       0241
33RR20090320,        I05,      52,          1,         27,         27,2,20090405,       0058,   -33.7670,    50.3861,       4373,   341.1,  14.3015,  35.3616,2,  35.3615,2,    216.5,2,   215.7,2,    4.09,2,    7.73,2,    0.00,2,    0.62,2,-999.000,9,-999.000,9,-999.0000,9,  2106.5,2,  2322.6,2,   7.9621,2,    20.00,-999.000,9,-999.000,9,-999.000,9,  14.3040,2,-999.000,9, -999.00,9, -999.00,-999.000,9,-999.000, -999.00,9, -999.00,9, -33.7669,  50.3858,-999.000,-999.000,20090405,       0239
33RR20090320,        I05,      52,          1,         26,         26,2,20090405,       0058,   -33.7670,    50.3861,       4373,   390.3,  13.8001,  35.3170,2,  35.3167,2,    218.4,2,   219.6,2,    4.08,2,    8.32,2,    0.00,2,    0.66,2,-999.000,9,-999.000,9,-999.0000,9,  -999.0,9,  -999.0,9,-999.0000,9,  -999.00,-999.000,9,-999.000,9,-999.000,9,  13.8010,2,-999.000,9, -999.00,9, -999.00,-999.000,9,-999.000, -999.00,9, -999.00,9, -33.7669,  50.3857,-999.000,-999.000,20090405,       0237
33RR20090320,        I05,      52,          1,         25,         25,2,20090405,       0058,   -33.7670,    50.3861,       4373,   441.0,  13.4424,  35.2860,2,  35.2862,2,    223.2,2,   223.4,2,    3.87,2,    8.70,2,    0.00,2,    0.68,2,-999.000,9,-999.000,9,-999.0000,9,  -999.0,9,  -999.0,9,-999.0000,9,  -999.00,-999.000,9,-999.000,9,-999.000,9,  13.4400,2,-999.000,9, -999.00,9, -999.00,-999.000,9,-999.000, -999.00,9, -999.00,9, -33.7668,  50.3856,-999.000,-999.000,20090405,       0235
33RR20090320,        I05,      52,          1,         24,         24,2,20090405,       0058,   -33.7670,    50.3861,       4373,   489.8,  13.1417,  35.2460,2,  35.2454,2,    222.6,2,   222.7,2,    4.06,2,    9.46,2,    0.00,2,    0.73,2,-999.000,9,-999.000,9,-999.0000,9,  -999.0,9,  -999.0,9,-999.0000,9,  -999.00,-999.000,9,-999.000,9,-999.000,9,  13.1420,2,-999.000,9, -999.00,9, -999.00,-999.000,9,-999.000, -999.00,9, -999.00,9, -33.7668,  50.3856,-999.000,-999.000,20090405,       0233
33RR20090320,        I05,      52,          1,         23,         23,2,20090405,       0058,   -33.7670,    50.3861,       4373,   571.7,  12.4413,  35.1407,2,  35.1398,2,    223.9,2,   223.2,2,    4.43,2,   10.95,2,    0.00,2,    0.83,2,-999.000,9,-999.000,9,-999.0000,9,  2116.5,2,  2313.9,2,   7.9218,2,    20.00,-999.000,9,-999.000,9,-999.000,9,  12.4452,2,-999.000,9, -999.00,9, -999.00,-999.000,9,-999.000, -999.00,9, -999.00,9, -33.7668,  50.3857,-999.000,-999.000,20090405,       0230
33RR20090320,        I05,      52,          1,         22,         22,2,20090405,       0058,   -33.7670,    50.3861,       4373,   671.8,  11.3713,  34.9863,2,  34.9879,2,    219.6,2,   218.7,2,    5.20,2,   13.52,2,    0.00,2,    1.00,2,-999.000,9,-999.000,9,-999.0000,9,  -999.0,9,  -999.0,9,-999.0000,9,  -999.00,-999.000,9,-999.000,9,-999.000,9,  11.3745,2,-999.000,9, -999.00,9, -999.00,-999.000,9,-999.000, -999.00,9, -999.00,9, -33.7668,  50.3857,-999.000,-999.000,20090405,       0227
33RR20090320,        I05,      52,          1,         21,         21,2,20090405,       0058,   -33.7670,    50.3861,       4373,   770.7,  10.3205,  34.8425,2,  34.8443,2,    217.1,2,   215.4,2,    6.94,2,   16.08,2,    0.00,2,    1.16,2,-999.000,9,-999.000,9,-999.0000,9,  -999.0,9,  -999.0,9,-999.0000,9,  -999.00,-999.000,9,-999.000,9,-999.000,9,  10.3201,2,-999.000,9, -999.00,9, -999.00,-999.000,9,-999.000, -999.00,9, -999.00,9, -33.7667,  50.3857,-999.000,-999.000,20090405,       0225
33RR20090320,        I05,      52,          1,         20,         20,2,20090405,       0058,   -33.7670,    50.3861,       4373,   872.2,   9.0963,  34.6971,2,  34.6974,2,    209.6,2,   209.4,2,   10.43,2,   19.60,2,    0.00,2,    1.40,2,-999.000,9,-999.000,9,-999.0000,9,  -999.0,9,  -999.0,9,-999.0000,9,  -999.00,-999.000,9,-999.000,9,-999.000,9,   9.0944,2,-999.000,9, -999.00,9, -999.00,-999.000,9,-999.000, -999.00,9, -999.00,9, -33.7667,  50.3857,-999.000,-999.000,20090405,       0222
33RR20090320,        I05,      52,          1,         19,         19,2,20090405,       0058,   -33.7670,    50.3861,       4373,   971.6,   7.4962,  34.5472,2,  34.5485,2,    203.6,2,   203.2,2,   16.47,2,   24.00,2,    0.00,2,    1.69,2,-999.000,9,-999.000,9,-999.0000,9,  2163.9,2,  2295.7,2,   7.7710,2,    20.00,-999.000,9,-999.000,9,-999.000,9,   7.4968,2,-999.000,9, -999.00,9, -999.00,-999.000,9,-999.000, -999.00,9, -999.00,9, -33.7666,  50.3856,-999.000,-999.000,20090405,       0219
33RR20090320,        I05,      52,          1,         18,         18,2,20090405,       0058,   -33.7670,    50.3861,       4373,  1072.2,   6.1108,  34.4434,2,  34.4439,2,    203.2,2,   203.2,2,   22.91,2,   27.19,2,    0.00,2,    1.92,2,-999.000,9,-999.000,9,-999.0000,9,  -999.0,9,  -999.0,9,-999.0000,9,  -999.00,-999.000,9,-999.000,9,-999.000,9,   6.1084,2,-999.000,9, -999.00,9, -999.00,-999.000,9,-999.000, -999.00,9, -999.00,9, -33.7669,  50.3856,-999.000,-999.000,20090405,       0216
33RR20090320,        I05,      52,          1,         17,         17,2,20090405,       0058,   -33.7670,    50.3861,       4373,  1173.1,   5.0006,  34.3913,2,  34.3915,2,    202.0,2,   203.0,2,   30.55,2,   29.56,2,    0.00,2,    2.10,2,-999.000,9,-999.000,9,-999.0000,9,  -999.0,9,  -999.0,9,-999.0000,9,  -999.00,-999.000,9,-999.000,9,-999.000,9,   4.9970,2,-999.000,9, -999.00,9, -999.00,-999.000,9,-999.000, -999.00,9, -999.00,9, -33.7670,  50.3856,-999.000,-999.000,20090405,       0214
33RR20090320,        I05,      52,          1,         16,         16,2,20090405,       0058,   -33.7670,    50.3861,       4373,  1273.9,   4.3553,  34.3961,2,  34.3962,2,    196.6,2,   196.8,2,   38.21,2,   31.11,2,    0.00,2,    2.22,2,-999.000,9,-999.000,9,-999.0000,9,  -999.0,9,  -999.0,9,-999.0000,9,  -999.00,-999.000,9,-999.000,9,-999.000,9,   4.3592,2,-999.000,9, -999.00,9, -999.00,-999.000,9,-999.000, -999.00,9, -999.00,9, -33.7670,  50.3856,-999.000,-999.000,20090405,       0211
33RR20090320,        I05,      52,          1,         15,         15,2,20090405,       0058,   -33.7670,    50.3861,       4373,  1373.1,   3.7701,  34.4356,2,  34.4351,2,    187.5,2,   187.2,2,   48.27,2,   32.43,2,    0.00,2,    2.32,2,-999.000,9,-999.000,9,-999.0000,9,  -999.0,9,  -999.0,9,-999.0000,9,  -999.00,-999.000,9,-999.000,9,-999.000,9,   3.7715,2,-999.000,9, -999.00,9, -999.00,-999.000,9,-999.000, -999.00,9, -999.00,9, -33.7670,  50.3856,-999.000,-999.000,20090405,       0208
33RR20090320,        I05,      52,          1,         14,         14,2,20090405,       0058,   -33.7670,    50.3861,       4373,  1473.4,   3.4769,  34.4837,2,  34.4840,2,    180.7,2,   179.4,2,   56.17,2,   33.04,2,    0.00,2,    2.37,2,-999.000,9,-999.000,9,-999.0000,9,  -999.0,9,  -999.0,9,-999.0000,9,  -999.00,-999.000,9,-999.000,9,-999.000,9,   3.4763,2,-999.000,9, -999.00,9, -999.00,-999.000,9,-999.000, -999.00,9, -999.00,9, -33.7669,  50.3857,-999.000,-999.000,20090405,       0205
33RR20090320,        I05,      52,          1,         13,         13,2,20090405,       0058,   -33.7670,    50.3861,       4373,  1574.6,   3.1984,  34.5406,2,  34.5397,2,    177.2,2,   174.5,2,   63.90,2,   33.25,2,    0.00,2,    2.39,2,-999.000,9,-999.000,9,-999.0000,9,  -999.0,9,  -999.0,9,-999.0000,9,  -999.00,-999.000,9,-999.000,9,-999.000,9,   3.1970,2,-999.000,9, -999.00,9, -999.00,-999.000,9,-999.000, -999.00,9, -999.00,9, -33.7669,  50.3858,-999.000,-999.000,20090405,       0202
33RR20090320,        I05,      52,          1,         12,         12,2,20090405,       0058,   -33.7670,    50.3861,       4373,  1745.2,   2.8508,  34.6052,2,  34.6053,2,    175.9,2,   176.0,2,   70.04,2,   32.74,2,    0.00,2,    2.35,2,-999.000,9,-999.000,9,-999.0000,9,  2244.7,2,  2337.5,2,   7.6570,2,    20.00,-999.000,9,-999.000,9,-999.000,9,   2.8502,2,-999.000,9, -999.00,9, -999.00,-999.000,9,-999.000, -999.00,9, -999.00,9, -33.7668,  50.3858,-999.000,-999.000,20090405,       0158
33RR20090320,        I05,      52,          1,         11,         11,2,20090405,       0058,   -33.7670,    50.3861,       4373,  1946.0,   2.6412,  34.6671,2,  34.6678,2,    178.3,2,   178.5,2,   76.41,2,   32.07,2,    0.00,2,    2.29,2,-999.000,9,-999.000,9,-999.0000,9,  -999.0,9,  -999.0,9,-999.0000,9,  -999.00,-999.000,9,-999.000,9,-999.000,9,   2.6406,2,-999.000,9, -999.00,9, -999.00,-999.000,9,-999.000, -999.00,9, -999.00,9, -33.7670,  50.3857,-999.000,-999.000,20090405,       0153
33RR20090320,        I05,      52,          1,         10,         10,2,20090405,       0058,   -33.7670,    50.3861,       4373,  2180.0,   2.4473,  34.7153,2,  34.7150,2,    184.8,2,   185.4,2,   79.39,2,   31.06,2,    0.00,2,    2.22,2,-999.000,9,-999.000,9,-999.0000,9,  -999.0,9,  -999.0,9,-999.0000,9,  -999.00,-999.000,9,-999.000,9,-999.000,9,   2.4473,2,-999.000,9, -999.00,9, -999.00,-999.000,9,-999.000, -999.00,9, -999.00,9, -33.7672,  50.3858,-999.000,-999.000,20090405,       0148
33RR20090320,        I05,      52,          1,          9,          9,2,20090405,       0058,   -33.7670,    50.3861,       4373,  2431.4,   2.3084,  34.7474,2,  34.7474,2,    192.6,2,   192.8,2,   79.98,2,   30.11,2,    0.00,2,    2.15,2,-999.000,9,-999.000,9,-999.0000,9,  -999.0,9,  -999.0,9,-999.0000,9,  -999.00,-999.000,9,-999.000,9,-999.000,9,   2.3085,2,-999.000,9, -999.00,9, -999.00,-999.000,9,-999.000, -999.00,9, -999.00,9, -33.7670,  50.3860,-999.000,-999.000,20090405,       0142
33RR20090320,        I05,      52,          1,          8,          8,2,20090405,       0058,   -33.7670,    50.3861,       4373,  2683.0,   2.1440,  34.7601,2,  34.7600,2,    196.5,2,   195.9,2,   84.77,2,   29.95,2,    0.00,2,    2.14,2,-999.000,9,-999.000,9,-999.0000,9,  -999.0,9,  -999.0,9,-999.0000,9,  -999.00,-999.000,9,-999.000,9,-999.000,9,   2.1443,2,-999.000,9, -999.00,9, -999.00,-999.000,9,-999.000, -999.00,9, -999.00,9, -33.7669,  50.3861,-999.000,-999.000,20090405,       0137
33RR20090320,        I05,      52,          1,          7,          7,2,20090405,       0058,   -33.7670,    50.3861,       4373,  2936.0,   1.9439,  34.7567,2,  34.7563,2,    196.3,2,   195.1,2,   93.36,2,   30.49,2,    0.00,2,    2.18,2,-999.000,9,-999.000,9,-999.0000,9,  -999.0,9,  -999.0,9,-999.0000,9,  -999.00,-999.000,9,-999.000,9,-999.000,9,   1.9441,2,-999.000,9, -999.00,9, -999.00,-999.000,9,-999.000, -999.00,9, -999.00,9, -33.7672,  50.3859,-999.000,-999.000,20090405,       0131
33RR20090320,        I05,      52,          1,          6,          6,2,20090405,       0058,   -33.7670,    50.3861,       4373,  3224.4,   1.5910,  34.7342,2,  34.7335,2,    198.3,2,   198.5,2,  102.79,2,   31.25,2,    0.00,2,    2.23,2,-999.000,9,-999.000,9,-999.0000,9,  -999.0,9,  -999.0,9,-999.0000,9,  -999.00,-999.000,9,-999.000,9,-999.000,9,   1.5931,2,-999.000,9, -999.00,9, -999.00,-999.000,9,-999.000, -999.00,9, -999.00,9, -33.7672,  50.3860,-999.000,-999.000,20090405,       0125
33RR20090320,        I05,      52,          1,          5,          5,2,20090405,       0058,   -33.7670,    50.3861,       4373,  3531.9,   1.3693,  34.7257,2,  34.7248,2,    202.4,2,   202.6,2,  108.81,2,   31.47,2,    0.00,2,    2.25,2,-999.000,9,-999.000,9,-999.0000,9,  -999.0,9,  -999.0,9,-999.0000,9,  -999.00,-999.000,9,-999.000,9,-999.000,9,   1.3681,2,-999.000,9, -999.00,9, -999.00,-999.000,9,-999.000, -999.00,9, -999.00,9, -33.7672,  50.3861,-999.000,-999.000,20090405,       0119
33RR20090320,        I05,      52,          1,          4,          4,2,20090405,       0058,   -33.7670,    50.3861,       4373,  3832.6,   1.1983,  34.7184,2,  34.7180,2,    202.8,2,   202.9,2,  115.65,2,   31.91,2,    0.00,2,    2.27,2,-999.000,9,-999.000,9,-999.0000,9,  -999.0,9,  -999.0,9,-999.0000,9,  -999.00,-999.000,9,-999.000,9,-999.000,9,   1.1984,2,-999.000,9, -999.00,9, -999.00,-999.000,9,-999.000, -999.00,9, -999.00,9, -33.7670,  50.3864,-999.000,-999.000,20090405,       0112
33RR20090320,        I05,      52,          1,          3,          3,2,20090405,       0058,   -33.7670,    50.3861,       4373,  4139.5,   1.1390,  34.7152,2,  34.7152,2,    205.7,2,   205.7,2,  116.65,2,   31.85,2,    0.00,2,    2.27,2,-999.000,9,-999.000,9,-999.0000,9,  -999.0,9,  2364.4,2,-999.0000,9,  -999.00,-999.000,9,-999.000,9,-999.000,9,   1.1394,2,-999.000,9, -999.00,9, -999.00,-999.000,9,-999.000, -999.00,9, -999.00,9, -33.7671,  50.3864,-999.000,-999.000,20090405,       0106
33RR20090320,        I05,      52,          1,          2,          2,2,20090405,       0058,   -33.7670,    50.3861,       4373,  4292.3,   1.1308,  34.7138,2,  34.7136,2,    206.5,2,   206.3,2,  117.66,2,   31.84,2,    0.00,2,    2.27,2,-999.000,9,-999.000,9,-999.0000,9,  2261.6,2,  2369.0,2,   7.6870,2,    20.00,-999.000,9,-999.000,9,-999.000,9,   1.1307,2,-999.000,9, -999.00,9, -999.00,-999.000,9,-999.000, -999.00,9, -999.00,9, -33.7671,  50.3862,-999.000,-999.000,20090405,       0102
33RR20090320,        I05,      52,          1,          1,          1,2,20090405,       0058,   -33.7670,    50.3861,       4373,  4435.9,   1.1281,  34.7128,2,  34.7129,2,    206.6,2,   206.2,2,  117.87,2,   31.72,2,    0.00,2,    2.27,2,-999.000,9,-999.000,9,-999.0000,9,  2262.1,6,  2368.8,2,   7.6874,2,    20.00,-999.000,9,-999.000,9,-999.000,9,   1.1279,2,-999.000,9, -999.00,9, -999.00,-999.000,9,-999.000, -999.00,9, -999.00,9, -33.7670,  50.3862,-999.000,-999.000,20090405,       0058