BOTTLE,20220814CCHSIOAMB
EXPOCODE,SECT_ID,STNNBR,CASTNO,SAMPNO,BTLNBR,BTLNBR_FLAG_W,DATE,TIME,LATITUDE,LONGITUDE,DEPTH,CTDPRS,CTDTMP,CTDSAL,CTDSAL_FLAG_W,SALNTY,SALNTY_FLAG_W,CTDOXY,CTDOXY_FLAG_W,OXYGEN,OXYGEN_FLAG_W,SILCAT,SILCAT_FLAG_W,NITRAT,NITRAT_FLAG_W,NITRIT,NITRIT_FLAG_W,PHSPHT,PHSPHT_FLAG_W,CFC-11,CFC-11_FLAG_W,CFC-12,CFC-12_FLAG_W,SF6,SF6_FLAG_W,TCARBN,TCARBN_FLAG_W,ALKALI,ALKALI_FLAG_W,PH_TOT,PH_TOT_FLAG_W,PH_TMP,TRITUM,TRITUM_FLAG_W,HELIUM,HELIUM_FLAG_W,DELHE3,DELHE3_FLAG_W,REFTMP,REFTMP_FLAG_W,DELC13,DELC13_FLAG_W,DELC14,DELC14_FLAG_W,C14ERR,NEON,NEON_FLAG_W,NEONER,DOC,DOC_FLAG_W,TDN,TDN_FLAG_W,BTL_LAT,BTL_LON,HELIER,DELHER,BTL_DATE,BTL_TIME
,,,,,,,,,,,METERS,DBAR,ITS-90,PSS-78,,PSS-78,,UMOL/KG,,UMOL/KG,,UMOL/KG,,UMOL/KG,,UMOL/KG,,UMOL/KG,,PMOL/KG,,PMOL/KG,,FMOL/KG,,UMOL/KG,,UMOL/KG,,,,DEG C,TU,,NMOL/KG,,PERCNT,,DEG C,,/MILLE,,/MILLE,,/MILLE,NMOL/KG,,NMOL/KG,UMOL/KG,,UMOL/KG,,,,NMOL/KG,PERCNT,,
33RR20090320,        I05,      14,          1,         36,         36,2,20090326,       2159,   -32.3018,    32.6795,       3546,    12.1,  23.9141,  35.5629,2,  35.5630,2,    212.7,2,   212.3,2,    0.71,2,    0.00,2,    0.00,2,    0.06,2,   1.844,2,   1.147,2,   1.0330,2,  2010.2,6,  2329.6,2,   8.1532,2,    20.00,-999.000,9,-999.000,9,-999.000,9,  23.9123,2,-999.000,9, -999.00,9, -999.00,-999.000,9,-999.000,   66.76,2,    3.99,2, -32.3016,  32.6790,-999.000,-999.000,20090326,       2341
33RR20090320,        I05,      14,          1,         35,         35,2,20090326,       2159,   -32.3018,    32.6795,       3546,    32.3,  22.4381,  35.6040,2,  35.6029,2,    219.1,2,   219.9,2,    0.62,2,    0.04,2,    0.00,2,    0.05,2,   1.958,6,   1.204,6,   1.0790,6,  2018.9,2,  2332.4,2,   8.1412,2,    20.00,-999.000,9,-999.000,9,-999.000,9,  22.4454,2,-999.000,9, -999.00,9, -999.00,-999.000,9,-999.000,   66.45,2,    4.33,2, -32.3016,  32.6790,-999.000,-999.000,20090326,       2339
33RR20090320,        I05,      14,          1,         34,         34,2,20090326,       2159,   -32.3018,    32.6795,       3546,    57.0,  20.7812,  35.5683,2,  35.5676,2,    225.4,2,   226.5,2,    0.73,2,    0.00,2,    0.00,2,    0.09,2,   2.142,2,   1.290,2,   1.1380,2,  2032.5,2,  2330.8,2,   8.1165,2,    20.00,-999.000,9,-999.000,9,-999.000,9,  20.8178,2,-999.000,9, -999.00,9, -999.00,-999.000,9,-999.000,   62.65,2,    4.38,2, -32.3016,  32.6791,-999.000,-999.000,20090326,       2338
33RR20090320,        I05,      14,          1,         33,         33,2,20090326,       2159,   -32.3018,    32.6795,       3546,    82.7,  19.2712,  35.5742,2,  35.5779,2,    219.0,2,   214.5,2,    0.85,2,    0.57,2,    0.06,2,    0.18,2,   2.219,2,   1.340,2,   1.2020,2,  2049.3,2,  2331.8,2,   8.0860,2,    20.00,-999.000,9,-999.000,9,-999.000,9,  19.2844,2,-999.000,9, -999.00,9, -999.00,-999.000,9,-999.000,   58.73,2,    4.55,2, -32.3016,  32.6791,-999.000,-999.000,20090326,       2336
33RR20090320,        I05,      14,          1,         32,         32,2,20090326,       2159,   -32.3018,    32.6795,       3546,   106.3,  18.8929,  35.5620,2,  35.5627,2,    211.8,2,   209.3,2,    1.36,2,    2.05,2,    0.01,2,    0.24,2,   2.248,2,   1.353,2,   1.1090,2,  2056.8,2,  2328.7,2,   8.0715,2,    20.00,-999.000,9,-999.000,9,-999.000,9,  18.8910,2,-999.000,9, -999.00,9, -999.00,-999.000,9,-999.000,   54.39,2,    5.91,2, -32.3015,  32.6791,-999.000,-999.000,20090326,       2334
33RR20090320,        I05,      14,          1,         31,         31,2,20090326,       2159,   -32.3018,    32.6795,       3546,   132.1,  18.5371,  35.5435,2,  35.5430,2,    205.7,2,   205.4,2,    1.67,2,    3.03,2,    0.01,2,    0.30,2,   2.262,2,   1.367,2,   1.1070,2,  2061.2,2,  2326.4,2,   8.0582,2,    20.00,-999.000,9,-999.000,9,-999.000,9,  18.5385,2,-999.000,9, -999.00,9, -999.00,-999.000,9,-999.000,   53.31,2,    7.20,2, -32.3015,  32.6791,-999.000,-999.000,20090326,       2333
33RR20090320,        I05,      14,          1,         30,         30,2,20090326,       2159,   -32.3018,    32.6795,       3546,   155.8,  18.1516,  35.5470,2,  35.5466,2,    204.6,2,   206.1,2,    1.78,2,    3.58,2,    0.01,2,    0.34,2,   2.312,2,   1.387,2,   1.1890,2,  2066.7,2,  2328.2,2,   8.0470,2,    20.00,-999.000,9,-999.000,9,-999.000,9,  18.1486,2,-999.000,9, -999.00,9, -999.00,-999.000,9,-999.000,   52.08,2,    7.41,2, -32.3015,  32.6791,-999.000,-999.000,20090326,       2331
33RR20090320,        I05,      14,          1,         29,         29,2,20090326,       2159,   -32.3018,    32.6795,       3546,   206.1,  17.3246,  35.5410,2,  35.5407,2,    202.9,2,   203.5,2,    2.49,2,    4.52,2,    0.01,2,    0.41,2,   2.397,2,   1.432,2,   1.1220,2,  2078.6,2,  2330.2,2,   8.0231,2,    20.00,-999.000,9,-999.000,9,-999.000,9,  17.3242,2,-999.000,9, -999.00,9, -999.00,-999.000,9,-999.000,   50.58,2,    7.36,2, -32.3015,  32.6792,-999.000,-999.000,20090326,       2329
33RR20090320,        I05,      14,          1,         28,         28,2,20090326,       2159,   -32.3018,    32.6795,       3546,   255.3,  16.5038,  35.5168,2,  35.5171,2,    204.2,2,   204.2,2,    2.60,2,    5.45,2,    0.01,2,    0.47,2,   2.484,2,   1.472,2,   1.1400,2,  2087.7,2,  2327.2,2,   8.0055,2,    20.00,-999.000,9,-999.000,9,-999.000,9,  16.4951,2,-999.000,9, -999.00,9, -999.00,-999.000,9,-999.000,   49.63,2,    8.06,2, -32.3015,  32.6791,-999.000,-999.000,20090326,       2327
33RR20090320,        I05,      14,          1,         27,         27,2,20090326,       2159,   -32.3018,    32.6795,       3546,   305.7,  15.7626,  35.4810,2,  35.4822,2,    202.6,2,   202.1,2,    2.71,2,    6.39,2,    0.01,2,    0.54,2,   2.597,2,   1.526,2,   1.1290,2,  2098.8,2,  2326.8,2,   7.9823,2,    20.00,-999.000,9,-999.000,9,-999.000,9,  15.7521,2,-999.000,9, -999.00,9, -999.00,-999.000,9,-999.000,   48.55,2,    8.92,2, -32.3016,  32.6791,-999.000,-999.000,20090326,       2325
33RR20090320,        I05,      14,          1,         26,         26,2,20090326,       2159,   -32.3018,    32.6795,       3546,   355.8,  14.9286,  35.4233,2,  35.4233,2,    203.4,2,   203.4,2,    3.02,2,    7.52,2,    0.01,2,    0.61,2,   2.712,2,   1.574,2,   1.0880,2,  2106.7,2,  2325.2,2,   7.9633,2,    20.00,-999.000,9,-999.000,9,-999.000,9,  14.9381,2,-999.000,9, -999.00,9, -999.00,-999.000,9,-999.000,   47.63,2,    9.64,2, -32.3017,  32.6791,-999.000,-999.000,20090326,       2324
33RR20090320,        I05,      14,          1,         25,         25,2,20090326,       2159,   -32.3018,    32.6795,       3546,   405.5,  14.2856,  35.3741,2,  35.3758,2,    208.7,2,   208.3,2,    2.74,2,    8.11,2,    0.00,2,    0.65,2,   2.811,2,   1.615,2,   1.0730,2,  2109.9,2,  2322.6,2,   7.9530,2,    20.00,-999.000,9,-999.000,9,-999.000,9,  14.2829,2,-999.000,9, -999.00,9, -999.00,-999.000,9,-999.000,   46.87,2,    9.71,2, -32.3018,  32.6791,-999.000,-999.000,20090326,       2322
33RR20090320,        I05,      14,          1,         24,         24,2,20090326,       2159,   -32.3018,    32.6795,       3546,   456.6,  13.7403,  35.3178,2,  35.3189,2,    214.2,2,   212.4,2,    2.65,2,    8.80,2,    0.00,2,    0.69,2,   2.910,2,   1.669,2,   1.0720,2,  2111.3,2,  2320.7,2,   7.9437,2,    20.00,-999.000,9,-999.000,9,-999.000,9,  13.7439,2,-999.000,9, -999.00,9, -999.00,-999.000,9,-999.000,   45.85,2,   10.74,2, -32.3019,  32.6791,-999.000,-999.000,20090326,       2320
33RR20090320,        I05,      14,          1,         23,         23,2,20090326,       2159,   -32.3018,    32.6795,       3546,   504.9,  13.1555,  35.2434,2,  35.2437,2,    214.5,2,   216.0,2,    2.77,2,    9.69,2,    0.00,2,    0.75,2,   2.982,2,   1.684,2,   1.0720,2,  2114.5,2,  2318.3,2,   7.9333,2,    20.00,-999.000,9,-999.000,9,-999.000,9,  13.1552,2,-999.000,9, -999.00,9, -999.00,-999.000,9,-999.000,   44.67,2,   11.62,2, -32.3019,  32.6790,-999.000,-999.000,20090326,       2318
33RR20090320,        I05,      14,          1,         22,         22,2,20090326,       2159,   -32.3018,    32.6795,       3546,   606.3,  11.9255,  35.0721,2,  35.0686,2,    217.3,2,   217.9,2,    3.28,2,   12.17,2,    0.00,2,    0.90,2,   3.113,2,   1.733,2,   0.9340,2,  2120.0,2,  2311.1,2,   7.9034,2,    20.00,-999.000,9,-999.000,9,-999.000,9,  11.9249,2,-999.000,9, -999.00,9, -999.00,-999.000,9,-999.000,   43.82,2,   13.44,2, -32.3018,  32.6791,-999.000,-999.000,20090326,       2315
33RR20090320,        I05,      14,          1,         21,         21,2,20090326,       2159,   -32.3018,    32.6795,       3546,   705.3,  10.7092,  34.9081,2,  34.9112,2,    210.6,2,   212.4,2,    5.39,2,   15.19,2,    0.00,2,    1.09,2,   3.046,2,   1.620,2,   0.7700,2,  2131.0,2,  2308.2,2,   7.8679,2,    20.00,-999.000,9,-999.000,9,-999.000,9,  10.7218,2,-999.000,9, -999.00,9, -999.00,-999.000,9,-999.000,   42.88,2,   16.52,2, -32.3018,  32.6791,-999.000,-999.000,20090326,       2312
33RR20090320,        I05,      14,          1,         20,         20,2,20090326,       2159,   -32.3018,    32.6795,       3546,   806.8,   9.6133,  34.7643,2,  34.7651,2,    211.3,2,   210.2,2,    7.50,2,   18.03,2,    0.00,2,    1.29,2,   2.906,2,   1.510,2,   0.6190,2,  2137.4,2,  2301.1,3,   7.8368,2,    20.00,-999.000,9,-999.000,9,-999.000,9,   9.6138,2,-999.000,9, -999.00,9, -999.00,-999.000,9,-999.000,   42.28,2,   19.74,2, -32.3017,  32.6791,-999.000,-999.000,20090326,       2309
33RR20090320,        I05,      14,          1,         19,         19,2,20090326,       2159,   -32.3018,    32.6795,       3546,   906.5,   8.0600,  34.6127,2,  34.6127,2,    197.2,2,   197.5,2,   15.00,2,   22.88,2,    0.00,2,    1.62,2,   2.366,2,   1.210,2,   0.4210,2,  2160.2,2,  2301.1,2,   7.7795,2,    20.00,-999.000,9,-999.000,9,-999.000,9,   8.0602,2,-999.000,9, -999.00,9, -999.00,-999.000,9,-999.000,   41.61,2,   24.30,2, -32.3018,  32.6791,-999.000,-999.000,20090326,       2307
33RR20090320,        I05,      14,          1,         18,         18,2,20090326,       2159,   -32.3018,    32.6795,       3546,  1006.0,   6.6430,  34.5157,2,  34.5171,2,    188.0,2,   188.1,2,   24.14,2,   26.89,2,    0.00,2,    1.90,2,   1.872,2,   0.941,2,   0.3170,2,  2181.2,2,  2302.0,2,   7.7318,2,    20.00,-999.000,9,-999.000,9,-999.000,9,   6.6407,2,-999.000,9, -999.00,9, -999.00,-999.000,9,-999.000,   41.00,2,   28.53,2, -32.3017,  32.6792,-999.000,-999.000,20090326,       2304
33RR20090320,        I05,      14,          1,         17,         17,2,20090326,       2159,   -32.3018,    32.6795,       3546,  1106.5,   5.6622,  34.4636,2,  34.4629,2,    185.7,2,   187.8,2,   30.50,2,   29.05,2,    0.00,2,    2.05,2,   1.761,2,   0.871,2,   0.3350,2,  2193.3,2,  2304.8,2,   7.7048,2,    20.00,-999.000,9,-999.000,9,-999.000,9,   5.6604,2,-999.000,9, -999.00,9, -999.00,-999.000,9,-999.000,   40.36,2,   30.48,2, -32.3017,  32.6792,-999.000,-999.000,20090326,       2301
33RR20090320,        I05,      14,          1,         16,         16,2,20090326,       2159,   -32.3018,    32.6795,       3546,  1205.8,   4.9743,  34.5061,2,  34.5077,2,    168.4,2,   168.4,2,   44.54,2,   31.52,2,    0.00,2,    2.23,2,   1.109,2,   0.525,2,   0.1380,2,  2218.8,2,  2317.4,2,   7.6696,2,    20.00,-999.000,9,-999.000,9,-999.000,9,   4.9746,2,-999.000,9, -999.00,9, -999.00,-999.000,9,-999.000,   40.08,2,   33.07,2, -32.3017,  32.6792,-999.000,-999.000,20090326,       2258
33RR20090320,        I05,      14,          1,         15,         15,2,20090326,       2159,   -32.3018,    32.6795,       3546,  1305.3,   4.3812,  34.5159,2,  34.5168,2,    173.1,2,   166.0,2,   51.95,2,   32.78,2,    0.00,2,    2.30,2,   0.896,2,   0.410,2,   0.1460,2,  2229.7,2,  2324.1,2,   7.6560,2,    20.00,-999.000,9,-999.000,9,-999.000,9,   4.3853,2,-999.000,9, -999.00,9, -999.00,-999.000,9,-999.000,   39.87,2,   34.11,2, -32.3018,  32.6792,-999.000,-999.000,20090326,       2255
33RR20090320,        I05,      14,          1,         14,         14,2,20090326,       2159,   -32.3018,    32.6795,       3546,  1404.8,   4.0543,  34.5589,2,  34.5593,2,    155.4,2,   159.4,2,   59.79,2,   33.58,2,    0.00,2,    2.36,2,   0.647,2,   0.275,2,   0.1470,2,  2242.6,6,  2331.2,2,   7.6443,2,    20.00,-999.000,9,-999.000,9,-999.000,9,   4.0571,2,-999.000,9, -999.00,9, -999.00,-999.000,9,-999.000,   39.71,2,   35.04,2, -32.3018,  32.6792,-999.000,-999.000,20090326,       2252
33RR20090320,        I05,      14,          1,         13,         13,2,20090326,       2159,   -32.3018,    32.6795,       3546,  1502.8,   3.7590,  34.6120,2,  34.6116,2,    155.9,2,   154.9,2,   67.24,2,   33.93,2,    0.00,2,    2.39,2,   0.389,6,   0.163,6,   0.0510,2,  2250.0,2,  2340.6,2,   7.6410,2,    20.00,-999.000,9,-999.000,9,-999.000,9,   3.7569,2,-999.000,9, -999.00,9, -999.00,-999.000,9,-999.000,   39.17,2,   35.39,2, -32.3018,  32.6792,-999.000,-999.000,20090326,       2249
33RR20090320,        I05,      14,          1,         12,         12,2,20090326,       2159,   -32.3018,    32.6795,       3546,  1601.5,   3.4467,  34.6343,2,  34.6340,2,    159.0,2,   158.3,2,   70.63,2,   33.65,2,    0.00,2,    2.37,2,   0.295,2,   0.120,2,   0.1860,3,  2253.6,2,  2343.6,2,   7.6434,2,    20.00,-999.000,9,-999.000,9,-999.000,9,   3.4437,2,-999.000,9, -999.00,9, -999.00,-999.000,9,-999.000,   38.96,2,   35.01,2, -32.3019,  32.6792,-999.000,-999.000,20090326,       2246
33RR20090320,        I05,      14,          1,         11,         11,2,20090326,       2159,   -32.3018,    32.6795,       3546,  1700.5,   3.2580,  34.6612,2,  34.6604,2,    161.4,2,   160.9,2,   73.20,2,   33.34,2,    0.00,2,    2.34,2,   0.217,2,   0.087,2,   0.1730,3,  2254.8,2,  2347.2,2,   7.6489,2,    20.00,-999.000,9,-999.000,9,-999.000,9,   3.2568,2,-999.000,9, -999.00,9, -999.00,-999.000,9,-999.000,   39.22,2,   35.17,2, -32.3020,  32.6793,-999.000,-999.000,20090326,       2243
33RR20090320,        I05,      14,          1,         10,         10,2,20090326,       2159,   -32.3018,    32.6795,       3546,  1800.5,   3.0750,  34.6838,2,  34.6834,2,    166.0,2,   165.1,2,   74.55,2,   32.87,2,    0.00,2,    2.30,2,   0.160,2,   0.062,2,   0.1110,3,  2253.5,2,  2348.5,2,   7.6564,2,    20.00,-999.000,9,-999.000,9,-999.000,9,   3.0747,2,-999.000,9, -999.00,9, -999.00,-999.000,9,-999.000,   39.00,2,   34.41,2, -32.3020,  32.6794,-999.000,-999.000,20090326,       2240
33RR20090320,        I05,      14,          1,          9,          9,2,20090326,       2159,   -32.3018,    32.6795,       3546,  1999.3,   2.8093,  34.7250,2,  34.7253,2,    175.9,2,   176.2,2,   73.86,2,   31.59,2,    0.00,2,    2.20,2,   0.085,2,   0.036,2,   0.1540,3,  2249.6,2,  2351.3,2,   7.6749,2,    20.00,-999.000,9,-999.000,9,-999.000,9,   2.8084,2,-999.000,9, -999.00,9, -999.00,-999.000,9,-999.000,   38.88,2,   33.23,2, -32.3019,  32.6794,-999.000,-999.000,20090326,       2236
33RR20090320,        I05,      14,          1,          8,          8,2,20090326,       2159,   -32.3018,    32.6795,       3546,  2199.9,   2.6650,  34.7541,2,  34.7537,2,    186.7,2,   186.3,2,   71.13,2,   30.36,2,    0.00,2,    2.10,2,   0.058,2,   0.023,2,   0.0000,2,  2242.0,2,  2348.6,2,   7.6915,2,    20.00,-999.000,9,-999.000,9,-999.000,9,   2.6649,2,-999.000,9, -999.00,9, -999.00,-999.000,9,-999.000,   39.53,2,   32.06,2, -32.3020,  32.6794,-999.000,-999.000,20090326,       2231
33RR20090320,        I05,      14,          1,          7,          7,2,20090326,       2159,   -32.3018,    32.6795,       3546,  2400.4,   2.5615,  34.7771,2,  34.7770,2,    195.9,2,   195.6,2,   68.20,2,   29.19,2,    0.00,2,    2.01,2,   0.042,2,   0.017,2,   0.0000,2,  2234.9,2,  2347.2,2,   7.7066,2,    20.00,-999.000,9,-999.000,9,-999.000,9,   2.5628,2,-999.000,9, -999.00,9, -999.00,-999.000,9,-999.000,   39.66,2,   30.60,2, -32.3019,  32.6795,-999.000,-999.000,20090326,       2227
33RR20090320,        I05,      14,          1,          6,          6,2,20090326,       2159,   -32.3018,    32.6795,       3546,  2604.0,   2.4732,  34.7943,2,  34.7947,2,    203.6,2,   204.1,2,   65.26,2,   28.21,2,    0.00,2,    1.93,2,   0.035,2,   0.016,2,   0.0000,2,  2228.2,2,  2345.5,2,   7.7190,2,    20.00,-999.000,9,-999.000,9,-999.000,9,   2.4737,2,-999.000,9, -999.00,9, -999.00,-999.000,9,-999.000,   39.96,2,   29.91,2, -32.3018,  32.6795,-999.000,-999.000,20090326,       2222
33RR20090320,        I05,      14,          1,          5,          5,2,20090326,       2159,   -32.3018,    32.6795,       3546,  2806.6,   2.3685,  34.8091,2,  34.8103,2,    211.1,2,   212.4,2,   63.15,2,   27.35,2,    0.00,2,    1.85,2,   0.032,2,   0.014,2,   0.0000,2,  2222.8,2,  2344.8,2,   7.7323,2,    20.00,-999.000,9,-999.000,9,-999.000,9,   2.3682,2,-999.000,9, -999.00,9, -999.00,-999.000,9,-999.000,   39.66,2,   28.69,2, -32.3019,  32.6796,-999.000,-999.000,20090326,       2218
33RR20090320,        I05,      14,          1,          4,          4,2,20090326,       2159,   -32.3018,    32.6795,       3546,  3009.5,   2.2126,  34.8118,2,  34.8114,2,    215.9,2,   216.6,2,   65.31,2,   27.14,2,    0.00,2,    1.84,2,   0.030,2,   0.015,2,   0.0000,2,  2222.5,2,  2345.2,2,   7.7368,2,    20.00,-999.000,9,-999.000,9,-999.000,9,   2.2126,2,-999.000,9, -999.00,9, -999.00,-999.000,9,-999.000,   39.71,2,   29.01,2, -32.3019,  32.6796,-999.000,-999.000,20090326,       2213
33RR20090320,        I05,      14,          1,          3,          3,2,20090326,       2159,   -32.3018,    32.6795,       3546,  3314.4,   1.7628,  34.7862,2,  34.7882,2,    217.0,2,   217.1,2,   79.34,2,   28.33,2,    0.00,2,    1.93,2,   0.056,6,   0.023,6,   0.0000,6,  2232.0,2,  2354.1,2,   7.7269,2,    20.00,-999.000,9,-999.000,9,-999.000,9,   1.7623,2,-999.000,9, -999.00,9, -999.00,-999.000,9,-999.000,   39.40,2,   30.02,2, -32.3017,  32.6796,-999.000,-999.000,20090326,       2207
33RR20090320,        I05,      14,          1,          2,          2,2,20090326,       2159,   -32.3018,    32.6795,       3546,  3446.2,   1.5624,  34.7718,2,  34.7719,2,    216.7,2,   216.7,2,   86.45,2,   28.98,2,    0.00,2,    1.99,2,   0.072,2,   0.027,2,   0.0000,2,  2236.7,2,  2355.5,2,   7.7212,2,    20.00,-999.000,9,-999.000,9,-999.000,9,   1.5620,2,-999.000,9, -999.00,9, -999.00,-999.000,9,-999.000,   39.84,2,   30.76,2, -32.3018,  32.6795,-999.000,-999.000,20090326,       2203
33RR20090320,        I05,      14,          1,          1,          1,2,20090326,       2159,   -32.3018,    32.6795,       3546,  3584.5,   1.2360,  34.7477,2,  34.7486,2,    215.9,2,   216.3,2,   97.67,2,   30.13,2,    0.00,2,    2.09,2,   0.100,2,   0.039,2,   0.0000,2,  2247.1,6,  2364.0,2,   7.7118,2,    20.00,-999.000,9,-999.000,9,-999.000,9,   1.2361,2,-999.000,9, -999.00,9, -999.00,-999.000,9,-999.000,   39.40,2,   31.74,2, -32.3018,  32.6795,-999.000,-999.000,20090326,       2159