BOTTLE,20220814CCHSIOAMB
EXPOCODE,SECT_ID,STNNBR,CASTNO,SAMPNO,BTLNBR,BTLNBR_FLAG_W,DATE,TIME,LATITUDE,LONGITUDE,DEPTH,CTDPRS,CTDTMP,CTDSAL,CTDSAL_FLAG_W,SALNTY,SALNTY_FLAG_W,CTDOXY,CTDOXY_FLAG_W,OXYGEN,OXYGEN_FLAG_W,SILCAT,SILCAT_FLAG_W,NITRAT,NITRAT_FLAG_W,NITRIT,NITRIT_FLAG_W,PHSPHT,PHSPHT_FLAG_W,CFC-11,CFC-11_FLAG_W,CFC-12,CFC-12_FLAG_W,SF6,SF6_FLAG_W,TCARBN,TCARBN_FLAG_W,ALKALI,ALKALI_FLAG_W,PH_TOT,PH_TOT_FLAG_W,PH_TMP,TRITUM,TRITUM_FLAG_W,HELIUM,HELIUM_FLAG_W,DELHE3,DELHE3_FLAG_W,REFTMP,REFTMP_FLAG_W,DELC13,DELC13_FLAG_W,DELC14,DELC14_FLAG_W,C14ERR,NEON,NEON_FLAG_W,NEONER,DOC,DOC_FLAG_W,TDN,TDN_FLAG_W,BTL_LAT,BTL_LON,HELIER,DELHER,BTL_DATE,BTL_TIME
,,,,,,,,,,,METERS,DBAR,ITS-90,PSS-78,,PSS-78,,UMOL/KG,,UMOL/KG,,UMOL/KG,,UMOL/KG,,UMOL/KG,,UMOL/KG,,PMOL/KG,,PMOL/KG,,FMOL/KG,,UMOL/KG,,UMOL/KG,,,,DEG C,TU,,NMOL/KG,,PERCNT,,DEG C,,/MILLE,,/MILLE,,/MILLE,NMOL/KG,,NMOL/KG,UMOL/KG,,UMOL/KG,,,,NMOL/KG,PERCNT,,
33RR20090320,        I05,      39,          1,         32,         32,2,20090401,       2322,   -32.9977,    43.1186,       2140,     9.5,  22.9994,  35.6443,2,  35.6449,2,    217.0,2,   217.1,2,    1.31,2,    0.07,2,    0.00,2,    0.08,2,-999.000,9,-999.000,9,-999.0000,9,  2029.1,6,  2333.5,2,   8.1224,2,    20.00,-999.000,9,-999.000,9,-999.000,9,  22.9986,2,-999.000,9, -999.00,9, -999.00,-999.000,9,-999.000, -999.00,9, -999.00,9, -32.9976,  43.1186,-999.000,-999.000,20090402,       0048
33RR20090320,        I05,      39,          1,         31,         31,2,20090401,       2322,   -32.9977,    43.1186,       2140,    38.6,  22.6027,  35.6406,2,  35.6400,2,    219.8,2,   220.0,2,    1.28,2,    0.00,2,    0.00,2,    0.07,2,-999.000,9,-999.000,9,-999.0000,9,  2029.4,2,  2334.0,2,   8.1227,2,    20.00,-999.000,9,-999.000,9,-999.000,9,  22.6117,2,-999.000,9, -999.00,9, -999.00,-999.000,9,-999.000, -999.00,9, -999.00,9, -32.9978,  43.1186,-999.000,-999.000,20090402,       0046
33RR20090320,        I05,      39,          1,         30,         30,2,20090401,       2322,   -32.9977,    43.1186,       2140,    64.0,  21.0284,  35.6068,2,  35.6055,2,    234.4,2,   233.7,2,    1.43,2,    0.00,2,    0.00,2,    0.09,2,-999.000,9,-999.000,9,-999.0000,9,  -999.0,9,  -999.0,9,-999.0000,9,  -999.00,-999.000,9,-999.000,9,-999.000,9,  21.0372,2,-999.000,9, -999.00,9, -999.00,-999.000,9,-999.000, -999.00,9, -999.00,9, -32.9979,  43.1186,-999.000,-999.000,20090402,       0044
33RR20090320,        I05,      39,          1,         29,         29,2,20090401,       2322,   -32.9977,    43.1186,       2140,    88.3,  18.2308,  35.5599,2,  35.5603,2,    236.6,2,   236.0,2,    1.99,2,    0.00,2,    0.00,2,    0.15,2,-999.000,9,-999.000,9,-999.0000,9,  -999.0,9,  -999.0,9,-999.0000,9,  -999.00,-999.000,9,-999.000,9,-999.000,9,  18.2123,2,-999.000,9, -999.00,9, -999.00,-999.000,9,-999.000, -999.00,9, -999.00,9, -32.9979,  43.1186,-999.000,-999.000,20090402,       0042
33RR20090320,        I05,      39,          1,         28,         28,2,20090401,       2322,   -32.9977,    43.1186,       2140,   114.3,  17.5395,  35.5518,2,  35.5525,2,    220.1,2,   220.6,2,    2.34,2,    1.12,2,    0.07,2,    0.25,2,-999.000,9,-999.000,9,-999.0000,9,  2068.5,2,  2329.3,2,   8.0468,2,    20.00,-999.000,9,-999.000,9,-999.000,9,  17.5448,2,-999.000,9, -999.00,9, -999.00,-999.000,9,-999.000, -999.00,9, -999.00,9, -32.9979,  43.1186,-999.000,-999.000,20090402,       0040
33RR20090320,        I05,      39,          1,         27,         27,2,20090401,       2322,   -32.9977,    43.1186,       2140,   138.6,  17.2730,  35.5498,2,  35.5496,2,    218.2,2,   231.4,4,    2.51,2,    2.61,2,    0.03,2,    0.31,2,-999.000,9,-999.000,9,-999.0000,9,  -999.0,9,  -999.0,9,-999.0000,9,  -999.00,-999.000,9,-999.000,9,-999.000,9,  17.2696,2,-999.000,9, -999.00,9, -999.00,-999.000,9,-999.000, -999.00,9, -999.00,9, -32.9978,  43.1187,-999.000,-999.000,20090402,       0038
33RR20090320,        I05,      39,          1,         26,         26,2,20090401,       2322,   -32.9977,    43.1186,       2140,   163.1,  16.8538,  35.5463,2,  35.5451,2,    221.2,2,   220.6,2,    2.67,2,    3.58,2,    0.01,2,    0.35,2,-999.000,9,-999.000,9,-999.0000,9,  -999.0,9,  -999.0,9,-999.0000,9,  -999.00,-999.000,9,-999.000,9,-999.000,9,  16.8516,2,-999.000,9, -999.00,9, -999.00,-999.000,9,-999.000, -999.00,9, -999.00,9, -32.9978,  43.1186,-999.000,-999.000,20090402,       0036
33RR20090320,        I05,      39,          1,         25,         25,2,20090401,       2322,   -32.9977,    43.1186,       2140,   187.9,  16.7081,  35.5444,2,  35.5437,2,    221.8,2,   220.9,2,    2.83,2,    3.74,2,    0.01,2,    0.36,2,-999.000,9,-999.000,9,-999.0000,9,  2077.2,2,  2327.2,2,   8.0300,2,    20.00,-999.000,9,-999.000,9,-999.000,9,  16.7117,2,-999.000,9, -999.00,9, -999.00,-999.000,9,-999.000, -999.00,9, -999.00,9, -32.9977,  43.1187,-999.000,-999.000,20090402,       0034
33RR20090320,        I05,      39,          1,         24,         24,2,20090401,       2322,   -32.9977,    43.1186,       2140,   214.1,  16.5973,  35.5458,2,  35.5467,2,    223.1,2,   222.3,2,    2.99,2,    3.91,2,    0.01,2,    0.37,2,-999.000,9,-999.000,9,-999.0000,9,  -999.0,9,  -999.0,9,-999.0000,9,  -999.00,-999.000,9,-999.000,9,-999.000,9,  16.5954,2,-999.000,9, -999.00,9, -999.00,-999.000,9,-999.000, -999.00,9, -999.00,9, -32.9977,  43.1187,-999.000,-999.000,20090402,       0032
33RR20090320,        I05,      39,          1,         23,         23,2,20090401,       2322,   -32.9977,    43.1186,       2140,   238.2,  16.4917,  35.5415,2,  35.5402,2,    220.5,2,   222.0,2,    2.96,2,    4.03,2,    0.01,2,    0.38,2,-999.000,9,-999.000,9,-999.0000,9,  -999.0,9,  -999.0,9,-999.0000,9,  -999.00,-999.000,9,-999.000,9,-999.000,9,  16.4949,2,-999.000,9, -999.00,9, -999.00,-999.000,9,-999.000, -999.00,9, -999.00,9, -32.9977,  43.1186,-999.000,-999.000,20090402,       0030
33RR20090320,        I05,      39,          1,         22,         22,2,20090401,       2322,   -32.9977,    43.1186,       2140,   268.4,  16.1193,  35.5078,2,  35.5066,2,    217.4,2,   217.4,2,    3.12,2,    4.81,2,    0.01,2,    0.44,2,-999.000,9,-999.000,9,-999.0000,9,  -999.0,9,  -999.0,9,-999.0000,9,  -999.00,-999.000,9,-999.000,9,-999.000,9,  16.1230,2,-999.000,9, -999.00,9, -999.00,-999.000,9,-999.000, -999.00,9, -999.00,9, -32.9977,  43.1186,-999.000,-999.000,20090402,       0028
33RR20090320,        I05,      39,          1,         21,         21,2,20090401,       2322,   -32.9977,    43.1186,       2140,   319.0,  15.3921,  35.4550,2,  35.4546,2,    213.6,2,   213.0,2,    3.48,2,    6.20,2,    0.00,2,    0.53,2,-999.000,9,-999.000,9,-999.0000,9,  2097.2,2,  2326.5,2,   7.9851,2,    20.00,-999.000,9,-999.000,9,-999.000,9,  15.4002,2,-999.000,9, -999.00,9, -999.00,-999.000,9,-999.000, -999.00,9, -999.00,9, -32.9977,  43.1187,-999.000,-999.000,20090402,       0025
33RR20090320,        I05,      39,          1,         20,         20,2,20090401,       2322,   -32.9977,    43.1186,       2140,   368.2,  14.7154,  35.3998,2,  35.3986,2,    212.7,2,   211.9,2,    3.65,2,    7.43,2,    0.00,2,    0.60,2,-999.000,9,-999.000,9,-999.0000,9,  -999.0,9,  -999.0,9,-999.0000,9,  -999.00,-999.000,9,-999.000,9,-999.000,9,  14.7164,2,-999.000,9, -999.00,9, -999.00,-999.000,9,-999.000, -999.00,9, -999.00,9, -32.9977,  43.1187,-999.000,-999.000,20090402,       0023
33RR20090320,        I05,      39,          1,         19,         19,2,20090401,       2322,   -32.9977,    43.1186,       2140,   418.1,  13.9772,  35.3341,2,  35.3353,2,    214.4,2,   214.8,2,    3.62,2,    8.49,2,    0.00,2,    0.67,2,-999.000,9,-999.000,9,-999.0000,9,  -999.0,9,  -999.0,9,-999.0000,9,  -999.00,-999.000,9,-999.000,9,-999.000,9,  13.9767,2,-999.000,9, -999.00,9, -999.00,-999.000,9,-999.000, -999.00,9, -999.00,9, -32.9977,  43.1187,-999.000,-999.000,20090402,       0020
33RR20090320,        I05,      39,          1,         18,         18,2,20090401,       2322,   -32.9977,    43.1186,       2140,   468.4,  13.2521,  35.2515,2,  35.2512,2,    214.7,2,   214.8,2,    3.77,2,    9.89,2,    0.00,2,    0.76,2,-999.000,9,-999.000,9,-999.0000,9,  -999.0,9,  -999.0,9,-999.0000,9,  -999.00,-999.000,9,-999.000,9,-999.000,9,  13.2582,2,-999.000,9, -999.00,9, -999.00,-999.000,9,-999.000, -999.00,9, -999.00,9, -32.9976,  43.1187,-999.000,-999.000,20090402,       0018
33RR20090320,        I05,      39,          1,         17,         17,2,20090401,       2322,   -32.9977,    43.1186,       2140,   539.2,  12.4771,  35.1421,2,  35.1413,2,    217.5,2,   216.9,2,    4.14,2,   11.33,2,    0.00,2,    0.86,2,-999.000,9,-999.000,9,-999.0000,9,  2121.0,2,  2312.7,2,   7.9148,2,    20.00,-999.000,9,-999.000,9,-999.000,9,  12.4737,2,-999.000,9, -999.00,9, -999.00,-999.000,9,-999.000, -999.00,9, -999.00,9, -32.9976,  43.1188,-999.000,-999.000,20090402,       0015
33RR20090320,        I05,      39,          1,         16,         16,2,20090401,       2322,   -32.9977,    43.1186,       2140,   638.5,  11.4339,  34.9951,2,  34.9947,2,    216.6,2,   217.9,2,    4.88,2,   13.40,2,    0.00,2,    1.00,2,-999.000,9,-999.000,9,-999.0000,9,  -999.0,9,  -999.0,9,-999.0000,9,  -999.00,-999.000,9,-999.000,9,-999.000,9,  11.4308,2,-999.000,9, -999.00,9, -999.00,-999.000,9,-999.000, -999.00,9, -999.00,9, -32.9977,  43.1188,-999.000,-999.000,20090402,       0012
33RR20090320,        I05,      39,          1,         15,         15,2,20090401,       2322,   -32.9977,    43.1186,       2140,   738.0,  10.2772,  34.8367,2,  34.8381,2,    215.3,2,   215.8,2,    6.60,2,   16.15,2,    0.00,2,    1.18,2,-999.000,9,-999.000,9,-999.0000,9,  -999.0,9,  -999.0,9,-999.0000,9,  -999.00,-999.000,9,-999.000,9,-999.000,9,  10.2727,2,-999.000,9, -999.00,9, -999.00,-999.000,9,-999.000, -999.00,9, -999.00,9, -32.9978,  43.1186,-999.000,-999.000,20090402,       0009
33RR20090320,        I05,      39,          1,         14,         14,2,20090401,       2322,   -32.9977,    43.1186,       2140,   838.9,   8.9162,  34.6847,2,  34.6836,2,    210.6,2,   208.3,2,   10.66,2,   20.06,2,    0.00,2,    1.43,2,-999.000,9,-999.000,9,-999.0000,9,  -999.0,9,  -999.0,9,-999.0000,9,  -999.00,-999.000,9,-999.000,9,-999.000,9,   8.9156,2,-999.000,9, -999.00,9, -999.00,-999.000,9,-999.000, -999.00,9, -999.00,9, -32.9979,  43.1185,-999.000,-999.000,20090402,       0006
33RR20090320,        I05,      39,          1,         13,         13,2,20090401,       2322,   -32.9977,    43.1186,       2140,   937.8,   7.2852,  34.5381,2,  34.5378,2,    201.3,2,   200.6,2,   17.66,2,   24.61,2,    0.00,2,    1.75,2,-999.000,9,-999.000,9,-999.0000,9,  -999.0,9,  -999.0,9,-999.0000,9,  -999.00,-999.000,9,-999.000,9,-999.000,9,   7.2677,2,-999.000,9, -999.00,9, -999.00,-999.000,9,-999.000, -999.00,9, -999.00,9, -32.9978,  43.1185,-999.000,-999.000,20090402,       0003
33RR20090320,        I05,      39,          1,         12,         12,2,20090401,       2322,   -32.9977,    43.1186,       2140,  1040.5,   6.0064,  34.4510,2,  34.4511,2,    196.9,2,   199.2,2,   24.69,2,   27.66,2,    0.00,2,    1.96,2,-999.000,9,-999.000,9,-999.0000,9,  2182.5,2,  2297.9,2,   7.7285,2,    20.00,-999.000,9,-999.000,9,-999.000,9,   6.0087,2,-999.000,9, -999.00,9, -999.00,-999.000,9,-999.000, -999.00,9, -999.00,9, -32.9978,  43.1185,-999.000,-999.000,20090401,       0000
33RR20090320,        I05,      39,          1,         11,         11,2,20090401,       2322,   -32.9977,    43.1186,       2140,  1138.8,   5.1504,  34.4141,2,  34.4147,2,    196.1,2,   197.7,2,   30.94,2,   29.51,2,    0.00,2,    2.10,2,-999.000,9,-999.000,9,-999.0000,9,  -999.0,9,  -999.0,9,-999.0000,9,  -999.00,-999.000,9,-999.000,9,-999.000,9,   5.1443,2,-999.000,9, -999.00,9, -999.00,-999.000,9,-999.000, -999.00,9, -999.00,9, -32.9978,  43.1185,-999.000,-999.000,20090401,       2356
33RR20090320,        I05,      39,          1,         10,         10,2,20090401,       2322,   -32.9977,    43.1186,       2140,  1239.4,   4.5192,  34.4163,2,  34.4163,2,    191.6,2,   192.4,2,   38.59,2,   31.09,2,    0.00,2,    2.22,2,-999.000,9,-999.000,9,-999.0000,9,  -999.0,9,  -999.0,9,-999.0000,9,  -999.00,-999.000,9,-999.000,9,-999.000,9,   4.5184,2,-999.000,9, -999.00,9, -999.00,-999.000,9,-999.000, -999.00,9, -999.00,9, -32.9978,  43.1185,-999.000,-999.000,20090401,       2353
33RR20090320,        I05,      39,          1,          9,          9,2,20090401,       2322,   -32.9977,    43.1186,       2140,  1340.1,   3.7995,  34.4637,2,  34.4646,2,    180.9,2,   181.2,2,   51.21,2,   32.73,2,    0.00,2,    2.34,2,-999.000,9,-999.000,9,-999.0000,9,  -999.0,9,  -999.0,9,-999.0000,9,  -999.00,-999.000,9,-999.000,9,-999.000,9,   3.7993,2,-999.000,9, -999.00,9, -999.00,-999.000,9,-999.000, -999.00,9, -999.00,9, -32.9977,  43.1185,-999.000,-999.000,20090401,       2350
33RR20090320,        I05,      39,          1,          8,          8,2,20090401,       2322,   -32.9977,    43.1186,       2140,  1441.2,   3.5883,  34.5102,2,  34.5100,2,    175.8,2,   174.9,2,   57.91,2,   33.07,2,    0.00,2,    2.38,2,-999.000,9,-999.000,9,-999.0000,9,  -999.0,9,  -999.0,9,-999.0000,9,  -999.00,-999.000,9,-999.000,9,-999.000,9,   3.5876,2,-999.000,9, -999.00,9, -999.00,-999.000,9,-999.000, -999.00,9, -999.00,9, -32.9975,  43.1186,-999.000,-999.000,20090401,       2345
33RR20090320,        I05,      39,          1,          7,          7,2,20090401,       2322,   -32.9977,    43.1186,       2140,  1541.5,   3.3542,  34.5486,2,  34.5487,2,    173.3,2,   172.4,2,   63.44,2,   33.18,2,    0.00,2,    2.38,2,-999.000,9,-999.000,9,-999.0000,9,  2240.4,2,  2330.8,2,   7.6546,2,    20.00,-999.000,9,-999.000,9,-999.000,9,   3.3550,2,-999.000,9, -999.00,9, -999.00,-999.000,9,-999.000, -999.00,9, -999.00,9, -32.9976,  43.1187,-999.000,-999.000,20090401,       2342
33RR20090320,        I05,      39,          1,          6,          6,2,20090401,       2322,   -32.9977,    43.1186,       2140,  1641.4,   3.0518,  34.5902,2,  34.5900,2,    174.3,2,   174.1,2,   67.79,2,   32.95,2,    0.00,2,    2.37,2,-999.000,9,-999.000,9,-999.0000,9,  -999.0,9,  -999.0,9,-999.0000,9,  -999.00,-999.000,9,-999.000,9,-999.000,9,   3.0518,2,-999.000,9, -999.00,9, -999.00,-999.000,9,-999.000, -999.00,9, -999.00,9, -32.9976,  43.1186,-999.000,-999.000,20090401,       2339
33RR20090320,        I05,      39,          1,          5,          5,2,20090401,       2322,   -32.9977,    43.1186,       2140,  1743.0,   2.9438,  34.6292,2,  34.6297,2,    174.1,2,   174.7,2,   70.94,2,   32.61,2,    0.00,2,    2.29,2,-999.000,9,-999.000,9,-999.0000,9,  -999.0,9,  -999.0,9,-999.0000,9,  -999.00,-999.000,9,-999.000,9,-999.000,9,   2.9435,2,-999.000,9, -999.00,9, -999.00,-999.000,9,-999.000, -999.00,9, -999.00,9, -32.9976,  43.1186,-999.000,-999.000,20090401,       2335
33RR20090320,        I05,      39,          1,          4,          4,2,20090401,       2322,   -32.9977,    43.1186,       2140,  1843.8,   2.8602,  34.6539,2,  34.6556,2,    175.2,2,   175.5,2,   72.70,2,   32.32,2,    0.00,2,    2.25,2,-999.000,9,-999.000,9,-999.0000,9,  -999.0,9,  -999.0,9,-999.0000,9,  -999.00,-999.000,9,-999.000,9,-999.000,9,   2.8600,2,-999.000,9, -999.00,9, -999.00,-999.000,9,-999.000, -999.00,9, -999.00,9, -32.9976,  43.1187,-999.000,-999.000,20090401,       2332
33RR20090320,        I05,      39,          1,          3,          3,2,20090401,       2322,   -32.9977,    43.1186,       2140,  1943.7,   2.7111,  34.6864,2,  34.6861,2,    180.4,2,   180.2,2,   73.47,2,   31.63,2,    0.00,2,    2.20,2,-999.000,9,-999.000,9,-999.0000,9,  -999.0,9,  -999.0,9,-999.0000,9,  -999.00,-999.000,9,-999.000,9,-999.000,9,   2.7103,2,-999.000,9, -999.00,9, -999.00,-999.000,9,-999.000, -999.00,9, -999.00,9, -32.9975,  43.1187,-999.000,-999.000,20090401,       2329
33RR20090320,        I05,      39,          1,          2,          2,2,20090401,       2322,   -32.9977,    43.1186,       2140,  2076.3,   2.6626,  34.7054,2,  34.7056,2,    183.1,2,   183.3,2,   74.05,2,   31.18,2,    0.00,2,    2.18,2,-999.000,9,-999.000,9,-999.0000,9,  2246.0,2,  2345.7,2,   7.6796,2,    20.00,-999.000,9,-999.000,9,-999.000,9,   2.6608,2,-999.000,9, -999.00,9, -999.00,-999.000,9,-999.000, -999.00,9, -999.00,9, -32.9976,  43.1187,-999.000,-999.000,20090401,       2325
33RR20090320,        I05,      39,          1,          1,          1,2,20090401,       2322,   -32.9977,    43.1186,       2140,  2151.5,   2.6005,  34.7406,2,  34.7400,2,    187.4,2,   187.4,2,   73.62,2,   30.33,2,    0.00,2,    2.11,2,-999.000,9,-999.000,9,-999.0000,9,  2244.0,6,  2346.7,2,   7.6909,2,    20.00,-999.000,9,-999.000,9,-999.000,9,   2.6001,2,-999.000,9, -999.00,9, -999.00,-999.000,9,-999.000, -999.00,9, -999.00,9, -32.9977,  43.1186,-999.000,-999.000,20090401,       2322