BOTTLE,20220814CCHSIOAMB
EXPOCODE,SECT_ID,STNNBR,CASTNO,SAMPNO,BTLNBR,BTLNBR_FLAG_W,DATE,TIME,LATITUDE,LONGITUDE,DEPTH,CTDPRS,CTDTMP,CTDSAL,CTDSAL_FLAG_W,SALNTY,SALNTY_FLAG_W,CTDOXY,CTDOXY_FLAG_W,OXYGEN,OXYGEN_FLAG_W,SILCAT,SILCAT_FLAG_W,NITRAT,NITRAT_FLAG_W,NITRIT,NITRIT_FLAG_W,PHSPHT,PHSPHT_FLAG_W,CFC-11,CFC-11_FLAG_W,CFC-12,CFC-12_FLAG_W,SF6,SF6_FLAG_W,TCARBN,TCARBN_FLAG_W,ALKALI,ALKALI_FLAG_W,PH_TOT,PH_TOT_FLAG_W,PH_TMP,TRITUM,TRITUM_FLAG_W,HELIUM,HELIUM_FLAG_W,DELHE3,DELHE3_FLAG_W,REFTMP,REFTMP_FLAG_W,DELC13,DELC13_FLAG_W,DELC14,DELC14_FLAG_W,C14ERR,NEON,NEON_FLAG_W,NEONER,DOC,DOC_FLAG_W,TDN,TDN_FLAG_W,BTL_LAT,BTL_LON,HELIER,DELHER,BTL_DATE,BTL_TIME
,,,,,,,,,,,METERS,DBAR,ITS-90,PSS-78,,PSS-78,,UMOL/KG,,UMOL/KG,,UMOL/KG,,UMOL/KG,,UMOL/KG,,UMOL/KG,,PMOL/KG,,PMOL/KG,,FMOL/KG,,UMOL/KG,,UMOL/KG,,,,DEG C,TU,,NMOL/KG,,PERCNT,,DEG C,,/MILLE,,/MILLE,,/MILLE,NMOL/KG,,NMOL/KG,UMOL/KG,,UMOL/KG,,,,NMOL/KG,PERCNT,,
33RR20090320,        I05,      11,          1,         36,         36,2,20090326,       0303,   -31.9417,    31.6002,       3533,     9.9,  24.2034,  35.5628,2,  35.5647,2,    208.5,2,   209.5,2,    0.03,2,    0.00,2,    0.00,2,    0.03,2,   1.819,2,   1.108,2,   1.0500,2,  2005.8,6,  2330.1,2,   8.1603,2,    20.00,-999.000,9,-999.000,9,-999.000,9,  24.2034,2,-999.000,9, -999.00,9, -999.00,-999.000,9,-999.000, -999.00,9, -999.00,9, -31.9414,  31.6001,-999.000,-999.000,20090326,       0442
33RR20090320,        I05,      11,          1,         35,         35,2,20090326,       0303,   -31.9417,    31.6002,       3533,    30.7,  23.9136,  35.5652,2,  35.5665,2,    211.2,2,   211.6,2,    0.00,2,    0.21,2,    0.00,2,    0.01,2,   1.829,2,   1.117,2,   1.0180,2,  2005.2,2,  2333.2,2,   8.1585,2,    20.00,-999.000,9,-999.000,9,-999.000,9,  23.9158,2,-999.000,9, -999.00,9, -999.00,-999.000,9,-999.000, -999.00,9, -999.00,9, -31.9414,  31.6001,-999.000,-999.000,20090326,       0440
33RR20090320,        I05,      11,          1,         34,         34,2,20090326,       0303,   -31.9417,    31.6002,       3533,    54.8,  23.4897,  35.5676,2,-999.0000,9,    213.0,2,   212.4,2,    0.00,2,    0.31,2,    0.00,2,    0.01,2,-999.000,9,-999.000,9,-999.0000,9,  -999.0,9,  -999.0,9,-999.0000,9,  -999.00,-999.000,9,-999.000,9,-999.000,9,  23.4942,2,-999.000,9, -999.00,9, -999.00,-999.000,9,-999.000, -999.00,9, -999.00,9, -31.9416,  31.6000,-999.000,-999.000,20090326,       0439
33RR20090320,        I05,      11,          1,         33,         33,2,20090326,       0303,   -31.9417,    31.6002,       3533,    79.5,  21.8288,  35.5488,2,-999.0000,9,    187.7,2,   211.9,2,    0.00,2,    0.77,2,    0.04,2,    0.07,2,   2.041,2,   1.228,2,   1.1020,2,  2031.1,2,  2327.6,2,   8.1148,2,    20.00,-999.000,9,-999.000,9,-999.000,9,  21.8244,2,-999.000,9, -999.00,9, -999.00,-999.000,9,-999.000, -999.00,9, -999.00,9, -31.9417,  31.6000,-999.000,-999.000,20090326,       0437
33RR20090320,        I05,      11,          1,         32,         32,2,20090326,       0303,   -31.9417,    31.6002,       3533,   105.0,  20.4686,  35.5292,2,-999.0000,9,    221.8,2,   201.0,2,    0.04,2,    2.44,2,    0.07,2,    0.20,2,   2.123,6,   1.274,6,   1.0870,6,  2050.1,2,  2327.4,2,   8.0794,2,    20.00,-999.000,9,-999.000,9,-999.000,9,  20.4690,2,-999.000,9, -999.00,9, -999.00,-999.000,9,-999.000, -999.00,9, -999.00,9, -31.9416,  31.6000,-999.000,-999.000,20090326,       0436
33RR20090320,        I05,      11,          1,         31,         31,2,20090326,       0303,   -31.9417,    31.6002,       3533,   129.4,  19.3183,  35.5624,2,-999.0000,9,    217.1,2,   214.2,2,    0.00,2,    0.87,2,    0.04,2,    0.14,2,-999.000,9,-999.000,9,-999.0000,9,  -999.0,9,  -999.0,9,-999.0000,9,  -999.00,-999.000,9,-999.000,9,-999.000,9,  19.3173,2,-999.000,9, -999.00,9, -999.00,-999.000,9,-999.000, -999.00,9, -999.00,9, -31.9416,  31.6000,-999.000,-999.000,20090326,       0434
33RR20090320,        I05,      11,          1,         30,         30,2,20090326,       0303,   -31.9417,    31.6002,       3533,   153.8,  18.9185,  35.5678,2,-999.0000,9,    214.3,2,   217.0,2,    0.00,2,    1.40,2,    0.05,2,    0.16,2,   2.264,2,   1.353,2,   1.2230,2,  2050.5,2,  2328.4,2,   8.0815,2,    20.00,-999.000,9,-999.000,9,-999.000,9,  18.8965,2,-999.000,9, -999.00,9, -999.00,-999.000,9,-999.000, -999.00,9, -999.00,9, -31.9415,  31.6000,-999.000,-999.000,20090326,       0432
33RR20090320,        I05,      11,          1,         29,         29,2,20090326,       0303,   -31.9417,    31.6002,       3533,   204.9,  18.0481,  35.5528,2,-999.0000,9,    218.2,2,   216.9,2,    0.00,2,    2.84,2,    0.01,2,    0.22,2,-999.000,9,-999.000,9,-999.0000,9,  -999.0,9,  -999.0,9,-999.0000,9,  -999.00,-999.000,9,-999.000,9,-999.000,9,  18.0473,2,-999.000,9, -999.00,9, -999.00,-999.000,9,-999.000, -999.00,9, -999.00,9, -31.9414,  31.6000,-999.000,-999.000,20090326,       0430
33RR20090320,        I05,      11,          1,         28,         28,2,20090326,       0303,   -31.9417,    31.6002,       3533,   255.3,  17.6085,  35.5415,2,-999.0000,9,    207.5,2,   208.2,2,    0.25,2,    4.33,2,    0.01,2,    0.32,2,-999.000,9,-999.000,9,-999.0000,9,  -999.0,9,  -999.0,9,-999.0000,9,  -999.00,-999.000,9,-999.000,9,-999.000,9,  17.5690,2,-999.000,9, -999.00,9, -999.00,-999.000,9,-999.000, -999.00,9, -999.00,9, -31.9413,  31.6000,-999.000,-999.000,20090326,       0429
33RR20090320,        I05,      11,          1,         27,         27,2,20090326,       0303,   -31.9417,    31.6002,       3533,   305.0,  16.7917,  35.5299,2,-999.0000,9,    204.4,2,   203.7,2,    0.70,2,    5.38,2,    0.01,2,    0.40,2,   2.463,2,   1.447,2,   1.1470,2,  2088.2,2,  2325.8,2,   8.0113,2,    20.00,-999.000,9,-999.000,9,-999.000,9,  16.7914,2,-999.000,9, -999.00,9, -999.00,-999.000,9,-999.000, -999.00,9, -999.00,9, -31.9414,  31.5999,-999.000,-999.000,20090326,       0427
33RR20090320,        I05,      11,          1,         26,         26,2,20090326,       0303,   -31.9417,    31.6002,       3533,   354.6,  16.0202,  35.4899,2,-999.0000,9,    199.8,2,   200.3,2,    1.14,2,    6.71,2,    0.00,2,    0.48,2,-999.000,9,-999.000,9,-999.0000,9,  -999.0,9,  -999.0,9,-999.0000,9,  -999.00,-999.000,9,-999.000,9,-999.000,9,  16.0200,2,-999.000,9, -999.00,9, -999.00,-999.000,9,-999.000, -999.00,9, -999.00,9, -31.9415,  31.6000,-999.000,-999.000,20090326,       0425
33RR20090320,        I05,      11,          1,         25,         25,2,20090326,       0303,   -31.9417,    31.6002,       3533,   405.0,  15.1732,  35.4394,2,-999.0000,9,    202.0,2,   201.6,2,    1.20,2,    7.76,2,    0.00,2,    0.55,2,-999.000,9,-999.000,9,-999.0000,9,  -999.0,9,  -999.0,9,-999.0000,9,  -999.00,-999.000,9,-999.000,9,-999.000,9,  15.1851,2,-999.000,9, -999.00,9, -999.00,-999.000,9,-999.000, -999.00,9, -999.00,9, -31.9416,  31.5999,-999.000,-999.000,20090326,       0423
33RR20090320,        I05,      11,          1,         24,         24,2,20090326,       0303,   -31.9417,    31.6002,       3533,   453.2,  14.3017,  35.3676,2,-999.0000,9,    208.2,2,   208.0,2,    1.45,2,    8.60,2,    0.00,2,    0.61,2,   2.808,2,   1.599,2,   1.1120,2,  2113.2,2,  2323.1,2,   7.9533,2,    20.00,-999.000,9,-999.000,9,-999.000,9,  14.3003,2,-999.000,9, -999.00,9, -999.00,-999.000,9,-999.000, -999.00,9, -999.00,9, -31.9416,  31.6000,-999.000,-999.000,20090326,       0421
33RR20090320,        I05,      11,          1,         23,         23,2,20090326,       0303,   -31.9417,    31.6002,       3533,   501.4,  13.5704,  35.2959,2,-999.0000,9,    210.9,2,   211.2,2,    1.50,2,    9.64,2,    0.00,2,    0.67,2,-999.000,9,-999.000,9,-999.0000,9,  -999.0,9,  -999.0,9,-999.0000,9,  -999.00,-999.000,9,-999.000,9,-999.000,9,  13.5692,2,-999.000,9, -999.00,9, -999.00,-999.000,9,-999.000, -999.00,9, -999.00,9, -31.9416,  31.6000,-999.000,-999.000,20090326,       0419
33RR20090320,        I05,      11,          1,         22,         22,2,20090326,       0303,   -31.9417,    31.6002,       3533,   603.8,  12.5978,  35.1708,2,-999.0000,9,    216.2,2,   216.6,2,    1.16,2,   11.13,2,    0.00,2,    0.77,2,-999.000,9,-999.000,9,-999.0000,9,  -999.0,9,  -999.0,9,-999.0000,9,  -999.00,-999.000,9,-999.000,9,-999.000,9,  12.5955,2,-999.000,9, -999.00,9, -999.00,-999.000,9,-999.000, -999.00,9, -999.00,9, -31.9414,  31.6002,-999.000,-999.000,20090326,       0416
33RR20090320,        I05,      11,          1,         21,         21,2,20090326,       0303,   -31.9417,    31.6002,       3533,   702.5,  11.2581,  34.9782,2,-999.0000,9,    217.6,2,   218.5,2,    1.81,2,   13.76,2,    0.00,2,    0.94,2,   3.173,2,   1.681,2,   0.9050,2,  2128.6,2,  2303.9,2,   7.8893,2,    20.00,-999.000,9,-999.000,9,-999.000,9,  11.2617,2,-999.000,9, -999.00,9, -999.00,-999.000,9,-999.000, -999.00,9, -999.00,9, -31.9414,  31.6004,-999.000,-999.000,20090326,       0414
33RR20090320,        I05,      11,          1,         20,         20,2,20090326,       0303,   -31.9417,    31.6002,       3533,   803.9,  10.0427,  34.8064,2,-999.0000,9,    215.8,2,   216.4,2,    3.85,2,   16.80,2,    0.00,2,    1.14,2,-999.000,9,-999.000,9,-999.0000,9,  -999.0,9,  -999.0,9,-999.0000,9,  -999.00,-999.000,9,-999.000,9,-999.000,9,  10.0430,2,-999.000,9, -999.00,9, -999.00,-999.000,9,-999.000, -999.00,9, -999.00,9, -31.9413,  31.6005,-999.000,-999.000,20090326,       0411
33RR20090320,        I05,      11,          1,         19,         19,2,20090326,       0303,   -31.9417,    31.6002,       3533,   905.1,   8.8855,  34.7036,2,-999.0000,9,    198.4,2,   194.8,2,   11.25,2,   21.44,2,    0.00,2,    1.45,2,-999.000,9,-999.000,9,-999.0000,9,  -999.0,9,  -999.0,9,-999.0000,9,  -999.00,-999.000,9,-999.000,9,-999.000,9,   8.8872,2,-999.000,9, -999.00,9, -999.00,-999.000,9,-999.000, -999.00,9, -999.00,9, -31.9412,  31.6005,-999.000,-999.000,20090326,       0408
33RR20090320,        I05,      11,          1,         18,         18,2,20090326,       0303,   -31.9417,    31.6002,       3533,  1004.9,   7.7889,  34.6274,2,-999.0000,9,    179.0,2,   179.1,2,   19.69,2,   25.28,2,    0.00,2,    1.73,2,   1.908,2,   0.945,2,   0.3580,2,  2180.7,2,  2303.1,2,   7.7496,2,    20.00,-999.000,9,-999.000,9,-999.000,9,   7.7863,2,-999.000,9, -999.00,9, -999.00,-999.000,9,-999.000, -999.00,9, -999.00,9, -31.9412,  31.6005,-999.000,-999.000,20090326,       0406
33RR20090320,        I05,      11,          1,         17,         17,2,20090326,       0303,   -31.9417,    31.6002,       3533,  1104.9,   6.4476,  34.5348,2,-999.0000,9,    176.4,2,   177.6,2,   27.37,2,   28.35,2,    0.00,2,    1.94,2,-999.000,9,-999.000,9,-999.0000,9,  -999.0,9,  -999.0,9,-999.0000,9,  -999.00,-999.000,9,-999.000,9,-999.000,9,   6.4509,2,-999.000,9, -999.00,9, -999.00,-999.000,9,-999.000, -999.00,9, -999.00,9, -31.9413,  31.6004,-999.000,-999.000,20090326,       0403
33RR20090320,        I05,      11,          1,         16,         16,2,20090326,       0303,   -31.9417,    31.6002,       3533,  1205.9,   5.5930,  34.5281,2,  34.5262,2,    166.5,2,   167.3,2,   37.68,2,   30.88,2,    0.00,2,    2.14,2,-999.000,9,-999.000,9,-999.0000,9,  -999.0,9,  -999.0,9,-999.0000,9,  -999.00,-999.000,9,-999.000,9,-999.000,9,   5.5920,2,-999.000,9, -999.00,9, -999.00,-999.000,9,-999.000, -999.00,9, -999.00,9, -31.9414,  31.6004,-999.000,-999.000,20090326,       0400
33RR20090320,        I05,      11,          1,         15,         15,2,20090326,       0303,   -31.9417,    31.6002,       3533,  1305.8,   4.9796,  34.5521,2,  34.5545,2,    157.6,2,   156.9,2,   48.63,2,   32.50,2,    0.00,2,    2.27,2,-999.000,9,-999.000,9,-999.0000,9,  -999.0,9,  -999.0,9,-999.0000,9,  -999.00,-999.000,9,-999.000,9,-999.000,9,   4.9797,2,-999.000,9, -999.00,9, -999.00,-999.000,9,-999.000, -999.00,9, -999.00,9, -31.9415,  31.6004,-999.000,-999.000,20090326,       0358
33RR20090320,        I05,      11,          1,         14,         14,2,20090326,       0303,   -31.9417,    31.6002,       3533,  1405.4,   4.3660,  34.5764,2,  34.5795,2,    153.3,2,   152.6,2,   57.60,2,   33.52,2,    0.00,2,    2.35,2,-999.000,9,-999.000,9,-999.0000,9,  -999.0,9,  -999.0,9,-999.0000,9,  -999.00,-999.000,9,-999.000,9,-999.000,9,   4.3661,2,-999.000,9, -999.00,9, -999.00,-999.000,9,-999.000, -999.00,9, -999.00,9, -31.9415,  31.6004,-999.000,-999.000,20090326,       0355
33RR20090320,        I05,      11,          1,         13,         13,2,20090326,       0303,   -31.9417,    31.6002,       3533,  1507.3,   3.9573,  34.6077,2,  34.6091,2,    151.3,2,   152.4,2,   64.16,2,   33.82,2,    0.00,2,    2.36,2,   0.447,2,   0.184,2,   0.0530,2,  2252.8,2,  2335.6,2,   7.6406,2,    20.00,-999.000,9,-999.000,9,-999.000,9,   3.9550,2,-999.000,9, -999.00,9, -999.00,-999.000,9,-999.000, -999.00,9, -999.00,9, -31.9415,  31.6003,-999.000,-999.000,20090326,       0352
33RR20090320,        I05,      11,          1,         12,         12,2,20090326,       0303,   -31.9417,    31.6002,       3533,  1608.3,   3.5660,  34.6348,2,  34.6353,2,    154.9,2,   155.8,2,   68.71,2,   33.66,2,    0.00,2,    2.35,2,-999.000,9,-999.000,9,-999.0000,9,  -999.0,9,  -999.0,9,-999.0000,9,  -999.00,-999.000,9,-999.000,9,-999.000,9,   3.5674,2,-999.000,9, -999.00,9, -999.00,-999.000,9,-999.000, -999.00,9, -999.00,9, -31.9414,  31.6003,-999.000,-999.000,20090326,       0349
33RR20090320,        I05,      11,          1,         11,         11,2,20090326,       0303,   -31.9417,    31.6002,       3533,  1707.8,   3.2941,  34.6604,2,  34.6604,2,    158.9,2,   159.9,2,   72.04,2,   33.30,2,    0.00,2,    2.31,2,-999.000,9,-999.000,9,-999.0000,9,  -999.0,9,  -999.0,9,-999.0000,9,  -999.00,-999.000,9,-999.000,9,-999.000,9,   3.2939,2,-999.000,9, -999.00,9, -999.00,-999.000,9,-999.000, -999.00,9, -999.00,9, -31.9414,  31.6002,-999.000,-999.000,20090326,       0347
33RR20090320,        I05,      11,          1,         10,         10,2,20090326,       0303,   -31.9417,    31.6002,       3533,  1809.0,   3.0752,  34.6835,2,  34.6850,2,    164.3,2,   165.5,2,   73.34,2,   32.68,2,    0.00,2,    2.29,2,-999.000,9,-999.000,9,-999.0000,9,  -999.0,9,  -999.0,9,-999.0000,9,  -999.00,-999.000,9,-999.000,9,-999.000,9,   3.0751,2,-999.000,9, -999.00,9, -999.00,-999.000,9,-999.000, -999.00,9, -999.00,9, -31.9413,  31.6001,-999.000,-999.000,20090326,       0343
33RR20090320,        I05,      11,          1,          9,          9,2,20090326,       0303,   -31.9417,    31.6002,       3533,  2010.9,   2.8127,  34.7243,2,  34.7255,2,    175.2,2,   175.7,2,   73.41,2,   31.52,2,    0.00,2,    2.20,2,   0.086,2,   0.034,2,  -0.0100,2,  2251.9,2,  2347.0,2,   7.6744,2,    20.00,-999.000,9,-999.000,9,-999.000,9,   2.8116,2,-999.000,9, -999.00,9, -999.00,-999.000,9,-999.000, -999.00,9, -999.00,9, -31.9414,  31.6001,-999.000,-999.000,20090326,       0339
33RR20090320,        I05,      11,          1,          8,          8,2,20090326,       0303,   -31.9417,    31.6002,       3533,  2211.5,   2.6340,  34.7594,2,  34.7605,2,    187.3,2,   188.0,2,   69.82,2,   30.06,2,    0.00,2,    2.06,2,-999.000,9,-999.000,9,-999.0000,9,  -999.0,9,  -999.0,9,-999.0000,9,  -999.00,-999.000,9,-999.000,9,-999.000,9,   2.6338,2,-999.000,9, -999.00,9, -999.00,-999.000,9,-999.000, -999.00,9, -999.00,9, -31.9414,  31.6001,-999.000,-999.000,20090326,       0335
33RR20090320,        I05,      11,          1,          7,          7,2,20090326,       0303,   -31.9417,    31.6002,       3533,  2414.7,   2.5291,  34.7817,2,  34.7823,2,    197.8,2,   197.4,2,   66.63,2,   28.94,2,    0.00,2,    1.98,2,-999.000,9,-999.000,9,-999.0000,9,  -999.0,9,  -999.0,9,-999.0000,9,  -999.00,-999.000,9,-999.000,9,-999.000,9,   2.5291,2,-999.000,9, -999.00,9, -999.00,-999.000,9,-999.000, -999.00,9, -999.00,9, -31.9415,  31.6001,-999.000,-999.000,20090326,       0330
33RR20090320,        I05,      11,          1,          6,          6,2,20090326,       0303,   -31.9417,    31.6002,       3533,  2615.8,   2.4303,  34.7985,2,  34.7992,2,    206.1,2,   205.9,2,   64.05,2,   27.94,2,    0.00,2,    1.89,2,   0.028,6,   0.011,6,  -0.0090,6,  2230.5,2,  2346.8,2,   7.7227,2,    20.00,-999.000,9,-999.000,9,-999.000,9,   2.4304,2,-999.000,9, -999.00,9, -999.00,-999.000,9,-999.000, -999.00,9, -999.00,9, -31.9416,  31.6001,-999.000,-999.000,20090326,       0326
33RR20090320,        I05,      11,          1,          5,          5,2,20090326,       0303,   -31.9417,    31.6002,       3533,  2817.8,   2.3067,  34.8110,2,  34.8118,2,    214.0,2,   213.8,2,   62.70,2,   27.13,2,    0.00,2,    1.84,2,-999.000,9,-999.000,9,-999.0000,9,  -999.0,9,  -999.0,9,-999.0000,9,  -999.00,-999.000,9,-999.000,9,-999.000,9,   2.3067,2,-999.000,9, -999.00,9, -999.00,-999.000,9,-999.000, -999.00,9, -999.00,9, -31.9415,  31.6001,-999.000,-999.000,20090326,       0321
33RR20090320,        I05,      11,          1,          4,          4,2,20090326,       0303,   -31.9417,    31.6002,       3533,  3020.1,   2.1242,  34.8088,2,  34.8090,2,    216.5,2,   217.0,2,   66.45,2,   27.22,2,    0.00,2,    1.85,2,-999.000,9,-999.000,9,-999.0000,9,  -999.0,9,  -999.0,9,-999.0000,9,  -999.00,-999.000,9,-999.000,9,-999.000,9,   2.1244,2,-999.000,9, -999.00,9, -999.00,-999.000,9,-999.000, -999.00,9, -999.00,9, -31.9415,  31.6001,-999.000,-999.000,20090326,       0316
33RR20090320,        I05,      11,          1,          3,          3,2,20090326,       0303,   -31.9417,    31.6002,       3533,  3223.5,   1.8567,  34.7933,2,  34.7947,2,    216.4,2,   217.3,2,   74.68,2,   27.93,2,    0.00,2,    1.90,2,-999.000,9,-999.000,9,-999.0000,9,  -999.0,9,  -999.0,9,-999.0000,9,  -999.00,-999.000,9,-999.000,9,-999.000,9,   1.8568,2,-999.000,9, -999.00,9, -999.00,-999.000,9,-999.000, -999.00,9, -999.00,9, -31.9415,  31.6002,-999.000,-999.000,20090326,       0312
33RR20090320,        I05,      11,          1,          2,          2,2,20090326,       0303,   -31.9417,    31.6002,       3533,  3396.1,   1.4841,  34.7671,2,  34.7680,2,    215.7,2,   216.7,2,   87.45,2,   29.19,2,    0.00,2,    1.98,2,   0.076,2,   0.033,2,   0.0500,2,  2242.3,2,  2360.0,2,   7.7197,2,    20.00,-999.000,9,-999.000,9,-999.000,9,   1.4841,2,-999.000,9, -999.00,9, -999.00,-999.000,9,-999.000, -999.00,9, -999.00,9, -31.9415,  31.6002,-999.000,-999.000,20090326,       0307
33RR20090320,        I05,      11,          1,          1,          1,2,20090326,       0303,   -31.9417,    31.6002,       3533,  3567.7,   1.1786,  34.7441,2,  34.7458,2,    215.9,2,   215.9,2,   98.42,2,   30.24,2,    0.00,2,    2.07,2,   0.110,2,   0.040,2,   0.0020,2,  2251.7,6,  2366.0,2,   7.7097,2,    20.00,-999.000,9,-999.000,9,-999.000,9,   1.1788,2,-999.000,9, -999.00,9, -999.00,-999.000,9,-999.000, -999.00,9, -999.00,9, -31.9417,  31.6002,-999.000,-999.000,20090326,       0303