BOTTLE,20220814CCHSIOAMB
EXPOCODE,SECT_ID,STNNBR,CASTNO,SAMPNO,BTLNBR,BTLNBR_FLAG_W,DATE,TIME,LATITUDE,LONGITUDE,DEPTH,CTDPRS,CTDTMP,CTDSAL,CTDSAL_FLAG_W,SALNTY,SALNTY_FLAG_W,CTDOXY,CTDOXY_FLAG_W,OXYGEN,OXYGEN_FLAG_W,SILCAT,SILCAT_FLAG_W,NITRAT,NITRAT_FLAG_W,NITRIT,NITRIT_FLAG_W,PHSPHT,PHSPHT_FLAG_W,CFC-11,CFC-11_FLAG_W,CFC-12,CFC-12_FLAG_W,SF6,SF6_FLAG_W,TCARBN,TCARBN_FLAG_W,ALKALI,ALKALI_FLAG_W,PH_TOT,PH_TOT_FLAG_W,PH_TMP,TRITUM,TRITUM_FLAG_W,HELIUM,HELIUM_FLAG_W,DELHE3,DELHE3_FLAG_W,REFTMP,REFTMP_FLAG_W,DELC13,DELC13_FLAG_W,DELC14,DELC14_FLAG_W,C14ERR,NEON,NEON_FLAG_W,NEONER,DOC,DOC_FLAG_W,TDN,TDN_FLAG_W,BTL_LAT,BTL_LON,HELIER,DELHER,BTL_DATE,BTL_TIME
,,,,,,,,,,,METERS,DBAR,ITS-90,PSS-78,,PSS-78,,UMOL/KG,,UMOL/KG,,UMOL/KG,,UMOL/KG,,UMOL/KG,,UMOL/KG,,PMOL/KG,,PMOL/KG,,FMOL/KG,,UMOL/KG,,UMOL/KG,,,,DEG C,TU,,NMOL/KG,,PERCNT,,DEG C,,/MILLE,,/MILLE,,/MILLE,NMOL/KG,,NMOL/KG,UMOL/KG,,UMOL/KG,,,,NMOL/KG,PERCNT,,
33RR20090320,        I05,     120,          1,         36,         36,2,20090424,       0222,   -31.1908,    81.9601,       3985,     9.8,  21.8065,  35.9819,2,  35.9829,2,    219.7,2,   220.3,2,    1.95,2,    0.12,2,    0.00,2,    0.10,2,-999.000,9,-999.000,9,-999.0000,9,  2058.2,6,  2359.6,2,   8.1160,2,    20.00,-999.000,9,-999.000,9,-999.000,9,  21.8065,2,-999.000,9, -999.00,9, -999.00,-999.000,9,-999.000, -999.00,9, -999.00,9, -31.1912,  81.9609,-999.000,-999.000,20090424,       0407
33RR20090320,        I05,     120,          1,         35,         35,2,20090424,       0222,   -31.1908,    81.9601,       3985,    39.8,  21.3421,  35.9198,2,  35.9244,2,    223.0,2,   221.6,2,    1.78,2,    0.17,2,    0.00,2,    0.11,2,-999.000,9,-999.000,9,-999.0000,9,  2062.5,2,  2359.6,2,   8.1052,2,    20.00,-999.000,9,-999.000,9,-999.000,9,  21.3638,2,-999.000,9, -999.00,9, -999.00,-999.000,9,-999.000, -999.00,9, -999.00,9, -31.1912,  81.9609,-999.000,-999.000,20090424,       0405
33RR20090320,        I05,     120,          1,         34,         34,2,20090424,       0222,   -31.1908,    81.9601,       3985,    64.4,  20.3639,  35.7438,2,  35.7474,2,    229.3,2,   228.1,2,    1.42,2,    0.17,2,    0.00,2,    0.13,2,-999.000,9,-999.000,9,-999.0000,9,  -999.0,9,  -999.0,9,-999.0000,9,  -999.00,-999.000,9,-999.000,9,-999.000,9,  20.3547,2,-999.000,9, -999.00,9, -999.00,-999.000,9,-999.000, -999.00,9, -999.00,9, -31.1911,  81.9608,-999.000,-999.000,20090424,       0403
33RR20090320,        I05,     120,          1,         33,         33,2,20090424,       0222,   -31.1908,    81.9601,       3985,    89.3,  18.2435,  35.7295,2,  35.7347,2,    247.9,2,   251.0,2,    1.60,2,    0.17,2,    0.00,2,    0.14,2,-999.000,9,-999.000,9,-999.0000,9,  2068.7,2,  2348.0,2,   8.0797,2,    20.00,-999.000,9,-999.000,9,-999.000,9,  18.2353,2,-999.000,9, -999.00,9, -999.00,-999.000,9,-999.000, -999.00,9, -999.00,9, -31.1910,  81.9608,-999.000,-999.000,20090424,       0402
33RR20090320,        I05,     120,          1,         32,         32,2,20090424,       0222,   -31.1908,    81.9601,       3985,   114.2,  16.1555,  35.5462,2,  35.5498,2,    254.0,2,   253.7,2,    1.42,2,    0.17,2,    0.00,2,    0.19,2,-999.000,9,-999.000,9,-999.0000,9,  -999.0,9,  -999.0,9,-999.0000,9,  -999.00,-999.000,9,-999.000,9,-999.000,9,  16.1532,2,-999.000,9, -999.00,9, -999.00,-999.000,9,-999.000, -999.00,9, -999.00,9, -31.1909,  81.9607,-999.000,-999.000,20090424,       0400
33RR20090320,        I05,     120,          1,         31,         31,2,20090424,       0222,   -31.1908,    81.9601,       3985,   140.4,  15.0932,  35.4361,2,  35.4273,2,    246.4,2,   243.3,2,    1.60,2,    0.96,2,    0.10,2,    0.29,2,-999.000,9,-999.000,9,-999.0000,9,  2091.1,2,  2333.8,2,   8.0141,2,    20.00,-999.000,9,-999.000,9,-999.000,9,  15.0944,2,-999.000,9, -999.00,9, -999.00,-999.000,9,-999.000, -999.00,9, -999.00,9, -31.1909,  81.9606,-999.000,-999.000,20090424,       0358
33RR20090320,        I05,     120,          1,         30,         30,2,20090424,       0222,   -31.1908,    81.9601,       3985,   169.2,  14.2182,  35.3340,4,  35.3252,2,    234.4,2,   233.9,2,    2.13,2,    4.70,2,    0.07,2,    0.46,2,-999.000,9,-999.000,9,-999.0000,9,  -999.0,9,  -999.0,9,-999.0000,9,  -999.00,-999.000,9,-999.000,9,-999.000,9,  14.2197,2,-999.000,9, -999.00,9, -999.00,-999.000,9,-999.000, -999.00,9, -999.00,9, -31.1909,  81.9606,-999.000,-999.000,20090424,       0357
33RR20090320,        I05,     120,          1,         29,         29,2,20090424,       0222,   -31.1908,    81.9601,       3985,   218.9,  13.0195,  35.1805,2,  35.1857,2,    231.5,2,   234.0,2,    2.65,2,    7.31,2,    0.01,2,    0.61,2,-999.000,9,-999.000,9,-999.0000,9,  2109.7,2,  2316.0,2,   7.9497,2,    20.00,-999.000,9,-999.000,9,-999.000,9,  13.0301,2,-999.000,9, -999.00,9, -999.00,-999.000,9,-999.000, -999.00,9, -999.00,9, -31.1909,  81.9605,-999.000,-999.000,20090424,       0354
33RR20090320,        I05,     120,          1,         28,         28,2,20090424,       0222,   -31.1908,    81.9601,       3985,   269.3,  12.3510,  35.1014,2,  35.1101,2,    231.7,2,   234.6,2,    3.37,2,    9.13,2,    0.00,2,    0.71,2,-999.000,9,-999.000,9,-999.0000,9,  -999.0,9,  -999.0,9,-999.0000,9,  -999.00,-999.000,9,-999.000,9,-999.000,9,  12.3499,2,-999.000,9, -999.00,9, -999.00,-999.000,9,-999.000, -999.00,9, -999.00,9, -31.1910,  81.9606,-999.000,-999.000,20090424,       0352
33RR20090320,        I05,     120,          1,         27,         27,2,20090424,       0222,   -31.1908,    81.9601,       3985,   318.9,  12.0297,  35.0702,2,  35.0705,2,    236.2,2,   236.1,2,    3.72,2,   10.11,2,    0.00,2,    0.77,2,-999.000,9,-999.000,9,-999.0000,9,  2116.8,2,  2310.2,2,   7.9221,2,    20.00,-999.000,9,-999.000,9,-999.000,9,  12.0313,2,-999.000,9, -999.00,9, -999.00,-999.000,9,-999.000, -999.00,9, -999.00,9, -31.1910,  81.9605,-999.000,-999.000,20090424,       0350
33RR20090320,        I05,     120,          1,         26,         26,2,20090424,       0222,   -31.1908,    81.9601,       3985,   368.7,  11.6758,  35.0217,2,  35.0233,2,    236.9,2,   238.1,2,    3.90,2,   10.84,2,    0.00,2,    0.81,2,-999.000,9,-999.000,9,-999.0000,9,  -999.0,9,  -999.0,9,-999.0000,9,  -999.00,-999.000,9,-999.000,9,-999.000,9,  11.6888,2,-999.000,9, -999.00,9, -999.00,-999.000,9,-999.000, -999.00,9, -999.00,9, -31.1910,  81.9605,-999.000,-999.000,20090424,       0349
33RR20090320,        I05,     120,          1,         25,         25,2,20090424,       0222,   -31.1908,    81.9601,       3985,   419.1,  11.4822,  35.0038,2,  35.0054,2,    235.8,2,   236.2,2,    3.90,2,   11.34,2,    0.00,2,    0.84,2,-999.000,9,-999.000,9,-999.0000,9,  -999.0,9,  -999.0,9,-999.0000,9,  -999.00,-999.000,9,-999.000,9,-999.000,9,  11.4837,2,-999.000,9, -999.00,9, -999.00,-999.000,9,-999.000, -999.00,9, -999.00,9, -31.1910,  81.9605,-999.000,-999.000,20090424,       0347
33RR20090320,        I05,     120,          1,         24,         24,2,20090424,       0222,   -31.1908,    81.9601,       3985,   468.8,  11.1933,  34.9643,2,  34.9627,2,    236.3,2,   236.5,2,    4.08,2,   12.07,2,    0.00,2,    0.89,2,-999.000,9,-999.000,9,-999.0000,9,  -999.0,9,  -999.0,9,-999.0000,9,  -999.00,-999.000,9,-999.000,9,-999.000,9,  11.1917,2,-999.000,9, -999.00,9, -999.00,-999.000,9,-999.000, -999.00,9, -999.00,9, -31.1910,  81.9605,-999.000,-999.000,20090424,       0345
33RR20090320,        I05,     120,          1,         23,         23,2,20090424,       0222,   -31.1908,    81.9601,       3985,   538.8,  10.7870,  34.9054,2,  34.9068,2,    235.8,2,   236.4,2,    4.43,2,   13.00,2,    0.00,2,    0.94,2,-999.000,9,-999.000,9,-999.0000,9,  2121.4,2,  2302.1,2,   7.8938,2,    20.00,-999.000,9,-999.000,9,-999.000,9,  10.7968,2,-999.000,9, -999.00,9, -999.00,-999.000,9,-999.000, -999.00,9, -999.00,9, -31.1910,  81.9605,-999.000,-999.000,20090424,       0343
33RR20090320,        I05,     120,          1,         22,         22,2,20090424,       0222,   -31.1908,    81.9601,       3985,   638.3,  10.0220,  34.7893,2,  34.7871,2,    236.0,2,   236.0,2,    4.96,2,   14.97,2,    0.00,2,    1.06,2,-999.000,9,-999.000,9,-999.0000,9,  -999.0,9,  -999.0,9,-999.0000,9,  -999.00,-999.000,9,-999.000,9,-999.000,9,  10.0219,2,-999.000,9, -999.00,9, -999.00,-999.000,9,-999.000, -999.00,9, -999.00,9, -31.1911,  81.9605,-999.000,-999.000,20090424,       0340
33RR20090320,        I05,     120,          1,         21,         21,2,20090424,       0222,   -31.1908,    81.9601,       3985,   739.7,   9.3049,  34.6874,2,  34.6870,2,    231.7,2,   231.6,2,    6.02,2,   17.24,2,    0.00,2,    1.21,2,-999.000,9,-999.000,9,-999.0000,9,  2131.4,2,  2293.4,2,   7.8499,2,    20.00,-999.000,9,-999.000,9,-999.000,9,   9.3072,2,-999.000,9, -999.00,9, -999.00,-999.000,9,-999.000, -999.00,9, -999.00,9, -31.1910,  81.9606,-999.000,-999.000,20090424,       0337
33RR20090320,        I05,     120,          1,         20,         20,2,20090424,       0222,   -31.1908,    81.9601,       3985,   839.4,   8.2734,  34.5763,2,  34.5739,2,    215.0,2,   214.1,2,   10.46,2,   21.51,2,    0.00,2,    1.48,2,-999.000,9,-999.000,9,-999.0000,9,  -999.0,9,  -999.0,9,-999.0000,9,  -999.00,-999.000,9,-999.000,9,-999.000,9,   8.2664,2,-999.000,9, -999.00,9, -999.00,-999.000,9,-999.000, -999.00,9, -999.00,9, -31.1911,  81.9606,-999.000,-999.000,20090424,       0334
33RR20090320,        I05,     120,          1,         19,         19,2,20090424,       0222,   -31.1908,    81.9601,       3985,   939.9,   6.7230,  34.4568,2,  34.4570,2,    201.5,2,   201.8,2,   18.47,2,   26.20,2,    0.00,2,    1.82,2,-999.000,9,-999.000,9,-999.0000,9,  -999.0,9,  -999.0,9,-999.0000,9,  -999.00,-999.000,9,-999.000,9,-999.000,9,   6.7229,2,-999.000,9, -999.00,9, -999.00,-999.000,9,-999.000, -999.00,9, -999.00,9, -31.1912,  81.9605,-999.000,-999.000,20090424,       0331
33RR20090320,        I05,     120,          1,         18,         18,2,20090424,       0222,   -31.1908,    81.9601,       3985,  1038.9,   5.4517,  34.3965,2,  34.3964,2,    195.7,2,   196.8,2,   27.59,2,   29.40,2,    0.00,2,    2.04,2,-999.000,9,-999.000,9,-999.0000,9,  2187.4,2,  2295.7,2,   7.7111,2,    20.00,-999.000,9,-999.000,9,-999.000,9,   5.4616,2,-999.000,9, -999.00,9, -999.00,-999.000,9,-999.000, -999.00,9, -999.00,9, -31.1913,  81.9605,-999.000,-999.000,20090424,       0329
33RR20090320,        I05,     120,          1,         17,         17,2,20090424,       0222,   -31.1908,    81.9601,       3985,  1139.5,   4.5381,  34.3949,2,  34.3946,2,    186.7,2,   187.3,2,   39.62,2,   31.80,2,    0.00,2,    2.24,2,-999.000,9,-999.000,9,-999.0000,9,  -999.0,9,  -999.0,9,-999.0000,9,  -999.00,-999.000,9,-999.000,9,-999.000,9,   4.5381,2,-999.000,9, -999.00,9, -999.00,-999.000,9,-999.000, -999.00,9, -999.00,9, -31.1913,  81.9606,-999.000,-999.000,20090424,       0326
33RR20090320,        I05,     120,          1,         16,         16,2,20090424,       0222,   -31.1908,    81.9601,       3985,  1240.3,   3.9523,  34.4396,2,  34.4405,2,    173.3,2,   172.0,2,   54.05,2,   33.59,2,    0.00,2,    2.39,2,-999.000,9,-999.000,9,-999.0000,9,  -999.0,9,  -999.0,9,-999.0000,9,  -999.00,-999.000,9,-999.000,9,-999.000,9,   3.9488,2,-999.000,9, -999.00,9, -999.00,-999.000,9,-999.000, -999.00,9, -999.00,9, -31.1914,  81.9608,-999.000,-999.000,20090424,       0324
33RR20090320,        I05,     120,          1,         15,         15,2,20090424,       0222,   -31.1908,    81.9601,       3985,  1341.4,   3.6150,  34.4824,2,  34.4806,2,    164.2,2,   163.8,2,   62.94,2,   34.32,2,    0.00,2,    2.45,2,-999.000,9,-999.000,9,-999.0000,9,  -999.0,9,  -999.0,9,-999.0000,9,  -999.00,-999.000,9,-999.000,9,-999.000,9,   3.6135,2,-999.000,9, -999.00,9, -999.00,-999.000,9,-999.000, -999.00,9, -999.00,9, -31.1915,  81.9609,-999.000,-999.000,20090424,       0321
33RR20090320,        I05,     120,          1,         14,         14,2,20090424,       0222,   -31.1908,    81.9601,       3985,  1441.6,   3.3507,  34.5318,2,  34.5318,2,    156.9,2,   157.7,2,   71.48,2,   34.84,2,    0.00,2,    2.49,2,-999.000,9,-999.000,9,-999.0000,9,  -999.0,9,  -999.0,9,-999.0000,9,  -999.00,-999.000,9,-999.000,9,-999.000,9,   3.3495,2,-999.000,9, -999.00,9, -999.00,-999.000,9,-999.000, -999.00,9, -999.00,9, -31.1915,  81.9610,-999.000,-999.000,20090424,       0318
33RR20090320,        I05,     120,          1,         13,         13,2,20090424,       0222,   -31.1908,    81.9601,       3985,  1540.0,   3.1628,  34.5705,2,  34.5698,2,    155.2,2,   155.6,2,   76.57,2,   34.88,2,    0.00,2,    2.49,2,-999.000,9,-999.000,9,-999.0000,9,  -999.0,9,  -999.0,9,-999.0000,9,  -999.00,-999.000,9,-999.000,9,-999.000,9,   3.1624,2,-999.000,9, -999.00,9, -999.00,-999.000,9,-999.000, -999.00,9, -999.00,9, -31.1916,  81.9611,-999.000,-999.000,20090424,       0315
33RR20090320,        I05,     120,          1,         12,         12,2,20090424,       0222,   -31.1908,    81.9601,       3985,  1640.4,   3.0364,  34.6107,2,  34.6098,2,    154.1,2,   154.3,2,   81.87,2,   34.71,2,    0.00,2,    2.48,2,-999.000,9,-999.000,9,-999.0000,9,  -999.0,9,  -999.0,9,-999.0000,9,  -999.00,-999.000,9,-999.000,9,-999.000,9,   3.0365,2,-999.000,9, -999.00,9, -999.00,-999.000,9,-999.000, -999.00,9, -999.00,9, -31.1916,  81.9610,-999.000,-999.000,20090424,       0313
33RR20090320,        I05,     120,          1,         11,         11,2,20090424,       0222,   -31.1908,    81.9601,       3985,  1741.6,   2.9080,  34.6460,2,  34.6452,2,    154.6,2,   154.6,2,   86.98,2,   34.49,2,    0.00,2,    2.46,2,-999.000,9,-999.000,9,-999.0000,9,  -999.0,9,  -999.0,9,-999.0000,9,  -999.00,-999.000,9,-999.000,9,-999.000,9,   2.9081,2,-999.000,9, -999.00,9, -999.00,-999.000,9,-999.000, -999.00,9, -999.00,9, -31.1913,  81.9606,-999.000,-999.000,20090424,       0310
33RR20090320,        I05,     120,          1,         10,         10,2,20090424,       0222,   -31.1908,    81.9601,       3985,  1873.4,   2.7095,  34.6787,2,  34.6776,2,    156.8,2,   157.8,2,   92.66,2,   34.05,2,    0.00,2,    2.44,2,-999.000,9,-999.000,9,-999.0000,9,  -999.0,9,  -999.0,9,-999.0000,9,  -999.00,-999.000,9,-999.000,9,-999.000,9,   2.7098,2,-999.000,9, -999.00,9, -999.00,-999.000,9,-999.000, -999.00,9, -999.00,9, -31.1911,  81.9601,-999.000,-999.000,20090424,       0306
33RR20090320,        I05,     120,          1,          9,          9,2,20090424,       0222,   -31.1908,    81.9601,       3985,  2095.7,   2.4471,  34.7053,2,  34.7046,2,    165.2,2,   165.0,2,   97.06,2,   33.47,2,    0.00,2,    2.38,2,-999.000,9,-999.000,9,-999.0000,9,  2272.0,2,  2359.7,2,   7.6586,2,    20.00,-999.000,9,-999.000,9,-999.000,9,   2.4458,2,-999.000,9, -999.00,9, -999.00,-999.000,9,-999.000, -999.00,9, -999.00,9, -31.1910,  81.9597,-999.000,-999.000,20090424,       0302
33RR20090320,        I05,     120,          1,          8,          8,2,20090424,       0222,   -31.1908,    81.9601,       3985,  2348.4,   2.1548,  34.7270,2,  34.7268,2,    182.8,2,   182.8,2,   92.48,2,   31.87,2,    0.00,2,    2.26,2,-999.000,9,-999.000,9,-999.0000,9,  -999.0,9,  -999.0,9,-999.0000,9,  -999.00,-999.000,9,-999.000,9,-999.000,9,   2.1540,2,-999.000,9, -999.00,9, -999.00,-999.000,9,-999.000, -999.00,9, -999.00,9, -31.1910,  81.9596,-999.000,-999.000,20090424,       0256
33RR20090320,        I05,     120,          1,          7,          7,2,20090424,       0222,   -31.1908,    81.9601,       3985,  2600.2,   1.8975,  34.7394,2,  34.7390,2,    191.0,2,   191.3,2,   95.96,2,   31.35,2,    0.00,2,    2.20,2,-999.000,9,-999.000,9,-999.0000,9,  -999.0,9,  -999.0,9,-999.0000,9,  -999.00,-999.000,9,-999.000,9,-999.000,9,   1.8983,2,-999.000,9, -999.00,9, -999.00,-999.000,9,-999.000, -999.00,9, -999.00,9, -31.1911,  81.9598,-999.000,-999.000,20090424,       0251
33RR20090320,        I05,     120,          1,          6,          6,2,20090424,       0222,   -31.1908,    81.9601,       3985,  2853.3,   1.6921,  34.7388,2,  34.7380,2,    194.7,2,   195.2,2,  101.84,2,   31.45,2,    0.00,2,    2.21,2,-999.000,9,-999.000,9,-999.0000,9,  -999.0,9,  -999.0,9,-999.0000,9,  -999.00,-999.000,9,-999.000,9,-999.000,9,   1.6928,2,-999.000,9, -999.00,9, -999.00,-999.000,9,-999.000, -999.00,9, -999.00,9, -31.1910,  81.9603,-999.000,-999.000,20090424,       0245
33RR20090320,        I05,     120,          1,          5,          5,2,20090424,       0222,   -31.1908,    81.9601,       3985,  3121.4,   1.4885,  34.7326,2,  34.7321,2,    196.2,2,   196.2,2,  108.46,2,   31.75,2,    0.00,2,    2.24,2,-999.000,9,-999.000,9,-999.0000,9,  -999.0,9,  -999.0,9,-999.0000,9,  -999.00,-999.000,9,-999.000,9,-999.000,9,   1.4879,2,-999.000,9, -999.00,9, -999.00,-999.000,9,-999.000, -999.00,9, -999.00,9, -31.1910,  81.9604,-999.000,-999.000,20090424,       0240
33RR20090320,        I05,     120,          1,          4,          4,2,20090424,       0222,   -31.1908,    81.9601,       3985,  3425.7,   1.4148,  34.7288,2,  34.7282,2,    195.9,2,   196.4,2,  113.44,2,   32.05,2,    0.00,2,    2.26,2,-999.000,9,-999.000,9,-999.0000,9,  -999.0,9,  -999.0,9,-999.0000,9,  -999.00,-999.000,9,-999.000,9,-999.000,9,   1.4144,2,-999.000,9, -999.00,9, -999.00,-999.000,9,-999.000, -999.00,9, -999.00,9, -31.1909,  81.9604,-999.000,-999.000,20090424,       0234
33RR20090320,        I05,     120,          1,          3,          3,2,20090424,       0222,   -31.1908,    81.9601,       3985,  3730.1,   1.4160,  34.7276,2,  34.7276,2,    196.2,2,   196.5,2,  114.73,2,   32.21,2,    0.00,2,    2.27,2,-999.000,9,-999.000,9,-999.0000,9,  -999.0,9,  -999.0,9,-999.0000,9,  -999.00,-999.000,9,-999.000,9,-999.000,9,   1.4160,2,-999.000,9, -999.00,9, -999.00,-999.000,9,-999.000, -999.00,9, -999.00,9, -31.1909,  81.9603,-999.000,-999.000,20090424,       0228
33RR20090320,        I05,     120,          1,          2,          2,2,20090424,       0222,   -31.1908,    81.9601,       3985,  3883.1,   1.4213,  34.7267,2,  34.7262,2,    196.3,2,   195.4,2,  115.83,2,   32.30,2,    0.00,2,    2.28,2,-999.000,9,-999.000,9,-999.0000,9,  -999.0,9,  -999.0,9,-999.0000,9,  -999.00,-999.000,9,-999.000,9,-999.000,9,   1.4210,2,-999.000,9, -999.00,9, -999.00,-999.000,9,-999.000, -999.00,9, -999.00,9, -31.1909,  81.9603,-999.000,-999.000,20090424,       0225
33RR20090320,        I05,     120,          1,          1,          1,2,20090424,       0222,   -31.1908,    81.9601,       3985,  4034.4,   1.4331,  34.7263,2,  34.7258,2,    195.3,2,   195.9,2,  115.83,2,   32.34,2,    0.00,2,    2.28,2,-999.000,9,-999.000,9,-999.0000,9,  2273.0,6,  2379.6,2,   7.6933,2,    20.00,-999.000,9,-999.000,9,-999.000,9,   1.4322,2,-999.000,9, -999.00,9, -999.00,-999.000,9,-999.000, -999.00,9, -999.00,9, -31.1908,  81.9601,-999.000,-999.000,20090424,       0222