BOTTLE,20220814CCHSIOAMB
EXPOCODE,SECT_ID,STNNBR,CASTNO,SAMPNO,BTLNBR,BTLNBR_FLAG_W,DATE,TIME,LATITUDE,LONGITUDE,DEPTH,CTDPRS,CTDTMP,CTDSAL,CTDSAL_FLAG_W,SALNTY,SALNTY_FLAG_W,CTDOXY,CTDOXY_FLAG_W,OXYGEN,OXYGEN_FLAG_W,SILCAT,SILCAT_FLAG_W,NITRAT,NITRAT_FLAG_W,NITRIT,NITRIT_FLAG_W,PHSPHT,PHSPHT_FLAG_W,CFC-11,CFC-11_FLAG_W,CFC-12,CFC-12_FLAG_W,SF6,SF6_FLAG_W,TCARBN,TCARBN_FLAG_W,ALKALI,ALKALI_FLAG_W,PH_TOT,PH_TOT_FLAG_W,PH_TMP,TRITUM,TRITUM_FLAG_W,HELIUM,HELIUM_FLAG_W,DELHE3,DELHE3_FLAG_W,REFTMP,REFTMP_FLAG_W,DELC13,DELC13_FLAG_W,DELC14,DELC14_FLAG_W,C14ERR,NEON,NEON_FLAG_W,NEONER,DOC,DOC_FLAG_W,TDN,TDN_FLAG_W,BTL_LAT,BTL_LON,HELIER,DELHER,BTL_DATE,BTL_TIME
,,,,,,,,,,,METERS,DBAR,ITS-90,PSS-78,,PSS-78,,UMOL/KG,,UMOL/KG,,UMOL/KG,,UMOL/KG,,UMOL/KG,,UMOL/KG,,PMOL/KG,,PMOL/KG,,FMOL/KG,,UMOL/KG,,UMOL/KG,,,,DEG C,TU,,NMOL/KG,,PERCNT,,DEG C,,/MILLE,,/MILLE,,/MILLE,NMOL/KG,,NMOL/KG,UMOL/KG,,UMOL/KG,,,,NMOL/KG,PERCNT,,
33RR20090320,        I05,      60,          1,         31,         31,2,20090407,       0420,   -33.9988,    54.5112,       2013,     8.7,  20.1662,  35.5158,2,  35.5145,2,    228.2,2,   228.7,2,    1.43,2,    0.23,2,    0.00,2,    0.14,2,-999.000,9,-999.000,9,-999.0000,9,  2047.3,6,  2326.9,2,   8.0863,2,    20.00,-999.000,9,-999.000,9,-999.000,9,  20.1658,2,-999.000,9, -999.00,9, -999.00,-999.000,9,-999.000, -999.00,9, -999.00,9, -33.9981,  54.5113,-999.000,-999.000,20090407,       0529
33RR20090320,        I05,      60,          1,         30,         30,2,20090407,       0420,   -33.9988,    54.5112,       2013,    38.3,  18.8139,  35.5002,2,  35.4995,2,    239.1,2,   238.0,2,    1.39,2,    0.23,2,    0.00,2,    0.15,2,-999.000,9,-999.000,9,-999.0000,9,  2053.6,2,  2329.0,2,   8.0777,2,    20.00,-999.000,9,-999.000,9,-999.000,9,  18.8073,2,-999.000,9, -999.00,9, -999.00,-999.000,9,-999.000, -999.00,9, -999.00,9, -33.9980,  54.5112,-999.000,-999.000,20090407,       0527
33RR20090320,        I05,      60,          1,         29,         29,2,20090407,       0420,   -33.9988,    54.5112,       2013,    63.0,  17.0104,  35.4442,2,  35.4427,2,    243.8,2,   245.6,2,    1.54,2,    0.55,2,    0.02,2,    0.20,2,-999.000,9,-999.000,9,-999.0000,9,  2063.7,2,  2327.8,2,   8.0539,2,    20.00,-999.000,9,-999.000,9,-999.000,9,  17.0098,2,-999.000,9, -999.00,9, -999.00,-999.000,9,-999.000, -999.00,9, -999.00,9, -33.9981,  54.5112,-999.000,-999.000,20090407,       0525
33RR20090320,        I05,      60,          1,         28,         28,2,20090407,       0420,   -33.9988,    54.5112,       2013,    88.5,  15.3461,  35.4216,2,  35.4203,2,    235.9,2,   234.2,2,    2.27,2,    3.41,2,    0.08,2,    0.37,2,-999.000,9,-999.000,9,-999.0000,9,  -999.0,9,  -999.0,9,-999.0000,9,  -999.00,-999.000,9,-999.000,9,-999.000,9,  15.3435,2,-999.000,9, -999.00,9, -999.00,-999.000,9,-999.000, -999.00,9, -999.00,9, -33.9980,  54.5111,-999.000,-999.000,20090407,       0523
33RR20090320,        I05,      60,          1,         27,         27,2,20090407,       0420,   -33.9988,    54.5112,       2013,   113.2,  14.9476,  35.4096,2,  35.4076,2,    230.6,2,   230.4,2,    3.01,2,    4.65,2,    0.03,2,    0.44,2,-999.000,9,-999.000,9,-999.0000,9,  2090.8,2,  2328.8,2,   7.9979,2,    20.00,-999.000,9,-999.000,9,-999.000,9,  14.9467,2,-999.000,9, -999.00,9, -999.00,-999.000,9,-999.000, -999.00,9, -999.00,9, -33.9981,  54.5111,-999.000,-999.000,20090407,       0522
33RR20090320,        I05,      60,          1,         26,         26,2,20090407,       0420,   -33.9988,    54.5112,       2013,   138.1,  14.7009,  35.3985,2,  35.3970,2,    229.2,2,   229.0,2,    2.77,2,    5.32,2,    0.01,2,    0.48,2,-999.000,9,-999.000,9,-999.0000,9,  -999.0,9,  -999.0,9,-999.0000,9,  -999.00,-999.000,9,-999.000,9,-999.000,9,  14.7041,2,-999.000,9, -999.00,9, -999.00,-999.000,9,-999.000, -999.00,9, -999.00,9, -33.9981,  54.5111,-999.000,-999.000,20090407,       0520
33RR20090320,        I05,      60,          1,         25,         25,2,20090407,       0420,   -33.9988,    54.5112,       2013,   162.4,  14.4232,  35.3840,2,  35.3818,2,    227.5,2,   227.8,2,    2.93,2,    6.03,2,    0.00,2,    0.51,2,-999.000,9,-999.000,9,-999.0000,9,  2095.0,2,  2323.1,2,   7.9814,2,    20.00,-999.000,9,-999.000,9,-999.000,9,  14.4142,2,-999.000,9, -999.00,9, -999.00,-999.000,9,-999.000, -999.00,9, -999.00,9, -33.9981,  54.5111,-999.000,-999.000,20090407,       0518
33RR20090320,        I05,      60,          1,         24,         24,2,20090407,       0420,   -33.9988,    54.5112,       2013,   188.2,  14.1898,  35.3670,2,  35.3655,2,    227.5,2,   228.5,2,    3.08,2,    6.46,2,    0.00,2,    0.54,2,-999.000,9,-999.000,9,-999.0000,9,  -999.0,9,  -999.0,9,-999.0000,9,  -999.00,-999.000,9,-999.000,9,-999.000,9,  14.1843,2,-999.000,9, -999.00,9, -999.00,-999.000,9,-999.000, -999.00,9, -999.00,9, -33.9981,  54.5111,-999.000,-999.000,20090407,       0516
33RR20090320,        I05,      60,          1,         23,         23,2,20090407,       0420,   -33.9988,    54.5112,       2013,   213.1,  14.0577,  35.3556,2,  35.3543,2,    228.0,2,   227.8,2,    3.23,2,    6.95,2,    0.00,2,    0.57,2,-999.000,9,-999.000,9,-999.0000,9,  2099.0,2,  2323.1,2,   7.9716,2,    20.00,-999.000,9,-999.000,9,-999.000,9,  14.0545,2,-999.000,9, -999.00,9, -999.00,-999.000,9,-999.000, -999.00,9, -999.00,9, -33.9981,  54.5111,-999.000,-999.000,20090407,       0515
33RR20090320,        I05,      60,          1,         22,         22,2,20090407,       0420,   -33.9988,    54.5112,       2013,   237.7,  13.8801,  35.3428,2,  35.3419,2,    229.5,2,   229.1,2,    3.39,2,    7.16,2,    0.00,2,    0.58,2,-999.000,9,-999.000,9,-999.0000,9,  -999.0,9,  -999.0,9,-999.0000,9,  -999.00,-999.000,9,-999.000,9,-999.000,9,  13.8797,2,-999.000,9, -999.00,9, -999.00,-999.000,9,-999.000, -999.00,9, -999.00,9, -33.9981,  54.5111,-999.000,-999.000,20090407,       0513
33RR20090320,        I05,      60,          1,         21,         21,2,20090407,       0420,   -33.9988,    54.5112,       2013,   267.3,  13.7127,  35.3343,2,  35.3328,2,    232.9,2,   233.0,2,    3.35,2,    7.17,2,    0.00,2,    0.58,2,-999.000,9,-999.000,9,-999.0000,9,  2099.1,2,  2323.2,2,   7.9689,2,    20.00,-999.000,9,-999.000,9,-999.000,9,  13.7120,2,-999.000,9, -999.00,9, -999.00,-999.000,9,-999.000, -999.00,9, -999.00,9, -33.9981,  54.5111,-999.000,-999.000,20090407,       0511
33RR20090320,        I05,      60,          1,         20,         20,2,20090407,       0420,   -33.9988,    54.5112,       2013,   317.5,  13.5271,  35.3173,2,  35.3165,2,    236.2,2,   235.0,2,    3.31,2,    7.44,2,    0.00,2,    0.60,2,-999.000,9,-999.000,9,-999.0000,9,  -999.0,9,  -999.0,9,-999.0000,9,  -999.00,-999.000,9,-999.000,9,-999.000,9,  13.5274,2,-999.000,9, -999.00,9, -999.00,-999.000,9,-999.000, -999.00,9, -999.00,9, -33.9981,  54.5112,-999.000,-999.000,20090407,       0509
33RR20090320,        I05,      60,          1,         19,         19,2,20090407,       0420,   -33.9988,    54.5112,       2013,   367.0,  13.4244,  35.3071,2,  35.3060,2,    236.0,2,   236.6,2,    3.47,2,    7.60,2,    0.00,2,    0.61,2,-999.000,9,-999.000,9,-999.0000,9,  2101.9,6,  2320.2,2,   7.9655,2,    20.00,-999.000,9,-999.000,9,-999.000,9,  13.4231,2,-999.000,9, -999.00,9, -999.00,-999.000,9,-999.000, -999.00,9, -999.00,9, -33.9981,  54.5113,-999.000,-999.000,20090407,       0507
33RR20090320,        I05,      60,          1,         18,         18,2,20090407,       0420,   -33.9988,    54.5112,       2013,   417.5,  13.1136,  35.2570,2,  35.2550,2,    232.9,2,   233.5,2,    3.62,2,    8.63,2,    0.00,2,    0.66,2,-999.000,9,-999.000,9,-999.0000,9,  -999.0,9,  -999.0,9,-999.0000,9,  -999.00,-999.000,9,-999.000,9,-999.000,9,  13.1124,2,-999.000,9, -999.00,9, -999.00,-999.000,9,-999.000, -999.00,9, -999.00,9, -33.9980,  54.5113,-999.000,-999.000,20090407,       0505
33RR20090320,        I05,      60,          1,         17,         17,2,20090407,       0420,   -33.9988,    54.5112,       2013,   467.3,  12.6640,  35.1800,2,  35.1782,2,    230.2,2,   227.5,2,    3.96,2,   10.20,2,    0.00,2,    0.76,2,-999.000,9,-999.000,9,-999.0000,9,  -999.0,9,  -999.0,9,-999.0000,9,  -999.00,-999.000,9,-999.000,9,-999.000,9,  12.6628,2,-999.000,9, -999.00,9, -999.00,-999.000,9,-999.000, -999.00,9, -999.00,9, -33.9980,  54.5113,-999.000,-999.000,20090407,       0503
33RR20090320,        I05,      60,          1,         16,         16,2,20090407,       0420,   -33.9988,    54.5112,       2013,   536.7,  12.1701,  35.0991,2,  35.0973,2,    227.2,2,   226.8,2,    4.12,2,   11.34,2,    0.00,2,    0.84,2,-999.000,9,-999.000,9,-999.0000,9,  -999.0,9,  -999.0,9,-999.0000,9,  -999.00,-999.000,9,-999.000,9,-999.000,9,  12.1693,2,-999.000,9, -999.00,9, -999.00,-999.000,9,-999.000, -999.00,9, -999.00,9, -33.9980,  54.5112,-999.000,-999.000,20090407,       0501
33RR20090320,        I05,      60,          1,         15,         15,2,20090407,       0420,   -33.9988,    54.5112,       2013,   635.8,  11.0394,  34.9281,2,  34.9267,2,    222.0,2,   221.2,2,    5.24,2,   14.32,2,    0.00,2,    1.03,2,-999.000,9,-999.000,9,-999.0000,9,  -999.0,9,  -999.0,9,-999.0000,9,  -999.00,-999.000,9,-999.000,9,-999.000,9,  11.0387,2,-999.000,9, -999.00,9, -999.00,-999.000,9,-999.000, -999.00,9, -999.00,9, -33.9981,  54.5112,-999.000,-999.000,20090407,       0458
33RR20090320,        I05,      60,          1,         14,         14,2,20090407,       0420,   -33.9988,    54.5112,       2013,   736.1,  10.0967,  34.8044,2,  34.8022,2,    215.8,2,   216.1,2,    6.95,2,   16.87,2,    0.00,2,    1.20,2,-999.000,9,-999.000,9,-999.0000,9,  -999.0,9,  -999.0,9,-999.0000,9,  -999.00,-999.000,9,-999.000,9,-999.000,9,  10.0938,2,-999.000,9, -999.00,9, -999.00,-999.000,9,-999.000, -999.00,9, -999.00,9, -33.9981,  54.5112,-999.000,-999.000,20090407,       0455
33RR20090320,        I05,      60,          1,         13,         13,2,20090407,       0420,   -33.9988,    54.5112,       2013,   836.3,   8.3769,  34.6197,2,  34.6186,2,    206.9,2,   206.5,2,   12.36,2,   21.76,2,    0.00,2,    1.52,2,-999.000,9,-999.000,9,-999.0000,9,  -999.0,9,  -999.0,9,-999.0000,9,  -999.00,-999.000,9,-999.000,9,-999.000,9,   8.3762,2,-999.000,9, -999.00,9, -999.00,-999.000,9,-999.000, -999.00,9, -999.00,9, -33.9982,  54.5113,-999.000,-999.000,20090407,       0452
33RR20090320,        I05,      60,          1,         12,         12,2,20090407,       0420,   -33.9988,    54.5112,       2013,   937.2,   6.9369,  34.4925,2,  34.4935,2,    204.8,2,   204.3,2,   17.79,2,   25.30,2,    0.00,2,    1.77,2,-999.000,9,-999.000,9,-999.0000,9,  -999.0,9,  -999.0,9,-999.0000,9,  -999.00,-999.000,9,-999.000,9,-999.000,9,   6.9535,2,-999.000,9, -999.00,9, -999.00,-999.000,9,-999.000, -999.00,9, -999.00,9, -33.9983,  54.5113,-999.000,-999.000,20090407,       0450
33RR20090320,        I05,      60,          1,         11,         11,2,20090407,       0420,   -33.9988,    54.5112,       2013,  1037.0,   5.8502,  34.4290,2,  34.4268,2,    203.1,2,   203.0,2,   24.20,2,   27.82,2,    0.00,2,    1.95,2,-999.000,9,-999.000,9,-999.0000,9,  -999.0,9,  -999.0,9,-999.0000,9,  -999.00,-999.000,9,-999.000,9,-999.000,9,   5.8495,2,-999.000,9, -999.00,9, -999.00,-999.000,9,-999.000, -999.00,9, -999.00,9, -33.9983,  54.5113,-999.000,-999.000,20090407,       0447
33RR20090320,        I05,      60,          1,         10,         10,2,20090407,       0420,   -33.9988,    54.5112,       2013,  1137.8,   4.7582,  34.3956,2,  34.3939,2,    198.6,2,   199.1,2,   33.38,2,   30.28,2,    0.00,2,    2.14,2,-999.000,9,-999.000,9,-999.0000,9,  -999.0,9,  -999.0,9,-999.0000,9,  -999.00,-999.000,9,-999.000,9,-999.000,9,   4.7603,2,-999.000,9, -999.00,9, -999.00,-999.000,9,-999.000, -999.00,9, -999.00,9, -33.9983,  54.5114,-999.000,-999.000,20090407,       0444
33RR20090320,        I05,      60,          1,          9,          9,2,20090407,       0420,   -33.9988,    54.5112,       2013,  1239.5,   4.1244,  34.4116,2,  34.4098,2,    191.9,2,   191.7,2,   42.19,2,   31.71,2,    0.00,2,    2.26,2,-999.000,9,-999.000,9,-999.0000,9,  -999.0,9,  -999.0,9,-999.0000,9,  -999.00,-999.000,9,-999.000,9,-999.000,9,   4.1201,2,-999.000,9, -999.00,9, -999.00,-999.000,9,-999.000, -999.00,9, -999.00,9, -33.9982,  54.5116,-999.000,-999.000,20090407,       0441
33RR20090320,        I05,      60,          1,          8,          8,2,20090407,       0420,   -33.9988,    54.5112,       2013,  1339.9,   3.6332,  34.4455,2,  34.4442,2,    186.7,2,   186.2,2,   49.85,2,   32.75,2,    0.00,2,    2.32,2,-999.000,9,-999.000,9,-999.0000,9,  -999.0,9,  -999.0,9,-999.0000,9,  -999.00,-999.000,9,-999.000,9,-999.000,9,   3.6372,2,-999.000,9, -999.00,9, -999.00,-999.000,9,-999.000, -999.00,9, -999.00,9, -33.9982,  54.5116,-999.000,-999.000,20090407,       0439
33RR20090320,        I05,      60,          1,          7,          7,2,20090407,       0420,   -33.9988,    54.5112,       2013,  1440.1,   3.3992,  34.4810,2,  34.4806,2,    182.5,2,   182.2,2,   55.54,2,   33.07,2,    0.00,2,    2.35,2,-999.000,9,-999.000,9,-999.0000,9,  -999.0,9,  -999.0,9,-999.0000,9,  -999.00,-999.000,9,-999.000,9,-999.000,9,   3.3986,2,-999.000,9, -999.00,9, -999.00,-999.000,9,-999.000, -999.00,9, -999.00,9, -33.9980,  54.5115,-999.000,-999.000,20090407,       0436
33RR20090320,        I05,      60,          1,          6,          6,2,20090407,       0420,   -33.9988,    54.5112,       2013,  1539.7,   3.1115,  34.5345,2,  34.5383,2,    179.0,2,   178.1,2,   62.44,2,   33.13,2,    0.00,2,    2.34,2,-999.000,9,-999.000,9,-999.0000,9,  -999.0,9,  -999.0,9,-999.0000,9,  -999.00,-999.000,9,-999.000,9,-999.000,9,   3.1115,2,-999.000,9, -999.00,9, -999.00,-999.000,9,-999.000, -999.00,9, -999.00,9, -33.9981,  54.5113,-999.000,-999.000,20090407,       0433
33RR20090320,        I05,      60,          1,          5,          5,2,20090407,       0420,   -33.9988,    54.5112,       2013,  1641.0,   2.8799,  34.5852,2,  34.5827,2,    178.2,2,   177.9,2,   67.57,2,   32.91,2,    0.00,2,    2.35,2,-999.000,9,-999.000,9,-999.0000,9,  -999.0,9,  -999.0,9,-999.0000,9,  -999.00,-999.000,9,-999.000,9,-999.000,9,   2.8790,2,-999.000,9, -999.00,9, -999.00,-999.000,9,-999.000, -999.00,9, -999.00,9, -33.9983,  54.5113,-999.000,-999.000,20090407,       0431
33RR20090320,        I05,      60,          1,          4,          4,2,20090407,       0420,   -33.9988,    54.5112,       2013,  1741.6,   2.7622,  34.6139,2,  34.6134,2,    179.3,2,   178.9,2,   70.51,2,   32.57,2,    0.00,2,    2.31,2,-999.000,9,-999.000,9,-999.0000,9,  -999.0,9,  -999.0,9,-999.0000,9,  -999.00,-999.000,9,-999.000,9,-999.000,9,   2.7623,2,-999.000,9, -999.00,9, -999.00,-999.000,9,-999.000, -999.00,9, -999.00,9, -33.9986,  54.5113,-999.000,-999.000,20090407,       0428
33RR20090320,        I05,      60,          1,          3,          3,2,20090407,       0420,   -33.9988,    54.5112,       2013,  1842.5,   2.6839,  34.6316,2,  34.6299,2,    180.2,2,   180.1,2,   72.46,2,   32.41,2,    0.00,2,    2.31,2,-999.000,9,-999.000,9,-999.0000,9,  -999.0,9,  -999.0,9,-999.0000,9,  -999.00,-999.000,9,-999.000,9,-999.000,9,   2.6844,2,-999.000,9, -999.00,9, -999.00,-999.000,9,-999.000, -999.00,9, -999.00,9, -33.9988,  54.5114,-999.000,-999.000,20090407,       0425
33RR20090320,        I05,      60,          1,          2,          2,2,20090407,       0420,   -33.9988,    54.5112,       2013,  1943.1,   2.6409,  34.6419,2,  34.6415,2,    181.2,2,   181.0,2,   73.62,2,   32.24,2,    0.00,2,    2.30,2,-999.000,9,-999.000,9,-999.0000,9,  -999.0,9,  -999.0,9,-999.0000,9,  -999.00,-999.000,9,-999.000,9,-999.000,9,   2.6415,2,-999.000,9, -999.00,9, -999.00,-999.000,9,-999.000, -999.00,9, -999.00,9, -33.9988,  54.5114,-999.000,-999.000,20090407,       0423
33RR20090320,        I05,      60,          1,          1,          1,2,20090407,       0420,   -33.9988,    54.5112,       2013,  2023.0,   2.5388,  34.6631,2,  34.6615,2,    182.6,2,   182.5,2,   76.18,2,   32.07,2,    0.00,2,    2.28,2,-999.000,9,-999.000,9,-999.0000,9,  -999.0,9,  -999.0,9,-999.0000,9,  -999.00,-999.000,9,-999.000,9,-999.000,9,   2.5338,2,-999.000,9, -999.00,9, -999.00,-999.000,9,-999.000, -999.00,9, -999.00,9, -33.9988,  54.5113,-999.000,-999.000,20090407,       0420