BOTTLE,20220814CCHSIOAMB
EXPOCODE,SECT_ID,STNNBR,CASTNO,SAMPNO,BTLNBR,BTLNBR_FLAG_W,DATE,TIME,LATITUDE,LONGITUDE,DEPTH,CTDPRS,CTDTMP,CTDSAL,CTDSAL_FLAG_W,SALNTY,SALNTY_FLAG_W,CTDOXY,CTDOXY_FLAG_W,OXYGEN,OXYGEN_FLAG_W,SILCAT,SILCAT_FLAG_W,NITRAT,NITRAT_FLAG_W,NITRIT,NITRIT_FLAG_W,PHSPHT,PHSPHT_FLAG_W,CFC-11,CFC-11_FLAG_W,CFC-12,CFC-12_FLAG_W,SF6,SF6_FLAG_W,TCARBN,TCARBN_FLAG_W,ALKALI,ALKALI_FLAG_W,PH_TOT,PH_TOT_FLAG_W,PH_TMP,TRITUM,TRITUM_FLAG_W,HELIUM,HELIUM_FLAG_W,DELHE3,DELHE3_FLAG_W,REFTMP,REFTMP_FLAG_W,DELC13,DELC13_FLAG_W,DELC14,DELC14_FLAG_W,C14ERR,NEON,NEON_FLAG_W,NEONER,DOC,DOC_FLAG_W,TDN,TDN_FLAG_W,BTL_LAT,BTL_LON,HELIER,DELHER,BTL_DATE,BTL_TIME
,,,,,,,,,,,METERS,DBAR,ITS-90,PSS-78,,PSS-78,,UMOL/KG,,UMOL/KG,,UMOL/KG,,UMOL/KG,,UMOL/KG,,UMOL/KG,,PMOL/KG,,PMOL/KG,,FMOL/KG,,UMOL/KG,,UMOL/KG,,,,DEG C,TU,,NMOL/KG,,PERCNT,,DEG C,,/MILLE,,/MILLE,,/MILLE,NMOL/KG,,NMOL/KG,UMOL/KG,,UMOL/KG,,,,NMOL/KG,PERCNT,,
33RR20090320,        I05,      56,          1,         36,         36,2,20090406,       0455,   -33.9987,    52.7931,       5607,    11.6,  22.5086,  35.4283,2,  35.4287,2,    216.5,2,   216.6,2,    1.37,2,    0.19,2,    0.00,2,    0.07,2,-999.000,9,-999.000,9,-999.0000,9,  2015.0,6,  2321.1,2,   8.1317,2,    20.00,-999.000,9,-999.000,9,-999.000,9,  22.5088,2,-999.000,9, -999.00,9, -999.00,-999.000,9,-999.000, -999.00,9, -999.00,9, -33.9983,  52.7925,-999.000,-999.000,20090406,       0728
33RR20090320,        I05,      56,          1,         35,         35,2,20090406,       0455,   -33.9987,    52.7931,       5607,    33.4,  21.8423,  35.5366,4,  35.5200,2,    222.9,2,   222.5,2,    1.53,2,    0.19,2,    0.00,2,    0.10,2,-999.000,9,-999.000,9,-999.0000,9,  2038.1,2,  2328.0,2,   8.1069,2,    20.00,-999.000,9,-999.000,9,-999.000,9,  21.8631,2,-999.000,9, -999.00,9, -999.00,-999.000,9,-999.000, -999.00,9, -999.00,9, -33.9983,  52.7925,-999.000,-999.000,20090406,       0727
33RR20090320,        I05,      56,          1,         34,         34,2,20090406,       0455,   -33.9987,    52.7931,       5607,    58.4,  20.0843,  35.5750,2,  35.5766,2,    236.0,2,   236.1,2,    1.50,2,    0.19,2,    0.00,2,    0.13,2,-999.000,9,-999.000,9,-999.0000,9,  2051.9,2,  2335.4,2,   8.0885,2,    20.00,-999.000,9,-999.000,9,-999.000,9,  20.0788,2,-999.000,9, -999.00,9, -999.00,-999.000,9,-999.000, -999.00,9, -999.00,9, -33.9982,  52.7925,-999.000,-999.000,20090406,       0725
33RR20090320,        I05,      56,          1,         33,         33,2,20090406,       0455,   -33.9987,    52.7931,       5607,    82.8,  18.1700,  35.5209,2,  35.5297,2,    242.9,2,   242.0,2,    1.68,2,    0.19,2,    0.00,2,    0.16,2,-999.000,9,-999.000,9,-999.0000,9,  2058.0,2,  2332.6,2,   8.0727,2,    20.00,-999.000,9,-999.000,9,-999.000,9,  18.1879,2,-999.000,9, -999.00,9, -999.00,-999.000,9,-999.000, -999.00,9, -999.00,9, -33.9983,  52.7925,-999.000,-999.000,20090406,       0723
33RR20090320,        I05,      56,          1,         32,         32,2,20090406,       0455,   -33.9987,    52.7931,       5607,   107.5,  17.1028,  35.4989,2,  35.4987,2,    238.1,2,   238.4,2,    1.84,2,    0.78,2,    0.05,2,    0.22,2,-999.000,9,-999.000,9,-999.0000,9,  2071.1,2,  2331.5,2,   8.0485,2,    20.00,-999.000,9,-999.000,9,-999.000,9,  17.0944,2,-999.000,9, -999.00,9, -999.00,-999.000,9,-999.000, -999.00,9, -999.00,9, -33.9983,  52.7926,-999.000,-999.000,20090406,       0721
33RR20090320,        I05,      56,          1,         31,         31,2,20090406,       0455,   -33.9987,    52.7931,       5607,   157.8,  15.1532,  35.4389,2,  35.4399,2,    222.9,2,   223.2,2,    2.99,2,    5.17,2,    0.01,2,    0.47,2,-999.000,9,-999.000,9,-999.0000,9,  2095.1,2,  2327.1,2,   7.9943,2,    20.00,-999.000,9,-999.000,9,-999.000,9,  15.1588,2,-999.000,9, -999.00,9, -999.00,-999.000,9,-999.000, -999.00,9, -999.00,9, -33.9984,  52.7927,-999.000,-999.000,20090406,       0720
33RR20090320,        I05,      56,          1,         30,         30,2,20090406,       0455,   -33.9987,    52.7931,       5607,   208.0,  14.5076,  35.3927,2,  35.3918,2,    222.3,2,   223.0,2,    3.16,2,    6.42,2,    0.00,2,    0.55,2,-999.000,9,-999.000,9,-999.0000,9,  -999.0,9,  -999.0,9,-999.0000,9,  -999.00,-999.000,9,-999.000,9,-999.000,9,  14.5058,2,-999.000,9, -999.00,9, -999.00,-999.000,9,-999.000, -999.00,9, -999.00,9, -33.9985,  52.7927,-999.000,-999.000,20090406,       0717
33RR20090320,        I05,      56,          1,         29,         29,2,20090406,       0455,   -33.9987,    52.7931,       5607,   259.2,  14.1191,  35.3562,2,  35.3589,2,    222.5,2,   222.3,2,    3.52,2,    7.29,2,    0.00,2,    0.60,2,-999.000,9,-999.000,9,-999.0000,9,  2105.5,2,  2322.1,2,   7.9663,2,    20.00,-999.000,9,-999.000,9,-999.000,9,  14.1428,2,-999.000,9, -999.00,9, -999.00,-999.000,9,-999.000, -999.00,9, -999.00,9, -33.9985,  52.7927,-999.000,-999.000,20090406,       0715
33RR20090320,        I05,      56,          1,         28,         28,2,20090406,       0455,   -33.9987,    52.7931,       5607,   307.9,  13.6615,  35.3103,2,  35.3104,2,    224.0,2,   222.7,2,    3.70,2,    8.28,2,    0.00,2,    0.66,2,-999.000,9,-999.000,9,-999.0000,9,  -999.0,9,  -999.0,9,-999.0000,9,  -999.00,-999.000,9,-999.000,9,-999.000,9,  13.6611,2,-999.000,9, -999.00,9, -999.00,-999.000,9,-999.000, -999.00,9, -999.00,9, -33.9984,  52.7927,-999.000,-999.000,20090406,       0713
33RR20090320,        I05,      56,          1,         27,         27,2,20090406,       0455,   -33.9987,    52.7931,       5607,   355.7,  13.2163,  35.2635,2,  35.2623,2,    227.0,2,   226.7,2,    3.67,2,    8.92,2,    0.00,2,    0.70,2,-999.000,9,-999.000,9,-999.0000,9,  2110.2,2,  2319.7,2,   7.9460,2,    20.00,-999.000,9,-999.000,9,-999.000,9,  13.2159,2,-999.000,9, -999.00,9, -999.00,-999.000,9,-999.000, -999.00,9, -999.00,9, -33.9984,  52.7927,-999.000,-999.000,20090406,       0711
33RR20090320,        I05,      56,          1,         26,         26,2,20090406,       0455,   -33.9987,    52.7931,       5607,   407.7,  12.9214,  35.2233,2,  35.2229,2,    227.5,2,   227.6,2,    3.84,2,    9.53,2,    0.00,2,    0.73,2,-999.000,9,-999.000,9,-999.0000,9,  -999.0,9,  -999.0,9,-999.0000,9,  -999.00,-999.000,9,-999.000,9,-999.000,9,  12.9233,2,-999.000,9, -999.00,9, -999.00,-999.000,9,-999.000, -999.00,9, -999.00,9, -33.9985,  52.7927,-999.000,-999.000,20090406,       0709
33RR20090320,        I05,      56,          1,         25,         25,2,20090406,       0455,   -33.9987,    52.7931,       5607,   504.4,  12.4633,  35.1509,2,  35.1518,2,    225.4,2,   227.0,2,    4.01,2,   10.61,2,    0.00,2,    0.80,2,-999.000,9,-999.000,9,-999.0000,9,  2114.1,2,  2315.1,2,   7.9271,2,    20.00,-999.000,9,-999.000,9,-999.000,9,  12.4649,2,-999.000,9, -999.00,9, -999.00,-999.000,9,-999.000, -999.00,9, -999.00,9, -33.9985,  52.7926,-999.000,-999.000,20090406,       0706
33RR20090320,        I05,      56,          1,         24,         24,2,20090406,       0455,   -33.9987,    52.7931,       5607,   602.5,  11.2971,  34.9716,2,  34.9755,2,    221.5,2,   222.2,2,    4.96,2,   13.48,2,    0.00,2,    1.00,2,-999.000,9,-999.000,9,-999.0000,9,  -999.0,9,  -999.0,9,-999.0000,9,  -999.00,-999.000,9,-999.000,9,-999.000,9,  11.3025,2,-999.000,9, -999.00,9, -999.00,-999.000,9,-999.000, -999.00,9, -999.00,9, -33.9985,  52.7925,-999.000,-999.000,20090406,       0703
33RR20090320,        I05,      56,          1,         23,         23,2,20090406,       0455,   -33.9987,    52.7931,       5607,   705.5,  10.3404,  34.8424,2,  34.8423,2,    217.8,2,   217.4,2,    6.50,2,   16.04,2,    0.00,2,    1.16,2,-999.000,9,-999.000,9,-999.0000,9,  2131.3,2,  2299.4,2,   7.8633,2,    20.00,-999.000,9,-999.000,9,-999.000,9,  10.3375,2,-999.000,9, -999.00,9, -999.00,-999.000,9,-999.000, -999.00,9, -999.00,9, -33.9984,  52.7925,-999.000,-999.000,20090406,       0700
33RR20090320,        I05,      56,          1,         22,         22,2,20090406,       0455,   -33.9987,    52.7931,       5607,   808.9,   8.9396,  34.6788,2,  34.6785,2,    211.4,2,   210.3,2,   10.40,2,   19.96,2,    0.00,2,    1.42,2,-999.000,9,-999.000,9,-999.0000,9,  -999.0,9,  -999.0,9,-999.0000,9,  -999.00,-999.000,9,-999.000,9,-999.000,9,   8.9489,2,-999.000,9, -999.00,9, -999.00,-999.000,9,-999.000, -999.00,9, -999.00,9, -33.9984,  52.7925,-999.000,-999.000,20090406,       0657
33RR20090320,        I05,      56,          1,         21,         21,2,20090406,       0455,   -33.9987,    52.7931,       5607,   908.6,   7.6041,  34.5530,2,  34.5518,2,    206.0,2,   204.7,2,   15.28,2,   23.62,2,    0.00,2,    1.67,2,-999.000,9,-999.000,9,-999.0000,9,  2160.3,2,  2295.0,2,   7.7764,2,    20.00,-999.000,9,-999.000,9,-999.000,9,   7.6121,2,-999.000,9, -999.00,9, -999.00,-999.000,9,-999.000, -999.00,9, -999.00,9, -33.9985,  52.7925,-999.000,-999.000,20090406,       0654
33RR20090320,        I05,      56,          1,         20,         20,2,20090406,       0455,   -33.9987,    52.7931,       5607,  1006.6,   6.4260,  34.4620,2,  34.4619,2,    204.9,2,   204.3,2,   20.77,2,   26.46,2,    0.00,2,    1.87,2,-999.000,9,-999.000,9,-999.0000,9,  -999.0,9,  -999.0,9,-999.0000,9,  -999.00,-999.000,9,-999.000,9,-999.000,9,   6.4238,2,-999.000,9, -999.00,9, -999.00,-999.000,9,-999.000, -999.00,9, -999.00,9, -33.9986,  52.7926,-999.000,-999.000,20090406,       0651
33RR20090320,        I05,      56,          1,         19,         19,2,20090406,       0455,   -33.9987,    52.7931,       5607,  1109.3,   5.3240,  34.4020,2,  34.4018,2,    202.6,2,   203.3,2,   27.44,2,   28.93,2,    0.00,2,    2.05,2,-999.000,9,-999.000,9,-999.0000,9,  2186.1,2,  2296.9,2,   7.7166,2,    20.00,-999.000,9,-999.000,9,-999.000,9,   5.3252,2,-999.000,9, -999.00,9, -999.00,-999.000,9,-999.000, -999.00,9, -999.00,9, -33.9987,  52.7927,-999.000,-999.000,20090406,       0648
33RR20090320,        I05,      56,          1,         18,         18,2,20090406,       0455,   -33.9987,    52.7931,       5607,  1208.6,   4.4723,  34.3918,2,  34.3914,2,    196.6,2,   198.1,2,   36.12,2,   30.85,2,    0.00,2,    2.20,2,-999.000,9,-999.000,9,-999.0000,9,  -999.0,9,  -999.0,9,-999.0000,9,  -999.00,-999.000,9,-999.000,9,-999.000,9,   4.4751,2,-999.000,9, -999.00,9, -999.00,-999.000,9,-999.000, -999.00,9, -999.00,9, -33.9987,  52.7928,-999.000,-999.000,20090406,       0645
33RR20090320,        I05,      56,          1,         17,         17,2,20090406,       0455,   -33.9987,    52.7931,       5607,  1308.6,   3.9123,  34.4247,2,  34.4228,2,    189.6,2,   189.9,2,   45.22,2,   32.12,2,    0.00,2,    2.30,2,-999.000,9,-999.000,9,-999.0000,9,  -999.0,9,  -999.0,9,-999.0000,9,  -999.00,-999.000,9,-999.000,9,-999.000,9,   3.9136,2,-999.000,9, -999.00,9, -999.00,-999.000,9,-999.000, -999.00,9, -999.00,9, -33.9988,  52.7929,-999.000,-999.000,20090406,       0642
33RR20090320,        I05,      56,          1,         16,         16,2,20090406,       0455,   -33.9987,    52.7931,       5607,  1410.5,   3.4680,  34.4761,2,  34.4762,2,    183.8,2,   182.3,2,   54.74,2,   32.94,2,    0.00,2,    2.35,2,-999.000,9,-999.000,9,-999.0000,9,  -999.0,9,  -999.0,9,-999.0000,9,  -999.00,-999.000,9,-999.000,9,-999.000,9,   3.4657,2,-999.000,9, -999.00,9, -999.00,-999.000,9,-999.000, -999.00,9, -999.00,9, -33.9988,  52.7928,-999.000,-999.000,20090406,       0639
33RR20090320,        I05,      56,          1,         15,         15,2,20090406,       0455,   -33.9987,    52.7931,       5607,  1610.2,   3.0132,  34.5607,2,  34.5595,2,    177.1,2,   177.5,2,   65.29,2,   32.99,2,    0.00,2,    2.36,2,-999.000,9,-999.000,9,-999.0000,9,  2239.2,2,  2333.0,2,   7.6560,2,    20.00,-999.000,9,-999.000,9,-999.000,9,   3.0129,2,-999.000,9, -999.00,9, -999.00,-999.000,9,-999.000, -999.00,9, -999.00,9, -33.9988,  52.7927,-999.000,-999.000,20090406,       0634
33RR20090320,        I05,      56,          1,         14,         14,2,20090406,       0455,   -33.9987,    52.7931,       5607,  1815.0,   2.7063,  34.6305,2,  34.6296,2,    179.2,2,   179.0,2,   72.47,2,   32.54,2,    0.00,2,    2.32,2,-999.000,9,-999.000,9,-999.0000,9,  -999.0,9,  -999.0,9,-999.0000,9,  -999.00,-999.000,9,-999.000,9,-999.000,9,   2.7074,2,-999.000,9, -999.00,9, -999.00,-999.000,9,-999.000, -999.00,9, -999.00,9, -33.9987,  52.7926,-999.000,-999.000,20090406,       0629
33RR20090320,        I05,      56,          1,         13,         13,2,20090406,       0455,   -33.9987,    52.7931,       5607,  2014.3,   2.4574,  34.6831,2,  34.6823,2,    183.6,2,   184.3,2,   77.25,2,   31.65,2,    0.00,2,    2.27,2,-999.000,9,-999.000,9,-999.0000,9,  -999.0,9,  -999.0,9,-999.0000,9,  -999.00,-999.000,9,-999.000,9,-999.000,9,   2.4583,2,-999.000,9, -999.00,9, -999.00,-999.000,9,-999.000, -999.00,9, -999.00,9, -33.9987,  52.7926,-999.000,-999.000,20090406,       0625
33RR20090320,        I05,      56,          1,         12,         12,2,20090406,       0455,   -33.9987,    52.7931,       5607,  2265.5,   2.2484,  34.7133,2,  34.7120,2,    188.9,2,   188.8,2,   82.45,2,   31.10,2,    0.00,2,    2.23,2,-999.000,9,-999.000,9,-999.0000,9,  -999.0,9,  -999.0,9,-999.0000,9,  -999.00,-999.000,9,-999.000,9,-999.000,9,   2.2454,2,-999.000,9, -999.00,9, -999.00,-999.000,9,-999.000, -999.00,9, -999.00,9, -33.9988,  52.7927,-999.000,-999.000,20090406,       0619
33RR20090320,        I05,      56,          1,         11,         11,2,20090406,       0455,   -33.9987,    52.7931,       5607,  2516.7,   2.0438,  34.7310,2,  34.7301,2,    192.9,2,   192.6,2,   88.45,2,   30.93,2,    0.00,2,    2.21,2,-999.000,9,-999.000,9,-999.0000,9,  -999.0,9,  -999.0,9,-999.0000,9,  -999.00,-999.000,9,-999.000,9,-999.000,9,   2.0438,2,-999.000,9, -999.00,9, -999.00,-999.000,9,-999.000, -999.00,9, -999.00,9, -33.9988,  52.7927,-999.000,-999.000,20090406,       0613
33RR20090320,        I05,      56,          1,         10,         10,2,20090406,       0455,   -33.9987,    52.7931,       5607,  2770.1,   1.8434,  34.7356,2,  34.7348,2,    196.5,2,   196.1,2,   94.27,2,   30.93,2,    0.00,2,    2.21,2,-999.000,9,-999.000,9,-999.0000,9,  -999.0,9,  -999.0,9,-999.0000,9,  -999.00,-999.000,9,-999.000,9,-999.000,9,   1.8438,2,-999.000,9, -999.00,9, -999.00,-999.000,9,-999.000, -999.00,9, -999.00,9, -33.9988,  52.7928,-999.000,-999.000,20090406,       0608
33RR20090320,        I05,      56,          1,          9,          9,2,20090406,       0455,   -33.9987,    52.7931,       5607,  3025.2,   1.5948,  34.7338,2,  34.7330,2,    198.8,2,   199.1,2,  101.31,2,   31.20,2,    0.00,2,    2.23,2,   0.060,6,   0.031,6,   0.0000,6,  2254.0,2,  2360.5,2,   7.6907,2,    20.00,-999.000,9,-999.000,9,-999.000,9,   1.5942,2,-999.000,9, -999.00,9, -999.00,-999.000,9,-999.000, -999.00,9, -999.00,9, -33.9988,  52.7928,-999.000,-999.000,20090406,       0602
33RR20090320,        I05,      56,          1,          8,          8,2,20090406,       0455,   -33.9987,    52.7931,       5607,  3329.6,   1.3661,  34.7268,2,  34.7259,2,    202.8,2,   203.3,2,  107.35,2,   31.36,2,    0.00,2,    2.25,2,-999.000,9,-999.000,9,-999.0000,9,  -999.0,9,  -999.0,9,-999.0000,9,  -999.00,-999.000,9,-999.000,9,-999.000,9,   1.3663,2,-999.000,9, -999.00,9, -999.00,-999.000,9,-999.000, -999.00,9, -999.00,9, -33.9986,  52.7929,-999.000,-999.000,20090406,       0555
33RR20090320,        I05,      56,          1,          7,          7,2,20090406,       0455,   -33.9987,    52.7931,       5607,  3633.8,   1.2274,  34.7213,2,  34.7210,2,    206.1,2,   206.4,2,  110.57,2,   31.41,2,    0.00,2,    2.25,2,-999.000,9,-999.000,9,-999.0000,9,  -999.0,9,  -999.0,9,-999.0000,9,  -999.00,-999.000,9,-999.000,9,-999.000,9,   1.2269,2,-999.000,9, -999.00,9, -999.00,-999.000,9,-999.000, -999.00,9, -999.00,9, -33.9986,  52.7929,-999.000,-999.000,20090406,       0549
33RR20090320,        I05,      56,          1,          6,          6,2,20090406,       0455,   -33.9987,    52.7931,       5607,  4039.4,   1.1298,  34.7165,2,  34.7151,2,    208.1,2,   207.8,2,  114.19,2,   31.62,2,    0.00,2,    2.26,2,   0.095,2,   0.046,2,   0.0000,2,  -999.0,9,  -999.0,9,-999.0000,9,  -999.00,-999.000,9,-999.000,9,-999.000,9,   1.1302,2,-999.000,9, -999.00,9, -999.00,-999.000,9,-999.000, -999.00,9, -999.00,9, -33.9987,  52.7929,-999.000,-999.000,20090406,       0540
33RR20090320,        I05,      56,          1,          5,          5,2,20090406,       0455,   -33.9987,    52.7931,       5607,  4446.9,   1.1023,  34.7142,2,  34.7136,2,    210.5,2,   210.3,2,  114.97,2,   31.52,2,    0.00,2,    2.26,2,   0.122,2,   0.064,2,   0.0000,2,  -999.0,9,  -999.0,9,-999.0000,9,  -999.00,-999.000,9,-999.000,9,-999.000,9,   1.1022,2,-999.000,9, -999.00,9, -999.00,-999.000,9,-999.000, -999.00,9, -999.00,9, -33.9988,  52.7930,-999.000,-999.000,20090406,       0532
33RR20090320,        I05,      56,          1,          4,          4,2,20090406,       0455,   -33.9987,    52.7931,       5607,  4856.8,   1.1203,  34.7123,2,  34.7116,2,    209.7,2,   209.2,2,  116.98,2,   31.73,2,    0.00,2,    2.27,2,   0.104,2,   0.051,2,   0.0000,2,  -999.0,9,  2363.5,2,-999.0000,9,  -999.00,-999.000,9,-999.000,9,-999.000,9,   1.1209,2,-999.000,9, -999.00,9, -999.00,-999.000,9,-999.000, -999.00,9, -999.00,9, -33.9988,  52.7930,-999.000,-999.000,20090406,       0523
33RR20090320,        I05,      56,          1,          3,          3,2,20090406,       0455,   -33.9987,    52.7931,       5607,  5265.1,   1.1634,  34.7111,2,  34.7100,2,    207.9,2,   208.3,2,  118.18,2,   31.90,2,    0.00,2,    2.28,2,   0.088,2,   0.043,2,   0.0190,2,  2257.0,2,  2363.8,2,   7.6854,2,    20.00,-999.000,9,-999.000,9,-999.000,9,   1.1640,2,-999.000,9, -999.00,9, -999.00,-999.000,9,-999.000, -999.00,9, -999.00,9, -33.9987,  52.7928,-999.000,-999.000,20090406,       0510
33RR20090320,        I05,      56,          1,          2,          2,2,20090406,       0455,   -33.9987,    52.7931,       5607,  5468.6,   1.1891,  34.7107,2,  34.7101,2,    208.6,2,   208.7,2,  118.15,2,   31.95,2,    0.00,2,    2.29,2,   0.084,2,   0.043,2,   0.0000,2,  2258.1,2,  2364.6,2,   7.6855,2,    20.00,-999.000,9,-999.000,9,-999.000,9,   1.1891,2,-999.000,9, -999.00,9, -999.00,-999.000,9,-999.000, -999.00,9, -999.00,9, -33.9987,  52.7929,-999.000,-999.000,20090406,       0502
33RR20090320,        I05,      56,          1,          1,          1,2,20090406,       0455,   -33.9987,    52.7931,       5607,  5690.4,   1.2169,  34.7102,2,  34.7095,2,    208.5,2,   208.2,2,  118.33,2,   31.94,2,    0.00,2,    2.29,2,   0.085,2,   0.044,2,   0.0000,2,  2261.6,6,  2363.8,2,   7.6861,2,    20.00,-999.000,9,-999.000,9,-999.000,9,   1.2172,2,-999.000,9, -999.00,9, -999.00,-999.000,9,-999.000, -999.00,9, -999.00,9, -33.9987,  52.7931,-999.000,-999.000,20090406,       0455