BOTTLE,20220814CCHSIOAMB
EXPOCODE,SECT_ID,STNNBR,CASTNO,SAMPNO,BTLNBR,BTLNBR_FLAG_W,DATE,TIME,LATITUDE,LONGITUDE,DEPTH,CTDPRS,CTDTMP,CTDSAL,CTDSAL_FLAG_W,SALNTY,SALNTY_FLAG_W,CTDOXY,CTDOXY_FLAG_W,OXYGEN,OXYGEN_FLAG_W,SILCAT,SILCAT_FLAG_W,NITRAT,NITRAT_FLAG_W,NITRIT,NITRIT_FLAG_W,PHSPHT,PHSPHT_FLAG_W,CFC-11,CFC-11_FLAG_W,CFC-12,CFC-12_FLAG_W,SF6,SF6_FLAG_W,TCARBN,TCARBN_FLAG_W,ALKALI,ALKALI_FLAG_W,PH_TOT,PH_TOT_FLAG_W,PH_TMP,TRITUM,TRITUM_FLAG_W,HELIUM,HELIUM_FLAG_W,DELHE3,DELHE3_FLAG_W,REFTMP,REFTMP_FLAG_W,DELC13,DELC13_FLAG_W,DELC14,DELC14_FLAG_W,C14ERR,NEON,NEON_FLAG_W,NEONER,DOC,DOC_FLAG_W,TDN,TDN_FLAG_W,BTL_LAT,BTL_LON,HELIER,DELHER,BTL_DATE,BTL_TIME
,,,,,,,,,,,METERS,DBAR,ITS-90,PSS-78,,PSS-78,,UMOL/KG,,UMOL/KG,,UMOL/KG,,UMOL/KG,,UMOL/KG,,UMOL/KG,,PMOL/KG,,PMOL/KG,,FMOL/KG,,UMOL/KG,,UMOL/KG,,,,DEG C,TU,,NMOL/KG,,PERCNT,,DEG C,,/MILLE,,/MILLE,,/MILLE,NMOL/KG,,NMOL/KG,UMOL/KG,,UMOL/KG,,,,NMOL/KG,PERCNT,,
33RR20090320,        I05,      67,          1,         36,         36,2,20090408,       1610,   -33.7005,    57.0336,       5009,     3.4,  20.5783,  35.4973,2,  35.4967,2,    226.0,2,   226.5,2,    1.39,2,    0.10,2,    0.00,2,    0.13,2,-999.000,9,-999.000,9,-999.0000,9,  2040.9,6,  2328.1,2,   8.0946,2,    20.00,-999.000,9,-999.000,9,-999.000,9,  20.6062,2,-999.000,9, -999.00,9, -999.00,-999.000,9,-999.000, -999.00,9, -999.00,9, -33.7005,  57.0335,-999.000,-999.000,20090408,       1831
33RR20090320,        I05,      67,          1,         35,         35,2,20090408,       1610,   -33.7005,    57.0336,       5009,    21.8,  19.7942,  35.4938,2,  35.4945,2,    230.9,2,   231.9,2,    1.34,2,    0.04,2,    0.00,2,    0.15,2,-999.000,9,-999.000,9,-999.0000,9,  2048.1,2,  2327.3,2,   8.0832,2,    20.00,-999.000,9,-999.000,9,-999.000,9,  19.7863,2,-999.000,9, -999.00,9, -999.00,-999.000,9,-999.000, -999.00,9, -999.00,9, -33.7005,  57.0336,-999.000,-999.000,20090408,       1829
33RR20090320,        I05,      67,          1,         34,         34,2,20090408,       1610,   -33.7005,    57.0336,       5009,    41.8,  18.4727,  35.5111,2,  35.5129,2,    237.4,2,   240.2,2,    1.49,2,    0.04,2,    0.00,2,    0.16,2,-999.000,9,-999.000,9,-999.0000,9,  2054.5,2,  2330.6,2,   8.0747,2,    20.00,-999.000,9,-999.000,9,-999.000,9,  18.4486,2,-999.000,9, -999.00,9, -999.00,-999.000,9,-999.000, -999.00,9, -999.00,9, -33.7005,  57.0336,-999.000,-999.000,20090408,       1827
33RR20090320,        I05,      67,          1,         33,         33,2,20090408,       1610,   -33.7005,    57.0336,       5009,    67.1,  16.8913,  35.5129,2,  35.5115,2,    235.1,2,   228.0,2,    2.22,2,    1.96,2,    0.07,2,    0.29,2,-999.000,9,-999.000,9,-999.0000,9,  2071.5,2,  2327.5,2,   8.0414,2,    20.00,-999.000,9,-999.000,9,-999.000,9,  16.8729,2,-999.000,9, -999.00,9, -999.00,-999.000,9,-999.000, -999.00,9, -999.00,9, -33.7005,  57.0335,-999.000,-999.000,20090408,       1825
33RR20090320,        I05,      67,          1,         32,         32,2,20090408,       1610,   -33.7005,    57.0336,       5009,    91.2,  16.1576,  35.4896,2,  35.4902,2,    225.5,2,   221.5,2,    2.77,2,    3.79,2,    0.02,2,    0.39,2,-999.000,9,-999.000,9,-999.0000,9,  2082.6,2,  2326.6,2,   8.0191,2,    20.00,-999.000,9,-999.000,9,-999.000,9,  16.1481,2,-999.000,9, -999.00,9, -999.00,-999.000,9,-999.000, -999.00,9, -999.00,9, -33.7004,  57.0334,-999.000,-999.000,20090408,       1823
33RR20090320,        I05,      67,          1,         31,         31,2,20090408,       1610,   -33.7005,    57.0336,       5009,   136.7,  15.4201,  35.4486,2,  35.4500,2,    220.5,2,   222.6,2,    3.11,2,    4.87,2,    0.01,2,    0.46,2,-999.000,9,-999.000,9,-999.0000,9,  2090.5,2,  2324.1,2,   8.0005,2,    20.00,-999.000,9,-999.000,9,-999.000,9,  15.4183,2,-999.000,9, -999.00,9, -999.00,-999.000,9,-999.000, -999.00,9, -999.00,9, -33.7004,  57.0334,-999.000,-999.000,20090408,       1821
33RR20090320,        I05,      67,          1,         30,         30,2,20090408,       1610,   -33.7005,    57.0336,       5009,   187.1,  14.7260,  35.4023,2,  35.3995,2,    221.2,2,   221.9,2,    3.45,2,    6.16,2,    0.01,2,    0.54,2,-999.000,9,-999.000,9,-999.0000,9,  -999.0,9,  -999.0,9,-999.0000,9,  -999.00,-999.000,9,-999.000,9,-999.000,9,  14.7318,2,-999.000,9, -999.00,9, -999.00,-999.000,9,-999.000, -999.00,9, -999.00,9, -33.7004,  57.0335,-999.000,-999.000,20090408,       1819
33RR20090320,        I05,      67,          1,         29,         29,2,20090408,       1610,   -33.7005,    57.0336,       5009,   236.0,  14.1317,  35.3600,2,  35.3601,2,    223.0,2,   225.2,2,    3.41,2,    6.86,2,    0.01,2,    0.58,2,-999.000,9,-999.000,9,-999.0000,9,  2103.9,2,  2322.2,2,   7.9693,2,    20.00,-999.000,9,-999.000,9,-999.000,9,  14.1316,2,-999.000,9, -999.00,9, -999.00,-999.000,9,-999.000, -999.00,9, -999.00,9, -33.7004,  57.0335,-999.000,-999.000,20090408,       1817
33RR20090320,        I05,      67,          1,         28,         28,2,20090408,       1610,   -33.7005,    57.0336,       5009,   285.9,  13.7665,  35.3315,2,  35.3307,2,    227.7,2,   229.4,2,    3.36,2,    7.23,2,    0.01,2,    0.61,2,-999.000,9,-999.000,9,-999.0000,9,  -999.0,9,  -999.0,9,-999.0000,9,  -999.00,-999.000,9,-999.000,9,-999.000,9,  13.7645,2,-999.000,9, -999.00,9, -999.00,-999.000,9,-999.000, -999.00,9, -999.00,9, -33.7004,  57.0336,-999.000,-999.000,20090408,       1815
33RR20090320,        I05,      67,          1,         27,         27,2,20090408,       1610,   -33.7005,    57.0336,       5009,   336.3,  13.4219,  35.2932,2,  35.2927,2,    228.8,2,   229.9,2,    3.32,2,    7.98,2,    0.00,2,    0.65,2,-999.000,9,-999.000,9,-999.0000,9,  2107.2,2,  2318.3,2,   7.9558,2,    20.00,-999.000,9,-999.000,9,-999.000,9,  13.4211,2,-999.000,9, -999.00,9, -999.00,-999.000,9,-999.000, -999.00,9, -999.00,9, -33.7005,  57.0335,-999.000,-999.000,20090408,       1812
33RR20090320,        I05,      67,          1,         26,         26,2,20090408,       1610,   -33.7005,    57.0336,       5009,   386.2,  13.2318,  35.2682,2,  35.2675,2,    229.4,2,   230.6,2,    3.46,2,    8.41,2,    0.00,2,    0.67,2,-999.000,9,-999.000,9,-999.0000,9,  -999.0,9,  -999.0,9,-999.0000,9,  -999.00,-999.000,9,-999.000,9,-999.000,9,  13.2313,2,-999.000,9, -999.00,9, -999.00,-999.000,9,-999.000, -999.00,9, -999.00,9, -33.7005,  57.0334,-999.000,-999.000,20090408,       1810
33RR20090320,        I05,      67,          1,         25,         25,2,20090408,       1610,   -33.7005,    57.0336,       5009,   465.9,  12.7987,  35.2042,2,  35.2026,2,    229.6,2,   229.3,2,    3.61,2,    9.54,2,    0.00,2,    0.74,2,-999.000,9,-999.000,9,-999.0000,9,  2111.3,2,  2315.0,2,   7.9383,2,    20.00,-999.000,9,-999.000,9,-999.000,9,  12.8001,2,-999.000,9, -999.00,9, -999.00,-999.000,9,-999.000, -999.00,9, -999.00,9, -33.7005,  57.0333,-999.000,-999.000,20090408,       1808
33RR20090320,        I05,      67,          1,         24,         24,2,20090408,       1610,   -33.7005,    57.0336,       5009,   565.5,  12.1953,  35.1066,2,  35.1065,2,    228.0,2,   227.2,2,    3.95,2,   11.04,2,    0.00,2,    0.84,2,-999.000,9,-999.000,9,-999.0000,9,  -999.0,9,  -999.0,9,-999.0000,9,  -999.00,-999.000,9,-999.000,9,-999.000,9,  12.1978,2,-999.000,9, -999.00,9, -999.00,-999.000,9,-999.000, -999.00,9, -999.00,9, -33.7005,  57.0332,-999.000,-999.000,20090408,       1804
33RR20090320,        I05,      67,          1,         23,         23,2,20090408,       1610,   -33.7005,    57.0336,       5009,   667.4,  11.0751,  34.9284,2,  34.9276,2,    223.5,2,   222.4,2,    5.09,2,   13.94,2,    0.00,2,    1.03,2,-999.000,9,-999.000,9,-999.0000,9,  2125.3,2,  2303.6,2,   7.8851,2,    20.00,-999.000,9,-999.000,9,-999.000,9,  11.0898,2,-999.000,9, -999.00,9, -999.00,-999.000,9,-999.000, -999.00,9, -999.00,9, -33.7006,  57.0332,-999.000,-999.000,20090408,       1801
33RR20090320,        I05,      67,          1,         22,         22,2,20090408,       1610,   -33.7005,    57.0336,       5009,   765.6,  10.0645,  34.8050,2,  34.8055,2,    218.2,2,   215.8,2,    7.21,2,   16.74,2,    0.00,2,    1.20,2,-999.000,9,-999.000,9,-999.0000,9,  -999.0,9,  -999.0,9,-999.0000,9,  -999.00,-999.000,9,-999.000,9,-999.000,9,  10.0559,2,-999.000,9, -999.00,9, -999.00,-999.000,9,-999.000, -999.00,9, -999.00,9, -33.7006,  57.0333,-999.000,-999.000,20090408,       1758
33RR20090320,        I05,      67,          1,         21,         21,2,20090408,       1610,   -33.7005,    57.0336,       5009,   866.8,   8.8354,  34.6637,2,  34.6648,2,    211.2,2,   208.9,2,   10.52,2,   20.25,2,    0.00,2,    1.44,2,-999.000,9,-999.000,9,-999.0000,9,  2148.2,2,  -999.0,5,   7.8123,2,    20.00,-999.000,9,-999.000,9,-999.000,9,   8.8354,2,-999.000,9, -999.00,9, -999.00,-999.000,9,-999.000, -999.00,9, -999.00,9, -33.7006,  57.0335,-999.000,-999.000,20090408,       1755
33RR20090320,        I05,      67,          1,         20,         20,2,20090408,       1610,   -33.7005,    57.0336,       5009,   967.9,   7.1294,  34.5092,2,  34.5098,2,    204.8,2,   204.2,2,   16.98,2,   24.80,2,    0.00,2,    1.75,2,-999.000,9,-999.000,9,-999.0000,9,  -999.0,9,  -999.0,9,-999.0000,9,  -999.00,-999.000,9,-999.000,9,-999.000,9,   7.1297,2,-999.000,9, -999.00,9, -999.00,-999.000,9,-999.000, -999.00,9, -999.00,9, -33.7006,  57.0335,-999.000,-999.000,20090408,       1752
33RR20090320,        I05,      67,          1,         19,         19,2,20090408,       1610,   -33.7005,    57.0336,       5009,  1067.8,   5.8539,  34.4219,2,  34.4224,2,    204.4,2,   205.7,2,   23.48,2,   27.61,2,    0.00,2,    1.92,2,-999.000,9,-999.000,9,-999.0000,9,  -999.0,9,  -999.0,9,-999.0000,9,  -999.00,-999.000,9,-999.000,9,-999.000,9,   5.8552,2,-999.000,9, -999.00,9, -999.00,-999.000,9,-999.000, -999.00,9, -999.00,9, -33.7005,  57.0334,-999.000,-999.000,20090408,       1749
33RR20090320,        I05,      67,          1,         18,         18,2,20090408,       1610,   -33.7005,    57.0336,       5009,  1163.0,   4.8627,  34.3893,2,  34.3889,2,    201.8,2,   201.9,2,   31.18,2,   29.84,2,    0.00,2,    2.11,2,-999.000,9,-999.000,9,-999.0000,9,  2193.4,2,  2301.4,2,   7.7040,2,    20.00,-999.000,9,-999.000,9,-999.000,9,   4.8623,2,-999.000,9, -999.00,9, -999.00,-999.000,9,-999.000, -999.00,9, -999.00,9, -33.7005,  57.0334,-999.000,-999.000,20090408,       1746
33RR20090320,        I05,      67,          1,         17,         17,2,20090408,       1610,   -33.7005,    57.0336,       5009,  1263.6,   4.3746,  34.3968,2,  34.3967,2,    196.8,2,   196.0,2,   37.70,2,   31.15,2,    0.00,2,    2.21,2,-999.000,9,-999.000,9,-999.0000,9,  -999.0,9,  -999.0,9,-999.0000,9,  -999.00,-999.000,9,-999.000,9,-999.000,9,   4.3739,2,-999.000,9, -999.00,9, -999.00,-999.000,9,-999.000, -999.00,9, -999.00,9, -33.7005,  57.0334,-999.000,-999.000,20090408,       1743
33RR20090320,        I05,      67,          1,         16,         16,2,20090408,       1610,   -33.7005,    57.0336,       5009,  1362.9,   3.8838,  34.4206,2,  34.4209,2,    188.0,2,   189.3,2,   45.44,2,   32.17,2,    0.00,2,    2.30,2,-999.000,9,-999.000,9,-999.0000,9,  -999.0,9,  -999.0,9,-999.0000,9,  -999.00,-999.000,9,-999.000,9,-999.000,9,   3.8842,2,-999.000,9, -999.00,9, -999.00,-999.000,9,-999.000, -999.00,9, -999.00,9, -33.7005,  57.0333,-999.000,-999.000,20090408,       1739
33RR20090320,        I05,      67,          1,         15,         15,2,20090408,       1610,   -33.7005,    57.0336,       5009,  1534.6,   3.2572,  34.5079,2,  34.5084,2,    179.5,2,   178.4,2,   59.62,2,   33.10,2,    0.00,2,    2.36,2,-999.000,9,-999.000,9,-999.0000,9,  2234.9,2,  2324.9,2,   7.6555,2,    20.00,-999.000,9,-999.000,9,-999.000,9,   3.2562,2,-999.000,9, -999.00,9, -999.00,-999.000,9,-999.000, -999.00,9, -999.00,9, -33.7005,  57.0333,-999.000,-999.000,20090408,       1734
33RR20090320,        I05,      67,          1,         14,         14,2,20090408,       1610,   -33.7005,    57.0336,       5009,  1731.2,   2.8749,  34.5885,2,  34.5886,2,    176.7,2,   175.5,2,   69.42,2,   33.04,2,    0.00,2,    2.35,2,-999.000,9,-999.000,9,-999.0000,9,  -999.0,9,  -999.0,9,-999.0000,9,  -999.00,-999.000,9,-999.000,9,-999.000,9,   2.8747,2,-999.000,9, -999.00,9, -999.00,-999.000,9,-999.000, -999.00,9, -999.00,9, -33.7004,  57.0334,-999.000,-999.000,20090408,       1729
33RR20090320,        I05,      67,          1,         13,         13,2,20090408,       1610,   -33.7005,    57.0336,       5009,  1933.1,   2.6279,  34.6500,2,  34.6506,2,    178.4,2,   177.8,2,   76.43,2,   32.37,2,    0.00,2,    2.31,2,   0.196,2,   0.068,2,   0.0000,2,  2249.0,2,  2344.5,2,   7.6642,2,    20.00,-999.000,9,-999.000,9,-999.000,9,   2.6286,2,-999.000,9, -999.00,9, -999.00,-999.000,9,-999.000, -999.00,9, -999.00,9, -33.7004,  57.0334,-999.000,-999.000,20090408,       1724
33RR20090320,        I05,      67,          1,         12,         12,2,20090408,       1610,   -33.7005,    57.0336,       5009,  2164.1,   2.4123,  34.7025,2,  34.7027,2,    183.5,2,   183.7,2,   79.42,2,   31.54,2,    0.00,2,    2.25,2,   0.127,2,   0.042,2,   0.0000,2,  -999.0,9,  -999.0,9,-999.0000,9,  -999.00,-999.000,9,-999.000,9,-999.000,9,   2.4119,2,-999.000,9, -999.00,9, -999.00,-999.000,9,-999.000, -999.00,9, -999.00,9, -33.7003,  57.0335,-999.000,-999.000,20090408,       1718
33RR20090320,        I05,      67,          1,         11,         11,2,20090408,       1610,   -33.7005,    57.0336,       5009,  2417.5,   2.2228,  34.7332,2,  34.7328,2,    187.2,2,   187.0,2,   86.65,2,   31.04,2,    0.00,2,    2.22,2,   0.072,2,   0.023,2,   0.0000,2,  2252.3,2,  2355.2,2,   7.6856,2,    20.00,-999.000,9,-999.000,9,-999.000,9,   2.2234,2,-999.000,9, -999.00,9, -999.00,-999.000,9,-999.000, -999.00,9, -999.00,9, -33.7002,  57.0335,-999.000,-999.000,20090408,       1712
33RR20090320,        I05,      67,          1,         10,         10,2,20090408,       1610,   -33.7005,    57.0336,       5009,  2662.1,   2.0662,  34.7466,2,  34.7470,2,    191.8,2,   191.6,2,   89.24,2,   30.77,2,    0.00,2,    2.18,2,   0.072,2,   0.021,2,   0.0000,2,  -999.0,9,  -999.0,9,-999.0000,9,  -999.00,-999.000,9,-999.000,9,-999.000,9,   2.0653,2,-999.000,9, -999.00,9, -999.00,-999.000,9,-999.000, -999.00,9, -999.00,9, -33.7003,  57.0335,-999.000,-999.000,20090408,       1706
33RR20090320,        I05,      67,          1,          9,          9,2,20090408,       1610,   -33.7005,    57.0336,       5009,  2911.9,   1.9033,  34.7490,2,  34.7491,2,    194.4,2,   194.4,2,   93.86,2,   30.82,2,    0.00,2,    2.19,2,   0.068,6,   0.022,6,   0.0000,6,  2253.2,2,  2360.8,2,   7.6938,2,    20.00,-999.000,9,-999.000,9,-999.000,9,   1.9032,2,-999.000,9, -999.00,9, -999.00,-999.000,9,-999.000, -999.00,9, -999.00,9, -33.7003,  57.0337,-999.000,-999.000,20090408,       1700
33RR20090320,        I05,      67,          1,          8,          8,2,20090408,       1610,   -33.7005,    57.0336,       5009,  3196.2,   1.6158,  34.7389,2,  34.7387,2,    196.2,2,   195.8,2,  103.55,2,   31.30,2,    0.00,2,    2.24,2,   0.073,2,   0.024,2,   0.0000,2,  -999.0,9,  -999.0,9,-999.0000,9,  -999.00,-999.000,9,-999.000,9,-999.000,9,   1.6157,2,-999.000,9, -999.00,9, -999.00,-999.000,9,-999.000, -999.00,9, -999.00,9, -33.7003,  57.0337,-999.000,-999.000,20090408,       1653
33RR20090320,        I05,      67,          1,          7,          7,2,20090408,       1610,   -33.7005,    57.0336,       5009,  3499.4,   1.3248,  34.7290,2,  34.7295,2,    202.7,2,   203.1,2,  107.59,2,   31.34,2,    0.00,2,    2.24,2,   0.115,2,   0.040,2,   0.0000,2,  2255.8,2,  2361.5,2,   7.6889,2,    20.00,-999.000,9,-999.000,9,-999.000,9,   1.3251,2,-999.000,9, -999.00,9, -999.00,-999.000,9,-999.000, -999.00,9, -999.00,9, -33.7004,  57.0335,-999.000,-999.000,20090408,       1647
33RR20090320,        I05,      67,          1,          6,          6,2,20090408,       1610,   -33.7005,    57.0336,       5009,  3793.2,   0.9413,  34.7107,2,  34.7099,2,    209.8,2,   210.0,2,  116.71,2,   31.77,2,    0.00,2,    2.26,2,   0.154,2,   0.055,2,   0.0000,2,  2256.5,2,  2362.0,2,   7.6837,2,    20.00,-999.000,9,-999.000,9,-999.000,9,   0.9413,2,-999.000,9, -999.00,9, -999.00,-999.000,9,-999.000, -999.00,9, -999.00,9, -33.7007,  57.0335,-999.000,-999.000,20090408,       1640
33RR20090320,        I05,      67,          1,          5,          5,2,20090408,       1610,   -33.7005,    57.0336,       5009,  4096.8,   0.7340,  34.6994,2,  34.7001,2,    213.3,2,   214.5,2,  122.79,2,   32.04,2,    0.00,2,    2.28,2,   0.186,2,   0.067,2,   0.0000,2,  2256.8,2,  2359.2,2,   7.6805,2,    20.00,-999.000,9,-999.000,9,-999.000,9,   0.7333,2,-999.000,9, -999.00,9, -999.00,-999.000,9,-999.000, -999.00,9, -999.00,9, -33.7008,  57.0334,-999.000,-999.000,20090408,       1633
33RR20090320,        I05,      67,          1,          4,          4,2,20090408,       1610,   -33.7005,    57.0336,       5009,  4402.8,   0.6606,  34.6944,2,  34.6948,2,    216.1,2,   215.4,2,  126.03,2,   32.15,2,    0.00,2,    2.29,2,   0.207,2,   0.073,2,   0.0000,2,  2257.3,2,  2360.8,2,   7.6788,2,    20.00,-999.000,9,-999.000,9,-999.000,9,   0.6603,2,-999.000,9, -999.00,9, -999.00,-999.000,9,-999.000, -999.00,9, -999.00,9, -33.7008,  57.0334,-999.000,-999.000,20090408,       1626
33RR20090320,        I05,      67,          1,          3,          3,2,20090408,       1610,   -33.7005,    57.0336,       5009,  4719.4,   0.6590,  34.6924,2,  34.6924,2,    216.8,2,   216.2,2,  127.21,2,   32.24,2,    0.00,2,    2.29,2,   0.210,2,   0.076,2,   0.0000,2,  2256.4,2,  2359.3,2,   7.6785,2,    20.00,-999.000,9,-999.000,9,-999.000,9,   0.6588,2,-999.000,9, -999.00,9, -999.00,-999.000,9,-999.000, -999.00,9, -999.00,9, -33.7008,  57.0334,-999.000,-999.000,20090408,       1620
33RR20090320,        I05,      67,          1,          2,          2,2,20090408,       1610,   -33.7005,    57.0336,       5009,  4955.2,   0.6684,  34.6914,2,  34.6906,2,    218.3,2,   217.3,2,  127.79,2,   32.19,2,    0.00,2,    2.30,2,   0.220,2,   0.075,2,  -0.0040,2,  2256.5,2,  2360.7,2,   7.6783,2,    20.00,-999.000,9,-999.000,9,-999.000,9,   0.6687,2,-999.000,9, -999.00,9, -999.00,-999.000,9,-999.000, -999.00,9, -999.00,9, -33.7006,  57.0334,-999.000,-999.000,20090408,       1614
33RR20090320,        I05,      67,          1,          1,          1,2,20090408,       1610,   -33.7005,    57.0336,       5009,  5089.1,   0.6642,  34.6903,2,  34.6897,2,    217.0,2,   216.8,2,  128.37,2,   32.24,2,    0.00,2,    2.30,2,   0.213,2,   0.075,2,   0.0000,2,  2258.5,2,  2360.1,2,   7.6786,2,    20.00,-999.000,9,-999.000,9,-999.000,9,   0.6640,2,-999.000,9, -999.00,9, -999.00,-999.000,9,-999.000, -999.00,9, -999.00,9, -33.7005,  57.0336,-999.000,-999.000,20090408,       1610