BOTTLE,20220814CCHSIOAMB
EXPOCODE,SECT_ID,STNNBR,CASTNO,SAMPNO,BTLNBR,BTLNBR_FLAG_W,DATE,TIME,LATITUDE,LONGITUDE,DEPTH,CTDPRS,CTDTMP,CTDSAL,CTDSAL_FLAG_W,SALNTY,SALNTY_FLAG_W,CTDOXY,CTDOXY_FLAG_W,OXYGEN,OXYGEN_FLAG_W,SILCAT,SILCAT_FLAG_W,NITRAT,NITRAT_FLAG_W,NITRIT,NITRIT_FLAG_W,PHSPHT,PHSPHT_FLAG_W,CFC-11,CFC-11_FLAG_W,CFC-12,CFC-12_FLAG_W,SF6,SF6_FLAG_W,TCARBN,TCARBN_FLAG_W,ALKALI,ALKALI_FLAG_W,PH_TOT,PH_TOT_FLAG_W,PH_TMP,TRITUM,TRITUM_FLAG_W,HELIUM,HELIUM_FLAG_W,DELHE3,DELHE3_FLAG_W,REFTMP,REFTMP_FLAG_W,DELC13,DELC13_FLAG_W,DELC14,DELC14_FLAG_W,C14ERR,NEON,NEON_FLAG_W,NEONER,DOC,DOC_FLAG_W,TDN,TDN_FLAG_W,BTL_LAT,BTL_LON,HELIER,DELHER,BTL_DATE,BTL_TIME
,,,,,,,,,,,METERS,DBAR,ITS-90,PSS-78,,PSS-78,,UMOL/KG,,UMOL/KG,,UMOL/KG,,UMOL/KG,,UMOL/KG,,UMOL/KG,,PMOL/KG,,PMOL/KG,,FMOL/KG,,UMOL/KG,,UMOL/KG,,,,DEG C,TU,,NMOL/KG,,PERCNT,,DEG C,,/MILLE,,/MILLE,,/MILLE,NMOL/KG,,NMOL/KG,UMOL/KG,,UMOL/KG,,,,NMOL/KG,PERCNT,,
33RR20090320,        I05,      16,          1,         36,         36,2,20090327,       0821,   -32.5451,    33.4001,       3519,     3.5,  23.7363,  35.6053,2,  35.6052,2,    213.0,2,   213.9,2,    1.79,2,    0.12,2,    0.00,2,    0.06,2,   1.885,2,   1.172,2,   1.0400,2,  2017.3,6,  2332.5,2,   8.1502,2,    20.00,-999.000,9,-999.000,9,-999.000,9,  23.7192,2,   1.069,2,   40.87,2,     2.8,-999.000,9,-999.000,   67.24,2,    4.06,2, -32.5451,  33.4000,-999.000,-999.000,20090327,       0959
33RR20090320,        I05,      16,          1,         35,         35,2,20090327,       0821,   -32.5451,    33.4001,       3519,    25.9,  23.0118,  35.6050,2,  35.6036,2,    217.1,2,   217.4,2,    1.79,2,    0.07,2,    0.00,2,    0.06,2,   1.907,6,   1.189,6,   1.0570,6,  2018.2,2,  2331.3,2,   8.1461,2,    20.00,-999.000,9,-999.000,9,-999.000,9,  23.0173,2,-999.000,9, -999.00,9, -999.00,-999.000,9,-999.000,   67.85,2,    3.91,2, -32.5451,  33.4000,-999.000,-999.000,20090327,       0957
33RR20090320,        I05,      16,          1,         34,         34,2,20090327,       0821,   -32.5451,    33.4001,       3519,    45.0,  22.5475,  35.6195,2,  35.6204,2,    219.8,2,   219.5,2,    1.79,2,    0.03,2,    0.00,2,    0.05,2,   1.956,2,   1.211,2,   1.0750,2,  2021.3,2,  2333.0,2,   8.1426,2,    20.00,-999.000,9,-999.000,9,-999.000,9,  22.5461,2,-999.000,9, -999.00,9, -999.00,-999.000,9,-999.000,   66.63,2,    4.27,2, -32.5450,  33.4000,-999.000,-999.000,20090327,       0956
33RR20090320,        I05,      16,          1,         33,         33,2,20090327,       0821,   -32.5451,    33.4001,       3519,    70.1,  21.4524,  35.5496,2,  35.5502,2,    216.6,2,   209.5,2,    2.38,2,    0.97,2,    0.01,2,    0.15,2,   2.040,2,   1.263,2,   1.0920,2,  2036.5,2,  2328.6,2,   8.1105,2,    20.00,-999.000,9,-999.000,9,-999.000,9,  21.4500,2,    0.91,2,   42.66,2,     2.8,-999.000,9,-999.000,   58.19,2,    5.66,2, -32.5450,  33.4001,-999.000,-999.000,20090327,       0954
33RR20090320,        I05,      16,          1,         32,         32,2,20090327,       0821,   -32.5451,    33.4001,       3519,    95.7,  19.9337,  35.5031,2,  35.5043,2,    178.5,2,   185.6,2,    3.96,2,    3.98,2,    0.02,2,    0.36,2,   2.138,2,   1.295,2,   0.9900,2,  2067.6,2,  2325.3,2,   8.0499,2,    20.00,-999.000,9,-999.000,9,-999.000,9,  19.9540,2,-999.000,9, -999.00,9, -999.00,-999.000,9,-999.000,   56.37,2,    7.04,2, -32.5450,  33.4001,-999.000,-999.000,20090327,       0953
33RR20090320,        I05,      16,          1,         31,         31,2,20090327,       0821,   -32.5451,    33.4001,       3519,   120.1,  19.0945,  35.5005,2,  35.5005,2,    180.8,2,   178.2,2,    4.95,2,    5.64,2,    0.01,2,    0.47,2,   2.169,2,   1.315,2,   1.0080,2,  2082.2,2,  2325.7,2,   8.0214,2,    20.00,-999.000,9,-999.000,9,-999.000,9,  19.0931,2,-999.000,9, -999.00,9, -999.00,-999.000,9,-999.000,   55.34,2,    7.95,2, -32.5450,  33.4001,-999.000,-999.000,20090327,       0951
33RR20090320,        I05,      16,          1,         30,         30,2,20090327,       0821,   -32.5451,    33.4001,       3519,   144.8,  18.4334,  35.5394,2,  35.5396,2,    184.7,2,   189.8,2,    4.36,2,    4.75,2,    0.01,2,    0.41,2,   2.296,2,   1.354,2,   1.1480,4,  2081.9,2,  2328.5,2,   8.0270,2,    20.00,-999.000,9,-999.000,9,-999.000,9,  18.4322,2,   0.656,2,   43.54,2,       3,-999.000,9,-999.000,   53.83,2,    6.87,2, -32.5450,  33.4001,-999.000,-999.000,20090327,       0949
33RR20090320,        I05,      16,          1,         29,         29,2,20090327,       0821,   -32.5451,    33.4001,       3519,   190.1,  17.6972,  35.5578,2,  35.5580,2,    202.6,2,   204.2,2,    3.77,2,    3.95,2,    0.01,2,    0.37,2,   2.329,2,   1.401,2,   1.1190,2,  2079.4,2,  2329.1,2,   8.0332,2,    20.00,-999.000,9,-999.000,9,-999.000,9,  17.6948,2,   0.752,2,   44.03,2,     2.8,-999.000,9,-999.000,   53.25,2,    6.54,2, -32.5450,  33.4001,-999.000,-999.000,20090327,       0947
33RR20090320,        I05,      16,          1,         28,         28,2,20090327,       0821,   -32.5451,    33.4001,       3519,   239.4,  16.7989,  35.5409,2,  35.5407,2,    206.9,2,   208.7,2,    3.77,2,    4.76,2,    0.01,2,    0.42,2,   2.511,2,   1.481,2,   0.8170,2,  2086.4,2,  2329.6,2,   8.0168,2,    20.00,-999.000,9,-999.000,9,-999.000,9,  16.7962,2,   0.731,2,   43.55,2,       3,-999.000,9,-999.000,   51.72,2,    7.39,2, -32.5450,  33.4001,-999.000,-999.000,20090327,       0944
33RR20090320,        I05,      16,          1,         27,         27,2,20090327,       0821,   -32.5451,    33.4001,       3519,   289.4,  16.1844,  35.4963,2,  35.4953,2,    201.4,2,   200.7,2,    4.75,2,    6.47,2,    0.00,2,    0.53,2,   2.549,2,   1.490,2,   1.2680,4,  2100.1,2,  2325.5,2,   7.9915,2,    20.00,-999.000,9,-999.000,9,-999.000,9,  16.1752,2,   0.714,2,    51.9,2,     2.9,-999.000,9,-999.000,   50.85,2,    9.39,2, -32.5450,  33.4001,-999.000,-999.000,20090327,       0942
33RR20090320,        I05,      16,          1,         26,         26,2,20090327,       0821,   -32.5451,    33.4001,       3519,   337.7,  15.3273,  35.4474,2,  35.4480,2,    203.2,2,   203.7,2,    4.75,2,    7.47,2,    0.00,2,    0.59,2,   2.642,2,   1.551,2,   1.1420,2,  2106.9,2,  2326.3,2,   7.9729,2,    20.00,-999.000,9,-999.000,9,-999.000,9,  15.3272,2,   0.812,2,   60.94,2,     3.2,-999.000,9,-999.000,   49.34,2,    9.80,2, -32.5450,  33.4001,-999.000,-999.000,20090327,       0939
33RR20090320,        I05,      16,          1,         25,         25,2,20090327,       0821,   -32.5451,    33.4001,       3519,   388.6,  14.6297,  35.3985,2,  35.3981,2,    204.4,2,   205.3,2,    4.75,2,    8.33,2,    0.00,2,    0.65,2,   2.761,2,   1.578,2,   1.0980,2,  2113.4,2,  2323.9,2,   7.9579,2,    20.00,-999.000,9,-999.000,9,-999.000,9,  14.6285,2,   0.859,2,   54.47,2,     3.3,-999.000,9,-999.000,   48.85,2,   10.61,2, -32.5450,  33.4001,-999.000,-999.000,20090327,       0938
33RR20090320,        I05,      16,          1,         24,         24,2,20090327,       0821,   -32.5451,    33.4001,       3519,   438.4,  13.9949,  35.3439,2,  35.3445,2,    207.7,2,   209.7,2,    4.56,2,    8.91,2,    0.00,2,    0.68,2,   2.881,2,   1.632,2,   1.0290,2,  2117.6,2,  2319.3,2,   7.9463,2,    20.00,-999.000,9,-999.000,9,-999.000,9,  13.9941,2,    0.92,2,   59.89,2,     3.3,-999.000,9,-999.000,   47.58,2,   10.94,2, -32.5449,  33.4001,-999.000,-999.000,20090327,       0936
33RR20090320,        I05,      16,          1,         23,         23,2,20090327,       0821,   -32.5451,    33.4001,       3519,   488.1,  13.4467,  35.2849,2,  35.2846,2,    212.6,2,   213.4,2,    4.56,2,    9.72,2,    0.00,2,    0.74,2,   2.959,2,   1.661,2,   1.0230,2,  2119.6,2,  2318.5,2,   7.9375,2,    20.00,-999.000,9,-999.000,9,-999.000,9,  13.4450,2,   1.015,2,    57.1,2,     3.4,-999.000,9,-999.000,   46.27,2,   11.08,2, -32.5449,  33.4002,-999.000,-999.000,20090327,       0934
33RR20090320,        I05,      16,          1,         22,         22,2,20090327,       0821,   -32.5451,    33.4001,       3519,   567.8,  12.3817,  35.1389,2,  35.1391,2,    215.1,2,   216.0,2,    4.96,2,   11.67,2,    0.00,2,    0.86,2,   3.090,2,   1.691,2,   0.9420,2,  2124.8,2,  2312.5,2,   7.9141,2,    20.00,-999.000,9,-999.000,9,-999.000,9,  12.3811,2,   1.529,4,   56.45,2,     3.1,-999.000,9,-999.000,   45.76,2,   13.20,2, -32.5449,  33.4002,-999.000,-999.000,20090327,       0932
33RR20090320,        I05,      16,          1,         21,         21,2,20090327,       0821,   -32.5451,    33.4001,       3519,   667.7,  11.3401,  34.9865,2,  34.9877,2,    217.7,2,   217.4,2,    5.75,2,   13.77,2,    0.00,2,    1.01,2,   3.153,2,   1.688,2,   0.8230,2,  2131.4,2,  2307.7,2,   7.8895,2,    20.00,-999.000,9,-999.000,9,-999.000,9,  11.3380,2,   1.113,2,   48.37,2,       3,-999.000,9,-999.000,   44.59,2,   15.65,2, -32.5449,  33.4002,-999.000,-999.000,20090327,       0930
33RR20090320,        I05,      16,          1,         20,         20,2,20090327,       0821,   -32.5451,    33.4001,       3519,   768.2,  10.0621,  34.8155,2,  34.8162,2,    215.9,2,   215.6,2,    7.54,2,   16.78,2,    0.00,2,    1.20,2,   3.083,2,   1.592,2,   0.6710,2,  2138.0,2,  2300.4,2,   7.8559,2,    20.00,-999.000,9,-999.000,9,-999.000,9,  10.0656,2,   1.153,2,   38.72,2,       3,-999.000,9,-999.000,   43.20,2,   18.54,2, -32.5450,  33.4002,-999.000,-999.000,20090327,       0927
33RR20090320,        I05,      16,          1,         19,         19,2,20090327,       0821,   -32.5451,    33.4001,       3519,   868.3,   8.7114,  34.6659,2,  34.6665,2,    204.7,2,   204.8,2,   12.90,2,   21.05,2,    0.00,2,    1.50,2,   2.657,2,   1.359,2,   0.5860,2,  2155.8,2,  2296.2,2,   7.8052,2,    20.00,-999.000,9,-999.000,9,-999.000,9,   8.7108,2,   1.082,2,   13.18,2,     2.8,-999.000,9,-999.000,   41.96,2,   22.97,2, -32.5450,  33.4001,-999.000,-999.000,20090327,       0925
33RR20090320,        I05,      16,          1,         18,         18,2,20090327,       0821,   -32.5451,    33.4001,       3519,   969.0,   7.3816,  34.5511,2,  34.5529,2,    196.2,2,   195.9,2,   19.66,2,   24.87,2,    0.00,2,    1.77,2,   2.249,6,   1.136,6,   0.4100,6,  2173.6,2,  2297.7,2,   7.7593,2,    20.00,-999.000,9,-999.000,9,-999.000,9,   7.3814,2,   1.054,2,  -19.44,2,     2.7,-999.000,9,-999.000,   41.34,2,   26.62,2, -32.5450,  33.4001,-999.000,-999.000,20090327,       0922
33RR20090320,        I05,      16,          1,         17,         17,2,20090327,       0821,   -32.5451,    33.4001,       3519,  1068.5,   5.7886,  34.4324,2,  34.4330,2,    196.5,2,   198.8,2,   26.85,2,   28.21,2,    0.00,2,    2.01,2,   2.267,2,   1.142,2,   0.4420,2,  2188.9,2,  2298.9,2,   7.7182,2,    20.00,-999.000,9,-999.000,9,-999.000,9,   5.7892,2,   1.011,2,  -47.27,2,     2.8,-999.000,9,-999.000,   40.61,2,   29.81,2, -32.5450,  33.4001,-999.000,-999.000,20090327,       0920
33RR20090320,        I05,      16,          1,         16,         16,2,20090327,       0821,   -32.5451,    33.4001,       3519,  1168.5,   5.2205,  34.4549,2,  34.4555,2,    184.7,2,   184.0,2,   37.06,2,   30.37,2,    0.00,2,    2.18,2,   1.598,2,   0.781,2,   0.2770,2,  2206.5,2,  2307.5,2,   7.6915,2,    20.00,-999.000,9,-999.000,9,-999.000,9,   5.2222,2,   0.854,2,  -83.44,2,     2.5,-999.000,9,-999.000,   40.23,2,   31.92,2, -32.5450,  33.4001,-999.000,-999.000,20090327,       0917
33RR20090320,        I05,      16,          1,         15,         15,2,20090327,       0821,   -32.5451,    33.4001,       3519,  1269.0,   4.7231,  34.5002,2,  34.5005,2,    168.9,2,   169.2,2,   48.52,2,   32.08,2,    0.00,2,    2.33,2,   1.042,2,   0.477,2,   0.1180,2,  2225.7,2,  2318.2,2,   7.6663,2,    20.00,-999.000,9,-999.000,9,-999.000,9,   4.7206,2,   0.744,2, -107.92,2,     2.6,-999.000,9,-999.000,   40.15,2,   33.92,2, -32.5450,  33.4001,-999.000,-999.000,20090327,       0914
33RR20090320,        I05,      16,          1,         14,         14,2,20090327,       0821,   -32.5451,    33.4001,       3519,  1370.3,   4.1993,  34.5253,2,  34.5263,2,    163.8,2,   164.3,2,   56.38,2,   33.03,2,    0.00,2,    2.39,2,   0.796,2,   0.355,2,   0.1030,2,  2236.8,2,  2325.1,2,   7.6517,2,    20.00,-999.000,9,-999.000,9,-999.000,9,   4.1978,2,-999.000,5, -999.00,9, -999.00,-999.000,9,-999.000,   40.24,2,   35.01,2, -32.5450,  33.4001,-999.000,-999.000,20090327,       0912
33RR20090320,        I05,      16,          1,         13,         13,2,20090327,       0821,   -32.5451,    33.4001,       3519,  1470.5,   3.7993,  34.5664,2,  34.5697,2,    161.1,2,   161.1,2,   63.66,2,   33.49,2,    0.00,2,    2.44,2,   0.553,2,   0.237,2,   0.0420,2,  2246.3,2,  2333.6,2,   7.6449,2,    20.00,-999.000,9,-999.000,9,-999.000,9,   3.7990,2,   0.723,2, -141.49,2,     2.3,-999.000,9,-999.000,   39.79,2,   35.43,2, -32.5450,  33.4001,-999.000,-999.000,20090327,       0909
33RR20090320,        I05,      16,          1,         12,         12,2,20090327,       0821,   -32.5451,    33.4001,       3519,  1569.6,   3.5370,  34.6131,2,  34.6135,2,    156.4,2,   158.9,2,   69.74,2,   33.35,2,    0.00,2,    2.43,2,   0.355,2,   0.150,2,   0.0400,2,  2254.2,6,  2340.9,2,   7.6434,2,    20.00,-999.000,9,-999.000,9,-999.000,9,   3.5350,2,   0.566,2, -150.46,2,     2.4,-999.000,9,-999.000,   40.16,2,   34.92,2, -32.5449,  33.4001,-999.000,-999.000,20090327,       0907
33RR20090320,        I05,      16,          1,         11,         11,2,20090327,       0821,   -32.5451,    33.4001,       3519,  1670.6,   3.2598,  34.6368,2,  34.6369,2,    162.5,2,   163.0,2,   72.17,2,   33.07,2,    0.00,2,    2.42,2,   0.269,2,   0.114,2,   0.0230,2,  2254.6,2,  2344.9,2,   7.6486,2,    20.00,-999.000,9,-999.000,9,-999.000,9,   3.2591,2,   0.529,2, -151.01,2,     2.3,-999.000,9,-999.000,   40.11,2,   34.97,2, -32.5450,  33.4001,-999.000,-999.000,20090327,       0904
33RR20090320,        I05,      16,          1,         10,         10,2,20090327,       0821,   -32.5451,    33.4001,       3519,  1771.1,   3.0941,  34.6710,2,  34.6713,2,    165.3,2,   165.6,2,   74.61,2,   32.69,2,    0.00,2,    2.37,2,   0.196,2,   0.080,2,   0.0000,2,  2255.9,2,  2346.9,2,   7.6552,2,    20.00,-999.000,9,-999.000,9,-999.000,9,   3.0937,2,   0.582,2, -157.45,2,     2.3,-999.000,9,-999.000,   39.75,2,   34.29,2, -32.5450,  33.4001,-999.000,-999.000,20090327,       0901
33RR20090320,        I05,      16,          1,          9,          9,2,20090327,       0821,   -32.5451,    33.4001,       3519,  1941.1,   2.8514,  34.7159,2,  34.7167,2,    173.3,2,   173.9,2,   75.83,2,   31.58,2,    0.00,2,    2.29,2,   0.091,2,   0.036,2,   0.0000,2,  2253.9,2,  2348.9,2,   7.6711,2,    20.00,-999.000,9,-999.000,9,-999.000,9,   2.8515,2,   0.603,2, -149.47,2,     2.5,-999.000,9,-999.000,   39.98,2,   33.46,2, -32.5449,  33.4002,-999.000,-999.000,20090327,       0857
33RR20090320,        I05,      16,          1,          8,          8,2,20090327,       0821,   -32.5451,    33.4001,       3519,  2172.0,   2.6678,  34.7538,2,  34.7537,2,    185.7,2,   186.1,2,   73.19,2,   30.09,2,    0.00,2,    2.18,2,   0.056,2,   0.024,2,   0.1140,4,  2245.0,2,  2349.8,2,   7.6914,2,    20.00,-999.000,9,-999.000,9,-999.000,9,   2.6676,2,    0.62,2,  -148.3,2,     3.3,-999.000,9,-999.000,   39.80,2,   31.42,2, -32.5449,  33.4002,-999.000,-999.000,20090327,       0852
33RR20090320,        I05,      16,          1,          7,          7,2,20090327,       0821,   -32.5451,    33.4001,       3519,  2423.9,   2.5488,  34.7830,2,  34.7836,2,    198.2,2,   198.5,2,   68.33,2,   28.58,2,    0.00,2,    2.04,2,   0.033,2,   0.015,2,   0.0000,2,  2234.2,2,  2346.8,2,   7.7113,2,    20.00,-999.000,9,-999.000,9,-999.000,9,   2.5487,2,   0.666,2, -142.95,2,     2.5,-999.000,9,-999.000,   40.06,2,   30.06,2, -32.5450,  33.4002,-999.000,-999.000,20090327,       0846
33RR20090320,        I05,      16,          1,          6,          6,2,20090327,       0821,   -32.5451,    33.4001,       3519,  2675.9,   2.4023,  34.7987,2,  34.7990,2,    206.5,2,   206.4,2,   68.13,2,   27.77,2,    0.00,2,    1.97,2,   0.026,2,   0.011,2,   0.1470,4,  2230.3,2,  2347.3,2,   7.7238,2,    20.00,-999.000,9,-999.000,9,-999.000,9,   2.4017,2,   0.728,2, -145.21,2,     3.6,-999.000,9,-999.000,   39.98,2,   29.41,2, -32.5450,  33.4001,-999.000,-999.000,20090327,       0841
33RR20090320,        I05,      16,          1,          5,          5,2,20090327,       0821,   -32.5451,    33.4001,       3519,  2929.1,   2.2924,  34.8134,2,  34.8144,2,    215.2,2,   216.4,2,   65.51,2,   26.81,2,    0.00,2,    1.89,2,   0.026,2,   0.011,2,   0.0000,2,  2222.6,2,  2344.8,2,   7.7374,2,    20.00,-999.000,9,-999.000,9,-999.000,9,   2.2928,2,   0.762,2, -143.27,2,     3.6,-999.000,9,-999.000,   39.87,2,   28.72,2, -32.5451,  33.4001,-999.000,-999.000,20090327,       0835
33RR20090320,        I05,      16,          1,          4,          4,2,20090327,       0821,   -32.5451,    33.4001,       3519,  3182.6,   1.9685,  34.7987,2,  34.8002,2,    216.1,2,   216.9,2,   74.84,2,   27.46,2,    0.00,2,    1.94,2,   0.040,2,   0.019,2,   0.0150,2,  2228.5,2,  2350.7,2,   7.7328,2,    20.00,-999.000,9,-999.000,9,-999.000,9,   1.9731,2,   0.744,2, -146.48,2,     2.6,-999.000,9,-999.000,   40.15,2,   29.32,2, -32.5451,  33.4001,-999.000,-999.000,20090327,       0830
33RR20090320,        I05,      16,          1,          3,          3,2,20090327,       0821,   -32.5451,    33.4001,       3519,  3435.5,   1.4555,  34.7639,2,  34.7643,2,    215.6,2,   216.3,2,   92.14,2,   29.22,2,    0.00,2,    2.07,2,   0.076,2,   0.031,2,   0.0370,2,  2241.6,2,  2358.1,2,   7.7178,2,    20.00,-999.000,9,-999.000,9,-999.000,9,   1.4547,2,   0.646,2, -152.39,2,     2.5,-999.000,9,-999.000,   39.57,2,   30.61,2, -32.5451,  33.4001,-999.000,-999.000,20090327,       0825
33RR20090320,        I05,      16,          1,          2,          2,2,20090327,       0821,   -32.5451,    33.4001,       3519,  3496.4,   1.3400,  34.7559,2,  34.7576,2,    215.4,2,   216.7,2,   96.02,2,   29.59,2,    0.00,2,    2.12,2,   0.081,2,   0.033,2,  -0.0010,2,  2244.9,2,  2361.4,2,   7.7145,2,    20.00,-999.000,9,-999.000,9,-999.000,9,   1.3403,2,   0.603,2, -155.35,2,     2.3,-999.000,9,-999.000,   39.51,2,   31.26,2, -32.5451,  33.4001,-999.000,-999.000,20090327,       0823
33RR20090320,        I05,      16,          1,          1,          1,2,20090327,       0821,   -32.5451,    33.4001,       3519,  3555.5,   1.2334,  34.7477,2,  34.7492,2,    215.0,2,   215.9,2,   99.50,2,   30.03,2,    0.00,2,    2.13,2,   0.094,6,   0.037,6,   0.0180,6,  2249.3,6,  2362.9,2,   7.7110,2,    20.00,-999.000,9,-999.000,9,-999.000,9,   1.2348,2,   0.652,2,  -152.8,2,     2.3,-999.000,9,-999.000,   39.46,2,   31.43,2, -32.5451,  33.4001,-999.000,-999.000,20090327,       0821