BOTTLE,20220814CCHSIOAMB
EXPOCODE,SECT_ID,STNNBR,CASTNO,SAMPNO,BTLNBR,BTLNBR_FLAG_W,DATE,TIME,LATITUDE,LONGITUDE,DEPTH,CTDPRS,CTDTMP,CTDSAL,CTDSAL_FLAG_W,SALNTY,SALNTY_FLAG_W,CTDOXY,CTDOXY_FLAG_W,OXYGEN,OXYGEN_FLAG_W,SILCAT,SILCAT_FLAG_W,NITRAT,NITRAT_FLAG_W,NITRIT,NITRIT_FLAG_W,PHSPHT,PHSPHT_FLAG_W,CFC-11,CFC-11_FLAG_W,CFC-12,CFC-12_FLAG_W,SF6,SF6_FLAG_W,TCARBN,TCARBN_FLAG_W,ALKALI,ALKALI_FLAG_W,PH_TOT,PH_TOT_FLAG_W,PH_TMP,TRITUM,TRITUM_FLAG_W,HELIUM,HELIUM_FLAG_W,DELHE3,DELHE3_FLAG_W,REFTMP,REFTMP_FLAG_W,DELC13,DELC13_FLAG_W,DELC14,DELC14_FLAG_W,C14ERR,NEON,NEON_FLAG_W,NEONER,DOC,DOC_FLAG_W,TDN,TDN_FLAG_W,BTL_LAT,BTL_LON,HELIER,DELHER,BTL_DATE,BTL_TIME
,,,,,,,,,,,METERS,DBAR,ITS-90,PSS-78,,PSS-78,,UMOL/KG,,UMOL/KG,,UMOL/KG,,UMOL/KG,,UMOL/KG,,UMOL/KG,,PMOL/KG,,PMOL/KG,,FMOL/KG,,UMOL/KG,,UMOL/KG,,,,DEG C,TU,,NMOL/KG,,PERCNT,,DEG C,,/MILLE,,/MILLE,,/MILLE,NMOL/KG,,NMOL/KG,UMOL/KG,,UMOL/KG,,,,NMOL/KG,PERCNT,,
33RR20090320,        I05,      81,          2,         36,         36,2,20090413,       1803,   -34.0008,    62.8397,       4695,    12.2,  20.1904,  35.4916,2,  35.4912,2,    226.8,2,   226.8,2,    1.97,2,    0.07,2,    0.00,2,    0.14,2,   2.175,2,   1.299,2,   1.1490,2,  2054.8,6,  2329.9,2,   8.0769,2,    20.00,-999.000,9,-999.000,9,-999.000,9,  20.1891,2,   1.285,2,   54.65,2,     3.2,-999.000,9,-999.000,   65.40,2,    3.99,2, -34.0010,  62.8388,-999.000,-999.000,20090413,       2008
33RR20090320,        I05,      81,          2,         35,         35,2,20090413,       1803,   -34.0008,    62.8397,       4695,    37.0,  20.1975,  35.4957,2,  35.4934,2,    228.1,2,   226.7,2,    1.96,2,    0.07,2,    0.00,2,    0.14,2,   2.178,2,   1.298,2,   1.2170,2,  2056.9,2,  2330.9,2,   8.0766,2,    20.00,-999.000,9,-999.000,9,-999.000,9,  20.1986,2,-999.000,9, -999.00,9, -999.00,-999.000,9,-999.000,   65.71,2,    3.97,2, -34.0008,  62.8387,-999.000,-999.000,20090413,       2006
33RR20090320,        I05,      81,          2,         34,         34,2,20090413,       1803,   -34.0008,    62.8397,       4695,    62.2,  20.1282,  35.5003,2,  35.4960,2,    228.5,2,   229.9,2,    1.96,2,    0.13,2,    0.00,2,    0.14,2,   2.177,2,   1.294,2,   1.0630,2,  2058.0,2,  2330.3,2,   8.0763,2,    20.00,-999.000,9,-999.000,9,-999.000,9,  20.1098,2,-999.000,9, -999.00,9, -999.00,-999.000,9,-999.000,   61.58,2,    4.00,2, -34.0007,  62.8387,-999.000,-999.000,20090413,       2005
33RR20090320,        I05,      81,          2,         33,         33,2,20090413,       1803,   -34.0008,    62.8397,       4695,    86.9,  16.0339,  35.4677,2,  35.4668,2,    250.2,2,   247.5,2,    1.96,2,    0.12,2,    0.00,2,    0.20,2,   2.646,2,   1.536,2,   1.0040,2,  2075.8,2,  2330.7,2,   8.0433,2,    20.00,-999.000,9,-999.000,9,-999.000,9,  16.0430,2,   1.206,2,   52.79,2,       3,-999.000,9,-999.000,   58.85,2,    3.63,2, -34.0008,  62.8386,-999.000,-999.000,20090413,       2003
33RR20090320,        I05,      81,          2,         32,         32,2,20090413,       1803,   -34.0008,    62.8397,       4695,   116.1,  14.7465,  35.4051,2,  35.4041,2,    228.0,2,   228.3,2,    2.84,2,    4.29,2,    0.07,2,    0.43,2,   2.751,2,   1.590,2,   1.1520,2,  2096.8,2,  2324.2,2,   7.9903,2,    20.00,-999.000,9,-999.000,9,-999.000,9,  14.7460,2,-999.000,9, -999.00,9, -999.00,-999.000,9,-999.000,   56.50,2,    7.61,2, -34.0009,  62.8385,-999.000,-999.000,20090413,       2001
33RR20090320,        I05,      81,          2,         31,         31,2,20090413,       1803,   -34.0008,    62.8397,       4695,   166.2,  13.9185,  35.3233,2,  35.3182,2,    228.1,2,   229.1,2,    3.50,2,    6.56,2,    0.01,2,    0.56,2,   2.891,2,   1.670,2,   1.1580,2,  2106.8,2,  2321.4,2,   7.9647,2,    20.00,-999.000,9,-999.000,9,-999.000,9,  13.9124,2,   0.964,2,   56.65,2,       3,-999.000,9,-999.000,   53.54,2,    9.03,2, -34.0009,  62.8384,-999.000,-999.000,20090413,       1959
33RR20090320,        I05,      81,          2,         30,         30,2,20090413,       1803,   -34.0008,    62.8397,       4695,   217.2,  13.3520,  35.2673,2,  35.2674,2,    231.6,2,   231.9,2,    3.73,2,    7.66,2,    0.00,2,    0.61,2,   2.979,2,   1.703,2,   1.3880,2,  2109.3,2,  2317.2,2,   7.9539,2,    20.00,-999.000,9,-999.000,9,-999.000,9,  13.3528,2,-999.000,9, -999.00,9, -999.00,-999.000,9,-999.000,   51.99,2,    9.72,2, -34.0009,  62.8383,-999.000,-999.000,20090413,       1957
33RR20090320,        I05,      81,          2,         29,         29,2,20090413,       1803,   -34.0008,    62.8397,       4695,   266.2,  13.1632,  35.2517,2,  35.2446,2,    231.6,2,   233.4,2,    3.94,2,    8.24,2,    0.00,2,    0.65,2,   3.012,6,   1.726,6,   1.3410,6,  2110.1,2,  2317.6,2,   7.9496,2,    20.00,-999.000,9,-999.000,9,-999.000,9,  13.1647,2,   0.951,2,   57.22,2,     3.3,-999.000,9,-999.000,   50.81,2,    9.80,2, -34.0009,  62.8384,-999.000,-999.000,20090413,       1955
33RR20090320,        I05,      81,          2,         28,         28,2,20090413,       1803,   -34.0008,    62.8397,       4695,   316.9,  12.9887,  35.2318,2,  35.2324,2,    231.6,2,   231.6,2,    4.17,2,    8.81,2,    0.00,2,    0.68,2,   3.024,2,   1.726,2,   1.3850,2,  2112.3,2,  2315.5,2,   7.9448,2,    20.00,-999.000,9,-999.000,9,-999.000,9,  12.9884,2,   0.922,2,   57.36,2,       3,-999.000,9,-999.000,   49.95,2,   10.44,2, -34.0008,  62.8385,-999.000,-999.000,20090413,       1953
33RR20090320,        I05,      81,          2,         27,         27,2,20090413,       1803,   -34.0008,    62.8397,       4695,   365.7,  12.7059,  35.1866,2,  35.1859,2,    233.8,2,   232.1,2,    4.17,2,    9.39,2,    0.00,2,    0.72,2,   3.069,2,   1.743,2,   1.3150,2,  2113.7,2,  2314.2,2,   7.9377,2,    20.00,-999.000,9,-999.000,9,-999.000,9,  12.7147,2,   0.991,2,   58.69,2,       3,-999.000,9,-999.000,   49.19,2,   11.18,2, -34.0008,  62.8386,-999.000,-999.000,20090413,       1951
33RR20090320,        I05,      81,          2,         26,         26,2,20090413,       1803,   -34.0008,    62.8397,       4695,   416.3,  12.3982,  35.1366,2,  35.1365,2,    232.4,2,   233.6,2,    4.38,2,   10.01,2,    0.00,2,    0.76,2,   3.103,2,   1.755,2,   1.3590,2,  2116.6,2,  2311.4,2,   7.9305,2,    20.00,-999.000,9,-999.000,9,-999.000,9,  12.3986,2,-999.000,5, -999.00,9, -999.00,-999.000,9,-999.000,   48.54,2,   11.76,2, -34.0007,  62.8387,-999.000,-999.000,20090413,       1949
33RR20090320,        I05,      81,          2,         25,         25,2,20090413,       1803,   -34.0008,    62.8397,       4695,   466.6,  12.1144,  35.0919,2,  35.0863,2,    233.1,2,   231.2,2,    4.61,2,   10.90,2,    0.00,2,    0.82,2,   3.162,2,   1.767,2,   1.2420,2,  2117.5,2,  2310.8,2,   7.9200,2,    20.00,-999.000,9,-999.000,9,-999.000,9,  12.1133,2,   1.025,2,   46.87,2,     3.9,-999.000,9,-999.000,   47.91,2,   12.71,2, -34.0007,  62.8389,-999.000,-999.000,20090413,       1947
33RR20090320,        I05,      81,          2,         24,         24,2,20090413,       1803,   -34.0008,    62.8397,       4695,   535.8,  11.6534,  35.0197,2,  35.0194,2,    229.2,2,   231.4,2,    4.61,2,   11.79,2,    0.00,2,    0.88,2,   3.213,2,   1.785,2,   1.2330,2,  2120.1,2,  2307.5,2,   7.9088,2,    20.00,-999.000,9,-999.000,9,-999.000,9,  11.6524,2,   0.985,2,   55.06,2,       3,-999.000,9,-999.000,   46.23,2,   13.73,2, -34.0005,  62.8389,-999.000,-999.000,20090413,       1944
33RR20090320,        I05,      81,          2,         23,         23,2,20090413,       1803,   -34.0008,    62.8397,       4695,   635.3,  10.8998,  34.9122,2,  34.9116,2,    226.8,2,   227.0,2,    5.27,2,   13.83,2,    0.00,2,    1.01,2,   3.259,2,   1.757,2,   1.0840,2,  2126.6,2,  2303.1,2,   7.8857,2,    20.00,-999.000,9,-999.000,9,-999.000,9,  10.9002,2,   0.836,3,   39.68,2,       3,-999.000,9,-999.000,   45.21,2,   15.21,2, -34.0005,  62.8390,-999.000,-999.000,20090413,       1941
33RR20090320,        I05,      81,          2,         22,         22,2,20090413,       1803,   -34.0008,    62.8397,       4695,   734.9,   9.8156,  34.7669,2,  34.7645,2,    220.0,2,   221.1,2,    7.06,2,   16.82,2,    0.00,2,    1.20,2,   3.180,2,   1.667,2,   0.8810,2,  2135.1,2,  2294.9,2,   7.8524,2,    20.00,-999.000,9,-999.000,9,-999.000,9,   9.8129,2,   1.178,2,    38.8,2,     3.3,-999.000,9,-999.000,   44.21,2,   18.36,2, -34.0006,  62.8389,-999.000,-999.000,20090413,       1938
33RR20090320,        I05,      81,          2,         21,         21,2,20090413,       1803,   -34.0008,    62.8397,       4695,   836.0,   8.4774,  34.6154,2,  34.6152,2,    212.0,2,   210.7,2,   11.08,2,   20.93,2,    0.00,2,    1.47,2,   2.811,2,   1.423,2,   0.6780,2,  2149.7,2,  2292.5,2,   7.8058,2,    20.00,-999.000,9,-999.000,9,-999.000,9,   8.4738,2,   1.119,2,   23.09,2,     3.7,-999.000,9,-999.000,   43.72,2,   22.54,2, -34.0008,  62.8387,-999.000,-999.000,20090413,       1935
33RR20090320,        I05,      81,          2,         20,         20,2,20090413,       1803,   -34.0008,    62.8397,       4695,   936.0,   7.0799,  34.4949,2,  34.4944,2,    204.7,2,   204.3,2,   17.14,2,   24.82,2,    0.00,2,    1.74,2,   2.435,2,   1.216,2,   0.5820,2,  2166.7,2,  2292.1,2,   7.7601,2,    20.00,-999.000,9,-999.000,9,-999.000,9,   7.0861,2,   1.076,2,   -5.67,2,     2.9,-999.000,9,-999.000,   42.91,2,   26.57,2, -34.0009,  62.8387,-999.000,-999.000,20090413,       1933
33RR20090320,        I05,      81,          2,         19,         19,2,20090413,       1803,   -34.0008,    62.8397,       4695,  1037.0,   5.7357,  34.3985,2,  34.3984,2,    205.5,2,   205.9,2,   23.20,2,   27.84,2,    0.00,2,    1.96,2,   2.296,2,   1.122,2,   0.4640,2,  2178.8,2,  2292.0,2,   7.7258,2,    20.00,-999.000,9,-999.000,9,-999.000,9,   5.7447,2,   0.848,3,  -33.59,2,     3.2,-999.000,9,-999.000,   41.87,2,   29.47,2, -34.0009,  62.8387,-999.000,-999.000,20090413,       1930
33RR20090320,        I05,      81,          2,         18,         18,2,20090413,       1803,   -34.0008,    62.8397,       4695,  1137.6,   4.7357,  34.3722,2,  34.3714,2,    200.3,2,   199.7,2,   32.22,2,   30.23,2,    0.00,2,    2.14,2,   1.741,2,   0.837,2,   0.3070,2,  2195.1,2,  2298.9,2,   7.6984,2,    20.00,-999.000,9,-999.000,9,-999.000,9,   4.7394,2,   0.989,2,  -61.56,2,     2.7,-999.000,9,-999.000,   41.24,2,   32.09,2, -34.0007,  62.8388,-999.000,-999.000,20090413,       1928
33RR20090320,        I05,      81,          2,         17,         17,2,20090413,       1803,   -34.0008,    62.8397,       4695,  1237.7,   3.9719,  34.3890,2,  34.3873,2,    195.1,2,   191.9,2,   42.40,2,   31.98,2,    0.00,2,    2.28,2,   1.323,2,   0.625,2,   0.2540,2,  2213.0,2,  2309.3,2,   7.6735,2,    20.00,-999.000,9,-999.000,9,-999.000,9,   3.9828,2,   0.843,2,  -83.92,2,     2.6,-999.000,9,-999.000,   40.62,2,   33.38,2, -34.0006,  62.8389,-999.000,-999.000,20090413,       1925
33RR20090320,        I05,      81,          2,         16,         16,2,20090413,       1803,   -34.0008,    62.8397,       4695,  1338.0,   3.5632,  34.4249,2,  34.4248,2,    187.4,2,   184.1,2,   50.79,2,   32.99,2,    0.00,2,    2.35,2,   1.019,2,   0.467,2,   0.1580,2,  2228.2,2,  2316.1,2,   7.6579,2,    20.00,-999.000,9,-999.000,9,-999.000,9,   3.5630,2,    0.77,2, -107.91,2,     2.5,-999.000,9,-999.000,   40.50,2,   34.18,2, -34.0005,  62.8389,-999.000,-999.000,20090413,       1922
33RR20090320,        I05,      81,          2,         15,         15,2,20090413,       1803,   -34.0008,    62.8397,       4695,  1437.5,   3.3040,  34.4655,2,  34.4649,2,    178.9,2,   178.4,2,   57.17,2,   33.47,2,    0.00,2,    2.38,2,   0.785,2,   0.351,2,   0.1150,2,  2236.1,2,  2323.4,2,   7.6483,2,    20.00,-999.000,9,-999.000,9,-999.000,9,   3.3043,2,   0.699,2, -125.97,2,     2.9,-999.000,9,-999.000,   40.37,2,   34.79,2, -34.0003,  62.8390,-999.000,-999.000,20090413,       1919
33RR20090320,        I05,      81,          2,         14,         14,2,20090413,       1803,   -34.0008,    62.8397,       4695,  1532.5,   3.0764,  34.5150,2,  34.5144,2,    173.7,2,   173.7,2,   63.33,2,   33.73,2,    0.00,2,    2.40,2,   0.533,2,   0.231,2,   0.1130,2,  2243.9,2,  2328.5,2,   7.6427,2,    20.00,-999.000,9,-999.000,9,-999.000,9,   3.0767,2,    0.67,2, -139.38,2,     2.4,-999.000,9,-999.000,   40.24,2,   34.87,2, -34.0003,  62.8390,-999.000,-999.000,20090413,       1916
33RR20090320,        I05,      81,          2,         13,         13,2,20090413,       1803,   -34.0008,    62.8397,       4695,  1664.6,   2.8704,  34.5687,2,  34.5686,2,    172.1,2,   171.8,2,   68.36,2,   33.57,2,    0.00,2,    2.38,2,   0.311,2,   0.136,2,   0.0470,2,  2249.5,6,  2334.3,2,   7.6436,2,    20.00,-999.000,9,-999.000,9,-999.000,9,   2.8701,2,    0.57,2, -144.87,2,     2.7,-999.000,9,-999.000,   40.07,2,   34.77,2, -34.0005,  62.8390,-999.000,-999.000,20090413,       1913
33RR20090320,        I05,      81,          2,         12,         12,2,20090413,       1803,   -34.0008,    62.8397,       4695,  1866.3,   2.6156,  34.6446,2,  34.6448,2,    175.1,2,   175.3,2,   73.63,2,   32.66,2,    0.00,2,    2.31,2,   0.137,2,   0.058,2,   0.0500,2,  2251.9,2,  2340.8,2,   7.6547,2,    20.00,-999.000,9,-999.000,9,-999.000,9,   2.6159,2,   0.141,3, -161.11,2,     2.6,-999.000,9,-999.000,   40.20,2,   33.90,2, -34.0006,  62.8390,-999.000,-999.000,20090413,       1908
33RR20090320,        I05,      81,          2,         11,         11,2,20090413,       1803,   -34.0008,    62.8397,       4695,  2083.3,   2.3928,  34.6999,2,  34.7003,2,    179.9,2,   181.1,2,   80.29,2,   31.75,2,    0.00,2,    2.25,2,   0.052,2,   0.025,2,   0.0240,2,  2254.4,2,  2349.2,2,   7.6713,2,    20.00,-999.000,9,-999.000,9,-999.000,9,   2.3925,2,   0.144,3,    -169,2,       3,-999.000,9,-999.000,   39.80,2,   33.54,2, -34.0006,  62.8390,-999.000,-999.000,20090413,       1903
33RR20090320,        I05,      81,          2,         10,         10,2,20090413,       1803,   -34.0008,    62.8397,       4695,  2329.0,   2.1501,  34.7248,2,  34.7227,2,    179.9,2,   180.0,2,   94.54,2,   32.07,2,    0.00,2,    2.28,2,   0.022,2,   0.009,2,   0.0310,2,  2265.7,2,  2363.4,2,   7.6778,2,    20.00,-999.000,9,-999.000,9,-999.000,9,   2.1514,2,   0.384,3, -165.32,2,     2.8,-999.000,9,-999.000,   40.02,2,   33.44,2, -34.0006,  62.8387,-999.000,-999.000,20090413,       1857
33RR20090320,        I05,      81,          2,          9,          9,2,20090413,       1803,   -34.0008,    62.8397,       4695,  2583.7,   1.9824,  34.7309,2,  34.7298,2,    177.7,2,   177.5,2,  105.15,2,   32.54,2,    0.00,2,    2.32,2,   0.016,6,   0.006,6,   0.0000,6,  2276.1,2,  2374.1,2,   7.6778,2,    20.00,-999.000,9,-999.000,9,-999.000,9,   1.9825,2,   0.488,2, -171.83,2,     2.3,-999.000,9,-999.000,   40.35,2,   34.45,2, -34.0007,  62.8385,-999.000,-999.000,20090413,       1852
33RR20090320,        I05,      81,          2,          8,          8,2,20090413,       1803,   -34.0008,    62.8397,       4695,  2830.7,   1.8396,  34.7317,2,  34.7312,2,    178.0,2,   177.5,2,  112.55,2,   32.81,2,    0.00,2,    2.35,2,   0.011,2,   0.007,2,   0.0380,2,  2280.5,2,  2379.1,2,   7.6778,2,    20.00,-999.000,9,-999.000,9,-999.000,9,   1.8395,2,   0.484,2, -177.16,2,     2.3,-999.000,9,-999.000,   40.20,2,   34.30,2, -34.0005,  62.8387,-999.000,-999.000,20090413,       1846
33RR20090320,        I05,      81,          2,          7,          7,2,20090413,       1803,   -34.0008,    62.8397,       4695,  3099.6,   1.7182,  34.7295,2,  34.7284,2,    180.0,2,   179.4,2,  116.53,2,   32.86,2,    0.01,2,    2.36,2,   0.009,2,   0.005,2,   0.0000,2,  2282.4,2,  2381.8,2,   7.6774,2,    20.00,-999.000,9,-999.000,9,-999.000,9,   1.7178,2,    0.36,3, -184.55,2,     2.7,-999.000,9,-999.000,   40.28,2,   34.40,2, -34.0007,  62.8389,-999.000,-999.000,20090413,       1840
33RR20090320,        I05,      81,          2,          6,          6,2,20090413,       1803,   -34.0008,    62.8397,       4695,  3397.7,   1.5370,  34.7253,2,  34.7239,2,    184.7,2,   184.9,2,  119.34,2,   32.80,2,    0.00,2,    2.35,2,   0.018,2,   0.010,2,   0.0000,2,  2279.2,2,  2382.8,2,   7.6795,2,    20.00,-999.000,9,-999.000,9,-999.000,9,   1.5380,2,   0.462,2, -180.06,2,     2.5,-999.000,9,-999.000,   39.83,2,   34.60,2, -34.0008,  62.8390,-999.000,-999.000,20090413,       1834
33RR20090320,        I05,      81,          2,          5,          5,2,20090413,       1803,   -34.0008,    62.8397,       4695,  3703.1,   1.2014,  34.7142,2,  34.7133,2,    194.6,2,   196.3,2,  123.33,2,   32.48,2,    0.00,2,    2.33,2,   0.022,2,   0.015,2,   0.0000,2,  2273.0,2,  2374.7,2,   7.6804,2,    20.00,-999.000,9,-999.000,9,-999.000,9,   1.2011,2,   0.499,2, -172.43,2,     2.9,-999.000,9,-999.000,   40.21,2,   34.15,2, -34.0011,  62.8393,-999.000,-999.000,20090413,       1827
33RR20090320,        I05,      81,          2,          4,          4,2,20090413,       1803,   -34.0008,    62.8397,       4695,  4007.8,   0.9046,  34.7031,2,  34.7026,2,    204.9,2,   205.3,2,  126.86,2,   32.53,2,    0.00,2,    2.31,2,   0.032,2,   0.018,2,   0.0000,2,  2267.9,2,  2370.5,2,   7.6819,2,    20.00,-999.000,9,-999.000,9,-999.000,9,   0.9043,2,   0.535,2, -164.76,2,     2.6,-999.000,9,-999.000,   39.74,2,   34.22,2, -34.0010,  62.8391,-999.000,-999.000,20090413,       1820
33RR20090320,        I05,      81,          2,          3,          3,2,20090413,       1803,   -34.0008,    62.8397,       4695,  4303.1,   0.7242,  34.6959,2,  34.6953,2,    211.1,2,   210.8,2,  129.69,2,   32.43,2,    0.00,2,    2.31,2,   0.054,2,   0.025,2,   0.0000,2,  2266.0,2,  2361.2,2,   7.6825,2,    20.00,-999.000,9,-999.000,9,-999.000,9,   0.7247,2,    0.54,2, -167.12,2,       3,-999.000,9,-999.000,   39.76,2,   34.15,2, -34.0008,  62.8391,-999.000,-999.000,20090413,       1814
33RR20090320,        I05,      81,          2,          2,          2,2,20090413,       1803,   -34.0008,    62.8397,       4695,  4650.0,   0.6045,  34.6892,2,  34.6880,2,    216.0,2,   215.5,2,  132.29,2,   32.48,2,    0.00,2,    2.30,2,   0.108,2,   0.047,2,   0.0900,2,  2263.9,2,  2363.4,2,   7.6802,2,    20.00,-999.000,9,-999.000,9,-999.000,9,   0.6048,2,   0.558,2, -167.71,2,     2.9,-999.000,9,-999.000,   39.89,2,   34.04,2, -34.0009,  62.8397,-999.000,-999.000,20090413,       1807
33RR20090320,        I05,      81,          2,          1,          1,2,20090413,       1803,   -34.0008,    62.8397,       4695,  4766.1,   0.5794,  34.6877,2,  34.6873,2,    216.0,2,   216.0,2,  133.27,2,   32.42,2,    0.00,2,    2.30,2,   0.124,6,   0.054,6,   0.0450,6,  2265.1,6,  2364.8,2,   7.6802,2,    20.00,-999.000,9,-999.000,9,-999.000,9,   0.5796,2,   0.571,2, -167.86,2,     2.6,-999.000,9,-999.000,   39.80,2,   34.11,2, -34.0008,  62.8398,-999.000,-999.000,20090413,       1803