BOTTLE,20220814CCHSIOAMB
EXPOCODE,SECT_ID,STNNBR,CASTNO,SAMPNO,BTLNBR,BTLNBR_FLAG_W,DATE,TIME,LATITUDE,LONGITUDE,DEPTH,CTDPRS,CTDTMP,CTDSAL,CTDSAL_FLAG_W,SALNTY,SALNTY_FLAG_W,CTDOXY,CTDOXY_FLAG_W,OXYGEN,OXYGEN_FLAG_W,SILCAT,SILCAT_FLAG_W,NITRAT,NITRAT_FLAG_W,NITRIT,NITRIT_FLAG_W,PHSPHT,PHSPHT_FLAG_W,CFC-11,CFC-11_FLAG_W,CFC-12,CFC-12_FLAG_W,SF6,SF6_FLAG_W,TCARBN,TCARBN_FLAG_W,ALKALI,ALKALI_FLAG_W,PH_TOT,PH_TOT_FLAG_W,PH_TMP,TRITUM,TRITUM_FLAG_W,HELIUM,HELIUM_FLAG_W,DELHE3,DELHE3_FLAG_W,REFTMP,REFTMP_FLAG_W,DELC13,DELC13_FLAG_W,DELC14,DELC14_FLAG_W,C14ERR,NEON,NEON_FLAG_W,NEONER,DOC,DOC_FLAG_W,TDN,TDN_FLAG_W,BTL_LAT,BTL_LON,HELIER,DELHER,BTL_DATE,BTL_TIME
,,,,,,,,,,,METERS,DBAR,ITS-90,PSS-78,,PSS-78,,UMOL/KG,,UMOL/KG,,UMOL/KG,,UMOL/KG,,UMOL/KG,,UMOL/KG,,PMOL/KG,,PMOL/KG,,FMOL/KG,,UMOL/KG,,UMOL/KG,,,,DEG C,TU,,NMOL/KG,,PERCNT,,DEG C,,/MILLE,,/MILLE,,/MILLE,NMOL/KG,,NMOL/KG,UMOL/KG,,UMOL/KG,,,,NMOL/KG,PERCNT,,
33RR20090320,        I05,     188,          1,         36,         36,2,20090511,       0444,   -32.3749,   113.4215,       4583,     7.0,  20.7255,  35.7522,2,  35.7525,2,    223.8,2,   224.5,2,    2.00,2,    0.10,2,    0.00,2,    0.08,2,-999.000,9,-999.000,9,-999.0000,9,  2040.8,6,  2348.2,2,   8.1226,2,    20.00,-999.000,9,-999.000,9,-999.000,9,  20.7238,2,-999.000,9, -999.00,9, -999.00,-999.000,9,-999.000, -999.00,9, -999.00,9, -32.3744, 113.4216,-999.000,-999.000,20090511,       0640
33RR20090320,        I05,     188,          1,         35,         35,2,20090511,       0444,   -32.3749,   113.4215,       4583,    25.8,  20.7339,  35.7689,2,  35.7687,2,    224.6,2,   224.4,2,    2.00,2,    0.10,2,    0.00,2,    0.08,2,-999.000,9,-999.000,9,-999.0000,9,  -999.0,9,  -999.0,9,-999.0000,9,  -999.00,-999.000,9,-999.000,9,-999.000,9,  20.7344,2,-999.000,9, -999.00,9, -999.00,-999.000,9,-999.000, -999.00,9, -999.00,9, -32.3743, 113.4217,-999.000,-999.000,20090511,       0638
33RR20090320,        I05,     188,          1,         34,         34,2,20090511,       0444,   -32.3749,   113.4215,       4583,    50.9,  20.3369,  35.8493,2,  35.8509,2,    226.8,2,   226.7,2,    1.81,2,    0.11,2,    0.00,2,    0.10,2,-999.000,9,-999.000,9,-999.0000,9,  2057.7,2,  2353.9,2,   8.1034,2,    20.00,-999.000,9,-999.000,9,-999.000,9,  20.3406,2,-999.000,9, -999.00,9, -999.00,-999.000,9,-999.000, -999.00,9, -999.00,9, -32.3743, 113.4217,-999.000,-999.000,20090511,       0637
33RR20090320,        I05,     188,          1,         33,         33,2,20090511,       0444,   -32.3749,   113.4215,       4583,    75.5,  18.5850,  35.7745,2,  35.7752,2,    235.1,2,   235.6,2,    1.43,2,    0.11,2,    0.00,2,    0.12,2,-999.000,9,-999.000,9,-999.0000,9,  -999.0,9,  -999.0,9,-999.0000,9,  -999.00,-999.000,9,-999.000,9,-999.000,9,  18.5616,2,-999.000,9, -999.00,9, -999.00,-999.000,9,-999.000, -999.00,9, -999.00,9, -32.3743, 113.4217,-999.000,-999.000,20090511,       0636
33RR20090320,        I05,     188,          1,         32,         32,2,20090511,       0444,   -32.3749,   113.4215,       4583,   101.3,  16.8766,  35.7282,2,  35.7267,2,    234.1,2,   233.2,2,    1.43,2,    0.46,2,    0.09,2,    0.18,2,-999.000,9,-999.000,9,-999.0000,9,  2080.4,2,  2348.4,2,   8.0548,2,    20.00,-999.000,9,-999.000,9,-999.000,9,  16.8580,2,-999.000,9, -999.00,9, -999.00,-999.000,9,-999.000, -999.00,9, -999.00,9, -32.3742, 113.4216,-999.000,-999.000,20090511,       0634
33RR20090320,        I05,     188,          1,         31,         31,2,20090511,       0444,   -32.3749,   113.4215,       4583,   150.4,  14.4996,  35.4450,2,  35.4530,2,    233.8,2,   232.9,2,    1.25,2,    3.52,2,    0.02,2,    0.36,2,-999.000,9,-999.000,9,-999.0000,9,  -999.0,9,  -999.0,9,-999.0000,9,  -999.00,-999.000,9,-999.000,9,-999.000,9,  14.5056,2,-999.000,9, -999.00,9, -999.00,-999.000,9,-999.000, -999.00,9, -999.00,9, -32.3741, 113.4217,-999.000,-999.000,20090511,       0632
33RR20090320,        I05,     188,          1,         30,         30,2,20090511,       0444,   -32.3749,   113.4215,       4583,   199.1,  13.1480,  35.2496,2,  35.2499,2,    237.2,2,   236.9,2,    1.43,2,    5.93,2,    0.01,2,    0.52,2,-999.000,9,-999.000,9,-999.0000,9,  -999.0,9,  -999.0,9,-999.0000,9,  -999.00,-999.000,9,-999.000,9,-999.000,9,  13.1643,2,-999.000,9, -999.00,9, -999.00,-999.000,9,-999.000, -999.00,9, -999.00,9, -32.3742, 113.4217,-999.000,-999.000,20090511,       0630
33RR20090320,        I05,     188,          1,         29,         29,2,20090511,       0444,   -32.3749,   113.4215,       4583,   250.3,  11.6651,  35.0035,2,  35.0048,2,    242.8,2,   242.6,2,    1.80,2,    8.87,2,    0.01,2,    0.70,2,-999.000,9,-999.000,9,-999.0000,9,  2111.7,2,  2311.0,2,   7.9262,2,    20.00,-999.000,9,-999.000,9,-999.000,9,  11.6448,2,-999.000,9, -999.00,9, -999.00,-999.000,9,-999.000, -999.00,9, -999.00,9, -32.3743, 113.4216,-999.000,-999.000,20090511,       0628
33RR20090320,        I05,     188,          1,         28,         28,2,20090511,       0444,   -32.3749,   113.4215,       4583,   301.1,  10.7572,  34.8701,2,  34.8684,2,    243.9,2,   244.4,2,    2.53,2,   11.33,2,    0.01,2,    0.85,2,-999.000,9,-999.000,9,-999.0000,9,  -999.0,9,  -999.0,9,-999.0000,9,  -999.00,-999.000,9,-999.000,9,-999.000,9,  10.7535,2,-999.000,9, -999.00,9, -999.00,-999.000,9,-999.000, -999.00,9, -999.00,9, -32.3743, 113.4216,-999.000,-999.000,20090511,       0627
33RR20090320,        I05,     188,          1,         27,         27,2,20090511,       0444,   -32.3749,   113.4215,       4583,   350.8,  10.0182,  34.7639,2,  34.7652,2,    242.7,2,   242.8,2,    3.26,2,   13.61,2,    0.00,2,    0.99,2,-999.000,9,-999.000,9,-999.0000,9,  -999.0,9,  -999.0,9,-999.0000,9,  -999.00,-999.000,9,-999.000,9,-999.000,9,  10.0169,2,-999.000,9, -999.00,9, -999.00,-999.000,9,-999.000, -999.00,9, -999.00,9, -32.3743, 113.4216,-999.000,-999.000,20090511,       0625
33RR20090320,        I05,     188,          1,         26,         26,2,20090511,       0444,   -32.3749,   113.4215,       4583,   400.3,   9.6131,  34.7201,2,  34.7204,2,    240.5,2,   240.5,2,    4.00,2,   15.14,2,    0.00,2,    1.08,2,-999.000,9,-999.000,9,-999.0000,9,  -999.0,9,  -999.0,9,-999.0000,9,  -999.00,-999.000,9,-999.000,9,-999.000,9,   9.6125,2,-999.000,9, -999.00,9, -999.00,-999.000,9,-999.000, -999.00,9, -999.00,9, -32.3743, 113.4216,-999.000,-999.000,20090511,       0623
33RR20090320,        I05,     188,          1,         25,         25,2,20090511,       0444,   -32.3749,   113.4215,       4583,   452.5,   9.3090,  34.6834,2,  34.6838,2,    238.8,2,   239.9,2,    4.37,2,   16.18,2,    0.00,2,    1.14,2,-999.000,9,-999.000,9,-999.0000,9,  -999.0,9,  -999.0,9,-999.0000,9,  -999.00,-999.000,9,-999.000,9,-999.000,9,   9.3108,2,-999.000,9, -999.00,9, -999.00,-999.000,9,-999.000, -999.00,9, -999.00,9, -32.3743, 113.4216,-999.000,-999.000,20090511,       0621
33RR20090320,        I05,     188,          1,         24,         24,2,20090511,       0444,   -32.3749,   113.4215,       4583,   499.9,   9.0164,  34.6447,2,  34.6446,2,    239.0,2,   240.3,2,    4.92,2,   17.00,2,    0.00,2,    1.20,2,-999.000,9,-999.000,9,-999.0000,9,  2133.1,2,  2293.8,2,   7.8458,2,    20.00,-999.000,9,-999.000,9,-999.000,9,   9.0175,2,-999.000,9, -999.00,9, -999.00,-999.000,9,-999.000, -999.00,9, -999.00,9, -32.3743, 113.4217,-999.000,-999.000,20090511,       0619
33RR20090320,        I05,     188,          1,         23,         23,2,20090511,       0444,   -32.3749,   113.4215,       4583,   601.0,   7.8967,  34.5246,2,  34.5285,2,    223.8,2,   219.4,2,    9.89,2,   21.58,2,    0.00,2,    1.49,2,-999.000,9,-999.000,9,-999.0000,9,  -999.0,9,  -999.0,9,-999.0000,9,  -999.00,-999.000,9,-999.000,9,-999.000,9,   7.9062,2,-999.000,9, -999.00,9, -999.00,-999.000,9,-999.000, -999.00,9, -999.00,9, -32.3743, 113.4216,-999.000,-999.000,20090511,       0616
33RR20090320,        I05,     188,          1,         22,         22,2,20090511,       0444,   -32.3749,   113.4215,       4583,   698.9,   6.4074,  34.4372,2,  34.4380,2,    198.2,2,   197.6,2,   20.02,2,   26.67,2,    0.00,2,    1.86,2,-999.000,9,-999.000,9,-999.0000,9,  -999.0,9,  -999.0,9,-999.0000,9,  -999.00,-999.000,9,-999.000,9,-999.000,9,   6.4211,2,-999.000,9, -999.00,9, -999.00,-999.000,9,-999.000, -999.00,9, -999.00,9, -32.3742, 113.4217,-999.000,-999.000,20090511,       0613
33RR20090320,        I05,     188,          1,         21,         21,2,20090511,       0444,   -32.3749,   113.4215,       4583,   801.4,   5.2005,  34.3935,2,  34.3936,2,    190.9,2,   192.3,2,   30.13,2,   29.69,2,    0.00,2,    2.08,2,-999.000,9,-999.000,9,-999.0000,9,  -999.0,9,  -999.0,9,-999.0000,9,  -999.00,-999.000,9,-999.000,9,-999.000,9,   5.2032,2,-999.000,9, -999.00,9, -999.00,-999.000,9,-999.000, -999.00,9, -999.00,9, -32.3742, 113.4216,-999.000,-999.000,20090511,       0611
33RR20090320,        I05,     188,          1,         20,         20,2,20090511,       0444,   -32.3749,   113.4215,       4583,   901.8,   4.2486,  34.4043,2,  34.4042,2,    181.3,2,   182.1,2,   44.09,2,   32.01,2,    0.00,2,    2.27,2,-999.000,9,-999.000,9,-999.0000,9,  -999.0,9,  -999.0,9,-999.0000,9,  -999.00,-999.000,9,-999.000,9,-999.000,9,   4.2500,2,-999.000,9, -999.00,9, -999.00,-999.000,9,-999.000, -999.00,9, -999.00,9, -32.3742, 113.4217,-999.000,-999.000,20090511,       0607
33RR20090320,        I05,     188,          1,         19,         19,2,20090511,       0444,   -32.3749,   113.4215,       4583,  1000.1,   3.9168,  34.4631,2,  34.4596,2,    162.9,2,   164.4,2,   57.88,2,   33.61,2,    0.00,2,    2.40,2,-999.000,9,-999.000,9,-999.0000,9,  2238.4,2,  2326.1,2,   7.6448,2,    20.00,-999.000,9,-999.000,9,-999.000,9,   3.9200,2,-999.000,9, -999.00,9, -999.00,-999.000,9,-999.000, -999.00,9, -999.00,9, -32.3742, 113.4217,-999.000,-999.000,20090511,       0605
33RR20090320,        I05,     188,          1,         18,         18,2,20090511,       0444,   -32.3749,   113.4215,       4583,  1102.1,   3.6633,  34.4983,2,  34.4977,2,    155.5,2,   155.4,2,   65.98,2,   34.27,2,    0.00,2,    2.47,2,-999.000,9,-999.000,9,-999.0000,9,  -999.0,9,  -999.0,9,-999.0000,9,  -999.00,-999.000,9,-999.000,9,-999.000,9,   3.6645,2,-999.000,9, -999.00,9, -999.00,-999.000,9,-999.000, -999.00,9, -999.00,9, -32.3742, 113.4217,-999.000,-999.000,20090511,       0602
33RR20090320,        I05,     188,          1,         17,         17,2,20090511,       0444,   -32.3749,   113.4215,       4583,  1199.7,   3.4108,  34.5266,2,  34.5260,2,    152.9,2,   153.5,2,   71.15,2,   34.54,2,    0.00,2,    2.49,2,-999.000,9,-999.000,9,-999.0000,9,  -999.0,9,  -999.0,9,-999.0000,9,  -999.00,-999.000,9,-999.000,9,-999.000,9,   3.4127,2,-999.000,9, -999.00,9, -999.00,-999.000,9,-999.000, -999.00,9, -999.00,9, -32.3742, 113.4218,-999.000,-999.000,20090511,       0600
33RR20090320,        I05,     188,          1,         16,         16,2,20090511,       0444,   -32.3749,   113.4215,       4583,  1301.7,   3.3006,  34.5673,2,  34.5678,2,    149.8,2,   147.3,2,   78.36,2,   34.71,2,    0.00,2,    2.52,2,-999.000,9,-999.000,9,-999.0000,9,  -999.0,9,  -999.0,9,-999.0000,9,  -999.00,-999.000,9,-999.000,9,-999.000,9,   3.3011,2,-999.000,9, -999.00,9, -999.00,-999.000,9,-999.000, -999.00,9, -999.00,9, -32.3744, 113.4217,-999.000,-999.000,20090511,       0557
33RR20090320,        I05,     188,          1,         15,         15,2,20090511,       0444,   -32.3749,   113.4215,       4583,  1403.3,   3.0785,  34.5900,2,  34.5892,2,    150.7,2,   150.4,2,   80.77,2,   34.59,2,    0.00,2,    2.51,2,-999.000,9,-999.000,9,-999.0000,9,  -999.0,9,  -999.0,9,-999.0000,9,  -999.00,-999.000,9,-999.000,9,-999.000,9,   3.0760,2,-999.000,9, -999.00,9, -999.00,-999.000,9,-999.000, -999.00,9, -999.00,9, -32.3743, 113.4217,-999.000,-999.000,20090511,       0554
33RR20090320,        I05,     188,          1,         14,         14,2,20090511,       0444,   -32.3749,   113.4215,       4583,  1504.7,   2.9427,  34.6152,2,  34.6146,2,    151.0,2,   151.2,2,   84.10,2,   34.37,2,    0.00,2,    2.48,2,-999.000,9,-999.000,9,-999.0000,9,  -999.0,9,  -999.0,9,-999.0000,9,  -999.00,-999.000,9,-999.000,9,-999.000,9,   2.9468,2,-999.000,9, -999.00,9, -999.00,-999.000,9,-999.000, -999.00,9, -999.00,9, -32.3743, 113.4217,-999.000,-999.000,20090511,       0552
33RR20090320,        I05,     188,          1,         13,         13,2,20090511,       0444,   -32.3749,   113.4215,       4583,  1602.7,   2.7952,  34.6418,2,  34.6417,2,    153.2,2,   153.4,2,   87.44,2,   34.09,2,    0.00,2,    2.46,2,-999.000,9,-999.000,9,-999.0000,9,  2270.7,2,  2358.8,2,   7.6353,2,    20.00,-999.000,9,-999.000,9,-999.000,9,   2.7951,2,-999.000,9, -999.00,9, -999.00,-999.000,9,-999.000, -999.00,9, -999.00,9, -32.3743, 113.4216,-999.000,-999.000,20090511,       0549
33RR20090320,        I05,     188,          1,         12,         12,2,20090511,       0444,   -32.3749,   113.4215,       4583,  1800.7,   2.5741,  34.6831,2,  34.6831,2,    156.4,2,   156.1,2,   94.88,2,   33.81,2,    0.00,2,    2.44,2,-999.000,9,-999.000,9,-999.0000,9,  -999.0,9,  -999.0,9,-999.0000,9,  -999.00,-999.000,9,-999.000,9,-999.000,9,   2.5745,2,-999.000,9, -999.00,9, -999.00,-999.000,9,-999.000, -999.00,9, -999.00,9, -32.3744, 113.4215,-999.000,-999.000,20090511,       0545
33RR20090320,        I05,     188,          1,         11,         11,2,20090511,       0444,   -32.3749,   113.4215,       4583,  2001.3,   2.3781,  34.7068,2,  34.7066,2,    160.7,2,   160.1,2,  100.87,2,   33.31,2,    0.00,2,    2.40,2,-999.000,9,-999.000,9,-999.0000,9,  -999.0,9,  -999.0,9,-999.0000,9,  -999.00,-999.000,9,-999.000,9,-999.000,9,   2.3780,2,-999.000,9, -999.00,9, -999.00,-999.000,9,-999.000, -999.00,9, -999.00,9, -32.3743, 113.4214,-999.000,-999.000,20090511,       0541
33RR20090320,        I05,     188,          1,         10,         10,2,20090511,       0444,   -32.3749,   113.4215,       4583,  2246.6,   2.1478,  34.7227,2,  34.7233,2,    165.6,2,   165.3,2,  106.86,2,   33.08,2,    0.00,2,    2.38,2,-999.000,9,-999.000,9,-999.0000,9,  -999.0,9,  -999.0,9,-999.0000,9,  -999.00,-999.000,9,-999.000,9,-999.000,9,   2.1473,2,-999.000,9, -999.00,9, -999.00,-999.000,9,-999.000, -999.00,9, -999.00,9, -32.3744, 113.4215,-999.000,-999.000,20090511,       0535
33RR20090320,        I05,     188,          1,          9,          9,2,20090511,       0444,   -32.3749,   113.4215,       4583,  2499.4,   1.9624,  34.7276,2,  34.7270,2,    169.9,2,   169.9,2,  110.82,2,   32.92,2,    0.00,2,    2.36,2,-999.000,9,-999.000,9,-999.0000,9,  2282.5,2,  2380.5,2,   7.6673,2,    20.00,-999.000,9,-999.000,9,-999.000,9,   1.9626,2,-999.000,9, -999.00,9, -999.00,-999.000,9,-999.000, -999.00,9, -999.00,9, -32.3744, 113.4215,-999.000,-999.000,20090511,       0530
33RR20090320,        I05,     188,          1,          8,          8,2,20090511,       0444,   -32.3749,   113.4215,       4583,  2751.4,   1.8109,  34.7290,2,  34.7288,2,    175.0,2,   175.4,2,  112.51,2,   32.59,2,    0.00,2,    2.33,2,-999.000,9,-999.000,9,-999.0000,9,  -999.0,9,  -999.0,9,-999.0000,9,  -999.00,-999.000,9,-999.000,9,-999.000,9,   1.8113,2,-999.000,9, -999.00,9, -999.00,-999.000,9,-999.000, -999.00,9, -999.00,9, -32.3745, 113.4213,-999.000,-999.000,20090511,       0525
33RR20090320,        I05,     188,          1,          7,          7,2,20090511,       0444,   -32.3749,   113.4215,       4583,  3001.0,   1.6619,  34.7286,2,  34.7280,2,    179.7,2,   180.3,2,  114.77,2,   32.48,2,    0.00,2,    2.32,2,-999.000,9,-999.000,9,-999.0000,9,  -999.0,9,  -999.0,9,-999.0000,9,  -999.00,-999.000,9,-999.000,9,-999.000,9,   1.6618,2,-999.000,9, -999.00,9, -999.00,-999.000,9,-999.000, -999.00,9, -999.00,9, -32.3746, 113.4211,-999.000,-999.000,20090511,       0520
33RR20090320,        I05,     188,          1,          6,          6,2,20090511,       0444,   -32.3749,   113.4215,       4583,  3299.7,   1.5040,  34.7259,2,  34.7260,2,    184.6,2,   184.6,2,  117.98,2,   32.53,2,    0.00,2,    2.31,2,-999.000,9,-999.000,9,-999.0000,9,  -999.0,9,  -999.0,9,-999.0000,9,  -999.00,-999.000,9,-999.000,9,-999.000,9,   1.5037,2,-999.000,9, -999.00,9, -999.00,-999.000,9,-999.000, -999.00,9, -999.00,9, -32.3747, 113.4214,-999.000,-999.000,20090511,       0514
33RR20090320,        I05,     188,          1,          5,          5,2,20090511,       0444,   -32.3749,   113.4215,       4583,  3602.6,   1.3625,  34.7220,2,  34.7209,2,    187.5,2,   187.7,2,  121.77,2,   32.53,2,    0.00,2,    2.31,2,-999.000,9,-999.000,9,-999.0000,9,  2282.1,2,  2388.8,2,   7.6873,2,    20.00,-999.000,9,-999.000,9,-999.000,9,   1.3629,2,-999.000,9, -999.00,9, -999.00,-999.000,9,-999.000, -999.00,9, -999.00,9, -32.3746, 113.4214,-999.000,-999.000,20090511,       0507
33RR20090320,        I05,     188,          1,          4,          4,2,20090511,       0444,   -32.3749,   113.4215,       4583,  3913.7,   1.2619,  34.7185,2,  34.7178,2,    190.8,2,   190.8,2,  124.24,2,   32.52,2,    0.00,2,    2.31,2,-999.000,9,-999.000,9,-999.0000,9,  -999.0,9,  -999.0,9,-999.0000,9,  -999.00,-999.000,9,-999.000,9,-999.000,9,   1.2621,2,-999.000,9, -999.00,9, -999.00,-999.000,9,-999.000, -999.00,9, -999.00,9, -32.3747, 113.4215,-999.000,-999.000,20090511,       0501
33RR20090320,        I05,     188,          1,          3,          3,2,20090511,       0444,   -32.3749,   113.4215,       4583,  4222.6,   1.2246,  34.7159,2,  34.7158,2,    192.7,2,   192.6,2,  125.20,2,   32.58,2,    0.00,2,    2.30,2,-999.000,9,-999.000,9,-999.0000,9,  -999.0,9,  -999.0,9,-999.0000,9,  -999.00,-999.000,9,-999.000,9,-999.000,9,   1.2243,2,-999.000,9, -999.00,9, -999.00,-999.000,9,-999.000, -999.00,9, -999.00,9, -32.3749, 113.4215,-999.000,-999.000,20090511,       0454
33RR20090320,        I05,     188,          1,          2,          2,2,20090511,       0444,   -32.3749,   113.4215,       4583,  4491.9,   1.1849,  34.7142,2,  34.7145,2,    196.1,2,   195.6,2,  125.20,2,   32.47,2,    0.00,2,    2.30,2,-999.000,9,-999.000,9,-999.0000,9,  -999.0,9,  -999.0,9,-999.0000,9,  -999.00,-999.000,9,-999.000,9,-999.000,9,   1.1848,2,-999.000,9, -999.00,9, -999.00,-999.000,9,-999.000, -999.00,9, -999.00,9, -32.3749, 113.4215,-999.000,-999.000,20090511,       0448
33RR20090320,        I05,     188,          1,          1,          1,2,20090511,       0444,   -32.3749,   113.4215,       4583,  4650.0,   1.1331,  34.7121,2,  34.7128,2,    198.4,2,   198.5,2,  125.00,2,   32.46,2,    0.01,2,    2.29,2,-999.000,9,-999.000,9,-999.0000,9,  2278.3,6,  2388.2,2,   7.6956,2,    20.00,-999.000,9,-999.000,9,-999.000,9,   1.1343,2,-999.000,9, -999.00,9, -999.00,-999.000,9,-999.000, -999.00,9, -999.00,9, -32.3749, 113.4216,-999.000,-999.000,20090511,       0444