BOTTLE,20220814CCHSIOAMB
EXPOCODE,SECT_ID,STNNBR,CASTNO,SAMPNO,BTLNBR,BTLNBR_FLAG_W,DATE,TIME,LATITUDE,LONGITUDE,DEPTH,CTDPRS,CTDTMP,CTDSAL,CTDSAL_FLAG_W,SALNTY,SALNTY_FLAG_W,CTDOXY,CTDOXY_FLAG_W,OXYGEN,OXYGEN_FLAG_W,SILCAT,SILCAT_FLAG_W,NITRAT,NITRAT_FLAG_W,NITRIT,NITRIT_FLAG_W,PHSPHT,PHSPHT_FLAG_W,CFC-11,CFC-11_FLAG_W,CFC-12,CFC-12_FLAG_W,SF6,SF6_FLAG_W,TCARBN,TCARBN_FLAG_W,ALKALI,ALKALI_FLAG_W,PH_TOT,PH_TOT_FLAG_W,PH_TMP,TRITUM,TRITUM_FLAG_W,HELIUM,HELIUM_FLAG_W,DELHE3,DELHE3_FLAG_W,REFTMP,REFTMP_FLAG_W,DELC13,DELC13_FLAG_W,DELC14,DELC14_FLAG_W,C14ERR,NEON,NEON_FLAG_W,NEONER,DOC,DOC_FLAG_W,TDN,TDN_FLAG_W,BTL_LAT,BTL_LON,HELIER,DELHER,BTL_DATE,BTL_TIME
,,,,,,,,,,,METERS,DBAR,ITS-90,PSS-78,,PSS-78,,UMOL/KG,,UMOL/KG,,UMOL/KG,,UMOL/KG,,UMOL/KG,,UMOL/KG,,PMOL/KG,,PMOL/KG,,FMOL/KG,,UMOL/KG,,UMOL/KG,,,,DEG C,TU,,NMOL/KG,,PERCNT,,DEG C,,/MILLE,,/MILLE,,/MILLE,NMOL/KG,,NMOL/KG,UMOL/KG,,UMOL/KG,,,,NMOL/KG,PERCNT,,
33RR20090320,        I05,      90,          1,         36,         36,2,20090416,       0649,   -33.9996,    67.9812,       4529,     4.6,  20.1290,  35.6173,2,  35.6175,2,    227.3,2,   227.5,2,    1.50,2,    0.09,2,    0.00,2,    0.14,2,   2.175,6,   1.307,6,   1.1870,6,  2060.1,6,  2340.1,2,   8.0790,2,    20.00,-999.000,9,-999.000,9,-999.000,9,  20.1288,2,-999.000,9, -999.00,9, -999.00,-999.000,9,-999.000, -999.00,9, -999.00,9, -34.0004,  67.9815,-999.000,-999.000,20090416,       0847
33RR20090320,        I05,      90,          1,         35,         35,2,20090416,       0649,   -33.9996,    67.9812,       4529,    34.9,  20.0948,  35.6134,2,  35.6139,2,    227.9,2,   228.2,2,    1.49,2,    0.10,2,    0.00,2,    0.14,2,-999.000,9,-999.000,9,-999.0000,9,  2062.0,2,  2340.4,2,   8.0792,2,    20.00,-999.000,9,-999.000,9,-999.000,9,  20.0935,2,-999.000,9, -999.00,9, -999.00,-999.000,9,-999.000, -999.00,9, -999.00,9, -34.0004,  67.9815,-999.000,-999.000,20090416,       0845
33RR20090320,        I05,      90,          1,         34,         34,2,20090416,       0649,   -33.9996,    67.9812,       4529,    61.7,  20.0792,  35.6309,2,  35.6317,2,    229.4,2,   227.8,2,    1.48,2,    0.10,2,    0.00,2,    0.14,2,-999.000,9,-999.000,9,-999.0000,9,  2061.6,2,  2340.7,2,   8.0803,2,    20.00,-999.000,9,-999.000,9,-999.000,9,  20.0755,2,-999.000,9, -999.00,9, -999.00,-999.000,9,-999.000, -999.00,9, -999.00,9, -34.0005,  67.9814,-999.000,-999.000,20090416,       0844
33RR20090320,        I05,      90,          1,         33,         33,2,20090416,       0649,   -33.9996,    67.9812,       4529,    85.7,  16.6893,  35.5369,2,  35.5409,2,    252.4,2,   252.3,2,    1.47,2,    0.10,2,    0.00,2,    0.17,2,-999.000,9,-999.000,9,-999.0000,9,  2068.1,2,  2336.9,2,   8.0611,2,    20.00,-999.000,9,-999.000,9,-999.000,9,  16.6270,2,-999.000,9, -999.00,9, -999.00,-999.000,9,-999.000, -999.00,9, -999.00,9, -34.0005,  67.9814,-999.000,-999.000,20090416,       0842
33RR20090320,        I05,      90,          1,         32,         32,2,20090416,       0649,   -33.9996,    67.9812,       4529,   116.2,  15.4754,  35.4775,2,  35.4809,2,    238.0,2,   237.1,2,    1.69,2,    0.47,2,    0.06,2,    0.27,2,-999.000,9,-999.000,9,-999.0000,9,  -999.0,9,  -999.0,9,-999.0000,9,  -999.00,-999.000,9,-999.000,9,-999.000,9,  15.4859,2,-999.000,9, -999.00,9, -999.00,-999.000,9,-999.000, -999.00,9, -999.00,9, -34.0005,  67.9814,-999.000,-999.000,20090416,       0840
33RR20090320,        I05,      90,          1,         31,         31,2,20090416,       0649,   -33.9996,    67.9812,       4529,   167.1,  13.9867,  35.3148,2,  35.3187,2,    229.4,2,   229.6,2,    2.79,2,    5.72,2,    0.01,2,    0.52,2,   2.919,2,   1.686,2,   1.4470,2,  2103.5,2,  2322.3,2,   7.9699,2,    20.00,-999.000,9,-999.000,9,-999.000,9,  13.9765,2,-999.000,9, -999.00,9, -999.00,-999.000,9,-999.000, -999.00,9, -999.00,9, -34.0005,  67.9813,-999.000,-999.000,20090416,       0839
33RR20090320,        I05,      90,          1,         30,         30,2,20090416,       0649,   -33.9996,    67.9812,       4529,   216.1,  13.3134,  35.2518,2,  35.2546,2,    231.3,2,   231.6,2,    3.45,2,    7.76,2,    0.00,2,    0.63,2,-999.000,9,-999.000,9,-999.0000,9,  -999.0,9,  -999.0,9,-999.0000,9,  -999.00,-999.000,9,-999.000,9,-999.000,9,  13.3140,2,-999.000,9, -999.00,9, -999.00,-999.000,9,-999.000, -999.00,9, -999.00,9, -34.0004,  67.9813,-999.000,-999.000,20090416,       0837
33RR20090320,        I05,      90,          1,         29,         29,2,20090416,       0649,   -33.9996,    67.9812,       4529,   266.8,  13.0388,  35.2279,2,  35.2277,2,    233.0,2,   233.0,2,    3.67,2,    8.44,2,    0.00,2,    0.67,2,-999.000,9,-999.000,9,-999.0000,9,  2109.2,2,  2317.9,2,   7.9461,2,    20.00,-999.000,9,-999.000,9,-999.000,9,  13.0370,2,-999.000,9, -999.00,9, -999.00,-999.000,9,-999.000, -999.00,9, -999.00,9, -34.0004,  67.9814,-999.000,-999.000,20090416,       0834
33RR20090320,        I05,      90,          1,         28,         28,2,20090416,       0649,   -33.9996,    67.9812,       4529,   316.4,  12.7361,  35.1882,2,  35.1881,2,    233.9,2,   233.2,2,    3.88,2,    9.22,2,    0.00,2,    0.71,2,-999.000,9,-999.000,9,-999.0000,9,  -999.0,9,  -999.0,9,-999.0000,9,  -999.00,-999.000,9,-999.000,9,-999.000,9,  12.7339,2,-999.000,9, -999.00,9, -999.00,-999.000,9,-999.000, -999.00,9, -999.00,9, -34.0003,  67.9814,-999.000,-999.000,20090416,       0832
33RR20090320,        I05,      90,          1,         27,         27,2,20090416,       0649,   -33.9996,    67.9812,       4529,   366.9,  12.4032,  35.1369,2,  35.1361,2,    234.2,2,   234.7,2,    4.10,2,    9.96,2,    0.00,2,    0.76,2,   3.169,2,   1.766,2,   1.2850,2,  2111.7,2,  2314.0,2,   7.9312,2,    20.00,-999.000,9,-999.000,9,-999.000,9,  12.4002,2,-999.000,9, -999.00,9, -999.00,-999.000,9,-999.000, -999.00,9, -999.00,9, -34.0002,  67.9816,-999.000,-999.000,20090416,       0830
33RR20090320,        I05,      90,          1,         26,         26,2,20090416,       0649,   -33.9996,    67.9812,       4529,   416.7,  12.1718,  35.0999,2,  35.1001,2,    235.0,2,   234.1,2,    4.09,2,   10.42,2,    0.00,2,    0.79,2,-999.000,9,-999.000,9,-999.0000,9,  -999.0,9,  -999.0,9,-999.0000,9,  -999.00,-999.000,9,-999.000,9,-999.000,9,  12.1709,2,-999.000,9, -999.00,9, -999.00,-999.000,9,-999.000, -999.00,9, -999.00,9, -34.0001,  67.9817,-999.000,-999.000,20090416,       0828
33RR20090320,        I05,      90,          1,         25,         25,2,20090416,       0649,   -33.9996,    67.9812,       4529,   467.1,  11.9245,  35.0607,2,  35.0613,2,    233.4,2,   233.5,2,    4.30,2,   11.11,2,    0.00,2,    0.83,2,-999.000,9,-999.000,9,-999.0000,9,  2113.9,2,  2310.6,2,   7.9181,2,    20.00,-999.000,9,-999.000,9,-999.000,9,  11.9246,2,-999.000,9, -999.00,9, -999.00,-999.000,9,-999.000, -999.00,9, -999.00,9, -33.9999,  67.9818,-999.000,-999.000,20090416,       0825
33RR20090320,        I05,      90,          1,         24,         24,2,20090416,       0649,   -33.9996,    67.9812,       4529,   537.0,  11.4863,  34.9965,2,  34.9967,2,    230.2,2,   230.2,2,    4.52,2,   12.31,2,    0.00,2,    0.92,2,-999.000,9,-999.000,9,-999.0000,9,  -999.0,9,  -999.0,9,-999.0000,9,  -999.00,-999.000,9,-999.000,9,-999.000,9,  11.4857,2,-999.000,9, -999.00,9, -999.00,-999.000,9,-999.000, -999.00,9, -999.00,9, -33.9999,  67.9819,-999.000,-999.000,20090416,       0822
33RR20090320,        I05,      90,          1,         23,         23,2,20090416,       0649,   -33.9996,    67.9812,       4529,   636.7,  10.6280,  34.8734,2,  34.8710,2,    226.9,2,   226.6,2,    5.41,2,   14.55,2,    0.00,2,    1.06,2,   3.332,2,   1.760,2,   1.0310,2,  2123.7,2,  2302.2,2,   7.8779,2,    20.00,-999.000,9,-999.000,9,-999.000,9,  10.6260,2,-999.000,9, -999.00,9, -999.00,-999.000,9,-999.000, -999.00,9, -999.00,9, -33.9999,  67.9819,-999.000,-999.000,20090416,       0819
33RR20090320,        I05,      90,          1,         22,         22,2,20090416,       0649,   -33.9996,    67.9812,       4529,   737.8,   9.6379,  34.7421,2,  34.7416,2,    217.6,2,   217.8,2,    7.40,2,   17.57,2,    0.00,2,    1.26,2,-999.000,9,-999.000,9,-999.0000,9,  -999.0,9,  -999.0,9,-999.0000,9,  -999.00,-999.000,9,-999.000,9,-999.000,9,   9.6393,2,-999.000,9, -999.00,9, -999.00,-999.000,9,-999.000, -999.00,9, -999.00,9, -33.9999,  67.9818,-999.000,-999.000,20090416,       0816
33RR20090320,        I05,      90,          1,         21,         21,2,20090416,       0649,   -33.9996,    67.9812,       4529,   836.4,   8.2835,  34.5952,2,  34.5949,2,    209.5,2,   208.4,2,   11.64,2,   21.71,2,    0.00,2,    1.53,2,-999.000,9,-999.000,9,-999.0000,9,  -999.0,9,  -999.0,9,-999.0000,9,  -999.00,-999.000,9,-999.000,9,-999.000,9,   8.2763,2,-999.000,9, -999.00,9, -999.00,-999.000,9,-999.000, -999.00,9, -999.00,9, -34.0000,  67.9818,-999.000,-999.000,20090416,       0813
33RR20090320,        I05,      90,          1,         20,         20,2,20090416,       0649,   -33.9996,    67.9812,       4529,   937.2,   6.7474,  34.4652,2,  34.4656,2,    205.0,2,   204.3,2,   17.90,2,   25.75,2,    0.00,2,    1.82,2,-999.000,9,-999.000,9,-999.0000,9,  -999.0,9,  -999.0,9,-999.0000,9,  -999.00,-999.000,9,-999.000,9,-999.000,9,   6.7485,2,-999.000,9, -999.00,9, -999.00,-999.000,9,-999.000, -999.00,9, -999.00,9, -33.9999,  67.9818,-999.000,-999.000,20090416,       0809
33RR20090320,        I05,      90,          1,         19,         19,2,20090416,       0649,   -33.9996,    67.9812,       4529,  1040.1,   5.3436,  34.3788,2,  34.3812,2,    204.7,2,   205.6,2,   24.38,2,   28.65,2,    0.00,2,    2.03,2,   2.227,6,   1.092,6,   0.4280,6,  2180.3,2,  2297.4,2,   7.7176,2,    20.00,-999.000,9,-999.000,9,-999.000,9,   5.3740,2,-999.000,9, -999.00,9, -999.00,-999.000,9,-999.000, -999.00,9, -999.00,9, -33.9998,  67.9817,-999.000,-999.000,20090416,       0806
33RR20090320,        I05,      90,          1,         18,         18,2,20090416,       0649,   -33.9996,    67.9812,       4529,  1140.2,   4.4957,  34.3614,2,  34.3616,2,    202.2,2,   202.2,2,   32.46,2,   30.55,2,    0.00,2,    2.18,2,-999.000,9,-999.000,9,-999.0000,9,  -999.0,9,  -999.0,9,-999.0000,9,  -999.00,-999.000,9,-999.000,9,-999.000,9,   4.5119,2,-999.000,9, -999.00,9, -999.00,-999.000,9,-999.000, -999.00,9, -999.00,9, -33.9999,  67.9816,-999.000,-999.000,20090416,       0803
33RR20090320,        I05,      90,          1,         17,         17,2,20090416,       0649,   -33.9996,    67.9812,       4529,  1237.9,   3.8742,  34.3845,2,  34.3832,2,    195.7,2,   194.1,2,   41.68,2,   32.14,2,    0.00,2,    2.29,2,-999.000,9,-999.000,9,-999.0000,9,  -999.0,9,  -999.0,9,-999.0000,9,  -999.00,-999.000,9,-999.000,9,-999.000,9,   3.8762,2,-999.000,9, -999.00,9, -999.00,-999.000,9,-999.000, -999.00,9, -999.00,9, -33.9999,  67.9816,-999.000,-999.000,20090416,       0801
33RR20090320,        I05,      90,          1,         16,         16,2,20090416,       0649,   -33.9996,    67.9812,       4529,  1341.2,   3.5299,  34.4272,2,  34.4272,2,    184.4,2,   183.8,2,   50.47,2,   33.14,2,    0.00,2,    2.36,2,-999.000,9,-999.000,9,-999.0000,9,  -999.0,9,  -999.0,9,-999.0000,9,  -999.00,-999.000,9,-999.000,9,-999.000,9,   3.5347,2,-999.000,9, -999.00,9, -999.00,-999.000,9,-999.000, -999.00,9, -999.00,9, -33.9998,  67.9815,-999.000,-999.000,20090416,       0758
33RR20090320,        I05,      90,          1,         15,         15,2,20090416,       0649,   -33.9996,    67.9812,       4529,  1437.1,   3.2446,  34.4783,2,  34.4770,2,    176.7,2,   176.9,2,   58.81,2,   33.72,2,    0.00,2,    2.42,2,   0.630,2,   0.299,2,   0.1020,2,  2233.6,2,  2327.4,2,   7.6455,2,    20.00,-999.000,9,-999.000,9,-999.000,9,   3.2420,2,-999.000,9, -999.00,9, -999.00,-999.000,9,-999.000, -999.00,9, -999.00,9, -33.9998,  67.9814,-999.000,-999.000,20090416,       0755
33RR20090320,        I05,      90,          1,         14,         14,2,20090416,       0649,   -33.9996,    67.9812,       4529,  1531.3,   3.0173,  34.5288,2,  34.5273,2,    171.8,2,   171.4,2,   64.46,2,   33.88,2,    0.00,2,    2.43,2,-999.000,9,-999.000,9,-999.0000,9,  -999.0,9,  -999.0,9,-999.0000,9,  -999.00,-999.000,9,-999.000,9,-999.000,9,   3.0180,2,-999.000,9, -999.00,9, -999.00,-999.000,9,-999.000, -999.00,9, -999.00,9, -33.9997,  67.9814,-999.000,-999.000,20090416,       0752
33RR20090320,        I05,      90,          1,         13,         13,2,20090416,       0649,   -33.9996,    67.9812,       4529,  1674.7,   2.7887,  34.5902,2,  34.5894,2,    171.0,2,   171.0,2,   70.11,2,   33.56,2,    0.00,2,    2.40,2,-999.000,9,-999.000,9,-999.0000,9,  -999.0,9,  -999.0,9,-999.0000,9,  -999.00,-999.000,9,-999.000,9,-999.000,9,   2.7906,2,-999.000,9, -999.00,9, -999.00,-999.000,9,-999.000, -999.00,9, -999.00,9, -33.9998,  67.9815,-999.000,-999.000,20090416,       0749
33RR20090320,        I05,      90,          1,         12,         12,2,20090416,       0649,   -33.9996,    67.9812,       4529,  1875.2,   2.5695,  34.6563,2,  34.6560,2,    175.1,2,   175.5,2,   75.09,2,   32.55,2,    0.00,2,    2.32,2,-999.000,9,-999.000,9,-999.0000,9,  -999.0,9,  -999.0,9,-999.0000,9,  -999.00,-999.000,9,-999.000,9,-999.000,9,   2.5699,2,-999.000,9, -999.00,9, -999.00,-999.000,9,-999.000, -999.00,9, -999.00,9, -33.9999,  67.9814,-999.000,-999.000,20090416,       0744
33RR20090320,        I05,      90,          1,         11,         11,2,20090416,       0649,   -33.9996,    67.9812,       4529,  2099.2,   2.3407,  34.7056,2,  34.7049,2,    180.5,2,   180.9,2,   82.34,2,   31.81,2,    0.00,2,    2.27,2,   0.043,2,   0.021,2,   0.0170,2,  2249.4,2,  2348.9,2,   7.6718,2,    20.00,-999.000,9,-999.000,9,-999.000,9,   2.3408,2,-999.000,9, -999.00,9, -999.00,-999.000,9,-999.000, -999.00,9, -999.00,9, -34.0001,  67.9813,-999.000,-999.000,20090416,       0740
33RR20090320,        I05,      90,          1,         10,         10,2,20090416,       0649,   -33.9996,    67.9812,       4529,  2347.2,   2.1078,  34.7245,2,  34.7232,2,    177.6,2,   177.5,2,   98.96,2,   32.38,2,    0.00,2,    2.32,2,-999.000,9,-999.000,9,-999.0000,9,  -999.0,9,  -999.0,9,-999.0000,9,  -999.00,-999.000,9,-999.000,9,-999.000,9,   2.1071,2,-999.000,9, -999.00,9, -999.00,-999.000,9,-999.000, -999.00,9, -999.00,9, -34.0000,  67.9814,-999.000,-999.000,20090416,       0734
33RR20090320,        I05,      90,          1,          9,          9,2,20090416,       0649,   -33.9996,    67.9812,       4529,  2604.4,   1.9592,  34.7304,2,  34.7299,2,    177.1,2,   176.2,2,  107.39,2,   32.70,2,    0.00,2,    2.36,2,-999.000,9,-999.000,9,-999.0000,9,  -999.0,9,  -999.0,9,-999.0000,9,  -999.00,-999.000,9,-999.000,9,-999.000,9,   1.9598,2,-999.000,9, -999.00,9, -999.00,-999.000,9,-999.000, -999.00,9, -999.00,9, -33.9997,  67.9815,-999.000,-999.000,20090416,       0729
33RR20090320,        I05,      90,          1,          8,          8,2,20090416,       0649,   -33.9996,    67.9812,       4529,  2855.3,   1.8287,  34.7305,2,  34.7305,2,    177.5,2,   176.9,2,  112.64,2,   32.91,2,    0.00,2,    2.37,2,-999.000,9,-999.000,9,-999.0000,9,  -999.0,9,  -999.0,9,-999.0000,9,  -999.00,-999.000,9,-999.000,9,-999.000,9,   1.8279,2,-999.000,9, -999.00,9, -999.00,-999.000,9,-999.000, -999.00,9, -999.00,9, -33.9998,  67.9813,-999.000,-999.000,20090416,       0724
33RR20090320,        I05,      90,          1,          7,          7,2,20090416,       0649,   -33.9996,    67.9812,       4529,  3124.2,   1.7088,  34.7295,2,  34.7291,2,    179.9,2,   179.2,2,  116.28,2,   32.97,2,    0.00,2,    2.38,2,   0.009,2,   0.004,2,   0.0340,2,  2278.5,2,  2384.9,2,   7.6783,2,    20.00,-999.000,9,-999.000,9,-999.000,9,   1.7092,2,-999.000,9, -999.00,9, -999.00,-999.000,9,-999.000, -999.00,9, -999.00,9, -33.9997,  67.9813,-999.000,-999.000,20090416,       0719
33RR20090320,        I05,      90,          1,          6,          6,2,20090416,       0649,   -33.9996,    67.9812,       4529,  3428.1,   1.5331,  34.7245,2,  34.7242,2,    184.4,2,   184.1,2,  119.47,2,   32.91,2,    0.00,2,    2.37,2,-999.000,9,-999.000,9,-999.0000,9,  -999.0,9,  -999.0,9,-999.0000,9,  -999.00,-999.000,9,-999.000,9,-999.000,9,   1.5327,2,-999.000,9, -999.00,9, -999.00,-999.000,9,-999.000, -999.00,9, -999.00,9, -33.9996,  67.9814,-999.000,-999.000,20090416,       0713
33RR20090320,        I05,      90,          1,          5,          5,2,20090416,       0649,   -33.9996,    67.9812,       4529,  3733.7,   1.2629,  34.7155,2,  34.7160,2,    192.5,2,   193.2,2,  123.12,2,   32.75,2,    0.00,2,    2.35,2,-999.000,9,-999.000,9,-999.0000,9,  -999.0,9,  -999.0,9,-999.0000,9,  -999.00,-999.000,9,-999.000,9,-999.000,9,   1.2650,2,-999.000,9, -999.00,9, -999.00,-999.000,9,-999.000, -999.00,9, -999.00,9, -33.9995,  67.9815,-999.000,-999.000,20090416,       0707
33RR20090320,        I05,      90,          1,          4,          4,2,20090416,       0649,   -33.9996,    67.9812,       4529,  4037.6,   0.8928,  34.7023,2,  34.7026,2,    204.2,2,   205.2,2,  127.23,2,   32.60,2,    0.00,2,    2.33,2,   0.031,2,   0.015,2,   0.0740,2,  -999.0,9,  -999.0,9,-999.0000,9,  -999.00,-999.000,9,-999.000,9,-999.000,9,   0.8926,2,-999.000,9, -999.00,9, -999.00,-999.000,9,-999.000, -999.00,9, -999.00,9, -33.9996,  67.9814,-999.000,-999.000,20090416,       0701
33RR20090320,        I05,      90,          1,          3,          3,2,20090416,       0649,   -33.9996,    67.9812,       4529,  4342.9,   0.7147,  34.6954,2,  34.6948,2,    211.0,2,   210.5,2,  129.50,2,   32.59,2,    0.00,2,    2.33,2,-999.000,9,-999.000,9,-999.0000,9,  -999.0,9,  -999.0,9,-999.0000,9,  -999.00,-999.000,9,-999.000,9,-999.000,9,   0.7153,2,-999.000,9, -999.00,9, -999.00,-999.000,9,-999.000, -999.00,9, -999.00,9, -33.9997,  67.9812,-999.000,-999.000,20090416,       0655
33RR20090320,        I05,      90,          1,          2,          2,2,20090416,       0649,   -33.9996,    67.9812,       4529,  4469.4,   0.6982,  34.6939,2,  34.6932,2,    212.2,2,   211.5,2,  130.63,2,   32.49,2,    0.00,2,    2.33,2,-999.000,9,-999.000,9,-999.0000,9,  -999.0,9,  -999.0,9,-999.0000,9,  -999.00,-999.000,9,-999.000,9,-999.000,9,   0.6980,2,-999.000,9, -999.00,9, -999.00,-999.000,9,-999.000, -999.00,9, -999.00,9, -33.9997,  67.9812,-999.000,-999.000,20090416,       0652
33RR20090320,        I05,      90,          1,          1,          1,2,20090416,       0649,   -33.9996,    67.9812,       4529,  4592.0,   0.7070,  34.6932,2,  34.6936,2,    212.1,2,   211.7,2,  130.61,2,   32.54,2,    0.00,2,    2.33,2,   0.052,2,   0.025,2,   0.0530,2,  2265.8,6,  2372.3,2,   7.6838,2,    20.00,-999.000,9,-999.000,9,-999.000,9,   0.7064,2,-999.000,9, -999.00,9, -999.00,-999.000,9,-999.000, -999.00,9, -999.00,9, -33.9996,  67.9812,-999.000,-999.000,20090416,       0649