BOTTLE,20220814CCHSIOAMB
EXPOCODE,SECT_ID,STNNBR,CASTNO,SAMPNO,BTLNBR,BTLNBR_FLAG_W,DATE,TIME,LATITUDE,LONGITUDE,DEPTH,CTDPRS,CTDTMP,CTDSAL,CTDSAL_FLAG_W,SALNTY,SALNTY_FLAG_W,CTDOXY,CTDOXY_FLAG_W,OXYGEN,OXYGEN_FLAG_W,SILCAT,SILCAT_FLAG_W,NITRAT,NITRAT_FLAG_W,NITRIT,NITRIT_FLAG_W,PHSPHT,PHSPHT_FLAG_W,CFC-11,CFC-11_FLAG_W,CFC-12,CFC-12_FLAG_W,SF6,SF6_FLAG_W,TCARBN,TCARBN_FLAG_W,ALKALI,ALKALI_FLAG_W,PH_TOT,PH_TOT_FLAG_W,PH_TMP,TRITUM,TRITUM_FLAG_W,HELIUM,HELIUM_FLAG_W,DELHE3,DELHE3_FLAG_W,REFTMP,REFTMP_FLAG_W,DELC13,DELC13_FLAG_W,DELC14,DELC14_FLAG_W,C14ERR,NEON,NEON_FLAG_W,NEONER,DOC,DOC_FLAG_W,TDN,TDN_FLAG_W,BTL_LAT,BTL_LON,HELIER,DELHER,BTL_DATE,BTL_TIME
,,,,,,,,,,,METERS,DBAR,ITS-90,PSS-78,,PSS-78,,UMOL/KG,,UMOL/KG,,UMOL/KG,,UMOL/KG,,UMOL/KG,,UMOL/KG,,PMOL/KG,,PMOL/KG,,FMOL/KG,,UMOL/KG,,UMOL/KG,,,,DEG C,TU,,NMOL/KG,,PERCNT,,DEG C,,/MILLE,,/MILLE,,/MILLE,NMOL/KG,,NMOL/KG,UMOL/KG,,UMOL/KG,,,,NMOL/KG,PERCNT,,
33RR20090320,        I05,      91,          2,         36,         36,2,20090416,       1357,   -34.0006,    68.5554,       4532,     4.7,  20.1649,  35.6343,2,  35.6336,2,    226.0,2,   227.0,2,    4.33,2,    0.09,2,    0.00,2,    0.14,2,   2.149,2,   1.297,2,   1.2020,2,  2061.3,6,  2339.8,2,   8.0823,2,    20.00,-999.000,9,-999.000,9,-999.000,9,  20.1635,2,   1.312,2,   54.77,2,     3.8,-999.000,9,-999.000,   65.85,2,    3.75,2, -34.0005,  68.5546,-999.000,-999.000,20090416,       1557
33RR20090320,        I05,      91,          2,         35,         35,2,20090416,       1357,   -34.0006,    68.5554,       4532,    21.4,  20.1702,  35.6340,2,  35.6334,2,    227.7,2,   227.0,2,    4.21,2,    0.09,2,    0.00,2,    0.14,2,   2.139,2,   1.286,2,   1.1410,2,  2060.1,2,  2337.2,2,   8.0818,2,    20.00,-999.000,9,-999.000,9,-999.000,9,  20.1679,2,-999.000,9, -999.00,9, -999.00,-999.000,9,-999.000,   64.76,2,    3.91,2, -34.0005,  68.5546,-999.000,-999.000,20090416,       1556
33RR20090320,        I05,      91,          2,         34,         34,2,20090416,       1357,   -34.0006,    68.5554,       4532,    40.5,  20.1591,  35.6334,2,  35.6332,2,    227.8,2,   227.3,2,    3.88,2,    0.04,2,    0.00,2,    0.13,2,   2.146,2,   1.298,2,   1.2750,2,  2060.1,2,  2338.1,2,   8.0820,2,    20.00,-999.000,9,-999.000,9,-999.000,9,  20.1619,2,-999.000,9, -999.00,9, -999.00,-999.000,9,-999.000,   64.69,2,    3.88,2, -34.0004,  68.5545,-999.000,-999.000,20090416,       1554
33RR20090320,        I05,      91,          2,         33,         33,2,20090416,       1357,   -34.0006,    68.5554,       4532,    66.0,  17.7915,  35.4878,2,  35.5314,2,    244.3,2,   244.1,2,    3.77,2,    0.04,2,    0.00,2,    0.15,2,   2.420,2,   1.434,2,   1.3000,2,  2062.4,2,  2335.3,2,   8.0714,2,    20.00,-999.000,9,-999.000,9,-999.000,9,  17.8897,2,   1.411,2,   48.71,2,     3.2,-999.000,9,-999.000,   62.74,2,    4.34,2, -34.0004,  68.5545,-999.000,-999.000,20090416,       1553
33RR20090320,        I05,      91,          2,         32,         32,2,20090416,       1357,   -34.0006,    68.5554,       4532,    90.0,  15.6713,  35.3372,2,  35.3272,2,    254.2,2,   251.6,2,    4.10,2,    0.57,2,    0.05,2,    0.24,2,   2.716,2,   1.594,2,   1.4100,2,  2071.6,2,  2322.9,2,   8.0396,2,    20.00,-999.000,9,-999.000,9,-999.000,9,  15.7104,2,-999.000,9, -999.00,9, -999.00,-999.000,9,-999.000,   56.97,2,    4.48,2, -34.0004,  68.5545,-999.000,-999.000,20090416,       1551
33RR20090320,        I05,      91,          2,         31,         31,2,20090416,       1357,   -34.0006,    68.5554,       4532,   135.8,  13.7525,  35.2825,2,  35.2832,2,    232.8,2,   233.5,2,    4.63,2,    6.21,2,    0.02,2,    0.55,2,   2.952,2,   1.695,2,   1.4150,2,  2105.1,2,  2319.6,2,   7.9668,2,    20.00,-999.000,9,-999.000,9,-999.000,9,  13.7520,2,   1.018,2,   48.41,2,     3.2,-999.000,9,-999.000,   54.47,2,    9.67,2, -34.0004,  68.5546,-999.000,-999.000,20090416,       1549
33RR20090320,        I05,      91,          2,         30,         30,2,20090416,       1357,   -34.0006,    68.5554,       4532,   184.7,  13.5011,  35.3078,2,  35.3073,2,    236.9,2,   237.5,2,    5.40,2,    7.06,2,    0.01,2,    0.59,2,   2.933,2,   1.674,2,   1.3930,2,  2106.2,2,  2317.9,2,   7.9691,2,    20.00,-999.000,9,-999.000,9,-999.000,9,  13.5004,2,-999.000,9, -999.00,9, -999.00,-999.000,9,-999.000,   51.85,2,   10.36,2, -34.0005,  68.5546,-999.000,-999.000,20090416,       1547
33RR20090320,        I05,      91,          2,         29,         29,2,20090416,       1357,   -34.0006,    68.5554,       4532,   234.2,  13.2376,  35.2712,2,  35.2714,2,    237.4,2,   237.4,2,    5.29,2,    7.65,2,    0.01,2,    0.62,2,   2.969,6,   1.697,6,   1.3400,6,  2107.0,2,  2317.5,2,   7.9589,2,    20.00,-999.000,9,-999.000,9,-999.000,9,  13.2376,2,   0.939,2,   47.89,2,     3.1,-999.000,9,-999.000,   50.87,2,   10.68,2, -34.0006,  68.5546,-999.000,-999.000,20090416,       1545
33RR20090320,        I05,      91,          2,         28,         28,2,20090416,       1357,   -34.0006,    68.5554,       4532,   286.0,  13.0424,  35.2465,2,  35.2499,2,    236.9,2,   237.2,2,    5.40,2,    8.18,2,    0.00,2,    0.66,2,   2.992,2,   1.708,2,   1.3890,2,  2109.5,2,  2315.5,2,   7.9543,2,    20.00,-999.000,9,-999.000,9,-999.000,9,  13.0467,2,    0.43,4,    39.3,2,     2.8,-999.000,9,-999.000,   48.60,2,   11.53,2, -34.0007,  68.5546,-999.000,-999.000,20090416,       1543
33RR20090320,        I05,      91,          2,         27,         27,2,20090416,       1357,   -34.0006,    68.5554,       4532,   333.5,  12.6831,  35.1900,2,  35.1912,2,    236.6,2,   235.8,2,    4.84,2,    9.17,2,    0.00,2,    0.72,2,   3.043,2,   1.717,2,   1.2980,2,  2112.8,2,  2314.1,2,-999.0000,5,    20.00,-999.000,9,-999.000,9,-999.000,9,  12.6871,2,   1.022,2,   48.46,2,     3.5,-999.000,9,-999.000,   47.59,2,   11.27,2, -34.0007,  68.5546,-999.000,-999.000,20090416,       1542
33RR20090320,        I05,      91,          2,         26,         26,2,20090416,       1357,   -34.0006,    68.5554,       4532,   384.5,  12.4424,  35.1571,2,  35.1567,2,    238.8,2,   240.0,2,    4.73,2,    9.33,2,    0.00,2,    0.73,2,   3.100,2,   1.757,2,   1.3430,2,  2113.0,2,  2311.7,2,   7.9396,2,    20.00,-999.000,9,-999.000,9,-999.000,9,  12.4435,2,   1.047,2,   52.59,2,     3.2,-999.000,9,-999.000,   46.53,2,   11.88,2, -34.0007,  68.5546,-999.000,-999.000,20090416,       1540
33RR20090320,        I05,      91,          2,         25,         25,2,20090416,       1357,   -34.0006,    68.5554,       4532,   466.0,  12.0221,  35.0804,2,  35.0827,2,    236.7,2,   235.8,2,    4.62,2,   10.65,2,    0.00,2,    0.82,2,   3.138,2,   1.739,2,   1.2720,2,  2116.7,2,  2307.2,2,   7.9247,2,    20.00,-999.000,9,-999.000,9,-999.000,9,  12.0079,2,   1.094,2,   49.29,2,       3,-999.000,9,-999.000,   45.53,2,   12.48,2, -34.0007,  68.5547,-999.000,-999.000,20090416,       1537
33RR20090320,        I05,      91,          2,         24,         24,2,20090416,       1357,   -34.0006,    68.5554,       4532,   565.8,  11.0356,  34.9256,2,  34.9232,2,    229.3,2,   228.7,2,    4.72,2,   13.52,2,    0.00,2,    1.00,2,   3.301,2,   1.775,2,   1.1110,2,  2126.1,2,  2301.1,2,   7.8893,2,    20.00,-999.000,9,-999.000,9,-999.000,9,  11.0358,2,   1.158,2,   48.97,2,     2.9,-999.000,9,-999.000,   44.72,2,   15.07,2, -34.0007,  68.5548,-999.000,-999.000,20090416,       1534
33RR20090320,        I05,      91,          2,         23,         23,2,20090416,       1357,   -34.0006,    68.5554,       4532,   665.2,  10.2308,  34.8168,2,  34.8206,2,    224.8,2,   224.2,2,    6.59,2,   15.62,2,    0.00,2,    1.13,2,   3.269,2,   1.720,2,   0.9610,2,  2132.8,2,  2298.7,2,   7.8655,2,    20.00,-999.000,9,-999.000,9,-999.000,9,  10.2349,2,   1.186,2,   45.74,2,       3,-999.000,9,-999.000,   43.80,2,   17.46,2, -34.0007,  68.5549,-999.000,-999.000,20090416,       1532
33RR20090320,        I05,      91,          2,         22,         22,2,20090416,       1357,   -34.0006,    68.5554,       4532,   765.4,   9.1141,  34.6793,2,  34.6804,2,    214.1,2,   213.8,2,    9.34,2,   19.26,2,    0.00,2,    1.38,2,   3.011,2,   1.544,2,   0.8110,2,  2146.7,2,  2293.7,2,   7.8234,2,    20.00,-999.000,9,-999.000,9,-999.000,9,   9.1172,2,   1.118,2,    30.6,2,     3.3,-999.000,9,-999.000,   42.72,2,   20.92,2, -34.0007,  68.5549,-999.000,-999.000,20090416,       1529
33RR20090320,        I05,      91,          2,         21,         21,2,20090416,       1357,   -34.0006,    68.5554,       4532,   865.2,   7.7798,  34.5498,2,  34.5578,2,    205.7,2,   205.3,2,   13.65,2,   23.10,2,    0.00,2,    1.63,2,   2.661,2,   1.334,2,   0.6480,2,  2161.5,2,  2292.6,2,   7.7805,2,    20.00,-999.000,9,-999.000,9,-999.000,9,   7.7996,2,   1.137,2,   10.13,2,     2.8,-999.000,9,-999.000,   42.92,2,   24.61,2, -34.0007,  68.5548,-999.000,-999.000,20090416,       1526
33RR20090320,        I05,      91,          2,         20,         20,2,20090416,       1357,   -34.0006,    68.5554,       4532,   965.9,   6.3665,  34.4379,2,  34.4371,2,    203.8,2,   204.2,2,   19.50,2,   26.70,2,    0.00,2,    1.88,2,   2.341,2,   1.162,2,   0.5310,2,  2174.9,2,  2290.7,2,   7.7394,2,    20.00,-999.000,9,-999.000,9,-999.000,9,   6.3636,2,   1.135,2,  -23.48,2,     2.9,-999.000,9,-999.000,   41.86,2,   28.72,2, -34.0007,  68.5547,-999.000,-999.000,20090416,       1524
33RR20090320,        I05,      91,          2,         19,         19,2,20090416,       1357,   -34.0006,    68.5554,       4532,  1065.0,   5.2414,  34.3796,2,  34.3808,2,    203.6,2,   203.4,2,   25.83,2,   29.09,2,    0.00,2,    2.06,2,   2.010,2,   0.990,2,   0.3650,2,  2187.6,2,  2295.2,2,   7.7141,2,    20.00,-999.000,9,-999.000,9,-999.000,9,   5.2540,2,   1.055,2,  -54.25,2,     2.9,-999.000,9,-999.000,   41.84,2,   31.00,2, -34.0007,  68.5548,-999.000,-999.000,20090416,       1521
33RR20090320,        I05,      91,          2,         18,         18,2,20090416,       1357,   -34.0006,    68.5554,       4532,  1167.2,   4.4193,  34.3635,2,  34.3635,2,    202.2,2,   201.2,2,   34.17,2,   30.84,2,    0.00,2,    2.20,2,   1.784,2,   0.867,2,   0.3440,2,  2199.2,2,  2300.4,2,   7.6921,2,    20.00,-999.000,9,-999.000,9,-999.000,9,   4.4204,2,   1.029,2,  -82.62,2,       4,-999.000,9,-999.000,   41.07,2,   32.27,2, -34.0006,  68.5548,-999.000,-999.000,20090416,       1519
33RR20090320,        I05,      91,          2,         17,         17,2,20090416,       1357,   -34.0006,    68.5554,       4532,  1266.8,   3.8080,  34.3915,2,  34.3920,2,    190.8,2,   192.2,2,   43.66,2,   32.38,2,    0.00,2,    2.32,2,   1.326,6,   0.642,6,   0.2340,6,  2215.3,2,  2308.3,2,   7.6699,2,    20.00,-999.000,9,-999.000,9,-999.000,9,   3.8087,2,     0.9,2,   -96.1,2,     3.1,-999.000,9,-999.000,   40.82,2,   33.59,2, -34.0005,  68.5550,-999.000,-999.000,20090416,       1516
33RR20090320,        I05,      91,          2,         16,         16,2,20090416,       1357,   -34.0006,    68.5554,       4532,  1368.5,   3.4837,  34.4352,2,  34.4342,2,    182.2,2,   182.3,2,   52.05,2,   33.29,2,    0.00,2,    2.39,2,   0.882,2,   0.423,2,   0.1760,2,  2228.3,2,  2317.5,2,   7.6544,2,    20.00,-999.000,9,-999.000,9,-999.000,9,   3.4884,2,   0.744,2, -117.28,2,     2.7,-999.000,9,-999.000,   40.39,2,   34.99,2, -34.0005,  68.5551,-999.000,-999.000,20090416,       1513
33RR20090320,        I05,      91,          2,         15,         15,2,20090416,       1357,   -34.0006,    68.5554,       4532,  1467.1,   3.1868,  34.4909,2,  34.4949,2,    175.1,2,   173.9,2,   61.14,2,   33.82,2,    0.00,2,    2.44,2,   0.546,2,   0.258,2,   0.1210,2,  2240.4,2,  2325.3,2,   7.6430,2,    20.00,-999.000,9,-999.000,9,-999.000,9,   3.1852,2,   0.642,2, -129.86,2,     2.4,-999.000,9,-999.000,   39.98,2,   35.13,2, -34.0005,  68.5552,-999.000,-999.000,20090416,       1510
33RR20090320,        I05,      91,          2,         14,         14,2,20090416,       1357,   -34.0006,    68.5554,       4532,  1569.3,   2.9854,  34.5368,2,  34.5375,2,    172.8,2,   171.2,2,   66.89,2,   33.87,2,    0.00,2,    2.44,2,   0.372,2,   0.176,2,   0.0210,2,  2247.3,6,  2331.5,2,   7.6407,2,    20.00,-999.000,9,-999.000,9,-999.000,9,   2.9846,2,   0.639,2, -135.92,2,     2.4,-999.000,9,-999.000,   39.31,2,   35.34,2, -34.0005,  68.5552,-999.000,-999.000,20090416,       1507
33RR20090320,        I05,      91,          2,         13,         13,2,20090416,       1357,   -34.0006,    68.5554,       4532,  1738.2,   2.7407,  34.6032,2,  34.6041,2,    172.6,2,   171.8,2,   72.65,2,   33.39,2,    0.00,2,    2.39,2,   0.210,2,   0.099,2,   0.0520,2,  2250.4,2,  2336.8,2,   7.6454,2,    20.00,-999.000,9,-999.000,9,-999.000,9,   2.7396,2,   0.605,2, -144.34,2,     2.7,-999.000,9,-999.000,   39.15,2,   35.45,2, -34.0007,  68.5549,-999.000,-999.000,20090416,       1503
33RR20090320,        I05,      91,          2,         12,         12,2,20090416,       1357,   -34.0006,    68.5554,       4532,  1934.1,   2.5058,  34.6732,2,  34.6732,2,    177.3,2,   177.1,2,   77.74,2,   32.27,2,    0.00,2,    2.31,2,   0.081,2,   0.036,2,   0.0220,2,  2249.6,2,  2343.7,2,   7.6607,2,    20.00,-999.000,9,-999.000,9,-999.000,9,   2.5056,2,   0.533,2, -148.87,2,     2.7,-999.000,9,-999.000,   39.57,2,   34.25,2, -34.0007,  68.5550,-999.000,-999.000,20090416,       1459
33RR20090320,        I05,      91,          2,         11,         11,2,20090416,       1357,   -34.0006,    68.5554,       4532,  2163.1,   2.2527,  34.7140,2,  34.7133,2,    179.0,2,   179.5,2,   89.40,2,   31.99,2,    0.00,2,    2.29,2,   0.020,2,   0.011,2,   0.0510,2,  2258.6,2,  2356.7,2,   7.6744,2,    20.00,-999.000,9,-999.000,9,-999.000,9,   2.2534,2,   0.557,2, -155.37,2,     3.1,-999.000,9,-999.000,   39.38,2,   33.71,2, -34.0006,  68.5550,-999.000,-999.000,20090416,       1454
33RR20090320,        I05,      91,          2,         10,         10,2,20090416,       1357,   -34.0006,    68.5554,       4532,  2415.9,   2.0793,  34.7253,2,  34.7257,2,    176.6,2,   177.0,2,  102.01,2,   32.47,2,    0.00,2,    2.34,2,   0.010,2,   0.005,2,   0.0000,2,  2271.1,2,  2370.2,2,   7.6764,2,    20.00,-999.000,9,-999.000,9,-999.000,9,   2.0791,2,   0.156,3, -160.38,2,     4.4,-999.000,9,-999.000,   39.74,2,   33.91,2, -34.0006,  68.5551,-999.000,-999.000,20090416,       1448
33RR20090320,        I05,      91,          2,          9,          9,2,20090416,       1357,   -34.0006,    68.5554,       4532,  2663.7,   1.9210,  34.7298,2,  34.7293,2,    176.1,2,   176.2,2,  110.56,2,   32.79,2,    0.00,2,    2.39,4,   0.009,2,   0.005,2,   0.0510,2,  2277.6,2,  2377.3,2,   7.6764,2,    20.00,-999.000,9,-999.000,9,-999.000,9,   1.9210,2,    0.46,2, -168.37,2,     2.4,-999.000,9,-999.000,   39.67,2,   34.69,2, -34.0006,  68.5553,-999.000,-999.000,20090416,       1442
33RR20090320,        I05,      91,          2,          8,          8,2,20090416,       1357,   -34.0006,    68.5554,       4532,  2911.4,   1.8052,  34.7299,2,  34.7297,2,    177.4,2,   177.0,2,  114.82,2,   33.06,2,    0.00,2,    2.38,2,   0.007,2,   0.002,2,   0.0500,2,  2281.4,2,  2381.1,2,   7.6766,2,    20.00,-999.000,9,-999.000,9,-999.000,9,   1.8055,2,   0.463,2, -173.94,2,     2.6,-999.000,9,-999.000,   40.13,2,   34.56,2, -34.0005,  68.5554,-999.000,-999.000,20090416,       1437
33RR20090320,        I05,      91,          2,          7,          7,2,20090416,       1357,   -34.0006,    68.5554,       4532,  3200.3,   1.6624,  34.7281,2,  34.7277,2,    180.6,2,   180.3,2,  118.83,2,   33.00,2,    0.00,2,    2.38,2,   0.007,6,   0.004,6,   0.0130,6,  2282.9,2,  2381.8,2,   7.6777,2,    20.00,-999.000,9,-999.000,9,-999.000,9,   1.6627,2,   0.485,2,  -168.7,2,     2.5,-999.000,9,-999.000,   40.05,2,   34.24,2, -34.0005,  68.5554,-999.000,-999.000,20090416,       1430
33RR20090320,        I05,      91,          2,          6,          6,2,20090416,       1357,   -34.0006,    68.5554,       4532,  3499.2,   1.4774,  34.7224,2,  34.7220,2,    186.0,2,   185.6,2,  121.73,2,   33.05,2,    0.00,2,    2.37,2,   0.010,2,   0.006,2,   0.0000,2,  2279.4,2,  2380.9,2,   7.6785,2,    20.00,-999.000,9,-999.000,9,-999.000,9,   1.4770,2,   0.536,2, -173.66,2,     2.9,-999.000,9,-999.000,   39.37,2,   34.81,2, -34.0005,  68.5553,-999.000,-999.000,20090416,       1423
33RR20090320,        I05,      91,          2,          5,          5,2,20090416,       1357,   -34.0006,    68.5554,       4532,  3799.2,   1.1534,  34.7112,2,  34.7116,2,    196.0,2,   196.5,2,  125.32,2,   32.89,2,    0.00,2,    2.35,2,   0.015,2,   0.008,2,   0.0000,2,  2273.3,2,  2374.6,2,   7.6803,2,    20.00,-999.000,9,-999.000,9,-999.000,9,   1.1537,2,   0.506,2, -173.79,2,     2.4,-999.000,9,-999.000,   39.70,2,   34.44,2, -34.0006,  68.5555,-999.000,-999.000,20090416,       1416
33RR20090320,        I05,      91,          2,          4,          4,2,20090416,       1357,   -34.0006,    68.5554,       4532,  4098.4,   0.8484,  34.7007,2,  34.7002,2,    205.3,2,   206.0,2,  128.67,2,   32.72,2,    0.00,2,    2.33,2,   0.027,2,   0.014,2,   0.0340,2,  2267.7,2,  2370.8,2,   7.6819,2,    20.00,-999.000,9,-999.000,9,-999.000,9,   0.8494,2,   0.572,2, -166.25,2,     2.7,-999.000,9,-999.000,   40.24,2,   34.47,2, -34.0006,  68.5556,-999.000,-999.000,20090416,       1409
33RR20090320,        I05,      91,          2,          3,          3,2,20090416,       1357,   -34.0006,    68.5554,       4532,  4302.7,   0.7517,  34.6963,2,  34.6971,2,    209.5,2,   209.2,2,  129.97,2,   32.68,2,    0.00,2,    2.32,2,   0.038,2,   0.020,2,   0.0000,2,  2267.2,2,  2371.1,2,   7.6833,2,    20.00,-999.000,9,-999.000,9,-999.000,9,   0.7515,2,   0.591,2, -164.09,2,     2.9,-999.000,9,-999.000,   40.28,2,   34.62,2, -34.0006,  68.5556,-999.000,-999.000,20090416,       1404
33RR20090320,        I05,      91,          2,          2,          2,2,20090416,       1357,   -34.0006,    68.5554,       4532,  4495.4,   0.7274,  34.6945,2,  34.6947,2,    211.5,2,   210.7,2,  130.36,2,   32.67,2,    0.00,2,    2.33,2,   0.044,2,   0.022,2,   0.0100,2,  2266.8,2,  2369.5,2,   7.6828,2,    20.00,-999.000,9,-999.000,9,-999.000,9,   0.7270,2,   0.579,2, -164.06,2,     3.1,-999.000,9,-999.000,   40.33,2,   34.01,2, -34.0006,  68.5554,-999.000,-999.000,20090416,       1400
33RR20090320,        I05,      91,          2,          1,          1,2,20090416,       1357,   -34.0006,    68.5554,       4532,  4598.8,   0.7362,  34.6943,2,  34.6942,2,    211.2,2,   211.1,2,  130.75,2,   32.67,2,    0.00,2,    2.33,2,   0.046,2,   0.023,2,   0.0420,2,  2268.5,6,  2371.3,2,   7.6835,2,    20.00,-999.000,9,-999.000,9,-999.000,9,   0.7360,2,   0.527,2, -160.86,2,     2.6,-999.000,9,-999.000,   39.80,2,   34.06,2, -34.0006,  68.5554,-999.000,-999.000,20090416,       1357