BOTTLE,20220814CCHSIOAMB
EXPOCODE,SECT_ID,STNNBR,CASTNO,SAMPNO,BTLNBR,BTLNBR_FLAG_W,DATE,TIME,LATITUDE,LONGITUDE,DEPTH,CTDPRS,CTDTMP,CTDSAL,CTDSAL_FLAG_W,SALNTY,SALNTY_FLAG_W,CTDOXY,CTDOXY_FLAG_W,OXYGEN,OXYGEN_FLAG_W,SILCAT,SILCAT_FLAG_W,NITRAT,NITRAT_FLAG_W,NITRIT,NITRIT_FLAG_W,PHSPHT,PHSPHT_FLAG_W,CFC-11,CFC-11_FLAG_W,CFC-12,CFC-12_FLAG_W,SF6,SF6_FLAG_W,TCARBN,TCARBN_FLAG_W,ALKALI,ALKALI_FLAG_W,PH_TOT,PH_TOT_FLAG_W,PH_TMP,TRITUM,TRITUM_FLAG_W,HELIUM,HELIUM_FLAG_W,DELHE3,DELHE3_FLAG_W,REFTMP,REFTMP_FLAG_W,DELC13,DELC13_FLAG_W,DELC14,DELC14_FLAG_W,C14ERR,NEON,NEON_FLAG_W,NEONER,DOC,DOC_FLAG_W,TDN,TDN_FLAG_W,BTL_LAT,BTL_LON,HELIER,DELHER,BTL_DATE,BTL_TIME
,,,,,,,,,,,METERS,DBAR,ITS-90,PSS-78,,PSS-78,,UMOL/KG,,UMOL/KG,,UMOL/KG,,UMOL/KG,,UMOL/KG,,UMOL/KG,,PMOL/KG,,PMOL/KG,,FMOL/KG,,UMOL/KG,,UMOL/KG,,,,DEG C,TU,,NMOL/KG,,PERCNT,,DEG C,,/MILLE,,/MILLE,,/MILLE,NMOL/KG,,NMOL/KG,UMOL/KG,,UMOL/KG,,,,NMOL/KG,PERCNT,,
33RR20090320,        I05,      57,          2,         36,         36,2,20090406,       1140,   -34.0001,    53.1249,       4748,     5.5,  22.9461,  35.3914,2,  35.3910,2,    215.8,2,   216.3,2,    1.44,2,    0.14,2,    0.00,2,    0.07,2,   1.863,2,   1.133,2,   1.0680,2,  2009.4,6,  2318.2,2,   8.1383,2,    20.00,-999.000,9,-999.000,9,-999.000,9,  22.9782,2,-999.000,9, -999.00,9, -999.00,-999.000,9,-999.000,   66.27,2,    4.43,2, -34.0008,  53.1242,-999.000,-999.000,20090406,       1346
33RR20090320,        I05,      57,          2,         35,         35,2,20090406,       1140,   -34.0001,    53.1249,       4748,    39.7,  21.2366,  35.5816,2,  35.5800,2,    229.0,2,   229.5,2,    1.63,2,    0.14,2,    0.00,2,    0.12,2,   2.113,2,   1.277,2,   1.1620,2,  2039.9,2,  2332.5,2,   8.1004,2,    20.00,-999.000,9,-999.000,9,-999.000,9,  21.2667,2,-999.000,9, -999.00,9, -999.00,-999.000,9,-999.000,   66.19,2,    4.14,2, -34.0007,  53.1242,-999.000,-999.000,20090406,       1344
33RR20090320,        I05,      57,          2,         34,         34,2,20090406,       1140,   -34.0001,    53.1249,       4748,    60.8,  19.7366,  35.5796,2,  35.5792,2,    238.9,2,   238.0,2,    1.61,2,    0.14,2,    0.00,2,    0.13,2,   2.278,2,   1.372,2,   1.3240,3,  2045.9,2,  2331.3,2,   8.0898,2,    20.00,-999.000,9,-999.000,9,-999.000,9,  19.6964,2,-999.000,9, -999.00,9, -999.00,-999.000,9,-999.000,   64.56,2,    4.26,2, -34.0007,  53.1243,-999.000,-999.000,20090406,       1343
33RR20090320,        I05,      57,          2,         33,         33,2,20090406,       1140,   -34.0001,    53.1249,       4748,    86.1,  18.2860,  35.5479,2,  35.5485,2,    242.9,2,   241.1,2,    1.60,2,    0.14,2,    0.00,2,    0.16,2,   2.398,2,   1.407,2,   1.2700,2,  2052.4,2,  2328.0,2,   8.0767,2,    20.00,-999.000,9,-999.000,9,-999.000,9,  18.2626,2,-999.000,9, -999.00,9, -999.00,-999.000,9,-999.000,   58.98,2,    4.50,2, -34.0007,  53.1244,-999.000,-999.000,20090406,       1341
33RR20090320,        I05,      57,          2,         32,         32,2,20090406,       1140,   -34.0001,    53.1249,       4748,   117.5,  16.7496,  35.4821,2,  35.4836,2,    230.5,2,   236.3,2,    1.97,2,    1.12,2,    0.11,2,    0.26,2,   2.512,2,   1.483,2,   1.1900,2,  2068.9,2,  2327.0,2,   8.0397,2,    20.00,-999.000,9,-999.000,9,-999.000,9,  16.6920,2,-999.000,9, -999.00,9, -999.00,-999.000,9,-999.000,   56.19,2,    4.92,2, -34.0007,  53.1244,-999.000,-999.000,20090406,       1340
33RR20090320,        I05,      57,          2,         31,         31,2,20090406,       1140,   -34.0001,    53.1249,       4748,   167.5,  15.4763,  35.4615,2,  35.4587,2,    220.7,2,   221.5,2,    2.94,2,    4.64,2,    0.01,2,    0.45,2,   2.665,2,   1.541,2,   1.2630,2,  2088.4,2,  2325.4,2,   7.9992,2,    20.00,-999.000,9,-999.000,9,-999.000,9,  15.4769,2,-999.000,9, -999.00,9, -999.00,-999.000,9,-999.000,   54.08,2,    7.83,2, -34.0006,  53.1245,-999.000,-999.000,20090406,       1338
33RR20090320,        I05,      57,          2,         30,         30,2,20090406,       1140,   -34.0001,    53.1249,       4748,   217.5,  14.8507,  35.4202,2,  35.4193,2,    220.9,2,   222.3,2,    3.31,2,    5.94,2,    0.00,2,    0.53,2,   2.742,2,   1.565,2,   1.2790,2,  2093.5,2,  2323.5,2,   7.9850,2,    20.00,-999.000,9,-999.000,9,-999.000,9,  14.8500,2,-999.000,9, -999.00,9, -999.00,-999.000,9,-999.000,   52.42,2,    9.02,2, -34.0006,  53.1245,-999.000,-999.000,20090406,       1335
33RR20090320,        I05,      57,          2,         29,         29,2,20090406,       1140,   -34.0001,    53.1249,       4748,   266.9,  14.3761,  35.3818,2,  35.3797,2,    221.8,2,   222.3,2,    3.49,2,    6.75,2,    0.00,2,    0.58,2,   2.795,2,   1.614,2,   1.2580,2,  2098.4,2,  2322.5,2,   7.9724,2,    20.00,-999.000,9,-999.000,9,-999.000,9,  14.3738,2,-999.000,9, -999.00,9, -999.00,-999.000,9,-999.000,   49.70,2,   10.04,2, -34.0006,  53.1245,-999.000,-999.000,20090406,       1333
33RR20090320,        I05,      57,          2,         28,         28,2,20090406,       1140,   -34.0001,    53.1249,       4748,   316.5,  14.0451,  35.3496,2,  35.3488,2,    221.5,2,   221.8,2,    3.67,2,    7.52,2,    0.00,2,    0.61,2,   2.854,2,   1.612,2,   1.2870,2,  2101.9,2,  2321.2,2,   7.9631,2,    20.00,-999.000,9,-999.000,9,-999.000,9,  14.0497,2,-999.000,9, -999.00,9, -999.00,-999.000,9,-999.000,   48.48,2,    9.92,2, -34.0006,  53.1245,-999.000,-999.000,20090406,       1331
33RR20090320,        I05,      57,          2,         27,         27,2,20090406,       1140,   -34.0001,    53.1249,       4748,   367.4,  13.4907,  35.2931,2,  35.2967,2,    223.8,2,   224.1,2,    3.86,2,    8.39,2,    0.00,2,    0.67,2,   2.911,2,   1.679,2,   1.2390,2,  2105.0,2,  2318.6,2,   7.9512,2,    20.00,-999.000,9,-999.000,9,-999.000,9,  13.4961,2,-999.000,9, -999.00,9, -999.00,-999.000,9,-999.000,   47.54,2,   10.77,2, -34.0007,  53.1246,-999.000,-999.000,20090406,       1328
33RR20090320,        I05,      57,          2,         26,         26,2,20090406,       1140,   -34.0001,    53.1249,       4748,   437.0,  13.0097,  35.2299,2,  35.2274,2,    223.7,2,   224.0,2,    4.03,2,    9.59,2,    0.00,2,    0.75,2,   2.981,2,   1.690,2,   1.1660,2,  2108.9,2,  2315.4,2,   7.9378,2,    20.00,-999.000,9,-999.000,9,-999.000,9,  13.0225,2,-999.000,9, -999.00,9, -999.00,-999.000,9,-999.000,   46.60,2,   11.56,2, -34.0006,  53.1247,-999.000,-999.000,20090406,       1326
33RR20090320,        I05,      57,          2,         25,         25,2,20090406,       1140,   -34.0001,    53.1249,       4748,   537.0,  12.1620,  35.1025,2,  35.1039,2,    225.5,2,   225.2,2,    4.41,2,   11.32,2,    0.00,2,    0.86,2,   3.106,2,   1.730,2,   1.0990,2,  2114.6,2,  2312.4,2,   7.9178,2,    20.00,-999.000,9,-999.000,9,-999.000,9,  12.1647,2,-999.000,9, -999.00,9, -999.00,-999.000,9,-999.000,   45.41,2,   12.82,2, -34.0006,  53.1249,-999.000,-999.000,20090406,       1323
33RR20090320,        I05,      57,          2,         24,         24,2,20090406,       1140,   -34.0001,    53.1249,       4748,   639.1,  11.1808,  34.9548,2,  34.9573,2,    221.4,2,   220.6,2,    5.37,2,   13.82,2,    0.00,2,    1.03,2,   3.131,2,   1.688,2,   1.0560,2,  2123.1,2,  2304.5,2,   7.8881,2,    20.00,-999.000,9,-999.000,9,-999.000,9,  11.1934,2,-999.000,9, -999.00,9, -999.00,-999.000,9,-999.000,   44.25,2,   15.75,2, -34.0004,  53.1249,-999.000,-999.000,20090406,       1320
33RR20090320,        I05,      57,          2,         23,         23,2,20090406,       1140,   -34.0001,    53.1249,       4748,   731.9,  10.1053,  34.8136,2,  34.8123,2,    216.7,2,   216.0,2,    7.12,2,   16.64,2,    0.00,2,    1.21,2,   3.031,2,   1.545,2,   0.7910,2,  2132.6,2,  2300.0,2,   7.8557,2,    20.00,-999.000,9,-999.000,9,-999.000,9,  10.1199,2,-999.000,9, -999.00,9, -999.00,-999.000,9,-999.000,   43.26,2,   17.98,2, -34.0004,  53.1251,-999.000,-999.000,20090406,       1317
33RR20090320,        I05,      57,          2,         22,         22,2,20090406,       1140,   -34.0001,    53.1249,       4748,   833.1,   9.0127,  34.6877,2,  34.6853,2,    210.5,2,   210.1,2,   10.23,2,   19.68,2,    0.00,2,    1.42,2,   2.828,2,   1.429,2,   0.7140,2,  2147.1,2,  2295.6,2,   7.8200,2,    20.00,-999.000,9,-999.000,9,-999.000,9,   9.0073,2,-999.000,9, -999.00,9, -999.00,-999.000,9,-999.000,   42.35,2,   21.58,2, -34.0004,  53.1251,-999.000,-999.000,20090406,       1314
33RR20090320,        I05,      57,          2,         21,         21,2,20090406,       1140,   -34.0001,    53.1249,       4748,   932.1,   7.6689,  34.5595,2,  34.5616,2,    204.9,2,   204.9,2,   15.12,2,   23.23,2,    0.00,2,    1.66,2,   2.556,6,   1.276,6,   0.6380,6,  2160.3,2,  2294.5,2,   7.7791,2,    20.00,-999.000,9,-999.000,9,-999.000,9,   7.6699,2,-999.000,9, -999.00,9, -999.00,-999.000,9,-999.000,   41.59,2,   24.60,2, -34.0004,  53.1251,-999.000,-999.000,20090406,       1311
33RR20090320,        I05,      57,          2,         20,         20,2,20090406,       1140,   -34.0001,    53.1249,       4748,  1033.0,   6.3414,  34.4554,2,  34.4546,2,    203.6,2,   203.9,2,   21.39,2,   26.50,2,    0.00,2,    1.89,2,   2.349,2,   1.160,2,   0.4350,2,  2175.4,2,  2294.4,2,   7.7412,2,    20.00,-999.000,9,-999.000,9,-999.000,9,   6.3390,2,-999.000,9, -999.00,9, -999.00,-999.000,9,-999.000,   41.03,2,   28.07,2, -34.0004,  53.1251,-999.000,-999.000,20090406,       1308
33RR20090320,        I05,      57,          2,         19,         19,2,20090406,       1140,   -34.0001,    53.1249,       4748,  1134.2,   5.2874,  34.4010,2,  34.4008,2,    202.0,2,   202.9,2,   28.06,2,   28.75,2,    0.00,2,    2.05,2,   2.114,2,   1.025,2,   0.4300,2,  2188.2,2,  2298.1,2,   7.7149,2,    20.00,-999.000,9,-999.000,9,-999.000,9,   5.2864,2,-999.000,9, -999.00,9, -999.00,-999.000,9,-999.000,   40.56,2,   29.94,2, -34.0005,  53.1251,-999.000,-999.000,20090406,       1305
33RR20090320,        I05,      57,          2,         18,         18,2,20090406,       1140,   -34.0001,    53.1249,       4748,  1233.9,   4.3350,  34.4040,2,  34.4039,2,    193.4,2,   194.3,2,   39.31,2,   31.10,2,    0.00,2,    2.24,2,   1.544,2,   0.736,2,   0.2570,2,  2207.1,2,  2307.4,2,   7.6857,2,    20.00,-999.000,9,-999.000,9,-999.000,9,   4.3373,2,-999.000,9, -999.00,9, -999.00,-999.000,9,-999.000,   40.28,2,   33.04,2, -34.0004,  53.1251,-999.000,-999.000,20090406,       1302
33RR20090320,        I05,      57,          2,         17,         17,2,20090406,       1140,   -34.0001,    53.1249,       4748,  1335.8,   3.7640,  34.4410,2,  34.4403,2,    186.8,2,   185.7,2,   49.00,2,   32.36,2,    0.00,2,    2.32,2,   1.068,2,   0.504,2,   0.1660,2,  2222.0,2,  2314.6,2,   7.6661,2,    20.00,-999.000,9,-999.000,9,-999.000,9,   3.7645,2,-999.000,9, -999.00,9, -999.00,-999.000,9,-999.000,   39.90,2,   33.95,2, -34.0005,  53.1252,-999.000,-999.000,20090406,       1259
33RR20090320,        I05,      57,          2,         16,         16,2,20090406,       1140,   -34.0001,    53.1249,       4748,  1432.5,   3.4309,  34.4816,2,  34.4807,2,    181.4,2,   180.4,2,   55.95,2,   32.91,2,    0.00,2,    2.37,2,   0.766,2,   0.361,2,   0.0850,2,  2231.7,2,  2322.8,2,   7.6575,2,    20.00,-999.000,9,-999.000,9,-999.000,9,   3.4277,2,-999.000,9, -999.00,9, -999.00,-999.000,9,-999.000,   39.89,2,   34.33,2, -34.0004,  53.1252,-999.000,-999.000,20090406,       1256
33RR20090320,        I05,      57,          2,         15,         15,2,20090406,       1140,   -34.0001,    53.1249,       4748,  1535.4,   3.1922,  34.5225,2,  34.5222,2,    177.8,2,   177.5,2,   61.11,2,   33.01,2,    0.00,2,    2.38,2,   0.560,2,   0.266,2,   0.0740,2,  2237.0,2,  2327.0,2,   7.6542,2,    20.00,-999.000,9,-999.000,9,-999.000,9,   3.1919,2,-999.000,9, -999.00,9, -999.00,-999.000,9,-999.000,   39.70,2,   34.75,2, -34.0004,  53.1252,-999.000,-999.000,20090406,       1253
33RR20090320,        I05,      57,          2,         14,         14,2,20090406,       1140,   -34.0001,    53.1249,       4748,  1667.7,   2.9741,  34.5695,2,  34.5687,2,    177.0,2,   177.1,2,   65.88,2,   32.85,2,    0.00,2,    2.36,2,   0.398,2,   0.190,2,   0.1880,3,  2244.1,6,  2333.4,2,   7.6555,2,    20.00,-999.000,9,-999.000,9,-999.000,9,   2.9756,2,-999.000,9, -999.00,9, -999.00,-999.000,9,-999.000,   39.79,2,   34.77,2, -34.0005,  53.1252,-999.000,-999.000,20090406,       1249
33RR20090320,        I05,      57,          2,         13,         13,2,20090406,       1140,   -34.0001,    53.1249,       4748,  1862.6,   2.7017,  34.6342,2,  34.6349,2,    178.9,2,   179.3,2,   72.05,2,   32.18,2,    0.00,2,    2.31,2,   0.219,2,   0.106,2,   0.0820,2,  2246.2,2,  2338.1,2,   7.6635,2,    20.00,-999.000,9,-999.000,9,-999.000,9,   2.7013,2,-999.000,9, -999.00,9, -999.00,-999.000,9,-999.000,   40.18,2,   33.94,2, -34.0002,  53.1249,-999.000,-999.000,20090406,       1244
33RR20090320,        I05,      57,          2,         12,         12,2,20090406,       1140,   -34.0001,    53.1249,       4748,  2084.3,   2.4740,  34.6847,2,  34.6839,2,    183.7,2,   183.2,2,   77.64,2,   31.51,2,    0.00,2,    2.27,2,   0.120,2,   0.056,2,   0.1250,3,  2250.2,2,  2349.1,2,   7.6743,2,    20.00,-999.000,9,-999.000,9,-999.000,9,   2.4738,2,-999.000,9, -999.00,9, -999.00,-999.000,9,-999.000,   40.13,2,   33.40,2, -34.0001,  53.1248,-999.000,-999.000,20090406,       1239
33RR20090320,        I05,      57,          2,         11,         11,2,20090406,       1140,   -34.0001,    53.1249,       4748,  2332.5,   2.2201,  34.7220,2,  34.7216,2,    189.5,2,   189.2,2,   83.64,2,   30.85,2,    0.00,2,    2.22,2,   0.071,2,   0.033,2,   0.0710,2,  2250.9,2,  2352.9,2,   7.6854,2,    20.00,-999.000,9,-999.000,9,-999.000,9,   2.2206,2,-999.000,9, -999.00,9, -999.00,-999.000,9,-999.000,   40.08,2,   32.78,2, -34.0000,  53.1247,-999.000,-999.000,20090406,       1233
33RR20090320,        I05,      57,          2,         10,         10,2,20090406,       1140,   -34.0001,    53.1249,       4748,  2583.4,   1.9548,  34.7366,2,  34.7362,2,    193.7,2,   193.9,2,   90.85,2,   30.73,2,    0.00,2,    2.21,2,   0.054,2,   0.026,2,   0.0000,2,  2252.7,2,  2359.0,2,   7.6907,2,    20.00,-999.000,9,-999.000,9,-999.000,9,   1.9553,2,-999.000,9, -999.00,9, -999.00,-999.000,9,-999.000,   40.01,2,   32.31,2, -34.0000,  53.1248,-999.000,-999.000,20090406,       1228
33RR20090320,        I05,      57,          2,          9,          9,2,20090406,       1140,   -34.0001,    53.1249,       4748,  2836.1,   1.7041,  34.7349,2,  34.7350,2,    196.9,2,   197.1,2,   98.08,2,   30.84,2,    0.00,2,    2.22,2,   0.060,6,   0.029,6,   0.0000,6,  2256.8,2,  2361.2,2,   7.6908,2,    20.00,-999.000,9,-999.000,9,-999.000,9,   1.7037,2,-999.000,9, -999.00,9, -999.00,-999.000,9,-999.000,   40.00,2,   32.25,2, -34.0000,  53.1249,-999.000,-999.000,20090406,       1223
33RR20090320,        I05,      57,          2,          8,          8,2,20090406,       1140,   -34.0001,    53.1249,       4748,  3099.8,   1.5040,  34.7308,2,  34.7301,2,    201.9,2,   202.2,2,  101.89,2,   30.84,2,    0.00,2,    2.22,2,   0.073,2,   0.037,2,   0.0000,2,  2255.0,2,  2361.8,2,   7.6904,2,    20.00,-999.000,9,-999.000,9,-999.000,9,   1.5041,2,-999.000,9, -999.00,9, -999.00,-999.000,9,-999.000,   40.10,2,   32.63,2, -34.0001,  53.1250,-999.000,-999.000,20090406,       1217
33RR20090320,        I05,      57,          2,          7,          7,2,20090406,       1140,   -34.0001,    53.1249,       4748,  3399.6,   1.3183,  34.7251,2,  34.7246,2,    204.6,2,   204.9,2,  107.33,2,   31.10,2,    0.00,2,    2.24,2,   0.085,2,   0.042,2,   0.0000,2,  2257.8,2,  2362.2,2,   7.6889,2,    20.00,-999.000,9,-999.000,9,-999.000,9,   1.3186,2,-999.000,9, -999.00,9, -999.00,-999.000,9,-999.000,   39.74,2,   32.92,2, -34.0003,  53.1250,-999.000,-999.000,20090406,       1211
33RR20090320,        I05,      57,          2,          6,          6,2,20090406,       1140,   -34.0001,    53.1249,       4748,  3693.8,   1.1791,  34.7191,2,  34.7195,2,    206.6,2,   207.1,2,  111.55,2,   31.38,2,    0.00,2,    2.26,2,   0.097,2,   0.047,2,   0.0000,2,  2259.7,2,  2362.7,2,   7.6875,2,    20.00,-999.000,9,-999.000,9,-999.000,9,   1.1792,2,-999.000,9, -999.00,9, -999.00,-999.000,9,-999.000,   39.68,2,   33.13,2, -34.0003,  53.1250,-999.000,-999.000,20090406,       1205
33RR20090320,        I05,      57,          2,          5,          5,2,20090406,       1140,   -34.0001,    53.1249,       4748,  3999.1,   1.1058,  34.7153,2,  34.7154,2,    208.1,2,   208.3,2,  114.58,2,   31.48,2,    0.00,2,    2.27,2,   0.095,2,   0.048,2,   0.0000,2,  2258.4,2,  2363.5,2,   7.6869,2,    20.00,-999.000,9,-999.000,9,-999.000,9,   1.1058,2,-999.000,9, -999.00,9, -999.00,-999.000,9,-999.000,   40.20,2,   32.73,2, -34.0003,  53.1248,-999.000,-999.000,20090406,       1159
33RR20090320,        I05,      57,          2,          4,          4,2,20090406,       1140,   -34.0001,    53.1249,       4748,  4304.6,   1.0913,  34.7136,2,  34.7134,2,    208.9,2,   209.6,2,  115.57,2,   31.53,2,    0.00,2,    2.27,2,   0.102,2,   0.049,2,   0.0000,2,  2258.6,2,  2364.1,2,   7.6874,2,    20.00,-999.000,9,-999.000,9,-999.000,9,   1.0912,2,-999.000,9, -999.00,9, -999.00,-999.000,9,-999.000,   40.28,2,   33.15,2, -34.0001,  53.1249,-999.000,-999.000,20090406,       1152
33RR20090320,        I05,      57,          2,          3,          3,2,20090406,       1140,   -34.0001,    53.1249,       4748,  4506.9,   1.1027,  34.7131,2,  34.7130,2,    208.6,2,   208.8,2,  116.17,2,   31.64,2,    0.00,2,    2.27,2,   0.095,6,   0.046,6,   0.0000,6,  2259.7,2,  2363.6,2,   7.6871,2,    20.00,-999.000,9,-999.000,9,-999.000,9,   1.1030,2,-999.000,9, -999.00,9, -999.00,-999.000,9,-999.000,   39.92,2,   33.32,2, -34.0001,  53.1248,-999.000,-999.000,20090406,       1148
33RR20090320,        I05,      57,          2,          2,          2,2,20090406,       1140,   -34.0001,    53.1249,       4748,  4702.4,   1.1201,  34.7128,2,  34.7128,2,    209.9,2,   209.6,2,  115.14,2,   31.52,2,    0.00,2,    2.27,2,   0.106,2,   0.051,2,   0.0000,2,  2258.5,2,  2363.4,2,   7.6875,2,    20.00,-999.000,9,-999.000,9,-999.000,9,   1.1198,2,-999.000,9, -999.00,9, -999.00,-999.000,9,-999.000,   39.90,2,   33.08,2, -34.0002,  53.1248,-999.000,-999.000,20090406,       1143
33RR20090320,        I05,      57,          2,          1,          1,2,20090406,       1140,   -34.0001,    53.1249,       4748,  4821.4,   1.1326,  34.7131,2,  34.7132,2,    209.8,2,   209.5,2,  115.53,2,   31.46,2,    0.00,2,    2.26,2,   0.109,2,   0.054,2,  -0.0040,2,  2259.1,6,  2363.4,2,   7.6875,2,    20.00,-999.000,9,-999.000,9,-999.000,9,   1.1330,2,-999.000,9, -999.00,9, -999.00,-999.000,9,-999.000,   40.30,2,   32.68,2, -34.0002,  53.1249,-999.000,-999.000,20090406,       1140