BOTTLE,20220814CCHSIOAMB
EXPOCODE,SECT_ID,STNNBR,CASTNO,SAMPNO,BTLNBR,BTLNBR_FLAG_W,DATE,TIME,LATITUDE,LONGITUDE,DEPTH,CTDPRS,CTDTMP,CTDSAL,CTDSAL_FLAG_W,SALNTY,SALNTY_FLAG_W,CTDOXY,CTDOXY_FLAG_W,OXYGEN,OXYGEN_FLAG_W,SILCAT,SILCAT_FLAG_W,NITRAT,NITRAT_FLAG_W,NITRIT,NITRIT_FLAG_W,PHSPHT,PHSPHT_FLAG_W,CFC-11,CFC-11_FLAG_W,CFC-12,CFC-12_FLAG_W,SF6,SF6_FLAG_W,TCARBN,TCARBN_FLAG_W,ALKALI,ALKALI_FLAG_W,PH_TOT,PH_TOT_FLAG_W,PH_TMP,TRITUM,TRITUM_FLAG_W,HELIUM,HELIUM_FLAG_W,DELHE3,DELHE3_FLAG_W,REFTMP,REFTMP_FLAG_W,DELC13,DELC13_FLAG_W,DELC14,DELC14_FLAG_W,C14ERR,NEON,NEON_FLAG_W,NEONER,DOC,DOC_FLAG_W,TDN,TDN_FLAG_W,BTL_LAT,BTL_LON,HELIER,DELHER,BTL_DATE,BTL_TIME
,,,,,,,,,,,METERS,DBAR,ITS-90,PSS-78,,PSS-78,,UMOL/KG,,UMOL/KG,,UMOL/KG,,UMOL/KG,,UMOL/KG,,UMOL/KG,,PMOL/KG,,PMOL/KG,,FMOL/KG,,UMOL/KG,,UMOL/KG,,,,DEG C,TU,,NMOL/KG,,PERCNT,,DEG C,,/MILLE,,/MILLE,,/MILLE,NMOL/KG,,NMOL/KG,UMOL/KG,,UMOL/KG,,,,NMOL/KG,PERCNT,,
33RR20090320,        I05,     151,          1,         36,         36,2,20090501,       1948,   -33.9981,    98.4187,       4766,     3.6,  16.9874,  35.3242,2,  35.3248,2,    245.4,2,   246.4,2,    0.47,2,    0.72,2,    0.01,2,    0.20,2,   2.552,6,   1.486,6,   1.3520,6,  2065.6,6,  2330.2,2,   8.0580,2,    20.00,   0.405,2,   1.893,2,  -1.923,2,  16.9863,2,-999.000,9, -999.00,9, -999.00,   7.624,2,   0.010,   67.44,2,    5.34,2, -33.9983,  98.4192,   0.000,   0.187,20090501,       2146
33RR20090320,        I05,     151,          1,         35,         35,2,20090501,       1948,   -33.9981,    98.4187,       4766,    26.5,  17.2470,  35.4657,2,  35.4821,2,    244.2,2,   243.7,2,    0.46,2,    0.24,2,    0.01,2,    0.18,2,   2.490,2,   1.460,2,   1.3020,2,  2069.5,2,  2338.1,2,   8.0650,2,    20.00,   0.409,2,   1.820,2,  -1.477,2,  17.2468,2,-999.000,9, -999.00,9, -999.00,   7.467,2,   0.007,   67.08,2,    4.75,2, -33.9983,  98.4191,   0.000,   0.182,20090501,       2144
33RR20090320,        I05,     151,          1,         34,         34,2,20090501,       1948,   -33.9981,    98.4187,       4766,    46.5,  17.0510,  35.5037,2,  35.5102,2,    241.6,2,   241.6,2,    0.45,2,    0.24,2,    0.01,2,    0.18,2,   2.511,2,   1.472,2,   1.2660,2,  2072.3,2,  2339.1,2,   8.0596,2,    20.00,-999.000,9,   1.806,2,  -1.552,2,  16.9734,2,-999.000,9, -999.00,9, -999.00,   7.453,2,   0.007,   65.71,2,    4.40,2, -33.9983,  98.4191,   0.000,   0.192,20090501,       2143
33RR20090320,        I05,     151,          1,         33,         33,2,20090501,       1948,   -33.9981,    98.4187,       4766,    72.0,  14.8459,  35.4729,2,  35.4792,2,    247.1,2,   246.0,2,    0.98,2,    1.83,2,    0.18,2,    0.32,2,   2.868,2,   1.652,2,   1.3940,2,  2093.8,2,  2335.5,2,   8.0090,2,    20.00,   0.427,2,   1.837,2,  -1.532,2,  14.8516,2,-999.000,9, -999.00,9, -999.00,   7.658,2,   0.007,   59.62,2,    6.15,2, -33.9983,  98.4191,   0.001,   0.193,20090501,       2141
33RR20090320,        I05,     151,          1,         32,         32,2,20090501,       1948,   -33.9981,    98.4187,       4766,    96.0,  14.2080,  35.4711,2,  35.4676,2,    237.0,2,   235.1,2,    1.33,2,    4.17,2,    0.04,2,    0.41,2,   2.904,2,   1.670,2,   1.4190,2,  2103.9,2,  2331.3,2,   7.9878,2,    20.00,   0.417,2,   1.834,2,  -1.280,2,  14.2181,2,-999.000,9, -999.00,9, -999.00,   7.468,2,   0.010,   57.17,2,    7.38,2, -33.9982,  98.4191,   0.000,   0.187,20090501,       2139
33RR20090320,        I05,     151,          1,         31,         31,2,20090501,       1948,   -33.9981,    98.4187,       4766,   141.1,  13.4021,  35.3369,2,  35.3406,2,    237.6,2,   238.1,2,    1.32,2,    5.64,2,    0.01,2,    0.50,2,   3.037,2,   1.725,2,   1.5310,2,  2107.6,2,  2325.2,2,   7.9681,2,    20.00,   0.389,2,   1.850,2,  -1.729,2,  13.4107,2,-999.000,9, -999.00,9, -999.00,   7.701,2,   0.013,   52.31,2,    7.91,2, -33.9982,  98.4191,   0.000,   0.194,20090501,       2137
33RR20090320,        I05,     151,          1,         30,         30,2,20090501,       1948,   -33.9981,    98.4187,       4766,   190.9,  12.3883,  35.1444,2,  35.1440,2,    241.6,2,   242.7,2,    1.67,2,    7.62,2,    0.01,2,    0.62,2,   3.201,2,   1.803,2,   1.4720,2,  2110.4,2,  2316.0,2,   7.9433,2,    20.00,   0.377,2,   1.846,2,  -1.412,2,  12.4130,2,-999.000,9, -999.00,9, -999.00,   7.765,2,   0.008,   49.58,2,   10.26,2, -33.9982,  98.4191,   0.000,   0.194,20090501,       2135
33RR20090320,        I05,     151,          1,         29,         29,2,20090501,       1948,   -33.9981,    98.4187,       4766,   241.5,  11.9255,  35.0668,2,  35.0651,2,    244.4,2,   244.6,2,    2.02,2,    8.60,2,    0.00,2,    0.68,2,   3.278,2,   1.846,2,   1.4910,2,  2113.2,2,  2310.2,2,   7.9166,2,    20.00,   0.381,2,   1.849,2,  -1.335,2,  11.9231,2,-999.000,9, -999.00,9, -999.00,   7.582,2,   0.009,   48.81,2,   10.75,2, -33.9982,  98.4191,   0.000,   0.173,20090501,       2133
33RR20090320,        I05,     151,          1,         28,         28,2,20090501,       1948,   -33.9981,    98.4187,       4766,   291.4,  11.2888,  34.9592,2,  34.9622,2,    245.5,2,   246.0,2,    2.37,2,   10.10,2,    0.00,2,    0.77,2,   3.394,2,   1.891,2,   1.4620,2,  2115.8,2,  2302.4,2,   7.9317,2,    20.00,   0.336,2,   1.820,2,  -1.176,2,  11.2885,2,-999.000,9, -999.00,9, -999.00,   7.569,2,   0.008,   48.00,2,   11.73,2, -33.9983,  98.4190,   0.000,   0.183,20090501,       2132
33RR20090320,        I05,     151,          1,         27,         27,2,20090501,       1948,   -33.9981,    98.4187,       4766,   341.4,  10.7975,  34.8708,2,  34.8625,2,    249.2,2,   252.3,2,    2.72,2,   11.14,2,    0.00,2,    0.84,2,   3.496,2,   1.937,2,   1.5720,2,  2117.2,2,  2301.1,2,   7.9080,2,    20.00,   0.434,2,   1.839,2,  -1.646,2,  10.7863,2,-999.000,9, -999.00,9, -999.00,   7.631,2,   0.008,   47.10,2,   12.24,2, -33.9983,  98.4190,   0.000,   0.183,20090501,       2130
33RR20090320,        I05,     151,          1,         26,         26,2,20090501,       1948,   -33.9981,    98.4187,       4766,   391.4,  10.4926,  34.8235,2,  34.8257,2,    250.5,2,   249.6,2,    3.07,2,   12.13,2,    0.00,2,    0.90,2,   3.508,2,   1.954,2,   1.4930,2,  2114.1,2,  2297.4,2,   7.8972,2,    20.00,   0.321,2,   1.864,2,  -1.467,2,  10.4985,2,-999.000,9, -999.00,9, -999.00,   7.698,2,   0.008,   46.20,2,   13.59,2, -33.9983,  98.4190,   0.000,   0.195,20090501,       2128
33RR20090320,        I05,     151,          1,         25,         25,2,20090501,       1948,   -33.9981,    98.4187,       4766,   471.3,  10.0751,  34.7733,2,  34.7738,2,    245.5,2,   244.5,2,    3.61,2,   13.73,2,    0.00,2,    1.00,2,   3.672,2,   1.983,2,   1.4130,2,  2121.1,2,  2295.9,2,   7.8787,2,    20.00,   0.313,2,   1.854,2,  -1.667,2,  10.0750,2,-999.000,9, -999.00,9, -999.00,   7.831,2,   0.008,   45.32,2,   15.71,2, -33.9982,  98.4190,   0.000,   0.194,20090501,       2126
33RR20090320,        I05,     151,          1,         24,         24,2,20090501,       1948,   -33.9981,    98.4187,       4766,   571.1,   9.6015,  34.7200,2,  34.7184,2,    240.0,2,   239.5,2,    4.15,2,   15.54,2,    0.00,2,    1.10,2,   3.719,2,   1.977,2,   1.2000,2,  2126.3,2,  2293.0,2,   7.8602,2,    20.00,   0.278,2,   1.855,2,  -0.812,2,   9.6034,2,-999.000,9, -999.00,9, -999.00,   7.917,2,   0.009,   44.00,2,   16.99,2, -33.9982,  98.4190,   0.000,   0.195,20090501,       2123
33RR20090320,        I05,     151,          1,         23,         23,2,20090501,       1948,   -33.9981,    98.4187,       4766,   671.0,   9.0267,  34.6421,2,  34.6445,2,    237.1,2,   236.6,2,    5.22,2,   17.31,2,    0.00,2,    1.22,2,   3.675,6,   1.934,6,   1.1520,6,  2130.9,2,  2290.1,2,   7.8430,2,    20.00,   0.260,2,   1.863,2,  -0.587,2,   9.0259,2,-999.000,9, -999.00,9, -999.00,   7.929,2,   0.008,   43.42,2,   18.89,2, -33.9981,  98.4190,   0.000,   0.196,20090501,       2121
33RR20090320,        I05,     151,          1,         22,         22,2,20090501,       1948,   -33.9981,    98.4187,       4766,   771.8,   8.2408,  34.5573,2,  34.5597,2,    217.5,2,   219.0,2,    8.66,2,   20.84,2,    0.00,2,    1.45,2,   3.197,2,   1.610,2,   0.8170,2,  2144.4,2,  2287.4,2,   7.8033,2,    20.00,-999.000,9,   1.862,2,   0.500,2,   8.2455,2,-999.000,9, -999.00,9, -999.00,   7.934,2,   0.008,   42.85,2,   22.45,2, -33.9981,  98.4190,   0.000,   0.193,20090501,       2118
33RR20090320,        I05,     151,          1,         21,         21,2,20090501,       1948,   -33.9981,    98.4187,       4766,   871.1,   6.9055,  34.4572,2,  34.4619,2,    202.2,2,   202.1,2,   15.92,2,   25.32,2,    0.00,2,    1.76,2,   2.340,2,   1.177,2,   0.4750,2,  2165.8,2,  2288.9,2,   7.7489,2,    20.00,   0.107,2,-999.000,9,-999.000,9,   6.9187,2,-999.000,9, -999.00,9, -999.00,-999.000,9,-999.000,   41.87,2,   26.58,2, -33.9981,  98.4191,-999.000,-999.000,20090501,       2116
33RR20090320,        I05,     151,          1,         20,         20,2,20090501,       1948,   -33.9981,    98.4187,       4766,   971.8,   5.2361,  34.3790,2,  34.3779,2,    196.2,2,   197.9,2,   27.59,2,   29.43,2,    0.00,2,    2.06,2,   1.718,2,   0.839,2,   0.2720,2,  2189.0,2,  2296.3,2,   7.7021,2,    20.00,   0.055,2,   1.916,2,   3.202,2,   5.2342,2,-999.000,9, -999.00,9, -999.00,   8.337,2,   0.010,   41.21,2,   31.00,2, -33.9981,  98.4191,   0.000,   0.196,20090501,       2113
33RR20090320,        I05,     151,          1,         19,         19,2,20090501,       1948,   -33.9981,    98.4187,       4766,  1072.0,   4.3857,  34.3911,2,  34.3909,2,    187.8,2,   187.6,2,   39.69,2,   31.55,2,    0.00,2,    2.23,2,   1.166,2,   0.548,2,   0.1540,2,  2208.7,2,  2305.5,2,   7.6747,2,    20.00,   0.013,2,   1.934,2,   4.667,2,   4.3880,2,-999.000,9, -999.00,9, -999.00,   8.372,2,   0.010,   41.18,2,   33.10,2, -33.9982,  98.4191,   0.000,   0.196,20090501,       2110
33RR20090320,        I05,     151,          1,         18,         18,2,20090501,       1948,   -33.9981,    98.4187,       4766,  1172.4,   3.9806,  34.4274,2,  34.4278,2,    175.6,2,   174.9,2,   50.73,2,   32.99,2,    0.00,2,    2.34,2,   0.748,2,   0.347,2,   0.0740,2,  2224.8,2,  2319.9,2,   7.6537,2,    20.00,-999.000,9,   1.937,2,   6.449,2,   3.9841,2,-999.000,9, -999.00,9, -999.00,   8.381,2,   0.011,   40.84,2,   34.17,2, -33.9982,  98.4191,   0.000,   0.185,20090501,       2108
33RR20090320,        I05,     151,          1,         17,         17,2,20090501,       1948,   -33.9981,    98.4187,       4766,  1272.1,   3.6913,  34.4740,2,  34.4743,2,    163.7,2,   163.2,2,   61.26,2,   33.88,2,    0.00,2,    2.43,2,   0.419,2,   0.194,2,   0.0540,2,  2241.7,2,  2327.9,2,   7.6371,2,    20.00,   0.001,2,   1.931,2,   7.817,2,   3.6919,2,-999.000,9, -999.00,9, -999.00,   8.300,2,   0.010,   40.33,2,   35.40,2, -33.9982,  98.4191,   0.000,   0.184,20090501,       2105
33RR20090320,        I05,     151,          1,         16,         16,2,20090501,       1948,   -33.9981,    98.4187,       4766,  1373.5,   3.5115,  34.5149,2,  34.5146,2,    155.4,2,   155.3,2,   68.66,2,   34.44,2,    0.00,2,    2.47,2,   0.227,2,   0.110,2,   0.0240,2,  2251.6,2,  2338.1,2,   7.6288,2,    20.00,-999.000,9,   1.979,2,   8.723,2,   3.5119,2,-999.000,9, -999.00,9, -999.00,   8.476,2,   0.010,   40.19,2,   35.84,2, -33.9982,  98.4191,   0.000,   0.184,20090501,       2103
33RR20090320,        I05,     151,          1,         15,         15,2,20090501,       1948,   -33.9981,    98.4187,       4766,  1474.3,   3.3086,  34.5514,2,  34.5515,2,    152.5,2,   152.4,2,   74.61,2,   34.61,2,    0.00,2,    2.49,2,   0.124,6,   0.059,6,   0.0050,6,  2259.1,6,  2343.3,2,   7.6251,2,    20.00,   0.001,2,   1.951,2,   9.811,2,   3.3082,2,-999.000,9, -999.00,9, -999.00,   8.398,2,   0.010,   40.22,2,   35.86,2, -33.9981,  98.4191,   0.000,   0.185,20090501,       2100
33RR20090320,        I05,     151,          1,         14,         14,2,20090501,       1948,   -33.9981,    98.4187,       4766,  1574.2,   3.1219,  34.5860,2,  34.5885,2,    152.2,2,   152.3,2,   79.26,2,   34.49,2,    0.00,2,    2.48,2,   0.068,2,   0.032,2,   0.0000,2,  2263.4,2,  2348.9,2,   7.6266,2,    20.00,   0.001,2,-999.000,9,-999.000,9,   3.1219,2,-999.000,9, -999.00,9, -999.00,-999.000,9,-999.000,   40.05,2,   35.71,2, -33.9982,  98.4191,-999.000,-999.000,20090501,       2057
33RR20090320,        I05,     151,          1,         13,         13,2,20090501,       1948,   -33.9981,    98.4187,       4766,  1745.4,   2.8623,  34.6338,2,  34.6347,2,    155.5,2,   155.9,2,   84.47,2,   34.04,2,    0.00,2,    2.44,2,   0.047,2,   0.024,2,   0.0000,2,  2265.1,2,  2354.7,2,   7.6339,2,    20.00,   0.001,2,   1.990,2,  10.364,2,   2.8620,2,-999.000,9, -999.00,9, -999.00,   8.573,2,   0.011,   39.47,2,   35.29,2, -33.9981,  98.4191,   0.000,   0.184,20090501,       2054
33RR20090320,        I05,     151,          1,         12,         12,2,20090501,       1948,   -33.9981,    98.4187,       4766,  1946.6,   2.6244,  34.6735,2,  34.6743,2,    162.2,2,   161.9,2,   88.38,2,   33.37,2,    0.00,2,    2.38,2,   0.030,2,   0.015,2,   0.0000,2,  2266.4,2,  2358.1,2,   7.6446,2,    20.00,-999.000,9,-999.000,9,-999.000,9,   2.6239,2,-999.000,9, -999.00,9, -999.00,-999.000,9,-999.000,   39.62,2,   34.65,2, -33.9980,  98.4190,-999.000,-999.000,20090501,       2049
33RR20090320,        I05,     151,          1,         11,         11,2,20090501,       1948,   -33.9981,    98.4187,       4766,  2178.5,   2.3793,  34.7073,2,  34.7070,2,    172.0,2,   171.1,2,   90.99,2,   32.42,2,    0.00,2,    2.30,2,   0.022,2,   0.011,2,   0.0000,2,  2262.4,2,  2360.5,2,   7.6586,2,    20.00,   0.001,2,   1.971,2,  11.859,2,   2.3786,2,-999.000,9, -999.00,9, -999.00,   8.529,2,   0.011,   39.49,2,   33.98,2, -33.9980,  98.4190,   0.000,   0.186,20090501,       2044
33RR20090320,        I05,     151,          1,         10,         10,2,20090501,       1948,   -33.9981,    98.4187,       4766,  2430.2,   2.1354,  34.7316,2,  34.7320,2,    184.0,2,   184.4,2,   90.04,2,   31.30,2,    0.00,2,    2.22,2,   0.024,2,   0.013,2,   0.0000,2,  2255.8,2,  2358.4,2,   7.6751,2,    20.00,-999.000,9,-999.000,9,-999.000,9,   2.1354,2,-999.000,9, -999.00,9, -999.00,-999.000,9,-999.000,   39.34,2,   33.16,2, -33.9980,  98.4191,-999.000,-999.000,20090501,       2039
33RR20090320,        I05,     151,          1,          9,          9,2,20090501,       1948,   -33.9981,    98.4187,       4766,  2683.8,   1.9217,  34.7413,2,  34.7422,2,    191.6,2,   191.5,2,   93.40,2,   30.80,2,    0.00,2,    2.17,2,   0.030,2,   0.016,2,   0.0000,2,  2255.5,2,  2359.9,2,   7.6835,2,    20.00,   0.001,2,   1.998,2,  11.902,2,   1.9213,2,-999.000,9, -999.00,9, -999.00,   8.593,2,   0.011,   39.58,2,   32.53,2, -33.9981,  98.4192,   0.000,   0.197,20090501,       2034
33RR20090320,        I05,     151,          1,          8,          8,2,20090501,       1948,   -33.9981,    98.4187,       4766,  2935.0,   1.7229,  34.7408,2,  34.7410,2,    195.7,2,   195.7,2,   98.45,2,   30.80,2,    0.00,2,    2.17,2,   0.023,2,   0.010,2,   0.0000,2,  2256.3,2,  2359.7,2,   7.6860,2,    20.00,   0.001,2,   1.975,2,  11.658,2,   1.7231,2,-999.000,9, -999.00,9, -999.00,   8.525,2,   0.011,   39.88,2,   32.11,2, -33.9982,  98.4191,   0.000,   0.186,20090501,       2028
33RR20090320,        I05,     151,          1,          7,          7,2,20090501,       1948,   -33.9981,    98.4187,       4766,  3224.8,   1.4775,  34.7351,2,  34.7359,2,    199.8,2,   200.1,2,  105.19,2,   31.08,2,    0.00,2,    2.19,2,-999.000,5,-999.000,5,-999.0000,5,  2258.3,2,  2361.9,2,   7.6864,2,    20.00,   0.001,2,   1.969,2,  11.246,2,   1.4777,2,-999.000,9, -999.00,9, -999.00,   8.558,2,   0.011,   40.22,2,   32.30,2, -33.9982,  98.4192,   0.000,   0.185,20090501,       2022
33RR20090320,        I05,     151,          1,          6,          6,2,20090501,       1948,   -33.9981,    98.4187,       4766,  3528.0,   1.3114,  34.7276,2,  34.7281,2,    201.9,2,   201.5,2,  110.45,2,   31.35,2,    0.00,2,    2.21,2,   0.021,2,   0.013,2,   0.0000,2,  2261.4,2,  2362.9,2,   7.6864,2,    20.00,-999.000,9,-999.000,9,-999.000,9,   1.3114,2,-999.000,9, -999.00,9, -999.00,-999.000,9,-999.000,   40.21,2,   32.54,2, -33.9983,  98.4192,-999.000,-999.000,20090501,       2016
33RR20090320,        I05,     151,          1,          5,          5,2,20090501,       1948,   -33.9981,    98.4187,       4766,  3833.7,   1.1524,  34.7197,2,  34.7206,2,    204.0,2,   204.1,2,  115.53,2,   31.64,2,    0.00,2,    2.22,2,   0.027,2,   0.014,2,   0.0000,2,  2264.6,2,  2368.9,2,   7.6881,2,    20.00,   0.001,2,-999.000,9,-999.000,9,   1.1522,2,-999.000,9, -999.00,9, -999.00,-999.000,9,-999.000,   40.32,2,   33.56,2, -33.9983,  98.4190,-999.000,-999.000,20090501,       2010
33RR20090320,        I05,     151,          1,          4,          4,2,20090501,       1948,   -33.9981,    98.4187,       4766,  4139.1,   1.0687,  34.7148,2,  34.7154,2,    205.5,2,   205.4,2,  118.53,2,   31.85,2,    0.00,2,    2.23,2,   0.035,2,   0.020,2,   0.0000,2,  2267.0,2,  2372.2,2,   7.6893,2,    20.00,-999.000,9,-999.000,9,-999.000,9,   1.0687,2,-999.000,9, -999.00,9, -999.00,-999.000,9,-999.000,   40.51,2,   33.40,2, -33.9982,  98.4189,-999.000,-999.000,20090501,       2003
33RR20090320,        I05,     151,          1,          3,          3,2,20090501,       1948,   -33.9981,    98.4187,       4766,  4444.2,   1.0313,  34.7118,2,  34.7124,2,    206.3,2,   206.0,2,  120.21,2,   31.91,2,    0.00,2,    2.24,2,   0.037,2,   0.020,2,   0.0000,2,  2268.8,2,  2375.3,2,   7.6903,2,    20.00,   0.001,2,   2.011,2,   9.957,2,   1.0315,2,-999.000,9, -999.00,9, -999.00,   8.733,2,   0.011,   40.24,2,   33.72,2, -33.9982,  98.4188,   0.000,   0.186,20090501,       1957
33RR20090320,        I05,     151,          1,          2,          2,2,20090501,       1948,   -33.9981,    98.4187,       4766,  4636.9,   1.0328,  34.7105,2,  34.7116,2,    207.4,2,   206.7,2,  120.96,2,   32.02,2,    0.00,2,    2.24,2,   0.041,2,   0.023,2,   0.0000,2,  2268.0,2,  2375.0,2,   7.6902,2,    20.00,   0.001,2,   2.013,2,  10.302,2,   1.0322,2,-999.000,9, -999.00,9, -999.00,   8.722,2,   0.011,   40.11,2,   33.50,2, -33.9981,  98.4188,   0.000,   0.185,20090501,       1952
33RR20090320,        I05,     151,          1,          1,          1,2,20090501,       1948,   -33.9981,    98.4187,       4766,  4838.4,   1.0423,  34.7098,2,  34.7109,2,    206.6,2,   206.5,2,  121.14,2,   32.08,2,    0.00,2,    2.25,2,   0.046,6,   0.024,6,   0.0060,6,  2266.7,6,  2373.9,2,   7.6892,2,    20.00,   0.001,2,   1.972,2,   9.497,2,   1.0414,2,-999.000,9, -999.00,9, -999.00,   8.831,2,   0.011,   40.25,2,   33.65,2, -33.9981,  98.4187,   0.001,   0.214,20090501,       1948