BOTTLE,20220814CCHSIOAMB
EXPOCODE,SECT_ID,STNNBR,CASTNO,SAMPNO,BTLNBR,BTLNBR_FLAG_W,DATE,TIME,LATITUDE,LONGITUDE,DEPTH,CTDPRS,CTDTMP,CTDSAL,CTDSAL_FLAG_W,SALNTY,SALNTY_FLAG_W,CTDOXY,CTDOXY_FLAG_W,OXYGEN,OXYGEN_FLAG_W,SILCAT,SILCAT_FLAG_W,NITRAT,NITRAT_FLAG_W,NITRIT,NITRIT_FLAG_W,PHSPHT,PHSPHT_FLAG_W,CFC-11,CFC-11_FLAG_W,CFC-12,CFC-12_FLAG_W,SF6,SF6_FLAG_W,TCARBN,TCARBN_FLAG_W,ALKALI,ALKALI_FLAG_W,PH_TOT,PH_TOT_FLAG_W,PH_TMP,TRITUM,TRITUM_FLAG_W,HELIUM,HELIUM_FLAG_W,DELHE3,DELHE3_FLAG_W,REFTMP,REFTMP_FLAG_W,DELC13,DELC13_FLAG_W,DELC14,DELC14_FLAG_W,C14ERR,NEON,NEON_FLAG_W,NEONER,DOC,DOC_FLAG_W,TDN,TDN_FLAG_W,BTL_LAT,BTL_LON,HELIER,DELHER,BTL_DATE,BTL_TIME
,,,,,,,,,,,METERS,DBAR,ITS-90,PSS-78,,PSS-78,,UMOL/KG,,UMOL/KG,,UMOL/KG,,UMOL/KG,,UMOL/KG,,UMOL/KG,,PMOL/KG,,PMOL/KG,,FMOL/KG,,UMOL/KG,,UMOL/KG,,,,DEG C,TU,,NMOL/KG,,PERCNT,,DEG C,,/MILLE,,/MILLE,,/MILLE,NMOL/KG,,NMOL/KG,UMOL/KG,,UMOL/KG,,,,NMOL/KG,PERCNT,,
33RR20090320,        I05,     114,          2,         36,         36,2,20090422,       1534,   -30.3803,    79.2520,       3847,     4.7,  21.9942,  35.8269,2,  35.8272,2,    219.4,2,   219.4,2,    2.05,2,    0.02,2,    0.00,2,    0.10,2,-999.000,9,-999.000,9,-999.0000,9,  2049.2,6,  2346.4,2,   8.1164,2,    20.00,-999.000,9,-999.000,9,-999.000,9,  21.9990,2,-999.000,9, -999.00,9, -999.00,-999.000,9,-999.000, -999.00,9, -999.00,9, -30.3799,  79.2521,-999.000,-999.000,20090422,       1721
33RR20090320,        I05,     114,          2,         35,         35,2,20090422,       1534,   -30.3803,    79.2520,       3847,    35.7,  21.8931,  35.8459,2,  35.8471,2,    220.3,2,   220.0,2,    2.03,2,    0.02,2,    0.00,2,    0.10,2,-999.000,9,-999.000,9,-999.0000,9,  2053.6,2,  2347.3,2,   8.1130,2,    20.00,-999.000,9,-999.000,9,-999.000,9,  21.8909,2,-999.000,9, -999.00,9, -999.00,-999.000,9,-999.000, -999.00,9, -999.00,9, -30.3798,  79.2521,-999.000,-999.000,20090422,       1719
33RR20090320,        I05,     114,          2,         34,         34,2,20090422,       1534,   -30.3803,    79.2520,       3847,    60.3,  21.2066,  35.8772,2,  35.8744,2,    224.8,2,   225.7,2,    1.84,2,    0.02,2,    0.00,2,    0.13,2,-999.000,9,-999.000,9,-999.0000,9,  2066.9,2,  2352.1,2,   8.0966,2,    20.00,-999.000,9,-999.000,9,-999.000,9,  21.2024,2,-999.000,9, -999.00,9, -999.00,-999.000,9,-999.000, -999.00,9, -999.00,9, -30.3798,  79.2520,-999.000,-999.000,20090422,       1717
33RR20090320,        I05,     114,          2,         33,         33,2,20090422,       1534,   -30.3803,    79.2520,       3847,    85.9,  18.0232,  35.7435,2,  35.7464,2,    251.7,2,   251.2,2,    1.65,2,    0.02,2,    0.00,2,    0.15,2,-999.000,9,-999.000,9,-999.0000,9,  2072.0,2,  2341.0,2,   8.0796,2,    20.00,-999.000,9,-999.000,9,-999.000,9,  18.0169,2,-999.000,9, -999.00,9, -999.00,-999.000,9,-999.000, -999.00,9, -999.00,9, -30.3797,  79.2519,-999.000,-999.000,20090422,       1716
33RR20090320,        I05,     114,          2,         32,         32,2,20090422,       1534,   -30.3803,    79.2520,       3847,   110.4,  16.5029,  35.6306,4,  35.6128,2,    246.7,2,   246.0,2,    1.64,2,    0.02,2,    0.00,2,    0.20,2,-999.000,9,-999.000,9,-999.0000,9,  -999.0,9,  -999.0,9,-999.0000,9,  -999.00,-999.000,9,-999.000,9,-999.000,9,  16.5037,2,-999.000,9, -999.00,9, -999.00,-999.000,9,-999.000, -999.00,9, -999.00,9, -30.3797,  79.2519,-999.000,-999.000,20090422,       1714
33RR20090320,        I05,     114,          2,         31,         31,2,20090422,       1534,   -30.3803,    79.2520,       3847,   134.4,  14.7694,  35.3881,2,  35.3920,2,    242.2,2,   239.9,2,    1.81,2,    1.62,2,    0.16,2,    0.35,2,-999.000,9,-999.000,9,-999.0000,9,  2095.6,2,  2326.3,2,   8.0050,2,    20.00,-999.000,9,-999.000,9,-999.000,9,  14.8074,2,-999.000,9, -999.00,9, -999.00,-999.000,9,-999.000, -999.00,9, -999.00,9, -30.3796,  79.2519,-999.000,-999.000,20090422,       1713
33RR20090320,        I05,     114,          2,         30,         30,2,20090422,       1534,   -30.3803,    79.2520,       3847,   165.5,  13.9781,  35.3101,2,  35.3130,2,    231.7,2,   230.6,2,    2.32,2,    5.18,2,    0.01,2,    0.51,2,-999.000,9,-999.000,9,-999.0000,9,  -999.0,9,  -999.0,9,-999.0000,9,  -999.00,-999.000,9,-999.000,9,-999.000,9,  13.9657,2,-999.000,9, -999.00,9, -999.00,-999.000,9,-999.000, -999.00,9, -999.00,9, -30.3796,  79.2518,-999.000,-999.000,20090422,       1712
33RR20090320,        I05,     114,          2,         29,         29,2,20090422,       1534,   -30.3803,    79.2520,       3847,   213.9,  13.3315,  35.2656,2,  35.2632,2,    224.6,2,   225.7,2,    3.03,2,    7.46,2,    0.00,2,    0.63,2,-999.000,9,-999.000,9,-999.0000,9,  2115.5,2,  2315.9,2,   7.9475,2,    20.00,-999.000,9,-999.000,9,-999.000,9,  13.3262,2,-999.000,9, -999.00,9, -999.00,-999.000,9,-999.000, -999.00,9, -999.00,9, -30.3796,  79.2518,-999.000,-999.000,20090422,       1710
33RR20090320,        I05,     114,          2,         28,         28,2,20090422,       1534,   -30.3803,    79.2520,       3847,   264.3,  12.3710,  35.1147,2,  35.1143,2,    231.5,2,   233.9,2,    3.19,2,    9.22,2,    0.00,2,    0.73,2,-999.000,9,-999.000,9,-999.0000,9,  -999.0,9,  -999.0,9,-999.0000,9,  -999.00,-999.000,9,-999.000,9,-999.000,9,  12.3714,2,-999.000,9, -999.00,9, -999.00,-999.000,9,-999.000, -999.00,9, -999.00,9, -30.3796,  79.2517,-999.000,-999.000,20090422,       1709
33RR20090320,        I05,     114,          2,         27,         27,2,20090422,       1534,   -30.3803,    79.2520,       3847,   314.1,  11.9675,  35.0602,2,  35.0597,2,    235.1,2,   236.7,2,    3.36,2,   10.11,2,    0.00,2,    0.79,2,-999.000,9,-999.000,9,-999.0000,9,  -999.0,9,  -999.0,9,-999.0000,9,  -999.00,-999.000,9,-999.000,9,-999.000,9,  11.9637,2,-999.000,9, -999.00,9, -999.00,-999.000,9,-999.000, -999.00,9, -999.00,9, -30.3796,  79.2517,-999.000,-999.000,20090422,       1707
33RR20090320,        I05,     114,          2,         26,         26,2,20090422,       1534,   -30.3803,    79.2520,       3847,   365.3,  11.5711,  35.0077,2,  35.0072,2,    237.9,2,   239.2,2,    3.52,2,   10.93,2,    0.00,2,    0.84,2,-999.000,9,-999.000,9,-999.0000,9,  2121.3,2,  2303.5,2,   7.9136,2,    20.00,-999.000,9,-999.000,9,-999.000,9,  11.5749,2,-999.000,9, -999.00,9, -999.00,-999.000,9,-999.000, -999.00,9, -999.00,9, -30.3797,  79.2517,-999.000,-999.000,20090422,       1705
33RR20090320,        I05,     114,          2,         25,         25,2,20090422,       1534,   -30.3803,    79.2520,       3847,   415.1,  11.2170,  34.9554,2,  34.9537,2,    238.0,2,   238.0,2,    4.04,2,   12.02,2,    0.00,2,    0.90,2,-999.000,9,-999.000,9,-999.0000,9,  -999.0,9,  -999.0,9,-999.0000,9,  -999.00,-999.000,9,-999.000,9,-999.000,9,  11.2180,2,-999.000,9, -999.00,9, -999.00,-999.000,9,-999.000, -999.00,9, -999.00,9, -30.3797,  79.2517,-999.000,-999.000,20090422,       1704
33RR20090320,        I05,     114,          2,         24,         24,2,20090422,       1534,   -30.3803,    79.2520,       3847,   464.7,  10.9090,  34.9156,2,  34.9161,2,    236.9,2,   237.2,2,    4.03,2,   12.68,2,    0.00,2,    0.95,2,-999.000,9,-999.000,9,-999.0000,9,  -999.0,9,  -999.0,9,-999.0000,9,  -999.00,-999.000,9,-999.000,9,-999.000,9,  10.9092,2,-999.000,9, -999.00,9, -999.00,-999.000,9,-999.000, -999.00,9, -999.00,9, -30.3797,  79.2517,-999.000,-999.000,20090422,       1702
33RR20090320,        I05,     114,          2,         23,         23,2,20090422,       1534,   -30.3803,    79.2520,       3847,   534.1,  10.5540,  34.8696,2,  34.8693,2,    235.9,2,   236.5,2,    4.20,2,   13.47,2,    0.00,2,    1.00,2,-999.000,9,-999.000,9,-999.0000,9,  2123.4,2,  2296.8,2,   7.8876,2,    20.00,-999.000,9,-999.000,9,-999.000,9,  10.5547,2,-999.000,9, -999.00,9, -999.00,-999.000,9,-999.000, -999.00,9, -999.00,9, -30.3797,  79.2516,-999.000,-999.000,20090422,       1700
33RR20090320,        I05,     114,          2,         22,         22,2,20090422,       1534,   -30.3803,    79.2520,       3847,   635.6,   9.8259,  34.7609,2,  34.7608,2,    235.7,2,   234.9,2,    4.73,2,   15.48,2,    0.00,2,    1.12,2,-999.000,9,-999.000,9,-999.0000,9,  -999.0,9,  -999.0,9,-999.0000,9,  -999.00,-999.000,9,-999.000,9,-999.000,9,   9.8235,2,-999.000,9, -999.00,9, -999.00,-999.000,9,-999.000, -999.00,9, -999.00,9, -30.3798,  79.2516,-999.000,-999.000,20090422,       1657
33RR20090320,        I05,     114,          2,         21,         21,2,20090422,       1534,   -30.3803,    79.2520,       3847,   734.1,   8.9434,  34.6455,2,  34.6438,2,    226.4,2,   225.2,2,    6.68,2,   18.70,2,    0.00,2,    1.33,2,-999.000,9,-999.000,9,-999.0000,9,  -999.0,9,  -999.0,9,-999.0000,9,  -999.00,-999.000,9,-999.000,9,-999.000,9,   8.9407,2,-999.000,9, -999.00,9, -999.00,-999.000,9,-999.000, -999.00,9, -999.00,9, -30.3797,  79.2516,-999.000,-999.000,20090422,       1654
33RR20090320,        I05,     114,          2,         20,         20,2,20090422,       1534,   -30.3803,    79.2520,       3847,   835.1,   7.7931,  34.5369,2,  34.5366,2,    210.6,2,   209.3,2,   11.69,2,   22.81,2,    0.00,2,    1.60,2,-999.000,9,-999.000,9,-999.0000,9,  -999.0,9,  -999.0,9,-999.0000,9,  -999.00,-999.000,9,-999.000,9,-999.000,9,   7.7888,2,-999.000,9, -999.00,9, -999.00,-999.000,9,-999.000, -999.00,9, -999.00,9, -30.3797,  79.2518,-999.000,-999.000,20090422,       1651
33RR20090320,        I05,     114,          2,         19,         19,2,20090422,       1534,   -30.3803,    79.2520,       3847,   934.7,   6.1873,  34.4271,2,  34.4245,2,    200.6,2,   201.3,2,   20.14,2,   27.40,2,    0.00,2,    1.93,2,-999.000,9,-999.000,9,-999.0000,9,  2178.2,2,  2290.1,2,   7.7323,2,    20.00,-999.000,9,-999.000,9,-999.000,9,   6.1901,2,-999.000,9, -999.00,9, -999.00,-999.000,9,-999.000, -999.00,9, -999.00,9, -30.3797,  79.2519,-999.000,-999.000,20090422,       1648
33RR20090320,        I05,     114,          2,         18,         18,2,20090422,       1534,   -30.3803,    79.2520,       3847,  1036.6,   4.8462,  34.3742,2,  34.3750,2,    198.1,2,   198.1,2,   29.71,2,   30.19,2,    0.00,2,    2.14,2,-999.000,9,-999.000,9,-999.0000,9,  -999.0,9,  -999.0,9,-999.0000,9,  -999.00,-999.000,9,-999.000,9,-999.000,9,   4.8662,2,-999.000,9, -999.00,9, -999.00,-999.000,9,-999.000, -999.00,9, -999.00,9, -30.3798,  79.2520,-999.000,-999.000,20090422,       1645
33RR20090320,        I05,     114,          2,         17,         17,2,20090422,       1534,   -30.3803,    79.2520,       3847,  1134.8,   4.1924,  34.4019,2,  34.4000,2,    182.9,2,   184.5,2,   41.86,2,   32.24,2,    0.00,2,    2.31,2,-999.000,9,-999.000,9,-999.0000,9,  -999.0,9,  -999.0,9,-999.0000,9,  -999.00,-999.000,9,-999.000,9,-999.000,9,   4.1907,2,-999.000,9, -999.00,9, -999.00,-999.000,9,-999.000, -999.00,9, -999.00,9, -30.3799,  79.2520,-999.000,-999.000,20090422,       1642
33RR20090320,        I05,     114,          2,         16,         16,2,20090422,       1534,   -30.3803,    79.2520,       3847,  1236.4,   3.8623,  34.4591,2,  34.4610,2,    168.0,2,   166.4,2,   55.34,2,   33.81,2,    0.00,2,    2.43,2,-999.000,9,-999.000,9,-999.0000,9,  -999.0,9,  -999.0,9,-999.0000,9,  -999.00,-999.000,9,-999.000,9,-999.000,9,   3.8606,2,-999.000,9, -999.00,9, -999.00,-999.000,9,-999.000, -999.00,9, -999.00,9, -30.3801,  79.2520,-999.000,-999.000,20090422,       1639
33RR20090320,        I05,     114,          2,         15,         15,2,20090422,       1534,   -30.3803,    79.2520,       3847,  1331.5,   3.5694,  34.5048,2,  34.5040,2,    158.5,2,   158.6,2,   64.11,2,   34.44,2,    0.00,2,    2.49,2,-999.000,9,-999.000,9,-999.0000,9,  -999.0,9,  -999.0,9,-999.0000,9,  -999.00,-999.000,9,-999.000,9,-999.000,9,   3.5685,2,-999.000,9, -999.00,9, -999.00,-999.000,9,-999.000, -999.00,9, -999.00,9, -30.3803,  79.2520,-999.000,-999.000,20090422,       1636
33RR20090320,        I05,     114,          2,         14,         14,2,20090422,       1534,   -30.3803,    79.2520,       3847,  1432.3,   3.3641,  34.5476,2,  34.5471,2,    153.7,2,   153.7,2,   70.52,2,   34.70,2,    0.00,2,    2.52,2,-999.000,9,-999.000,9,-999.0000,9,  -999.0,9,  -999.0,9,-999.0000,9,  -999.00,-999.000,9,-999.000,9,-999.000,9,   3.3641,2,-999.000,9, -999.00,9, -999.00,-999.000,9,-999.000, -999.00,9, -999.00,9, -30.3803,  79.2522,-999.000,-999.000,20090422,       1632
33RR20090320,        I05,     114,          2,         13,         13,2,20090422,       1534,   -30.3803,    79.2520,       3847,  1533.0,   3.1791,  34.5863,2,  34.5862,2,    152.7,2,   152.6,2,   76.01,2,   34.64,2,    0.00,2,    2.51,2,-999.000,9,-999.000,9,-999.0000,9,  2263.7,2,  2342.4,2,   7.6324,2,    20.00,-999.000,9,-999.000,9,-999.000,9,   3.1772,2,-999.000,9, -999.00,9, -999.00,-999.000,9,-999.000, -999.00,9, -999.00,9, -30.3804,  79.2523,-999.000,-999.000,20090422,       1629
33RR20090320,        I05,     114,          2,         12,         12,2,20090422,       1534,   -30.3803,    79.2520,       3847,  1632.5,   3.0111,  34.6250,2,  34.6260,2,    153.2,2,   153.3,2,   80.78,2,   34.38,2,    0.00,2,    2.49,2,-999.000,9,-999.000,9,-999.0000,9,  -999.0,9,  -999.0,9,-999.0000,9,  -999.00,-999.000,9,-999.000,9,-999.000,9,   3.0113,2,-999.000,9, -999.00,9, -999.00,-999.000,9,-999.000, -999.00,9, -999.00,9, -30.3804,  79.2522,-999.000,-999.000,20090422,       1626
33RR20090320,        I05,     114,          2,         11,         11,2,20090422,       1534,   -30.3803,    79.2520,       3847,  1733.7,   2.8548,  34.6496,2,  34.6493,2,    156.6,2,   156.3,2,   83.70,2,   34.07,2,    0.00,2,    2.47,2,-999.000,9,-999.000,9,-999.0000,9,  -999.0,9,  -999.0,9,-999.0000,9,  -999.00,-999.000,9,-999.000,9,-999.000,9,   2.8561,2,-999.000,9, -999.00,9, -999.00,-999.000,9,-999.000, -999.00,9, -999.00,9, -30.3804,  79.2521,-999.000,-999.000,20090422,       1623
33RR20090320,        I05,     114,          2,         10,         10,2,20090422,       1534,   -30.3803,    79.2520,       3847,  1885.2,   2.6275,  34.6820,2,  34.6821,2,    163.0,2,   163.0,2,   89.03,2,   33.37,2,    0.00,2,    2.41,2,-999.000,9,-999.000,9,-999.0000,9,  -999.0,9,  -999.0,9,-999.0000,9,  -999.00,-999.000,9,-999.000,9,-999.000,9,   2.6273,2,-999.000,9, -999.00,9, -999.00,-999.000,9,-999.000, -999.00,9, -999.00,9, -30.3805,  79.2522,-999.000,-999.000,20090422,       1619
33RR20090320,        I05,     114,          2,          9,          9,2,20090422,       1534,   -30.3803,    79.2520,       3847,  2081.0,   2.3398,  34.7104,2,  34.7098,2,    174.8,2,   176.1,2,   89.01,2,   32.16,2,    0.00,2,    2.30,2,-999.000,9,-999.000,9,-999.0000,9,  2259.8,2,  2353.5,2,   7.6674,2,    20.00,-999.000,9,-999.000,9,-999.000,9,   2.3410,2,-999.000,9, -999.00,9, -999.00,-999.000,9,-999.000, -999.00,9, -999.00,9, -30.3804,  79.2521,-999.000,-999.000,20090422,       1614
33RR20090320,        I05,     114,          2,          8,          8,2,20090422,       1534,   -30.3803,    79.2520,       3847,  2332.9,   2.0481,  34.7338,2,  34.7332,2,    186.2,2,   186.6,2,   92.68,2,   31.37,2,    0.00,2,    2.23,2,-999.000,9,-999.000,9,-999.0000,9,  -999.0,9,  -999.0,9,-999.0000,9,  -999.00,-999.000,9,-999.000,9,-999.000,9,   2.0486,2,-999.000,9, -999.00,9, -999.00,-999.000,9,-999.000, -999.00,9, -999.00,9, -30.3805,  79.2520,-999.000,-999.000,20090422,       1608
33RR20090320,        I05,     114,          2,          7,          7,2,20090422,       1534,   -30.3803,    79.2520,       3847,  2585.1,   1.8266,  34.7406,2,  34.7405,2,    192.8,2,   193.2,2,   96.54,2,   31.05,2,    0.00,2,    2.20,2,-999.000,9,-999.000,9,-999.0000,9,  -999.0,9,  -999.0,9,-999.0000,9,  -999.00,-999.000,9,-999.000,9,-999.000,9,   1.8279,2,-999.000,9, -999.00,9, -999.00,-999.000,9,-999.000, -999.00,9, -999.00,9, -30.3803,  79.2517,-999.000,-999.000,20090422,       1603
33RR20090320,        I05,     114,          2,          6,          6,2,20090422,       1534,   -30.3803,    79.2520,       3847,  2839.0,   1.6196,  34.7351,2,  34.7348,2,    193.8,2,   194.0,2,  105.23,2,   31.62,2,    0.00,2,    2.23,2,-999.000,9,-999.000,9,-999.0000,9,  -999.0,9,  -999.0,9,-999.0000,9,  -999.00,-999.000,9,-999.000,9,-999.000,9,   1.6184,2,-999.000,9, -999.00,9, -999.00,-999.000,9,-999.000, -999.00,9, -999.00,9, -30.3802,  79.2516,-999.000,-999.000,20090422,       1557
33RR20090320,        I05,     114,          2,          5,          5,2,20090422,       1534,   -30.3803,    79.2520,       3847,  3086.2,   1.4947,  34.7323,2,  34.7317,2,    195.0,2,   195.8,2,  109.47,2,   31.78,2,    0.00,2,    2.24,2,-999.000,9,-999.000,9,-999.0000,9,  2265.2,2,  2365.7,2,   7.6906,2,    20.00,-999.000,9,-999.000,9,-999.000,9,   1.4955,2,-999.000,9, -999.00,9, -999.00,-999.000,9,-999.000, -999.00,9, -999.00,9, -30.3800,  79.2516,-999.000,-999.000,20090422,       1552
33RR20090320,        I05,     114,          2,          4,          4,2,20090422,       1534,   -30.3803,    79.2520,       3847,  3339.0,   1.4501,  34.7301,2,  34.7299,2,    195.3,2,   195.3,2,  112.42,2,   31.89,2,    0.00,2,    2.25,2,-999.000,9,-999.000,9,-999.0000,9,  -999.0,9,  -999.0,9,-999.0000,9,  -999.00,-999.000,9,-999.000,9,-999.000,9,   1.4496,2,-999.000,9, -999.00,9, -999.00,-999.000,9,-999.000, -999.00,9, -999.00,9, -30.3800,  79.2518,-999.000,-999.000,20090422,       1546
33RR20090320,        I05,     114,          2,          3,          3,2,20090422,       1534,   -30.3803,    79.2520,       3847,  3592.9,   1.4368,  34.7280,2,  34.7274,2,    194.9,2,   194.7,2,  114.99,2,   32.15,2,    0.00,2,    2.27,2,-999.000,9,-999.000,9,-999.0000,9,  -999.0,9,  -999.0,9,-999.0000,9,  -999.00,-999.000,9,-999.000,9,-999.000,9,   1.4366,2,-999.000,9, -999.00,9, -999.00,-999.000,9,-999.000, -999.00,9, -999.00,9, -30.3801,  79.2519,-999.000,-999.000,20090422,       1541
33RR20090320,        I05,     114,          2,          2,          2,2,20090422,       1534,   -30.3803,    79.2520,       3847,  3780.3,   1.4446,  34.7277,2,  34.7270,2,    195.0,2,   194.8,2,  115.53,2,   32.20,2,    0.00,2,    2.27,2,-999.000,9,-999.000,9,-999.0000,9,  -999.0,9,  -999.0,9,-999.0000,9,  -999.00,-999.000,9,-999.000,9,-999.000,9,   1.4445,2,-999.000,9, -999.00,9, -999.00,-999.000,9,-999.000, -999.00,9, -999.00,9, -30.3802,  79.2520,-999.000,-999.000,20090422,       1537
33RR20090320,        I05,     114,          2,          1,          1,2,20090422,       1534,   -30.3803,    79.2520,       3847,  3891.8,   1.4544,  34.7272,2,  34.7262,2,    194.5,2,   194.3,2,  115.68,2,   32.20,2,    0.00,2,    2.27,2,-999.000,9,-999.000,9,-999.0000,9,  2274.8,6,  2375.3,2,   7.6940,2,    20.00,-999.000,9,-999.000,9,-999.000,9,   1.4532,2,-999.000,9, -999.00,9, -999.00,-999.000,9,-999.000, -999.00,9, -999.00,9, -30.3803,  79.2520,-999.000,-999.000,20090422,       1534