BOTTLE,20220814CCHSIOAMB
EXPOCODE,SECT_ID,STNNBR,CASTNO,SAMPNO,BTLNBR,BTLNBR_FLAG_W,DATE,TIME,LATITUDE,LONGITUDE,DEPTH,CTDPRS,CTDTMP,CTDSAL,CTDSAL_FLAG_W,SALNTY,SALNTY_FLAG_W,CTDOXY,CTDOXY_FLAG_W,OXYGEN,OXYGEN_FLAG_W,SILCAT,SILCAT_FLAG_W,NITRAT,NITRAT_FLAG_W,NITRIT,NITRIT_FLAG_W,PHSPHT,PHSPHT_FLAG_W,CFC-11,CFC-11_FLAG_W,CFC-12,CFC-12_FLAG_W,SF6,SF6_FLAG_W,TCARBN,TCARBN_FLAG_W,ALKALI,ALKALI_FLAG_W,PH_TOT,PH_TOT_FLAG_W,PH_TMP,TRITUM,TRITUM_FLAG_W,HELIUM,HELIUM_FLAG_W,DELHE3,DELHE3_FLAG_W,REFTMP,REFTMP_FLAG_W,DELC13,DELC13_FLAG_W,DELC14,DELC14_FLAG_W,C14ERR,NEON,NEON_FLAG_W,NEONER,DOC,DOC_FLAG_W,TDN,TDN_FLAG_W,BTL_LAT,BTL_LON,HELIER,DELHER,BTL_DATE,BTL_TIME
,,,,,,,,,,,METERS,DBAR,ITS-90,PSS-78,,PSS-78,,UMOL/KG,,UMOL/KG,,UMOL/KG,,UMOL/KG,,UMOL/KG,,UMOL/KG,,PMOL/KG,,PMOL/KG,,FMOL/KG,,UMOL/KG,,UMOL/KG,,,,DEG C,TU,,NMOL/KG,,PERCNT,,DEG C,,/MILLE,,/MILLE,,/MILLE,NMOL/KG,,NMOL/KG,UMOL/KG,,UMOL/KG,,,,NMOL/KG,PERCNT,,
33RR20090320,        I05,      21,          1,         25,         25,2,20090328,       0841,   -32.9969,    35.5866,       1462,     7.6,  24.5146,  35.5008,2,  35.5010,2,    209.1,2,   209.1,2,    1.96,2,    0.04,2,    0.00,2,    0.06,2,   1.774,6,   1.105,6,   0.9870,6,  2000.4,6,  2325.1,2,   8.1599,2,    20.00,-999.000,9,-999.000,9,-999.000,9,  24.5192,2,-999.000,9, -999.00,9, -999.00,-999.000,9,-999.000, -999.00,9, -999.00,9, -32.9970,  35.5864,-999.000,-999.000,20090328,       0936
33RR20090320,        I05,      21,          1,         24,         24,2,20090328,       0841,   -32.9969,    35.5866,       1462,    37.4,  24.4599,  35.5002,2,  35.5001,2,    208.9,2,   209.2,2,    1.93,2,    0.04,2,    0.00,2,    0.06,2,-999.000,9,-999.000,9,-999.0000,9,  1999.1,2,  2326.8,2,   8.1598,2,    20.00,-999.000,9,-999.000,9,-999.000,9,  24.4594,2,-999.000,9, -999.00,9, -999.00,-999.000,9,-999.000, -999.00,9, -999.00,9, -32.9969,  35.5864,-999.000,-999.000,20090328,       0934
33RR20090320,        I05,      21,          1,         23,         23,2,20090328,       0841,   -32.9969,    35.5866,       1462,    62.1,  23.5323,  35.4951,2,  35.4933,2,    212.4,2,   212.6,2,    1.90,2,    0.04,2,    0.00,2,    0.06,2,   1.854,2,   1.152,2,   1.0310,2,  2009.0,2,  2325.3,2,   8.1432,2,    20.00,-999.000,9,-999.000,9,-999.000,9,  23.5239,2,-999.000,9, -999.00,9, -999.00,-999.000,9,-999.000, -999.00,9, -999.00,9, -32.9969,  35.5864,-999.000,-999.000,20090328,       0933
33RR20090320,        I05,      21,          1,         22,         22,2,20090328,       0841,   -32.9969,    35.5866,       1462,    88.2,  23.0155,  35.4832,2,  35.4835,2,    212.1,2,   211.3,2,    2.08,2,    0.04,2,    0.01,2,    0.09,2,-999.000,9,-999.000,9,-999.0000,9,  2016.4,2,  2325.0,2,   8.1309,2,    20.00,-999.000,9,-999.000,9,-999.000,9,  23.0187,2,-999.000,9, -999.00,9, -999.00,-999.000,9,-999.000, -999.00,9, -999.00,9, -32.9968,  35.5865,-999.000,-999.000,20090328,       0932
33RR20090320,        I05,      21,          1,         21,         21,2,20090328,       0841,   -32.9969,    35.5866,       1462,   113.5,  20.5162,  35.4759,2,  35.4756,2,    185.1,2,   183.2,2,    3.83,2,    3.90,2,    0.01,2,    0.35,2,-999.000,9,-999.000,9,-999.0000,9,  2058.4,2,  2323.7,2,   8.0528,2,    20.00,-999.000,9,-999.000,9,-999.000,9,  20.5450,2,-999.000,9, -999.00,9, -999.00,-999.000,9,-999.000, -999.00,9, -999.00,9, -32.9969,  35.5865,-999.000,-999.000,20090328,       0930
33RR20090320,        I05,      21,          1,         20,         20,2,20090328,       0841,   -32.9969,    35.5866,       1462,   138.1,  19.1425,  35.5203,2,  35.5200,2,    194.7,2,   194.9,2,    4.00,2,    3.96,2,    0.01,2,    0.36,2,   2.199,2,   1.325,2,   1.0330,2,  2068.0,2,  2327.2,2,   8.0434,2,    20.00,-999.000,9,-999.000,9,-999.000,9,  19.1340,2,-999.000,9, -999.00,9, -999.00,-999.000,9,-999.000, -999.00,9, -999.00,9, -32.9969,  35.5865,-999.000,-999.000,20090328,       0929
33RR20090320,        I05,      21,          1,         19,         19,2,20090328,       0841,   -32.9969,    35.5866,       1462,   164.7,  18.3695,  35.5485,2,  35.5482,2,    210.6,2,   211.1,2,    3.18,2,    2.44,2,    0.00,2,    0.28,2,-999.000,9,-999.000,9,-999.0000,9,  2063.7,2,  2329.1,2,   8.0539,2,    20.00,-999.000,9,-999.000,9,-999.000,9,  18.3883,2,-999.000,9, -999.00,9, -999.00,-999.000,9,-999.000, -999.00,9, -999.00,9, -32.9970,  35.5866,-999.000,-999.000,20090328,       0927
33RR20090320,        I05,      21,          1,         18,         18,2,20090328,       0841,   -32.9969,    35.5866,       1462,   188.4,  17.9568,  35.5548,2,  35.5535,2,    215.2,2,   213.9,2,    2.96,2,    2.83,2,    0.01,2,    0.29,2,-999.000,9,-999.000,9,-999.0000,9,  2063.3,2,  2329.7,2,   8.0531,2,    20.00,-999.000,9,-999.000,9,-999.000,9,  17.9568,2,-999.000,9, -999.00,9, -999.00,-999.000,9,-999.000, -999.00,9, -999.00,9, -32.9971,  35.5865,-999.000,-999.000,20090328,       0926
33RR20090320,        I05,      21,          1,         17,         17,2,20090328,       0841,   -32.9969,    35.5866,       1462,   212.0,  17.6562,  35.5470,2,  35.5466,2,    207.9,2,   210.0,2,    3.33,2,    3.65,2,    0.00,2,    0.34,2,   2.355,2,   1.425,2,   1.1330,2,  2070.7,2,  2327.6,2,   8.0377,2,    20.00,-999.000,9,-999.000,9,-999.000,9,  17.6469,2,-999.000,9, -999.00,9, -999.00,-999.000,9,-999.000, -999.00,9, -999.00,9, -32.9972,  35.5865,-999.000,-999.000,20090328,       0924
33RR20090320,        I05,      21,          1,         16,         16,2,20090328,       0841,   -32.9969,    35.5866,       1462,   237.3,  17.1981,  35.5487,2,  35.5480,2,    210.9,2,   210.1,2,    3.49,2,    4.03,2,    0.00,2,    0.38,2,-999.000,9,-999.000,9,-999.0000,9,  2077.2,2,  2329.2,2,   8.0248,2,    20.00,-999.000,9,-999.000,9,-999.000,9,  17.1996,2,-999.000,9, -999.00,9, -999.00,-999.000,9,-999.000, -999.00,9, -999.00,9, -32.9971,  35.5865,-999.000,-999.000,20090328,       0923
33RR20090320,        I05,      21,          1,         15,         15,2,20090328,       0841,   -32.9969,    35.5866,       1462,   268.6,  16.9374,  35.5484,2,  35.5474,2,    214.8,2,   214.6,2,    3.46,2,    3.99,2,    0.00,2,    0.37,2,   2.444,2,   1.469,2,   1.1620,2,  2077.2,2,  2326.9,2,   8.0259,2,    20.00,-999.000,9,-999.000,9,-999.000,9,  16.9369,2,-999.000,9, -999.00,9, -999.00,-999.000,9,-999.000, -999.00,9, -999.00,9, -32.9971,  35.5865,-999.000,-999.000,20090328,       0921
33RR20090320,        I05,      21,          1,         14,         14,2,20090328,       0841,   -32.9969,    35.5866,       1462,   315.8,  16.4703,  35.5272,2,  35.5271,2,    212.1,2,   212.7,2,    3.83,2,    4.85,2,    0.00,2,    0.42,2,-999.000,9,-999.000,9,-999.0000,9,  -999.0,9,  -999.0,9,-999.0000,9,  -999.00,-999.000,9,-999.000,9,-999.000,9,  16.4641,2,-999.000,9, -999.00,9, -999.00,-999.000,9,-999.000, -999.00,9, -999.00,9, -32.9972,  35.5865,-999.000,-999.000,20090328,       0919
33RR20090320,        I05,      21,          1,         13,         13,2,20090328,       0841,   -32.9969,    35.5866,       1462,   366.4,  15.6365,  35.4712,2,  35.4709,2,    203.9,2,   203.2,2,    4.40,2,    6.72,2,    0.00,2,    0.56,2,-999.000,9,-999.000,9,-999.0000,9,  -999.0,9,  -999.0,9,-999.0000,9,  -999.00,-999.000,9,-999.000,9,-999.000,9,  15.6345,2,-999.000,9, -999.00,9, -999.00,-999.000,9,-999.000, -999.00,9, -999.00,9, -32.9973,  35.5864,-999.000,-999.000,20090328,       0917
33RR20090320,        I05,      21,          1,         12,         12,2,20090328,       0841,   -32.9969,    35.5866,       1462,   417.2,  14.7556,  35.4057,2,  35.4074,2,    202.9,2,   203.8,2,    4.77,2,    8.02,2,    0.00,2,    0.63,2,   2.714,2,   1.577,2,   1.0180,2,  -999.0,9,  -999.0,9,-999.0000,9,  -999.00,-999.000,9,-999.000,9,-999.000,9,  14.7714,2,-999.000,9, -999.00,9, -999.00,-999.000,9,-999.000, -999.00,9, -999.00,9, -32.9973,  35.5865,-999.000,-999.000,20090328,       0915
33RR20090320,        I05,      21,          1,         11,         11,2,20090328,       0841,   -32.9969,    35.5866,       1462,   465.6,  13.9720,  35.3425,2,  35.3411,2,    211.3,2,   210.9,2,    4.34,2,    8.65,2,    0.00,2,    0.68,2,-999.000,9,-999.000,9,-999.0000,9,  -999.0,9,  -999.0,9,-999.0000,9,  -999.00,-999.000,9,-999.000,9,-999.000,9,  13.9654,2,-999.000,9, -999.00,9, -999.00,-999.000,9,-999.000, -999.00,9, -999.00,9, -32.9973,  35.5865,-999.000,-999.000,20090328,       0913
33RR20090320,        I05,      21,          1,         10,         10,2,20090328,       0841,   -32.9969,    35.5866,       1462,   535.5,  12.9519,  35.2216,2,  35.2209,2,    216.2,2,   216.9,2,    4.52,2,   10.33,2,    0.00,2,    0.77,2,-999.000,9,-999.000,9,-999.0000,9,  -999.0,9,  -999.0,9,-999.0000,9,  -999.00,-999.000,9,-999.000,9,-999.000,9,  12.9507,2,-999.000,9, -999.00,9, -999.00,-999.000,9,-999.000, -999.00,9, -999.00,9, -32.9973,  35.5866,-999.000,-999.000,20090328,       0911
33RR20090320,        I05,      21,          1,          9,          9,2,20090328,       0841,   -32.9969,    35.5866,       1462,   635.6,  11.9734,  35.0802,2,  35.0756,2,    219.4,2,   218.7,2,    4.69,2,   12.25,2,    0.00,2,    0.90,2,   3.098,2,   1.718,2,   0.9180,2,  -999.0,9,  -999.0,9,-999.0000,9,  -999.00,-999.000,9,-999.000,9,-999.000,9,  11.9706,2,-999.000,9, -999.00,9, -999.00,-999.000,9,-999.000, -999.00,9, -999.00,9, -32.9973,  35.5868,-999.000,-999.000,20090328,       0908
33RR20090320,        I05,      21,          1,          8,          8,2,20090328,       0841,   -32.9969,    35.5866,       1462,   734.7,  11.0609,  34.9524,2,  34.9518,2,    218.5,2,   218.5,2,    5.86,2,   14.17,2,    0.00,2,    1.02,2,-999.000,9,-999.000,9,-999.0000,9,  -999.0,9,  -999.0,9,-999.0000,9,  -999.00,-999.000,9,-999.000,9,-999.000,9,  11.0599,2,-999.000,9, -999.00,9, -999.00,-999.000,9,-999.000, -999.00,9, -999.00,9, -32.9973,  35.5868,-999.000,-999.000,20090328,       0905
33RR20090320,        I05,      21,          1,          7,          7,2,20090328,       0841,   -32.9969,    35.5866,       1462,   836.8,   9.8885,  34.7967,2,  34.7976,2,    212.7,2,   212.8,2,    8.21,2,   17.49,2,    0.00,2,    1.24,2,-999.000,9,-999.000,9,-999.0000,9,  -999.0,9,  -999.0,9,-999.0000,9,  -999.00,-999.000,9,-999.000,9,-999.000,9,   9.8879,2,-999.000,9, -999.00,9, -999.00,-999.000,9,-999.000, -999.00,9, -999.00,9, -32.9970,  35.5866,-999.000,-999.000,20090328,       0902
33RR20090320,        I05,      21,          1,          6,          6,2,20090328,       0841,   -32.9969,    35.5866,       1462,   937.6,   8.5425,  34.6531,2,  34.6529,2,    200.9,2,   202.1,2,   13.77,2,   21.79,2,    0.00,2,    1.52,2,-999.000,9,-999.000,9,-999.0000,9,  -999.0,9,  -999.0,9,-999.0000,9,  -999.00,-999.000,9,-999.000,9,-999.000,9,   8.5450,2,-999.000,9, -999.00,9, -999.00,-999.000,9,-999.000, -999.00,9, -999.00,9, -32.9971,  35.5869,-999.000,-999.000,20090328,       0858
33RR20090320,        I05,      21,          1,          5,          5,2,20090328,       0841,   -32.9969,    35.5866,       1462,  1037.1,   7.1719,  34.5461,2,  34.5459,2,    191.2,2,   191.6,2,   21.93,2,   25.92,2,    0.00,2,    1.83,2,   2.092,2,   1.060,2,   0.3400,2,  -999.0,9,  -999.0,9,-999.0000,9,  -999.00,-999.000,9,-999.000,9,-999.000,9,   7.1707,2,-999.000,9, -999.00,9, -999.00,-999.000,9,-999.000, -999.00,9, -999.00,9, -32.9970,  35.5868,-999.000,-999.000,20090328,       0855
33RR20090320,        I05,      21,          1,          4,          4,2,20090328,       0841,   -32.9969,    35.5866,       1462,  1138.0,   5.9294,  34.4871,2,  34.4852,2,    182.9,2,   184.2,2,   31.93,2,   29.20,2,    0.00,2,    2.06,2,-999.000,9,-999.000,9,-999.0000,9,  -999.0,9,  -999.0,9,-999.0000,9,  -999.00,-999.000,9,-999.000,9,-999.000,9,   5.9340,2,-999.000,9, -999.00,9, -999.00,-999.000,9,-999.000, -999.00,9, -999.00,9, -32.9967,  35.5866,-999.000,-999.000,20090328,       0851
33RR20090320,        I05,      21,          1,          3,          3,2,20090328,       0841,   -32.9969,    35.5866,       1462,  1238.2,   5.1389,  34.4702,2,  34.4671,2,    181.0,2,   180.5,2,   39.55,2,   30.92,2,    0.00,2,    2.21,2,-999.000,9,-999.000,9,-999.0000,9,  -999.0,9,  -999.0,9,-999.0000,9,  -999.00,-999.000,9,-999.000,9,-999.000,9,   5.1394,2,-999.000,9, -999.00,9, -999.00,-999.000,9,-999.000, -999.00,9, -999.00,9, -32.9967,  35.5866,-999.000,-999.000,20090328,       0848
33RR20090320,        I05,      21,          1,          2,          2,2,20090328,       0841,   -32.9969,    35.5866,       1462,  1339.2,   4.3406,  34.4636,2,  34.4630,2,    179.0,2,   178.9,2,   47.58,2,   32.25,2,    0.00,2,    2.31,2,-999.000,9,-999.000,9,-999.0000,9,  -999.0,9,  -999.0,9,-999.0000,9,  -999.00,-999.000,9,-999.000,9,-999.000,9,   4.3391,2,-999.000,9, -999.00,9, -999.00,-999.000,9,-999.000, -999.00,9, -999.00,9, -32.9967,  35.5866,-999.000,-999.000,20090328,       0845
33RR20090320,        I05,      21,          1,          1,          1,2,20090328,       0841,   -32.9969,    35.5866,       1462,  1459.8,   3.9035,  34.5166,2,  34.5146,2,    169.8,2,   170.0,2,   57.26,2,   33.09,2,    0.00,2,    2.38,2,-999.000,9,-999.000,9,-999.0000,9,  -999.0,9,  -999.0,9,-999.0000,9,  -999.00,-999.000,9,-999.000,9,-999.000,9,   3.9010,2,-999.000,9, -999.00,9, -999.00,-999.000,9,-999.000, -999.00,9, -999.00,9, -32.9968,  35.5866,-999.000,-999.000,20090328,       0841