BOTTLE,20220814CCHSIOAMB
EXPOCODE,SECT_ID,STNNBR,CASTNO,SAMPNO,BTLNBR,BTLNBR_FLAG_W,DATE,TIME,LATITUDE,LONGITUDE,DEPTH,CTDPRS,CTDTMP,CTDSAL,CTDSAL_FLAG_W,SALNTY,SALNTY_FLAG_W,CTDOXY,CTDOXY_FLAG_W,OXYGEN,OXYGEN_FLAG_W,SILCAT,SILCAT_FLAG_W,NITRAT,NITRAT_FLAG_W,NITRIT,NITRIT_FLAG_W,PHSPHT,PHSPHT_FLAG_W,CFC-11,CFC-11_FLAG_W,CFC-12,CFC-12_FLAG_W,SF6,SF6_FLAG_W,TCARBN,TCARBN_FLAG_W,ALKALI,ALKALI_FLAG_W,PH_TOT,PH_TOT_FLAG_W,PH_TMP,TRITUM,TRITUM_FLAG_W,HELIUM,HELIUM_FLAG_W,DELHE3,DELHE3_FLAG_W,REFTMP,REFTMP_FLAG_W,DELC13,DELC13_FLAG_W,DELC14,DELC14_FLAG_W,C14ERR,NEON,NEON_FLAG_W,NEONER,DOC,DOC_FLAG_W,TDN,TDN_FLAG_W,BTL_LAT,BTL_LON,HELIER,DELHER,BTL_DATE,BTL_TIME
,,,,,,,,,,,METERS,DBAR,ITS-90,PSS-78,,PSS-78,,UMOL/KG,,UMOL/KG,,UMOL/KG,,UMOL/KG,,UMOL/KG,,UMOL/KG,,PMOL/KG,,PMOL/KG,,FMOL/KG,,UMOL/KG,,UMOL/KG,,,,DEG C,TU,,NMOL/KG,,PERCNT,,DEG C,,/MILLE,,/MILLE,,/MILLE,NMOL/KG,,NMOL/KG,UMOL/KG,,UMOL/KG,,,,NMOL/KG,PERCNT,,
33RR20090320,        I05,       2,          1,         22,         22,2,20090324,       0634,   -31.0922,    30.3592,        876,     2.9,  26.2159,  35.5454,2,  35.5483,2,    201.3,2,   203.0,2,    1.21,2,    0.00,2,    0.00,2,    0.05,2,   1.663,2,   1.011,2,   0.9750,2,  1997.1,6,  2322.4,2,   8.1738,2,    20.00,-999.000,9,-999.000,9,-999.000,9,  26.2156,2,-999.000,9, -999.00,9, -999.00,-999.000,9,-999.000,   68.51,2,    4.23,2, -31.1148,  30.3355,-999.000,-999.000,20090324,       0724
33RR20090320,        I05,       2,          1,         21,         21,2,20090324,       0634,   -31.0922,    30.3592,        876,    27.9,  26.1779,  35.5390,2,  35.5404,2,    203.2,2,   202.8,2,    1.15,2,    0.00,2,    0.00,2,    0.05,2,   1.661,2,   1.018,2,   0.9870,2,  1997.2,2,  2322.2,2,   8.1731,2,    20.00,-999.000,9,-999.000,9,-999.000,9,  26.1801,2,-999.000,9, -999.00,9, -999.00,-999.000,9,-999.000,   66.39,2,    3.97,2, -31.1131,  30.3371,-999.000,-999.000,20090324,       0721
33RR20090320,        I05,       2,          1,         20,         20,2,20090324,       0634,   -31.0922,    30.3592,        876,    53.0,  23.1020,  35.3872,2,  35.3890,2,    196.6,2,   194.8,2,    2.65,2,    1.10,2,    0.14,2,    0.22,2,   1.892,2,   1.132,2,   1.0210,2,  2032.5,2,  2316.5,2,   8.1022,2,    20.00,-999.000,9,-999.000,9,-999.000,9,  23.1618,2,-999.000,9, -999.00,9, -999.00,-999.000,9,-999.000,   59.99,2,    5.51,2, -31.1117,  30.3383,-999.000,-999.000,20090324,       0719
33RR20090320,        I05,       2,          1,         19,         19,2,20090324,       0634,   -31.0922,    30.3592,        876,    77.2,  19.9552,  35.3986,2,  35.4000,2,    170.5,2,   159.2,2,    5.53,2,    7.03,2,    0.05,2,    0.56,2,   2.054,2,   1.198,2,   0.9000,2,  2084.0,2,  2318.3,2,   8.0042,2,    20.00,-999.000,9,-999.000,9,-999.000,9,  19.9535,2,-999.000,9, -999.00,9, -999.00,-999.000,9,-999.000,   54.07,2,   10.19,2, -31.1102,  30.3396,-999.000,-999.000,20090324,       0717
33RR20090320,        I05,       2,          1,         18,         18,2,20090324,       0634,   -31.0922,    30.3592,        876,   102.6,  17.9153,  35.4115,2,  35.4131,2,    154.0,2,   153.1,2,    7.82,2,    9.76,2,    0.01,2,    0.72,2,   2.153,2,   1.237,2,   0.9620,2,  2108.7,2,  2320.8,2,   7.9576,2,    20.00,-999.000,9,-999.000,9,-999.000,9,  17.9142,2,-999.000,9, -999.00,9, -999.00,-999.000,9,-999.000,   51.04,2,   12.70,2, -31.1089,  30.3407,-999.000,-999.000,20090324,       0716
33RR20090320,        I05,       2,          1,         17,         17,2,20090324,       0634,   -31.0922,    30.3592,        876,   126.7,  17.0733,  35.5278,2,  35.5277,2,    191.3,2,   196.3,2,    4.02,2,    5.25,2,    0.01,2,    0.47,2,   2.420,2,   1.398,2,   1.1580,2,  2089.7,2,  2325.3,2,   8.0065,2,    20.00,-999.000,9,-999.000,9,-999.000,9,  17.0736,2,-999.000,9, -999.00,9, -999.00,-999.000,9,-999.000,   50.37,2,    8.10,2, -31.1075,  30.3419,-999.000,-999.000,20090324,       0714
33RR20090320,        I05,       2,          1,         16,         16,2,20090324,       0634,   -31.0922,    30.3592,        876,   152.9,  15.8169,  35.4001,2,  35.4052,2,    170.8,2,   171.0,2,    7.49,2,    9.94,2,    0.01,2,    0.74,2,   2.114,3,   1.337,3,   1.0380,3,  2118.3,2,  2323.4,2,   7.9402,2,    20.00,-999.000,9,-999.000,9,-999.000,9,  15.8441,2,-999.000,9, -999.00,9, -999.00,-999.000,9,-999.000,   48.08,2,   12.35,2, -31.1063,  30.3430,-999.000,-999.000,20090324,       0712
33RR20090320,        I05,       2,          1,         15,         15,2,20090324,       0634,   -31.0922,    30.3592,        876,   178.0,  14.6159,  35.3022,2,  35.3103,2,    174.8,2,   175.6,2,    8.02,2,   11.51,2,    0.01,2,    0.84,2,   2.507,2,   1.402,2,   0.9060,2,  2125.7,2,  2320.0,2,   7.9168,2,    20.00,-999.000,9,-999.000,9,-999.000,9,  14.6239,2,-999.000,9, -999.00,9, -999.00,-999.000,9,-999.000,   46.93,2,   14.49,2, -31.1050,  30.3442,-999.000,-999.000,20090324,       0710
33RR20090320,        I05,       2,          1,         14,         14,2,20090324,       0634,   -31.0922,    30.3592,        876,   202.6,  13.1787,  35.1842,2,  35.1868,2,    182.9,2,   185.3,2,    8.55,2,   13.22,2,    0.01,2,    0.95,2,   2.646,2,   1.454,2,   0.8930,2,  2134.1,2,  2314.4,2,   7.8928,2,    20.00,-999.000,9,-999.000,9,-999.000,9,  13.1923,2,-999.000,9, -999.00,9, -999.00,-999.000,9,-999.000,   46.59,2,   15.64,2, -31.1037,  30.3455,-999.000,-999.000,20090324,       0708
33RR20090320,        I05,       2,          1,         13,         13,2,20090324,       0634,   -31.0922,    30.3592,        876,   227.8,  11.5601,  35.0271,2,  35.0301,2,    190.9,2,   194.2,2,    9.27,2,   15.39,2,    0.00,2,    1.08,2,   2.765,2,   1.481,2,   0.7300,2,  2141.2,2,  2309.0,2,   7.8666,2,    20.00,-999.000,9,-999.000,9,-999.000,9,  11.5685,2,-999.000,9, -999.00,9, -999.00,-999.000,9,-999.000,   45.89,2,   17.66,2, -31.1025,  30.3466,-999.000,-999.000,20090324,       0706
33RR20090320,        I05,       2,          1,         12,         12,2,20090324,       0634,   -31.0922,    30.3592,        876,   251.4,  11.2809,  34.9918,2,  34.9948,2,    192.4,2,   194.8,2,    9.80,2,   16.02,2,    0.00,2,    1.13,2,   2.768,2,   1.464,2,   0.7320,2,  2141.4,2,  2305.9,2,   7.8598,2,    20.00,-999.000,9,-999.000,9,-999.000,9,  11.2826,2,-999.000,9, -999.00,9, -999.00,-999.000,9,-999.000,   45.36,2,   18.70,2, -31.1014,  30.3476,-999.000,-999.000,20090324,       0705
33RR20090320,        I05,       2,          1,         11,         11,2,20090324,       0634,   -31.0922,    30.3592,        876,   301.0,  10.2800,  34.8858,2,  34.8882,2,    193.4,2,   193.6,2,   12.68,2,   18.24,2,    0.00,2,    1.27,2,   2.153,3,   1.350,3,   0.7200,3,  2149.9,2,  2298.7,3,   7.8345,2,    20.00,-999.000,9,-999.000,9,-999.000,9,  10.1918,2,-999.000,9, -999.00,9, -999.00,-999.000,9,-999.000,   44.32,2,   21.09,2, -31.1002,  30.3488,-999.000,-999.000,20090324,       0702
33RR20090320,        I05,       2,          1,         10,         10,2,20090324,       0634,   -31.0922,    30.3592,        876,   350.5,   9.1780,  34.7893,2,  34.7856,2,    188.4,2,   187.9,2,   18.54,2,   21.29,2,    0.00,2,    1.49,2,   2.274,2,   1.171,2,   0.5550,2,  2164.6,2,  2306.3,2,   7.7999,2,    20.00,-999.000,9,-999.000,9,-999.000,9,   9.0711,2,-999.000,9, -999.00,9, -999.00,-999.000,9,-999.000,   44.32,2,   23.87,2, -31.0992,  30.3499,-999.000,-999.000,20090324,       0700
33RR20090320,        I05,       2,          1,          9,          9,2,20090324,       0634,   -31.0922,    30.3592,        876,   395.8,   8.1452,  34.6942,4,  34.7285,2,    186.7,2,   183.7,2,   21.83,2,   23.04,2,    0.00,2,    1.61,2,   1.783,3,   1.037,3,   0.5440,3,  2172.1,2,  2306.1,2,   7.7789,2,    20.00,-999.000,9,-999.000,9,-999.000,9,   8.3014,2,-999.000,9, -999.00,9, -999.00,-999.000,9,-999.000,   43.96,2,   25.17,2, -31.0983,  30.3510,-999.000,-999.000,20090324,       0658
33RR20090320,        I05,       2,          1,          8,          8,2,20090324,       0634,   -31.0922,    30.3592,        876,   430.8,   7.2626,  34.6184,2,  34.6233,2,    177.3,2,   173.1,2,   28.71,2,   26.64,2,    0.00,2,    1.88,2,   1.651,2,   0.808,2,   0.2700,2,  2189.2,2,  2305.1,2,   7.7331,2,    20.00,-999.000,9,-999.000,9,-999.000,9,   7.2683,2,-999.000,9, -999.00,9, -999.00,-999.000,9,-999.000,   43.83,2,   28.13,2, -31.0975,  30.3519,-999.000,-999.000,20090324,       0655
33RR20090320,        I05,       2,          1,          7,          7,2,20090324,       0634,   -31.0922,    30.3592,        876,   463.0,   6.7425,  34.5719,2,  34.5831,2,    171.1,2,   171.8,2,   31.22,2,   27.78,2,    0.00,2,    1.95,2,   1.347,3,   0.710,3,   0.3050,3,  2195.2,2,  2306.1,2,   7.7184,2,    20.00,-999.000,9,-999.000,9,-999.000,9,   6.7475,2,-999.000,9, -999.00,9, -999.00,-999.000,9,-999.000,   43.08,2,   29.34,2, -31.0970,  30.3527,-999.000,-999.000,20090324,       0653
33RR20090320,        I05,       2,          1,          6,          6,2,20090324,       0634,   -31.0922,    30.3592,        876,   531.4,   6.3919,  34.5716,2,  34.5745,2,    166.5,2,   166.5,2,   35.72,2,   29.02,2,    0.00,2,    2.04,2,   1.197,3,   0.641,3,   0.2500,3,  2205.0,2,  2309.9,2,   7.7016,2,    20.00,-999.000,9,-999.000,9,-999.000,9,   6.3856,2,-999.000,9, -999.00,9, -999.00,-999.000,9,-999.000,   42.74,2,   30.72,2, -31.0964,  30.3537,-999.000,-999.000,20090324,       0650
33RR20090320,        I05,       2,          1,          5,          5,2,20090324,       0634,   -31.0922,    30.3592,        876,   602.7,   6.1699,  34.5815,2,  34.5796,2,    158.2,2,   159.9,2,   40.03,2,   30.01,2,    0.00,2,    2.12,2,   0.945,3,   0.547,3,   0.3100,3,  2213.0,2,  2313.2,2,   7.6870,2,    20.00,-999.000,9,-999.000,9,-999.000,9,   6.1694,2,-999.000,9, -999.00,9, -999.00,-999.000,9,-999.000,   42.70,2,   31.85,2, -31.0956,  30.3547,-999.000,-999.000,20090324,       0647
33RR20090320,        I05,       2,          1,          4,          4,2,20090324,       0634,   -31.0922,    30.3592,        876,   678.4,   5.5652,  34.5650,2,  34.5657,2,    156.6,2,   157.1,2,   46.35,2,   31.26,2,    0.00,2,    2.23,2,   0.774,3,   0.443,3,   0.2430,3,  2224.2,2,  2318.9,2,   7.6704,2,    20.00,-999.000,9,-999.000,9,-999.000,9,   5.5639,2,-999.000,9, -999.00,9, -999.00,-999.000,9,-999.000,   42.46,2,   32.44,2, -31.0948,  30.3558,-999.000,-999.000,20090324,       0644
33RR20090320,        I05,       2,          1,          3,          3,2,20090324,       0634,   -31.0922,    30.3592,        876,   742.5,   5.0479,  34.5563,2,  34.5602,2,    156.4,2,   155.9,2,   51.88,2,   32.21,2,    0.00,2,    2.31,2,   0.732,3,   0.366,3,   0.1040,3,  2232.5,2,  2322.6,2,   7.6589,2,    20.00,-999.000,9,-999.000,9,-999.000,9,   5.0524,2,-999.000,9, -999.00,9, -999.00,-999.000,9,-999.000,   42.15,2,   34.16,2, -31.0941,  30.3568,-999.000,-999.000,20090324,       0641
33RR20090320,        I05,       2,          1,          2,          2,2,20090324,       0634,   -31.0922,    30.3592,        876,   805.5,   4.7515,  34.5547,2,  34.5557,2,    156.1,2,   156.7,2,   54.22,2,   32.54,2,    0.00,2,    2.30,2,   0.637,3,   0.348,3,   0.0850,3,  2234.8,2,  2322.6,2,   7.6549,2,    20.00,-999.000,9,-999.000,9,-999.000,9,   4.7527,2,-999.000,9, -999.00,9, -999.00,-999.000,9,-999.000,   41.47,2,   34.49,2, -31.0932,  30.3580,-999.000,-999.000,20090324,       0637
33RR20090320,        I05,       2,          1,          1,          1,2,20090324,       0634,   -31.0922,    30.3592,        876,   866.1,   4.4784,  34.5627,2,  34.5645,2,    155.6,2,   156.3,2,   57.97,2,   33.01,2,    0.00,2,    2.34,2,   0.566,3,   0.296,3,   0.0800,3,  2240.3,6,  2325.5,2,   7.6499,2,    20.00,-999.000,9,-999.000,9,-999.000,9,   4.4800,2,-999.000,9, -999.00,9, -999.00,-999.000,9,-999.000,   40.63,2,   34.52,2, -31.0921,  30.3593,-999.000,-999.000,20090324,       0634