BOTTLE,20220814CCHSIOAMB
EXPOCODE,SECT_ID,STNNBR,CASTNO,SAMPNO,BTLNBR,BTLNBR_FLAG_W,DATE,TIME,LATITUDE,LONGITUDE,DEPTH,CTDPRS,CTDTMP,CTDSAL,CTDSAL_FLAG_W,SALNTY,SALNTY_FLAG_W,CTDOXY,CTDOXY_FLAG_W,OXYGEN,OXYGEN_FLAG_W,SILCAT,SILCAT_FLAG_W,NITRAT,NITRAT_FLAG_W,NITRIT,NITRIT_FLAG_W,PHSPHT,PHSPHT_FLAG_W,CFC-11,CFC-11_FLAG_W,CFC-12,CFC-12_FLAG_W,SF6,SF6_FLAG_W,TCARBN,TCARBN_FLAG_W,ALKALI,ALKALI_FLAG_W,PH_TOT,PH_TOT_FLAG_W,PH_TMP,TRITUM,TRITUM_FLAG_W,HELIUM,HELIUM_FLAG_W,DELHE3,DELHE3_FLAG_W,REFTMP,REFTMP_FLAG_W,DELC13,DELC13_FLAG_W,DELC14,DELC14_FLAG_W,C14ERR,NEON,NEON_FLAG_W,NEONER,DOC,DOC_FLAG_W,TDN,TDN_FLAG_W,BTL_LAT,BTL_LON,HELIER,DELHER,BTL_DATE,BTL_TIME
,,,,,,,,,,,METERS,DBAR,ITS-90,PSS-78,,PSS-78,,UMOL/KG,,UMOL/KG,,UMOL/KG,,UMOL/KG,,UMOL/KG,,UMOL/KG,,PMOL/KG,,PMOL/KG,,FMOL/KG,,UMOL/KG,,UMOL/KG,,,,DEG C,TU,,NMOL/KG,,PERCNT,,DEG C,,/MILLE,,/MILLE,,/MILLE,NMOL/KG,,NMOL/KG,UMOL/KG,,UMOL/KG,,,,NMOL/KG,PERCNT,,
33RR20090320,        I05,      65,          1,         36,         36,2,20090408,       0325,   -33.9985,    56.4469,       3866,    10.0,  20.3837,  35.4821,2,  35.4804,2,    227.4,2,   228.0,2,    1.69,2,    0.05,2,    0.00,2,    0.14,2,   2.164,2,   1.309,2,   1.0990,2,  2045.6,6,  2327.4,2,   8.0869,2,    20.00,-999.000,9,-999.000,9,-999.000,9,  20.3847,2,-999.000,9, -999.00,9, -999.00,-999.000,9,-999.000,   63.61,2,    4.62,2, -33.9984,  56.4468,-999.000,-999.000,20090408,       0519
33RR20090320,        I05,      65,          1,         35,         35,2,20090408,       0325,   -33.9985,    56.4469,       3866,    30.1,  19.3660,  35.5140,2,  35.4997,2,    233.8,2,   234.8,2,    1.48,2,    0.00,2,    0.00,2,    0.15,2,   2.262,2,   1.369,2,   1.2680,2,  2049.3,2,  2327.0,2,   8.0816,2,    20.00,-999.000,9,-999.000,9,-999.000,9,  19.3716,2,-999.000,9, -999.00,9, -999.00,-999.000,9,-999.000,   63.46,2,    4.73,2, -33.9984,  56.4468,-999.000,-999.000,20090408,       0517
33RR20090320,        I05,      65,          1,         34,         34,2,20090408,       0325,   -33.9985,    56.4469,       3866,    54.8,  17.7762,  35.5025,2,  35.5009,2,    237.0,2,   239.0,2,    1.67,2,    0.14,2,    0.01,2,    0.19,2,-999.000,9,-999.000,9,-999.0000,9,  2059.4,2,  2330.0,2,   8.0647,2,    20.00,-999.000,9,-999.000,9,-999.000,9,  17.7677,2,-999.000,9, -999.00,9, -999.00,-999.000,9,-999.000,   60.20,2,    4.57,2, -33.9984,  56.4468,-999.000,-999.000,20090408,       0516
33RR20090320,        I05,      65,          1,         33,         33,2,20090408,       0325,   -33.9985,    56.4469,       3866,    79.9,  16.6334,  35.4814,2,  35.4790,2,    234.3,2,   232.1,2,    2.24,2,    1.56,2,    0.09,2,    0.28,2,   2.495,2,   1.513,2,   1.2780,2,  2072.0,2,  2324.7,2,   8.0387,2,    20.00,-999.000,9,-999.000,9,-999.000,9,  16.6261,2,-999.000,9, -999.00,9, -999.00,-999.000,9,-999.000,   56.63,2,    6.08,2, -33.9984,  56.4469,-999.000,-999.000,20090408,       0514
33RR20090320,        I05,      65,          1,         32,         32,2,20090408,       0325,   -33.9985,    56.4469,       3866,   104.8,  16.0119,  35.4832,2,  35.4809,2,    229.2,2,   223.3,2,    3.20,2,    3.66,2,    0.02,2,    0.39,2,-999.000,9,-999.000,9,-999.0000,9,  2084.0,2,  2325.8,2,   8.0156,2,    20.00,-999.000,9,-999.000,9,-999.000,9,  16.0103,2,-999.000,9, -999.00,9, -999.00,-999.000,9,-999.000,   54.76,2,    7.87,2, -33.9984,  56.4470,-999.000,-999.000,20090408,       0512
33RR20090320,        I05,      65,          1,         31,         31,2,20090408,       0325,   -33.9985,    56.4469,       3866,   129.1,  15.5172,  35.4664,2,  35.4646,2,    222.2,2,   220.7,2,    3.20,2,    4.85,2,    0.01,2,    0.46,2,   2.583,2,   1.548,2,   1.2210,2,  2090.2,2,  2323.9,2,   8.0008,2,    20.00,-999.000,9,-999.000,9,-999.000,9,  15.5138,2,-999.000,9, -999.00,9, -999.00,-999.000,9,-999.000,   52.98,2,    8.76,2, -33.9983,  56.4470,-999.000,-999.000,20090408,       0511
33RR20090320,        I05,      65,          1,         30,         30,2,20090408,       0325,   -33.9985,    56.4469,       3866,   154.3,  15.0166,  35.4343,2,  35.4330,2,    218.3,2,   219.5,2,    3.57,2,    5.82,2,    0.01,2,    0.52,2,-999.000,9,-999.000,9,-999.0000,9,  2095.1,2,  2323.4,2,   7.9872,2,    20.00,-999.000,9,-999.000,9,-999.000,9,  15.0112,2,-999.000,9, -999.00,9, -999.00,-999.000,9,-999.000,   52.21,2,    9.67,2, -33.9982,  56.4472,-999.000,-999.000,20090408,       0509
33RR20090320,        I05,      65,          1,         29,         29,2,20090408,       0325,   -33.9985,    56.4469,       3866,   204.2,  14.6034,  35.4010,2,  35.3987,2,    220.6,2,   222.1,2,    3.57,2,    6.24,2,    0.01,2,    0.55,2,   2.726,2,   1.628,2,   1.1790,2,  2102.0,2,  2321.0,2,   7.9791,2,    20.00,-999.000,9,-999.000,9,-999.000,9,  14.6024,2,-999.000,9, -999.00,9, -999.00,-999.000,9,-999.000,   51.37,2,   10.04,2, -33.9982,  56.4473,-999.000,-999.000,20090408,       0506
33RR20090320,        I05,      65,          1,         28,         28,2,20090408,       0325,   -33.9985,    56.4469,       3866,   253.7,  13.9837,  35.3467,2,  35.3447,2,    220.1,2,   221.9,2,    3.56,2,    7.43,2,    0.00,2,    0.61,2,-999.000,9,-999.000,9,-999.0000,9,  2107.4,2,  2320.0,2,   7.9611,2,    20.00,-999.000,9,-999.000,9,-999.000,9,  13.9797,2,-999.000,9, -999.00,9, -999.00,-999.000,9,-999.000,   50.48,2,   10.99,2, -33.9982,  56.4473,-999.000,-999.000,20090408,       0503
33RR20090320,        I05,      65,          1,         27,         27,2,20090408,       0325,   -33.9985,    56.4469,       3866,   304.7,  13.6089,  35.3083,2,  35.3066,2,    221.6,2,   223.2,2,    3.75,2,    8.12,2,    0.00,2,    0.66,2,   2.862,2,   1.699,2,   1.1360,2,  2110.0,2,  2318.6,2,   7.9528,2,    20.00,-999.000,9,-999.000,9,-999.000,9,  13.6081,2,-999.000,9, -999.00,9, -999.00,-999.000,9,-999.000,   49.41,2,   10.81,2, -33.9982,  56.4473,-999.000,-999.000,20090408,       0501
33RR20090320,        I05,      65,          1,         26,         26,2,20090408,       0325,   -33.9985,    56.4469,       3866,   354.9,  13.2865,  35.2712,2,  35.2715,2,    223.9,2,   224.8,2,    3.74,2,    8.70,2,    0.00,2,    0.69,2,-999.000,9,-999.000,9,-999.0000,9,  2111.0,2,  2318.5,2,   7.9462,2,    20.00,-999.000,9,-999.000,9,-999.000,9,  13.2944,2,-999.000,9, -999.00,9, -999.00,-999.000,9,-999.000,   48.90,2,   10.85,2, -33.9982,  56.4472,-999.000,-999.000,20090408,       0458
33RR20090320,        I05,      65,          1,         25,         25,2,20090408,       0325,   -33.9985,    56.4469,       3866,   404.9,  13.0301,  35.2382,2,  35.2358,2,    230.8,2,   228.2,2,    3.93,2,    9.03,2,    0.00,2,    0.71,2,   2.946,2,   1.726,2,   1.2490,2,  2113.3,2,  2315.1,2,   7.9427,2,    20.00,-999.000,9,-999.000,9,-999.000,9,  13.0327,2,-999.000,9, -999.00,9, -999.00,-999.000,9,-999.000,   48.02,2,   10.22,2, -33.9983,  56.4472,-999.000,-999.000,20090408,       0456
33RR20090320,        I05,      65,          1,         24,         24,2,20090408,       0325,   -33.9985,    56.4469,       3866,   454.7,  12.8073,  35.2048,2,  35.2051,2,    230.9,2,   231.2,2,    3.92,2,    9.30,2,    0.00,2,    0.73,2,   2.964,2,   1.743,2,   1.2500,2,  2113.8,2,  2314.0,2,   7.9409,2,    20.00,-999.000,9,-999.000,9,-999.000,9,  12.8164,2,-999.000,9, -999.00,9, -999.00,-999.000,9,-999.000,   47.05,2,   10.51,2, -33.9983,  56.4472,-999.000,-999.000,20090408,       0453
33RR20090320,        I05,      65,          1,         23,         23,2,20090408,       0325,   -33.9985,    56.4469,       3866,   503.6,  12.5151,  35.1564,2,  35.1486,2,    230.8,2,   230.2,2,    4.11,2,   10.15,2,    0.00,2,    0.79,2,   3.002,2,   1.758,2,   1.2250,2,  2117.0,2,  2312.9,2,   7.9300,2,    20.00,-999.000,9,-999.000,9,-999.000,9,  12.5122,2,-999.000,9, -999.00,9, -999.00,-999.000,9,-999.000,   46.01,2,   11.63,2, -33.9983,  56.4471,-999.000,-999.000,20090408,       0451
33RR20090320,        I05,      65,          1,         22,         22,2,20090408,       0325,   -33.9985,    56.4469,       3866,   603.6,  11.6639,  35.0190,2,  35.0172,2,    227.0,2,   225.0,2,    4.68,2,   12.40,2,    0.00,2,    0.93,2,   3.073,2,   1.763,2,   0.9910,2,  2125.3,2,  2308.4,2,   7.9035,2,    20.00,-999.000,9,-999.000,9,-999.000,9,  11.6646,2,-999.000,9, -999.00,9, -999.00,-999.000,9,-999.000,   45.31,2,   14.34,2, -33.9982,  56.4471,-999.000,-999.000,20090408,       0448
33RR20090320,        I05,      65,          1,         21,         21,2,20090408,       0325,   -33.9985,    56.4469,       3866,   703.1,  10.4652,  34.8516,2,  34.8466,2,    219.8,2,   217.7,2,    6.61,2,   15.68,2,    0.00,2,    1.13,2,   3.095,6,   1.701,6,   0.9160,6,  2134.8,2,  2302.7,2,   7.8647,2,    20.00,-999.000,9,-999.000,9,-999.000,9,  10.4560,2,-999.000,9, -999.00,9, -999.00,-999.000,9,-999.000,   44.58,2,   17.29,2, -33.9983,  56.4471,-999.000,-999.000,20090408,       0445
33RR20090320,        I05,      65,          1,         20,         20,2,20090408,       0325,   -33.9985,    56.4469,       3866,   804.2,   8.8735,  34.6640,2,  34.6630,2,    209.8,2,   209.2,2,   10.48,2,   20.09,2,    0.00,2,    1.44,2,   2.774,2,   1.471,2,   0.6440,2,  2154.6,2,  2296.7,2,   7.8139,2,    20.00,-999.000,9,-999.000,9,-999.000,9,   8.8726,2,-999.000,9, -999.00,9, -999.00,-999.000,9,-999.000,   43.47,2,   21.17,2, -33.9983,  56.4471,-999.000,-999.000,20090408,       0442
33RR20090320,        I05,      65,          1,         19,         19,2,20090408,       0325,   -33.9985,    56.4469,       3866,   904.6,   7.3491,  34.5216,2,  34.5175,2,    204.6,2,   204.4,2,   16.32,2,   24.24,2,    0.00,2,    1.71,2,   2.517,2,   1.290,2,   0.6230,2,  2168.0,2,  2291.4,2,   7.7661,2,    20.00,-999.000,9,-999.000,9,-999.000,9,   7.3497,2,-999.000,9, -999.00,9, -999.00,-999.000,9,-999.000,   42.56,2,   25.82,2, -33.9982,  56.4469,-999.000,-999.000,20090408,       0439
33RR20090320,        I05,      65,          1,         18,         18,2,20090408,       0325,   -33.9985,    56.4469,       3866,  1004.5,   5.8805,  34.4102,2,  34.4138,2,    205.4,2,   206.2,2,   21.95,2,   27.22,2,    0.00,2,    1.92,2,   2.409,2,   1.223,2,   0.4990,2,  2181.2,2,  2294.7,2,   7.7327,2,    20.00,-999.000,9,-999.000,9,-999.000,9,   5.8897,2,-999.000,9, -999.00,9, -999.00,-999.000,9,-999.000,   41.62,2,   29.23,2, -33.9982,  56.4468,-999.000,-999.000,20090408,       0436
33RR20090320,        I05,      65,          1,         17,         17,2,20090408,       0325,   -33.9985,    56.4469,       3866,  1103.6,   4.7974,  34.3645,2,  34.3629,2,    204.3,2,   206.1,2,   29.76,2,   29.67,2,    0.00,2,    2.10,2,   2.173,2,   1.074,2,   0.4230,2,  2193.9,2,  2298.1,2,   7.7049,2,    20.00,-999.000,9,-999.000,9,-999.000,9,   4.7952,2,-999.000,9, -999.00,9, -999.00,-999.000,9,-999.000,   40.63,2,   31.55,2, -33.9982,  56.4468,-999.000,-999.000,20090408,       0433
33RR20090320,        I05,      65,          1,         16,         16,2,20090408,       0325,   -33.9985,    56.4469,       3866,  1204.5,   4.3043,  34.3705,2,  34.3691,2,    199.9,2,   201.0,2,   36.02,2,   30.86,2,    0.00,2,    2.20,2,   1.865,2,   0.895,2,   0.2680,2,  2203.6,2,  2306.3,2,   7.6894,2,    20.00,-999.000,9,-999.000,9,-999.000,9,   4.3035,2,-999.000,9, -999.00,9, -999.00,-999.000,9,-999.000,   39.83,2,   32.42,2, -33.9983,  56.4467,-999.000,-999.000,20090408,       0430
33RR20090320,        I05,      65,          1,         15,         15,2,20090408,       0325,   -33.9985,    56.4469,       3866,  1305.7,   3.8195,  34.4210,2,  34.4202,2,    191.7,2,   190.3,2,   45.64,2,   32.11,2,    0.00,2,    2.28,2,   1.358,2,   0.619,2,   0.1260,2,  2218.8,2,  2314.9,2,   7.6701,2,    20.00,-999.000,9,-999.000,9,-999.000,9,   3.8235,2,-999.000,9, -999.00,9, -999.00,-999.000,9,-999.000,   39.88,2,   33.41,2, -33.9985,  56.4467,-999.000,-999.000,20090408,       0426
33RR20090320,        I05,      65,          1,         14,         14,2,20090408,       0325,   -33.9985,    56.4469,       3866,  1405.3,   3.4880,  34.4671,2,  34.4657,2,    185.7,2,   183.3,2,   53.32,2,   32.81,2,    0.00,2,    2.33,2,   1.030,2,   0.444,2,   0.1160,2,  2230.9,2,  2320.8,2,   7.6594,2,    20.00,-999.000,9,-999.000,9,-999.000,9,   3.4875,2,-999.000,9, -999.00,9, -999.00,-999.000,9,-999.000,   39.72,2,   34.51,2, -33.9986,  56.4467,-999.000,-999.000,20090408,       0423
33RR20090320,        I05,      65,          1,         13,         13,2,20090408,       0325,   -33.9985,    56.4469,       3866,  1506.5,   3.2387,  34.5103,2,  34.5089,2,    181.0,2,   179.9,2,   59.24,2,   32.96,2,    0.00,2,    2.34,2,   0.793,3,   0.318,3,   0.1660,3,  2237.7,2,  2327.8,2,   7.6559,2,    20.00,-999.000,9,-999.000,9,-999.000,9,   3.2374,2,-999.000,9, -999.00,9, -999.00,-999.000,9,-999.000,   39.58,2,   34.62,2, -33.9987,  56.4468,-999.000,-999.000,20090408,       0420
33RR20090320,        I05,      65,          1,         12,         12,2,20090408,       0325,   -33.9985,    56.4469,       3866,  1607.1,   2.9951,  34.5602,2,  34.5597,2,    179.2,2,   178.0,2,   65.16,2,   32.85,2,    0.00,2,    2.34,2,-999.000,9,-999.000,9,-999.0000,9,  2242.7,2,  2334.4,2,   7.6556,2,    20.00,-999.000,9,-999.000,9,-999.000,9,   2.9949,2,-999.000,9, -999.00,9, -999.00,-999.000,9,-999.000,   39.89,2,   34.65,2, -33.9987,  56.4469,-999.000,-999.000,20090408,       0417
33RR20090320,        I05,      65,          1,         11,         11,2,20090408,       0325,   -33.9985,    56.4469,       3866,  1707.9,   2.8438,  34.5919,2,  34.5915,2,    177.2,2,   175.8,2,   69.12,2,   32.74,2,    0.00,2,    2.34,2,   0.387,2,   0.138,2,   0.0310,2,  2248.0,6,  2336.3,2,   7.6542,2,    20.00,-999.000,9,-999.000,9,-999.000,9,   2.8422,2,-999.000,9, -999.00,9, -999.00,-999.000,9,-999.000,   40.02,2,   34.28,2, -33.9988,  56.4470,-999.000,-999.000,20090408,       0415
33RR20090320,        I05,      65,          1,         10,         10,2,20090408,       0325,   -33.9985,    56.4469,       3866,  1808.5,   2.6909,  34.6321,2,  34.6312,2,    178.2,2,   177.3,2,   72.69,2,   32.52,2,    0.00,2,    2.31,2,-999.000,9,-999.000,9,-999.0000,9,  2248.3,2,  2340.0,2,   7.6595,2,    20.00,-999.000,9,-999.000,9,-999.000,9,   2.6912,2,-999.000,9, -999.00,9, -999.00,-999.000,9,-999.000,   39.69,2,   34.40,2, -33.9988,  56.4471,-999.000,-999.000,20090408,       0412
33RR20090320,        I05,      65,          1,          9,          9,2,20090408,       0325,   -33.9985,    56.4469,       3866,  2011.1,   2.4738,  34.6886,2,  34.6868,2,    181.2,2,   181.9,2,   78.04,2,   31.58,2,    0.00,2,    2.26,2,   0.160,2,   0.049,2,   0.0000,2,  2252.0,2,  2348.8,2,   7.6723,2,    20.00,-999.000,9,-999.000,9,-999.000,9,   2.4736,2,-999.000,9, -999.00,9, -999.00,-999.000,9,-999.000,   39.20,2,   33.24,2, -33.9986,  56.4471,-999.000,-999.000,20090408,       0406
33RR20090320,        I05,      65,          1,          8,          8,2,20090408,       0325,   -33.9985,    56.4469,       3866,  2261.8,   2.3136,  34.7202,2,  34.7190,2,    186.6,2,   186.7,2,   82.22,2,   31.09,2,    0.00,2,    2.20,2,   0.107,2,   0.033,2,   0.0090,2,  2251.2,2,  2351.8,2,   7.6825,2,    20.00,-999.000,9,-999.000,9,-999.000,9,   2.3131,2,-999.000,9, -999.00,9, -999.00,-999.000,9,-999.000,   39.70,2,   32.66,2, -33.9984,  56.4472,-999.000,-999.000,20090408,       0401
33RR20090320,        I05,      65,          1,          7,          7,2,20090408,       0325,   -33.9985,    56.4469,       3866,  2514.8,   2.1058,  34.7414,2,  34.7400,2,    191.6,2,   191.7,2,   87.39,2,   30.76,2,    0.00,2,    2.18,2,   0.083,2,   0.024,2,   0.0220,2,  2253.4,2,  2357.2,2,   7.6905,2,    20.00,-999.000,9,-999.000,9,-999.000,9,   2.1051,2,-999.000,9, -999.00,9, -999.00,-999.000,9,-999.000,   39.60,2,   32.29,2, -33.9982,  56.4473,-999.000,-999.000,20090408,       0355
33RR20090320,        I05,      65,          1,          6,          6,2,20090408,       0325,   -33.9985,    56.4469,       3866,  2767.6,   1.9017,  34.7462,2,  34.7446,2,    195.7,2,   195.5,2,   91.98,2,   30.70,2,    0.00,2,    2.18,2,   0.083,2,   0.025,2,   0.0000,2,  2254.5,2,  2357.8,2,   7.6930,2,    20.00,-999.000,9,-999.000,9,-999.000,9,   1.9019,2,-999.000,9, -999.00,9, -999.00,-999.000,9,-999.000,   40.02,2,   32.03,2, -33.9981,  56.4470,-999.000,-999.000,20090408,       0350
33RR20090320,        I05,      65,          1,          5,          5,2,20090408,       0325,   -33.9985,    56.4469,       3866,  3020.3,   1.6524,  34.7421,2,  34.7412,2,    199.8,2,   199.7,2,   98.57,2,   30.81,2,    0.00,2,    2.17,2,   0.104,6,   0.032,6,   0.0070,6,  2256.0,2,  2359.8,2,   7.6934,2,    20.00,-999.000,9,-999.000,9,-999.000,9,   1.6544,2,-999.000,9, -999.00,9, -999.00,-999.000,9,-999.000,   39.94,2,   32.18,2, -33.9981,  56.4468,-999.000,-999.000,20090408,       0344
33RR20090320,        I05,      65,          1,          4,          4,2,20090408,       0325,   -33.9985,    56.4469,       3866,  3324.6,   1.2936,  34.7273,2,  34.7259,2,    205.2,2,   205.3,2,  107.59,2,   31.18,2,    0.00,2,    2.21,2,   0.144,2,   0.045,2,   0.0110,2,  2257.5,2,  2361.2,2,   7.6894,2,    20.00,-999.000,9,-999.000,9,-999.000,9,   1.2934,2,-999.000,9, -999.00,9, -999.00,-999.000,9,-999.000,   40.37,2,   32.81,2, -33.9984,  56.4466,-999.000,-999.000,20090408,       0338
33RR20090320,        I05,      65,          1,          3,          3,2,20090408,       0325,   -33.9985,    56.4469,       3866,  3629.1,   1.0382,  34.7151,2,  34.7129,2,    209.8,2,   209.3,2,  114.00,2,   31.56,2,    0.00,2,    2.25,2,   0.177,2,   0.054,2,   0.0150,2,  2259.2,2,  2361.8,2,   7.6858,2,    20.00,-999.000,9,-999.000,9,-999.000,9,   1.0390,2,-999.000,9, -999.00,9, -999.00,-999.000,9,-999.000,   39.89,2,   33.33,2, -33.9986,  56.4468,-999.000,-999.000,20090408,       0332
33RR20090320,        I05,      65,          1,          2,          2,2,20090408,       0325,   -33.9985,    56.4469,       3866,  3781.7,   1.0269,  34.7137,2,  34.7121,2,    211.0,2,   210.0,2,  115.20,2,   31.67,2,    0.00,2,    2.25,2,   0.174,2,   0.054,2,   0.0000,2,  2258.2,2,  2361.8,2,   7.6860,2,    20.00,-999.000,9,-999.000,9,-999.000,9,   1.0267,2,-999.000,9, -999.00,9, -999.00,-999.000,9,-999.000,   40.22,2,   33.07,2, -33.9986,  56.4468,-999.000,-999.000,20090408,       0328
33RR20090320,        I05,      65,          1,          1,          1,2,20090408,       0325,   -33.9985,    56.4469,       3866,  3912.4,   1.0314,  34.7131,2,  34.7121,2,    210.2,2,   209.9,2,  115.61,2,   31.61,2,    0.00,2,    2.25,2,   0.183,2,   0.054,2,   0.0000,2,  2260.1,6,  2361.1,2,   7.6862,2,    20.00,-999.000,9,-999.000,9,-999.000,9,   1.0314,2,-999.000,9, -999.00,9, -999.00,-999.000,9,-999.000,   39.76,2,   33.29,2, -33.9985,  56.4469,-999.000,-999.000,20090408,       0325