BOTTLE,20220814CCHSIOAMB
EXPOCODE,SECT_ID,STNNBR,CASTNO,SAMPNO,BTLNBR,BTLNBR_FLAG_W,DATE,TIME,LATITUDE,LONGITUDE,DEPTH,CTDPRS,CTDTMP,CTDSAL,CTDSAL_FLAG_W,SALNTY,SALNTY_FLAG_W,CTDOXY,CTDOXY_FLAG_W,OXYGEN,OXYGEN_FLAG_W,SILCAT,SILCAT_FLAG_W,NITRAT,NITRAT_FLAG_W,NITRIT,NITRIT_FLAG_W,PHSPHT,PHSPHT_FLAG_W,CFC-11,CFC-11_FLAG_W,CFC-12,CFC-12_FLAG_W,SF6,SF6_FLAG_W,TCARBN,TCARBN_FLAG_W,ALKALI,ALKALI_FLAG_W,PH_TOT,PH_TOT_FLAG_W,PH_TMP,TRITUM,TRITUM_FLAG_W,HELIUM,HELIUM_FLAG_W,DELHE3,DELHE3_FLAG_W,REFTMP,REFTMP_FLAG_W,DELC13,DELC13_FLAG_W,DELC14,DELC14_FLAG_W,C14ERR,NEON,NEON_FLAG_W,NEONER,DOC,DOC_FLAG_W,TDN,TDN_FLAG_W,BTL_LAT,BTL_LON,HELIER,DELHER,BTL_DATE,BTL_TIME
,,,,,,,,,,,METERS,DBAR,ITS-90,PSS-78,,PSS-78,,UMOL/KG,,UMOL/KG,,UMOL/KG,,UMOL/KG,,UMOL/KG,,UMOL/KG,,PMOL/KG,,PMOL/KG,,FMOL/KG,,UMOL/KG,,UMOL/KG,,,,DEG C,TU,,NMOL/KG,,PERCNT,,DEG C,,/MILLE,,/MILLE,,/MILLE,NMOL/KG,,NMOL/KG,UMOL/KG,,UMOL/KG,,,,NMOL/KG,PERCNT,,
33RR20090320,        I05,      93,          1,         36,         36,4,20090417,       0202,   -33.9995,    69.6983,       4489,    10.5,  20.7363,  35.7397,2,  35.2220,4,    222.7,2,   211.2,4,   29.17,4,   13.02,4,    0.01,4,    0.96,4,   1.689,4,   0.982,4,   0.7920,4,  -999.0,9,  -999.0,5,   7.9188,4,    20.00,-999.000,9,-999.000,9,-999.000,9,  20.7358,2,-999.000,9, -999.00,9, -999.00,-999.000,9,-999.000,   64.98,4, -999.00,5, -34.0002,  69.6993,-999.000,-999.000,20090417,       0357
33RR20090320,        I05,      93,          1,         35,         35,2,20090417,       0202,   -33.9995,    69.6983,       4489,    39.7,  20.7379,  35.7393,2,  35.7393,2,    220.6,2,   224.2,2,    1.84,2,    0.07,2,    0.00,2,    0.13,2,   2.094,2,   1.265,2,   1.2180,2,  2059.0,6,  2343.9,2,   8.0907,2,    20.00,-999.000,9,-999.000,9,-999.000,9,  20.7388,2,-999.000,9, -999.00,9, -999.00,-999.000,9,-999.000,   64.72,2,    4.14,2, -34.0001,  69.6993,-999.000,-999.000,20090417,       0355
33RR20090320,        I05,      93,          1,         34,         34,2,20090417,       0202,   -33.9995,    69.6983,       4489,    65.1,  18.6979,  35.5529,2,  35.5778,2,    239.2,2,   243.4,2,    1.63,2,    0.02,2,    0.00,2,    0.15,2,   2.371,2,   1.416,2,   1.2160,2,  2064.1,2,  2337.2,2,   8.0748,2,    20.00,-999.000,9,-999.000,9,-999.000,9,  18.6755,2,-999.000,9, -999.00,9, -999.00,-999.000,9,-999.000,   63.96,2,    4.21,2, -34.0001,  69.6994,-999.000,-999.000,20090417,       0353
33RR20090320,        I05,      93,          1,         33,         33,2,20090417,       0202,   -33.9995,    69.6983,       4489,    90.5,  15.2429,  35.3659,2,  35.3597,2,    255.4,2,   252.5,2,    1.83,2,    0.42,2,    0.03,2,    0.26,2,   2.825,6,   1.639,6,   1.3740,6,  2081.6,2,  2327.4,2,   8.0236,2,    20.00,-999.000,9,-999.000,9,-999.000,9,  15.2441,2,-999.000,9, -999.00,9, -999.00,-999.000,9,-999.000,   59.89,2,    4.28,2, -34.0001,  69.6995,-999.000,-999.000,20090417,       0352
33RR20090320,        I05,      93,          1,         32,         32,2,20090417,       0202,   -33.9995,    69.6983,       4489,   120.8,  13.9702,  35.2863,2,  35.2817,2,    236.3,2,   236.1,2,    2.45,2,    4.70,2,    0.10,2,    0.48,2,   2.946,2,   1.691,2,   1.4460,2,  2099.3,2,  2320.6,2,   7.9753,2,    20.00,-999.000,9,-999.000,9,-999.000,9,  13.9635,2,-999.000,9, -999.00,9, -999.00,-999.000,9,-999.000,   55.87,2,    8.60,2, -34.0000,  69.6995,-999.000,-999.000,20090417,       0350
33RR20090320,        I05,      93,          1,         31,         31,2,20090417,       0202,   -33.9995,    69.6983,       4489,   170.3,  13.3982,  35.2592,2,  35.2588,2,    230.8,2,   230.8,2,    3.49,2,    7.59,2,    0.00,2,    0.62,2,   3.006,2,   1.722,2,   1.3390,2,  2108.4,2,  2318.8,2,   7.9509,2,    20.00,-999.000,9,-999.000,9,-999.000,9,  13.3973,2,-999.000,9, -999.00,9, -999.00,-999.000,9,-999.000,   53.01,2,   10.18,2, -33.9998,  69.6996,-999.000,-999.000,20090417,       0347
33RR20090320,        I05,      93,          1,         30,         30,2,20090417,       0202,   -33.9995,    69.6983,       4489,   219.9,  13.0601,  35.2269,2,  35.2277,2,    234.2,2,   233.8,2,    3.90,2,    8.27,2,    0.00,2,    0.65,2,   3.030,2,   1.731,2,   1.3570,2,  2107.8,2,  2315.7,2,   7.9470,2,    20.00,-999.000,9,-999.000,9,-999.000,9,  13.0618,2,-999.000,9, -999.00,9, -999.00,-999.000,9,-999.000,   51.71,2,   11.22,2, -33.9998,  69.6995,-999.000,-999.000,20090417,       0345
33RR20090320,        I05,      93,          1,         29,         29,2,20090417,       0202,   -33.9995,    69.6983,       4489,   269.2,  12.6453,  35.1665,2,  35.1674,2,    236.0,2,   236.5,2,    3.89,2,    8.96,2,    0.00,2,    0.70,2,   3.093,2,   1.764,2,   1.3290,2,  2108.7,2,  2312.4,2,   7.9395,2,    20.00,-999.000,9,-999.000,9,-999.000,9,  12.6439,2,-999.000,9, -999.00,9, -999.00,-999.000,9,-999.000,   50.73,2,   12.29,2, -33.9997,  69.6993,-999.000,-999.000,20090417,       0343
33RR20090320,        I05,      93,          1,         28,         28,2,20090417,       0202,   -33.9995,    69.6983,       4489,   319.7,  12.4505,  35.1443,2,  35.1438,2,    234.6,2,   235.2,2,    4.31,2,    9.80,2,    0.00,2,    0.74,2,   3.135,2,   1.761,2,   1.3290,2,  2109.9,2,  2312.8,2,   7.9321,2,    20.00,-999.000,9,-999.000,9,-999.000,9,  12.4496,2,-999.000,9, -999.00,9, -999.00,-999.000,9,-999.000,   49.76,2,   12.56,2, -33.9997,  69.6992,-999.000,-999.000,20090417,       0341
33RR20090320,        I05,      93,          1,         27,         27,2,20090417,       0202,   -33.9995,    69.6983,       4489,   370.4,  12.2111,  35.1063,2,  35.1060,2,    234.7,2,   235.3,2,    4.30,2,   10.22,2,    0.00,2,    0.78,2,   3.162,2,   1.782,2,   1.2180,2,  2110.1,2,  2310.7,2,   7.9270,2,    20.00,-999.000,9,-999.000,9,-999.000,9,  12.2103,2,-999.000,9, -999.00,9, -999.00,-999.000,9,-999.000,   48.94,2,   12.59,2, -33.9997,  69.6991,-999.000,-999.000,20090417,       0339
33RR20090320,        I05,      93,          1,         26,         26,2,20090417,       0202,   -33.9995,    69.6983,       4489,   419.7,  12.0183,  35.0752,2,  35.0749,2,    234.3,2,   235.8,2,    4.30,2,   10.73,2,    0.00,2,    0.80,2,   3.208,2,   1.792,2,   1.2630,2,  2112.4,2,  2308.6,2,   7.9208,2,    20.00,-999.000,9,-999.000,9,-999.000,9,  12.0173,2,-999.000,9, -999.00,9, -999.00,-999.000,9,-999.000,   47.68,2,   13.20,2, -33.9997,  69.6990,-999.000,-999.000,20090417,       0337
33RR20090320,        I05,      93,          1,         25,         25,2,20090417,       0202,   -33.9995,    69.6983,       4489,   468.5,  11.8185,  35.0454,2,  35.0456,2,    235.8,2,   233.9,2,    4.51,2,   11.26,2,    0.00,2,    0.83,2,   3.240,2,   1.800,2,   1.1860,2,  2115.3,2,  2308.1,2,   7.9145,2,    20.00,-999.000,9,-999.000,9,-999.000,9,  11.8190,2,-999.000,9, -999.00,9, -999.00,-999.000,9,-999.000,   46.59,2,   13.41,2, -33.9997,  69.6990,-999.000,-999.000,20090417,       0335
33RR20090320,        I05,      93,          1,         24,         24,2,20090417,       0202,   -33.9995,    69.6983,       4489,   539.6,  11.4315,  34.9874,2,  34.9881,2,    233.4,2,   233.2,2,    4.50,2,   12.15,2,    0.00,2,    0.89,2,   3.313,2,   1.809,2,   1.2380,2,  2117.4,2,  2304.2,2,   7.9041,2,    20.00,-999.000,9,-999.000,9,-999.000,9,  11.4287,2,-999.000,9, -999.00,9, -999.00,-999.000,9,-999.000,   45.86,2,   13.84,2, -33.9997,  69.6989,-999.000,-999.000,20090417,       0333
33RR20090320,        I05,      93,          1,         23,         23,2,20090417,       0202,   -33.9995,    69.6983,       4489,   638.9,  10.5721,  34.8589,2,  34.8592,2,    229.5,2,   229.7,2,    5.54,2,   14.51,2,    0.00,2,    1.04,2,   3.326,2,   1.795,2,   1.1230,2,  2124.2,2,  2298.4,2,   7.8786,2,    20.00,-999.000,9,-999.000,9,-999.000,9,  10.5715,2,-999.000,9, -999.00,9, -999.00,-999.000,9,-999.000,   44.97,2,   16.36,2, -33.9997,  69.6988,-999.000,-999.000,20090417,       0330
33RR20090320,        I05,      93,          1,         22,         22,2,20090417,       0202,   -33.9995,    69.6983,       4489,   738.5,   9.6988,  34.7459,2,  34.7444,2,    223.3,2,   221.1,2,    7.41,2,   17.24,2,    0.00,2,    1.22,2,   3.254,2,   1.685,2,   0.9450,2,  2132.4,2,  2296.4,2,   7.8472,2,    20.00,-999.000,9,-999.000,9,-999.000,9,   9.7038,2,-999.000,9, -999.00,9, -999.00,-999.000,9,-999.000,   43.83,2,   18.90,2, -33.9997,  69.6986,-999.000,-999.000,20090417,       0327
33RR20090320,        I05,      93,          1,         21,         21,2,20090417,       0202,   -33.9995,    69.6983,       4489,   839.9,   8.4444,  34.6058,2,  34.6094,2,    213.7,2,   212.0,2,   10.95,2,   21.03,2,    0.00,2,    1.46,2,   2.890,2,   1.472,2,   0.6390,2,  2146.4,2,  2292.7,2,   7.8042,2,    20.00,-999.000,9,-999.000,9,-999.000,9,   8.4586,2,-999.000,9, -999.00,9, -999.00,-999.000,9,-999.000,   42.80,2,   22.30,2, -33.9998,  69.6985,-999.000,-999.000,20090417,       0324
33RR20090320,        I05,      93,          1,         20,         20,2,20090417,       0202,   -33.9995,    69.6983,       4489,   939.5,   7.0691,  34.4856,2,  34.4855,2,    206.8,2,   206.3,2,   17.01,2,   24.94,2,    0.00,2,    1.74,2,   2.661,2,   1.341,2,   0.6450,2,  2163.3,2,  2291.4,2,   7.7579,2,    20.00,-999.000,9,-999.000,9,-999.000,9,   7.0701,2,-999.000,9, -999.00,9, -999.00,-999.000,9,-999.000,   42.13,2,   26.52,2, -33.9997,  69.6986,-999.000,-999.000,20090417,       0322
33RR20090320,        I05,      93,          1,         19,         19,2,20090417,       0202,   -33.9995,    69.6983,       4489,  1040.1,   5.7913,  34.4017,2,  34.4023,2,    204.1,2,   205.3,2,   23.29,2,   27.94,2,    0.00,2,    1.95,2,   2.227,6,   1.101,6,   0.4670,6,  2176.7,2,  2295.2,2,   7.7256,2,    20.00,-999.000,9,-999.000,9,-999.000,9,   5.7964,2,-999.000,9, -999.00,9, -999.00,-999.000,9,-999.000,   41.64,2,   30.00,2, -33.9996,  69.6986,-999.000,-999.000,20090417,       0319
33RR20090320,        I05,      93,          1,         18,         18,2,20090417,       0202,   -33.9995,    69.6983,       4489,  1140.8,   4.7145,  34.3704,2,  34.3707,2,    201.7,2,   200.2,2,   32.73,2,   30.49,2,    0.00,2,    2.14,2,   1.695,2,   0.839,2,   0.3400,2,  2192.5,2,  2301.4,2,   7.6966,2,    20.00,-999.000,9,-999.000,9,-999.000,9,   4.7066,2,-999.000,9, -999.00,9, -999.00,-999.000,9,-999.000,   41.30,2,   31.91,2, -33.9996,  69.6986,-999.000,-999.000,20090417,       0316
33RR20090320,        I05,      93,          1,         17,         17,2,20090417,       0202,   -33.9995,    69.6983,       4489,  1241.1,   4.0939,  34.3849,2,  34.3856,2,    192.8,2,   192.1,2,   41.58,2,   32.03,2,    0.00,2,    2.27,2,   1.273,2,   0.628,2,   0.2680,2,  2207.4,2,  2309.4,2,   7.6758,2,    20.00,-999.000,9,-999.000,9,-999.000,9,   4.0905,2,-999.000,9, -999.00,9, -999.00,-999.000,9,-999.000,   40.81,2,   33.29,2, -33.9995,  69.6985,-999.000,-999.000,20090417,       0313
33RR20090320,        I05,      93,          1,         16,         16,2,20090417,       0202,   -33.9995,    69.6983,       4489,  1341.5,   3.6564,  34.4200,2,  34.4196,2,    183.5,2,   183.8,2,   50.22,2,   33.13,2,    0.00,2,    2.35,2,   0.935,2,   0.454,2,   0.1130,2,  2221.7,6,  2317.2,2,   7.6588,2,    20.00,-999.000,9,-999.000,9,-999.000,9,   3.6585,2,-999.000,9, -999.00,9, -999.00,-999.000,9,-999.000,   40.44,2,   34.24,2, -33.9995,  69.6986,-999.000,-999.000,20090417,       0310
33RR20090320,        I05,      93,          1,         15,         15,2,20090417,       0202,   -33.9995,    69.6983,       4489,  1441.7,   3.3491,  34.4760,2,  34.4741,2,    173.6,2,   172.8,2,   60.17,2,   34.03,2,    0.00,2,    2.42,2,   0.544,2,   0.264,2,   0.0530,2,  2235.4,2,  2325.9,2,   7.6449,2,    20.00,-999.000,9,-999.000,9,-999.000,9,   3.3509,2,-999.000,9, -999.00,9, -999.00,-999.000,9,-999.000,   40.55,2,   35.61,2, -33.9996,  69.6985,-999.000,-999.000,20090417,       0308
33RR20090320,        I05,      93,          1,         14,         14,2,20090417,       0202,   -33.9995,    69.6983,       4489,  1541.9,   3.0790,  34.5196,2,  34.5191,2,    171.4,2,   170.9,2,   65.47,2,   34.01,2,    0.00,2,    2.42,2,   0.405,2,   0.194,2,   0.0510,2,  2241.9,2,  2330.8,2,   7.6407,2,    20.00,-999.000,9,-999.000,9,-999.000,9,   3.0819,2,-999.000,9, -999.00,9, -999.00,-999.000,9,-999.000,   40.15,2,   35.21,2, -33.9997,  69.6983,-999.000,-999.000,20090417,       0305
33RR20090320,        I05,      93,          1,         13,         13,2,20090417,       0202,   -33.9995,    69.6983,       4489,  1673.7,   2.8441,  34.5761,2,  34.5759,2,    170.4,2,   170.6,2,   70.35,2,   33.74,2,    0.00,2,    2.39,2,   0.260,2,   0.124,2,   0.0210,2,  2247.2,2,  2337.9,2,   7.6412,2,    20.00,-999.000,9,-999.000,9,-999.000,9,   2.8448,2,-999.000,9, -999.00,9, -999.00,-999.000,9,-999.000,   39.67,2,   35.10,2, -33.9997,  69.6983,-999.000,-999.000,20090417,       0302
33RR20090320,        I05,      93,          1,         12,         12,2,20090417,       0202,   -33.9995,    69.6983,       4489,  1876.3,   2.5730,  34.6551,2,  34.6552,2,    173.9,2,   175.1,2,   76.52,2,   32.71,2,    0.00,2,    2.31,2,   0.097,2,   0.045,2,   0.0000,2,  2249.6,2,  2342.6,2,   7.6553,2,    20.00,-999.000,9,-999.000,9,-999.000,9,   2.5726,2,-999.000,9, -999.00,9, -999.00,-999.000,9,-999.000,   39.72,2,   34.59,2, -33.9997,  69.6981,-999.000,-999.000,20090417,       0257
33RR20090320,        I05,      93,          1,         11,         11,2,20090417,       0202,   -33.9995,    69.6983,       4489,  2096.4,   2.3540,  34.7009,2,  34.7016,2,    178.2,2,   179.5,2,   85.05,2,   32.06,2,    0.00,2,    2.27,2,   0.031,2,   0.018,2,   0.0000,2,  2254.2,2,  2351.7,2,   7.6702,2,    20.00,-999.000,9,-999.000,9,-999.000,9,   2.3523,2,-999.000,9, -999.00,9, -999.00,-999.000,9,-999.000,   39.55,2,   34.15,2, -33.9997,  69.6981,-999.000,-999.000,20090417,       0252
33RR20090320,        I05,      93,          1,         10,         10,2,20090417,       0202,   -33.9995,    69.6983,       4489,  2348.7,   2.1391,  34.7214,2,  34.7209,2,    177.0,2,   177.2,2,   97.86,2,   32.47,2,    0.00,2,    2.30,2,   0.017,2,   0.010,2,   0.0000,2,  2266.5,2,  2368.3,2,   7.6753,2,    20.00,-999.000,9,-999.000,9,-999.000,9,   2.1390,2,-999.000,9, -999.00,9, -999.00,-999.000,9,-999.000,   39.16,2,   34.08,2, -33.9998,  69.6980,-999.000,-999.000,20090417,       0247
33RR20090320,        I05,      93,          1,          9,          9,2,20090417,       0202,   -33.9995,    69.6983,       4489,  2601.0,   1.9765,  34.7290,2,  34.7293,2,    176.5,2,   176.4,2,  107.51,2,   32.78,2,    0.00,2,    2.34,2,   0.006,6,   0.004,6,   0.0000,6,  2274.9,2,  2373.0,2,   7.6764,2,    20.00,-999.000,9,-999.000,9,-999.000,9,   1.9771,2,-999.000,9, -999.00,9, -999.00,-999.000,9,-999.000,   39.58,2,   33.91,2, -33.9997,  69.6981,-999.000,-999.000,20090417,       0242
33RR20090320,        I05,      93,          1,          8,          8,2,20090417,       0202,   -33.9995,    69.6983,       4489,  2855.1,   1.8571,  34.7298,2,  34.7301,2,    177.3,2,   176.5,2,  113.10,2,   33.08,2,    0.00,2,    2.36,2,   0.000,2,   0.004,2,   0.0200,2,  2279.4,2,  2380.9,2,   7.6764,2,    20.00,-999.000,9,-999.000,9,-999.000,9,   1.8571,2,-999.000,9, -999.00,9, -999.00,-999.000,9,-999.000,   39.50,2,   34.58,2, -33.9999,  69.6980,-999.000,-999.000,20090417,       0237
33RR20090320,        I05,      93,          1,          7,          7,2,20090417,       0202,   -33.9995,    69.6983,       4489,  3123.0,   1.7250,  34.7287,2,  34.7286,2,    179.6,2,   178.5,2,  117.61,2,   33.13,2,    0.00,2,    2.37,2,   0.002,2,   0.004,2,   0.0000,2,  2281.3,2,  2379.3,2,   7.6771,2,    20.00,-999.000,9,-999.000,9,-999.000,9,   1.7252,2,-999.000,9, -999.00,9, -999.00,-999.000,9,-999.000,   39.82,2,   34.74,2, -33.9998,  69.6983,-999.000,-999.000,20090417,       0231
33RR20090320,        I05,      93,          1,          6,          6,2,20090417,       0202,   -33.9995,    69.6983,       4489,  3425.9,   1.5499,  34.7246,2,  34.7246,2,    184.3,2,   183.6,2,  120.62,2,   33.12,2,    0.00,2,    2.36,2,   0.008,2,   0.007,2,   0.0000,2,  2279.1,2,  2379.7,2,   7.6781,2,    20.00,-999.000,9,-999.000,9,-999.000,9,   1.5516,2,-999.000,9, -999.00,9, -999.00,-999.000,9,-999.000,   39.42,2,   34.30,2, -33.9995,  69.6985,-999.000,-999.000,20090417,       0225
33RR20090320,        I05,      93,          1,          5,          5,2,20090417,       0202,   -33.9995,    69.6983,       4489,  3730.8,   1.2978,  34.7161,2,  34.7164,2,    192.4,2,   192.7,2,  123.21,2,   32.95,2,    0.00,2,    2.34,2,   0.022,2,   0.013,2,   0.0000,2,  2274.6,2,  2376.9,2,   7.6795,2,    20.00,-999.000,9,-999.000,9,-999.000,9,   1.2981,2,-999.000,9, -999.00,9, -999.00,-999.000,9,-999.000,   39.71,2,   34.57,2, -33.9993,  69.6988,-999.000,-999.000,20090417,       0219
33RR20090320,        I05,      93,          1,          4,          4,2,20090417,       0202,   -33.9995,    69.6983,       4489,  4037.4,   0.9357,  34.7034,2,  34.7036,2,    203.6,2,   203.6,2,  127.52,2,   32.77,2,    0.00,2,    2.32,2,   0.032,2,   0.019,2,   0.0000,2,  2268.1,2,  2372.6,2,   7.6807,2,    20.00,-999.000,9,-999.000,9,-999.000,9,   0.9364,2,-999.000,9, -999.00,9, -999.00,-999.000,9,-999.000,   39.80,2,   34.48,2, -33.9994,  69.6986,-999.000,-999.000,20090417,       0213
33RR20090320,        I05,      93,          1,          3,          3,2,20090417,       0202,   -33.9995,    69.6983,       4489,  4341.6,   0.7983,  34.6979,2,  34.6973,2,    209.0,2,   208.8,2,  129.04,2,   32.66,2,    0.00,2,    2.31,2,   0.032,2,   0.019,2,   0.0000,2,  2265.5,2,  2371.8,2,   7.6820,2,    20.00,-999.000,9,-999.000,9,-999.000,9,   0.7988,2,-999.000,9, -999.00,9, -999.00,-999.000,9,-999.000,   39.15,2,   34.30,2, -33.9994,  69.6982,-999.000,-999.000,20090417,       0207
33RR20090320,        I05,      93,          1,          2,          2,2,20090417,       0202,   -33.9995,    69.6983,       4489,  4442.8,   0.7827,  34.6968,2,  34.6965,2,    210.1,2,   209.8,2,  129.47,2,   32.65,2,    0.00,2,    2.31,2,   0.028,2,   0.019,2,   0.0000,2,  2266.4,2,  2371.6,2,   7.6825,2,    20.00,-999.000,9,-999.000,9,-999.000,9,   0.7827,2,-999.000,9, -999.00,9, -999.00,-999.000,9,-999.000,   39.81,2,   34.58,2, -33.9994,  69.6982,-999.000,-999.000,20090417,       0204
33RR20090320,        I05,      93,          1,          1,          1,2,20090417,       0202,   -33.9995,    69.6983,       4489,  4550.8,   0.7868,  34.6964,2,  34.6969,2,    209.8,2,   210.1,2,  129.26,2,   32.75,2,    0.00,2,    2.31,2,   0.032,6,   0.019,6,   0.0000,6,  2267.1,6,  2371.0,2,   7.6829,2,    20.00,-999.000,9,-999.000,9,-999.000,9,   0.7865,2,-999.000,9, -999.00,9, -999.00,-999.000,9,-999.000,   39.46,2,   34.69,2, -33.9995,  69.6983,-999.000,-999.000,20090417,       0202