BOTTLE,20220814CCHSIOAMB
EXPOCODE,SECT_ID,STNNBR,CASTNO,SAMPNO,BTLNBR,BTLNBR_FLAG_W,DATE,TIME,LATITUDE,LONGITUDE,DEPTH,CTDPRS,CTDTMP,CTDSAL,CTDSAL_FLAG_W,SALNTY,SALNTY_FLAG_W,CTDOXY,CTDOXY_FLAG_W,OXYGEN,OXYGEN_FLAG_W,SILCAT,SILCAT_FLAG_W,NITRAT,NITRAT_FLAG_W,NITRIT,NITRIT_FLAG_W,PHSPHT,PHSPHT_FLAG_W,CFC-11,CFC-11_FLAG_W,CFC-12,CFC-12_FLAG_W,SF6,SF6_FLAG_W,TCARBN,TCARBN_FLAG_W,ALKALI,ALKALI_FLAG_W,PH_TOT,PH_TOT_FLAG_W,PH_TMP,TRITUM,TRITUM_FLAG_W,HELIUM,HELIUM_FLAG_W,DELHE3,DELHE3_FLAG_W,REFTMP,REFTMP_FLAG_W,DELC13,DELC13_FLAG_W,DELC14,DELC14_FLAG_W,C14ERR,NEON,NEON_FLAG_W,NEONER,DOC,DOC_FLAG_W,TDN,TDN_FLAG_W,BTL_LAT,BTL_LON,HELIER,DELHER,BTL_DATE,BTL_TIME
,,,,,,,,,,,METERS,DBAR,ITS-90,PSS-78,,PSS-78,,UMOL/KG,,UMOL/KG,,UMOL/KG,,UMOL/KG,,UMOL/KG,,UMOL/KG,,PMOL/KG,,PMOL/KG,,FMOL/KG,,UMOL/KG,,UMOL/KG,,,,DEG C,TU,,NMOL/KG,,PERCNT,,DEG C,,/MILLE,,/MILLE,,/MILLE,NMOL/KG,,NMOL/KG,UMOL/KG,,UMOL/KG,,,,NMOL/KG,PERCNT,,
33RR20090320,        I05,      87,          2,         36,         36,2,20090415,       1111,   -33.9997,    66.2655,       4707,     6.0,  19.0699,  35.4198,2,  35.4209,2,    232.9,2,   232.6,2,    1.55,2,    0.09,2,    0.00,2,    0.17,2,   2.291,2,   1.358,2,   1.2330,2,  2057.2,6,  2328.8,2,   8.0668,2,    20.00,-999.000,9,-999.000,9,-999.000,9,  19.0703,2,    1.39,2,   52.79,2,     2.8,-999.000,9,-999.000,   67.67,2,    4.37,2, -33.9999,  66.2656,-999.000,-999.000,20090415,       1314
33RR20090320,        I05,      87,          2,         35,         35,2,20090415,       1111,   -33.9997,    66.2655,       4707,    35.9,  19.0336,  35.4167,2,  35.4181,2,    234.9,2,   233.2,2,    1.54,2,    0.09,2,    0.00,2,    0.16,2,   2.285,2,   1.355,2,   1.2840,2,  2055.5,2,  2330.2,2,   8.0679,2,    20.00,-999.000,9,-999.000,9,-999.000,9,  19.0297,2,-999.000,9, -999.00,9, -999.00,-999.000,9,-999.000,   67.61,2,    4.92,2, -33.9999,  66.2656,-999.000,-999.000,20090415,       1313
33RR20090320,        I05,      87,          2,         34,         34,2,20090415,       1111,   -33.9997,    66.2655,       4707,    59.9,  18.8001,  35.4139,2,  35.4108,2,    234.5,2,   235.9,2,    1.52,2,    0.09,2,    0.00,2,    0.16,2,   2.336,2,   1.381,2,   1.2510,2,  2056.8,2,  2328.6,2,   8.0664,2,    20.00,-999.000,9,-999.000,9,-999.000,9,  18.8016,2,-999.000,9, -999.00,9, -999.00,-999.000,9,-999.000,   65.52,2,    4.99,2, -33.9999,  66.2657,-999.000,-999.000,20090415,       1311
33RR20090320,        I05,      87,          2,         33,         33,2,20090415,       1111,   -33.9997,    66.2655,       4707,    87.5,  15.2312,  35.2983,2,  35.2991,2,    246.3,2,   245.9,2,    2.14,2,    1.72,2,    0.23,2,    0.32,2,   2.743,6,   1.588,6,   1.4230,6,  2075.0,2,  2323.2,2,   8.0213,2,    20.00,-999.000,9,-999.000,9,-999.000,9,  15.2265,2,   1.225,2,   54.45,2,     3.1,-999.000,9,-999.000,   59.88,2,    6.05,2, -33.9998,  66.2657,-999.000,-999.000,20090415,       1310
33RR20090320,        I05,      87,          2,         32,         32,2,20090415,       1111,   -33.9997,    66.2655,       4707,   117.3,  13.8371,  35.2983,2,  35.2983,2,    236.4,2,   234.7,2,    3.58,2,    6.41,2,    0.08,2,    0.56,2,   2.931,2,   1.694,2,   1.4490,2,  2100.1,2,  2317.8,2,   7.9700,2,    20.00,-999.000,9,-999.000,9,-999.000,9,  13.8376,2,-999.000,9, -999.00,9, -999.00,-999.000,9,-999.000,   55.70,2,    9.69,2, -33.9998,  66.2657,-999.000,-999.000,20090415,       1308
33RR20090320,        I05,      87,          2,         31,         31,2,20090415,       1111,   -33.9997,    66.2655,       4707,   167.3,  13.5000,  35.3040,2,  35.3018,2,    234.3,2,   236.8,2,    3.98,2,    7.22,2,    0.01,2,    0.59,2,   2.964,2,   1.694,2,   1.4240,2,  2103.8,2,  2319.9,2,   7.9654,2,    20.00,-999.000,9,-999.000,9,-999.000,9,  13.4892,2,   0.936,2,   56.77,2,       3,-999.000,9,-999.000,   53.21,2,   10.37,2, -33.9998,  66.2658,-999.000,-999.000,20090415,       1306
33RR20090320,        I05,      87,          2,         30,         30,2,20090415,       1111,   -33.9997,    66.2655,       4707,   218.9,  13.0846,  35.2404,2,  35.2400,2,    236.8,2,   237.8,2,    3.97,2,    7.97,2,    0.00,2,    0.64,2,   3.031,2,   1.730,2,   1.4020,2,  2106.4,2,  2318.8,2,   7.9529,2,    20.00,-999.000,9,-999.000,9,-999.000,9,  13.0835,2,-999.000,9, -999.00,9, -999.00,-999.000,9,-999.000,   51.04,2,   10.75,2, -33.9997,  66.2658,-999.000,-999.000,20090415,       1304
33RR20090320,        I05,      87,          2,         29,         29,2,20090415,       1111,   -33.9997,    66.2655,       4707,   268.2,  12.8561,  35.2129,2,  35.2126,2,    238.0,2,   235.8,2,    4.37,2,    8.76,2,    0.00,2,    0.69,2,   3.050,2,   1.733,2,   1.2740,2,  2107.9,2,  2315.2,2,   7.9463,2,    20.00,-999.000,9,-999.000,9,-999.000,9,  12.8549,2,   0.938,2,    56.1,2,       3,-999.000,9,-999.000,   50.32,2,   11.11,2, -33.9997,  66.2659,-999.000,-999.000,20090415,       1302
33RR20090320,        I05,      87,          2,         28,         28,2,20090415,       1111,   -33.9997,    66.2655,       4707,   319.5,  12.5882,  35.1714,2,  35.1720,2,    238.1,2,   238.1,2,    4.15,2,    9.19,2,    0.00,2,    0.71,2,   3.086,2,   1.738,2,   1.3800,2,  2110.9,2,  2312.9,2,   7.9411,2,    20.00,-999.000,9,-999.000,9,-999.000,9,  12.5923,2,-999.000,9, -999.00,9, -999.00,-999.000,9,-999.000,   49.64,2,   11.24,2, -33.9997,  66.2658,-999.000,-999.000,20090415,       1300
33RR20090320,        I05,      87,          2,         27,         27,2,20090415,       1111,   -33.9997,    66.2655,       4707,   367.4,  12.4223,  35.1506,2,  35.1504,2,    238.6,2,   240.9,2,    4.13,2,    9.35,2,    0.00,2,    0.72,2,   3.109,2,   1.760,2,   1.4310,2,  2110.0,2,  2316.3,2,   7.9394,2,    20.00,-999.000,9,-999.000,9,-999.000,9,  12.4233,2,   0.945,2,    44.1,2,       3,-999.000,9,-999.000,   48.69,2,   11.59,2, -33.9996,  66.2658,-999.000,-999.000,20090415,       1258
33RR20090320,        I05,      87,          2,         26,         26,2,20090415,       1111,   -33.9997,    66.2655,       4707,   417.4,  12.3480,  35.1430,2,  35.1433,2,    240.3,2,   242.0,2,    4.32,2,    9.46,2,    0.00,2,    0.73,2,   3.127,2,   1.765,2,   1.4480,2,  2109.8,2,  2313.7,2,   7.9401,2,    20.00,-999.000,9,-999.000,9,-999.000,9,  12.3461,2,-999.000,9, -999.00,9, -999.00,-999.000,9,-999.000,   47.70,2,   11.96,2, -33.9997,  66.2658,-999.000,-999.000,20090415,       1256
33RR20090320,        I05,      87,          2,         25,         25,2,20090415,       1111,   -33.9997,    66.2655,       4707,   469.1,  12.0074,  35.0788,2,  35.0773,2,    238.4,2,   239.0,2,    4.52,2,   10.57,2,    0.00,2,    0.80,2,   3.146,2,   1.752,2,   1.3190,2,  2113.7,2,  2312.4,2,   7.9259,2,    20.00,-999.000,9,-999.000,9,-999.000,9,  12.0024,2,    1.01,2,   44.69,2,       3,-999.000,9,-999.000,   46.66,2,   12.41,2, -33.9998,  66.2658,-999.000,-999.000,20090415,       1253
33RR20090320,        I05,      87,          2,         24,         24,2,20090415,       1111,   -33.9997,    66.2655,       4707,   537.9,  11.5640,  35.0007,2,  35.0025,2,    235.3,2,   233.3,2,    4.71,2,   11.99,2,    0.00,2,    0.90,2,   3.221,2,   1.768,2,   1.1800,2,  2117.6,2,  2306.6,2,   7.9081,2,    20.00,-999.000,9,-999.000,9,-999.000,9,  11.5670,2,   1.047,2,   37.68,2,     2.9,-999.000,9,-999.000,   45.68,2,   13.68,2, -33.9999,  66.2658,-999.000,-999.000,20090415,       1251
33RR20090320,        I05,      87,          2,         23,         23,2,20090415,       1111,   -33.9997,    66.2655,       4707,   638.0,  10.8167,  34.8934,2,  34.8934,2,    230.4,2,   228.4,2,    5.53,2,   14.05,2,    0.00,2,    1.02,2,   3.310,2,   1.770,2,   1.1220,2,  2124.4,2,  2301.3,2,   7.8843,2,    20.00,-999.000,9,-999.000,9,-999.000,9,  10.8179,2,   1.069,2,   45.67,2,       3,-999.000,9,-999.000,   44.84,2,   15.40,2, -33.9998,  66.2657,-999.000,-999.000,20090415,       1247
33RR20090320,        I05,      87,          2,         22,         22,2,20090415,       1111,   -33.9997,    66.2655,       4707,   732.3,   9.8156,  34.7596,2,  34.7598,2,    223.6,2,   221.8,2,    7.20,2,   16.96,2,    0.00,2,    1.21,2,   3.220,2,   1.667,2,   0.9140,2,  2134.2,2,  2296.1,2,   7.8514,2,    20.00,-999.000,9,-999.000,9,-999.000,9,   9.8190,2,   1.116,2,   35.75,2,     3.8,-999.000,9,-999.000,   43.66,2,   18.40,2, -33.9997,  66.2657,-999.000,-999.000,20090415,       1244
33RR20090320,        I05,      87,          2,         21,         21,2,20090415,       1111,   -33.9997,    66.2655,       4707,   833.0,   8.6264,  34.6339,2,  34.6347,2,    207.9,2,   208.1,2,   12.02,2,   21.05,2,    0.00,2,    1.48,2,   2.874,2,   1.449,2,   0.7250,2,  2152.5,2,  2295.8,2,   7.8040,2,    20.00,-999.000,9,-999.000,9,-999.000,9,   8.6271,2,   1.091,2,   12.49,2,     2.9,-999.000,9,-999.000,   42.68,2,   22.97,2, -33.9997,  66.2658,-999.000,-999.000,20090415,       1241
33RR20090320,        I05,      87,          2,         20,         20,2,20090415,       1111,   -33.9997,    66.2655,       4707,   934.4,   7.2891,  34.5091,2,  34.5095,2,    204.4,2,   204.4,2,   16.63,2,   24.55,2,    0.00,2,    1.73,2,   2.606,3,   1.286,3,   0.5920,3,  2164.7,2,  2292.5,2,   7.7653,2,    20.00,-999.000,9,-999.000,9,-999.000,9,   7.2918,2,   1.094,2,  -10.02,2,     3.4,-999.000,9,-999.000,   41.91,2,   26.19,2, -33.9996,  66.2658,-999.000,-999.000,20090415,       1238
33RR20090320,        I05,      87,          2,         19,         19,2,20090415,       1111,   -33.9997,    66.2655,       4707,  1034.7,   5.8623,  34.4064,2,  34.4079,2,    203.8,2,   204.3,2,   23.14,2,   27.86,2,    0.00,2,    1.95,2,   2.260,2,   1.100,2,   0.4420,2,  2180.8,2,  2294.7,2,   7.7285,2,    20.00,-999.000,9,-999.000,9,-999.000,9,   5.8766,2,   0.965,2,     -36,2,     2.6,-999.000,9,-999.000,   41.17,2,   29.42,2, -33.9996,  66.2658,-999.000,-999.000,20090415,       1235
33RR20090320,        I05,      87,          2,         18,         18,2,20090415,       1111,   -33.9997,    66.2655,       4707,  1132.9,   4.7653,  34.3649,2,  34.3651,2,    202.5,2,   203.0,2,   31.16,2,   30.22,2,    0.00,2,    2.14,2,   1.939,2,   0.938,2,   0.3160,2,  2194.4,2,  2300.1,2,   7.7014,2,    20.00,-999.000,9,-999.000,9,-999.000,9,   4.7646,2,    0.99,2,  -66.92,2,     2.9,-999.000,9,-999.000,   40.42,2,   31.93,2, -33.9997,  66.2658,-999.000,-999.000,20090415,       1232
33RR20090320,        I05,      87,          2,         17,         17,2,20090415,       1111,   -33.9997,    66.2655,       4707,  1234.0,   4.1249,  34.3724,2,  34.3722,2,    196.1,2,   196.6,2,   39.40,2,   31.77,2,    0.00,2,    2.27,2,   1.543,2,   0.738,2,   0.2890,2,  2207.9,2,  2304.6,2,   7.6807,2,    20.00,-999.000,9,-999.000,9,-999.000,9,   4.1274,2,   0.921,2,   -83.6,2,     3.3,-999.000,9,-999.000,   39.88,2,   33.29,2, -33.9997,  66.2656,-999.000,-999.000,20090415,       1229
33RR20090320,        I05,      87,          2,         16,         16,2,20090415,       1111,   -33.9997,    66.2655,       4707,  1336.8,   3.6367,  34.4148,2,  34.4146,2,    185.2,2,   185.3,2,   49.78,2,   33.17,2,    0.00,2,    2.37,2,   1.045,2,   0.495,2,   0.2140,2,  2224.5,2,  2317.2,2,   7.6598,2,    20.00,-999.000,9,-999.000,9,-999.000,9,   3.6362,2,   0.801,2, -107.86,2,     2.4,-999.000,9,-999.000,   40.00,2,   35.08,2, -33.9997,  66.2656,-999.000,-999.000,20090415,       1226
33RR20090320,        I05,      87,          2,         15,         15,2,20090415,       1111,   -33.9997,    66.2655,       4707,  1436.0,   3.3150,  34.4653,2,  34.4652,2,    178.0,2,   176.8,2,   58.28,2,   33.86,2,    0.00,2,    2.42,2,   0.692,2,   0.323,2,   0.1110,2,  2237.4,2,  2323.2,2,   7.6469,2,    20.00,-999.000,9,-999.000,9,-999.000,9,   3.3166,2,   0.681,2, -123.67,2,     2.4,-999.000,9,-999.000,   39.78,2,   35.65,2, -33.9997,  66.2657,-999.000,-999.000,20090415,       1223
33RR20090320,        I05,      87,          2,         14,         14,2,20090415,       1111,   -33.9997,    66.2655,       4707,  1536.1,   3.0933,  34.5148,2,  34.5149,2,    172.8,2,   171.2,2,   64.68,2,   34.12,2,    0.00,2,    2.44,2,   0.447,2,   0.206,2,   0.0900,2,  2246.8,2,  2330.6,2,   7.6405,2,    20.00,-999.000,9,-999.000,9,-999.000,9,   3.0916,2,-999.000,9, -999.00,9, -999.00,-999.000,9,-999.000,   40.23,2,   36.04,2, -33.9995,  66.2659,-999.000,-999.000,20090415,       1220
33RR20090320,        I05,      87,          2,         13,         13,2,20090415,       1111,   -33.9997,    66.2655,       4707,  1660.0,   2.8535,  34.5732,2,  34.5721,2,    171.4,2,   170.7,2,   70.22,2,   33.80,2,    0.00,2,    2.42,2,   0.264,2,   0.122,2,   0.0660,2,  2251.2,6,  2335.2,2,   7.6427,2,    20.00,-999.000,9,-999.000,9,-999.000,9,   2.8533,2,-999.000,9, -999.00,9, -999.00,-999.000,9,-999.000,   40.07,2,   35.63,2, -33.9996,  66.2659,-999.000,-999.000,20090415,       1215
33RR20090320,        I05,      87,          2,         12,         12,2,20090415,       1111,   -33.9997,    66.2655,       4707,  1863.5,   2.6077,  34.6460,2,  34.6460,2,    173.7,2,   174.6,2,   75.55,2,   32.88,2,    0.00,2,    2.35,2,   0.115,2,   0.052,2,   0.0220,2,  2252.4,2,  2342.0,2,   7.6545,2,    20.00,-999.000,9,-999.000,9,-999.000,9,   2.6074,2,-999.000,9, -999.00,9, -999.00,-999.000,9,-999.000,   39.92,2,   34.18,2, -33.9994,  66.2659,-999.000,-999.000,20090415,       1210
33RR20090320,        I05,      87,          2,         11,         11,2,20090415,       1111,   -33.9997,    66.2655,       4707,  2087.0,   2.3759,  34.7030,2,  34.7034,2,    180.2,2,   181.1,2,   81.96,2,   31.85,2,    0.00,2,    2.27,2,   0.049,2,   0.022,2,   0.0270,2,  2254.2,2,  2349.4,2,   7.6710,2,    20.00,-999.000,9,-999.000,9,-999.000,9,   2.3776,2,-999.000,9, -999.00,9, -999.00,-999.000,9,-999.000,   39.83,2,   33.43,2, -33.9992,  66.2657,-999.000,-999.000,20090415,       1205
33RR20090320,        I05,      87,          2,         10,         10,2,20090415,       1111,   -33.9997,    66.2655,       4707,  2332.8,   2.1615,  34.7249,2,  34.7244,2,    180.2,2,   180.5,2,   94.42,2,   32.02,2,    0.00,2,    2.29,2,   0.018,2,   0.008,2,   0.0000,2,  2264.4,2,  2363.3,2,   7.6785,2,    20.00,-999.000,9,-999.000,9,-999.000,9,   2.1631,2,-999.000,9, -999.00,9, -999.00,-999.000,9,-999.000,   39.74,2,   33.35,2, -33.9994,  66.2657,-999.000,-999.000,20090415,       1200
33RR20090320,        I05,      87,          2,          9,          9,2,20090415,       1111,   -33.9997,    66.2655,       4707,  2584.3,   1.9901,  34.7307,2,  34.7309,2,    178.2,2,   177.7,2,  105.17,2,   32.54,2,    0.00,2,    2.34,2,   0.007,2,   0.004,2,   0.0000,2,  2275.8,2,  2374.3,2,   7.6784,2,    20.00,-999.000,9,-999.000,9,-999.000,9,   1.9897,2,-999.000,9, -999.00,9, -999.00,-999.000,9,-999.000,   39.57,2,   34.35,2, -33.9995,  66.2657,-999.000,-999.000,20090415,       1154
33RR20090320,        I05,      87,          2,          8,          8,2,20090415,       1111,   -33.9997,    66.2655,       4707,  2837.4,   1.8607,  34.7311,2,  34.7303,2,    177.0,2,   177.2,2,  111.86,2,   32.92,2,    0.00,2,    2.37,2,   0.005,2,   0.002,2,   0.0000,2,  2281.3,2,  2380.2,2,   7.6775,2,    20.00,-999.000,9,-999.000,9,-999.000,9,   1.8607,2,-999.000,9, -999.00,9, -999.00,-999.000,9,-999.000,   39.84,2,   34.55,2, -33.9995,  66.2656,-999.000,-999.000,20090415,       1149
33RR20090320,        I05,      87,          2,          7,          7,2,20090415,       1111,   -33.9997,    66.2655,       4707,  3126.5,   1.7188,  34.7289,2,  34.7287,2,    178.7,2,   179.0,2,  117.04,2,   33.08,2,    0.00,2,    2.38,2,   0.008,6,   0.004,6,   0.0000,6,  2285.0,2,  2382.2,2,   7.6776,2,    20.00,-999.000,9,-999.000,9,-999.000,9,   1.7185,2,-999.000,9, -999.00,9, -999.00,-999.000,9,-999.000,   40.06,2,   34.56,2, -33.9995,  66.2654,-999.000,-999.000,20090415,       1142
33RR20090320,        I05,      87,          2,          6,          6,2,20090415,       1111,   -33.9997,    66.2655,       4707,  3431.0,   1.5465,  34.7239,2,  34.7240,2,    183.7,2,   183.5,2,  120.49,2,   33.13,2,    0.00,2,    2.38,2,   0.009,2,   0.005,2,   0.0120,2,  2283.8,2,  2383.1,2,   7.6786,2,    20.00,-999.000,9,-999.000,9,-999.000,9,   1.5465,2,-999.000,9, -999.00,9, -999.00,-999.000,9,-999.000,   40.26,2,   34.63,2, -33.9996,  66.2657,-999.000,-999.000,20090415,       1137
33RR20090320,        I05,      87,          2,          5,          5,2,20090415,       1111,   -33.9997,    66.2655,       4707,  3733.5,   1.2470,  34.7151,2,  34.7148,2,    192.7,2,   193.5,2,  123.73,2,   32.91,2,    0.00,2,    2.36,2,   0.016,2,   0.008,2,   0.0000,2,  2278.3,2,  2376.4,2,   7.6802,2,    20.00,-999.000,9,-999.000,9,-999.000,9,   1.2479,2,-999.000,9, -999.00,9, -999.00,-999.000,9,-999.000,   39.80,2,   34.42,2, -33.9996,  66.2657,-999.000,-999.000,20090415,       1131
33RR20090320,        I05,      87,          2,          4,          4,2,20090415,       1111,   -33.9997,    66.2655,       4707,  4037.2,   0.9036,  34.7035,2,  34.7026,2,    203.9,2,   204.6,2,  127.19,2,   32.75,2,    0.00,2,    2.33,2,   0.022,2,   0.013,2,   0.0000,2,  2272.3,2,  2372.0,2,   7.6827,2,    20.00,-999.000,9,-999.000,9,-999.000,9,   0.9042,2,-999.000,9, -999.00,9, -999.00,-999.000,9,-999.000,   39.98,2,   34.08,2, -33.9995,  66.2657,-999.000,-999.000,20090415,       1125
33RR20090320,        I05,      87,          2,          3,          3,2,20090415,       1111,   -33.9997,    66.2655,       4707,  4346.5,   0.7428,  34.6964,2,  34.6975,2,    210.0,2,   209.9,2,  129.35,2,   32.69,2,    0.00,2,    2.33,2,   0.046,2,   0.021,2,   0.0000,2,  2269.5,2,  2368.2,2,   7.6827,2,    20.00,-999.000,9,-999.000,9,-999.000,9,   0.7436,2,-999.000,9, -999.00,9, -999.00,-999.000,9,-999.000,   40.10,2,   34.21,2, -33.9997,  66.2656,-999.000,-999.000,20090415,       1119
33RR20090320,        I05,      87,          2,          2,          2,2,20090415,       1111,   -33.9997,    66.2655,       4707,  4651.0,   0.6715,  34.6920,2,  34.6918,2,    213.5,2,   213.1,2,  130.86,2,   32.69,2,    0.00,2,    2.32,2,   0.070,2,   0.034,2,   0.0250,2,  2266.0,2,  2366.6,2,   7.6804,2,    20.00,-999.000,9,-999.000,9,-999.000,9,   0.6713,2,-999.000,9, -999.00,9, -999.00,-999.000,9,-999.000,   40.03,2,   33.91,2, -33.9998,  66.2656,-999.000,-999.000,20090415,       1114
33RR20090320,        I05,      87,          2,          1,          1,2,20090415,       1111,   -33.9997,    66.2655,       4707,  4775.4,   0.6795,  34.6916,2,  34.6914,2,    214.0,2,   213.3,2,  130.63,2,   32.69,2,    0.00,2,    2.33,2,   0.063,6,   0.031,6,   0.0120,6,  2267.1,6,  2367.1,2,   7.6811,2,    20.00,-999.000,9,-999.000,9,-999.000,9,   0.6791,2,-999.000,9, -999.00,9, -999.00,-999.000,9,-999.000,   40.17,2,   34.02,2, -33.9997,  66.2655,-999.000,-999.000,20090415,       1111