BOTTLE,20220814CCHSIOAMB
EXPOCODE,SECT_ID,STNNBR,CASTNO,SAMPNO,BTLNBR,BTLNBR_FLAG_W,DATE,TIME,LATITUDE,LONGITUDE,DEPTH,CTDPRS,CTDTMP,CTDSAL,CTDSAL_FLAG_W,SALNTY,SALNTY_FLAG_W,CTDOXY,CTDOXY_FLAG_W,OXYGEN,OXYGEN_FLAG_W,SILCAT,SILCAT_FLAG_W,NITRAT,NITRAT_FLAG_W,NITRIT,NITRIT_FLAG_W,PHSPHT,PHSPHT_FLAG_W,CFC-11,CFC-11_FLAG_W,CFC-12,CFC-12_FLAG_W,SF6,SF6_FLAG_W,TCARBN,TCARBN_FLAG_W,ALKALI,ALKALI_FLAG_W,PH_TOT,PH_TOT_FLAG_W,PH_TMP,TRITUM,TRITUM_FLAG_W,HELIUM,HELIUM_FLAG_W,DELHE3,DELHE3_FLAG_W,REFTMP,REFTMP_FLAG_W,DELC13,DELC13_FLAG_W,DELC14,DELC14_FLAG_W,C14ERR,NEON,NEON_FLAG_W,NEONER,DOC,DOC_FLAG_W,TDN,TDN_FLAG_W,BTL_LAT,BTL_LON,HELIER,DELHER,BTL_DATE,BTL_TIME
,,,,,,,,,,,METERS,DBAR,ITS-90,PSS-78,,PSS-78,,UMOL/KG,,UMOL/KG,,UMOL/KG,,UMOL/KG,,UMOL/KG,,UMOL/KG,,PMOL/KG,,PMOL/KG,,FMOL/KG,,UMOL/KG,,UMOL/KG,,,,DEG C,TU,,NMOL/KG,,PERCNT,,DEG C,,/MILLE,,/MILLE,,/MILLE,NMOL/KG,,NMOL/KG,UMOL/KG,,UMOL/KG,,,,NMOL/KG,PERCNT,,
33RR20090320,        I05,     124,          1,         36,         36,2,20090425,       0315,   -31.1954,    84.3702,       4045,     9.3,  20.7636,  35.8055,2,  35.8063,2,    225.5,2,   225.9,2,    1.55,2,    0.02,2,    0.00,2,    0.15,2,   2.126,6,   1.267,6,   1.1580,6,  2069.8,6,  2355.3,2,   8.0853,2,    20.00,-999.000,9,-999.000,9,-999.000,9,  20.7622,2,-999.000,9, -999.00,9, -999.00,-999.000,9,-999.000, -999.00,9, -999.00,9, -31.1949,  84.3702,-999.000,-999.000,20090425,       0459
33RR20090320,        I05,     124,          1,         35,         35,2,20090425,       0315,   -31.1954,    84.3702,       4045,    26.0,  20.7612,  35.8058,2,  35.8065,2,    225.9,2,   225.6,2,    1.37,2,    0.02,2,    0.00,2,    0.15,2,-999.000,9,-999.000,9,-999.0000,9,  2070.0,2,  2353.9,2,   8.0853,2,    20.00,-999.000,9,-999.000,9,-999.000,9,  20.7591,2,-999.000,9, -999.00,9, -999.00,-999.000,9,-999.000, -999.00,9, -999.00,9, -31.1949,  84.3703,-999.000,-999.000,20090425,       0457
33RR20090320,        I05,     124,          1,         34,         34,2,20090425,       0315,   -31.1954,    84.3702,       4045,    45.7,  20.7079,  35.8031,2,  35.8016,2,    226.7,2,   226.5,2,    1.54,2,    0.02,2,    0.00,2,    0.15,2,-999.000,9,-999.000,9,-999.0000,9,  -999.0,9,  -999.0,9,-999.0000,9,  -999.00,-999.000,9,-999.000,9,-999.000,9,  20.7203,2,-999.000,9, -999.00,9, -999.00,-999.000,9,-999.000, -999.00,9, -999.00,9, -31.1949,  84.3703,-999.000,-999.000,20090425,       0455
33RR20090320,        I05,     124,          1,         33,         33,2,20090425,       0315,   -31.1954,    84.3702,       4045,    70.9,  16.3185,  35.5352,2,  35.5408,2,    260.5,2,   258.7,2,    1.36,2,    0.02,2,    0.00,2,    0.19,2,   2.714,2,   1.568,2,   1.3620,2,  2072.4,2,  2339.8,2,   8.0587,2,    20.00,-999.000,9,-999.000,9,-999.000,9,  16.3284,2,-999.000,9, -999.00,9, -999.00,-999.000,9,-999.000, -999.00,9, -999.00,9, -31.1949,  84.3703,-999.000,-999.000,20090425,       0453
33RR20090320,        I05,     124,          1,         32,         32,2,20090425,       0315,   -31.1954,    84.3702,       4045,    96.1,  15.4329,  35.5071,2,  35.5112,2,    245.2,2,   247.4,2,    1.53,2,    0.17,2,    0.02,2,    0.24,2,-999.000,9,-999.000,9,-999.0000,9,  -999.0,9,  -999.0,9,-999.0000,9,  -999.00,-999.000,9,-999.000,9,-999.000,9,  15.4117,2,-999.000,9, -999.00,9, -999.00,-999.000,9,-999.000, -999.00,9, -999.00,9, -31.1949,  84.3702,-999.000,-999.000,20090425,       0451
33RR20090320,        I05,     124,          1,         31,         31,2,20090425,       0315,   -31.1954,    84.3702,       4045,   120.8,  14.5463,  35.4226,2,  35.4317,2,    233.9,2,   232.9,2,    1.87,2,    3.42,2,    0.13,2,    0.42,2,   2.864,2,   1.634,2,   1.2850,2,  2100.0,2,  2331.0,2,   7.9929,2,    20.00,-999.000,9,-999.000,9,-999.000,9,  14.5523,2,-999.000,9, -999.00,9, -999.00,-999.000,9,-999.000, -999.00,9, -999.00,9, -31.1949,  84.3702,-999.000,-999.000,20090425,       0449
33RR20090320,        I05,     124,          1,         30,         30,2,20090425,       0315,   -31.1954,    84.3702,       4045,   146.1,  13.8120,  35.3096,4,  35.2923,2,    229.7,2,   231.9,2,    2.23,2,    5.74,2,    0.01,2,    0.54,2,-999.000,9,-999.000,9,-999.0000,9,  -999.0,9,  -999.0,9,-999.0000,9,  -999.00,-999.000,9,-999.000,9,-999.000,9,  13.8493,2,-999.000,9, -999.00,9, -999.00,-999.000,9,-999.000, -999.00,9, -999.00,9, -31.1949,  84.3701,-999.000,-999.000,20090425,       0448
33RR20090320,        I05,     124,          1,         29,         29,2,20090425,       0315,   -31.1954,    84.3702,       4045,   190.8,  12.9012,  35.1686,2,  35.1684,2,    232.6,2,   233.3,2,    2.75,2,    7.58,2,    0.01,2,    0.64,2,   3.117,2,   1.755,2,   1.4020,2,  2108.7,2,  2316.9,2,   7.9442,2,    20.00,-999.000,9,-999.000,9,-999.000,9,  12.8940,2,-999.000,9, -999.00,9, -999.00,-999.000,9,-999.000, -999.00,9, -999.00,9, -31.1949,  84.3701,-999.000,-999.000,20090425,       0446
33RR20090320,        I05,     124,          1,         28,         28,2,20090425,       0315,   -31.1954,    84.3702,       4045,   241.4,  12.2900,  35.1033,2,  35.1011,2,    233.2,2,   233.6,2,    3.28,2,    9.37,2,    0.00,2,    0.73,2,-999.000,9,-999.000,9,-999.0000,9,  -999.0,9,  -999.0,9,-999.0000,9,  -999.00,-999.000,9,-999.000,9,-999.000,9,  12.2791,2,-999.000,9, -999.00,9, -999.00,-999.000,9,-999.000, -999.00,9, -999.00,9, -31.1950,  84.3701,-999.000,-999.000,20090425,       0445
33RR20090320,        I05,     124,          1,         27,         27,2,20090425,       0315,   -31.1954,    84.3702,       4045,   291.4,  11.8334,  35.0422,2,  35.0428,2,    237.1,2,   237.7,2,    3.81,2,   10.37,2,    0.00,2,    0.80,2,   3.289,2,   1.824,2,   1.3930,2,  2115.0,2,  2309.2,2,   7.9187,2,    20.00,-999.000,9,-999.000,9,-999.000,9,  11.8285,2,-999.000,9, -999.00,9, -999.00,-999.000,9,-999.000, -999.00,9, -999.00,9, -31.1950,  84.3701,-999.000,-999.000,20090425,       0443
33RR20090320,        I05,     124,          1,         26,         26,2,20090425,       0315,   -31.1954,    84.3702,       4045,   340.4,  11.4820,  34.9953,2,  34.9964,2,    239.2,2,   237.7,2,    3.98,2,   11.15,2,    0.00,2,    0.84,2,-999.000,9,-999.000,9,-999.0000,9,  -999.0,9,  -999.0,9,-999.0000,9,  -999.00,-999.000,9,-999.000,9,-999.000,9,  11.4805,2,-999.000,9, -999.00,9, -999.00,-999.000,9,-999.000, -999.00,9, -999.00,9, -31.1950,  84.3701,-999.000,-999.000,20090425,       0441
33RR20090320,        I05,     124,          1,         25,         25,2,20090425,       0315,   -31.1954,    84.3702,       4045,   390.0,  11.1690,  34.9546,2,  34.9562,2,    237.5,2,   237.8,2,    4.15,2,   11.83,2,    0.00,2,    0.89,2,-999.000,9,-999.000,9,-999.0000,9,  -999.0,9,  -999.0,9,-999.0000,9,  -999.00,-999.000,9,-999.000,9,-999.000,9,  11.1685,2,-999.000,9, -999.00,9, -999.00,-999.000,9,-999.000, -999.00,9, -999.00,9, -31.1950,  84.3701,-999.000,-999.000,20090425,       0440
33RR20090320,        I05,     124,          1,         24,         24,2,20090425,       0315,   -31.1954,    84.3702,       4045,   440.7,  10.8145,  34.9032,2,  34.9065,2,    238.1,2,   238.0,2,    4.33,2,   12.61,2,    0.00,2,    0.94,2,-999.000,9,-999.000,9,-999.0000,9,  -999.0,9,  -999.0,9,-999.0000,9,  -999.00,-999.000,9,-999.000,9,-999.000,9,  10.8241,2,-999.000,9, -999.00,9, -999.00,-999.000,9,-999.000, -999.00,9, -999.00,9, -31.1950,  84.3701,-999.000,-999.000,20090425,       0438
33RR20090320,        I05,     124,          1,         23,         23,2,20090425,       0315,   -31.1954,    84.3702,       4045,   490.8,  10.5108,  34.8603,2,  34.8620,2,    237.1,2,   236.3,2,    4.68,2,   13.61,2,    0.00,2,    1.00,2,-999.000,9,-999.000,9,-999.0000,9,  -999.0,9,  -999.0,9,-999.0000,9,  -999.00,-999.000,9,-999.000,9,-999.000,9,  10.5130,2,-999.000,9, -999.00,9, -999.00,-999.000,9,-999.000, -999.00,9, -999.00,9, -31.1950,  84.3701,-999.000,-999.000,20090425,       0436
33RR20090320,        I05,     124,          1,         22,         22,2,20090425,       0315,   -31.1954,    84.3702,       4045,   569.5,  10.0046,  34.7873,2,  34.7877,2,    235.0,2,   235.1,2,    5.20,2,   15.03,2,    0.00,2,    1.08,2,-999.000,9,-999.000,9,-999.0000,9,  -999.0,9,  -999.0,9,-999.0000,9,  -999.00,-999.000,9,-999.000,9,-999.000,9,  10.0088,2,-999.000,9, -999.00,9, -999.00,-999.000,9,-999.000, -999.00,9, -999.00,9, -31.1950,  84.3701,-999.000,-999.000,20090425,       0434
33RR20090320,        I05,     124,          1,         21,         21,2,20090425,       0315,   -31.1954,    84.3702,       4045,   670.9,   9.4152,  34.7031,2,  34.7051,2,    232.3,2,   233.1,2,    5.73,2,   16.65,2,    0.00,2,    1.19,2,   3.554,2,   1.837,2,   0.9110,2,  2129.4,2,  2294.8,2,   7.8546,2,    20.00,-999.000,9,-999.000,9,-999.000,9,   9.4150,2,-999.000,9, -999.00,9, -999.00,-999.000,9,-999.000, -999.00,9, -999.00,9, -31.1950,  84.3702,-999.000,-999.000,20090425,       0431
33RR20090320,        I05,     124,          1,         20,         20,2,20090425,       0315,   -31.1954,    84.3702,       4045,   770.1,   8.4434,  34.5874,2,  34.5874,2,    218.2,2,   218.6,2,    9.12,2,   20.55,2,    0.00,2,    1.44,2,-999.000,9,-999.000,9,-999.0000,9,  -999.0,9,  -999.0,9,-999.0000,9,  -999.00,-999.000,9,-999.000,9,-999.000,9,   8.4456,2,-999.000,9, -999.00,9, -999.00,-999.000,9,-999.000, -999.00,9, -999.00,9, -31.1950,  84.3703,-999.000,-999.000,20090425,       0429
33RR20090320,        I05,     124,          1,         19,         19,2,20090425,       0315,   -31.1954,    84.3702,       4045,   870.7,   6.8339,  34.4631,2,  34.4671,2,    202.3,2,   202.4,2,   17.53,2,   25.72,2,    0.00,2,    1.79,2,   2.325,2,   1.147,2,   0.4630,2,  2166.8,2,  2291.7,2,   7.7520,2,    20.00,-999.000,9,-999.000,9,-999.000,9,   6.8393,2,-999.000,9, -999.00,9, -999.00,-999.000,9,-999.000, -999.00,9, -999.00,9, -31.1950,  84.3703,-999.000,-999.000,20090425,       0426
33RR20090320,        I05,     124,          1,         18,         18,2,20090425,       0315,   -31.1954,    84.3702,       4045,   971.5,   5.4993,  34.3950,2,  34.3950,2,    198.8,2,   199.0,2,   26.52,2,   29.16,2,    0.00,2,    2.03,2,-999.000,9,-999.000,9,-999.0000,9,  -999.0,9,  -999.0,9,-999.0000,9,  -999.00,-999.000,9,-999.000,9,-999.000,9,   5.4909,2,-999.000,9, -999.00,9, -999.00,-999.000,9,-999.000, -999.00,9, -999.00,9, -31.1950,  84.3704,-999.000,-999.000,20090425,       0424
33RR20090320,        I05,     124,          1,         17,         17,2,20090425,       0315,   -31.1954,    84.3702,       4045,  1072.0,   4.5580,  34.3858,2,  34.3864,2,    190.9,2,   190.7,2,   37.53,2,   31.54,2,    0.00,2,    2.22,2,-999.000,9,-999.000,9,-999.0000,9,  -999.0,9,  -999.0,9,-999.0000,9,  -999.00,-999.000,9,-999.000,9,-999.000,9,   4.5573,2,-999.000,9, -999.00,9, -999.00,-999.000,9,-999.000, -999.00,9, -999.00,9, -31.1950,  84.3704,-999.000,-999.000,20090425,       0421
33RR20090320,        I05,     124,          1,         16,         16,2,20090425,       0315,   -31.1954,    84.3702,       4045,  1172.3,   3.9862,  34.4224,2,  34.4225,2,    177.7,2,   177.6,2,   50.04,2,   33.35,2,    0.00,2,    2.36,2,-999.000,9,-999.000,9,-999.0000,9,  -999.0,9,  -999.0,9,-999.0000,9,  -999.00,-999.000,9,-999.000,9,-999.000,9,   3.9870,2,-999.000,9, -999.00,9, -999.00,-999.000,9,-999.000, -999.00,9, -999.00,9, -31.1951,  84.3704,-999.000,-999.000,20090425,       0419
33RR20090320,        I05,     124,          1,         15,         15,2,20090425,       0315,   -31.1954,    84.3702,       4045,  1272.3,   3.6468,  34.4676,2,  34.4706,2,    170.4,2,   166.6,2,   60.60,2,   34.29,2,    0.00,2,    2.44,2,-999.000,9,-999.000,9,-999.0000,9,  -999.0,9,  -999.0,9,-999.0000,9,  -999.00,-999.000,9,-999.000,9,-999.000,9,   3.6472,2,-999.000,9, -999.00,9, -999.00,-999.000,9,-999.000, -999.00,9, -999.00,9, -31.1951,  84.3704,-999.000,-999.000,20090425,       0416
33RR20090320,        I05,     124,          1,         14,         14,2,20090425,       0315,   -31.1954,    84.3702,       4045,  1371.7,   3.4637,  34.5236,2,  34.5246,2,    155.7,2,   156.1,2,   70.48,2,   34.97,2,    0.00,2,    2.50,2,-999.000,9,-999.000,9,-999.0000,9,  -999.0,9,  -999.0,9,-999.0000,9,  -999.00,-999.000,9,-999.000,9,-999.000,9,   3.4640,2,-999.000,9, -999.00,9, -999.00,-999.000,9,-999.000, -999.00,9, -999.00,9, -31.1951,  84.3705,-999.000,-999.000,20090425,       0413
33RR20090320,        I05,     124,          1,         13,         13,2,20090425,       0315,   -31.1954,    84.3702,       4045,  1473.9,   3.2288,  34.5550,2,  34.5554,2,    156.1,2,   155.8,2,   74.87,2,   34.91,2,    0.00,2,    2.50,2,   0.151,2,   0.072,2,   0.0000,2,  2257.4,6,  2342.6,2,   7.6321,2,    20.00,-999.000,9,-999.000,9,-999.000,9,   3.2280,2,-999.000,9, -999.00,9, -999.00,-999.000,9,-999.000, -999.00,9, -999.00,9, -31.1952,  84.3705,-999.000,-999.000,20090425,       0411
33RR20090320,        I05,     124,          1,         12,         12,2,20090425,       0315,   -31.1954,    84.3702,       4045,  1574.3,   3.0759,  34.5986,2,  34.5996,2,    153.2,2,   153.6,2,   80.92,2,   34.85,2,    0.00,2,    2.50,2,-999.000,9,-999.000,9,-999.0000,9,  -999.0,9,  -999.0,9,-999.0000,9,  -999.00,-999.000,9,-999.000,9,-999.000,9,   3.0728,2,-999.000,9, -999.00,9, -999.00,-999.000,9,-999.000, -999.00,9, -999.00,9, -31.1952,  84.3705,-999.000,-999.000,20090425,       0408
33RR20090320,        I05,     124,          1,         11,         11,2,20090425,       0315,   -31.1954,    84.3702,       4045,  1673.4,   2.9192,  34.6267,2,  34.6260,2,    155.8,2,   155.6,2,   83.86,2,   34.57,2,    0.00,2,    2.47,2,-999.000,9,-999.000,9,-999.0000,9,  -999.0,9,  -999.0,9,-999.0000,9,  -999.00,-999.000,9,-999.000,9,-999.000,9,   2.9235,2,-999.000,9, -999.00,9, -999.00,-999.000,9,-999.000, -999.00,9, -999.00,9, -31.1952,  84.3704,-999.000,-999.000,20090425,       0405
33RR20090320,        I05,     124,          1,         10,         10,2,20090425,       0315,   -31.1954,    84.3702,       4045,  1774.3,   2.7617,  34.6568,2,  34.6570,2,    157.9,2,   158.3,2,   88.28,2,   34.19,2,    0.00,2,    2.44,2,-999.000,9,-999.000,9,-999.0000,9,  -999.0,9,  -999.0,9,-999.0000,9,  -999.00,-999.000,9,-999.000,9,-999.000,9,   2.7650,2,-999.000,9, -999.00,9, -999.00,-999.000,9,-999.000, -999.00,9, -999.00,9, -31.1952,  84.3703,-999.000,-999.000,20090425,       0403
33RR20090320,        I05,     124,          1,          9,          9,2,20090425,       0315,   -31.1954,    84.3702,       4045,  1945.7,   2.5598,  34.6926,2,  34.6928,2,    162.1,2,   161.5,2,   93.81,2,   33.75,2,    0.00,2,    2.40,2,   0.016,2,   0.010,2,   0.0000,2,  2270.5,2,  2362.7,2,   7.6522,2,    20.00,-999.000,9,-999.000,9,-999.000,9,   2.5600,2,-999.000,9, -999.00,9, -999.00,-999.000,9,-999.000, -999.00,9, -999.00,9, -31.1951,  84.3703,-999.000,-999.000,20090425,       0359
33RR20090320,        I05,     124,          1,          8,          8,2,20090425,       0315,   -31.1954,    84.3702,       4045,  2178.2,   2.2622,  34.7157,2,  34.7164,2,    170.0,2,   169.8,2,  100.09,2,   33.10,2,    0.00,2,    2.36,2,-999.000,9,-999.000,9,-999.0000,9,  -999.0,9,  -999.0,9,-999.0000,9,  -999.00,-999.000,9,-999.000,9,-999.000,9,   2.2622,2,-999.000,9, -999.00,9, -999.00,-999.000,9,-999.000, -999.00,9, -999.00,9, -31.1952,  84.3702,-999.000,-999.000,20090425,       0355
33RR20090320,        I05,     124,          1,          7,          7,2,20090425,       0315,   -31.1954,    84.3702,       4045,  2430.2,   2.0256,  34.7322,2,  34.7331,2,    184.0,2,   184.2,2,   96.75,2,   31.87,2,    0.00,2,    2.26,2,-999.000,9,-999.000,9,-999.0000,9,  -999.0,9,  -999.0,9,-999.0000,9,  -999.00,-999.000,9,-999.000,9,-999.000,9,   2.0259,2,-999.000,9, -999.00,9, -999.00,-999.000,9,-999.000, -999.00,9, -999.00,9, -31.1953,  84.3701,-999.000,-999.000,20090425,       0349
33RR20090320,        I05,     124,          1,          6,          6,2,20090425,       0315,   -31.1954,    84.3702,       4045,  2682.4,   1.7953,  34.7353,2,  34.7356,2,    188.3,2,   188.5,2,  103.22,2,   31.81,2,    0.00,2,    2.25,2,-999.000,9,-999.000,9,-999.0000,9,  -999.0,9,  -999.0,9,-999.0000,9,  -999.00,-999.000,9,-999.000,9,-999.000,9,   1.7953,2,-999.000,9, -999.00,9, -999.00,-999.000,9,-999.000, -999.00,9, -999.00,9, -31.1953,  84.3700,-999.000,-999.000,20090425,       0344
33RR20090320,        I05,     124,          1,          5,          5,2,20090425,       0315,   -31.1954,    84.3702,       4045,  2819.2,   1.6905,  34.7355,2,  34.7394,4,    191.2,2,   191.5,2,  104.70,2,   31.79,2,    0.00,2,    2.25,2,   0.007,2,   0.007,2,   0.0060,2,  2260.9,2,  2368.4,2,   7.6867,2,    20.00,-999.000,9,-999.000,9,-999.000,9,   1.6898,2,-999.000,9, -999.00,9, -999.00,-999.000,9,-999.000, -999.00,9, -999.00,9, -31.1953,  84.3700,-999.000,-999.000,20090425,       0341
33RR20090320,        I05,     124,          1,          4,          4,2,20090425,       0315,   -31.1954,    84.3702,       4045,  3326.8,   1.4227,  34.7279,2,  34.7286,2,    193.8,2,   194.0,2,  113.78,2,   32.27,2,    0.00,2,    2.28,2,-999.000,9,-999.000,9,-999.0000,9,  -999.0,9,  -999.0,9,-999.0000,9,  -999.00,-999.000,9,-999.000,9,-999.000,9,   1.4228,2,-999.000,9, -999.00,9, -999.00,-999.000,9,-999.000, -999.00,9, -999.00,9, -31.1953,  84.3701,-999.000,-999.000,20090425,       0331
33RR20090320,        I05,     124,          1,          3,          3,2,20090425,       0315,   -31.1954,    84.3702,       4045,  3630.9,   1.3956,  34.7278,2,  34.7284,2,    196.7,2,   196.9,2,  114.34,2,   32.15,2,    0.00,2,    2.26,2,   0.014,2,   0.008,2,   0.0000,2,  2266.4,2,  2373.3,2,   7.6908,2,    20.00,-999.000,9,-999.000,9,-999.000,9,   1.3959,2,-999.000,9, -999.00,9, -999.00,-999.000,9,-999.000, -999.00,9, -999.00,9, -31.1953,  84.3702,-999.000,-999.000,20090425,       0325
33RR20090320,        I05,     124,          1,          2,          2,2,20090425,       0315,   -31.1954,    84.3702,       4045,  3864.0,   1.3961,  34.7268,2,  34.7256,2,    197.1,2,   196.5,2,  115.07,2,   32.14,2,    0.00,2,    2.27,2,-999.000,9,-999.000,9,-999.0000,9,  -999.0,9,  -999.0,9,-999.0000,9,  -999.00,-999.000,9,-999.000,9,-999.000,9,   1.3962,2,-999.000,9, -999.00,9, -999.00,-999.000,9,-999.000, -999.00,9, -999.00,9, -31.1954,  84.3702,-999.000,-999.000,20090425,       0320
33RR20090320,        I05,     124,          1,          1,          1,2,20090425,       0315,   -31.1954,    84.3702,       4045,  4097.8,   1.3989,  34.7261,2,  34.7262,2,    197.2,2,   197.2,2,  115.25,2,   32.13,2,    0.00,2,    2.27,2,   0.016,6,   0.010,6,   0.0070,6,  2267.6,6,  2375.8,2,   7.6921,2,    20.00,-999.000,9,-999.000,9,-999.000,9,   1.3988,2,-999.000,9, -999.00,9, -999.00,-999.000,9,-999.000, -999.00,9, -999.00,9, -31.1954,  84.3703,-999.000,-999.000,20090425,       0315