BOTTLE,20220814CCHSIOAMB
EXPOCODE,SECT_ID,STNNBR,CASTNO,SAMPNO,BTLNBR,BTLNBR_FLAG_W,DATE,TIME,LATITUDE,LONGITUDE,DEPTH,CTDPRS,CTDTMP,CTDSAL,CTDSAL_FLAG_W,SALNTY,SALNTY_FLAG_W,CTDOXY,CTDOXY_FLAG_W,OXYGEN,OXYGEN_FLAG_W,SILCAT,SILCAT_FLAG_W,NITRAT,NITRAT_FLAG_W,NITRIT,NITRIT_FLAG_W,PHSPHT,PHSPHT_FLAG_W,CFC-11,CFC-11_FLAG_W,CFC-12,CFC-12_FLAG_W,SF6,SF6_FLAG_W,TCARBN,TCARBN_FLAG_W,ALKALI,ALKALI_FLAG_W,PH_TOT,PH_TOT_FLAG_W,PH_TMP,TRITUM,TRITUM_FLAG_W,HELIUM,HELIUM_FLAG_W,DELHE3,DELHE3_FLAG_W,REFTMP,REFTMP_FLAG_W,DELC13,DELC13_FLAG_W,DELC14,DELC14_FLAG_W,C14ERR,NEON,NEON_FLAG_W,NEONER,DOC,DOC_FLAG_W,TDN,TDN_FLAG_W,BTL_LAT,BTL_LON,HELIER,DELHER,BTL_DATE,BTL_TIME
,,,,,,,,,,,METERS,DBAR,ITS-90,PSS-78,,PSS-78,,UMOL/KG,,UMOL/KG,,UMOL/KG,,UMOL/KG,,UMOL/KG,,UMOL/KG,,PMOL/KG,,PMOL/KG,,FMOL/KG,,UMOL/KG,,UMOL/KG,,,,DEG C,TU,,NMOL/KG,,PERCNT,,DEG C,,/MILLE,,/MILLE,,/MILLE,NMOL/KG,,NMOL/KG,UMOL/KG,,UMOL/KG,,,,NMOL/KG,PERCNT,,
33RR20090320,        I05,     118,          2,         36,         36,2,20090423,       1411,   -31.1886,    80.7537,       4040,     4.5,  21.9750,  36.0269,2,  36.0269,2,    222.0,2,   219.8,2,    2.16,2,    0.19,2,    0.00,2,    0.10,2,-999.000,9,-999.000,9,-999.0000,9,  2059.0,6,  2360.8,2,   8.1192,2,    20.00,-999.000,9,-999.000,9,-999.000,9,  21.9729,2,-999.000,9, -999.00,9, -999.00,-999.000,9,-999.000, -999.00,9, -999.00,9, -31.1897,  80.7545,-999.000,-999.000,20090423,       1603
33RR20090320,        I05,     118,          2,         35,         35,2,20090423,       1411,   -31.1886,    80.7537,       4040,    21.1,  21.9837,  36.0268,2,  36.0267,2,    222.8,2,   220.3,2,    2.14,2,    0.19,2,    0.00,2,    0.09,2,-999.000,9,-999.000,9,-999.0000,9,  2059.1,2,  2361.9,2,   8.1185,2,    20.00,-999.000,9,-999.000,9,-999.000,9,  21.9839,2,-999.000,9, -999.00,9, -999.00,-999.000,9,-999.000, -999.00,9, -999.00,9, -31.1898,  80.7546,-999.000,-999.000,20090423,       1601
33RR20090320,        I05,     118,          2,         34,         34,2,20090423,       1411,   -31.1886,    80.7537,       4040,    41.0,  21.9658,  36.0323,2,  36.0327,2,    222.5,2,   219.7,2,    2.12,2,    0.20,2,    0.00,2,    0.09,2,-999.000,9,-999.000,9,-999.0000,9,  2058.4,2,  2361.6,2,   8.1192,2,    20.00,-999.000,9,-999.000,9,-999.000,9,  21.9622,2,-999.000,9, -999.00,9, -999.00,-999.000,9,-999.000, -999.00,9, -999.00,9, -31.1898,  80.7547,-999.000,-999.000,20090423,       1559
33RR20090320,        I05,     118,          2,         33,         33,2,20090423,       1411,   -31.1886,    80.7537,       4040,    66.2,  20.7561,  35.8985,2,  35.8874,2,    227.7,2,   237.8,2,    1.92,2,    0.20,2,    0.00,2,    0.11,2,-999.000,9,-999.000,9,-999.0000,9,  2060.5,2,  2354.5,2,   8.1049,2,    20.00,-999.000,9,-999.000,9,-999.000,9,  20.7511,2,-999.000,9, -999.00,9, -999.00,-999.000,9,-999.000, -999.00,9, -999.00,9, -31.1898,  80.7548,-999.000,-999.000,20090423,       1558
33RR20090320,        I05,     118,          2,         32,         32,2,20090423,       1411,   -31.1886,    80.7537,       4040,    91.2,  18.4561,  35.8137,2,  35.8131,2,    240.8,2,   238.5,2,    1.90,2,    0.20,2,    0.00,2,    0.14,2,-999.000,9,-999.000,9,-999.0000,9,  2072.1,2,  2349.4,2,   8.0800,2,    20.00,-999.000,9,-999.000,9,-999.000,9,  18.4454,2,-999.000,9, -999.00,9, -999.00,-999.000,9,-999.000, -999.00,9, -999.00,9, -31.1897,  80.7547,-999.000,-999.000,20090423,       1556
33RR20090320,        I05,     118,          2,         31,         31,2,20090423,       1411,   -31.1886,    80.7537,       4040,   116.0,  17.2132,  35.7186,2,  35.7142,2,    241.1,2,   232.7,2,    1.70,2,    0.23,2,    0.02,2,    0.20,2,-999.000,9,-999.000,9,-999.0000,9,  2085.6,2,  2344.8,2,   8.0498,2,    20.00,-999.000,9,-999.000,9,-999.000,9,  17.2059,2,-999.000,9, -999.00,9, -999.00,-999.000,9,-999.000, -999.00,9, -999.00,9, -31.1897,  80.7548,-999.000,-999.000,20090423,       1554
33RR20090320,        I05,     118,          2,         30,         30,2,20090423,       1411,   -31.1886,    80.7537,       4040,   141.3,  16.1898,  35.6153,2,  35.6170,2,    231.5,2,   231.2,2,    1.68,2,    0.72,2,    0.10,2,    0.26,2,-999.000,9,-999.000,9,-999.0000,9,  -999.0,9,  -999.0,9,-999.0000,9,  -999.00,-999.000,9,-999.000,9,-999.000,9,  16.1916,2,-999.000,9, -999.00,9, -999.00,-999.000,9,-999.000, -999.00,9, -999.00,9, -31.1898,  80.7549,-999.000,-999.000,20090423,       1553
33RR20090320,        I05,     118,          2,         29,         29,2,20090423,       1411,   -31.1886,    80.7537,       4040,   186.0,  14.9044,  35.4535,2,  35.4600,2,    227.9,2,   227.3,2,    2.02,2,    3.50,2,    0.03,2,    0.40,2,-999.000,9,-999.000,9,-999.0000,9,  2102.9,2,  2331.0,2,   7.9940,2,    20.00,-999.000,9,-999.000,9,-999.000,9,  14.9062,2,-999.000,9, -999.00,9, -999.00,-999.000,9,-999.000, -999.00,9, -999.00,9, -31.1898,  80.7549,-999.000,-999.000,20090423,       1551
33RR20090320,        I05,     118,          2,         28,         28,2,20090423,       1411,   -31.1886,    80.7537,       4040,   236.2,  13.4782,  35.2386,2,  35.2327,2,    231.8,2,   231.8,2,    2.53,2,    6.65,2,    0.00,2,    0.57,2,-999.000,9,-999.000,9,-999.0000,9,  -999.0,9,  -999.0,9,-999.0000,9,  -999.00,-999.000,9,-999.000,9,-999.000,9,  13.4893,2,-999.000,9, -999.00,9, -999.00,-999.000,9,-999.000, -999.00,9, -999.00,9, -31.1898,  80.7548,-999.000,-999.000,20090423,       1549
33RR20090320,        I05,     118,          2,         27,         27,2,20090423,       1411,   -31.1886,    80.7537,       4040,   285.6,  12.7620,  35.1812,2,  35.1760,2,    232.6,2,   229.9,2,    3.22,2,    8.64,2,    0.00,2,    0.68,2,-999.000,9,-999.000,9,-999.0000,9,  2116.2,2,  2316.2,2,   7.9360,2,    20.00,-999.000,9,-999.000,9,-999.000,9,  12.7625,2,-999.000,9, -999.00,9, -999.00,-999.000,9,-999.000, -999.00,9, -999.00,9, -31.1898,  80.7547,-999.000,-999.000,20090423,       1548
33RR20090320,        I05,     118,          2,         26,         26,2,20090423,       1411,   -31.1886,    80.7537,       4040,   335.5,  12.2312,  35.1186,2,  35.1197,2,    229.4,2,   231.5,2,    3.56,2,    9.82,2,    0.00,2,    0.75,2,-999.000,9,-999.000,9,-999.0000,9,  -999.0,9,  -999.0,9,-999.0000,9,  -999.00,-999.000,9,-999.000,9,-999.000,9,  12.2385,2,-999.000,9, -999.00,9, -999.00,-999.000,9,-999.000, -999.00,9, -999.00,9, -31.1897,  80.7546,-999.000,-999.000,20090423,       1546
33RR20090320,        I05,     118,          2,         25,         25,2,20090423,       1411,   -31.1886,    80.7537,       4040,   385.4,  11.7894,  35.0522,2,  35.0463,2,    233.4,2,   234.8,2,    3.72,2,   10.75,2,    0.00,2,    0.81,2,-999.000,9,-999.000,9,-999.0000,9,  2119.1,2,  2308.1,2,   7.9159,2,    20.00,-999.000,9,-999.000,9,-999.000,9,  11.7900,2,-999.000,9, -999.00,9, -999.00,-999.000,9,-999.000, -999.00,9, -999.00,9, -31.1896,  80.7546,-999.000,-999.000,20090423,       1544
33RR20090320,        I05,     118,          2,         24,         24,2,20090423,       1411,   -31.1886,    80.7537,       4040,   436.0,  11.3422,  34.9834,2,  34.9839,2,    235.3,2,   236.9,2,    3.88,2,   11.57,2,    0.00,2,    0.86,2,-999.000,9,-999.000,9,-999.0000,9,  -999.0,9,  -999.0,9,-999.0000,9,  -999.00,-999.000,9,-999.000,9,-999.000,9,  11.3411,2,-999.000,9, -999.00,9, -999.00,-999.000,9,-999.000, -999.00,9, -999.00,9, -31.1895,  80.7545,-999.000,-999.000,20090423,       1543
33RR20090320,        I05,     118,          2,         23,         23,2,20090423,       1411,   -31.1886,    80.7537,       4040,   486.1,  11.0560,  34.9457,2,  34.9463,2,    235.4,2,   236.0,2,    4.21,2,   12.28,2,    0.00,2,    0.91,2,-999.000,9,-999.000,9,-999.0000,9,  2122.4,2,  2305.1,2,   7.9003,2,    20.00,-999.000,9,-999.000,9,-999.000,9,  11.0488,2,-999.000,9, -999.00,9, -999.00,-999.000,9,-999.000, -999.00,9, -999.00,9, -31.1894,  80.7545,-999.000,-999.000,20090423,       1541
33RR20090320,        I05,     118,          2,         22,         22,2,20090423,       1411,   -31.1886,    80.7537,       4040,   565.7,  10.5507,  34.8683,2,  34.8658,2,    236.5,2,   236.6,2,    4.38,2,   13.57,2,    0.00,2,    0.99,2,-999.000,9,-999.000,9,-999.0000,9,  -999.0,9,  -999.0,9,-999.0000,9,  -999.00,-999.000,9,-999.000,9,-999.000,9,  10.5487,2,-999.000,9, -999.00,9, -999.00,-999.000,9,-999.000, -999.00,9, -999.00,9, -31.1893,  80.7545,-999.000,-999.000,20090423,       1538
33RR20090320,        I05,     118,          2,         21,         21,2,20090423,       1411,   -31.1886,    80.7537,       4040,   665.7,   9.7845,  34.7556,2,  34.7551,2,    235.7,2,   235.6,2,    5.07,2,   15.52,2,    0.00,2,    1.10,2,-999.000,9,-999.000,9,-999.0000,9,  -999.0,9,  -999.0,9,-999.0000,9,  -999.00,-999.000,9,-999.000,9,-999.000,9,   9.7871,2,-999.000,9, -999.00,9, -999.00,-999.000,9,-999.000, -999.00,9, -999.00,9, -31.1893,  80.7544,-999.000,-999.000,20090423,       1536
33RR20090320,        I05,     118,          2,         20,         20,2,20090423,       1411,   -31.1886,    80.7537,       4040,   765.7,   8.9602,  34.6474,2,  34.6480,2,    227.2,2,   226.1,2,    7.19,2,   18.50,2,    0.00,2,    1.31,2,-999.000,9,-999.000,9,-999.0000,9,  -999.0,9,  -999.0,9,-999.0000,9,  -999.00,-999.000,9,-999.000,9,-999.000,9,   8.9581,2,-999.000,9, -999.00,9, -999.00,-999.000,9,-999.000, -999.00,9, -999.00,9, -31.1892,  80.7543,-999.000,-999.000,20090423,       1533
33RR20090320,        I05,     118,          2,         19,         19,2,20090423,       1411,   -31.1886,    80.7537,       4040,   865.8,   7.9807,  34.5538,2,  34.5541,2,    211.9,2,   211.4,2,   11.63,2,   22.20,2,    0.00,2,    1.55,2,-999.000,9,-999.000,9,-999.0000,9,  -999.0,9,  -999.0,9,-999.0000,9,  -999.00,-999.000,9,-999.000,9,-999.000,9,   7.9818,2,-999.000,9, -999.00,9, -999.00,-999.000,9,-999.000, -999.00,9, -999.00,9, -31.1891,  80.7544,-999.000,-999.000,20090423,       1529
33RR20090320,        I05,     118,          2,         18,         18,2,20090423,       1411,   -31.1886,    80.7537,       4040,   965.8,   6.5851,  34.4539,2,  34.4547,2,    199.7,2,   199.7,2,   19.68,2,   26.44,2,    0.00,2,    1.86,2,-999.000,9,-999.000,9,-999.0000,9,  -999.0,9,  -999.0,9,-999.0000,9,  -999.00,-999.000,9,-999.000,9,-999.000,9,   6.5770,2,-999.000,9, -999.00,9, -999.00,-999.000,9,-999.000, -999.00,9, -999.00,9, -31.1891,  80.7543,-999.000,-999.000,20090423,       1526
33RR20090320,        I05,     118,          2,         17,         17,2,20090423,       1411,   -31.1886,    80.7537,       4040,  1065.6,   5.1572,  34.3906,2,  34.3902,2,    195.0,2,   194.9,2,   30.28,2,   29.87,2,    0.00,2,    2.11,2,-999.000,9,-999.000,9,-999.0000,9,  2194.6,2,  2298.6,2,   7.7032,2,    20.00,-999.000,9,-999.000,9,-999.000,9,   5.1516,2,-999.000,9, -999.00,9, -999.00,-999.000,9,-999.000, -999.00,9, -999.00,9, -31.1890,  80.7542,-999.000,-999.000,20090423,       1522
33RR20090320,        I05,     118,          2,         16,         16,2,20090423,       1411,   -31.1886,    80.7537,       4040,  1166.4,   4.3781,  34.4042,2,  34.4037,2,    182.8,2,   183.2,2,   42.74,2,   32.00,2,    0.00,2,    2.28,2,-999.000,9,-999.000,9,-999.0000,9,  -999.0,9,  -999.0,9,-999.0000,9,  -999.00,-999.000,9,-999.000,9,-999.000,9,   4.3791,2,-999.000,9, -999.00,9, -999.00,-999.000,9,-999.000, -999.00,9, -999.00,9, -31.1890,  80.7542,-999.000,-999.000,20090423,       1519
33RR20090320,        I05,     118,          2,         15,         15,2,20090423,       1411,   -31.1886,    80.7537,       4040,  1267.2,   3.9110,  34.4411,2,  34.4408,2,    171.7,2,   171.8,2,   53.63,2,   33.47,2,    0.00,2,    2.39,2,-999.000,9,-999.000,9,-999.0000,9,  -999.0,9,  -999.0,9,-999.0000,9,  -999.00,-999.000,9,-999.000,9,-999.000,9,   3.9100,2,-999.000,9, -999.00,9, -999.00,-999.000,9,-999.000, -999.00,9, -999.00,9, -31.1889,  80.7541,-999.000,-999.000,20090423,       1516
33RR20090320,        I05,     118,          2,         14,         14,2,20090423,       1411,   -31.1886,    80.7537,       4040,  1362.0,   3.6263,  34.4955,2,  34.4948,2,    161.1,2,   159.8,2,   64.56,2,   34.31,2,    0.00,2,    2.47,2,-999.000,9,-999.000,9,-999.0000,9,  -999.0,9,  -999.0,9,-999.0000,9,  -999.00,-999.000,9,-999.000,9,-999.000,9,   3.6281,2,-999.000,9, -999.00,9, -999.00,-999.000,9,-999.000, -999.00,9, -999.00,9, -31.1888,  80.7541,-999.000,-999.000,20090423,       1513
33RR20090320,        I05,     118,          2,         13,         13,2,20090423,       1411,   -31.1886,    80.7537,       4040,  1463.0,   3.4352,  34.5455,2,  34.5443,2,    153.3,2,   152.6,2,   72.96,2,   34.72,2,    0.00,2,    2.51,2,-999.000,9,-999.000,9,-999.0000,9,  -999.0,9,  -999.0,9,-999.0000,9,  -999.00,-999.000,9,-999.000,9,-999.000,9,   3.4361,2,-999.000,9, -999.00,9, -999.00,-999.000,9,-999.000, -999.00,9, -999.00,9, -31.1887,  80.7540,-999.000,-999.000,20090423,       1510
33RR20090320,        I05,     118,          2,         12,         12,2,20090423,       1411,   -31.1886,    80.7537,       4040,  1563.6,   3.2365,  34.5833,2,  34.5832,2,    151.8,2,   151.2,2,   78.26,2,   34.68,2,    0.00,2,    2.51,2,-999.000,9,-999.000,9,-999.0000,9,  2264.9,2,  2346.5,2,   7.6312,2,    20.00,-999.000,9,-999.000,9,-999.000,9,   3.2366,2,-999.000,9, -999.00,9, -999.00,-999.000,9,-999.000, -999.00,9, -999.00,9, -31.1887,  80.7539,-999.000,-999.000,20090423,       1506
33RR20090320,        I05,     118,          2,         11,         11,2,20090423,       1411,   -31.1886,    80.7537,       4040,  1734.5,   2.9542,  34.6348,2,  34.6348,2,    154.2,2,   154.2,2,   84.67,2,   34.30,2,    0.00,2,    2.47,2,-999.000,9,-999.000,9,-999.0000,9,  -999.0,9,  -999.0,9,-999.0000,9,  -999.00,-999.000,9,-999.000,9,-999.000,9,   2.9536,2,-999.000,9, -999.00,9, -999.00,-999.000,9,-999.000, -999.00,9, -999.00,9, -31.1887,  80.7537,-999.000,-999.000,20090423,       1502
33RR20090320,        I05,     118,          2,         10,         10,2,20090423,       1411,   -31.1886,    80.7537,       4040,  1935.7,   2.6476,  34.6836,2,  34.6832,2,    160.4,2,   161.3,2,   90.36,2,   33.52,2,    0.00,2,    2.40,2,-999.000,9,-999.000,9,-999.0000,9,  -999.0,9,  -999.0,9,-999.0000,9,  -999.00,-999.000,9,-999.000,9,-999.000,9,   2.6485,2,-999.000,9, -999.00,9, -999.00,-999.000,9,-999.000, -999.00,9, -999.00,9, -31.1887,  80.7535,-999.000,-999.000,20090423,       1458
33RR20090320,        I05,     118,          2,          9,          9,2,20090423,       1411,   -31.1886,    80.7537,       4040,  2167.9,   2.3212,  34.7134,2,  34.7136,2,    176.9,2,   177.7,2,   87.59,2,   32.01,2,    0.00,2,    2.28,2,-999.000,9,-999.000,9,-999.0000,9,  -999.0,9,  -999.0,9,-999.0000,9,  -999.00,-999.000,9,-999.000,9,-999.000,9,   2.3202,2,-999.000,9, -999.00,9, -999.00,-999.000,9,-999.000, -999.00,9, -999.00,9, -31.1887,  80.7536,-999.000,-999.000,20090423,       1453
33RR20090320,        I05,     118,          2,          8,          8,2,20090423,       1411,   -31.1886,    80.7537,       4040,  2414.4,   2.0559,  34.7361,2,  34.7358,2,    187.4,2,   188.0,2,   90.89,2,   31.07,2,    0.00,2,    2.21,2,-999.000,9,-999.000,9,-999.0000,9,  -999.0,9,  -999.0,9,-999.0000,9,  -999.00,-999.000,9,-999.000,9,-999.000,9,   2.0562,2,-999.000,9, -999.00,9, -999.00,-999.000,9,-999.000, -999.00,9, -999.00,9, -31.1886,  80.7538,-999.000,-999.000,20090423,       1447
33RR20090320,        I05,     118,          2,          7,          7,2,20090423,       1411,   -31.1886,    80.7537,       4040,  2668.3,   1.8352,  34.7387,2,  34.7390,2,    191.2,2,   191.3,2,   97.70,2,   31.22,2,    0.00,2,    2.22,2,-999.000,9,-999.000,9,-999.0000,9,  2259.0,2,  2360.7,2,   7.6865,2,    20.00,-999.000,9,-999.000,9,-999.000,9,   1.8373,2,-999.000,9, -999.00,9, -999.00,-999.000,9,-999.000, -999.00,9, -999.00,9, -31.1886,  80.7539,-999.000,-999.000,20090423,       1441
33RR20090320,        I05,     118,          2,          6,          6,2,20090423,       1411,   -31.1886,    80.7537,       4040,  2936.5,   1.6340,  34.7356,2,  34.7353,2,    193.7,2,   193.8,2,  104.53,2,   31.49,2,    0.00,2,    2.24,2,-999.000,9,-999.000,9,-999.0000,9,  -999.0,9,  -999.0,9,-999.0000,9,  -999.00,-999.000,9,-999.000,9,-999.000,9,   1.6334,2,-999.000,9, -999.00,9, -999.00,-999.000,9,-999.000, -999.00,9, -999.00,9, -31.1886,  80.7540,-999.000,-999.000,20090423,       1435
33RR20090320,        I05,     118,          2,          5,          5,2,20090423,       1411,   -31.1886,    80.7537,       4040,  3224.4,   1.4661,  34.7319,2,  34.7317,2,    196.5,2,   196.4,2,  109.88,2,   31.59,2,    0.00,2,    2.24,2,-999.000,9,-999.000,9,-999.0000,9,  -999.0,9,  -999.0,9,-999.0000,9,  -999.00,-999.000,9,-999.000,9,-999.000,9,   1.4657,2,-999.000,9, -999.00,9, -999.00,-999.000,9,-999.000, -999.00,9, -999.00,9, -31.1887,  80.7541,-999.000,-999.000,20090423,       1429
33RR20090320,        I05,     118,          2,          4,          4,2,20090423,       1411,   -31.1886,    80.7537,       4040,  3502.7,   1.4232,  34.7290,2,  34.7292,2,    196.6,2,   195.9,2,  112.66,2,   31.81,2,    0.00,2,    2.26,2,-999.000,9,-999.000,9,-999.0000,9,  -999.0,9,  -999.0,9,-999.0000,9,  -999.00,-999.000,9,-999.000,9,-999.000,9,   1.4228,2,-999.000,9, -999.00,9, -999.00,-999.000,9,-999.000, -999.00,9, -999.00,9, -31.1887,  80.7542,-999.000,-999.000,20090423,       1423
33RR20090320,        I05,     118,          2,          3,          3,2,20090423,       1411,   -31.1886,    80.7537,       4040,  3732.1,   1.4216,  34.7277,2,  34.7272,2,    196.2,2,   195.4,2,  114.68,2,   32.01,2,    0.00,2,    2.27,2,-999.000,9,-999.000,9,-999.0000,9,  -999.0,9,  -999.0,9,-999.0000,9,  -999.00,-999.000,9,-999.000,9,-999.000,9,   1.4217,2,-999.000,9, -999.00,9, -999.00,-999.000,9,-999.000, -999.00,9, -999.00,9, -31.1887,  80.7540,-999.000,-999.000,20090423,       1419
33RR20090320,        I05,     118,          2,          2,          2,2,20090423,       1411,   -31.1886,    80.7537,       4040,  3986.4,   1.4415,  34.7270,2,  34.7280,2,    196.6,2,   195.2,2,  114.67,2,   31.97,2,    0.00,2,    2.28,2,-999.000,9,-999.000,9,-999.0000,9,  -999.0,9,  -999.0,9,-999.0000,9,  -999.00,-999.000,9,-999.000,9,-999.000,9,   1.4415,2,-999.000,9, -999.00,9, -999.00,-999.000,9,-999.000, -999.00,9, -999.00,9, -31.1885,  80.7537,-999.000,-999.000,20090423,       1413
33RR20090320,        I05,     118,          2,          1,          1,2,20090423,       1411,   -31.1886,    80.7537,       4040,  4093.7,   1.4527,  34.7268,2,  34.7266,2,    194.7,2,   194.9,2,  114.83,2,   32.01,2,    0.00,2,    2.28,2,-999.000,9,-999.000,9,-999.0000,9,  2274.0,6,  2378.7,2,   7.6940,2,    20.00,-999.000,9,-999.000,9,-999.000,9,   1.4521,2,-999.000,9, -999.00,9, -999.00,-999.000,9,-999.000, -999.00,9, -999.00,9, -31.1886,  80.7538,-999.000,-999.000,20090423,       1411