BOTTLE,20220814CCHSIOAMB
EXPOCODE,SECT_ID,STNNBR,CASTNO,SAMPNO,BTLNBR,BTLNBR_FLAG_W,DATE,TIME,LATITUDE,LONGITUDE,DEPTH,CTDPRS,CTDTMP,CTDSAL,CTDSAL_FLAG_W,SALNTY,SALNTY_FLAG_W,CTDOXY,CTDOXY_FLAG_W,OXYGEN,OXYGEN_FLAG_W,SILCAT,SILCAT_FLAG_W,NITRAT,NITRAT_FLAG_W,NITRIT,NITRIT_FLAG_W,PHSPHT,PHSPHT_FLAG_W,CFC-11,CFC-11_FLAG_W,CFC-12,CFC-12_FLAG_W,SF6,SF6_FLAG_W,TCARBN,TCARBN_FLAG_W,ALKALI,ALKALI_FLAG_W,PH_TOT,PH_TOT_FLAG_W,PH_TMP,TRITUM,TRITUM_FLAG_W,HELIUM,HELIUM_FLAG_W,DELHE3,DELHE3_FLAG_W,REFTMP,REFTMP_FLAG_W,DELC13,DELC13_FLAG_W,DELC14,DELC14_FLAG_W,C14ERR,NEON,NEON_FLAG_W,NEONER,DOC,DOC_FLAG_W,TDN,TDN_FLAG_W,BTL_LAT,BTL_LON,HELIER,DELHER,BTL_DATE,BTL_TIME
,,,,,,,,,,,METERS,DBAR,ITS-90,PSS-78,,PSS-78,,UMOL/KG,,UMOL/KG,,UMOL/KG,,UMOL/KG,,UMOL/KG,,UMOL/KG,,PMOL/KG,,PMOL/KG,,FMOL/KG,,UMOL/KG,,UMOL/KG,,,,DEG C,TU,,NMOL/KG,,PERCNT,,DEG C,,/MILLE,,/MILLE,,/MILLE,NMOL/KG,,NMOL/KG,UMOL/KG,,UMOL/KG,,,,NMOL/KG,PERCNT,,
33RR20090320,        I05,     148,          1,         36,         36,2,20090501,       0105,   -33.9972,    96.7039,       4597,    10.9,  18.5625,  35.8034,2,  35.8034,2,    234.0,2,   234.1,2,    0.67,2,    0.02,2,    0.00,2,    0.14,2,-999.000,9,-999.000,9,-999.0000,9,  2079.8,6,  2357.2,2,   8.0758,2,    20.00,-999.000,9,-999.000,9,-999.000,9,  18.5667,2,-999.000,9, -999.00,9, -999.00,-999.000,9,-999.000, -999.00,9, -999.00,9, -33.9978,  96.7039,-999.000,-999.000,20090501,       0303
33RR20090320,        I05,     148,          1,         35,         35,2,20090501,       0105,   -33.9972,    96.7039,       4597,    25.1,  18.4360,  35.8013,2,  35.8003,2,    235.5,2,   235.3,2,    0.49,2,    0.03,2,    0.00,2,    0.14,2,-999.000,9,-999.000,9,-999.0000,9,  2080.3,2,  2358.0,2,   8.0749,2,    20.00,-999.000,9,-999.000,9,-999.000,9,  18.4408,2,-999.000,9, -999.00,9, -999.00,-999.000,9,-999.000, -999.00,9, -999.00,9, -33.9978,  96.7038,-999.000,-999.000,20090501,       0301
33RR20090320,        I05,     148,          1,         34,         34,2,20090501,       0105,   -33.9972,    96.7039,       4597,    45.8,  18.0592,  35.7953,2,  35.7997,2,    237.6,2,   236.7,2,    0.48,2,    0.03,2,    0.00,2,    0.14,2,-999.000,9,-999.000,9,-999.0000,9,  -999.0,9,  -999.0,9,-999.0000,9,  -999.00,-999.000,9,-999.000,9,-999.000,9,  18.0581,2,-999.000,9, -999.00,9, -999.00,-999.000,9,-999.000, -999.00,9, -999.00,9, -33.9978,  96.7038,-999.000,-999.000,20090501,       0300
33RR20090320,        I05,     148,          1,         33,         33,2,20090501,       0105,   -33.9972,    96.7039,       4597,    71.0,  17.1045,  35.6615,4,  35.6848,2,    244.5,2,   245.8,2,    0.65,2,    0.08,2,    0.00,2,    0.16,2,-999.000,9,-999.000,9,-999.0000,9,  2082.4,2,  2349.6,2,   8.0605,2,    20.00,-999.000,9,-999.000,9,-999.000,9,  17.0915,2,-999.000,9, -999.00,9, -999.00,-999.000,9,-999.000, -999.00,9, -999.00,9, -33.9979,  96.7037,-999.000,-999.000,20090501,       0258
33RR20090320,        I05,     148,          1,         32,         32,2,20090501,       0105,   -33.9972,    96.7039,       4597,    95.0,  14.1332,  35.2235,2,  35.2239,2,    261.1,2,   259.0,2,    1.19,2,    2.95,2,    0.12,2,    0.39,2,-999.000,9,-999.000,9,-999.0000,9,  2092.8,2,  2323.4,2,   7.9966,2,    20.00,-999.000,9,-999.000,9,-999.000,9,  14.1269,2,-999.000,9, -999.00,9, -999.00,-999.000,9,-999.000, -999.00,9, -999.00,9, -33.9979,  96.7037,-999.000,-999.000,20090501,       0257
33RR20090320,        I05,     148,          1,         31,         31,2,20090501,       0105,   -33.9972,    96.7039,       4597,   139.9,  13.1050,  35.1804,2,  35.1819,2,    241.5,2,   243.3,2,    1.37,2,    6.12,2,    0.20,2,    0.56,2,-999.000,9,-999.000,9,-999.0000,9,  2108.1,2,  2319.9,2,   7.9571,2,    20.00,-999.000,9,-999.000,9,-999.000,9,  13.0982,2,-999.000,9, -999.00,9, -999.00,-999.000,9,-999.000, -999.00,9, -999.00,9, -33.9979,  96.7037,-999.000,-999.000,20090501,       0255
33RR20090320,        I05,     148,          1,         30,         30,2,20090501,       0105,   -33.9972,    96.7039,       4597,   190.3,  13.1704,  35.2831,2,  35.2836,2,    239.6,2,   239.4,2,    1.36,2,    6.10,2,    0.01,2,    0.54,2,-999.000,9,-999.000,9,-999.0000,9,  -999.0,9,  -999.0,9,-999.0000,9,  -999.00,-999.000,9,-999.000,9,-999.000,9,  13.1695,2,-999.000,9, -999.00,9, -999.00,-999.000,9,-999.000, -999.00,9, -999.00,9, -33.9979,  96.7037,-999.000,-999.000,20090501,       0253
33RR20090320,        I05,     148,          1,         29,         29,2,20090501,       0105,   -33.9972,    96.7039,       4597,   240.6,  12.3553,  35.1333,2,  35.1276,2,    241.7,2,   241.8,2,    1.71,2,    7.86,2,    0.00,2,    0.64,2,-999.000,9,-999.000,9,-999.0000,9,  2112.2,2,  2310.9,2,   7.9403,2,    20.00,-999.000,9,-999.000,9,-999.000,9,  12.3623,2,-999.000,9, -999.00,9, -999.00,-999.000,9,-999.000, -999.00,9, -999.00,9, -33.9979,  96.7037,-999.000,-999.000,20090501,       0251
33RR20090320,        I05,     148,          1,         28,         28,2,20090501,       0105,   -33.9972,    96.7039,       4597,   291.1,  11.6939,  35.0221,2,  35.0256,2,    241.8,2,   242.7,2,    2.24,2,    9.41,2,    0.00,2,    0.73,2,-999.000,9,-999.000,9,-999.0000,9,  -999.0,9,  -999.0,9,-999.0000,9,  -999.00,-999.000,9,-999.000,9,-999.000,9,  11.6959,2,-999.000,9, -999.00,9, -999.00,-999.000,9,-999.000, -999.00,9, -999.00,9, -33.9979,  96.7037,-999.000,-999.000,20090501,       0248
33RR20090320,        I05,     148,          1,         27,         27,2,20090501,       0105,   -33.9972,    96.7039,       4597,   340.3,  11.1382,  34.9285,2,  34.9311,2,    243.7,2,   244.5,2,    2.96,2,   11.06,2,    0.00,2,    0.83,2,-999.000,9,-999.000,9,-999.0000,9,  2117.9,2,  2305.1,2,   7.9074,2,    20.00,-999.000,9,-999.000,9,-999.000,9,  11.1407,2,-999.000,9, -999.00,9, -999.00,-999.000,9,-999.000, -999.00,9, -999.00,9, -33.9979,  96.7037,-999.000,-999.000,20090501,       0246
33RR20090320,        I05,     148,          1,         26,         26,2,20090501,       0105,   -33.9972,    96.7039,       4597,   389.3,  10.8254,  34.8828,2,  34.8831,2,    244.9,2,   245.0,2,    3.13,2,   11.84,2,    0.00,2,    0.88,2,-999.000,9,-999.000,9,-999.0000,9,  -999.0,9,  -999.0,9,-999.0000,9,  -999.00,-999.000,9,-999.000,9,-999.000,9,  10.8250,2,-999.000,9, -999.00,9, -999.00,-999.000,9,-999.000, -999.00,9, -999.00,9, -33.9979,  96.7038,-999.000,-999.000,20090501,       0244
33RR20090320,        I05,     148,          1,         25,         25,2,20090501,       0105,   -33.9972,    96.7039,       4597,   469.9,  10.4414,  34.8307,2,  34.8279,2,    244.3,2,   243.4,2,    3.48,2,   13.05,2,    0.00,2,    0.95,2,-999.000,9,-999.000,9,-999.0000,9,  2122.3,2,  2298.6,2,   7.8871,2,    20.00,-999.000,9,-999.000,9,-999.000,9,  10.4426,2,-999.000,9, -999.00,9, -999.00,-999.000,9,-999.000, -999.00,9, -999.00,9, -33.9979,  96.7038,-999.000,-999.000,20090501,       0241
33RR20090320,        I05,     148,          1,         24,         24,2,20090501,       0105,   -33.9972,    96.7039,       4597,   569.6,   9.9121,  34.7631,2,  34.7640,2,    239.1,2,   240.3,2,    4.02,2,   14.60,2,    0.00,2,    1.05,2,-999.000,9,-999.000,9,-999.0000,9,  -999.0,9,  -999.0,9,-999.0000,9,  -999.00,-999.000,9,-999.000,9,-999.000,9,   9.9131,2,-999.000,9, -999.00,9, -999.00,-999.000,9,-999.000, -999.00,9, -999.00,9, -33.9979,  96.7038,-999.000,-999.000,20090501,       0239
33RR20090320,        I05,     148,          1,         23,         23,2,20090501,       0105,   -33.9972,    96.7039,       4597,   670.5,   9.3066,  34.6798,2,  34.6814,2,    237.3,2,   237.8,2,    4.56,2,   16.47,2,    0.00,2,    1.16,2,-999.000,9,-999.000,9,-999.0000,9,  2130.7,2,  2293.4,2,   7.8505,2,    20.00,-999.000,9,-999.000,9,-999.000,9,   9.3076,2,-999.000,9, -999.00,9, -999.00,-999.000,9,-999.000, -999.00,9, -999.00,9, -33.9979,  96.7038,-999.000,-999.000,20090501,       0236
33RR20090320,        I05,     148,          1,         22,         22,2,20090501,       0105,   -33.9972,    96.7039,       4597,   768.8,   8.5492,  34.5923,2,  34.5910,2,    222.2,2,   221.5,2,    7.81,2,   19.96,2,    0.00,2,    1.39,2,-999.000,9,-999.000,9,-999.0000,9,  -999.0,9,  -999.0,9,-999.0000,9,  -999.00,-999.000,9,-999.000,9,-999.000,9,   8.5500,2,-999.000,9, -999.00,9, -999.00,-999.000,9,-999.000, -999.00,9, -999.00,9, -33.9978,  96.7038,-999.000,-999.000,20090501,       0233
33RR20090320,        I05,     148,          1,         21,         21,2,20090501,       0105,   -33.9972,    96.7039,       4597,   869.5,   7.4731,  34.4967,2,  34.4974,2,    205.9,2,   206.0,2,   13.05,2,   23.78,2,    0.00,2,    1.64,2,-999.000,9,-999.000,9,-999.0000,9,  -999.0,9,  -999.0,9,-999.0000,9,  -999.00,-999.000,9,-999.000,9,-999.000,9,   7.4727,2,-999.000,9, -999.00,9, -999.00,-999.000,9,-999.000, -999.00,9, -999.00,9, -33.9978,  96.7038,-999.000,-999.000,20090501,       0231
33RR20090320,        I05,     148,          1,         20,         20,2,20090501,       0105,   -33.9972,    96.7039,       4597,   970.5,   5.9514,  34.4123,2,  34.4118,2,    196.4,2,   196.6,2,   22.50,2,   28.00,2,    0.00,2,    1.94,2,-999.000,9,-999.000,9,-999.0000,9,  -999.0,9,  -999.0,9,-999.0000,9,  -999.00,-999.000,9,-999.000,9,-999.000,9,   5.9524,2,-999.000,9, -999.00,9, -999.00,-999.000,9,-999.000, -999.00,9, -999.00,9, -33.9978,  96.7037,-999.000,-999.000,20090501,       0228
33RR20090320,        I05,     148,          1,         19,         19,2,20090501,       0105,   -33.9972,    96.7039,       4597,  1070.6,   4.8814,  34.3848,2,  34.3847,2,    191.5,2,   192.9,2,   32.52,2,   30.40,2,    0.00,2,    2.13,2,-999.000,9,-999.000,9,-999.0000,9,  2198.6,2,  2299.4,2,   7.6906,2,    20.00,-999.000,9,-999.000,9,-999.000,9,   4.8833,2,-999.000,9, -999.00,9, -999.00,-999.000,9,-999.000, -999.00,9, -999.00,9, -33.9978,  96.7037,-999.000,-999.000,20090501,       0225
33RR20090320,        I05,     148,          1,         18,         18,2,20090501,       0105,   -33.9972,    96.7039,       4597,  1170.4,   4.1053,  34.4063,2,  34.4069,2,    182.5,2,   181.7,2,   45.54,2,   32.41,2,    0.00,2,    2.29,2,-999.000,9,-999.000,9,-999.0000,9,  -999.0,9,  -999.0,9,-999.0000,9,  -999.00,-999.000,9,-999.000,9,-999.000,9,   4.1049,2,-999.000,9, -999.00,9, -999.00,-999.000,9,-999.000, -999.00,9, -999.00,9, -33.9978,  96.7038,-999.000,-999.000,20090501,       0222
33RR20090320,        I05,     148,          1,         17,         17,2,20090501,       0105,   -33.9972,    96.7039,       4597,  1270.9,   3.7892,  34.4556,2,  34.4555,2,    171.6,2,   166.8,2,   57.32,2,   33.69,2,    0.00,2,    2.40,2,-999.000,9,-999.000,9,-999.0000,9,  -999.0,9,  -999.0,9,-999.0000,9,  -999.00,-999.000,9,-999.000,9,-999.000,9,   3.7883,2,-999.000,9, -999.00,9, -999.00,-999.000,9,-999.000, -999.00,9, -999.00,9, -33.9977,  96.7038,-999.000,-999.000,20090501,       0219
33RR20090320,        I05,     148,          1,         16,         16,2,20090501,       0105,   -33.9972,    96.7039,       4597,  1370.7,   3.4144,  34.4895,2,  34.4889,2,    165.1,2,   163.6,2,   64.15,2,   34.25,2,    0.00,2,    2.44,2,-999.000,9,-999.000,9,-999.0000,9,  2246.2,2,  2331.4,2,   7.6337,2,    20.00,-999.000,9,-999.000,9,-999.000,9,   3.4162,2,-999.000,9, -999.00,9, -999.00,-999.000,9,-999.000, -999.00,9, -999.00,9, -33.9976,  96.7038,-999.000,-999.000,20090501,       0216
33RR20090320,        I05,     148,          1,         15,         15,2,20090501,       0105,   -33.9972,    96.7039,       4597,  1472.3,   3.2907,  34.5367,2,  34.5421,4,    155.3,2,   155.5,2,   71.93,2,   34.52,2,    0.00,2,    2.48,2,-999.000,9,-999.000,9,-999.0000,9,  -999.0,9,  -999.0,9,-999.0000,9,  -999.00,-999.000,9,-999.000,9,-999.000,9,   3.2887,2,-999.000,9, -999.00,9, -999.00,-999.000,9,-999.000, -999.00,9, -999.00,9, -33.9975,  96.7038,-999.000,-999.000,20090501,       0213
33RR20090320,        I05,     148,          1,         14,         14,2,20090501,       0105,   -33.9972,    96.7039,       4597,  1574.4,   3.1355,  34.5736,2,  34.5741,2,    152.9,2,   153.8,2,   77.12,2,   34.58,2,    0.00,2,    2.48,2,-999.000,9,-999.000,9,-999.0000,9,  -999.0,9,  -999.0,9,-999.0000,9,  -999.00,-999.000,9,-999.000,9,-999.000,9,   3.1346,2,-999.000,9, -999.00,9, -999.00,-999.000,9,-999.000, -999.00,9, -999.00,9, -33.9974,  96.7039,-999.000,-999.000,20090501,       0210
33RR20090320,        I05,     148,          1,         13,         13,2,20090501,       0105,   -33.9972,    96.7039,       4597,  1744.5,   2.8994,  34.6201,2,  34.6199,2,    154.9,2,   155.6,2,   82.33,2,   34.24,2,    0.00,2,    2.45,2,-999.000,9,-999.000,9,-999.0000,9,  2266.2,2,  2351.9,2,   7.6317,2,    20.00,-999.000,9,-999.000,9,-999.000,9,   2.8990,2,-999.000,9, -999.00,9, -999.00,-999.000,9,-999.000, -999.00,9, -999.00,9, -33.9973,  96.7039,-999.000,-999.000,20090501,       0206
33RR20090320,        I05,     148,          1,         12,         12,2,20090501,       0105,   -33.9972,    96.7039,       4597,  1944.8,   2.6080,  34.6737,2,  34.6745,2,    162.6,2,   162.7,2,   87.54,2,   33.28,2,    0.00,2,    2.37,2,-999.000,9,-999.000,9,-999.0000,9,  -999.0,9,  -999.0,9,-999.0000,9,  -999.00,-999.000,9,-999.000,9,-999.000,9,   2.6080,2,-999.000,9, -999.00,9, -999.00,-999.000,9,-999.000, -999.00,9, -999.00,9, -33.9972,  96.7039,-999.000,-999.000,20090501,       0201
33RR20090320,        I05,     148,          1,         11,         11,2,20090501,       0105,   -33.9972,    96.7039,       4597,  2176.8,   2.3674,  34.7089,2,  34.7093,2,    172.9,2,   172.8,2,   89.02,2,   32.27,2,    0.00,2,    2.28,2,-999.000,9,-999.000,9,-999.0000,9,  -999.0,9,  -999.0,9,-999.0000,9,  -999.00,-999.000,9,-999.000,9,-999.000,9,   2.3678,2,-999.000,9, -999.00,9, -999.00,-999.000,9,-999.000, -999.00,9, -999.00,9, -33.9971,  96.7041,-999.000,-999.000,20090501,       0156
33RR20090320,        I05,     148,          1,         10,         10,2,20090501,       0105,   -33.9972,    96.7039,       4597,  2430.5,   2.1227,  34.7348,2,  34.7335,2,    185.5,2,   185.8,2,   89.39,2,   31.15,2,    0.00,2,    2.20,2,-999.000,9,-999.000,9,-999.0000,9,  -999.0,9,  -999.0,9,-999.0000,9,  -999.00,-999.000,9,-999.000,9,-999.000,9,   2.1206,2,-999.000,9, -999.00,9, -999.00,-999.000,9,-999.000, -999.00,9, -999.00,9, -33.9971,  96.7044,-999.000,-999.000,20090501,       0151
33RR20090320,        I05,     148,          1,          9,          9,2,20090501,       0105,   -33.9972,    96.7039,       4597,  2681.2,   1.8853,  34.7434,2,  34.7437,2,    193.0,2,   192.8,2,   93.30,2,   30.70,2,    0.00,2,    2.17,2,-999.000,9,-999.000,9,-999.0000,9,  2253.9,2,  2359.5,2,   7.6849,2,    20.00,-999.000,9,-999.000,9,-999.000,9,   1.8854,2,-999.000,9, -999.00,9, -999.00,-999.000,9,-999.000, -999.00,9, -999.00,9, -33.9970,  96.7043,-999.000,-999.000,20090501,       0145
33RR20090320,        I05,     148,          1,          8,          8,2,20090501,       0105,   -33.9972,    96.7039,       4597,  2934.6,   1.6530,  34.7406,2,  34.7402,2,    196.8,2,   197.1,2,   99.47,2,   30.82,2,    0.00,2,    2.17,2,-999.000,9,-999.000,9,-999.0000,9,  -999.0,9,  -999.0,9,-999.0000,9,  -999.00,-999.000,9,-999.000,9,-999.000,9,   1.6532,2,-999.000,9, -999.00,9, -999.00,-999.000,9,-999.000, -999.00,9, -999.00,9, -33.9971,  96.7042,-999.000,-999.000,20090501,       0140
33RR20090320,        I05,     148,          1,          7,          7,2,20090501,       0105,   -33.9972,    96.7039,       4597,  3222.9,   1.3894,  34.7322,2,  34.7323,2,    200.0,2,   200.8,2,  107.14,2,   31.26,2,    0.00,2,    2.19,2,-999.000,9,-999.000,9,-999.0000,9,  -999.0,9,  -999.0,9,-999.0000,9,  -999.00,-999.000,9,-999.000,9,-999.000,9,   1.3912,2,-999.000,9, -999.00,9, -999.00,-999.000,9,-999.000, -999.00,9, -999.00,9, -33.9970,  96.7041,-999.000,-999.000,20090501,       0134
33RR20090320,        I05,     148,          1,          6,          6,2,20090501,       0105,   -33.9972,    96.7039,       4597,  3527.8,   1.2271,  34.7242,2,  34.7243,2,    202.1,2,   202.5,2,  112.58,2,   31.54,2,    0.00,2,    2.22,2,-999.000,9,-999.000,9,-999.0000,9,  -999.0,9,  -999.0,9,-999.0000,9,  -999.00,-999.000,9,-999.000,9,-999.000,9,   1.2270,2,-999.000,9, -999.00,9, -999.00,-999.000,9,-999.000, -999.00,9, -999.00,9, -33.9971,  96.7040,-999.000,-999.000,20090501,       0128
33RR20090320,        I05,     148,          1,          5,          5,2,20090501,       0105,   -33.9972,    96.7039,       4597,  3833.2,   1.1234,  34.7185,2,  34.7191,2,    203.6,2,   204.3,2,  116.15,2,   31.70,2,    0.00,2,    2.23,2,-999.000,9,-999.000,9,-999.0000,9,  2265.1,2,  2370.5,2,   7.6891,2,    20.00,-999.000,9,-999.000,9,-999.000,9,   1.1232,2,-999.000,9, -999.00,9, -999.00,-999.000,9,-999.000, -999.00,9, -999.00,9, -33.9971,  96.7038,-999.000,-999.000,20090501,       0122
33RR20090320,        I05,     148,          1,          4,          4,2,20090501,       0105,   -33.9972,    96.7039,       4597,  4137.3,   1.0744,  34.7150,2,  34.7148,2,    204.3,2,   205.0,2,  118.21,2,   31.82,2,    0.00,2,    2.23,2,-999.000,9,-999.000,9,-999.0000,9,  -999.0,9,  -999.0,9,-999.0000,9,  -999.00,-999.000,9,-999.000,9,-999.000,9,   1.0747,2,-999.000,9, -999.00,9, -999.00,-999.000,9,-999.000, -999.00,9, -999.00,9, -33.9972,  96.7040,-999.000,-999.000,20090501,       0116
33RR20090320,        I05,     148,          1,          3,          3,2,20090501,       0105,   -33.9972,    96.7039,       4597,  4442.7,   1.0578,  34.7128,2,  34.7131,2,    205.6,2,   205.4,2,  119.15,2,   31.92,2,    0.00,2,    2.24,2,-999.000,9,-999.000,9,-999.0000,9,  -999.0,9,  -999.0,9,-999.0000,9,  -999.00,-999.000,9,-999.000,9,-999.000,9,   1.0577,2,-999.000,9, -999.00,9, -999.00,-999.000,9,-999.000, -999.00,9, -999.00,9, -33.9972,  96.7041,-999.000,-999.000,20090501,       0110
33RR20090320,        I05,     148,          1,          2,          2,2,20090501,       0105,   -33.9972,    96.7039,       4597,  4552.9,   1.0684,  34.7125,2,  34.7129,2,    205.5,2,   206.2,2,  119.33,2,   31.92,2,    0.00,2,    2.24,2,-999.000,9,-999.000,9,-999.0000,9,  -999.0,9,  -999.0,9,-999.0000,9,  -999.00,-999.000,9,-999.000,9,-999.000,9,   1.0680,2,-999.000,9, -999.00,9, -999.00,-999.000,9,-999.000, -999.00,9, -999.00,9, -33.9972,  96.7040,-999.000,-999.000,20090501,       0107
33RR20090320,        I05,     148,          1,          1,          1,2,20090501,       0105,   -33.9972,    96.7039,       4597,  4664.5,   1.0807,  34.7124,2,  34.7127,2,    205.2,2,   205.7,2,  119.52,2,   31.97,2,    0.00,2,    2.24,2,-999.000,9,-999.000,9,-999.0000,9,  2270.2,6,  2378.3,2,   7.6914,2,    20.00,-999.000,9,-999.000,9,-999.000,9,   1.0804,2,-999.000,9, -999.00,9, -999.00,-999.000,9,-999.000, -999.00,9, -999.00,9, -33.9972,  96.7040,-999.000,-999.000,20090501,       0105