BOTTLE,20220814CCHSIOAMB
EXPOCODE,SECT_ID,STNNBR,CASTNO,SAMPNO,BTLNBR,BTLNBR_FLAG_W,DATE,TIME,LATITUDE,LONGITUDE,DEPTH,CTDPRS,CTDTMP,CTDSAL,CTDSAL_FLAG_W,SALNTY,SALNTY_FLAG_W,CTDOXY,CTDOXY_FLAG_W,OXYGEN,OXYGEN_FLAG_W,SILCAT,SILCAT_FLAG_W,NITRAT,NITRAT_FLAG_W,NITRIT,NITRIT_FLAG_W,PHSPHT,PHSPHT_FLAG_W,CFC-11,CFC-11_FLAG_W,CFC-12,CFC-12_FLAG_W,SF6,SF6_FLAG_W,TCARBN,TCARBN_FLAG_W,ALKALI,ALKALI_FLAG_W,PH_TOT,PH_TOT_FLAG_W,PH_TMP,TRITUM,TRITUM_FLAG_W,HELIUM,HELIUM_FLAG_W,DELHE3,DELHE3_FLAG_W,REFTMP,REFTMP_FLAG_W,DELC13,DELC13_FLAG_W,DELC14,DELC14_FLAG_W,C14ERR,NEON,NEON_FLAG_W,NEONER,DOC,DOC_FLAG_W,TDN,TDN_FLAG_W,BTL_LAT,BTL_LON,HELIER,DELHER,BTL_DATE,BTL_TIME
,,,,,,,,,,,METERS,DBAR,ITS-90,PSS-78,,PSS-78,,UMOL/KG,,UMOL/KG,,UMOL/KG,,UMOL/KG,,UMOL/KG,,UMOL/KG,,PMOL/KG,,PMOL/KG,,FMOL/KG,,UMOL/KG,,UMOL/KG,,,,DEG C,TU,,NMOL/KG,,PERCNT,,DEG C,,/MILLE,,/MILLE,,/MILLE,NMOL/KG,,NMOL/KG,UMOL/KG,,UMOL/KG,,,,NMOL/KG,PERCNT,,
33RR20090320,        I05,      73,          2,         36,         36,2,20090410,       0653,   -33.9982,    58.1793,       5136,     7.5,  21.1356,  35.6145,2,  35.6147,2,    223.4,2,   223.8,2,    2.00,2,    0.08,2,    0.00,2,    0.11,2,   2.071,2,   1.245,2,   1.2180,2,  2050.7,6,  2336.4,2,   8.0918,2,    20.00,-999.000,9,-999.000,9,-999.000,9,  21.1357,2,-999.000,9, -999.00,9, -999.00,-999.000,9,-999.000,   65.20,2,    4.41,2, -33.9984,  58.1797,-999.000,-999.000,20090410,       0905
33RR20090320,        I05,      73,          2,         35,         35,2,20090410,       0653,   -33.9982,    58.1793,       5136,    23.4,  21.1261,  35.6140,2,  35.6143,2,    224.3,2,   224.4,2,    1.74,2,    0.03,2,    0.00,2,    0.10,2,   2.075,2,   1.249,2,   1.1720,2,  2051.7,2,  2338.2,2,   8.0917,2,    20.00,-999.000,9,-999.000,9,-999.000,9,  21.1248,2,-999.000,9, -999.00,9, -999.00,-999.000,9,-999.000,   63.64,2,    4.58,2, -33.9984,  58.1798,-999.000,-999.000,20090410,       0904
33RR20090320,        I05,      73,          2,         34,         34,2,20090410,       0653,   -33.9982,    58.1793,       5136,    42.7,  21.1219,  35.6137,2,  35.6143,2,    224.4,2,   223.6,2,    1.67,2,    0.03,2,    0.00,2,    0.10,2,   2.059,2,   1.238,2,   1.1530,2,  2051.7,2,  2336.8,2,   8.0917,2,    20.00,-999.000,9,-999.000,9,-999.000,9,  21.1223,2,-999.000,9, -999.00,9, -999.00,-999.000,9,-999.000,   64.71,2,    4.16,2, -33.9984,  58.1799,-999.000,-999.000,20090410,       0902
33RR20090320,        I05,      73,          2,         33,         33,2,20090410,       0653,   -33.9982,    58.1793,       5136,    67.5,  21.1131,  35.6126,2,  35.6132,2,    224.2,2,   223.8,2,    1.61,2,    0.08,2,    0.00,2,    0.10,2,   2.080,2,   1.245,2,   1.1460,2,  2052.2,2,  2336.7,2,   8.0908,2,    20.00,-999.000,9,-999.000,9,-999.000,9,  21.1135,2,-999.000,9, -999.00,9, -999.00,-999.000,9,-999.000,   63.55,2,    4.02,2, -33.9983,  58.1799,-999.000,-999.000,20090410,       0901
33RR20090320,        I05,      73,          2,         32,         32,2,20090410,       0653,   -33.9982,    58.1793,       5136,    92.8,  19.8853,  35.5377,2,  35.5376,2,    233.9,2,   235.1,2,    1.76,2,    0.09,2,    0.00,2,    0.12,2,   2.266,2,   1.347,2,   1.2590,2,  2053.3,2,  2332.6,2,   8.0813,2,    20.00,-999.000,9,-999.000,9,-999.000,9,  19.8855,2,-999.000,9, -999.00,9, -999.00,-999.000,9,-999.000,   61.16,2,    4.83,2, -33.9983,  58.1799,-999.000,-999.000,20090410,       0859
33RR20090320,        I05,      73,          2,         31,         31,2,20090410,       0653,   -33.9982,    58.1793,       5136,   137.4,  16.3544,  35.5014,2,  35.5013,2,    231.0,2,   230.8,2,    2.31,2,    1.89,2,    0.12,2,    0.28,2,   2.679,2,   1.570,2,   1.2880,2,  2080.1,2,  2331.2,2,   8.0301,2,    20.00,-999.000,9,-999.000,9,-999.000,9,  16.3483,2,-999.000,9, -999.00,9, -999.00,-999.000,9,-999.000,   54.87,2,    6.17,2, -33.9982,  58.1799,-999.000,-999.000,20090410,       0857
33RR20090320,        I05,      73,          2,         30,         30,2,20090410,       0653,   -33.9982,    58.1793,       5136,   187.6,  15.5617,  35.4641,2,  35.4650,2,    226.6,2,   226.6,2,    2.67,2,    3.71,2,    0.02,2,    0.38,2,   2.652,2,   1.538,2,   1.3080,2,  2090.3,2,  2328.4,2,   8.0073,2,    20.00,-999.000,9,-999.000,9,-999.000,9,  15.5638,2,-999.000,9, -999.00,9, -999.00,-999.000,9,-999.000,   52.85,2,    7.11,2, -33.9982,  58.1798,-999.000,-999.000,20090410,       0855
33RR20090320,        I05,      73,          2,         29,         29,2,20090410,       0653,   -33.9982,    58.1793,       5136,   238.1,  14.4404,  35.3859,2,  35.3852,2,    227.0,2,   226.8,2,    3.03,2,    5.81,2,    0.01,2,    0.50,2,   2.811,2,   1.644,2,   1.3070,2,  2099.5,2,  2324.9,2,   7.9798,2,    20.00,-999.000,9,-999.000,9,-999.000,9,  14.4415,2,-999.000,9, -999.00,9, -999.00,-999.000,9,-999.000,   49.75,2,    8.98,2, -33.9982,  58.1797,-999.000,-999.000,20090410,       0853
33RR20090320,        I05,      73,          2,         28,         28,2,20090410,       0653,   -33.9982,    58.1793,       5136,   286.0,  13.9619,  35.3418,2,  35.3422,2,    228.5,2,   228.4,2,    3.17,2,    6.75,2,    0.00,2,    0.55,2,   2.884,2,   1.668,2,   1.2790,2,  2104.9,2,  2322.2,2,   7.9682,2,    20.00,-999.000,9,-999.000,9,-999.000,9,  13.9693,2,-999.000,9, -999.00,9, -999.00,-999.000,9,-999.000,   48.54,2,   10.04,2, -33.9984,  58.1797,-999.000,-999.000,20090410,       0851
33RR20090320,        I05,      73,          2,         27,         27,2,20090410,       0653,   -33.9982,    58.1793,       5136,   337.4,  13.5903,  35.2998,2,  35.2997,2,    229.8,2,   229.7,2,    3.32,2,    7.53,2,    0.00,2,    0.60,2,   2.938,2,   1.705,2,   1.3400,2,  2107.7,2,  2321.2,2,   7.9576,2,    20.00,-999.000,9,-999.000,9,-999.000,9,  13.5891,2,-999.000,9, -999.00,9, -999.00,-999.000,9,-999.000,   47.25,2,   10.78,2, -33.9984,  58.1796,-999.000,-999.000,20090410,       0849
33RR20090320,        I05,      73,          2,         26,         26,2,20090410,       0653,   -33.9982,    58.1793,       5136,   386.9,  13.2498,  35.2675,2,  35.2668,2,    231.5,2,   231.7,2,    3.68,2,    8.25,2,    0.00,2,    0.64,2,   2.994,2,   1.711,2,   1.2830,2,  2108.7,2,  2318.5,2,   7.9522,2,    20.00,-999.000,9,-999.000,9,-999.000,9,  13.2632,2,-999.000,9, -999.00,9, -999.00,-999.000,9,-999.000,   46.18,2,   10.62,2, -33.9983,  58.1795,-999.000,-999.000,20090410,       0846
33RR20090320,        I05,      73,          2,         25,         25,2,20090410,       0653,   -33.9982,    58.1793,       5136,   467.4,  12.8344,  35.2066,2,  35.2067,2,    231.1,2,   231.6,2,    3.83,2,    9.25,2,    0.00,2,    0.70,2,   3.056,2,   1.730,2,   1.2790,2,  2111.7,2,  2316.5,2,   7.9408,2,    20.00,-999.000,9,-999.000,9,-999.000,9,  12.8341,2,-999.000,9, -999.00,9, -999.00,-999.000,9,-999.000,   45.00,2,   10.87,2, -33.9982,  58.1796,-999.000,-999.000,20090410,       0844
33RR20090320,        I05,      73,          2,         24,         24,2,20090410,       0653,   -33.9982,    58.1793,       5136,   568.7,  12.0497,  35.0806,2,  35.0830,2,    230.1,2,   231.1,2,    3.97,2,   10.96,2,    0.00,2,    0.82,2,   3.179,2,   1.779,2,   1.3080,2,  2117.0,2,  2311.8,2,   7.9199,2,    20.00,-999.000,9,-999.000,9,-999.000,9,  12.0623,2,-999.000,9, -999.00,9, -999.00,-999.000,9,-999.000,   44.02,2,   12.11,2, -33.9982,  58.1795,-999.000,-999.000,20090410,       0841
33RR20090320,        I05,      73,          2,         23,         23,2,20090410,       0653,   -33.9982,    58.1793,       5136,   667.3,  11.1780,  34.9537,2,  34.9553,2,    225.0,2,   226.1,2,    4.75,2,   13.30,2,    0.00,2,    0.97,2,   3.249,2,   1.761,2,   1.0730,2,  2124.7,2,  2307.4,2,   7.8925,2,    20.00,-999.000,9,-999.000,9,-999.000,9,  11.1846,2,-999.000,9, -999.00,9, -999.00,-999.000,9,-999.000,   43.20,2,   14.63,2, -33.9982,  58.1795,-999.000,-999.000,20090410,       0838
33RR20090320,        I05,      73,          2,         22,         22,2,20090410,       0653,   -33.9982,    58.1793,       5136,   766.7,  10.3570,  34.8387,2,  34.8399,2,    225.4,2,   226.5,2,    5.31,2,   15.02,2,    0.00,2,    1.08,2,   3.300,2,   1.759,2,   0.9080,2,  2128.9,2,  2301.1,2,   7.8733,2,    20.00,-999.000,9,-999.000,9,-999.000,9,  10.3725,2,-999.000,9, -999.00,9, -999.00,-999.000,9,-999.000,   42.43,2,   16.82,2, -33.9982,  58.1795,-999.000,-999.000,20090410,       0835
33RR20090320,        I05,      73,          2,         21,         21,2,20090410,       0653,   -33.9982,    58.1793,       5136,   868.4,   9.1298,  34.6875,2,  34.6881,2,    218.1,2,   216.0,2,    8.61,2,   18.88,2,    0.00,2,    1.34,2,   3.011,6,   1.552,6,   0.7130,6,  2141.8,2,  2298.1,2,   7.8300,2,    20.00,-999.000,9,-999.000,9,-999.000,9,   9.1326,2,-999.000,9, -999.00,9, -999.00,-999.000,9,-999.000,   41.58,2,   20.85,2, -33.9983,  58.1794,-999.000,-999.000,20090410,       0831
33RR20090320,        I05,      73,          2,         20,         20,2,20090410,       0653,   -33.9982,    58.1793,       5136,   968.0,   7.6367,  34.5472,2,  34.5451,2,    208.3,2,   205.6,2,   14.84,2,   23.43,2,    0.00,2,    1.65,2,   2.539,2,   1.286,2,   0.6360,2,  2160.6,2,  2296.4,2,   7.7769,2,    20.00,-999.000,9,-999.000,9,-999.000,9,   7.6334,2,-999.000,9, -999.00,9, -999.00,-999.000,9,-999.000,   41.12,2,   24.81,2, -33.9983,  58.1793,-999.000,-999.000,20090410,       0828
33RR20090320,        I05,      73,          2,         19,         19,2,20090410,       0653,   -33.9982,    58.1793,       5136,  1067.9,   6.4785,  34.4599,2,  34.4615,2,    204.2,2,   204.6,2,   20.25,2,   26.11,2,    0.00,2,    1.85,2,   2.382,2,   1.195,2,   0.5120,2,  2172.4,2,  2296.5,2,   7.7456,2,    20.00,-999.000,9,-999.000,9,-999.000,9,   6.4706,2,-999.000,9, -999.00,9, -999.00,-999.000,9,-999.000,   40.59,2,   27.21,2, -33.9983,  58.1793,-999.000,-999.000,20090410,       0825
33RR20090320,        I05,      73,          2,         18,         18,2,20090410,       0653,   -33.9982,    58.1793,       5136,  1169.4,   5.4678,  34.4039,2,  34.4036,2,    202.8,2,   203.6,2,   26.31,2,   28.43,2,    0.00,2,    2.01,2,   2.119,2,   1.057,2,   0.4920,2,  2184.3,2,  2297.2,2,   7.7201,2,    20.00,-999.000,9,-999.000,9,-999.000,9,   5.4677,2,-999.000,9, -999.00,9, -999.00,-999.000,9,-999.000,   40.13,2,   30.27,2, -33.9981,  58.1794,-999.000,-999.000,20090410,       0822
33RR20090320,        I05,      73,          2,         17,         17,2,20090410,       0653,   -33.9982,    58.1793,       5136,  1263.5,   4.6857,  34.3933,2,  34.3934,2,    197.2,2,   198.4,2,   34.28,2,   30.28,2,    0.00,2,    2.15,2,   1.727,2,   0.855,2,   0.3220,2,  2197.8,2,  2301.2,2,   7.6971,2,    20.00,-999.000,9,-999.000,9,-999.000,9,   4.6861,2,-999.000,9, -999.00,9, -999.00,-999.000,9,-999.000,   39.88,2,   31.96,2, -33.9981,  58.1795,-999.000,-999.000,20090410,       0819
33RR20090320,        I05,      73,          2,         16,         16,2,20090410,       0653,   -33.9982,    58.1793,       5136,  1364.3,   4.0615,  34.4134,2,  34.4131,2,    190.1,2,   190.8,2,   43.77,2,   31.81,2,    0.00,2,    2.27,2,   1.297,2,   0.635,2,   0.2290,2,  2212.6,2,  2313.4,2,   7.6766,2,    20.00,-999.000,9,-999.000,9,-999.000,9,   4.0610,2,-999.000,9, -999.00,9, -999.00,-999.000,9,-999.000,   39.60,2,   33.75,2, -33.9983,  58.1794,-999.000,-999.000,20090410,       0816
33RR20090320,        I05,      73,          2,         15,         15,2,20090410,       0653,   -33.9982,    58.1793,       5136,  1533.7,   3.3746,  34.4854,2,  34.4840,2,    178.7,2,   179.4,2,   57.34,2,   33.02,2,    0.00,2,    2.36,2,   0.730,2,   0.347,2,   0.1020,2,  2232.2,2,  2324.9,2,   7.6557,2,    20.00,-999.000,9,-999.000,9,-999.000,9,   3.3767,2,-999.000,9, -999.00,9, -999.00,-999.000,9,-999.000,   39.83,2,   34.57,2, -33.9984,  58.1798,-999.000,-999.000,20090410,       0812
33RR20090320,        I05,      73,          2,         14,         14,2,20090410,       0653,   -33.9982,    58.1793,       5136,  1731.0,   2.9379,  34.5679,2,  34.5673,2,    174.4,2,   174.8,2,   67.31,2,   33.13,2,    0.00,2,    2.37,2,   0.372,2,   0.172,2,   0.0000,2,  2243.2,2,  2335.2,2,   7.6501,2,    20.00,-999.000,9,-999.000,9,-999.000,9,   2.9388,2,-999.000,9, -999.00,9, -999.00,-999.000,9,-999.000,   39.29,2,   34.87,2, -33.9984,  58.1798,-999.000,-999.000,20090410,       0808
33RR20090320,        I05,      73,          2,         13,         13,2,20090410,       0653,   -33.9982,    58.1793,       5136,  1933.3,   2.6763,  34.6381,2,  34.6384,2,    176.4,2,   177.3,2,   74.32,2,   32.33,2,    0.00,2,    2.32,2,   0.201,2,   0.092,2,   0.0330,2,  2248.5,6,  2343.0,2,   7.6605,2,    20.00,-999.000,9,-999.000,9,-999.000,9,   2.6761,2,-999.000,9, -999.00,9, -999.00,-999.000,9,-999.000,   39.47,2,   34.04,2, -33.9984,  58.1796,-999.000,-999.000,20090410,       0803
33RR20090320,        I05,      73,          2,         12,         12,2,20090410,       0653,   -33.9982,    58.1793,       5136,  2163.8,   2.4475,  34.6904,2,  34.6907,2,    181.6,2,   181.9,2,   80.92,2,   31.59,2,    0.00,2,    2.26,2,   0.110,2,   0.050,2,   0.0440,2,  2254.9,2,  2351.1,2,   7.6736,2,    20.00,-999.000,9,-999.000,9,-999.000,9,   2.4470,2,-999.000,9, -999.00,9, -999.00,-999.000,9,-999.000,   39.20,2,   33.23,2, -33.9985,  58.1796,-999.000,-999.000,20090410,       0758
33RR20090320,        I05,      73,          2,         11,         11,2,20090410,       0653,   -33.9982,    58.1793,       5136,  2416.1,   2.2803,  34.7273,2,  34.7281,2,    187.4,2,   186.5,2,   84.95,2,   30.95,2,    0.00,2,    2.21,2,   0.071,2,   0.030,2,   0.0000,2,  2254.7,2,  2354.5,2,   7.6845,2,    20.00,-999.000,9,-999.000,9,-999.000,9,   2.2796,2,-999.000,9, -999.00,9, -999.00,-999.000,9,-999.000,   39.32,2,   32.41,2, -33.9986,  58.1796,-999.000,-999.000,20090410,       0752
33RR20090320,        I05,      73,          2,         10,         10,2,20090410,       0653,   -33.9982,    58.1793,       5136,  2685.1,   2.0705,  34.7465,2,  34.7467,2,    193.3,2,   192.8,2,   89.20,2,   30.52,2,    0.00,2,    2.17,2,   0.062,2,   0.027,2,   0.0000,2,  2254.7,2,  2358.5,2,   7.6930,2,    20.00,-999.000,9,-999.000,9,-999.000,9,   2.0701,2,-999.000,9, -999.00,9, -999.00,-999.000,9,-999.000,   39.35,2,   32.05,2, -33.9984,  58.1798,-999.000,-999.000,20090410,       0746
33RR20090320,        I05,      73,          2,          9,          9,2,20090410,       0653,   -33.9982,    58.1793,       5136,  2935.6,   1.8661,  34.7495,2,  34.7497,2,    196.8,2,   195.9,2,   94.54,2,   30.52,2,    0.00,2,    2.17,2,   0.063,2,   0.026,2,   0.0360,2,  2255.5,2,  2364.1,2,   7.6948,2,    20.00,-999.000,9,-999.000,9,-999.000,9,   1.8667,2,-999.000,9, -999.00,9, -999.00,-999.000,9,-999.000,   39.81,2,   31.87,2, -33.9984,  58.1798,-999.000,-999.000,20090410,       0741
33RR20090320,        I05,      73,          2,          8,          8,2,20090410,       0653,   -33.9982,    58.1793,       5136,  3225.7,   1.5597,  34.7394,2,  34.7393,2,    199.5,2,   199.5,2,  103.33,2,   30.94,2,    0.00,2,    2.21,2,   0.077,2,   0.034,2,   0.0200,2,  2259.2,2,  2363.5,2,   7.6919,2,    20.00,-999.000,9,-999.000,9,-999.000,9,   1.5601,2,-999.000,9, -999.00,9, -999.00,-999.000,9,-999.000,   39.71,2,   32.34,2, -33.9986,  58.1797,-999.000,-999.000,20090410,       0735
33RR20090320,        I05,      73,          2,          7,          7,2,20090410,       0653,   -33.9982,    58.1793,       5136,  3528.4,   1.1782,  34.7214,2,  34.7216,2,    203.7,2,   204.7,2,  113.45,2,   31.47,2,    0.00,2,    2.25,2,   0.102,6,   0.044,6,   0.0220,6,  2261.2,2,  2364.4,2,   7.6861,2,    20.00,-999.000,9,-999.000,9,-999.000,9,   1.1794,2,-999.000,9, -999.00,9, -999.00,-999.000,9,-999.000,   39.39,2,   32.87,2, -33.9988,  58.1799,-999.000,-999.000,20090410,       0729
33RR20090320,        I05,      73,          2,          6,          6,2,20090410,       0653,   -33.9982,    58.1793,       5136,  3834.7,   0.8076,  34.7043,2,  34.7045,2,    210.9,2,   212.4,2,  120.78,2,   31.80,2,    0.00,2,    2.27,2,   0.149,2,   0.066,2,   0.0450,2,  2258.9,2,  2361.5,2,   7.6819,2,    20.00,-999.000,9,-999.000,9,-999.000,9,   0.8084,2,-999.000,9, -999.00,9, -999.00,-999.000,9,-999.000,   39.89,2,   33.26,2, -33.9989,  58.1797,-999.000,-999.000,20090410,       0723
33RR20090320,        I05,      73,          2,          5,          5,2,20090410,       0653,   -33.9982,    58.1793,       5136,  4205.8,   0.5580,  34.6903,2,  34.6906,2,    215.9,2,   216.9,2,  128.77,2,   32.21,2,    0.00,2,    2.30,2,   0.179,2,   0.080,2,   0.0880,2,  2259.1,2,  2362.4,2,   7.6778,2,    20.00,-999.000,9,-999.000,9,-999.000,9,   0.5576,2,-999.000,9, -999.00,9, -999.00,-999.000,9,-999.000,   40.35,2,   33.71,2, -33.9986,  58.1799,-999.000,-999.000,20090410,       0715
33RR20090320,        I05,      73,          2,          4,          4,2,20090410,       0653,   -33.9982,    58.1793,       5136,  4613.0,   0.5251,  34.6864,2,  34.6859,2,    217.5,2,   218.3,2,  131.34,2,   32.37,2,    0.00,2,    2.31,2,   0.185,2,   0.084,2,   0.0540,2,  2260.2,2,  2360.8,2,   7.6768,2,    20.00,-999.000,9,-999.000,9,-999.000,9,   0.5248,2,-999.000,9, -999.00,9, -999.00,-999.000,9,-999.000,   39.83,2,   34.19,2, -33.9985,  58.1796,-999.000,-999.000,20090410,       0708
33RR20090320,        I05,      73,          2,          3,          3,2,20090410,       0653,   -33.9982,    58.1793,       5136,  5022.2,   0.5302,  34.6844,2,  34.6845,2,    219.1,2,   218.6,2,  132.60,2,   32.37,2,    0.00,2,    2.31,2,   0.189,2,   0.085,2,   0.0350,2,  2260.2,2,  2358.3,2,   7.6770,2,    20.00,-999.000,9,-999.000,9,-999.000,9,   0.5304,2,-999.000,9, -999.00,9, -999.00,-999.000,9,-999.000,   39.53,2,   34.08,2, -33.9983,  58.1796,-999.000,-999.000,20090410,       0700
33RR20090320,        I05,      73,          2,          2,          2,2,20090410,       0653,   -33.9982,    58.1793,       5136,  5117.9,   0.5273,  34.6834,2,  34.6836,2,    219.3,2,   218.9,2,  133.65,2,   32.42,2,    0.00,2,    2.31,2,   0.184,2,   0.082,2,   0.0080,2,  2260.9,2,  2361.6,2,   7.6786,2,    20.00,-999.000,9,-999.000,9,-999.000,9,   0.5272,2,-999.000,9, -999.00,9, -999.00,-999.000,9,-999.000,   39.56,2,   34.34,2, -33.9982,  58.1794,-999.000,-999.000,20090410,       0657
33RR20090320,        I05,      73,          2,          1,          1,2,20090410,       0653,   -33.9982,    58.1793,       5136,  5219.8,   0.5285,  34.6827,2,  34.6832,2,    219.1,2,   219.0,2,  133.83,2,   32.42,2,    0.00,2,    2.31,2,   0.188,6,   0.083,6,   0.0610,6,  2260.4,6,  2361.0,2,   7.6773,2,    20.00,-999.000,9,-999.000,9,-999.000,9,   0.5285,2,-999.000,9, -999.00,9, -999.00,-999.000,9,-999.000,   40.01,2,   34.21,2, -33.9982,  58.1794,-999.000,-999.000,20090410,       0653