BOTTLE,20220814CCHSIOAMB
EXPOCODE,SECT_ID,STNNBR,CASTNO,SAMPNO,BTLNBR,BTLNBR_FLAG_W,DATE,TIME,LATITUDE,LONGITUDE,DEPTH,CTDPRS,CTDTMP,CTDSAL,CTDSAL_FLAG_W,SALNTY,SALNTY_FLAG_W,CTDOXY,CTDOXY_FLAG_W,OXYGEN,OXYGEN_FLAG_W,SILCAT,SILCAT_FLAG_W,NITRAT,NITRAT_FLAG_W,NITRIT,NITRIT_FLAG_W,PHSPHT,PHSPHT_FLAG_W,CFC-11,CFC-11_FLAG_W,CFC-12,CFC-12_FLAG_W,SF6,SF6_FLAG_W,TCARBN,TCARBN_FLAG_W,ALKALI,ALKALI_FLAG_W,PH_TOT,PH_TOT_FLAG_W,PH_TMP,TRITUM,TRITUM_FLAG_W,HELIUM,HELIUM_FLAG_W,DELHE3,DELHE3_FLAG_W,REFTMP,REFTMP_FLAG_W,DELC13,DELC13_FLAG_W,DELC14,DELC14_FLAG_W,C14ERR,NEON,NEON_FLAG_W,NEONER,DOC,DOC_FLAG_W,TDN,TDN_FLAG_W,BTL_LAT,BTL_LON,HELIER,DELHER,BTL_DATE,BTL_TIME
,,,,,,,,,,,METERS,DBAR,ITS-90,PSS-78,,PSS-78,,UMOL/KG,,UMOL/KG,,UMOL/KG,,UMOL/KG,,UMOL/KG,,UMOL/KG,,PMOL/KG,,PMOL/KG,,FMOL/KG,,UMOL/KG,,UMOL/KG,,,,DEG C,TU,,NMOL/KG,,PERCNT,,DEG C,,/MILLE,,/MILLE,,/MILLE,NMOL/KG,,NMOL/KG,UMOL/KG,,UMOL/KG,,,,NMOL/KG,PERCNT,,
33RR20090320,        I05,      51,          2,         36,         36,2,20090404,       1835,   -33.6893,    49.7918,       4062,     4.9,  21.7493,  35.4873,2,  35.4869,2,    222.1,2,   221.6,2,    2.60,2,    0.14,2,    0.00,2,    0.10,2,   1.997,2,   1.196,2,   1.0880,2,  2030.6,6,  2324.8,2,   8.1082,2,    20.00,   0.526,2,   1.887,2,  -1.562,2,  21.7467,2,   1.073,2,   55.52,2,     2.8,   7.511,2,   0.009,   64.88,2,    4.49,2, -33.6894,  49.7919,   0.001,   0.192,20090404,       2035
33RR20090320,        I05,      51,          2,         35,         35,2,20090404,       1835,   -33.6893,    49.7918,       4062,    36.9,  21.6802,  35.4905,2,  35.4944,2,   -999.0,5,  -999.0,5,    0.42,2,    0.14,2,    0.00,2,    0.10,2,   2.031,2,   1.216,2,   1.1350,2,  2030.9,2,  2323.8,2,   8.1072,2,    20.00,   0.531,2,   1.787,2,  -1.688,2,  21.6935,2,-999.000,9, -999.00,9, -999.00,   7.166,2,   0.008,   65.65,2,    4.22,2, -33.6893,  49.7919,   0.001,   0.192,20090404,       2033
33RR20090320,        I05,      51,          2,         34,         34,2,20090404,       1835,   -33.6893,    49.7918,       4062,    61.4,  19.5315,  35.5855,2,  35.5862,2,    237.4,2,   239.4,2,    1.36,2,    0.09,2,    0.00,2,    0.13,2,   2.289,2,   1.368,2,   1.2300,2,  2047.0,2,  2330.5,2,   8.0909,2,    20.00,   0.555,2,   1.845,2,  -1.561,2,  19.5205,2,-999.000,9, -999.00,9, -999.00,   7.523,2,   0.009,   64.36,2,    4.02,2, -33.6893,  49.7919,   0.001,   0.194,20090404,       2031
33RR20090320,        I05,      51,          2,         33,         33,2,20090404,       1835,   -33.6893,    49.7918,       4062,    85.7,  17.6049,  35.5536,2,  35.5528,2,    238.5,2,   235.8,2,    0.53,2,    0.22,2,    0.03,2,    0.20,2,   2.426,2,   1.439,2,   1.2830,2,  2059.2,2,  2329.5,2,   8.0645,2,    20.00,   0.517,2,-999.000,9,-999.000,9,  17.6234,2,    0.96,2,   60.53,2,       3,-999.000,9,-999.000,   58.16,2,    4.58,2, -33.6893,  49.7920,-999.000,-999.000,20090404,       2029
33RR20090320,        I05,      51,          2,         32,         32,2,20090404,       1835,   -33.6893,    49.7918,       4062,   112.3,  16.9870,  35.5427,2,  35.5402,2,    228.3,2,   227.3,2,    2.24,2,    1.92,2,    0.08,2,    0.29,2,   2.471,2,   1.472,2,   1.2150,2,  2070.1,2,  2327.2,2,   8.0419,2,    20.00,   0.510,2,   1.836,2,  -1.510,2,  16.9859,2,-999.000,9, -999.00,9, -999.00,   7.569,2,   0.008,   56.46,2,    5.86,2, -33.6893,  49.7920,   0.001,   0.213,20090404,       2027
33RR20090320,        I05,      51,          2,         31,         31,2,20090404,       1835,   -33.6893,    49.7918,       4062,   136.0,  16.6948,  35.5342,2,  35.5337,2,    224.3,2,   224.3,2,    2.59,2,    2.86,2,    0.02,2,    0.33,2,   2.477,2,   1.452,2,   1.1940,2,  2073.6,2,  2327.5,2,   8.0337,2,    20.00,   0.545,2,   1.866,2,  -1.694,2,  16.6922,2,   0.785,2,   31.79,2,       3,   7.678,2,   0.008,   53.93,2,    6.38,2, -33.6893,  49.7920,   0.001,   0.204,20090404,       2026
33RR20090320,        I05,      51,          2,         30,         30,2,20090404,       1835,   -33.6893,    49.7918,       4062,   167.6,  16.3950,  35.5247,2,  35.5239,2,    220.6,2,   221.9,2,    2.17,2,    3.79,2,    0.01,2,    0.39,2,   2.513,2,   1.485,2,   1.2290,2,  2078.3,2,  2326.2,2,   8.0236,2,    20.00,   0.483,2,   1.934,2,  -1.416,2,  16.3943,2,    0.64,3,   40.91,2,       3,   7.901,2,   0.009,   52.81,2,    7.46,2, -33.6892,  49.7920,   0.001,   0.194,20090404,       2024
33RR20090320,        I05,      51,          2,         29,         29,2,20090404,       1835,   -33.6893,    49.7918,       4062,   215.6,  15.9357,  35.4977,2,  35.4971,2,    220.0,2,   219.7,2,    2.32,2,    4.61,2,    0.00,2,    0.44,2,   2.572,2,   1.498,2,   1.2640,2,  2085.6,2,  2325.5,2,   8.0100,2,    20.00,   0.471,2,   1.860,2,  -1.237,2,  15.9380,2,   0.795,2,    42.7,2,     2.6,   7.650,2,   0.009,   51.40,2,    7.32,2, -33.6891,  49.7920,   0.001,   0.192,20090404,       2022
33RR20090320,        I05,      51,          2,         28,         28,2,20090404,       1835,   -33.6893,    49.7918,       4062,   267.6,  15.3932,  35.4612,2,  35.4631,2,    216.9,2,   217.3,2,    3.26,2,    5.60,2,    0.00,2,    0.50,2,   2.628,2,   1.538,2,   1.2780,2,  2092.9,2,  2323.8,2,   7.9948,2,    20.00,   0.440,2,   1.818,2,  -1.193,2,  15.4129,2,    0.81,2,   53.57,2,     3.3,   7.600,2,   0.008,   50.41,2,    8.36,2, -33.6891,  49.7920,   0.001,   0.205,20090404,       2021
33RR20090320,        I05,      51,          2,         27,         27,2,20090404,       1835,   -33.6893,    49.7918,       4062,   314.6,  14.7857,  35.4154,2,  35.4150,2,    219.5,2,   220.0,2,    3.22,2,    6.31,2,    0.00,2,    0.55,2,   2.738,2,   1.560,2,   1.2340,2,  2099.1,2,  2323.0,2,   7.9814,2,    20.00,   0.446,2,   1.929,2,  -1.162,2,  14.7703,2,   0.877,2,   44.61,2,     2.8,   8.124,2,   0.322,   49.09,2,    8.74,2, -33.6889,  49.7921,   0.081,   0.207,20090404,       2018
33RR20090320,        I05,      51,          2,         26,         26,2,20090404,       1835,   -33.6893,    49.7918,       4062,   364.6,  14.3063,  35.3752,2,  35.3748,2,    222.5,2,   222.5,2,    2.59,2,    6.91,2,    0.00,2,    0.58,2,   2.812,2,   1.617,2,   1.2560,2,  2103.5,2,  2319.8,2,   7.9711,2,    20.00,-999.000,9,   1.826,2,  -1.042,2,  14.3102,2,   0.889,2,   45.06,2,     2.7,   7.572,2,   0.009,   48.17,2,    8.85,2, -33.6889,  49.7921,   0.001,   0.194,20090404,       2016
33RR20090320,        I05,      51,          2,         25,         25,2,20090404,       1835,   -33.6893,    49.7918,       4062,   414.9,  14.0070,  35.3474,2,  35.3467,2,    223.9,2,   223.8,2,    3.13,2,    7.41,2,    0.00,2,    0.61,2,   2.841,2,   1.632,2,   1.3770,3,  2105.3,2,  2321.0,2,   7.9642,2,    20.00,   0.416,2,   1.860,2,  -1.529,2,  13.9983,2,   0.886,2,   51.15,2,     3.8,   7.710,2,   0.009,   47.28,2,    9.18,2, -33.6889,  49.7921,   0.001,   0.192,20090404,       2014
33RR20090320,        I05,      51,          2,         24,         24,2,20090404,       1835,   -33.6893,    49.7918,       4062,   465.4,  13.5087,  35.2961,2,  35.2956,2,    225.5,2,   226.3,2,    2.70,2,    8.27,2,    0.00,2,    0.66,2,   2.919,2,   1.658,2,   1.2250,2,  2108.2,2,  2318.7,2,   7.9528,2,    20.00,-999.000,9,   1.907,2,  -1.010,2,  13.5066,2,   0.757,3,    63.9,2,       3,   7.873,2,   0.009,   46.37,2,   10.09,2, -33.6889,  49.7921,   0.001,   0.192,20090404,       2012
33RR20090320,        I05,      51,          2,         23,         23,2,20090404,       1835,   -33.6893,    49.7918,       4062,   534.9,  12.9913,  35.2276,2,  35.2263,2,    225.4,2,   226.0,2,    3.44,2,    9.53,2,    0.00,2,    0.74,2,   2.999,2,   1.699,2,   1.1080,2,  2111.7,2,  2316.3,2,   7.9387,2,    20.00,   0.403,2,-999.000,9,-999.000,9,  12.9849,2,   1.086,2,    59.2,2,     4.1,-999.000,9,-999.000,   45.02,2,   11.28,2, -33.6890,  49.7920,-999.000,-999.000,20090404,       2009
33RR20090320,        I05,      51,          2,         22,         22,2,20090404,       1835,   -33.6893,    49.7918,       4062,   636.0,  12.1506,  35.0983,2,  35.0977,2,    225.1,2,   223.4,2,    3.80,2,   11.54,2,    0.00,2,    0.87,2,   3.086,2,   1.670,2,   1.0170,2,  2117.8,2,  2310.6,2,   7.9143,2,    20.00,-999.000,9,   1.931,2,  -0.441,2,  12.1509,2,   1.031,2,   48.62,2,       3,   8.000,2,   0.013,   44.02,2,   13.19,2, -33.6889,  49.7920,   0.001,   0.186,20090404,       2006
33RR20090320,        I05,      51,          2,         21,         21,2,20090404,       1835,   -33.6893,    49.7918,       4062,   735.3,  11.0941,  34.9432,2,  34.9438,2,    220.3,2,   220.1,2,    4.15,2,   14.05,2,    0.00,2,    1.03,2,   3.117,6,   1.663,6,   0.9540,6,  2125.0,2,  2303.8,2,   7.8849,2,    20.00,   0.288,2,   1.892,2,  -0.161,2,  11.0967,2,   1.138,2,   42.31,2,     3.2,   7.908,2,   0.009,   43.53,2,   15.67,2, -33.6889,  49.7920,   0.001,   0.193,20090404,       2003
33RR20090320,        I05,      51,          2,         20,         20,2,20090404,       1835,   -33.6893,    49.7918,       4062,   836.2,   9.9212,  34.7904,2,  35.2238,4,    216.7,2,   215.5,2,    6.07,2,   17.11,2,    0.00,2,    1.23,2,   2.998,2,   1.555,2,   0.8050,2,  2134.7,2,  2297.6,2,   7.8501,2,    20.00,   0.232,2,-999.000,9,-999.000,9,   9.9260,2,   1.097,2,   27.61,2,     2.5,-999.000,9,-999.000,   42.70,2,   18.63,2, -33.6890,  49.7919,-999.000,-999.000,20090404,       1959
33RR20090320,        I05,      51,          2,         19,         19,2,20090404,       1835,   -33.6893,    49.7918,       4062,   937.1,   8.3074,  34.6151,2,  34.6183,2,    209.0,2,   207.3,2,   10.75,2,   21.59,2,    0.00,2,    1.53,2,   2.648,2,   1.336,2,   0.7020,2,  2152.2,2,  2294.0,2,   7.7988,2,    20.00,   0.201,2,   1.870,2,   0.985,2,   8.3177,2,   1.006,2,   -1.71,2,     2.6,   8.018,2,   0.015,   41.97,2,   23.39,2, -33.6891,  49.7919,   0.001,   0.206,20090404,       1956
33RR20090320,        I05,      51,          2,         18,         18,2,20090404,       1835,   -33.6893,    49.7918,       4062,  1035.8,   7.0295,  34.5051,2,  34.5042,2,    202.8,2,   203.8,2,   16.22,2,   25.05,2,    0.00,2,    1.77,2,   2.368,2,   1.182,2,   0.4380,2,  2165.8,2,  2292.9,2,   7.7594,2,    20.00,-999.000,9,   1.895,2,   2.049,2,   7.0268,2,   1.064,2,  -11.57,2,     3.3,   8.178,2,   0.020,   40.92,2,   26.54,2, -33.6892,  49.7919,   0.001,   0.207,20090404,       1953
33RR20090320,        I05,      51,          2,         17,         17,2,20090404,       1835,   -33.6893,    49.7918,       4062,  1136.6,   5.6472,  34.4168,2,  34.4184,2,    202.2,2,   203.2,2,   23.49,2,   28.02,2,    0.00,2,    1.98,2,   2.152,2,   1.061,2,   0.4180,2,  2182.2,2,  2295.5,2,   7.7249,2,    20.00,-999.000,9,   1.896,2,   2.267,2,   5.6530,2,   0.985,2,  -46.69,2,     2.5,   8.226,2,   0.016,   40.02,2,   29.50,2, -33.6892,  49.7919,   0.001,   0.207,20090404,       1950
33RR20090320,        I05,      51,          2,         16,         16,2,20090404,       1835,   -33.6893,    49.7918,       4062,  1238.2,   4.6921,  34.3944,2,  34.3937,2,    197.4,2,   198.8,2,   31.77,2,   30.17,2,    0.00,2,    2.16,2,   1.754,2,   0.850,2,   0.2790,2,  2197.0,2,  2301.0,2,   7.6969,2,    20.00,-999.000,9,-999.000,9,-999.000,9,   4.6945,2,    0.85,2,  -79.91,2,     3.7,-999.000,9,-999.000,   40.05,2,   31.86,2, -33.6891,  49.7919,-999.000,-999.000,20090404,       1947
33RR20090320,        I05,      51,          2,         15,         15,2,20090404,       1835,   -33.6893,    49.7918,       4062,  1336.9,   4.0388,  34.4197,2,  34.4194,2,    189.8,2,   189.6,2,   42.27,2,   31.77,2,    0.00,2,    2.27,2,   1.277,2,   0.611,2,   0.2690,2,  2213.5,2,  2310.3,2,   7.6747,2,    20.00,-999.000,9,   1.892,2,   5.025,2,   4.0393,2,   0.769,2,  -95.65,2,     3.8,   8.327,2,   0.018,   39.94,2,   32.92,2, -33.6890,  49.7920,   0.001,   0.231,20090404,       1943
33RR20090320,        I05,      51,          2,         14,         14,2,20090404,       1835,   -33.6893,    49.7918,       4062,  1438.7,   3.6397,  34.4595,2,  34.4589,2,    183.0,2,   183.1,2,   49.81,2,   32.76,2,    0.00,2,    2.34,2,   0.939,2,   0.447,2,   0.1040,2,  2225.9,2,  2317.7,2,   7.6615,2,    20.00,-999.000,9,   1.922,2,   6.039,2,   3.6403,2,   0.691,2,  -130.5,2,     2.8,   8.378,2,   0.020,   39.85,2, -999.00,9, -33.6889,  49.7919,   0.001,   0.212,20090404,       1940
33RR20090320,        I05,      51,          2,         13,         13,2,20090404,       1835,   -33.6893,    49.7918,       4062,  1537.6,   3.3320,  34.5146,2,  34.5160,2,    177.4,2,   176.0,2,   58.37,2,   33.09,2,    0.00,2,    2.38,2,   0.573,6,   0.271,6,   0.0710,3,  2237.6,6,  2326.1,2,   7.6535,2,    20.00,   0.020,2,   1.940,2,   6.684,2,   3.3329,2,   0.621,2, -134.54,2,     2.3,   8.378,2,   0.019,   40.11,2,   34.82,2, -33.6889,  49.7919,   0.001,   0.209,20090404,       1936
33RR20090320,        I05,      51,          2,         12,         12,2,20090404,       1835,   -33.6893,    49.7918,       4062,  1662.2,   3.0280,  34.5574,2,  34.5569,2,    176.6,2,   176.0,2,   62.75,2,   32.98,2,    0.00,2,    2.37,2,   0.390,2,   0.190,2,   0.0310,3,  2244.0,2,  2331.3,2,   7.6531,2,    20.00,-999.000,9,-999.000,9,-999.000,9,   3.0283,2,   0.597,2, -134.01,2,     2.1,-999.000,9,-999.000,   40.06,2,   34.22,2, -33.6890,  49.7919,-999.000,-999.000,20090404,       1933
33RR20090320,        I05,      51,          2,         11,         11,2,20090404,       1835,   -33.6893,    49.7918,       4062,  1866.5,   2.7491,  34.6258,2,  34.6266,2,    177.6,2,   177.7,2,   69.74,2,   32.37,2,    0.00,2,    2.32,2,   0.211,2,   0.105,2,   0.0340,3,  2248.3,2,  2339.0,2,   7.6609,2,    20.00,   0.054,2,   1.971,2,   8.334,2,   2.7493,2,   0.594,2, -137.94,2,     3.5,   8.540,2,   0.016,   39.40,2,   33.78,2, -33.6891,  49.7918,   0.001,   0.221,20090404,       1928
33RR20090320,        I05,      51,          2,         10,         10,2,20090404,       1835,   -33.6893,    49.7918,       4062,  2082.1,   2.5635,  34.6830,2,  34.6825,2,    182.0,2,   182.3,2,   74.33,2,   31.59,2,    0.00,2,    2.26,2,   0.101,2,   0.050,2,   0.0160,3,  2248.6,2,  2344.4,2,   7.6736,2,    20.00,-999.000,9,   1.939,2,   8.775,2,   2.5635,2,   0.561,2, -159.34,2,     2.1,   8.462,2,   0.016,   39.30,2,   32.96,2, -33.6891,  49.7917,   0.001,   0.210,20090404,       1923
33RR20090320,        I05,      51,          2,          9,          9,2,20090404,       1835,   -33.6893,    49.7918,       4062,  2336.2,   2.3547,  34.7242,2,  34.7237,2,    188.8,2,   188.9,2,   77.53,2,   30.65,2,    0.00,2,    2.19,2,   0.060,2,   0.030,2,   0.0000,2,  2248.3,2,  2348.7,2,   7.6956,2,    20.00,-999.000,9,   1.928,2,   9.109,2,   2.3546,2,   0.672,3, -149.55,2,     2.7,   8.414,2,   0.029,   39.20,2,   31.78,2, -33.6893,  49.7916,   0.001,   0.209,20090404,       1917
33RR20090320,        I05,      51,          2,          8,          8,2,20090404,       1835,   -33.6893,    49.7918,       4062,  2581.2,   2.1834,  34.7412,2,  34.7403,2,    194.0,2,   194.0,2,   82.95,2,   30.26,2,    0.00,2,    2.16,2,   0.051,2,   0.025,2,   0.0000,2,  2247.3,2,  2353.0,2,   7.7030,2,    20.00,-999.000,9,   1.971,2,   8.775,2,   2.1828,2,   0.606,2, -158.06,2,     2.1,   8.592,2,   0.036,   39.29,2,   31.84,2, -33.6894,  49.7918,   0.001,   0.214,20090404,       1912
33RR20090320,        I05,      51,          2,          7,          7,2,20090404,       1835,   -33.6893,    49.7918,       4062,  2835.9,   2.0132,  34.7549,2,  34.7548,2,    196.8,2,   197.1,2,   88.58,2,   30.14,2,    0.00,2,    2.15,2,   0.030,2,   0.016,2,   0.0130,2,  2249.0,2,  2359.2,2,   7.6998,2,    20.00,-999.000,9,   1.961,2,   8.521,2,   2.0135,2,   0.588,2, -148.74,2,     2.7,   8.626,2,   0.025,   39.18,2,   31.34,2, -33.6893,  49.7919,   0.001,   0.209,20090404,       1906
33RR20090320,        I05,      51,          2,          6,          6,2,20090404,       1835,   -33.6893,    49.7918,       4062,  3099.6,   1.7273,  34.7425,2,-999.0000,9,   -999.0,9,  -999.0,9, -999.00,9, -999.00,9, -999.00,9, -999.00,9,   0.034,6,   0.017,6,   0.0000,6,  -999.0,9,  -999.0,9,-999.0000,9,  -999.00,-999.000,9,-999.000,9,-999.000,9,   1.7268,2,-999.000,9, -999.00,9, -999.00,-999.000,9,-999.000, -999.00,9, -999.00,9, -33.6891,  49.7919,-999.000,-999.000,20090404,       1900
33RR20090320,        I05,      51,          2,          5,          5,2,20090404,       1835,   -33.6893,    49.7918,       4062,  3100.4,   1.7271,  34.7427,2,  34.7429,2,    197.0,2,   196.8,2,   99.28,2,   30.86,2,    0.00,2,    2.21,2,   0.034,6,   0.017,6,   0.0000,6,  2256.0,2,  2363.1,2,   7.6934,2,    20.00,   0.059,2,   1.842,2,   9.064,2,   1.7269,2,    0.59,2, -163.42,2,     2.3,   8.010,2,   0.015,   39.21,2,   32.45,2, -33.6891,  49.7919,   0.001,   0.220,20090404,       1859
33RR20090320,        I05,      51,          2,          4,          4,2,20090404,       1835,   -33.6893,    49.7918,       4062,  3399.6,   1.4520,  34.7293,2,  34.7287,2,    197.4,2,   198.0,2,  110.02,2,   31.47,2,    0.00,2,    2.25,2,   0.037,2,   0.019,2,   0.0000,2,  2262.3,2,  2364.9,2,   7.6878,2,    20.00,-999.000,9,   1.936,2,   9.125,2,   1.4514,2,   0.543,2, -163.42,2,     3.1,   8.507,2,   0.016,   40.27,2,   33.05,2, -33.6893,  49.7918,   0.001,   0.211,20090404,       1852
33RR20090320,        I05,      51,          2,          3,          3,2,20090404,       1835,   -33.6893,    49.7918,       4062,  3702.0,   1.2303,  34.7200,2,  34.7199,2,    202.0,2,   202.9,2,  114.07,2,   31.74,2,    0.00,2,    2.26,2,   0.052,2,   0.026,2,   0.0000,2,  2261.3,2,  2364.8,2,   7.6870,2,    20.00,   0.025,2,   1.969,2,   8.358,2,   1.2301,2,   0.567,2, -160.61,2,     2.7,   8.701,2,   0.020,   40.33,2,   33.44,2, -33.6894,  49.7917,   0.001,   0.211,20090404,       1846
33RR20090320,        I05,      51,          2,          2,          2,2,20090404,       1835,   -33.6893,    49.7918,       4062,  3987.7,   1.1595,  34.7161,2,  34.7160,2,    204.9,2,   204.8,2,  116.30,2,   31.79,2,    0.00,2,    2.26,2,   0.056,2,   0.030,2,   0.0000,2,  2261.7,2,  2364.0,2,   7.6866,2,    20.00,-999.000,9,   1.982,2,   7.968,2,   1.1594,2,   0.508,2, -156.01,2,     2.4,   8.755,2,   0.018,   40.33,2,   33.29,2, -33.6894,  49.7918,   0.001,   0.211,20090404,       1839
33RR20090320,        I05,      51,          2,          1,          1,2,20090404,       1835,   -33.6893,    49.7918,       4062,  4116.5,   1.1157,  34.7140,2,  34.7130,2,    205.9,2,   206.2,2,  117.09,2,   31.79,2,    0.00,2,    2.27,2,   0.055,2,   0.028,2,   0.0000,2,  2263.6,6,  2365.6,2,   7.6869,2,    20.00,-999.000,9,   1.972,2,   8.355,2,   1.1150,2,   0.544,2,  -158.7,2,     3.5,   8.763,2,   0.016,   40.16,2,   33.21,2, -33.6892,  49.7918,   0.001,   0.212,20090404,       1835