BOTTLE,20220814CCHSIOAMB
EXPOCODE,SECT_ID,STNNBR,CASTNO,SAMPNO,BTLNBR,BTLNBR_FLAG_W,DATE,TIME,LATITUDE,LONGITUDE,DEPTH,CTDPRS,CTDTMP,CTDSAL,CTDSAL_FLAG_W,SALNTY,SALNTY_FLAG_W,CTDOXY,CTDOXY_FLAG_W,OXYGEN,OXYGEN_FLAG_W,SILCAT,SILCAT_FLAG_W,NITRAT,NITRAT_FLAG_W,NITRIT,NITRIT_FLAG_W,PHSPHT,PHSPHT_FLAG_W,CFC-11,CFC-11_FLAG_W,CFC-12,CFC-12_FLAG_W,SF6,SF6_FLAG_W,TCARBN,TCARBN_FLAG_W,ALKALI,ALKALI_FLAG_W,PH_TOT,PH_TOT_FLAG_W,PH_TMP,TRITUM,TRITUM_FLAG_W,HELIUM,HELIUM_FLAG_W,DELHE3,DELHE3_FLAG_W,REFTMP,REFTMP_FLAG_W,DELC13,DELC13_FLAG_W,DELC14,DELC14_FLAG_W,C14ERR,NEON,NEON_FLAG_W,NEONER,DOC,DOC_FLAG_W,TDN,TDN_FLAG_W,BTL_LAT,BTL_LON,HELIER,DELHER,BTL_DATE,BTL_TIME
,,,,,,,,,,,METERS,DBAR,ITS-90,PSS-78,,PSS-78,,UMOL/KG,,UMOL/KG,,UMOL/KG,,UMOL/KG,,UMOL/KG,,UMOL/KG,,PMOL/KG,,PMOL/KG,,FMOL/KG,,UMOL/KG,,UMOL/KG,,,,DEG C,TU,,NMOL/KG,,PERCNT,,DEG C,,/MILLE,,/MILLE,,/MILLE,NMOL/KG,,NMOL/KG,UMOL/KG,,UMOL/KG,,,,NMOL/KG,PERCNT,,
33RR20090320,        I05,      30,          1,         36,         36,2,20090330,       1438,   -32.9975,    39.2569,       5109,     3.6,  22.7664,  35.6452,2,  35.6446,2,    218.4,2,   219.3,2,    1.71,2,    0.07,2,    0.00,2,    0.07,2,  -0.002,4,   0.000,4,  -0.0050,4,  2034.4,6,  2335.2,2,   8.1157,2,    20.00,-999.000,9,-999.000,9,-999.000,9,  22.7652,2,   1.047,2,   55.23,2,     4.1,-999.000,9,-999.000,   65.69,2,    4.61,2, -32.9975,  39.2562,-999.000,-999.000,20090330,       1656
33RR20090320,        I05,      30,          1,         35,         35,2,20090330,       1438,   -32.9975,    39.2569,       5109,    37.4,  20.9625,  35.6220,2,  35.6211,2,    226.9,2,   226.3,2,    1.70,2,    0.08,2,    0.00,2,    0.08,2,   2.068,6,   1.265,6,   1.1750,6,  2037.9,2,  2335.9,2,   8.1116,2,    20.00,-999.000,9,-999.000,9,-999.000,9,  20.9511,2,-999.000,9, -999.00,9, -999.00,-999.000,9,-999.000,   64.57,2,    4.34,2, -32.9975,  39.2563,-999.000,-999.000,20090330,       1654
33RR20090320,        I05,      30,          1,         34,         34,2,20090330,       1438,   -32.9975,    39.2569,       5109,    62.3,  19.7350,  35.5828,2,  35.5753,2,    228.5,2,   226.5,2,    2.08,2,    0.02,2,    0.00,2,    0.13,2,   2.195,2,   1.327,2,   1.1940,2,  2044.0,2,  2333.6,2,   8.0974,2,    20.00,-999.000,9,-999.000,9,-999.000,9,  19.7667,2,-999.000,9, -999.00,9, -999.00,-999.000,9,-999.000,   65.18,2,    4.48,2, -32.9975,  39.2563,-999.000,-999.000,20090330,       1652
33RR20090320,        I05,      30,          1,         33,         33,2,20090330,       1438,   -32.9975,    39.2569,       5109,    86.8,  18.4302,  35.5511,2,  35.5497,2,    224.7,2,   212.1,2,    2.66,2,    1.97,2,    0.02,2,    0.26,2,   2.275,2,   1.379,2,   1.1440,2,  2063.4,2,  2331.1,2,   8.0591,2,    20.00,-999.000,9,-999.000,9,-999.000,9,  18.4347,2,   0.792,2,   53.82,2,     3.2,-999.000,9,-999.000,   56.68,2,    5.79,2, -32.9975,  39.2563,-999.000,-999.000,20090330,       1651
33RR20090320,        I05,      30,          1,         32,         32,2,20090330,       1438,   -32.9975,    39.2569,       5109,   118.2,  17.9122,  35.5501,2,  35.5505,2,    210.4,2,   210.0,2,    3.04,2,    3.24,2,    0.01,2,    0.33,2,   2.309,2,   1.397,2,   1.2300,2,  2067.8,2,  2329.7,2,   8.0471,2,    20.00,-999.000,9,-999.000,9,-999.000,9,  17.9101,2,-999.000,9, -999.00,9, -999.00,-999.000,9,-999.000,   53.31,2,    7.11,2, -32.9975,  39.2563,-999.000,-999.000,20090330,       1649
33RR20090320,        I05,      30,          1,         31,         31,2,20090330,       1438,   -32.9975,    39.2569,       5109,   166.8,  17.1208,  35.5445,2,  35.5438,2,    207.3,2,   211.7,2,    3.23,2,    3.78,2,    0.01,2,    0.37,2,   2.427,2,   1.452,2,   1.1970,2,  2079.2,2,  2329.1,2,   8.0271,2,    20.00,-999.000,9,-999.000,9,-999.000,9,  17.1288,2,   0.753,2,   51.17,2,     2.9,-999.000,9,-999.000,   52.65,2,    7.10,2, -32.9975,  39.2563,-999.000,-999.000,20090330,       1647
33RR20090320,        I05,      30,          1,         30,         30,2,20090330,       1438,   -32.9975,    39.2569,       5109,   216.8,  16.6264,  35.5343,2,  35.5331,2,    212.9,2,   214.6,2,    3.61,2,    4.56,2,    0.01,2,    0.41,2,   2.469,2,   1.471,2,   1.0900,2,  2082.3,2,  2329.5,2,   8.0178,2,    20.00,-999.000,9,-999.000,9,-999.000,9,  16.6267,2,-999.000,9, -999.00,9, -999.00,-999.000,9,-999.000,   51.59,2,    8.15,2, -32.9975,  39.2563,-999.000,-999.000,20090330,       1644
33RR20090320,        I05,      30,          1,         29,         29,2,20090330,       1438,   -32.9975,    39.2569,       5109,   267.0,  16.0151,  35.4947,2,  35.4950,2,    209.0,2,   209.0,2,    4.00,2,    5.82,2,    0.00,2,    0.49,2,   2.540,2,   1.503,2,   1.0630,2,  2093.5,2,  2328.6,2,   7.9957,2,    20.00,-999.000,9,-999.000,9,-999.000,9,  16.0184,2,   0.782,2,   58.04,2,     2.9,-999.000,9,-999.000,   49.84,2,    8.74,2, -32.9975,  39.2563,-999.000,-999.000,20090330,       1642
33RR20090320,        I05,      30,          1,         28,         28,2,20090330,       1438,   -32.9975,    39.2569,       5109,   317.2,  15.3817,  35.4488,2,  35.4479,2,    208.3,2,   207.9,2,    4.18,2,    6.81,2,    0.00,2,    0.56,2,   2.632,2,   1.537,2,   1.0990,2,  2100.7,2,  2325.7,2,   7.9782,2,    20.00,-999.000,9,-999.000,9,-999.000,9,  15.3833,2,-999.000,9, -999.00,9, -999.00,-999.000,9,-999.000,   48.05,2,    9.69,2, -32.9975,  39.2563,-999.000,-999.000,20090330,       1639
33RR20090320,        I05,      30,          1,         27,         27,2,20090330,       1438,   -32.9975,    39.2569,       5109,   366.5,  14.6634,  35.3888,2,  35.3888,2,    207.6,2,   207.8,2,    4.37,2,    7.90,2,    0.00,2,    0.63,2,   2.741,2,   1.580,2,   1.1420,2,  2108.3,2,  2325.5,2,   7.9597,2,    20.00,-999.000,9,-999.000,9,-999.000,9,  14.6626,2,   0.859,2,    62.2,2,     3.8,-999.000,9,-999.000,   47.18,2,    9.80,2, -32.9975,  39.2562,-999.000,-999.000,20090330,       1637
33RR20090320,        I05,      30,          1,         26,         26,2,20090330,       1438,   -32.9975,    39.2569,       5109,   435.9,  13.7377,  35.3022,2,  35.3017,2,    212.3,2,   212.3,2,    4.36,2,    9.22,2,    0.00,2,    0.71,2,   2.901,2,   1.640,2,   1.0510,2,  2114.0,2,  2321.0,2,   7.9409,2,    20.00,-999.000,9,-999.000,9,-999.000,9,  13.7241,2,   0.908,2,   60.94,2,       3,-999.000,9,-999.000,   46.34,2,   10.68,2, -32.9975,  39.2562,-999.000,-999.000,20090330,       1634
33RR20090320,        I05,      30,          1,         25,         25,2,20090330,       1438,   -32.9975,    39.2569,       5109,   535.9,  12.7745,  35.1837,2,  35.1838,2,    215.7,2,   216.1,2,    4.75,2,   10.75,2,    0.00,2,    0.82,2,   3.023,2,   1.679,2,   0.9700,2,  2119.7,2,  2316.3,2,   7.9214,2,    20.00,-999.000,9,-999.000,9,-999.000,9,  12.7760,2,   0.983,2,   62.87,2,     2.9,-999.000,9,-999.000,   45.64,2,   12.23,2, -32.9975,  39.2562,-999.000,-999.000,20090330,       1631
33RR20090320,        I05,      30,          1,         24,         24,2,20090330,       1438,   -32.9975,    39.2569,       5109,   634.8,  11.4650,  34.9977,2,  34.9972,2,    216.9,2,   217.6,2,    5.33,2,   13.33,2,    0.00,2,    0.99,2,   3.125,2,   1.682,2,   0.9700,2,  2128.3,2,  2306.2,2,   7.8902,2,    20.00,-999.000,9,-999.000,9,-999.000,9,  11.4627,2,    1.04,2,   59.04,2,     2.9,-999.000,9,-999.000,   44.90,2,   15.17,2, -32.9975,  39.2563,-999.000,-999.000,20090330,       1628
33RR20090320,        I05,      30,          1,         23,         23,2,20090330,       1438,   -32.9975,    39.2569,       5109,   735.7,  10.1182,  34.8111,2,  34.8111,2,    215.3,2,   214.8,2,    7.48,2,   16.56,2,    0.00,2,    1.20,2,   3.069,2,   1.617,2,   0.8090,2,  2138.2,2,  2301.9,2,   7.8519,2,    20.00,-999.000,9,-999.000,9,-999.000,9,  10.1179,2,   1.126,2,   42.39,2,       3,-999.000,9,-999.000,   43.86,2,   18.35,2, -32.9975,  39.2565,-999.000,-999.000,20090330,       1625
33RR20090320,        I05,      30,          1,         22,         22,2,20090330,       1438,   -32.9975,    39.2569,       5109,   834.2,   8.8158,  34.6712,2,  34.6712,2,    207.2,2,   206.3,2,   11.77,2,   20.47,2,    0.00,2,    1.45,2,   2.743,2,   1.409,2,   0.5160,2,  2153.1,2,  2298.6,2,   7.8092,2,    20.00,-999.000,9,-999.000,9,-999.000,9,   8.8136,2,   1.102,2,   21.03,2,     2.9,-999.000,9,-999.000,   42.81,2,   21.95,2, -32.9976,  39.2565,-999.000,-999.000,20090330,       1622
33RR20090320,        I05,      30,          1,         21,         21,2,20090330,       1438,   -32.9975,    39.2569,       5109,   939.9,   7.2619,  34.5292,2,  34.5303,2,    199.0,2,   200.0,2,   18.44,2,   24.77,2,    0.00,2,    1.76,2,   2.449,2,   1.256,2,   0.5780,2,  2172.4,2,  2294.7,2,   7.7584,2,    20.00,-999.000,9,-999.000,9,-999.000,9,   7.2703,2,   1.056,2,   -7.83,2,     2.8,-999.000,9,-999.000,   41.90,2,   26.47,2, -32.9975,  39.2566,-999.000,-999.000,20090330,       1619
33RR20090320,        I05,      30,          1,         20,         20,2,20090330,       1438,   -32.9975,    39.2569,       5109,  1038.4,   5.8298,  34.4293,2,  34.4298,2,    199.4,2,   200.9,2,   25.52,2,   27.97,2,    0.00,2,    1.99,2,   2.232,2,   1.128,2,   0.5420,2,  2188.8,2,  2297.0,2,   7.7231,2,    20.00,-999.000,9,-999.000,9,-999.000,9,   5.8114,2,   0.978,2,  -37.38,2,     3.5,-999.000,9,-999.000,   40.89,2,   29.64,2, -32.9975,  39.2566,-999.000,-999.000,20090330,       1616
33RR20090320,        I05,      30,          1,         19,         19,2,20090330,       1438,   -32.9975,    39.2569,       5109,  1142.1,   4.8420,  34.3929,2,  34.3924,2,    199.9,2,   199.8,2,   33.01,2,   30.13,2,    0.00,2,    2.15,2,   2.057,2,   1.032,2,   0.5370,2,  2199.6,2,  2302.9,2,   7.6986,2,    20.00,-999.000,9,-999.000,9,-999.000,9,   4.8397,2,   0.903,2,  -66.22,2,     2.7,-999.000,9,-999.000,   40.40,2,   31.53,2, -32.9975,  39.2567,-999.000,-999.000,20090330,       1613
33RR20090320,        I05,      30,          1,         18,         18,2,20090330,       1438,   -32.9975,    39.2569,       5109,  1244.9,   4.4343,  34.4133,2,  34.4126,2,    193.2,2,   191.1,2,   40.11,2,   31.41,2,    0.00,2,    2.25,2,   1.687,2,   0.833,2,   0.3650,2,  2212.0,2,  2309.5,2,   7.6815,2,    20.00,-999.000,9,-999.000,9,-999.000,9,   4.4371,2,   0.848,2,  -78.42,2,     2.5,-999.000,9,-999.000,   39.96,2,   32.73,2, -32.9976,  39.2567,-999.000,-999.000,20090330,       1610
33RR20090320,        I05,      30,          1,         17,         17,2,20090330,       1438,   -32.9975,    39.2569,       5109,  1341.6,   3.9631,  34.4493,2,  34.4489,2,    180.0,2,   181.5,2,   49.23,2,   32.68,2,    0.00,2,    2.34,2,   1.202,2,   0.578,2,   0.3100,2,  2227.1,2,  2316.7,2,   7.6630,2,    20.00,-999.000,9,-999.000,9,-999.000,9,   3.9624,2,   0.761,2, -108.89,2,     2.6,-999.000,9,-999.000,   39.91,2,   34.29,2, -32.9976,  39.2567,-999.000,-999.000,20090330,       1607
33RR20090320,        I05,      30,          1,         16,         16,2,20090330,       1438,   -32.9975,    39.2569,       5109,  1477.5,   3.5951,  34.5291,2,  34.5290,2,    168.7,2,   169.9,2,   60.36,2,   33.35,2,    0.00,2,    2.40,2,   0.632,2,   0.298,2,   0.0630,3,  2240.0,6,  2328.2,2,   7.6503,2,    20.00,-999.000,9,-999.000,9,-999.000,9,   3.5955,2,   0.628,2,  -128.5,2,     2.5,-999.000,9,-999.000,   39.87,2,   34.60,2, -32.9977,  39.2568,-999.000,-999.000,20090330,       1603
33RR20090320,        I05,      30,          1,         15,         15,2,20090330,       1438,   -32.9975,    39.2569,       5109,  1673.2,   3.4442,  34.6432,2,  34.6430,2,    156.8,2,   156.8,2,   73.92,2,   33.57,2,    0.00,2,    2.44,2,   0.225,2,   0.108,2,   0.0200,2,  2259.2,2,  2343.4,2,   7.6454,2,    20.00,-999.000,9,-999.000,9,-999.000,9,   3.4434,2,-999.000,9, -999.00,9, -999.00,-999.000,9,-999.000,   40.21,2,   35.35,2, -32.9976,  39.2568,-999.000,-999.000,20090330,       1558
33RR20090320,        I05,      30,          1,         14,         14,2,20090330,       1438,   -32.9975,    39.2569,       5109,  1878.6,   3.0255,  34.6884,2,  34.6878,2,    167.5,2,   166.4,2,   77.11,2,   32.56,2,    0.00,2,    2.35,2,   0.114,2,   0.056,2,   0.0840,3,  2257.7,2,  2350.9,2,   7.6602,2,    20.00,-999.000,9,-999.000,9,-999.000,9,   3.0251,2,-999.000,9, -999.00,9, -999.00,-999.000,9,-999.000,   40.13,2,   33.89,2, -32.9977,  39.2567,-999.000,-999.000,20090330,       1553
33RR20090320,        I05,      30,          1,         13,         13,2,20090330,       1438,   -32.9975,    39.2569,       5109,  2092.9,   2.7374,  34.7268,2,  34.7267,2,    183.8,2,   183.6,2,   71.49,2,   30.78,2,    0.00,2,    2.20,2,   0.073,2,   0.037,2,   0.0000,2,  2245.8,2,  2345.1,2,   7.6832,2,    20.00,-999.000,9,-999.000,9,-999.000,9,   2.7368,2,-999.000,9, -999.00,9, -999.00,-999.000,9,-999.000,   39.50,2,   32.06,2, -32.9979,  39.2566,-999.000,-999.000,20090330,       1547
33RR20090320,        I05,      30,          1,         12,         12,2,20090330,       1438,   -32.9975,    39.2569,       5109,  2338.3,   2.5942,  34.7724,2,  34.7721,2,    195.0,2,   194.8,2,   69.48,2,   29.17,2,    0.00,2,    2.08,2,   0.034,2,   0.018,2,   0.0140,2,  2238.4,2,  2346.3,2,   7.7050,2,    20.00,-999.000,9,-999.000,9,-999.000,9,   2.5940,2,-999.000,9, -999.00,9, -999.00,-999.000,9,-999.000,   39.84,2,   30.41,2, -32.9980,  39.2564,-999.000,-999.000,20090330,       1542
33RR20090320,        I05,      30,          1,         11,         11,2,20090330,       1438,   -32.9975,    39.2569,       5109,  2588.2,   2.4691,  34.7939,2,  34.7938,2,    203.4,2,   203.5,2,   68.27,2,   28.18,2,    0.00,2,    2.00,2,   0.023,6,   0.014,6,   0.0020,6,  2231.6,2,  2342.2,2,   7.7193,2,    20.00,-999.000,9,-999.000,9,-999.000,9,   2.4690,2,-999.000,9, -999.00,9, -999.00,-999.000,9,-999.000,   39.91,2,   29.93,2, -32.9979,  39.2562,-999.000,-999.000,20090330,       1536
33RR20090320,        I05,      30,          1,         10,         10,2,20090330,       1438,   -32.9975,    39.2569,       5109,  2835.7,   2.3366,  34.8061,2,  34.8055,2,    210.7,2,   210.8,2,   67.86,2,   27.45,2,    0.00,2,    1.94,2,   0.017,2,   0.011,2,   0.0100,2,  2228.9,2,  2341.7,2,   7.7301,2,    20.00,-999.000,9,-999.000,9,-999.000,9,   2.3364,2,-999.000,9, -999.00,9, -999.00,-999.000,9,-999.000,   39.90,2,   28.78,2, -32.9979,  39.2562,-999.000,-999.000,20090330,       1531
33RR20090320,        I05,      30,          1,          9,          9,2,20090330,       1438,   -32.9975,    39.2569,       5109,  3095.7,   2.1669,  34.8063,2,  34.8062,2,    213.9,2,   214.1,2,   71.04,2,   27.40,2,    0.00,2,    1.93,2,   0.018,2,   0.011,2,   0.0190,2,  2228.8,2,  2340.6,2,   7.7336,2,    20.00,-999.000,9,-999.000,9,-999.000,9,   2.1672,2,-999.000,9, -999.00,9, -999.00,-999.000,9,-999.000,   39.88,2,   29.04,2, -32.9978,  39.2562,-999.000,-999.000,20090330,       1526
33RR20090320,        I05,      30,          1,          8,          8,2,20090330,       1438,   -32.9975,    39.2569,       5109,  3385.8,   1.8739,  34.7906,2,  34.7904,2,    215.6,2,   215.7,2,   80.04,2,   28.06,2,    0.00,2,    1.98,2,   0.024,2,   0.014,2,   0.0500,2,  2234.7,2,  2348.6,2,   7.7281,2,    20.00,-999.000,9,-999.000,9,-999.000,9,   1.8734,2,-999.000,9, -999.00,9, -999.00,-999.000,9,-999.000,   39.92,2,   29.76,2, -32.9978,  39.2561,-999.000,-999.000,20090330,       1519
33RR20090320,        I05,      30,          1,          7,          7,2,20090330,       1438,   -32.9975,    39.2569,       5109,  3690.4,   1.4734,  34.7629,2,  34.7625,2,    215.6,2,   216.0,2,   93.07,2,   29.39,2,    0.00,2,    2.09,2,   0.037,2,   0.021,2,   0.0160,2,  2243.4,2,  2354.0,2,   7.7172,2,    20.00,-999.000,9,-999.000,9,-999.000,9,   1.4735,2,-999.000,9, -999.00,9, -999.00,-999.000,9,-999.000,   40.10,2,   30.94,2, -32.9977,  39.2563,-999.000,-999.000,20090330,       1512
33RR20090320,        I05,      30,          1,          6,          6,2,20090330,       1438,   -32.9975,    39.2569,       5109,  3993.7,   1.1230,  34.7375,2,  34.7376,2,    216.4,2,   217.0,2,  104.33,2,   30.44,2,    0.00,2,    2.17,2,   0.083,3,   0.089,4,   0.7510,4,  2251.4,2,  2359.1,2,   7.7078,2,    20.00,-999.000,9,-999.000,9,-999.000,9,   1.1225,2,-999.000,9, -999.00,9, -999.00,-999.000,9,-999.000,   39.94,2,   32.24,2, -32.9975,  39.2563,-999.000,-999.000,20090330,       1506
33RR20090320,        I05,      30,          1,          5,          5,2,20090330,       1438,   -32.9975,    39.2569,       5109,  4292.2,   0.8451,  34.7164,2,  34.7154,2,    217.4,2,   218.2,2,  113.59,2,   31.27,2,    0.00,2,    2.23,2,   0.083,2,   0.040,2,  -0.0110,2,  2257.8,2,  2363.4,2,   7.7000,2,    20.00,-999.000,9,-999.000,9,-999.000,9,   0.8441,2,-999.000,9, -999.00,9, -999.00,-999.000,9,-999.000,   40.25,2,   32.76,2, -32.9975,  39.2565,-999.000,-999.000,20090330,       1459
33RR20090320,        I05,      30,          1,          4,          4,2,20090330,       1438,   -32.9975,    39.2569,       5109,  4592.5,   0.6980,  34.7039,2,  34.7034,2,    218.2,2,   218.8,2,  119.04,2,   31.77,2,    0.00,2,    2.27,2,   0.113,2,   0.054,2,   0.0350,3,  2260.8,2,  2368.4,2,   7.6951,2,    20.00,-999.000,9,-999.000,9,-999.000,9,   0.6983,2,-999.000,9, -999.00,9, -999.00,-999.000,9,-999.000,   40.00,2,   33.15,2, -32.9975,  39.2566,-999.000,-999.000,20090330,       1452
33RR20090320,        I05,      30,          1,          3,          3,2,20090330,       1438,   -32.9975,    39.2569,       5109,  4901.6,   0.6286,  34.6962,2,  34.6949,2,    219.1,2,   219.3,2,  121.87,2,   32.05,2,    0.00,2,    2.29,2,   0.160,6,   0.075,6,   0.0120,6,  2263.0,2,  2368.0,2,   7.6902,2,    20.00,-999.000,9,-999.000,9,-999.000,9,   0.6288,2,-999.000,9, -999.00,9, -999.00,-999.000,9,-999.000,   40.37,2,   33.65,2, -32.9976,  39.2567,-999.000,-999.000,20090330,       1445
33RR20090320,        I05,      30,          1,          2,          2,2,20090330,       1438,   -32.9975,    39.2569,       5109,  5088.8,   0.5871,  34.6915,2,  34.6906,2,    220.4,2,   220.1,2,  123.06,2,   32.22,2,    0.00,2,    2.30,2,   0.194,2,   0.091,2,  -0.0750,2,  2262.8,2,  2368.7,2,   7.6883,2,    20.00,-999.000,9,-999.000,9,-999.000,9,   0.5868,2,-999.000,9, -999.00,9, -999.00,-999.000,9,-999.000,   40.00,2,   33.80,2, -32.9976,  39.2568,-999.000,-999.000,20090330,       1441
33RR20090320,        I05,      30,          1,          1,          1,2,20090330,       1438,   -32.9975,    39.2569,       5109,  5192.5,   0.5899,  34.6905,2,  34.6898,2,    220.1,2,   220.3,2,  123.66,2,   32.22,2,    0.00,2,    2.30,2,   0.205,2,   0.097,2,  -0.0250,2,  2264.1,6,  2367.0,2,   7.6869,2,    20.00,-999.000,9,-999.000,9,-999.000,9,   0.5898,2,-999.000,9, -999.00,9, -999.00,-999.000,9,-999.000,   39.97,2,   34.03,2, -32.9975,  39.2569,-999.000,-999.000,20090330,       1438