BOTTLE,20220814CCHSIOAMB
EXPOCODE,SECT_ID,STNNBR,CASTNO,SAMPNO,BTLNBR,BTLNBR_FLAG_W,DATE,TIME,LATITUDE,LONGITUDE,DEPTH,CTDPRS,CTDTMP,CTDSAL,CTDSAL_FLAG_W,SALNTY,SALNTY_FLAG_W,CTDOXY,CTDOXY_FLAG_W,OXYGEN,OXYGEN_FLAG_W,SILCAT,SILCAT_FLAG_W,NITRAT,NITRAT_FLAG_W,NITRIT,NITRIT_FLAG_W,PHSPHT,PHSPHT_FLAG_W,CFC-11,CFC-11_FLAG_W,CFC-12,CFC-12_FLAG_W,SF6,SF6_FLAG_W,TCARBN,TCARBN_FLAG_W,ALKALI,ALKALI_FLAG_W,PH_TOT,PH_TOT_FLAG_W,PH_TMP,TRITUM,TRITUM_FLAG_W,HELIUM,HELIUM_FLAG_W,DELHE3,DELHE3_FLAG_W,REFTMP,REFTMP_FLAG_W,DELC13,DELC13_FLAG_W,DELC14,DELC14_FLAG_W,C14ERR,NEON,NEON_FLAG_W,NEONER,DOC,DOC_FLAG_W,TDN,TDN_FLAG_W,BTL_LAT,BTL_LON,HELIER,DELHER,BTL_DATE,BTL_TIME
,,,,,,,,,,,METERS,DBAR,ITS-90,PSS-78,,PSS-78,,UMOL/KG,,UMOL/KG,,UMOL/KG,,UMOL/KG,,UMOL/KG,,UMOL/KG,,PMOL/KG,,PMOL/KG,,FMOL/KG,,UMOL/KG,,UMOL/KG,,,,DEG C,TU,,NMOL/KG,,PERCNT,,DEG C,,/MILLE,,/MILLE,,/MILLE,NMOL/KG,,NMOL/KG,UMOL/KG,,UMOL/KG,,,,NMOL/KG,PERCNT,,
33RR20090320,        I05,       6,          1,         36,         36,2,20090325,       0115,   -31.2046,    30.6064,       2802,     2.8,  25.9673,  35.5579,2,  35.5572,2,    203.9,2,   204.2,2,    1.89,2,    0.26,2,    0.00,2,    0.10,2,   1.688,2,   1.033,2,   0.9750,2,  1996.3,6,  2327.4,2,   8.1735,2,    20.00,-999.000,9,-999.000,9,-999.000,9,  25.9661,2,-999.000,9, -999.00,9, -999.00,-999.000,9,-999.000,   66.43,2,    4.84,2, -31.2403,  30.5736,-999.000,-999.000,20090325,       0309
33RR20090320,        I05,       6,          1,         35,         35,2,20090325,       0115,   -31.2046,    30.6064,       2802,    39.2,  25.4618,  35.5317,2,  35.5309,2,    206.6,2,   206.2,2,    1.65,2,    0.19,2,    0.00,2,    0.08,2,-999.000,9,-999.000,9,-999.0000,9,  1996.8,2,  2324.7,2,   8.1700,2,    20.00,-999.000,9,-999.000,9,-999.000,9,  25.4624,2,-999.000,9, -999.00,9, -999.00,-999.000,9,-999.000,   65.99,2,    4.44,2, -31.2389,  30.5749,-999.000,-999.000,20090325,       0306
33RR20090320,        I05,       6,          1,         34,         34,2,20090325,       0115,   -31.2046,    30.6064,       2802,    64.5,  22.1477,  35.5125,2,  35.5077,2,    217.5,2,   221.9,2,    1.41,2,    0.11,2,    0.00,2,    0.13,2,   2.026,2,   1.224,2,   1.0530,2,  2025.4,2,  2326.2,2,   8.1215,2,    20.00,-999.000,9,-999.000,9,-999.000,9,  22.1244,2,-999.000,9, -999.00,9, -999.00,-999.000,9,-999.000,   58.17,2,    5.17,2, -31.2380,  30.5759,-999.000,-999.000,20090325,       0304
33RR20090320,        I05,       6,          1,         33,         33,2,20090325,       0115,   -31.2046,    30.6064,       2802,    88.9,  19.9402,  35.5109,2,  35.5114,2,    203.1,2,   188.6,2,    3.59,2,    2.20,2,    0.11,2,    0.37,2,-999.000,9,-999.000,9,-999.0000,9,  -999.0,9,  2324.1,2,   8.0499,2,    20.00,-999.000,9,-999.000,9,-999.000,9,  19.9268,2,-999.000,9, -999.00,9, -999.00,-999.000,9,-999.000,   53.84,2,    6.61,2, -31.2371,  30.5768,-999.000,-999.000,20090325,       0302
33RR20090320,        I05,       6,          1,         32,         32,2,20090325,       0115,   -31.2046,    30.6064,       2802,   114.7,  18.6120,  35.5193,2,  35.5185,2,    180.3,2,   183.4,2,    4.75,2,    3.68,2,    0.03,2,    0.47,2,   2.214,2,   1.316,2,   1.0510,2,  2081.6,2,  2325.6,2,   8.0202,2,    20.00,-999.000,9,-999.000,9,-999.000,9,  18.6171,2,-999.000,9, -999.00,9, -999.00,-999.000,9,-999.000,   52.60,2,    8.11,2, -31.2363,  30.5776,-999.000,-999.000,20090325,       0300
33RR20090320,        I05,       6,          1,         31,         31,2,20090325,       0115,   -31.2046,    30.6064,       2802,   138.6,  17.7975,  35.5302,2,  35.5302,2,    194.4,2,   185.7,2,    4.91,2,    4.13,2,    0.02,2,    0.50,2,-999.000,9,-999.000,9,-999.0000,9,  -999.0,9,  2326.7,2,   8.0060,2,    20.00,-999.000,9,-999.000,9,-999.000,9,  17.7862,2,-999.000,9, -999.00,9, -999.00,-999.000,9,-999.000,   51.97,2,    8.14,2, -31.2353,  30.5786,-999.000,-999.000,20090325,       0258
33RR20090320,        I05,       6,          1,         30,         30,2,20090325,       0115,   -31.2046,    30.6064,       2802,   164.4,  17.2094,  35.5407,2,  35.5407,2,    200.5,2,   202.6,2,    4.27,2,    3.10,2,    0.02,2,    0.43,2,   2.393,2,   1.421,2,   1.1600,2,  2082.8,2,  2327.7,2,   8.0185,2,    20.00,-999.000,9,-999.000,9,-999.000,9,  17.2050,2,-999.000,9, -999.00,9, -999.00,-999.000,9,-999.000,   51.49,2,    6.63,2, -31.2346,  30.5794,-999.000,-999.000,20090325,       0256
33RR20090320,        I05,       6,          1,         29,         29,2,20090325,       0115,   -31.2046,    30.6064,       2802,   188.7,  16.7254,  35.5392,2,  35.5389,2,    199.5,2,   213.2,2,    3.42,2,    2.91,2,    0.01,2,    0.41,2,-999.000,9,-999.000,9,-999.0000,9,  -999.0,9,  2325.8,2,   8.0234,2,    20.00,-999.000,9,-999.000,9,-999.000,9,  16.7267,2,-999.000,9, -999.00,9, -999.00,-999.000,9,-999.000,   50.82,2,    6.72,2, -31.2336,  30.5804,-999.000,-999.000,20090325,       0254
33RR20090320,        I05,       6,          1,         28,         28,2,20090325,       0115,   -31.2046,    30.6064,       2802,   214.6,  16.2934,  35.5127,2,  35.5162,2,    201.0,2,   212.0,2,    3.57,2,    3.63,2,    0.01,2,    0.45,2,   2.501,2,   1.489,2,   1.1490,2,  2086.5,2,  2327.4,2,   8.0101,2,    20.00,-999.000,9,-999.000,9,-999.000,9,  16.2984,2,-999.000,9, -999.00,9, -999.00,-999.000,9,-999.000,   50.16,2,    7.37,2, -31.2329,  30.5812,-999.000,-999.000,20090325,       0252
33RR20090320,        I05,       6,          1,         27,         27,2,20090325,       0115,   -31.2046,    30.6064,       2802,   238.3,  15.6241,  35.4645,2,  35.4640,2,    203.3,2,   201.1,2,    4.54,2,    5.45,2,    0.01,2,    0.57,2,-999.000,9,-999.000,9,-999.0000,9,  -999.0,9,  2324.3,2,   7.9767,2,    20.00,-999.000,9,-999.000,9,-999.000,9,  15.6181,2,-999.000,9, -999.00,9, -999.00,-999.000,9,-999.000,   49.52,2,    8.07,2, -31.2321,  30.5820,-999.000,-999.000,20090325,       0250
33RR20090320,        I05,       6,          1,         26,         26,2,20090325,       0115,   -31.2046,    30.6064,       2802,   268.3,  14.9074,  35.4158,2,  35.4188,2,    205.4,2,   201.1,2,    4.89,2,    6.63,2,    0.01,2,    0.64,2,-999.000,9,-999.000,9,-999.0000,9,  2109.2,2,  2324.1,2,   7.9587,2,    20.00,-999.000,9,-999.000,9,-999.000,9,  14.9097,2,-999.000,9, -999.00,9, -999.00,-999.000,9,-999.000,   49.16,2,    8.86,2, -31.2314,  30.5828,-999.000,-999.000,20090325,       0249
33RR20090320,        I05,       6,          1,         25,         25,2,20090325,       0115,   -31.2046,    30.6064,       2802,   319.4,  14.2122,  35.3704,2,  35.3698,2,    206.4,2,   211.4,2,    3.64,2,    6.79,2,    0.01,2,    0.64,2,   2.865,2,   1.624,2,   1.1220,2,  2110.4,2,  2319.7,2,   7.9539,2,    20.00,-999.000,9,-999.000,9,-999.000,9,  14.2119,2,-999.000,9, -999.00,9, -999.00,-999.000,9,-999.000,   48.27,2,    8.84,2, -31.2306,  30.5837,-999.000,-999.000,20090325,       0247
33RR20090320,        I05,       6,          1,         24,         24,2,20090325,       0115,   -31.2046,    30.6064,       2802,   368.4,  13.4255,  35.2828,2,  35.2844,2,    209.4,2,   212.6,2,    4.40,2,    8.29,2,    0.01,2,    0.73,2,-999.000,9,-999.000,9,-999.0000,9,  -999.0,9,  2318.5,2,   7.9359,2,    20.00,-999.000,9,-999.000,9,-999.000,9,  13.4201,2,-999.000,9, -999.00,9, -999.00,-999.000,9,-999.000,   47.08,2,    9.94,2, -31.2297,  30.5847,-999.000,-999.000,20090325,       0244
33RR20090320,        I05,       6,          1,         23,         23,2,20090325,       0115,   -31.2046,    30.6064,       2802,   418.8,  12.7599,  35.1956,2,  35.1962,2,    213.4,2,   214.4,2,    4.56,2,    9.51,2,    0.01,2,    0.81,2,   3.026,2,   1.668,2,   1.0870,2,  2119.1,2,  2313.0,2,   7.9214,2,    20.00,-999.000,9,-999.000,9,-999.000,9,  12.7594,2,-999.000,9, -999.00,9, -999.00,-999.000,9,-999.000,   46.06,2,   11.42,2, -31.2289,  30.5856,-999.000,-999.000,20090325,       0242
33RR20090320,        I05,       6,          1,         22,         22,2,20090325,       0115,   -31.2046,    30.6064,       2802,   439.4,  12.4537,  35.1529,2,  35.1514,2,    214.8,2,   215.6,2,    4.52,2,   10.13,2,    0.01,2,    0.84,2,-999.000,9,-999.000,9,-999.0000,9,  -999.0,9,  2312.3,2,   7.9149,2,    20.00,-999.000,9,-999.000,9,-999.000,9,  12.4500,2,-999.000,9, -999.00,9, -999.00,-999.000,9,-999.000,   45.41,2,   11.79,2, -31.2281,  30.5865,-999.000,-999.000,20090325,       0240
33RR20090320,        I05,       6,          1,         21,         21,2,20090325,       0115,   -31.2046,    30.6064,       2802,   538.9,  10.6762,  34.9044,2,  34.9025,2,    211.3,2,   211.2,2,    7.09,2,   14.36,2,    0.00,2,    1.09,2,   3.049,2,   1.592,2,   0.8270,2,  2133.2,2,  2300.2,2,   7.8650,2,    20.00,-999.000,9,-999.000,9,-999.000,9,  10.6700,2,-999.000,9, -999.00,9, -999.00,-999.000,9,-999.000,   44.05,2,   16.07,2, -31.2269,  30.5877,-999.000,-999.000,20090325,       0237
33RR20090320,        I05,       6,          1,         20,         20,2,20090325,       0115,   -31.2046,    30.6064,       2802,   638.5,   9.3220,  34.7391,2,  34.7398,2,    206.7,2,   204.6,2,   11.07,2,   18.14,2,    0.00,2,    1.36,2,-999.000,9,-999.000,9,-999.0000,9,  -999.0,9,  2293.8,2,   7.8230,2,    20.00,-999.000,9,-999.000,9,-999.000,9,   9.3128,2,-999.000,9, -999.00,9, -999.00,-999.000,9,-999.000,   43.01,2,   19.48,2, -31.2258,  30.5890,-999.000,-999.000,20090325,       0234
33RR20090320,        I05,       6,          1,         19,         19,2,20090325,       0115,   -31.2046,    30.6064,       2802,   737.9,   7.8439,  34.6405,2,  34.6410,2,    177.2,2,   177.6,2,   24.14,2,   23.80,2,    0.00,2,    1.77,2,   1.863,2,   0.913,2,   0.3530,2,  2179.3,2,  2301.8,2,   7.7490,2,    20.00,-999.000,9,-999.000,9,-999.000,9,   7.8441,2,-999.000,9, -999.00,9, -999.00,-999.000,9,-999.000,   42.12,2,   25.42,2, -31.2248,  30.5901,-999.000,-999.000,20090325,       0231
33RR20090320,        I05,       6,          1,         18,         18,2,20090325,       0115,   -31.2046,    30.6064,       2802,   839.1,   6.2731,  34.5484,2,  34.5520,2,    168.5,2,   168.3,2,   36.05,2,   27.88,2,    0.00,2,    2.04,2,-999.000,9,-999.000,9,-999.0000,9,  -999.0,9,  2309.9,2,   7.6998,2,    20.00,-999.000,9,-999.000,9,-999.000,9,   6.2824,2,-999.000,9, -999.00,9, -999.00,-999.000,9,-999.000,   40.97,2,   29.30,2, -31.2239,  30.5910,-999.000,-999.000,20090325,       0228
33RR20090320,        I05,       6,          1,         17,         17,2,20090325,       0115,   -31.2046,    30.6064,       2802,   934.6,   5.6513,  34.5828,2,  34.5872,2,    157.4,2,   149.9,2,   49.40,2,   30.55,2,    0.00,2,    2.25,2,   0.898,2,   0.400,2,   0.1590,2,  2227.3,2,  2320.2,2,   7.6628,2,    20.00,-999.000,9,-999.000,9,-999.000,9,   5.6451,2,-999.000,9, -999.00,9, -999.00,-999.000,9,-999.000,   40.42,2,   32.48,2, -31.2231,  30.5919,-999.000,-999.000,20090325,       0225
33RR20090320,        I05,       6,          1,         16,         16,2,20090325,       0115,   -31.2046,    30.6064,       2802,  1024.1,   4.9885,  34.5781,2,  34.5733,2,    148.0,2,   149.0,2,   56.87,2,   31.75,2,    0.00,2,    2.32,2,-999.000,9,-999.000,9,-999.0000,9,  -999.0,9,  2328.1,2,   7.6504,2,    20.00,-999.000,9,-999.000,9,-999.000,9,   5.0066,2,-999.000,9, -999.00,9, -999.00,-999.000,9,-999.000,   39.73,2,   33.24,2, -31.2222,  30.5928,-999.000,-999.000,20090325,       0222
33RR20090320,        I05,       6,          1,         15,         15,2,20090325,       0115,   -31.2046,    30.6064,       2802,  1108.0,   4.8488,  34.6526,2,  34.6518,2,    141.1,2,   134.4,2,   66.61,2,   32.86,2,    0.00,2,    2.41,2,   0.447,2,   0.183,2,   0.0520,2,  2253.7,2,  2337.7,2,   7.6318,2,    20.00,-999.000,9,-999.000,9,-999.000,9,   4.8367,2,-999.000,9, -999.00,9, -999.00,-999.000,9,-999.000,   39.49,2,   34.35,2, -31.2214,  30.5935,-999.000,-999.000,20090325,       0219
33RR20090320,        I05,       6,          1,         14,         14,2,20090325,       0115,   -31.2046,    30.6064,       2802,  1189.4,   4.0922,  34.6462,2,  34.6511,2,    141.0,2,   143.1,2,   71.84,2,   32.94,2,    0.00,2,    2.39,2,-999.000,9,-999.000,9,-999.0000,9,  -999.0,9,  2343.6,2,   7.6352,2,    20.00,-999.000,9,-999.000,9,-999.000,9,   4.0543,2,-999.000,9, -999.00,9, -999.00,-999.000,9,-999.000,   39.24,2,   34.92,2, -31.2206,  30.5942,-999.000,-999.000,20090325,       0216
33RR20090320,        I05,       6,          1,         13,         13,2,20090325,       0115,   -31.2046,    30.6064,       2802,  1267.5,   3.6101,  34.6173,2,  34.6179,2,    157.2,2,   157.1,2,   70.33,2,   32.71,2,    0.00,2,    2.34,2,   0.390,2,   0.155,2,   0.0200,2,  2251.8,2,  2338.2,2,   7.6432,2,    20.00,-999.000,9,-999.000,9,-999.000,9,   3.6089,2,-999.000,9, -999.00,9, -999.00,-999.000,9,-999.000,   39.35,2,   33.97,2, -31.2198,  30.5948,-999.000,-999.000,20090325,       0213
33RR20090320,        I05,       6,          1,         12,         12,2,20090325,       0115,   -31.2046,    30.6064,       2802,  1343.0,   3.4187,  34.6367,2,  34.6369,2,    159.6,2,   158.3,2,   73.11,2,   32.76,2,    0.00,2,    2.33,2,-999.000,9,-999.000,9,-999.0000,9,  -999.0,9,  -999.0,9,   7.6445,2,    20.00,-999.000,9,-999.000,9,-999.000,9,   3.4180,2,-999.000,9, -999.00,9, -999.00,-999.000,9,-999.000,   39.39,2,   34.22,2, -31.2189,  30.5955,-999.000,-999.000,20090325,       0209
33RR20090320,        I05,       6,          1,         11,         11,2,20090325,       0115,   -31.2046,    30.6064,       2802,  1417.0,   3.2205,  34.6594,2,  34.6576,2,    161.5,2,   161.7,2,   74.66,2,   32.50,2,    0.00,2,    2.31,2,   0.241,2,   0.093,2,   0.0370,2,  2254.3,2,  2344.5,2,   7.6496,2,    20.00,-999.000,9,-999.000,9,-999.000,9,   3.2150,2,-999.000,9, -999.00,9, -999.00,-999.000,9,-999.000,   39.58,2,   33.82,2, -31.2180,  30.5962,-999.000,-999.000,20090325,       0206
33RR20090320,        I05,       6,          1,         10,         10,2,20090325,       0115,   -31.2046,    30.6064,       2802,  1489.9,   3.0841,  34.6802,2,-999.0000,9,    164.6,2,   164.4,2,   76.83,2,   32.16,2,    0.00,2,    2.29,2,-999.000,9,-999.000,9,-999.0000,9,  -999.0,9,  -999.0,9,   7.6550,2,    20.00,-999.000,9,-999.000,9,-999.000,9,   3.0763,2,-999.000,9, -999.00,9, -999.00,-999.000,9,-999.000,   39.83,2,   33.95,2, -31.2172,  30.5969,-999.000,-999.000,20090325,       0202
33RR20090320,        I05,       6,          1,          9,          9,2,20090325,       0115,   -31.2046,    30.6064,       2802,  1561.4,   2.9267,  34.6901,2,  34.6908,2,    169.6,2,   171.3,2,   74.08,2,   31.65,2,    0.00,2,    2.24,2,   0.166,2,   0.061,2,   0.0190,2,  2249.9,2,  2344.4,2,   7.6627,2,    20.00,-999.000,9,-999.000,9,-999.000,9,   2.9245,2,-999.000,9, -999.00,9, -999.00,-999.000,9,-999.000,   39.25,2,   33.20,2, -31.2162,  30.5975,-999.000,-999.000,20090325,       0159
33RR20090320,        I05,       6,          1,          8,          8,2,20090325,       0115,   -31.2046,    30.6064,       2802,  1643.0,   2.8309,  34.7124,2,  34.7138,2,   -999.0,5,  -999.0,5,   73.80,2,   31.02,2,    0.00,2,    2.19,2,-999.000,9,-999.000,9,-999.0000,9,  -999.0,9,  -999.0,9,   7.6711,2,    20.00,-999.000,9,-999.000,9,-999.000,9,   2.8303,2,-999.000,9, -999.00,9, -999.00,-999.000,9,-999.000,   39.48,2,   32.83,2, -31.2154,  30.5980,-999.000,-999.000,20090325,       0155
33RR20090320,        I05,       6,          1,          7,          7,2,20090325,       0115,   -31.2046,    30.6064,       2802,  1743.2,   2.7631,  34.7293,2,  34.7299,2,    179.0,2,   178.2,2,   75.35,2,   30.66,2,    0.00,2,    2.18,2,   0.083,2,   0.030,2,   0.0040,2,  2248.0,2,  2347.8,2,   7.6779,2,    20.00,-999.000,9,-999.000,9,-999.000,9,   2.7626,2,-999.000,9, -999.00,9, -999.00,-999.000,9,-999.000,   39.89,2,   31.95,2, -31.2144,  30.5986,-999.000,-999.000,20090325,       0153
33RR20090320,        I05,       6,          1,          6,          6,2,20090325,       0115,   -31.2046,    30.6064,       2802,  1897.8,   2.6921,  34.7533,2,  34.7545,2,    188.3,2,   188.2,2,   70.17,2,   29.48,2,    0.00,2,    2.08,2,-999.000,9,-999.000,9,-999.0000,9,  -999.0,9,  -999.0,9,   7.6932,2,    20.00,-999.000,9,-999.000,9,-999.000,9,   2.6912,2,-999.000,9, -999.00,9, -999.00,-999.000,9,-999.000,   39.80,2,   31.34,2, -31.2122,  30.6001,-999.000,-999.000,20090325,       0147
33RR20090320,        I05,       6,          1,          5,          5,2,20090325,       0115,   -31.2046,    30.6064,       2802,  2131.2,   2.5772,  34.7797,2,  34.7818,2,    197.2,2,   198.4,2,   68.86,2,   28.34,2,    0.00,2,    1.98,2,   0.048,2,   0.018,2,   0.0220,2,  2232.2,2,  2343.0,2,   7.7095,2,    20.00,-999.000,9,-999.000,9,-999.000,9,   2.5769,2,-999.000,9, -999.00,9, -999.00,-999.000,9,-999.000,   39.69,2,   29.92,2, -31.2094,  30.6017,-999.000,-999.000,20090325,       0140
33RR20090320,        I05,       6,          1,          4,          4,2,20090325,       0115,   -31.2046,    30.6064,       2802,  2324.6,   2.5228,  34.7931,2,  34.7938,2,    203.8,2,   203.9,2,   65.52,2,   27.69,2,    0.00,2,    1.91,2,-999.000,9,-999.000,9,-999.0000,9,  -999.0,9,  2342.4,2,   7.7191,2,    20.00,-999.000,9,-999.000,9,-999.000,9,   2.5221,2,-999.000,9, -999.00,9, -999.00,-999.000,9,-999.000,   39.77,2,   29.30,2, -31.2075,  30.6027,-999.000,-999.000,20090325,       0134
33RR20090320,        I05,       6,          1,          3,          3,2,20090325,       0115,   -31.2046,    30.6064,       2802,  2509.1,   2.4764,  34.8011,2,  34.8027,2,    208.2,2,   207.7,2,   64.84,2,   27.40,2,    0.00,2,    1.88,2,   0.044,2,   0.025,2,   0.1070,4,  2224.4,2,  2343.4,2,   7.7261,2,    20.00,-999.000,9,-999.000,9,-999.000,9,   2.4756,2,-999.000,9, -999.00,9, -999.00,-999.000,9,-999.000,   39.99,2,   28.63,2, -31.2067,  30.6039,-999.000,-999.000,20090325,       0127
33RR20090320,        I05,       6,          1,          2,          2,2,20090325,       0115,   -31.2046,    30.6064,       2802,  2657.6,   2.4074,  34.8098,2,  34.8121,2,    212.6,2,   212.8,2,   64.15,2,   27.01,2,    0.00,2,    1.84,2,   0.033,6,   0.013,6,   0.0190,6,  2222.0,2,  2341.7,2,   7.7334,2,    20.00,-999.000,9,-999.000,9,-999.000,9,   2.4069,2,-999.000,9, -999.00,9, -999.00,-999.000,9,-999.000,   39.85,2,   28.49,2, -31.2059,  30.6051,-999.000,-999.000,20090325,       0121
33RR20090320,        I05,       6,          1,          1,          1,2,20090325,       0115,   -31.2046,    30.6064,       2802,  2816.5,   2.2889,  34.8139,2,  34.8149,2,    215.9,2,   216.0,2,   65.89,2,   26.83,2,    0.00,2,    1.83,2,   0.039,2,   0.012,2,  -0.0020,2,  2220.8,6,  2344.7,2,   7.7368,2,    20.00,-999.000,9,-999.000,9,-999.000,9,   2.2884,2,-999.000,9, -999.00,9, -999.00,-999.000,9,-999.000,   39.45,2,   28.53,2, -31.2047,  30.6063,-999.000,-999.000,20090325,       0115