BOTTLE,20220814CCHSIOAMB
EXPOCODE,SECT_ID,STNNBR,CASTNO,SAMPNO,BTLNBR,BTLNBR_FLAG_W,DATE,TIME,LATITUDE,LONGITUDE,DEPTH,CTDPRS,CTDTMP,CTDSAL,CTDSAL_FLAG_W,SALNTY,SALNTY_FLAG_W,CTDOXY,CTDOXY_FLAG_W,OXYGEN,OXYGEN_FLAG_W,SILCAT,SILCAT_FLAG_W,NITRAT,NITRAT_FLAG_W,NITRIT,NITRIT_FLAG_W,PHSPHT,PHSPHT_FLAG_W,CFC-11,CFC-11_FLAG_W,CFC-12,CFC-12_FLAG_W,SF6,SF6_FLAG_W,TCARBN,TCARBN_FLAG_W,ALKALI,ALKALI_FLAG_W,PH_TOT,PH_TOT_FLAG_W,PH_TMP,TRITUM,TRITUM_FLAG_W,HELIUM,HELIUM_FLAG_W,DELHE3,DELHE3_FLAG_W,REFTMP,REFTMP_FLAG_W,DELC13,DELC13_FLAG_W,DELC14,DELC14_FLAG_W,C14ERR,NEON,NEON_FLAG_W,NEONER,DOC,DOC_FLAG_W,TDN,TDN_FLAG_W,BTL_LAT,BTL_LON,HELIER,DELHER,BTL_DATE,BTL_TIME
,,,,,,,,,,,METERS,DBAR,ITS-90,PSS-78,,PSS-78,,UMOL/KG,,UMOL/KG,,UMOL/KG,,UMOL/KG,,UMOL/KG,,UMOL/KG,,PMOL/KG,,PMOL/KG,,FMOL/KG,,UMOL/KG,,UMOL/KG,,,,DEG C,TU,,NMOL/KG,,PERCNT,,DEG C,,/MILLE,,/MILLE,,/MILLE,NMOL/KG,,NMOL/KG,UMOL/KG,,UMOL/KG,,,,NMOL/KG,PERCNT,,
33RR20090320,        I05,      32,          1,         36,         36,2,20090331,       0504,   -32.9972,    40.4098,       4995,     7.3,  24.5992,  35.5770,2,  35.5768,2,    210.3,2,   209.7,2,    1.85,2,    0.17,2,    0.00,2,    0.05,2,   1.760,2,   1.098,2,   1.0470,2,  2005.0,6,  2334.1,2,   8.1591,2,    20.00,   0.538,2,-999.000,9,-999.000,9,  24.5944,2,-999.000,9, -999.00,9, -999.00,-999.000,9,-999.000,   66.10,2,    4.84,2, -32.9973,  40.4099,-999.000,-999.000,20090331,       0713
33RR20090320,        I05,      32,          1,         35,         35,2,20090331,       0504,   -32.9972,    40.4098,       4995,    31.3,  21.9881,  35.6405,2,  35.6416,2,    220.0,2,   221.1,2,    1.65,2,    0.18,2,    0.00,2,    0.07,2,   1.979,6,   1.216,6,   1.1100,6,  2030.8,2,  2336.3,2,   8.1235,2,    20.00,   0.549,2,   1.828,2,  -1.812,2,  21.9951,2,-999.000,9, -999.00,9, -999.00,   7.365,2,   0.013,   66.77,2,    4.11,2, -32.9973,  40.4099,   0.001,   0.193,20090331,       0711
33RR20090320,        I05,      32,          1,         34,         34,2,20090331,       0504,   -32.9972,    40.4098,       4995,    55.0,  20.6740,  35.5877,2,  35.5885,2,    225.8,2,   229.1,2,    1.83,2,    0.13,2,    0.00,2,    0.08,2,   2.111,2,   1.278,2,   1.1590,2,  2033.4,2,  2332.4,2,   8.1131,2,    20.00,   0.550,2,   1.811,2,  -1.087,2,  20.6144,2,-999.000,9, -999.00,9, -999.00,   7.412,2,   0.013,   66.46,2,    4.43,2, -32.9972,  40.4098,   0.001,   0.207,20090331,       0710
33RR20090320,        I05,      32,          1,         33,         33,2,20090331,       0504,   -32.9972,    40.4098,       4995,    80.2,  18.9660,  35.5686,2,  35.5684,2,    227.7,2,   221.9,2,    2.21,2,    0.27,2,    0.02,2,    0.16,2,   2.254,2,   1.362,2,   1.2150,2,  2051.4,2,  2333.0,2,   8.0810,2,    20.00,   0.543,2,   1.809,2,  -1.357,2,  18.9501,2,-999.000,9, -999.00,9, -999.00,   7.484,2,   0.014,   61.16,2,    4.38,2, -32.9971,  40.4098,   0.001,   0.210,20090331,       0708
33RR20090320,        I05,      32,          1,         32,         32,2,20090331,       0504,   -32.9972,    40.4098,       4995,   105.3,  18.2287,  35.5546,2,  35.5538,2,    207.7,2,   208.0,2,    2.98,2,    2.78,2,    0.03,2,    0.30,2,   2.300,2,   1.372,2,   1.1850,2,  2068.1,2,  2331.8,2,   8.0488,2,    20.00,   0.512,2,   1.820,2,  -1.471,2,  18.2262,2,-999.000,9, -999.00,9, -999.00,   7.427,2,   0.013,   57.09,2,    6.00,2, -32.9972,  40.4097,   0.000,   0.199,20090331,       0706
33RR20090320,        I05,      32,          1,         31,         31,2,20090331,       0504,   -32.9972,    40.4098,       4995,   155.8,  17.2620,  35.5461,2,  35.5449,2,    208.0,2,   211.6,2,    3.36,2,    3.73,2,    0.01,2,    0.36,2,   2.412,2,   1.428,2,   1.1500,2,  2077.4,2,  2329.4,2,   8.0293,2,    20.00,   0.503,2,   1.849,2,  -0.870,2,  17.2630,2,-999.000,9, -999.00,9, -999.00,   7.721,2,   0.012,   52.75,2,    7.17,2, -32.9971,  40.4097,   0.000,   0.188,20090331,       0704
33RR20090320,        I05,      32,          1,         30,         30,2,20090331,       0504,   -32.9972,    40.4098,       4995,   206.1,  16.7675,  35.5424,2,  35.5416,2,    217.8,2,   216.1,2,    3.54,2,    4.17,2,    0.01,2,    0.38,2,   2.472,2,   1.459,2,   1.2260,2,  2078.8,2,  2330.7,2,   8.0253,2,    20.00,   0.514,2,   1.874,2,  -1.592,2,  16.7664,2,-999.000,9, -999.00,9, -999.00,   7.671,2,   0.012,   51.49,2,    7.17,2, -32.9971,  40.4097,   0.001,   0.188,20090331,       0702
33RR20090320,        I05,      32,          1,         29,         29,2,20090331,       0504,   -32.9972,    40.4098,       4995,   254.4,  16.3610,  35.5220,2,  35.5214,2,    213.0,2,   214.3,2,    3.72,2,    4.94,2,    0.00,2,    0.43,2,   2.514,2,   1.481,2,   1.1970,2,  2086.3,2,  2329.3,2,   8.0121,2,    20.00,   0.552,2,   1.813,2,  -0.855,2,  16.3604,2,-999.000,9, -999.00,9, -999.00,   7.610,2,   0.014,   49.93,2,    7.51,2, -32.9971,  40.4096,   0.001,   0.207,20090331,       0700
33RR20090320,        I05,      32,          1,         28,         28,2,20090331,       0504,   -32.9972,    40.4098,       4995,   305.4,  15.6475,  35.4687,2,  35.4686,2,    207.3,2,   206.3,2,    4.29,2,    6.63,2,    0.00,2,    0.54,2,   2.618,2,   1.508,2,   1.2090,2,  2097.9,2,  2327.0,2,   7.9819,2,    20.00,-999.000,9,   1.798,2,  -0.855,2,  15.6453,2,-999.000,9, -999.00,9, -999.00,   7.424,2,   0.013,   48.66,2,    9.12,2, -32.9971,  40.4096,   0.001,   0.193,20090331,       0658
33RR20090320,        I05,      32,          1,         27,         27,2,20090331,       0504,   -32.9972,    40.4098,       4995,   354.5,  15.0894,  35.4275,2,  35.4274,2,    206.1,2,   206.2,2,    4.48,2,    7.40,2,    0.00,2,    0.59,2,   2.696,2,   1.536,2,   1.1290,2,  2105.0,2,  2325.4,2,   7.9679,2,    20.00,   0.496,2,   1.684,2,   0.004,2,  15.0888,2,-999.000,9, -999.00,9, -999.00,   6.737,4,   0.011,   47.89,2,    9.71,2, -32.9971,  40.4096,   0.001,   0.205,20090331,       0657
33RR20090320,        I05,      32,          1,         26,         26,2,20090331,       0504,   -32.9972,    40.4098,       4995,   403.9,  14.2631,  35.3527,2,  35.3517,2,    209.8,2,   210.2,2,    4.85,2,    8.50,2,    0.00,2,    0.65,2,   2.816,2,   1.590,2,   1.1400,2,  2111.0,2,  2323.6,2,   7.9518,2,    20.00,   0.405,2,   1.809,2,  -0.725,2,  14.2585,2,-999.000,9, -999.00,9, -999.00,   7.525,2,   0.013,   46.92,2,    9.85,2, -32.9971,  40.4095,   0.001,   0.181,20090331,       0655
33RR20090320,        I05,      32,          1,         25,         25,2,20090331,       0504,   -32.9972,    40.4098,       4995,   504.2,  13.3320,  35.2656,2,  35.2656,2,    214.4,2,   215.1,2,    4.64,2,    9.81,2,    0.00,2,    0.74,2,   2.991,2,   1.659,2,   1.0180,2,  2115.4,2,  2318.1,2,   7.9338,2,    20.00,   0.382,2,   1.872,2,  -0.832,2,  13.3313,2,-999.000,9, -999.00,9, -999.00,-999.000,5,-999.000,   45.98,2,   11.21,2, -32.9971,  40.4094,   0.001,   0.198,20090331,       0652
33RR20090320,        I05,      32,          1,         24,         24,2,20090331,       0504,   -32.9972,    40.4098,       4995,   604.0,  12.2560,  35.1152,2,  35.1155,2,    218.1,2,   217.4,2,    5.03,2,   11.83,2,    0.00,2,    0.87,2,   3.126,2,   1.676,2,   0.9520,2,  2121.4,2,  2313.7,2,   7.9098,2,    20.00,-999.000,9,-999.000,9,-999.000,9,  12.2560,2,-999.000,9, -999.00,9, -999.00,-999.000,9,-999.000,   44.88,2,   13.37,2, -32.9971,  40.4094,-999.000,-999.000,20090331,       0649
33RR20090320,        I05,      32,          1,         23,         23,2,20090331,       0504,   -32.9972,    40.4098,       4995,   704.5,  11.0227,  34.9368,2,  34.9377,2,    217.9,2,   217.7,2,    5.99,2,   14.39,2,    0.00,2,    1.04,2,   3.173,2,   1.656,2,   0.8560,2,  2126.8,2,  2303.1,2,   7.8795,2,    20.00,   0.275,2,   1.974,2,   0.162,2,  11.0274,2,-999.000,9, -999.00,9, -999.00,   8.232,2,   0.018,   43.96,2,   16.19,2, -32.9971,  40.4093,   0.001,   0.182,20090331,       0646
33RR20090320,        I05,      32,          1,         22,         22,2,20090331,       0504,   -32.9972,    40.4098,       4995,   804.0,   9.8972,  34.7904,2,  34.7908,2,    214.3,2,   214.3,2,    8.12,2,   17.28,2,    0.00,2,    1.22,2,   3.040,2,   1.564,2,   0.7630,2,  2136.3,2,  2300.8,2,   7.8472,2,    20.00,-999.000,9,   1.915,2,   0.556,2,   9.8993,2,-999.000,9, -999.00,9, -999.00,   8.048,2,   0.015,   42.40,2,   18.74,2, -32.9971,  40.4093,   0.001,   0.194,20090331,       0643
33RR20090320,        I05,      32,          1,         21,         21,2,20090331,       0504,   -32.9972,    40.4098,       4995,   902.9,   8.4237,  34.6328,2,  34.6336,2,    204.0,2,   203.2,2,   13.75,2,   21.83,2,    0.00,2,    1.53,2,   2.651,2,   1.346,2,   0.5830,2,  2155.4,2,  2297.1,2,   7.7942,2,    20.00,   0.259,2,   1.861,2,   1.769,2,   8.4138,2,-999.000,9, -999.00,9, -999.00,   7.938,2,   0.015,   41.63,2,   23.68,2, -32.9971,  40.4092,   0.001,   0.194,20090331,       0640
33RR20090320,        I05,      32,          1,         20,         20,2,20090331,       0504,   -32.9972,    40.4098,       4995,  1003.1,   6.7183,  34.4798,2,  34.4804,2,    201.6,2,   201.1,2,   20.58,2,   26.15,2,    0.00,2,    1.85,2,   2.494,2,   1.257,2,   0.5750,2,  2171.5,2,  2296.2,2,   7.7436,2,    20.00,-999.000,9,   1.867,2,   2.117,2,   6.7080,2,-999.000,9, -999.00,9, -999.00,   7.996,2,   0.015,   40.94,2,   27.35,2, -32.9972,  40.4092,   0.001,   0.194,20090331,       0638
33RR20090320,        I05,      32,          1,         19,         19,2,20090331,       0504,   -32.9972,    40.4098,       4995,  1103.5,   5.4222,  34.3989,2,  34.3997,2,    202.6,2,   204.8,2,   27.23,2,   28.69,2,    0.00,2,    2.03,2,   2.352,2,   1.183,2,   0.5050,2,  2185.3,2,  2298.0,2,   7.7155,2,    20.00,   0.113,2,   1.918,2,   2.312,2,   5.4219,2,-999.000,9, -999.00,9, -999.00,   8.223,2,   0.010,   40.46,2,   30.45,2, -32.9972,  40.4091,   0.001,   0.193,20090331,       0634
33RR20090320,        I05,      32,          1,         18,         18,2,20090331,       0504,   -32.9972,    40.4098,       4995,  1202.2,   4.7155,  34.4146,2,  34.4143,2,    193.3,2,   192.8,2,   37.23,2,   30.78,2,    0.00,2,    2.20,2,   1.732,2,   0.869,2,   0.3840,2,  2203.3,2,  2305.6,2,   7.6899,2,    20.00,-999.000,9,   1.926,2,   3.640,2,   4.7152,2,-999.000,9, -999.00,9, -999.00,   8.344,2,   0.010,   40.52,2,   32.54,2, -32.9972,  40.4091,   0.000,   0.185,20090331,       0631
33RR20090320,        I05,      32,          1,         17,         17,2,20090331,       0504,   -32.9972,    40.4098,       4995,  1302.9,   4.1600,  34.4298,2,  34.4300,2,    185.8,2,   186.2,2,   44.90,2,   32.06,2,    0.00,2,    2.29,2,   1.428,2,   0.710,2,   0.3140,2,  2218.8,2,  2314.6,2,   7.6709,2,    20.00,   0.066,2,   1.893,2,   4.890,2,   4.1598,2,-999.000,9, -999.00,9, -999.00,   8.149,2,   0.014,   40.43,2,   33.63,2, -32.9973,  40.4091,   0.001,   0.198,20090331,       0628
33RR20090320,        I05,      32,          1,         16,         16,2,20090331,       0504,   -32.9972,    40.4098,       4995,  1402.0,   3.8204,  34.4674,2,  34.4676,2,    177.0,2,   178.0,2,   52.19,2,   33.06,2,    0.00,2,    2.36,2,   1.049,2,   0.518,2,   0.2040,2,  2230.8,2,  2319.6,2,   7.6570,2,    20.00,-999.000,9,   1.816,2,   4.845,2,   3.8198,2,-999.000,9, -999.00,9, -999.00,   8.125,2,   0.015,   40.46,2,   34.40,2, -32.9973,  40.4090,   0.001,   0.194,20090331,       0625
33RR20090320,        I05,      32,          1,         15,         15,2,20090331,       0504,   -32.9972,    40.4098,       4995,  1604.6,   3.2815,  34.5678,2,  34.5674,2,    169.3,2,   168.1,2,   65.26,2,   33.66,2,    0.00,2,    2.41,2,   0.453,2,   0.228,2,   0.1760,3,  2246.6,6,  2335.9,2,   7.6448,2,    20.00,   0.002,2,   1.861,2,   8.453,2,   3.2809,2,-999.000,9, -999.00,9, -999.00,   7.749,2,   0.014,   40.35,2,   34.98,2, -32.9974,  40.4091,   0.001,   0.195,20090331,       0621
33RR20090320,        I05,      32,          1,         14,         14,2,20090331,       0504,   -32.9972,    40.4098,       4995,  1805.8,   2.9462,  34.6528,2,  34.6527,2,    173.7,2,   173.3,2,   69.21,2,   32.50,2,    0.00,2,    2.32,2,   0.198,2,   0.100,2,   0.0000,2,  2248.1,2,  2340.1,2,   7.6582,2,    20.00,   0.001,2,   1.995,2,   8.026,2,   2.9463,2,-999.000,9, -999.00,9, -999.00,   8.574,2,   0.011,   40.15,2,   33.72,2, -32.9974,  40.4091,   0.000,   0.185,20090331,       0616
33RR20090320,        I05,      32,          1,         13,         13,2,20090331,       0504,   -32.9972,    40.4098,       4995,  2006.6,   2.7878,  34.7197,2,  34.7199,2,    182.2,2,   180.4,2,   71.78,2,   31.07,2,    0.00,2,    2.22,2,   0.082,2,   0.043,2,   0.0000,2,  2247.0,2,  2345.5,2,   7.6782,2,    20.00,-999.000,9,   1.925,2,   8.041,2,   2.7824,2,-999.000,9, -999.00,9, -999.00,   8.323,2,   0.020,   39.73,2,   32.74,2, -32.9974,  40.4091,   0.001,   0.195,20090331,       0611
33RR20090320,        I05,      32,          1,         12,         12,2,20090331,       0504,   -32.9972,    40.4098,       4995,  2257.7,   2.6414,  34.7612,2,  34.7614,2,    192.8,2,   203.0,4,   68.39,2,   29.57,2,    0.00,2,    2.10,2,   0.044,2,   0.024,2,   0.0000,2,  2238.8,2,  2344.6,2,   7.7001,2,    20.00,-999.000,9,   1.955,2,   7.438,2,   2.6412,2,-999.000,9, -999.00,9, -999.00,   8.492,2,   0.011,   39.84,2,   30.92,2, -32.9974,  40.4092,   0.000,   0.196,20090331,       0606
33RR20090320,        I05,      32,          1,         11,         11,2,20090331,       0504,   -32.9972,    40.4098,       4995,  2508.8,   2.4825,  34.7912,2,  34.7899,2,    201.4,2,   202.9,2,   67.79,2,   28.31,2,    0.00,2,    2.00,2,   0.024,6,   0.013,6,   0.0000,6,  2230.7,2,  2347.1,2,   7.7181,2,    20.00,   0.001,2,   1.938,2,   7.499,2,   2.4824,2,-999.000,9, -999.00,9, -999.00,   8.462,2,   0.011,   39.76,2,   30.16,2, -32.9974,  40.4092,   0.000,   0.184,20090331,       0600
33RR20090320,        I05,      32,          1,         10,         10,2,20090331,       0504,   -32.9972,    40.4098,       4995,  2763.5,   2.3537,  34.8031,2,  34.8034,2,    208.8,2,   208.9,2,   68.17,2,   27.71,2,    0.00,2,    1.95,2,   0.021,2,   0.010,2,   0.0000,2,  2228.4,2,  2346.6,2,   7.7280,2,    20.00,-999.000,9,   1.965,2,   7.079,2,   2.3532,2,-999.000,9, -999.00,9, -999.00,   8.501,2,   0.011,   39.85,2,   29.36,2, -32.9975,  40.4092,   0.000,   0.185,20090331,       0554
33RR20090320,        I05,      32,          1,          9,          9,2,20090331,       0504,   -32.9972,    40.4098,       4995,  3017.2,   2.2128,  34.8065,2,  34.8070,2,    212.4,2,   213.2,2,   70.15,2,   27.39,2,    0.00,2,    1.93,2,   0.019,2,   0.011,2,   0.0000,2,  2227.1,2,  2349.7,2,   7.7331,2,    20.00,-999.000,9,-999.000,9,-999.000,9,   2.2135,2,-999.000,9, -999.00,9, -999.00,-999.000,9,-999.000,   40.03,2,   28.61,2, -32.9974,  40.4093,-999.000,-999.000,20090331,       0549
33RR20090320,        I05,      32,          1,          8,          8,2,20090331,       0504,   -32.9972,    40.4098,       4995,  3319.7,   1.9612,  34.7951,2,  34.7956,2,    215.4,2,   215.0,2,   77.30,2,   27.93,2,    0.00,2,    1.96,2,   0.022,2,   0.012,2,   0.0000,2,  2231.0,2,  2350.9,2,   7.7297,2,    20.00,-999.000,9,   1.960,2,   6.706,2,   1.9615,2,-999.000,9, -999.00,9, -999.00,   8.581,2,   0.011,   40.20,2,   28.96,2, -32.9974,  40.4093,   0.000,   0.184,20090331,       0542
33RR20090320,        I05,      32,          1,          7,          7,2,20090331,       0504,   -32.9972,    40.4098,       4995,  3625.3,   1.6344,  34.7737,2,  34.7748,2,    216.3,2,   215.7,2,   87.46,2,   28.81,2,    0.00,2,    2.03,2,   0.032,2,   0.018,2,   0.0400,2,  2239.9,2,  2357.7,2,   7.7217,2,    20.00,-999.000,9,-999.000,9,-999.000,9,   1.6355,2,-999.000,9, -999.00,9, -999.00,-999.000,9,-999.000,   40.08,2,   29.86,2, -32.9973,  40.4094,-999.000,-999.000,20090331,       0536
33RR20090320,        I05,      32,          1,          6,          6,2,20090331,       0504,   -32.9972,    40.4098,       4995,  3930.8,   1.2441,  34.7457,2,  34.7453,2,    217.0,2,   216.5,2,  100.26,2,   30.08,2,    0.00,2,    2.14,2,   0.046,2,   0.024,2,   0.0000,2,  2246.4,2,  2361.1,2,   7.7109,2,    20.00,-999.000,9,   1.966,2,   6.300,2,   1.2437,2,-999.000,9, -999.00,9, -999.00,   8.615,2,   0.011,   39.71,2,   31.80,2, -32.9973,  40.4095,   0.000,   0.184,20090331,       0529
33RR20090320,        I05,      32,          1,          5,          5,2,20090331,       0504,   -32.9972,    40.4098,       4995,  4235.5,   0.9198,  34.7219,2,  34.7219,2,    218.0,2,   218.3,2,  110.89,2,   30.97,2,    0.00,2,    2.22,2,   0.068,2,   0.036,2,   0.0000,2,  2254.6,2,  2367.1,2,   7.7023,2,    20.00,-999.000,9,-999.000,9,-999.000,9,   0.9197,2,-999.000,9, -999.00,9, -999.00,-999.000,9,-999.000,   39.90,2,   32.29,2, -32.9973,  40.4097,-999.000,-999.000,20090331,       0523
33RR20090320,        I05,      32,          1,          4,          4,2,20090331,       0504,   -32.9972,    40.4098,       4995,  4542.1,   0.7413,  34.7073,2,  34.7071,2,    218.8,2,   218.6,2,  116.72,2,   31.52,2,    0.00,2,    2.25,2,   0.096,2,   0.050,2,   0.0000,2,  2259.5,2,  2366.1,2,   7.6989,2,    20.00,-999.000,9,   1.978,2,   7.047,2,   0.7415,2,-999.000,9, -999.00,9, -999.00,   8.635,2,   0.011,   39.77,2,   33.12,2, -32.9973,  40.4098,   0.001,   0.185,20090331,       0517
33RR20090320,        I05,      32,          1,          3,          3,2,20090331,       0504,   -32.9972,    40.4098,       4995,  4849.4,   0.6592,  34.6987,2,  34.6981,2,    219.6,2,   219.1,2,  120.53,2,   31.85,2,    0.00,2,    2.28,2,   0.134,6,   0.068,6,   0.0000,6,  2260.8,2,  2368.1,2,   7.6927,2,    20.00,-999.000,9,-999.000,9,-999.000,9,   0.6595,2,-999.000,9, -999.00,9, -999.00,-999.000,9,-999.000,   40.12,2,   33.55,2, -32.9974,  40.4099,-999.000,-999.000,20090331,       0510
33RR20090320,        I05,      32,          1,          2,          2,2,20090331,       0504,   -32.9972,    40.4098,       4995,  4951.6,   0.6410,  34.6966,2,  34.6960,2,    219.8,2,   219.8,2,  121.32,2,   31.97,2,    0.00,2,    2.28,2,   0.148,2,   0.073,2,   0.0000,2,  2262.2,2,  2367.2,2,   7.6924,2,    20.00,-999.000,9,   2.002,2,   6.977,2,   0.6411,2,-999.000,9, -999.00,9, -999.00,   8.692,2,   0.011,   40.01,2,   33.52,2, -32.9973,  40.4099,   0.000,   0.186,20090331,       0507
33RR20090320,        I05,      32,          1,          1,          1,2,20090331,       0504,   -32.9972,    40.4098,       4995,  5072.6,   0.6145,  34.6934,2,  34.6932,2,    219.5,2,   219.8,2,  122.52,2,   32.07,2,    0.00,2,    2.30,2,   0.171,2,   0.084,2,   0.0000,2,  2262.9,6,  2366.2,2,   7.6897,2,    20.00,   0.001,2,   2.051,2,   6.760,2,   0.6143,2,-999.000,9, -999.00,9, -999.00,   8.918,2,   0.011,   39.91,2,   33.31,2, -32.9972,  40.4098,   0.000,   0.186,20090331,       0504