BOTTLE,20220814CCHSIOAMB
EXPOCODE,SECT_ID,STNNBR,CASTNO,SAMPNO,BTLNBR,BTLNBR_FLAG_W,DATE,TIME,LATITUDE,LONGITUDE,DEPTH,CTDPRS,CTDTMP,CTDSAL,CTDSAL_FLAG_W,SALNTY,SALNTY_FLAG_W,CTDOXY,CTDOXY_FLAG_W,OXYGEN,OXYGEN_FLAG_W,SILCAT,SILCAT_FLAG_W,NITRAT,NITRAT_FLAG_W,NITRIT,NITRIT_FLAG_W,PHSPHT,PHSPHT_FLAG_W,CFC-11,CFC-11_FLAG_W,CFC-12,CFC-12_FLAG_W,SF6,SF6_FLAG_W,TCARBN,TCARBN_FLAG_W,ALKALI,ALKALI_FLAG_W,PH_TOT,PH_TOT_FLAG_W,PH_TMP,TRITUM,TRITUM_FLAG_W,HELIUM,HELIUM_FLAG_W,DELHE3,DELHE3_FLAG_W,REFTMP,REFTMP_FLAG_W,DELC13,DELC13_FLAG_W,DELC14,DELC14_FLAG_W,C14ERR,NEON,NEON_FLAG_W,NEONER,DOC,DOC_FLAG_W,TDN,TDN_FLAG_W,BTL_LAT,BTL_LON,HELIER,DELHER,BTL_DATE,BTL_TIME
,,,,,,,,,,,METERS,DBAR,ITS-90,PSS-78,,PSS-78,,UMOL/KG,,UMOL/KG,,UMOL/KG,,UMOL/KG,,UMOL/KG,,UMOL/KG,,PMOL/KG,,PMOL/KG,,FMOL/KG,,UMOL/KG,,UMOL/KG,,,,DEG C,TU,,NMOL/KG,,PERCNT,,DEG C,,/MILLE,,/MILLE,,/MILLE,NMOL/KG,,NMOL/KG,UMOL/KG,,UMOL/KG,,,,NMOL/KG,PERCNT,,
33RR20090320,        I05,     126,          2,         36,         36,2,20090425,       1650,   -31.2911,    85.5373,       3899,     3.6,  20.8526,  35.8943,2,  35.8950,2,    223.5,2,   224.9,2,    1.64,2,    0.17,2,    0.00,2,    0.14,2,-999.000,9,-999.000,9,-999.0000,9,  2069.5,6,  2359.9,2,   8.0917,2,    20.00,-999.000,9,-999.000,9,-999.000,9,  20.8503,2,-999.000,9, -999.00,9, -999.00,-999.000,9,-999.000, -999.00,9, -999.00,9, -31.2910,  85.5379,-999.000,-999.000,20090425,       1839
33RR20090320,        I05,     126,          2,         35,         35,2,20090425,       1650,   -31.2911,    85.5373,       3899,    35.8,  20.8603,  35.8966,2,  35.9308,2,    226.1,2,   224.9,2,    1.62,2,    0.17,2,    0.00,2,    0.13,2,-999.000,9,-999.000,9,-999.0000,9,  2070.7,2,  2360.2,2,   8.0915,2,    20.00,-999.000,9,-999.000,9,-999.000,9,  20.8576,2,-999.000,9, -999.00,9, -999.00,-999.000,9,-999.000, -999.00,9, -999.00,9, -31.2910,  85.5379,-999.000,-999.000,20090425,       1837
33RR20090320,        I05,     126,          2,         34,         34,2,20090425,       1650,   -31.2911,    85.5373,       3899,    60.9,  20.4265,  35.9423,2,  35.9591,2,    226.1,2,   230.8,2,    1.60,2,    0.17,2,    0.00,2,    0.13,2,-999.000,9,-999.000,9,-999.0000,9,  2073.4,2,  2362.1,2,   8.0902,2,    20.00,-999.000,9,-999.000,9,-999.000,9,  20.3978,2,-999.000,9, -999.00,9, -999.00,-999.000,9,-999.000, -999.00,9, -999.00,9, -31.2910,  85.5379,-999.000,-999.000,20090425,       1836
33RR20090320,        I05,     126,          2,         33,         33,2,20090425,       1650,   -31.2911,    85.5373,       3899,    85.2,  16.7423,  35.6599,2,  35.6622,2,    256.6,2,   256.2,2,    1.40,2,    0.17,2,    0.00,2,    0.17,2,-999.000,9,-999.000,9,-999.0000,9,  2075.7,2,  2345.2,2,   8.0629,2,    20.00,-999.000,9,-999.000,9,-999.000,9,  16.7384,2,-999.000,9, -999.00,9, -999.00,-999.000,9,-999.000, -999.00,9, -999.00,9, -31.2909,  85.5379,-999.000,-999.000,20090425,       1834
33RR20090320,        I05,     126,          2,         32,         32,2,20090425,       1650,   -31.2911,    85.5373,       3899,   109.7,  15.5706,  35.5721,2,  35.5803,2,    246.7,2,   245.9,2,    1.56,2,    0.36,2,    0.01,2,    0.23,2,-999.000,9,-999.000,9,-999.0000,9,  2089.3,2,  -999.0,5,   8.0331,2,    20.00,-999.000,9,-999.000,9,-999.000,9,  15.5632,2,-999.000,9, -999.00,9, -999.00,-999.000,9,-999.000, -999.00,9, -999.00,9, -31.2909,  85.5378,-999.000,-999.000,20090425,       1832
33RR20090320,        I05,     126,          2,         31,         31,2,20090425,       1650,   -31.2911,    85.5373,       3899,   135.3,  14.6658,  35.4652,2,  35.4558,2,    231.1,2,   231.0,2,    1.89,2,    3.86,2,    0.13,2,    0.42,2,-999.000,9,-999.000,9,-999.0000,9,  2105.1,2,  2333.4,2,   7.9898,2,    20.00,-999.000,9,-999.000,9,-999.000,9,  14.6645,2,-999.000,9, -999.00,9, -999.00,-999.000,9,-999.000, -999.00,9, -999.00,9, -31.2909,  85.5378,-999.000,-999.000,20090425,       1831
33RR20090320,        I05,     126,          2,         30,         30,2,20090425,       1650,   -31.2911,    85.5373,       3899,   165.2,  14.0759,  35.3779,2,  35.3807,2,    227.8,2,   228.2,2,    2.06,2,    5.33,2,    0.02,2,    0.50,2,-999.000,9,-999.000,9,-999.0000,9,  -999.0,9,  -999.0,9,-999.0000,9,  -999.00,-999.000,9,-999.000,9,-999.000,9,  14.0839,2,-999.000,9, -999.00,9, -999.00,-999.000,9,-999.000, -999.00,9, -999.00,9, -31.2909,  85.5378,-999.000,-999.000,20090425,       1829
33RR20090320,        I05,     126,          2,         29,         29,2,20090425,       1650,   -31.2911,    85.5373,       3899,   215.2,  13.1332,  35.2424,2,  35.2465,2,    230.5,2,   230.8,2,    2.39,2,    7.22,2,    0.00,2,    0.61,2,-999.000,9,-999.000,9,-999.0000,9,  2112.8,2,  2320.0,2,   7.9494,2,    20.00,-999.000,9,-999.000,9,-999.000,9,  13.1309,2,-999.000,9, -999.00,9, -999.00,-999.000,9,-999.000, -999.00,9, -999.00,9, -31.2909,  85.5377,-999.000,-999.000,20090425,       1827
33RR20090320,        I05,     126,          2,         28,         28,2,20090425,       1650,   -31.2911,    85.5373,       3899,   264.8,  12.5683,  35.1677,2,  35.1647,2,    232.1,2,   233.1,2,    2.73,2,    8.53,2,    0.00,2,    0.68,2,-999.000,9,-999.000,9,-999.0000,9,  -999.0,9,  -999.0,9,-999.0000,9,  -999.00,-999.000,9,-999.000,9,-999.000,9,  12.5946,2,-999.000,9, -999.00,9, -999.00,-999.000,9,-999.000, -999.00,9, -999.00,9, -31.2909,  85.5377,-999.000,-999.000,20090425,       1825
33RR20090320,        I05,     126,          2,         27,         27,2,20090425,       1650,   -31.2911,    85.5373,       3899,   314.8,  12.0204,  35.0855,2,  35.0905,2,    235.2,2,   235.2,2,    3.08,2,    9.53,2,    0.00,2,    0.74,2,-999.000,9,-999.000,9,-999.0000,9,  2117.8,2,  2312.0,2,   7.9246,2,    20.00,-999.000,9,-999.000,9,-999.000,9,  12.0665,2,-999.000,9, -999.00,9, -999.00,-999.000,9,-999.000, -999.00,9, -999.00,9, -31.2909,  85.5377,-999.000,-999.000,20090425,       1824
33RR20090320,        I05,     126,          2,         26,         26,2,20090425,       1650,   -31.2911,    85.5373,       3899,   364.6,  11.4982,  35.0119,2,  35.0157,2,    237.3,2,   237.6,2,    3.42,2,   10.68,2,    0.00,2,    0.81,2,-999.000,9,-999.000,9,-999.0000,9,  -999.0,9,  -999.0,9,-999.0000,9,  -999.00,-999.000,9,-999.000,9,-999.000,9,  11.5145,2,-999.000,9, -999.00,9, -999.00,-999.000,9,-999.000, -999.00,9, -999.00,9, -31.2909,  85.5378,-999.000,-999.000,20090425,       1822
33RR20090320,        I05,     126,          2,         25,         25,2,20090425,       1650,   -31.2911,    85.5373,       3899,   414.8,  10.9970,  34.9353,2,  34.9437,2,    237.8,2,   237.8,2,    3.75,2,   11.88,2,    0.00,2,    0.89,2,-999.000,9,-999.000,9,-999.0000,9,  2121.3,2,  2304.4,2,   7.9018,2,    20.00,-999.000,9,-999.000,9,-999.000,9,  11.0001,2,-999.000,9, -999.00,9, -999.00,-999.000,9,-999.000, -999.00,9, -999.00,9, -31.2909,  85.5378,-999.000,-999.000,20090425,       1820
33RR20090320,        I05,     126,          2,         24,         24,2,20090425,       1650,   -31.2911,    85.5373,       3899,   464.6,  10.7080,  34.8932,2,  34.8890,2,    238.1,2,   238.2,2,    4.09,2,   12.82,2,    0.00,2,    0.94,2,-999.000,9,-999.000,9,-999.0000,9,  -999.0,9,  -999.0,9,-999.0000,9,  -999.00,-999.000,9,-999.000,9,-999.000,9,  10.7060,2,-999.000,9, -999.00,9, -999.00,-999.000,9,-999.000, -999.00,9, -999.00,9, -31.2910,  85.5378,-999.000,-999.000,20090425,       1818
33RR20090320,        I05,     126,          2,         23,         23,2,20090425,       1650,   -31.2911,    85.5373,       3899,   535.3,  10.1737,  34.8111,2,  34.8119,2,    238.0,2,   238.7,2,    4.43,2,   14.13,2,    0.00,2,    1.03,2,-999.000,9,-999.000,9,-999.0000,9,  -999.0,9,  -999.0,9,-999.0000,9,  -999.00,-999.000,9,-999.000,9,-999.000,9,  10.1727,2,-999.000,9, -999.00,9, -999.00,-999.000,9,-999.000, -999.00,9, -999.00,9, -31.2909,  85.5377,-999.000,-999.000,20090425,       1816
33RR20090320,        I05,     126,          2,         22,         22,2,20090425,       1650,   -31.2911,    85.5373,       3899,   634.7,   9.4734,  34.7086,2,  34.7091,2,    235.7,2,   236.5,2,    5.13,2,   16.23,2,    0.00,2,    1.16,2,-999.000,9,-999.000,9,-999.0000,9,  -999.0,9,  -999.0,9,-999.0000,9,  -999.00,-999.000,9,-999.000,9,-999.000,9,   9.4742,2,-999.000,9, -999.00,9, -999.00,-999.000,9,-999.000, -999.00,9, -999.00,9, -31.2909,  85.5377,-999.000,-999.000,20090425,       1813
33RR20090320,        I05,     126,          2,         21,         21,2,20090425,       1650,   -31.2911,    85.5373,       3899,   735.1,   8.6814,  34.6123,2,  34.6140,2,    223.4,2,   223.9,2,    7.81,2,   19.59,2,    0.00,2,    1.37,2,-999.000,9,-999.000,9,-999.0000,9,  -999.0,9,  -999.0,9,-999.0000,9,  -999.00,-999.000,9,-999.000,9,-999.000,9,   8.6812,2,-999.000,9, -999.00,9, -999.00,-999.000,9,-999.000, -999.00,9, -999.00,9, -31.2910,  85.5376,-999.000,-999.000,20090425,       1810
33RR20090320,        I05,     126,          2,         20,         20,2,20090425,       1650,   -31.2911,    85.5373,       3899,   835.5,   7.2769,  34.4946,2,  34.4936,2,    207.0,2,   205.2,2,   15.20,2,   24.76,2,    0.00,2,    1.71,2,-999.000,9,-999.000,9,-999.0000,9,  -999.0,9,  -999.0,9,-999.0000,9,  -999.00,-999.000,9,-999.000,9,-999.000,9,   7.2697,2,-999.000,9, -999.00,9, -999.00,-999.000,9,-999.000, -999.00,9, -999.00,9, -31.2910,  85.5376,-999.000,-999.000,20090425,       1808
33RR20090320,        I05,     126,          2,         19,         19,2,20090425,       1650,   -31.2911,    85.5373,       3899,   935.6,   5.7712,  34.4022,2,  34.4027,2,    200.4,2,   201.7,2,   24.06,2,   28.46,2,    0.00,2,    1.98,2,-999.000,9,-999.000,9,-999.0000,9,  2180.9,2,  2294.5,2,   7.7224,2,    20.00,-999.000,9,-999.000,9,-999.000,9,   5.7659,2,-999.000,9, -999.00,9, -999.00,-999.000,9,-999.000, -999.00,9, -999.00,9, -31.2910,  85.5376,-999.000,-999.000,20090425,       1805
33RR20090320,        I05,     126,          2,         18,         18,2,20090425,       1650,   -31.2911,    85.5373,       3899,  1040.7,   4.7885,  34.3853,2,  34.3864,2,    192.7,2,   193.1,2,   34.60,2,   31.06,2,    0.00,2,    2.18,2,-999.000,9,-999.000,9,-999.0000,9,  -999.0,9,  -999.0,9,-999.0000,9,  -999.00,-999.000,9,-999.000,9,-999.000,9,   4.7899,2,-999.000,9, -999.00,9, -999.00,-999.000,9,-999.000, -999.00,9, -999.00,9, -31.2910,  85.5377,-999.000,-999.000,20090425,       1802
33RR20090320,        I05,     126,          2,         17,         17,2,20090425,       1650,   -31.2911,    85.5373,       3899,  1136.4,   4.1484,  34.4058,2,  34.4056,2,    183.2,2,   183.3,2,   45.18,2,   32.71,2,    0.00,2,    2.31,2,-999.000,9,-999.000,9,-999.0000,9,  -999.0,9,  -999.0,9,-999.0000,9,  -999.00,-999.000,9,-999.000,9,-999.000,9,   4.1476,2,-999.000,9, -999.00,9, -999.00,-999.000,9,-999.000, -999.00,9, -999.00,9, -31.2910,  85.5376,-999.000,-999.000,20090425,       1800
33RR20090320,        I05,     126,          2,         16,         16,2,20090425,       1650,   -31.2911,    85.5373,       3899,  1235.9,   3.7933,  34.4765,2,  34.4751,2,    163.3,2,   162.4,2,   60.77,2,   34.36,2,    0.00,2,    2.45,2,-999.000,9,-999.000,9,-999.0000,9,  -999.0,9,  -999.0,9,-999.0000,9,  -999.00,-999.000,9,-999.000,9,-999.000,9,   3.7917,2,-999.000,9, -999.00,9, -999.00,-999.000,9,-999.000, -999.00,9, -999.00,9, -31.2909,  85.5376,-999.000,-999.000,20090425,       1757
33RR20090320,        I05,     126,          2,         15,         15,2,20090425,       1650,   -31.2911,    85.5373,       3899,  1336.8,   3.5209,  34.5202,2,  34.5201,2,    156.3,2,   155.7,2,   69.06,2,   34.94,2,    0.00,2,    2.50,2,-999.000,9,-999.000,9,-999.0000,9,  -999.0,9,  -999.0,9,-999.0000,9,  -999.00,-999.000,9,-999.000,9,-999.000,9,   3.5222,2,-999.000,9, -999.00,9, -999.00,-999.000,9,-999.000, -999.00,9, -999.00,9, -31.2909,  85.5376,-999.000,-999.000,20090425,       1754
33RR20090320,        I05,     126,          2,         14,         14,2,20090425,       1650,   -31.2911,    85.5373,       3899,  1437.4,   3.2608,  34.5595,2,  34.5602,2,    153.6,2,   154.4,2,   75.33,2,   35.05,2,    0.00,2,    2.49,2,-999.000,9,-999.000,9,-999.0000,9,  -999.0,9,  -999.0,9,-999.0000,9,  -999.00,-999.000,9,-999.000,9,-999.000,9,   3.2588,2,-999.000,9, -999.00,9, -999.00,-999.000,9,-999.000, -999.00,9, -999.00,9, -31.2909,  85.5376,-999.000,-999.000,20090425,       1752
33RR20090320,        I05,     126,          2,         13,         13,2,20090425,       1650,   -31.2911,    85.5373,       3899,  1537.4,   3.0725,  34.5936,2,  34.5939,2,    154.5,2,   154.7,2,   79.20,2,   34.99,2,    0.00,2,    2.48,2,-999.000,9,-999.000,9,-999.0000,9,  2262.0,2,  2347.1,2,   7.6330,2,    20.00,-999.000,9,-999.000,9,-999.000,9,   3.0717,2,-999.000,9, -999.00,9, -999.00,-999.000,9,-999.000, -999.00,9, -999.00,9, -31.2909,  85.5376,-999.000,-999.000,20090425,       1749
33RR20090320,        I05,     126,          2,         12,         12,2,20090425,       1650,   -31.2911,    85.5373,       3899,  1633.2,   2.9384,  34.6221,2,  34.6230,2,    155.4,2,   155.8,2,   82.89,2,   34.73,2,    0.00,2,    2.47,2,-999.000,9,-999.000,9,-999.0000,9,  -999.0,9,  -999.0,9,-999.0000,9,  -999.00,-999.000,9,-999.000,9,-999.000,9,   2.9379,2,-999.000,9, -999.00,9, -999.00,-999.000,9,-999.000, -999.00,9, -999.00,9, -31.2909,  85.5376,-999.000,-999.000,20090425,       1746
33RR20090320,        I05,     126,          2,         11,         11,2,20090425,       1650,   -31.2911,    85.5373,       3899,  1733.0,   2.7955,  34.6473,2,  34.6474,2,    157.9,2,   158.2,2,   86.04,2,   34.41,2,    0.00,2,    2.44,2,-999.000,9,-999.000,9,-999.0000,9,  -999.0,9,  -999.0,9,-999.0000,9,  -999.00,-999.000,9,-999.000,9,-999.000,9,   2.7957,2,-999.000,9, -999.00,9, -999.00,-999.000,9,-999.000, -999.00,9, -999.00,9, -31.2909,  85.5377,-999.000,-999.000,20090425,       1743
33RR20090320,        I05,     126,          2,         10,         10,2,20090425,       1650,   -31.2911,    85.5373,       3899,  1864.8,   2.6384,  34.6764,2,  34.6765,2,    161.8,2,   162.0,2,   89.93,2,   34.02,2,    0.00,2,    2.41,2,-999.000,9,-999.000,9,-999.0000,9,  -999.0,9,  -999.0,9,-999.0000,9,  -999.00,-999.000,9,-999.000,9,-999.000,9,   2.6382,2,-999.000,9, -999.00,9, -999.00,-999.000,9,-999.000, -999.00,9, -999.00,9, -31.2909,  85.5377,-999.000,-999.000,20090425,       1740
33RR20090320,        I05,     126,          2,          9,          9,2,20090425,       1650,   -31.2911,    85.5373,       3899,  2086.5,   2.3619,  34.7079,2,  34.7077,2,    169.0,2,   169.3,2,   95.13,2,   33.33,2,    0.00,2,    2.35,2,-999.000,9,-999.000,9,-999.0000,9,  2267.8,2,  2364.4,2,   7.6617,2,    20.00,-999.000,9,-999.000,9,-999.000,9,   2.3620,2,-999.000,9, -999.00,9, -999.00,-999.000,9,-999.000, -999.00,9, -999.00,9, -31.2909,  85.5379,-999.000,-999.000,20090425,       1734
33RR20090320,        I05,     126,          2,          8,          8,2,20090425,       1650,   -31.2911,    85.5373,       3899,  2333.0,   2.1047,  34.7243,2,  34.7240,2,    177.2,2,   177.1,2,   99.40,2,   32.79,2,    0.00,2,    2.30,2,-999.000,9,-999.000,9,-999.0000,9,  -999.0,9,  -999.0,9,-999.0000,9,  -999.00,-999.000,9,-999.000,9,-999.000,9,   2.1058,2,-999.000,9, -999.00,9, -999.00,-999.000,9,-999.000, -999.00,9, -999.00,9, -31.2909,  85.5380,-999.000,-999.000,20090425,       1729
33RR20090320,        I05,     126,          2,          7,          7,2,20090425,       1650,   -31.2911,    85.5373,       3899,  2584.9,   1.8909,  34.7324,2,  34.7325,2,    184.8,2,   184.6,2,  101.44,2,   32.26,2,    0.00,2,    2.26,2,-999.000,9,-999.000,9,-999.0000,9,  -999.0,9,  -999.0,9,-999.0000,9,  -999.00,-999.000,9,-999.000,9,-999.000,9,   1.8912,2,-999.000,9, -999.00,9, -999.00,-999.000,9,-999.000, -999.00,9, -999.00,9, -31.2909,  85.5382,-999.000,-999.000,20090425,       1723
33RR20090320,        I05,     126,          2,          6,          6,2,20090425,       1650,   -31.2911,    85.5373,       3899,  2838.6,   1.6958,  34.7318,2,  34.7319,2,    187.9,2,   187.8,2,  106.29,2,   32.36,2,    0.00,2,    2.27,2,-999.000,9,-999.000,9,-999.0000,9,  -999.0,9,  -999.0,9,-999.0000,9,  -999.00,-999.000,9,-999.000,9,-999.000,9,   1.6959,2,-999.000,9, -999.00,9, -999.00,-999.000,9,-999.000, -999.00,9, -999.00,9, -31.2910,  85.5381,-999.000,-999.000,20090425,       1718
33RR20090320,        I05,     126,          2,          5,          5,2,20090425,       1650,   -31.2911,    85.5373,       3899,  3112.4,   1.5513,  34.7306,2,  34.7311,2,    192.4,2,   192.5,2,  109.83,2,   32.26,2,    0.00,2,    2.26,2,-999.000,9,-999.000,9,-999.0000,9,  -999.0,9,  -999.0,9,-999.0000,9,  -999.00,-999.000,9,-999.000,9,-999.000,9,   1.5511,2,-999.000,9, -999.00,9, -999.00,-999.000,9,-999.000, -999.00,9, -999.00,9, -31.2910,  85.5379,-999.000,-999.000,20090425,       1712
33RR20090320,        I05,     126,          2,          4,          4,2,20090425,       1650,   -31.2911,    85.5373,       3899,  3415.7,   1.4382,  34.7276,2,  34.7284,2,    193.9,2,   194.0,2,  113.75,2,   32.41,2,    0.00,2,    2.27,2,-999.000,9,-999.000,9,-999.0000,9,  -999.0,9,  -999.0,9,-999.0000,9,  -999.00,-999.000,9,-999.000,9,-999.000,9,   1.4377,2,-999.000,9, -999.00,9, -999.00,-999.000,9,-999.000, -999.00,9, -999.00,9, -31.2910,  85.5376,-999.000,-999.000,20090425,       1704
33RR20090320,        I05,     126,          2,          3,          3,2,20090425,       1650,   -31.2911,    85.5373,       3899,  3619.5,   1.4124,  34.7267,2,  34.7278,2,    195.0,2,   194.9,2,  114.30,2,   32.30,2,    0.00,2,    2.28,2,-999.000,9,-999.000,9,-999.0000,9,  -999.0,9,  -999.0,9,-999.0000,9,  -999.00,-999.000,9,-999.000,9,-999.000,9,   1.4123,2,-999.000,9, -999.00,9, -999.00,-999.000,9,-999.000, -999.00,9, -999.00,9, -31.2911,  85.5374,-999.000,-999.000,20090425,       1659
33RR20090320,        I05,     126,          2,          2,          2,2,20090425,       1650,   -31.2911,    85.5373,       3899,  3832.8,   1.4127,  34.7260,2,  34.7270,2,    195.0,2,   195.9,2,  115.22,2,   32.46,2,    0.00,2,    2.28,2,-999.000,9,-999.000,9,-999.0000,9,  -999.0,9,  -999.0,9,-999.0000,9,  -999.00,-999.000,9,-999.000,9,-999.000,9,   1.4126,2,-999.000,9, -999.00,9, -999.00,-999.000,9,-999.000, -999.00,9, -999.00,9, -31.2910,  85.5374,-999.000,-999.000,20090425,       1654
33RR20090320,        I05,     126,          2,          1,          1,2,20090425,       1650,   -31.2911,    85.5373,       3899,  3948.5,   1.4201,  34.7259,2,  34.7264,2,    195.0,2,   195.0,2,  115.21,2,   32.51,2,    0.00,2,    2.29,2,-999.000,9,-999.000,9,-999.0000,9,  2273.7,6,  2378.4,2,   7.6911,2,    20.00,-999.000,9,-999.000,9,-999.000,9,   1.4202,2,-999.000,9, -999.00,9, -999.00,-999.000,9,-999.000, -999.00,9, -999.00,9, -31.2911,  85.5373,-999.000,-999.000,20090425,       1650