BOTTLE,20220814CCHSIOAMB
EXPOCODE,SECT_ID,STNNBR,CASTNO,SAMPNO,BTLNBR,BTLNBR_FLAG_W,DATE,TIME,LATITUDE,LONGITUDE,DEPTH,CTDPRS,CTDTMP,CTDSAL,CTDSAL_FLAG_W,SALNTY,SALNTY_FLAG_W,CTDOXY,CTDOXY_FLAG_W,OXYGEN,OXYGEN_FLAG_W,SILCAT,SILCAT_FLAG_W,NITRAT,NITRAT_FLAG_W,NITRIT,NITRIT_FLAG_W,PHSPHT,PHSPHT_FLAG_W,CFC-11,CFC-11_FLAG_W,CFC-12,CFC-12_FLAG_W,SF6,SF6_FLAG_W,TCARBN,TCARBN_FLAG_W,ALKALI,ALKALI_FLAG_W,PH_TOT,PH_TOT_FLAG_W,PH_TMP,TRITUM,TRITUM_FLAG_W,HELIUM,HELIUM_FLAG_W,DELHE3,DELHE3_FLAG_W,REFTMP,REFTMP_FLAG_W,DELC13,DELC13_FLAG_W,DELC14,DELC14_FLAG_W,C14ERR,NEON,NEON_FLAG_W,NEONER,DOC,DOC_FLAG_W,TDN,TDN_FLAG_W,BTL_LAT,BTL_LON,HELIER,DELHER,BTL_DATE,BTL_TIME
,,,,,,,,,,,METERS,DBAR,ITS-90,PSS-78,,PSS-78,,UMOL/KG,,UMOL/KG,,UMOL/KG,,UMOL/KG,,UMOL/KG,,UMOL/KG,,PMOL/KG,,PMOL/KG,,FMOL/KG,,UMOL/KG,,UMOL/KG,,,,DEG C,TU,,NMOL/KG,,PERCNT,,DEG C,,/MILLE,,/MILLE,,/MILLE,NMOL/KG,,NMOL/KG,UMOL/KG,,UMOL/KG,,,,NMOL/KG,PERCNT,,
33RR20090320,        I05,      41,          1,         19,         19,2,20090402,       0656,   -32.9997,    43.9076,        811,     5.7,  23.2866,  35.6308,2,  35.6317,2,    215.9,2,   215.7,2,    0.73,2,    0.13,2,    0.00,2,    0.07,2,-999.000,9,-999.000,9,-999.0000,9,  2032.6,6,  2333.7,2,   8.1214,2,    20.00,-999.000,9,-999.000,9,-999.000,9,  23.2856,2,-999.000,9, -999.00,9, -999.00,-999.000,9,-999.000, -999.00,9, -999.00,9, -32.9999,  43.9075,-999.000,-999.000,20090402,       0727
33RR20090320,        I05,      41,          1,         18,         18,2,20090402,       0656,   -32.9997,    43.9076,        811,    28.7,  23.1999,  35.6254,2,  35.6276,2,    217.0,2,   215.9,2,    0.24,2,    0.12,2,    0.00,2,    0.07,2,-999.000,9,-999.000,9,-999.0000,9,  -999.0,9,  -999.0,9,-999.0000,9,  -999.00,-999.000,9,-999.000,9,-999.000,9,  23.1990,2,-999.000,9, -999.00,9, -999.00,-999.000,9,-999.000, -999.00,9, -999.00,9, -32.9999,  43.9074,-999.000,-999.000,20090402,       0725
33RR20090320,        I05,      41,          1,         17,         17,2,20090402,       0656,   -32.9997,    43.9076,        811,    53.1,  22.3600,  35.6237,2,  35.6240,2,    221.7,2,   222.6,2,    0.34,2,    0.12,2,    0.00,2,    0.07,2,-999.000,9,-999.000,9,-999.0000,9,  -999.0,9,  -999.0,9,-999.0000,9,  -999.00,-999.000,9,-999.000,9,-999.000,9,  22.3541,2,-999.000,9, -999.00,9, -999.00,-999.000,9,-999.000, -999.00,9, -999.00,9, -32.9999,  43.9075,-999.000,-999.000,20090402,       0724
33RR20090320,        I05,      41,          1,         16,         16,2,20090402,       0656,   -32.9997,    43.9076,        811,    78.5,  19.5343,  35.5751,2,  35.5790,2,    231.7,2,   233.2,2,    0.62,2,    0.11,2,    0.00,2,    0.12,2,-999.000,9,-999.000,9,-999.0000,9,  -999.0,9,  -999.0,9,-999.0000,9,  -999.00,-999.000,9,-999.000,9,-999.000,9,  19.6516,2,-999.000,9, -999.00,9, -999.00,-999.000,9,-999.000, -999.00,9, -999.00,9, -32.9999,  43.9076,-999.000,-999.000,20090402,       0722
33RR20090320,        I05,      41,          1,         15,         15,2,20090402,       0656,   -32.9997,    43.9076,        811,   102.5,  17.9670,  35.5577,2,  35.5561,2,    228.6,2,   226.0,2,    1.10,2,    1.00,2,    0.09,2,    0.22,2,-999.000,9,-999.000,9,-999.0000,9,  -999.0,9,  -999.0,9,-999.0000,9,  -999.00,-999.000,9,-999.000,9,-999.000,9,  17.9267,2,-999.000,9, -999.00,9, -999.00,-999.000,9,-999.000, -999.00,9, -999.00,9, -32.9998,  43.9076,-999.000,-999.000,20090402,       0721
33RR20090320,        I05,      41,          1,         14,         14,2,20090402,       0656,   -32.9997,    43.9076,        811,   127.3,  16.9040,  35.5395,2,  35.5398,2,    215.4,2,   215.0,2,    1.77,2,    3.24,2,    0.01,2,    0.35,2,-999.000,9,-999.000,9,-999.0000,9,  -999.0,9,  -999.0,9,-999.0000,9,  -999.00,-999.000,9,-999.000,9,-999.000,9,  16.9041,2,-999.000,9, -999.00,9, -999.00,-999.000,9,-999.000, -999.00,9, -999.00,9, -32.9998,  43.9077,-999.000,-999.000,20090402,       0719
33RR20090320,        I05,      41,          1,         13,         13,2,20090402,       0656,   -32.9997,    43.9076,        811,   153.0,  16.5943,  35.5324,2,  35.5368,2,    211.4,2,   212.1,2,    1.86,2,    4.17,2,    0.01,2,    0.39,2,-999.000,9,-999.000,9,-999.0000,9,  -999.0,9,  -999.0,9,-999.0000,9,  -999.00,-999.000,9,-999.000,9,-999.000,9,  16.5926,2,-999.000,9, -999.00,9, -999.00,-999.000,9,-999.000, -999.00,9, -999.00,9, -32.9998,  43.9077,-999.000,-999.000,20090402,       0718
33RR20090320,        I05,      41,          1,         12,         12,2,20090402,       0656,   -32.9997,    43.9076,        811,   177.0,  16.2836,  35.5181,2,  35.5155,2,    213.1,2,   213.2,2,    1.95,2,    4.78,2,    0.00,2,    0.42,2,-999.000,9,-999.000,9,-999.0000,9,  -999.0,9,  -999.0,9,-999.0000,9,  -999.00,-999.000,9,-999.000,9,-999.000,9,  16.2846,2,-999.000,9, -999.00,9, -999.00,-999.000,9,-999.000, -999.00,9, -999.00,9, -32.9997,  43.9078,-999.000,-999.000,20090402,       0717
33RR20090320,        I05,      41,          1,         11,         11,2,20090402,       0656,   -32.9997,    43.9076,        811,   203.4,  15.9112,  35.4944,2,  35.4940,2,    212.6,2,   212.8,2,    2.23,2,    5.38,2,    0.00,2,    0.46,2,-999.000,9,-999.000,9,-999.0000,9,  -999.0,9,  -999.0,9,-999.0000,9,  -999.00,-999.000,9,-999.000,9,-999.000,9,  15.9081,2,-999.000,9, -999.00,9, -999.00,-999.000,9,-999.000, -999.00,9, -999.00,9, -32.9997,  43.9079,-999.000,-999.000,20090402,       0715
33RR20090320,        I05,      41,          1,         10,         10,2,20090402,       0656,   -32.9997,    43.9076,        811,   228.6,  15.5189,  35.4710,2,  35.4717,2,    212.0,2,   214.1,2,    2.14,2,    5.76,2,    0.00,2,    0.48,2,-999.000,9,-999.000,9,-999.0000,9,  -999.0,9,  -999.0,9,-999.0000,9,  -999.00,-999.000,9,-999.000,9,-999.000,9,  15.5260,2,-999.000,9, -999.00,9, -999.00,-999.000,9,-999.000, -999.00,9, -999.00,9, -32.9997,  43.9080,-999.000,-999.000,20090402,       0714
33RR20090320,        I05,      41,          1,          9,          9,2,20090402,       0656,   -32.9997,    43.9076,        811,   252.6,  15.1260,  35.4459,2,  35.4455,2,    208.3,2,   207.4,2,    2.42,2,    6.92,2,    0.00,2,    0.56,2,-999.000,9,-999.000,9,-999.0000,9,  -999.0,9,  -999.0,9,-999.0000,9,  -999.00,-999.000,9,-999.000,9,-999.000,9,  15.1250,2,-999.000,9, -999.00,9, -999.00,-999.000,9,-999.000, -999.00,9, -999.00,9, -32.9997,  43.9080,-999.000,-999.000,20090402,       0713
33RR20090320,        I05,      41,          1,          8,          8,2,20090402,       0656,   -32.9997,    43.9076,        811,   302.0,  14.3696,  35.3852,2,  35.3810,2,    210.9,2,   210.4,2,    2.52,2,    8.13,2,    0.00,2,    0.63,2,-999.000,9,-999.000,9,-999.0000,9,  -999.0,9,  -999.0,9,-999.0000,9,  -999.00,-999.000,9,-999.000,9,-999.000,9,  14.3701,2,-999.000,9, -999.00,9, -999.00,-999.000,9,-999.000, -999.00,9, -999.00,9, -32.9996,  43.9079,-999.000,-999.000,20090402,       0711
33RR20090320,        I05,      41,          1,          7,          7,2,20090402,       0656,   -32.9997,    43.9076,        811,   352.4,  13.8789,  35.3384,2,  35.3350,2,    214.3,2,   214.2,2,    3.38,2,    8.67,2,    0.00,2,    0.67,2,-999.000,9,-999.000,9,-999.0000,9,  -999.0,9,  -999.0,9,-999.0000,9,  -999.00,-999.000,9,-999.000,9,-999.000,9,  13.8834,2,-999.000,9, -999.00,9, -999.00,-999.000,9,-999.000, -999.00,9, -999.00,9, -32.9996,  43.9079,-999.000,-999.000,20090402,       0709
33RR20090320,        I05,      41,          1,          6,          6,2,20090402,       0656,   -32.9997,    43.9076,        811,   402.9,  13.4300,  35.2889,2,  35.2828,2,    218.0,2,   217.8,2,    3.28,2,    9.28,2,    0.00,2,    0.70,2,-999.000,9,-999.000,9,-999.0000,9,  -999.0,9,  -999.0,9,-999.0000,9,  -999.00,-999.000,9,-999.000,9,-999.000,9,  13.4128,2,-999.000,9, -999.00,9, -999.00,-999.000,9,-999.000, -999.00,9, -999.00,9, -32.9996,  43.9078,-999.000,-999.000,20090402,       0707
33RR20090320,        I05,      41,          1,          5,          5,2,20090402,       0656,   -32.9997,    43.9076,        811,   453.0,  12.9172,  35.2204,2,  35.2231,2,    219.9,2,   220.1,2,    2.79,2,   10.10,2,    0.00,2,    0.75,2,-999.000,9,-999.000,9,-999.0000,9,  -999.0,9,  -999.0,9,-999.0000,9,  -999.00,-999.000,9,-999.000,9,-999.000,9,  12.9218,2,-999.000,9, -999.00,9, -999.00,-999.000,9,-999.000, -999.00,9, -999.00,9, -32.9995,  43.9078,-999.000,-999.000,20090402,       0705
33RR20090320,        I05,      41,          1,          4,          4,2,20090402,       0656,   -32.9997,    43.9076,        811,   501.3,  12.5962,  35.1691,2,  35.1674,2,    219.1,2,   219.1,2,    3.08,2,   10.98,2,    0.00,2,    0.81,2,-999.000,9,-999.000,9,-999.0000,9,  -999.0,9,  -999.0,9,-999.0000,9,  -999.00,-999.000,9,-999.000,9,-999.000,9,  12.5935,2,-999.000,9, -999.00,9, -999.00,-999.000,9,-999.000, -999.00,9, -999.00,9, -32.9996,  43.9078,-999.000,-999.000,20090402,       0704
33RR20090320,        I05,      41,          1,          3,          3,2,20090402,       0656,   -32.9997,    43.9076,        811,   602.3,  11.3916,  34.9982,2,  34.9998,2,    220.7,2,   220.8,2,    3.56,2,   13.23,2,    0.00,2,    0.97,2,-999.000,9,-999.000,9,-999.0000,9,  -999.0,9,  -999.0,9,-999.0000,9,  -999.00,-999.000,9,-999.000,9,-999.000,9,  11.3930,2,-999.000,9, -999.00,9, -999.00,-999.000,9,-999.000, -999.00,9, -999.00,9, -32.9997,  43.9077,-999.000,-999.000,20090402,       0701
33RR20090320,        I05,      41,          1,          2,          2,2,20090402,       0656,   -32.9997,    43.9076,        811,   702.5,  10.5465,  34.8792,2,  34.8755,2,    219.3,2,   219.8,2,    4.63,2,   15.27,2,    0.00,2,    1.09,2,-999.000,9,-999.000,9,-999.0000,9,  -999.0,9,  -999.0,9,-999.0000,9,  -999.00,-999.000,9,-999.000,9,-999.000,9,  10.5479,2,-999.000,9, -999.00,9, -999.00,-999.000,9,-999.000, -999.00,9, -999.00,9, -32.9997,  43.9076,-999.000,-999.000,20090402,       0658
33RR20090320,        I05,      41,          1,          1,          1,2,20090402,       0656,   -32.9997,    43.9076,        811,   802.5,   9.3648,  34.7341,2,  34.7327,2,    211.9,2,   211.7,2,    8.02,2,   18.85,2,    0.00,2,    1.35,2,-999.000,9,-999.000,9,-999.0000,9,  -999.0,9,  -999.0,9,-999.0000,9,  -999.00,-999.000,9,-999.000,9,-999.000,9,   9.3685,2,-999.000,9, -999.00,9, -999.00,-999.000,9,-999.000, -999.00,9, -999.00,9, -32.9997,  43.9076,-999.000,-999.000,20090402,       0656