BOTTLE,20220814CCHSIOAMB
EXPOCODE,SECT_ID,STNNBR,CASTNO,SAMPNO,BTLNBR,BTLNBR_FLAG_W,DATE,TIME,LATITUDE,LONGITUDE,DEPTH,CTDPRS,CTDTMP,CTDSAL,CTDSAL_FLAG_W,SALNTY,SALNTY_FLAG_W,CTDOXY,CTDOXY_FLAG_W,OXYGEN,OXYGEN_FLAG_W,SILCAT,SILCAT_FLAG_W,NITRAT,NITRAT_FLAG_W,NITRIT,NITRIT_FLAG_W,PHSPHT,PHSPHT_FLAG_W,CFC-11,CFC-11_FLAG_W,CFC-12,CFC-12_FLAG_W,SF6,SF6_FLAG_W,TCARBN,TCARBN_FLAG_W,ALKALI,ALKALI_FLAG_W,PH_TOT,PH_TOT_FLAG_W,PH_TMP,TRITUM,TRITUM_FLAG_W,HELIUM,HELIUM_FLAG_W,DELHE3,DELHE3_FLAG_W,REFTMP,REFTMP_FLAG_W,DELC13,DELC13_FLAG_W,DELC14,DELC14_FLAG_W,C14ERR,NEON,NEON_FLAG_W,NEONER,DOC,DOC_FLAG_W,TDN,TDN_FLAG_W,BTL_LAT,BTL_LON,HELIER,DELHER,BTL_DATE,BTL_TIME
,,,,,,,,,,,METERS,DBAR,ITS-90,PSS-78,,PSS-78,,UMOL/KG,,UMOL/KG,,UMOL/KG,,UMOL/KG,,UMOL/KG,,UMOL/KG,,PMOL/KG,,PMOL/KG,,FMOL/KG,,UMOL/KG,,UMOL/KG,,,,DEG C,TU,,NMOL/KG,,PERCNT,,DEG C,,/MILLE,,/MILLE,,/MILLE,NMOL/KG,,NMOL/KG,UMOL/KG,,UMOL/KG,,,,NMOL/KG,PERCNT,,
33RR20090320,        I05,     190,          1,         32,         32,2,20090511,       1626,   -32.5174,   114.1186,       3244,     7.1,  20.5965,  35.8297,2,  35.8339,2,    224.5,2,   225.4,2,    1.61,2,    0.07,2,    0.00,2,    0.08,2,   2.065,2,   1.255,2,   1.0750,2,  2047.9,2,  2349.9,2,   8.1162,2,    20.00,-999.000,9,-999.000,9,-999.000,9,  20.5937,2,-999.000,9, -999.00,9, -999.00,-999.000,9,-999.000, -999.00,9, -999.00,9, -32.5168, 114.1186,-999.000,-999.000,20090511,       1810
33RR20090320,        I05,     190,          1,         31,         31,2,20090511,       1626,   -32.5174,   114.1186,       3244,    24.4,  20.6010,  35.8244,2,  35.8341,2,    225.7,2,   225.3,2,    1.60,2,    0.06,2,    0.00,2,    0.07,2,-999.000,9,-999.000,9,-999.0000,9,  -999.0,9,  -999.0,9,-999.0000,9,  -999.00,-999.000,9,-999.000,9,-999.000,9,  20.6002,2,-999.000,9, -999.00,9, -999.00,-999.000,9,-999.000, -999.00,9, -999.00,9, -32.5169, 114.1187,-999.000,-999.000,20090511,       1808
33RR20090320,        I05,     190,          1,         30,         30,2,20090511,       1626,   -32.5174,   114.1186,       3244,    45.6,  20.6094,  35.8283,2,  35.8331,2,    226.5,2,   226.4,2,    1.59,2,    0.05,2,    0.00,2,    0.07,2,   2.089,2,   1.257,2,   1.1470,2,  2049.0,2,  2349.6,2,   8.1166,2,    20.00,-999.000,9,-999.000,9,-999.000,9,  20.6070,2,-999.000,9, -999.00,9, -999.00,-999.000,9,-999.000, -999.00,9, -999.00,9, -32.5169, 114.1187,-999.000,-999.000,20090511,       1806
33RR20090320,        I05,     190,          1,         29,         29,2,20090511,       1626,   -32.5174,   114.1186,       3244,    70.2,  20.0872,  35.8168,2,  35.8223,2,    228.5,2,   227.5,2,    1.58,2,    0.04,2,    0.00,2,    0.08,2,   2.121,2,   1.291,2,   1.1960,2,  -999.0,9,  -999.0,9,-999.0000,9,  -999.00,-999.000,9,-999.000,9,-999.000,9,  20.1643,2,-999.000,9, -999.00,9, -999.00,-999.000,9,-999.000, -999.00,9, -999.00,9, -32.5168, 114.1188,-999.000,-999.000,20090511,       1804
33RR20090320,        I05,     190,          1,         28,         28,2,20090511,       1626,   -32.5174,   114.1186,       3244,    93.5,  17.8911,  35.7791,2,  35.7812,2,    236.7,2,   236.9,2,    1.40,2,    0.03,2,    0.01,2,    0.12,2,   2.449,2,   1.447,2,   1.2500,2,  2070.6,2,  2349.8,2,   8.0758,2,    20.00,-999.000,9,-999.000,9,-999.000,9,  17.8352,2,-999.000,9, -999.00,9, -999.00,-999.000,9,-999.000, -999.00,9, -999.00,9, -32.5166, 114.1188,-999.000,-999.000,20090511,       1803
33RR20090320,        I05,     190,          1,         27,         27,2,20090511,       1626,   -32.5174,   114.1186,       3244,   139.4,  16.0648,  35.6959,2,  35.6983,2,    229.6,2,   228.2,2,    1.20,2,    1.66,2,    0.02,2,    0.24,2,   2.613,2,   1.537,2,   1.2650,2,  -999.0,9,  -999.0,9,-999.0000,9,  -999.00,-999.000,9,-999.000,9,-999.000,9,  16.0737,2,-999.000,9, -999.00,9, -999.00,-999.000,9,-999.000, -999.00,9, -999.00,9, -32.5166, 114.1188,-999.000,-999.000,20090511,       1801
33RR20090320,        I05,     190,          1,         26,         26,2,20090511,       1626,   -32.5174,   114.1186,       3244,   185.9,  14.9562,  35.5515,2,  35.5508,2,    229.1,2,   229.9,2,    1.19,2,    3.03,2,    0.01,2,    0.34,2,   2.739,6,   1.599,6,   1.4290,6,  2097.4,2,  2335.8,2,   8.0088,2,    20.00,-999.000,9,-999.000,9,-999.000,9,  14.9400,2,-999.000,9, -999.00,9, -999.00,-999.000,9,-999.000, -999.00,9, -999.00,9, -32.5166, 114.1188,-999.000,-999.000,20090511,       1759
33RR20090320,        I05,     190,          1,         25,         25,2,20090511,       1626,   -32.5174,   114.1186,       3244,   236.8,  13.4613,  35.3086,2,  35.3150,2,    233.2,2,   233.8,2,    1.37,2,    5.55,2,    0.01,2,    0.50,2,   2.939,2,   1.708,2,   1.3820,2,  -999.0,9,  -999.0,9,-999.0000,9,  -999.00,-999.000,9,-999.000,9,-999.000,9,  13.4467,2,-999.000,9, -999.00,9, -999.00,-999.000,9,-999.000, -999.00,9, -999.00,9, -32.5166, 114.1187,-999.000,-999.000,20090511,       1757
33RR20090320,        I05,     190,          1,         24,         24,2,20090511,       1626,   -32.5174,   114.1186,       3244,   287.6,  12.2748,  35.1118,2,  35.1237,2,    238.6,2,   238.4,2,    1.73,2,    7.79,2,    0.01,2,    0.63,2,   3.202,2,   1.803,2,   1.3030,2,  2111.5,2,  2315.7,2,   7.9408,2,    20.00,-999.000,9,-999.000,9,-999.000,9,  12.3197,2,-999.000,9, -999.00,9, -999.00,-999.000,9,-999.000, -999.00,9, -999.00,9, -32.5165, 114.1187,-999.000,-999.000,20090511,       1755
33RR20090320,        I05,     190,          1,         23,         23,2,20090511,       1626,   -32.5174,   114.1186,       3244,   334.2,  11.1212,  34.9311,2,  34.9350,2,    241.4,2,   241.4,2,    2.46,2,   10.64,2,    0.01,2,    0.81,2,   3.355,2,   1.886,2,   1.3620,2,  -999.0,9,  -999.0,9,-999.0000,9,  -999.00,-999.000,9,-999.000,9,-999.000,9,  11.1107,2,-999.000,9, -999.00,9, -999.00,-999.000,9,-999.000, -999.00,9, -999.00,9, -32.5164, 114.1186,-999.000,-999.000,20090511,       1753
33RR20090320,        I05,     190,          1,         22,         22,2,20090511,       1626,   -32.5174,   114.1186,       3244,   383.8,   9.9462,  34.7631,2,  34.7658,2,    240.6,2,   241.6,2,    3.56,2,   13.98,2,    0.01,2,    1.02,2,   3.579,2,   1.955,2,   1.2430,2,  2125.9,2,  2296.6,2,   7.8736,2,    20.00,-999.000,9,-999.000,9,-999.000,9,   9.9261,2,-999.000,9, -999.00,9, -999.00,-999.000,9,-999.000, -999.00,9, -999.00,9, -32.5164, 114.1186,-999.000,-999.000,20090511,       1751
33RR20090320,        I05,     190,          1,         21,         21,2,20090511,       1626,   -32.5174,   114.1186,       3244,   432.8,   9.1576,  34.6665,2,  34.6693,2,    238.6,2,   239.0,2,    4.85,2,   16.61,2,    0.00,2,    1.17,2,   3.584,2,   1.948,2,   1.2570,2,  -999.0,9,  -999.0,9,-999.0000,9,  -999.00,-999.000,9,-999.000,9,-999.000,9,   9.1566,2,-999.000,9, -999.00,9, -999.00,-999.000,9,-999.000, -999.00,9, -999.00,9, -32.5163, 114.1185,-999.000,-999.000,20090511,       1749
33RR20090320,        I05,     190,          1,         20,         20,2,20090511,       1626,   -32.5174,   114.1186,       3244,   483.0,   8.1517,  34.5620,2,  34.5648,2,    225.2,2,   225.3,2,    9.10,2,   20.34,2,    0.00,2,    1.45,2,   3.170,2,   1.661,2,   0.8530,2,  2146.7,2,  2289.5,2,   7.8079,2,    20.00,-999.000,9,-999.000,9,-999.000,9,   8.1132,2,-999.000,9, -999.00,9, -999.00,-999.000,9,-999.000, -999.00,9, -999.00,9, -32.5162, 114.1184,-999.000,-999.000,20090511,       1747
33RR20090320,        I05,     190,          1,         19,         19,2,20090511,       1626,   -32.5174,   114.1186,       3244,   562.1,   6.4608,  34.4420,2,  34.4439,2,    201.4,2,   200.0,2,   19.62,2,   26.56,2,    0.00,2,    1.85,2,   2.045,2,   1.030,2,   0.3940,2,  -999.0,9,  -999.0,9,-999.0000,9,  -999.00,-999.000,9,-999.000,9,-999.000,9,   6.4504,2,-999.000,9, -999.00,9, -999.00,-999.000,9,-999.000, -999.00,9, -999.00,9, -32.5162, 114.1184,-999.000,-999.000,20090511,       1744
33RR20090320,        I05,     190,          1,         18,         18,2,20090511,       1626,   -32.5174,   114.1186,       3244,   661.2,   5.2155,  34.3948,2,  34.3970,2,    192.0,2,   193.2,2,   29.56,2,   29.66,2,    0.00,2,    2.07,2,   1.515,2,   0.746,2,   0.3820,2,  -999.0,9,  -999.0,9,-999.0000,9,  -999.00,-999.000,9,-999.000,9,-999.000,9,   5.2420,2,-999.000,9, -999.00,9, -999.00,-999.000,9,-999.000, -999.00,9, -999.00,9, -32.5162, 114.1187,-999.000,-999.000,20090511,       1741
33RR20090320,        I05,     190,          1,         17,         17,2,20090511,       1626,   -32.5174,   114.1186,       3244,   758.3,   4.4300,  34.3967,2,  34.3978,2,    186.0,2,   186.3,2,   40.24,2,   31.59,2,    0.00,2,    2.24,2,   1.138,2,   0.545,2,   0.1240,2,  -999.0,9,  -999.0,9,-999.0000,9,  -999.00,-999.000,9,-999.000,9,-999.000,9,   4.4296,2,-999.000,9, -999.00,9, -999.00,-999.000,9,-999.000, -999.00,9, -999.00,9, -32.5162, 114.1186,-999.000,-999.000,20090511,       1737
33RR20090320,        I05,     190,          1,         16,         16,2,20090511,       1626,   -32.5174,   114.1186,       3244,   858.3,   4.0755,  34.4335,2,  34.4348,2,    173.3,2,   172.5,2,   51.29,2,   33.02,2,    0.00,2,    2.35,2,   0.762,2,   0.359,2,   0.0410,2,  -999.0,9,  -999.0,9,-999.0000,9,  -999.00,-999.000,9,-999.000,9,-999.000,9,   4.0736,2,-999.000,9, -999.00,9, -999.00,-999.000,9,-999.000, -999.00,9, -999.00,9, -32.5164, 114.1184,-999.000,-999.000,20090511,       1733
33RR20090320,        I05,     190,          1,         15,         15,2,20090511,       1626,   -32.5174,   114.1186,       3244,   955.0,   3.7604,  34.4744,2,  34.4767,2,    164.6,2,   162.0,2,   61.25,2,   33.84,2,    0.00,2,    2.44,2,   0.458,2,   0.216,2,   0.0330,2,  2243.8,2,  2328.3,2,   7.6401,2,    20.00,-999.000,9,-999.000,9,-999.000,9,   3.7595,2,-999.000,9, -999.00,9, -999.00,-999.000,9,-999.000, -999.00,9, -999.00,9, -32.5168, 114.1186,-999.000,-999.000,20090511,       1729
33RR20090320,        I05,     190,          1,         14,         14,2,20090511,       1626,   -32.5174,   114.1186,       3244,  1058.6,   3.6027,  34.5195,2,  34.5203,2,    152.6,2,   152.0,2,   70.29,2,   34.65,2,    0.00,2,    2.50,2,-999.000,9,-999.000,9,-999.0000,9,  -999.0,9,  -999.0,9,-999.0000,9,  -999.00,-999.000,9,-999.000,9,-999.000,9,   3.6015,2,-999.000,9, -999.00,9, -999.00,-999.000,9,-999.000, -999.00,9, -999.00,9, -32.5169, 114.1183,-999.000,-999.000,20090511,       1725
33RR20090320,        I05,     190,          1,         13,         13,2,20090511,       1626,   -32.5174,   114.1186,       3244,  1160.6,   3.4971,  34.5332,2,  34.5348,2,    150.3,2,   150.9,2,   73.25,2,   34.64,2,    0.00,2,    2.51,2,-999.000,9,-999.000,9,-999.0000,9,  -999.0,9,  -999.0,9,-999.0000,9,  -999.00,-999.000,9,-999.000,9,-999.000,9,   3.4952,2,-999.000,9, -999.00,9, -999.00,-999.000,9,-999.000, -999.00,9, -999.00,9, -32.5171, 114.1180,-999.000,-999.000,20090511,       1722
33RR20090320,        I05,     190,          1,         12,         12,2,20090511,       1626,   -32.5174,   114.1186,       3244,  1266.1,   3.3139,  34.5552,2,  34.5566,2,    149.6,2,   150.8,2,   75.84,2,   34.80,2,    0.00,2,    2.51,2,-999.000,9,-999.000,9,-999.0000,9,  -999.0,9,  -999.0,9,-999.0000,9,  -999.00,-999.000,9,-999.000,9,-999.000,9,   3.3135,2,-999.000,9, -999.00,9, -999.00,-999.000,9,-999.000, -999.00,9, -999.00,9, -32.5175, 114.1180,-999.000,-999.000,20090511,       1719
33RR20090320,        I05,     190,          1,         11,         11,2,20090511,       1626,   -32.5174,   114.1186,       3244,  1367.2,   3.1286,  34.5812,2,  34.5819,2,    150.0,2,   151.0,2,   79.54,2,   34.67,2,    0.00,2,    2.51,2,-999.000,9,-999.000,9,-999.0000,9,  -999.0,9,  -999.0,9,-999.0000,9,  -999.00,-999.000,9,-999.000,9,-999.000,9,   3.1282,2,-999.000,9, -999.00,9, -999.00,-999.000,9,-999.000, -999.00,9, -999.00,9, -32.5179, 114.1182,-999.000,-999.000,20090511,       1715
33RR20090320,        I05,     190,          1,         10,         10,2,20090511,       1626,   -32.5174,   114.1186,       3244,  1467.8,   3.0289,  34.5992,2,  34.5996,2,    151.1,2,   151.8,2,   81.95,2,   34.59,2,    0.00,2,    2.50,2,-999.000,9,-999.000,9,-999.0000,9,  -999.0,9,  -999.0,9,-999.0000,9,  -999.00,-999.000,9,-999.000,9,-999.000,9,   3.0289,2,-999.000,9, -999.00,9, -999.00,-999.000,9,-999.000, -999.00,9, -999.00,9, -32.5180, 114.1181,-999.000,-999.000,20090511,       1711
33RR20090320,        I05,     190,          1,          9,          9,2,20090511,       1626,   -32.5174,   114.1186,       3244,  1570.0,   2.9108,  34.6267,2,  34.6281,2,    151.5,2,   151.3,2,   86.22,2,   34.47,2,    0.00,2,    2.49,2,   0.033,2,   0.017,2,   0.0000,2,  2271.4,2,  2355.3,2,   7.6315,2,    20.00,-999.000,9,-999.000,9,-999.000,9,   2.9102,2,-999.000,9, -999.00,9, -999.00,-999.000,9,-999.000, -999.00,9, -999.00,9, -32.5179, 114.1183,-999.000,-999.000,20090511,       1708
33RR20090320,        I05,     190,          1,          8,          8,2,20090511,       1626,   -32.5174,   114.1186,       3244,  1742.6,   2.7222,  34.6591,2,  34.6605,2,    155.3,2,   154.9,2,   90.87,2,   34.06,2,    0.00,2,    2.46,2,-999.000,9,-999.000,9,-999.0000,9,  -999.0,9,  -999.0,9,-999.0000,9,  -999.00,-999.000,9,-999.000,9,-999.000,9,   2.7230,2,-999.000,9, -999.00,9, -999.00,-999.000,9,-999.000, -999.00,9, -999.00,9, -32.5174, 114.1181,-999.000,-999.000,20090511,       1703
33RR20090320,        I05,     190,          1,          7,          7,2,20090511,       1626,   -32.5174,   114.1186,       3244,  1941.9,   2.4605,  34.6976,2,  34.6987,2,    159.8,2,   159.7,2,   98.16,2,   33.55,2,    0.00,2,    2.42,2,   0.007,2,   0.003,2,   0.0000,2,  -999.0,9,  -999.0,9,-999.0000,9,  -999.00,-999.000,9,-999.000,9,-999.000,9,   2.4606,2,-999.000,9, -999.00,9, -999.00,-999.000,9,-999.000, -999.00,9, -999.00,9, -32.5173, 114.1181,-999.000,-999.000,20090511,       1657
33RR20090320,        I05,     190,          1,          6,          6,2,20090511,       1626,   -32.5174,   114.1186,       3244,  2174.3,   2.2286,  34.7177,2,  34.7187,2,    163.8,2,   163.7,2,  105.67,2,   33.31,2,    0.00,2,    2.41,2,-999.000,9,-999.000,9,-999.0000,9,  -999.0,9,  -999.0,9,-999.0000,9,  -999.00,-999.000,9,-999.000,9,-999.000,9,   2.2282,2,-999.000,9, -999.00,9, -999.00,-999.000,9,-999.000, -999.00,9, -999.00,9, -32.5175, 114.1182,-999.000,-999.000,20090511,       1651
33RR20090320,        I05,     190,          1,          5,          5,2,20090511,       1626,   -32.5174,   114.1186,       3244,  2426.0,   2.0519,  34.7253,2,  34.7266,2,    168.0,2,   167.8,2,  109.99,2,   33.13,2,    0.00,2,    2.39,2,   0.004,2,   0.005,2,   0.0000,2,  2285.7,2,  2381.5,2,   7.6642,2,    20.00,-999.000,9,-999.000,9,-999.000,9,   2.0514,2,-999.000,9, -999.00,9, -999.00,-999.000,9,-999.000, -999.00,9, -999.00,9, -32.5174, 114.1182,-999.000,-999.000,20090511,       1646
33RR20090320,        I05,     190,          1,          4,          4,2,20090511,       1626,   -32.5174,   114.1186,       3244,  2681.4,   1.9034,  34.7276,2,  34.7293,2,    173.1,2,   172.6,2,  112.62,2,   32.89,2,    0.00,2,    2.37,2,-999.000,9,-999.000,9,-999.0000,9,  -999.0,9,  -999.0,9,-999.0000,9,  -999.00,-999.000,9,-999.000,9,-999.000,9,   1.9026,2,-999.000,9, -999.00,9, -999.00,-999.000,9,-999.000, -999.00,9, -999.00,9, -32.5176, 114.1184,-999.000,-999.000,20090511,       1640
33RR20090320,        I05,     190,          1,          3,          3,2,20090511,       1626,   -32.5174,   114.1186,       3244,  2933.6,   1.7328,  34.7285,2,  34.7296,2,    178.4,2,   178.3,2,  114.70,2,   32.65,2,    0.00,2,    2.34,2,   0.003,2,   0.002,2,   0.0000,2,  2282.1,2,  2382.2,2,   7.6761,2,    20.00,-999.000,9,-999.000,9,-999.000,9,   1.7333,2,-999.000,9, -999.00,9, -999.00,-999.000,9,-999.000, -999.00,9, -999.00,9, -32.5176, 114.1184,-999.000,-999.000,20090511,       1634
33RR20090320,        I05,     190,          1,          2,          2,2,20090511,       1626,   -32.5174,   114.1186,       3244,  3105.6,   1.5883,  34.7264,2,  34.7276,2,    183.0,2,   182.6,2,  117.54,2,   32.64,2,    0.00,2,    2.33,2,-999.000,9,-999.000,9,-999.0000,9,  -999.0,9,  -999.0,9,-999.0000,9,  -999.00,-999.000,9,-999.000,9,-999.000,9,   1.5874,2,-999.000,9, -999.00,9, -999.00,-999.000,9,-999.000, -999.00,9, -999.00,9, -32.5174, 114.1184,-999.000,-999.000,20090511,       1630
33RR20090320,        I05,     190,          1,          1,          1,2,20090511,       1626,   -32.5174,   114.1186,       3244,  3278.8,   1.4154,  34.7232,2,  34.7246,2,    186.2,2,   186.4,2,  120.76,2,   32.51,2,    0.00,2,    2.33,2,   0.004,2,   0.001,2,   0.0000,2,  2284.0,2,  2386.9,2,   7.6842,2,    20.00,-999.000,9,-999.000,9,-999.000,9,   1.4171,2,-999.000,9, -999.00,9, -999.00,-999.000,9,-999.000, -999.00,9, -999.00,9, -32.5173, 114.1186,-999.000,-999.000,20090511,       1626