BOTTLE,20220814CCHSIOAMB
EXPOCODE,SECT_ID,STNNBR,CASTNO,BTLNBR,BTLNBR_FLAG_W,DATE,TIME,LATITUDE,LONGITUDE,DEPTH,CTDPRS,CTDTMP,CTDSAL,SALNTY,SALNTY_FLAG_W,CTDOXY,OXYGEN,OXYGEN_FLAG_W,THETA
,,,,,,,,,,,DBAR,ITS-90,PSS-78,PSS-78,,UMOL/KG,UMOL/KG,,DEG C
  492SSY9411_1,  P02W,   A06,  1,     23,2,19941102,1125, 31.9167, 133.5667, 3000,     48.5,  24.4998,  34.8478,  34.8490,2,   -999.0,    206.9,2, 24.4895
  492SSY9411_1,  P02W,   A06,  1,     22,2,19941102,1125, 31.9167, 133.5667, 3000,     98.4,  21.7606,  34.9134,  34.9280,2,   -999.0,    206.7,2, 21.7413
  492SSY9411_1,  P02W,   A06,  1,     21,2,19941102,1125, 31.9167, 133.5667, 3000,    200.2,  18.5950,  34.9108,  34.9120,2,   -999.0,    207.8,2, 18.5599
  492SSY9411_1,  P02W,   A06,  1,     20,2,19941102,1125, 31.9167, 133.5667, 3000,    299.3,  16.8517,  34.7808,  34.7710,2,   -999.0,    201.7,2, 16.8025
  492SSY9411_1,  P02W,   A06,  1,     19,2,19941102,1125, 31.9167, 133.5667, 3000,    398.8,  14.6569,  34.6073,  34.6060,2,   -999.0,    186.8,2, 14.5973
  492SSY9411_1,  P02W,   A06,  1,     18,2,19941102,1125, 31.9167, 133.5667, 3000,    501.5,  11.1982,  34.3523,  34.3520,2,   -999.0,    172.8,2, 11.1353
  492SSY9411_1,  P02W,   A06,  1,     17,2,19941102,1125, 31.9167, 133.5667, 3000,    597.8,   8.9512,  34.2511,  34.2480,2,   -999.0,    147.9,2,  8.8857
  492SSY9411_1,  P02W,   A06,  1,     16,2,19941102,1125, 31.9167, 133.5667, 3000,    698.6,   6.6306,  34.1800,  34.1810,2,   -999.0,    117.0,2,  6.5657
  492SSY9411_1,  P02W,   A06,  1,     15,2,19941102,1125, 31.9167, 133.5667, 3000,    797.4,   5.7736,  34.3046,  34.3020,2,   -999.0,     90.9,2,  5.7039
  492SSY9411_1,  P02W,   A06,  1,     14,2,19941102,1125, 31.9167, 133.5667, 3000,    898.7,   4.3741,  34.3249,  34.3170,2,   -999.0,     67.0,2,  4.3045
  492SSY9411_1,  P02W,   A06,  1,     13,2,19941102,1125, 31.9167, 133.5667, 3000,    998.4,   3.7589,  34.3755,  34.3760,2,   -999.0,     62.6,2,  3.6854
  492SSY9411_1,  P02W,   A06,  1,     12,2,19941102,1125, 31.9167, 133.5667, 3000,   1249.3,   3.0472,  34.4715,  34.4690,2,   -999.0,     71.7,2,  2.9594
  492SSY9411_1,  P02W,   A06,  1,     11,2,19941102,1125, 31.9167, 133.5667, 3000,   1498.4,   2.6075,  34.5228,  34.5270,2,   -999.0,     84.8,2,  2.5042
  492SSY9411_1,  P02W,   A06,  1,      9,2,19941102,1125, 31.9167, 133.5667, 3000,   1749.8,   2.2992,  34.5599,  34.5470,2,   -999.0,     92.6,2,  2.1793
  492SSY9411_1,  P02W,   A06,  1,     10,2,19941102,1125, 31.9167, 133.5667, 3000,   1751.7,   2.2982,  34.5600,  34.5920,4,   -999.0,     95.6,2,  2.1782
  492SSY9411_1,  P02W,   A06,  1,      7,2,19941102,1125, 31.9167, 133.5667, 3000,   1999.0,   2.0434,  34.6138,  34.6190,2,   -999.0,    107.4,2,  1.9062
  492SSY9411_1,  P02W,   A06,  1,      8,2,19941102,1125, 31.9167, 133.5667, 3000,   2000.0,   2.0434,  34.6120,  34.6210,2,   -999.0,    105.2,2,  1.9061
  492SSY9411_1,  P02W,   A06,  1,      5,2,19941102,1125, 31.9167, 133.5667, 3000,   2249.3,   1.9125,  34.6178,  34.6350,2,   -999.0,    116.1,2,  1.7560
  492SSY9411_1,  P02W,   A06,  1,      6,2,19941102,1125, 31.9167, 133.5667, 3000,   2251.2,   1.9125,  34.6168,  34.6340,2,   -999.0,    116.9,2,  1.7558
  492SSY9411_1,  P02W,   A06,  1,      3,2,19941102,1125, 31.9167, 133.5667, 3000,   2498.8,   1.6965,  34.6425,  34.6580,2,   -999.0,    131.3,2,  1.5217
  492SSY9411_1,  P02W,   A06,  1,      4,2,19941102,1125, 31.9167, 133.5667, 3000,   2500.6,   1.6997,  34.6420,  34.6810,4,   -999.0,    132.2,2,  1.5247
  492SSY9411_1,  P02W,   A06,  1,      1,2,19941102,1125, 31.9167, 133.5667, 3000,   3011.5,   1.5723,  34.6760,  34.7050,4,   -999.0,    143.5,2,  1.3526
  492SSY9411_1,  P02W,   A07,  1,     23,2,19941102,2100, 31.7483, 133.6583, 4400,     49.3,  24.1684,  34.7162,  34.7180,2,   -999.0,    206.9,2, 24.1580
  492SSY9411_1,  P02W,   A07,  1,     22,2,19941102,2100, 31.7483, 133.6583, 4400,     99.6,  21.1254,  34.8839,  34.8760,2,   -999.0,    195.8,2, 21.1063
  492SSY9411_1,  P02W,   A07,  1,     21,2,19941102,2100, 31.7483, 133.6583, 4400,    199.0,  18.5675,  34.8594,  34.8570,2,   -999.0,    199.1,2, 18.5326
  492SSY9411_1,  P02W,   A07,  1,     20,2,19941102,2100, 31.7483, 133.6583, 4400,    299.8,  17.3214,  34.7903,  34.7910,2,   -999.0,    194.7,2, 17.2712
  492SSY9411_1,  P02W,   A07,  1,     19,2,19941102,2100, 31.7483, 133.6583, 4400,    399.9,  15.1153,  34.6276,-999.0000,5,   -999.0,   -999.0,5, 15.0542
  492SSY9411_1,  P02W,   A07,  1,     18,2,19941102,2100, 31.7483, 133.6583, 4400,    499.7,  12.0697,  34.4193,  34.4210,2,   -999.0,    171.9,2, 12.0039
  492SSY9411_1,  P02W,   A07,  1,     17,2,19941102,2100, 31.7483, 133.6583, 4400,    600.3,   9.0865,  34.2115,  34.2200,2,   -999.0,    158.8,2,  9.0202
  492SSY9411_1,  P02W,   A07,  1,     16,2,19941102,2100, 31.7483, 133.6583, 4400,    698.2,   7.4123,  34.2085,  34.2120,2,   -999.0,    125.3,2,  7.3433
  492SSY9411_1,  P02W,   A07,  1,     15,2,19941102,2100, 31.7483, 133.6583, 4400,    798.8,   5.7017,  34.2253,  34.2240,2,   -999.0,     91.3,2,  5.6325
  492SSY9411_1,  P02W,   A07,  1,     14,2,19941102,2100, 31.7483, 133.6583, 4400,    899.8,   4.6939,  34.2642,  34.2690,2,   -999.0,     75.7,2,  4.6220
  492SSY9411_1,  P02W,   A07,  1,     13,2,19941102,2100, 31.7483, 133.6583, 4400,   1001.3,   4.0898,  34.3569,  34.3520,2,   -999.0,     69.6,2,  4.0136
  492SSY9411_1,  P02W,   A07,  1,     12,2,19941102,2100, 31.7483, 133.6583, 4400,   1250.4,   3.1835,  34.4561,  34.4490,2,   -999.0,     72.2,2,  3.0944
  492SSY9411_1,  P02W,   A07,  1,     11,2,19941102,2100, 31.7483, 133.6583, 4400,   1501.7,   2.6812,  34.5190,  34.5180,2,   -999.0,     87.4,2,  2.5768
  492SSY9411_1,  P02W,   A07,  1,     10,2,19941102,2100, 31.7483, 133.6583, 4400,   1749.3,   2.3811,  34.5574,  34.5610,2,   -999.0,     94.3,2,  2.2601
  492SSY9411_1,  P02W,   A07,  1,      9,2,19941102,2100, 31.7483, 133.6583, 4400,   1998.8,   2.1434,  34.5882,  34.5910,2,   -999.0,    104.8,2,  2.0048
  492SSY9411_1,  P02W,   A07,  1,      8,2,19941102,2100, 31.7483, 133.6583, 4400,   2249.6,   1.9195,  34.6200,  34.6130,2,   -999.0,    117.8,2,  1.7629
  492SSY9411_1,  P02W,   A07,  1,      7,2,19941102,2100, 31.7483, 133.6583, 4400,   2498.9,   1.8076,  34.6323,  34.6360,2,   -999.0,    123.9,2,  1.6308
  492SSY9411_1,  P02W,   A07,  1,      6,2,19941102,2100, 31.7483, 133.6583, 4400,   2999.3,   1.6203,  34.6574,  34.6660,2,   -999.0,    145.2,2,  1.4008
  492SSY9411_1,  P02W,   A07,  1,      5,2,19941102,2100, 31.7483, 133.6583, 4400,   3499.0,   1.5318,  34.6777,  34.6830,2,   -999.0,    154.3,2,  1.2648
  492SSY9411_1,  P02W,   A07,  1,      4,2,19941102,2100, 31.7483, 133.6583, 4400,   3998.1,   1.5368,-999.0000,  34.6850,2,   -999.0,    156.5,2,  1.2170
  492SSY9411_1,  P02W,   A07,  1,      3,2,19941102,2100, 31.7483, 133.6583, 4400,   4497.8,   1.5793,  34.6852,  34.6830,2,   -999.0,    156.1,2,  1.2021
  492SSY9411_1,  P02W,   A07,  1,      1,2,19941102,2100, 31.7483, 133.6583, 4400,   4557.9,   1.5850,  34.6855,  34.6920,2,   -999.0,    157.8,2,  1.2006
  492SSY9411_1,  P02W,   A07,  1,      2,2,19941102,2100, 31.7483, 133.6583, 4400,   4558.0,   1.5848,  34.6856,  34.6890,2,   -999.0,    157.4,2,  1.2004
  492SSY9411_1,  P02W,   A08,  1,     23,2,19941102,1520, 31.5017, 133.8033, 4840,     49.4,  24.0496,  34.7211,  34.7580,2,   -999.0,    209.0,2, 24.0392
  492SSY9411_1,  P02W,   A08,  1,     22,2,19941102,1520, 31.5017, 133.8033, 4840,     98.9,  21.1889,  34.8975,  34.9170,2,   -999.0,    204.5,2, 21.1699
  492SSY9411_1,  P02W,   A08,  1,     21,2,19941102,1520, 31.5017, 133.8033, 4840,    198.0,  18.4584,  34.8399,  34.8730,2,   -999.0,    191.7,2, 18.4238
  492SSY9411_1,  P02W,   A08,  1,     20,2,19941102,1520, 31.5017, 133.8033, 4840,    299.6,  16.6272,  34.7490,  34.7740,2,   -999.0,    196.4,2, 16.5785
  492SSY9411_1,  P02W,   A08,  1,     19,2,19941102,1520, 31.5017, 133.8033, 4840,    399.1,  14.7472,  34.5988,  34.6330,2,   -999.0,    186.3,2, 14.6872
  492SSY9411_1,  P02W,   A08,  1,     18,2,19941102,1520, 31.5017, 133.8033, 4840,    500.5,  12.3063,  34.4118,  34.4390,2,   -999.0,    181.5,2, 12.2396
  492SSY9411_1,  P02W,   A08,  1,     17,2,19941102,1520, 31.5017, 133.8033, 4840,    598.9,   9.8886,  34.2951,  34.3170,2,   -999.0,    154.9,2,  9.8189
  492SSY9411_1,  P02W,   A08,  1,     16,2,19941102,1520, 31.5017, 133.8033, 4840,    699.3,   7.1662,  34.1862,  34.2110,2,   -999.0,    124.0,2,  7.0984
  492SSY9411_1,  P02W,   A08,  1,     15,2,19941102,1520, 31.5017, 133.8033, 4840,    799.5,   5.5528,  34.2532,  34.2740,2,   -999.0,     89.2,2,  5.4843
  492SSY9411_1,  P02W,   A08,  1,     14,2,19941102,1520, 31.5017, 133.8033, 4840,    899.7,   4.8053,  34.2898,  34.3060,2,   -999.0,     78.3,2,  4.7327
  492SSY9411_1,  P02W,   A08,  1,     13,2,19941102,1520, 31.5017, 133.8033, 4840,    999.3,   4.2398,  34.3410,  34.3710,3,   -999.0,     70.4,2,  4.1626
  492SSY9411_1,  P02W,   A08,  1,     12,2,19941102,1520, 31.5017, 133.8033, 4840,   1249.1,   3.3904,  34.4298,  34.4670,3,   -999.0,     69.6,2,  3.2994
  492SSY9411_1,  P02W,   A08,  1,     11,2,19941102,1520, 31.5017, 133.8033, 4840,   1498.7,   2.9782,  34.4804,  34.5160,3,   -999.0,     80.0,2,  2.8708
  492SSY9411_1,  P02W,   A08,  1,     10,2,19941102,1520, 31.5017, 133.8033, 4840,   1747.9,   2.5410,  34.5345,  34.5680,3,   -999.0,     88.3,2,  2.4181
  492SSY9411_1,  P02W,   A08,  1,      9,2,19941102,1520, 31.5017, 133.8033, 4840,   1999.6,   2.2333,  34.5753,  34.6010,4,   -999.0,    102.2,2,  2.0933
  492SSY9411_1,  P02W,   A08,  1,      8,2,19941102,1520, 31.5017, 133.8033, 4840,   2249.9,   2.0194,  34.6030,  34.6430,4,   -999.0,    110.9,2,  1.8611
  492SSY9411_1,  P02W,   A08,  1,      7,2,19941102,1520, 31.5017, 133.8033, 4840,   2498.7,   1.8446,  34.6274,  34.6680,4,   -999.0,    125.2,2,  1.6672
  492SSY9411_1,  P02W,   A08,  1,      6,2,19941102,1520, 31.5017, 133.8033, 4840,   3000.1,   1.6248,  34.6602,  34.7050,4,   -999.0,    145.6,2,  1.4051
  492SSY9411_1,  P02W,   A08,  1,      5,2,19941102,1520, 31.5017, 133.8033, 4840,   3500.4,   1.5388,  34.6752,  34.7200,4,   -999.0,    151.7,2,  1.2715
  492SSY9411_1,  P02W,   A08,  1,      4,2,19941102,1520, 31.5017, 133.8033, 4840,   3999.7,   1.5478,-999.0000,  34.7250,4,   -999.0,   -999.0,5,-999.0000
  492SSY9411_1,  P02W,   A08,  1,      3,2,19941102,1520, 31.5017, 133.8033, 4840,   4498.9,   1.5848,  34.6839,  34.7180,4,   -999.0,    156.9,2,  1.2073
  492SSY9411_1,  P02W,   A08,  1,      1,2,19941102,1520, 31.5017, 133.8033, 4840,   4938.1,   1.6238,  34.6832,  34.7340,4,   -999.0,    160.0,2,  1.1929
  492SSY9411_1,  P02W,   A08,  1,      2,2,19941102,1520, 31.5017, 133.8033, 4840,   4938.6,   1.6238,  34.6830,  34.7310,4,   -999.0,    157.0,2,  1.1928
  492SSY9411_1,  P02W,   A09,  1,     23,2,19941103,0102, 31.2500, 133.9333, 4550,     49.7,  24.5735,  34.7903,  34.8610,3,   -999.0,    207.3,2, 24.5629
  492SSY9411_1,  P02W,   A09,  1,     22,2,19941103,0102, 31.2500, 133.9333, 4550,    100.6,  21.4560,  34.8813,  34.9420,3,   -999.0,    202.3,2, 21.4365
  492SSY9411_1,  P02W,   A09,  1,     21,2,19941103,0102, 31.2500, 133.9333, 4550,    199.6,  18.5395,  34.8896,  34.9610,3,   -999.0,    204.8,2, 18.5045
  492SSY9411_1,  P02W,   A09,  1,     20,2,19941103,0102, 31.2500, 133.9333, 4550,    298.8,  17.1230,  34.7746,  34.8480,3,   -999.0,    197.8,2, 17.0734
  492SSY9411_1,  P02W,   A09,  1,     19,2,19941103,0102, 31.2500, 133.9333, 4550,    398.8,  15.5621,  34.6513,  34.7260,3,   -999.0,    189.4,2, 15.5000
  492SSY9411_1,  P02W,   A09,  1,     18,2,19941103,0102, 31.2500, 133.9333, 4550,    500.3,  12.9631,  34.4653,  34.5410,3,   -999.0,    175.9,2, 12.8940
  492SSY9411_1,  P02W,   A09,  1,     17,2,19941103,0102, 31.2500, 133.9333, 4550,    600.0,  10.6457,  34.3438,  34.4060,3,   -999.0,    156.7,2, 10.5726
  492SSY9411_1,  P02W,   A09,  1,     16,2,19941103,0102, 31.2500, 133.9333, 4550,    698.3,   7.9615,  34.1891,  34.2570,3,   -999.0,    137.5,2,  7.8897
  492SSY9411_1,  P02W,   A09,  1,     15,2,19941103,0102, 31.2500, 133.9333, 4550,    798.2,   6.0290,  34.1869,  34.2550,3,   -999.0,     99.2,2,  5.9578
  492SSY9411_1,  P02W,   A09,  1,     14,2,19941103,0102, 31.2500, 133.9333, 4550,    898.6,   5.0749,  34.2545,  34.3260,3,   -999.0,     77.9,2,  5.0005
  492SSY9411_1,  P02W,   A09,  1,     13,2,19941103,0102, 31.2500, 133.9333, 4550,    999.5,   4.3617,  34.3098,  34.3800,3,   -999.0,     69.6,2,  4.2835
  492SSY9411_1,  P02W,   A09,  1,     12,2,19941103,0102, 31.2500, 133.9333, 4550,   1247.4,   3.4189,  34.4152,  34.4920,3,   -999.0,     68.7,2,  3.3278
  492SSY9411_1,  P02W,   A09,  1,     11,2,19941103,0102, 31.2500, 133.9333, 4550,   1499.0,   2.8268,  34.5049,  34.5690,4,   -999.0,     80.0,2,  2.7211
  492SSY9411_1,  P02W,   A09,  1,     10,2,19941103,0102, 31.2500, 133.9333, 4550,   1747.9,   2.4756,  34.5357,  34.6080,4,   -999.0,     95.6,2,  2.3535
  492SSY9411_1,  P02W,   A09,  1,      9,2,19941103,0102, 31.2500, 133.9333, 4550,   1997.9,   2.1871,  34.5764,  34.6570,4,   -999.0,    106.1,2,  2.0479
  492SSY9411_1,  P02W,   A09,  1,      8,2,19941103,0102, 31.2500, 133.9333, 4550,   2246.9,   1.9914,  34.5987,  34.6770,4,   -999.0,    112.2,2,  1.8339
  492SSY9411_1,  P02W,   A09,  1,      7,2,19941103,0102, 31.2500, 133.9333, 4550,   2497.7,   1.8136,  34.6240,  34.7030,4,   -999.0,    126.1,2,  1.6368
  492SSY9411_1,  P02W,   A09,  1,      6,2,19941103,0102, 31.2500, 133.9333, 4550,   2998.3,   1.6118,  34.6546,  34.7320,4,   -999.0,    143.9,2,  1.3926
  492SSY9411_1,  P02W,   A09,  1,      5,2,19941103,0102, 31.2500, 133.9333, 4550,   3498.5,   1.5318,  34.6675,  34.7460,4,   -999.0,    156.5,2,  1.2649
  492SSY9411_1,  P02W,   A09,  1,      3,2,19941103,0102, 31.2500, 133.9333, 4550,   3998.1,   1.5478,-999.0000,  34.7510,4,   -999.0,   -999.0,5,-999.0000
  492SSY9411_1,  P02W,   A09,  1,      4,2,19941103,0102, 31.2500, 133.9333, 4550,   3999.9,   1.5478,-999.0000,  34.7550,4,   -999.0,   -999.0,5,-999.0000
  492SSY9411_1,  P02W,   A09,  1,      1,2,19941103,0102, 31.2500, 133.9333, 4550,   4609.9,   1.5968,  34.6753,  34.7640,4,   -999.0,    163.1,3,  1.2060
  492SSY9411_1,  P02W,   A09,  1,      2,2,19941103,0102, 31.2500, 133.9333, 4550,   4614.0,   1.5963,  34.6755,  34.7630,4,   -999.0,    157.0,2,  1.2051
  492SSY9411_1,  P02W,   A10,  1,     23,2,19941103,0417, 30.9983, 134.0650, 4420,     48.6,  24.8909,  34.6011,  34.6010,2,   -999.0,    206.0,2, 24.8804
  492SSY9411_1,  P02W,   A10,  1,     22,2,19941103,0417, 30.9983, 134.0650, 4420,    100.2,  22.6037,  34.9138,  34.8900,2,   -999.0,    209.8,2, 22.5835
  492SSY9411_1,  P02W,   A10,  1,     21,2,19941103,0417, 30.9983, 134.0650, 4420,    201.6,  18.6430,  34.8680,  34.8740,2,   -999.0,    200.4,2, 18.6075
  492SSY9411_1,  P02W,   A10,  1,     20,2,19941103,0417, 30.9983, 134.0650, 4420,    298.3,  17.4549,  34.8016,  34.8140,2,   -999.0,    200.8,2, 17.4047
  492SSY9411_1,  P02W,   A10,  1,     19,2,19941103,0417, 30.9983, 134.0650, 4420,    399.3,  15.7707,  34.6689,  34.6800,2,   -999.0,   -999.0,5, 15.7079
  492SSY9411_1,  P02W,   A10,  1,     18,2,19941103,0417, 30.9983, 134.0650, 4420,    499.5,  13.6201,  34.4941,  34.5150,2,   -999.0,    184.1,2, 13.5489
  492SSY9411_1,  P02W,   A10,  1,     17,2,19941103,0417, 30.9983, 134.0650, 4420,    599.7,  10.9101,  34.3346,  34.3450,2,   -999.0,    164.9,2, 10.8358
  492SSY9411_1,  P02W,   A10,  1,     16,2,19941103,0417, 30.9983, 134.0650, 4420,    700.9,   8.3680,  34.1965,  34.2150,2,   -999.0,    144.0,2,  8.2938
  492SSY9411_1,  P02W,   A10,  1,     15,2,19941103,0417, 30.9983, 134.0650, 4420,    799.6,   6.5658,  34.2009,  34.2110,2,   -999.0,    108.3,2,  6.4913
  492SSY9411_1,  P02W,   A10,  1,     14,2,19941103,0417, 30.9983, 134.0650, 4420,    898.8,   5.4249,  34.2357,  34.2430,2,   -999.0,     86.1,2,  5.3482
  492SSY9411_1,  P02W,   A10,  1,     13,2,19941103,0417, 30.9983, 134.0650, 4420,    999.7,   4.4136,  34.3133,  34.3150,2,   -999.0,     77.0,2,  4.3351
  492SSY9411_1,  P02W,   A10,  1,     12,2,19941103,0417, 30.9983, 134.0650, 4420,   1248.7,   3.2815,  34.4247,  34.4400,2,   -999.0,     72.6,2,  3.1916
  492SSY9411_1,  P02W,   A10,  1,     11,2,19941103,0417, 30.9983, 134.0650, 4420,   1499.9,   2.7316,  34.4973,  34.5040,2,   -999.0,     76.9,2,  2.6269
  492SSY9411_1,  P02W,   A10,  1,     10,2,19941103,0417, 30.9983, 134.0650, 4420,   1750.1,   2.3536,  34.5459,  34.5570,2,   -999.0,     91.7,2,  2.2329
  492SSY9411_1,  P02W,   A10,  1,      9,2,19941103,0417, 30.9983, 134.0650, 4420,   1998.5,   2.0434,-999.0000,  34.5930,2,   -999.0,    104.3,2,  1.9063
  492SSY9411_1,  P02W,   A10,  1,      8,2,19941103,0417, 30.9983, 134.0650, 4420,   2250.0,   1.9125,  34.6076,  34.6190,2,   -999.0,    117.8,2,  1.7560
  492SSY9411_1,  P02W,   A10,  1,      7,2,19941103,0417, 30.9983, 134.0650, 4420,   2498.9,   1.7627,  34.6310,  34.6420,2,   -999.0,    127.8,2,  1.5867
  492SSY9411_1,  P02W,   A10,  1,      6,2,19941103,0417, 30.9983, 134.0650, 4420,   2998.7,   1.5838,  34.6559,  34.6650,2,   -999.0,    144.3,2,  1.3651
  492SSY9411_1,  P02W,   A10,  1,      5,2,19941103,0417, 30.9983, 134.0650, 4420,   3498.7,   1.5243,  34.6705,  34.6770,2,   -999.0,    154.3,2,  1.2576
  492SSY9411_1,  P02W,   A10,  1,      3,2,19941103,0417, 30.9983, 134.0650, 4420,   3998.4,   1.5448,-999.0000,  34.6830,2,   -999.0,    153.9,2,  1.2247
  492SSY9411_1,  P02W,   A10,  1,      4,2,19941103,0417, 30.9983, 134.0650, 4420,   4003.0,   1.5448,-999.0000,  34.6820,2,   -999.0,    154.8,2,  1.2242
  492SSY9411_1,  P02W,   A10,  1,      1,2,19941103,0417, 30.9983, 134.0650, 4420,   4502.2,   1.5878,-999.0000,  34.6840,2,   -999.0,    160.0,2,  1.2098
  492SSY9411_1,  P02W,   A10,  1,      2,2,19941103,0417, 30.9983, 134.0650, 4420,   4506.0,   1.5878,-999.0000,  34.6850,2,   -999.0,    156.5,2,  1.2093