BOTTLE,20220814CCHSIOAMB
EXPOCODE,SECT_ID,STNNBR,CASTNO,BTLNBR,BTLNBR_FLAG_W,DATE,TIME,LATITUDE,LONGITUDE,DEPTH,CTDPRS,CTDTMP,CTDSAL,SALNTY,SALNTY_FLAG_W,CTDOXY,OXYGEN,OXYGEN_FLAG_W,THETA
,,,,,,,,,,,DBAR,ITS-90,PSS-78,PSS-78,,UMOL/KG,UMOL/KG,,DEG C
  492SSY9411_1,  P02W,     9,  1,     23,2,19941105,1306, 30.0000, 139.2533, 2700,     51.0,  25.0909,  34.8528,  34.8400,2,   -999.0,    206.5,2, 25.0798
  492SSY9411_1,  P02W,     9,  1,     22,2,19941105,1306, 30.0000, 139.2533, 2700,    102.1,  20.3021,  34.9210,  34.9090,2,   -999.0,    207.0,2, 20.2831
  492SSY9411_1,  P02W,     9,  1,     21,2,19941105,1306, 30.0000, 139.2533, 2700,    200.4,  18.5069,  34.8660,  34.8840,2,   -999.0,    206.1,2, 18.4718
  492SSY9411_1,  P02W,     9,  1,     20,2,19941105,1306, 30.0000, 139.2533, 2700,    299.6,  17.2675,  34.8221,  34.8190,2,   -999.0,    208.6,2, 17.2174
  492SSY9411_1,  P02W,     9,  1,     19,2,19941105,1306, 30.0000, 139.2533, 2700,    398.6,  15.7365,  34.6786,  34.6770,2,   -999.0,    188.1,2, 15.6740
  492SSY9411_1,  P02W,     9,  1,     18,2,19941105,1306, 30.0000, 139.2533, 2700,    500.2,  12.7372,  34.4563,  34.4520,2,   -999.0,    180.2,2, 12.6690
  492SSY9411_1,  P02W,     9,  1,     17,2,19941105,1306, 30.0000, 139.2533, 2700,    597.9,  10.0160,  34.2659,  34.2570,2,   -999.0,    167.1,2,  9.9459
  492SSY9411_1,  P02W,     9,  1,     16,2,19941105,1306, 30.0000, 139.2533, 2700,    699.6,   6.7885,  34.1739,  34.1660,2,   -999.0,   -999.0,5,  6.7226
  492SSY9411_1,  P02W,     9,  1,     15,2,19941105,1306, 30.0000, 139.2533, 2700,    800.4,   5.4406,  34.2051,  34.2170,2,   -999.0,     94.0,2,  5.3728
  492SSY9411_1,  P02W,     9,  1,     14,2,19941105,1306, 30.0000, 139.2533, 2700,    899.7,   4.5225,  34.2649,  34.2610,2,   -999.0,     69.1,2,  4.4518
  492SSY9411_1,  P02W,     9,  1,     13,2,19941105,1306, 30.0000, 139.2533, 2700,    999.4,   4.0898,  34.3109,  34.3100,2,   -999.0,     70.0,2,  4.0138
  492SSY9411_1,  P02W,     9,  1,     12,2,19941105,1306, 30.0000, 139.2533, 2700,   1248.2,   3.2070,  34.4385,  34.4300,2,   -999.0,     67.0,2,  3.1179
  492SSY9411_1,  P02W,     9,  1,     11,2,19941105,1306, 30.0000, 139.2533, 2700,   1499.9,   2.5423,  34.5115,  34.4940,2,   -999.0,     80.9,3,  2.4397
  492SSY9411_1,  P02W,     9,  1,     10,2,19941105,1306, 30.0000, 139.2533, 2700,   1746.4,   2.1713,  34.5620,  34.5590,2,   -999.0,     83.0,2,  2.0533
  492SSY9411_1,  P02W,     9,  1,      9,2,19941105,1306, 30.0000, 139.2533, 2700,   1746.6,   2.1708,  34.5624,  34.5580,2,   -999.0,     82.6,2,  2.0528
  492SSY9411_1,  P02W,     9,  1,      8,2,19941105,1306, 30.0000, 139.2533, 2700,   1994.1,   1.9555,  34.5907,  34.5930,2,   -999.0,     87.8,2,  1.8201
  492SSY9411_1,  P02W,     9,  1,      7,2,19941105,1306, 30.0000, 139.2533, 2700,   1996.5,   1.9525,  34.5964,  34.5910,2,   -999.0,     88.7,2,  1.8170
  492SSY9411_1,  P02W,     9,  1,      5,2,19941105,1306, 30.0000, 139.2533, 2700,   2246.8,   1.8696,  34.6107,  34.6070,2,   -999.0,    103.9,2,  1.7140
  492SSY9411_1,  P02W,     9,  1,      6,2,19941105,1306, 30.0000, 139.2533, 2700,   2249.5,   1.8696,  34.6143,  34.6100,2,   -999.0,    104.3,2,  1.7138
  492SSY9411_1,  P02W,     9,  1,      3,2,19941105,1306, 30.0000, 139.2533, 2700,   2498.4,   1.8047,  34.6258,  34.6270,2,   -999.0,    114.8,2,  1.6280
  492SSY9411_1,  P02W,     9,  1,      4,2,19941105,1306, 30.0000, 139.2533, 2700,   2499.4,   1.8076,  34.6259,  34.6240,2,   -999.0,    115.2,2,  1.6308
  492SSY9411_1,  P02W,     9,  1,      1,2,19941105,1306, 30.0000, 139.2533, 2700,   2647.0,   1.7722,  34.6295,  34.6310,2,   -999.0,    120.4,2,  1.5827
  492SSY9411_1,  P02W,     9,  1,      2,2,19941105,1306, 30.0000, 139.2533, 2700,   2649.5,   1.7722,  34.6283,  34.6330,2,   -999.0,    119.6,2,  1.5824
  492SSY9411_1,  P02W,    10,  1,     23,2,19941105,1805, 30.0000, 139.8300, 2500,     48.8,  25.7537,  34.8812,  34.8690,2,   -999.0,    204.7,2, 25.7429
  492SSY9411_1,  P02W,    10,  1,     22,2,19941105,1805, 30.0000, 139.8300, 2500,    100.2,  20.4666,  34.8828,  34.9000,2,   -999.0,    214.5,2, 20.4478
  492SSY9411_1,  P02W,    10,  1,     21,2,19941105,1805, 30.0000, 139.8300, 2500,    198.5,  17.8673,  34.8620,  34.8530,2,   -999.0,    207.8,2, 17.8334
  492SSY9411_1,  P02W,    10,  1,     20,2,19941105,1805, 30.0000, 139.8300, 2500,    299.9,  16.4353,  34.7449,  34.7390,2,   -999.0,    200.3,2, 16.3869
  492SSY9411_1,  P02W,    10,  1,     19,2,19941105,1805, 30.0000, 139.8300, 2500,    399.3,  14.8583,  34.6069,  34.6030,2,   -999.0,    187.7,2, 14.7981
  492SSY9411_1,  P02W,    10,  1,     18,2,19941105,1805, 30.0000, 139.8300, 2500,    499.0,  11.9970,  34.3991,  34.3940,2,   -999.0,    176.3,2, 11.9316
  492SSY9411_1,  P02W,    10,  1,     17,2,19941105,1805, 30.0000, 139.8300, 2500,    600.6,   8.9192,  34.2008,  34.1960,2,   -999.0,    158.8,2,  8.8535
  492SSY9411_1,  P02W,    10,  1,     16,2,19941105,1805, 30.0000, 139.8300, 2500,    698.7,   6.5576,  34.1255,  34.1520,2,   -999.0,    131.4,2,  6.4931
  492SSY9411_1,  P02W,    10,  1,     15,2,19941105,1805, 30.0000, 139.8300, 2500,    797.4,   5.2540,  34.1439,  34.1520,2,   -999.0,     94.4,2,  5.1877
  492SSY9411_1,  P02W,    10,  1,     14,2,19941105,1805, 30.0000, 139.8300, 2500,    900.1,   4.4705,  34.2204,  34.2180,2,   -999.0,     74.4,2,  4.4002
  492SSY9411_1,  P02W,    10,  1,     13,2,19941105,1805, 30.0000, 139.8300, 2500,    999.7,   3.8700,  34.3160,  34.3360,2,   -999.0,     70.4,2,  3.7955
  492SSY9411_1,  P02W,    10,  1,     11,2,19941105,1805, 30.0000, 139.8300, 2500,   1248.4,   3.0472,  34.4334,  34.4200,2,   -999.0,     57.8,2,  2.9596
  492SSY9411_1,  P02W,    10,  1,     12,2,19941105,1805, 30.0000, 139.8300, 2500,   1250.0,   3.0432,  34.4368,  34.4370,2,   -999.0,     54.3,2,  2.9554
  492SSY9411_1,  P02W,    10,  1,      9,2,19941105,1805, 30.0000, 139.8300, 2500,   1500.7,   2.4611,  34.5115,  34.5820,4,   -999.0,     59.6,2,  2.3594
  492SSY9411_1,  P02W,    10,  1,     10,2,19941105,1805, 30.0000, 139.8300, 2500,   1501.9,   2.4601,  34.5046,  34.5130,2,   -999.0,     52.2,2,  2.3583
  492SSY9411_1,  P02W,    10,  1,      7,2,19941105,1805, 30.0000, 139.8300, 2500,   1750.5,   2.2683,  34.5473,  34.5480,2,   -999.0,     72.6,2,  2.1487
  492SSY9411_1,  P02W,    10,  1,      8,2,19941105,1805, 30.0000, 139.8300, 2500,   1753.6,   2.2648,  34.5470,  34.5460,2,   -999.0,     73.0,2,  2.1450
  492SSY9411_1,  P02W,    10,  1,      5,2,19941105,1805, 30.0000, 139.8300, 2500,   2000.1,   2.0434,  34.5849,  34.5860,2,   -999.0,     85.6,2,  1.9062
  492SSY9411_1,  P02W,    10,  1,      6,2,19941105,1805, 30.0000, 139.8300, 2500,   2002.6,   2.0434,  34.5837,  34.5800,2,   -999.0,     86.5,2,  1.9060
  492SSY9411_1,  P02W,    10,  1,      3,2,19941105,1805, 30.0000, 139.8300, 2500,   2248.1,   1.8601,  34.6128,  34.6150,2,   -999.0,    102.6,2,  1.7045
  492SSY9411_1,  P02W,    10,  1,      4,2,19941105,1805, 30.0000, 139.8300, 2500,   2248.8,   1.8606,  34.6120,  34.6150,2,   -999.0,    103.5,2,  1.7050
  492SSY9411_1,  P02W,    10,  1,      1,2,19941105,1805, 30.0000, 139.8300, 2500,   2503.6,   1.7967,  34.6306,  34.6150,2,   -999.0,    112.2,2,  1.6198
  492SSY9411_1,  P02W,    10,  1,      2,2,19941105,1805, 30.0000, 139.8300, 2500,   2508.6,   1.7962,  34.6202,  34.6240,2,   -999.0,    111.3,2,  1.6188
  492SSY9411_1,  P02W,    11,  1,     23,2,19941105,2247, 30.0017, 140.4167, 2420,     48.2,  24.8932,  34.8586,  34.8640,2,   -999.0,    208.6,2, 24.8828
  492SSY9411_1,  P02W,    11,  1,     22,2,19941105,2247, 30.0017, 140.4167, 2420,     99.5,  18.7950,  34.8769,  34.8680,2,   -999.0,   -999.0,5, 18.7774
  492SSY9411_1,  P02W,    11,  1,     21,2,19941105,2247, 30.0017, 140.4167, 2420,    197.5,  17.3949,  34.8424,  34.8300,2,   -999.0,    212.6,2, 17.3618
  492SSY9411_1,  P02W,    11,  1,     20,2,19941105,2247, 30.0017, 140.4167, 2420,    298.9,  16.5997,  34.7582,  34.7550,2,   -999.0,    200.8,2, 16.5511
  492SSY9411_1,  P02W,    11,  1,     19,2,19941105,2247, 30.0017, 140.4167, 2420,    396.6,  15.1807,  34.6418,  34.6320,2,   -999.0,    192.5,2, 15.1199
  492SSY9411_1,  P02W,    11,  1,     18,2,19941105,2247, 30.0017, 140.4167, 2420,    498.5,  12.8601,  34.4710,-999.0000,5,   -999.0,   -999.0,5, 12.7917
  492SSY9411_1,  P02W,    11,  1,     17,2,19941105,2247, 30.0017, 140.4167, 2420,    597.2,   9.5568,  34.2256,  34.2160,2,   -999.0,    172.3,2,  9.4888
  492SSY9411_1,  P02W,    11,  1,     16,2,19941105,2247, 30.0017, 140.4167, 2420,    699.7,   6.9798,  34.1132,  34.1300,2,   -999.0,    138.8,2,  6.9130
  492SSY9411_1,  P02W,    11,  1,     15,2,19941105,2247, 30.0017, 140.4167, 2420,    799.2,   5.1531,  34.1242,  34.1210,2,   -999.0,     95.7,2,  5.0872
  492SSY9411_1,  P02W,    11,  1,     14,2,19941105,2247, 30.0017, 140.4167, 2420,    895.9,   4.6015,  34.2229,  34.1930,2,   -999.0,     71.8,2,  4.5307
  492SSY9411_1,  P02W,    11,  1,     13,2,19941105,2247, 30.0017, 140.4167, 2420,    999.1,   3.9550,  34.2919,  34.2840,2,   -999.0,     57.0,2,  3.8800
  492SSY9411_1,  P02W,    11,  1,     11,2,19941105,2247, 30.0017, 140.4167, 2420,   1248.6,   3.0047,  34.4432,  34.4040,3,   -999.0,   -999.0,5,  2.9174
  492SSY9411_1,  P02W,    11,  1,     12,2,19941105,2247, 30.0017, 140.4167, 2420,   1251.2,   3.0047,  34.4419,  34.4040,3,   -999.0,     44.3,2,  2.9172
  492SSY9411_1,  P02W,    11,  1,      9,2,19941105,2247, 30.0017, 140.4167, 2420,   1497.5,   2.5550,  34.5035,  34.4900,2,   -999.0,     47.4,2,  2.4525
  492SSY9411_1,  P02W,    11,  1,     10,2,19941105,2247, 30.0017, 140.4167, 2420,   1500.4,   2.5550,  34.5020,  34.4900,2,   -999.0,     48.3,2,  2.4523
  492SSY9411_1,  P02W,    11,  1,      7,2,19941105,2247, 30.0017, 140.4167, 2420,   1746.5,   2.1644,  34.5594,  34.5620,2,   -999.0,     64.3,2,  2.0465
  492SSY9411_1,  P02W,    11,  1,      8,2,19941105,2247, 30.0017, 140.4167, 2420,   1751.1,   2.1644,  34.5547,  34.5530,2,   -999.0,     62.6,2,  2.0461
  492SSY9411_1,  P02W,    11,  1,      5,2,19941105,2247, 30.0017, 140.4167, 2420,   1996.9,   1.9035,  34.6042,  34.5960,2,   -999.0,     86.5,2,  1.7687
  492SSY9411_1,  P02W,    11,  1,      6,2,19941105,2247, 30.0017, 140.4167, 2420,   2001.7,   1.9005,  34.6051,  34.6000,2,   -999.0,     86.5,2,  1.7653
  492SSY9411_1,  P02W,    11,  1,      3,2,19941105,2247, 30.0017, 140.4167, 2420,   2246.8,   1.7877,  34.6170,  34.6240,2,   -999.0,     99.1,2,  1.6335
  492SSY9411_1,  P02W,    11,  1,      4,2,19941105,2247, 30.0017, 140.4167, 2420,   2248.8,   1.7877,  34.6160,  34.6190,2,   -999.0,     99.5,2,  1.6333
  492SSY9411_1,  P02W,    11,  1,      1,2,19941105,2247, 30.0017, 140.4167, 2420,   2419.5,   1.7204,  34.6326,  34.6250,2,   -999.0,    110.4,2,  1.5523
  492SSY9411_1,  P02W,    11,  1,      2,2,19941105,2247, 30.0017, 140.4167, 2420,   2422.7,   1.7122,  34.6301,  34.6310,2,   -999.0,    106.9,2,  1.5440
  492SSY9411_1,  P02W,    12,  1,     23,2,19941106,0312, 30.0000, 141.0017, 3470,     47.7,  24.0619,  34.8117,  34.7760,2,   -999.0,    211.2,2, 24.0519
  492SSY9411_1,  P02W,    12,  1,     22,2,19941106,0312, 30.0000, 141.0017, 3470,     98.1,  19.1624,  34.8903,  34.8880,2,   -999.0,    217.9,2, 19.1448
  492SSY9411_1,  P02W,    12,  1,     21,2,19941106,0312, 30.0000, 141.0017, 3470,    198.4,  17.4194,  34.8400,  34.8330,2,   -999.0,    210.4,2, 17.3861
  492SSY9411_1,  P02W,    12,  1,     20,2,19941106,0312, 30.0000, 141.0017, 3470,    296.8,  16.6737,  34.7660,  34.7700,2,   -999.0,    201.7,2, 16.6253
  492SSY9411_1,  P02W,    12,  1,     19,2,19941106,0312, 30.0000, 141.0017, 3470,    398.9,  14.5004,  34.5882,  34.5930,2,   -999.0,    184.6,2, 14.4412
  492SSY9411_1,  P02W,    12,  1,     18,2,19941106,0312, 30.0000, 141.0017, 3470,    499.3,  11.9495,  34.4135,  34.5800,4,   -999.0,    174.5,2, 11.8842
  492SSY9411_1,  P02W,    12,  1,     17,2,19941106,0312, 30.0000, 141.0017, 3470,    596.8,   9.1635,  34.2060,  34.2180,2,   -999.0,    165.3,2,  9.0972
  492SSY9411_1,  P02W,    12,  1,     16,2,19941106,0312, 30.0000, 141.0017, 3470,    699.4,   6.1426,  34.0492,  34.0540,2,   -999.0,    138.3,2,  6.0803
  492SSY9411_1,  P02W,    12,  1,     15,2,19941106,0312, 30.0000, 141.0017, 3470,    800.0,   4.9835,  34.0791,  34.1690,4,   -999.0,    103.5,2,  4.9187
  492SSY9411_1,  P02W,    12,  1,     14,2,19941106,0312, 30.0000, 141.0017, 3470,    899.7,   4.2947,  34.1763,  34.1650,2,   -999.0,     69.6,2,  4.2257
  492SSY9411_1,  P02W,    12,  1,     13,2,19941106,0312, 30.0000, 141.0017, 3470,    999.1,   3.8705,  34.2745,  34.2580,2,   -999.0,     51.7,2,  3.7962
  492SSY9411_1,  P02W,    12,  1,     12,2,19941106,0312, 30.0000, 141.0017, 3470,   1244.5,   3.0507,  34.4173,  34.4140,2,   -999.0,     42.6,2,  2.9634
  492SSY9411_1,  P02W,    12,  1,     11,2,19941106,0312, 30.0000, 141.0017, 3470,   1499.5,   2.5121,  34.5067,  34.5050,2,   -999.0,     53.0,2,  2.4099
  492SSY9411_1,  P02W,    12,  1,     10,2,19941106,0312, 30.0000, 141.0017, 3470,   1751.3,   2.1798,  34.5590,  34.5530,2,   -999.0,     62.6,2,  2.0613
  492SSY9411_1,  P02W,    12,  1,      9,2,19941106,0312, 30.0000, 141.0017, 3470,   1999.6,   1.9355,  34.5970,  34.5930,2,   -999.0,     81.3,2,  1.8000
  492SSY9411_1,  P02W,    12,  1,      7,2,19941106,0312, 30.0000, 141.0017, 3470,   2248.7,   1.7882,  34.6180,  34.6310,2,   -999.0,     99.1,2,  1.6338
  492SSY9411_1,  P02W,    12,  1,      8,2,19941106,0312, 30.0000, 141.0017, 3470,   2253.5,   1.7842,  34.6261,  34.6230,2,   -999.0,     99.5,2,  1.6294
  492SSY9411_1,  P02W,    12,  1,      6,2,19941106,0312, 30.0000, 141.0017, 3470,   2498.8,   1.6677,  34.6412,  34.6390,2,   -999.0,    115.2,2,  1.4935
  492SSY9411_1,  P02W,    12,  1,      5,2,19941106,0312, 30.0000, 141.0017, 3470,   2499.0,   1.6597,  34.6509,  34.6460,2,   -999.0,    114.8,2,  1.4856
  492SSY9411_1,  P02W,    12,  1,      3,2,19941106,0312, 30.0000, 141.0017, 3470,   2999.3,   1.5318,  34.6730,  34.6520,3,   -999.0,    133.5,2,  1.3142
  492SSY9411_1,  P02W,    12,  1,      4,2,19941106,0312, 30.0000, 141.0017, 3470,   3005.4,   1.5318,  34.6726,  34.6570,3,   -999.0,    132.2,2,  1.3136
  492SSY9411_1,  P02W,    12,  1,      1,2,19941106,0312, 30.0000, 141.0017, 3470,   3500.8,   1.4608,  34.6792,  34.6830,2,   -999.0,    145.2,2,  1.1954
  492SSY9411_1,  P02W,    12,  1,      2,2,19941106,0312, 30.0000, 141.0017, 3470,   3502.4,   1.4608,  34.6785,  34.6770,2,   -999.0,    143.9,2,  1.1953
  492SSY9411_1,  P02W,    13,  1,     23,2,19941109,0946, 30.0033, 141.5767, 4170,    102.0,  18.4827,  34.8909,  34.8730,2,   -999.0,   -999.0,5, 18.4649
  492SSY9411_1,  P02W,    13,  1,     22,2,19941109,0946, 30.0033, 141.5767, 4170,    198.5,  16.9921,  34.8140,  34.7840,2,   -999.0,    220.0,2, 16.9594
  492SSY9411_1,  P02W,    13,  1,     21,2,19941109,0946, 30.0033, 141.5767, 4170,    298.4,  15.6535,  34.6781,  34.6690,2,   -999.0,    195.5,2, 15.6070
  492SSY9411_1,  P02W,    13,  1,     20,2,19941109,0946, 30.0033, 141.5767, 4170,    395.8,  13.3212,  34.5534,  34.5010,2,   -999.0,    185.0,2, 13.2658
  492SSY9411_1,  P02W,    13,  1,     19,2,19941109,0946, 30.0033, 141.5767, 4170,    499.4,  10.6297,  34.3220,  34.3190,2,   -999.0,    177.5,2, 10.5692
  492SSY9411_1,  P02W,    13,  1,     18,2,19941109,0946, 30.0033, 141.5767, 4170,    600.9,   8.1316,  34.1581,  34.1640,2,   -999.0,    157.9,2,  8.0695
  492SSY9411_1,  P02W,    13,  1,     17,2,19941109,0946, 30.0033, 141.5767, 4170,    696.1,   5.9261,  34.0621,  34.0650,2,   -999.0,    135.7,2,  5.8652
  492SSY9411_1,  P02W,    13,  1,     16,2,19941109,0946, 30.0033, 141.5767, 4170,    798.4,   5.1771,  34.1311,  34.1230,2,   -999.0,    105.3,2,  5.1111
  492SSY9411_1,  P02W,    13,  1,     15,2,19941109,0946, 30.0033, 141.5767, 4170,    898.6,   4.4688,  34.1938,  34.1890,2,   -999.0,     83.1,2,  4.3987
  492SSY9411_1,  P02W,    13,  1,     14,2,19941109,0946, 30.0033, 141.5767, 4170,   1000.0,   3.9624,  34.2931,  34.3010,2,   -999.0,     63.5,2,  3.8873
  492SSY9411_1,  P02W,    13,  1,     13,2,19941109,0946, 30.0033, 141.5767, 4170,   1246.1,   3.0232,  34.4249,  34.4030,2,   -999.0,     59.1,2,  2.9360
  492SSY9411_1,  P02W,    13,  1,     12,2,19941109,0946, 30.0033, 141.5767, 4170,   1498.8,   2.4996,  34.5020,  34.4980,2,   -999.0,     56.1,2,  2.3976
  492SSY9411_1,  P02W,    13,  1,     11,2,19941109,0946, 30.0033, 141.5767, 4170,   1747.7,   2.2123,  34.5642,  34.5630,2,   -999.0,     82.2,2,  2.0936
  492SSY9411_1,  P02W,    13,  1,     10,2,19941109,0946, 30.0033, 141.5767, 4170,   1998.1,   1.9547,  34.5994,  34.5950,2,   -999.0,     91.7,2,  1.8190
  492SSY9411_1,  P02W,    13,  1,      9,2,19941109,0946, 30.0033, 141.5767, 4170,   2248.7,   1.8032,  34.6279,  34.6130,2,   -999.0,    101.3,2,  1.6486
  492SSY9411_1,  P02W,    13,  1,      8,2,19941109,0946, 30.0033, 141.5767, 4170,   2495.8,   1.6997,  34.6455,  34.6360,2,   -999.0,    114.3,2,  1.5252
  492SSY9411_1,  P02W,    13,  1,      7,2,19941109,0946, 30.0033, 141.5767, 4170,   2999.8,   1.5318,  34.6728,  34.6650,2,   -999.0,    141.3,2,  1.3142
  492SSY9411_1,  P02W,    13,  1,      5,2,19941109,0946, 30.0033, 141.5767, 4170,   3498.5,   1.4529,  34.6838,  34.6780,2,   -999.0,    154.3,2,  1.1879
  492SSY9411_1,  P02W,    13,  1,      6,2,19941109,0946, 30.0033, 141.5767, 4170,   3501.2,   1.4539,  34.6779,  34.6790,2,   -999.0,    152.6,2,  1.1886
  492SSY9411_1,  P02W,    13,  1,      3,2,19941109,0946, 30.0033, 141.5767, 4170,   3999.3,   1.4435,  34.6827,  34.6770,2,   -999.0,    163.0,2,  1.1261
  492SSY9411_1,  P02W,    13,  1,      4,2,19941109,0946, 30.0033, 141.5767, 4170,   4000.4,   1.4430,  34.6803,  34.6870,2,   -999.0,    163.9,2,  1.1255
  492SSY9411_1,  P02W,    13,  1,      1,2,19941109,0946, 30.0033, 141.5767, 4170,   4236.3,   1.4442,-999.0000,  34.6830,2,   -999.0,    164.3,2,  1.1007
  492SSY9411_1,  P02W,    13,  1,      2,2,19941109,0946, 30.0033, 141.5767, 4170,   4240.6,   1.4440,-999.0000,  34.6820,2,   -999.0,    164.3,2,  1.1000