BOTTLE,20220814CCHSIOAMB
EXPOCODE,SECT_ID,STNNBR,CASTNO,BTLNBR,BTLNBR_FLAG_W,DATE,TIME,LATITUDE,LONGITUDE,DEPTH,CTDPRS,CTDTMP,CTDSAL,SALNTY,SALNTY_FLAG_W,CTDOXY,OXYGEN,OXYGEN_FLAG_W,THETA
,,,,,,,,,,,DBAR,ITS-90,PSS-78,PSS-78,,UMOL/KG,UMOL/KG,,DEG C
  492SSY9411_1,  P02W,     4,  1,     23,2,19941104,1017, 30.0083, 136.3250, 4250,     49.5,  24.5615,  34.7750,  34.8030,2,   -999.0,    207.7,2, 24.5509
  492SSY9411_1,  P02W,     4,  1,     22,2,19941104,1017, 30.0083, 136.3250, 4250,     97.4,  20.6134,  34.9791,-999.0000,5,   -999.0,   -999.0,5, 20.5950
  492SSY9411_1,  P02W,     4,  1,     21,2,19941104,1017, 30.0083, 136.3250, 4250,    198.2,  18.6745,  34.9406,  34.9320,2,   -999.0,    209.6,2, 18.6396
  492SSY9411_1,  P02W,     4,  1,     20,2,19941104,1017, 30.0083, 136.3250, 4250,    297.3,  17.2730,  34.8052,  34.7990,2,   -999.0,    198.2,2, 17.2233
  492SSY9411_1,  P02W,     4,  1,     19,2,19941104,1017, 30.0083, 136.3250, 4250,    397.6,  15.7865,  34.6776,  34.6770,2,   -999.0,    186.4,2, 15.7240
  492SSY9411_1,  P02W,     4,  1,     18,2,19941104,1017, 30.0083, 136.3250, 4250,    498.6,  13.5943,  34.5032,  34.5240,2,   -999.0,    178.9,2, 13.5233
  492SSY9411_1,  P02W,     4,  1,     17,2,19941104,1017, 30.0083, 136.3250, 4250,    598.4,  11.0121,  34.3370,  34.3370,2,   -999.0,    169.3,2, 10.9375
  492SSY9411_1,  P02W,     4,  1,     16,2,19941104,1017, 30.0083, 136.3250, 4250,    697.9,   8.4160,  34.2244,  34.2200,2,   -999.0,    137.5,2,  8.3419
  492SSY9411_1,  P02W,     4,  1,     15,2,19941104,1017, 30.0083, 136.3250, 4250,    797.4,   6.7280,  34.2130,  34.2120,2,   -999.0,    107.9,2,  6.6527
  492SSY9411_1,  P02W,     4,  1,     14,2,19941104,1017, 30.0083, 136.3250, 4250,    899.1,   5.3369,  34.2644,  34.2550,2,   -999.0,     80.5,2,  5.2607
  492SSY9411_1,  P02W,     4,  1,     13,2,19941104,1017, 30.0083, 136.3250, 4250,    999.9,   4.4546,  34.3234,  34.3190,2,   -999.0,     83.5,3,  4.3758
  492SSY9411_1,  P02W,     4,  1,     12,2,19941104,1017, 30.0083, 136.3250, 4250,   1247.6,   3.2665,  34.4410,  34.4400,2,   -999.0,     65.7,2,  3.1768
  492SSY9411_1,  P02W,     4,  1,     11,2,19941104,1017, 30.0083, 136.3250, 4250,   1497.2,   2.6770,  34.5129,  34.5010,2,   -999.0,     81.3,2,  2.5731
  492SSY9411_1,  P02W,     4,  1,     10,2,19941104,1017, 30.0083, 136.3250, 4250,   1751.1,   2.2922,  34.5655,  34.5590,2,   -999.0,     91.3,2,  2.1723
  492SSY9411_1,  P02W,     4,  1,      9,2,19941104,1017, 30.0083, 136.3250, 4250,   1998.8,   2.0239,  34.5978,  34.5950,2,   -999.0,    105.2,2,  1.8871
  492SSY9411_1,  P02W,     4,  1,      8,2,19941104,1017, 30.0083, 136.3250, 4250,   2249.7,   1.8236,  34.6264,  34.6230,2,   -999.0,    123.9,2,  1.6685
  492SSY9411_1,  P02W,     4,  1,      7,2,19941104,1017, 30.0083, 136.3250, 4250,   2499.8,   1.7147,  34.6411,  34.6400,2,   -999.0,    129.1,2,  1.5395
  492SSY9411_1,  P02W,     4,  1,      6,2,19941104,1017, 30.0083, 136.3250, 4250,   2996.9,   1.5458,  34.6678,  34.6710,2,   -999.0,    144.8,2,  1.3281
  492SSY9411_1,  P02W,     4,  1,      5,2,19941104,1017, 30.0083, 136.3250, 4250,   3498.6,   1.5048,  34.6765,  34.6740,2,   -999.0,    150.4,2,  1.2386
  492SSY9411_1,  P02W,     4,  1,      3,2,19941104,1017, 30.0083, 136.3250, 4250,   3998.9,   1.5258,-999.0000,  34.6810,2,   -999.0,    153.0,2,  1.2062
  492SSY9411_1,  P02W,     4,  1,      4,2,19941104,1017, 30.0083, 136.3250, 4250,   4001.6,   1.5248,-999.0000,  34.6760,2,   -999.0,    153.5,2,  1.2050
  492SSY9411_1,  P02W,     4,  1,      1,2,19941104,1017, 30.0083, 136.3250, 4250,   4321.1,   1.5523,  34.6843,  34.6720,4,   -999.0,    152.6,2,  1.1961
  492SSY9411_1,  P02W,     4,  1,      2,2,19941104,1017, 30.0083, 136.3250, 4250,   4323.8,   1.5543,  34.6811,  34.6850,2,   -999.0,    153.0,2,  1.1978
  492SSY9411_1,  P02W,     5,  1,     23,2,19941104,1456, 30.0000, 136.9150, 4250,     49.2,  24.2811,  34.7287,  34.7250,2,   -999.0,    208.6,2, 24.2706
  492SSY9411_1,  P02W,     5,  1,     22,2,19941104,1456, 30.0000, 136.9150, 4250,     99.5,  19.9622,  34.9198,  34.9280,2,   -999.0,    206.6,2, 19.9439
  492SSY9411_1,  P02W,     5,  1,     21,2,19941104,1456, 30.0000, 136.9150, 4250,    199.9,  18.2607,  34.8925,  34.8880,2,   -999.0,    207.8,2, 18.2260
  492SSY9411_1,  P02W,     5,  1,     20,2,19941104,1456, 30.0000, 136.9150, 4250,    297.4,  17.1910,-999.0000,  34.8010,2,   -999.0,    202.1,2, 17.1414
  492SSY9411_1,  P02W,     5,  1,     19,2,19941104,1456, 30.0000, 136.9150, 4250,    397.9,  15.3481,  34.6346,  34.6500,2,   -999.0,    189.4,2, 15.2867
  492SSY9411_1,  P02W,     5,  1,     18,2,19941104,1456, 30.0000, 136.9150, 4250,    499.2,  12.9811,  34.4636,  34.4700,2,   -999.0,    178.0,2, 12.9121
  492SSY9411_1,  P02W,     5,  1,     17,2,19941104,1456, 30.0000, 136.9150, 4250,    599.2,  10.4353,  34.3000,  34.3080,2,   -999.0,    164.0,2, 10.3632
  492SSY9411_1,  P02W,     5,  1,     16,2,19941104,1456, 30.0000, 136.9150, 4250,    698.1,   7.9762,  34.2251,  34.2130,2,   -999.0,    132.7,2,  7.9043
  492SSY9411_1,  P02W,     5,  1,     15,2,19941104,1456, 30.0000, 136.9150, 4250,    798.7,   6.3373,  34.2229,  34.2160,2,   -999.0,    101.8,2,  6.2642
  492SSY9411_1,  P02W,     5,  1,     14,2,19941104,1456, 30.0000, 136.9150, 4250,    900.1,   4.9422,  34.2822,  34.2830,2,   -999.0,     74.8,2,  4.8686
  492SSY9411_1,  P02W,     5,  1,     13,2,19941104,1456, 30.0000, 136.9150, 4250,   1001.6,   4.1738,  34.3437,  34.3460,2,   -999.0,     66.5,2,  4.0969
  492SSY9411_1,  P02W,     5,  1,     12,2,19941104,1456, 30.0000, 136.9150, 4250,   1251.0,   3.1305,  34.4538,  34.4490,2,   -999.0,     66.5,2,  3.0419
  492SSY9411_1,  P02W,     5,  1,     11,2,19941104,1456, 30.0000, 136.9150, 4250,   1499.9,   2.6035,  34.5166,  34.5240,2,   -999.0,     82.2,2,  2.5002
  492SSY9411_1,  P02W,     5,  1,     10,2,19941104,1456, 30.0000, 136.9150, 4250,   1749.5,   2.2433,  34.5658,  34.5700,2,   -999.0,     95.2,2,  2.1240
  492SSY9411_1,  P02W,     5,  1,      9,2,19941104,1456, 30.0000, 136.9150, 4250,   2002.0,   1.9939,  34.5975,  34.6050,2,   -999.0,    109.5,2,  1.8573
  492SSY9411_1,  P02W,     5,  1,      8,2,19941104,1456, 30.0000, 136.9150, 4250,   2251.2,   1.8266,  34.6299,  34.6300,2,   -999.0,    120.8,2,  1.6713
  492SSY9411_1,  P02W,     5,  1,      7,2,19941104,1456, 30.0000, 136.9150, 4250,   2500.9,   1.6997,  34.6480,  34.6430,2,   -999.0,    131.3,2,  1.5247
  492SSY9411_1,  P02W,     5,  1,      6,2,19941104,1456, 30.0000, 136.9150, 4250,   2999.3,   1.5608,  34.6643,  34.6650,2,   -999.0,    147.4,2,  1.3426
  492SSY9411_1,  P02W,     5,  1,      5,2,19941104,1456, 30.0000, 136.9150, 4250,   3500.2,   1.5028,  34.6754,  34.6800,2,   -999.0,    152.2,2,  1.2364
  492SSY9411_1,  P02W,     5,  1,      3,2,19941104,1456, 30.0000, 136.9150, 4250,   3995.7,   1.5226,  34.6811,  34.6830,2,   -999.0,    155.2,2,  1.2034
  492SSY9411_1,  P02W,     5,  1,      4,2,19941104,1456, 30.0000, 136.9150, 4250,   3997.7,   1.5238,  34.6766,  34.6820,2,   -999.0,    161.7,2,  1.2044
  492SSY9411_1,  P02W,     5,  1,      2,2,19941104,1456, 30.0000, 136.9150, 4250,   4312.5,   1.5478,  34.6914,  34.6840,2,   -999.0,    155.2,2,  1.1927
  492SSY9411_1,  P02W,     5,  1,      1,2,19941104,1456, 30.0000, 136.9150, 4250,   4313.9,   1.5488,  34.6910,  34.6840,2,   -999.0,    157.8,2,  1.1935
  492SSY9411_1,  P02W,     6,  1,     23,2,19941104,1958, 30.0067, 137.5083, 4560,     50.8,  24.2584,  34.7098,  34.7000,2,   -999.0,    207.7,2, 24.2476
  492SSY9411_1,  P02W,     6,  1,     22,2,19941104,1958, 30.0067, 137.5083, 4560,     99.1,  20.2251,  34.9663,  34.9340,2,   -999.0,    206.6,2, 20.2067
  492SSY9411_1,  P02W,     6,  1,     21,2,19941104,1958, 30.0067, 137.5083, 4560,    200.3,  18.2015,  34.8923,  34.8770,2,   -999.0,    208.7,2, 18.1669
  492SSY9411_1,  P02W,     6,  1,     20,2,19941104,1958, 30.0067, 137.5083, 4560,    298.4,  16.9471,  34.7807,  34.7720,2,   -999.0,    200.8,2, 16.8979
  492SSY9411_1,  P02W,     6,  1,     19,2,19941104,1958, 30.0067, 137.5083, 4560,    398.5,  14.8443,  34.6192,  34.3770,4,   -999.0,    185.9,2, 14.7843
  492SSY9411_1,  P02W,     6,  1,     18,2,19941104,1958, 30.0067, 137.5083, 4560,    505.3,  11.5579,  34.3689,  34.3770,2,   -999.0,    171.0,2, 11.4933
  492SSY9411_1,  P02W,     6,  1,     17,2,19941104,1958, 30.0067, 137.5083, 4560,    601.1,   8.8962,  34.2095,  34.2000,2,   -999.0,    161.0,2,  8.8306
  492SSY9411_1,  P02W,     6,  1,     16,2,19941104,1958, 30.0067, 137.5083, 4560,    699.5,   6.8799,  34.1746,  34.1690,2,   -999.0,    119.2,2,  6.8136
  492SSY9411_1,  P02W,     6,  1,     15,2,19941104,1958, 30.0067, 137.5083, 4560,    796.8,   5.8551,  34.2273,  34.2570,2,   -999.0,    106.1,2,  5.7850
  492SSY9411_1,  P02W,     6,  1,     14,2,19941104,1958, 30.0067, 137.5083, 4560,    899.0,   4.6335,  34.2848,  34.2830,2,   -999.0,     71.3,2,  4.5621
  492SSY9411_1,  P02W,     6,  1,     13,2,19941104,1958, 30.0067, 137.5083, 4560,    999.3,   4.0619,  34.3434,  34.3410,2,   -999.0,     73.1,2,  3.9861
  492SSY9411_1,  P02W,     6,  1,     12,2,19941104,1958, 30.0067, 137.5083, 4560,   1251.2,   3.1565,  34.4504,  34.4360,2,   -999.0,     70.0,2,  3.0676
  492SSY9411_1,  P02W,     6,  1,     11,2,19941104,1958, 30.0067, 137.5083, 4560,   1497.9,   2.5475,  34.5210,  34.5190,2,   -999.0,     87.8,2,  2.4450
  492SSY9411_1,  P02W,     6,  1,     10,2,19941104,1958, 30.0067, 137.5083, 4560,   1749.6,   2.1998,  34.5741,  34.5660,2,   -999.0,     99.1,2,  2.0811
  492SSY9411_1,  P02W,     6,  1,      9,2,19941104,1958, 30.0067, 137.5083, 4560,   1999.8,   1.9645,  34.6078,  34.6040,2,   -999.0,    113.9,2,  1.8285
  492SSY9411_1,  P02W,     6,  1,      8,2,19941104,1958, 30.0067, 137.5083, 4560,   2249.7,   1.8236,  34.6320,  34.6270,2,   -999.0,    123.0,2,  1.6685
  492SSY9411_1,  P02W,     6,  1,      7,2,19941104,1958, 30.0067, 137.5083, 4560,   2499.7,   1.7077,  34.6400,  34.6430,2,   -999.0,    131.7,2,  1.5327
  492SSY9411_1,  P02W,     6,  1,      6,2,19941104,1958, 30.0067, 137.5083, 4560,   3000.1,   1.5518,  34.6686,  34.6730,2,   -999.0,    147.8,2,  1.3337
  492SSY9411_1,  P02W,     6,  1,      5,2,19941104,1958, 30.0067, 137.5083, 4560,   3500.2,   1.5078,  34.6787,  34.6790,2,   -999.0,    153.0,2,  1.2413
  492SSY9411_1,  P02W,     6,  1,      4,2,19941104,1958, 30.0067, 137.5083, 4560,   3998.8,   1.5278,  34.6841,  34.6800,2,   -999.0,    159.1,2,  1.2082
  492SSY9411_1,  P02W,     6,  1,      3,2,19941104,1958, 30.0067, 137.5083, 4560,   4495.8,   1.5718,  34.6878,  34.6800,2,   -999.0,    159.6,2,  1.1951
  492SSY9411_1,  P02W,     6,  1,      2,2,19941104,1958, 30.0067, 137.5083, 4560,   4542.2,   1.5778,  34.6847,  34.6790,2,   -999.0,    160.0,2,  1.1955
  492SSY9411_1,  P02W,     6,  1,      1,2,19941104,1958, 30.0067, 137.5083, 4560,   4543.4,   1.5783,  34.6837,-999.0000,5,   -999.0,    157.4,2,  1.1958
  492SSY9411_1,  P02W,     7,  1,     23,2,19941105,0231, 30.0000, 138.0950, 4100,     48.6,  24.2296,  34.7276,  34.7240,2,   -999.0,    208.6,2, 24.2193
  492SSY9411_1,  P02W,     7,  1,     22,2,19941105,0231, 30.0000, 138.0950, 4100,     97.5,  20.7825,  34.9231,  34.9260,2,   -999.0,    213.2,2, 20.7640
  492SSY9411_1,  P02W,     7,  1,     21,2,19941105,0231, 30.0000, 138.0950, 4100,    198.8,  18.5635,  34.8992,  34.8940,2,   -999.0,    205.2,2, 18.5287
  492SSY9411_1,  P02W,     7,  1,     20,2,19941105,0231, 30.0000, 138.0950, 4100,    296.7,  17.3514,  34.8142,  34.8140,2,   -999.0,    203.9,2, 17.3017
  492SSY9411_1,  P02W,     7,  1,     19,2,19941105,0231, 30.0000, 138.0950, 4100,    398.0,  15.4116,  34.6558,  34.6500,2,   -999.0,    186.8,2, 15.3500
  492SSY9411_1,  P02W,     7,  1,     18,2,19941105,0231, 30.0000, 138.0950, 4100,    499.0,  12.3658,  34.4293,  34.4260,2,   -999.0,    172.8,2, 12.2991
  492SSY9411_1,  P02W,     7,  1,     17,2,19941105,0231, 30.0000, 138.0950, 4100,    598.4,   9.2985,  34.2586,  34.2400,2,   -999.0,    158.4,2,  9.2314
  492SSY9411_1,  P02W,     7,  1,     16,2,19941105,0231, 30.0000, 138.0950, 4100,    699.8,   6.2963,  34.1359,  34.1180,2,   -999.0,    123.1,2,  6.2331
  492SSY9411_1,  P02W,     7,  1,     15,2,19941105,0231, 30.0000, 138.0950, 4100,    798.5,   5.0699,  34.1998,  34.2030,2,   -999.0,     87.0,2,  5.0045
  492SSY9411_1,  P02W,     7,  1,     14,2,19941105,0231, 30.0000, 138.0950, 4100,    899.5,   4.4256,  34.3251,  34.3270,2,   -999.0,     67.8,2,  4.3555
  492SSY9411_1,  P02W,     7,  1,     13,2,19941105,0231, 30.0000, 138.0950, 4100,    999.1,   3.8965,  34.3762,  34.3750,2,   -999.0,     65.2,2,  3.8218
  492SSY9411_1,  P02W,     7,  1,     12,2,19941105,0231, 30.0000, 138.0950, 4100,   1250.2,   2.9997,  34.4706,  34.4790,2,   -999.0,     71.7,2,  2.9123
  492SSY9411_1,  P02W,     7,  1,     11,2,19941105,0231, 30.0000, 138.0950, 4100,   1498.6,   2.5111,  34.5301,  34.5350,2,   -999.0,     83.9,2,  2.4089
  492SSY9411_1,  P02W,     7,  1,     10,2,19941105,0231, 30.0000, 138.0950, 4100,   1749.9,   2.2213,  34.5731,  34.5660,2,   -999.0,     95.6,2,  2.1023
  492SSY9411_1,  P02W,     7,  1,      9,2,19941105,0231, 30.0000, 138.0950, 4100,   1999.2,   1.9497,  34.6018,  34.5990,2,   -999.0,    104.8,2,  1.8140
  492SSY9411_1,  P02W,     7,  1,      8,2,19941105,0231, 30.0000, 138.0950, 4100,   2249.7,   1.7562,  34.6320,  34.6420,2,   -999.0,    124.3,2,  1.6022
  492SSY9411_1,  P02W,     7,  1,      7,2,19941105,0231, 30.0000, 138.0950, 4100,   2498.4,   1.6677,  34.6439,  34.6500,2,   -999.0,    133.0,2,  1.4935
  492SSY9411_1,  P02W,     7,  1,      5,2,19941105,0231, 30.0000, 138.0950, 4100,   2999.5,   1.6263,  34.6595,  34.6530,2,   -999.0,    138.2,2,  1.4067
  492SSY9411_1,  P02W,     7,  1,      6,2,19941105,0231, 30.0000, 138.0950, 4100,   3001.9,   1.6282,  34.6564,  34.6640,2,   -999.0,    140.4,2,  1.4082
  492SSY9411_1,  P02W,     7,  1,      3,2,19941105,0231, 30.0000, 138.0950, 4100,   3496.9,   1.5398,  34.6769,  34.6680,2,   -999.0,    149.1,2,  1.2729
  492SSY9411_1,  P02W,     7,  1,      4,2,19941105,0231, 30.0000, 138.0950, 4100,   3499.5,   1.5318,  34.6843,  34.6780,2,   -999.0,    150.8,2,  1.2648
  492SSY9411_1,  P02W,     7,  1,      1,2,19941105,0231, 30.0000, 138.0950, 4100,   4053.0,   1.5283,-999.0000,  34.6840,2,   -999.0,    156.9,2,  1.2027
  492SSY9411_1,  P02W,     7,  1,      2,2,19941105,0231, 30.0000, 138.0950, 4100,   4057.7,   1.5283,-999.0000,  34.6790,2,   -999.0,    154.3,2,  1.2022
  492SSY9411_1,  P02W,     8,  1,     23,2,19941105,0732, 30.0050, 138.6617, 2060,     50.7,  24.8169,  34.8193,  34.8070,2,   -999.0,    206.4,2, 24.8060
  492SSY9411_1,  P02W,     8,  1,     22,2,19941105,0732, 30.0050, 138.6617, 2060,    101.2,  19.9862,  34.9160,  34.9050,2,   -999.0,    207.9,2, 19.9675
  492SSY9411_1,  P02W,     8,  1,     21,2,19941105,0732, 30.0050, 138.6617, 2060,    201.8,  18.2265,  34.8819,  34.8950,2,   -999.0,    206.1,2, 18.1916
  492SSY9411_1,  P02W,     8,  1,     20,2,19941105,0732, 30.0050, 138.6617, 2060,    301.0,  17.1840,-999.0000,  34.7920,2,   -999.0,    202.1,2, 17.1339
  492SSY9411_1,  P02W,     8,  1,     19,2,19941105,0732, 30.0050, 138.6617, 2060,    402.3,  15.4171,  34.6524,-999.0000,5,   -999.0,    190.7,2, 15.3548
  492SSY9411_1,  P02W,     8,  1,     18,2,19941105,0732, 30.0050, 138.6617, 2060,    501.1,  12.8926,  34.4671,  34.4840,2,   -999.0,    178.9,2, 12.8237
  492SSY9411_1,  P02W,     8,  1,     17,2,19941105,0732, 30.0050, 138.6617, 2060,    599.6,  10.3424,  34.3146,  34.3010,2,   -999.0,    161.0,2, 10.2706
  492SSY9411_1,  P02W,     8,  1,     16,2,19941105,0732, 30.0050, 138.6617, 2060,    702.1,   7.8723,  34.2239,  34.2140,2,   -999.0,    136.2,2,  7.8005
  492SSY9411_1,  P02W,     8,  1,     15,2,19941105,0732, 30.0050, 138.6617, 2060,    797.7,   6.0370,  34.2317,  34.2310,2,   -999.0,     99.2,2,  5.9658
  492SSY9411_1,  P02W,     8,  1,     13,2,19941105,0732, 30.0050, 138.6617, 2060,    900.8,   4.6725,  34.3007,  34.2980,2,   -999.0,     75.2,2,  4.6006
  492SSY9411_1,  P02W,     8,  1,     14,2,19941105,0732, 30.0050, 138.6617, 2060,    902.2,   4.6735,  34.2989,  34.3000,2,   -999.0,     76.1,2,  4.6015
  492SSY9411_1,  P02W,     8,  1,     11,2,19941105,0732, 30.0050, 138.6617, 2060,   1001.6,   3.7991,  34.3758,  34.3760,2,   -999.0,     75.7,2,  3.7250
  492SSY9411_1,  P02W,     8,  1,     12,2,19941105,0732, 30.0050, 138.6617, 2060,   1003.6,   3.8026,  34.3711,  34.3730,2,   -999.0,     70.0,2,  3.7283
  492SSY9411_1,  P02W,     8,  1,     10,2,19941105,0732, 30.0050, 138.6617, 2060,   1251.2,   2.8910,  34.4750,  34.4670,2,   -999.0,     70.0,2,  2.8046
  492SSY9411_1,  P02W,     8,  1,      9,2,19941105,0732, 30.0050, 138.6617, 2060,   1251.4,   2.8908,  34.4751,  34.4710,2,   -999.0,     69.1,2,  2.8044
  492SSY9411_1,  P02W,     8,  1,      7,2,19941105,0732, 30.0050, 138.6617, 2060,   1500.0,   2.5395,  34.5187,  34.5200,2,   -999.0,     79.6,2,  2.4369
  492SSY9411_1,  P02W,     8,  1,      8,2,19941105,0732, 30.0050, 138.6617, 2060,   1501.9,   2.5390,  34.5183,  34.5180,2,   -999.0,     79.1,2,  2.4363
  492SSY9411_1,  P02W,     8,  1,      5,2,19941105,0732, 30.0050, 138.6617, 2060,   1750.2,   2.0434,-999.0000,  34.5780,2,   -999.0,     97.8,2,  1.9268
  492SSY9411_1,  P02W,     8,  1,      6,2,19941105,0732, 30.0050, 138.6617, 2060,   1753.4,   2.0434,-999.0000,  34.5770,2,   -999.0,     95.2,2,  1.9265
  492SSY9411_1,  P02W,     8,  1,      3,2,19941105,0732, 30.0050, 138.6617, 2060,   2000.0,   1.9075,  34.6071,  34.6070,2,   -999.0,    110.8,2,  1.7723
  492SSY9411_1,  P02W,     8,  1,      4,2,19941105,0732, 30.0050, 138.6617, 2060,   2003.3,   1.9080,  34.6049,  34.6070,2,   -999.0,    110.4,2,  1.7726
  492SSY9411_1,  P02W,     8,  1,      1,2,19941105,0732, 30.0050, 138.6617, 2060,   2101.5,   1.8885,  34.6083,  34.6090,2,   -999.0,    113.5,2,  1.7451
  492SSY9411_1,  P02W,     8,  1,      2,2,19941105,0732, 30.0050, 138.6617, 2060,   2103.7,   1.8855,  34.6117,  34.6080,2,   -999.0,    110.0,2,  1.7420