BOTTLE,20220814CCHSIOAMB
EXPOCODE,SECT_ID,STNNBR,CASTNO,BTLNBR,BTLNBR_FLAG_W,DATE,TIME,LATITUDE,LONGITUDE,DEPTH,CTDPRS,CTDTMP,CTDSAL,SALNTY,SALNTY_FLAG_W,CTDOXY,OXYGEN,OXYGEN_FLAG_W,THETA
,,,,,,,,,,,DBAR,ITS-90,PSS-78,PSS-78,,UMOL/KG,UMOL/KG,,DEG C
  492SSY9411_1,  P02W,    14,  1,     23,2,19941109,1512, 29.9983, 142.1667, 4850,     47.3,  23.1366,  34.8469,  34.8350,2,   -999.0,    220.3,2, 23.1269
  492SSY9411_1,  P02W,    14,  1,     22,2,19941109,1512, 29.9983, 142.1667, 4850,     99.5,  17.9468,  34.8583,  34.8510,2,   -999.0,    216.1,2, 17.9298
  492SSY9411_1,  P02W,    14,  1,     21,2,19941109,1512, 29.9983, 142.1667, 4850,    199.6,  16.8662,  34.7972,  34.7900,2,   -999.0,    213.4,2, 16.8334
  492SSY9411_1,  P02W,    14,  1,     20,2,19941109,1512, 29.9983, 142.1667, 4850,    298.9,  15.5881,  34.6673,  34.6650,2,   -999.0,    195.5,2, 15.5416
  492SSY9411_1,  P02W,    14,  1,     19,2,19941109,1512, 29.9983, 142.1667, 4850,    397.4,  13.5951,  34.5273,  34.5270,2,   -999.0,    186.8,2, 13.5387
  492SSY9411_1,  P02W,    14,  1,     18,2,19941109,1512, 29.9983, 142.1667, 4850,    500.8,  10.7381,  34.3061,  34.3080,2,   -999.0,    176.2,2, 10.6770
  492SSY9411_1,  P02W,    14,  1,     17,2,19941109,1512, 29.9983, 142.1667, 4850,    600.4,   7.7753,  34.1328,  34.1280,2,   -999.0,    156.6,2,  7.7149
  492SSY9411_1,  P02W,    14,  1,     16,2,19941109,1512, 29.9983, 142.1667, 4850,    698.5,   5.8956,  34.0545,  34.0440,2,   -999.0,    130.9,2,  5.8347
  492SSY9411_1,  P02W,    14,  1,     15,2,19941109,1512, 29.9983, 142.1667, 4850,    799.4,   4.7422,  34.1315,  34.1260,2,   -999.0,     92.2,2,  4.6788
  492SSY9411_1,  P02W,    14,  1,     14,2,19941109,1512, 29.9983, 142.1667, 4850,    899.1,   4.0898,-999.0000,  34.2040,2,   -999.0,   -999.0,5,  4.0222
  492SSY9411_1,  P02W,    14,  1,     13,2,19941109,1512, 29.9983, 142.1667, 4850,    998.5,   3.7461,  34.2892,  34.2800,2,   -999.0,   -999.0,5,  3.6728
  492SSY9411_1,  P02W,    14,  1,     12,2,19941109,1512, 29.9983, 142.1667, 4850,   1249.1,   2.9327,  34.4235,  34.4180,2,   -999.0,   -999.0,5,  2.8461
  492SSY9411_1,  P02W,    14,  1,     11,2,19941109,1512, 29.9983, 142.1667, 4850,   1498.8,   2.4611,  34.5039,  34.4980,2,   -999.0,     52.6,2,  2.3596
  492SSY9411_1,  P02W,    14,  1,     10,2,19941109,1512, 29.9983, 142.1667, 4850,   1747.8,   2.1644,  34.5637,  34.5590,2,   -999.0,     67.4,2,  2.0464
  492SSY9411_1,  P02W,    14,  1,      9,2,19941109,1512, 29.9983, 142.1667, 4850,   1999.2,   1.9560,  34.5950,  34.5760,3,   -999.0,     84.8,2,  1.8202
  492SSY9411_1,  P02W,    14,  1,      8,2,19941109,1512, 29.9983, 142.1667, 4850,   2249.1,   1.7787,  34.6230,  34.6260,2,   -999.0,    104.3,2,  1.6244
  492SSY9411_1,  P02W,    14,  1,      7,2,19941109,1512, 29.9983, 142.1667, 4850,   2499.7,   1.6597,  34.6493,  34.6480,2,   -999.0,    124.8,2,  1.4856
  492SSY9411_1,  P02W,    14,  1,      6,2,19941109,1512, 29.9983, 142.1667, 4850,   3001.6,   1.5438,  34.6678,  34.6530,3,   -999.0,    138.7,2,  1.3257
  492SSY9411_1,  P02W,    14,  1,      5,2,19941109,1512, 29.9983, 142.1667, 4850,   3498.5,   1.4758,  34.6840,  34.6710,3,   -999.0,    150.4,2,  1.2103
  492SSY9411_1,  P02W,    14,  1,      4,2,19941109,1512, 29.9983, 142.1667, 4850,   4002.4,   1.4370,  34.6883,  34.6750,3,   -999.0,    160.9,2,  1.1194
  492SSY9411_1,  P02W,    14,  1,      3,2,19941109,1512, 29.9983, 142.1667, 4850,   4498.7,   1.4539,  34.6928,  34.6930,2,   -999.0,    166.5,2,  1.0803
  492SSY9411_1,  P02W,    14,  1,      1,2,19941109,1512, 29.9983, 142.1667, 4850,   4914.5,   1.4878,  34.6943,  34.6890,2,   -999.0,    166.5,2,  1.0643
  492SSY9411_1,  P02W,    14,  1,      2,2,19941109,1512, 29.9983, 142.1667, 4850,   4917.8,   1.4878,  34.6930,-999.0000,5,   -999.0,    166.1,2,  1.0639
  492SSY9411_1,  P02W,    15,  1,     23,2,19941109,1951, 30.0000, 142.7467, 8500,    101.7,  18.0953,  34.8605,  34.8660,2,   -999.0,    211.3,2, 18.0778
  492SSY9411_1,  P02W,    15,  1,     22,2,19941109,1951, 30.0000, 142.7467, 8500,    200.5,  17.0091,  34.8042,  34.7990,2,   -999.0,    209.9,2, 16.9760
  492SSY9411_1,  P02W,    15,  1,     21,2,19941109,1951, 30.0000, 142.7467, 8500,    300.0,  15.5466,  34.6683,  34.6600,2,   -999.0,    191.2,2, 15.5000
  492SSY9411_1,  P02W,    15,  1,     20,2,19941109,1951, 30.0000, 142.7467, 8500,    399.1,  13.6188,  34.5221,  34.5200,2,   -999.0,    188.5,2, 13.5621
  492SSY9411_1,  P02W,    15,  1,     19,2,19941109,1951, 30.0000, 142.7467, 8500,    498.7,  11.3481,  34.3526,  34.3550,2,   -999.0,    186.7,2, 11.2850
  492SSY9411_1,  P02W,    15,  1,     18,2,19941109,1951, 30.0000, 142.7467, 8500,    599.7,   8.3830,  34.1445,  34.1590,2,   -999.0,    164.9,2,  8.3199
  492SSY9411_1,  P02W,    15,  1,     17,2,19941109,1951, 30.0000, 142.7467, 8500,    700.9,   6.0709,  34.0316,  34.0350,2,   -999.0,    139.2,2,  6.0089
  492SSY9411_1,  P02W,    15,  1,     16,2,19941109,1951, 30.0000, 142.7467, 8500,    800.1,   4.9255,  34.0771,  34.0790,2,   -999.0,    102.2,2,  4.8610
  492SSY9411_1,  P02W,    15,  1,     15,2,19941109,1951, 30.0000, 142.7467, 8500,    898.9,   4.3217,  34.1770,  34.1750,2,   -999.0,     76.5,2,  4.2525
  492SSY9411_1,  P02W,    15,  1,     14,2,19941109,1951, 30.0000, 142.7467, 8500,    998.6,   3.8900,  34.2557,  34.2560,2,   -999.0,     55.7,2,  3.8156
  492SSY9411_1,  P02W,    15,  1,     13,2,19941109,1951, 30.0000, 142.7467, 8500,   1250.9,   3.1275,  34.3909,  34.3910,2,   -999.0,     47.8,2,  3.0390
  492SSY9411_1,  P02W,    15,  1,     12,2,19941109,1951, 30.0000, 142.7467, 8500,   1501.7,   2.5535,  34.4823,  34.4870,2,   -999.0,     49.6,2,  2.4507
  492SSY9411_1,  P02W,    15,  1,     11,2,19941109,1951, 30.0000, 142.7467, 8500,   1751.2,   2.2283,  34.5454,  34.5490,2,   -999.0,     63.0,2,  2.1092
  492SSY9411_1,  P02W,    15,  1,     10,2,19941109,1951, 30.0000, 142.7467, 8500,   1999.1,   1.9772,  34.5921,  34.5950,2,   -999.0,     81.3,2,  1.8411
  492SSY9411_1,  P02W,    15,  1,      9,2,19941109,1951, 30.0000, 142.7467, 8500,   2251.7,   1.7942,  34.6225,  34.6230,2,   -999.0,     97.8,2,  1.6394
  492SSY9411_1,  P02W,    15,  1,      8,2,19941109,1951, 30.0000, 142.7467, 8500,   2502.3,   1.6925,  34.6427,  34.6450,2,   -999.0,    113.5,2,  1.5175
  492SSY9411_1,  P02W,    15,  1,      7,2,19941109,1951, 30.0000, 142.7467, 8500,   3002.8,   1.5568,  34.6620,  34.6660,2,   -999.0,    133.9,2,  1.3383
  492SSY9411_1,  P02W,    15,  1,      6,2,19941109,1951, 30.0000, 142.7467, 8500,   3498.6,   1.4918,  34.6768,  34.6770,2,   -999.0,    145.6,2,  1.2259
  492SSY9411_1,  P02W,    15,  1,      5,2,19941109,1951, 30.0000, 142.7467, 8500,   3998.5,   1.4643,  34.6853,  34.6850,2,   -999.0,    153.5,2,  1.1465
  492SSY9411_1,  P02W,    15,  1,      4,2,19941109,1951, 30.0000, 142.7467, 8500,   4497.4,   1.4648,  34.6951,  34.6930,2,   -999.0,    161.3,2,  1.0911
  492SSY9411_1,  P02W,    15,  1,      3,2,19941109,1951, 30.0000, 142.7467, 8500,   4998.2,   1.4988,  34.6940,  34.6920,2,   -999.0,    164.8,2,  1.0648
  492SSY9411_1,  P02W,    15,  1,      2,2,19941109,1951, 30.0000, 142.7467, 8500,   5497.6,   1.5528,  34.6927,  34.6920,2,   -999.0,    164.4,2,  1.0546
  492SSY9411_1,  P02W,    15,  1,      1,2,19941109,1951, 30.0000, 142.7467, 8500,   6101.8,   1.6282,  34.6933,  34.6870,3,   -999.0,    167.8,2,  1.0476
  492SSY9411_1,  P02W,    16,  1,     23,2,19941110,0120, 29.9967, 143.3367, 5900,     98.9,  19.1786,  34.8772,  34.8820,2,   -999.0,    211.3,2, 19.1609
  492SSY9411_1,  P02W,    16,  1,     22,2,19941110,0120, 29.9967, 143.3367, 5900,    200.0,  17.4354,  34.8335,  34.8300,2,   -999.0,    213.0,2, 17.4018
  492SSY9411_1,  P02W,    16,  1,     21,2,19941110,0120, 29.9967, 143.3367, 5900,    298.6,  16.5225,  34.7480,  34.7450,2,   -999.0,    200.3,2, 16.4742
  492SSY9411_1,  P02W,    16,  1,     20,2,19941110,0120, 29.9967, 143.3367, 5900,    399.3,  14.5689,  34.5803,  34.5940,2,   -999.0,    190.3,2, 14.5095
  492SSY9411_1,  P02W,    16,  1,     19,2,19941110,0120, 29.9967, 143.3367, 5900,    499.3,  11.9335,  34.3899,  34.3910,2,   -999.0,    180.6,2, 11.8683
  492SSY9411_1,  P02W,    16,  1,     18,2,19941110,0120, 29.9967, 143.3367, 5900,    599.1,   9.1995,  34.2182,  34.2180,2,   -999.0,    162.3,2,  9.1328
  492SSY9411_1,  P02W,    16,  1,     17,2,19941110,0120, 29.9967, 143.3367, 5900,    697.8,   6.7925,  34.1137,  34.1270,2,   -999.0,    134.4,2,  6.7268
  492SSY9411_1,  P02W,    16,  1,     16,2,19941110,0120, 29.9967, 143.3367, 5900,    797.9,   5.4849,  34.1151,  34.1100,2,   -999.0,    103.1,2,  5.4171
  492SSY9411_1,  P02W,    16,  1,     15,2,19941110,0120, 29.9967, 143.3367, 5900,    896.7,   4.5795,  34.1569,  34.1530,2,   -999.0,     77.9,2,  4.5088
  492SSY9411_1,  P02W,    16,  1,     14,2,19941110,0120, 29.9967, 143.3367, 5900,    997.9,   4.0589,  34.2296,  34.2240,2,   -999.0,     55.7,2,  3.9834
  492SSY9411_1,  P02W,    16,  1,     13,2,19941110,0120, 29.9967, 143.3367, 5900,   1248.9,   3.1006,  34.3915,  34.3880,2,   -999.0,     46.1,2,  3.0125
  492SSY9411_1,  P02W,    16,  1,     12,2,19941110,0120, 29.9967, 143.3367, 5900,   1499.5,   2.5410,  34.4796,  34.4870,2,   -999.0,     46.1,2,  2.4385
  492SSY9411_1,  P02W,    16,  1,     11,2,19941110,0120, 29.9967, 143.3367, 5900,   1749.1,   2.2033,  34.5510,  34.5470,2,   -999.0,     60.9,2,  2.0847
  492SSY9411_1,  P02W,    16,  1,     10,2,19941110,0120, 29.9967, 143.3367, 5900,   2000.6,   1.9775,  34.5923,  34.5860,2,   -999.0,     78.2,2,  1.8413
  492SSY9411_1,  P02W,    16,  1,      9,2,19941110,0120, 29.9967, 143.3367, 5900,   2248.8,   1.8116,  34.6199,  34.6220,2,   -999.0,     95.6,2,  1.6568
  492SSY9411_1,  P02W,    16,  1,      8,2,19941110,0120, 29.9967, 143.3367, 5900,   2499.8,   1.6887,  34.6380,  34.6430,2,   -999.0,    112.6,2,  1.5140
  492SSY9411_1,  P02W,    16,  1,      7,2,19941110,0120, 29.9967, 143.3367, 5900,   2998.6,   1.5638,  34.6564,  34.6560,2,   -999.0,    133.5,2,  1.3456
  492SSY9411_1,  P02W,    16,  1,      6,2,19941110,0120, 29.9967, 143.3367, 5900,   3501.2,   1.4963,  34.6721,  34.6770,2,   -999.0,    144.8,2,  1.2300
  492SSY9411_1,  P02W,    16,  1,      5,2,19941110,0120, 29.9967, 143.3367, 5900,   3998.4,   1.4666,  34.6756,  34.6780,2,   -999.0,    153.0,2,  1.1488
  492SSY9411_1,  P02W,    16,  1,      4,2,19941110,0120, 29.9967, 143.3367, 5900,   4497.6,   1.4663,  34.6849,  34.6830,2,   -999.0,    160.4,2,  1.0926
  492SSY9411_1,  P02W,    16,  1,      3,2,19941110,0120, 29.9967, 143.3367, 5900,   4998.0,   1.4938,  34.6896,  34.6860,2,   -999.0,    164.8,2,  1.0600
  492SSY9411_1,  P02W,    16,  1,      2,2,19941110,0120, 29.9967, 143.3367, 5900,   5497.6,   1.5398,  34.6954,  34.6890,3,   -999.0,    167.4,2,  1.0420
  492SSY9411_1,  P02W,    16,  1,      1,2,19941110,0120, 29.9967, 143.3367, 5900,   5943.1,   1.5848,  34.6906,  34.6900,2,   -999.0,    173.5,2,  1.0272
  492SSY9411_1,  P02W,    17,  1,     23,2,19941110,0617, 29.9983, 143.9200, 5650,    100.2,  18.8490,  34.8731,  34.8780,2,   -999.0,    208.7,2, 18.8312
  492SSY9411_1,  P02W,    17,  1,     22,2,19941110,0617, 29.9983, 143.9200, 5650,    199.5,  17.4749,  34.8274,  34.8260,2,   -999.0,    206.5,2, 17.4414
  492SSY9411_1,  P02W,    17,  1,     21,2,19941110,0617, 29.9983, 143.9200, 5650,    299.4,  16.5777,  34.7560,  34.7540,2,   -999.0,    200.8,2, 16.5291
  492SSY9411_1,  P02W,    17,  1,     20,2,19941110,0617, 29.9983, 143.9200, 5650,    399.4,  14.5961,  34.5946,  34.5950,2,   -999.0,    190.3,2, 14.5366
  492SSY9411_1,  P02W,    17,  1,     19,2,19941110,0617, 29.9983, 143.9200, 5650,    500.0,  12.1235,  34.4067,  34.4130,2,   -999.0,    186.3,2, 12.0575
  492SSY9411_1,  P02W,    17,  1,     18,2,19941110,0617, 29.9983, 143.9200, 5650,    597.6,   9.2692,  34.2052,  34.2190,2,   -999.0,    172.7,2,  9.2024
  492SSY9411_1,  P02W,    17,  1,     17,2,19941110,0617, 29.9983, 143.9200, 5650,    698.7,   6.4891,  34.0485,  34.0480,2,   -999.0,    151.8,2,  6.4251
  492SSY9411_1,  P02W,    17,  1,     16,2,19941110,0617, 29.9983, 143.9200, 5650,    798.0,   5.1634,  34.0520,  34.0490,2,   -999.0,    116.1,2,  5.0976
  492SSY9411_1,  P02W,    17,  1,     15,2,19941110,0617, 29.9983, 143.9200, 5650,    899.3,   4.4251,  34.1544,  34.1550,2,   -999.0,     81.8,2,  4.3553
  492SSY9411_1,  P02W,    17,  1,     14,2,19941110,0617, 29.9983, 143.9200, 5650,    999.7,   3.9320,  34.2447,  34.2410,2,   -999.0,   -999.0,5,  3.8572
  492SSY9411_1,  P02W,    17,  1,     13,2,19941110,0617, 29.9983, 143.9200, 5650,   1249.2,   3.0532,  34.4075,  34.3990,2,   -999.0,   -999.0,5,  2.9655
  492SSY9411_1,  P02W,    17,  1,     12,2,19941110,0617, 29.9983, 143.9200, 5650,   1500.3,   2.5730,  34.4830,  34.4900,2,   -999.0,     51.3,2,  2.4701
  492SSY9411_1,  P02W,    17,  1,     11,2,19941110,0617, 29.9983, 143.9200, 5650,   1748.8,   2.2338,  34.5512,  34.5320,2,   -999.0,     65.2,2,  2.1148
  492SSY9411_1,  P02W,    17,  1,     10,2,19941110,0617, 29.9983, 143.9200, 5650,   1999.8,   1.9954,  34.5921,  34.5920,2,   -999.0,     82.2,2,  1.8590
  492SSY9411_1,  P02W,    17,  1,      9,2,19941110,0617, 29.9983, 143.9200, 5650,   2250.9,   1.8236,  34.6160,  34.6120,2,   -999.0,     93.9,2,  1.6684
  492SSY9411_1,  P02W,    17,  1,      8,2,19941110,0617, 29.9983, 143.9200, 5650,   2499.1,   1.6982,  34.6332,  34.6390,2,   -999.0,    111.3,2,  1.5234
  492SSY9411_1,  P02W,    17,  1,      7,2,19941110,0617, 29.9983, 143.9200, 5650,   2999.6,   1.5563,  34.6566,  34.6610,2,   -999.0,    135.2,2,  1.3382
  492SSY9411_1,  P02W,    17,  1,      6,2,19941110,0617, 29.9983, 143.9200, 5650,   3499.9,   1.4878,  34.6718,  34.6850,3,   -999.0,    146.9,2,  1.2219
  492SSY9411_1,  P02W,    17,  1,      5,2,19941110,0617, 29.9983, 143.9200, 5650,   3999.6,   1.4552,  34.6849,  34.6800,2,   -999.0,    158.3,2,  1.1374
  492SSY9411_1,  P02W,    17,  1,      4,2,19941110,0617, 29.9983, 143.9200, 5650,   4498.9,   1.4598,  34.6912,  34.6850,2,   -999.0,    158.7,2,  1.0862
  492SSY9411_1,  P02W,    17,  1,      3,2,19941110,0617, 29.9983, 143.9200, 5650,   4999.8,   1.4903,  34.6926,  34.6890,2,   -999.0,    170.0,2,  1.0564
  492SSY9411_1,  P02W,    17,  1,      2,2,19941110,0617, 29.9983, 143.9200, 5650,   5500.0,   1.5398,  34.6958,  34.6950,2,   -999.0,    172.2,2,  1.0417
  492SSY9411_1,  P02W,    17,  1,      1,2,19941110,0617, 29.9983, 143.9200, 5650,   5815.0,   1.5763,  34.6943,  34.6900,2,   -999.0,    169.1,2,  1.0360
  492SSY9411_1,  P02W,    18,  1,     23,2,19941110,1133, 30.0000, 144.4983, 5900,     97.9,  19.1159,  34.8722,  34.8680,2,   -999.0,    201.3,2, 19.0984
  492SSY9411_1,  P02W,    18,  1,     22,2,19941110,1133, 30.0000, 144.4983, 5900,    198.4,  17.5074,  34.8353,  34.8340,2,   -999.0,    208.6,2, 17.4740
  492SSY9411_1,  P02W,    18,  1,     21,2,19941110,1133, 30.0000, 144.4983, 5900,    297.0,  16.6272,  34.7834,  34.7690,2,   -999.0,    204.3,2, 16.5789
  492SSY9411_1,  P02W,    18,  1,     20,2,19941110,1133, 30.0000, 144.4983, 5900,    398.0,  14.9728,  34.6217,  34.6170,2,   -999.0,    189.8,2, 14.9124
  492SSY9411_1,  P02W,    18,  1,     19,2,19941110,1133, 30.0000, 144.4983, 5900,    498.9,  12.0450,  34.4084,  34.4160,2,   -999.0,    179.7,2, 11.9794
  492SSY9411_1,  P02W,    18,  1,     18,2,19941110,1133, 30.0000, 144.4983, 5900,    597.1,   9.0111,  34.1685,  34.1730,2,   -999.0,    175.3,2,  8.9455
  492SSY9411_1,  P02W,    18,  1,     17,2,19941110,1133, 30.0000, 144.4983, 5900,    698.0,   6.3908,  34.0445,  34.0460,2,   -999.0,    144.8,2,  6.3273
  492SSY9411_1,  P02W,    18,  1,     16,2,19941110,1133, 30.0000, 144.4983, 5900,    800.1,   4.8603,  34.0800,  34.0750,2,   -999.0,     95.3,2,  4.7962
  492SSY9411_1,  P02W,    18,  1,     15,2,19941110,1133, 30.0000, 144.4983, 5900,    898.8,   4.3017,  34.1801,  34.1810,2,   -999.0,     67.0,2,  4.2327
  492SSY9411_1,  P02W,    18,  1,     14,2,19941110,1133, 30.0000, 144.4983, 5900,    997.8,   3.8661,  34.2620,  34.2660,2,   -999.0,     52.2,2,  3.7919
  492SSY9411_1,  P02W,    18,  1,     13,2,19941110,1133, 30.0000, 144.4983, 5900,   1248.5,   3.0837,  34.3998,  34.3940,2,   -999.0,     42.6,2,  2.9958
  492SSY9411_1,  P02W,    18,  1,     12,2,19941110,1133, 30.0000, 144.4983, 5900,   1497.8,   2.6040,  34.4928,  34.4990,2,   -999.0,     48.7,2,  2.5009
  492SSY9411_1,  P02W,    18,  1,     11,2,19941110,1133, 30.0000, 144.4983, 5900,   1749.1,   2.2393,  34.5543,  34.5460,2,   -999.0,     62.6,2,  2.1202
  492SSY9411_1,  P02W,    18,  1,     10,2,19941110,1133, 30.0000, 144.4983, 5900,   1999.0,   1.9879,  34.5832,  34.5840,2,   -999.0,     75.6,2,  1.8517
  492SSY9411_1,  P02W,    18,  1,      9,2,19941110,1133, 30.0000, 144.4983, 5900,   2249.9,   1.8241,  34.6159,  34.6180,2,   -999.0,     98.2,2,  1.6690
  492SSY9411_1,  P02W,    18,  1,      8,2,19941110,1133, 30.0000, 144.4983, 5900,   2498.9,   1.7060,  34.6397,  34.6360,2,   -999.0,    110.4,2,  1.5311
  492SSY9411_1,  P02W,    18,  1,      7,2,19941110,1133, 30.0000, 144.4983, 5900,   2998.7,   1.5708,  34.6562,  34.6580,2,   -999.0,    127.4,2,  1.3524
  492SSY9411_1,  P02W,    18,  1,      6,2,19941110,1133, 30.0000, 144.4983, 5900,   3499.2,   1.5003,  34.6761,  34.6760,2,   -999.0,    141.7,2,  1.2341
  492SSY9411_1,  P02W,    18,  1,      5,2,19941110,1133, 30.0000, 144.4983, 5900,   3998.6,   1.4763,  34.6805,  34.6790,2,   -999.0,    150.0,2,  1.1582
  492SSY9411_1,  P02W,    18,  1,      4,2,19941110,1133, 30.0000, 144.4983, 5900,   4498.0,   1.4718,-999.0000,  34.6850,2,   -999.0,    156.9,2,  1.0979
  492SSY9411_1,  P02W,    18,  1,      3,2,19941110,1133, 30.0000, 144.4983, 5900,   4998.8,   1.5003,  34.6934,  34.6880,2,   -999.0,    162.2,2,  1.0662
  492SSY9411_1,  P02W,    18,  1,      2,2,19941110,1133, 30.0000, 144.4983, 5900,   5497.4,   1.5438,  34.6925,  34.6910,2,   -999.0,    165.7,2,  1.0459
  492SSY9411_1,  P02W,    18,  1,      1,2,19941110,1133, 30.0000, 144.4983, 5900,   5953.2,   1.5878,  34.6959,  34.6930,2,   -999.0,    170.0,2,  1.0287