BOTTLE,20220814CCHSIOAMB
EXPOCODE,SECT_ID,STNNBR,CASTNO,BTLNBR,BTLNBR_FLAG_W,DATE,TIME,LATITUDE,LONGITUDE,DEPTH,CTDPRS,CTDTMP,CTDSAL,SALNTY,SALNTY_FLAG_W,CTDOXY,OXYGEN,OXYGEN_FLAG_W,THETA
,,,,,,,,,,,DBAR,ITS-90,PSS-78,PSS-78,,UMOL/KG,UMOL/KG,,DEG C
  492SSY9411_1,  P02W,   A11,  1,     23,2,19941103,0819, 30.7500, 134.1983, 4460,     49.8,  24.8809,  34.5356,  34.5390,2,   -999.0,    204.7,2, 24.8702
  492SSY9411_1,  P02W,   A11,  1,     22,2,19941103,0819, 30.7500, 134.1983, 4460,    101.3,  23.9080,  34.7677,  34.7610,2,   -999.0,    192.0,2, 23.8867
  492SSY9411_1,  P02W,   A11,  1,     21,2,19941103,0819, 30.7500, 134.1983, 4460,    200.6,  19.0809,  34.8750,  34.8840,2,   -999.0,    198.3,2, 19.0450
  492SSY9411_1,  P02W,   A11,  1,     20,2,19941103,0819, 30.7500, 134.1983, 4460,    297.7,  17.6464,  34.8169,  34.7080,4,   -999.0,    198.2,2, 17.5959
  492SSY9411_1,  P02W,   A11,  1,     19,2,19941103,0819, 30.7500, 134.1983, 4460,    400.0,  16.1313,  34.7008,  34.7080,2,   -999.0,    190.3,2, 16.0674
  492SSY9411_1,  P02W,   A11,  1,     18,2,19941103,0819, 30.7500, 134.1983, 4460,    499.9,  14.3246,  34.5577,  34.5690,2,   -999.0,    180.2,2, 14.2508
  492SSY9411_1,  P02W,   A11,  1,     17,2,19941103,0819, 30.7500, 134.1983, 4460,    598.6,  11.0894,  34.3527,  34.3580,2,   -999.0,    161.9,2, 11.0145
  492SSY9411_1,  P02W,   A11,  1,     16,2,19941103,0819, 30.7500, 134.1983, 4460,    699.1,   8.5658,  34.2300,  34.2380,2,   -999.0,    137.9,2,  8.4908
  492SSY9411_1,  P02W,   A11,  1,     15,2,19941103,0819, 30.7500, 134.1983, 4460,    798.2,   6.5046,  34.1988,  34.2220,2,   -999.0,    106.1,2,  6.4306
  492SSY9411_1,  P02W,   A11,  1,     14,2,19941103,0819, 30.7500, 134.1983, 4460,    898.6,   5.4004,  34.2492,  34.2580,2,   -999.0,     82.2,2,  5.3238
  492SSY9411_1,  P02W,   A11,  1,     13,2,19941103,0819, 30.7500, 134.1983, 4460,   1000.7,   4.3756,  34.3100,  34.3130,2,   -999.0,     66.5,2,  4.2973
  492SSY9411_1,  P02W,   A11,  1,     12,2,19941103,0819, 30.7500, 134.1983, 4460,   1250.8,   3.2984,  34.4215,  34.4730,4,   -999.0,     62.6,2,  3.2082
  492SSY9411_1,  P02W,   A11,  1,     11,2,19941103,0819, 30.7500, 134.1983, 4460,   1499.9,   2.7228,  34.4982,  34.5080,2,   -999.0,     80.0,2,  2.6182
  492SSY9411_1,  P02W,   A11,  1,     10,2,19941103,0819, 30.7500, 134.1983, 4460,   1748.5,   2.2992,  34.5667,  34.5640,2,   -999.0,     92.2,2,  2.1794
  492SSY9411_1,  P02W,   A11,  1,      9,2,19941103,0819, 30.7500, 134.1983, 4460,   1998.9,   2.0434,  34.5978,  34.5970,2,   -999.0,    105.6,2,  1.9063
  492SSY9411_1,  P02W,   A11,  1,      8,2,19941103,0819, 30.7500, 134.1983, 4460,   2246.3,   1.8456,  34.6230,  34.6280,2,   -999.0,    119.1,2,  1.6904
  492SSY9411_1,  P02W,   A11,  1,      7,2,19941103,0819, 30.7500, 134.1983, 4460,   2499.5,   1.7082,  34.6396,  34.6460,2,   -999.0,    129.5,2,  1.5332
  492SSY9411_1,  P02W,   A11,  1,      6,2,19941103,0819, 30.7500, 134.1983, 4460,   2999.2,   1.5463,  34.6650,  34.6710,2,   -999.0,    145.2,2,  1.3284
  492SSY9411_1,  P02W,   A11,  1,      5,2,19941103,0819, 30.7500, 134.1983, 4460,   3499.1,   1.5078,  34.6694,  34.6770,2,   -999.0,    150.4,2,  1.2414
  492SSY9411_1,  P02W,   A11,  1,      4,2,19941103,0819, 30.7500, 134.1983, 4460,   3998.9,   1.5318,-999.0000,  34.6830,2,   -999.0,    153.5,2,  1.2120
  492SSY9411_1,  P02W,   A11,  1,      3,2,19941103,0819, 30.7500, 134.1983, 4460,   4499.2,   1.5718,  34.6780,  34.6840,2,   -999.0,    155.2,2,  1.1946
  492SSY9411_1,  P02W,   A11,  1,      1,2,19941103,0819, 30.7500, 134.1983, 4460,   4534.5,   1.5763,  34.6785,  34.6810,2,   -999.0,    155.2,2,  1.1949
  492SSY9411_1,  P02W,   A11,  1,      2,2,19941103,0819, 30.7500, 134.1983, 4460,   4538.1,   1.5758,  34.6788,  34.6830,2,   -999.0,    155.2,2,  1.1940
  492SSY9411_1,  P02W,   A13,  1,     23,2,19941103,1519, 30.2433, 134.4650, 4500,     49.0,  24.5737,  34.6999,  34.7010,2,   -999.0,    203.8,2, 24.5632
  492SSY9411_1,  P02W,   A13,  1,     22,2,19941103,1519, 30.2433, 134.4650, 4500,     99.6,  22.7694,  34.9255,  34.9210,2,   -999.0,    203.7,2, 22.7492
  492SSY9411_1,  P02W,   A13,  1,     21,2,19941103,1519, 30.2433, 134.4650, 4500,    198.6,  18.8790,  34.8767,  34.8780,2,   -999.0,    196.9,2, 18.8437
  492SSY9411_1,  P02W,   A13,  1,     20,2,19941103,1519, 30.2433, 134.4650, 4500,    299.1,  17.4269,  34.8046,  34.8090,2,   -999.0,    198.2,2, 17.3766
  492SSY9411_1,  P02W,   A13,  1,     19,2,19941103,1519, 30.2433, 134.4650, 4500,    398.3,  15.7875,  34.6778,  34.6830,2,   -999.0,    183.8,2, 15.7248
  492SSY9411_1,  P02W,   A13,  1,     18,2,19941103,1519, 30.2433, 134.4650, 4500,    499.4,  13.4254,  34.5076,  34.5090,2,   -999.0,    175.4,2, 13.3548
  492SSY9411_1,  P02W,   A13,  1,     17,2,19941103,1519, 30.2433, 134.4650, 4500,    599.0,  10.8161,  34.3269,  34.3290,2,   -999.0,    164.9,2, 10.7423
  492SSY9411_1,  P02W,   A13,  1,     16,2,19941103,1519, 30.2433, 134.4650, 4500,    700.1,   8.2800,  34.1984,  34.2060,2,   -999.0,    140.5,2,  8.2064
  492SSY9411_1,  P02W,   A13,  1,     15,2,19941103,1519, 30.2433, 134.4650, 4500,    800.8,   6.5121,  34.1940,  34.2100,2,   -999.0,    108.8,2,  6.4378
  492SSY9411_1,  P02W,   A13,  1,     14,2,19941103,1519, 30.2433, 134.4650, 4500,    901.0,   5.4194,  34.2641,  34.2690,2,   -999.0,     83.5,2,  5.3425
  492SSY9411_1,  P02W,   A13,  1,     13,2,19941103,1519, 30.2433, 134.4650, 4500,   1004.4,   4.2942,  34.3256,  34.3320,2,   -999.0,     68.7,2,  4.2161
  492SSY9411_1,  P02W,   A13,  1,     12,2,19941103,1519, 30.2433, 134.4650, 4500,   1255.2,   3.1945,  34.4529,  34.4560,2,   -999.0,     70.4,2,  3.1049
  492SSY9411_1,  P02W,   A13,  1,     11,2,19941103,1519, 30.2433, 134.4650, 4500,   1500.1,   2.6667,  34.5090,  34.5200,2,   -999.0,     80.9,2,  2.5626
  492SSY9411_1,  P02W,   A13,  1,     10,2,19941103,1519, 30.2433, 134.4650, 4500,   1748.0,   2.2917,  34.5590,  34.5620,2,   -999.0,     93.0,2,  2.1720
  492SSY9411_1,  P02W,   A13,  1,      9,2,19941103,1519, 30.2433, 134.4650, 4500,   1996.9,   2.0364,  34.5940,  34.6020,2,   -999.0,    106.5,2,  1.8995
  492SSY9411_1,  P02W,   A13,  1,      8,2,19941103,1519, 30.2433, 134.4650, 4500,   2249.6,   1.8376,  34.6214,  34.6280,2,   -999.0,   -999.0,5,  1.6822
  492SSY9411_1,  P02W,   A13,  1,      7,2,19941103,1519, 30.2433, 134.4650, 4500,   2498.5,   1.7067,  34.6379,  34.6460,2,   -999.0,   -999.0,5,  1.5318
  492SSY9411_1,  P02W,   A13,  1,      6,2,19941103,1519, 30.2433, 134.4650, 4500,   2997.9,   1.5288,  34.6645,  34.6730,2,   -999.0,   -999.0,5,  1.3114
  492SSY9411_1,  P02W,   A13,  1,      5,2,19941103,1519, 30.2433, 134.4650, 4500,   3496.5,   1.5048,  34.6725,  34.6810,2,   -999.0,    150.0,2,  1.2388
  492SSY9411_1,  P02W,   A13,  1,      4,2,19941103,1519, 30.2433, 134.4650, 4500,   3996.3,   1.5288,  34.6780,  34.6830,2,   -999.0,    156.1,2,  1.2094
  492SSY9411_1,  P02W,   A13,  1,      3,2,19941103,1519, 30.2433, 134.4650, 4500,   4497.8,   1.5675,  34.6782,  34.6850,2,   -999.0,    156.1,2,  1.1906
  492SSY9411_1,  P02W,   A13,  1,      1,2,19941103,1519, 30.2433, 134.4650, 4500,   4545.5,   1.5723,  34.6795,  34.6850,2,   -999.0,    157.0,2,  1.1897
  492SSY9411_1,  P02W,   A13,  1,      2,2,19941103,1519, 30.2433, 134.4650, 4500,   4551.1,   1.5718,  34.6790,  34.6850,2,   -999.0,    154.8,2,  1.1886
  492SSY9411_1,  P02W,     1,  1,     23,2,19941103,1854, 29.9967, 134.6000, 4630,     52.0,  24.7175,  34.8274,  34.8310,2,   -999.0,    206.4,2, 24.7063
  492SSY9411_1,  P02W,     1,  1,     22,2,19941103,1854, 29.9967, 134.6000, 4630,    102.3,  20.7560,  34.9424,  34.9430,2,   -999.0,    213.2,2, 20.7366
  492SSY9411_1,  P02W,     1,  1,     21,2,19941103,1854, 29.9967, 134.6000, 4630,    199.3,  18.6105,  34.9161,  34.9140,2,   -999.0,    206.1,2, 18.5755
  492SSY9411_1,  P02W,     1,  1,     20,2,19941103,1854, 29.9967, 134.6000, 4630,    299.2,  17.2675,  34.8093,  34.7990,2,   -999.0,    198.6,2, 17.2175
  492SSY9411_1,  P02W,     1,  1,     19,2,19941103,1854, 29.9967, 134.6000, 4630,    401.1,  15.7242,  34.6732,  34.6840,2,   -999.0,    187.7,2, 15.6613
  492SSY9411_1,  P02W,     1,  1,     18,2,19941103,1854, 29.9967, 134.6000, 4630,    502.0,  13.6123,  34.5025,  34.5080,2,   -999.0,    185.9,2, 13.5407
  492SSY9411_1,  P02W,     1,  1,     17,2,19941103,1854, 29.9967, 134.6000, 4630,    601.0,  11.3974,  34.3700,  34.3730,2,   -999.0,    169.7,2, 11.3208
  492SSY9411_1,  P02W,     1,  1,     16,2,19941103,1854, 29.9967, 134.6000, 4630,    701.8,   8.8947,  34.2447,  34.2380,2,   -999.0,    147.0,2,  8.8176
  492SSY9411_1,  P02W,     1,  1,     15,2,19941103,1854, 29.9967, 134.6000, 4630,    798.5,   6.8744,  34.1959,  34.2050,2,   -999.0,    117.9,2,  6.7982
  492SSY9411_1,  P02W,     1,  1,     14,2,19941103,1854, 29.9967, 134.6000, 4630,    902.0,   5.3514,  34.2682,  34.2830,2,   -999.0,     84.4,2,  5.2748
  492SSY9411_1,  P02W,     1,  1,     13,2,19941103,1854, 29.9967, 134.6000, 4630,   1002.7,   4.4026,  34.3231,  34.3230,2,   -999.0,     73.1,2,  4.3239
  492SSY9411_1,  P02W,     1,  1,     12,2,19941103,1854, 29.9967, 134.6000, 4630,   1250.4,   3.2070,  34.4506,  34.4520,2,   -999.0,     75.2,2,  3.1177
  492SSY9411_1,  P02W,     1,  1,     11,2,19941103,1854, 29.9967, 134.6000, 4630,   1501.5,   2.6440,  34.5178,  34.5130,2,   -999.0,     87.4,2,  2.5401
  492SSY9411_1,  P02W,     1,  1,     10,2,19941103,1854, 29.9967, 134.6000, 4630,   1751.4,   2.2914,  34.5601,  34.5640,2,   -999.0,     95.2,2,  2.1715
  492SSY9411_1,  P02W,     1,  1,      9,2,19941103,1854, 29.9967, 134.6000, 4630,   1998.4,   2.0429,  34.5937,  34.6020,2,   -999.0,    108.7,2,  1.9058
  492SSY9411_1,  P02W,     1,  1,      8,2,19941103,1854, 29.9967, 134.6000, 4630,   2248.8,   1.8441,  34.6234,  34.6460,4,   -999.0,    123.0,2,  1.6887
  492SSY9411_1,  P02W,     1,  1,      7,2,19941103,1854, 29.9967, 134.6000, 4630,   2500.7,   1.7237,  34.6397,-999.0000,5,   -999.0,    130.0,2,  1.5483
  492SSY9411_1,  P02W,     1,  1,      6,2,19941103,1854, 29.9967, 134.6000, 4630,   2996.8,   1.5563,  34.6628,  34.6690,2,   -999.0,    150.0,2,  1.3384
  492SSY9411_1,  P02W,     1,  1,      5,2,19941103,1854, 29.9967, 134.6000, 4630,   3500.9,   1.5123,  34.6785,  34.6810,2,   -999.0,    153.5,2,  1.2456
  492SSY9411_1,  P02W,     1,  1,      4,2,19941103,1854, 29.9967, 134.6000, 4630,   3999.9,   1.5318,-999.0000,  34.6850,2,   -999.0,    155.6,2,  1.2119
  492SSY9411_1,  P02W,     1,  1,      3,2,19941103,1854, 29.9967, 134.6000, 4630,   4498.7,   1.5703,  34.6797,  34.6850,2,   -999.0,    157.4,2,  1.1932
  492SSY9411_1,  P02W,     1,  1,      2,2,19941103,1854, 29.9967, 134.6000, 4630,   4670.4,   1.5878,  34.6815,  34.6840,2,   -999.0,    158.7,2,  1.1901
  492SSY9411_1,  P02W,     1,  1,      1,2,19941103,1854, 29.9967, 134.6000, 4630,   4671.1,   1.5878,  34.6812,  34.6880,2,   -999.0,    159.1,2,  1.1900
  492SSY9411_1,  P02W,     2,  1,     23,2,19941104,0021, 30.0000, 135.1667, 4700,     48.8,  24.3698,  34.7403,  34.7370,2,   -999.0,    209.0,2, 24.3595
  492SSY9411_1,  P02W,     2,  1,     22,2,19941104,0021, 30.0000, 135.1667, 4700,     97.5,  20.2181,  34.9727,  34.9300,2,   -999.0,    205.7,2, 20.2000
  492SSY9411_1,  P02W,     2,  1,     21,2,19941104,0021, 30.0000, 135.1667, 4700,    197.9,  18.5408,  34.9229,  34.9190,2,   -999.0,    208.7,2, 18.5061
  492SSY9411_1,  P02W,     2,  1,     20,2,19941104,0021, 30.0000, 135.1667, 4700,    298.8,  17.1080,  34.7893,  34.7890,2,   -999.0,    199.5,2, 17.0584
  492SSY9411_1,  P02W,     2,  1,     19,2,19941104,0021, 30.0000, 135.1667, 4700,    398.8,  15.5041,  34.6600,  34.6640,2,   -999.0,    189.4,2, 15.4421
  492SSY9411_1,  P02W,     2,  1,     18,2,19941104,0021, 30.0000, 135.1667, 4700,    496.8,  13.3644,  34.5025,  34.5040,2,   -999.0,    176.3,2, 13.2944
  492SSY9411_1,  P02W,     2,  1,     17,2,19941104,0021, 30.0000, 135.1667, 4700,    598.7,  10.6502,  34.3242,  34.3290,2,   -999.0,    161.0,2, 10.5772
  492SSY9411_1,  P02W,     2,  1,     16,2,19941104,0021, 30.0000, 135.1667, 4700,    698.2,   7.9298,  34.1762,  34.1890,2,   -999.0,    136.6,2,  7.8582
  492SSY9411_1,  P02W,     2,  1,     15,2,19941104,0021, 30.0000, 135.1667, 4700,    799.8,   6.5504,  34.2095,  34.2260,2,   -999.0,    112.7,2,  6.4760
  492SSY9411_1,  P02W,     2,  1,     14,2,19941104,0021, 30.0000, 135.1667, 4700,    898.9,   5.2235,  34.2370,  34.2460,2,   -999.0,     80.5,2,  5.1482
  492SSY9411_1,  P02W,     2,  1,     13,2,19941104,0021, 30.0000, 135.1667, 4700,    996.7,   4.1828,  34.3321,  34.3330,2,   -999.0,     63.1,2,  4.1062
  492SSY9411_1,  P02W,     2,  1,     12,2,19941104,0021, 30.0000, 135.1667, 4700,   1250.3,   3.1750,  34.4518,  34.4550,2,   -999.0,     67.4,2,  3.0860
  492SSY9411_1,  P02W,     2,  1,     11,2,19941104,0021, 30.0000, 135.1667, 4700,   1499.0,   2.6190,  34.5152,  34.5170,2,   -999.0,     76.9,2,  2.5156
  492SSY9411_1,  P02W,     2,  1,     10,2,19941104,0021, 30.0000, 135.1667, 4700,   1749.8,   2.2613,  34.5673,  34.5750,2,   -999.0,     90.9,2,  2.1418
  492SSY9411_1,  P02W,     2,  1,      9,2,19941104,0021, 30.0000, 135.1667, 4700,   1998.2,   2.0419,  34.5924,  34.6010,2,   -999.0,    105.6,2,  1.9048
  492SSY9411_1,  P02W,     2,  1,      8,2,19941104,0021, 30.0000, 135.1667, 4700,   2248.9,   1.8556,  34.6222,  34.6260,2,   -999.0,    117.8,2,  1.7000
  492SSY9411_1,  P02W,     2,  1,      7,2,19941104,0021, 30.0000, 135.1667, 4700,   2500.0,   1.7524,  34.6402,  34.6340,2,   -999.0,    126.9,2,  1.5765
  492SSY9411_1,  P02W,     2,  1,      6,2,19941104,0021, 30.0000, 135.1667, 4700,   2995.8,   1.5798,  34.6603,  34.6630,2,   -999.0,    143.0,2,  1.3615
  492SSY9411_1,  P02W,     2,  1,      5,2,19941104,0021, 30.0000, 135.1667, 4700,   3495.3,   1.5158,  34.6724,  34.6730,2,   -999.0,    150.8,2,  1.2496
  492SSY9411_1,  P02W,     2,  1,      3,2,19941104,0021, 30.0000, 135.1667, 4700,   3997.1,   1.5318,-999.0000,  34.6790,2,   -999.0,    153.9,2,  1.2122
  492SSY9411_1,  P02W,     2,  1,      4,2,19941104,0021, 30.0000, 135.1667, 4700,   4001.9,   1.5318,-999.0000,  34.6780,2,   -999.0,    154.3,2,  1.2117
  492SSY9411_1,  P02W,     2,  1,      1,2,19941104,0021, 30.0000, 135.1667, 4700,   4672.5,   1.5923,  34.6771,  34.6840,2,   -999.0,    157.0,2,  1.1942
  492SSY9411_1,  P02W,     2,  1,      2,2,19941104,0021, 30.0000, 135.1667, 4700,   4675.2,   1.5888,  34.6822,  34.6850,2,   -999.0,    155.2,2,  1.1905
  492SSY9411_1,  P02W,     3,  1,     23,2,19941104,0531, 29.9950, 135.7483, 4300,     47.1,  24.7230,  34.8351,  34.8340,2,   -999.0,    200.8,2, 24.7128
  492SSY9411_1,  P02W,     3,  1,     22,2,19941104,0531, 29.9950, 135.7483, 4300,     99.9,  20.2106,  34.8875,  34.8820,2,   -999.0,    199.2,2, 20.1921
  492SSY9411_1,  P02W,     3,  1,     21,2,19941104,0531, 29.9950, 135.7483, 4300,    199.7,  18.2517,  34.8578,  34.8580,2,   -999.0,    199.5,2, 18.2171
  492SSY9411_1,  P02W,     3,  1,     20,2,19941104,0531, 29.9950, 135.7483, 4300,    299.7,  16.6072,  34.7488,  34.7410,2,   -999.0,    192.1,2, 16.5585
  492SSY9411_1,  P02W,     3,  1,     19,2,19941104,0531, 29.9950, 135.7483, 4300,    399.3,  14.9283,  34.6178,  34.6090,2,   -999.0,    187.7,2, 14.8679
  492SSY9411_1,  P02W,     3,  1,     18,2,19941104,0531, 29.9950, 135.7483, 4300,    497.2,  12.7587,  34.4446,  34.4440,2,   -999.0,    183.7,2, 12.6909
  492SSY9411_1,  P02W,     3,  1,     17,2,19941104,0531, 29.9950, 135.7483, 4300,    600.3,  10.1025,  34.2818,  34.2820,2,   -999.0,    162.7,2, 10.0317
  492SSY9411_1,  P02W,     3,  1,     16,2,19941104,0531, 29.9950, 135.7483, 4300,    699.8,   8.2248,  34.2074,  34.2120,2,   -999.0,    140.5,2,  8.1515
  492SSY9411_1,  P02W,     3,  1,     15,2,19941104,0531, 29.9950, 135.7483, 4300,    798.3,   6.3638,  34.2167,  34.2180,2,   -999.0,    106.1,2,  6.2906
  492SSY9411_1,  P02W,     3,  1,     14,2,19941104,0531, 29.9950, 135.7483, 4300,    899.1,   4.9680,  34.2794,  34.4010,4,   -999.0,     88.7,2,  4.8943
  492SSY9411_1,  P02W,     3,  1,     13,2,19941104,0531, 29.9950, 135.7483, 4300,    998.4,   4.0898,  34.3631,  34.3480,2,   -999.0,     70.4,2,  4.0138
  492SSY9411_1,  P02W,     3,  1,     12,2,19941104,0531, 29.9950, 135.7483, 4300,   1250.5,   3.1505,  34.4571,  34.4540,2,   -999.0,     72.6,2,  3.0617
  492SSY9411_1,  P02W,     3,  1,     11,2,19941104,0531, 29.9950, 135.7483, 4300,   1499.9,   2.6030,  34.5268,  34.5200,2,   -999.0,     88.7,2,  2.4997
  492SSY9411_1,  P02W,     3,  1,     10,2,19941104,0531, 29.9950, 135.7483, 4300,   1750.5,   2.2113,  34.5761,  34.5730,2,   -999.0,     99.6,2,  2.0924
  492SSY9411_1,  P02W,     3,  1,      9,2,19941104,0531, 29.9950, 135.7483, 4300,   1999.7,   1.9605,  34.6097,  34.6120,2,   -999.0,    114.8,2,  1.8245
  492SSY9411_1,  P02W,     3,  1,      8,2,19941104,0531, 29.9950, 135.7483, 4300,   2249.4,   1.7917,  34.6312,  34.6310,2,   -999.0,    128.7,2,  1.6371
  492SSY9411_1,  P02W,     3,  1,      7,2,19941104,0531, 29.9950, 135.7483, 4300,   2496.0,   1.6847,  34.6491,  34.6400,2,   -999.0,    136.1,2,  1.5104
  492SSY9411_1,  P02W,     3,  1,      6,2,19941104,0531, 29.9950, 135.7483, 4300,   3000.1,   1.5318,  34.6751,  34.6670,2,   -999.0,    148.2,2,  1.3141
  492SSY9411_1,  P02W,     3,  1,      5,2,19941104,0531, 29.9950, 135.7483, 4300,   3500.2,   1.5018,  34.6765,  34.6780,2,   -999.0,    155.6,2,  1.2355
  492SSY9411_1,  P02W,     3,  1,      3,2,19941104,0531, 29.9950, 135.7483, 4300,   3998.9,   1.5303,-999.0000,  34.6800,2,   -999.0,    156.1,2,  1.2106
  492SSY9411_1,  P02W,     3,  1,      4,2,19941104,0531, 29.9950, 135.7483, 4300,   4001.1,   1.5303,-999.0000,  34.6770,2,   -999.0,    156.9,2,  1.2104
  492SSY9411_1,  P02W,     3,  1,      1,2,19941104,0531, 29.9950, 135.7483, 4300,   4360.3,   1.5568,  34.6843,  34.6820,2,   -999.0,    160.0,2,  1.1960
  492SSY9411_1,  P02W,     3,  1,      2,2,19941104,0531, 29.9950, 135.7483, 4300,   4364.4,   1.5570,  34.6848,  34.6790,2,   -999.0,    157.4,2,  1.1958