BOTTLE,20220814CCHSIOAMB
# The SAMPNO column only have 1s in it, removed SAMPNO column and will rely on the BTLNBR fallback
#BOTTLE,20020711WHPSIOKJU
#code : jjward hyd_to_exchange.pl 
#original files copied from HTML directory: 20020710
#original HYD file: p02why.txt   Thu May  2 14:08:19 2002
#original SUM file: p02wsu.txt   Thu Jul 11 09:36:19 2002
EXPOCODE,SECT_ID,STNNBR,CASTNO,BTLNBR,BTLNBR_FLAG_W,DATE,TIME,LATITUDE,LONGITUDE,DEPTH,CTDPRS,CTDTMP,CTDSAL,SALNTY,SALNTY_FLAG_W,CTDOXY,OXYGEN,OXYGEN_FLAG_W,THETA
,,,,,,,,,,,DBAR,ITS-90,PSS-78,PSS-78,,UMOL/KG,UMOL/KG,,DEG C
  492SSY9411_1,  P02W,   A01,  1,     14,2,19941101,1527, 32.7467, 133.1133,  135,      8.3,  24.0561,  34.3807,  34.3830,2,   -999.0,    210.8,2, 24.0544
  492SSY9411_1,  P02W,   A01,  1,     15,2,19941101,1527, 32.7467, 133.1133,  135,     10.5,  24.0571,  34.3799,  34.3940,2,   -999.0,    210.4,2, 24.0549
  492SSY9411_1,  P02W,   A01,  1,     12,2,19941101,1527, 32.7467, 133.1133,  135,     18.5,  24.0526,  34.3793,  34.3920,2,   -999.0,    210.8,2, 24.0487
  492SSY9411_1,  P02W,   A01,  1,     13,2,19941101,1527, 32.7467, 133.1133,  135,     20.5,  24.0641,  34.3834,  34.3960,2,   -999.0,    210.4,2, 24.0598
  492SSY9411_1,  P02W,   A01,  1,     10,2,19941101,1527, 32.7467, 133.1133,  135,     28.9,  24.0686,  34.3863,  34.4000,2,   -999.0,    210.4,2, 24.0625
  492SSY9411_1,  P02W,   A01,  1,     11,2,19941101,1527, 32.7467, 133.1133,  135,     30.8,  24.0606,  34.3821,  34.3980,2,   -999.0,   -999.0,5, 24.0541
  492SSY9411_1,  P02W,   A01,  1,      8,2,19941101,1527, 32.7467, 133.1133,  135,     48.0,  24.0626,  34.4285,  34.4370,2,   -999.0,    210.8,2, 24.0525
  492SSY9411_1,  P02W,   A01,  1,      9,2,19941101,1527, 32.7467, 133.1133,  135,     51.1,  24.0629,  34.4251,  34.4290,2,   -999.0,    211.3,2, 24.0522
  492SSY9411_1,  P02W,   A01,  1,      6,2,19941101,1527, 32.7467, 133.1133,  135,     72.6,  23.9936,  34.4703,  34.4750,2,   -999.0,    209.1,2, 23.9784
  492SSY9411_1,  P02W,   A01,  1,      7,2,19941101,1527, 32.7467, 133.1133,  135,     74.8,  23.9981,  34.4691,  34.4830,2,   -999.0,    210.4,2, 23.9824
  492SSY9411_1,  P02W,   A01,  1,      4,2,19941101,1527, 32.7467, 133.1133,  135,     99.1,  21.7193,  34.6091,  34.6290,2,   -999.0,    181.0,2, 21.6999
  492SSY9411_1,  P02W,   A01,  1,      5,2,19941101,1527, 32.7467, 133.1133,  135,    101.4,  21.7281,  34.6154,  34.6230,2,   -999.0,   -999.0,5, 21.7082
  492SSY9411_1,  P02W,   A01,  1,      2,2,19941101,1527, 32.7467, 133.1133,  135,    123.7,  19.5603,  34.6733,  34.6890,2,   -999.0,    177.0,2, 19.5378
  492SSY9411_1,  P02W,   A01,  1,      3,2,19941101,1527, 32.7467, 133.1133,  135,    126.0,  19.6173,  34.6764,  34.6870,2,   -999.0,    177.8,2, 19.5944
  492SSY9411_1,  P02W,   A01,  1,      1,2,19941101,1527, 32.7467, 133.1133,  135,    136.6,  19.3928,  34.6854,  34.7010,2,   -999.0,    176.1,2, 19.3682
  492SSY9411_1,  P02W,   A02,  1,     23,2,19941101,2203, 32.5833, 133.2100,  740,     10.1,  24.4395,  34.6304,  34.6380,2,   -999.0,    210.4,2, 24.4374
  492SSY9411_1,  P02W,   A02,  1,     22,2,19941101,2203, 32.5833, 133.2100,  740,     19.6,  24.4435,  34.6326,  34.6420,2,   -999.0,    213.9,2, 24.4394
  492SSY9411_1,  P02W,   A02,  1,     21,2,19941101,2203, 32.5833, 133.2100,  740,     30.4,  24.4445,  34.6306,  34.6390,2,   -999.0,    213.4,2, 24.4381
  492SSY9411_1,  P02W,   A02,  1,     20,2,19941101,2203, 32.5833, 133.2100,  740,     49.2,  24.4105,  34.6186,  34.6240,2,   -999.0,    209.1,2, 24.4001
  492SSY9411_1,  P02W,   A02,  1,     19,2,19941101,2203, 32.5833, 133.2100,  740,     75.6,  24.3591,  34.5987,  34.6000,2,   -999.0,    205.1,2, 24.3430
  492SSY9411_1,  P02W,   A02,  1,     18,2,19941101,2203, 32.5833, 133.2100,  740,     99.8,  23.0867,  34.6839,  34.6900,2,   -999.0,    191.1,2, 23.0662
  492SSY9411_1,  P02W,   A02,  1,     17,2,19941101,2203, 32.5833, 133.2100,  740,    124.4,  21.9751,  34.7326,  34.7420,2,   -999.0,    195.4,2, 21.9505
  492SSY9411_1,  P02W,   A02,  1,     16,2,19941101,2203, 32.5833, 133.2100,  740,    149.7,  21.7703,  34.7326,  34.7380,2,   -999.0,    193.6,2, 21.7409
  492SSY9411_1,  P02W,   A02,  1,     15,2,19941101,2203, 32.5833, 133.2100,  740,    200.1,  14.5287,  34.5466,  34.5980,2,   -999.0,    176.3,2, 14.4992
  492SSY9411_1,  P02W,   A02,  1,     13,2,19941101,2203, 32.5833, 133.2100,  740,    248.5,  12.1870,  34.4400,  34.4640,2,   -999.0,    163.2,2, 12.1544
  492SSY9411_1,  P02W,   A02,  1,     14,2,19941101,2203, 32.5833, 133.2100,  740,    251.4,  12.1705,  34.4457,  34.4630,2,   -999.0,    164.9,2, 12.1375
  492SSY9411_1,  P02W,   A02,  1,     11,2,19941101,2203, 32.5833, 133.2100,  740,    300.9,  10.3274,  34.3661,  34.3880,2,   -999.0,    146.2,2, 10.2919
  492SSY9411_1,  P02W,   A02,  1,     12,2,19941101,2203, 32.5833, 133.2100,  740,    304.6,  10.3039,  34.3603,  34.3850,2,   -999.0,    147.5,2, 10.2680
  492SSY9411_1,  P02W,   A02,  1,      9,2,19941101,2203, 32.5833, 133.2100,  740,    400.1,   7.5340,  34.2744,  34.2950,2,   -999.0,    118.7,2,  7.4948
  492SSY9411_1,  P02W,   A02,  1,     10,2,19941101,2203, 32.5833, 133.2100,  740,    401.3,   7.5955,  34.2760,  34.2910,2,   -999.0,    120.0,2,  7.5560
  492SSY9411_1,  P02W,   A02,  1,      7,2,19941101,2203, 32.5833, 133.2100,  740,    501.5,   5.5014,  34.1965,-999.0000,5,   -999.0,   -999.0,5,  5.4597
  492SSY9411_1,  P02W,   A02,  1,      8,2,19941101,2203, 32.5833, 133.2100,  740,    502.3,   5.5798,  34.2019,  34.2170,2,   -999.0,     94.4,2,  5.5377
  492SSY9411_1,  P02W,   A02,  1,      5,2,19941101,2203, 32.5833, 133.2100,  740,    603.3,   4.7117,  34.2894,  34.2930,2,   -999.0,     86.1,2,  4.6647
  492SSY9411_1,  P02W,   A02,  1,      6,2,19941101,2203, 32.5833, 133.2100,  740,    603.8,   4.7534,  34.2782,  34.3000,2,   -999.0,     77.8,2,  4.7061
  492SSY9411_1,  P02W,   A02,  1,      3,2,19941101,2203, 32.5833, 133.2100,  740,    700.6,   4.3177,  34.3219,  34.3350,2,   -999.0,     73.0,2,  4.2647
  492SSY9411_1,  P02W,   A02,  1,      1,2,19941101,2203, 32.5833, 133.2100,  740,    800.4,   3.9175,  34.3606,  34.3760,2,   -999.0,     73.9,2,  3.8587
  492SSY9411_1,  P02W,   A02,  1,      2,2,19941101,2203, 32.5833, 133.2100,  740,    802.7,   3.9205,  34.3587,  34.3760,2,   -999.0,     68.7,2,  3.8615
  492SSY9411_1,  P02W,   A03,  1,     21,2,19941102,0746, 32.4150, 133.3000,  950,     50.6,  24.3296,  34.6546,  34.6510,2,   -999.0,    208.2,2, 24.3188
  492SSY9411_1,  P02W,   A03,  1,     22,2,19941102,0746, 32.4150, 133.3000,  950,     54.3,  24.3316,  34.6563,  34.6510,2,   -999.0,    208.2,2, 24.3200
  492SSY9411_1,  P02W,   A03,  1,     19,2,19941102,0746, 32.4150, 133.3000,  950,    101.1,  23.3483,  34.6188,  34.6000,2,   -999.0,    197.2,2, 23.3274
  492SSY9411_1,  P02W,   A03,  1,     20,2,19941102,0746, 32.4150, 133.3000,  950,    103.5,  23.2841,  34.6148,  34.6030,2,   -999.0,    193.3,2, 23.2628
  492SSY9411_1,  P02W,   A03,  1,     18,2,19941102,0746, 32.4150, 133.3000,  950,    199.5,  17.7233,  34.7669,  34.7570,2,   -999.0,    186.9,2, 17.6895
  492SSY9411_1,  P02W,   A03,  1,     17,2,19941102,0746, 32.4150, 133.3000,  950,    200.4,  17.6679,  34.7693,  34.7620,2,   -999.0,    187.8,2, 17.6339
  492SSY9411_1,  P02W,   A03,  1,     15,2,19941102,0746, 32.4150, 133.3000,  950,    301.9,  12.4610,  34.4803,  34.4830,2,   -999.0,    161.9,2, 12.4207
  492SSY9411_1,  P02W,   A03,  1,     16,2,19941102,0746, 32.4150, 133.3000,  950,    302.7,  12.5321,  34.4782,  34.4790,2,   -999.0,    161.5,2, 12.4915
  492SSY9411_1,  P02W,   A03,  1,     13,2,19941102,0746, 32.4150, 133.3000,  950,    400.4,   8.8777,  34.3382,  34.3370,2,   -999.0,    132.2,2,  8.8345
  492SSY9411_1,  P02W,   A03,  1,     14,2,19941102,0746, 32.4150, 133.3000,  950,    402.1,   8.8955,  34.3187,  34.3350,2,   -999.0,    130.5,2,  8.8520
  492SSY9411_1,  P02W,   A03,  1,     11,2,19941102,0746, 32.4150, 133.3000,  950,    499.6,   6.7013,  34.2507,  34.2510,2,   -999.0,    111.3,2,  6.6552
  492SSY9411_1,  P02W,   A03,  1,     12,2,19941102,0746, 32.4150, 133.3000,  950,    501.4,   6.7528,  34.2686,  34.2520,2,   -999.0,    114.8,2,  6.7063
  492SSY9411_1,  P02W,   A03,  1,      9,2,19941102,0746, 32.4150, 133.3000,  950,    601.8,   4.9017,  34.2751,  34.2740,2,   -999.0,     80.9,2,  4.8540
  492SSY9411_1,  P02W,   A03,  1,     10,2,19941102,0746, 32.4150, 133.3000,  950,    604.6,   4.9017,  34.2829,  34.2750,2,   -999.0,     80.0,2,  4.8538
  492SSY9411_1,  P02W,   A03,  1,      8,2,19941102,0746, 32.4150, 133.3000,  950,    703.4,   4.0024,  34.3489,  34.3600,2,   -999.0,     69.6,2,  3.9509
  492SSY9411_1,  P02W,   A03,  1,      7,2,19941102,0746, 32.4150, 133.3000,  950,    703.9,   4.0004,  34.3366,  34.3520,2,   -999.0,     67.8,2,  3.9489
  492SSY9411_1,  P02W,   A03,  1,      5,2,19941102,0746, 32.4150, 133.3000,  950,    799.4,   3.7321,  34.3684,  34.3840,2,   -999.0,     67.4,2,  3.6746
  492SSY9411_1,  P02W,   A03,  1,      6,2,19941102,0746, 32.4150, 133.3000,  950,    803.5,   3.7301,  34.3874,  34.3910,2,   -999.0,     71.3,2,  3.6723
  492SSY9411_1,  P02W,   A03,  1,      3,2,19941102,0746, 32.4150, 133.3000,  950,    901.7,   3.4863,  34.4196,  34.4150,2,   -999.0,     69.1,2,  3.4223
  492SSY9411_1,  P02W,   A03,  1,      4,2,19941102,0746, 32.4150, 133.3000,  950,    904.7,   3.4808,  34.4192,  34.4190,2,   -999.0,     70.9,2,  3.4166
  492SSY9411_1,  P02W,   A03,  1,      1,2,19941102,0746, 32.4150, 133.3000,  950,    931.7,   3.3044,  34.4145,  34.4380,2,   -999.0,     75.2,2,  3.2394
  492SSY9411_1,  P02W,   A03,  1,      2,2,19941102,0746, 32.4150, 133.3000,  950,    935.1,   3.3029,  34.4396,  34.4320,2,   -999.0,     67.4,2,  3.2377
  492SSY9411_1,  P02W,   A04,  1,     23,2,19941101,1847, 32.2483, 133.3850, 1180,     49.3,  24.4195,  34.7968,  34.7970,2,   -999.0,    211.7,2, 24.4090
  492SSY9411_1,  P02W,   A04,  1,     21,2,19941101,1847, 32.2483, 133.3850, 1180,     99.2,  24.3960,  34.7999,  34.7980,2,   -999.0,    213.4,2, 24.3749
  492SSY9411_1,  P02W,   A04,  1,     22,2,19941101,1847, 32.2483, 133.3850, 1180,    101.6,  24.3950,  34.7991,  34.8040,2,   -999.0,    214.3,2, 24.3734
  492SSY9411_1,  P02W,   A04,  1,     19,2,19941101,1847, 32.2483, 133.3850, 1180,    198.7,  18.2099,  34.8305,  34.8480,2,   -999.0,    206.1,2, 18.1755
  492SSY9411_1,  P02W,   A04,  1,     20,2,19941101,1847, 32.2483, 133.3850, 1180,    200.5,  18.2495,  34.8343,  34.8480,2,   -999.0,    210.4,2, 18.2148
  492SSY9411_1,  P02W,   A04,  1,     17,2,19941101,1847, 32.2483, 133.3850, 1180,    299.2,  15.0253,  34.6095,  34.6240,2,   -999.0,    201.6,2, 14.9799
  492SSY9411_1,  P02W,   A04,  1,     18,2,19941101,1847, 32.2483, 133.3850, 1180,    303.6,  14.8828,  34.6019,  34.6140,2,   -999.0,    192.5,2, 14.8371
  492SSY9411_1,  P02W,   A04,  1,     15,2,19941101,1847, 32.2483, 133.3850, 1180,    401.0,  12.0555,  34.4467,  34.4450,2,   -999.0,    168.4,2, 12.0030
  492SSY9411_1,  P02W,   A04,  1,     16,2,19941101,1847, 32.2483, 133.3850, 1180,    402.9,  12.0560,  34.4454,  34.4410,2,   -999.0,    170.2,2, 12.0032
  492SSY9411_1,  P02W,   A04,  1,     13,2,19941101,1847, 32.2483, 133.3850, 1180,    498.7,   8.9833,  34.3196,  34.3200,2,   -999.0,    141.8,2,  8.9289
  492SSY9411_1,  P02W,   A04,  1,     14,2,19941101,1847, 32.2483, 133.3850, 1180,    502.3,   8.9257,  34.3214,  34.3310,2,   -999.0,    125.3,2,  8.8710
  492SSY9411_1,  P02W,   A04,  1,     11,2,19941101,1847, 32.2483, 133.3850, 1180,    599.5,   6.9976,  34.2965,  34.2970,2,   -999.0,    115.3,2,  6.9406
  492SSY9411_1,  P02W,   A04,  1,     12,2,19941101,1847, 32.2483, 133.3850, 1180,    603.4,   6.9618,  34.2912,  34.3120,2,   -999.0,    116.6,2,  6.9045
  492SSY9411_1,  P02W,   A04,  1,      9,2,19941101,1847, 32.2483, 133.3850, 1180,    699.9,   5.0072,  34.2528,  34.2610,2,   -999.0,     83.9,2,  4.9506
  492SSY9411_1,  P02W,   A04,  1,     10,2,19941101,1847, 32.2483, 133.3850, 1180,    701.7,   5.0142,  34.2488,  34.2600,2,   -999.0,     86.5,2,  4.9574
  492SSY9411_1,  P02W,   A04,  1,      8,2,19941101,1847, 32.2483, 133.3850, 1180,    799.9,   4.1048,  34.3218,-999.0000,5,   -999.0,    104.4,4,  4.0450
  492SSY9411_1,  P02W,   A04,  1,      7,2,19941101,1847, 32.2483, 133.3850, 1180,    800.0,   4.0963,  34.3259,  34.3290,2,   -999.0,     72.2,2,  4.0366
  492SSY9411_1,  P02W,   A04,  1,      5,2,19941101,1847, 32.2483, 133.3850, 1180,    897.6,   3.7134,  34.3781,  34.3910,2,   -999.0,     71.7,2,  3.6483
  492SSY9411_1,  P02W,   A04,  1,      6,2,19941101,1847, 32.2483, 133.3850, 1180,    902.3,   3.7076,  34.3770,  34.3630,2,   -999.0,     71.3,2,  3.6422
  492SSY9411_1,  P02W,   A04,  1,      3,2,19941101,1847, 32.2483, 133.3850, 1180,   1001.3,   3.3709,  34.4168,  34.4310,2,   -999.0,     72.2,2,  3.3000
  492SSY9411_1,  P02W,   A04,  1,      4,2,19941101,1847, 32.2483, 133.3850, 1180,   1002.1,   3.3874,  34.4134,  34.4280,2,   -999.0,     73.9,2,  3.3163
  492SSY9411_1,  P02W,   A04,  1,      1,2,19941101,1847, 32.2483, 133.3850, 1180,   1193.1,   2.9567,  34.4702,  34.4780,2,   -999.0,     81.3,2,  2.8742
  492SSY9411_1,  P02W,   A04,  1,      2,2,19941101,1847, 32.2483, 133.3850, 1180,   1194.8,   2.9857,  34.4628,  34.4750,2,   -999.0,     80.4,2,  2.9028
  492SSY9411_1,  P02W,   A05,  1,     23,2,19941102,0129, 32.0833, 133.4833, 2000,     48.7,  24.3513,  34.8313,  34.8340,2,   -999.0,    209.5,2, 24.3409
  492SSY9411_1,  P02W,   A05,  1,     22,2,19941102,0129, 32.0833, 133.4833, 2000,     98.5,  21.9404,  34.8659,-999.0000,5,   -999.0,    203.2,2, 21.9210
  492SSY9411_1,  P02W,   A05,  1,     21,2,19941102,0129, 32.0833, 133.4833, 2000,    199.2,  18.3232,  34.8559,  34.8440,2,   -999.0,    205.2,2, 18.2886
  492SSY9411_1,  P02W,   A05,  1,     20,2,19941102,0129, 32.0833, 133.4833, 2000,    298.3,  16.5145,  34.7401,  34.7370,2,   -999.0,    192.9,2, 16.4662
  492SSY9411_1,  P02W,   A05,  1,     19,2,19941102,0129, 32.0833, 133.4833, 2000,    397.4,  13.8607,  34.5268,  34.5290,2,   -999.0,    188.9,2, 13.8035
  492SSY9411_1,  P02W,   A05,  1,     18,2,19941102,0129, 32.0833, 133.4833, 2000,    496.6,  10.4123,  34.3223,  34.3280,2,   -999.0,    163.2,2, 10.3529
  492SSY9411_1,  P02W,   A05,  1,     17,2,19941102,0129, 32.0833, 133.4833, 2000,    598.4,   7.7743,  34.1841,  34.1760,2,   -999.0,    140.9,2,  7.7140
  492SSY9411_1,  P02W,   A05,  1,     15,2,19941102,0129, 32.0833, 133.4833, 2000,    697.2,   6.8040,  34.2893,  34.2860,2,   -999.0,    110.9,2,  6.7382
  492SSY9411_1,  P02W,   A05,  1,     16,2,19941102,0129, 32.0833, 133.4833, 2000,    701.2,   6.8005,  34.2898,  34.2880,2,   -999.0,    110.9,2,  6.7343
  492SSY9411_1,  P02W,   A05,  1,     13,2,19941102,0129, 32.0833, 133.4833, 2000,    798.2,   4.6787,  34.3041,  34.3030,2,   -999.0,     76.1,2,  4.6156
  492SSY9411_1,  P02W,   A05,  1,     14,2,19941102,0129, 32.0833, 133.4833, 2000,    800.5,   4.6819,  34.3014,  34.3000,2,   -999.0,     74.4,2,  4.6185
  492SSY9411_1,  P02W,   A05,  1,     11,2,19941102,0129, 32.0833, 133.4833, 2000,    897.7,   3.9535,  34.3291,  34.3270,2,   -999.0,     63.1,2,  3.8867
  492SSY9411_1,  P02W,   A05,  1,     12,2,19941102,0129, 32.0833, 133.4833, 2000,    901.8,   3.9520,  34.3274,  34.3250,2,   -999.0,     67.8,2,  3.8849
  492SSY9411_1,  P02W,   A05,  1,      9,2,19941102,0129, 32.0833, 133.4833, 2000,   1002.0,   3.6177,  34.4048,  34.4020,2,   -999.0,     63.0,2,  3.5449
  492SSY9411_1,  P02W,   A05,  1,     10,2,19941102,0129, 32.0833, 133.4833, 2000,   1002.7,   3.6252,  34.4013,  34.4000,2,   -999.0,     64.4,2,  3.5523
  492SSY9411_1,  P02W,   A05,  1,      7,2,19941102,0129, 32.0833, 133.4833, 2000,   1248.5,   2.9677,  34.4835,  34.4860,2,   -999.0,     73.9,2,  2.8807
  492SSY9411_1,  P02W,   A05,  1,      8,2,19941102,0129, 32.0833, 133.4833, 2000,   1253.0,   2.9677,  34.4812,  34.4710,2,   -999.0,     71.3,2,  2.8804
  492SSY9411_1,  P02W,   A05,  1,      5,2,19941102,0129, 32.0833, 133.4833, 2000,   1499.4,   2.5800,  34.5296,  34.5280,2,   -999.0,     83.5,2,  2.4770
  492SSY9411_1,  P02W,   A05,  1,      6,2,19941102,0129, 32.0833, 133.4833, 2000,   1500.8,   2.5820,  34.5280,  34.5360,2,   -999.0,     85.6,2,  2.4788
  492SSY9411_1,  P02W,   A05,  1,      3,2,19941102,0129, 32.0833, 133.4833, 2000,   1747.5,   2.2453,  34.5671,  34.5660,2,   -999.0,     97.4,2,  2.1262
  492SSY9411_1,  P02W,   A05,  1,      4,2,19941102,0129, 32.0833, 133.4833, 2000,   1750.3,   2.2473,  34.5648,  34.5700,2,   -999.0,     99.1,2,  2.1279
  492SSY9411_1,  P02W,   A05,  1,      1,2,19941102,0129, 32.0833, 133.4833, 2000,   1918.7,   2.1219,  34.5818,  34.5830,2,   -999.0,    104.8,2,  1.9904
  492SSY9411_1,  P02W,   A05,  1,      2,2,19941102,0129, 32.0833, 133.4833, 2000,   1921.3,   2.1226,  34.5822,  34.5920,2,   -999.0,    104.3,2,  1.9908