BOTTLE,20220814CCHSIOAMB
EXPOCODE,SECT_ID,STNNBR,CASTNO,BTLNBR,BTLNBR_FLAG_W,DATE,TIME,LATITUDE,LONGITUDE,DEPTH,CTDPRS,CTDTMP,CTDSAL,SALNTY,SALNTY_FLAG_W,CTDOXY,OXYGEN,OXYGEN_FLAG_W,THETA
,,,,,,,,,,,DBAR,ITS-90,PSS-78,PSS-78,,UMOL/KG,UMOL/KG,,DEG C
  492SSY9411_1,  P02W,    19,  1,     23,2,19941110,1638, 30.0017, 145.0850, 5900,    101.0,  18.3892,  34.8775,  34.8770,2,   -999.0,    227.0,2, 18.3716
  492SSY9411_1,  P02W,    19,  1,     22,2,19941110,1638, 30.0017, 145.0850, 5900,    197.9,  17.0600,  34.8048,  34.8060,2,   -999.0,    213.4,2, 17.0273
  492SSY9411_1,  P02W,    19,  1,     21,2,19941110,1638, 30.0017, 145.0850, 5900,    298.9,  15.8600,  34.6767,  34.6870,2,   -999.0,    196.8,2, 15.8130
  492SSY9411_1,  P02W,    19,  1,     20,2,19941110,1638, 30.0017, 145.0850, 5900,    398.7,  13.6013,  34.4977,  34.5280,2,   -999.0,    185.0,2, 13.5447
  492SSY9411_1,  P02W,    19,  1,     19,2,19941110,1638, 30.0017, 145.0850, 5900,    499.0,  10.9186,  34.3180,  34.3360,2,   -999.0,    178.4,2, 10.8570
  492SSY9411_1,  P02W,    19,  1,     18,2,19941110,1638, 30.0017, 145.0850, 5900,    599.7,   7.8558,  34.0956,  34.1010,2,   -999.0,    167.1,2,  7.7951
  492SSY9411_1,  P02W,    19,  1,     17,2,19941110,1638, 30.0017, 145.0850, 5900,    698.8,   5.4896,  34.0135,  34.0040,2,   -999.0,    132.2,2,  5.4308
  492SSY9411_1,  P02W,    19,  1,     16,2,19941110,1638, 30.0017, 145.0850, 5900,    800.5,   4.5860,  34.1156,  34.1190,2,   -999.0,     84.4,2,  4.5235
  492SSY9411_1,  P02W,    19,  1,     15,2,19941110,1638, 30.0017, 145.0850, 5900,    899.7,   4.0898,  34.2187,  34.1960,2,   -999.0,     61.8,2,  4.0222
  492SSY9411_1,  P02W,    19,  1,     14,2,19941110,1638, 30.0017, 145.0850, 5900,    999.6,   3.6901,  34.2901,  34.2900,2,   -999.0,     50.9,2,  3.6171
  492SSY9411_1,  P02W,    19,  1,     13,2,19941110,1638, 30.0017, 145.0850, 5900,   1249.2,   2.9952,  34.4179,  34.4270,2,   -999.0,     43.9,2,  2.9080
  492SSY9411_1,  P02W,    19,  1,     12,2,19941110,1638, 30.0017, 145.0850, 5900,   1501.2,   2.5296,  34.4884,  34.4810,2,   -999.0,     65.7,3,  2.4271
  492SSY9411_1,  P02W,    19,  1,     11,2,19941110,1638, 30.0017, 145.0850, 5900,   1750.2,   2.2163,  34.5403,  34.5470,2,   -999.0,     59.6,2,  2.0974
  492SSY9411_1,  P02W,    19,  1,     10,2,19941110,1638, 30.0017, 145.0850, 5900,   2000.6,   1.9954,  34.5843,  34.5850,2,   -999.0,     77.4,2,  1.8589
  492SSY9411_1,  P02W,    19,  1,      9,2,19941110,1638, 30.0017, 145.0850, 5900,   2249.3,   1.8241,  34.6137,  34.6180,2,   -999.0,     90.4,2,  1.6690
  492SSY9411_1,  P02W,    19,  1,      8,2,19941110,1638, 30.0017, 145.0850, 5900,   2499.3,   1.6957,  34.6407,  34.6420,2,   -999.0,    109.1,2,  1.5209
  492SSY9411_1,  P02W,    19,  1,      7,2,19941110,1638, 30.0017, 145.0850, 5900,   2998.2,   1.5678,  34.6622,  34.6660,2,   -999.0,    136.5,2,  1.3495
  492SSY9411_1,  P02W,    19,  1,      6,2,19941110,1638, 30.0017, 145.0850, 5900,   3499.0,   1.5038,  34.6724,  34.6670,2,   -999.0,    147.8,2,  1.2376
  492SSY9411_1,  P02W,    19,  1,      5,2,19941110,1638, 30.0017, 145.0850, 5900,   3999.4,   1.4741,  34.6807,  34.6810,2,   -999.0,    153.5,2,  1.1559
  492SSY9411_1,  P02W,    19,  1,      4,2,19941110,1638, 30.0017, 145.0850, 5900,   4499.1,   1.4726,  34.6862,  34.6880,2,   -999.0,    160.9,2,  1.0985
  492SSY9411_1,  P02W,    19,  1,      3,2,19941110,1638, 30.0017, 145.0850, 5900,   4997.5,   1.4968,  34.6891,  34.6970,3,   -999.0,    164.8,2,  1.0629
  492SSY9411_1,  P02W,    19,  1,      2,2,19941110,1638, 30.0017, 145.0850, 5900,   5499.6,   1.5403,  34.6893,  34.6910,2,   -999.0,    164.8,2,  1.0423
  492SSY9411_1,  P02W,    19,  1,      1,2,19941110,1638, 30.0017, 145.0850, 5900,   6061.7,   1.5965,  34.6945,  34.6940,2,   -999.0,    171.8,2,  1.0225