BOTTLE,20220813CCHSIOAMB
EXPOCODE,SECT_ID,STNNBR,CASTNO,SAMPNO,BTLNBR,BTLNBR_FLAG_W,DATE,TIME,LATITUDE,LONGITUDE,DEPTH,CTDPRS,CTDTMP,CTDSAL,CTDSAL_FLAG_W,SALNTY,SALNTY_FLAG_W,CTDOXY,CTDOXY_FLAG_W,OXYGEN,OXYGEN_FLAG_W,SILCAT,SILCAT_FLAG_W,NITRAT,NITRAT_FLAG_W,NITRIT,NITRIT_FLAG_W,PHSPHT,PHSPHT_FLAG_W,CFC-11,CFC-11_FLAG_W,CFC-12,CFC-12_FLAG_W,CFC113,CFC113_FLAG_W,SF6,SF6_FLAG_W,TCARBN,TCARBN_FLAG_W,ALKALI,ALKALI_FLAG_W,PH_TOT,PH_TOT_FLAG_W,PH_TMP,TRITUM,TRITUM_FLAG_W,HELIUM,HELIUM_FLAG_W,DELHE3,DELHE3_FLAG_W,REFTMP,REFTMP_FLAG_W,DELC13,DELC13_FLAG_W,DELC14,DELC14_FLAG_W,C14ERR,NEON,NEON_FLAG_W,DELO18,DELO18_FLAG_W,POC,POC_FLAG_W,DOC,DOC_FLAG_W,TDN,TDN_FLAG_W,BTL_LAT,BTL_LON,TRITER,NEONER,SALTREF,SALTREF_FLAG_W,PIGMENTS,PIGMENTS_FLAG_W,LAB_DEN,LAB_DEN_FLAG_W,CDOM325,CDOM325_FLAG_W,CDOM340,CDOM340_FLAG_W,CDOM380,CDOM380_FLAG_W,CDOM412,CDOM412_FLAG_W,CDOM443,CDOM443_FLAG_W,CDOM490,CDOM490_FLAG_W,CDOM555,CDOM555_FLAG_W,CDOMSL,CDOMSL_FLAG_W,CDOMSN,CDOMSN_FLAG_W,HELIER,DELHER,THETA,LDEO_SAMPNO,ABSORBTION,ABSORBTION_FLAG_W,IMAGE_COUNT,IMAGE_COUNT_FLAG_W,CYTO_COUNT,CYTO_COUNT_FLAG_W,DELD,DELD_FLAG_W,DELDERR,BTL_DATE,BTL_TIME
,,,,,,,,,,,METERS,DBAR,ITS-90,PSS-78,,PSS-78,,UMOL/KG,,UMOL/KG,,UMOL/KG,,UMOL/KG,,UMOL/KG,,UMOL/KG,,PMOL/KG,,PMOL/KG,,PMOL/KG,,FMOL/KG,,UMOL/KG,,UMOL/KG,,,,DEG C,TU,,NMOL/KG,,PERCNT,,DEG C,,/MILLE,,/MILLE,,/MILLE,NMOL/KG,,/MILLE,,UG/KG,,UMOL/KG,,UMOL/KG,,,,TU,NMOL/KG,G/KG,,,,,,1/M,,1/M,,1/M,,1/M,,1/M,,1/M,,1/M,,1/NM,,1/NM,,NMOL/KG,PERCNT,DEG C,,,,,,,,/MILLE,,/MILLE,,
320620110219,       S04P,     131,          1,         36,         36,2,20110417,       1348,   -67.0000,   -76.5302,       3648,     3.9,  -0.2672,  33.7429,2,  33.7434,2,    334.5,3,   336.7,2,   21.83,2,   22.84,2,    0.19,2,    1.61,2,   6.022,2,   3.340,2,   0.648,2,   2.6600,2,  2155.1,6,  2284.2,2,   7.7039,2,    25.00,-999.000,9,-999.0000,9,-999.000,9,  -0.2670,2, -999.00,9,  -999.0,9,  -999.0,-999.000,9, -999.00,9,-999.000,9, -999.00,9, -999.00,9, -67.0000, -76.5302,-999.000,     -999.0,    33.9026,2,     -999.0,9,     -999.0,9,-999.0000,9,-999.0000,9,-999.0000,9,-999.0000,9,-999.0000,9,-999.0000,9,-999.0000,9,-999.0000,9,-999.0000,9,-999.0000,-999.000,  -0.2673,     -999.0,     -999.0,9,     -999.0,9,     -999.0,9,     -999.0,9,     -999.0,20110417,       1529
320620110219,       S04P,     131,          1,         35,         35,2,20110417,       1348,   -67.0000,   -76.5302,       3648,    24.6,  -0.2498,  33.7469,2,  33.7499,2,    336.7,2,   336.6,2,   22.23,2,   22.89,2,    0.19,2,    1.62,2,-999.000,9,-999.000,9,-999.000,9,-999.0000,9,  2155.9,2,  2283.8,6,   7.7023,2,    25.00,-999.000,9,-999.0000,9,-999.000,9,  -0.2490,2, -999.00,9,  -999.0,9,  -999.0,-999.000,9, -999.00,9,-999.000,9, -999.00,9, -999.00,9, -67.0000, -76.5302,-999.000,     -999.0,    33.9090,2,     -999.0,9,     -999.0,9,-999.0000,9,-999.0000,9,-999.0000,9,-999.0000,9,-999.0000,9,-999.0000,9,-999.0000,9,-999.0000,9,-999.0000,9,-999.0000,-999.000,  -0.2506,     -999.0,     -999.0,9,     -999.0,9,     -999.0,9,     -999.0,9,     -999.0,20110417,       1527
320620110219,       S04P,     131,          1,         34,         34,2,20110417,       1348,   -67.0000,   -76.5302,       3648,    50.2,  -0.2232,  33.7592,2,  33.7577,2,    336.3,2,   336.2,2,   23.34,2,   22.82,2,    0.19,2,    1.63,2,   5.923,2,   3.285,2,   0.619,2,   2.6400,2,  2156.4,2,  -999.0,5,   7.7007,6,    25.00,-999.000,9,-999.0000,9,-999.000,9,  -0.2232,2, -999.00,9,  -999.0,9,  -999.0,-999.000,9, -999.00,9,-999.000,9, -999.00,9, -999.00,9, -67.0000, -76.5302,-999.000,     -999.0,    33.9169,2,     -999.0,9,     -999.0,9,-999.0000,9,-999.0000,9,-999.0000,9,-999.0000,9,-999.0000,9,-999.0000,9,-999.0000,9,-999.0000,9,-999.0000,9,-999.0000,-999.000,  -0.2248,     -999.0,     -999.0,9,     -999.0,9,     -999.0,9,     -999.0,9,     -999.0,20110417,       1526
320620110219,       S04P,     131,          1,         33,         33,2,20110417,       1348,   -67.0000,   -76.5302,       3648,    76.0,  -1.4124,  33.9971,2,  34.0056,2,    311.9,2,   296.3,2,   54.78,2,   29.12,2,    0.29,2,    2.23,2,   5.043,2,   2.793,2,   0.536,2,   2.0580,2,  2201.3,2,  2298.3,2,   7.6085,2,    25.00,-999.000,9,-999.0000,9,-999.000,9,  -1.4118,2, -999.00,9,  -999.0,9,  -999.0,-999.000,9, -999.00,9,-999.000,9, -999.00,9, -999.00,9, -67.0000, -76.5302,-999.000,     -999.0,    34.1659,2,     -999.0,9,     -999.0,9,-999.0000,9,-999.0000,9,-999.0000,9,-999.0000,9,-999.0000,9,-999.0000,9,-999.0000,9,-999.0000,9,-999.0000,9,-999.0000,-999.000,  -1.4141,     -999.0,     -999.0,9,     -999.0,9,     -999.0,9,     -999.0,9,     -999.0,20110417,       1524
320620110219,       S04P,     131,          1,         32,         32,2,20110417,       1348,   -67.0000,   -76.5302,       3648,   100.0,  -0.1534,  34.1966,2,  34.1923,2,    249.1,2,   249.3,2,   59.96,2,   32.40,2,    0.30,2,    2.33,2,   3.817,2,   2.142,2,   0.395,2,   1.4430,2,  2224.5,2,  2306.2,2,   7.5633,2,    25.00,-999.000,9,-999.0000,9,-999.000,9,  -0.1536,2, -999.00,9,  -999.0,9,  -999.0,-999.000,9, -999.00,9,-999.000,9, -999.00,9, -999.00,9, -67.0000, -76.5302,-999.000,     -999.0,    34.3535,2,     -999.0,9,     -999.0,9,-999.0000,9,-999.0000,9,-999.0000,9,-999.0000,9,-999.0000,9,-999.0000,9,-999.0000,9,-999.0000,9,-999.0000,9,-999.0000,-999.000,  -0.1568,     -999.0,     -999.0,9,     -999.0,9,     -999.0,9,     -999.0,9,     -999.0,20110417,       1523
320620110219,       S04P,     131,          1,         31,         31,2,20110417,       1348,   -67.0000,   -76.5302,       3648,   124.3,   0.7735,  34.3567,2,  34.3560,2,    208.4,2,   211.2,2,   67.86,2,   33.93,2,    0.03,2,    2.39,2,   2.984,2,   1.687,2,   0.302,2,   1.0130,2,  2241.4,2,  2319.7,2,   7.5396,2,    25.00,-999.000,9,-999.0000,9,-999.000,9,   0.7833,2, -999.00,9,  -999.0,9,  -999.0,-999.000,9, -999.00,9,-999.000,9, -999.00,9, -999.00,9, -67.0000, -76.5302,-999.000,     -999.0,    34.5180,2,     -999.0,9,     -999.0,9,-999.0000,9,-999.0000,9,-999.0000,9,-999.0000,9,-999.0000,9,-999.0000,9,-999.0000,9,-999.0000,9,-999.0000,9,-999.0000,-999.000,   0.7682,     -999.0,     -999.0,9,     -999.0,9,     -999.0,9,     -999.0,9,     -999.0,20110417,       1521
320620110219,       S04P,     131,          1,         30,         30,2,20110417,       1348,   -67.0000,   -76.5302,       3648,   149.6,   1.5053,  34.4818,2,  34.4820,2,    185.8,2,   185.7,2,   73.40,2,   34.35,2,    0.02,2,    2.41,2,   1.666,2,   0.930,2,   0.144,2,   0.5450,2,  2252.8,2,  2325.4,2,   7.5333,2,    25.00,-999.000,9,-999.0000,9,-999.000,9,   1.5107,2, -999.00,9,  -999.0,9,  -999.0,-999.000,9, -999.00,9,-999.000,9, -999.00,9, -999.00,9, -67.0000, -76.5302,-999.000,     -999.0,    34.6446,2,     -999.0,9,     -999.0,9,-999.0000,9,-999.0000,9,-999.0000,9,-999.0000,9,-999.0000,9,-999.0000,9,-999.0000,9,-999.0000,9,-999.0000,9,-999.0000,-999.000,   1.4980,     -999.0,     -999.0,9,     -999.0,9,     -999.0,9,     -999.0,9,     -999.0,20110417,       1519
320620110219,       S04P,     131,          1,         29,         29,2,20110417,       1348,   -67.0000,   -76.5302,       3648,   200.4,   2.0458,  34.5867,2,  34.5871,2,    171.5,2,   172.1,2,   77.18,2,   33.83,2,    0.00,2,    2.36,2,   0.842,2,   0.465,2,   0.060,2,   0.2330,2,  2258.5,2,  2334.6,2,   7.5419,2,    25.00,-999.000,9,-999.0000,9,-999.000,9,   2.0455,2, -999.00,9,  -999.0,9,  -999.0,-999.000,9, -999.00,9,-999.000,9, -999.00,9, -999.00,9, -67.0000, -76.5302,-999.000,     -999.0,    34.7502,2,     -999.0,9,     -999.0,9,-999.0000,9,-999.0000,9,-999.0000,9,-999.0000,9,-999.0000,9,-999.0000,9,-999.0000,9,-999.0000,9,-999.0000,9,-999.0000,-999.000,   2.0350,     -999.0,     -999.0,9,     -999.0,9,     -999.0,9,     -999.0,9,     -999.0,20110417,       1517
320620110219,       S04P,     131,          1,         28,         28,2,20110417,       1348,   -67.0000,   -76.5302,       3648,   249.9,   2.0227,  34.6154,2,  34.6167,2,    171.3,2,   171.3,2,   79.02,2,   33.64,2,    0.00,2,    2.35,2,-999.000,9,-999.000,9,-999.000,9,-999.0000,9,  2259.3,2,  2341.0,3,   7.5446,2,    25.00,-999.000,9,-999.0000,9,-999.000,9,   2.0221,2, -999.00,9,  -999.0,9,  -999.0,-999.000,9, -999.00,9,-999.000,9, -999.00,9, -999.00,9, -67.0000, -76.5302,-999.000,     -999.0,    34.7799,2,     -999.0,9,     -999.0,9,-999.0000,9,-999.0000,9,-999.0000,9,-999.0000,9,-999.0000,9,-999.0000,9,-999.0000,9,-999.0000,9,-999.0000,9,-999.0000,-999.000,   2.0092,     -999.0,     -999.0,9,     -999.0,9,     -999.0,9,     -999.0,9,     -999.0,20110417,       1515
320620110219,       S04P,     131,          1,         27,         27,2,20110417,       1348,   -67.0000,   -76.5302,       3648,   299.6,   2.0228,  34.6451,2,  34.6447,2,    171.3,2,   171.1,2,   80.82,2,   33.33,2,    0.00,2,    2.33,2,   0.579,6,   0.311,6,   0.042,6,   0.1380,6,  2261.1,2,  2340.2,2,   7.5514,2,    25.00,-999.000,9,-999.0000,9,-999.000,9,   2.0232,2, -999.00,9,  -999.0,9,  -999.0,-999.000,9, -999.00,9,-999.000,9, -999.00,9, -999.00,9, -67.0000, -76.5302,-999.000,     -999.0,    34.8081,2,     -999.0,9,     -999.0,9,-999.0000,9,-999.0000,9,-999.0000,9,-999.0000,9,-999.0000,9,-999.0000,9,-999.0000,9,-999.0000,9,-999.0000,9,-999.0000,-999.000,   2.0064,     -999.0,     -999.0,9,     -999.0,9,     -999.0,9,     -999.0,9,     -999.0,20110417,       1513
320620110219,       S04P,     131,          1,         26,         26,2,20110417,       1348,   -67.0000,   -76.5302,       3648,   349.3,   2.0164,  34.6651,2,  34.6657,2,    172.1,2,   171.6,2,   82.26,2,   33.19,2,    0.00,2,    2.31,2,   0.477,2,   0.251,2,   0.030,2,   0.1090,2,  2259.1,2,  2341.4,2,   7.5555,2,    25.00,-999.000,9,-999.0000,9,-999.000,9,   2.0164,2, -999.00,9,  -999.0,9,  -999.0,-999.000,9, -999.00,9,-999.000,9, -999.00,9, -999.00,9, -67.0000, -76.5302,-999.000,     -999.0,    34.8292,2,     -999.0,9,     -999.0,9,-999.0000,9,-999.0000,9,-999.0000,9,-999.0000,9,-999.0000,9,-999.0000,9,-999.0000,9,-999.0000,9,-999.0000,9,-999.0000,-999.000,   1.9972,     -999.0,     -999.0,9,     -999.0,9,     -999.0,9,     -999.0,9,     -999.0,20110417,       1511
320620110219,       S04P,     131,          1,         25,         25,2,20110417,       1348,   -67.0000,   -76.5302,       3648,   400.9,   2.0054,  34.6835,2,  34.6835,2,    174.0,2,   174.1,2,   83.36,2,   32.75,2,    0.00,2,    2.28,2,-999.000,9,-999.000,9,-999.000,9,-999.0000,9,  2258.3,2,  2343.3,2,   7.5641,2,    25.00,-999.000,9,-999.0000,9,-999.000,9,   2.0054,2, -999.00,9,  -999.0,9,  -999.0,-999.000,9, -999.00,9,-999.000,9, -999.00,9, -999.00,9, -67.0000, -76.5301,-999.000,     -999.0,    34.8471,2,     -999.0,9,     -999.0,9,-999.0000,9,-999.0000,9,-999.0000,9,-999.0000,9,-999.0000,9,-999.0000,9,-999.0000,9,-999.0000,9,-999.0000,9,-999.0000,-999.000,   1.9832,     -999.0,     -999.0,9,     -999.0,9,     -999.0,9,     -999.0,9,     -999.0,20110417,       1509
320620110219,       S04P,     131,          1,         24,         24,2,20110417,       1348,   -67.0000,   -76.5302,       3648,   449.7,   1.9695,  34.6936,2,  34.6933,2,    175.2,2,   174.8,2,   84.73,2,   32.67,2,    0.00,2,    2.27,2,   0.358,2,   0.181,2,   0.019,2,   0.1040,2,  2259.9,2,  2344.0,2,   7.5668,2,    25.00,-999.000,9,-999.0000,9,-999.000,9,   1.9692,2, -999.00,9,  -999.0,9,  -999.0,-999.000,9, -999.00,9,-999.000,9, -999.00,9, -999.00,9, -67.0000, -76.5302,-999.000,     -999.0,    34.8569,2,     -999.0,9,     -999.0,9,-999.0000,9,-999.0000,9,-999.0000,9,-999.0000,9,-999.0000,9,-999.0000,9,-999.0000,9,-999.0000,9,-999.0000,9,-999.0000,-999.000,   1.9445,     -999.0,     -999.0,9,     -999.0,9,     -999.0,9,     -999.0,9,     -999.0,20110417,       1507
320620110219,       S04P,     131,          1,         23,         23,2,20110417,       1348,   -67.0000,   -76.5302,       3648,   499.8,   1.9461,  34.7035,2,  34.7037,2,    176.4,2,   177.5,2,   85.38,2,   32.28,2,    0.00,2,    2.24,2,-999.000,9,-999.000,9,-999.000,9,-999.0000,9,  2258.7,2,  2346.0,2,   7.5740,2,    25.00,-999.000,9,-999.0000,9,-999.000,9,   1.9459,2, -999.00,9,  -999.0,9,  -999.0,-999.000,9, -999.00,9,-999.000,9, -999.00,9, -999.00,9, -67.0000, -76.5302,-999.000,     -999.0,    34.8674,2,     -999.0,9,     -999.0,9,-999.0000,9,-999.0000,9,-999.0000,9,-999.0000,9,-999.0000,9,-999.0000,9,-999.0000,9,-999.0000,9,-999.0000,9,-999.0000,-999.000,   1.9182,     -999.0,     -999.0,9,     -999.0,9,     -999.0,9,     -999.0,9,     -999.0,20110417,       1505
320620110219,       S04P,     131,          1,         22,         22,2,20110417,       1348,   -67.0000,   -76.5302,       3648,   600.7,   1.8746,  34.7153,2,  34.7151,2,    179.7,2,   180.3,2,   87.73,2,   31.98,2,    0.00,2,    2.23,2,   0.272,2,   0.135,2,   0.014,2,   0.0930,2,  -999.0,9,  -999.0,9,-999.0000,9,  -999.00,-999.000,9,-999.0000,9,-999.000,9,   1.8743,2, -999.00,9,  -999.0,9,  -999.0,-999.000,9, -999.00,9,-999.000,9, -999.00,9, -999.00,9, -67.0000, -76.5302,-999.000,     -999.0,    34.8788,2,     -999.0,9,     -999.0,9,-999.0000,9,-999.0000,9,-999.0000,9,-999.0000,9,-999.0000,9,-999.0000,9,-999.0000,9,-999.0000,9,-999.0000,9,-999.0000,-999.000,   1.8409,     -999.0,     -999.0,9,     -999.0,9,     -999.0,9,     -999.0,9,     -999.0,20110417,       1502
320620110219,       S04P,     131,          1,         21,         21,2,20110417,       1348,   -67.0000,   -76.5302,       3648,   700.3,   1.7828,  34.7232,2,  34.7233,2,    182.2,2,   182.9,2,   90.40,2,   31.77,2,    0.00,2,    2.22,2,-999.000,9,-999.000,9,-999.000,9,-999.0000,9,  -999.0,9,  -999.0,9,-999.0000,9,  -999.00,-999.000,9,-999.0000,9,-999.000,9,   1.7828,2, -999.00,9,  -999.0,9,  -999.0,-999.000,9, -999.00,9,-999.000,9, -999.00,9, -999.00,9, -67.0000, -76.5301,-999.000,     -999.0,    34.8871,2,     -999.0,9,     -999.0,9,-999.0000,9,-999.0000,9,-999.0000,9,-999.0000,9,-999.0000,9,-999.0000,9,-999.0000,9,-999.0000,9,-999.0000,9,-999.0000,-999.000,   1.7434,     -999.0,     -999.0,9,     -999.0,9,     -999.0,9,     -999.0,9,     -999.0,20110417,       1500
320620110219,       S04P,     131,          1,         20,         20,2,20110417,       1348,   -67.0000,   -76.5302,       3648,   800.2,   1.6841,  34.7266,2,  34.7265,2,    184.8,2,   184.9,2,   93.57,2,   31.69,2,    0.00,2,    2.21,2,   0.209,2,   0.111,2,   0.011,2,   0.0780,2,  2259.0,2,  2351.0,2,   7.5857,2,    25.00,-999.000,9,-999.0000,9,-999.000,9,   1.6845,2, -999.00,9,  -999.0,9,  -999.0,-999.000,9, -999.00,9,-999.000,9, -999.00,9, -999.00,9, -67.0000, -76.5302,-999.000,     -999.0,    34.8902,2,     -999.0,9,     -999.0,9,-999.0000,9,-999.0000,9,-999.0000,9,-999.0000,9,-999.0000,9,-999.0000,9,-999.0000,9,-999.0000,9,-999.0000,9,-999.0000,-999.000,   1.6391,     -999.0,     -999.0,9,     -999.0,9,     -999.0,9,     -999.0,9,     -999.0,20110417,       1457
320620110219,       S04P,     131,          1,         19,         19,2,20110417,       1348,   -67.0000,   -76.5302,       3648,   899.7,   1.6153,  34.7290,2,  34.7290,2,    186.7,2,   186.2,2,   95.12,2,   31.63,2,    0.00,2,    2.20,2,-999.000,9,-999.000,9,-999.000,9,-999.0000,9,  -999.0,9,  -999.0,9,-999.0000,9,  -999.00,-999.000,9,-999.0000,9,-999.000,9,   1.6153,2, -999.00,9,  -999.0,9,  -999.0,-999.000,9, -999.00,9,-999.000,9, -999.00,9, -999.00,9, -67.0000, -76.5302,-999.000,     -999.0,    34.8928,2,     -999.0,9,     -999.0,9,-999.0000,9,-999.0000,9,-999.0000,9,-999.0000,9,-999.0000,9,-999.0000,9,-999.0000,9,-999.0000,9,-999.0000,9,-999.0000,-999.000,   1.5644,     -999.0,     -999.0,9,     -999.0,9,     -999.0,9,     -999.0,9,     -999.0,20110417,       1454
320620110219,       S04P,     131,          1,         18,         18,2,20110417,       1348,   -67.0000,   -76.5302,       3648,  1000.2,   1.5440,  34.7295,2,  34.7296,2,    188.6,2,   188.4,2,   97.58,2,   31.68,2,    0.00,2,    2.21,2,   0.165,2,   0.083,2,   0.009,2,   0.0380,2,  -999.0,9,  -999.0,9,-999.0000,9,  -999.00,-999.000,9,-999.0000,9,-999.000,9,   1.5440,2, -999.00,9,  -999.0,9,  -999.0,-999.000,9, -999.00,9,-999.000,9, -999.00,9, -999.00,9, -67.0000, -76.5302,-999.000,     -999.0,    34.8933,2,     -999.0,9,     -999.0,9,-999.0000,9,-999.0000,9,-999.0000,9,-999.0000,9,-999.0000,9,-999.0000,9,-999.0000,9,-999.0000,9,-999.0000,9,-999.0000,-999.000,   1.4872,     -999.0,     -999.0,9,     -999.0,9,     -999.0,9,     -999.0,9,     -999.0,20110417,       1451
320620110219,       S04P,     131,          1,         17,         17,2,20110417,       1348,   -67.0000,   -76.5302,       3648,  1100.7,   1.4870,  34.7294,2,  34.7300,2,    189.8,2,   189.3,2,   99.25,2,   31.70,2,    0.00,2,    2.21,2,-999.000,9,-999.000,9,-999.000,9,-999.0000,9,  -999.0,9,  -999.0,9,-999.0000,9,  -999.00,-999.000,9,-999.0000,9,-999.000,9,   1.4872,2, -999.00,9,  -999.0,9,  -999.0,-999.000,9, -999.00,9,-999.000,9, -999.00,9, -999.00,9, -67.0000, -76.5302,-999.000,     -999.0,    34.8937,2,     -999.0,9,     -999.0,9,-999.0000,9,-999.0000,9,-999.0000,9,-999.0000,9,-999.0000,9,-999.0000,9,-999.0000,9,-999.0000,9,-999.0000,9,-999.0000,-999.000,   1.4241,     -999.0,     -999.0,9,     -999.0,9,     -999.0,9,     -999.0,9,     -999.0,20110417,       1448
320620110219,       S04P,     131,          1,         16,         16,2,20110417,       1348,   -67.0000,   -76.5302,       3648,  1200.3,   1.4215,  34.7292,2,  34.7296,2,    191.7,2,   191.2,2,  100.92,2,   31.77,2,    0.00,2,    2.20,2,   0.139,2,   0.073,2,   0.007,2,   0.0180,2,  -999.0,9,  -999.0,9,-999.0000,9,  -999.00,-999.000,9,-999.0000,9,-999.000,9,   1.4221,2, -999.00,9,  -999.0,9,  -999.0,-999.000,9, -999.00,9,-999.000,9, -999.00,9, -999.00,9, -67.0000, -76.5302,-999.000,     -999.0,    34.8933,2,     -999.0,9,     -999.0,9,-999.0000,9,-999.0000,9,-999.0000,9,-999.0000,9,-999.0000,9,-999.0000,9,-999.0000,9,-999.0000,9,-999.0000,9,-999.0000,-999.000,   1.3525,     -999.0,     -999.0,9,     -999.0,9,     -999.0,9,     -999.0,9,     -999.0,20110417,       1446
320620110219,       S04P,     131,          1,         15,         15,2,20110417,       1348,   -67.0000,   -76.5302,       3648,  1300.3,   1.3392,  34.7278,2,  34.7282,2,    193.1,2,   192.6,2,  103.32,2,   31.76,2,    0.00,2,    2.20,2,-999.000,9,-999.000,9,-999.000,9,-999.0000,9,  2261.9,2,  2358.4,6,   7.5973,2,    25.00,-999.000,9,-999.0000,9,-999.000,9,   1.3392,2, -999.00,9,  -999.0,9,  -999.0,-999.000,9, -999.00,9,-999.000,9, -999.00,9, -999.00,9, -67.0000, -76.5302,-999.000,     -999.0,    34.8919,2,     -999.0,9,     -999.0,9,-999.0000,9,-999.0000,9,-999.0000,9,-999.0000,9,-999.0000,9,-999.0000,9,-999.0000,9,-999.0000,9,-999.0000,9,-999.0000,-999.000,   1.2642,     -999.0,     -999.0,9,     -999.0,9,     -999.0,9,     -999.0,9,     -999.0,20110417,       1443
320620110219,       S04P,     131,          1,         14,         14,2,20110417,       1348,   -67.0000,   -76.5302,       3648,  1399.6,   1.2626,  34.7262,2,  34.7264,2,    194.8,2,   195.0,2,  105.43,2,   31.74,2,    0.00,2,    2.20,2,   0.105,2,   0.058,2,   0.006,2,   0.0170,2,  -999.0,9,  -999.0,9,-999.0000,9,  -999.00,-999.000,9,-999.0000,9,-999.000,9,   1.2625,2, -999.00,9,  -999.0,9,  -999.0,-999.000,9, -999.00,9,-999.000,9, -999.00,9, -999.00,9, -67.0000, -76.5302,-999.000,     -999.0,    34.8901,2,     -999.0,9,     -999.0,9,-999.0000,9,-999.0000,9,-999.0000,9,-999.0000,9,-999.0000,9,-999.0000,9,-999.0000,9,-999.0000,9,-999.0000,9,-999.0000,-999.000,   1.1816,     -999.0,     -999.0,9,     -999.0,9,     -999.0,9,     -999.0,9,     -999.0,20110417,       1440