BOTTLE,20220813CCHSIOAMB
EXPOCODE,SECT_ID,STNNBR,CASTNO,SAMPNO,BTLNBR,BTLNBR_FLAG_W,DATE,TIME,LATITUDE,LONGITUDE,DEPTH,CTDPRS,CTDTMP,CTDSAL,CTDSAL_FLAG_W,SALNTY,SALNTY_FLAG_W,CTDOXY,CTDOXY_FLAG_W,OXYGEN,OXYGEN_FLAG_W,SILCAT,SILCAT_FLAG_W,NITRAT,NITRAT_FLAG_W,NITRIT,NITRIT_FLAG_W,PHSPHT,PHSPHT_FLAG_W,CFC-11,CFC-11_FLAG_W,CFC-12,CFC-12_FLAG_W,CFC113,CFC113_FLAG_W,SF6,SF6_FLAG_W,TCARBN,TCARBN_FLAG_W,ALKALI,ALKALI_FLAG_W,PH_TOT,PH_TOT_FLAG_W,PH_TMP,TRITUM,TRITUM_FLAG_W,HELIUM,HELIUM_FLAG_W,DELHE3,DELHE3_FLAG_W,REFTMP,REFTMP_FLAG_W,DELC13,DELC13_FLAG_W,DELC14,DELC14_FLAG_W,C14ERR,NEON,NEON_FLAG_W,DELO18,DELO18_FLAG_W,POC,POC_FLAG_W,DOC,DOC_FLAG_W,TDN,TDN_FLAG_W,BTL_LAT,BTL_LON,TRITER,NEONER,SALTREF,SALTREF_FLAG_W,PIGMENTS,PIGMENTS_FLAG_W,LAB_DEN,LAB_DEN_FLAG_W,CDOM325,CDOM325_FLAG_W,CDOM340,CDOM340_FLAG_W,CDOM380,CDOM380_FLAG_W,CDOM412,CDOM412_FLAG_W,CDOM443,CDOM443_FLAG_W,CDOM490,CDOM490_FLAG_W,CDOM555,CDOM555_FLAG_W,CDOMSL,CDOMSL_FLAG_W,CDOMSN,CDOMSN_FLAG_W,HELIER,DELHER,THETA,LDEO_SAMPNO,ABSORBTION,ABSORBTION_FLAG_W,IMAGE_COUNT,IMAGE_COUNT_FLAG_W,CYTO_COUNT,CYTO_COUNT_FLAG_W,DELD,DELD_FLAG_W,DELDERR,BTL_DATE,BTL_TIME
,,,,,,,,,,,METERS,DBAR,ITS-90,PSS-78,,PSS-78,,UMOL/KG,,UMOL/KG,,UMOL/KG,,UMOL/KG,,UMOL/KG,,UMOL/KG,,PMOL/KG,,PMOL/KG,,PMOL/KG,,FMOL/KG,,UMOL/KG,,UMOL/KG,,,,DEG C,TU,,NMOL/KG,,PERCNT,,DEG C,,/MILLE,,/MILLE,,/MILLE,NMOL/KG,,/MILLE,,UG/KG,,UMOL/KG,,UMOL/KG,,,,TU,NMOL/KG,G/KG,,,,,,1/M,,1/M,,1/M,,1/M,,1/M,,1/M,,1/M,,1/NM,,1/NM,,NMOL/KG,PERCNT,DEG C,,,,,,,,/MILLE,,/MILLE,,
320620110219,       P16S,      55,          2,         13,         13,2,20110314,       0730,   -71.9740,  -150.0000,       4193,  1533.9,   0.8735,  34.7148,2,  34.7151,2,    200.4,2,   201.7,2,  117.77,2,   32.04,2,    0.00,2,    2.21,2,   0.107,2,   0.055,2,   0.004,2,-999.0000,9,  -999.0,9,  -999.0,9,-999.0000,9,  -999.00,-999.000,9,-999.0000,9,-999.000,9,   0.8736,2, -999.00,9,  -999.0,9,  -999.0,-999.000,9, -999.00,9,-999.000,9, -999.00,9, -999.00,9, -71.9740,-150.0000,-999.000,     -999.0,    34.8788,2,     -999.0,9,     -999.0,9,-999.0000,9,-999.0000,9,-999.0000,9,-999.0000,9,-999.0000,9,-999.0000,9,-999.0000,9,-999.0000,9,-999.0000,9,-999.0000,-999.000,   0.7878,     -999.0,     -999.0,9,     -999.0,9,     -999.0,9,     -999.0,9,     -999.0,20110314,       0829
320620110219,       P16S,      55,          2,         12,         12,2,20110314,       0730,   -71.9740,  -150.0000,       4193,  1665.4,   0.8191,  34.7126,2,  34.7128,2,    202.1,2,   201.5,2,  119.47,2,   32.09,2,    0.00,2,    2.22,2,-999.000,9,-999.000,9,-999.000,9,-999.0000,9,  -999.0,9,  -999.0,9,-999.0000,9,  -999.00,-999.000,9,-999.0000,9,-999.000,9,   0.8194,2, -999.00,9,  -999.0,9,  -999.0,-999.000,9, -999.00,9,-999.000,9, -999.00,9, -999.00,9, -71.9740,-150.0000,-999.000,     -999.0,    34.8765,2,     -999.0,9,     -999.0,9,-999.0000,9,-999.0000,9,-999.0000,9,-999.0000,9,-999.0000,9,-999.0000,9,-999.0000,9,-999.0000,9,-999.0000,9,-999.0000,-999.000,   0.7249,     -999.0,     -999.0,9,     -999.0,9,     -999.0,9,     -999.0,9,     -999.0,20110314,       0826
320620110219,       P16S,      55,          2,         11,         11,2,20110314,       0730,   -71.9740,  -150.0000,       4193,  1865.0,   0.7443,  34.7096,2,  34.7124,4,    203.9,2,   203.1,2,  122.47,2,   32.07,2,    0.00,2,    2.21,2,-999.000,9,-999.000,9,-999.000,9,-999.0000,9,  2261.7,2,  2360.1,2,   7.5986,2,    25.00,-999.000,9,-999.0000,9,-999.000,9,   0.7448,2, -999.00,9,  -999.0,9,  -999.0,-999.000,9, -999.00,9,-999.000,9, -999.00,9, -999.00,9, -71.9740,-150.0000,-999.000,     -999.0,    34.8761,4,     -999.0,9,     -999.0,9,-999.0000,9,-999.0000,9,-999.0000,9,-999.0000,9,-999.0000,9,-999.0000,9,-999.0000,9,-999.0000,9,-999.0000,9,-999.0000,-999.000,   0.6368,     -999.0,     -999.0,9,     -999.0,9,     -999.0,9,     -999.0,9,     -999.0,20110314,       0822
320620110219,       P16S,      55,          2,         10,         37,2,20110314,       0730,   -71.9740,  -150.0000,       4193,  2084.0,   0.6742,  34.7073,2,  34.7071,2,    205.4,2,   205.1,2,  124.29,2,   32.09,2,    0.00,2,    2.21,2,-999.000,9,-999.000,9,-999.000,9,-999.0000,9,  -999.0,9,  -999.0,9,-999.0000,9,  -999.00,-999.000,9,-999.0000,9,-999.000,9,   0.6740,2, -999.00,9,  -999.0,9,  -999.0,-999.000,9, -999.00,9,-999.000,9, -999.00,9, -999.00,9, -71.9740,-150.0000,-999.000,     -999.0,    34.8707,2,     -999.0,9,     -999.0,9,-999.0000,9,-999.0000,9,-999.0000,9,-999.0000,9,-999.0000,9,-999.0000,9,-999.0000,9,-999.0000,9,-999.0000,9,-999.0000,-999.000,   0.5515,     -999.0,     -999.0,9,     -999.0,9,     -999.0,9,     -999.0,9,     -999.0,20110314,       0817
320620110219,       P16S,      55,          2,          9,          9,2,20110314,       0730,   -71.9740,  -150.0000,       4193,  2334.4,   0.5927,  34.7055,2,  34.7047,2,    207.2,2,   207.0,2,  126.09,2,   32.04,2,    0.00,2,    2.22,2,-999.000,9,-999.000,9,-999.000,9,-999.0000,9,  2261.4,2,  2359.8,2,   7.5963,2,    25.00,-999.000,9,-999.0000,9,-999.000,9,   0.5931,2, -999.00,9,  -999.0,9,  -999.0,-999.000,9, -999.00,9,-999.000,9, -999.00,9, -999.00,9, -71.9740,-150.0000,-999.000,     -999.0,    34.8684,2,     -999.0,9,     -999.0,9,-999.0000,9,-999.0000,9,-999.0000,9,-999.0000,9,-999.0000,9,-999.0000,9,-999.0000,9,-999.0000,9,-999.0000,9,-999.0000,-999.000,   0.4520,     -999.0,     -999.0,9,     -999.0,9,     -999.0,9,     -999.0,9,     -999.0,20110314,       0812
320620110219,       P16S,      55,          2,          8,          8,2,20110314,       0730,   -71.9740,  -150.0000,       4193,  2584.8,   0.5077,  34.7046,2,  34.7039,2,    209.2,2,   209.6,2,  128.22,2,   32.04,2,    0.00,2,    2.20,2,   0.153,2,   0.078,2,   0.011,2,-999.0000,9,  -999.0,9,  -999.0,9,-999.0000,9,  -999.00,-999.000,9,-999.0000,9,-999.000,9,   0.5079,2, -999.00,9,  -999.0,9,  -999.0,-999.000,9, -999.00,9,-999.000,9, -999.00,9, -999.00,9, -71.9740,-150.0000,-999.000,     -999.0,    34.8676,2,     -999.0,9,     -999.0,9,-999.0000,9,-999.0000,9,-999.0000,9,-999.0000,9,-999.0000,9,-999.0000,9,-999.0000,9,-999.0000,9,-999.0000,9,-999.0000,-999.000,   0.3483,     -999.0,     -999.0,9,     -999.0,9,     -999.0,9,     -999.0,9,     -999.0,20110314,       0806
320620110219,       P16S,      55,          2,          7,          7,2,20110314,       0730,   -71.9740,  -150.0000,       4193,  2834.4,   0.4368,  34.7039,2,  34.7041,2,    210.9,2,   210.8,2,  130.81,2,   32.18,2,    0.00,2,    2.21,2,-999.000,9,-999.000,9,-999.000,9,-999.0000,9,  2261.5,2,  2360.8,2,   7.5953,2,    25.00,-999.000,9,-999.0000,9,-999.000,9,   0.4372,2, -999.00,9,  -999.0,9,  -999.0,-999.000,9, -999.00,9,-999.000,9, -999.00,9, -999.00,9, -71.9740,-150.0000,-999.000,     -999.0,    34.8678,2,     -999.0,9,     -999.0,9,-999.0000,9,-999.0000,9,-999.0000,9,-999.0000,9,-999.0000,9,-999.0000,9,-999.0000,9,-999.0000,9,-999.0000,9,-999.0000,-999.000,   0.2578,     -999.0,     -999.0,9,     -999.0,9,     -999.0,9,     -999.0,9,     -999.0,20110314,       0801
320620110219,       P16S,      55,          2,          6,          6,2,20110314,       0730,   -71.9740,  -150.0000,       4193,  3098.9,   0.3901,  34.7033,2,  34.7029,2,    212.3,2,   212.4,2,  132.46,2,   32.18,2,    0.00,2,    2.22,2,   0.167,2,   0.085,2,   0.011,2,-999.0000,9,  -999.0,9,  -999.0,9,-999.0000,9,  -999.00,-999.000,9,-999.0000,9,-999.000,9,   0.3904,2, -999.00,9,  -999.0,9,  -999.0,-999.000,9, -999.00,9,-999.000,9, -999.00,9, -999.00,9, -71.9740,-150.0000,-999.000,     -999.0,    34.8666,2,     -999.0,9,     -999.0,9,-999.0000,9,-999.0000,9,-999.0000,9,-999.0000,9,-999.0000,9,-999.0000,9,-999.0000,9,-999.0000,9,-999.0000,9,-999.0000,-999.000,   0.1890,     -999.0,     -999.0,9,     -999.0,9,     -999.0,9,     -999.0,9,     -999.0,20110314,       0756
320620110219,       P16S,      55,          2,          5,          5,2,20110314,       0730,   -71.9740,  -150.0000,       4193,  3400.5,   0.3446,  34.7028,2,  34.7027,2,    213.8,2,   213.6,2,  135.74,2,   32.19,2,    0.00,2,    2.23,2,-999.000,9,-999.000,9,-999.000,9,-999.0000,9,  2262.5,2,  2360.8,2,   7.5974,2,    25.00,-999.000,9,-999.0000,9,-999.000,9,   0.3451,2, -999.00,9,  -999.0,9,  -999.0,-999.000,9, -999.00,9,-999.000,9, -999.00,9, -999.00,9, -71.9740,-150.0000,-999.000,     -999.0,    34.8664,2,     -999.0,9,     -999.0,9,-999.0000,9,-999.0000,9,-999.0000,9,-999.0000,9,-999.0000,9,-999.0000,9,-999.0000,9,-999.0000,9,-999.0000,9,-999.0000,-999.000,   0.1170,     -999.0,     -999.0,9,     -999.0,9,     -999.0,9,     -999.0,9,     -999.0,20110314,       0749
320620110219,       P16S,      55,          2,          4,          4,2,20110314,       0730,   -71.9740,  -150.0000,       4193,  3700.0,   0.3131,  34.7018,2,  34.7010,2,    215.3,2,   215.5,2,  135.44,2,   32.14,2,    0.00,2,    2.21,2,   0.292,2,   0.142,2,   0.011,2,-999.0000,9,  2261.9,2,  2360.7,2,   7.5979,2,    25.00,-999.000,9,-999.0000,9,-999.000,9,   0.3132,2, -999.00,9,  -999.0,9,  -999.0,-999.000,9, -999.00,9,-999.000,9, -999.00,9, -999.00,9, -71.9740,-150.0000,-999.000,     -999.0,    34.8646,2,     -999.0,9,     -999.0,9,-999.0000,9,-999.0000,9,-999.0000,9,-999.0000,9,-999.0000,9,-999.0000,9,-999.0000,9,-999.0000,9,-999.0000,9,-999.0000,-999.000,   0.0577,     -999.0,     -999.0,9,     -999.0,9,     -999.0,9,     -999.0,9,     -999.0,20110314,       0743
320620110219,       P16S,      55,          2,          3,          3,2,20110314,       0730,   -71.9740,  -150.0000,       4193,  4000.0,   0.2451,  34.6978,2,  34.6970,2,    218.9,2,   218.7,2,  127.37,2,   32.03,2,    0.00,2,    2.22,2,   0.626,2,   0.304,2,   0.036,2,-999.0000,9,  2259.0,2,  2358.6,6,   7.5930,2,    25.00,-999.000,9,-999.0000,9,-999.000,9,   0.2451,2, -999.00,9,  -999.0,9,  -999.0,-999.000,9, -999.00,9,-999.000,9, -999.00,9, -999.00,9, -71.9740,-150.0000,-999.000,     -999.0,    34.8606,2,     -999.0,9,     -999.0,9,-999.0000,9,-999.0000,9,-999.0000,9,-999.0000,9,-999.0000,9,-999.0000,9,-999.0000,9,-999.0000,9,-999.0000,9,-999.0000,-999.000,  -0.0383,     -999.0,     -999.0,9,     -999.0,9,     -999.0,9,     -999.0,9,     -999.0,20110314,       0737
320620110219,       P16S,      55,          2,          2,          2,2,20110314,       0730,   -71.9740,  -150.0000,       4193,  4150.3,   0.2110,  34.6969,2,  34.6964,2,    220.7,2,   220.6,2,  125.13,2,   32.03,2,    0.00,2,    2.22,2,   0.746,2,   0.364,2,   0.037,2,-999.0000,9,  2259.4,2,  2357.8,2,   7.5909,6,    25.00,-999.000,9,-999.0000,9,-999.000,9,   0.2108,2, -999.00,9,  -999.0,9,  -999.0,-999.000,9, -999.00,9,-999.000,9, -999.00,9, -999.00,9, -71.9740,-150.0000,-999.000,     -999.0,    34.8600,2,     -999.0,9,     -999.0,9,-999.0000,9,-999.0000,9,-999.0000,9,-999.0000,9,-999.0000,9,-999.0000,9,-999.0000,9,-999.0000,9,-999.0000,9,-999.0000,-999.000,  -0.0868,     -999.0,     -999.0,9,     -999.0,9,     -999.0,9,     -999.0,9,     -999.0,20110314,       0733
320620110219,       P16S,      55,          2,          1,          1,2,20110314,       0730,   -71.9740,  -150.0000,       4193,  4265.8,   0.2191,  34.6973,2,  34.6998,3,    220.6,2,   220.4,2,  126.17,2,   32.11,2,    0.00,2,    2.21,2,   0.770,2,   0.382,2,   0.039,2,-999.0000,9,  2261.0,6,  2357.5,2,   7.5906,2,    25.00,-999.000,9,-999.0000,9,-999.000,9,   0.2189,2, -999.00,9,  -999.0,9,  -999.0,-999.000,9, -999.00,9,-999.000,9, -999.00,9, -999.00,9, -71.9740,-150.0000,-999.000,     -999.0,    34.8634,3,     -999.0,9,     -999.0,9,-999.0000,9,-999.0000,9,-999.0000,9,-999.0000,9,-999.0000,9,-999.0000,9,-999.0000,9,-999.0000,9,-999.0000,9,-999.0000,-999.000,  -0.0909,     -999.0,     -999.0,9,     -999.0,9,     -999.0,9,     -999.0,9,     -999.0,20110314,       0730