BOTTLE,20220813CCHSIOAMB
EXPOCODE,SECT_ID,STNNBR,CASTNO,SAMPNO,BTLNBR,BTLNBR_FLAG_W,DATE,TIME,LATITUDE,LONGITUDE,DEPTH,CTDPRS,CTDTMP,CTDSAL,CTDSAL_FLAG_W,SALNTY,SALNTY_FLAG_W,CTDOXY,CTDOXY_FLAG_W,OXYGEN,OXYGEN_FLAG_W,SILCAT,SILCAT_FLAG_W,NITRAT,NITRAT_FLAG_W,NITRIT,NITRIT_FLAG_W,PHSPHT,PHSPHT_FLAG_W,CFC-11,CFC-11_FLAG_W,CFC-12,CFC-12_FLAG_W,CFC113,CFC113_FLAG_W,SF6,SF6_FLAG_W,TCARBN,TCARBN_FLAG_W,ALKALI,ALKALI_FLAG_W,PH_TOT,PH_TOT_FLAG_W,PH_TMP,TRITUM,TRITUM_FLAG_W,HELIUM,HELIUM_FLAG_W,DELHE3,DELHE3_FLAG_W,REFTMP,REFTMP_FLAG_W,DELC13,DELC13_FLAG_W,DELC14,DELC14_FLAG_W,C14ERR,NEON,NEON_FLAG_W,DELO18,DELO18_FLAG_W,POC,POC_FLAG_W,DOC,DOC_FLAG_W,TDN,TDN_FLAG_W,BTL_LAT,BTL_LON,TRITER,NEONER,SALTREF,SALTREF_FLAG_W,PIGMENTS,PIGMENTS_FLAG_W,LAB_DEN,LAB_DEN_FLAG_W,CDOM325,CDOM325_FLAG_W,CDOM340,CDOM340_FLAG_W,CDOM380,CDOM380_FLAG_W,CDOM412,CDOM412_FLAG_W,CDOM443,CDOM443_FLAG_W,CDOM490,CDOM490_FLAG_W,CDOM555,CDOM555_FLAG_W,CDOMSL,CDOMSL_FLAG_W,CDOMSN,CDOMSN_FLAG_W,HELIER,DELHER,THETA,LDEO_SAMPNO,ABSORBTION,ABSORBTION_FLAG_W,IMAGE_COUNT,IMAGE_COUNT_FLAG_W,CYTO_COUNT,CYTO_COUNT_FLAG_W,DELD,DELD_FLAG_W,DELDERR,BTL_DATE,BTL_TIME
,,,,,,,,,,,METERS,DBAR,ITS-90,PSS-78,,PSS-78,,UMOL/KG,,UMOL/KG,,UMOL/KG,,UMOL/KG,,UMOL/KG,,UMOL/KG,,PMOL/KG,,PMOL/KG,,PMOL/KG,,FMOL/KG,,UMOL/KG,,UMOL/KG,,,,DEG C,TU,,NMOL/KG,,PERCNT,,DEG C,,/MILLE,,/MILLE,,/MILLE,NMOL/KG,,/MILLE,,UG/KG,,UMOL/KG,,UMOL/KG,,,,TU,NMOL/KG,G/KG,,,,,,1/M,,1/M,,1/M,,1/M,,1/M,,1/M,,1/M,,1/NM,,1/NM,,NMOL/KG,PERCNT,DEG C,,,,,,,,/MILLE,,/MILLE,,
320620110219,       S04P,     127,          1,         36,         36,2,20110416,       1008,   -67.0000,   -81.6330,       4147,     3.3,  -0.9734,  33.5797,2,  33.5796,2,    345.3,3,   348.8,2,   19.48,2,   23.14,2,    0.21,2,    1.52,2,-999.000,9,-999.000,9,-999.000,9,   2.8260,2,  2140.8,2,  2270.5,6,   7.7164,2,    25.00,-999.000,9,-999.0000,9,-999.000,9,  -0.9726,2, -999.00,9,  -999.0,9,  -999.0,-999.000,9, -999.00,9,-999.000,9,   45.51,2,   28.20,2, -67.0000, -81.6330,-999.000,     -999.0,    33.7380,2,     -999.0,9,     -999.0,1,-999.0000,9,-999.0000,9,-999.0000,9,-999.0000,9,-999.0000,9,-999.0000,9,-999.0000,9,-999.0000,9,-999.0000,9,-999.0000,-999.000,  -0.9735,     -999.0,     -999.0,9,     -999.0,9,     -999.0,9,     -999.0,9,     -999.0,20110416,       1150
320620110219,       S04P,     127,          1,         35,         35,2,20110416,       1008,   -67.0000,   -81.6330,       4147,    19.7,  -0.9319,  33.5871,2,  33.5863,2,    348.3,2,   348.2,2,   20.05,2,   23.26,2,    0.21,2,    1.55,2,   6.125,2,   3.364,2,   0.652,2,   2.7320,2,  2139.7,6,  2269.8,2,   7.7114,2,    25.00,-999.000,9,-999.0000,9,-999.000,9,  -0.9316,2, -999.00,9,  -999.0,9,  -999.0,-999.000,9, -999.00,9,-999.000,9,   44.34,2,   27.47,2, -67.0000, -81.6330,-999.000,     -999.0,    33.7446,2,     -999.0,9,     -999.0,1,-999.0000,9,-999.0000,9,-999.0000,9,-999.0000,9,-999.0000,9,-999.0000,9,-999.0000,9,-999.0000,9,-999.0000,9,-999.0000,-999.000,  -0.9324,     -999.0,     -999.0,9,     -999.0,9,     -999.0,9,     -999.0,9,     -999.0,20110416,       1149
320620110219,       S04P,     127,          1,         34,         34,2,20110416,       1008,   -67.0000,   -81.6330,       4147,    39.1,  -0.9221,  33.5995,2,  33.5984,2,    348.3,2,   347.4,2,   21.06,2,   23.52,2,    0.21,2,    1.57,2,   6.107,2,   3.358,2,   0.653,2,   2.7450,2,  2144.2,2,  2272.1,2,   7.7093,6,    25.00,-999.000,9,-999.0000,9,-999.000,9,  -0.9221,2, -999.00,9,  -999.0,9,  -999.0,-999.000,9, -999.00,9,-999.000,9,   45.46,2,   27.92,2, -67.0000, -81.6330,-999.000,     -999.0,    33.7568,2,     -999.0,9,     -999.0,1,-999.0000,9,-999.0000,9,-999.0000,9,-999.0000,9,-999.0000,9,-999.0000,9,-999.0000,9,-999.0000,9,-999.0000,9,-999.0000,-999.000,  -0.9231,     -999.0,     -999.0,9,     -999.0,9,     -999.0,9,     -999.0,9,     -999.0,20110416,       1148
320620110219,       S04P,     127,          1,         33,         33,2,20110416,       1008,   -67.0000,   -81.6330,       4147,    64.9,  -0.5869,  33.6721,2,  33.6724,2,    346.4,2,   341.2,2,   20.63,2,   24.04,2,    0.21,2,    1.64,2,   6.011,2,   3.273,2,   0.645,2,   2.5950,2,  2151.5,2,  2276.8,2,   7.6978,2,    25.00,-999.000,9,-999.0000,9,-999.000,9,  -0.5858,2, -999.00,9,  -999.0,9,  -999.0,-999.000,9, -999.00,9,-999.000,9,   44.37,2,   28.23,2, -67.0000, -81.6330,-999.000,     -999.0,    33.8312,2,     -999.0,9,     -999.0,1,-999.0000,9,-999.0000,9,-999.0000,9,-999.0000,9,-999.0000,9,-999.0000,9,-999.0000,9,-999.0000,9,-999.0000,9,-999.0000,-999.000,  -0.5888,     -999.0,     -999.0,9,     -999.0,9,     -999.0,9,     -999.0,9,     -999.0,20110416,       1146
320620110219,       S04P,     127,          1,         32,         32,2,20110416,       1008,   -67.0000,   -81.6330,       4147,    89.7,  -1.5822,  33.9658,2,  33.9646,2,    309.1,2,   309.1,2,   46.48,2,   30.01,2,    0.23,2,    2.13,2,   5.385,6,   2.944,6,   0.573,6,   2.2440,6,  2193.1,2,  2292.3,2,   7.6219,2,    25.00,-999.000,9,-999.0000,9,-999.000,9,  -1.5827,2, -999.00,9,  -999.0,9,  -999.0,-999.000,9, -999.00,9,-999.000,9,   42.88,2,   33.81,2, -67.0000, -81.6330,-999.000,     -999.0,    34.1248,2,     -999.0,9,     -999.0,1,-999.0000,9,-999.0000,9,-999.0000,9,-999.0000,9,-999.0000,9,-999.0000,9,-999.0000,9,-999.0000,9,-999.0000,9,-999.0000,-999.000,  -1.5841,     -999.0,     -999.0,9,     -999.0,9,     -999.0,9,     -999.0,9,     -999.0,20110416,       1145
320620110219,       S04P,     127,          1,         31,         31,2,20110416,       1008,   -67.0000,   -81.6330,       4147,   115.4,  -1.1490,  34.0544,2,  34.0636,2,    289.9,2,   288.5,2,   52.40,2,   31.48,2,    0.11,2,    2.17,2,   4.759,2,   2.644,2,   0.504,2,   1.9520,2,  2204.3,2,  2298.7,2,   7.6032,2,    25.00,-999.000,9,-999.0000,9,-999.000,9,  -1.1477,2, -999.00,9,  -999.0,9,  -999.0,-999.000,9, -999.00,9,-999.000,9,   41.92,2,   34.59,2, -67.0000, -81.6330,-999.000,     -999.0,    34.2243,2,     -999.0,9,     -999.0,1,-999.0000,9,-999.0000,9,-999.0000,9,-999.0000,9,-999.0000,9,-999.0000,9,-999.0000,9,-999.0000,9,-999.0000,9,-999.0000,-999.000,  -1.1519,     -999.0,     -999.0,9,     -999.0,9,     -999.0,9,     -999.0,9,     -999.0,20110416,       1144
320620110219,       S04P,     127,          1,         30,         30,2,20110416,       1008,   -67.0000,   -81.6330,       4147,   140.4,   0.6096,  34.2499,2,  34.2467,2,    244.2,2,   241.8,2,   56.63,2,   33.39,2,    0.03,2,    2.28,2,   3.454,2,   1.939,2,   0.351,2,   1.3190,2,  2225.3,2,  2307.6,2,   7.5691,2,    25.00,-999.000,9,-999.0000,9,-999.000,9,   0.6066,2, -999.00,9,  -999.0,9,  -999.0,-999.000,9, -999.00,9,-999.000,9,   41.85,2,   35.88,2, -67.0000, -81.6330,-999.000,     -999.0,    34.4082,2,     -999.0,9,     -999.0,1,-999.0000,9,-999.0000,9,-999.0000,9,-999.0000,9,-999.0000,9,-999.0000,9,-999.0000,9,-999.0000,9,-999.0000,9,-999.0000,-999.000,   0.6039,     -999.0,     -999.0,9,     -999.0,9,     -999.0,9,     -999.0,9,     -999.0,20110416,       1142
320620110219,       S04P,     127,          1,         29,         29,2,20110416,       1008,   -67.0000,   -81.6330,       4147,   184.9,   1.8735,  34.4349,2,  34.4354,2,    194.1,2,   191.8,2,   66.00,2,   34.76,2,    0.02,2,    2.37,2,   1.834,2,   1.016,2,   0.171,2,   0.6110,2,  2245.8,2,  2321.3,2,   7.5410,2,    25.00,-999.000,9,-999.0000,9,-999.000,9,   1.8707,2, -999.00,9,  -999.0,9,  -999.0,-999.000,9, -999.00,9,-999.000,9,   41.65,2,   37.32,2, -67.0000, -81.6330,-999.000,     -999.0,    34.5977,2,     -999.0,9,     -999.0,1,-999.0000,9,-999.0000,9,-999.0000,9,-999.0000,9,-999.0000,9,-999.0000,9,-999.0000,9,-999.0000,9,-999.0000,9,-999.0000,-999.000,   1.8639,     -999.0,     -999.0,9,     -999.0,9,     -999.0,9,     -999.0,9,     -999.0,20110416,       1141
320620110219,       S04P,     127,          1,         28,         28,2,20110416,       1008,   -67.0000,   -81.6330,       4147,   235.0,   2.0638,  34.5045,2,  34.5046,2,    187.9,2,   180.4,2,   70.50,2,   34.76,2,    0.01,2,    2.38,2,-999.000,9,-999.000,9,-999.000,9,-999.0000,9,  2252.5,2,  2328.7,2,   7.5399,2,    25.00,-999.000,9,-999.0000,9,-999.000,9,   2.0676,2, -999.00,9,  -999.0,9,  -999.0,-999.000,9, -999.00,9,-999.000,9,   41.21,2,   37.28,2, -67.0000, -81.6330,-999.000,     -999.0,    34.6673,2,     -999.0,9,     -999.0,1,-999.0000,9,-999.0000,9,-999.0000,9,-999.0000,9,-999.0000,9,-999.0000,9,-999.0000,9,-999.0000,9,-999.0000,9,-999.0000,-999.000,   2.0511,     -999.0,     -999.0,9,     -999.0,9,     -999.0,9,     -999.0,9,     -999.0,20110416,       1139
320620110219,       S04P,     127,          1,         27,         27,2,20110416,       1008,   -67.0000,   -81.6330,       4147,   285.0,   1.9294,  34.5345,2,  34.5352,2,    179.1,2,   178.1,2,   73.31,2,   34.69,2,    0.00,2,    2.38,2,   1.225,2,   0.673,2,   0.112,2,   0.3340,2,  2255.8,2,  2330.3,2,   7.5381,2,    25.00,-999.000,9,-999.0000,9,-999.000,9,   1.9289,2, -999.00,9,  -999.0,9,  -999.0,-999.000,9, -999.00,9,-999.000,9,   40.93,2,   37.39,2, -67.0000, -81.6330,-999.000,     -999.0,    34.6980,2,     -999.0,9,     -999.0,1,-999.0000,9,-999.0000,9,-999.0000,9,-999.0000,9,-999.0000,9,-999.0000,9,-999.0000,9,-999.0000,9,-999.0000,9,-999.0000,-999.000,   1.9141,     -999.0,     -999.0,9,     -999.0,9,     -999.0,9,     -999.0,9,     -999.0,20110416,       1137
320620110219,       S04P,     127,          1,         26,         26,2,20110416,       1008,   -67.0000,   -81.6330,       4147,   334.1,   2.1093,  34.5824,2,  34.5825,2,    172.8,2,   173.8,2,   74.97,2,   34.23,2,    0.00,2,    2.35,2,   0.864,2,   0.458,2,   0.072,2,   0.2240,2,  2255.7,2,  2335.3,2,   7.5452,2,    25.00,-999.000,9,-999.0000,9,-999.000,9,   2.1095,2, -999.00,9,  -999.0,9,  -999.0,-999.000,9, -999.00,9,-999.000,9,   39.71,2,   36.64,2, -67.0000, -81.6330,-999.000,     -999.0,    34.7455,2,     -999.0,9,     -999.0,1,-999.0000,9,-999.0000,9,-999.0000,9,-999.0000,9,-999.0000,9,-999.0000,9,-999.0000,9,-999.0000,9,-999.0000,9,-999.0000,-999.000,   2.0907,     -999.0,     -999.0,9,     -999.0,9,     -999.0,9,     -999.0,9,     -999.0,20110416,       1136
320620110219,       S04P,     127,          1,         25,         25,2,20110416,       1008,   -67.0000,   -81.6330,       4147,   385.6,   2.1062,  34.6134,2,  34.5354,4,    172.8,2,   172.9,2,   76.92,2,   33.85,2,    0.00,2,    2.32,2,-999.000,9,-999.000,9,-999.000,9,-999.0000,9,  2256.7,2,  2336.4,2,   7.5512,2,    25.00,-999.000,9,-999.0000,9,-999.000,9,   2.1061,2, -999.00,9,  -999.0,9,  -999.0,-999.000,9, -999.00,9,-999.000,9,   39.65,2,   36.66,2, -67.0000, -81.6330,-999.000,     -999.0,    34.6983,4,     -999.0,9,     -999.0,1,-999.0000,9,-999.0000,9,-999.0000,9,-999.0000,9,-999.0000,9,-999.0000,9,-999.0000,9,-999.0000,9,-999.0000,9,-999.0000,-999.000,   2.0846,     -999.0,     -999.0,9,     -999.0,9,     -999.0,9,     -999.0,9,     -999.0,20110416,       1134
320620110219,       S04P,     127,          1,         24,         24,2,20110416,       1008,   -67.0000,   -81.6330,       4147,   434.4,   2.1202,  34.6351,2,  34.6349,2,    172.7,2,   173.2,2,   77.82,2,   33.50,2,    0.00,2,    2.30,2,   0.587,2,   0.304,2,   0.051,2,   0.1020,2,  2256.6,2,  2339.1,6,   7.5563,2,    25.00,-999.000,9,-999.0000,9,-999.000,9,   2.1201,2, -999.00,9,  -999.0,9,  -999.0,-999.000,9, -999.00,9,-999.000,9,   39.12,2,   35.88,2, -67.0000, -81.6330,-999.000,     -999.0,    34.7982,2,     -999.0,9,     -999.0,1,-999.0000,9,-999.0000,9,-999.0000,9,-999.0000,9,-999.0000,9,-999.0000,9,-999.0000,9,-999.0000,9,-999.0000,9,-999.0000,-999.000,   2.0956,     -999.0,     -999.0,9,     -999.0,9,     -999.0,9,     -999.0,9,     -999.0,20110416,       1132
320620110219,       S04P,     127,          1,         23,         23,2,20110416,       1008,   -67.0000,   -81.6330,       4147,   485.5,   2.1177,  34.6540,2,  34.6545,2,    173.5,2,   173.9,2,   79.04,2,   33.14,2,    0.00,2,    2.28,2,-999.000,9,-999.000,9,-999.000,9,-999.0000,9,  2256.8,2,  2341.2,2,   7.5621,2,    25.00,-999.000,9,-999.0000,9,-999.000,9,   2.1180,2, -999.00,9,  -999.0,9,  -999.0,-999.000,9, -999.00,9,-999.000,9,   39.20,2,   35.53,2, -67.0000, -81.6330,-999.000,     -999.0,    34.8179,2,     -999.0,9,     -999.0,1,-999.0000,9,-999.0000,9,-999.0000,9,-999.0000,9,-999.0000,9,-999.0000,9,-999.0000,9,-999.0000,9,-999.0000,9,-999.0000,-999.000,   2.0900,     -999.0,     -999.0,9,     -999.0,9,     -999.0,9,     -999.0,9,     -999.0,20110416,       1130
320620110219,       S04P,     127,          1,         22,         22,2,20110416,       1008,   -67.0000,   -81.6330,       4147,   564.4,   2.0802,  34.6754,2,  34.6753,2,    175.8,2,   175.5,2,   80.57,2,   32.57,2,    0.00,2,    2.25,2,   0.411,2,   0.202,2,   0.032,2,   0.0940,2,  -999.0,9,  -999.0,9,-999.0000,9,  -999.00,-999.000,9,-999.0000,9,-999.000,9,   2.0801,2, -999.00,9,  -999.0,9,  -999.0,-999.000,9, -999.00,9,-999.000,9,   39.60,2,   35.25,2, -67.0000, -81.6330,-999.000,     -999.0,    34.8388,2,     -999.0,9,     -999.0,1,-999.0000,9,-999.0000,9,-999.0000,9,-999.0000,9,-999.0000,9,-999.0000,9,-999.0000,9,-999.0000,9,-999.0000,9,-999.0000,-999.000,   2.0478,     -999.0,     -999.0,9,     -999.0,9,     -999.0,9,     -999.0,9,     -999.0,20110416,       1128
320620110219,       S04P,     127,          1,         21,         21,2,20110416,       1008,   -67.0000,   -81.6330,       4147,   665.4,   1.9942,  34.6931,2,  34.6936,2,    178.0,2,   176.5,2,   83.16,2,   32.32,2,    0.00,2,    2.24,2,-999.000,9,-999.000,9,-999.000,9,-999.0000,9,  2257.1,2,  2345.6,6,   7.5702,6,    25.00,-999.000,9,-999.0000,9,-999.000,9,   1.9940,2, -999.00,9,  -999.0,9,  -999.0,-999.000,9, -999.00,9,-999.000,9,   39.52,2,   35.01,2, -67.0000, -81.6330,-999.000,     -999.0,    34.8572,2,     -999.0,9,     -999.0,1,-999.0000,9,-999.0000,9,-999.0000,9,-999.0000,9,-999.0000,9,-999.0000,9,-999.0000,9,-999.0000,9,-999.0000,9,-999.0000,-999.000,   1.9559,     -999.0,     -999.0,9,     -999.0,9,     -999.0,9,     -999.0,9,     -999.0,20110416,       1126
320620110219,       S04P,     127,          1,         20,         20,2,20110416,       1008,   -67.0000,   -81.6330,       4147,   765.9,   1.9369,  34.7084,2,  34.7093,2,    180.1,2,   180.1,2,   84.96,2,   31.96,2,    0.00,2,    2.22,2,-999.000,9,-999.000,9,-999.000,9,-999.0000,9,  -999.0,9,  -999.0,9,-999.0000,9,  -999.00,-999.000,9,-999.0000,9,-999.000,9,   1.9365,2, -999.00,9,  -999.0,9,  -999.0,-999.000,9, -999.00,9,-999.000,9,   39.49,2,   34.60,2, -67.0000, -81.6330,-999.000,     -999.0,    34.8730,2,     -999.0,9,     -999.0,1,-999.0000,9,-999.0000,9,-999.0000,9,-999.0000,9,-999.0000,9,-999.0000,9,-999.0000,9,-999.0000,9,-999.0000,9,-999.0000,-999.000,   1.8925,     -999.0,     -999.0,9,     -999.0,9,     -999.0,9,     -999.0,9,     -999.0,20110416,       1123
320620110219,       S04P,     127,          1,         19,         19,2,20110416,       1008,   -67.0000,   -81.6330,       4147,   865.9,   1.8594,  34.7178,2,  34.7182,2,    180.2,2,   180.4,2,   87.52,2,   31.82,2,    0.00,2,    2.21,2,   0.273,2,   0.130,2,   0.024,2,   0.0420,2,  -999.0,9,  -999.0,9,-999.0000,9,  -999.00,-999.000,9,-999.0000,9,-999.000,9,   1.8602,2, -999.00,9,  -999.0,9,  -999.0,-999.000,9, -999.00,9,-999.000,9,   39.52,2,   34.55,2, -67.0000, -81.6330,-999.000,     -999.0,    34.8819,2,     -999.0,9,     -999.0,1,-999.0000,9,-999.0000,9,-999.0000,9,-999.0000,9,-999.0000,9,-999.0000,9,-999.0000,9,-999.0000,9,-999.0000,9,-999.0000,-999.000,   1.8090,     -999.0,     -999.0,9,     -999.0,9,     -999.0,9,     -999.0,9,     -999.0,20110416,       1120
320620110219,       S04P,     127,          1,         18,         18,2,20110416,       1008,   -67.0000,   -81.6330,       4147,   964.5,   1.8064,  34.7239,2,  34.7243,2,    184.3,2,   183.8,2,   89.06,2,   31.52,2,    0.00,2,    2.20,2,-999.000,9,-999.000,9,-999.000,9,-999.0000,9,  2258.8,6,  2350.2,2,   7.5852,2,    25.00,-999.000,9,-999.0000,9,-999.000,9,   1.8063,2, -999.00,9,  -999.0,9,  -999.0,-999.000,9, -999.00,9,-999.000,9,   39.41,2,   34.25,2, -67.0000, -81.6330,-999.000,     -999.0,    34.8880,2,     -999.0,9,     -999.0,1,-999.0000,9,-999.0000,9,-999.0000,9,-999.0000,9,-999.0000,9,-999.0000,9,-999.0000,9,-999.0000,9,-999.0000,9,-999.0000,-999.000,   1.7499,     -999.0,     -999.0,9,     -999.0,9,     -999.0,9,     -999.0,9,     -999.0,20110416,       1118
320620110219,       S04P,     127,          1,         17,         17,2,20110416,       1008,   -67.0000,   -81.6330,       4147,  1065.4,   1.7305,  34.7282,2,  34.7284,2,    186.0,2,   185.5,2,   91.18,2,   31.42,2,    0.00,2,    2.19,2,   0.212,2,   0.096,2,   0.019,2,   0.0180,2,  -999.0,9,  -999.0,9,-999.0000,9,  -999.00,-999.000,9,-999.0000,9,-999.000,9,   1.7306,2, -999.00,9,  -999.0,9,  -999.0,-999.000,9, -999.00,9,-999.000,9,   39.28,2,   34.17,2, -67.0000, -81.6330,-999.000,     -999.0,    34.8922,2,     -999.0,9,     -999.0,1,-999.0000,9,-999.0000,9,-999.0000,9,-999.0000,9,-999.0000,9,-999.0000,9,-999.0000,9,-999.0000,9,-999.0000,9,-999.0000,-999.000,   1.6678,     -999.0,     -999.0,9,     -999.0,9,     -999.0,9,     -999.0,9,     -999.0,20110416,       1115
320620110219,       S04P,     127,          1,         16,         16,2,20110416,       1008,   -67.0000,   -81.6330,       4147,  1165.0,   1.6519,  34.7304,2,  34.7306,2,    187.6,2,   187.8,2,   93.41,2,   31.20,2,    0.00,2,    2.18,2,-999.000,9,-999.000,9,-999.000,9,-999.0000,9,  -999.0,9,  -999.0,9,-999.0000,9,  -999.00,-999.000,9,-999.0000,9,-999.000,9,   1.6523,2, -999.00,9,  -999.0,9,  -999.0,-999.000,9, -999.00,9,-999.000,9,   39.08,2,   33.74,2, -67.0000, -81.6330,-999.000,     -999.0,    34.8944,2,     -999.0,9,     -999.0,1,-999.0000,9,-999.0000,9,-999.0000,9,-999.0000,9,-999.0000,9,-999.0000,9,-999.0000,9,-999.0000,9,-999.0000,9,-999.0000,-999.000,   1.5831,     -999.0,     -999.0,9,     -999.0,9,     -999.0,9,     -999.0,9,     -999.0,20110416,       1113
320620110219,       S04P,     127,          1,         15,         15,2,20110416,       1008,   -67.0000,   -81.6330,       4147,  1265.0,   1.5768,  34.7309,2,  34.7314,2,    190.0,2,   189.7,2,   95.83,2,   31.26,2,    0.00,2,    2.19,2,-999.000,9,-999.000,9,-999.000,9,-999.0000,9,  2256.9,2,  2354.1,2,   7.5923,2,    25.00,-999.000,9,-999.0000,9,-999.000,9,   1.5765,2, -999.00,9,  -999.0,9,  -999.0,-999.000,9, -999.00,9,-999.000,9,   38.83,2,   33.69,2, -67.0000, -81.6330,-999.000,     -999.0,    34.8952,2,     -999.0,9,     -999.0,1,-999.0000,9,-999.0000,9,-999.0000,9,-999.0000,9,-999.0000,9,-999.0000,9,-999.0000,9,-999.0000,9,-999.0000,9,-999.0000,-999.000,   1.5019,     -999.0,     -999.0,9,     -999.0,9,     -999.0,9,     -999.0,9,     -999.0,20110416,       1110
320620110219,       S04P,     127,          1,         14,         14,2,20110416,       1008,   -67.0000,   -81.6330,       4147,  1365.3,   1.4972,  34.7307,2,  34.7308,2,    191.1,2,   191.0,2,   98.33,2,   31.17,2,    0.00,2,    2.19,2,   0.155,2,   0.072,2,   0.016,2,   0.0340,2,  -999.0,9,  -999.0,9,-999.0000,9,  -999.00,-999.000,9,-999.0000,9,-999.000,9,   1.4975,2, -999.00,9,  -999.0,9,  -999.0,-999.000,9, -999.00,9,-999.000,9,   39.36,2,   33.57,2, -67.0000, -81.6330,-999.000,     -999.0,    34.8946,2,     -999.0,9,     -999.0,1,-999.0000,9,-999.0000,9,-999.0000,9,-999.0000,9,-999.0000,9,-999.0000,9,-999.0000,9,-999.0000,9,-999.0000,9,-999.0000,-999.000,   1.4160,     -999.0,     -999.0,9,     -999.0,9,     -999.0,9,     -999.0,9,     -999.0,20110416,       1108