BOTTLE,20220813CCHSIOAMB
EXPOCODE,SECT_ID,STNNBR,CASTNO,SAMPNO,BTLNBR,BTLNBR_FLAG_W,DATE,TIME,LATITUDE,LONGITUDE,DEPTH,CTDPRS,CTDTMP,CTDSAL,CTDSAL_FLAG_W,SALNTY,SALNTY_FLAG_W,CTDOXY,CTDOXY_FLAG_W,OXYGEN,OXYGEN_FLAG_W,SILCAT,SILCAT_FLAG_W,NITRAT,NITRAT_FLAG_W,NITRIT,NITRIT_FLAG_W,PHSPHT,PHSPHT_FLAG_W,CFC-11,CFC-11_FLAG_W,CFC-12,CFC-12_FLAG_W,CFC113,CFC113_FLAG_W,SF6,SF6_FLAG_W,TCARBN,TCARBN_FLAG_W,ALKALI,ALKALI_FLAG_W,PH_TOT,PH_TOT_FLAG_W,PH_TMP,TRITUM,TRITUM_FLAG_W,HELIUM,HELIUM_FLAG_W,DELHE3,DELHE3_FLAG_W,REFTMP,REFTMP_FLAG_W,DELC13,DELC13_FLAG_W,DELC14,DELC14_FLAG_W,C14ERR,NEON,NEON_FLAG_W,DELO18,DELO18_FLAG_W,POC,POC_FLAG_W,DOC,DOC_FLAG_W,TDN,TDN_FLAG_W,BTL_LAT,BTL_LON,TRITER,NEONER,SALTREF,SALTREF_FLAG_W,PIGMENTS,PIGMENTS_FLAG_W,LAB_DEN,LAB_DEN_FLAG_W,CDOM325,CDOM325_FLAG_W,CDOM340,CDOM340_FLAG_W,CDOM380,CDOM380_FLAG_W,CDOM412,CDOM412_FLAG_W,CDOM443,CDOM443_FLAG_W,CDOM490,CDOM490_FLAG_W,CDOM555,CDOM555_FLAG_W,CDOMSL,CDOMSL_FLAG_W,CDOMSN,CDOMSN_FLAG_W,HELIER,DELHER,THETA,LDEO_SAMPNO,ABSORBTION,ABSORBTION_FLAG_W,IMAGE_COUNT,IMAGE_COUNT_FLAG_W,CYTO_COUNT,CYTO_COUNT_FLAG_W,DELD,DELD_FLAG_W,DELDERR,BTL_DATE,BTL_TIME
,,,,,,,,,,,METERS,DBAR,ITS-90,PSS-78,,PSS-78,,UMOL/KG,,UMOL/KG,,UMOL/KG,,UMOL/KG,,UMOL/KG,,UMOL/KG,,PMOL/KG,,PMOL/KG,,PMOL/KG,,FMOL/KG,,UMOL/KG,,UMOL/KG,,,,DEG C,TU,,NMOL/KG,,PERCNT,,DEG C,,/MILLE,,/MILLE,,/MILLE,NMOL/KG,,/MILLE,,UG/KG,,UMOL/KG,,UMOL/KG,,,,TU,NMOL/KG,G/KG,,,,,,1/M,,1/M,,1/M,,1/M,,1/M,,1/M,,1/M,,1/NM,,1/NM,,NMOL/KG,PERCNT,DEG C,,,,,,,,/MILLE,,/MILLE,,
320620110219,       P15S,      95,          1,         13,         13,2,20110327,       1848,   -67.7383,  -169.9942,       4222,  1600.9,   0.7037,  34.7086,2,  34.7086,2,    204.3,2,   204.3,2,  121.37,2,   31.92,2,    0.00,2,    2.24,2,-999.000,9,-999.000,9,-999.000,9,-999.0000,9,  -999.0,9,  -999.0,9,-999.0000,9,  -999.00,-999.000,9,-999.0000,9,-999.000,9,   0.7043,2, -999.00,9,  -999.0,9,  -999.0,-999.000,9,   -0.01,2,-999.000,9,   39.84,2,   34.04,2, -67.7383,-169.9937,-999.000,     -999.0,    34.8723,2,     -999.0,9,     -999.0,9,   0.0697,2,   0.0364,3,   0.0015,3,  -0.0075,4,  -0.0154,4,  -0.0124,4,  -0.0128,4,   0.0577,3,   0.0496,3,-999.0000,-999.000,   0.6155,     -999.0,     -999.0,9,     -999.0,9,     -999.0,9,      -1.46,2,       0.04,20110327,       1947
320620110219,       P15S,      95,          1,         12,         12,2,20110327,       1848,   -67.7383,  -169.9942,       4222,  1799.2,   0.6301,  34.7060,2,  34.7054,2,    205.9,2,   206.5,2,  123.38,2,   32.00,2,    0.00,2,    2.24,2,   0.183,2,   0.091,2,   0.014,2,   0.0610,2,  -999.0,9,  -999.0,9,-999.0000,9,  -999.00,-999.000,9,-999.0000,9,-999.000,9,   0.6301,2, -999.00,9,  -999.0,9,  -999.0,-999.000,9,    0.02,2,-999.000,9,   40.43,2,   34.92,2, -67.7383,-169.9936,-999.000,     -999.0,    34.8691,2,     -999.0,9,     -999.0,9,-999.0000,9,-999.0000,9,-999.0000,9,-999.0000,9,-999.0000,9,-999.0000,9,-999.0000,9,-999.0000,9,-999.0000,9,-999.0000,-999.000,   0.5290,     -999.0,     -999.0,9,     -999.0,9,     -999.0,9,      -1.38,2,       0.12,20110327,       1943
320620110219,       P15S,      95,          1,         11,         11,2,20110327,       1848,   -67.7383,  -169.9942,       4222,  1998.6,   0.5585,  34.7041,2,  34.7041,2,    207.7,2,   207.4,2,  124.41,2,   32.03,2,    0.00,2,    2.24,2,-999.000,9,-999.000,9,-999.000,9,-999.0000,9,  2264.1,2,  2359.0,2,   7.5978,2,    25.00,-999.000,9,-999.0000,9,-999.000,9,   0.5587,2, -999.00,9,  -999.0,9,  -999.0,-999.000,9,    0.06,2,-999.000,9,   40.47,2,   34.71,2, -67.7383,-169.9935,-999.000,     -999.0,    34.8677,2,     -999.0,9,     -999.0,9,-999.0000,9,-999.0000,9,-999.0000,9,-999.0000,9,-999.0000,9,-999.0000,9,-999.0000,9,-999.0000,9,-999.0000,9,-999.0000,-999.000,   0.4440,     -999.0,     -999.0,9,     -999.0,9,     -999.0,9,      -1.35,2,       0.22,20110327,       1939
320620110219,       P15S,      95,          1,         10,         37,2,20110327,       1848,   -67.7383,  -169.9942,       4222,  2249.3,   0.4772,  34.7025,2,  34.7019,2,    209.2,2,   209.2,2,  126.29,2,   32.00,2,    0.00,2,    2.24,2,-999.000,9,-999.000,9,-999.000,9,-999.0000,9,  -999.0,9,  -999.0,9,-999.0000,9,  -999.00,-999.000,9,-999.0000,9,-999.000,9,   0.4773,2, -999.00,9,  -999.0,9,  -999.0,-999.000,9,   -0.01,2,-999.000,9,   40.26,2,   34.38,2, -67.7383,-169.9934,-999.000,     -999.0,    34.8656,2,     -999.0,9,     -999.0,9,   0.0719,2,   0.0380,3,  -0.0001,4,  -0.0060,4,  -0.0142,4,  -0.0117,4,  -0.0124,4,   0.0704,4,   0.0505,4,-999.0000,-999.000,   0.3452,     -999.0,     -999.0,9,     -999.0,9,     -999.0,9,      -1.34,2,       0.10,20110327,       1933
320620110219,       P15S,      95,          1,          9,          9,2,20110327,       1848,   -67.7383,  -169.9942,       4222,  2500.6,   0.4129,  34.7012,2,  34.7004,2,    211.2,2,   210.9,2,  127.27,2,   32.16,2,    0.00,2,    2.25,2,-999.000,9,-999.000,9,-999.000,9,-999.0000,9,  2263.0,2,  2359.5,2,   7.5967,2,    25.00,-999.000,9,-999.0000,9,-999.000,9,   0.4129,2, -999.00,9,  -999.0,9,  -999.0,-999.000,9,    0.03,2,-999.000,9,   40.43,2,   34.74,2, -67.7383,-169.9938,-999.000,     -999.0,    34.8640,2,     -999.0,9,     -999.0,9,-999.0000,9,-999.0000,9,-999.0000,9,-999.0000,9,-999.0000,9,-999.0000,9,-999.0000,9,-999.0000,9,-999.0000,9,-999.0000,-999.000,   0.2622,     -999.0,     -999.0,9,     -999.0,9,     -999.0,9,      -1.54,2,       0.30,20110327,       1928
320620110219,       P15S,      95,          1,          8,          8,2,20110327,       1848,   -67.7383,  -169.9942,       4222,  2749.8,   0.3479,  34.6990,2,  34.6982,2,    213.6,2,   213.4,2,  127.20,2,   32.21,2,    0.00,2,    2.26,2,   0.405,2,   0.207,2,   0.031,2,   0.2100,2,  -999.0,9,  -999.0,9,-999.0000,9,  -999.00,-999.000,9,-999.0000,9,-999.000,9,   0.3482,2, -999.00,9,  -999.0,9,  -999.0,-999.000,9,   -0.10,2,-999.000,9,   40.82,2,   34.69,2, -67.7383,-169.9939,-999.000,     -999.0,    34.8618,2,     -999.0,9,     -999.0,9,-999.0000,9,-999.0000,9,-999.0000,9,-999.0000,9,-999.0000,9,-999.0000,9,-999.0000,9,-999.0000,9,-999.0000,9,-999.0000,-999.000,   0.1780,     -999.0,     -999.0,9,     -999.0,9,     -999.0,9,      -1.95,2,       0.22,20110327,       1922
320620110219,       P15S,      95,          1,          7,          7,2,20110327,       1848,   -67.7383,  -169.9942,       4222,  3000.1,   0.2832,  34.6962,2,  34.6968,2,    215.8,2,   215.9,2,  126.01,2,   32.18,2,    0.00,2,    2.25,2,-999.000,9,-999.000,9,-999.000,9,-999.0000,9,  2261.1,2,  2357.5,2,   7.5953,2,    25.00,-999.000,9,-999.0000,9,-999.000,9,   0.2835,2, -999.00,9,  -999.0,9,  -999.0,-999.000,9,   -0.08,2,-999.000,9,   40.33,2,   34.38,2, -67.7383,-169.9941,-999.000,     -999.0,    34.8604,2,     -999.0,9,     -999.0,9,   0.0713,2,   0.0375,3,   0.0005,4,  -0.0058,4,  -0.0139,4,  -0.0116,4,  -0.0123,4,   0.0671,4,   0.0504,4,-999.0000,-999.000,   0.0933,     -999.0,     -999.0,9,     -999.0,9,     -999.0,9,      -2.35,2,       0.30,20110327,       1917
320620110219,       P15S,      95,          1,          6,          6,2,20110327,       1848,   -67.7383,  -169.9942,       4222,  3300.2,   0.2311,  34.6924,2,  34.6931,2,    218.5,2,   218.4,2,  123.33,2,   32.00,2,    0.00,2,    2.25,2,   0.805,2,   0.414,2,   0.059,2,   0.2840,2,  -999.0,9,  -999.0,9,-999.0000,9,  -999.00,-999.000,9,-999.0000,9,-999.000,9,   0.2312,2, -999.00,9,  -999.0,9,  -999.0,-999.000,9,    0.05,2,-999.000,9,   39.98,2,   34.86,2, -67.7383,-169.9943,-999.000,     -999.0,    34.8567,2,     -999.0,9,     -999.0,9,-999.0000,9,-999.0000,9,-999.0000,9,-999.0000,9,-999.0000,9,-999.0000,9,-999.0000,9,-999.0000,9,-999.0000,9,-999.0000,-999.000,   0.0156,     -999.0,     -999.0,9,     -999.0,9,     -999.0,9,      -1.61,2,       0.09,20110327,       1911
320620110219,       P15S,      95,          1,          5,          5,2,20110327,       1848,   -67.7383,  -169.9942,       4222,  3601.1,   0.2222,  34.6907,2,  34.6868,4,    220.3,2,   219.8,2,  121.71,2,   32.04,2,    0.00,2,    2.25,2,   0.927,2,   0.481,2,   0.071,2,   0.3080,2,  2259.6,2,  2356.1,2,   7.5927,2,    25.00,-999.000,9,-999.0000,9,-999.000,9,   0.2220,2, -999.00,9,  -999.0,9,  -999.0,-999.000,9,    0.00,2,-999.000,9,   39.75,2,   34.74,2, -67.7384,-169.9943,-999.000,     -999.0,    34.8504,4,     -999.0,9,     -999.0,9,-999.0000,9,-999.0000,9,-999.0000,9,-999.0000,9,-999.0000,9,-999.0000,9,-999.0000,9,-999.0000,9,-999.0000,9,-999.0000,-999.000,  -0.0212,     -999.0,     -999.0,9,     -999.0,9,     -999.0,9,      -1.90,2,       0.09,20110327,       1905
320620110219,       P15S,      95,          1,          4,          4,2,20110327,       1848,   -67.7383,  -169.9942,       4222,  3900.2,   0.2336,  34.6898,2,  34.6900,2,    220.8,2,   221.0,2,  120.77,2,   32.12,2,    0.00,2,    2.25,2,   0.981,2,   0.501,2,   0.076,2,   0.3180,2,  2257.5,2,  2356.2,2,   7.5949,2,    25.00,-999.000,9,-999.0000,9,-999.000,9,   0.2334,2, -999.00,9,  -999.0,9,  -999.0,-999.000,9,   -0.14,2,-999.000,9,   39.45,2,   34.30,2, -67.7383,-169.9944,-999.000,     -999.0,    34.8535,2,     -999.0,9,     -999.0,9,   0.0711,3,   0.0374,4,   0.0006,4,  -0.0064,4,  -0.0144,4,  -0.0120,4,  -0.0126,4,   0.0653,4,   0.0502,4,-999.0000,-999.000,  -0.0393,     -999.0,     -999.0,9,     -999.0,9,     -999.0,9,      -2.45,2,       0.11,20110327,       1858
320620110219,       P15S,      95,          1,          3,          3,2,20110327,       1848,   -67.7383,  -169.9942,       4222,  4199.1,   0.2642,  34.6897,2,  34.6901,2,    221.1,2,   220.5,2,  120.74,2,   32.14,2,    0.00,2,    2.25,2,   0.998,2,   0.509,2,   0.077,2,   0.3550,2,  2257.5,2,  2356.2,6,   7.5916,2,    25.00,-999.000,9,-999.0000,9,-999.000,9,   0.2637,2, -999.00,9,  -999.0,9,  -999.0,-999.000,9,   -0.10,2,-999.000,9,   40.27,2,   34.36,2, -67.7383,-169.9942,-999.000,     -999.0,    34.8537,2,     -999.0,9,     -999.0,9,-999.0000,9,-999.0000,9,-999.0000,9,-999.0000,9,-999.0000,9,-999.0000,9,-999.0000,9,-999.0000,9,-999.0000,9,-999.0000,-999.000,  -0.0402,     -999.0,     -999.0,9,     -999.0,9,     -999.0,9,      -2.40,2,       0.09,20110327,       1852
320620110219,       P15S,      95,          1,          2,          2,2,20110327,       1848,   -67.7383,  -169.9942,       4222,  4248.6,   0.2698,  34.6896,2,  34.6896,2,    221.1,2,   220.5,2,  120.65,2,   32.15,2,    0.00,2,    2.25,2,   1.009,2,   0.512,2,   0.081,2,   0.4200,2,  2258.5,2,  2356.6,2,   7.5927,6,    25.00,-999.000,9,-999.0000,9,-999.000,9,   0.2693,2, -999.00,9,  -999.0,9,  -999.0,-999.000,9,    0.00,2,-999.000,9,   39.09,2,   34.24,2, -67.7383,-169.9942,-999.000,     -999.0,    34.8531,2,     -999.0,9,     -999.0,9,-999.0000,9,-999.0000,9,-999.0000,9,-999.0000,9,-999.0000,9,-999.0000,9,-999.0000,9,-999.0000,9,-999.0000,9,-999.0000,-999.000,  -0.0399,     -999.0,     -999.0,9,     -999.0,9,     -999.0,9,      -2.29,2,       0.29,20110327,       1850
320620110219,       P15S,      95,          1,          1,          1,2,20110327,       1848,   -67.7383,  -169.9942,       4222,  4295.6,   0.2751,  34.6894,2,  34.6897,2,    220.8,2,   221.5,2,  120.84,2,   32.28,2,    0.00,2,    2.25,2,   1.047,2,   0.531,2,   0.084,2,   0.4390,2,  2258.2,6,  2356.5,2,   7.5925,2,    25.00,-999.000,9,-999.0000,9,-999.000,9,   0.2750,2, -999.00,9,  -999.0,9,  -999.0,-999.000,9,   -0.08,2,-999.000,9,   39.98,2,   34.16,2, -67.7383,-169.9942,-999.000,     -999.0,    34.8533,2,     -999.0,9,     -999.0,9,   0.0673,2,   0.0356,3,   0.0001,4,  -0.0076,4,  -0.0153,4,  -0.0123,4,  -0.0127,4,   0.0698,4,   0.0493,4,-999.0000,-999.000,  -0.0397,     -999.0,     -999.0,9,     -999.0,9,     -999.0,9,      -2.91,2,       0.30,20110327,       1848