BOTTLE,20220813CCHSIOAMB
EXPOCODE,SECT_ID,STNNBR,CASTNO,SAMPNO,BTLNBR,BTLNBR_FLAG_W,DATE,TIME,LATITUDE,LONGITUDE,DEPTH,CTDPRS,CTDTMP,CTDSAL,CTDSAL_FLAG_W,SALNTY,SALNTY_FLAG_W,CTDOXY,CTDOXY_FLAG_W,OXYGEN,OXYGEN_FLAG_W,SILCAT,SILCAT_FLAG_W,NITRAT,NITRAT_FLAG_W,NITRIT,NITRIT_FLAG_W,PHSPHT,PHSPHT_FLAG_W,CFC-11,CFC-11_FLAG_W,CFC-12,CFC-12_FLAG_W,CFC113,CFC113_FLAG_W,SF6,SF6_FLAG_W,TCARBN,TCARBN_FLAG_W,ALKALI,ALKALI_FLAG_W,PH_TOT,PH_TOT_FLAG_W,PH_TMP,TRITUM,TRITUM_FLAG_W,HELIUM,HELIUM_FLAG_W,DELHE3,DELHE3_FLAG_W,REFTMP,REFTMP_FLAG_W,DELC13,DELC13_FLAG_W,DELC14,DELC14_FLAG_W,C14ERR,NEON,NEON_FLAG_W,DELO18,DELO18_FLAG_W,POC,POC_FLAG_W,DOC,DOC_FLAG_W,TDN,TDN_FLAG_W,BTL_LAT,BTL_LON,TRITER,NEONER,SALTREF,SALTREF_FLAG_W,PIGMENTS,PIGMENTS_FLAG_W,LAB_DEN,LAB_DEN_FLAG_W,CDOM325,CDOM325_FLAG_W,CDOM340,CDOM340_FLAG_W,CDOM380,CDOM380_FLAG_W,CDOM412,CDOM412_FLAG_W,CDOM443,CDOM443_FLAG_W,CDOM490,CDOM490_FLAG_W,CDOM555,CDOM555_FLAG_W,CDOMSL,CDOMSL_FLAG_W,CDOMSN,CDOMSN_FLAG_W,HELIER,DELHER,THETA,LDEO_SAMPNO,ABSORBTION,ABSORBTION_FLAG_W,IMAGE_COUNT,IMAGE_COUNT_FLAG_W,CYTO_COUNT,CYTO_COUNT_FLAG_W,DELD,DELD_FLAG_W,DELDERR,BTL_DATE,BTL_TIME
,,,,,,,,,,,METERS,DBAR,ITS-90,PSS-78,,PSS-78,,UMOL/KG,,UMOL/KG,,UMOL/KG,,UMOL/KG,,UMOL/KG,,UMOL/KG,,PMOL/KG,,PMOL/KG,,PMOL/KG,,FMOL/KG,,UMOL/KG,,UMOL/KG,,,,DEG C,TU,,NMOL/KG,,PERCNT,,DEG C,,/MILLE,,/MILLE,,/MILLE,NMOL/KG,,/MILLE,,UG/KG,,UMOL/KG,,UMOL/KG,,,,TU,NMOL/KG,G/KG,,,,,,1/M,,1/M,,1/M,,1/M,,1/M,,1/M,,1/M,,1/NM,,1/NM,,NMOL/KG,PERCNT,DEG C,,,,,,,,/MILLE,,/MILLE,,
320620110219,       P16S,      55,          2,         36,         36,2,20110314,       0730,   -71.9740,  -150.0000,       4193,     5.2,  -0.7518,  33.6522,2,  33.6508,2,    344.3,2,   348.6,2,   34.32,2,   21.68,2,    0.13,2,    1.49,2,   6.166,2,   3.373,2,   0.602,2,-999.0000,9,  2132.7,2,  2279.2,6,   7.7484,2,    25.00,-999.000,9,-999.0000,9,-999.000,9,  -0.7517,2, -999.00,9,  -999.0,9,  -999.0,-999.000,9, -999.00,9,-999.000,9, -999.00,9, -999.00,9, -71.9740,-150.0000,-999.000,     -999.0,    33.8095,2,     -999.0,9,     -999.0,9,-999.0000,9,-999.0000,9,-999.0000,9,-999.0000,9,-999.0000,9,-999.0000,9,-999.0000,9,-999.0000,9,-999.0000,9,-999.0000,-999.000,  -0.7519,     -999.0,     -999.0,9,     -999.0,9,     -999.0,9,     -999.0,9,     -999.0,20110314,       0917
320620110219,       P16S,      55,          2,         35,         35,2,20110314,       0730,   -71.9740,  -150.0000,       4193,    34.9,  -0.7699,  33.6645,2,  33.6600,2,    347.7,2,   347.6,2,   34.82,2,   21.74,2,    0.12,2,    1.51,2,-999.000,9,-999.000,9,-999.000,9,-999.0000,9,  2133.3,6,  2279.8,2,   7.7527,2,    25.00,-999.000,9,-999.0000,9,-999.000,9,  -0.7644,2, -999.00,9,  -999.0,9,  -999.0,-999.000,9, -999.00,9,-999.000,9, -999.00,9, -999.00,9, -71.9740,-150.0000,-999.000,     -999.0,    33.8188,2,     -999.0,9,     -999.0,9,-999.0000,9,-999.0000,9,-999.0000,9,-999.0000,9,-999.0000,9,-999.0000,9,-999.0000,9,-999.0000,9,-999.0000,9,-999.0000,-999.000,  -0.7708,     -999.0,     -999.0,9,     -999.0,9,     -999.0,9,     -999.0,9,     -999.0,20110314,       0916
320620110219,       P16S,      55,          2,         34,         34,2,20110314,       0730,   -71.9740,  -150.0000,       4193,    59.8,  -1.4890,  34.0228,2,  34.0344,2,    312.8,2,   314.9,2,   47.09,2,   27.49,2,    0.15,2,    1.94,2,   5.272,2,   2.866,2,   0.495,2,-999.0000,9,  2191.2,2,  2299.1,2,   7.6434,6,    25.00,-999.000,9,-999.0000,9,-999.000,9,  -1.4876,2, -999.00,9,  -999.0,9,  -999.0,-999.000,9, -999.00,9,-999.000,9, -999.00,9, -999.00,9, -71.9740,-150.0000,-999.000,     -999.0,    34.1948,2,     -999.0,9,     -999.0,9,-999.0000,9,-999.0000,9,-999.0000,9,-999.0000,9,-999.0000,9,-999.0000,9,-999.0000,9,-999.0000,9,-999.0000,9,-999.0000,-999.000,  -1.4903,     -999.0,     -999.0,9,     -999.0,9,     -999.0,9,     -999.0,9,     -999.0,20110314,       0914
320620110219,       P16S,      55,          2,         33,         33,2,20110314,       0730,   -71.9740,  -150.0000,       4193,    84.7,  -1.4252,  34.0880,2,  34.0844,2,    303.6,2,   303.4,2,   49.38,2,   27.92,2,    0.18,2,    1.98,2,   5.086,2,   2.775,2,   0.481,2,-999.0000,9,  2198.7,2,  2302.5,2,   7.6326,2,    25.00,-999.000,9,-999.0000,9,-999.000,9,  -1.4246,2, -999.00,9,  -999.0,9,  -999.0,-999.000,9, -999.00,9,-999.000,9, -999.00,9, -999.00,9, -71.9740,-150.0000,-999.000,     -999.0,    34.2452,2,     -999.0,9,     -999.0,9,-999.0000,9,-999.0000,9,-999.0000,9,-999.0000,9,-999.0000,9,-999.0000,9,-999.0000,9,-999.0000,9,-999.0000,9,-999.0000,-999.000,  -1.4271,     -999.0,     -999.0,9,     -999.0,9,     -999.0,9,     -999.0,9,     -999.0,20110314,       0913
320620110219,       P16S,      55,          2,         32,         32,2,20110314,       0730,   -71.9740,  -150.0000,       4193,   109.9,  -1.0359,  34.1596,2,  34.1651,2,    285.1,2,   282.6,2,   54.45,2,   29.50,2,    0.13,2,    2.05,2,   4.503,2,   2.456,2,   0.424,2,-999.0000,9,  2209.2,2,  2306.0,2,   7.6064,2,    25.00,-999.000,9,-999.0000,9,-999.000,9,  -1.0313,2, -999.00,9,  -999.0,9,  -999.0,-999.000,9, -999.00,9,-999.000,9, -999.00,9, -999.00,9, -71.9740,-150.0000,-999.000,     -999.0,    34.3262,2,     -999.0,9,     -999.0,9,-999.0000,9,-999.0000,9,-999.0000,9,-999.0000,9,-999.0000,9,-999.0000,9,-999.0000,9,-999.0000,9,-999.0000,9,-999.0000,-999.000,  -1.0388,     -999.0,     -999.0,9,     -999.0,9,     -999.0,9,     -999.0,9,     -999.0,20110314,       0911
320620110219,       P16S,      55,          2,         31,         31,2,20110314,       0730,   -71.9740,  -150.0000,       4193,   135.0,  -0.1506,  34.2979,2,  34.3004,2,    259.0,2,   249.0,2,   63.79,2,   31.08,2,    0.01,2,    2.12,2,   3.343,2,   1.835,2,   0.287,2,-999.0000,9,  2223.6,2,  2314.9,2,   7.5827,2,    25.00,-999.000,9,-999.0000,9,-999.000,9,  -0.1545,2, -999.00,9,  -999.0,9,  -999.0,-999.000,9, -999.00,9,-999.000,9, -999.00,9, -999.00,9, -71.9740,-150.0000,-999.000,     -999.0,    34.4621,2,     -999.0,9,     -999.0,9,-999.0000,9,-999.0000,9,-999.0000,9,-999.0000,9,-999.0000,9,-999.0000,9,-999.0000,9,-999.0000,9,-999.0000,9,-999.0000,-999.000,  -0.1552,     -999.0,     -999.0,9,     -999.0,9,     -999.0,9,     -999.0,9,     -999.0,20110314,       0910
320620110219,       P16S,      55,          2,         30,         30,2,20110314,       0730,   -71.9740,  -150.0000,       4193,   164.7,   0.7331,  34.4488,2,  34.4481,2,    222.1,2,   215.3,2,   72.98,2,   32.34,2,    0.01,2,    2.20,2,   2.218,2,   1.204,2,   0.199,2,-999.0000,9,  2239.3,2,  2323.1,2,   7.5643,2,    25.00,-999.000,9,-999.0000,9,-999.000,9,   0.7324,2, -999.00,9,  -999.0,9,  -999.0,-999.000,9, -999.00,9,-999.000,9, -999.00,9, -999.00,9, -71.9740,-150.0000,-999.000,     -999.0,    34.6105,2,     -999.0,9,     -999.0,9,-999.0000,9,-999.0000,9,-999.0000,9,-999.0000,9,-999.0000,9,-999.0000,9,-999.0000,9,-999.0000,9,-999.0000,9,-999.0000,-999.000,   0.7261,     -999.0,     -999.0,9,     -999.0,9,     -999.0,9,     -999.0,9,     -999.0,20110314,       0909
320620110219,       P16S,      55,          2,         29,         29,2,20110314,       0730,   -71.9740,  -150.0000,       4193,   215.1,   1.4305,  34.6215,2,  34.6277,2,    192.0,2,   187.0,2,   83.96,2,   32.62,2,    0.00,2,    2.25,2,   0.983,2,   0.520,2,   0.078,2,-999.0000,9,  2253.4,2,  2337.2,2,   7.5600,2,    25.00,-999.000,9,-999.0000,9,-999.000,9,   1.4298,2, -999.00,9,  -999.0,9,  -999.0,-999.000,9, -999.00,9,-999.000,9, -999.00,9, -999.00,9, -71.9740,-150.0000,-999.000,     -999.0,    34.7910,2,     -999.0,9,     -999.0,9,-999.0000,9,-999.0000,9,-999.0000,9,-999.0000,9,-999.0000,9,-999.0000,9,-999.0000,9,-999.0000,9,-999.0000,9,-999.0000,-999.000,   1.4200,     -999.0,     -999.0,9,     -999.0,9,     -999.0,9,     -999.0,9,     -999.0,20110314,       0907
320620110219,       P16S,      55,          2,         28,         28,2,20110314,       0730,   -71.9740,  -150.0000,       4193,   264.8,   1.6948,  34.6880,2,  34.6887,2,    181.0,2,   181.3,2,   86.32,2,   32.23,2,    0.00,2,    2.22,2,-999.000,9,-999.000,9,-999.000,9,-999.0000,9,  2255.8,2,  2342.3,2,   7.5681,2,    25.00,-999.000,9,-999.0000,9,-999.000,9,   1.6946,2, -999.00,9,  -999.0,9,  -999.0,-999.000,9, -999.00,9,-999.000,9, -999.00,9, -999.00,9, -71.9740,-150.0000,-999.000,     -999.0,    34.8523,2,     -999.0,9,     -999.0,9,-999.0000,9,-999.0000,9,-999.0000,9,-999.0000,9,-999.0000,9,-999.0000,9,-999.0000,9,-999.0000,9,-999.0000,9,-999.0000,-999.000,   1.6811,     -999.0,     -999.0,9,     -999.0,9,     -999.0,9,     -999.0,9,     -999.0,20110314,       0905
320620110219,       P16S,      55,          2,         27,         27,2,20110314,       0730,   -71.9740,  -150.0000,       4193,   314.7,   1.7226,  34.7110,2,  34.7105,2,    183.5,2,   182.5,2,   88.47,2,   31.89,2,    0.00,2,    2.19,2,   0.383,2,   0.193,2,   0.015,2,-999.0000,9,  2256.2,2,  2344.9,2,   7.5759,2,    25.00,-999.000,9,-999.0000,9,-999.000,9,   1.7227,2, -999.00,9,  -999.0,9,  -999.0,-999.000,9, -999.00,9,-999.000,9, -999.00,9, -999.00,9, -71.9740,-150.0000,-999.000,     -999.0,    34.8742,2,     -999.0,9,     -999.0,9,-999.0000,9,-999.0000,9,-999.0000,9,-999.0000,9,-999.0000,9,-999.0000,9,-999.0000,9,-999.0000,9,-999.0000,9,-999.0000,-999.000,   1.7061,     -999.0,     -999.0,9,     -999.0,9,     -999.0,9,     -999.0,9,     -999.0,20110314,       0903
320620110219,       P16S,      55,          2,         26,         26,2,20110314,       0730,   -71.9740,  -150.0000,       4193,   364.2,   1.6757,  34.7207,2,  34.7207,2,    185.0,2,   186.0,2,   90.36,2,   31.69,2,    0.00,2,    2.16,2,-999.000,9,-999.000,9,-999.000,9,-999.0000,9,  2255.1,2,  2346.6,2,   7.5797,2,    25.00,-999.000,9,-999.0000,9,-999.000,9,   1.6749,2, -999.00,9,  -999.0,9,  -999.0,-999.000,9, -999.00,9,-999.000,9, -999.00,9, -999.00,9, -71.9740,-150.0000,-999.000,     -999.0,    34.8844,2,     -999.0,9,     -999.0,9,-999.0000,9,-999.0000,9,-999.0000,9,-999.0000,9,-999.0000,9,-999.0000,9,-999.0000,9,-999.0000,9,-999.0000,9,-999.0000,-999.000,   1.6566,     -999.0,     -999.0,9,     -999.0,9,     -999.0,9,     -999.0,9,     -999.0,20110314,       0902
320620110219,       P16S,      55,          2,         25,         25,2,20110314,       0730,   -71.9740,  -150.0000,       4193,   415.3,   1.6089,  34.7235,2,  34.7233,2,    186.4,2,   186.4,2,   92.24,2,   31.81,2,    0.00,2,    2.16,2,   0.312,2,   0.160,2,   0.018,2,-999.0000,9,  2256.1,2,  2348.0,2,   7.5824,2,    25.00,-999.000,9,-999.0000,9,-999.000,9,   1.6101,2, -999.00,9,  -999.0,9,  -999.0,-999.000,9, -999.00,9,-999.000,9, -999.00,9, -999.00,9, -71.9740,-150.0000,-999.000,     -999.0,    34.8870,2,     -999.0,9,     -999.0,9,-999.0000,9,-999.0000,9,-999.0000,9,-999.0000,9,-999.0000,9,-999.0000,9,-999.0000,9,-999.0000,9,-999.0000,9,-999.0000,-999.000,   1.5871,     -999.0,     -999.0,9,     -999.0,9,     -999.0,9,     -999.0,9,     -999.0,20110314,       0900
320620110219,       P16S,      55,          2,         24,         24,2,20110314,       0730,   -71.9740,  -150.0000,       4193,   465.3,   1.5754,  34.7278,2,  34.7274,2,    187.7,2,   188.0,2,   93.88,2,   31.56,2,    0.00,2,    2.46,4,-999.000,9,-999.000,9,-999.000,9,-999.0000,9,  2255.6,2,  2349.4,2,   7.5851,2,    25.00,-999.000,9,-999.0000,9,-999.000,9,   1.5760,2, -999.00,9,  -999.0,9,  -999.0,-999.000,9, -999.00,9,-999.000,9, -999.00,9, -999.00,9, -71.9740,-150.0000,-999.000,     -999.0,    34.8911,2,     -999.0,9,     -999.0,9,-999.0000,9,-999.0000,9,-999.0000,9,-999.0000,9,-999.0000,9,-999.0000,9,-999.0000,9,-999.0000,9,-999.0000,9,-999.0000,-999.000,   1.5509,     -999.0,     -999.0,9,     -999.0,9,     -999.0,9,     -999.0,9,     -999.0,20110314,       0858
320620110219,       P16S,      55,          2,         23,         23,2,20110314,       0730,   -71.9740,  -150.0000,       4193,   534.3,   1.4998,  34.7296,2,  34.7299,2,    188.6,2,   188.1,2,   96.67,2,   31.77,2,    0.00,2,    2.19,2,   0.246,2,   0.118,2,   0.014,2,-999.0000,9,  -999.0,9,  -999.0,9,-999.0000,9,  -999.00,-999.000,9,-999.0000,9,-999.000,9,   1.4996,2, -999.00,9,  -999.0,9,  -999.0,-999.000,9, -999.00,9,-999.000,9, -999.00,9, -999.00,9, -71.9740,-150.0000,-999.000,     -999.0,    34.8937,2,     -999.0,9,     -999.0,9,-999.0000,9,-999.0000,9,-999.0000,9,-999.0000,9,-999.0000,9,-999.0000,9,-999.0000,9,-999.0000,9,-999.0000,9,-999.0000,-999.000,   1.4717,     -999.0,     -999.0,9,     -999.0,9,     -999.0,9,     -999.0,9,     -999.0,20110314,       0856
320620110219,       P16S,      55,          2,         22,         22,2,20110314,       0730,   -71.9740,  -150.0000,       4193,   634.9,   1.4198,  34.7305,2,  34.7299,2,    189.9,2,   189.1,2,   99.52,2,   31.85,2,    0.00,2,    2.20,2,-999.000,9,-999.000,9,-999.000,9,-999.0000,9,  2257.8,2,  2351.8,2,   7.5875,2,    25.00,-999.000,9,-999.0000,9,-999.000,9,   1.4197,2, -999.00,9,  -999.0,9,  -999.0,-999.000,9, -999.00,9,-999.000,9, -999.00,9, -999.00,9, -71.9740,-150.0000,-999.000,     -999.0,    34.8937,2,     -999.0,9,     -999.0,9,-999.0000,9,-999.0000,9,-999.0000,9,-999.0000,9,-999.0000,9,-999.0000,9,-999.0000,9,-999.0000,9,-999.0000,9,-999.0000,-999.000,   1.3863,     -999.0,     -999.0,9,     -999.0,9,     -999.0,9,     -999.0,9,     -999.0,20110314,       0853
320620110219,       P16S,      55,          2,         21,         21,2,20110314,       0730,   -71.9740,  -150.0000,       4193,   734.9,   1.3427,  34.7298,2,  34.7295,2,    189.7,2,   188.7,2,  102.42,2,   31.93,2,    0.00,2,    2.22,2,   0.184,2,   0.094,2,   0.009,2,-999.0000,9,  -999.0,9,  -999.0,9,-999.0000,9,  -999.00,-999.000,9,-999.0000,9,-999.000,9,   1.3428,2, -999.00,9,  -999.0,9,  -999.0,-999.000,9, -999.00,9,-999.000,9, -999.00,9, -999.00,9, -71.9740,-150.0000,-999.000,     -999.0,    34.8933,2,     -999.0,9,     -999.0,9,-999.0000,9,-999.0000,9,-999.0000,9,-999.0000,9,-999.0000,9,-999.0000,9,-999.0000,9,-999.0000,9,-999.0000,9,-999.0000,-999.000,   1.3038,     -999.0,     -999.0,9,     -999.0,9,     -999.0,9,     -999.0,9,     -999.0,20110314,       0851
320620110219,       P16S,      55,          2,         20,         20,2,20110314,       0730,   -71.9740,  -150.0000,       4193,   835.0,   1.2700,  34.7285,2,  34.7287,2,    190.6,2,   191.1,2,  105.06,2,   31.94,2,    0.00,2,    2.20,2,-999.000,9,-999.000,9,-999.000,9,-999.0000,9,  2259.9,2,  2354.2,6,   7.5864,2,    25.00,-999.000,9,-999.0000,9,-999.000,9,   1.2695,2, -999.00,9,  -999.0,9,  -999.0,-999.000,9, -999.00,9,-999.000,9, -999.00,9, -999.00,9, -71.9740,-150.0000,-999.000,     -999.0,    34.8925,2,     -999.0,9,     -999.0,9,-999.0000,9,-999.0000,9,-999.0000,9,-999.0000,9,-999.0000,9,-999.0000,9,-999.0000,9,-999.0000,9,-999.0000,9,-999.0000,-999.000,   1.2256,     -999.0,     -999.0,9,     -999.0,9,     -999.0,9,     -999.0,9,     -999.0,20110314,       0848
320620110219,       P16S,      55,          2,         19,         19,2,20110314,       0730,   -71.9740,  -150.0000,       4193,   934.9,   1.2046,  34.7269,2,  34.7268,2,    192.8,2,   193.1,2,  106.95,2,   31.94,2,    0.00,2,    2.21,2,   0.147,2,   0.068,2,   0.008,2,-999.0000,9,  -999.0,9,  -999.0,9,-999.0000,9,  -999.00,-999.000,9,-999.0000,9,-999.000,9,   1.2046,2, -999.00,9,  -999.0,9,  -999.0,-999.000,9, -999.00,9,-999.000,9, -999.00,9, -999.00,9, -71.9740,-150.0000,-999.000,     -999.0,    34.8905,2,     -999.0,9,     -999.0,9,-999.0000,9,-999.0000,9,-999.0000,9,-999.0000,9,-999.0000,9,-999.0000,9,-999.0000,9,-999.0000,9,-999.0000,9,-999.0000,-999.000,   1.1546,     -999.0,     -999.0,9,     -999.0,9,     -999.0,9,     -999.0,9,     -999.0,20110314,       0845
320620110219,       P16S,      55,          2,         18,         18,2,20110314,       0730,   -71.9740,  -150.0000,       4193,  1033.8,   1.1449,  34.7251,2,  34.7250,2,    193.5,2,   194.0,2,  109.20,2,   32.00,2,    0.00,2,    2.21,2,-999.000,9,-999.000,9,-999.000,9,-999.0000,9,  2261.6,2,  2356.4,2,   7.5887,6,    25.00,-999.000,9,-999.0000,9,-999.000,9,   1.1445,2, -999.00,9,  -999.0,9,  -999.0,-999.000,9, -999.00,9,-999.000,9, -999.00,9, -999.00,9, -71.9740,-150.0000,-999.000,     -999.0,    34.8887,2,     -999.0,9,     -999.0,9,-999.0000,9,-999.0000,9,-999.0000,9,-999.0000,9,-999.0000,9,-999.0000,9,-999.0000,9,-999.0000,9,-999.0000,9,-999.0000,-999.000,   1.0892,     -999.0,     -999.0,9,     -999.0,9,     -999.0,9,     -999.0,9,     -999.0,20110314,       0843
320620110219,       P16S,      55,          2,         17,         17,2,20110314,       0730,   -71.9740,  -150.0000,       4193,  1135.3,   1.0810,  34.7227,2,  34.7224,2,    195.5,2,   196.0,2,  110.87,2,   32.01,2,    0.00,2,    2.21,2,   0.119,2,   0.062,2,   0.006,2,-999.0000,9,  -999.0,9,  -999.0,9,-999.0000,9,  -999.00,-999.000,9,-999.0000,9,-999.000,9,   1.0811,2, -999.00,9,  -999.0,9,  -999.0,-999.000,9, -999.00,9,-999.000,9, -999.00,9, -999.00,9, -71.9740,-150.0000,-999.000,     -999.0,    34.8862,2,     -999.0,9,     -999.0,9,-999.0000,9,-999.0000,9,-999.0000,9,-999.0000,9,-999.0000,9,-999.0000,9,-999.0000,9,-999.0000,9,-999.0000,9,-999.0000,-999.000,   1.0194,     -999.0,     -999.0,9,     -999.0,9,     -999.0,9,     -999.0,9,     -999.0,20110314,       0840
320620110219,       P16S,      55,          2,         16,         16,2,20110314,       0730,   -71.9740,  -150.0000,       4193,  1235.2,   1.0245,  34.7206,2,  34.7220,2,    197.8,2,   197.7,2,  112.90,2,   32.06,2,    0.00,2,    2.19,2,-999.000,9,-999.000,9,-999.000,9,-999.0000,9,  2260.7,6,  2357.6,2,   7.5940,2,    25.00,-999.000,9,-999.0000,9,-999.000,9,   1.0244,2, -999.00,9,  -999.0,9,  -999.0,-999.000,9, -999.00,9,-999.000,9, -999.00,9, -999.00,9, -71.9740,-150.0000,-999.000,     -999.0,    34.8858,2,     -999.0,9,     -999.0,9,-999.0000,9,-999.0000,9,-999.0000,9,-999.0000,9,-999.0000,9,-999.0000,9,-999.0000,9,-999.0000,9,-999.0000,9,-999.0000,-999.000,   0.9571,     -999.0,     -999.0,9,     -999.0,9,     -999.0,9,     -999.0,9,     -999.0,20110314,       0837
320620110219,       P16S,      55,          2,         15,         15,2,20110314,       0730,   -71.9740,  -150.0000,       4193,  1335.3,   0.9742,  34.7187,2,  34.7189,2,    198.6,2,   197.8,2,  114.82,2,   32.09,2,    0.00,2,    2.20,2,   0.112,2,   0.056,2,   0.010,2,-999.0000,9,  -999.0,9,  -999.0,9,-999.0000,9,  -999.00,-999.000,9,-999.0000,9,-999.000,9,   0.9742,2, -999.00,9,  -999.0,9,  -999.0,-999.000,9, -999.00,9,-999.000,9, -999.00,9, -999.00,9, -71.9740,-150.0000,-999.000,     -999.0,    34.8826,2,     -999.0,9,     -999.0,9,-999.0000,9,-999.0000,9,-999.0000,9,-999.0000,9,-999.0000,9,-999.0000,9,-999.0000,9,-999.0000,9,-999.0000,9,-999.0000,-999.000,   0.9007,     -999.0,     -999.0,9,     -999.0,9,     -999.0,9,     -999.0,9,     -999.0,20110314,       0835
320620110219,       P16S,      55,          2,         14,         14,2,20110314,       0730,   -71.9740,  -150.0000,       4193,  1434.7,   0.9235,  34.7167,2,  34.7169,2,    199.6,2,   199.8,2,  115.95,2,   32.09,2,    0.00,2,    2.21,2,   0.101,2,   0.054,2,   0.007,2,-999.0000,9,  2261.7,2,  2359.5,2,   7.5933,2,    25.00,-999.000,9,-999.0000,9,-999.000,9,   0.9230,2, -999.00,9,  -999.0,9,  -999.0,-999.000,9, -999.00,9,-999.000,9, -999.00,9, -999.00,9, -71.9740,-150.0000,-999.000,     -999.0,    34.8806,2,     -999.0,9,     -999.0,9,-999.0000,9,-999.0000,9,-999.0000,9,-999.0000,9,-999.0000,9,-999.0000,9,-999.0000,9,-999.0000,9,-999.0000,9,-999.0000,-999.000,   0.8439,     -999.0,     -999.0,9,     -999.0,9,     -999.0,9,     -999.0,9,     -999.0,20110314,       0832