BOTTLE,20220813CCHSIOAMB
EXPOCODE,SECT_ID,STNNBR,CASTNO,SAMPNO,BTLNBR,BTLNBR_FLAG_W,DATE,TIME,LATITUDE,LONGITUDE,DEPTH,CTDPRS,CTDTMP,CTDSAL,CTDSAL_FLAG_W,SALNTY,SALNTY_FLAG_W,CTDOXY,CTDOXY_FLAG_W,OXYGEN,OXYGEN_FLAG_W,SILCAT,SILCAT_FLAG_W,NITRAT,NITRAT_FLAG_W,NITRIT,NITRIT_FLAG_W,PHSPHT,PHSPHT_FLAG_W,CFC-11,CFC-11_FLAG_W,CFC-12,CFC-12_FLAG_W,CFC113,CFC113_FLAG_W,SF6,SF6_FLAG_W,TCARBN,TCARBN_FLAG_W,ALKALI,ALKALI_FLAG_W,PH_TOT,PH_TOT_FLAG_W,PH_TMP,TRITUM,TRITUM_FLAG_W,HELIUM,HELIUM_FLAG_W,DELHE3,DELHE3_FLAG_W,REFTMP,REFTMP_FLAG_W,DELC13,DELC13_FLAG_W,DELC14,DELC14_FLAG_W,C14ERR,NEON,NEON_FLAG_W,DELO18,DELO18_FLAG_W,POC,POC_FLAG_W,DOC,DOC_FLAG_W,TDN,TDN_FLAG_W,BTL_LAT,BTL_LON,TRITER,NEONER,SALTREF,SALTREF_FLAG_W,PIGMENTS,PIGMENTS_FLAG_W,LAB_DEN,LAB_DEN_FLAG_W,CDOM325,CDOM325_FLAG_W,CDOM340,CDOM340_FLAG_W,CDOM380,CDOM380_FLAG_W,CDOM412,CDOM412_FLAG_W,CDOM443,CDOM443_FLAG_W,CDOM490,CDOM490_FLAG_W,CDOM555,CDOM555_FLAG_W,CDOMSL,CDOMSL_FLAG_W,CDOMSN,CDOMSN_FLAG_W,HELIER,DELHER,THETA,LDEO_SAMPNO,ABSORBTION,ABSORBTION_FLAG_W,IMAGE_COUNT,IMAGE_COUNT_FLAG_W,CYTO_COUNT,CYTO_COUNT_FLAG_W,DELD,DELD_FLAG_W,DELDERR,BTL_DATE,BTL_TIME
,,,,,,,,,,,METERS,DBAR,ITS-90,PSS-78,,PSS-78,,UMOL/KG,,UMOL/KG,,UMOL/KG,,UMOL/KG,,UMOL/KG,,UMOL/KG,,PMOL/KG,,PMOL/KG,,PMOL/KG,,FMOL/KG,,UMOL/KG,,UMOL/KG,,,,DEG C,TU,,NMOL/KG,,PERCNT,,DEG C,,/MILLE,,/MILLE,,/MILLE,NMOL/KG,,/MILLE,,UG/KG,,UMOL/KG,,UMOL/KG,,,,TU,NMOL/KG,G/KG,,,,,,1/M,,1/M,,1/M,,1/M,,1/M,,1/M,,1/M,,1/NM,,1/NM,,NMOL/KG,PERCNT,DEG C,,,,,,,,/MILLE,,/MILLE,,
320620110219,       P16S,      65,          2,          1,          1,2,20110317,       0233,   -75.6670,  -150.0012,        790,   789.3,   1.1527,  34.7246,2,  34.7262,2,    194.1,2,   194.2,2,  108.22,2,   31.95,2,    0.00,2,    2.21,2,   0.162,2,   0.079,2,   0.016,2,-999.0000,9,  2259.0,6,  2358.8,2,   7.5905,2,    25.00,-999.000,9,-999.0000,9,-999.000,9,   1.1534,2,    0.47,2,  -168.2,2,     2.4,-999.000,9, -999.00,9,-999.000,9, -999.00,9, -999.00,9, -75.6670,-150.0012,-999.000,     -999.0,    34.8900,2,     -999.0,9,     -999.0,9,-999.0000,9,-999.0000,9,-999.0000,9,-999.0000,9,-999.0000,9,-999.0000,9,-999.0000,9,-999.0000,9,-999.0000,9,-999.0000,-999.000,   1.1118,     -999.0,     -999.0,9,     -999.0,9,     -999.0,9,     -999.0,9,     -999.0,20110317,       0233
320620110219,       P16S,      66,          2,         13,         13,2,20110317,       0541,   -75.7506,  -149.9689,        241,     2.2,  -1.8020,  33.4577,2,-999.0000,9,   -999.0,9,  -999.0,9, -999.00,9, -999.00,9, -999.00,9, -999.00,9,-999.000,9,-999.000,9,-999.000,9,-999.0000,9,  -999.0,9,  -999.0,9,-999.0000,9,  -999.00,-999.000,9,-999.0000,9,-999.000,9,  -1.8021,2, -999.00,9,  -999.0,9,  -999.0,-999.000,9, -999.00,9,-999.000,9,   44.00,2,   27.01,2, -75.7511,-149.9715,-999.000,     -999.0,     -999.0,9,     -999.0,1,     -999.0,9,-999.0000,9,-999.0000,9,-999.0000,9,-999.0000,9,-999.0000,9,-999.0000,9,-999.0000,9,-999.0000,9,-999.0000,9,-999.0000,-999.000,  -1.8020,     -999.0,     -999.0,9,     -999.0,9,     -999.0,9,     -999.0,9,     -999.0,20110317,       0558
320620110219,       P16S,      66,          2,         14,         14,2,20110317,       0541,   -75.7506,  -149.9689,        241,     2.2,  -1.8020,  33.4583,2,  33.4581,2,    343.2,2,   345.0,2,   58.25,2,   21.88,2,    0.15,2,    1.51,2,   5.726,2,   3.143,2,   0.561,2,-999.0000,9,  2139.3,2,  2271.7,2,   7.7125,2,    25.00,   0.077,2,    1.977,2,  -1.658,2,  -1.8023,2, -999.00,9,  -999.0,9,  -999.0,   8.912,2,   -0.61,2,-999.000,9, -999.00,9, -999.00,9, -75.7511,-149.9716,   0.005,      0.007,    33.6159,2,     -999.0,9,     -999.0,1,-999.0000,9,-999.0000,9,-999.0000,9,-999.0000,9,-999.0000,9,-999.0000,9,-999.0000,9,-999.0000,9,-999.0000,9,    0.001,   0.194,  -1.8020,50006602014,     -999.0,9,     -999.0,9,     -999.0,9,      -5.66,2,       0.09,20110317,       0558
320620110219,       P16S,      66,          2,         11,         11,2,20110317,       0541,   -75.7506,  -149.9689,        241,    24.7,  -1.8003,  33.4795,2,-999.0000,9,   -999.0,9,  -999.0,9, -999.00,9, -999.00,9, -999.00,9, -999.00,9,-999.000,9,-999.000,9,-999.000,9,-999.0000,9,  -999.0,9,  -999.0,9,-999.0000,9,  -999.00,-999.000,9,-999.0000,9,-999.000,9,  -1.7997,2, -999.00,9,  -999.0,9,  -999.0,-999.000,9, -999.00,9,-999.000,9,   43.47,2,   27.08,2, -75.7510,-149.9711,-999.000,     -999.0,     -999.0,9,     -999.0,1,     -999.0,9,-999.0000,9,-999.0000,9,-999.0000,9,-999.0000,9,-999.0000,9,-999.0000,9,-999.0000,9,-999.0000,9,-999.0000,9,-999.0000,-999.000,  -1.8007,     -999.0,     -999.0,9,     -999.0,9,     -999.0,9,     -999.0,9,     -999.0,20110317,       0555
320620110219,       P16S,      66,          2,         12,         12,2,20110317,       0541,   -75.7506,  -149.9689,        241,    24.7,  -1.8010,  33.4780,2,  33.4810,2,    344.2,2,   342.0,2,   61.96,2,   22.67,2,    0.14,2,    1.58,2,   5.577,2,   3.094,2,   0.538,2,-999.0000,9,  2144.4,2,  2273.4,2,   7.7040,2,    25.00,   0.083,2,    1.982,2,  -0.764,2,  -1.8006,2, -999.00,9,  -999.0,9,  -999.0,   8.952,2,   -0.60,2,-999.000,9, -999.00,9, -999.00,9, -75.7510,-149.9712,   0.006,      0.007,    33.6388,2,     -999.0,9,     -999.0,1,-999.0000,9,-999.0000,9,-999.0000,9,-999.0000,9,-999.0000,9,-999.0000,9,-999.0000,9,-999.0000,9,-999.0000,9,    0.001,   0.191,  -1.8014,50006602012,     -999.0,9,     -999.0,9,     -999.0,9,      -5.68,2,       0.22,20110317,       0555
320620110219,       P16S,      66,          2,          9,          9,2,20110317,       0541,   -75.7506,  -149.9689,        241,    49.8,  -1.7692,  33.5262,2,-999.0000,9,   -999.0,9,  -999.0,9, -999.00,9, -999.00,9, -999.00,9, -999.00,9,-999.000,9,-999.000,9,-999.000,9,-999.0000,9,  -999.0,9,  -999.0,9,-999.0000,9,  -999.00,-999.000,9,-999.0000,9,-999.000,9,  -1.7707,2, -999.00,9,  -999.0,9,  -999.0,-999.000,9, -999.00,9,-999.000,9,   42.74,2,   27.88,2, -75.7509,-149.9708,-999.000,     -999.0,     -999.0,9,     -999.0,1,     -999.0,9,-999.0000,9,-999.0000,9,-999.0000,9,-999.0000,9,-999.0000,9,-999.0000,9,-999.0000,9,-999.0000,9,-999.0000,9,-999.0000,-999.000,  -1.7701,     -999.0,     -999.0,9,     -999.0,9,     -999.0,9,     -999.0,9,     -999.0,20110317,       0553
320620110219,       P16S,      66,          2,         10,         37,2,20110317,       0541,   -75.7506,  -149.9689,        241,    49.8,  -1.7900,  33.5011,2,  33.5177,2,    337.5,2,   335.3,2,   64.58,2,   23.10,2,    0.14,2,    1.63,2,-999.000,9,-999.000,9,-999.000,9,-999.0000,9,  2149.8,2,  2247.2,4,   7.6934,4,    25.00,   0.079,2,-999.0000,9,-999.000,9,  -1.7860,2, -999.00,9,  -999.0,9,  -999.0,-999.000,9,   -0.57,2,-999.000,9, -999.00,9, -999.00,9, -75.7509,-149.9709,   0.005,     -999.0,    33.6757,2,     -999.0,9,     -999.0,1,-999.0000,9,-999.0000,9,-999.0000,9,-999.0000,9,-999.0000,9,-999.0000,9,-999.0000,9,-999.0000,9,-999.0000,9,-999.0000,-999.000,  -1.7909,     -999.0,     -999.0,9,     -999.0,9,     -999.0,9,      -5.67,2,       0.13,20110317,       0553
320620110219,       P16S,      66,          2,          8,          8,2,20110317,       0541,   -75.7506,  -149.9689,        241,    75.0,  -1.6039,  33.7608,2,  33.7434,2,    314.2,2,   309.8,2,   72.60,2,   25.91,2,    0.12,2,    1.95,2,   4.661,2,   2.570,2,   0.435,2,-999.0000,9,  2177.7,2,  2287.9,2,   7.6476,2,    25.00,-999.000,9,-999.0000,9,-999.000,9,  -1.6033,2, -999.00,9,  -999.0,9,  -999.0,-999.000,9, -999.00,9,-999.000,9,   42.21,2,   29.66,2, -75.7509,-149.9706,-999.000,     -999.0,    33.9025,2,     -999.0,9,     -999.0,1,-999.0000,9,-999.0000,9,-999.0000,9,-999.0000,9,-999.0000,9,-999.0000,9,-999.0000,9,-999.0000,9,-999.0000,9,-999.0000,-999.000,  -1.6054,     -999.0,     -999.0,9,     -999.0,9,     -999.0,9,     -999.0,9,     -999.0,20110317,       0551
320620110219,       P16S,      66,          2,          7,          7,2,20110317,       0541,   -75.7506,  -149.9689,        241,    75.1,  -1.6039,  33.7509,2,-999.0000,9,   -999.0,9,  -999.0,9, -999.00,9, -999.00,9, -999.00,9, -999.00,9,-999.000,9,-999.000,9,-999.000,9,-999.0000,9,  -999.0,9,  -999.0,9,-999.0000,9,  -999.00,-999.000,9,-999.0000,9,-999.000,9,  -1.6026,2, -999.00,9,  -999.0,9,  -999.0,-999.000,9, -999.00,9,-999.000,9, -999.00,9, -999.00,9, -75.7509,-149.9706,-999.000,     -999.0,     -999.0,9,     -999.0,1,     -999.0,9,-999.0000,9,-999.0000,9,-999.0000,9,-999.0000,9,-999.0000,9,-999.0000,9,-999.0000,9,-999.0000,9,-999.0000,9,-999.0000,-999.000,  -1.6054,     -999.0,     -999.0,9,     -999.0,9,     -999.0,9,     -999.0,9,     -999.0,20110317,       0551
320620110219,       P16S,      66,          2,          6,          6,2,20110317,       0541,   -75.7506,  -149.9689,        241,   100.1,  -1.6690,  33.9977,2,  33.9997,2,    293.3,2,   291.9,2,   80.02,2,   28.62,2,    0.13,2,    2.10,2,   5.366,2,   2.955,2,   0.493,2,-999.0000,9,  2205.4,2,  2304.0,2,   7.6071,2,    25.00,   0.069,2,    2.082,2,   1.615,2,  -1.6694,2, -999.00,9,  -999.0,9,  -999.0,   9.275,2,   -0.67,2,-999.000,9,   41.62,2,   32.18,2, -75.7508,-149.9703,   0.005,      0.008,    34.1601,2,     -999.0,9,     -999.0,1,-999.0000,9,-999.0000,9,-999.0000,9,-999.0000,9,-999.0000,9,-999.0000,9,-999.0000,9,-999.0000,9,-999.0000,9,    0.001,   0.192,  -1.6710,50006602006,     -999.0,9,     -999.0,9,     -999.0,9,      -6.01,2,       0.14,20110317,       0549
320620110219,       P16S,      66,          2,          5,          5,2,20110317,       0541,   -75.7506,  -149.9689,        241,   125.1,  -1.7150,  34.0448,2,  34.0465,2,    292.9,2,   290.8,2,   80.93,2,   28.88,2,    0.15,2,    2.09,2,   4.157,2,   2.274,2,   0.384,2,-999.0000,9,  2207.8,2,  2305.6,2,   7.6050,2,    25.00,-999.000,9,-999.0000,9,-999.000,9,  -1.7137,2, -999.00,9,  -999.0,9,  -999.0,-999.000,9, -999.00,9,-999.000,9,   41.37,2,   32.83,2, -75.7508,-149.9702,-999.000,     -999.0,    34.2070,2,     -999.0,9,     -999.0,1,-999.0000,9,-999.0000,9,-999.0000,9,-999.0000,9,-999.0000,9,-999.0000,9,-999.0000,9,-999.0000,9,-999.0000,9,-999.0000,-999.000,  -1.7175,     -999.0,     -999.0,9,     -999.0,9,     -999.0,9,     -999.0,9,     -999.0,20110317,       0548
320620110219,       P16S,      66,          2,          4,          4,2,20110317,       0541,   -75.7506,  -149.9689,        241,   150.1,  -1.7129,  34.0592,2,  34.0594,2,    290.1,2,   288.9,2,   81.33,2,   29.00,2,    0.13,2,    2.10,2,   4.126,2,   2.244,2,   0.376,2,-999.0000,9,  2209.1,2,  2306.8,2,   7.5986,2,    25.00,-999.000,9,-999.0000,9,-999.000,9,  -1.7132,2, -999.00,9,  -999.0,9,  -999.0,-999.000,9, -999.00,9,-999.000,9,   40.77,2,   32.00,2, -75.7508,-149.9700,-999.000,     -999.0,    34.2200,2,     -999.0,9,     -999.0,1,-999.0000,9,-999.0000,9,-999.0000,9,-999.0000,9,-999.0000,9,-999.0000,9,-999.0000,9,-999.0000,9,-999.0000,9,-999.0000,-999.000,  -1.7160,     -999.0,     -999.0,9,     -999.0,9,     -999.0,9,     -999.0,9,     -999.0,20110317,       0546
320620110219,       P16S,      66,          2,          3,          3,2,20110317,       0541,   -75.7506,  -149.9689,        241,   179.8,  -1.7027,  34.0809,2,  34.0821,2,    286.3,2,   285.9,2,   81.88,2,   29.40,2,    0.09,2,    2.10,2,   3.843,2,   2.174,2,   0.257,3,-999.0000,9,  2211.5,2,  2308.2,2,   7.5984,2,    25.00,   0.053,2,    2.189,4,   1.879,2,  -1.7029,2, -999.00,9,  -999.0,9,  -999.0,   9.669,2,   -0.61,2,-999.000,9,   40.61,2,   32.80,2, -75.7507,-149.9695,   0.005,      0.008,    34.2429,2,     -999.0,9,     -999.0,1,-999.0000,9,-999.0000,9,-999.0000,9,-999.0000,9,-999.0000,9,-999.0000,9,-999.0000,9,-999.0000,9,-999.0000,9,    0.001,   0.180,  -1.7065,50006602003,     -999.0,9,     -999.0,9,     -999.0,9,      -5.17,2,       0.05,20110317,       0545
320620110219,       P16S,      66,          2,          2,          2,2,20110317,       0541,   -75.7506,  -149.9689,        241,   209.0,  -1.6684,  34.0970,2,  34.0980,2,    284.1,2,   283.1,2,   82.19,2,   29.60,2,    0.06,2,    2.10,2,   3.966,2,   2.190,2,   0.372,2,-999.0000,9,  2212.6,6,  2309.2,2,   7.5974,2,    25.00,-999.000,9,-999.0000,9,-999.000,9,  -1.6678,2, -999.00,9,  -999.0,9,  -999.0,-999.000,9, -999.00,9,-999.000,9,   40.53,2,   32.73,2, -75.7506,-149.9692,-999.000,     -999.0,    34.2588,2,     -999.0,9,     -999.0,1,-999.0000,9,-999.0000,9,-999.0000,9,-999.0000,9,-999.0000,9,-999.0000,9,-999.0000,9,-999.0000,9,-999.0000,9,-999.0000,-999.000,  -1.6729,     -999.0,     -999.0,9,     -999.0,9,     -999.0,9,     -999.0,9,     -999.0,20110317,       0543
320620110219,       P16S,      66,          2,          1,          1,2,20110317,       0541,   -75.7506,  -149.9689,        241,   235.5,  -1.4891,  34.1354,2,  34.1278,2,    275.6,2,   275.3,2,   83.63,2,   29.90,2,    0.04,2,    2.12,2,   3.747,2,   2.064,2,   0.330,2,-999.0000,9,  2216.2,2,  2310.6,2,   7.5937,6,    25.00,   0.034,2,    2.124,2,   2.603,2,  -1.4889,2, -999.00,9,  -999.0,9,  -999.0,   9.389,2,   -0.57,2,-999.000,9,   40.52,2,   33.61,2, -75.7506,-149.9689,   0.005,      0.007,    34.2887,2,     -999.0,9,     -999.0,1,-999.0000,9,-999.0000,9,-999.0000,9,-999.0000,9,-999.0000,9,-999.0000,9,-999.0000,9,-999.0000,9,-999.0000,9,    0.002,   0.192,  -1.4946,50006602001,     -999.0,9,     -999.0,9,     -999.0,9,      -5.81,2,       0.31,20110317,       0541
320620110219,        ERS,      67,          1,          3,          3,2,20110319,       1020,   -77.3271,  -160.5539,        440,     3.5,  -1.8135,  33.7870,2,  33.7868,2,    342.0,2,   345.2,2, -999.00,9, -999.00,9, -999.00,9, -999.00,9,-999.000,9,-999.000,9,-999.000,9,-999.0000,9,  -999.0,9,  -999.0,9,-999.0000,9,  -999.00,-999.000,9,-999.0000,9,-999.000,9,  -1.8138,2, -999.00,9,  -999.0,9,  -999.0,-999.000,9, -999.00,9,-999.000,9, -999.00,9, -999.00,9, -77.3271,-160.5539,-999.000,     -999.0,    33.9461,2,     -999.0,9,     -999.0,9,-999.0000,9,-999.0000,9,-999.0000,9,-999.0000,9,-999.0000,9,-999.0000,9,-999.0000,9,-999.0000,9,-999.0000,9,-999.0000,-999.000,  -1.8136,     -999.0,     -999.0,9,     -999.0,9,     -999.0,9,     -999.0,9,     -999.0,20110319,       1030
320620110219,        ERS,      67,          1,          2,          2,2,20110319,       1020,   -77.3271,  -160.5539,        440,   250.0,  -1.7511,  34.1068,2,  34.1073,2,    283.9,2,   283.7,2, -999.00,9, -999.00,9, -999.00,9, -999.00,9,-999.000,9,-999.000,9,-999.000,9,-999.0000,9,  -999.0,9,  -999.0,9,-999.0000,9,  -999.00,-999.000,9,-999.0000,9,-999.000,9,  -1.7498,2, -999.00,9,  -999.0,9,  -999.0,-999.000,9, -999.00,9,-999.000,9, -999.00,9, -999.00,9, -77.3271,-160.5539,-999.000,     -999.0,    34.2681,2,     -999.0,9,     -999.0,9,-999.0000,9,-999.0000,9,-999.0000,9,-999.0000,9,-999.0000,9,-999.0000,9,-999.0000,9,-999.0000,9,-999.0000,9,-999.0000,-999.000,  -1.7564,     -999.0,     -999.0,9,     -999.0,9,     -999.0,9,     -999.0,9,     -999.0,20110319,       1024
320620110219,        ERS,      67,          1,          1,          1,2,20110319,       1020,   -77.3271,  -160.5539,        440,   435.4,  -1.8566,  34.3887,3,  34.3490,2,    278.1,2,   277.9,2, -999.00,9, -999.00,9, -999.00,9, -999.00,9,-999.000,9,-999.000,9,-999.000,9,-999.0000,9,  -999.0,9,  -999.0,9,-999.0000,9,  -999.00,-999.000,9,-999.0000,9,-999.000,9,  -1.8568,2, -999.00,9,  -999.0,9,  -999.0,-999.000,9, -999.00,9,-999.000,9, -999.00,9, -999.00,9, -77.3271,-160.5539,-999.000,     -999.0,    34.5109,2,     -999.0,9,     -999.0,9,-999.0000,9,-999.0000,9,-999.0000,9,-999.0000,9,-999.0000,9,-999.0000,9,-999.0000,9,-999.0000,9,-999.0000,9,-999.0000,-999.000,  -1.8665,     -999.0,     -999.0,9,     -999.0,9,     -999.0,9,     -999.0,9,     -999.0,20110319,       1020
320620110219,        ERS,      68,          1,          5,          5,2,20110319,       1127,   -77.3341,  -160.8048,        541,     3.9,  -1.8361,  33.8853,2,  33.8861,2,    344.8,2,   348.0,2, -999.00,9, -999.00,9, -999.00,9, -999.00,9,-999.000,9,-999.000,9,-999.000,9,-999.0000,9,  -999.0,9,  -999.0,9,-999.0000,9,  -999.00,-999.000,9,-999.0000,9,-999.000,9,  -1.8357,2, -999.00,9,  -999.0,9,  -999.0,-999.000,9, -999.00,9,-999.000,9, -999.00,9, -999.00,9, -77.3336,-160.8067,-999.000,     -999.0,    34.0459,2,     -999.0,9,     -999.0,9,-999.0000,9,-999.0000,9,-999.0000,9,-999.0000,9,-999.0000,9,-999.0000,9,-999.0000,9,-999.0000,9,-999.0000,9,-999.0000,-999.000,  -1.8362,     -999.0,     -999.0,9,     -999.0,9,     -999.0,9,     -999.0,9,     -999.0,20110319,       1140
320620110219,        ERS,      68,          1,          4,          4,2,20110319,       1127,   -77.3341,  -160.8048,        541,   150.2,  -1.7505,  34.1021,2,  34.1019,2,    281.8,2,   282.0,2, -999.00,9, -999.00,9, -999.00,9, -999.00,9,-999.000,9,-999.000,9,-999.000,9,-999.0000,9,  -999.0,9,  -999.0,9,-999.0000,9,  -999.00,-999.000,9,-999.0000,9,-999.000,9,  -1.7510,2, -999.00,9,  -999.0,9,  -999.0,-999.000,9, -999.00,9,-999.000,9, -999.00,9, -999.00,9, -77.3336,-160.8067,-999.000,     -999.0,    34.2627,2,     -999.0,9,     -999.0,9,-999.0000,9,-999.0000,9,-999.0000,9,-999.0000,9,-999.0000,9,-999.0000,9,-999.0000,9,-999.0000,9,-999.0000,9,-999.0000,-999.000,  -1.7536,     -999.0,     -999.0,9,     -999.0,9,     -999.0,9,     -999.0,9,     -999.0,20110319,       1136
320620110219,        ERS,      68,          1,          3,          3,2,20110319,       1127,   -77.3341,  -160.8048,        541,   250.6,  -1.7408,  34.1256,2,  34.1270,2,    282.7,2,   284.2,2, -999.00,9, -999.00,9, -999.00,9, -999.00,9,-999.000,9,-999.000,9,-999.000,9,-999.0000,9,  -999.0,9,  -999.0,9,-999.0000,9,  -999.00,-999.000,9,-999.0000,9,-999.000,9,  -1.7409,2, -999.00,9,  -999.0,9,  -999.0,-999.000,9, -999.00,9,-999.000,9, -999.00,9, -999.00,9, -77.3337,-160.8063,-999.000,     -999.0,    34.2879,2,     -999.0,9,     -999.0,9,-999.0000,9,-999.0000,9,-999.0000,9,-999.0000,9,-999.0000,9,-999.0000,9,-999.0000,9,-999.0000,9,-999.0000,9,-999.0000,-999.000,  -1.7462,     -999.0,     -999.0,9,     -999.0,9,     -999.0,9,     -999.0,9,     -999.0,20110319,       1134
320620110219,        ERS,      68,          1,          2,          2,2,20110319,       1127,   -77.3341,  -160.8048,        541,   424.8,  -1.8998,  34.3169,2,  34.3185,2,    287.2,2,   287.6,2, -999.00,9, -999.00,9, -999.00,9, -999.00,9,-999.000,9,-999.000,9,-999.000,9,-999.0000,9,  -999.0,9,  -999.0,9,-999.0000,9,  -999.00,-999.000,9,-999.0000,9,-999.000,9,  -1.8998,2, -999.00,9,  -999.0,9,  -999.0,-999.000,9, -999.00,9,-999.000,9, -999.00,9, -999.00,9, -77.3340,-160.8050,-999.000,     -999.0,    34.4803,2,     -999.0,9,     -999.0,9,-999.0000,9,-999.0000,9,-999.0000,9,-999.0000,9,-999.0000,9,-999.0000,9,-999.0000,9,-999.0000,9,-999.0000,9,-999.0000,-999.000,  -1.9092,     -999.0,     -999.0,9,     -999.0,9,     -999.0,9,     -999.0,9,     -999.0,20110319,       1130
320620110219,        ERS,      68,          1,          1,          1,2,20110319,       1127,   -77.3341,  -160.8048,        541,   539.7,  -1.8598,  34.3939,2,  34.3944,2,    276.4,2,   276.6,2, -999.00,9, -999.00,9, -999.00,9, -999.00,9,-999.000,9,-999.000,9,-999.000,9,-999.0000,9,  -999.0,9,  -999.0,9,-999.0000,9,  -999.00,-999.000,9,-999.0000,9,-999.000,9,  -1.8605,2, -999.00,9,  -999.0,9,  -999.0,-999.000,9, -999.00,9,-999.000,9, -999.00,9, -999.00,9, -77.3341,-160.8048,-999.000,     -999.0,    34.5565,2,     -999.0,9,     -999.0,9,-999.0000,9,-999.0000,9,-999.0000,9,-999.0000,9,-999.0000,9,-999.0000,9,-999.0000,9,-999.0000,9,-999.0000,9,-999.0000,-999.000,  -1.8727,     -999.0,     -999.0,9,     -999.0,9,     -999.0,9,     -999.0,9,     -999.0,20110319,       1127