BOTTLE,20220813CCHSIOAMB
EXPOCODE,SECT_ID,STNNBR,CASTNO,SAMPNO,BTLNBR,BTLNBR_FLAG_W,DATE,TIME,LATITUDE,LONGITUDE,DEPTH,CTDPRS,CTDTMP,CTDSAL,CTDSAL_FLAG_W,SALNTY,SALNTY_FLAG_W,CTDOXY,CTDOXY_FLAG_W,OXYGEN,OXYGEN_FLAG_W,SILCAT,SILCAT_FLAG_W,NITRAT,NITRAT_FLAG_W,NITRIT,NITRIT_FLAG_W,PHSPHT,PHSPHT_FLAG_W,CFC-11,CFC-11_FLAG_W,CFC-12,CFC-12_FLAG_W,CFC113,CFC113_FLAG_W,SF6,SF6_FLAG_W,TCARBN,TCARBN_FLAG_W,ALKALI,ALKALI_FLAG_W,PH_TOT,PH_TOT_FLAG_W,PH_TMP,TRITUM,TRITUM_FLAG_W,HELIUM,HELIUM_FLAG_W,DELHE3,DELHE3_FLAG_W,REFTMP,REFTMP_FLAG_W,DELC13,DELC13_FLAG_W,DELC14,DELC14_FLAG_W,C14ERR,NEON,NEON_FLAG_W,DELO18,DELO18_FLAG_W,POC,POC_FLAG_W,DOC,DOC_FLAG_W,TDN,TDN_FLAG_W,BTL_LAT,BTL_LON,TRITER,NEONER,SALTREF,SALTREF_FLAG_W,PIGMENTS,PIGMENTS_FLAG_W,LAB_DEN,LAB_DEN_FLAG_W,CDOM325,CDOM325_FLAG_W,CDOM340,CDOM340_FLAG_W,CDOM380,CDOM380_FLAG_W,CDOM412,CDOM412_FLAG_W,CDOM443,CDOM443_FLAG_W,CDOM490,CDOM490_FLAG_W,CDOM555,CDOM555_FLAG_W,CDOMSL,CDOMSL_FLAG_W,CDOMSN,CDOMSN_FLAG_W,HELIER,DELHER,THETA,LDEO_SAMPNO,ABSORBTION,ABSORBTION_FLAG_W,IMAGE_COUNT,IMAGE_COUNT_FLAG_W,CYTO_COUNT,CYTO_COUNT_FLAG_W,DELD,DELD_FLAG_W,DELDERR,BTL_DATE,BTL_TIME
,,,,,,,,,,,METERS,DBAR,ITS-90,PSS-78,,PSS-78,,UMOL/KG,,UMOL/KG,,UMOL/KG,,UMOL/KG,,UMOL/KG,,UMOL/KG,,PMOL/KG,,PMOL/KG,,PMOL/KG,,FMOL/KG,,UMOL/KG,,UMOL/KG,,,,DEG C,TU,,NMOL/KG,,PERCNT,,DEG C,,/MILLE,,/MILLE,,/MILLE,NMOL/KG,,/MILLE,,UG/KG,,UMOL/KG,,UMOL/KG,,,,TU,NMOL/KG,G/KG,,,,,,1/M,,1/M,,1/M,,1/M,,1/M,,1/M,,1/M,,1/NM,,1/NM,,NMOL/KG,PERCNT,DEG C,,,,,,,,/MILLE,,/MILLE,,
320620110219,       S04P,      96,          1,         36,         36,2,20110330,       0938,   -66.9995,  -148.0603,       4162,     5.1,  -0.8918,  33.6433,2,  33.6428,2,    340.1,3,   344.2,2,   39.34,2,   23.40,2,    0.21,2,    1.63,2,   6.196,2,   3.384,2,   0.611,2,   2.7430,2,  2151.0,6,  2277.4,2,   7.6946,2,    25.00,-999.000,9,-999.0000,9,-999.000,9,  -0.8934,2, -999.00,9,  -999.0,9,  -999.0,-999.000,9, -999.00,9,-999.000,9,   44.52,2,   28.59,2, -66.9983,-148.0605,-999.000,     -999.0,    33.8015,2,     -999.0,9,     -999.0,9,-999.0000,9,-999.0000,9,-999.0000,9,-999.0000,9,-999.0000,9,-999.0000,9,-999.0000,9,-999.0000,9,-999.0000,9,-999.0000,-999.000,  -0.8919,     -999.0,     -999.0,9,     -999.0,9,     -999.0,9,     -999.0,9,     -999.0,20110330,       1123
320620110219,       S04P,      96,          1,         35,         35,2,20110330,       0938,   -66.9995,  -148.0603,       4162,    33.7,  -0.9051,  33.6491,2,  33.6463,2,    343.9,2,   343.7,2,   39.32,2,   23.41,2,    0.21,2,    1.64,2,   6.219,2,   3.392,2,   0.623,2,   2.7780,2,  2151.1,2,  2282.1,2,   7.6942,6,    25.00,-999.000,9,-999.0000,9,-999.000,9,  -0.9049,2, -999.00,9,  -999.0,9,  -999.0,-999.000,9, -999.00,9,-999.000,9,   45.31,2,   28.54,2, -66.9985,-148.0605,-999.000,     -999.0,    33.8050,2,     -999.0,9,     -999.0,9,-999.0000,9,-999.0000,9,-999.0000,9,-999.0000,9,-999.0000,9,-999.0000,9,-999.0000,9,-999.0000,9,-999.0000,9,-999.0000,-999.000,  -0.9060,     -999.0,     -999.0,9,     -999.0,9,     -999.0,9,     -999.0,9,     -999.0,20110330,       1121
320620110219,       S04P,      96,          1,         34,         34,2,20110330,       0938,   -66.9995,  -148.0603,       4162,    59.8,  -0.9391,  33.7015,2,  33.6964,2,    341.7,2,   341.2,2,   40.75,2,   23.87,2,    0.21,2,    1.71,2,   6.094,2,   3.329,2,   0.603,2,   2.8060,2,  2155.2,2,  2286.3,6,   7.6869,2,    25.00,-999.000,9,-999.0000,9,-999.000,9,  -0.9389,2, -999.00,9,  -999.0,9,  -999.0,-999.000,9, -999.00,9,-999.000,9,   45.18,2,   28.58,2, -66.9987,-148.0604,-999.000,     -999.0,    33.8552,2,     -999.0,9,     -999.0,9,-999.0000,9,-999.0000,9,-999.0000,9,-999.0000,9,-999.0000,9,-999.0000,9,-999.0000,9,-999.0000,9,-999.0000,9,-999.0000,-999.000,  -0.9406,     -999.0,     -999.0,9,     -999.0,9,     -999.0,9,     -999.0,9,     -999.0,20110330,       1120
320620110219,       S04P,      96,          1,         33,         33,2,20110330,       0938,   -66.9995,  -148.0603,       4162,    83.5,  -1.3968,  33.9772,2,  33.9559,2,    317.6,2,   316.9,2,   49.92,2,   26.73,2,    0.21,2,    1.91,2,   5.472,2,   2.962,2,   0.542,2,   2.3250,2,  2184.5,2,  2303.3,2,   7.6472,2,    25.00,-999.000,9,-999.0000,9,-999.000,9,  -1.4001,2, -999.00,9,  -999.0,9,  -999.0,-999.000,9, -999.00,9,-999.000,9,   44.85,2,   30.67,2, -66.9989,-148.0603,-999.000,     -999.0,    34.1160,2,     -999.0,9,     -999.0,9,-999.0000,9,-999.0000,9,-999.0000,9,-999.0000,9,-999.0000,9,-999.0000,9,-999.0000,9,-999.0000,9,-999.0000,9,-999.0000,-999.000,  -1.3987,     -999.0,     -999.0,9,     -999.0,9,     -999.0,9,     -999.0,9,     -999.0,20110330,       1118
320620110219,       S04P,      96,          1,         32,         32,2,20110330,       0938,   -66.9995,  -148.0603,       4162,   110.8,  -1.4011,  34.1162,2,  34.1146,2,    296.0,2,   298.8,2,   56.25,2,   28.59,2,    0.12,2,    2.02,2,   4.924,2,   2.650,2,   0.485,2,   2.1190,2,  2201.4,2,  2312.2,2,   7.6237,2,    25.00,-999.000,9,-999.0000,9,-999.000,9,  -1.4060,2, -999.00,9,  -999.0,9,  -999.0,-999.000,9, -999.00,9,-999.000,9,   43.65,2,   31.99,2, -66.9989,-148.0604,-999.000,     -999.0,    34.2754,2,     -999.0,9,     -999.0,9,-999.0000,9,-999.0000,9,-999.0000,9,-999.0000,9,-999.0000,9,-999.0000,9,-999.0000,9,-999.0000,9,-999.0000,9,-999.0000,-999.000,  -1.4037,     -999.0,     -999.0,9,     -999.0,9,     -999.0,9,     -999.0,9,     -999.0,20110330,       1117
320620110219,       S04P,      96,          1,         31,         31,2,20110330,       0938,   -66.9995,  -148.0603,       4162,   135.5,  -0.8864,  34.2265,2,  34.2167,2,    281.4,2,   276.1,2,   62.68,2,   29.65,2,    0.05,2,    2.08,2,   4.120,2,   2.217,2,   0.418,2,   1.6980,2,  2212.2,2,  2319.8,2,   7.6089,2,    25.00,-999.000,9,-999.0000,9,-999.000,9,  -0.8882,2, -999.00,9,  -999.0,9,  -999.0,-999.000,9, -999.00,9,-999.000,9,   42.99,2,   32.25,2, -66.9989,-148.0604,-999.000,     -999.0,    34.3781,2,     -999.0,9,     -999.0,9,-999.0000,9,-999.0000,9,-999.0000,9,-999.0000,9,-999.0000,9,-999.0000,9,-999.0000,9,-999.0000,9,-999.0000,9,-999.0000,-999.000,  -0.8902,     -999.0,     -999.0,9,     -999.0,9,     -999.0,9,     -999.0,9,     -999.0,20110330,       1115
320620110219,       S04P,      96,          1,         30,         30,2,20110330,       0938,   -66.9995,  -148.0603,       4162,   164.0,  -0.3634,  34.3286,3,  34.3515,2,    256.6,2,   248.4,2,   71.44,2,   30.91,2,    0.00,2,    2.15,2,   3.146,2,   1.694,2,   0.307,2,   1.3270,2,  2227.2,2,  2325.5,2,   7.5919,2,    25.00,-999.000,9,-999.0000,9,-999.000,9,  -0.3691,2, -999.00,9,  -999.0,9,  -999.0,-999.000,9, -999.00,9,-999.000,9,   42.73,2,   33.75,2, -66.9991,-148.0604,-999.000,     -999.0,    34.5135,2,     -999.0,9,     -999.0,9,-999.0000,9,-999.0000,9,-999.0000,9,-999.0000,9,-999.0000,9,-999.0000,9,-999.0000,9,-999.0000,9,-999.0000,9,-999.0000,-999.000,  -0.3688,     -999.0,     -999.0,9,     -999.0,9,     -999.0,9,     -999.0,9,     -999.0,20110330,       1114
320620110219,       S04P,      96,          1,         29,         29,2,20110330,       0938,   -66.9995,  -148.0603,       4162,   212.6,   1.1030,  34.6230,2,  34.6248,2,    201.1,2,   194.2,2,   88.94,2,   32.60,2,    0.00,2,    2.25,2,   1.041,2,   0.544,2,   0.090,2,   0.5240,2,  2251.7,2,  2345.2,2,   7.5669,2,    25.00,-999.000,9,-999.0000,9,-999.000,9,   1.1042,2, -999.00,9,  -999.0,9,  -999.0,-999.000,9, -999.00,9,-999.000,9,   41.52,2,   35.29,2, -66.9990,-148.0604,-999.000,     -999.0,    34.7880,2,     -999.0,9,     -999.0,9,-999.0000,9,-999.0000,9,-999.0000,9,-999.0000,9,-999.0000,9,-999.0000,9,-999.0000,9,-999.0000,9,-999.0000,9,-999.0000,-999.000,   1.0932,     -999.0,     -999.0,9,     -999.0,9,     -999.0,9,     -999.0,9,     -999.0,20110330,       1112
320620110219,       S04P,      96,          1,         28,         28,2,20110330,       0938,   -66.9995,  -148.0603,       4162,   263.7,   1.4145,  34.7031,2,  34.7015,2,    184.6,2,   183.2,2,   94.63,2,   32.68,2,    0.00,2,    2.24,2,   0.493,2,   0.247,2,   0.041,2,   0.1190,2,  2259.7,2,  2349.3,2,   7.5660,2,    25.00,-999.000,9,-999.0000,9,-999.000,9,   1.4144,2, -999.00,9,  -999.0,9,  -999.0,-999.000,9, -999.00,9,-999.000,9,   41.49,2,   35.37,2, -66.9990,-148.0604,-999.000,     -999.0,    34.8651,2,     -999.0,9,     -999.0,9,-999.0000,9,-999.0000,9,-999.0000,9,-999.0000,9,-999.0000,9,-999.0000,9,-999.0000,9,-999.0000,9,-999.0000,9,-999.0000,-999.000,   1.4015,     -999.0,     -999.0,9,     -999.0,9,     -999.0,9,     -999.0,9,     -999.0,20110330,       1110
320620110219,       S04P,      96,          1,         27,         27,2,20110330,       0938,   -66.9995,  -148.0603,       4162,   314.8,   1.4287,  34.7242,2,  34.7240,2,    181.8,2,   182.1,2,   98.73,2,   32.60,2,    0.00,2,    2.25,2,   0.287,2,   0.137,2,   0.021,2,   0.0840,2,  2262.5,2,  2353.8,2,   7.5704,2,    25.00,-999.000,9,-999.0000,9,-999.000,9,   1.4288,2, -999.00,9,  -999.0,9,  -999.0,-999.000,9, -999.00,9,-999.000,9,   41.10,2,   35.03,2, -66.9990,-148.0604,-999.000,     -999.0,    34.8878,2,     -999.0,9,     -999.0,9,-999.0000,9,-999.0000,9,-999.0000,9,-999.0000,9,-999.0000,9,-999.0000,9,-999.0000,9,-999.0000,9,-999.0000,9,-999.0000,-999.000,   1.4129,     -999.0,     -999.0,9,     -999.0,9,     -999.0,9,     -999.0,9,     -999.0,20110330,       1109
320620110219,       S04P,      96,          1,         26,         26,2,20110330,       0938,   -66.9995,  -148.0603,       4162,   364.3,   1.3891,  34.7279,2,  34.7272,2,    182.3,2,   181.8,2,  101.19,2,   32.67,2,    0.00,2,    2.26,2,-999.000,9,-999.000,9,-999.000,9,-999.0000,9,  2261.9,2,  2353.4,2,   7.5688,2,    25.00,-999.000,9,-999.0000,9,-999.000,9,   1.3890,2, -999.00,9,  -999.0,9,  -999.0,-999.000,9, -999.00,9,-999.000,9,   40.83,2,   34.76,2, -66.9990,-148.0604,-999.000,     -999.0,    34.8909,2,     -999.0,9,     -999.0,9,-999.0000,9,-999.0000,9,-999.0000,9,-999.0000,9,-999.0000,9,-999.0000,9,-999.0000,9,-999.0000,9,-999.0000,9,-999.0000,-999.000,   1.3708,     -999.0,     -999.0,9,     -999.0,9,     -999.0,9,     -999.0,9,     -999.0,20110330,       1107
320620110219,       S04P,      96,          1,         25,         25,2,20110330,       0938,   -66.9995,  -148.0603,       4162,   415.6,   1.3501,  34.7290,2,  34.7287,2,    182.2,2,   182.7,2,  102.70,2,   32.78,2,    0.00,2,    2.27,2,   0.196,2,   0.095,2,   0.012,2,   0.0200,2,  2263.0,2,  2352.3,2,   7.5705,2,    25.00,-999.000,9,-999.0000,9,-999.000,9,   1.3506,2, -999.00,9,  -999.0,9,  -999.0,-999.000,9, -999.00,9,-999.000,9,   41.07,2,   35.33,2, -66.9990,-148.0603,-999.000,     -999.0,    34.8925,2,     -999.0,9,     -999.0,9,-999.0000,9,-999.0000,9,-999.0000,9,-999.0000,9,-999.0000,9,-999.0000,9,-999.0000,9,-999.0000,9,-999.0000,9,-999.0000,-999.000,   1.3292,     -999.0,     -999.0,9,     -999.0,9,     -999.0,9,     -999.0,9,     -999.0,20110330,       1105
320620110219,       S04P,      96,          1,         24,         24,2,20110330,       0938,   -66.9995,  -148.0603,       4162,   464.7,   1.3096,  34.7296,2,  34.7291,2,    182.7,2,   182.9,2,  104.42,2,   32.79,2,    0.00,2,    2.28,2,-999.000,9,-999.000,9,-999.000,9,-999.0000,9,  2263.9,2,  2353.0,2,   7.5730,2,    25.00,-999.000,9,-999.0000,9,-999.000,9,   1.3096,2, -999.00,9,  -999.0,9,  -999.0,-999.000,9, -999.00,9,-999.000,9,   40.96,2,   35.20,2, -66.9989,-148.0604,-999.000,     -999.0,    34.8929,2,     -999.0,9,     -999.0,9,-999.0000,9,-999.0000,9,-999.0000,9,-999.0000,9,-999.0000,9,-999.0000,9,-999.0000,9,-999.0000,9,-999.0000,9,-999.0000,-999.000,   1.2862,     -999.0,     -999.0,9,     -999.0,9,     -999.0,9,     -999.0,9,     -999.0,20110330,       1103
320620110219,       S04P,      96,          1,         23,         23,2,20110330,       0938,   -66.9995,  -148.0603,       4162,   535.8,   1.2668,  34.7292,2,  34.7291,2,    184.6,2,   184.5,2,  106.20,2,   32.77,2,    0.00,2,    2.26,2,   0.154,2,   0.076,2,   0.011,2,   0.0130,2,  2262.7,2,  2352.9,2,   7.5745,6,    25.00,-999.000,9,-999.0000,9,-999.000,9,   1.2670,2, -999.00,9,  -999.0,9,  -999.0,-999.000,9, -999.00,9,-999.000,9,   40.71,2,   34.75,2, -66.9989,-148.0604,-999.000,     -999.0,    34.8929,2,     -999.0,9,     -999.0,9,-999.0000,9,-999.0000,9,-999.0000,9,-999.0000,9,-999.0000,9,-999.0000,9,-999.0000,9,-999.0000,9,-999.0000,9,-999.0000,-999.000,   1.2397,     -999.0,     -999.0,9,     -999.0,9,     -999.0,9,     -999.0,9,     -999.0,20110330,       1101
320620110219,       S04P,      96,          1,         22,         22,2,20110330,       0938,   -66.9995,  -148.0603,       4162,   633.1,   1.1945,  34.7277,2,  34.7274,2,    186.8,2,   186.4,2,  108.63,2,   32.73,2,    0.00,2,    2.25,2,-999.000,9,-999.000,9,-999.000,9,-999.0000,9,  2264.4,6,  2359.4,2,   7.5768,2,    25.00,-999.000,9,-999.0000,9,-999.000,9,   1.1946,2, -999.00,9,  -999.0,9,  -999.0,-999.000,9, -999.00,9,-999.000,9,   40.23,2,   35.41,2, -66.9991,-148.0604,-999.000,     -999.0,    34.8911,2,     -999.0,9,     -999.0,9,-999.0000,9,-999.0000,9,-999.0000,9,-999.0000,9,-999.0000,9,-999.0000,9,-999.0000,9,-999.0000,9,-999.0000,9,-999.0000,-999.000,   1.1623,     -999.0,     -999.0,9,     -999.0,9,     -999.0,9,     -999.0,9,     -999.0,20110330,       1059
320620110219,       S04P,      96,          1,         21,         21,2,20110330,       0938,   -66.9995,  -148.0603,       4162,   732.7,   1.1243,  34.7255,2,  34.7254,2,    189.3,2,   188.9,2,  110.40,2,   32.67,2,    0.00,2,    2.25,2,   0.107,2,   0.054,2,   0.011,2,   0.0810,2,  -999.0,9,  -999.0,9,-999.0000,9,  -999.00,-999.000,9,-999.0000,9,-999.000,9,   1.1245,2, -999.00,9,  -999.0,9,  -999.0,-999.000,9, -999.00,9,-999.000,9,   40.50,2,   35.43,2, -66.9991,-148.0604,-999.000,     -999.0,    34.8891,2,     -999.0,9,     -999.0,9,-999.0000,9,-999.0000,9,-999.0000,9,-999.0000,9,-999.0000,9,-999.0000,9,-999.0000,9,-999.0000,9,-999.0000,9,-999.0000,-999.000,   1.0868,     -999.0,     -999.0,9,     -999.0,9,     -999.0,9,     -999.0,9,     -999.0,20110330,       1056
320620110219,       S04P,      96,          1,         20,         20,2,20110330,       0938,   -66.9995,  -148.0603,       4162,   834.3,   1.0636,  34.7232,2,  34.7230,2,    192.2,2,   191.5,2,  112.25,2,   32.63,2,    0.00,2,    2.25,2,-999.000,9,-999.000,9,-999.000,9,-999.0000,9,  2263.2,2,  2359.2,6,   7.5843,2,    25.00,-999.000,9,-999.0000,9,-999.000,9,   1.0635,2, -999.00,9,  -999.0,9,  -999.0,-999.000,9, -999.00,9,-999.000,9,   40.30,2,   35.20,2, -66.9992,-148.0604,-999.000,     -999.0,    34.8868,2,     -999.0,9,     -999.0,9,-999.0000,9,-999.0000,9,-999.0000,9,-999.0000,9,-999.0000,9,-999.0000,9,-999.0000,9,-999.0000,9,-999.0000,9,-999.0000,-999.000,   1.0206,     -999.0,     -999.0,9,     -999.0,9,     -999.0,9,     -999.0,9,     -999.0,20110330,       1053
320620110219,       S04P,      96,          1,         19,         19,2,20110330,       0938,   -66.9995,  -148.0603,       4162,   933.6,   0.9981,  34.7210,2,  34.7205,2,    194.4,2,   193.9,2,  113.97,2,   32.60,2,    0.00,2,    2.25,2,   0.089,2,   0.046,2,   0.008,2,   0.0180,2,  -999.0,9,  -999.0,9,-999.0000,9,  -999.00,-999.000,9,-999.0000,9,-999.000,9,   0.9987,2, -999.00,9,  -999.0,9,  -999.0,-999.000,9, -999.00,9,-999.000,9,   40.08,2,   35.33,2, -66.9992,-148.0604,-999.000,     -999.0,    34.8842,2,     -999.0,9,     -999.0,9,-999.0000,9,-999.0000,9,-999.0000,9,-999.0000,9,-999.0000,9,-999.0000,9,-999.0000,9,-999.0000,9,-999.0000,9,-999.0000,-999.000,   0.9497,     -999.0,     -999.0,9,     -999.0,9,     -999.0,9,     -999.0,9,     -999.0,20110330,       1051
320620110219,       S04P,      96,          1,         18,         18,2,20110330,       0938,   -66.9995,  -148.0603,       4162,  1037.8,   0.9428,  34.7187,2,  34.7183,2,    196.5,2,   195.4,2,  114.57,2,   32.51,2,    0.00,2,    2.24,2,-999.000,9,-999.000,9,-999.000,9,-999.0000,9,  2262.1,2,  2359.3,2,   7.5895,2,    25.00,-999.000,9,-999.0000,9,-999.000,9,   0.9433,2, -999.00,9,  -999.0,9,  -999.0,-999.000,9, -999.00,9,-999.000,9,   39.90,2,   35.05,2, -66.9992,-148.0604,-999.000,     -999.0,    34.8820,2,     -999.0,9,     -999.0,9,-999.0000,9,-999.0000,9,-999.0000,9,-999.0000,9,-999.0000,9,-999.0000,9,-999.0000,9,-999.0000,9,-999.0000,9,-999.0000,-999.000,   0.8885,     -999.0,     -999.0,9,     -999.0,9,     -999.0,9,     -999.0,9,     -999.0,20110330,       1048
320620110219,       S04P,      96,          1,         17,         17,2,20110330,       0938,   -66.9995,  -148.0603,       4162,  1137.5,   0.8830,  34.7167,2,  34.7161,2,    198.0,2,   197.6,2,  116.90,2,   32.63,2,    0.00,2,    2.24,2,   0.072,2,   0.039,2,   0.007,2,   0.0480,2,  -999.0,9,  -999.0,9,-999.0000,9,  -999.00,-999.000,9,-999.0000,9,-999.000,9,   0.8827,2, -999.00,9,  -999.0,9,  -999.0,-999.000,9, -999.00,9,-999.000,9,   39.75,2,   35.54,2, -66.9990,-148.0604,-999.000,     -999.0,    34.8798,2,     -999.0,9,     -999.0,9,-999.0000,9,-999.0000,9,-999.0000,9,-999.0000,9,-999.0000,9,-999.0000,9,-999.0000,9,-999.0000,9,-999.0000,9,-999.0000,-999.000,   0.8231,     -999.0,     -999.0,9,     -999.0,9,     -999.0,9,     -999.0,9,     -999.0,20110330,       1045
320620110219,       S04P,      96,          1,         16,         16,2,20110330,       0938,   -66.9995,  -148.0603,       4162,  1236.4,   0.8289,  34.7141,2,  34.7138,2,    199.5,2,   199.6,2,  118.76,2,   32.63,2,    0.00,2,    2.24,2,-999.000,9,-999.000,9,-999.000,9,-999.0000,9,  2262.1,2,  2359.3,2,   7.5916,2,    25.00,-999.000,9,-999.0000,9,-999.000,9,   0.8289,2, -999.00,9,  -999.0,9,  -999.0,-999.000,9, -999.00,9,-999.000,9,   39.43,2,   34.88,2, -66.9990,-148.0604,-999.000,     -999.0,    34.8775,2,     -999.0,9,     -999.0,9,-999.0000,9,-999.0000,9,-999.0000,9,-999.0000,9,-999.0000,9,-999.0000,9,-999.0000,9,-999.0000,9,-999.0000,9,-999.0000,-999.000,   0.7633,     -999.0,     -999.0,9,     -999.0,9,     -999.0,9,     -999.0,9,     -999.0,20110330,       1043
320620110219,       S04P,      96,          1,         15,         15,2,20110330,       0938,   -66.9995,  -148.0603,       4162,  1333.8,   0.7819,  34.7123,2,  34.7120,2,    200.8,2,   201.3,2,  120.53,2,   32.58,2,    0.00,2,    2.24,2,   0.089,2,   0.041,2,   0.008,2,   0.0520,2,  -999.0,9,  -999.0,9,-999.0000,9,  -999.00,-999.000,9,-999.0000,9,-999.000,9,   0.7819,2, -999.00,9,  -999.0,9,  -999.0,-999.000,9, -999.00,9,-999.000,9,   39.64,2,   34.57,2, -66.9989,-148.0604,-999.000,     -999.0,    34.8757,2,     -999.0,9,     -999.0,9,-999.0000,9,-999.0000,9,-999.0000,9,-999.0000,9,-999.0000,9,-999.0000,9,-999.0000,9,-999.0000,9,-999.0000,9,-999.0000,-999.000,   0.7106,     -999.0,     -999.0,9,     -999.0,9,     -999.0,9,     -999.0,9,     -999.0,20110330,       1040
320620110219,       S04P,      96,          1,         14,         14,2,20110330,       0938,   -66.9995,  -148.0603,       4162,  1434.6,   0.7362,  34.7102,2,  34.7102,2,    202.0,2,   201.9,2,  121.93,2,   32.66,2,    0.00,2,    2.24,2,-999.000,9,-999.000,9,-999.000,9,-999.0000,9,  2261.0,2,  2359.5,2,   7.5943,2,    25.00,-999.000,9,-999.0000,9,-999.000,9,   0.7363,2, -999.00,9,  -999.0,9,  -999.0,-999.000,9, -999.00,9,-999.000,9,   40.14,2,   35.39,2, -66.9989,-148.0604,-999.000,     -999.0,    34.8739,2,     -999.0,9,     -999.0,9,-999.0000,9,-999.0000,9,-999.0000,9,-999.0000,9,-999.0000,9,-999.0000,9,-999.0000,9,-999.0000,9,-999.0000,9,-999.0000,-999.000,   0.6588,     -999.0,     -999.0,9,     -999.0,9,     -999.0,9,     -999.0,9,     -999.0,20110330,       1038