BOTTLE,20220813CCHSIOAMB
EXPOCODE,SECT_ID,STNNBR,CASTNO,SAMPNO,BTLNBR,BTLNBR_FLAG_W,DATE,TIME,LATITUDE,LONGITUDE,DEPTH,CTDPRS,CTDTMP,CTDSAL,CTDSAL_FLAG_W,SALNTY,SALNTY_FLAG_W,CTDOXY,CTDOXY_FLAG_W,OXYGEN,OXYGEN_FLAG_W,SILCAT,SILCAT_FLAG_W,NITRAT,NITRAT_FLAG_W,NITRIT,NITRIT_FLAG_W,PHSPHT,PHSPHT_FLAG_W,CFC-11,CFC-11_FLAG_W,CFC-12,CFC-12_FLAG_W,CFC113,CFC113_FLAG_W,SF6,SF6_FLAG_W,TCARBN,TCARBN_FLAG_W,ALKALI,ALKALI_FLAG_W,PH_TOT,PH_TOT_FLAG_W,PH_TMP,TRITUM,TRITUM_FLAG_W,HELIUM,HELIUM_FLAG_W,DELHE3,DELHE3_FLAG_W,REFTMP,REFTMP_FLAG_W,DELC13,DELC13_FLAG_W,DELC14,DELC14_FLAG_W,C14ERR,NEON,NEON_FLAG_W,DELO18,DELO18_FLAG_W,POC,POC_FLAG_W,DOC,DOC_FLAG_W,TDN,TDN_FLAG_W,BTL_LAT,BTL_LON,TRITER,NEONER,SALTREF,SALTREF_FLAG_W,PIGMENTS,PIGMENTS_FLAG_W,LAB_DEN,LAB_DEN_FLAG_W,CDOM325,CDOM325_FLAG_W,CDOM340,CDOM340_FLAG_W,CDOM380,CDOM380_FLAG_W,CDOM412,CDOM412_FLAG_W,CDOM443,CDOM443_FLAG_W,CDOM490,CDOM490_FLAG_W,CDOM555,CDOM555_FLAG_W,CDOMSL,CDOMSL_FLAG_W,CDOMSN,CDOMSN_FLAG_W,HELIER,DELHER,THETA,LDEO_SAMPNO,ABSORBTION,ABSORBTION_FLAG_W,IMAGE_COUNT,IMAGE_COUNT_FLAG_W,CYTO_COUNT,CYTO_COUNT_FLAG_W,DELD,DELD_FLAG_W,DELDERR,BTL_DATE,BTL_TIME
,,,,,,,,,,,METERS,DBAR,ITS-90,PSS-78,,PSS-78,,UMOL/KG,,UMOL/KG,,UMOL/KG,,UMOL/KG,,UMOL/KG,,UMOL/KG,,PMOL/KG,,PMOL/KG,,PMOL/KG,,FMOL/KG,,UMOL/KG,,UMOL/KG,,,,DEG C,TU,,NMOL/KG,,PERCNT,,DEG C,,/MILLE,,/MILLE,,/MILLE,NMOL/KG,,/MILLE,,UG/KG,,UMOL/KG,,UMOL/KG,,,,TU,NMOL/KG,G/KG,,,,,,1/M,,1/M,,1/M,,1/M,,1/M,,1/M,,1/M,,1/NM,,1/NM,,NMOL/KG,PERCNT,DEG C,,,,,,,,/MILLE,,/MILLE,,
320620110219,       P16S,      61,          1,         36,         36,2,20110316,       0406,   -74.9595,  -150.0070,       3765,     2.7,  -1.7297,  33.3613,2,  33.3618,2,    350.4,3,   355.1,2,   42.01,2,   21.24,2,    0.20,2,    1.26,2,   6.204,2,   3.365,2,   0.589,2,-999.0000,9,  2122.1,6,  2264.6,6,   7.7370,2,    25.00,-999.000,9,-999.0000,9,-999.000,9,  -1.7305,2, -999.00,9,  -999.0,9,  -999.0,-999.000,9, -999.00,9,-999.000,9, -999.00,9, -999.00,9, -74.9595,-150.0070,-999.000,     -999.0,    33.5191,2,     -999.0,1,     -999.0,9,-999.0000,9,-999.0000,9,-999.0000,9,-999.0000,9,-999.0000,9,-999.0000,9,-999.0000,9,-999.0000,9,-999.0000,9,-999.0000,-999.000,  -1.7297,     -999.0,     -999.0,9,     -999.0,9,     -999.0,9,     -999.0,9,     -999.0,20110316,       0541
320620110219,       P16S,      61,          1,         35,         35,2,20110316,       0406,   -74.9595,  -150.0070,       3765,    34.5,  -1.7546,  33.3798,2,  33.3864,2,    352.3,2,   352.1,2,   43.66,2,   21.60,2,    0.19,2,    1.33,2,   6.100,2,   3.290,2,   0.574,2,-999.0000,9,  2126.6,2,  2266.2,2,   7.7296,2,    25.00,-999.000,9,-999.0000,9,-999.000,9,  -1.7548,2, -999.00,9,  -999.0,9,  -999.0,-999.000,9, -999.00,9,-999.000,1, -999.00,9, -999.00,9, -74.9595,-150.0070,-999.000,     -999.0,    33.5438,2,     -999.0,1,     -999.0,9,-999.0000,9,-999.0000,9,-999.0000,9,-999.0000,9,-999.0000,9,-999.0000,9,-999.0000,9,-999.0000,9,-999.0000,9,-999.0000,-999.000,  -1.7552,     -999.0,     -999.0,9,     -999.0,9,     -999.0,9,     -999.0,9,     -999.0,20110316,       0540
320620110219,       P16S,      61,          1,         34,         34,2,20110316,       0406,   -74.9595,  -150.0070,       3765,    59.9,  -1.6027,  33.9754,2,  33.9802,2,    301.4,2,   299.5,2,   74.02,2,   28.83,2,    0.14,2,    2.11,2,   4.553,2,   2.481,2,   0.417,2,-999.0000,9,  2199.9,2,  2301.9,2,   7.6132,2,    25.00,-999.000,9,-999.0000,9,-999.000,9,  -1.6036,2, -999.00,9,  -999.0,9,  -999.0,-999.000,9, -999.00,9,-999.000,1, -999.00,9, -999.00,9, -74.9595,-150.0070,-999.000,     -999.0,    34.1404,2,     -999.0,1,     -999.0,9,-999.0000,9,-999.0000,9,-999.0000,9,-999.0000,9,-999.0000,9,-999.0000,9,-999.0000,9,-999.0000,9,-999.0000,9,-999.0000,-999.000,  -1.6039,     -999.0,     -999.0,9,     -999.0,9,     -999.0,9,     -999.0,9,     -999.0,20110316,       0539
320620110219,       P16S,      61,          1,         33,         33,2,20110316,       0406,   -74.9595,  -150.0070,       3765,    84.3,  -1.7031,  34.0506,2,  34.0563,2,    294.3,2,   293.1,2,   77.05,2,   29.49,2,    0.19,2,    2.09,2,   4.287,2,   2.348,2,   0.395,2,-999.0000,9,  2207.6,2,  2305.7,2,   7.6024,2,    25.00,-999.000,9,-999.0000,9,-999.000,9,  -1.7034,2, -999.00,9,  -999.0,9,  -999.0,-999.000,9, -999.00,9,-999.000,1, -999.00,9, -999.00,9, -74.9595,-150.0070,-999.000,     -999.0,    34.2169,2,     -999.0,1,     -999.0,9,-999.0000,9,-999.0000,9,-999.0000,9,-999.0000,9,-999.0000,9,-999.0000,9,-999.0000,9,-999.0000,9,-999.0000,9,-999.0000,-999.000,  -1.7048,     -999.0,     -999.0,9,     -999.0,9,     -999.0,9,     -999.0,9,     -999.0,20110316,       0537
320620110219,       P16S,      61,          1,         32,         32,2,20110316,       0406,   -74.9595,  -150.0070,       3765,   110.2,  -1.7264,  34.0746,2,  34.0757,2,    288.5,2,   288.8,2,   77.89,2,   29.81,2,    0.22,2,    2.09,2,   4.267,2,   2.341,2,   0.391,2,-999.0000,9,  2209.4,2,  2306.9,2,   7.5989,2,    25.00,-999.000,9,-999.0000,9,-999.000,9,  -1.7266,2, -999.00,9,  -999.0,9,  -999.0,-999.000,9, -999.00,9,-999.000,9, -999.00,9, -999.00,9, -74.9595,-150.0070,-999.000,     -999.0,    34.2363,2,     -999.0,9,     -999.0,9,-999.0000,9,-999.0000,9,-999.0000,9,-999.0000,9,-999.0000,9,-999.0000,9,-999.0000,9,-999.0000,9,-999.0000,9,-999.0000,-999.000,  -1.7286,     -999.0,     -999.0,9,     -999.0,9,     -999.0,9,     -999.0,9,     -999.0,20110316,       0536
320620110219,       P16S,      61,          1,         31,         31,2,20110316,       0406,   -74.9595,  -150.0070,       3765,   134.3,  -1.7117,  34.0971,2,  34.0980,2,    283.1,2,   282.8,2,   79.31,2,   30.31,2,    0.18,2,    2.10,2,   4.121,2,   2.246,2,   0.383,2,-999.0000,9,  2213.4,2,  2308.6,2,   7.5941,2,    25.00,-999.000,9,-999.0000,9,-999.000,9,  -1.7115,2, -999.00,9,  -999.0,9,  -999.0,-999.000,9, -999.00,9,-999.000,9, -999.00,9, -999.00,9, -74.9595,-150.0070,-999.000,     -999.0,    34.2587,2,     -999.0,9,     -999.0,9,-999.0000,9,-999.0000,9,-999.0000,9,-999.0000,9,-999.0000,9,-999.0000,9,-999.0000,9,-999.0000,9,-999.0000,9,-999.0000,-999.000,  -1.7145,     -999.0,     -999.0,9,     -999.0,9,     -999.0,9,     -999.0,9,     -999.0,20110316,       0535
320620110219,       P16S,      61,          1,         30,         30,2,20110316,       0406,   -74.9595,  -150.0070,       3765,   165.1,  -1.7009,  34.1124,2,  34.1118,2,    279.4,2,   280.7,2,   79.72,2,   30.39,2,    0.05,2,    2.10,2,   4.072,2,   2.207,2,   0.364,2,-999.0000,9,  2213.2,2,  2309.7,2,   7.5933,6,    25.00,-999.000,9,-999.0000,9,-999.000,9,  -1.7005,2, -999.00,9,  -999.0,9,  -999.0,-999.000,9, -999.00,9,-999.000,9, -999.00,9, -999.00,9, -74.9595,-150.0070,-999.000,     -999.0,    34.2727,2,     -999.0,9,     -999.0,9,-999.0000,9,-999.0000,9,-999.0000,9,-999.0000,9,-999.0000,9,-999.0000,9,-999.0000,9,-999.0000,9,-999.0000,9,-999.0000,-999.000,  -1.7044,     -999.0,     -999.0,9,     -999.0,9,     -999.0,9,     -999.0,9,     -999.0,20110316,       0533
320620110219,       P16S,      61,          1,         29,         29,2,20110316,       0406,   -74.9595,  -150.0070,       3765,   215.0,  -1.3292,  34.1606,2,  34.1618,2,    270.8,2,   268.5,2,   78.85,2,   30.87,2,    0.02,2,    2.14,2,   3.703,2,   2.006,2,   0.335,2,-999.0000,9,  2217.7,2,  2311.9,2,   7.5777,2,    25.00,-999.000,9,-999.0000,9,-999.000,9,  -1.3506,2, -999.00,9,  -999.0,9,  -999.0,-999.000,9, -999.00,9,-999.000,9, -999.00,9, -999.00,9, -74.9595,-150.0070,-999.000,     -999.0,    34.3228,2,     -999.0,9,     -999.0,9,-999.0000,9,-999.0000,9,-999.0000,9,-999.0000,9,-999.0000,9,-999.0000,9,-999.0000,9,-999.0000,9,-999.0000,9,-999.0000,-999.000,  -1.3345,     -999.0,     -999.0,9,     -999.0,9,     -999.0,9,     -999.0,9,     -999.0,20110316,       0531
320620110219,       P16S,      61,          1,         28,         28,2,20110316,       0406,   -74.9595,  -150.0070,       3765,   265.2,  -0.6220,  34.2627,2,  34.2665,2,    250.9,2,   245.0,2,   81.02,2,   31.52,2,    0.01,2,    2.19,2,-999.000,9,-999.000,9,-999.000,9,-999.0000,9,  2226.9,2,  2317.7,2,   7.5765,2,    25.00,-999.000,9,-999.0000,9,-999.000,9,  -0.6209,2, -999.00,9,  -999.0,9,  -999.0,-999.000,9, -999.00,9,-999.000,9, -999.00,9, -999.00,9, -74.9595,-150.0070,-999.000,     -999.0,    34.4281,2,     -999.0,9,     -999.0,9,-999.0000,9,-999.0000,9,-999.0000,9,-999.0000,9,-999.0000,9,-999.0000,9,-999.0000,9,-999.0000,9,-999.0000,9,-999.0000,-999.000,  -0.6304,     -999.0,     -999.0,9,     -999.0,9,     -999.0,9,     -999.0,9,     -999.0,20110316,       0530
320620110219,       P16S,      61,          1,         27,         27,2,20110316,       0406,   -74.9595,  -150.0070,       3765,   314.9,   0.5885,  34.4523,2,  34.4530,2,    220.3,2,   212.9,2,   81.63,2,   32.40,2,    0.00,2,    2.25,2,   1.871,2,   1.014,2,   0.152,2,-999.0000,9,  2240.6,2,  2328.3,2,   7.5623,2,    25.00,-999.000,9,-999.0000,9,-999.000,9,   0.5882,2, -999.00,9,  -999.0,9,  -999.0,-999.000,9, -999.00,9,-999.000,9, -999.00,9, -999.00,9, -74.9595,-150.0070,-999.000,     -999.0,    34.6155,2,     -999.0,9,     -999.0,9,-999.0000,9,-999.0000,9,-999.0000,9,-999.0000,9,-999.0000,9,-999.0000,9,-999.0000,9,-999.0000,9,-999.0000,9,-999.0000,-999.000,   0.5751,     -999.0,     -999.0,9,     -999.0,9,     -999.0,9,     -999.0,9,     -999.0,20110316,       0528
320620110219,       P16S,      61,          1,         26,         26,2,20110316,       0406,   -74.9595,  -150.0070,       3765,   365.7,   1.4591,  34.6107,2,  34.6113,2,    199.9,2,   187.1,2,   84.73,2,   32.77,2,    0.00,2,    2.27,2,-999.000,9,-999.000,9,-999.000,9,-999.0000,9,  2252.7,2,  2336.9,2,   7.5574,2,    25.00,-999.000,9,-999.0000,9,-999.000,9,   1.4591,2, -999.00,9,  -999.0,9,  -999.0,-999.000,9, -999.00,9,-999.000,9, -999.00,9, -999.00,9, -74.9595,-150.0070,-999.000,     -999.0,    34.7745,2,     -999.0,9,     -999.0,9,-999.0000,9,-999.0000,9,-999.0000,9,-999.0000,9,-999.0000,9,-999.0000,9,-999.0000,9,-999.0000,9,-999.0000,9,-999.0000,-999.000,   1.4406,     -999.0,     -999.0,9,     -999.0,9,     -999.0,9,     -999.0,9,     -999.0,20110316,       0526
320620110219,       P16S,      61,          1,         25,         25,2,20110316,       0406,   -74.9595,  -150.0070,       3765,   415.1,   1.5361,  34.6599,2,  34.6599,2,    185.3,2,   185.9,2,   88.11,2,   32.25,2,    0.00,2,    2.24,2,   0.643,2,   0.331,2,   0.052,2,-999.0000,9,  2253.0,2,  2342.5,2,   7.5672,2,    25.00,-999.000,9,-999.0000,9,-999.000,9,   1.5360,2, -999.00,9,  -999.0,9,  -999.0,-999.000,9, -999.00,9,-999.000,9, -999.00,9, -999.00,9, -74.9595,-150.0070,-999.000,     -999.0,    34.8234,2,     -999.0,9,     -999.0,9,-999.0000,9,-999.0000,9,-999.0000,9,-999.0000,9,-999.0000,9,-999.0000,9,-999.0000,9,-999.0000,9,-999.0000,9,-999.0000,-999.000,   1.5146,     -999.0,     -999.0,9,     -999.0,9,     -999.0,9,     -999.0,9,     -999.0,20110316,       0525
320620110219,       P16S,      61,          1,         24,         24,2,20110316,       0406,   -74.9595,  -150.0070,       3765,   465.2,   1.6173,  34.6987,2,  34.7000,2,    185.3,2,   184.9,2,   90.45,2,   31.96,2,    0.00,2,    2.22,2,-999.000,9,-999.000,9,-999.000,9,-999.0000,9,  2253.5,2,  2346.2,2,   7.5731,2,    25.00,-999.000,9,-999.0000,9,-999.000,9,   1.6178,2, -999.00,9,  -999.0,9,  -999.0,-999.000,9, -999.00,9,-999.000,9, -999.00,9, -999.00,9, -74.9595,-150.0070,-999.000,     -999.0,    34.8636,2,     -999.0,9,     -999.0,9,-999.0000,9,-999.0000,9,-999.0000,9,-999.0000,9,-999.0000,9,-999.0000,9,-999.0000,9,-999.0000,9,-999.0000,9,-999.0000,-999.000,   1.5927,     -999.0,     -999.0,9,     -999.0,9,     -999.0,9,     -999.0,9,     -999.0,20110316,       0523
320620110219,       P16S,      61,          1,         23,         23,2,20110316,       0406,   -74.9595,  -150.0070,       3765,   534.8,   1.6021,  34.7213,2,  34.7219,2,    187.0,2,   186.4,2,   93.63,2,   31.71,2,    0.00,2,    2.20,2,   0.291,2,   0.139,2,   0.019,2,-999.0000,9,  2255.1,2,  2349.6,2,   7.5807,2,    25.00,-999.000,9,-999.0000,9,-999.000,9,   1.6018,2, -999.00,9,  -999.0,9,  -999.0,-999.000,9, -999.00,9,-999.000,9, -999.00,9, -999.00,9, -74.9595,-150.0070,-999.000,     -999.0,    34.8857,2,     -999.0,9,     -999.0,9,-999.0000,9,-999.0000,9,-999.0000,9,-999.0000,9,-999.0000,9,-999.0000,9,-999.0000,9,-999.0000,9,-999.0000,9,-999.0000,-999.000,   1.5736,     -999.0,     -999.0,9,     -999.0,9,     -999.0,9,     -999.0,9,     -999.0,20110316,       0521
320620110219,       P16S,      61,          1,         22,         22,2,20110316,       0406,   -74.9595,  -150.0070,       3765,   634.1,   1.5140,  34.7301,2,  34.7315,2,    189.2,2,   190.4,2,   96.19,2,   31.46,2,    0.00,2,    2.19,2,-999.000,9,-999.000,9,-999.000,9,-999.0000,9,  2254.4,2,  2351.5,2,   7.5879,2,    25.00,-999.000,9,-999.0000,9,-999.000,9,   1.5140,2, -999.00,9,  -999.0,9,  -999.0,-999.000,9, -999.00,9,-999.000,9, -999.00,9, -999.00,9, -74.9595,-150.0070,-999.000,     -999.0,    34.8953,2,     -999.0,9,     -999.0,9,-999.0000,9,-999.0000,9,-999.0000,9,-999.0000,9,-999.0000,9,-999.0000,9,-999.0000,9,-999.0000,9,-999.0000,9,-999.0000,-999.000,   1.4801,     -999.0,     -999.0,9,     -999.0,9,     -999.0,9,     -999.0,9,     -999.0,20110316,       0518
320620110219,       P16S,      61,          1,         21,         21,2,20110316,       0406,   -74.9595,  -150.0070,       3765,   734.8,   1.3950,  34.7300,2,  34.7304,2,    190.7,2,   191.0,2,  100.90,2,   31.49,2,    0.00,2,    2.22,2,   0.183,2,   0.089,2,   0.011,2,-999.0000,9,  -999.0,9,  -999.0,9,-999.0000,9,  -999.00,-999.000,9,-999.0000,9,-999.000,9,   1.3949,2, -999.00,9,  -999.0,9,  -999.0,-999.000,9, -999.00,9,-999.000,9, -999.00,9, -999.00,9, -74.9595,-150.0070,-999.000,     -999.0,    34.8941,2,     -999.0,9,     -999.0,9,-999.0000,9,-999.0000,9,-999.0000,9,-999.0000,9,-999.0000,9,-999.0000,9,-999.0000,9,-999.0000,9,-999.0000,9,-999.0000,-999.000,   1.3558,     -999.0,     -999.0,9,     -999.0,9,     -999.0,9,     -999.0,9,     -999.0,20110316,       0516
320620110219,       P16S,      61,          1,         20,         20,2,20110316,       0406,   -74.9595,  -150.0070,       3765,   834.1,   1.2991,  34.7284,2,  34.7290,2,    192.0,2,   192.6,2,  104.30,2,   31.61,2,    0.00,2,    2.22,2,-999.000,9,-999.000,9,-999.000,9,-999.0000,9,  2257.9,2,  2355.3,2,   7.5863,6,    25.00,-999.000,9,-999.0000,9,-999.000,9,   1.2988,2, -999.00,9,  -999.0,9,  -999.0,-999.000,9, -999.00,9,-999.000,9, -999.00,9, -999.00,9, -74.9595,-150.0070,-999.000,     -999.0,    34.8928,2,     -999.0,9,     -999.0,9,-999.0000,9,-999.0000,9,-999.0000,9,-999.0000,9,-999.0000,9,-999.0000,9,-999.0000,9,-999.0000,9,-999.0000,9,-999.0000,-999.000,   1.2545,     -999.0,     -999.0,9,     -999.0,9,     -999.0,9,     -999.0,9,     -999.0,20110316,       0513
320620110219,       P16S,      61,          1,         19,         19,2,20110316,       0406,   -74.9595,  -150.0070,       3765,   934.5,   1.2144,  34.7265,2,  34.7268,2,    193.4,2,   193.5,2,  107.11,2,   31.58,2,    0.00,2,    2.22,2,   0.130,2,   0.064,2,   0.008,2,-999.0000,9,  -999.0,9,  -999.0,9,-999.0000,9,  -999.00,-999.000,9,-999.0000,9,-999.000,9,   1.2143,2, -999.00,9,  -999.0,9,  -999.0,-999.000,9, -999.00,9,-999.000,9, -999.00,9, -999.00,9, -74.9595,-150.0070,-999.000,     -999.0,    34.8906,2,     -999.0,9,     -999.0,9,-999.0000,9,-999.0000,9,-999.0000,9,-999.0000,9,-999.0000,9,-999.0000,9,-999.0000,9,-999.0000,9,-999.0000,9,-999.0000,-999.000,   1.1643,     -999.0,     -999.0,9,     -999.0,9,     -999.0,9,     -999.0,9,     -999.0,20110316,       0511
320620110219,       P16S,      61,          1,         18,         18,2,20110316,       0406,   -74.9595,  -150.0070,       3765,  1034.7,   1.1458,  34.7245,2,  34.7257,2,    195.1,2,   194.3,2,  109.06,2,   31.62,2,    0.00,2,    2.24,2,-999.000,9,-999.000,9,-999.000,9,-999.0000,9,  2259.1,2,  2357.3,6,   7.5884,2,    25.00,-999.000,9,-999.0000,9,-999.000,9,   1.1455,2, -999.00,9,  -999.0,9,  -999.0,-999.000,9, -999.00,9,-999.000,9, -999.00,9, -999.00,9, -74.9595,-150.0070,-999.000,     -999.0,    34.8894,2,     -999.0,9,     -999.0,9,-999.0000,9,-999.0000,9,-999.0000,9,-999.0000,9,-999.0000,9,-999.0000,9,-999.0000,9,-999.0000,9,-999.0000,9,-999.0000,-999.000,   1.0900,     -999.0,     -999.0,9,     -999.0,9,     -999.0,9,     -999.0,9,     -999.0,20110316,       0509
320620110219,       P16S,      61,          1,         17,         17,2,20110316,       0406,   -74.9595,  -150.0070,       3765,  1134.6,   1.0822,  34.7225,2,  34.7225,2,    196.2,2,   195.6,2,  111.41,2,   31.76,2,    0.00,2,    2.24,2,   0.112,2,   0.055,2,   0.008,2,-999.0000,9,  -999.0,9,  -999.0,9,-999.0000,9,  -999.00,-999.000,9,-999.0000,9,-999.000,9,   1.0820,2, -999.00,9,  -999.0,9,  -999.0,-999.000,9, -999.00,9,-999.000,9, -999.00,9, -999.00,9, -74.9595,-150.0070,-999.000,     -999.0,    34.8863,2,     -999.0,9,     -999.0,9,-999.0000,9,-999.0000,9,-999.0000,9,-999.0000,9,-999.0000,9,-999.0000,9,-999.0000,9,-999.0000,9,-999.0000,9,-999.0000,-999.000,   1.0207,     -999.0,     -999.0,9,     -999.0,9,     -999.0,9,     -999.0,9,     -999.0,20110316,       0506
320620110219,       P16S,      61,          1,         16,         16,2,20110316,       0406,   -74.9595,  -150.0070,       3765,  1234.6,   1.0247,  34.7205,2,  34.7214,2,    197.7,2,   197.5,2,  112.74,2,   31.82,2,    0.00,2,    2.23,2,-999.000,9,-999.000,9,-999.000,9,-999.0000,9,  -999.0,9,  -999.0,9,-999.0000,9,  -999.00,-999.000,9,-999.0000,9,-999.000,9,   1.0245,2, -999.00,9,  -999.0,9,  -999.0,-999.000,9, -999.00,9,-999.000,9, -999.00,9, -999.00,9, -74.9595,-150.0070,-999.000,     -999.0,    34.8851,2,     -999.0,9,     -999.0,9,-999.0000,9,-999.0000,9,-999.0000,9,-999.0000,9,-999.0000,9,-999.0000,9,-999.0000,9,-999.0000,9,-999.0000,9,-999.0000,-999.000,   0.9573,     -999.0,     -999.0,9,     -999.0,9,     -999.0,9,     -999.0,9,     -999.0,20110316,       0503
320620110219,       P16S,      61,          1,         15,         15,2,20110316,       0406,   -74.9595,  -150.0070,       3765,  1334.1,   0.9728,  34.7186,2,  34.7200,2,    198.6,2,   199.0,2,  114.39,2,   31.90,2,    0.00,2,    2.24,2,   0.112,2,   0.051,2,   0.010,2,-999.0000,9,  -999.0,9,  -999.0,9,-999.0000,9,  -999.00,-999.000,9,-999.0000,9,-999.000,9,   0.9733,2, -999.00,9,  -999.0,9,  -999.0,-999.000,9, -999.00,9,-999.000,9, -999.00,9, -999.00,9, -74.9595,-150.0070,-999.000,     -999.0,    34.8837,2,     -999.0,9,     -999.0,9,-999.0000,9,-999.0000,9,-999.0000,9,-999.0000,9,-999.0000,9,-999.0000,9,-999.0000,9,-999.0000,9,-999.0000,9,-999.0000,-999.000,   0.8994,     -999.0,     -999.0,9,     -999.0,9,     -999.0,9,     -999.0,9,     -999.0,20110316,       0501
320620110219,       P16S,      61,          1,         14,         14,2,20110316,       0406,   -74.9595,  -150.0070,       3765,  1434.9,   0.9224,  34.7167,2,  34.7194,2,    199.8,2,   199.5,2,  115.85,2,   32.00,2,    0.00,2,    2.24,2,   0.150,2,   0.071,2,   0.011,2,-999.0000,9,  2260.3,6,  2359.8,2,   7.5933,2,    25.00,-999.000,9,-999.0000,9,-999.000,9,   0.9221,2, -999.00,9,  -999.0,9,  -999.0,-999.000,9, -999.00,9,-999.000,9, -999.00,9, -999.00,9, -74.9595,-150.0070,-999.000,     -999.0,    34.8831,2,     -999.0,9,     -999.0,9,-999.0000,9,-999.0000,9,-999.0000,9,-999.0000,9,-999.0000,9,-999.0000,9,-999.0000,9,-999.0000,9,-999.0000,9,-999.0000,-999.000,   0.8428,     -999.0,     -999.0,9,     -999.0,9,     -999.0,9,     -999.0,9,     -999.0,20110316,       0458