BOTTLE,20220813CCHSIOAMB
EXPOCODE,SECT_ID,STNNBR,CASTNO,SAMPNO,BTLNBR,BTLNBR_FLAG_W,DATE,TIME,LATITUDE,LONGITUDE,DEPTH,CTDPRS,CTDTMP,CTDSAL,CTDSAL_FLAG_W,SALNTY,SALNTY_FLAG_W,CTDOXY,CTDOXY_FLAG_W,OXYGEN,OXYGEN_FLAG_W,SILCAT,SILCAT_FLAG_W,NITRAT,NITRAT_FLAG_W,NITRIT,NITRIT_FLAG_W,PHSPHT,PHSPHT_FLAG_W,CFC-11,CFC-11_FLAG_W,CFC-12,CFC-12_FLAG_W,CFC113,CFC113_FLAG_W,SF6,SF6_FLAG_W,TCARBN,TCARBN_FLAG_W,ALKALI,ALKALI_FLAG_W,PH_TOT,PH_TOT_FLAG_W,PH_TMP,TRITUM,TRITUM_FLAG_W,HELIUM,HELIUM_FLAG_W,DELHE3,DELHE3_FLAG_W,REFTMP,REFTMP_FLAG_W,DELC13,DELC13_FLAG_W,DELC14,DELC14_FLAG_W,C14ERR,NEON,NEON_FLAG_W,DELO18,DELO18_FLAG_W,POC,POC_FLAG_W,DOC,DOC_FLAG_W,TDN,TDN_FLAG_W,BTL_LAT,BTL_LON,TRITER,NEONER,SALTREF,SALTREF_FLAG_W,PIGMENTS,PIGMENTS_FLAG_W,LAB_DEN,LAB_DEN_FLAG_W,CDOM325,CDOM325_FLAG_W,CDOM340,CDOM340_FLAG_W,CDOM380,CDOM380_FLAG_W,CDOM412,CDOM412_FLAG_W,CDOM443,CDOM443_FLAG_W,CDOM490,CDOM490_FLAG_W,CDOM555,CDOM555_FLAG_W,CDOMSL,CDOMSL_FLAG_W,CDOMSN,CDOMSN_FLAG_W,HELIER,DELHER,THETA,LDEO_SAMPNO,ABSORBTION,ABSORBTION_FLAG_W,IMAGE_COUNT,IMAGE_COUNT_FLAG_W,CYTO_COUNT,CYTO_COUNT_FLAG_W,DELD,DELD_FLAG_W,DELDERR,BTL_DATE,BTL_TIME
,,,,,,,,,,,METERS,DBAR,ITS-90,PSS-78,,PSS-78,,UMOL/KG,,UMOL/KG,,UMOL/KG,,UMOL/KG,,UMOL/KG,,UMOL/KG,,PMOL/KG,,PMOL/KG,,PMOL/KG,,FMOL/KG,,UMOL/KG,,UMOL/KG,,,,DEG C,TU,,NMOL/KG,,PERCNT,,DEG C,,/MILLE,,/MILLE,,/MILLE,NMOL/KG,,/MILLE,,UG/KG,,UMOL/KG,,UMOL/KG,,,,TU,NMOL/KG,G/KG,,,,,,1/M,,1/M,,1/M,,1/M,,1/M,,1/M,,1/M,,1/NM,,1/NM,,NMOL/KG,PERCNT,DEG C,,,,,,,,/MILLE,,/MILLE,,
320620110219,       S04P,     100,          1,         13,         13,2,20110331,       2146,   -67.0000,  -140.4061,       4318,  1563.5,   0.9251,  34.7165,2,  34.7159,2,    200.0,2,   200.3,2,  115.15,2,   32.12,2,    0.00,2,    2.22,2,-999.000,9,-999.000,9,-999.000,9,-999.0000,9,  -999.0,9,  -999.0,9,-999.0000,9,  -999.00,-999.000,9,-999.0000,9,-999.000,9,   0.9254,2, -999.00,9,  -999.0,9,  -999.0,-999.000,9, -999.00,9,-999.000,9,   40.03,2,   34.64,2, -67.0001,-140.4061,-999.000,     -999.0,    34.8796,2,     -999.0,9,     -999.0,9,   0.0617,3,   0.0219,3,  -0.0173,4,  -0.0214,4,  -0.0271,4,  -0.0212,4,  -0.0181,4,   0.1003,3,   0.0764,4,-999.0000,-999.000,   0.8367,     -999.0,     -999.0,9,     -999.0,9,     -999.0,9,     -999.0,9,     -999.0,20110331,       2246
320620110219,       S04P,     100,          1,         12,         12,2,20110331,       2146,   -67.0000,  -140.4061,       4318,  1734.5,   0.8489,  34.7134,2,  34.7130,2,    201.4,2,   201.5,2,  118.03,2,   32.15,2,    0.00,2,    2.22,2,   0.124,2,   0.064,2,   0.005,2,   0.0170,2,  2261.5,2,  2360.3,2,   7.5967,2,    25.00,-999.000,9,-999.0000,9,-999.000,9,   0.8500,2, -999.00,9,  -999.0,9,  -999.0,-999.000,9, -999.00,9,-999.000,9,   39.53,2,   34.58,2, -67.0001,-140.4061,-999.000,     -999.0,    34.8767,2,     -999.0,9,     -999.0,9,-999.0000,9,-999.0000,9,-999.0000,9,-999.0000,9,-999.0000,9,-999.0000,9,-999.0000,9,-999.0000,9,-999.0000,9,-999.0000,-999.000,   0.7494,     -999.0,     -999.0,9,     -999.0,9,     -999.0,9,     -999.0,9,     -999.0,20110331,       2242
320620110219,       S04P,     100,          1,         11,         11,2,20110331,       2146,   -67.0000,  -140.4061,       4318,  1934.7,   0.7671,  34.7102,2,  34.7096,2,    202.3,2,   202.0,2,  121.41,2,   32.40,2,    0.00,2,    2.23,2,-999.000,9,-999.000,9,-999.000,9,-999.0000,9,  -999.0,9,  -999.0,9,-999.0000,9,  -999.00,-999.000,9,-999.0000,9,-999.000,9,   0.7673,2, -999.00,9,  -999.0,9,  -999.0,-999.000,9, -999.00,9,-999.000,9,   39.63,2,   34.59,2, -67.0001,-140.4061,-999.000,     -999.0,    34.8733,2,     -999.0,9,     -999.0,9,-999.0000,9,-999.0000,9,-999.0000,9,-999.0000,9,-999.0000,9,-999.0000,9,-999.0000,9,-999.0000,9,-999.0000,9,-999.0000,-999.000,   0.6542,     -999.0,     -999.0,9,     -999.0,9,     -999.0,9,     -999.0,9,     -999.0,20110331,       2238
320620110219,       S04P,     100,          1,         10,         37,2,20110331,       2146,   -67.0000,  -140.4061,       4318,  2165.0,   0.6951,  34.7078,2,  34.7071,2,    204.6,2,   204.4,2,  123.59,2,   32.45,2,    0.00,2,    2.23,2,-999.000,9,-999.000,9,-999.000,9,-999.0000,9,  -999.0,9,  -999.0,9,-999.0000,9,  -999.00,-999.000,9,-999.0000,9,-999.000,9,   0.6955,2, -999.00,9,  -999.0,9,  -999.0,-999.000,9, -999.00,9,-999.000,9,   39.51,2,   34.62,2, -67.0001,-140.4061,-999.000,     -999.0,    34.8707,2,     -999.0,9,     -999.0,9,   0.0613,3,   0.0219,3,  -0.0161,4,  -0.0212,4,  -0.0269,4,  -0.0211,4,  -0.0181,4,   0.1225,4,   0.0772,4,-999.0000,-999.000,   0.5659,     -999.0,     -999.0,9,     -999.0,9,     -999.0,9,     -999.0,9,     -999.0,20110331,       2233
320620110219,       S04P,     100,          1,          9,          9,2,20110331,       2146,   -67.0000,  -140.4061,       4318,  2413.6,   0.5915,  34.7054,2,  34.7047,2,    206.5,2,   206.3,2,  125.52,2,   32.51,2,    0.00,2,    2.24,2,-999.000,9,-999.000,9,-999.000,9,-999.0000,9,  2261.3,2,  2361.3,2,   7.5957,2,    25.00,-999.000,9,-999.0000,9,-999.000,9,   0.5916,2, -999.00,9,  -999.0,9,  -999.0,-999.000,9, -999.00,9,-999.000,9,   39.78,2,   34.92,2, -67.0001,-140.4061,-999.000,     -999.0,    34.8684,2,     -999.0,9,     -999.0,9,-999.0000,9,-999.0000,9,-999.0000,9,-999.0000,9,-999.0000,9,-999.0000,9,-999.0000,9,-999.0000,9,-999.0000,9,-999.0000,-999.000,   0.4445,     -999.0,     -999.0,9,     -999.0,9,     -999.0,9,     -999.0,9,     -999.0,20110331,       2227
320620110219,       S04P,     100,          1,          8,          8,2,20110331,       2146,   -67.0000,  -140.4061,       4318,  2665.2,   0.5047,  34.7042,2,  34.7037,2,    208.6,2,   208.5,2,  127.35,2,   32.62,2,    0.00,2,    2.24,2,   0.149,2,   0.072,2,   0.007,2,   0.0360,2,  -999.0,9,  -999.0,9,-999.0000,9,  -999.00,-999.000,9,-999.0000,9,-999.000,9,   0.5052,2, -999.00,9,  -999.0,9,  -999.0,-999.000,9, -999.00,9,-999.000,9,   39.80,2,   35.43,2, -67.0001,-140.4061,-999.000,     -999.0,    34.8674,2,     -999.0,9,     -999.0,9,-999.0000,9,-999.0000,9,-999.0000,9,-999.0000,9,-999.0000,9,-999.0000,9,-999.0000,9,-999.0000,9,-999.0000,9,-999.0000,-999.000,   0.3387,     -999.0,     -999.0,9,     -999.0,9,     -999.0,9,     -999.0,9,     -999.0,20110331,       2222
320620110219,       S04P,     100,          1,          7,          7,2,20110331,       2146,   -67.0000,  -140.4061,       4318,  2913.6,   0.4307,  34.7036,2,  34.7024,2,    210.4,2,   209.9,2,  128.95,2,   32.72,2,    0.00,2,    2.23,2,-999.000,9,-999.000,9,-999.000,9,-999.0000,9,  2262.6,2,  2361.0,2,   7.5950,2,    25.00,-999.000,9,-999.0000,9,-999.000,9,   0.4309,2, -999.00,9,  -999.0,9,  -999.0,-999.000,9, -999.00,9,-999.000,9,   40.65,2,   35.01,2, -67.0001,-140.4061,-999.000,     -999.0,    34.8660,2,     -999.0,9,     -999.0,9,   0.0620,3,   0.0219,3,  -0.0170,4,  -0.0201,4,  -0.0260,4,  -0.0207,4,  -0.0179,4,   0.1291,4,   0.0774,4,-999.0000,-999.000,   0.2450,     -999.0,     -999.0,9,     -999.0,9,     -999.0,9,     -999.0,9,     -999.0,20110331,       2217
320620110219,       S04P,     100,          1,          6,          6,2,20110331,       2146,   -67.0000,  -140.4061,       4318,  3199.8,   0.3607,  34.7026,2,  34.7016,2,    212.5,2,   212.4,2,  131.52,2,   32.73,2,    0.00,2,    2.23,2,   0.203,2,   0.099,2,   0.009,2,   0.0480,2,  -999.0,9,  -999.0,9,-999.0000,9,  -999.00,-999.000,9,-999.0000,9,-999.000,9,   0.3605,2, -999.00,9,  -999.0,9,  -999.0,-999.000,9, -999.00,9,-999.000,9,   40.58,2,   34.90,2, -67.0001,-140.4061,-999.000,     -999.0,    34.8652,2,     -999.0,9,     -999.0,9,-999.0000,9,-999.0000,9,-999.0000,9,-999.0000,9,-999.0000,9,-999.0000,9,-999.0000,9,-999.0000,9,-999.0000,9,-999.0000,-999.000,   0.1512,     -999.0,     -999.0,9,     -999.0,9,     -999.0,9,     -999.0,9,     -999.0,20110331,       2211
320620110219,       S04P,     100,          1,          5,          5,2,20110331,       2146,   -67.0000,  -140.4061,       4318,  3500.2,   0.3047,  34.7016,2,  34.7004,2,    214.7,2,   214.5,2,  134.05,2,   32.75,2,    0.00,2,    2.24,2,   0.298,2,   0.142,2,   0.015,2,   0.0860,2,  -999.0,9,  -999.0,9,-999.0000,9,  -999.00,-999.000,9,-999.0000,9,-999.000,9,   0.3045,2, -999.00,9,  -999.0,9,  -999.0,-999.000,9, -999.00,9,-999.000,9,   39.97,2,   34.87,2, -67.0000,-140.4061,-999.000,     -999.0,    34.8640,2,     -999.0,9,     -999.0,9,-999.0000,9,-999.0000,9,-999.0000,9,-999.0000,9,-999.0000,9,-999.0000,9,-999.0000,9,-999.0000,9,-999.0000,9,-999.0000,-999.000,   0.0687,     -999.0,     -999.0,9,     -999.0,9,     -999.0,9,     -999.0,9,     -999.0,20110331,       2205
320620110219,       S04P,     100,          1,          4,          4,2,20110331,       2146,   -67.0000,  -140.4061,       4318,  3799.6,   0.2576,  34.6991,2,  34.6988,2,    216.9,2,   216.7,2,  131.03,2,   32.70,2,    0.00,2,    2.23,2,   0.514,2,   0.247,2,   0.028,2,   0.1110,2,  2261.9,2,  2360.2,6,   7.5941,2,    25.00,-999.000,9,-999.0000,9,-999.000,9,   0.2576,2, -999.00,9,  -999.0,9,  -999.0,-999.000,9, -999.00,9,-999.000,9,   40.10,2,   34.72,2, -67.0000,-140.4061,-999.000,     -999.0,    34.8624,2,     -999.0,9,     -999.0,9,   0.0758,3,   0.0339,3,  -0.0089,4,  -0.0141,4,  -0.0216,4,  -0.0183,4,  -0.0167,4,   0.0866,4,   0.0624,4,-999.0000,-999.000,  -0.0061,     -999.0,     -999.0,9,     -999.0,9,     -999.0,9,     -999.0,9,     -999.0,20110331,       2159
320620110219,       S04P,     100,          1,          3,          3,2,20110331,       2146,   -67.0000,  -140.4061,       4318,  4098.3,   0.2355,  34.6972,2,  34.6964,2,    219.5,2,   219.2,2,  125.02,2,   32.61,2,    0.00,2,    2.23,2,   0.690,6,   0.329,6,   0.035,6,   0.1280,6,  2260.6,2,  2358.5,2,   7.5934,2,    25.00,-999.000,9,-999.0000,9,-999.000,9,   0.2352,2, -999.00,9,  -999.0,9,  -999.0,-999.000,9, -999.00,9,-999.000,9,   40.48,2,   34.76,2, -67.0001,-140.4061,-999.000,     -999.0,    34.8600,2,     -999.0,9,     -999.0,9,-999.0000,9,-999.0000,9,-999.0000,9,-999.0000,9,-999.0000,9,-999.0000,9,-999.0000,9,-999.0000,9,-999.0000,9,-999.0000,-999.000,  -0.0576,     -999.0,     -999.0,9,     -999.0,9,     -999.0,9,     -999.0,9,     -999.0,20110331,       2153
320620110219,       S04P,     100,          1,          2,          2,2,20110331,       2146,   -67.0000,  -140.4061,       4318,  4340.2,   0.2470,  34.6967,2,  34.6960,2,    219.8,2,   219.6,2,  124.13,2,   32.58,2,    0.00,2,    2.22,2,   0.719,2,   0.348,2,   0.038,2,   0.1700,2,  2260.6,2,  2358.5,2,   7.5937,6,    25.00,-999.000,9,-999.0000,9,-999.000,9,   0.2465,2, -999.00,9,  -999.0,9,  -999.0,-999.000,9, -999.00,9,-999.000,9,   41.44,2,   34.95,2, -67.0001,-140.4061,-999.000,     -999.0,    34.8596,2,     -999.0,9,     -999.0,9,-999.0000,9,-999.0000,9,-999.0000,9,-999.0000,9,-999.0000,9,-999.0000,9,-999.0000,9,-999.0000,9,-999.0000,9,-999.0000,-999.000,  -0.0717,     -999.0,     -999.0,9,     -999.0,9,     -999.0,9,     -999.0,9,     -999.0,20110331,       2148
320620110219,       S04P,     100,          1,          1,          1,2,20110331,       2146,   -67.0000,  -140.4061,       4318,  4393.3,   0.2530,  34.6966,2,  34.6960,2,    219.8,2,   219.5,2,  124.74,2,   32.55,2,    0.00,2,    2.22,2,   0.748,2,   0.364,2,   0.042,2,   0.1910,2,  2260.6,6,  2357.8,2,   7.5951,2,    25.00,-999.000,9,-999.0000,9,-999.000,9,   0.2525,2, -999.00,9,  -999.0,9,  -999.0,-999.000,9, -999.00,9,-999.000,9,   41.28,2,   34.76,2, -67.0001,-140.4061,-999.000,     -999.0,    34.8596,2,     -999.0,9,     -999.0,9,   0.0702,3,   0.0296,3,  -0.0097,4,  -0.0152,4,  -0.0222,4,  -0.0182,4,  -0.0166,4,   0.0910,4,   0.0670,4,-999.0000,-999.000,  -0.0716,     -999.0,     -999.0,9,     -999.0,9,     -999.0,9,     -999.0,9,     -999.0,20110331,       2146