BOTTLE,20220813CCHSIOAMB
EXPOCODE,SECT_ID,STNNBR,CASTNO,SAMPNO,BTLNBR,BTLNBR_FLAG_W,DATE,TIME,LATITUDE,LONGITUDE,DEPTH,CTDPRS,CTDTMP,CTDSAL,CTDSAL_FLAG_W,SALNTY,SALNTY_FLAG_W,CTDOXY,CTDOXY_FLAG_W,OXYGEN,OXYGEN_FLAG_W,SILCAT,SILCAT_FLAG_W,NITRAT,NITRAT_FLAG_W,NITRIT,NITRIT_FLAG_W,PHSPHT,PHSPHT_FLAG_W,CFC-11,CFC-11_FLAG_W,CFC-12,CFC-12_FLAG_W,CFC113,CFC113_FLAG_W,SF6,SF6_FLAG_W,TCARBN,TCARBN_FLAG_W,ALKALI,ALKALI_FLAG_W,PH_TOT,PH_TOT_FLAG_W,PH_TMP,TRITUM,TRITUM_FLAG_W,HELIUM,HELIUM_FLAG_W,DELHE3,DELHE3_FLAG_W,REFTMP,REFTMP_FLAG_W,DELC13,DELC13_FLAG_W,DELC14,DELC14_FLAG_W,C14ERR,NEON,NEON_FLAG_W,DELO18,DELO18_FLAG_W,POC,POC_FLAG_W,DOC,DOC_FLAG_W,TDN,TDN_FLAG_W,BTL_LAT,BTL_LON,TRITER,NEONER,SALTREF,SALTREF_FLAG_W,PIGMENTS,PIGMENTS_FLAG_W,LAB_DEN,LAB_DEN_FLAG_W,CDOM325,CDOM325_FLAG_W,CDOM340,CDOM340_FLAG_W,CDOM380,CDOM380_FLAG_W,CDOM412,CDOM412_FLAG_W,CDOM443,CDOM443_FLAG_W,CDOM490,CDOM490_FLAG_W,CDOM555,CDOM555_FLAG_W,CDOMSL,CDOMSL_FLAG_W,CDOMSN,CDOMSN_FLAG_W,HELIER,DELHER,THETA,LDEO_SAMPNO,ABSORBTION,ABSORBTION_FLAG_W,IMAGE_COUNT,IMAGE_COUNT_FLAG_W,CYTO_COUNT,CYTO_COUNT_FLAG_W,DELD,DELD_FLAG_W,DELDERR,BTL_DATE,BTL_TIME
,,,,,,,,,,,METERS,DBAR,ITS-90,PSS-78,,PSS-78,,UMOL/KG,,UMOL/KG,,UMOL/KG,,UMOL/KG,,UMOL/KG,,UMOL/KG,,PMOL/KG,,PMOL/KG,,PMOL/KG,,FMOL/KG,,UMOL/KG,,UMOL/KG,,,,DEG C,TU,,NMOL/KG,,PERCNT,,DEG C,,/MILLE,,/MILLE,,/MILLE,NMOL/KG,,/MILLE,,UG/KG,,UMOL/KG,,UMOL/KG,,,,TU,NMOL/KG,G/KG,,,,,,1/M,,1/M,,1/M,,1/M,,1/M,,1/M,,1/M,,1/NM,,1/NM,,NMOL/KG,PERCNT,DEG C,,,,,,,,/MILLE,,/MILLE,,
320620110219,       S04P,     109,          1,         13,         13,2,20110406,       0043,   -67.0002,  -125.0647,       4201,  1500.1,   1.2029,  34.7259,2,  34.7254,2,    196.5,2,   196.7,2,  107.15,2,   31.69,2,    0.00,2,    2.21,2,   0.119,2,   0.067,2,   0.011,2,   0.0680,2,  2258.2,2,  2360.3,2,   7.5997,2,    25.00,-999.000,9,-999.0000,9,-999.000,9,   1.2038,2, -999.00,9,  -999.0,9,  -999.0,-999.000,9, -999.00,9,-999.000,9,   39.94,2,   34.17,2, -67.0002,-125.0646,-999.000,     -999.0,    34.8891,2,     -999.0,9,     -999.0,1,-999.0000,9,-999.0000,9,-999.0000,9,-999.0000,9,-999.0000,9,-999.0000,9,-999.0000,9,-999.0000,9,-999.0000,9,-999.0000,-999.000,   1.1156,     -999.0,     -999.0,9,     -999.0,9,     -999.0,9,     -999.0,9,     -999.0,20110406,       0141
320620110219,       S04P,     109,          1,         12,         12,2,20110406,       0043,   -67.0002,  -125.0647,       4201,  1649.7,   1.1070,  34.7222,2,  34.7224,2,    197.4,2,   197.1,2,  110.58,2,   31.96,2,    0.00,2,    2.22,2,-999.000,9,-999.000,9,-999.000,9,-999.0000,9,  -999.0,9,  -999.0,9,-999.0000,9,  -999.00,-999.000,9,-999.0000,9,-999.000,9,   1.1069,2, -999.00,9,  -999.0,9,  -999.0,-999.000,9, -999.00,9,-999.000,9,   40.17,2,   34.60,2, -67.0002,-125.0647,-999.000,     -999.0,    34.8861,2,     -999.0,9,     -999.0,9,-999.0000,9,-999.0000,9,-999.0000,9,-999.0000,9,-999.0000,9,-999.0000,9,-999.0000,9,-999.0000,9,-999.0000,9,-999.0000,-999.000,   1.0102,     -999.0,     -999.0,9,     -999.0,9,     -999.0,9,     -999.0,9,     -999.0,20110406,       0137
320620110219,       S04P,     109,          1,         11,         11,2,20110406,       0043,   -67.0002,  -125.0647,       4201,  1798.3,   1.0274,  34.7194,2,  34.7195,2,    199.1,2,   199.0,2,  113.04,2,   32.07,2,    0.00,2,    2.22,2,   0.109,2,   0.055,2,   0.011,2,   0.0590,2,  2258.8,2,  2364.0,2,   7.6002,2,    25.00,-999.000,9,-999.0000,9,-999.000,9,   1.0271,2, -999.00,9,  -999.0,9,  -999.0,-999.000,9, -999.00,9,-999.000,9,   40.24,2,   34.60,2, -67.0002,-125.0646,-999.000,     -999.0,    34.8832,2,     -999.0,9,     -999.0,1,-999.0000,9,-999.0000,9,-999.0000,9,-999.0000,9,-999.0000,9,-999.0000,9,-999.0000,9,-999.0000,9,-999.0000,9,-999.0000,-999.000,   0.9208,     -999.0,     -999.0,9,     -999.0,9,     -999.0,9,     -999.0,9,     -999.0,20110406,       0134
320620110219,       S04P,     109,          1,         10,         37,2,20110406,       0043,   -67.0002,  -125.0647,       4201,  2000.0,   0.9227,  34.7155,2,  34.7149,2,    201.3,2,   201.6,2,  116.29,2,   32.04,2,    0.00,2,    2.22,2,-999.000,9,-999.000,9,-999.000,9,-999.0000,9,  -999.0,9,  -999.0,9,-999.0000,9,  -999.00,-999.000,9,-999.0000,9,-999.000,9,   0.9236,2, -999.00,9,  -999.0,9,  -999.0,-999.000,9, -999.00,9,-999.000,9,   40.01,2,   34.81,2, -67.0002,-125.0647,-999.000,     -999.0,    34.8786,2,     -999.0,9,     -999.0,9,-999.0000,9,-999.0000,9,-999.0000,9,-999.0000,9,-999.0000,9,-999.0000,9,-999.0000,9,-999.0000,9,-999.0000,9,-999.0000,-999.000,   0.8025,     -999.0,     -999.0,9,     -999.0,9,     -999.0,9,     -999.0,9,     -999.0,20110406,       0130
320620110219,       S04P,     109,          1,          9,          9,2,20110406,       0043,   -67.0002,  -125.0647,       4201,  2250.1,   0.8161,  34.7112,2,  34.7112,2,    203.4,2,   203.5,2,  120.20,2,   32.21,2,    0.00,2,    2.24,2,   0.154,2,   0.079,2,   0.012,2,   0.0730,2,  2259.2,2,  2363.7,2,   7.5991,2,    25.00,-999.000,9,-999.0000,9,-999.000,9,   0.8166,2, -999.00,9,  -999.0,9,  -999.0,-999.000,9, -999.00,9,-999.000,9,   40.43,2,   34.50,2, -67.0002,-125.0646,-999.000,     -999.0,    34.8749,2,     -999.0,9,     -999.0,1,-999.0000,9,-999.0000,9,-999.0000,9,-999.0000,9,-999.0000,9,-999.0000,9,-999.0000,9,-999.0000,9,-999.0000,9,-999.0000,-999.000,   0.6781,     -999.0,     -999.0,9,     -999.0,9,     -999.0,9,     -999.0,9,     -999.0,20110406,       0124
320620110219,       S04P,     109,          1,          8,          8,2,20110406,       0043,   -67.0002,  -125.0647,       4201,  2498.9,   0.7222,  34.7091,2,  34.7079,2,    204.8,2,   205.3,2,  123.43,2,   32.40,2,    0.00,2,    2.24,2,   0.151,2,   0.079,2,   0.011,2,   0.0730,2,  -999.0,9,  -999.0,9,-999.0000,9,  -999.00,-999.000,9,-999.0000,9,-999.000,9,   0.7226,2, -999.00,9,  -999.0,9,  -999.0,-999.000,9, -999.00,9,-999.000,9,   40.41,2,   34.07,2, -67.0002,-125.0647,-999.000,     -999.0,    34.8715,2,     -999.0,9,     -999.0,9,-999.0000,9,-999.0000,9,-999.0000,9,-999.0000,9,-999.0000,9,-999.0000,9,-999.0000,9,-999.0000,9,-999.0000,9,-999.0000,-999.000,   0.5657,     -999.0,     -999.0,9,     -999.0,9,     -999.0,9,     -999.0,9,     -999.0,20110406,       0120
320620110219,       S04P,     109,          1,          7,          7,2,20110406,       0043,   -67.0002,  -125.0647,       4201,  2749.8,   0.6299,  34.7067,2,  34.7063,2,    206.9,2,   207.0,2,  125.99,2,   32.41,2,    0.00,2,    2.24,2,-999.000,9,-999.000,9,-999.000,9,-999.0000,9,  2260.4,2,  2364.3,2,   7.5984,2,    25.00,-999.000,9,-999.0000,9,-999.000,9,   0.6299,2, -999.00,9,  -999.0,9,  -999.0,-999.000,9, -999.00,9,-999.000,9,   39.77,2,   34.04,2, -67.0002,-125.0646,-999.000,     -999.0,    34.8699,2,     -999.0,9,     -999.0,1,-999.0000,9,-999.0000,9,-999.0000,9,-999.0000,9,-999.0000,9,-999.0000,9,-999.0000,9,-999.0000,9,-999.0000,9,-999.0000,-999.000,   0.4541,     -999.0,     -999.0,9,     -999.0,9,     -999.0,9,     -999.0,9,     -999.0,20110406,       0115
320620110219,       S04P,     109,          1,          6,          6,2,20110406,       0043,   -67.0002,  -125.0647,       4201,  2998.8,   0.5251,  34.7050,2,  34.7045,2,    209.0,2,   209.1,2,  128.65,2,   32.57,2,    0.00,2,    2.25,2,   0.189,2,   0.092,2,   0.011,2,   0.0700,2,  -999.0,9,  -999.0,9,-999.0000,9,  -999.00,-999.000,9,-999.0000,9,-999.000,9,   0.5255,2, -999.00,9,  -999.0,9,  -999.0,-999.000,9, -999.00,9,-999.000,9,   40.24,2,   35.33,2, -67.0002,-125.0647,-999.000,     -999.0,    34.8682,2,     -999.0,9,     -999.0,9,-999.0000,9,-999.0000,9,-999.0000,9,-999.0000,9,-999.0000,9,-999.0000,9,-999.0000,9,-999.0000,9,-999.0000,9,-999.0000,-999.000,   0.3299,     -999.0,     -999.0,9,     -999.0,9,     -999.0,9,     -999.0,9,     -999.0,20110406,       0109
320620110219,       S04P,     109,          1,          5,          5,2,20110406,       0043,   -67.0002,  -125.0647,       4201,  3300.3,   0.4558,  34.7038,2,  34.7031,2,    210.8,2,   210.9,2,  131.67,2,   32.74,2,    0.00,2,    2.26,2,   0.181,2,   0.088,2,   0.008,2,-999.0000,9,  -999.0,9,  -999.0,9,-999.0000,9,  -999.00,-999.000,9,-999.0000,9,-999.000,9,   0.4561,2, -999.00,9,  -999.0,9,  -999.0,-999.000,9, -999.00,9,-999.000,9,   40.13,2,   35.36,2, -67.0002,-125.0647,-999.000,     -999.0,    34.8668,2,     -999.0,9,     -999.0,9,-999.0000,9,-999.0000,9,-999.0000,9,-999.0000,9,-999.0000,9,-999.0000,9,-999.0000,9,-999.0000,9,-999.0000,9,-999.0000,-999.000,   0.2348,     -999.0,     -999.0,9,     -999.0,9,     -999.0,9,     -999.0,9,     -999.0,20110406,       0104
320620110219,       S04P,     109,          1,          4,          4,2,20110406,       0043,   -67.0002,  -125.0647,       4201,  3600.4,   0.4228,  34.7034,2,  34.7029,2,    211.9,2,   211.6,2,  134.59,2,   32.78,2,    0.00,2,    2.25,2,-999.000,9,-999.000,9,-999.000,9,-999.0000,9,  2261.7,2,  2363.6,2,   7.5969,2,    25.00,-999.000,9,-999.0000,9,-999.000,9,   0.4227,2, -999.00,9,  -999.0,9,  -999.0,-999.000,9, -999.00,9,-999.000,9,   40.42,2,   35.40,2, -67.0002,-125.0647,-999.000,     -999.0,    34.8666,2,     -999.0,9,     -999.0,1,-999.0000,9,-999.0000,9,-999.0000,9,-999.0000,9,-999.0000,9,-999.0000,9,-999.0000,9,-999.0000,9,-999.0000,9,-999.0000,-999.000,   0.1742,     -999.0,     -999.0,9,     -999.0,9,     -999.0,9,     -999.0,9,     -999.0,20110406,       0058
320620110219,       S04P,     109,          1,          3,          3,2,20110406,       0043,   -67.0002,  -125.0647,       4201,  3900.4,   0.3802,  34.7029,2,  34.7017,2,    213.4,2,   213.4,2,  136.91,2,   32.87,2,    0.00,2,    2.24,2,   0.283,2,   0.128,2,   0.012,2,   0.0740,2,  2260.4,2,  2364.4,2,   7.5952,6,    25.00,-999.000,9,-999.0000,9,-999.000,9,   0.3803,2, -999.00,9,  -999.0,9,  -999.0,-999.000,9, -999.00,9,-999.000,9,   40.23,2,   35.44,2, -67.0002,-125.0647,-999.000,     -999.0,    34.8654,2,     -999.0,9,     -999.0,1,-999.0000,9,-999.0000,9,-999.0000,9,-999.0000,9,-999.0000,9,-999.0000,9,-999.0000,9,-999.0000,9,-999.0000,9,-999.0000,-999.000,   0.1030,     -999.0,     -999.0,9,     -999.0,9,     -999.0,9,     -999.0,9,     -999.0,20110406,       0052
320620110219,       S04P,     109,          1,          2,          2,2,20110406,       0043,   -67.0002,  -125.0647,       4201,  4151.1,   0.3575,  34.7016,2,  34.7009,2,    214.4,2,   214.1,2,  139.52,2,   32.96,2,    0.00,2,    2.24,2,   0.293,2,   0.165,2,   0.015,2,   0.1070,2,  2261.8,2,  2363.4,2,   7.5946,2,    25.00,-999.000,9,-999.0000,9,-999.000,9,   0.3580,2, -999.00,9,  -999.0,9,  -999.0,-999.000,9, -999.00,9,-999.000,9,   39.93,2,   35.52,2, -67.0002,-125.0646,-999.000,     -999.0,    34.8646,2,     -999.0,9,     -999.0,1,-999.0000,9,-999.0000,9,-999.0000,9,-999.0000,9,-999.0000,9,-999.0000,9,-999.0000,9,-999.0000,9,-999.0000,9,-999.0000,-999.000,   0.0553,     -999.0,     -999.0,9,     -999.0,9,     -999.0,9,     -999.0,9,     -999.0,20110406,       0047
320620110219,       S04P,     109,          1,          1,          1,2,20110406,       0043,   -67.0002,  -125.0647,       4201,  4273.8,   0.3296,  34.7000,2,  34.6994,2,    214.7,2,   214.9,2,  142.46,2,   32.95,2,    0.00,2,    2.25,2,   0.519,2,   0.261,2,   0.025,2,   0.1220,2,  2262.3,6,  2362.4,2,   7.5936,2,    25.00,-999.000,9,-999.0000,9,-999.000,9,   0.3293,2, -999.00,9,  -999.0,9,  -999.0,-999.000,9, -999.00,9,-999.000,9,   39.89,2,   35.43,2, -67.0002,-125.0647,-999.000,     -999.0,    34.8630,2,     -999.0,9,     -999.0,1,-999.0000,9,-999.0000,9,-999.0000,9,-999.0000,9,-999.0000,9,-999.0000,9,-999.0000,9,-999.0000,9,-999.0000,9,-999.0000,-999.000,   0.0154,     -999.0,     -999.0,9,     -999.0,9,     -999.0,9,     -999.0,9,     -999.0,20110406,       0043