BOTTLE,20220813CCHSIOAMB
EXPOCODE,SECT_ID,STNNBR,CASTNO,SAMPNO,BTLNBR,BTLNBR_FLAG_W,DATE,TIME,LATITUDE,LONGITUDE,DEPTH,CTDPRS,CTDTMP,CTDSAL,CTDSAL_FLAG_W,SALNTY,SALNTY_FLAG_W,CTDOXY,CTDOXY_FLAG_W,OXYGEN,OXYGEN_FLAG_W,SILCAT,SILCAT_FLAG_W,NITRAT,NITRAT_FLAG_W,NITRIT,NITRIT_FLAG_W,PHSPHT,PHSPHT_FLAG_W,CFC-11,CFC-11_FLAG_W,CFC-12,CFC-12_FLAG_W,CFC113,CFC113_FLAG_W,SF6,SF6_FLAG_W,TCARBN,TCARBN_FLAG_W,ALKALI,ALKALI_FLAG_W,PH_TOT,PH_TOT_FLAG_W,PH_TMP,TRITUM,TRITUM_FLAG_W,HELIUM,HELIUM_FLAG_W,DELHE3,DELHE3_FLAG_W,REFTMP,REFTMP_FLAG_W,DELC13,DELC13_FLAG_W,DELC14,DELC14_FLAG_W,C14ERR,NEON,NEON_FLAG_W,DELO18,DELO18_FLAG_W,POC,POC_FLAG_W,DOC,DOC_FLAG_W,TDN,TDN_FLAG_W,BTL_LAT,BTL_LON,TRITER,NEONER,SALTREF,SALTREF_FLAG_W,PIGMENTS,PIGMENTS_FLAG_W,LAB_DEN,LAB_DEN_FLAG_W,CDOM325,CDOM325_FLAG_W,CDOM340,CDOM340_FLAG_W,CDOM380,CDOM380_FLAG_W,CDOM412,CDOM412_FLAG_W,CDOM443,CDOM443_FLAG_W,CDOM490,CDOM490_FLAG_W,CDOM555,CDOM555_FLAG_W,CDOMSL,CDOMSL_FLAG_W,CDOMSN,CDOMSN_FLAG_W,HELIER,DELHER,THETA,LDEO_SAMPNO,ABSORBTION,ABSORBTION_FLAG_W,IMAGE_COUNT,IMAGE_COUNT_FLAG_W,CYTO_COUNT,CYTO_COUNT_FLAG_W,DELD,DELD_FLAG_W,DELDERR,BTL_DATE,BTL_TIME
,,,,,,,,,,,METERS,DBAR,ITS-90,PSS-78,,PSS-78,,UMOL/KG,,UMOL/KG,,UMOL/KG,,UMOL/KG,,UMOL/KG,,UMOL/KG,,PMOL/KG,,PMOL/KG,,PMOL/KG,,FMOL/KG,,UMOL/KG,,UMOL/KG,,,,DEG C,TU,,NMOL/KG,,PERCNT,,DEG C,,/MILLE,,/MILLE,,/MILLE,NMOL/KG,,/MILLE,,UG/KG,,UMOL/KG,,UMOL/KG,,,,TU,NMOL/KG,G/KG,,,,,,1/M,,1/M,,1/M,,1/M,,1/M,,1/M,,1/M,,1/NM,,1/NM,,NMOL/KG,PERCNT,DEG C,,,,,,,,/MILLE,,/MILLE,,
320620110219,       S04P,      21,          1,         13,         13,2,20110301,       2045,   -66.9985,   179.4228,       3699,  1499.3,   0.7518,  34.7105,2,  34.7108,2,    202.9,2,   203.3,2,  121.74,2,   32.13,2,    0.00,2,    2.18,2,-999.000,9,-999.000,9,-999.000,9,-999.0000,9,  -999.0,9,  -999.0,9,-999.0000,9,  -999.00,-999.000,9,-999.0000,9,-999.000,9,   0.7519,2, -999.00,9,  -999.0,9,  -999.0,-999.000,9, -999.00,9,-999.000,9, -999.00,9, -999.00,9, -66.9985, 179.4228,-999.000,     -999.0,    34.8744,2,     -999.0,9,     -999.0,9,   0.0574,3,   0.0169,3,  -0.0223,4,  -0.0281,4,  -0.0330,4,  -0.0257,4,  -0.0208,4,   0.1305,4,   0.0858,4,-999.0000,-999.000,   0.6699,     -999.0,     -999.0,9,     -999.0,9,     -999.0,9,     -999.0,9,     -999.0,20110301,       2148
320620110219,       S04P,      21,          1,         12,         12,2,20110301,       2045,   -66.9985,   179.4228,       3699,  1599.8,   0.7130,  34.7091,2,  34.7092,2,    204.0,2,   203.7,2,  122.73,2,   32.17,2,    0.00,2,    2.20,2,   0.089,2,   0.057,2,   0.009,2,-999.0000,9,  2258.1,2,  2359.2,2,   7.5877,2,    25.00,-999.000,9,-999.0000,9,-999.000,9,   0.7129,2, -999.00,9,  -999.0,9,  -999.0,-999.000,9, -999.00,9,-999.000,9, -999.00,9, -999.00,9, -66.9985, 179.4228,-999.000,     -999.0,    34.8729,2,     -999.0,9,     -999.0,9,-999.0000,9,-999.0000,9,-999.0000,9,-999.0000,9,-999.0000,9,-999.0000,9,-999.0000,9,-999.0000,9,-999.0000,9,-999.0000,-999.000,   0.6247,     -999.0,     -999.0,9,     -999.0,9,     -999.0,9,     -999.0,9,     -999.0,20110301,       2145
320620110219,       S04P,      21,          1,         11,         11,2,20110301,       2045,   -66.9985,   179.4228,       3699,  1699.9,   0.6759,  34.7079,2,  34.7082,2,    204.7,2,   204.5,2,  123.64,2,   32.25,2,    0.00,2,    2.20,2,-999.000,9,-999.000,9,-999.000,9,-999.0000,9,  -999.0,9,  -999.0,9,-999.0000,9,  -999.00,-999.000,9,-999.0000,9,-999.000,9,   0.6761,2, -999.00,9,  -999.0,9,  -999.0,-999.000,9, -999.00,9,-999.000,9, -999.00,9, -999.00,9, -66.9985, 179.4228,-999.000,     -999.0,    34.8719,2,     -999.0,9,     -999.0,9,-999.0000,9,-999.0000,9,-999.0000,9,-999.0000,9,-999.0000,9,-999.0000,9,-999.0000,9,-999.0000,9,-999.0000,9,-999.0000,-999.000,   0.5812,     -999.0,     -999.0,9,     -999.0,9,     -999.0,9,     -999.0,9,     -999.0,20110301,       2142
320620110219,       S04P,      21,          1,         10,         10,2,20110301,       2045,   -66.9985,   179.4228,       3699,  1798.3,   0.6384,  34.7070,2,  34.7064,2,    205.8,2,   205.4,2,  124.50,2,   32.30,2,    0.00,2,    2.20,2,   0.116,2,   0.072,2,   0.011,2,-999.0000,9,  -999.0,9,  -999.0,9,-999.0000,9,  -999.00,-999.000,9,-999.0000,9,-999.000,9,   0.6385,2, -999.00,9,  -999.0,9,  -999.0,-999.000,9, -999.00,9,-999.000,9, -999.00,9, -999.00,9, -66.9985, 179.4228,-999.000,     -999.0,    34.8701,2,     -999.0,9,     -999.0,9,   0.0500,3,   0.0115,3,  -0.0228,4,  -0.0307,4,  -0.0356,4,  -0.0279,4,  -0.0221,4,   0.1399,4,   0.0948,4,-999.0000,-999.000,   0.5373,     -999.0,     -999.0,9,     -999.0,9,     -999.0,9,     -999.0,9,     -999.0,20110301,       2139
320620110219,       S04P,      21,          1,          9,          9,2,20110301,       2045,   -66.9985,   179.4228,       3699,  1999.3,   0.5760,  34.7056,2,  34.7053,2,    207.1,2,   207.3,2,  126.13,2,   32.39,2,    0.00,2,    2.20,2,-999.000,9,-999.000,9,-999.000,9,-999.0000,9,  2260.1,2,  2360.5,2,   7.5868,2,    25.00,-999.000,9,-999.0000,9,-999.000,9,   0.5763,2, -999.00,9,  -999.0,9,  -999.0,-999.000,9, -999.00,9,-999.000,9, -999.00,9, -999.00,9, -66.9985, 179.4228,-999.000,     -999.0,    34.8690,2,     -999.0,9,     -999.0,9,-999.0000,9,-999.0000,9,-999.0000,9,-999.0000,9,-999.0000,9,-999.0000,9,-999.0000,9,-999.0000,9,-999.0000,9,-999.0000,-999.000,   0.4612,     -999.0,     -999.0,9,     -999.0,9,     -999.0,9,     -999.0,9,     -999.0,20110301,       2134
320620110219,       S04P,      21,          1,          8,          8,2,20110301,       2045,   -66.9985,   179.4228,       3699,  2250.5,   0.5027,  34.7039,2,  34.7035,2,    209.1,2,   209.1,2,  127.27,2,   32.52,2,    0.00,2,    2.20,2,   0.155,2,   0.094,2,   0.014,2,-999.0000,9,  -999.0,9,  -999.0,9,-999.0000,9,  -999.00,-999.000,9,-999.0000,9,-999.000,9,   0.5029,2, -999.00,9,  -999.0,9,  -999.0,-999.000,9, -999.00,9,-999.000,9, -999.00,9, -999.00,9, -66.9985, 179.4228,-999.000,     -999.0,    34.8672,2,     -999.0,9,     -999.0,9,-999.0000,9,-999.0000,9,-999.0000,9,-999.0000,9,-999.0000,9,-999.0000,9,-999.0000,9,-999.0000,9,-999.0000,9,-999.0000,-999.000,   0.3701,     -999.0,     -999.0,9,     -999.0,9,     -999.0,9,     -999.0,9,     -999.0,20110301,       2128
320620110219,       S04P,      21,          1,          7,          7,2,20110301,       2045,   -66.9985,   179.4228,       3699,  2499.7,   0.4291,  34.7017,2,  34.7016,2,    211.0,2,   211.1,2,  128.57,2,   32.57,2,    0.00,2,    2.22,2,-999.000,9,-999.000,9,-999.000,9,-999.0000,9,  2259.8,2,  2360.0,2,   7.5863,2,    25.00,-999.000,9,-999.0000,9,-999.000,9,   0.4292,2, -999.00,9,  -999.0,9,  -999.0,-999.000,9, -999.00,9,-999.000,9, -999.00,9, -999.00,9, -66.9985, 179.4228,-999.000,     -999.0,    34.8652,2,     -999.0,9,     -999.0,9,   0.0527,3,   0.0137,3,  -0.0223,4,  -0.0300,4,  -0.0350,4,  -0.0274,4,  -0.0217,4,   0.1620,4,   0.0916,4,-999.0000,-999.000,   0.2782,     -999.0,     -999.0,9,     -999.0,9,     -999.0,9,     -999.0,9,     -999.0,20110301,       2122
320620110219,       S04P,      21,          1,          6,          6,2,20110301,       2045,   -66.9985,   179.4228,       3699,  2750.2,   0.3639,  34.6988,2,  34.6987,2,    213.2,2,   213.0,2,  128.42,2,   32.62,2,    0.00,2,    2.21,2,   0.320,2,   0.192,2,   0.033,2,-999.0000,9,  -999.0,9,  -999.0,9,-999.0000,9,  -999.00,-999.000,9,-999.0000,9,-999.000,9,   0.3641,2, -999.00,9,  -999.0,9,  -999.0,-999.000,9, -999.00,9,-999.000,9, -999.00,9, -999.00,9, -66.9985, 179.4228,-999.000,     -999.0,    34.8623,2,     -999.0,9,     -999.0,9,-999.0000,9,-999.0000,9,-999.0000,9,-999.0000,9,-999.0000,9,-999.0000,9,-999.0000,9,-999.0000,9,-999.0000,9,-999.0000,-999.000,   0.1937,     -999.0,     -999.0,9,     -999.0,9,     -999.0,9,     -999.0,9,     -999.0,20110301,       2116
320620110219,       S04P,      21,          1,          5,          5,2,20110301,       2045,   -66.9985,   179.4228,       3699,  3001.7,   0.3016,  34.6958,2,  34.6955,2,    215.5,2,   215.4,2,  127.65,2,   32.63,2,    0.00,2,    2.20,2,-999.000,9,-999.000,9,-999.000,9,-999.0000,9,  2259.3,2,  2359.7,2,   7.5860,2,    25.00,-999.000,9,-999.0000,9,-999.000,9,   0.3021,2, -999.00,9,  -999.0,9,  -999.0,-999.000,9, -999.00,9,-999.000,9, -999.00,9, -999.00,9, -66.9985, 179.4228,-999.000,     -999.0,    34.8592,2,     -999.0,9,     -999.0,9,-999.0000,9,-999.0000,9,-999.0000,9,-999.0000,9,-999.0000,9,-999.0000,9,-999.0000,9,-999.0000,9,-999.0000,9,-999.0000,-999.000,   0.1111,     -999.0,     -999.0,9,     -999.0,9,     -999.0,9,     -999.0,9,     -999.0,20110301,       2110
320620110219,       S04P,      21,          1,          4,          4,2,20110301,       2045,   -66.9985,   179.4228,       3699,  3300.2,   0.2109,  34.6910,2,  34.6907,2,    219.4,2,   219.3,2,  123.85,2,   32.55,2,    0.00,2,    2.19,2,   0.689,2,   0.415,2,   0.066,2,-999.0000,9,  2257.6,2,  2357.8,2,   7.5841,2,    25.00,-999.000,9,-999.0000,9,-999.000,9,   0.2109,2, -999.00,9,  -999.0,9,  -999.0,-999.000,9, -999.00,9,-999.000,9, -999.00,9, -999.00,9, -66.9985, 179.4228,-999.000,     -999.0,    34.8543,2,     -999.0,9,     -999.0,9,   0.0499,3,   0.0104,3,  -0.0263,4,  -0.0309,4,  -0.0352,4,  -0.0271,4,  -0.0216,4,   0.1865,4,   0.0979,4,-999.0000,-999.000,  -0.0041,     -999.0,     -999.0,9,     -999.0,9,     -999.0,9,     -999.0,9,     -999.0,20110301,       2102
320620110219,       S04P,      21,          1,          3,          3,2,20110301,       2045,   -66.9985,   179.4228,       3699,  3598.9,   0.1320,  34.6848,2,  34.6851,2,    224.3,2,   223.6,2,  116.53,2,   32.35,2,    0.00,2,    2.18,2,   1.121,2,   0.651,2,   0.107,2,-999.0000,9,  2256.4,2,  2355.0,6,   7.5850,2,    25.00,-999.000,9,-999.0000,9,-999.000,9,   0.1317,2, -999.00,9,  -999.0,9,  -999.0,-999.000,9, -999.00,9,-999.000,9, -999.00,9, -999.00,9, -66.9985, 179.4228,-999.000,     -999.0,    34.8487,2,     -999.0,9,     -999.0,9,-999.0000,9,-999.0000,9,-999.0000,9,-999.0000,9,-999.0000,9,-999.0000,9,-999.0000,9,-999.0000,9,-999.0000,9,-999.0000,-999.000,  -0.1088,     -999.0,     -999.0,9,     -999.0,9,     -999.0,9,     -999.0,9,     -999.0,20110301,       2053
320620110219,       S04P,      21,          1,          2,          2,2,20110301,       2045,   -66.9985,   179.4228,       3699,  3710.7,   0.1287,  34.6837,2,  34.6836,2,    224.6,2,   224.9,2,  115.66,2,   32.43,2,    0.00,2,    2.18,2,   1.183,2,   0.709,2,   0.123,2,-999.0000,9,  2256.1,6,  2353.8,2,   7.5846,2,    25.00,-999.000,9,-999.0000,9,-999.000,9,   0.1285,2, -999.00,9,  -999.0,9,  -999.0,-999.000,9, -999.00,9,-999.000,9, -999.00,9, -999.00,9, -66.9985, 179.4228,-999.000,     -999.0,    34.8472,2,     -999.0,9,     -999.0,9,-999.0000,9,-999.0000,9,-999.0000,9,-999.0000,9,-999.0000,9,-999.0000,9,-999.0000,9,-999.0000,9,-999.0000,9,-999.0000,-999.000,  -0.1227,     -999.0,     -999.0,9,     -999.0,9,     -999.0,9,     -999.0,9,     -999.0,20110301,       2048
320620110219,       S04P,      21,          1,          1,          1,2,20110301,       2045,   -66.9985,   179.4228,       3699,  3759.7,   0.1309,  34.6832,2,  34.6838,2,    224.3,2,   224.2,2,  115.72,2,   32.39,2,    0.00,2,    2.18,2,   1.260,2,   0.726,2,   0.116,2,-999.0000,9,  2257.0,2,  2354.1,2,   7.5836,6,    25.00,-999.000,9,-999.0000,9,-999.000,9,   0.1305,2, -999.00,9,  -999.0,9,  -999.0,-999.000,9, -999.00,9,-999.000,9, -999.00,9, -999.00,9, -66.9985, 179.4228,-999.000,     -999.0,    34.8474,2,     -999.0,9,     -999.0,9,   0.0564,3,   0.0168,3,  -0.0217,4,  -0.0273,4,  -0.0327,4,  -0.0258,4,  -0.0210,4,   0.1222,4,   0.0852,4,-999.0000,-999.000,  -0.1253,     -999.0,     -999.0,9,     -999.0,9,     -999.0,9,     -999.0,9,     -999.0,20110301,       2045