BOTTLE,20220813CCHSIOAMB
EXPOCODE,SECT_ID,STNNBR,CASTNO,SAMPNO,BTLNBR,BTLNBR_FLAG_W,DATE,TIME,LATITUDE,LONGITUDE,DEPTH,CTDPRS,CTDTMP,CTDSAL,CTDSAL_FLAG_W,SALNTY,SALNTY_FLAG_W,CTDOXY,CTDOXY_FLAG_W,OXYGEN,OXYGEN_FLAG_W,SILCAT,SILCAT_FLAG_W,NITRAT,NITRAT_FLAG_W,NITRIT,NITRIT_FLAG_W,PHSPHT,PHSPHT_FLAG_W,CFC-11,CFC-11_FLAG_W,CFC-12,CFC-12_FLAG_W,CFC113,CFC113_FLAG_W,SF6,SF6_FLAG_W,TCARBN,TCARBN_FLAG_W,ALKALI,ALKALI_FLAG_W,PH_TOT,PH_TOT_FLAG_W,PH_TMP,TRITUM,TRITUM_FLAG_W,HELIUM,HELIUM_FLAG_W,DELHE3,DELHE3_FLAG_W,REFTMP,REFTMP_FLAG_W,DELC13,DELC13_FLAG_W,DELC14,DELC14_FLAG_W,C14ERR,NEON,NEON_FLAG_W,DELO18,DELO18_FLAG_W,POC,POC_FLAG_W,DOC,DOC_FLAG_W,TDN,TDN_FLAG_W,BTL_LAT,BTL_LON,TRITER,NEONER,SALTREF,SALTREF_FLAG_W,PIGMENTS,PIGMENTS_FLAG_W,LAB_DEN,LAB_DEN_FLAG_W,CDOM325,CDOM325_FLAG_W,CDOM340,CDOM340_FLAG_W,CDOM380,CDOM380_FLAG_W,CDOM412,CDOM412_FLAG_W,CDOM443,CDOM443_FLAG_W,CDOM490,CDOM490_FLAG_W,CDOM555,CDOM555_FLAG_W,CDOMSL,CDOMSL_FLAG_W,CDOMSN,CDOMSN_FLAG_W,HELIER,DELHER,THETA,LDEO_SAMPNO,ABSORBTION,ABSORBTION_FLAG_W,IMAGE_COUNT,IMAGE_COUNT_FLAG_W,CYTO_COUNT,CYTO_COUNT_FLAG_W,DELD,DELD_FLAG_W,DELDERR,BTL_DATE,BTL_TIME
,,,,,,,,,,,METERS,DBAR,ITS-90,PSS-78,,PSS-78,,UMOL/KG,,UMOL/KG,,UMOL/KG,,UMOL/KG,,UMOL/KG,,UMOL/KG,,PMOL/KG,,PMOL/KG,,PMOL/KG,,FMOL/KG,,UMOL/KG,,UMOL/KG,,,,DEG C,TU,,NMOL/KG,,PERCNT,,DEG C,,/MILLE,,/MILLE,,/MILLE,NMOL/KG,,/MILLE,,UG/KG,,UMOL/KG,,UMOL/KG,,,,TU,NMOL/KG,G/KG,,,,,,1/M,,1/M,,1/M,,1/M,,1/M,,1/M,,1/M,,1/NM,,1/NM,,NMOL/KG,PERCNT,DEG C,,,,,,,,/MILLE,,/MILLE,,
320620110219,       S04P,      38,          1,         36,         36,2,20110308,       1810,   -66.9998,  -158.8248,       3744,     4.4,  -0.4599,  33.7235,2,  33.7237,2,    338.6,3,   343.0,2,   44.91,2,   21.87,2,    0.13,2,    1.51,2,   6.112,2,   3.331,2,   0.598,2,   2.4420,2,  2149.9,6,  2284.3,2,   7.7181,2,    25.00,-999.000,9,-999.0000,9,-999.000,9,  -0.4600,2, -999.00,9,  -999.0,9,  -999.0,-999.000,9, -999.00,9,-999.000,9,   46.45,2,   26.21,2, -66.9998,-158.8248,-999.000,     -999.0,    33.8827,2,     -999.0,9,     -999.0,9,-999.0000,9,-999.0000,9,-999.0000,9,-999.0000,9,-999.0000,9,-999.0000,9,-999.0000,9,-999.0000,9,-999.0000,9,-999.0000,-999.000,  -0.4600,     -999.0,     -999.0,9,     -999.0,9,     -999.0,9,     -999.0,9,     -999.0,20110308,       1956
320620110219,       S04P,      38,          1,         35,         35,2,20110308,       1810,   -66.9998,  -158.8248,       3744,    20.4,  -0.4669,  33.7291,2,  33.7293,2,    343.1,2,   343.0,2,   44.51,2,   21.91,2,    0.13,2,    1.53,2,   6.050,2,   3.273,2,   0.573,2,   2.4080,2,  2150.5,2,  2285.9,2,   7.7203,6,    25.00,-999.000,9,-999.0000,9,-999.000,9,  -0.4674,2, -999.00,9,  -999.0,9,  -999.0,-999.000,9, -999.00,9,-999.000,1,   46.48,2,   25.62,2, -66.9998,-158.8248,-999.000,     -999.0,    33.8884,2,     -999.0,1,     -999.0,9,-999.0000,9,-999.0000,9,-999.0000,9,-999.0000,9,-999.0000,9,-999.0000,9,-999.0000,9,-999.0000,9,-999.0000,9,-999.0000,-999.000,  -0.4675,     -999.0,     -999.0,9,     -999.0,1,     -999.0,1,     -999.0,9,     -999.0,20110308,       1954
320620110219,       S04P,      38,          1,         34,         34,2,20110308,       1810,   -66.9998,  -158.8248,       3744,    40.2,  -0.4686,  33.7302,2,  33.7280,2,    343.8,2,   342.6,2,   44.65,2,   21.92,2,    0.13,2,    1.53,2,   6.137,2,   3.300,2,   0.585,2,   2.4310,2,  2150.5,2,  2285.1,6,   7.7177,2,    25.00,-999.000,9,-999.0000,9,-999.000,9,  -0.4679,2, -999.00,9,  -999.0,9,  -999.0,-999.000,9, -999.00,9,-999.000,1,   46.34,2,   25.71,2, -66.9998,-158.8248,-999.000,     -999.0,    33.8870,2,     -999.0,1,     -999.0,9,-999.0000,9,-999.0000,9,-999.0000,9,-999.0000,9,-999.0000,9,-999.0000,9,-999.0000,9,-999.0000,9,-999.0000,9,-999.0000,-999.000,  -0.4698,     -999.0,     -999.0,9,     -999.0,1,     -999.0,1,     -999.0,9,     -999.0,20110308,       1953
320620110219,       S04P,      38,          1,         33,         33,2,20110308,       1810,   -66.9998,  -158.8248,       3744,    65.3,  -1.5471,  34.1170,2,  34.1114,2,    278.4,2,   292.9,2,   62.49,2,   28.08,2,    0.23,2,    2.01,2,   4.538,2,   2.506,2,   0.441,2,   1.7980,2,  2205.4,2,  2305.3,2,   7.6168,2,    25.00,-999.000,9,-999.0000,9,-999.000,9,  -1.5517,2, -999.00,9,  -999.0,9,  -999.0,-999.000,9, -999.00,9,-999.000,1,   46.67,2,   31.80,2, -66.9997,-158.8248,-999.000,     -999.0,    34.2722,2,     -999.0,1,     -999.0,9,-999.0000,9,-999.0000,9,-999.0000,9,-999.0000,9,-999.0000,9,-999.0000,9,-999.0000,9,-999.0000,9,-999.0000,9,-999.0000,-999.000,  -1.5485,     -999.0,     -999.0,9,     -999.0,1,     -999.0,1,     -999.0,9,     -999.0,20110308,       1951
320620110219,       S04P,      38,          1,         32,         32,2,20110308,       1810,   -66.9998,  -158.8248,       3744,    91.0,  -1.1943,  34.2385,2,  34.2611,2,    264.3,2,   267.1,2,   68.26,2,   30.02,2,    0.11,2,    2.09,2,   3.831,2,   2.081,2,   0.342,2,   1.4220,2,  2220.6,2,  2314.9,2,   7.5955,2,    25.00,-999.000,9,-999.0000,9,-999.000,9,  -1.1786,2, -999.00,9,  -999.0,9,  -999.0,-999.000,9, -999.00,9,-999.000,9,   44.22,2,   33.41,2, -66.9998,-158.8248,-999.000,     -999.0,    34.4227,2,     -999.0,9,     -999.0,9,-999.0000,9,-999.0000,9,-999.0000,9,-999.0000,9,-999.0000,9,-999.0000,9,-999.0000,9,-999.0000,9,-999.0000,9,-999.0000,-999.000,  -1.1966,     -999.0,     -999.0,9,     -999.0,9,     -999.0,9,     -999.0,9,     -999.0,20110308,       1950
320620110219,       S04P,      38,          1,         31,         31,2,20110308,       1810,   -66.9998,  -158.8248,       3744,   115.1,   0.4103,  34.5068,2,  34.5051,2,    217.0,2,   214.7,2,   82.10,2,   32.33,2,    0.05,2,    2.21,2,-999.000,9,-999.000,9,-999.000,9,-999.0000,9,  2245.9,2,  2329.3,2,   7.5651,2,    25.00,-999.000,9,-999.0000,9,-999.000,9,   0.4082,2, -999.00,9,  -999.0,9,  -999.0,-999.000,9, -999.00,9,-999.000,9,   42.27,2,   35.37,2, -66.9998,-158.8248,-999.000,     -999.0,    34.6678,2,     -999.0,9,     -999.0,9,-999.0000,9,-999.0000,9,-999.0000,9,-999.0000,9,-999.0000,9,-999.0000,9,-999.0000,9,-999.0000,9,-999.0000,9,-999.0000,-999.000,   0.4058,     -999.0,     -999.0,9,     -999.0,9,     -999.0,9,     -999.0,9,     -999.0,20110308,       1948
320620110219,       S04P,      38,          1,         30,         30,2,20110308,       1810,   -66.9998,  -158.8248,       3744,   140.1,   1.0085,  34.6091,2,  34.6059,2,    196.6,2,   195.6,2,   87.38,2,   32.71,2,    0.04,2,    2.22,2,   1.244,2,   0.622,2,   0.101,2,   0.2800,2,  2252.4,2,  2338.0,2,   7.5596,2,    25.00,-999.000,9,-999.0000,9,-999.000,9,   1.0094,2, -999.00,9,  -999.0,9,  -999.0,-999.000,9, -999.00,9,-999.000,9,   41.99,2,   35.65,2, -66.9998,-158.8248,-999.000,     -999.0,    34.7691,2,     -999.0,9,     -999.0,9,-999.0000,9,-999.0000,9,-999.0000,9,-999.0000,9,-999.0000,9,-999.0000,9,-999.0000,9,-999.0000,9,-999.0000,9,-999.0000,-999.000,   1.0022,     -999.0,     -999.0,9,     -999.0,9,     -999.0,9,     -999.0,9,     -999.0,20110308,       1947
320620110219,       S04P,      38,          1,         29,         29,2,20110308,       1810,   -66.9998,  -158.8248,       3744,   184.3,   1.3316,  34.6759,2,  34.6724,2,    185.0,2,   185.2,2,   92.00,2,   32.79,2,    0.03,2,    2.23,2,-999.000,9,-999.000,9,-999.000,9,-999.0000,9,  2256.7,2,  2342.5,2,   7.5602,2,    25.00,-999.000,9,-999.0000,9,-999.000,9,   1.3315,2, -999.00,9,  -999.0,9,  -999.0,-999.000,9, -999.00,9,-999.000,9,   41.47,2,   35.50,2, -66.9998,-158.8248,-999.000,     -999.0,    34.8359,2,     -999.0,9,     -999.0,9,-999.0000,9,-999.0000,9,-999.0000,9,-999.0000,9,-999.0000,9,-999.0000,9,-999.0000,9,-999.0000,9,-999.0000,9,-999.0000,-999.000,   1.3227,     -999.0,     -999.0,9,     -999.0,9,     -999.0,9,     -999.0,9,     -999.0,20110308,       1945
320620110219,       S04P,      38,          1,         28,         28,2,20110308,       1810,   -66.9998,  -158.8248,       3744,   235.2,   1.4614,  34.7121,2,  34.7110,2,    180.8,2,   181.5,2,   95.92,2,   32.73,2,    0.02,2,    2.24,2,   0.424,2,   0.183,2,   0.022,2,   0.1330,2,  2261.9,2,  2346.3,2,   7.5646,2,    25.00,-999.000,9,-999.0000,9,-999.000,9,   1.4608,2, -999.00,9,  -999.0,9,  -999.0,-999.000,9, -999.00,9,-999.000,9,   41.86,2,   35.60,2, -66.9998,-158.8248,-999.000,     -999.0,    34.8747,2,     -999.0,9,     -999.0,9,-999.0000,9,-999.0000,9,-999.0000,9,-999.0000,9,-999.0000,9,-999.0000,9,-999.0000,9,-999.0000,9,-999.0000,9,-999.0000,-999.000,   1.4497,     -999.0,     -999.0,9,     -999.0,9,     -999.0,9,     -999.0,9,     -999.0,20110308,       1943
320620110219,       S04P,      38,          1,         27,         27,2,20110308,       1810,   -66.9998,  -158.8248,       3744,   284.5,   1.4640,  34.7244,2,  34.7226,2,    181.3,2,   182.0,2,   98.21,2,   32.63,2,    0.02,2,    2.24,2,-999.000,9,-999.000,9,-999.000,9,-999.0000,9,  2260.6,2,  2347.9,2,   7.5637,2,    25.00,-999.000,9,-999.0000,9,-999.000,9,   1.4640,2, -999.00,9,  -999.0,9,  -999.0,-999.000,9, -999.00,9,-999.000,9,   41.50,2,   35.44,2, -66.9998,-158.8248,-999.000,     -999.0,    34.8863,2,     -999.0,9,     -999.0,9,-999.0000,9,-999.0000,9,-999.0000,9,-999.0000,9,-999.0000,9,-999.0000,9,-999.0000,9,-999.0000,9,-999.0000,9,-999.0000,-999.000,   1.4497,     -999.0,     -999.0,9,     -999.0,9,     -999.0,9,     -999.0,9,     -999.0,20110308,       1941
320620110219,       S04P,      38,          1,         26,         26,2,20110308,       1810,   -66.9998,  -158.8248,       3744,   334.1,   1.4258,  34.7284,2,  34.7265,2,    183.0,2,   182.2,2,  100.06,2,   32.53,2,    0.02,2,    2.23,2,   0.286,2,   0.124,2,   0.018,2,   0.1330,2,  2262.2,2,  2350.5,2,   7.5689,2,    25.00,-999.000,9,-999.0000,9,-999.000,9,   1.4252,2, -999.00,9,  -999.0,9,  -999.0,-999.000,9, -999.00,9,-999.000,9,   41.26,2,   35.13,2, -66.9998,-158.8248,-999.000,     -999.0,    34.8902,2,     -999.0,9,     -999.0,9,-999.0000,9,-999.0000,9,-999.0000,9,-999.0000,9,-999.0000,9,-999.0000,9,-999.0000,9,-999.0000,9,-999.0000,9,-999.0000,-999.000,   1.4090,     -999.0,     -999.0,9,     -999.0,9,     -999.0,9,     -999.0,9,     -999.0,20110308,       1939
320620110219,       S04P,      38,          1,         25,         25,2,20110308,       1810,   -66.9998,  -158.8248,       3744,   386.2,   1.3801,  34.7293,2,  34.7282,2,    182.1,2,   180.9,2,  102.56,2,   32.78,2,    0.01,2,    2.23,2,-999.000,9,-999.000,9,-999.000,9,-999.0000,9,  2263.6,2,  2350.6,2,   7.5674,2,    25.00,-999.000,9,-999.0000,9,-999.000,9,   1.3802,2, -999.00,9,  -999.0,9,  -999.0,-999.000,9, -999.00,9,-999.000,9,   41.01,2,   34.81,2, -66.9998,-158.8248,-999.000,     -999.0,    34.8920,2,     -999.0,9,     -999.0,9,-999.0000,9,-999.0000,9,-999.0000,9,-999.0000,9,-999.0000,9,-999.0000,9,-999.0000,9,-999.0000,9,-999.0000,9,-999.0000,-999.000,   1.3607,     -999.0,     -999.0,9,     -999.0,9,     -999.0,9,     -999.0,9,     -999.0,20110308,       1937
320620110219,       S04P,      38,          1,         24,         24,2,20110308,       1810,   -66.9998,  -158.8248,       3744,   436.2,   1.3360,  34.7295,2,  34.7288,2,    183.3,2,   182.2,2,  104.46,2,   32.85,2,    0.01,2,    2.24,2,   0.186,2,   0.077,2,   0.012,2,   0.1030,2,  2264.2,2,  2351.2,2,   7.5659,4,    25.00,-999.000,9,-999.0000,9,-999.000,9,   1.3358,2, -999.00,9,  -999.0,9,  -999.0,-999.000,9, -999.00,9,-999.000,9,   40.37,2,   34.90,2, -66.9998,-158.8248,-999.000,     -999.0,    34.8926,2,     -999.0,9,     -999.0,9,-999.0000,9,-999.0000,9,-999.0000,9,-999.0000,9,-999.0000,9,-999.0000,9,-999.0000,9,-999.0000,9,-999.0000,9,-999.0000,-999.000,   1.3140,     -999.0,     -999.0,9,     -999.0,9,     -999.0,9,     -999.0,9,     -999.0,20110308,       1935
320620110219,       S04P,      38,          1,         23,         23,2,20110308,       1810,   -66.9998,  -158.8248,       3744,   486.0,   1.2911,  34.7293,2,  34.7284,2,    182.9,2,   183.6,2,  106.01,2,   32.81,2,    0.01,2,    2.24,2,-999.000,9,-999.000,9,-999.000,9,-999.0000,9,  2263.6,2,  2351.5,2,   7.5703,6,    25.00,-999.000,9,-999.0000,9,-999.000,9,   1.2905,2, -999.00,9,  -999.0,9,  -999.0,-999.000,9, -999.00,9,-999.000,9,   40.38,2,   35.13,2, -66.9998,-158.8248,-999.000,     -999.0,    34.8922,2,     -999.0,9,     -999.0,9,-999.0000,9,-999.0000,9,-999.0000,9,-999.0000,9,-999.0000,9,-999.0000,9,-999.0000,9,-999.0000,9,-999.0000,9,-999.0000,-999.000,   1.2666,     -999.0,     -999.0,9,     -999.0,9,     -999.0,9,     -999.0,9,     -999.0,20110308,       1933
320620110219,       S04P,      38,          1,         22,         22,2,20110308,       1810,   -66.9998,  -158.8248,       3744,   565.5,   1.2338,  34.7282,2,  34.7272,2,    185.2,2,   185.6,2,  107.40,2,   32.64,2,    0.01,2,    2.22,2,   0.172,2,   0.073,2,   0.009,2,   0.1020,2,  2263.8,6,  2352.2,2,   7.5738,2,    25.00,-999.000,9,-999.0000,9,-999.000,9,   1.2341,2, -999.00,9,  -999.0,9,  -999.0,-999.000,9, -999.00,9,-999.000,9,   40.12,2,   35.16,2, -66.9998,-158.8248,-999.000,     -999.0,    34.8910,2,     -999.0,9,     -999.0,9,-999.0000,9,-999.0000,9,-999.0000,9,-999.0000,9,-999.0000,9,-999.0000,9,-999.0000,9,-999.0000,9,-999.0000,9,-999.0000,-999.000,   1.2052,     -999.0,     -999.0,9,     -999.0,9,     -999.0,9,     -999.0,9,     -999.0,20110308,       1930
320620110219,       S04P,      38,          1,         21,         21,2,20110308,       1810,   -66.9998,  -158.8248,       3744,   664.0,   1.1638,  34.7266,2,  34.7254,2,    187.6,2,   187.4,2,  110.15,2,   32.58,2,    0.00,2,    2.24,2,-999.000,9,-999.000,9,-999.000,9,-999.0000,9,  -999.0,9,  -999.0,9,-999.0000,9,  -999.00,-999.000,9,-999.0000,9,-999.000,9,   1.1634,2, -999.00,9,  -999.0,9,  -999.0,-999.000,9, -999.00,9,-999.000,9,   39.88,2,   35.22,2, -66.9998,-158.8248,-999.000,     -999.0,    34.8892,2,     -999.0,9,     -999.0,9,-999.0000,9,-999.0000,9,-999.0000,9,-999.0000,9,-999.0000,9,-999.0000,9,-999.0000,9,-999.0000,9,-999.0000,9,-999.0000,-999.000,   1.1300,     -999.0,     -999.0,9,     -999.0,9,     -999.0,9,     -999.0,9,     -999.0,20110308,       1927
320620110219,       S04P,      38,          1,         20,         20,2,20110308,       1810,   -66.9998,  -158.8248,       3744,   764.6,   1.0970,  34.7241,2,  34.7229,2,    190.0,2,   190.1,2,  112.00,2,   32.47,2,    0.00,2,    2.23,2,   0.119,2,   0.047,2,   0.005,2,   0.0540,2,  2262.2,2,  2355.5,6,   7.5796,2,    25.00,-999.000,9,-999.0000,9,-999.000,9,   1.0970,2, -999.00,9,  -999.0,9,  -999.0,-999.000,9, -999.00,9,-999.000,9,   39.72,2,   35.00,2, -66.9998,-158.8248,-999.000,     -999.0,    34.8866,2,     -999.0,9,     -999.0,9,-999.0000,9,-999.0000,9,-999.0000,9,-999.0000,9,-999.0000,9,-999.0000,9,-999.0000,9,-999.0000,9,-999.0000,9,-999.0000,-999.000,   1.0578,     -999.0,     -999.0,9,     -999.0,9,     -999.0,9,     -999.0,9,     -999.0,20110308,       1924
320620110219,       S04P,      38,          1,         19,         19,2,20110308,       1810,   -66.9998,  -158.8248,       3744,   863.3,   1.0357,  34.7220,2,  34.7246,2,    192.9,2,   192.6,2,  113.60,2,   32.32,2,    0.00,2,    2.22,2,-999.000,9,-999.000,9,-999.000,9,-999.0000,9,  -999.0,9,  -999.0,9,-999.0000,9,  -999.00,-999.000,9,-999.0000,9,-999.000,9,   1.0358,2, -999.00,9,  -999.0,9,  -999.0,-999.000,9, -999.00,9,-999.000,9,   39.47,2,   34.70,2, -66.9998,-158.8248,-999.000,     -999.0,    34.8884,2,     -999.0,9,     -999.0,9,-999.0000,9,-999.0000,9,-999.0000,9,-999.0000,9,-999.0000,9,-999.0000,9,-999.0000,9,-999.0000,9,-999.0000,9,-999.0000,-999.000,   0.9912,     -999.0,     -999.0,9,     -999.0,9,     -999.0,9,     -999.0,9,     -999.0,20110308,       1922
320620110219,       S04P,      38,          1,         18,         18,2,20110308,       1810,   -66.9998,  -158.8248,       3744,   965.5,   0.9734,  34.7195,2,  34.7216,2,    195.8,2,   195.3,2,  114.93,2,   32.24,2,    0.00,2,    2.21,2,   0.113,2,   0.048,2,   0.004,2,   0.0610,2,  2262.3,2,  2355.9,2,   7.5845,2,    25.00,-999.000,9,-999.0000,9,-999.000,9,   0.9738,2, -999.00,9,  -999.0,9,  -999.0,-999.000,9, -999.00,9,-999.000,9,   39.60,2,   34.41,2, -66.9998,-158.8248,-999.000,     -999.0,    34.8854,2,     -999.0,9,     -999.0,9,-999.0000,9,-999.0000,9,-999.0000,9,-999.0000,9,-999.0000,9,-999.0000,9,-999.0000,9,-999.0000,9,-999.0000,9,-999.0000,-999.000,   0.9233,     -999.0,     -999.0,9,     -999.0,9,     -999.0,9,     -999.0,9,     -999.0,20110308,       1919
320620110219,       S04P,      38,          1,         17,         17,2,20110308,       1810,   -66.9998,  -158.8248,       3744,  1064.6,   0.9230,  34.7174,2,  34.7183,2,    197.4,2,   196.8,2,  116.10,2,   32.20,2,    0.00,2,    2.20,2,-999.000,9,-999.000,9,-999.000,9,-999.0000,9,  -999.0,9,  -999.0,9,-999.0000,9,  -999.00,-999.000,9,-999.0000,9,-999.000,9,   0.9233,2, -999.00,9,  -999.0,9,  -999.0,-999.000,9, -999.00,9,-999.000,9,   39.63,2,   34.70,2, -66.9998,-158.8248,-999.000,     -999.0,    34.8820,2,     -999.0,9,     -999.0,9,-999.0000,9,-999.0000,9,-999.0000,9,-999.0000,9,-999.0000,9,-999.0000,9,-999.0000,9,-999.0000,9,-999.0000,9,-999.0000,-999.000,   0.8673,     -999.0,     -999.0,9,     -999.0,9,     -999.0,9,     -999.0,9,     -999.0,20110308,       1916
320620110219,       S04P,      38,          1,         16,         16,2,20110308,       1810,   -66.9998,  -158.8248,       3744,  1163.5,   0.8655,  34.7153,2,  34.7165,2,    199.0,2,   199.1,2,  118.25,2,   32.15,2,    0.00,2,    2.22,2,   0.105,2,   0.044,2,   0.005,2,   0.0500,2,  2262.1,2,  2357.0,2,   7.5899,2,    25.00,-999.000,9,-999.0000,9,-999.000,9,   0.8649,2, -999.00,9,  -999.0,9,  -999.0,-999.000,9, -999.00,9,-999.000,9,   40.12,2,   34.85,2, -66.9998,-158.8248,-999.000,     -999.0,    34.8802,2,     -999.0,9,     -999.0,9,-999.0000,9,-999.0000,9,-999.0000,9,-999.0000,9,-999.0000,9,-999.0000,9,-999.0000,9,-999.0000,9,-999.0000,9,-999.0000,-999.000,   0.8042,     -999.0,     -999.0,9,     -999.0,9,     -999.0,9,     -999.0,9,     -999.0,20110308,       1913
320620110219,       S04P,      38,          1,         15,         15,2,20110308,       1810,   -66.9998,  -158.8248,       3744,  1267.1,   0.8069,  34.7126,2,  34.7135,2,    200.3,2,   200.2,2,  119.89,2,   32.14,2,    0.00,2,    2.23,2,-999.000,9,-999.000,9,-999.000,9,-999.0000,9,  -999.0,9,  -999.0,9,-999.0000,9,  -999.00,-999.000,9,-999.0000,9,-999.000,9,   0.8075,2, -999.00,9,  -999.0,9,  -999.0,-999.000,9, -999.00,9,-999.000,9,   39.83,2,   34.54,2, -66.9998,-158.8248,-999.000,     -999.0,    34.8772,2,     -999.0,9,     -999.0,9,-999.0000,9,-999.0000,9,-999.0000,9,-999.0000,9,-999.0000,9,-999.0000,9,-999.0000,9,-999.0000,9,-999.0000,9,-999.0000,-999.000,   0.7396,     -999.0,     -999.0,9,     -999.0,9,     -999.0,9,     -999.0,9,     -999.0,20110308,       1910
320620110219,       S04P,      38,          1,         14,         14,2,20110308,       1810,   -66.9998,  -158.8248,       3744,  1364.5,   0.7681,  34.7111,2,  34.7118,2,    201.5,2,   201.1,2,  121.58,2,   32.09,2,    0.00,2,    2.24,2,   0.094,6,   0.039,6,   0.004,6,   0.0400,6,  -999.0,9,  -999.0,9,-999.0000,9,  -999.00,-999.000,9,-999.0000,9,-999.000,9,   0.7677,2, -999.00,9,  -999.0,9,  -999.0,-999.000,9, -999.00,9,-999.000,9,   39.89,2,   34.50,2, -66.9998,-158.8248,-999.000,     -999.0,    34.8754,2,     -999.0,9,     -999.0,9,-999.0000,9,-999.0000,9,-999.0000,9,-999.0000,9,-999.0000,9,-999.0000,9,-999.0000,9,-999.0000,9,-999.0000,9,-999.0000,-999.000,   0.6949,     -999.0,     -999.0,9,     -999.0,9,     -999.0,9,     -999.0,9,     -999.0,20110308,       1907