BOTTLE,20220813CCHSIOAMB
EXPOCODE,SECT_ID,STNNBR,CASTNO,SAMPNO,BTLNBR,BTLNBR_FLAG_W,DATE,TIME,LATITUDE,LONGITUDE,DEPTH,CTDPRS,CTDTMP,CTDSAL,CTDSAL_FLAG_W,SALNTY,SALNTY_FLAG_W,CTDOXY,CTDOXY_FLAG_W,OXYGEN,OXYGEN_FLAG_W,SILCAT,SILCAT_FLAG_W,NITRAT,NITRAT_FLAG_W,NITRIT,NITRIT_FLAG_W,PHSPHT,PHSPHT_FLAG_W,CFC-11,CFC-11_FLAG_W,CFC-12,CFC-12_FLAG_W,CFC113,CFC113_FLAG_W,SF6,SF6_FLAG_W,TCARBN,TCARBN_FLAG_W,ALKALI,ALKALI_FLAG_W,PH_TOT,PH_TOT_FLAG_W,PH_TMP,TRITUM,TRITUM_FLAG_W,HELIUM,HELIUM_FLAG_W,DELHE3,DELHE3_FLAG_W,REFTMP,REFTMP_FLAG_W,DELC13,DELC13_FLAG_W,DELC14,DELC14_FLAG_W,C14ERR,NEON,NEON_FLAG_W,DELO18,DELO18_FLAG_W,POC,POC_FLAG_W,DOC,DOC_FLAG_W,TDN,TDN_FLAG_W,BTL_LAT,BTL_LON,TRITER,NEONER,SALTREF,SALTREF_FLAG_W,PIGMENTS,PIGMENTS_FLAG_W,LAB_DEN,LAB_DEN_FLAG_W,CDOM325,CDOM325_FLAG_W,CDOM340,CDOM340_FLAG_W,CDOM380,CDOM380_FLAG_W,CDOM412,CDOM412_FLAG_W,CDOM443,CDOM443_FLAG_W,CDOM490,CDOM490_FLAG_W,CDOM555,CDOM555_FLAG_W,CDOMSL,CDOMSL_FLAG_W,CDOMSN,CDOMSN_FLAG_W,HELIER,DELHER,THETA,LDEO_SAMPNO,ABSORBTION,ABSORBTION_FLAG_W,IMAGE_COUNT,IMAGE_COUNT_FLAG_W,CYTO_COUNT,CYTO_COUNT_FLAG_W,DELD,DELD_FLAG_W,DELDERR,BTL_DATE,BTL_TIME
,,,,,,,,,,,METERS,DBAR,ITS-90,PSS-78,,PSS-78,,UMOL/KG,,UMOL/KG,,UMOL/KG,,UMOL/KG,,UMOL/KG,,UMOL/KG,,PMOL/KG,,PMOL/KG,,PMOL/KG,,FMOL/KG,,UMOL/KG,,UMOL/KG,,,,DEG C,TU,,NMOL/KG,,PERCNT,,DEG C,,/MILLE,,/MILLE,,/MILLE,NMOL/KG,,/MILLE,,UG/KG,,UMOL/KG,,UMOL/KG,,,,TU,NMOL/KG,G/KG,,,,,,1/M,,1/M,,1/M,,1/M,,1/M,,1/M,,1/M,,1/NM,,1/NM,,NMOL/KG,PERCNT,DEG C,,,,,,,,/MILLE,,/MILLE,,
320620110219,       S04P,      99,          1,         36,         36,2,20110331,       1248,   -67.0003,  -142.3207,       3857,     5.3,  -0.5985,  33.5312,2,  33.5308,2,    345.0,3,   345.7,2,   34.56,2,   23.43,2,    0.19,2,    1.60,2,   6.058,2,   3.376,2,   0.625,2,   2.8230,2,  2141.9,2,  2270.6,2,   7.7017,6,    25.00,-999.000,9,-999.0000,9,-999.000,9,  -0.5968,2, -999.00,9,  -999.0,9,  -999.0,-999.000,9, -999.00,9,-999.000,9,   45.35,2,   28.69,2, -67.0003,-142.3208,-999.000,     -999.0,    33.6889,2,     -999.0,9,     -999.0,9,-999.0000,9,-999.0000,9,-999.0000,9,-999.0000,9,-999.0000,9,-999.0000,9,-999.0000,9,-999.0000,9,-999.0000,9,-999.0000,-999.000,  -0.5986,     -999.0,     -999.0,9,     -999.0,9,     -999.0,9,     -999.0,9,     -999.0,20110331,       1426
320620110219,       S04P,      99,          1,         35,         35,2,20110331,       1248,   -67.0003,  -142.3207,       3857,    35.2,  -0.4951,  33.5641,2,  33.5640,2,    345.3,2,   344.4,2,   34.68,2,   23.96,2,    0.21,2,    1.64,2,   5.982,2,   3.350,2,   0.610,2,   2.8110,2,  2145.8,2,  2272.0,2,   7.6980,2,    25.00,-999.000,9,-999.0000,9,-999.000,9,  -0.4974,2, -999.00,9,  -999.0,9,  -999.0,-999.000,9, -999.00,9,-999.000,9,   44.57,2,   28.22,2, -67.0003,-142.3208,-999.000,     -999.0,    33.7222,2,     -999.0,9,     -999.0,9,-999.0000,9,-999.0000,9,-999.0000,9,-999.0000,9,-999.0000,9,-999.0000,9,-999.0000,9,-999.0000,9,-999.0000,9,-999.0000,-999.000,  -0.4961,     -999.0,     -999.0,9,     -999.0,9,     -999.0,9,     -999.0,9,     -999.0,20110331,       1425
320620110219,       S04P,      99,          1,         34,         34,2,20110331,       1248,   -67.0003,  -142.3207,       3857,    61.3,  -1.6818,  33.9542,3,  33.9205,2,    335.1,2,   332.1,2,   48.00,2,   27.12,2,    0.21,2,    1.94,2,   5.631,2,   3.122,2,   0.584,2,   2.5860,2,  2181.5,6,  2298.9,2,   7.6513,2,    25.00,-999.000,9,-999.0000,9,-999.000,9,  -1.6735,2, -999.00,9,  -999.0,9,  -999.0,-999.000,9, -999.00,9,-999.000,9,   42.29,2,   31.94,2, -67.0003,-142.3208,-999.000,     -999.0,    34.0805,2,     -999.0,9,     -999.0,9,-999.0000,9,-999.0000,9,-999.0000,9,-999.0000,9,-999.0000,9,-999.0000,9,-999.0000,9,-999.0000,9,-999.0000,9,-999.0000,-999.000,  -1.6830,     -999.0,     -999.0,9,     -999.0,9,     -999.0,9,     -999.0,9,     -999.0,20110331,       1423
320620110219,       S04P,      99,          1,         33,         33,2,20110331,       1248,   -67.0003,  -142.3207,       3857,    86.1,  -1.7637,  34.0229,2,  34.0205,2,    325.9,2,   325.1,2,   50.67,2,   28.16,2,    0.35,2,    1.95,2,   5.498,2,   3.080,2,   0.554,2,-999.0000,9,  2190.3,2,  2302.6,2,   7.6378,2,    25.00,-999.000,9,-999.0000,9,-999.000,9,  -1.7641,2, -999.00,9,  -999.0,9,  -999.0,-999.000,9, -999.00,9,-999.000,9,   41.77,2,   31.43,2, -67.0003,-142.3208,-999.000,     -999.0,    34.1809,2,     -999.0,9,     -999.0,9,-999.0000,9,-999.0000,9,-999.0000,9,-999.0000,9,-999.0000,9,-999.0000,9,-999.0000,9,-999.0000,9,-999.0000,9,-999.0000,-999.000,  -1.7654,     -999.0,     -999.0,9,     -999.0,9,     -999.0,9,     -999.0,9,     -999.0,20110331,       1422
320620110219,       S04P,      99,          1,         32,         32,2,20110331,       1248,   -67.0003,  -142.3207,       3857,   109.5,  -1.7376,  34.0517,2,  34.0496,2,    321.5,2,   321.4,2,   51.23,2,   28.55,2,    0.17,2,    1.98,2,   5.371,6,   3.010,6,   0.548,6,   2.3690,6,  2193.2,2,  2304.3,2,   7.6346,2,    25.00,-999.000,9,-999.0000,9,-999.000,9,  -1.7400,2, -999.00,9,  -999.0,9,  -999.0,-999.000,9, -999.00,9,-999.000,9,   41.26,2,   32.02,2, -67.0003,-142.3208,-999.000,     -999.0,    34.2102,2,     -999.0,9,     -999.0,9,-999.0000,9,-999.0000,9,-999.0000,9,-999.0000,9,-999.0000,9,-999.0000,9,-999.0000,9,-999.0000,9,-999.0000,9,-999.0000,-999.000,  -1.7398,     -999.0,     -999.0,9,     -999.0,9,     -999.0,9,     -999.0,9,     -999.0,20110331,       1420
320620110219,       S04P,      99,          1,         31,         31,2,20110331,       1248,   -67.0003,  -142.3207,       3857,   134.3,  -1.5487,  34.0948,2,  34.0936,2,    314.1,2,   313.5,2,   54.30,2,   28.98,2,    0.02,2,    1.99,2,   5.143,2,   2.875,2,   0.522,2,   2.2210,2,  2197.4,2,  2304.1,2,   7.6275,2,    25.00,-999.000,9,-999.0000,9,-999.000,9,  -1.5557,2, -999.00,9,  -999.0,9,  -999.0,-999.000,9, -999.00,9,-999.000,9,   40.94,2,   31.67,2, -67.0003,-142.3208,-999.000,     -999.0,    34.2544,2,     -999.0,9,     -999.0,9,-999.0000,9,-999.0000,9,-999.0000,9,-999.0000,9,-999.0000,9,-999.0000,9,-999.0000,9,-999.0000,9,-999.0000,9,-999.0000,-999.000,  -1.5517,     -999.0,     -999.0,9,     -999.0,9,     -999.0,9,     -999.0,9,     -999.0,20110331,       1419
320620110219,       S04P,      99,          1,         30,         30,2,20110331,       1248,   -67.0003,  -142.3207,       3857,   163.3,  -0.6835,  34.2457,2,  34.2281,2,    287.3,2,   282.0,2,   62.34,2,   30.16,2,    0.00,2,    2.07,2,   4.139,2,   2.307,2,   0.412,2,   1.8220,2,  2213.1,2,  2315.5,2,   7.6083,2,    25.00,-999.000,9,-999.0000,9,-999.000,9,  -0.6772,2, -999.00,9,  -999.0,9,  -999.0,-999.000,9, -999.00,9,-999.000,9,   41.15,2,   32.78,2, -67.0003,-142.3208,-999.000,     -999.0,    34.3895,2,     -999.0,9,     -999.0,9,-999.0000,9,-999.0000,9,-999.0000,9,-999.0000,9,-999.0000,9,-999.0000,9,-999.0000,9,-999.0000,9,-999.0000,9,-999.0000,-999.000,  -0.6884,     -999.0,     -999.0,9,     -999.0,9,     -999.0,9,     -999.0,9,     -999.0,20110331,       1417
320620110219,       S04P,      99,          1,         29,         29,2,20110331,       1248,   -67.0003,  -142.3207,       3857,   215.1,   0.8122,  34.5767,2,  34.5677,2,    214.4,2,   206.2,2,   86.14,2,   32.50,2,    0.00,2,    2.23,2,   1.582,2,   0.871,2,   0.140,2,   0.5890,2,  2249.7,2,  2336.0,2,   7.5657,2,    25.00,-999.000,9,-999.0000,9,-999.000,9,   0.8103,2, -999.00,9,  -999.0,9,  -999.0,-999.000,9, -999.00,9,-999.000,9,   40.84,2,   34.77,2, -67.0003,-142.3208,-999.000,     -999.0,    34.7307,2,     -999.0,9,     -999.0,9,-999.0000,9,-999.0000,9,-999.0000,9,-999.0000,9,-999.0000,9,-999.0000,9,-999.0000,9,-999.0000,9,-999.0000,9,-999.0000,-999.000,   0.8028,     -999.0,     -999.0,9,     -999.0,9,     -999.0,9,     -999.0,9,     -999.0,20110331,       1416
320620110219,       S04P,      99,          1,         28,         28,2,20110331,       1248,   -67.0003,  -142.3207,       3857,   265.6,   1.3424,  34.6955,2,  34.6931,2,    185.4,2,   184.8,2,   94.72,2,   32.66,2,    0.00,2,    2.24,2,   0.570,2,   0.298,2,   0.044,2,   0.1500,2,  2260.1,2,  2345.6,2,   7.5652,2,    25.00,-999.000,9,-999.0000,9,-999.000,9,   1.3424,2, -999.00,9,  -999.0,9,  -999.0,-999.000,9, -999.00,9,-999.000,9,   40.66,2,   35.46,2, -67.0003,-142.3208,-999.000,     -999.0,    34.8567,2,     -999.0,9,     -999.0,9,-999.0000,9,-999.0000,9,-999.0000,9,-999.0000,9,-999.0000,9,-999.0000,9,-999.0000,9,-999.0000,9,-999.0000,9,-999.0000,-999.000,   1.3294,     -999.0,     -999.0,9,     -999.0,9,     -999.0,9,     -999.0,9,     -999.0,20110331,       1414
320620110219,       S04P,      99,          1,         27,         27,2,20110331,       1248,   -67.0003,  -142.3207,       3857,   315.1,   1.4065,  34.7223,2,  34.7206,2,    183.5,2,   183.6,2,   98.18,2,   32.40,2,    0.00,2,    2.24,2,   0.317,2,   0.161,2,   0.018,2,   0.0790,2,  2260.8,2,  2349.0,2,   7.5701,2,    25.00,-999.000,9,-999.0000,9,-999.000,9,   1.4064,2, -999.00,9,  -999.0,9,  -999.0,-999.000,9, -999.00,9,-999.000,9,   40.62,2,   35.15,2, -67.0003,-142.3208,-999.000,     -999.0,    34.8843,2,     -999.0,9,     -999.0,9,-999.0000,9,-999.0000,9,-999.0000,9,-999.0000,9,-999.0000,9,-999.0000,9,-999.0000,9,-999.0000,9,-999.0000,9,-999.0000,-999.000,   1.3908,     -999.0,     -999.0,9,     -999.0,9,     -999.0,9,     -999.0,9,     -999.0,20110331,       1412
320620110219,       S04P,      99,          1,         26,         26,2,20110331,       1248,   -67.0003,  -142.3207,       3857,   364.3,   1.3713,  34.7269,2,  34.7257,2,    182.7,2,   182.8,2,  100.84,2,   32.46,2,    0.00,2,    2.24,2,   0.250,2,   0.124,2,   0.016,2,   0.0240,2,  2264.3,2,  2351.2,2,   7.5735,2,    25.00,-999.000,9,-999.0000,9,-999.000,9,   1.3718,2, -999.00,9,  -999.0,9,  -999.0,-999.000,9, -999.00,9,-999.000,9,   40.23,2,   34.98,2, -67.0003,-142.3208,-999.000,     -999.0,    34.8894,2,     -999.0,9,     -999.0,9,-999.0000,9,-999.0000,9,-999.0000,9,-999.0000,9,-999.0000,9,-999.0000,9,-999.0000,9,-999.0000,9,-999.0000,9,-999.0000,-999.000,   1.3531,     -999.0,     -999.0,9,     -999.0,9,     -999.0,9,     -999.0,9,     -999.0,20110331,       1410
320620110219,       S04P,      99,          1,         25,         25,2,20110331,       1248,   -67.0003,  -142.3207,       3857,   414.0,   1.3318,  34.7288,2,  34.7284,2,    182.2,2,   183.7,2,  102.86,2,   32.37,2,    0.00,2,    2.24,2,-999.000,9,-999.000,9,-999.000,9,-999.0000,9,  2263.0,2,  2353.2,2,   7.5722,2,    25.00,-999.000,9,-999.0000,9,-999.000,9,   1.3313,2, -999.00,9,  -999.0,9,  -999.0,-999.000,9, -999.00,9,-999.000,9,   40.38,2,   35.04,2, -67.0003,-142.3208,-999.000,     -999.0,    34.8922,2,     -999.0,9,     -999.0,9,-999.0000,9,-999.0000,9,-999.0000,9,-999.0000,9,-999.0000,9,-999.0000,9,-999.0000,9,-999.0000,9,-999.0000,9,-999.0000,-999.000,   1.3110,     -999.0,     -999.0,9,     -999.0,9,     -999.0,9,     -999.0,9,     -999.0,20110331,       1408
320620110219,       S04P,      99,          1,         24,         24,2,20110331,       1248,   -67.0003,  -142.3207,       3857,   465.9,   1.2965,  34.7288,2,  34.7278,2,    184.0,2,   182.5,2,  104.46,2,   32.67,2,    0.00,2,    2.25,2,   0.192,2,   0.095,2,   0.012,2,   0.0050,2,  2264.1,2,  2353.9,2,   7.5693,2,    25.00,-999.000,9,-999.0000,9,-999.000,9,   1.2964,2, -999.00,9,  -999.0,9,  -999.0,-999.000,9, -999.00,9,-999.000,9,   40.78,2,   35.24,2, -67.0003,-142.3208,-999.000,     -999.0,    34.8916,2,     -999.0,9,     -999.0,9,-999.0000,9,-999.0000,9,-999.0000,9,-999.0000,9,-999.0000,9,-999.0000,9,-999.0000,9,-999.0000,9,-999.0000,9,-999.0000,-999.000,   1.2731,     -999.0,     -999.0,9,     -999.0,9,     -999.0,9,     -999.0,9,     -999.0,20110331,       1407
320620110219,       S04P,      99,          1,         23,         23,2,20110331,       1248,   -67.0003,  -142.3207,       3857,   533.8,   1.2574,  34.7288,2,  34.7278,2,    183.9,2,   184.2,2,  106.48,2,   32.53,2,    0.00,2,    2.24,2,-999.000,9,-999.000,9,-999.000,9,-999.0000,9,  2263.8,2,  2352.9,2,   7.5731,2,    25.00,-999.000,9,-999.0000,9,-999.000,9,   1.2571,2, -999.00,9,  -999.0,9,  -999.0,-999.000,9, -999.00,9,-999.000,9,   41.19,2,   35.10,2, -67.0003,-142.3208,-999.000,     -999.0,    34.8916,2,     -999.0,9,     -999.0,9,-999.0000,9,-999.0000,9,-999.0000,9,-999.0000,9,-999.0000,9,-999.0000,9,-999.0000,9,-999.0000,9,-999.0000,9,-999.0000,-999.000,   1.2304,     -999.0,     -999.0,9,     -999.0,9,     -999.0,9,     -999.0,9,     -999.0,20110331,       1405
320620110219,       S04P,      99,          1,         22,         22,2,20110331,       1248,   -67.0003,  -142.3207,       3857,   634.6,   1.1866,  34.7270,2,  34.7266,2,    188.6,2,   186.3,2,  108.87,2,   32.48,2,    0.00,2,    2.24,2,   0.139,2,   0.069,2,   0.010,2,   0.0300,2,  2264.5,2,  2354.3,2,   7.5764,6,    25.00,-999.000,9,-999.0000,9,-999.000,9,   1.1866,2, -999.00,9,  -999.0,9,  -999.0,-999.000,9, -999.00,9,-999.000,9,   41.04,2,   35.26,2, -67.0003,-142.3208,-999.000,     -999.0,    34.8904,2,     -999.0,9,     -999.0,9,-999.0000,9,-999.0000,9,-999.0000,9,-999.0000,9,-999.0000,9,-999.0000,9,-999.0000,9,-999.0000,9,-999.0000,9,-999.0000,-999.000,   1.1543,     -999.0,     -999.0,9,     -999.0,9,     -999.0,9,     -999.0,9,     -999.0,20110331,       1402
320620110219,       S04P,      99,          1,         21,         21,2,20110331,       1248,   -67.0003,  -142.3207,       3857,   734.2,   1.1223,  34.7250,2,  34.7249,2,    191.2,2,   191.3,2,  109.89,2,   32.07,2,    0.00,2,    2.23,2,-999.000,9,-999.000,9,-999.000,9,-999.0000,9,  -999.0,9,  -999.0,9,-999.0000,9,  -999.00,-999.000,9,-999.0000,9,-999.000,9,   1.1222,2, -999.00,9,  -999.0,9,  -999.0,-999.000,9, -999.00,9,-999.000,9,   40.44,2,   35.03,2, -67.0003,-142.3208,-999.000,     -999.0,    34.8886,2,     -999.0,9,     -999.0,9,-999.0000,9,-999.0000,9,-999.0000,9,-999.0000,9,-999.0000,9,-999.0000,9,-999.0000,9,-999.0000,9,-999.0000,9,-999.0000,-999.000,   1.0847,     -999.0,     -999.0,9,     -999.0,9,     -999.0,9,     -999.0,9,     -999.0,20110331,       1359
320620110219,       S04P,      99,          1,         20,         20,2,20110331,       1248,   -67.0003,  -142.3207,       3857,   834.7,   1.0613,  34.7230,2,  34.7221,2,    193.8,2,   193.7,2,  111.58,2,   32.01,2,    0.00,2,    2.24,2,   0.131,2,   0.066,2,   0.009,2,   0.0080,2,  2261.3,2,  2358.0,2,   7.5883,2,    25.00,-999.000,9,-999.0000,9,-999.000,9,   1.0610,2, -999.00,9,  -999.0,9,  -999.0,-999.000,9, -999.00,9,-999.000,9,   40.38,2,   34.88,2, -67.0003,-142.3208,-999.000,     -999.0,    34.8859,2,     -999.0,9,     -999.0,9,-999.0000,9,-999.0000,9,-999.0000,9,-999.0000,9,-999.0000,9,-999.0000,9,-999.0000,9,-999.0000,9,-999.0000,9,-999.0000,-999.000,   1.0183,     -999.0,     -999.0,9,     -999.0,9,     -999.0,9,     -999.0,9,     -999.0,20110331,       1357
320620110219,       S04P,      99,          1,         19,         19,2,20110331,       1248,   -67.0003,  -142.3207,       3857,   935.0,   0.9867,  34.7204,2,  34.7200,2,    195.1,2,   195.3,2,  113.63,2,   31.98,2,    0.00,2,    2.24,2,-999.000,9,-999.000,9,-999.000,9,-999.0000,9,  -999.0,9,  -999.0,9,-999.0000,9,  -999.00,-999.000,9,-999.0000,9,-999.000,9,   0.9871,2, -999.00,9,  -999.0,9,  -999.0,-999.000,9, -999.00,9,-999.000,9,   40.42,2,   34.72,2, -67.0003,-142.3208,-999.000,     -999.0,    34.8837,2,     -999.0,9,     -999.0,9,-999.0000,9,-999.0000,9,-999.0000,9,-999.0000,9,-999.0000,9,-999.0000,9,-999.0000,9,-999.0000,9,-999.0000,9,-999.0000,-999.000,   0.9383,     -999.0,     -999.0,9,     -999.0,9,     -999.0,9,     -999.0,9,     -999.0,20110331,       1354
320620110219,       S04P,      99,          1,         18,         18,2,20110331,       1248,   -67.0003,  -142.3207,       3857,  1035.0,   0.9334,  34.7179,2,  34.7174,2,    197.4,2,   197.4,2,  115.09,2,   31.92,2,    0.00,2,    2.24,2,   0.119,2,   0.057,2,   0.007,2,   0.0190,2,  2261.4,6,  2357.8,2,   7.5925,2,    25.00,-999.000,9,-999.0000,9,-999.000,9,   0.9335,2, -999.00,9,  -999.0,9,  -999.0,-999.000,9, -999.00,9,-999.000,9,   39.82,2,   33.96,2, -67.0003,-142.3208,-999.000,     -999.0,    34.8811,2,     -999.0,9,     -999.0,9,-999.0000,9,-999.0000,9,-999.0000,9,-999.0000,9,-999.0000,9,-999.0000,9,-999.0000,9,-999.0000,9,-999.0000,9,-999.0000,-999.000,   0.8794,     -999.0,     -999.0,9,     -999.0,9,     -999.0,9,     -999.0,9,     -999.0,20110331,       1351
320620110219,       S04P,      99,          1,         17,         17,2,20110331,       1248,   -67.0003,  -142.3207,       3857,  1134.0,   0.8761,  34.7155,2,  34.7151,2,    198.6,2,   198.9,2,  117.03,2,   31.96,2,    0.00,2,    2.24,2,-999.000,9,-999.000,9,-999.000,9,-999.0000,9,  -999.0,9,  -999.0,9,-999.0000,9,  -999.00,-999.000,9,-999.0000,9,-999.000,9,   0.8765,2, -999.00,9,  -999.0,9,  -999.0,-999.000,9, -999.00,9,-999.000,9,   39.60,2,   33.91,2, -67.0003,-142.3208,-999.000,     -999.0,    34.8788,2,     -999.0,9,     -999.0,9,-999.0000,9,-999.0000,9,-999.0000,9,-999.0000,9,-999.0000,9,-999.0000,9,-999.0000,9,-999.0000,9,-999.0000,9,-999.0000,-999.000,   0.8165,     -999.0,     -999.0,9,     -999.0,9,     -999.0,9,     -999.0,9,     -999.0,20110331,       1349
320620110219,       S04P,      99,          1,         16,         16,2,20110331,       1248,   -67.0003,  -142.3207,       3857,  1234.2,   0.8281,  34.7139,2,  34.7143,2,    201.1,2,   201.5,2,  118.35,2,   31.96,2,    0.00,2,    2.24,2,   0.130,2,   0.064,2,   0.008,2,   0.0460,2,  2261.4,2,  2359.4,2,   7.5957,2,    25.00,-999.000,9,-999.0000,9,-999.000,9,   0.8281,2, -999.00,9,  -999.0,9,  -999.0,-999.000,9, -999.00,9,-999.000,9,   39.47,2,   33.75,2, -67.0003,-142.3208,-999.000,     -999.0,    34.8780,2,     -999.0,9,     -999.0,9,-999.0000,9,-999.0000,9,-999.0000,9,-999.0000,9,-999.0000,9,-999.0000,9,-999.0000,9,-999.0000,9,-999.0000,9,-999.0000,-999.000,   0.7627,     -999.0,     -999.0,9,     -999.0,9,     -999.0,9,     -999.0,9,     -999.0,20110331,       1346
320620110219,       S04P,      99,          1,         15,         15,2,20110331,       1248,   -67.0003,  -142.3207,       3857,  1334.9,   0.7930,  34.7125,2,  34.7119,2,    201.2,2,   200.2,2,  120.18,2,   32.28,2,    0.00,2,    2.25,2,-999.000,9,-999.000,9,-999.000,9,-999.0000,9,  -999.0,9,  -999.0,9,-999.0000,9,  -999.00,-999.000,9,-999.0000,9,-999.000,9,   0.7928,2, -999.00,9,  -999.0,9,  -999.0,-999.000,9, -999.00,9,-999.000,9,   39.17,2,   34.66,2, -67.0003,-142.3208,-999.000,     -999.0,    34.8756,2,     -999.0,9,     -999.0,9,-999.0000,9,-999.0000,9,-999.0000,9,-999.0000,9,-999.0000,9,-999.0000,9,-999.0000,9,-999.0000,9,-999.0000,9,-999.0000,-999.000,   0.7215,     -999.0,     -999.0,9,     -999.0,9,     -999.0,9,     -999.0,9,     -999.0,20110331,       1344
320620110219,       S04P,      99,          1,         14,         14,2,20110331,       1248,   -67.0003,  -142.3207,       3857,  1434.0,   0.7549,  34.7108,2,  34.7105,2,    202.4,2,   201.7,2,  121.23,2,   32.27,2,    0.00,2,    2.25,2,   0.123,2,   0.062,2,   0.007,2,   0.0770,2,  2261.9,2,  2360.0,2,   7.5959,2,    25.00,-999.000,9,-999.0000,9,-999.000,9,   0.7553,2, -999.00,9,  -999.0,9,  -999.0,-999.000,9, -999.00,9,-999.000,9,   39.56,2,   34.31,2, -67.0003,-142.3208,-999.000,     -999.0,    34.8742,2,     -999.0,9,     -999.0,9,-999.0000,9,-999.0000,9,-999.0000,9,-999.0000,9,-999.0000,9,-999.0000,9,-999.0000,9,-999.0000,9,-999.0000,9,-999.0000,-999.000,   0.6773,     -999.0,     -999.0,9,     -999.0,9,     -999.0,9,     -999.0,9,     -999.0,20110331,       1341