BOTTLE,20220813CCHSIOAMB
EXPOCODE,SECT_ID,STNNBR,CASTNO,SAMPNO,BTLNBR,BTLNBR_FLAG_W,DATE,TIME,LATITUDE,LONGITUDE,DEPTH,CTDPRS,CTDTMP,CTDSAL,CTDSAL_FLAG_W,SALNTY,SALNTY_FLAG_W,CTDOXY,CTDOXY_FLAG_W,OXYGEN,OXYGEN_FLAG_W,SILCAT,SILCAT_FLAG_W,NITRAT,NITRAT_FLAG_W,NITRIT,NITRIT_FLAG_W,PHSPHT,PHSPHT_FLAG_W,CFC-11,CFC-11_FLAG_W,CFC-12,CFC-12_FLAG_W,CFC113,CFC113_FLAG_W,SF6,SF6_FLAG_W,TCARBN,TCARBN_FLAG_W,ALKALI,ALKALI_FLAG_W,PH_TOT,PH_TOT_FLAG_W,PH_TMP,TRITUM,TRITUM_FLAG_W,HELIUM,HELIUM_FLAG_W,DELHE3,DELHE3_FLAG_W,REFTMP,REFTMP_FLAG_W,DELC13,DELC13_FLAG_W,DELC14,DELC14_FLAG_W,C14ERR,NEON,NEON_FLAG_W,DELO18,DELO18_FLAG_W,POC,POC_FLAG_W,DOC,DOC_FLAG_W,TDN,TDN_FLAG_W,BTL_LAT,BTL_LON,TRITER,NEONER,SALTREF,SALTREF_FLAG_W,PIGMENTS,PIGMENTS_FLAG_W,LAB_DEN,LAB_DEN_FLAG_W,CDOM325,CDOM325_FLAG_W,CDOM340,CDOM340_FLAG_W,CDOM380,CDOM380_FLAG_W,CDOM412,CDOM412_FLAG_W,CDOM443,CDOM443_FLAG_W,CDOM490,CDOM490_FLAG_W,CDOM555,CDOM555_FLAG_W,CDOMSL,CDOMSL_FLAG_W,CDOMSN,CDOMSN_FLAG_W,HELIER,DELHER,THETA,LDEO_SAMPNO,ABSORBTION,ABSORBTION_FLAG_W,IMAGE_COUNT,IMAGE_COUNT_FLAG_W,CYTO_COUNT,CYTO_COUNT_FLAG_W,DELD,DELD_FLAG_W,DELDERR,BTL_DATE,BTL_TIME
,,,,,,,,,,,METERS,DBAR,ITS-90,PSS-78,,PSS-78,,UMOL/KG,,UMOL/KG,,UMOL/KG,,UMOL/KG,,UMOL/KG,,UMOL/KG,,PMOL/KG,,PMOL/KG,,PMOL/KG,,FMOL/KG,,UMOL/KG,,UMOL/KG,,,,DEG C,TU,,NMOL/KG,,PERCNT,,DEG C,,/MILLE,,/MILLE,,/MILLE,NMOL/KG,,/MILLE,,UG/KG,,UMOL/KG,,UMOL/KG,,,,TU,NMOL/KG,G/KG,,,,,,1/M,,1/M,,1/M,,1/M,,1/M,,1/M,,1/M,,1/NM,,1/NM,,NMOL/KG,PERCNT,DEG C,,,,,,,,/MILLE,,/MILLE,,
320620110219,       P16S,      54,          1,         36,         36,2,20110313,       2351,   -71.4803,  -150.0014,       4219,     3.4,  -0.7476,  33.6848,2,  33.6852,2,    343.8,3,   348.3,2,   36.08,2,   21.64,2,    0.12,2,    1.51,2,   6.108,2,   3.351,2,   0.621,2,-999.0000,9,  2132.8,2,  2283.2,2,   7.7523,2,    25.00,-999.000,9,-999.0000,9,-999.000,9,  -0.7476,2, -999.00,9,  -999.0,9,  -999.0,-999.000,9, -999.00,9,-999.000,9,   45.69,2,   26.06,2, -71.4803,-150.0015,-999.000,     -999.0,    33.8441,2,     -999.0,9,     -999.0,9,   0.1111,2,   0.0697,2,   0.0240,2,   0.0094,2,  -0.0024,4,  -0.0037,4,  -0.0081,4,   0.0290,3,   0.0299,3,-999.0000,-999.000,  -0.7477,     -999.0,     -999.0,9,     -999.0,9,     -999.0,9,     -999.0,9,     -999.0,20110314,       0134
320620110219,       P16S,      54,          1,         35,         35,2,20110313,       2351,   -71.4803,  -150.0014,       4219,    25.0,  -0.7505,  33.6848,2,  33.6848,2,    348.4,2,   348.1,2,   36.10,2,   21.65,2,    0.12,2,    1.53,2,   6.133,2,   3.363,2,   0.631,2,-999.0000,9,  2136.7,2,  2282.1,6,   7.7503,2,    25.00,-999.000,9,-999.0000,9,-999.000,9,  -0.7506,2, -999.00,9,  -999.0,9,  -999.0,-999.000,9, -999.00,9,-999.000,9,   45.46,2,   26.12,2, -71.4803,-150.0014,-999.000,     -999.0,    33.8437,2,     -999.0,9,     -999.0,9,   0.0983,2,   0.0594,2,   0.0146,3,   0.0036,3,  -0.0063,4,  -0.0060,4,  -0.0093,4,   0.0389,3,   0.0355,3,-999.0000,-999.000,  -0.7512,     -999.0,     -999.0,9,     -999.0,9,     -999.0,9,     -999.0,9,     -999.0,20110314,       0132
320620110219,       P16S,      54,          1,         34,         34,2,20110313,       2351,   -71.4803,  -150.0014,       4219,    49.5,  -0.8943,  33.7560,3,  33.7822,2,    348.9,2,   337.7,2,   39.35,2,   23.21,2,    0.13,2,    1.68,2,   5.870,2,   3.196,2,   0.608,2,-999.0000,9,  2153.1,2,  2288.1,2,   7.7169,6,    25.00,-999.000,9,-999.0000,9,-999.000,9,  -0.9100,2, -999.00,9,  -999.0,9,  -999.0,-999.000,9, -999.00,9,-999.000,9,   45.27,2,   27.67,2, -71.4803,-150.0014,-999.000,     -999.0,    33.9414,2,     -999.0,9,     -999.0,9,   0.0808,2,   0.0428,3,   0.0048,3,  -0.0014,4,  -0.0097,4,  -0.0082,4,  -0.0105,4,   0.0587,4,   0.0474,4,-999.0000,-999.000,  -0.8956,     -999.0,     -999.0,9,     -999.0,9,     -999.0,9,     -999.0,9,     -999.0,20110314,       0131
320620110219,       P16S,      54,          1,         33,         33,2,20110313,       2351,   -71.4803,  -150.0014,       4219,    75.0,  -1.5074,  34.0723,2,  34.0757,2,    306.0,2,   305.9,2,   49.19,2,   27.88,2,    0.17,2,    2.04,2,   5.149,2,   2.791,2,   0.514,2,-999.0000,9,  2198.3,2,  2302.6,2,   7.6294,2,    25.00,-999.000,9,-999.0000,9,-999.000,9,  -1.4984,2, -999.00,9,  -999.0,9,  -999.0,-999.000,9, -999.00,9,-999.000,9,   44.81,2,   32.40,2, -71.4803,-150.0015,-999.000,     -999.0,    34.2364,2,     -999.0,9,     -999.0,9,   0.0771,2,   0.0394,3,   0.0048,3,  -0.0024,4,  -0.0108,4,  -0.0088,4,  -0.0107,4,   0.0556,4,   0.0487,4,-999.0000,-999.000,  -1.5090,     -999.0,     -999.0,9,     -999.0,9,     -999.0,9,     -999.0,9,     -999.0,20110314,       0130
320620110219,       P16S,      54,          1,         32,         32,2,20110313,       2351,   -71.4803,  -150.0014,       4219,   100.1,  -1.1766,  34.1522,2,  34.1573,2,    289.9,2,   286.6,2,   54.30,2,   29.14,2,    0.12,2,    2.11,2,   4.604,6,   2.496,6,   0.465,6,   1.7940,2,  2209.3,2,  2306.8,2,   7.6071,2,    25.00,-999.000,9,-999.0000,9,-999.000,9,  -1.1701,2, -999.00,9,  -999.0,9,  -999.0,-999.000,9, -999.00,9,-999.000,9,   44.08,2,   33.29,2, -71.4803,-150.0015,-999.000,     -999.0,    34.3183,2,     -999.0,9,     -999.0,9,   0.0813,2,   0.0428,3,   0.0047,3,  -0.0023,4,  -0.0109,4,  -0.0090,4,  -0.0108,4,   0.0536,3,   0.0473,3,-999.0000,-999.000,  -1.1791,     -999.0,     -999.0,9,     -999.0,9,     -999.0,9,     -999.0,9,     -999.0,20110314,       0128
320620110219,       P16S,      54,          1,         31,         31,2,20110313,       2351,   -71.4803,  -150.0014,       4219,   125.5,  -0.3782,  34.2736,2,  34.2756,2,    265.9,2,   256.3,2,   62.22,2,   30.70,2,    0.03,2,    2.13,2,   3.638,2,   1.961,2,   0.369,2,-999.0000,9,  2222.1,2,  2313.8,2,   7.5899,2,    25.00,-999.000,9,-999.0000,9,-999.000,9,  -0.3640,2, -999.00,9,  -999.0,9,  -999.0,-999.000,9, -999.00,9,-999.000,9,   43.24,2,   33.99,2, -71.4803,-150.0015,-999.000,     -999.0,    34.4372,2,     -999.0,9,     -999.0,9,   0.0855,2,   0.0455,3,   0.0047,3,  -0.0007,4,  -0.0098,4,  -0.0085,4,  -0.0106,4,   0.0580,4,   0.0473,4,-999.0000,-999.000,  -0.3823,     -999.0,     -999.0,9,     -999.0,9,     -999.0,9,     -999.0,9,     -999.0,20110314,       0127
320620110219,       P16S,      54,          1,         30,         30,2,20110313,       2351,   -71.4803,  -150.0014,       4219,   149.7,   0.5445,  34.4237,2,  34.4241,2,    232.7,2,   221.7,2,   71.60,2,   31.93,2,    0.01,2,    2.21,2,   2.413,2,   1.318,2,   0.243,2,-999.0000,9,  2236.7,2,  2323.5,2,   7.5663,2,    25.00,-999.000,9,-999.0000,9,-999.000,9,   0.5171,2, -999.00,9,  -999.0,9,  -999.0,-999.000,9, -999.00,9,-999.000,9,   42.70,2,   35.20,2, -71.4803,-150.0014,-999.000,     -999.0,    34.5864,2,     -999.0,9,     -999.0,9,   0.0954,2,   0.0536,2,   0.0121,3,   0.0022,3,  -0.0084,4,  -0.0079,4,  -0.0104,4,   0.0432,3,   0.0397,3,-999.0000,-999.000,   0.5384,     -999.0,     -999.0,9,     -999.0,9,     -999.0,9,     -999.0,9,     -999.0,20110314,       0125
320620110219,       P16S,      54,          1,         29,         29,2,20110313,       2351,   -71.4803,  -150.0014,       4219,   199.8,   1.5276,  34.6085,2,  34.6144,2,    190.9,2,   185.3,2,   81.77,2,   32.53,2,    0.00,2,    2.25,2,   0.953,2,   0.506,2,   0.087,2,-999.0000,9,  2251.7,2,  2336.2,2,   7.5557,2,    25.00,-999.000,9,-999.0000,9,-999.000,9,   1.5105,2, -999.00,9,  -999.0,9,  -999.0,-999.000,9, -999.00,9,-999.000,9,   42.44,2,   35.18,2, -71.4803,-150.0014,-999.000,     -999.0,    34.7777,2,     -999.0,9,     -999.0,9,   0.1008,2,   0.0574,2,   0.0115,3,   0.0016,3,  -0.0089,4,  -0.0083,4,  -0.0107,4,   0.0467,4,   0.0402,4,-999.0000,-999.000,   1.5177,     -999.0,     -999.0,9,     -999.0,9,     -999.0,9,     -999.0,9,     -999.0,20110314,       0124
320620110219,       P16S,      54,          1,         28,         28,2,20110313,       2351,   -71.4803,  -150.0014,       4219,   250.1,   1.7122,  34.6723,2,  34.6759,2,    182.5,2,   185.2,4,   85.23,2,   32.13,2,    0.00,2,    2.24,2,   0.569,2,   0.299,2,   0.047,2,-999.0000,9,  2253.8,2,  2341.6,2,   7.5641,2,    25.00,-999.000,9,-999.0000,9,-999.000,9,   1.7128,2, -999.00,9,  -999.0,9,  -999.0,-999.000,9, -999.00,9,-999.000,9,   41.81,2,   34.69,2, -71.4803,-150.0015,-999.000,     -999.0,    34.8394,2,     -999.0,9,     -999.0,9,   0.1022,2,   0.0584,2,   0.0101,3,   0.0027,3,  -0.0080,4,  -0.0080,4,  -0.0106,4,   0.0483,4,   0.0412,4,-999.0000,-999.000,   1.6993,     -999.0,     -999.0,9,     -999.0,9,     -999.0,9,     -999.0,9,     -999.0,20110314,       0122
320620110219,       P16S,      54,          1,         27,         27,2,20110313,       2351,   -71.4803,  -150.0014,       4219,   300.0,   1.7413,  34.7021,2,  34.7016,2,    181.9,2,   181.8,2,   87.00,2,   31.66,2,    0.00,2,    2.21,2,   0.432,2,   0.225,2,   0.039,2,-999.0000,9,  2253.6,2,  2343.8,2,   7.5715,2,    25.00,-999.000,9,-999.0000,9,-999.000,9,   1.7408,2, -999.00,9,  -999.0,9,  -999.0,-999.000,9, -999.00,9,-999.000,9,   41.77,2,   34.31,2, -71.4803,-150.0014,-999.000,     -999.0,    34.8652,2,     -999.0,9,     -999.0,9,-999.0000,9,-999.0000,9,-999.0000,9,-999.0000,9,-999.0000,9,-999.0000,9,-999.0000,9,-999.0000,9,-999.0000,9,-999.0000,-999.000,   1.7256,     -999.0,     -999.0,9,     -999.0,9,     -999.0,9,     -999.0,9,     -999.0,20110314,       0121
320620110219,       P16S,      54,          1,         26,         26,2,20110313,       2351,   -71.4803,  -150.0014,       4219,   350.3,   1.7234,  34.7131,2,  34.7126,2,    183.7,2,   183.8,2,   88.21,2,   31.43,2,    0.00,2,    2.18,2,   0.355,2,   0.182,2,   0.034,2,-999.0000,9,  2252.4,2,  2345.7,2,   7.5749,4,    25.00,-999.000,9,-999.0000,9,-999.000,9,   1.7229,2, -999.00,9,  -999.0,9,  -999.0,-999.000,9, -999.00,9,-999.000,9,   41.65,2,   33.80,2, -71.4803,-150.0014,-999.000,     -999.0,    34.8762,2,     -999.0,9,     -999.0,9,-999.0000,9,-999.0000,9,-999.0000,9,-999.0000,9,-999.0000,9,-999.0000,9,-999.0000,9,-999.0000,9,-999.0000,9,-999.0000,-999.000,   1.7049,     -999.0,     -999.0,9,     -999.0,9,     -999.0,9,     -999.0,9,     -999.0,20110314,       0119
320620110219,       P16S,      54,          1,         25,         25,2,20110313,       2351,   -71.4803,  -150.0014,       4219,   400.3,   1.6602,  34.7188,2,  34.7186,2,    185.0,2,   184.5,2,   90.63,2,   31.32,2,    0.00,2,    2.19,2,-999.000,9,-999.000,9,-999.000,9,-999.0000,9,  2253.8,2,  2347.3,2,   7.5814,2,    25.00,-999.000,9,-999.0000,9,-999.000,9,   1.6605,2, -999.00,9,  -999.0,9,  -999.0,-999.000,9, -999.00,9,-999.000,9,   41.28,2,   33.68,2, -71.4803,-150.0014,-999.000,     -999.0,    34.8824,2,     -999.0,9,     -999.0,9,   0.1024,2,   0.0583,2,   0.0106,3,   0.0024,3,  -0.0083,4,  -0.0081,4,  -0.0107,4,   0.0477,4,   0.0409,4,-999.0000,-999.000,   1.6391,     -999.0,     -999.0,9,     -999.0,9,     -999.0,9,     -999.0,9,     -999.0,20110314,       0117
320620110219,       P16S,      54,          1,         24,         24,2,20110313,       2351,   -71.4803,  -150.0014,       4219,   450.2,   1.6274,  34.7251,2,  34.7253,2,    186.4,2,   186.1,2,   92.49,2,   31.14,2,    0.00,2,    2.18,2,   0.289,2,   0.144,2,   0.022,2,-999.0000,9,  2254.1,2,  2349.3,2,   7.5843,2,    25.00,-999.000,9,-999.0000,9,-999.000,9,   1.6277,2, -999.00,9,  -999.0,9,  -999.0,-999.000,9, -999.00,9,-999.000,9,   40.88,2,   33.47,2, -71.4803,-150.0015,-999.000,     -999.0,    34.8891,2,     -999.0,9,     -999.0,9,-999.0000,9,-999.0000,9,-999.0000,9,-999.0000,9,-999.0000,9,-999.0000,9,-999.0000,9,-999.0000,9,-999.0000,9,-999.0000,-999.000,   1.6036,     -999.0,     -999.0,9,     -999.0,9,     -999.0,9,     -999.0,9,     -999.0,20110314,       0116
320620110219,       P16S,      54,          1,         23,         23,2,20110313,       2351,   -71.4803,  -150.0014,       4219,   499.3,   1.5836,  34.7278,2,  34.7277,2,    187.5,2,   187.4,2,   93.75,2,   31.23,2,    0.00,2,    2.17,2,-999.000,9,-999.000,9,-999.000,9,-999.0000,9,  2254.6,2,  2349.6,2,   7.5852,2,    25.00,-999.000,9,-999.0000,9,-999.000,9,   1.5836,2, -999.00,9,  -999.0,9,  -999.0,-999.000,9, -999.00,9,-999.000,9,   40.55,2,   33.98,2, -71.4803,-150.0014,-999.000,     -999.0,    34.8914,2,     -999.0,9,     -999.0,9,-999.0000,9,-999.0000,9,-999.0000,9,-999.0000,9,-999.0000,9,-999.0000,9,-999.0000,9,-999.0000,9,-999.0000,9,-999.0000,-999.000,   1.5572,     -999.0,     -999.0,9,     -999.0,9,     -999.0,9,     -999.0,9,     -999.0,20110314,       0114
320620110219,       P16S,      54,          1,         22,         22,2,20110313,       2351,   -71.4803,  -150.0014,       4219,   600.2,   1.5005,  34.7304,2,  34.7306,2,    189.2,2,   190.0,2,   96.58,2,   31.17,2,    0.00,2,    2.18,2,   0.222,2,   0.117,2,   0.015,2,-999.0000,9,  -999.0,9,  -999.0,9,-999.0000,9,  -999.00,-999.000,9,-999.0000,9,-999.000,9,   1.5001,2, -999.00,9,  -999.0,9,  -999.0,-999.000,9, -999.00,9,-999.000,9,   40.12,2,   33.56,2, -71.4803,-150.0014,-999.000,     -999.0,    34.8944,2,     -999.0,9,     -999.0,9,   0.1008,2,   0.0574,2,   0.0098,3,   0.0020,3,  -0.0084,4,  -0.0081,4,  -0.0105,4,   0.0505,4,   0.0414,4,-999.0000,-999.000,   1.4686,     -999.0,     -999.0,9,     -999.0,9,     -999.0,9,     -999.0,9,     -999.0,20110314,       0112
320620110219,       P16S,      54,          1,         21,         21,2,20110313,       2351,   -71.4803,  -150.0014,       4219,   699.9,   1.4035,  34.7304,2,  34.7304,2,    189.3,2,   189.2,2,  100.24,2,   31.40,2,    0.00,2,    2.19,2,-999.000,9,-999.000,9,-999.000,9,-999.0000,9,  2256.9,2,  2352.7,2,   7.5854,6,    25.00,-999.000,9,-999.0000,9,-999.000,9,   1.4030,2, -999.00,9,  -999.0,9,  -999.0,-999.000,9, -999.00,9,-999.000,9,   40.03,2,   33.94,2, -71.4803,-150.0014,-999.000,     -999.0,    34.8942,2,     -999.0,9,     -999.0,9,-999.0000,9,-999.0000,9,-999.0000,9,-999.0000,9,-999.0000,9,-999.0000,9,-999.0000,9,-999.0000,9,-999.0000,9,-999.0000,-999.000,   1.3663,     -999.0,     -999.0,9,     -999.0,9,     -999.0,9,     -999.0,9,     -999.0,20110314,       0109
320620110219,       P16S,      54,          1,         20,         20,2,20110313,       2351,   -71.4803,  -150.0014,       4219,   799.8,   1.3288,  34.7297,2,  34.7301,2,    190.1,2,   190.4,2,  103.05,2,   31.37,2,    0.00,2,    2.19,2,   0.167,2,   0.084,2,   0.009,2,-999.0000,9,  -999.0,9,  -999.0,9,-999.0000,9,  -999.00,-999.000,9,-999.0000,9,-999.000,9,   1.3285,2, -999.00,9,  -999.0,9,  -999.0,-999.000,9, -999.00,9,-999.000,9,   39.94,2,   33.67,2, -71.4803,-150.0014,-999.000,     -999.0,    34.8938,2,     -999.0,9,     -999.0,9,-999.0000,9,-999.0000,9,-999.0000,9,-999.0000,9,-999.0000,9,-999.0000,9,-999.0000,9,-999.0000,9,-999.0000,9,-999.0000,-999.000,   1.2861,     -999.0,     -999.0,9,     -999.0,9,     -999.0,9,     -999.0,9,     -999.0,20110314,       0107
320620110219,       P16S,      54,          1,         19,         19,2,20110313,       2351,   -71.4803,  -150.0014,       4219,   899.9,   1.2588,  34.7282,2,  34.7291,2,    191.2,2,   191.3,2,  105.27,2,   31.75,2,    0.00,2,    2.20,2,-999.000,9,-999.000,9,-999.000,9,-999.0000,9,  2258.5,2,  2355.3,6,   7.5878,2,    25.00,-999.000,9,-999.0000,9,-999.000,9,   1.2591,2, -999.00,9,  -999.0,9,  -999.0,-999.000,9, -999.00,9,-999.000,9,   39.75,2,   33.86,2, -71.4803,-150.0014,-999.000,     -999.0,    34.8929,2,     -999.0,9,     -999.0,9,   0.0969,2,   0.0544,2,   0.0088,3,  -0.0003,4,  -0.0100,4,  -0.0086,4,  -0.0108,4,   0.0572,4,   0.0423,4,-999.0000,-999.000,   1.2105,     -999.0,     -999.0,9,     -999.0,9,     -999.0,9,     -999.0,9,     -999.0,20110314,       0104
320620110219,       P16S,      54,          1,         18,         18,2,20110313,       2351,   -71.4803,  -150.0014,       4219,  1000.1,   1.1944,  34.7264,2,  34.7273,2,    192.6,2,   192.8,2,  107.26,2,   31.61,2,    0.00,2,    2.20,2,   0.129,2,   0.070,2,   0.007,2,-999.0000,9,  -999.0,9,  -999.0,9,-999.0000,9,  -999.00,-999.000,9,-999.0000,9,-999.000,9,   1.1954,2, -999.00,9,  -999.0,9,  -999.0,-999.000,9, -999.00,9,-999.000,9,   39.50,2,   33.84,2, -71.4803,-150.0014,-999.000,     -999.0,    34.8911,2,     -999.0,9,     -999.0,9,-999.0000,9,-999.0000,9,-999.0000,9,-999.0000,9,-999.0000,9,-999.0000,9,-999.0000,9,-999.0000,9,-999.0000,9,-999.0000,-999.000,   1.1404,     -999.0,     -999.0,9,     -999.0,9,     -999.0,9,     -999.0,9,     -999.0,20110314,       0101
320620110219,       P16S,      54,          1,         17,         17,2,20110313,       2351,   -71.4803,  -150.0014,       4219,  1100.0,   1.1348,  34.7246,2,  34.7252,2,    194.5,2,   194.1,2,  109.48,2,   31.75,2,    0.00,2,    2.21,2,-999.000,9,-999.000,9,-999.000,9,-999.0000,9,  2260.4,6,  2356.7,2,   7.5891,2,    25.00,-999.000,9,-999.0000,9,-999.000,9,   1.1350,2, -999.00,9,  -999.0,9,  -999.0,-999.000,9, -999.00,9,-999.000,9,   39.56,2,   33.80,2, -71.4803,-150.0014,-999.000,     -999.0,    34.8889,2,     -999.0,9,     -999.0,9,-999.0000,9,-999.0000,9,-999.0000,9,-999.0000,9,-999.0000,9,-999.0000,9,-999.0000,9,-999.0000,9,-999.0000,9,-999.0000,-999.000,   1.0750,     -999.0,     -999.0,9,     -999.0,9,     -999.0,9,     -999.0,9,     -999.0,20110314,       0059
320620110219,       P16S,      54,          1,         16,         16,2,20110313,       2351,   -71.4803,  -150.0014,       4219,  1200.0,   1.0716,  34.7224,2,  34.7230,2,    195.8,2,   195.1,2,  111.56,2,   31.75,2,    0.00,2,    2.21,2,-999.000,9,-999.000,9,-999.000,9,-999.0000,9,  -999.0,9,  -999.0,9,-999.0000,9,  -999.00,-999.000,9,-999.0000,9,-999.000,9,   1.0713,2, -999.00,9,  -999.0,9,  -999.0,-999.000,9, -999.00,9,-999.000,9,   39.59,2,   33.84,2, -71.4803,-150.0014,-999.000,     -999.0,    34.8868,2,     -999.0,9,     -999.0,9,   0.0946,2,   0.0529,2,   0.0092,3,  -0.0006,4,  -0.0105,4,  -0.0091,4,  -0.0111,4,   0.0585,4,   0.0421,4,-999.0000,-999.000,   1.0060,     -999.0,     -999.0,9,     -999.0,9,     -999.0,9,     -999.0,9,     -999.0,20110314,       0056
320620110219,       P16S,      54,          1,         15,         15,2,20110313,       2351,   -71.4803,  -150.0014,       4219,  1299.2,   1.0169,  34.7204,2,  34.7207,2,    197.4,2,   197.4,2,  112.91,2,   31.74,2,    0.00,2,    2.21,2,   0.110,2,   0.055,2,   0.006,2,-999.0000,9,  2259.7,2,  2358.1,2,   7.5947,2,    25.00,-999.000,9,-999.0000,9,-999.000,9,   1.0172,2, -999.00,9,  -999.0,9,  -999.0,-999.000,9, -999.00,9,-999.000,9,   39.36,2,   33.89,2, -71.4803,-150.0014,-999.000,     -999.0,    34.8844,2,     -999.0,9,     -999.0,9,-999.0000,9,-999.0000,9,-999.0000,9,-999.0000,9,-999.0000,9,-999.0000,9,-999.0000,9,-999.0000,9,-999.0000,9,-999.0000,-999.000,   0.9453,     -999.0,     -999.0,9,     -999.0,9,     -999.0,9,     -999.0,9,     -999.0,20110314,       0054
320620110219,       P16S,      54,          1,         14,         14,2,20110313,       2351,   -71.4803,  -150.0014,       4219,  1399.6,   0.9649,  34.7182,2,  34.7187,2,    198.8,2,   198.4,2,  114.99,2,   31.80,2,    0.00,2,    2.22,2,   0.102,2,   0.054,2,   0.006,2,   0.0690,3,  -999.0,9,  -999.0,9,-999.0000,9,  -999.00,-999.000,9,-999.0000,9,-999.000,9,   0.9651,2, -999.00,9,  -999.0,9,  -999.0,-999.000,9, -999.00,9,-999.000,9,   39.53,2,   34.68,2, -71.4803,-150.0014,-999.000,     -999.0,    34.8824,2,     -999.0,9,     -999.0,9,-999.0000,9,-999.0000,9,-999.0000,9,-999.0000,9,-999.0000,9,-999.0000,9,-999.0000,9,-999.0000,9,-999.0000,9,-999.0000,-999.000,   0.8872,     -999.0,     -999.0,9,     -999.0,9,     -999.0,9,     -999.0,9,     -999.0,20110314,       0051