BOTTLE,20220813CCHSIOAMB
EXPOCODE,SECT_ID,STNNBR,CASTNO,SAMPNO,BTLNBR,BTLNBR_FLAG_W,DATE,TIME,LATITUDE,LONGITUDE,DEPTH,CTDPRS,CTDTMP,CTDSAL,CTDSAL_FLAG_W,SALNTY,SALNTY_FLAG_W,CTDOXY,CTDOXY_FLAG_W,OXYGEN,OXYGEN_FLAG_W,SILCAT,SILCAT_FLAG_W,NITRAT,NITRAT_FLAG_W,NITRIT,NITRIT_FLAG_W,PHSPHT,PHSPHT_FLAG_W,CFC-11,CFC-11_FLAG_W,CFC-12,CFC-12_FLAG_W,CFC113,CFC113_FLAG_W,SF6,SF6_FLAG_W,TCARBN,TCARBN_FLAG_W,ALKALI,ALKALI_FLAG_W,PH_TOT,PH_TOT_FLAG_W,PH_TMP,TRITUM,TRITUM_FLAG_W,HELIUM,HELIUM_FLAG_W,DELHE3,DELHE3_FLAG_W,REFTMP,REFTMP_FLAG_W,DELC13,DELC13_FLAG_W,DELC14,DELC14_FLAG_W,C14ERR,NEON,NEON_FLAG_W,DELO18,DELO18_FLAG_W,POC,POC_FLAG_W,DOC,DOC_FLAG_W,TDN,TDN_FLAG_W,BTL_LAT,BTL_LON,TRITER,NEONER,SALTREF,SALTREF_FLAG_W,PIGMENTS,PIGMENTS_FLAG_W,LAB_DEN,LAB_DEN_FLAG_W,CDOM325,CDOM325_FLAG_W,CDOM340,CDOM340_FLAG_W,CDOM380,CDOM380_FLAG_W,CDOM412,CDOM412_FLAG_W,CDOM443,CDOM443_FLAG_W,CDOM490,CDOM490_FLAG_W,CDOM555,CDOM555_FLAG_W,CDOMSL,CDOMSL_FLAG_W,CDOMSN,CDOMSN_FLAG_W,HELIER,DELHER,THETA,LDEO_SAMPNO,ABSORBTION,ABSORBTION_FLAG_W,IMAGE_COUNT,IMAGE_COUNT_FLAG_W,CYTO_COUNT,CYTO_COUNT_FLAG_W,DELD,DELD_FLAG_W,DELDERR,BTL_DATE,BTL_TIME
,,,,,,,,,,,METERS,DBAR,ITS-90,PSS-78,,PSS-78,,UMOL/KG,,UMOL/KG,,UMOL/KG,,UMOL/KG,,UMOL/KG,,UMOL/KG,,PMOL/KG,,PMOL/KG,,PMOL/KG,,FMOL/KG,,UMOL/KG,,UMOL/KG,,,,DEG C,TU,,NMOL/KG,,PERCNT,,DEG C,,/MILLE,,/MILLE,,/MILLE,NMOL/KG,,/MILLE,,UG/KG,,UMOL/KG,,UMOL/KG,,,,TU,NMOL/KG,G/KG,,,,,,1/M,,1/M,,1/M,,1/M,,1/M,,1/M,,1/M,,1/NM,,1/NM,,NMOL/KG,PERCNT,DEG C,,,,,,,,/MILLE,,/MILLE,,
320620110219,       S04P,      15,          1,         36,         36,2,20110227,       1910,   -68.0106,   172.8205,       3124,     7.0,  -1.1118,  33.4162,2,  33.4151,2,    342.7,3,   345.5,2,   60.06,2,   26.46,2,    0.13,2,    1.73,2,   6.006,2,   3.244,2,   0.603,2,   2.7710,2,  2143.4,2,  2262.2,2,   7.6643,2,    25.00,   0.100,2,    1.945,2,  -1.429,2,  -1.1117,2, -999.00,9,  -999.0,9,  -999.0,   8.863,2,   -0.42,2,-999.000,9,   42.29,2,   29.25,2, -68.0106, 172.8205,   0.005,      0.006,    33.5727,2,     -999.0,9,     -999.0,9,-999.0000,9,-999.0000,9,-999.0000,9,-999.0000,9,-999.0000,9,-999.0000,9,-999.0000,9,-999.0000,9,-999.0000,9,    0.000,   0.196,  -1.1120,50001501036,     -999.0,9,     -999.0,9,     -999.0,9,      -3.67,2,       0.03,20110227,       2054
320620110219,       S04P,      15,          1,         35,         35,2,20110227,       1910,   -68.0106,   172.8205,       3124,    25.7,  -1.1116,  33.4169,2,  33.4167,2,    345.7,2,   345.2,2,   60.04,2,   26.47,2,    0.13,2,    1.78,2,   6.008,2,   3.245,2,   0.606,2,   2.7340,2,  2145.7,2,  2261.6,2,   7.6643,2,    25.00,   0.087,2,    2.005,2,  -1.176,2,  -1.1112,2, -999.00,9,  -999.0,9,  -999.0,   9.034,2,   -0.11,2,-999.000,9,   42.12,2,   29.54,2, -68.0106, 172.8205,   0.005,      0.008,    33.5743,2,     -999.0,9,     -999.0,9,-999.0000,9,-999.0000,9,-999.0000,9,-999.0000,9,-999.0000,9,-999.0000,9,-999.0000,9,-999.0000,9,-999.0000,9,    0.001,   0.199,  -1.1122,50001501035,     -999.0,9,     -999.0,9,     -999.0,9,      -1.65,2,       0.08,20110227,       2052
320620110219,       S04P,      15,          1,         34,         34,2,20110227,       1910,   -68.0106,   172.8205,       3124,    50.0,  -1.5394,  33.9424,3,  33.9093,2,    316.8,2,   308.2,2,   65.85,2,   28.03,2,    0.07,2,    1.88,2,   4.396,2,   2.398,2,   0.447,2,   2.6730,3,  2177.7,2,  2296.5,6,   7.6477,2,    25.00,   0.065,2,    2.045,2,   0.906,2,  -1.5372,2, -999.00,9,  -999.0,9,  -999.0,   9.116,2,   -0.34,2,-999.000,9,   42.17,2,   30.55,2, -68.0106, 172.8205,   0.005,      0.007,    34.0692,2,     -999.0,9,     -999.0,9,-999.0000,9,-999.0000,9,-999.0000,9,-999.0000,9,-999.0000,9,-999.0000,9,-999.0000,9,-999.0000,9,-999.0000,9,    0.000,   0.199,  -1.5404,50001501034,     -999.0,9,     -999.0,9,     -999.0,9,      -3.68,2,       0.28,20110227,       2051
320620110219,       S04P,      15,          1,         33,         33,2,20110227,       1910,   -68.0106,   172.8205,       3124,    74.8,  -1.2524,  34.2352,2,  34.2625,2,    258.9,2,   258.3,2,   74.09,2,   30.60,2,    0.15,2,    2.09,2,   3.067,2,   1.698,2,   0.323,2,   1.2590,2,  2214.5,2,  2317.8,2,   7.5991,6,    25.00,   0.046,2,    2.016,2,   3.469,2,  -1.2263,2, -999.00,9,  -999.0,9,  -999.0,   8.921,2, -999.00,9,-999.000,9,   41.75,2,   33.61,2, -68.0106, 172.8205,   0.007,      0.011,    34.4241,2,     -999.0,9,     -999.0,9,-999.0000,9,-999.0000,9,-999.0000,9,-999.0000,9,-999.0000,9,-999.0000,9,-999.0000,9,-999.0000,9,-999.0000,9,    0.000,   0.205,  -1.2542,50001501033,     -999.0,9,     -999.0,9,     -999.0,9,     -999.0,9,     -999.0,20110227,       2049
320620110219,       S04P,      15,          1,         32,         32,2,20110227,       1910,   -68.0106,   172.8205,       3124,    98.9,   0.5300,  34.5430,2,  34.5185,2,    209.2,2,   211.4,2,   84.62,2,   32.19,2,    0.19,2,    2.20,2,-999.000,9,-999.000,9,-999.000,9,-999.0000,9,  2241.6,6,  2333.9,2,   7.5667,2,    25.00,-999.000,9,-999.0000,9,-999.000,9,   0.5167,2, -999.00,9,  -999.0,9,  -999.0,-999.000,9, -999.00,9,-999.000,9,   41.39,2,   34.77,2, -68.0106, 172.8206,-999.000,     -999.0,    34.6813,2,     -999.0,9,     -999.0,9,-999.0000,9,-999.0000,9,-999.0000,9,-999.0000,9,-999.0000,9,-999.0000,9,-999.0000,9,-999.0000,9,-999.0000,9,-999.0000,-999.000,   0.5260,     -999.0,     -999.0,9,     -999.0,9,     -999.0,9,     -999.0,9,     -999.0,20110227,       2047
320620110219,       S04P,      15,          1,         31,         31,2,20110227,       1910,   -68.0106,   172.8205,       3124,   124.6,   1.1618,  34.6439,2,  34.6431,2,    193.8,2,   191.5,2,   90.20,2,   32.61,2,    0.06,2,    2.22,2,-999.000,9,-999.000,9,-999.000,9,-999.0000,9,  -999.0,9,  -999.0,9,-999.0000,9,  -999.00,-999.000,9,-999.0000,9,-999.000,9,   1.1547,2, -999.00,9,  -999.0,9,  -999.0,-999.000,9, -999.00,9,-999.000,9,   40.86,2,   34.79,2, -68.0106, 172.8205,-999.000,     -999.0,    34.8064,2,     -999.0,9,     -999.0,9,-999.0000,9,-999.0000,9,-999.0000,9,-999.0000,9,-999.0000,9,-999.0000,9,-999.0000,9,-999.0000,9,-999.0000,9,-999.0000,-999.000,   1.1561,     -999.0,     -999.0,9,     -999.0,9,     -999.0,9,     -999.0,9,     -999.0,20110227,       2045
320620110219,       S04P,      15,          1,         30,         30,2,20110227,       1910,   -68.0106,   172.8205,       3124,   150.4,   1.3306,  34.6785,2,  34.6764,2,    189.0,2,   186.8,2,   92.33,2,   32.55,2,    0.04,2,    2.22,2,   0.612,2,   0.330,2,   0.059,2,   0.2900,2,  2254.1,2,  2346.9,2,   7.5614,2,    25.00,   0.005,2,    2.174,4,   8.046,2,   1.3312,2, -999.00,9,  -999.0,9,  -999.0,   9.416,4,    0.07,2,-999.000,9,   40.52,2,   35.03,2, -68.0106, 172.8206,   0.004,      0.012,    34.8400,2,     -999.0,9,     -999.0,9,-999.0000,9,-999.0000,9,-999.0000,9,-999.0000,9,-999.0000,9,-999.0000,9,-999.0000,9,-999.0000,9,-999.0000,9,    0.000,   0.196,   1.3234,50001501030,     -999.0,9,     -999.0,9,     -999.0,9,      -1.04,2,       0.06,20110227,       2044
320620110219,       S04P,      15,          1,         29,         29,2,20110227,       1910,   -68.0106,   172.8205,       3124,   175.4,   1.3637,  34.6877,2,  34.6856,2,    187.1,2,   186.3,2,   92.93,2,   32.55,2,    0.02,2,    2.22,2,-999.000,9,-999.000,9,-999.000,9,-999.0000,9,  -999.0,9,  -999.0,9,-999.0000,9,  -999.00,-999.000,9,-999.0000,9,-999.000,9,   1.3643,2, -999.00,9,  -999.0,9,  -999.0,-999.000,9, -999.00,9,-999.000,9,   40.26,2,   34.82,2, -68.0106, 172.8205,-999.000,     -999.0,    34.8491,2,     -999.0,9,     -999.0,9,-999.0000,9,-999.0000,9,-999.0000,9,-999.0000,9,-999.0000,9,-999.0000,9,-999.0000,9,-999.0000,9,-999.0000,9,-999.0000,-999.000,   1.3552,     -999.0,     -999.0,9,     -999.0,9,     -999.0,9,     -999.0,9,     -999.0,20110227,       2042
320620110219,       S04P,      15,          1,         28,         28,2,20110227,       1910,   -68.0106,   172.8205,       3124,   200.6,   1.3997,  34.6999,2,  34.6972,2,    186.1,2,   186.7,2,   94.39,2,   32.36,2,    0.02,2,    2.22,2,   0.526,2,   0.279,2,   0.052,2,   0.1300,2,  2253.7,2,  2349.3,2,   7.5659,2,    25.00,   0.001,2,    1.954,2,   8.706,2,   1.3999,2, -999.00,9,  -999.0,9,  -999.0,   8.464,2,   -0.12,2,-999.000,9,   39.90,2,   34.88,2, -68.0106, 172.8205,   0.004,      0.010,    34.8608,2,     -999.0,9,     -999.0,9,-999.0000,9,-999.0000,9,-999.0000,9,-999.0000,9,-999.0000,9,-999.0000,9,-999.0000,9,-999.0000,9,-999.0000,9,    0.000,   0.217,   1.3899,50001501028,     -999.0,9,     -999.0,9,     -999.0,9,      -1.92,2,       0.04,20110227,       2040
320620110219,       S04P,      15,          1,         27,         27,2,20110227,       1910,   -68.0106,   172.8205,       3124,   249.2,   1.4054,  34.7100,2,  34.7084,2,    186.1,2,   186.5,2,   96.18,2,   32.25,2,    0.00,2,    2.20,2,-999.000,9,-999.000,9,-999.000,9,-999.0000,9,  2253.7,2,  2351.4,2,   7.5693,2,    25.00,-999.000,9,-999.0000,9,-999.000,9,   1.4053,2, -999.00,9,  -999.0,9,  -999.0,-999.000,9, -999.00,9,-999.000,9,   40.06,2,   34.94,2, -68.0106, 172.8205,-999.000,     -999.0,    34.8720,2,     -999.0,9,     -999.0,9,-999.0000,9,-999.0000,9,-999.0000,9,-999.0000,9,-999.0000,9,-999.0000,9,-999.0000,9,-999.0000,9,-999.0000,9,-999.0000,-999.000,   1.3931,     -999.0,     -999.0,9,     -999.0,9,     -999.0,9,     -999.0,9,     -999.0,20110227,       2038
320620110219,       S04P,      15,          1,         26,         26,2,20110227,       1910,   -68.0106,   172.8205,       3124,   300.2,   1.3774,  34.7154,2,  34.7131,2,    186.9,2,   187.6,2,   98.26,2,   32.11,2,    0.00,2,    2.18,2,-999.000,9,-999.000,9,-999.000,9,-999.0000,9,  2254.5,2,  2352.1,2,   7.5725,2,    25.00,-999.000,9,-999.0000,9,-999.000,9,   1.3777,2, -999.00,9,  -999.0,9,  -999.0,-999.000,9, -999.00,9,-999.000,9,   40.04,2,   34.69,2, -68.0106, 172.8205,-999.000,     -999.0,    34.8768,2,     -999.0,9,     -999.0,9,-999.0000,9,-999.0000,9,-999.0000,9,-999.0000,9,-999.0000,9,-999.0000,9,-999.0000,9,-999.0000,9,-999.0000,9,-999.0000,-999.000,   1.3625,     -999.0,     -999.0,9,     -999.0,9,     -999.0,9,     -999.0,9,     -999.0,20110227,       2036
320620110219,       S04P,      15,          1,         25,         25,2,20110227,       1910,   -68.0106,   172.8205,       3124,   348.9,   1.3568,  34.7173,2,  34.7161,2,    187.3,2,   187.6,2,   99.42,2,   32.11,2,    0.00,2,    2.21,2,-999.000,9,-999.000,9,-999.000,9,-999.0000,9,  2254.4,2,  2353.0,2,   7.5734,2,    25.00,-999.000,9,-999.0000,9,-999.000,9,   1.3567,2, -999.00,9,  -999.0,9,  -999.0,-999.000,9, -999.00,9,-999.000,9,   39.81,2,   34.42,2, -68.0106, 172.8205,-999.000,     -999.0,    34.8798,2,     -999.0,9,     -999.0,9,-999.0000,9,-999.0000,9,-999.0000,9,-999.0000,9,-999.0000,9,-999.0000,9,-999.0000,9,-999.0000,9,-999.0000,9,-999.0000,-999.000,   1.3394,     -999.0,     -999.0,9,     -999.0,9,     -999.0,9,     -999.0,9,     -999.0,20110227,       2034
320620110219,       S04P,      15,          1,         24,         24,2,20110227,       1910,   -68.0106,   172.8205,       3124,   400.5,   1.3261,  34.7190,2,  34.7177,2,    188.1,2,   188.3,2,  100.35,2,   32.15,2,    0.00,2,    2.19,2,   0.254,2,   0.140,2,   0.020,2,   0.1260,2,  2254.7,2,  2354.1,2,   7.5751,2,    25.00,   0.001,2,    2.057,2,   9.168,2,   1.3258,2, -999.00,9,  -999.0,9,  -999.0,   8.943,2,   -0.01,2,-999.000,9,   39.78,2,   34.59,2, -68.0106, 172.8206,   0.004,      0.011,    34.8814,2,     -999.0,9,     -999.0,9,-999.0000,9,-999.0000,9,-999.0000,9,-999.0000,9,-999.0000,9,-999.0000,9,-999.0000,9,-999.0000,9,-999.0000,9,    0.000,   0.204,   1.3061,50001501024,     -999.0,9,     -999.0,9,     -999.0,9,      -1.35,2,       0.05,20110227,       2032
320620110219,       S04P,      15,          1,         23,         23,2,20110227,       1910,   -68.0106,   172.8205,       3124,   449.8,   1.2909,  34.7205,2,  34.7195,2,    188.8,2,   188.8,2,  102.21,2,   32.28,2,    0.00,2,    2.17,2,-999.000,9,-999.000,9,-999.000,9,-999.0000,9,  -999.0,9,  -999.0,9,-999.0000,9,  -999.00,-999.000,9,-999.0000,9,-999.000,9,   1.2907,2, -999.00,9,  -999.0,9,  -999.0,-999.000,9, -999.00,9,-999.000,9,   39.84,2,   34.61,2, -68.0106, 172.8206,-999.000,     -999.0,    34.8832,2,     -999.0,9,     -999.0,9,-999.0000,9,-999.0000,9,-999.0000,9,-999.0000,9,-999.0000,9,-999.0000,9,-999.0000,9,-999.0000,9,-999.0000,9,-999.0000,-999.000,   1.2684,     -999.0,     -999.0,9,     -999.0,9,     -999.0,9,     -999.0,9,     -999.0,20110227,       2030
320620110219,       S04P,      15,          1,         22,         22,2,20110227,       1910,   -68.0106,   172.8205,       3124,   499.2,   1.2613,  34.7213,2,  34.7199,2,    189.3,2,   189.0,2,  103.13,2,   32.24,2,    0.00,2,    2.20,2,-999.000,9,-999.000,9,-999.000,9,-999.0000,9,  2256.6,2,  2354.6,2,   7.5765,2,    25.00,-999.000,9,-999.0000,9,-999.000,9,   1.2613,2, -999.00,9,  -999.0,9,  -999.0,-999.000,9, -999.00,9,-999.000,9,   39.88,2,   34.92,2, -68.0105, 172.8205,-999.000,     -999.0,    34.8836,2,     -999.0,9,     -999.0,9,-999.0000,9,-999.0000,9,-999.0000,9,-999.0000,9,-999.0000,9,-999.0000,9,-999.0000,9,-999.0000,9,-999.0000,9,-999.0000,-999.000,   1.2362,     -999.0,     -999.0,9,     -999.0,9,     -999.0,9,     -999.0,9,     -999.0,20110227,       2027
320620110219,       S04P,      15,          1,         21,         21,2,20110227,       1910,   -68.0106,   172.8205,       3124,   599.7,   1.1903,  34.7215,2,  34.7205,2,    190.6,2,   190.9,2,  105.95,2,   32.14,2,    0.00,2,    2.20,2,-999.000,9,-999.000,9,-999.000,9,-999.0000,9,  -999.0,9,  -999.0,9,-999.0000,9,  -999.00,-999.000,9,-999.0000,9,-999.000,9,   1.1902,2, -999.00,9,  -999.0,9,  -999.0,-999.000,9, -999.00,9,-999.000,9,   39.82,2,   34.68,2, -68.0106, 172.8205,-999.000,     -999.0,    34.8843,2,     -999.0,9,     -999.0,9,-999.0000,9,-999.0000,9,-999.0000,9,-999.0000,9,-999.0000,9,-999.0000,9,-999.0000,9,-999.0000,9,-999.0000,9,-999.0000,-999.000,   1.1600,     -999.0,     -999.0,9,     -999.0,9,     -999.0,9,     -999.0,9,     -999.0,20110227,       2024
320620110219,       S04P,      15,          1,         20,         20,2,20110227,       1910,   -68.0106,   172.8205,       3124,   699.5,   1.1271,  34.7209,2,  34.7198,2,    192.5,2,   192.7,2,  107.48,2,   32.23,2,    0.00,2,    2.17,2,   0.258,2,   0.125,2,   0.018,2,-999.0000,9,  2257.9,2,  2357.4,2,   7.5786,2,    25.00,   0.001,2,    2.025,2,   9.246,2,   1.1271,2, -999.00,9,  -999.0,9,  -999.0,   8.864,2,   -0.14,2,-999.000,9,   40.09,2,   34.52,2, -68.0106, 172.8205,   0.004,      0.007,    34.8835,2,     -999.0,9,     -999.0,9,-999.0000,9,-999.0000,9,-999.0000,9,-999.0000,9,-999.0000,9,-999.0000,9,-999.0000,9,-999.0000,9,-999.0000,9,    0.000,   0.201,   1.0915,50001501020,     -999.0,9,     -999.0,9,     -999.0,9,      -2.15,2,       0.26,20110227,       2021
320620110219,       S04P,      15,          1,         19,         19,2,20110227,       1910,   -68.0106,   172.8205,       3124,   799.3,   1.0693,  34.7201,2,  34.7188,2,    194.2,2,   194.5,2,  109.70,2,   32.14,2,    0.00,2,    2.19,2,-999.000,9,-999.000,9,-999.000,9,-999.0000,9,  -999.0,9,  -999.0,9,-999.0000,9,  -999.00,-999.000,9,-999.0000,9,-999.000,9,   1.0691,2, -999.00,9,  -999.0,9,  -999.0,-999.000,9, -999.00,9,-999.000,9,   40.03,2,   34.90,2, -68.0106, 172.8205,-999.000,     -999.0,    34.8826,2,     -999.0,9,     -999.0,9,-999.0000,9,-999.0000,9,-999.0000,9,-999.0000,9,-999.0000,9,-999.0000,9,-999.0000,9,-999.0000,9,-999.0000,9,-999.0000,-999.000,   1.0283,     -999.0,     -999.0,9,     -999.0,9,     -999.0,9,     -999.0,9,     -999.0,20110227,       2018
320620110219,       S04P,      15,          1,         18,         18,2,20110227,       1910,   -68.0106,   172.8205,       3124,   898.4,   1.0229,  34.7188,2,  34.7177,2,    195.8,2,   196.0,2,  111.42,2,   32.20,2,    0.00,2,    2.18,2,   0.163,2,   0.087,2,   0.012,2,   0.1980,2,  -999.0,9,  -999.0,9,-999.0000,9,  -999.00,   0.004,2,    2.145,4,   9.254,2,   1.0225,2, -999.00,9,  -999.0,9,  -999.0,   9.283,2,   -0.19,2,-999.000,9,   39.55,2,   34.43,2, -68.0106, 172.8205,   0.005,      0.012,    34.8814,2,     -999.0,9,     -999.0,9,-999.0000,9,-999.0000,9,-999.0000,9,-999.0000,9,-999.0000,9,-999.0000,9,-999.0000,9,-999.0000,9,-999.0000,9,    0.000,   0.208,   0.9764,50001501018,     -999.0,9,     -999.0,9,     -999.0,9,      -2.20,2,       0.04,20110227,       2016
320620110219,       S04P,      15,          1,         17,         17,2,20110227,       1910,   -68.0106,   172.8205,       3124,  1002.2,   0.9607,  34.7170,2,  34.7163,2,    197.4,2,   196.9,2,  113.63,2,   32.22,2,    0.00,2,    2.18,2,-999.000,9,-999.000,9,-999.000,9,-999.0000,9,  2258.1,2,  2360.5,2,   7.5854,2,    25.00,-999.000,9,-999.0000,9,-999.000,9,   0.9603,2, -999.00,9,  -999.0,9,  -999.0,-999.000,9, -999.00,9,-999.000,9,   39.36,2,   34.83,2, -68.0106, 172.8206,-999.000,     -999.0,    34.8800,2,     -999.0,9,     -999.0,9,-999.0000,9,-999.0000,9,-999.0000,9,-999.0000,9,-999.0000,9,-999.0000,9,-999.0000,9,-999.0000,9,-999.0000,9,-999.0000,-999.000,   0.9085,     -999.0,     -999.0,9,     -999.0,9,     -999.0,9,     -999.0,9,     -999.0,20110227,       2012
320620110219,       S04P,      15,          1,         16,         16,2,20110227,       1910,   -68.0106,   172.8205,       3124,  1100.1,   0.9225,  34.7161,2,  34.7150,2,    198.9,2,   198.4,2,  114.71,2,   32.27,2,    0.00,2,    2.19,2,   0.118,2,   0.055,2,   0.007,2,   0.0590,2,  -999.0,9,  -999.0,9,-999.0000,9,  -999.00,   0.001,2,    2.104,2,   9.708,2,   0.9226,2, -999.00,9,  -999.0,9,  -999.0,   9.213,2,   -0.07,2,-999.000,9,   39.01,2,   34.50,2, -68.0106, 172.8206,   0.004,      0.014,    34.8787,2,     -999.0,9,     -999.0,9,-999.0000,9,-999.0000,9,-999.0000,9,-999.0000,9,-999.0000,9,-999.0000,9,-999.0000,9,-999.0000,9,-999.0000,9,    0.001,   0.193,   0.8646,50001501016,     -999.0,9,     -999.0,9,     -999.0,9,      -1.80,2,       0.09,20110227,       2010
320620110219,       S04P,      15,          1,         15,         15,2,20110227,       1910,   -68.0106,   172.8205,       3124,  1198.5,   0.8684,  34.7146,2,  34.7139,2,    199.9,2,   200.1,2,  116.10,2,   32.30,2,    0.00,2,    2.18,2,-999.000,9,-999.000,9,-999.000,9,-999.0000,9,  -999.0,9,  -999.0,9,-999.0000,9,  -999.00,-999.000,9,-999.0000,9,-999.000,9,   0.8689,2, -999.00,9,  -999.0,9,  -999.0,-999.000,9, -999.00,9,-999.000,9,   39.07,2,   34.70,2, -68.0106, 172.8205,-999.000,     -999.0,    34.8775,2,     -999.0,9,     -999.0,9,-999.0000,9,-999.0000,9,-999.0000,9,-999.0000,9,-999.0000,9,-999.0000,9,-999.0000,9,-999.0000,9,-999.0000,9,-999.0000,-999.000,   0.8048,     -999.0,     -999.0,9,     -999.0,9,     -999.0,9,     -999.0,9,     -999.0,20110227,       2006
320620110219,       S04P,      15,          1,         14,         14,2,20110227,       1910,   -68.0106,   172.8205,       3124,  1299.1,   0.8226,  34.7133,2,  34.7131,2,    200.9,2,   200.5,2,  117.75,2,   32.36,2,    0.00,2,    2.18,2,-999.000,9,-999.000,9,-999.000,9,-999.0000,9,  2258.7,2,  2360.7,2,   7.5893,2,    25.00,-999.000,9,-999.0000,9,-999.000,9,   0.8230,2, -999.00,9,  -999.0,9,  -999.0,-999.000,9, -999.00,9,-999.000,9,   39.13,2,   34.77,2, -68.0106, 172.8205,-999.000,     -999.0,    34.8768,2,     -999.0,9,     -999.0,9,-999.0000,9,-999.0000,9,-999.0000,9,-999.0000,9,-999.0000,9,-999.0000,9,-999.0000,9,-999.0000,9,-999.0000,9,-999.0000,-999.000,   0.7531,     -999.0,     -999.0,9,     -999.0,9,     -999.0,9,     -999.0,9,     -999.0,20110227,       2003