BOTTLE,20220813CCHSIOAMB
EXPOCODE,SECT_ID,STNNBR,CASTNO,SAMPNO,BTLNBR,BTLNBR_FLAG_W,DATE,TIME,LATITUDE,LONGITUDE,DEPTH,CTDPRS,CTDTMP,CTDSAL,CTDSAL_FLAG_W,SALNTY,SALNTY_FLAG_W,CTDOXY,CTDOXY_FLAG_W,OXYGEN,OXYGEN_FLAG_W,SILCAT,SILCAT_FLAG_W,NITRAT,NITRAT_FLAG_W,NITRIT,NITRIT_FLAG_W,PHSPHT,PHSPHT_FLAG_W,CFC-11,CFC-11_FLAG_W,CFC-12,CFC-12_FLAG_W,CFC113,CFC113_FLAG_W,SF6,SF6_FLAG_W,TCARBN,TCARBN_FLAG_W,ALKALI,ALKALI_FLAG_W,PH_TOT,PH_TOT_FLAG_W,PH_TMP,TRITUM,TRITUM_FLAG_W,HELIUM,HELIUM_FLAG_W,DELHE3,DELHE3_FLAG_W,REFTMP,REFTMP_FLAG_W,DELC13,DELC13_FLAG_W,DELC14,DELC14_FLAG_W,C14ERR,NEON,NEON_FLAG_W,DELO18,DELO18_FLAG_W,POC,POC_FLAG_W,DOC,DOC_FLAG_W,TDN,TDN_FLAG_W,BTL_LAT,BTL_LON,TRITER,NEONER,SALTREF,SALTREF_FLAG_W,PIGMENTS,PIGMENTS_FLAG_W,LAB_DEN,LAB_DEN_FLAG_W,CDOM325,CDOM325_FLAG_W,CDOM340,CDOM340_FLAG_W,CDOM380,CDOM380_FLAG_W,CDOM412,CDOM412_FLAG_W,CDOM443,CDOM443_FLAG_W,CDOM490,CDOM490_FLAG_W,CDOM555,CDOM555_FLAG_W,CDOMSL,CDOMSL_FLAG_W,CDOMSN,CDOMSN_FLAG_W,HELIER,DELHER,THETA,LDEO_SAMPNO,ABSORBTION,ABSORBTION_FLAG_W,IMAGE_COUNT,IMAGE_COUNT_FLAG_W,CYTO_COUNT,CYTO_COUNT_FLAG_W,DELD,DELD_FLAG_W,DELDERR,BTL_DATE,BTL_TIME
,,,,,,,,,,,METERS,DBAR,ITS-90,PSS-78,,PSS-78,,UMOL/KG,,UMOL/KG,,UMOL/KG,,UMOL/KG,,UMOL/KG,,UMOL/KG,,PMOL/KG,,PMOL/KG,,PMOL/KG,,FMOL/KG,,UMOL/KG,,UMOL/KG,,,,DEG C,TU,,NMOL/KG,,PERCNT,,DEG C,,/MILLE,,/MILLE,,/MILLE,NMOL/KG,,/MILLE,,UG/KG,,UMOL/KG,,UMOL/KG,,,,TU,NMOL/KG,G/KG,,,,,,1/M,,1/M,,1/M,,1/M,,1/M,,1/M,,1/M,,1/NM,,1/NM,,NMOL/KG,PERCNT,DEG C,,,,,,,,/MILLE,,/MILLE,,
320620110219,       P16S,      54,          1,         13,         13,2,20110313,       2351,   -71.4803,  -150.0014,       4219,  1499.9,   0.9214,  34.7165,2,  34.7167,2,    200.4,2,   199.6,2,  116.28,2,   31.78,2,    0.00,2,    2.21,2,-999.000,9,-999.000,9,-999.000,9,-999.0000,9,  2260.4,2,  2359.2,2,   7.5948,2,    25.00,-999.000,9,-999.0000,9,-999.000,9,   0.9209,2, -999.00,9,  -999.0,9,  -999.0,-999.000,9, -999.00,9,-999.000,9,   40.02,2,   34.35,2, -71.4803,-150.0014,-999.000,     -999.0,    34.8805,2,     -999.0,9,     -999.0,9,   0.0897,2,   0.0488,2,   0.0066,3,  -0.0024,4,  -0.0115,4,  -0.0096,4,  -0.0113,4,   0.0567,4,   0.0446,4,-999.0000,-999.000,   0.8374,     -999.0,     -999.0,9,     -999.0,9,     -999.0,9,     -999.0,9,     -999.0,20110314,       0049
320620110219,       P16S,      54,          1,         12,         12,2,20110313,       2351,   -71.4803,  -150.0014,       4219,  1599.8,   0.8702,  34.7145,2,  34.7148,2,    200.9,2,   201.3,2,  117.76,2,   31.86,2,    0.00,2,    2.22,2,   0.095,2,   0.054,2,   0.005,2,   0.0680,3,  -999.0,9,  -999.0,9,-999.0000,9,  -999.00,-999.000,9,-999.0000,9,-999.000,9,   0.8704,2, -999.00,9,  -999.0,9,  -999.0,-999.000,9, -999.00,9,-999.000,9,   40.05,2,   34.78,2, -71.4803,-150.0014,-999.000,     -999.0,    34.8785,2,     -999.0,9,     -999.0,9,-999.0000,9,-999.0000,9,-999.0000,9,-999.0000,9,-999.0000,9,-999.0000,9,-999.0000,9,-999.0000,9,-999.0000,9,-999.0000,-999.000,   0.7799,     -999.0,     -999.0,9,     -999.0,9,     -999.0,9,     -999.0,9,     -999.0,20110314,       0046
320620110219,       P16S,      54,          1,         11,         11,2,20110313,       2351,   -71.4803,  -150.0014,       4219,  1800.2,   0.7871,  34.7113,2,  34.7113,2,    203.3,2,   203.8,2,  120.91,2,   31.93,2,    0.00,2,    2.22,2,-999.000,9,-999.000,9,-999.000,9,-999.0000,9,  2259.7,2,  2360.3,2,   7.5958,2,    25.00,-999.000,9,-999.0000,9,-999.000,9,   0.7877,2, -999.00,9,  -999.0,9,  -999.0,-999.000,9, -999.00,9,-999.000,9,   39.79,2,   34.67,2, -71.4803,-150.0014,-999.000,     -999.0,    34.8750,2,     -999.0,9,     -999.0,9,-999.0000,9,-999.0000,9,-999.0000,9,-999.0000,9,-999.0000,9,-999.0000,9,-999.0000,9,-999.0000,9,-999.0000,9,-999.0000,-999.000,   0.6837,     -999.0,     -999.0,9,     -999.0,9,     -999.0,9,     -999.0,9,     -999.0,20110314,       0042
320620110219,       P16S,      54,          1,         10,         37,2,20110313,       2351,   -71.4803,  -150.0014,       4219,  2000.9,   0.7129,  34.7085,2,  34.7091,2,    204.6,2,   204.3,2,  123.73,2,   31.99,2,    0.00,2,    2.22,2,-999.000,9,-999.000,9,-999.000,9,-999.0000,9,  -999.0,9,  -999.0,9,-999.0000,9,  -999.00,-999.000,9,-999.0000,9,-999.000,9,   0.7127,2, -999.00,9,  -999.0,9,  -999.0,-999.000,9, -999.00,9,-999.000,9,   40.05,2,   34.79,2, -71.4803,-150.0014,-999.000,     -999.0,    34.8728,2,     -999.0,9,     -999.0,9,   0.0920,2,   0.0506,2,   0.0067,3,  -0.0011,4,  -0.0105,4,  -0.0092,4,  -0.0111,4,   0.0539,4,   0.0442,4,-999.0000,-999.000,   0.5959,     -999.0,     -999.0,9,     -999.0,9,     -999.0,9,     -999.0,9,     -999.0,20110314,       0038
320620110219,       P16S,      54,          1,          9,          9,2,20110313,       2351,   -71.4803,  -150.0014,       4219,  2251.4,   0.6300,  34.7061,2,  34.7058,2,    206.6,2,   206.1,2,  125.72,2,   32.13,2,    0.00,2,    2.22,2,-999.000,9,-999.000,9,-999.000,9,-999.0000,9,  2260.7,2,  2360.1,2,   7.5938,2,    25.00,-999.000,9,-999.0000,9,-999.000,9,   0.6304,2, -999.00,9,  -999.0,9,  -999.0,-999.000,9, -999.00,9,-999.000,9,   39.76,2,   34.80,2, -71.4803,-150.0014,-999.000,     -999.0,    34.8695,2,     -999.0,9,     -999.0,9,-999.0000,9,-999.0000,9,-999.0000,9,-999.0000,9,-999.0000,9,-999.0000,9,-999.0000,9,-999.0000,9,-999.0000,9,-999.0000,-999.000,   0.4951,     -999.0,     -999.0,9,     -999.0,9,     -999.0,9,     -999.0,9,     -999.0,20110314,       0032
320620110219,       P16S,      54,          1,          8,          8,2,20110313,       2351,   -71.4803,  -150.0014,       4219,  2499.8,   0.5416,  34.7047,2,  34.7048,2,    208.6,2,   209.1,2,  127.08,2,   32.24,2,    0.00,2,    2.21,2,   0.147,2,   0.073,2,   0.007,2,   0.0620,3,  -999.0,9,  -999.0,9,-999.0000,9,  -999.00,-999.000,9,-999.0000,9,-999.000,9,   0.5417,2, -999.00,9,  -999.0,9,  -999.0,-999.000,9, -999.00,9,-999.000,9,   40.00,2,   34.84,2, -71.4803,-150.0014,-999.000,     -999.0,    34.8685,2,     -999.0,9,     -999.0,9,-999.0000,9,-999.0000,9,-999.0000,9,-999.0000,9,-999.0000,9,-999.0000,9,-999.0000,9,-999.0000,9,-999.0000,9,-999.0000,-999.000,   0.3885,     -999.0,     -999.0,9,     -999.0,9,     -999.0,9,     -999.0,9,     -999.0,20110314,       0027
320620110219,       P16S,      54,          1,          7,          7,2,20110313,       2351,   -71.4803,  -150.0014,       4219,  2750.1,   0.4680,  34.7041,2,  34.7037,2,    210.3,2,   210.8,2,  129.64,2,   32.32,2,    0.00,2,    2.23,2,-999.000,9,-999.000,9,-999.000,9,-999.0000,9,  2259.7,2,  2361.5,2,   7.5950,4,    25.00,-999.000,9,-999.0000,9,-999.000,9,   0.4684,2, -999.00,9,  -999.0,9,  -999.0,-999.000,9, -999.00,9,-999.000,9,   40.00,2,   34.67,2, -71.4803,-150.0014,-999.000,     -999.0,    34.8673,2,     -999.0,9,     -999.0,9,   0.0891,2,   0.0481,2,   0.0063,3,  -0.0023,4,  -0.0113,4,  -0.0095,4,  -0.0112,4,   0.0588,4,   0.0452,4,-999.0000,-999.000,   0.2956,     -999.0,     -999.0,9,     -999.0,9,     -999.0,9,     -999.0,9,     -999.0,20110314,       0022
320620110219,       P16S,      54,          1,          6,          6,2,20110313,       2351,   -71.4803,  -150.0014,       4219,  3000.1,   0.4159,  34.7036,2,  34.7042,2,    211.8,2,   212.0,2,  131.34,2,   32.29,2,    0.00,2,    2.23,2,   0.148,2,   0.073,2,   0.007,2,   0.0580,3,  -999.0,9,  -999.0,9,-999.0000,9,  -999.00,-999.000,9,-999.0000,9,-999.000,9,   0.4161,2, -999.00,9,  -999.0,9,  -999.0,-999.000,9, -999.00,9,-999.000,9,   39.99,2,   34.89,2, -71.4803,-150.0014,-999.000,     -999.0,    34.8679,2,     -999.0,9,     -999.0,9,-999.0000,9,-999.0000,9,-999.0000,9,-999.0000,9,-999.0000,9,-999.0000,9,-999.0000,9,-999.0000,9,-999.0000,9,-999.0000,-999.000,   0.2230,     -999.0,     -999.0,9,     -999.0,9,     -999.0,9,     -999.0,9,     -999.0,20110314,       0017
320620110219,       P16S,      54,          1,          5,          5,2,20110313,       2351,   -71.4803,  -150.0014,       4219,  3299.8,   0.3697,  34.7030,2,  34.7031,2,    213.3,2,   213.0,2,  133.75,2,   32.25,2,    0.00,2,    2.23,2,   0.175,2,   0.092,2,   0.009,2,   0.0630,3,  -999.0,9,  -999.0,9,-999.0000,9,  -999.00,-999.000,9,-999.0000,9,-999.000,9,   0.3700,2, -999.00,9,  -999.0,9,  -999.0,-999.000,9, -999.00,9,-999.000,9,   40.13,2,   34.75,2, -71.4803,-150.0014,-999.000,     -999.0,    34.8667,2,     -999.0,9,     -999.0,9,-999.0000,9,-999.0000,9,-999.0000,9,-999.0000,9,-999.0000,9,-999.0000,9,-999.0000,9,-999.0000,9,-999.0000,9,-999.0000,-999.000,   0.1508,     -999.0,     -999.0,9,     -999.0,9,     -999.0,9,     -999.0,9,     -999.0,20110314,       0011
320620110219,       P16S,      54,          1,          4,          4,2,20110313,       2351,   -71.4803,  -150.0014,       4219,  3599.8,   0.3305,  34.7024,2,  34.7023,2,    214.9,2,   214.4,2,  136.64,2,   32.33,2,    0.00,2,    2.23,2,   0.244,2,   0.124,2,   0.011,2,   0.0800,3,  2261.4,2,  2361.5,2,   7.5931,2,    25.00,-999.000,9,-999.0000,9,-999.000,9,   0.3305,2, -999.00,9,  -999.0,9,  -999.0,-999.000,9, -999.00,9,-999.000,9,   40.27,2,   34.56,2, -71.4803,-150.0014,-999.000,     -999.0,    34.8659,2,     -999.0,9,     -999.0,9,   0.0873,2,   0.0475,2,   0.0076,3,  -0.0022,4,  -0.0114,4,  -0.0096,4,  -0.0114,4,   0.0508,4,   0.0436,4,-999.0000,-999.000,   0.0843,     -999.0,     -999.0,9,     -999.0,9,     -999.0,9,     -999.0,9,     -999.0,20110314,       0006
320620110219,       P16S,      54,          1,          3,          3,2,20110313,       2351,   -71.4803,  -150.0014,       4219,  3900.6,   0.2989,  34.7006,2,  34.7003,2,    216.6,2,   216.1,2,  134.95,2,   32.19,2,    0.00,2,    2.23,2,   0.383,2,   0.188,2,   0.019,2,   0.0970,3,  2260.2,2,  2359.9,2,   7.5923,6,    25.00,-999.000,9,-999.0000,9,-999.000,9,   0.2988,2, -999.00,9,  -999.0,9,  -999.0,-999.000,9, -999.00,9,-999.000,9,   40.47,2,   34.96,2, -71.4803,-150.0014,-999.000,     -999.0,    34.8640,2,     -999.0,9,     -999.0,9,-999.0000,9,-999.0000,9,-999.0000,9,-999.0000,9,-999.0000,9,-999.0000,9,-999.0000,9,-999.0000,9,-999.0000,9,-999.0000,-999.000,   0.0240,     -999.0,     -999.0,9,     -999.0,9,     -999.0,9,     -999.0,9,     -999.0,20110313,       0000
320620110219,       P16S,      54,          1,          2,          2,2,20110313,       2351,   -71.4803,  -150.0014,       4219,  4100.6,   0.2262,  34.6970,2,  34.6968,2,    220.5,2,   219.8,2,  124.53,2,   31.93,2,    0.00,2,    2.22,2,   0.711,2,   0.351,2,   0.041,2,   0.1440,3,  2258.5,2,  2358.7,6,   7.5922,2,    25.00,-999.000,9,-999.0000,9,-999.000,9,   0.2260,2, -999.00,9,  -999.0,9,  -999.0,-999.000,9, -999.00,9,-999.000,9,   40.35,2,   34.60,2, -71.4803,-150.0014,-999.000,     -999.0,    34.8604,2,     -999.0,9,     -999.0,9,-999.0000,9,-999.0000,9,-999.0000,9,-999.0000,9,-999.0000,9,-999.0000,9,-999.0000,9,-999.0000,9,-999.0000,9,-999.0000,-999.000,  -0.0669,     -999.0,     -999.0,9,     -999.0,9,     -999.0,9,     -999.0,9,     -999.0,20110313,       2356
320620110219,       P16S,      54,          1,          1,          1,2,20110313,       2351,   -71.4803,  -150.0014,       4219,  4289.8,   0.2234,  34.6971,2,  34.6978,2,    220.3,2,   220.5,2,  125.82,2,   31.98,2,    0.00,2,    2.23,2,   0.796,2,   0.395,2,   0.043,2,   0.1580,3,  2259.9,6,  2358.6,2,   7.5899,2,    25.00,-999.000,9,-999.0000,9,-999.000,9,   0.2229,2, -999.00,9,  -999.0,9,  -999.0,-999.000,9, -999.00,9,-999.000,9,   40.07,2,   34.71,2, -71.4803,-150.0014,-999.000,     -999.0,    34.8614,2,     -999.0,9,     -999.0,9,   0.0944,2,   0.0522,2,   0.0080,3,   0.0009,3,  -0.0092,4,  -0.0086,4,  -0.0109,4,   0.0580,4,   0.0434,4,-999.0000,-999.000,  -0.0893,     -999.0,     -999.0,9,     -999.0,9,     -999.0,9,     -999.0,9,     -999.0,20110313,       2351