BOTTLE,20220813CCHSIOAMB
EXPOCODE,SECT_ID,STNNBR,CASTNO,SAMPNO,BTLNBR,BTLNBR_FLAG_W,DATE,TIME,LATITUDE,LONGITUDE,DEPTH,CTDPRS,CTDTMP,CTDSAL,CTDSAL_FLAG_W,SALNTY,SALNTY_FLAG_W,CTDOXY,CTDOXY_FLAG_W,OXYGEN,OXYGEN_FLAG_W,SILCAT,SILCAT_FLAG_W,NITRAT,NITRAT_FLAG_W,NITRIT,NITRIT_FLAG_W,PHSPHT,PHSPHT_FLAG_W,CFC-11,CFC-11_FLAG_W,CFC-12,CFC-12_FLAG_W,CFC113,CFC113_FLAG_W,SF6,SF6_FLAG_W,TCARBN,TCARBN_FLAG_W,ALKALI,ALKALI_FLAG_W,PH_TOT,PH_TOT_FLAG_W,PH_TMP,TRITUM,TRITUM_FLAG_W,HELIUM,HELIUM_FLAG_W,DELHE3,DELHE3_FLAG_W,REFTMP,REFTMP_FLAG_W,DELC13,DELC13_FLAG_W,DELC14,DELC14_FLAG_W,C14ERR,NEON,NEON_FLAG_W,DELO18,DELO18_FLAG_W,POC,POC_FLAG_W,DOC,DOC_FLAG_W,TDN,TDN_FLAG_W,BTL_LAT,BTL_LON,TRITER,NEONER,SALTREF,SALTREF_FLAG_W,PIGMENTS,PIGMENTS_FLAG_W,LAB_DEN,LAB_DEN_FLAG_W,CDOM325,CDOM325_FLAG_W,CDOM340,CDOM340_FLAG_W,CDOM380,CDOM380_FLAG_W,CDOM412,CDOM412_FLAG_W,CDOM443,CDOM443_FLAG_W,CDOM490,CDOM490_FLAG_W,CDOM555,CDOM555_FLAG_W,CDOMSL,CDOMSL_FLAG_W,CDOMSN,CDOMSN_FLAG_W,HELIER,DELHER,THETA,LDEO_SAMPNO,ABSORBTION,ABSORBTION_FLAG_W,IMAGE_COUNT,IMAGE_COUNT_FLAG_W,CYTO_COUNT,CYTO_COUNT_FLAG_W,DELD,DELD_FLAG_W,DELDERR,BTL_DATE,BTL_TIME
,,,,,,,,,,,METERS,DBAR,ITS-90,PSS-78,,PSS-78,,UMOL/KG,,UMOL/KG,,UMOL/KG,,UMOL/KG,,UMOL/KG,,UMOL/KG,,PMOL/KG,,PMOL/KG,,PMOL/KG,,FMOL/KG,,UMOL/KG,,UMOL/KG,,,,DEG C,TU,,NMOL/KG,,PERCNT,,DEG C,,/MILLE,,/MILLE,,/MILLE,NMOL/KG,,/MILLE,,UG/KG,,UMOL/KG,,UMOL/KG,,,,TU,NMOL/KG,G/KG,,,,,,1/M,,1/M,,1/M,,1/M,,1/M,,1/M,,1/M,,1/NM,,1/NM,,NMOL/KG,PERCNT,DEG C,,,,,,,,/MILLE,,/MILLE,,
320620110219,       S04P,      13,          1,         13,         13,2,20110227,       0643,   -68.8128,   171.3925,       3173,  1435.4,   0.7337,  34.7108,2,  34.7107,2,    202.5,2,   202.9,2,  122.25,2,   32.01,2,    0.00,2,    2.18,2,   0.091,2,   0.053,2,   0.006,2,-999.0000,9,  2262.8,2,  2360.2,2,   7.5905,2,    25.00,-999.000,9,-999.0000,9,-999.000,9,   0.7342,2, -999.00,9,  -999.0,9,  -999.0,-999.000,9, -999.00,9,-999.000,9,   40.26,2,   33.63,2, -68.8128, 171.3925,-999.000,     -999.0,    34.8744,2,     -999.0,9,     -999.0,9,-999.0000,9,-999.0000,9,-999.0000,9,-999.0000,9,-999.0000,9,-999.0000,9,-999.0000,9,-999.0000,9,-999.0000,9,-999.0000,-999.000,   0.6563,     -999.0,     -999.0,9,     -999.0,9,     -999.0,9,     -999.0,9,     -999.0,20110227,       0729
320620110219,       S04P,      13,          1,         12,         12,2,20110227,       0643,   -68.8128,   171.3925,       3173,  1533.9,   0.7088,  34.7098,2,  34.7104,2,    203.5,2,   203.5,2,  122.84,2,   31.98,2,    0.00,2,    2.17,2,-999.000,9,-999.000,9,-999.000,9,-999.0000,9,  -999.0,9,  -999.0,9,-999.0000,9,  -999.00,-999.000,9,-999.0000,9,-999.000,9,   0.7087,2, -999.00,9,  -999.0,9,  -999.0,-999.000,9, -999.00,9,-999.000,9,   40.79,2,   33.80,2, -68.8128, 171.3926,-999.000,     -999.0,    34.8740,2,     -999.0,9,     -999.0,9,-999.0000,9,-999.0000,9,-999.0000,9,-999.0000,9,-999.0000,9,-999.0000,9,-999.0000,9,-999.0000,9,-999.0000,9,-999.0000,-999.000,   0.6251,     -999.0,     -999.0,9,     -999.0,9,     -999.0,9,     -999.0,9,     -999.0,20110227,       0726
320620110219,       S04P,      13,          1,         11,         11,2,20110227,       0643,   -68.8128,   171.3925,       3173,  1634.2,   0.6930,  34.7091,2,  34.7100,2,    204.0,2,   203.6,2,  123.39,2,   31.84,2,    0.00,2,    2.19,2,   0.106,2,   0.069,2,   0.008,2,-999.0000,9,  -999.0,9,  -999.0,9,-999.0000,9,  -999.00,-999.000,9,-999.0000,9,-999.000,9,   0.6929,2, -999.00,9,  -999.0,9,  -999.0,-999.000,9, -999.00,9,-999.000,9,   40.50,2,   33.93,2, -68.8128, 171.3925,-999.000,     -999.0,    34.8736,2,     -999.0,9,     -999.0,9,-999.0000,9,-999.0000,9,-999.0000,9,-999.0000,9,-999.0000,9,-999.0000,9,-999.0000,9,-999.0000,9,-999.0000,9,-999.0000,-999.000,   0.6026,     -999.0,     -999.0,9,     -999.0,9,     -999.0,9,     -999.0,9,     -999.0,20110227,       0723
320620110219,       S04P,      13,          1,         10,         10,2,20110227,       0643,   -68.8128,   171.3925,       3173,  1734.3,   0.6761,  34.7083,2,  34.7086,2,    204.5,2,   205.4,2,  124.01,2,   32.00,2,    0.00,2,    2.19,2,-999.000,9,-999.000,9,-999.000,9,-999.0000,9,  -999.0,9,  -999.0,9,-999.0000,9,  -999.00,-999.000,9,-999.0000,9,-999.000,9,   0.6763,2, -999.00,9,  -999.0,9,  -999.0,-999.000,9, -999.00,9,-999.000,9,   40.58,2,   34.04,2, -68.8128, 171.3926,-999.000,     -999.0,    34.8723,2,     -999.0,9,     -999.0,9,-999.0000,9,-999.0000,9,-999.0000,9,-999.0000,9,-999.0000,9,-999.0000,9,-999.0000,9,-999.0000,9,-999.0000,9,-999.0000,-999.000,   0.5790,     -999.0,     -999.0,9,     -999.0,9,     -999.0,9,     -999.0,9,     -999.0,20110227,       0719
320620110219,       S04P,      13,          1,          9,          9,2,20110227,       0643,   -68.8128,   171.3925,       3173,  1865.0,   0.6426,  34.7074,2,  34.7076,2,    205.6,2,   206.2,2,  125.02,2,   32.02,2,    0.00,2,    2.20,2,   0.134,2,   0.080,2,   0.015,2,-999.0000,9,  2263.6,2,  2360.5,2,   7.5894,2,    25.00,-999.000,9,-999.0000,9,-999.000,9,   0.6425,2, -999.00,9,  -999.0,9,  -999.0,-999.000,9, -999.00,9,-999.000,9,   40.38,2,   34.20,2, -68.8128, 171.3926,-999.000,     -999.0,    34.8713,2,     -999.0,9,     -999.0,9,-999.0000,9,-999.0000,9,-999.0000,9,-999.0000,9,-999.0000,9,-999.0000,9,-999.0000,9,-999.0000,9,-999.0000,9,-999.0000,-999.000,   0.5366,     -999.0,     -999.0,9,     -999.0,9,     -999.0,9,     -999.0,9,     -999.0,20110227,       0716
320620110219,       S04P,      13,          1,          8,          8,2,20110227,       0643,   -68.8128,   171.3925,       3173,  2065.6,   0.5754,  34.7049,2,  34.7054,2,    207.5,2,   208.1,2,  125.60,2,   32.08,2,    0.00,2,    2.20,2,-999.000,9,-999.000,9,-999.000,9,-999.0000,9,  -999.0,9,  -999.0,9,-999.0000,9,  -999.00,-999.000,9,-999.0000,9,-999.000,9,   0.5756,2, -999.00,9,  -999.0,9,  -999.0,-999.000,9, -999.00,9,-999.000,9,   40.36,2,   34.36,2, -68.8128, 171.3925,-999.000,     -999.0,    34.8691,2,     -999.0,9,     -999.0,9,-999.0000,9,-999.0000,9,-999.0000,9,-999.0000,9,-999.0000,9,-999.0000,9,-999.0000,9,-999.0000,9,-999.0000,9,-999.0000,-999.000,   0.4557,     -999.0,     -999.0,9,     -999.0,9,     -999.0,9,     -999.0,9,     -999.0,20110227,       0711
320620110219,       S04P,      13,          1,          7,          7,2,20110227,       0643,   -68.8128,   171.3925,       3173,  2264.8,   0.4934,  34.7013,2,  34.7019,2,    209.8,2,   209.6,2,  125.74,2,   32.13,2,    0.00,2,    2.19,2,   0.305,2,   0.176,2,   0.034,2,-999.0000,9,  -999.0,9,  -999.0,9,-999.0000,9,  -999.00,-999.000,9,-999.0000,9,-999.000,9,   0.4932,2, -999.00,9,  -999.0,9,  -999.0,-999.000,9, -999.00,9,-999.000,9,   39.96,2,   34.46,2, -68.8128, 171.3926,-999.000,     -999.0,    34.8656,2,     -999.0,9,     -999.0,9,-999.0000,9,-999.0000,9,-999.0000,9,-999.0000,9,-999.0000,9,-999.0000,9,-999.0000,9,-999.0000,9,-999.0000,9,-999.0000,-999.000,   0.3599,     -999.0,     -999.0,9,     -999.0,9,     -999.0,9,     -999.0,9,     -999.0,20110227,       0707
320620110219,       S04P,      13,          1,          6,          6,2,20110227,       0643,   -68.8128,   171.3925,       3173,  2465.3,   0.4392,  34.7001,2,  34.7009,2,    211.7,2,   213.1,2,  127.28,2,   32.13,2,    0.00,2,    2.20,2,-999.000,9,-999.000,9,-999.000,9,-999.0000,9,  2263.5,2,  2359.8,2,   7.5882,2,    25.00,-999.000,9,-999.0000,9,-999.000,9,   0.4392,2, -999.00,9,  -999.0,9,  -999.0,-999.000,9, -999.00,9,-999.000,9,   40.52,2,   35.06,2, -68.8128, 171.3926,-999.000,     -999.0,    34.8646,2,     -999.0,9,     -999.0,9,-999.0000,9,-999.0000,9,-999.0000,9,-999.0000,9,-999.0000,9,-999.0000,9,-999.0000,9,-999.0000,9,-999.0000,9,-999.0000,-999.000,   0.2909,     -999.0,     -999.0,9,     -999.0,9,     -999.0,9,     -999.0,9,     -999.0,20110227,       0702
320620110219,       S04P,      13,          1,          5,          5,2,20110227,       0643,   -68.8128,   171.3925,       3173,  2665.5,   0.3551,  34.6930,2,  34.6935,2,    215.0,2,   215.1,2,  123.74,2,   32.10,2,    0.00,2,    2.19,2,   0.571,2,   0.328,2,   0.056,2,-999.0000,9,  -999.0,9,  -999.0,9,-999.0000,9,  -999.00,-999.000,9,-999.0000,9,-999.000,9,   0.3547,2, -999.00,9,  -999.0,9,  -999.0,-999.000,9, -999.00,9,-999.000,9,   40.06,2,   34.75,2, -68.8128, 171.3925,-999.000,     -999.0,    34.8571,2,     -999.0,9,     -999.0,9,-999.0000,9,-999.0000,9,-999.0000,9,-999.0000,9,-999.0000,9,-999.0000,9,-999.0000,9,-999.0000,9,-999.0000,9,-999.0000,-999.000,   0.1921,     -999.0,     -999.0,9,     -999.0,9,     -999.0,9,     -999.0,9,     -999.0,20110227,       0657
320620110219,       S04P,      13,          1,          4,          4,2,20110227,       0643,   -68.8128,   171.3925,       3173,  2864.2,   0.2643,  34.6856,2,  34.6850,2,    219.1,2,   218.8,2,  118.59,2,   31.97,2,    0.00,2,    2.17,2,   0.894,2,   0.511,2,   0.078,2,-999.0000,9,  -999.0,9,  -999.0,9,-999.0000,9,  -999.00,-999.000,9,-999.0000,9,-999.000,9,   0.2638,2, -999.00,9,  -999.0,9,  -999.0,-999.000,9, -999.00,9,-999.000,9,   40.43,2,   34.60,2, -68.8128, 171.3926,-999.000,     -999.0,    34.8486,2,     -999.0,9,     -999.0,9,-999.0000,9,-999.0000,9,-999.0000,9,-999.0000,9,-999.0000,9,-999.0000,9,-999.0000,9,-999.0000,9,-999.0000,9,-999.0000,-999.000,   0.0866,     -999.0,     -999.0,9,     -999.0,9,     -999.0,9,     -999.0,9,     -999.0,20110227,       0652
320620110219,       S04P,      13,          1,          3,          3,2,20110227,       0643,   -68.8128,   171.3925,       3173,  3064.8,   0.1711,  34.6786,2,  34.6797,2,    221.5,2,   222.4,2,  113.86,2,   31.86,2,    0.00,2,    2.18,2,   0.025,3,   0.025,3,   0.003,3,-999.0000,9,  2259.3,2,  2349.9,4,   7.5864,6,    25.00,-999.000,9,-999.0000,9,-999.000,9,   0.1709,2, -999.00,9,  -999.0,9,  -999.0,-999.000,9, -999.00,9,-999.000,9,   40.39,2,   34.26,2, -68.8128, 171.3926,-999.000,     -999.0,    34.8433,2,     -999.0,9,     -999.0,9,-999.0000,9,-999.0000,9,-999.0000,9,-999.0000,9,-999.0000,9,-999.0000,9,-999.0000,9,-999.0000,9,-999.0000,9,-999.0000,-999.000,  -0.0218,     -999.0,     -999.0,9,     -999.0,9,     -999.0,9,     -999.0,9,     -999.0,20110227,       0648
320620110219,       S04P,      13,          1,          2,          2,2,20110227,       0643,   -68.8128,   171.3925,       3173,  3166.7,   0.0315,  34.6682,2,  34.6688,2,    231.1,2,   229.5,2,  104.22,2,   31.48,2,    0.00,2,    2.14,2,   1.694,2,   0.987,2,   0.161,2,-999.0000,9,  2256.6,2,  2352.4,6,   7.5867,2,    25.00,-999.000,9,-999.0000,9,-999.000,9,   0.0316,2, -999.00,9,  -999.0,9,  -999.0,-999.000,9, -999.00,9,-999.000,9,   40.49,2,   34.09,2, -68.8128, 171.3925,-999.000,     -999.0,    34.8322,2,     -999.0,9,     -999.0,9,-999.0000,9,-999.0000,9,-999.0000,9,-999.0000,9,-999.0000,9,-999.0000,9,-999.0000,9,-999.0000,9,-999.0000,9,-999.0000,-999.000,  -0.1671,     -999.0,     -999.0,9,     -999.0,9,     -999.0,9,     -999.0,9,     -999.0,20110227,       0645
320620110219,       S04P,      13,          1,          1,          1,2,20110227,       0643,   -68.8128,   171.3925,       3173,  3219.1,  -0.1236,  34.6622,2,  34.6633,2,    233.7,2,   234.7,2,  100.05,2,   31.42,2,    0.00,2,    2.15,2,   2.024,2,   1.171,2,   0.199,2,-999.0000,9,  2255.2,2,  2349.4,4,   7.5886,2,    25.00,-999.000,9,-999.0000,9,-999.000,9,  -0.1239,2, -999.00,9,  -999.0,9,  -999.0,-999.000,9, -999.00,9,-999.000,9,   40.44,2,   34.28,2, -68.8128, 171.3925,-999.000,     -999.0,    34.8267,2,     -999.0,9,     -999.0,9,-999.0000,9,-999.0000,9,-999.0000,9,-999.0000,9,-999.0000,9,-999.0000,9,-999.0000,9,-999.0000,9,-999.0000,9,-999.0000,-999.000,  -0.3231,     -999.0,     -999.0,9,     -999.0,9,     -999.0,9,     -999.0,9,     -999.0,20110227,       0643