BOTTLE,20220813CCHSIOAMB
EXPOCODE,SECT_ID,STNNBR,CASTNO,SAMPNO,BTLNBR,BTLNBR_FLAG_W,DATE,TIME,LATITUDE,LONGITUDE,DEPTH,CTDPRS,CTDTMP,CTDSAL,CTDSAL_FLAG_W,SALNTY,SALNTY_FLAG_W,CTDOXY,CTDOXY_FLAG_W,OXYGEN,OXYGEN_FLAG_W,SILCAT,SILCAT_FLAG_W,NITRAT,NITRAT_FLAG_W,NITRIT,NITRIT_FLAG_W,PHSPHT,PHSPHT_FLAG_W,CFC-11,CFC-11_FLAG_W,CFC-12,CFC-12_FLAG_W,CFC113,CFC113_FLAG_W,SF6,SF6_FLAG_W,TCARBN,TCARBN_FLAG_W,ALKALI,ALKALI_FLAG_W,PH_TOT,PH_TOT_FLAG_W,PH_TMP,TRITUM,TRITUM_FLAG_W,HELIUM,HELIUM_FLAG_W,DELHE3,DELHE3_FLAG_W,REFTMP,REFTMP_FLAG_W,DELC13,DELC13_FLAG_W,DELC14,DELC14_FLAG_W,C14ERR,NEON,NEON_FLAG_W,DELO18,DELO18_FLAG_W,POC,POC_FLAG_W,DOC,DOC_FLAG_W,TDN,TDN_FLAG_W,BTL_LAT,BTL_LON,TRITER,NEONER,SALTREF,SALTREF_FLAG_W,PIGMENTS,PIGMENTS_FLAG_W,LAB_DEN,LAB_DEN_FLAG_W,CDOM325,CDOM325_FLAG_W,CDOM340,CDOM340_FLAG_W,CDOM380,CDOM380_FLAG_W,CDOM412,CDOM412_FLAG_W,CDOM443,CDOM443_FLAG_W,CDOM490,CDOM490_FLAG_W,CDOM555,CDOM555_FLAG_W,CDOMSL,CDOMSL_FLAG_W,CDOMSN,CDOMSN_FLAG_W,HELIER,DELHER,THETA,LDEO_SAMPNO,ABSORBTION,ABSORBTION_FLAG_W,IMAGE_COUNT,IMAGE_COUNT_FLAG_W,CYTO_COUNT,CYTO_COUNT_FLAG_W,DELD,DELD_FLAG_W,DELDERR,BTL_DATE,BTL_TIME
,,,,,,,,,,,METERS,DBAR,ITS-90,PSS-78,,PSS-78,,UMOL/KG,,UMOL/KG,,UMOL/KG,,UMOL/KG,,UMOL/KG,,UMOL/KG,,PMOL/KG,,PMOL/KG,,PMOL/KG,,FMOL/KG,,UMOL/KG,,UMOL/KG,,,,DEG C,TU,,NMOL/KG,,PERCNT,,DEG C,,/MILLE,,/MILLE,,/MILLE,NMOL/KG,,/MILLE,,UG/KG,,UMOL/KG,,UMOL/KG,,,,TU,NMOL/KG,G/KG,,,,,,1/M,,1/M,,1/M,,1/M,,1/M,,1/M,,1/M,,1/NM,,1/NM,,NMOL/KG,PERCNT,DEG C,,,,,,,,/MILLE,,/MILLE,,
320620110219,       S04P,      97,          1,         13,         13,2,20110330,       1830,   -66.9991,  -146.1499,       4312,  1563.5,   0.6953,  34.7092,2,  34.7089,2,    203.3,2,   203.3,2,  122.51,2,   32.19,2,    0.00,2,    2.22,2,   0.086,2,   0.040,2,   0.005,2,   0.0660,2,  -999.0,9,  -999.0,9,-999.0000,9,  -999.00,-999.000,9,    1.988,2,  11.023,2,   0.6958,2, -999.00,9,  -999.0,9,  -999.0,   8.772,2, -999.00,9,-999.000,9,   40.20,2,   34.79,2, -66.9991,-146.1498,-999.000,      0.007,    34.8726,2,     -999.0,9,     -999.0,9,-999.0000,9,-999.0000,9,-999.0000,9,-999.0000,9,-999.0000,9,-999.0000,9,-999.0000,9,-999.0000,9,-999.0000,9,    0.001,   0.233,   0.6097,50009701013,     -999.0,9,     -999.0,9,     -999.0,9,     -999.0,9,     -999.0,20110330,       1928
320620110219,       S04P,      97,          1,         12,         12,2,20110330,       1830,   -66.9991,  -146.1499,       4312,  1735.2,   0.6209,  34.7068,2,  34.7068,2,    204.9,2,   204.3,2,  124.28,2,   32.18,2,    0.00,2,    2.23,2,-999.000,9,-999.000,9,-999.000,9,-999.0000,9,  2259.9,2,  2357.1,2,   7.5942,2,    25.00,-999.000,9,-999.0000,9,-999.000,9,   0.6215,2, -999.00,9,  -999.0,9,  -999.0,-999.000,9, -999.00,9,-999.000,9,   40.00,2,   34.84,2, -66.9991,-146.1499,-999.000,     -999.0,    34.8704,2,     -999.0,9,     -999.0,9,-999.0000,9,-999.0000,9,-999.0000,9,-999.0000,9,-999.0000,9,-999.0000,9,-999.0000,9,-999.0000,9,-999.0000,9,-999.0000,-999.000,   0.5245,     -999.0,     -999.0,9,     -999.0,9,     -999.0,9,     -999.0,9,     -999.0,20110330,       1924
320620110219,       S04P,      97,          1,         11,         11,2,20110330,       1830,   -66.9991,  -146.1499,       4312,  1934.9,   0.5520,  34.7049,2,  34.7046,2,    206.6,2,   206.4,2,  125.04,2,   32.19,2,    0.00,2,    2.23,2,   0.115,2,   0.059,2,   0.005,2,   0.0120,2,  -999.0,9,  -999.0,9,-999.0000,9,  -999.00,   0.001,2,    2.041,2,  10.174,2,   0.5520,2, -999.00,9,  -999.0,9,  -999.0,   8.912,2,   -0.13,2,-999.000,9,   39.98,2,   34.58,2, -66.9991,-146.1498,   0.005,      0.007,    34.8683,2,     -999.0,9,     -999.0,9,-999.0000,9,-999.0000,9,-999.0000,9,-999.0000,9,-999.0000,9,-999.0000,9,-999.0000,9,-999.0000,9,-999.0000,9,    0.000,   0.208,   0.4423,50009701011,     -999.0,9,     -999.0,9,     -999.0,9,      -2.04,2,       0.12,20110330,       1920
320620110219,       S04P,      97,          1,         10,         37,2,20110330,       1830,   -66.9991,  -146.1499,       4312,  2164.0,   0.4581,  34.7039,2,  34.7030,2,    208.8,2,   208.8,2,  126.93,2,   32.16,2,    0.00,2,    2.24,2,-999.000,9,-999.000,9,-999.000,9,-999.0000,9,  2259.5,2,  2358.4,2,   7.5966,2,    25.00,-999.000,9,-999.0000,9,-999.000,9,   0.4579,2, -999.00,9,  -999.0,9,  -999.0,-999.000,9, -999.00,9,-999.000,9,   40.25,2,   34.40,2, -66.9991,-146.1498,-999.000,     -999.0,    34.8667,2,     -999.0,9,     -999.0,9,-999.0000,9,-999.0000,9,-999.0000,9,-999.0000,9,-999.0000,9,-999.0000,9,-999.0000,9,-999.0000,9,-999.0000,9,-999.0000,-999.000,   0.3329,     -999.0,     -999.0,9,     -999.0,9,     -999.0,9,     -999.0,9,     -999.0,20110330,       1916
320620110219,       S04P,      97,          1,          9,          9,2,20110330,       1830,   -66.9991,  -146.1499,       4312,  2416.9,   0.3771,  34.7028,2,  34.7019,2,    210.6,2,   210.7,2,  128.88,2,   32.26,2,    0.00,2,    2.24,2,   0.146,2,   0.074,2,   0.007,2,   0.0440,2,  -999.0,9,  -999.0,9,-999.0000,9,  -999.00,-999.000,9,    2.007,2,   8.905,2,   0.3772,2, -999.00,9,  -999.0,9,  -999.0,   8.782,2, -999.00,9,-999.000,9,   39.60,2,   34.49,2, -66.9991,-146.1498,-999.000,      0.007,    34.8655,2,     -999.0,9,     -999.0,9,-999.0000,9,-999.0000,9,-999.0000,9,-999.0000,9,-999.0000,9,-999.0000,9,-999.0000,9,-999.0000,9,-999.0000,9,    0.001,   0.207,   0.2338,50009701009,     -999.0,9,     -999.0,9,     -999.0,9,     -999.0,9,     -999.0,20110330,       1910
320620110219,       S04P,      97,          1,          8,          8,2,20110330,       1830,   -66.9991,  -146.1499,       4312,  2666.2,   0.3167,  34.7020,2,  34.7017,2,    212.5,2,   212.6,2,  130.71,2,   32.33,2,    0.00,2,    2.24,2,-999.000,9,-999.000,9,-999.000,9,-999.0000,9,  2260.2,2,  2355.1,2,   7.5966,2,    25.00,-999.000,9,-999.0000,9,-999.000,9,   0.3172,2, -999.00,9,  -999.0,9,  -999.0,-999.000,9, -999.00,9,-999.000,9,   39.00,2,   34.60,2, -66.9991,-146.1499,-999.000,     -999.0,    34.8653,2,     -999.0,9,     -999.0,9,-999.0000,9,-999.0000,9,-999.0000,9,-999.0000,9,-999.0000,9,-999.0000,9,-999.0000,9,-999.0000,9,-999.0000,9,-999.0000,-999.000,   0.1544,     -999.0,     -999.0,9,     -999.0,9,     -999.0,9,     -999.0,9,     -999.0,20110330,       1906
320620110219,       S04P,      97,          1,          7,          7,2,20110330,       1830,   -66.9991,  -146.1499,       4312,  2914.6,   0.2531,  34.7002,2,  34.6997,2,    214.8,2,   215.2,2,  130.19,2,   32.35,2,    0.00,2,    2.24,2,   0.330,2,   0.159,2,   0.016,2,   0.0800,2,  -999.0,9,  -999.0,9,-999.0000,9,  -999.00,-999.000,9,    2.023,2,   8.667,2,   0.2532,2, -999.00,9,  -999.0,9,  -999.0,   8.894,2, -999.00,9,-999.000,9,   39.52,2,   34.82,2, -66.9991,-146.1498,-999.000,      0.007,    34.8633,2,     -999.0,9,     -999.0,9,-999.0000,9,-999.0000,9,-999.0000,9,-999.0000,9,-999.0000,9,-999.0000,9,-999.0000,9,-999.0000,9,-999.0000,9,    0.001,   0.215,   0.0712,50009701007,     -999.0,9,     -999.0,9,     -999.0,9,     -999.0,9,     -999.0,20110330,       1901
320620110219,       S04P,      97,          1,          6,          6,2,20110330,       1830,   -66.9991,  -146.1499,       4312,  3200.4,   0.1897,  34.6972,2,  34.6962,2,    218.3,2,   218.0,2,  126.12,2,   32.30,2,    0.00,2,    2.23,2,-999.000,9,-999.000,9,-999.000,9,-999.0000,9,  2258.9,2,  2353.6,2,   7.5948,2,    25.00,-999.000,9,-999.0000,9,-999.000,9,   0.1899,2, -999.00,9,  -999.0,9,  -999.0,-999.000,9, -999.00,9,-999.000,9,   39.48,2,   34.23,2, -66.9991,-146.1498,-999.000,     -999.0,    34.8598,2,     -999.0,9,     -999.0,9,-999.0000,9,-999.0000,9,-999.0000,9,-999.0000,9,-999.0000,9,-999.0000,9,-999.0000,9,-999.0000,9,-999.0000,9,-999.0000,-999.000,  -0.0158,     -999.0,     -999.0,9,     -999.0,9,     -999.0,9,     -999.0,9,     -999.0,20110330,       1855
320620110219,       S04P,      97,          1,          5,          5,2,20110330,       1830,   -66.9991,  -146.1499,       4312,  3500.3,   0.1775,  34.6956,2,  34.6950,2,    219.8,2,   219.8,2,  123.76,2,   32.17,2,    0.00,2,    2.24,2,   0.753,2,   0.372,2,   0.041,2,   0.1720,2,  -999.0,9,  -999.0,9,-999.0000,9,  -999.00,   0.015,2,    2.036,2,   7.473,2,   0.1778,2, -999.00,9,  -999.0,9,  -999.0,   8.950,2,   -0.15,2,-999.000,9,   39.68,2,   34.27,2, -66.9991,-146.1498,   0.004,      0.007,    34.8586,2,     -999.0,9,     -999.0,9,-999.0000,9,-999.0000,9,-999.0000,9,-999.0000,9,-999.0000,9,-999.0000,9,-999.0000,9,-999.0000,9,-999.0000,9,    0.001,   0.230,  -0.0552,50009701005,     -999.0,9,     -999.0,9,     -999.0,9,      -2.61,2,       0.09,20110330,       1849
320620110219,       S04P,      97,          1,          4,          4,2,20110330,       1830,   -66.9991,  -146.1499,       4312,  3802.7,   0.1937,  34.6957,2,  34.6948,2,    220.2,2,   219.7,2,  123.50,2,   32.22,2,    0.00,2,    2.24,2,   0.768,2,   0.379,2,   0.042,2,   0.1760,2,  2258.3,2,  2355.5,2,   7.5934,2,    25.00,-999.000,9,-999.0000,9,-999.000,9,   0.1939,2, -999.00,9,  -999.0,9,  -999.0,-999.000,9, -999.00,9,-999.000,9,   39.29,2,   34.33,2, -66.9991,-146.1498,-999.000,     -999.0,    34.8584,2,     -999.0,9,     -999.0,9,-999.0000,9,-999.0000,9,-999.0000,9,-999.0000,9,-999.0000,9,-999.0000,9,-999.0000,9,-999.0000,9,-999.0000,9,-999.0000,-999.000,  -0.0685,     -999.0,     -999.0,9,     -999.0,9,     -999.0,9,     -999.0,9,     -999.0,20110330,       1843
320620110219,       S04P,      97,          1,          3,          3,2,20110330,       1830,   -66.9991,  -146.1499,       4312,  4101.5,   0.2176,  34.6961,2,  34.6954,2,    220.3,2,   220.2,2,  123.64,2,   32.31,2,    0.00,2,    2.24,2,   0.757,2,   0.364,2,   0.040,2,   0.1390,2,  2258.1,2,  2354.1,2,   7.5947,2,    25.00,   0.004,2,    2.029,2,   8.184,2,   0.2175,2, -999.00,9,  -999.0,9,  -999.0,   8.957,2,   -0.22,2,-999.000,9,   39.12,2,   34.49,2, -66.9991,-146.1498,   0.004,      0.007,    34.8590,2,     -999.0,9,     -999.0,9,-999.0000,9,-999.0000,9,-999.0000,9,-999.0000,9,-999.0000,9,-999.0000,9,-999.0000,9,-999.0000,9,-999.0000,9,    0.001,   0.243,  -0.0753,50009701003,     -999.0,9,     -999.0,9,     -999.0,9,      -2.66,2,       0.07,20110330,       1837
320620110219,       S04P,      97,          1,          2,          2,2,20110330,       1830,   -66.9991,  -146.1499,       4312,  4335.5,   0.2424,  34.6958,2,  34.6952,2,    220.3,2,   219.8,2,  123.58,2,   32.39,2,    0.00,2,    2.24,2,   0.760,2,   0.368,2,   0.041,2,   0.2010,2,  2258.5,6,  2356.4,2,   7.5923,2,    25.00,-999.000,9,-999.0000,9,-999.000,9,   0.2422,2, -999.00,9,  -999.0,9,  -999.0,-999.000,9, -999.00,9,-999.000,9,   39.07,2,   34.54,2, -66.9991,-146.1498,-999.000,     -999.0,    34.8588,2,     -999.0,9,     -999.0,9,-999.0000,9,-999.0000,9,-999.0000,9,-999.0000,9,-999.0000,9,-999.0000,9,-999.0000,9,-999.0000,9,-999.0000,9,-999.0000,-999.000,  -0.0757,     -999.0,     -999.0,9,     -999.0,9,     -999.0,9,     -999.0,9,     -999.0,20110330,       1832
320620110219,       S04P,      97,          1,          1,          1,2,20110330,       1830,   -66.9991,  -146.1499,       4312,  4388.1,   0.2481,  34.6958,2,  34.6952,2,    220.0,2,   220.1,2,  123.36,2,   32.36,2,    0.00,2,    2.24,2,   0.787,2,   0.389,2,   0.042,2,   0.2130,2,  2258.6,2,  2355.6,2,   7.5938,6,    25.00,   0.014,2,    2.017,2,   7.346,2,   0.2478,2, -999.00,9,  -999.0,9,  -999.0,   8.872,2,   -0.14,2,-999.000,9,   39.41,2,   34.74,2, -66.9991,-146.1498,   0.004,      0.007,    34.8588,2,     -999.0,9,     -999.0,9,-999.0000,9,-999.0000,9,-999.0000,9,-999.0000,9,-999.0000,9,-999.0000,9,-999.0000,9,-999.0000,9,-999.0000,9,    0.001,   0.270,  -0.0758,50009701001,     -999.0,9,     -999.0,9,     -999.0,9,      -2.32,2,       0.07,20110330,       1830