BOTTLE,20220813CCHSIOAMB
EXPOCODE,SECT_ID,STNNBR,CASTNO,SAMPNO,BTLNBR,BTLNBR_FLAG_W,DATE,TIME,LATITUDE,LONGITUDE,DEPTH,CTDPRS,CTDTMP,CTDSAL,CTDSAL_FLAG_W,SALNTY,SALNTY_FLAG_W,CTDOXY,CTDOXY_FLAG_W,OXYGEN,OXYGEN_FLAG_W,SILCAT,SILCAT_FLAG_W,NITRAT,NITRAT_FLAG_W,NITRIT,NITRIT_FLAG_W,PHSPHT,PHSPHT_FLAG_W,CFC-11,CFC-11_FLAG_W,CFC-12,CFC-12_FLAG_W,CFC113,CFC113_FLAG_W,SF6,SF6_FLAG_W,TCARBN,TCARBN_FLAG_W,ALKALI,ALKALI_FLAG_W,PH_TOT,PH_TOT_FLAG_W,PH_TMP,TRITUM,TRITUM_FLAG_W,HELIUM,HELIUM_FLAG_W,DELHE3,DELHE3_FLAG_W,REFTMP,REFTMP_FLAG_W,DELC13,DELC13_FLAG_W,DELC14,DELC14_FLAG_W,C14ERR,NEON,NEON_FLAG_W,DELO18,DELO18_FLAG_W,POC,POC_FLAG_W,DOC,DOC_FLAG_W,TDN,TDN_FLAG_W,BTL_LAT,BTL_LON,TRITER,NEONER,SALTREF,SALTREF_FLAG_W,PIGMENTS,PIGMENTS_FLAG_W,LAB_DEN,LAB_DEN_FLAG_W,CDOM325,CDOM325_FLAG_W,CDOM340,CDOM340_FLAG_W,CDOM380,CDOM380_FLAG_W,CDOM412,CDOM412_FLAG_W,CDOM443,CDOM443_FLAG_W,CDOM490,CDOM490_FLAG_W,CDOM555,CDOM555_FLAG_W,CDOMSL,CDOMSL_FLAG_W,CDOMSN,CDOMSN_FLAG_W,HELIER,DELHER,THETA,LDEO_SAMPNO,ABSORBTION,ABSORBTION_FLAG_W,IMAGE_COUNT,IMAGE_COUNT_FLAG_W,CYTO_COUNT,CYTO_COUNT_FLAG_W,DELD,DELD_FLAG_W,DELDERR,BTL_DATE,BTL_TIME
,,,,,,,,,,,METERS,DBAR,ITS-90,PSS-78,,PSS-78,,UMOL/KG,,UMOL/KG,,UMOL/KG,,UMOL/KG,,UMOL/KG,,UMOL/KG,,PMOL/KG,,PMOL/KG,,PMOL/KG,,FMOL/KG,,UMOL/KG,,UMOL/KG,,,,DEG C,TU,,NMOL/KG,,PERCNT,,DEG C,,/MILLE,,/MILLE,,/MILLE,NMOL/KG,,/MILLE,,UG/KG,,UMOL/KG,,UMOL/KG,,,,TU,NMOL/KG,G/KG,,,,,,1/M,,1/M,,1/M,,1/M,,1/M,,1/M,,1/M,,1/NM,,1/NM,,NMOL/KG,PERCNT,DEG C,,,,,,,,/MILLE,,/MILLE,,
320620110219,       S04P,      37,          2,         13,         13,2,20110308,       1123,   -67.0006,  -160.1040,       3993,  1535.7,   0.7127,  34.7091,2,  34.7098,2,    203.1,2,   202.4,2,  123.61,2,   32.15,2,    0.00,2,    2.23,2,-999.000,9,-999.000,9,-999.000,9,-999.0000,9,  -999.0,9,  -999.0,9,-999.0000,9,  -999.00,-999.000,9,-999.0000,9,-999.000,9,   0.7139,2, -999.00,9,  -999.0,9,  -999.0,-999.000,9, -999.00,9,-999.000,9, -999.00,9, -999.00,9, -67.0006,-160.1039,-999.000,     -999.0,    34.8735,2,     -999.0,9,     -999.0,9,-999.0000,9,-999.0000,9,-999.0000,9,-999.0000,9,-999.0000,9,-999.0000,9,-999.0000,9,-999.0000,9,-999.0000,9,-999.0000,-999.000,   0.6288,     -999.0,     -999.0,9,     -999.0,9,     -999.0,9,     -999.0,9,     -999.0,20110308,       1219
320620110219,       S04P,      37,          2,         12,         12,2,20110308,       1123,   -67.0006,  -160.1040,       3993,  1633.7,   0.6670,  34.7077,2,  34.7092,2,    204.2,2,   204.2,2,  124.85,2,   32.23,2,    0.00,2,    2.24,2,   0.108,2,   0.053,2,   0.005,2,   0.0830,2,  2257.2,2,  2358.4,2,   7.5917,2,    25.00,-999.000,9,-999.0000,9,-999.000,9,   0.6669,2, -999.00,9,  -999.0,9,  -999.0,-999.000,9, -999.00,9,-999.000,9, -999.00,9, -999.00,9, -67.0006,-160.1040,-999.000,     -999.0,    34.8729,2,     -999.0,9,     -999.0,9,-999.0000,9,-999.0000,9,-999.0000,9,-999.0000,9,-999.0000,9,-999.0000,9,-999.0000,9,-999.0000,9,-999.0000,9,-999.0000,-999.000,   0.5770,     -999.0,     -999.0,9,     -999.0,9,     -999.0,9,     -999.0,9,     -999.0,20110308,       1217
320620110219,       S04P,      37,          2,         11,         11,2,20110308,       1123,   -67.0006,  -160.1040,       3993,  1735.1,   0.6404,  34.7068,2,  34.7071,2,    205.0,2,   204.7,2,  125.21,2,   32.12,2,    0.00,2,    2.24,2,-999.000,9,-999.000,9,-999.000,9,-999.0000,9,  -999.0,9,  -999.0,9,-999.0000,9,  -999.00,-999.000,9,-999.0000,9,-999.000,9,   0.6405,2, -999.00,9,  -999.0,9,  -999.0,-999.000,9, -999.00,9,-999.000,9, -999.00,9, -999.00,9, -67.0006,-160.1040,-999.000,     -999.0,    34.8707,2,     -999.0,9,     -999.0,9,-999.0000,9,-999.0000,9,-999.0000,9,-999.0000,9,-999.0000,9,-999.0000,9,-999.0000,9,-999.0000,9,-999.0000,9,-999.0000,-999.000,   0.5437,     -999.0,     -999.0,9,     -999.0,9,     -999.0,9,     -999.0,9,     -999.0,20110308,       1214
320620110219,       S04P,      37,          2,         10,         37,2,20110308,       1123,   -67.0006,  -160.1040,       3993,  1864.2,   0.5938,  34.7055,2,  34.7053,2,    206.2,2,   206.1,2,  125.76,2,   32.21,2,    0.00,2,    2.23,2,-999.000,9,-999.000,9,-999.000,9,-999.0000,9,  -999.0,9,  -999.0,9,-999.0000,9,  -999.00,-999.000,9,-999.0000,9,-999.000,9,   0.5937,2, -999.00,9,  -999.0,9,  -999.0,-999.000,9, -999.00,9,-999.000,9, -999.00,9, -999.00,9, -67.0006,-160.1039,-999.000,     -999.0,    34.8690,2,     -999.0,9,     -999.0,9,-999.0000,9,-999.0000,9,-999.0000,9,-999.0000,9,-999.0000,9,-999.0000,9,-999.0000,9,-999.0000,9,-999.0000,9,-999.0000,-999.000,   0.4886,     -999.0,     -999.0,9,     -999.0,9,     -999.0,9,     -999.0,9,     -999.0,20110308,       1211
320620110219,       S04P,      37,          2,          9,          9,2,20110308,       1123,   -67.0006,  -160.1040,       3993,  2085.1,   0.5167,  34.7042,2,  34.7045,2,    208.0,2,   207.6,2,  127.05,2,   32.25,2,    0.00,2,    2.23,2,-999.000,9,-999.000,9,-999.000,9,-999.0000,9,  -999.0,9,  -999.0,9,-999.0000,9,  -999.00,-999.000,9,-999.0000,9,-999.000,9,   0.5166,2, -999.00,9,  -999.0,9,  -999.0,-999.000,9, -999.00,9,-999.000,9, -999.00,9, -999.00,9, -67.0006,-160.1040,-999.000,     -999.0,    34.8682,2,     -999.0,9,     -999.0,9,-999.0000,9,-999.0000,9,-999.0000,9,-999.0000,9,-999.0000,9,-999.0000,9,-999.0000,9,-999.0000,9,-999.0000,9,-999.0000,-999.000,   0.3965,     -999.0,     -999.0,9,     -999.0,9,     -999.0,9,     -999.0,9,     -999.0,20110308,       1205
320620110219,       S04P,      37,          2,          8,          8,2,20110308,       1123,   -67.0006,  -160.1040,       3993,  2334.2,   0.4319,  34.7034,2,  34.7043,2,    209.6,2,   209.9,2,  128.33,2,   32.40,2,    0.00,2,    2.24,2,   0.155,2,   0.071,2,   0.008,2,   0.0560,2,  -999.0,9,  -999.0,9,-999.0000,9,  -999.00,-999.000,9,-999.0000,9,-999.000,9,   0.4323,2, -999.00,9,  -999.0,9,  -999.0,-999.000,9, -999.00,9,-999.000,9, -999.00,9, -999.00,9, -67.0006,-160.1039,-999.000,     -999.0,    34.8680,2,     -999.0,9,     -999.0,9,-999.0000,9,-999.0000,9,-999.0000,9,-999.0000,9,-999.0000,9,-999.0000,9,-999.0000,9,-999.0000,9,-999.0000,9,-999.0000,-999.000,   0.2941,     -999.0,     -999.0,9,     -999.0,9,     -999.0,9,     -999.0,9,     -999.0,20110308,       1200
320620110219,       S04P,      37,          2,          7,          7,2,20110308,       1123,   -67.0006,  -160.1040,       3993,  2584.1,   0.3699,  34.7022,2,  34.7047,3,    211.6,2,   211.4,2,  129.85,2,   32.38,2,    0.00,2,    2.24,2,-999.000,9,-999.000,9,-999.000,9,-999.0000,9,  2258.4,2,  2358.4,2,   7.5948,2,    25.00,-999.000,9,-999.0000,9,-999.000,9,   0.3701,2, -999.00,9,  -999.0,9,  -999.0,-999.000,9, -999.00,9,-999.000,9, -999.00,9, -999.00,9, -67.0006,-160.1039,-999.000,     -999.0,    34.8683,3,     -999.0,9,     -999.0,9,-999.0000,9,-999.0000,9,-999.0000,9,-999.0000,9,-999.0000,9,-999.0000,9,-999.0000,9,-999.0000,9,-999.0000,9,-999.0000,-999.000,   0.2133,     -999.0,     -999.0,9,     -999.0,9,     -999.0,9,     -999.0,9,     -999.0,20110308,       1155
320620110219,       S04P,      37,          2,          6,          6,2,20110308,       1123,   -67.0006,  -160.1040,       3993,  2835.4,   0.3155,  34.7011,2,  34.7031,3,    213.6,2,   213.3,2,  130.53,2,   32.51,2,    0.00,2,    2.24,2,   0.275,2,   0.130,2,   0.013,2,   0.0970,2,  -999.0,9,  -999.0,9,-999.0000,9,  -999.00,-999.000,9,-999.0000,9,-999.000,9,   0.3154,2, -999.00,9,  -999.0,9,  -999.0,-999.000,9, -999.00,9,-999.000,9, -999.00,9, -999.00,9, -67.0006,-160.1039,-999.000,     -999.0,    34.8668,3,     -999.0,9,     -999.0,9,-999.0000,9,-999.0000,9,-999.0000,9,-999.0000,9,-999.0000,9,-999.0000,9,-999.0000,9,-999.0000,9,-999.0000,9,-999.0000,-999.000,   0.1391,     -999.0,     -999.0,9,     -999.0,9,     -999.0,9,     -999.0,9,     -999.0,20110308,       1149
320620110219,       S04P,      37,          2,          5,          5,2,20110308,       1123,   -67.0006,  -160.1040,       3993,  3100.2,   0.2528,  34.6987,2,  34.7008,3,    216.0,2,   215.9,2,  129.45,2,   32.45,2,    0.00,2,    2.24,2,   0.475,2,   0.220,2,   0.026,2,   0.0660,2,  -999.0,9,  -999.0,9,-999.0000,9,  -999.00,-999.000,9,-999.0000,9,-999.000,9,   0.2531,2, -999.00,9,  -999.0,9,  -999.0,-999.000,9, -999.00,9,-999.000,9, -999.00,9, -999.00,9, -67.0006,-160.1040,-999.000,     -999.0,    34.8644,3,     -999.0,9,     -999.0,9,-999.0000,9,-999.0000,9,-999.0000,9,-999.0000,9,-999.0000,9,-999.0000,9,-999.0000,9,-999.0000,9,-999.0000,9,-999.0000,-999.000,   0.0548,     -999.0,     -999.0,9,     -999.0,9,     -999.0,9,     -999.0,9,     -999.0,20110308,       1144
320620110219,       S04P,      37,          2,          4,          4,2,20110308,       1123,   -67.0006,  -160.1040,       3993,  3401.8,   0.1895,  34.6947,2,  34.6957,2,    219.9,2,   219.4,2,  124.54,2,   32.37,2,    0.00,2,    2.24,2,   0.802,2,   0.378,2,   0.052,2,   0.1210,2,  2256.1,2,  2356.3,2,   7.5884,2,    25.00,-999.000,9,-999.0000,9,-999.000,9,   0.1895,2, -999.00,9,  -999.0,9,  -999.0,-999.000,9, -999.00,9,-999.000,9, -999.00,9, -999.00,9, -67.0006,-160.1039,-999.000,     -999.0,    34.8593,2,     -999.0,9,     -999.0,9,-999.0000,9,-999.0000,9,-999.0000,9,-999.0000,9,-999.0000,9,-999.0000,9,-999.0000,9,-999.0000,9,-999.0000,9,-999.0000,-999.000,  -0.0343,     -999.0,     -999.0,9,     -999.0,9,     -999.0,9,     -999.0,9,     -999.0,20110308,       1137
320620110219,       S04P,      37,          2,          3,          3,2,20110308,       1123,   -67.0006,  -160.1040,       3993,  3699.6,   0.1921,  34.6940,2,  34.6943,2,    220.6,2,   220.3,2,  123.56,2,   32.33,2,    0.00,2,    2.24,2,   0.891,2,   0.417,2,   0.057,2,   0.1360,2,  2255.9,2,  2355.7,6,   7.5922,4,    25.00,-999.000,9,-999.0000,9,-999.000,9,   0.1923,2, -999.00,9,  -999.0,9,  -999.0,-999.000,9, -999.00,9,-999.000,9, -999.00,9, -999.00,9, -67.0006,-160.1040,-999.000,     -999.0,    34.8579,2,     -999.0,9,     -999.0,9,-999.0000,9,-999.0000,9,-999.0000,9,-999.0000,9,-999.0000,9,-999.0000,9,-999.0000,9,-999.0000,9,-999.0000,9,-999.0000,-999.000,  -0.0600,     -999.0,     -999.0,9,     -999.0,9,     -999.0,9,     -999.0,9,     -999.0,20110308,       1131
320620110219,       S04P,      37,          2,          2,          2,2,20110308,       1123,   -67.0006,  -160.1040,       3993,  4010.8,   0.2174,  34.6939,2,  34.6953,2,    220.3,2,   219.8,2,  123.98,2,   32.35,2,    0.00,2,    2.24,2,   0.924,2,   0.444,2,   0.061,2,   0.1440,2,  2256.0,6,  2355.3,2,   7.5901,2,    25.00,-999.000,9,-999.0000,9,-999.000,9,   0.2170,2, -999.00,9,  -999.0,9,  -999.0,-999.000,9, -999.00,9,-999.000,9, -999.00,9, -999.00,9, -67.0006,-160.1039,-999.000,     -999.0,    34.8589,2,     -999.0,9,     -999.0,9,-999.0000,9,-999.0000,9,-999.0000,9,-999.0000,9,-999.0000,9,-999.0000,9,-999.0000,9,-999.0000,9,-999.0000,9,-999.0000,-999.000,  -0.0663,     -999.0,     -999.0,9,     -999.0,9,     -999.0,9,     -999.0,9,     -999.0,20110308,       1125
320620110219,       S04P,      37,          2,          1,          1,2,20110308,       1123,   -67.0006,  -160.1040,       3993,  4060.2,   0.2229,  34.6940,2,  34.6947,2,    220.1,2,   219.9,2,  124.37,2,   32.30,2,    0.00,2,    2.24,2,   0.889,2,   0.420,2,   0.057,2,   0.1450,2,  2257.7,2,  2355.6,2,   7.5917,6,    25.00,-999.000,9,-999.0000,9,-999.000,9,   0.2223,2, -999.00,9,  -999.0,9,  -999.0,-999.000,9, -999.00,9,-999.000,9, -999.00,9, -999.00,9, -67.0006,-160.1040,-999.000,     -999.0,    34.8583,2,     -999.0,9,     -999.0,9,-999.0000,9,-999.0000,9,-999.0000,9,-999.0000,9,-999.0000,9,-999.0000,9,-999.0000,9,-999.0000,9,-999.0000,9,-999.0000,-999.000,  -0.0659,     -999.0,     -999.0,9,     -999.0,9,     -999.0,9,     -999.0,9,     -999.0,20110308,       1123