BOTTLE,20220813CCHSIOAMB
EXPOCODE,SECT_ID,STNNBR,CASTNO,SAMPNO,BTLNBR,BTLNBR_FLAG_W,DATE,TIME,LATITUDE,LONGITUDE,DEPTH,CTDPRS,CTDTMP,CTDSAL,CTDSAL_FLAG_W,SALNTY,SALNTY_FLAG_W,CTDOXY,CTDOXY_FLAG_W,OXYGEN,OXYGEN_FLAG_W,SILCAT,SILCAT_FLAG_W,NITRAT,NITRAT_FLAG_W,NITRIT,NITRIT_FLAG_W,PHSPHT,PHSPHT_FLAG_W,CFC-11,CFC-11_FLAG_W,CFC-12,CFC-12_FLAG_W,CFC113,CFC113_FLAG_W,SF6,SF6_FLAG_W,TCARBN,TCARBN_FLAG_W,ALKALI,ALKALI_FLAG_W,PH_TOT,PH_TOT_FLAG_W,PH_TMP,TRITUM,TRITUM_FLAG_W,HELIUM,HELIUM_FLAG_W,DELHE3,DELHE3_FLAG_W,REFTMP,REFTMP_FLAG_W,DELC13,DELC13_FLAG_W,DELC14,DELC14_FLAG_W,C14ERR,NEON,NEON_FLAG_W,DELO18,DELO18_FLAG_W,POC,POC_FLAG_W,DOC,DOC_FLAG_W,TDN,TDN_FLAG_W,BTL_LAT,BTL_LON,TRITER,NEONER,SALTREF,SALTREF_FLAG_W,PIGMENTS,PIGMENTS_FLAG_W,LAB_DEN,LAB_DEN_FLAG_W,CDOM325,CDOM325_FLAG_W,CDOM340,CDOM340_FLAG_W,CDOM380,CDOM380_FLAG_W,CDOM412,CDOM412_FLAG_W,CDOM443,CDOM443_FLAG_W,CDOM490,CDOM490_FLAG_W,CDOM555,CDOM555_FLAG_W,CDOMSL,CDOMSL_FLAG_W,CDOMSN,CDOMSN_FLAG_W,HELIER,DELHER,THETA,LDEO_SAMPNO,ABSORBTION,ABSORBTION_FLAG_W,IMAGE_COUNT,IMAGE_COUNT_FLAG_W,CYTO_COUNT,CYTO_COUNT_FLAG_W,DELD,DELD_FLAG_W,DELDERR,BTL_DATE,BTL_TIME
,,,,,,,,,,,METERS,DBAR,ITS-90,PSS-78,,PSS-78,,UMOL/KG,,UMOL/KG,,UMOL/KG,,UMOL/KG,,UMOL/KG,,UMOL/KG,,PMOL/KG,,PMOL/KG,,PMOL/KG,,FMOL/KG,,UMOL/KG,,UMOL/KG,,,,DEG C,TU,,NMOL/KG,,PERCNT,,DEG C,,/MILLE,,/MILLE,,/MILLE,NMOL/KG,,/MILLE,,UG/KG,,UMOL/KG,,UMOL/KG,,,,TU,NMOL/KG,G/KG,,,,,,1/M,,1/M,,1/M,,1/M,,1/M,,1/M,,1/M,,1/NM,,1/NM,,NMOL/KG,PERCNT,DEG C,,,,,,,,/MILLE,,/MILLE,,
320620110219,       S04P,     138,          2,          9,          9,2,20110419,       0314,   -66.9989,   -73.0125,       1628,   800.6,   1.3606,  34.7275,2,  34.7199,2,    191.3,2,   191.4,2,  102.32,2,   31.62,2,    0.00,2,    2.18,2,-999.000,9,-999.000,9,-999.000,9,-999.0000,9,  -999.0,9,  -999.0,9,-999.0000,9,  -999.00,-999.000,9,-999.0000,9,-999.000,9,   1.3603,2, -999.00,9,  -999.0,9,  -999.0,-999.000,9, -999.00,9,-999.000,9,   40.97,2,   34.43,2, -66.9989, -73.0124,-999.000,     -999.0,    34.8836,2,     -999.0,9,     -999.0,9,-999.0000,9,-999.0000,9,-999.0000,9,-999.0000,9,-999.0000,9,-999.0000,9,-999.0000,9,-999.0000,9,-999.0000,9,-999.0000,-999.000,   1.3177,     -999.0,     -999.0,9,     -999.0,9,     -999.0,9,     -999.0,9,     -999.0,20110419,       0336
320620110219,       S04P,     138,          2,          8,          8,2,20110419,       0314,   -66.9989,   -73.0125,       1628,   900.6,   1.3182,  34.7271,2,  34.7278,2,    192.6,2,   192.3,2,  103.45,2,   31.64,2,    0.00,2,    2.18,2,   0.175,2,   0.089,2,   0.017,2,   0.0410,2,  2258.6,2,  2358.0,2,   7.5967,2,    25.00,-999.000,9,-999.0000,9,-999.000,9,   1.3182,2, -999.00,9,  -999.0,9,  -999.0,-999.000,9, -999.00,9,-999.000,9,   40.77,2,   34.46,2, -66.9989, -73.0124,-999.000,     -999.0,    34.8915,2,     -999.0,9,     -999.0,1,-999.0000,9,-999.0000,9,-999.0000,9,-999.0000,9,-999.0000,9,-999.0000,9,-999.0000,9,-999.0000,9,-999.0000,9,-999.0000,-999.000,   1.2694,     -999.0,     -999.0,9,     -999.0,9,     -999.0,9,     -999.0,9,     -999.0,20110419,       0333
320620110219,       S04P,     138,          2,          7,          7,2,20110419,       0314,   -66.9989,   -73.0125,       1628,  1000.6,   1.2223,  34.7250,2,  34.7260,2,    194.3,2,   194.7,2,  106.07,2,   31.63,2,    0.00,2,    2.19,2,-999.000,9,-999.000,9,-999.000,9,-999.0000,9,  -999.0,9,  -999.0,9,-999.0000,9,  -999.00,-999.000,9,-999.0000,9,-999.000,9,   1.2224,2, -999.00,9,  -999.0,9,  -999.0,-999.000,9, -999.00,9,-999.000,9,   40.64,2,   34.17,2, -66.9989, -73.0125,-999.000,     -999.0,    34.8897,2,     -999.0,9,     -999.0,9,-999.0000,9,-999.0000,9,-999.0000,9,-999.0000,9,-999.0000,9,-999.0000,9,-999.0000,9,-999.0000,9,-999.0000,9,-999.0000,-999.000,   1.1680,     -999.0,     -999.0,9,     -999.0,9,     -999.0,9,     -999.0,9,     -999.0,20110419,       0330
320620110219,       S04P,     138,          2,          6,          6,2,20110419,       0314,   -66.9989,   -73.0125,       1628,  1100.0,   1.1594,  34.7230,2,  34.7238,2,    195.8,2,   195.6,2,  108.02,2,   31.71,2,    0.00,2,    2.19,2,-999.000,9,-999.000,9,-999.000,9,-999.0000,9,  -999.0,9,  -999.0,9,-999.0000,9,  -999.00,-999.000,9,-999.0000,9,-999.000,9,   1.1594,2, -999.00,9,  -999.0,9,  -999.0,-999.000,9, -999.00,9,-999.000,9,   40.73,2,   34.20,2, -66.9989, -73.0125,-999.000,     -999.0,    34.8876,2,     -999.0,9,     -999.0,9,-999.0000,9,-999.0000,9,-999.0000,9,-999.0000,9,-999.0000,9,-999.0000,9,-999.0000,9,-999.0000,9,-999.0000,9,-999.0000,-999.000,   1.0994,     -999.0,     -999.0,9,     -999.0,9,     -999.0,9,     -999.0,9,     -999.0,20110419,       0328
320620110219,       S04P,     138,          2,          5,          5,2,20110419,       0314,   -66.9989,   -73.0125,       1628,  1199.9,   1.0999,  34.7212,2,  34.7223,2,    196.7,2,   197.3,2,  109.86,2,   31.79,2,    0.00,2,    2.19,2,   0.117,2,   0.055,2,   0.009,2,   0.0420,2,  2258.7,2,  2362.0,2,   7.6007,2,    25.00,-999.000,9,-999.0000,9,-999.000,9,   1.0996,2, -999.00,9,  -999.0,9,  -999.0,-999.000,9, -999.00,9,-999.000,9,   41.17,2,   34.65,2, -66.9989, -73.0125,-999.000,     -999.0,    34.8860,2,     -999.0,9,     -999.0,1,-999.0000,9,-999.0000,9,-999.0000,9,-999.0000,9,-999.0000,9,-999.0000,9,-999.0000,9,-999.0000,9,-999.0000,9,-999.0000,-999.000,   1.0340,     -999.0,     -999.0,9,     -999.0,9,     -999.0,9,     -999.0,9,     -999.0,20110419,       0325
320620110219,       S04P,     138,          2,          4,          4,2,20110419,       0314,   -66.9989,   -73.0125,       1628,  1300.8,   1.0636,  34.7199,2,  34.7207,2,    197.3,2,   197.8,2,  111.23,2,   31.84,2,    0.00,2,    2.18,2,-999.000,9,-999.000,9,-999.000,9,-999.0000,9,  -999.0,9,  -999.0,9,-999.0000,9,  -999.00,-999.000,9,-999.0000,9,-999.000,9,   1.0632,2, -999.00,9,  -999.0,9,  -999.0,-999.000,9, -999.00,9,-999.000,9,   41.11,2,   34.36,2, -66.9989, -73.0126,-999.000,     -999.0,    34.8844,2,     -999.0,9,     -999.0,9,-999.0000,9,-999.0000,9,-999.0000,9,-999.0000,9,-999.0000,9,-999.0000,9,-999.0000,9,-999.0000,9,-999.0000,9,-999.0000,-999.000,   0.9915,     -999.0,     -999.0,9,     -999.0,9,     -999.0,9,     -999.0,9,     -999.0,20110419,       0322
320620110219,       S04P,     138,          2,          3,          3,2,20110419,       0314,   -66.9989,   -73.0125,       1628,  1403.4,   1.0374,  34.7188,2,  34.7109,4,    197.9,2,   198.5,2,  112.16,2,   31.84,2,    0.00,2,    2.18,2,   0.175,2,   0.085,2,   0.015,2,   0.0370,2,  -999.0,9,  -999.0,9,-999.0000,9,  -999.00,-999.000,9,-999.0000,9,-999.000,9,   1.0375,2, -999.00,9,  -999.0,9,  -999.0,-999.000,9, -999.00,9,-999.000,9,   40.92,2,   34.47,2, -66.9989, -73.0126,-999.000,     -999.0,    34.8745,4,     -999.0,9,     -999.0,9,-999.0000,9,-999.0000,9,-999.0000,9,-999.0000,9,-999.0000,9,-999.0000,9,-999.0000,9,-999.0000,9,-999.0000,9,-999.0000,-999.000,   0.9587,     -999.0,     -999.0,9,     -999.0,9,     -999.0,9,     -999.0,9,     -999.0,20110419,       0320
320620110219,       S04P,     138,          2,          2,          2,2,20110419,       0314,   -66.9989,   -73.0125,       1628,  1518.8,   0.9714,  34.7168,2,  34.7183,2,    199.2,2,   199.4,2,  114.16,2,   31.95,2,    0.00,2,    2.20,2,-999.000,9,-999.000,9,-999.000,9,-999.0000,9,  2259.9,2,  -999.0,5,   7.6010,6,    25.00,-999.000,9,-999.0000,9,-999.000,9,   0.9715,2, -999.00,9,  -999.0,9,  -999.0,-999.000,9, -999.00,9,-999.000,9,   40.93,2,   34.36,2, -66.9989, -73.0125,-999.000,     -999.0,    34.8820,2,     -999.0,9,     -999.0,1,-999.0000,9,-999.0000,9,-999.0000,9,-999.0000,9,-999.0000,9,-999.0000,9,-999.0000,9,-999.0000,9,-999.0000,9,-999.0000,-999.000,   0.8855,     -999.0,     -999.0,9,     -999.0,9,     -999.0,9,     -999.0,9,     -999.0,20110419,       0317
320620110219,       S04P,     138,          2,          1,          1,2,20110419,       0314,   -66.9989,   -73.0125,       1628,  1641.4,   0.9205,  34.7144,2,  34.7160,2,    200.7,2,   200.3,2,  115.83,2,   32.18,2,    0.00,2,    2.20,2,   0.120,2,   0.060,2,   0.011,2,   0.0280,2,  2260.2,6,  2364.0,2,   7.6009,2,    25.00,-999.000,9,-999.0000,9,-999.000,9,   0.9208,2, -999.00,9,  -999.0,9,  -999.0,-999.000,9, -999.00,9,-999.000,9,   41.52,2,   34.55,2, -66.9989, -73.0125,-999.000,     -999.0,    34.8797,2,     -999.0,9,     -999.0,1,-999.0000,9,-999.0000,9,-999.0000,9,-999.0000,9,-999.0000,9,-999.0000,9,-999.0000,9,-999.0000,9,-999.0000,9,-999.0000,-999.000,   0.8267,     -999.0,     -999.0,9,     -999.0,9,     -999.0,9,     -999.0,9,     -999.0,20110419,       0314