BOTTLE,20220813CCHSIOAMB
EXPOCODE,SECT_ID,STNNBR,CASTNO,SAMPNO,BTLNBR,BTLNBR_FLAG_W,DATE,TIME,LATITUDE,LONGITUDE,DEPTH,CTDPRS,CTDTMP,CTDSAL,CTDSAL_FLAG_W,SALNTY,SALNTY_FLAG_W,CTDOXY,CTDOXY_FLAG_W,OXYGEN,OXYGEN_FLAG_W,SILCAT,SILCAT_FLAG_W,NITRAT,NITRAT_FLAG_W,NITRIT,NITRIT_FLAG_W,PHSPHT,PHSPHT_FLAG_W,CFC-11,CFC-11_FLAG_W,CFC-12,CFC-12_FLAG_W,CFC113,CFC113_FLAG_W,SF6,SF6_FLAG_W,TCARBN,TCARBN_FLAG_W,ALKALI,ALKALI_FLAG_W,PH_TOT,PH_TOT_FLAG_W,PH_TMP,TRITUM,TRITUM_FLAG_W,HELIUM,HELIUM_FLAG_W,DELHE3,DELHE3_FLAG_W,REFTMP,REFTMP_FLAG_W,DELC13,DELC13_FLAG_W,DELC14,DELC14_FLAG_W,C14ERR,NEON,NEON_FLAG_W,DELO18,DELO18_FLAG_W,POC,POC_FLAG_W,DOC,DOC_FLAG_W,TDN,TDN_FLAG_W,BTL_LAT,BTL_LON,TRITER,NEONER,SALTREF,SALTREF_FLAG_W,PIGMENTS,PIGMENTS_FLAG_W,LAB_DEN,LAB_DEN_FLAG_W,CDOM325,CDOM325_FLAG_W,CDOM340,CDOM340_FLAG_W,CDOM380,CDOM380_FLAG_W,CDOM412,CDOM412_FLAG_W,CDOM443,CDOM443_FLAG_W,CDOM490,CDOM490_FLAG_W,CDOM555,CDOM555_FLAG_W,CDOMSL,CDOMSL_FLAG_W,CDOMSN,CDOMSN_FLAG_W,HELIER,DELHER,THETA,LDEO_SAMPNO,ABSORBTION,ABSORBTION_FLAG_W,IMAGE_COUNT,IMAGE_COUNT_FLAG_W,CYTO_COUNT,CYTO_COUNT_FLAG_W,DELD,DELD_FLAG_W,DELDERR,BTL_DATE,BTL_TIME
,,,,,,,,,,,METERS,DBAR,ITS-90,PSS-78,,PSS-78,,UMOL/KG,,UMOL/KG,,UMOL/KG,,UMOL/KG,,UMOL/KG,,UMOL/KG,,PMOL/KG,,PMOL/KG,,PMOL/KG,,FMOL/KG,,UMOL/KG,,UMOL/KG,,,,DEG C,TU,,NMOL/KG,,PERCNT,,DEG C,,/MILLE,,/MILLE,,/MILLE,NMOL/KG,,/MILLE,,UG/KG,,UMOL/KG,,UMOL/KG,,,,TU,NMOL/KG,G/KG,,,,,,1/M,,1/M,,1/M,,1/M,,1/M,,1/M,,1/M,,1/NM,,1/NM,,NMOL/KG,PERCNT,DEG C,,,,,,,,/MILLE,,/MILLE,,
320620110219,       P15S,      94,          1,         13,         13,2,20110327,       0857,   -68.8180,  -170.0001,       4226,  1564.8,   0.7283,  34.7092,2,  34.7089,2,    204.0,2,   204.9,2,  120.10,2,   32.49,2,    0.00,2,    2.25,2,   0.175,2,   0.079,2,   0.011,2,   0.0810,2,  -999.0,9,  -999.0,9,-999.0000,9,  -999.00,-999.000,9,-999.0000,9,-999.000,9,   0.7297,2, -999.00,9,  -999.0,9,  -999.0,-999.000,9,    0.11,2,-999.000,9,   40.74,2,   34.88,2, -68.8180,-170.0001,-999.000,     -999.0,    34.8725,2,     -999.0,9,     -999.0,9,-999.0000,9,-999.0000,9,-999.0000,9,-999.0000,9,-999.0000,9,-999.0000,9,-999.0000,9,-999.0000,9,-999.0000,9,-999.0000,-999.000,   0.6422,     -999.0,     -999.0,9,     -999.0,9,     -999.0,9,      -0.58,2,       0.04,20110327,       0953
320620110219,       P15S,      94,          1,         12,         12,2,20110327,       0857,   -68.8180,  -170.0001,       4226,  1736.3,   0.6624,  34.7073,2,  34.7069,2,    205.4,2,   205.6,2,  122.37,2,   32.58,2,    0.00,2,    2.25,2,-999.000,9,-999.000,9,-999.000,9,-999.0000,9,  2261.2,2,  2359.8,2,   7.5981,2,    25.00,-999.000,9,-999.0000,9,-999.000,9,   0.6630,2, -999.00,9,  -999.0,9,  -999.0,-999.000,9,    0.06,2,-999.000,9,   40.50,2,   35.42,2, -68.8180,-170.0001,-999.000,     -999.0,    34.8706,2,     -999.0,9,     -999.0,9,-999.0000,9,-999.0000,9,-999.0000,9,-999.0000,9,-999.0000,9,-999.0000,9,-999.0000,9,-999.0000,9,-999.0000,9,-999.0000,-999.000,   0.5653,     -999.0,     -999.0,9,     -999.0,9,     -999.0,9,      -0.80,2,       0.01,20110327,       0950
320620110219,       P15S,      94,          1,         11,         11,2,20110327,       0857,   -68.8180,  -170.0001,       4226,  1934.9,   0.5989,  34.7053,2,  34.7049,2,    207.3,2,   207.2,2,  123.71,2,   32.67,2,    0.00,2,    2.23,2,   0.198,2,   0.097,2,   0.015,2,   0.0660,2,  -999.0,9,  -999.0,9,-999.0000,9,  -999.00,-999.000,9,-999.0000,9,-999.000,9,   0.5990,2, -999.00,9,  -999.0,9,  -999.0,-999.000,9,    0.09,2,-999.000,9,   40.00,2,   34.73,2, -68.8180,-170.0001,-999.000,     -999.0,    34.8686,2,     -999.0,9,     -999.0,9,-999.0000,9,-999.0000,9,-999.0000,9,-999.0000,9,-999.0000,9,-999.0000,9,-999.0000,9,-999.0000,9,-999.0000,9,-999.0000,-999.000,   0.4885,     -999.0,     -999.0,9,     -999.0,9,     -999.0,9,      -0.84,2,       0.18,20110327,       0945
320620110219,       P15S,      94,          1,         10,         37,2,20110327,       0857,   -68.8180,  -170.0001,       4226,  2165.3,   0.5226,  34.7039,2,  34.7039,2,    208.8,2,   208.2,2,  125.75,2,   32.67,2,    0.00,2,    2.24,2,-999.000,9,-999.000,9,-999.000,9,-999.0000,9,  2262.4,2,  2360.3,2,   7.5960,2,    25.00,-999.000,9,-999.0000,9,-999.000,9,   0.5232,2, -999.00,9,  -999.0,9,  -999.0,-999.000,9,    0.07,2,-999.000,9,   40.47,2,   34.64,2, -68.8180,-170.0001,-999.000,     -999.0,    34.8676,2,     -999.0,9,     -999.0,9,-999.0000,9,-999.0000,9,-999.0000,9,-999.0000,9,-999.0000,9,-999.0000,9,-999.0000,9,-999.0000,9,-999.0000,9,-999.0000,-999.000,   0.3962,     -999.0,     -999.0,9,     -999.0,9,     -999.0,9,      -1.14,2,       0.13,20110327,       0941
320620110219,       P15S,      94,          1,          9,          9,2,20110327,       0857,   -68.8180,  -170.0001,       4226,  2414.6,   0.4416,  34.7023,2,  34.7014,2,    210.9,2,   210.0,2,  126.73,2,   32.80,2,    0.00,2,    2.25,2,   0.259,2,   0.128,2,   0.019,2,   0.1310,2,  -999.0,9,  -999.0,9,-999.0000,9,  -999.00,-999.000,9,-999.0000,9,-999.000,9,   0.4415,2, -999.00,9,  -999.0,9,  -999.0,-999.000,9,    0.02,2,-999.000,9,   40.36,2,   34.88,2, -68.8180,-170.0001,-999.000,     -999.0,    34.8650,2,     -999.0,9,     -999.0,9,-999.0000,9,-999.0000,9,-999.0000,9,-999.0000,9,-999.0000,9,-999.0000,9,-999.0000,9,-999.0000,9,-999.0000,9,-999.0000,-999.000,   0.2973,     -999.0,     -999.0,9,     -999.0,9,     -999.0,9,      -1.35,2,       0.15,20110327,       0936
320620110219,       P15S,      94,          1,          8,          8,2,20110327,       0857,   -68.8180,  -170.0001,       4226,  2664.9,   0.3723,  34.7003,2,  34.6996,2,    212.8,2,   212.2,2,  127.37,2,   32.83,2,    0.00,2,    2.25,2,-999.000,9,-999.000,9,-999.000,9,-999.0000,9,  2262.4,2,  2359.7,2,   7.5955,2,    25.00,-999.000,9,-999.0000,9,-999.000,9,   0.3724,2, -999.00,9,  -999.0,9,  -999.0,-999.000,9,   -0.06,2,-999.000,9,   40.54,2,   34.75,2, -68.8180,-170.0001,-999.000,     -999.0,    34.8632,2,     -999.0,9,     -999.0,9,-999.0000,9,-999.0000,9,-999.0000,9,-999.0000,9,-999.0000,9,-999.0000,9,-999.0000,9,-999.0000,9,-999.0000,9,-999.0000,-999.000,   0.2090,     -999.0,     -999.0,9,     -999.0,9,     -999.0,9,      -2.50,2,       0.51,20110327,       0931
320620110219,       P15S,      94,          1,          7,          7,2,20110327,       0857,   -68.8180,  -170.0001,       4226,  2914.2,   0.3172,  34.6978,2,  34.6971,2,    214.9,2,   214.6,2,  127.23,2,   32.83,2,    0.00,2,    2.24,2,   0.472,2,   0.235,2,   0.035,2,   0.1350,2,  -999.0,9,  -999.0,9,-999.0000,9,  -999.00,-999.000,9,-999.0000,9,-999.000,9,   0.3175,2, -999.00,9,  -999.0,9,  -999.0,-999.000,9,    0.18,3,-999.000,9,   40.32,2,   35.12,2, -68.8180,-170.0002,-999.000,     -999.0,    34.8607,2,     -999.0,9,     -999.0,9,-999.0000,9,-999.0000,9,-999.0000,9,-999.0000,9,-999.0000,9,-999.0000,9,-999.0000,9,-999.0000,9,-999.0000,9,-999.0000,-999.000,   0.1340,     -999.0,     -999.0,9,     -999.0,9,     -999.0,9,      -1.60,2,       0.03,20110327,       0926
320620110219,       P15S,      94,          1,          6,          6,2,20110327,       0857,   -68.8180,  -170.0001,       4226,  3200.6,   0.2567,  34.6953,2,  34.6945,2,    217.5,2,   217.9,2,  125.86,2,   32.60,2,    0.00,2,    2.24,2,   0.647,2,   0.324,2,   0.044,2,   0.2150,2,  2262.0,2,  2361.1,2,   7.5960,2,    25.00,-999.000,9,-999.0000,9,-999.000,9,   0.2566,2, -999.00,9,  -999.0,9,  -999.0,-999.000,9,   -0.07,2,-999.000,9,   40.88,2,   35.37,2, -68.8180,-170.0002,-999.000,     -999.0,    34.8581,2,     -999.0,9,     -999.0,9,-999.0000,9,-999.0000,9,-999.0000,9,-999.0000,9,-999.0000,9,-999.0000,9,-999.0000,9,-999.0000,9,-999.0000,9,-999.0000,-999.000,   0.0496,     -999.0,     -999.0,9,     -999.0,9,     -999.0,9,      -2.23,2,       0.04,20110327,       0920
320620110219,       P15S,      94,          1,          5,          5,2,20110327,       0857,   -68.8180,  -170.0001,       4226,  3500.1,   0.2121,  34.6920,2,  34.6910,2,    219.6,2,   219.9,2,  122.26,2,   32.41,2,    0.00,2,    2.24,2,   0.877,2,   0.443,2,   0.069,2,   0.2910,2,  -999.0,9,  -999.0,9,-999.0000,9,  -999.00,-999.000,9,-999.0000,9,-999.000,9,   0.2118,2, -999.00,9,  -999.0,9,  -999.0,-999.000,9,   -0.24,2,-999.000,9,   40.55,2,   34.66,2, -68.8180,-170.0002,-999.000,     -999.0,    34.8545,2,     -999.0,9,     -999.0,9,-999.0000,9,-999.0000,9,-999.0000,9,-999.0000,9,-999.0000,9,-999.0000,9,-999.0000,9,-999.0000,9,-999.0000,9,-999.0000,-999.000,  -0.0214,     -999.0,     -999.0,9,     -999.0,9,     -999.0,9,      -2.43,2,       0.06,20110327,       0914
320620110219,       P15S,      94,          1,          4,          4,2,20110327,       0857,   -68.8180,  -170.0001,       4226,  3800.1,   0.2024,  34.6900,2,  34.6892,2,    221.1,2,   220.9,2,  120.62,2,   32.29,2,    0.00,2,    2.24,2,   1.048,2,   0.520,2,   0.082,2,   0.3420,2,  2260.0,2,  2357.4,2,   7.5948,2,    25.00,-999.000,9,-999.0000,9,-999.000,9,   0.2023,2, -999.00,9,  -999.0,9,  -999.0,-999.000,9,   -0.22,2,-999.000,9,   40.67,2,   34.89,2, -68.8180,-170.0001,-999.000,     -999.0,    34.8528,2,     -999.0,9,     -999.0,9,-999.0000,9,-999.0000,9,-999.0000,9,-999.0000,9,-999.0000,9,-999.0000,9,-999.0000,9,-999.0000,9,-999.0000,9,-999.0000,-999.000,  -0.0597,     -999.0,     -999.0,9,     -999.0,9,     -999.0,9,      -2.57,2,       0.09,20110327,       0909
320620110219,       P15S,      94,          1,          3,          3,2,20110327,       0857,   -68.8180,  -170.0001,       4226,  4099.9,   0.2177,  34.6906,2,  34.6900,2,    221.5,2,   221.2,2,  120.38,2,   32.39,2,    0.00,2,    2.24,2,   1.095,2,   0.554,2,   0.083,2,   0.3830,2,  2259.6,2,  2356.9,6,   7.5945,2,    25.00,-999.000,9,-999.0000,9,-999.000,9,   0.2176,2, -999.00,9,  -999.0,9,  -999.0,-999.000,9,   -0.30,2,-999.000,9,   40.53,2,   34.71,2, -68.8180,-170.0001,-999.000,     -999.0,    34.8535,2,     -999.0,9,     -999.0,9,-999.0000,9,-999.0000,9,-999.0000,9,-999.0000,9,-999.0000,9,-999.0000,9,-999.0000,9,-999.0000,9,-999.0000,9,-999.0000,-999.000,  -0.0750,     -999.0,     -999.0,9,     -999.0,9,     -999.0,9,      -2.85,2,       0.04,20110327,       0902
320620110219,       P15S,      94,          1,          2,          2,2,20110327,       0857,   -68.8180,  -170.0001,       4226,  4200.4,   0.2279,  34.6906,2,  34.6904,2,    221.5,2,   221.2,2,  120.93,2,   32.41,2,    0.00,2,    2.24,2,   1.032,2,   0.520,2,   0.078,2,   0.3960,2,  2259.5,6,  2358.4,2,   7.5937,2,    25.00,-999.000,9,-999.0000,9,-999.000,9,   0.2279,2, -999.00,9,  -999.0,9,  -999.0,-999.000,9,   -0.25,2,-999.000,9,   40.04,2,   34.77,2, -68.8180,-170.0001,-999.000,     -999.0,    34.8539,2,     -999.0,9,     -999.0,9,-999.0000,9,-999.0000,9,-999.0000,9,-999.0000,9,-999.0000,9,-999.0000,9,-999.0000,9,-999.0000,9,-999.0000,9,-999.0000,-999.000,  -0.0755,     -999.0,     -999.0,9,     -999.0,9,     -999.0,9,      -2.75,2,       0.07,20110327,       0900
320620110219,       P15S,      94,          1,          1,          1,2,20110327,       0857,   -68.8180,  -170.0001,       4226,  4299.0,   0.2386,  34.6909,2,  34.6902,2,    221.5,2,   221.4,2,  121.16,2,   32.40,2,    0.00,2,    2.24,2,   1.020,2,   0.520,2,   0.073,2,   0.3220,2,  2260.2,2,  2357.7,2,   7.5935,6,    25.00,-999.000,9,-999.0000,9,-999.000,9,   0.2385,2, -999.00,9,  -999.0,9,  -999.0,-999.000,9,   -0.29,2,-999.000,9,   40.67,2,   34.66,2, -68.8180,-170.0002,-999.000,     -999.0,    34.8537,2,     -999.0,9,     -999.0,9,-999.0000,9,-999.0000,9,-999.0000,9,-999.0000,9,-999.0000,9,-999.0000,9,-999.0000,9,-999.0000,9,-999.0000,9,-999.0000,-999.000,  -0.0755,     -999.0,     -999.0,9,     -999.0,9,     -999.0,9,      -3.00,2,       0.03,20110327,       0857