BOTTLE,20220813CCHSIOAMB
EXPOCODE,SECT_ID,STNNBR,CASTNO,SAMPNO,BTLNBR,BTLNBR_FLAG_W,DATE,TIME,LATITUDE,LONGITUDE,DEPTH,CTDPRS,CTDTMP,CTDSAL,CTDSAL_FLAG_W,SALNTY,SALNTY_FLAG_W,CTDOXY,CTDOXY_FLAG_W,OXYGEN,OXYGEN_FLAG_W,SILCAT,SILCAT_FLAG_W,NITRAT,NITRAT_FLAG_W,NITRIT,NITRIT_FLAG_W,PHSPHT,PHSPHT_FLAG_W,CFC-11,CFC-11_FLAG_W,CFC-12,CFC-12_FLAG_W,CFC113,CFC113_FLAG_W,SF6,SF6_FLAG_W,TCARBN,TCARBN_FLAG_W,ALKALI,ALKALI_FLAG_W,PH_TOT,PH_TOT_FLAG_W,PH_TMP,TRITUM,TRITUM_FLAG_W,HELIUM,HELIUM_FLAG_W,DELHE3,DELHE3_FLAG_W,REFTMP,REFTMP_FLAG_W,DELC13,DELC13_FLAG_W,DELC14,DELC14_FLAG_W,C14ERR,NEON,NEON_FLAG_W,DELO18,DELO18_FLAG_W,POC,POC_FLAG_W,DOC,DOC_FLAG_W,TDN,TDN_FLAG_W,BTL_LAT,BTL_LON,TRITER,NEONER,SALTREF,SALTREF_FLAG_W,PIGMENTS,PIGMENTS_FLAG_W,LAB_DEN,LAB_DEN_FLAG_W,CDOM325,CDOM325_FLAG_W,CDOM340,CDOM340_FLAG_W,CDOM380,CDOM380_FLAG_W,CDOM412,CDOM412_FLAG_W,CDOM443,CDOM443_FLAG_W,CDOM490,CDOM490_FLAG_W,CDOM555,CDOM555_FLAG_W,CDOMSL,CDOMSL_FLAG_W,CDOMSN,CDOMSN_FLAG_W,HELIER,DELHER,THETA,LDEO_SAMPNO,ABSORBTION,ABSORBTION_FLAG_W,IMAGE_COUNT,IMAGE_COUNT_FLAG_W,CYTO_COUNT,CYTO_COUNT_FLAG_W,DELD,DELD_FLAG_W,DELDERR,BTL_DATE,BTL_TIME
,,,,,,,,,,,METERS,DBAR,ITS-90,PSS-78,,PSS-78,,UMOL/KG,,UMOL/KG,,UMOL/KG,,UMOL/KG,,UMOL/KG,,UMOL/KG,,PMOL/KG,,PMOL/KG,,PMOL/KG,,FMOL/KG,,UMOL/KG,,UMOL/KG,,,,DEG C,TU,,NMOL/KG,,PERCNT,,DEG C,,/MILLE,,/MILLE,,/MILLE,NMOL/KG,,/MILLE,,UG/KG,,UMOL/KG,,UMOL/KG,,,,TU,NMOL/KG,G/KG,,,,,,1/M,,1/M,,1/M,,1/M,,1/M,,1/M,,1/M,,1/NM,,1/NM,,NMOL/KG,PERCNT,DEG C,,,,,,,,/MILLE,,/MILLE,,
320620110219,       S04P,      44,          1,         36,         36,2,20110310,       1553,   -66.9998,  -151.1435,       4414,     4.6,  -0.3770,  33.7304,2,  33.7304,2,    343.4,3,   345.1,2,   43.37,2,   22.11,2,    0.14,2,    1.56,2,   6.138,2,   3.334,2,   0.585,2,   2.4740,2,  2144.1,2,  2286.8,2,   7.7277,6,    25.00,-999.000,9,-999.0000,9,-999.000,9,  -0.3777,2, -999.00,9,  -999.0,9,  -999.0,-999.000,9, -999.00,9,-999.000,9,   45.86,2,   26.78,2, -66.9998,-151.1435,-999.000,     -999.0,    33.8894,2,     -999.0,9,     -999.0,1,-999.0000,9,-999.0000,9,-999.0000,9,-999.0000,9,-999.0000,9,-999.0000,9,-999.0000,9,-999.0000,9,-999.0000,9,-999.0000,-999.000,  -0.3771,     -999.0,     -999.0,9,     -999.0,9,     -999.0,9,     -999.0,9,     -999.0,20110310,       1740
320620110219,       S04P,      44,          1,         35,         35,2,20110310,       1553,   -66.9998,  -151.1435,       4414,    19.9,  -0.4083,  33.7366,2,  33.7366,2,    345.0,2,   344.7,2,   43.61,2,   22.32,2,    0.14,2,    1.59,2,   6.175,2,   3.347,2,   0.590,2,   2.5150,2,  2144.9,6,  2287.7,2,   7.7246,2,    25.00,-999.000,9,-999.0000,9,-999.000,9,  -0.4085,2, -999.00,9,  -999.0,9,  -999.0,-999.000,9, -999.00,9,-999.000,9,   46.31,2,   26.12,2, -66.9998,-151.1435,-999.000,     -999.0,    33.8957,2,     -999.0,9,     -999.0,1,-999.0000,9,-999.0000,9,-999.0000,9,-999.0000,9,-999.0000,9,-999.0000,9,-999.0000,9,-999.0000,9,-999.0000,9,-999.0000,-999.000,  -0.4089,     -999.0,     -999.0,9,     -999.0,9,     -999.0,9,     -999.0,9,     -999.0,20110310,       1739
320620110219,       S04P,      44,          1,         34,         34,2,20110310,       1553,   -66.9998,  -151.1435,       4414,    39.5,  -0.4259,  33.7431,2,  33.7526,2,    344.2,2,   342.5,2,   45.45,2,   22.54,2,    0.14,2,    1.62,2,   6.080,2,   3.298,2,   0.575,2,   2.4070,2,  2147.4,2,  2288.1,6,   7.7213,2,    25.00,-999.000,9,-999.0000,9,-999.000,9,  -0.4240,2, -999.00,9,  -999.0,9,  -999.0,-999.000,9, -999.00,9,-999.000,9,   45.96,2,   26.13,2, -66.9998,-151.1435,-999.000,     -999.0,    33.9118,2,     -999.0,9,     -999.0,1,-999.0000,9,-999.0000,9,-999.0000,9,-999.0000,9,-999.0000,9,-999.0000,9,-999.0000,9,-999.0000,9,-999.0000,9,-999.0000,-999.000,  -0.4271,     -999.0,     -999.0,9,     -999.0,9,     -999.0,9,     -999.0,9,     -999.0,20110310,       1738
320620110219,       S04P,      44,          1,         33,         33,2,20110310,       1553,   -66.9998,  -151.1435,       4414,    64.9,  -1.3955,  34.0793,2,  34.0788,2,    298.0,2,   302.5,2,   54.89,2,   27.64,2,    0.23,2,    2.00,2,-999.000,9,-999.000,9,-999.000,9,-999.0000,9,  2195.4,2,  2304.3,2,   7.6318,2,    25.00,-999.000,9,-999.0000,9,-999.000,9,  -1.3985,2, -999.00,9,  -999.0,9,  -999.0,-999.000,9, -999.00,9,-999.000,9,   45.17,2,   31.30,2, -66.9998,-151.1435,-999.000,     -999.0,    34.2395,2,     -999.0,9,     -999.0,1,-999.0000,9,-999.0000,9,-999.0000,9,-999.0000,9,-999.0000,9,-999.0000,9,-999.0000,9,-999.0000,9,-999.0000,9,-999.0000,-999.000,  -1.3970,     -999.0,     -999.0,9,     -999.0,9,     -999.0,9,     -999.0,9,     -999.0,20110310,       1736
320620110219,       S04P,      44,          1,         32,         32,2,20110310,       1553,   -66.9998,  -151.1435,       4414,    88.3,  -1.3657,  34.1575,2,  34.1639,2,    286.1,2,   287.2,2,   59.16,2,   28.84,2,    0.13,2,    2.07,2,   4.708,6,   2.538,6,   0.433,6,   1.6680,6,  2206.8,2,  2308.8,2,   7.6102,2,    25.00,-999.000,9,-999.0000,9,-999.000,9,  -1.3661,2, -999.00,9,  -999.0,9,  -999.0,-999.000,9, -999.00,9,-999.000,9,   44.59,2,   32.47,2, -66.9998,-151.1435,-999.000,     -999.0,    34.3250,2,     -999.0,9,     -999.0,1,-999.0000,9,-999.0000,9,-999.0000,9,-999.0000,9,-999.0000,9,-999.0000,9,-999.0000,9,-999.0000,9,-999.0000,9,-999.0000,-999.000,  -1.3678,     -999.0,     -999.0,9,     -999.0,9,     -999.0,9,     -999.0,9,     -999.0,20110310,       1735
320620110219,       S04P,      44,          1,         31,         31,2,20110310,       1553,   -66.9998,  -151.1435,       4414,   134.5,  -0.2193,  34.3561,2,  34.3468,2,    252.4,2,   246.6,2,   69.66,2,   30.76,2,    0.04,2,    2.13,2,-999.000,9,-999.000,9,-999.000,9,-999.0000,9,  2225.4,2,  2319.7,2,   7.5875,2,    25.00,-999.000,9,-999.0000,9,-999.000,9,  -0.2411,2, -999.00,9,  -999.0,9,  -999.0,-999.000,9, -999.00,9,-999.000,9,   43.54,2,   34.46,2, -66.9998,-151.1435,-999.000,     -999.0,    34.5088,2,     -999.0,9,     -999.0,1,-999.0000,9,-999.0000,9,-999.0000,9,-999.0000,9,-999.0000,9,-999.0000,9,-999.0000,9,-999.0000,9,-999.0000,9,-999.0000,-999.000,  -0.2239,     -999.0,     -999.0,9,     -999.0,9,     -999.0,9,     -999.0,9,     -999.0,20110310,       1733
320620110219,       S04P,      44,          1,         30,         30,2,20110310,       1553,   -66.9998,  -151.1435,       4414,   183.8,   1.0135,  34.5774,2,  34.5824,2,    206.3,2,   199.5,2,   84.33,2,   32.40,2,    0.03,2,    2.23,2,   1.375,2,   0.743,2,   0.109,2,   0.2990,2,  2246.9,2,  2335.6,2,   7.5659,2,    25.00,-999.000,9,-999.0000,9,-999.000,9,   1.0312,2, -999.00,9,  -999.0,9,  -999.0,-999.000,9, -999.00,9,-999.000,9,   42.90,2,   35.14,2, -66.9998,-151.1435,-999.000,     -999.0,    34.7455,2,     -999.0,9,     -999.0,1,-999.0000,9,-999.0000,9,-999.0000,9,-999.0000,9,-999.0000,9,-999.0000,9,-999.0000,9,-999.0000,9,-999.0000,9,-999.0000,-999.000,   1.0052,     -999.0,     -999.0,9,     -999.0,9,     -999.0,9,     -999.0,9,     -999.0,20110310,       1732
320620110219,       S04P,      44,          1,         29,         29,2,20110310,       1553,   -66.9998,  -151.1435,       4414,   234.5,   1.4693,  34.6831,2,  34.6827,2,    184.9,2,   184.7,2,   90.35,2,   32.37,2,    0.02,2,    2.24,2,   0.605,2,   0.320,2,   0.032,2,   0.1220,2,  2253.5,2,  2345.1,2,   7.5635,2,    25.00,-999.000,9,-999.0000,9,-999.000,9,   1.4687,2, -999.00,9,  -999.0,9,  -999.0,-999.000,9, -999.00,9,-999.000,9,   42.73,2,   34.99,2, -66.9998,-151.1435,-999.000,     -999.0,    34.8462,2,     -999.0,9,     -999.0,1,-999.0000,9,-999.0000,9,-999.0000,9,-999.0000,9,-999.0000,9,-999.0000,9,-999.0000,9,-999.0000,9,-999.0000,9,-999.0000,-999.000,   1.4577,     -999.0,     -999.0,9,     -999.0,9,     -999.0,9,     -999.0,9,     -999.0,20110310,       1730
320620110219,       S04P,      44,          1,         28,         28,2,20110310,       1553,   -66.9998,  -151.1435,       4414,   284.4,   1.5140,  34.7174,2,  34.7174,2,    183.4,2,   184.0,2,   94.80,2,   32.06,2,    0.01,2,    2.24,2,   0.363,2,   0.188,2,   0.026,2,   0.0760,2,  2256.4,2,  2349.1,2,   7.5722,2,    25.00,-999.000,9,-999.0000,9,-999.000,9,   1.5144,2, -999.00,9,  -999.0,9,  -999.0,-999.000,9, -999.00,9,-999.000,9,   42.17,2,   34.92,2, -66.9998,-151.1435,-999.000,     -999.0,    34.8811,2,     -999.0,9,     -999.0,1,-999.0000,9,-999.0000,9,-999.0000,9,-999.0000,9,-999.0000,9,-999.0000,9,-999.0000,9,-999.0000,9,-999.0000,9,-999.0000,-999.000,   1.4996,     -999.0,     -999.0,9,     -999.0,9,     -999.0,9,     -999.0,9,     -999.0,20110310,       1728
320620110219,       S04P,      44,          1,         27,         27,2,20110310,       1553,   -66.9998,  -151.1435,       4414,   335.2,   1.4694,  34.7254,2,  34.7251,2,    184.3,2,   183.7,2,   97.48,2,   31.99,2,    0.01,2,    2.22,2,   0.295,2,   0.155,2,   0.015,2,   0.0700,2,  2256.0,2,  2352.8,2,   7.5741,2,    25.00,-999.000,9,-999.0000,9,-999.000,9,   1.4701,2, -999.00,9,  -999.0,9,  -999.0,-999.000,9, -999.00,9,-999.000,9,   41.80,2,   34.62,2, -66.9998,-151.1435,-999.000,     -999.0,    34.8888,2,     -999.0,9,     -999.0,1,-999.0000,9,-999.0000,9,-999.0000,9,-999.0000,9,-999.0000,9,-999.0000,9,-999.0000,9,-999.0000,9,-999.0000,9,-999.0000,-999.000,   1.4524,     -999.0,     -999.0,9,     -999.0,9,     -999.0,9,     -999.0,9,     -999.0,20110310,       1726
320620110219,       S04P,      44,          1,         26,         26,2,20110310,       1553,   -66.9998,  -151.1435,       4414,   384.3,   1.4132,  34.7282,2,  34.7280,2,    184.4,2,   184.1,2,  100.80,2,   32.07,2,    0.01,2,    2.24,2,   0.245,2,   0.117,2,   0.012,2,   0.0500,2,  2259.0,2,  2351.7,2,   7.5753,2,    25.00,-999.000,9,-999.0000,9,-999.000,9,   1.4131,2, -999.00,9,  -999.0,9,  -999.0,-999.000,9, -999.00,9,-999.000,9,   41.78,2,   34.82,2, -66.9998,-151.1435,-999.000,     -999.0,    34.8918,2,     -999.0,9,     -999.0,1,-999.0000,9,-999.0000,9,-999.0000,9,-999.0000,9,-999.0000,9,-999.0000,9,-999.0000,9,-999.0000,9,-999.0000,9,-999.0000,-999.000,   1.3938,     -999.0,     -999.0,9,     -999.0,9,     -999.0,9,     -999.0,9,     -999.0,20110310,       1725
320620110219,       S04P,      44,          1,         25,         25,2,20110310,       1553,   -66.9998,  -151.1435,       4414,   464.4,   1.3379,  34.7294,2,  34.7304,2,    184.6,2,   184.7,2,  104.09,2,   32.21,2,    0.01,2,    2.24,2,-999.000,9,-999.000,9,-999.000,9,-999.0000,9,  2260.1,2,  2352.8,2,   7.5745,2,    25.00,-999.000,9,-999.0000,9,-999.000,9,   1.3380,2, -999.00,9,  -999.0,9,  -999.0,-999.000,9, -999.00,9,-999.000,9,   41.84,2,   34.65,2, -66.9998,-151.1435,-999.000,     -999.0,    34.8941,2,     -999.0,9,     -999.0,1,-999.0000,9,-999.0000,9,-999.0000,9,-999.0000,9,-999.0000,9,-999.0000,9,-999.0000,9,-999.0000,9,-999.0000,9,-999.0000,-999.000,   1.3144,     -999.0,     -999.0,9,     -999.0,9,     -999.0,9,     -999.0,9,     -999.0,20110310,       1723
320620110219,       S04P,      44,          1,         24,         24,2,20110310,       1553,   -66.9998,  -151.1435,       4414,   563.3,   1.2710,  34.7290,2,  34.7292,2,    185.8,2,   185.9,2,  106.79,2,   32.27,2,    0.01,2,    2.24,2,   0.175,2,   0.077,2,   0.010,2,   0.0650,2,  2260.6,2,  2354.9,2,   7.5759,2,    25.00,-999.000,9,-999.0000,9,-999.000,9,   1.2711,2, -999.00,9,  -999.0,9,  -999.0,-999.000,9, -999.00,9,-999.000,9,   41.58,2,   34.92,2, -66.9998,-151.1435,-999.000,     -999.0,    34.8930,2,     -999.0,9,     -999.0,1,-999.0000,9,-999.0000,9,-999.0000,9,-999.0000,9,-999.0000,9,-999.0000,9,-999.0000,9,-999.0000,9,-999.0000,9,-999.0000,-999.000,   1.2423,     -999.0,     -999.0,9,     -999.0,9,     -999.0,9,     -999.0,9,     -999.0,20110310,       1720
320620110219,       S04P,      44,          1,         23,         23,2,20110310,       1553,   -66.9998,  -151.1435,       4414,   663.8,   1.1998,  34.7275,2,  34.7272,2,    188.0,2,   188.2,2,  109.33,2,   32.27,2,    0.00,2,    2.24,2,   0.148,2,   0.071,2,   0.007,2,   0.0430,2,  -999.0,9,  -999.0,9,-999.0000,9,  -999.00,-999.000,9,-999.0000,9,-999.000,9,   1.1995,2, -999.00,9,  -999.0,9,  -999.0,-999.000,9, -999.00,9,-999.000,9,   41.28,2,   34.52,2, -66.9998,-151.1435,-999.000,     -999.0,    34.8910,2,     -999.0,9,     -999.0,9,-999.0000,9,-999.0000,9,-999.0000,9,-999.0000,9,-999.0000,9,-999.0000,9,-999.0000,9,-999.0000,9,-999.0000,9,-999.0000,-999.000,   1.1658,     -999.0,     -999.0,9,     -999.0,9,     -999.0,9,     -999.0,9,     -999.0,20110310,       1718
320620110219,       S04P,      44,          1,         22,         22,2,20110310,       1553,   -66.9998,  -151.1435,       4414,   764.7,   1.1294,  34.7252,2,  34.7253,2,    190.2,2,   190.0,2,  110.61,2,   32.17,2,    0.00,2,    2.23,2,   0.138,2,   0.061,2,   0.006,2,   0.0570,2,  2260.1,6,  2355.6,2,   7.5817,2,    25.00,-999.000,9,-999.0000,9,-999.000,9,   1.1291,2, -999.00,9,  -999.0,9,  -999.0,-999.000,9, -999.00,9,-999.000,9,   40.66,2,   34.81,2, -66.9997,-151.1435,-999.000,     -999.0,    34.8890,2,     -999.0,9,     -999.0,1,-999.0000,9,-999.0000,9,-999.0000,9,-999.0000,9,-999.0000,9,-999.0000,9,-999.0000,9,-999.0000,9,-999.0000,9,-999.0000,-999.000,   1.0900,     -999.0,     -999.0,9,     -999.0,9,     -999.0,9,     -999.0,9,     -999.0,20110310,       1715
320620110219,       S04P,      44,          1,         21,         21,2,20110310,       1553,   -66.9998,  -151.1435,       4414,   863.6,   1.0696,  34.7230,2,  34.7235,2,    192.3,2,   192.9,2,  112.53,2,   32.05,2,    0.01,2,    2.24,2,-999.000,9,-999.000,9,-999.000,9,-999.0000,9,  -999.0,9,  -999.0,9,-999.0000,9,  -999.00,-999.000,9,-999.0000,9,-999.000,9,   1.0691,2, -999.00,9,  -999.0,9,  -999.0,-999.000,9, -999.00,9,-999.000,9,   40.75,2,   34.79,2, -66.9998,-151.1435,-999.000,     -999.0,    34.8872,2,     -999.0,9,     -999.0,9,-999.0000,9,-999.0000,9,-999.0000,9,-999.0000,9,-999.0000,9,-999.0000,9,-999.0000,9,-999.0000,9,-999.0000,9,-999.0000,-999.000,   1.0248,     -999.0,     -999.0,9,     -999.0,9,     -999.0,9,     -999.0,9,     -999.0,20110310,       1713
320620110219,       S04P,      44,          1,         20,         20,2,20110310,       1553,   -66.9998,  -151.1435,       4414,   963.5,   1.0024,  34.7206,2,  34.7206,2,    194.3,2,   194.3,2,  114.60,2,   31.95,2,    0.01,2,    2.23,2,   0.103,2,   0.055,2,   0.006,2,   0.0540,2,  2260.8,2,  2358.8,2,   7.5863,6,    25.00,-999.000,9,-999.0000,9,-999.000,9,   1.0022,2, -999.00,9,  -999.0,9,  -999.0,-999.000,9, -999.00,9,-999.000,9,   40.20,2,   34.38,2, -66.9998,-151.1435,-999.000,     -999.0,    34.8843,2,     -999.0,9,     -999.0,1,-999.0000,9,-999.0000,9,-999.0000,9,-999.0000,9,-999.0000,9,-999.0000,9,-999.0000,9,-999.0000,9,-999.0000,9,-999.0000,-999.000,   0.9522,     -999.0,     -999.0,9,     -999.0,9,     -999.0,9,     -999.0,9,     -999.0,20110310,       1710
320620110219,       S04P,      44,          1,         19,         19,2,20110310,       1553,   -66.9998,  -151.1435,       4414,  1065.5,   0.9514,  34.7185,2,  34.7194,2,    196.2,2,   195.9,2,  116.56,2,   31.96,2,    0.00,2,    2.22,2,-999.000,9,-999.000,9,-999.000,9,-999.0000,9,  -999.0,9,  -999.0,9,-999.0000,9,  -999.00,-999.000,9,-999.0000,9,-999.000,9,   0.9517,2, -999.00,9,  -999.0,9,  -999.0,-999.000,9, -999.00,9,-999.000,9,   40.05,2,   34.90,2, -66.9998,-151.1435,-999.000,     -999.0,    34.8831,2,     -999.0,9,     -999.0,9,-999.0000,9,-999.0000,9,-999.0000,9,-999.0000,9,-999.0000,9,-999.0000,9,-999.0000,9,-999.0000,9,-999.0000,9,-999.0000,-999.000,   0.8954,     -999.0,     -999.0,9,     -999.0,9,     -999.0,9,     -999.0,9,     -999.0,20110310,       1707
320620110219,       S04P,      44,          1,         18,         18,2,20110310,       1553,   -66.9998,  -151.1435,       4414,  1164.0,   0.8973,  34.7163,2,  34.7174,2,    197.9,2,   197.7,2,  118.41,2,   32.03,2,    0.00,2,    2.23,2,   0.100,2,   0.045,2,   0.007,2,   0.0540,2,  2260.7,2,  2359.7,6,   7.5883,2,    25.00,-999.000,9,-999.0000,9,-999.000,9,   0.8974,2, -999.00,9,  -999.0,9,  -999.0,-999.000,9, -999.00,9,-999.000,9,   40.27,2,   34.38,2, -66.9998,-151.1434,-999.000,     -999.0,    34.8811,2,     -999.0,9,     -999.0,1,-999.0000,9,-999.0000,9,-999.0000,9,-999.0000,9,-999.0000,9,-999.0000,9,-999.0000,9,-999.0000,9,-999.0000,9,-999.0000,-999.000,   0.8356,     -999.0,     -999.0,9,     -999.0,9,     -999.0,9,     -999.0,9,     -999.0,20110310,       1705
320620110219,       S04P,      44,          1,         17,         17,2,20110310,       1553,   -66.9998,  -151.1435,       4414,  1264.1,   0.8432,  34.7144,2,  34.7155,2,    199.1,2,   198.8,2,  120.15,2,   32.07,2,    0.00,2,    2.24,2,-999.000,9,-999.000,9,-999.000,9,-999.0000,9,  -999.0,9,  -999.0,9,   7.5904,2,    25.00,-999.000,9,-999.0000,9,-999.000,9,   0.8428,2, -999.00,9,  -999.0,9,  -999.0,-999.000,9, -999.00,9,-999.000,9,   40.13,2,   34.06,2, -66.9998,-151.1434,-999.000,     -999.0,    34.8792,2,     -999.0,9,     -999.0,9,-999.0000,9,-999.0000,9,-999.0000,9,-999.0000,9,-999.0000,9,-999.0000,9,-999.0000,9,-999.0000,9,-999.0000,9,-999.0000,-999.000,   0.7757,     -999.0,     -999.0,9,     -999.0,9,     -999.0,9,     -999.0,9,     -999.0,20110310,       1703
320620110219,       S04P,      44,          1,         16,         16,2,20110310,       1553,   -66.9998,  -151.1435,       4414,  1365.4,   0.8077,  34.7126,2,  34.7133,2,    200.5,2,   200.1,2,  121.62,2,   32.08,2,    0.00,2,    2.24,2,   0.104,2,   0.051,2,   0.006,2,   0.0590,2,  2260.9,2,  2359.9,2,   7.5892,2,    25.00,-999.000,9,-999.0000,9,-999.000,9,   0.8075,2, -999.00,9,  -999.0,9,  -999.0,-999.000,9, -999.00,9,-999.000,9,   40.06,2,   34.48,2, -66.9998,-151.1435,-999.000,     -999.0,    34.8770,2,     -999.0,9,     -999.0,1,-999.0000,9,-999.0000,9,-999.0000,9,-999.0000,9,-999.0000,9,-999.0000,9,-999.0000,9,-999.0000,9,-999.0000,9,-999.0000,-999.000,   0.7340,     -999.0,     -999.0,9,     -999.0,9,     -999.0,9,     -999.0,9,     -999.0,20110310,       1700
320620110219,       S04P,      44,          1,         15,         15,2,20110310,       1553,   -66.9998,  -151.1435,       4414,  1464.3,   0.7656,  34.7113,2,  34.7123,2,    201.4,2,   201.3,2,  122.68,2,   32.10,2,    0.00,2,    2.23,2,-999.000,9,-999.000,9,-999.000,9,-999.0000,9,  -999.0,9,  -999.0,9,-999.0000,9,  -999.00,-999.000,9,-999.0000,9,-999.000,9,   0.7662,2, -999.00,9,  -999.0,9,  -999.0,-999.000,9, -999.00,9,-999.000,9,   40.31,2,   34.36,2, -66.9997,-151.1434,-999.000,     -999.0,    34.8760,2,     -999.0,9,     -999.0,9,-999.0000,9,-999.0000,9,-999.0000,9,-999.0000,9,-999.0000,9,-999.0000,9,-999.0000,9,-999.0000,9,-999.0000,9,-999.0000,-999.000,   0.6859,     -999.0,     -999.0,9,     -999.0,9,     -999.0,9,     -999.0,9,     -999.0,20110310,       1657
320620110219,       S04P,      44,          1,         14,         14,2,20110310,       1553,   -66.9998,  -151.1435,       4414,  1563.4,   0.7271,  34.7097,2,  34.7105,2,    202.5,2,   202.0,2,  123.87,2,   31.98,2,    0.00,2,    2.24,2,   0.118,2,   0.056,2,   0.004,2,   0.0800,2,  2259.5,2,  2360.6,2,   7.5921,2,    25.00,-999.000,9,-999.0000,9,-999.000,9,   0.7274,2, -999.00,9,  -999.0,9,  -999.0,-999.000,9, -999.00,9,-999.000,9,   39.65,2,   34.11,2, -66.9997,-151.1434,-999.000,     -999.0,    34.8742,2,     -999.0,9,     -999.0,1,-999.0000,9,-999.0000,9,-999.0000,9,-999.0000,9,-999.0000,9,-999.0000,9,-999.0000,9,-999.0000,9,-999.0000,9,-999.0000,-999.000,   0.6411,     -999.0,     -999.0,9,     -999.0,9,     -999.0,9,     -999.0,9,     -999.0,20110310,       1655