BOTTLE,20220813CCHSIOAMB
EXPOCODE,SECT_ID,STNNBR,CASTNO,SAMPNO,BTLNBR,BTLNBR_FLAG_W,DATE,TIME,LATITUDE,LONGITUDE,DEPTH,CTDPRS,CTDTMP,CTDSAL,CTDSAL_FLAG_W,SALNTY,SALNTY_FLAG_W,CTDOXY,CTDOXY_FLAG_W,OXYGEN,OXYGEN_FLAG_W,SILCAT,SILCAT_FLAG_W,NITRAT,NITRAT_FLAG_W,NITRIT,NITRIT_FLAG_W,PHSPHT,PHSPHT_FLAG_W,CFC-11,CFC-11_FLAG_W,CFC-12,CFC-12_FLAG_W,CFC113,CFC113_FLAG_W,SF6,SF6_FLAG_W,TCARBN,TCARBN_FLAG_W,ALKALI,ALKALI_FLAG_W,PH_TOT,PH_TOT_FLAG_W,PH_TMP,TRITUM,TRITUM_FLAG_W,HELIUM,HELIUM_FLAG_W,DELHE3,DELHE3_FLAG_W,REFTMP,REFTMP_FLAG_W,DELC13,DELC13_FLAG_W,DELC14,DELC14_FLAG_W,C14ERR,NEON,NEON_FLAG_W,DELO18,DELO18_FLAG_W,POC,POC_FLAG_W,DOC,DOC_FLAG_W,TDN,TDN_FLAG_W,BTL_LAT,BTL_LON,TRITER,NEONER,SALTREF,SALTREF_FLAG_W,PIGMENTS,PIGMENTS_FLAG_W,LAB_DEN,LAB_DEN_FLAG_W,CDOM325,CDOM325_FLAG_W,CDOM340,CDOM340_FLAG_W,CDOM380,CDOM380_FLAG_W,CDOM412,CDOM412_FLAG_W,CDOM443,CDOM443_FLAG_W,CDOM490,CDOM490_FLAG_W,CDOM555,CDOM555_FLAG_W,CDOMSL,CDOMSL_FLAG_W,CDOMSN,CDOMSN_FLAG_W,HELIER,DELHER,THETA,LDEO_SAMPNO,ABSORBTION,ABSORBTION_FLAG_W,IMAGE_COUNT,IMAGE_COUNT_FLAG_W,CYTO_COUNT,CYTO_COUNT_FLAG_W,DELD,DELD_FLAG_W,DELDERR,BTL_DATE,BTL_TIME
,,,,,,,,,,,METERS,DBAR,ITS-90,PSS-78,,PSS-78,,UMOL/KG,,UMOL/KG,,UMOL/KG,,UMOL/KG,,UMOL/KG,,UMOL/KG,,PMOL/KG,,PMOL/KG,,PMOL/KG,,FMOL/KG,,UMOL/KG,,UMOL/KG,,,,DEG C,TU,,NMOL/KG,,PERCNT,,DEG C,,/MILLE,,/MILLE,,/MILLE,NMOL/KG,,/MILLE,,UG/KG,,UMOL/KG,,UMOL/KG,,,,TU,NMOL/KG,G/KG,,,,,,1/M,,1/M,,1/M,,1/M,,1/M,,1/M,,1/M,,1/NM,,1/NM,,NMOL/KG,PERCNT,DEG C,,,,,,,,/MILLE,,/MILLE,,
320620110219,       S04P,      22,          1,         13,         13,2,20110302,       0437,   -66.9999,  -179.2951,       3616,  1532.4,   0.7965,  34.7124,2,  34.7119,2,    201.8,2,   202.3,2,  120.56,2,   32.37,2,    0.00,2,    2.19,2,   0.077,2,   0.046,2,   0.010,2,-999.0000,9,  -999.0,9,  -999.0,9,-999.0000,9,  -999.00,-999.000,9,-999.0000,9,-999.000,9,   0.7972,2, -999.00,9,  -999.0,9,  -999.0,-999.000,9, -999.00,9,-999.000,9,   39.30,2,   35.01,2, -66.9999,-179.2952,-999.000,     -999.0,    34.8756,2,     -999.0,9,     -999.0,9,-999.0000,9,-999.0000,9,-999.0000,9,-999.0000,9,-999.0000,9,-999.0000,9,-999.0000,9,-999.0000,9,-999.0000,9,-999.0000,-999.000,   0.7118,     -999.0,     -999.0,9,     -999.0,9,     -999.0,9,     -999.0,9,     -999.0,20110302,       0531
320620110219,       S04P,      22,          1,         12,         12,2,20110302,       0437,   -66.9999,  -179.2951,       3616,  1634.3,   0.7539,  34.7106,2,  34.7104,2,    202.7,2,   202.4,2,  121.54,2,   32.35,2,    0.00,2,    2.19,2,-999.000,9,-999.000,9,-999.000,9,-999.0000,9,  -999.0,9,  -999.0,9,-999.0000,9,  -999.00,-999.000,9,-999.0000,9,-999.000,9,   0.7532,2, -999.00,9,  -999.0,9,  -999.0,-999.000,9, -999.00,9,-999.000,9,   39.14,2,   35.09,2, -66.9999,-179.2952,-999.000,     -999.0,    34.8740,2,     -999.0,9,     -999.0,9,-999.0000,9,-999.0000,9,-999.0000,9,-999.0000,9,-999.0000,9,-999.0000,9,-999.0000,9,-999.0000,9,-999.0000,9,-999.0000,-999.000,   0.6627,     -999.0,     -999.0,9,     -999.0,9,     -999.0,9,     -999.0,9,     -999.0,20110302,       0528
320620110219,       S04P,      22,          1,         11,         11,2,20110302,       0437,   -66.9999,  -179.2951,       3616,  1735.4,   0.7186,  34.7090,2,  34.7088,2,    203.6,2,   203.3,2,  123.16,2,   32.32,2,    0.00,2,    2.21,2,   0.106,2,   0.069,2,   0.013,2,-999.0000,9,  -999.0,9,  -999.0,9,-999.0000,9,  -999.00,-999.000,9,-999.0000,9,-999.000,9,   0.7189,2, -999.00,9,  -999.0,9,  -999.0,-999.000,9, -999.00,9,-999.000,9,   39.24,2,   35.31,2, -66.9999,-179.2952,-999.000,     -999.0,    34.8725,2,     -999.0,9,     -999.0,9,-999.0000,9,-999.0000,9,-999.0000,9,-999.0000,9,-999.0000,9,-999.0000,9,-999.0000,9,-999.0000,9,-999.0000,9,-999.0000,-999.000,   0.6208,     -999.0,     -999.0,9,     -999.0,9,     -999.0,9,     -999.0,9,     -999.0,20110302,       0525
320620110219,       S04P,      22,          1,         10,         10,2,20110302,       0437,   -66.9999,  -179.2951,       3616,  1864.1,   0.6751,  34.7077,2,  34.7078,2,    204.8,2,   204.5,2,  124.44,2,   32.36,2,    0.00,2,    2.21,2,-999.000,9,-999.000,9,-999.000,9,-999.0000,9,  2260.8,2,  2361.3,2,   7.5920,2,    25.00,-999.000,9,-999.0000,9,-999.000,9,   0.6750,2, -999.00,9,  -999.0,9,  -999.0,-999.000,9, -999.00,9,-999.000,9,   39.08,2,   35.53,2, -66.9999,-179.2952,-999.000,     -999.0,    34.8715,2,     -999.0,9,     -999.0,9,-999.0000,9,-999.0000,9,-999.0000,9,-999.0000,9,-999.0000,9,-999.0000,9,-999.0000,9,-999.0000,9,-999.0000,9,-999.0000,-999.000,   0.5687,     -999.0,     -999.0,9,     -999.0,9,     -999.0,9,     -999.0,9,     -999.0,20110302,       0522
320620110219,       S04P,      22,          1,          9,          9,2,20110302,       0437,   -66.9999,  -179.2951,       3616,  2064.5,   0.6125,  34.7064,2,  34.7062,2,    206.4,2,   206.6,2,  124.46,2,   32.30,2,    0.00,2,    2.20,2,   0.101,2,   0.066,2,   0.012,2,-999.0000,9,  -999.0,9,  -999.0,9,-999.0000,9,  -999.00,-999.000,9,-999.0000,9,-999.000,9,   0.6128,2, -999.00,9,  -999.0,9,  -999.0,-999.000,9, -999.00,9,-999.000,9,   39.69,2,   34.28,2, -66.9999,-179.2952,-999.000,     -999.0,    34.8699,2,     -999.0,9,     -999.0,9,-999.0000,9,-999.0000,9,-999.0000,9,-999.0000,9,-999.0000,9,-999.0000,9,-999.0000,9,-999.0000,9,-999.0000,9,-999.0000,-999.000,   0.4923,     -999.0,     -999.0,9,     -999.0,9,     -999.0,9,     -999.0,9,     -999.0,20110302,       0518
320620110219,       S04P,      22,          1,          8,          8,2,20110302,       0437,   -66.9999,  -179.2951,       3616,  2265.3,   0.5478,  34.7049,2,  34.7054,2,    207.7,2,   207.6,2,  126.96,2,   32.38,2,    0.00,2,    2.21,2,-999.000,9,-999.000,9,-999.000,9,-999.0000,9,  2261.7,2,  2360.3,2,   7.5923,2,    25.00,-999.000,9,-999.0000,9,-999.000,9,   0.5479,2, -999.00,9,  -999.0,9,  -999.0,-999.000,9, -999.00,9,-999.000,9,   38.97,2,   35.15,2, -66.9999,-179.2951,-999.000,     -999.0,    34.8691,2,     -999.0,9,     -999.0,9,-999.0000,9,-999.0000,9,-999.0000,9,-999.0000,9,-999.0000,9,-999.0000,9,-999.0000,9,-999.0000,9,-999.0000,9,-999.0000,-999.000,   0.4133,     -999.0,     -999.0,9,     -999.0,9,     -999.0,9,     -999.0,9,     -999.0,20110302,       0513
320620110219,       S04P,      22,          1,          7,          7,2,20110302,       0437,   -66.9999,  -179.2951,       3616,  2463.9,   0.4844,  34.7040,2,  34.7037,2,    209.0,2,   209.2,2,  128.52,2,   32.41,2,    0.00,2,    2.21,2,   0.125,2,   0.070,2,   0.014,2,-999.0000,9,  -999.0,9,  -999.0,9,-999.0000,9,  -999.00,-999.000,9,-999.0000,9,-999.000,9,   0.4843,2, -999.00,9,  -999.0,9,  -999.0,-999.000,9, -999.00,9,-999.000,9,   39.43,2,   34.52,2, -66.9999,-179.2952,-999.000,     -999.0,    34.8673,2,     -999.0,9,     -999.0,9,-999.0000,9,-999.0000,9,-999.0000,9,-999.0000,9,-999.0000,9,-999.0000,9,-999.0000,9,-999.0000,9,-999.0000,9,-999.0000,-999.000,   0.3353,     -999.0,     -999.0,9,     -999.0,9,     -999.0,9,     -999.0,9,     -999.0,20110302,       0508
320620110219,       S04P,      22,          1,          6,          6,2,20110302,       0437,   -66.9999,  -179.2951,       3616,  2665.8,   0.4277,  34.7027,2,  34.7029,2,    210.8,2,   210.7,2,  129.94,2,   32.53,2,    0.00,2,    2.21,2,-999.000,9,-999.000,9,-999.000,9,-999.0000,9,  -999.0,9,  -999.0,9,-999.0000,9,  -999.00,-999.000,9,-999.0000,9,-999.000,9,   0.4279,2, -999.00,9,  -999.0,9,  -999.0,-999.000,9, -999.00,9,-999.000,9,   39.14,2,   34.82,2, -66.9999,-179.2952,-999.000,     -999.0,    34.8665,2,     -999.0,9,     -999.0,9,-999.0000,9,-999.0000,9,-999.0000,9,-999.0000,9,-999.0000,9,-999.0000,9,-999.0000,9,-999.0000,9,-999.0000,9,-999.0000,-999.000,   0.2632,     -999.0,     -999.0,9,     -999.0,9,     -999.0,9,     -999.0,9,     -999.0,20110302,       0504
320620110219,       S04P,      22,          1,          5,          5,2,20110302,       0437,   -66.9999,  -179.2951,       3616,  2863.0,   0.3857,  34.7022,2,  34.7019,2,    212.0,2,   211.7,2,  131.36,2,   32.66,2,    0.00,2,    2.21,2,   0.174,2,   0.111,2,   0.020,2,-999.0000,9,  2261.9,2,  2364.2,2,   7.5920,2,    25.00,-999.000,9,-999.0000,9,-999.000,9,   0.3856,2, -999.00,9,  -999.0,9,  -999.0,-999.000,9, -999.00,9,-999.000,9,   40.24,2,   34.99,2, -66.9999,-179.2952,-999.000,     -999.0,    34.8656,2,     -999.0,9,     -999.0,9,-999.0000,9,-999.0000,9,-999.0000,9,-999.0000,9,-999.0000,9,-999.0000,9,-999.0000,9,-999.0000,9,-999.0000,9,-999.0000,-999.000,   0.2054,     -999.0,     -999.0,9,     -999.0,9,     -999.0,9,     -999.0,9,     -999.0,20110302,       0459
320620110219,       S04P,      22,          1,          4,          4,2,20110302,       0437,   -66.9999,  -179.2951,       3616,  3101.7,   0.3287,  34.6999,2,  34.6994,2,   -999.0,9,  -999.0,5,  131.55,2,   32.71,2,    0.00,2,    2.21,2,   0.260,2,   0.166,2,   0.033,2,-999.0000,9,  2260.0,2,  2362.6,2,   7.5917,2,    25.00,-999.000,9,-999.0000,9,-999.000,9,   0.3290,2, -999.00,9,  -999.0,9,  -999.0,-999.000,9, -999.00,9,-999.000,9,   40.26,2,   35.04,2, -66.9999,-179.2952,-999.000,     -999.0,    34.8630,2,     -999.0,9,     -999.0,9,-999.0000,9,-999.0000,9,-999.0000,9,-999.0000,9,-999.0000,9,-999.0000,9,-999.0000,9,-999.0000,9,-999.0000,9,-999.0000,-999.000,   0.1288,     -999.0,     -999.0,9,     -999.0,9,     -999.0,9,     -999.0,9,     -999.0,20110302,       0453
320620110219,       S04P,      22,          1,          3,          3,2,20110302,       0437,   -66.9999,  -179.2951,       3616,  3400.6,   0.2777,  34.6985,2,  34.6992,2,    216.3,2,   215.6,2,  132.50,2,   32.74,2,    0.00,2,    2.22,2,   0.341,2,   0.206,2,   0.042,2,-999.0000,9,  2263.1,3,  2361.8,6,   7.5909,2,    25.00,-999.000,9,-999.0000,9,-999.000,9,   0.2778,2, -999.00,9,  -999.0,9,  -999.0,-999.000,9, -999.00,9,-999.000,9,   40.07,2,   34.74,2, -66.9999,-179.2952,-999.000,     -999.0,    34.8628,2,     -999.0,9,     -999.0,9,-999.0000,9,-999.0000,9,-999.0000,9,-999.0000,9,-999.0000,9,-999.0000,9,-999.0000,9,-999.0000,9,-999.0000,9,-999.0000,-999.000,   0.0518,     -999.0,     -999.0,9,     -999.0,9,     -999.0,9,     -999.0,9,     -999.0,20110302,       0447
320620110219,       S04P,      22,          1,          2,          2,2,20110302,       0437,   -66.9999,  -179.2951,       3616,  3568.8,   0.2001,  34.6907,2,  34.6903,2,    220.7,2,   220.5,2,  123.63,2,   32.53,2,    0.00,2,    2.20,2,   0.764,6,   0.457,6,   0.070,6,-999.0000,9,  2260.1,2,  2358.1,2,   7.5891,6,    25.00,-999.000,9,-999.0000,9,-999.000,9,   0.2002,2, -999.00,9,  -999.0,9,  -999.0,-999.000,9, -999.00,9,-999.000,9,   40.17,2,   34.38,2, -66.9999,-179.2951,-999.000,     -999.0,    34.8539,2,     -999.0,9,     -999.0,9,-999.0000,9,-999.0000,9,-999.0000,9,-999.0000,9,-999.0000,9,-999.0000,9,-999.0000,9,-999.0000,9,-999.0000,9,-999.0000,-999.000,  -0.0396,     -999.0,     -999.0,9,     -999.0,9,     -999.0,9,     -999.0,9,     -999.0,20110302,       0440
320620110219,       S04P,      22,          1,          1,          1,2,20110302,       0437,   -66.9999,  -179.2951,       3616,  3669.9,   0.1664,  34.6869,2,  34.6868,2,    222.7,2,   223.0,2,  119.12,2,   32.40,2,    0.00,2,    2.20,2,   1.038,2,   0.607,2,   0.098,2,-999.0000,9,  2260.0,6,  2356.0,2,   7.5889,2,    25.00,-999.000,9,-999.0000,9,-999.000,9,   0.1667,2, -999.00,9,  -999.0,9,  -999.0,-999.000,9, -999.00,9,-999.000,9,   40.19,2,   34.44,2, -66.9999,-179.2951,-999.000,     -999.0,    34.8504,2,     -999.0,9,     -999.0,9,-999.0000,9,-999.0000,9,-999.0000,9,-999.0000,9,-999.0000,9,-999.0000,9,-999.0000,9,-999.0000,9,-999.0000,9,-999.0000,-999.000,  -0.0821,     -999.0,     -999.0,9,     -999.0,9,     -999.0,9,     -999.0,9,     -999.0,20110302,       0437