BOTTLE,20220813CCHSIOAMB
EXPOCODE,SECT_ID,STNNBR,CASTNO,SAMPNO,BTLNBR,BTLNBR_FLAG_W,DATE,TIME,LATITUDE,LONGITUDE,DEPTH,CTDPRS,CTDTMP,CTDSAL,CTDSAL_FLAG_W,SALNTY,SALNTY_FLAG_W,CTDOXY,CTDOXY_FLAG_W,OXYGEN,OXYGEN_FLAG_W,SILCAT,SILCAT_FLAG_W,NITRAT,NITRAT_FLAG_W,NITRIT,NITRIT_FLAG_W,PHSPHT,PHSPHT_FLAG_W,CFC-11,CFC-11_FLAG_W,CFC-12,CFC-12_FLAG_W,CFC113,CFC113_FLAG_W,SF6,SF6_FLAG_W,TCARBN,TCARBN_FLAG_W,ALKALI,ALKALI_FLAG_W,PH_TOT,PH_TOT_FLAG_W,PH_TMP,TRITUM,TRITUM_FLAG_W,HELIUM,HELIUM_FLAG_W,DELHE3,DELHE3_FLAG_W,REFTMP,REFTMP_FLAG_W,DELC13,DELC13_FLAG_W,DELC14,DELC14_FLAG_W,C14ERR,NEON,NEON_FLAG_W,DELO18,DELO18_FLAG_W,POC,POC_FLAG_W,DOC,DOC_FLAG_W,TDN,TDN_FLAG_W,BTL_LAT,BTL_LON,TRITER,NEONER,SALTREF,SALTREF_FLAG_W,PIGMENTS,PIGMENTS_FLAG_W,LAB_DEN,LAB_DEN_FLAG_W,CDOM325,CDOM325_FLAG_W,CDOM340,CDOM340_FLAG_W,CDOM380,CDOM380_FLAG_W,CDOM412,CDOM412_FLAG_W,CDOM443,CDOM443_FLAG_W,CDOM490,CDOM490_FLAG_W,CDOM555,CDOM555_FLAG_W,CDOMSL,CDOMSL_FLAG_W,CDOMSN,CDOMSN_FLAG_W,HELIER,DELHER,THETA,LDEO_SAMPNO,ABSORBTION,ABSORBTION_FLAG_W,IMAGE_COUNT,IMAGE_COUNT_FLAG_W,CYTO_COUNT,CYTO_COUNT_FLAG_W,DELD,DELD_FLAG_W,DELDERR,BTL_DATE,BTL_TIME
,,,,,,,,,,,METERS,DBAR,ITS-90,PSS-78,,PSS-78,,UMOL/KG,,UMOL/KG,,UMOL/KG,,UMOL/KG,,UMOL/KG,,UMOL/KG,,PMOL/KG,,PMOL/KG,,PMOL/KG,,FMOL/KG,,UMOL/KG,,UMOL/KG,,,,DEG C,TU,,NMOL/KG,,PERCNT,,DEG C,,/MILLE,,/MILLE,,/MILLE,NMOL/KG,,/MILLE,,UG/KG,,UMOL/KG,,UMOL/KG,,,,TU,NMOL/KG,G/KG,,,,,,1/M,,1/M,,1/M,,1/M,,1/M,,1/M,,1/M,,1/NM,,1/NM,,NMOL/KG,PERCNT,DEG C,,,,,,,,/MILLE,,/MILLE,,
320620110219,       S04P,     136,          2,         13,         13,2,20110418,       1826,   -66.9990,   -73.4076,       3362,  1462.8,   1.1335,  34.7225,2,  34.7230,2,    196.9,2,   197.5,2,  109.38,2,   31.84,2,    0.00,2,    2.20,2,-999.000,9,-999.000,9,-999.000,9,-999.0000,9,  2260.8,2,  2369.7,4,   7.5998,2,    25.00,-999.000,9,-999.0000,9,-999.000,9,   1.1333,2, -999.00,9,  -999.0,9,  -999.0,-999.000,9, -999.00,9,-999.000,9,   40.04,2,   34.38,2, -66.9989, -73.4071,-999.000,     -999.0,    34.8867,2,     -999.0,9,     -999.0,9,-999.0000,9,-999.0000,9,-999.0000,9,-999.0000,9,-999.0000,9,-999.0000,9,-999.0000,9,-999.0000,9,-999.0000,9,-999.0000,-999.000,   1.0496,     -999.0,     -999.0,9,     -999.0,9,     -999.0,9,     -999.0,9,     -999.0,20110418,       1908
320620110219,       S04P,     136,          2,         12,         12,2,20110418,       1826,   -66.9990,   -73.4076,       3362,  1564.5,   1.0733,  34.7209,2,  34.7208,2,    198.1,2,   197.7,2,  111.03,2,   31.90,2,    0.00,2,    2.19,2,-999.000,9,-999.000,9,-999.000,9,-999.0000,9,  -999.0,9,  -999.0,9,-999.0000,9,  -999.00,-999.000,9,-999.0000,9,-999.000,9,   1.0736,2, -999.00,9,  -999.0,9,  -999.0,-999.000,9, -999.00,9,-999.000,9,   40.53,2,   34.50,2, -66.9989, -73.4070,-999.000,     -999.0,    34.8845,2,     -999.0,9,     -999.0,9,-999.0000,9,-999.0000,9,-999.0000,9,-999.0000,9,-999.0000,9,-999.0000,9,-999.0000,9,-999.0000,9,-999.0000,9,-999.0000,-999.000,   0.9830,     -999.0,     -999.0,9,     -999.0,9,     -999.0,9,     -999.0,9,     -999.0,20110418,       1906
320620110219,       S04P,     136,          2,         11,         11,2,20110418,       1826,   -66.9990,   -73.4076,       3362,  1664.7,   1.0130,  34.7187,2,  34.7191,2,    199.1,2,   199.0,2,  112.68,2,   32.04,2,    0.00,2,    2.21,2,   0.111,2,   0.059,2,   0.006,2,   0.0090,2,  -999.0,9,  -999.0,9,-999.0000,9,  -999.00,-999.000,9,-999.0000,9,-999.000,9,   1.0129,2, -999.00,9,  -999.0,9,  -999.0,-999.000,9, -999.00,9,-999.000,9,   40.74,2,   34.89,2, -66.9989, -73.4072,-999.000,     -999.0,    34.8828,2,     -999.0,9,     -999.0,9,-999.0000,9,-999.0000,9,-999.0000,9,-999.0000,9,-999.0000,9,-999.0000,9,-999.0000,9,-999.0000,9,-999.0000,9,-999.0000,-999.000,   0.9163,     -999.0,     -999.0,9,     -999.0,9,     -999.0,9,     -999.0,9,     -999.0,20110418,       1903
320620110219,       S04P,     136,          2,         10,         37,2,20110418,       1826,   -66.9990,   -73.4076,       3362,  1764.7,   0.9535,  34.7163,2,  34.7173,2,    200.4,2,   200.1,2,  114.61,2,   32.09,2,    0.00,2,    2.21,2,-999.000,9,-999.000,9,-999.000,9,-999.0000,9,  -999.0,9,  -999.0,9,-999.0000,9,  -999.00,-999.000,9,-999.0000,9,-999.000,9,   0.9535,2, -999.00,9,  -999.0,9,  -999.0,-999.000,9, -999.00,9,-999.000,9,   40.74,2,   34.42,2, -66.9989, -73.4075,-999.000,     -999.0,    34.8810,2,     -999.0,9,     -999.0,9,-999.0000,9,-999.0000,9,-999.0000,9,-999.0000,9,-999.0000,9,-999.0000,9,-999.0000,9,-999.0000,9,-999.0000,9,-999.0000,-999.000,   0.8504,     -999.0,     -999.0,9,     -999.0,9,     -999.0,9,     -999.0,9,     -999.0,20110418,       1901
320620110219,       S04P,     136,          2,          9,          9,2,20110418,       1826,   -66.9990,   -73.4076,       3362,  1934.2,   0.8407,  34.7128,2,  34.7131,2,    202.2,2,   202.5,2,  118.77,2,   32.21,2,    0.00,2,    2.22,2,-999.000,9,-999.000,9,-999.000,9,-999.0000,9,  2262.3,2,  2366.0,4,   7.5998,2,    25.00,-999.000,9,-999.0000,9,-999.000,9,   0.8408,2, -999.00,9,  -999.0,9,  -999.0,-999.000,9, -999.00,9,-999.000,9,   40.33,2,   34.69,2, -66.9990, -73.4075,-999.000,     -999.0,    34.8768,2,     -999.0,9,     -999.0,9,-999.0000,9,-999.0000,9,-999.0000,9,-999.0000,9,-999.0000,9,-999.0000,9,-999.0000,9,-999.0000,9,-999.0000,9,-999.0000,-999.000,   0.7267,     -999.0,     -999.0,9,     -999.0,9,     -999.0,9,     -999.0,9,     -999.0,20110418,       1857
320620110219,       S04P,     136,          2,          8,          8,2,20110418,       1826,   -66.9990,   -73.4076,       3362,  2135.6,   0.7306,  34.7094,2,  34.7098,2,    204.4,2,   204.7,2,  121.71,2,   32.26,2,    0.00,2,    2.22,2,   0.133,2,   0.068,2,   0.007,2,   0.0340,2,  -999.0,9,  -999.0,9,-999.0000,9,  -999.00,-999.000,9,-999.0000,9,-999.000,9,   0.7310,2, -999.00,9,  -999.0,9,  -999.0,-999.000,9, -999.00,9,-999.000,9,   40.18,2,   34.70,2, -66.9988, -73.4074,-999.000,     -999.0,    34.8735,2,     -999.0,9,     -999.0,9,-999.0000,9,-999.0000,9,-999.0000,9,-999.0000,9,-999.0000,9,-999.0000,9,-999.0000,9,-999.0000,9,-999.0000,9,-999.0000,-999.000,   0.6030,     -999.0,     -999.0,9,     -999.0,9,     -999.0,9,     -999.0,9,     -999.0,20110418,       1853
320620110219,       S04P,     136,          2,          7,          7,2,20110418,       1826,   -66.9990,   -73.4076,       3362,  2334.8,   0.6453,  34.7077,2,  34.7080,2,    206.1,2,   206.0,2,  124.25,2,   32.42,2,    0.00,2,    2.22,2,-999.000,9,-999.000,9,-999.000,9,-999.0000,9,  -999.0,9,  -999.0,9,-999.0000,9,  -999.00,-999.000,9,-999.0000,9,-999.000,9,   0.6455,2, -999.00,9,  -999.0,9,  -999.0,-999.000,9, -999.00,9,-999.000,9,   40.62,2,   34.60,2, -66.9989, -73.4072,-999.000,     -999.0,    34.8717,2,     -999.0,9,     -999.0,9,-999.0000,9,-999.0000,9,-999.0000,9,-999.0000,9,-999.0000,9,-999.0000,9,-999.0000,9,-999.0000,9,-999.0000,9,-999.0000,-999.000,   0.5036,     -999.0,     -999.0,9,     -999.0,9,     -999.0,9,     -999.0,9,     -999.0,20110418,       1849
320620110219,       S04P,     136,          2,          6,          6,2,20110418,       1826,   -66.9990,   -73.4076,       3362,  2534.2,   0.5589,  34.7053,2,  34.7055,2,    207.7,2,   207.6,2,  127.09,2,   32.50,2,    0.00,2,    2.22,2,   0.156,2,   0.084,2,   0.008,2,   0.0620,2,  2264.3,2,  2382.9,4,   7.5980,2,    25.00,-999.000,9,-999.0000,9,-999.000,9,   0.5592,2, -999.00,9,  -999.0,9,  -999.0,-999.000,9, -999.00,9,-999.000,9,   40.58,2,   34.87,2, -66.9989, -73.4075,-999.000,     -999.0,    34.8691,2,     -999.0,9,     -999.0,9,-999.0000,9,-999.0000,9,-999.0000,9,-999.0000,9,-999.0000,9,-999.0000,9,-999.0000,9,-999.0000,9,-999.0000,9,-999.0000,-999.000,   0.4027,     -999.0,     -999.0,9,     -999.0,9,     -999.0,9,     -999.0,9,     -999.0,20110418,       1845
320620110219,       S04P,     136,          2,          5,          5,2,20110418,       1826,   -66.9990,   -73.4076,       3362,  2734.6,   0.4982,  34.7035,2,  34.7037,2,    209.2,2,   208.9,2,  129.78,2,   32.56,2,    0.00,2,    2.23,2,-999.000,9,-999.000,9,-999.000,9,-999.0000,9,  -999.0,9,  -999.0,9,-999.0000,9,  -999.00,-999.000,9,-999.0000,9,-999.000,9,   0.4984,2, -999.00,9,  -999.0,9,  -999.0,-999.000,9, -999.00,9,-999.000,9,   40.73,2,   34.95,2, -66.9989, -73.4076,-999.000,     -999.0,    34.8674,2,     -999.0,9,     -999.0,9,-999.0000,9,-999.0000,9,-999.0000,9,-999.0000,9,-999.0000,9,-999.0000,9,-999.0000,9,-999.0000,9,-999.0000,9,-999.0000,-999.000,   0.3265,     -999.0,     -999.0,9,     -999.0,9,     -999.0,9,     -999.0,9,     -999.0,20110418,       1840
320620110219,       S04P,     136,          2,          4,          4,2,20110418,       1826,   -66.9990,   -73.4076,       3362,  2937.2,   0.4663,  34.7028,2,  34.7035,2,    209.6,2,   209.2,2,  132.37,2,   32.67,2,    0.00,2,    2.24,2,   0.184,2,   0.104,2,   0.011,2,   0.0690,2,  -999.0,9,  -999.0,9,-999.0000,9,  -999.00,-999.000,9,-999.0000,9,-999.000,9,   0.4662,2, -999.00,9,  -999.0,9,  -999.0,-999.000,9, -999.00,9,-999.000,9,   40.56,2,   34.82,2, -66.9992, -73.4074,-999.000,     -999.0,    34.8672,2,     -999.0,9,     -999.0,9,-999.0000,9,-999.0000,9,-999.0000,9,-999.0000,9,-999.0000,9,-999.0000,9,-999.0000,9,-999.0000,9,-999.0000,9,-999.0000,-999.000,   0.2778,     -999.0,     -999.0,9,     -999.0,9,     -999.0,9,     -999.0,9,     -999.0,20110418,       1836
320620110219,       S04P,     136,          2,          3,          3,2,20110418,       1826,   -66.9990,   -73.4076,       3362,  3135.2,   0.4466,  34.7029,2,  34.7037,2,    209.8,2,   209.8,2,  134.58,2,   32.74,2,    0.00,2,    2.24,2,   0.176,2,   0.093,2,   0.009,2,   0.0610,2,  2265.6,2,  2366.1,6,   7.5961,2,    25.00,-999.000,9,-999.0000,9,-999.000,9,   0.4463,2, -999.00,9,  -999.0,9,  -999.0,-999.000,9, -999.00,9,-999.000,9,   40.82,2,   34.89,2, -66.9991, -73.4076,-999.000,     -999.0,    34.8673,2,     -999.0,9,     -999.0,9,-999.0000,9,-999.0000,9,-999.0000,9,-999.0000,9,-999.0000,9,-999.0000,9,-999.0000,9,-999.0000,9,-999.0000,9,-999.0000,-999.000,   0.2409,     -999.0,     -999.0,9,     -999.0,9,     -999.0,9,     -999.0,9,     -999.0,20110418,       1832
320620110219,       S04P,     136,          2,          2,          2,2,20110418,       1826,   -66.9990,   -73.4076,       3362,  3300.5,   0.4205,  34.7025,2,  34.7035,2,    210.5,2,   210.4,2,  135.59,2,   32.67,2,    0.00,2,    2.23,2,-999.000,9,-999.000,9,-999.000,9,-999.0000,9,  2265.1,2,  -999.0,9,   7.5973,6,    25.00,-999.000,9,-999.0000,9,-999.000,9,   0.4206,2, -999.00,9,  -999.0,9,  -999.0,-999.000,9, -999.00,9,-999.000,9,   40.36,2,   35.00,2, -66.9990, -73.4076,-999.000,     -999.0,    34.8671,2,     -999.0,9,     -999.0,9,-999.0000,9,-999.0000,9,-999.0000,9,-999.0000,9,-999.0000,9,-999.0000,9,-999.0000,9,-999.0000,9,-999.0000,9,-999.0000,-999.000,   0.2003,     -999.0,     -999.0,9,     -999.0,9,     -999.0,9,     -999.0,9,     -999.0,20110418,       1829
320620110219,       S04P,     136,          2,          1,          1,2,20110418,       1826,   -66.9990,   -73.4076,       3362,  3413.8,   0.4323,  34.7026,2,  34.7033,2,    210.3,2,   210.6,2,  135.42,2,   32.67,2,    0.00,2,    2.23,2,   0.235,2,   0.117,2,   0.011,2,   0.0440,2,  2265.4,6,  2367.3,2,   7.5987,2,    25.00,-999.000,9,-999.0000,9,-999.000,9,   0.4325,2, -999.00,9,  -999.0,9,  -999.0,-999.000,9, -999.00,9,-999.000,9,   41.08,2,   35.01,2, -66.9990, -73.4076,-999.000,     -999.0,    34.8669,2,     -999.0,9,     -999.0,9,-999.0000,9,-999.0000,9,-999.0000,9,-999.0000,9,-999.0000,9,-999.0000,9,-999.0000,9,-999.0000,9,-999.0000,9,-999.0000,-999.000,   0.2012,     -999.0,     -999.0,9,     -999.0,9,     -999.0,9,     -999.0,9,     -999.0,20110418,       1826