BOTTLE,20220813CCHSIOAMB
EXPOCODE,SECT_ID,STNNBR,CASTNO,SAMPNO,BTLNBR,BTLNBR_FLAG_W,DATE,TIME,LATITUDE,LONGITUDE,DEPTH,CTDPRS,CTDTMP,CTDSAL,CTDSAL_FLAG_W,SALNTY,SALNTY_FLAG_W,CTDOXY,CTDOXY_FLAG_W,OXYGEN,OXYGEN_FLAG_W,SILCAT,SILCAT_FLAG_W,NITRAT,NITRAT_FLAG_W,NITRIT,NITRIT_FLAG_W,PHSPHT,PHSPHT_FLAG_W,CFC-11,CFC-11_FLAG_W,CFC-12,CFC-12_FLAG_W,CFC113,CFC113_FLAG_W,SF6,SF6_FLAG_W,TCARBN,TCARBN_FLAG_W,ALKALI,ALKALI_FLAG_W,PH_TOT,PH_TOT_FLAG_W,PH_TMP,TRITUM,TRITUM_FLAG_W,HELIUM,HELIUM_FLAG_W,DELHE3,DELHE3_FLAG_W,REFTMP,REFTMP_FLAG_W,DELC13,DELC13_FLAG_W,DELC14,DELC14_FLAG_W,C14ERR,NEON,NEON_FLAG_W,DELO18,DELO18_FLAG_W,POC,POC_FLAG_W,DOC,DOC_FLAG_W,TDN,TDN_FLAG_W,BTL_LAT,BTL_LON,TRITER,NEONER,SALTREF,SALTREF_FLAG_W,PIGMENTS,PIGMENTS_FLAG_W,LAB_DEN,LAB_DEN_FLAG_W,CDOM325,CDOM325_FLAG_W,CDOM340,CDOM340_FLAG_W,CDOM380,CDOM380_FLAG_W,CDOM412,CDOM412_FLAG_W,CDOM443,CDOM443_FLAG_W,CDOM490,CDOM490_FLAG_W,CDOM555,CDOM555_FLAG_W,CDOMSL,CDOMSL_FLAG_W,CDOMSN,CDOMSN_FLAG_W,HELIER,DELHER,THETA,LDEO_SAMPNO,ABSORBTION,ABSORBTION_FLAG_W,IMAGE_COUNT,IMAGE_COUNT_FLAG_W,CYTO_COUNT,CYTO_COUNT_FLAG_W,DELD,DELD_FLAG_W,DELDERR,BTL_DATE,BTL_TIME
,,,,,,,,,,,METERS,DBAR,ITS-90,PSS-78,,PSS-78,,UMOL/KG,,UMOL/KG,,UMOL/KG,,UMOL/KG,,UMOL/KG,,UMOL/KG,,PMOL/KG,,PMOL/KG,,PMOL/KG,,FMOL/KG,,UMOL/KG,,UMOL/KG,,,,DEG C,TU,,NMOL/KG,,PERCNT,,DEG C,,/MILLE,,/MILLE,,/MILLE,NMOL/KG,,/MILLE,,UG/KG,,UMOL/KG,,UMOL/KG,,,,TU,NMOL/KG,G/KG,,,,,,1/M,,1/M,,1/M,,1/M,,1/M,,1/M,,1/M,,1/NM,,1/NM,,NMOL/KG,PERCNT,DEG C,,,,,,,,/MILLE,,/MILLE,,
320620110219,       P16S,      48,          1,         36,         36,2,20110312,       0324,   -68.5041,  -149.9994,       4360,     5.9,  -0.4803,  33.7635,2,  33.7641,2,    341.8,3,   345.9,2,   38.44,2,   23.49,2,    0.21,2,    1.60,2,   6.021,2,   3.304,2,   0.591,2,   2.4100,2,  2152.1,2,  2287.2,6,   7.7045,2,    25.00,-999.000,9,-999.0000,9,-999.000,9,  -0.4801,2, -999.00,9,  -999.0,9,  -999.0,-999.000,9,   -0.34,2,-999.000,9,   44.19,2,   27.23,2, -68.5041,-149.9994,-999.000,     -999.0,    33.9233,2,     -999.0,9,     -999.0,9,-999.0000,9,-999.0000,9,-999.0000,9,-999.0000,9,-999.0000,9,-999.0000,9,-999.0000,9,-999.0000,9,-999.0000,9,-999.0000,-999.000,  -0.4805,     -999.0,     -999.0,9,     -999.0,9,     -999.0,9,      -3.99,2,       0.13,20110312,       0512
320620110219,       P16S,      48,          1,         35,         35,2,20110312,       0324,   -68.5041,  -149.9994,       4360,    25.0,  -0.4889,  33.7639,2,  33.7657,2,    345.5,2,   345.5,2,   38.56,2,   23.53,2,    0.21,2,    1.61,2,   6.043,2,   3.321,2,   0.585,2,   2.3540,2,  2155.0,2,  2289.3,2,   7.7097,2,    25.00,-999.000,9,-999.0000,9,-999.000,9,  -0.4882,2, -999.00,9,  -999.0,9,  -999.0,-999.000,9,   -0.47,2,-999.000,1,   43.93,2,   27.42,2, -68.5041,-149.9994,-999.000,     -999.0,    33.9249,2,     -999.0,1,     -999.0,9,-999.0000,9,-999.0000,9,-999.0000,9,-999.0000,9,-999.0000,9,-999.0000,9,-999.0000,9,-999.0000,9,-999.0000,9,-999.0000,-999.000,  -0.4896,     -999.0,     -999.0,1,     -999.0,9,     -999.0,9,      -3.86,2,       0.12,20110312,       0510
320620110219,       P16S,      48,          1,         34,         34,2,20110312,       0324,   -68.5041,  -149.9994,       4360,    49.6,  -0.5955,  33.7741,2,  33.7716,2,    344.8,2,   344.0,2,   39.55,2,   23.73,2,    0.21,2,    1.65,2,-999.000,9,-999.000,9,-999.000,9,-999.0000,9,  2156.5,2,  2288.2,2,   7.6997,2,    25.00,-999.000,9,-999.0000,9,-999.000,9,  -0.6013,2, -999.00,9,  -999.0,9,  -999.0,-999.000,9, -999.00,9,-999.000,1,   44.06,2,   27.81,2, -68.5041,-149.9994,-999.000,     -999.0,    33.9308,2,     -999.0,1,     -999.0,9,-999.0000,9,-999.0000,9,-999.0000,9,-999.0000,9,-999.0000,9,-999.0000,9,-999.0000,9,-999.0000,9,-999.0000,9,-999.0000,-999.000,  -0.5969,     -999.0,     -999.0,1,     -999.0,9,     -999.0,9,     -999.0,9,     -999.0,20110312,       0508
320620110219,       P16S,      48,          1,         33,         33,2,20110312,       0324,   -68.5041,  -149.9994,       4360,    75.5,  -1.3937,  34.0780,2,  34.0831,2,    295.9,2,   303.5,2,   53.63,2,   28.03,2,    0.21,2,    1.99,2,   5.053,2,   2.721,2,   0.478,2,   2.0280,2,  2199.6,2,  2306.1,2,   7.6347,2,    25.00,-999.000,9,-999.0000,9,-999.000,9,  -1.3868,2, -999.00,9,  -999.0,9,  -999.0,-999.000,9,   -0.30,2,-999.000,1,   43.21,2,   31.54,2, -68.5041,-149.9994,-999.000,     -999.0,    34.2438,2,     -999.0,1,     -999.0,9,-999.0000,9,-999.0000,9,-999.0000,9,-999.0000,9,-999.0000,9,-999.0000,9,-999.0000,9,-999.0000,9,-999.0000,9,-999.0000,-999.000,  -1.3954,     -999.0,     -999.0,1,     -999.0,9,     -999.0,9,      -3.92,2,       0.38,20110312,       0507
320620110219,       P16S,      48,          1,         32,         32,2,20110312,       0324,   -68.5041,  -149.9994,       4360,    99.5,  -0.9577,  34.2191,2,  34.2170,2,    277.0,2,   276.7,2,   60.95,2,   29.82,2,    0.03,2,    2.08,2,   4.194,2,   2.274,2,   0.389,2,   1.7720,2,  2215.3,2,  2312.9,2,   7.6044,2,    25.00,-999.000,9,-999.0000,9,-999.000,9,  -0.9552,2, -999.00,9,  -999.0,9,  -999.0,-999.000,9, -999.00,9,-999.000,9,   42.97,2,   32.70,2, -68.5041,-149.9994,-999.000,     -999.0,    34.3783,2,     -999.0,9,     -999.0,9,-999.0000,9,-999.0000,9,-999.0000,9,-999.0000,9,-999.0000,9,-999.0000,9,-999.0000,9,-999.0000,9,-999.0000,9,-999.0000,-999.000,  -0.9604,     -999.0,     -999.0,9,     -999.0,9,     -999.0,9,     -999.0,9,     -999.0,20110312,       0506
320620110219,       P16S,      48,          1,         31,         31,2,20110312,       0324,   -68.5041,  -149.9994,       4360,   149.6,   0.3950,  34.4594,2,  34.4605,2,    228.5,2,   223.8,2,   76.18,2,   32.07,2,    0.01,2,    2.21,2,   2.304,2,   1.263,2,   0.207,2,-999.0000,9,  2240.8,2,  2329.0,2,   7.5725,2,    25.00,-999.000,9,-999.0000,9,-999.000,9,   0.4049,2, -999.00,9,  -999.0,9,  -999.0,-999.000,9,   -0.07,2,-999.000,9,   41.70,2,   34.42,2, -68.5041,-149.9994,-999.000,     -999.0,    34.6230,2,     -999.0,9,     -999.0,9,-999.0000,9,-999.0000,9,-999.0000,9,-999.0000,9,-999.0000,9,-999.0000,9,-999.0000,9,-999.0000,9,-999.0000,9,-999.0000,-999.000,   0.3891,     -999.0,     -999.0,9,     -999.0,9,     -999.0,9,      -2.08,2,       0.25,20110312,       0504
320620110219,       P16S,      48,          1,         30,         30,2,20110312,       0324,   -68.5041,  -149.9994,       4360,   200.4,   1.5072,  34.6682,2,  34.6659,2,    185.4,2,   185.9,2,   86.80,2,   32.77,2,    0.01,2,    2.25,2,   0.724,2,   0.384,2,   0.065,2,   0.2830,2,  2257.5,2,  2342.4,2,   7.5618,6,    25.00,-999.000,9,-999.0000,9,-999.000,9,   1.5061,2, -999.00,9,  -999.0,9,  -999.0,-999.000,9, -999.00,9,-999.000,9,   41.55,2,   34.81,2, -68.5041,-149.9994,-999.000,     -999.0,    34.8294,2,     -999.0,9,     -999.0,9,-999.0000,9,-999.0000,9,-999.0000,9,-999.0000,9,-999.0000,9,-999.0000,9,-999.0000,9,-999.0000,9,-999.0000,9,-999.0000,-999.000,   1.4973,     -999.0,     -999.0,9,     -999.0,9,     -999.0,9,     -999.0,9,     -999.0,20110312,       0502
320620110219,       P16S,      48,          1,         29,         29,2,20110312,       0324,   -68.5041,  -149.9994,       4360,   249.6,   1.6245,  34.7084,2,  34.7091,2,    184.1,2,   184.0,2,   89.48,2,   32.22,2,    0.00,2,    2.24,2,   0.427,2,   0.218,2,   0.033,2,   0.1180,2,  2257.6,2,  2348.1,2,   7.5732,2,    25.00,-999.000,9,-999.0000,9,-999.000,9,   1.6247,2, -999.00,9,  -999.0,9,  -999.0,-999.000,9,   -0.04,2,-999.000,9,   41.46,2,   34.60,2, -68.5041,-149.9994,-999.000,     -999.0,    34.8727,2,     -999.0,9,     -999.0,9,-999.0000,9,-999.0000,9,-999.0000,9,-999.0000,9,-999.0000,9,-999.0000,9,-999.0000,9,-999.0000,9,-999.0000,9,-999.0000,-999.000,   1.6117,     -999.0,     -999.0,9,     -999.0,9,     -999.0,9,      -1.07,2,       0.58,20110312,       0500
320620110219,       P16S,      48,          1,         28,         28,2,20110312,       0324,   -68.5041,  -149.9994,       4360,   299.4,   1.5507,  34.7162,2,  34.7175,2,    184.7,2,   184.6,2,   92.71,2,   32.25,2,    0.00,2,    2.24,2,   0.385,2,   0.200,2,   0.030,2,   0.0800,2,  2255.5,2,  2348.2,2,   7.5726,4,    25.00,-999.000,9,-999.0000,9,-999.000,9,   1.5505,2, -999.00,9,  -999.0,9,  -999.0,-999.000,9, -999.00,9,-999.000,9,   41.32,2,   34.30,2, -68.5041,-149.9994,-999.000,     -999.0,    34.8812,2,     -999.0,9,     -999.0,9,-999.0000,9,-999.0000,9,-999.0000,9,-999.0000,9,-999.0000,9,-999.0000,9,-999.0000,9,-999.0000,9,-999.0000,9,-999.0000,-999.000,   1.5355,     -999.0,     -999.0,9,     -999.0,9,     -999.0,9,     -999.0,9,     -999.0,20110312,       0459
320620110219,       P16S,      48,          1,         27,         27,2,20110312,       0324,   -68.5041,  -149.9994,       4360,   349.8,   1.5241,  34.7265,2,  34.7272,2,    187.3,2,   187.3,2,   95.07,2,   31.96,2,    0.00,2,    2.23,2,   0.285,2,   0.146,2,   0.024,2,   0.1010,2,  2255.1,2,  2351.1,2,   7.5820,4,    25.00,-999.000,9,-999.0000,9,-999.000,9,   1.5234,2, -999.00,9,  -999.0,9,  -999.0,-999.000,9,   -0.36,6,-999.000,9,   41.10,2,   34.45,2, -68.5041,-149.9994,-999.000,     -999.0,    34.8909,2,     -999.0,9,     -999.0,9,-999.0000,9,-999.0000,9,-999.0000,9,-999.0000,9,-999.0000,9,-999.0000,9,-999.0000,9,-999.0000,9,-999.0000,9,-999.0000,-999.000,   1.5062,     -999.0,     -999.0,9,     -999.0,9,     -999.0,9,      -3.40,6,       0.06,20110312,       0457
320620110219,       P16S,      48,          1,         26,         26,2,20110312,       0324,   -68.5041,  -149.9994,       4360,   400.3,   1.4644,  34.7285,2,  34.7287,2,    187.3,2,   186.8,2,   97.29,2,   31.93,2,    0.00,2,    2.23,2,-999.000,9,-999.000,9,-999.000,9,-999.0000,9,  2256.7,2,  2353.1,2,   7.5793,2,    25.00,-999.000,9,-999.0000,9,-999.000,9,   1.4651,2, -999.00,9,  -999.0,9,  -999.0,-999.000,9, -999.00,9,-999.000,9,   41.35,2,   34.54,2, -68.5041,-149.9994,-999.000,     -999.0,    34.8925,2,     -999.0,9,     -999.0,9,-999.0000,9,-999.0000,9,-999.0000,9,-999.0000,9,-999.0000,9,-999.0000,9,-999.0000,9,-999.0000,9,-999.0000,9,-999.0000,-999.000,   1.4439,     -999.0,     -999.0,9,     -999.0,9,     -999.0,9,     -999.0,9,     -999.0,20110312,       0455
320620110219,       P16S,      48,          1,         25,         25,2,20110312,       0324,   -68.5041,  -149.9994,       4360,   450.8,   1.4117,  34.7293,2,  34.7303,2,    187.5,2,   187.1,2,   99.49,2,   31.97,2,    0.00,2,    2.23,2,   0.240,2,   0.118,2,   0.016,2,   0.0860,2,  2257.7,2,  2353.7,2,   7.5790,2,    25.00,-999.000,9,-999.0000,9,-999.000,9,   1.4122,2, -999.00,9,  -999.0,9,  -999.0,-999.000,9,    0.08,2,-999.000,9,   41.11,2,   34.47,2, -68.5041,-149.9994,-999.000,     -999.0,    34.8941,2,     -999.0,9,     -999.0,9,-999.0000,9,-999.0000,9,-999.0000,9,-999.0000,9,-999.0000,9,-999.0000,9,-999.0000,9,-999.0000,9,-999.0000,9,-999.0000,-999.000,   1.3887,     -999.0,     -999.0,9,     -999.0,9,     -999.0,9,      -1.33,2,       0.18,20110312,       0453
320620110219,       P16S,      48,          1,         24,         24,2,20110312,       0324,   -68.5041,  -149.9994,       4360,   500.0,   1.3602,  34.7299,2,  34.7308,2,    188.1,2,   187.7,2,  101.85,2,   32.12,2,    0.00,2,    2.24,2,-999.000,9,-999.000,9,-999.000,9,-999.0000,9,  2258.1,2,  2354.0,2,   7.5788,2,    25.00,-999.000,9,-999.0000,9,-999.000,9,   1.3599,2, -999.00,9,  -999.0,9,  -999.0,-999.000,9, -999.00,9,-999.000,9,   41.04,2,   35.00,2, -68.5041,-149.9994,-999.000,     -999.0,    34.8945,2,     -999.0,9,     -999.0,9,-999.0000,9,-999.0000,9,-999.0000,9,-999.0000,9,-999.0000,9,-999.0000,9,-999.0000,9,-999.0000,9,-999.0000,9,-999.0000,-999.000,   1.3346,     -999.0,     -999.0,9,     -999.0,9,     -999.0,9,     -999.0,9,     -999.0,20110312,       0452
320620110219,       P16S,      48,          1,         23,         23,2,20110312,       0324,   -68.5041,  -149.9994,       4360,   599.2,   1.2655,  34.7288,2,  34.7296,2,    187.8,2,   188.1,2,  104.93,2,   32.15,2,    0.00,2,    2.25,2,   0.163,2,   0.081,2,   0.013,2,   0.1240,2,  -999.0,9,  -999.0,9,-999.0000,9,  -999.00,-999.000,9,-999.0000,9,-999.000,9,   1.2656,2, -999.00,9,  -999.0,9,  -999.0,-999.000,9,   -0.11,2,-999.000,9,   40.83,2,   34.60,2, -68.5041,-149.9994,-999.000,     -999.0,    34.8934,2,     -999.0,9,     -999.0,9,-999.0000,9,-999.0000,9,-999.0000,9,-999.0000,9,-999.0000,9,-999.0000,9,-999.0000,9,-999.0000,9,-999.0000,9,-999.0000,-999.000,   1.2348,     -999.0,     -999.0,9,     -999.0,9,     -999.0,9,      -1.02,2,       0.41,20110312,       0449
320620110219,       P16S,      48,          1,         22,         22,2,20110312,       0324,   -68.5041,  -149.9994,       4360,   699.2,   1.1927,  34.7272,2,  34.7280,2,    188.8,2,   189.6,2,  107.73,2,   32.06,2,    0.00,2,    2.25,2,-999.000,9,-999.000,9,-999.000,9,-999.0000,9,  -999.0,9,  -999.0,9,-999.0000,9,  -999.00,-999.000,9,-999.0000,9,-999.000,9,   1.1929,2, -999.00,9,  -999.0,9,  -999.0,-999.000,9, -999.00,9,-999.000,9,   40.50,2,   34.74,2, -68.5041,-149.9994,-999.000,     -999.0,    34.8918,2,     -999.0,9,     -999.0,9,-999.0000,9,-999.0000,9,-999.0000,9,-999.0000,9,-999.0000,9,-999.0000,9,-999.0000,9,-999.0000,9,-999.0000,9,-999.0000,-999.000,   1.1567,     -999.0,     -999.0,9,     -999.0,9,     -999.0,9,     -999.0,9,     -999.0,20110312,       0447
320620110219,       P16S,      48,          1,         21,         21,2,20110312,       0324,   -68.5041,  -149.9994,       4360,   799.2,   1.1226,  34.7250,2,  34.7261,2,    190.6,2,   191.3,2,  109.76,2,   31.96,2,    0.00,2,    2.24,2,   0.120,2,   0.059,2,   0.011,2,   0.1010,2,  -999.0,5,  2358.1,2,   7.5828,6,    25.00,-999.000,9,-999.0000,9,-999.000,9,   1.1226,2, -999.00,9,  -999.0,9,  -999.0,-999.000,9,   -0.34,2,-999.000,9,   40.36,2,   34.60,2, -68.5041,-149.9994,-999.000,     -999.0,    34.8898,2,     -999.0,9,     -999.0,9,-999.0000,9,-999.0000,9,-999.0000,9,-999.0000,9,-999.0000,9,-999.0000,9,-999.0000,9,-999.0000,9,-999.0000,9,-999.0000,-999.000,   1.0813,     -999.0,     -999.0,9,     -999.0,9,     -999.0,9,      -1.69,2,       0.47,20110312,       0444
320620110219,       P16S,      48,          1,         20,         20,2,20110312,       0324,   -68.5041,  -149.9994,       4360,   899.4,   1.0603,  34.7229,2,  34.7236,2,    193.1,2,   193.0,2,  111.60,2,   31.82,2,    0.00,2,    2.25,2,-999.000,9,-999.000,9,-999.000,9,-999.0000,9,  -999.0,9,  -999.0,9,-999.0000,9,  -999.00,-999.000,9,-999.0000,9,-999.000,9,   1.0607,2, -999.00,9,  -999.0,9,  -999.0,-999.000,9, -999.00,9,-999.000,9,   39.96,2,   34.74,2, -68.5041,-149.9994,-999.000,     -999.0,    34.8873,2,     -999.0,9,     -999.0,9,-999.0000,9,-999.0000,9,-999.0000,9,-999.0000,9,-999.0000,9,-999.0000,9,-999.0000,9,-999.0000,9,-999.0000,9,-999.0000,-999.000,   1.0135,     -999.0,     -999.0,9,     -999.0,9,     -999.0,9,     -999.0,9,     -999.0,20110312,       0442
320620110219,       P16S,      48,          1,         19,         19,2,20110312,       0324,   -68.5041,  -149.9994,       4360,   999.7,   0.9924,  34.7202,2,  34.7220,2,    195.2,2,   195.5,2,  112.63,2,   31.81,2,    0.00,2,    2.25,2,   0.100,2,   0.050,2,   0.008,2,   0.0740,2,  -999.0,9,  -999.0,9,-999.0000,9,  -999.00,-999.000,9,-999.0000,9,-999.000,9,   0.9923,2, -999.00,9,  -999.0,9,  -999.0,-999.000,9,   -0.10,2,-999.000,9,   39.43,2,   34.40,2, -68.5041,-149.9994,-999.000,     -999.0,    34.8857,2,     -999.0,9,     -999.0,9,-999.0000,9,-999.0000,9,-999.0000,9,-999.0000,9,-999.0000,9,-999.0000,9,-999.0000,9,-999.0000,9,-999.0000,9,-999.0000,-999.000,   0.9401,     -999.0,     -999.0,9,     -999.0,9,     -999.0,9,      -1.49,2,       0.25,20110312,       0439
320620110219,       P16S,      48,          1,         18,         18,2,20110312,       0324,   -68.5041,  -149.9994,       4360,  1099.8,   0.9375,  34.7181,2,  34.7195,2,    197.3,2,   197.0,2,  115.04,2,   31.78,2,    0.00,2,    2.24,2,-999.000,9,-999.000,9,-999.000,9,-999.0000,9,  -999.0,9,  -999.0,9,-999.0000,9,  -999.00,-999.000,9,-999.0000,9,-999.000,9,   0.9374,2, -999.00,9,  -999.0,9,  -999.0,-999.000,9,   -0.20,2,-999.000,9,   39.33,2,   34.52,2, -68.5041,-149.9994,-999.000,     -999.0,    34.8832,2,     -999.0,9,     -999.0,9,-999.0000,9,-999.0000,9,-999.0000,9,-999.0000,9,-999.0000,9,-999.0000,9,-999.0000,9,-999.0000,9,-999.0000,9,-999.0000,-999.000,   0.8795,     -999.0,     -999.0,9,     -999.0,9,     -999.0,9,      -1.15,2,       0.43,20110312,       0437
320620110219,       P16S,      48,          1,         17,         17,2,20110312,       0324,   -68.5041,  -149.9994,       4360,  1200.4,   0.8903,  34.7163,2,  34.7169,2,    198.7,2,   198.2,2,  116.91,2,   31.80,2,    0.00,2,    2.24,2,   0.103,2,   0.052,2,   0.008,2,   0.0830,2,  2260.5,2,  2360.4,2,   7.5912,2,    25.00,-999.000,9,-999.0000,9,-999.000,9,   0.8904,2, -999.00,9,  -999.0,9,  -999.0,-999.000,9, -999.00,9,-999.000,9,   39.24,2,   34.25,2, -68.5041,-149.9994,-999.000,     -999.0,    34.8807,2,     -999.0,9,     -999.0,9,-999.0000,9,-999.0000,9,-999.0000,9,-999.0000,9,-999.0000,9,-999.0000,9,-999.0000,9,-999.0000,9,-999.0000,9,-999.0000,-999.000,   0.8264,     -999.0,     -999.0,9,     -999.0,9,     -999.0,9,     -999.0,9,     -999.0,20110312,       0434
320620110219,       P16S,      48,          1,         16,         16,2,20110312,       0324,   -68.5041,  -149.9994,       4360,  1299.2,   0.8411,  34.7143,2,  34.7156,2,    200.4,2,   200.0,2,  118.36,2,   31.79,2,    0.00,2,    2.24,2,-999.000,9,-999.000,9,-999.000,9,-999.0000,9,  -999.0,9,  -999.0,9,-999.0000,9,  -999.00,-999.000,9,-999.0000,9,-999.000,9,   0.8410,2, -999.00,9,  -999.0,9,  -999.0,-999.000,9, -999.00,9,-999.000,9,   39.37,2,   34.36,2, -68.5041,-149.9994,-999.000,     -999.0,    34.8793,2,     -999.0,9,     -999.0,9,-999.0000,9,-999.0000,9,-999.0000,9,-999.0000,9,-999.0000,9,-999.0000,9,-999.0000,9,-999.0000,9,-999.0000,9,-999.0000,-999.000,   0.7714,     -999.0,     -999.0,9,     -999.0,9,     -999.0,9,     -999.0,9,     -999.0,20110312,       0432
320620110219,       P16S,      48,          1,         15,         15,2,20110312,       0324,   -68.5041,  -149.9994,       4360,  1400.6,   0.7971,  34.7124,2,  34.7131,2,    201.3,2,   201.3,2,  119.34,2,   31.71,2,    0.00,2,    2.25,2,   0.103,2,   0.052,2,   0.009,2,   0.0660,2,  -999.0,9,  -999.0,9,-999.0000,9,  -999.00,-999.000,9,-999.0000,9,-999.000,9,   0.7966,2, -999.00,9,  -999.0,9,  -999.0,-999.000,9,   -0.08,2,-999.000,9,   39.48,2,   34.47,2, -68.5041,-149.9994,-999.000,     -999.0,    34.8767,2,     -999.0,9,     -999.0,9,-999.0000,9,-999.0000,9,-999.0000,9,-999.0000,9,-999.0000,9,-999.0000,9,-999.0000,9,-999.0000,9,-999.0000,9,-999.0000,-999.000,   0.7212,     -999.0,     -999.0,9,     -999.0,9,     -999.0,9,      -2.16,2,       0.57,20110312,       0429
320620110219,       P16S,      48,          1,         14,         14,2,20110312,       0324,   -68.5041,  -149.9994,       4360,  1498.7,   0.7583,  34.7109,2,  34.7129,2,    202.1,2,   202.1,2,  120.97,2,   31.61,2,    0.00,2,    2.24,2,-999.000,9,-999.000,9,-999.000,9,-999.0000,9,  -999.0,9,  -999.0,9,-999.0000,9,  -999.00,-999.000,9,-999.0000,9,-999.000,9,   0.7587,2, -999.00,9,  -999.0,9,  -999.0,-999.000,9, -999.00,9,-999.000,9,   39.75,2,   34.28,2, -68.5041,-149.9994,-999.000,     -999.0,    34.8766,2,     -999.0,9,     -999.0,9,-999.0000,9,-999.0000,9,-999.0000,9,-999.0000,9,-999.0000,9,-999.0000,9,-999.0000,9,-999.0000,9,-999.0000,9,-999.0000,-999.000,   0.6763,     -999.0,     -999.0,9,     -999.0,9,     -999.0,9,     -999.0,9,     -999.0,20110312,       0426