BOTTLE,20220813CCHSIOAMB
EXPOCODE,SECT_ID,STNNBR,CASTNO,SAMPNO,BTLNBR,BTLNBR_FLAG_W,DATE,TIME,LATITUDE,LONGITUDE,DEPTH,CTDPRS,CTDTMP,CTDSAL,CTDSAL_FLAG_W,SALNTY,SALNTY_FLAG_W,CTDOXY,CTDOXY_FLAG_W,OXYGEN,OXYGEN_FLAG_W,SILCAT,SILCAT_FLAG_W,NITRAT,NITRAT_FLAG_W,NITRIT,NITRIT_FLAG_W,PHSPHT,PHSPHT_FLAG_W,CFC-11,CFC-11_FLAG_W,CFC-12,CFC-12_FLAG_W,CFC113,CFC113_FLAG_W,SF6,SF6_FLAG_W,TCARBN,TCARBN_FLAG_W,ALKALI,ALKALI_FLAG_W,PH_TOT,PH_TOT_FLAG_W,PH_TMP,TRITUM,TRITUM_FLAG_W,HELIUM,HELIUM_FLAG_W,DELHE3,DELHE3_FLAG_W,REFTMP,REFTMP_FLAG_W,DELC13,DELC13_FLAG_W,DELC14,DELC14_FLAG_W,C14ERR,NEON,NEON_FLAG_W,DELO18,DELO18_FLAG_W,POC,POC_FLAG_W,DOC,DOC_FLAG_W,TDN,TDN_FLAG_W,BTL_LAT,BTL_LON,TRITER,NEONER,SALTREF,SALTREF_FLAG_W,PIGMENTS,PIGMENTS_FLAG_W,LAB_DEN,LAB_DEN_FLAG_W,CDOM325,CDOM325_FLAG_W,CDOM340,CDOM340_FLAG_W,CDOM380,CDOM380_FLAG_W,CDOM412,CDOM412_FLAG_W,CDOM443,CDOM443_FLAG_W,CDOM490,CDOM490_FLAG_W,CDOM555,CDOM555_FLAG_W,CDOMSL,CDOMSL_FLAG_W,CDOMSN,CDOMSN_FLAG_W,HELIER,DELHER,THETA,LDEO_SAMPNO,ABSORBTION,ABSORBTION_FLAG_W,IMAGE_COUNT,IMAGE_COUNT_FLAG_W,CYTO_COUNT,CYTO_COUNT_FLAG_W,DELD,DELD_FLAG_W,DELDERR,BTL_DATE,BTL_TIME
,,,,,,,,,,,METERS,DBAR,ITS-90,PSS-78,,PSS-78,,UMOL/KG,,UMOL/KG,,UMOL/KG,,UMOL/KG,,UMOL/KG,,UMOL/KG,,PMOL/KG,,PMOL/KG,,PMOL/KG,,FMOL/KG,,UMOL/KG,,UMOL/KG,,,,DEG C,TU,,NMOL/KG,,PERCNT,,DEG C,,/MILLE,,/MILLE,,/MILLE,NMOL/KG,,/MILLE,,UG/KG,,UMOL/KG,,UMOL/KG,,,,TU,NMOL/KG,G/KG,,,,,,1/M,,1/M,,1/M,,1/M,,1/M,,1/M,,1/M,,1/NM,,1/NM,,NMOL/KG,PERCNT,DEG C,,,,,,,,/MILLE,,/MILLE,,
320620110219,       S04P,      34,          1,         36,         36,2,20110307,       1229,   -66.9998,  -163.9443,       3870,     3.2,  -0.8044,  33.5848,2,  33.5843,2,    341.4,3,   346.3,2,   55.44,2,   22.07,2,    0.09,2,    1.55,2,   5.995,2,   3.313,2,   0.580,2,   2.4390,2,  2144.9,2,  2277.0,6,   7.7164,2,    25.00,-999.000,9,-999.0000,9,-999.000,9,  -0.8048,2, -999.00,9,  -999.0,9,  -999.0,-999.000,9, -999.00,9,-999.000,9,   45.52,2,   26.37,2, -66.9998,-163.9443,-999.000,     -999.0,    33.7426,2,     -999.0,9,     -999.0,9,-999.0000,9,-999.0000,9,-999.0000,9,-999.0000,9,-999.0000,9,-999.0000,9,-999.0000,9,-999.0000,9,-999.0000,9,-999.0000,-999.000,  -0.8045,     -999.0,     -999.0,9,     -999.0,9,     -999.0,9,     -999.0,9,     -999.0,20110307,       1413
320620110219,       S04P,      34,          1,         35,         35,2,20110307,       1229,   -66.9998,  -163.9443,       3870,    34.6,  -0.7739,  33.5879,2,  33.5882,2,    345.5,2,   345.7,2,   55.42,2,   22.10,2,    0.08,2,    1.56,2,   5.969,2,   3.325,2,   0.576,2,   2.2110,2,  2142.3,2,  2277.9,2,   7.7164,6,    25.00,-999.000,9,-999.0000,9,-999.000,9,  -0.7736,2, -999.00,9,  -999.0,9,  -999.0,-999.000,9, -999.00,9,-999.000,9,   45.41,2,   26.51,2, -66.9998,-163.9443,-999.000,     -999.0,    33.7466,2,     -999.0,9,     -999.0,9,-999.0000,9,-999.0000,9,-999.0000,9,-999.0000,9,-999.0000,9,-999.0000,9,-999.0000,9,-999.0000,9,-999.0000,9,-999.0000,-999.000,  -0.7748,     -999.0,     -999.0,9,     -999.0,9,     -999.0,9,     -999.0,9,     -999.0,20110307,       1412
320620110219,       S04P,      34,          1,         34,         34,2,20110307,       1229,   -66.9998,  -163.9443,       3870,    59.9,  -1.6930,  34.1572,2,  34.1477,2,    292.7,2,   293.5,2,   64.19,2,   28.57,2,    0.17,2,    1.99,2,   4.582,2,   2.539,2,   0.432,2,   1.7210,2,  2208.4,6,  2308.3,2,   7.6213,2,    25.00,-999.000,9,-999.0000,9,-999.000,9,  -1.6902,2, -999.00,9,  -999.0,9,  -999.0,-999.000,9, -999.00,9,-999.000,9,   45.20,2,   32.73,2, -66.9998,-163.9443,-999.000,     -999.0,    34.3087,2,     -999.0,9,     -999.0,9,-999.0000,9,-999.0000,9,-999.0000,9,-999.0000,9,-999.0000,9,-999.0000,9,-999.0000,9,-999.0000,9,-999.0000,9,-999.0000,-999.000,  -1.6942,     -999.0,     -999.0,9,     -999.0,9,     -999.0,9,     -999.0,9,     -999.0,20110307,       1410
320620110219,       S04P,      34,          1,         33,         33,2,20110307,       1229,   -66.9998,  -163.9443,       3870,    86.7,  -1.5556,  34.2655,2,  34.2708,2,    277.5,2,   277.7,2,   66.58,2,   30.12,2,    0.05,2,    2.05,2,   4.075,2,   2.254,2,   0.374,2,   1.4640,2,  2218.4,2,  2312.5,2,   7.6056,2,    25.00,-999.000,9,-999.0000,9,-999.000,9,  -1.5589,2, -999.00,9,  -999.0,9,  -999.0,-999.000,9, -999.00,9,-999.000,9,   41.85,2,   33.07,2, -66.9998,-163.9443,-999.000,     -999.0,    34.4324,2,     -999.0,9,     -999.0,9,-999.0000,9,-999.0000,9,-999.0000,9,-999.0000,9,-999.0000,9,-999.0000,9,-999.0000,9,-999.0000,9,-999.0000,9,-999.0000,-999.000,  -1.5575,     -999.0,     -999.0,9,     -999.0,9,     -999.0,9,     -999.0,9,     -999.0,20110307,       1409
320620110219,       S04P,      34,          1,         32,         32,2,20110307,       1229,   -66.9998,  -163.9443,       3870,   109.3,  -0.1031,  34.4546,2,  34.4427,2,    238.6,2,   233.0,2,   75.49,2,   31.84,2,    0.03,2,    2.16,2,   2.625,2,   1.441,2,   0.244,2,   0.7340,2,  2236.3,2,  2327.9,2,   7.5801,2,    25.00,-999.000,9,-999.0000,9,-999.000,9,  -0.1076,2, -999.00,9,  -999.0,9,  -999.0,-999.000,9, -999.00,9,-999.000,9,   41.13,2,   34.58,2, -66.9998,-163.9443,-999.000,     -999.0,    34.6051,2,     -999.0,9,     -999.0,9,-999.0000,9,-999.0000,9,-999.0000,9,-999.0000,9,-999.0000,9,-999.0000,9,-999.0000,9,-999.0000,9,-999.0000,9,-999.0000,-999.000,  -0.1069,     -999.0,     -999.0,9,     -999.0,9,     -999.0,9,     -999.0,9,     -999.0,20110307,       1407
320620110219,       S04P,      34,          1,         31,         31,2,20110307,       1229,   -66.9998,  -163.9443,       3870,   133.9,   0.5683,  34.5442,2,  34.5432,2,    208.8,2,   208.7,2,   81.99,2,   32.59,2,    0.02,2,    2.21,2,-999.000,9,-999.000,9,-999.000,9,-999.0000,9,  2246.4,2,  2331.9,2,   7.5679,2,    25.00,-999.000,9,-999.0000,9,-999.000,9,   0.5754,2, -999.00,9,  -999.0,9,  -999.0,-999.000,9, -999.00,9,-999.000,9,   41.55,2,   35.10,2, -66.9998,-163.9444,-999.000,     -999.0,    34.7061,2,     -999.0,9,     -999.0,9,-999.0000,9,-999.0000,9,-999.0000,9,-999.0000,9,-999.0000,9,-999.0000,9,-999.0000,9,-999.0000,9,-999.0000,9,-999.0000,-999.000,   0.5628,     -999.0,     -999.0,9,     -999.0,9,     -999.0,9,     -999.0,9,     -999.0,20110307,       1405
320620110219,       S04P,      34,          1,         30,         30,2,20110307,       1229,   -66.9998,  -163.9443,       3870,   164.1,   0.9723,  34.6076,2,  34.6015,2,    198.5,2,   197.6,2,   85.84,2,   32.96,2,    0.02,2,    2.23,2,   1.253,2,   0.666,2,   0.099,2,   0.3710,2,  2254.5,2,  2336.2,2,   7.5667,2,    25.00,-999.000,9,-999.0000,9,-999.000,9,   0.9734,2, -999.00,9,  -999.0,9,  -999.0,-999.000,9, -999.00,9,-999.000,9,   41.60,2,   35.94,2, -66.9998,-163.9443,-999.000,     -999.0,    34.7646,2,     -999.0,9,     -999.0,9,-999.0000,9,-999.0000,9,-999.0000,9,-999.0000,9,-999.0000,9,-999.0000,9,-999.0000,9,-999.0000,9,-999.0000,9,-999.0000,-999.000,   0.9650,     -999.0,     -999.0,9,     -999.0,9,     -999.0,9,     -999.0,9,     -999.0,20110307,       1404
320620110219,       S04P,      34,          1,         29,         29,2,20110307,       1229,   -66.9998,  -163.9443,       3870,   215.8,   1.3641,  34.6795,2,  34.6833,2,    185.9,2,   184.9,2,   91.70,2,   33.03,2,    0.01,2,    2.23,2,-999.000,9,-999.000,9,-999.000,9,-999.0000,9,  2259.6,2,  2343.6,2,   7.5669,2,    25.00,-999.000,9,-999.0000,9,-999.000,9,   1.3696,2, -999.00,9,  -999.0,9,  -999.0,-999.000,9, -999.00,9,-999.000,9,   41.21,2,   35.93,2, -66.9998,-163.9443,-999.000,     -999.0,    34.8468,2,     -999.0,9,     -999.0,9,-999.0000,9,-999.0000,9,-999.0000,9,-999.0000,9,-999.0000,9,-999.0000,9,-999.0000,9,-999.0000,9,-999.0000,9,-999.0000,-999.000,   1.3536,     -999.0,     -999.0,9,     -999.0,9,     -999.0,9,     -999.0,9,     -999.0,20110307,       1402
320620110219,       S04P,      34,          1,         28,         28,2,20110307,       1229,   -66.9998,  -163.9443,       3870,   264.6,   1.4908,  34.7128,2,  34.7127,2,    181.8,2,   182.2,2,   94.62,2,   32.83,2,    0.00,2,    2.22,2,   0.387,2,   0.185,2,   0.025,2,   0.1410,2,  2261.2,2,  2346.0,2,   7.5686,2,    25.00,-999.000,9,-999.0000,9,-999.000,9,   1.4908,2, -999.00,9,  -999.0,9,  -999.0,-999.000,9, -999.00,9,-999.000,9,   40.61,2,   35.20,2, -66.9998,-163.9443,-999.000,     -999.0,    34.8764,2,     -999.0,9,     -999.0,9,-999.0000,9,-999.0000,9,-999.0000,9,-999.0000,9,-999.0000,9,-999.0000,9,-999.0000,9,-999.0000,9,-999.0000,9,-999.0000,-999.000,   1.4775,     -999.0,     -999.0,9,     -999.0,9,     -999.0,9,     -999.0,9,     -999.0,20110307,       1400
320620110219,       S04P,      34,          1,         27,         27,2,20110307,       1229,   -66.9998,  -163.9443,       3870,   315.5,   1.4776,  34.7254,2,  34.7245,2,    182.2,2,   182.7,2,   97.76,2,   32.70,2,    0.00,2,    2.22,2,-999.000,9,-999.000,9,-999.000,9,-999.0000,9,  2261.6,2,  2348.2,2,   7.5730,2,    25.00,-999.000,9,-999.0000,9,-999.000,9,   1.4777,2, -999.00,9,  -999.0,9,  -999.0,-999.000,9, -999.00,9,-999.000,9,   41.48,2,   35.33,2, -66.9998,-163.9443,-999.000,     -999.0,    34.8882,2,     -999.0,9,     -999.0,9,-999.0000,9,-999.0000,9,-999.0000,9,-999.0000,9,-999.0000,9,-999.0000,9,-999.0000,9,-999.0000,9,-999.0000,9,-999.0000,-999.000,   1.4617,     -999.0,     -999.0,9,     -999.0,9,     -999.0,9,     -999.0,9,     -999.0,20110307,       1358
320620110219,       S04P,      34,          1,         26,         26,2,20110307,       1229,   -66.9998,  -163.9443,       3870,   364.2,   1.4315,  34.7287,2,  34.7286,2,    183.1,2,   183.5,2,   99.88,2,   32.67,2,    0.00,2,    2.22,2,   0.247,2,   0.115,2,   0.012,2,   0.0970,2,  2261.5,2,  2349.9,2,   7.5739,2,    25.00,-999.000,9,-999.0000,9,-999.000,9,   1.4314,2, -999.00,9,  -999.0,9,  -999.0,-999.000,9, -999.00,9,-999.000,9,   41.04,2,   35.27,2, -66.9998,-163.9443,-999.000,     -999.0,    34.8924,2,     -999.0,9,     -999.0,9,-999.0000,9,-999.0000,9,-999.0000,9,-999.0000,9,-999.0000,9,-999.0000,9,-999.0000,9,-999.0000,9,-999.0000,9,-999.0000,-999.000,   1.4131,     -999.0,     -999.0,9,     -999.0,9,     -999.0,9,     -999.0,9,     -999.0,20110307,       1357
320620110219,       S04P,      34,          1,         25,         25,2,20110307,       1229,   -66.9998,  -163.9443,       3870,   415.2,   1.3901,  34.7298,2,  34.7294,2,    184.0,2,   184.7,2,  102.02,2,   32.66,2,    0.00,2,    2.21,2,-999.000,9,-999.000,9,-999.000,9,-999.0000,9,  2263.5,2,  2350.2,2,   7.5734,2,    25.00,-999.000,9,-999.0000,9,-999.000,9,   1.3901,2, -999.00,9,  -999.0,9,  -999.0,-999.000,9, -999.00,9,-999.000,9,   40.55,2,   35.27,2, -66.9998,-163.9443,-999.000,     -999.0,    34.8932,2,     -999.0,9,     -999.0,9,-999.0000,9,-999.0000,9,-999.0000,9,-999.0000,9,-999.0000,9,-999.0000,9,-999.0000,9,-999.0000,9,-999.0000,9,-999.0000,-999.000,   1.3691,     -999.0,     -999.0,9,     -999.0,9,     -999.0,9,     -999.0,9,     -999.0,20110307,       1355
320620110219,       S04P,      34,          1,         24,         24,2,20110307,       1229,   -66.9998,  -163.9443,       3870,   464.0,   1.3496,  34.7298,2,  34.7298,2,    184.8,2,   185.5,2,  103.75,2,   32.70,2,    0.00,2,    2.22,2,   0.172,2,   0.080,2,   0.009,2,   0.0890,2,  2263.5,2,  2350.7,2,   7.5768,6,    25.00,-999.000,9,-999.0000,9,-999.000,9,   1.3499,2, -999.00,9,  -999.0,9,  -999.0,-999.000,9, -999.00,9,-999.000,9,   40.56,2,   35.41,2, -66.9998,-163.9443,-999.000,     -999.0,    34.8935,2,     -999.0,9,     -999.0,9,-999.0000,9,-999.0000,9,-999.0000,9,-999.0000,9,-999.0000,9,-999.0000,9,-999.0000,9,-999.0000,9,-999.0000,9,-999.0000,-999.000,   1.3261,     -999.0,     -999.0,9,     -999.0,9,     -999.0,9,     -999.0,9,     -999.0,20110307,       1353
320620110219,       S04P,      34,          1,         23,         23,2,20110307,       1229,   -66.9998,  -163.9443,       3870,   534.9,   1.2875,  34.7293,2,  34.7292,2,    186.5,2,   186.7,2,  105.58,2,   32.75,2,    0.00,2,    2.21,2,-999.000,9,-999.000,9,-999.000,9,-999.0000,9,  2262.8,6,  2352.7,2,   7.5802,2,    25.00,-999.000,9,-999.0000,9,-999.000,9,   1.2876,2, -999.00,9,  -999.0,9,  -999.0,-999.000,9, -999.00,9,-999.000,9,   39.97,2,   35.36,2, -66.9998,-163.9443,-999.000,     -999.0,    34.8930,2,     -999.0,9,     -999.0,9,-999.0000,9,-999.0000,9,-999.0000,9,-999.0000,9,-999.0000,9,-999.0000,9,-999.0000,9,-999.0000,9,-999.0000,9,-999.0000,-999.000,   1.2603,     -999.0,     -999.0,9,     -999.0,9,     -999.0,9,     -999.0,9,     -999.0,20110307,       1351
320620110219,       S04P,      34,          1,         22,         22,2,20110307,       1229,   -66.9998,  -163.9443,       3870,   636.1,   1.2171,  34.7281,2,  34.7272,2,    188.1,2,   188.0,2,  107.57,2,   32.67,2,    0.00,2,    2.22,2,   0.120,2,   0.060,2,   0.009,2,   0.0810,2,  -999.0,9,  -999.0,9,-999.0000,9,  -999.00,-999.000,9,-999.0000,9,-999.000,9,   1.2169,2, -999.00,9,  -999.0,9,  -999.0,-999.000,9, -999.00,9,-999.000,9,   39.92,2,   35.18,2, -66.9998,-163.9443,-999.000,     -999.0,    34.8910,2,     -999.0,9,     -999.0,9,-999.0000,9,-999.0000,9,-999.0000,9,-999.0000,9,-999.0000,9,-999.0000,9,-999.0000,9,-999.0000,9,-999.0000,9,-999.0000,-999.000,   1.1846,     -999.0,     -999.0,9,     -999.0,9,     -999.0,9,     -999.0,9,     -999.0,20110307,       1348
320620110219,       S04P,      34,          1,         21,         21,2,20110307,       1229,   -66.9998,  -163.9443,       3870,   735.8,   1.1478,  34.7261,2,  34.7257,2,    190.0,2,   190.0,2,  109.72,2,   32.45,2,    0.00,2,    2.21,2,-999.000,9,-999.000,9,-999.000,9,-999.0000,9,  2263.9,2,  2355.1,6,   7.5865,2,    25.00,-999.000,9,-999.0000,9,-999.000,9,   1.1482,2, -999.00,9,  -999.0,9,  -999.0,-999.000,9, -999.00,9,-999.000,9,   40.81,2,   35.23,2, -66.9998,-163.9443,-999.000,     -999.0,    34.8894,2,     -999.0,9,     -999.0,9,-999.0000,9,-999.0000,9,-999.0000,9,-999.0000,9,-999.0000,9,-999.0000,9,-999.0000,9,-999.0000,9,-999.0000,9,-999.0000,-999.000,   1.1100,     -999.0,     -999.0,9,     -999.0,9,     -999.0,9,     -999.0,9,     -999.0,20110307,       1346
320620110219,       S04P,      34,          1,         20,         20,2,20110307,       1229,   -66.9998,  -163.9443,       3870,   833.2,   1.0832,  34.7235,2,  34.7235,2,    192.3,2,   192.5,2,  111.39,2,   32.36,2,    0.00,2,    2.21,2,   0.094,2,   0.048,2,   0.004,2,   0.0420,2,  -999.0,9,  -999.0,9,-999.0000,9,  -999.00,-999.000,9,-999.0000,9,-999.000,9,   1.0828,2, -999.00,9,  -999.0,9,  -999.0,-999.000,9, -999.00,9,-999.000,9,   40.67,2,   35.00,2, -66.9998,-163.9443,-999.000,     -999.0,    34.8872,2,     -999.0,9,     -999.0,9,-999.0000,9,-999.0000,9,-999.0000,9,-999.0000,9,-999.0000,9,-999.0000,9,-999.0000,9,-999.0000,9,-999.0000,9,-999.0000,-999.000,   1.0401,     -999.0,     -999.0,9,     -999.0,9,     -999.0,9,     -999.0,9,     -999.0,20110307,       1343
320620110219,       S04P,      34,          1,         19,         19,2,20110307,       1229,   -66.9998,  -163.9443,       3870,   933.8,   1.0101,  34.7210,2,  34.7208,2,    194.4,2,   194.8,2,  113.38,2,   32.33,2,    0.00,2,    2.21,2,-999.000,9,-999.000,9,-999.000,9,-999.0000,9,  2263.1,2,  2356.0,2,   7.5909,2,    25.00,-999.000,9,-999.0000,9,-999.000,9,   1.0102,2, -999.00,9,  -999.0,9,  -999.0,-999.000,9, -999.00,9,-999.000,9,   40.50,2,   34.81,2, -66.9998,-163.9443,-999.000,     -999.0,    34.8845,2,     -999.0,9,     -999.0,9,-999.0000,9,-999.0000,9,-999.0000,9,-999.0000,9,-999.0000,9,-999.0000,9,-999.0000,9,-999.0000,9,-999.0000,9,-999.0000,-999.000,   0.9616,     -999.0,     -999.0,9,     -999.0,9,     -999.0,9,     -999.0,9,     -999.0,20110307,       1340
320620110219,       S04P,      34,          1,         18,         18,2,20110307,       1229,   -66.9998,  -163.9443,       3870,  1033.4,   0.9561,  34.7187,2,  34.7194,2,    197.0,2,   196.5,2,  116.48,2,   32.21,2,    0.00,2,    2.20,2,   0.088,2,   0.044,2,   0.005,2,   0.0510,2,  -999.0,9,  -999.0,9,-999.0000,9,  -999.00,-999.000,9,-999.0000,9,-999.000,9,   0.9562,2, -999.00,9,  -999.0,9,  -999.0,-999.000,9, -999.00,9,-999.000,9,   40.69,2,   34.76,2, -66.9998,-163.9443,-999.000,     -999.0,    34.8831,2,     -999.0,9,     -999.0,9,-999.0000,9,-999.0000,9,-999.0000,9,-999.0000,9,-999.0000,9,-999.0000,9,-999.0000,9,-999.0000,9,-999.0000,9,-999.0000,-999.000,   0.9020,     -999.0,     -999.0,9,     -999.0,9,     -999.0,9,     -999.0,9,     -999.0,20110307,       1338
320620110219,       S04P,      34,          1,         17,         17,2,20110307,       1229,   -66.9998,  -163.9443,       3870,  1134.5,   0.8982,  34.7163,2,  34.7168,2,    198.1,2,   198.4,2,  117.49,2,   32.21,2,    0.00,2,    2.21,2,-999.000,9,-999.000,9,-999.000,9,-999.0000,9,  -999.0,9,  -999.0,9,-999.0000,9,  -999.00,-999.000,9,-999.0000,9,-999.000,9,   0.8986,2, -999.00,9,  -999.0,9,  -999.0,-999.000,9, -999.00,9,-999.000,9,   39.96,2,   34.83,2, -66.9998,-163.9443,-999.000,     -999.0,    34.8805,2,     -999.0,9,     -999.0,9,-999.0000,9,-999.0000,9,-999.0000,9,-999.0000,9,-999.0000,9,-999.0000,9,-999.0000,9,-999.0000,9,-999.0000,9,-999.0000,-999.000,   0.8384,     -999.0,     -999.0,9,     -999.0,9,     -999.0,9,     -999.0,9,     -999.0,20110307,       1335
320620110219,       S04P,      34,          1,         16,         16,2,20110307,       1229,   -66.9998,  -163.9443,       3870,  1233.6,   0.8452,  34.7142,2,  34.7143,2,    199.6,2,   200.2,2,  118.98,2,   32.27,2,    0.00,2,    2.21,2,   0.085,2,   0.041,2,   0.005,2,   0.0420,2,  2263.1,2,  2357.7,2,   7.5930,2,    25.00,-999.000,9,-999.0000,9,-999.000,9,   0.8452,2, -999.00,9,  -999.0,9,  -999.0,-999.000,9, -999.00,9,-999.000,9,   40.07,2,   34.88,2, -66.9998,-163.9443,-999.000,     -999.0,    34.8780,2,     -999.0,9,     -999.0,9,-999.0000,9,-999.0000,9,-999.0000,9,-999.0000,9,-999.0000,9,-999.0000,9,-999.0000,9,-999.0000,9,-999.0000,9,-999.0000,-999.000,   0.7796,     -999.0,     -999.0,9,     -999.0,9,     -999.0,9,     -999.0,9,     -999.0,20110307,       1333
320620110219,       S04P,      34,          1,         15,         15,2,20110307,       1229,   -66.9998,  -163.9443,       3870,  1334.0,   0.7983,  34.7126,2,  34.7127,2,    201.2,2,   201.6,2,  120.25,2,   32.25,2,    0.00,2,    2.22,2,-999.000,9,-999.000,9,-999.000,9,-999.0000,9,  -999.0,9,  -999.0,9,-999.0000,9,  -999.00,-999.000,9,-999.0000,9,-999.000,9,   0.7983,2, -999.00,9,  -999.0,9,  -999.0,-999.000,9, -999.00,9,-999.000,9,   40.37,2,   34.71,2, -66.9998,-163.9443,-999.000,     -999.0,    34.8764,2,     -999.0,9,     -999.0,9,-999.0000,9,-999.0000,9,-999.0000,9,-999.0000,9,-999.0000,9,-999.0000,9,-999.0000,9,-999.0000,9,-999.0000,9,-999.0000,-999.000,   0.7268,     -999.0,     -999.0,9,     -999.0,9,     -999.0,9,     -999.0,9,     -999.0,20110307,       1330
320620110219,       S04P,      34,          1,         14,         14,2,20110307,       1229,   -66.9998,  -163.9443,       3870,  1434.8,   0.7565,  34.7107,2,  34.7105,2,    202.1,2,   202.9,2,  121.63,2,   32.17,2,    0.00,2,    2.22,2,   0.087,2,   0.043,2,   0.005,2,   0.0550,2,  2262.1,2,  2358.3,2,   7.5962,2,    25.00,-999.000,9,-999.0000,9,-999.000,9,   0.7570,2, -999.00,9,  -999.0,9,  -999.0,-999.000,9, -999.00,9,-999.000,9,   40.64,2,   34.34,2, -66.9998,-163.9443,-999.000,     -999.0,    34.8742,2,     -999.0,9,     -999.0,9,-999.0000,9,-999.0000,9,-999.0000,9,-999.0000,9,-999.0000,9,-999.0000,9,-999.0000,9,-999.0000,9,-999.0000,9,-999.0000,-999.000,   0.6788,     -999.0,     -999.0,9,     -999.0,9,     -999.0,9,     -999.0,9,     -999.0,20110307,       1328