BOTTLE,20220813CCHSIOAMB
EXPOCODE,SECT_ID,STNNBR,CASTNO,SAMPNO,BTLNBR,BTLNBR_FLAG_W,DATE,TIME,LATITUDE,LONGITUDE,DEPTH,CTDPRS,CTDTMP,CTDSAL,CTDSAL_FLAG_W,SALNTY,SALNTY_FLAG_W,CTDOXY,CTDOXY_FLAG_W,OXYGEN,OXYGEN_FLAG_W,SILCAT,SILCAT_FLAG_W,NITRAT,NITRAT_FLAG_W,NITRIT,NITRIT_FLAG_W,PHSPHT,PHSPHT_FLAG_W,CFC-11,CFC-11_FLAG_W,CFC-12,CFC-12_FLAG_W,CFC113,CFC113_FLAG_W,SF6,SF6_FLAG_W,TCARBN,TCARBN_FLAG_W,ALKALI,ALKALI_FLAG_W,PH_TOT,PH_TOT_FLAG_W,PH_TMP,TRITUM,TRITUM_FLAG_W,HELIUM,HELIUM_FLAG_W,DELHE3,DELHE3_FLAG_W,REFTMP,REFTMP_FLAG_W,DELC13,DELC13_FLAG_W,DELC14,DELC14_FLAG_W,C14ERR,NEON,NEON_FLAG_W,DELO18,DELO18_FLAG_W,POC,POC_FLAG_W,DOC,DOC_FLAG_W,TDN,TDN_FLAG_W,BTL_LAT,BTL_LON,TRITER,NEONER,SALTREF,SALTREF_FLAG_W,PIGMENTS,PIGMENTS_FLAG_W,LAB_DEN,LAB_DEN_FLAG_W,CDOM325,CDOM325_FLAG_W,CDOM340,CDOM340_FLAG_W,CDOM380,CDOM380_FLAG_W,CDOM412,CDOM412_FLAG_W,CDOM443,CDOM443_FLAG_W,CDOM490,CDOM490_FLAG_W,CDOM555,CDOM555_FLAG_W,CDOMSL,CDOMSL_FLAG_W,CDOMSN,CDOMSN_FLAG_W,HELIER,DELHER,THETA,LDEO_SAMPNO,ABSORBTION,ABSORBTION_FLAG_W,IMAGE_COUNT,IMAGE_COUNT_FLAG_W,CYTO_COUNT,CYTO_COUNT_FLAG_W,DELD,DELD_FLAG_W,DELDERR,BTL_DATE,BTL_TIME
,,,,,,,,,,,METERS,DBAR,ITS-90,PSS-78,,PSS-78,,UMOL/KG,,UMOL/KG,,UMOL/KG,,UMOL/KG,,UMOL/KG,,UMOL/KG,,PMOL/KG,,PMOL/KG,,PMOL/KG,,FMOL/KG,,UMOL/KG,,UMOL/KG,,,,DEG C,TU,,NMOL/KG,,PERCNT,,DEG C,,/MILLE,,/MILLE,,/MILLE,NMOL/KG,,/MILLE,,UG/KG,,UMOL/KG,,UMOL/KG,,,,TU,NMOL/KG,G/KG,,,,,,1/M,,1/M,,1/M,,1/M,,1/M,,1/M,,1/M,,1/NM,,1/NM,,NMOL/KG,PERCNT,DEG C,,,,,,,,/MILLE,,/MILLE,,
320620110219,       S04P,       7,          1,         36,         36,2,20110223,       1524,   -70.0966,   169.1255,       2657,     4.0,  -1.5481,  34.0463,2,  34.0032,3,    345.9,3,   344.3,2,   67.42,2,   29.17,2,    0.13,2,    1.89,2,-999.000,9,-999.000,9,-999.000,9,-999.0000,9,  2191.3,6,  2300.5,2,-999.0000,5,    25.00,-999.000,9,-999.0000,9,-999.000,9,  -1.5477,2, -999.00,9,  -999.0,9,  -999.0,-999.000,9,   -0.30,2,-999.000,9, -999.00,9, -999.00,9, -70.0966, 169.1255,-999.000,     -999.0,    34.1635,3,     -999.0,9,     -999.0,9,-999.0000,9,-999.0000,9,-999.0000,9,-999.0000,9,-999.0000,9,-999.0000,9,-999.0000,9,-999.0000,9,-999.0000,9,-999.0000,-999.000,  -1.5482,     -999.0,     -999.0,9,     -999.0,9,     -999.0,9,      -3.31,2,       0.09,20110223,       1701
320620110219,       S04P,       7,          1,         35,         35,2,20110223,       1524,   -70.0966,   169.1255,       2657,    34.8,  -1.5747,  34.0541,2,  34.0580,2,    343.8,2,   342.1,2,   67.34,2,   28.96,2,    0.13,2,    1.93,2,-999.000,9,-999.000,9,-999.000,9,-999.0000,9,  2194.9,2,  2300.5,2,-999.0000,5,    25.00,-999.000,9,-999.0000,9,-999.000,9,  -1.5743,2, -999.00,9,  -999.0,9,  -999.0,-999.000,9,   -0.30,2,-999.000,9, -999.00,9, -999.00,9, -70.0966, 169.1255,-999.000,     -999.0,    34.2186,2,     -999.0,9,     -999.0,9,-999.0000,9,-999.0000,9,-999.0000,9,-999.0000,9,-999.0000,9,-999.0000,9,-999.0000,9,-999.0000,9,-999.0000,9,-999.0000,-999.000,  -1.5754,     -999.0,     -999.0,9,     -999.0,9,     -999.0,9,      -3.34,2,       0.05,20110223,       1659
320620110219,       S04P,       7,          1,         34,         34,2,20110223,       1524,   -70.0966,   169.1255,       2657,    59.2,  -1.3837,  34.1314,2,  34.1294,2,    344.3,2,   345.1,2,   66.93,2,   29.01,2,    0.16,2,    1.87,2,-999.000,9,-999.000,9,-999.000,9,-999.0000,9,  2199.4,2,  2305.3,6,-999.0000,5,    25.00,-999.000,9,-999.0000,9,-999.000,9,  -1.3840,2, -999.00,9,  -999.0,9,  -999.0,-999.000,9, -999.00,9,-999.000,9, -999.00,9, -999.00,9, -70.0966, 169.1255,-999.000,     -999.0,    34.2903,2,     -999.0,9,     -999.0,9,-999.0000,9,-999.0000,9,-999.0000,9,-999.0000,9,-999.0000,9,-999.0000,9,-999.0000,9,-999.0000,9,-999.0000,9,-999.0000,-999.000,  -1.3850,     -999.0,     -999.0,9,     -999.0,9,     -999.0,9,     -999.0,9,     -999.0,20110223,       1657
320620110219,       S04P,       7,          1,         33,         33,2,20110223,       1524,   -70.0966,   169.1255,       2657,    84.9,  -1.3782,  34.1401,2,  34.1384,2,    343.5,2,   344.8,2,   66.92,2,   28.95,2,    0.17,2,    1.88,2,-999.000,9,-999.000,9,-999.000,9,-999.0000,9,  2199.2,2,  2306.4,2,-999.0000,5,    25.00,-999.000,9,-999.0000,9,-999.000,9,  -1.3780,2, -999.00,9,  -999.0,9,  -999.0,-999.000,9,   -0.39,2,-999.000,9, -999.00,9, -999.00,9, -70.0966, 169.1255,-999.000,     -999.0,    34.2994,2,     -999.0,9,     -999.0,9,-999.0000,9,-999.0000,9,-999.0000,9,-999.0000,9,-999.0000,9,-999.0000,9,-999.0000,9,-999.0000,9,-999.0000,9,-999.0000,-999.000,  -1.3802,     -999.0,     -999.0,9,     -999.0,9,     -999.0,9,      -4.04,2,       0.20,20110223,       1654
320620110219,       S04P,       7,          1,         32,         32,2,20110223,       1524,   -70.0966,   169.1255,       2657,   110.6,  -1.3497,  34.1591,2,  34.1576,2,    341.9,2,   342.1,2,   67.06,2,   28.90,2,    0.17,2,    1.88,2,-999.000,9,-999.000,9,-999.000,9,-999.0000,9,  2200.8,2,  2300.0,4,-999.0000,5,    25.00,-999.000,9,-999.0000,9,-999.000,9,  -1.3493,2, -999.00,9,  -999.0,9,  -999.0,-999.000,9, -999.00,9,-999.000,9, -999.00,9, -999.00,9, -70.0966, 169.1255,-999.000,     -999.0,    34.3186,2,     -999.0,9,     -999.0,9,-999.0000,9,-999.0000,9,-999.0000,9,-999.0000,9,-999.0000,9,-999.0000,9,-999.0000,9,-999.0000,9,-999.0000,9,-999.0000,-999.000,  -1.3523,     -999.0,     -999.0,9,     -999.0,9,     -999.0,9,     -999.0,9,     -999.0,20110223,       1652
320620110219,       S04P,       7,          1,         31,         31,2,20110223,       1524,   -70.0966,   169.1255,       2657,   134.8,  -1.3478,  34.1828,2,  34.1836,2,    339.0,2,   339.3,2,   67.24,2,   29.08,2,    0.18,2,    1.90,2,-999.000,9,-999.000,9,-999.000,9,-999.0000,9,  -999.0,9,  -999.0,9,-999.0000,9,  -999.00,-999.000,9,-999.0000,9,-999.000,9,  -1.3481,2, -999.00,9,  -999.0,9,  -999.0,-999.000,9,   -0.34,2,-999.000,9, -999.00,9, -999.00,9, -70.0966, 169.1255,-999.000,     -999.0,    34.3448,2,     -999.0,9,     -999.0,9,-999.0000,9,-999.0000,9,-999.0000,9,-999.0000,9,-999.0000,9,-999.0000,9,-999.0000,9,-999.0000,9,-999.0000,9,-999.0000,-999.000,  -1.3510,     -999.0,     -999.0,9,     -999.0,9,     -999.0,9,      -3.65,2,       0.06,20110223,       1651
320620110219,       S04P,       7,          1,         30,         30,2,20110223,       1524,   -70.0966,   169.1255,       2657,   160.2,  -1.2453,  34.2825,2,  34.2819,2,    326.4,2,   303.7,2,   70.41,2,   30.04,2,    0.16,2,    2.00,2,-999.000,9,-999.000,9,-999.000,9,-999.0000,9,  2215.6,2,  2314.8,2,-999.0000,5,    25.00,-999.000,9,-999.0000,9,-999.000,9,  -1.2469,2, -999.00,9,  -999.0,9,  -999.0,-999.000,9, -999.00,9,-999.000,9, -999.00,9, -999.00,9, -70.0966, 169.1255,-999.000,     -999.0,    34.4435,2,     -999.0,9,     -999.0,9,-999.0000,9,-999.0000,9,-999.0000,9,-999.0000,9,-999.0000,9,-999.0000,9,-999.0000,9,-999.0000,9,-999.0000,9,-999.0000,-999.000,  -1.2493,     -999.0,     -999.0,9,     -999.0,9,     -999.0,9,     -999.0,9,     -999.0,20110223,       1649
320620110219,       S04P,       7,          1,         29,         29,2,20110223,       1524,   -70.0966,   169.1255,       2657,   184.6,  -1.2517,  34.3080,2,  34.3066,2,    291.7,2,   292.5,2,   71.78,2,   30.31,2,    0.15,2,    2.02,2,-999.000,9,-999.000,9,-999.000,9,-999.0000,9,  -999.0,9,  -999.0,9,-999.0000,9,  -999.00,-999.000,9,-999.0000,9,-999.000,9,  -1.2533,2, -999.00,9,  -999.0,9,  -999.0,-999.000,9,   -0.17,2,-999.000,9, -999.00,9, -999.00,9, -70.0966, 169.1255,-999.000,     -999.0,    34.4683,2,     -999.0,9,     -999.0,9,-999.0000,9,-999.0000,9,-999.0000,9,-999.0000,9,-999.0000,9,-999.0000,9,-999.0000,9,-999.0000,9,-999.0000,9,-999.0000,-999.000,  -1.2564,     -999.0,     -999.0,9,     -999.0,9,     -999.0,9,      -2.59,2,       0.03,20110223,       1647
320620110219,       S04P,       7,          1,         28,         28,2,20110223,       1524,   -70.0966,   169.1255,       2657,   210.4,  -0.9337,  34.3538,2,  34.3536,2,    286.8,2,   289.7,2,   73.96,2,   30.24,2,    0.12,2,    2.01,2,-999.000,9,-999.000,9,-999.000,9,-999.0000,9,  2222.8,2,  2318.4,2,-999.0000,5,    25.00,-999.000,9,-999.0000,9,-999.000,9,  -0.9336,2, -999.00,9,  -999.0,9,  -999.0,-999.000,9, -999.00,9,-999.000,9, -999.00,9, -999.00,9, -70.0966, 169.1255,-999.000,     -999.0,    34.5156,2,     -999.0,9,     -999.0,9,-999.0000,9,-999.0000,9,-999.0000,9,-999.0000,9,-999.0000,9,-999.0000,9,-999.0000,9,-999.0000,9,-999.0000,9,-999.0000,-999.000,  -0.9397,     -999.0,     -999.0,9,     -999.0,9,     -999.0,9,     -999.0,9,     -999.0,20110223,       1645
320620110219,       S04P,       7,          1,         27,         27,2,20110223,       1524,   -70.0966,   169.1255,       2657,   235.4,  -0.9168,  34.3694,2,  34.3704,2,    287.6,2,   281.7,2,   74.97,2,   30.48,2,    0.12,2,    2.03,2,-999.000,9,-999.000,9,-999.000,9,-999.0000,9,  -999.0,9,  -999.0,9,-999.0000,9,  -999.00,-999.000,9,-999.0000,9,-999.000,9,  -0.9185,2, -999.00,9,  -999.0,9,  -999.0,-999.000,9,   -0.20,2,-999.000,9, -999.00,9, -999.00,9, -70.0966, 169.1255,-999.000,     -999.0,    34.5325,2,     -999.0,9,     -999.0,9,-999.0000,9,-999.0000,9,-999.0000,9,-999.0000,9,-999.0000,9,-999.0000,9,-999.0000,9,-999.0000,9,-999.0000,9,-999.0000,-999.000,  -0.9236,     -999.0,     -999.0,9,     -999.0,9,     -999.0,9,      -2.39,2,       0.08,20110223,       1643
320620110219,       S04P,       7,          1,         26,         26,2,20110223,       1524,   -70.0966,   169.1255,       2657,   264.9,  -0.7938,  34.4044,2,  34.4012,2,    275.6,2,   270.4,2,   77.20,2,   31.01,2,    0.10,2,    2.05,2,-999.000,9,-999.000,9,-999.000,9,-999.0000,9,  2225.9,2,  2324.7,2,-999.0000,5,    25.00,-999.000,9,-999.0000,9,-999.000,9,  -0.7935,2, -999.00,9,  -999.0,9,  -999.0,-999.000,9, -999.00,9,-999.000,9, -999.00,9, -999.00,9, -70.0966, 169.1255,-999.000,     -999.0,    34.5634,2,     -999.0,9,     -999.0,9,-999.0000,9,-999.0000,9,-999.0000,9,-999.0000,9,-999.0000,9,-999.0000,9,-999.0000,9,-999.0000,9,-999.0000,9,-999.0000,-999.000,  -0.8018,     -999.0,     -999.0,9,     -999.0,9,     -999.0,9,     -999.0,9,     -999.0,20110223,       1642
320620110219,       S04P,       7,          1,         25,         25,2,20110223,       1524,   -70.0966,   169.1255,       2657,   315.3,  -0.5644,  34.4621,2,  34.4629,2,    246.2,2,   254.9,2,   80.71,2,   31.30,2,    0.09,2,    2.07,2,-999.000,9,-999.000,9,-999.000,9,-999.0000,9,  2233.0,2,  2328.2,2,-999.0000,5,    25.00,-999.000,9,-999.0000,9,-999.000,9,  -0.5668,2, -999.00,9,  -999.0,9,  -999.0,-999.000,9,   -0.19,2,-999.000,9, -999.00,9, -999.00,9, -70.0966, 169.1255,-999.000,     -999.0,    34.6254,2,     -999.0,9,     -999.0,9,-999.0000,9,-999.0000,9,-999.0000,9,-999.0000,9,-999.0000,9,-999.0000,9,-999.0000,9,-999.0000,9,-999.0000,9,-999.0000,-999.000,  -0.5748,     -999.0,     -999.0,9,     -999.0,9,     -999.0,9,      -2.37,2,       0.10,20110223,       1640
320620110219,       S04P,       7,          1,         24,         24,2,20110223,       1524,   -70.0966,   169.1255,       2657,   364.8,  -0.3956,  34.4997,2,  34.5023,2,    238.9,2,   253.1,2,   83.29,2,   31.30,2,    0.07,2,    2.09,2,-999.000,9,-999.000,9,-999.000,9,-999.0000,9,  2235.6,2,  2331.9,2,-999.0000,5,    25.00,-999.000,9,-999.0000,9,-999.000,9,  -0.3965,2, -999.00,9,  -999.0,9,  -999.0,-999.000,9, -999.00,9,-999.000,9, -999.00,9, -999.00,9, -70.0966, 169.1255,-999.000,     -999.0,    34.6650,2,     -999.0,9,     -999.0,9,-999.0000,9,-999.0000,9,-999.0000,9,-999.0000,9,-999.0000,9,-999.0000,9,-999.0000,9,-999.0000,9,-999.0000,9,-999.0000,-999.000,  -0.4083,     -999.0,     -999.0,9,     -999.0,9,     -999.0,9,     -999.0,9,     -999.0,20110223,       1637
320620110219,       S04P,       7,          1,         23,         23,2,20110223,       1524,   -70.0966,   169.1255,       2657,   415.7,  -0.2237,  34.5378,2,  34.5362,2,    236.4,2,   243.7,2,   86.30,2,   31.54,2,    0.06,2,    2.15,2,-999.000,9,-999.000,9,-999.000,9,-999.0000,9,  -999.0,9,  -999.0,9,-999.0000,9,  -999.00,-999.000,9,-999.0000,9,-999.000,9,  -0.2241,2, -999.00,9,  -999.0,9,  -999.0,-999.000,9,   -0.16,2,-999.000,9, -999.00,9, -999.00,9, -70.0966, 169.1255,-999.000,     -999.0,    34.6991,2,     -999.0,9,     -999.0,9,-999.0000,9,-999.0000,9,-999.0000,9,-999.0000,9,-999.0000,9,-999.0000,9,-999.0000,9,-999.0000,9,-999.0000,9,-999.0000,-999.000,  -0.2390,     -999.0,     -999.0,9,     -999.0,9,     -999.0,9,      -2.30,2,       0.12,20110223,       1635
320620110219,       S04P,       7,          1,         22,         22,2,20110223,       1524,   -70.0966,   169.1255,       2657,   465.3,  -0.0639,  34.5636,2,  34.5605,2,    227.2,2,   236.5,2,   88.36,2,   31.88,2,    0.05,2,    2.14,2,-999.000,9,-999.000,9,-999.000,9,-999.0000,9,  2243.5,2,  2336.8,2,-999.0000,5,    25.00,-999.000,9,-999.0000,9,-999.000,9,  -0.0612,2, -999.00,9,  -999.0,9,  -999.0,-999.000,9, -999.00,9,-999.000,9, -999.00,9, -999.00,9, -70.0966, 169.1255,-999.000,     -999.0,    34.7235,2,     -999.0,9,     -999.0,9,-999.0000,9,-999.0000,9,-999.0000,9,-999.0000,9,-999.0000,9,-999.0000,9,-999.0000,9,-999.0000,9,-999.0000,9,-999.0000,-999.000,  -0.0819,     -999.0,     -999.0,9,     -999.0,9,     -999.0,9,     -999.0,9,     -999.0,20110223,       1633
320620110219,       S04P,       7,          1,         21,         21,2,20110223,       1524,   -70.0966,   169.1255,       2657,   535.5,   0.2495,  34.6009,2,  34.5930,2,    230.0,2,   225.0,2,   91.60,2,   31.88,2,    0.04,2,    2.14,2,-999.000,9,-999.000,9,-999.000,9,-999.0000,9,  2248.2,2,  2338.5,2,-999.0000,5,    25.00,-999.000,9,-999.0000,9,-999.000,9,   0.2548,2, -999.00,9,  -999.0,9,  -999.0,-999.000,9,   -0.21,2,-999.000,9, -999.00,9, -999.00,9, -70.0966, 169.1255,-999.000,     -999.0,    34.7562,2,     -999.0,9,     -999.0,9,-999.0000,9,-999.0000,9,-999.0000,9,-999.0000,9,-999.0000,9,-999.0000,9,-999.0000,9,-999.0000,9,-999.0000,9,-999.0000,-999.000,   0.2270,     -999.0,     -999.0,9,     -999.0,9,     -999.0,9,      -2.43,2,       0.03,20110223,       1630
320620110219,       S04P,       7,          1,         20,         20,2,20110223,       1524,   -70.0966,   169.1255,       2657,   635.1,   0.5816,  34.6533,2,  34.6533,2,    207.8,2,   210.2,2,   98.76,2,   32.50,2,    0.00,2,    2.16,2,-999.000,9,-999.000,9,-999.000,9,-999.0000,9,  -999.0,9,  -999.0,9,-999.0000,9,  -999.00,-999.000,9,-999.0000,9,-999.000,9,   0.5811,2, -999.00,9,  -999.0,9,  -999.0,-999.000,9, -999.00,9,-999.000,9, -999.00,9, -999.00,9, -70.0966, 169.1255,-999.000,     -999.0,    34.8167,2,     -999.0,9,     -999.0,9,-999.0000,9,-999.0000,9,-999.0000,9,-999.0000,9,-999.0000,9,-999.0000,9,-999.0000,9,-999.0000,9,-999.0000,9,-999.0000,-999.000,   0.5525,     -999.0,     -999.0,9,     -999.0,9,     -999.0,9,     -999.0,9,     -999.0,20110223,       1627
320620110219,       S04P,       7,          1,         19,         19,2,20110223,       1524,   -70.0966,   169.1255,       2657,   734.5,   0.6442,  34.6746,2,  34.6741,2,    205.4,2,   207.4,2,  103.19,2,   32.31,2,    0.00,2,    2.16,2,-999.000,9,-999.000,9,-999.000,9,-999.0000,9,  2255.6,2,  2345.3,2,-999.0000,5,    25.00,-999.000,9,-999.0000,9,-999.000,9,   0.6430,2, -999.00,9,  -999.0,9,  -999.0,-999.000,9,   -0.21,6,-999.000,9, -999.00,9, -999.00,9, -70.0966, 169.1255,-999.000,     -999.0,    34.8376,2,     -999.0,9,     -999.0,9,-999.0000,9,-999.0000,9,-999.0000,9,-999.0000,9,-999.0000,9,-999.0000,9,-999.0000,9,-999.0000,9,-999.0000,9,-999.0000,-999.000,   0.6096,     -999.0,     -999.0,9,     -999.0,9,     -999.0,9,      -2.95,6,       0.02,20110223,       1624
320620110219,       S04P,       7,          1,         18,         18,2,20110223,       1524,   -70.0966,   169.1255,       2657,   835.1,   0.4973,  34.6726,2,  34.6735,2,    205.8,2,   210.8,2,  105.17,2,   32.43,2,    0.00,2,    2.16,2,-999.000,9,-999.000,9,-999.000,9,-999.0000,9,  -999.0,9,  -999.0,9,-999.0000,9,  -999.00,-999.000,9,-999.0000,9,-999.000,9,   0.4952,2, -999.00,9,  -999.0,9,  -999.0,-999.000,9,   -0.87,3,-999.000,9, -999.00,9, -999.00,9, -70.0966, 169.1255,-999.000,     -999.0,    34.8370,2,     -999.0,9,     -999.0,9,-999.0000,9,-999.0000,9,-999.0000,9,-999.0000,9,-999.0000,9,-999.0000,9,-999.0000,9,-999.0000,9,-999.0000,9,-999.0000,-999.000,   0.4582,     -999.0,     -999.0,9,     -999.0,9,     -999.0,9,      -4.16,2,       0.06,20110223,       1621
320620110219,       S04P,       7,          1,         17,         17,2,20110223,       1524,   -70.0966,   169.1255,       2657,   935.7,   0.4568,  34.6766,2,  34.6742,2,    212.7,2,   212.6,2,  106.72,2,   32.47,2,    0.00,2,    2.18,2,-999.000,9,-999.000,9,-999.000,9,-999.0000,9,  2255.6,2,  2350.6,2,-999.0000,5,    25.00,-999.000,9,-999.0000,9,-999.000,9,   0.4565,2, -999.00,9,  -999.0,9,  -999.0,-999.000,9,   -1.16,3,-999.000,9, -999.00,9, -999.00,9, -70.0966, 169.1255,-999.000,     -999.0,    34.8377,2,     -999.0,9,     -999.0,9,-999.0000,9,-999.0000,9,-999.0000,9,-999.0000,9,-999.0000,9,-999.0000,9,-999.0000,9,-999.0000,9,-999.0000,9,-999.0000,-999.000,   0.4125,     -999.0,     -999.0,9,     -999.0,9,     -999.0,9,      -4.12,6,       0.04,20110223,       1618
320620110219,       S04P,       7,          1,         16,         16,2,20110223,       1524,   -70.0966,   169.1255,       2657,  1034.6,   0.4510,  34.6785,2,  34.6821,2,    215.3,2,   212.3,2,  108.56,2,   32.35,2,    0.00,2,    2.18,2,-999.000,9,-999.000,9,-999.000,9,-999.0000,9,  -999.0,9,  -999.0,9,-999.0000,9,  -999.00,-999.000,9,-999.0000,9,-999.000,9,   0.4476,2, -999.00,9,  -999.0,9,  -999.0,-999.000,9,   -1.15,3,-999.000,9, -999.00,9, -999.00,9, -70.0966, 169.1255,-999.000,     -999.0,    34.8456,2,     -999.0,9,     -999.0,9,-999.0000,9,-999.0000,9,-999.0000,9,-999.0000,9,-999.0000,9,-999.0000,9,-999.0000,9,-999.0000,9,-999.0000,9,-999.0000,-999.000,   0.4011,     -999.0,     -999.0,9,     -999.0,9,     -999.0,9,      -4.75,2,       0.01,20110223,       1615
320620110219,       S04P,       7,          1,         15,         15,2,20110223,       1524,   -70.0966,   169.1255,       2657,  1135.0,   0.3822,  34.6786,2,  34.6775,2,    212.8,2,   215.2,2,  108.15,2,   32.41,2,    0.00,2,    2.19,2,-999.000,9,-999.000,9,-999.000,9,-999.0000,9,  2257.3,2,  2343.1,4,-999.0000,5,    25.00,-999.000,9,-999.0000,9,-999.000,9,   0.3818,2, -999.00,9,  -999.0,9,  -999.0,-999.000,9,   -1.05,3,-999.000,9, -999.00,9, -999.00,9, -70.0966, 169.1255,-999.000,     -999.0,    34.8411,2,     -999.0,9,     -999.0,9,-999.0000,9,-999.0000,9,-999.0000,9,-999.0000,9,-999.0000,9,-999.0000,9,-999.0000,9,-999.0000,9,-999.0000,9,-999.0000,-999.000,   0.3271,     -999.0,     -999.0,9,     -999.0,9,     -999.0,9,      -4.49,6,       0.07,20110223,       1612
320620110219,       S04P,       7,          1,         14,         14,2,20110223,       1524,   -70.0966,   169.1255,       2657,  1236.3,   0.3206,  34.6792,2,  34.6775,2,    217.5,2,   216.8,2,  109.92,2,   32.32,2,    0.00,2,    2.19,2,-999.000,9,-999.000,9,-999.000,9,-999.0000,9,  -999.0,9,  -999.0,9,-999.0000,9,  -999.00,-999.000,9,-999.0000,9,-999.000,9,   0.3171,2, -999.00,9,  -999.0,9,  -999.0,-999.000,9,   -1.14,3,-999.000,9, -999.00,9, -999.00,9, -70.0966, 169.1255,-999.000,     -999.0,    34.8411,2,     -999.0,9,     -999.0,9,-999.0000,9,-999.0000,9,-999.0000,9,-999.0000,9,-999.0000,9,-999.0000,9,-999.0000,9,-999.0000,9,-999.0000,9,-999.0000,-999.000,   0.2601,     -999.0,     -999.0,9,     -999.0,9,     -999.0,9,      -4.97,2,       0.02,20110223,       1609