BOTTLE,20220813CCHSIOAMB
EXPOCODE,SECT_ID,STNNBR,CASTNO,SAMPNO,BTLNBR,BTLNBR_FLAG_W,DATE,TIME,LATITUDE,LONGITUDE,DEPTH,CTDPRS,CTDTMP,CTDSAL,CTDSAL_FLAG_W,SALNTY,SALNTY_FLAG_W,CTDOXY,CTDOXY_FLAG_W,OXYGEN,OXYGEN_FLAG_W,SILCAT,SILCAT_FLAG_W,NITRAT,NITRAT_FLAG_W,NITRIT,NITRIT_FLAG_W,PHSPHT,PHSPHT_FLAG_W,CFC-11,CFC-11_FLAG_W,CFC-12,CFC-12_FLAG_W,CFC113,CFC113_FLAG_W,SF6,SF6_FLAG_W,TCARBN,TCARBN_FLAG_W,ALKALI,ALKALI_FLAG_W,PH_TOT,PH_TOT_FLAG_W,PH_TMP,TRITUM,TRITUM_FLAG_W,HELIUM,HELIUM_FLAG_W,DELHE3,DELHE3_FLAG_W,REFTMP,REFTMP_FLAG_W,DELC13,DELC13_FLAG_W,DELC14,DELC14_FLAG_W,C14ERR,NEON,NEON_FLAG_W,DELO18,DELO18_FLAG_W,POC,POC_FLAG_W,DOC,DOC_FLAG_W,TDN,TDN_FLAG_W,BTL_LAT,BTL_LON,TRITER,NEONER,SALTREF,SALTREF_FLAG_W,PIGMENTS,PIGMENTS_FLAG_W,LAB_DEN,LAB_DEN_FLAG_W,CDOM325,CDOM325_FLAG_W,CDOM340,CDOM340_FLAG_W,CDOM380,CDOM380_FLAG_W,CDOM412,CDOM412_FLAG_W,CDOM443,CDOM443_FLAG_W,CDOM490,CDOM490_FLAG_W,CDOM555,CDOM555_FLAG_W,CDOMSL,CDOMSL_FLAG_W,CDOMSN,CDOMSN_FLAG_W,HELIER,DELHER,THETA,LDEO_SAMPNO,ABSORBTION,ABSORBTION_FLAG_W,IMAGE_COUNT,IMAGE_COUNT_FLAG_W,CYTO_COUNT,CYTO_COUNT_FLAG_W,DELD,DELD_FLAG_W,DELDERR,BTL_DATE,BTL_TIME
,,,,,,,,,,,METERS,DBAR,ITS-90,PSS-78,,PSS-78,,UMOL/KG,,UMOL/KG,,UMOL/KG,,UMOL/KG,,UMOL/KG,,UMOL/KG,,PMOL/KG,,PMOL/KG,,PMOL/KG,,FMOL/KG,,UMOL/KG,,UMOL/KG,,,,DEG C,TU,,NMOL/KG,,PERCNT,,DEG C,,/MILLE,,/MILLE,,/MILLE,NMOL/KG,,/MILLE,,UG/KG,,UMOL/KG,,UMOL/KG,,,,TU,NMOL/KG,G/KG,,,,,,1/M,,1/M,,1/M,,1/M,,1/M,,1/M,,1/M,,1/NM,,1/NM,,NMOL/KG,PERCNT,DEG C,,,,,,,,/MILLE,,/MILLE,,
320620110219,       P15S,      95,          1,         36,         36,2,20110327,       1848,   -67.7383,  -169.9942,       4222,     5.1,  -1.3209,  33.8148,2,  33.8136,2,    338.2,3,   340.8,2,   60.10,2,   27.05,2,    0.11,2,    1.98,2,   5.866,2,   3.205,2,   0.586,2,   2.5580,2,  2170.2,2,  2288.0,2,   7.6571,2,    25.00,-999.000,9,-999.0000,9,-999.000,9,  -1.3205,2, -999.00,9,  -999.0,9,  -999.0,-999.000,9, -999.00,9,-999.000,9,   42.39,2,   30.88,2, -67.7382,-169.9924,-999.000,     -999.0,    33.9730,2,     -999.0,9,     -999.0,9,   0.0669,2,   0.0331,3,   0.0005,4,  -0.0079,4,  -0.0148,4,  -0.0113,4,  -0.0120,4,   0.0635,4,   0.0520,4,-999.0000,-999.000,  -1.3210,     -999.0,     -999.0,9,     -999.0,9,     -999.0,9,     -999.0,9,     -999.0,20110327,       2036
320620110219,       P15S,      95,          1,         35,         35,2,20110327,       1848,   -67.7383,  -169.9942,       4222,    25.6,  -1.3123,  33.8149,2,  33.8144,2,    340.1,2,   340.7,2,   60.12,2,   27.12,2,    0.11,2,    1.85,2,   5.900,2,   3.220,2,   0.590,2,   2.6370,2,  2169.4,2,  2288.5,2,   7.6583,2,    25.00,-999.000,9,-999.0000,9,-999.000,9,  -1.3128,2, -999.00,9,  -999.0,9,  -999.0,-999.000,9, -999.00,9,-999.000,9,   41.00,2,   30.91,2, -67.7382,-169.9924,-999.000,     -999.0,    33.9738,2,     -999.0,1,     -999.0,9,   0.0629,3,   0.0289,3,  -0.0034,4,  -0.0081,4,  -0.0146,4,  -0.0112,4,  -0.0120,4,   0.0829,4,   0.0602,4,-999.0000,-999.000,  -1.3129,     -999.0,     -999.0,1,     -999.0,9,     -999.0,9,     -999.0,9,     -999.0,20110327,       2034
320620110219,       P15S,      95,          1,         34,         34,2,20110327,       1848,   -67.7383,  -169.9942,       4222,    50.1,  -1.2991,  33.8188,2,  33.8404,2,    340.0,2,   336.7,2,   60.72,2,   27.33,2,    0.11,2,    1.88,2,   5.713,2,   3.128,2,   0.559,2,   2.4750,2,  2172.5,2,  2289.7,2,   7.6548,2,    25.00,-999.000,9,-999.0000,9,-999.000,9,  -1.3014,2, -999.00,9,  -999.0,9,  -999.0,-999.000,9, -999.00,9,-999.000,9,   41.53,2,   30.90,2, -67.7382,-169.9925,-999.000,     -999.0,    34.0000,2,     -999.0,1,     -999.0,9,   0.0530,3,   0.0209,3,  -0.0094,4,  -0.0105,4,  -0.0161,4,  -0.0120,4,  -0.0122,4,   0.1122,4,   0.0730,4,-999.0000,-999.000,  -1.3002,     -999.0,     -999.0,1,     -999.0,9,     -999.0,9,     -999.0,9,     -999.0,20110327,       2033
320620110219,       P15S,      95,          1,         33,         33,2,20110327,       1848,   -67.7383,  -169.9942,       4222,    74.4,   0.1423,  34.4835,2,  34.4887,2,    220.7,2,   221.0,2,   78.11,2,   32.40,2,    0.21,2,    2.25,2,   2.181,6,   1.180,6,   0.206,6,   0.8960,6,  2237.2,2,  2326.8,6,   7.5699,2,    25.00,-999.000,9,-999.0000,9,-999.000,9,   0.1155,2, -999.00,9,  -999.0,9,  -999.0,-999.000,9, -999.00,9,-999.000,9,   41.45,2,   36.22,2, -67.7382,-169.9925,-999.000,     -999.0,    34.6513,2,     -999.0,9,     -999.0,9,-999.0000,9,-999.0000,9,-999.0000,9,-999.0000,9,-999.0000,9,-999.0000,9,-999.0000,9,-999.0000,9,-999.0000,9,-999.0000,-999.000,   0.1396,     -999.0,     -999.0,9,     -999.0,9,     -999.0,9,     -999.0,9,     -999.0,20110327,       2032
320620110219,       P15S,      95,          1,         32,         32,2,20110327,       1848,   -67.7383,  -169.9942,       4222,    99.9,   1.4423,  34.6484,2,  34.6499,2,    186.7,2,   184.9,2,   84.76,2,   33.17,2,    0.10,2,    2.28,2,   0.833,2,   0.429,2,   0.072,2,   0.3460,2,  2252.9,2,  2338.2,2,   7.5606,6,    25.00,-999.000,9,-999.0000,9,-999.000,9,   1.4516,2, -999.00,9,  -999.0,9,  -999.0,-999.000,9, -999.00,9,-999.000,9,   40.44,2,   36.41,2, -67.7382,-169.9925,-999.000,     -999.0,    34.8133,2,     -999.0,9,     -999.0,9,   0.0891,2,   0.0489,2,   0.0043,3,  -0.0036,4,  -0.0128,4,  -0.0106,4,  -0.0117,4,   0.0574,4,   0.0456,4,-999.0000,-999.000,   1.4375,     -999.0,     -999.0,9,     -999.0,9,     -999.0,9,     -999.0,9,     -999.0,20110327,       2030
320620110219,       P15S,      95,          1,         31,         31,2,20110327,       1848,   -67.7383,  -169.9942,       4222,   149.2,   1.6026,  34.6802,2,  34.6786,2,    183.4,2,   183.5,2,   86.23,2,   32.71,2,    0.03,2,    2.25,2,   0.634,2,   0.321,2,   0.049,2,   0.1940,2,  2251.1,2,  2341.1,2,   7.5651,2,    25.00,-999.000,9,-999.0000,9,-999.000,9,   1.6026,2, -999.00,9,  -999.0,9,  -999.0,-999.000,9, -999.00,9,-999.000,9,   40.32,2,   35.71,2, -67.7382,-169.9927,-999.000,     -999.0,    34.8421,2,     -999.0,9,     -999.0,9,   0.0901,2,   0.0502,2,   0.0052,3,  -0.0022,4,  -0.0118,4,  -0.0103,4,  -0.0116,4,   0.0571,4,   0.0448,4,-999.0000,-999.000,   1.5951,     -999.0,     -999.0,9,     -999.0,9,     -999.0,9,     -999.0,9,     -999.0,20110327,       2029
320620110219,       P15S,      95,          1,         30,         30,2,20110327,       1848,   -67.7383,  -169.9942,       4222,   200.7,   1.5372,  34.6946,2,  34.6951,2,    185.5,2,   186.5,2,   88.56,2,   32.38,2,    0.00,2,    2.24,2,   0.579,2,   0.298,2,   0.045,2,   0.1580,2,  2252.5,2,  2344.2,2,   7.5733,2,    25.00,-999.000,9,-999.0000,9,-999.000,9,   1.5368,2, -999.00,9,  -999.0,9,  -999.0,-999.000,9, -999.00,9,-999.000,9,   40.22,2,   35.08,2, -67.7382,-169.9928,-999.000,     -999.0,    34.8587,2,     -999.0,9,     -999.0,9,   0.0836,2,   0.0454,2,   0.0038,3,  -0.0049,4,  -0.0137,4,  -0.0111,4,  -0.0121,4,   0.0601,4,   0.0464,4,-999.0000,-999.000,   1.5272,     -999.0,     -999.0,9,     -999.0,9,     -999.0,9,     -999.0,9,     -999.0,20110327,       2027
320620110219,       P15S,      95,          1,         29,         29,2,20110327,       1848,   -67.7383,  -169.9942,       4222,   250.1,   1.5077,  34.7071,2,  34.7066,2,    187.4,2,   188.1,2,   90.23,2,   32.21,2,    0.00,2,    2.22,2,   0.514,2,   0.259,2,   0.039,2,   0.1550,2,  2251.8,2,  2345.7,2,   7.5780,2,    25.00,-999.000,9,-999.0000,9,-999.000,9,   1.5072,2, -999.00,9,  -999.0,9,  -999.0,-999.000,9, -999.00,9,-999.000,9,   40.45,2,   34.34,2, -67.7382,-169.9929,-999.000,     -999.0,    34.8703,2,     -999.0,9,     -999.0,9,   0.0848,2,   0.0465,2,   0.0044,3,  -0.0044,4,  -0.0132,4,  -0.0108,4,  -0.0119,4,   0.0628,4,   0.0457,4,-999.0000,-999.000,   1.4952,     -999.0,     -999.0,9,     -999.0,9,     -999.0,9,     -999.0,9,     -999.0,20110327,       2025
320620110219,       P15S,      95,          1,         28,         28,2,20110327,       1848,   -67.7383,  -169.9942,       4222,   300.9,   1.4676,  34.7176,2,  34.7164,2,    188.9,2,   189.1,2,   92.77,2,   32.06,2,    0.00,2,    2.21,2,   0.432,2,   0.211,2,   0.028,2,   0.1500,2,  2252.6,2,  2347.6,2,   7.5820,2,    25.00,-999.000,9,-999.0000,9,-999.000,9,   1.4691,2, -999.00,9,  -999.0,9,  -999.0,-999.000,9, -999.00,9,-999.000,9,   40.50,2,   34.59,2, -67.7382,-169.9930,-999.000,     -999.0,    34.8801,2,     -999.0,9,     -999.0,9,   0.0833,2,   0.0454,3,   0.0029,3,  -0.0045,4,  -0.0134,4,  -0.0112,4,  -0.0122,4,   0.0637,4,   0.0470,4,-999.0000,-999.000,   1.4525,     -999.0,     -999.0,9,     -999.0,9,     -999.0,9,     -999.0,9,     -999.0,20110327,       2023
320620110219,       P15S,      95,          1,         27,         27,2,20110327,       1848,   -67.7383,  -169.9942,       4222,   349.3,   1.4369,  34.7218,2,  34.7208,2,    189.9,2,   190.5,2,   94.63,2,   31.98,2,    0.00,2,    2.21,2,   0.400,2,   0.195,2,   0.023,2,   0.1290,2,  2253.6,2,  2347.6,2,   7.5848,2,    25.00,-999.000,9,-999.0000,9,-999.000,9,   1.4372,2, -999.00,9,  -999.0,9,  -999.0,-999.000,9, -999.00,9,-999.000,9,   40.61,2,   34.78,2, -67.7382,-169.9930,-999.000,     -999.0,    34.8845,2,     -999.0,9,     -999.0,9,-999.0000,9,-999.0000,9,-999.0000,9,-999.0000,9,-999.0000,9,-999.0000,9,-999.0000,9,-999.0000,9,-999.0000,9,-999.0000,-999.000,   1.4193,     -999.0,     -999.0,9,     -999.0,9,     -999.0,9,     -999.0,9,     -999.0,20110327,       2021
320620110219,       P15S,      95,          1,         26,         26,2,20110327,       1848,   -67.7383,  -169.9942,       4222,   400.2,   1.4015,  34.7240,2,  34.7227,2,    191.0,2,   190.4,2,   96.43,2,   32.12,2,    0.00,2,    2.21,2,   0.349,2,   0.175,2,   0.021,2,   0.1190,2,  2255.0,2,  2350.0,2,   7.5847,2,    25.00,-999.000,9,-999.0000,9,-999.000,9,   1.4012,2, -999.00,9,  -999.0,9,  -999.0,-999.000,9, -999.00,9,-999.000,9,   40.22,2,   34.42,2, -67.7382,-169.9931,-999.000,     -999.0,    34.8865,2,     -999.0,9,     -999.0,9,-999.0000,9,-999.0000,9,-999.0000,9,-999.0000,9,-999.0000,9,-999.0000,9,-999.0000,9,-999.0000,9,-999.0000,9,-999.0000,-999.000,   1.3813,     -999.0,     -999.0,9,     -999.0,9,     -999.0,9,     -999.0,9,     -999.0,20110327,       2019
320620110219,       P15S,      95,          1,         25,         25,2,20110327,       1848,   -67.7383,  -169.9942,       4222,   449.5,   1.3825,  34.7249,2,  34.7249,2,    191.4,2,   190.4,2,   97.52,2,   32.12,2,    0.00,2,    2.20,2,-999.000,9,-999.000,9,-999.000,9,-999.0000,9,  2254.7,2,  2350.5,2,   7.5890,2,    25.00,-999.000,9,-999.0000,9,-999.000,9,   1.3821,2, -999.00,9,  -999.0,9,  -999.0,-999.000,9, -999.00,9,-999.000,9,   40.01,2,   34.98,2, -67.7382,-169.9931,-999.000,     -999.0,    34.8886,2,     -999.0,9,     -999.0,9,   0.0786,2,   0.0419,3,   0.0004,4,  -0.0064,4,  -0.0144,4,  -0.0116,4,  -0.0124,4,   0.0690,4,   0.0498,4,-999.0000,-999.000,   1.3596,     -999.0,     -999.0,9,     -999.0,9,     -999.0,9,     -999.0,9,     -999.0,20110327,       2018
320620110219,       P15S,      95,          1,         24,         24,2,20110327,       1848,   -67.7383,  -169.9942,       4222,   499.8,   1.3517,  34.7264,2,  34.7264,2,    191.8,2,   191.4,2,   98.97,2,   32.13,2,    0.00,2,    2.20,2,   0.297,2,   0.144,2,   0.018,2,   0.1110,2,  2254.9,2,  2351.7,2,   7.5895,2,    25.00,-999.000,9,-999.0000,9,-999.000,9,   1.3517,2, -999.00,9,  -999.0,9,  -999.0,-999.000,9, -999.00,9,-999.000,9,   40.18,2,   34.58,2, -67.7383,-169.9932,-999.000,     -999.0,    34.8902,2,     -999.0,9,     -999.0,9,-999.0000,9,-999.0000,9,-999.0000,9,-999.0000,9,-999.0000,9,-999.0000,9,-999.0000,9,-999.0000,9,-999.0000,9,-999.0000,-999.000,   1.3262,     -999.0,     -999.0,9,     -999.0,9,     -999.0,9,     -999.0,9,     -999.0,20110327,       2016
320620110219,       P15S,      95,          1,         23,         23,2,20110327,       1848,   -67.7383,  -169.9942,       4222,   600.0,   1.2831,  34.7269,2,  34.7268,2,    193.0,2,   192.5,2,  102.23,2,   31.99,2,    0.00,2,    2.21,2,-999.000,9,-999.000,9,-999.000,9,-999.0000,9,  -999.0,9,  -999.0,9,-999.0000,9,  -999.00,-999.000,9,-999.0000,9,-999.000,9,   1.2835,2, -999.00,9,  -999.0,9,  -999.0,-999.000,9, -999.00,9,-999.000,9,   40.06,2,   34.38,2, -67.7383,-169.9934,-999.000,     -999.0,    34.8906,2,     -999.0,9,     -999.0,9,-999.0000,9,-999.0000,9,-999.0000,9,-999.0000,9,-999.0000,9,-999.0000,9,-999.0000,9,-999.0000,9,-999.0000,9,-999.0000,-999.000,   1.2523,     -999.0,     -999.0,9,     -999.0,9,     -999.0,9,     -999.0,9,     -999.0,20110327,       2013
320620110219,       P15S,      95,          1,         22,         22,2,20110327,       1848,   -67.7383,  -169.9942,       4222,   700.7,   1.2125,  34.7261,2,  34.7257,2,    194.4,2,   193.4,2,  104.31,2,   31.97,2,    0.00,2,    2.21,2,   0.210,2,   0.101,2,   0.012,2,   0.0920,2,  2255.7,2,  2353.7,2,   7.5896,2,    25.00,-999.000,9,-999.0000,9,-999.000,9,   1.2127,2, -999.00,9,  -999.0,9,  -999.0,-999.000,9, -999.00,9,-999.000,9,   39.86,2,   34.42,2, -67.7383,-169.9936,-999.000,     -999.0,    34.8894,2,     -999.0,9,     -999.0,9,   0.0851,2,   0.0480,2,   0.0070,3,  -0.0018,4,  -0.0111,4,  -0.0098,4,  -0.0115,4,   0.0527,4,   0.0173,4,-999.0000,-999.000,   1.1763,     -999.0,     -999.0,9,     -999.0,9,     -999.0,9,     -999.0,9,     -999.0,20110327,       2010
320620110219,       P15S,      95,          1,         21,         21,2,20110327,       1848,   -67.7383,  -169.9942,       4222,   800.4,   1.1535,  34.7249,2,  34.7245,2,    195.4,2,   193.7,2,  107.02,2,   32.13,2,    0.00,2,    2.22,2,-999.000,9,-999.000,9,-999.000,9,-999.0000,9,  -999.0,9,  -999.0,9,-999.0000,9,  -999.00,-999.000,9,-999.0000,9,-999.000,9,   1.1537,2, -999.00,9,  -999.0,9,  -999.0,-999.000,9, -999.00,9,-999.000,9,   39.21,2,   34.64,2, -67.7383,-169.9937,-999.000,     -999.0,    34.8882,2,     -999.0,9,     -999.0,9,-999.0000,9,-999.0000,9,-999.0000,9,-999.0000,9,-999.0000,9,-999.0000,9,-999.0000,9,-999.0000,9,-999.0000,9,-999.0000,-999.000,   1.1119,     -999.0,     -999.0,9,     -999.0,9,     -999.0,9,     -999.0,9,     -999.0,20110327,       2008
320620110219,       P15S,      95,          1,         20,         20,2,20110327,       1848,   -67.7383,  -169.9942,       4222,   900.7,   1.0859,  34.7229,2,  34.7208,2,    196.3,2,   195.7,2,  109.14,2,   31.93,2,    0.00,2,    2.21,2,   0.160,2,   0.080,2,   0.008,2,   0.0730,2,  2259.0,2,  2356.9,2,   7.5939,6,    25.00,-999.000,9,-999.0000,9,-999.000,9,   1.0859,2, -999.00,9,  -999.0,9,  -999.0,-999.000,9, -999.00,9,-999.000,9,   39.22,2,   34.47,2, -67.7383,-169.9938,-999.000,     -999.0,    34.8845,2,     -999.0,9,     -999.0,9,-999.0000,9,-999.0000,9,-999.0000,9,-999.0000,9,-999.0000,9,-999.0000,9,-999.0000,9,-999.0000,9,-999.0000,9,-999.0000,-999.000,   1.0388,     -999.0,     -999.0,9,     -999.0,9,     -999.0,9,     -999.0,9,     -999.0,20110327,       2005
320620110219,       P15S,      95,          1,         19,         19,2,20110327,       1848,   -67.7383,  -169.9942,       4222,   998.9,   1.0173,  34.7206,2,  34.7200,2,    197.9,2,   197.4,2,  111.45,2,   32.02,2,    0.00,2,    2.22,2,-999.000,9,-999.000,9,-999.000,9,-999.0000,9,  -999.0,9,  -999.0,9,-999.0000,9,  -999.00,-999.000,9,-999.0000,9,-999.000,9,   1.0177,2, -999.00,9,  -999.0,9,  -999.0,-999.000,9,   -0.25,2,-999.000,9,   39.04,2,   34.33,2, -67.7383,-169.9939,-999.000,     -999.0,    34.8837,2,     -999.0,9,     -999.0,9,   0.0784,2,   0.0427,2,   0.0029,3,  -0.0048,4,  -0.0133,4,  -0.0112,4,  -0.0123,4,   0.0629,4,   0.0469,4,-999.0000,-999.000,   0.9648,     -999.0,     -999.0,9,     -999.0,9,     -999.0,9,      -3.36,2,       0.05,20110327,       2003
320620110219,       P15S,      95,          1,         18,         18,2,20110327,       1848,   -67.7383,  -169.9942,       4222,  1099.6,   0.9542,  34.7183,2,  34.7172,2,    199.2,2,   198.8,2,  113.64,2,   31.99,2,    0.00,2,    2.23,2,   0.138,2,   0.065,2,   0.008,2,   0.0660,2,  2258.0,2,  2358.0,2,   7.5968,2,    25.00,-999.000,9,-999.0000,9,-999.000,9,   0.9546,2, -999.00,9,  -999.0,9,  -999.0,-999.000,9,   -0.08,2,-999.000,9,   39.27,2,   34.25,2, -67.7383,-169.9941,-999.000,     -999.0,    34.8809,2,     -999.0,9,     -999.0,9,-999.0000,9,-999.0000,9,-999.0000,9,-999.0000,9,-999.0000,9,-999.0000,9,-999.0000,9,-999.0000,9,-999.0000,9,-999.0000,-999.000,   0.8960,     -999.0,     -999.0,9,     -999.0,9,     -999.0,9,      -3.05,2,       0.08,20110327,       2000
320620110219,       P15S,      95,          1,         17,         17,2,20110327,       1848,   -67.7383,  -169.9942,       4222,  1199.8,   0.8955,  34.7158,2,  34.7153,2,    200.8,2,   200.7,2,  115.43,2,   31.90,2,    0.00,2,    2.23,2,-999.000,9,-999.000,9,-999.000,9,-999.0000,9,  -999.0,9,  -999.0,9,-999.0000,9,  -999.00,-999.000,9,-999.0000,9,-999.000,9,   0.8958,2, -999.00,9,  -999.0,9,  -999.0,-999.000,9,   -0.01,2,-999.000,9,   39.60,2,   34.79,2, -67.7383,-169.9941,-999.000,     -999.0,    34.8790,2,     -999.0,9,     -999.0,9,-999.0000,9,-999.0000,9,-999.0000,9,-999.0000,9,-999.0000,9,-999.0000,9,-999.0000,9,-999.0000,9,-999.0000,9,-999.0000,-999.000,   0.8316,     -999.0,     -999.0,9,     -999.0,9,     -999.0,9,      -1.20,2,       0.15,20110327,       1957
320620110219,       P15S,      95,          1,         16,         16,2,20110327,       1848,   -67.7383,  -169.9942,       4222,  1299.9,   0.8384,  34.7132,2,  34.7129,2,    201.0,2,   202.3,2,  116.46,2,   31.97,2,    0.00,2,    2.22,2,   0.164,2,   0.081,2,   0.008,2,   0.1030,2,  2262.2,2,  2358.2,6,   7.6002,2,    25.00,-999.000,9,-999.0000,9,-999.000,9,   0.8398,2, -999.00,9,  -999.0,9,  -999.0,-999.000,9,   -0.01,2,-999.000,9,   39.93,2,   34.69,2, -67.7383,-169.9940,-999.000,     -999.0,    34.8766,2,     -999.0,9,     -999.0,9,   0.0771,2,   0.0418,3,   0.0030,3,  -0.0054,4,  -0.0137,4,  -0.0112,4,  -0.0122,4,   0.0575,4,   0.0469,4,-999.0000,-999.000,   0.7687,     -999.0,     -999.0,9,     -999.0,9,     -999.0,9,      -1.28,2,       0.21,20110327,       1955
320620110219,       P15S,      95,          1,         15,         15,2,20110327,       1848,   -67.7383,  -169.9942,       4222,  1399.2,   0.7854,  34.7112,2,  34.7117,2,    202.7,2,   203.2,2,  117.86,2,   31.90,2,    0.00,2,    2.22,2,-999.000,9,-999.000,9,-999.000,9,-999.0000,9,  -999.0,9,  -999.0,9,-999.0000,9,  -999.00,-999.000,9,-999.0000,9,-999.000,9,   0.7854,2, -999.00,9,  -999.0,9,  -999.0,-999.000,9,    0.16,2,-999.000,9,   39.81,2,   34.22,2, -67.7383,-169.9940,-999.000,     -999.0,    34.8754,2,     -999.0,9,     -999.0,9,-999.0000,9,-999.0000,9,-999.0000,9,-999.0000,9,-999.0000,9,-999.0000,9,-999.0000,9,-999.0000,9,-999.0000,9,-999.0000,-999.000,   0.7098,     -999.0,     -999.0,9,     -999.0,9,     -999.0,9,      -1.14,2,       0.05,20110327,       1952
320620110219,       P15S,      95,          1,         14,         14,2,20110327,       1848,   -67.7383,  -169.9942,       4222,  1499.5,   0.7453,  34.7100,2,  34.7100,2,    203.4,2,   203.4,2,  120.01,2,   31.92,2,    0.00,2,    2.23,2,   0.151,2,   0.072,2,   0.007,2,   0.0380,2,  2261.9,2,  2359.2,2,   7.5956,2,    25.00,-999.000,9,-999.0000,9,-999.000,9,   0.7456,2, -999.00,9,  -999.0,9,  -999.0,-999.000,9,   -0.08,2,-999.000,9,   39.89,2,   34.00,2, -67.7383,-169.9939,-999.000,     -999.0,    34.8736,2,     -999.0,9,     -999.0,9,-999.0000,9,-999.0000,9,-999.0000,9,-999.0000,9,-999.0000,9,-999.0000,9,-999.0000,9,-999.0000,9,-999.0000,9,-999.0000,-999.000,   0.6635,     -999.0,     -999.0,9,     -999.0,9,     -999.0,9,      -1.83,2,       0.22,20110327,       1950