BOTTLE,20220813CCHSIOAMB
EXPOCODE,SECT_ID,STNNBR,CASTNO,SAMPNO,BTLNBR,BTLNBR_FLAG_W,DATE,TIME,LATITUDE,LONGITUDE,DEPTH,CTDPRS,CTDTMP,CTDSAL,CTDSAL_FLAG_W,SALNTY,SALNTY_FLAG_W,CTDOXY,CTDOXY_FLAG_W,OXYGEN,OXYGEN_FLAG_W,SILCAT,SILCAT_FLAG_W,NITRAT,NITRAT_FLAG_W,NITRIT,NITRIT_FLAG_W,PHSPHT,PHSPHT_FLAG_W,CFC-11,CFC-11_FLAG_W,CFC-12,CFC-12_FLAG_W,CFC113,CFC113_FLAG_W,SF6,SF6_FLAG_W,TCARBN,TCARBN_FLAG_W,ALKALI,ALKALI_FLAG_W,PH_TOT,PH_TOT_FLAG_W,PH_TMP,TRITUM,TRITUM_FLAG_W,HELIUM,HELIUM_FLAG_W,DELHE3,DELHE3_FLAG_W,REFTMP,REFTMP_FLAG_W,DELC13,DELC13_FLAG_W,DELC14,DELC14_FLAG_W,C14ERR,NEON,NEON_FLAG_W,DELO18,DELO18_FLAG_W,POC,POC_FLAG_W,DOC,DOC_FLAG_W,TDN,TDN_FLAG_W,BTL_LAT,BTL_LON,TRITER,NEONER,SALTREF,SALTREF_FLAG_W,PIGMENTS,PIGMENTS_FLAG_W,LAB_DEN,LAB_DEN_FLAG_W,CDOM325,CDOM325_FLAG_W,CDOM340,CDOM340_FLAG_W,CDOM380,CDOM380_FLAG_W,CDOM412,CDOM412_FLAG_W,CDOM443,CDOM443_FLAG_W,CDOM490,CDOM490_FLAG_W,CDOM555,CDOM555_FLAG_W,CDOMSL,CDOMSL_FLAG_W,CDOMSN,CDOMSN_FLAG_W,HELIER,DELHER,THETA,LDEO_SAMPNO,ABSORBTION,ABSORBTION_FLAG_W,IMAGE_COUNT,IMAGE_COUNT_FLAG_W,CYTO_COUNT,CYTO_COUNT_FLAG_W,DELD,DELD_FLAG_W,DELDERR,BTL_DATE,BTL_TIME
,,,,,,,,,,,METERS,DBAR,ITS-90,PSS-78,,PSS-78,,UMOL/KG,,UMOL/KG,,UMOL/KG,,UMOL/KG,,UMOL/KG,,UMOL/KG,,PMOL/KG,,PMOL/KG,,PMOL/KG,,FMOL/KG,,UMOL/KG,,UMOL/KG,,,,DEG C,TU,,NMOL/KG,,PERCNT,,DEG C,,/MILLE,,/MILLE,,/MILLE,NMOL/KG,,/MILLE,,UG/KG,,UMOL/KG,,UMOL/KG,,,,TU,NMOL/KG,G/KG,,,,,,1/M,,1/M,,1/M,,1/M,,1/M,,1/M,,1/M,,1/NM,,1/NM,,NMOL/KG,PERCNT,DEG C,,,,,,,,/MILLE,,/MILLE,,
320620110219,       S04P,     137,          1,         12,         12,2,20110418,       2255,   -67.0001,   -73.1937,       2672,  1334.2,   1.0834,  34.7212,2,  34.7212,2,    197.7,2,   197.7,2,  109.84,2,   31.85,2,    0.00,2,    2.18,2,   0.115,2,   0.058,2,   0.013,2,   0.0270,2,  2260.7,2,  2369.5,4,   7.5984,2,    25.00,-999.000,9,-999.0000,9,-999.000,9,   1.0835,2, -999.00,9,  -999.0,9,  -999.0,-999.000,9, -999.00,9,-999.000,9, -999.00,9, -999.00,9, -67.0002, -73.1939,-999.000,     -999.0,    34.8849,2,     -999.0,9,     -999.0,9,-999.0000,9,-999.0000,9,-999.0000,9,-999.0000,9,-999.0000,9,-999.0000,9,-999.0000,9,-999.0000,9,-999.0000,9,-999.0000,-999.000,   1.0088,     -999.0,     -999.0,9,     -999.0,9,     -999.0,9,     -999.0,9,     -999.0,20110418,       2328
320620110219,       S04P,     137,          1,         11,         11,2,20110418,       2255,   -67.0001,   -73.1937,       2672,  1435.0,   1.0009,  34.7184,2,  34.7198,2,    199.7,2,   199.9,2,  112.09,2,   31.86,2,    0.00,2,    2.19,2,-999.000,9,-999.000,9,-999.000,9,-999.0000,9,  -999.0,9,  -999.0,9,-999.0000,9,  -999.00,-999.000,9,-999.0000,9,-999.000,9,   1.0002,2, -999.00,9,  -999.0,9,  -999.0,-999.000,9, -999.00,9,-999.000,9, -999.00,9, -999.00,9, -67.0001, -73.1942,-999.000,     -999.0,    34.8835,2,     -999.0,9,     -999.0,9,-999.0000,9,-999.0000,9,-999.0000,9,-999.0000,9,-999.0000,9,-999.0000,9,-999.0000,9,-999.0000,9,-999.0000,9,-999.0000,-999.000,   0.9204,     -999.0,     -999.0,9,     -999.0,9,     -999.0,9,     -999.0,9,     -999.0,20110418,       2325
320620110219,       S04P,     137,          1,         10,         37,2,20110418,       2255,   -67.0001,   -73.1937,       2672,  1535.0,   0.9502,  34.7168,2,  34.7176,2,    200.6,2,   200.3,2,  113.39,2,   31.86,2,    0.00,2,    2.19,2,-999.000,9,-999.000,9,-999.000,9,-999.0000,9,  -999.0,9,  -999.0,9,-999.0000,9,  -999.00,-999.000,9,-999.0000,9,-999.000,9,   0.9503,2, -999.00,9,  -999.0,9,  -999.0,-999.000,9, -999.00,9,-999.000,9, -999.00,9, -999.00,9, -66.9999, -73.1944,-999.000,     -999.0,    34.8813,2,     -999.0,9,     -999.0,9,-999.0000,9,-999.0000,9,-999.0000,9,-999.0000,9,-999.0000,9,-999.0000,9,-999.0000,9,-999.0000,9,-999.0000,9,-999.0000,-999.000,   0.8635,     -999.0,     -999.0,9,     -999.0,9,     -999.0,9,     -999.0,9,     -999.0,20110418,       2323
320620110219,       S04P,     137,          1,          9,          9,2,20110418,       2255,   -67.0001,   -73.1937,       2672,  1633.9,   0.8881,  34.7144,2,  34.7153,2,    201.0,2,   200.8,2,  115.74,2,   31.90,2,    0.00,2,    2.20,2,-999.000,9,-999.000,9,-999.000,9,-999.0000,9,  -999.0,9,  -999.0,9,-999.0000,9,  -999.00,-999.000,9,-999.0000,9,-999.000,9,   0.8880,2, -999.00,9,  -999.0,9,  -999.0,-999.000,9, -999.00,9,-999.000,9, -999.00,9, -999.00,9, -66.9999, -73.1945,-999.000,     -999.0,    34.8790,2,     -999.0,9,     -999.0,9,-999.0000,9,-999.0000,9,-999.0000,9,-999.0000,9,-999.0000,9,-999.0000,9,-999.0000,9,-999.0000,9,-999.0000,9,-999.0000,-999.000,   0.7952,     -999.0,     -999.0,9,     -999.0,9,     -999.0,9,     -999.0,9,     -999.0,20110418,       2320
320620110219,       S04P,     137,          1,          8,          8,2,20110418,       2255,   -67.0001,   -73.1937,       2672,  1736.0,   0.8166,  34.7123,2,  34.7131,2,    202.1,2,   201.9,2,  118.10,2,   31.93,2,    0.00,2,    2.20,2,-999.000,9,-999.000,9,-999.000,9,-999.0000,9,  2260.3,2,  2363.5,2,   7.6001,2,    25.00,-999.000,9,-999.0000,9,-999.000,9,   0.8164,2, -999.00,9,  -999.0,9,  -999.0,-999.000,9, -999.00,9,-999.000,9, -999.00,9, -999.00,9, -66.9999, -73.1940,-999.000,     -999.0,    34.8768,2,     -999.0,9,     -999.0,9,-999.0000,9,-999.0000,9,-999.0000,9,-999.0000,9,-999.0000,9,-999.0000,9,-999.0000,9,-999.0000,9,-999.0000,9,-999.0000,-999.000,   0.7174,     -999.0,     -999.0,9,     -999.0,9,     -999.0,9,     -999.0,9,     -999.0,20110418,       2318
320620110219,       S04P,     137,          1,          7,          7,2,20110418,       2255,   -67.0001,   -73.1937,       2672,  1835.1,   0.7238,  34.7093,2,  34.7108,2,    204.0,2,   204.1,2,  120.67,2,   32.01,2,    0.00,2,    2.21,2,   0.177,2,   0.087,2,   0.016,2,   0.0330,2,  -999.0,9,  -999.0,9,-999.0000,9,  -999.00,-999.000,9,-999.0000,9,-999.000,9,   0.7232,2, -999.00,9,  -999.0,9,  -999.0,-999.000,9, -999.00,9,-999.000,9, -999.00,9, -999.00,9, -66.9999, -73.1936,-999.000,     -999.0,    34.8744,2,     -999.0,9,     -999.0,9,-999.0000,9,-999.0000,9,-999.0000,9,-999.0000,9,-999.0000,9,-999.0000,9,-999.0000,9,-999.0000,9,-999.0000,9,-999.0000,-999.000,   0.6188,     -999.0,     -999.0,9,     -999.0,9,     -999.0,9,     -999.0,9,     -999.0,20110418,       2315
320620110219,       S04P,     137,          1,          6,          6,2,20110418,       2255,   -67.0001,   -73.1937,       2672,  1934.0,   0.6613,  34.7079,2,  34.7086,2,    205.1,2,   205.6,2,  122.53,2,   32.10,2,    0.00,2,    2.21,2,-999.000,9,-999.000,9,-999.000,9,-999.0000,9,  -999.0,9,  -999.0,9,-999.0000,9,  -999.00,-999.000,9,-999.0000,9,-999.000,9,   0.6616,2, -999.00,9,  -999.0,9,  -999.0,-999.000,9, -999.00,9,-999.000,9, -999.00,9, -999.00,9, -66.9999, -73.1935,-999.000,     -999.0,    34.8723,2,     -999.0,9,     -999.0,9,-999.0000,9,-999.0000,9,-999.0000,9,-999.0000,9,-999.0000,9,-999.0000,9,-999.0000,9,-999.0000,9,-999.0000,9,-999.0000,-999.000,   0.5500,     -999.0,     -999.0,9,     -999.0,9,     -999.0,9,     -999.0,9,     -999.0,20110418,       2312
320620110219,       S04P,     137,          1,          5,          5,2,20110418,       2255,   -67.0001,   -73.1937,       2672,  2065.0,   0.5909,  34.7061,2,  34.7070,2,    206.2,2,   206.8,2,  124.48,2,   32.11,2,    0.00,2,    2.21,2,   0.151,2,   0.077,2,   0.014,2,   0.0300,2,  -999.0,9,  -999.0,9,-999.0000,9,  -999.00,-999.000,9,-999.0000,9,-999.000,9,   0.5914,2, -999.00,9,  -999.0,9,  -999.0,-999.000,9, -999.00,9,-999.000,9, -999.00,9, -999.00,9, -66.9999, -73.1938,-999.000,     -999.0,    34.8707,2,     -999.0,9,     -999.0,9,-999.0000,9,-999.0000,9,-999.0000,9,-999.0000,9,-999.0000,9,-999.0000,9,-999.0000,9,-999.0000,9,-999.0000,9,-999.0000,-999.000,   0.4710,     -999.0,     -999.0,9,     -999.0,9,     -999.0,9,     -999.0,9,     -999.0,20110418,       2309
320620110219,       S04P,     137,          1,          4,          4,2,20110418,       2255,   -67.0001,   -73.1937,       2672,  2263.6,   0.5145,  34.7046,2,  34.7051,2,    208.0,2,   208.0,2,  127.36,2,   32.25,2,    0.00,2,    2.22,2,-999.000,9,-999.000,9,-999.000,9,-999.0000,9,  -999.0,9,  -999.0,9,-999.0000,9,  -999.00,-999.000,9,-999.0000,9,-999.000,9,   0.5161,2, -999.00,9,  -999.0,9,  -999.0,-999.000,9, -999.00,9,-999.000,9, -999.00,9, -999.00,9, -66.9999, -73.1937,-999.000,     -999.0,    34.8687,2,     -999.0,9,     -999.0,9,-999.0000,9,-999.0000,9,-999.0000,9,-999.0000,9,-999.0000,9,-999.0000,9,-999.0000,9,-999.0000,9,-999.0000,9,-999.0000,-999.000,   0.3807,     -999.0,     -999.0,9,     -999.0,9,     -999.0,9,     -999.0,9,     -999.0,20110418,       2305
320620110219,       S04P,     137,          1,          3,          3,2,20110418,       2255,   -67.0001,   -73.1937,       2672,  2465.8,   0.4732,  34.7028,2,  34.7037,2,    209.1,2,   208.6,2,  128.92,2,   32.24,2,    0.00,2,    2.22,2,   0.185,2,   0.098,2,   0.016,2,   0.0470,2,  2263.0,2,  2366.2,6,   7.5993,2,    25.00,-999.000,9,-999.0000,9,-999.000,9,   0.4732,2, -999.00,9,  -999.0,9,  -999.0,-999.000,9, -999.00,9,-999.000,9, -999.00,9, -999.00,9, -67.0001, -73.1938,-999.000,     -999.0,    34.8673,2,     -999.0,9,     -999.0,9,-999.0000,9,-999.0000,9,-999.0000,9,-999.0000,9,-999.0000,9,-999.0000,9,-999.0000,9,-999.0000,9,-999.0000,9,-999.0000,-999.000,   0.3242,     -999.0,     -999.0,9,     -999.0,9,     -999.0,9,     -999.0,9,     -999.0,20110418,       2301
320620110219,       S04P,     137,          1,          2,          2,2,20110418,       2255,   -67.0001,   -73.1937,       2672,  2602.1,   0.4514,  34.7022,2,  34.7033,2,    209.5,2,   209.4,2,  130.57,2,   32.20,2,    0.00,2,    2.23,2,-999.000,9,-999.000,9,-999.000,9,-999.0000,9,  2265.5,2,  -999.0,9,   7.5979,6,    25.00,-999.000,9,-999.0000,9,-999.000,9,   0.4517,2, -999.00,9,  -999.0,9,  -999.0,-999.000,9, -999.00,9,-999.000,9, -999.00,9, -999.00,9, -67.0002, -73.1938,-999.000,     -999.0,    34.8669,2,     -999.0,9,     -999.0,9,-999.0000,9,-999.0000,9,-999.0000,9,-999.0000,9,-999.0000,9,-999.0000,9,-999.0000,9,-999.0000,9,-999.0000,9,-999.0000,-999.000,   0.2917,     -999.0,     -999.0,9,     -999.0,9,     -999.0,9,     -999.0,9,     -999.0,20110418,       2258
320620110219,       S04P,     137,          1,          1,          1,2,20110418,       2255,   -67.0001,   -73.1937,       2672,  2704.7,   0.4435,  34.7020,2,  34.7033,2,    209.7,2,   210.1,2,  132.10,2,   32.26,2,    0.00,2,    2.22,2,   0.188,2,   0.097,2,   0.015,2,   0.0270,2,  2265.8,6,  2366.9,2,   7.5965,2,    25.00,-999.000,9,-999.0000,9,-999.000,9,   0.4434,2, -999.00,9,  -999.0,9,  -999.0,-999.000,9, -999.00,9,-999.000,9, -999.00,9, -999.00,9, -67.0002, -73.1937,-999.000,     -999.0,    34.8669,2,     -999.0,9,     -999.0,9,-999.0000,9,-999.0000,9,-999.0000,9,-999.0000,9,-999.0000,9,-999.0000,9,-999.0000,9,-999.0000,9,-999.0000,9,-999.0000,-999.000,   0.2754,     -999.0,     -999.0,9,     -999.0,9,     -999.0,9,     -999.0,9,     -999.0,20110418,       2255