BOTTLE,20220813CCHSIOAMB
EXPOCODE,SECT_ID,STNNBR,CASTNO,SAMPNO,BTLNBR,BTLNBR_FLAG_W,DATE,TIME,LATITUDE,LONGITUDE,DEPTH,CTDPRS,CTDTMP,CTDSAL,CTDSAL_FLAG_W,SALNTY,SALNTY_FLAG_W,CTDOXY,CTDOXY_FLAG_W,OXYGEN,OXYGEN_FLAG_W,SILCAT,SILCAT_FLAG_W,NITRAT,NITRAT_FLAG_W,NITRIT,NITRIT_FLAG_W,PHSPHT,PHSPHT_FLAG_W,CFC-11,CFC-11_FLAG_W,CFC-12,CFC-12_FLAG_W,CFC113,CFC113_FLAG_W,SF6,SF6_FLAG_W,TCARBN,TCARBN_FLAG_W,ALKALI,ALKALI_FLAG_W,PH_TOT,PH_TOT_FLAG_W,PH_TMP,TRITUM,TRITUM_FLAG_W,HELIUM,HELIUM_FLAG_W,DELHE3,DELHE3_FLAG_W,REFTMP,REFTMP_FLAG_W,DELC13,DELC13_FLAG_W,DELC14,DELC14_FLAG_W,C14ERR,NEON,NEON_FLAG_W,DELO18,DELO18_FLAG_W,POC,POC_FLAG_W,DOC,DOC_FLAG_W,TDN,TDN_FLAG_W,BTL_LAT,BTL_LON,TRITER,NEONER,SALTREF,SALTREF_FLAG_W,PIGMENTS,PIGMENTS_FLAG_W,LAB_DEN,LAB_DEN_FLAG_W,CDOM325,CDOM325_FLAG_W,CDOM340,CDOM340_FLAG_W,CDOM380,CDOM380_FLAG_W,CDOM412,CDOM412_FLAG_W,CDOM443,CDOM443_FLAG_W,CDOM490,CDOM490_FLAG_W,CDOM555,CDOM555_FLAG_W,CDOMSL,CDOMSL_FLAG_W,CDOMSN,CDOMSN_FLAG_W,HELIER,DELHER,THETA,LDEO_SAMPNO,ABSORBTION,ABSORBTION_FLAG_W,IMAGE_COUNT,IMAGE_COUNT_FLAG_W,CYTO_COUNT,CYTO_COUNT_FLAG_W,DELD,DELD_FLAG_W,DELDERR,BTL_DATE,BTL_TIME
,,,,,,,,,,,METERS,DBAR,ITS-90,PSS-78,,PSS-78,,UMOL/KG,,UMOL/KG,,UMOL/KG,,UMOL/KG,,UMOL/KG,,UMOL/KG,,PMOL/KG,,PMOL/KG,,PMOL/KG,,FMOL/KG,,UMOL/KG,,UMOL/KG,,,,DEG C,TU,,NMOL/KG,,PERCNT,,DEG C,,/MILLE,,/MILLE,,/MILLE,NMOL/KG,,/MILLE,,UG/KG,,UMOL/KG,,UMOL/KG,,,,TU,NMOL/KG,G/KG,,,,,,1/M,,1/M,,1/M,,1/M,,1/M,,1/M,,1/M,,1/NM,,1/NM,,NMOL/KG,PERCNT,DEG C,,,,,,,,/MILLE,,/MILLE,,
320620110219,       P16S,      57,          1,         13,         13,2,20110314,       2102,   -72.9694,  -150.0000,       4143,  1500.0,   0.9192,  34.7164,2,  34.7167,2,    200.1,2,   200.3,2,  116.21,2,   32.06,2,    0.00,2,    2.23,2,   0.107,2,   0.054,2,   0.005,2,-999.0000,9,  2259.9,6,  2360.1,2,   7.5935,2,    25.00,   0.001,2,    2.053,2,  10.110,2,   0.9191,2, -999.00,9,  -999.0,9,  -999.0,   8.924,2, -999.00,9,-999.000,9, -999.00,9, -999.00,9, -72.9694,-150.0000,   0.005,      0.011,    34.8804,2,     -999.0,9,     -999.0,9,-999.0000,9,-999.0000,9,-999.0000,9,-999.0000,9,-999.0000,9,-999.0000,9,-999.0000,9,-999.0000,9,-999.0000,9,    0.000,   0.216,   0.8352,50005701013,     -999.0,9,     -999.0,9,     -999.0,9,     -999.0,9,     -999.0,20110314,       2203
320620110219,       P16S,      57,          1,         12,         12,2,20110314,       2102,   -72.9694,  -150.0000,       4143,  1600.2,   0.8757,  34.7147,2,  34.7155,2,    201.2,2,   200.6,2,  117.68,2,   32.07,2,    0.00,2,    2.23,2,-999.000,9,-999.000,9,-999.000,9,-999.0000,9,  -999.0,9,  -999.0,9,-999.0000,9,  -999.00,-999.000,9,-999.0000,9,-999.000,9,   0.8758,2, -999.00,9,  -999.0,9,  -999.0,-999.000,9, -999.00,9,-999.000,9, -999.00,9, -999.00,9, -72.9694,-150.0000,-999.000,     -999.0,    34.8792,2,     -999.0,9,     -999.0,9,-999.0000,9,-999.0000,9,-999.0000,9,-999.0000,9,-999.0000,9,-999.0000,9,-999.0000,9,-999.0000,9,-999.0000,9,-999.0000,-999.000,   0.7853,     -999.0,     -999.0,9,     -999.0,9,     -999.0,9,     -999.0,9,     -999.0,20110314,       2201
320620110219,       P16S,      57,          1,         11,         11,2,20110314,       2102,   -72.9694,  -150.0000,       4143,  1800.5,   0.7927,  34.7113,2,  34.7116,2,    202.9,2,   203.2,2,  120.81,2,   32.06,2,    0.00,2,    2.23,2,   0.111,2,   0.063,2,   0.005,2,-999.0000,9,  2259.4,2,  2360.8,2,   7.5956,2,    25.00,   0.001,2,    2.076,2,  10.340,2,   0.7929,2, -999.00,9,  -999.0,9,  -999.0,   9.067,2, -999.00,9,-999.000,9, -999.00,9, -999.00,9, -72.9694,-150.0000,   0.004,      0.016,    34.8753,2,     -999.0,9,     -999.0,9,-999.0000,9,-999.0000,9,-999.0000,9,-999.0000,9,-999.0000,9,-999.0000,9,-999.0000,9,-999.0000,9,-999.0000,9,    0.001,   0.194,   0.6892,50005701011,     -999.0,9,     -999.0,9,     -999.0,9,     -999.0,9,     -999.0,20110314,       2156
320620110219,       P16S,      57,          1,         10,         37,2,20110314,       2102,   -72.9694,  -150.0000,       4143,  1999.5,   0.7213,  34.7088,2,  34.7092,2,    204.7,2,   204.3,2,  123.39,2,   32.06,2,    0.00,2,    2.23,2,-999.000,9,-999.000,9,-999.000,9,-999.0000,9,  -999.0,9,  -999.0,9,-999.0000,9,  -999.00,-999.000,9,-999.0000,9,-999.000,9,   0.7219,2, -999.00,9,  -999.0,9,  -999.0,-999.000,9, -999.00,9,-999.000,9, -999.00,9, -999.00,9, -72.9694,-150.0000,-999.000,     -999.0,    34.8729,2,     -999.0,9,     -999.0,9,-999.0000,9,-999.0000,9,-999.0000,9,-999.0000,9,-999.0000,9,-999.0000,9,-999.0000,9,-999.0000,9,-999.0000,9,-999.0000,-999.000,   0.6042,     -999.0,     -999.0,9,     -999.0,9,     -999.0,9,     -999.0,9,     -999.0,20110314,       2152
320620110219,       P16S,      57,          1,          9,          9,2,20110314,       2102,   -72.9694,  -150.0000,       4143,  2248.8,   0.6367,  34.7064,2,  34.7073,2,    206.4,2,   206.5,2,  125.27,2,   32.17,2,    0.00,2,    2.24,2,   0.141,2,   0.077,2,   0.006,2,-999.0000,9,  2259.8,2,  2360.9,2,   7.5992,2,    25.00,   0.001,2,    2.070,2,  10.381,2,   0.6371,2, -999.00,9,  -999.0,9,  -999.0,   8.978,2, -999.00,9,-999.000,9, -999.00,9, -999.00,9, -72.9694,-150.0000,   0.004,      0.011,    34.8709,2,     -999.0,9,     -999.0,9,-999.0000,9,-999.0000,9,-999.0000,9,-999.0000,9,-999.0000,9,-999.0000,9,-999.0000,9,-999.0000,9,-999.0000,9,    0.000,   0.212,   0.5019,50005701009,     -999.0,9,     -999.0,9,     -999.0,9,     -999.0,9,     -999.0,20110314,       2147
320620110219,       P16S,      57,          1,          8,          8,2,20110314,       2102,   -72.9694,  -150.0000,       4143,  2499.7,   0.5446,  34.7046,2,  34.7051,2,    208.6,2,   208.8,2,  126.95,2,   32.23,2,    0.00,2,    2.24,2,-999.000,9,-999.000,9,-999.000,9,-999.0000,9,  -999.0,9,  -999.0,9,-999.0000,9,  -999.00,-999.000,9,-999.0000,9,-999.000,9,   0.5450,2, -999.00,9,  -999.0,9,  -999.0,-999.000,9, -999.00,9,-999.000,9, -999.00,9, -999.00,9, -72.9694,-150.0000,-999.000,     -999.0,    34.8687,2,     -999.0,9,     -999.0,9,-999.0000,9,-999.0000,9,-999.0000,9,-999.0000,9,-999.0000,9,-999.0000,9,-999.0000,9,-999.0000,9,-999.0000,9,-999.0000,-999.000,   0.3915,     -999.0,     -999.0,9,     -999.0,9,     -999.0,9,     -999.0,9,     -999.0,20110314,       2141
320620110219,       P16S,      57,          1,          7,          7,2,20110314,       2102,   -72.9694,  -150.0000,       4143,  2749.9,   0.4705,  34.7039,2,  34.7069,4,    210.4,2,   209.9,2,  129.19,2,   32.30,2,    0.00,2,    2.24,2,   0.151,2,   0.082,2,   0.006,2,-999.0000,9,  2260.8,2,  2362.1,2,   7.5941,2,    25.00,   0.001,2,    2.031,2,   9.786,2,   0.4704,2, -999.00,9,  -999.0,9,  -999.0,   8.889,2, -999.00,9,-999.000,9, -999.00,9, -999.00,9, -72.9694,-150.0000,   0.004,      0.011,    34.8705,4,     -999.0,9,     -999.0,9,-999.0000,9,-999.0000,9,-999.0000,9,-999.0000,9,-999.0000,9,-999.0000,9,-999.0000,9,-999.0000,9,-999.0000,9,    0.000,   0.200,   0.2980,50005701007,     -999.0,9,     -999.0,9,     -999.0,9,     -999.0,9,     -999.0,20110314,       2135
320620110219,       P16S,      57,          1,          6,          6,2,20110314,       2102,   -72.9694,  -150.0000,       4143,  2998.7,   0.4141,  34.7036,2,  34.7055,4,    211.5,2,   211.3,2,  131.99,2,   32.39,2,    0.00,2,    2.25,2,-999.000,9,-999.000,9,-999.000,9,-999.0000,9,  -999.0,9,  -999.0,9,-999.0000,9,  -999.00,-999.000,9,-999.0000,9,-999.000,9,   0.4141,2, -999.00,9,  -999.0,9,  -999.0,-999.000,9, -999.00,9,-999.000,9, -999.00,9, -999.00,9, -72.9694,-150.0000,-999.000,     -999.0,    34.8691,4,     -999.0,9,     -999.0,9,-999.0000,9,-999.0000,9,-999.0000,9,-999.0000,9,-999.0000,9,-999.0000,9,-999.0000,9,-999.0000,9,-999.0000,9,-999.0000,-999.000,   0.2213,     -999.0,     -999.0,9,     -999.0,9,     -999.0,9,     -999.0,9,     -999.0,20110314,       2130
320620110219,       P16S,      57,          1,          5,          5,2,20110314,       2102,   -72.9694,  -150.0000,       4143,  3299.7,   0.3701,  34.7030,2,  34.7037,2,    213.3,2,   213.2,2,  134.29,2,   32.46,2,    0.00,2,    2.24,2,   0.173,2,   0.090,2,   0.008,2,-999.0000,9,  -999.0,9,  -999.0,9,-999.0000,9,  -999.00,   0.001,2,    2.067,2,   9.100,2,   0.3701,2, -999.00,9,  -999.0,9,  -999.0,   9.107,2,   -0.19,2,-999.000,9, -999.00,9, -999.00,9, -72.9694,-150.0000,   0.004,      0.015,    34.8674,2,     -999.0,9,     -999.0,9,-999.0000,9,-999.0000,9,-999.0000,9,-999.0000,9,-999.0000,9,-999.0000,9,-999.0000,9,-999.0000,9,-999.0000,9,    0.001,   0.193,   0.1512,50005701005,     -999.0,9,     -999.0,9,     -999.0,9,      -2.26,2,       0.08,20110314,       2123
320620110219,       P16S,      57,          1,          4,          4,2,20110314,       2102,   -72.9694,  -150.0000,       4143,  3600.0,   0.3276,  34.7022,2,  34.7025,2,    214.9,2,   214.6,2,  136.05,2,   32.39,2,    0.00,2,    2.25,2,-999.000,9,-999.000,9,-999.000,9,-999.0000,9,  2260.7,2,  2362.8,2,   7.5943,4,    25.00,-999.000,9,-999.0000,9,-999.000,9,   0.3283,2, -999.00,9,  -999.0,9,  -999.0,-999.000,9, -999.00,9,-999.000,9, -999.00,9, -999.00,9, -72.9694,-150.0000,-999.000,     -999.0,    34.8662,2,     -999.0,9,     -999.0,9,-999.0000,9,-999.0000,9,-999.0000,9,-999.0000,9,-999.0000,9,-999.0000,9,-999.0000,9,-999.0000,9,-999.0000,9,-999.0000,-999.000,   0.0815,     -999.0,     -999.0,9,     -999.0,9,     -999.0,9,     -999.0,9,     -999.0,20110314,       2117
320620110219,       P16S,      57,          1,          3,          3,2,20110314,       2102,   -72.9694,  -150.0000,       4143,  3899.9,   0.2855,  34.7004,2,  34.7019,2,    216.5,2,   216.6,2,  134.52,2,   32.37,2,    0.00,2,    2.24,2,   0.399,2,   0.197,2,   0.018,2,-999.0000,9,  2260.1,2,  2363.0,6,   7.5940,4,    25.00,   0.001,2,    2.069,2,   8.191,2,   0.2851,2, -999.00,9,  -999.0,9,  -999.0,   9.108,2,   -0.20,2,-999.000,9, -999.00,9, -999.00,9, -72.9694,-150.0000,   0.004,      0.015,    34.8656,2,     -999.0,9,     -999.0,9,-999.0000,9,-999.0000,9,-999.0000,9,-999.0000,9,-999.0000,9,-999.0000,9,-999.0000,9,-999.0000,9,-999.0000,9,    0.001,   0.205,   0.0110,50005701003,     -999.0,9,     -999.0,9,     -999.0,9,      -2.66,2,       0.07,20110314,       2110
320620110219,       P16S,      57,          1,          2,          2,2,20110314,       2102,   -72.9694,  -150.0000,       4143,  4159.4,   0.2097,  34.6972,2,  34.6988,2,    220.2,2,   219.7,2,  126.69,2,   32.43,2,    0.00,2,    2.25,2,-999.000,9,-999.000,9,-999.000,9,-999.0000,9,  2259.7,2,  2359.0,2,   7.5909,4,    25.00,-999.000,9,-999.0000,9,-999.000,9,   0.2102,2, -999.00,9,  -999.0,9,  -999.0,-999.000,9, -999.00,9,-999.000,9, -999.00,9, -999.00,9, -72.9694,-150.0000,-999.000,     -999.0,    34.8624,2,     -999.0,9,     -999.0,9,-999.0000,9,-999.0000,9,-999.0000,9,-999.0000,9,-999.0000,9,-999.0000,9,-999.0000,9,-999.0000,9,-999.0000,9,-999.0000,-999.000,  -0.0890,     -999.0,     -999.0,9,     -999.0,9,     -999.0,9,     -999.0,9,     -999.0,20110314,       2105
320620110219,       P16S,      57,          1,          1,          1,2,20110314,       2102,   -72.9694,  -150.0000,       4143,  4217.1,   0.2153,  34.6973,2,  34.6984,2,    219.8,2,   220.8,2,  127.65,2,   32.45,2,    0.00,2,    2.25,2,   0.784,2,   0.381,2,   0.037,2,-999.0000,9,  2261.3,6,  2358.8,2,   7.5883,2,    25.00,   0.004,2,    2.019,2,   7.639,2,   0.2149,2, -999.00,9,  -999.0,9,  -999.0,   8.903,2,   -0.29,2,-999.000,9, -999.00,9, -999.00,9, -72.9694,-150.0000,   0.004,      0.007,    34.8620,2,     -999.0,9,     -999.0,9,-999.0000,9,-999.0000,9,-999.0000,9,-999.0000,9,-999.0000,9,-999.0000,9,-999.0000,9,-999.0000,9,-999.0000,9,    0.000,   0.201,  -0.0895,50005701001,     -999.0,9,     -999.0,9,     -999.0,9,      -2.77,2,       0.13,20110314,       2102