BOTTLE,20220813CCHSIOAMB
EXPOCODE,SECT_ID,STNNBR,CASTNO,SAMPNO,BTLNBR,BTLNBR_FLAG_W,DATE,TIME,LATITUDE,LONGITUDE,DEPTH,CTDPRS,CTDTMP,CTDSAL,CTDSAL_FLAG_W,SALNTY,SALNTY_FLAG_W,CTDOXY,CTDOXY_FLAG_W,OXYGEN,OXYGEN_FLAG_W,SILCAT,SILCAT_FLAG_W,NITRAT,NITRAT_FLAG_W,NITRIT,NITRIT_FLAG_W,PHSPHT,PHSPHT_FLAG_W,CFC-11,CFC-11_FLAG_W,CFC-12,CFC-12_FLAG_W,CFC113,CFC113_FLAG_W,SF6,SF6_FLAG_W,TCARBN,TCARBN_FLAG_W,ALKALI,ALKALI_FLAG_W,PH_TOT,PH_TOT_FLAG_W,PH_TMP,TRITUM,TRITUM_FLAG_W,HELIUM,HELIUM_FLAG_W,DELHE3,DELHE3_FLAG_W,REFTMP,REFTMP_FLAG_W,DELC13,DELC13_FLAG_W,DELC14,DELC14_FLAG_W,C14ERR,NEON,NEON_FLAG_W,DELO18,DELO18_FLAG_W,POC,POC_FLAG_W,DOC,DOC_FLAG_W,TDN,TDN_FLAG_W,BTL_LAT,BTL_LON,TRITER,NEONER,SALTREF,SALTREF_FLAG_W,PIGMENTS,PIGMENTS_FLAG_W,LAB_DEN,LAB_DEN_FLAG_W,CDOM325,CDOM325_FLAG_W,CDOM340,CDOM340_FLAG_W,CDOM380,CDOM380_FLAG_W,CDOM412,CDOM412_FLAG_W,CDOM443,CDOM443_FLAG_W,CDOM490,CDOM490_FLAG_W,CDOM555,CDOM555_FLAG_W,CDOMSL,CDOMSL_FLAG_W,CDOMSN,CDOMSN_FLAG_W,HELIER,DELHER,THETA,LDEO_SAMPNO,ABSORBTION,ABSORBTION_FLAG_W,IMAGE_COUNT,IMAGE_COUNT_FLAG_W,CYTO_COUNT,CYTO_COUNT_FLAG_W,DELD,DELD_FLAG_W,DELDERR,BTL_DATE,BTL_TIME
,,,,,,,,,,,METERS,DBAR,ITS-90,PSS-78,,PSS-78,,UMOL/KG,,UMOL/KG,,UMOL/KG,,UMOL/KG,,UMOL/KG,,UMOL/KG,,PMOL/KG,,PMOL/KG,,PMOL/KG,,FMOL/KG,,UMOL/KG,,UMOL/KG,,,,DEG C,TU,,NMOL/KG,,PERCNT,,DEG C,,/MILLE,,/MILLE,,/MILLE,NMOL/KG,,/MILLE,,UG/KG,,UMOL/KG,,UMOL/KG,,,,TU,NMOL/KG,G/KG,,,,,,1/M,,1/M,,1/M,,1/M,,1/M,,1/M,,1/M,,1/NM,,1/NM,,NMOL/KG,PERCNT,DEG C,,,,,,,,/MILLE,,/MILLE,,
320620110219,       S04P,      27,          2,         36,         36,2,20110305,       1152,   -67.0005,  -172.9024,       3574,     4.3,  -0.5389,  33.7637,2,  33.7634,2,    335.3,3,   340.3,2,   58.92,2,   26.60,2,    0.17,2,    1.73,2,   5.751,2,   3.224,2,   0.559,2,-999.0000,9,  2164.9,2,  2285.7,6,   7.6695,2,    25.00,-999.000,9,-999.0000,9,-999.000,9,  -0.5388,2, -999.00,9,  -999.0,9,  -999.0,-999.000,9, -999.00,9,-999.000,9, -999.00,9, -999.00,9, -67.0006,-172.9024,-999.000,     -999.0,    33.9226,2,     -999.0,9,     -999.0,9,-999.0000,9,-999.0000,9,-999.0000,9,-999.0000,9,-999.0000,9,-999.0000,9,-999.0000,9,-999.0000,9,-999.0000,9,-999.0000,-999.000,  -0.5390,     -999.0,     -999.0,9,     -999.0,9,     -999.0,9,     -999.0,9,     -999.0,20110305,       1336
320620110219,       S04P,      27,          2,         35,         35,2,20110305,       1152,   -67.0005,  -172.9024,       3574,    26.2,  -0.5293,  33.7634,2,  33.7639,2,    339.9,2,   340.2,2,   58.80,2,   26.55,2,    0.17,2,    1.74,2,   5.785,2,   3.205,2,   0.577,2,-999.0000,9,  2165.6,2,  2283.6,2,   7.6697,6,    25.00,-999.000,9,-999.0000,9,-999.000,9,  -0.5294,2, -999.00,9,  -999.0,9,  -999.0,-999.000,9, -999.00,9,-999.000,9, -999.00,9, -999.00,9, -67.0006,-172.9024,-999.000,     -999.0,    33.9231,2,     -999.0,9,     -999.0,9,-999.0000,9,-999.0000,9,-999.0000,9,-999.0000,9,-999.0000,9,-999.0000,9,-999.0000,9,-999.0000,9,-999.0000,9,-999.0000,-999.000,  -0.5301,     -999.0,     -999.0,9,     -999.0,9,     -999.0,9,     -999.0,9,     -999.0,20110305,       1334
320620110219,       S04P,      27,          2,         34,         34,2,20110305,       1152,   -67.0005,  -172.9024,       3574,    49.3,  -0.5258,  33.7640,2,  33.7652,2,    340.1,2,   340.1,2,   58.95,2,   26.58,2,    0.17,2,    1.76,2,   5.700,2,   3.187,2,   0.543,2,-999.0000,9,  2164.8,6,  2284.4,2,   7.6712,2,    25.00,-999.000,9,-999.0000,9,-999.000,9,  -0.5267,2, -999.00,9,  -999.0,9,  -999.0,-999.000,9, -999.00,9,-999.000,9, -999.00,9, -999.00,9, -67.0006,-172.9024,-999.000,     -999.0,    33.9245,2,     -999.0,9,     -999.0,9,-999.0000,9,-999.0000,9,-999.0000,9,-999.0000,9,-999.0000,9,-999.0000,9,-999.0000,9,-999.0000,9,-999.0000,9,-999.0000,-999.000,  -0.5272,     -999.0,     -999.0,9,     -999.0,9,     -999.0,9,     -999.0,9,     -999.0,20110305,       1332
320620110219,       S04P,      27,          2,         33,         33,2,20110305,       1152,   -67.0005,  -172.9024,       3574,    76.2,  -1.7167,  34.1788,2,  34.1816,2,    286.6,2,   288.1,2,   67.25,2,   29.89,2,    0.21,2,    2.02,2,   4.052,2,   2.268,2,   0.388,2,-999.0000,9,  2206.8,2,  2309.5,2,   7.6140,2,    25.00,-999.000,9,-999.0000,9,-999.000,9,  -1.7159,2, -999.00,9,  -999.0,9,  -999.0,-999.000,9, -999.00,9,-999.000,9, -999.00,9, -999.00,9, -67.0006,-172.9024,-999.000,     -999.0,    34.3428,2,     -999.0,9,     -999.0,9,-999.0000,9,-999.0000,9,-999.0000,9,-999.0000,9,-999.0000,9,-999.0000,9,-999.0000,9,-999.0000,9,-999.0000,9,-999.0000,-999.000,  -1.7182,     -999.0,     -999.0,9,     -999.0,9,     -999.0,9,     -999.0,9,     -999.0,20110305,       1331
320620110219,       S04P,      27,          2,         32,         32,2,20110305,       1152,   -67.0005,  -172.9024,       3574,    99.1,  -1.1045,  34.2962,2,  34.2785,3,    268.9,2,   269.2,2,   70.39,2,   30.87,2,    0.09,2,    2.08,2,   3.570,2,   1.975,2,   0.323,2,-999.0000,9,  2218.3,2,  2315.6,2,   7.5981,2,    25.00,-999.000,9,-999.0000,9,-999.000,9,  -1.1084,2, -999.00,9,  -999.0,9,  -999.0,-999.000,9, -999.00,9,-999.000,9, -999.00,9, -999.00,9, -67.0006,-172.9024,-999.000,     -999.0,    34.4402,3,     -999.0,9,     -999.0,9,-999.0000,9,-999.0000,9,-999.0000,9,-999.0000,9,-999.0000,9,-999.0000,9,-999.0000,9,-999.0000,9,-999.0000,9,-999.0000,-999.000,  -1.1071,     -999.0,     -999.0,9,     -999.0,9,     -999.0,9,     -999.0,9,     -999.0,20110305,       1329
320620110219,       S04P,      27,          2,         31,         31,2,20110305,       1152,   -67.0005,  -172.9024,       3574,   127.6,   0.7109,  34.5759,2,  34.5417,3,    228.5,2,   213.1,2,   82.18,2,   32.41,2,    0.02,2,    2.19,2,-999.000,9,-999.000,9,-999.000,9,-999.0000,9,  2242.8,2,  2332.9,2,   7.5724,2,    25.00,-999.000,9,-999.0000,9,-999.000,9,   0.7211,2, -999.00,9,  -999.0,9,  -999.0,-999.000,9, -999.00,9,-999.000,9, -999.00,9, -999.00,9, -67.0006,-172.9024,-999.000,     -999.0,    34.7046,3,     -999.0,9,     -999.0,9,-999.0000,9,-999.0000,9,-999.0000,9,-999.0000,9,-999.0000,9,-999.0000,9,-999.0000,9,-999.0000,9,-999.0000,9,-999.0000,-999.000,   0.7055,     -999.0,     -999.0,9,     -999.0,9,     -999.0,9,     -999.0,9,     -999.0,20110305,       1328
320620110219,       S04P,      27,          2,         30,         30,2,20110305,       1152,   -67.0005,  -172.9024,       3574,   148.3,   1.1006,  34.6400,2,  34.6417,2,    207.9,2,   197.2,2,   86.49,2,   32.59,2,    0.01,2,    2.20,2,   1.087,2,   0.587,2,   0.082,2,-999.0000,9,  2249.7,2,  2340.6,2,   7.5706,2,    25.00,-999.000,9,-999.0000,9,-999.000,9,   1.1021,2, -999.00,9,  -999.0,9,  -999.0,-999.000,9, -999.00,9,-999.000,9, -999.00,9, -999.00,9, -67.0006,-172.9024,-999.000,     -999.0,    34.8051,2,     -999.0,9,     -999.0,9,-999.0000,9,-999.0000,9,-999.0000,9,-999.0000,9,-999.0000,9,-999.0000,9,-999.0000,9,-999.0000,9,-999.0000,9,-999.0000,-999.000,   1.0938,     -999.0,     -999.0,9,     -999.0,9,     -999.0,9,     -999.0,9,     -999.0,20110305,       1326
320620110219,       S04P,      27,          2,         29,         29,2,20110305,       1152,   -67.0005,  -172.9024,       3574,   200.4,   1.3041,  34.6834,2,  34.6831,2,    193.3,2,   193.2,2,   88.25,2,   32.19,2,    0.01,2,    2.18,2,-999.000,9,-999.000,9,-999.000,9,-999.0000,9,  2251.0,2,  2344.2,2,   7.5781,2,    25.00,-999.000,9,-999.0000,9,-999.000,9,   1.3028,2, -999.00,9,  -999.0,9,  -999.0,-999.000,9, -999.00,9,-999.000,9, -999.00,9, -999.00,9, -67.0006,-172.9024,-999.000,     -999.0,    34.8466,2,     -999.0,9,     -999.0,9,-999.0000,9,-999.0000,9,-999.0000,9,-999.0000,9,-999.0000,9,-999.0000,9,-999.0000,9,-999.0000,9,-999.0000,9,-999.0000,-999.000,   1.2945,     -999.0,     -999.0,9,     -999.0,9,     -999.0,9,     -999.0,9,     -999.0,20110305,       1325
320620110219,       S04P,      27,          2,         28,         28,2,20110305,       1152,   -67.0005,  -172.9024,       3574,   246.2,   1.3872,  34.7031,2,  34.7025,2,    192.3,2,   192.5,2,   90.22,2,   32.00,2,    0.00,2,    2.16,2,   0.612,2,   0.318,2,   0.045,2,-999.0000,9,  2252.1,2,  2345.4,2,   7.5813,2,    25.00,-999.000,9,-999.0000,9,-999.000,9,   1.3873,2, -999.00,9,  -999.0,9,  -999.0,-999.000,9, -999.00,9,-999.000,9, -999.00,9, -999.00,9, -67.0006,-172.9024,-999.000,     -999.0,    34.8661,2,     -999.0,9,     -999.0,9,-999.0000,9,-999.0000,9,-999.0000,9,-999.0000,9,-999.0000,9,-999.0000,9,-999.0000,9,-999.0000,9,-999.0000,9,-999.0000,-999.000,   1.3751,     -999.0,     -999.0,9,     -999.0,9,     -999.0,9,     -999.0,9,     -999.0,20110305,       1323
320620110219,       S04P,      27,          2,         27,         27,2,20110305,       1152,   -67.0005,  -172.9024,       3574,   300.5,   1.3857,  34.7118,2,  34.7109,2,    192.2,2,   193.3,2,   91.91,2,   31.88,2,    0.00,2,    2.14,2,-999.000,9,-999.000,9,-999.000,9,-999.0000,9,  2251.4,2,  2347.2,2,   7.5844,2,    25.00,-999.000,9,-999.0000,9,-999.000,9,   1.3855,2, -999.00,9,  -999.0,9,  -999.0,-999.000,9, -999.00,9,-999.000,9, -999.00,9, -999.00,9, -67.0006,-172.9024,-999.000,     -999.0,    34.8746,2,     -999.0,9,     -999.0,9,-999.0000,9,-999.0000,9,-999.0000,9,-999.0000,9,-999.0000,9,-999.0000,9,-999.0000,9,-999.0000,9,-999.0000,9,-999.0000,-999.000,   1.3708,     -999.0,     -999.0,9,     -999.0,9,     -999.0,9,     -999.0,9,     -999.0,20110305,       1321
320620110219,       S04P,      27,          2,         26,         26,2,20110305,       1152,   -67.0005,  -172.9024,       3574,   349.8,   1.3739,  34.7177,2,  34.7181,2,    193.1,2,   193.5,2,   93.73,2,   31.76,2,    0.00,2,    2.14,2,   0.465,2,   0.237,2,   0.032,2,-999.0000,9,  2251.5,2,  2350.7,2,   7.5870,2,    25.00,-999.000,9,-999.0000,9,-999.000,9,   1.3741,2, -999.00,9,  -999.0,9,  -999.0,-999.000,9, -999.00,9,-999.000,9, -999.00,9, -999.00,9, -67.0006,-172.9024,-999.000,     -999.0,    34.8819,2,     -999.0,9,     -999.0,9,-999.0000,9,-999.0000,9,-999.0000,9,-999.0000,9,-999.0000,9,-999.0000,9,-999.0000,9,-999.0000,9,-999.0000,9,-999.0000,-999.000,   1.3564,     -999.0,     -999.0,9,     -999.0,9,     -999.0,9,     -999.0,9,     -999.0,20110305,       1319
320620110219,       S04P,      27,          2,         25,         25,2,20110305,       1152,   -67.0005,  -172.9024,       3574,   400.8,   1.3525,  34.7202,2,  34.7209,2,    193.9,2,   194.1,2,   95.05,2,   31.72,2,    0.00,2,    2.15,2,-999.000,9,-999.000,9,-999.000,9,-999.0000,9,  2252.1,2,  2351.3,2,   7.5889,2,    25.00,-999.000,9,-999.0000,9,-999.000,9,   1.3527,2, -999.00,9,  -999.0,9,  -999.0,-999.000,9, -999.00,9,-999.000,9, -999.00,9, -999.00,9, -67.0006,-172.9023,-999.000,     -999.0,    34.8846,2,     -999.0,9,     -999.0,9,-999.0000,9,-999.0000,9,-999.0000,9,-999.0000,9,-999.0000,9,-999.0000,9,-999.0000,9,-999.0000,9,-999.0000,9,-999.0000,-999.000,   1.3324,     -999.0,     -999.0,9,     -999.0,9,     -999.0,9,     -999.0,9,     -999.0,20110305,       1317
320620110219,       S04P,      27,          2,         24,         24,2,20110305,       1152,   -67.0005,  -172.9024,       3574,   448.7,   1.3239,  34.7221,2,  34.7238,2,    194.8,2,   195.0,2,   96.84,2,   31.77,2,    0.00,2,    2.16,2,   0.404,2,   0.206,2,   0.025,2,-999.0000,9,  2254.2,2,  2351.9,2,   7.5887,2,    25.00,-999.000,9,-999.0000,9,-999.000,9,   1.3237,2, -999.00,9,  -999.0,9,  -999.0,-999.000,9, -999.00,9,-999.000,9, -999.00,9, -999.00,9, -67.0006,-172.9024,-999.000,     -999.0,    34.8875,2,     -999.0,9,     -999.0,9,-999.0000,9,-999.0000,9,-999.0000,9,-999.0000,9,-999.0000,9,-999.0000,9,-999.0000,9,-999.0000,9,-999.0000,9,-999.0000,-999.000,   1.3013,     -999.0,     -999.0,9,     -999.0,9,     -999.0,9,     -999.0,9,     -999.0,20110305,       1315
320620110219,       S04P,      27,          2,         23,         23,2,20110305,       1152,   -67.0005,  -172.9024,       3574,   498.7,   1.2804,  34.7236,2,  34.7236,2,    195.2,2,   195.2,2,   98.81,2,   31.87,2,    0.00,2,    2.16,2,-999.000,9,-999.000,9,-999.000,9,-999.0000,9,  2254.5,2,  2352.3,2,   7.5907,2,    25.00,-999.000,9,-999.0000,9,-999.000,9,   1.2806,2, -999.00,9,  -999.0,9,  -999.0,-999.000,9, -999.00,9,-999.000,9, -999.00,9, -999.00,9, -67.0006,-172.9023,-999.000,     -999.0,    34.8873,2,     -999.0,9,     -999.0,9,-999.0000,9,-999.0000,9,-999.0000,9,-999.0000,9,-999.0000,9,-999.0000,9,-999.0000,9,-999.0000,9,-999.0000,9,-999.0000,-999.000,   1.2553,     -999.0,     -999.0,9,     -999.0,9,     -999.0,9,     -999.0,9,     -999.0,20110305,       1313
320620110219,       S04P,      27,          2,         22,         22,2,20110305,       1152,   -67.0005,  -172.9024,       3574,   598.5,   1.1987,  34.7225,2,  34.7234,2,    197.0,2,   197.1,2,  100.78,2,   31.77,2,    0.00,2,    2.14,2,   0.321,2,   0.158,2,   0.019,2,-999.0000,9,  -999.0,9,  -999.0,9,-999.0000,9,  -999.00,-999.000,9,-999.0000,9,-999.000,9,   1.1985,2, -999.00,9,  -999.0,9,  -999.0,-999.000,9, -999.00,9,-999.000,9, -999.00,9, -999.00,9, -67.0006,-172.9024,-999.000,     -999.0,    34.8871,2,     -999.0,9,     -999.0,9,-999.0000,9,-999.0000,9,-999.0000,9,-999.0000,9,-999.0000,9,-999.0000,9,-999.0000,9,-999.0000,9,-999.0000,9,-999.0000,-999.000,   1.1684,     -999.0,     -999.0,9,     -999.0,9,     -999.0,9,     -999.0,9,     -999.0,20110305,       1311
320620110219,       S04P,      27,          2,         21,         21,2,20110305,       1152,   -67.0005,  -172.9024,       3574,   698.6,   1.1358,  34.7223,2,  34.7220,2,    198.7,2,   198.2,2,  103.67,2,   31.61,2,    0.00,2,    2.14,2,-999.000,9,-999.000,9,-999.000,9,-999.0000,9,  2255.4,2,  2354.7,2,   7.5945,2,    25.00,-999.000,9,-999.0000,9,-999.000,9,   1.1354,2, -999.00,9,  -999.0,9,  -999.0,-999.000,9, -999.00,9,-999.000,9, -999.00,9, -999.00,9, -67.0006,-172.9024,-999.000,     -999.0,    34.8857,2,     -999.0,9,     -999.0,9,-999.0000,9,-999.0000,9,-999.0000,9,-999.0000,9,-999.0000,9,-999.0000,9,-999.0000,9,-999.0000,9,-999.0000,9,-999.0000,-999.000,   1.1002,     -999.0,     -999.0,9,     -999.0,9,     -999.0,9,     -999.0,9,     -999.0,20110305,       1308
320620110219,       S04P,      27,          2,         20,         20,2,20110305,       1152,   -67.0005,  -172.9024,       3574,   800.4,   1.0694,  34.7210,2,  34.7210,2,    200.2,2,   200.4,2,  106.34,2,   31.63,2,    0.00,2,    2.14,2,   0.266,2,   0.135,2,   0.017,2,-999.0000,9,  -999.0,9,  -999.0,9,-999.0000,9,  -999.00,-999.000,9,-999.0000,9,-999.000,9,   1.0698,2, -999.00,9,  -999.0,9,  -999.0,-999.000,9, -999.00,9,-999.000,9, -999.00,9, -999.00,9, -67.0006,-172.9024,-999.000,     -999.0,    34.8847,2,     -999.0,9,     -999.0,9,-999.0000,9,-999.0000,9,-999.0000,9,-999.0000,9,-999.0000,9,-999.0000,9,-999.0000,9,-999.0000,9,-999.0000,9,-999.0000,-999.000,   1.0284,     -999.0,     -999.0,9,     -999.0,9,     -999.0,9,     -999.0,9,     -999.0,20110305,       1305
320620110219,       S04P,      27,          2,         19,         19,2,20110305,       1152,   -67.0005,  -172.9024,       3574,   899.0,   0.9947,  34.7186,2,  34.7192,2,    200.8,2,   201.0,2,  109.02,2,   31.68,2,    0.00,2,    2.16,2,-999.000,9,-999.000,9,-999.000,9,-999.0000,9,  2258.8,2,  2356.9,6,   7.5956,2,    25.00,-999.000,9,-999.0000,9,-999.000,9,   0.9948,2, -999.00,9,  -999.0,9,  -999.0,-999.000,9, -999.00,9,-999.000,9, -999.00,9, -999.00,9, -67.0006,-172.9023,-999.000,     -999.0,    34.8829,2,     -999.0,9,     -999.0,9,-999.0000,9,-999.0000,9,-999.0000,9,-999.0000,9,-999.0000,9,-999.0000,9,-999.0000,9,-999.0000,9,-999.0000,9,-999.0000,-999.000,   0.9484,     -999.0,     -999.0,9,     -999.0,9,     -999.0,9,     -999.0,9,     -999.0,20110305,       1302
320620110219,       S04P,      27,          2,         18,         18,2,20110305,       1152,   -67.0005,  -172.9024,       3574,  1001.0,   0.9375,  34.7163,2,  34.7170,2,    202.1,2,   202.4,2,  110.28,2,   31.75,2,    0.00,2,    2.15,2,   0.232,2,   0.113,2,   0.016,2,-999.0000,9,  -999.0,9,  -999.0,9,-999.0000,9,  -999.00,-999.000,9,-999.0000,9,-999.000,9,   0.9376,2, -999.00,9,  -999.0,9,  -999.0,-999.000,9, -999.00,9,-999.000,9, -999.00,9, -999.00,9, -67.0006,-172.9024,-999.000,     -999.0,    34.8807,2,     -999.0,9,     -999.0,9,-999.0000,9,-999.0000,9,-999.0000,9,-999.0000,9,-999.0000,9,-999.0000,9,-999.0000,9,-999.0000,9,-999.0000,9,-999.0000,-999.000,   0.8855,     -999.0,     -999.0,9,     -999.0,9,     -999.0,9,     -999.0,9,     -999.0,20110305,       1300
320620110219,       S04P,      27,          2,         17,         17,2,20110305,       1152,   -67.0005,  -172.9024,       3574,  1098.2,   0.8830,  34.7144,2,  34.7150,2,    203.0,2,   202.8,2,  113.30,2,   31.85,2,    0.00,2,    2.16,2,-999.000,9,-999.000,9,-999.000,9,-999.0000,9,  -999.0,9,  -999.0,9,-999.0000,9,  -999.00,-999.000,9,-999.0000,9,-999.000,9,   0.8831,2, -999.00,9,  -999.0,9,  -999.0,-999.000,9, -999.00,9,-999.000,9, -999.00,9, -999.00,9, -67.0006,-172.9024,-999.000,     -999.0,    34.8787,2,     -999.0,9,     -999.0,9,-999.0000,9,-999.0000,9,-999.0000,9,-999.0000,9,-999.0000,9,-999.0000,9,-999.0000,9,-999.0000,9,-999.0000,9,-999.0000,-999.000,   0.8256,     -999.0,     -999.0,9,     -999.0,9,     -999.0,9,     -999.0,9,     -999.0,20110305,       1257
320620110219,       S04P,      27,          2,         16,         16,2,20110305,       1152,   -67.0005,  -172.9024,       3574,  1198.5,   0.8212,  34.7119,2,  34.7117,2,    203.7,2,   203.7,2,  116.53,2,   31.81,2,    0.00,2,    2.17,2,   0.213,2,   0.111,2,   0.014,2,-999.0000,9,  2258.2,6,  2359.7,2,   7.5955,2,    25.00,-999.000,9,-999.0000,9,-999.000,9,   0.8213,2, -999.00,9,  -999.0,9,  -999.0,-999.000,9, -999.00,9,-999.000,9, -999.00,9, -999.00,9, -67.0006,-172.9024,-999.000,     -999.0,    34.8753,2,     -999.0,9,     -999.0,9,-999.0000,9,-999.0000,9,-999.0000,9,-999.0000,9,-999.0000,9,-999.0000,9,-999.0000,9,-999.0000,9,-999.0000,9,-999.0000,-999.000,   0.7581,     -999.0,     -999.0,9,     -999.0,9,     -999.0,9,     -999.0,9,     -999.0,20110305,       1254
320620110219,       S04P,      27,          2,         15,         15,2,20110305,       1152,   -67.0005,  -172.9024,       3574,  1301.3,   0.7764,  34.7100,2,  34.7097,2,    204.4,2,   204.6,2,  116.64,2,   31.89,2,    0.00,2,    2.17,2,-999.000,9,-999.000,9,-999.000,9,-999.0000,9,  -999.0,9,  -999.0,9,-999.0000,9,  -999.00,-999.000,9,-999.0000,9,-999.000,9,   0.7765,2, -999.00,9,  -999.0,9,  -999.0,-999.000,9, -999.00,9,-999.000,9, -999.00,9, -999.00,9, -67.0006,-172.9024,-999.000,     -999.0,    34.8734,2,     -999.0,9,     -999.0,9,-999.0000,9,-999.0000,9,-999.0000,9,-999.0000,9,-999.0000,9,-999.0000,9,-999.0000,9,-999.0000,9,-999.0000,9,-999.0000,-999.000,   0.7072,     -999.0,     -999.0,9,     -999.0,9,     -999.0,9,     -999.0,9,     -999.0,20110305,       1251
320620110219,       S04P,      27,          2,         14,         14,2,20110305,       1152,   -67.0005,  -172.9024,       3574,  1398.3,   0.7250,  34.7079,2,  34.7079,2,    205.4,2,   205.9,2,  117.68,2,   31.84,2,    0.00,2,    2.18,2,   0.237,2,   0.124,2,   0.017,2,-999.0000,9,  2261.3,2,  2360.0,2,   7.5958,6,    25.00,-999.000,9,-999.0000,9,-999.000,9,   0.7251,2, -999.00,9,  -999.0,9,  -999.0,-999.000,9, -999.00,9,-999.000,9, -999.00,9, -999.00,9, -67.0006,-172.9024,-999.000,     -999.0,    34.8716,2,     -999.0,9,     -999.0,9,-999.0000,9,-999.0000,9,-999.0000,9,-999.0000,9,-999.0000,9,-999.0000,9,-999.0000,9,-999.0000,9,-999.0000,9,-999.0000,-999.000,   0.6501,     -999.0,     -999.0,9,     -999.0,9,     -999.0,9,     -999.0,9,     -999.0,20110305,       1249