BOTTLE,20220813CCHSIOAMB
EXPOCODE,SECT_ID,STNNBR,CASTNO,SAMPNO,BTLNBR,BTLNBR_FLAG_W,DATE,TIME,LATITUDE,LONGITUDE,DEPTH,CTDPRS,CTDTMP,CTDSAL,CTDSAL_FLAG_W,SALNTY,SALNTY_FLAG_W,CTDOXY,CTDOXY_FLAG_W,OXYGEN,OXYGEN_FLAG_W,SILCAT,SILCAT_FLAG_W,NITRAT,NITRAT_FLAG_W,NITRIT,NITRIT_FLAG_W,PHSPHT,PHSPHT_FLAG_W,CFC-11,CFC-11_FLAG_W,CFC-12,CFC-12_FLAG_W,CFC113,CFC113_FLAG_W,SF6,SF6_FLAG_W,TCARBN,TCARBN_FLAG_W,ALKALI,ALKALI_FLAG_W,PH_TOT,PH_TOT_FLAG_W,PH_TMP,TRITUM,TRITUM_FLAG_W,HELIUM,HELIUM_FLAG_W,DELHE3,DELHE3_FLAG_W,REFTMP,REFTMP_FLAG_W,DELC13,DELC13_FLAG_W,DELC14,DELC14_FLAG_W,C14ERR,NEON,NEON_FLAG_W,DELO18,DELO18_FLAG_W,POC,POC_FLAG_W,DOC,DOC_FLAG_W,TDN,TDN_FLAG_W,BTL_LAT,BTL_LON,TRITER,NEONER,SALTREF,SALTREF_FLAG_W,PIGMENTS,PIGMENTS_FLAG_W,LAB_DEN,LAB_DEN_FLAG_W,CDOM325,CDOM325_FLAG_W,CDOM340,CDOM340_FLAG_W,CDOM380,CDOM380_FLAG_W,CDOM412,CDOM412_FLAG_W,CDOM443,CDOM443_FLAG_W,CDOM490,CDOM490_FLAG_W,CDOM555,CDOM555_FLAG_W,CDOMSL,CDOMSL_FLAG_W,CDOMSN,CDOMSN_FLAG_W,HELIER,DELHER,THETA,LDEO_SAMPNO,ABSORBTION,ABSORBTION_FLAG_W,IMAGE_COUNT,IMAGE_COUNT_FLAG_W,CYTO_COUNT,CYTO_COUNT_FLAG_W,DELD,DELD_FLAG_W,DELDERR,BTL_DATE,BTL_TIME
,,,,,,,,,,,METERS,DBAR,ITS-90,PSS-78,,PSS-78,,UMOL/KG,,UMOL/KG,,UMOL/KG,,UMOL/KG,,UMOL/KG,,UMOL/KG,,PMOL/KG,,PMOL/KG,,PMOL/KG,,FMOL/KG,,UMOL/KG,,UMOL/KG,,,,DEG C,TU,,NMOL/KG,,PERCNT,,DEG C,,/MILLE,,/MILLE,,/MILLE,NMOL/KG,,/MILLE,,UG/KG,,UMOL/KG,,UMOL/KG,,,,TU,NMOL/KG,G/KG,,,,,,1/M,,1/M,,1/M,,1/M,,1/M,,1/M,,1/M,,1/NM,,1/NM,,NMOL/KG,PERCNT,DEG C,,,,,,,,/MILLE,,/MILLE,,
320620110219,       S04P,     101,          1,         13,         13,2,20110401,       1511,   -67.0011,  -138.4961,       4448,  1599.0,   0.9504,  34.7176,2,  34.7171,2,    200.3,2,   200.0,2,  114.71,2,   31.89,2,    0.00,2,    2.23,2,   0.116,2,   0.055,2,   0.005,2,   0.1020,2,  -999.0,9,  -999.0,9,-999.0000,9,  -999.00,-999.000,9,    1.998,2,  10.413,2,   0.9509,2, -999.00,9,  -999.0,9,  -999.0,   8.693,2, -999.00,9,-999.000,9,   39.76,2,   33.76,2, -67.0008,-138.4959,-999.000,      0.007,    34.8809,2,     -999.0,9,     -999.0,9,-999.0000,9,-999.0000,9,-999.0000,9,-999.0000,9,-999.0000,9,-999.0000,9,-999.0000,9,-999.0000,9,-999.0000,9,    0.001,   0.208,   0.8592,50010101013,     -999.0,9,     -999.0,9,     -999.0,9,     -999.0,9,     -999.0,20110401,       1611
320620110219,       S04P,     101,          1,         12,         12,2,20110401,       1511,   -67.0011,  -138.4961,       4448,  1799.3,   0.8579,  34.7137,2,  34.7136,2,    201.6,2,   201.5,2,  118.28,2,   32.04,2,    0.00,2,    2.23,2,-999.000,9,-999.000,9,-999.000,9,-999.0000,9,  2260.5,2,  2361.0,2,   7.5981,2,    25.00,-999.000,9,-999.0000,9,-999.000,9,   0.8581,2, -999.00,9,  -999.0,9,  -999.0,-999.000,9, -999.00,9,-999.000,9,   40.04,2,   34.20,2, -67.0008,-138.4961,-999.000,     -999.0,    34.8773,2,     -999.0,9,     -999.0,9,-999.0000,9,-999.0000,9,-999.0000,9,-999.0000,9,-999.0000,9,-999.0000,9,-999.0000,9,-999.0000,9,-999.0000,9,-999.0000,-999.000,   0.7536,     -999.0,     -999.0,9,     -999.0,9,     -999.0,9,     -999.0,9,     -999.0,20110401,       1607
320620110219,       S04P,     101,          1,         11,         11,2,20110401,       1511,   -67.0011,  -138.4961,       4448,  1998.8,   0.7781,  34.7107,2,  34.7099,2,    203.2,2,   203.9,2,  121.32,2,   32.18,2,    0.00,2,    2.24,2,   0.121,2,   0.063,2,   0.009,2,   0.0790,2,  -999.0,9,  -999.0,9,-999.0000,9,  -999.00,   0.009,2,    2.028,2,  10.726,2,   0.7783,2, -999.00,9,  -999.0,9,  -999.0,   8.855,2,   -0.18,2,-999.000,9,   39.82,2,   34.24,2, -67.0010,-138.4963,   0.005,      0.007,    34.8736,2,     -999.0,9,     -999.0,9,-999.0000,9,-999.0000,9,-999.0000,9,-999.0000,9,-999.0000,9,-999.0000,9,-999.0000,9,-999.0000,9,-999.0000,9,    0.001,   0.226,   0.6602,50010101011,     -999.0,9,     -999.0,9,     -999.0,9,      -1.72,2,       0.05,20110401,       1603
320620110219,       S04P,     101,          1,         10,         37,2,20110401,       1511,   -67.0011,  -138.4961,       4448,  2248.2,   0.6996,  34.7082,2,  34.7075,2,    205.6,2,   205.3,2,  123.49,2,   32.24,2,    0.00,2,    2.24,2,-999.000,9,-999.000,9,-999.000,9,-999.0000,9,  2260.6,2,  2362.6,2,   7.5973,2,    25.00,-999.000,9,-999.0000,9,-999.000,9,   0.6996,2, -999.00,9,  -999.0,9,  -999.0,-999.000,9, -999.00,9,-999.000,9,   40.12,2,   34.47,2, -67.0012,-138.4961,-999.000,     -999.0,    34.8712,2,     -999.0,9,     -999.0,9,-999.0000,9,-999.0000,9,-999.0000,9,-999.0000,9,-999.0000,9,-999.0000,9,-999.0000,9,-999.0000,9,-999.0000,9,-999.0000,-999.000,   0.5638,     -999.0,     -999.0,9,     -999.0,9,     -999.0,9,     -999.0,9,     -999.0,20110401,       1558
320620110219,       S04P,     101,          1,          9,          9,2,20110401,       1511,   -67.0011,  -138.4961,       4448,  2499.8,   0.5894,  34.7054,2,  34.7046,2,    207.6,2,   207.4,2,  125.61,2,   32.52,2,    0.00,2,    2.24,2,   0.167,2,   0.078,2,   0.006,2,   0.0980,2,  -999.0,9,  -999.0,9,-999.0000,9,  -999.00,-999.000,9,    2.000,2,  10.223,2,   0.5897,2, -999.00,9,  -999.0,9,  -999.0,   8.732,2, -999.00,9,-999.000,9,   39.84,2,   34.76,2, -67.0006,-138.4958,-999.000,      0.008,    34.8683,2,     -999.0,9,     -999.0,9,-999.0000,9,-999.0000,9,-999.0000,9,-999.0000,9,-999.0000,9,-999.0000,9,-999.0000,9,-999.0000,9,-999.0000,9,    0.001,   0.207,   0.4354,50010101009,     -999.0,9,     -999.0,9,     -999.0,9,     -999.0,9,     -999.0,20110401,       1553
320620110219,       S04P,     101,          1,          8,          8,2,20110401,       1511,   -67.0011,  -138.4961,       4448,  2747.8,   0.5023,  34.7042,2,  34.7050,2,    209.0,2,   209.3,2,  127.35,2,   32.56,2,    0.00,2,    2.25,2,-999.000,9,-999.000,9,-999.000,9,-999.0000,9,  2260.2,2,  2365.0,2,   7.5954,2,    25.00,-999.000,9,-999.0000,9,-999.000,9,   0.5032,2, -999.00,9,  -999.0,9,  -999.0,-999.000,9, -999.00,9,-999.000,9,   39.56,2,   34.58,2, -67.0004,-138.4957,-999.000,     -999.0,    34.8687,2,     -999.0,9,     -999.0,9,-999.0000,9,-999.0000,9,-999.0000,9,-999.0000,9,-999.0000,9,-999.0000,9,-999.0000,9,-999.0000,9,-999.0000,9,-999.0000,-999.000,   0.3294,     -999.0,     -999.0,9,     -999.0,9,     -999.0,9,     -999.0,9,     -999.0,20110401,       1548
320620110219,       S04P,     101,          1,          7,          7,2,20110401,       1511,   -67.0011,  -138.4961,       4448,  2999.8,   0.4345,  34.7037,2,  34.7029,2,    211.3,2,   210.9,2,  129.58,2,   32.62,2,    0.00,2,    2.25,2,   0.185,2,   0.091,2,   0.006,2,   0.0960,2,  -999.0,9,  -999.0,9,-999.0000,9,  -999.00,-999.000,9,    2.027,2,   8.363,2,   0.4347,2, -999.00,9,  -999.0,9,  -999.0,   8.942,2, -999.00,9,-999.000,9,   39.56,2,   34.54,2, -67.0005,-138.4957,-999.000,      0.007,    34.8665,2,     -999.0,9,     -999.0,9,-999.0000,9,-999.0000,9,-999.0000,9,-999.0000,9,-999.0000,9,-999.0000,9,-999.0000,9,-999.0000,9,-999.0000,9,    0.001,   0.221,   0.2412,50010101007,     -999.0,9,     -999.0,9,     -999.0,9,     -999.0,9,     -999.0,20110401,       1542
320620110219,       S04P,     101,          1,          6,          6,2,20110401,       1511,   -67.0011,  -138.4961,       4448,  3299.8,   0.3683,  34.7030,2,  34.7021,2,    213.0,2,   212.5,2,  132.17,2,   32.64,2,    0.00,2,    2.26,2,   0.207,2,   0.099,2,   0.008,2,   0.1240,2,  2261.5,2,  2361.7,2,   7.5943,2,    25.00,-999.000,9,-999.0000,9,-999.000,9,   0.3685,2, -999.00,9,  -999.0,9,  -999.0,-999.000,9, -999.00,9,-999.000,9,   39.52,2,   34.83,2, -67.0005,-138.4958,-999.000,     -999.0,    34.8657,2,     -999.0,9,     -999.0,9,-999.0000,9,-999.0000,9,-999.0000,9,-999.0000,9,-999.0000,9,-999.0000,9,-999.0000,9,-999.0000,9,-999.0000,9,-999.0000,-999.000,   0.1495,     -999.0,     -999.0,9,     -999.0,9,     -999.0,9,     -999.0,9,     -999.0,20110401,       1537
320620110219,       S04P,     101,          1,          5,          5,2,20110401,       1511,   -67.0011,  -138.4961,       4448,  3600.0,   0.2936,  34.7013,2,  34.7001,2,    215.6,2,   215.2,2,  132.93,2,   32.96,2,    0.00,2,    2.26,2,   0.356,2,   0.173,2,   0.019,2,   0.1590,2,  2261.2,2,  2365.4,4,   7.5953,2,    25.00,   0.006,2,    2.021,2,   9.436,2,   0.2937,2, -999.00,9,  -999.0,9,  -999.0,   8.820,2,   -0.27,2,-999.000,9,   39.49,2,   34.82,2, -67.0007,-138.4959,   0.004,      0.007,    34.8638,2,     -999.0,9,     -999.0,9,-999.0000,9,-999.0000,9,-999.0000,9,-999.0000,9,-999.0000,9,-999.0000,9,-999.0000,9,-999.0000,9,-999.0000,9,    0.001,   0.207,   0.0484,50010101005,     -999.0,9,     -999.0,9,     -999.0,9,      -2.57,2,       0.04,20110401,       1531
320620110219,       S04P,     101,          1,          4,          4,2,20110401,       1511,   -67.0011,  -138.4961,       4448,  3899.2,   0.2492,  34.6982,2,  34.6978,2,    218.0,2,   218.2,2,  127.70,2,   32.46,2,    0.00,2,    2.25,2,   0.596,2,   0.289,2,   0.036,2,   0.2070,2,  2260.1,2,  2358.7,2,   7.5949,2,    25.00,-999.000,9,-999.0000,9,-999.000,9,   0.2489,2, -999.00,9,  -999.0,9,  -999.0,-999.000,9, -999.00,9,-999.000,9,   39.97,2,   35.00,2, -67.0010,-138.4960,-999.000,     -999.0,    34.8614,2,     -999.0,9,     -999.0,9,-999.0000,9,-999.0000,9,-999.0000,9,-999.0000,9,-999.0000,9,-999.0000,9,-999.0000,9,-999.0000,9,-999.0000,9,-999.0000,-999.000,  -0.0241,     -999.0,     -999.0,9,     -999.0,9,     -999.0,9,     -999.0,9,     -999.0,20110401,       1525
320620110219,       S04P,     101,          1,          3,          3,2,20110401,       1511,   -67.0011,  -138.4961,       4448,  4200.0,   0.2344,  34.6969,2,  34.6962,2,    219.9,2,   219.4,2,  124.06,2,   32.43,2,    0.00,2,    2.23,2,   0.729,2,   0.353,2,   0.045,2,   0.2130,2,  2258.7,2,  2358.0,2,   7.5946,2,    25.00,   0.003,2,    2.049,2,   8.220,2,   0.2346,2, -999.00,9,  -999.0,9,  -999.0,   8.991,2,   -0.21,2,-999.000,9,   40.69,2,   34.28,2, -67.0009,-138.4960,   0.004,      0.007,    34.8598,2,     -999.0,9,     -999.0,9,-999.0000,9,-999.0000,9,-999.0000,9,-999.0000,9,-999.0000,9,-999.0000,9,-999.0000,9,-999.0000,9,-999.0000,9,    0.001,   0.225,  -0.0692,50010101003,     -999.0,9,     -999.0,9,     -999.0,9,      -2.60,2,       0.09,20110401,       1519
320620110219,       S04P,     101,          1,          2,          2,2,20110401,       1511,   -67.0011,  -138.4961,       4448,  4476.1,   0.2595,  34.6965,2,  34.6960,2,    220.2,2,   219.5,2,  123.34,2,   32.60,2,    0.00,2,    2.24,2,-999.000,9,-999.000,9,-999.000,9,-999.0000,9,  2259.0,2,  2358.5,2,   7.5945,6,    25.00,-999.000,9,-999.0000,9,-999.000,9,   0.2599,2, -999.00,9,  -999.0,9,  -999.0,-999.000,9, -999.00,9,-999.000,9,   40.75,2,   34.50,2, -67.0008,-138.4959,-999.000,     -999.0,    34.8596,2,     -999.0,9,     -999.0,9,-999.0000,9,-999.0000,9,-999.0000,9,-999.0000,9,-999.0000,9,-999.0000,9,-999.0000,9,-999.0000,9,-999.0000,9,-999.0000,-999.000,  -0.0742,     -999.0,     -999.0,9,     -999.0,9,     -999.0,9,     -999.0,9,     -999.0,20110401,       1513
320620110219,       S04P,     101,          1,          1,          1,2,20110401,       1511,   -67.0011,  -138.4961,       4448,  4528.1,   0.2646,  34.6966,2,  34.6978,2,    220.0,2,   220.2,2,  123.19,2,   32.55,2,    0.00,2,    2.24,2,   0.775,2,   0.378,2,   0.050,2,   0.2940,2,  2259.5,6,  2357.6,2,   7.5954,2,    25.00,   0.001,2,    1.991,2,   7.756,2,   0.2640,2, -999.00,9,  -999.0,9,  -999.0,   8.762,2,   -0.26,2,-999.000,9,   40.24,2,   35.02,2, -67.0011,-138.4960,   0.003,      0.007,    34.8614,2,     -999.0,9,     -999.0,9,-999.0000,9,-999.0000,9,-999.0000,9,-999.0000,9,-999.0000,9,-999.0000,9,-999.0000,9,-999.0000,9,-999.0000,9,    0.001,   0.195,  -0.0749,50010101001,     -999.0,9,     -999.0,9,     -999.0,9,      -2.65,2,       0.13,20110401,       1511