BOTTLE,20220813CCHSIOAMB
EXPOCODE,SECT_ID,STNNBR,CASTNO,SAMPNO,BTLNBR,BTLNBR_FLAG_W,DATE,TIME,LATITUDE,LONGITUDE,DEPTH,CTDPRS,CTDTMP,CTDSAL,CTDSAL_FLAG_W,SALNTY,SALNTY_FLAG_W,CTDOXY,CTDOXY_FLAG_W,OXYGEN,OXYGEN_FLAG_W,SILCAT,SILCAT_FLAG_W,NITRAT,NITRAT_FLAG_W,NITRIT,NITRIT_FLAG_W,PHSPHT,PHSPHT_FLAG_W,CFC-11,CFC-11_FLAG_W,CFC-12,CFC-12_FLAG_W,CFC113,CFC113_FLAG_W,SF6,SF6_FLAG_W,TCARBN,TCARBN_FLAG_W,ALKALI,ALKALI_FLAG_W,PH_TOT,PH_TOT_FLAG_W,PH_TMP,TRITUM,TRITUM_FLAG_W,HELIUM,HELIUM_FLAG_W,DELHE3,DELHE3_FLAG_W,REFTMP,REFTMP_FLAG_W,DELC13,DELC13_FLAG_W,DELC14,DELC14_FLAG_W,C14ERR,NEON,NEON_FLAG_W,DELO18,DELO18_FLAG_W,POC,POC_FLAG_W,DOC,DOC_FLAG_W,TDN,TDN_FLAG_W,BTL_LAT,BTL_LON,TRITER,NEONER,SALTREF,SALTREF_FLAG_W,PIGMENTS,PIGMENTS_FLAG_W,LAB_DEN,LAB_DEN_FLAG_W,CDOM325,CDOM325_FLAG_W,CDOM340,CDOM340_FLAG_W,CDOM380,CDOM380_FLAG_W,CDOM412,CDOM412_FLAG_W,CDOM443,CDOM443_FLAG_W,CDOM490,CDOM490_FLAG_W,CDOM555,CDOM555_FLAG_W,CDOMSL,CDOMSL_FLAG_W,CDOMSN,CDOMSN_FLAG_W,HELIER,DELHER,THETA,LDEO_SAMPNO,ABSORBTION,ABSORBTION_FLAG_W,IMAGE_COUNT,IMAGE_COUNT_FLAG_W,CYTO_COUNT,CYTO_COUNT_FLAG_W,DELD,DELD_FLAG_W,DELDERR,BTL_DATE,BTL_TIME
,,,,,,,,,,,METERS,DBAR,ITS-90,PSS-78,,PSS-78,,UMOL/KG,,UMOL/KG,,UMOL/KG,,UMOL/KG,,UMOL/KG,,UMOL/KG,,PMOL/KG,,PMOL/KG,,PMOL/KG,,FMOL/KG,,UMOL/KG,,UMOL/KG,,,,DEG C,TU,,NMOL/KG,,PERCNT,,DEG C,,/MILLE,,/MILLE,,/MILLE,NMOL/KG,,/MILLE,,UG/KG,,UMOL/KG,,UMOL/KG,,,,TU,NMOL/KG,G/KG,,,,,,1/M,,1/M,,1/M,,1/M,,1/M,,1/M,,1/M,,1/NM,,1/NM,,NMOL/KG,PERCNT,DEG C,,,,,,,,/MILLE,,/MILLE,,
320620110219,       S04P,      14,          1,         36,         36,2,20110227,       1322,   -68.4144,   172.1031,       3286,     4.4,  -1.1531,  33.6104,2,  33.6106,2,    342.4,3,   345.0,2,   63.14,2,   27.66,2,    0.13,2,    1.81,2,   5.956,2,   3.322,2,   0.602,2,-999.0000,9,  2160.1,2,  2273.5,2,   7.6547,6,    25.00,-999.000,9,-999.0000,9,-999.000,9,  -1.1537,2, -999.00,9,  -999.0,9,  -999.0,-999.000,9, -999.00,9,-999.000,9, -999.00,9, -999.00,9, -68.4144, 172.1030,-999.000,     -999.0,    33.7691,2,     -999.0,9,     -999.0,9,-999.0000,9,-999.0000,9,-999.0000,9,-999.0000,9,-999.0000,9,-999.0000,9,-999.0000,9,-999.0000,9,-999.0000,9,-999.0000,-999.000,  -1.1532,     -999.0,     -999.0,9,     -999.0,9,     -999.0,9,     -999.0,9,     -999.0,20110227,       1500
320620110219,       S04P,      14,          1,         35,         35,2,20110227,       1322,   -68.4144,   172.1031,       3286,    19.9,  -1.3130,  33.6221,2,  33.6225,2,    344.8,2,   344.3,2,   63.42,2,   27.69,2,    0.13,2,    1.81,2,   5.996,2,   3.394,2,   0.630,2,-999.0000,9,  2160.9,2,  2273.8,6,   7.6541,2,    25.00,-999.000,9,-999.0000,9,-999.000,9,  -1.3128,2, -999.00,9,  -999.0,9,  -999.0,-999.000,9, -999.00,9,-999.000,9, -999.00,9, -999.00,9, -68.4144, 172.1031,-999.000,     -999.0,    33.7811,2,     -999.0,9,     -999.0,9,-999.0000,9,-999.0000,9,-999.0000,9,-999.0000,9,-999.0000,9,-999.0000,9,-999.0000,9,-999.0000,9,-999.0000,9,-999.0000,-999.000,  -1.3134,     -999.0,     -999.0,9,     -999.0,9,     -999.0,9,     -999.0,9,     -999.0,20110227,       1459
320620110219,       S04P,      14,          1,         34,         34,2,20110227,       1322,   -68.4144,   172.1031,       3286,    39.3,  -1.3371,  33.6236,2,  33.6237,2,    344.8,2,   343.9,2,   63.47,2,   27.68,2,    0.12,2,    1.82,2,   5.779,2,   3.113,2,   0.596,2,   2.5160,2,  2159.2,6,  2275.0,2,   7.6544,2,    25.00,-999.000,9,-999.0000,9,-999.000,9,  -1.3369,2, -999.00,9,  -999.0,9,  -999.0,-999.000,9, -999.00,9,-999.000,9, -999.00,9, -999.00,9, -68.4144, 172.1030,-999.000,     -999.0,    33.7822,2,     -999.0,9,     -999.0,9,-999.0000,9,-999.0000,9,-999.0000,9,-999.0000,9,-999.0000,9,-999.0000,9,-999.0000,9,-999.0000,9,-999.0000,9,-999.0000,-999.000,  -1.3380,     -999.0,     -999.0,9,     -999.0,9,     -999.0,9,     -999.0,9,     -999.0,20110227,       1457
320620110219,       S04P,      14,          1,         33,         33,2,20110227,       1322,   -68.4144,   172.1031,       3286,    64.8,  -1.2997,  34.2642,3,  34.2494,2,    287.4,2,   275.8,2,   69.40,2,   30.27,2,    0.10,2,    2.02,2,   3.709,2,   2.036,2,   0.387,2,   1.5790,2,  -999.0,9,  -999.0,9,-999.0000,9,  -999.00,-999.000,9,-999.0000,9,-999.000,9,  -1.3054,2, -999.00,9,  -999.0,9,  -999.0,-999.000,9, -999.00,9,-999.000,9, -999.00,9, -999.00,9, -68.4144, 172.1031,-999.000,     -999.0,    34.4109,2,     -999.0,9,     -999.0,9,-999.0000,9,-999.0000,9,-999.0000,9,-999.0000,9,-999.0000,9,-999.0000,9,-999.0000,9,-999.0000,9,-999.0000,9,-999.0000,-999.000,  -1.3012,     -999.0,     -999.0,9,     -999.0,9,     -999.0,9,     -999.0,9,     -999.0,20110227,       1455
320620110219,       S04P,      14,          1,         32,         32,2,20110227,       1322,   -68.4144,   172.1031,       3286,    90.6,  -0.1418,  34.4436,2,  34.4406,2,    243.6,2,   232.1,2,   78.87,2,   31.88,2,    0.12,2,    2.14,2,   2.313,2,   1.309,2,   0.234,2,   0.8430,2,  2233.8,2,  2327.2,2,   7.5812,2,    25.00,-999.000,9,-999.0000,9,-999.000,9,  -0.1233,3, -999.00,9,  -999.0,9,  -999.0,-999.000,9, -999.00,9,-999.000,9, -999.00,9, -999.00,9, -68.4144, 172.1031,-999.000,     -999.0,    34.6030,2,     -999.0,9,     -999.0,9,-999.0000,9,-999.0000,9,-999.0000,9,-999.0000,9,-999.0000,9,-999.0000,9,-999.0000,9,-999.0000,9,-999.0000,9,-999.0000,-999.000,  -0.1449,     -999.0,     -999.0,9,     -999.0,9,     -999.0,9,     -999.0,9,     -999.0,20110227,       1454
320620110219,       S04P,      14,          1,         31,         31,2,20110227,       1322,   -68.4144,   172.1031,       3286,   114.6,   0.6143,  34.5503,2,  34.5571,2,    209.5,2,   207.2,2,   85.37,2,   32.64,2,    0.05,2,    2.20,2,   1.425,2,   0.828,2,   0.145,2,-999.0000,9,  2245.6,2,  2335.1,2,   7.5655,2,    25.00,-999.000,9,-999.0000,9,-999.000,9,   0.6069,2, -999.00,9,  -999.0,9,  -999.0,-999.000,9, -999.00,9,-999.000,9, -999.00,9, -999.00,9, -68.4144, 172.1031,-999.000,     -999.0,    34.7200,2,     -999.0,9,     -999.0,9,-999.0000,9,-999.0000,9,-999.0000,9,-999.0000,9,-999.0000,9,-999.0000,9,-999.0000,9,-999.0000,9,-999.0000,9,-999.0000,-999.000,   0.6096,     -999.0,     -999.0,9,     -999.0,9,     -999.0,9,     -999.0,9,     -999.0,20110227,       1452
320620110219,       S04P,      14,          1,         30,         30,2,20110227,       1322,   -68.4144,   172.1031,       3286,   140.3,   1.0079,  34.6181,2,  34.6145,2,    196.5,2,   197.2,2,   89.42,2,   32.86,2,    0.02,2,    2.23,2,   1.015,2,   0.584,2,   0.095,2,-999.0000,9,  2249.4,2,  2340.3,2,   7.5646,2,    25.00,-999.000,9,-999.0000,9,-999.000,9,   1.0135,2, -999.00,9,  -999.0,9,  -999.0,-999.000,9, -999.00,9,-999.000,9, -999.00,9, -999.00,9, -68.4144, 172.1031,-999.000,     -999.0,    34.7778,2,     -999.0,9,     -999.0,9,-999.0000,9,-999.0000,9,-999.0000,9,-999.0000,9,-999.0000,9,-999.0000,9,-999.0000,9,-999.0000,9,-999.0000,9,-999.0000,-999.000,   1.0016,     -999.0,     -999.0,9,     -999.0,9,     -999.0,9,     -999.0,9,     -999.0,20110227,       1451
320620110219,       S04P,      14,          1,         29,         29,2,20110227,       1322,   -68.4144,   172.1031,       3286,   184.6,   1.3121,  34.6750,2,  34.6761,2,    188.1,2,   187.5,2,   93.27,2,   32.81,2,    0.01,2,    2.22,2,-999.000,9,-999.000,9,-999.000,9,-999.0000,9,  -999.0,9,  -999.0,9,-999.0000,9,  -999.00,-999.000,9,-999.0000,9,-999.000,9,   1.3117,2, -999.00,9,  -999.0,9,  -999.0,-999.000,9, -999.00,9,-999.000,9, -999.00,9, -999.00,9, -68.4144, 172.1031,-999.000,     -999.0,    34.8396,2,     -999.0,9,     -999.0,9,-999.0000,9,-999.0000,9,-999.0000,9,-999.0000,9,-999.0000,9,-999.0000,9,-999.0000,9,-999.0000,9,-999.0000,9,-999.0000,-999.000,   1.3033,     -999.0,     -999.0,9,     -999.0,9,     -999.0,9,     -999.0,9,     -999.0,20110227,       1449
320620110219,       S04P,      14,          1,         28,         28,2,20110227,       1322,   -68.4144,   172.1031,       3286,   236.0,   1.4082,  34.7029,2,  34.7022,2,    185.4,2,   186.2,2,   95.67,2,   32.73,2,    0.00,2,    2.21,2,   0.367,2,   0.211,2,   0.041,2,-999.0000,9,  2257.6,2,  2347.5,2,   7.5677,2,    25.00,-999.000,9,-999.0000,9,-999.000,9,   1.4079,2, -999.00,9,  -999.0,9,  -999.0,-999.000,9, -999.00,9,-999.000,9, -999.00,9, -999.00,9, -68.4144, 172.1031,-999.000,     -999.0,    34.8658,2,     -999.0,9,     -999.0,9,-999.0000,9,-999.0000,9,-999.0000,9,-999.0000,9,-999.0000,9,-999.0000,9,-999.0000,9,-999.0000,9,-999.0000,9,-999.0000,-999.000,   1.3966,     -999.0,     -999.0,9,     -999.0,9,     -999.0,9,     -999.0,9,     -999.0,20110227,       1447
320620110219,       S04P,      14,          1,         27,         27,2,20110227,       1322,   -68.4144,   172.1031,       3286,   284.4,   1.3977,  34.7102,2,  34.7093,2,    186.0,2,   186.7,2,   97.08,2,   32.65,2,    0.00,2,    2.20,2,-999.000,9,-999.000,9,-999.000,9,-999.0000,9,  2256.4,2,  -999.0,9,   7.5705,2,    25.00,-999.000,9,-999.0000,9,-999.000,9,   1.3973,2, -999.00,9,  -999.0,9,  -999.0,-999.000,9, -999.00,9,-999.000,9, -999.00,9, -999.00,9, -68.4144, 172.1031,-999.000,     -999.0,    34.8729,2,     -999.0,9,     -999.0,9,-999.0000,9,-999.0000,9,-999.0000,9,-999.0000,9,-999.0000,9,-999.0000,9,-999.0000,9,-999.0000,9,-999.0000,9,-999.0000,-999.000,   1.3836,     -999.0,     -999.0,9,     -999.0,9,     -999.0,9,     -999.0,9,     -999.0,20110227,       1445
320620110219,       S04P,      14,          1,         26,         26,2,20110227,       1322,   -68.4144,   172.1031,       3286,   335.3,   1.3751,  34.7157,2,  34.7153,2,    187.1,2,   187.8,2,   98.92,2,   32.42,2,    0.00,2,    2.20,2,   0.277,2,   0.152,2,   0.031,2,-999.0000,9,  2256.6,2,  2349.9,2,   7.5743,2,    25.00,-999.000,9,-999.0000,9,-999.000,9,   1.3749,2, -999.00,9,  -999.0,9,  -999.0,-999.000,9, -999.00,9,-999.000,9, -999.00,9, -999.00,9, -68.4144, 172.1031,-999.000,     -999.0,    34.8790,2,     -999.0,9,     -999.0,9,-999.0000,9,-999.0000,9,-999.0000,9,-999.0000,9,-999.0000,9,-999.0000,9,-999.0000,9,-999.0000,9,-999.0000,9,-999.0000,-999.000,   1.3584,     -999.0,     -999.0,9,     -999.0,9,     -999.0,9,     -999.0,9,     -999.0,20110227,       1443
320620110219,       S04P,      14,          1,         25,         25,2,20110227,       1322,   -68.4144,   172.1031,       3286,   385.1,   1.3487,  34.7198,2,  34.7195,2,    187.9,2,   187.2,2,  101.90,2,   32.41,2,    0.00,2,    2.21,2,-999.000,9,-999.000,9,-999.000,9,-999.0000,9,  -999.0,9,  -999.0,9,-999.0000,9,  -999.00,-999.000,9,-999.0000,9,-999.000,9,   1.3482,2, -999.00,9,  -999.0,9,  -999.0,-999.000,9, -999.00,9,-999.000,9, -999.00,9, -999.00,9, -68.4144, 172.1031,-999.000,     -999.0,    34.8832,2,     -999.0,9,     -999.0,9,-999.0000,9,-999.0000,9,-999.0000,9,-999.0000,9,-999.0000,9,-999.0000,9,-999.0000,9,-999.0000,9,-999.0000,9,-999.0000,-999.000,   1.3294,     -999.0,     -999.0,9,     -999.0,9,     -999.0,9,     -999.0,9,     -999.0,20110227,       1441
320620110219,       S04P,      14,          1,         24,         24,2,20110227,       1322,   -68.4144,   172.1031,       3286,   433.9,   1.3220,  34.7219,2,  34.7218,2,    188.6,2,   188.6,2,  102.48,2,   32.57,2,    0.00,2,    2.21,2,   0.240,2,   0.133,2,   0.025,2,-999.0000,9,  2257.1,2,  2349.7,2,   7.5718,2,    25.00,-999.000,9,-999.0000,9,-999.000,9,   1.3215,2, -999.00,9,  -999.0,9,  -999.0,-999.000,9, -999.00,9,-999.000,9, -999.00,9, -999.00,9, -68.4144, 172.1031,-999.000,     -999.0,    34.8855,2,     -999.0,9,     -999.0,9,-999.0000,9,-999.0000,9,-999.0000,9,-999.0000,9,-999.0000,9,-999.0000,9,-999.0000,9,-999.0000,9,-999.0000,9,-999.0000,-999.000,   1.3002,     -999.0,     -999.0,9,     -999.0,9,     -999.0,9,     -999.0,9,     -999.0,20110227,       1439
320620110219,       S04P,      14,          1,         23,         23,2,20110227,       1322,   -68.4144,   172.1031,       3286,   484.9,   1.2884,  34.7234,2,  34.7224,2,    188.9,2,   188.3,2,  104.14,2,   32.49,2,    0.00,2,    2.20,2,-999.000,9,-999.000,9,-999.000,9,-999.0000,9,  -999.0,9,  -999.0,9,-999.0000,9,  -999.00,-999.000,9,-999.0000,9,-999.000,9,   1.2899,2, -999.00,9,  -999.0,9,  -999.0,-999.000,9, -999.00,9,-999.000,9, -999.00,9, -999.00,9, -68.4144, 172.1031,-999.000,     -999.0,    34.8861,2,     -999.0,9,     -999.0,9,-999.0000,9,-999.0000,9,-999.0000,9,-999.0000,9,-999.0000,9,-999.0000,9,-999.0000,9,-999.0000,9,-999.0000,9,-999.0000,-999.000,   1.2640,     -999.0,     -999.0,9,     -999.0,9,     -999.0,9,     -999.0,9,     -999.0,20110227,       1438
320620110219,       S04P,      14,          1,         22,         22,2,20110227,       1322,   -68.4144,   172.1031,       3286,   565.0,   1.2446,  34.7243,2,  34.7239,2,    190.5,2,   189.0,2,  105.96,2,   32.48,2,    0.00,2,    2.21,2,   0.143,2,   0.088,2,   0.017,2,-999.0000,9,  2258.4,2,  2350.3,2,   7.5765,2,    25.00,-999.000,9,-999.0000,9,-999.000,9,   1.2440,2, -999.00,9,  -999.0,9,  -999.0,-999.000,9, -999.00,9,-999.000,9, -999.00,9, -999.00,9, -68.4144, 172.1031,-999.000,     -999.0,    34.8877,2,     -999.0,9,     -999.0,9,-999.0000,9,-999.0000,9,-999.0000,9,-999.0000,9,-999.0000,9,-999.0000,9,-999.0000,9,-999.0000,9,-999.0000,9,-999.0000,-999.000,   1.2160,     -999.0,     -999.0,9,     -999.0,9,     -999.0,9,     -999.0,9,     -999.0,20110227,       1436
320620110219,       S04P,      14,          1,         21,         21,2,20110227,       1322,   -68.4144,   172.1031,       3286,   663.0,   1.1727,  34.7233,2,  34.7231,2,    191.5,2,   190.7,2,  108.11,2,   32.35,2,    0.00,2,    2.22,2,-999.000,9,-999.000,9,-999.000,9,-999.0000,9,  -999.0,9,  -999.0,9,-999.0000,9,  -999.00,-999.000,9,-999.0000,9,-999.000,9,   1.1725,2, -999.00,9,  -999.0,9,  -999.0,-999.000,9, -999.00,9,-999.000,9, -999.00,9, -999.00,9, -68.4144, 172.1031,-999.000,     -999.0,    34.8869,2,     -999.0,9,     -999.0,9,-999.0000,9,-999.0000,9,-999.0000,9,-999.0000,9,-999.0000,9,-999.0000,9,-999.0000,9,-999.0000,9,-999.0000,9,-999.0000,-999.000,   1.1389,     -999.0,     -999.0,9,     -999.0,9,     -999.0,9,     -999.0,9,     -999.0,20110227,       1433
320620110219,       S04P,      14,          1,         20,         20,2,20110227,       1322,   -68.4144,   172.1031,       3286,   764.3,   1.1122,  34.7226,2,  34.7231,2,    193.4,2,   192.4,2,  110.21,2,   32.35,2,    0.00,2,    2.21,2,   0.123,2,   0.057,2,   0.012,2,   0.0360,2,  2257.4,2,  2351.1,2,   7.5804,2,    25.00,-999.000,9,-999.0000,9,-999.000,9,   1.1119,2, -999.00,9,  -999.0,9,  -999.0,-999.000,9, -999.00,9,-999.000,9, -999.00,9, -999.00,9, -68.4144, 172.1031,-999.000,     -999.0,    34.8869,2,     -999.0,9,     -999.0,9,-999.0000,9,-999.0000,9,-999.0000,9,-999.0000,9,-999.0000,9,-999.0000,9,-999.0000,9,-999.0000,9,-999.0000,9,-999.0000,-999.000,   1.0730,     -999.0,     -999.0,9,     -999.0,9,     -999.0,9,     -999.0,9,     -999.0,20110227,       1430
320620110219,       S04P,      14,          1,         19,         19,2,20110227,       1322,   -68.4144,   172.1031,       3286,   864.1,   1.0396,  34.7203,2,  34.3666,4,    195.1,2,   194.6,2,  112.28,2,   32.27,2,    0.00,2,    2.21,2,-999.000,9,-999.000,9,-999.000,9,-999.0000,9,  -999.0,9,  -999.0,9,-999.0000,9,  -999.00,-999.000,9,-999.0000,9,-999.000,9,   1.0396,2, -999.00,9,  -999.0,9,  -999.0,-999.000,9, -999.00,9,-999.000,9, -999.00,9, -999.00,9, -68.4144, 172.1031,-999.000,     -999.0,    34.5287,4,     -999.0,9,     -999.0,9,-999.0000,9,-999.0000,9,-999.0000,9,-999.0000,9,-999.0000,9,-999.0000,9,-999.0000,9,-999.0000,9,-999.0000,9,-999.0000,-999.000,   0.9950,     -999.0,     -999.0,9,     -999.0,9,     -999.0,9,     -999.0,9,     -999.0,20110227,       1428
320620110219,       S04P,      14,          1,         18,         18,2,20110227,       1322,   -68.4144,   172.1031,       3286,   964.7,   0.9876,  34.7191,2,  34.7190,2,    196.7,2,   195.8,2,  113.29,2,   32.21,2,    0.00,2,    2.20,2,   0.101,2,   0.051,2,   0.008,2,   0.0430,2,  2258.8,2,  2358.4,6,   7.5869,2,    25.00,-999.000,9,-999.0000,9,-999.000,9,   0.9880,2, -999.00,9,  -999.0,9,  -999.0,-999.000,9, -999.00,9,-999.000,9, -999.00,9, -999.00,9, -68.4144, 172.1030,-999.000,     -999.0,    34.8827,2,     -999.0,9,     -999.0,9,-999.0000,9,-999.0000,9,-999.0000,9,-999.0000,9,-999.0000,9,-999.0000,9,-999.0000,9,-999.0000,9,-999.0000,9,-999.0000,-999.000,   0.9374,     -999.0,     -999.0,9,     -999.0,9,     -999.0,9,     -999.0,9,     -999.0,20110227,       1425
320620110219,       S04P,      14,          1,         17,         17,2,20110227,       1322,   -68.4144,   172.1031,       3286,  1063.7,   0.9298,  34.7172,2,  34.7172,2,    197.8,2,   197.5,2,  115.50,2,   32.23,2,    0.00,2,    2.21,2,   0.098,2,   0.047,2,   0.009,2,   0.0250,2,  -999.0,9,  -999.0,9,-999.0000,9,  -999.00,-999.000,9,-999.0000,9,-999.000,9,   0.9298,2, -999.00,9,  -999.0,9,  -999.0,-999.000,9, -999.00,9,-999.000,9, -999.00,9, -999.00,9, -68.4144, 172.1030,-999.000,     -999.0,    34.8809,2,     -999.0,9,     -999.0,9,-999.0000,9,-999.0000,9,-999.0000,9,-999.0000,9,-999.0000,9,-999.0000,9,-999.0000,9,-999.0000,9,-999.0000,9,-999.0000,-999.000,   0.8741,     -999.0,     -999.0,9,     -999.0,9,     -999.0,9,     -999.0,9,     -999.0,20110227,       1422
320620110219,       S04P,      14,          1,         16,         16,2,20110227,       1322,   -68.4144,   172.1031,       3286,  1164.0,   0.8800,  34.7153,2,  34.7152,2,    199.0,2,   199.7,2,  117.66,2,   32.27,2,    0.00,2,    2.22,2,   0.098,2,   0.049,2,   0.008,2,   0.0400,2,  2259.7,2,  2358.6,2,   7.5869,4,    25.00,-999.000,9,-999.0000,9,-999.000,9,   0.8801,2, -999.00,9,  -999.0,9,  -999.0,-999.000,9, -999.00,9,-999.000,9, -999.00,9, -999.00,9, -68.4144, 172.1031,-999.000,     -999.0,    34.8789,2,     -999.0,9,     -999.0,9,-999.0000,9,-999.0000,9,-999.0000,9,-999.0000,9,-999.0000,9,-999.0000,9,-999.0000,9,-999.0000,9,-999.0000,9,-999.0000,-999.000,   0.8185,     -999.0,     -999.0,9,     -999.0,9,     -999.0,9,     -999.0,9,     -999.0,20110227,       1420
320620110219,       S04P,      14,          1,         15,         15,2,20110227,       1322,   -68.4144,   172.1031,       3286,  1263.0,   0.8340,  34.7139,2,  34.7140,2,    200.2,2,   200.4,2,  119.04,2,   32.31,2,    0.00,2,    2.22,2,   0.095,2,   0.053,2,   0.008,2,   0.0330,2,  -999.0,9,  -999.0,9,-999.0000,9,  -999.00,-999.000,9,-999.0000,9,-999.000,9,   0.8339,2, -999.00,9,  -999.0,9,  -999.0,-999.000,9, -999.00,9,-999.000,9, -999.00,9, -999.00,9, -68.4144, 172.1031,-999.000,     -999.0,    34.8777,2,     -999.0,9,     -999.0,9,-999.0000,9,-999.0000,9,-999.0000,9,-999.0000,9,-999.0000,9,-999.0000,9,-999.0000,9,-999.0000,9,-999.0000,9,-999.0000,-999.000,   0.7667,     -999.0,     -999.0,9,     -999.0,9,     -999.0,9,     -999.0,9,     -999.0,20110227,       1417
320620110219,       S04P,      14,          1,         14,         14,2,20110227,       1322,   -68.4144,   172.1031,       3286,  1364.3,   0.7925,  34.7124,2,  34.7123,2,    201.0,2,   201.3,2,  119.73,2,   32.31,2,    0.00,2,    2.23,2,   0.093,2,   0.043,2,   0.005,2,   0.0400,2,  2260.6,2,  2359.2,2,   7.5884,2,    25.00,-999.000,9,-999.0000,9,-999.000,9,   0.7924,2, -999.00,9,  -999.0,9,  -999.0,-999.000,9,   -0.01,2,-999.000,9, -999.00,9, -999.00,9, -68.4144, 172.1031,-999.000,     -999.0,    34.8760,2,     -999.0,9,     -999.0,9,-999.0000,9,-999.0000,9,-999.0000,9,-999.0000,9,-999.0000,9,-999.0000,9,-999.0000,9,-999.0000,9,-999.0000,9,-999.0000,-999.000,   0.7191,     -999.0,     -999.0,9,     -999.0,9,     -999.0,9,      -1.60,2,       0.11,20110227,       1414