BOTTLE,20220813CCHSIOAMB
EXPOCODE,SECT_ID,STNNBR,CASTNO,SAMPNO,BTLNBR,BTLNBR_FLAG_W,DATE,TIME,LATITUDE,LONGITUDE,DEPTH,CTDPRS,CTDTMP,CTDSAL,CTDSAL_FLAG_W,SALNTY,SALNTY_FLAG_W,CTDOXY,CTDOXY_FLAG_W,OXYGEN,OXYGEN_FLAG_W,SILCAT,SILCAT_FLAG_W,NITRAT,NITRAT_FLAG_W,NITRIT,NITRIT_FLAG_W,PHSPHT,PHSPHT_FLAG_W,CFC-11,CFC-11_FLAG_W,CFC-12,CFC-12_FLAG_W,CFC113,CFC113_FLAG_W,SF6,SF6_FLAG_W,TCARBN,TCARBN_FLAG_W,ALKALI,ALKALI_FLAG_W,PH_TOT,PH_TOT_FLAG_W,PH_TMP,TRITUM,TRITUM_FLAG_W,HELIUM,HELIUM_FLAG_W,DELHE3,DELHE3_FLAG_W,REFTMP,REFTMP_FLAG_W,DELC13,DELC13_FLAG_W,DELC14,DELC14_FLAG_W,C14ERR,NEON,NEON_FLAG_W,DELO18,DELO18_FLAG_W,POC,POC_FLAG_W,DOC,DOC_FLAG_W,TDN,TDN_FLAG_W,BTL_LAT,BTL_LON,TRITER,NEONER,SALTREF,SALTREF_FLAG_W,PIGMENTS,PIGMENTS_FLAG_W,LAB_DEN,LAB_DEN_FLAG_W,CDOM325,CDOM325_FLAG_W,CDOM340,CDOM340_FLAG_W,CDOM380,CDOM380_FLAG_W,CDOM412,CDOM412_FLAG_W,CDOM443,CDOM443_FLAG_W,CDOM490,CDOM490_FLAG_W,CDOM555,CDOM555_FLAG_W,CDOMSL,CDOMSL_FLAG_W,CDOMSN,CDOMSN_FLAG_W,HELIER,DELHER,THETA,LDEO_SAMPNO,ABSORBTION,ABSORBTION_FLAG_W,IMAGE_COUNT,IMAGE_COUNT_FLAG_W,CYTO_COUNT,CYTO_COUNT_FLAG_W,DELD,DELD_FLAG_W,DELDERR,BTL_DATE,BTL_TIME
,,,,,,,,,,,METERS,DBAR,ITS-90,PSS-78,,PSS-78,,UMOL/KG,,UMOL/KG,,UMOL/KG,,UMOL/KG,,UMOL/KG,,UMOL/KG,,PMOL/KG,,PMOL/KG,,PMOL/KG,,FMOL/KG,,UMOL/KG,,UMOL/KG,,,,DEG C,TU,,NMOL/KG,,PERCNT,,DEG C,,/MILLE,,/MILLE,,/MILLE,NMOL/KG,,/MILLE,,UG/KG,,UMOL/KG,,UMOL/KG,,,,TU,NMOL/KG,G/KG,,,,,,1/M,,1/M,,1/M,,1/M,,1/M,,1/M,,1/M,,1/NM,,1/NM,,NMOL/KG,PERCNT,DEG C,,,,,,,,/MILLE,,/MILLE,,
320620110219,       S04P,     137,          1,         35,         35,2,20110418,       2255,   -67.0001,   -73.1937,       2672,     2.8,  -0.4940,  33.6303,2,  33.6304,2,    335.8,3,   341.1,2,   17.83,2,   23.15,2,    0.21,2,    1.63,2,   6.151,2,   3.371,2,   0.647,2,   2.7860,2,  2146.4,6,  2275.1,2,   7.7015,2,    25.00,-999.000,9,-999.0000,9,-999.000,9,  -0.4947,2, -999.00,9,  -999.0,9,  -999.0,-999.000,9, -999.00,9,-999.000,9, -999.00,9, -999.00,9, -66.9980, -73.1921,-999.000,     -999.0,    33.7890,2,     -999.0,9,     -999.0,9,-999.0000,9,-999.0000,9,-999.0000,9,-999.0000,9,-999.0000,9,-999.0000,9,-999.0000,9,-999.0000,9,-999.0000,9,-999.0000,-999.000,  -0.4941,     -999.0,     -999.0,9,     -999.0,9,     -999.0,9,     -999.0,9,     -999.0,20110419,       0013
320620110219,       S04P,     137,          1,         34,         34,2,20110418,       2255,   -67.0001,   -73.1937,       2672,    35.1,   0.0882,  33.7815,2,  33.7801,2,    335.9,2,   336.1,2,   24.19,2,   22.10,2,    0.22,2,    1.53,2,   5.905,2,   3.249,2,   0.619,2,   2.6780,2,  -999.0,9,  -999.0,9,   7.7102,2,    25.00,-999.000,9,-999.0000,9,-999.000,9,   0.0875,2, -999.00,9,  -999.0,9,  -999.0,-999.000,9, -999.00,9,-999.000,9, -999.00,9, -999.00,9, -66.9983, -73.1926,-999.000,     -999.0,    33.9393,2,     -999.0,9,     -999.0,9,-999.0000,9,-999.0000,9,-999.0000,9,-999.0000,9,-999.0000,9,-999.0000,9,-999.0000,9,-999.0000,9,-999.0000,9,-999.0000,-999.000,   0.0870,     -999.0,     -999.0,9,     -999.0,9,     -999.0,9,     -999.0,9,     -999.0,20110419,       0011
320620110219,       S04P,     137,          1,         33,         33,2,20110418,       2255,   -67.0001,   -73.1937,       2672,    59.9,  -0.0375,  33.8373,2,  33.8360,2,    335.7,2,   335.9,2,   32.36,2,   22.28,2,    0.24,2,    1.54,2,   5.925,2,   3.227,2,   0.627,2,   2.5560,2,  2162.3,2,  2292.8,2,   7.7040,6,    25.00,-999.000,9,-999.0000,9,-999.000,9,  -0.0377,2, -999.00,9,  -999.0,9,  -999.0,-999.000,9, -999.00,9,-999.000,9, -999.00,9, -999.00,9, -66.9985, -73.1931,-999.000,     -999.0,    33.9955,2,     -999.0,9,     -999.0,9,-999.0000,9,-999.0000,9,-999.0000,9,-999.0000,9,-999.0000,9,-999.0000,9,-999.0000,9,-999.0000,9,-999.0000,9,-999.0000,-999.000,  -0.0395,     -999.0,     -999.0,9,     -999.0,9,     -999.0,9,     -999.0,9,     -999.0,20110419,       0010
320620110219,       S04P,     137,          1,         32,         32,2,20110418,       2255,   -67.0001,   -73.1937,       2672,    84.8,  -0.7811,  34.0154,2,  34.0196,2,    323.5,2,   300.3,2,   57.93,2,   27.41,2,    0.40,2,    2.07,2,   5.114,2,   2.849,2,   0.546,2,   2.3030,2,  2200.7,2,  2304.3,2,   7.6236,2,    25.00,-999.000,9,-999.0000,9,-999.000,9,  -0.7889,2, -999.00,9,  -999.0,9,  -999.0,-999.000,9, -999.00,9,-999.000,9, -999.00,9, -999.00,9, -66.9987, -73.1936,-999.000,     -999.0,    34.1800,2,     -999.0,9,     -999.0,9,-999.0000,9,-999.0000,9,-999.0000,9,-999.0000,9,-999.0000,9,-999.0000,9,-999.0000,9,-999.0000,9,-999.0000,9,-999.0000,-999.000,  -0.7835,     -999.0,     -999.0,9,     -999.0,9,     -999.0,9,     -999.0,9,     -999.0,20110419,       0008
320620110219,       S04P,     137,          1,         31,         31,2,20110418,       2255,   -67.0001,   -73.1937,       2672,   110.3,  -0.1593,  34.2492,2,  34.2691,2,    258.3,2,   232.5,2,   72.16,2,   32.84,2,    0.21,2,    2.37,2,-999.000,9,-999.000,9,-999.000,9,-999.0000,9,  2235.7,2,  2312.1,2,   7.5445,2,    25.00,-999.000,9,-999.0000,9,-999.000,9,  -0.1208,2, -999.00,9,  -999.0,9,  -999.0,-999.000,9, -999.00,9,-999.000,9, -999.00,9, -999.00,9, -66.9989, -73.1936,-999.000,     -999.0,    34.4307,2,     -999.0,9,     -999.0,9,-999.0000,9,-999.0000,9,-999.0000,9,-999.0000,9,-999.0000,9,-999.0000,9,-999.0000,9,-999.0000,9,-999.0000,9,-999.0000,-999.000,  -0.1631,     -999.0,     -999.0,9,     -999.0,9,     -999.0,9,     -999.0,9,     -999.0,20110419,       0007
320620110219,       S04P,     137,          1,         30,         30,2,20110418,       2255,   -67.0001,   -73.1937,       2672,   134.9,   0.9492,  34.4353,2,  34.4270,2,    211.1,2,   195.7,2,   75.89,2,   34.42,2,    0.03,2,    2.43,2,   2.095,2,   1.178,2,   0.212,2,   0.7560,2,  2252.2,2,  2324.0,2,   7.5247,2,    25.00,-999.000,9,-999.0000,9,-999.000,9,   0.9603,2, -999.00,9,  -999.0,9,  -999.0,-999.000,9, -999.00,9,-999.000,9, -999.00,9, -999.00,9, -66.9991, -73.1938,-999.000,     -999.0,    34.5894,2,     -999.0,9,     -999.0,9,-999.0000,9,-999.0000,9,-999.0000,9,-999.0000,9,-999.0000,9,-999.0000,9,-999.0000,9,-999.0000,9,-999.0000,9,-999.0000,-999.000,   0.9433,     -999.0,     -999.0,9,     -999.0,9,     -999.0,9,     -999.0,9,     -999.0,20110419,       0006
320620110219,       S04P,     137,          1,         29,         29,2,20110418,       2255,   -67.0001,   -73.1937,       2672,   160.5,   1.5202,  34.5255,2,  34.5272,2,    178.5,2,   176.8,2,   77.41,2,   34.81,2,    0.00,2,    2.42,2,-999.000,9,-999.000,9,-999.000,9,-999.0000,9,  2258.9,2,  2334.3,2,   7.5238,2,    25.00,-999.000,9,-999.0000,9,-999.000,9,   1.5198,2, -999.00,9,  -999.0,9,  -999.0,-999.000,9, -999.00,9,-999.000,9, -999.00,9, -999.00,9, -66.9993, -73.1938,-999.000,     -999.0,    34.6900,2,     -999.0,9,     -999.0,9,-999.0000,9,-999.0000,9,-999.0000,9,-999.0000,9,-999.0000,9,-999.0000,9,-999.0000,9,-999.0000,9,-999.0000,9,-999.0000,-999.000,   1.5123,     -999.0,     -999.0,9,     -999.0,9,     -999.0,9,     -999.0,9,     -999.0,20110419,       0004
320620110219,       S04P,     137,          1,         28,         28,2,20110418,       2255,   -67.0001,   -73.1937,       2672,   185.2,   1.7419,  34.5787,2,  34.5815,2,    172.7,2,   172.0,2,   79.49,2,   34.46,2,    0.00,2,    2.39,2,   1.037,2,   0.555,2,   0.091,2,   0.3190,2,  2260.5,2,  2346.6,4,   7.5288,2,    25.00,-999.000,9,-999.0000,9,-999.000,9,   1.7381,2, -999.00,9,  -999.0,9,  -999.0,-999.000,9, -999.00,9,-999.000,9, -999.00,9, -999.00,9, -66.9994, -73.1938,-999.000,     -999.0,    34.7446,2,     -999.0,9,     -999.0,9,-999.0000,9,-999.0000,9,-999.0000,9,-999.0000,9,-999.0000,9,-999.0000,9,-999.0000,9,-999.0000,9,-999.0000,9,-999.0000,-999.000,   1.7324,     -999.0,     -999.0,9,     -999.0,9,     -999.0,9,     -999.0,9,     -999.0,20110419,       0003
320620110219,       S04P,     137,          1,         27,         27,2,20110418,       2255,   -67.0001,   -73.1937,       2672,   211.5,   1.8410,  34.6083,2,  34.6062,2,    170.9,2,   170.7,2,   80.39,2,   34.19,2,    0.00,2,    2.37,2,-999.000,9,-999.000,9,-999.000,9,-999.0000,9,  2261.4,2,  2335.8,2,   7.5335,2,    25.00,-999.000,9,-999.0000,9,-999.000,9,   1.8401,2, -999.00,9,  -999.0,9,  -999.0,-999.000,9, -999.00,9,-999.000,9, -999.00,9, -999.00,9, -66.9995, -73.1938,-999.000,     -999.0,    34.7694,2,     -999.0,9,     -999.0,9,-999.0000,9,-999.0000,9,-999.0000,9,-999.0000,9,-999.0000,9,-999.0000,9,-999.0000,9,-999.0000,9,-999.0000,9,-999.0000,-999.000,   1.8299,     -999.0,     -999.0,9,     -999.0,9,     -999.0,9,     -999.0,9,     -999.0,20110419,       0002
320620110219,       S04P,     137,          1,         26,         26,2,20110418,       2255,   -67.0001,   -73.1937,       2672,   235.1,   1.8977,  34.6341,2,  34.6339,2,    170.2,2,   171.0,2,   81.41,2,   33.82,2,    0.00,2,    2.34,2,   0.706,2,   0.368,2,   0.055,2,   0.1740,2,  -999.0,9,  -999.0,9,-999.0000,9,  -999.00,-999.000,9,-999.0000,9,-999.000,9,   1.9000,2, -999.00,9,  -999.0,9,  -999.0,-999.000,9, -999.00,9,-999.000,9, -999.00,9, -999.00,9, -66.9996, -73.1938,-999.000,     -999.0,    34.7972,2,     -999.0,9,     -999.0,9,-999.0000,9,-999.0000,9,-999.0000,9,-999.0000,9,-999.0000,9,-999.0000,9,-999.0000,9,-999.0000,9,-999.0000,9,-999.0000,-999.000,   1.8852,     -999.0,     -999.0,9,     -999.0,9,     -999.0,9,     -999.0,9,     -999.0,20110419,       0000
320620110219,       S04P,     137,          1,         25,         25,2,20110418,       2255,   -67.0001,   -73.1937,       2672,   265.3,   1.9394,  34.6549,2,  34.6553,2,    170.4,2,   170.5,2,   82.29,2,   33.51,2,    0.00,2,    2.31,2,-999.000,9,-999.000,9,-999.000,9,-999.0000,9,  2261.1,2,  2345.9,4,   7.5463,2,    25.00,-999.000,9,-999.0000,9,-999.000,9,   1.9391,2, -999.00,9,  -999.0,9,  -999.0,-999.000,9, -999.00,9,-999.000,9, -999.00,9, -999.00,9, -66.9998, -73.1939,-999.000,     -999.0,    34.8187,2,     -999.0,9,     -999.0,9,-999.0000,9,-999.0000,9,-999.0000,9,-999.0000,9,-999.0000,9,-999.0000,9,-999.0000,9,-999.0000,9,-999.0000,9,-999.0000,-999.000,   1.9252,     -999.0,     -999.0,9,     -999.0,9,     -999.0,9,     -999.0,9,     -999.0,20110418,       2359
320620110219,       S04P,     137,          1,         24,         24,2,20110418,       2255,   -67.0001,   -73.1937,       2672,   315.4,   1.9550,  34.6784,2,  34.6780,2,    172.0,2,   172.2,2,   83.69,2,   33.10,2,    0.00,2,    2.29,2,   0.462,2,   0.229,2,   0.035,2,   0.1070,2,  -999.0,9,  -999.0,9,-999.0000,9,  -999.00,-999.000,9,-999.0000,9,-999.000,9,   1.9549,2, -999.00,9,  -999.0,9,  -999.0,-999.000,9, -999.00,9,-999.000,9, -999.00,9, -999.00,9, -66.9999, -73.1940,-999.000,     -999.0,    34.8416,2,     -999.0,9,     -999.0,9,-999.0000,9,-999.0000,9,-999.0000,9,-999.0000,9,-999.0000,9,-999.0000,9,-999.0000,9,-999.0000,9,-999.0000,9,-999.0000,-999.000,   1.9379,     -999.0,     -999.0,9,     -999.0,9,     -999.0,9,     -999.0,9,     -999.0,20110418,       2357
320620110219,       S04P,     137,          1,         23,         23,2,20110418,       2255,   -67.0001,   -73.1937,       2672,   366.6,   1.9250,  34.6900,2,  34.6900,2,    172.6,2,   173.6,2,   85.03,2,   32.96,2,    0.00,2,    2.28,2,-999.000,9,-999.000,9,-999.000,9,-999.0000,9,  2259.2,2,  2344.5,2,   7.5608,2,    25.00,-999.000,9,-999.0000,9,-999.000,9,   1.9257,2, -999.00,9,  -999.0,9,  -999.0,-999.000,9, -999.00,9,-999.000,9, -999.00,9, -999.00,9, -66.9999, -73.1942,-999.000,     -999.0,    34.8536,2,     -999.0,9,     -999.0,9,-999.0000,9,-999.0000,9,-999.0000,9,-999.0000,9,-999.0000,9,-999.0000,9,-999.0000,9,-999.0000,9,-999.0000,9,-999.0000,-999.000,   1.9050,     -999.0,     -999.0,9,     -999.0,9,     -999.0,9,     -999.0,9,     -999.0,20110418,       2355
320620110219,       S04P,     137,          1,         22,         22,2,20110418,       2255,   -67.0001,   -73.1937,       2672,   414.3,   1.9155,  34.7015,2,  34.7018,2,    176.1,2,   175.8,2,   85.59,2,   32.52,2,    0.00,2,    2.25,2,-999.000,9,-999.000,9,-999.000,9,-999.0000,9,  -999.0,9,  -999.0,9,-999.0000,9,  -999.00,-999.000,9,-999.0000,9,-999.000,9,   1.9152,2, -999.00,9,  -999.0,9,  -999.0,-999.000,9, -999.00,9,-999.000,9, -999.00,9, -999.00,9, -67.0000, -73.1942,-999.000,     -999.0,    34.8654,2,     -999.0,9,     -999.0,9,-999.0000,9,-999.0000,9,-999.0000,9,-999.0000,9,-999.0000,9,-999.0000,9,-999.0000,9,-999.0000,9,-999.0000,9,-999.0000,-999.000,   1.8928,     -999.0,     -999.0,9,     -999.0,9,     -999.0,9,     -999.0,9,     -999.0,20110418,       2353
320620110219,       S04P,     137,          1,         21,         21,2,20110418,       2255,   -67.0001,   -73.1937,       2672,   464.7,   1.8672,  34.7092,2,  34.7094,2,    176.7,2,   177.2,2,   87.24,2,   32.38,2,    0.00,2,    2.25,2,   0.319,2,   0.157,2,   0.026,2,   0.0590,2,  2257.2,2,  2347.1,2,   7.5726,2,    25.00,-999.000,9,-999.0000,9,-999.000,9,   1.8669,2, -999.00,9,  -999.0,9,  -999.0,-999.000,9, -999.00,9,-999.000,9, -999.00,9, -999.00,9, -67.0000, -73.1940,-999.000,     -999.0,    34.8731,2,     -999.0,9,     -999.0,9,-999.0000,9,-999.0000,9,-999.0000,9,-999.0000,9,-999.0000,9,-999.0000,9,-999.0000,9,-999.0000,9,-999.0000,9,-999.0000,-999.000,   1.8417,     -999.0,     -999.0,9,     -999.0,9,     -999.0,9,     -999.0,9,     -999.0,20110418,       2352
320620110219,       S04P,     137,          1,         20,         20,2,20110418,       2255,   -67.0001,   -73.1937,       2672,   535.2,   1.8113,  34.7186,2,  34.7196,2,    181.5,2,   180.8,2,   88.54,2,   31.94,2,    0.00,2,    2.22,2,-999.000,9,-999.000,9,-999.000,9,-999.0000,9,  -999.0,9,  -999.0,9,-999.0000,9,  -999.00,-999.000,9,-999.0000,9,-999.000,9,   1.8115,2, -999.00,9,  -999.0,9,  -999.0,-999.000,9, -999.00,9,-999.000,9, -999.00,9, -999.00,9, -67.0000, -73.1939,-999.000,     -999.0,    34.8833,2,     -999.0,9,     -999.0,9,-999.0000,9,-999.0000,9,-999.0000,9,-999.0000,9,-999.0000,9,-999.0000,9,-999.0000,9,-999.0000,9,-999.0000,9,-999.0000,-999.000,   1.7818,     -999.0,     -999.0,9,     -999.0,9,     -999.0,9,     -999.0,9,     -999.0,20110418,       2350
320620110219,       S04P,     137,          1,         19,         19,2,20110418,       2255,   -67.0001,   -73.1937,       2672,   635.6,   1.7087,  34.7257,2,  34.7259,2,    182.8,2,   184.5,2,   91.44,2,   31.74,2,    0.00,2,    2.20,2,   0.228,2,   0.109,2,   0.019,2,   0.0320,2,  2256.5,2,  -999.0,5,   7.5870,2,    25.00,-999.000,9,-999.0000,9,-999.000,9,   1.7084,2, -999.00,9,  -999.0,9,  -999.0,-999.000,9, -999.00,9,-999.000,9, -999.00,9, -999.00,9, -66.9999, -73.1940,-999.000,     -999.0,    34.8896,2,     -999.0,9,     -999.0,9,-999.0000,9,-999.0000,9,-999.0000,9,-999.0000,9,-999.0000,9,-999.0000,9,-999.0000,9,-999.0000,9,-999.0000,9,-999.0000,-999.000,   1.6737,     -999.0,     -999.0,9,     -999.0,9,     -999.0,9,     -999.0,9,     -999.0,20110418,       2347
320620110219,       S04P,     137,          1,         18,         18,2,20110418,       2255,   -67.0001,   -73.1937,       2672,   735.3,   1.6031,  34.7281,2,  34.7296,2,    186.5,2,   186.4,2,   94.70,2,   31.74,2,    0.00,2,    2.19,2,-999.000,9,-999.000,9,-999.000,9,-999.0000,9,  -999.0,9,  -999.0,9,-999.0000,9,  -999.00,-999.000,9,-999.0000,9,-999.000,9,   1.6029,2, -999.00,9,  -999.0,9,  -999.0,-999.000,9, -999.00,9,-999.000,9, -999.00,9, -999.00,9, -66.9997, -73.1940,-999.000,     -999.0,    34.8934,2,     -999.0,9,     -999.0,9,-999.0000,9,-999.0000,9,-999.0000,9,-999.0000,9,-999.0000,9,-999.0000,9,-999.0000,9,-999.0000,9,-999.0000,9,-999.0000,-999.000,   1.5626,     -999.0,     -999.0,9,     -999.0,9,     -999.0,9,     -999.0,9,     -999.0,20110418,       2344
320620110219,       S04P,     137,          1,         17,         17,2,20110418,       2255,   -67.0001,   -73.1937,       2672,   834.8,   1.5060,  34.7285,2,  34.7286,2,    187.7,2,   188.2,2,   97.74,2,   31.70,2,    0.00,2,    2.19,2,   0.180,2,   0.090,2,   0.013,2,   0.0350,2,  -999.0,9,  -999.0,9,-999.0000,9,  -999.00,-999.000,9,-999.0000,9,-999.000,9,   1.5064,2, -999.00,9,  -999.0,9,  -999.0,-999.000,9, -999.00,9,-999.000,9, -999.00,9, -999.00,9, -66.9997, -73.1939,-999.000,     -999.0,    34.8924,2,     -999.0,9,     -999.0,9,-999.0000,9,-999.0000,9,-999.0000,9,-999.0000,9,-999.0000,9,-999.0000,9,-999.0000,9,-999.0000,9,-999.0000,9,-999.0000,-999.000,   1.4600,     -999.0,     -999.0,9,     -999.0,9,     -999.0,9,     -999.0,9,     -999.0,20110418,       2342
320620110219,       S04P,     137,          1,         16,         16,2,20110418,       2255,   -67.0001,   -73.1937,       2672,   933.8,   1.4129,  34.7287,2,  34.7292,2,    189.9,2,   190.1,2,  100.16,2,   31.75,2,    0.00,2,    2.18,2,-999.000,9,-999.000,9,-999.000,9,-999.0000,9,  2259.2,2,  2356.4,2,   7.5944,2,    25.00,-999.000,9,-999.0000,9,-999.000,9,   1.4131,2, -999.00,9,  -999.0,9,  -999.0,-999.000,9, -999.00,9,-999.000,9, -999.00,9, -999.00,9, -66.9998, -73.1935,-999.000,     -999.0,    34.8930,2,     -999.0,9,     -999.0,9,-999.0000,9,-999.0000,9,-999.0000,9,-999.0000,9,-999.0000,9,-999.0000,9,-999.0000,9,-999.0000,9,-999.0000,9,-999.0000,-999.000,   1.3614,     -999.0,     -999.0,9,     -999.0,9,     -999.0,9,     -999.0,9,     -999.0,20110418,       2339
320620110219,       S04P,     137,          1,         15,         15,2,20110418,       2255,   -67.0001,   -73.1937,       2672,  1036.8,   1.3280,  34.7274,2,  34.7279,2,    192.3,2,   191.6,2,  103.03,2,   31.83,2,    0.00,2,    2.18,2,-999.000,9,-999.000,9,-999.000,9,-999.0000,9,  -999.0,9,  -999.0,9,-999.0000,9,  -999.00,-999.000,9,-999.0000,9,-999.000,9,   1.3282,2, -999.00,9,  -999.0,9,  -999.0,-999.000,9, -999.00,9,-999.000,9, -999.00,9, -999.00,9, -67.0000, -73.1936,-999.000,     -999.0,    34.8916,2,     -999.0,9,     -999.0,9,-999.0000,9,-999.0000,9,-999.0000,9,-999.0000,9,-999.0000,9,-999.0000,9,-999.0000,9,-999.0000,9,-999.0000,9,-999.0000,-999.000,   1.2706,     -999.0,     -999.0,9,     -999.0,9,     -999.0,9,     -999.0,9,     -999.0,20110418,       2336
320620110219,       S04P,     137,          1,         14,         14,2,20110418,       2255,   -67.0001,   -73.1937,       2672,  1135.2,   1.2510,  34.7260,2,  34.7267,2,    194.1,2,   193.7,2,  104.68,2,   31.81,2,    0.00,2,    2.17,2,   0.174,2,   0.084,2,   0.015,2,   0.0330,2,  -999.0,9,  -999.0,9,-999.0000,9,  -999.00,-999.000,9,-999.0000,9,-999.000,9,   1.2512,2, -999.00,9,  -999.0,9,  -999.0,-999.000,9, -999.00,9,-999.000,9, -999.00,9, -999.00,9, -67.0000, -73.1937,-999.000,     -999.0,    34.8904,2,     -999.0,9,     -999.0,9,-999.0000,9,-999.0000,9,-999.0000,9,-999.0000,9,-999.0000,9,-999.0000,9,-999.0000,9,-999.0000,9,-999.0000,9,-999.0000,-999.000,   1.1879,     -999.0,     -999.0,9,     -999.0,9,     -999.0,9,     -999.0,9,     -999.0,20110418,       2334
320620110219,       S04P,     137,          1,         13,         13,2,20110418,       2255,   -67.0001,   -73.1937,       2672,  1234.9,   1.1475,  34.7232,2,  34.7241,2,    196.1,2,   196.2,2,  107.91,2,   31.85,2,    0.00,2,    2.18,2,-999.000,9,-999.000,9,-999.000,9,-999.0000,9,  -999.0,9,  -999.0,9,-999.0000,9,  -999.00,-999.000,9,-999.0000,9,-999.000,9,   1.1473,2, -999.00,9,  -999.0,9,  -999.0,-999.000,9, -999.00,9,-999.000,9, -999.00,9, -999.00,9, -67.0001, -73.1938,-999.000,     -999.0,    34.8879,2,     -999.0,9,     -999.0,9,-999.0000,9,-999.0000,9,-999.0000,9,-999.0000,9,-999.0000,9,-999.0000,9,-999.0000,9,-999.0000,9,-999.0000,9,-999.0000,-999.000,   1.0789,     -999.0,     -999.0,9,     -999.0,9,     -999.0,9,     -999.0,9,     -999.0,20110418,       2331