BOTTLE,20220813CCHSIOAMB
EXPOCODE,SECT_ID,STNNBR,CASTNO,SAMPNO,BTLNBR,BTLNBR_FLAG_W,DATE,TIME,LATITUDE,LONGITUDE,DEPTH,CTDPRS,CTDTMP,CTDSAL,CTDSAL_FLAG_W,SALNTY,SALNTY_FLAG_W,CTDOXY,CTDOXY_FLAG_W,OXYGEN,OXYGEN_FLAG_W,SILCAT,SILCAT_FLAG_W,NITRAT,NITRAT_FLAG_W,NITRIT,NITRIT_FLAG_W,PHSPHT,PHSPHT_FLAG_W,CFC-11,CFC-11_FLAG_W,CFC-12,CFC-12_FLAG_W,CFC113,CFC113_FLAG_W,SF6,SF6_FLAG_W,TCARBN,TCARBN_FLAG_W,ALKALI,ALKALI_FLAG_W,PH_TOT,PH_TOT_FLAG_W,PH_TMP,TRITUM,TRITUM_FLAG_W,HELIUM,HELIUM_FLAG_W,DELHE3,DELHE3_FLAG_W,REFTMP,REFTMP_FLAG_W,DELC13,DELC13_FLAG_W,DELC14,DELC14_FLAG_W,C14ERR,NEON,NEON_FLAG_W,DELO18,DELO18_FLAG_W,POC,POC_FLAG_W,DOC,DOC_FLAG_W,TDN,TDN_FLAG_W,BTL_LAT,BTL_LON,TRITER,NEONER,SALTREF,SALTREF_FLAG_W,PIGMENTS,PIGMENTS_FLAG_W,LAB_DEN,LAB_DEN_FLAG_W,CDOM325,CDOM325_FLAG_W,CDOM340,CDOM340_FLAG_W,CDOM380,CDOM380_FLAG_W,CDOM412,CDOM412_FLAG_W,CDOM443,CDOM443_FLAG_W,CDOM490,CDOM490_FLAG_W,CDOM555,CDOM555_FLAG_W,CDOMSL,CDOMSL_FLAG_W,CDOMSN,CDOMSN_FLAG_W,HELIER,DELHER,THETA,LDEO_SAMPNO,ABSORBTION,ABSORBTION_FLAG_W,IMAGE_COUNT,IMAGE_COUNT_FLAG_W,CYTO_COUNT,CYTO_COUNT_FLAG_W,DELD,DELD_FLAG_W,DELDERR,BTL_DATE,BTL_TIME
,,,,,,,,,,,METERS,DBAR,ITS-90,PSS-78,,PSS-78,,UMOL/KG,,UMOL/KG,,UMOL/KG,,UMOL/KG,,UMOL/KG,,UMOL/KG,,PMOL/KG,,PMOL/KG,,PMOL/KG,,FMOL/KG,,UMOL/KG,,UMOL/KG,,,,DEG C,TU,,NMOL/KG,,PERCNT,,DEG C,,/MILLE,,/MILLE,,/MILLE,NMOL/KG,,/MILLE,,UG/KG,,UMOL/KG,,UMOL/KG,,,,TU,NMOL/KG,G/KG,,,,,,1/M,,1/M,,1/M,,1/M,,1/M,,1/M,,1/M,,1/NM,,1/NM,,NMOL/KG,PERCNT,DEG C,,,,,,,,/MILLE,,/MILLE,,
320620110219,       P15S,      90,          1,         36,         36,2,20110325,       2344,   -71.7613,  -169.9986,       4022,     5.7,  -1.3156,  33.7546,2,  33.7546,2,    343.4,2,   345.3,2,   49.95,2,   25.72,2,    0.07,2,    1.78,2,   6.262,2,   3.370,2,   0.626,2,   2.6990,2,  2160.1,6,  2283.1,2,   7.6878,2,    25.00,-999.000,9,-999.0000,9,-999.000,9,  -1.3158,2,    1.31,2,  -103.5,2,     2.5,-999.000,9,   -0.34,2,-999.000,9, -999.00,9, -999.00,9, -71.7613,-169.9990,-999.000,     -999.0,    33.9137,2,     -999.0,9,     -999.0,9,   0.1034,2,   0.0594,2,   0.0092,3,   0.0019,3,  -0.0078,4,  -0.0070,4,  -0.0100,4,   0.0525,4,   0.0419,4,-999.0000,-999.000,  -1.3157,     -999.0,     -999.0,9,     -999.0,9,     -999.0,9,      -3.76,2,       0.07,20110326,       0122
320620110219,       P15S,      90,          1,         35,         35,2,20110325,       2344,   -71.7613,  -169.9986,       4022,    34.6,  -1.3110,  33.7550,2,  33.7555,2,    347.3,2,   347.4,2,   49.97,2,   25.71,2,    0.07,2,    1.80,2,   6.264,2,   3.380,2,   0.627,2,   2.7200,2,  2160.9,2,  2283.1,2,   7.6844,6,    25.00,-999.000,9,-999.0000,9,-999.000,9,  -1.3110,2, -999.00,9,  -999.0,9,  -999.0,-999.000,9,   -0.35,2,-999.000,9, -999.00,9, -999.00,9, -71.7613,-169.9990,-999.000,     -999.0,    33.9147,2,     -999.0,9,     -999.0,9,   0.1005,2,   0.0579,2,   0.0107,3,   0.0017,3,  -0.0076,4,  -0.0065,4,  -0.0096,4,   0.0497,4,   0.0398,4,-999.0000,-999.000,  -1.3118,     -999.0,     -999.0,9,     -999.0,9,     -999.0,9,      -3.91,2,       0.52,20110326,       0120
320620110219,       P15S,      90,          1,         34,         34,2,20110325,       2344,   -71.7613,  -169.9986,       4022,    59.5,  -1.6876,  34.1296,2,  34.1259,2,    303.5,2,   295.5,2,   55.32,2,   28.52,2,    0.07,2,    2.03,2,   4.683,2,   2.491,2,   0.445,2,   1.9210,2,  2202.9,2,  2304.9,2,   7.6291,2,    25.00,-999.000,9,-999.0000,9,-999.000,9,  -1.6892,2,    0.96,2,  -112.7,2,     3.2,-999.000,9,   -0.30,2,-999.000,9, -999.00,9, -999.00,9, -71.7613,-169.9989,-999.000,     -999.0,    34.2868,2,     -999.0,9,     -999.0,9,   0.0819,2,   0.0429,3,   0.0041,3,   0.0002,4,  -0.0086,4,  -0.0075,4,  -0.0100,4,   0.0578,4,   0.0484,4,-999.0000,-999.000,  -1.6888,     -999.0,     -999.0,9,     -999.0,9,     -999.0,9,      -3.43,2,       0.10,20110326,       0119
320620110219,       P15S,      90,          1,         33,         33,2,20110325,       2344,   -71.7613,  -169.9986,       4022,    85.1,  -1.5274,  34.1775,2,  34.1872,2,    280.1,2,   280.5,2,   58.08,2,   29.58,2,    0.14,2,    2.09,2,   4.378,2,   2.358,2,   0.437,2,   1.8450,2,  2211.6,2,  2308.0,6,   7.6074,2,    25.00,-999.000,9,-999.0000,9,-999.000,9,  -1.5355,2,    0.86,2,  -111.1,2,     2.4,-999.000,9, -999.00,9,-999.000,9, -999.00,9, -999.00,9, -71.7613,-169.9989,-999.000,     -999.0,    34.3484,2,     -999.0,9,     -999.0,9,   0.0828,2,   0.0440,3,   0.0050,3,   0.0006,3,  -0.0086,4,  -0.0076,4,  -0.0100,4,   0.0584,4,   0.0470,4,-999.0000,-999.000,  -1.5293,     -999.0,     -999.0,9,     -999.0,9,     -999.0,9,     -999.0,9,     -999.0,20110326,       0117
320620110219,       P15S,      90,          1,         32,         32,2,20110325,       2344,   -71.7613,  -169.9986,       4022,   109.3,  -0.7856,  34.2728,2,  34.2702,2,    263.1,2,   262.6,2,   62.48,2,   30.56,2,    0.02,2,    2.14,2,   3.764,6,   2.050,6,   0.374,6,   1.5210,6,  2219.8,2,  2313.7,2,   7.5945,2,    25.00,-999.000,9,-999.0000,9,-999.000,9,  -0.7838,2,    0.80,2,  -119.1,2,     2.8,-999.000,9,   -0.23,2,-999.000,9, -999.00,9, -999.00,9, -71.7613,-169.9989,-999.000,     -999.0,    34.4318,2,     -999.0,9,     -999.0,9,   0.0885,2,   0.0471,2,   0.0072,3,   0.0003,4,  -0.0094,4,  -0.0082,4,  -0.0105,4,   0.0634,4,   0.0454,4,-999.0000,-999.000,  -0.7887,     -999.0,     -999.0,9,     -999.0,9,     -999.0,9,      -2.78,2,       0.12,20110326,       0116
320620110219,       P15S,      90,          1,         31,         31,2,20110325,       2344,   -71.7613,  -169.9986,       4022,   133.7,  -0.2832,  34.3417,2,  34.3478,2,    247.3,2,   246.0,2,   67.64,2,   31.20,2,    0.00,2,    2.18,2,   3.130,2,   1.674,2,   0.305,2,   1.1420,2,  2226.8,2,  2318.2,2,   7.5872,2,    25.00,-999.000,9,-999.0000,9,-999.000,9,  -0.2688,2,    0.73,2,  -127.3,2,     3.4,-999.000,9, -999.00,9,-999.000,9, -999.00,9, -999.00,9, -71.7613,-169.9989,-999.000,     -999.0,    34.5097,2,     -999.0,9,     -999.0,9,   0.0878,2,   0.0479,2,   0.0069,3,   0.0009,3,  -0.0088,4,  -0.0079,4,  -0.0103,4,   0.0597,4,   0.0447,4,-999.0000,-999.000,  -0.2877,     -999.0,     -999.0,9,     -999.0,9,     -999.0,9,     -999.0,9,     -999.0,20110326,       0115
320620110219,       P15S,      90,          1,         30,         30,2,20110325,       2344,   -71.7613,  -169.9986,       4022,   164.5,   0.5378,  34.4649,2,  34.4642,2,    224.1,2,   219.2,2,   74.65,2,   32.14,2,    0.00,2,    2.23,2,   2.145,2,   1.151,2,   0.191,2,   0.7800,2,  2238.3,2,  2329.1,2,   7.5726,2,    25.00,-999.000,9,-999.0000,9,-999.000,9,   0.5433,2,    0.60,2,  -130.9,2,     2.7,-999.000,9,   -0.12,2,-999.000,9, -999.00,9, -999.00,9, -71.7613,-169.9989,-999.000,     -999.0,    34.6267,2,     -999.0,9,     -999.0,9,   0.0953,2,   0.0532,2,   0.0090,3,   0.0024,3,  -0.0080,4,  -0.0075,4,  -0.0100,4,   0.0502,4,   0.0424,4,-999.0000,-999.000,   0.5311,     -999.0,     -999.0,9,     -999.0,9,     -999.0,9,      -2.11,2,       0.17,20110326,       0113
320620110219,       P15S,      90,          1,         29,         29,2,20110325,       2344,   -71.7613,  -169.9986,       4022,   214.4,   1.2985,  34.6016,2,  34.6014,2,    194.2,2,   194.0,2,   82.13,2,   32.63,2,    0.00,2,    2.25,2,   1.102,2,   0.579,2,   0.094,2,   0.3690,2,  2251.3,2,  2335.0,2,   7.5656,2,    25.00,-999.000,9,-999.0000,9,-999.000,9,   1.2980,2,    0.45,2,  -138.4,2,     2.6,-999.000,9, -999.00,9,-999.000,9, -999.00,9, -999.00,9, -71.7613,-169.9989,-999.000,     -999.0,    34.7646,2,     -999.0,9,     -999.0,9,   0.1008,2,   0.0583,2,   0.0143,3,   0.0036,3,  -0.0076,4,  -0.0075,4,  -0.0102,4,   0.0394,3,   0.0375,3,-999.0000,-999.000,   1.2882,     -999.0,     -999.0,9,     -999.0,9,     -999.0,9,     -999.0,9,     -999.0,20110326,       0112
320620110219,       P15S,      90,          1,         28,         28,2,20110325,       2344,   -71.7613,  -169.9986,       4022,   263.8,   1.5897,  34.6717,2,  34.6687,2,    184.4,2,   185.4,2,   86.06,2,   32.54,2,    0.00,2,    2.24,2,   0.649,2,   0.331,2,   0.058,2,   0.1990,2,  2255.1,2,  2340.5,2,   7.5680,2,    25.00,-999.000,9,-999.0000,9,-999.000,9,   1.5868,2,    0.44,2,  -147.5,2,     2.3,-999.000,9,   -0.06,2,-999.000,9, -999.00,9, -999.00,9, -71.7613,-169.9989,-999.000,     -999.0,    34.8322,2,     -999.0,9,     -999.0,9,   0.1019,2,   0.0587,2,   0.0119,3,   0.0034,3,  -0.0073,4,  -0.0072,4,  -0.0101,4,   0.0433,3,   0.0396,3,-999.0000,-999.000,   1.5763,     -999.0,     -999.0,9,     -999.0,9,     -999.0,9,      -1.71,2,       0.15,20110326,       0110
320620110219,       P15S,      90,          1,         27,         27,2,20110325,       2344,   -71.7613,  -169.9986,       4022,   315.1,   1.6609,  34.7044,2,  34.7036,2,    184.4,2,   184.1,2,   88.64,2,   32.24,2,    0.00,2,    2.23,2,   0.417,2,   0.210,2,   0.032,2,   0.1120,2,  2257.4,2,  2346.0,2,   7.5749,2,    25.00,-999.000,9,-999.0000,9,-999.000,9,   1.6607,2,    0.44,2,  -145.2,2,     2.3,-999.000,9, -999.00,9,-999.000,9, -999.00,9, -999.00,9, -71.7613,-169.9990,-999.000,     -999.0,    34.8673,2,     -999.0,9,     -999.0,9,-999.0000,9,-999.0000,9,-999.0000,9,-999.0000,9,-999.0000,9,-999.0000,9,-999.0000,9,-999.0000,9,-999.0000,9,-999.0000,-999.000,   1.6445,     -999.0,     -999.0,9,     -999.0,9,     -999.0,9,     -999.0,9,     -999.0,20110326,       0108
320620110219,       P15S,      90,          1,         26,         26,2,20110325,       2344,   -71.7613,  -169.9986,       4022,   365.5,   1.6319,  34.7167,2,  34.7164,2,    185.9,2,   187.1,2,   90.72,2,   32.10,2,    0.00,2,    2.22,2,   0.343,2,   0.174,2,   0.025,2,   0.0600,2,  2255.1,2,  2346.6,2,   7.5791,2,    25.00,-999.000,9,-999.0000,9,-999.000,9,   1.6323,2,    0.46,2,  -156.7,2,     2.3,-999.000,9,    0.05,2,-999.000,9, -999.00,9, -999.00,9, -71.7613,-169.9990,-999.000,     -999.0,    34.8801,2,     -999.0,9,     -999.0,9,-999.0000,9,-999.0000,9,-999.0000,9,-999.0000,9,-999.0000,9,-999.0000,9,-999.0000,9,-999.0000,9,-999.0000,9,-999.0000,-999.000,   1.6128,     -999.0,     -999.0,9,     -999.0,9,     -999.0,9,      -0.98,2,       0.16,20110326,       0107
320620110219,       P15S,      90,          1,         25,         25,2,20110325,       2344,   -71.7613,  -169.9986,       4022,   414.6,   1.5815,  34.7237,2,  34.7240,2,    187.2,2,   187.7,2,   93.07,2,   32.01,2,    0.00,2,    2.22,2,-999.000,9,-999.000,9,-999.000,9,-999.0000,9,  2256.9,2,  2348.5,2,   7.5812,2,    25.00,-999.000,9,-999.0000,9,-999.000,9,   1.5812,2,    0.46,2,  -152.1,2,     2.7,-999.000,9,    0.00,2,-999.000,9, -999.00,9, -999.00,9, -71.7613,-169.9990,-999.000,     -999.0,    34.8878,2,     -999.0,9,     -999.0,9,   0.1010,2,   0.0581,2,   0.0103,3,   0.0022,3,  -0.0081,4,  -0.0076,4,  -0.0103,4,   0.0484,4,   0.0406,4,-999.0000,-999.000,   1.5599,     -999.0,     -999.0,9,     -999.0,9,     -999.0,9,      -1.25,2,       0.10,20110326,       0105
320620110219,       P15S,      90,          1,         24,         24,2,20110325,       2344,   -71.7613,  -169.9986,       4022,   464.7,   1.5331,  34.7275,2,  34.7268,2,    188.7,2,   187.4,2,   95.33,2,   32.05,2,    0.00,2,    2.22,2,   0.262,2,   0.130,2,   0.016,2,   0.0690,2,  -999.0,9,  -999.0,9,-999.0000,9,  -999.00,-999.000,9,-999.0000,9,-999.000,9,   1.5340,2, -999.00,9,  -999.0,9,  -999.0,-999.000,9, -999.00,9,-999.000,9, -999.00,9, -999.00,9, -71.7613,-169.9990,-999.000,     -999.0,    34.8905,2,     -999.0,9,     -999.0,9,-999.0000,9,-999.0000,9,-999.0000,9,-999.0000,9,-999.0000,9,-999.0000,9,-999.0000,9,-999.0000,9,-999.0000,9,-999.0000,-999.000,   1.5088,     -999.0,     -999.0,9,     -999.0,9,     -999.0,9,     -999.0,9,     -999.0,20110326,       0104
320620110219,       P15S,      90,          1,         23,         23,2,20110325,       2344,   -71.7613,  -169.9986,       4022,   534.4,   1.4624,  34.7293,2,  34.7289,2,    189.2,2,   188.5,2,   97.81,2,   32.19,2,    0.00,2,    2.23,2,-999.000,9,-999.000,9,-999.000,9,-999.0000,9,  2259.8,2,  2351.7,2,   7.5824,2,    25.00,-999.000,9,-999.0000,9,-999.000,9,   1.4622,2,    0.46,2,  -153.6,2,     2.4,-999.000,9, -999.00,9,-999.000,9, -999.00,9, -999.00,9, -71.7613,-169.9991,-999.000,     -999.0,    34.8927,2,     -999.0,9,     -999.0,9,-999.0000,9,-999.0000,9,-999.0000,9,-999.0000,9,-999.0000,9,-999.0000,9,-999.0000,9,-999.0000,9,-999.0000,9,-999.0000,-999.000,   1.4345,     -999.0,     -999.0,9,     -999.0,9,     -999.0,9,     -999.0,9,     -999.0,20110326,       0102
320620110219,       P15S,      90,          1,         22,         22,2,20110325,       2344,   -71.7613,  -169.9986,       4022,   636.0,   1.3830,  34.7301,2,  34.7305,2,    189.4,2,   189.7,2,  101.00,2,   32.39,2,    0.00,2,    2.23,2,   0.185,2,   0.096,2,   0.013,2,   0.0550,2,  2260.3,2,  2352.4,2,   7.5836,2,    25.00,-999.000,9,-999.0000,9,-999.000,9,   1.3831,2,    0.45,2,  -157.9,2,     2.3,-999.000,9,    0.00,2,-999.000,9, -999.00,9, -999.00,9, -71.7613,-169.9991,-999.000,     -999.0,    34.8942,2,     -999.0,9,     -999.0,9,   0.1000,2,   0.0576,2,   0.0120,3,   0.0028,3,  -0.0078,4,  -0.0075,4,  -0.0103,4,   0.0438,3,   0.0393,3,-999.0000,-999.000,   1.3496,     -999.0,     -999.0,9,     -999.0,9,     -999.0,9,      -1.26,2,       0.15,20110326,       0059
320620110219,       P15S,      90,          1,         21,         21,2,20110325,       2344,   -71.7613,  -169.9986,       4022,   735.0,   1.3033,  34.7295,2,  34.7295,2,    189.9,2,   188.0,2,  103.74,2,   32.40,2,    0.00,2,    2.24,2,-999.000,9,-999.000,9,-999.000,9,-999.0000,9,  -999.0,9,  2353.3,2,   7.5837,2,    25.00,-999.000,9,-999.0000,9,-999.000,9,   1.3037,2,    0.46,2,  -158.7,2,     2.4,-999.000,9, -999.00,9,-999.000,9, -999.00,9, -999.00,9, -71.7613,-169.9991,-999.000,     -999.0,    34.8933,2,     -999.0,9,     -999.0,9,-999.0000,9,-999.0000,9,-999.0000,9,-999.0000,9,-999.0000,9,-999.0000,9,-999.0000,9,-999.0000,9,-999.0000,9,-999.0000,-999.000,   1.2646,     -999.0,     -999.0,9,     -999.0,9,     -999.0,9,     -999.0,9,     -999.0,20110326,       0057
320620110219,       P15S,      90,          1,         20,         20,2,20110325,       2344,   -71.7613,  -169.9986,       4022,   834.0,   1.2348,  34.7282,2,  34.7281,2,    190.9,2,   190.6,2,  106.01,2,   32.47,2,    0.00,2,    2.24,2,   0.134,2,   0.064,2,   0.008,2,   0.0040,2,  2262.1,2,  2354.7,2,   7.5845,2,    25.00,-999.000,9,-999.0000,9,-999.000,9,   1.2345,2,    0.44,2,  -163.2,2,     2.4,-999.000,9,   -0.10,2,-999.000,9, -999.00,9, -999.00,9, -71.7613,-169.9991,-999.000,     -999.0,    34.8919,2,     -999.0,9,     -999.0,9,-999.0000,9,-999.0000,9,-999.0000,9,-999.0000,9,-999.0000,9,-999.0000,9,-999.0000,9,-999.0000,9,-999.0000,9,-999.0000,-999.000,   1.1907,     -999.0,     -999.0,9,     -999.0,9,     -999.0,9,      -2.05,2,       0.06,20110326,       0054
320620110219,       P15S,      90,          1,         19,         19,2,20110325,       2344,   -71.7613,  -169.9986,       4022,   934.8,   1.1720,  34.7263,2,  34.7267,2,    192.4,2,   191.8,2,  108.21,2,   32.46,2,    0.00,2,    2.24,2,-999.000,9,-999.000,9,-999.000,9,-999.0000,9,  -999.0,9,  2355.0,6,   7.5869,2,    25.00,-999.000,9,-999.0000,9,-999.000,9,   1.1716,2,    0.42,2,  -160.1,2,     2.4,-999.000,9, -999.00,9,-999.000,9, -999.00,9, -999.00,9, -71.7613,-169.9991,-999.000,     -999.0,    34.8905,2,     -999.0,9,     -999.0,9,   0.0997,2,   0.0575,2,   0.0123,3,   0.0031,3,  -0.0078,4,  -0.0076,4,  -0.0103,4,   0.0429,3,   0.0390,3,-999.0000,-999.000,   1.1222,     -999.0,     -999.0,9,     -999.0,9,     -999.0,9,     -999.0,9,     -999.0,20110326,       0052
320620110219,       P15S,      90,          1,         18,         18,2,20110325,       2344,   -71.7613,  -169.9986,       4022,  1033.7,   1.1117,  34.7243,2,  34.7246,2,    194.2,2,   194.7,2,  110.25,2,   32.48,2,    0.00,2,    2.24,2,   0.100,2,   0.055,2,   0.005,2,   0.0150,2,  2262.1,2,  2356.4,2,   7.5877,6,    25.00,-999.000,9,-999.0000,9,-999.000,9,   1.1116,2,    0.36,2,  -152.4,2,     3.1,-999.000,9,   -0.10,2,-999.000,9, -999.00,9, -999.00,9, -71.7613,-169.9990,-999.000,     -999.0,    34.8883,2,     -999.0,9,     -999.0,9,-999.0000,9,-999.0000,9,-999.0000,9,-999.0000,9,-999.0000,9,-999.0000,9,-999.0000,9,-999.0000,9,-999.0000,9,-999.0000,-999.000,   1.0563,     -999.0,     -999.0,9,     -999.0,9,     -999.0,9,      -1.84,2,       0.08,20110326,       0049
320620110219,       P15S,      90,          1,         17,         17,2,20110325,       2344,   -71.7613,  -169.9986,       4022,  1134.4,   1.0427,  34.7218,2,  34.7216,2,    195.9,2,   196.2,2,  112.39,2,   32.60,2,    0.00,2,    2.23,2,-999.000,9,-999.000,9,-999.000,9,-999.0000,9,  -999.0,9,  2358.0,2,   7.5896,2,    25.00,-999.000,9,-999.0000,9,-999.000,9,   1.0426,2,    0.47,6,  -159.6,6,     1.4,-999.000,9, -999.00,9,-999.000,9, -999.00,9, -999.00,9, -71.7613,-169.9990,-999.000,     -999.0,    34.8854,2,     -999.0,9,     -999.0,9,-999.0000,9,-999.0000,9,-999.0000,9,-999.0000,9,-999.0000,9,-999.0000,9,-999.0000,9,-999.0000,9,-999.0000,9,-999.0000,-999.000,   0.9816,     -999.0,     -999.0,9,     -999.0,9,     -999.0,9,     -999.0,9,     -999.0,20110326,       0047
320620110219,       P15S,      90,          1,         16,         16,2,20110325,       2344,   -71.7613,  -169.9986,       4022,  1234.0,   0.9852,  34.7196,2,  34.7195,2,    197.0,2,   196.4,2,  113.72,2,   32.58,2,    0.00,2,    2.23,2,   0.123,2,   0.060,2,   0.006,2,   0.0250,2,  2262.7,6,  2358.2,2,   7.5925,2,    25.00,-999.000,9,-999.0000,9,-999.000,9,   0.9851,2,    0.45,2,  -161.4,2,     1.9,-999.000,9,   -0.04,2,-999.000,9, -999.00,9, -999.00,9, -71.7613,-169.9989,-999.000,     -999.0,    34.8832,2,     -999.0,9,     -999.0,9,   0.0972,2,   0.0550,2,   0.0102,3,   0.0020,3,  -0.0080,4,  -0.0076,4,  -0.0102,4,   0.0485,4,   0.0411,4,-999.0000,-999.000,   0.9182,     -999.0,     -999.0,9,     -999.0,9,     -999.0,9,      -1.54,2,       0.24,20110326,       0045
320620110219,       P15S,      90,          1,         15,         15,2,20110325,       2344,   -71.7613,  -169.9986,       4022,  1334.0,   0.9284,  34.7176,2,  34.7179,2,    198.7,2,   198.1,2,  115.71,2,   32.63,2,    0.00,2,    2.24,2,-999.000,9,-999.000,9,-999.000,9,-999.0000,9,  -999.0,9,  -999.0,9,-999.0000,9,  -999.00,-999.000,9,-999.0000,9,-999.000,9,   0.9290,2, -999.00,9,  -999.0,9,  -999.0,-999.000,9, -999.00,9,-999.000,9, -999.00,9, -999.00,9, -71.7613,-169.9989,-999.000,     -999.0,    34.8816,2,     -999.0,9,     -999.0,9,-999.0000,9,-999.0000,9,-999.0000,9,-999.0000,9,-999.0000,9,-999.0000,9,-999.0000,9,-999.0000,9,-999.0000,9,-999.0000,-999.000,   0.8555,     -999.0,     -999.0,9,     -999.0,9,     -999.0,9,     -999.0,9,     -999.0,20110326,       0042
320620110219,       P15S,      90,          1,         14,         14,2,20110325,       2344,   -71.7613,  -169.9986,       4022,  1434.4,   0.8840,  34.7156,2,  34.7153,2,    200.0,2,   199.5,2,  117.05,2,   32.56,2,    0.00,2,    2.23,2,   0.081,2,   0.042,2,   0.005,2,   0.0120,2,  2262.8,2,  2358.8,2,   7.5951,2,    25.00,-999.000,9,-999.0000,9,-999.000,9,   0.8842,2,    0.50,2,  -164.1,2,     1.6,-999.000,9, -999.00,9,-999.000,9, -999.00,9, -999.00,9, -71.7613,-169.9990,-999.000,     -999.0,    34.8790,2,     -999.0,9,     -999.0,9,-999.0000,9,-999.0000,9,-999.0000,9,-999.0000,9,-999.0000,9,-999.0000,9,-999.0000,9,-999.0000,9,-999.0000,9,-999.0000,-999.000,   0.8049,     -999.0,     -999.0,9,     -999.0,9,     -999.0,9,     -999.0,9,     -999.0,20110326,       0040