BOTTLE,20220813CCHSIOAMB
EXPOCODE,SECT_ID,STNNBR,CASTNO,SAMPNO,BTLNBR,BTLNBR_FLAG_W,DATE,TIME,LATITUDE,LONGITUDE,DEPTH,CTDPRS,CTDTMP,CTDSAL,CTDSAL_FLAG_W,SALNTY,SALNTY_FLAG_W,CTDOXY,CTDOXY_FLAG_W,OXYGEN,OXYGEN_FLAG_W,SILCAT,SILCAT_FLAG_W,NITRAT,NITRAT_FLAG_W,NITRIT,NITRIT_FLAG_W,PHSPHT,PHSPHT_FLAG_W,CFC-11,CFC-11_FLAG_W,CFC-12,CFC-12_FLAG_W,CFC113,CFC113_FLAG_W,SF6,SF6_FLAG_W,TCARBN,TCARBN_FLAG_W,ALKALI,ALKALI_FLAG_W,PH_TOT,PH_TOT_FLAG_W,PH_TMP,TRITUM,TRITUM_FLAG_W,HELIUM,HELIUM_FLAG_W,DELHE3,DELHE3_FLAG_W,REFTMP,REFTMP_FLAG_W,DELC13,DELC13_FLAG_W,DELC14,DELC14_FLAG_W,C14ERR,NEON,NEON_FLAG_W,DELO18,DELO18_FLAG_W,POC,POC_FLAG_W,DOC,DOC_FLAG_W,TDN,TDN_FLAG_W,BTL_LAT,BTL_LON,TRITER,NEONER,SALTREF,SALTREF_FLAG_W,PIGMENTS,PIGMENTS_FLAG_W,LAB_DEN,LAB_DEN_FLAG_W,CDOM325,CDOM325_FLAG_W,CDOM340,CDOM340_FLAG_W,CDOM380,CDOM380_FLAG_W,CDOM412,CDOM412_FLAG_W,CDOM443,CDOM443_FLAG_W,CDOM490,CDOM490_FLAG_W,CDOM555,CDOM555_FLAG_W,CDOMSL,CDOMSL_FLAG_W,CDOMSN,CDOMSN_FLAG_W,HELIER,DELHER,THETA,LDEO_SAMPNO,ABSORBTION,ABSORBTION_FLAG_W,IMAGE_COUNT,IMAGE_COUNT_FLAG_W,CYTO_COUNT,CYTO_COUNT_FLAG_W,DELD,DELD_FLAG_W,DELDERR,BTL_DATE,BTL_TIME
,,,,,,,,,,,METERS,DBAR,ITS-90,PSS-78,,PSS-78,,UMOL/KG,,UMOL/KG,,UMOL/KG,,UMOL/KG,,UMOL/KG,,UMOL/KG,,PMOL/KG,,PMOL/KG,,PMOL/KG,,FMOL/KG,,UMOL/KG,,UMOL/KG,,,,DEG C,TU,,NMOL/KG,,PERCNT,,DEG C,,/MILLE,,/MILLE,,/MILLE,NMOL/KG,,/MILLE,,UG/KG,,UMOL/KG,,UMOL/KG,,,,TU,NMOL/KG,G/KG,,,,,,1/M,,1/M,,1/M,,1/M,,1/M,,1/M,,1/M,,1/NM,,1/NM,,NMOL/KG,PERCNT,DEG C,,,,,,,,/MILLE,,/MILLE,,
320620110219,       S04P,     135,          1,         36,         36,2,20110418,       1311,   -66.9991,   -73.8413,       3510,     2.9,  -0.4180,  33.6244,2,  33.6255,2,    335.9,3,   339.9,2,   15.25,2,   23.10,2,    0.21,2,    1.60,2,   6.134,2,   3.374,2,   0.636,2,   2.6280,2,  2143.9,6,  2276.3,6,   7.7034,2,    25.00,   0.112,2,    1.948,2,  -1.803,2,  -0.4178,2, -999.00,9,  -999.0,9,  -999.0,   8.746,2,   -0.41,2,-999.000,9, -999.00,9, -999.00,9, -66.9977, -73.8518,   0.005,      0.007,    33.7840,2,     -999.0,9,     -999.0,9,   0.0676,3,   0.0314,3,  -0.0031,4,  -0.0079,4,  -0.0151,4,  -0.0116,4,  -0.0125,4,   0.0813,4,   0.0592,4,    0.000,   0.200,  -0.4181,50013501036,     -999.0,9,     -999.0,9,     -999.0,9,      -4.20,2,       0.36,20110418,       1442
320620110219,       S04P,     135,          1,         35,         35,2,20110418,       1311,   -66.9991,   -73.8413,       3510,    34.8,  -0.3963,  33.6419,2,  33.6405,2,    339.9,2,   339.6,2,   15.90,2,   23.06,2,    0.21,2,    1.61,2,   6.135,2,   3.373,2,   0.646,2,   2.6160,2,  -999.0,9,  -999.0,9,-999.0000,9,  -999.00,   0.114,2,-999.0000,9,-999.000,9,  -0.3965,2, -999.00,9,  -999.0,9,  -999.0,-999.000,9,   -0.35,2,-999.000,9, -999.00,9, -999.00,9, -66.9977, -73.8514,   0.005,     -999.0,    33.7991,2,     -999.0,9,     -999.0,9,   0.0710,2,   0.0359,3,   0.0010,3,  -0.0079,4,  -0.0153,4,  -0.0119,4,  -0.0127,4,   0.0604,4,   0.0508,4,-999.0000,-999.000,  -0.3973,     -999.0,     -999.0,9,     -999.0,9,     -999.0,9,      -4.16,2,       0.36,20110418,       1440
320620110219,       S04P,     135,          1,         34,         34,2,20110418,       1311,   -66.9991,   -73.8413,       3510,    61.0,  -0.0964,  33.7204,3,  33.7673,2,    331.9,2,   329.5,2,   24.35,2,   23.62,2,    0.21,2,    1.68,2,   5.691,2,   3.202,2,   0.590,2,   2.5080,2,  2158.1,2,  2285.8,2,   7.6928,6,    25.00,   0.106,2,    1.937,2,  -1.429,2,  -0.0997,2, -999.00,9,  -999.0,9,  -999.0,   8.699,2,   -0.59,2,-999.000,9, -999.00,9, -999.00,9, -66.9977, -73.8512,   0.005,      0.007,    33.9265,2,     -999.0,9,     -999.0,9,   0.0743,2,   0.0365,3,  -0.0002,4,  -0.0056,4,  -0.0136,4,  -0.0108,4,  -0.0121,4,   0.0741,4,   0.0545,4,    0.000,   0.201,  -0.0984,50013501034,     -999.0,9,     -999.0,9,     -999.0,9,      -4.56,2,       0.29,20110418,       1439
320620110219,       S04P,     135,          1,         33,         33,2,20110418,       1311,   -66.9991,   -73.8413,       3510,    86.1,  -1.0420,  34.0618,2,  34.0602,2,    285.6,2,   285.7,2,   61.29,2,   29.43,2,    0.33,2,    2.21,2,   4.768,2,   2.645,2,   0.507,2,   1.9140,2,  2209.3,2,  2303.9,2,   7.5982,2,    25.00,   0.070,2,    1.964,2,   0.197,2,  -1.0398,2, -999.00,9,  -999.0,9,  -999.0,   8.816,2,   -0.38,2,-999.000,9, -999.00,9, -999.00,9, -66.9976, -73.8511,   0.006,      0.007,    34.2208,2,     -999.0,9,     -999.0,9,   0.0958,2,   0.0555,2,   0.0080,3,  -0.0019,4,  -0.0118,4,  -0.0102,4,  -0.0119,4,   0.0550,4,   0.0402,4,    0.000,   0.199,  -1.0442,50013501033,     -999.0,9,     -999.0,9,     -999.0,9,      -4.02,2,       0.13,20110418,       1438
320620110219,       S04P,     135,          1,         32,         32,2,20110418,       1311,   -66.9991,   -73.8413,       3510,   110.9,   0.2582,  34.2847,2,  34.2836,2,    222.7,2,   228.1,2,   66.16,2,   33.50,2,    0.00,2,    2.34,2,   3.135,2,   1.745,2,   0.318,2,   1.1680,2,  2232.1,2,  2313.9,2,   7.5496,2,    25.00,   0.043,2,    1.964,2,   3.965,2,   0.2597,2, -999.00,9,  -999.0,9,  -999.0,   8.719,2,   -0.26,2,-999.000,9, -999.00,9, -999.00,9, -66.9976, -73.8509,   0.005,      0.007,    34.4452,2,     -999.0,9,     -999.0,9,   0.0826,2,   0.0421,3,   0.0022,3,  -0.0052,4,  -0.0139,4,  -0.0112,4,  -0.0123,4,   0.0808,4,   0.0506,4,    0.000,   0.222,   0.2540,50013501032,     -999.0,9,     -999.0,9,     -999.0,9,      -3.34,2,       0.36,20110418,       1436
320620110219,       S04P,     135,          1,         31,         31,2,20110418,       1311,   -66.9991,   -73.8413,       3510,   135.9,   1.1451,  34.4169,2,  34.4170,2,    192.9,2,   198.8,2,   70.59,2,   34.34,2,    0.00,2,    2.39,2,   2.122,2,   1.203,2,   0.214,2,   0.7690,2,  2245.1,2,  2322.3,2,   7.5361,2,    25.00,   0.049,2,    1.965,2,   5.244,2,   1.1432,2, -999.00,9,  -999.0,9,  -999.0,   8.675,2,   -0.12,2,-999.000,9, -999.00,9, -999.00,9, -66.9975, -73.8507,   0.005,      0.007,    34.5793,2,     -999.0,9,     -999.0,9,   0.0872,2,   0.0457,3,   0.0043,3,  -0.0036,4,  -0.0130,4,  -0.0108,4,  -0.0121,4,   0.0592,4,   0.0479,4,    0.000,   0.214,   1.1389,50013501031,     -999.0,9,     -999.0,9,     -999.0,9,      -2.11,2,       0.10,20110418,       1435
320620110219,       S04P,     135,          1,         30,         30,2,20110418,       1311,   -66.9991,   -73.8413,       3510,   165.5,   1.5303,  34.4997,2,  34.4983,2,    179.6,2,   183.7,2,   74.80,2,   34.65,2,    0.00,2,    2.39,2,   1.558,2,   0.863,2,   0.137,2,   0.4830,2,  2251.7,2,  2328.2,2,   7.5311,2,    25.00,   0.037,2,    2.120,4,   6.389,2,   1.5305,2, -999.00,9,  -999.0,9,  -999.0,   9.163,2,   -0.09,2,-999.000,9, -999.00,9, -999.00,9, -66.9975, -73.8505,   0.004,      0.008,    34.6610,2,     -999.0,9,     -999.0,9,   0.0926,2,   0.0498,2,   0.0049,3,  -0.0018,4,  -0.0118,4,  -0.0104,4,  -0.0119,4,   0.0557,4,   0.0463,4,    0.001,   0.208,   1.5222,50013501030,     -999.0,9,     -999.0,9,     -999.0,9,      -1.90,2,       0.14,20110418,       1434
320620110219,       S04P,     135,          1,         29,         29,2,20110418,       1311,   -66.9991,   -73.8413,       3510,   215.8,   1.8672,  34.5836,2,  34.5838,2,    173.3,2,   173.7,2,   78.40,2,   34.35,2,    0.00,2,    2.36,2,   0.964,2,   0.515,2,   0.070,2,   0.2730,2,  2256.2,2,  2335.3,2,   7.5375,2,    25.00,   0.005,2,    1.960,2,   8.246,2,   1.8636,2, -999.00,9,  -999.0,9,  -999.0,   8.584,2,    0.02,2,-999.000,9, -999.00,9, -999.00,9, -66.9975, -73.8503,   0.006,      0.007,    34.7469,2,     -999.0,9,     -999.0,9,   0.0985,2,   0.0564,2,   0.0123,3,   0.0025,3,  -0.0088,4,  -0.0092,4,  -0.0117,4,   0.0439,4,   0.0390,3,    0.000,   0.215,   1.8559,50013501029,     -999.0,9,     -999.0,9,     -999.0,9,      -1.64,2,       0.42,20110418,       1432
320620110219,       S04P,     135,          1,         28,         28,2,20110418,       1311,   -66.9991,   -73.8413,       3510,   264.6,   1.9527,  34.6229,2,  34.6215,2,    172.1,2,   171.2,2,   80.33,2,   33.88,2,    0.00,2,    2.34,2,   0.755,2,   0.390,2,   0.049,2,   0.1700,2,  2258.1,2,  2338.2,2,   7.5434,2,    25.00,-999.000,9,    1.970,2,   8.159,2,   1.9529,2, -999.00,9,  -999.0,9,  -999.0,   8.631,2,   -0.12,2,-999.000,9, -999.00,9, -999.00,9, -66.9975, -73.8501,-999.000,      0.007,    34.7848,2,     -999.0,9,     -999.0,9,   0.0953,2,   0.0521,2,   0.0067,3,  -0.0011,4,  -0.0112,4,  -0.0100,4,  -0.0120,4,   0.0546,4,   0.0447,4,    0.000,   0.203,   1.9385,50013501028,     -999.0,9,     -999.0,9,     -999.0,9,      -2.19,2,       0.13,20110418,       1430
320620110219,       S04P,     135,          1,         27,         27,2,20110418,       1311,   -66.9991,   -73.8413,       3510,   314.5,   2.0078,  34.6573,2,  34.6590,2,    171.2,2,   171.9,2, -999.00,9, -999.00,9, -999.00,9, -999.00,9,   0.544,6,   0.279,6,   0.038,6,   0.1550,6,  2257.6,2,  2341.9,2,   7.5512,2,    25.00,   0.001,2,    1.954,2,   8.765,2,   2.0077,2, -999.00,9,  -999.0,9,  -999.0,   8.545,2,    0.08,2,-999.000,9, -999.00,9, -999.00,9, -66.9974, -73.8499,   0.006,      0.007,    34.8224,2,     -999.0,9,     -999.0,9,-999.0000,9,-999.0000,9,-999.0000,9,-999.0000,9,-999.0000,9,-999.0000,9,-999.0000,9,-999.0000,9,-999.0000,9,    0.000,   0.215,   1.9906,50013501027,     -999.0,9,     -999.0,9,     -999.0,9,      -0.76,2,       0.13,20110418,       1428
320620110219,       S04P,     135,          1,         26,         26,2,20110418,       1311,   -66.9991,   -73.8413,       3510,   364.9,   1.9710,  34.6702,2,  34.6700,2,    174.8,2,   173.3,2,   83.42,2,   33.16,2,    0.00,2,    2.29,2,   0.482,2,   0.247,2,   0.035,2,   0.1430,2,  2257.6,2,  2343.4,2,   7.5548,2,    25.00,   0.001,2,    1.943,2,   8.749,2,   1.9706,2, -999.00,9,  -999.0,9,  -999.0,   8.500,2,   -0.02,2,-999.000,9, -999.00,9, -999.00,9, -66.9974, -73.8495,   0.004,      0.007,    34.8335,2,     -999.0,9,     -999.0,9,-999.0000,9,-999.0000,9,-999.0000,9,-999.0000,9,-999.0000,9,-999.0000,9,-999.0000,9,-999.0000,9,-999.0000,9,    0.000,   0.214,   1.9510,50013501026,     -999.0,9,     -999.0,9,     -999.0,9,      -1.32,2,       0.29,20110418,       1426
320620110219,       S04P,     135,          1,         25,         25,2,20110418,       1311,   -66.9991,   -73.8413,       3510,   416.1,   1.9955,  34.6885,2,  34.6888,2,    175.8,2,   175.2,2,   83.42,2,   32.63,2,    0.00,2,    2.25,2,   0.388,2,   0.197,2,   0.025,2,   0.1360,2,  2256.3,2,  2345.3,2,   7.5651,2,    25.00,-999.000,9,    1.969,2,   8.685,2,   1.9959,2, -999.00,9,  -999.0,9,  -999.0,   8.607,2,    0.06,2,-999.000,9, -999.00,9, -999.00,9, -66.9974, -73.8493,-999.000,      0.007,    34.8524,2,     -999.0,9,     -999.0,9,   0.0965,2,   0.0537,2,   0.0094,3,  -0.0005,4,  -0.0108,4,  -0.0098,4,  -0.0118,4,   0.0565,4,   0.0423,4,    0.000,   0.213,   1.9724,50013501025,     -999.0,9,     -999.0,9,     -999.0,9,      -1.38,2,       0.31,20110418,       1425
320620110219,       S04P,     135,          1,         24,         24,2,20110418,       1311,   -66.9991,   -73.8413,       3510,   463.8,   1.9634,  34.7002,2,  34.7004,2,    176.7,2,   177.2,2,   84.54,2,   32.33,2,    0.00,2,    2.24,2,-999.000,9,-999.000,9,-999.000,9,-999.0000,9,  -999.0,9,  -999.0,9,-999.0000,9,  -999.00,-999.000,9,-999.0000,9,-999.000,9,   1.9635,2, -999.00,9,  -999.0,9,  -999.0,-999.000,9, -999.00,9,-999.000,9, -999.00,9, -999.00,9, -66.9973, -73.8492,-999.000,     -999.0,    34.8640,2,     -999.0,9,     -999.0,9,-999.0000,9,-999.0000,9,-999.0000,9,-999.0000,9,-999.0000,9,-999.0000,9,-999.0000,9,-999.0000,9,-999.0000,9,-999.0000,-999.000,   1.9376,     -999.0,     -999.0,9,     -999.0,9,     -999.0,9,     -999.0,9,     -999.0,20110418,       1423
320620110219,       S04P,     135,          1,         23,         23,2,20110418,       1311,   -66.9991,   -73.8413,       3510,   534.9,   1.8850,  34.7082,2,  34.7082,2,    179.4,2,   177.1,2,   86.91,2,   32.42,2,    0.00,2,    2.24,2,   0.310,2,   0.158,2,   0.019,2,   0.1260,2,  -999.0,9,  -999.0,9,-999.0000,9,  -999.00,   0.009,2,    2.005,2,   8.947,2,   1.8851,2, -999.00,9,  -999.0,9,  -999.0,   8.724,2,    0.00,2,-999.000,9, -999.00,9, -999.00,9, -66.9972, -73.8491,   0.004,      0.007,    34.8719,2,     -999.0,9,     -999.0,9,-999.0000,9,-999.0000,9,-999.0000,9,-999.0000,9,-999.0000,9,-999.0000,9,-999.0000,9,-999.0000,9,-999.0000,9,    0.000,   0.213,   1.8552,50013501023,     -999.0,9,     -999.0,9,     -999.0,9,      -1.57,2,       0.11,20110418,       1421
320620110219,       S04P,     135,          1,         22,         22,2,20110418,       1311,   -66.9991,   -73.8413,       3510,   636.6,   1.7951,  34.7184,2,  34.7167,2,    180.3,2,   180.4,2,   89.70,2,   32.09,2,    0.00,2,    2.22,2,-999.000,9,-999.000,9,-999.000,9,-999.0000,9,  2257.4,2,  2350.4,2,   7.5794,2,    25.00,-999.000,9,-999.0000,9,-999.000,9,   1.7950,2, -999.00,9,  -999.0,9,  -999.0,-999.000,9, -999.00,9,-999.000,9, -999.00,9, -999.00,9, -66.9972, -73.8489,-999.000,     -999.0,    34.8804,2,     -999.0,9,     -999.0,9,   0.0919,2,   0.0501,2,   0.0065,3,  -0.0032,4,  -0.0127,4,  -0.0109,4,  -0.0123,4,   0.0550,4,   0.0446,4,-999.0000,-999.000,   1.7596,     -999.0,     -999.0,9,     -999.0,9,     -999.0,9,     -999.0,9,     -999.0,20110418,       1418
320620110219,       S04P,     135,          1,         21,         21,2,20110418,       1311,   -66.9991,   -73.8413,       3510,   735.0,   1.7271,  34.7267,2,  34.7261,2,    184.7,2,   184.9,2,   91.16,2,   31.68,2,    0.00,2,    2.19,2,   0.214,2,   0.106,2,   0.011,2,   0.0510,2,  -999.0,9,  -999.0,9,-999.0000,9,  -999.00,   0.001,2,    1.964,2,   9.358,2,   1.7271,2, -999.00,9,  -999.0,9,  -999.0,   8.580,2, -999.00,9,-999.000,9, -999.00,9, -999.00,9, -66.9972, -73.8487,   0.005,      0.007,    34.8899,2,     -999.0,9,     -999.0,9,-999.0000,9,-999.0000,9,-999.0000,9,-999.0000,9,-999.0000,9,-999.0000,9,-999.0000,9,-999.0000,9,-999.0000,9,    0.000,   0.213,   1.6859,50013501021,     -999.0,9,     -999.0,9,     -999.0,9,     -999.0,9,     -999.0,20110418,       1416
320620110219,       S04P,     135,          1,         20,         20,2,20110418,       1311,   -66.9991,   -73.8413,       3510,   835.8,   1.6346,  34.7299,2,  34.7308,2,    186.8,2,   187.7,2,   93.89,2,   31.54,2,    0.00,2,    2.18,2,-999.000,9,-999.000,9,-999.000,9,-999.0000,9,  -999.0,9,  -999.0,9,-999.0000,9,  -999.00,-999.000,9,-999.0000,9,-999.000,9,   1.6340,2, -999.00,9,  -999.0,9,  -999.0,-999.000,9, -999.00,9,-999.000,9, -999.00,9, -999.00,9, -66.9972, -73.8482,-999.000,     -999.0,    34.8946,2,     -999.0,9,     -999.0,9,-999.0000,9,-999.0000,9,-999.0000,9,-999.0000,9,-999.0000,9,-999.0000,9,-999.0000,9,-999.0000,9,-999.0000,9,-999.0000,-999.000,   1.5877,     -999.0,     -999.0,9,     -999.0,9,     -999.0,9,     -999.0,9,     -999.0,20110418,       1413
320620110219,       S04P,     135,          1,         19,         19,2,20110418,       1311,   -66.9991,   -73.8413,       3510,   934.2,   1.5401,  34.7303,2,  34.7302,2,    189.0,2,   188.8,2,   97.03,2,   31.63,2,    0.00,2,    2.18,2,-999.000,9,-999.000,9,-999.000,9,-999.0000,9,  2254.8,2,  2356.9,2,   7.5941,2,    25.00,-999.000,9,-999.0000,9,-999.000,9,   1.5399,2, -999.00,9,  -999.0,9,  -999.0,-999.000,9, -999.00,9,-999.000,9, -999.00,9, -999.00,9, -66.9972, -73.8475,-999.000,     -999.0,    34.8940,2,     -999.0,9,     -999.0,9,   0.0903,2,   0.0485,2,   0.0050,3,  -0.0033,4,  -0.0126,4,  -0.0109,4,  -0.0123,4,   0.0561,4,   0.0464,4,-999.0000,-999.000,   1.4876,     -999.0,     -999.0,9,     -999.0,9,     -999.0,9,     -999.0,9,     -999.0,20110418,       1411
320620110219,       S04P,     135,          1,         18,         18,2,20110418,       1311,   -66.9991,   -73.8413,       3510,  1036.2,   1.4684,  34.7298,2,  34.7300,2,    189.9,2,   189.9,2,   99.32,2,   31.74,2,    0.00,2,    2.17,2,-999.000,9,-999.000,9,-999.000,9,-999.0000,9,  -999.0,9,  -999.0,9,-999.0000,9,  -999.00,-999.000,9,-999.0000,9,-999.000,9,   1.4686,2, -999.00,9,  -999.0,9,  -999.0,-999.000,9, -999.00,9,-999.000,9, -999.00,9, -999.00,9, -66.9972, -73.8469,-999.000,     -999.0,    34.8938,2,     -999.0,9,     -999.0,9,-999.0000,9,-999.0000,9,-999.0000,9,-999.0000,9,-999.0000,9,-999.0000,9,-999.0000,9,-999.0000,9,-999.0000,9,-999.0000,-999.000,   1.4099,     -999.0,     -999.0,9,     -999.0,9,     -999.0,9,     -999.0,9,     -999.0,20110418,       1408
320620110219,       S04P,     135,          1,         17,         17,2,20110418,       1311,   -66.9991,   -73.8413,       3510,  1134.7,   1.3958,  34.7289,2,  34.7289,2,    191.8,2,   191.2,2,  101.75,2,   31.75,2,    0.00,2,    2.19,2,-999.000,9,-999.000,9,-999.000,9,-999.0000,9,  -999.0,9,  -999.0,9,-999.0000,9,  -999.00,-999.000,9,-999.0000,9,-999.000,9,   1.3955,2, -999.00,9,  -999.0,9,  -999.0,-999.000,9, -999.00,9,-999.000,9, -999.00,9, -999.00,9, -66.9972, -73.8465,-999.000,     -999.0,    34.8926,2,     -999.0,9,     -999.0,9,-999.0000,9,-999.0000,9,-999.0000,9,-999.0000,9,-999.0000,9,-999.0000,9,-999.0000,9,-999.0000,9,-999.0000,9,-999.0000,-999.000,   1.3314,     -999.0,     -999.0,9,     -999.0,9,     -999.0,9,     -999.0,9,     -999.0,20110418,       1406
320620110219,       S04P,     135,          1,         16,         16,2,20110418,       1311,   -66.9991,   -73.8413,       3510,  1234.1,   1.3284,  34.7278,2,  34.7281,2,    193.2,2,   192.8,2,  103.67,2,   31.76,2,    0.00,2,    2.19,2,-999.000,9,-999.000,9,-999.000,9,-999.0000,9,  2257.4,2,  2360.2,2,   7.5983,6,    25.00,-999.000,9,-999.0000,9,-999.000,9,   1.3274,2, -999.00,9,  -999.0,9,  -999.0,-999.000,9, -999.00,9,-999.000,9, -999.00,9, -999.00,9, -66.9972, -73.8461,-999.000,     -999.0,    34.8918,2,     -999.0,9,     -999.0,9,   0.0911,2,   0.0492,2,   0.0049,3,  -0.0030,4,  -0.0123,4,  -0.0106,4,  -0.0122,4,   0.0560,4,   0.0461,4,-999.0000,-999.000,   1.2580,     -999.0,     -999.0,9,     -999.0,9,     -999.0,9,     -999.0,9,     -999.0,20110418,       1403
320620110219,       S04P,     135,          1,         15,         15,2,20110418,       1311,   -66.9991,   -73.8413,       3510,  1335.6,   1.2562,  34.7264,2,  34.7261,2,    194.3,2,   194.1,2,  105.15,2,   31.74,2,    0.00,2,    2.18,2,   0.118,2,   0.063,2,   0.007,2,   0.0000,2,  -999.0,9,  -999.0,9,-999.0000,9,  -999.00,   0.001,2,    2.005,2,   9.767,2,   1.2559,2, -999.00,9,  -999.0,9,  -999.0,   8.731,2, -999.00,9,-999.000,9, -999.00,9, -999.00,9, -66.9972, -73.8459,   0.004,      0.007,    34.8899,2,     -999.0,9,     -999.0,9,-999.0000,9,-999.0000,9,-999.0000,9,-999.0000,9,-999.0000,9,-999.0000,9,-999.0000,9,-999.0000,9,-999.0000,9,    0.000,   0.213,   1.1797,50013501015,     -999.0,9,     -999.0,9,     -999.0,9,     -999.0,9,     -999.0,20110418,       1401
320620110219,       S04P,     135,          1,         14,         14,2,20110418,       1311,   -66.9991,   -73.8413,       3510,  1436.6,   1.1944,  34.7244,2,  34.7246,2,    195.6,2,   195.5,2,  107.58,2,   31.83,2,    0.00,2,    2.19,2,-999.000,9,-999.000,9,-999.000,9,-999.0000,9,  -999.0,9,  -999.0,9,-999.0000,9,  -999.00,-999.000,9,-999.0000,9,-999.000,9,   1.1942,2, -999.00,9,  -999.0,9,  -999.0,-999.000,9, -999.00,9,-999.000,9, -999.00,9, -999.00,9, -66.9973, -73.8455,-999.000,     -999.0,    34.8883,2,     -999.0,9,     -999.0,9,-999.0000,9,-999.0000,9,-999.0000,9,-999.0000,9,-999.0000,9,-999.0000,9,-999.0000,9,-999.0000,9,-999.0000,9,-999.0000,-999.000,   1.1116,     -999.0,     -999.0,9,     -999.0,9,     -999.0,9,     -999.0,9,     -999.0,20110418,       1358