BOTTLE,20220813CCHSIOAMB
EXPOCODE,SECT_ID,STNNBR,CASTNO,SAMPNO,BTLNBR,BTLNBR_FLAG_W,DATE,TIME,LATITUDE,LONGITUDE,DEPTH,CTDPRS,CTDTMP,CTDSAL,CTDSAL_FLAG_W,SALNTY,SALNTY_FLAG_W,CTDOXY,CTDOXY_FLAG_W,OXYGEN,OXYGEN_FLAG_W,SILCAT,SILCAT_FLAG_W,NITRAT,NITRAT_FLAG_W,NITRIT,NITRIT_FLAG_W,PHSPHT,PHSPHT_FLAG_W,CFC-11,CFC-11_FLAG_W,CFC-12,CFC-12_FLAG_W,CFC113,CFC113_FLAG_W,SF6,SF6_FLAG_W,TCARBN,TCARBN_FLAG_W,ALKALI,ALKALI_FLAG_W,PH_TOT,PH_TOT_FLAG_W,PH_TMP,TRITUM,TRITUM_FLAG_W,HELIUM,HELIUM_FLAG_W,DELHE3,DELHE3_FLAG_W,REFTMP,REFTMP_FLAG_W,DELC13,DELC13_FLAG_W,DELC14,DELC14_FLAG_W,C14ERR,NEON,NEON_FLAG_W,DELO18,DELO18_FLAG_W,POC,POC_FLAG_W,DOC,DOC_FLAG_W,TDN,TDN_FLAG_W,BTL_LAT,BTL_LON,TRITER,NEONER,SALTREF,SALTREF_FLAG_W,PIGMENTS,PIGMENTS_FLAG_W,LAB_DEN,LAB_DEN_FLAG_W,CDOM325,CDOM325_FLAG_W,CDOM340,CDOM340_FLAG_W,CDOM380,CDOM380_FLAG_W,CDOM412,CDOM412_FLAG_W,CDOM443,CDOM443_FLAG_W,CDOM490,CDOM490_FLAG_W,CDOM555,CDOM555_FLAG_W,CDOMSL,CDOMSL_FLAG_W,CDOMSN,CDOMSN_FLAG_W,HELIER,DELHER,THETA,LDEO_SAMPNO,ABSORBTION,ABSORBTION_FLAG_W,IMAGE_COUNT,IMAGE_COUNT_FLAG_W,CYTO_COUNT,CYTO_COUNT_FLAG_W,DELD,DELD_FLAG_W,DELDERR,BTL_DATE,BTL_TIME
,,,,,,,,,,,METERS,DBAR,ITS-90,PSS-78,,PSS-78,,UMOL/KG,,UMOL/KG,,UMOL/KG,,UMOL/KG,,UMOL/KG,,UMOL/KG,,PMOL/KG,,PMOL/KG,,PMOL/KG,,FMOL/KG,,UMOL/KG,,UMOL/KG,,,,DEG C,TU,,NMOL/KG,,PERCNT,,DEG C,,/MILLE,,/MILLE,,/MILLE,NMOL/KG,,/MILLE,,UG/KG,,UMOL/KG,,UMOL/KG,,,,TU,NMOL/KG,G/KG,,,,,,1/M,,1/M,,1/M,,1/M,,1/M,,1/M,,1/M,,1/NM,,1/NM,,NMOL/KG,PERCNT,DEG C,,,,,,,,/MILLE,,/MILLE,,
320620110219,       S04P,     114,          1,         13,         13,2,20110408,       0408,   -67.0004,  -112.2678,       4636,  1735.4,   1.2434,  34.7262,2,  34.7268,2,    196.2,2,   196.7,2,  106.18,2,   31.83,2,    0.00,2,    2.22,2,   0.154,2,   0.078,2,   0.014,2,   0.1010,2,  -999.0,9,  -999.0,9,-999.0000,9,  -999.00,   0.003,2,   1.9181,2,   10.01,2,   1.2435,2, -999.00,9,  -999.0,9,  -999.0,   8.302,2, -999.00,9,-999.000,9,   39.53,2,   34.29,2, -67.0004,-112.2677,   0.012,      0.042,    34.8905,2,     -999.0,9,     -999.0,9,-999.0000,9,-999.0000,9,-999.0000,9,-999.0000,9,-999.0000,9,-999.0000,9,-999.0000,9,-999.0000,9,-999.0000,9,   0.0092,    0.14,   1.1385,     -999.0,     -999.0,9,     -999.0,9,     -999.0,9,     -999.0,9,     -999.0,20110408,       0507
320620110219,       S04P,     114,          1,         12,         12,2,20110408,       0408,   -67.0004,  -112.2678,       4636,  1934.3,   1.1198,  34.7220,2,  34.7236,2,    198.4,2,   198.7,2,  110.01,2,   31.90,2,    0.00,2,    2.23,2,-999.000,9,-999.000,9,-999.000,9,-999.0000,9,  2261.1,6,  2359.2,2,   7.6012,2,    25.00,-999.000,9,-999.0000,9,-999.000,9,   1.1201,2, -999.00,9,  -999.0,9,  -999.0,-999.000,9, -999.00,9,-999.000,9,   38.89,2,   34.40,2, -67.0004,-112.2678,-999.000,     -999.0,    34.8874,2,     -999.0,9,     -999.0,1,-999.0000,9,-999.0000,9,-999.0000,9,-999.0000,9,-999.0000,9,-999.0000,9,-999.0000,9,-999.0000,9,-999.0000,9,-999.0000,-999.000,   1.0016,     -999.0,     -999.0,9,     -999.0,9,     -999.0,9,     -999.0,9,     -999.0,20110408,       0503
320620110219,       S04P,     114,          1,         11,         11,2,20110408,       0408,   -67.0004,  -112.2678,       4636,  2165.5,   1.0030,  34.7175,2,  34.7175,2,    200.6,2,   201.3,2,  114.41,2,   32.04,2,    0.00,2,    2.24,2,   0.142,2,   0.075,2,   0.014,2,   0.0750,2,  -999.0,9,  -999.0,9,-999.0000,9,  -999.00,  -0.012,2,-999.0000,9,-999.000,9,   1.0035,2, -999.00,9,  -999.0,9,  -999.0,-999.000,9, -999.00,9,-999.000,9,   39.52,2,   34.55,2, -67.0004,-112.2678,   0.012,     -999.0,    34.8812,2,     -999.0,9,     -999.0,9,-999.0000,9,-999.0000,9,-999.0000,9,-999.0000,9,-999.0000,9,-999.0000,9,-999.0000,9,-999.0000,9,-999.0000,9,-999.0000,-999.000,   0.8686,     -999.0,     -999.0,9,     -999.0,9,     -999.0,9,     -999.0,9,     -999.0,20110408,       0458
320620110219,       S04P,     114,          1,         10,         37,2,20110408,       0408,   -67.0004,  -112.2678,       4636,  2414.9,   0.8975,  34.7139,2,  34.7136,2,    202.6,2,   203.0,2,  119.03,2,   32.15,2,    0.00,2,    2.24,2,-999.000,9,-999.000,9,-999.000,9,-999.0000,9,  2261.4,2,  2359.6,2,   7.6012,2,    25.00,-999.000,9,-999.0000,9,-999.000,9,   0.8981,2, -999.00,9,  -999.0,9,  -999.0,-999.000,9, -999.00,9,-999.000,9,   39.23,2,   34.58,2, -67.0004,-112.2678,-999.000,     -999.0,    34.8773,2,     -999.0,9,     -999.0,1,-999.0000,9,-999.0000,9,-999.0000,9,-999.0000,9,-999.0000,9,-999.0000,9,-999.0000,9,-999.0000,9,-999.0000,9,-999.0000,-999.000,   0.7447,     -999.0,     -999.0,9,     -999.0,9,     -999.0,9,     -999.0,9,     -999.0,20110408,       0453
320620110219,       S04P,     114,          1,          9,          9,2,20110408,       0408,   -67.0004,  -112.2678,       4636,  2665.7,   0.7974,  34.7101,2,  34.7093,2,    204.6,2,   204.6,2,  122.41,2,   32.22,2,    0.00,2,    2.24,2,   0.197,2,   0.098,2,   0.011,2,   0.0760,2,  -999.0,9,  -999.0,9,-999.0000,9,  -999.00,  -0.016,2,   1.9234,2,   10.62,2,   0.7974,2, -999.00,9,  -999.0,9,  -999.0,   8.392,2, -999.00,9,-999.000,9,   38.55,2,   34.57,2, -67.0004,-112.2678,   0.012,      0.043,    34.8729,2,     -999.0,9,     -999.0,9,-999.0000,9,-999.0000,9,-999.0000,9,-999.0000,9,-999.0000,9,-999.0000,9,-999.0000,9,-999.0000,9,-999.0000,9,   0.0092,    0.14,   0.6254,     -999.0,     -999.0,9,     -999.0,9,     -999.0,9,     -999.0,9,     -999.0,20110408,       0449
320620110219,       S04P,     114,          1,          8,          8,2,20110408,       0408,   -67.0004,  -112.2678,       4636,  2914.8,   0.7029,  34.7072,2,  34.7073,2,    206.5,2,   206.6,2,  124.27,2,   32.39,2,    0.00,2,    2.25,2,   0.232,2,   0.118,2,   0.016,2,   0.0650,2,  2262.1,2,  2361.2,2,   7.5970,2,    25.00,-999.000,9,-999.0000,9,-999.000,9,   0.7028,2, -999.00,9,  -999.0,9,  -999.0,-999.000,9, -999.00,9,-999.000,9,   39.29,2,   34.50,2, -67.0004,-112.2678,-999.000,     -999.0,    34.8710,2,     -999.0,9,     -999.0,1,-999.0000,9,-999.0000,9,-999.0000,9,-999.0000,9,-999.0000,9,-999.0000,9,-999.0000,9,-999.0000,9,-999.0000,9,-999.0000,-999.000,   0.5112,     -999.0,     -999.0,9,     -999.0,9,     -999.0,9,     -999.0,9,     -999.0,20110408,       0444
320620110219,       S04P,     114,          1,          7,          7,2,20110408,       0408,   -67.0004,  -112.2678,       4636,  3200.8,   0.5869,  34.7045,2,  34.7041,2,    208.7,2,   209.0,2,  127.18,2,   32.58,2,    0.00,2,    2.26,2,   0.266,2,   0.125,2,   0.018,2,   0.0980,2,  -999.0,9,  -999.0,9,-999.0000,9,  -999.00,   0.015,2,   1.9508,2,    9.87,2,   0.5868,2, -999.00,9,  -999.0,9,  -999.0,   8.457,2, -999.00,9,-999.000,9,   39.43,2,   34.60,2, -67.0004,-112.2678,   0.013,      0.043,    34.8678,2,     -999.0,9,     -999.0,9,-999.0000,9,-999.0000,9,-999.0000,9,-999.0000,9,-999.0000,9,-999.0000,9,-999.0000,9,-999.0000,9,-999.0000,9,   0.0094,    0.14,   0.3719,     -999.0,     -999.0,9,     -999.0,9,     -999.0,9,     -999.0,9,     -999.0,20110408,       0438
320620110219,       S04P,     114,          1,          6,          6,2,20110408,       0408,   -67.0004,  -112.2678,       4636,  3498.8,   0.4911,  34.7033,2,  34.7028,2,    211.3,2,   211.3,2,  130.13,2,   32.58,2,    0.00,2,    2.26,2,-999.000,9,-999.000,9,-999.000,9,-999.0000,9,  2262.2,2,  2360.8,2,   7.5981,2,    25.00,-999.000,9,-999.0000,9,-999.000,9,   0.4913,2, -999.00,9,  -999.0,9,  -999.0,-999.000,9, -999.00,9,-999.000,9,   40.06,2,   35.45,2, -67.0004,-112.2678,-999.000,     -999.0,    34.8664,2,     -999.0,9,     -999.0,1,-999.0000,9,-999.0000,9,-999.0000,9,-999.0000,9,-999.0000,9,-999.0000,9,-999.0000,9,-999.0000,9,-999.0000,9,-999.0000,-999.000,   0.2505,     -999.0,     -999.0,9,     -999.0,9,     -999.0,9,     -999.0,9,     -999.0,20110408,       0433
320620110219,       S04P,     114,          1,          5,          5,2,20110408,       0408,   -67.0004,  -112.2678,       4636,  3800.9,   0.4188,  34.7022,2,  34.7018,2,    213.1,2,   213.0,2,  132.53,2,   32.66,2,    0.00,2,    2.26,2,   0.305,2,   0.154,2,   0.016,2,   0.1070,2,  -999.0,9,  -999.0,9,-999.0000,9,  -999.00,   0.008,2,   1.9363,2,    9.08,2,   0.4189,2, -999.00,9,  -999.0,9,  -999.0,   8.412,2,   -0.15,2,-999.000,9,   40.16,2,   35.54,2, -67.0004,-112.2677,   0.012,      0.043,    34.8654,2,     -999.0,9,     -999.0,9,-999.0000,9,-999.0000,9,-999.0000,9,-999.0000,9,-999.0000,9,-999.0000,9,-999.0000,9,-999.0000,9,-999.0000,9,   0.0093,    0.14,   0.1506,     -999.0,     -999.0,9,     -999.0,9,     -999.0,9,      -2.33,2,       0.04,20110408,       0427
320620110219,       S04P,     114,          1,          4,          4,2,20110408,       0408,   -67.0004,  -112.2678,       4636,  4100.7,   0.3810,  34.7020,2,  34.7027,2,    214.9,2,   214.2,2,  135.00,2,   32.60,2,    0.00,2,    2.26,2,-999.000,9,-999.000,9,-999.000,9,-999.0000,9,  2262.4,2,  2360.7,2,   7.5956,2,    25.00,-999.000,9,-999.0000,9,-999.000,9,   0.3808,2, -999.00,9,  -999.0,9,  -999.0,-999.000,9, -999.00,9,-999.000,9,   40.28,2,   34.91,2, -67.0004,-112.2678,-999.000,     -999.0,    34.8664,2,     -999.0,9,     -999.0,1,-999.0000,9,-999.0000,9,-999.0000,9,-999.0000,9,-999.0000,9,-999.0000,9,-999.0000,9,-999.0000,9,-999.0000,9,-999.0000,-999.000,   0.0833,     -999.0,     -999.0,9,     -999.0,9,     -999.0,9,     -999.0,9,     -999.0,20110408,       0421
320620110219,       S04P,     114,          1,          3,          3,2,20110408,       0408,   -67.0004,  -112.2678,       4636,  4401.9,   0.3727,  34.7011,2,  34.6984,3,    215.2,2,   215.0,2,  137.43,2,   32.64,2,    0.00,2,    2.26,2,   0.428,2,   0.206,2,   0.020,2,   0.0890,2,  2262.7,2,  2361.8,2,   7.5959,2,    25.00,  -0.007,2,   1.9527,2,    8.59,2,   0.3723,2, -999.00,9,  -999.0,9,  -999.0,   8.457,2,   -0.12,2,-999.000,9,   40.53,2,   34.94,2, -67.0004,-112.2678,   0.012,      0.043,    34.8620,3,     -999.0,9,     -999.0,1,-999.0000,9,-999.0000,9,-999.0000,9,-999.0000,9,-999.0000,9,-999.0000,9,-999.0000,9,-999.0000,9,-999.0000,9,   0.0094,    0.14,   0.0435,     -999.0,     -999.0,9,     -999.0,9,     -999.0,9,      -2.31,2,       0.09,20110408,       0415
320620110219,       S04P,     114,          1,          2,          2,2,20110408,       0408,   -67.0004,  -112.2678,       4636,  4600.6,   0.3732,  34.7004,2,  34.7000,2,    215.1,2,   215.3,2,  141.79,2,   32.74,2,    0.00,2,    2.26,2,   0.451,2,   0.212,2,   0.023,2,   0.0940,2,  2263.8,2,  2362.2,2,   7.5949,6,    25.00,-999.000,9,-999.0000,9,-999.000,9,   0.3736,2, -999.00,9,  -999.0,9,  -999.0,-999.000,9, -999.00,9,-999.000,9,   40.47,2,   34.76,2, -67.0004,-112.2678,-999.000,     -999.0,    34.8636,2,     -999.0,9,     -999.0,1,-999.0000,9,-999.0000,9,-999.0000,9,-999.0000,9,-999.0000,9,-999.0000,9,-999.0000,9,-999.0000,9,-999.0000,9,-999.0000,-999.000,   0.0223,     -999.0,     -999.0,9,     -999.0,9,     -999.0,9,     -999.0,9,     -999.0,20110408,       0411
320620110219,       S04P,     114,          1,          1,          1,2,20110408,       0408,   -67.0004,  -112.2678,       4636,  4721.7,   0.3725,  34.6997,2,  34.6998,2,    214.6,2,   215.2,2,  142.69,2,   32.71,2,    0.00,2,    2.27,2,   0.504,2,   0.234,2,   0.024,2,   0.1030,2,  2264.2,6,  2361.5,2,   7.5941,2,    25.00,   0.035,2,   1.9439,2,    8.41,2,   0.3724,2, -999.00,9,  -999.0,9,  -999.0,   8.486,2,   -0.16,3,-999.000,9,   39.98,2,   35.10,2, -67.0004,-112.2678,   0.012,      0.043,    34.8634,2,     -999.0,9,     -999.0,1,-999.0000,9,-999.0000,9,-999.0000,9,-999.0000,9,-999.0000,9,-999.0000,9,-999.0000,9,-999.0000,9,-999.0000,9,   0.0093,    0.14,   0.0082,     -999.0,     -999.0,9,     -999.0,9,     -999.0,9,      -2.10,3,       0.02,20110408,       0408