BOTTLE,20220813CCHSIOAMB
EXPOCODE,SECT_ID,STNNBR,CASTNO,SAMPNO,BTLNBR,BTLNBR_FLAG_W,DATE,TIME,LATITUDE,LONGITUDE,DEPTH,CTDPRS,CTDTMP,CTDSAL,CTDSAL_FLAG_W,SALNTY,SALNTY_FLAG_W,CTDOXY,CTDOXY_FLAG_W,OXYGEN,OXYGEN_FLAG_W,SILCAT,SILCAT_FLAG_W,NITRAT,NITRAT_FLAG_W,NITRIT,NITRIT_FLAG_W,PHSPHT,PHSPHT_FLAG_W,CFC-11,CFC-11_FLAG_W,CFC-12,CFC-12_FLAG_W,CFC113,CFC113_FLAG_W,SF6,SF6_FLAG_W,TCARBN,TCARBN_FLAG_W,ALKALI,ALKALI_FLAG_W,PH_TOT,PH_TOT_FLAG_W,PH_TMP,TRITUM,TRITUM_FLAG_W,HELIUM,HELIUM_FLAG_W,DELHE3,DELHE3_FLAG_W,REFTMP,REFTMP_FLAG_W,DELC13,DELC13_FLAG_W,DELC14,DELC14_FLAG_W,C14ERR,NEON,NEON_FLAG_W,DELO18,DELO18_FLAG_W,POC,POC_FLAG_W,DOC,DOC_FLAG_W,TDN,TDN_FLAG_W,BTL_LAT,BTL_LON,TRITER,NEONER,SALTREF,SALTREF_FLAG_W,PIGMENTS,PIGMENTS_FLAG_W,LAB_DEN,LAB_DEN_FLAG_W,CDOM325,CDOM325_FLAG_W,CDOM340,CDOM340_FLAG_W,CDOM380,CDOM380_FLAG_W,CDOM412,CDOM412_FLAG_W,CDOM443,CDOM443_FLAG_W,CDOM490,CDOM490_FLAG_W,CDOM555,CDOM555_FLAG_W,CDOMSL,CDOMSL_FLAG_W,CDOMSN,CDOMSN_FLAG_W,HELIER,DELHER,THETA,LDEO_SAMPNO,ABSORBTION,ABSORBTION_FLAG_W,IMAGE_COUNT,IMAGE_COUNT_FLAG_W,CYTO_COUNT,CYTO_COUNT_FLAG_W,DELD,DELD_FLAG_W,DELDERR,BTL_DATE,BTL_TIME
,,,,,,,,,,,METERS,DBAR,ITS-90,PSS-78,,PSS-78,,UMOL/KG,,UMOL/KG,,UMOL/KG,,UMOL/KG,,UMOL/KG,,UMOL/KG,,PMOL/KG,,PMOL/KG,,PMOL/KG,,FMOL/KG,,UMOL/KG,,UMOL/KG,,,,DEG C,TU,,NMOL/KG,,PERCNT,,DEG C,,/MILLE,,/MILLE,,/MILLE,NMOL/KG,,/MILLE,,UG/KG,,UMOL/KG,,UMOL/KG,,,,TU,NMOL/KG,G/KG,,,,,,1/M,,1/M,,1/M,,1/M,,1/M,,1/M,,1/M,,1/NM,,1/NM,,NMOL/KG,PERCNT,DEG C,,,,,,,,/MILLE,,/MILLE,,
320620110219,       S04P,      19,          1,         36,         36,2,20110301,       0543,   -67.0001,   176.8628,       3555,     3.8,  -0.6567,  33.4170,2,  33.4170,2,    340.5,3,   342.9,2,   61.07,2,   26.45,2,    0.17,2,    1.71,2,   6.021,2,   3.322,2,   0.633,2,-999.0000,9,  2147.8,6,  2263.1,2,   7.6605,2,    25.00,-999.000,9,-999.0000,9,-999.000,9,  -0.6565,2, -999.00,9,  -999.0,9,  -999.0,-999.000,9, -999.00,9,-999.000,9, -999.00,9, -999.00,9, -67.0001, 176.8628,-999.000,     -999.0,    33.5746,2,     -999.0,9,     -999.0,9,-999.0000,9,-999.0000,9,-999.0000,9,-999.0000,9,-999.0000,9,-999.0000,9,-999.0000,9,-999.0000,9,-999.0000,9,-999.0000,-999.000,  -0.6568,     -999.0,     -999.0,9,     -999.0,9,     -999.0,9,     -999.0,9,     -999.0,20110301,       0728
320620110219,       S04P,      19,          1,         35,         35,2,20110301,       0543,   -67.0001,   176.8628,       3555,    34.7,  -1.0529,  33.7164,3,  33.5337,2,    337.2,2,   336.5,2,   61.45,2,   26.64,2,    0.15,2,    1.74,2,   5.754,2,   3.165,2,   0.557,2,-999.0000,9,  2155.1,2,  2269.4,2,   7.6580,2,    25.00,-999.000,9,-999.0000,9,-999.000,9,  -1.0757,2, -999.00,9,  -999.0,9,  -999.0,-999.000,9, -999.00,9,-999.000,9, -999.00,9, -999.00,9, -67.0001, 176.8628,-999.000,     -999.0,    33.6918,2,     -999.0,1,     -999.0,9,-999.0000,9,-999.0000,9,-999.0000,9,-999.0000,9,-999.0000,9,-999.0000,9,-999.0000,9,-999.0000,9,-999.0000,9,-999.0000,-999.000,  -1.0537,     -999.0,     -999.0,9,     -999.0,1,     -999.0,1,     -999.0,9,     -999.0,20110301,       0726
320620110219,       S04P,      19,          1,         34,         34,2,20110301,       0543,   -67.0001,   176.8628,       3555,    59.8,  -1.7161,  34.1743,2,  34.1665,2,    292.4,2,   292.4,2,   65.93,2,   29.13,2,    0.08,2,    1.93,2,   4.053,2,   2.288,2,   0.434,2,-999.0000,9,  2203.7,2,  2310.5,2,   7.6250,2,    25.00,-999.000,9,-999.0000,9,-999.000,9,  -1.7164,2, -999.00,9,  -999.0,9,  -999.0,-999.000,9, -999.00,9,-999.000,9, -999.00,9, -999.00,9, -67.0001, 176.8628,-999.000,     -999.0,    34.3276,2,     -999.0,1,     -999.0,9,-999.0000,9,-999.0000,9,-999.0000,9,-999.0000,9,-999.0000,9,-999.0000,9,-999.0000,9,-999.0000,9,-999.0000,9,-999.0000,-999.000,  -1.7173,     -999.0,     -999.0,9,     -999.0,1,     -999.0,1,     -999.0,9,     -999.0,20110301,       0725
320620110219,       S04P,      19,          1,         33,         33,2,20110301,       0543,   -67.0001,   176.8628,       3555,    84.2,  -1.4045,  34.2643,2,  34.2636,2,    284.7,2,   277.0,2,   68.34,2,   30.29,2,    0.17,2,    2.02,2,   3.798,2,   2.123,2,   0.406,2,-999.0000,9,  2214.6,2,  2314.9,2,   7.6024,2,    25.00,-999.000,9,-999.0000,9,-999.000,9,  -1.3971,2, -999.00,9,  -999.0,9,  -999.0,-999.000,9, -999.00,9,-999.000,9, -999.00,9, -999.00,9, -67.0001, 176.8628,-999.000,     -999.0,    34.4251,2,     -999.0,1,     -999.0,9,-999.0000,9,-999.0000,9,-999.0000,9,-999.0000,9,-999.0000,9,-999.0000,9,-999.0000,9,-999.0000,9,-999.0000,9,-999.0000,-999.000,  -1.4064,     -999.0,     -999.0,9,     -999.0,1,     -999.0,1,     -999.0,9,     -999.0,20110301,       0723
320620110219,       S04P,      19,          1,         32,         32,2,20110301,       0543,   -67.0001,   176.8628,       3555,   110.0,   0.1069,  34.4729,2,  34.4568,2,    250.5,2,   231.1,2,   76.93,2,   32.02,2,    0.08,2,    2.15,2,   2.357,2,   1.344,2,   0.259,2,-999.0000,9,  2236.5,2,  2326.5,2,   7.5717,2,    25.00,-999.000,9,-999.0000,9,-999.000,9,   0.1071,2, -999.00,9,  -999.0,9,  -999.0,-999.000,9, -999.00,9,-999.000,9, -999.00,9, -999.00,9, -67.0000, 176.8629,-999.000,     -999.0,    34.6192,2,     -999.0,1,     -999.0,9,-999.0000,9,-999.0000,9,-999.0000,9,-999.0000,9,-999.0000,9,-999.0000,9,-999.0000,9,-999.0000,9,-999.0000,9,-999.0000,-999.000,   0.1029,     -999.0,     -999.0,9,     -999.0,1,     -999.0,1,     -999.0,9,     -999.0,20110301,       0722
320620110219,       S04P,      19,          1,         31,         31,2,20110301,       0543,   -67.0001,   176.8628,       3555,   134.0,   0.8340,  34.5777,2,  34.5738,2,    209.5,2,   204.0,2,   84.40,2,   32.67,2,    0.03,2,    2.18,2,   1.383,2,   0.788,2,   0.148,2,-999.0000,9,  2246.9,2,  2335.0,2,   7.5591,2,    25.00,-999.000,9,-999.0000,9,-999.000,9,   0.8267,2, -999.00,9,  -999.0,9,  -999.0,-999.000,9, -999.00,9,-999.000,9, -999.00,9, -999.00,9, -67.0001, 176.8628,-999.000,     -999.0,    34.7369,2,     -999.0,9,     -999.0,9,-999.0000,9,-999.0000,9,-999.0000,9,-999.0000,9,-999.0000,9,-999.0000,9,-999.0000,9,-999.0000,9,-999.0000,9,-999.0000,-999.000,   0.8282,     -999.0,     -999.0,9,     -999.0,9,     -999.0,9,     -999.0,9,     -999.0,20110301,       0720
320620110219,       S04P,      19,          1,         30,         30,2,20110301,       0543,   -67.0001,   176.8628,       3555,   165.9,   1.1641,  34.6348,2,  34.6336,2,    192.4,2,   193.0,2,   88.02,2,   32.83,2,    0.01,2,    2.19,2,   0.982,2,   0.500,2,   0.098,2,-999.0000,9,  2252.1,2,  2339.1,2,   7.5579,6,    25.00,-999.000,9,-999.0000,9,-999.000,9,   1.1626,2, -999.00,9,  -999.0,9,  -999.0,-999.000,9, -999.00,9,-999.000,9, -999.00,9, -999.00,9, -67.0001, 176.8629,-999.000,     -999.0,    34.7970,2,     -999.0,9,     -999.0,9,-999.0000,9,-999.0000,9,-999.0000,9,-999.0000,9,-999.0000,9,-999.0000,9,-999.0000,9,-999.0000,9,-999.0000,9,-999.0000,-999.000,   1.1564,     -999.0,     -999.0,9,     -999.0,9,     -999.0,9,     -999.0,9,     -999.0,20110301,       0718
320620110219,       S04P,      19,          1,         29,         29,2,20110301,       0543,   -67.0001,   176.8628,       3555,   214.9,   1.4367,  34.6901,2,  34.6897,2,    187.2,2,   186.2,2,   92.26,2,   32.71,2,    0.02,2,    2.18,2,   0.567,2,   0.296,2,   0.063,2,-999.0000,9,  2254.6,2,  2343.0,6,   7.5624,2,    25.00,-999.000,9,-999.0000,9,-999.000,9,   1.4361,2, -999.00,9,  -999.0,9,  -999.0,-999.000,9, -999.00,9,-999.000,9, -999.00,9, -999.00,9, -67.0001, 176.8628,-999.000,     -999.0,    34.8533,2,     -999.0,9,     -999.0,9,-999.0000,9,-999.0000,9,-999.0000,9,-999.0000,9,-999.0000,9,-999.0000,9,-999.0000,9,-999.0000,9,-999.0000,9,-999.0000,-999.000,   1.4261,     -999.0,     -999.0,9,     -999.0,9,     -999.0,9,     -999.0,9,     -999.0,20110301,       0716
320620110219,       S04P,      19,          1,         28,         28,2,20110301,       0543,   -67.0001,   176.8628,       3555,   264.2,   1.4587,  34.7069,2,  34.7068,2,    186.9,2,   186.6,2,   93.72,2,   32.43,2,    0.01,2,    2.16,2,   0.447,2,   0.234,2,   0.044,2,-999.0000,9,  2254.6,2,  2347.4,2,   7.5671,2,    25.00,-999.000,9,-999.0000,9,-999.000,9,   1.4589,2, -999.00,9,  -999.0,9,  -999.0,-999.000,9, -999.00,9,-999.000,9, -999.00,9, -999.00,9, -67.0001, 176.8628,-999.000,     -999.0,    34.8705,2,     -999.0,9,     -999.0,9,-999.0000,9,-999.0000,9,-999.0000,9,-999.0000,9,-999.0000,9,-999.0000,9,-999.0000,9,-999.0000,9,-999.0000,9,-999.0000,-999.000,   1.4455,     -999.0,     -999.0,9,     -999.0,9,     -999.0,9,     -999.0,9,     -999.0,20110301,       0714
320620110219,       S04P,      19,          1,         27,         27,2,20110301,       0543,   -67.0001,   176.8628,       3555,   316.2,   1.4306,  34.7135,2,  34.7127,2,    187.7,2,   187.5,2,   95.51,2,   32.24,2,    0.00,2,    2.15,2,   0.395,2,   0.203,2,   0.040,2,-999.0000,9,  2256.2,2,  2347.4,2,   7.5721,2,    25.00,-999.000,9,-999.0000,9,-999.000,9,   1.4299,2, -999.00,9,  -999.0,9,  -999.0,-999.000,9, -999.00,9,-999.000,9, -999.00,9, -999.00,9, -67.0001, 176.8629,-999.000,     -999.0,    34.8764,2,     -999.0,9,     -999.0,9,-999.0000,9,-999.0000,9,-999.0000,9,-999.0000,9,-999.0000,9,-999.0000,9,-999.0000,9,-999.0000,9,-999.0000,9,-999.0000,-999.000,   1.4148,     -999.0,     -999.0,9,     -999.0,9,     -999.0,9,     -999.0,9,     -999.0,20110301,       0712
320620110219,       S04P,      19,          1,         26,         26,2,20110301,       0543,   -67.0001,   176.8628,       3555,   365.4,   1.4083,  34.7178,2,  34.7172,2,    188.3,2,   188.3,2,   97.01,2,   32.21,2,    0.00,2,    2.15,2,   0.339,2,   0.176,2,   0.035,2,-999.0000,9,  2256.7,2,  2348.9,2,   7.5747,2,    25.00,-999.000,9,-999.0000,9,-999.000,9,   1.4082,2, -999.00,9,  -999.0,9,  -999.0,-999.000,9, -999.00,9,-999.000,9, -999.00,9, -999.00,9, -67.0001, 176.8628,-999.000,     -999.0,    34.8809,2,     -999.0,9,     -999.0,9,-999.0000,9,-999.0000,9,-999.0000,9,-999.0000,9,-999.0000,9,-999.0000,9,-999.0000,9,-999.0000,9,-999.0000,9,-999.0000,-999.000,   1.3899,     -999.0,     -999.0,9,     -999.0,9,     -999.0,9,     -999.0,9,     -999.0,20110301,       0711
320620110219,       S04P,      19,          1,         25,         25,2,20110301,       0543,   -67.0001,   176.8628,       3555,   414.9,   1.3799,  34.7210,2,  34.7210,2,    189.7,2,   190.2,2,   98.28,2,   32.09,2,    0.00,2,    2.16,2,   0.319,2,   0.163,2,   0.032,2,-999.0000,9,  2257.9,2,  2349.6,2,   7.5768,2,    25.00,-999.000,9,-999.0000,9,-999.000,9,   1.3793,2, -999.00,9,  -999.0,9,  -999.0,-999.000,9, -999.00,9,-999.000,9, -999.00,9, -999.00,9, -67.0000, 176.8628,-999.000,     -999.0,    34.8847,2,     -999.0,9,     -999.0,9,-999.0000,9,-999.0000,9,-999.0000,9,-999.0000,9,-999.0000,9,-999.0000,9,-999.0000,9,-999.0000,9,-999.0000,9,-999.0000,-999.000,   1.3589,     -999.0,     -999.0,9,     -999.0,9,     -999.0,9,     -999.0,9,     -999.0,20110301,       0709
320620110219,       S04P,      19,          1,         24,         24,2,20110301,       0543,   -67.0001,   176.8628,       3555,   464.2,   1.3435,  34.7231,2,  34.7227,2,    189.7,2,   190.4,2,  100.48,2,   32.15,2,    0.00,2,    2.15,2,   0.281,2,   0.141,2,   0.032,2,-999.0000,9,  2258.8,2,  2350.8,2,   7.5764,2,    25.00,-999.000,9,-999.0000,9,-999.000,9,   1.3435,2, -999.00,9,  -999.0,9,  -999.0,-999.000,9, -999.00,9,-999.000,9, -999.00,9, -999.00,9, -67.0001, 176.8628,-999.000,     -999.0,    34.8865,2,     -999.0,9,     -999.0,9,-999.0000,9,-999.0000,9,-999.0000,9,-999.0000,9,-999.0000,9,-999.0000,9,-999.0000,9,-999.0000,9,-999.0000,9,-999.0000,-999.000,   1.3200,     -999.0,     -999.0,9,     -999.0,9,     -999.0,9,     -999.0,9,     -999.0,20110301,       0707
320620110219,       S04P,      19,          1,         23,         23,2,20110301,       0543,   -67.0001,   176.8628,       3555,   535.2,   1.2939,  34.7246,2,  34.7241,2,    190.0,2,   189.7,2,  103.40,2,   32.22,2,    0.00,2,    2.14,2,   0.221,2,   0.114,2,   0.021,2,-999.0000,9,  2259.8,2,  2352.8,2,   7.5767,2,    25.00,-999.000,9,-999.0000,9,-999.000,9,   1.2939,2, -999.00,9,  -999.0,9,  -999.0,-999.000,9, -999.00,9,-999.000,9, -999.00,9, -999.00,9, -67.0001, 176.8628,-999.000,     -999.0,    34.8878,2,     -999.0,9,     -999.0,9,-999.0000,9,-999.0000,9,-999.0000,9,-999.0000,9,-999.0000,9,-999.0000,9,-999.0000,9,-999.0000,9,-999.0000,9,-999.0000,-999.000,   1.2667,     -999.0,     -999.0,9,     -999.0,9,     -999.0,9,     -999.0,9,     -999.0,20110301,       0704
320620110219,       S04P,      19,          1,         22,         22,2,20110301,       0543,   -67.0001,   176.8628,       3555,   634.2,   1.2241,  34.7241,2,  34.7241,2,    191.6,2,   191.3,2,  105.70,2,   32.25,2,    0.00,2,    2.14,2,-999.000,9,-999.000,9,-999.000,9,-999.0000,9,  -999.0,9,  -999.0,9,-999.0000,9,  -999.00,-999.000,9,-999.0000,9,-999.000,9,   1.2239,2, -999.00,9,  -999.0,9,  -999.0,-999.000,9, -999.00,9,-999.000,9, -999.00,9, -999.00,9, -67.0001, 176.8628,-999.000,     -999.0,    34.8878,2,     -999.0,9,     -999.0,9,-999.0000,9,-999.0000,9,-999.0000,9,-999.0000,9,-999.0000,9,-999.0000,9,-999.0000,9,-999.0000,9,-999.0000,9,-999.0000,-999.000,   1.1917,     -999.0,     -999.0,9,     -999.0,9,     -999.0,9,     -999.0,9,     -999.0,20110301,       0701
320620110219,       S04P,      19,          1,         21,         21,2,20110301,       0543,   -67.0001,   176.8628,       3555,   735.3,   1.1688,  34.7244,2,  34.7249,2,    192.2,2,   192.0,2,  108.47,2,   32.18,2,    0.00,2,    2.14,2,   0.139,2,   0.075,2,   0.015,2,-999.0000,9,  -999.0,9,  -999.0,9,-999.0000,9,  -999.00,-999.000,9,-999.0000,9,-999.000,9,   1.1689,2, -999.00,9,  -999.0,9,  -999.0,-999.000,9, -999.00,9,-999.000,9, -999.00,9, -999.00,9, -67.0001, 176.8628,-999.000,     -999.0,    34.8886,2,     -999.0,9,     -999.0,9,-999.0000,9,-999.0000,9,-999.0000,9,-999.0000,9,-999.0000,9,-999.0000,9,-999.0000,9,-999.0000,9,-999.0000,9,-999.0000,-999.000,   1.1309,     -999.0,     -999.0,9,     -999.0,9,     -999.0,9,     -999.0,9,     -999.0,20110301,       0659
320620110219,       S04P,      19,          1,         20,         20,2,20110301,       0543,   -67.0001,   176.8628,       3555,   835.6,   1.0942,  34.7220,2,  34.7221,2,    193.9,2,   194.4,2,  110.37,2,   32.23,2,    0.00,2,    2.15,2,-999.000,9,-999.000,9,-999.000,9,-999.0000,9,  2261.7,2,  2355.7,2,   7.5807,2,    25.00,-999.000,9,-999.0000,9,-999.000,9,   1.0929,2, -999.00,9,  -999.0,9,  -999.0,-999.000,9, -999.00,9,-999.000,9, -999.00,9, -999.00,9, -67.0001, 176.8628,-999.000,     -999.0,    34.8859,2,     -999.0,9,     -999.0,9,-999.0000,9,-999.0000,9,-999.0000,9,-999.0000,9,-999.0000,9,-999.0000,9,-999.0000,9,-999.0000,9,-999.0000,9,-999.0000,-999.000,   1.0509,     -999.0,     -999.0,9,     -999.0,9,     -999.0,9,     -999.0,9,     -999.0,20110301,       0656
320620110219,       S04P,      19,          1,         19,         19,2,20110301,       0543,   -67.0001,   176.8628,       3555,   935.7,   1.0388,  34.7201,2,  34.7200,2,    195.6,2,   195.9,2,  112.47,2,   32.29,2,    0.00,2,    2.15,2,   0.112,2,   0.053,2,   0.012,2,-999.0000,9,  -999.0,9,  -999.0,9,-999.0000,9,  -999.00,-999.000,9,-999.0000,9,-999.000,9,   1.0384,2, -999.00,9,  -999.0,9,  -999.0,-999.000,9, -999.00,9,-999.000,9, -999.00,9, -999.00,9, -67.0001, 176.8628,-999.000,     -999.0,    34.8837,2,     -999.0,9,     -999.0,9,-999.0000,9,-999.0000,9,-999.0000,9,-999.0000,9,-999.0000,9,-999.0000,9,-999.0000,9,-999.0000,9,-999.0000,9,-999.0000,-999.000,   0.9900,     -999.0,     -999.0,9,     -999.0,9,     -999.0,9,     -999.0,9,     -999.0,20110301,       0653
320620110219,       S04P,      19,          1,         18,         18,2,20110301,       0543,   -67.0001,   176.8628,       3555,  1035.5,   0.9724,  34.7177,2,  34.7174,2,    197.2,2,   197.3,2,  114.61,2,   32.23,2,    0.00,2,    2.15,2,-999.000,9,-999.000,9,-999.000,9,-999.0000,9,  2261.2,2,  2357.2,6,   7.5836,2,    25.00,-999.000,9,-999.0000,9,-999.000,9,   0.9722,2, -999.00,9,  -999.0,9,  -999.0,-999.000,9, -999.00,9,-999.000,9, -999.00,9, -999.00,9, -67.0001, 176.8628,-999.000,     -999.0,    34.8811,2,     -999.0,9,     -999.0,9,-999.0000,9,-999.0000,9,-999.0000,9,-999.0000,9,-999.0000,9,-999.0000,9,-999.0000,9,-999.0000,9,-999.0000,9,-999.0000,-999.000,   0.9180,     -999.0,     -999.0,9,     -999.0,9,     -999.0,9,     -999.0,9,     -999.0,20110301,       0650
320620110219,       S04P,      19,          1,         17,         17,2,20110301,       0543,   -67.0001,   176.8628,       3555,  1133.5,   0.9241,  34.7162,2,  34.7161,2,    198.3,2,   198.3,2,  116.39,2,   32.32,2,    0.00,2,    2.16,2,   0.099,2,   0.050,2,   0.012,2,-999.0000,9,  -999.0,9,  -999.0,9,-999.0000,9,  -999.00,-999.000,9,-999.0000,9,-999.000,9,   0.9243,2, -999.00,9,  -999.0,9,  -999.0,-999.000,9, -999.00,9,-999.000,9, -999.00,9, -999.00,9, -67.0001, 176.8628,-999.000,     -999.0,    34.8798,2,     -999.0,9,     -999.0,9,-999.0000,9,-999.0000,9,-999.0000,9,-999.0000,9,-999.0000,9,-999.0000,9,-999.0000,9,-999.0000,9,-999.0000,9,-999.0000,-999.000,   0.8641,     -999.0,     -999.0,9,     -999.0,9,     -999.0,9,     -999.0,9,     -999.0,20110301,       0647
320620110219,       S04P,      19,          1,         16,         16,2,20110301,       0543,   -67.0001,   176.8628,       3555,  1234.5,   0.8693,  34.7145,2,  34.7149,2,    199.6,2,   199.4,2,  117.68,2,   32.44,2,    0.00,2,    2.16,2,-999.000,9,-999.000,9,-999.000,9,-999.0000,9,  2262.2,2,  2358.2,2,   7.5862,6,    25.00,-999.000,9,-999.0000,9,-999.000,9,   0.8695,2, -999.00,9,  -999.0,9,  -999.0,-999.000,9, -999.00,9,-999.000,9, -999.00,9, -999.00,9, -67.0001, 176.8628,-999.000,     -999.0,    34.8786,2,     -999.0,9,     -999.0,9,-999.0000,9,-999.0000,9,-999.0000,9,-999.0000,9,-999.0000,9,-999.0000,9,-999.0000,9,-999.0000,9,-999.0000,9,-999.0000,-999.000,   0.8034,     -999.0,     -999.0,9,     -999.0,9,     -999.0,9,     -999.0,9,     -999.0,20110301,       0644
320620110219,       S04P,      19,          1,         15,         15,2,20110301,       0543,   -67.0001,   176.8628,       3555,  1334.3,   0.8186,  34.7130,2,  34.7141,2,    201.1,2,   201.7,2,  119.99,2,   32.46,2,    0.00,2,    2.16,2,   0.169,2,   0.073,2,   0.015,2,-999.0000,9,  -999.0,9,  -999.0,9,-999.0000,9,  -999.00,-999.000,9,-999.0000,9,-999.000,9,   0.8185,2, -999.00,9,  -999.0,9,  -999.0,-999.000,9, -999.00,9,-999.000,9, -999.00,9, -999.00,9, -67.0001, 176.8628,-999.000,     -999.0,    34.8778,2,     -999.0,9,     -999.0,9,-999.0000,9,-999.0000,9,-999.0000,9,-999.0000,9,-999.0000,9,-999.0000,9,-999.0000,9,-999.0000,9,-999.0000,9,-999.0000,-999.000,   0.7468,     -999.0,     -999.0,9,     -999.0,9,     -999.0,9,     -999.0,9,     -999.0,20110301,       0641
320620110219,       S04P,      19,          1,         14,         14,2,20110301,       0543,   -67.0001,   176.8628,       3555,  1435.1,   0.7698,  34.7114,2,  34.7119,2,    202.2,2,   202.2,2,  121.63,2,   32.39,2,    0.00,2,    2.17,2,-999.000,9,-999.000,9,-999.000,9,-999.0000,9,  2261.2,6,  2359.6,2,   7.5866,2,    25.00,-999.000,9,-999.0000,9,-999.000,9,   0.7698,2, -999.00,9,  -999.0,9,  -999.0,-999.000,9, -999.00,9,-999.000,9, -999.00,9, -999.00,9, -67.0000, 176.8629,-999.000,     -999.0,    34.8756,2,     -999.0,9,     -999.0,9,-999.0000,9,-999.0000,9,-999.0000,9,-999.0000,9,-999.0000,9,-999.0000,9,-999.0000,9,-999.0000,9,-999.0000,9,-999.0000,-999.000,   0.6920,     -999.0,     -999.0,9,     -999.0,9,     -999.0,9,     -999.0,9,     -999.0,20110301,       0638