BOTTLE,20220813CCHSIOAMB
EXPOCODE,SECT_ID,STNNBR,CASTNO,SAMPNO,BTLNBR,BTLNBR_FLAG_W,DATE,TIME,LATITUDE,LONGITUDE,DEPTH,CTDPRS,CTDTMP,CTDSAL,CTDSAL_FLAG_W,SALNTY,SALNTY_FLAG_W,CTDOXY,CTDOXY_FLAG_W,OXYGEN,OXYGEN_FLAG_W,SILCAT,SILCAT_FLAG_W,NITRAT,NITRAT_FLAG_W,NITRIT,NITRIT_FLAG_W,PHSPHT,PHSPHT_FLAG_W,CFC-11,CFC-11_FLAG_W,CFC-12,CFC-12_FLAG_W,CFC113,CFC113_FLAG_W,SF6,SF6_FLAG_W,TCARBN,TCARBN_FLAG_W,ALKALI,ALKALI_FLAG_W,PH_TOT,PH_TOT_FLAG_W,PH_TMP,TRITUM,TRITUM_FLAG_W,HELIUM,HELIUM_FLAG_W,DELHE3,DELHE3_FLAG_W,REFTMP,REFTMP_FLAG_W,DELC13,DELC13_FLAG_W,DELC14,DELC14_FLAG_W,C14ERR,NEON,NEON_FLAG_W,DELO18,DELO18_FLAG_W,POC,POC_FLAG_W,DOC,DOC_FLAG_W,TDN,TDN_FLAG_W,BTL_LAT,BTL_LON,TRITER,NEONER,SALTREF,SALTREF_FLAG_W,PIGMENTS,PIGMENTS_FLAG_W,LAB_DEN,LAB_DEN_FLAG_W,CDOM325,CDOM325_FLAG_W,CDOM340,CDOM340_FLAG_W,CDOM380,CDOM380_FLAG_W,CDOM412,CDOM412_FLAG_W,CDOM443,CDOM443_FLAG_W,CDOM490,CDOM490_FLAG_W,CDOM555,CDOM555_FLAG_W,CDOMSL,CDOMSL_FLAG_W,CDOMSN,CDOMSN_FLAG_W,HELIER,DELHER,THETA,LDEO_SAMPNO,ABSORBTION,ABSORBTION_FLAG_W,IMAGE_COUNT,IMAGE_COUNT_FLAG_W,CYTO_COUNT,CYTO_COUNT_FLAG_W,DELD,DELD_FLAG_W,DELDERR,BTL_DATE,BTL_TIME
,,,,,,,,,,,METERS,DBAR,ITS-90,PSS-78,,PSS-78,,UMOL/KG,,UMOL/KG,,UMOL/KG,,UMOL/KG,,UMOL/KG,,UMOL/KG,,PMOL/KG,,PMOL/KG,,PMOL/KG,,FMOL/KG,,UMOL/KG,,UMOL/KG,,,,DEG C,TU,,NMOL/KG,,PERCNT,,DEG C,,/MILLE,,/MILLE,,/MILLE,NMOL/KG,,/MILLE,,UG/KG,,UMOL/KG,,UMOL/KG,,,,TU,NMOL/KG,G/KG,,,,,,1/M,,1/M,,1/M,,1/M,,1/M,,1/M,,1/M,,1/NM,,1/NM,,NMOL/KG,PERCNT,DEG C,,,,,,,,/MILLE,,/MILLE,,
320620110219,       S04P,      40,          1,         13,         13,2,20110309,       0944,   -67.0002,  -156.2653,       3948,  1533.1,   0.7280,  34.7097,2,  34.7093,2,    203.1,2,   202.7,2,  123.16,2,   32.19,2,    0.00,2,    2.24,2,   0.110,2,   0.048,2,   0.006,2,   0.0550,2,  -999.0,9,  -999.0,9,-999.0000,9,  -999.00,-999.000,9,-999.0000,9,-999.000,9,   0.7279,2, -999.00,9,  -999.0,9,  -999.0,-999.000,9, -999.00,9,-999.000,9,   39.80,2,   35.10,2, -67.0002,-156.2653,-999.000,     -999.0,    34.8730,2,     -999.0,9,     -999.0,9,-999.0000,9,-999.0000,9,-999.0000,9,-999.0000,9,-999.0000,9,-999.0000,9,-999.0000,9,-999.0000,9,-999.0000,9,-999.0000,-999.000,   0.6441,     -999.0,     -999.0,9,     -999.0,9,     -999.0,9,     -999.0,9,     -999.0,20110309,       1039
320620110219,       S04P,      40,          1,         12,         12,2,20110309,       0944,   -67.0002,  -156.2653,       3948,  1634.4,   0.6912,  34.7082,2,  34.7081,2,    204.1,2,   203.1,2,  124.00,2,   32.20,2,    0.00,2,    2.24,2,-999.000,9,-999.000,9,-999.000,9,-999.0000,9,  2259.3,2,  2359.3,2,   7.5921,2,    25.00,-999.000,9,-999.0000,9,-999.000,9,   0.6912,2, -999.00,9,  -999.0,9,  -999.0,-999.000,9, -999.00,9,-999.000,9,   39.82,2,   34.50,2, -67.0002,-156.2653,-999.000,     -999.0,    34.8718,2,     -999.0,9,     -999.0,9,-999.0000,9,-999.0000,9,-999.0000,9,-999.0000,9,-999.0000,9,-999.0000,9,-999.0000,9,-999.0000,9,-999.0000,9,-999.0000,-999.000,   0.6008,     -999.0,     -999.0,9,     -999.0,9,     -999.0,9,     -999.0,9,     -999.0,20110309,       1037
320620110219,       S04P,      40,          1,         11,         11,2,20110309,       0944,   -67.0002,  -156.2653,       3948,  1733.9,   0.6498,  34.7071,2,  34.7069,2,    204.9,2,   204.7,2,  125.13,2,   32.20,2,    0.00,2,    2.24,2,   0.119,2,   0.052,2,   0.005,2,   0.0820,2,  -999.0,9,  -999.0,9,-999.0000,9,  -999.00,-999.000,9,-999.0000,9,-999.000,9,   0.6501,2, -999.00,9,  -999.0,9,  -999.0,-999.000,9, -999.00,9,-999.000,9,   39.82,2,   34.48,2, -67.0002,-156.2653,-999.000,     -999.0,    34.8706,2,     -999.0,9,     -999.0,9,-999.0000,9,-999.0000,9,-999.0000,9,-999.0000,9,-999.0000,9,-999.0000,9,-999.0000,9,-999.0000,9,-999.0000,9,-999.0000,-999.000,   0.5531,     -999.0,     -999.0,9,     -999.0,9,     -999.0,9,     -999.0,9,     -999.0,20110309,       1034
320620110219,       S04P,      40,          1,         10,         37,2,20110309,       0944,   -67.0002,  -156.2653,       3948,  1864.1,   0.5957,  34.7060,2,  34.7059,2,    206.1,2,   206.3,2,  125.43,2,   32.25,2,    0.00,2,    2.24,2,-999.000,9,-999.000,9,-999.000,9,-999.0000,9,  -999.0,9,  -999.0,9,-999.0000,9,  -999.00,-999.000,9,-999.0000,9,-999.000,9,   0.5962,2, -999.00,9,  -999.0,9,  -999.0,-999.000,9, -999.00,9,-999.000,9,   39.72,2,   34.90,2, -67.0002,-156.2653,-999.000,     -999.0,    34.8696,2,     -999.0,9,     -999.0,9,-999.0000,9,-999.0000,9,-999.0000,9,-999.0000,9,-999.0000,9,-999.0000,9,-999.0000,9,-999.0000,9,-999.0000,9,-999.0000,-999.000,   0.4905,     -999.0,     -999.0,9,     -999.0,9,     -999.0,9,     -999.0,9,     -999.0,20110309,       1031
320620110219,       S04P,      40,          1,          9,          9,2,20110309,       0944,   -67.0002,  -156.2653,       3948,  2085.8,   0.5126,  34.7042,2,  34.7038,2,    207.8,2,   207.7,2,  126.81,2,   32.31,2,    0.00,2,    2.24,2,   0.157,2,   0.069,2,   0.007,2,   0.0960,2,  2258.4,2,  2358.2,2,   7.5925,2,    25.00,-999.000,9,-999.0000,9,-999.000,9,   0.5126,2, -999.00,9,  -999.0,9,  -999.0,-999.000,9, -999.00,9,-999.000,9,   40.08,2,   34.68,2, -67.0002,-156.2654,-999.000,     -999.0,    34.8674,2,     -999.0,9,     -999.0,9,-999.0000,9,-999.0000,9,-999.0000,9,-999.0000,9,-999.0000,9,-999.0000,9,-999.0000,9,-999.0000,9,-999.0000,9,-999.0000,-999.000,   0.3924,     -999.0,     -999.0,9,     -999.0,9,     -999.0,9,     -999.0,9,     -999.0,20110309,       1026
320620110219,       S04P,      40,          1,          8,          8,2,20110309,       0944,   -67.0002,  -156.2653,       3948,  2334.4,   0.4323,  34.7031,2,  34.7026,2,    210.0,2,   210.3,2,  128.58,2,   32.32,2,    0.00,2,    2.24,2,-999.000,9,-999.000,9,-999.000,9,-999.0000,9,  -999.0,9,  -999.0,9,-999.0000,9,  -999.00,-999.000,9,-999.0000,9,-999.000,9,   0.4327,2, -999.00,9,  -999.0,9,  -999.0,-999.000,9, -999.00,9,-999.000,9,   39.75,2,   34.76,2, -67.0002,-156.2654,-999.000,     -999.0,    34.8662,2,     -999.0,9,     -999.0,9,-999.0000,9,-999.0000,9,-999.0000,9,-999.0000,9,-999.0000,9,-999.0000,9,-999.0000,9,-999.0000,9,-999.0000,9,-999.0000,-999.000,   0.2944,     -999.0,     -999.0,9,     -999.0,9,     -999.0,9,     -999.0,9,     -999.0,20110309,       1021
320620110219,       S04P,      40,          1,          7,          7,2,20110309,       0944,   -67.0002,  -156.2653,       3948,  2586.0,   0.3646,  34.7021,2,  34.7016,2,    211.8,2,   212.5,2,  130.01,2,   32.29,2,    0.00,2,    2.24,2,   0.275,2,   0.120,2,   0.015,2,   0.0650,2,  2259.1,2,  2358.8,2,   7.5945,2,    25.00,-999.000,9,-999.0000,9,-999.000,9,   0.3649,2, -999.00,9,  -999.0,9,  -999.0,-999.000,9, -999.00,9,-999.000,9,   40.02,2,   34.81,2, -67.0002,-156.2653,-999.000,     -999.0,    34.8652,2,     -999.0,9,     -999.0,9,-999.0000,9,-999.0000,9,-999.0000,9,-999.0000,9,-999.0000,9,-999.0000,9,-999.0000,9,-999.0000,9,-999.0000,9,-999.0000,-999.000,   0.2079,     -999.0,     -999.0,9,     -999.0,9,     -999.0,9,     -999.0,9,     -999.0,20110309,       1016
320620110219,       S04P,      40,          1,          6,          6,2,20110309,       0944,   -67.0002,  -156.2653,       3948,  2833.7,   0.3035,  34.7007,2,  34.7002,2,    213.9,2,   213.8,2,  129.87,2,   32.25,2,    0.00,2,    2.24,2,-999.000,9,-999.000,9,-999.000,9,-999.0000,9,  -999.0,9,  -999.0,9,-999.0000,9,  -999.00,-999.000,9,-999.0000,9,-999.000,9,   0.3038,2, -999.00,9,  -999.0,9,  -999.0,-999.000,9, -999.00,9,-999.000,9,   39.86,2,   34.86,2, -67.0002,-156.2653,-999.000,     -999.0,    34.8638,2,     -999.0,9,     -999.0,9,-999.0000,9,-999.0000,9,-999.0000,9,-999.0000,9,-999.0000,9,-999.0000,9,-999.0000,9,-999.0000,9,-999.0000,9,-999.0000,-999.000,   0.1275,     -999.0,     -999.0,9,     -999.0,9,     -999.0,9,     -999.0,9,     -999.0,20110309,       1011
320620110219,       S04P,      40,          1,          5,          5,2,20110309,       0944,   -67.0002,  -156.2653,       3948,  3100.0,   0.2423,  34.6978,2,  34.6975,2,    216.7,2,   216.6,2,  128.56,2,   32.09,2,    0.00,2,    2.24,2,   0.517,2,   0.245,2,   0.037,2,   0.1230,2,  2259.7,2,  2357.9,2,   7.5931,2,    25.00,-999.000,9,-999.0000,9,-999.000,9,   0.2426,2, -999.00,9,  -999.0,9,  -999.0,-999.000,9, -999.00,9,-999.000,9,   40.01,2,   34.56,2, -67.0002,-156.2653,-999.000,     -999.0,    34.8611,2,     -999.0,9,     -999.0,9,-999.0000,9,-999.0000,9,-999.0000,9,-999.0000,9,-999.0000,9,-999.0000,9,-999.0000,9,-999.0000,9,-999.0000,9,-999.0000,-999.000,   0.0445,     -999.0,     -999.0,9,     -999.0,9,     -999.0,9,     -999.0,9,     -999.0,20110309,       1005
320620110219,       S04P,      40,          1,          4,          4,2,20110309,       0944,   -67.0002,  -156.2653,       3948,  3400.8,   0.1811,  34.6933,2,  34.6925,2,    220.4,2,   219.7,2,  122.61,2,   31.98,2,    0.00,2,    2.22,2,   0.874,2,   0.422,2,   0.070,2,   0.1400,2,  2256.8,2,  2356.1,2,   7.5910,2,    25.00,-999.000,9,-999.0000,9,-999.000,9,   0.1807,2, -999.00,9,  -999.0,9,  -999.0,-999.000,9, -999.00,9,-999.000,9,   40.06,2,   34.70,2, -67.0002,-156.2653,-999.000,     -999.0,    34.8561,2,     -999.0,9,     -999.0,9,-999.0000,9,-999.0000,9,-999.0000,9,-999.0000,9,-999.0000,9,-999.0000,9,-999.0000,9,-999.0000,9,-999.0000,9,-999.0000,-999.000,  -0.0424,     -999.0,     -999.0,9,     -999.0,9,     -999.0,9,     -999.0,9,     -999.0,20110309,       0959
320620110219,       S04P,      40,          1,          3,          3,2,20110309,       0944,   -67.0002,  -156.2653,       3948,  3699.2,   0.1831,  34.6935,2,  34.6933,2,    221.3,2,   220.3,2,  122.79,2,   31.97,2,    0.00,2,    2.22,2,   0.923,2,   0.429,2,   0.066,2,   0.1310,2,  2257.9,2,  2355.8,6,   7.5921,2,    25.00,-999.000,9,-999.0000,9,-999.000,9,   0.1829,2, -999.00,9,  -999.0,9,  -999.0,-999.000,9, -999.00,9,-999.000,9,   40.47,2,   34.94,2, -67.0002,-156.2653,-999.000,     -999.0,    34.8569,2,     -999.0,9,     -999.0,9,-999.0000,9,-999.0000,9,-999.0000,9,-999.0000,9,-999.0000,9,-999.0000,9,-999.0000,9,-999.0000,9,-999.0000,9,-999.0000,-999.000,  -0.0687,     -999.0,     -999.0,9,     -999.0,9,     -999.0,9,     -999.0,9,     -999.0,20110309,       0953
320620110219,       S04P,      40,          1,          2,          2,2,20110309,       0944,   -67.0002,  -156.2653,       3948,  3900.0,   0.1979,  34.6942,2,  34.6939,2,    221.2,2,   220.6,2,  123.43,2,   31.99,2,    0.00,2,    2.21,2,   0.905,2,   0.428,2,   0.067,2,   0.1610,2,  2258.4,6,  2355.8,2,   7.5900,2,    25.00,-999.000,9,-999.0000,9,-999.000,9,   0.1982,2, -999.00,9,  -999.0,9,  -999.0,-999.000,9, -999.00,9,-999.000,9,   40.42,2,   34.65,2, -67.0002,-156.2653,-999.000,     -999.0,    34.8575,2,     -999.0,9,     -999.0,9,-999.0000,9,-999.0000,9,-999.0000,9,-999.0000,9,-999.0000,9,-999.0000,9,-999.0000,9,-999.0000,9,-999.0000,9,-999.0000,-999.000,  -0.0740,     -999.0,     -999.0,9,     -999.0,9,     -999.0,9,     -999.0,9,     -999.0,20110309,       0948
320620110219,       S04P,      40,          1,          1,          1,2,20110309,       0944,   -67.0002,  -156.2653,       3948,  4012.8,   0.2082,  34.6945,2,  34.6941,2,    220.9,2,   221.2,2,  123.95,2,   32.03,2,    0.00,2,    2.22,2,   0.875,2,   0.407,2,   0.057,2,   0.1590,2,  2258.0,2,  2355.9,2,   7.5901,6,    25.00,-999.000,9,-999.0000,9,-999.000,9,   0.2080,2, -999.00,9,  -999.0,9,  -999.0,-999.000,9, -999.00,9,-999.000,9,   40.54,2,   34.97,2, -67.0002,-156.2653,-999.000,     -999.0,    34.8577,2,     -999.0,9,     -999.0,9,-999.0000,9,-999.0000,9,-999.0000,9,-999.0000,9,-999.0000,9,-999.0000,9,-999.0000,9,-999.0000,9,-999.0000,9,-999.0000,-999.000,  -0.0754,     -999.0,     -999.0,9,     -999.0,9,     -999.0,9,     -999.0,9,     -999.0,20110309,       0944