BOTTLE,20220813CCHSIOAMB
EXPOCODE,SECT_ID,STNNBR,CASTNO,SAMPNO,BTLNBR,BTLNBR_FLAG_W,DATE,TIME,LATITUDE,LONGITUDE,DEPTH,CTDPRS,CTDTMP,CTDSAL,CTDSAL_FLAG_W,SALNTY,SALNTY_FLAG_W,CTDOXY,CTDOXY_FLAG_W,OXYGEN,OXYGEN_FLAG_W,SILCAT,SILCAT_FLAG_W,NITRAT,NITRAT_FLAG_W,NITRIT,NITRIT_FLAG_W,PHSPHT,PHSPHT_FLAG_W,CFC-11,CFC-11_FLAG_W,CFC-12,CFC-12_FLAG_W,CFC113,CFC113_FLAG_W,SF6,SF6_FLAG_W,TCARBN,TCARBN_FLAG_W,ALKALI,ALKALI_FLAG_W,PH_TOT,PH_TOT_FLAG_W,PH_TMP,TRITUM,TRITUM_FLAG_W,HELIUM,HELIUM_FLAG_W,DELHE3,DELHE3_FLAG_W,REFTMP,REFTMP_FLAG_W,DELC13,DELC13_FLAG_W,DELC14,DELC14_FLAG_W,C14ERR,NEON,NEON_FLAG_W,DELO18,DELO18_FLAG_W,POC,POC_FLAG_W,DOC,DOC_FLAG_W,TDN,TDN_FLAG_W,BTL_LAT,BTL_LON,TRITER,NEONER,SALTREF,SALTREF_FLAG_W,PIGMENTS,PIGMENTS_FLAG_W,LAB_DEN,LAB_DEN_FLAG_W,CDOM325,CDOM325_FLAG_W,CDOM340,CDOM340_FLAG_W,CDOM380,CDOM380_FLAG_W,CDOM412,CDOM412_FLAG_W,CDOM443,CDOM443_FLAG_W,CDOM490,CDOM490_FLAG_W,CDOM555,CDOM555_FLAG_W,CDOMSL,CDOMSL_FLAG_W,CDOMSN,CDOMSN_FLAG_W,HELIER,DELHER,THETA,LDEO_SAMPNO,ABSORBTION,ABSORBTION_FLAG_W,IMAGE_COUNT,IMAGE_COUNT_FLAG_W,CYTO_COUNT,CYTO_COUNT_FLAG_W,DELD,DELD_FLAG_W,DELDERR,BTL_DATE,BTL_TIME
,,,,,,,,,,,METERS,DBAR,ITS-90,PSS-78,,PSS-78,,UMOL/KG,,UMOL/KG,,UMOL/KG,,UMOL/KG,,UMOL/KG,,UMOL/KG,,PMOL/KG,,PMOL/KG,,PMOL/KG,,FMOL/KG,,UMOL/KG,,UMOL/KG,,,,DEG C,TU,,NMOL/KG,,PERCNT,,DEG C,,/MILLE,,/MILLE,,/MILLE,NMOL/KG,,/MILLE,,UG/KG,,UMOL/KG,,UMOL/KG,,,,TU,NMOL/KG,G/KG,,,,,,1/M,,1/M,,1/M,,1/M,,1/M,,1/M,,1/M,,1/NM,,1/NM,,NMOL/KG,PERCNT,DEG C,,,,,,,,/MILLE,,/MILLE,,
320620110219,       S04P,      30,          1,         13,         13,2,20110306,       0815,   -67.0001,  -169.0626,       3652,  1500.8,   0.7016,  34.7077,2,  34.7077,2,    205.8,2,   205.6,2,  120.61,2,   32.23,2,    0.00,2,    2.21,2,   0.242,2,   0.132,2,   0.018,2,   0.0930,2,  2259.2,2,  2359.3,2,   7.6002,2,    25.00,   0.001,2,    2.110,2,   9.826,2,   0.7016,2, -999.00,9,  -999.0,9,  -999.0,   9.147,2, -999.00,9,-999.000,9,   40.52,2,   34.58,2, -67.0001,-169.0626,   0.005,      0.014,    34.8713,2,     -999.0,9,     -999.0,9,-999.0000,9,-999.0000,9,-999.0000,9,-999.0000,9,-999.0000,9,-999.0000,9,-999.0000,9,-999.0000,9,-999.0000,9,    0.001,   0.194,   0.6202,50003001013,     -999.0,9,     -999.0,9,     -999.0,9,     -999.0,9,     -999.0,20110306,       0914
320620110219,       S04P,      30,          1,         12,         12,2,20110306,       0815,   -67.0001,  -169.0626,       3652,  1599.4,   0.6567,  34.7061,2,  34.7059,2,    206.4,2,   206.3,2,  121.62,2,   32.07,2,    0.00,2,    2.23,2,-999.000,9,-999.000,9,-999.000,9,-999.0000,9,  -999.0,9,  -999.0,9,-999.0000,9,  -999.00,-999.000,9,-999.0000,9,-999.000,9,   0.6564,2, -999.00,9,  -999.0,9,  -999.0,-999.000,9, -999.00,9,-999.000,9,   40.30,2,   34.39,2, -67.0000,-169.0626,-999.000,     -999.0,    34.8696,2,     -999.0,9,     -999.0,9,-999.0000,9,-999.0000,9,-999.0000,9,-999.0000,9,-999.0000,9,-999.0000,9,-999.0000,9,-999.0000,9,-999.0000,9,-999.0000,-999.000,   0.5692,     -999.0,     -999.0,9,     -999.0,9,     -999.0,9,     -999.0,9,     -999.0,20110306,       0911
320620110219,       S04P,      30,          1,         11,         11,2,20110306,       0815,   -67.0001,  -169.0626,       3652,  1699.6,   0.6139,  34.7048,2,  34.7042,2,    206.7,2,   207.6,2,  122.31,2,   32.27,2,    0.00,2,    2.23,2,   0.231,2,   0.127,2,   0.020,2,   0.0590,2,  -999.0,9,  -999.0,9,-999.0000,9,  -999.00,-999.000,9,    2.189,4,   9.630,2,   0.6137,2, -999.00,9,  -999.0,9,  -999.0,   9.479,4, -999.00,9,-999.000,9,   40.49,2,   34.41,2, -67.0001,-169.0627,-999.000,      0.016,    34.8678,2,     -999.0,9,     -999.0,9,-999.0000,9,-999.0000,9,-999.0000,9,-999.0000,9,-999.0000,9,-999.0000,9,-999.0000,9,-999.0000,9,-999.0000,9,    0.001,   0.193,   0.5201,50003001011,     -999.0,9,     -999.0,9,     -999.0,9,     -999.0,9,     -999.0,20110306,       0908
320620110219,       S04P,      30,          1,         10,         37,2,20110306,       0815,   -67.0001,  -169.0626,       3652,  1800.3,   0.5689,  34.7032,2,  34.7034,2,    207.9,2,   208.8,2,  122.76,2,   32.27,2,    0.00,2,    2.23,2,-999.000,9,-999.000,9,-999.000,9,-999.0000,9,  2262.2,2,  2358.0,2,   7.6005,2,    25.00,-999.000,9,-999.0000,9,-999.000,9,   0.5692,2, -999.00,9,  -999.0,9,  -999.0,-999.000,9, -999.00,9,-999.000,9,   40.05,2,   34.25,2, -67.0000,-169.0627,-999.000,     -999.0,    34.8670,2,     -999.0,9,     -999.0,9,-999.0000,9,-999.0000,9,-999.0000,9,-999.0000,9,-999.0000,9,-999.0000,9,-999.0000,9,-999.0000,9,-999.0000,9,-999.0000,-999.000,   0.4686,     -999.0,     -999.0,9,     -999.0,9,     -999.0,9,     -999.0,9,     -999.0,20110306,       0906
320620110219,       S04P,      30,          1,          9,          9,2,20110306,       0815,   -67.0001,  -169.0626,       3652,  1999.7,   0.4883,  34.7016,2,  34.7016,2,    209.1,2,   209.4,2,  124.92,2,   32.63,2,    0.00,2,    2.23,2,   0.275,2,   0.152,2,   0.018,2,   0.1170,2,  -999.0,9,  -999.0,9,-999.0000,9,  -999.00,   0.001,2,    2.009,2,   9.591,2,   0.4885,2, -999.00,9,  -999.0,9,  -999.0,   8.840,2, -999.00,9,-999.000,9,   40.06,2,   34.68,2, -67.0000,-169.0627,   0.005,      0.013,    34.8653,2,     -999.0,9,     -999.0,9,-999.0000,9,-999.0000,9,-999.0000,9,-999.0000,9,-999.0000,9,-999.0000,9,-999.0000,9,-999.0000,9,-999.0000,9,    0.001,   0.205,   0.3749,50003001009,     -999.0,9,     -999.0,9,     -999.0,9,     -999.0,9,     -999.0,20110306,       0901
320620110219,       S04P,      30,          1,          8,          8,2,20110306,       0815,   -67.0001,  -169.0626,       3652,  2249.9,   0.3965,  34.6989,2,  34.6987,2,    211.4,2,   212.9,2,  124.95,2,   32.56,2,    0.00,2,    2.23,2,-999.000,9,-999.000,9,-999.000,9,-999.0000,9,  2261.5,2,  2357.6,2,   7.5964,2,    25.00,-999.000,9,-999.0000,9,-999.000,9,   0.3970,2, -999.00,9,  -999.0,9,  -999.0,-999.000,9, -999.00,9,-999.000,9,   39.95,2,   34.78,2, -67.0001,-169.0627,-999.000,     -999.0,    34.8623,2,     -999.0,9,     -999.0,9,-999.0000,9,-999.0000,9,-999.0000,9,-999.0000,9,-999.0000,9,-999.0000,9,-999.0000,9,-999.0000,9,-999.0000,9,-999.0000,-999.000,   0.2658,     -999.0,     -999.0,9,     -999.0,9,     -999.0,9,     -999.0,9,     -999.0,20110306,       0855
320620110219,       S04P,      30,          1,          7,          7,2,20110306,       0815,   -67.0001,  -169.0626,       3652,  2500.1,   0.3422,  34.6984,2,  34.6985,2,    213.3,2,   213.9,2,  126.82,2,   32.60,2,    0.00,2,    2.24,2,-999.000,9,-999.000,9,-999.000,9,-999.0000,9,  -999.0,9,  -999.0,9,-999.0000,9,  -999.00,   0.001,2,    2.202,4,   8.452,2,   0.3424,2, -999.00,9,  -999.0,9,  -999.0,   9.472,4, -999.00,9,-999.000,9,   39.90,2,   34.80,2, -67.0001,-169.0627,   0.006,      0.015,    34.8621,2,     -999.0,9,     -999.0,9,-999.0000,9,-999.0000,9,-999.0000,9,-999.0000,9,-999.0000,9,-999.0000,9,-999.0000,9,-999.0000,9,-999.0000,9,    0.001,   0.193,   0.1929,50003001007,     -999.0,9,     -999.0,9,     -999.0,9,     -999.0,9,     -999.0,20110306,       0849
320620110219,       S04P,      30,          1,          6,          6,2,20110306,       0815,   -67.0001,  -169.0626,       3652,  2749.9,   0.2808,  34.6944,2,  34.6948,2,    215.9,2,   216.4,2,  124.22,2,   32.53,2,    0.00,2,    2.23,2,-999.000,9,-999.000,9,-999.000,9,-999.0000,9,  2261.6,2,  2357.8,2,   7.5951,2,    25.00,-999.000,9,-999.0000,9,-999.000,9,   0.2808,2, -999.00,9,  -999.0,9,  -999.0,-999.000,9, -999.00,9,-999.000,9,   40.26,2,   34.62,2, -67.0001,-169.0627,-999.000,     -999.0,    34.8584,2,     -999.0,9,     -999.0,9,-999.0000,9,-999.0000,9,-999.0000,9,-999.0000,9,-999.0000,9,-999.0000,9,-999.0000,9,-999.0000,9,-999.0000,9,-999.0000,-999.000,   0.1123,     -999.0,     -999.0,9,     -999.0,9,     -999.0,9,     -999.0,9,     -999.0,20110306,       0843
320620110219,       S04P,      30,          1,          5,          5,2,20110306,       0815,   -67.0001,  -169.0626,       3652,  3002.0,   0.2543,  34.6931,2,  34.6927,2,    217.4,2,   217.5,2,  123.48,2,   32.50,2,    0.00,2,    2.24,2,   0.731,2,   0.377,2,   0.052,2,   0.1600,2,  -999.0,9,  -999.0,9,-999.0000,9,  -999.00,   0.001,2,    2.065,2,   8.209,2,   0.2543,2, -999.00,9,  -999.0,9,  -999.0,   9.042,2,   -0.37,2,-999.000,9,   40.31,2,   35.01,2, -67.0001,-169.0627,   0.006,      0.014,    34.8562,2,     -999.0,9,     -999.0,9,-999.0000,9,-999.0000,9,-999.0000,9,-999.0000,9,-999.0000,9,-999.0000,9,-999.0000,9,-999.0000,9,-999.0000,9,    0.001,   0.193,   0.0649,50003001005,     -999.0,9,     -999.0,9,     -999.0,9,      -2.84,2,       0.17,20110306,       0837
320620110219,       S04P,      30,          1,          4,          4,2,20110306,       0815,   -67.0001,  -169.0626,       3652,  3248.4,   0.2477,  34.6918,2,  34.6917,2,    218.4,2,   218.7,2,  122.77,2,   32.46,2,    0.00,2,    2.23,2,   0.805,2,   0.408,2,   0.058,2,   0.1440,2,  2260.8,2,  2357.8,2,   7.5975,2,    25.00,-999.000,9,-999.0000,9,-999.000,9,   0.2475,2, -999.00,9,  -999.0,9,  -999.0,-999.000,9, -999.00,9,-999.000,9,   40.55,2,   34.59,2, -67.0001,-169.0627,-999.000,     -999.0,    34.8553,2,     -999.0,9,     -999.0,9,-999.0000,9,-999.0000,9,-999.0000,9,-999.0000,9,-999.0000,9,-999.0000,9,-999.0000,9,-999.0000,9,-999.0000,9,-999.0000,-999.000,   0.0365,     -999.0,     -999.0,9,     -999.0,9,     -999.0,9,     -999.0,9,     -999.0,20110306,       0831
320620110219,       S04P,      30,          1,          3,          3,2,20110306,       0815,   -67.0001,  -169.0626,       3652,  3500.5,   0.2469,  34.6907,2,  34.6907,2,    219.6,2,   219.2,2,  121.76,2,   32.40,2,    0.00,2,    2.22,2,   0.859,2,   0.449,2,   0.058,2,   0.1790,2,  2259.8,2,  2357.2,2,   7.5965,6,    25.00,   0.002,2,    2.011,2,   8.576,2,   0.2468,2, -999.00,9,  -999.0,9,  -999.0,   8.882,2,   -0.18,2,-999.000,9,   40.25,2,   34.42,2, -67.0000,-169.0627,   0.006,      0.013,    34.8543,2,     -999.0,9,     -999.0,9,-999.0000,9,-999.0000,9,-999.0000,9,-999.0000,9,-999.0000,9,-999.0000,9,-999.0000,9,-999.0000,9,-999.0000,9,    0.001,   0.193,   0.0124,50003001003,     -999.0,9,     -999.0,9,     -999.0,9,      -2.71,2,       0.29,20110306,       0824
320620110219,       S04P,      30,          1,          2,          2,2,20110306,       0815,   -67.0001,  -169.0626,       3652,  3610.1,   0.2512,  34.6905,2,  34.6901,2,    219.7,2,   219.6,2,  122.21,2,   32.50,2,    0.00,2,    2.23,2,   0.574,2,   0.348,2,   0.040,2,   0.1730,2,  2261.6,2,  2357.3,6,   7.5966,2,    25.00,-999.000,9,-999.0000,9,-999.000,9,   0.2507,2, -999.00,9,  -999.0,9,  -999.0,-999.000,9, -999.00,9,-999.000,9,   40.18,2,   34.41,2, -67.0000,-169.0626,-999.000,     -999.0,    34.8537,2,     -999.0,9,     -999.0,9,-999.0000,9,-999.0000,9,-999.0000,9,-999.0000,9,-999.0000,9,-999.0000,9,-999.0000,9,-999.0000,9,-999.0000,9,-999.0000,-999.000,   0.0062,     -999.0,     -999.0,9,     -999.0,9,     -999.0,9,     -999.0,9,     -999.0,20110306,       0820
320620110219,       S04P,      30,          1,          1,          1,2,20110306,       0815,   -67.0001,  -169.0626,       3652,  3708.8,   0.2601,  34.6901,2,  34.6903,2,    219.1,2,   220.6,2,  121.76,2,   32.54,2,    0.00,2,    2.23,2,   0.879,2,   0.462,2,   0.057,2,   0.1800,2,  2260.8,6,  2356.7,2,   7.5932,2,    25.00,   0.002,2,    1.992,2,   8.527,2,   0.2602,2, -999.00,9,  -999.0,9,  -999.0,   8.747,2,   -0.35,2,-999.000,9,   40.42,2,   34.62,2, -67.0001,-169.0626,   0.006,      0.012,    34.8539,2,     -999.0,9,     -999.0,9,-999.0000,9,-999.0000,9,-999.0000,9,-999.0000,9,-999.0000,9,-999.0000,9,-999.0000,9,-999.0000,9,-999.0000,9,    0.000,   0.193,   0.0053,50003001001,     -999.0,9,     -999.0,9,     -999.0,9,      -3.04,2,       0.04,20110306,       0815