BOTTLE,20220813CCHSIOAMB
EXPOCODE,SECT_ID,STNNBR,CASTNO,SAMPNO,BTLNBR,BTLNBR_FLAG_W,DATE,TIME,LATITUDE,LONGITUDE,DEPTH,CTDPRS,CTDTMP,CTDSAL,CTDSAL_FLAG_W,SALNTY,SALNTY_FLAG_W,CTDOXY,CTDOXY_FLAG_W,OXYGEN,OXYGEN_FLAG_W,SILCAT,SILCAT_FLAG_W,NITRAT,NITRAT_FLAG_W,NITRIT,NITRIT_FLAG_W,PHSPHT,PHSPHT_FLAG_W,CFC-11,CFC-11_FLAG_W,CFC-12,CFC-12_FLAG_W,CFC113,CFC113_FLAG_W,SF6,SF6_FLAG_W,TCARBN,TCARBN_FLAG_W,ALKALI,ALKALI_FLAG_W,PH_TOT,PH_TOT_FLAG_W,PH_TMP,TRITUM,TRITUM_FLAG_W,HELIUM,HELIUM_FLAG_W,DELHE3,DELHE3_FLAG_W,REFTMP,REFTMP_FLAG_W,DELC13,DELC13_FLAG_W,DELC14,DELC14_FLAG_W,C14ERR,NEON,NEON_FLAG_W,DELO18,DELO18_FLAG_W,POC,POC_FLAG_W,DOC,DOC_FLAG_W,TDN,TDN_FLAG_W,BTL_LAT,BTL_LON,TRITER,NEONER,SALTREF,SALTREF_FLAG_W,PIGMENTS,PIGMENTS_FLAG_W,LAB_DEN,LAB_DEN_FLAG_W,CDOM325,CDOM325_FLAG_W,CDOM340,CDOM340_FLAG_W,CDOM380,CDOM380_FLAG_W,CDOM412,CDOM412_FLAG_W,CDOM443,CDOM443_FLAG_W,CDOM490,CDOM490_FLAG_W,CDOM555,CDOM555_FLAG_W,CDOMSL,CDOMSL_FLAG_W,CDOMSN,CDOMSN_FLAG_W,HELIER,DELHER,THETA,LDEO_SAMPNO,ABSORBTION,ABSORBTION_FLAG_W,IMAGE_COUNT,IMAGE_COUNT_FLAG_W,CYTO_COUNT,CYTO_COUNT_FLAG_W,DELD,DELD_FLAG_W,DELDERR,BTL_DATE,BTL_TIME
,,,,,,,,,,,METERS,DBAR,ITS-90,PSS-78,,PSS-78,,UMOL/KG,,UMOL/KG,,UMOL/KG,,UMOL/KG,,UMOL/KG,,UMOL/KG,,PMOL/KG,,PMOL/KG,,PMOL/KG,,FMOL/KG,,UMOL/KG,,UMOL/KG,,,,DEG C,TU,,NMOL/KG,,PERCNT,,DEG C,,/MILLE,,/MILLE,,/MILLE,NMOL/KG,,/MILLE,,UG/KG,,UMOL/KG,,UMOL/KG,,,,TU,NMOL/KG,G/KG,,,,,,1/M,,1/M,,1/M,,1/M,,1/M,,1/M,,1/M,,1/NM,,1/NM,,NMOL/KG,PERCNT,DEG C,,,,,,,,/MILLE,,/MILLE,,
320620110219,       S04P,      36,          1,         13,         13,2,20110308,       0338,   -67.0000,  -161.3837,       3563,  1500.3,   0.7127,  34.7094,2,  34.7102,2,    203.5,2,   203.5,2,  123.56,2,   32.50,2,    0.00,2,    2.24,2,   0.102,2,   0.045,2,   0.007,2,   0.0630,2,  2261.9,6,  2359.4,2,   7.5920,2,    25.00,   0.001,2,    2.109,2,  10.060,2,   0.7127,2, -999.00,9,  -999.0,9,  -999.0,   9.097,2, -999.00,9,-999.000,9,   40.11,2,   34.55,2, -66.9999,-161.3837,   0.004,      0.012,    34.8739,2,     -999.0,9,     -999.0,9,-999.0000,9,-999.0000,9,-999.0000,9,-999.0000,9,-999.0000,9,-999.0000,9,-999.0000,9,-999.0000,9,-999.0000,9,    0.000,   0.212,   0.6312,50003601013,     -999.0,9,     -999.0,9,     -999.0,9,     -999.0,9,     -999.0,20110308,       0426
320620110219,       S04P,      36,          1,         12,         12,2,20110308,       0338,   -67.0000,  -161.3837,       3563,  1599.7,   0.6781,  34.7081,2,  34.7083,2,    204.2,2,   204.4,2,  124.45,2,   32.48,2,    0.00,2,    2.24,2,-999.000,9,-999.000,9,-999.000,9,-999.0000,9,  -999.0,9,  -999.0,9,-999.0000,9,  -999.00,-999.000,9,-999.0000,9,-999.000,9,   0.6781,2, -999.00,9,  -999.0,9,  -999.0,-999.000,9, -999.00,9,-999.000,9,   40.25,2,   34.65,2, -66.9999,-161.3836,-999.000,     -999.0,    34.8719,2,     -999.0,9,     -999.0,9,-999.0000,9,-999.0000,9,-999.0000,9,-999.0000,9,-999.0000,9,-999.0000,9,-999.0000,9,-999.0000,9,-999.0000,9,-999.0000,-999.000,   0.5903,     -999.0,     -999.0,9,     -999.0,9,     -999.0,9,     -999.0,9,     -999.0,20110308,       0423
320620110219,       S04P,      36,          1,         11,         11,2,20110308,       0338,   -67.0000,  -161.3837,       3563,  1699.5,   0.6415,  34.7066,2,  34.7090,2,    205.1,2,   205.1,2,  124.82,2,   32.54,2,    0.00,2,    2.24,2,   0.129,2,   0.054,2,   0.007,2,   0.1170,2,  -999.0,9,  -999.0,9,-999.0000,9,  -999.00,   0.013,2,    2.150,4,   9.880,2,   0.6417,2, -999.00,9,  -999.0,9,  -999.0,   9.272,2, -999.00,9,-999.000,9,   40.05,2,   34.81,2, -67.0000,-161.3837,   0.005,      0.012,    34.8727,2,     -999.0,9,     -999.0,9,-999.0000,9,-999.0000,9,-999.0000,9,-999.0000,9,-999.0000,9,-999.0000,9,-999.0000,9,-999.0000,9,-999.0000,9,    0.000,   0.205,   0.5473,50003601011,     -999.0,9,     -999.0,9,     -999.0,9,     -999.0,9,     -999.0,20110308,       0421
320620110219,       S04P,      36,          1,         10,         37,2,20110308,       0338,   -67.0000,  -161.3837,       3563,  1799.0,   0.6026,  34.7060,2,  34.7073,2,    206.2,2,   205.9,2,  126.17,2,   32.62,2,    0.00,2,    2.24,2,-999.000,9,-999.000,9,-999.000,9,-999.0000,9,  2262.0,2,  2359.1,2,   7.5931,2,    25.00,-999.000,9,-999.0000,9,-999.000,9,   0.6030,2, -999.00,9,  -999.0,9,  -999.0,-999.000,9, -999.00,9,-999.000,9,   40.53,2,   34.82,2, -66.9999,-161.3836,-999.000,     -999.0,    34.8709,2,     -999.0,9,     -999.0,9,-999.0000,9,-999.0000,9,-999.0000,9,-999.0000,9,-999.0000,9,-999.0000,9,-999.0000,9,-999.0000,9,-999.0000,9,-999.0000,-999.000,   0.5019,     -999.0,     -999.0,9,     -999.0,9,     -999.0,9,     -999.0,9,     -999.0,20110308,       0418
320620110219,       S04P,      36,          1,          9,          9,2,20110308,       0338,   -67.0000,  -161.3837,       3563,  2000.3,   0.5294,  34.7043,2,  34.7045,2,    208.3,2,   208.0,2,  127.12,2,   32.58,2,    0.00,2,    2.24,2,   0.145,2,   0.065,2,   0.010,2,   0.0690,2,  -999.0,9,  -999.0,9,-999.0000,9,  -999.00,   0.002,2,    2.000,2,  10.180,2,   0.5294,2, -999.00,9,  -999.0,9,  -999.0,   8.686,2, -999.00,9,-999.000,9,   40.59,2,   34.79,2, -66.9999,-161.3836,   0.004,      0.015,    34.8682,2,     -999.0,9,     -999.0,9,-999.0000,9,-999.0000,9,-999.0000,9,-999.0000,9,-999.0000,9,-999.0000,9,-999.0000,9,-999.0000,9,-999.0000,9,    0.001,   0.208,   0.4153,50003601009,     -999.0,9,     -999.0,9,     -999.0,9,     -999.0,9,     -999.0,20110308,       0414
320620110219,       S04P,      36,          1,          8,          8,2,20110308,       0338,   -67.0000,  -161.3837,       3563,  2200.5,   0.4554,  34.7033,2,  34.7039,2,    210.3,2,   209.8,2,  128.54,2,   32.58,2,    0.00,2,    2.24,2,-999.000,9,-999.000,9,-999.000,9,-999.0000,9,  2261.6,2,  2359.3,2,   7.5905,2,    25.00,-999.000,9,-999.0000,9,-999.000,9,   0.4555,2, -999.00,9,  -999.0,9,  -999.0,-999.000,9, -999.00,9,-999.000,9,   41.01,2,   35.03,2, -66.9999,-161.3836,-999.000,     -999.0,    34.8676,2,     -999.0,9,     -999.0,9,-999.0000,9,-999.0000,9,-999.0000,9,-999.0000,9,-999.0000,9,-999.0000,9,-999.0000,9,-999.0000,9,-999.0000,9,-999.0000,-999.000,   0.3275,     -999.0,     -999.0,9,     -999.0,9,     -999.0,9,     -999.0,9,     -999.0,20110308,       0409
320620110219,       S04P,      36,          1,          7,          7,2,20110308,       0338,   -67.0000,  -161.3837,       3563,  2400.7,   0.3987,  34.7027,2,  34.7059,3,    211.9,2,   212.3,2,  129.53,2,   32.60,2,    0.00,2,    2.25,2,   0.176,2,   0.084,2,   0.014,2,   0.0610,2,  -999.0,9,  -999.0,9,-999.0000,9,  -999.00,   0.005,2,    2.044,2,   8.856,2,   0.3986,2, -999.00,9,  -999.0,9,  -999.0,   8.919,2, -999.00,9,-999.000,9,   40.61,2,   34.98,2, -66.9999,-161.3836,   0.005,      0.011,    34.8695,3,     -999.0,9,     -999.0,9,-999.0000,9,-999.0000,9,-999.0000,9,-999.0000,9,-999.0000,9,-999.0000,9,-999.0000,9,-999.0000,9,-999.0000,9,    0.000,   0.204,   0.2562,50003601007,     -999.0,9,     -999.0,9,     -999.0,9,     -999.0,9,     -999.0,20110308,       0405
320620110219,       S04P,      36,          1,          6,          6,2,20110308,       0338,   -67.0000,  -161.3837,       3563,  2600.8,   0.3468,  34.7020,2,  34.7021,2,    213.6,2,   212.6,2,  130.26,2,   32.55,2,    0.00,2,    2.24,2,-999.000,9,-999.000,9,-999.000,9,-999.0000,9,  -999.0,9,  -999.0,9,-999.0000,9,  -999.00,-999.000,9,-999.0000,9,-999.000,9,   0.3468,2, -999.00,9,  -999.0,9,  -999.0,-999.000,9, -999.00,9,-999.000,9,   40.74,2,   35.08,2, -66.9999,-161.3837,-999.000,     -999.0,    34.8658,2,     -999.0,9,     -999.0,9,-999.0000,9,-999.0000,9,-999.0000,9,-999.0000,9,-999.0000,9,-999.0000,9,-999.0000,9,-999.0000,9,-999.0000,9,-999.0000,-999.000,   0.1893,     -999.0,     -999.0,9,     -999.0,9,     -999.0,9,     -999.0,9,     -999.0,20110308,       0401
320620110219,       S04P,      36,          1,          5,          5,2,20110308,       0338,   -67.0000,  -161.3837,       3563,  2800.5,   0.3034,  34.7007,2,  34.7008,2,    215.0,2,   215.1,2,  130.57,2,   32.52,2,    0.00,2,    2.24,2,   0.283,2,   0.125,2,   0.024,2,   0.0690,2,  2262.7,2,  2359.9,2,   7.5934,2,    25.00,   0.001,2,    2.173,4,   8.056,2,   0.3034,2, -999.00,9,  -999.0,9,  -999.0,   9.468,2,   -0.20,2,-999.000,9,   40.30,2,   35.14,2, -66.9999,-161.3836,   0.005,      0.019,    34.8644,2,     -999.0,9,     -999.0,9,-999.0000,9,-999.0000,9,-999.0000,9,-999.0000,9,-999.0000,9,-999.0000,9,-999.0000,9,-999.0000,9,-999.0000,9,    0.001,   0.209,   0.1302,50003601005,     -999.0,9,     -999.0,9,     -999.0,9,      -2.56,2,       0.24,20110308,       0356
320620110219,       S04P,      36,          1,          4,          4,2,20110308,       0338,   -67.0000,  -161.3837,       3563,  2999.8,   0.2458,  34.6983,2,  34.6984,2,    217.5,2,   208.8,4,  129.48,2,   32.52,2,    0.00,2,    2.24,2,   0.476,2,   0.218,2,   0.035,2,   0.0910,2,  2261.0,2,  2359.2,2,   7.5927,2,    25.00,-999.000,9,-999.0000,9,-999.000,9,   0.2459,2, -999.00,9,  -999.0,9,  -999.0,-999.000,9, -999.00,9,-999.000,9,   40.06,2,   35.37,2, -66.9999,-161.3836,-999.000,     -999.0,    34.8620,2,     -999.0,9,     -999.0,9,-999.0000,9,-999.0000,9,-999.0000,9,-999.0000,9,-999.0000,9,-999.0000,9,-999.0000,9,-999.0000,9,-999.0000,9,-999.0000,-999.000,   0.0567,     -999.0,     -999.0,9,     -999.0,9,     -999.0,9,     -999.0,9,     -999.0,20110308,       0352
320620110219,       S04P,      36,          1,          3,          3,2,20110308,       0338,   -67.0000,  -161.3837,       3563,  3299.4,   0.1884,  34.6944,2,  34.6949,2,    220.8,2,   220.9,2,  125.33,2,   32.46,2,    0.00,2,    2.24,2,   0.779,2,   0.371,2,   0.054,2,   0.1400,2,  2258.2,2,  2355.6,6,   7.5916,2,    25.00,   0.001,2,    2.045,2,   8.113,2,   0.1880,2, -999.00,9,  -999.0,9,  -999.0,   8.923,2,   -0.18,2,-999.000,9,   40.35,2,   34.71,2, -66.9999,-161.3836,   0.005,      0.016,    34.8585,2,     -999.0,9,     -999.0,9,-999.0000,9,-999.0000,9,-999.0000,9,-999.0000,9,-999.0000,9,-999.0000,9,-999.0000,9,-999.0000,9,-999.0000,9,    0.001,   0.207,  -0.0260,50003601003,     -999.0,9,     -999.0,9,     -999.0,9,      -3.01,2,       0.12,20110308,       0345
320620110219,       S04P,      36,          1,          2,          2,2,20110308,       0338,   -67.0000,  -161.3837,       3563,  3501.7,   0.1799,  34.6932,2,  34.6943,2,    221.7,2,   220.9,2,  123.67,2,   32.40,2,    0.00,2,    2.24,2,   0.921,2,   0.443,2,   0.064,2,   0.2620,2,  2258.5,2,  2356.2,2,   7.5924,6,    25.00,-999.000,9,-999.0000,9,-999.000,9,   0.1795,2, -999.00,9,  -999.0,9,  -999.0,-999.000,9, -999.00,9,-999.000,9,   40.53,2,   34.78,2, -66.9999,-161.3836,-999.000,     -999.0,    34.8579,2,     -999.0,9,     -999.0,9,-999.0000,9,-999.0000,9,-999.0000,9,-999.0000,9,-999.0000,9,-999.0000,9,-999.0000,9,-999.0000,9,-999.0000,9,-999.0000,-999.000,  -0.0530,     -999.0,     -999.0,9,     -999.0,9,     -999.0,9,     -999.0,9,     -999.0,20110308,       0341
320620110219,       S04P,      36,          1,          1,          1,2,20110308,       0338,   -67.0000,  -161.3837,       3563,  3613.9,   0.1831,  34.6930,2,  34.6933,2,    221.5,2,   221.2,2,  123.09,2,   32.38,2,    0.00,2,    2.24,2,   0.904,2,   0.439,2,   0.067,2,   0.2510,2,  2259.9,6,  2353.7,4,   7.5907,2,    25.00,   0.015,2,    1.997,2,   8.529,2,   0.1829,2, -999.00,9,  -999.0,9,  -999.0,   8.728,2,   -0.19,2,-999.000,9,   40.34,2,   34.59,2, -67.0000,-161.3836,   0.005,      0.015,    34.8569,2,     -999.0,9,     -999.0,9,-999.0000,9,-999.0000,9,-999.0000,9,-999.0000,9,-999.0000,9,-999.0000,9,-999.0000,9,-999.0000,9,-999.0000,9,    0.001,   0.207,  -0.0605,50003601001,     -999.0,9,     -999.0,9,     -999.0,9,      -3.47,2,       0.44,20110308,       0338