BOTTLE,20220813CCHSIOAMB
EXPOCODE,SECT_ID,STNNBR,CASTNO,SAMPNO,BTLNBR,BTLNBR_FLAG_W,DATE,TIME,LATITUDE,LONGITUDE,DEPTH,CTDPRS,CTDTMP,CTDSAL,CTDSAL_FLAG_W,SALNTY,SALNTY_FLAG_W,CTDOXY,CTDOXY_FLAG_W,OXYGEN,OXYGEN_FLAG_W,SILCAT,SILCAT_FLAG_W,NITRAT,NITRAT_FLAG_W,NITRIT,NITRIT_FLAG_W,PHSPHT,PHSPHT_FLAG_W,CFC-11,CFC-11_FLAG_W,CFC-12,CFC-12_FLAG_W,CFC113,CFC113_FLAG_W,SF6,SF6_FLAG_W,TCARBN,TCARBN_FLAG_W,ALKALI,ALKALI_FLAG_W,PH_TOT,PH_TOT_FLAG_W,PH_TMP,TRITUM,TRITUM_FLAG_W,HELIUM,HELIUM_FLAG_W,DELHE3,DELHE3_FLAG_W,REFTMP,REFTMP_FLAG_W,DELC13,DELC13_FLAG_W,DELC14,DELC14_FLAG_W,C14ERR,NEON,NEON_FLAG_W,DELO18,DELO18_FLAG_W,POC,POC_FLAG_W,DOC,DOC_FLAG_W,TDN,TDN_FLAG_W,BTL_LAT,BTL_LON,TRITER,NEONER,SALTREF,SALTREF_FLAG_W,PIGMENTS,PIGMENTS_FLAG_W,LAB_DEN,LAB_DEN_FLAG_W,CDOM325,CDOM325_FLAG_W,CDOM340,CDOM340_FLAG_W,CDOM380,CDOM380_FLAG_W,CDOM412,CDOM412_FLAG_W,CDOM443,CDOM443_FLAG_W,CDOM490,CDOM490_FLAG_W,CDOM555,CDOM555_FLAG_W,CDOMSL,CDOMSL_FLAG_W,CDOMSN,CDOMSN_FLAG_W,HELIER,DELHER,THETA,LDEO_SAMPNO,ABSORBTION,ABSORBTION_FLAG_W,IMAGE_COUNT,IMAGE_COUNT_FLAG_W,CYTO_COUNT,CYTO_COUNT_FLAG_W,DELD,DELD_FLAG_W,DELDERR,BTL_DATE,BTL_TIME
,,,,,,,,,,,METERS,DBAR,ITS-90,PSS-78,,PSS-78,,UMOL/KG,,UMOL/KG,,UMOL/KG,,UMOL/KG,,UMOL/KG,,UMOL/KG,,PMOL/KG,,PMOL/KG,,PMOL/KG,,FMOL/KG,,UMOL/KG,,UMOL/KG,,,,DEG C,TU,,NMOL/KG,,PERCNT,,DEG C,,/MILLE,,/MILLE,,/MILLE,NMOL/KG,,/MILLE,,UG/KG,,UMOL/KG,,UMOL/KG,,,,TU,NMOL/KG,G/KG,,,,,,1/M,,1/M,,1/M,,1/M,,1/M,,1/M,,1/M,,1/NM,,1/NM,,NMOL/KG,PERCNT,DEG C,,,,,,,,/MILLE,,/MILLE,,
320620110219,       S04P,     135,          1,         13,         13,2,20110418,       1311,   -66.9991,   -73.8413,       3510,  1535.0,   1.1441,  34.7226,2,  34.7228,2,    196.5,2,   196.6,2,  108.74,2,   31.78,2,    0.00,2,    2.19,2,   0.100,2,   0.056,2,   0.006,2,   0.0080,2,  -999.0,9,  -999.0,9,-999.0000,9,  -999.00,   0.017,2,    2.016,2,   9.604,2,   1.1443,2, -999.00,9,  -999.0,9,  -999.0,   8.793,2, -999.00,9,-999.000,9, -999.00,9, -999.00,9, -66.9973, -73.8454,   0.004,      0.007,    34.8865,2,     -999.0,9,     -999.0,9,   0.0866,2,   0.0461,3,   0.0047,3,  -0.0044,4,  -0.0135,4,  -0.0110,4,  -0.0123,4,   0.0567,4,   0.0466,4,    0.000,   0.213,   1.0550,50013501013,     -999.0,9,     -999.0,9,     -999.0,9,     -999.0,9,     -999.0,20110418,       1356
320620110219,       S04P,     135,          1,         12,         12,2,20110418,       1311,   -66.9991,   -73.8413,       3510,  1635.3,   1.0835,  34.7207,2,  34.7210,2,    197.4,2,   197.7,2,  110.54,2,   31.84,2,    0.00,2,    2.19,2,-999.000,9,-999.000,9,-999.000,9,-999.0000,9,  2259.1,2,  2361.7,2,   7.5998,2,    25.00,-999.000,9,-999.0000,9,-999.000,9,   1.0833,2, -999.00,9,  -999.0,9,  -999.0,-999.000,9, -999.00,9,-999.000,9, -999.00,9, -999.00,9, -66.9974, -73.8450,-999.000,     -999.0,    34.8848,2,     -999.0,9,     -999.0,9,-999.0000,9,-999.0000,9,-999.0000,9,-999.0000,9,-999.0000,9,-999.0000,9,-999.0000,9,-999.0000,9,-999.0000,9,-999.0000,-999.000,   0.9880,     -999.0,     -999.0,9,     -999.0,9,     -999.0,9,     -999.0,9,     -999.0,20110418,       1353
320620110219,       S04P,     135,          1,         11,         11,2,20110418,       1311,   -66.9991,   -73.8413,       3510,  1735.7,   1.0218,  34.7186,2,  34.7187,2,    198.8,2,   198.6,2,  113.04,2,   31.91,2,    0.00,2,    2.20,2,   0.114,2,   0.057,2,   0.005,2,   0.0360,2,  -999.0,9,  -999.0,9,-999.0000,9,  -999.00,   0.021,2,    1.984,2,  10.298,2,   1.0221,2, -999.00,9,  -999.0,9,  -999.0,   8.714,2, -999.00,9,-999.000,9, -999.00,9, -999.00,9, -66.9974, -73.8447,   0.007,      0.007,    34.8824,2,     -999.0,9,     -999.0,9,-999.0000,9,-999.0000,9,-999.0000,9,-999.0000,9,-999.0000,9,-999.0000,9,-999.0000,9,-999.0000,9,-999.0000,9,    0.000,   0.204,   0.9199,50013501011,     -999.0,9,     -999.0,9,     -999.0,9,     -999.0,9,     -999.0,20110418,       1351
320620110219,       S04P,     135,          1,         10,         37,2,20110418,       1311,   -66.9991,   -73.8413,       3510,  1866.5,   0.9529,  34.7160,2,  34.7167,2,    199.8,2,   200.3,2,  115.12,2,   31.96,2,    0.00,2,    2.19,2,-999.000,9,-999.000,9,-999.000,9,-999.0000,9,  -999.0,9,  -999.0,9,-999.0000,9,  -999.00,-999.000,9,-999.0000,9,-999.000,9,   0.9530,2, -999.00,9,  -999.0,9,  -999.0,-999.000,9, -999.00,9,-999.000,9, -999.00,9, -999.00,9, -66.9976, -73.8444,-999.000,     -999.0,    34.8804,2,     -999.0,9,     -999.0,9,   0.0846,2,   0.0441,3,   0.0026,3,  -0.0052,4,  -0.0140,4,  -0.0115,4,  -0.0126,4,   0.0622,4,   0.0492,4,-999.0000,-999.000,   0.8423,     -999.0,     -999.0,9,     -999.0,9,     -999.0,9,     -999.0,9,     -999.0,20110418,       1348
320620110219,       S04P,     135,          1,          9,          9,2,20110418,       1311,   -66.9991,   -73.8413,       3510,  2064.4,   0.8505,  34.7129,2,  34.7126,2,    202.1,2,   202.2,2,  118.93,2,   32.09,2,    0.00,2,    2.20,2,-999.000,9,-999.000,9,-999.000,9,-999.0000,9,  -999.0,9,  -999.0,9,-999.0000,9,  -999.00,-999.000,9,-999.0000,9,-999.000,9,   0.8510,2, -999.00,9,  -999.0,9,  -999.0,-999.000,9, -999.00,9,-999.000,9, -999.00,9, -999.00,9, -66.9978, -73.8440,-999.000,     -999.0,    34.8763,2,     -999.0,9,     -999.0,9,-999.0000,9,-999.0000,9,-999.0000,9,-999.0000,9,-999.0000,9,-999.0000,9,-999.0000,9,-999.0000,9,-999.0000,9,-999.0000,-999.000,   0.7265,     -999.0,     -999.0,9,     -999.0,9,     -999.0,9,     -999.0,9,     -999.0,20110418,       1344
320620110219,       S04P,     135,          1,          8,          8,2,20110418,       1311,   -66.9991,   -73.8413,       3510,  2264.2,   0.7571,  34.7097,2,  34.7093,2,    204.0,2,   203.9,2,  121.13,2,   32.14,2,    0.00,2,    2.21,2,-999.000,9,-999.000,9,-999.000,9,-999.0000,9,  -999.0,9,  -999.0,9,-999.0000,9,  -999.00,-999.000,9,-999.0000,9,-999.000,9,   0.7571,2, -999.00,9,  -999.0,9,  -999.0,-999.000,9, -999.00,9,-999.000,9, -999.00,9, -999.00,9, -66.9979, -73.8434,-999.000,     -999.0,    34.8729,2,     -999.0,9,     -999.0,9,-999.0000,9,-999.0000,9,-999.0000,9,-999.0000,9,-999.0000,9,-999.0000,9,-999.0000,9,-999.0000,9,-999.0000,9,-999.0000,-999.000,   0.6190,     -999.0,     -999.0,9,     -999.0,9,     -999.0,9,     -999.0,9,     -999.0,20110418,       1340
320620110219,       S04P,     135,          1,          7,          7,2,20110418,       1311,   -66.9991,   -73.8413,       3510,  2463.4,   0.6672,  34.7075,2,  34.7073,2,    206.1,2,   206.2,2,  123.95,2,   32.14,2,    0.00,2,    2.21,2,-999.000,9,-999.000,9,-999.000,9,-999.0000,9,  2261.4,2,  2363.1,2,   7.5972,2,    25.00,-999.000,9,-999.0000,9,-999.000,9,   0.6674,2, -999.00,9,  -999.0,9,  -999.0,-999.000,9, -999.00,9,-999.000,9, -999.00,9, -999.00,9, -66.9980, -73.8427,-999.000,     -999.0,    34.8710,2,     -999.0,9,     -999.0,9,-999.0000,9,-999.0000,9,-999.0000,9,-999.0000,9,-999.0000,9,-999.0000,9,-999.0000,9,-999.0000,9,-999.0000,9,-999.0000,-999.000,   0.5147,     -999.0,     -999.0,9,     -999.0,9,     -999.0,9,     -999.0,9,     -999.0,20110418,       1335
320620110219,       S04P,     135,          1,          6,          6,2,20110418,       1311,   -66.9991,   -73.8413,       3510,  2662.4,   0.5857,  34.7055,2,  34.7059,2,    207.7,2,   207.7,2,  126.95,2,   32.18,2,    0.00,2,    2.22,2,-999.000,9,-999.000,9,-999.000,9,-999.0000,9,  -999.0,9,  -999.0,9,-999.0000,9,  -999.00,-999.000,9,-999.0000,9,-999.000,9,   0.5858,2, -999.00,9,  -999.0,9,  -999.0,-999.000,9, -999.00,9,-999.000,9, -999.00,9, -999.00,9, -66.9982, -73.8423,-999.000,     -999.0,    34.8696,2,     -999.0,9,     -999.0,9,   0.0821,2,   0.0424,3,   0.0031,3,  -0.0054,4,  -0.0142,4,  -0.0117,4,  -0.0126,4,   0.0631,4,   0.0493,4,-999.0000,-999.000,   0.4183,     -999.0,     -999.0,9,     -999.0,9,     -999.0,9,     -999.0,9,     -999.0,20110418,       1330
320620110219,       S04P,     135,          1,          5,          5,2,20110418,       1311,   -66.9991,   -73.8413,       3510,  2865.7,   0.5138,  34.7043,2,  34.7040,2,    209.2,2,   209.6,2,  129.62,2,   32.21,2,    0.00,2,    2.23,2,   0.171,2,   0.085,2,   0.009,2,   0.0140,2,  -999.0,9,  -999.0,9,-999.0000,9,  -999.00,   0.011,2,-999.0000,9,-999.000,9,   0.5139,2, -999.00,9,  -999.0,9,  -999.0,-999.000,9,   -0.14,2,-999.000,9, -999.00,9, -999.00,9, -66.9985, -73.8418,   0.006,     -999.0,    34.8676,2,     -999.0,9,     -999.0,9,-999.0000,9,-999.0000,9,-999.0000,9,-999.0000,9,-999.0000,9,-999.0000,9,-999.0000,9,-999.0000,9,-999.0000,9,-999.0000,-999.000,   0.3305,     -999.0,     -999.0,9,     -999.0,9,     -999.0,9,      -2.58,2,       0.05,20110418,       1326
320620110219,       S04P,     135,          1,          4,          4,2,20110418,       1311,   -66.9991,   -73.8413,       3510,  3100.6,   0.4623,  34.7033,2,  34.7036,2,    210.3,2,   210.0,2,  132.16,2,   32.27,2,    0.00,2,    2.24,2,-999.000,9,-999.000,9,-999.000,9,-999.0000,9,  -999.0,9,  -999.0,9,-999.0000,9,  -999.00,-999.000,9,-999.0000,9,-999.000,9,   0.4629,2, -999.00,9,  -999.0,9,  -999.0,-999.000,9, -999.00,9,-999.000,9, -999.00,9, -999.00,9, -66.9987, -73.8417,-999.000,     -999.0,    34.8672,2,     -999.0,9,     -999.0,9,-999.0000,9,-999.0000,9,-999.0000,9,-999.0000,9,-999.0000,9,-999.0000,9,-999.0000,9,-999.0000,9,-999.0000,9,-999.0000,-999.000,   0.2594,     -999.0,     -999.0,9,     -999.0,9,     -999.0,9,     -999.0,9,     -999.0,20110418,       1321
320620110219,       S04P,     135,          1,          3,          3,2,20110418,       1311,   -66.9991,   -73.8413,       3510,  3401.3,   0.4174,  34.7030,2,  34.7030,2,    211.5,2,   211.4,2,  135.44,2,   32.32,2,    0.00,2,    2.23,2,   0.180,2,   0.096,2,   0.009,2,   0.0540,2,  2263.1,2,  2365.3,6,   7.5985,2,    25.00,   0.004,2,    1.993,2,   8.426,2,   0.4176,2, -999.00,9,  -999.0,9,  -999.0,   8.744,2,   -0.11,2,-999.000,9, -999.00,9, -999.00,9, -66.9990, -73.8415,   0.005,      0.007,    34.8666,2,     -999.0,9,     -999.0,9,-999.0000,9,-999.0000,9,-999.0000,9,-999.0000,9,-999.0000,9,-999.0000,9,-999.0000,9,-999.0000,9,-999.0000,9,    0.000,   0.201,   0.1879,50013501003,     -999.0,9,     -999.0,9,     -999.0,9,      -2.18,2,       0.17,20110418,       1316
320620110219,       S04P,     135,          1,          2,          2,2,20110418,       1311,   -66.9991,   -73.8413,       3510,  3480.1,   0.4070,  34.7025,2,  34.7028,2,    211.6,2,   211.6,2,  136.68,2,   32.40,2,    0.00,2,    2.23,2,-999.000,9,-999.000,9,-999.000,9,-999.0000,9,  2263.9,2,  -999.0,9,   7.5970,6,    25.00,-999.000,9,-999.0000,9,-999.000,9,   0.4072,2, -999.00,9,  -999.0,9,  -999.0,-999.000,9, -999.00,9,-999.000,9, -999.00,9, -999.00,9, -66.9990, -73.8414,-999.000,     -999.0,    34.8664,2,     -999.0,9,     -999.0,9,-999.0000,9,-999.0000,9,-999.0000,9,-999.0000,9,-999.0000,9,-999.0000,9,-999.0000,9,-999.0000,9,-999.0000,9,-999.0000,-999.000,   0.1703,     -999.0,     -999.0,9,     -999.0,9,     -999.0,9,     -999.0,9,     -999.0,20110418,       1313
320620110219,       S04P,     135,          1,          1,          1,2,20110418,       1311,   -66.9991,   -73.8413,       3510,  3564.6,   0.3951,  34.7025,2,  34.7028,2,    211.1,2,   211.2,2,  139.24,2,   32.54,2,    0.00,2,    2.24,2,   0.272,2,   0.128,2,   0.012,2,   0.0860,2,  2264.7,6,  2366.0,2,   7.5965,2,    25.00,   0.001,2,    2.047,2,   9.213,2,   0.3956,2, -999.00,9,  -999.0,9,  -999.0,   8.951,2,   -0.20,2,-999.000,9, -999.00,9, -999.00,9, -66.9991, -73.8413,   0.006,      0.007,    34.8664,2,     -999.0,9,     -999.0,9,   0.0885,2,   0.0472,3,   0.0045,3,  -0.0025,4,  -0.0120,4,  -0.0104,4,  -0.0121,4,   0.0571,4,   0.0470,4,    0.001,   0.219,   0.1506,50013501001,     -999.0,9,     -999.0,9,     -999.0,9,      -2.75,2,       0.14,20110418,       1311