BOTTLE,20220813CCHSIOAMB
EXPOCODE,SECT_ID,STNNBR,CASTNO,SAMPNO,BTLNBR,BTLNBR_FLAG_W,DATE,TIME,LATITUDE,LONGITUDE,DEPTH,CTDPRS,CTDTMP,CTDSAL,CTDSAL_FLAG_W,SALNTY,SALNTY_FLAG_W,CTDOXY,CTDOXY_FLAG_W,OXYGEN,OXYGEN_FLAG_W,SILCAT,SILCAT_FLAG_W,NITRAT,NITRAT_FLAG_W,NITRIT,NITRIT_FLAG_W,PHSPHT,PHSPHT_FLAG_W,CFC-11,CFC-11_FLAG_W,CFC-12,CFC-12_FLAG_W,CFC113,CFC113_FLAG_W,SF6,SF6_FLAG_W,TCARBN,TCARBN_FLAG_W,ALKALI,ALKALI_FLAG_W,PH_TOT,PH_TOT_FLAG_W,PH_TMP,TRITUM,TRITUM_FLAG_W,HELIUM,HELIUM_FLAG_W,DELHE3,DELHE3_FLAG_W,REFTMP,REFTMP_FLAG_W,DELC13,DELC13_FLAG_W,DELC14,DELC14_FLAG_W,C14ERR,NEON,NEON_FLAG_W,DELO18,DELO18_FLAG_W,POC,POC_FLAG_W,DOC,DOC_FLAG_W,TDN,TDN_FLAG_W,BTL_LAT,BTL_LON,TRITER,NEONER,SALTREF,SALTREF_FLAG_W,PIGMENTS,PIGMENTS_FLAG_W,LAB_DEN,LAB_DEN_FLAG_W,CDOM325,CDOM325_FLAG_W,CDOM340,CDOM340_FLAG_W,CDOM380,CDOM380_FLAG_W,CDOM412,CDOM412_FLAG_W,CDOM443,CDOM443_FLAG_W,CDOM490,CDOM490_FLAG_W,CDOM555,CDOM555_FLAG_W,CDOMSL,CDOMSL_FLAG_W,CDOMSN,CDOMSN_FLAG_W,HELIER,DELHER,THETA,LDEO_SAMPNO,ABSORBTION,ABSORBTION_FLAG_W,IMAGE_COUNT,IMAGE_COUNT_FLAG_W,CYTO_COUNT,CYTO_COUNT_FLAG_W,DELD,DELD_FLAG_W,DELDERR,BTL_DATE,BTL_TIME
,,,,,,,,,,,METERS,DBAR,ITS-90,PSS-78,,PSS-78,,UMOL/KG,,UMOL/KG,,UMOL/KG,,UMOL/KG,,UMOL/KG,,UMOL/KG,,PMOL/KG,,PMOL/KG,,PMOL/KG,,FMOL/KG,,UMOL/KG,,UMOL/KG,,,,DEG C,TU,,NMOL/KG,,PERCNT,,DEG C,,/MILLE,,/MILLE,,/MILLE,NMOL/KG,,/MILLE,,UG/KG,,UMOL/KG,,UMOL/KG,,,,TU,NMOL/KG,G/KG,,,,,,1/M,,1/M,,1/M,,1/M,,1/M,,1/M,,1/M,,1/NM,,1/NM,,NMOL/KG,PERCNT,DEG C,,,,,,,,/MILLE,,/MILLE,,
320620110219,       S04P,     113,          1,         13,         13,2,20110407,       1719,   -67.0003,  -114.8278,       4742,  1864.4,   1.0897,  34.7214,2,  34.7208,2,    199.4,2,   199.1,2,  110.53,2,   31.99,2,    0.00,2,    2.20,2,-999.000,9,-999.000,9,-999.000,9,-999.0000,9,  -999.0,9,  -999.0,9,-999.0000,9,  -999.00,-999.000,9,-999.0000,9,-999.000,9,   1.0870,2, -999.00,9,  -999.0,9,  -999.0,-999.000,9, -999.00,9,-999.000,9,   39.82,2,   34.48,2, -66.9996,-114.8286,-999.000,     -999.0,    34.8845,2,     -999.0,9,     -999.0,9,   0.0853,2,   0.0442,3,   0.0024,3,  -0.0061,4,  -0.0146,4,  -0.0122,4,  -0.0129,4,   0.0564,3,   0.0493,3,-999.0000,-999.000,   0.9772,     -999.0,     -999.0,9,     -999.0,9,     -999.0,9,     -999.0,9,     -999.0,20110407,       1820
320620110219,       S04P,     113,          1,         12,         12,2,20110407,       1719,   -67.0003,  -114.8278,       4742,  2085.2,   0.9794,  34.7172,2,  34.7161,2,    201.4,2,   201.6,2,  114.75,2,   32.16,2,    0.00,2,    2.21,2,   0.146,2,   0.073,2,   0.007,2,   0.0590,2,  2260.7,2,  2360.8,6,   7.6008,2,    25.00,-999.000,9,-999.0000,9,-999.000,9,   0.9798,2, -999.00,9,  -999.0,9,  -999.0,-999.000,9, -999.00,9,-999.000,9,   39.93,2,   34.60,2, -66.9996,-114.8287,-999.000,     -999.0,    34.8798,2,     -999.0,9,     -999.0,9,-999.0000,9,-999.0000,9,-999.0000,9,-999.0000,9,-999.0000,9,-999.0000,9,-999.0000,9,-999.0000,9,-999.0000,9,-999.0000,-999.000,   0.8517,     -999.0,     -999.0,9,     -999.0,9,     -999.0,9,     -999.0,9,     -999.0,20110407,       1816
320620110219,       S04P,     113,          1,         11,         11,2,20110407,       1719,   -67.0003,  -114.8278,       4742,  2335.2,   0.8712,  34.7131,2,  34.7122,2,    203.5,2,   203.1,2,  118.58,2,   32.24,2,    0.00,2,    2.23,2,-999.000,9,-999.000,9,-999.000,9,-999.0000,9,  -999.0,9,  -999.0,9,-999.0000,9,  -999.00,-999.000,9,-999.0000,9,-999.000,9,   0.8729,2, -999.00,9,  -999.0,9,  -999.0,-999.000,9, -999.00,9,-999.000,9,   40.09,2,   34.56,2, -66.9996,-114.8286,-999.000,     -999.0,    34.8759,2,     -999.0,9,     -999.0,9,-999.0000,9,-999.0000,9,-999.0000,9,-999.0000,9,-999.0000,9,-999.0000,9,-999.0000,9,-999.0000,9,-999.0000,9,-999.0000,-999.000,   0.7254,     -999.0,     -999.0,9,     -999.0,9,     -999.0,9,     -999.0,9,     -999.0,20110407,       1811
320620110219,       S04P,     113,          1,         10,         37,2,20110407,       1719,   -67.0003,  -114.8278,       4742,  2585.4,   0.7727,  34.7093,2,  34.7081,2,    205.2,2,   205.2,2,  122.42,2,   32.44,2,    0.00,2,    2.23,2,-999.000,9,-999.000,9,-999.000,9,-999.0000,9,  2259.4,2,  2360.5,2,   7.6001,2,    25.00,-999.000,9,-999.0000,9,-999.000,9,   0.7724,2, -999.00,9,  -999.0,9,  -999.0,-999.000,9, -999.00,9,-999.000,9,   40.15,2,   35.23,2, -66.9996,-114.8286,-999.000,     -999.0,    34.8717,2,     -999.0,9,     -999.0,9,   0.0809,2,   0.0409,3,   0.0024,3,  -0.0080,4,  -0.0164,4,  -0.0132,4,  -0.0133,4,   0.0554,3,   0.0502,3,-999.0000,-999.000,   0.6081,     -999.0,     -999.0,9,     -999.0,9,     -999.0,9,     -999.0,9,     -999.0,20110407,       1806
320620110219,       S04P,     113,          1,          9,          9,2,20110407,       1719,   -67.0003,  -114.8278,       4742,  2834.1,   0.6805,  34.7065,2,  34.7057,2,    207.0,2,   207.8,2,  124.93,2,   32.43,2,    0.00,2,    2.24,2,-999.000,9,-999.000,9,-999.000,9,-999.0000,9,  -999.0,9,  -999.0,9,-999.0000,9,  -999.00,-999.000,9,-999.0000,9,-999.000,9,   0.6805,2, -999.00,9,  -999.0,9,  -999.0,-999.000,9, -999.00,9,-999.000,9,   40.25,2,   34.56,2, -66.9996,-114.8286,-999.000,     -999.0,    34.8693,2,     -999.0,9,     -999.0,9,-999.0000,9,-999.0000,9,-999.0000,9,-999.0000,9,-999.0000,9,-999.0000,9,-999.0000,9,-999.0000,9,-999.0000,9,-999.0000,-999.000,   0.4964,     -999.0,     -999.0,9,     -999.0,9,     -999.0,9,     -999.0,9,     -999.0,20110407,       1801
320620110219,       S04P,     113,          1,          8,          8,2,20110407,       1719,   -67.0003,  -114.8278,       4742,  3099.4,   0.5657,  34.7044,2,  34.7033,2,    209.5,2,   209.8,2,  126.67,2,   32.53,2,    0.00,2,    2.24,2,   0.262,2,   0.122,2,   0.010,2,   0.0810,2,  2260.0,2,  2360.6,2,   7.5932,4,    25.00,-999.000,9,-999.0000,9,-999.000,9,   0.5654,2, -999.00,9,  -999.0,9,  -999.0,-999.000,9, -999.00,9,-999.000,9,   39.92,2,   34.45,2, -66.9996,-114.8286,-999.000,     -999.0,    34.8670,2,     -999.0,9,     -999.0,9,-999.0000,9,-999.0000,9,-999.0000,9,-999.0000,9,-999.0000,9,-999.0000,9,-999.0000,9,-999.0000,9,-999.0000,9,-999.0000,-999.000,   0.3605,     -999.0,     -999.0,9,     -999.0,9,     -999.0,9,     -999.0,9,     -999.0,20110407,       1755
320620110219,       S04P,     113,          1,          7,          7,2,20110407,       1719,   -67.0003,  -114.8278,       4742,  3399.6,   0.4552,  34.7028,2,  34.7019,2,    211.9,2,   211.9,2,  129.57,2,   32.62,2,    0.00,2,    2.24,2,-999.000,9,-999.000,9,-999.000,9,-999.0000,9,  -999.0,9,  -999.0,9,-999.0000,9,  -999.00,-999.000,9,-999.0000,9,-999.000,9,   0.4556,2, -999.00,9,  -999.0,9,  -999.0,-999.000,9, -999.00,9,-999.000,9,   39.90,2,   34.78,2, -66.9996,-114.8286,-999.000,     -999.0,    34.8656,2,     -999.0,9,     -999.0,9,   0.0783,2,   0.0380,3,  -0.0012,4,  -0.0090,4,  -0.0168,4,  -0.0135,4,  -0.0135,4,   0.0708,4,   0.0551,4,-999.0000,-999.000,   0.2249,     -999.0,     -999.0,9,     -999.0,9,     -999.0,9,     -999.0,9,     -999.0,20110407,       1750
320620110219,       S04P,     113,          1,          6,          6,2,20110407,       1719,   -67.0003,  -114.8278,       4742,  3700.1,   0.3926,  34.7021,2,  34.7014,2,    213.8,2,   213.9,2,  132.61,2,   32.60,2,    0.00,2,    2.24,2,   0.333,2,   0.157,2,   0.011,2,   0.0730,2,  2260.6,2,  2361.6,2,   7.5957,2,    25.00,-999.000,9,-999.0000,9,-999.000,9,   0.3925,2, -999.00,9,  -999.0,9,  -999.0,-999.000,9, -999.00,9,-999.000,9,   39.97,2,   35.15,2, -66.9996,-114.8287,-999.000,     -999.0,    34.8650,2,     -999.0,9,     -999.0,9,-999.0000,9,-999.0000,9,-999.0000,9,-999.0000,9,-999.0000,9,-999.0000,9,-999.0000,9,-999.0000,9,-999.0000,9,-999.0000,-999.000,   0.1350,     -999.0,     -999.0,9,     -999.0,9,     -999.0,9,     -999.0,9,     -999.0,20110407,       1744
320620110219,       S04P,     113,          1,          5,          5,2,20110407,       1719,   -67.0003,  -114.8278,       4742,  3999.7,   0.3593,  34.7017,2,  34.7004,2,    214.7,2,   214.9,2,  134.67,2,   32.53,2,    0.00,2,    2.24,2,   0.383,2,   0.180,2,   0.012,2,   0.0740,2,  -999.0,9,  -999.0,9,-999.0000,9,  -999.00,-999.000,9,-999.0000,9,-999.000,9,   0.3594,2, -999.00,9,  -999.0,9,  -999.0,-999.000,9, -999.00,9,-999.000,9,   39.93,2,   35.03,2, -66.9997,-114.8285,-999.000,     -999.0,    34.8640,2,     -999.0,9,     -999.0,9,-999.0000,9,-999.0000,9,-999.0000,9,-999.0000,9,-999.0000,9,-999.0000,9,-999.0000,9,-999.0000,9,-999.0000,9,-999.0000,-999.000,   0.0727,     -999.0,     -999.0,9,     -999.0,9,     -999.0,9,     -999.0,9,     -999.0,20110407,       1738
320620110219,       S04P,     113,          1,          4,          4,2,20110407,       1719,   -67.0003,  -114.8278,       4742,  4300.2,   0.3574,  34.7010,2,  34.7000,2,    215.8,2,   215.2,2,  136.90,2,   32.58,2,    0.00,2,    2.24,2,   0.419,2,   0.188,2,   0.019,2,   0.0870,2,  2260.8,2,  2361.7,2,   7.5937,2,    25.00,-999.000,9,-999.0000,9,-999.000,9,   0.3575,2, -999.00,9,  -999.0,9,  -999.0,-999.000,9, -999.00,9,-999.000,9,   39.37,2,   35.08,2, -66.9998,-114.8284,-999.000,     -999.0,    34.8636,2,     -999.0,9,     -999.0,9,-999.0000,9,-999.0000,9,-999.0000,9,-999.0000,9,-999.0000,9,-999.0000,9,-999.0000,9,-999.0000,9,-999.0000,9,-999.0000,-999.000,   0.0395,     -999.0,     -999.0,9,     -999.0,9,     -999.0,9,     -999.0,9,     -999.0,20110407,       1732
320620110219,       S04P,     113,          1,          3,          3,2,20110407,       1719,   -67.0003,  -114.8278,       4742,  4599.7,   0.3658,  34.7005,2,  34.6994,2,    215.7,2,   215.8,2,  138.94,2,   32.69,2,    0.00,2,    2.25,2,   0.488,2,   0.232,2,   0.028,2,   0.1010,2,  2261.0,2,  2361.5,2,   7.5945,2,    25.00,-999.000,9,-999.0000,9,-999.000,9,   0.3655,2, -999.00,9,  -999.0,9,  -999.0,-999.000,9, -999.00,9,-999.000,9,   39.44,2,   35.33,2, -67.0002,-114.8280,-999.000,     -999.0,    34.8630,2,     -999.0,9,     -999.0,9,-999.0000,9,-999.0000,9,-999.0000,9,-999.0000,9,-999.0000,9,-999.0000,9,-999.0000,9,-999.0000,9,-999.0000,9,-999.0000,-999.000,   0.0152,     -999.0,     -999.0,9,     -999.0,9,     -999.0,9,     -999.0,9,     -999.0,20110407,       1725
320620110219,       S04P,     113,          1,          2,          2,2,20110407,       1719,   -67.0003,  -114.8278,       4742,  4770.4,   0.3733,  34.6999,2,  34.6990,2,    215.9,2,   215.6,2,  140.18,2,   32.75,2,    0.00,2,    2.25,2,   0.522,2,   0.246,2,   0.029,2,   0.1100,2,  2260.8,6,  2361.3,2,   7.5949,2,    25.00,-999.000,9,-999.0000,9,-999.000,9,   0.3730,2, -999.00,9,  -999.0,9,  -999.0,-999.000,9, -999.00,9,-999.000,9,   39.65,2,   35.43,2, -67.0003,-114.8278,-999.000,     -999.0,    34.8626,2,     -999.0,9,     -999.0,9,-999.0000,9,-999.0000,9,-999.0000,9,-999.0000,9,-999.0000,9,-999.0000,9,-999.0000,9,-999.0000,9,-999.0000,9,-999.0000,-999.000,   0.0035,     -999.0,     -999.0,9,     -999.0,9,     -999.0,9,     -999.0,9,     -999.0,20110407,       1722
320620110219,       S04P,     113,          1,          1,          1,2,20110407,       1719,   -67.0003,  -114.8278,       4742,  4830.8,   0.3796,  34.6998,2,  34.6988,2,    215.7,2,   216.1,2,  141.22,2,   32.64,2,    0.00,2,    2.25,2,   0.571,2,   0.265,2,   0.035,2,   0.1360,2,  2262.1,2,  2361.3,2,   7.5928,6,    25.00,-999.000,9,-999.0000,9,-999.000,9,   0.3792,2, -999.00,9,  -999.0,9,  -999.0,-999.000,9, -999.00,9,-999.000,9,   39.08,2,   35.38,2, -67.0003,-114.8278,-999.000,     -999.0,    34.8624,2,     -999.0,9,     -999.0,9,   0.0909,2,   0.0492,2,   0.0093,3,  -0.0003,4,  -0.0101,4,  -0.0101,4,  -0.0120,4,   0.0580,4,   0.0430,4,-999.0000,-999.000,   0.0027,     -999.0,     -999.0,9,     -999.0,9,     -999.0,9,     -999.0,9,     -999.0,20110407,       1719