BOTTLE,20220813CCHSIOAMB
EXPOCODE,SECT_ID,STNNBR,CASTNO,SAMPNO,BTLNBR,BTLNBR_FLAG_W,DATE,TIME,LATITUDE,LONGITUDE,DEPTH,CTDPRS,CTDTMP,CTDSAL,CTDSAL_FLAG_W,SALNTY,SALNTY_FLAG_W,CTDOXY,CTDOXY_FLAG_W,OXYGEN,OXYGEN_FLAG_W,SILCAT,SILCAT_FLAG_W,NITRAT,NITRAT_FLAG_W,NITRIT,NITRIT_FLAG_W,PHSPHT,PHSPHT_FLAG_W,CFC-11,CFC-11_FLAG_W,CFC-12,CFC-12_FLAG_W,CFC113,CFC113_FLAG_W,SF6,SF6_FLAG_W,TCARBN,TCARBN_FLAG_W,ALKALI,ALKALI_FLAG_W,PH_TOT,PH_TOT_FLAG_W,PH_TMP,TRITUM,TRITUM_FLAG_W,HELIUM,HELIUM_FLAG_W,DELHE3,DELHE3_FLAG_W,REFTMP,REFTMP_FLAG_W,DELC13,DELC13_FLAG_W,DELC14,DELC14_FLAG_W,C14ERR,NEON,NEON_FLAG_W,DELO18,DELO18_FLAG_W,POC,POC_FLAG_W,DOC,DOC_FLAG_W,TDN,TDN_FLAG_W,BTL_LAT,BTL_LON,TRITER,NEONER,SALTREF,SALTREF_FLAG_W,PIGMENTS,PIGMENTS_FLAG_W,LAB_DEN,LAB_DEN_FLAG_W,CDOM325,CDOM325_FLAG_W,CDOM340,CDOM340_FLAG_W,CDOM380,CDOM380_FLAG_W,CDOM412,CDOM412_FLAG_W,CDOM443,CDOM443_FLAG_W,CDOM490,CDOM490_FLAG_W,CDOM555,CDOM555_FLAG_W,CDOMSL,CDOMSL_FLAG_W,CDOMSN,CDOMSN_FLAG_W,HELIER,DELHER,THETA,LDEO_SAMPNO,ABSORBTION,ABSORBTION_FLAG_W,IMAGE_COUNT,IMAGE_COUNT_FLAG_W,CYTO_COUNT,CYTO_COUNT_FLAG_W,DELD,DELD_FLAG_W,DELDERR,BTL_DATE,BTL_TIME
,,,,,,,,,,,METERS,DBAR,ITS-90,PSS-78,,PSS-78,,UMOL/KG,,UMOL/KG,,UMOL/KG,,UMOL/KG,,UMOL/KG,,UMOL/KG,,PMOL/KG,,PMOL/KG,,PMOL/KG,,FMOL/KG,,UMOL/KG,,UMOL/KG,,,,DEG C,TU,,NMOL/KG,,PERCNT,,DEG C,,/MILLE,,/MILLE,,/MILLE,NMOL/KG,,/MILLE,,UG/KG,,UMOL/KG,,UMOL/KG,,,,TU,NMOL/KG,G/KG,,,,,,1/M,,1/M,,1/M,,1/M,,1/M,,1/M,,1/M,,1/NM,,1/NM,,NMOL/KG,PERCNT,DEG C,,,,,,,,/MILLE,,/MILLE,,
320620110219,       S04P,      28,          1,         36,         36,2,20110305,       1804,   -67.0004,  -171.6196,       3591,     4.5,  -0.6471,  33.7570,2,  33.7563,2,    334.5,3,   339.6,2,   58.27,2,   26.41,2,    0.16,2,    1.75,2,   5.723,2,   3.198,2,   0.550,2,-999.0000,9,  2164.8,6,  2284.7,2,   7.6729,2,    25.00,-999.000,9,-999.0000,9,-999.000,9,  -0.6472,2, -999.00,9,  -999.0,9,  -999.0,-999.000,9, -999.00,9,-999.000,9,   43.84,2,   31.37,2, -67.0004,-171.6196,-999.000,     -999.0,    33.9154,2,     -999.0,9,     -999.0,9,-999.0000,9,-999.0000,9,-999.0000,9,-999.0000,9,-999.0000,9,-999.0000,9,-999.0000,9,-999.0000,9,-999.0000,9,-999.0000,-999.000,  -0.6472,     -999.0,     -999.0,9,     -999.0,1,     -999.0,1,     -999.0,9,     -999.0,20110305,       1957
320620110219,       S04P,      28,          1,         35,         35,2,20110305,       1804,   -67.0004,  -171.6196,       3591,    35.3,  -0.6436,  33.7592,2,  33.7582,2,    339.2,2,   339.2,2,   58.24,2,   26.37,2,    0.16,2,    1.77,2,   5.736,2,   3.193,2,   0.556,2,-999.0000,9,  2164.8,2,  2284.4,6,   7.6721,2,    25.00,-999.000,9,-999.0000,9,-999.000,9,  -0.6436,2, -999.00,9,  -999.0,9,  -999.0,-999.000,9, -999.00,9,-999.000,9,   43.79,2,   31.12,2, -67.0004,-171.6196,-999.000,     -999.0,    33.9174,2,     -999.0,1,     -999.0,9,-999.0000,9,-999.0000,9,-999.0000,9,-999.0000,9,-999.0000,9,-999.0000,9,-999.0000,9,-999.0000,9,-999.0000,9,-999.0000,-999.000,  -0.6446,     -999.0,     -999.0,9,     -999.0,1,     -999.0,1,     -999.0,9,     -999.0,20110305,       1955
320620110219,       S04P,      28,          1,         34,         34,2,20110305,       1804,   -67.0004,  -171.6196,       3591,    60.8,  -1.3290,  34.0094,3,  34.0623,2,    339.5,2,   296.5,2,   64.82,2,   29.08,2,    0.16,2,    1.98,2,   4.349,2,   2.418,2,   0.412,2,-999.0000,9,  2196.9,2,  2302.5,2,   7.6309,6,    25.00,-999.000,9,-999.0000,9,-999.000,9,  -1.3775,3, -999.00,9,  -999.0,9,  -999.0,-999.000,9, -999.00,9,-999.000,9,   43.07,2,   34.03,2, -67.0004,-171.6196,-999.000,     -999.0,    34.2229,2,     -999.0,1,     -999.0,9,-999.0000,9,-999.0000,9,-999.0000,9,-999.0000,9,-999.0000,9,-999.0000,9,-999.0000,9,-999.0000,9,-999.0000,9,-999.0000,-999.000,  -1.3304,     -999.0,     -999.0,9,     -999.0,1,     -999.0,1,     -999.0,9,     -999.0,20110305,       1953
320620110219,       S04P,      28,          1,         33,         33,2,20110305,       1804,   -67.0004,  -171.6196,       3591,    83.7,  -1.4294,  34.2441,2,  34.2432,2,    275.5,2,   274.4,2,   69.52,2,   30.72,2,    0.12,2,    2.08,2,   3.782,2,   2.101,2,   0.363,2,-999.0000,9,  2213.0,2,  2312.7,2,   7.6031,2,    25.00,-999.000,9,-999.0000,9,-999.000,9,  -1.4243,2, -999.00,9,  -999.0,9,  -999.0,-999.000,9, -999.00,9,-999.000,9,   43.10,2,   34.54,2, -67.0004,-171.6196,-999.000,     -999.0,    34.4046,2,     -999.0,1,     -999.0,9,-999.0000,9,-999.0000,9,-999.0000,9,-999.0000,9,-999.0000,9,-999.0000,9,-999.0000,9,-999.0000,9,-999.0000,9,-999.0000,-999.000,  -1.4313,     -999.0,     -999.0,9,     -999.0,1,     -999.0,1,     -999.0,9,     -999.0,20110305,       1952
320620110219,       S04P,      28,          1,         32,         32,2,20110305,       1804,   -67.0004,  -171.6196,       3591,   111.3,   0.4971,  34.5311,3,  34.5075,2,    231.7,2,   217.1,2,   81.41,2,   32.60,2,    0.02,2,    2.20,2,   1.947,2,   1.066,2,   0.179,2,-999.0000,9,  2241.5,2,  2328.8,2,   7.5714,2,    25.00,-999.000,9,-999.0000,9,-999.000,9,   0.5119,2, -999.00,9,  -999.0,9,  -999.0,-999.000,9, -999.00,9,-999.000,9,   42.86,2,   35.18,2, -67.0004,-171.6196,-999.000,     -999.0,    34.6702,2,     -999.0,9,     -999.0,9,-999.0000,9,-999.0000,9,-999.0000,9,-999.0000,9,-999.0000,9,-999.0000,9,-999.0000,9,-999.0000,9,-999.0000,9,-999.0000,-999.000,   0.4926,     -999.0,     -999.0,9,     -999.0,9,     -999.0,9,     -999.0,9,     -999.0,20110305,       1950
320620110219,       S04P,      28,          1,         31,         31,2,20110305,       1804,   -67.0004,  -171.6196,       3591,   136.2,   0.9642,  34.6115,2,  34.6085,2,    203.0,2,   199.9,2,   85.68,2,   32.75,2,    0.01,2,    2.22,2,-999.000,9,-999.000,9,-999.000,9,-999.0000,9,  2248.0,2,  2336.4,2,   7.5630,2,    25.00,-999.000,9,-999.0000,9,-999.000,9,   0.9650,2, -999.00,9,  -999.0,9,  -999.0,-999.000,9, -999.00,9,-999.000,9,   42.23,2,   35.36,2, -67.0004,-171.6196,-999.000,     -999.0,    34.7717,2,     -999.0,9,     -999.0,9,-999.0000,9,-999.0000,9,-999.0000,9,-999.0000,9,-999.0000,9,-999.0000,9,-999.0000,9,-999.0000,9,-999.0000,9,-999.0000,-999.000,   0.9581,     -999.0,     -999.0,9,     -999.0,9,     -999.0,9,     -999.0,9,     -999.0,20110305,       1949
320620110219,       S04P,      28,          1,         30,         30,2,20110305,       1804,   -67.0004,  -171.6196,       3591,   165.7,   1.2863,  34.6665,2,  34.6638,2,    193.6,2,   192.9,2,   88.28,2,   32.73,2,    0.01,2,    2.21,2,   0.869,2,   0.462,2,   0.072,2,-999.0000,9,  2251.5,2,  2341.4,2,   7.5683,2,    25.00,-999.000,9,-999.0000,9,-999.000,9,   1.2850,2, -999.00,9,  -999.0,9,  -999.0,-999.000,9, -999.00,9,-999.000,9,   41.56,2,   35.70,2, -67.0004,-171.6196,-999.000,     -999.0,    34.8273,2,     -999.0,9,     -999.0,9,-999.0000,9,-999.0000,9,-999.0000,9,-999.0000,9,-999.0000,9,-999.0000,9,-999.0000,9,-999.0000,9,-999.0000,9,-999.0000,-999.000,   1.2784,     -999.0,     -999.0,9,     -999.0,9,     -999.0,9,     -999.0,9,     -999.0,20110305,       1947
320620110219,       S04P,      28,          1,         29,         29,2,20110305,       1804,   -67.0004,  -171.6196,       3591,   215.2,   1.3919,  34.6948,2,  34.6929,2,    190.7,2,   191.2,2,   90.46,2,   32.31,2,    0.00,2,    2.20,2,-999.000,9,-999.000,9,-999.000,9,-999.0000,9,  2252.8,2,  2344.0,2,   7.5747,2,    25.00,-999.000,9,-999.0000,9,-999.000,9,   1.3923,2, -999.00,9,  -999.0,9,  -999.0,-999.000,9, -999.00,9,-999.000,9,   41.53,2,   35.74,2, -67.0004,-171.6196,-999.000,     -999.0,    34.8565,2,     -999.0,9,     -999.0,9,-999.0000,9,-999.0000,9,-999.0000,9,-999.0000,9,-999.0000,9,-999.0000,9,-999.0000,9,-999.0000,9,-999.0000,9,-999.0000,-999.000,   1.3814,     -999.0,     -999.0,9,     -999.0,9,     -999.0,9,     -999.0,9,     -999.0,20110305,       1945
320620110219,       S04P,      28,          1,         28,         28,2,20110305,       1804,   -67.0004,  -171.6196,       3591,   264.2,   1.4055,  34.7076,2,  34.7067,2,    192.0,2,   192.5,2,   91.82,2,   31.96,2,    0.00,2,    2.17,2,   0.552,2,   0.289,2,   0.039,2,-999.0000,9,  2252.3,2,  2344.7,2,   7.5806,2,    25.00,-999.000,9,-999.0000,9,-999.000,9,   1.4065,2, -999.00,9,  -999.0,9,  -999.0,-999.000,9, -999.00,9,-999.000,9,   41.04,2,   34.52,2, -67.0004,-171.6196,-999.000,     -999.0,    34.8703,2,     -999.0,9,     -999.0,9,-999.0000,9,-999.0000,9,-999.0000,9,-999.0000,9,-999.0000,9,-999.0000,9,-999.0000,9,-999.0000,9,-999.0000,9,-999.0000,-999.000,   1.3924,     -999.0,     -999.0,9,     -999.0,9,     -999.0,9,     -999.0,9,     -999.0,20110305,       1943
320620110219,       S04P,      28,          1,         27,         27,2,20110305,       1804,   -67.0004,  -171.6196,       3591,   313.2,   1.4000,  34.7144,2,  34.7135,2,    192.4,2,   192.6,2,   93.40,2,   31.90,2,    0.00,2,    2.18,2,-999.000,9,-999.000,9,-999.000,9,-999.0000,9,  2251.8,2,  2348.9,2,   7.5880,2,    25.00,-999.000,9,-999.0000,9,-999.000,9,   1.3995,2, -999.00,9,  -999.0,9,  -999.0,-999.000,9, -999.00,9,-999.000,9,   40.72,2,   34.73,2, -67.0004,-171.6196,-999.000,     -999.0,    34.8772,2,     -999.0,9,     -999.0,9,-999.0000,9,-999.0000,9,-999.0000,9,-999.0000,9,-999.0000,9,-999.0000,9,-999.0000,9,-999.0000,9,-999.0000,9,-999.0000,-999.000,   1.3844,     -999.0,     -999.0,9,     -999.0,9,     -999.0,9,     -999.0,9,     -999.0,20110305,       1941
320620110219,       S04P,      28,          1,         26,         26,2,20110305,       1804,   -67.0004,  -171.6196,       3591,   366.1,   1.3708,  34.7194,2,  34.7191,2,    193.5,2,   194.2,2,   94.85,2,   31.75,2,    0.00,2,    2.17,2,   0.454,2,   0.227,2,   0.035,2,-999.0000,9,  2252.9,2,  2347.7,2,   7.5875,2,    25.00,-999.000,9,-999.0000,9,-999.000,9,   1.3707,2, -999.00,9,  -999.0,9,  -999.0,-999.000,9, -999.00,9,-999.000,9,   40.87,2,   34.60,2, -67.0004,-171.6196,-999.000,     -999.0,    34.8828,2,     -999.0,9,     -999.0,9,-999.0000,9,-999.0000,9,-999.0000,9,-999.0000,9,-999.0000,9,-999.0000,9,-999.0000,9,-999.0000,9,-999.0000,9,-999.0000,-999.000,   1.3525,     -999.0,     -999.0,9,     -999.0,9,     -999.0,9,     -999.0,9,     -999.0,20110305,       1939
320620110219,       S04P,      28,          1,         25,         25,2,20110305,       1804,   -67.0004,  -171.6196,       3591,   414.9,   1.3473,  34.7227,2,  34.7220,2,    193.8,2,   194.4,2,   96.55,2,   31.74,2,    0.00,2,    2.17,2,-999.000,9,-999.000,9,-999.000,9,-999.0000,9,  2253.4,2,  2349.2,2,   7.5894,2,    25.00,-999.000,9,-999.0000,9,-999.000,9,   1.3473,2, -999.00,9,  -999.0,9,  -999.0,-999.000,9, -999.00,9,-999.000,9,   40.78,2,   34.16,2, -67.0004,-171.6196,-999.000,     -999.0,    34.8857,2,     -999.0,9,     -999.0,9,-999.0000,9,-999.0000,9,-999.0000,9,-999.0000,9,-999.0000,9,-999.0000,9,-999.0000,9,-999.0000,9,-999.0000,9,-999.0000,-999.000,   1.3265,     -999.0,     -999.0,9,     -999.0,9,     -999.0,9,     -999.0,9,     -999.0,20110305,       1937
320620110219,       S04P,      28,          1,         24,         24,2,20110305,       1804,   -67.0004,  -171.6196,       3591,   466.5,   1.3043,  34.7229,2,  34.7216,2,    194.5,2,   195.4,2,   97.83,2,   31.73,2,    0.00,2,    2.16,2,   0.392,2,   0.196,2,   0.027,2,-999.0000,9,  2252.7,2,  2350.3,2,   7.5907,2,    25.00,-999.000,9,-999.0000,9,-999.000,9,   1.3040,2, -999.00,9,  -999.0,9,  -999.0,-999.000,9, -999.00,9,-999.000,9,   40.67,2,   34.01,2, -67.0004,-171.6196,-999.000,     -999.0,    34.8854,2,     -999.0,9,     -999.0,9,-999.0000,9,-999.0000,9,-999.0000,9,-999.0000,9,-999.0000,9,-999.0000,9,-999.0000,9,-999.0000,9,-999.0000,9,-999.0000,-999.000,   1.2808,     -999.0,     -999.0,9,     -999.0,9,     -999.0,9,     -999.0,9,     -999.0,20110305,       1935
320620110219,       S04P,      28,          1,         23,         23,2,20110305,       1804,   -67.0004,  -171.6196,       3591,   535.5,   1.2636,  34.7241,2,  34.7240,2,    196.2,2,   195.9,2,   99.92,2,   31.84,2,    0.00,2,    2.16,2,-999.000,9,-999.000,9,-999.000,9,-999.0000,9,  2255.6,2,  2351.3,2,   7.5931,6,    25.00,-999.000,9,-999.0000,9,-999.000,9,   1.2634,2, -999.00,9,  -999.0,9,  -999.0,-999.000,9, -999.00,9,-999.000,9,   40.51,2,   34.47,2, -67.0004,-171.6196,-999.000,     -999.0,    34.8877,2,     -999.0,9,     -999.0,9,-999.0000,9,-999.0000,9,-999.0000,9,-999.0000,9,-999.0000,9,-999.0000,9,-999.0000,9,-999.0000,9,-999.0000,9,-999.0000,-999.000,   1.2365,     -999.0,     -999.0,9,     -999.0,9,     -999.0,9,     -999.0,9,     -999.0,20110305,       1932
320620110219,       S04P,      28,          1,         22,         22,2,20110305,       1804,   -67.0004,  -171.6196,       3591,   634.9,   1.2091,  34.7246,2,  34.7242,2,    196.8,2,   196.8,2,  102.51,2,   31.83,2,    0.00,2,    2.17,2,   0.282,2,   0.141,2,   0.015,2,-999.0000,9,  -999.0,9,  -999.0,9,-999.0000,9,  -999.00,-999.000,9,-999.0000,9,-999.000,9,   1.2090,2, -999.00,9,  -999.0,9,  -999.0,-999.000,9, -999.00,9,-999.000,9,   41.02,2,   34.63,2, -67.0004,-171.6196,-999.000,     -999.0,    34.8879,2,     -999.0,9,     -999.0,9,-999.0000,9,-999.0000,9,-999.0000,9,-999.0000,9,-999.0000,9,-999.0000,9,-999.0000,9,-999.0000,9,-999.0000,9,-999.0000,-999.000,   1.1767,     -999.0,     -999.0,9,     -999.0,9,     -999.0,9,     -999.0,9,     -999.0,20110305,       1929
320620110219,       S04P,      28,          1,         21,         21,2,20110305,       1804,   -67.0004,  -171.6196,       3591,   735.4,   1.1489,  34.7237,2,  34.7232,2,    197.8,2,   197.3,2,  105.05,2,   31.88,2,    0.00,2,    2.18,2,-999.000,9,-999.000,9,-999.000,9,-999.0000,9,  2256.6,6,  2353.8,2,   7.5950,2,    25.00,-999.000,9,-999.0000,9,-999.000,9,   1.1489,2, -999.00,9,  -999.0,9,  -999.0,-999.000,9, -999.00,9,-999.000,9,   40.85,2,   34.71,2, -67.0004,-171.6195,-999.000,     -999.0,    34.8870,2,     -999.0,9,     -999.0,9,-999.0000,9,-999.0000,9,-999.0000,9,-999.0000,9,-999.0000,9,-999.0000,9,-999.0000,9,-999.0000,9,-999.0000,9,-999.0000,-999.000,   1.1111,     -999.0,     -999.0,9,     -999.0,9,     -999.0,9,     -999.0,9,     -999.0,20110305,       1926
320620110219,       S04P,      28,          1,         20,         20,2,20110305,       1804,   -67.0004,  -171.6196,       3591,   836.2,   1.0766,  34.7215,2,  34.7215,2,    199.5,2,   200.0,2,  107.22,2,   31.85,2,    0.00,2,    2.17,2,   0.233,2,   0.118,2,   0.014,2,-999.0000,9,  -999.0,9,  -999.0,9,-999.0000,9,  -999.00,-999.000,9,-999.0000,9,-999.000,9,   1.0768,2, -999.00,9,  -999.0,9,  -999.0,-999.000,9, -999.00,9,-999.000,9,   40.67,2,   34.62,2, -67.0004,-171.6196,-999.000,     -999.0,    34.8852,2,     -999.0,9,     -999.0,9,-999.0000,9,-999.0000,9,-999.0000,9,-999.0000,9,-999.0000,9,-999.0000,9,-999.0000,9,-999.0000,9,-999.0000,9,-999.0000,-999.000,   1.0334,     -999.0,     -999.0,9,     -999.0,9,     -999.0,9,     -999.0,9,     -999.0,20110305,       1923
320620110219,       S04P,      28,          1,         19,         19,2,20110305,       1804,   -67.0004,  -171.6196,       3591,   932.0,   1.0188,  34.7199,2,  34.7195,2,    200.5,2,   200.5,2,  109.06,2,   31.82,2,    0.00,2,    2.18,2,-999.000,9,-999.000,9,-999.000,9,-999.0000,9,  2257.2,2,  2356.1,6,   7.5994,2,    25.00,-999.000,9,-999.0000,9,-999.000,9,   1.0193,2, -999.00,9,  -999.0,9,  -999.0,-999.000,9, -999.00,9,-999.000,9,   40.69,2,   34.56,2, -67.0004,-171.6196,-999.000,     -999.0,    34.8832,2,     -999.0,9,     -999.0,9,-999.0000,9,-999.0000,9,-999.0000,9,-999.0000,9,-999.0000,9,-999.0000,9,-999.0000,9,-999.0000,9,-999.0000,9,-999.0000,-999.000,   0.9703,     -999.0,     -999.0,9,     -999.0,9,     -999.0,9,     -999.0,9,     -999.0,20110305,       1920
320620110219,       S04P,      28,          1,         18,         18,2,20110305,       1804,   -67.0004,  -171.6196,       3591,  1036.1,   0.9494,  34.7170,2,  34.7174,2,    201.7,2,   201.5,2,  111.76,2,   31.80,2,    0.00,2,    2.18,2,   0.208,2,   0.109,2,   0.010,2,-999.0000,9,  -999.0,9,  -999.0,9,-999.0000,9,  -999.00,-999.000,9,-999.0000,9,-999.000,9,   0.9485,2, -999.00,9,  -999.0,9,  -999.0,-999.000,9, -999.00,9,-999.000,9,   40.21,2,   34.70,2, -67.0004,-171.6196,-999.000,     -999.0,    34.8811,2,     -999.0,9,     -999.0,9,-999.0000,9,-999.0000,9,-999.0000,9,-999.0000,9,-999.0000,9,-999.0000,9,-999.0000,9,-999.0000,9,-999.0000,9,-999.0000,-999.000,   0.8952,     -999.0,     -999.0,9,     -999.0,9,     -999.0,9,     -999.0,9,     -999.0,20110305,       1917
320620110219,       S04P,      28,          1,         17,         17,2,20110305,       1804,   -67.0004,  -171.6196,       3591,  1135.0,   0.8852,  34.7146,2,  34.7144,2,    202.8,2,   202.6,2,  113.92,2,   31.85,2,    0.00,2,    2.18,2,-999.000,9,-999.000,9,-999.000,9,-999.0000,9,  2256.9,2,  2357.3,2,   7.5982,2,    25.00,-999.000,9,-999.0000,9,-999.000,9,   0.8854,2, -999.00,9,  -999.0,9,  -999.0,-999.000,9, -999.00,9,-999.000,9,   40.23,2,   34.03,2, -67.0004,-171.6196,-999.000,     -999.0,    34.8781,2,     -999.0,9,     -999.0,9,-999.0000,9,-999.0000,9,-999.0000,9,-999.0000,9,-999.0000,9,-999.0000,9,-999.0000,9,-999.0000,9,-999.0000,9,-999.0000,-999.000,   0.8255,     -999.0,     -999.0,9,     -999.0,9,     -999.0,9,     -999.0,9,     -999.0,20110305,       1914
320620110219,       S04P,      28,          1,         16,         16,2,20110305,       1804,   -67.0004,  -171.6196,       3591,  1234.3,   0.8272,  34.7121,2,  34.7117,2,    203.7,2,   204.0,2,  115.93,2,   31.95,2,    0.00,2,    2.20,2,   0.223,2,   0.111,2,   0.011,2,-999.0000,9,  -999.0,9,  -999.0,9,-999.0000,9,  -999.00,-999.000,9,-999.0000,9,-999.000,9,   0.8272,2, -999.00,9,  -999.0,9,  -999.0,-999.000,9, -999.00,9,-999.000,9,   40.42,2,   34.27,2, -67.0004,-171.6196,-999.000,     -999.0,    34.8754,2,     -999.0,9,     -999.0,9,-999.0000,9,-999.0000,9,-999.0000,9,-999.0000,9,-999.0000,9,-999.0000,9,-999.0000,9,-999.0000,9,-999.0000,9,-999.0000,-999.000,   0.7618,     -999.0,     -999.0,9,     -999.0,9,     -999.0,9,     -999.0,9,     -999.0,20110305,       1911
320620110219,       S04P,      28,          1,         15,         15,2,20110305,       1804,   -67.0004,  -171.6196,       3591,  1334.9,   0.7699,  34.7098,2,  34.7096,2,    204.3,2,   205.4,2,  117.32,2,   31.94,2,    0.00,2,    2.20,2,-999.000,9,-999.000,9,-999.000,9,-999.0000,9,  2258.1,2,  2358.7,2,   7.5949,2,    25.00,-999.000,9,-999.0000,9,-999.000,9,   0.7700,2, -999.00,9,  -999.0,9,  -999.0,-999.000,9, -999.00,9,-999.000,9,   40.16,2,   34.83,2, -67.0004,-171.6196,-999.000,     -999.0,    34.8732,2,     -999.0,9,     -999.0,9,-999.0000,9,-999.0000,9,-999.0000,9,-999.0000,9,-999.0000,9,-999.0000,9,-999.0000,9,-999.0000,9,-999.0000,9,-999.0000,-999.000,   0.6986,     -999.0,     -999.0,9,     -999.0,9,     -999.0,9,     -999.0,9,     -999.0,20110305,       1908
320620110219,       S04P,      28,          1,         14,         14,2,20110305,       1804,   -67.0004,  -171.6196,       3591,  1435.8,   0.7188,  34.7076,2,  34.7076,2,    205.5,2,   205.8,2,  118.92,2,   31.90,2,    0.00,2,    2.21,2,   0.238,2,   0.115,2,   0.014,2,-999.0000,9,  -999.0,9,  -999.0,9,-999.0000,9,  -999.00,-999.000,9,-999.0000,9,-999.000,9,   0.7192,2, -999.00,9,  -999.0,9,  -999.0,-999.000,9, -999.00,9,-999.000,9,   40.18,2,   34.92,2, -67.0004,-171.6196,-999.000,     -999.0,    34.8713,2,     -999.0,9,     -999.0,9,-999.0000,9,-999.0000,9,-999.0000,9,-999.0000,9,-999.0000,9,-999.0000,9,-999.0000,9,-999.0000,9,-999.0000,9,-999.0000,-999.000,   0.6415,     -999.0,     -999.0,9,     -999.0,9,     -999.0,9,     -999.0,9,     -999.0,20110305,       1905