BOTTLE,20220813CCHSIOAMB
EXPOCODE,SECT_ID,STNNBR,CASTNO,SAMPNO,BTLNBR,BTLNBR_FLAG_W,DATE,TIME,LATITUDE,LONGITUDE,DEPTH,CTDPRS,CTDTMP,CTDSAL,CTDSAL_FLAG_W,SALNTY,SALNTY_FLAG_W,CTDOXY,CTDOXY_FLAG_W,OXYGEN,OXYGEN_FLAG_W,SILCAT,SILCAT_FLAG_W,NITRAT,NITRAT_FLAG_W,NITRIT,NITRIT_FLAG_W,PHSPHT,PHSPHT_FLAG_W,CFC-11,CFC-11_FLAG_W,CFC-12,CFC-12_FLAG_W,CFC113,CFC113_FLAG_W,SF6,SF6_FLAG_W,TCARBN,TCARBN_FLAG_W,ALKALI,ALKALI_FLAG_W,PH_TOT,PH_TOT_FLAG_W,PH_TMP,TRITUM,TRITUM_FLAG_W,HELIUM,HELIUM_FLAG_W,DELHE3,DELHE3_FLAG_W,REFTMP,REFTMP_FLAG_W,DELC13,DELC13_FLAG_W,DELC14,DELC14_FLAG_W,C14ERR,NEON,NEON_FLAG_W,DELO18,DELO18_FLAG_W,POC,POC_FLAG_W,DOC,DOC_FLAG_W,TDN,TDN_FLAG_W,BTL_LAT,BTL_LON,TRITER,NEONER,SALTREF,SALTREF_FLAG_W,PIGMENTS,PIGMENTS_FLAG_W,LAB_DEN,LAB_DEN_FLAG_W,CDOM325,CDOM325_FLAG_W,CDOM340,CDOM340_FLAG_W,CDOM380,CDOM380_FLAG_W,CDOM412,CDOM412_FLAG_W,CDOM443,CDOM443_FLAG_W,CDOM490,CDOM490_FLAG_W,CDOM555,CDOM555_FLAG_W,CDOMSL,CDOMSL_FLAG_W,CDOMSN,CDOMSN_FLAG_W,HELIER,DELHER,THETA,LDEO_SAMPNO,ABSORBTION,ABSORBTION_FLAG_W,IMAGE_COUNT,IMAGE_COUNT_FLAG_W,CYTO_COUNT,CYTO_COUNT_FLAG_W,DELD,DELD_FLAG_W,DELDERR,BTL_DATE,BTL_TIME
,,,,,,,,,,,METERS,DBAR,ITS-90,PSS-78,,PSS-78,,UMOL/KG,,UMOL/KG,,UMOL/KG,,UMOL/KG,,UMOL/KG,,UMOL/KG,,PMOL/KG,,PMOL/KG,,PMOL/KG,,FMOL/KG,,UMOL/KG,,UMOL/KG,,,,DEG C,TU,,NMOL/KG,,PERCNT,,DEG C,,/MILLE,,/MILLE,,/MILLE,NMOL/KG,,/MILLE,,UG/KG,,UMOL/KG,,UMOL/KG,,,,TU,NMOL/KG,G/KG,,,,,,1/M,,1/M,,1/M,,1/M,,1/M,,1/M,,1/M,,1/NM,,1/NM,,NMOL/KG,PERCNT,DEG C,,,,,,,,/MILLE,,/MILLE,,
320620110219,       P16S,      51,          1,         13,         13,2,20110313,       0047,   -69.9856,  -149.9998,       4351,  1599.2,   0.7283,  34.7096,2,  34.7103,2,    203.4,2,   202.9,2,  122.30,2,   32.00,2,    0.00,2,    2.22,2,   0.107,2,   0.051,2,   0.005,2,   0.0430,2,  -999.0,9,  -999.0,9,-999.0000,9,  -999.00,   0.002,2,    2.064,2,  10.572,2,   0.7283,2, -999.00,9,  -999.0,9,  -999.0,   8.896,2, -999.00,9,-999.000,9, -999.00,9, -999.00,9, -69.9856,-150.0002,   0.004,      0.007,    34.8740,2,     -999.0,9,     -999.0,9,   0.0971,2,   0.0551,2,   0.0110,3,   0.0029,3,  -0.0078,4,  -0.0076,4,  -0.0105,4,   0.0447,3,   0.0403,3,    0.000,   0.193,   0.6399,50005101013,     -999.0,9,     -999.0,9,     -999.0,9,     -999.0,9,     -999.0,20110313,       0148
320620110219,       P16S,      51,          1,         12,         12,2,20110313,       0047,   -69.9856,  -149.9998,       4351,  1799.7,   0.6594,  34.7072,2,  34.7075,2,    204.9,2,   204.4,2,  123.95,2,   32.16,2,    0.00,2,    2.22,2,-999.000,9,-999.000,9,-999.000,9,-999.0000,9,  2260.0,2,  2360.8,2,   7.5931,2,    25.00,-999.000,9,-999.0000,9,-999.000,9,   0.6598,2,    0.47,2,  -156.0,2,     2.5,-999.000,9, -999.00,9,-999.000,9, -999.00,9, -999.00,9, -69.9856,-150.0002,-999.000,     -999.0,    34.8712,2,     -999.0,9,     -999.0,9,-999.0000,9,-999.0000,9,-999.0000,9,-999.0000,9,-999.0000,9,-999.0000,9,-999.0000,9,-999.0000,9,-999.0000,9,-999.0000,-999.000,   0.5579,     -999.0,     -999.0,9,     -999.0,9,     -999.0,9,     -999.0,9,     -999.0,20110313,       0143
320620110219,       P16S,      51,          1,         11,         11,2,20110313,       0047,   -69.9856,  -149.9998,       4351,  2000.6,   0.5843,  34.7052,2,  34.7056,2,    206.5,2,   207.2,2,  124.73,2,   32.03,2,    0.00,2,    2.22,2,   0.135,2,   0.066,2,   0.006,2,   0.0410,2,  -999.0,9,  2359.5,2,   7.5942,2,    25.00,   0.001,2,    2.145,4,   9.384,2,   0.5847,2,    0.46,2,  -156.2,2,     2.3,   9.282,2, -999.00,9,-999.000,9, -999.00,9, -999.00,9, -69.9856,-150.0001,   0.004,      0.008,    34.8692,2,     -999.0,9,     -999.0,9,-999.0000,9,-999.0000,9,-999.0000,9,-999.0000,9,-999.0000,9,-999.0000,9,-999.0000,9,-999.0000,9,-999.0000,9,    0.001,   0.203,   0.4693,50005101011,     -999.0,9,     -999.0,9,     -999.0,9,     -999.0,9,     -999.0,20110313,       0139
320620110219,       P16S,      51,          1,         10,         37,2,20110313,       0047,   -69.9856,  -149.9998,       4351,  2250.5,   0.4931,  34.7040,2,  34.7044,2,    208.5,2,   208.2,2,  126.91,2,   32.20,2,    0.00,2,    2.23,2,-999.000,9,-999.000,9,-999.000,9,-999.0000,9,  2259.6,2,  2360.1,2,   7.5928,2,    25.00,-999.000,9,-999.0000,9,-999.000,9,   0.4931,2,    0.48,2,  -161.3,2,     2.3,-999.000,9, -999.00,9,-999.000,9, -999.00,9, -999.00,9, -69.9856,-150.0001,-999.000,     -999.0,    34.8680,2,     -999.0,9,     -999.0,9,   0.0939,2,   0.0527,2,   0.0092,3,   0.0009,3,  -0.0091,4,  -0.0082,4,  -0.0108,4,   0.0543,4,   0.0420,4,-999.0000,-999.000,   0.3607,     -999.0,     -999.0,9,     -999.0,9,     -999.0,9,     -999.0,9,     -999.0,20110313,       0133
320620110219,       P16S,      51,          1,          9,          9,2,20110313,       0047,   -69.9856,  -149.9998,       4351,  2500.3,   0.4143,  34.7032,2,  34.7036,2,    210.6,2,   210.4,2,  128.78,2,   32.08,2,    0.00,2,    2.22,2,   0.139,2,   0.072,2,   0.005,2,   0.0430,2,  -999.0,9,  -999.0,9,-999.0000,9,  -999.00,   0.001,2,    2.021,2,   8.897,2,   0.4143,2, -999.00,9,  -999.0,9,  -999.0,   8.840,2, -999.00,9,-999.000,9, -999.00,9, -999.00,9, -69.9856,-150.0001,   0.004,      0.007,    34.8672,2,     -999.0,9,     -999.0,9,-999.0000,9,-999.0000,9,-999.0000,9,-999.0000,9,-999.0000,9,-999.0000,9,-999.0000,9,-999.0000,9,-999.0000,9,    0.001,   0.214,   0.2636,50005101009,     -999.0,9,     -999.0,9,     -999.0,9,     -999.0,9,     -999.0,20110313,       0128
320620110219,       P16S,      51,          1,          8,          8,2,20110313,       0047,   -69.9856,  -149.9998,       4351,  2750.6,   0.3496,  34.7026,2,  34.7047,4,    212.4,2,   212.7,2,  130.71,2,   32.13,2,    0.00,2,    2.23,2,-999.000,9,-999.000,9,-999.000,9,-999.0000,9,  2260.4,2,  2359.9,2,   7.5944,2,    25.00,-999.000,9,-999.0000,9,-999.000,9,   0.3495,2,    0.48,2,  -160.2,2,     2.3,-999.000,9, -999.00,9,-999.000,9, -999.00,9, -999.00,9, -69.9856,-150.0000,-999.000,     -999.0,    34.8684,4,     -999.0,9,     -999.0,9,-999.0000,9,-999.0000,9,-999.0000,9,-999.0000,9,-999.0000,9,-999.0000,9,-999.0000,9,-999.0000,9,-999.0000,9,-999.0000,-999.000,   0.1796,     -999.0,     -999.0,9,     -999.0,9,     -999.0,9,     -999.0,9,     -999.0,20110313,       0123
320620110219,       P16S,      51,          1,          7,          7,2,20110313,       0047,   -69.9856,  -149.9998,       4351,  2999.6,   0.2963,  34.7018,2,  34.7020,2,    214.3,2,   214.3,2,  130.89,2,   32.07,2,    0.00,2,    2.22,2,   0.253,2,   0.122,2,   0.012,2,   0.0520,2,  -999.0,9,  2360.9,2,   7.5944,2,    25.00,   0.001,2,    2.088,2,   8.105,2,   0.2967,2,    0.50,2,  -157.3,2,     2.3,   9.113,2, -999.00,9,-999.000,9, -999.00,9, -999.00,9, -69.9856,-150.0001,   0.004,      0.008,    34.8656,2,     -999.0,9,     -999.0,9,   0.0970,2,   0.0549,2,   0.0104,3,   0.0027,3,  -0.0078,4,  -0.0074,4,  -0.0103,4,   0.0464,4,   0.0410,4,    0.001,   0.221,   0.1061,50005101007,     -999.0,9,     -999.0,9,     -999.0,9,     -999.0,9,     -999.0,20110313,       0118
320620110219,       P16S,      51,          1,          6,          6,2,20110313,       0047,   -69.9856,  -149.9998,       4351,  3299.8,   0.2361,  34.6996,2,  34.6992,2,    217.2,2,   217.3,2,  129.81,2,   31.95,2,    0.00,2,    2.22,2,-999.000,9,-999.000,9,-999.000,9,-999.0000,9,  2258.8,2,  2358.9,2,   7.5939,2,    25.00,-999.000,9,-999.0000,9,-999.000,9,   0.2359,2,    0.51,2,  -163.9,2,     2.4,-999.000,9, -999.00,9,-999.000,9, -999.00,9, -999.00,9, -69.9856,-150.0000,-999.000,     -999.0,    34.8629,2,     -999.0,9,     -999.0,9,-999.0000,9,-999.0000,9,-999.0000,9,-999.0000,9,-999.0000,9,-999.0000,9,-999.0000,9,-999.0000,9,-999.0000,9,-999.0000,-999.000,   0.0205,     -999.0,     -999.0,9,     -999.0,9,     -999.0,9,     -999.0,9,     -999.0,20110313,       0112
320620110219,       P16S,      51,          1,          5,          5,2,20110313,       0047,   -69.9856,  -149.9998,       4351,  3599.7,   0.1879,  34.6967,2,  34.6967,2,    220.4,2,   220.2,2,  124.03,2,   31.81,2,    0.00,2,    2.21,2,   0.711,2,   0.359,2,   0.031,2,   0.0930,2,  -999.0,9,  2357.8,2,   7.5936,2,    25.00,   0.004,2,    2.048,2,   7.762,2,   0.1882,2,    0.52,2,  -152.8,2,     2.8,   9.015,2,   -0.22,2,-999.000,9, -999.00,9, -999.00,9, -69.9856,-150.0001,   0.005,      0.007,    34.8603,2,     -999.0,9,     -999.0,9,-999.0000,9,-999.0000,9,-999.0000,9,-999.0000,9,-999.0000,9,-999.0000,9,-999.0000,9,-999.0000,9,-999.0000,9,    0.000,   0.199,  -0.0545,50005101005,     -999.0,9,     -999.0,9,     -999.0,9,      -2.74,2,       0.03,20110313,       0105
320620110219,       P16S,      51,          1,          4,          4,2,20110313,       0047,   -69.9856,  -149.9998,       4351,  3900.7,   0.1899,  34.6965,2,  34.6967,2,    221.2,2,   221.0,2,  123.21,2,   31.76,2,    0.00,2,    2.21,2,   0.769,2,   0.384,2,   0.032,2,   0.0860,2,  2257.5,2,  2358.1,6,   7.5911,2,    25.00,-999.000,9,-999.0000,9,-999.000,9,   0.1897,2,    0.54,2,  -154.6,2,     2.4,-999.000,9, -999.00,9,-999.000,9, -999.00,9, -999.00,9, -69.9856,-150.0000,-999.000,     -999.0,    34.8603,2,     -999.0,9,     -999.0,9,   0.0971,2,   0.0554,2,   0.0124,3,   0.0038,3,  -0.0070,4,  -0.0071,4,  -0.0102,4,   0.0412,3,   0.0391,3,-999.0000,-999.000,  -0.0819,     -999.0,     -999.0,9,     -999.0,9,     -999.0,9,     -999.0,9,     -999.0,20110313,       0059
320620110219,       P16S,      51,          1,          3,          3,2,20110313,       0047,   -69.9856,  -149.9998,       4351,  4199.6,   0.2106,  34.6969,2,  34.6968,2,    220.9,2,   220.2,2,  124.01,2,   31.75,2,    0.00,2,    2.21,2,   0.770,2,   0.382,2,   0.032,2,   0.0820,2,  2258.2,2,  2356.9,2,   7.5907,2,    25.00,   0.005,2,    2.051,2,   7.988,2,   0.2104,2,    0.51,2,  -155.9,2,     2.4,   9.015,2,   -0.26,2,-999.000,9, -999.00,9, -999.00,9, -69.9856,-149.9999,   0.004,      0.008,    34.8605,2,     -999.0,9,     -999.0,9,-999.0000,9,-999.0000,9,-999.0000,9,-999.0000,9,-999.0000,9,-999.0000,9,-999.0000,9,-999.0000,9,-999.0000,9,    0.000,   0.211,  -0.0923,50005101003,     -999.0,9,     -999.0,9,     -999.0,9,      -2.88,2,       0.18,20110313,       0053
320620110219,       P16S,      51,          1,          2,          2,2,20110313,       0047,   -69.9856,  -149.9998,       4351,  4351.6,   0.2245,  34.6970,2,  34.6972,2,    220.9,2,   220.6,2,  124.67,2,   31.73,2,    0.00,2,    2.21,2,   0.775,2,   0.371,2,   0.033,2,   0.0980,2,  2257.9,2,  2358.3,2,   7.5922,6,    25.00,-999.000,9,-999.0000,9,-999.000,9,   0.2242,2,    0.52,2,  -152.0,2,     2.4,-999.000,9, -999.00,9,-999.000,9, -999.00,9, -999.00,9, -69.9856,-149.9999,-999.000,     -999.0,    34.8608,2,     -999.0,9,     -999.0,9,-999.0000,9,-999.0000,9,-999.0000,9,-999.0000,9,-999.0000,9,-999.0000,9,-999.0000,9,-999.0000,9,-999.0000,9,-999.0000,-999.000,  -0.0948,     -999.0,     -999.0,9,     -999.0,9,     -999.0,9,     -999.0,9,     -999.0,20110313,       0050
320620110219,       P16S,      51,          1,          1,          1,2,20110313,       0047,   -69.9856,  -149.9998,       4351,  4427.9,   0.2336,  34.6969,2,  34.6976,2,    220.6,2,   220.8,2,  124.72,2,   31.68,2,    0.00,2,    2.21,2,   0.803,2,   0.392,2,   0.034,2,   0.1610,2,  2258.6,6,  2356.9,2,   7.5902,2,    25.00,   0.002,2,    2.069,2,   8.012,2,   0.2336,2,    0.53,2,  -149.3,2,     2.7,   9.074,2,   -0.25,2,-999.000,9, -999.00,9, -999.00,9, -69.9856,-149.9998,   0.004,      0.012,    34.8612,2,     -999.0,9,     -999.0,9,   0.0964,2,   0.0546,2,   0.0114,3,   0.0032,3,  -0.0074,4,  -0.0073,4,  -0.0103,4,   0.0432,3,   0.0400,3,    0.001,   0.216,  -0.0941,50005101001,     -999.0,9,     -999.0,9,     -999.0,9,      -3.33,2,       0.36,20110313,       0047