BOTTLE,20220813CCHSIOAMB
EXPOCODE,SECT_ID,STNNBR,CASTNO,SAMPNO,BTLNBR,BTLNBR_FLAG_W,DATE,TIME,LATITUDE,LONGITUDE,DEPTH,CTDPRS,CTDTMP,CTDSAL,CTDSAL_FLAG_W,SALNTY,SALNTY_FLAG_W,CTDOXY,CTDOXY_FLAG_W,OXYGEN,OXYGEN_FLAG_W,SILCAT,SILCAT_FLAG_W,NITRAT,NITRAT_FLAG_W,NITRIT,NITRIT_FLAG_W,PHSPHT,PHSPHT_FLAG_W,CFC-11,CFC-11_FLAG_W,CFC-12,CFC-12_FLAG_W,CFC113,CFC113_FLAG_W,SF6,SF6_FLAG_W,TCARBN,TCARBN_FLAG_W,ALKALI,ALKALI_FLAG_W,PH_TOT,PH_TOT_FLAG_W,PH_TMP,TRITUM,TRITUM_FLAG_W,HELIUM,HELIUM_FLAG_W,DELHE3,DELHE3_FLAG_W,REFTMP,REFTMP_FLAG_W,DELC13,DELC13_FLAG_W,DELC14,DELC14_FLAG_W,C14ERR,NEON,NEON_FLAG_W,DELO18,DELO18_FLAG_W,POC,POC_FLAG_W,DOC,DOC_FLAG_W,TDN,TDN_FLAG_W,BTL_LAT,BTL_LON,TRITER,NEONER,SALTREF,SALTREF_FLAG_W,PIGMENTS,PIGMENTS_FLAG_W,LAB_DEN,LAB_DEN_FLAG_W,CDOM325,CDOM325_FLAG_W,CDOM340,CDOM340_FLAG_W,CDOM380,CDOM380_FLAG_W,CDOM412,CDOM412_FLAG_W,CDOM443,CDOM443_FLAG_W,CDOM490,CDOM490_FLAG_W,CDOM555,CDOM555_FLAG_W,CDOMSL,CDOMSL_FLAG_W,CDOMSN,CDOMSN_FLAG_W,HELIER,DELHER,THETA,LDEO_SAMPNO,ABSORBTION,ABSORBTION_FLAG_W,IMAGE_COUNT,IMAGE_COUNT_FLAG_W,CYTO_COUNT,CYTO_COUNT_FLAG_W,DELD,DELD_FLAG_W,DELDERR,BTL_DATE,BTL_TIME
,,,,,,,,,,,METERS,DBAR,ITS-90,PSS-78,,PSS-78,,UMOL/KG,,UMOL/KG,,UMOL/KG,,UMOL/KG,,UMOL/KG,,UMOL/KG,,PMOL/KG,,PMOL/KG,,PMOL/KG,,FMOL/KG,,UMOL/KG,,UMOL/KG,,,,DEG C,TU,,NMOL/KG,,PERCNT,,DEG C,,/MILLE,,/MILLE,,/MILLE,NMOL/KG,,/MILLE,,UG/KG,,UMOL/KG,,UMOL/KG,,,,TU,NMOL/KG,G/KG,,,,,,1/M,,1/M,,1/M,,1/M,,1/M,,1/M,,1/M,,1/NM,,1/NM,,NMOL/KG,PERCNT,DEG C,,,,,,,,/MILLE,,/MILLE,,
320620110219,       S04P,     131,          1,         13,         13,2,20110417,       1348,   -67.0000,   -76.5302,       3648,  1499.7,   1.1979,  34.7246,2,  34.7246,2,    196.0,2,   196.3,2,  107.36,2,   31.73,2,    0.00,2,    2.20,2,-999.000,9,-999.000,9,-999.000,9,-999.0000,9,  -999.0,9,  -999.0,9,-999.0000,9,  -999.00,-999.000,9,-999.0000,9,-999.000,9,   1.1980,2, -999.00,9,  -999.0,9,  -999.0,-999.000,9, -999.00,9,-999.000,9, -999.00,9, -999.00,9, -67.0000, -76.5302,-999.000,     -999.0,    34.8884,2,     -999.0,9,     -999.0,9,-999.0000,9,-999.0000,9,-999.0000,9,-999.0000,9,-999.0000,9,-999.0000,9,-999.0000,9,-999.0000,9,-999.0000,9,-999.0000,-999.000,   1.1106,     -999.0,     -999.0,9,     -999.0,9,     -999.0,9,     -999.0,9,     -999.0,20110417,       1437
320620110219,       S04P,     131,          1,         12,         12,2,20110417,       1348,   -67.0000,   -76.5302,       3648,  1600.5,   1.1375,  34.7223,2,  34.7227,2,    196.9,2,   197.5,2,  109.32,2,   31.76,2,    0.00,2,    2.20,2,   0.100,2,   0.054,2,   0.005,2,   0.0130,2,  -999.0,9,  -999.0,9,-999.0000,9,  -999.00,-999.000,9,-999.0000,9,-999.000,9,   1.1366,2, -999.00,9,  -999.0,9,  -999.0,-999.000,9, -999.00,9,-999.000,9, -999.00,9, -999.00,9, -67.0000, -76.5302,-999.000,     -999.0,    34.8864,2,     -999.0,9,     -999.0,9,-999.0000,9,-999.0000,9,-999.0000,9,-999.0000,9,-999.0000,9,-999.0000,9,-999.0000,9,-999.0000,9,-999.0000,9,-999.0000,-999.000,   1.0438,     -999.0,     -999.0,9,     -999.0,9,     -999.0,9,     -999.0,9,     -999.0,20110417,       1435
320620110219,       S04P,     131,          1,         11,         11,2,20110417,       1348,   -67.0000,   -76.5302,       3648,  1699.7,   1.0787,  34.7207,2,  34.7209,2,    198.1,2,   198.6,2,  111.26,2,   31.82,2,    0.00,2,    2.21,2,-999.000,9,-999.000,9,-999.000,9,-999.0000,9,  -999.0,9,  -999.0,9,-999.0000,9,  -999.00,-999.000,9,-999.0000,9,-999.000,9,   1.0789,2, -999.00,9,  -999.0,9,  -999.0,-999.000,9, -999.00,9,-999.000,9, -999.00,9, -999.00,9, -67.0000, -76.5302,-999.000,     -999.0,    34.8846,2,     -999.0,9,     -999.0,9,-999.0000,9,-999.0000,9,-999.0000,9,-999.0000,9,-999.0000,9,-999.0000,9,-999.0000,9,-999.0000,9,-999.0000,9,-999.0000,-999.000,   0.9786,     -999.0,     -999.0,9,     -999.0,9,     -999.0,9,     -999.0,9,     -999.0,20110417,       1432
320620110219,       S04P,     131,          1,         10,         37,2,20110417,       1348,   -67.0000,   -76.5302,       3648,  1799.8,   1.0236,  34.7187,2,  34.7179,2,    199.2,2,   199.3,2,  112.85,2,   31.87,2,    0.00,2,    2.21,2,-999.000,9,-999.000,9,-999.000,9,-999.0000,9,  2262.3,2,  2361.4,2,   7.6012,2,    25.00,-999.000,9,-999.0000,9,-999.000,9,   1.0235,2, -999.00,9,  -999.0,9,  -999.0,-999.000,9, -999.00,9,-999.000,9, -999.00,9, -999.00,9, -67.0001, -76.5302,-999.000,     -999.0,    34.8816,2,     -999.0,9,     -999.0,9,-999.0000,9,-999.0000,9,-999.0000,9,-999.0000,9,-999.0000,9,-999.0000,9,-999.0000,9,-999.0000,9,-999.0000,9,-999.0000,-999.000,   0.9169,     -999.0,     -999.0,9,     -999.0,9,     -999.0,9,     -999.0,9,     -999.0,20110417,       1429
320620110219,       S04P,     131,          1,          9,          9,2,20110417,       1348,   -67.0000,   -76.5302,       3648,  2000.0,   0.9058,  34.7146,2,  34.7146,2,    201.6,2,   201.8,2,  116.80,2,   31.98,2,    0.00,2,    2.21,2,-999.000,9,-999.000,9,-999.000,9,-999.0000,9,  -999.0,9,  -999.0,9,-999.0000,9,  -999.00,-999.000,9,-999.0000,9,-999.000,9,   0.9058,2, -999.00,9,  -999.0,9,  -999.0,-999.000,9, -999.00,9,-999.000,9, -999.00,9, -999.00,9, -67.0000, -76.5302,-999.000,     -999.0,    34.8783,2,     -999.0,9,     -999.0,9,-999.0000,9,-999.0000,9,-999.0000,9,-999.0000,9,-999.0000,9,-999.0000,9,-999.0000,9,-999.0000,9,-999.0000,9,-999.0000,-999.000,   0.7858,     -999.0,     -999.0,9,     -999.0,9,     -999.0,9,     -999.0,9,     -999.0,20110417,       1425
320620110219,       S04P,     131,          1,          8,          8,2,20110417,       1348,   -67.0000,   -76.5302,       3648,  2248.9,   0.7867,  34.7104,2,  34.7108,2,    203.8,2,   203.7,2,  120.86,2,   32.14,2,    0.00,2,    2.22,2,   0.126,2,   0.070,2,   0.007,2,   0.0250,2,  -999.0,9,  -999.0,9,-999.0000,9,  -999.00,-999.000,9,-999.0000,9,-999.000,9,   0.7865,2, -999.00,9,  -999.0,9,  -999.0,-999.000,9, -999.00,9,-999.000,9, -999.00,9, -999.00,9, -67.0000, -76.5302,-999.000,     -999.0,    34.8745,2,     -999.0,9,     -999.0,9,-999.0000,9,-999.0000,9,-999.0000,9,-999.0000,9,-999.0000,9,-999.0000,9,-999.0000,9,-999.0000,9,-999.0000,9,-999.0000,-999.000,   0.6493,     -999.0,     -999.0,9,     -999.0,9,     -999.0,9,     -999.0,9,     -999.0,20110417,       1420
320620110219,       S04P,     131,          1,          7,          7,2,20110417,       1348,   -67.0000,   -76.5302,       3648,  2499.9,   0.6669,  34.7075,2,  34.7075,2,    206.4,2,   206.2,2,  124.35,2,   32.17,2,    0.00,2,    2.23,2,-999.000,9,-999.000,9,-999.000,9,-999.0000,9,  -999.0,9,  -999.0,9,-999.0000,9,  -999.00,-999.000,9,-999.0000,9,-999.000,9,   0.6675,2, -999.00,9,  -999.0,9,  -999.0,-999.000,9, -999.00,9,-999.000,9, -999.00,9, -999.00,9, -67.0000, -76.5302,-999.000,     -999.0,    34.8711,2,     -999.0,9,     -999.0,9,-999.0000,9,-999.0000,9,-999.0000,9,-999.0000,9,-999.0000,9,-999.0000,9,-999.0000,9,-999.0000,9,-999.0000,9,-999.0000,-999.000,   0.5114,     -999.0,     -999.0,9,     -999.0,9,     -999.0,9,     -999.0,9,     -999.0,20110417,       1415
320620110219,       S04P,     131,          1,          6,          6,2,20110417,       1348,   -67.0000,   -76.5302,       3648,  2749.6,   0.5594,  34.7054,2,  34.7049,2,    208.3,2,   208.2,2,  127.34,2,   32.36,2,    0.00,2,    2.23,2,   0.149,2,   0.083,2,   0.008,2,   0.0180,2,  2264.1,2,  2364.1,2,   7.5992,2,    25.00,-999.000,9,-999.0000,9,-999.000,9,   0.5599,2, -999.00,9,  -999.0,9,  -999.0,-999.000,9, -999.00,9,-999.000,9, -999.00,9, -999.00,9, -67.0000, -76.5302,-999.000,     -999.0,    34.8686,2,     -999.0,9,     -999.0,9,-999.0000,9,-999.0000,9,-999.0000,9,-999.0000,9,-999.0000,9,-999.0000,9,-999.0000,9,-999.0000,9,-999.0000,9,-999.0000,-999.000,   0.3851,     -999.0,     -999.0,9,     -999.0,9,     -999.0,9,     -999.0,9,     -999.0,20110417,       1410
320620110219,       S04P,     131,          1,          5,          5,2,20110417,       1348,   -67.0000,   -76.5302,       3648,  2999.8,   0.4843,  34.7041,2,  34.7041,2,    209.7,2,   209.6,2,  130.27,2,   32.36,2,    0.00,2,    2.24,2,-999.000,9,-999.000,9,-999.000,9,-999.0000,9,  -999.0,9,  -999.0,9,-999.0000,9,  -999.00,-999.000,9,-999.0000,9,-999.000,9,   0.4848,2, -999.00,9,  -999.0,9,  -999.0,-999.000,9, -999.00,9,-999.000,9, -999.00,9, -999.00,9, -67.0000, -76.5302,-999.000,     -999.0,    34.8678,2,     -999.0,9,     -999.0,9,-999.0000,9,-999.0000,9,-999.0000,9,-999.0000,9,-999.0000,9,-999.0000,9,-999.0000,9,-999.0000,9,-999.0000,9,-999.0000,-999.000,   0.2899,     -999.0,     -999.0,9,     -999.0,9,     -999.0,9,     -999.0,9,     -999.0,20110417,       1404
320620110219,       S04P,     131,          1,          4,          4,2,20110417,       1348,   -67.0000,   -76.5302,       3648,  3248.5,   0.4334,  34.7036,2,  34.7039,2,    210.4,2,   210.8,2,  133.31,2,   32.35,2,    0.00,2,    2.24,2,   0.158,2,   0.088,2,   0.008,2,   0.0190,2,  -999.0,9,  -999.0,9,-999.0000,9,  -999.00,-999.000,9,-999.0000,9,-999.000,9,   0.4335,2, -999.00,9,  -999.0,9,  -999.0,-999.000,9, -999.00,9,-999.000,9, -999.00,9, -999.00,9, -67.0000, -76.5302,-999.000,     -999.0,    34.8676,2,     -999.0,9,     -999.0,9,-999.0000,9,-999.0000,9,-999.0000,9,-999.0000,9,-999.0000,9,-999.0000,9,-999.0000,9,-999.0000,9,-999.0000,9,-999.0000,-999.000,   0.2177,     -999.0,     -999.0,9,     -999.0,9,     -999.0,9,     -999.0,9,     -999.0,20110417,       1359
320620110219,       S04P,     131,          1,          3,          3,2,20110417,       1348,   -67.0000,   -76.5302,       3648,  3500.6,   0.4064,  34.7028,2,  34.7031,2,    211.1,2,   211.2,2,  136.30,2,   32.40,2,    0.00,2,    2.24,2,   0.181,2,   0.095,2,   0.009,2,   0.0300,2,  2264.9,2,  2364.5,6,   7.5974,2,    25.00,-999.000,9,-999.0000,9,-999.000,9,   0.4064,2, -999.00,9,  -999.0,9,  -999.0,-999.000,9, -999.00,9,-999.000,9, -999.00,9, -999.00,9, -67.0000, -76.5302,-999.000,     -999.0,    34.8668,2,     -999.0,9,     -999.0,9,-999.0000,9,-999.0000,9,-999.0000,9,-999.0000,9,-999.0000,9,-999.0000,9,-999.0000,9,-999.0000,9,-999.0000,9,-999.0000,-999.000,   0.1678,     -999.0,     -999.0,9,     -999.0,9,     -999.0,9,     -999.0,9,     -999.0,20110417,       1354
320620110219,       S04P,     131,          1,          2,          2,2,20110417,       1348,   -67.0000,   -76.5302,       3648,  3649.2,   0.3823,  34.7024,2,  34.7025,2,    211.3,2,   211.3,2,  140.74,2,   32.52,2,    0.00,2,    2.25,2,   0.211,2,   0.111,2,   0.010,2,   0.0420,2,  2266.3,2,  2364.9,2,   7.5963,6,    25.00,-999.000,9,-999.0000,9,-999.000,9,   0.3822,2, -999.00,9,  -999.0,9,  -999.0,-999.000,9, -999.00,9,-999.000,9, -999.00,9, -999.00,9, -67.0000, -76.5302,-999.000,     -999.0,    34.8662,2,     -999.0,9,     -999.0,9,-999.0000,9,-999.0000,9,-999.0000,9,-999.0000,9,-999.0000,9,-999.0000,9,-999.0000,9,-999.0000,9,-999.0000,9,-999.0000,-999.000,   0.1300,     -999.0,     -999.0,9,     -999.0,9,     -999.0,9,     -999.0,9,     -999.0,20110417,       1350
320620110219,       S04P,     131,          1,          1,          1,2,20110417,       1348,   -67.0000,   -76.5302,       3648,  3704.5,   0.3794,  34.7024,2,  34.7027,2,    211.2,2,   211.3,2,  142.44,2,   32.50,2,    0.00,2,    2.25,2,   0.225,2,   0.114,2,   0.011,2,   0.0760,2,  2267.0,6,  2365.7,2,   7.5953,2,    25.00,-999.000,9,-999.0000,9,-999.000,9,   0.3794,2, -999.00,9,  -999.0,9,  -999.0,-999.000,9, -999.00,9,-999.000,9, -999.00,9, -999.00,9, -67.0000, -76.5302,-999.000,     -999.0,    34.8664,2,     -999.0,9,     -999.0,9,-999.0000,9,-999.0000,9,-999.0000,9,-999.0000,9,-999.0000,9,-999.0000,9,-999.0000,9,-999.0000,9,-999.0000,9,-999.0000,-999.000,   0.1218,     -999.0,     -999.0,9,     -999.0,9,     -999.0,9,     -999.0,9,     -999.0,20110417,       1348