BOTTLE,20220813CCHSIOAMB
EXPOCODE,SECT_ID,STNNBR,CASTNO,SAMPNO,BTLNBR,BTLNBR_FLAG_W,DATE,TIME,LATITUDE,LONGITUDE,DEPTH,CTDPRS,CTDTMP,CTDSAL,CTDSAL_FLAG_W,SALNTY,SALNTY_FLAG_W,CTDOXY,CTDOXY_FLAG_W,OXYGEN,OXYGEN_FLAG_W,SILCAT,SILCAT_FLAG_W,NITRAT,NITRAT_FLAG_W,NITRIT,NITRIT_FLAG_W,PHSPHT,PHSPHT_FLAG_W,CFC-11,CFC-11_FLAG_W,CFC-12,CFC-12_FLAG_W,CFC113,CFC113_FLAG_W,SF6,SF6_FLAG_W,TCARBN,TCARBN_FLAG_W,ALKALI,ALKALI_FLAG_W,PH_TOT,PH_TOT_FLAG_W,PH_TMP,TRITUM,TRITUM_FLAG_W,HELIUM,HELIUM_FLAG_W,DELHE3,DELHE3_FLAG_W,REFTMP,REFTMP_FLAG_W,DELC13,DELC13_FLAG_W,DELC14,DELC14_FLAG_W,C14ERR,NEON,NEON_FLAG_W,DELO18,DELO18_FLAG_W,POC,POC_FLAG_W,DOC,DOC_FLAG_W,TDN,TDN_FLAG_W,BTL_LAT,BTL_LON,TRITER,NEONER,SALTREF,SALTREF_FLAG_W,PIGMENTS,PIGMENTS_FLAG_W,LAB_DEN,LAB_DEN_FLAG_W,CDOM325,CDOM325_FLAG_W,CDOM340,CDOM340_FLAG_W,CDOM380,CDOM380_FLAG_W,CDOM412,CDOM412_FLAG_W,CDOM443,CDOM443_FLAG_W,CDOM490,CDOM490_FLAG_W,CDOM555,CDOM555_FLAG_W,CDOMSL,CDOMSL_FLAG_W,CDOMSN,CDOMSN_FLAG_W,HELIER,DELHER,THETA,LDEO_SAMPNO,ABSORBTION,ABSORBTION_FLAG_W,IMAGE_COUNT,IMAGE_COUNT_FLAG_W,CYTO_COUNT,CYTO_COUNT_FLAG_W,DELD,DELD_FLAG_W,DELDERR,BTL_DATE,BTL_TIME
,,,,,,,,,,,METERS,DBAR,ITS-90,PSS-78,,PSS-78,,UMOL/KG,,UMOL/KG,,UMOL/KG,,UMOL/KG,,UMOL/KG,,UMOL/KG,,PMOL/KG,,PMOL/KG,,PMOL/KG,,FMOL/KG,,UMOL/KG,,UMOL/KG,,,,DEG C,TU,,NMOL/KG,,PERCNT,,DEG C,,/MILLE,,/MILLE,,/MILLE,NMOL/KG,,/MILLE,,UG/KG,,UMOL/KG,,UMOL/KG,,,,TU,NMOL/KG,G/KG,,,,,,1/M,,1/M,,1/M,,1/M,,1/M,,1/M,,1/M,,1/NM,,1/NM,,NMOL/KG,PERCNT,DEG C,,,,,,,,/MILLE,,/MILLE,,
320620110219,       S04P,      42,          1,         13,         13,2,20110310,       0121,   -67.0000,  -153.7062,       4149,  1499.0,   0.7771,  34.7116,2,  34.7123,2,    201.9,2,   202.2,2,  121.22,2,   31.56,2,    0.00,2,    2.20,2,   0.104,2,   0.054,2,   0.012,2,   0.1280,2,  2258.8,2,  2361.7,2,   7.5909,2,    25.00,   0.001,2,    2.091,2,  10.975,2,   0.7769,2, -999.00,9,  -999.0,9,  -999.0,   9.059,2, -999.00,9,-999.000,9,   40.24,2,   34.30,2, -67.0000,-153.7062,   0.004,      0.007,    34.8760,2,     -999.0,9,     -999.0,9,-999.0000,9,-999.0000,9,-999.0000,9,-999.0000,9,-999.0000,9,-999.0000,9,-999.0000,9,-999.0000,9,-999.0000,9,    0.001,   0.202,   0.6949,50004201013,     -999.0,9,     -999.0,9,     -999.0,9,     -999.0,9,     -999.0,20110310,       0220
320620110219,       S04P,      42,          1,         12,         12,2,20110310,       0121,   -67.0000,  -153.7062,       4149,  1600.7,   0.7399,  34.7103,2,  34.7100,2,    202.8,2,   202.4,2,  122.37,2,   31.55,2,    0.00,2,    2.21,2,-999.000,9,-999.000,9,-999.000,9,-999.0000,9,  -999.0,9,  -999.0,9,-999.0000,9,  -999.00,-999.000,9,-999.0000,9,-999.000,9,   0.7396,2, -999.00,9,  -999.0,9,  -999.0,-999.000,9, -999.00,9,-999.000,9,   40.08,2,   34.25,2, -67.0000,-153.7063,-999.000,     -999.0,    34.8736,2,     -999.0,9,     -999.0,9,-999.0000,9,-999.0000,9,-999.0000,9,-999.0000,9,-999.0000,9,-999.0000,9,-999.0000,9,-999.0000,9,-999.0000,9,-999.0000,-999.000,   0.6512,     -999.0,     -999.0,9,     -999.0,9,     -999.0,9,     -999.0,9,     -999.0,20110310,       0217
320620110219,       S04P,      42,          1,         11,         11,2,20110310,       0121,   -67.0000,  -153.7062,       4149,  1800.8,   0.6593,  34.7076,2,  34.7074,2,    204.6,2,   204.9,2,  124.75,2,   31.66,2,    0.00,2,    2.21,2,   0.123,2,   0.063,2,   0.008,2,   0.0670,2,  2259.5,2,  2360.9,2,   7.5927,2,    25.00,   0.001,2,    2.115,2,  10.239,2,   0.6593,2, -999.00,9,  -999.0,9,  -999.0,   9.139,2, -999.00,9,-999.000,9,   39.92,2,   34.39,2, -67.0000,-153.7062,   0.005,      0.007,    34.8711,2,     -999.0,9,     -999.0,9,-999.0000,9,-999.0000,9,-999.0000,9,-999.0000,9,-999.0000,9,-999.0000,9,-999.0000,9,-999.0000,9,-999.0000,9,    0.001,   0.214,   0.5577,50004201011,     -999.0,9,     -999.0,9,     -999.0,9,     -999.0,9,     -999.0,20110310,       0213
320620110219,       S04P,      42,          1,         10,         37,2,20110310,       0121,   -67.0000,  -153.7062,       4149,  2000.3,   0.5908,  34.7055,2,  34.7054,2,    206.4,2,   206.9,2,  126.01,2,   31.74,2,    0.00,2,    2.22,2,-999.000,9,-999.000,9,-999.000,9,-999.0000,9,  -999.0,9,  -999.0,9,-999.0000,9,  -999.00,-999.000,9,-999.0000,9,-999.000,9,   0.5911,2, -999.00,9,  -999.0,9,  -999.0,-999.000,9, -999.00,9,-999.000,9,   39.79,2,   34.35,2, -67.0000,-153.7062,-999.000,     -999.0,    34.8691,2,     -999.0,9,     -999.0,9,-999.0000,9,-999.0000,9,-999.0000,9,-999.0000,9,-999.0000,9,-999.0000,9,-999.0000,9,-999.0000,9,-999.0000,9,-999.0000,-999.000,   0.4757,     -999.0,     -999.0,9,     -999.0,9,     -999.0,9,     -999.0,9,     -999.0,20110310,       0208
320620110219,       S04P,      42,          1,          9,          9,2,20110310,       0121,   -67.0000,  -153.7062,       4149,  2248.6,   0.4817,  34.7041,2,  34.7035,2,    208.5,2,   208.6,2,  127.67,2,   31.91,2,    0.00,2,    2.23,2,   0.143,2,   0.074,2,   0.008,2,   0.0840,2,  2259.4,2,  2360.7,2,   7.5925,2,    25.00,   0.001,2,    2.077,2,   9.886,2,   0.4816,2, -999.00,9,  -999.0,9,  -999.0,   9.079,2, -999.00,9,-999.000,9,   39.66,2,   34.49,2, -67.0000,-153.7062,   0.004,      0.007,    34.8671,2,     -999.0,9,     -999.0,9,-999.0000,9,-999.0000,9,-999.0000,9,-999.0000,9,-999.0000,9,-999.0000,9,-999.0000,9,-999.0000,9,-999.0000,9,    0.001,   0.202,   0.3496,50004201009,     -999.0,9,     -999.0,9,     -999.0,9,     -999.0,9,     -999.0,20110310,       0203
320620110219,       S04P,      42,          1,          8,          8,2,20110310,       0121,   -67.0000,  -153.7062,       4149,  2500.1,   0.4090,  34.7037,2,  34.7035,2,    210.3,2,   210.3,2,  128.89,2,   32.05,2,    0.00,2,    2.24,2,-999.000,9,-999.000,9,-999.000,9,-999.0000,9,  -999.0,9,  -999.0,9,-999.0000,9,  -999.00,-999.000,9,-999.0000,9,-999.000,9,   0.4102,2, -999.00,9,  -999.0,9,  -999.0,-999.000,9, -999.00,9,-999.000,9,   39.70,2,   34.59,2, -67.0000,-153.7063,-999.000,     -999.0,    34.8671,2,     -999.0,9,     -999.0,9,-999.0000,9,-999.0000,9,-999.0000,9,-999.0000,9,-999.0000,9,-999.0000,9,-999.0000,9,-999.0000,9,-999.0000,9,-999.0000,-999.000,   0.2584,     -999.0,     -999.0,9,     -999.0,9,     -999.0,9,     -999.0,9,     -999.0,20110310,       0158
320620110219,       S04P,      42,          1,          7,          7,2,20110310,       0121,   -67.0000,  -153.7062,       4149,  2750.3,   0.3487,  34.7023,2,  34.7021,2,    212.3,2,   211.6,2,  130.61,2,   32.07,2,    0.00,2,    2.23,2,   0.191,2,   0.097,2,   0.011,2,   0.0430,2,  2260.2,2,  2362.1,2,   7.5926,2,    25.00,   0.019,2,-999.0000,9,-999.000,9,   0.3487,2, -999.00,9,  -999.0,9,  -999.0,-999.000,9, -999.00,9,-999.000,9,   39.79,2,   34.72,2, -67.0000,-153.7062,   0.005,     -999.0,    34.8657,2,     -999.0,9,     -999.0,9,-999.0000,9,-999.0000,9,-999.0000,9,-999.0000,9,-999.0000,9,-999.0000,9,-999.0000,9,-999.0000,9,-999.0000,9,-999.0000,-999.000,   0.1787,     -999.0,     -999.0,9,     -999.0,9,     -999.0,9,     -999.0,9,     -999.0,20110310,       0153
320620110219,       S04P,      42,          1,          6,          6,2,20110310,       0121,   -67.0000,  -153.7062,       4149,  2998.1,   0.2955,  34.7015,2,  34.7013,2,    214.3,2,   214.3,2,  131.45,2,   32.20,2,    0.00,2,    2.23,2,-999.000,9,-999.000,9,-999.000,9,-999.0000,9,  -999.0,9,  -999.0,9,-999.0000,9,  -999.00,-999.000,9,-999.0000,9,-999.000,9,   0.2959,2, -999.00,9,  -999.0,9,  -999.0,-999.000,9, -999.00,9,-999.000,9,   40.14,2,   34.68,2, -67.0000,-153.7063,-999.000,     -999.0,    34.8650,2,     -999.0,9,     -999.0,9,-999.0000,9,-999.0000,9,-999.0000,9,-999.0000,9,-999.0000,9,-999.0000,9,-999.0000,9,-999.0000,9,-999.0000,9,-999.0000,-999.000,   0.1055,     -999.0,     -999.0,9,     -999.0,9,     -999.0,9,     -999.0,9,     -999.0,20110310,       0147
320620110219,       S04P,      42,          1,          5,          5,2,20110310,       0121,   -67.0000,  -153.7062,       4149,  3299.3,   0.2387,  34.6998,2,  34.6998,2,    216.8,2,   216.6,2,  130.56,2,   32.13,2,    0.00,2,    2.23,2,   0.431,2,   0.218,2,   0.021,2,   0.0940,2,  2258.2,2,  2366.3,4,   7.5919,2,    25.00,   0.001,2,    2.037,2,   8.662,2,   0.2390,2, -999.00,9,  -999.0,9,  -999.0,   8.918,2,   -0.20,2,-999.000,9,   40.57,2,   34.75,2, -67.0000,-153.7062,   0.004,      0.007,    34.8634,2,     -999.0,9,     -999.0,9,-999.0000,9,-999.0000,9,-999.0000,9,-999.0000,9,-999.0000,9,-999.0000,9,-999.0000,9,-999.0000,9,-999.0000,9,    0.000,   0.190,   0.0231,50004201005,     -999.0,9,     -999.0,9,     -999.0,9,      -2.80,2,       0.28,20110310,       0141
320620110219,       S04P,      42,          1,          4,          4,2,20110310,       0121,   -67.0000,  -153.7062,       4149,  3600.5,   0.1801,  34.6955,2,  34.6953,2,    220.4,2,   220.3,2,  123.43,2,   31.99,2,    0.00,2,    2.23,2,   0.761,2,   0.392,2,   0.042,2,   0.1040,2,  2258.3,2,  2357.2,2,   7.5925,2,    25.00,-999.000,9,-999.0000,9,-999.000,9,   0.1803,2, -999.00,9,  -999.0,9,  -999.0,-999.000,9, -999.00,9,-999.000,9,   40.58,2,   34.38,2, -67.0000,-153.7062,-999.000,     -999.0,    34.8589,2,     -999.0,9,     -999.0,9,-999.0000,9,-999.0000,9,-999.0000,9,-999.0000,9,-999.0000,9,-999.0000,9,-999.0000,9,-999.0000,9,-999.0000,9,-999.0000,-999.000,  -0.0621,     -999.0,     -999.0,9,     -999.0,9,     -999.0,9,     -999.0,9,     -999.0,20110310,       0135
320620110219,       S04P,      42,          1,          3,          3,2,20110310,       0121,   -67.0000,  -153.7062,       4149,  3900.2,   0.1911,  34.6962,2,  34.6960,2,    220.6,2,   220.5,2,  123.89,2,   32.01,2,    0.00,2,    2.22,2,   0.761,2,   0.390,2,   0.043,2,   0.1100,2,  2258.8,2,  2357.7,2,   7.5906,6,    25.00,   0.001,2,    2.026,2,   7.973,2,   0.1908,2, -999.00,9,  -999.0,9,  -999.0,   8.912,2,   -0.23,2,-999.000,9,   40.52,2,   34.59,2, -67.0000,-153.7062,   0.004,      0.007,    34.8596,2,     -999.0,9,     -999.0,9,-999.0000,9,-999.0000,9,-999.0000,9,-999.0000,9,-999.0000,9,-999.0000,9,-999.0000,9,-999.0000,9,-999.0000,9,    0.000,   0.201,  -0.0807,50004201003,     -999.0,9,     -999.0,9,     -999.0,9,      -2.43,2,       0.43,20110310,       0129
320620110219,       S04P,      42,          1,          2,          2,2,20110310,       0121,   -67.0000,  -153.7062,       4149,  4100.5,   0.2076,  34.6964,2,  34.6960,2,    220.7,2,   220.3,2,  123.88,2,   31.99,2,    0.00,2,    2.23,2,   0.754,2,   0.385,2,   0.039,2,   0.1140,2,  2258.2,2,  2355.8,2,   7.5896,2,    25.00,-999.000,9,-999.0000,9,-999.000,9,   0.2076,2, -999.00,9,  -999.0,9,  -999.0,-999.000,9, -999.00,9,-999.000,9,   40.73,2,   34.74,2, -67.0000,-153.7062,-999.000,     -999.0,    34.8596,2,     -999.0,9,     -999.0,9,-999.0000,9,-999.0000,9,-999.0000,9,-999.0000,9,-999.0000,9,-999.0000,9,-999.0000,9,-999.0000,9,-999.0000,9,-999.0000,-999.000,  -0.0849,     -999.0,     -999.0,9,     -999.0,9,     -999.0,9,     -999.0,9,     -999.0,20110310,       0125
320620110219,       S04P,      42,          1,          1,          1,2,20110310,       0121,   -67.0000,  -153.7062,       4149,  4220.0,   0.2178,  34.6963,2,  34.6960,2,    220.3,2,   220.5,2,  124.31,2,   31.89,2,    0.00,2,    2.23,2,   0.826,2,   0.417,2,   0.044,2,   0.1360,2,  2259.5,6,  2355.2,2,   7.5908,2,    25.00,   0.001,2,    2.042,2,   7.797,2,   0.2181,2, -999.00,9,  -999.0,9,  -999.0,   8.960,2,   -0.27,2,-999.000,9,   40.28,2,   34.70,2, -67.0000,-153.7062,   0.005,      0.008,    34.8596,2,     -999.0,9,     -999.0,9,-999.0000,9,-999.0000,9,-999.0000,9,-999.0000,9,-999.0000,9,-999.0000,9,-999.0000,9,-999.0000,9,-999.0000,9,    0.000,   0.222,  -0.0874,50004201001,     -999.0,9,     -999.0,9,     -999.0,9,      -3.38,2,       0.33,20110310,       0121