BOTTLE,20220813CCHSIOAMB
EXPOCODE,SECT_ID,STNNBR,CASTNO,SAMPNO,BTLNBR,BTLNBR_FLAG_W,DATE,TIME,LATITUDE,LONGITUDE,DEPTH,CTDPRS,CTDTMP,CTDSAL,CTDSAL_FLAG_W,SALNTY,SALNTY_FLAG_W,CTDOXY,CTDOXY_FLAG_W,OXYGEN,OXYGEN_FLAG_W,SILCAT,SILCAT_FLAG_W,NITRAT,NITRAT_FLAG_W,NITRIT,NITRIT_FLAG_W,PHSPHT,PHSPHT_FLAG_W,CFC-11,CFC-11_FLAG_W,CFC-12,CFC-12_FLAG_W,CFC113,CFC113_FLAG_W,SF6,SF6_FLAG_W,TCARBN,TCARBN_FLAG_W,ALKALI,ALKALI_FLAG_W,PH_TOT,PH_TOT_FLAG_W,PH_TMP,TRITUM,TRITUM_FLAG_W,HELIUM,HELIUM_FLAG_W,DELHE3,DELHE3_FLAG_W,REFTMP,REFTMP_FLAG_W,DELC13,DELC13_FLAG_W,DELC14,DELC14_FLAG_W,C14ERR,NEON,NEON_FLAG_W,DELO18,DELO18_FLAG_W,POC,POC_FLAG_W,DOC,DOC_FLAG_W,TDN,TDN_FLAG_W,BTL_LAT,BTL_LON,TRITER,NEONER,SALTREF,SALTREF_FLAG_W,PIGMENTS,PIGMENTS_FLAG_W,LAB_DEN,LAB_DEN_FLAG_W,CDOM325,CDOM325_FLAG_W,CDOM340,CDOM340_FLAG_W,CDOM380,CDOM380_FLAG_W,CDOM412,CDOM412_FLAG_W,CDOM443,CDOM443_FLAG_W,CDOM490,CDOM490_FLAG_W,CDOM555,CDOM555_FLAG_W,CDOMSL,CDOMSL_FLAG_W,CDOMSN,CDOMSN_FLAG_W,HELIER,DELHER,THETA,LDEO_SAMPNO,ABSORBTION,ABSORBTION_FLAG_W,IMAGE_COUNT,IMAGE_COUNT_FLAG_W,CYTO_COUNT,CYTO_COUNT_FLAG_W,DELD,DELD_FLAG_W,DELDERR,BTL_DATE,BTL_TIME
,,,,,,,,,,,METERS,DBAR,ITS-90,PSS-78,,PSS-78,,UMOL/KG,,UMOL/KG,,UMOL/KG,,UMOL/KG,,UMOL/KG,,UMOL/KG,,PMOL/KG,,PMOL/KG,,PMOL/KG,,FMOL/KG,,UMOL/KG,,UMOL/KG,,,,DEG C,TU,,NMOL/KG,,PERCNT,,DEG C,,/MILLE,,/MILLE,,/MILLE,NMOL/KG,,/MILLE,,UG/KG,,UMOL/KG,,UMOL/KG,,,,TU,NMOL/KG,G/KG,,,,,,1/M,,1/M,,1/M,,1/M,,1/M,,1/M,,1/M,,1/NM,,1/NM,,NMOL/KG,PERCNT,DEG C,,,,,,,,/MILLE,,/MILLE,,
320620110219,       S04P,      14,          1,         13,         13,2,20110227,       1322,   -68.4144,   172.1031,       3286,  1464.8,   0.7555,  34.7111,2,  34.7117,2,    202.0,2,   201.8,2,  121.09,2,   32.35,2,    0.00,2,    2.22,2,-999.000,9,-999.000,9,-999.000,9,-999.0000,9,  -999.0,9,  -999.0,9,-999.0000,9,  -999.00,-999.000,9,-999.0000,9,-999.000,9,   0.7563,2, -999.00,9,  -999.0,9,  -999.0,-999.000,9,   -0.09,2,-999.000,9, -999.00,9, -999.00,9, -68.4144, 172.1031,-999.000,     -999.0,    34.8754,2,     -999.0,9,     -999.0,9,-999.0000,9,-999.0000,9,-999.0000,9,-999.0000,9,-999.0000,9,-999.0000,9,-999.0000,9,-999.0000,9,-999.0000,9,-999.0000,-999.000,   0.6758,     -999.0,     -999.0,9,     -999.0,9,     -999.0,9,      -1.73,2,       0.06,20110227,       1412
320620110219,       S04P,      14,          1,         12,         12,2,20110227,       1322,   -68.4144,   172.1031,       3286,  1564.7,   0.7235,  34.7100,2,  34.7101,2,    202.6,2,   202.9,2,  121.96,2,   32.34,2,    0.00,2,    2.21,2,   0.102,2,   0.053,2,   0.011,2,   0.0930,2,  -999.0,9,  -999.0,9,-999.0000,9,  -999.00,-999.000,9,-999.0000,9,-999.000,9,   0.7237,2, -999.00,9,  -999.0,9,  -999.0,-999.000,9,   -0.06,2,-999.000,9, -999.00,9, -999.00,9, -68.4144, 172.1031,-999.000,     -999.0,    34.8738,2,     -999.0,9,     -999.0,9,-999.0000,9,-999.0000,9,-999.0000,9,-999.0000,9,-999.0000,9,-999.0000,9,-999.0000,9,-999.0000,9,-999.0000,9,-999.0000,-999.000,   0.6375,     -999.0,     -999.0,9,     -999.0,9,     -999.0,9,      -1.46,2,       0.09,20110227,       1409
320620110219,       S04P,      14,          1,         11,         11,2,20110227,       1322,   -68.4144,   172.1031,       3286,  1665.1,   0.6895,  34.7089,2,  34.7095,2,    203.8,2,   203.6,2,  123.12,2,   32.41,2,    0.00,2,    2.22,2,-999.000,9,-999.000,9,-999.000,9,-999.0000,9,  2262.2,2,  2359.7,2,   7.5890,2,    25.00,-999.000,9,-999.0000,9,-999.000,9,   0.6891,2, -999.00,9,  -999.0,9,  -999.0,-999.000,9,    0.21,2,-999.000,9, -999.00,9, -999.00,9, -68.4144, 172.1030,-999.000,     -999.0,    34.8732,2,     -999.0,9,     -999.0,9,-999.0000,9,-999.0000,9,-999.0000,9,-999.0000,9,-999.0000,9,-999.0000,9,-999.0000,9,-999.0000,9,-999.0000,9,-999.0000,-999.000,   0.5970,     -999.0,     -999.0,9,     -999.0,9,     -999.0,9,      -0.85,2,       0.08,20110227,       1406
320620110219,       S04P,      14,          1,         10,         10,2,20110227,       1322,   -68.4144,   172.1031,       3286,  1766.2,   0.6548,  34.7080,2,  34.7079,2,    204.6,2,   204.7,2,  124.29,2,   32.41,2,    0.00,2,    2.21,2,   0.120,2,   0.064,2,   0.010,2,   0.0500,2,  -999.0,9,  -999.0,9,-999.0000,9,  -999.00,-999.000,9,-999.0000,9,-999.000,9,   0.6552,2, -999.00,9,  -999.0,9,  -999.0,-999.000,9,   -0.09,2,-999.000,9, -999.00,9, -999.00,9, -68.4144, 172.1031,-999.000,     -999.0,    34.8716,2,     -999.0,9,     -999.0,9,-999.0000,9,-999.0000,9,-999.0000,9,-999.0000,9,-999.0000,9,-999.0000,9,-999.0000,9,-999.0000,9,-999.0000,9,-999.0000,-999.000,   0.5557,     -999.0,     -999.0,9,     -999.0,9,     -999.0,9,      -1.55,2,       0.10,20110227,       1403
320620110219,       S04P,      14,          1,          9,          9,2,20110227,       1322,   -68.4144,   172.1031,       3286,  1933.8,   0.5965,  34.7063,2,  34.7065,2,    206.1,2,   205.7,2,  125.77,2,   32.50,2,    0.00,2,    2.23,2,-999.000,9,-999.000,9,-999.000,9,-999.0000,9,  -999.0,9,  -999.0,9,-999.0000,9,  -999.00,-999.000,9,-999.0000,9,-999.000,9,   0.5967,2, -999.00,9,  -999.0,9,  -999.0,-999.000,9,   -0.14,2,-999.000,9, -999.00,9, -999.00,9, -68.4144, 172.1031,-999.000,     -999.0,    34.8702,2,     -999.0,9,     -999.0,9,-999.0000,9,-999.0000,9,-999.0000,9,-999.0000,9,-999.0000,9,-999.0000,9,-999.0000,9,-999.0000,9,-999.0000,9,-999.0000,-999.000,   0.4862,     -999.0,     -999.0,9,     -999.0,9,     -999.0,9,      -1.84,2,       0.02,20110227,       1359
320620110219,       S04P,      14,          1,          8,          8,2,20110227,       1322,   -68.4144,   172.1031,       3286,  2134.3,   0.5223,  34.7038,2,  34.7038,2,    208.1,2,   208.1,2,  125.90,2,   32.55,2,    0.00,2,    2.23,2,   0.228,2,   0.124,2,   0.024,2,   0.1760,2,  2262.6,2,  2360.1,2,   7.5841,4,    25.00,-999.000,9,-999.0000,9,-999.000,9,   0.5220,2, -999.00,9,  -999.0,9,  -999.0,-999.000,9,   -0.12,2,-999.000,9, -999.00,9, -999.00,9, -68.4144, 172.1031,-999.000,     -999.0,    34.8674,2,     -999.0,9,     -999.0,9,-999.0000,9,-999.0000,9,-999.0000,9,-999.0000,9,-999.0000,9,-999.0000,9,-999.0000,9,-999.0000,9,-999.0000,9,-999.0000,-999.000,   0.3983,     -999.0,     -999.0,9,     -999.0,9,     -999.0,9,      -1.88,2,       0.02,20110227,       1354
320620110219,       S04P,      14,          1,          7,          7,2,20110227,       1322,   -68.4144,   172.1031,       3286,  2334.5,   0.4623,  34.7012,2,  34.7016,2,    209.9,2,   210.0,2,  126.06,2,   32.67,2,    0.00,2,    2.22,2,-999.000,9,-999.000,9,-999.000,9,-999.0000,9,  -999.0,9,  -999.0,9,-999.0000,9,  -999.00,-999.000,9,-999.0000,9,-999.000,9,   0.4620,2, -999.00,9,  -999.0,9,  -999.0,-999.000,9,   -0.19,2,-999.000,9, -999.00,9, -999.00,9, -68.4144, 172.1030,-999.000,     -999.0,    34.8652,2,     -999.0,9,     -999.0,9,-999.0000,9,-999.0000,9,-999.0000,9,-999.0000,9,-999.0000,9,-999.0000,9,-999.0000,9,-999.0000,9,-999.0000,9,-999.0000,-999.000,   0.3239,     -999.0,     -999.0,9,     -999.0,9,     -999.0,9,      -2.89,2,       0.26,20110227,       1350
320620110219,       S04P,      14,          1,          6,          6,2,20110227,       1322,   -68.4144,   172.1031,       3286,  2535.3,   0.4081,  34.6988,2,  34.6990,2,    211.7,2,   211.5,2,  126.98,2,   32.69,2,    0.00,2,    2.23,2,   0.358,2,   0.195,2,   0.034,2,   0.0820,2,  -999.0,9,  -999.0,9,-999.0000,9,  -999.00,-999.000,9,-999.0000,9,-999.000,9,   0.4076,2, -999.00,9,  -999.0,9,  -999.0,-999.000,9,   -0.14,2,-999.000,9, -999.00,9, -999.00,9, -68.4144, 172.1031,-999.000,     -999.0,    34.8627,2,     -999.0,9,     -999.0,9,-999.0000,9,-999.0000,9,-999.0000,9,-999.0000,9,-999.0000,9,-999.0000,9,-999.0000,9,-999.0000,9,-999.0000,9,-999.0000,-999.000,   0.2547,     -999.0,     -999.0,9,     -999.0,9,     -999.0,9,      -2.00,2,       0.11,20110227,       1345
320620110219,       S04P,      14,          1,          5,          5,2,20110227,       1322,   -68.4144,   172.1031,       3286,  2735.3,   0.3596,  34.6963,2,  34.6961,2,    213.6,2,   213.3,2,  125.96,2,   32.76,2,    0.00,2,    2.21,2,-999.000,9,-999.000,9,-999.000,9,-999.0000,9,  2261.4,2,  2356.7,2,   7.5858,2,    25.00,-999.000,9,-999.0000,9,-999.000,9,   0.3594,2, -999.00,9,  -999.0,9,  -999.0,-999.000,9,   -0.18,2,-999.000,9, -999.00,9, -999.00,9, -68.4144, 172.1031,-999.000,     -999.0,    34.8597,2,     -999.0,9,     -999.0,9,-999.0000,9,-999.0000,9,-999.0000,9,-999.0000,9,-999.0000,9,-999.0000,9,-999.0000,9,-999.0000,9,-999.0000,9,-999.0000,-999.000,   0.1907,     -999.0,     -999.0,9,     -999.0,9,     -999.0,9,      -2.26,2,       0.17,20110227,       1340
320620110219,       S04P,      14,          1,          4,          4,2,20110227,       1322,   -68.4144,   172.1031,       3286,  2935.1,   0.3086,  34.6933,2,  34.6935,2,    215.9,2,   215.6,2,  124.55,2,   32.78,2,    0.00,2,    2.22,2,   0.600,2,   0.364,2,   0.053,2,   0.1440,2,  -999.0,9,  -999.0,9,-999.0000,9,  -999.00,-999.000,9,-999.0000,9,-999.000,9,   0.3082,2, -999.00,9,  -999.0,9,  -999.0,-999.000,9,   -0.19,2,-999.000,9, -999.00,9, -999.00,9, -68.4144, 172.1031,-999.000,     -999.0,    34.8571,2,     -999.0,9,     -999.0,9,-999.0000,9,-999.0000,9,-999.0000,9,-999.0000,9,-999.0000,9,-999.0000,9,-999.0000,9,-999.0000,9,-999.0000,9,-999.0000,-999.000,   0.1238,     -999.0,     -999.0,9,     -999.0,9,     -999.0,9,      -2.66,2,       0.03,20110227,       1336
320620110219,       S04P,      14,          1,          3,          3,2,20110227,       1322,   -68.4144,   172.1031,       3286,  3134.1,   0.2468,  34.6883,2,  34.6880,2,    218.2,2,   218.2,2,  121.28,2,   32.64,2,    0.00,2,    2.21,2,   0.820,2,   0.449,2,   0.074,2,   0.2250,2,  2259.8,6,  2358.0,2,   7.5843,4,    25.00,-999.000,9,-999.0000,9,-999.000,9,   0.2464,2, -999.00,9,  -999.0,9,  -999.0,-999.000,9,   -0.24,2,-999.000,9, -999.00,9, -999.00,9, -68.4144, 172.1031,-999.000,     -999.0,    34.8516,2,     -999.0,9,     -999.0,9,-999.0000,9,-999.0000,9,-999.0000,9,-999.0000,9,-999.0000,9,-999.0000,9,-999.0000,9,-999.0000,9,-999.0000,9,-999.0000,-999.000,   0.0460,     -999.0,     -999.0,9,     -999.0,9,     -999.0,9,      -2.72,2,       0.06,20110227,       1330
320620110219,       S04P,      14,          1,          2,          2,2,20110227,       1322,   -68.4144,   172.1031,       3286,  3283.7,   0.0827,  34.6767,2,  34.6780,2,    224.9,2,   224.9,2,  111.64,2,   32.37,2,    0.00,2,    2.18,2,   1.398,2,   0.802,2,   0.148,2,-999.0000,9,  2259.3,2,  2353.4,6,   7.5830,2,    25.00,-999.000,9,-999.0000,9,-999.000,9,   0.0820,2, -999.00,9,  -999.0,9,  -999.0,-999.000,9,   -0.27,2,-999.000,9, -999.00,9, -999.00,9, -68.4144, 172.1031,-999.000,     -999.0,    34.8415,2,     -999.0,9,     -999.0,9,-999.0000,9,-999.0000,9,-999.0000,9,-999.0000,9,-999.0000,9,-999.0000,9,-999.0000,9,-999.0000,9,-999.0000,9,-999.0000,-999.000,  -0.1276,     -999.0,     -999.0,9,     -999.0,9,     -999.0,9,      -3.17,2,       0.11,20110227,       1325
320620110219,       S04P,      14,          1,          1,          1,2,20110227,       1322,   -68.4144,   172.1031,       3286,  3335.2,  -0.0277,  34.6695,2,  34.6694,2,    231.7,2,   231.4,2,  104.53,2,   32.17,2,    0.00,2,    2.18,2,   1.803,2,   1.041,2,   0.176,2,-999.0000,9,  2255.8,2,  2351.6,2,   7.5825,6,    25.00,-999.000,9,-999.0000,9,-999.000,9,  -0.0295,2, -999.00,9,  -999.0,9,  -999.0,-999.000,9, -999.00,9,-999.000,9, -999.00,9, -999.00,9, -68.4144, 172.1031,-999.000,     -999.0,    34.8328,2,     -999.0,9,     -999.0,9,-999.0000,9,-999.0000,9,-999.0000,9,-999.0000,9,-999.0000,9,-999.0000,9,-999.0000,9,-999.0000,9,-999.0000,9,-999.0000,-999.000,  -0.2399,     -999.0,     -999.0,9,     -999.0,9,     -999.0,9,     -999.0,9,     -999.0,20110227,       1322