BOTTLE,20220813CCHSIOAMB
EXPOCODE,SECT_ID,STNNBR,CASTNO,SAMPNO,BTLNBR,BTLNBR_FLAG_W,DATE,TIME,LATITUDE,LONGITUDE,DEPTH,CTDPRS,CTDTMP,CTDSAL,CTDSAL_FLAG_W,SALNTY,SALNTY_FLAG_W,CTDOXY,CTDOXY_FLAG_W,OXYGEN,OXYGEN_FLAG_W,SILCAT,SILCAT_FLAG_W,NITRAT,NITRAT_FLAG_W,NITRIT,NITRIT_FLAG_W,PHSPHT,PHSPHT_FLAG_W,CFC-11,CFC-11_FLAG_W,CFC-12,CFC-12_FLAG_W,CFC113,CFC113_FLAG_W,SF6,SF6_FLAG_W,TCARBN,TCARBN_FLAG_W,ALKALI,ALKALI_FLAG_W,PH_TOT,PH_TOT_FLAG_W,PH_TMP,TRITUM,TRITUM_FLAG_W,HELIUM,HELIUM_FLAG_W,DELHE3,DELHE3_FLAG_W,REFTMP,REFTMP_FLAG_W,DELC13,DELC13_FLAG_W,DELC14,DELC14_FLAG_W,C14ERR,NEON,NEON_FLAG_W,DELO18,DELO18_FLAG_W,POC,POC_FLAG_W,DOC,DOC_FLAG_W,TDN,TDN_FLAG_W,BTL_LAT,BTL_LON,TRITER,NEONER,SALTREF,SALTREF_FLAG_W,PIGMENTS,PIGMENTS_FLAG_W,LAB_DEN,LAB_DEN_FLAG_W,CDOM325,CDOM325_FLAG_W,CDOM340,CDOM340_FLAG_W,CDOM380,CDOM380_FLAG_W,CDOM412,CDOM412_FLAG_W,CDOM443,CDOM443_FLAG_W,CDOM490,CDOM490_FLAG_W,CDOM555,CDOM555_FLAG_W,CDOMSL,CDOMSL_FLAG_W,CDOMSN,CDOMSN_FLAG_W,HELIER,DELHER,THETA,LDEO_SAMPNO,ABSORBTION,ABSORBTION_FLAG_W,IMAGE_COUNT,IMAGE_COUNT_FLAG_W,CYTO_COUNT,CYTO_COUNT_FLAG_W,DELD,DELD_FLAG_W,DELDERR,BTL_DATE,BTL_TIME
,,,,,,,,,,,METERS,DBAR,ITS-90,PSS-78,,PSS-78,,UMOL/KG,,UMOL/KG,,UMOL/KG,,UMOL/KG,,UMOL/KG,,UMOL/KG,,PMOL/KG,,PMOL/KG,,PMOL/KG,,FMOL/KG,,UMOL/KG,,UMOL/KG,,,,DEG C,TU,,NMOL/KG,,PERCNT,,DEG C,,/MILLE,,/MILLE,,/MILLE,NMOL/KG,,/MILLE,,UG/KG,,UMOL/KG,,UMOL/KG,,,,TU,NMOL/KG,G/KG,,,,,,1/M,,1/M,,1/M,,1/M,,1/M,,1/M,,1/M,,1/NM,,1/NM,,NMOL/KG,PERCNT,DEG C,,,,,,,,/MILLE,,/MILLE,,
320620110219,       S04P,       9,          1,         36,         36,2,20110224,       0209,   -69.6661,   169.9073,       2747,     3.8,  -1.3216,  34.0453,2,  34.0460,2,    344.3,3,   346.4,2,   67.16,2,   28.52,2,    0.14,2,    1.90,2,   5.660,2,   3.174,2,   0.581,2,   2.7200,2,  2193.9,2,  2303.4,6,   7.6528,4,    25.00,-999.000,9,-999.0000,9,-999.000,9,  -1.3252,2, -999.00,9,  -999.0,9,  -999.0,-999.000,9, -999.00,9,-999.000,9, -999.00,9, -999.00,9, -69.6661, 169.9073,-999.000,     -999.0,    34.2066,2,     -999.0,9,     -999.0,9,-999.0000,9,-999.0000,9,-999.0000,9,-999.0000,9,-999.0000,9,-999.0000,9,-999.0000,9,-999.0000,9,-999.0000,9,-999.0000,-999.000,  -1.3217,     -999.0,     -999.0,9,     -999.0,9,     -999.0,9,     -999.0,9,     -999.0,20110224,       0346
320620110219,       S04P,       9,          1,         35,         35,2,20110224,       0209,   -69.6661,   169.9073,       2747,    24.5,  -1.4644,  34.0478,2,  34.0493,2,    344.5,2,   345.7,2,   67.77,2,   28.49,2,    0.13,2,    1.91,2,   5.654,2,   3.140,2,   0.576,2,   2.7170,2,  2193.1,6,  2303.9,2,   7.6528,2,    25.00,-999.000,9,-999.0000,9,-999.000,9,  -1.4640,2, -999.00,9,  -999.0,9,  -999.0,-999.000,9, -999.00,9,-999.000,9, -999.00,9, -999.00,9, -69.6661, 169.9073,-999.000,     -999.0,    34.2099,2,     -999.0,9,     -999.0,9,-999.0000,9,-999.0000,9,-999.0000,9,-999.0000,9,-999.0000,9,-999.0000,9,-999.0000,9,-999.0000,9,-999.0000,9,-999.0000,-999.000,  -1.4649,     -999.0,     -999.0,9,     -999.0,9,     -999.0,9,     -999.0,9,     -999.0,20110224,       0344
320620110219,       S04P,       9,          1,         34,         34,2,20110224,       0209,   -69.6661,   169.9073,       2747,    49.3,  -1.5468,  34.0605,2,  34.0587,2,   -999.0,9,  -999.0,5,   67.76,2,   28.51,2,    0.13,2,    1.91,2,   5.554,2,   3.073,2,   0.561,2,   2.6970,2,  2193.6,2,  2303.4,2,   7.6410,6,    25.00,-999.000,9,-999.0000,9,-999.000,9,  -1.5447,2, -999.00,9,  -999.0,9,  -999.0,-999.000,9, -999.00,9,-999.000,9, -999.00,9, -999.00,9, -69.6661, 169.9073,-999.000,     -999.0,    34.2193,2,     -999.0,9,     -999.0,9,-999.0000,9,-999.0000,9,-999.0000,9,-999.0000,9,-999.0000,9,-999.0000,9,-999.0000,9,-999.0000,9,-999.0000,9,-999.0000,-999.000,  -1.5478,     -999.0,     -999.0,9,     -999.0,9,     -999.0,9,     -999.0,9,     -999.0,20110224,       0342
320620110219,       S04P,       9,          1,         33,         33,2,20110224,       0209,   -69.6661,   169.9073,       2747,    75.4,  -1.6868,  34.0843,2,  34.0844,2,    341.6,2,   338.9,2,   68.18,2,   28.86,2,    0.12,2,    1.95,2,   5.285,2,   2.944,2,   0.538,2,   2.6840,2,  2197.3,2,  2303.7,2,   7.6440,4,    25.00,-999.000,9,-999.0000,9,-999.000,9,  -1.6872,2, -999.00,9,  -999.0,9,  -999.0,-999.000,9, -999.00,9,-999.000,9, -999.00,9, -999.00,9, -69.6660, 169.9073,-999.000,     -999.0,    34.2451,2,     -999.0,9,     -999.0,9,-999.0000,9,-999.0000,9,-999.0000,9,-999.0000,9,-999.0000,9,-999.0000,9,-999.0000,9,-999.0000,9,-999.0000,9,-999.0000,-999.000,  -1.6883,     -999.0,     -999.0,9,     -999.0,9,     -999.0,9,     -999.0,9,     -999.0,20110224,       0340
320620110219,       S04P,       9,          1,         32,         32,2,20110224,       0209,   -69.6661,   169.9073,       2747,    99.4,  -1.6527,  34.1328,2,  34.1627,3,    338.6,2,   320.3,2,   68.86,2,   29.56,2,    0.12,2,    1.97,2,-999.000,9,-999.000,9,-999.000,9,-999.0000,9,  2207.1,2,  2308.3,2,   7.6260,2,    25.00,-999.000,9,-999.0000,9,-999.000,9,  -1.6523,2, -999.00,9,  -999.0,9,  -999.0,-999.000,9, -999.00,9,-999.000,9, -999.00,9, -999.00,9, -69.6661, 169.9073,-999.000,     -999.0,    34.3238,3,     -999.0,9,     -999.0,9,-999.0000,9,-999.0000,9,-999.0000,9,-999.0000,9,-999.0000,9,-999.0000,9,-999.0000,9,-999.0000,9,-999.0000,9,-999.0000,-999.000,  -1.6548,     -999.0,     -999.0,9,     -999.0,9,     -999.0,9,     -999.0,9,     -999.0,20110224,       0339
320620110219,       S04P,       9,          1,         31,         31,2,20110224,       0209,   -69.6661,   169.9073,       2747,   124.6,  -1.7452,  34.3237,2,  34.3223,2,    297.5,2,   291.4,2,   69.60,2,   30.49,2,    0.05,2,    2.02,2,   4.445,2,   2.438,2,   0.458,2,   1.9460,2,  -999.0,9,  -999.0,9,-999.0000,9,  -999.00,-999.000,9,-999.0000,9,-999.000,9,  -1.7452,2, -999.00,9,  -999.0,9,  -999.0,-999.000,9, -999.00,9,-999.000,9, -999.00,9, -999.00,9, -69.6661, 169.9073,-999.000,     -999.0,    34.4841,2,     -999.0,9,     -999.0,9,-999.0000,9,-999.0000,9,-999.0000,9,-999.0000,9,-999.0000,9,-999.0000,9,-999.0000,9,-999.0000,9,-999.0000,9,-999.0000,-999.000,  -1.7478,     -999.0,     -999.0,9,     -999.0,9,     -999.0,9,     -999.0,9,     -999.0,20110224,       0337
320620110219,       S04P,       9,          1,         30,         30,2,20110224,       0209,   -69.6661,   169.9073,       2747,   150.1,  -1.6339,  34.3456,2,  34.3399,2,    285.7,2,   286.1,2,   70.34,2,   30.68,2,    0.02,2,    2.05,2,-999.000,9,-999.000,9,-999.000,9,-999.0000,9,  2223.5,2,  2319.9,2,   7.6027,2,    25.00,-999.000,9,-999.0000,9,-999.000,9,  -1.6342,2, -999.00,9,  -999.0,9,  -999.0,-999.000,9, -999.00,9,-999.000,9, -999.00,9, -999.00,9, -69.6661, 169.9073,-999.000,     -999.0,    34.5018,2,     -999.0,9,     -999.0,9,-999.0000,9,-999.0000,9,-999.0000,9,-999.0000,9,-999.0000,9,-999.0000,9,-999.0000,9,-999.0000,9,-999.0000,9,-999.0000,-999.000,  -1.6372,     -999.0,     -999.0,9,     -999.0,9,     -999.0,9,     -999.0,9,     -999.0,20110224,       0335
320620110219,       S04P,       9,          1,         29,         29,2,20110224,       0209,   -69.6661,   169.9073,       2747,   174.3,  -1.3335,  34.3829,2,  34.3787,2,    273.6,2,   276.1,2,   73.45,2,   30.81,2,    0.01,2,    2.07,2,   3.911,2,   2.114,2,   0.396,2,   1.7370,2,  -999.0,9,  -999.0,9,-999.0000,9,  -999.00,-999.000,9,-999.0000,9,-999.000,9,  -1.3478,2, -999.00,9,  -999.0,9,  -999.0,-999.000,9, -999.00,9,-999.000,9, -999.00,9, -999.00,9, -69.6661, 169.9073,-999.000,     -999.0,    34.5408,2,     -999.0,9,     -999.0,9,-999.0000,9,-999.0000,9,-999.0000,9,-999.0000,9,-999.0000,9,-999.0000,9,-999.0000,9,-999.0000,9,-999.0000,9,-999.0000,-999.000,  -1.3378,     -999.0,     -999.0,9,     -999.0,9,     -999.0,9,     -999.0,9,     -999.0,20110224,       0333
320620110219,       S04P,       9,          1,         28,         28,2,20110224,       0209,   -69.6661,   169.9073,       2747,   200.3,  -0.7836,  34.4480,2,  34.4353,2,    255.3,2,   255.9,2,   78.54,2,   31.21,2,    0.01,2,    2.09,2,-999.000,9,-999.000,9,-999.000,9,-999.0000,9,  2235.2,2,  2327.6,2,   7.5887,2,    25.00,-999.000,9,-999.0000,9,-999.000,9,  -0.7719,2, -999.00,9,  -999.0,9,  -999.0,-999.000,9, -999.00,9,-999.000,9, -999.00,9, -999.00,9, -69.6661, 169.9074,-999.000,     -999.0,    34.5977,2,     -999.0,9,     -999.0,9,-999.0000,9,-999.0000,9,-999.0000,9,-999.0000,9,-999.0000,9,-999.0000,9,-999.0000,9,-999.0000,9,-999.0000,9,-999.0000,-999.000,  -0.7896,     -999.0,     -999.0,9,     -999.0,9,     -999.0,9,     -999.0,9,     -999.0,20110224,       0331
320620110219,       S04P,       9,          1,         27,         27,2,20110224,       0209,   -69.6661,   169.9073,       2747,   224.9,  -0.3766,  34.5054,2,  34.4992,2,    239.2,2,   239.1,2,   83.94,2,   31.57,2,    0.00,2,    2.13,2,   2.480,2,   1.363,2,   0.251,2,   0.9800,2,  -999.0,9,  -999.0,9,-999.0000,9,  -999.00,-999.000,9,-999.0000,9,-999.000,9,  -0.3766,2, -999.00,9,  -999.0,9,  -999.0,-999.000,9, -999.00,9,-999.000,9, -999.00,9, -999.00,9, -69.6661, 169.9073,-999.000,     -999.0,    34.6619,2,     -999.0,9,     -999.0,9,-999.0000,9,-999.0000,9,-999.0000,9,-999.0000,9,-999.0000,9,-999.0000,9,-999.0000,9,-999.0000,9,-999.0000,9,-999.0000,-999.000,  -0.3842,     -999.0,     -999.0,9,     -999.0,9,     -999.0,9,     -999.0,9,     -999.0,20110224,       0330
320620110219,       S04P,       9,          1,         26,         26,2,20110224,       0209,   -69.6661,   169.9073,       2747,   249.2,  -0.0515,  34.5448,2,  34.5449,2,    228.8,2,   227.9,2,   86.96,2,   31.70,2,    0.00,2,    2.15,2,-999.000,9,-999.000,9,-999.000,9,-999.0000,9,  2243.9,2,  2335.7,2,   7.5779,2,    25.00,-999.000,9,-999.0000,9,-999.000,9,  -0.0477,2, -999.00,9,  -999.0,9,  -999.0,-999.000,9, -999.00,9,-999.000,9, -999.00,9, -999.00,9, -69.6660, 169.9073,-999.000,     -999.0,    34.7078,2,     -999.0,9,     -999.0,9,-999.0000,9,-999.0000,9,-999.0000,9,-999.0000,9,-999.0000,9,-999.0000,9,-999.0000,9,-999.0000,9,-999.0000,9,-999.0000,-999.000,  -0.0607,     -999.0,     -999.0,9,     -999.0,9,     -999.0,9,     -999.0,9,     -999.0,20110224,       0328
320620110219,       S04P,       9,          1,         25,         25,2,20110224,       0209,   -69.6661,   169.9073,       2747,   299.9,   0.6013,  34.6200,2,  34.6183,2,    207.7,2,   209.3,2,   91.64,2,   32.00,2,    0.00,2,    2.17,2,   1.517,2,   0.721,2,   0.123,2,   0.5260,2,  2252.1,2,  2342.6,2,   7.5713,2,    25.00,-999.000,9,-999.0000,9,-999.000,9,   0.5992,2, -999.00,9,  -999.0,9,  -999.0,-999.000,9, -999.00,9,-999.000,9, -999.00,9, -999.00,9, -69.6661, 169.9074,-999.000,     -999.0,    34.7815,2,     -999.0,9,     -999.0,9,-999.0000,9,-999.0000,9,-999.0000,9,-999.0000,9,-999.0000,9,-999.0000,9,-999.0000,9,-999.0000,9,-999.0000,9,-999.0000,-999.000,   0.5884,     -999.0,     -999.0,9,     -999.0,9,     -999.0,9,     -999.0,9,     -999.0,20110224,       0326
320620110219,       S04P,       9,          1,         24,         24,2,20110224,       0209,   -69.6661,   169.9073,       2747,   349.6,   0.8787,  34.6591,2,  34.6571,2,    200.8,2,   200.5,2,   94.45,2,   32.02,2,    0.00,2,    2.18,2,-999.000,9,-999.000,9,-999.000,9,-999.0000,9,  2254.9,2,  2344.6,2,   7.5692,2,    25.00,-999.000,9,-999.0000,9,-999.000,9,   0.8798,2, -999.00,9,  -999.0,9,  -999.0,-999.000,9, -999.00,9,-999.000,9, -999.00,9, -999.00,9, -69.6660, 169.9073,-999.000,     -999.0,    34.8205,2,     -999.0,9,     -999.0,9,-999.0000,9,-999.0000,9,-999.0000,9,-999.0000,9,-999.0000,9,-999.0000,9,-999.0000,9,-999.0000,9,-999.0000,9,-999.0000,-999.000,   0.8627,     -999.0,     -999.0,9,     -999.0,9,     -999.0,9,     -999.0,9,     -999.0,20110224,       0324
320620110219,       S04P,       9,          1,         23,         23,2,20110224,       0209,   -69.6661,   169.9073,       2747,   400.3,   1.0300,  34.6829,2,  34.6826,2,    195.8,2,   196.1,2,   97.06,2,   32.15,2,    0.00,2,    2.17,2,   0.745,2,   0.383,2,   0.069,2,   0.1900,2,  2255.1,2,  2346.8,2,   7.5714,2,    25.00,-999.000,9,-999.0000,9,-999.000,9,   1.0292,2, -999.00,9,  -999.0,9,  -999.0,-999.000,9, -999.00,9,-999.000,9, -999.00,9, -999.00,9, -69.6661, 169.9073,-999.000,     -999.0,    34.8462,2,     -999.0,9,     -999.0,9,-999.0000,9,-999.0000,9,-999.0000,9,-999.0000,9,-999.0000,9,-999.0000,9,-999.0000,9,-999.0000,9,-999.0000,9,-999.0000,-999.000,   1.0110,     -999.0,     -999.0,9,     -999.0,9,     -999.0,9,     -999.0,9,     -999.0,20110224,       0322
320620110219,       S04P,       9,          1,         22,         22,2,20110224,       0209,   -69.6661,   169.9073,       2747,   450.7,   0.9113,  34.6792,2,  34.6769,2,    194.0,2,   199.7,2,   98.51,2,   32.07,2,    0.00,2,    2.14,2,-999.000,9,-999.000,9,-999.000,9,-999.0000,9,  -999.0,9,  -999.0,9,-999.0000,9,  -999.00,-999.000,9,-999.0000,9,-999.000,9,   0.9102,2, -999.00,9,  -999.0,9,  -999.0,-999.000,9, -999.00,9,-999.000,9, -999.00,9, -999.00,9, -69.6661, 169.9073,-999.000,     -999.0,    34.8405,2,     -999.0,9,     -999.0,9,-999.0000,9,-999.0000,9,-999.0000,9,-999.0000,9,-999.0000,9,-999.0000,9,-999.0000,9,-999.0000,9,-999.0000,9,-999.0000,-999.000,   0.8902,     -999.0,     -999.0,9,     -999.0,9,     -999.0,9,     -999.0,9,     -999.0,20110224,       0320
320620110219,       S04P,       9,          1,         21,         21,2,20110224,       0209,   -69.6661,   169.9073,       2747,   499.4,   0.9104,  34.6848,2,  34.6834,2,   -999.0,9,  -999.0,5,  100.17,2,   32.08,2,    0.00,2,    2.13,2,   0.754,2,   0.381,2,   0.058,2,   0.2140,2,  2258.0,2,  2348.5,2,   7.5755,2,    25.00,-999.000,9,-999.0000,9,-999.000,9,   0.9098,2, -999.00,9,  -999.0,9,  -999.0,-999.000,9, -999.00,9,-999.000,9, -999.00,9, -999.00,9, -69.6660, 169.9073,-999.000,     -999.0,    34.8470,2,     -999.0,9,     -999.0,9,-999.0000,9,-999.0000,9,-999.0000,9,-999.0000,9,-999.0000,9,-999.0000,9,-999.0000,9,-999.0000,9,-999.0000,9,-999.0000,-999.000,   0.8868,     -999.0,     -999.0,9,     -999.0,9,     -999.0,9,     -999.0,9,     -999.0,20110224,       0318
320620110219,       S04P,       9,          1,         20,         20,2,20110224,       0209,   -69.6661,   169.9073,       2747,   599.6,   0.9073,  34.6958,2,  34.6948,2,    199.1,2,   199.4,2,  104.06,2,   32.00,2,    0.00,2,    2.16,2,-999.000,9,-999.000,9,-999.000,9,-999.0000,9,  -999.0,9,  -999.0,9,-999.0000,9,  -999.00,-999.000,9,-999.0000,9,-999.000,9,   0.9082,2, -999.00,9,  -999.0,9,  -999.0,-999.000,9, -999.00,9,-999.000,9, -999.00,9, -999.00,9, -69.6660, 169.9073,-999.000,     -999.0,    34.8584,2,     -999.0,9,     -999.0,9,-999.0000,9,-999.0000,9,-999.0000,9,-999.0000,9,-999.0000,9,-999.0000,9,-999.0000,9,-999.0000,9,-999.0000,9,-999.0000,-999.000,   0.8784,     -999.0,     -999.0,9,     -999.0,9,     -999.0,9,     -999.0,9,     -999.0,20110224,       0315
320620110219,       S04P,       9,          1,         19,         19,2,20110224,       0209,   -69.6661,   169.9073,       2747,   700.5,   0.8297,  34.6945,2,  34.6968,2,    202.0,2,   202.1,2,  105.63,2,   31.82,2,    0.00,2,    2.17,2,   0.605,2,   0.298,2,   0.052,2,   0.1640,2,  2258.5,2,  2351.2,2,   7.5834,2,    25.00,-999.000,9,-999.0000,9,-999.000,9,   0.8292,2, -999.00,9,  -999.0,9,  -999.0,-999.000,9, -999.00,9,-999.000,9, -999.00,9, -999.00,9, -69.6660, 169.9073,-999.000,     -999.0,    34.8604,2,     -999.0,9,     -999.0,9,-999.0000,9,-999.0000,9,-999.0000,9,-999.0000,9,-999.0000,9,-999.0000,9,-999.0000,9,-999.0000,9,-999.0000,9,-999.0000,-999.000,   0.7958,     -999.0,     -999.0,9,     -999.0,9,     -999.0,9,     -999.0,9,     -999.0,20110224,       0312
320620110219,       S04P,       9,          1,         18,         18,2,20110224,       0209,   -69.6661,   169.9073,       2747,   799.9,   0.7994,  34.6971,2,  34.7005,2,    202.2,2,   201.8,2,  108.36,2,   31.95,2,    0.00,2,    2.18,2,-999.000,9,-999.000,9,-999.000,9,-999.0000,9,  -999.0,9,  -999.0,9,-999.0000,9,  -999.00,-999.000,9,-999.0000,9,-999.000,9,   0.7996,2, -999.00,9,  -999.0,9,  -999.0,-999.000,9, -999.00,9,-999.000,9, -999.00,9, -999.00,9, -69.6661, 169.9073,-999.000,     -999.0,    34.8641,2,     -999.0,9,     -999.0,9,-999.0000,9,-999.0000,9,-999.0000,9,-999.0000,9,-999.0000,9,-999.0000,9,-999.0000,9,-999.0000,9,-999.0000,9,-999.0000,-999.000,   0.7602,     -999.0,     -999.0,9,     -999.0,9,     -999.0,9,     -999.0,9,     -999.0,20110224,       0309
320620110219,       S04P,       9,          1,         17,         17,2,20110224,       0209,   -69.6661,   169.9073,       2747,   900.8,   0.7422,  34.6970,2,  34.6966,2,    204.3,2,   205.2,2,  110.28,2,   32.12,2,    0.00,2,    2.17,2,   0.719,2,   0.267,2,   0.043,2,   0.1990,2,  2259.4,2,  2354.6,2,   7.5859,2,    25.00,-999.000,9,-999.0000,9,-999.000,9,   0.7417,2, -999.00,9,  -999.0,9,  -999.0,-999.000,9, -999.00,9,-999.000,9, -999.00,9, -999.00,9, -69.6661, 169.9073,-999.000,     -999.0,    34.8602,2,     -999.0,9,     -999.0,9,-999.0000,9,-999.0000,9,-999.0000,9,-999.0000,9,-999.0000,9,-999.0000,9,-999.0000,9,-999.0000,9,-999.0000,9,-999.0000,-999.000,   0.6977,     -999.0,     -999.0,9,     -999.0,9,     -999.0,9,     -999.0,9,     -999.0,20110224,       0306
320620110219,       S04P,       9,          1,         16,         16,2,20110224,       0209,   -69.6661,   169.9073,       2747,  1000.9,   0.6870,  34.6965,2,  34.6979,2,    205.2,2,   205.5,2,  112.29,2,   31.94,2,    0.00,2,    2.18,2,-999.000,9,-999.000,9,-999.000,9,-999.0000,9,  -999.0,9,  -999.0,9,-999.0000,9,  -999.00,-999.000,9,-999.0000,9,-999.000,9,   0.6868,2, -999.00,9,  -999.0,9,  -999.0,-999.000,9, -999.00,9,-999.000,9, -999.00,9, -999.00,9, -69.6661, 169.9073,-999.000,     -999.0,    34.8616,2,     -999.0,9,     -999.0,9,-999.0000,9,-999.0000,9,-999.0000,9,-999.0000,9,-999.0000,9,-999.0000,9,-999.0000,9,-999.0000,9,-999.0000,9,-999.0000,-999.000,   0.6371,     -999.0,     -999.0,9,     -999.0,9,     -999.0,9,     -999.0,9,     -999.0,20110224,       0303
320620110219,       S04P,       9,          1,         15,         15,2,20110224,       0209,   -69.6661,   169.9073,       2747,  1099.6,   0.6396,  34.6952,2,  34.6946,2,    206.7,2,   206.9,2,  113.20,2,   32.19,2,    0.00,2,    2.18,2,   0.589,2,   0.286,2,   0.055,2,   0.1850,2,  2258.9,2,  2354.5,2,   7.5833,2,    25.00,-999.000,9,-999.0000,9,-999.000,9,   0.6393,2, -999.00,9,  -999.0,9,  -999.0,-999.000,9, -999.00,9,-999.000,9, -999.00,9, -999.00,9, -69.6661, 169.9073,-999.000,     -999.0,    34.8582,2,     -999.0,9,     -999.0,9,-999.0000,9,-999.0000,9,-999.0000,9,-999.0000,9,-999.0000,9,-999.0000,9,-999.0000,9,-999.0000,9,-999.0000,9,-999.0000,-999.000,   0.5843,     -999.0,     -999.0,9,     -999.0,9,     -999.0,9,     -999.0,9,     -999.0,20110224,       0259
320620110219,       S04P,       9,          1,         14,         14,2,20110224,       0209,   -69.6661,   169.9073,       2747,  1199.2,   0.5366,  34.6884,2,  34.6876,2,    209.0,2,   210.3,2,  112.24,2,   32.09,2,    0.00,2,    2.18,2,-999.000,9,-999.000,9,-999.000,9,-999.0000,9,  -999.0,9,  -999.0,9,-999.0000,9,  -999.00,-999.000,9,-999.0000,9,-999.000,9,   0.5361,2, -999.00,9,  -999.0,9,  -999.0,-999.000,9, -999.00,9,-999.000,9, -999.00,9, -999.00,9, -69.6661, 169.9073,-999.000,     -999.0,    34.8511,2,     -999.0,9,     -999.0,9,-999.0000,9,-999.0000,9,-999.0000,9,-999.0000,9,-999.0000,9,-999.0000,9,-999.0000,9,-999.0000,9,-999.0000,9,-999.0000,-999.000,   0.4762,     -999.0,     -999.0,9,     -999.0,9,     -999.0,9,     -999.0,9,     -999.0,20110224,       0256