BOTTLE,20220813CCHSIOAMB
EXPOCODE,SECT_ID,STNNBR,CASTNO,SAMPNO,BTLNBR,BTLNBR_FLAG_W,DATE,TIME,LATITUDE,LONGITUDE,DEPTH,CTDPRS,CTDTMP,CTDSAL,CTDSAL_FLAG_W,SALNTY,SALNTY_FLAG_W,CTDOXY,CTDOXY_FLAG_W,OXYGEN,OXYGEN_FLAG_W,SILCAT,SILCAT_FLAG_W,NITRAT,NITRAT_FLAG_W,NITRIT,NITRIT_FLAG_W,PHSPHT,PHSPHT_FLAG_W,CFC-11,CFC-11_FLAG_W,CFC-12,CFC-12_FLAG_W,CFC113,CFC113_FLAG_W,SF6,SF6_FLAG_W,TCARBN,TCARBN_FLAG_W,ALKALI,ALKALI_FLAG_W,PH_TOT,PH_TOT_FLAG_W,PH_TMP,TRITUM,TRITUM_FLAG_W,HELIUM,HELIUM_FLAG_W,DELHE3,DELHE3_FLAG_W,REFTMP,REFTMP_FLAG_W,DELC13,DELC13_FLAG_W,DELC14,DELC14_FLAG_W,C14ERR,NEON,NEON_FLAG_W,DELO18,DELO18_FLAG_W,POC,POC_FLAG_W,DOC,DOC_FLAG_W,TDN,TDN_FLAG_W,BTL_LAT,BTL_LON,TRITER,NEONER,SALTREF,SALTREF_FLAG_W,PIGMENTS,PIGMENTS_FLAG_W,LAB_DEN,LAB_DEN_FLAG_W,CDOM325,CDOM325_FLAG_W,CDOM340,CDOM340_FLAG_W,CDOM380,CDOM380_FLAG_W,CDOM412,CDOM412_FLAG_W,CDOM443,CDOM443_FLAG_W,CDOM490,CDOM490_FLAG_W,CDOM555,CDOM555_FLAG_W,CDOMSL,CDOMSL_FLAG_W,CDOMSN,CDOMSN_FLAG_W,HELIER,DELHER,THETA,LDEO_SAMPNO,ABSORBTION,ABSORBTION_FLAG_W,IMAGE_COUNT,IMAGE_COUNT_FLAG_W,CYTO_COUNT,CYTO_COUNT_FLAG_W,DELD,DELD_FLAG_W,DELDERR,BTL_DATE,BTL_TIME
,,,,,,,,,,,METERS,DBAR,ITS-90,PSS-78,,PSS-78,,UMOL/KG,,UMOL/KG,,UMOL/KG,,UMOL/KG,,UMOL/KG,,UMOL/KG,,PMOL/KG,,PMOL/KG,,PMOL/KG,,FMOL/KG,,UMOL/KG,,UMOL/KG,,,,DEG C,TU,,NMOL/KG,,PERCNT,,DEG C,,/MILLE,,/MILLE,,/MILLE,NMOL/KG,,/MILLE,,UG/KG,,UMOL/KG,,UMOL/KG,,,,TU,NMOL/KG,G/KG,,,,,,1/M,,1/M,,1/M,,1/M,,1/M,,1/M,,1/M,,1/NM,,1/NM,,NMOL/KG,PERCNT,DEG C,,,,,,,,/MILLE,,/MILLE,,
320620110219,       S04P,      12,          1,         36,         36,2,20110227,       0154,   -69.0266,   171.0189,       3211,     3.8,  -1.4107,  33.8396,2,  33.8404,2,    339.9,3,   341.4,2,   66.94,2,   28.55,2,    0.12,2,    1.88,2,   5.617,2,   3.125,2,   0.575,2,   2.4670,2,  2180.2,2,  2290.8,2,   7.6448,2,    25.00,   0.076,2,    1.971,2,  -1.472,2,  -1.4106,2,    0.94,2,  -125.3,2,     2.8,   8.905,2,   -0.26,2,-999.000,9, -999.00,9, -999.00,9, -69.0265, 171.0190,   0.004,      0.011,    34.0000,2,     -999.0,9,     -999.0,9,-999.0000,9,-999.0000,9,-999.0000,9,-999.0000,9,-999.0000,9,-999.0000,9,-999.0000,9,-999.0000,9,-999.0000,9,    0.000,   0.200,  -1.4108,50001201036,     -999.0,9,     -999.0,9,     -999.0,9,      -3.15,2,       0.11,20110227,       0335
320620110219,       S04P,      12,          1,         35,         35,2,20110227,       0154,   -69.0266,   171.0189,       3211,    25.1,  -1.4428,  33.8432,2,  33.8439,2,    341.8,2,   341.3,2,   67.16,2,   28.53,2,    0.12,2,    1.88,2,   5.606,2,   3.111,2,   0.603,2,   2.2010,2,  2183.9,2,  2292.6,2,   7.6451,2,    25.00,   0.069,2,    2.155,2,  -1.835,2,  -1.4426,2, -999.00,9,  -999.0,9,  -999.0,   9.600,2,   -0.28,2,-999.000,9, -999.00,9, -999.00,9, -69.0266, 171.0190,   0.004,      0.008,    34.0035,2,     -999.0,9,     -999.0,9,-999.0000,9,-999.0000,9,-999.0000,9,-999.0000,9,-999.0000,9,-999.0000,9,-999.0000,9,-999.0000,9,-999.0000,9,    0.000,   0.188,  -1.4433,50001201035,     -999.0,9,     -999.0,9,     -999.0,9,      -3.11,2,       0.15,20110227,       0333
320620110219,       S04P,      12,          1,         34,         34,2,20110227,       0154,   -69.0266,   171.0189,       3211,    49.7,  -1.5381,  33.9233,2,  33.9147,2,    337.5,2,   337.4,2,   68.82,2,   28.73,2,    0.12,2,    1.93,2,   5.312,2,   2.987,2,   0.563,2,   2.1960,2,  2190.3,2,  2294.0,6,   7.6458,4,    25.00,   0.077,2,    2.086,2,  -1.339,2,  -1.5340,2,    0.89,2,  -125.0,2,     2.4,   9.374,2,   -0.31,2,-999.000,9, -999.00,9, -999.00,9, -69.0266, 171.0190,   0.004,      0.016,    34.0746,2,     -999.0,9,     -999.0,9,-999.0000,9,-999.0000,9,-999.0000,9,-999.0000,9,-999.0000,9,-999.0000,9,-999.0000,9,-999.0000,9,-999.0000,9,    0.001,   0.225,  -1.5391,50001201034,     -999.0,9,     -999.0,9,     -999.0,9,      -3.76,2,       0.30,20110227,       0332
320620110219,       S04P,      12,          1,         33,         33,2,20110227,       0154,   -69.0266,   171.0189,       3211,    74.9,  -1.6837,  34.0922,2,  34.0962,2,    298.8,2,   299.9,2,   71.53,2,   29.71,2,    0.13,2,    2.00,2,   4.300,2,   2.415,2,   0.462,2,   1.6910,2,  2206.9,2,  2305.5,2,   7.6167,6,    25.00,   0.064,2,    2.215,4,   1.031,2,  -1.6814,2,    0.79,2,  -128.5,2,     2.5,   9.768,4,   -0.22,2,-999.000,9, -999.00,9, -999.00,9, -69.0266, 171.0190,   0.004,      0.008,    34.2570,2,     -999.0,9,     -999.0,9,-999.0000,9,-999.0000,9,-999.0000,9,-999.0000,9,-999.0000,9,-999.0000,9,-999.0000,9,-999.0000,9,-999.0000,9,    0.001,   0.200,  -1.6852,50001201033,     -999.0,9,     -999.0,9,     -999.0,9,      -2.89,2,       0.21,20110227,       0330
320620110219,       S04P,      12,          1,         32,         32,2,20110227,       0154,   -69.0266,   171.0189,       3211,   100.2,  -0.4166,  34.4356,2,  34.4317,2,    241.6,2,   240.3,2,   80.74,2,   31.69,2,    0.08,2,    2.14,2,   2.501,2,   1.433,2,   0.284,2,   1.0050,2,  2239.2,2,  2327.3,2,   7.5837,2,    25.00,-999.000,9,-999.0000,9,-999.000,9,  -0.4176,2,    0.60,2,  -135.2,2,     2.7,-999.000,9, -999.00,9,-999.000,9, -999.00,9, -999.00,9, -69.0266, 171.0190,-999.000,     -999.0,    34.5941,2,     -999.0,9,     -999.0,9,-999.0000,9,-999.0000,9,-999.0000,9,-999.0000,9,-999.0000,9,-999.0000,9,-999.0000,9,-999.0000,9,-999.0000,9,-999.0000,-999.000,  -0.4198,     -999.0,     -999.0,9,     -999.0,9,     -999.0,9,     -999.0,9,     -999.0,20110227,       0328
320620110219,       S04P,      12,          1,         31,         31,2,20110227,       0154,   -69.0266,   171.0189,       3211,   124.4,   0.4413,  34.5569,2,  34.5572,2,    218.7,2,   213.9,2,   87.51,2,   32.39,2,    0.00,2,    2.18,2,-999.000,9,-999.000,9,-999.000,9,-999.0000,9,  -999.0,9,  -999.0,9,-999.0000,9,  -999.00,-999.000,9,-999.0000,9,-999.000,9,   0.4281,3, -999.00,9,  -999.0,9,  -999.0,-999.000,9, -999.00,9,-999.000,9, -999.00,9, -999.00,9, -69.0266, 171.0190,-999.000,     -999.0,    34.7201,2,     -999.0,9,     -999.0,9,-999.0000,9,-999.0000,9,-999.0000,9,-999.0000,9,-999.0000,9,-999.0000,9,-999.0000,9,-999.0000,9,-999.0000,9,-999.0000,-999.000,   0.4363,     -999.0,     -999.0,9,     -999.0,9,     -999.0,9,     -999.0,9,     -999.0,20110227,       0327
320620110219,       S04P,      12,          1,         30,         30,2,20110227,       0154,   -69.0266,   171.0189,       3211,   150.1,   1.1757,  34.6559,2,  34.6570,2,    204.3,2,   192.2,2,   92.93,2,   32.70,2,    0.00,2,    2.22,2,   0.770,2,   0.434,2,   0.083,2,   0.2170,2,  2260.5,2,  2342.7,2,   7.5614,2,    25.00,   0.005,2,    2.062,2,   7.885,2,   1.1769,2,    0.43,2,  -141.8,2,     2.8,   8.979,2,   -0.10,2,-999.000,9, -999.00,9, -999.00,9, -69.0265, 171.0190,   0.005,      0.007,    34.8204,2,     -999.0,9,     -999.0,9,-999.0000,9,-999.0000,9,-999.0000,9,-999.0000,9,-999.0000,9,-999.0000,9,-999.0000,9,-999.0000,9,-999.0000,9,    0.000,   0.199,   1.1687,50001201030,     -999.0,9,     -999.0,9,     -999.0,9,      -1.71,2,       0.09,20110227,       0325
320620110219,       S04P,      12,          1,         29,         29,2,20110227,       0154,   -69.0266,   171.0189,       3211,   174.5,   1.2149,  34.6709,2,  34.6713,2,    189.5,2,   190.0,2,   93.93,2,   32.77,2,    0.00,2,    2.22,2,-999.000,9,-999.000,9,-999.000,9,-999.0000,9,  -999.0,9,  -999.0,9,-999.0000,9,  -999.00,-999.000,9,-999.0000,9,-999.000,9,   1.2318,2, -999.00,9,  -999.0,9,  -999.0,-999.000,9, -999.00,9,-999.000,9, -999.00,9, -999.00,9, -69.0265, 171.0190,-999.000,     -999.0,    34.8348,2,     -999.0,9,     -999.0,9,-999.0000,9,-999.0000,9,-999.0000,9,-999.0000,9,-999.0000,9,-999.0000,9,-999.0000,9,-999.0000,9,-999.0000,9,-999.0000,-999.000,   1.2067,     -999.0,     -999.0,9,     -999.0,9,     -999.0,9,     -999.0,9,     -999.0,20110227,       0323
320620110219,       S04P,      12,          1,         28,         28,2,20110227,       0154,   -69.0266,   171.0189,       3211,   197.4,   1.3323,  34.6938,2,  34.6923,2,    187.5,2,   188.2,2,   95.39,2,   32.54,2,    0.00,2,    2.22,2,   0.521,2,   0.279,2,   0.058,2,-999.0000,9,  2262.8,2,  2345.9,2,   7.5626,2,    25.00,   0.001,2,    2.087,2,   8.379,2,   1.3321,2,    0.40,2,  -144.1,2,     2.7,   9.097,2,   -0.08,2,-999.000,9, -999.00,9, -999.00,9, -69.0266, 171.0190,   0.004,      0.008,    34.8559,2,     -999.0,9,     -999.0,9,-999.0000,9,-999.0000,9,-999.0000,9,-999.0000,9,-999.0000,9,-999.0000,9,-999.0000,9,-999.0000,9,-999.0000,9,    0.000,   0.202,   1.3228,50001201028,     -999.0,9,     -999.0,9,     -999.0,9,      -1.54,2,       0.21,20110227,       0322
320620110219,       S04P,      12,          1,         27,         27,2,20110227,       0154,   -69.0266,   171.0189,       3211,   250.9,   1.3539,  34.7081,2,  34.7077,2,    187.6,2,   187.3,2,   97.82,2,   32.51,2,    0.00,2,    2.21,2,-999.000,9,-999.000,9,-999.000,9,-999.0000,9,  2260.1,2,  2349.0,2,   7.5665,2,    25.00,-999.000,9,-999.0000,9,-999.000,9,   1.3537,2, -999.00,9,  -999.0,9,  -999.0,-999.000,9, -999.00,9,-999.000,9, -999.00,9, -999.00,9, -69.0266, 171.0190,-999.000,     -999.0,    34.8713,2,     -999.0,9,     -999.0,9,-999.0000,9,-999.0000,9,-999.0000,9,-999.0000,9,-999.0000,9,-999.0000,9,-999.0000,9,-999.0000,9,-999.0000,9,-999.0000,-999.000,   1.3416,     -999.0,     -999.0,9,     -999.0,9,     -999.0,9,     -999.0,9,     -999.0,20110227,       0320
320620110219,       S04P,      12,          1,         26,         26,2,20110227,       0154,   -69.0266,   171.0189,       3211,   299.4,   1.3317,  34.7137,2,  34.7135,2,    188.2,2,   189.3,2,   99.46,2,   32.28,2,    0.00,2,    2.19,2,   0.371,2,   0.194,2,   0.041,2,-999.0000,9,  2261.7,2,  2351.7,2,   7.5703,2,    25.00,-999.000,9,-999.0000,9,-999.000,9,   1.3314,2, -999.00,9,  -999.0,9,  -999.0,-999.000,9, -999.00,9,-999.000,9, -999.00,9, -999.00,9, -69.0266, 171.0190,-999.000,     -999.0,    34.8772,2,     -999.0,9,     -999.0,9,-999.0000,9,-999.0000,9,-999.0000,9,-999.0000,9,-999.0000,9,-999.0000,9,-999.0000,9,-999.0000,9,-999.0000,9,-999.0000,-999.000,   1.3170,     -999.0,     -999.0,9,     -999.0,9,     -999.0,9,     -999.0,9,     -999.0,20110227,       0318
320620110219,       S04P,      12,          1,         25,         25,2,20110227,       0154,   -69.0266,   171.0189,       3211,   349.5,   1.3014,  34.7163,2,  34.7157,2,    189.1,2,   190.1,2,  100.97,2,   32.56,2,    0.00,2,    2.20,2,-999.000,9,-999.000,9,-999.000,9,-999.0000,9,  2260.6,2,  2351.6,2,   7.5726,2,    25.00,-999.000,9,-999.0000,9,-999.000,9,   1.3014,2, -999.00,9,  -999.0,9,  -999.0,-999.000,9, -999.00,9,-999.000,9, -999.00,9, -999.00,9, -69.0266, 171.0190,-999.000,     -999.0,    34.8794,2,     -999.0,9,     -999.0,9,-999.0000,9,-999.0000,9,-999.0000,9,-999.0000,9,-999.0000,9,-999.0000,9,-999.0000,9,-999.0000,9,-999.0000,9,-999.0000,-999.000,   1.2842,     -999.0,     -999.0,9,     -999.0,9,     -999.0,9,     -999.0,9,     -999.0,20110227,       0316
320620110219,       S04P,      12,          1,         24,         24,2,20110227,       0154,   -69.0266,   171.0189,       3211,   400.6,   1.2666,  34.7182,2,  34.7187,2,   -999.0,9,  -999.0,5,  103.27,2,   32.12,2,    0.00,2,    2.21,2,   0.297,2,   0.156,2,   0.034,2,   0.0890,2,  2259.9,2,  2352.1,2,   7.5718,4,    25.00,   0.001,2,    2.222,4,   8.242,2,   1.2674,2, -999.00,9,  -999.0,9,  -999.0,   9.496,4,   -0.08,2,-999.000,9, -999.00,9, -999.00,9, -69.0266, 171.0190,   0.004,      0.013,    34.8824,2,     -999.0,9,     -999.0,9,-999.0000,9,-999.0000,9,-999.0000,9,-999.0000,9,-999.0000,9,-999.0000,9,-999.0000,9,-999.0000,9,-999.0000,9,    0.000,   0.209,   1.2468,50001201024,     -999.0,9,     -999.0,9,     -999.0,9,      -1.52,2,       0.13,20110227,       0314
320620110219,       S04P,      12,          1,         23,         23,2,20110227,       0154,   -69.0266,   171.0189,       3211,   449.9,   1.2306,  34.7206,2,  34.7204,2,    190.7,2,   191.6,2,  105.04,2,   32.28,2,    0.00,2,    2.21,2,-999.000,9,-999.000,9,-999.000,9,-999.0000,9,  -999.0,9,  -999.0,9,-999.0000,9,  -999.00,-999.000,9,-999.0000,9,-999.000,9,   1.2306,2, -999.00,9,  -999.0,9,  -999.0,-999.000,9, -999.00,9,-999.000,9, -999.00,9, -999.00,9, -69.0266, 171.0190,-999.000,     -999.0,    34.8842,2,     -999.0,9,     -999.0,9,-999.0000,9,-999.0000,9,-999.0000,9,-999.0000,9,-999.0000,9,-999.0000,9,-999.0000,9,-999.0000,9,-999.0000,9,-999.0000,-999.000,   1.2083,     -999.0,     -999.0,9,     -999.0,9,     -999.0,9,     -999.0,9,     -999.0,20110227,       0312
320620110219,       S04P,      12,          1,         22,         22,2,20110227,       0154,   -69.0266,   171.0189,       3211,   501.3,   1.2075,  34.7206,2,  34.7204,2,    191.2,2,   190.5,2,  105.75,2,   32.29,2,    0.00,2,    2.22,2,   0.265,2,   0.144,2,   0.025,2,   0.1120,2,  2263.3,2,  2355.4,2,   7.5742,2,    25.00,-999.000,9,-999.0000,9,-999.000,9,   1.2073,2, -999.00,9,  -999.0,9,  -999.0,-999.000,9, -999.00,9,-999.000,9, -999.00,9, -999.00,9, -69.0265, 171.0190,-999.000,     -999.0,    34.8842,2,     -999.0,9,     -999.0,9,-999.0000,9,-999.0000,9,-999.0000,9,-999.0000,9,-999.0000,9,-999.0000,9,-999.0000,9,-999.0000,9,-999.0000,9,-999.0000,-999.000,   1.1825,     -999.0,     -999.0,9,     -999.0,9,     -999.0,9,     -999.0,9,     -999.0,20110227,       0310
320620110219,       S04P,      12,          1,         21,         21,2,20110227,       0154,   -69.0266,   171.0189,       3211,   600.0,   1.1380,  34.7196,2,  34.7191,2,    193.2,2,   212.7,4,  108.04,2,   32.31,2,    0.00,2,    2.21,2,-999.000,9,-999.000,9,-999.000,9,-999.0000,9,  -999.0,9,  -999.0,9,-999.0000,9,  -999.00,-999.000,9,-999.0000,9,-999.000,9,   1.1377,2, -999.00,9,  -999.0,9,  -999.0,-999.000,9, -999.00,9,-999.000,9, -999.00,9, -999.00,9, -69.0266, 171.0190,-999.000,     -999.0,    34.8828,2,     -999.0,9,     -999.0,9,-999.0000,9,-999.0000,9,-999.0000,9,-999.0000,9,-999.0000,9,-999.0000,9,-999.0000,9,-999.0000,9,-999.0000,9,-999.0000,-999.000,   1.1079,     -999.0,     -999.0,9,     -999.0,9,     -999.0,9,     -999.0,9,     -999.0,20110227,       0307
320620110219,       S04P,      12,          1,         20,         20,2,20110227,       0154,   -69.0266,   171.0189,       3211,   699.8,   1.0731,  34.7193,2,  34.7195,2,    194.7,2,   194.8,2,  110.54,2,   32.16,2,    0.00,2,    2.21,2,   0.173,2,   0.084,2,   0.018,2,   0.0500,2,  2260.6,2,  2356.2,2,   7.5777,2,    25.00,   0.001,2,-999.0000,9,-999.000,9,   1.0731,2,    0.38,2,  -159.8,2,     2.6,-999.000,9,   -0.03,2,-999.000,9, -999.00,9, -999.00,9, -69.0266, 171.0190,   0.004,     -999.0,    34.8832,2,     -999.0,9,     -999.0,9,-999.0000,9,-999.0000,9,-999.0000,9,-999.0000,9,-999.0000,9,-999.0000,9,-999.0000,9,-999.0000,9,-999.0000,9,-999.0000,-999.000,   1.0378,     -999.0,     -999.0,9,     -999.0,9,     -999.0,9,      -1.50,2,       0.04,20110227,       0304
320620110219,       S04P,      12,          1,         19,         19,2,20110227,       0154,   -69.0266,   171.0189,       3211,   799.8,   1.0115,  34.7183,2,  34.7175,2,    196.6,2,   196.6,2,  112.33,2,   32.27,2,    0.00,2,    2.20,2,-999.000,9,-999.000,9,-999.000,9,-999.0000,9,  -999.0,9,  -999.0,9,-999.0000,9,  -999.00,-999.000,9,-999.0000,9,-999.000,9,   1.0110,2, -999.00,9,  -999.0,9,  -999.0,-999.000,9, -999.00,9,-999.000,9, -999.00,9, -999.00,9, -69.0266, 171.0190,-999.000,     -999.0,    34.8812,2,     -999.0,9,     -999.0,9,-999.0000,9,-999.0000,9,-999.0000,9,-999.0000,9,-999.0000,9,-999.0000,9,-999.0000,9,-999.0000,9,-999.0000,9,-999.0000,-999.000,   0.9709,     -999.0,     -999.0,9,     -999.0,9,     -999.0,9,     -999.0,9,     -999.0,20110227,       0302
320620110219,       S04P,      12,          1,         18,         18,2,20110227,       0154,   -69.0266,   171.0189,       3211,   899.4,   0.9606,  34.7165,2,  34.7165,2,    198.5,2,   197.6,2,  114.32,2,   32.19,2,    0.00,2,    2.22,2,   0.161,2,   0.083,2,   0.017,2,   0.0660,2,  2261.4,2,  2356.7,2,   7.5804,2,    25.00,   0.001,2,    2.178,4,   8.865,2,   0.9604,2,    0.41,2,  -165.3,2,     2.7,   9.444,4,   -0.14,2,-999.000,9, -999.00,9, -999.00,9, -69.0265, 171.0190,   0.003,      0.007,    34.8802,2,     -999.0,9,     -999.0,9,-999.0000,9,-999.0000,9,-999.0000,9,-999.0000,9,-999.0000,9,-999.0000,9,-999.0000,9,-999.0000,9,-999.0000,9,    0.001,   0.200,   0.9145,50001201018,     -999.0,9,     -999.0,9,     -999.0,9,      -2.25,2,       0.25,20110227,       0259
320620110219,       S04P,      12,          1,         17,         17,2,20110227,       0154,   -69.0266,   171.0189,       3211,   999.9,   0.8827,  34.7133,2,  34.7146,2,    200.3,2,   199.5,2,  116.01,2,   32.19,2,    0.00,2,    2.21,2,-999.000,9,-999.000,9,-999.000,9,-999.0000,9,  -999.0,9,  -999.0,9,-999.0000,9,  -999.00,-999.000,9,-999.0000,9,-999.000,9,   0.8829,2, -999.00,9,  -999.0,9,  -999.0,-999.000,9, -999.00,9,-999.000,9, -999.00,9, -999.00,9, -69.0266, 171.0190,-999.000,     -999.0,    34.8783,2,     -999.0,9,     -999.0,9,-999.0000,9,-999.0000,9,-999.0000,9,-999.0000,9,-999.0000,9,-999.0000,9,-999.0000,9,-999.0000,9,-999.0000,9,-999.0000,-999.000,   0.8312,     -999.0,     -999.0,9,     -999.0,9,     -999.0,9,     -999.0,9,     -999.0,20110227,       0256
320620110219,       S04P,      12,          1,         16,         16,2,20110227,       0154,   -69.0266,   171.0189,       3211,  1099.7,   0.8439,  34.7120,2,  34.7122,2,    201.2,2,   201.5,2,  116.93,2,   32.21,2,    0.00,2,    2.24,2,   0.171,2,   0.086,2,   0.019,2,   0.0720,2,  2260.8,2,  2358.7,2,   7.5825,2,    25.00,   0.001,2,    2.101,2,   9.193,2,   0.8437,2,    0.40,2,  -166.9,2,     2.4,   9.116,2,   -0.07,2,-999.000,9, -999.00,9, -999.00,9, -69.0266, 171.0190,   0.003,      0.012,    34.8759,2,     -999.0,9,     -999.0,9,-999.0000,9,-999.0000,9,-999.0000,9,-999.0000,9,-999.0000,9,-999.0000,9,-999.0000,9,-999.0000,9,-999.0000,9,    0.000,   0.208,   0.7867,50001201016,     -999.0,9,     -999.0,9,     -999.0,9,      -1.72,2,       0.09,20110227,       0253
320620110219,       S04P,      12,          1,         15,         15,2,20110227,       0154,   -69.0266,   171.0189,       3211,  1201.3,   0.7904,  34.7105,2,  34.7112,2,    202.4,2,   202.1,2,  119.11,2,   32.22,2,    0.00,2,    2.21,2,-999.000,9,-999.000,9,-999.000,9,-999.0000,9,  -999.0,9,  -999.0,9,-999.0000,9,  -999.00,-999.000,9,-999.0000,9,-999.000,9,   0.7903,2, -999.00,9,  -999.0,9,  -999.0,-999.000,9, -999.00,9,-999.000,9, -999.00,9, -999.00,9, -69.0266, 171.0190,-999.000,     -999.0,    34.8749,2,     -999.0,9,     -999.0,9,-999.0000,9,-999.0000,9,-999.0000,9,-999.0000,9,-999.0000,9,-999.0000,9,-999.0000,9,-999.0000,9,-999.0000,9,-999.0000,-999.000,   0.7274,     -999.0,     -999.0,9,     -999.0,9,     -999.0,9,     -999.0,9,     -999.0,20110227,       0250
320620110219,       S04P,      12,          1,         14,         14,2,20110227,       0154,   -69.0266,   171.0189,       3211,  1300.6,   0.7372,  34.7085,2,  34.7091,2,    203.2,2,   204.0,2,  120.27,2,   32.14,2,    0.00,2,    2.21,2,-999.000,9,-999.000,9,-999.000,9,-999.0000,9,  2260.7,2,  2360.5,2,   7.5841,2,    25.00,-999.000,9,-999.0000,9,-999.000,9,   0.7369,2,    0.44,2,  -170.9,2,     2.6,-999.000,9, -999.00,9,-999.000,9, -999.00,9, -999.00,9, -69.0265, 171.0190,-999.000,     -999.0,    34.8728,2,     -999.0,9,     -999.0,9,-999.0000,9,-999.0000,9,-999.0000,9,-999.0000,9,-999.0000,9,-999.0000,9,-999.0000,9,-999.0000,9,-999.0000,9,-999.0000,-999.000,   0.6685,     -999.0,     -999.0,9,     -999.0,9,     -999.0,9,     -999.0,9,     -999.0,20110227,       0247