BOTTLE,20220813CCHSIOAMB
EXPOCODE,SECT_ID,STNNBR,CASTNO,SAMPNO,BTLNBR,BTLNBR_FLAG_W,DATE,TIME,LATITUDE,LONGITUDE,DEPTH,CTDPRS,CTDTMP,CTDSAL,CTDSAL_FLAG_W,SALNTY,SALNTY_FLAG_W,CTDOXY,CTDOXY_FLAG_W,OXYGEN,OXYGEN_FLAG_W,SILCAT,SILCAT_FLAG_W,NITRAT,NITRAT_FLAG_W,NITRIT,NITRIT_FLAG_W,PHSPHT,PHSPHT_FLAG_W,CFC-11,CFC-11_FLAG_W,CFC-12,CFC-12_FLAG_W,CFC113,CFC113_FLAG_W,SF6,SF6_FLAG_W,TCARBN,TCARBN_FLAG_W,ALKALI,ALKALI_FLAG_W,PH_TOT,PH_TOT_FLAG_W,PH_TMP,TRITUM,TRITUM_FLAG_W,HELIUM,HELIUM_FLAG_W,DELHE3,DELHE3_FLAG_W,REFTMP,REFTMP_FLAG_W,DELC13,DELC13_FLAG_W,DELC14,DELC14_FLAG_W,C14ERR,NEON,NEON_FLAG_W,DELO18,DELO18_FLAG_W,POC,POC_FLAG_W,DOC,DOC_FLAG_W,TDN,TDN_FLAG_W,BTL_LAT,BTL_LON,TRITER,NEONER,SALTREF,SALTREF_FLAG_W,PIGMENTS,PIGMENTS_FLAG_W,LAB_DEN,LAB_DEN_FLAG_W,CDOM325,CDOM325_FLAG_W,CDOM340,CDOM340_FLAG_W,CDOM380,CDOM380_FLAG_W,CDOM412,CDOM412_FLAG_W,CDOM443,CDOM443_FLAG_W,CDOM490,CDOM490_FLAG_W,CDOM555,CDOM555_FLAG_W,CDOMSL,CDOMSL_FLAG_W,CDOMSN,CDOMSN_FLAG_W,HELIER,DELHER,THETA,LDEO_SAMPNO,ABSORBTION,ABSORBTION_FLAG_W,IMAGE_COUNT,IMAGE_COUNT_FLAG_W,CYTO_COUNT,CYTO_COUNT_FLAG_W,DELD,DELD_FLAG_W,DELDERR,BTL_DATE,BTL_TIME
,,,,,,,,,,,METERS,DBAR,ITS-90,PSS-78,,PSS-78,,UMOL/KG,,UMOL/KG,,UMOL/KG,,UMOL/KG,,UMOL/KG,,UMOL/KG,,PMOL/KG,,PMOL/KG,,PMOL/KG,,FMOL/KG,,UMOL/KG,,UMOL/KG,,,,DEG C,TU,,NMOL/KG,,PERCNT,,DEG C,,/MILLE,,/MILLE,,/MILLE,NMOL/KG,,/MILLE,,UG/KG,,UMOL/KG,,UMOL/KG,,,,TU,NMOL/KG,G/KG,,,,,,1/M,,1/M,,1/M,,1/M,,1/M,,1/M,,1/M,,1/NM,,1/NM,,NMOL/KG,PERCNT,DEG C,,,,,,,,/MILLE,,/MILLE,,
320620110219,       P16S,      62,          1,         13,         13,2,20110316,       1118,   -75.2203,  -150.0115,       3651,  1464.7,   0.8897,  34.7157,2,  34.7155,2,    200.1,2,   201.7,2,  116.97,2,   32.52,2,    0.00,2,    2.24,2,   0.094,2,   0.045,2,   0.007,2,-999.0000,9,  2257.6,2,  2359.7,2,   7.5937,2,    25.00,-999.000,9,-999.0000,9,-999.000,9,   0.8896,2, -999.00,9,  -999.0,9,  -999.0,-999.000,9, -999.00,9,-999.000,9,   39.38,2,   34.69,2, -75.2202,-150.0114,-999.000,     -999.0,    34.8792,2,     -999.0,9,     -999.0,9,-999.0000,9,-999.0000,9,-999.0000,9,-999.0000,9,-999.0000,9,-999.0000,9,-999.0000,9,-999.0000,9,-999.0000,9,-999.0000,-999.000,   0.8085,     -999.0,     -999.0,9,     -999.0,9,     -999.0,9,     -999.0,9,     -999.0,20110316,       1209
320620110219,       P16S,      62,          1,         12,         12,2,20110316,       1118,   -75.2203,  -150.0115,       3651,  1564.0,   0.8519,  34.7144,2,  34.7139,2,    201.0,2,   200.8,2,  118.49,2,   32.57,2,    0.00,2,    2.24,2,-999.000,9,-999.000,9,-999.000,9,-999.0000,9,  -999.0,9,  -999.0,9,-999.0000,9,  -999.00,-999.000,9,-999.0000,9,-999.000,9,   0.8522,2, -999.00,9,  -999.0,9,  -999.0,-999.000,9, -999.00,9,-999.000,9,   39.43,2,   34.71,2, -75.2202,-150.0114,-999.000,     -999.0,    34.8776,2,     -999.0,9,     -999.0,9,-999.0000,9,-999.0000,9,-999.0000,9,-999.0000,9,-999.0000,9,-999.0000,9,-999.0000,9,-999.0000,9,-999.0000,9,-999.0000,-999.000,   0.7644,     -999.0,     -999.0,9,     -999.0,9,     -999.0,9,     -999.0,9,     -999.0,20110316,       1206
320620110219,       P16S,      62,          1,         11,         11,2,20110316,       1118,   -75.2203,  -150.0115,       3651,  1664.4,   0.8129,  34.7129,2,  34.7125,2,    201.9,2,   201.6,2,  119.37,2,   32.41,2,    0.00,2,    2.24,2,   0.099,2,   0.050,2,   0.005,2,-999.0000,9,  -999.0,9,  -999.0,9,-999.0000,9,  -999.00,   0.001,2,    2.052,2,   9.745,2,   0.8131,2, -999.00,9,  -999.0,9,  -999.0,   8.938,2,   -0.15,2,-999.000,9,   39.47,2,   34.93,2, -75.2202,-150.0114,   0.004,      0.013,    34.8762,2,     -999.0,9,     -999.0,9,-999.0000,9,-999.0000,9,-999.0000,9,-999.0000,9,-999.0000,9,-999.0000,9,-999.0000,9,-999.0000,9,-999.0000,9,    0.001,   0.193,   0.7189,50006201011,     -999.0,9,     -999.0,9,     -999.0,9,      -2.36,2,       0.23,20110316,       1203
320620110219,       P16S,      62,          1,         10,         37,2,20110316,       1118,   -75.2203,  -150.0115,       3651,  1764.6,   0.7741,  34.7118,2,  34.7117,2,    202.9,2,   203.7,2,  120.79,2,   32.42,2,    0.00,2,    2.24,2,-999.000,9,-999.000,9,-999.000,9,-999.0000,9,  2258.6,2,  2359.9,2,   7.5938,2,    25.00,-999.000,9,-999.0000,9,-999.000,9,   0.7734,2, -999.00,9,  -999.0,9,  -999.0,-999.000,9, -999.00,9,-999.000,9,   39.33,2,   34.80,2, -75.2202,-150.0114,-999.000,     -999.0,    34.8754,2,     -999.0,9,     -999.0,9,-999.0000,9,-999.0000,9,-999.0000,9,-999.0000,9,-999.0000,9,-999.0000,9,-999.0000,9,-999.0000,9,-999.0000,9,-999.0000,-999.000,   0.6735,     -999.0,     -999.0,9,     -999.0,9,     -999.0,9,     -999.0,9,     -999.0,20110316,       1200
320620110219,       P16S,      62,          1,          9,          9,2,20110316,       1118,   -75.2203,  -150.0115,       3651,  1934.8,   0.7082,  34.7099,2,  34.7101,2,    204.3,2,   204.6,2,  123.23,2,   32.43,2,    0.00,2,    2.24,2,   0.109,2,   0.053,2,   0.008,2,-999.0000,9,  -999.0,9,  -999.0,9,-999.0000,9,  -999.00,   0.001,2,    2.031,2,  10.094,2,   0.7082,2, -999.00,9,  -999.0,9,  -999.0,   8.876,2,   -0.12,3,-999.000,9,   39.58,2,   34.83,2, -75.2202,-150.0114,   0.004,      0.013,    34.8738,2,     -999.0,9,     -999.0,9,-999.0000,9,-999.0000,9,-999.0000,9,-999.0000,9,-999.0000,9,-999.0000,9,-999.0000,9,-999.0000,9,-999.0000,9,    0.000,   0.206,   0.5961,50006201009,     -999.0,9,     -999.0,9,     -999.0,9,      -1.72,3,       0.11,20110316,       1156
320620110219,       P16S,      62,          1,          8,          8,2,20110316,       1118,   -75.2203,  -150.0115,       3651,  2164.8,   0.6313,  34.7082,2,  34.7087,2,    205.7,2,   205.9,2,  125.44,2,   32.56,2,    0.00,2,    2.25,2,-999.000,9,-999.000,9,-999.000,9,-999.0000,9,  -999.0,9,  -999.0,9,-999.0000,9,  -999.00,-999.000,9,-999.0000,9,-999.000,9,   0.6312,2, -999.00,9,  -999.0,9,  -999.0,-999.000,9, -999.00,9,-999.000,9,   39.98,2,   34.68,2, -75.2203,-150.0115,-999.000,     -999.0,    34.8724,2,     -999.0,9,     -999.0,9,-999.0000,9,-999.0000,9,-999.0000,9,-999.0000,9,-999.0000,9,-999.0000,9,-999.0000,9,-999.0000,9,-999.0000,9,-999.0000,-999.000,   0.5031,     -999.0,     -999.0,9,     -999.0,9,     -999.0,9,     -999.0,9,     -999.0,20110316,       1151
320620110219,       P16S,      62,          1,          7,          7,2,20110316,       1118,   -75.2203,  -150.0115,       3651,  2414.8,   0.5812,  34.7070,2,  34.7075,2,    207.2,2,   207.0,2,  127.53,2,   32.56,2,    0.00,2,    2.25,2,   0.124,2,   0.058,2,   0.008,2,-999.0000,9,  2258.5,2,  2361.7,2,   7.5940,2,    25.00,-999.000,9,-999.0000,9,-999.000,9,   0.5796,2, -999.00,9,  -999.0,9,  -999.0,-999.000,9, -999.00,9,-999.000,9,   40.36,2,   34.82,2, -75.2203,-150.0115,-999.000,     -999.0,    34.8712,2,     -999.0,9,     -999.0,9,-999.0000,9,-999.0000,9,-999.0000,9,-999.0000,9,-999.0000,9,-999.0000,9,-999.0000,9,-999.0000,9,-999.0000,9,-999.0000,-999.000,   0.4342,     -999.0,     -999.0,9,     -999.0,9,     -999.0,9,     -999.0,9,     -999.0,20110316,       1146
320620110219,       P16S,      62,          1,          6,          6,2,20110316,       1118,   -75.2203,  -150.0115,       3651,  2664.3,   0.5360,  34.7059,2,  34.7059,2,    208.0,2,   207.8,2,  129.71,2,   32.50,2,    0.00,2,    2.25,2,-999.000,9,-999.000,9,-999.000,9,-999.0000,9,  -999.0,9,  -999.0,9,-999.0000,9,  -999.00,-999.000,9,-999.0000,9,-999.000,9,   0.5361,2, -999.00,9,  -999.0,9,  -999.0,-999.000,9, -999.00,9,-999.000,9,   40.12,2,   34.79,2, -75.2203,-150.0115,-999.000,     -999.0,    34.8696,2,     -999.0,9,     -999.0,9,-999.0000,9,-999.0000,9,-999.0000,9,-999.0000,9,-999.0000,9,-999.0000,9,-999.0000,9,-999.0000,9,-999.0000,9,-999.0000,-999.000,   0.3694,     -999.0,     -999.0,9,     -999.0,9,     -999.0,9,     -999.0,9,     -999.0,20110316,       1141
320620110219,       P16S,      62,          1,          5,          5,2,20110316,       1118,   -75.2203,  -150.0115,       3651,  2915.3,   0.5031,  34.7051,2,  34.7047,2,    209.1,2,   210.2,2,  130.69,2,   32.56,2,    0.00,2,    2.25,2,   0.169,2,   0.080,2,   0.010,2,-999.0000,9,  2259.5,2,  2362.2,2,   7.5946,2,    25.00,   0.001,2,    2.009,2,   9.872,2,   0.5030,2, -999.00,9,  -999.0,9,  -999.0,   8.876,2,   -0.16,2,-999.000,9,   40.07,2,   34.78,2, -75.2203,-150.0115,   0.005,      0.014,    34.8684,2,     -999.0,9,     -999.0,9,-999.0000,9,-999.0000,9,-999.0000,9,-999.0000,9,-999.0000,9,-999.0000,9,-999.0000,9,-999.0000,9,-999.0000,9,    0.000,   0.194,   0.3157,50006201005,     -999.0,9,     -999.0,9,     -999.0,9,      -2.27,2,       0.06,20110316,       1136
320620110219,       P16S,      62,          1,          4,          4,2,20110316,       1118,   -75.2203,  -150.0115,       3651,  3200.2,   0.4556,  34.7042,2,  34.7045,2,    210.6,2,   210.3,2,  133.01,2,   32.56,2,    0.00,2,    2.25,2,   0.136,2,   0.068,2,   0.006,2,-999.0000,9,  2259.3,2,  2361.7,2,   7.5940,2,    25.00,-999.000,9,-999.0000,9,-999.000,9,   0.4555,2, -999.00,9,  -999.0,9,  -999.0,-999.000,9, -999.00,9,-999.000,9,   40.20,2,   34.73,2, -75.2203,-150.0115,-999.000,     -999.0,    34.8682,2,     -999.0,9,     -999.0,9,-999.0000,9,-999.0000,9,-999.0000,9,-999.0000,9,-999.0000,9,-999.0000,9,-999.0000,9,-999.0000,9,-999.0000,9,-999.0000,-999.000,   0.2438,     -999.0,     -999.0,9,     -999.0,9,     -999.0,9,     -999.0,9,     -999.0,20110316,       1130
320620110219,       P16S,      62,          1,          3,          3,2,20110316,       1118,   -75.2203,  -150.0115,       3651,  3499.7,   0.3917,  34.7033,2,  34.7047,2,    212.1,2,   212.4,2,  135.50,2,   32.62,2,    0.00,2,    2.26,2,   0.177,2,   0.086,2,   0.008,2,-999.0000,9,  2260.1,2,  2362.1,6,   7.5918,2,    25.00,   0.001,2,    2.072,2,   8.947,2,   0.3914,2, -999.00,9,  -999.0,9,  -999.0,   9.021,2,   -0.22,2,-999.000,9,   40.06,2,   35.00,2, -75.2203,-150.0115,   0.005,      0.014,    34.8684,2,     -999.0,9,     -999.0,9,-999.0000,9,-999.0000,9,-999.0000,9,-999.0000,9,-999.0000,9,-999.0000,9,-999.0000,9,-999.0000,9,-999.0000,9,    0.001,   0.193,   0.1535,50006201003,     -999.0,9,     -999.0,9,     -999.0,9,      -2.61,2,       0.08,20110316,       1124
320620110219,       P16S,      62,          1,          2,          2,2,20110316,       1118,   -75.2203,  -150.0115,       3651,  3660.1,   0.3369,  34.7022,2,  34.7019,2,    213.3,2,   213.4,2,  137.63,2,   32.61,2,    0.00,2,    2.26,2,   0.249,2,   0.121,2,   0.009,2,-999.0000,9,  2261.0,6,  2361.4,2,   7.5928,2,    25.00,-999.000,9,-999.0000,9,-999.000,9,   0.3367,2, -999.00,9,  -999.0,9,  -999.0,-999.000,9, -999.00,9,-999.000,9,   40.52,2,   35.26,2, -75.2203,-150.0115,-999.000,     -999.0,    34.8656,2,     -999.0,9,     -999.0,9,-999.0000,9,-999.0000,9,-999.0000,9,-999.0000,9,-999.0000,9,-999.0000,9,-999.0000,9,-999.0000,9,-999.0000,9,-999.0000,-999.000,   0.0847,     -999.0,     -999.0,9,     -999.0,9,     -999.0,9,     -999.0,9,     -999.0,20110316,       1120
320620110219,       P16S,      62,          1,          1,          1,2,20110316,       1118,   -75.2203,  -150.0115,       3651,  3710.5,   0.3002,  34.7018,2,  34.7015,2,    214.1,2,   214.2,2,  137.39,2,   32.52,2,    0.00,2,    2.25,2,   0.330,2,   0.157,2,   0.015,2,-999.0000,9,  2261.2,2,  2360.1,2,   7.5919,6,    25.00,   0.001,2,    2.032,2,   8.732,2,   0.3062,2, -999.00,9,  -999.0,9,  -999.0,   8.887,2,   -0.21,2,-999.000,9,   40.27,2,   34.66,2, -75.2203,-150.0115,   0.004,      0.013,    34.8652,2,     -999.0,9,     -999.0,9,-999.0000,9,-999.0000,9,-999.0000,9,-999.0000,9,-999.0000,9,-999.0000,9,-999.0000,9,-999.0000,9,-999.0000,9,    0.000,   0.193,   0.0441,50006201001,     -999.0,9,     -999.0,9,     -999.0,9,      -2.67,2,       0.61,20110316,       1118