BOTTLE,20220813CCHSIOAMB
EXPOCODE,SECT_ID,STNNBR,CASTNO,SAMPNO,BTLNBR,BTLNBR_FLAG_W,DATE,TIME,LATITUDE,LONGITUDE,DEPTH,CTDPRS,CTDTMP,CTDSAL,CTDSAL_FLAG_W,SALNTY,SALNTY_FLAG_W,CTDOXY,CTDOXY_FLAG_W,OXYGEN,OXYGEN_FLAG_W,SILCAT,SILCAT_FLAG_W,NITRAT,NITRAT_FLAG_W,NITRIT,NITRIT_FLAG_W,PHSPHT,PHSPHT_FLAG_W,CFC-11,CFC-11_FLAG_W,CFC-12,CFC-12_FLAG_W,CFC113,CFC113_FLAG_W,SF6,SF6_FLAG_W,TCARBN,TCARBN_FLAG_W,ALKALI,ALKALI_FLAG_W,PH_TOT,PH_TOT_FLAG_W,PH_TMP,TRITUM,TRITUM_FLAG_W,HELIUM,HELIUM_FLAG_W,DELHE3,DELHE3_FLAG_W,REFTMP,REFTMP_FLAG_W,DELC13,DELC13_FLAG_W,DELC14,DELC14_FLAG_W,C14ERR,NEON,NEON_FLAG_W,DELO18,DELO18_FLAG_W,POC,POC_FLAG_W,DOC,DOC_FLAG_W,TDN,TDN_FLAG_W,BTL_LAT,BTL_LON,TRITER,NEONER,SALTREF,SALTREF_FLAG_W,PIGMENTS,PIGMENTS_FLAG_W,LAB_DEN,LAB_DEN_FLAG_W,CDOM325,CDOM325_FLAG_W,CDOM340,CDOM340_FLAG_W,CDOM380,CDOM380_FLAG_W,CDOM412,CDOM412_FLAG_W,CDOM443,CDOM443_FLAG_W,CDOM490,CDOM490_FLAG_W,CDOM555,CDOM555_FLAG_W,CDOMSL,CDOMSL_FLAG_W,CDOMSN,CDOMSN_FLAG_W,HELIER,DELHER,THETA,LDEO_SAMPNO,ABSORBTION,ABSORBTION_FLAG_W,IMAGE_COUNT,IMAGE_COUNT_FLAG_W,CYTO_COUNT,CYTO_COUNT_FLAG_W,DELD,DELD_FLAG_W,DELDERR,BTL_DATE,BTL_TIME
,,,,,,,,,,,METERS,DBAR,ITS-90,PSS-78,,PSS-78,,UMOL/KG,,UMOL/KG,,UMOL/KG,,UMOL/KG,,UMOL/KG,,UMOL/KG,,PMOL/KG,,PMOL/KG,,PMOL/KG,,FMOL/KG,,UMOL/KG,,UMOL/KG,,,,DEG C,TU,,NMOL/KG,,PERCNT,,DEG C,,/MILLE,,/MILLE,,/MILLE,NMOL/KG,,/MILLE,,UG/KG,,UMOL/KG,,UMOL/KG,,,,TU,NMOL/KG,G/KG,,,,,,1/M,,1/M,,1/M,,1/M,,1/M,,1/M,,1/M,,1/NM,,1/NM,,NMOL/KG,PERCNT,DEG C,,,,,,,,/MILLE,,/MILLE,,
320620110219,       S04P,     106,          1,         13,         13,2,20110404,       1553,   -66.9996,  -132.7427,       4595,  1800.8,   1.0532,  34.7204,2,  34.7196,2,    199.8,2,   200.2,2,  111.79,2,   31.88,2,    0.00,2,    2.19,2,-999.000,9,-999.000,9,-999.000,9,-999.0000,9,  -999.0,9,  -999.0,5,   7.6008,2,    25.00,-999.000,9,-999.0000,9,-999.000,9,   1.0536,2,    0.47,2,  -163.0,2,     3.0,-999.000,9, -999.00,9,-999.000,9, -999.00,9, -999.00,9, -66.9998,-132.7438,-999.000,     -999.0,    34.8833,2,     -999.0,9,     -999.0,9,-999.0000,9,-999.0000,9,-999.0000,9,-999.0000,9,-999.0000,9,-999.0000,9,-999.0000,9,-999.0000,9,-999.0000,9,-999.0000,-999.000,   0.9460,     -999.0,     -999.0,9,     -999.0,9,     -999.0,9,     -999.0,9,     -999.0,20110404,       1655
320620110219,       S04P,     106,          1,         12,         12,2,20110404,       1553,   -66.9996,  -132.7427,       4595,  2000.3,   0.9546,  34.7163,2,  34.7155,2,    201.6,2,   201.7,2,  115.13,2,   31.92,2,    0.00,2,    2.20,2,   0.139,2,   0.071,2,   0.007,2,   0.0690,2,  2258.8,2,  2362.1,2,   7.6019,2,    25.00,-999.000,9,-999.0000,9,-999.000,9,   0.9549,2,    0.51,2,  -166.1,2,     2.6,-999.000,9, -999.00,9,-999.000,9, -999.00,9, -999.00,9, -66.9998,-132.7438,-999.000,     -999.0,    34.8792,2,     -999.0,9,     -999.0,9,-999.0000,9,-999.0000,9,-999.0000,9,-999.0000,9,-999.0000,9,-999.0000,9,-999.0000,9,-999.0000,9,-999.0000,9,-999.0000,-999.000,   0.8338,     -999.0,     -999.0,9,     -999.0,9,     -999.0,9,     -999.0,9,     -999.0,20110404,       1650
320620110219,       S04P,     106,          1,         11,         11,2,20110404,       1553,   -66.9996,  -132.7427,       4595,  2250.1,   0.8476,  34.7120,2,  34.7108,2,    203.8,2,   203.1,2,  119.17,2,   32.09,2,    0.00,2,    2.21,2,-999.000,9,-999.000,9,-999.000,9,-999.0000,9,  -999.0,9,  -999.0,5,   7.6000,2,    25.00,-999.000,9,-999.0000,9,-999.000,9,   0.8472,2,    0.52,2,  -165.3,2,     2.4,-999.000,9, -999.00,9,-999.000,9, -999.00,9, -999.00,9, -66.9998,-132.7438,-999.000,     -999.0,    34.8745,2,     -999.0,9,     -999.0,9,-999.0000,9,-999.0000,9,-999.0000,9,-999.0000,9,-999.0000,9,-999.0000,9,-999.0000,9,-999.0000,9,-999.0000,9,-999.0000,-999.000,   0.7091,     -999.0,     -999.0,9,     -999.0,9,     -999.0,9,     -999.0,9,     -999.0,20110404,       1645
320620110219,       S04P,     106,          1,         10,         37,2,20110404,       1553,   -66.9996,  -132.7427,       4595,  2499.8,   0.7563,  34.7088,2,  34.7080,2,    205.4,2,   205.1,2,  122.95,2,   32.24,2,    0.00,2,    2.21,2,-999.000,9,-999.000,9,-999.000,9,-999.0000,9,  2260.6,2,  2362.3,2,   7.5996,2,    25.00,-999.000,9,-999.0000,9,-999.000,9,   0.7563,2,    0.51,2,  -165.8,2,     2.5,-999.000,9, -999.00,9,-999.000,9, -999.00,9, -999.00,9, -66.9998,-132.7438,-999.000,     -999.0,    34.8717,2,     -999.0,9,     -999.0,9,-999.0000,9,-999.0000,9,-999.0000,9,-999.0000,9,-999.0000,9,-999.0000,9,-999.0000,9,-999.0000,9,-999.0000,9,-999.0000,-999.000,   0.5991,     -999.0,     -999.0,9,     -999.0,9,     -999.0,9,     -999.0,9,     -999.0,20110404,       1640
320620110219,       S04P,     106,          1,          9,          9,2,20110404,       1553,   -66.9996,  -132.7427,       4595,  2749.0,   0.6638,  34.7059,2,  34.7049,2,    207.3,2,   207.3,2,  124.98,2,   32.29,2,    0.00,2,    2.22,2,-999.000,9,-999.000,9,-999.000,9,-999.0000,9,  -999.0,9,  -999.0,9,-999.0000,9,  -999.00,-999.000,9,-999.0000,9,-999.000,9,   0.6638,2, -999.00,9,  -999.0,9,  -999.0,-999.000,9, -999.00,9,-999.000,9, -999.00,9, -999.00,9, -66.9998,-132.7438,-999.000,     -999.0,    34.8685,2,     -999.0,9,     -999.0,9,-999.0000,9,-999.0000,9,-999.0000,9,-999.0000,9,-999.0000,9,-999.0000,9,-999.0000,9,-999.0000,9,-999.0000,9,-999.0000,-999.000,   0.4874,     -999.0,     -999.0,9,     -999.0,9,     -999.0,9,     -999.0,9,     -999.0,20110404,       1634
320620110219,       S04P,     106,          1,          8,          8,2,20110404,       1553,   -66.9996,  -132.7427,       4595,  3000.2,   0.5715,  34.7041,2,  34.7019,3,    209.2,2,   209.6,2,  127.11,2,   32.45,2,    0.00,2,    2.22,2,   0.228,2,   0.106,2,   0.008,2,   0.0620,2,  2261.1,2,  2362.6,2,   7.5978,2,    25.00,-999.000,9,-999.0000,9,-999.000,9,   0.5716,2,    0.47,2,  -162.8,2,     2.9,-999.000,9, -999.00,9,-999.000,9, -999.00,9, -999.00,9, -66.9998,-132.7437,-999.000,     -999.0,    34.8656,3,     -999.0,9,     -999.0,9,-999.0000,9,-999.0000,9,-999.0000,9,-999.0000,9,-999.0000,9,-999.0000,9,-999.0000,9,-999.0000,9,-999.0000,9,-999.0000,-999.000,   0.3751,     -999.0,     -999.0,9,     -999.0,9,     -999.0,9,     -999.0,9,     -999.0,20110404,       1629
320620110219,       S04P,     106,          1,          7,          7,2,20110404,       1553,   -66.9996,  -132.7427,       4595,  3300.8,   0.4762,  34.7029,2,  34.7019,2,    211.3,2,   211.2,2,  129.68,2,   32.48,2,    0.00,2,    2.22,2,-999.000,9,-999.000,9,-999.000,9,-999.0000,9,  -999.0,9,  -999.0,5,   7.5960,2,    25.00,-999.000,9,-999.0000,9,-999.000,9,   0.4765,2,    0.51,2,  -163.4,2,     2.4,-999.000,9, -999.00,9,-999.000,9, -999.00,9, -999.00,9, -66.9996,-132.7432,-999.000,     -999.0,    34.8656,2,     -999.0,9,     -999.0,9,-999.0000,9,-999.0000,9,-999.0000,9,-999.0000,9,-999.0000,9,-999.0000,9,-999.0000,9,-999.0000,9,-999.0000,9,-999.0000,-999.000,   0.2547,     -999.0,     -999.0,9,     -999.0,9,     -999.0,9,     -999.0,9,     -999.0,20110404,       1623
320620110219,       S04P,     106,          1,          6,          6,2,20110404,       1553,   -66.9996,  -132.7427,       4595,  3600.6,   0.4074,  34.7023,2,  34.7017,2,    213.3,2,   212.9,2,  131.99,2,   32.43,2,    0.00,2,    2.23,2,   0.266,2,   0.131,2,   0.016,2,   0.0720,2,  2262.0,2,  2362.7,2,   7.5967,2,    25.00,-999.000,9,-999.0000,9,-999.000,9,   0.4075,2,    0.57,2,  -161.5,2,     2.3,-999.000,9, -999.00,9,-999.000,9, -999.00,9, -999.00,9, -66.9995,-132.7430,-999.000,     -999.0,    34.8654,2,     -999.0,9,     -999.0,9,-999.0000,9,-999.0000,9,-999.0000,9,-999.0000,9,-999.0000,9,-999.0000,9,-999.0000,9,-999.0000,9,-999.0000,9,-999.0000,-999.000,   0.1591,     -999.0,     -999.0,9,     -999.0,9,     -999.0,9,     -999.0,9,     -999.0,20110404,       1617
320620110219,       S04P,     106,          1,          5,          5,2,20110404,       1553,   -66.9996,  -132.7427,       4595,  3900.1,   0.3605,  34.7017,2,  34.7010,2,    214.9,2,   214.7,2,  133.54,2,   32.45,2,    0.00,2,    2.23,2,   0.316,2,   0.153,2,   0.013,2,   0.1050,2,  -999.0,9,  -999.0,9,-999.0000,9,  -999.00,-999.000,9,-999.0000,9,-999.000,9,   0.3604,2, -999.00,9,  -999.0,9,  -999.0,-999.000,9, -999.00,9,-999.000,9, -999.00,9, -999.00,9, -66.9995,-132.7430,-999.000,     -999.0,    34.8646,2,     -999.0,9,     -999.0,9,-999.0000,9,-999.0000,9,-999.0000,9,-999.0000,9,-999.0000,9,-999.0000,9,-999.0000,9,-999.0000,9,-999.0000,9,-999.0000,-999.000,   0.0839,     -999.0,     -999.0,9,     -999.0,9,     -999.0,9,     -999.0,9,     -999.0,20110404,       1610
320620110219,       S04P,     106,          1,          4,          4,2,20110404,       1553,   -66.9996,  -132.7427,       4595,  4200.3,   0.3409,  34.7012,2,  34.7002,2,    216.0,2,   215.5,2,  136.98,2,   32.65,2,    0.00,2,    2.24,2,   0.411,2,   0.200,2,   0.021,2,   0.1360,2,  2261.7,2,  2361.9,2,   7.5938,2,    25.00,-999.000,9,-999.0000,9,-999.000,9,   0.3409,2,    0.52,2,  -159.6,2,     2.4,-999.000,9, -999.00,9,-999.000,9, -999.00,9, -999.00,9, -66.9996,-132.7428,-999.000,     -999.0,    34.8638,2,     -999.0,9,     -999.0,9,-999.0000,9,-999.0000,9,-999.0000,9,-999.0000,9,-999.0000,9,-999.0000,9,-999.0000,9,-999.0000,9,-999.0000,9,-999.0000,-999.000,   0.0341,     -999.0,     -999.0,9,     -999.0,9,     -999.0,9,     -999.0,9,     -999.0,20110404,       1605
320620110219,       S04P,     106,          1,          3,          3,2,20110404,       1553,   -66.9996,  -132.7427,       4595,  4499.4,   0.3368,  34.6999,2,  34.6996,2,    216.7,2,   216.4,2,  137.65,2,   32.52,2,    0.00,2,    2.23,2,   0.471,2,   0.221,2,   0.026,2,   0.1310,2,  2261.6,2,  2362.7,6,   7.5940,2,    25.00,-999.000,9,-999.0000,9,-999.000,9,   0.3371,2,    0.50,2,  -177.9,2,     2.3,-999.000,9, -999.00,9,-999.000,9, -999.00,9, -999.00,9, -66.9996,-132.7427,-999.000,     -999.0,    34.8632,2,     -999.0,9,     -999.0,9,-999.0000,9,-999.0000,9,-999.0000,9,-999.0000,9,-999.0000,9,-999.0000,9,-999.0000,9,-999.0000,9,-999.0000,9,-999.0000,-999.000,  -0.0019,     -999.0,     -999.0,9,     -999.0,9,     -999.0,9,     -999.0,9,     -999.0,20110404,       1558
320620110219,       S04P,     106,          1,          2,          2,2,20110404,       1553,   -66.9996,  -132.7427,       4595,  4629.5,   0.3337,  34.6991,2,  34.6992,2,    216.8,2,   216.4,2,  138.80,2,   32.65,2,    0.00,2,    2.23,2,-999.000,9,-999.000,9,-999.000,9,-999.0000,9,  2262.2,6,  2362.8,2,   7.5934,2,    25.00,-999.000,9,-999.0000,9,-999.000,9,   0.3333,2,    0.48,2,  -156.8,2,     2.4,-999.000,9, -999.00,9,-999.000,9, -999.00,9, -999.00,9, -66.9996,-132.7427,-999.000,     -999.0,    34.8628,2,     -999.0,9,     -999.0,9,-999.0000,9,-999.0000,9,-999.0000,9,-999.0000,9,-999.0000,9,-999.0000,9,-999.0000,9,-999.0000,9,-999.0000,9,-999.0000,-999.000,  -0.0191,     -999.0,     -999.0,9,     -999.0,9,     -999.0,9,     -999.0,9,     -999.0,20110404,       1555
320620110219,       S04P,     106,          1,          1,          1,2,20110404,       1553,   -66.9996,  -132.7427,       4595,  4680.8,   0.3331,  34.6987,2,  34.6990,2,    216.4,2,   216.7,2,  139.18,2,   32.86,2,    0.00,2,    2.24,2,   0.595,2,   0.285,2,   0.037,2,   0.1910,2,  2261.7,2,  2362.2,2,   7.5930,6,    25.00,-999.000,9,-999.0000,9,-999.000,9,   0.3330,2, -999.00,9,  -999.0,9,  -999.0,-999.000,9, -999.00,9,-999.000,9, -999.00,9, -999.00,9, -66.9996,-132.7427,-999.000,     -999.0,    34.8626,2,     -999.0,9,     -999.0,9,-999.0000,9,-999.0000,9,-999.0000,9,-999.0000,9,-999.0000,9,-999.0000,9,-999.0000,9,-999.0000,9,-999.0000,9,-999.0000,-999.000,  -0.0254,     -999.0,     -999.0,9,     -999.0,9,     -999.0,9,     -999.0,9,     -999.0,20110404,       1553