BOTTLE,20220813CCHSIOAMB
EXPOCODE,SECT_ID,STNNBR,CASTNO,SAMPNO,BTLNBR,BTLNBR_FLAG_W,DATE,TIME,LATITUDE,LONGITUDE,DEPTH,CTDPRS,CTDTMP,CTDSAL,CTDSAL_FLAG_W,SALNTY,SALNTY_FLAG_W,CTDOXY,CTDOXY_FLAG_W,OXYGEN,OXYGEN_FLAG_W,SILCAT,SILCAT_FLAG_W,NITRAT,NITRAT_FLAG_W,NITRIT,NITRIT_FLAG_W,PHSPHT,PHSPHT_FLAG_W,CFC-11,CFC-11_FLAG_W,CFC-12,CFC-12_FLAG_W,CFC113,CFC113_FLAG_W,SF6,SF6_FLAG_W,TCARBN,TCARBN_FLAG_W,ALKALI,ALKALI_FLAG_W,PH_TOT,PH_TOT_FLAG_W,PH_TMP,TRITUM,TRITUM_FLAG_W,HELIUM,HELIUM_FLAG_W,DELHE3,DELHE3_FLAG_W,REFTMP,REFTMP_FLAG_W,DELC13,DELC13_FLAG_W,DELC14,DELC14_FLAG_W,C14ERR,NEON,NEON_FLAG_W,DELO18,DELO18_FLAG_W,POC,POC_FLAG_W,DOC,DOC_FLAG_W,TDN,TDN_FLAG_W,BTL_LAT,BTL_LON,TRITER,NEONER,SALTREF,SALTREF_FLAG_W,PIGMENTS,PIGMENTS_FLAG_W,LAB_DEN,LAB_DEN_FLAG_W,CDOM325,CDOM325_FLAG_W,CDOM340,CDOM340_FLAG_W,CDOM380,CDOM380_FLAG_W,CDOM412,CDOM412_FLAG_W,CDOM443,CDOM443_FLAG_W,CDOM490,CDOM490_FLAG_W,CDOM555,CDOM555_FLAG_W,CDOMSL,CDOMSL_FLAG_W,CDOMSN,CDOMSN_FLAG_W,HELIER,DELHER,THETA,LDEO_SAMPNO,ABSORBTION,ABSORBTION_FLAG_W,IMAGE_COUNT,IMAGE_COUNT_FLAG_W,CYTO_COUNT,CYTO_COUNT_FLAG_W,DELD,DELD_FLAG_W,DELDERR,BTL_DATE,BTL_TIME
,,,,,,,,,,,METERS,DBAR,ITS-90,PSS-78,,PSS-78,,UMOL/KG,,UMOL/KG,,UMOL/KG,,UMOL/KG,,UMOL/KG,,UMOL/KG,,PMOL/KG,,PMOL/KG,,PMOL/KG,,FMOL/KG,,UMOL/KG,,UMOL/KG,,,,DEG C,TU,,NMOL/KG,,PERCNT,,DEG C,,/MILLE,,/MILLE,,/MILLE,NMOL/KG,,/MILLE,,UG/KG,,UMOL/KG,,UMOL/KG,,,,TU,NMOL/KG,G/KG,,,,,,1/M,,1/M,,1/M,,1/M,,1/M,,1/M,,1/M,,1/NM,,1/NM,,NMOL/KG,PERCNT,DEG C,,,,,,,,/MILLE,,/MILLE,,
320620110219,       S04P,      30,          1,         36,         36,2,20110306,       0815,   -67.0001,  -169.0626,       3652,     4.2,  -0.7741,  33.6322,4,  33.6538,2,    338.9,3,   343.0,2,   54.41,2,   25.51,2,    0.15,2,    1.67,2,   5.955,2,   3.254,2,   0.575,2,-999.0000,9,  2157.2,6,  2276.5,2,   7.6858,2,    25.00,   0.088,2,    1.951,2,  -1.677,2,  -0.7743,2, -999.00,9,  -999.0,9,  -999.0,   8.911,2,   -0.41,2,-999.000,9,   43.40,2,   30.00,2, -67.0001,-169.0627,   0.005,      0.014,    33.8125,2,     -999.0,9,     -999.0,9,-999.0000,9,-999.0000,9,-999.0000,9,-999.0000,9,-999.0000,9,-999.0000,9,-999.0000,9,-999.0000,9,-999.0000,9,    0.001,   0.192,  -0.7742,50003001036,     -999.0,9,     -999.0,9,     -999.0,9,      -4.20,2,       0.48,20110306,       1007
320620110219,       S04P,      30,          1,         35,         35,2,20110306,       0815,   -67.0001,  -169.0626,       3652,    24.2,  -0.7660,  33.6329,4,  33.6546,2,    342.3,2,   342.9,2,   54.31,2,   25.42,2,    0.15,2,    1.66,2,   5.936,2,   3.273,2,   0.567,2,   2.3380,2,  -999.0,5,  2276.8,2,   7.6830,6,    25.00,   0.085,2,    2.009,2,  -1.744,2,  -0.7669,2, -999.00,9,  -999.0,9,  -999.0,   9.009,2,   -0.27,2,-999.000,9,   42.65,2,   30.15,2, -67.0000,-169.0627,   0.006,      0.013,    33.8133,2,     -999.0,9,     -999.0,9,-999.0000,9,-999.0000,9,-999.0000,9,-999.0000,9,-999.0000,9,-999.0000,9,-999.0000,9,-999.0000,9,-999.0000,9,    0.000,   0.192,  -0.7667,50003001035,     -999.0,9,     -999.0,9,     -999.0,9,      -3.04,2,       0.16,20110306,       1006
320620110219,       S04P,      30,          1,         34,         34,2,20110306,       0815,   -67.0001,  -169.0626,       3652,    49.9,  -1.7629,  34.2515,4,  34.2752,2,    277.7,2,   285.9,2,   66.61,2,   29.86,2,    0.17,2,    2.03,2,   4.216,2,   2.286,2,   0.415,2,   1.4740,2,  -999.0,5,  2316.0,6,   7.6172,2,    25.00,   0.078,2,    8.957,4,   1.748,4,  -1.7620,2, -999.00,9,  -999.0,9,  -999.0,-999.000,5,   -0.21,2,-999.000,9,   42.93,2,   34.20,2, -67.0001,-169.0626,   0.005,     -2.942,    34.4368,2,     -999.0,9,     -999.0,9,-999.0000,9,-999.0000,9,-999.0000,9,-999.0000,9,-999.0000,9,-999.0000,9,-999.0000,9,-999.0000,9,-999.0000,9,    0.134,   0.113,  -1.7639,50003001034,     -999.0,9,     -999.0,9,     -999.0,9,      -2.88,2,       0.27,20110306,       1004
320620110219,       S04P,      30,          1,         33,         33,2,20110306,       0815,   -67.0001,  -169.0626,       3652,    74.5,  -0.7033,  34.3801,4,  34.3972,2,    253.2,2,   251.4,2,   73.23,2,   31.37,2,    0.08,2,    2.12,2,   3.171,2,   1.726,2,   0.295,2,   0.9240,2,  2230.6,2,  2324.5,2,   7.5934,2,    25.00,   0.024,2,    1.979,2,   3.492,2,  -0.7316,3, -999.00,9,  -999.0,9,  -999.0,   8.672,2,   -0.23,2,-999.000,9,   42.19,2,   35.56,2, -67.0000,-169.0627,   0.004,      0.014,    34.5594,2,     -999.0,9,     -999.0,9,-999.0000,9,-999.0000,9,-999.0000,9,-999.0000,9,-999.0000,9,-999.0000,9,-999.0000,9,-999.0000,9,-999.0000,9,    0.001,   0.217,  -0.7055,50003001033,     -999.0,9,     -999.0,9,     -999.0,9,      -2.74,2,       0.09,20110306,       1003
320620110219,       S04P,      30,          1,         32,         32,2,20110306,       0815,   -67.0001,  -169.0626,       3652,    99.9,   0.7046,  34.5576,4,  34.5798,2,    215.7,2,   204.8,2,   84.13,2,   32.77,2,    0.04,2,    2.22,2,   1.494,2,   0.802,2,   0.146,2,   0.4790,2,  2249.2,2,  2336.0,2,   7.5692,2,    25.00,   0.014,2,    1.988,2,   7.056,2,   0.7038,2, -999.00,9,  -999.0,9,  -999.0,   8.811,2,   -0.06,2,-999.000,9,   42.04,2,   35.93,2, -67.0000,-169.0627,   0.004,      0.014,    34.7428,2,     -999.0,9,     -999.0,9,-999.0000,9,-999.0000,9,-999.0000,9,-999.0000,9,-999.0000,9,-999.0000,9,-999.0000,9,-999.0000,9,-999.0000,9,    0.000,   0.205,   0.7004,50003001032,     -999.0,9,     -999.0,9,     -999.0,9,      -1.71,2,       0.20,20110306,       1001
320620110219,       S04P,      30,          1,         31,         31,2,20110306,       0815,   -67.0001,  -169.0626,       3652,   126.5,   1.0181,  34.5943,4,  34.6196,2,    196.8,2,   196.5,2,   86.56,2,   32.90,2,    0.01,2,    2.22,2,   1.096,2,   0.597,2,   0.102,2,   0.2460,2,  2253.1,2,  2338.8,2,   7.5689,2,    25.00,   0.001,2,    1.968,2,   7.300,2,   1.0257,2, -999.00,9,  -999.0,9,  -999.0,   8.495,2,   -0.12,2,-999.000,9,   41.90,2,   35.78,2, -67.0000,-169.0626,   0.004,      0.013,    34.7828,2,     -999.0,9,     -999.0,9,-999.0000,9,-999.0000,9,-999.0000,9,-999.0000,9,-999.0000,9,-999.0000,9,-999.0000,9,-999.0000,9,-999.0000,9,    0.001,   0.218,   1.0124,50003001031,     -999.0,9,     -999.0,9,     -999.0,9,      -1.51,2,       0.29,20110306,       1000
320620110219,       S04P,      30,          1,         30,         30,2,20110306,       0815,   -67.0001,  -169.0626,       3652,   149.3,   1.1807,  34.6195,4,  34.6410,2,    192.8,2,   192.9,2,   87.95,2,   32.96,2,    0.01,2,    2.22,2,   0.962,2,   0.512,2,   0.092,2,   0.3330,2,  2253.2,2,  2341.4,2,   7.5691,2,    25.00,   0.025,2,    2.054,2,   7.545,2,   1.1794,2, -999.00,9,  -999.0,9,  -999.0,   8.889,2,   -0.18,2,-999.000,9,   41.30,2,   35.33,2, -67.0001,-169.0626,   0.006,      0.013,    34.8044,2,     -999.0,9,     -999.0,9,-999.0000,9,-999.0000,9,-999.0000,9,-999.0000,9,-999.0000,9,-999.0000,9,-999.0000,9,-999.0000,9,-999.0000,9,    0.001,   0.205,   1.1738,50003001030,     -999.0,9,     -999.0,9,     -999.0,9,      -2.51,2,       0.17,20110306,       0958
320620110219,       S04P,      30,          1,         29,         29,2,20110306,       0815,   -67.0001,  -169.0626,       3652,   199.1,   1.3524,  34.6517,4,  34.6734,2,    189.2,2,   189.2,2,   89.37,2,   32.84,2,    0.01,2,    2.21,2,   0.722,2,   0.381,2,   0.059,2,   0.1410,2,  2256.3,2,  2342.3,2,   7.5726,2,    25.00,-999.000,9,    2.044,2,   8.379,2,   1.3528,2, -999.00,9,  -999.0,9,  -999.0,   9.021,2,   -0.13,2,-999.000,9,   41.08,2,   35.59,2, -67.0001,-169.0626,-999.000,      0.015,    34.8369,2,     -999.0,9,     -999.0,9,-999.0000,9,-999.0000,9,-999.0000,9,-999.0000,9,-999.0000,9,-999.0000,9,-999.0000,9,-999.0000,9,-999.0000,9,    0.001,   0.205,   1.3428,50003001029,     -999.0,9,     -999.0,9,     -999.0,9,      -1.79,2,       0.22,20110306,       0956
320620110219,       S04P,      30,          1,         28,         28,2,20110306,       0815,   -67.0001,  -169.0626,       3652,   248.5,   1.4692,  34.6797,4,  34.7022,2,    187.4,2,   186.9,2,   91.69,2,   32.47,2,    0.00,2,    2.20,2,   0.505,2,   0.262,2,   0.037,2,   0.0800,2,  2257.4,2,  2344.4,2,   7.5768,2,    25.00,   0.001,2,    1.994,2,   8.723,2,   1.4694,2, -999.00,9,  -999.0,9,  -999.0,   8.704,2,   -0.29,2,-999.000,9,   41.15,2,   35.41,2, -67.0001,-169.0626,   0.004,      0.012,    34.8659,2,     -999.0,9,     -999.0,9,-999.0000,9,-999.0000,9,-999.0000,9,-999.0000,9,-999.0000,9,-999.0000,9,-999.0000,9,-999.0000,9,-999.0000,9,    0.000,   0.205,   1.4568,50003001028,     -999.0,9,     -999.0,9,     -999.0,9,      -1.93,2,       0.14,20110306,       0954
320620110219,       S04P,      30,          1,         27,         27,2,20110306,       0815,   -67.0001,  -169.0626,       3652,   299.8,   1.4825,  34.6941,4,  34.7158,2,    186.9,2,   187.7,2,   93.02,2,   32.31,2,    0.00,2,    2.18,2,   0.417,2,   0.217,2,   0.034,2,   0.1700,2,  2258.9,2,  2348.7,2,   7.5810,2,    25.00,   0.001,2,    1.970,2,   8.586,2,   1.4833,2, -999.00,9,  -999.0,9,  -999.0,   8.610,2,    0.04,2,-999.000,9,   41.06,2,   35.50,2, -67.0000,-169.0627,   0.005,      0.010,    34.8795,2,     -999.0,9,     -999.0,9,-999.0000,9,-999.0000,9,-999.0000,9,-999.0000,9,-999.0000,9,-999.0000,9,-999.0000,9,-999.0000,9,-999.0000,9,    0.000,   0.211,   1.4674,50003001027,     -999.0,9,     -999.0,9,     -999.0,9,      -1.05,2,       0.12,20110306,       0952
320620110219,       S04P,      30,          1,         26,         26,2,20110306,       0815,   -67.0001,  -169.0626,       3652,   350.7,   1.4601,  34.6991,4,  34.7221,2,    188.2,2,   189.4,2,   94.84,2,   32.13,2,    0.00,2,    2.18,2,-999.000,9,-999.000,9,-999.000,9,-999.0000,9,  2257.7,2,  2350.2,2,   7.5841,2,    25.00,-999.000,9,-999.0000,9,-999.000,9,   1.4599,2, -999.00,9,  -999.0,9,  -999.0,-999.000,9, -999.00,9,-999.000,9,   40.47,2,   35.33,2, -67.0001,-169.0626,-999.000,     -999.0,    34.8858,2,     -999.0,9,     -999.0,9,-999.0000,9,-999.0000,9,-999.0000,9,-999.0000,9,-999.0000,9,-999.0000,9,-999.0000,9,-999.0000,9,-999.0000,9,-999.0000,-999.000,   1.4423,     -999.0,     -999.0,9,     -999.0,9,     -999.0,9,     -999.0,9,     -999.0,20110306,       0950
320620110219,       S04P,      30,          1,         25,         25,2,20110306,       0815,   -67.0001,  -169.0626,       3652,   401.6,   1.4111,  34.7024,4,  34.7258,2,    189.9,2,   190.5,2,   96.85,2,   32.01,2,    0.00,2,    2.18,2,   0.324,2,   0.170,2,   0.027,2,   0.1220,2,  2257.1,2,  2351.7,2,   7.5851,2,    25.00,   0.001,2,    2.061,2,   8.587,2,   1.4111,2, -999.00,9,  -999.0,9,  -999.0,   9.030,2,   -0.21,2,-999.000,9,   40.61,2,   34.95,2, -67.0000,-169.0627,   0.005,      0.016,    34.8896,2,     -999.0,9,     -999.0,9,-999.0000,9,-999.0000,9,-999.0000,9,-999.0000,9,-999.0000,9,-999.0000,9,-999.0000,9,-999.0000,9,-999.0000,9,    0.001,   0.193,   1.3908,50003001025,     -999.0,9,     -999.0,9,     -999.0,9,      -1.76,2,       0.29,20110306,       0948
320620110219,       S04P,      30,          1,         24,         24,2,20110306,       0815,   -67.0001,  -169.0626,       3652,   450.7,   1.3758,  34.7044,4,  34.7278,2,    190.4,2,   191.0,2,   99.15,2,   32.05,2,    0.00,2,    2.18,2,-999.000,9,-999.000,9,-999.000,9,-999.0000,9,  2257.4,2,  2351.6,2,   7.5876,2,    25.00,-999.000,9,-999.0000,9,-999.000,9,   1.3757,2, -999.00,9,  -999.0,9,  -999.0,-999.000,9, -999.00,9,-999.000,9,   40.65,2,   35.18,2, -67.0000,-169.0626,-999.000,     -999.0,    34.8915,2,     -999.0,9,     -999.0,9,-999.0000,9,-999.0000,9,-999.0000,9,-999.0000,9,-999.0000,9,-999.0000,9,-999.0000,9,-999.0000,9,-999.0000,9,-999.0000,-999.000,   1.3529,     -999.0,     -999.0,9,     -999.0,9,     -999.0,9,     -999.0,9,     -999.0,20110306,       0946
320620110219,       S04P,      30,          1,         23,         23,2,20110306,       0815,   -67.0001,  -169.0626,       3652,   498.2,   1.3397,  34.7048,4,  34.7278,2,    190.8,2,   191.1,2,  100.10,2,   32.11,2,    0.00,2,    2.19,2,   0.257,2,   0.135,2,   0.023,2,   0.1220,2,  2258.3,2,  2353.9,2,   7.5862,2,    25.00,   0.009,2,    1.996,2,   8.982,2,   1.3409,2, -999.00,9,  -999.0,9,  -999.0,   8.824,2,   -0.15,2,-999.000,9,   40.43,2,   35.09,2, -67.0000,-169.0626,   0.007,      0.015,    34.8916,2,     -999.0,9,     -999.0,9,-999.0000,9,-999.0000,9,-999.0000,9,-999.0000,9,-999.0000,9,-999.0000,9,-999.0000,9,-999.0000,9,-999.0000,9,    0.000,   0.193,   1.3143,50003001023,     -999.0,9,     -999.0,9,     -999.0,9,      -1.52,2,       0.28,20110306,       0944
320620110219,       S04P,      30,          1,         22,         22,2,20110306,       0815,   -67.0001,  -169.0626,       3652,   599.8,   1.2589,  34.7044,4,  34.7272,2,    192.5,2,   192.2,2,  103.45,2,   32.13,2,    0.00,2,    2.18,2,-999.000,9,-999.000,9,-999.000,9,-999.0000,9,  -999.0,5,  -999.0,9,-999.0000,9,  -999.00,-999.000,9,-999.0000,9,-999.000,9,   1.2595,2, -999.00,9,  -999.0,9,  -999.0,-999.000,9, -999.00,9,-999.000,9,   40.87,2,   34.80,2, -67.0001,-169.0626,-999.000,     -999.0,    34.8910,2,     -999.0,9,     -999.0,9,-999.0000,9,-999.0000,9,-999.0000,9,-999.0000,9,-999.0000,9,-999.0000,9,-999.0000,9,-999.0000,9,-999.0000,9,-999.0000,-999.000,   1.2282,     -999.0,     -999.0,9,     -999.0,9,     -999.0,9,     -999.0,9,     -999.0,20110306,       0941
320620110219,       S04P,      30,          1,         21,         21,2,20110306,       0815,   -67.0001,  -169.0626,       3652,   699.5,   1.1812,  34.7029,4,  34.7257,2,    194.2,2,   195.1,2,  105.81,2,   32.01,2,    0.00,2,    2.18,2,   0.191,2,   0.101,2,   0.017,2,   0.1080,2,  2260.0,2,  2355.1,2,   7.5928,6,    25.00,   0.001,2,    1.993,2,   9.404,2,   1.1808,2, -999.00,9,  -999.0,9,  -999.0,   8.772,2,   -0.28,2,-999.000,9,   41.19,2,   35.01,2, -67.0000,-169.0627,   0.005,      0.014,    34.8894,2,     -999.0,9,     -999.0,9,-999.0000,9,-999.0000,9,-999.0000,9,-999.0000,9,-999.0000,9,-999.0000,9,-999.0000,9,-999.0000,9,-999.0000,9,    0.000,   0.205,   1.1453,50003001021,     -999.0,9,     -999.0,9,     -999.0,9,      -2.74,2,       0.43,20110306,       0938
320620110219,       S04P,      30,          1,         20,         20,2,20110306,       0815,   -67.0001,  -169.0626,       3652,   800.3,   1.1110,  34.7007,4,  34.7237,2,    195.7,2,   195.8,2,  108.12,2,   32.02,2,    0.00,2,    2.19,2,   0.161,2,   0.098,2,   0.012,2,   0.1030,2,  -999.0,9,  -999.0,9,-999.0000,9,  -999.00,   0.001,2,    1.980,2,  10.131,2,   1.1111,2, -999.00,9,  -999.0,9,  -999.0,   8.787,2, -999.00,9,-999.000,9,   41.11,2,   34.27,2, -67.0001,-169.0626,   0.007,      0.015,    34.8874,2,     -999.0,9,     -999.0,9,-999.0000,9,-999.0000,9,-999.0000,9,-999.0000,9,-999.0000,9,-999.0000,9,-999.0000,9,-999.0000,9,-999.0000,9,    0.000,   0.206,   1.0697,50003001020,     -999.0,9,     -999.0,9,     -999.0,9,     -999.0,9,     -999.0,20110306,       0935
320620110219,       S04P,      30,          1,         19,         19,2,20110306,       0815,   -67.0001,  -169.0626,       3652,   901.6,   1.0444,  34.6982,4,  34.7216,2,    197.6,2,   198.0,2,  110.28,2,   32.01,2,    0.00,2,    2.20,2,   0.160,2,   0.090,2,   0.013,2,   0.0890,2,  2260.2,2,  2356.4,6,   7.5965,2,    25.00,   0.001,2,-999.0000,9,-999.000,9,   1.0440,2, -999.00,9,  -999.0,9,  -999.0,-999.000,9, -999.00,9,-999.000,9,   41.13,2,   34.35,2, -67.0000,-169.0627,   0.006,     -999.0,    34.8853,2,     -999.0,9,     -999.0,9,-999.0000,9,-999.0000,9,-999.0000,9,-999.0000,9,-999.0000,9,-999.0000,9,-999.0000,9,-999.0000,9,-999.0000,9,-999.0000,-999.000,   0.9976,     -999.0,     -999.0,9,     -999.0,9,     -999.0,9,     -999.0,9,     -999.0,20110306,       0933
320620110219,       S04P,      30,          1,         18,         18,2,20110306,       0815,   -67.0001,  -169.0626,       3652,  1000.0,   0.9780,  34.6952,4,  34.7196,2,    199.7,2,   199.9,2,  112.14,2,   31.91,2,    0.00,2,    2.20,2,-999.000,9,-999.000,9,-999.000,9,-999.0000,9,  -999.0,9,  -999.0,9,-999.0000,9,  -999.00,-999.000,9,-999.0000,9,-999.000,9,   0.9775,2, -999.00,9,  -999.0,9,  -999.0,-999.000,9, -999.00,9,-999.000,9,   41.02,2,   34.37,2, -67.0000,-169.0627,-999.000,     -999.0,    34.8833,2,     -999.0,9,     -999.0,9,-999.0000,9,-999.0000,9,-999.0000,9,-999.0000,9,-999.0000,9,-999.0000,9,-999.0000,9,-999.0000,9,-999.0000,9,-999.0000,-999.000,   0.9258,     -999.0,     -999.0,9,     -999.0,9,     -999.0,9,     -999.0,9,     -999.0,20110306,       0930
320620110219,       S04P,      30,          1,         17,         17,2,20110306,       0815,   -67.0001,  -169.0626,       3652,  1099.5,   0.9150,  34.6925,4,  34.7165,2,    201.1,2,   201.3,2,  114.37,2,   32.04,2,    0.00,2,    2.21,2,   0.376,2,   0.180,2,   0.024,2,   0.1130,2,  2260.9,6,  2357.6,2,   7.5969,2,    25.00,   0.001,2,    2.052,2,  10.265,2,   0.9148,2, -999.00,9,  -999.0,9,  -999.0,   9.018,2, -999.00,9,-999.000,9,   40.61,2,   34.47,2, -67.0000,-169.0626,   0.005,      0.014,    34.8802,2,     -999.0,9,     -999.0,9,-999.0000,9,-999.0000,9,-999.0000,9,-999.0000,9,-999.0000,9,-999.0000,9,-999.0000,9,-999.0000,9,-999.0000,9,    0.001,   0.194,   0.8572,50003001017,     -999.0,9,     -999.0,9,     -999.0,9,     -999.0,9,     -999.0,20110306,       0926
320620110219,       S04P,      30,          1,         16,         16,2,20110306,       0815,   -67.0001,  -169.0626,       3652,  1201.4,   0.8522,  34.7030,4,  34.7135,2,    201.7,2,   203.0,2,  116.31,2,   32.10,2,    0.00,2,    2.20,2,-999.000,9,-999.000,9,-999.000,9,-999.0000,9,  -999.0,9,  -999.0,9,-999.0000,9,  -999.00,-999.000,9,-999.0000,9,-999.000,9,   0.8517,2, -999.00,9,  -999.0,9,  -999.0,-999.000,9, -999.00,9,-999.000,9,   40.53,2,   34.31,2, -67.0000,-169.0626,-999.000,     -999.0,    34.8772,2,     -999.0,9,     -999.0,9,-999.0000,9,-999.0000,9,-999.0000,9,-999.0000,9,-999.0000,9,-999.0000,9,-999.0000,9,-999.0000,9,-999.0000,9,-999.0000,-999.000,   0.7886,     -999.0,     -999.0,9,     -999.0,9,     -999.0,9,     -999.0,9,     -999.0,20110306,       0923
320620110219,       S04P,      30,          1,         15,         15,2,20110306,       0815,   -67.0001,  -169.0626,       3652,  1300.0,   0.8002,  34.7116,2,  34.7110,2,    203.7,2,   203.6,2,  117.52,2,   32.12,2,    0.00,2,    2.21,2,   0.173,2,   0.096,2,   0.015,2,   0.0920,2,  2260.5,2,  2359.0,2,   7.5993,2,    25.00,-999.000,9,    2.044,2,  10.118,2,   0.8001,2, -999.00,9,  -999.0,9,  -999.0,   9.016,2, -999.00,9,-999.000,9,   40.44,2,   34.36,2, -67.0000,-169.0626,-999.000,      0.015,    34.8747,2,     -999.0,9,     -999.0,9,-999.0000,9,-999.0000,9,-999.0000,9,-999.0000,9,-999.0000,9,-999.0000,9,-999.0000,9,-999.0000,9,-999.0000,9,    0.000,   0.206,   0.7309,50003001015,     -999.0,9,     -999.0,9,     -999.0,9,     -999.0,9,     -999.0,20110306,       0920
320620110219,       S04P,      30,          1,         14,         14,2,20110306,       0815,   -67.0001,  -169.0626,       3652,  1400.5,   0.7473,  34.7095,2,  34.7094,2,    204.7,2,   205.3,2,  119.10,2,   32.13,2,    0.00,2,    2.22,2,-999.000,9,-999.000,9,-999.000,9,-999.0000,9,  -999.0,9,  -999.0,9,-999.0000,9,  -999.00,-999.000,9,-999.0000,9,-999.000,9,   0.7479,2, -999.00,9,  -999.0,9,  -999.0,-999.000,9, -999.00,9,-999.000,9,   40.36,2,   34.37,2, -67.0000,-169.0626,-999.000,     -999.0,    34.8731,2,     -999.0,9,     -999.0,9,-999.0000,9,-999.0000,9,-999.0000,9,-999.0000,9,-999.0000,9,-999.0000,9,-999.0000,9,-999.0000,9,-999.0000,9,-999.0000,-999.000,   0.6720,     -999.0,     -999.0,9,     -999.0,9,     -999.0,9,     -999.0,9,     -999.0,20110306,       0917