BOTTLE,20220813CCHSIOAMB
EXPOCODE,SECT_ID,STNNBR,CASTNO,SAMPNO,BTLNBR,BTLNBR_FLAG_W,DATE,TIME,LATITUDE,LONGITUDE,DEPTH,CTDPRS,CTDTMP,CTDSAL,CTDSAL_FLAG_W,SALNTY,SALNTY_FLAG_W,CTDOXY,CTDOXY_FLAG_W,OXYGEN,OXYGEN_FLAG_W,SILCAT,SILCAT_FLAG_W,NITRAT,NITRAT_FLAG_W,NITRIT,NITRIT_FLAG_W,PHSPHT,PHSPHT_FLAG_W,CFC-11,CFC-11_FLAG_W,CFC-12,CFC-12_FLAG_W,CFC113,CFC113_FLAG_W,SF6,SF6_FLAG_W,TCARBN,TCARBN_FLAG_W,ALKALI,ALKALI_FLAG_W,PH_TOT,PH_TOT_FLAG_W,PH_TMP,TRITUM,TRITUM_FLAG_W,HELIUM,HELIUM_FLAG_W,DELHE3,DELHE3_FLAG_W,REFTMP,REFTMP_FLAG_W,DELC13,DELC13_FLAG_W,DELC14,DELC14_FLAG_W,C14ERR,NEON,NEON_FLAG_W,DELO18,DELO18_FLAG_W,POC,POC_FLAG_W,DOC,DOC_FLAG_W,TDN,TDN_FLAG_W,BTL_LAT,BTL_LON,TRITER,NEONER,SALTREF,SALTREF_FLAG_W,PIGMENTS,PIGMENTS_FLAG_W,LAB_DEN,LAB_DEN_FLAG_W,CDOM325,CDOM325_FLAG_W,CDOM340,CDOM340_FLAG_W,CDOM380,CDOM380_FLAG_W,CDOM412,CDOM412_FLAG_W,CDOM443,CDOM443_FLAG_W,CDOM490,CDOM490_FLAG_W,CDOM555,CDOM555_FLAG_W,CDOMSL,CDOMSL_FLAG_W,CDOMSN,CDOMSN_FLAG_W,HELIER,DELHER,THETA,LDEO_SAMPNO,ABSORBTION,ABSORBTION_FLAG_W,IMAGE_COUNT,IMAGE_COUNT_FLAG_W,CYTO_COUNT,CYTO_COUNT_FLAG_W,DELD,DELD_FLAG_W,DELDERR,BTL_DATE,BTL_TIME
,,,,,,,,,,,METERS,DBAR,ITS-90,PSS-78,,PSS-78,,UMOL/KG,,UMOL/KG,,UMOL/KG,,UMOL/KG,,UMOL/KG,,UMOL/KG,,PMOL/KG,,PMOL/KG,,PMOL/KG,,FMOL/KG,,UMOL/KG,,UMOL/KG,,,,DEG C,TU,,NMOL/KG,,PERCNT,,DEG C,,/MILLE,,/MILLE,,/MILLE,NMOL/KG,,/MILLE,,UG/KG,,UMOL/KG,,UMOL/KG,,,,TU,NMOL/KG,G/KG,,,,,,1/M,,1/M,,1/M,,1/M,,1/M,,1/M,,1/M,,1/NM,,1/NM,,NMOL/KG,PERCNT,DEG C,,,,,,,,/MILLE,,/MILLE,,
320620110219,       P15S,      83,          2,         36,         36,2,20110324,       0454,   -74.0717,  -174.1009,       2749,     4.4,  -1.5013,  33.9827,2,  33.9827,2,    335.7,3,   339.6,2,   57.75,2,   26.75,2,    0.11,2,    1.88,2,   6.070,2,   3.265,2,   0.623,2,   2.5520,2,  2183.6,6,  2300.3,2,   7.6643,2,    25.00,-999.000,9,-999.0000,9,-999.000,9,  -1.5010,2, -999.00,9,  -999.0,9,  -999.0,-999.000,9,   -0.40,2,-999.000,9,   44.90,2,   31.30,2, -74.0717,-174.1009,-999.000,     -999.0,    34.1430,2,     -999.0,9,     -999.0,9,-999.0000,9,-999.0000,9,-999.0000,9,-999.0000,9,-999.0000,9,-999.0000,9,-999.0000,9,-999.0000,9,-999.0000,9,-999.0000,-999.000,  -1.5014,     -999.0,     -999.0,9,     -999.0,9,     -999.0,9,      -4.42,2,       0.26,20110324,       0616
320620110219,       P15S,      83,          2,         35,         35,2,20110324,       0454,   -74.0717,  -174.1009,       2749,    24.6,  -1.4997,  33.9827,2,  33.9823,2,    340.1,2,   339.8,2,   57.79,2,   26.74,2,    0.11,2,    1.89,2,-999.000,9,-999.000,9,-999.000,9,-999.0000,9,  2185.3,2,  2300.2,2,   7.6648,6,    25.00,-999.000,9,-999.0000,9,-999.000,9,  -1.4998,2, -999.00,9,  -999.0,9,  -999.0,-999.000,9,   -0.55,2,-999.000,9,   44.95,2,   31.22,2, -74.0717,-174.1009,-999.000,     -999.0,    34.1426,2,     -999.0,9,     -999.0,9,-999.0000,9,-999.0000,9,-999.0000,9,-999.0000,9,-999.0000,9,-999.0000,9,-999.0000,9,-999.0000,9,-999.0000,9,-999.0000,-999.000,  -1.5002,     -999.0,     -999.0,9,     -999.0,9,     -999.0,9,      -5.04,2,       0.23,20110324,       0615
320620110219,       P15S,      83,          2,         34,         34,2,20110324,       0454,   -74.0717,  -174.1009,       2749,    49.6,  -1.5003,  33.9826,2,  33.9835,2,    340.4,2,   339.9,2,   57.94,2,   26.62,2,    0.11,2,    1.89,2,   6.077,2,   3.248,2,   0.598,2,   2.4600,2,  2185.0,2,  2301.2,6,   7.6635,2,    25.00,-999.000,9,-999.0000,9,-999.000,9,  -1.4999,2, -999.00,9,  -999.0,9,  -999.0,-999.000,9, -999.00,9,-999.000,9,   44.75,2,   31.23,2, -74.0717,-174.1008,-999.000,     -999.0,    34.1438,2,     -999.0,9,     -999.0,9,-999.0000,9,-999.0000,9,-999.0000,9,-999.0000,9,-999.0000,9,-999.0000,9,-999.0000,9,-999.0000,9,-999.0000,9,-999.0000,-999.000,  -1.5014,     -999.0,     -999.0,9,     -999.0,9,     -999.0,9,     -999.0,9,     -999.0,20110324,       0614
320620110219,       P15S,      83,          2,         33,         33,2,20110324,       0454,   -74.0717,  -174.1009,       2749,    74.8,  -1.5033,  33.9902,3,  34.0279,2,    339.5,2,   325.6,2,   59.29,2,   27.73,2,    0.12,2,    1.95,2,   5.626,2,   3.020,2,   0.550,2,   2.2480,2,  2192.9,2,  2302.1,2,   7.6502,2,    25.00,-999.000,9,-999.0000,9,-999.000,9,  -1.5032,2, -999.00,9,  -999.0,9,  -999.0,-999.000,9,   -0.18,2,-999.000,9,   44.50,2,   31.60,2, -74.0717,-174.1009,-999.000,     -999.0,    34.1884,2,     -999.0,9,     -999.0,9,-999.0000,9,-999.0000,9,-999.0000,9,-999.0000,9,-999.0000,9,-999.0000,9,-999.0000,9,-999.0000,9,-999.0000,9,-999.0000,-999.000,  -1.5049,     -999.0,     -999.0,9,     -999.0,9,     -999.0,9,      -3.98,2,       0.23,20110324,       0613
320620110219,       P15S,      83,          2,         32,         32,2,20110324,       0454,   -74.0717,  -174.1009,       2749,   100.0,  -1.4062,  34.2302,2,  34.2225,2,    279.2,2,   279.9,2,   64.33,2,   30.51,2,    0.14,2,    2.12,2,   4.230,2,   2.242,2,   0.410,2,   1.6850,2,  2215.1,2,  2311.6,2,   7.6083,2,    25.00,-999.000,9,-999.0000,9,-999.000,9,  -1.4066,2, -999.00,9,  -999.0,9,  -999.0,-999.000,9, -999.00,9,-999.000,9,   42.76,2,   34.17,2, -74.0717,-174.1009,-999.000,     -999.0,    34.3839,2,     -999.0,9,     -999.0,9,-999.0000,9,-999.0000,9,-999.0000,9,-999.0000,9,-999.0000,9,-999.0000,9,-999.0000,9,-999.0000,9,-999.0000,9,-999.0000,-999.000,  -1.4085,     -999.0,     -999.0,9,     -999.0,9,     -999.0,9,     -999.0,9,     -999.0,20110324,       0611
320620110219,       P15S,      83,          2,         31,         31,2,20110324,       0454,   -74.0717,  -174.1009,       2749,   125.9,  -1.4478,  34.2601,2,  34.2689,2,    275.4,2,   274.7,2,   65.15,2,   30.93,2,    0.10,2,    2.14,2,-999.000,9,-999.000,9,-999.000,9,-999.0000,9,  2219.2,2,  2318.1,2,   7.6011,2,    25.00,-999.000,9,-999.0000,9,-999.000,9,  -1.4428,2, -999.00,9,  -999.0,9,  -999.0,-999.000,9,   -0.40,2,-999.000,9,   42.29,2,   34.59,2, -74.0717,-174.1009,-999.000,     -999.0,    34.4305,2,     -999.0,9,     -999.0,9,-999.0000,9,-999.0000,9,-999.0000,9,-999.0000,9,-999.0000,9,-999.0000,9,-999.0000,9,-999.0000,9,-999.0000,9,-999.0000,-999.000,  -1.4507,     -999.0,     -999.0,9,     -999.0,9,     -999.0,9,      -3.95,2,       0.20,20110324,       0610
320620110219,       P15S,      83,          2,         30,         30,2,20110324,       0454,   -74.0717,  -174.1009,       2749,   150.2,  -0.4808,  34.3559,2,  34.3702,2,    262.5,2,   242.7,2,   72.58,2,   31.92,2,    0.03,2,    2.21,2,   3.024,2,   1.600,2,   0.297,2,   1.2550,2,  2231.1,2,  2320.9,2,   7.5849,2,    25.00,-999.000,9,-999.0000,9,-999.000,9,  -0.4663,2, -999.00,9,  -999.0,9,  -999.0,-999.000,9, -999.00,9,-999.000,9,   41.74,2,   35.13,2, -74.0717,-174.1009,-999.000,     -999.0,    34.5322,2,     -999.0,9,     -999.0,9,-999.0000,9,-999.0000,9,-999.0000,9,-999.0000,9,-999.0000,9,-999.0000,9,-999.0000,9,-999.0000,9,-999.0000,9,-999.0000,-999.000,  -0.4856,     -999.0,     -999.0,9,     -999.0,9,     -999.0,9,     -999.0,9,     -999.0,20110324,       0609
320620110219,       P15S,      83,          2,         29,         29,2,20110324,       0454,   -74.0717,  -174.1009,       2749,   175.2,   0.3761,  34.4674,2,  34.4639,2,    232.7,2,   219.0,2,   78.20,2,   32.58,2,    0.02,2,    2.25,2,-999.000,9,-999.000,9,-999.000,9,-999.0000,9,  2240.3,2,  2327.3,2,   7.5747,2,    25.00,-999.000,9,-999.0000,9,-999.000,9,   0.3736,2, -999.00,9,  -999.0,9,  -999.0,-999.000,9,   -0.14,2,-999.000,9,   41.15,2,   35.23,2, -74.0717,-174.1009,-999.000,     -999.0,    34.6264,2,     -999.0,9,     -999.0,9,-999.0000,9,-999.0000,9,-999.0000,9,-999.0000,9,-999.0000,9,-999.0000,9,-999.0000,9,-999.0000,9,-999.0000,9,-999.0000,-999.000,   0.3692,     -999.0,     -999.0,9,     -999.0,9,     -999.0,9,      -2.49,2,       0.19,20110324,       0607
320620110219,       P15S,      83,          2,         28,         28,2,20110324,       0454,   -74.0717,  -174.1009,       2749,   199.9,   0.8082,  34.5365,2,  34.5329,2,    211.4,2,   204.9,2,   81.67,2,   32.76,2,    0.02,2,    2.27,2,   1.630,2,   0.856,2,   0.161,2,   0.6740,2,  2244.8,2,  2332.2,2,   7.5685,2,    25.00,-999.000,9,-999.0000,9,-999.000,9,   0.8085,2, -999.00,9,  -999.0,9,  -999.0,-999.000,9, -999.00,9,-999.000,9,   40.47,2,   35.35,2, -74.0717,-174.1009,-999.000,     -999.0,    34.6957,2,     -999.0,9,     -999.0,9,-999.0000,9,-999.0000,9,-999.0000,9,-999.0000,9,-999.0000,9,-999.0000,9,-999.0000,9,-999.0000,9,-999.0000,9,-999.0000,-999.000,   0.7995,     -999.0,     -999.0,9,     -999.0,9,     -999.0,9,     -999.0,9,     -999.0,20110324,       0606
320620110219,       P15S,      83,          2,         27,         27,2,20110324,       0454,   -74.0717,  -174.1009,       2749,   225.2,   1.1179,  34.5894,2,  34.5954,2,    200.9,2,   194.5,2,   84.49,2,   32.80,2,    0.01,2,    2.27,2,-999.000,9,-999.000,9,-999.000,9,-999.0000,9,  2250.7,2,  2341.0,2,   7.5666,2,    25.00,-999.000,9,-999.0000,9,-999.000,9,   1.1206,2, -999.00,9,  -999.0,9,  -999.0,-999.000,9,   -0.05,2,-999.000,9,   40.54,2,   35.44,2, -74.0717,-174.1008,-999.000,     -999.0,    34.7586,2,     -999.0,9,     -999.0,9,-999.0000,9,-999.0000,9,-999.0000,9,-999.0000,9,-999.0000,9,-999.0000,9,-999.0000,9,-999.0000,9,-999.0000,9,-999.0000,-999.000,   1.1074,     -999.0,     -999.0,9,     -999.0,9,     -999.0,9,      -1.70,2,       0.12,20110324,       0604
320620110219,       P15S,      83,          2,         26,         26,2,20110324,       0454,   -74.0717,  -174.1009,       2749,   250.8,   1.4888,  34.6570,2,  34.6484,2,    190.9,2,   186.3,2,   86.18,2,   32.90,2,    0.01,2,    2.28,2,   0.758,2,   0.380,2,   0.076,2,   0.2810,2,  2253.2,2,  2341.0,2,   7.5667,2,    25.00,-999.000,9,-999.0000,9,-999.000,9,   1.4922,2, -999.00,9,  -999.0,9,  -999.0,-999.000,9, -999.00,9,-999.000,9,   40.46,2,   35.77,2, -74.0717,-174.1009,-999.000,     -999.0,    34.8118,2,     -999.0,9,     -999.0,9,-999.0000,9,-999.0000,9,-999.0000,9,-999.0000,9,-999.0000,9,-999.0000,9,-999.0000,9,-999.0000,9,-999.0000,9,-999.0000,-999.000,   1.4763,     -999.0,     -999.0,9,     -999.0,9,     -999.0,9,     -999.0,9,     -999.0,20110324,       0603
320620110219,       P15S,      83,          2,         25,         25,2,20110324,       0454,   -74.0717,  -174.1009,       2749,   299.9,   1.6178,  34.6903,2,  34.6896,2,    183.0,2,   182.8,2,   87.94,2,   32.75,2,    0.01,2,    2.26,2,-999.000,9,-999.000,9,-999.000,9,-999.0000,9,  2254.9,2,  2343.3,2,   7.5704,2,    25.00,-999.000,9,-999.0000,9,-999.000,9,   1.6178,2, -999.00,9,  -999.0,9,  -999.0,-999.000,9,    0.00,2,-999.000,9,   40.35,2,   35.58,2, -74.0717,-174.1009,-999.000,     -999.0,    34.8532,2,     -999.0,9,     -999.0,9,-999.0000,9,-999.0000,9,-999.0000,9,-999.0000,9,-999.0000,9,-999.0000,9,-999.0000,9,-999.0000,9,-999.0000,9,-999.0000,-999.000,   1.6024,     -999.0,     -999.0,9,     -999.0,9,     -999.0,9,      -1.20,2,       0.16,20110324,       0601
320620110219,       P15S,      83,          2,         24,         24,2,20110324,       0454,   -74.0717,  -174.1009,       2749,   349.2,   1.6317,  34.7123,2,  34.7112,2,    182.7,2,   183.0,2,   90.74,2,   32.49,2,    0.01,2,    2.24,2,   0.366,2,   0.174,2,   0.036,2,   0.1270,2,  2254.8,2,  2346.0,2,   7.5758,2,    25.00,-999.000,9,-999.0000,9,-999.000,9,   1.6316,2, -999.00,9,  -999.0,9,  -999.0,-999.000,9, -999.00,9,-999.000,9,   40.31,2,   35.33,2, -74.0717,-174.1009,-999.000,     -999.0,    34.8749,2,     -999.0,9,     -999.0,9,-999.0000,9,-999.0000,9,-999.0000,9,-999.0000,9,-999.0000,9,-999.0000,9,-999.0000,9,-999.0000,9,-999.0000,9,-999.0000,-999.000,   1.6135,     -999.0,     -999.0,9,     -999.0,9,     -999.0,9,     -999.0,9,     -999.0,20110324,       0559
320620110219,       P15S,      83,          2,         23,         23,2,20110324,       0454,   -74.0717,  -174.1009,       2749,   400.5,   1.5861,  34.7205,2,  34.7206,2,    183.7,2,   183.9,2,   93.17,2,   32.43,2,    0.01,2,    2.24,2,-999.000,9,-999.000,9,-999.000,9,-999.0000,9,  2256.2,2,  2349.2,2,   7.5786,2,    25.00,-999.000,9,-999.0000,9,-999.000,9,   1.5856,2, -999.00,9,  -999.0,9,  -999.0,-999.000,9,    0.00,2,-999.000,9,   40.46,2,   35.23,2, -74.0717,-174.1009,-999.000,     -999.0,    34.8843,2,     -999.0,9,     -999.0,9,-999.0000,9,-999.0000,9,-999.0000,9,-999.0000,9,-999.0000,9,-999.0000,9,-999.0000,9,-999.0000,9,-999.0000,9,-999.0000,-999.000,   1.5652,     -999.0,     -999.0,9,     -999.0,9,     -999.0,9,      -1.10,2,       0.12,20110324,       0557
320620110219,       P15S,      83,          2,         22,         22,2,20110324,       0454,   -74.0717,  -174.1009,       2749,   450.7,   1.5314,  34.7260,2,  34.7242,2,    184.4,2,   184.8,2,   95.48,2,   32.43,2,    0.01,2,    2.24,2,   0.238,2,   0.117,2,   0.016,2,   0.1400,2,  -999.0,9,  -999.0,9,-999.0000,9,  -999.00,-999.000,9,-999.0000,9,-999.000,9,   1.5312,2, -999.00,9,  -999.0,9,  -999.0,-999.000,9, -999.00,9,-999.000,9,   40.10,2,   34.77,2, -74.0717,-174.1009,-999.000,     -999.0,    34.8879,2,     -999.0,9,     -999.0,9,-999.0000,9,-999.0000,9,-999.0000,9,-999.0000,9,-999.0000,9,-999.0000,9,-999.0000,9,-999.0000,9,-999.0000,9,-999.0000,-999.000,   1.5079,     -999.0,     -999.0,9,     -999.0,9,     -999.0,9,     -999.0,9,     -999.0,20110324,       0555
320620110219,       P15S,      83,          2,         21,         21,2,20110324,       0454,   -74.0717,  -174.1009,       2749,   500.0,   1.4904,  34.7287,2,  34.7289,2,    185.6,2,   185.7,2,   97.00,2,   32.34,2,    0.01,2,    2.24,2,-999.000,9,-999.000,9,-999.000,9,-999.0000,9,  2256.9,2,  2351.0,6,   7.5844,2,    25.00,-999.000,9,-999.0000,9,-999.000,9,   1.4897,2, -999.00,9,  -999.0,9,  -999.0,-999.000,9,    0.04,2,-999.000,9,   40.13,2,   34.60,2, -74.0717,-174.1009,-999.000,     -999.0,    34.8926,2,     -999.0,9,     -999.0,9,-999.0000,9,-999.0000,9,-999.0000,9,-999.0000,9,-999.0000,9,-999.0000,9,-999.0000,9,-999.0000,9,-999.0000,9,-999.0000,-999.000,   1.4643,     -999.0,     -999.0,9,     -999.0,9,     -999.0,9,      -1.06,2,       0.38,20110324,       0554
320620110219,       P15S,      83,          2,         20,         20,2,20110324,       0454,   -74.0717,  -174.1009,       2749,   599.4,   1.3838,  34.7299,2,  34.7302,2,    186.8,2,   187.4,2,  100.48,2,   32.20,2,    0.01,2,    2.24,2,   0.170,2,   0.076,2,   0.016,2,   0.0970,2,  -999.0,9,  -999.0,9,-999.0000,9,  -999.00,-999.000,9,-999.0000,9,-999.000,9,   1.3836,2, -999.00,9,  -999.0,9,  -999.0,-999.000,9, -999.00,9,-999.000,9,   40.04,2,   34.88,2, -74.0717,-174.1008,-999.000,     -999.0,    34.8940,2,     -999.0,9,     -999.0,9,-999.0000,9,-999.0000,9,-999.0000,9,-999.0000,9,-999.0000,9,-999.0000,9,-999.0000,9,-999.0000,9,-999.0000,9,-999.0000,-999.000,   1.3525,     -999.0,     -999.0,9,     -999.0,9,     -999.0,9,     -999.0,9,     -999.0,20110324,       0551
320620110219,       P15S,      83,          2,         19,         19,2,20110324,       0454,   -74.0717,  -174.1009,       2749,   700.6,   1.3166,  34.7293,2,  34.7305,2,    188.3,2,   188.3,2,  103.24,2,   32.22,2,    0.00,2,    2.24,2,-999.000,9,-999.000,9,-999.000,9,-999.0000,9,  2258.9,2,  2354.7,2,   7.5862,6,    25.00,-999.000,9,-999.0000,9,-999.000,9,   1.3162,2, -999.00,9,  -999.0,9,  -999.0,-999.000,9,    0.00,2,-999.000,9,   40.03,2,   34.85,2, -74.0717,-174.1008,-999.000,     -999.0,    34.8942,2,     -999.0,9,     -999.0,9,-999.0000,9,-999.0000,9,-999.0000,9,-999.0000,9,-999.0000,9,-999.0000,9,-999.0000,9,-999.0000,9,-999.0000,9,-999.0000,-999.000,   1.2798,     -999.0,     -999.0,9,     -999.0,9,     -999.0,9,      -1.25,2,       0.14,20110324,       0548
320620110219,       P15S,      83,          2,         18,         18,2,20110324,       0454,   -74.0717,  -174.1009,       2749,   799.9,   1.2225,  34.7273,2,  34.7270,2,    189.9,2,   190.5,2,  106.34,2,   32.37,2,    0.00,2,    2.25,2,   0.106,2,   0.046,2,   0.008,2,   0.0770,2,  -999.0,9,  -999.0,9,-999.0000,9,  -999.00,-999.000,9,-999.0000,9,-999.000,9,   1.2218,2, -999.00,9,  -999.0,9,  -999.0,-999.000,9, -999.00,9,-999.000,9,   39.67,2,   35.12,2, -74.0717,-174.1009,-999.000,     -999.0,    34.8907,2,     -999.0,9,     -999.0,9,-999.0000,9,-999.0000,9,-999.0000,9,-999.0000,9,-999.0000,9,-999.0000,9,-999.0000,9,-999.0000,9,-999.0000,9,-999.0000,-999.000,   1.1805,     -999.0,     -999.0,9,     -999.0,9,     -999.0,9,     -999.0,9,     -999.0,20110324,       0545
320620110219,       P15S,      83,          2,         17,         17,2,20110324,       0454,   -74.0717,  -174.1009,       2749,   900.0,   1.1461,  34.7254,2,  34.7252,2,    192.3,2,   193.0,2,  108.98,2,   32.22,2,    0.00,2,    2.24,2,-999.000,9,-999.000,9,-999.000,9,-999.0000,9,  2258.8,2,  2356.9,2,   7.5890,2,    25.00,-999.000,9,-999.0000,9,-999.000,9,   1.1447,2, -999.00,9,  -999.0,9,  -999.0,-999.000,9, -999.00,9,-999.000,9,   39.27,2,   34.55,2, -74.0717,-174.1009,-999.000,     -999.0,    34.8889,2,     -999.0,9,     -999.0,9,-999.0000,9,-999.0000,9,-999.0000,9,-999.0000,9,-999.0000,9,-999.0000,9,-999.0000,9,-999.0000,9,-999.0000,9,-999.0000,-999.000,   1.0986,     -999.0,     -999.0,9,     -999.0,9,     -999.0,9,     -999.0,9,     -999.0,20110324,       0542
320620110219,       P15S,      83,          2,         16,         16,2,20110324,       0454,   -74.0717,  -174.1009,       2749,  1001.2,   1.0647,  34.7225,2,  34.7226,2,    194.4,2,   194.6,2,  110.97,2,   32.17,2,    0.00,2,    2.24,2,   0.090,2,   0.044,2,   0.008,2,   0.0510,2,  -999.0,9,  -999.0,9,-999.0000,9,  -999.00,-999.000,9,-999.0000,9,-999.000,9,   1.0651,2, -999.00,9,  -999.0,9,  -999.0,-999.000,9, -999.00,9,-999.000,9,   39.56,2,   34.79,2, -74.0717,-174.1009,-999.000,     -999.0,    34.8864,2,     -999.0,9,     -999.0,9,-999.0000,9,-999.0000,9,-999.0000,9,-999.0000,9,-999.0000,9,-999.0000,9,-999.0000,9,-999.0000,9,-999.0000,9,-999.0000,-999.000,   1.0117,     -999.0,     -999.0,9,     -999.0,9,     -999.0,9,     -999.0,9,     -999.0,20110324,       0540
320620110219,       P15S,      83,          2,         15,         15,2,20110324,       0454,   -74.0717,  -174.1009,       2749,  1098.5,   1.0145,  34.7209,2,  34.7205,2,    196.1,2,   195.8,2,  112.69,2,   32.08,2,    0.00,2,    2.24,2,-999.000,9,-999.000,9,-999.000,9,-999.0000,9,  2260.1,6,  2357.6,2,   7.5938,2,    25.00,-999.000,9,-999.0000,9,-999.000,9,   1.0138,2, -999.00,9,  -999.0,9,  -999.0,-999.000,9,   -0.13,2,-999.000,9,   39.67,2,   34.60,2, -74.0717,-174.1009,-999.000,     -999.0,    34.8842,2,     -999.0,9,     -999.0,9,-999.0000,9,-999.0000,9,-999.0000,9,-999.0000,9,-999.0000,9,-999.0000,9,-999.0000,9,-999.0000,9,-999.0000,9,-999.0000,-999.000,   0.9559,     -999.0,     -999.0,9,     -999.0,9,     -999.0,9,      -1.53,2,       0.06,20110324,       0537
320620110219,       P15S,      83,          2,         14,         14,2,20110324,       0454,   -74.0717,  -174.1009,       2749,  1199.5,   0.9527,  34.7185,2,  34.7193,2,    197.5,2,   197.3,2,  114.55,2,   32.09,2,    0.00,2,    2.24,2,   0.083,2,   0.037,2,   0.008,2,   0.0780,2,  -999.0,9,  -999.0,9,-999.0000,9,  -999.00,-999.000,9,-999.0000,9,-999.000,9,   0.9525,2, -999.00,9,  -999.0,9,  -999.0,-999.000,9, -999.00,9,-999.000,9,   40.01,2,   34.68,2, -74.0717,-174.1009,-999.000,     -999.0,    34.8830,2,     -999.0,9,     -999.0,9,-999.0000,9,-999.0000,9,-999.0000,9,-999.0000,9,-999.0000,9,-999.0000,9,-999.0000,9,-999.0000,9,-999.0000,9,-999.0000,-999.000,   0.8883,     -999.0,     -999.0,9,     -999.0,9,     -999.0,9,     -999.0,9,     -999.0,20110324,       0534