BOTTLE,20220813CCHSIOAMB
EXPOCODE,SECT_ID,STNNBR,CASTNO,SAMPNO,BTLNBR,BTLNBR_FLAG_W,DATE,TIME,LATITUDE,LONGITUDE,DEPTH,CTDPRS,CTDTMP,CTDSAL,CTDSAL_FLAG_W,SALNTY,SALNTY_FLAG_W,CTDOXY,CTDOXY_FLAG_W,OXYGEN,OXYGEN_FLAG_W,SILCAT,SILCAT_FLAG_W,NITRAT,NITRAT_FLAG_W,NITRIT,NITRIT_FLAG_W,PHSPHT,PHSPHT_FLAG_W,CFC-11,CFC-11_FLAG_W,CFC-12,CFC-12_FLAG_W,CFC113,CFC113_FLAG_W,SF6,SF6_FLAG_W,TCARBN,TCARBN_FLAG_W,ALKALI,ALKALI_FLAG_W,PH_TOT,PH_TOT_FLAG_W,PH_TMP,TRITUM,TRITUM_FLAG_W,HELIUM,HELIUM_FLAG_W,DELHE3,DELHE3_FLAG_W,REFTMP,REFTMP_FLAG_W,DELC13,DELC13_FLAG_W,DELC14,DELC14_FLAG_W,C14ERR,NEON,NEON_FLAG_W,DELO18,DELO18_FLAG_W,POC,POC_FLAG_W,DOC,DOC_FLAG_W,TDN,TDN_FLAG_W,BTL_LAT,BTL_LON,TRITER,NEONER,SALTREF,SALTREF_FLAG_W,PIGMENTS,PIGMENTS_FLAG_W,LAB_DEN,LAB_DEN_FLAG_W,CDOM325,CDOM325_FLAG_W,CDOM340,CDOM340_FLAG_W,CDOM380,CDOM380_FLAG_W,CDOM412,CDOM412_FLAG_W,CDOM443,CDOM443_FLAG_W,CDOM490,CDOM490_FLAG_W,CDOM555,CDOM555_FLAG_W,CDOMSL,CDOMSL_FLAG_W,CDOMSN,CDOMSN_FLAG_W,HELIER,DELHER,THETA,LDEO_SAMPNO,ABSORBTION,ABSORBTION_FLAG_W,IMAGE_COUNT,IMAGE_COUNT_FLAG_W,CYTO_COUNT,CYTO_COUNT_FLAG_W,DELD,DELD_FLAG_W,DELDERR,BTL_DATE,BTL_TIME
,,,,,,,,,,,METERS,DBAR,ITS-90,PSS-78,,PSS-78,,UMOL/KG,,UMOL/KG,,UMOL/KG,,UMOL/KG,,UMOL/KG,,UMOL/KG,,PMOL/KG,,PMOL/KG,,PMOL/KG,,FMOL/KG,,UMOL/KG,,UMOL/KG,,,,DEG C,TU,,NMOL/KG,,PERCNT,,DEG C,,/MILLE,,/MILLE,,/MILLE,NMOL/KG,,/MILLE,,UG/KG,,UMOL/KG,,UMOL/KG,,,,TU,NMOL/KG,G/KG,,,,,,1/M,,1/M,,1/M,,1/M,,1/M,,1/M,,1/M,,1/NM,,1/NM,,NMOL/KG,PERCNT,DEG C,,,,,,,,/MILLE,,/MILLE,,
320620110219,       S04P,     102,          2,         13,         13,2,20110402,       0008,   -66.9996,  -136.5796,       4536,  1666.4,   1.0209,  34.7198,2,  34.7180,3,    199.2,2,   199.6,2,  113.17,2,   31.72,2,    0.00,2,    2.21,2,   0.119,2,   0.062,2,   0.007,2,   0.0310,2,  -999.0,9,  -999.0,9,-999.0000,9,  -999.00,-999.000,9,-999.0000,9,-999.000,9,   1.0212,2, -999.00,9,  -999.0,9,  -999.0,-999.000,9, -999.00,9,-999.000,9, -999.00,9, -999.00,9, -66.9995,-136.5797,-999.000,     -999.0,    34.8817,3,     -999.0,9,     -999.0,9,-999.0000,9,-999.0000,9,-999.0000,9,-999.0000,9,-999.0000,9,-999.0000,9,-999.0000,9,-999.0000,9,-999.0000,9,-999.0000,-999.000,   0.9240,     -999.0,     -999.0,9,     -999.0,9,     -999.0,9,     -999.0,9,     -999.0,20110402,       0108
320620110219,       S04P,     102,          2,         12,         12,2,20110402,       0008,   -66.9996,  -136.5796,       4536,  1864.7,   0.9228,  34.7160,2,  34.7145,3,    201.2,2,   201.1,2,  116.46,2,   31.69,2,    0.00,2,    2.22,2,-999.000,9,-999.000,9,-999.000,9,-999.0000,9,  2256.7,2,  2360.5,2,   7.6012,2,    25.00,-999.000,9,-999.0000,9,-999.000,9,   0.9231,2, -999.00,9,  -999.0,9,  -999.0,-999.000,9, -999.00,9,-999.000,9, -999.00,9, -999.00,9, -66.9995,-136.5797,-999.000,     -999.0,    34.8782,3,     -999.0,9,     -999.0,9,-999.0000,9,-999.0000,9,-999.0000,9,-999.0000,9,-999.0000,9,-999.0000,9,-999.0000,9,-999.0000,9,-999.0000,9,-999.0000,-999.000,   0.8128,     -999.0,     -999.0,9,     -999.0,9,     -999.0,9,     -999.0,9,     -999.0,20110402,       0103
320620110219,       S04P,     102,          2,         11,         11,2,20110402,       0008,   -66.9996,  -136.5796,       4536,  2085.5,   0.8276,  34.7120,2,  34.7104,3,    203.1,2,   202.7,2,  120.00,2,   31.86,2,    0.00,2,    2.23,2,   0.129,2,   0.063,2,   0.009,2,   0.0070,2,  -999.0,9,  -999.0,9,-999.0000,9,  -999.00,-999.000,9,-999.0000,9,-999.000,9,   0.8283,2, -999.00,9,  -999.0,9,  -999.0,-999.000,9, -999.00,9,-999.000,9, -999.00,9, -999.00,9, -66.9995,-136.5797,-999.000,     -999.0,    34.8740,3,     -999.0,9,     -999.0,9,-999.0000,9,-999.0000,9,-999.0000,9,-999.0000,9,-999.0000,9,-999.0000,9,-999.0000,9,-999.0000,9,-999.0000,9,-999.0000,-999.000,   0.7023,     -999.0,     -999.0,9,     -999.0,9,     -999.0,9,     -999.0,9,     -999.0,20110402,       0059
320620110219,       S04P,     102,          2,         10,         37,2,20110402,       0008,   -66.9996,  -136.5796,       4536,  2335.8,   0.7310,  34.7085,2,  34.7078,2,    204.7,2,   204.3,2,  123.29,2,   31.94,2,    0.00,2,    2.23,2,-999.000,9,-999.000,9,-999.000,9,-999.0000,9,  2258.4,2,  2362.9,2,   7.5974,2,    25.00,-999.000,9,-999.0000,9,-999.000,9,   0.7295,2, -999.00,9,  -999.0,9,  -999.0,-999.000,9, -999.00,9,-999.000,9, -999.00,9, -999.00,9, -66.9995,-136.5797,-999.000,     -999.0,    34.8715,2,     -999.0,9,     -999.0,9,-999.0000,9,-999.0000,9,-999.0000,9,-999.0000,9,-999.0000,9,-999.0000,9,-999.0000,9,-999.0000,9,-999.0000,9,-999.0000,-999.000,   0.5877,     -999.0,     -999.0,9,     -999.0,9,     -999.0,9,     -999.0,9,     -999.0,20110402,       0054
320620110219,       S04P,     102,          2,          9,          9,2,20110402,       0008,   -66.9996,  -136.5796,       4536,  2585.0,   0.6413,  34.7061,2,  34.7056,2,    206.5,2,   206.3,2,  125.43,2,   32.08,2,    0.00,2,    2.24,2,   0.169,2,   0.084,2,   0.011,2,   0.0430,2,  -999.0,9,  -999.0,9,-999.0000,9,  -999.00,-999.000,9,-999.0000,9,-999.000,9,   0.6418,2, -999.00,9,  -999.0,9,  -999.0,-999.000,9, -999.00,9,-999.000,9, -999.00,9, -999.00,9, -66.9995,-136.5797,-999.000,     -999.0,    34.8693,2,     -999.0,9,     -999.0,9,-999.0000,9,-999.0000,9,-999.0000,9,-999.0000,9,-999.0000,9,-999.0000,9,-999.0000,9,-999.0000,9,-999.0000,9,-999.0000,-999.000,   0.4793,     -999.0,     -999.0,9,     -999.0,9,     -999.0,9,     -999.0,9,     -999.0,20110402,       0049
320620110219,       S04P,     102,          2,          8,          8,2,20110402,       0008,   -66.9996,  -136.5796,       4536,  2836.3,   0.5425,  34.7042,2,  34.7049,2,    208.7,2,   208.6,2,  127.60,2,   32.19,2,    0.00,2,    2.25,2,   0.186,2,   0.087,2,   0.013,2,   0.0510,2,  2258.8,2,  2360.2,2,   7.5949,2,    25.00,-999.000,9,-999.0000,9,-999.000,9,   0.5428,2, -999.00,9,  -999.0,9,  -999.0,-999.000,9, -999.00,9,-999.000,9, -999.00,9, -999.00,9, -66.9995,-136.5796,-999.000,     -999.0,    34.8685,2,     -999.0,9,     -999.0,9,-999.0000,9,-999.0000,9,-999.0000,9,-999.0000,9,-999.0000,9,-999.0000,9,-999.0000,9,-999.0000,9,-999.0000,9,-999.0000,-999.000,   0.3611,     -999.0,     -999.0,9,     -999.0,9,     -999.0,9,     -999.0,9,     -999.0,20110402,       0044
320620110219,       S04P,     102,          2,          7,          7,2,20110402,       0008,   -66.9996,  -136.5796,       4536,  3101.5,   0.4606,  34.7034,2,  34.7035,2,    210.5,2,   210.8,2,  129.85,2,   32.37,2,    0.00,2,    2.24,2,   0.190,2,   0.090,2,   0.014,2,   0.0430,2,  -999.0,9,  -999.0,9,-999.0000,9,  -999.00,-999.000,9,-999.0000,9,-999.000,9,   0.4607,2, -999.00,9,  -999.0,9,  -999.0,-999.000,9, -999.00,9,-999.000,9, -999.00,9, -999.00,9, -66.9995,-136.5796,-999.000,     -999.0,    34.8671,2,     -999.0,9,     -999.0,9,-999.0000,9,-999.0000,9,-999.0000,9,-999.0000,9,-999.0000,9,-999.0000,9,-999.0000,9,-999.0000,9,-999.0000,9,-999.0000,-999.000,   0.2576,     -999.0,     -999.0,9,     -999.0,9,     -999.0,9,     -999.0,9,     -999.0,20110402,       0039
320620110219,       S04P,     102,          2,          6,          6,2,20110402,       0008,   -66.9996,  -136.5796,       4536,  3399.8,   0.3889,  34.7030,2,  34.7054,3,    212.4,2,   212.1,2,  131.93,2,   32.51,2,    0.00,2,    2.25,2,-999.000,9,-999.000,9,-999.000,9,-999.0000,9,  2259.4,2,  2361.2,2,   7.5966,2,    25.00,-999.000,9,-999.0000,9,-999.000,9,   0.3891,2, -999.00,9,  -999.0,9,  -999.0,-999.000,9, -999.00,9,-999.000,9, -999.00,9, -999.00,9, -66.9995,-136.5796,-999.000,     -999.0,    34.8691,3,     -999.0,9,     -999.0,9,-999.0000,9,-999.0000,9,-999.0000,9,-999.0000,9,-999.0000,9,-999.0000,9,-999.0000,9,-999.0000,9,-999.0000,9,-999.0000,-999.000,   0.1603,     -999.0,     -999.0,9,     -999.0,9,     -999.0,9,     -999.0,9,     -999.0,20110402,       0033
320620110219,       S04P,     102,          2,          5,          5,2,20110402,       0008,   -66.9996,  -136.5796,       4536,  3699.2,   0.3387,  34.7019,2,  34.7029,2,    214.3,2,   214.0,2,  134.39,2,   32.51,2,    0.00,2,    2.25,2,   0.282,2,   0.131,2,   0.020,2,   0.0300,2,  -999.0,9,  -999.0,9,-999.0000,9,  -999.00,-999.000,9,-999.0000,9,-999.000,9,   0.3387,2, -999.00,9,  -999.0,9,  -999.0,-999.000,9, -999.00,9,-999.000,9, -999.00,9, -999.00,9, -66.9995,-136.5796,-999.000,     -999.0,    34.8665,2,     -999.0,9,     -999.0,9,-999.0000,9,-999.0000,9,-999.0000,9,-999.0000,9,-999.0000,9,-999.0000,9,-999.0000,9,-999.0000,9,-999.0000,9,-999.0000,-999.000,   0.0827,     -999.0,     -999.0,9,     -999.0,9,     -999.0,9,     -999.0,9,     -999.0,20110402,       0027
320620110219,       S04P,     102,          2,          4,          4,2,20110402,       0008,   -66.9996,  -136.5796,       4536,  4003.1,   0.2989,  34.6999,2,  34.7009,2,    216.3,2,   215.9,2,  133.20,2,   32.52,2,    0.00,2,    2.24,2,-999.000,9,-999.000,9,-999.000,9,-999.0000,9,  2257.9,3,  2360.6,6,   7.5944,2,    25.00,-999.000,9,-999.0000,9,-999.000,9,   0.2991,2, -999.00,9,  -999.0,9,  -999.0,-999.000,9, -999.00,9,-999.000,9, -999.00,9, -999.00,9, -66.9996,-136.5796,-999.000,     -999.0,    34.8646,2,     -999.0,9,     -999.0,9,-999.0000,9,-999.0000,9,-999.0000,9,-999.0000,9,-999.0000,9,-999.0000,9,-999.0000,9,-999.0000,9,-999.0000,9,-999.0000,-999.000,   0.0136,     -999.0,     -999.0,9,     -999.0,9,     -999.0,9,     -999.0,9,     -999.0,20110402,       0021
320620110219,       S04P,     102,          2,          3,          3,2,20110402,       0008,   -66.9996,  -136.5796,       4536,  4301.1,   0.2542,  34.6963,2,  34.6978,3,    219.4,2,   219.4,2,  124.16,2,   32.29,2,    0.00,2,    2.24,2,   0.728,2,   0.357,2,   0.039,2,   0.1470,2,  2256.5,3,  2357.9,2,   7.5926,2,    25.00,-999.000,9,-999.0000,9,-999.000,9,   0.2543,2, -999.00,9,  -999.0,9,  -999.0,-999.000,9, -999.00,9,-999.000,9, -999.00,9, -999.00,9, -66.9995,-136.5796,-999.000,     -999.0,    34.8614,3,     -999.0,9,     -999.0,9,-999.0000,9,-999.0000,9,-999.0000,9,-999.0000,9,-999.0000,9,-999.0000,9,-999.0000,9,-999.0000,9,-999.0000,9,-999.0000,-999.000,  -0.0606,     -999.0,     -999.0,9,     -999.0,9,     -999.0,9,     -999.0,9,     -999.0,20110402,       0015
320620110219,       S04P,     102,          2,          2,          2,2,20110402,       0008,   -66.9996,  -136.5796,       4536,  4500.8,   0.2560,  34.6965,2,  34.6968,2,    219.9,2,   219.8,2,  124.77,2,   32.35,2,    0.00,2,    2.24,2,   0.754,2,   0.364,2,   0.040,2,   0.1560,2,  2255.7,3,  2358.2,2,   7.5937,6,    25.00,-999.000,9,-999.0000,9,-999.000,9,   0.2558,2, -999.00,9,  -999.0,9,  -999.0,-999.000,9, -999.00,9,-999.000,9, -999.00,9, -999.00,9, -66.9996,-136.5796,-999.000,     -999.0,    34.8604,2,     -999.0,9,     -999.0,9,-999.0000,9,-999.0000,9,-999.0000,9,-999.0000,9,-999.0000,9,-999.0000,9,-999.0000,9,-999.0000,9,-999.0000,9,-999.0000,-999.000,  -0.0802,     -999.0,     -999.0,9,     -999.0,9,     -999.0,9,     -999.0,9,     -999.0,20110402,       0011
320620110219,       S04P,     102,          2,          1,          1,2,20110402,       0008,   -66.9996,  -136.5796,       4536,  4620.3,   0.2636,  34.6965,2,  34.6960,2,    219.7,2,   219.7,2,  124.58,2,   32.45,2,    0.00,2,    2.24,2,   0.796,2,   0.393,2,   0.044,2,   0.1800,2,  2259.4,6,  2359.0,2,   7.5928,2,    25.00,-999.000,9,-999.0000,9,-999.000,9,   0.2637,2, -999.00,9,  -999.0,9,  -999.0,-999.000,9, -999.00,9,-999.000,9, -999.00,9, -999.00,9, -66.9996,-136.5796,-999.000,     -999.0,    34.8596,2,     -999.0,9,     -999.0,9,-999.0000,9,-999.0000,9,-999.0000,9,-999.0000,9,-999.0000,9,-999.0000,9,-999.0000,9,-999.0000,9,-999.0000,9,-999.0000,-999.000,  -0.0859,     -999.0,     -999.0,9,     -999.0,9,     -999.0,9,     -999.0,9,     -999.0,20110402,       0008
320620110219,     DIPOLE,     103,          1,         10,         37,2,20110403,       0215,   -66.6600,  -136.0595,       4585,    14.9,  -0.8033,  33.5020,2,  33.5013,2,    347.6,2,   347.4,2, -999.00,9, -999.00,9, -999.00,9, -999.00,9,-999.000,9,-999.000,9,-999.000,9,-999.0000,9,  -999.0,9,  -999.0,9,-999.0000,9,  -999.00,   0.103,2,   1.8787,2,   -1.42,2,  -0.8034,2, -999.00,9,  -999.0,9,  -999.0,   8.440,2,   -0.37,2,-999.000,9, -999.00,9, -999.00,9, -66.6600,-136.0600,   0.005,      0.043,    33.6593,2,     -999.0,9,     -999.0,9,-999.0000,9,-999.0000,9,-999.0000,9,-999.0000,9,-999.0000,9,-999.0000,9,-999.0000,9,-999.0000,9,-999.0000,9,   0.0090,    0.14,  -0.8037,     -999.0,     -999.0,9,     -999.0,9,     -999.0,9,      -3.86,2,       0.10,20110403,       0334
320620110219,     DIPOLE,     103,          1,          9,          9,2,20110403,       0215,   -66.6600,  -136.0595,       4585,   500.2,   1.9506,  34.6988,2,  34.6980,2,    178.8,2,   178.5,2, -999.00,9, -999.00,9, -999.00,9, -999.00,9,-999.000,9,-999.000,9,-999.000,9,-999.0000,9,  -999.0,9,  -999.0,9,-999.0000,9,  -999.00,   0.001,2,   1.9053,2,    9.19,2,   1.9505,2, -999.00,9,  -999.0,9,  -999.0,   8.256,2,    0.01,2,-999.000,9, -999.00,9, -999.00,9, -66.6600,-136.0599,   0.004,      0.042,    34.8616,2,     -999.0,9,     -999.0,9,-999.0000,9,-999.0000,9,-999.0000,9,-999.0000,9,-999.0000,9,-999.0000,9,-999.0000,9,-999.0000,9,-999.0000,9,   0.0091,    0.14,   1.9227,     -999.0,     -999.0,9,     -999.0,9,     -999.0,9,      -1.23,2,       0.15,20110403,       0326
320620110219,     DIPOLE,     103,          1,          8,          8,2,20110403,       0215,   -66.6600,  -136.0595,       4585,   999.4,   1.5305,  34.7326,2,  34.7327,2,    192.1,2,   192.0,2, -999.00,9, -999.00,9, -999.00,9, -999.00,9,-999.000,9,-999.000,9,-999.000,9,-999.0000,9,  -999.0,9,  -999.0,9,-999.0000,9,  -999.00,   0.001,2,   1.9088,2,    9.63,2,   1.5315,2, -999.00,9,  -999.0,9,  -999.0,   8.334,2,   -0.10,2,-999.000,9, -999.00,9, -999.00,9, -66.6601,-136.0597,   0.004,      0.043,    34.8965,2,     -999.0,9,     -999.0,9,-999.0000,9,-999.0000,9,-999.0000,9,-999.0000,9,-999.0000,9,-999.0000,9,-999.0000,9,-999.0000,9,-999.0000,9,   0.0092,    0.14,   1.4738,     -999.0,     -999.0,9,     -999.0,9,     -999.0,9,      -1.52,2,       0.12,20110403,       0317
320620110219,     DIPOLE,     103,          1,          7,          7,2,20110403,       0215,   -66.6600,  -136.0595,       4585,  1498.7,   1.1693,  34.7247,2,  34.7250,2,    197.3,2,   197.4,2, -999.00,9, -999.00,9, -999.00,9, -999.00,9,-999.000,9,-999.000,9,-999.000,9,-999.0000,9,  -999.0,9,  -999.0,9,-999.0000,9,  -999.00,   0.001,2,   1.9757,2,    9.69,2,   1.1706,2, -999.00,9,  -999.0,9,  -999.0,   8.585,2,   -0.03,2,-999.000,9, -999.00,9, -999.00,9, -66.6600,-136.0599,   0.004,      0.044,    34.8888,2,     -999.0,9,     -999.0,9,-999.0000,9,-999.0000,9,-999.0000,9,-999.0000,9,-999.0000,9,-999.0000,9,-999.0000,9,-999.0000,9,-999.0000,9,   0.0095,    0.14,   1.0825,     -999.0,     -999.0,9,     -999.0,9,     -999.0,9,      -1.19,2,       0.11,20110403,       0309
320620110219,     DIPOLE,     103,          1,          6,          6,2,20110403,       0215,   -66.6600,  -136.0595,       4585,  1999.8,   0.9078,  34.7150,2,  34.7144,2,    202.2,2,   201.8,2, -999.00,9, -999.00,9, -999.00,9, -999.00,9,-999.000,9,-999.000,9,-999.000,9,-999.0000,9,  -999.0,9,  -999.0,9,-999.0000,9,  -999.00,   0.001,2,   1.9281,2,   10.26,2,   0.9079,2, -999.00,9,  -999.0,9,  -999.0,   8.365,2,   -0.17,6,-999.000,9, -999.00,9, -999.00,9, -66.6599,-136.0604,   0.004,      0.043,    34.8781,2,     -999.0,9,     -999.0,9,-999.0000,9,-999.0000,9,-999.0000,9,-999.0000,9,-999.0000,9,-999.0000,9,-999.0000,9,-999.0000,9,-999.0000,9,   0.0093,    0.14,   0.7878,     -999.0,     -999.0,9,     -999.0,9,     -999.0,9,      -2.87,6,       0.08,20110403,       0300
320620110219,     DIPOLE,     103,          1,          5,          5,2,20110403,       0215,   -66.6600,  -136.0595,       4585,  2499.6,   0.7242,  34.7076,2,  34.7079,2,    205.8,2,   205.5,2, -999.00,9, -999.00,9, -999.00,9, -999.00,9,-999.000,9,-999.000,9,-999.000,9,-999.0000,9,  -999.0,9,  -999.0,9,-999.0000,9,  -999.00,   0.001,2,   1.9658,2,   10.91,2,   0.7243,2, -999.00,9,  -999.0,9,  -999.0,   8.548,2,   -0.11,2,-999.000,9, -999.00,9, -999.00,9, -66.6600,-136.0601,   0.004,      0.044,    34.8716,2,     -999.0,9,     -999.0,9,-999.0000,9,-999.0000,9,-999.0000,9,-999.0000,9,-999.0000,9,-999.0000,9,-999.0000,9,-999.0000,9,-999.0000,9,   0.0094,    0.14,   0.5677,     -999.0,     -999.0,9,     -999.0,9,     -999.0,9,      -1.88,2,       0.17,20110403,       0252
320620110219,     DIPOLE,     103,          1,          4,          4,2,20110403,       0215,   -66.6600,  -136.0595,       4585,  2997.9,   0.5392,  34.7040,2,  34.7034,2,    208.9,2,   208.7,2, -999.00,9, -999.00,9, -999.00,9, -999.00,9,-999.000,9,-999.000,9,-999.000,9,-999.0000,9,  -999.0,9,  -999.0,9,-999.0000,9,  -999.00,   0.003,2,   1.9600,2,    9.86,2,   0.5397,2, -999.00,9,  -999.0,9,  -999.0,   8.599,2,   -0.07,2,-999.000,9, -999.00,9, -999.00,9, -66.6599,-136.0607,   0.004,      0.044,    34.8670,2,     -999.0,9,     -999.0,9,-999.0000,9,-999.0000,9,-999.0000,9,-999.0000,9,-999.0000,9,-999.0000,9,-999.0000,9,-999.0000,9,-999.0000,9,   0.0094,    0.14,   0.3437,     -999.0,     -999.0,9,     -999.0,9,     -999.0,9,      -2.12,2,       0.02,20110403,       0244
320620110219,     DIPOLE,     103,          1,          3,          3,2,20110403,       0215,   -66.6600,  -136.0595,       4585,  3498.6,   0.4070,  34.7025,2,  34.7022,2,    212.5,2,   212.2,2, -999.00,9, -999.00,9, -999.00,9, -999.00,9,-999.000,9,-999.000,9,-999.000,9,-999.0000,9,  -999.0,9,  -999.0,9,-999.0000,9,  -999.00,   0.001,2,   1.9692,2,    9.25,2,   0.4070,2, -999.00,9,  -999.0,9,  -999.0,   8.616,2,   -0.23,2,-999.000,9, -999.00,9, -999.00,9, -66.6600,-136.0598,   0.004,      0.044,    34.8658,2,     -999.0,9,     -999.0,9,-999.0000,9,-999.0000,9,-999.0000,9,-999.0000,9,-999.0000,9,-999.0000,9,-999.0000,9,-999.0000,9,-999.0000,9,   0.0095,    0.14,   0.1686,     -999.0,     -999.0,9,     -999.0,9,     -999.0,9,      -3.08,2,       0.38,20110403,       0235
320620110219,     DIPOLE,     103,          1,          2,          2,2,20110403,       0215,   -66.6600,  -136.0595,       4585,  3999.8,   0.3338,  34.7012,2,  34.7002,2,    215.0,2,   215.2,2, -999.00,9, -999.00,9, -999.00,9, -999.00,9,-999.000,9,-999.000,9,-999.000,9,-999.0000,9,  -999.0,9,  -999.0,9,-999.0000,9,  -999.00,   0.001,2,   1.9561,2,    8.58,2,   0.3337,2, -999.00,9,  -999.0,9,  -999.0,   8.437,2,   -0.33,2,-999.000,9, -999.00,9, -999.00,9, -66.6601,-136.0596,   0.004,      0.043,    34.8638,2,     -999.0,9,     -999.0,9,-999.0000,9,-999.0000,9,-999.0000,9,-999.0000,9,-999.0000,9,-999.0000,9,-999.0000,9,-999.0000,9,-999.0000,9,   0.0094,    0.14,   0.0479,     -999.0,     -999.0,9,     -999.0,9,     -999.0,9,      -2.82,2,       0.03,20110403,       0227
320620110219,     DIPOLE,     103,          1,          1,          1,2,20110403,       0215,   -66.6600,  -136.0595,       4585,  4666.1,   0.2847,  34.6968,2,  34.6960,2,    219.6,2,   219.5,2, -999.00,9, -999.00,9, -999.00,9, -999.00,9,-999.000,9,-999.000,9,-999.000,9,-999.0000,9,  -999.0,9,  -999.0,9,-999.0000,9,  -999.00,   0.001,2,   1.9426,2,    8.00,2,   0.2840,2, -999.00,9,  -999.0,9,  -999.0,   8.418,2,   -0.24,2,-999.000,9, -999.00,9, -999.00,9, -66.6600,-136.0594,   0.006,      0.043,    34.8597,2,     -999.0,9,     -999.0,9,-999.0000,9,-999.0000,9,-999.0000,9,-999.0000,9,-999.0000,9,-999.0000,9,-999.0000,9,-999.0000,9,-999.0000,9,   0.0093,    0.14,  -0.0706,     -999.0,     -999.0,9,     -999.0,9,     -999.0,9,      -2.70,2,       0.03,20110403,       0215