BOTTLE,20220813CCHSIOAMB
EXPOCODE,SECT_ID,STNNBR,CASTNO,SAMPNO,BTLNBR,BTLNBR_FLAG_W,DATE,TIME,LATITUDE,LONGITUDE,DEPTH,CTDPRS,CTDTMP,CTDSAL,CTDSAL_FLAG_W,SALNTY,SALNTY_FLAG_W,CTDOXY,CTDOXY_FLAG_W,OXYGEN,OXYGEN_FLAG_W,SILCAT,SILCAT_FLAG_W,NITRAT,NITRAT_FLAG_W,NITRIT,NITRIT_FLAG_W,PHSPHT,PHSPHT_FLAG_W,CFC-11,CFC-11_FLAG_W,CFC-12,CFC-12_FLAG_W,CFC113,CFC113_FLAG_W,SF6,SF6_FLAG_W,TCARBN,TCARBN_FLAG_W,ALKALI,ALKALI_FLAG_W,PH_TOT,PH_TOT_FLAG_W,PH_TMP,TRITUM,TRITUM_FLAG_W,HELIUM,HELIUM_FLAG_W,DELHE3,DELHE3_FLAG_W,REFTMP,REFTMP_FLAG_W,DELC13,DELC13_FLAG_W,DELC14,DELC14_FLAG_W,C14ERR,NEON,NEON_FLAG_W,DELO18,DELO18_FLAG_W,POC,POC_FLAG_W,DOC,DOC_FLAG_W,TDN,TDN_FLAG_W,BTL_LAT,BTL_LON,TRITER,NEONER,SALTREF,SALTREF_FLAG_W,PIGMENTS,PIGMENTS_FLAG_W,LAB_DEN,LAB_DEN_FLAG_W,CDOM325,CDOM325_FLAG_W,CDOM340,CDOM340_FLAG_W,CDOM380,CDOM380_FLAG_W,CDOM412,CDOM412_FLAG_W,CDOM443,CDOM443_FLAG_W,CDOM490,CDOM490_FLAG_W,CDOM555,CDOM555_FLAG_W,CDOMSL,CDOMSL_FLAG_W,CDOMSN,CDOMSN_FLAG_W,HELIER,DELHER,THETA,LDEO_SAMPNO,ABSORBTION,ABSORBTION_FLAG_W,IMAGE_COUNT,IMAGE_COUNT_FLAG_W,CYTO_COUNT,CYTO_COUNT_FLAG_W,DELD,DELD_FLAG_W,DELDERR,BTL_DATE,BTL_TIME
,,,,,,,,,,,METERS,DBAR,ITS-90,PSS-78,,PSS-78,,UMOL/KG,,UMOL/KG,,UMOL/KG,,UMOL/KG,,UMOL/KG,,UMOL/KG,,PMOL/KG,,PMOL/KG,,PMOL/KG,,FMOL/KG,,UMOL/KG,,UMOL/KG,,,,DEG C,TU,,NMOL/KG,,PERCNT,,DEG C,,/MILLE,,/MILLE,,/MILLE,NMOL/KG,,/MILLE,,UG/KG,,UMOL/KG,,UMOL/KG,,,,TU,NMOL/KG,G/KG,,,,,,1/M,,1/M,,1/M,,1/M,,1/M,,1/M,,1/M,,1/NM,,1/NM,,NMOL/KG,PERCNT,DEG C,,,,,,,,/MILLE,,/MILLE,,
320620110219,       S04P,      39,          1,         13,         13,2,20110309,       0055,   -67.0001,  -157.5448,       3743,  1498.8,   0.7313,  34.7100,2,  34.7103,2,    202.9,2,   202.3,2,  121.40,2,   31.89,2,    0.00,2,    2.21,2,-999.000,9,-999.000,9,-999.000,9,-999.0000,9,  -999.0,9,  -999.0,9,-999.0000,9,  -999.00,-999.000,9,-999.0000,9,-999.000,9,   0.7320,2, -999.00,9,  -999.0,9,  -999.0,-999.000,9, -999.00,9,-999.000,9, -999.00,9, -999.00,9, -67.0002,-157.5448,-999.000,     -999.0,    34.8740,2,     -999.0,9,     -999.0,9,   0.0622,3,   0.0231,3,  -0.0136,4,  -0.0196,4,  -0.0256,4,  -0.0199,4,  -0.0174,4,   0.1106,4,   0.0745,4,-999.0000,-999.000,   0.6497,     -999.0,     -999.0,9,     -999.0,9,     -999.0,9,     -999.0,9,     -999.0,20110309,       0146
320620110219,       S04P,      39,          1,         12,         12,2,20110309,       0055,   -67.0001,  -157.5448,       3743,  1599.3,   0.6915,  34.7081,2,  34.7075,2,    204.0,2,   203.7,2,  123.39,2,   31.85,2,    0.00,2,    2.21,2,   0.116,2,   0.049,2,   0.005,2,   0.0360,2,  -999.0,9,  -999.0,9,-999.0000,9,  -999.00,-999.000,9,-999.0000,9,-999.000,9,   0.6918,2, -999.00,9,  -999.0,9,  -999.0,-999.000,9, -999.00,9,-999.000,9, -999.00,9, -999.00,9, -67.0001,-157.5448,-999.000,     -999.0,    34.8712,2,     -999.0,9,     -999.0,9,-999.0000,9,-999.0000,9,-999.0000,9,-999.0000,9,-999.0000,9,-999.0000,9,-999.0000,9,-999.0000,9,-999.0000,9,-999.0000,-999.000,   0.6036,     -999.0,     -999.0,9,     -999.0,9,     -999.0,9,     -999.0,9,     -999.0,20110309,       0143
320620110219,       S04P,      39,          1,         11,         11,2,20110309,       0055,   -67.0001,  -157.5448,       3743,  1700.8,   0.6534,  34.7070,2,  34.7068,2,    205.1,2,   205.3,2,  124.14,2,   31.91,2,    0.00,2,    2.21,2,-999.000,9,-999.000,9,-999.000,9,-999.0000,9,  -999.0,9,  -999.0,9,-999.0000,9,  -999.00,-999.000,9,-999.0000,9,-999.000,9,   0.6534,2, -999.00,9,  -999.0,9,  -999.0,-999.000,9, -999.00,9,-999.000,9, -999.00,9, -999.00,9, -67.0001,-157.5448,-999.000,     -999.0,    34.8704,2,     -999.0,9,     -999.0,9,-999.0000,9,-999.0000,9,-999.0000,9,-999.0000,9,-999.0000,9,-999.0000,9,-999.0000,9,-999.0000,9,-999.0000,9,-999.0000,-999.000,   0.5589,     -999.0,     -999.0,9,     -999.0,9,     -999.0,9,     -999.0,9,     -999.0,20110309,       0141
320620110219,       S04P,      39,          1,         10,         37,2,20110309,       0055,   -67.0001,  -157.5448,       3743,  1801.5,   0.6204,  34.7060,2,  34.7060,2,    205.7,2,   206.6,2,  124.83,2,   31.95,2,    0.00,2,    2.21,2,-999.000,9,-999.000,9,-999.000,9,-999.0000,9,  2263.7,2,  2358.3,2,   7.5933,4,    25.00,-999.000,9,-999.0000,9,-999.000,9,   0.6203,2, -999.00,9,  -999.0,9,  -999.0,-999.000,9, -999.00,9,-999.000,9, -999.00,9, -999.00,9, -67.0001,-157.5448,-999.000,     -999.0,    34.8696,2,     -999.0,9,     -999.0,9,   0.0610,3,   0.0228,3,  -0.0127,4,  -0.0194,4,  -0.0258,4,  -0.0202,4,  -0.0177,4,   0.1121,4,   0.0745,4,-999.0000,-999.000,   0.5193,     -999.0,     -999.0,9,     -999.0,9,     -999.0,9,     -999.0,9,     -999.0,20110309,       0138
320620110219,       S04P,      39,          1,          9,          9,2,20110309,       0055,   -67.0001,  -157.5448,       3743,  1999.4,   0.5451,  34.7045,2,  34.7046,2,    207.9,2,   206.9,2,  126.44,2,   31.97,2,    0.00,2,    2.21,2,-999.000,9,-999.000,9,-999.000,9,-999.0000,9,  -999.0,9,  -999.0,9,-999.0000,9,  -999.00,-999.000,9,-999.0000,9,-999.000,9,   0.5451,2, -999.00,9,  -999.0,9,  -999.0,-999.000,9, -999.00,9,-999.000,9, -999.00,9, -999.00,9, -67.0001,-157.5447,-999.000,     -999.0,    34.8683,2,     -999.0,9,     -999.0,9,-999.0000,9,-999.0000,9,-999.0000,9,-999.0000,9,-999.0000,9,-999.0000,9,-999.0000,9,-999.0000,9,-999.0000,9,-999.0000,-999.000,   0.4308,     -999.0,     -999.0,9,     -999.0,9,     -999.0,9,     -999.0,9,     -999.0,20110309,       0134
320620110219,       S04P,      39,          1,          8,          8,2,20110309,       0055,   -67.0001,  -157.5448,       3743,  2248.5,   0.4614,  34.7034,2,  34.7027,2,    209.6,2,   209.6,2,  127.81,2,   32.00,2,    0.00,2,    2.21,2,   0.157,2,   0.067,2,   0.008,2,   0.0550,2,  -999.0,9,  -999.0,9,-999.0000,9,  -999.00,-999.000,9,-999.0000,9,-999.000,9,   0.4614,2, -999.00,9,  -999.0,9,  -999.0,-999.000,9, -999.00,9,-999.000,9, -999.00,9, -999.00,9, -67.0002,-157.5448,-999.000,     -999.0,    34.8663,2,     -999.0,9,     -999.0,9,-999.0000,9,-999.0000,9,-999.0000,9,-999.0000,9,-999.0000,9,-999.0000,9,-999.0000,9,-999.0000,9,-999.0000,9,-999.0000,-999.000,   0.3297,     -999.0,     -999.0,9,     -999.0,9,     -999.0,9,     -999.0,9,     -999.0,20110309,       0128
320620110219,       S04P,      39,          1,          7,          7,2,20110309,       0055,   -67.0001,  -157.5448,       3743,  2499.9,   0.3821,  34.7025,2,  34.7019,2,    211.9,2,   211.5,2,  129.64,2,   31.98,2,    0.00,2,    2.22,2,-999.000,9,-999.000,9,-999.000,9,-999.0000,9,  2262.9,2,  2360.1,2,   7.5929,2,    25.00,-999.000,9,-999.0000,9,-999.000,9,   0.3822,2, -999.00,9,  -999.0,9,  -999.0,-999.000,9, -999.00,9,-999.000,9, -999.00,9, -999.00,9, -67.0001,-157.5448,-999.000,     -999.0,    34.8655,2,     -999.0,9,     -999.0,9,   0.0598,3,   0.0211,3,  -0.0155,4,  -0.0204,4,  -0.0262,4,  -0.0204,4,  -0.0177,4,   0.1083,4,   0.0772,4,-999.0000,-999.000,   0.2321,     -999.0,     -999.0,9,     -999.0,9,     -999.0,9,     -999.0,9,     -999.0,20110309,       0123
320620110219,       S04P,      39,          1,          6,          6,2,20110309,       0055,   -67.0001,  -157.5448,       3743,  2748.8,   0.3188,  34.7013,2,  34.7011,2,    213.7,2,   214.1,2,  130.45,2,   32.01,2,    0.00,2,    2.22,2,   0.275,2,   0.124,2,   0.017,2,   0.0730,2,  -999.0,9,  -999.0,9,-999.0000,9,  -999.00,-999.000,9,-999.0000,9,-999.000,9,   0.3191,2, -999.00,9,  -999.0,9,  -999.0,-999.000,9, -999.00,9,-999.000,9, -999.00,9, -999.00,9, -67.0002,-157.5448,-999.000,     -999.0,    34.8647,2,     -999.0,9,     -999.0,9,-999.0000,9,-999.0000,9,-999.0000,9,-999.0000,9,-999.0000,9,-999.0000,9,-999.0000,9,-999.0000,9,-999.0000,9,-999.0000,-999.000,   0.1496,     -999.0,     -999.0,9,     -999.0,9,     -999.0,9,     -999.0,9,     -999.0,20110309,       0118
320620110219,       S04P,      39,          1,          5,          5,2,20110309,       0055,   -67.0001,  -157.5448,       3743,  2999.0,   0.2693,  34.7001,2,  34.6997,2,    215.8,2,   215.2,2,  131.02,2,   32.02,2,    0.00,2,    2.22,2,-999.000,9,-999.000,9,-999.000,9,-999.0000,9,  -999.0,9,  -999.0,9,-999.0000,9,  -999.00,-999.000,9,-999.0000,9,-999.000,9,   0.2696,2, -999.00,9,  -999.0,9,  -999.0,-999.000,9, -999.00,9,-999.000,9, -999.00,9, -999.00,9, -67.0002,-157.5448,-999.000,     -999.0,    34.8634,2,     -999.0,9,     -999.0,9,-999.0000,9,-999.0000,9,-999.0000,9,-999.0000,9,-999.0000,9,-999.0000,9,-999.0000,9,-999.0000,9,-999.0000,9,-999.0000,-999.000,   0.0798,     -999.0,     -999.0,9,     -999.0,9,     -999.0,9,     -999.0,9,     -999.0,20110309,       0113
320620110219,       S04P,      39,          1,          4,          4,2,20110309,       0055,   -67.0001,  -157.5448,       3743,  3300.7,   0.2038,  34.6961,2,  34.6954,2,    219.1,2,   218.9,2,  127.18,2,   31.95,2,    0.00,2,    2.22,2,   0.686,2,   0.309,2,   0.040,2,   0.1300,2,  2261.7,2,  2357.2,6,   7.5927,2,    25.00,-999.000,9,-999.0000,9,-999.000,9,   0.2039,2, -999.00,9,  -999.0,9,  -999.0,-999.000,9, -999.00,9,-999.000,9, -999.00,9, -999.00,9, -67.0001,-157.5448,-999.000,     -999.0,    34.8590,2,     -999.0,9,     -999.0,9,   0.0612,3,   0.0222,3,  -0.0139,4,  -0.0195,4,  -0.0256,4,  -0.0200,4,  -0.0175,4,   0.1004,4,   0.0757,4,-999.0000,-999.000,  -0.0111,     -999.0,     -999.0,9,     -999.0,9,     -999.0,9,     -999.0,9,     -999.0,20110309,       0107
320620110219,       S04P,      39,          1,          3,          3,2,20110309,       0055,   -67.0001,  -157.5448,       3743,  3602.1,   0.1754,  34.6937,2,  34.6927,2,    221.3,2,   220.7,2,  122.80,2,   31.85,2,    0.00,2,    2.22,2,   0.910,2,   0.418,2,   0.050,2,   0.1650,2,  2261.6,2,  2357.0,2,   7.5893,2,    25.00,-999.000,9,-999.0000,9,-999.000,9,   0.1755,2, -999.00,9,  -999.0,9,  -999.0,-999.000,9, -999.00,9,-999.000,9, -999.00,9, -999.00,9, -67.0002,-157.5448,-999.000,     -999.0,    34.8563,2,     -999.0,9,     -999.0,9,-999.0000,9,-999.0000,9,-999.0000,9,-999.0000,9,-999.0000,9,-999.0000,9,-999.0000,9,-999.0000,9,-999.0000,9,-999.0000,-999.000,  -0.0669,     -999.0,     -999.0,9,     -999.0,9,     -999.0,9,     -999.0,9,     -999.0,20110309,       0101
320620110219,       S04P,      39,          1,          2,          2,2,20110309,       0055,   -67.0001,  -157.5448,       3743,  3720.3,   0.1807,  34.6942,2,  34.6941,2,    221.3,2,   220.5,2,  123.34,2,   31.84,2,    0.00,2,    2.22,2,   0.916,2,   0.410,2,   0.052,2,   0.1800,2,  2260.9,2,  2356.0,2,   7.5905,6,    25.00,-999.000,9,-999.0000,9,-999.000,9,   0.1804,2, -999.00,9,  -999.0,9,  -999.0,-999.000,9, -999.00,9,-999.000,9, -999.00,9, -999.00,9, -67.0001,-157.5447,-999.000,     -999.0,    34.8577,2,     -999.0,9,     -999.0,9,-999.0000,9,-999.0000,9,-999.0000,9,-999.0000,9,-999.0000,9,-999.0000,9,-999.0000,9,-999.0000,9,-999.0000,9,-999.0000,-999.000,  -0.0731,     -999.0,     -999.0,9,     -999.0,9,     -999.0,9,     -999.0,9,     -999.0,20110309,       0058
320620110219,       S04P,      39,          1,          1,          1,2,20110309,       0055,   -67.0001,  -157.5448,       3743,  3801.5,   0.1887,  34.6941,2,  34.6937,2,    220.9,2,   220.7,2,  123.24,2,   31.83,2,    0.00,2,    2.24,2,   0.942,2,   0.429,2,   0.057,2,   0.1940,2,  2260.7,6,  2358.9,2,   7.5881,2,    25.00,-999.000,9,-999.0000,9,-999.000,9,   0.1881,2, -999.00,9,  -999.0,9,  -999.0,-999.000,9, -999.00,9,-999.000,9, -999.00,9, -999.00,9, -67.0001,-157.5448,-999.000,     -999.0,    34.8573,2,     -999.0,9,     -999.0,9,   0.0665,3,   0.0268,3,  -0.0105,4,  -0.0172,4,  -0.0240,4,  -0.0194,4,  -0.0172,4,   0.0998,4,   0.0702,4,-999.0000,-999.000,  -0.0732,     -999.0,     -999.0,9,     -999.0,9,     -999.0,9,     -999.0,9,     -999.0,20110309,       0055