BOTTLE,20220813CCHSIOAMB
EXPOCODE,SECT_ID,STNNBR,CASTNO,SAMPNO,BTLNBR,BTLNBR_FLAG_W,DATE,TIME,LATITUDE,LONGITUDE,DEPTH,CTDPRS,CTDTMP,CTDSAL,CTDSAL_FLAG_W,SALNTY,SALNTY_FLAG_W,CTDOXY,CTDOXY_FLAG_W,OXYGEN,OXYGEN_FLAG_W,SILCAT,SILCAT_FLAG_W,NITRAT,NITRAT_FLAG_W,NITRIT,NITRIT_FLAG_W,PHSPHT,PHSPHT_FLAG_W,CFC-11,CFC-11_FLAG_W,CFC-12,CFC-12_FLAG_W,CFC113,CFC113_FLAG_W,SF6,SF6_FLAG_W,TCARBN,TCARBN_FLAG_W,ALKALI,ALKALI_FLAG_W,PH_TOT,PH_TOT_FLAG_W,PH_TMP,TRITUM,TRITUM_FLAG_W,HELIUM,HELIUM_FLAG_W,DELHE3,DELHE3_FLAG_W,REFTMP,REFTMP_FLAG_W,DELC13,DELC13_FLAG_W,DELC14,DELC14_FLAG_W,C14ERR,NEON,NEON_FLAG_W,DELO18,DELO18_FLAG_W,POC,POC_FLAG_W,DOC,DOC_FLAG_W,TDN,TDN_FLAG_W,BTL_LAT,BTL_LON,TRITER,NEONER,SALTREF,SALTREF_FLAG_W,PIGMENTS,PIGMENTS_FLAG_W,LAB_DEN,LAB_DEN_FLAG_W,CDOM325,CDOM325_FLAG_W,CDOM340,CDOM340_FLAG_W,CDOM380,CDOM380_FLAG_W,CDOM412,CDOM412_FLAG_W,CDOM443,CDOM443_FLAG_W,CDOM490,CDOM490_FLAG_W,CDOM555,CDOM555_FLAG_W,CDOMSL,CDOMSL_FLAG_W,CDOMSN,CDOMSN_FLAG_W,HELIER,DELHER,THETA,LDEO_SAMPNO,ABSORBTION,ABSORBTION_FLAG_W,IMAGE_COUNT,IMAGE_COUNT_FLAG_W,CYTO_COUNT,CYTO_COUNT_FLAG_W,DELD,DELD_FLAG_W,DELDERR,BTL_DATE,BTL_TIME
,,,,,,,,,,,METERS,DBAR,ITS-90,PSS-78,,PSS-78,,UMOL/KG,,UMOL/KG,,UMOL/KG,,UMOL/KG,,UMOL/KG,,UMOL/KG,,PMOL/KG,,PMOL/KG,,PMOL/KG,,FMOL/KG,,UMOL/KG,,UMOL/KG,,,,DEG C,TU,,NMOL/KG,,PERCNT,,DEG C,,/MILLE,,/MILLE,,/MILLE,NMOL/KG,,/MILLE,,UG/KG,,UMOL/KG,,UMOL/KG,,,,TU,NMOL/KG,G/KG,,,,,,1/M,,1/M,,1/M,,1/M,,1/M,,1/M,,1/M,,1/NM,,1/NM,,NMOL/KG,PERCNT,DEG C,,,,,,,,/MILLE,,/MILLE,,
320620110219,       P16S,      51,          1,         36,         36,2,20110313,       0047,   -69.9856,  -149.9998,       4351,     3.3,  -0.6299,  33.6896,2,  33.6907,2,    344.1,3,   348.2,2,   38.02,2,   22.42,2,    0.18,2,    1.57,2,   6.125,2,   3.346,2,   0.594,2,   2.4700,2,  2140.0,6,  2281.5,2,   7.7310,2,    25.00,   0.107,2,    2.038,2,  -1.467,2,  -0.6335,2,    1.70,2,  -107.9,2,     2.6,   9.143,2,   -0.44,2,-999.000,9, -999.00,9, -999.00,9, -69.9856,-150.0002,   0.006,      0.015,    33.8496,2,     -999.0,9,     -999.0,9,   0.1013,2,   0.0602,2,   0.0092,3,   0.0016,3,  -0.0078,4,  -0.0069,4,  -0.0097,4,   0.0527,4,   0.0410,4,    0.001,   0.180,  -0.6300,50005101036,     -999.0,9,     -999.0,9,     -999.0,9,      -4.03,2,       0.15,20110313,       0235
320620110219,       P16S,      51,          1,         35,         35,2,20110313,       0047,   -69.9856,  -149.9998,       4351,    25.0,  -0.6462,  33.6894,2,  33.6903,2,    348.3,2,   348.2,2,   38.05,2,   22.54,2,    0.18,2,    1.57,2,   6.108,2,   3.360,2,   0.585,2,   2.5890,2,  2141.4,2,  2282.5,2,   7.7298,6,    25.00,   0.103,2,    1.980,2,  -1.344,2,  -0.6463,2, -999.00,9,  -999.0,9,  -999.0,   8.851,2,   -0.40,2,-999.000,9, -999.00,9, -999.00,9, -69.9856,-150.0002,   0.006,      0.015,    33.8492,2,     -999.0,9,     -999.0,9,   0.0968,2,   0.0569,2,   0.0148,3,   0.0044,2,  -0.0058,4,  -0.0055,4,  -0.0091,4,   0.0368,3,   0.0362,3,    0.001,   0.192,  -0.6469,50005101035,     -999.0,9,     -999.0,9,     -999.0,9,      -3.38,2,       0.69,20110313,       0234
320620110219,       P16S,      51,          1,         34,         34,2,20110313,       0047,   -69.9856,  -149.9998,       4351,    49.9,  -0.7976,  33.7536,3,  33.7811,2,    347.1,2,   338.4,2,   41.27,2,   23.78,2,    0.18,2,    1.69,2,   5.872,2,   3.210,2,   0.571,2,   2.4200,2,  2153.6,2,  2288.3,6,   7.7059,2,    25.00,   0.092,2,    2.011,2,  -1.259,2,  -0.7710,2,    1.54,2,  -108.3,2,     2.5,   9.090,2,   -0.37,2,-999.000,9, -999.00,9, -999.00,9, -69.9856,-150.0002,   0.005,      0.015,    33.9404,2,     -999.0,9,     -999.0,9,   0.0897,2,   0.0507,2,   0.0099,3,   0.0026,3,  -0.0071,4,  -0.0065,4,  -0.0095,4,   0.0450,3,   0.0410,3,    0.001,   0.192,  -0.7990,50005101034,     -999.0,9,     -999.0,9,     -999.0,9,      -3.97,2,       0.20,20110313,       0233
320620110219,       P16S,      51,          1,         33,         33,2,20110313,       0047,   -69.9856,  -149.9998,       4351,    74.0,  -1.5168,  34.1042,2,  34.1100,2,    299.8,2,   299.4,2,   53.59,2,   28.45,2,    0.21,2,    2.00,2,   4.972,2,   2.715,2,   0.478,2,   1.9510,2,  2201.1,2,  2304.1,2,   7.6233,2,    25.00,   0.074,2,    1.973,2,   0.887,2,  -1.5164,2,    1.03,2,  -108.6,2,     2.6,   8.913,2,   -0.44,2,-999.000,9, -999.00,9, -999.00,9, -69.9856,-150.0002,   0.005,      0.014,    34.2709,2,     -999.0,9,     -999.0,9,   0.0874,2,   0.0487,2,   0.0093,3,   0.0021,3,  -0.0079,4,  -0.0072,4,  -0.0099,4,   0.0484,4,   0.0418,4,    0.001,   0.192,  -1.5184,50005101033,     -999.0,9,     -999.0,9,     -999.0,9,      -2.79,2,       0.64,20110313,       0232
320620110219,       P16S,      51,          1,         32,         32,2,20110313,       0047,   -69.9856,  -149.9998,       4351,   100.1,  -1.2590,  34.1579,2,  34.1615,2,    287.5,2,   287.2,2,   56.92,2,   29.11,2,    0.12,2,    2.04,2,   4.640,2,   2.528,2,   0.439,2,   1.7570,2,  2206.8,2,  2308.1,2,   7.6125,2,    25.00,   0.056,2,    1.963,2,   1.902,2,  -1.2620,2,    0.96,2,  -114.5,2,     2.9,   8.878,2,   -0.33,2,-999.000,9, -999.00,9, -999.00,9, -69.9856,-150.0002,   0.005,      0.014,    34.3226,2,     -999.0,9,     -999.0,9,   0.0869,2,   0.0479,2,   0.0089,3,   0.0029,3,  -0.0071,4,  -0.0067,4,  -0.0097,4,   0.0472,4,   0.0424,4,    0.001,   0.193,  -1.2614,50005101032,     -999.0,9,     -999.0,9,     -999.0,9,      -3.44,2,       0.17,20110313,       0230
320620110219,       P16S,      51,          1,         31,         31,2,20110313,       0047,   -69.9856,  -149.9998,       4351,   149.7,   0.2477,  34.4324,2,  34.4500,2,    232.6,2,   226.4,2,   75.96,2,   31.76,2,    0.02,2,    2.18,2,   2.390,2,   1.312,2,   0.221,2,   0.7940,2,  2236.0,2,  2325.5,2,   7.5758,2,    25.00,   0.023,2,    1.958,2,   5.320,2,   0.2591,2,    0.62,2,  -139.9,2,     2.6,   8.438,2,   -0.18,2,-999.000,9, -999.00,9, -999.00,9, -69.9856,-150.0002,   0.005,      0.013,    34.6125,2,     -999.0,9,     -999.0,9,   0.0951,2,   0.0536,2,   0.0107,3,   0.0025,3,  -0.0079,4,  -0.0074,4,  -0.0102,4,   0.0455,4,   0.0408,3,    0.001,   0.206,   0.2420,50005101031,     -999.0,9,     -999.0,9,     -999.0,9,      -2.51,2,       0.08,20110313,       0228
320620110219,       P16S,      51,          1,         30,         30,2,20110313,       0047,   -69.9856,  -149.9998,       4351,   200.0,   1.2505,  34.6290,2,  34.6249,2,    194.6,2,   192.6,2,   85.88,2,   32.62,2,    0.01,2,    2.23,2,   1.050,2,   0.571,2,   0.095,2,   0.3060,2,  2251.0,2,  2339.9,2,   7.5633,4,    25.00,   0.003,2,    1.960,2,   8.064,2,   1.2573,2,    0.43,2,  -148.8,2,     2.3,   8.448,2,   -0.07,2,-999.000,9, -999.00,9, -999.00,9, -69.9856,-150.0002,   0.005,      0.013,    34.7882,2,     -999.0,9,     -999.0,9,   0.1033,2,   0.0601,2,   0.0149,3,   0.0042,3,  -0.0071,4,  -0.0070,4,  -0.0100,4,   0.0383,3,   0.0371,3,    0.001,   0.218,   1.2410,50005101030,     -999.0,9,     -999.0,9,     -999.0,9,      -1.53,2,       0.16,20110313,       0227
320620110219,       P16S,      51,          1,         29,         29,2,20110313,       0047,   -69.9856,  -149.9998,       4351,   250.2,   1.5467,  34.6964,2,  34.6959,2,    185.2,2,   184.4,2,   90.29,2,   32.27,2,    0.01,2,    2.21,2,   0.548,2,   0.288,2,   0.043,2,   0.1270,2,  2254.2,2,  2344.1,2,   7.5704,2,    25.00,   0.001,2,    1.987,2,   9.156,2,   1.5472,2,    0.54,2,  -157.4,2,     2.3,   8.805,2,   -0.05,2,-999.000,9, -999.00,9, -999.00,9, -69.9856,-150.0003,   0.005,      0.013,    34.8595,2,     -999.0,9,     -999.0,9,   0.1042,2,   0.0612,2,   0.0143,3,   0.0039,3,  -0.0073,4,  -0.0072,4,  -0.0102,4,   0.0396,3,   0.0374,3,    0.001,   0.205,   1.5341,50005101029,     -999.0,9,     -999.0,9,     -999.0,9,      -1.08,2,       0.10,20110313,       0225
320620110219,       P16S,      51,          1,         28,         28,2,20110313,       0047,   -69.9856,  -149.9998,       4351,   298.9,   1.5315,  34.7184,2,  34.7193,2,    184.4,2,   184.6,2,   93.67,2,   32.17,2,    0.00,2,    2.20,2,   0.354,2,   0.180,2,   0.024,2,   0.1000,2,  2255.6,2,  2348.1,2,   7.5742,2,    25.00,   0.001,2,    1.979,2,   9.308,2,   1.5299,2,    0.41,2,  -160.7,2,     2.7,   8.667,2,   -0.01,2,-999.000,9, -999.00,9, -999.00,9, -69.9856,-150.0002,   0.004,      0.008,    34.8830,2,     -999.0,9,     -999.0,9,   0.1037,2,   0.0609,2,   0.0153,3,   0.0042,3,  -0.0071,4,  -0.0072,4,  -0.0102,4,   0.0379,3,   0.0365,3,    0.001,   0.215,   1.5163,50005101028,     -999.0,9,     -999.0,9,     -999.0,9,      -1.35,2,       0.12,20110313,       0223
320620110219,       P16S,      51,          1,         27,         27,2,20110313,       0047,   -69.9856,  -149.9998,       4351,   350.4,   1.4884,  34.7248,2,  34.7255,2,    184.7,2,   185.4,2,   95.91,2,   32.05,2,    0.00,2,    2.20,2,   0.305,2,   0.150,2,   0.026,2,   0.0700,2,  2257.5,2,  2349.2,2,   7.5776,2,    25.00,   0.001,2,    2.002,2,   9.657,2,   1.4885,2,    0.41,2,  -153.4,2,     2.7,   8.781,2,   -0.19,2,-999.000,9, -999.00,9, -999.00,9, -69.9856,-150.0002,   0.004,      0.011,    34.8893,2,     -999.0,9,     -999.0,9,-999.0000,9,-999.0000,9,-999.0000,9,-999.0000,9,-999.0000,9,-999.0000,9,-999.0000,9,-999.0000,9,-999.0000,9,    0.001,   0.213,   1.4706,50005101027,     -999.0,9,     -999.0,9,     -999.0,9,      -2.29,2,       0.28,20110313,       0222
320620110219,       P16S,      51,          1,         26,         26,2,20110313,       0047,   -69.9856,  -149.9998,       4351,   399.9,   1.4403,  34.7278,2,  34.7279,2,    185.0,2,   184.8,2,   98.42,2,   32.12,2,    0.00,2,    2.21,2,-999.000,9,-999.000,9,-999.000,9,-999.0000,9,  2258.7,2,  2351.2,2,   7.5765,2,    25.00,-999.000,9,-999.0000,9,-999.000,9,   1.4402,2,    0.39,2,  -157.7,2,     2.4,-999.000,9, -999.00,9,-999.000,9, -999.00,9, -999.00,9, -69.9856,-150.0002,-999.000,     -999.0,    34.8916,2,     -999.0,9,     -999.0,9,-999.0000,9,-999.0000,9,-999.0000,9,-999.0000,9,-999.0000,9,-999.0000,9,-999.0000,9,-999.0000,9,-999.0000,9,-999.0000,-999.000,   1.4199,     -999.0,     -999.0,9,     -999.0,9,     -999.0,9,     -999.0,9,     -999.0,20110313,       0220
320620110219,       P16S,      51,          1,         25,         25,2,20110313,       0047,   -69.9856,  -149.9998,       4351,   450.0,   1.3850,  34.7294,2,  34.7298,2,    185.1,2,   184.9,2,  100.87,2,   32.22,2,    0.00,2,    2.22,2,   0.231,2,   0.117,2,   0.017,2,   0.0770,2,  2259.3,2,  2351.4,2,   7.5766,2,    25.00,   0.001,2,    2.027,2,   9.148,2,   1.3846,2,    0.41,2,  -154.9,2,     2.6,   8.808,2,   -0.03,2,-999.000,9, -999.00,9, -999.00,9, -69.9856,-150.0002,   0.004,      0.007,    34.8936,2,     -999.0,9,     -999.0,9,   0.1036,2,   0.0610,2,   0.0168,3,   0.0050,3,  -0.0066,4,  -0.0070,4,  -0.0102,4,   0.0356,3,   0.0354,3,    0.000,   0.213,   1.3621,50005101025,     -999.0,9,     -999.0,9,     -999.0,9,      -1.72,2,       0.01,20110313,       0218
320620110219,       P16S,      51,          1,         24,         24,2,20110313,       0047,   -69.9856,  -149.9998,       4351,   499.8,   1.3521,  34.7296,2,  34.7251,2,   -999.0,9,  -999.0,5,  102.71,2,   32.41,2,    0.00,2,    2.21,2,-999.000,9,-999.000,9,-999.000,9,-999.0000,9,  2259.8,2,  2353.0,2,   7.5770,2,    25.00,-999.000,9,-999.0000,9,-999.000,9,   1.3513,2,    0.39,2,  -162.7,2,     2.4,-999.000,9, -999.00,9,-999.000,9, -999.00,9, -999.00,9, -69.9856,-150.0002,-999.000,     -999.0,    34.8889,2,     -999.0,9,     -999.0,9,-999.0000,9,-999.0000,9,-999.0000,9,-999.0000,9,-999.0000,9,-999.0000,9,-999.0000,9,-999.0000,9,-999.0000,9,-999.0000,-999.000,   1.3266,     -999.0,     -999.0,9,     -999.0,9,     -999.0,9,     -999.0,9,     -999.0,20110313,       0216
320620110219,       P16S,      51,          1,         23,         23,2,20110313,       0047,   -69.9856,  -149.9998,       4351,   599.7,   1.2777,  34.7290,2,  34.7292,2,    187.0,2,   186.9,2,  105.07,2,   32.31,2,    0.00,2,    2.22,2,   0.171,2,   0.082,2,   0.013,2,   0.0990,2,  -999.0,9,  2354.7,2,   7.5793,2,    25.00,-999.000,9,    1.995,2,   9.186,2,   1.2779,2,    0.41,2,  -162.7,2,     3.8,   8.542,2,   -0.02,2,-999.000,9, -999.00,9, -999.00,9, -69.9856,-150.0002,-999.000,      0.014,    34.8930,2,     -999.0,9,     -999.0,9,-999.0000,9,-999.0000,9,-999.0000,9,-999.0000,9,-999.0000,9,-999.0000,9,-999.0000,9,-999.0000,9,-999.0000,9,    0.001,   0.219,   1.2469,50005101023,     -999.0,9,     -999.0,9,     -999.0,9,      -1.34,2,       0.13,20110313,       0214
320620110219,       P16S,      51,          1,         22,         22,2,20110313,       0047,   -69.9856,  -149.9998,       4351,   699.0,   1.2115,  34.7277,2,  34.7296,2,    189.0,2,   188.4,2,  106.97,2,   32.18,2,    0.00,2,    2.22,2,-999.000,9,-999.000,9,-999.000,9,-999.0000,9,  2259.8,2,  2355.9,2,   7.5811,2,    25.00,-999.000,9,-999.0000,9,-999.000,9,   1.2121,2,    0.48,2,  -153.7,2,     2.6,-999.000,9, -999.00,9,-999.000,9, -999.00,9, -999.00,9, -69.9856,-150.0002,-999.000,     -999.0,    34.8934,2,     -999.0,9,     -999.0,9,   0.1053,2,   0.0614,2,   0.0138,3,   0.0053,2,  -0.0061,4,  -0.0066,4,  -0.0100,4,   0.0394,3,   0.0380,3,-999.0000,-999.000,   1.1754,     -999.0,     -999.0,9,     -999.0,9,     -999.0,9,     -999.0,9,     -999.0,20110313,       0211
320620110219,       P16S,      51,          1,         21,         21,2,20110313,       0047,   -69.9856,  -149.9998,       4351,   800.2,   1.1365,  34.7254,2,  34.7259,2,    191.0,2,   191.5,2,  109.45,2,   32.04,2,    0.00,2,    2.22,2,   0.131,2,   0.065,2,   0.009,2,   0.0920,2,  -999.0,9,  2355.6,2,   7.5830,2,    25.00,   0.001,2,    1.989,2,   9.464,2,   1.1363,2,    0.42,2,  -162.2,2,     2.4,   8.708,2,   -0.11,2,-999.000,9, -999.00,9, -999.00,9, -69.9856,-150.0002,   0.004,      0.009,    34.8896,2,     -999.0,9,     -999.0,9,-999.0000,9,-999.0000,9,-999.0000,9,-999.0000,9,-999.0000,9,-999.0000,9,-999.0000,9,-999.0000,9,-999.0000,9,    0.001,   0.205,   1.0950,50005101021,     -999.0,9,     -999.0,9,     -999.0,9,      -2.04,2,       0.04,20110313,       0208
320620110219,       P16S,      51,          1,         20,         20,2,20110313,       0047,   -69.9856,  -149.9998,       4351,   899.4,   1.0798,  34.7233,2,  34.7237,2,    193.4,2,   193.3,2,  111.14,2,   32.01,2,    0.00,2,    2.22,2,   0.122,2,   0.061,2,   0.006,2,   0.0950,2,  2260.7,2,  2357.7,2,   7.5870,2,    25.00,   0.001,2,    1.991,2,  10.015,2,   1.0799,2,    0.46,2,  -161.2,2,     2.5,   8.717,2, -999.00,9,-999.000,9, -999.00,9, -999.00,9, -69.9856,-150.0002,   0.004,      0.009,    34.8874,2,     -999.0,9,     -999.0,9,-999.0000,9,-999.0000,9,-999.0000,9,-999.0000,9,-999.0000,9,-999.0000,9,-999.0000,9,-999.0000,9,-999.0000,9,    0.001,   0.219,   1.0328,50005101020,     -999.0,9,     -999.0,9,     -999.0,9,     -999.0,9,     -999.0,20110313,       0206
320620110219,       P16S,      51,          1,         19,         19,2,20110313,       0047,   -69.9856,  -149.9998,       4351,   999.8,   1.0189,  34.7210,2,  34.7211,2,    195.3,2,   194.1,2,  113.03,2,   32.09,2,    0.00,2,    2.22,2,   0.109,2,   0.056,2,   0.007,2,   0.0770,2,  -999.0,9,  2357.9,2,   7.5866,2,    25.00,   0.003,2,    1.997,2,  10.023,2,   1.0188,2,    0.44,2,  -164.5,2,     2.3,   8.763,2, -999.00,9,-999.000,9, -999.00,9, -999.00,9, -69.9856,-150.0002,   0.004,      0.009,    34.8849,2,     -999.0,9,     -999.0,9,   0.1015,2,   0.0586,2,   0.0123,3,   0.0039,3,  -0.0072,4,  -0.0073,4,  -0.0103,4,   0.0419,3,   0.0390,3,    0.001,   0.206,   0.9663,50005101019,     -999.0,9,     -999.0,9,     -999.0,9,     -999.0,9,     -999.0,20110313,       0203
320620110219,       P16S,      51,          1,         18,         18,2,20110313,       0047,   -69.9856,  -149.9998,       4351,  1099.2,   0.9610,  34.7189,2,  34.7201,2,    197.1,2,   196.3,2,  114.90,2,   32.05,2,    0.00,2,    2.22,2,-999.000,9,-999.000,9,-999.000,9,-999.0000,9,  2259.0,2,  2358.0,6,   7.5905,2,    25.00,-999.000,9,-999.0000,9,-999.000,9,   0.9613,2,    0.43,2,  -162.5,2,     2.4,-999.000,9, -999.00,9,-999.000,9, -999.00,9, -999.00,9, -69.9856,-150.0002,-999.000,     -999.0,    34.8839,2,     -999.0,9,     -999.0,9,-999.0000,9,-999.0000,9,-999.0000,9,-999.0000,9,-999.0000,9,-999.0000,9,-999.0000,9,-999.0000,9,-999.0000,9,-999.0000,-999.000,   0.9028,     -999.0,     -999.0,9,     -999.0,9,     -999.0,9,     -999.0,9,     -999.0,20110313,       0201
320620110219,       P16S,      51,          1,         17,         17,2,20110313,       0047,   -69.9856,  -149.9998,       4351,  1198.7,   0.9089,  34.7169,2,  34.7170,2,    198.6,2,   199.2,2,  116.50,2,   32.08,2,    0.00,2,    2.22,2,   0.102,2,   0.058,2,   0.008,2,   0.0680,2,  -999.0,9,  -999.0,9,-999.0000,9,  -999.00,   0.001,2,    2.006,2,   9.532,2,   0.9092,2, -999.00,9,  -999.0,9,  -999.0,   8.779,2, -999.00,9,-999.000,9, -999.00,9, -999.00,9, -69.9856,-150.0002,   0.004,      0.010,    34.8807,2,     -999.0,9,     -999.0,9,-999.0000,9,-999.0000,9,-999.0000,9,-999.0000,9,-999.0000,9,-999.0000,9,-999.0000,9,-999.0000,9,-999.0000,9,    0.001,   0.220,   0.8449,50005101017,     -999.0,9,     -999.0,9,     -999.0,9,     -999.0,9,     -999.0,20110313,       0158
320620110219,       P16S,      51,          1,         16,         16,2,20110313,       0047,   -69.9856,  -149.9998,       4351,  1299.6,   0.8544,  34.7144,2,  34.7150,2,    199.6,2,   199.4,2,  118.00,2,   32.17,2,    0.00,2,    2.22,2,-999.000,9,-999.000,9,-999.000,9,-999.0000,9,  2259.7,2,  2360.5,2,   7.5922,6,    25.00,-999.000,9,-999.0000,9,-999.000,9,   0.8545,2,    0.44,6,  -161.2,6,     1.7,-999.000,9, -999.00,9,-999.000,9, -999.00,9, -999.00,9, -69.9856,-150.0002,-999.000,     -999.0,    34.8787,2,     -999.0,9,     -999.0,9,   0.1031,2,   0.0602,2,   0.0135,3,   0.0055,2,  -0.0058,4,  -0.0065,4,  -0.0100,4,   0.0393,3,   0.0379,3,-999.0000,-999.000,   0.7845,     -999.0,     -999.0,9,     -999.0,9,     -999.0,9,     -999.0,9,     -999.0,20110313,       0155
320620110219,       P16S,      51,          1,         15,         15,2,20110313,       0047,   -69.9856,  -149.9998,       4351,  1400.9,   0.8111,  34.7128,2,  34.7133,2,    200.8,2,   201.4,2,  119.62,2,   32.07,2,    0.00,2,    2.22,2,   0.100,2,   0.050,2,   0.005,2,   0.0000,2,  -999.0,9,  -999.0,9,-999.0000,9,  -999.00,   0.001,2,    2.073,2,   9.509,2,   0.8116,2, -999.00,9,  -999.0,9,  -999.0,   9.042,2, -999.00,9,-999.000,9, -999.00,9, -999.00,9, -69.9856,-150.0002,   0.003,      0.007,    34.8769,2,     -999.0,9,     -999.0,9,-999.0000,9,-999.0000,9,-999.0000,9,-999.0000,9,-999.0000,9,-999.0000,9,-999.0000,9,-999.0000,9,-999.0000,9,    0.000,   0.204,   0.7351,50005101015,     -999.0,9,     -999.0,9,     -999.0,9,     -999.0,9,     -999.0,20110313,       0153
320620110219,       P16S,      51,          1,         14,         14,2,20110313,       0047,   -69.9856,  -149.9998,       4351,  1499.3,   0.7675,  34.7111,2,  34.7136,4,    202.7,2,   201.9,2,  120.85,2,   32.10,2,    0.00,2,    2.22,2,-999.000,9,-999.000,9,-999.000,9,-999.0000,9,  2259.6,6,  2359.8,2,   7.5932,2,    25.00,-999.000,9,-999.0000,9,-999.000,9,   0.7674,2,    0.46,2,  -166.1,2,     2.3,-999.000,9, -999.00,9,-999.000,9, -999.00,9, -999.00,9, -69.9856,-150.0002,-999.000,     -999.0,    34.8773,4,     -999.0,9,     -999.0,9,-999.0000,9,-999.0000,9,-999.0000,9,-999.0000,9,-999.0000,9,-999.0000,9,-999.0000,9,-999.0000,9,-999.0000,9,-999.0000,-999.000,   0.6854,     -999.0,     -999.0,9,     -999.0,9,     -999.0,9,     -999.0,9,     -999.0,20110313,       0150