BOTTLE,20220813CCHSIOAMB
EXPOCODE,SECT_ID,STNNBR,CASTNO,SAMPNO,BTLNBR,BTLNBR_FLAG_W,DATE,TIME,LATITUDE,LONGITUDE,DEPTH,CTDPRS,CTDTMP,CTDSAL,CTDSAL_FLAG_W,SALNTY,SALNTY_FLAG_W,CTDOXY,CTDOXY_FLAG_W,OXYGEN,OXYGEN_FLAG_W,SILCAT,SILCAT_FLAG_W,NITRAT,NITRAT_FLAG_W,NITRIT,NITRIT_FLAG_W,PHSPHT,PHSPHT_FLAG_W,CFC-11,CFC-11_FLAG_W,CFC-12,CFC-12_FLAG_W,CFC113,CFC113_FLAG_W,SF6,SF6_FLAG_W,TCARBN,TCARBN_FLAG_W,ALKALI,ALKALI_FLAG_W,PH_TOT,PH_TOT_FLAG_W,PH_TMP,TRITUM,TRITUM_FLAG_W,HELIUM,HELIUM_FLAG_W,DELHE3,DELHE3_FLAG_W,REFTMP,REFTMP_FLAG_W,DELC13,DELC13_FLAG_W,DELC14,DELC14_FLAG_W,C14ERR,NEON,NEON_FLAG_W,DELO18,DELO18_FLAG_W,POC,POC_FLAG_W,DOC,DOC_FLAG_W,TDN,TDN_FLAG_W,BTL_LAT,BTL_LON,TRITER,NEONER,SALTREF,SALTREF_FLAG_W,PIGMENTS,PIGMENTS_FLAG_W,LAB_DEN,LAB_DEN_FLAG_W,CDOM325,CDOM325_FLAG_W,CDOM340,CDOM340_FLAG_W,CDOM380,CDOM380_FLAG_W,CDOM412,CDOM412_FLAG_W,CDOM443,CDOM443_FLAG_W,CDOM490,CDOM490_FLAG_W,CDOM555,CDOM555_FLAG_W,CDOMSL,CDOMSL_FLAG_W,CDOMSN,CDOMSN_FLAG_W,HELIER,DELHER,THETA,LDEO_SAMPNO,ABSORBTION,ABSORBTION_FLAG_W,IMAGE_COUNT,IMAGE_COUNT_FLAG_W,CYTO_COUNT,CYTO_COUNT_FLAG_W,DELD,DELD_FLAG_W,DELDERR,BTL_DATE,BTL_TIME
,,,,,,,,,,,METERS,DBAR,ITS-90,PSS-78,,PSS-78,,UMOL/KG,,UMOL/KG,,UMOL/KG,,UMOL/KG,,UMOL/KG,,UMOL/KG,,PMOL/KG,,PMOL/KG,,PMOL/KG,,FMOL/KG,,UMOL/KG,,UMOL/KG,,,,DEG C,TU,,NMOL/KG,,PERCNT,,DEG C,,/MILLE,,/MILLE,,/MILLE,NMOL/KG,,/MILLE,,UG/KG,,UMOL/KG,,UMOL/KG,,,,TU,NMOL/KG,G/KG,,,,,,1/M,,1/M,,1/M,,1/M,,1/M,,1/M,,1/M,,1/NM,,1/NM,,NMOL/KG,PERCNT,DEG C,,,,,,,,/MILLE,,/MILLE,,
320620110219,       S04P,     109,          1,         36,         36,2,20110406,       0043,   -67.0002,  -125.0647,       4201,     3.8,  -1.0391,  33.6207,2,  33.6204,2,    344.9,2,   345.7,2,   28.71,2,   25.28,2,    0.24,2,    1.73,2,-999.000,9,   3.407,2,-999.000,9,   2.7130,2,  2150.2,6,  2274.2,2,   7.6856,2,    25.00,-999.000,9,-999.0000,9,-999.000,9,  -1.0393,2, -999.00,9,  -999.0,9,  -999.0,-999.000,9, -999.00,9,-999.000,9,   44.33,2,   29.42,2, -67.0002,-125.0647,-999.000,     -999.0,    33.7789,2,     -999.0,9,     -999.0,1,-999.0000,9,-999.0000,9,-999.0000,9,-999.0000,9,-999.0000,9,-999.0000,9,-999.0000,9,-999.0000,9,-999.0000,9,-999.0000,-999.000,  -1.0392,     -999.0,     -999.0,9,     -999.0,9,     -999.0,9,     -999.0,9,     -999.0,20110406,       0226
320620110219,       S04P,     109,          1,         35,         35,2,20110406,       0043,   -67.0002,  -125.0647,       4201,    24.2,  -1.0372,  33.6205,2,  33.6198,2,    346.0,2,   346.3,2,   28.61,2,   25.27,2,    0.24,2,    1.73,2,-999.000,9,-999.000,9,-999.000,9,-999.0000,9,  2152.2,2,  2274.7,6,   7.6851,2,    25.00,-999.000,9,-999.0000,9,-999.000,9,  -1.0375,2, -999.00,9,  -999.0,9,  -999.0,-999.000,9, -999.00,9,-999.000,9,   44.63,2,   30.23,2, -67.0002,-125.0646,-999.000,     -999.0,    33.7783,2,     -999.0,1,     -999.0,1,-999.0000,9,-999.0000,9,-999.0000,9,-999.0000,9,-999.0000,9,-999.0000,9,-999.0000,9,-999.0000,9,-999.0000,9,-999.0000,-999.000,  -1.0378,     -999.0,     -999.0,9,     -999.0,9,     -999.0,9,     -999.0,9,     -999.0,20110406,       0226
320620110219,       S04P,     109,          1,         34,         34,2,20110406,       0043,   -67.0002,  -125.0647,       4201,    49.7,  -1.0541,  33.6333,2,  33.6227,2,    345.5,2,   345.1,2,   28.98,2,   25.67,2,    0.24,2,    1.74,2,   6.093,2,   3.350,2,   0.641,2,   2.7520,2,  2150.8,2,  2274.8,2,   7.6848,6,    25.00,-999.000,9,-999.0000,9,-999.000,9,  -1.0583,2, -999.00,9,  -999.0,9,  -999.0,-999.000,9, -999.00,9,-999.000,9,   44.33,2,   30.67,2, -67.0002,-125.0647,-999.000,     -999.0,    33.7813,2,     -999.0,9,     -999.0,1,-999.0000,9,-999.0000,9,-999.0000,9,-999.0000,9,-999.0000,9,-999.0000,9,-999.0000,9,-999.0000,9,-999.0000,9,-999.0000,-999.000,  -1.0553,     -999.0,     -999.0,9,     -999.0,9,     -999.0,9,     -999.0,9,     -999.0,20110406,       0224
320620110219,       S04P,     109,          1,         33,         33,2,20110406,       0043,   -67.0002,  -125.0647,       4201,    74.2,  -1.4421,  33.9906,2,  33.9845,2,    309.5,2,   309.3,2,   45.56,2,   29.86,2,    0.21,2,    2.06,2,   5.251,2,   2.904,2,   0.531,2,   2.1990,2,  2190.4,2,  2295.0,2,   7.6245,2,    25.00,-999.000,9,-999.0000,9,-999.000,9,  -1.4334,2, -999.00,9,  -999.0,9,  -999.0,-999.000,9, -999.00,9,-999.000,9,   42.26,2,   34.71,2, -67.0002,-125.0647,-999.000,     -999.0,    34.1447,2,     -999.0,1,     -999.0,1,-999.0000,9,-999.0000,9,-999.0000,9,-999.0000,9,-999.0000,9,-999.0000,9,-999.0000,9,-999.0000,9,-999.0000,9,-999.0000,-999.000,  -1.4437,     -999.0,     -999.0,9,     -999.0,9,     -999.0,9,     -999.0,9,     -999.0,20110406,       0223
320620110219,       S04P,     109,          1,         32,         32,2,20110406,       0043,   -67.0002,  -125.0647,       4201,    99.4,  -0.4758,  34.1265,2,  34.1343,2,    300.3,2,   282.8,2,   52.16,2,   31.78,2,    0.04,2,    2.16,2,   4.560,2,   1.916,4,   0.471,2,   1.9250,2,  2207.0,2,  2303.2,2,   7.6023,2,    25.00,-999.000,9,-999.0000,9,-999.000,9,  -0.4654,2, -999.00,9,  -999.0,9,  -999.0,-999.000,9, -999.00,9,-999.000,9,   40.97,2,   35.71,2, -67.0002,-125.0646,-999.000,     -999.0,    34.2953,2,     -999.0,1,     -999.0,1,-999.0000,9,-999.0000,9,-999.0000,9,-999.0000,9,-999.0000,9,-999.0000,9,-999.0000,9,-999.0000,9,-999.0000,9,-999.0000,-999.000,  -0.4789,     -999.0,     -999.0,9,     -999.0,9,     -999.0,9,     -999.0,9,     -999.0,20110406,       0221
320620110219,       S04P,     109,          1,         31,         31,2,20110406,       0043,   -67.0002,  -125.0647,       4201,   123.7,   0.5725,  34.2929,2,  34.2874,2,    272.1,2,   247.5,2,   60.57,2,   33.14,2,    0.02,2,    2.25,2,   3.413,2,   1.885,2,   0.329,2,   1.4620,2,  2224.5,2,  2314.8,2,   7.5789,2,    25.00,-999.000,9,-999.0000,9,-999.000,9,   0.5731,2, -999.00,9,  -999.0,9,  -999.0,-999.000,9, -999.00,9,-999.000,9,   40.83,2,   36.85,2, -67.0002,-125.0647,-999.000,     -999.0,    34.4491,2,     -999.0,9,     -999.0,1,-999.0000,9,-999.0000,9,-999.0000,9,-999.0000,9,-999.0000,9,-999.0000,9,-999.0000,9,-999.0000,9,-999.0000,9,-999.0000,-999.000,   0.5675,     -999.0,     -999.0,9,     -999.0,9,     -999.0,9,     -999.0,9,     -999.0,20110406,       0220
320620110219,       S04P,     109,          1,         30,         30,2,20110406,       0043,   -67.0002,  -125.0647,       4201,   149.5,   1.1733,  34.3955,2,  34.3885,2,    228.3,2,   213.5,2,   66.50,2,   34.22,2,    0.02,2,    2.32,2,   2.465,2,   1.340,2,   0.231,2,   0.9610,2,  2238.2,2,  2317.3,4,   7.5525,2,    25.00,-999.000,9,-999.0000,9,-999.000,9,   1.1569,2, -999.00,9,  -999.0,9,  -999.0,-999.000,9, -999.00,9,-999.000,9,   40.70,2,   37.31,2, -67.0002,-125.0647,-999.000,     -999.0,    34.5507,2,     -999.0,9,     -999.0,1,-999.0000,9,-999.0000,9,-999.0000,9,-999.0000,9,-999.0000,9,-999.0000,9,-999.0000,9,-999.0000,9,-999.0000,9,-999.0000,-999.000,   1.1664,     -999.0,     -999.0,9,     -999.0,9,     -999.0,9,     -999.0,9,     -999.0,20110406,       0218
320620110219,       S04P,     109,          1,         29,         29,2,20110406,       0043,   -67.0002,  -125.0647,       4201,   199.2,   1.8735,  34.5435,2,  34.5444,2,    181.5,2,   180.3,2,   74.85,2,   34.65,2,    0.00,2,    2.36,2,   1.236,2,   0.660,2,   0.099,2,   0.4280,2,  2253.2,2,  2332.3,2,   7.5395,2,    25.00,-999.000,9,-999.0000,9,-999.000,9,   1.8744,2, -999.00,9,  -999.0,9,  -999.0,-999.000,9, -999.00,9,-999.000,9,   40.27,2,   37.57,2, -67.0002,-125.0647,-999.000,     -999.0,    34.7073,2,     -999.0,9,     -999.0,1,-999.0000,9,-999.0000,9,-999.0000,9,-999.0000,9,-999.0000,9,-999.0000,9,-999.0000,9,-999.0000,9,-999.0000,9,-999.0000,-999.000,   1.8631,     -999.0,     -999.0,9,     -999.0,9,     -999.0,9,     -999.0,9,     -999.0,20110406,       0217
320620110219,       S04P,     109,          1,         28,         28,2,20110406,       0043,   -67.0002,  -125.0647,       4201,   250.2,   2.0302,  34.6011,2,  34.5985,2,    174.5,2,   174.2,2,   77.08,2,   34.31,2,    0.00,2,    2.34,2,   0.847,2,   0.440,2,   0.067,2,   0.2870,2,  2254.2,2,  2335.8,2,   7.5469,2,    25.00,-999.000,9,-999.0000,9,-999.000,9,   2.0301,2, -999.00,9,  -999.0,9,  -999.0,-999.000,9, -999.00,9,-999.000,9,   39.87,2,   37.07,2, -67.0002,-125.0646,-999.000,     -999.0,    34.7616,2,     -999.0,9,     -999.0,1,-999.0000,9,-999.0000,9,-999.0000,9,-999.0000,9,-999.0000,9,-999.0000,9,-999.0000,9,-999.0000,9,-999.0000,9,-999.0000,-999.000,   2.0166,     -999.0,     -999.0,9,     -999.0,9,     -999.0,9,     -999.0,9,     -999.0,20110406,       0215
320620110219,       S04P,     109,          1,         27,         27,2,20110406,       0043,   -67.0002,  -125.0647,       4201,   300.0,   2.0423,  34.6299,2,  34.6289,2,    173.5,2,   174.1,2,   78.46,2,   33.88,2,    0.00,2,    2.31,2,   0.676,2,   0.347,2,   0.051,2,   0.1600,2,  2254.8,2,  2338.7,2,   7.5520,2,    25.00,-999.000,9,-999.0000,9,-999.000,9,   2.0425,2, -999.00,9,  -999.0,9,  -999.0,-999.000,9, -999.00,9,-999.000,9,   39.95,2,   36.60,2, -67.0002,-125.0647,-999.000,     -999.0,    34.7922,2,     -999.0,9,     -999.0,1,-999.0000,9,-999.0000,9,-999.0000,9,-999.0000,9,-999.0000,9,-999.0000,9,-999.0000,9,-999.0000,9,-999.0000,9,-999.0000,-999.000,   2.0259,     -999.0,     -999.0,9,     -999.0,9,     -999.0,9,     -999.0,9,     -999.0,20110406,       0213
320620110219,       S04P,     109,          1,         26,         26,2,20110406,       0043,   -67.0002,  -125.0647,       4201,   350.1,   2.0378,  34.6533,2,  34.6522,2,    174.1,2,   174.5,2,   79.66,2,   33.37,2,    0.00,2,    2.28,2,-999.000,9,-999.000,9,-999.000,9,-999.0000,9,  2254.2,2,  2340.4,2,   7.5589,2,    25.00,-999.000,9,-999.0000,9,-999.000,9,   2.0375,2, -999.00,9,  -999.0,9,  -999.0,-999.000,9, -999.00,9,-999.000,9,   39.80,2,   36.05,2, -67.0002,-125.0646,-999.000,     -999.0,    34.8156,2,     -999.0,9,     -999.0,1,-999.0000,9,-999.0000,9,-999.0000,9,-999.0000,9,-999.0000,9,-999.0000,9,-999.0000,9,-999.0000,9,-999.0000,9,-999.0000,-999.000,   2.0185,     -999.0,     -999.0,9,     -999.0,9,     -999.0,9,     -999.0,9,     -999.0,20110406,       0211
320620110219,       S04P,     109,          1,         25,         25,2,20110406,       0043,   -67.0002,  -125.0647,       4201,   400.3,   2.0287,  34.6740,2,  34.6730,2,    175.1,2,   176.4,2,   81.07,2,   32.95,2,    0.00,2,    2.26,2,   0.484,2,   0.247,2,   0.033,2,   0.1510,2,  2254.3,2,  2341.1,2,   7.5670,2,    25.00,-999.000,9,-999.0000,9,-999.000,9,   2.0286,2, -999.00,9,  -999.0,9,  -999.0,-999.000,9, -999.00,9,-999.000,9,   39.65,2,   35.86,2, -67.0002,-125.0647,-999.000,     -999.0,    34.8365,2,     -999.0,9,     -999.0,1,-999.0000,9,-999.0000,9,-999.0000,9,-999.0000,9,-999.0000,9,-999.0000,9,-999.0000,9,-999.0000,9,-999.0000,9,-999.0000,-999.000,   2.0064,     -999.0,     -999.0,9,     -999.0,9,     -999.0,9,     -999.0,9,     -999.0,20110406,       0210
320620110219,       S04P,     109,          1,         24,         24,2,20110406,       0043,   -67.0002,  -125.0647,       4201,   449.8,   2.0079,  34.6866,2,  34.6856,2,    177.2,2,   176.9,2,   81.88,2,   32.70,2,    0.00,2,    2.24,2,-999.000,9,-999.000,9,-999.000,9,-999.0000,9,  2253.4,2,  2344.7,2,   7.5716,2,    25.00,-999.000,9,-999.0000,9,-999.000,9,   2.0079,2, -999.00,9,  -999.0,9,  -999.0,-999.000,9, -999.00,9,-999.000,9,   39.64,2,   35.59,2, -67.0002,-125.0647,-999.000,     -999.0,    34.8491,2,     -999.0,9,     -999.0,1,-999.0000,9,-999.0000,9,-999.0000,9,-999.0000,9,-999.0000,9,-999.0000,9,-999.0000,9,-999.0000,9,-999.0000,9,-999.0000,-999.000,   1.9828,     -999.0,     -999.0,9,     -999.0,9,     -999.0,9,     -999.0,9,     -999.0,20110406,       0208
320620110219,       S04P,     109,          1,         23,         23,2,20110406,       0043,   -67.0002,  -125.0647,       4201,   498.5,   1.9798,  34.6965,2,  34.6960,2,    178.5,2,   178.5,2,   83.37,2,   32.43,2,    0.00,2,    2.23,2,   0.389,2,   0.196,2,   0.030,2,   0.1290,2,  2251.6,2,  2345.7,2,   7.5736,2,    25.00,-999.000,9,-999.0000,9,-999.000,9,   1.9797,2, -999.00,9,  -999.0,9,  -999.0,-999.000,9, -999.00,9,-999.000,9,   39.54,2,   35.12,2, -67.0002,-125.0647,-999.000,     -999.0,    34.8596,2,     -999.0,9,     -999.0,1,-999.0000,9,-999.0000,9,-999.0000,9,-999.0000,9,-999.0000,9,-999.0000,9,-999.0000,9,-999.0000,9,-999.0000,9,-999.0000,-999.000,   1.9518,     -999.0,     -999.0,9,     -999.0,9,     -999.0,9,     -999.0,9,     -999.0,20110406,       0206
320620110219,       S04P,     109,          1,         22,         22,2,20110406,       0043,   -67.0002,  -125.0647,       4201,   598.8,   1.9098,  34.7122,2,  34.7113,2,    181.5,2,   181.3,2,   85.46,2,   32.04,2,    0.00,2,    2.21,2,-999.000,9,-999.000,9,-999.000,9,-999.0000,9,  -999.0,9,  -999.0,9,-999.0000,9,  -999.00,-999.000,9,-999.0000,9,-999.000,9,   1.9095,2, -999.00,9,  -999.0,9,  -999.0,-999.000,9, -999.00,9,-999.000,9,   39.76,2,   34.60,2, -67.0002,-125.0646,-999.000,     -999.0,    34.8749,2,     -999.0,9,     -999.0,9,-999.0000,9,-999.0000,9,-999.0000,9,-999.0000,9,-999.0000,9,-999.0000,9,-999.0000,9,-999.0000,9,-999.0000,9,-999.0000,-999.000,   1.8760,     -999.0,     -999.0,9,     -999.0,9,     -999.0,9,     -999.0,9,     -999.0,20110406,       0204
320620110219,       S04P,     109,          1,         21,         21,2,20110406,       0043,   -67.0002,  -125.0647,       4201,   699.0,   1.8424,  34.7220,2,  34.7219,2,    184.7,2,   184.5,2,   87.14,2,   31.67,2,    0.00,2,    2.18,2,   0.277,2,   0.143,2,   0.020,2,   0.1060,2,  2251.9,2,  2349.9,2,   7.5882,2,    25.00,-999.000,9,-999.0000,9,-999.000,9,   1.8417,2, -999.00,9,  -999.0,9,  -999.0,-999.000,9, -999.00,9,-999.000,9,   39.96,2,   34.36,2, -67.0002,-125.0646,-999.000,     -999.0,    34.8856,2,     -999.0,9,     -999.0,1,-999.0000,9,-999.0000,9,-999.0000,9,-999.0000,9,-999.0000,9,-999.0000,9,-999.0000,9,-999.0000,9,-999.0000,9,-999.0000,-999.000,   1.8028,     -999.0,     -999.0,9,     -999.0,9,     -999.0,9,     -999.0,9,     -999.0,20110406,       0201
320620110219,       S04P,     109,          1,         20,         20,2,20110406,       0043,   -67.0002,  -125.0647,       4201,   799.3,   1.7675,  34.7283,2,  34.7283,2,    187.4,2,   187.0,2,   89.36,2,   31.53,2,    0.00,2,    2.17,2,-999.000,9,-999.000,9,-999.000,9,-999.0000,9,  -999.0,9,  -999.0,9,-999.0000,9,  -999.00,-999.000,9,-999.0000,9,-999.000,9,   1.7678,2, -999.00,9,  -999.0,9,  -999.0,-999.000,9, -999.00,9,-999.000,9,   39.63,2,   34.52,2, -67.0002,-125.0646,-999.000,     -999.0,    34.8921,2,     -999.0,9,     -999.0,9,-999.0000,9,-999.0000,9,-999.0000,9,-999.0000,9,-999.0000,9,-999.0000,9,-999.0000,9,-999.0000,9,-999.0000,9,-999.0000,-999.000,   1.7220,     -999.0,     -999.0,9,     -999.0,9,     -999.0,9,     -999.0,9,     -999.0,20110406,       0158
320620110219,       S04P,     109,          1,         19,         19,2,20110406,       0043,   -67.0002,  -125.0647,       4201,   899.6,   1.6855,  34.7316,2,  34.7311,2,    189.5,2,   189.0,2,   91.66,2,   31.38,2,    0.00,2,    2.17,2,   0.256,2,   0.128,2,   0.015,2,   0.1170,2,  2251.1,2,  2353.1,2,   7.5947,6,    25.00,-999.000,9,-999.0000,9,-999.000,9,   1.6851,2, -999.00,9,  -999.0,9,  -999.0,-999.000,9, -999.00,9,-999.000,9,   39.58,2,   34.25,2, -67.0002,-125.0647,-999.000,     -999.0,    34.8948,2,     -999.0,9,     -999.0,1,-999.0000,9,-999.0000,9,-999.0000,9,-999.0000,9,-999.0000,9,-999.0000,9,-999.0000,9,-999.0000,9,-999.0000,9,-999.0000,-999.000,   1.6341,     -999.0,     -999.0,9,     -999.0,9,     -999.0,9,     -999.0,9,     -999.0,20110406,       0156
320620110219,       S04P,     109,          1,         18,         18,2,20110406,       0043,   -67.0002,  -125.0647,       4201,  1000.3,   1.6024,  34.7331,2,  34.7326,2,    191.2,2,   190.9,2,   93.97,2,   31.31,2,    0.00,2,    2.16,2,-999.000,9,-999.000,9,-999.000,9,-999.0000,9,  -999.0,9,  -999.0,9,-999.0000,9,  -999.00,-999.000,9,-999.0000,9,-999.000,9,   1.6026,2, -999.00,9,  -999.0,9,  -999.0,-999.000,9, -999.00,9,-999.000,9,   39.94,2,   34.22,2, -67.0002,-125.0647,-999.000,     -999.0,    34.8964,2,     -999.0,9,     -999.0,9,-999.0000,9,-999.0000,9,-999.0000,9,-999.0000,9,-999.0000,9,-999.0000,9,-999.0000,9,-999.0000,9,-999.0000,9,-999.0000,-999.000,   1.5451,     -999.0,     -999.0,9,     -999.0,9,     -999.0,9,     -999.0,9,     -999.0,20110406,       0153
320620110219,       S04P,     109,          1,         17,         17,2,20110406,       0043,   -67.0002,  -125.0647,       4201,  1099.0,   1.5084,  34.7331,2,  34.7328,2,    192.6,2,   192.4,2,   96.76,2,   31.25,2,    0.00,2,    2.17,2,   0.188,2,   0.096,2,   0.014,2,   0.1020,2,  2255.0,2,  2355.9,2,   7.5989,2,    25.00,-999.000,9,-999.0000,9,-999.000,9,   1.5083,2, -999.00,9,  -999.0,9,  -999.0,-999.000,9, -999.00,9,-999.000,9,   39.88,2,   34.17,2, -67.0002,-125.0647,-999.000,     -999.0,    34.8966,2,     -999.0,9,     -999.0,1,-999.0000,9,-999.0000,9,-999.0000,9,-999.0000,9,-999.0000,9,-999.0000,9,-999.0000,9,-999.0000,9,-999.0000,9,-999.0000,-999.000,   1.4454,     -999.0,     -999.0,9,     -999.0,9,     -999.0,9,     -999.0,9,     -999.0,20110406,       0151
320620110219,       S04P,     109,          1,         16,         16,2,20110406,       0043,   -67.0002,  -125.0647,       4201,  1200.4,   1.4243,  34.7316,2,  34.7319,2,    193.8,2,   193.7,2,   99.35,2,   31.27,2,    0.00,2,    2.18,2,-999.000,9,-999.000,9,-999.000,9,-999.0000,9,  -999.0,9,  -999.0,9,-999.0000,9,  -999.00,-999.000,9,-999.0000,9,-999.000,9,   1.4229,2, -999.00,9,  -999.0,9,  -999.0,-999.000,9, -999.00,9,-999.000,9,   39.95,2,   34.28,2, -67.0002,-125.0647,-999.000,     -999.0,    34.8956,2,     -999.0,9,     -999.0,9,-999.0000,9,-999.0000,9,-999.0000,9,-999.0000,9,-999.0000,9,-999.0000,9,-999.0000,9,-999.0000,9,-999.0000,9,-999.0000,-999.000,   1.3553,     -999.0,     -999.0,9,     -999.0,9,     -999.0,9,     -999.0,9,     -999.0,20110406,       0148
320620110219,       S04P,     109,          1,         15,         15,2,20110406,       0043,   -67.0002,  -125.0647,       4201,  1301.2,   1.3416,  34.7298,2,  34.7301,2,    194.9,2,   194.9,2,  102.09,2,   31.36,2,    0.00,2,    2.19,2,   0.189,2,   0.092,2,   0.025,2,   0.1040,2,  2256.6,6,  2357.6,2,   7.6006,2,    25.00,-999.000,9,-999.0000,9,-999.000,9,   1.3424,2, -999.00,9,  -999.0,9,  -999.0,-999.000,9, -999.00,9,-999.000,9,   40.06,2,   34.30,2, -67.0002,-125.0647,-999.000,     -999.0,    34.8938,2,     -999.0,9,     -999.0,1,-999.0000,9,-999.0000,9,-999.0000,9,-999.0000,9,-999.0000,9,-999.0000,9,-999.0000,9,-999.0000,9,-999.0000,9,-999.0000,-999.000,   1.2665,     -999.0,     -999.0,9,     -999.0,9,     -999.0,9,     -999.0,9,     -999.0,20110406,       0146
320620110219,       S04P,     109,          1,         14,         14,2,20110406,       0043,   -67.0002,  -125.0647,       4201,  1399.9,   1.2778,  34.7282,2,  34.7279,2,    195.6,2,   195.4,2,  104.05,2,   31.50,2,    0.00,2,    2.20,2,-999.000,9,-999.000,9,-999.000,9,-999.0000,9,  -999.0,9,  -999.0,9,-999.0000,9,  -999.00,-999.000,9,-999.0000,9,-999.000,9,   1.2779,2, -999.00,9,  -999.0,9,  -999.0,-999.000,9, -999.00,9,-999.000,9,   40.39,2,   34.36,2, -67.0002,-125.0647,-999.000,     -999.0,    34.8917,2,     -999.0,9,     -999.0,9,-999.0000,9,-999.0000,9,-999.0000,9,-999.0000,9,-999.0000,9,-999.0000,9,-999.0000,9,-999.0000,9,-999.0000,9,-999.0000,-999.000,   1.1966,     -999.0,     -999.0,9,     -999.0,9,     -999.0,9,     -999.0,9,     -999.0,20110406,       0143