BOTTLE,20220813CCHSIOAMB
EXPOCODE,SECT_ID,STNNBR,CASTNO,SAMPNO,BTLNBR,BTLNBR_FLAG_W,DATE,TIME,LATITUDE,LONGITUDE,DEPTH,CTDPRS,CTDTMP,CTDSAL,CTDSAL_FLAG_W,SALNTY,SALNTY_FLAG_W,CTDOXY,CTDOXY_FLAG_W,OXYGEN,OXYGEN_FLAG_W,SILCAT,SILCAT_FLAG_W,NITRAT,NITRAT_FLAG_W,NITRIT,NITRIT_FLAG_W,PHSPHT,PHSPHT_FLAG_W,CFC-11,CFC-11_FLAG_W,CFC-12,CFC-12_FLAG_W,CFC113,CFC113_FLAG_W,SF6,SF6_FLAG_W,TCARBN,TCARBN_FLAG_W,ALKALI,ALKALI_FLAG_W,PH_TOT,PH_TOT_FLAG_W,PH_TMP,TRITUM,TRITUM_FLAG_W,HELIUM,HELIUM_FLAG_W,DELHE3,DELHE3_FLAG_W,REFTMP,REFTMP_FLAG_W,DELC13,DELC13_FLAG_W,DELC14,DELC14_FLAG_W,C14ERR,NEON,NEON_FLAG_W,DELO18,DELO18_FLAG_W,POC,POC_FLAG_W,DOC,DOC_FLAG_W,TDN,TDN_FLAG_W,BTL_LAT,BTL_LON,TRITER,NEONER,SALTREF,SALTREF_FLAG_W,PIGMENTS,PIGMENTS_FLAG_W,LAB_DEN,LAB_DEN_FLAG_W,CDOM325,CDOM325_FLAG_W,CDOM340,CDOM340_FLAG_W,CDOM380,CDOM380_FLAG_W,CDOM412,CDOM412_FLAG_W,CDOM443,CDOM443_FLAG_W,CDOM490,CDOM490_FLAG_W,CDOM555,CDOM555_FLAG_W,CDOMSL,CDOMSL_FLAG_W,CDOMSN,CDOMSN_FLAG_W,HELIER,DELHER,THETA,LDEO_SAMPNO,ABSORBTION,ABSORBTION_FLAG_W,IMAGE_COUNT,IMAGE_COUNT_FLAG_W,CYTO_COUNT,CYTO_COUNT_FLAG_W,DELD,DELD_FLAG_W,DELDERR,BTL_DATE,BTL_TIME
,,,,,,,,,,,METERS,DBAR,ITS-90,PSS-78,,PSS-78,,UMOL/KG,,UMOL/KG,,UMOL/KG,,UMOL/KG,,UMOL/KG,,UMOL/KG,,PMOL/KG,,PMOL/KG,,PMOL/KG,,FMOL/KG,,UMOL/KG,,UMOL/KG,,,,DEG C,TU,,NMOL/KG,,PERCNT,,DEG C,,/MILLE,,/MILLE,,/MILLE,NMOL/KG,,/MILLE,,UG/KG,,UMOL/KG,,UMOL/KG,,,,TU,NMOL/KG,G/KG,,,,,,1/M,,1/M,,1/M,,1/M,,1/M,,1/M,,1/M,,1/NM,,1/NM,,NMOL/KG,PERCNT,DEG C,,,,,,,,/MILLE,,/MILLE,,
320620110219,       S04P,      16,          1,         13,         13,2,20110228,       0337,   -67.6162,   173.5398,       3474,  1534.8,   0.7195,  34.7096,2,  34.7104,2,    203.1,2,   203.1,2,  123.15,2,   32.37,2,    0.00,2,    2.17,2,-999.000,9,-999.000,9,-999.000,9,-999.0000,9,  -999.0,9,  -999.0,9,-999.0000,9,  -999.00,-999.000,9,-999.0000,9,-999.000,9,   0.7194,2, -999.00,9,  -999.0,9,  -999.0,-999.000,9, -999.00,9,-999.000,9, -999.00,9, -999.00,9, -67.6176, 173.5349,-999.000,     -999.0,    34.8741,2,     -999.0,9,     -999.0,9,   0.0940,2,   0.0519,2,   0.0073,3,  -0.0007,4,  -0.0105,4,  -0.0094,4,  -0.0114,4,   0.0538,4,   0.0438,4,-999.0000,-999.000,   0.6356,     -999.0,     -999.0,9,     -999.0,9,     -999.0,9,     -999.0,9,     -999.0,20110228,       0425
320620110219,       S04P,      16,          1,         12,         12,2,20110228,       0337,   -67.6162,   173.5398,       3474,  1634.4,   0.6876,  34.7087,2,  34.7090,2,    204.0,2,   204.2,2,  123.46,2,   32.42,2,    0.00,2,    2.17,2,   0.114,2,   0.065,2,   0.013,2,   0.1170,2,  -999.0,9,  -999.0,9,-999.0000,9,  -999.00,-999.000,9,-999.0000,9,-999.000,9,   0.6875,2, -999.00,9,  -999.0,9,  -999.0,-999.000,9, -999.00,9,-999.000,9, -999.00,9, -999.00,9, -67.6176, 173.5350,-999.000,     -999.0,    34.8727,2,     -999.0,9,     -999.0,9,-999.0000,9,-999.0000,9,-999.0000,9,-999.0000,9,-999.0000,9,-999.0000,9,-999.0000,9,-999.0000,9,-999.0000,9,-999.0000,-999.000,   0.5973,     -999.0,     -999.0,9,     -999.0,9,     -999.0,9,     -999.0,9,     -999.0,20110228,       0422
320620110219,       S04P,      16,          1,         11,         11,2,20110228,       0337,   -67.6162,   173.5398,       3474,  1734.8,   0.6556,  34.7077,2,  34.7087,2,    204.8,2,   205.0,2,  124.15,2,   32.39,2,    0.00,2,    2.20,2,-999.000,9,-999.000,9,-999.000,9,-999.0000,9,  -999.0,9,  -999.0,9,-999.0000,9,  -999.00,-999.000,9,-999.0000,9,-999.000,9,   0.6554,2, -999.00,9,  -999.0,9,  -999.0,-999.000,9, -999.00,9,-999.000,9, -999.00,9, -999.00,9, -67.6177, 173.5349,-999.000,     -999.0,    34.8723,2,     -999.0,9,     -999.0,9,-999.0000,9,-999.0000,9,-999.0000,9,-999.0000,9,-999.0000,9,-999.0000,9,-999.0000,9,-999.0000,9,-999.0000,9,-999.0000,-999.000,   0.5587,     -999.0,     -999.0,9,     -999.0,9,     -999.0,9,     -999.0,9,     -999.0,20110228,       0420
320620110219,       S04P,      16,          1,         10,         10,2,20110228,       0337,   -67.6162,   173.5398,       3474,  1865.7,   0.6098,  34.7064,2,  34.7071,2,    205.9,2,   205.9,2,  125.61,2,   32.32,2,    0.00,2,    2.21,2,   0.171,2,   0.093,2,   0.014,2,   0.1190,2,  2261.9,2,  2361.4,2,   7.5956,4,    25.00,-999.000,9,-999.0000,9,-999.000,9,   0.6099,2, -999.00,9,  -999.0,9,  -999.0,-999.000,9, -999.00,9,-999.000,9, -999.00,9, -999.00,9, -67.6177, 173.5350,-999.000,     -999.0,    34.8707,2,     -999.0,9,     -999.0,9,   0.1033,2,   0.0597,2,   0.0135,3,   0.0035,3,  -0.0070,4,  -0.0067,4,  -0.0098,4,   0.0409,3,   0.0382,3,-999.0000,-999.000,   0.5043,     -999.0,     -999.0,9,     -999.0,9,     -999.0,9,     -999.0,9,     -999.0,20110228,       0416
320620110219,       S04P,      16,          1,          9,          9,2,20110228,       0337,   -67.6162,   173.5398,       3474,  2064.5,   0.5419,  34.7045,2,  34.7057,2,    207.5,2,   207.5,2,  126.35,2,   32.43,2,    0.00,2,    2.21,2,-999.000,9,-999.000,9,-999.000,9,-999.0000,9,  -999.0,9,  -999.0,9,-999.0000,9,  -999.00,-999.000,9,-999.0000,9,-999.000,9,   0.5417,2, -999.00,9,  -999.0,9,  -999.0,-999.000,9, -999.00,9,-999.000,9, -999.00,9, -999.00,9, -67.6179, 173.5355,-999.000,     -999.0,    34.8694,2,     -999.0,9,     -999.0,9,-999.0000,9,-999.0000,9,-999.0000,9,-999.0000,9,-999.0000,9,-999.0000,9,-999.0000,9,-999.0000,9,-999.0000,9,-999.0000,-999.000,   0.4228,     -999.0,     -999.0,9,     -999.0,9,     -999.0,9,     -999.0,9,     -999.0,20110228,       0412
320620110219,       S04P,      16,          1,          8,          8,2,20110228,       0337,   -67.6162,   173.5398,       3474,  2265.4,   0.4875,  34.7033,2,  34.7041,2,    208.9,2,   209.0,2,  127.77,2,   32.51,2,    0.00,2,    2.21,2,   0.198,2,   0.116,2,   0.019,2,   0.1480,2,  2261.4,2,  2361.6,2,   7.5964,4,    25.00,-999.000,9,-999.0000,9,-999.000,9,   0.4874,2, -999.00,9,  -999.0,9,  -999.0,-999.000,9, -999.00,9,-999.000,9, -999.00,9, -999.00,9, -67.6179, 173.5364,-999.000,     -999.0,    34.8678,2,     -999.0,9,     -999.0,9,-999.0000,9,-999.0000,9,-999.0000,9,-999.0000,9,-999.0000,9,-999.0000,9,-999.0000,9,-999.0000,9,-999.0000,9,-999.0000,-999.000,   0.3540,     -999.0,     -999.0,9,     -999.0,9,     -999.0,9,     -999.0,9,     -999.0,20110228,       0407
320620110219,       S04P,      16,          1,          7,          7,2,20110228,       0337,   -67.6162,   173.5398,       3474,  2465.1,   0.4299,  34.7012,2,  34.7022,2,    210.8,2,   211.2,2,  127.89,2,   32.62,2,    0.00,2,    2.19,2,-999.000,9,-999.000,9,-999.000,9,-999.0000,9,  -999.0,9,  -999.0,9,-999.0000,9,  -999.00,-999.000,9,-999.0000,9,-999.000,9,   0.4296,2, -999.00,9,  -999.0,9,  -999.0,-999.000,9, -999.00,9,-999.000,9, -999.00,9, -999.00,9, -67.6176, 173.5371,-999.000,     -999.0,    34.8658,2,     -999.0,9,     -999.0,9,   0.0967,2,   0.0543,2,   0.0096,3,   0.0002,4,  -0.0097,4,  -0.0088,4,  -0.0109,4,   0.0536,4,   0.0418,4,-999.0000,-999.000,   0.2817,     -999.0,     -999.0,9,     -999.0,9,     -999.0,9,     -999.0,9,     -999.0,20110228,       0402
320620110219,       S04P,      16,          1,          6,          6,2,20110228,       0337,   -67.6162,   173.5398,       3474,  2665.4,   0.3762,  34.6987,2,  34.6996,2,    212.7,2,   212.9,2,  127.56,2,   32.56,2,    0.00,2,    2.19,2,   0.374,2,   0.208,2,   0.040,2,   0.1630,2,  -999.0,9,  -999.0,9,-999.0000,9,  -999.00,-999.000,9,-999.0000,9,-999.000,9,   0.3763,2, -999.00,9,  -999.0,9,  -999.0,-999.000,9, -999.00,9,-999.000,9, -999.00,9, -999.00,9, -67.6172, 173.5376,-999.000,     -999.0,    34.8632,2,     -999.0,9,     -999.0,9,-999.0000,9,-999.0000,9,-999.0000,9,-999.0000,9,-999.0000,9,-999.0000,9,-999.0000,9,-999.0000,9,-999.0000,9,-999.0000,-999.000,   0.2128,     -999.0,     -999.0,9,     -999.0,9,     -999.0,9,     -999.0,9,     -999.0,20110228,       0358
320620110219,       S04P,      16,          1,          5,          5,2,20110228,       0337,   -67.6162,   173.5398,       3474,  2864.9,   0.3200,  34.6962,2,  34.6970,2,    215.2,2,   214.5,2,  127.02,2,   32.63,2,    0.00,2,    2.20,2,-999.000,9,-999.000,9,-999.000,9,-999.0000,9,  2259.8,2,  2359.8,2,   7.5933,4,    25.00,-999.000,9,-999.0000,9,-999.000,9,   0.3197,2, -999.00,9,  -999.0,9,  -999.0,-999.000,9, -999.00,9,-999.000,9, -999.00,9, -999.00,9, -67.6170, 173.5378,-999.000,     -999.0,    34.8607,2,     -999.0,9,     -999.0,9,-999.0000,9,-999.0000,9,-999.0000,9,-999.0000,9,-999.0000,9,-999.0000,9,-999.0000,9,-999.0000,9,-999.0000,9,-999.0000,-999.000,   0.1410,     -999.0,     -999.0,9,     -999.0,9,     -999.0,9,     -999.0,9,     -999.0,20110228,       0353
320620110219,       S04P,      16,          1,          4,          4,2,20110228,       0337,   -67.6162,   173.5398,       3474,  3099.4,   0.2437,  34.6918,2,  34.6919,2,    218.4,2,   217.9,2,  123.99,2,   32.58,2,    0.00,2,    2.21,2,   0.766,2,   0.420,2,   0.074,2,   0.2290,2,  -999.0,9,  -999.0,9,-999.0000,9,  -999.00,-999.000,9,-999.0000,9,-999.000,9,   0.2437,2, -999.00,9,  -999.0,9,  -999.0,-999.000,9, -999.00,9,-999.000,9, -999.00,9, -999.00,9, -67.6168, 173.5383,-999.000,     -999.0,    34.8555,2,     -999.0,9,     -999.0,9,   0.0957,2,   0.0537,2,   0.0105,3,   0.0005,4,  -0.0094,4,  -0.0084,4,  -0.0108,4,   0.0503,4,   0.0410,4,-999.0000,-999.000,   0.0460,     -999.0,     -999.0,9,     -999.0,9,     -999.0,9,     -999.0,9,     -999.0,20110228,       0348
320620110219,       S04P,      16,          1,          3,          3,2,20110228,       0337,   -67.6162,   173.5398,       3474,  3298.8,   0.1324,  34.6835,2,  34.6839,2,    223.4,2,   223.5,2,  116.19,2,   32.40,2,    0.00,2,    2.19,2,   1.207,2,   0.673,2,   0.117,2,   0.4400,2,  2256.7,2,  2354.9,2,   7.5848,2,    25.00,-999.000,9,-999.0000,9,-999.000,9,   0.1327,2, -999.00,9,  -999.0,9,  -999.0,-999.000,9, -999.00,9,-999.000,9, -999.00,9, -999.00,9, -67.6165, 173.5390,-999.000,     -999.0,    34.8474,2,     -999.0,9,     -999.0,9,-999.0000,9,-999.0000,9,-999.0000,9,-999.0000,9,-999.0000,9,-999.0000,9,-999.0000,9,-999.0000,9,-999.0000,9,-999.0000,-999.000,  -0.0805,     -999.0,     -999.0,9,     -999.0,9,     -999.0,9,     -999.0,9,     -999.0,20110228,       0343
320620110219,       S04P,      16,          1,          2,          2,2,20110228,       0337,   -67.6162,   173.5398,       3474,  3448.9,   0.0724,  34.6790,2,  34.6803,2,    226.7,2,   226.6,2,  112.74,2,   32.26,2,    0.00,2,    2.20,2,   1.455,2,   0.809,2,   0.138,2,   0.5750,2,  2257.0,6,  2354.4,2,   7.5848,2,    25.00,-999.000,9,-999.0000,9,-999.000,9,   0.0722,2, -999.00,9,  -999.0,9,  -999.0,-999.000,9, -999.00,9,-999.000,9, -999.00,9, -999.00,9, -67.6163, 173.5395,-999.000,     -999.0,    34.8439,2,     -999.0,9,     -999.0,9,-999.0000,9,-999.0000,9,-999.0000,9,-999.0000,9,-999.0000,9,-999.0000,9,-999.0000,9,-999.0000,9,-999.0000,9,-999.0000,-999.000,  -0.1527,     -999.0,     -999.0,9,     -999.0,9,     -999.0,9,     -999.0,9,     -999.0,20110228,       0339
320620110219,       S04P,      16,          1,          1,          1,2,20110228,       0337,   -67.6162,   173.5398,       3474,  3525.0,   0.0587,  34.6779,2,  34.6784,2,    228.3,2,   228.7,2,  111.78,2,   32.34,2,    0.00,2,    2.18,2,   1.548,2,   0.865,2,   0.152,2,   0.5600,2,  2256.6,2,  2353.6,6,   7.5839,2,    25.00,-999.000,9,-999.0000,9,-999.000,9,   0.0583,2, -999.00,9,  -999.0,9,  -999.0,-999.000,9, -999.00,9,-999.000,9, -999.00,9, -999.00,9, -67.6162, 173.5397,-999.000,     -999.0,    34.8419,2,     -999.0,9,     -999.0,9,   0.1107,2,   0.0654,2,   0.0159,3,   0.0050,2,  -0.0067,4,  -0.0075,4,  -0.0103,4,   0.0381,3,   0.0364,3,-999.0000,-999.000,  -0.1731,     -999.0,     -999.0,9,     -999.0,9,     -999.0,9,     -999.0,9,     -999.0,20110228,       0337