BOTTLE,20220813CCHSIOAMB
EXPOCODE,SECT_ID,STNNBR,CASTNO,SAMPNO,BTLNBR,BTLNBR_FLAG_W,DATE,TIME,LATITUDE,LONGITUDE,DEPTH,CTDPRS,CTDTMP,CTDSAL,CTDSAL_FLAG_W,SALNTY,SALNTY_FLAG_W,CTDOXY,CTDOXY_FLAG_W,OXYGEN,OXYGEN_FLAG_W,SILCAT,SILCAT_FLAG_W,NITRAT,NITRAT_FLAG_W,NITRIT,NITRIT_FLAG_W,PHSPHT,PHSPHT_FLAG_W,CFC-11,CFC-11_FLAG_W,CFC-12,CFC-12_FLAG_W,CFC113,CFC113_FLAG_W,SF6,SF6_FLAG_W,TCARBN,TCARBN_FLAG_W,ALKALI,ALKALI_FLAG_W,PH_TOT,PH_TOT_FLAG_W,PH_TMP,TRITUM,TRITUM_FLAG_W,HELIUM,HELIUM_FLAG_W,DELHE3,DELHE3_FLAG_W,REFTMP,REFTMP_FLAG_W,DELC13,DELC13_FLAG_W,DELC14,DELC14_FLAG_W,C14ERR,NEON,NEON_FLAG_W,DELO18,DELO18_FLAG_W,POC,POC_FLAG_W,DOC,DOC_FLAG_W,TDN,TDN_FLAG_W,BTL_LAT,BTL_LON,TRITER,NEONER,SALTREF,SALTREF_FLAG_W,PIGMENTS,PIGMENTS_FLAG_W,LAB_DEN,LAB_DEN_FLAG_W,CDOM325,CDOM325_FLAG_W,CDOM340,CDOM340_FLAG_W,CDOM380,CDOM380_FLAG_W,CDOM412,CDOM412_FLAG_W,CDOM443,CDOM443_FLAG_W,CDOM490,CDOM490_FLAG_W,CDOM555,CDOM555_FLAG_W,CDOMSL,CDOMSL_FLAG_W,CDOMSN,CDOMSN_FLAG_W,HELIER,DELHER,THETA,LDEO_SAMPNO,ABSORBTION,ABSORBTION_FLAG_W,IMAGE_COUNT,IMAGE_COUNT_FLAG_W,CYTO_COUNT,CYTO_COUNT_FLAG_W,DELD,DELD_FLAG_W,DELDERR,BTL_DATE,BTL_TIME
,,,,,,,,,,,METERS,DBAR,ITS-90,PSS-78,,PSS-78,,UMOL/KG,,UMOL/KG,,UMOL/KG,,UMOL/KG,,UMOL/KG,,UMOL/KG,,PMOL/KG,,PMOL/KG,,PMOL/KG,,FMOL/KG,,UMOL/KG,,UMOL/KG,,,,DEG C,TU,,NMOL/KG,,PERCNT,,DEG C,,/MILLE,,/MILLE,,/MILLE,NMOL/KG,,/MILLE,,UG/KG,,UMOL/KG,,UMOL/KG,,,,TU,NMOL/KG,G/KG,,,,,,1/M,,1/M,,1/M,,1/M,,1/M,,1/M,,1/M,,1/NM,,1/NM,,NMOL/KG,PERCNT,DEG C,,,,,,,,/MILLE,,/MILLE,,
320620110219,       P16S,      53,          1,         36,         36,2,20110313,       1547,   -70.9799,  -149.9992,       4268,     5.1,  -0.6853,  33.6476,2,  33.6475,2,    344.5,3,   348.4,2,   34.91,2,   21.18,2,    0.11,2,    1.48,2,   6.161,2,   3.385,2,   0.599,2,   2.5440,2,  2128.9,6,  2279.6,2,   7.7577,2,    25.00,-999.000,9,-999.0000,9,-999.000,9,  -0.6851,2, -999.00,9,  -999.0,9,  -999.0,-999.000,9, -999.00,9,-999.000,9, -999.00,9, -999.00,9, -70.9800,-150.0000,-999.000,     -999.0,    33.8062,2,     -999.0,9,     -999.0,9,-999.0000,9,-999.0000,9,-999.0000,9,-999.0000,9,-999.0000,9,-999.0000,9,-999.0000,9,-999.0000,9,-999.0000,9,-999.0000,-999.000,  -0.6854,     -999.0,     -999.0,9,     -999.0,9,     -999.0,9,     -999.0,9,     -999.0,20110313,       1734
320620110219,       P16S,      53,          1,         35,         35,2,20110313,       1547,   -70.9799,  -149.9992,       4268,    19.4,  -0.6849,  33.6475,2,  33.6465,2,    348.0,2,   348.6,2,   34.95,2,   21.34,2,    0.11,2,    1.48,2,-999.000,9,-999.000,9,-999.000,9,-999.0000,9,  2129.3,2,  2280.4,2,   7.7588,2,    25.00,-999.000,9,-999.0000,9,-999.000,9,  -0.6854,2, -999.00,9,  -999.0,9,  -999.0,-999.000,9, -999.00,9,-999.000,9, -999.00,9, -999.00,9, -70.9800,-150.0000,-999.000,     -999.0,    33.8052,2,     -999.0,9,     -999.0,9,-999.0000,9,-999.0000,9,-999.0000,9,-999.0000,9,-999.0000,9,-999.0000,9,-999.0000,9,-999.0000,9,-999.0000,9,-999.0000,-999.000,  -0.6854,     -999.0,     -999.0,9,     -999.0,9,     -999.0,9,     -999.0,9,     -999.0,20110313,       1733
320620110219,       P16S,      53,          1,         34,         34,2,20110313,       1547,   -70.9799,  -149.9992,       4268,    40.0,  -0.7112,  33.6616,2,  33.6737,2,    348.6,2,   345.9,2,   35.82,2,   21.80,2,    0.11,2,    1.54,2,   6.138,2,   3.377,2,   0.596,2,   2.4700,2,  2134.6,2,  2281.2,6,   7.7453,4,    25.00,-999.000,9,-999.0000,9,-999.000,9,  -0.7100,2, -999.00,9,  -999.0,9,  -999.0,-999.000,9, -999.00,9,-999.000,9, -999.00,9, -999.00,9, -70.9800,-150.0000,-999.000,     -999.0,    33.8325,2,     -999.0,9,     -999.0,9,-999.0000,9,-999.0000,9,-999.0000,9,-999.0000,9,-999.0000,9,-999.0000,9,-999.0000,9,-999.0000,9,-999.0000,9,-999.0000,-999.000,  -0.7123,     -999.0,     -999.0,9,     -999.0,9,     -999.0,9,     -999.0,9,     -999.0,20110313,       1731
320620110219,       P16S,      53,          1,         33,         33,2,20110313,       1547,   -70.9799,  -149.9992,       4268,    65.0,  -1.5354,  34.0658,2,  34.0666,2,    307.3,2,   307.9,2,   48.60,2,   27.99,2,    0.16,2,    2.00,2,   5.250,2,   2.875,2,   0.509,2,   1.8960,2,  2196.5,2,  2301.8,2,   7.6300,2,    25.00,-999.000,9,-999.0000,9,-999.000,9,  -1.5348,2, -999.00,9,  -999.0,9,  -999.0,-999.000,9, -999.00,9,-999.000,9, -999.00,9, -999.00,9, -70.9800,-150.0000,-999.000,     -999.0,    34.2273,2,     -999.0,9,     -999.0,9,-999.0000,9,-999.0000,9,-999.0000,9,-999.0000,9,-999.0000,9,-999.0000,9,-999.0000,9,-999.0000,9,-999.0000,9,-999.0000,-999.000,  -1.5368,     -999.0,     -999.0,9,     -999.0,9,     -999.0,9,     -999.0,9,     -999.0,20110313,       1730
320620110219,       P16S,      53,          1,         32,         32,2,20110313,       1547,   -70.9799,  -149.9992,       4268,    90.3,  -1.2790,  34.1288,2,  34.1255,2,    294.4,2,   293.4,2,   52.09,2,   28.78,2,    0.17,2,    2.04,2,   4.890,2,   2.665,2,   0.481,2,   1.8320,2,  2204.5,2,  2304.1,2,   7.6145,2,    25.00,-999.000,9,-999.0000,9,-999.000,9,  -1.2817,2, -999.00,9,  -999.0,9,  -999.0,-999.000,9, -999.00,9,-999.000,9, -999.00,9, -999.00,9, -70.9800,-150.0000,-999.000,     -999.0,    34.2864,2,     -999.0,9,     -999.0,9,-999.0000,9,-999.0000,9,-999.0000,9,-999.0000,9,-999.0000,9,-999.0000,9,-999.0000,9,-999.0000,9,-999.0000,9,-999.0000,-999.000,  -1.2812,     -999.0,     -999.0,9,     -999.0,9,     -999.0,9,     -999.0,9,     -999.0,20110313,       1728
320620110219,       P16S,      53,          1,         31,         31,2,20110313,       1547,   -70.9799,  -149.9992,       4268,   134.0,   0.5157,  34.4068,2,  34.4134,2,    238.3,2,   222.4,2,   70.61,2,   32.49,2,    0.01,2,    2.23,2,   2.484,2,   1.355,2,   0.231,2,   0.7340,2,  2238.3,2,  2323.1,2,   7.5672,2,    25.00,-999.000,9,-999.0000,9,-999.000,9,   0.5161,2, -999.00,9,  -999.0,9,  -999.0,-999.000,9, -999.00,9,-999.000,9, -999.00,9, -999.00,9, -70.9800,-150.0000,-999.000,     -999.0,    34.5757,2,     -999.0,9,     -999.0,9,-999.0000,9,-999.0000,9,-999.0000,9,-999.0000,9,-999.0000,9,-999.0000,9,-999.0000,9,-999.0000,9,-999.0000,9,-999.0000,-999.000,   0.5103,     -999.0,     -999.0,9,     -999.0,9,     -999.0,9,     -999.0,9,     -999.0,20110313,       1727
320620110219,       P16S,      53,          1,         30,         30,2,20110313,       1547,   -70.9799,  -149.9992,       4268,   184.5,   1.4776,  34.5132,4,  34.5844,2,    194.5,2,   187.9,2,   79.82,2,   33.25,2,    0.01,2,    2.27,2,   1.132,2,   0.614,2,   0.089,2,   0.3030,2,  2251.9,2,  2333.1,2,   7.5537,2,    25.00,-999.000,9,-999.0000,9,-999.000,9,   1.4792,2, -999.00,9,  -999.0,9,  -999.0,-999.000,9, -999.00,9,-999.000,9, -999.00,9, -999.00,9, -70.9800,-150.0000,-999.000,     -999.0,    34.7475,2,     -999.0,9,     -999.0,9,-999.0000,9,-999.0000,9,-999.0000,9,-999.0000,9,-999.0000,9,-999.0000,9,-999.0000,9,-999.0000,9,-999.0000,9,-999.0000,-999.000,   1.4685,     -999.0,     -999.0,9,     -999.0,9,     -999.0,9,     -999.0,9,     -999.0,20110313,       1725
320620110219,       P16S,      53,          1,         29,         29,2,20110313,       1547,   -70.9799,  -149.9992,       4268,   234.2,   1.7014,  34.6459,2,  34.6434,2,    181.0,2,   181.0,2,   82.83,2,   33.03,2,    0.00,2,    2.26,2,   0.751,2,   0.401,2,   0.049,2,   0.1580,2,  2254.3,6,  2338.1,2,   7.5648,2,    25.00,-999.000,9,-999.0000,9,-999.000,9,   1.7012,2, -999.00,9,  -999.0,9,  -999.0,-999.000,9, -999.00,9,-999.000,9, -999.00,9, -999.00,9, -70.9800,-150.0000,-999.000,     -999.0,    34.8068,2,     -999.0,9,     -999.0,9,-999.0000,9,-999.0000,9,-999.0000,9,-999.0000,9,-999.0000,9,-999.0000,9,-999.0000,9,-999.0000,9,-999.0000,9,-999.0000,-999.000,   1.6893,     -999.0,     -999.0,9,     -999.0,9,     -999.0,9,     -999.0,9,     -999.0,20110313,       1723
320620110219,       P16S,      53,          1,         28,         28,2,20110313,       1547,   -70.9799,  -149.9992,       4268,   285.2,   1.7681,  34.6815,2,  34.6809,2,    180.0,2,   180.6,2,   84.83,2,   32.67,2,    0.00,2,    2.24,2,   0.517,2,   0.277,2,   0.038,2,   0.1180,2,  2255.0,2,  2341.4,2,   7.5651,2,    25.00,-999.000,9,-999.0000,9,-999.000,9,   1.7682,2, -999.00,9,  -999.0,9,  -999.0,-999.000,9, -999.00,9,-999.000,9, -999.00,9, -999.00,9, -70.9800,-150.0000,-999.000,     -999.0,    34.8444,2,     -999.0,9,     -999.0,9,-999.0000,9,-999.0000,9,-999.0000,9,-999.0000,9,-999.0000,9,-999.0000,9,-999.0000,9,-999.0000,9,-999.0000,9,-999.0000,-999.000,   1.7531,     -999.0,     -999.0,9,     -999.0,9,     -999.0,9,     -999.0,9,     -999.0,20110313,       1721
320620110219,       P16S,      53,          1,         27,         27,2,20110313,       1547,   -70.9799,  -149.9992,       4268,   334.5,   1.7812,  34.6991,2,  34.6985,2,    181.3,2,   181.1,2,   85.92,2,   32.25,2,    0.00,2,    2.23,2,   0.417,2,   0.224,2,   0.025,2,   0.1010,2,  2253.8,2,  2343.1,2,   7.5722,2,    25.00,-999.000,9,-999.0000,9,-999.000,9,   1.7807,2, -999.00,9,  -999.0,9,  -999.0,-999.000,9, -999.00,9,-999.000,9, -999.00,9, -999.00,9, -70.9800,-150.0000,-999.000,     -999.0,    34.8621,2,     -999.0,9,     -999.0,9,-999.0000,9,-999.0000,9,-999.0000,9,-999.0000,9,-999.0000,9,-999.0000,9,-999.0000,9,-999.0000,9,-999.0000,9,-999.0000,-999.000,   1.7634,     -999.0,     -999.0,9,     -999.0,9,     -999.0,9,     -999.0,9,     -999.0,20110313,       1719
320620110219,       P16S,      53,          1,         26,         26,2,20110313,       1547,   -70.9799,  -149.9992,       4268,   384.0,   1.7740,  34.7132,2,  34.7124,2,    182.9,2,   182.5,2,   87.63,2,   31.97,2,    0.00,2,    2.20,2,   0.338,2,   0.176,2,   0.024,2,   0.0900,2,  2255.3,2,  2346.8,2,   7.5785,2,    25.00,-999.000,9,-999.0000,9,-999.000,9,   1.7742,2, -999.00,9,  -999.0,9,  -999.0,-999.000,9, -999.00,9,-999.000,9, -999.00,9, -999.00,9, -70.9800,-150.0000,-999.000,     -999.0,    34.8761,2,     -999.0,9,     -999.0,9,-999.0000,9,-999.0000,9,-999.0000,9,-999.0000,9,-999.0000,9,-999.0000,9,-999.0000,9,-999.0000,9,-999.0000,9,-999.0000,-999.000,   1.7535,     -999.0,     -999.0,9,     -999.0,9,     -999.0,9,     -999.0,9,     -999.0,20110313,       1718
320620110219,       P16S,      53,          1,         25,         25,2,20110313,       1547,   -70.9799,  -149.9992,       4268,   434.7,   1.7229,  34.7214,2,  34.7221,2,    185.3,2,   184.9,2,   89.22,2,   31.82,2,    0.00,2,    2.19,2,-999.000,9,-999.000,9,-999.000,9,-999.0000,9,  2253.1,2,  2346.4,2,   7.5829,2,    25.00,-999.000,9,-999.0000,9,-999.000,9,   1.7229,2, -999.00,9,  -999.0,9,  -999.0,-999.000,9, -999.00,9,-999.000,9, -999.00,9, -999.00,9, -70.9800,-150.0000,-999.000,     -999.0,    34.8858,2,     -999.0,9,     -999.0,9,-999.0000,9,-999.0000,9,-999.0000,9,-999.0000,9,-999.0000,9,-999.0000,9,-999.0000,9,-999.0000,9,-999.0000,9,-999.0000,-999.000,   1.6996,     -999.0,     -999.0,9,     -999.0,9,     -999.0,9,     -999.0,9,     -999.0,20110313,       1716
320620110219,       P16S,      53,          1,         24,         24,2,20110313,       1547,   -70.9799,  -149.9992,       4268,   484.6,   1.6606,  34.7246,2,  34.7240,2,    186.1,2,   186.3,2,   90.87,2,   31.77,2,    0.00,2,    2.20,2,   0.281,2,   0.146,2,   0.022,2,   0.0960,2,  2253.5,2,  2348.3,2,   7.5857,2,    25.00,-999.000,9,-999.0000,9,-999.000,9,   1.6619,2, -999.00,9,  -999.0,9,  -999.0,-999.000,9, -999.00,9,-999.000,9, -999.00,9, -999.00,9, -70.9800,-150.0000,-999.000,     -999.0,    34.8878,2,     -999.0,9,     -999.0,9,-999.0000,9,-999.0000,9,-999.0000,9,-999.0000,9,-999.0000,9,-999.0000,9,-999.0000,9,-999.0000,9,-999.0000,9,-999.0000,-999.000,   1.6347,     -999.0,     -999.0,9,     -999.0,9,     -999.0,9,     -999.0,9,     -999.0,20110313,       1714
320620110219,       P16S,      53,          1,         23,         23,2,20110313,       1547,   -70.9799,  -149.9992,       4268,   564.4,   1.5669,  34.7277,2,  34.7279,2,    188.4,2,   188.1,2,   94.18,2,   31.80,2,    0.00,2,    2.19,2,-999.000,9,-999.000,9,-999.000,9,-999.0000,9,  2254.0,2,  2350.7,6,   7.5866,2,    25.00,-999.000,9,-999.0000,9,-999.000,9,   1.5668,2, -999.00,9,  -999.0,9,  -999.0,-999.000,9, -999.00,9,-999.000,9, -999.00,9, -999.00,9, -70.9800,-149.9999,-999.000,     -999.0,    34.8917,2,     -999.0,9,     -999.0,9,-999.0000,9,-999.0000,9,-999.0000,9,-999.0000,9,-999.0000,9,-999.0000,9,-999.0000,9,-999.0000,9,-999.0000,9,-999.0000,-999.000,   1.5368,     -999.0,     -999.0,9,     -999.0,9,     -999.0,9,     -999.0,9,     -999.0,20110313,       1712
320620110219,       P16S,      53,          1,         22,         22,2,20110313,       1547,   -70.9799,  -149.9992,       4268,   663.8,   1.4804,  34.7304,2,  34.7303,2,    189.8,2,   189.2,2,   97.22,2,   31.79,2,    0.00,2,    2.19,2,   0.218,2,   0.116,2,   0.017,2,   0.0770,2,  -999.0,9,  -999.0,9,-999.0000,9,  -999.00,-999.000,9,-999.0000,9,-999.000,9,   1.4799,2, -999.00,9,  -999.0,9,  -999.0,-999.000,9, -999.00,9,-999.000,9, -999.00,9, -999.00,9, -70.9800,-150.0000,-999.000,     -999.0,    34.8941,2,     -999.0,9,     -999.0,9,-999.0000,9,-999.0000,9,-999.0000,9,-999.0000,9,-999.0000,9,-999.0000,9,-999.0000,9,-999.0000,9,-999.0000,9,-999.0000,-999.000,   1.4449,     -999.0,     -999.0,9,     -999.0,9,     -999.0,9,     -999.0,9,     -999.0,20110313,       1709
320620110219,       P16S,      53,          1,         21,         21,2,20110313,       1547,   -70.9799,  -149.9992,       4268,   764.4,   1.3821,  34.7303,2,  34.7307,2,    188.7,2,   190.0,2,  100.51,2,   31.79,2,    0.00,2,    2.21,2,-999.000,9,-999.000,9,-999.000,9,-999.0000,9,  2256.3,2,  2353.2,2,   7.5882,2,    25.00,-999.000,9,-999.0000,9,-999.000,9,   1.3825,2, -999.00,9,  -999.0,9,  -999.0,-999.000,9, -999.00,9,-999.000,9, -999.00,9, -999.00,9, -70.9800,-150.0000,-999.000,     -999.0,    34.8945,2,     -999.0,9,     -999.0,9,-999.0000,9,-999.0000,9,-999.0000,9,-999.0000,9,-999.0000,9,-999.0000,9,-999.0000,9,-999.0000,9,-999.0000,9,-999.0000,-999.000,   1.3412,     -999.0,     -999.0,9,     -999.0,9,     -999.0,9,     -999.0,9,     -999.0,20110313,       1706
320620110219,       P16S,      53,          1,         20,         20,2,20110313,       1547,   -70.9799,  -149.9992,       4268,   864.5,   1.3038,  34.7292,2,  34.7295,2,    189.3,2,   189.3,2,  103.56,2,   32.11,2,    0.00,2,    2.21,2,   0.156,2,   0.077,2,   0.009,2,   0.0600,2,  -999.0,9,  -999.0,9,-999.0000,9,  -999.00,-999.000,9,-999.0000,9,-999.000,9,   1.3037,2, -999.00,9,  -999.0,9,  -999.0,-999.000,9, -999.00,9,-999.000,9, -999.00,9, -999.00,9, -70.9800,-150.0000,-999.000,     -999.0,    34.8933,2,     -999.0,9,     -999.0,9,-999.0000,9,-999.0000,9,-999.0000,9,-999.0000,9,-999.0000,9,-999.0000,9,-999.0000,9,-999.0000,9,-999.0000,9,-999.0000,-999.000,   1.2573,     -999.0,     -999.0,9,     -999.0,9,     -999.0,9,     -999.0,9,     -999.0,20110313,       1704
320620110219,       P16S,      53,          1,         19,         19,2,20110313,       1547,   -70.9799,  -149.9992,       4268,   964.0,   1.2334,  34.7276,2,  34.7279,2,    191.1,2,   191.1,2,  106.12,2,   32.16,2,    0.00,2,    2.22,2,-999.000,9,-999.000,9,-999.000,9,-999.0000,9,  -999.0,9,  -999.0,9,-999.0000,9,  -999.00,-999.000,9,-999.0000,9,-999.000,9,   1.2330,2, -999.00,9,  -999.0,9,  -999.0,-999.000,9, -999.00,9,-999.000,9, -999.00,9, -999.00,9, -70.9800,-150.0000,-999.000,     -999.0,    34.8917,2,     -999.0,9,     -999.0,9,-999.0000,9,-999.0000,9,-999.0000,9,-999.0000,9,-999.0000,9,-999.0000,9,-999.0000,9,-999.0000,9,-999.0000,9,-999.0000,-999.000,   1.1813,     -999.0,     -999.0,9,     -999.0,9,     -999.0,9,     -999.0,9,     -999.0,20110313,       1701
320620110219,       P16S,      53,          1,         18,         18,2,20110313,       1547,   -70.9799,  -149.9992,       4268,  1064.8,   1.1647,  34.7255,2,  34.7265,2,    192.6,2,   192.9,2,  108.05,2,   31.94,2,    0.00,2,    2.22,2,   0.129,2,   0.070,2,   0.008,2,   0.0430,2,  2259.9,2,  2356.3,2,   7.5893,2,    25.00,-999.000,9,-999.0000,9,-999.000,9,   1.1651,2, -999.00,9,  -999.0,9,  -999.0,-999.000,9, -999.00,9,-999.000,9, -999.00,9, -999.00,9, -70.9800,-150.0000,-999.000,     -999.0,    34.8903,2,     -999.0,9,     -999.0,9,-999.0000,9,-999.0000,9,-999.0000,9,-999.0000,9,-999.0000,9,-999.0000,9,-999.0000,9,-999.0000,9,-999.0000,9,-999.0000,-999.000,   1.1069,     -999.0,     -999.0,9,     -999.0,9,     -999.0,9,     -999.0,9,     -999.0,20110313,       1659
320620110219,       P16S,      53,          1,         17,         17,2,20110313,       1547,   -70.9799,  -149.9992,       4268,  1164.6,   1.0959,  34.7231,2,  34.7232,2,    194.7,2,   194.2,2,  110.32,2,   32.10,2,    0.00,2,    2.23,2,-999.000,9,-999.000,9,-999.000,9,-999.0000,9,  -999.0,9,  -999.0,9,-999.0000,9,  -999.00,-999.000,9,-999.0000,9,-999.000,9,   1.0957,2, -999.00,9,  -999.0,9,  -999.0,-999.000,9, -999.00,9,-999.000,9, -999.00,9, -999.00,9, -70.9800,-150.0000,-999.000,     -999.0,    34.8869,2,     -999.0,9,     -999.0,9,-999.0000,9,-999.0000,9,-999.0000,9,-999.0000,9,-999.0000,9,-999.0000,9,-999.0000,9,-999.0000,9,-999.0000,9,-999.0000,-999.000,   1.0323,     -999.0,     -999.0,9,     -999.0,9,     -999.0,9,     -999.0,9,     -999.0,20110313,       1656
320620110219,       P16S,      53,          1,         16,         16,2,20110313,       1547,   -70.9799,  -149.9992,       4268,  1263.9,   1.0348,  34.7211,2,  34.7212,2,    196.8,2,   196.6,2,  112.58,2,   32.05,2,    0.00,2,    2.22,2,   0.107,2,   0.059,2,   0.005,2,   0.0450,2,  -999.0,9,  -999.0,9,-999.0000,9,  -999.00,-999.000,9,-999.0000,9,-999.000,9,   1.0347,2, -999.00,9,  -999.0,9,  -999.0,-999.000,9, -999.00,9,-999.000,9, -999.00,9, -999.00,9, -70.9800,-150.0000,-999.000,     -999.0,    34.8850,2,     -999.0,9,     -999.0,9,-999.0000,9,-999.0000,9,-999.0000,9,-999.0000,9,-999.0000,9,-999.0000,9,-999.0000,9,-999.0000,9,-999.0000,9,-999.0000,-999.000,   0.9654,     -999.0,     -999.0,9,     -999.0,9,     -999.0,9,     -999.0,9,     -999.0,20110313,       1654
320620110219,       P16S,      53,          1,         15,         15,2,20110313,       1547,   -70.9799,  -149.9992,       4268,  1364.1,   0.9721,  34.7185,2,  34.7187,2,    198.0,2,   198.2,2,  114.60,2,   32.11,2,    0.00,2,    2.22,2,-999.000,9,-999.000,9,-999.000,9,-999.0000,9,  2260.5,2,  2358.7,2,   7.5927,2,    25.00,-999.000,9,-999.0000,9,-999.000,9,   0.9722,2, -999.00,9,  -999.0,9,  -999.0,-999.000,9, -999.00,9,-999.000,9, -999.00,9, -999.00,9, -70.9800,-150.0000,-999.000,     -999.0,    34.8824,2,     -999.0,9,     -999.0,9,-999.0000,9,-999.0000,9,-999.0000,9,-999.0000,9,-999.0000,9,-999.0000,9,-999.0000,9,-999.0000,9,-999.0000,9,-999.0000,-999.000,   0.8967,     -999.0,     -999.0,9,     -999.0,9,     -999.0,9,     -999.0,9,     -999.0,20110313,       1651
320620110219,       P16S,      53,          1,         14,         14,2,20110313,       1547,   -70.9799,  -149.9992,       4268,  1463.4,   0.9176,  34.7164,2,  34.7163,2,    199.1,2,   198.9,2,  115.98,2,   32.05,2,    0.00,2,    2.21,2,   0.100,2,   0.059,2,   0.004,2,   0.0000,2,  -999.0,9,  -999.0,9,-999.0000,9,  -999.00,-999.000,9,-999.0000,9,-999.000,9,   0.9178,2, -999.00,9,  -999.0,9,  -999.0,-999.000,9, -999.00,9,-999.000,9, -999.00,9, -999.00,9, -70.9800,-150.0000,-999.000,     -999.0,    34.8800,2,     -999.0,9,     -999.0,9,-999.0000,9,-999.0000,9,-999.0000,9,-999.0000,9,-999.0000,9,-999.0000,9,-999.0000,9,-999.0000,9,-999.0000,9,-999.0000,-999.000,   0.8362,     -999.0,     -999.0,9,     -999.0,9,     -999.0,9,     -999.0,9,     -999.0,20110313,       1648