BOTTLE,20220813CCHSIOAMB
EXPOCODE,SECT_ID,STNNBR,CASTNO,SAMPNO,BTLNBR,BTLNBR_FLAG_W,DATE,TIME,LATITUDE,LONGITUDE,DEPTH,CTDPRS,CTDTMP,CTDSAL,CTDSAL_FLAG_W,SALNTY,SALNTY_FLAG_W,CTDOXY,CTDOXY_FLAG_W,OXYGEN,OXYGEN_FLAG_W,SILCAT,SILCAT_FLAG_W,NITRAT,NITRAT_FLAG_W,NITRIT,NITRIT_FLAG_W,PHSPHT,PHSPHT_FLAG_W,CFC-11,CFC-11_FLAG_W,CFC-12,CFC-12_FLAG_W,CFC113,CFC113_FLAG_W,SF6,SF6_FLAG_W,TCARBN,TCARBN_FLAG_W,ALKALI,ALKALI_FLAG_W,PH_TOT,PH_TOT_FLAG_W,PH_TMP,TRITUM,TRITUM_FLAG_W,HELIUM,HELIUM_FLAG_W,DELHE3,DELHE3_FLAG_W,REFTMP,REFTMP_FLAG_W,DELC13,DELC13_FLAG_W,DELC14,DELC14_FLAG_W,C14ERR,NEON,NEON_FLAG_W,DELO18,DELO18_FLAG_W,POC,POC_FLAG_W,DOC,DOC_FLAG_W,TDN,TDN_FLAG_W,BTL_LAT,BTL_LON,TRITER,NEONER,SALTREF,SALTREF_FLAG_W,PIGMENTS,PIGMENTS_FLAG_W,LAB_DEN,LAB_DEN_FLAG_W,CDOM325,CDOM325_FLAG_W,CDOM340,CDOM340_FLAG_W,CDOM380,CDOM380_FLAG_W,CDOM412,CDOM412_FLAG_W,CDOM443,CDOM443_FLAG_W,CDOM490,CDOM490_FLAG_W,CDOM555,CDOM555_FLAG_W,CDOMSL,CDOMSL_FLAG_W,CDOMSN,CDOMSN_FLAG_W,HELIER,DELHER,THETA,LDEO_SAMPNO,ABSORBTION,ABSORBTION_FLAG_W,IMAGE_COUNT,IMAGE_COUNT_FLAG_W,CYTO_COUNT,CYTO_COUNT_FLAG_W,DELD,DELD_FLAG_W,DELDERR,BTL_DATE,BTL_TIME
,,,,,,,,,,,METERS,DBAR,ITS-90,PSS-78,,PSS-78,,UMOL/KG,,UMOL/KG,,UMOL/KG,,UMOL/KG,,UMOL/KG,,UMOL/KG,,PMOL/KG,,PMOL/KG,,PMOL/KG,,FMOL/KG,,UMOL/KG,,UMOL/KG,,,,DEG C,TU,,NMOL/KG,,PERCNT,,DEG C,,/MILLE,,/MILLE,,/MILLE,NMOL/KG,,/MILLE,,UG/KG,,UMOL/KG,,UMOL/KG,,,,TU,NMOL/KG,G/KG,,,,,,1/M,,1/M,,1/M,,1/M,,1/M,,1/M,,1/M,,1/NM,,1/NM,,NMOL/KG,PERCNT,DEG C,,,,,,,,/MILLE,,/MILLE,,
320620110219,       P15S,      78,          1,         21,         21,2,20110323,       0559,   -74.5256,  -177.4443,        552,     5.0,  -1.7532,  33.9876,2,  33.9346,3,    338.9,2,   338.6,2,   63.18,2,   26.68,2,    0.13,2,    1.91,2,   5.881,2,   3.150,2,   0.594,2,   2.7200,2,  2186.5,6,  2304.6,2,   7.6639,2,    25.00,   0.071,2,    2.054,2,  -0.954,2,  -1.7546,2,    1.10,2,  -137.5,2,     2.5,   9.254,2,   -0.37,2,-999.000,9, -999.00,9, -999.00,9, -74.5260,-177.4503,   0.005,      0.008,    34.0946,3,     -999.0,9,     -999.0,9,-999.0000,9,-999.0000,9,-999.0000,9,-999.0000,9,-999.0000,9,-999.0000,9,-999.0000,9,-999.0000,9,-999.0000,9,    0.000,   0.203,  -1.7533,50007801021,     -999.0,9,     -999.0,9,     -999.0,9,      -4.58,2,       0.26,20110323,       0626
320620110219,       P15S,      78,          1,         20,         20,2,20110323,       0559,   -74.5256,  -177.4443,        552,    34.4,  -1.7589,  33.9884,2,  33.9892,2,    338.9,2,   338.7,2,   63.37,2,   26.38,2,    0.10,2,    1.91,2,   5.894,2,   3.152,2,   0.603,2,   2.7710,2,  2188.0,2,  2304.8,2,   7.6629,6,    25.00,   0.086,2,    2.130,2,  -1.305,2,  -1.7587,2, -999.00,9,  -999.0,9,  -999.0,   9.551,2,   -0.62,2,-999.000,9, -999.00,9, -999.00,9, -74.5260,-177.4495,   0.005,      0.008,    34.1494,2,     -999.0,9,     -999.0,9,-999.0000,9,-999.0000,9,-999.0000,9,-999.0000,9,-999.0000,9,-999.0000,9,-999.0000,9,-999.0000,9,-999.0000,9,    0.000,   0.191,  -1.7596,50007801020,     -999.0,9,     -999.0,9,     -999.0,9,      -5.06,2,       0.28,20110323,       0624
320620110219,       P15S,      78,          1,         19,         19,2,20110323,       0559,   -74.5256,  -177.4443,        552,    35.6,  -1.7590,  33.9880,2,-999.0000,9,   -999.0,9,  -999.0,9, -999.00,9, -999.00,9, -999.00,9, -999.00,9,-999.000,9,-999.000,9,-999.000,9,-999.0000,9,  -999.0,9,  -999.0,9,-999.0000,9,  -999.00,-999.000,9,-999.0000,9,-999.000,9,  -1.7592,2, -999.00,9,  -999.0,9,  -999.0,-999.000,9, -999.00,9,-999.000,9, -999.00,9, -999.00,9, -74.5260,-177.4494,-999.000,     -999.0,     -999.0,9,     -999.0,1,     -999.0,9,-999.0000,9,-999.0000,9,-999.0000,9,-999.0000,9,-999.0000,9,-999.0000,9,-999.0000,9,-999.0000,9,-999.0000,9,-999.0000,-999.000,  -1.7597,     -999.0,     -999.0,9,     -999.0,9,     -999.0,9,     -999.0,9,     -999.0,20110323,       0624
320620110219,       P15S,      78,          1,         17,         17,2,20110323,       0559,   -74.5256,  -177.4443,        552,    60.7,  -1.7588,  33.9929,2,-999.0000,9,   -999.0,9,  -999.0,9, -999.00,9, -999.00,9, -999.00,9, -999.00,9,-999.000,9,-999.000,9,-999.000,9,-999.0000,9,  -999.0,9,  -999.0,9,-999.0000,9,  -999.00,-999.000,9,-999.0000,9,-999.000,9,  -1.7591,2, -999.00,9,  -999.0,9,  -999.0,-999.000,9, -999.00,9,-999.000,9, -999.00,9, -999.00,9, -74.5260,-177.4488,-999.000,     -999.0,     -999.0,9,     -999.0,1,     -999.0,9,-999.0000,9,-999.0000,9,-999.0000,9,-999.0000,9,-999.0000,9,-999.0000,9,-999.0000,9,-999.0000,9,-999.0000,9,-999.0000,-999.000,  -1.7600,     -999.0,     -999.0,9,     -999.0,9,     -999.0,9,     -999.0,9,     -999.0,20110323,       0622
320620110219,       P15S,      78,          1,         18,         18,2,20110323,       0559,   -74.5256,  -177.4443,        552,    60.9,  -1.7598,  33.9948,2,  33.9958,2,    338.6,2,   337.3,2,   63.75,2,   26.45,2,    0.10,2,    1.92,2,   5.835,2,   3.147,2,   0.596,2,   2.7900,2,  2188.4,2,  2304.7,6,   7.6619,2,    25.00,   0.074,2,    2.123,2,  -0.904,2,  -1.7601,2,    1.06,2,  -123.8,2,     2.4,   9.438,2,   -0.43,2,-999.000,9, -999.00,9, -999.00,9, -74.5260,-177.4489,   0.005,      0.008,    34.1561,2,     -999.0,9,     -999.0,9,-999.0000,9,-999.0000,9,-999.0000,9,-999.0000,9,-999.0000,9,-999.0000,9,-999.0000,9,-999.0000,9,-999.0000,9,    0.001,   0.196,  -1.7610,50007801018,     -999.0,9,     -999.0,9,     -999.0,9,      -4.97,2,       0.12,20110323,       0623
320620110219,       P15S,      78,          1,         15,         15,2,20110323,       0559,   -74.5256,  -177.4443,        552,    84.5,  -1.7834,  34.0335,2,-999.0000,9,   -999.0,9,  -999.0,9, -999.00,9, -999.00,9, -999.00,9, -999.00,9,-999.000,9,-999.000,9,-999.000,9,-999.0000,9,  -999.0,9,  -999.0,9,-999.0000,9,  -999.00,-999.000,9,-999.0000,9,-999.000,9,  -1.7834,2, -999.00,9,  -999.0,9,  -999.0,-999.000,9, -999.00,9,-999.000,9, -999.00,9, -999.00,9, -74.5261,-177.4484,-999.000,     -999.0,     -999.0,9,     -999.0,1,     -999.0,9,-999.0000,9,-999.0000,9,-999.0000,9,-999.0000,9,-999.0000,9,-999.0000,9,-999.0000,9,-999.0000,9,-999.0000,9,-999.0000,-999.000,  -1.7850,     -999.0,     -999.0,9,     -999.0,9,     -999.0,9,     -999.0,9,     -999.0,20110323,       0621
320620110219,       P15S,      78,          1,         16,         16,2,20110323,       0559,   -74.5256,  -177.4443,        552,    85.8,  -1.7832,  34.0336,2,  34.0376,2,    331.0,2,   331.3,2,   66.39,2,   26.76,2,    0.10,2,    1.93,2,   5.636,2,   3.033,2,   0.563,2,   2.4890,2,  2192.4,2,  2307.4,2,   7.6570,2,    25.00,-999.000,9,-999.0000,9,-999.000,9,  -1.7833,2,    1.05,2,  -123.1,2,     2.4,-999.000,9, -999.00,9,-999.000,9, -999.00,9, -999.00,9, -74.5261,-177.4484,-999.000,     -999.0,    34.1982,2,     -999.0,9,     -999.0,9,-999.0000,9,-999.0000,9,-999.0000,9,-999.0000,9,-999.0000,9,-999.0000,9,-999.0000,9,-999.0000,9,-999.0000,9,-999.0000,-999.000,  -1.7849,     -999.0,     -999.0,9,     -999.0,9,     -999.0,9,     -999.0,9,     -999.0,20110323,       0621
320620110219,       P15S,      78,          1,         14,         14,2,20110323,       0559,   -74.5256,  -177.4443,        552,   110.0,  -1.7808,  34.0356,2,  34.0361,2,    327.8,2,   330.6,2,   65.92,2,   26.84,2,    0.10,2,    1.92,2,   5.595,2,   3.042,2,   0.567,2,   2.7250,2,  2193.0,2,  2307.5,2,   7.6571,2,    25.00,   0.073,2,    2.055,2,  -0.618,2,  -1.7810,2,    1.10,2,  -126.6,2,     2.5,   9.287,2,   -0.60,2,-999.000,9, -999.00,9, -999.00,9, -74.5261,-177.4485,   0.006,      0.007,    34.1966,2,     -999.0,9,     -999.0,9,-999.0000,9,-999.0000,9,-999.0000,9,-999.0000,9,-999.0000,9,-999.0000,9,-999.0000,9,-999.0000,9,-999.0000,9,    0.001,   0.201,  -1.7830,50007801014,     -999.0,9,     -999.0,9,     -999.0,9,      -5.00,2,       0.21,20110323,       0619
320620110219,       P15S,      78,          1,         13,         13,2,20110323,       0559,   -74.5256,  -177.4443,        552,   110.6,  -1.7807,  34.0354,2,-999.0000,9,   -999.0,9,  -999.0,9, -999.00,9, -999.00,9, -999.00,9, -999.00,9,-999.000,9,-999.000,9,-999.000,9,-999.0000,9,  -999.0,9,  -999.0,9,-999.0000,9,  -999.00,-999.000,9,-999.0000,9,-999.000,9,  -1.7810,2, -999.00,9,  -999.0,9,  -999.0,-999.000,9, -999.00,9,-999.000,9, -999.00,9, -999.00,9, -74.5261,-177.4485,-999.000,     -999.0,     -999.0,9,     -999.0,1,     -999.0,9,-999.0000,9,-999.0000,9,-999.0000,9,-999.0000,9,-999.0000,9,-999.0000,9,-999.0000,9,-999.0000,9,-999.0000,9,-999.0000,-999.000,  -1.7829,     -999.0,     -999.0,9,     -999.0,9,     -999.0,9,     -999.0,9,     -999.0,20110323,       0619
320620110219,       P15S,      78,          1,         12,         12,2,20110323,       0559,   -74.5256,  -177.4443,        552,   133.3,  -1.7195,  34.0749,2,  34.0729,2,    319.5,2,   316.4,2,   68.18,2,   28.12,2,    0.11,2,    1.99,2,   5.206,2,   2.797,2,   0.506,2,   2.2540,2,  2198.5,2,  2308.3,2,   7.6391,2,    25.00,-999.000,9,-999.0000,9,-999.000,9,  -1.7198,2,    0.93,2,  -130.7,2,     2.4,-999.000,9, -999.00,9,-999.000,9, -999.00,9, -999.00,9, -74.5261,-177.4484,-999.000,     -999.0,    34.2335,2,     -999.0,9,     -999.0,9,-999.0000,9,-999.0000,9,-999.0000,9,-999.0000,9,-999.0000,9,-999.0000,9,-999.0000,9,-999.0000,9,-999.0000,9,-999.0000,-999.000,  -1.7222,     -999.0,     -999.0,9,     -999.0,9,     -999.0,9,     -999.0,9,     -999.0,20110323,       0617
320620110219,       P15S,      78,          1,         11,         11,2,20110323,       0559,   -74.5256,  -177.4443,        552,   161.4,  -1.4244,  34.2025,2,  34.1993,2,    279.4,2,   280.1,2,   75.40,2,   30.51,2,    0.09,2,    2.11,2,   3.954,2,   2.111,2,   0.373,2,-999.0000,9,  2216.7,2,  2315.1,2,   7.6043,2,    25.00,-999.000,9,-999.0000,9,-999.000,9,  -1.4247,2,    0.81,2,  -128.3,2,     2.5,-999.000,9, -999.00,9,-999.000,9, -999.00,9, -999.00,9, -74.5260,-177.4482,-999.000,     -999.0,    34.3606,2,     -999.0,9,     -999.0,9,-999.0000,9,-999.0000,9,-999.0000,9,-999.0000,9,-999.0000,9,-999.0000,9,-999.0000,9,-999.0000,9,-999.0000,9,-999.0000,-999.000,  -1.4282,     -999.0,     -999.0,9,     -999.0,9,     -999.0,9,     -999.0,9,     -999.0,20110323,       0616
320620110219,       P15S,      78,          1,         10,         37,2,20110323,       0559,   -74.5256,  -177.4443,        552,   184.8,  -1.2590,  34.2446,2,  34.2423,2,    274.3,2,   273.2,2,   77.01,2,   30.70,2,    0.07,2,    2.12,2,-999.000,9,-999.000,9,-999.000,9,-999.0000,9,  2221.0,2,  2318.1,2,   7.5976,2,    25.00,-999.000,9,-999.0000,9,-999.000,9,  -1.2502,2,    0.70,2,  -134.5,2,     2.7,-999.000,9, -999.00,9,-999.000,9, -999.00,9, -999.00,9, -74.5260,-177.4474,-999.000,     -999.0,    34.4038,2,     -999.0,9,     -999.0,9,-999.0000,9,-999.0000,9,-999.0000,9,-999.0000,9,-999.0000,9,-999.0000,9,-999.0000,9,-999.0000,9,-999.0000,9,-999.0000,-999.000,  -1.2637,     -999.0,     -999.0,9,     -999.0,9,     -999.0,9,     -999.0,9,     -999.0,20110323,       0614
320620110219,       P15S,      78,          1,          9,          9,2,20110323,       0559,   -74.5256,  -177.4443,        552,   209.7,  -1.2975,  34.2749,2,  34.2745,2,    272.9,2,   275.8,2,   78.51,2,   30.32,2,    0.09,2,    2.13,2,   3.850,2,   2.069,2,   0.369,2,   1.6320,2,  2222.7,2,  2321.1,2,   7.6019,2,    25.00,   0.035,2,    2.132,2,   2.919,2,  -1.2973,2,    0.82,2,  -132.1,2,     2.8,   9.453,2,   -0.50,2,-999.000,9, -999.00,9, -999.00,9, -74.5259,-177.4465,   0.006,      0.008,    34.4361,2,     -999.0,9,     -999.0,9,-999.0000,9,-999.0000,9,-999.0000,9,-999.0000,9,-999.0000,9,-999.0000,9,-999.0000,9,-999.0000,9,-999.0000,9,    0.000,   0.197,  -1.3028,50007801009,     -999.0,9,     -999.0,9,     -999.0,9,      -4.98,2,       0.24,20110323,       0613
320620110219,       P15S,      78,          1,          8,          8,2,20110323,       0559,   -74.5256,  -177.4443,        552,   236.4,  -1.2386,  34.3163,2,  34.3156,2,    275.6,2,   281.1,4,   79.87,2,   30.05,2,    0.11,2,    2.13,2,   3.928,2,   2.121,2,   0.383,2,   1.7080,2,  2224.9,2,  2324.1,2,   7.6044,2,    25.00,-999.000,9,-999.0000,9,-999.000,9,  -1.2392,2,    0.71,2,  -131.4,2,     2.4,-999.000,9, -999.00,9,-999.000,9, -999.00,9, -999.00,9, -74.5259,-177.4461,-999.000,     -999.0,    34.4774,2,     -999.0,9,     -999.0,9,-999.0000,9,-999.0000,9,-999.0000,9,-999.0000,9,-999.0000,9,-999.0000,9,-999.0000,9,-999.0000,9,-999.0000,9,-999.0000,-999.000,  -1.2448,     -999.0,     -999.0,9,     -999.0,9,     -999.0,9,     -999.0,9,     -999.0,20110323,       0611
320620110219,       P15S,      78,          1,          7,          7,2,20110323,       0559,   -74.5256,  -177.4443,        552,   265.1,  -1.2209,  34.3372,2,  34.3371,2,    273.7,2,   273.4,2,   80.93,2,   30.12,2,    0.12,2,    2.15,2,   3.839,2,   2.122,2,   0.366,2,   1.7520,2,  2227.9,2,  2325.3,2,   7.5986,2,    25.00,-999.000,9,-999.0000,9,-999.000,9,  -1.2208,2,    0.70,2,  -136.2,2,     2.8,-999.000,9, -999.00,9,-999.000,9, -999.00,9, -999.00,9, -74.5257,-177.4466,-999.000,     -999.0,    34.4990,2,     -999.0,9,     -999.0,9,-999.0000,9,-999.0000,9,-999.0000,9,-999.0000,9,-999.0000,9,-999.0000,9,-999.0000,9,-999.0000,9,-999.0000,9,-999.0000,-999.000,  -1.2279,     -999.0,     -999.0,9,     -999.0,9,     -999.0,9,     -999.0,9,     -999.0,20110323,       0610
320620110219,       P15S,      78,          1,          6,          6,2,20110323,       0559,   -74.5256,  -177.4443,        552,   314.3,   0.4468,  34.5234,2,  34.5235,2,    225.8,2,   214.9,2,   85.50,2,   32.17,2,    0.01,2,    2.23,2,   1.754,2,   0.953,2,   0.164,2,   0.7550,2,  2243.5,2,  2334.2,4,   7.5727,2,    25.00,   0.034,2,    2.053,2,   6.642,2,   0.4469,2,   -0.22,2,  -139.3,2,     2.5,   9.052,2,   -0.33,2,-999.000,9, -999.00,9, -999.00,9, -74.5257,-177.4466,   0.008,      0.008,    34.6863,2,     -999.0,9,     -999.0,9,-999.0000,9,-999.0000,9,-999.0000,9,-999.0000,9,-999.0000,9,-999.0000,9,-999.0000,9,-999.0000,9,-999.0000,9,    0.001,   0.220,   0.4337,50007801006,     -999.0,9,     -999.0,9,     -999.0,9,      -2.71,2,       0.14,20110323,       0608
320620110219,       P15S,      78,          1,          5,          5,2,20110323,       0559,   -74.5256,  -177.4443,        552,   366.6,   0.2562,  34.5877,2,  34.5790,2,    228.1,2,   265.7,3,   89.20,2,   31.80,2,    0.05,3,    2.21,2,   1.903,2,   1.020,2,   0.182,2,   0.8610,2,  2247.8,2,  2340.7,2,   7.5780,2,    25.00,-999.000,9,-999.0000,9,-999.000,9,   0.2648,2,    0.49,2,  -143.1,2,     2.9,-999.000,9, -999.00,9,-999.000,9, -999.00,9, -999.00,9, -74.5257,-177.4463,-999.000,     -999.0,    34.7420,2,     -999.0,9,     -999.0,9,-999.0000,9,-999.0000,9,-999.0000,9,-999.0000,9,-999.0000,9,-999.0000,9,-999.0000,9,-999.0000,9,-999.0000,9,-999.0000,-999.000,   0.2413,     -999.0,     -999.0,9,     -999.0,9,     -999.0,9,     -999.0,9,     -999.0,20110323,       0606
320620110219,       P15S,      78,          1,          4,          4,2,20110323,       0559,   -74.5256,  -177.4443,        552,   415.9,   0.1408,  34.6138,2,  34.6194,2,    207.4,2,   220.1,2,   91.65,2,   31.84,2,    0.04,3,    2.21,2,   1.783,2,   0.966,2,   0.152,2,   0.7790,2,  2251.1,2,  2343.5,2,   7.5798,2,    25.00,   0.001,2,    2.091,2,   6.416,2,   0.1523,2,    0.48,2,  -143.0,2,     3.1,   9.239,2,   -0.11,2,-999.000,9, -999.00,9, -999.00,9, -74.5257,-177.4462,   0.006,      0.008,    34.7826,2,     -999.0,9,     -999.0,9,-999.0000,9,-999.0000,9,-999.0000,9,-999.0000,9,-999.0000,9,-999.0000,9,-999.0000,9,-999.0000,9,-999.0000,9,    0.001,   0.218,   0.1241,50007801004,     -999.0,9,     -999.0,9,     -999.0,9,      -2.72,2,       0.08,20110323,       0604
320620110219,       P15S,      78,          1,          3,          3,2,20110323,       0559,   -74.5256,  -177.4443,        552,   466.6,  -0.6323,  34.5838,2,  34.5856,2,    244.2,2,   244.1,2,   89.50,2,   31.24,2,    0.07,3,    2.20,2,   2.827,2,   1.503,2,   0.265,2,   1.1970,2,  2248.8,2,  2342.1,2,   7.5841,2,    25.00,-999.000,9,-999.0000,9,-999.000,9,  -0.6338,2,    0.56,2,  -133.7,2,     2.4,-999.000,9, -999.00,9,-999.000,9, -999.00,9, -999.00,9, -74.5257,-177.4457,-999.000,     -999.0,    34.7487,2,     -999.0,9,     -999.0,9,-999.0000,9,-999.0000,9,-999.0000,9,-999.0000,9,-999.0000,9,-999.0000,9,-999.0000,9,-999.0000,9,-999.0000,9,-999.0000,-999.000,  -0.6481,     -999.0,     -999.0,9,     -999.0,9,     -999.0,9,     -999.0,9,     -999.0,20110323,       0602
320620110219,       P15S,      78,          1,          2,          2,2,20110323,       0559,   -74.5256,  -177.4443,        552,   508.9,  -0.4923,  34.5961,2,  34.5966,2,    242.3,2,   239.8,2,   90.46,2,   31.34,2,    0.06,3,    2.20,2,   2.618,2,   1.385,2,   0.242,2,   1.1220,2,  2249.5,6,  2342.2,6,   7.5826,2,    25.00,-999.000,9,-999.0000,9,-999.000,9,  -0.4933,2,    0.55,2,  -138.7,2,     2.5,-999.000,9, -999.00,9,-999.000,9, -999.00,9, -999.00,9, -74.5256,-177.4450,-999.000,     -999.0,    34.7597,2,     -999.0,9,     -999.0,9,-999.0000,9,-999.0000,9,-999.0000,9,-999.0000,9,-999.0000,9,-999.0000,9,-999.0000,9,-999.0000,9,-999.0000,9,-999.0000,-999.000,  -0.5104,     -999.0,     -999.0,9,     -999.0,9,     -999.0,9,     -999.0,9,     -999.0,20110323,       0600
320620110219,       P15S,      78,          1,          1,          1,2,20110323,       0559,   -74.5256,  -177.4443,        552,   548.1,  -0.4465,  34.5998,2,  34.6005,2,    238.9,2,   238.4,2,   90.51,2,   31.39,2,    0.06,3,    2.21,2,   2.568,2,   1.381,2,   0.222,2,   1.0350,2,  2250.1,2,  2343.5,2,   7.5828,6,    25.00,   0.020,2,    2.113,2,   4.495,3,  -0.4474,2,    0.57,2,  -143.8,2,     2.5,   9.355,2,   -0.32,2,-999.000,9, -999.00,9, -999.00,9, -74.5256,-177.4444,   0.005,      0.008,    34.7637,2,     -999.0,9,     -999.0,9,-999.0000,9,-999.0000,9,-999.0000,9,-999.0000,9,-999.0000,9,-999.0000,9,-999.0000,9,-999.0000,9,-999.0000,9,    0.001,   0.217,  -0.4664,50007801001,     -999.0,9,     -999.0,9,     -999.0,9,      -3.75,2,       0.14,20110323,       0559