BOTTLE,20220813CCHSIOAMB
EXPOCODE,SECT_ID,STNNBR,CASTNO,SAMPNO,BTLNBR,BTLNBR_FLAG_W,DATE,TIME,LATITUDE,LONGITUDE,DEPTH,CTDPRS,CTDTMP,CTDSAL,CTDSAL_FLAG_W,SALNTY,SALNTY_FLAG_W,CTDOXY,CTDOXY_FLAG_W,OXYGEN,OXYGEN_FLAG_W,SILCAT,SILCAT_FLAG_W,NITRAT,NITRAT_FLAG_W,NITRIT,NITRIT_FLAG_W,PHSPHT,PHSPHT_FLAG_W,CFC-11,CFC-11_FLAG_W,CFC-12,CFC-12_FLAG_W,CFC113,CFC113_FLAG_W,SF6,SF6_FLAG_W,TCARBN,TCARBN_FLAG_W,ALKALI,ALKALI_FLAG_W,PH_TOT,PH_TOT_FLAG_W,PH_TMP,TRITUM,TRITUM_FLAG_W,HELIUM,HELIUM_FLAG_W,DELHE3,DELHE3_FLAG_W,REFTMP,REFTMP_FLAG_W,DELC13,DELC13_FLAG_W,DELC14,DELC14_FLAG_W,C14ERR,NEON,NEON_FLAG_W,DELO18,DELO18_FLAG_W,POC,POC_FLAG_W,DOC,DOC_FLAG_W,TDN,TDN_FLAG_W,BTL_LAT,BTL_LON,TRITER,NEONER,SALTREF,SALTREF_FLAG_W,PIGMENTS,PIGMENTS_FLAG_W,LAB_DEN,LAB_DEN_FLAG_W,CDOM325,CDOM325_FLAG_W,CDOM340,CDOM340_FLAG_W,CDOM380,CDOM380_FLAG_W,CDOM412,CDOM412_FLAG_W,CDOM443,CDOM443_FLAG_W,CDOM490,CDOM490_FLAG_W,CDOM555,CDOM555_FLAG_W,CDOMSL,CDOMSL_FLAG_W,CDOMSN,CDOMSN_FLAG_W,HELIER,DELHER,THETA,LDEO_SAMPNO,ABSORBTION,ABSORBTION_FLAG_W,IMAGE_COUNT,IMAGE_COUNT_FLAG_W,CYTO_COUNT,CYTO_COUNT_FLAG_W,DELD,DELD_FLAG_W,DELDERR,BTL_DATE,BTL_TIME
,,,,,,,,,,,METERS,DBAR,ITS-90,PSS-78,,PSS-78,,UMOL/KG,,UMOL/KG,,UMOL/KG,,UMOL/KG,,UMOL/KG,,UMOL/KG,,PMOL/KG,,PMOL/KG,,PMOL/KG,,FMOL/KG,,UMOL/KG,,UMOL/KG,,,,DEG C,TU,,NMOL/KG,,PERCNT,,DEG C,,/MILLE,,/MILLE,,/MILLE,NMOL/KG,,/MILLE,,UG/KG,,UMOL/KG,,UMOL/KG,,,,TU,NMOL/KG,G/KG,,,,,,1/M,,1/M,,1/M,,1/M,,1/M,,1/M,,1/M,,1/NM,,1/NM,,NMOL/KG,PERCNT,DEG C,,,,,,,,/MILLE,,/MILLE,,
320620110219,       S04P,      18,          1,         36,         36,2,20110228,       2325,   -67.0007,   175.5840,       3094,     3.4,  -0.8666,  33.4678,2,  33.4681,2,    341.3,3,   346.3,2,   58.34,2,   26.38,2,    0.15,2,    1.69,2,   6.167,2,   3.334,2,   0.614,2,-999.0000,9,  2147.3,6,  2264.7,2,   7.6690,2,    25.00,   0.089,2,    1.944,2,  -2.182,2,  -0.8665,2,    1.15,2,  -124.3,2,     4.9,   8.795,2,   -0.33,2,-999.000,9,   45.57,2,   29.52,2, -67.0006, 175.5840,   0.005,      0.007,    33.6259,2,     -999.0,9,     -999.0,9,   0.0420,3,   0.0101,3,  -0.0206,4,  -0.0219,4,  -0.0254,4,  -0.0183,4,  -0.0158,4,   0.1517,4,   0.0934,4,    0.000,   0.198,  -0.8667,50001801036,     -999.0,9,     -999.0,9,     -999.0,9,      -3.63,2,       0.06,20110301,       0058
320620110219,       S04P,      18,          1,         35,         35,2,20110228,       2325,   -67.0007,   175.5840,       3094,    25.6,  -0.8853,  33.4694,2,  33.4701,2,    346.4,2,   345.8,2,   58.52,2,   26.32,2,    0.15,2,    1.70,2,   6.131,2,   3.326,2,   0.608,2,-999.0000,9,  2148.5,2,  2266.3,2,   7.6691,2,    25.00,   0.099,2,-999.0000,9,-999.000,9,  -0.8850,2, -999.00,9,  -999.0,9,  -999.0,-999.000,9,   -0.28,2,-999.000,9,   45.34,2,   29.72,2, -67.0006, 175.5840,   0.005,     -999.0,    33.6279,2,     -999.0,9,     -999.0,9,   0.0380,3,   0.0075,3,  -0.0165,4,  -0.0201,4,  -0.0241,4,  -0.0175,4,  -0.0152,4,   0.1672,4,   0.1003,4,-999.0000,-999.000,  -0.8860,     -999.0,     -999.0,9,     -999.0,9,     -999.0,9,      -3.60,2,       0.38,20110301,       0056
320620110219,       S04P,      18,          1,         34,         34,2,20110228,       2325,   -67.0007,   175.5840,       3094,    50.7,  -1.5289,  34.1187,2,  34.1042,2,    333.7,2,   314.4,2,   59.85,2,   27.96,2,    0.08,2,    1.83,2,   4.670,2,   2.543,2,   0.476,2,-999.0000,9,  2191.0,2,  2306.8,2,   7.6556,2,    25.00,   0.072,2,    2.132,2,   0.404,2,  -1.5358,2,    1.07,2,  -129.9,2,     2.0,   9.237,2,   -0.35,2,-999.000,9,   45.30,2,   30.76,2, -67.0006, 175.5841,   0.005,      0.008,    34.2650,2,     -999.0,9,     -999.0,9,   0.0560,3,   0.0208,3,  -0.0102,4,  -0.0156,4,  -0.0214,4,  -0.0158,4,  -0.0145,4,   0.1125,4,   0.0757,4,    0.001,   0.201,  -1.5300,50001801034,     -999.0,9,     -999.0,9,     -999.0,9,      -3.48,2,       0.17,20110301,       0055
320620110219,       S04P,      18,          1,         33,         33,2,20110228,       2325,   -67.0007,   175.5840,       3094,    74.9,  -1.6892,  34.2366,2,  34.2322,2,    299.8,2,   297.2,2,   62.08,2,   29.16,2,    0.12,2,    1.92,2,   4.428,2,   2.380,2,   0.438,2,-999.0000,9,  2204.0,2,  2312.9,6,   7.6304,2,    25.00,-999.000,9,-999.0000,9,-999.000,9,  -1.6848,2,    0.97,2,  -127.6,2,     1.9,-999.000,9, -999.00,9,-999.000,9,   44.75,2,   31.75,2, -67.0006, 175.5840,-999.000,     -999.0,    34.3936,2,     -999.0,9,     -999.0,9,   0.0588,3,   0.0231,3,  -0.0108,4,  -0.0162,4,  -0.0220,4,  -0.0165,4,  -0.0149,4,   0.0940,4,   0.0717,4,-999.0000,-999.000,  -1.6907,     -999.0,     -999.0,9,     -999.0,9,     -999.0,9,     -999.0,9,     -999.0,20110301,       0053
320620110219,       S04P,      18,          1,         32,         32,2,20110228,       2325,   -67.0007,   175.5840,       3094,    99.7,  -1.3479,  34.2867,2,  34.2921,2,    274.1,2,   279.9,2,   65.13,2,   30.12,2,    0.10,2,    2.00,2,   4.021,2,   2.200,2,   0.412,2,-999.0000,9,  2213.8,2,  2316.1,2,   7.6108,6,    25.00,-999.000,9,-999.0000,9,-999.000,9,  -1.3621,2,    0.87,2,  -130.2,2,     1.9,-999.000,9, -999.00,9,-999.000,9,   44.23,2,   32.70,2, -67.0006, 175.5840,-999.000,     -999.0,    34.4538,2,     -999.0,9,     -999.0,9,   0.0594,3,   0.0228,3,  -0.0109,4,  -0.0158,4,  -0.0219,4,  -0.0165,4,  -0.0149,4,   0.1052,4,   0.0732,4,-999.0000,-999.000,  -1.3503,     -999.0,     -999.0,9,     -999.0,9,     -999.0,9,     -999.0,9,     -999.0,20110301,       0052
320620110219,       S04P,      18,          1,         31,         31,2,20110228,       2325,   -67.0007,   175.5840,       3094,   124.2,  -0.4740,  34.3949,2,  34.3981,2,    227.9,2,   248.0,2,   73.31,2,   31.40,2,    0.05,2,    2.08,2,   2.937,2,   1.622,2,   0.293,2,-999.0000,9,  2230.0,2,  2324.7,2,   7.5899,2,    25.00,   0.035,2,    2.008,2,   3.967,2,  -0.4888,2,    0.67,2,  -138.9,2,     4.2,   8.868,2,   -0.22,2,-999.000,9,   43.73,2,   34.45,2, -67.0006, 175.5841,   0.005,      0.010,    34.5603,2,     -999.0,9,     -999.0,9,   0.0674,3,   0.0284,3,  -0.0089,4,  -0.0137,4,  -0.0206,4,  -0.0159,4,  -0.0145,4,   0.0915,4,   0.0674,4,    0.001,   0.208,  -0.4779,50001801031,     -999.0,9,     -999.0,9,     -999.0,9,      -2.62,2,       0.28,20110301,       0051
320620110219,       S04P,      18,          1,         30,         30,2,20110228,       2325,   -67.0007,   175.5840,       3094,   149.3,   0.4639,  34.5058,2,  34.4980,2,    209.2,2,   218.3,2,   83.89,2,   32.43,2,    0.03,2,    2.15,2,   1.846,2,   1.031,2,   0.189,2,-999.0000,9,  2241.6,2,  2329.0,2,   7.5731,2,    25.00,-999.000,9,-999.0000,9,-999.000,9,   0.4613,2,    0.56,2,  -143.2,2,     3.5,-999.000,9, -999.00,9,-999.000,9,   43.22,2,   35.54,2, -67.0006, 175.5841,-999.000,     -999.0,    34.6607,2,     -999.0,9,     -999.0,9,   0.0725,3,   0.0332,3,  -0.0041,4,  -0.0128,4,  -0.0204,4,  -0.0160,4,  -0.0148,4,   0.0886,4,   0.0596,4,-999.0000,-999.000,   0.4579,     -999.0,     -999.0,9,     -999.0,9,     -999.0,9,     -999.0,9,     -999.0,20110301,       0049
320620110219,       S04P,      18,          1,         29,         29,2,20110228,       2325,   -67.0007,   175.5840,       3094,   175.6,   0.9126,  34.5784,2,  34.5786,2,    199.9,2,   202.5,2,   85.98,2,   32.68,2,    0.02,2,    2.18,2,   1.187,2,   0.674,2,   0.120,2,-999.0000,9,  2250.1,2,  2335.0,2,   7.5671,2,    25.00,-999.000,9,    2.142,4,   6.858,2,   0.9008,2,    0.48,2,  -142.4,2,     3.0,   9.363,2,   -0.14,2,-999.000,9,   42.50,2,   35.36,2, -67.0006, 175.5841,-999.000,      0.007,    34.7416,2,     -999.0,9,     -999.0,9,   0.0768,2,   0.0365,3,  -0.0041,4,  -0.0119,4,  -0.0197,4,  -0.0156,4,  -0.0146,4,   0.0888,4,   0.0577,4,    0.001,   0.199,   0.9048,50001801029,     -999.0,9,     -999.0,9,     -999.0,9,      -1.78,2,       0.11,20110301,       0048
320620110219,       S04P,      18,          1,         28,         28,2,20110228,       2325,   -67.0007,   175.5840,       3094,   197.7,   1.1578,  34.6234,2,  34.6239,2,    194.6,2,   194.2,2,   89.11,2,   32.69,2,    0.02,2,    2.18,2,-999.000,9,-999.000,9,-999.000,9,-999.0000,9,  2252.0,2,  2338.7,2,   7.5652,2,    25.00,-999.000,9,-999.0000,9,-999.000,9,   1.1578,2,    0.43,2,  -141.8,2,     2.5,-999.000,9, -999.00,9,-999.000,9,   42.08,2,   35.75,2, -67.0006, 175.5841,-999.000,     -999.0,    34.7871,2,     -999.0,9,     -999.0,9,   0.0792,2,   0.0384,3,  -0.0013,4,  -0.0107,4,  -0.0191,4,  -0.0154,4,  -0.0146,4,   0.0685,4,   0.0548,4,-999.0000,-999.000,   1.1486,     -999.0,     -999.0,9,     -999.0,9,     -999.0,9,     -999.0,9,     -999.0,20110301,       0046
320620110219,       S04P,      18,          1,         27,         27,2,20110228,       2325,   -67.0007,   175.5840,       3094,   251.0,   1.4175,  34.6816,2,  34.6819,2,    188.3,2,   188.5,2,   92.36,2,   32.53,2,    0.01,2,    2.17,2,   0.512,2,   0.274,2,   0.043,2,-999.0000,9,  2253.3,2,  2344.8,2,   7.5689,2,    25.00,   0.001,2,    1.984,2,   8.360,2,   1.4183,2,    0.43,2,  -143.5,2,     2.5,   8.631,2,   -0.12,2,-999.000,9,   41.69,2,   35.71,2, -67.0006, 175.5840,   0.004,      0.007,    34.8455,2,     -999.0,9,     -999.0,9,-999.0000,9,-999.0000,9,-999.0000,9,-999.0000,9,-999.0000,9,-999.0000,9,-999.0000,9,-999.0000,9,-999.0000,9,    0.000,   0.213,   1.4051,50001801027,     -999.0,9,     -999.0,9,     -999.0,9,      -1.38,2,       0.36,20110301,       0044
320620110219,       S04P,      18,          1,         26,         26,2,20110228,       2325,   -67.0007,   175.5840,       3094,   298.9,   1.4681,  34.7007,2,  34.7007,2,    186.8,2,   187.4,2,   93.27,2,   32.44,2,    0.00,2,    2.18,2,-999.000,9,-999.000,9,-999.000,9,-999.0000,9,  2257.7,2,  2345.5,2,   7.5715,2,    25.00,-999.000,9,-999.0000,9,-999.000,9,   1.4693,2,    0.44,2,  -145.8,2,     2.3,-999.000,9, -999.00,9,-999.000,9,   41.41,2,   35.44,2, -67.0006, 175.5840,-999.000,     -999.0,    34.8644,2,     -999.0,9,     -999.0,9,-999.0000,9,-999.0000,9,-999.0000,9,-999.0000,9,-999.0000,9,-999.0000,9,-999.0000,9,-999.0000,9,-999.0000,9,-999.0000,-999.000,   1.4531,     -999.0,     -999.0,9,     -999.0,9,     -999.0,9,     -999.0,9,     -999.0,20110301,       0043
320620110219,       S04P,      18,          1,         25,         25,2,20110228,       2325,   -67.0007,   175.5840,       3094,   349.5,   1.5282,  34.7192,2,  34.7184,2,    186.3,2,   186.2,2,   94.27,2,   32.25,2,    0.00,2,    2.17,2,   0.329,2,   0.169,2,   0.026,2,-999.0000,9,  2256.7,2,  2347.5,2,   7.5730,2,    25.00,-999.000,9,-999.0000,9,-999.000,9,   1.5278,2,    0.42,2,  -147.0,2,     2.5,-999.000,9, -999.00,9,-999.000,9,   41.35,2,   35.45,2, -67.0006, 175.5840,-999.000,     -999.0,    34.8821,2,     -999.0,9,     -999.0,9,   0.0849,2,   0.0432,3,   0.0012,3,  -0.0091,4,  -0.0178,4,  -0.0146,4,  -0.0143,4,   0.0617,4,   0.0507,4,-999.0000,-999.000,   1.5103,     -999.0,     -999.0,9,     -999.0,9,     -999.0,9,     -999.0,9,     -999.0,20110301,       0041
320620110219,       S04P,      18,          1,         24,         24,2,20110228,       2325,   -67.0007,   175.5840,       3094,   400.4,   1.4995,  34.7245,2,  34.7247,2,    186.7,2,   187.1,2,   96.72,2,   32.18,2,    0.00,2,    2.17,2,-999.000,9,-999.000,9,-999.000,9,-999.0000,9,  2257.6,2,  2348.4,2,   7.5754,2,    25.00,-999.000,9,-999.0000,9,-999.000,9,   1.4994,2,    0.43,2,  -146.7,2,     2.5,-999.000,9, -999.00,9,-999.000,9,   41.41,2,   35.52,2, -67.0006, 175.5840,-999.000,     -999.0,    34.8884,2,     -999.0,9,     -999.0,9,-999.0000,9,-999.0000,9,-999.0000,9,-999.0000,9,-999.0000,9,-999.0000,9,-999.0000,9,-999.0000,9,-999.0000,9,-999.0000,-999.000,   1.4789,     -999.0,     -999.0,9,     -999.0,9,     -999.0,9,     -999.0,9,     -999.0,20110301,       0039
320620110219,       S04P,      18,          1,         23,         23,2,20110228,       2325,   -67.0007,   175.5840,       3094,   449.8,   1.4174,  34.7228,2,  34.7217,2,    188.5,2,   188.8,2,   99.62,2,   32.20,2,    0.00,2,    2.17,2,   0.249,2,   0.123,2,   0.020,2,-999.0000,9,  2257.6,2,  2349.7,2,   7.5763,2,    25.00,   0.001,2,    2.083,2,   8.854,2,   1.4170,2,    0.44,2,  -158.3,2,     2.6,   9.072,2,   -0.11,2,-999.000,9,   40.90,2,   35.26,2, -67.0006, 175.5840,   0.004,      0.007,    34.8854,2,     -999.0,9,     -999.0,9,-999.0000,9,-999.0000,9,-999.0000,9,-999.0000,9,-999.0000,9,-999.0000,9,-999.0000,9,-999.0000,9,-999.0000,9,    0.000,   0.200,   1.3944,50001801023,     -999.0,9,     -999.0,9,     -999.0,9,      -2.08,2,       0.25,20110301,       0037
320620110219,       S04P,      18,          1,         22,         22,2,20110228,       2325,   -67.0007,   175.5840,       3094,   499.4,   1.3866,  34.7252,2,  34.7248,2,    188.6,2,   187.9,2,  100.99,2,   32.16,2,    0.00,2,    2.16,2,-999.000,9,-999.000,9,-999.000,9,-999.0000,9,  2258.8,2,  2349.9,2,   7.5773,2,    25.00,-999.000,9,-999.0000,9,-999.000,9,   1.3866,2,    0.44,2,  -159.5,2,     2.5,-999.000,9, -999.00,9,-999.000,9,   40.46,2,   35.23,2, -67.0006, 175.5840,-999.000,     -999.0,    34.8886,2,     -999.0,9,     -999.0,9,   0.0827,2,   0.0416,3,   0.0006,3,  -0.0096,4,  -0.0181,4,  -0.0147,4,  -0.0143,4,   0.0658,4,   0.0517,4,-999.0000,-999.000,   1.3610,     -999.0,     -999.0,9,     -999.0,9,     -999.0,9,     -999.0,9,     -999.0,20110301,       0036
320620110219,       S04P,      18,          1,         21,         21,2,20110228,       2325,   -67.0007,   175.5840,       3094,   600.5,   1.3183,  34.7253,2,  34.7250,2,    188.7,2,   188.7,2,  104.44,2,   32.20,2,    0.00,2,    2.18,2,   0.174,2,   0.091,2,   0.016,2,-999.0000,9,  2261.9,2,  2352.2,2,   7.5779,2,    25.00,   0.001,2,    2.030,2,   9.667,2,   1.3185,2,    0.40,2,  -156.4,2,     2.5,   8.847,2,   -0.09,2,-999.000,9,   40.62,2,   35.11,2, -67.0007, 175.5840,   0.007,      0.007,    34.8887,2,     -999.0,9,     -999.0,9,-999.0000,9,-999.0000,9,-999.0000,9,-999.0000,9,-999.0000,9,-999.0000,9,-999.0000,9,-999.0000,9,-999.0000,9,    0.000,   0.201,   1.2873,50001801021,     -999.0,9,     -999.0,9,     -999.0,9,      -1.50,2,       0.07,20110301,       0033
320620110219,       S04P,      18,          1,         20,         20,2,20110228,       2325,   -67.0007,   175.5840,       3094,   700.4,   1.2484,  34.7254,2,  34.7258,2,    190.1,2,   189.8,2,  106.50,2,   32.27,2,    0.00,2,    2.21,2,   0.164,2,   0.079,2,   0.015,2,-999.0000,9,  2262.3,2,  2353.0,6,   7.5783,2,    25.00,-999.000,9,-999.0000,9,-999.000,9,   1.2480,2,    0.40,2,  -161.6,2,     2.5,-999.000,9, -999.00,9,-999.000,9,   40.37,2,   35.05,2, -67.0006, 175.5840,-999.000,     -999.0,    34.8895,2,     -999.0,9,     -999.0,9,-999.0000,9,-999.0000,9,-999.0000,9,-999.0000,9,-999.0000,9,-999.0000,9,-999.0000,9,-999.0000,9,-999.0000,9,-999.0000,-999.000,   1.2121,     -999.0,     -999.0,9,     -999.0,9,     -999.0,9,     -999.0,9,     -999.0,20110301,       0030
320620110219,       S04P,      18,          1,         19,         19,2,20110228,       2325,   -67.0007,   175.5840,       3094,   799.5,   1.1864,  34.7238,2,  34.7238,2,    192.1,2,   191.8,2,  108.71,2,   32.28,2,    0.00,2,    2.18,2,   0.138,2,   0.069,2,   0.010,2,-999.0000,9,  -999.0,9,  -999.0,9,-999.0000,9,  -999.00,   0.004,2,    2.150,4,   9.556,2,   1.1866,2, -999.00,9,  -999.0,9,  -999.0,   9.318,2,   -0.06,2,-999.000,9,   40.83,2,   35.36,2, -67.0007, 175.5840,   0.004,      0.007,    34.8875,2,     -999.0,9,     -999.0,9,   0.0806,2,   0.0401,3,  -0.0007,4,  -0.0105,4,  -0.0189,4,  -0.0154,4,  -0.0147,4,   0.0687,4,   0.0532,4,    0.001,   0.200,   1.1446,50001801019,     -999.0,9,     -999.0,9,     -999.0,9,      -1.53,2,       0.06,20110301,       0028
320620110219,       S04P,      18,          1,         18,         18,2,20110228,       2325,   -67.0007,   175.5840,       3094,   899.0,   1.1226,  34.7227,2,  34.7224,2,    193.6,2,   193.1,2,  110.76,2,   32.29,2,    0.00,2,    2.18,2,   0.129,2,   0.062,2,   0.010,2,-999.0000,9,  2262.7,2,  2354.2,2,   7.5826,2,    25.00,-999.000,9,-999.0000,9,-999.000,9,   1.1232,2,    0.45,2,  -164.3,2,     3.4,-999.000,9, -999.00,9,-999.000,9,   41.01,2,   35.08,2, -67.0007, 175.5840,-999.000,     -999.0,    34.8861,2,     -999.0,9,     -999.0,9,-999.0000,9,-999.0000,9,-999.0000,9,-999.0000,9,-999.0000,9,-999.0000,9,-999.0000,9,-999.0000,9,-999.0000,9,-999.0000,-999.000,   1.0754,     -999.0,     -999.0,9,     -999.0,9,     -999.0,9,     -999.0,9,     -999.0,20110301,       0025
320620110219,       S04P,      18,          1,         17,         17,2,20110228,       2325,   -67.0007,   175.5840,       3094,  1001.4,   1.0560,  34.7203,2,  34.7204,2,    195.4,2,   195.4,2,  112.99,2,   32.35,2,    0.00,2,    2.17,2,   0.112,2,   0.054,2,   0.007,2,-999.0000,9,  -999.0,9,  -999.0,9,-999.0000,9,  -999.00,   0.001,2,    2.265,4,   8.619,2,   1.0561,2, -999.00,9,  -999.0,9,  -999.0,   9.718,4,    0.00,2,-999.000,9,   40.99,2,   34.47,2, -67.0007, 175.5840,   0.004,      0.007,    34.8842,2,     -999.0,9,     -999.0,9,-999.0000,9,-999.0000,9,-999.0000,9,-999.0000,9,-999.0000,9,-999.0000,9,-999.0000,9,-999.0000,9,-999.0000,9,    0.001,   0.201,   1.0030,50001801017,     -999.0,9,     -999.0,9,     -999.0,9,      -1.46,2,       0.13,20110301,       0022
320620110219,       S04P,      18,          1,         16,         16,2,20110228,       2325,   -67.0007,   175.5840,       3094,  1099.2,   0.9988,  34.7191,2,  34.7196,2,    196.9,2,   196.5,2,  115.25,2,   32.42,2,    0.00,2,    2.18,2,-999.000,9,-999.000,9,-999.000,9,-999.0000,9,  2261.8,2,  2357.3,2,   7.5865,2,    25.00,-999.000,9,-999.0000,9,-999.000,9,   0.9987,2,    0.42,2,  -163.1,2,     2.9,-999.000,9, -999.00,9,-999.000,9,   40.93,2,   34.60,2, -67.0007, 175.5840,-999.000,     -999.0,    34.8833,2,     -999.0,9,     -999.0,9,   0.0756,2,   0.0359,3,  -0.0023,4,  -0.0118,4,  -0.0196,4,  -0.0157,4,  -0.0147,4,   0.0739,4,   0.0567,4,-999.0000,-999.000,   0.9403,     -999.0,     -999.0,9,     -999.0,9,     -999.0,9,     -999.0,9,     -999.0,20110301,       0020
320620110219,       S04P,      18,          1,         15,         15,2,20110228,       2325,   -67.0007,   175.5840,       3094,  1199.8,   0.9350,  34.7168,2,  34.7167,2,    198.2,2,   198.6,2,  116.86,2,   32.50,2,    0.00,2,    2.19,2,   0.100,2,   0.048,2,   0.005,2,-999.0000,9,  -999.0,9,  -999.0,9,-999.0000,9,  -999.00,   0.001,2,    2.119,2,   9.399,2,   0.9349,2, -999.00,9,  -999.0,9,  -999.0,   9.174,2,   -0.10,2,-999.000,9,   40.80,2,   34.98,2, -67.0007, 175.5840,   0.004,      0.008,    34.8804,2,     -999.0,9,     -999.0,9,-999.0000,9,-999.0000,9,-999.0000,9,-999.0000,9,-999.0000,9,-999.0000,9,-999.0000,9,-999.0000,9,-999.0000,9,    0.001,   0.214,   0.8707,50001801015,     -999.0,9,     -999.0,9,     -999.0,9,      -1.66,2,       0.06,20110301,       0017
320620110219,       S04P,      18,          1,         14,         14,2,20110228,       2325,   -67.0007,   175.5840,       3094,  1300.8,   0.8836,  34.7140,2,  34.7143,2,    199.5,2,   199.2,2,  118.21,2,   32.41,2,    0.00,2,    2.19,2,   0.101,2,   0.052,2,   0.007,2,-999.0000,9,  2262.3,2,  2358.2,2,   7.5887,2,    25.00,-999.000,9,-999.0000,9,-999.000,9,   0.8839,2,    0.49,2,  -158.4,2,     2.4,-999.000,9, -999.00,9,-999.000,9,   40.91,2,   35.27,2, -67.0007, 175.5840,-999.000,     -999.0,    34.8780,2,     -999.0,9,     -999.0,9,-999.0000,9,-999.0000,9,-999.0000,9,-999.0000,9,-999.0000,9,-999.0000,9,-999.0000,9,-999.0000,9,-999.0000,9,-999.0000,-999.000,   0.8133,     -999.0,     -999.0,9,     -999.0,9,     -999.0,9,     -999.0,9,     -999.0,20110301,       0014