BOTTLE,20220813CCHSIOAMB
EXPOCODE,SECT_ID,STNNBR,CASTNO,SAMPNO,BTLNBR,BTLNBR_FLAG_W,DATE,TIME,LATITUDE,LONGITUDE,DEPTH,CTDPRS,CTDTMP,CTDSAL,CTDSAL_FLAG_W,SALNTY,SALNTY_FLAG_W,CTDOXY,CTDOXY_FLAG_W,OXYGEN,OXYGEN_FLAG_W,SILCAT,SILCAT_FLAG_W,NITRAT,NITRAT_FLAG_W,NITRIT,NITRIT_FLAG_W,PHSPHT,PHSPHT_FLAG_W,CFC-11,CFC-11_FLAG_W,CFC-12,CFC-12_FLAG_W,CFC113,CFC113_FLAG_W,SF6,SF6_FLAG_W,TCARBN,TCARBN_FLAG_W,ALKALI,ALKALI_FLAG_W,PH_TOT,PH_TOT_FLAG_W,PH_TMP,TRITUM,TRITUM_FLAG_W,HELIUM,HELIUM_FLAG_W,DELHE3,DELHE3_FLAG_W,REFTMP,REFTMP_FLAG_W,DELC13,DELC13_FLAG_W,DELC14,DELC14_FLAG_W,C14ERR,NEON,NEON_FLAG_W,DELO18,DELO18_FLAG_W,POC,POC_FLAG_W,DOC,DOC_FLAG_W,TDN,TDN_FLAG_W,BTL_LAT,BTL_LON,TRITER,NEONER,SALTREF,SALTREF_FLAG_W,PIGMENTS,PIGMENTS_FLAG_W,LAB_DEN,LAB_DEN_FLAG_W,CDOM325,CDOM325_FLAG_W,CDOM340,CDOM340_FLAG_W,CDOM380,CDOM380_FLAG_W,CDOM412,CDOM412_FLAG_W,CDOM443,CDOM443_FLAG_W,CDOM490,CDOM490_FLAG_W,CDOM555,CDOM555_FLAG_W,CDOMSL,CDOMSL_FLAG_W,CDOMSN,CDOMSN_FLAG_W,HELIER,DELHER,THETA,LDEO_SAMPNO,ABSORBTION,ABSORBTION_FLAG_W,IMAGE_COUNT,IMAGE_COUNT_FLAG_W,CYTO_COUNT,CYTO_COUNT_FLAG_W,DELD,DELD_FLAG_W,DELDERR,BTL_DATE,BTL_TIME
,,,,,,,,,,,METERS,DBAR,ITS-90,PSS-78,,PSS-78,,UMOL/KG,,UMOL/KG,,UMOL/KG,,UMOL/KG,,UMOL/KG,,UMOL/KG,,PMOL/KG,,PMOL/KG,,PMOL/KG,,FMOL/KG,,UMOL/KG,,UMOL/KG,,,,DEG C,TU,,NMOL/KG,,PERCNT,,DEG C,,/MILLE,,/MILLE,,/MILLE,NMOL/KG,,/MILLE,,UG/KG,,UMOL/KG,,UMOL/KG,,,,TU,NMOL/KG,G/KG,,,,,,1/M,,1/M,,1/M,,1/M,,1/M,,1/M,,1/M,,1/NM,,1/NM,,NMOL/KG,PERCNT,DEG C,,,,,,,,/MILLE,,/MILLE,,
320620110219,       S04P,     127,          1,         13,         13,2,20110416,       1008,   -67.0000,   -81.6330,       4147,  1465.5,   1.4246,  34.7297,2,  34.7303,2,    192.6,2,   192.6,2,  100.66,2,   31.29,2,    0.00,2,    2.19,2,-999.000,9,-999.000,9,-999.000,9,-999.0000,9,  -999.0,9,  -999.0,9,-999.0000,9,  -999.00,-999.000,9,-999.0000,9,-999.000,9,   1.4243,2, -999.00,9,  -999.0,9,  -999.0,-999.000,9, -999.00,9,-999.000,9,   39.25,2,   33.63,2, -67.0000, -81.6330,-999.000,     -999.0,    34.8940,2,     -999.0,9,     -999.0,1,-999.0000,9,-999.0000,9,-999.0000,9,-999.0000,9,-999.0000,9,-999.0000,9,-999.0000,9,-999.0000,9,-999.0000,9,-999.0000,-999.000,   1.3371,     -999.0,     -999.0,9,     -999.0,9,     -999.0,9,     -999.0,9,     -999.0,20110416,       1105
320620110219,       S04P,     127,          1,         12,         12,2,20110416,       1008,   -67.0000,   -81.6330,       4147,  1565.1,   1.3566,  34.7284,2,  34.7287,2,    193.7,2,   193.4,2,  102.53,2,   31.31,2,    0.00,2,    2.19,2,   0.131,2,   0.056,2,   0.014,2,   0.0430,2,  2259.4,2,  2359.2,2,   7.5987,2,    25.00,-999.000,9,-999.0000,9,-999.000,9,   1.3565,2, -999.00,9,  -999.0,9,  -999.0,-999.000,9, -999.00,9,-999.000,9,   39.71,2,   33.67,2, -67.0000, -81.6330,-999.000,     -999.0,    34.8925,2,     -999.0,9,     -999.0,1,-999.0000,9,-999.0000,9,-999.0000,9,-999.0000,9,-999.0000,9,-999.0000,9,-999.0000,9,-999.0000,9,-999.0000,9,-999.0000,-999.000,   1.2627,     -999.0,     -999.0,9,     -999.0,9,     -999.0,9,     -999.0,9,     -999.0,20110416,       1102
320620110219,       S04P,     127,          1,         11,         11,2,20110416,       1008,   -67.0000,   -81.6330,       4147,  1734.9,   1.2487,  34.7255,2,  34.7260,2,    195.2,2,   195.2,2,  106.23,2,   31.52,2,    0.00,2,    2.21,2,-999.000,9,-999.000,9,-999.000,9,-999.0000,9,  -999.0,9,  -999.0,9,-999.0000,9,  -999.00,-999.000,9,-999.0000,9,-999.000,9,   1.2490,2, -999.00,9,  -999.0,9,  -999.0,-999.000,9, -999.00,9,-999.000,9,   39.50,2,   33.79,2, -67.0000, -81.6330,-999.000,     -999.0,    34.8897,2,     -999.0,9,     -999.0,1,-999.0000,9,-999.0000,9,-999.0000,9,-999.0000,9,-999.0000,9,-999.0000,9,-999.0000,9,-999.0000,9,-999.0000,9,-999.0000,-999.000,   1.1437,     -999.0,     -999.0,9,     -999.0,9,     -999.0,9,     -999.0,9,     -999.0,20110416,       1059
320620110219,       S04P,     127,          1,         10,         37,2,20110416,       1008,   -67.0000,   -81.6330,       4147,  1934.8,   1.1334,  34.7219,2,  34.7225,2,    197.3,2,   197.6,2,  109.86,2,   31.65,2,    0.00,2,    2.21,2,-999.000,9,-999.000,9,-999.000,9,-999.0000,9,  -999.0,9,  -999.0,9,-999.0000,9,  -999.00,-999.000,9,-999.0000,9,-999.000,9,   1.1334,2, -999.00,9,  -999.0,9,  -999.0,-999.000,9, -999.00,9,-999.000,9,   38.97,2,   34.36,2, -67.0000, -81.6330,-999.000,     -999.0,    34.8862,2,     -999.0,9,     -999.0,1,-999.0000,9,-999.0000,9,-999.0000,9,-999.0000,9,-999.0000,9,-999.0000,9,-999.0000,9,-999.0000,9,-999.0000,9,-999.0000,-999.000,   1.0149,     -999.0,     -999.0,9,     -999.0,9,     -999.0,9,     -999.0,9,     -999.0,20110416,       1054
320620110219,       S04P,     127,          1,          9,          9,2,20110416,       1008,   -67.0000,   -81.6330,       4147,  2165.3,   1.0076,  34.7175,2,  34.7176,2,    200.0,2,   200.0,2,  113.79,2,   31.77,2,    0.00,2,    2.22,2,-999.000,9,-999.000,9,-999.000,9,-999.0000,9,  2261.0,2,  2361.7,2,   7.6016,2,    25.00,-999.000,9,-999.0000,9,-999.000,9,   1.0086,2, -999.00,9,  -999.0,9,  -999.0,-999.000,9, -999.00,9,-999.000,9,   38.81,2,   34.53,2, -67.0000, -81.6330,-999.000,     -999.0,    34.8813,2,     -999.0,9,     -999.0,1,-999.0000,9,-999.0000,9,-999.0000,9,-999.0000,9,-999.0000,9,-999.0000,9,-999.0000,9,-999.0000,9,-999.0000,9,-999.0000,-999.000,   0.8731,     -999.0,     -999.0,9,     -999.0,9,     -999.0,9,     -999.0,9,     -999.0,20110416,       1049
320620110219,       S04P,     127,          1,          8,          8,2,20110416,       1008,   -67.0000,   -81.6330,       4147,  2415.3,   0.8848,  34.7131,2,  34.7135,2,    202.5,2,   202.9,2,  117.94,2,   31.93,2,    0.00,2,    2.23,2,   0.118,2,   0.056,2,   0.009,2,   0.0140,2,  -999.0,9,  -999.0,9,-999.0000,9,  -999.00,-999.000,9,-999.0000,9,-999.000,9,   0.8855,2, -999.00,9,  -999.0,9,  -999.0,-999.000,9, -999.00,9,-999.000,9,   39.26,2,   34.70,2, -67.0000, -81.6330,-999.000,     -999.0,    34.8772,2,     -999.0,9,     -999.0,1,-999.0000,9,-999.0000,9,-999.0000,9,-999.0000,9,-999.0000,9,-999.0000,9,-999.0000,9,-999.0000,9,-999.0000,9,-999.0000,-999.000,   0.7322,     -999.0,     -999.0,9,     -999.0,9,     -999.0,9,     -999.0,9,     -999.0,20110416,       1044
320620110219,       S04P,     127,          1,          7,          7,2,20110416,       1008,   -67.0000,   -81.6330,       4147,  2664.2,   0.7708,  34.7095,2,  34.7092,2,    204.8,2,   204.8,2,  121.75,2,   32.13,2,    0.00,2,    2.23,2,-999.000,9,-999.000,9,-999.000,9,-999.0000,9,  -999.0,9,  -999.0,9,-999.0000,9,  -999.00,-999.000,9,-999.0000,9,-999.000,9,   0.7711,2, -999.00,9,  -999.0,9,  -999.0,-999.000,9, -999.00,9,-999.000,9,   39.82,2,   34.24,2, -67.0000, -81.6330,-999.000,     -999.0,    34.8729,2,     -999.0,9,     -999.0,1,-999.0000,9,-999.0000,9,-999.0000,9,-999.0000,9,-999.0000,9,-999.0000,9,-999.0000,9,-999.0000,9,-999.0000,9,-999.0000,-999.000,   0.5995,     -999.0,     -999.0,9,     -999.0,9,     -999.0,9,     -999.0,9,     -999.0,20110416,       1039
320620110219,       S04P,     127,          1,          6,          6,2,20110416,       1008,   -67.0000,   -81.6330,       4147,  2915.0,   0.6640,  34.7070,2,  34.7067,2,    206.9,2,   207.6,2,  124.71,2,   32.21,2,    0.00,2,    2.24,2,   0.154,2,   0.074,2,   0.014,2,   0.0230,2,  2262.9,2,  2362.6,2,   7.5984,2,    25.00,-999.000,9,-999.0000,9,-999.000,9,   0.6646,2, -999.00,9,  -999.0,9,  -999.0,-999.000,9, -999.00,9,-999.000,9,   40.00,2,   34.76,2, -67.0000, -81.6330,-999.000,     -999.0,    34.8703,2,     -999.0,9,     -999.0,1,-999.0000,9,-999.0000,9,-999.0000,9,-999.0000,9,-999.0000,9,-999.0000,9,-999.0000,9,-999.0000,9,-999.0000,9,-999.0000,-999.000,   0.4731,     -999.0,     -999.0,9,     -999.0,9,     -999.0,9,     -999.0,9,     -999.0,20110416,       1034
320620110219,       S04P,     127,          1,          5,          5,2,20110416,       1008,   -67.0000,   -81.6330,       4147,  3200.4,   0.5531,  34.7048,2,  34.7045,2,    209.3,2,   209.1,2,  128.12,2,   32.28,2,    0.00,2,    2.24,2,-999.000,9,-999.000,9,-999.000,9,-999.0000,9,  -999.0,9,  -999.0,9,-999.0000,9,  -999.00,-999.000,9,-999.0000,9,-999.000,9,   0.5531,2, -999.00,9,  -999.0,9,  -999.0,-999.000,9, -999.00,9,-999.000,9,   40.22,2,   34.30,2, -67.0000, -81.6330,-999.000,     -999.0,    34.8682,2,     -999.0,9,     -999.0,1,-999.0000,9,-999.0000,9,-999.0000,9,-999.0000,9,-999.0000,9,-999.0000,9,-999.0000,9,-999.0000,9,-999.0000,9,-999.0000,-999.000,   0.3390,     -999.0,     -999.0,9,     -999.0,9,     -999.0,9,     -999.0,9,     -999.0,20110416,       1029
320620110219,       S04P,     127,          1,          4,          4,2,20110416,       1008,   -67.0000,   -81.6330,       4147,  3499.7,   0.4821,  34.7040,2,  34.7034,2,    210.7,2,   210.4,2,  131.83,2,   32.31,2,    0.00,2,    2.24,2,   0.207,2,   0.104,2,   0.018,2,   0.0540,2,  2263.6,2,  -999.0,5,   7.5972,2,    25.00,-999.000,9,-999.0000,9,-999.000,9,   0.4824,2, -999.00,9,  -999.0,9,  -999.0,-999.000,9, -999.00,9,-999.000,9,   40.49,2,   34.75,2, -67.0000, -81.6330,-999.000,     -999.0,    34.8670,2,     -999.0,9,     -999.0,1,-999.0000,9,-999.0000,9,-999.0000,9,-999.0000,9,-999.0000,9,-999.0000,9,-999.0000,9,-999.0000,9,-999.0000,9,-999.0000,-999.000,   0.2416,     -999.0,     -999.0,9,     -999.0,9,     -999.0,9,     -999.0,9,     -999.0,20110416,       1023
320620110219,       S04P,     127,          1,          3,          3,2,20110416,       1008,   -67.0000,   -81.6330,       4147,  3799.6,   0.4392,  34.7033,2,  34.7026,2,    211.9,2,   211.4,2,  135.36,2,   32.46,2,    0.00,2,    2.24,2,   0.189,2,   0.087,2,   0.011,2,   0.0220,2,  2264.2,2,  2365.0,6,   7.5992,2,    25.00,-999.000,9,-999.0000,9,-999.000,9,   0.4391,2, -999.00,9,  -999.0,9,  -999.0,-999.000,9, -999.00,9,-999.000,9,   40.47,2,   34.99,2, -67.0000, -81.6330,-999.000,     -999.0,    34.8662,2,     -999.0,9,     -999.0,1,-999.0000,9,-999.0000,9,-999.0000,9,-999.0000,9,-999.0000,9,-999.0000,9,-999.0000,9,-999.0000,9,-999.0000,9,-999.0000,-999.000,   0.1705,     -999.0,     -999.0,9,     -999.0,9,     -999.0,9,     -999.0,9,     -999.0,20110416,       1017
320620110219,       S04P,     127,          1,          2,          2,2,20110416,       1008,   -67.0000,   -81.6330,       4147,  4100.0,   0.4091,  34.7024,2,  34.7020,2,    211.3,2,   211.0,2,  141.93,2,   32.68,2,    0.00,2,    2.25,2,   0.237,2,   0.110,2,   0.013,2,   0.0330,2,  2265.3,2,  -999.0,9,   7.5960,2,    25.00,-999.000,9,-999.0000,9,-999.000,9,   0.4098,2, -999.00,9,  -999.0,9,  -999.0,-999.000,9, -999.00,9,-999.000,9,   40.62,2,   35.00,2, -67.0000, -81.6330,-999.000,     -999.0,    34.8657,2,     -999.0,9,     -999.0,1,-999.0000,9,-999.0000,9,-999.0000,9,-999.0000,9,-999.0000,9,-999.0000,9,-999.0000,9,-999.0000,9,-999.0000,9,-999.0000,-999.000,   0.1107,     -999.0,     -999.0,9,     -999.0,9,     -999.0,9,     -999.0,9,     -999.0,20110416,       1011
320620110219,       S04P,     127,          1,          1,          1,2,20110416,       1008,   -67.0000,   -81.6330,       4147,  4218.3,   0.4098,  34.7022,2,  34.7017,2,    209.6,2,   210.0,2,  146.12,2,   32.79,2,    0.00,2,    2.25,2,   0.283,2,   0.135,2,   0.016,2,   0.0420,2,  2267.2,2,  2366.0,2,   7.5921,6,    25.00,-999.000,9,-999.0000,9,-999.000,9,   0.4096,2, -999.00,9,  -999.0,9,  -999.0,-999.000,9, -999.00,9,-999.000,9,   40.37,2,   34.76,2, -67.0000, -81.6330,-999.000,     -999.0,    34.8653,2,     -999.0,9,     -999.0,1,-999.0000,9,-999.0000,9,-999.0000,9,-999.0000,9,-999.0000,9,-999.0000,9,-999.0000,9,-999.0000,9,-999.0000,9,-999.0000,-999.000,   0.0990,     -999.0,     -999.0,9,     -999.0,9,     -999.0,9,     -999.0,9,     -999.0,20110416,       1008