BOTTLE,20220813CCHSIOAMB
EXPOCODE,SECT_ID,STNNBR,CASTNO,SAMPNO,BTLNBR,BTLNBR_FLAG_W,DATE,TIME,LATITUDE,LONGITUDE,DEPTH,CTDPRS,CTDTMP,CTDSAL,CTDSAL_FLAG_W,SALNTY,SALNTY_FLAG_W,CTDOXY,CTDOXY_FLAG_W,OXYGEN,OXYGEN_FLAG_W,SILCAT,SILCAT_FLAG_W,NITRAT,NITRAT_FLAG_W,NITRIT,NITRIT_FLAG_W,PHSPHT,PHSPHT_FLAG_W,CFC-11,CFC-11_FLAG_W,CFC-12,CFC-12_FLAG_W,CFC113,CFC113_FLAG_W,SF6,SF6_FLAG_W,TCARBN,TCARBN_FLAG_W,ALKALI,ALKALI_FLAG_W,PH_TOT,PH_TOT_FLAG_W,PH_TMP,TRITUM,TRITUM_FLAG_W,HELIUM,HELIUM_FLAG_W,DELHE3,DELHE3_FLAG_W,REFTMP,REFTMP_FLAG_W,DELC13,DELC13_FLAG_W,DELC14,DELC14_FLAG_W,C14ERR,NEON,NEON_FLAG_W,DELO18,DELO18_FLAG_W,POC,POC_FLAG_W,DOC,DOC_FLAG_W,TDN,TDN_FLAG_W,BTL_LAT,BTL_LON,TRITER,NEONER,SALTREF,SALTREF_FLAG_W,PIGMENTS,PIGMENTS_FLAG_W,LAB_DEN,LAB_DEN_FLAG_W,CDOM325,CDOM325_FLAG_W,CDOM340,CDOM340_FLAG_W,CDOM380,CDOM380_FLAG_W,CDOM412,CDOM412_FLAG_W,CDOM443,CDOM443_FLAG_W,CDOM490,CDOM490_FLAG_W,CDOM555,CDOM555_FLAG_W,CDOMSL,CDOMSL_FLAG_W,CDOMSN,CDOMSN_FLAG_W,HELIER,DELHER,THETA,LDEO_SAMPNO,ABSORBTION,ABSORBTION_FLAG_W,IMAGE_COUNT,IMAGE_COUNT_FLAG_W,CYTO_COUNT,CYTO_COUNT_FLAG_W,DELD,DELD_FLAG_W,DELDERR,BTL_DATE,BTL_TIME
,,,,,,,,,,,METERS,DBAR,ITS-90,PSS-78,,PSS-78,,UMOL/KG,,UMOL/KG,,UMOL/KG,,UMOL/KG,,UMOL/KG,,UMOL/KG,,PMOL/KG,,PMOL/KG,,PMOL/KG,,FMOL/KG,,UMOL/KG,,UMOL/KG,,,,DEG C,TU,,NMOL/KG,,PERCNT,,DEG C,,/MILLE,,/MILLE,,/MILLE,NMOL/KG,,/MILLE,,UG/KG,,UMOL/KG,,UMOL/KG,,,,TU,NMOL/KG,G/KG,,,,,,1/M,,1/M,,1/M,,1/M,,1/M,,1/M,,1/M,,1/NM,,1/NM,,NMOL/KG,PERCNT,DEG C,,,,,,,,/MILLE,,/MILLE,,
320620110219,       S04P,     102,          2,         36,         36,2,20110402,       0008,   -66.9996,  -136.5796,       4536,     4.2,  -0.7133,  33.4621,2,  33.4607,2,    343.0,3,   346.8,2,   24.14,2,   23.53,2,    0.19,2,    1.58,2,   6.226,2,   3.411,2,   0.621,2,   2.6240,2,  2130.5,6,  2266.1,2,   7.7134,2,    25.00,-999.000,9,-999.0000,9,-999.000,9,  -0.7136,2, -999.00,9,  -999.0,9,  -999.0,-999.000,9, -999.00,9,-999.000,9, -999.00,9, -999.00,9, -66.9995,-136.5797,-999.000,     -999.0,    33.6185,2,     -999.0,9,     -999.0,9,-999.0000,9,-999.0000,9,-999.0000,9,-999.0000,9,-999.0000,9,-999.0000,9,-999.0000,9,-999.0000,9,-999.0000,9,-999.0000,-999.000,  -0.7134,     -999.0,     -999.0,9,     -999.0,9,     -999.0,9,     -999.0,9,     -999.0,20110402,       0153
320620110219,       S04P,     102,          2,         35,         35,2,20110402,       0008,   -66.9996,  -136.5796,       4536,    35.1,  -0.7418,  33.4896,2,  33.4972,2,    346.5,2,   343.7,2,   25.28,2,   23.84,2,    0.19,2,    1.62,2,-999.000,9,-999.000,9,-999.000,9,-999.0000,9,  2136.6,2,  2266.6,2,   7.7074,6,    25.00,-999.000,9,-999.0000,9,-999.000,9,  -0.7297,2, -999.00,9,  -999.0,9,  -999.0,-999.000,9, -999.00,9,-999.000,9, -999.00,9, -999.00,9, -66.9995,-136.5797,-999.000,     -999.0,    33.6552,2,     -999.0,9,     -999.0,9,-999.0000,9,-999.0000,9,-999.0000,9,-999.0000,9,-999.0000,9,-999.0000,9,-999.0000,9,-999.0000,9,-999.0000,9,-999.0000,-999.000,  -0.7427,     -999.0,     -999.0,9,     -999.0,9,     -999.0,9,     -999.0,9,     -999.0,20110402,       0152
320620110219,       S04P,     102,          2,         34,         34,2,20110402,       0008,   -66.9996,  -136.5796,       4536,    61.1,  -1.5682,  33.9710,2,  33.9690,2,    307.7,2,   309.2,2,   46.89,2,   29.31,2,    0.18,2,    2.06,2,   5.234,2,   2.849,2,   0.516,2,   2.0980,2,  2188.9,2,  2294.5,6,   7.6243,2,    25.00,-999.000,9,-999.0000,9,-999.000,9,  -1.5503,2, -999.00,9,  -999.0,9,  -999.0,-999.000,9, -999.00,9,-999.000,9, -999.00,9, -999.00,9, -66.9996,-136.5797,-999.000,     -999.0,    34.1292,2,     -999.0,9,     -999.0,9,-999.0000,9,-999.0000,9,-999.0000,9,-999.0000,9,-999.0000,9,-999.0000,9,-999.0000,9,-999.0000,9,-999.0000,9,-999.0000,-999.000,  -1.5695,     -999.0,     -999.0,9,     -999.0,9,     -999.0,9,     -999.0,9,     -999.0,20110402,       0150
320620110219,       S04P,     102,          2,         33,         33,2,20110402,       0008,   -66.9996,  -136.5796,       4536,    82.9,  -1.1301,  34.0679,2,  34.0657,2,    295.7,2,   293.2,2,   50.56,2,   30.51,2,    0.07,2,    2.10,2,   4.832,2,   2.616,2,   0.485,2,   1.9700,2,  2199.5,2,  2298.3,2,   7.6075,2,    25.00,-999.000,9,-999.0000,9,-999.000,9,  -1.1287,2, -999.00,9,  -999.0,9,  -999.0,-999.000,9, -999.00,9,-999.000,9, -999.00,9, -999.00,9, -66.9996,-136.5797,-999.000,     -999.0,    34.2263,2,     -999.0,9,     -999.0,9,-999.0000,9,-999.0000,9,-999.0000,9,-999.0000,9,-999.0000,9,-999.0000,9,-999.0000,9,-999.0000,9,-999.0000,9,-999.0000,-999.000,  -1.1322,     -999.0,     -999.0,9,     -999.0,9,     -999.0,9,     -999.0,9,     -999.0,20110402,       0149
320620110219,       S04P,     102,          2,         32,         32,2,20110402,       0008,   -66.9996,  -136.5796,       4536,   113.8,  -0.0769,  34.2332,2,  34.2350,2,    260.3,2,   252.1,2,   59.37,2,   32.25,2,    0.03,2,    2.27,2,   3.524,2,   1.917,2,   0.340,2,   1.4110,2,  2219.1,2,  2309.5,2,   7.5801,2,    25.00,-999.000,9,-999.0000,9,-999.000,9,  -0.0434,2, -999.00,9,  -999.0,9,  -999.0,-999.000,9, -999.00,9,-999.000,9, -999.00,9, -999.00,9, -66.9995,-136.5797,-999.000,     -999.0,    34.3964,2,     -999.0,9,     -999.0,9,-999.0000,9,-999.0000,9,-999.0000,9,-999.0000,9,-999.0000,9,-999.0000,9,-999.0000,9,-999.0000,9,-999.0000,9,-999.0000,-999.000,  -0.0809,     -999.0,     -999.0,9,     -999.0,9,     -999.0,9,     -999.0,9,     -999.0,20110402,       0148
320620110219,       S04P,     102,          2,         31,         31,2,20110402,       0008,   -66.9996,  -136.5796,       4536,   164.3,   1.4638,  34.4953,2,  34.4967,2,    194.4,2,   194.0,2,   73.57,2,   34.16,2,    0.00,2,    2.34,2,   1.624,2,   0.872,2,   0.156,2,   0.5670,2,  2246.7,2,  2326.7,2,   7.5453,2,    25.00,-999.000,9,-999.0000,9,-999.000,9,   1.4661,2, -999.00,9,  -999.0,9,  -999.0,-999.000,9, -999.00,9,-999.000,9, -999.00,9, -999.00,9, -66.9995,-136.5797,-999.000,     -999.0,    34.6594,2,     -999.0,9,     -999.0,9,-999.0000,9,-999.0000,9,-999.0000,9,-999.0000,9,-999.0000,9,-999.0000,9,-999.0000,9,-999.0000,9,-999.0000,9,-999.0000,-999.000,   1.4558,     -999.0,     -999.0,9,     -999.0,9,     -999.0,9,     -999.0,9,     -999.0,20110402,       0146
320620110219,       S04P,     102,          2,         30,         30,2,20110402,       0008,   -66.9996,  -136.5796,       4536,   217.6,   1.9136,  34.6035,2,  34.5989,2,    177.5,2,   177.0,2,   78.54,2,   34.14,2,    0.00,2,    2.34,2,   0.860,2,   0.450,2,   0.079,2,   0.2710,2,  2253.4,2,  2335.1,2,   7.5476,2,    25.00,-999.000,9,-999.0000,9,-999.000,9,   1.9160,2, -999.00,9,  -999.0,9,  -999.0,-999.000,9, -999.00,9,-999.000,9, -999.00,9, -999.00,9, -66.9995,-136.5797,-999.000,     -999.0,    34.7621,2,     -999.0,9,     -999.0,9,-999.0000,9,-999.0000,9,-999.0000,9,-999.0000,9,-999.0000,9,-999.0000,9,-999.0000,9,-999.0000,9,-999.0000,9,-999.0000,-999.000,   1.9021,     -999.0,     -999.0,9,     -999.0,9,     -999.0,9,     -999.0,9,     -999.0,20110402,       0145
320620110219,       S04P,     102,          2,         29,         29,2,20110402,       0008,   -66.9996,  -136.5796,       4536,   266.3,   1.9905,  34.6390,2,  34.6376,2,    174.8,2,   174.7,2,   80.24,2,   33.88,2,    0.00,2,    2.30,2,   0.606,2,   0.315,2,   0.049,2,   0.1580,2,  2253.8,2,  2337.6,2,   7.5523,2,    25.00,-999.000,9,-999.0000,9,-999.000,9,   1.9903,2, -999.00,9,  -999.0,9,  -999.0,-999.000,9, -999.00,9,-999.000,9, -999.00,9, -999.00,9, -66.9995,-136.5797,-999.000,     -999.0,    34.8009,2,     -999.0,9,     -999.0,9,-999.0000,9,-999.0000,9,-999.0000,9,-999.0000,9,-999.0000,9,-999.0000,9,-999.0000,9,-999.0000,9,-999.0000,9,-999.0000,-999.000,   1.9761,     -999.0,     -999.0,9,     -999.0,9,     -999.0,9,     -999.0,9,     -999.0,20110402,       0143
320620110219,       S04P,     102,          2,         28,         28,2,20110402,       0008,   -66.9996,  -136.5796,       4536,   313.9,   1.9936,  34.6645,2,  34.6638,2,    175.1,2,   175.9,2,   81.42,2,   33.33,2,    0.00,2,    2.27,2,   0.482,2,   0.236,2,   0.046,2,   0.1250,2,  2254.2,2,  2339.8,2,   7.5585,2,    25.00,-999.000,9,-999.0000,9,-999.000,9,   1.9936,2, -999.00,9,  -999.0,9,  -999.0,-999.000,9, -999.00,9,-999.000,9, -999.00,9, -999.00,9, -66.9995,-136.5797,-999.000,     -999.0,    34.8273,2,     -999.0,9,     -999.0,9,-999.0000,9,-999.0000,9,-999.0000,9,-999.0000,9,-999.0000,9,-999.0000,9,-999.0000,9,-999.0000,9,-999.0000,9,-999.0000,-999.000,   1.9765,     -999.0,     -999.0,9,     -999.0,9,     -999.0,9,     -999.0,9,     -999.0,20110402,       0141
320620110219,       S04P,     102,          2,         27,         27,2,20110402,       0008,   -66.9996,  -136.5796,       4536,   363.0,   1.9784,  34.6827,2,  34.6815,2,    176.2,2,   176.4,2,   82.46,2,   33.00,2,    0.00,2,    2.26,2,   0.409,2,   0.207,2,   0.032,2,   0.1170,2,  2253.3,2,  2341.6,2,   7.5669,2,    25.00,-999.000,9,-999.0000,9,-999.000,9,   1.9783,2, -999.00,9,  -999.0,9,  -999.0,-999.000,9, -999.00,9,-999.000,9, -999.00,9, -999.00,9, -66.9995,-136.5797,-999.000,     -999.0,    34.8450,2,     -999.0,9,     -999.0,9,-999.0000,9,-999.0000,9,-999.0000,9,-999.0000,9,-999.0000,9,-999.0000,9,-999.0000,9,-999.0000,9,-999.0000,9,-999.0000,-999.000,   1.9585,     -999.0,     -999.0,9,     -999.0,9,     -999.0,9,     -999.0,9,     -999.0,20110402,       0140
320620110219,       S04P,     102,          2,         26,         26,2,20110402,       0008,   -66.9996,  -136.5796,       4536,   414.4,   1.9577,  34.6952,2,  34.6945,2,    177.8,2,   177.7,2,   83.47,2,   32.63,2,    0.00,2,    2.24,2,-999.000,9,-999.000,9,-999.000,9,-999.0000,9,  2252.8,2,  2343.4,2,   7.5694,2,    25.00,-999.000,9,-999.0000,9,-999.000,9,   1.9576,2, -999.00,9,  -999.0,9,  -999.0,-999.000,9, -999.00,9,-999.000,9, -999.00,9, -999.00,9, -66.9995,-136.5797,-999.000,     -999.0,    34.8581,2,     -999.0,9,     -999.0,9,-999.0000,9,-999.0000,9,-999.0000,9,-999.0000,9,-999.0000,9,-999.0000,9,-999.0000,9,-999.0000,9,-999.0000,9,-999.0000,-999.000,   1.9348,     -999.0,     -999.0,9,     -999.0,9,     -999.0,9,     -999.0,9,     -999.0,20110402,       0138
320620110219,       S04P,     102,          2,         25,         25,2,20110402,       0008,   -66.9996,  -136.5796,       4536,   465.0,   1.9267,  34.7051,2,  34.7043,2,    179.9,2,   179.7,2,   84.74,2,   32.44,2,    0.00,2,    2.22,2,   0.332,2,   0.155,2,   0.031,2,   0.0510,2,  2251.8,2,  2345.1,2,   7.5750,2,    25.00,-999.000,9,-999.0000,9,-999.000,9,   1.9265,2, -999.00,9,  -999.0,9,  -999.0,-999.000,9, -999.00,9,-999.000,9, -999.00,9, -999.00,9, -66.9995,-136.5797,-999.000,     -999.0,    34.8679,2,     -999.0,9,     -999.0,9,-999.0000,9,-999.0000,9,-999.0000,9,-999.0000,9,-999.0000,9,-999.0000,9,-999.0000,9,-999.0000,9,-999.0000,9,-999.0000,-999.000,   1.9010,     -999.0,     -999.0,9,     -999.0,9,     -999.0,9,     -999.0,9,     -999.0,20110402,       0137
320620110219,       S04P,     102,          2,         24,         24,2,20110402,       0008,   -66.9996,  -136.5796,       4536,   533.7,   1.8686,  34.7147,2,  34.7153,2,    182.6,2,   181.9,2,   86.46,2,   32.21,2,    0.00,2,    2.20,2,-999.000,9,-999.000,9,-999.000,9,-999.0000,9,  2251.3,2,  2346.8,2,   7.5819,2,    25.00,-999.000,9,-999.0000,9,-999.000,9,   1.8682,2, -999.00,9,  -999.0,9,  -999.0,-999.000,9, -999.00,9,-999.000,9, -999.00,9, -999.00,9, -66.9995,-136.5797,-999.000,     -999.0,    34.8790,2,     -999.0,9,     -999.0,9,-999.0000,9,-999.0000,9,-999.0000,9,-999.0000,9,-999.0000,9,-999.0000,9,-999.0000,9,-999.0000,9,-999.0000,9,-999.0000,-999.000,   1.8390,     -999.0,     -999.0,9,     -999.0,9,     -999.0,9,     -999.0,9,     -999.0,20110402,       0135
320620110219,       S04P,     102,          2,         23,         23,2,20110402,       0008,   -66.9996,  -136.5796,       4536,   635.0,   1.7827,  34.7252,2,  34.7249,2,    186.0,2,   185.6,2,   88.84,2,   31.90,2,    0.00,2,    2.18,2,   0.248,2,   0.120,2,   0.018,2,   0.0450,2,  2250.8,2,  2347.9,2,   7.5889,2,    25.00,-999.000,9,-999.0000,9,-999.000,9,   1.7828,2, -999.00,9,  -999.0,9,  -999.0,-999.000,9, -999.00,9,-999.000,9, -999.00,9, -999.00,9, -66.9995,-136.5797,-999.000,     -999.0,    34.8886,2,     -999.0,9,     -999.0,9,-999.0000,9,-999.0000,9,-999.0000,9,-999.0000,9,-999.0000,9,-999.0000,9,-999.0000,9,-999.0000,9,-999.0000,9,-999.0000,-999.000,   1.7474,     -999.0,     -999.0,9,     -999.0,9,     -999.0,9,     -999.0,9,     -999.0,20110402,       0132
320620110219,       S04P,     102,          2,         22,         22,2,20110402,       0008,   -66.9996,  -136.5796,       4536,   733.9,   1.6985,  34.7306,2,  34.7306,2,    188.5,2,   188.1,2,   91.42,2,   31.63,2,    0.00,2,    2.17,2,-999.000,9,-999.000,9,-999.000,9,-999.0000,9,  -999.0,9,  -999.0,9,-999.0000,9,  -999.00,-999.000,9,-999.0000,9,-999.000,9,   1.6983,2, -999.00,9,  -999.0,9,  -999.0,-999.000,9, -999.00,9,-999.000,9, -999.00,9, -999.00,9, -66.9995,-136.5797,-999.000,     -999.0,    34.8943,2,     -999.0,9,     -999.0,9,-999.0000,9,-999.0000,9,-999.0000,9,-999.0000,9,-999.0000,9,-999.0000,9,-999.0000,9,-999.0000,9,-999.0000,9,-999.0000,-999.000,   1.6575,     -999.0,     -999.0,9,     -999.0,9,     -999.0,9,     -999.0,9,     -999.0,20110402,       0130
320620110219,       S04P,     102,          2,         21,         21,2,20110402,       0008,   -66.9996,  -136.5796,       4536,   833.9,   1.6062,  34.7323,2,  34.7325,2,    190.5,2,   189.8,2,   93.91,2,   31.56,2,    0.00,2,    2.18,2,   0.201,2,   0.101,2,   0.015,2,   0.0380,2,  2250.8,2,  2351.5,6,   7.5949,2,    25.00,-999.000,9,-999.0000,9,-999.000,9,   1.6060,2, -999.00,9,  -999.0,9,  -999.0,-999.000,9, -999.00,9,-999.000,9, -999.00,9, -999.00,9, -66.9995,-136.5797,-999.000,     -999.0,    34.8963,2,     -999.0,9,     -999.0,9,-999.0000,9,-999.0000,9,-999.0000,9,-999.0000,9,-999.0000,9,-999.0000,9,-999.0000,9,-999.0000,9,-999.0000,9,-999.0000,-999.000,   1.5596,     -999.0,     -999.0,9,     -999.0,9,     -999.0,9,     -999.0,9,     -999.0,20110402,       0127
320620110219,       S04P,     102,          2,         20,         20,2,20110402,       0008,   -66.9996,  -136.5796,       4536,   934.7,   1.5231,  34.7328,2,  34.7331,2,    191.8,2,   191.6,2,   96.44,2,   31.50,2,    0.00,2,    2.17,2,-999.000,9,-999.000,9,-999.000,9,-999.0000,9,  -999.0,9,  -999.0,9,-999.0000,9,  -999.00,-999.000,9,-999.0000,9,-999.000,9,   1.5235,2, -999.00,9,  -999.0,9,  -999.0,-999.000,9, -999.00,9,-999.000,9, -999.00,9, -999.00,9, -66.9995,-136.5797,-999.000,     -999.0,    34.8969,2,     -999.0,9,     -999.0,9,-999.0000,9,-999.0000,9,-999.0000,9,-999.0000,9,-999.0000,9,-999.0000,9,-999.0000,9,-999.0000,9,-999.0000,9,-999.0000,-999.000,   1.4707,     -999.0,     -999.0,9,     -999.0,9,     -999.0,9,     -999.0,9,     -999.0,20110402,       0125
320620110219,       S04P,     102,          2,         19,         19,2,20110402,       0008,   -66.9996,  -136.5796,       4536,  1034.8,   1.4423,  34.7319,2,  34.7312,2,    193.2,2,   192.9,2,   98.64,2,   31.37,2,    0.00,2,    2.17,2,   0.183,2,   0.089,2,   0.011,2,   0.0110,2,  2252.2,2,  2354.0,2,   7.5980,6,    25.00,-999.000,9,-999.0000,9,-999.000,9,   1.4425,2, -999.00,9,  -999.0,9,  -999.0,-999.000,9, -999.00,9,-999.000,9, -999.00,9, -999.00,9, -66.9995,-136.5797,-999.000,     -999.0,    34.8949,2,     -999.0,9,     -999.0,9,-999.0000,9,-999.0000,9,-999.0000,9,-999.0000,9,-999.0000,9,-999.0000,9,-999.0000,9,-999.0000,9,-999.0000,9,-999.0000,-999.000,   1.3841,     -999.0,     -999.0,9,     -999.0,9,     -999.0,9,     -999.0,9,     -999.0,20110402,       0123
320620110219,       S04P,     102,          2,         18,         18,2,20110402,       0008,   -66.9996,  -136.5796,       4536,  1136.7,   1.3572,  34.7306,2,  34.7298,2,    194.0,2,   194.1,2,  101.26,2,   31.42,2,    0.00,2,    2.18,2,-999.000,9,-999.000,9,-999.000,9,-999.0000,9,  -999.0,9,  -999.0,9,-999.0000,9,  -999.00,-999.000,9,-999.0000,9,-999.000,9,   1.3570,2, -999.00,9,  -999.0,9,  -999.0,-999.000,9, -999.00,9,-999.000,9, -999.00,9, -999.00,9, -66.9995,-136.5797,-999.000,     -999.0,    34.8935,2,     -999.0,9,     -999.0,9,-999.0000,9,-999.0000,9,-999.0000,9,-999.0000,9,-999.0000,9,-999.0000,9,-999.0000,9,-999.0000,9,-999.0000,9,-999.0000,-999.000,   1.2930,     -999.0,     -999.0,9,     -999.0,9,     -999.0,9,     -999.0,9,     -999.0,20110402,       0120
320620110219,       S04P,     102,          2,         17,         17,2,20110402,       0008,   -66.9996,  -136.5796,       4536,  1233.4,   1.2921,  34.7290,2,  34.7274,2,    195.2,2,   195.8,2,  103.39,2,   31.47,2,    0.00,2,    2.18,2,   0.152,2,   0.076,2,   0.011,2,   0.0250,2,  2254.2,2,  2356.6,2,   7.5982,2,    25.00,-999.000,9,-999.0000,9,-999.000,9,   1.2921,2, -999.00,9,  -999.0,9,  -999.0,-999.000,9, -999.00,9,-999.000,9, -999.00,9, -999.00,9, -66.9996,-136.5796,-999.000,     -999.0,    34.8912,2,     -999.0,9,     -999.0,9,-999.0000,9,-999.0000,9,-999.0000,9,-999.0000,9,-999.0000,9,-999.0000,9,-999.0000,9,-999.0000,9,-999.0000,9,-999.0000,-999.000,   1.2221,     -999.0,     -999.0,9,     -999.0,9,     -999.0,9,     -999.0,9,     -999.0,20110402,       0118
320620110219,       S04P,     102,          2,         16,         16,2,20110402,       0008,   -66.9996,  -136.5796,       4536,  1335.6,   1.2227,  34.7266,2,  34.7259,2,    196.1,2,   195.6,2,  106.47,2,   31.63,2,    0.00,2,    2.19,2,-999.000,9,-999.000,9,-999.000,9,-999.0000,9,  -999.0,9,  -999.0,9,-999.0000,9,  -999.00,-999.000,9,-999.0000,9,-999.000,9,   1.2225,2, -999.00,9,  -999.0,9,  -999.0,-999.000,9, -999.00,9,-999.000,9, -999.00,9, -999.00,9, -66.9995,-136.5797,-999.000,     -999.0,    34.8896,2,     -999.0,9,     -999.0,9,-999.0000,9,-999.0000,9,-999.0000,9,-999.0000,9,-999.0000,9,-999.0000,9,-999.0000,9,-999.0000,9,-999.0000,9,-999.0000,-999.000,   1.1465,     -999.0,     -999.0,9,     -999.0,9,     -999.0,9,     -999.0,9,     -999.0,20110402,       0115
320620110219,       S04P,     102,          2,         15,         15,2,20110402,       0008,   -66.9996,  -136.5796,       4536,  1436.0,   1.1559,  34.7245,2,  34.7243,2,    197.1,2,   197.0,2,  108.79,2,   31.63,2,    0.00,2,    2.20,2,   0.136,2,   0.071,2,   0.010,2,   0.0170,2,  2257.0,6,  2358.7,2,   7.6011,2,    25.00,-999.000,9,-999.0000,9,-999.000,9,   1.1561,2, -999.00,9,  -999.0,9,  -999.0,-999.000,9, -999.00,9,-999.000,9, -999.00,9, -999.00,9, -66.9995,-136.5796,-999.000,     -999.0,    34.8880,2,     -999.0,9,     -999.0,9,-999.0000,9,-999.0000,9,-999.0000,9,-999.0000,9,-999.0000,9,-999.0000,9,-999.0000,9,-999.0000,9,-999.0000,9,-999.0000,-999.000,   1.0736,     -999.0,     -999.0,9,     -999.0,9,     -999.0,9,     -999.0,9,     -999.0,20110402,       0113
320620110219,       S04P,     102,          2,         14,         14,2,20110402,       0008,   -66.9996,  -136.5796,       4536,  1534.7,   1.0901,  34.7222,2,  34.7233,2,    198.0,2,   198.0,2,  110.51,2,   31.74,2,    0.00,2,    2.20,2,-999.000,9,-999.000,9,-999.000,9,-999.0000,9,  -999.0,9,  -999.0,9,-999.0000,9,  -999.00,-999.000,9,-999.0000,9,-999.000,9,   1.0902,2, -999.00,9,  -999.0,9,  -999.0,-999.000,9, -999.00,9,-999.000,9, -999.00,9, -999.00,9, -66.9995,-136.5797,-999.000,     -999.0,    34.8870,2,     -999.0,9,     -999.0,9,-999.0000,9,-999.0000,9,-999.0000,9,-999.0000,9,-999.0000,9,-999.0000,9,-999.0000,9,-999.0000,9,-999.0000,9,-999.0000,-999.000,   1.0017,     -999.0,     -999.0,9,     -999.0,9,     -999.0,9,     -999.0,9,     -999.0,20110402,       0110