BOTTLE,20220813CCHSIOAMB
EXPOCODE,SECT_ID,STNNBR,CASTNO,SAMPNO,BTLNBR,BTLNBR_FLAG_W,DATE,TIME,LATITUDE,LONGITUDE,DEPTH,CTDPRS,CTDTMP,CTDSAL,CTDSAL_FLAG_W,SALNTY,SALNTY_FLAG_W,CTDOXY,CTDOXY_FLAG_W,OXYGEN,OXYGEN_FLAG_W,SILCAT,SILCAT_FLAG_W,NITRAT,NITRAT_FLAG_W,NITRIT,NITRIT_FLAG_W,PHSPHT,PHSPHT_FLAG_W,CFC-11,CFC-11_FLAG_W,CFC-12,CFC-12_FLAG_W,CFC113,CFC113_FLAG_W,SF6,SF6_FLAG_W,TCARBN,TCARBN_FLAG_W,ALKALI,ALKALI_FLAG_W,PH_TOT,PH_TOT_FLAG_W,PH_TMP,TRITUM,TRITUM_FLAG_W,HELIUM,HELIUM_FLAG_W,DELHE3,DELHE3_FLAG_W,REFTMP,REFTMP_FLAG_W,DELC13,DELC13_FLAG_W,DELC14,DELC14_FLAG_W,C14ERR,NEON,NEON_FLAG_W,DELO18,DELO18_FLAG_W,POC,POC_FLAG_W,DOC,DOC_FLAG_W,TDN,TDN_FLAG_W,BTL_LAT,BTL_LON,TRITER,NEONER,SALTREF,SALTREF_FLAG_W,PIGMENTS,PIGMENTS_FLAG_W,LAB_DEN,LAB_DEN_FLAG_W,CDOM325,CDOM325_FLAG_W,CDOM340,CDOM340_FLAG_W,CDOM380,CDOM380_FLAG_W,CDOM412,CDOM412_FLAG_W,CDOM443,CDOM443_FLAG_W,CDOM490,CDOM490_FLAG_W,CDOM555,CDOM555_FLAG_W,CDOMSL,CDOMSL_FLAG_W,CDOMSN,CDOMSN_FLAG_W,HELIER,DELHER,THETA,LDEO_SAMPNO,ABSORBTION,ABSORBTION_FLAG_W,IMAGE_COUNT,IMAGE_COUNT_FLAG_W,CYTO_COUNT,CYTO_COUNT_FLAG_W,DELD,DELD_FLAG_W,DELDERR,BTL_DATE,BTL_TIME
,,,,,,,,,,,METERS,DBAR,ITS-90,PSS-78,,PSS-78,,UMOL/KG,,UMOL/KG,,UMOL/KG,,UMOL/KG,,UMOL/KG,,UMOL/KG,,PMOL/KG,,PMOL/KG,,PMOL/KG,,FMOL/KG,,UMOL/KG,,UMOL/KG,,,,DEG C,TU,,NMOL/KG,,PERCNT,,DEG C,,/MILLE,,/MILLE,,/MILLE,NMOL/KG,,/MILLE,,UG/KG,,UMOL/KG,,UMOL/KG,,,,TU,NMOL/KG,G/KG,,,,,,1/M,,1/M,,1/M,,1/M,,1/M,,1/M,,1/M,,1/NM,,1/NM,,NMOL/KG,PERCNT,DEG C,,,,,,,,/MILLE,,/MILLE,,
320620110219,       S04P,     114,          1,         36,         36,2,20110408,       0408,   -67.0004,  -112.2678,       4636,     4.2,  -0.4537,  33.4503,2,  33.4502,2,    341.1,3,   346.2,2,   13.86,2,   23.64,2,    0.22,2,    1.63,2,   6.126,2,   3.425,2,   0.653,2,   2.7370,2,  2132.4,6,  2258.3,2,   7.7095,2,    25.00,   0.134,2,   1.8570,2,   -1.66,2,  -0.4540,2, -999.00,9,  -999.0,9,  -999.0,   8.317,2,   -0.38,2,-999.000,9,   43.55,2,   27.34,2, -67.0004,-112.2678,   0.013,      0.042,    33.6079,2,     -999.0,9,     -999.0,1,-999.0000,9,-999.0000,9,-999.0000,9,-999.0000,9,-999.0000,9,-999.0000,9,-999.0000,9,-999.0000,9,-999.0000,9,   0.0089,    0.14,  -0.4538,     -999.0,     -999.0,9,     -999.0,9,     -999.0,9,      -3.83,2,       0.09,20110408,       0554
320620110219,       S04P,     114,          1,         35,         35,2,20110408,       0408,   -67.0004,  -112.2678,       4636,    19.2,  -0.4547,  33.4505,2,  33.4502,2,    345.2,2,   345.8,2,   13.80,2,   23.63,2,    0.22,2,    1.62,2,   6.076,2,   3.398,2,   0.650,2,   2.7830,2,  2132.1,2,  2261.7,2,   7.7081,6,    25.00,   0.128,2,   1.8912,2,   -1.53,2,  -0.4549,2, -999.00,9,  -999.0,9,  -999.0,   8.471,2,   -0.39,2,-999.000,9,   43.38,2,   27.29,2, -67.0004,-112.2677,   0.012,      0.043,    33.6079,2,     -999.0,9,     -999.0,1,-999.0000,9,-999.0000,9,-999.0000,9,-999.0000,9,-999.0000,9,-999.0000,9,-999.0000,9,-999.0000,9,-999.0000,9,   0.0091,    0.14,  -0.4553,     -999.0,     -999.0,9,     -999.0,9,     -999.0,9,      -3.77,2,       0.14,20110408,       0553
320620110219,       S04P,     114,          1,         34,         34,2,20110408,       0408,   -67.0004,  -112.2678,       4636,    39.9,  -0.4346,  33.4527,2,  33.4519,2,    345.1,2,   346.1,2,   13.80,2,   23.59,2,    0.22,2,    1.65,2,   6.088,2,   3.393,2,   0.654,2,   2.7680,2,  2131.6,2,  2259.9,2,   7.7092,2,    25.00,   0.093,2,   1.8784,2,   -1.48,2,  -0.4343,2, -999.00,9,  -999.0,9,  -999.0,   8.415,2,   -0.27,2,-999.000,9,   43.41,2,   27.28,2, -67.0004,-112.2677,   0.013,      0.043,    33.6097,2,     -999.0,9,     -999.0,1,-999.0000,9,-999.0000,9,-999.0000,9,-999.0000,9,-999.0000,9,-999.0000,9,-999.0000,9,-999.0000,9,-999.0000,9,   0.0090,    0.14,  -0.4358,     -999.0,     -999.0,9,     -999.0,9,     -999.0,9,      -3.62,2,       0.04,20110408,       0551
320620110219,       S04P,     114,          1,         33,         33,2,20110408,       0408,   -67.0004,  -112.2678,       4636,    65.0,  -0.5355,  33.5307,3,  33.5587,2,    345.0,2,   343.3,2,   20.26,2,   24.78,2,    0.21,2,    1.78,2,   6.046,2,   3.386,2,   0.640,2,   2.7210,2,  2142.5,2,  2264.7,2,   7.6945,6,    25.00,   0.113,2,   1.8804,2,   -1.52,2,  -0.5158,2, -999.00,9,  -999.0,9,  -999.0,   8.430,2,   -0.30,2,-999.000,9,   43.49,2,   28.75,2, -67.0004,-112.2677,   0.013,      0.043,    33.7169,2,     -999.0,9,     -999.0,1,-999.0000,9,-999.0000,9,-999.0000,9,-999.0000,9,-999.0000,9,-999.0000,9,-999.0000,9,-999.0000,9,-999.0000,9,   0.0090,    0.14,  -0.5374,     -999.0,     -999.0,9,     -999.0,9,     -999.0,9,      -3.47,2,       0.07,20110408,       0550
320620110219,       S04P,     114,          1,         32,         32,2,20110408,       0408,   -67.0004,  -112.2678,       4636,    90.2,  -0.9607,  33.9298,2,  33.9385,2,    332.1,2,   330.0,2,   40.89,2,   29.30,2,    0.21,2,    2.10,2,   5.806,2,   3.229,2,   0.608,2,   2.5960,2,  2181.6,2,  2288.5,2,   7.6431,2,    25.00,   0.082,2,   1.8978,2,   -1.15,2,  -0.9527,2, -999.00,9,  -999.0,9,  -999.0,   8.489,2,   -0.28,2,-999.000,9,   42.45,2,   33.30,2, -67.0004,-112.2678,   0.013,      0.043,    34.0985,2,     -999.0,9,     -999.0,1,-999.0000,9,-999.0000,9,-999.0000,9,-999.0000,9,-999.0000,9,-999.0000,9,-999.0000,9,-999.0000,9,-999.0000,9,   0.0091,    0.14,  -0.9631,     -999.0,     -999.0,9,     -999.0,9,     -999.0,9,      -3.01,2,       0.04,20110408,       0549
320620110219,       S04P,     114,          1,         31,         31,2,20110408,       0408,   -67.0004,  -112.2678,       4636,   133.7,  -0.0931,  34.0956,2,  34.0928,2,    319.3,2,   316.6,2,   46.91,2,   30.76,2,    0.02,2,    2.15,2,   5.369,2,   3.007,2,   0.569,2,   2.3860,2,  2194.8,2,  2296.0,2,   7.6295,2,    25.00,   0.067,2,   1.8425,2,   -0.71,2,  -0.0926,2, -999.00,9,  -999.0,9,  -999.0,   8.273,2,   -0.23,2,-999.000,9,   41.69,2,   33.81,2, -67.0004,-112.2678,   0.012,      0.042,    34.2536,2,     -999.0,9,     -999.0,1,-999.0000,9,-999.0000,9,-999.0000,9,-999.0000,9,-999.0000,9,-999.0000,9,-999.0000,9,-999.0000,9,-999.0000,9,   0.0088,    0.14,  -0.0977,     -999.0,     -999.0,9,     -999.0,9,     -999.0,9,      -2.84,2,       0.01,20110408,       0547
320620110219,       S04P,     114,          1,         30,         30,2,20110408,       0408,   -67.0004,  -112.2678,       4636,   184.9,   0.8595,  34.2391,2,  34.2422,2,    278.4,2,   262.8,2,   55.30,2,   32.43,2,    0.00,2,    2.27,2,   3.885,2,   2.153,2,   0.396,2,   1.6190,2,  2217.1,2,  2306.2,2,   7.5881,2,    25.00,   0.029,2,   1.8555,2,    2.05,2,   0.8658,2, -999.00,9,  -999.0,9,  -999.0,   8.207,2,   -0.18,2,-999.000,9,   41.18,2,   35.37,2, -67.0004,-112.2678,   0.012,      0.042,    34.4036,2,     -999.0,9,     -999.0,1,-999.0000,9,-999.0000,9,-999.0000,9,-999.0000,9,-999.0000,9,-999.0000,9,-999.0000,9,-999.0000,9,-999.0000,9,   0.0089,    0.14,   0.8515,     -999.0,     -999.0,9,     -999.0,9,     -999.0,9,      -2.55,2,       0.11,20110408,       0546
320620110219,       S04P,     114,          1,         29,         29,2,20110408,       0408,   -67.0004,  -112.2678,       4636,   235.3,   1.7293,  34.3988,2,  34.3998,2,    208.7,2,   207.2,2,   64.72,2,   34.00,2,    0.00,2,    2.37,2,   2.231,2,   1.225,2,   0.214,2,   0.8490,2,  2241.1,2,  2315.3,2,   7.5517,2,    25.00,   0.007,2,   1.9073,2,    5.04,2,   1.7350,2, -999.00,9,  -999.0,9,  -999.0,   8.344,2,   -0.05,2,-999.000,9,   40.60,2,   36.55,2, -67.0004,-112.2678,   0.012,      0.043,    34.5620,2,     -999.0,9,     -999.0,1,-999.0000,9,-999.0000,9,-999.0000,9,-999.0000,9,-999.0000,9,-999.0000,9,-999.0000,9,-999.0000,9,-999.0000,9,   0.0092,    0.14,   1.7172,     -999.0,     -999.0,9,     -999.0,9,     -999.0,9,      -1.78,2,       0.05,20110408,       0544
320620110219,       S04P,     114,          1,         28,         28,2,20110408,       0408,   -67.0004,  -112.2678,       4636,   284.3,   2.0035,  34.4834,2,  34.4831,2,    190.3,2,   187.3,2,   69.33,2,   34.27,2,    0.00,2,    2.40,2,   1.540,2,   0.834,2,   0.135,2,   0.5820,2,  2249.5,2,  2324.6,2,   7.5459,2,    25.00,   0.022,2,   1.8747,2,    6.55,2,   2.0028,2, -999.00,9,  -999.0,9,  -999.0,   8.209,2,   -0.04,2,-999.000,9,   40.13,2,   36.95,2, -67.0004,-112.2678,   0.012,      0.042,    34.6457,2,     -999.0,9,     -999.0,1,-999.0000,9,-999.0000,9,-999.0000,9,-999.0000,9,-999.0000,9,-999.0000,9,-999.0000,9,-999.0000,9,-999.0000,9,   0.0090,    0.14,   1.9881,     -999.0,     -999.0,9,     -999.0,9,     -999.0,9,      -1.81,2,       0.18,20110408,       0542
320620110219,       S04P,     114,          1,         27,         27,2,20110408,       0408,   -67.0004,  -112.2678,       4636,   334.6,   2.0459,  34.5399,2,  34.5390,2,    178.3,2,   180.2,2,   72.91,2,   34.28,2,    0.00,2,    2.39,2,   1.181,2,   0.620,2,   0.094,2,   0.3850,2,  2253.9,2,  2331.2,2,   7.5447,2,    25.00,   0.018,2,   1.9084,2,    7.45,2,   2.0450,2, -999.00,9,  -999.0,9,  -999.0,   8.294,2,   -0.03,2,-999.000,9,   40.16,2,   36.93,2, -67.0004,-112.2678,   0.013,      0.042,    34.7019,2,     -999.0,9,     -999.0,1,-999.0000,9,-999.0000,9,-999.0000,9,-999.0000,9,-999.0000,9,-999.0000,9,-999.0000,9,-999.0000,9,-999.0000,9,   0.0092,    0.14,   2.0275,     -999.0,     -999.0,9,     -999.0,9,     -999.0,9,      -1.39,2,       0.02,20110408,       0541
320620110219,       S04P,     114,          1,         26,         26,2,20110408,       0408,   -67.0004,  -112.2678,       4636,   383.4,   2.1898,  34.5920,2,  34.5906,2,    171.6,2,   173.8,2,   75.50,2,   33.92,2,    0.00,2,    2.37,2,   0.767,2,   0.387,2,   0.059,2,   0.2120,2,  2255.9,2,  2334.2,2,   7.5496,2,    25.00,   0.019,2,   1.9179,2,    8.22,2,   2.1911,2, -999.00,9,  -999.0,9,  -999.0,   8.269,2,    0.00,2,-999.000,9,   40.54,2,   36.60,2, -67.0004,-112.2677,   0.012,      0.042,    34.7537,2,     -999.0,9,     -999.0,1,-999.0000,9,-999.0000,9,-999.0000,9,-999.0000,9,-999.0000,9,-999.0000,9,-999.0000,9,-999.0000,9,-999.0000,9,   0.0092,    0.14,   2.1681,     -999.0,     -999.0,9,     -999.0,9,     -999.0,9,      -1.21,2,       0.06,20110408,       0539
320620110219,       S04P,     114,          1,         25,         25,2,20110408,       0408,   -67.0004,  -112.2678,       4636,   465.5,   2.1507,  34.6271,2,  34.6288,2,    173.1,2,   173.8,2,   77.96,2,   33.53,2,    0.00,2,    2.34,2,   0.649,2,   0.318,2,   0.047,2,   0.1840,2,  2256.6,2,  2337.3,2,   7.5573,2,    25.00,   0.005,2,-999.0000,9,-999.000,9,   2.1507,2, -999.00,9,  -999.0,9,  -999.0,-999.000,9,   -0.01,2,-999.000,9,   40.47,2,   36.30,2, -67.0004,-112.2677,   0.012,     -999.0,    34.7921,2,     -999.0,9,     -999.0,1,-999.0000,9,-999.0000,9,-999.0000,9,-999.0000,9,-999.0000,9,-999.0000,9,-999.0000,9,-999.0000,9,-999.0000,9,-999.0000,-999.000,   2.1241,     -999.0,     -999.0,9,     -999.0,9,     -999.0,9,      -1.39,2,       0.06,20110408,       0537
320620110219,       S04P,     114,          1,         24,         24,2,20110408,       0408,   -67.0004,  -112.2678,       4636,   564.7,   2.1111,  34.6629,2,  34.6631,2,    175.5,2,   175.6,2,   80.39,2,   32.96,2,    0.00,2,    2.30,2,-999.000,9,-999.000,9,-999.000,9,-999.0000,9,  2256.1,2,  2340.9,2,   7.5671,2,    25.00,-999.000,9,-999.0000,9,-999.000,9,   2.1111,2, -999.00,9,  -999.0,9,  -999.0,-999.000,9, -999.00,9,-999.000,9,   40.30,2,   35.84,2, -67.0004,-112.2677,-999.000,     -999.0,    34.8266,2,     -999.0,9,     -999.0,1,-999.0000,9,-999.0000,9,-999.0000,9,-999.0000,9,-999.0000,9,-999.0000,9,-999.0000,9,-999.0000,9,-999.0000,9,-999.0000,-999.000,   2.0786,     -999.0,     -999.0,9,     -999.0,9,     -999.0,9,     -999.0,9,     -999.0,20110408,       0534
320620110219,       S04P,     114,          1,         23,         23,2,20110408,       0408,   -67.0004,  -112.2678,       4636,   663.4,   2.0704,  34.6866,2,  34.6863,2,    178.2,2,   177.6,2,   82.09,2,   32.51,2,    0.00,2,    2.26,2,   0.416,2,   0.196,2,   0.035,2,   0.1460,2,  2255.8,2,  2342.2,2,   7.5753,2,    25.00,   0.008,2,-999.0000,9,-999.000,9,   2.0706,2, -999.00,9,  -999.0,9,  -999.0,-999.000,9,    0.00,2,-999.000,9,   40.35,2,   35.23,2, -67.0004,-112.2678,   0.012,     -999.0,    34.8498,2,     -999.0,9,     -999.0,1,-999.0000,9,-999.0000,9,-999.0000,9,-999.0000,9,-999.0000,9,-999.0000,9,-999.0000,9,-999.0000,9,-999.0000,9,-999.0000,-999.000,   2.0318,     -999.0,     -999.0,9,     -999.0,9,     -999.0,9,      -1.23,2,       0.08,20110408,       0532
320620110219,       S04P,     114,          1,         22,         22,2,20110408,       0408,   -67.0004,  -112.2678,       4636,   764.9,   1.9880,  34.7060,2,  34.7059,2,    181.1,2,   181.2,2,   84.35,2,   32.07,2,    0.00,2,    2.24,2,-999.000,9,-999.000,9,-999.000,9,-999.0000,9,  -999.0,9,  -999.0,9,-999.0000,9,  -999.00,-999.000,9,-999.0000,9,-999.000,9,   1.9888,2, -999.00,9,  -999.0,9,  -999.0,-999.000,9, -999.00,9,-999.000,9,   40.00,2,   34.95,2, -67.0004,-112.2678,-999.000,     -999.0,    34.8695,2,     -999.0,9,     -999.0,9,-999.0000,9,-999.0000,9,-999.0000,9,-999.0000,9,-999.0000,9,-999.0000,9,-999.0000,9,-999.0000,9,-999.0000,9,-999.0000,-999.000,   1.9434,     -999.0,     -999.0,9,     -999.0,9,     -999.0,9,     -999.0,9,     -999.0,20110408,       0530
320620110219,       S04P,     114,          1,         21,         21,2,20110408,       0408,   -67.0004,  -112.2678,       4636,   865.6,   1.9236,  34.7168,2,  34.7167,2,    184.7,2,   183.7,2,   85.78,2,   31.80,2,    0.00,2,    2.22,2,   0.280,2,   0.142,2,   0.015,2,   0.1160,2,  2254.7,2,  2346.5,2,   7.5880,2,    25.00,   0.017,2,   1.8754,2,    9.70,2,   1.9233,2, -999.00,9,  -999.0,9,  -999.0,   8.179,2, -999.00,9,-999.000,9,   39.87,2,   34.13,2, -67.0004,-112.2678,   0.013,      0.042,    34.8804,2,     -999.0,9,     -999.0,1,-999.0000,9,-999.0000,9,-999.0000,9,-999.0000,9,-999.0000,9,-999.0000,9,-999.0000,9,-999.0000,9,-999.0000,9,   0.0090,    0.14,   1.8728,     -999.0,     -999.0,9,     -999.0,9,     -999.0,9,     -999.0,9,     -999.0,20110408,       0527
320620110219,       S04P,     114,          1,         20,         20,2,20110408,       0408,   -67.0004,  -112.2678,       4636,   964.5,   1.8463,  34.7242,2,  34.7245,2,    186.5,2,   185.4,2,   88.07,2,   31.60,2,    0.00,2,    2.21,2,-999.000,9,-999.000,9,-999.000,9,-999.0000,9,  -999.0,9,  -999.0,9,-999.0000,9,  -999.00,-999.000,9,-999.0000,9,-999.000,9,   1.8453,2, -999.00,9,  -999.0,9,  -999.0,-999.000,9, -999.00,9,-999.000,9,   40.22,2,   34.30,2, -67.0004,-112.2678,-999.000,     -999.0,    34.8883,2,     -999.0,9,     -999.0,9,-999.0000,9,-999.0000,9,-999.0000,9,-999.0000,9,-999.0000,9,-999.0000,9,-999.0000,9,-999.0000,9,-999.0000,9,-999.0000,-999.000,   1.7895,     -999.0,     -999.0,9,     -999.0,9,     -999.0,9,     -999.0,9,     -999.0,20110408,       0525
320620110219,       S04P,     114,          1,         19,         19,2,20110408,       0408,   -67.0004,  -112.2678,       4636,  1063.6,   1.7592,  34.7299,2,  34.7302,2,    188.8,2,   188.0,2,   90.17,2,   31.43,2,    0.00,2,    2.20,2,   0.235,2,   0.115,2,   0.015,2,   0.0640,2,  2255.1,2,  2351.3,2,   7.5956,2,    25.00,   0.014,2,   1.8857,2,    9.66,2,   1.7593,2, -999.00,9,  -999.0,9,  -999.0,   8.206,2, -999.00,9,-999.000,9,   39.90,2,   34.33,2, -67.0004,-112.2678,   0.012,      0.042,    34.8940,2,     -999.0,9,     -999.0,1,-999.0000,9,-999.0000,9,-999.0000,9,-999.0000,9,-999.0000,9,-999.0000,9,-999.0000,9,-999.0000,9,-999.0000,9,   0.0091,    0.14,   1.6964,     -999.0,     -999.0,9,     -999.0,9,     -999.0,9,     -999.0,9,     -999.0,20110408,       0522
320620110219,       S04P,     114,          1,         18,         18,2,20110408,       0408,   -67.0004,  -112.2678,       4636,  1164.0,   1.6749,  34.7325,2,  34.7321,2,    190.2,2,   190.2,2,   92.45,2,   31.32,2,    0.00,2,    2.20,2,-999.000,9,-999.000,9,-999.000,9,-999.0000,9,  -999.0,9,  -999.0,9,-999.0000,9,  -999.00,-999.000,9,-999.0000,9,-999.000,9,   1.6746,2, -999.00,9,  -999.0,9,  -999.0,-999.000,9, -999.00,9,-999.000,9,   39.71,2,   34.17,2, -67.0004,-112.2678,-999.000,     -999.0,    34.8959,2,     -999.0,9,     -999.0,9,-999.0000,9,-999.0000,9,-999.0000,9,-999.0000,9,-999.0000,9,-999.0000,9,-999.0000,9,-999.0000,9,-999.0000,9,-999.0000,-999.000,   1.6060,     -999.0,     -999.0,9,     -999.0,9,     -999.0,9,     -999.0,9,     -999.0,20110408,       0520
320620110219,       S04P,     114,          1,         17,         17,2,20110408,       0408,   -67.0004,  -112.2678,       4636,  1264.6,   1.5895,  34.7332,2,  34.7331,2,    192.0,2,   191.8,2,   95.35,2,   31.32,2,    0.00,2,    2.20,2,   0.204,2,   0.099,2,   0.016,2,   0.0780,2,  2256.0,2,  2353.3,2,   7.5998,6,    25.00,   0.014,2,   1.9088,2,    9.87,2,   1.5908,2, -999.00,9,  -999.0,9,  -999.0,   8.329,2, -999.00,9,-999.000,9,   39.71,2,   34.12,2, -67.0004,-112.2678,   0.012,      0.042,    34.8969,2,     -999.0,9,     -999.0,1,-999.0000,9,-999.0000,9,-999.0000,9,-999.0000,9,-999.0000,9,-999.0000,9,-999.0000,9,-999.0000,9,-999.0000,9,   0.0092,    0.14,   1.5145,     -999.0,     -999.0,9,     -999.0,9,     -999.0,9,     -999.0,9,     -999.0,20110408,       0518
320620110219,       S04P,     114,          1,         16,         16,2,20110408,       0408,   -67.0004,  -112.2678,       4636,  1364.8,   1.5052,  34.7323,2,  34.7321,2,    193.2,2,   191.9,2,   98.16,2,   31.42,2,    0.00,2,    2.20,2,-999.000,9,-999.000,9,-999.000,9,-999.0000,9,  -999.0,9,  -999.0,9,-999.0000,9,  -999.00,-999.000,9,-999.0000,9,-999.000,9,   1.5050,2, -999.00,9,  -999.0,9,  -999.0,-999.000,9, -999.00,9,-999.000,9,   39.17,2,   34.02,2, -67.0004,-112.2678,-999.000,     -999.0,    34.8959,2,     -999.0,9,     -999.0,9,-999.0000,9,-999.0000,9,-999.0000,9,-999.0000,9,-999.0000,9,-999.0000,9,-999.0000,9,-999.0000,9,-999.0000,9,-999.0000,-999.000,   1.4240,     -999.0,     -999.0,9,     -999.0,9,     -999.0,9,     -999.0,9,     -999.0,20110408,       0515
320620110219,       S04P,     114,          1,         15,         15,2,20110408,       0408,   -67.0004,  -112.2678,       4636,  1464.4,   1.4264,  34.7310,2,  34.7300,2,   -999.0,9,  -999.0,5,  100.00,2,   31.61,2,    0.00,2,    2.21,2,   0.179,2,   0.090,2,   0.012,2,   0.0900,2,  2258.0,2,  2353.0,4,   7.6011,2,    25.00,   0.004,2,   1.9227,2,    9.82,2,   1.4258,2, -999.00,9,  -999.0,9,  -999.0,   8.395,2, -999.00,9,-999.000,9,   39.41,2,   34.00,2, -67.0004,-112.2678,   0.012,      0.043,    34.8937,2,     -999.0,9,     -999.0,1,-999.0000,9,-999.0000,9,-999.0000,9,-999.0000,9,-999.0000,9,-999.0000,9,-999.0000,9,-999.0000,9,-999.0000,9,   0.0092,    0.14,   1.3390,     -999.0,     -999.0,9,     -999.0,9,     -999.0,9,     -999.0,9,     -999.0,20110408,       0513
320620110219,       S04P,     114,          1,         14,         14,2,20110408,       0408,   -67.0004,  -112.2678,       4636,  1565.8,   1.3581,  34.7294,2,  34.7297,2,    194.9,2,   195.2,2,  102.28,2,   31.67,2,    0.00,2,    2.21,2,-999.000,9,-999.000,9,-999.000,9,-999.0000,9,  -999.0,9,  -999.0,9,-999.0000,9,  -999.00,-999.000,9,-999.0000,9,-999.000,9,   1.3579,2, -999.00,9,  -999.0,9,  -999.0,-999.000,9, -999.00,9,-999.000,9,   39.60,2,   34.28,2, -67.0004,-112.2677,-999.000,     -999.0,    34.8935,2,     -999.0,9,     -999.0,9,-999.0000,9,-999.0000,9,-999.0000,9,-999.0000,9,-999.0000,9,-999.0000,9,-999.0000,9,-999.0000,9,-999.0000,9,-999.0000,-999.000,   1.2642,     -999.0,     -999.0,9,     -999.0,9,     -999.0,9,     -999.0,9,     -999.0,20110408,       0510