BOTTLE,20220813CCHSIOAMB
EXPOCODE,SECT_ID,STNNBR,CASTNO,SAMPNO,BTLNBR,BTLNBR_FLAG_W,DATE,TIME,LATITUDE,LONGITUDE,DEPTH,CTDPRS,CTDTMP,CTDSAL,CTDSAL_FLAG_W,SALNTY,SALNTY_FLAG_W,CTDOXY,CTDOXY_FLAG_W,OXYGEN,OXYGEN_FLAG_W,SILCAT,SILCAT_FLAG_W,NITRAT,NITRAT_FLAG_W,NITRIT,NITRIT_FLAG_W,PHSPHT,PHSPHT_FLAG_W,CFC-11,CFC-11_FLAG_W,CFC-12,CFC-12_FLAG_W,CFC113,CFC113_FLAG_W,SF6,SF6_FLAG_W,TCARBN,TCARBN_FLAG_W,ALKALI,ALKALI_FLAG_W,PH_TOT,PH_TOT_FLAG_W,PH_TMP,TRITUM,TRITUM_FLAG_W,HELIUM,HELIUM_FLAG_W,DELHE3,DELHE3_FLAG_W,REFTMP,REFTMP_FLAG_W,DELC13,DELC13_FLAG_W,DELC14,DELC14_FLAG_W,C14ERR,NEON,NEON_FLAG_W,DELO18,DELO18_FLAG_W,POC,POC_FLAG_W,DOC,DOC_FLAG_W,TDN,TDN_FLAG_W,BTL_LAT,BTL_LON,TRITER,NEONER,SALTREF,SALTREF_FLAG_W,PIGMENTS,PIGMENTS_FLAG_W,LAB_DEN,LAB_DEN_FLAG_W,CDOM325,CDOM325_FLAG_W,CDOM340,CDOM340_FLAG_W,CDOM380,CDOM380_FLAG_W,CDOM412,CDOM412_FLAG_W,CDOM443,CDOM443_FLAG_W,CDOM490,CDOM490_FLAG_W,CDOM555,CDOM555_FLAG_W,CDOMSL,CDOMSL_FLAG_W,CDOMSN,CDOMSN_FLAG_W,HELIER,DELHER,THETA,LDEO_SAMPNO,ABSORBTION,ABSORBTION_FLAG_W,IMAGE_COUNT,IMAGE_COUNT_FLAG_W,CYTO_COUNT,CYTO_COUNT_FLAG_W,DELD,DELD_FLAG_W,DELDERR,BTL_DATE,BTL_TIME
,,,,,,,,,,,METERS,DBAR,ITS-90,PSS-78,,PSS-78,,UMOL/KG,,UMOL/KG,,UMOL/KG,,UMOL/KG,,UMOL/KG,,UMOL/KG,,PMOL/KG,,PMOL/KG,,PMOL/KG,,FMOL/KG,,UMOL/KG,,UMOL/KG,,,,DEG C,TU,,NMOL/KG,,PERCNT,,DEG C,,/MILLE,,/MILLE,,/MILLE,NMOL/KG,,/MILLE,,UG/KG,,UMOL/KG,,UMOL/KG,,,,TU,NMOL/KG,G/KG,,,,,,1/M,,1/M,,1/M,,1/M,,1/M,,1/M,,1/M,,1/NM,,1/NM,,NMOL/KG,PERCNT,DEG C,,,,,,,,/MILLE,,/MILLE,,
320620110219,       S04P,      17,          1,         36,         36,2,20110228,       1702,   -67.2503,   174.4691,       3276,     4.0,  -0.9943,  33.3542,2,  33.3538,2,    342.4,3,   344.4,2,   63.84,2,   26.71,2,    0.16,2,    1.87,4,   6.214,2,   3.408,2,   0.626,2,   2.8300,2,  2146.1,2,  2258.0,2,   7.6620,2,    25.00,-999.000,9,-999.0000,9,-999.000,9,  -0.9907,2, -999.00,9,  -999.0,9,  -999.0,-999.000,9, -999.00,9,-999.000,9,   43.85,2,   29.54,2, -67.2502, 174.4692,-999.000,     -999.0,    33.5111,2,     -999.0,9,     -999.0,9,-999.0000,9,-999.0000,9,-999.0000,9,-999.0000,9,-999.0000,9,-999.0000,9,-999.0000,9,-999.0000,9,-999.0000,9,-999.0000,-999.000,  -0.9944,     -999.0,     -999.0,9,     -999.0,9,     -999.0,9,     -999.0,9,     -999.0,20110228,       1839
320620110219,       S04P,      17,          1,         35,         35,2,20110228,       1702,   -67.2503,   174.4691,       3276,    19.9,  -1.0054,  33.3573,2,  33.3564,2,    344.4,2,   344.1,2,   63.64,2,   26.78,2,    0.15,2,    1.90,4,   6.169,2,   3.404,2,   0.628,2,   2.8200,2,  2147.3,2,  2260.1,2,   7.6618,2,    25.00,-999.000,9,-999.0000,9,-999.000,9,  -1.0057,2, -999.00,9,  -999.0,9,  -999.0,-999.000,9, -999.00,9,-999.000,9,   43.42,2,   29.96,2, -67.2503, 174.4691,-999.000,     -999.0,    33.5137,2,     -999.0,9,     -999.0,9,-999.0000,9,-999.0000,9,-999.0000,9,-999.0000,9,-999.0000,9,-999.0000,9,-999.0000,9,-999.0000,9,-999.0000,9,-999.0000,-999.000,  -1.0059,     -999.0,     -999.0,9,     -999.0,9,     -999.0,9,     -999.0,9,     -999.0,20110228,       1838
320620110219,       S04P,      17,          1,         34,         34,2,20110228,       1702,   -67.2503,   174.4691,       3276,    38.8,  -1.1975,  33.6826,3,  33.5304,2,    341.9,2,   336.7,2,   63.08,2,   26.99,2,    0.14,2,    1.90,4,   5.877,2,   3.223,2,   0.592,2,-999.0000,9,  2157.6,2,  2269.2,2,   7.6577,2,    25.00,-999.000,9,-999.0000,9,-999.000,9,  -1.1957,2, -999.00,9,  -999.0,9,  -999.0,-999.000,9, -999.00,9,-999.000,9,   43.35,2,   30.35,2, -67.2503, 174.4691,-999.000,     -999.0,    33.6885,2,     -999.0,9,     -999.0,9,-999.0000,9,-999.0000,9,-999.0000,9,-999.0000,9,-999.0000,9,-999.0000,9,-999.0000,9,-999.0000,9,-999.0000,9,-999.0000,-999.000,  -1.1984,     -999.0,     -999.0,9,     -999.0,9,     -999.0,9,     -999.0,9,     -999.0,20110228,       1836
320620110219,       S04P,      17,          1,         33,         33,3,20110228,       1702,   -67.2503,   174.4691,       3276,    64.5,  -1.7351,  34.2252,2,  34.2260,2,    295.7,2,   293.9,2,   63.22,2,   29.47,2,    0.10,2,    2.05,4,-999.000,9,-999.000,9,-999.000,9,-999.0000,9,  -999.0,9,  -999.0,9,-999.0000,9,  -999.00,-999.000,9,-999.0000,9,-999.000,9,  -1.7351,2, -999.00,9,  -999.0,9,  -999.0,-999.000,9, -999.00,9,-999.000,9, -999.00,9, -999.00,9, -67.2503, 174.4691,-999.000,     -999.0,    34.3874,2,     -999.0,9,     -999.0,9,-999.0000,9,-999.0000,9,-999.0000,9,-999.0000,9,-999.0000,9,-999.0000,9,-999.0000,9,-999.0000,9,-999.0000,9,-999.0000,-999.000,  -1.7364,     -999.0,     -999.0,9,     -999.0,9,     -999.0,9,     -999.0,9,     -999.0,20110228,       1835
320620110219,       S04P,      17,          1,         32,         32,2,20110228,       1702,   -67.2503,   174.4691,       3276,    91.9,  -1.7563,  34.2496,2,  34.2479,2,    272.3,2,   283.3,2,   65.49,2,   30.20,2,    0.14,2,    2.11,4,   4.247,2,   2.355,2,   0.444,2,   1.7080,2,  2214.1,2,  2312.9,2,   7.6111,2,    25.00,-999.000,9,-999.0000,9,-999.000,9,  -1.7606,2, -999.00,9,  -999.0,9,  -999.0,-999.000,9, -999.00,9,-999.000,9,   41.48,2,   33.12,2, -67.2503, 174.4690,-999.000,     -999.0,    34.4094,2,     -999.0,9,     -999.0,9,-999.0000,9,-999.0000,9,-999.0000,9,-999.0000,9,-999.0000,9,-999.0000,9,-999.0000,9,-999.0000,9,-999.0000,9,-999.0000,-999.000,  -1.7581,     -999.0,     -999.0,9,     -999.0,9,     -999.0,9,     -999.0,9,     -999.0,20110228,       1833
320620110219,       S04P,      17,          1,         31,         31,2,20110228,       1702,   -67.2503,   174.4691,       3276,   116.4,  -0.8558,  34.3539,2,  34.3520,2,    247.4,2,   255.3,2,   71.05,2,   31.32,2,    0.06,2,    2.19,4,   3.459,2,   1.891,2,   0.360,2,   1.1490,2,  2226.1,2,  2319.7,2,   7.5906,6,    25.00,-999.000,9,-999.0000,9,-999.000,9,  -0.8467,2, -999.00,9,  -999.0,9,  -999.0,-999.000,9, -999.00,9,-999.000,9,   41.41,2,   34.25,2, -67.2503, 174.4691,-999.000,     -999.0,    34.5139,2,     -999.0,9,     -999.0,9,-999.0000,9,-999.0000,9,-999.0000,9,-999.0000,9,-999.0000,9,-999.0000,9,-999.0000,9,-999.0000,9,-999.0000,9,-999.0000,-999.000,  -0.8591,     -999.0,     -999.0,9,     -999.0,9,     -999.0,9,     -999.0,9,     -999.0,20110228,       1831
320620110219,       S04P,      17,          1,         30,         30,2,20110228,       1702,   -67.2503,   174.4691,       3276,   138.3,   0.1539,  34.4712,2,  34.4564,2,    220.4,2,   230.3,2,   76.53,2,   32.02,2,    0.04,2,    2.25,4,-999.000,9,-999.000,9,-999.000,9,-999.0000,9,  2236.6,2,  2326.4,6,   7.5751,2,    25.00,-999.000,9,-999.0000,9,-999.000,9,   0.1400,2, -999.00,9,  -999.0,9,  -999.0,-999.000,9, -999.00,9,-999.000,9,   41.27,2,   35.30,2, -67.2503, 174.4690,-999.000,     -999.0,    34.6189,2,     -999.0,9,     -999.0,9,-999.0000,9,-999.0000,9,-999.0000,9,-999.0000,9,-999.0000,9,-999.0000,9,-999.0000,9,-999.0000,9,-999.0000,9,-999.0000,-999.000,   0.1487,     -999.0,     -999.0,9,     -999.0,9,     -999.0,9,     -999.0,9,     -999.0,20110228,       1829
320620110219,       S04P,      17,          1,         29,         29,2,20110228,       1702,   -67.2503,   174.4691,       3276,   184.6,   1.0963,  34.6110,2,  34.6131,2,    195.8,2,   196.2,2,   87.07,2,   32.78,2,    0.03,2,    2.30,4,   1.042,2,   0.592,2,   0.102,2,   0.3040,2,  2252.4,2,  2338.3,2,   7.5626,6,    25.00,-999.000,9,-999.0000,9,-999.000,9,   1.0929,2, -999.00,9,  -999.0,9,  -999.0,-999.000,9, -999.00,9,-999.000,9,   40.92,2,   35.91,2, -67.2503, 174.4690,-999.000,     -999.0,    34.7763,2,     -999.0,9,     -999.0,9,-999.0000,9,-999.0000,9,-999.0000,9,-999.0000,9,-999.0000,9,-999.0000,9,-999.0000,9,-999.0000,9,-999.0000,9,-999.0000,-999.000,   1.0878,     -999.0,     -999.0,9,     -999.0,9,     -999.0,9,     -999.0,9,     -999.0,20110228,       1828
320620110219,       S04P,      17,          1,         28,         28,2,20110228,       1702,   -67.2503,   174.4691,       3276,   234.1,   1.4452,  34.6772,2,  34.6755,2,    186.9,2,   186.5,2,   90.59,2,   32.77,2,    0.02,2,    2.31,4,-999.000,9,-999.000,9,-999.000,9,-999.0000,9,  2259.2,2,  2342.9,2,   7.5644,2,    25.00,-999.000,9,-999.0000,9,-999.000,9,   1.4450,2, -999.00,9,  -999.0,9,  -999.0,-999.000,9, -999.00,9,-999.000,9,   40.62,2,   35.86,2, -67.2503, 174.4690,-999.000,     -999.0,    34.8390,2,     -999.0,9,     -999.0,9,-999.0000,9,-999.0000,9,-999.0000,9,-999.0000,9,-999.0000,9,-999.0000,9,-999.0000,9,-999.0000,9,-999.0000,9,-999.0000,-999.000,   1.4336,     -999.0,     -999.0,9,     -999.0,9,     -999.0,9,     -999.0,9,     -999.0,20110228,       1826
320620110219,       S04P,      17,          1,         27,         27,2,20110228,       1702,   -67.2503,   174.4691,       3276,   285.8,   1.4667,  34.6979,2,  34.6965,2,    186.9,2,   186.6,2,   92.96,2,   32.54,2,    0.00,2,    2.28,4,   0.444,2,   0.242,2,   0.047,2,   0.0730,2,  2258.1,2,  2345.2,2,   7.5694,2,    25.00,-999.000,9,-999.0000,9,-999.000,9,   1.4645,2, -999.00,9,  -999.0,9,  -999.0,-999.000,9, -999.00,9,-999.000,9,   40.22,2,   36.47,2, -67.2503, 174.4691,-999.000,     -999.0,    34.8601,2,     -999.0,9,     -999.0,9,-999.0000,9,-999.0000,9,-999.0000,9,-999.0000,9,-999.0000,9,-999.0000,9,-999.0000,9,-999.0000,9,-999.0000,9,-999.0000,-999.000,   1.4524,     -999.0,     -999.0,9,     -999.0,9,     -999.0,9,     -999.0,9,     -999.0,20110228,       1824
320620110219,       S04P,      17,          1,         26,         26,2,20110228,       1702,   -67.2503,   174.4691,       3276,   338.7,   1.4241,  34.7051,2,  34.7030,2,    187.8,2,   188.1,2,   95.54,2,   32.33,2,    0.00,2,    2.28,4,-999.000,9,-999.000,9,-999.000,9,-999.0000,9,  2257.9,2,  2347.3,2,   7.5710,2,    25.00,-999.000,9,-999.0000,9,-999.000,9,   1.4240,2, -999.00,9,  -999.0,9,  -999.0,-999.000,9, -999.00,9,-999.000,9,   40.03,2,   35.61,2, -67.2503, 174.4691,-999.000,     -999.0,    34.8666,2,     -999.0,9,     -999.0,9,-999.0000,9,-999.0000,9,-999.0000,9,-999.0000,9,-999.0000,9,-999.0000,9,-999.0000,9,-999.0000,9,-999.0000,9,-999.0000,-999.000,   1.4071,     -999.0,     -999.0,9,     -999.0,9,     -999.0,9,     -999.0,9,     -999.0,20110228,       1822
320620110219,       S04P,      17,          1,         25,         25,2,20110228,       1702,   -67.2503,   174.4691,       3276,   385.7,   1.4471,  34.7152,2,  34.7151,2,    187.2,2,   186.7,2,   96.29,2,   32.30,2,    0.00,2,    2.28,4,   0.316,2,   0.172,2,   0.029,2,   0.0680,2,  -999.0,9,  -999.0,9,-999.0000,9,  -999.00,-999.000,9,-999.0000,9,-999.000,9,   1.4469,2, -999.00,9,  -999.0,9,  -999.0,-999.000,9, -999.00,9,-999.000,9,   39.98,2,   35.49,2, -67.2503, 174.4690,-999.000,     -999.0,    34.8788,2,     -999.0,9,     -999.0,9,-999.0000,9,-999.0000,9,-999.0000,9,-999.0000,9,-999.0000,9,-999.0000,9,-999.0000,9,-999.0000,9,-999.0000,9,-999.0000,-999.000,   1.4275,     -999.0,     -999.0,9,     -999.0,9,     -999.0,9,     -999.0,9,     -999.0,20110228,       1820
320620110219,       S04P,      17,          1,         24,         24,2,20110228,       1702,   -67.2503,   174.4691,       3276,   433.9,   1.4176,  34.7187,2,  34.7181,2,    187.5,2,   188.3,2,   98.07,2,   32.29,2,    0.00,2,    2.28,4,-999.000,9,-999.000,9,-999.000,9,-999.0000,9,  2260.4,2,  2350.1,2,   7.5753,2,    25.00,-999.000,9,-999.0000,9,-999.000,9,   1.4170,2, -999.00,9,  -999.0,9,  -999.0,-999.000,9, -999.00,9,-999.000,9,   39.52,2,   35.06,2, -67.2503, 174.4691,-999.000,     -999.0,    34.8818,2,     -999.0,9,     -999.0,9,-999.0000,9,-999.0000,9,-999.0000,9,-999.0000,9,-999.0000,9,-999.0000,9,-999.0000,9,-999.0000,9,-999.0000,9,-999.0000,-999.000,   1.3955,     -999.0,     -999.0,9,     -999.0,9,     -999.0,9,     -999.0,9,     -999.0,20110228,       1819
320620110219,       S04P,      17,          1,         23,         23,2,20110228,       1702,   -67.2503,   174.4691,       3276,   484.5,   1.3788,  34.7200,2,  34.7200,2,    188.6,2,   188.3,2,   99.98,2,   32.28,2,    0.00,2,    2.32,4,   0.258,2,   0.131,2,   0.014,2,-999.0000,9,  -999.0,9,  -999.0,9,-999.0000,9,  -999.00,-999.000,9,-999.0000,9,-999.000,9,   1.3789,2, -999.00,9,  -999.0,9,  -999.0,-999.000,9, -999.00,9,-999.000,9,   39.23,2,   35.83,2, -67.2503, 174.4690,-999.000,     -999.0,    34.8838,2,     -999.0,9,     -999.0,9,-999.0000,9,-999.0000,9,-999.0000,9,-999.0000,9,-999.0000,9,-999.0000,9,-999.0000,9,-999.0000,9,-999.0000,9,-999.0000,-999.000,   1.3540,     -999.0,     -999.0,9,     -999.0,9,     -999.0,9,     -999.0,9,     -999.0,20110228,       1817
320620110219,       S04P,      17,          1,         22,         22,2,20110228,       1702,   -67.2503,   174.4691,       3276,   563.2,   1.3022,  34.7199,2,  34.7181,2,    188.8,2,   189.1,2,  102.84,2,   32.31,2,    0.00,2,    2.31,4,-999.000,9,-999.000,9,-999.000,9,-999.0000,9,  2262.4,2,  2351.7,2,   7.5773,2,    25.00,-999.000,9,-999.0000,9,-999.000,9,   1.3021,2, -999.00,9,  -999.0,9,  -999.0,-999.000,9, -999.00,9,-999.000,9,   39.57,2,   35.68,2, -67.2503, 174.4691,-999.000,     -999.0,    34.8818,2,     -999.0,9,     -999.0,9,-999.0000,9,-999.0000,9,-999.0000,9,-999.0000,9,-999.0000,9,-999.0000,9,-999.0000,9,-999.0000,9,-999.0000,9,-999.0000,-999.000,   1.2734,     -999.0,     -999.0,9,     -999.0,9,     -999.0,9,     -999.0,9,     -999.0,20110228,       1814
320620110219,       S04P,      17,          1,         21,         21,2,20110228,       1702,   -67.2503,   174.4691,       3276,   664.1,   1.2462,  34.7225,2,  34.7222,2,    189.8,2,   190.1,2,  105.42,2,   32.44,2,    0.00,2,    2.27,4,   0.173,2,   0.089,2,   0.019,2,   0.0460,2,  -999.0,9,  -999.0,9,-999.0000,9,  -999.00,-999.000,9,-999.0000,9,-999.000,9,   1.2463,2, -999.00,9,  -999.0,9,  -999.0,-999.000,9, -999.00,9,-999.000,9,   39.55,2,   35.12,2, -67.2503, 174.4691,-999.000,     -999.0,    34.8859,2,     -999.0,9,     -999.0,9,-999.0000,9,-999.0000,9,-999.0000,9,-999.0000,9,-999.0000,9,-999.0000,9,-999.0000,9,-999.0000,9,-999.0000,9,-999.0000,-999.000,   1.2120,     -999.0,     -999.0,9,     -999.0,9,     -999.0,9,     -999.0,9,     -999.0,20110228,       1811
320620110219,       S04P,      17,          1,         20,         20,2,20110228,       1702,   -67.2503,   174.4691,       3276,   764.9,   1.1904,  34.7237,2,  34.7234,2,    190.5,2,   191.3,2,  107.70,2,   32.38,2,    0.00,2,    2.12,4,-999.000,9,-999.000,9,-999.000,9,-999.0000,9,  2262.7,2,  2354.3,2,   7.5798,4,    25.00,-999.000,9,-999.0000,9,-999.000,9,   1.1901,2, -999.00,9,  -999.0,9,  -999.0,-999.000,9, -999.00,9,-999.000,9,   39.78,2,   35.14,2, -67.2503, 174.4691,-999.000,     -999.0,    34.8871,2,     -999.0,9,     -999.0,9,-999.0000,9,-999.0000,9,-999.0000,9,-999.0000,9,-999.0000,9,-999.0000,9,-999.0000,9,-999.0000,9,-999.0000,9,-999.0000,-999.000,   1.1507,     -999.0,     -999.0,9,     -999.0,9,     -999.0,9,     -999.0,9,     -999.0,20110228,       1809
320620110219,       S04P,      17,          1,         19,         19,2,20110228,       1702,   -67.2503,   174.4691,       3276,   864.6,   1.1227,  34.7224,2,  34.7226,2,    192.5,2,   192.6,2,  109.78,2,   32.32,2,    0.00,2,    2.14,4,   0.119,2,   0.059,2,   0.009,2,   0.0190,2,  -999.0,9,  -999.0,9,-999.0000,9,  -999.00,-999.000,9,-999.0000,9,-999.000,9,   1.1225,2, -999.00,9,  -999.0,9,  -999.0,-999.000,9, -999.00,9,-999.000,9,   39.65,2,   35.35,2, -67.2503, 174.4691,-999.000,     -999.0,    34.8863,2,     -999.0,9,     -999.0,9,-999.0000,9,-999.0000,9,-999.0000,9,-999.0000,9,-999.0000,9,-999.0000,9,-999.0000,9,-999.0000,9,-999.0000,9,-999.0000,-999.000,   1.0775,     -999.0,     -999.0,9,     -999.0,9,     -999.0,9,     -999.0,9,     -999.0,20110228,       1806
320620110219,       S04P,      17,          1,         18,         18,2,20110228,       1702,   -67.2503,   174.4691,       3276,   965.8,   1.0663,  34.7211,2,  34.7212,2,    194.6,2,   194.1,2,  111.64,2,   32.36,2,    0.00,2,    2.14,4,-999.000,9,-999.000,9,-999.000,9,-999.0000,9,  2264.6,2,  2356.4,2,   7.5849,4,    25.00,-999.000,9,-999.0000,9,-999.000,9,   1.0666,2, -999.00,9,  -999.0,9,  -999.0,-999.000,9, -999.00,9,-999.000,9,   39.55,2,   34.72,2, -67.2503, 174.4690,-999.000,     -999.0,    34.8850,2,     -999.0,9,     -999.0,9,-999.0000,9,-999.0000,9,-999.0000,9,-999.0000,9,-999.0000,9,-999.0000,9,-999.0000,9,-999.0000,9,-999.0000,9,-999.0000,-999.000,   1.0154,     -999.0,     -999.0,9,     -999.0,9,     -999.0,9,     -999.0,9,     -999.0,20110228,       1803
320620110219,       S04P,      17,          1,         17,         17,2,20110228,       1702,   -67.2503,   174.4691,       3276,  1063.5,   1.0085,  34.7193,2,  34.7187,2,    195.7,2,   196.0,2,  113.62,2,   32.35,2,    0.00,2,    2.15,4,   0.100,2,   0.057,2,   0.006,2,   0.0200,2,  -999.0,9,  -999.0,9,-999.0000,9,  -999.00,-999.000,9,-999.0000,9,-999.000,9,   1.0098,2, -999.00,9,  -999.0,9,  -999.0,-999.000,9, -999.00,9,-999.000,9,   39.08,2,   34.64,2, -67.2503, 174.4690,-999.000,     -999.0,    34.8824,2,     -999.0,9,     -999.0,9,-999.0000,9,-999.0000,9,-999.0000,9,-999.0000,9,-999.0000,9,-999.0000,9,-999.0000,9,-999.0000,9,-999.0000,9,-999.0000,-999.000,   0.9521,     -999.0,     -999.0,9,     -999.0,9,     -999.0,9,     -999.0,9,     -999.0,20110228,       1801
320620110219,       S04P,      17,          1,         16,         16,2,20110228,       1702,   -67.2503,   174.4691,       3276,  1161.7,   0.9592,  34.7178,2,  34.7171,2,    197.3,2,   197.0,2,  115.08,2,   32.42,2,    0.00,2,    2.15,4,-999.000,9,-999.000,9,-999.000,9,-999.0000,9,  2264.5,2,  2357.4,2,   7.5850,2,    25.00,-999.000,9,-999.0000,9,-999.000,9,   0.9592,2, -999.00,9,  -999.0,9,  -999.0,-999.000,9, -999.00,9,-999.000,9,   39.09,2,   35.00,2, -67.2503, 174.4691,-999.000,     -999.0,    34.8808,2,     -999.0,9,     -999.0,9,-999.0000,9,-999.0000,9,-999.0000,9,-999.0000,9,-999.0000,9,-999.0000,9,-999.0000,9,-999.0000,9,-999.0000,9,-999.0000,-999.000,   0.8971,     -999.0,     -999.0,9,     -999.0,9,     -999.0,9,     -999.0,9,     -999.0,20110228,       1758
320620110219,       S04P,      17,          1,         15,         15,2,20110228,       1702,   -67.2503,   174.4691,       3276,  1265.7,   0.8965,  34.7158,2,  34.7154,2,    198.8,2,   198.6,2,  117.51,2,   32.49,2,    0.00,2,    2.15,4,   0.091,2,   0.057,2,   0.008,2,   0.0420,2,  -999.0,9,  -999.0,9,-999.0000,9,  -999.00,-999.000,9,-999.0000,9,-999.000,9,   0.8965,2, -999.00,9,  -999.0,9,  -999.0,-999.000,9, -999.00,9,-999.000,9,   38.98,2,   35.16,2, -67.2503, 174.4690,-999.000,     -999.0,    34.8791,2,     -999.0,9,     -999.0,9,-999.0000,9,-999.0000,9,-999.0000,9,-999.0000,9,-999.0000,9,-999.0000,9,-999.0000,9,-999.0000,9,-999.0000,9,-999.0000,-999.000,   0.8284,     -999.0,     -999.0,9,     -999.0,9,     -999.0,9,     -999.0,9,     -999.0,20110228,       1755
320620110219,       S04P,      17,          1,         14,         14,2,20110228,       1702,   -67.2503,   174.4691,       3276,  1365.1,   0.8521,  34.7140,2,  34.7146,2,    199.9,2,   199.4,2,  119.05,2,   32.57,2,    0.00,2,    2.15,4,-999.000,9,-999.000,9,-999.000,9,-999.0000,9,  -999.0,9,  -999.0,9,-999.0000,9,  -999.00,-999.000,9,-999.0000,9,-999.000,9,   0.8523,2, -999.00,9,  -999.0,9,  -999.0,-999.000,9, -999.00,9,-999.000,9,   39.02,2,   35.51,2, -67.2503, 174.4690,-999.000,     -999.0,    34.8783,2,     -999.0,9,     -999.0,9,-999.0000,9,-999.0000,9,-999.0000,9,-999.0000,9,-999.0000,9,-999.0000,9,-999.0000,9,-999.0000,9,-999.0000,9,-999.0000,-999.000,   0.7780,     -999.0,     -999.0,9,     -999.0,9,     -999.0,9,     -999.0,9,     -999.0,20110228,       1752