BOTTLE,20220813CCHSIOAMB
EXPOCODE,SECT_ID,STNNBR,CASTNO,SAMPNO,BTLNBR,BTLNBR_FLAG_W,DATE,TIME,LATITUDE,LONGITUDE,DEPTH,CTDPRS,CTDTMP,CTDSAL,CTDSAL_FLAG_W,SALNTY,SALNTY_FLAG_W,CTDOXY,CTDOXY_FLAG_W,OXYGEN,OXYGEN_FLAG_W,SILCAT,SILCAT_FLAG_W,NITRAT,NITRAT_FLAG_W,NITRIT,NITRIT_FLAG_W,PHSPHT,PHSPHT_FLAG_W,CFC-11,CFC-11_FLAG_W,CFC-12,CFC-12_FLAG_W,CFC113,CFC113_FLAG_W,SF6,SF6_FLAG_W,TCARBN,TCARBN_FLAG_W,ALKALI,ALKALI_FLAG_W,PH_TOT,PH_TOT_FLAG_W,PH_TMP,TRITUM,TRITUM_FLAG_W,HELIUM,HELIUM_FLAG_W,DELHE3,DELHE3_FLAG_W,REFTMP,REFTMP_FLAG_W,DELC13,DELC13_FLAG_W,DELC14,DELC14_FLAG_W,C14ERR,NEON,NEON_FLAG_W,DELO18,DELO18_FLAG_W,POC,POC_FLAG_W,DOC,DOC_FLAG_W,TDN,TDN_FLAG_W,BTL_LAT,BTL_LON,TRITER,NEONER,SALTREF,SALTREF_FLAG_W,PIGMENTS,PIGMENTS_FLAG_W,LAB_DEN,LAB_DEN_FLAG_W,CDOM325,CDOM325_FLAG_W,CDOM340,CDOM340_FLAG_W,CDOM380,CDOM380_FLAG_W,CDOM412,CDOM412_FLAG_W,CDOM443,CDOM443_FLAG_W,CDOM490,CDOM490_FLAG_W,CDOM555,CDOM555_FLAG_W,CDOMSL,CDOMSL_FLAG_W,CDOMSN,CDOMSN_FLAG_W,HELIER,DELHER,THETA,LDEO_SAMPNO,ABSORBTION,ABSORBTION_FLAG_W,IMAGE_COUNT,IMAGE_COUNT_FLAG_W,CYTO_COUNT,CYTO_COUNT_FLAG_W,DELD,DELD_FLAG_W,DELDERR,BTL_DATE,BTL_TIME
,,,,,,,,,,,METERS,DBAR,ITS-90,PSS-78,,PSS-78,,UMOL/KG,,UMOL/KG,,UMOL/KG,,UMOL/KG,,UMOL/KG,,UMOL/KG,,PMOL/KG,,PMOL/KG,,PMOL/KG,,FMOL/KG,,UMOL/KG,,UMOL/KG,,,,DEG C,TU,,NMOL/KG,,PERCNT,,DEG C,,/MILLE,,/MILLE,,/MILLE,NMOL/KG,,/MILLE,,UG/KG,,UMOL/KG,,UMOL/KG,,,,TU,NMOL/KG,G/KG,,,,,,1/M,,1/M,,1/M,,1/M,,1/M,,1/M,,1/M,,1/NM,,1/NM,,NMOL/KG,PERCNT,DEG C,,,,,,,,/MILLE,,/MILLE,,
320620110219,       P15S,      89,          1,         36,         36,2,20110325,       1523,   -72.3893,  -169.9999,       3955,     5.5,  -1.2241,  33.8413,2,  33.8401,2,    336.7,3,   339.9,2,   49.84,2,   23.62,2,    0.05,2,    1.72,2,   6.096,2,   3.316,2,   0.607,2,   2.5920,2,  2162.9,2,  2292.7,6,   7.7035,2,    25.00,-999.000,9,-999.0000,9,-999.000,9,  -1.2250,2, -999.00,9,  -999.0,9,  -999.0,-999.000,9, -999.00,9,-999.000,9,   43.90,2,   28.29,2, -72.3893,-169.9997,-999.000,     -999.0,    33.9996,2,     -999.0,9,     -999.0,1,-999.0000,9,-999.0000,9,-999.0000,9,-999.0000,9,-999.0000,9,-999.0000,9,-999.0000,9,-999.0000,9,-999.0000,9,-999.0000,-999.000,  -1.2242,     -999.0,     -999.0,9,     -999.0,9,     -999.0,9,     -999.0,9,     -999.0,20110325,       1704
320620110219,       P15S,      89,          1,         35,         35,2,20110325,       1523,   -72.3893,  -169.9999,       3955,    25.0,  -1.2283,  33.8413,2,  33.8391,2,    340.3,2,   339.9,2,   49.90,2,   23.64,2,    0.06,2,    1.73,2,   6.088,2,   3.301,2,   0.607,2,   2.4560,2,  2161.2,2,  2293.5,2,   7.7026,6,    25.00,-999.000,9,-999.0000,9,-999.000,9,  -1.2285,2, -999.00,9,  -999.0,9,  -999.0,-999.000,9, -999.00,9,-999.000,9,   44.13,2,   28.41,2, -72.3893,-169.9998,-999.000,     -999.0,    33.9987,2,     -999.0,9,     -999.0,1,-999.0000,9,-999.0000,9,-999.0000,9,-999.0000,9,-999.0000,9,-999.0000,9,-999.0000,9,-999.0000,9,-999.0000,9,-999.0000,-999.000,  -1.2289,     -999.0,     -999.0,9,     -999.0,9,     -999.0,9,     -999.0,9,     -999.0,20110325,       1703
320620110219,       P15S,      89,          1,         34,         34,2,20110325,       1523,   -72.3893,  -169.9999,       3955,    49.1,  -1.5602,  34.0625,3,  33.9927,2,    338.2,2,   311.6,2,   53.98,2,   26.53,2,    0.07,2,    1.92,2,   5.184,2,   2.831,2,   0.445,2,   2.1390,2,  2184.3,6,  2300.0,2,   7.6558,2,    25.00,-999.000,9,-999.0000,9,-999.000,9,  -1.5399,2, -999.00,9,  -999.0,9,  -999.0,-999.000,9, -999.00,9,-999.000,9,   43.18,2,   31.16,2, -72.3893,-169.9998,-999.000,     -999.0,    34.1530,2,     -999.0,9,     -999.0,1,-999.0000,9,-999.0000,9,-999.0000,9,-999.0000,9,-999.0000,9,-999.0000,9,-999.0000,9,-999.0000,9,-999.0000,9,-999.0000,-999.000,  -1.5612,     -999.0,     -999.0,9,     -999.0,9,     -999.0,9,     -999.0,9,     -999.0,20110325,       1701
320620110219,       P15S,      89,          1,         33,         33,2,20110325,       1523,   -72.3893,  -169.9999,       3955,    75.3,  -1.7088,  34.1494,2,  34.1516,2,    289.7,2,   287.3,2,   58.36,2,   29.53,2,    0.15,2,    2.09,2,-999.000,9,-999.000,9,-999.000,9,-999.0000,9,  2209.4,2,  2309.5,2,   7.6081,2,    25.00,-999.000,9,-999.0000,9,-999.000,9,  -1.7083,2, -999.00,9,  -999.0,9,  -999.0,-999.000,9, -999.00,9,-999.000,9,   41.96,2,   33.26,2, -72.3893,-169.9997,-999.000,     -999.0,    34.3126,2,     -999.0,9,     -999.0,1,-999.0000,9,-999.0000,9,-999.0000,9,-999.0000,9,-999.0000,9,-999.0000,9,-999.0000,9,-999.0000,9,-999.0000,9,-999.0000,-999.000,  -1.7103,     -999.0,     -999.0,9,     -999.0,9,     -999.0,9,     -999.0,9,     -999.0,20110325,       1700
320620110219,       P15S,      89,          1,         32,         32,2,20110325,       1523,   -72.3893,  -169.9999,       3955,    98.7,  -0.9954,  34.2376,2,  34.2282,2,    277.3,2,   267.9,2,   62.67,2,   30.82,2,    0.10,2,    2.14,2,   4.051,6,   2.165,6,   0.388,6,   1.5200,6,  2216.5,2,  2313.3,2,   7.5946,2,    25.00,-999.000,9,-999.0000,9,-999.000,9,  -0.9998,2, -999.00,9,  -999.0,9,  -999.0,-999.000,9, -999.00,9,-999.000,9,   41.64,2,   34.62,2, -72.3893,-169.9998,-999.000,     -999.0,    34.3896,2,     -999.0,9,     -999.0,1,-999.0000,9,-999.0000,9,-999.0000,9,-999.0000,9,-999.0000,9,-999.0000,9,-999.0000,9,-999.0000,9,-999.0000,9,-999.0000,-999.000,  -0.9980,     -999.0,     -999.0,9,     -999.0,9,     -999.0,9,     -999.0,9,     -999.0,20110325,       1658
320620110219,       P15S,      89,          1,         31,         31,2,20110325,       1523,   -72.3893,  -169.9999,       3955,   125.3,  -0.3615,  34.3210,2,  34.3268,2,    261.6,2,   245.9,2,   68.35,2,   31.58,2,    0.02,2,    2.18,2,   3.198,2,   1.706,2,   0.310,2,   1.3560,2,  2225.6,2,  2317.5,2,   7.5852,2,    25.00,-999.000,9,-999.0000,9,-999.000,9,  -0.3498,2, -999.00,9,  -999.0,9,  -999.0,-999.000,9, -999.00,9,-999.000,9,   41.18,2,   35.04,2, -72.3893,-169.9998,-999.000,     -999.0,    34.4886,2,     -999.0,9,     -999.0,1,-999.0000,9,-999.0000,9,-999.0000,9,-999.0000,9,-999.0000,9,-999.0000,9,-999.0000,9,-999.0000,9,-999.0000,9,-999.0000,-999.000,  -0.3656,     -999.0,     -999.0,9,     -999.0,9,     -999.0,9,     -999.0,9,     -999.0,20110325,       1657
320620110219,       P15S,      89,          1,         30,         30,2,20110325,       1523,   -72.3893,  -169.9999,       3955,   149.4,   0.3294,  34.4206,2,  34.4105,2,    244.0,2,   225.4,2,   74.50,2,   32.24,2,    0.01,2,    2.23,2,   2.450,2,   1.314,2,   0.239,2,   0.9170,2,  2232.8,2,  2323.7,2,   7.5745,2,    25.00,-999.000,9,-999.0000,9,-999.000,9,   0.3238,2, -999.00,9,  -999.0,9,  -999.0,-999.000,9, -999.00,9,-999.000,9,   40.90,2,   35.28,2, -72.3893,-169.9999,-999.000,     -999.0,    34.5727,2,     -999.0,9,     -999.0,1,-999.0000,9,-999.0000,9,-999.0000,9,-999.0000,9,-999.0000,9,-999.0000,9,-999.0000,9,-999.0000,9,-999.0000,9,-999.0000,-999.000,   0.3236,     -999.0,     -999.0,9,     -999.0,9,     -999.0,9,     -999.0,9,     -999.0,20110325,       1655
320620110219,       P15S,      89,          1,         29,         29,2,20110325,       1523,   -72.3893,  -169.9999,       3955,   200.7,   1.2478,  34.5811,2,  34.5793,2,    205.9,2,   194.3,2,   81.59,2,   32.86,2,    0.00,2,    2.26,2,   1.214,2,   0.642,2,   0.109,2,   0.3740,2,  2246.1,2,  2334.4,2,   7.5644,2,    25.00,-999.000,9,-999.0000,9,-999.000,9,   1.2457,2, -999.00,9,  -999.0,9,  -999.0,-999.000,9, -999.00,9,-999.000,9,   40.42,2,   35.46,2, -72.3893,-169.9998,-999.000,     -999.0,    34.7424,2,     -999.0,9,     -999.0,1,-999.0000,9,-999.0000,9,-999.0000,9,-999.0000,9,-999.0000,9,-999.0000,9,-999.0000,9,-999.0000,9,-999.0000,9,-999.0000,-999.000,   1.2383,     -999.0,     -999.0,9,     -999.0,9,     -999.0,9,     -999.0,9,     -999.0,20110325,       1654
320620110219,       P15S,      89,          1,         28,         28,2,20110325,       1523,   -72.3893,  -169.9999,       3955,   250.3,   1.6600,  34.6704,2,  34.6704,2,    186.2,2,   182.1,2,   85.84,2,   32.84,2,    0.00,2,    2.25,2,   0.598,2,   0.305,2,   0.049,2,   0.1730,2,  2251.4,2,  2341.5,2,   7.5649,2,    25.00,-999.000,9,-999.0000,9,-999.000,9,   1.6587,2, -999.00,9,  -999.0,9,  -999.0,-999.000,9, -999.00,9,-999.000,9,   40.28,2,   35.36,2, -72.3893,-169.9997,-999.000,     -999.0,    34.8339,2,     -999.0,9,     -999.0,1,-999.0000,9,-999.0000,9,-999.0000,9,-999.0000,9,-999.0000,9,-999.0000,9,-999.0000,9,-999.0000,9,-999.0000,9,-999.0000,-999.000,   1.6472,     -999.0,     -999.0,9,     -999.0,9,     -999.0,9,     -999.0,9,     -999.0,20110325,       1652
320620110219,       P15S,      89,          1,         27,         27,2,20110325,       1523,   -72.3893,  -169.9999,       3955,   299.7,   1.7145,  34.6991,2,  34.6957,2,    182.3,2,   181.9,2,   87.82,2,   32.64,2,    0.00,2,    2.24,2,   0.456,2,   0.224,2,   0.037,2,   0.1120,2,  2251.7,2,  2344.0,2,   7.5724,2,    25.00,-999.000,9,-999.0000,9,-999.000,9,   1.7132,2, -999.00,9,  -999.0,9,  -999.0,-999.000,9, -999.00,9,-999.000,9,   40.21,2,   35.44,2, -72.3893,-169.9998,-999.000,     -999.0,    34.8593,2,     -999.0,9,     -999.0,1,-999.0000,9,-999.0000,9,-999.0000,9,-999.0000,9,-999.0000,9,-999.0000,9,-999.0000,9,-999.0000,9,-999.0000,9,-999.0000,-999.000,   1.6988,     -999.0,     -999.0,9,     -999.0,9,     -999.0,9,     -999.0,9,     -999.0,20110325,       1650
320620110219,       P15S,      89,          1,         26,         26,2,20110325,       1523,   -72.3893,  -169.9999,       3955,   350.2,   1.6846,  34.7131,2,  34.7107,2,    183.3,2,   183.4,2,   89.83,2,   32.30,2,    0.00,2,    2.21,2,   0.361,2,   0.181,2,   0.026,2,   0.0900,2,  2251.6,2,  2346.8,2,   7.5780,2,    25.00,-999.000,9,-999.0000,9,-999.000,9,   1.6850,2, -999.00,9,  -999.0,9,  -999.0,-999.000,9, -999.00,9,-999.000,9,   40.59,2,   35.14,2, -72.3893,-169.9998,-999.000,     -999.0,    34.8744,2,     -999.0,9,     -999.0,1,-999.0000,9,-999.0000,9,-999.0000,9,-999.0000,9,-999.0000,9,-999.0000,9,-999.0000,9,-999.0000,9,-999.0000,9,-999.0000,-999.000,   1.6662,     -999.0,     -999.0,9,     -999.0,9,     -999.0,9,     -999.0,9,     -999.0,20110325,       1648
320620110219,       P15S,      89,          1,         25,         25,2,20110325,       1523,   -72.3893,  -169.9999,       3955,   399.0,   1.6442,  34.7212,2,  34.7197,2,    184.6,2,   184.8,2,   91.45,2,   32.15,2,    0.00,2,    2.20,2,-999.000,9,-999.000,9,-999.000,9,-999.0000,9,  2251.5,2,  2347.9,2,   7.5814,2,    25.00,-999.000,9,-999.0000,9,-999.000,9,   1.6440,2, -999.00,9,  -999.0,9,  -999.0,-999.000,9, -999.00,9,-999.000,9,   40.15,2,   35.08,2, -72.3893,-169.9999,-999.000,     -999.0,    34.8835,2,     -999.0,9,     -999.0,1,-999.0000,9,-999.0000,9,-999.0000,9,-999.0000,9,-999.0000,9,-999.0000,9,-999.0000,9,-999.0000,9,-999.0000,9,-999.0000,-999.000,   1.6232,     -999.0,     -999.0,9,     -999.0,9,     -999.0,9,     -999.0,9,     -999.0,20110325,       1646
320620110219,       P15S,      89,          1,         24,         24,2,20110325,       1523,   -72.3893,  -169.9999,       3955,   450.5,   1.5979,  34.7255,2,  34.7239,2,    186.2,2,   186.1,2,   93.51,2,   32.00,2,    0.00,2,    2.19,2,   0.278,2,   0.135,2,   0.015,2,   0.0670,2,  2251.3,2,  2349.7,2,   7.5852,2,    25.00,-999.000,9,-999.0000,9,-999.000,9,   1.5970,2, -999.00,9,  -999.0,9,  -999.0,-999.000,9, -999.00,9,-999.000,9,   40.33,2,   34.52,2, -72.3893,-169.9998,-999.000,     -999.0,    34.8877,2,     -999.0,9,     -999.0,1,-999.0000,9,-999.0000,9,-999.0000,9,-999.0000,9,-999.0000,9,-999.0000,9,-999.0000,9,-999.0000,9,-999.0000,9,-999.0000,-999.000,   1.5742,     -999.0,     -999.0,9,     -999.0,9,     -999.0,9,     -999.0,9,     -999.0,20110325,       1645
320620110219,       P15S,      89,          1,         23,         23,2,20110325,       1523,   -72.3893,  -169.9999,       3955,   499.7,   1.5434,  34.7279,2,  34.7267,2,    187.3,2,   187.1,2,   95.37,2,   32.06,2,    0.00,2,    2.20,2,-999.000,9,-999.000,9,-999.000,9,-999.0000,9,  2252.4,2,  2350.8,2,   7.5850,2,    25.00,-999.000,9,-999.0000,9,-999.000,9,   1.5430,2, -999.00,9,  -999.0,9,  -999.0,-999.000,9, -999.00,9,-999.000,9,   40.26,2,   34.58,2, -72.3893,-169.9998,-999.000,     -999.0,    34.8905,2,     -999.0,9,     -999.0,1,-999.0000,9,-999.0000,9,-999.0000,9,-999.0000,9,-999.0000,9,-999.0000,9,-999.0000,9,-999.0000,9,-999.0000,9,-999.0000,-999.000,   1.5171,     -999.0,     -999.0,9,     -999.0,9,     -999.0,9,     -999.0,9,     -999.0,20110325,       1643
320620110219,       P15S,      89,          1,         22,         22,2,20110325,       1523,   -72.3893,  -169.9999,       3955,   599.0,   1.4447,  34.7302,2,  34.7285,2,    188.2,2,   188.1,2,   98.86,2,   32.04,2,    0.00,2,    2.20,2,   0.217,2,   0.106,2,   0.016,2,   0.0850,2,  -999.0,9,  -999.0,9,-999.0000,9,  -999.00,-999.000,9,-999.0000,9,-999.000,9,   1.4444,2, -999.00,9,  -999.0,9,  -999.0,-999.000,9, -999.00,9,-999.000,9,   40.22,2,   34.40,2, -72.3893,-169.9998,-999.000,     -999.0,    34.8923,2,     -999.0,9,     -999.0,9,-999.0000,9,-999.0000,9,-999.0000,9,-999.0000,9,-999.0000,9,-999.0000,9,-999.0000,9,-999.0000,9,-999.0000,9,-999.0000,-999.000,   1.4132,     -999.0,     -999.0,9,     -999.0,9,     -999.0,9,     -999.0,9,     -999.0,20110325,       1640
320620110219,       P15S,      89,          1,         21,         21,2,20110325,       1523,   -72.3893,  -169.9999,       3955,   700.0,   1.3705,  34.7305,2,  34.7295,2,    188.5,2,   188.4,2,  101.48,2,   32.04,2,    0.00,2,    2.21,2,-999.000,9,-999.000,9,-999.000,9,-999.0000,9,  2256.5,2,  2353.8,2,   7.5863,2,    25.00,-999.000,9,-999.0000,9,-999.000,9,   1.3709,2, -999.00,9,  -999.0,9,  -999.0,-999.000,9, -999.00,9,-999.000,9,   40.33,2,   34.10,2, -72.3893,-169.9998,-999.000,     -999.0,    34.8933,2,     -999.0,9,     -999.0,1,-999.0000,9,-999.0000,9,-999.0000,9,-999.0000,9,-999.0000,9,-999.0000,9,-999.0000,9,-999.0000,9,-999.0000,9,-999.0000,-999.000,   1.3335,     -999.0,     -999.0,9,     -999.0,9,     -999.0,9,     -999.0,9,     -999.0,20110325,       1638
320620110219,       P15S,      89,          1,         20,         20,2,20110325,       1523,   -72.3893,  -169.9999,       3955,   799.2,   1.2945,  34.7294,2,  34.7284,2,    189.8,2,   189.7,2,  104.07,2,   32.05,2,    0.00,2,    2.22,2,   0.148,2,   0.076,2,   0.008,2,   0.0220,2,  -999.0,9,  -999.0,9,-999.0000,9,  -999.00,-999.000,9,-999.0000,9,-999.000,9,   1.2942,2, -999.00,9,  -999.0,9,  -999.0,-999.000,9, -999.00,9,-999.000,9,   40.29,2,   34.36,2, -72.3893,-169.9998,-999.000,     -999.0,    34.8922,2,     -999.0,9,     -999.0,9,-999.0000,9,-999.0000,9,-999.0000,9,-999.0000,9,-999.0000,9,-999.0000,9,-999.0000,9,-999.0000,9,-999.0000,9,-999.0000,-999.000,   1.2521,     -999.0,     -999.0,9,     -999.0,9,     -999.0,9,     -999.0,9,     -999.0,20110325,       1635
320620110219,       P15S,      89,          1,         19,         19,2,20110325,       1523,   -72.3893,  -169.9999,       3955,   899.5,   1.2262,  34.7279,2,  34.7269,2,    191.1,2,   191.4,2,  106.48,2,   32.02,2,    0.00,2,    2.22,2,-999.000,9,-999.000,9,-999.000,9,-999.0000,9,  2258.5,2,  2355.1,6,   7.5886,2,    25.00,-999.000,9,-999.0000,9,-999.000,9,   1.2259,2, -999.00,9,  -999.0,9,  -999.0,-999.000,9,   -0.40,2,-999.000,9,   40.51,2,   34.34,2, -72.3893,-169.9997,-999.000,     -999.0,    34.8906,2,     -999.0,9,     -999.0,1,-999.0000,9,-999.0000,9,-999.0000,9,-999.0000,9,-999.0000,9,-999.0000,9,-999.0000,9,-999.0000,9,-999.0000,9,-999.0000,-999.000,   1.1782,     -999.0,     -999.0,9,     -999.0,9,     -999.0,9,      -3.98,2,       0.04,20110325,       1632
320620110219,       P15S,      89,          1,         18,         18,2,20110325,       1523,   -72.3893,  -169.9999,       3955,  1000.9,   1.1574,  34.7260,2,  34.7244,2,    192.5,2,   192.5,2,  108.97,2,   31.97,2,    0.00,2,    2.23,2,   0.115,2,   0.056,2,   0.010,2,   0.0180,2,  -999.0,9,  -999.0,9,-999.0000,9,  -999.00,-999.000,9,-999.0000,9,-999.000,9,   1.1575,2, -999.00,9,  -999.0,9,  -999.0,-999.000,9,   -0.40,2,-999.000,9,   40.02,2,   34.35,2, -72.3893,-169.9998,-999.000,     -999.0,    34.8881,2,     -999.0,9,     -999.0,9,-999.0000,9,-999.0000,9,-999.0000,9,-999.0000,9,-999.0000,9,-999.0000,9,-999.0000,9,-999.0000,9,-999.0000,9,-999.0000,-999.000,   1.1037,     -999.0,     -999.0,9,     -999.0,9,     -999.0,9,      -3.70,2,       0.18,20110325,       1630
320620110219,       P15S,      89,          1,         17,         17,2,20110325,       1523,   -72.3893,  -169.9999,       3955,  1098.6,   1.0953,  34.7238,2,  34.7228,2,    194.0,2,   194.3,2,  111.06,2,   31.96,2,    0.00,2,    2.23,2,-999.000,9,-999.000,9,-999.000,9,-999.0000,9,  -999.0,9,  -999.0,9,-999.0000,9,  -999.00,-999.000,9,-999.0000,9,-999.000,9,   1.0955,2, -999.00,9,  -999.0,9,  -999.0,-999.000,9,   -0.38,2,-999.000,9,   40.09,2,   34.24,2, -72.3893,-169.9998,-999.000,     -999.0,    34.8866,2,     -999.0,9,     -999.0,9,-999.0000,9,-999.0000,9,-999.0000,9,-999.0000,9,-999.0000,9,-999.0000,9,-999.0000,9,-999.0000,9,-999.0000,9,-999.0000,-999.000,   1.0360,     -999.0,     -999.0,9,     -999.0,9,     -999.0,9,      -3.60,2,       0.04,20110325,       1627
320620110219,       P15S,      89,          1,         16,         16,2,20110325,       1523,   -72.3893,  -169.9999,       3955,  1199.9,   1.0436,  34.7218,2,  34.7205,2,    195.6,2,   195.5,2,  112.29,2,   31.91,2,    0.00,2,    2.23,2,   0.094,2,   0.046,2,   0.011,2,   0.0250,2,  2258.6,6,  2360.5,4,   7.5942,2,    25.00,-999.000,9,-999.0000,9,-999.000,9,   1.0433,2, -999.00,9,  -999.0,9,  -999.0,-999.000,9,   -0.22,2,-999.000,9,   40.38,2,   34.47,2, -72.3893,-169.9998,-999.000,     -999.0,    34.8842,2,     -999.0,9,     -999.0,1,-999.0000,9,-999.0000,9,-999.0000,9,-999.0000,9,-999.0000,9,-999.0000,9,-999.0000,9,-999.0000,9,-999.0000,9,-999.0000,-999.000,   0.9783,     -999.0,     -999.0,9,     -999.0,9,     -999.0,9,      -2.53,2,       0.16,20110325,       1625
320620110219,       P15S,      89,          1,         15,         15,2,20110325,       1523,   -72.3893,  -169.9999,       3955,  1301.0,   0.9856,  34.7197,2,  34.7190,2,    197.2,2,   196.8,2,  114.12,2,   31.95,2,    0.00,2,    2.23,2,-999.000,9,-999.000,9,-999.000,9,-999.0000,9,  -999.0,9,  -999.0,9,-999.0000,9,  -999.00,-999.000,9,-999.0000,9,-999.000,9,   0.9856,2, -999.00,9,  -999.0,9,  -999.0,-999.000,9,   -0.13,2,-999.000,9,   40.19,2,   34.61,2, -72.3893,-169.9998,-999.000,     -999.0,    34.8827,2,     -999.0,9,     -999.0,9,-999.0000,9,-999.0000,9,-999.0000,9,-999.0000,9,-999.0000,9,-999.0000,9,-999.0000,9,-999.0000,9,-999.0000,9,-999.0000,-999.000,   0.9143,     -999.0,     -999.0,9,     -999.0,9,     -999.0,9,      -1.49,2,       0.14,20110325,       1622
320620110219,       P15S,      89,          1,         14,         14,2,20110325,       1523,   -72.3893,  -169.9999,       3955,  1399.9,   0.9346,  34.7176,2,  34.7167,2,    198.5,2,   198.2,2,  115.59,2,   31.97,2,    0.00,2,    2.22,2,   0.094,2,   0.043,2,   0.010,2,   0.0420,2,  -999.0,9,  -999.0,9,-999.0000,9,  -999.00,-999.000,9,-999.0000,9,-999.000,9,   0.9346,2, -999.00,9,  -999.0,9,  -999.0,-999.000,9,    0.00,2,-999.000,9,   40.01,2,   34.37,2, -72.3893,-169.9997,-999.000,     -999.0,    34.8804,2,     -999.0,9,     -999.0,9,-999.0000,9,-999.0000,9,-999.0000,9,-999.0000,9,-999.0000,9,-999.0000,9,-999.0000,9,-999.0000,9,-999.0000,9,-999.0000,-999.000,   0.8572,     -999.0,     -999.0,9,     -999.0,9,     -999.0,9,      -1.41,2,       0.06,20110325,       1619