BOTTLE,20220813CCHSIOAMB
EXPOCODE,SECT_ID,STNNBR,CASTNO,SAMPNO,BTLNBR,BTLNBR_FLAG_W,DATE,TIME,LATITUDE,LONGITUDE,DEPTH,CTDPRS,CTDTMP,CTDSAL,CTDSAL_FLAG_W,SALNTY,SALNTY_FLAG_W,CTDOXY,CTDOXY_FLAG_W,OXYGEN,OXYGEN_FLAG_W,SILCAT,SILCAT_FLAG_W,NITRAT,NITRAT_FLAG_W,NITRIT,NITRIT_FLAG_W,PHSPHT,PHSPHT_FLAG_W,CFC-11,CFC-11_FLAG_W,CFC-12,CFC-12_FLAG_W,CFC113,CFC113_FLAG_W,SF6,SF6_FLAG_W,TCARBN,TCARBN_FLAG_W,ALKALI,ALKALI_FLAG_W,PH_TOT,PH_TOT_FLAG_W,PH_TMP,TRITUM,TRITUM_FLAG_W,HELIUM,HELIUM_FLAG_W,DELHE3,DELHE3_FLAG_W,REFTMP,REFTMP_FLAG_W,DELC13,DELC13_FLAG_W,DELC14,DELC14_FLAG_W,C14ERR,NEON,NEON_FLAG_W,DELO18,DELO18_FLAG_W,POC,POC_FLAG_W,DOC,DOC_FLAG_W,TDN,TDN_FLAG_W,BTL_LAT,BTL_LON,TRITER,NEONER,SALTREF,SALTREF_FLAG_W,PIGMENTS,PIGMENTS_FLAG_W,LAB_DEN,LAB_DEN_FLAG_W,CDOM325,CDOM325_FLAG_W,CDOM340,CDOM340_FLAG_W,CDOM380,CDOM380_FLAG_W,CDOM412,CDOM412_FLAG_W,CDOM443,CDOM443_FLAG_W,CDOM490,CDOM490_FLAG_W,CDOM555,CDOM555_FLAG_W,CDOMSL,CDOMSL_FLAG_W,CDOMSN,CDOMSN_FLAG_W,HELIER,DELHER,THETA,LDEO_SAMPNO,ABSORBTION,ABSORBTION_FLAG_W,IMAGE_COUNT,IMAGE_COUNT_FLAG_W,CYTO_COUNT,CYTO_COUNT_FLAG_W,DELD,DELD_FLAG_W,DELDERR,BTL_DATE,BTL_TIME
,,,,,,,,,,,METERS,DBAR,ITS-90,PSS-78,,PSS-78,,UMOL/KG,,UMOL/KG,,UMOL/KG,,UMOL/KG,,UMOL/KG,,UMOL/KG,,PMOL/KG,,PMOL/KG,,PMOL/KG,,FMOL/KG,,UMOL/KG,,UMOL/KG,,,,DEG C,TU,,NMOL/KG,,PERCNT,,DEG C,,/MILLE,,/MILLE,,/MILLE,NMOL/KG,,/MILLE,,UG/KG,,UMOL/KG,,UMOL/KG,,,,TU,NMOL/KG,G/KG,,,,,,1/M,,1/M,,1/M,,1/M,,1/M,,1/M,,1/M,,1/NM,,1/NM,,NMOL/KG,PERCNT,DEG C,,,,,,,,/MILLE,,/MILLE,,
320620110219,       S04P,      45,          1,         13,         13,2,20110310,       2249,   -66.9981,  -149.9953,       4369,  1601.7,   0.6852,  34.7083,2,  34.7091,2,    203.7,2,   204.1,2,  123.45,2,   32.36,2,    0.00,2,    2.24,2,-999.000,9,-999.000,9,-999.000,9,-999.0000,9,  -999.0,9,  -999.0,9,-999.0000,9,  -999.00,-999.000,9,-999.0000,9,-999.000,9,   0.6857,2, -999.00,9,  -999.0,9,  -999.0,-999.000,9, -999.00,9,-999.000,9, -999.00,9, -999.00,9, -66.9981,-149.9952,-999.000,     -999.0,    34.8728,2,     -999.0,9,     -999.0,9,-999.0000,9,-999.0000,9,-999.0000,9,-999.0000,9,-999.0000,9,-999.0000,9,-999.0000,9,-999.0000,9,-999.0000,9,-999.0000,-999.000,   0.5972,     -999.0,     -999.0,9,     -999.0,9,     -999.0,9,     -999.0,9,     -999.0,20110310,       2350
320620110219,       S04P,      45,          1,         12,         12,2,20110310,       2249,   -66.9981,  -149.9953,       4369,  1799.7,   0.6160,  34.7065,2,  34.7073,2,    205.5,2,   205.6,2,  124.39,2,   32.38,2,    0.00,2,    2.23,2,   0.118,2,   0.062,2,   0.005,2,   0.0460,2,  -999.0,9,  -999.0,9,-999.0000,9,  -999.00,-999.000,9,-999.0000,9,-999.000,9,   0.6165,2, -999.00,9,  -999.0,9,  -999.0,-999.000,9, -999.00,9,-999.000,9, -999.00,9, -999.00,9, -66.9982,-149.9948,-999.000,     -999.0,    34.8710,2,     -999.0,9,     -999.0,9,-999.0000,9,-999.0000,9,-999.0000,9,-999.0000,9,-999.0000,9,-999.0000,9,-999.0000,9,-999.0000,9,-999.0000,9,-999.0000,-999.000,   0.5151,     -999.0,     -999.0,9,     -999.0,9,     -999.0,9,     -999.0,9,     -999.0,20110310,       2346
320620110219,       S04P,      45,          1,         11,         11,2,20110310,       2249,   -66.9981,  -149.9953,       4369,  1999.7,   0.5379,  34.7047,2,  34.7063,2,    207.3,2,   206.6,2,  126.79,2,   32.37,2,    0.00,2,    2.23,2,-999.000,9,-999.000,9,-999.000,9,-999.0000,9,  2260.5,2,  2361.5,2,   7.5917,2,    25.00,-999.000,9,-999.0000,9,-999.000,9,   0.5384,2, -999.00,9,  -999.0,9,  -999.0,-999.000,9, -999.00,9,-999.000,9, -999.00,9, -999.00,9, -66.9982,-149.9944,-999.000,     -999.0,    34.8700,2,     -999.0,9,     -999.0,9,-999.0000,9,-999.0000,9,-999.0000,9,-999.0000,9,-999.0000,9,-999.0000,9,-999.0000,9,-999.0000,9,-999.0000,9,-999.0000,-999.000,   0.4237,     -999.0,     -999.0,9,     -999.0,9,     -999.0,9,     -999.0,9,     -999.0,20110310,       2341
320620110219,       S04P,      45,          1,         10,         37,2,20110310,       2249,   -66.9981,  -149.9953,       4369,  2250.5,   0.4491,  34.7037,2,  34.7046,2,    209.3,2,   209.7,2,  126.91,2,   32.44,2,    0.00,2,    2.24,2,-999.000,9,-999.000,9,-999.000,9,-999.0000,9,  -999.0,9,  -999.0,9,-999.0000,9,  -999.00,-999.000,9,-999.0000,9,-999.000,9,   0.4495,2, -999.00,9,  -999.0,9,  -999.0,-999.000,9, -999.00,9,-999.000,9, -999.00,9, -999.00,9, -66.9982,-149.9952,-999.000,     -999.0,    34.8682,2,     -999.0,9,     -999.0,9,-999.0000,9,-999.0000,9,-999.0000,9,-999.0000,9,-999.0000,9,-999.0000,9,-999.0000,9,-999.0000,9,-999.0000,9,-999.0000,-999.000,   0.3174,     -999.0,     -999.0,9,     -999.0,9,     -999.0,9,     -999.0,9,     -999.0,20110310,       2336
320620110219,       S04P,      45,          1,          9,          9,2,20110310,       2249,   -66.9981,  -149.9953,       4369,  2499.2,   0.3779,  34.7032,2,  34.7032,2,    211.3,2,   211.2,2,  129.02,2,   32.29,2,    0.00,2,    2.24,2,-999.000,9,-999.000,9,-999.000,9,-999.0000,9,  -999.0,9,  -999.0,9,-999.0000,9,  -999.00,-999.000,9,-999.0000,9,-999.000,9,   0.3782,2, -999.00,9,  -999.0,9,  -999.0,-999.000,9, -999.00,9,-999.000,9, -999.00,9, -999.00,9, -66.9981,-149.9961,-999.000,     -999.0,    34.8668,2,     -999.0,9,     -999.0,9,-999.0000,9,-999.0000,9,-999.0000,9,-999.0000,9,-999.0000,9,-999.0000,9,-999.0000,9,-999.0000,9,-999.0000,9,-999.0000,-999.000,   0.2280,     -999.0,     -999.0,9,     -999.0,9,     -999.0,9,     -999.0,9,     -999.0,20110310,       2331
320620110219,       S04P,      45,          1,          8,          8,2,20110310,       2249,   -66.9981,  -149.9953,       4369,  2751.0,   0.3145,  34.7021,2,  34.7018,2,    213.3,2,   213.1,2,  130.43,2,   32.28,2,    0.00,2,    2.24,2,-999.000,9,-999.000,9,-999.000,9,   0.0670,2,  2260.2,2,  2361.1,2,   7.5916,2,    25.00,-999.000,9,-999.0000,9,-999.000,9,   0.3143,2, -999.00,9,  -999.0,9,  -999.0,-999.000,9, -999.00,9,-999.000,9, -999.00,9, -999.00,9, -66.9980,-149.9971,-999.000,     -999.0,    34.8654,2,     -999.0,9,     -999.0,9,-999.0000,9,-999.0000,9,-999.0000,9,-999.0000,9,-999.0000,9,-999.0000,9,-999.0000,9,-999.0000,9,-999.0000,9,-999.0000,-999.000,   0.1452,     -999.0,     -999.0,9,     -999.0,9,     -999.0,9,     -999.0,9,     -999.0,20110310,       2326
320620110219,       S04P,      45,          1,          7,          7,2,20110310,       2249,   -66.9981,  -149.9953,       4369,  2999.3,   0.2589,  34.7004,2,  34.7006,2,    215.7,2,   215.8,2,  129.81,2,   32.30,2,    0.00,2,    2.24,2,-999.000,9,-999.000,9,-999.000,9,-999.0000,9,  -999.0,9,  -999.0,9,-999.0000,9,  -999.00,-999.000,9,-999.0000,9,-999.000,9,   0.2591,2, -999.00,9,  -999.0,9,  -999.0,-999.000,9, -999.00,9,-999.000,9, -999.00,9, -999.00,9, -66.9981,-149.9962,-999.000,     -999.0,    34.8642,2,     -999.0,9,     -999.0,9,-999.0000,9,-999.0000,9,-999.0000,9,-999.0000,9,-999.0000,9,-999.0000,9,-999.0000,9,-999.0000,9,-999.0000,9,-999.0000,-999.000,   0.0696,     -999.0,     -999.0,9,     -999.0,9,     -999.0,9,     -999.0,9,     -999.0,20110310,       2320
320620110219,       S04P,      45,          1,          6,          6,2,20110310,       2249,   -66.9981,  -149.9953,       4369,  3299.5,   0.1943,  34.6973,2,  34.6973,2,    219.2,2,   219.0,2,  125.68,2,   32.20,2,    0.00,2,    2.24,2,   0.606,2,   0.311,2,   0.030,2,   0.0910,2,  -999.0,9,  -999.0,9,-999.0000,9,  -999.00,-999.000,9,-999.0000,9,-999.000,9,   0.1946,2, -999.00,9,  -999.0,9,  -999.0,-999.000,9, -999.00,9,-999.000,9, -999.00,9, -999.00,9, -66.9981,-149.9956,-999.000,     -999.0,    34.8609,2,     -999.0,9,     -999.0,9,-999.0000,9,-999.0000,9,-999.0000,9,-999.0000,9,-999.0000,9,-999.0000,9,-999.0000,9,-999.0000,9,-999.0000,9,-999.0000,-999.000,  -0.0202,     -999.0,     -999.0,9,     -999.0,9,     -999.0,9,     -999.0,9,     -999.0,20110310,       2315
320620110219,       S04P,      45,          1,          5,          5,2,20110310,       2249,   -66.9981,  -149.9953,       4369,  3600.2,   0.1745,  34.6966,2,  34.6959,2,    220.6,2,   220.5,2,  123.36,2,   32.11,2,    0.00,2,    2.24,2,   0.736,2,   0.374,2,   0.029,2,   0.0890,2,  -999.0,9,  -999.0,9,-999.0000,9,  -999.00,-999.000,9,-999.0000,9,-999.000,9,   0.1747,2, -999.00,9,  -999.0,9,  -999.0,-999.000,9, -999.00,9,-999.000,9, -999.00,9, -999.00,9, -66.9982,-149.9948,-999.000,     -999.0,    34.8595,2,     -999.0,9,     -999.0,9,-999.0000,9,-999.0000,9,-999.0000,9,-999.0000,9,-999.0000,9,-999.0000,9,-999.0000,9,-999.0000,9,-999.0000,9,-999.0000,-999.000,  -0.0676,     -999.0,     -999.0,9,     -999.0,9,     -999.0,9,     -999.0,9,     -999.0,20110310,       2308
320620110219,       S04P,      45,          1,          4,          4,2,20110310,       2249,   -66.9981,  -149.9953,       4369,  3898.7,   0.1901,  34.6968,2,  34.6968,2,    220.9,2,   220.8,2,  123.65,2,   32.12,2,    0.00,2,    2.24,2,   0.745,2,   0.385,2,   0.032,2,   0.0980,2,  2258.8,2,  2359.4,6,   7.5912,2,    25.00,-999.000,9,-999.0000,9,-999.000,9,   0.1900,2, -999.00,9,  -999.0,9,  -999.0,-999.000,9, -999.00,9,-999.000,9, -999.00,9, -999.00,9, -66.9981,-149.9953,-999.000,     -999.0,    34.8605,2,     -999.0,9,     -999.0,9,-999.0000,9,-999.0000,9,-999.0000,9,-999.0000,9,-999.0000,9,-999.0000,9,-999.0000,9,-999.0000,9,-999.0000,9,-999.0000,-999.000,  -0.0815,     -999.0,     -999.0,9,     -999.0,9,     -999.0,9,     -999.0,9,     -999.0,20110310,       2302
320620110219,       S04P,      45,          1,          3,          3,2,20110310,       2249,   -66.9981,  -149.9953,       4369,  4200.4,   0.2164,  34.6969,2,  34.6966,2,    220.2,2,   220.7,2,  123.55,2,   32.03,2,    0.00,2,    2.23,2,   0.736,2,   0.370,2,   0.029,2,   0.0970,2,  2259.9,2,  2357.9,2,   7.5917,2,    25.00,-999.000,9,-999.0000,9,-999.000,9,   0.2162,2, -999.00,9,  -999.0,9,  -999.0,-999.000,9, -999.00,9,-999.000,9, -999.00,9, -999.00,9, -66.9981,-149.9955,-999.000,     -999.0,    34.8603,2,     -999.0,9,     -999.0,9,-999.0000,9,-999.0000,9,-999.0000,9,-999.0000,9,-999.0000,9,-999.0000,9,-999.0000,9,-999.0000,9,-999.0000,9,-999.0000,-999.000,  -0.0867,     -999.0,     -999.0,9,     -999.0,9,     -999.0,9,     -999.0,9,     -999.0,20110310,       2256
320620110219,       S04P,      45,          1,          2,          2,2,20110310,       2249,   -66.9981,  -149.9953,       4369,  4350.9,   0.2320,  34.6968,2,  34.6968,2,    220.4,2,   219.5,2,  122.93,2,   31.91,2,    0.00,2,    2.23,2,   0.740,2,   0.374,2,   0.028,2,   0.1160,2,  2260.3,2,  2359.0,2,   7.5910,6,    25.00,-999.000,9,-999.0000,9,-999.000,9,   0.2324,2, -999.00,9,  -999.0,9,  -999.0,-999.000,9, -999.00,9,-999.000,9, -999.00,9, -999.00,9, -66.9982,-149.9955,-999.000,     -999.0,    34.8605,2,     -999.0,9,     -999.0,9,-999.0000,9,-999.0000,9,-999.0000,9,-999.0000,9,-999.0000,9,-999.0000,9,-999.0000,9,-999.0000,9,-999.0000,9,-999.0000,-999.000,  -0.0874,     -999.0,     -999.0,9,     -999.0,9,     -999.0,9,     -999.0,9,     -999.0,20110310,       2252
320620110219,       S04P,      45,          1,          1,          1,2,20110310,       2249,   -66.9981,  -149.9953,       4369,  4446.0,   0.2425,  34.6967,2,  34.6966,2,    219.6,2,   219.8,2,  122.60,2,   31.87,2,    0.00,2,    2.24,2,   0.776,2,   0.388,2,   0.034,2,   0.1270,2,  2260.3,6,  2358.7,2,   7.5901,2,    25.00,-999.000,9,-999.0000,9,-999.000,9,   0.2428,2, -999.00,9,  -999.0,9,  -999.0,-999.000,9, -999.00,9,-999.000,9, -999.00,9, -999.00,9, -66.9981,-149.9953,-999.000,     -999.0,    34.8602,2,     -999.0,9,     -999.0,9,-999.0000,9,-999.0000,9,-999.0000,9,-999.0000,9,-999.0000,9,-999.0000,9,-999.0000,9,-999.0000,9,-999.0000,9,-999.0000,-999.000,  -0.0874,     -999.0,     -999.0,9,     -999.0,9,     -999.0,9,     -999.0,9,     -999.0,20110310,       2249