BOTTLE,20220813CCHSIOAMB
EXPOCODE,SECT_ID,STNNBR,CASTNO,SAMPNO,BTLNBR,BTLNBR_FLAG_W,DATE,TIME,LATITUDE,LONGITUDE,DEPTH,CTDPRS,CTDTMP,CTDSAL,CTDSAL_FLAG_W,SALNTY,SALNTY_FLAG_W,CTDOXY,CTDOXY_FLAG_W,OXYGEN,OXYGEN_FLAG_W,SILCAT,SILCAT_FLAG_W,NITRAT,NITRAT_FLAG_W,NITRIT,NITRIT_FLAG_W,PHSPHT,PHSPHT_FLAG_W,CFC-11,CFC-11_FLAG_W,CFC-12,CFC-12_FLAG_W,CFC113,CFC113_FLAG_W,SF6,SF6_FLAG_W,TCARBN,TCARBN_FLAG_W,ALKALI,ALKALI_FLAG_W,PH_TOT,PH_TOT_FLAG_W,PH_TMP,TRITUM,TRITUM_FLAG_W,HELIUM,HELIUM_FLAG_W,DELHE3,DELHE3_FLAG_W,REFTMP,REFTMP_FLAG_W,DELC13,DELC13_FLAG_W,DELC14,DELC14_FLAG_W,C14ERR,NEON,NEON_FLAG_W,DELO18,DELO18_FLAG_W,POC,POC_FLAG_W,DOC,DOC_FLAG_W,TDN,TDN_FLAG_W,BTL_LAT,BTL_LON,TRITER,NEONER,SALTREF,SALTREF_FLAG_W,PIGMENTS,PIGMENTS_FLAG_W,LAB_DEN,LAB_DEN_FLAG_W,CDOM325,CDOM325_FLAG_W,CDOM340,CDOM340_FLAG_W,CDOM380,CDOM380_FLAG_W,CDOM412,CDOM412_FLAG_W,CDOM443,CDOM443_FLAG_W,CDOM490,CDOM490_FLAG_W,CDOM555,CDOM555_FLAG_W,CDOMSL,CDOMSL_FLAG_W,CDOMSN,CDOMSN_FLAG_W,HELIER,DELHER,THETA,LDEO_SAMPNO,ABSORBTION,ABSORBTION_FLAG_W,IMAGE_COUNT,IMAGE_COUNT_FLAG_W,CYTO_COUNT,CYTO_COUNT_FLAG_W,DELD,DELD_FLAG_W,DELDERR,BTL_DATE,BTL_TIME
,,,,,,,,,,,METERS,DBAR,ITS-90,PSS-78,,PSS-78,,UMOL/KG,,UMOL/KG,,UMOL/KG,,UMOL/KG,,UMOL/KG,,UMOL/KG,,PMOL/KG,,PMOL/KG,,PMOL/KG,,FMOL/KG,,UMOL/KG,,UMOL/KG,,,,DEG C,TU,,NMOL/KG,,PERCNT,,DEG C,,/MILLE,,/MILLE,,/MILLE,NMOL/KG,,/MILLE,,UG/KG,,UMOL/KG,,UMOL/KG,,,,TU,NMOL/KG,G/KG,,,,,,1/M,,1/M,,1/M,,1/M,,1/M,,1/M,,1/M,,1/NM,,1/NM,,NMOL/KG,PERCNT,DEG C,,,,,,,,/MILLE,,/MILLE,,
320620110219,       S04P,     111,          1,         13,         13,2,20110406,       2102,   -67.0006,  -119.9416,       4520,  1733.3,   1.1398,  34.7232,2,  34.7224,2,    197.8,2,   198.2,2,  108.46,2,   31.69,2,    0.00,2,    2.19,2,   0.139,2,   0.076,2,   0.009,2,   0.0690,2,  -999.0,9,  -999.0,9,-999.0000,9,  -999.00,   0.013,2,   1.9242,2,    9.98,2,   1.1399,2, -999.00,9,  -999.0,9,  -999.0,   8.418,2, -999.00,9,-999.000,9,   39.56,2,   34.38,2, -67.0006,-119.9416,   0.013,      0.043,    34.8861,2,     -999.0,9,     -999.0,9,   0.0802,2,   0.0388,3,  -0.0018,4,  -0.0099,4,  -0.0182,4,  -0.0147,4,  -0.0146,4,   0.0718,4,   0.0553,4,   0.0092,    0.14,   1.0364,     -999.0,     -999.0,9,     -999.0,9,     -999.0,9,     -999.0,9,     -999.0,20110406,       2200
320620110219,       S04P,     111,          1,         12,         12,2,20110406,       2102,   -67.0006,  -119.9416,       4520,  1936.7,   1.0422,  34.7195,2,  34.7187,2,    199.8,2,   200.1,2,  111.42,2,   31.74,2,    0.00,2,    2.21,2,-999.000,9,-999.000,9,-999.000,9,-999.0000,9,  2258.8,2,  2360.9,2,   7.6019,2,    25.00,-999.000,9,-999.0000,9,-999.000,9,   1.0422,2, -999.00,9,  -999.0,9,  -999.0,-999.000,9, -999.00,9,-999.000,9,   39.35,2,   34.22,2, -67.0006,-119.9416,-999.000,     -999.0,    34.8824,2,     -999.0,9,     -999.0,9,-999.0000,9,-999.0000,9,-999.0000,9,-999.0000,9,-999.0000,9,-999.0000,9,-999.0000,9,-999.0000,9,-999.0000,9,-999.0000,-999.000,   0.9250,     -999.0,     -999.0,9,     -999.0,9,     -999.0,9,     -999.0,9,     -999.0,20110406,       2156
320620110219,       S04P,     111,          1,         11,         11,2,20110406,       2102,   -67.0006,  -119.9416,       4520,  2164.5,   0.9338,  34.7154,2,  34.7144,2,    201.5,2,   201.6,2,  115.65,2,   31.99,2,    0.00,2,    2.21,2,   0.130,2,   0.071,2,   0.009,2,   0.0380,2,  -999.0,9,  -999.0,9,-999.0000,9,  -999.00,   0.006,2,-999.0000,9,-999.000,9,   0.9345,2, -999.00,9,  -999.0,9,  -999.0,-999.000,9, -999.00,9,-999.000,9,   39.32,2,   34.26,2, -67.0006,-119.9416,   0.013,     -999.0,    34.8780,2,     -999.0,9,     -999.0,9,-999.0000,9,-999.0000,9,-999.0000,9,-999.0000,9,-999.0000,9,-999.0000,9,-999.0000,9,-999.0000,9,-999.0000,9,-999.0000,-999.000,   0.8006,     -999.0,     -999.0,9,     -999.0,9,     -999.0,9,     -999.0,9,     -999.0,20110406,       2151
320620110219,       S04P,     111,          1,         10,         37,2,20110406,       2102,   -67.0006,  -119.9416,       4520,  2415.0,   0.8249,  34.7111,2,  34.7101,2,    203.5,2,   203.6,2,  120.02,2,   32.05,2,    0.00,2,    2.22,2,-999.000,9,-999.000,9,-999.000,9,-999.0000,9,  2259.9,2,  2361.8,2,   7.6003,2,    25.00,-999.000,9,-999.0000,9,-999.000,9,   0.8249,2, -999.00,9,  -999.0,9,  -999.0,-999.000,9, -999.00,9,-999.000,9,   39.14,2,   34.50,2, -67.0006,-119.9416,-999.000,     -999.0,    34.8737,2,     -999.0,9,     -999.0,9,   0.0717,3,   0.0321,3,  -0.0064,4,  -0.0136,4,  -0.0208,4,  -0.0162,4,  -0.0153,4,   0.0745,3,   0.0618,3,-999.0000,-999.000,   0.6734,     -999.0,     -999.0,9,     -999.0,9,     -999.0,9,     -999.0,9,     -999.0,20110406,       2147
320620110219,       S04P,     111,          1,          9,          9,2,20110406,       2102,   -67.0006,  -119.9416,       4520,  2665.5,   0.7378,  34.7081,2,  34.7071,2,    205.7,2,   205.6,2,  122.74,2,   32.24,2,    0.00,2,    2.23,2,   0.212,2,   0.105,2,   0.013,2,   0.0490,2,  -999.0,9,  -999.0,9,-999.0000,9,  -999.00,  -0.003,2,   1.9197,2,   10.80,2,   0.7380,2, -999.00,9,  -999.0,9,  -999.0,   8.434,2, -999.00,9,-999.000,9,   39.35,2,   34.64,2, -67.0006,-119.9416,   0.013,      0.043,    34.8708,2,     -999.0,9,     -999.0,9,-999.0000,9,-999.0000,9,-999.0000,9,-999.0000,9,-999.0000,9,-999.0000,9,-999.0000,9,-999.0000,9,-999.0000,9,   0.0092,    0.14,   0.5671,     -999.0,     -999.0,9,     -999.0,9,     -999.0,9,     -999.0,9,     -999.0,20110406,       2142
320620110219,       S04P,     111,          1,          8,          8,2,20110406,       2102,   -67.0006,  -119.9416,       4520,  2914.3,   0.6403,  34.7055,2,  34.7042,2,    207.7,2,   207.7,2,  125.06,2,   32.36,2,    0.00,2,    2.24,2,-999.000,9,-999.000,9,-999.000,9,-999.0000,9,  2260.6,2,  2362.0,2,   7.5966,2,    25.00,-999.000,9,-999.0000,9,-999.000,9,   0.6401,2, -999.00,9,  -999.0,9,  -999.0,-999.000,9, -999.00,9,-999.000,9,   39.52,2,   34.92,2, -67.0006,-119.9416,-999.000,     -999.0,    34.8678,2,     -999.0,9,     -999.0,9,-999.0000,9,-999.0000,9,-999.0000,9,-999.0000,9,-999.0000,9,-999.0000,9,-999.0000,9,-999.0000,9,-999.0000,9,-999.0000,-999.000,   0.4500,     -999.0,     -999.0,9,     -999.0,9,     -999.0,9,     -999.0,9,     -999.0,20110406,       2137
320620110219,       S04P,     111,          1,          7,          7,2,20110406,       2102,   -67.0006,  -119.9416,       4520,  3199.6,   0.5348,  34.7036,2,  34.7018,2,    209.7,2,   209.8,2,  127.34,2,   32.37,2,    0.00,2,    2.24,2,   0.316,2,   0.156,2,   0.016,2,   0.0830,2,  -999.0,9,  -999.0,9,-999.0000,9,  -999.00,   0.010,2,   1.9385,2,    9.80,2,   0.5346,2, -999.00,9,  -999.0,9,  -999.0,   8.438,2, -999.00,9,-999.000,9,   39.67,2,   34.87,2, -67.0006,-119.9417,   0.012,      0.043,    34.8655,2,     -999.0,9,     -999.0,9,   0.0706,3,   0.0314,3,  -0.0064,4,  -0.0135,4,  -0.0208,4,  -0.0162,4,  -0.0152,4,   0.0746,3,   0.0621,3,   0.0093,    0.14,   0.3212,     -999.0,     -999.0,9,     -999.0,9,     -999.0,9,     -999.0,9,     -999.0,20110406,       2131
320620110219,       S04P,     111,          1,          6,          6,2,20110406,       2102,   -67.0006,  -119.9416,       4520,  3499.5,   0.4467,  34.7026,2,  34.7015,2,    211.7,2,   212.0,2,  130.37,2,   32.55,2,    0.00,2,    2.24,2,-999.000,9,-999.000,9,-999.000,9,-999.0000,9,  2262.0,2,  2362.6,2,   7.5974,2,    25.00,-999.000,9,-999.0000,9,-999.000,9,   0.4468,2, -999.00,9,  -999.0,9,  -999.0,-999.000,9, -999.00,9,-999.000,9,   39.33,2,   34.79,2, -67.0006,-119.9416,-999.000,     -999.0,    34.8651,2,     -999.0,9,     -999.0,9,-999.0000,9,-999.0000,9,-999.0000,9,-999.0000,9,-999.0000,9,-999.0000,9,-999.0000,9,-999.0000,9,-999.0000,9,-999.0000,-999.000,   0.2072,     -999.0,     -999.0,9,     -999.0,9,     -999.0,9,     -999.0,9,     -999.0,20110406,       2125
320620110219,       S04P,     111,          1,          5,          5,2,20110406,       2102,   -67.0006,  -119.9416,       4520,  3799.3,   0.3884,  34.7024,2,  34.7013,2,    213.5,2,   213.6,2,  133.12,2,   32.60,2,    0.00,2,    2.25,2,   0.304,2,   0.150,2,   0.016,2,   0.0790,2,  -999.0,9,  -999.0,9,-999.0000,9,  -999.00,   0.015,2,   1.9432,2,    8.78,2,   0.3885,2, -999.00,9,  -999.0,9,  -999.0,   8.505,2,   -0.18,2,-999.000,9,   40.14,2,   34.93,2, -67.0006,-119.9416,   0.013,      0.043,    34.8649,2,     -999.0,9,     -999.0,9,-999.0000,9,-999.0000,9,-999.0000,9,-999.0000,9,-999.0000,9,-999.0000,9,-999.0000,9,-999.0000,9,-999.0000,9,   0.0093,    0.14,   0.1211,     -999.0,     -999.0,9,     -999.0,9,     -999.0,9,      -2.42,2,       0.10,20110406,       2119
320620110219,       S04P,     111,          1,          4,          4,2,20110406,       2102,   -67.0006,  -119.9416,       4520,  4101.4,   0.3615,  34.7016,2,  34.7005,2,    215.0,2,   214.9,2,  135.41,2,   32.71,2,    0.00,2,    2.24,2,   0.338,2,   0.169,2,   0.017,2,   0.0770,2,  2262.6,2,  2362.7,2,   7.5955,2,    25.00,-999.000,9,-999.0000,9,-999.000,9,   0.3618,2, -999.00,9,  -999.0,9,  -999.0,-999.000,9, -999.00,9,-999.000,9,   40.24,2,   34.99,2, -67.0006,-119.9416,-999.000,     -999.0,    34.8641,2,     -999.0,9,     -999.0,9,   0.0697,3,   0.0304,3,  -0.0075,4,  -0.0136,4,  -0.0206,4,  -0.0162,4,  -0.0151,4,   0.0810,4,   0.0641,4,-999.0000,-999.000,   0.0643,     -999.0,     -999.0,9,     -999.0,9,     -999.0,9,     -999.0,9,     -999.0,20110406,       2113
320620110219,       S04P,     111,          1,          3,          3,2,20110406,       2102,   -67.0006,  -119.9416,       4520,  4400.6,   0.3540,  34.7006,2,  34.6995,2,    215.7,2,   215.2,2,  138.82,2,   32.75,2,    0.00,2,    2.24,2,-999.000,9,-999.000,9,-999.000,9,   0.0810,2,  2261.8,2,  2362.9,2,   7.5947,2,    25.00,  -0.007,2,   1.9349,2,    8.55,2,   0.3541,2, -999.00,9,  -999.0,9,  -999.0,   8.374,2,   -0.20,2,-999.000,9,   40.28,2,   34.72,2, -67.0006,-119.9416,   0.013,      0.043,    34.8631,2,     -999.0,9,     -999.0,9,-999.0000,9,-999.0000,9,-999.0000,9,-999.0000,9,-999.0000,9,-999.0000,9,-999.0000,9,-999.0000,9,-999.0000,9,   0.0093,    0.14,   0.0255,     -999.0,     -999.0,9,     -999.0,9,     -999.0,9,      -2.44,2,       0.12,20110406,       2108
320620110219,       S04P,     111,          1,          2,          2,2,20110406,       2102,   -67.0006,  -119.9416,       4520,  4550.6,   0.3580,  34.7001,2,  34.6993,2,    215.3,2,   215.9,2,  140.05,2,   32.77,2,    0.00,2,    2.24,2,   0.470,2,   0.226,2,   0.020,2,   0.1000,2,  2263.0,2,  2362.7,2,   7.5942,6,    25.00,-999.000,9,-999.0000,9,-999.000,9,   0.3576,2, -999.00,9,  -999.0,9,  -999.0,-999.000,9, -999.00,9,-999.000,9,   40.28,2,   34.76,2, -67.0006,-119.9416,-999.000,     -999.0,    34.8630,2,     -999.0,9,     -999.0,9,-999.0000,9,-999.0000,9,-999.0000,9,-999.0000,9,-999.0000,9,-999.0000,9,-999.0000,9,-999.0000,9,-999.0000,9,-999.0000,-999.000,   0.0131,     -999.0,     -999.0,9,     -999.0,9,     -999.0,9,     -999.0,9,     -999.0,20110406,       2104
320620110219,       S04P,     111,          1,          1,          1,2,20110406,       2102,   -67.0006,  -119.9416,       4520,  4604.6,   0.3553,  34.6996,2,  34.6992,2,    215.0,2,   215.0,2,  142.15,2,   32.85,2,    0.00,2,    2.25,2,   0.546,2,   0.269,2,   0.029,2,   0.1330,2,  2263.7,6,  2363.6,2,   7.5924,2,    25.00,   0.016,2,   1.9756,2,    8.18,2,   0.3553,2, -999.00,9,  -999.0,9,  -999.0,   8.496,2,   -0.20,2,-999.000,9,   40.41,2,   34.87,2, -67.0006,-119.9416,   0.012,      0.043,    34.8628,2,     -999.0,9,     -999.0,9,   0.0804,2,   0.0388,3,  -0.0028,4,  -0.0097,4,  -0.0177,4,  -0.0145,4,  -0.0144,4,   0.0762,4,   0.0557,4,   0.0095,    0.14,   0.0045,     -999.0,     -999.0,9,     -999.0,9,     -999.0,9,      -2.47,2,       0.03,20110406,       2102