BOTTLE,20220813CCHSIOAMB
EXPOCODE,SECT_ID,STNNBR,CASTNO,SAMPNO,BTLNBR,BTLNBR_FLAG_W,DATE,TIME,LATITUDE,LONGITUDE,DEPTH,CTDPRS,CTDTMP,CTDSAL,CTDSAL_FLAG_W,SALNTY,SALNTY_FLAG_W,CTDOXY,CTDOXY_FLAG_W,OXYGEN,OXYGEN_FLAG_W,SILCAT,SILCAT_FLAG_W,NITRAT,NITRAT_FLAG_W,NITRIT,NITRIT_FLAG_W,PHSPHT,PHSPHT_FLAG_W,CFC-11,CFC-11_FLAG_W,CFC-12,CFC-12_FLAG_W,CFC113,CFC113_FLAG_W,SF6,SF6_FLAG_W,TCARBN,TCARBN_FLAG_W,ALKALI,ALKALI_FLAG_W,PH_TOT,PH_TOT_FLAG_W,PH_TMP,TRITUM,TRITUM_FLAG_W,HELIUM,HELIUM_FLAG_W,DELHE3,DELHE3_FLAG_W,REFTMP,REFTMP_FLAG_W,DELC13,DELC13_FLAG_W,DELC14,DELC14_FLAG_W,C14ERR,NEON,NEON_FLAG_W,DELO18,DELO18_FLAG_W,POC,POC_FLAG_W,DOC,DOC_FLAG_W,TDN,TDN_FLAG_W,BTL_LAT,BTL_LON,TRITER,NEONER,SALTREF,SALTREF_FLAG_W,PIGMENTS,PIGMENTS_FLAG_W,LAB_DEN,LAB_DEN_FLAG_W,CDOM325,CDOM325_FLAG_W,CDOM340,CDOM340_FLAG_W,CDOM380,CDOM380_FLAG_W,CDOM412,CDOM412_FLAG_W,CDOM443,CDOM443_FLAG_W,CDOM490,CDOM490_FLAG_W,CDOM555,CDOM555_FLAG_W,CDOMSL,CDOMSL_FLAG_W,CDOMSN,CDOMSN_FLAG_W,HELIER,DELHER,THETA,LDEO_SAMPNO,ABSORBTION,ABSORBTION_FLAG_W,IMAGE_COUNT,IMAGE_COUNT_FLAG_W,CYTO_COUNT,CYTO_COUNT_FLAG_W,DELD,DELD_FLAG_W,DELDERR,BTL_DATE,BTL_TIME
,,,,,,,,,,,METERS,DBAR,ITS-90,PSS-78,,PSS-78,,UMOL/KG,,UMOL/KG,,UMOL/KG,,UMOL/KG,,UMOL/KG,,UMOL/KG,,PMOL/KG,,PMOL/KG,,PMOL/KG,,FMOL/KG,,UMOL/KG,,UMOL/KG,,,,DEG C,TU,,NMOL/KG,,PERCNT,,DEG C,,/MILLE,,/MILLE,,/MILLE,NMOL/KG,,/MILLE,,UG/KG,,UMOL/KG,,UMOL/KG,,,,TU,NMOL/KG,G/KG,,,,,,1/M,,1/M,,1/M,,1/M,,1/M,,1/M,,1/M,,1/NM,,1/NM,,NMOL/KG,PERCNT,DEG C,,,,,,,,/MILLE,,/MILLE,,
320620110219,       S04P,     124,          2,         36,         36,2,20110415,       0432,   -67.0000,   -89.2850,       3316,     3.9,  -0.3673,  33.6024,2,-999.0000,5,    341.7,3,   345.1,2,   11.66,2,   24.04,2,    0.21,2,    1.65,2,   6.205,2,   3.380,2,   0.660,2,   2.8270,2,  2139.4,2,  2268.4,6,   7.7049,2,    25.00,-999.000,9,-999.0000,9,-999.000,9,  -0.3671,2, -999.00,9,  -999.0,9,  -999.0,-999.000,9, -999.00,9,-999.000,9,   45.39,2,   28.62,2, -67.0001, -89.2849,-999.000,     -999.0,     -999.0,5,     -999.0,9,     -999.0,9,-999.0000,9,-999.0000,9,-999.0000,9,-999.0000,9,-999.0000,9,-999.0000,9,-999.0000,9,-999.0000,9,-999.0000,9,-999.0000,-999.000,  -0.3674,     -999.0,     -999.0,9,     -999.0,9,     -999.0,9,     -999.0,9,     -999.0,20110415,       0616
320620110219,       S04P,     124,          2,         35,         35,2,20110415,       0432,   -67.0000,   -89.2850,       3316,    19.7,  -0.3733,  33.6023,2,  33.6015,2,    345.3,2,   345.2,2,   11.58,2,   23.97,2,    0.21,2,    1.66,2,   6.197,2,   3.387,2,   0.652,2,   2.7880,2,  2139.4,6,  2267.6,2,   7.7066,2,    25.00,-999.000,9,-999.0000,9,-999.000,9,  -0.3734,2, -999.00,9,  -999.0,9,  -999.0,-999.000,9, -999.00,9,-999.000,9,   45.20,2,   27.92,2, -67.0001, -89.2849,-999.000,     -999.0,    33.7599,2,     -999.0,9,     -999.0,9,-999.0000,9,-999.0000,9,-999.0000,9,-999.0000,9,-999.0000,9,-999.0000,9,-999.0000,9,-999.0000,9,-999.0000,9,-999.0000,-999.000,  -0.3739,     -999.0,     -999.0,9,     -999.0,9,     -999.0,9,     -999.0,9,     -999.0,20110415,       0615
320620110219,       S04P,     124,          2,         34,         34,2,20110415,       0432,   -67.0000,   -89.2850,       3316,    39.8,  -0.3706,  33.6021,2,  33.6026,2,    345.8,2,   345.1,2,   11.65,2,   23.98,2,    0.21,2,    1.68,2,   6.216,2,   3.393,2,   0.664,2,   2.7680,2,  2139.8,2,  2267.4,2,   7.7049,6,    25.00,-999.000,9,-999.0000,9,-999.000,9,  -0.3711,2, -999.00,9,  -999.0,9,  -999.0,-999.000,9, -999.00,9,-999.000,9,   44.65,2,   28.11,2, -67.0001, -89.2849,-999.000,     -999.0,    33.7611,2,     -999.0,9,     -999.0,9,-999.0000,9,-999.0000,9,-999.0000,9,-999.0000,9,-999.0000,9,-999.0000,9,-999.0000,9,-999.0000,9,-999.0000,9,-999.0000,-999.000,  -0.3718,     -999.0,     -999.0,9,     -999.0,9,     -999.0,9,     -999.0,9,     -999.0,20110415,       0614
320620110219,       S04P,     124,          2,         33,         33,2,20110415,       0432,   -67.0000,   -89.2850,       3316,    64.5,  -1.5357,  33.8492,2,  33.8521,2,    340.7,2,   335.5,2,   32.68,2,   28.26,2,    0.18,2,    2.04,2,   6.064,6,   3.290,6,   0.629,6,   2.6460,6,  2171.3,2,  2282.0,2,   7.6555,2,    25.00,-999.000,9,-999.0000,9,-999.000,9,  -1.5377,2, -999.00,9,  -999.0,9,  -999.0,-999.000,9, -999.00,9,-999.000,9,   44.11,2,   32.31,2, -67.0001, -89.2849,-999.000,     -999.0,    34.0117,2,     -999.0,9,     -999.0,9,-999.0000,9,-999.0000,9,-999.0000,9,-999.0000,9,-999.0000,9,-999.0000,9,-999.0000,9,-999.0000,9,-999.0000,9,-999.0000,-999.000,  -1.5371,     -999.0,     -999.0,9,     -999.0,9,     -999.0,9,     -999.0,9,     -999.0,20110415,       0612
320620110219,       S04P,     124,          2,         32,         32,2,20110415,       0432,   -67.0000,   -89.2850,       3316,    90.5,  -1.4131,  33.9040,2,  33.9049,2,    326.5,2,   326.4,2,   35.04,2,   29.14,2,    0.18,2,    2.06,2,   5.898,2,   3.202,2,   0.617,2,   2.5370,2,  2176.5,2,  2284.2,2,   7.6445,2,    25.00,-999.000,9,-999.0000,9,-999.000,9,  -1.4131,2, -999.00,9,  -999.0,9,  -999.0,-999.000,9, -999.00,9,-999.000,9,   43.40,2,   32.93,2, -67.0001, -89.2849,-999.000,     -999.0,    34.0648,2,     -999.0,9,     -999.0,9,-999.0000,9,-999.0000,9,-999.0000,9,-999.0000,9,-999.0000,9,-999.0000,9,-999.0000,9,-999.0000,9,-999.0000,9,-999.0000,-999.000,  -1.4151,     -999.0,     -999.0,9,     -999.0,9,     -999.0,9,     -999.0,9,     -999.0,20110415,       0611
320620110219,       S04P,     124,          2,         31,         31,2,20110415,       0432,   -67.0000,   -89.2850,       3316,   135.2,  -0.2424,  34.0424,2,  34.0502,2,    297.3,2,   300.6,2,   40.24,2,   30.90,2,    0.00,2,    2.14,2,   4.959,2,   2.806,2,   0.472,2,   2.7950,3,  2191.6,2,  2293.5,2,   7.6234,2,    25.00,-999.000,9,-999.0000,9,-999.000,9,  -0.2393,2, -999.00,9,  -999.0,9,  -999.0,-999.000,9, -999.00,9,-999.000,9,   42.72,2,   34.16,2, -67.0001, -89.2849,-999.000,     -999.0,    34.2108,2,     -999.0,9,     -999.0,9,-999.0000,9,-999.0000,9,-999.0000,9,-999.0000,9,-999.0000,9,-999.0000,9,-999.0000,9,-999.0000,9,-999.0000,9,-999.0000,-999.000,  -0.2469,     -999.0,     -999.0,9,     -999.0,9,     -999.0,9,     -999.0,9,     -999.0,20110415,       0609
320620110219,       S04P,     124,          2,         30,         30,2,20110415,       0432,   -67.0000,   -89.2850,       3316,   184.4,   1.3257,  34.2547,2,  34.2642,2,    239.2,2,   233.0,2,   53.06,2,   33.33,2,    0.00,2,    2.30,2,   3.178,2,   1.747,2,   0.310,2,   1.1230,2,  2222.4,2,  2306.9,2,   7.5696,2,    25.00,-999.000,9,-999.0000,9,-999.000,9,   1.3594,2, -999.00,9,  -999.0,9,  -999.0,-999.000,9, -999.00,9,-999.000,9,   41.73,2,   35.97,2, -67.0001, -89.2850,-999.000,     -999.0,    34.4257,2,     -999.0,9,     -999.0,9,-999.0000,9,-999.0000,9,-999.0000,9,-999.0000,9,-999.0000,9,-999.0000,9,-999.0000,9,-999.0000,9,-999.0000,9,-999.0000,-999.000,   1.3170,     -999.0,     -999.0,9,     -999.0,9,     -999.0,9,     -999.0,9,     -999.0,20110415,       0608
320620110219,       S04P,     124,          2,         29,         29,2,20110415,       0432,   -67.0000,   -89.2850,       3316,   234.3,   2.0282,  34.3773,2,  34.3758,2,    201.2,2,   200.9,2,   60.50,2,   34.33,2,    0.00,2,    2.37,2,   2.157,2,   1.171,2,   0.190,2,   0.6620,2,  2236.4,2,  2317.5,2,   7.5527,2,    25.00,-999.000,9,-999.0000,9,-999.000,9,   2.0276,2, -999.00,9,  -999.0,9,  -999.0,-999.000,9, -999.00,9,-999.000,9,   41.51,2,   37.09,2, -67.0001, -89.2850,-999.000,     -999.0,    34.5379,2,     -999.0,9,     -999.0,9,-999.0000,9,-999.0000,9,-999.0000,9,-999.0000,9,-999.0000,9,-999.0000,9,-999.0000,9,-999.0000,9,-999.0000,9,-999.0000,-999.000,   2.0156,     -999.0,     -999.0,9,     -999.0,9,     -999.0,9,     -999.0,9,     -999.0,20110415,       0606
320620110219,       S04P,     124,          2,         28,         28,2,20110415,       0432,   -67.0000,   -89.2850,       3316,   285.3,   2.1265,  34.4338,2,  34.4348,2,    188.2,2,   188.6,2,   65.07,2,   34.54,2,    0.00,2,    2.39,2,   1.702,2,   0.906,2,   0.150,2,   0.5230,2,  2244.3,2,  2321.8,2,   7.5446,2,    25.00,-999.000,9,-999.0000,9,-999.000,9,   2.1273,2, -999.00,9,  -999.0,9,  -999.0,-999.000,9, -999.00,9,-999.000,9,   40.68,2,   37.30,2, -67.0001, -89.2850,-999.000,     -999.0,    34.5972,2,     -999.0,9,     -999.0,9,-999.0000,9,-999.0000,9,-999.0000,9,-999.0000,9,-999.0000,9,-999.0000,9,-999.0000,9,-999.0000,9,-999.0000,9,-999.0000,-999.000,   2.1108,     -999.0,     -999.0,9,     -999.0,9,     -999.0,9,     -999.0,9,     -999.0,20110415,       0604
320620110219,       S04P,     124,          2,         27,         27,2,20110415,       0432,   -67.0000,   -89.2850,       3316,   333.9,   2.1569,  34.4744,2,  34.4758,2,    182.2,2,   181.8,2,   68.55,2,   34.64,2,    0.00,2,    2.40,2,   1.472,2,   0.774,2,   0.126,2,   0.3870,2,  2249.6,2,  2326.3,2,   7.5376,2,    25.00,-999.000,9,-999.0000,9,-999.000,9,   2.1564,2, -999.00,9,  -999.0,9,  -999.0,-999.000,9, -999.00,9,-999.000,9,   40.41,2,   37.52,2, -67.0001, -89.2849,-999.000,     -999.0,    34.6383,2,     -999.0,9,     -999.0,9,-999.0000,9,-999.0000,9,-999.0000,9,-999.0000,9,-999.0000,9,-999.0000,9,-999.0000,9,-999.0000,9,-999.0000,9,-999.0000,-999.000,   2.1383,     -999.0,     -999.0,9,     -999.0,9,     -999.0,9,     -999.0,9,     -999.0,20110415,       0603
320620110219,       S04P,     124,          2,         26,         26,2,20110415,       0432,   -67.0000,   -89.2850,       3316,   384.3,   2.1902,  34.5139,2,  34.5136,2,    177.6,2,   177.0,2,   70.90,2,   34.52,2,    0.00,2,    2.40,2,-999.000,9,-999.000,9,-999.000,9,-999.0000,9,  2252.4,2,  2329.1,2,   7.5293,4,    25.00,-999.000,9,-999.0000,9,-999.000,9,   2.1888,2, -999.00,9,  -999.0,9,  -999.0,-999.000,9, -999.00,9,-999.000,9,   39.95,2,   37.08,2, -67.0001, -89.2849,-999.000,     -999.0,    34.6764,2,     -999.0,9,     -999.0,9,-999.0000,9,-999.0000,9,-999.0000,9,-999.0000,9,-999.0000,9,-999.0000,9,-999.0000,9,-999.0000,9,-999.0000,9,-999.0000,-999.000,   2.1685,     -999.0,     -999.0,9,     -999.0,9,     -999.0,9,     -999.0,9,     -999.0,20110415,       0601
320620110219,       S04P,     124,          2,         25,         25,2,20110415,       0432,   -67.0000,   -89.2850,       3316,   434.5,   2.2213,  34.5499,2,  34.5515,2,    174.2,2,   173.7,2,   73.40,2,   34.41,2,    0.00,2,    2.38,2,   0.951,2,   0.479,2,   0.075,2,   0.1970,2,  2255.7,2,  2332.9,2,   7.5460,2,    25.00,-999.000,9,-999.0000,9,-999.000,9,   2.2212,2, -999.00,9,  -999.0,9,  -999.0,-999.000,9, -999.00,9,-999.000,9,   40.03,2,   37.28,2, -67.0001, -89.2849,-999.000,     -999.0,    34.7144,2,     -999.0,9,     -999.0,9,-999.0000,9,-999.0000,9,-999.0000,9,-999.0000,9,-999.0000,9,-999.0000,9,-999.0000,9,-999.0000,9,-999.0000,9,-999.0000,-999.000,   2.1964,     -999.0,     -999.0,9,     -999.0,9,     -999.0,9,     -999.0,9,     -999.0,20110415,       0559
320620110219,       S04P,     124,          2,         24,         24,2,20110415,       0432,   -67.0000,   -89.2850,       3316,   485.1,   2.2207,  34.5749,2,  34.5791,2,    172.0,2,   172.6,2,   75.01,2,   34.14,2,    0.00,2,    2.37,2,-999.000,9,-999.000,9,-999.000,9,-999.0000,9,  2255.9,2,  2334.8,2,   7.5468,2,    25.00,-999.000,9,-999.0000,9,-999.000,9,   2.2207,2, -999.00,9,  -999.0,9,  -999.0,-999.000,9, -999.00,9,-999.000,9,   39.63,2,   36.82,2, -67.0001, -89.2850,-999.000,     -999.0,    34.7422,2,     -999.0,9,     -999.0,9,-999.0000,9,-999.0000,9,-999.0000,9,-999.0000,9,-999.0000,9,-999.0000,9,-999.0000,9,-999.0000,9,-999.0000,9,-999.0000,-999.000,   2.1927,     -999.0,     -999.0,9,     -999.0,9,     -999.0,9,     -999.0,9,     -999.0,20110415,       0557
320620110219,       S04P,     124,          2,         23,         23,2,20110415,       0432,   -67.0000,   -89.2850,       3316,   564.9,   2.2248,  34.6174,2,  34.6181,2,    171.9,2,   172.7,2,   77.66,2,   33.77,2,    0.00,2,    2.33,2,   0.579,2,   0.287,2,   0.040,2,   0.1620,2,  -999.0,9,  -999.0,9,-999.0000,9,  -999.00,-999.000,9,-999.0000,9,-999.000,9,   2.2247,2, -999.00,9,  -999.0,9,  -999.0,-999.000,9, -999.00,9,-999.000,9,   39.94,2,   36.54,2, -67.0001, -89.2849,-999.000,     -999.0,    34.7814,2,     -999.0,9,     -999.0,9,-999.0000,9,-999.0000,9,-999.0000,9,-999.0000,9,-999.0000,9,-999.0000,9,-999.0000,9,-999.0000,9,-999.0000,9,-999.0000,-999.000,   2.1918,     -999.0,     -999.0,9,     -999.0,9,     -999.0,9,     -999.0,9,     -999.0,20110415,       0555
320620110219,       S04P,     124,          2,         22,         22,2,20110415,       0432,   -67.0000,   -89.2850,       3316,   664.3,   2.1726,  34.6496,2,  34.6505,2,    173.7,2,   173.5,2,   79.76,2,   33.24,2,    0.00,2,    2.30,2,-999.000,9,-999.000,9,-999.000,9,-999.0000,9,  2257.0,2,  2342.0,2,   7.5629,2,    25.00,-999.000,9,-999.0000,9,-999.000,9,   2.1724,2, -999.00,9,  -999.0,9,  -999.0,-999.000,9, -999.00,9,-999.000,9,   40.16,2,   35.97,2, -67.0001, -89.2849,-999.000,     -999.0,    34.8139,2,     -999.0,9,     -999.0,9,-999.0000,9,-999.0000,9,-999.0000,9,-999.0000,9,-999.0000,9,-999.0000,9,-999.0000,9,-999.0000,9,-999.0000,9,-999.0000,-999.000,   2.1335,     -999.0,     -999.0,9,     -999.0,9,     -999.0,9,     -999.0,9,     -999.0,20110415,       0553
320620110219,       S04P,     124,          2,         21,         21,2,20110415,       0432,   -67.0000,   -89.2850,       3316,   764.8,   2.1164,  34.6747,2,  34.6750,2,    176.0,2,   175.6,2,   81.45,2,   32.70,2,    0.00,2,    2.26,2,   0.375,2,   0.181,2,   0.022,2,   0.0970,2,  -999.0,9,  -999.0,9,-999.0000,9,  -999.00,-999.000,9,-999.0000,9,-999.000,9,   2.1160,2, -999.00,9,  -999.0,9,  -999.0,-999.000,9, -999.00,9,-999.000,9,   39.88,2,   35.11,2, -67.0001, -89.2849,-999.000,     -999.0,    34.8385,2,     -999.0,9,     -999.0,9,-999.0000,9,-999.0000,9,-999.0000,9,-999.0000,9,-999.0000,9,-999.0000,9,-999.0000,9,-999.0000,9,-999.0000,9,-999.0000,-999.000,   2.0710,     -999.0,     -999.0,9,     -999.0,9,     -999.0,9,     -999.0,9,     -999.0,20110415,       0550
320620110219,       S04P,     124,          2,         20,         20,2,20110415,       0432,   -67.0000,   -89.2850,       3316,   865.3,   2.0559,  34.6947,2,  34.6951,2,    178.9,2,   179.1,2,   83.05,2,   32.25,2,    0.00,2,    2.24,2,-999.000,9,-999.000,9,-999.000,9,-999.0000,9,  2254.7,2,  2346.5,6,   7.5767,2,    25.00,-999.000,9,-999.0000,9,-999.000,9,   2.0557,2, -999.00,9,  -999.0,9,  -999.0,-999.000,9, -999.00,9,-999.000,9,   40.04,2,   34.99,2, -67.0000, -89.2850,-999.000,     -999.0,    34.8587,2,     -999.0,9,     -999.0,9,-999.0000,9,-999.0000,9,-999.0000,9,-999.0000,9,-999.0000,9,-999.0000,9,-999.0000,9,-999.0000,9,-999.0000,9,-999.0000,-999.000,   2.0042,     -999.0,     -999.0,9,     -999.0,9,     -999.0,9,     -999.0,9,     -999.0,20110415,       0548
320620110219,       S04P,     124,          2,         19,         19,2,20110415,       0432,   -67.0000,   -89.2850,       3316,   964.8,   1.9881,  34.7086,2,  34.7086,2,    181.5,2,   181.4,2,   84.58,2,   31.92,2,    0.00,2,    2.22,2,   0.276,2,   0.136,2,   0.016,2,   0.0650,2,  -999.0,9,  -999.0,9,-999.0000,9,  -999.00,-999.000,9,-999.0000,9,-999.000,9,   1.9880,2, -999.00,9,  -999.0,9,  -999.0,-999.000,9, -999.00,9,-999.000,9,   40.10,2,   34.58,2, -67.0001, -89.2849,-999.000,     -999.0,    34.8723,2,     -999.0,9,     -999.0,9,-999.0000,9,-999.0000,9,-999.0000,9,-999.0000,9,-999.0000,9,-999.0000,9,-999.0000,9,-999.0000,9,-999.0000,9,-999.0000,-999.000,   1.9302,     -999.0,     -999.0,9,     -999.0,9,     -999.0,9,     -999.0,9,     -999.0,20110415,       0545
320620110219,       S04P,     124,          2,         18,         18,2,20110415,       0432,   -67.0000,   -89.2850,       3316,  1064.5,   1.9222,  34.7183,2,  34.7182,2,    184.4,2,   183.5,2,   86.19,2,   31.58,2,    0.00,2,    2.20,2,-999.000,9,-999.000,9,-999.000,9,-999.0000,9,  2253.2,2,  2350.0,2,   7.5889,6,    25.00,-999.000,9,-999.0000,9,-999.000,9,   1.9220,2, -999.00,9,  -999.0,9,  -999.0,-999.000,9, -999.00,9,-999.000,9,   40.37,2,   34.26,2, -67.0001, -89.2849,-999.000,     -999.0,    34.8819,2,     -999.0,9,     -999.0,9,-999.0000,9,-999.0000,9,-999.0000,9,-999.0000,9,-999.0000,9,-999.0000,9,-999.0000,9,-999.0000,9,-999.0000,9,-999.0000,-999.000,   1.8580,     -999.0,     -999.0,9,     -999.0,9,     -999.0,9,     -999.0,9,     -999.0,20110415,       0542
320620110219,       S04P,     124,          2,         17,         17,2,20110415,       0432,   -67.0000,   -89.2850,       3316,  1164.4,   1.8445,  34.7248,2,  34.7247,2,    186.6,2,   186.9,2,   88.47,2,   31.55,2,    0.00,2,    2.18,2,   0.227,2,   0.108,2,   0.016,2,   0.0730,2,  -999.0,9,  -999.0,9,-999.0000,9,  -999.00,-999.000,9,-999.0000,9,-999.000,9,   1.8447,2, -999.00,9,  -999.0,9,  -999.0,-999.000,9, -999.00,9,-999.000,9,   39.85,2,   34.04,2, -67.0001, -89.2849,-999.000,     -999.0,    34.8884,2,     -999.0,9,     -999.0,9,-999.0000,9,-999.0000,9,-999.0000,9,-999.0000,9,-999.0000,9,-999.0000,9,-999.0000,9,-999.0000,9,-999.0000,9,-999.0000,-999.000,   1.7740,     -999.0,     -999.0,9,     -999.0,9,     -999.0,9,     -999.0,9,     -999.0,20110415,       0540
320620110219,       S04P,     124,          2,         16,         16,2,20110415,       0432,   -67.0000,   -89.2850,       3316,  1265.3,   1.7676,  34.7291,2,  34.7290,2,    188.8,2,   188.4,2,   90.97,2,   31.42,2,    0.00,2,    2.16,2,-999.000,9,-999.000,9,-999.000,9,-999.0000,9,  -999.0,9,  -999.0,9,-999.0000,9,  -999.00,-999.000,9,-999.0000,9,-999.000,9,   1.7672,2, -999.00,9,  -999.0,9,  -999.0,-999.000,9, -999.00,9,-999.000,9,   39.91,2,   33.89,2, -67.0001, -89.2849,-999.000,     -999.0,    34.8928,2,     -999.0,9,     -999.0,9,-999.0000,9,-999.0000,9,-999.0000,9,-999.0000,9,-999.0000,9,-999.0000,9,-999.0000,9,-999.0000,9,-999.0000,9,-999.0000,-999.000,   1.6907,     -999.0,     -999.0,9,     -999.0,9,     -999.0,9,     -999.0,9,     -999.0,20110415,       0537
320620110219,       S04P,     124,          2,         15,         15,2,20110415,       0432,   -67.0000,   -89.2850,       3316,  1364.8,   1.6825,  34.7306,2,  34.7304,2,    190.4,2,   190.8,2,   93.53,2,   31.54,2,    0.00,2,    2.17,2,   0.187,2,   0.092,2,   0.010,2,   0.0330,2,  2255.5,6,  2354.7,2,   7.5996,2,    25.00,-999.000,9,-999.0000,9,-999.000,9,   1.6820,2, -999.00,9,  -999.0,9,  -999.0,-999.000,9, -999.00,9,-999.000,9,   39.95,2,   34.10,2, -67.0001, -89.2849,-999.000,     -999.0,    34.8941,2,     -999.0,9,     -999.0,9,-999.0000,9,-999.0000,9,-999.0000,9,-999.0000,9,-999.0000,9,-999.0000,9,-999.0000,9,-999.0000,9,-999.0000,9,-999.0000,-999.000,   1.5994,     -999.0,     -999.0,9,     -999.0,9,     -999.0,9,     -999.0,9,     -999.0,20110415,       0535
320620110219,       S04P,     124,          2,         14,         14,2,20110415,       0432,   -67.0000,   -89.2850,       3316,  1465.3,   1.6134,  34.7313,2,  34.7310,2,    191.7,2,   191.0,2,   95.49,2,   31.49,2,    0.00,2,    2.17,2,-999.000,9,-999.000,9,-999.000,9,-999.0000,9,  -999.0,9,  -999.0,9,-999.0000,9,  -999.00,-999.000,9,-999.0000,9,-999.000,9,   1.6131,2, -999.00,9,  -999.0,9,  -999.0,-999.000,9, -999.00,9,-999.000,9,   40.07,2,   34.19,2, -67.0001, -89.2850,-999.000,     -999.0,    34.8947,2,     -999.0,9,     -999.0,9,-999.0000,9,-999.0000,9,-999.0000,9,-999.0000,9,-999.0000,9,-999.0000,9,-999.0000,9,-999.0000,9,-999.0000,9,-999.0000,-999.000,   1.5238,     -999.0,     -999.0,9,     -999.0,9,     -999.0,9,     -999.0,9,     -999.0,20110415,       0532