BOTTLE,20220813CCHSIOAMB
EXPOCODE,SECT_ID,STNNBR,CASTNO,SAMPNO,BTLNBR,BTLNBR_FLAG_W,DATE,TIME,LATITUDE,LONGITUDE,DEPTH,CTDPRS,CTDTMP,CTDSAL,CTDSAL_FLAG_W,SALNTY,SALNTY_FLAG_W,CTDOXY,CTDOXY_FLAG_W,OXYGEN,OXYGEN_FLAG_W,SILCAT,SILCAT_FLAG_W,NITRAT,NITRAT_FLAG_W,NITRIT,NITRIT_FLAG_W,PHSPHT,PHSPHT_FLAG_W,CFC-11,CFC-11_FLAG_W,CFC-12,CFC-12_FLAG_W,CFC113,CFC113_FLAG_W,SF6,SF6_FLAG_W,TCARBN,TCARBN_FLAG_W,ALKALI,ALKALI_FLAG_W,PH_TOT,PH_TOT_FLAG_W,PH_TMP,TRITUM,TRITUM_FLAG_W,HELIUM,HELIUM_FLAG_W,DELHE3,DELHE3_FLAG_W,REFTMP,REFTMP_FLAG_W,DELC13,DELC13_FLAG_W,DELC14,DELC14_FLAG_W,C14ERR,NEON,NEON_FLAG_W,DELO18,DELO18_FLAG_W,POC,POC_FLAG_W,DOC,DOC_FLAG_W,TDN,TDN_FLAG_W,BTL_LAT,BTL_LON,TRITER,NEONER,SALTREF,SALTREF_FLAG_W,PIGMENTS,PIGMENTS_FLAG_W,LAB_DEN,LAB_DEN_FLAG_W,CDOM325,CDOM325_FLAG_W,CDOM340,CDOM340_FLAG_W,CDOM380,CDOM380_FLAG_W,CDOM412,CDOM412_FLAG_W,CDOM443,CDOM443_FLAG_W,CDOM490,CDOM490_FLAG_W,CDOM555,CDOM555_FLAG_W,CDOMSL,CDOMSL_FLAG_W,CDOMSN,CDOMSN_FLAG_W,HELIER,DELHER,THETA,LDEO_SAMPNO,ABSORBTION,ABSORBTION_FLAG_W,IMAGE_COUNT,IMAGE_COUNT_FLAG_W,CYTO_COUNT,CYTO_COUNT_FLAG_W,DELD,DELD_FLAG_W,DELDERR,BTL_DATE,BTL_TIME
,,,,,,,,,,,METERS,DBAR,ITS-90,PSS-78,,PSS-78,,UMOL/KG,,UMOL/KG,,UMOL/KG,,UMOL/KG,,UMOL/KG,,UMOL/KG,,PMOL/KG,,PMOL/KG,,PMOL/KG,,FMOL/KG,,UMOL/KG,,UMOL/KG,,,,DEG C,TU,,NMOL/KG,,PERCNT,,DEG C,,/MILLE,,/MILLE,,/MILLE,NMOL/KG,,/MILLE,,UG/KG,,UMOL/KG,,UMOL/KG,,,,TU,NMOL/KG,G/KG,,,,,,1/M,,1/M,,1/M,,1/M,,1/M,,1/M,,1/M,,1/NM,,1/NM,,NMOL/KG,PERCNT,DEG C,,,,,,,,/MILLE,,/MILLE,,
320620110219,       S04P,      42,          1,         36,         36,2,20110310,       0121,   -67.0000,  -153.7062,       4149,     4.9,  -0.4102,  33.6770,2,  33.6760,2,    344.2,3,   347.5,2,   45.40,2,   21.35,2,    0.10,2,    1.48,2,   6.113,2,   3.336,2,   0.611,2,   2.7910,2,  2136.0,6,  2285.2,2,   7.7459,2,    25.00,   0.106,2,    1.984,2,  -1.272,2,  -0.4132,2, -999.00,9,  -999.0,9,  -999.0,   9.012,2,   -0.41,2,-999.000,9,   46.78,2,   25.80,2, -67.0000,-153.7063,   0.005,      0.011,    33.8348,2,     -999.0,9,     -999.0,9,-999.0000,9,-999.0000,9,-999.0000,9,-999.0000,9,-999.0000,9,-999.0000,9,-999.0000,9,-999.0000,9,-999.0000,9,    0.001,   0.210,  -0.4103,50004201036,     -999.0,9,     -999.0,9,     -999.0,9,      -4.07,2,       0.21,20110310,       0306
320620110219,       S04P,      42,          1,         35,         35,2,20110310,       0121,   -67.0000,  -153.7062,       4149,    25.6,  -0.5054,  33.6949,2,  33.6954,2,    348.1,2,   346.8,2,   45.88,2,   21.86,2,    0.10,2,    1.51,2,   6.044,2,   3.305,2,   0.594,2,   2.7570,2,  2139.9,2,  2285.1,6,   7.7395,2,    25.00,   0.092,2,    1.939,2,  -1.660,2,  -0.5052,2, -999.00,9,  -999.0,9,  -999.0,   8.773,2,   -0.58,2,-999.000,9,   46.44,2,   26.21,2, -67.0000,-153.7062,   0.004,      0.007,    33.8543,2,     -999.0,9,     -999.0,9,-999.0000,9,-999.0000,9,-999.0000,9,-999.0000,9,-999.0000,9,-999.0000,9,-999.0000,9,-999.0000,9,-999.0000,9,    0.000,   0.199,  -0.5061,50004201035,     -999.0,9,     -999.0,9,     -999.0,9,      -4.54,2,       0.20,20110310,       0304
320620110219,       S04P,      42,          1,         34,         34,2,20110310,       0121,   -67.0000,  -153.7062,       4149,    49.6,  -0.5532,  33.7221,2,  33.7169,2,    345.4,2,   344.2,2,   46.49,2,   22.20,2,    0.11,2,    1.56,2,   6.018,2,   3.282,2,   0.597,2,   2.6250,2,  2143.4,2,  2287.5,2,   7.7296,6,    25.00,   0.109,2,    1.978,2,  -1.056,2,  -0.5497,2, -999.00,9,  -999.0,9,  -999.0,   8.959,2,   -0.42,2,-999.000,9,   44.88,2,   26.43,2, -67.0000,-153.7063,   0.005,      0.013,    33.8759,2,     -999.0,9,     -999.0,9,-999.0000,9,-999.0000,9,-999.0000,9,-999.0000,9,-999.0000,9,-999.0000,9,-999.0000,9,-999.0000,9,-999.0000,9,    0.001,   0.216,  -0.5546,50004201034,     -999.0,9,     -999.0,9,     -999.0,9,      -3.89,2,       0.17,20110310,       0303
320620110219,       S04P,      42,          1,         33,         33,2,20110310,       0121,   -67.0000,  -153.7062,       4149,    75.1,  -1.4092,  34.1499,2,  34.1490,2,    287.7,2,   288.5,2,   58.77,2,   28.95,2,    0.15,2,    2.01,2,   4.690,2,   2.539,2,   0.452,2,   1.7270,2,  2206.4,2,  2308.3,2,   7.6128,2,    25.00,   0.069,2,    1.974,2,   1.594,2,  -1.3989,2, -999.00,9,  -999.0,9,  -999.0,   8.883,2,   -0.21,2,-999.000,9,   42.98,2,   32.96,2, -67.0000,-153.7062,   0.006,      0.007,    34.3101,2,     -999.0,9,     -999.0,9,-999.0000,9,-999.0000,9,-999.0000,9,-999.0000,9,-999.0000,9,-999.0000,9,-999.0000,9,-999.0000,9,-999.0000,9,    0.001,   0.199,  -1.4109,50004201033,     -999.0,9,     -999.0,9,     -999.0,9,      -2.97,2,       0.41,20110310,       0302
320620110219,       S04P,      42,          1,         32,         32,2,20110310,       0121,   -67.0000,  -153.7062,       4149,   100.3,  -1.0566,  34.2185,2,  34.2246,2,    275.2,2,   273.9,2,   62.24,2,   29.57,2,    0.12,2,    2.05,2,   4.206,2,   2.283,2,   0.395,2,   1.7950,2,  2212.9,2,  2312.9,2,   7.6040,2,    25.00,-999.000,9,    1.989,2,   2.269,2,  -1.0565,2, -999.00,9,  -999.0,9,  -999.0,   8.887,2,   -0.38,2,-999.000,9,   41.92,2,   33.20,2, -67.0000,-153.7062,-999.000,      0.008,    34.3860,2,     -999.0,9,     -999.0,9,-999.0000,9,-999.0000,9,-999.0000,9,-999.0000,9,-999.0000,9,-999.0000,9,-999.0000,9,-999.0000,9,-999.0000,9,    0.000,   0.211,  -1.0592,50004201032,     -999.0,9,     -999.0,9,     -999.0,9,      -3.06,2,       0.18,20110310,       0300
320620110219,       S04P,      42,          1,         31,         31,2,20110310,       0121,   -67.0000,  -153.7062,       4149,   124.5,  -0.5364,  34.3103,2,  34.3122,2,    259.8,2,   254.5,2,   67.38,2,   30.69,2,    0.04,2,    2.09,2,   3.524,2,   1.899,2,   0.337,2,   1.3060,2,  2221.7,2,  2318.1,2,   7.5901,2,    25.00,   0.001,2,    1.950,2,   3.432,2,  -0.5488,2, -999.00,9,  -999.0,9,  -999.0,   8.732,2,   -0.26,2,-999.000,9,   41.90,2,   33.80,2, -67.0000,-153.7062,   0.008,      0.007,    34.4739,2,     -999.0,9,     -999.0,9,-999.0000,9,-999.0000,9,-999.0000,9,-999.0000,9,-999.0000,9,-999.0000,9,-999.0000,9,-999.0000,9,-999.0000,9,    0.000,   0.199,  -0.5403,50004201031,     -999.0,9,     -999.0,9,     -999.0,9,      -2.79,2,       0.24,20110310,       0259
320620110219,       S04P,      42,          1,         30,         30,2,20110310,       0121,   -67.0000,  -153.7062,       4149,   150.7,  -0.0942,  34.3817,2,  34.3801,2,    241.7,2,   239.6,2,   71.17,2,   31.20,2,    0.03,2,    2.14,2,   2.964,2,   1.626,2,   0.280,2,   1.1770,2,  2229.0,2,  2323.4,2,   7.5798,2,    25.00,   0.028,2,    2.016,2,   3.815,2,  -0.0822,2, -999.00,9,  -999.0,9,  -999.0,   8.946,2,   -0.11,2,-999.000,9,   41.51,2,   34.48,2, -67.0000,-153.7062,   0.006,      0.007,    34.5423,2,     -999.0,9,     -999.0,9,-999.0000,9,-999.0000,9,-999.0000,9,-999.0000,9,-999.0000,9,-999.0000,9,-999.0000,9,-999.0000,9,-999.0000,9,    0.001,   0.200,  -0.0995,50004201030,     -999.0,9,     -999.0,9,     -999.0,9,      -2.24,2,       0.08,20110310,       0258
320620110219,       S04P,      42,          1,         29,         29,2,20110310,       0121,   -67.0000,  -153.7062,       4149,   201.7,   0.9019,  34.5520,2,  34.5642,2,    206.9,2,   201.9,2,   81.97,2,   32.32,2,    0.02,2,    2.20,2,   1.507,2,   0.833,2,   0.138,2,   0.4730,2,  2246.9,2,  2335.6,2,   7.5647,2,    25.00,   0.000,2,    2.027,2,   7.245,2,   0.9012,2, -999.00,9,  -999.0,9,  -999.0,   8.901,2,   -0.11,2,-999.000,9,   41.50,2,   34.81,2, -67.0000,-153.7063,   0.004,      0.009,    34.7272,2,     -999.0,9,     -999.0,9,-999.0000,9,-999.0000,9,-999.0000,9,-999.0000,9,-999.0000,9,-999.0000,9,-999.0000,9,-999.0000,9,-999.0000,9,    0.001,   0.205,   0.8929,50004201029,     -999.0,9,     -999.0,9,     -999.0,9,      -2.40,2,       0.22,20110310,       0256
320620110219,       S04P,      42,          1,         28,         28,2,20110310,       0121,   -67.0000,  -153.7062,       4149,   250.5,   1.4757,  34.6681,2,  34.6668,2,    188.5,2,   185.9,2,   87.69,2,   32.42,2,    0.02,2,    2.20,2,   0.715,2,   0.395,2,   0.073,2,   0.2070,2,  2253.5,2,  2343.6,2,   7.5650,2,    25.00,   0.001,2,    1.965,2,   8.495,2,   1.4740,2, -999.00,9,  -999.0,9,  -999.0,   8.629,2,   -0.10,2,-999.000,9,   41.20,2,   34.78,2, -67.0000,-153.7062,   0.004,      0.007,    34.8303,2,     -999.0,9,     -999.0,9,-999.0000,9,-999.0000,9,-999.0000,9,-999.0000,9,-999.0000,9,-999.0000,9,-999.0000,9,-999.0000,9,-999.0000,9,    0.000,   0.215,   1.4632,50004201028,     -999.0,9,     -999.0,9,     -999.0,9,      -1.89,2,       0.32,20110310,       0254
320620110219,       S04P,      42,          1,         27,         27,2,20110310,       0121,   -67.0000,  -153.7062,       4149,   300.5,   1.5734,  34.7045,2,  34.7047,2,    183.8,2,   183.4,2,   91.29,2,   32.15,2,    0.01,2,    2.20,2,   0.462,2,   0.246,2,   0.046,2,   0.1080,2,  2256.6,2,  2346.5,2,   7.5710,2,    25.00,-999.000,9,-999.0000,9,-999.000,9,   1.5733,2, -999.00,9,  -999.0,9,  -999.0,-999.000,9,   -0.11,2,-999.000,9,   41.42,2,   34.83,2, -67.0000,-153.7063,-999.000,     -999.0,    34.8683,2,     -999.0,9,     -999.0,9,-999.0000,9,-999.0000,9,-999.0000,9,-999.0000,9,-999.0000,9,-999.0000,9,-999.0000,9,-999.0000,9,-999.0000,9,-999.0000,-999.000,   1.5580,     -999.0,     -999.0,9,     -999.0,9,     -999.0,9,      -1.58,2,       0.12,20110310,       0252
320620110219,       S04P,      42,          1,         26,         26,2,20110310,       0121,   -67.0000,  -153.7062,       4149,   349.8,   1.5553,  34.7197,2,  34.7204,2,    184.6,2,   184.6,2,   94.18,2,   31.95,2,    0.01,2,    2.19,2,-999.000,9,-999.000,9,-999.000,9,-999.0000,9,  2255.9,2,  2349.3,2,   7.5744,2,    25.00,-999.000,9,-999.0000,9,-999.000,9,   1.5550,2, -999.00,9,  -999.0,9,  -999.0,-999.000,9, -999.00,9,-999.000,9,   41.27,2,   34.79,2, -67.0000,-153.7062,-999.000,     -999.0,    34.8841,2,     -999.0,9,     -999.0,9,-999.0000,9,-999.0000,9,-999.0000,9,-999.0000,9,-999.0000,9,-999.0000,9,-999.0000,9,-999.0000,9,-999.0000,9,-999.0000,-999.000,   1.5373,     -999.0,     -999.0,9,     -999.0,9,     -999.0,9,     -999.0,9,     -999.0,20110310,       0251
320620110219,       S04P,      42,          1,         25,         25,2,20110310,       0121,   -67.0000,  -153.7062,       4149,   399.3,   1.4985,  34.7258,2,  34.7263,2,    185.4,2,   186.5,2,   96.77,2,   31.98,2,    0.00,2,    2.18,2,   0.282,2,   0.143,2,   0.022,2,   0.0870,2,  2256.6,2,  2350.8,2,   7.5745,2,    25.00,   0.016,2,-999.0000,9,-999.000,9,   1.4986,2, -999.00,9,  -999.0,9,  -999.0,-999.000,9,   -0.07,2,-999.000,9,   41.21,2,   34.65,2, -67.0000,-153.7063,   0.005,     -999.0,    34.8900,2,     -999.0,9,     -999.0,9,-999.0000,9,-999.0000,9,-999.0000,9,-999.0000,9,-999.0000,9,-999.0000,9,-999.0000,9,-999.0000,9,-999.0000,9,-999.0000,-999.000,   1.4780,     -999.0,     -999.0,9,     -999.0,9,     -999.0,9,      -1.46,2,       0.40,20110310,       0249
320620110219,       S04P,      42,          1,         24,         24,2,20110310,       0121,   -67.0000,  -153.7062,       4149,   450.9,   1.4498,  34.7283,2,  34.7284,2,    185.9,2,   185.6,2,   98.96,2,   32.02,2,    0.00,2,    2.18,2,-999.000,9,-999.000,9,-999.000,9,-999.0000,9,  2258.5,2,  2352.6,2,   7.5796,2,    25.00,-999.000,9,-999.0000,9,-999.000,9,   1.4488,2, -999.00,9,  -999.0,9,  -999.0,-999.000,9, -999.00,9,-999.000,9,   40.95,2,   34.47,2, -67.0000,-153.7063,-999.000,     -999.0,    34.8922,2,     -999.0,9,     -999.0,9,-999.0000,9,-999.0000,9,-999.0000,9,-999.0000,9,-999.0000,9,-999.0000,9,-999.0000,9,-999.0000,9,-999.0000,9,-999.0000,-999.000,   1.4266,     -999.0,     -999.0,9,     -999.0,9,     -999.0,9,     -999.0,9,     -999.0,20110310,       0247
320620110219,       S04P,      42,          1,         23,         23,2,20110310,       0121,   -67.0000,  -153.7062,       4149,   499.8,   1.4030,  34.7294,2,  34.7290,2,    186.0,2,   185.7,2,  100.21,2,   31.99,2,    0.00,2,    2.19,2,   0.230,2,   0.113,2,   0.018,2,   0.0910,2,  2259.6,2,  2350.4,2,   7.5767,2,    25.00,-999.000,9,    2.013,2,   9.225,2,   1.4027,2, -999.00,9,  -999.0,9,  -999.0,   8.792,2,   -0.04,2,-999.000,9,   40.97,2,   34.55,2, -67.0000,-153.7062,-999.000,      0.007,    34.8928,2,     -999.0,9,     -999.0,9,-999.0000,9,-999.0000,9,-999.0000,9,-999.0000,9,-999.0000,9,-999.0000,9,-999.0000,9,-999.0000,9,-999.0000,9,    0.000,   0.203,   1.3773,50004201023,     -999.0,9,     -999.0,9,     -999.0,9,      -1.99,2,       0.31,20110310,       0245
320620110219,       S04P,      42,          1,         22,         22,2,20110310,       0121,   -67.0000,  -153.7062,       4149,   599.8,   1.3120,  34.7295,2,  34.7300,2,    186.5,2,   186.2,2,  104.07,2,   32.02,2,    0.00,2,    2.20,2,-999.000,9,-999.000,9,-999.000,9,-999.0000,9,  -999.0,9,  -999.0,9,-999.0000,9,  -999.00,-999.000,9,-999.0000,9,-999.000,9,   1.3118,2, -999.00,9,  -999.0,9,  -999.0,-999.000,9, -999.00,9,-999.000,9,   40.91,2,   34.80,2, -67.0000,-153.7062,-999.000,     -999.0,    34.8937,2,     -999.0,9,     -999.0,9,-999.0000,9,-999.0000,9,-999.0000,9,-999.0000,9,-999.0000,9,-999.0000,9,-999.0000,9,-999.0000,9,-999.0000,9,-999.0000,-999.000,   1.2811,     -999.0,     -999.0,9,     -999.0,9,     -999.0,9,     -999.0,9,     -999.0,20110310,       0243
320620110219,       S04P,      42,          1,         21,         21,2,20110310,       0121,   -67.0000,  -153.7062,       4149,   699.6,   1.2559,  34.7287,2,  34.7298,2,    188.0,2,   187.3,2,  107.92,2,   31.93,2,    0.00,2,    2.19,2,   0.160,2,   0.076,2,   0.013,2,   0.1020,2,  2260.3,2,  2356.9,2,   7.5800,2,    25.00,   0.004,2,    1.994,2,   9.778,2,   1.2557,2, -999.00,9,  -999.0,9,  -999.0,   8.752,2,   -0.08,2,-999.000,9,   41.03,2,   34.47,2, -67.0000,-153.7062,   0.005,      0.007,    34.8935,2,     -999.0,9,     -999.0,9,-999.0000,9,-999.0000,9,-999.0000,9,-999.0000,9,-999.0000,9,-999.0000,9,-999.0000,9,-999.0000,9,-999.0000,9,    0.001,   0.208,   1.2196,50004201021,     -999.0,9,     -999.0,9,     -999.0,9,      -2.68,2,       0.09,20110310,       0240
320620110219,       S04P,      42,          1,         20,         20,2,20110310,       0121,   -67.0000,  -153.7062,       4149,   799.3,   1.1746,  34.7270,2,  34.7264,2,    190.3,2,   189.8,2,  109.12,2,   31.86,2,    0.00,2,    2.19,2,   0.136,2,   0.069,2,   0.016,2,   0.0960,2,  -999.0,9,  -999.0,9,-999.0000,9,  -999.00,   0.001,2,    1.973,2,   9.651,2,   1.1752,2, -999.00,9,  -999.0,9,  -999.0,   8.654,2, -999.00,9,-999.000,9,   41.04,2,   34.57,2, -67.0000,-153.7062,   0.004,      0.012,    34.8902,2,     -999.0,9,     -999.0,9,-999.0000,9,-999.0000,9,-999.0000,9,-999.0000,9,-999.0000,9,-999.0000,9,-999.0000,9,-999.0000,9,-999.0000,9,    0.001,   0.220,   1.1329,50004201020,     -999.0,9,     -999.0,9,     -999.0,9,     -999.0,9,     -999.0,20110310,       0238
320620110219,       S04P,      42,          1,         19,         19,2,20110310,       0121,   -67.0000,  -153.7062,       4149,   900.5,   1.1121,  34.7249,2,  34.7247,2,    192.2,2,   191.6,2,  111.23,2,   31.80,2,    0.00,2,    2.19,2,   0.124,2,   0.065,2,   0.007,2,   0.0920,2,  -999.0,9,  -999.0,9,-999.0000,9,  -999.00,   0.001,2,    2.012,2,   9.846,2,   1.1120,2, -999.00,9,  -999.0,9,  -999.0,   8.844,2, -999.00,9,-999.000,9,   40.79,2,   34.36,2, -67.0000,-153.7063,   0.005,      0.013,    34.8884,2,     -999.0,9,     -999.0,9,-999.0000,9,-999.0000,9,-999.0000,9,-999.0000,9,-999.0000,9,-999.0000,9,-999.0000,9,-999.0000,9,-999.0000,9,    0.001,   0.236,   1.0648,50004201019,     -999.0,9,     -999.0,9,     -999.0,9,     -999.0,9,     -999.0,20110310,       0235
320620110219,       S04P,      42,          1,         18,         18,2,20110310,       0121,   -67.0000,  -153.7062,       4149,  1002.3,   1.0343,  34.7218,2,  34.7217,2,    194.4,2,   194.1,2,  112.98,2,   31.72,2,    0.00,2,    2.19,2,-999.000,9,-999.000,9,-999.000,9,-999.0000,9,  2260.4,6,  2359.1,2,   7.5882,6,    25.00,-999.000,9,-999.0000,9,-999.000,9,   1.0345,2, -999.00,9,  -999.0,9,  -999.0,-999.000,9, -999.00,9,-999.000,9,   40.52,2,   34.60,2, -67.0000,-153.7062,-999.000,     -999.0,    34.8855,2,     -999.0,9,     -999.0,9,-999.0000,9,-999.0000,9,-999.0000,9,-999.0000,9,-999.0000,9,-999.0000,9,-999.0000,9,-999.0000,9,-999.0000,9,-999.0000,-999.000,   0.9815,     -999.0,     -999.0,9,     -999.0,9,     -999.0,9,     -999.0,9,     -999.0,20110310,       0233
320620110219,       S04P,      42,          1,         17,         17,2,20110310,       0121,   -67.0000,  -153.7062,       4149,  1099.5,   0.9827,  34.7203,2,  34.7200,2,    196.8,2,   196.0,2,  114.84,2,   31.73,2,    0.00,2,    2.19,2,   0.105,2,   0.060,2,   0.011,2,   0.0550,2,  -999.0,9,  -999.0,9,-999.0000,9,  -999.00,   0.001,2,    2.001,2,   9.780,2,   0.9829,2, -999.00,9,  -999.0,9,  -999.0,   8.785,2, -999.00,9,-999.000,9,   40.11,2,   34.54,2, -67.0000,-153.7062,   0.005,      0.007,    34.8837,2,     -999.0,9,     -999.0,9,-999.0000,9,-999.0000,9,-999.0000,9,-999.0000,9,-999.0000,9,-999.0000,9,-999.0000,9,-999.0000,9,-999.0000,9,    0.000,   0.224,   0.9243,50004201017,     -999.0,9,     -999.0,9,     -999.0,9,     -999.0,9,     -999.0,20110310,       0230
320620110219,       S04P,      42,          1,         16,         16,2,20110310,       0121,   -67.0000,  -153.7062,       4149,  1199.6,   0.9312,  34.7178,2,  34.7174,2,    198.2,2,   197.2,2,  116.30,2,   31.73,2,    0.00,2,    2.19,2,-999.000,9,-999.000,9,-999.000,9,-999.0000,9,  -999.0,9,  -999.0,9,-999.0000,9,  -999.00,-999.000,9,-999.0000,9,-999.000,9,   0.9317,2, -999.00,9,  -999.0,9,  -999.0,-999.000,9, -999.00,9,-999.000,9,   39.95,2,   34.38,2, -67.0000,-153.7063,-999.000,     -999.0,    34.8811,2,     -999.0,9,     -999.0,9,-999.0000,9,-999.0000,9,-999.0000,9,-999.0000,9,-999.0000,9,-999.0000,9,-999.0000,9,-999.0000,9,-999.0000,9,-999.0000,-999.000,   0.8670,     -999.0,     -999.0,9,     -999.0,9,     -999.0,9,     -999.0,9,     -999.0,20110310,       0228
320620110219,       S04P,      42,          1,         15,         15,2,20110310,       0121,   -67.0000,  -153.7062,       4149,  1299.6,   0.8707,  34.7156,2,  34.7151,2,    199.7,2,   199.9,2,  118.14,2,   31.67,2,    0.00,2,    2.21,2,   0.102,2,   0.051,2,   0.007,2,   0.0950,2,  2259.7,2,  2360.2,6,   7.5906,2,    25.00,-999.000,9,    2.122,4,   9.801,2,   0.8704,2, -999.00,9,  -999.0,9,  -999.0,   9.174,2, -999.00,9,-999.000,9,   40.02,2,   34.25,2, -67.0000,-153.7063,-999.000,      0.007,    34.8788,2,     -999.0,9,     -999.0,9,-999.0000,9,-999.0000,9,-999.0000,9,-999.0000,9,-999.0000,9,-999.0000,9,-999.0000,9,-999.0000,9,-999.0000,9,    0.001,   0.202,   0.8006,50004201015,     -999.0,9,     -999.0,9,     -999.0,9,     -999.0,9,     -999.0,20110310,       0225
320620110219,       S04P,      42,          1,         14,         14,2,20110310,       0121,   -67.0000,  -153.7062,       4149,  1401.4,   0.8172,  34.7133,2,  34.7139,2,    200.7,2,   201.7,2,  119.62,2,   31.57,2,    0.00,2,    2.20,2,-999.000,9,-999.000,9,-999.000,9,-999.0000,9,  -999.0,9,  -999.0,9,-999.0000,9,  -999.00,-999.000,9,-999.0000,9,-999.000,9,   0.8181,2, -999.00,9,  -999.0,9,  -999.0,-999.000,9, -999.00,9,-999.000,9,   40.09,2,   34.26,2, -67.0000,-153.7062,-999.000,     -999.0,    34.8776,2,     -999.0,9,     -999.0,9,-999.0000,9,-999.0000,9,-999.0000,9,-999.0000,9,-999.0000,9,-999.0000,9,-999.0000,9,-999.0000,9,-999.0000,9,-999.0000,-999.000,   0.7411,     -999.0,     -999.0,9,     -999.0,9,     -999.0,9,     -999.0,9,     -999.0,20110310,       0222