BOTTLE,20220813CCHSIOAMB
EXPOCODE,SECT_ID,STNNBR,CASTNO,SAMPNO,BTLNBR,BTLNBR_FLAG_W,DATE,TIME,LATITUDE,LONGITUDE,DEPTH,CTDPRS,CTDTMP,CTDSAL,CTDSAL_FLAG_W,SALNTY,SALNTY_FLAG_W,CTDOXY,CTDOXY_FLAG_W,OXYGEN,OXYGEN_FLAG_W,SILCAT,SILCAT_FLAG_W,NITRAT,NITRAT_FLAG_W,NITRIT,NITRIT_FLAG_W,PHSPHT,PHSPHT_FLAG_W,CFC-11,CFC-11_FLAG_W,CFC-12,CFC-12_FLAG_W,CFC113,CFC113_FLAG_W,SF6,SF6_FLAG_W,TCARBN,TCARBN_FLAG_W,ALKALI,ALKALI_FLAG_W,PH_TOT,PH_TOT_FLAG_W,PH_TMP,TRITUM,TRITUM_FLAG_W,HELIUM,HELIUM_FLAG_W,DELHE3,DELHE3_FLAG_W,REFTMP,REFTMP_FLAG_W,DELC13,DELC13_FLAG_W,DELC14,DELC14_FLAG_W,C14ERR,NEON,NEON_FLAG_W,DELO18,DELO18_FLAG_W,POC,POC_FLAG_W,DOC,DOC_FLAG_W,TDN,TDN_FLAG_W,BTL_LAT,BTL_LON,TRITER,NEONER,SALTREF,SALTREF_FLAG_W,PIGMENTS,PIGMENTS_FLAG_W,LAB_DEN,LAB_DEN_FLAG_W,CDOM325,CDOM325_FLAG_W,CDOM340,CDOM340_FLAG_W,CDOM380,CDOM380_FLAG_W,CDOM412,CDOM412_FLAG_W,CDOM443,CDOM443_FLAG_W,CDOM490,CDOM490_FLAG_W,CDOM555,CDOM555_FLAG_W,CDOMSL,CDOMSL_FLAG_W,CDOMSN,CDOMSN_FLAG_W,HELIER,DELHER,THETA,LDEO_SAMPNO,ABSORBTION,ABSORBTION_FLAG_W,IMAGE_COUNT,IMAGE_COUNT_FLAG_W,CYTO_COUNT,CYTO_COUNT_FLAG_W,DELD,DELD_FLAG_W,DELDERR,BTL_DATE,BTL_TIME
,,,,,,,,,,,METERS,DBAR,ITS-90,PSS-78,,PSS-78,,UMOL/KG,,UMOL/KG,,UMOL/KG,,UMOL/KG,,UMOL/KG,,UMOL/KG,,PMOL/KG,,PMOL/KG,,PMOL/KG,,FMOL/KG,,UMOL/KG,,UMOL/KG,,,,DEG C,TU,,NMOL/KG,,PERCNT,,DEG C,,/MILLE,,/MILLE,,/MILLE,NMOL/KG,,/MILLE,,UG/KG,,UMOL/KG,,UMOL/KG,,,,TU,NMOL/KG,G/KG,,,,,,1/M,,1/M,,1/M,,1/M,,1/M,,1/M,,1/M,,1/NM,,1/NM,,NMOL/KG,PERCNT,DEG C,,,,,,,,/MILLE,,/MILLE,,
320620110219,       S04P,       6,          2,          9,          9,2,20110223,       1038,   -70.3588,   168.6265,       2002,  1299.6,   0.2796,  34.6791,2,  34.6776,2,    216.9,2,   217.0,2,  109.02,2,   32.13,2,    0.00,2,    2.18,2,-999.000,9,-999.000,9,-999.000,9,-999.0000,9,  2255.3,2,  2347.7,2,-999.0000,5,    25.00,-999.000,9,-999.0000,9,-999.000,9,   0.2792,2, -999.00,9,  -999.0,9,  -999.0,-999.000,9, -999.00,9,-999.000,9,   39.88,2,   34.35,2, -70.3588, 168.6265,-999.000,     -999.0,    34.8411,2,     -999.0,9,     -999.0,9,-999.0000,9,-999.0000,9,-999.0000,9,-999.0000,9,-999.0000,9,-999.0000,9,-999.0000,9,-999.0000,9,-999.0000,9,-999.0000,-999.000,   0.2158,     -999.0,     -999.0,9,     -999.0,9,     -999.0,9,     -999.0,9,     -999.0,20110223,       1101
320620110219,       S04P,       6,          2,          8,          8,2,20110223,       1038,   -70.3588,   168.6265,       2002,  1400.0,   0.2287,  34.6772,2,  34.6713,2,    218.5,2,   218.7,2,  108.01,2,   32.10,2,    0.00,2,    2.17,2,   1.427,2,   0.673,2,   0.110,2,   0.4700,2,  -999.0,9,  -999.0,9,-999.0000,9,  -999.00,-999.000,9,-999.0000,9,-999.000,9,   0.2290,2, -999.00,9,  -999.0,9,  -999.0,-999.000,9, -999.00,9,-999.000,9,   39.80,2,   34.37,2, -70.3588, 168.6265,-999.000,     -999.0,    34.8348,2,     -999.0,9,     -999.0,9,-999.0000,9,-999.0000,9,-999.0000,9,-999.0000,9,-999.0000,9,-999.0000,9,-999.0000,9,-999.0000,9,-999.0000,9,-999.0000,-999.000,   0.1593,     -999.0,     -999.0,9,     -999.0,9,     -999.0,9,     -999.0,9,     -999.0,20110223,       1058
320620110219,       S04P,       6,          2,          7,          7,2,20110223,       1038,   -70.3588,   168.6265,       2002,  1498.8,   0.1785,  34.6755,2,  34.6740,2,    219.8,2,   220.6,2,  107.67,2,   31.89,2,    0.00,2,    2.18,2,-999.000,9,-999.000,9,-999.000,9,-999.0000,9,  2255.8,2,  2351.3,2,-999.0000,5,    25.00,-999.000,9,-999.0000,9,-999.000,9,   0.1779,2, -999.00,9,  -999.0,9,  -999.0,-999.000,9, -999.00,9,-999.000,9,   39.54,2,   34.29,2, -70.3588, 168.6265,-999.000,     -999.0,    34.8375,2,     -999.0,9,     -999.0,9,-999.0000,9,-999.0000,9,-999.0000,9,-999.0000,9,-999.0000,9,-999.0000,9,-999.0000,9,-999.0000,9,-999.0000,9,-999.0000,-999.000,   0.1035,     -999.0,     -999.0,9,     -999.0,9,     -999.0,9,     -999.0,9,     -999.0,20110223,       1055
320620110219,       S04P,       6,          2,          6,          6,2,20110223,       1038,   -70.3588,   168.6265,       2002,  1600.0,   0.1690,  34.6776,2,  34.6729,2,    219.8,2,   220.4,2,  109.65,2,   32.01,2,    0.00,2,    2.18,2,   1.470,2,   0.680,2,   0.109,2,   0.4230,2,  -999.0,9,  -999.0,9,-999.0000,9,  -999.00,-999.000,9,-999.0000,9,-999.000,9,   0.1687,2, -999.00,9,  -999.0,9,  -999.0,-999.000,9, -999.00,9,-999.000,9,   39.96,2,   33.80,2, -70.3588, 168.6266,-999.000,     -999.0,    34.8364,2,     -999.0,9,     -999.0,9,-999.0000,9,-999.0000,9,-999.0000,9,-999.0000,9,-999.0000,9,-999.0000,9,-999.0000,9,-999.0000,9,-999.0000,9,-999.0000,-999.000,   0.0877,     -999.0,     -999.0,9,     -999.0,9,     -999.0,9,     -999.0,9,     -999.0,20110223,       1052
320620110219,       S04P,       6,          2,          5,          5,2,20110223,       1038,   -70.3588,   168.6265,       2002,  1700.2,   0.1134,  34.6744,2,  34.6750,2,    221.7,2,   222.5,2,  107.51,2,   31.80,2,    0.00,2,    2.17,2,-999.000,9,-999.000,9,-999.000,9,-999.0000,9,  -999.0,9,  -999.0,9,-999.0000,9,  -999.00,-999.000,9,-999.0000,9,-999.000,9,   0.1119,2, -999.00,9,  -999.0,9,  -999.0,-999.000,9, -999.00,9,-999.000,9,   40.24,2,   34.21,2, -70.3588, 168.6265,-999.000,     -999.0,    34.8385,2,     -999.0,9,     -999.0,9,-999.0000,9,-999.0000,9,-999.0000,9,-999.0000,9,-999.0000,9,-999.0000,9,-999.0000,9,-999.0000,9,-999.0000,9,-999.0000,-999.000,   0.0263,     -999.0,     -999.0,9,     -999.0,9,     -999.0,9,     -999.0,9,     -999.0,20110223,       1049
320620110219,       S04P,       6,          2,          4,          4,2,20110223,       1038,   -70.3588,   168.6265,       2002,  1799.9,  -0.0052,  34.6645,2,  34.6642,2,    227.1,2,   227.7,2,  101.86,2,   31.60,2,    0.00,2,    2.16,2,   1.836,2,   0.985,2,   0.158,2,   0.6640,2,  2256.1,2,  2348.2,2,-999.0000,5,    25.00,-999.000,9,-999.0000,9,-999.000,9,  -0.0057,2, -999.00,9,  -999.0,9,  -999.0,-999.000,9, -999.00,9,-999.000,9,   40.23,2,   33.50,2, -70.3588, 168.6265,-999.000,     -999.0,    34.8277,2,     -999.0,9,     -999.0,9,-999.0000,9,-999.0000,9,-999.0000,9,-999.0000,9,-999.0000,9,-999.0000,9,-999.0000,9,-999.0000,9,-999.0000,9,-999.0000,-999.000,  -0.0972,     -999.0,     -999.0,9,     -999.0,9,     -999.0,9,     -999.0,9,     -999.0,20110223,       1046
320620110219,       S04P,       6,          2,          3,          3,2,20110223,       1038,   -70.3588,   168.6265,       2002,  1899.4,  -0.0648,  34.6627,2,  34.6627,2,    230.2,2,   230.6,2,  100.34,2,   31.38,3,    0.00,2,    2.19,2,   2.126,2,   1.048,2,   0.169,2,   0.7290,2,  2255.0,2,  2347.9,6,-999.0000,5,    25.00,-999.000,9,-999.0000,9,-999.000,9,  -0.0653,2, -999.00,9,  -999.0,9,  -999.0,-999.000,9, -999.00,9,-999.000,9,   40.57,2,   33.17,2, -70.3588, 168.6265,-999.000,     -999.0,    34.8261,2,     -999.0,9,     -999.0,9,-999.0000,9,-999.0000,9,-999.0000,9,-999.0000,9,-999.0000,9,-999.0000,9,-999.0000,9,-999.0000,9,-999.0000,9,-999.0000,-999.000,  -0.1626,     -999.0,     -999.0,9,     -999.0,9,     -999.0,9,     -999.0,9,     -999.0,20110223,       1043
320620110219,       S04P,       6,          2,          2,          2,2,20110223,       1038,   -70.3588,   168.6265,       2002,  1968.8,  -0.0980,  34.6623,2,  34.6642,2,    231.4,2,   231.7,2,   99.69,2,   31.63,2,    0.00,2,    2.17,2,   2.234,2,   1.087,2,   0.180,2,   0.7270,2,  2261.1,3,  2340.1,4,-999.0000,5,    25.00,-999.000,9,-999.0000,9,-999.000,9,  -0.0989,2, -999.00,9,  -999.0,9,  -999.0,-999.000,9, -999.00,9,-999.000,9,   40.52,2,   33.71,2, -70.3588, 168.6265,-999.000,     -999.0,    34.8277,2,     -999.0,9,     -999.0,9,-999.0000,9,-999.0000,9,-999.0000,9,-999.0000,9,-999.0000,9,-999.0000,9,-999.0000,9,-999.0000,9,-999.0000,9,-999.0000,-999.000,  -0.2000,     -999.0,     -999.0,9,     -999.0,9,     -999.0,9,     -999.0,9,     -999.0,20110223,       1041
320620110219,       S04P,       6,          2,          1,          1,2,20110223,       1038,   -70.3588,   168.6265,       2002,  2019.7,  -0.1218,  34.6611,2,  34.6613,2,    233.2,2,   233.3,2,   99.15,2,   31.61,2,    0.00,2,    2.16,2,   2.234,2,   1.123,2,   0.181,2,   0.7440,2,  2252.6,6,  2351.4,2,-999.0000,5,    25.00,-999.000,9,-999.0000,9,-999.000,9,  -0.1222,2, -999.00,9,  -999.0,9,  -999.0,-999.000,9, -999.00,9,-999.000,9,   40.77,2,   33.90,2, -70.3588, 168.6265,-999.000,     -999.0,    34.8247,2,     -999.0,9,     -999.0,9,-999.0000,9,-999.0000,9,-999.0000,9,-999.0000,9,-999.0000,9,-999.0000,9,-999.0000,9,-999.0000,9,-999.0000,9,-999.0000,-999.000,  -0.2269,     -999.0,     -999.0,9,     -999.0,9,     -999.0,9,     -999.0,9,     -999.0,20110223,       1038