BOTTLE,20220813CCHSIOAMB
EXPOCODE,SECT_ID,STNNBR,CASTNO,SAMPNO,BTLNBR,BTLNBR_FLAG_W,DATE,TIME,LATITUDE,LONGITUDE,DEPTH,CTDPRS,CTDTMP,CTDSAL,CTDSAL_FLAG_W,SALNTY,SALNTY_FLAG_W,CTDOXY,CTDOXY_FLAG_W,OXYGEN,OXYGEN_FLAG_W,SILCAT,SILCAT_FLAG_W,NITRAT,NITRAT_FLAG_W,NITRIT,NITRIT_FLAG_W,PHSPHT,PHSPHT_FLAG_W,CFC-11,CFC-11_FLAG_W,CFC-12,CFC-12_FLAG_W,CFC113,CFC113_FLAG_W,SF6,SF6_FLAG_W,TCARBN,TCARBN_FLAG_W,ALKALI,ALKALI_FLAG_W,PH_TOT,PH_TOT_FLAG_W,PH_TMP,TRITUM,TRITUM_FLAG_W,HELIUM,HELIUM_FLAG_W,DELHE3,DELHE3_FLAG_W,REFTMP,REFTMP_FLAG_W,DELC13,DELC13_FLAG_W,DELC14,DELC14_FLAG_W,C14ERR,NEON,NEON_FLAG_W,DELO18,DELO18_FLAG_W,POC,POC_FLAG_W,DOC,DOC_FLAG_W,TDN,TDN_FLAG_W,BTL_LAT,BTL_LON,TRITER,NEONER,SALTREF,SALTREF_FLAG_W,PIGMENTS,PIGMENTS_FLAG_W,LAB_DEN,LAB_DEN_FLAG_W,CDOM325,CDOM325_FLAG_W,CDOM340,CDOM340_FLAG_W,CDOM380,CDOM380_FLAG_W,CDOM412,CDOM412_FLAG_W,CDOM443,CDOM443_FLAG_W,CDOM490,CDOM490_FLAG_W,CDOM555,CDOM555_FLAG_W,CDOMSL,CDOMSL_FLAG_W,CDOMSN,CDOMSN_FLAG_W,HELIER,DELHER,THETA,LDEO_SAMPNO,ABSORBTION,ABSORBTION_FLAG_W,IMAGE_COUNT,IMAGE_COUNT_FLAG_W,CYTO_COUNT,CYTO_COUNT_FLAG_W,DELD,DELD_FLAG_W,DELDERR,BTL_DATE,BTL_TIME
,,,,,,,,,,,METERS,DBAR,ITS-90,PSS-78,,PSS-78,,UMOL/KG,,UMOL/KG,,UMOL/KG,,UMOL/KG,,UMOL/KG,,UMOL/KG,,PMOL/KG,,PMOL/KG,,PMOL/KG,,FMOL/KG,,UMOL/KG,,UMOL/KG,,,,DEG C,TU,,NMOL/KG,,PERCNT,,DEG C,,/MILLE,,/MILLE,,/MILLE,NMOL/KG,,/MILLE,,UG/KG,,UMOL/KG,,UMOL/KG,,,,TU,NMOL/KG,G/KG,,,,,,1/M,,1/M,,1/M,,1/M,,1/M,,1/M,,1/M,,1/NM,,1/NM,,NMOL/KG,PERCNT,DEG C,,,,,,,,/MILLE,,/MILLE,,
320620110219,       P15S,      83,          2,         13,         13,2,20110324,       0454,   -74.0717,  -174.1009,       2749,  1300.8,   0.8987,  34.7166,2,  34.7166,2,    198.9,2,   198.8,2,  116.06,2,   31.99,2,    0.00,2,    2.24,2,-999.000,9,-999.000,9,-999.000,9,-999.0000,9,  2260.8,2,  2359.7,2,   7.5946,2,    25.00,-999.000,9,-999.0000,9,-999.000,9,   0.8986,2, -999.00,9,  -999.0,9,  -999.0,-999.000,9,   -0.07,2,-999.000,9,   40.20,2,   34.70,2, -74.0717,-174.1009,-999.000,     -999.0,    34.8803,2,     -999.0,9,     -999.0,9,-999.0000,9,-999.0000,9,-999.0000,9,-999.0000,9,-999.0000,9,-999.0000,9,-999.0000,9,-999.0000,9,-999.0000,9,-999.0000,-999.000,   0.8283,     -999.0,     -999.0,9,     -999.0,9,     -999.0,9,      -1.92,2,       0.23,20110324,       0531
320620110219,       P15S,      83,          2,         12,         12,2,20110324,       0454,   -74.0717,  -174.1009,       2749,  1399.9,   0.8669,  34.7152,2,  34.7154,2,    199.9,2,   199.7,2,  117.63,2,   32.10,2,    0.00,2,    2.26,2,   0.084,2,   0.036,2,   0.006,2,   0.1070,2,  -999.0,9,  -999.0,9,-999.0000,9,  -999.00,-999.000,9,-999.0000,9,-999.000,9,   0.8671,2, -999.00,9,  -999.0,9,  -999.0,-999.000,9, -999.00,9,-999.000,9,   40.20,2,   34.75,2, -74.0717,-174.1008,-999.000,     -999.0,    34.8791,2,     -999.0,9,     -999.0,9,-999.0000,9,-999.0000,9,-999.0000,9,-999.0000,9,-999.0000,9,-999.0000,9,-999.0000,9,-999.0000,9,-999.0000,9,-999.0000,-999.000,   0.7903,     -999.0,     -999.0,9,     -999.0,9,     -999.0,9,     -999.0,9,     -999.0,20110324,       0529
320620110219,       P15S,      83,          2,         11,         11,2,20110324,       0454,   -74.0717,  -174.1009,       2749,  1499.7,   0.8135,  34.7137,2,  34.7132,2,    201.1,2,   201.0,2,  119.31,2,   32.17,2,    0.00,2,    2.27,2,-999.000,9,-999.000,9,-999.000,9,-999.0000,9,  2259.9,2,  2361.6,2,   7.5945,2,    25.00,-999.000,9,-999.0000,9,-999.000,9,   0.8135,2, -999.00,9,  -999.0,9,  -999.0,-999.000,9,   -0.03,2,-999.000,9,   40.16,2,   34.71,2, -74.0717,-174.1009,-999.000,     -999.0,    34.8769,2,     -999.0,9,     -999.0,9,-999.0000,9,-999.0000,9,-999.0000,9,-999.0000,9,-999.0000,9,-999.0000,9,-999.0000,9,-999.0000,9,-999.0000,9,-999.0000,-999.000,   0.7308,     -999.0,     -999.0,9,     -999.0,9,     -999.0,9,      -1.80,2,       0.08,20110324,       0526
320620110219,       P15S,      83,          2,         10,         37,2,20110324,       0454,   -74.0717,  -174.1009,       2749,  1600.1,   0.7775,  34.7120,2,  34.7121,2,    201.7,2,   202.1,2,  120.32,2,   32.10,2,    0.00,2,    2.27,2,-999.000,9,-999.000,9,-999.000,9,-999.0000,9,  -999.0,9,  -999.0,9,-999.0000,9,  -999.00,-999.000,9,-999.0000,9,-999.000,9,   0.7774,2, -999.00,9,  -999.0,9,  -999.0,-999.000,9, -999.00,9,-999.000,9,   40.09,2,   34.75,2, -74.0717,-174.1009,-999.000,     -999.0,    34.8758,2,     -999.0,9,     -999.0,9,-999.0000,9,-999.0000,9,-999.0000,9,-999.0000,9,-999.0000,9,-999.0000,9,-999.0000,9,-999.0000,9,-999.0000,9,-999.0000,-999.000,   0.6884,     -999.0,     -999.0,9,     -999.0,9,     -999.0,9,     -999.0,9,     -999.0,20110324,       0523
320620110219,       P15S,      83,          2,          9,          9,2,20110324,       0454,   -74.0717,  -174.1009,       2749,  1699.1,   0.7459,  34.7109,2,  34.7107,2,    202.6,2,   202.3,2,  121.68,2,   32.13,2,    0.00,2,    2.27,2,-999.000,9,-999.000,9,-999.000,9,-999.0000,9,  -999.0,9,  -999.0,9,-999.0000,9,  -999.00,-999.000,9,-999.0000,9,-999.000,9,   0.7459,2, -999.00,9,  -999.0,9,  -999.0,-999.000,9, -999.00,9,-999.000,9,   39.99,2,   34.92,2, -74.0717,-174.1009,-999.000,     -999.0,    34.8744,2,     -999.0,9,     -999.0,9,-999.0000,9,-999.0000,9,-999.0000,9,-999.0000,9,-999.0000,9,-999.0000,9,-999.0000,9,-999.0000,9,-999.0000,9,-999.0000,-999.000,   0.6503,     -999.0,     -999.0,9,     -999.0,9,     -999.0,9,     -999.0,9,     -999.0,20110324,       0520
320620110219,       P15S,      83,          2,          8,          8,2,20110324,       0454,   -74.0717,  -174.1009,       2749,  1801.3,   0.7114,  34.7099,2,  34.7103,2,    203.4,2,   204.2,2,  122.74,2,   32.07,2,    0.00,2,    2.25,2,   0.100,2,   0.049,2,   0.009,2,   0.0780,2,  2260.8,2,  2360.8,2,   7.5970,2,    25.00,-999.000,9,-999.0000,9,-999.000,9,   0.7115,2, -999.00,9,  -999.0,9,  -999.0,-999.000,9, -999.00,9,-999.000,9,   40.05,2,   34.65,2, -74.0717,-174.1009,-999.000,     -999.0,    34.8740,2,     -999.0,9,     -999.0,9,-999.0000,9,-999.0000,9,-999.0000,9,-999.0000,9,-999.0000,9,-999.0000,9,-999.0000,9,-999.0000,9,-999.0000,9,-999.0000,-999.000,   0.6090,     -999.0,     -999.0,9,     -999.0,9,     -999.0,9,     -999.0,9,     -999.0,20110324,       0518
320620110219,       P15S,      83,          2,          7,          7,2,20110324,       0454,   -74.0717,  -174.1009,       2749,  1900.2,   0.6880,  34.7094,2,  34.7097,2,    204.0,2,   204.1,2,  123.37,2,   32.13,2,    0.00,2,    2.26,2,-999.000,9,-999.000,9,-999.000,9,-999.0000,9,  -999.0,9,  -999.0,9,-999.0000,9,  -999.00,-999.000,9,-999.0000,9,-999.000,9,   0.6877,2, -999.00,9,  -999.0,9,  -999.0,-999.000,9,   -0.03,2,-999.000,9,   40.16,2,   34.67,2, -74.0717,-174.1008,-999.000,     -999.0,    34.8734,2,     -999.0,9,     -999.0,9,-999.0000,9,-999.0000,9,-999.0000,9,-999.0000,9,-999.0000,9,-999.0000,9,-999.0000,9,-999.0000,9,-999.0000,9,-999.0000,-999.000,   0.5788,     -999.0,     -999.0,9,     -999.0,9,     -999.0,9,      -1.78,2,       0.04,20110324,       0515
320620110219,       P15S,      83,          2,          6,          6,2,20110324,       0454,   -74.0717,  -174.1009,       2749,  2000.5,   0.6498,  34.7082,2,  34.7082,2,    204.6,2,   205.0,2,  124.14,2,   32.27,2,    0.00,2,    2.26,2,   0.100,2,   0.050,2,   0.009,2,   0.0810,2,  2261.2,2,  2360.1,2,   7.5957,2,    25.00,-999.000,9,-999.0000,9,-999.000,9,   0.6498,2, -999.00,9,  -999.0,9,  -999.0,-999.000,9, -999.00,9,-999.000,9,   39.86,2,   34.83,2, -74.0717,-174.1009,-999.000,     -999.0,    34.8718,2,     -999.0,9,     -999.0,9,-999.0000,9,-999.0000,9,-999.0000,9,-999.0000,9,-999.0000,9,-999.0000,9,-999.0000,9,-999.0000,9,-999.0000,9,-999.0000,-999.000,   0.5338,     -999.0,     -999.0,9,     -999.0,9,     -999.0,9,     -999.0,9,     -999.0,20110324,       0512
320620110219,       P15S,      83,          2,          5,          5,2,20110324,       0454,   -74.0717,  -174.1009,       2749,  2199.6,   0.5986,  34.7073,2,  34.7072,2,    205.6,2,   206.0,2,  126.28,2,   32.43,2,    0.00,2,    2.26,2,-999.000,9,-999.000,9,-999.000,9,-999.0000,9,  -999.0,9,  -999.0,9,-999.0000,9,  -999.00,-999.000,9,-999.0000,9,-999.000,9,   0.5984,2, -999.00,9,  -999.0,9,  -999.0,-999.000,9, -999.00,9,-999.000,9,   39.82,2,   34.82,2, -74.0717,-174.1009,-999.000,     -999.0,    34.8708,2,     -999.0,9,     -999.0,9,-999.0000,9,-999.0000,9,-999.0000,9,-999.0000,9,-999.0000,9,-999.0000,9,-999.0000,9,-999.0000,9,-999.0000,9,-999.0000,-999.000,   0.4683,     -999.0,     -999.0,9,     -999.0,9,     -999.0,9,     -999.0,9,     -999.0,20110324,       0508
320620110219,       P15S,      83,          2,          4,          4,2,20110324,       0454,   -74.0717,  -174.1009,       2749,  2399.5,   0.5531,  34.7062,2,  34.7062,2,    206.9,2,   207.3,2,  127.81,2,   32.58,2,    0.00,2,    2.26,2,   0.136,2,   0.066,2,   0.009,2,   0.1340,2,  2262.1,2,  2360.7,2,   7.5966,2,    25.00,-999.000,9,-999.0000,9,-999.000,9,   0.5527,2, -999.00,9,  -999.0,9,  -999.0,-999.000,9, -999.00,9,-999.000,9,   39.53,2,   34.84,2, -74.0717,-174.1009,-999.000,     -999.0,    34.8699,2,     -999.0,9,     -999.0,9,-999.0000,9,-999.0000,9,-999.0000,9,-999.0000,9,-999.0000,9,-999.0000,9,-999.0000,9,-999.0000,9,-999.0000,9,-999.0000,-999.000,   0.4079,     -999.0,     -999.0,9,     -999.0,9,     -999.0,9,     -999.0,9,     -999.0,20110324,       0504
320620110219,       P15S,      83,          2,          3,          3,2,20110324,       0454,   -74.0717,  -174.1009,       2749,  2601.2,   0.5214,  34.7054,2,  34.7054,2,    207.7,2,   207.9,2,  129.53,2,   32.70,2,    0.00,2,    2.27,2,   0.100,2,   0.049,2,   0.009,2,   0.0450,2,  2262.4,6,  2361.7,2,   7.5958,2,    25.00,-999.000,9,-999.0000,9,-999.000,9,   0.5215,2, -999.00,9,  -999.0,9,  -999.0,-999.000,9,   -0.24,2,-999.000,9,   40.10,2,   35.00,2, -74.0717,-174.1009,-999.000,     -999.0,    34.8691,2,     -999.0,9,     -999.0,9,-999.0000,9,-999.0000,9,-999.0000,9,-999.0000,9,-999.0000,9,-999.0000,9,-999.0000,9,-999.0000,9,-999.0000,9,-999.0000,-999.000,   0.3604,     -999.0,     -999.0,9,     -999.0,9,     -999.0,9,      -2.63,2,       0.32,20110324,       0459
320620110219,       P15S,      83,          2,          2,          2,2,20110324,       0454,   -74.0717,  -174.1009,       2749,  2700.6,   0.4962,  34.7050,2,  34.7052,2,    208.8,2,   208.2,2,  130.85,2,   32.65,2,    0.00,2,    2.28,2,   0.108,2,   0.055,2,   0.009,2,-999.0000,9,  2262.3,2,  2361.0,6,   7.5972,2,    25.00,-999.000,9,-999.0000,9,-999.000,9,   0.4957,2, -999.00,9,  -999.0,9,  -999.0,-999.000,9, -999.00,9,-999.000,9,   40.66,2,   35.06,2, -74.0717,-174.1009,-999.000,     -999.0,    34.8689,2,     -999.0,9,     -999.0,9,-999.0000,9,-999.0000,9,-999.0000,9,-999.0000,9,-999.0000,9,-999.0000,9,-999.0000,9,-999.0000,9,-999.0000,9,-999.0000,-999.000,   0.3274,     -999.0,     -999.0,9,     -999.0,9,     -999.0,9,     -999.0,9,     -999.0,20110324,       0456
320620110219,       P15S,      83,          2,          1,          1,2,20110324,       0454,   -74.0717,  -174.1009,       2749,  2784.7,   0.4490,  34.7043,2,  34.7037,2,    208.8,2,   209.3,2,  134.71,2,   32.77,2,    0.00,2,    2.29,2,   0.128,2,   0.057,2,   0.009,2,   0.0860,2,  2263.6,2,  2361.2,2,   7.5945,6,    25.00,-999.000,9,-999.0000,9,-999.000,9,   0.4502,2, -999.00,9,  -999.0,9,  -999.0,-999.000,9,   -0.24,2,-999.000,9,   40.03,2,   35.13,2, -74.0717,-174.1009,-999.000,     -999.0,    34.8673,2,     -999.0,9,     -999.0,9,-999.0000,9,-999.0000,9,-999.0000,9,-999.0000,9,-999.0000,9,-999.0000,9,-999.0000,9,-999.0000,9,-999.0000,9,-999.0000,-999.000,   0.2740,     -999.0,     -999.0,9,     -999.0,9,     -999.0,9,      -2.92,2,       0.39,20110324,       0454