BOTTLE,20220813CCHSIOAMB
EXPOCODE,SECT_ID,STNNBR,CASTNO,SAMPNO,BTLNBR,BTLNBR_FLAG_W,DATE,TIME,LATITUDE,LONGITUDE,DEPTH,CTDPRS,CTDTMP,CTDSAL,CTDSAL_FLAG_W,SALNTY,SALNTY_FLAG_W,CTDOXY,CTDOXY_FLAG_W,OXYGEN,OXYGEN_FLAG_W,SILCAT,SILCAT_FLAG_W,NITRAT,NITRAT_FLAG_W,NITRIT,NITRIT_FLAG_W,PHSPHT,PHSPHT_FLAG_W,CFC-11,CFC-11_FLAG_W,CFC-12,CFC-12_FLAG_W,CFC113,CFC113_FLAG_W,SF6,SF6_FLAG_W,TCARBN,TCARBN_FLAG_W,ALKALI,ALKALI_FLAG_W,PH_TOT,PH_TOT_FLAG_W,PH_TMP,TRITUM,TRITUM_FLAG_W,HELIUM,HELIUM_FLAG_W,DELHE3,DELHE3_FLAG_W,REFTMP,REFTMP_FLAG_W,DELC13,DELC13_FLAG_W,DELC14,DELC14_FLAG_W,C14ERR,NEON,NEON_FLAG_W,DELO18,DELO18_FLAG_W,POC,POC_FLAG_W,DOC,DOC_FLAG_W,TDN,TDN_FLAG_W,BTL_LAT,BTL_LON,TRITER,NEONER,SALTREF,SALTREF_FLAG_W,PIGMENTS,PIGMENTS_FLAG_W,LAB_DEN,LAB_DEN_FLAG_W,CDOM325,CDOM325_FLAG_W,CDOM340,CDOM340_FLAG_W,CDOM380,CDOM380_FLAG_W,CDOM412,CDOM412_FLAG_W,CDOM443,CDOM443_FLAG_W,CDOM490,CDOM490_FLAG_W,CDOM555,CDOM555_FLAG_W,CDOMSL,CDOMSL_FLAG_W,CDOMSN,CDOMSN_FLAG_W,HELIER,DELHER,THETA,LDEO_SAMPNO,ABSORBTION,ABSORBTION_FLAG_W,IMAGE_COUNT,IMAGE_COUNT_FLAG_W,CYTO_COUNT,CYTO_COUNT_FLAG_W,DELD,DELD_FLAG_W,DELDERR,BTL_DATE,BTL_TIME
,,,,,,,,,,,METERS,DBAR,ITS-90,PSS-78,,PSS-78,,UMOL/KG,,UMOL/KG,,UMOL/KG,,UMOL/KG,,UMOL/KG,,UMOL/KG,,PMOL/KG,,PMOL/KG,,PMOL/KG,,FMOL/KG,,UMOL/KG,,UMOL/KG,,,,DEG C,TU,,NMOL/KG,,PERCNT,,DEG C,,/MILLE,,/MILLE,,/MILLE,NMOL/KG,,/MILLE,,UG/KG,,UMOL/KG,,UMOL/KG,,,,TU,NMOL/KG,G/KG,,,,,,1/M,,1/M,,1/M,,1/M,,1/M,,1/M,,1/M,,1/NM,,1/NM,,NMOL/KG,PERCNT,DEG C,,,,,,,,/MILLE,,/MILLE,,
320620110219,       S04P,      11,          1,         36,         36,2,20110226,       2037,   -69.2380,   170.6570,       2844,     4.5,  -1.5655,  33.9139,2,  33.9141,2,    341.9,3,   343.0,2,   68.29,2,   28.91,2,    0.11,2,    1.91,2,   5.729,2,   3.154,2,   0.587,2,   2.6720,2,  2181.8,2,  2293.5,6,   7.6443,2,    25.00,-999.000,9,-999.0000,9,-999.000,9,  -1.5652,2, -999.00,9,  -999.0,9,  -999.0,-999.000,9,   -0.42,2,-999.000,9,   42.41,2,   31.91,2, -69.2380, 170.6570,-999.000,     -999.0,    34.0740,2,     -999.0,1,     -999.0,1,-999.0000,9,-999.0000,9,-999.0000,9,-999.0000,9,-999.0000,9,-999.0000,9,-999.0000,9,-999.0000,9,-999.0000,9,-999.0000,-999.000,  -1.5656,     -999.0,     -999.0,1,     -999.0,1,     -999.0,1,      -3.94,2,       0.37,20110226,       2222
320620110219,       S04P,      11,          1,         35,         35,2,20110226,       2037,   -69.2380,   170.6570,       2844,    19.1,  -1.5653,  33.9138,2,  33.9139,2,    343.1,2,   343.6,2,   69.21,2,   28.99,2,    0.11,2,    1.88,2,-999.000,9,-999.000,9,-999.000,9,-999.0000,9,  2182.0,6,  2294.1,2,   7.6428,2,    25.00,-999.000,9,-999.0000,9,-999.000,9,  -1.5652,2, -999.00,9,  -999.0,9,  -999.0,-999.000,9,   -0.29,2,-999.000,9,   42.47,2,   31.87,2, -69.2380, 170.6570,-999.000,     -999.0,    34.0738,2,     -999.0,1,     -999.0,1,-999.0000,9,-999.0000,9,-999.0000,9,-999.0000,9,-999.0000,9,-999.0000,9,-999.0000,9,-999.0000,9,-999.0000,9,-999.0000,-999.000,  -1.5657,     -999.0,     -999.0,1,     -999.0,1,     -999.0,1,      -3.32,2,       0.07,20110226,       2221
320620110219,       S04P,      11,          1,         34,         34,2,20110226,       2037,   -69.2380,   170.6570,       2844,    39.5,  -1.5683,  33.9140,2,  33.9151,2,    343.0,2,   342.8,2,   68.56,2,   28.76,2,    0.11,2,    1.89,2,   5.702,2,   3.127,2,   0.594,2,   2.7280,2,  2183.5,2,  2293.1,2,   7.6418,6,    25.00,-999.000,9,-999.0000,9,-999.000,9,  -1.5683,2, -999.00,9,  -999.0,9,  -999.0,-999.000,9,   -0.26,2,-999.000,9,   43.05,2,   31.83,2, -69.2380, 170.6570,-999.000,     -999.0,    34.0750,2,     -999.0,1,     -999.0,1,-999.0000,9,-999.0000,9,-999.0000,9,-999.0000,9,-999.0000,9,-999.0000,9,-999.0000,9,-999.0000,9,-999.0000,9,-999.0000,-999.000,  -1.5691,     -999.0,     -999.0,1,     -999.0,1,     -999.0,1,      -3.03,2,       0.19,20110226,       2220
320620110219,       S04P,      11,          1,         33,         33,2,20110226,       2037,   -69.2380,   170.6570,       2844,    65.4,  -1.5871,  33.9315,2,  33.9438,2,    341.5,2,   341.4,2,   68.61,2,   28.72,2,    0.11,2,    1.88,2,-999.000,9,-999.000,9,-999.000,9,-999.0000,9,  -999.0,9,  -999.0,9,-999.0000,9,  -999.00,-999.000,9,-999.0000,9,-999.000,9,  -1.5869,2, -999.00,9,  -999.0,9,  -999.0,-999.000,9,   -0.32,2,-999.000,9,   42.87,2,   31.85,2, -69.2380, 170.6570,-999.000,     -999.0,    34.1039,2,     -999.0,1,     -999.0,9,-999.0000,9,-999.0000,9,-999.0000,9,-999.0000,9,-999.0000,9,-999.0000,9,-999.0000,9,-999.0000,9,-999.0000,9,-999.0000,-999.000,  -1.5885,     -999.0,     -999.0,1,     -999.0,1,     -999.0,1,      -3.27,2,       0.16,20110226,       2218
320620110219,       S04P,      11,          1,         32,         32,2,20110226,       2037,   -69.2380,   170.6570,       2844,    91.1,  -1.6593,  33.9826,2,  33.9819,2,    338.4,2,   338.0,2,   68.71,2,   28.89,2,    0.11,2,    1.91,2,   5.502,2,   3.005,2,   0.571,2,   2.6570,2,  2189.0,2,  2298.5,2,   7.6353,2,    25.00,-999.000,9,-999.0000,9,-999.000,9,  -1.6602,2, -999.00,9,  -999.0,9,  -999.0,-999.000,9,   -0.27,2,-999.000,9,   42.01,2,   31.86,2, -69.2380, 170.6570,-999.000,     -999.0,    34.1422,2,     -999.0,1,     -999.0,1,-999.0000,9,-999.0000,9,-999.0000,9,-999.0000,9,-999.0000,9,-999.0000,9,-999.0000,9,-999.0000,9,-999.0000,9,-999.0000,-999.000,  -1.6612,     -999.0,     -999.0,1,     -999.0,1,     -999.0,1,      -3.08,2,       0.07,20110226,       2216
320620110219,       S04P,      11,          1,         31,         31,2,20110226,       2037,   -69.2380,   170.6570,       2844,   117.5,  -1.8291,  34.3158,2,  34.3110,2,    295.9,2,   296.9,2,   69.97,2,   30.62,2,    0.06,2,    2.03,2,   4.629,2,   2.519,2,   0.469,2,   2.1280,2,  2217.0,2,  2318.9,2,   7.6073,2,    25.00,-999.000,9,-999.0000,9,-999.000,9,  -1.8285,2, -999.00,9,  -999.0,9,  -999.0,-999.000,9,   -0.31,2,-999.000,9,   41.71,2,   33.12,2, -69.2380, 170.6570,-999.000,     -999.0,    34.4728,2,     -999.0,1,     -999.0,1,-999.0000,9,-999.0000,9,-999.0000,9,-999.0000,9,-999.0000,9,-999.0000,9,-999.0000,9,-999.0000,9,-999.0000,9,-999.0000,-999.000,  -1.8314,     -999.0,     -999.0,1,     -999.0,1,     -999.0,1,      -3.15,2,       0.06,20110226,       2215
320620110219,       S04P,      11,          1,         30,         30,2,20110226,       2037,   -69.2380,   170.6570,       2844,   140.3,  -1.8247,  34.3291,2,  34.3290,2,    294.4,2,   290.7,2,   69.74,2,   30.65,2,    0.01,2,    2.04,2,   4.640,2,   2.537,2,   0.486,2,   2.0670,2,  2220.5,2,  2320.2,2,   7.6037,2,    25.00,-999.000,9,-999.0000,9,-999.000,9,  -1.8247,2, -999.00,9,  -999.0,9,  -999.0,-999.000,9,   -0.31,2,-999.000,9,   41.42,2,   33.05,2, -69.2380, 170.6570,-999.000,     -999.0,    34.4909,2,     -999.0,9,     -999.0,1,-999.0000,9,-999.0000,9,-999.0000,9,-999.0000,9,-999.0000,9,-999.0000,9,-999.0000,9,-999.0000,9,-999.0000,9,-999.0000,-999.000,  -1.8275,     -999.0,     -999.0,9,     -999.0,1,     -999.0,1,      -3.32,2,       0.11,20110226,       2213
320620110219,       S04P,      11,          1,         29,         29,2,20110226,       2037,   -69.2380,   170.6570,       2844,   164.7,  -1.7894,  34.3414,2,  34.3417,2,    290.8,2,   291.8,2,   70.04,2,   30.80,2,    0.01,2,    2.04,2,   4.597,2,   2.512,2,   0.478,2,   2.1440,2,  -999.0,9,  -999.0,9,-999.0000,9,  -999.00,-999.000,9,-999.0000,9,-999.000,9,  -1.7891,2, -999.00,9,  -999.0,9,  -999.0,-999.000,9,   -0.25,2,-999.000,9,   41.95,2,   33.38,2, -69.2380, 170.6570,-999.000,     -999.0,    34.5037,2,     -999.0,9,     -999.0,9,-999.0000,9,-999.0000,9,-999.0000,9,-999.0000,9,-999.0000,9,-999.0000,9,-999.0000,9,-999.0000,9,-999.0000,9,-999.0000,-999.000,  -1.7928,     -999.0,     -999.0,9,     -999.0,9,     -999.0,9,      -3.22,2,       0.14,20110226,       2211
320620110219,       S04P,      11,          1,         28,         28,2,20110226,       2037,   -69.2380,   170.6570,       2844,   191.0,  -1.7449,  34.3498,2,  34.3507,2,    288.4,2,   290.0,2,   70.69,2,   30.95,2,    0.00,2,    2.05,2,   4.691,2,   2.520,2,   0.478,2,   1.9400,2,  2225.5,2,  2323.3,2,   7.5977,2,    25.00,-999.000,9,-999.0000,9,-999.000,9,  -1.7441,2, -999.00,9,  -999.0,9,  -999.0,-999.000,9, -999.00,9,-999.000,9,   41.92,2,   33.98,2, -69.2380, 170.6570,-999.000,     -999.0,    34.5127,2,     -999.0,9,     -999.0,1,-999.0000,9,-999.0000,9,-999.0000,9,-999.0000,9,-999.0000,9,-999.0000,9,-999.0000,9,-999.0000,9,-999.0000,9,-999.0000,-999.000,  -1.7490,     -999.0,     -999.0,9,     -999.0,9,     -999.0,9,     -999.0,9,     -999.0,20110226,       2210
320620110219,       S04P,      11,          1,         27,         27,2,20110226,       2037,   -69.2380,   170.6570,       2844,   215.7,  -1.6073,  34.3649,2,  34.3639,2,    271.6,2,   286.9,2,   71.31,2,   30.93,2,    0.00,2,    2.05,2,-999.000,9,-999.000,9,-999.000,9,-999.0000,9,  2225.6,2,  2323.0,6,   7.5958,2,    25.00,-999.000,9,-999.0000,9,-999.000,9,  -1.6010,2, -999.00,9,  -999.0,9,  -999.0,-999.000,9,   -0.37,2,-999.000,9,   41.84,2,   34.13,2, -69.2380, 170.6570,-999.000,     -999.0,    34.5259,2,     -999.0,9,     -999.0,1,-999.0000,9,-999.0000,9,-999.0000,9,-999.0000,9,-999.0000,9,-999.0000,9,-999.0000,9,-999.0000,9,-999.0000,9,-999.0000,-999.000,  -1.6122,     -999.0,     -999.0,9,     -999.0,9,     -999.0,9,      -3.93,2,       0.10,20110226,       2208
320620110219,       S04P,      11,          1,         26,         26,2,20110226,       2037,   -69.2380,   170.6570,       2844,   240.3,  -1.0880,  34.4164,2,  34.4156,2,    249.4,2,   266.1,2,   76.59,2,   31.40,2,    0.00,2,    2.16,2,   3.612,2,   1.993,2,   0.388,2,   1.5960,2,  -999.0,9,  -999.0,9,-999.0000,9,  -999.00,-999.000,9,-999.0000,9,-999.000,9,  -1.0885,2, -999.00,9,  -999.0,9,  -999.0,-999.000,9, -999.00,9,-999.000,9,   41.32,2,   34.13,2, -69.2380, 170.6570,-999.000,     -999.0,    34.5779,2,     -999.0,9,     -999.0,9,-999.0000,9,-999.0000,9,-999.0000,9,-999.0000,9,-999.0000,9,-999.0000,9,-999.0000,9,-999.0000,9,-999.0000,9,-999.0000,-999.000,  -1.0946,     -999.0,     -999.0,9,     -999.0,9,     -999.0,9,     -999.0,9,     -999.0,20110226,       2206
320620110219,       S04P,      11,          1,         25,         25,2,20110226,       2037,   -69.2380,   170.6570,       2844,   285.5,   0.2568,  34.5682,2,  34.5699,2,    216.7,2,   220.4,2,   88.07,2,   32.32,2,    0.00,2,    2.16,2,   1.818,2,   1.037,2,   0.181,2,   0.7610,2,  2248.1,2,  2337.6,2,   7.5735,2,    25.00,-999.000,9,-999.0000,9,-999.000,9,   0.2569,2, -999.00,9,  -999.0,9,  -999.0,-999.000,9,   -0.15,2,-999.000,9,   41.19,2,   35.25,2, -69.2380, 170.6570,-999.000,     -999.0,    34.7329,2,     -999.0,9,     -999.0,1,-999.0000,9,-999.0000,9,-999.0000,9,-999.0000,9,-999.0000,9,-999.0000,9,-999.0000,9,-999.0000,9,-999.0000,9,-999.0000,-999.000,   0.2454,     -999.0,     -999.0,9,     -999.0,9,     -999.0,9,      -2.12,2,       0.06,20110226,       2204
320620110219,       S04P,      11,          1,         24,         24,2,20110226,       2037,   -69.2380,   170.6570,       2844,   334.6,   0.9402,  34.6571,2,  34.6584,2,    198.8,2,   199.3,2,   92.95,2,   32.54,2,    0.00,2,    2.17,2,   0.944,2,   0.512,2,   0.086,2,   0.3970,2,  2254.3,2,  2345.0,2,   7.5690,2,    25.00,-999.000,9,-999.0000,9,-999.000,9,   0.9417,2, -999.00,9,  -999.0,9,  -999.0,-999.000,9, -999.00,9,-999.000,9,   41.43,2,   35.45,2, -69.2380, 170.6570,-999.000,     -999.0,    34.8218,2,     -999.0,9,     -999.0,1,-999.0000,9,-999.0000,9,-999.0000,9,-999.0000,9,-999.0000,9,-999.0000,9,-999.0000,9,-999.0000,9,-999.0000,9,-999.0000,-999.000,   0.9248,     -999.0,     -999.0,9,     -999.0,9,     -999.0,9,     -999.0,9,     -999.0,20110226,       2202
320620110219,       S04P,      11,          1,         23,         23,2,20110226,       2037,   -69.2380,   170.6570,       2844,   383.4,   1.1284,  34.6885,2,  34.6886,2,    202.4,2,   193.6,2,   96.18,2,   32.37,2,    0.00,2,    2.20,2,-999.000,9,-999.000,9,-999.000,9,-999.0000,9,  -999.0,9,  -999.0,9,-999.0000,9,  -999.00,-999.000,9,-999.0000,9,-999.000,9,   1.1282,2, -999.00,9,  -999.0,9,  -999.0,-999.000,9,   -0.11,2,-999.000,9,   40.45,2,   35.37,2, -69.2380, 170.6570,-999.000,     -999.0,    34.8521,2,     -999.0,9,     -999.0,9,-999.0000,9,-999.0000,9,-999.0000,9,-999.0000,9,-999.0000,9,-999.0000,9,-999.0000,9,-999.0000,9,-999.0000,9,-999.0000,-999.000,   1.1100,     -999.0,     -999.0,9,     -999.0,9,     -999.0,9,      -1.70,2,       0.06,20110226,       2200
320620110219,       S04P,      11,          1,         22,         22,2,20110226,       2037,   -69.2380,   170.6570,       2844,   434.6,   0.9853,  34.6828,2,  34.6821,2,    199.0,2,   198.7,2,   98.05,2,   32.72,2,    0.00,2,    2.22,2,   0.782,2,   0.429,2,   0.074,2,   0.3160,2,  2256.7,2,  2347.0,2,   7.5729,2,    25.00,-999.000,9,-999.0000,9,-999.000,9,   0.9849,2, -999.00,9,  -999.0,9,  -999.0,-999.000,9, -999.00,9,-999.000,9,   39.70,2,   35.85,2, -69.2380, 170.6570,-999.000,     -999.0,    34.8456,2,     -999.0,9,     -999.0,1,-999.0000,9,-999.0000,9,-999.0000,9,-999.0000,9,-999.0000,9,-999.0000,9,-999.0000,9,-999.0000,9,-999.0000,9,-999.0000,-999.000,   0.9647,     -999.0,     -999.0,9,     -999.0,9,     -999.0,9,     -999.0,9,     -999.0,20110226,       2157
320620110219,       S04P,      11,          1,         21,         21,2,20110226,       2037,   -69.2380,   170.6570,       2844,   483.0,   1.0215,  34.6940,2,  34.6941,2,    197.5,2,   196.4,2,  100.16,2,   32.72,2,    0.00,2,    2.20,2,-999.000,9,-999.000,9,-999.000,9,-999.0000,9,  -999.0,9,  -999.0,9,-999.0000,9,  -999.00,-999.000,9,-999.0000,9,-999.000,9,   1.0204,2, -999.00,9,  -999.0,9,  -999.0,-999.000,9,   -0.01,2,-999.000,9,   39.93,2,   35.36,2, -69.2379, 170.6570,-999.000,     -999.0,    34.8577,2,     -999.0,9,     -999.0,9,-999.0000,9,-999.0000,9,-999.0000,9,-999.0000,9,-999.0000,9,-999.0000,9,-999.0000,9,-999.0000,9,-999.0000,9,-999.0000,-999.000,   0.9983,     -999.0,     -999.0,9,     -999.0,9,     -999.0,9,      -1.49,2,       0.16,20110226,       2155
320620110219,       S04P,      11,          1,         20,         20,2,20110226,       2037,   -69.2380,   170.6570,       2844,   565.0,   1.0089,  34.7026,2,  34.7023,2,    195.9,2,   197.2,2,  104.39,2,   32.63,2,    0.00,2,    2.21,2,   0.520,2,   0.260,2,   0.052,2,   0.2050,2,  2259.6,2,  2351.5,2,   7.5795,2,    25.00,-999.000,9,-999.0000,9,-999.000,9,   1.0089,2, -999.00,9,  -999.0,9,  -999.0,-999.000,9, -999.00,9,-999.000,9,   39.25,2,   35.47,2, -69.2380, 170.6570,-999.000,     -999.0,    34.8659,2,     -999.0,9,     -999.0,1,-999.0000,9,-999.0000,9,-999.0000,9,-999.0000,9,-999.0000,9,-999.0000,9,-999.0000,9,-999.0000,9,-999.0000,9,-999.0000,-999.000,   0.9814,     -999.0,     -999.0,9,     -999.0,9,     -999.0,9,     -999.0,9,     -999.0,20110226,       2153
320620110219,       S04P,      11,          1,         19,         19,2,20110226,       2037,   -69.2380,   170.6570,       2844,   665.8,   1.0556,  34.7150,2,  34.7151,2,    196.2,2,   195.4,2,  108.42,2,   32.78,2,    0.00,2,    2.22,2,-999.000,9,-999.000,9,-999.000,9,-999.0000,9,  -999.0,9,  -999.0,9,-999.0000,9,  -999.00,-999.000,9,-999.0000,9,-999.000,9,   1.0548,2, -999.00,9,  -999.0,9,  -999.0,-999.000,9,   -0.14,2,-999.000,9,   39.45,2,   35.72,2, -69.2380, 170.6570,-999.000,     -999.0,    34.8788,2,     -999.0,9,     -999.0,9,-999.0000,9,-999.0000,9,-999.0000,9,-999.0000,9,-999.0000,9,-999.0000,9,-999.0000,9,-999.0000,9,-999.0000,9,-999.0000,-999.000,   1.0223,     -999.0,     -999.0,9,     -999.0,9,     -999.0,9,      -1.77,2,       0.20,20110226,       2150
320620110219,       S04P,      11,          1,         18,         18,2,20110226,       2037,   -69.2380,   170.6570,       2844,   764.7,   0.9420,  34.7086,2,  34.7086,2,    196.9,2,   199.0,2,  109.41,2,   32.72,2,    0.00,2,    2.20,2,   0.356,2,   0.188,2,   0.040,2,   0.1580,2,  2259.8,2,  2355.5,2,   7.5826,2,    25.00,-999.000,9,-999.0000,9,-999.000,9,   0.9419,2, -999.00,9,  -999.0,9,  -999.0,-999.000,9, -999.00,9,-999.000,9,   39.50,2,   35.27,2, -69.2380, 170.6570,-999.000,     -999.0,    34.8723,2,     -999.0,9,     -999.0,1,-999.0000,9,-999.0000,9,-999.0000,9,-999.0000,9,-999.0000,9,-999.0000,9,-999.0000,9,-999.0000,9,-999.0000,9,-999.0000,-999.000,   0.9038,     -999.0,     -999.0,9,     -999.0,9,     -999.0,9,     -999.0,9,     -999.0,20110226,       2147
320620110219,       S04P,      11,          1,         17,         17,2,20110226,       2037,   -69.2380,   170.6570,       2844,   863.9,   0.8811,  34.7077,2,  34.7082,2,    199.0,2,   199.8,2,  111.64,2,   32.63,2,    0.00,2,    2.20,2,   0.351,2,   0.169,2,   0.033,2,   0.1060,2,  -999.0,9,  -999.0,9,-999.0000,9,  -999.00,-999.000,9,-999.0000,9,-999.000,9,   0.8807,2, -999.00,9,  -999.0,9,  -999.0,-999.000,9,   -0.07,2,-999.000,9,   39.61,2,   35.89,2, -69.2380, 170.6570,-999.000,     -999.0,    34.8719,2,     -999.0,9,     -999.0,9,-999.0000,9,-999.0000,9,-999.0000,9,-999.0000,9,-999.0000,9,-999.0000,9,-999.0000,9,-999.0000,9,-999.0000,9,-999.0000,-999.000,   0.8377,     -999.0,     -999.0,9,     -999.0,9,     -999.0,9,      -1.72,2,       0.17,20110226,       2144
320620110219,       S04P,      11,          1,         16,         16,2,20110226,       2037,   -69.2380,   170.6570,       2844,   963.2,   0.8161,  34.7066,2,  34.7072,2,    200.8,2,   201.3,2,  114.48,2,   32.81,2,    0.00,2,    2.20,2,   0.268,2,   0.149,2,   0.028,2,   0.0980,2,  2261.0,2,  2356.0,2,   7.5853,2,    25.00,-999.000,9,-999.0000,9,-999.000,9,   0.8155,2, -999.00,9,  -999.0,9,  -999.0,-999.000,9, -999.00,9,-999.000,9,   39.32,2,   35.49,2, -69.2380, 170.6570,-999.000,     -999.0,    34.8709,2,     -999.0,9,     -999.0,1,-999.0000,9,-999.0000,9,-999.0000,9,-999.0000,9,-999.0000,9,-999.0000,9,-999.0000,9,-999.0000,9,-999.0000,9,-999.0000,-999.000,   0.7674,     -999.0,     -999.0,9,     -999.0,9,     -999.0,9,     -999.0,9,     -999.0,20110226,       2141
320620110219,       S04P,      11,          1,         15,         15,2,20110226,       2037,   -69.2380,   170.6570,       2844,  1064.8,   0.7348,  34.7030,2,  34.7031,2,    202.3,2,   203.3,2,  116.15,2,   32.97,2,    0.00,2,    2.20,2,-999.000,9,-999.000,9,-999.000,9,-999.0000,9,  -999.0,9,  -999.0,9,-999.0000,9,  -999.00,-999.000,9,-999.0000,9,-999.000,9,   0.7347,2, -999.00,9,  -999.0,9,  -999.0,-999.000,9,   -0.16,2,-999.000,9,   40.34,2,   35.70,2, -69.2380, 170.6570,-999.000,     -999.0,    34.8667,2,     -999.0,9,     -999.0,1,-999.0000,9,-999.0000,9,-999.0000,9,-999.0000,9,-999.0000,9,-999.0000,9,-999.0000,9,-999.0000,9,-999.0000,9,-999.0000,-999.000,   0.6807,     -999.0,     -999.0,9,     -999.0,9,     -999.0,9,      -2.60,2,       0.22,20110226,       2138
320620110219,       S04P,      11,          1,         14,         14,2,20110226,       2037,   -69.2380,   170.6570,       2844,  1164.8,   0.7137,  34.7052,2,  34.7056,2,    203.8,2,   203.6,2,  118.97,2,   33.01,2,    0.00,2,    2.23,2,   0.327,2,   0.183,2,   0.039,2,-999.0000,9,  2261.2,2,  2357.7,2,   7.5877,2,    25.00,-999.000,9,-999.0000,9,-999.000,9,   0.7128,2, -999.00,9,  -999.0,9,  -999.0,-999.000,9, -999.00,9,-999.000,9,   40.59,2,   35.44,2, -69.2380, 170.6570,-999.000,     -999.0,    34.8693,2,     -999.0,9,     -999.0,1,-999.0000,9,-999.0000,9,-999.0000,9,-999.0000,9,-999.0000,9,-999.0000,9,-999.0000,9,-999.0000,9,-999.0000,9,-999.0000,-999.000,   0.6537,     -999.0,     -999.0,9,     -999.0,9,     -999.0,9,     -999.0,9,     -999.0,20110226,       2134