BOTTLE,20220813CCHSIOAMB
EXPOCODE,SECT_ID,STNNBR,CASTNO,SAMPNO,BTLNBR,BTLNBR_FLAG_W,DATE,TIME,LATITUDE,LONGITUDE,DEPTH,CTDPRS,CTDTMP,CTDSAL,CTDSAL_FLAG_W,SALNTY,SALNTY_FLAG_W,CTDOXY,CTDOXY_FLAG_W,OXYGEN,OXYGEN_FLAG_W,SILCAT,SILCAT_FLAG_W,NITRAT,NITRAT_FLAG_W,NITRIT,NITRIT_FLAG_W,PHSPHT,PHSPHT_FLAG_W,CFC-11,CFC-11_FLAG_W,CFC-12,CFC-12_FLAG_W,CFC113,CFC113_FLAG_W,SF6,SF6_FLAG_W,TCARBN,TCARBN_FLAG_W,ALKALI,ALKALI_FLAG_W,PH_TOT,PH_TOT_FLAG_W,PH_TMP,TRITUM,TRITUM_FLAG_W,HELIUM,HELIUM_FLAG_W,DELHE3,DELHE3_FLAG_W,REFTMP,REFTMP_FLAG_W,DELC13,DELC13_FLAG_W,DELC14,DELC14_FLAG_W,C14ERR,NEON,NEON_FLAG_W,DELO18,DELO18_FLAG_W,POC,POC_FLAG_W,DOC,DOC_FLAG_W,TDN,TDN_FLAG_W,BTL_LAT,BTL_LON,TRITER,NEONER,SALTREF,SALTREF_FLAG_W,PIGMENTS,PIGMENTS_FLAG_W,LAB_DEN,LAB_DEN_FLAG_W,CDOM325,CDOM325_FLAG_W,CDOM340,CDOM340_FLAG_W,CDOM380,CDOM380_FLAG_W,CDOM412,CDOM412_FLAG_W,CDOM443,CDOM443_FLAG_W,CDOM490,CDOM490_FLAG_W,CDOM555,CDOM555_FLAG_W,CDOMSL,CDOMSL_FLAG_W,CDOMSN,CDOMSN_FLAG_W,HELIER,DELHER,THETA,LDEO_SAMPNO,ABSORBTION,ABSORBTION_FLAG_W,IMAGE_COUNT,IMAGE_COUNT_FLAG_W,CYTO_COUNT,CYTO_COUNT_FLAG_W,DELD,DELD_FLAG_W,DELDERR,BTL_DATE,BTL_TIME
,,,,,,,,,,,METERS,DBAR,ITS-90,PSS-78,,PSS-78,,UMOL/KG,,UMOL/KG,,UMOL/KG,,UMOL/KG,,UMOL/KG,,UMOL/KG,,PMOL/KG,,PMOL/KG,,PMOL/KG,,FMOL/KG,,UMOL/KG,,UMOL/KG,,,,DEG C,TU,,NMOL/KG,,PERCNT,,DEG C,,/MILLE,,/MILLE,,/MILLE,NMOL/KG,,/MILLE,,UG/KG,,UMOL/KG,,UMOL/KG,,,,TU,NMOL/KG,G/KG,,,,,,1/M,,1/M,,1/M,,1/M,,1/M,,1/M,,1/M,,1/NM,,1/NM,,NMOL/KG,PERCNT,DEG C,,,,,,,,/MILLE,,/MILLE,,
320620110219,       P15S,      85,          1,         36,         36,2,20110324,       1408,   -73.8023,  -172.1499,       3337,     6.3,  -1.3385,  34.0270,2,  34.0258,2,    332.3,3,   334.3,2,   69.99,2,   25.21,2,    0.09,2,    1.84,2,   5.915,2,   3.195,2,   0.588,2,   2.3310,2,  2185.4,3,  2311.8,2,   7.6727,2,    25.00,-999.000,9,-999.0000,9,-999.000,9,  -1.3382,2, -999.00,9,  -999.0,9,  -999.0,-999.000,9, -999.00,9,-999.000,9,   45.88,2,   30.00,2, -73.8029,-172.1517,-999.000,     -999.0,    34.1862,2,     -999.0,9,     -999.0,9,-999.0000,9,-999.0000,9,-999.0000,9,-999.0000,9,-999.0000,9,-999.0000,9,-999.0000,9,-999.0000,9,-999.0000,9,-999.0000,-999.000,  -1.3386,     -999.0,     -999.0,9,     -999.0,9,     -999.0,9,     -999.0,9,     -999.0,20110324,       1540
320620110219,       P15S,      85,          1,         35,         35,2,20110324,       1408,   -73.8023,  -172.1499,       3337,    18.9,  -1.3347,  34.0269,2,  34.0258,2,    334.1,2,   334.2,2,   69.95,2,   25.15,2,    0.09,2,    1.85,2,-999.000,9,-999.000,9,-999.000,9,-999.0000,9,  2185.9,3,  2312.9,6,   7.6721,2,    25.00,-999.000,9,-999.0000,9,-999.000,9,  -1.3349,2, -999.00,9,  -999.0,9,  -999.0,-999.000,9, -999.00,9,-999.000,9,   45.89,2,   29.63,2, -73.8028,-172.1515,-999.000,     -999.0,    34.1862,2,     -999.0,9,     -999.0,9,-999.0000,9,-999.0000,9,-999.0000,9,-999.0000,9,-999.0000,9,-999.0000,9,-999.0000,9,-999.0000,9,-999.0000,9,-999.0000,-999.000,  -1.3351,     -999.0,     -999.0,9,     -999.0,9,     -999.0,9,     -999.0,9,     -999.0,20110324,       1538
320620110219,       P15S,      85,          1,         34,         34,2,20110324,       1408,   -73.8023,  -172.1499,       3337,    41.0,  -1.3325,  34.0267,2,  34.0264,2,    334.1,2,   333.6,2,   70.19,2,   25.10,2,    0.09,2,    1.86,2,   5.912,2,   3.188,2,   0.597,2,   2.5050,2,  2185.9,3,  2313.8,2,   7.6734,6,    25.00,-999.000,9,-999.0000,9,-999.000,9,  -1.3326,2, -999.00,9,  -999.0,9,  -999.0,-999.000,9, -999.00,9,-999.000,9,   44.80,2,   29.41,2, -73.8026,-172.1510,-999.000,     -999.0,    34.1868,2,     -999.0,9,     -999.0,9,-999.0000,9,-999.0000,9,-999.0000,9,-999.0000,9,-999.0000,9,-999.0000,9,-999.0000,9,-999.0000,9,-999.0000,9,-999.0000,-999.000,  -1.3334,     -999.0,     -999.0,9,     -999.0,9,     -999.0,9,     -999.0,9,     -999.0,20110324,       1537
320620110219,       P15S,      85,          1,         33,         33,2,20110324,       1408,   -73.8023,  -172.1499,       3337,    64.7,  -1.3347,  34.0274,2,  34.0266,2,    333.7,2,   333.2,2,   70.21,2,   25.25,2,    0.09,2,    1.86,2,   5.872,2,   3.176,2,   0.576,2,   2.5010,2,  2185.9,3,  2314.3,2,   7.6736,2,    25.00,-999.000,9,-999.0000,9,-999.000,9,  -1.3354,2, -999.00,9,  -999.0,9,  -999.0,-999.000,9, -999.00,9,-999.000,9,   43.68,2,   29.38,2, -73.8024,-172.1499,-999.000,     -999.0,    34.1870,2,     -999.0,9,     -999.0,9,-999.0000,9,-999.0000,9,-999.0000,9,-999.0000,9,-999.0000,9,-999.0000,9,-999.0000,9,-999.0000,9,-999.0000,9,-999.0000,-999.000,  -1.3362,     -999.0,     -999.0,9,     -999.0,9,     -999.0,9,     -999.0,9,     -999.0,20110324,       1536
320620110219,       P15S,      85,          1,         32,         32,2,20110324,       1408,   -73.8023,  -172.1499,       3337,    90.0,  -1.5547,  34.0641,2,  34.0677,2,    319.8,2,   306.4,2,   73.29,2,   27.82,2,    0.08,2,    2.00,2,   5.072,2,   2.741,2,   0.515,2,   2.1460,2,  2201.4,3,  2309.1,2,   7.6281,2,    25.00,-999.000,9,-999.0000,9,-999.000,9,  -1.5555,2, -999.00,9,  -999.0,9,  -999.0,-999.000,9, -999.00,9,-999.000,9,   42.25,2,   31.44,2, -73.8022,-172.1492,-999.000,     -999.0,    34.2283,2,     -999.0,9,     -999.0,9,-999.0000,9,-999.0000,9,-999.0000,9,-999.0000,9,-999.0000,9,-999.0000,9,-999.0000,9,-999.0000,9,-999.0000,9,-999.0000,-999.000,  -1.5566,     -999.0,     -999.0,9,     -999.0,9,     -999.0,9,     -999.0,9,     -999.0,20110324,       1534
320620110219,       P15S,      85,          1,         31,         31,2,20110324,       1408,   -73.8023,  -172.1499,       3337,   114.9,  -1.8092,  34.1016,2,  34.1008,2,    288.7,2,   288.1,2,   76.29,2,   30.11,2,    0.09,2,    2.10,2,   4.500,2,   2.404,2,   0.444,2,   1.9340,2,  2213.2,3,  2313.4,2,   7.5941,2,    25.00,-999.000,9,-999.0000,9,-999.000,9,  -1.8084,2, -999.00,9,  -999.0,9,  -999.0,-999.000,9, -999.00,9,-999.000,9,   41.39,2,   32.64,2, -73.8021,-172.1489,-999.000,     -999.0,    34.2616,2,     -999.0,9,     -999.0,9,-999.0000,9,-999.0000,9,-999.0000,9,-999.0000,9,-999.0000,9,-999.0000,9,-999.0000,9,-999.0000,9,-999.0000,9,-999.0000,-999.000,  -1.8114,     -999.0,     -999.0,9,     -999.0,9,     -999.0,9,     -999.0,9,     -999.0,20110324,       1533
320620110219,       P15S,      85,          1,         30,         30,2,20110324,       1408,   -73.8023,  -172.1499,       3337,   139.7,  -1.8020,  34.1066,2,  34.1057,2,    287.6,2,   287.7,2,   76.26,2,   30.16,2,    0.11,2,    2.11,2,   4.469,2,   2.402,2,   0.432,2,   1.7850,2,  2213.6,3,  2301.4,4,   7.5942,2,    25.00,-999.000,9,-999.0000,9,-999.000,9,  -1.8024,2, -999.00,9,  -999.0,9,  -999.0,-999.000,9, -999.00,9,-999.000,9,   40.61,2,   32.53,2, -73.8021,-172.1491,-999.000,     -999.0,    34.2665,2,     -999.0,9,     -999.0,9,-999.0000,9,-999.0000,9,-999.0000,9,-999.0000,9,-999.0000,9,-999.0000,9,-999.0000,9,-999.0000,9,-999.0000,9,-999.0000,-999.000,  -1.8048,     -999.0,     -999.0,9,     -999.0,9,     -999.0,9,     -999.0,9,     -999.0,20110324,       1531
320620110219,       P15S,      85,          1,         29,         29,2,20110324,       1408,   -73.8023,  -172.1499,       3337,   184.3,  -1.7506,  34.1226,2,  34.1190,2,    285.5,2,   285.9,2,   74.24,2,   30.40,2,    0.10,2,    2.11,2,   4.564,2,   2.472,2,   0.424,2,   1.8520,2,  2214.2,3,  2313.8,2,   7.5941,2,    25.00,-999.000,9,-999.0000,9,-999.000,9,  -1.7496,2, -999.00,9,  -999.0,9,  -999.0,-999.000,9, -999.00,9,-999.000,9,   40.65,2,   33.33,2, -73.8022,-172.1496,-999.000,     -999.0,    34.2799,2,     -999.0,9,     -999.0,9,-999.0000,9,-999.0000,9,-999.0000,9,-999.0000,9,-999.0000,9,-999.0000,9,-999.0000,9,-999.0000,9,-999.0000,9,-999.0000,-999.000,  -1.7544,     -999.0,     -999.0,9,     -999.0,9,     -999.0,9,     -999.0,9,     -999.0,20110324,       1529
320620110219,       P15S,      85,          1,         28,         28,2,20110324,       1408,   -73.8023,  -172.1499,       3337,   234.2,  -0.7521,  34.2420,2,  34.2388,2,    266.1,2,   252.9,2,   79.36,2,   31.42,2,    0.04,2,    2.19,2,-999.000,9,-999.000,9,-999.000,9,   1.2590,2,  2225.7,3,  2320.3,2,   7.5788,2,    25.00,-999.000,9,-999.0000,9,-999.000,9,  -0.7532,2, -999.00,9,  -999.0,9,  -999.0,-999.000,9, -999.00,9,-999.000,9,   40.28,2,   33.83,2, -73.8023,-172.1496,-999.000,     -999.0,    34.4003,2,     -999.0,9,     -999.0,9,-999.0000,9,-999.0000,9,-999.0000,9,-999.0000,9,-999.0000,9,-999.0000,9,-999.0000,9,-999.0000,9,-999.0000,9,-999.0000,-999.000,  -0.7592,     -999.0,     -999.0,9,     -999.0,9,     -999.0,9,     -999.0,9,     -999.0,20110324,       1528
320620110219,       P15S,      85,          1,         27,         27,2,20110324,       1408,   -73.8023,  -172.1499,       3337,   284.4,   0.3965,  34.4290,2,  34.4271,2,    224.9,2,   218.3,2,   80.19,2,   32.31,2,    0.04,2,    2.25,2,-999.000,9,-999.000,9,-999.000,9,-999.0000,9,  2238.0,3,  2326.5,2,   7.5695,2,    25.00,-999.000,9,-999.0000,9,-999.000,9,   0.3947,2, -999.00,9,  -999.0,9,  -999.0,-999.000,9, -999.00,9,-999.000,9,   40.49,2,   34.70,2, -73.8023,-172.1498,-999.000,     -999.0,    34.5894,2,     -999.0,9,     -999.0,9,-999.0000,9,-999.0000,9,-999.0000,9,-999.0000,9,-999.0000,9,-999.0000,9,-999.0000,9,-999.0000,9,-999.0000,9,-999.0000,-999.000,   0.3849,     -999.0,     -999.0,9,     -999.0,9,     -999.0,9,     -999.0,9,     -999.0,20110324,       1526
320620110219,       P15S,      85,          1,         26,         26,2,20110324,       1408,   -73.8023,  -172.1499,       3337,   334.9,   1.2579,  34.5915,2,  34.5904,2,    195.4,2,   192.7,2,   84.35,2,   32.52,2,    0.02,2,    2.25,2,   1.101,2,   0.572,2,   0.090,2,   0.4010,2,  2248.9,3,  2336.9,2,   7.5646,2,    25.00,-999.000,9,-999.0000,9,-999.000,9,   1.2566,2, -999.00,9,  -999.0,9,  -999.0,-999.000,9, -999.00,9,-999.000,9,   40.49,2,   34.59,2, -73.8023,-172.1498,-999.000,     -999.0,    34.7535,2,     -999.0,9,     -999.0,9,-999.0000,9,-999.0000,9,-999.0000,9,-999.0000,9,-999.0000,9,-999.0000,9,-999.0000,9,-999.0000,9,-999.0000,9,-999.0000,-999.000,   1.2416,     -999.0,     -999.0,9,     -999.0,9,     -999.0,9,     -999.0,9,     -999.0,20110324,       1524
320620110219,       P15S,      85,          1,         25,         25,2,20110324,       1408,   -73.8023,  -172.1499,       3337,   385.7,   1.6309,  34.6660,2,  34.6658,2,    183.0,2,   182.7,2,   85.47,2,   32.36,2,    0.01,2,    2.26,2,-999.000,9,-999.000,9,-999.000,9,-999.0000,9,  2251.8,3,  2341.9,2,   7.5655,2,    25.00,-999.000,9,-999.0000,9,-999.000,9,   1.6307,2, -999.00,9,  -999.0,9,  -999.0,-999.000,9, -999.00,9,-999.000,9,   40.05,2,   34.72,2, -73.8023,-172.1497,-999.000,     -999.0,    34.8292,2,     -999.0,9,     -999.0,9,-999.0000,9,-999.0000,9,-999.0000,9,-999.0000,9,-999.0000,9,-999.0000,9,-999.0000,9,-999.0000,9,-999.0000,9,-999.0000,-999.000,   1.6108,     -999.0,     -999.0,9,     -999.0,9,     -999.0,9,     -999.0,9,     -999.0,20110324,       1522
320620110219,       P15S,      85,          1,         24,         24,2,20110324,       1408,   -73.8023,  -172.1499,       3337,   435.9,   1.7162,  34.7005,2,  34.7005,2,    181.9,2,   182.1,2,   87.58,2,   32.04,2,    0.00,2,    2.24,2,   0.430,2,   0.209,2,   0.032,2,   0.1100,2,  2252.3,3,  2346.5,2,   7.5722,2,    25.00,-999.000,9,-999.0000,9,-999.000,9,   1.7163,2, -999.00,9,  -999.0,9,  -999.0,-999.000,9, -999.00,9,-999.000,9,   40.07,2,   34.33,2, -73.8022,-172.1494,-999.000,     -999.0,    34.8641,2,     -999.0,9,     -999.0,9,-999.0000,9,-999.0000,9,-999.0000,9,-999.0000,9,-999.0000,9,-999.0000,9,-999.0000,9,-999.0000,9,-999.0000,9,-999.0000,-999.000,   1.6929,     -999.0,     -999.0,9,     -999.0,9,     -999.0,9,     -999.0,9,     -999.0,20110324,       1521
320620110219,       P15S,      85,          1,         23,         23,2,20110324,       1408,   -73.8023,  -172.1499,       3337,   485.0,   1.6427,  34.7104,2,  34.7103,2,    182.7,2,   183.2,2,   90.56,2,   31.90,2,    0.00,2,    2.23,2,-999.000,9,-999.000,9,-999.000,9,-999.0000,9,  2252.6,3,  2351.7,2,   7.5764,6,    25.00,-999.000,9,-999.0000,9,-999.000,9,   1.6426,2, -999.00,9,  -999.0,9,  -999.0,-999.000,9, -999.00,9,-999.000,9,   40.07,2,   34.12,2, -73.8023,-172.1498,-999.000,     -999.0,    34.8740,2,     -999.0,9,     -999.0,9,-999.0000,9,-999.0000,9,-999.0000,9,-999.0000,9,-999.0000,9,-999.0000,9,-999.0000,9,-999.0000,9,-999.0000,9,-999.0000,-999.000,   1.6169,     -999.0,     -999.0,9,     -999.0,9,     -999.0,9,     -999.0,9,     -999.0,20110324,       1519
320620110219,       P15S,      85,          1,         22,         22,2,20110324,       1408,   -73.8023,  -172.1499,       3337,   564.7,   1.5686,  34.7267,2,  34.7259,2,    184.9,2,   185.1,2,   94.91,2,   31.76,2,    0.00,2,    2.21,2,-999.000,9,-999.000,9,-999.000,9,   0.0730,2,  -999.0,9,  -999.0,9,-999.0000,9,  -999.00,-999.000,9,-999.0000,9,-999.000,9,   1.5685,2, -999.00,9,  -999.0,9,  -999.0,-999.000,9, -999.00,9,-999.000,9,   40.20,2,   34.67,2, -73.8024,-172.1502,-999.000,     -999.0,    34.8896,2,     -999.0,9,     -999.0,9,-999.0000,9,-999.0000,9,-999.0000,9,-999.0000,9,-999.0000,9,-999.0000,9,-999.0000,9,-999.0000,9,-999.0000,9,-999.0000,-999.000,   1.5385,     -999.0,     -999.0,9,     -999.0,9,     -999.0,9,     -999.0,9,     -999.0,20110324,       1516
320620110219,       P15S,      85,          1,         21,         21,2,20110324,       1408,   -73.8023,  -172.1499,       3337,   664.0,   1.4504,  34.7305,2,  34.7298,2,    186.4,2,   187.9,2,   98.95,2,   31.55,2,    0.00,2,    2.22,2,-999.000,9,-999.000,9,-999.000,9,-999.0000,9,  2255.0,3,  2353.1,6,   7.5874,2,    25.00,-999.000,9,-999.0000,9,-999.000,9,   1.4503,2, -999.00,9,  -999.0,9,  -999.0,-999.000,9, -999.00,9,-999.000,9,   40.09,2,   34.47,2, -73.8024,-172.1501,-999.000,     -999.0,    34.8936,2,     -999.0,9,     -999.0,9,-999.0000,9,-999.0000,9,-999.0000,9,-999.0000,9,-999.0000,9,-999.0000,9,-999.0000,9,-999.0000,9,-999.0000,9,-999.0000,-999.000,   1.4151,     -999.0,     -999.0,9,     -999.0,9,     -999.0,9,     -999.0,9,     -999.0,20110324,       1514
320620110219,       P15S,      85,          1,         20,         20,2,20110324,       1408,   -73.8023,  -172.1499,       3337,   764.5,   1.3641,  34.7299,2,  34.7294,2,    188.8,2,   188.7,2,  102.39,2,   31.62,2,    0.00,2,    2.23,2,   0.148,2,   0.075,2,   0.010,2,   0.0650,2,  -999.0,9,  -999.0,9,-999.0000,9,  -999.00,-999.000,9,-999.0000,9,-999.000,9,   1.3642,2, -999.00,9,  -999.0,9,  -999.0,-999.000,9, -999.00,9,-999.000,9,   39.95,2,   34.82,2, -73.8023,-172.1499,-999.000,     -999.0,    34.8932,2,     -999.0,9,     -999.0,9,-999.0000,9,-999.0000,9,-999.0000,9,-999.0000,9,-999.0000,9,-999.0000,9,-999.0000,9,-999.0000,9,-999.0000,9,-999.0000,-999.000,   1.3233,     -999.0,     -999.0,9,     -999.0,9,     -999.0,9,     -999.0,9,     -999.0,20110324,       1511
320620110219,       P15S,      85,          1,         19,         19,2,20110324,       1408,   -73.8023,  -172.1499,       3337,   865.0,   1.2847,  34.7286,2,  34.7286,2,    190.0,2,   189.8,2,  104.99,2,   31.56,2,    0.00,2,    2.23,2,-999.000,9,-999.000,9,-999.000,9,-999.0000,9,  -999.0,9,  -999.0,9,-999.0000,9,  -999.00,-999.000,9,-999.0000,9,-999.000,9,   1.2843,2, -999.00,9,  -999.0,9,  -999.0,-999.000,9,   -0.60,2,-999.000,9,   40.26,2,   34.52,2, -73.8023,-172.1498,-999.000,     -999.0,    34.8924,2,     -999.0,9,     -999.0,9,-999.0000,9,-999.0000,9,-999.0000,9,-999.0000,9,-999.0000,9,-999.0000,9,-999.0000,9,-999.0000,9,-999.0000,9,-999.0000,-999.000,   1.2383,     -999.0,     -999.0,9,     -999.0,9,     -999.0,9,      -6.39,3,       0.42,20110324,       1508
320620110219,       P15S,      85,          1,         18,         18,2,20110324,       1408,   -73.8023,  -172.1499,       3337,   964.6,   1.1993,  34.7265,2,  34.7261,2,    192.0,2,   192.2,2,  107.77,2,   31.82,2,    0.00,2,    2.23,2,   0.102,2,   0.053,2,   0.010,2,   0.0400,2,  2258.6,3,  2358.0,2,   7.5908,2,    25.00,-999.000,9,-999.0000,9,-999.000,9,   1.1994,2, -999.00,9,  -999.0,9,  -999.0,-999.000,9,   -0.57,2,-999.000,9,   40.03,2,   34.72,2, -73.8025,-172.1505,-999.000,     -999.0,    34.8898,2,     -999.0,9,     -999.0,9,-999.0000,9,-999.0000,9,-999.0000,9,-999.0000,9,-999.0000,9,-999.0000,9,-999.0000,9,-999.0000,9,-999.0000,9,-999.0000,-999.000,   1.1475,     -999.0,     -999.0,9,     -999.0,9,     -999.0,9,      -5.23,3,       0.10,20110324,       1506
320620110219,       P15S,      85,          1,         17,         17,2,20110324,       1408,   -73.8023,  -172.1499,       3337,  1066.2,   1.1295,  34.7244,2,  34.7243,2,    194.0,2,   194.0,2,  109.28,2,   31.61,2,    0.00,2,    2.24,2,-999.000,9,-999.000,9,-999.000,9,-999.0000,9,  -999.0,9,  -999.0,9,-999.0000,9,  -999.00,-999.000,9,-999.0000,9,-999.000,9,   1.1297,2, -999.00,9,  -999.0,9,  -999.0,-999.000,9,   -0.58,2,-999.000,9,   40.08,2,   34.25,2, -73.8027,-172.1510,-999.000,     -999.0,    34.8881,2,     -999.0,9,     -999.0,9,-999.0000,9,-999.0000,9,-999.0000,9,-999.0000,9,-999.0000,9,-999.0000,9,-999.0000,9,-999.0000,9,-999.0000,9,-999.0000,-999.000,   1.0719,     -999.0,     -999.0,9,     -999.0,9,     -999.0,9,      -5.35,3,       0.28,20110324,       1503
320620110219,       P15S,      85,          1,         16,         16,2,20110324,       1408,   -73.8023,  -172.1499,       3337,  1164.7,   1.0576,  34.7221,2,  34.7212,2,    196.0,2,   195.4,2,  112.08,2,   31.66,2,    0.00,2,    2.24,2,   0.077,2,   0.045,2,   0.009,2,   0.0470,2,  -999.0,9,  -999.0,9,-999.0000,9,  -999.00,-999.000,9,-999.0000,9,-999.000,9,   1.0575,2, -999.00,9,  -999.0,9,  -999.0,-999.000,9,   -0.40,2,-999.000,9,   39.60,2,   34.35,2, -73.8028,-172.1512,-999.000,     -999.0,    34.8849,2,     -999.0,9,     -999.0,9,-999.0000,9,-999.0000,9,-999.0000,9,-999.0000,9,-999.0000,9,-999.0000,9,-999.0000,9,-999.0000,9,-999.0000,9,-999.0000,-999.000,   0.9944,     -999.0,     -999.0,9,     -999.0,9,     -999.0,9,      -4.95,2,       0.17,20110324,       1500
320620110219,       P15S,      85,          1,         15,         15,2,20110324,       1408,   -73.8023,  -172.1499,       3337,  1266.1,   0.9972,  34.7198,2,  34.7193,2,    197.5,2,   197.6,2,  113.50,2,   31.84,2,    0.00,2,    2.24,2,-999.000,9,-999.000,9,-999.000,9,-999.0000,9,  2259.2,3,  2359.9,2,   7.5936,2,    25.00,-999.000,9,-999.0000,9,-999.000,9,   0.9967,2, -999.00,9,  -999.0,9,  -999.0,-999.000,9,   -0.46,2,-999.000,9,   39.50,2,   34.74,2, -73.8026,-172.1510,-999.000,     -999.0,    34.8830,2,     -999.0,9,     -999.0,9,-999.0000,9,-999.0000,9,-999.0000,9,-999.0000,9,-999.0000,9,-999.0000,9,-999.0000,9,-999.0000,9,-999.0000,9,-999.0000,-999.000,   0.9280,     -999.0,     -999.0,9,     -999.0,9,     -999.0,9,      -4.05,2,       0.08,20110324,       1458
320620110219,       P15S,      85,          1,         14,         14,2,20110324,       1408,   -73.8023,  -172.1499,       3337,  1366.1,   0.9348,  34.7177,2,  34.7173,2,    198.7,2,   198.9,2,  115.41,2,   31.78,2,    0.00,2,    2.24,2,   0.070,2,   0.036,2,   0.006,2,   0.0490,2,  -999.0,9,  -999.0,9,-999.0000,9,  -999.00,-999.000,9,-999.0000,9,-999.000,9,   0.9350,2, -999.00,9,  -999.0,9,  -999.0,-999.000,9,   -0.02,2,-999.000,9,   39.36,2,   34.59,2, -73.8025,-172.1504,-999.000,     -999.0,    34.8810,2,     -999.0,9,     -999.0,9,-999.0000,9,-999.0000,9,-999.0000,9,-999.0000,9,-999.0000,9,-999.0000,9,-999.0000,9,-999.0000,9,-999.0000,9,-999.0000,-999.000,   0.8597,     -999.0,     -999.0,9,     -999.0,9,     -999.0,9,      -1.66,2,       0.15,20110324,       1455