BOTTLE,20220813CCHSIOAMB
EXPOCODE,SECT_ID,STNNBR,CASTNO,SAMPNO,BTLNBR,BTLNBR_FLAG_W,DATE,TIME,LATITUDE,LONGITUDE,DEPTH,CTDPRS,CTDTMP,CTDSAL,CTDSAL_FLAG_W,SALNTY,SALNTY_FLAG_W,CTDOXY,CTDOXY_FLAG_W,OXYGEN,OXYGEN_FLAG_W,SILCAT,SILCAT_FLAG_W,NITRAT,NITRAT_FLAG_W,NITRIT,NITRIT_FLAG_W,PHSPHT,PHSPHT_FLAG_W,CFC-11,CFC-11_FLAG_W,CFC-12,CFC-12_FLAG_W,CFC113,CFC113_FLAG_W,SF6,SF6_FLAG_W,TCARBN,TCARBN_FLAG_W,ALKALI,ALKALI_FLAG_W,PH_TOT,PH_TOT_FLAG_W,PH_TMP,TRITUM,TRITUM_FLAG_W,HELIUM,HELIUM_FLAG_W,DELHE3,DELHE3_FLAG_W,REFTMP,REFTMP_FLAG_W,DELC13,DELC13_FLAG_W,DELC14,DELC14_FLAG_W,C14ERR,NEON,NEON_FLAG_W,DELO18,DELO18_FLAG_W,POC,POC_FLAG_W,DOC,DOC_FLAG_W,TDN,TDN_FLAG_W,BTL_LAT,BTL_LON,TRITER,NEONER,SALTREF,SALTREF_FLAG_W,PIGMENTS,PIGMENTS_FLAG_W,LAB_DEN,LAB_DEN_FLAG_W,CDOM325,CDOM325_FLAG_W,CDOM340,CDOM340_FLAG_W,CDOM380,CDOM380_FLAG_W,CDOM412,CDOM412_FLAG_W,CDOM443,CDOM443_FLAG_W,CDOM490,CDOM490_FLAG_W,CDOM555,CDOM555_FLAG_W,CDOMSL,CDOMSL_FLAG_W,CDOMSN,CDOMSN_FLAG_W,HELIER,DELHER,THETA,LDEO_SAMPNO,ABSORBTION,ABSORBTION_FLAG_W,IMAGE_COUNT,IMAGE_COUNT_FLAG_W,CYTO_COUNT,CYTO_COUNT_FLAG_W,DELD,DELD_FLAG_W,DELDERR,BTL_DATE,BTL_TIME
,,,,,,,,,,,METERS,DBAR,ITS-90,PSS-78,,PSS-78,,UMOL/KG,,UMOL/KG,,UMOL/KG,,UMOL/KG,,UMOL/KG,,UMOL/KG,,PMOL/KG,,PMOL/KG,,PMOL/KG,,FMOL/KG,,UMOL/KG,,UMOL/KG,,,,DEG C,TU,,NMOL/KG,,PERCNT,,DEG C,,/MILLE,,/MILLE,,/MILLE,NMOL/KG,,/MILLE,,UG/KG,,UMOL/KG,,UMOL/KG,,,,TU,NMOL/KG,G/KG,,,,,,1/M,,1/M,,1/M,,1/M,,1/M,,1/M,,1/M,,1/NM,,1/NM,,NMOL/KG,PERCNT,DEG C,,,,,,,,/MILLE,,/MILLE,,
320620110219,       P16S,      50,          1,         36,         36,2,20110312,       1754,   -69.4891,  -150.0009,       4359,     4.8,  -0.6548,  33.7117,2,  33.7126,2,    343.8,3,   348.5,2,   37.57,2,   22.95,2,    0.22,2,    1.61,2,   6.196,2,   3.386,2,   0.593,2,   2.4050,2,  2144.1,6,  2288.0,2,   7.7182,2,    25.00,-999.000,9,-999.0000,9,-999.000,9,  -0.6547,2, -999.00,9,  -999.0,9,  -999.0,-999.000,9, -999.00,9,-999.000,9,   44.37,2,   27.19,2, -69.4891,-150.0009,-999.000,     -999.0,    33.8715,2,     -999.0,9,     -999.0,9,-999.0000,9,-999.0000,9,-999.0000,9,-999.0000,9,-999.0000,9,-999.0000,9,-999.0000,9,-999.0000,9,-999.0000,9,-999.0000,-999.000,  -0.6549,     -999.0,     -999.0,9,     -999.0,9,     -999.0,9,     -999.0,9,     -999.0,20110312,       1947
320620110219,       P16S,      50,          1,         35,         35,2,20110312,       1754,   -69.4891,  -150.0009,       4359,    20.0,  -0.6558,  33.7117,2,  33.7116,2,    346.8,2,   346.6,2,   37.55,2,   23.03,2,    0.20,2,    1.63,2,   6.175,2,   3.382,2,   0.589,2,   2.1970,2,  2144.8,2,  2283.9,2,   7.7182,2,    25.00,-999.000,9,-999.0000,9,-999.000,9,  -0.6556,2, -999.00,9,  -999.0,9,  -999.0,-999.000,9, -999.00,9,-999.000,1,   44.72,2,   26.71,2, -69.4891,-150.0009,-999.000,     -999.0,    33.8706,2,     -999.0,1,     -999.0,9,-999.0000,9,-999.0000,9,-999.0000,9,-999.0000,9,-999.0000,9,-999.0000,9,-999.0000,9,-999.0000,9,-999.0000,9,-999.0000,-999.000,  -0.6564,     -999.0,     -999.0,1,     -999.0,1,     -999.0,1,     -999.0,9,     -999.0,20110312,       1945
320620110219,       P16S,      50,          1,         34,         34,2,20110312,       1754,   -69.4891,  -150.0009,       4359,    40.6,  -0.6558,  33.7120,2,  33.7129,2,    347.2,2,   346.5,2,   37.52,2,   23.05,2,    0.20,2,    1.60,2,-999.000,9,-999.000,9,-999.000,9,-999.0000,9,  2144.9,2,  2283.8,2,   7.7196,2,    25.00,-999.000,9,-999.0000,9,-999.000,9,  -0.6561,2, -999.00,9,  -999.0,9,  -999.0,-999.000,9, -999.00,9,-999.000,1,   44.75,2,   26.85,2, -69.4891,-150.0009,-999.000,     -999.0,    33.8719,2,     -999.0,1,     -999.0,9,-999.0000,9,-999.0000,9,-999.0000,9,-999.0000,9,-999.0000,9,-999.0000,9,-999.0000,9,-999.0000,9,-999.0000,9,-999.0000,-999.000,  -0.6569,     -999.0,     -999.0,1,     -999.0,1,     -999.0,1,     -999.0,9,     -999.0,20110312,       1944
320620110219,       P16S,      50,          1,         33,         33,2,20110312,       1754,   -69.4891,  -150.0009,       4359,    64.6,  -1.5293,  34.0300,2,  34.0322,2,    311.3,2,   311.8,2,   49.63,2,   27.53,2,    0.21,2,    1.98,2,   5.324,2,   2.880,2,   0.500,2,   2.0570,2,  2188.4,2,  2304.4,2,   7.6414,4,    25.00,-999.000,9,-999.0000,9,-999.000,9,  -1.5292,2, -999.00,9,  -999.0,9,  -999.0,-999.000,9, -999.00,9,-999.000,1,   44.40,2,   32.03,2, -69.4891,-150.0008,-999.000,     -999.0,    34.1927,2,     -999.0,1,     -999.0,9,-999.0000,9,-999.0000,9,-999.0000,9,-999.0000,9,-999.0000,9,-999.0000,9,-999.0000,9,-999.0000,9,-999.0000,9,-999.0000,-999.000,  -1.5307,     -999.0,     -999.0,1,     -999.0,1,     -999.0,1,     -999.0,9,     -999.0,20110312,       1943
320620110219,       P16S,      50,          1,         32,         32,2,20110312,       1754,   -69.4891,  -150.0009,       4359,    90.0,  -1.4464,  34.1140,2,  34.1108,2,    297.5,2,   297.0,2,   52.86,2,   28.72,2,    0.21,2,    2.02,2,   4.989,2,   2.705,2,   0.498,2,   1.7840,2,  2198.9,2,  2304.4,2,   7.6211,6,    25.00,-999.000,9,-999.0000,9,-999.000,9,  -1.4467,2, -999.00,9,  -999.0,9,  -999.0,-999.000,9, -999.00,9,-999.000,9,   43.72,2,   32.34,2, -69.4891,-150.0009,-999.000,     -999.0,    34.2717,2,     -999.0,9,     -999.0,9,-999.0000,9,-999.0000,9,-999.0000,9,-999.0000,9,-999.0000,9,-999.0000,9,-999.0000,9,-999.0000,9,-999.0000,9,-999.0000,-999.000,  -1.4484,     -999.0,     -999.0,9,     -999.0,9,     -999.0,9,     -999.0,9,     -999.0,20110312,       1941
320620110219,       P16S,      50,          1,         31,         31,2,20110312,       1754,   -69.4891,  -150.0009,       4359,   135.4,  -0.2126,  34.3377,2,  34.3431,2,    262.3,2,   246.6,2,   68.63,2,   31.22,2,    0.03,2,    2.15,2,   3.232,2,   1.751,2,   0.299,2,   1.0420,2,  2224.6,2,  2319.4,6,   7.5857,2,    25.00,-999.000,9,-999.0000,9,-999.000,9,  -0.2074,2, -999.00,9,  -999.0,9,  -999.0,-999.000,9, -999.00,9,-999.000,9,   42.90,2,   34.62,2, -69.4891,-150.0009,-999.000,     -999.0,    34.5050,2,     -999.0,9,     -999.0,9,-999.0000,9,-999.0000,9,-999.0000,9,-999.0000,9,-999.0000,9,-999.0000,9,-999.0000,9,-999.0000,9,-999.0000,9,-999.0000,-999.000,  -0.2172,     -999.0,     -999.0,9,     -999.0,9,     -999.0,9,     -999.0,9,     -999.0,20110312,       1940
320620110219,       P16S,      50,          1,         30,         30,2,20110312,       1754,   -69.4891,  -150.0009,       4359,   185.4,   0.9403,  34.5676,2,  34.5559,2,    206.0,2,   204.6,2,   81.93,2,   32.47,2,    0.02,2,    2.23,2,   1.607,2,   0.868,2,   0.138,2,   0.4480,2,  2245.1,2,  2333.2,2,   7.5651,2,    25.00,-999.000,9,-999.0000,9,-999.000,9,   0.9467,2, -999.00,9,  -999.0,9,  -999.0,-999.000,9, -999.00,9,-999.000,9,   41.82,2,   35.23,2, -69.4891,-150.0009,-999.000,     -999.0,    34.7189,2,     -999.0,9,     -999.0,9,-999.0000,9,-999.0000,9,-999.0000,9,-999.0000,9,-999.0000,9,-999.0000,9,-999.0000,9,-999.0000,9,-999.0000,9,-999.0000,-999.000,   0.9320,     -999.0,     -999.0,9,     -999.0,9,     -999.0,9,     -999.0,9,     -999.0,20110312,       1938
320620110219,       P16S,      50,          1,         29,         29,2,20110312,       1754,   -69.4891,  -150.0009,       4359,   234.9,   1.4947,  34.6822,2,  34.6813,2,    185.2,2,   185.1,2,   88.47,2,   32.64,2,    0.00,2,    2.23,2,   0.623,6,   0.329,6,   0.046,6,   0.1440,6,  2252.2,2,  2344.1,2,   7.5654,4,    25.00,-999.000,9,-999.0000,9,-999.000,9,   1.4943,2, -999.00,9,  -999.0,9,  -999.0,-999.000,9, -999.00,9,-999.000,9,   41.19,2,   35.33,2, -69.4891,-150.0009,-999.000,     -999.0,    34.8448,2,     -999.0,9,     -999.0,9,-999.0000,9,-999.0000,9,-999.0000,9,-999.0000,9,-999.0000,9,-999.0000,9,-999.0000,9,-999.0000,9,-999.0000,9,-999.0000,-999.000,   1.4830,     -999.0,     -999.0,9,     -999.0,9,     -999.0,9,     -999.0,9,     -999.0,20110312,       1936
320620110219,       P16S,      50,          1,         28,         28,2,20110312,       1754,   -69.4891,  -150.0009,       4359,   283.1,   1.5589,  34.7134,2,  34.7140,2,    183.6,2,   184.2,2,   91.79,2,   32.26,2,    0.00,2,    2.21,2,   0.390,2,   0.200,2,   0.026,2,   0.0990,2,  2253.7,2,  2346.6,2,   7.5738,4,    25.00,-999.000,9,-999.0000,9,-999.000,9,   1.5597,2, -999.00,9,  -999.0,9,  -999.0,-999.000,9, -999.00,9,-999.000,9,   41.07,2,   35.00,2, -69.4891,-150.0009,-999.000,     -999.0,    34.8777,2,     -999.0,9,     -999.0,9,-999.0000,9,-999.0000,9,-999.0000,9,-999.0000,9,-999.0000,9,-999.0000,9,-999.0000,9,-999.0000,9,-999.0000,9,-999.0000,-999.000,   1.5445,     -999.0,     -999.0,9,     -999.0,9,     -999.0,9,     -999.0,9,     -999.0,20110312,       1934
320620110219,       P16S,      50,          1,         27,         27,2,20110312,       1754,   -69.4891,  -150.0009,       4359,   334.9,   1.5143,  34.7229,2,  34.7232,2,    184.2,2,   184.6,2,   94.34,2,   32.12,2,    0.00,2,    2.21,2,   0.321,2,   0.171,2,   0.022,2,   0.1040,2,  2254.4,2,  2349.3,2,   7.5772,2,    25.00,-999.000,9,-999.0000,9,-999.000,9,   1.5145,2, -999.00,9,  -999.0,9,  -999.0,-999.000,9, -999.00,9,-999.000,9,   40.74,2,   34.75,2, -69.4891,-150.0009,-999.000,     -999.0,    34.8870,2,     -999.0,9,     -999.0,9,-999.0000,9,-999.0000,9,-999.0000,9,-999.0000,9,-999.0000,9,-999.0000,9,-999.0000,9,-999.0000,9,-999.0000,9,-999.0000,-999.000,   1.4972,     -999.0,     -999.0,9,     -999.0,9,     -999.0,9,     -999.0,9,     -999.0,20110312,       1933
320620110219,       P16S,      50,          1,         26,         26,2,20110312,       1754,   -69.4891,  -150.0009,       4359,   384.6,   1.4617,  34.7265,2,  34.7270,2,    184.1,2,   183.8,2,   96.62,2,   32.30,2,    0.00,2,    2.22,2,   0.271,2,   0.135,2,   0.019,2,   0.0980,2,  2255.8,2,  2349.5,2,   7.5733,4,    25.00,-999.000,9,-999.0000,9,-999.000,9,   1.4616,2, -999.00,9,  -999.0,9,  -999.0,-999.000,9, -999.00,9,-999.000,9,   40.78,2,   34.79,2, -69.4891,-150.0009,-999.000,     -999.0,    34.8907,2,     -999.0,9,     -999.0,9,-999.0000,9,-999.0000,9,-999.0000,9,-999.0000,9,-999.0000,9,-999.0000,9,-999.0000,9,-999.0000,9,-999.0000,9,-999.0000,-999.000,   1.4421,     -999.0,     -999.0,9,     -999.0,9,     -999.0,9,     -999.0,9,     -999.0,20110312,       1931
320620110219,       P16S,      50,          1,         25,         25,2,20110312,       1754,   -69.4891,  -150.0009,       4359,   435.4,   1.4135,  34.7287,2,  34.7301,2,    184.5,2,   184.1,2,   99.10,2,   32.38,2,    0.00,2,    2.22,2,-999.000,9,-999.000,9,-999.000,9,-999.0000,9,  2256.2,2,  2350.6,2,   7.5774,6,    25.00,-999.000,9,-999.0000,9,-999.000,9,   1.4136,2, -999.00,9,  -999.0,9,  -999.0,-999.000,9, -999.00,9,-999.000,9,   40.77,2,   34.87,2, -69.4891,-150.0009,-999.000,     -999.0,    34.8939,2,     -999.0,9,     -999.0,9,-999.0000,9,-999.0000,9,-999.0000,9,-999.0000,9,-999.0000,9,-999.0000,9,-999.0000,9,-999.0000,9,-999.0000,9,-999.0000,-999.000,   1.3913,     -999.0,     -999.0,9,     -999.0,9,     -999.0,9,     -999.0,9,     -999.0,20110312,       1929
320620110219,       P16S,      50,          1,         24,         24,2,20110312,       1754,   -69.4891,  -150.0009,       4359,   485.3,   1.3800,  34.7295,2,  34.7295,2,    184.3,2,   184.1,2,  100.70,2,   32.48,2,    0.00,2,    2.23,2,   0.204,2,   0.103,2,   0.012,2,   0.0630,2,  2259.3,6,  2352.6,2,   7.5738,2,    25.00,-999.000,9,-999.0000,9,-999.000,9,   1.3799,2, -999.00,9,  -999.0,9,  -999.0,-999.000,9, -999.00,9,-999.000,9,   40.17,2,   34.68,2, -69.4891,-150.0009,-999.000,     -999.0,    34.8933,2,     -999.0,9,     -999.0,9,-999.0000,9,-999.0000,9,-999.0000,9,-999.0000,9,-999.0000,9,-999.0000,9,-999.0000,9,-999.0000,9,-999.0000,9,-999.0000,-999.000,   1.3552,     -999.0,     -999.0,9,     -999.0,9,     -999.0,9,     -999.0,9,     -999.0,20110312,       1927
320620110219,       P16S,      50,          1,         23,         23,2,20110312,       1754,   -69.4891,  -150.0009,       4359,   564.8,   1.3099,  34.7293,2,  34.7301,2,    184.5,2,   184.1,2,  104.24,2,   32.58,2,    0.00,2,    2.23,2,-999.000,9,-999.000,9,-999.000,9,-999.0000,9,  2258.2,2,  2353.8,6,   7.5742,4,    25.00,-999.000,9,-999.0000,9,-999.000,9,   1.3084,2, -999.00,9,  -999.0,9,  -999.0,-999.000,9, -999.00,9,-999.000,9,   40.41,2,   35.27,2, -69.4891,-150.0009,-999.000,     -999.0,    34.8938,2,     -999.0,9,     -999.0,9,-999.0000,9,-999.0000,9,-999.0000,9,-999.0000,9,-999.0000,9,-999.0000,9,-999.0000,9,-999.0000,9,-999.0000,9,-999.0000,-999.000,   1.2810,     -999.0,     -999.0,9,     -999.0,9,     -999.0,9,     -999.0,9,     -999.0,20110312,       1925
320620110219,       P16S,      50,          1,         22,         22,2,20110312,       1754,   -69.4891,  -150.0009,       4359,   664.8,   1.2458,  34.7284,2,  34.7285,2,    185.6,2,   185.2,2,  106.13,2,   32.51,2,    0.00,2,    2.23,2,   0.140,2,   0.071,2,   0.009,2,   0.0560,2,  -999.0,9,  -999.0,9,-999.0000,9,  -999.00,-999.000,9,-999.0000,9,-999.000,9,   1.2457,2, -999.00,9,  -999.0,9,  -999.0,-999.000,9, -999.00,9,-999.000,9,   40.16,2,   35.33,2, -69.4891,-150.0009,-999.000,     -999.0,    34.8923,2,     -999.0,9,     -999.0,9,-999.0000,9,-999.0000,9,-999.0000,9,-999.0000,9,-999.0000,9,-999.0000,9,-999.0000,9,-999.0000,9,-999.0000,9,-999.0000,-999.000,   1.2115,     -999.0,     -999.0,9,     -999.0,9,     -999.0,9,     -999.0,9,     -999.0,20110312,       1922
320620110219,       P16S,      50,          1,         21,         21,2,20110312,       1754,   -69.4891,  -150.0009,       4359,   764.4,   1.1702,  34.7265,2,  34.7283,2,    189.1,2,   188.7,2,  108.15,2,   32.36,2,    0.00,2,    2.23,2,-999.000,9,-999.000,9,-999.000,9,-999.0000,9,  -999.0,9,  -999.0,9,-999.0000,9,  -999.00,-999.000,9,-999.0000,9,-999.000,9,   1.1702,2, -999.00,9,  -999.0,9,  -999.0,-999.000,9, -999.00,9,-999.000,9,   40.08,2,   34.88,2, -69.4891,-150.0009,-999.000,     -999.0,    34.8921,2,     -999.0,9,     -999.0,9,-999.0000,9,-999.0000,9,-999.0000,9,-999.0000,9,-999.0000,9,-999.0000,9,-999.0000,9,-999.0000,9,-999.0000,9,-999.0000,-999.000,   1.1306,     -999.0,     -999.0,9,     -999.0,9,     -999.0,9,     -999.0,9,     -999.0,20110312,       1919
320620110219,       P16S,      50,          1,         20,         20,2,20110312,       1754,   -69.4891,  -150.0009,       4359,   865.4,   1.1081,  34.7243,2,  34.7244,2,    191.0,2,   190.7,2,  109.99,2,   32.32,2,    0.00,2,    2.23,2,   0.117,2,   0.060,2,   0.007,2,   0.0520,2,  2258.5,2,  2356.2,2,   7.5828,4,    25.00,-999.000,9,-999.0000,9,-999.000,9,   1.1078,2, -999.00,9,  -999.0,9,  -999.0,-999.000,9, -999.00,9,-999.000,9,   39.80,2,   34.87,2, -69.4891,-150.0009,-999.000,     -999.0,    34.8881,2,     -999.0,9,     -999.0,9,-999.0000,9,-999.0000,9,-999.0000,9,-999.0000,9,-999.0000,9,-999.0000,9,-999.0000,9,-999.0000,9,-999.0000,9,-999.0000,-999.000,   1.0630,     -999.0,     -999.0,9,     -999.0,9,     -999.0,9,     -999.0,9,     -999.0,20110312,       1917
320620110219,       P16S,      50,          1,         19,         19,2,20110312,       1754,   -69.4891,  -150.0009,       4359,   964.6,   1.0459,  34.7221,2,  34.7234,2,    193.5,2,   193.7,2,  111.91,2,   32.29,2,    0.00,2,    2.23,2,-999.000,9,-999.000,9,-999.000,9,-999.0000,9,  -999.0,9,  -999.0,9,-999.0000,9,  -999.00,-999.000,9,-999.0000,9,-999.000,9,   1.0455,2, -999.00,9,  -999.0,9,  -999.0,-999.000,9, -999.00,9,-999.000,9,   39.42,2,   34.83,2, -69.4891,-150.0009,-999.000,     -999.0,    34.8871,2,     -999.0,9,     -999.0,9,-999.0000,9,-999.0000,9,-999.0000,9,-999.0000,9,-999.0000,9,-999.0000,9,-999.0000,9,-999.0000,9,-999.0000,9,-999.0000,-999.000,   0.9953,     -999.0,     -999.0,9,     -999.0,9,     -999.0,9,     -999.0,9,     -999.0,20110312,       1914
320620110219,       P16S,      50,          1,         18,         18,2,20110312,       1754,   -69.4891,  -150.0009,       4359,  1063.8,   0.9859,  34.7198,2,  34.7204,2,    196.1,2,   195.5,2,  113.58,2,   32.25,2,    0.00,2,    2.22,2,   0.109,2,   0.056,2,   0.007,2,   0.0420,2,  -999.0,9,  -999.0,9,-999.0000,9,  -999.00,-999.000,9,-999.0000,9,-999.000,9,   0.9858,2, -999.00,9,  -999.0,9,  -999.0,-999.000,9, -999.00,9,-999.000,9,   39.48,2,   34.78,2, -69.4891,-150.0009,-999.000,     -999.0,    34.8841,2,     -999.0,9,     -999.0,9,-999.0000,9,-999.0000,9,-999.0000,9,-999.0000,9,-999.0000,9,-999.0000,9,-999.0000,9,-999.0000,9,-999.0000,9,-999.0000,-999.000,   0.9297,     -999.0,     -999.0,9,     -999.0,9,     -999.0,9,     -999.0,9,     -999.0,20110312,       1911
320620110219,       P16S,      50,          1,         17,         17,2,20110312,       1754,   -69.4891,  -150.0009,       4359,  1164.7,   0.9288,  34.7175,2,  34.7179,2,    197.8,2,   197.2,2,  115.39,2,   32.23,2,    0.00,2,    2.22,2,-999.000,9,-999.000,9,-999.000,9,-999.0000,9,  -999.0,9,  -999.0,9,-999.0000,9,  -999.00,-999.000,9,-999.0000,9,-999.000,9,   0.9286,2, -999.00,9,  -999.0,9,  -999.0,-999.000,9, -999.00,9,-999.000,9,   39.48,2,   34.75,2, -69.4891,-150.0009,-999.000,     -999.0,    34.8816,2,     -999.0,9,     -999.0,9,-999.0000,9,-999.0000,9,-999.0000,9,-999.0000,9,-999.0000,9,-999.0000,9,-999.0000,9,-999.0000,9,-999.0000,9,-999.0000,-999.000,   0.8668,     -999.0,     -999.0,9,     -999.0,9,     -999.0,9,     -999.0,9,     -999.0,20110312,       1909
320620110219,       P16S,      50,          1,         16,         16,2,20110312,       1754,   -69.4891,  -150.0009,       4359,  1264.4,   0.8749,  34.7154,2,  34.7163,2,    199.1,2,   199.1,2,  117.11,2,   32.22,2,    0.00,2,    2.22,2,   0.109,2,   0.050,2,   0.005,2,   0.0410,2,  2260.2,2,  2359.3,2,   7.5932,2,    25.00,-999.000,9,-999.0000,9,-999.000,9,   0.8749,2, -999.00,9,  -999.0,9,  -999.0,-999.000,9, -999.00,9,-999.000,9,   39.10,2,   35.00,2, -69.4891,-150.0009,-999.000,     -999.0,    34.8800,2,     -999.0,9,     -999.0,9,-999.0000,9,-999.0000,9,-999.0000,9,-999.0000,9,-999.0000,9,-999.0000,9,-999.0000,9,-999.0000,9,-999.0000,9,-999.0000,-999.000,   0.8071,     -999.0,     -999.0,9,     -999.0,9,     -999.0,9,     -999.0,9,     -999.0,20110312,       1906
320620110219,       P16S,      50,          1,         15,         15,2,20110312,       1754,   -69.4891,  -150.0009,       4359,  1365.3,   0.8289,  34.7134,2,  34.7149,2,    200.1,2,   200.5,2,  117.97,2,   32.28,2,    0.00,2,    2.22,2,-999.000,9,-999.000,9,-999.000,9,-999.0000,9,  -999.0,9,  -999.0,9,-999.0000,9,  -999.00,-999.000,9,-999.0000,9,-999.000,9,   0.8288,2, -999.00,9,  -999.0,9,  -999.0,-999.000,9, -999.00,9,-999.000,9,   39.33,2,   35.14,2, -69.4891,-150.0009,-999.000,     -999.0,    34.8786,2,     -999.0,9,     -999.0,9,-999.0000,9,-999.0000,9,-999.0000,9,-999.0000,9,-999.0000,9,-999.0000,9,-999.0000,9,-999.0000,9,-999.0000,9,-999.0000,-999.000,   0.7550,     -999.0,     -999.0,9,     -999.0,9,     -999.0,9,     -999.0,9,     -999.0,20110312,       1903
320620110219,       P16S,      50,          1,         14,         14,2,20110312,       1754,   -69.4891,  -150.0009,       4359,  1464.7,   0.7865,  34.7118,2,  34.7118,2,    201.0,2,   200.5,2,  119.75,2,   32.11,2,    0.00,2,    2.22,2,   0.095,2,   0.048,2,   0.005,2,   0.0420,2,  -999.0,9,  -999.0,9,-999.0000,9,  -999.00,-999.000,9,-999.0000,9,-999.000,9,   0.7866,2, -999.00,9,  -999.0,9,  -999.0,-999.000,9, -999.00,9,-999.000,9,   38.97,2,   34.60,2, -69.4891,-150.0008,-999.000,     -999.0,    34.8755,2,     -999.0,9,     -999.0,9,-999.0000,9,-999.0000,9,-999.0000,9,-999.0000,9,-999.0000,9,-999.0000,9,-999.0000,9,-999.0000,9,-999.0000,9,-999.0000,-999.000,   0.7065,     -999.0,     -999.0,9,     -999.0,9,     -999.0,9,     -999.0,9,     -999.0,20110312,       1900