BOTTLE,20220813CCHSIOAMB
EXPOCODE,SECT_ID,STNNBR,CASTNO,SAMPNO,BTLNBR,BTLNBR_FLAG_W,DATE,TIME,LATITUDE,LONGITUDE,DEPTH,CTDPRS,CTDTMP,CTDSAL,CTDSAL_FLAG_W,SALNTY,SALNTY_FLAG_W,CTDOXY,CTDOXY_FLAG_W,OXYGEN,OXYGEN_FLAG_W,SILCAT,SILCAT_FLAG_W,NITRAT,NITRAT_FLAG_W,NITRIT,NITRIT_FLAG_W,PHSPHT,PHSPHT_FLAG_W,CFC-11,CFC-11_FLAG_W,CFC-12,CFC-12_FLAG_W,CFC113,CFC113_FLAG_W,SF6,SF6_FLAG_W,TCARBN,TCARBN_FLAG_W,ALKALI,ALKALI_FLAG_W,PH_TOT,PH_TOT_FLAG_W,PH_TMP,TRITUM,TRITUM_FLAG_W,HELIUM,HELIUM_FLAG_W,DELHE3,DELHE3_FLAG_W,REFTMP,REFTMP_FLAG_W,DELC13,DELC13_FLAG_W,DELC14,DELC14_FLAG_W,C14ERR,NEON,NEON_FLAG_W,DELO18,DELO18_FLAG_W,POC,POC_FLAG_W,DOC,DOC_FLAG_W,TDN,TDN_FLAG_W,BTL_LAT,BTL_LON,TRITER,NEONER,SALTREF,SALTREF_FLAG_W,PIGMENTS,PIGMENTS_FLAG_W,LAB_DEN,LAB_DEN_FLAG_W,CDOM325,CDOM325_FLAG_W,CDOM340,CDOM340_FLAG_W,CDOM380,CDOM380_FLAG_W,CDOM412,CDOM412_FLAG_W,CDOM443,CDOM443_FLAG_W,CDOM490,CDOM490_FLAG_W,CDOM555,CDOM555_FLAG_W,CDOMSL,CDOMSL_FLAG_W,CDOMSN,CDOMSN_FLAG_W,HELIER,DELHER,THETA,LDEO_SAMPNO,ABSORBTION,ABSORBTION_FLAG_W,IMAGE_COUNT,IMAGE_COUNT_FLAG_W,CYTO_COUNT,CYTO_COUNT_FLAG_W,DELD,DELD_FLAG_W,DELDERR,BTL_DATE,BTL_TIME
,,,,,,,,,,,METERS,DBAR,ITS-90,PSS-78,,PSS-78,,UMOL/KG,,UMOL/KG,,UMOL/KG,,UMOL/KG,,UMOL/KG,,UMOL/KG,,PMOL/KG,,PMOL/KG,,PMOL/KG,,FMOL/KG,,UMOL/KG,,UMOL/KG,,,,DEG C,TU,,NMOL/KG,,PERCNT,,DEG C,,/MILLE,,/MILLE,,/MILLE,NMOL/KG,,/MILLE,,UG/KG,,UMOL/KG,,UMOL/KG,,,,TU,NMOL/KG,G/KG,,,,,,1/M,,1/M,,1/M,,1/M,,1/M,,1/M,,1/M,,1/NM,,1/NM,,NMOL/KG,PERCNT,DEG C,,,,,,,,/MILLE,,/MILLE,,
320620110219,       S04P,     120,          1,         13,         13,2,20110413,       1103,   -67.0001,   -99.4874,       4690,  1864.8,   1.2922,  34.7268,2,  34.7265,2,    196.4,2,   196.6,2,  103.54,2,   31.60,2,    0.00,2,    2.18,2,   0.141,2,   0.061,2,   0.006,2,-999.0000,9,  -999.0,9,  -999.0,9,-999.0000,9,  -999.00,-999.000,9,-999.0000,9,-999.000,9,   1.2922,2, -999.00,9,  -999.0,9,  -999.0,-999.000,9, -999.00,9,-999.000,9,   39.61,2,   34.34,2, -67.0001, -99.4874,-999.000,     -999.0,    34.8903,2,     -999.0,9,     -999.0,9,-999.0000,9,-999.0000,9,-999.0000,9,-999.0000,9,-999.0000,9,-999.0000,9,-999.0000,9,-999.0000,9,-999.0000,9,-999.0000,-999.000,   1.1768,     -999.0,     -999.0,9,     -999.0,9,     -999.0,9,     -999.0,9,     -999.0,20110413,       1203
320620110219,       S04P,     120,          1,         12,         12,2,20110413,       1103,   -67.0001,   -99.4874,       4690,  2084.9,   1.1648,  34.7229,2,  34.7228,2,    198.4,2,   198.2,2,  106.32,2,   31.74,2,    0.00,2,    2.19,2,-999.000,9,-999.000,9,-999.000,9,-999.0000,9,  2257.6,2,  2361.1,2,   7.6027,2,    25.00,-999.000,9,-999.0000,9,-999.000,9,   1.1649,2, -999.00,9,  -999.0,9,  -999.0,-999.000,9, -999.00,9,-999.000,9,   39.64,2,   34.45,2, -67.0001, -99.4874,-999.000,     -999.0,    34.8865,2,     -999.0,9,     -999.0,9,-999.0000,9,-999.0000,9,-999.0000,9,-999.0000,9,-999.0000,9,-999.0000,9,-999.0000,9,-999.0000,9,-999.0000,9,-999.0000,-999.000,   1.0341,     -999.0,     -999.0,9,     -999.0,9,     -999.0,9,     -999.0,9,     -999.0,20110413,       1158
320620110219,       S04P,     120,          1,         11,         11,2,20110413,       1103,   -67.0001,   -99.4874,       4690,  2335.0,   1.0397,  34.7184,2,  34.7183,2,    200.3,2,   201.3,2,  112.22,2,   31.97,2,    0.00,2,    2.20,2,   0.127,2,   0.058,2,   0.006,2,-999.0000,9,  -999.0,9,  -999.0,9,-999.0000,9,  -999.00,-999.000,9,-999.0000,9,-999.000,9,   1.0405,2, -999.00,9,  -999.0,9,  -999.0,-999.000,9, -999.00,9,-999.000,9,   39.32,2,   34.42,2, -67.0001, -99.4874,-999.000,     -999.0,    34.8820,2,     -999.0,9,     -999.0,9,-999.0000,9,-999.0000,9,-999.0000,9,-999.0000,9,-999.0000,9,-999.0000,9,-999.0000,9,-999.0000,9,-999.0000,9,-999.0000,-999.000,   0.8909,     -999.0,     -999.0,9,     -999.0,9,     -999.0,9,     -999.0,9,     -999.0,20110413,       1153
320620110219,       S04P,     120,          1,         10,         37,2,20110413,       1103,   -67.0001,   -99.4874,       4690,  2585.3,   0.9299,  34.7143,2,  34.7138,2,    202.4,2,   202.5,2,  116.25,2,   32.10,2,    0.00,2,    2.20,2,-999.000,9,-999.000,9,-999.000,9,-999.0000,9,  2258.8,2,  2369.2,4,   7.6015,2,    25.00,-999.000,9,-999.0000,9,-999.000,9,   0.9297,2, -999.00,9,  -999.0,9,  -999.0,-999.000,9, -999.00,9,-999.000,9,   39.23,2,   34.26,2, -67.0001, -99.4874,-999.000,     -999.0,    34.8775,2,     -999.0,9,     -999.0,9,-999.0000,9,-999.0000,9,-999.0000,9,-999.0000,9,-999.0000,9,-999.0000,9,-999.0000,9,-999.0000,9,-999.0000,9,-999.0000,-999.000,   0.7622,     -999.0,     -999.0,9,     -999.0,9,     -999.0,9,     -999.0,9,     -999.0,20110413,       1148
320620110219,       S04P,     120,          1,          9,          9,2,20110413,       1103,   -67.0001,   -99.4874,       4690,  2833.8,   0.8291,  34.7104,2,  34.7103,2,    204.4,2,   204.7,2,  119.80,2,   32.28,2,    0.00,2,    2.22,2,   0.175,2,   0.080,2,   0.008,2,-999.0000,9,  -999.0,9,  -999.0,9,-999.0000,9,  -999.00,-999.000,9,-999.0000,9,-999.000,9,   0.8293,2, -999.00,9,  -999.0,9,  -999.0,-999.000,9, -999.00,9,-999.000,9,   39.60,2,   34.47,2, -67.0001, -99.4873,-999.000,     -999.0,    34.8739,2,     -999.0,9,     -999.0,9,-999.0000,9,-999.0000,9,-999.0000,9,-999.0000,9,-999.0000,9,-999.0000,9,-999.0000,9,-999.0000,9,-999.0000,9,-999.0000,-999.000,   0.6418,     -999.0,     -999.0,9,     -999.0,9,     -999.0,9,     -999.0,9,     -999.0,20110413,       1143
320620110219,       S04P,     120,          1,          8,          8,2,20110413,       1103,   -67.0001,   -99.4874,       4690,  3100.8,   0.7294,  34.7076,2,  34.7067,2,    206.1,2,   206.3,2,  123.01,2,   32.32,2,    0.00,2,    2.23,2,-999.000,9,-999.000,9,-999.000,9,-999.0000,9,  2258.5,2,  2363.3,2,   7.5968,2,    25.00,-999.000,9,-999.0000,9,-999.000,9,   0.7299,2, -999.00,9,  -999.0,9,  -999.0,-999.000,9, -999.00,9,-999.000,9,   39.76,2,   34.55,2, -67.0001, -99.4874,-999.000,     -999.0,    34.8704,2,     -999.0,9,     -999.0,9,-999.0000,9,-999.0000,9,-999.0000,9,-999.0000,9,-999.0000,9,-999.0000,9,-999.0000,9,-999.0000,9,-999.0000,9,-999.0000,-999.000,   0.5203,     -999.0,     -999.0,9,     -999.0,9,     -999.0,9,     -999.0,9,     -999.0,20110413,       1138
320620110219,       S04P,     120,          1,          7,          7,2,20110413,       1103,   -67.0001,   -99.4874,       4690,  3400.9,   0.6105,  34.7055,2,  34.7050,2,    208.8,2,   209.0,2,  125.58,2,   32.38,2,    0.00,2,    2.23,2,   0.221,2,   0.102,2,   0.010,2,-999.0000,9,  -999.0,9,  -999.0,9,-999.0000,9,  -999.00,-999.000,9,-999.0000,9,-999.000,9,   0.6115,2, -999.00,9,  -999.0,9,  -999.0,-999.000,9, -999.00,9,-999.000,9,   40.00,2,   34.78,2, -67.0001, -99.4874,-999.000,     -999.0,    34.8686,2,     -999.0,9,     -999.0,9,-999.0000,9,-999.0000,9,-999.0000,9,-999.0000,9,-999.0000,9,-999.0000,9,-999.0000,9,-999.0000,9,-999.0000,9,-999.0000,-999.000,   0.3762,     -999.0,     -999.0,9,     -999.0,9,     -999.0,9,     -999.0,9,     -999.0,20110413,       1132
320620110219,       S04P,     120,          1,          6,          6,2,20110413,       1103,   -67.0001,   -99.4874,       4690,  3698.6,   0.5126,  34.7039,2,  34.7034,2,    210.8,2,   211.2,2,  127.74,2,   32.43,2,    0.00,2,    2.24,2,-999.000,9,-999.000,9,-999.000,9,-999.0000,9,  2261.1,2,  2368.8,4,   7.5976,2,    25.00,-999.000,9,-999.0000,9,-999.000,9,   0.5125,2, -999.00,9,  -999.0,9,  -999.0,-999.000,9, -999.00,9,-999.000,9,   39.65,2,   35.13,2, -67.0001, -99.4874,-999.000,     -999.0,    34.8671,2,     -999.0,9,     -999.0,9,-999.0000,9,-999.0000,9,-999.0000,9,-999.0000,9,-999.0000,9,-999.0000,9,-999.0000,9,-999.0000,9,-999.0000,9,-999.0000,-999.000,   0.2520,     -999.0,     -999.0,9,     -999.0,9,     -999.0,9,     -999.0,9,     -999.0,20110413,       1126
320620110219,       S04P,     120,          1,          5,          5,2,20110413,       1103,   -67.0001,   -99.4874,       4690,  3999.8,   0.4531,  34.7034,2,  34.7028,2,    212.6,2,   213.0,2,  131.14,2,   32.41,2,    0.00,2,    2.23,2,   0.236,2,   0.107,2,   0.009,2,-999.0000,9,  -999.0,9,  -999.0,9,-999.0000,9,  -999.00,-999.000,9,-999.0000,9,-999.000,9,   0.4529,2, -999.00,9,  -999.0,9,  -999.0,-999.000,9, -999.00,9,-999.000,9,   39.26,2,   34.91,2, -67.0001, -99.4874,-999.000,     -999.0,    34.8665,2,     -999.0,9,     -999.0,9,-999.0000,9,-999.0000,9,-999.0000,9,-999.0000,9,-999.0000,9,-999.0000,9,-999.0000,9,-999.0000,9,-999.0000,9,-999.0000,-999.000,   0.1638,     -999.0,     -999.0,9,     -999.0,9,     -999.0,9,     -999.0,9,     -999.0,20110413,       1120
320620110219,       S04P,     120,          1,          4,          4,2,20110413,       1103,   -67.0001,   -99.4874,       4690,  4300.0,   0.4320,  34.7027,2,  34.7017,2,    213.6,2,   213.9,2,  134.88,2,   32.43,2,    0.00,2,    2.24,2,   0.296,2,   0.143,2,   0.020,2,-999.0000,9,  2262.5,2,  2367.1,4,   7.5987,4,    25.00,-999.000,9,-999.0000,9,-999.000,9,   0.4324,2, -999.00,9,  -999.0,9,  -999.0,-999.000,9, -999.00,9,-999.000,9,   39.41,2,   34.59,2, -67.0001, -99.4873,-999.000,     -999.0,    34.8653,2,     -999.0,9,     -999.0,9,-999.0000,9,-999.0000,9,-999.0000,9,-999.0000,9,-999.0000,9,-999.0000,9,-999.0000,9,-999.0000,9,-999.0000,9,-999.0000,-999.000,   0.1119,     -999.0,     -999.0,9,     -999.0,9,     -999.0,9,     -999.0,9,     -999.0,20110413,       1115
320620110219,       S04P,     120,          1,          3,          3,2,20110413,       1103,   -67.0001,   -99.4874,       4690,  4599.9,   0.4168,  34.7019,2,  34.7011,2,    214.4,2,   214.2,2,  140.24,2,   32.56,2,    0.00,2,    2.24,2,   0.357,2,   0.162,2,   0.014,2,-999.0000,9,  2261.9,2,  2363.6,2,   7.5980,2,    25.00,-999.000,9,-999.0000,9,-999.000,9,   0.4166,2, -999.00,9,  -999.0,9,  -999.0,-999.000,9, -999.00,9,-999.000,9,   40.56,2,   34.82,2, -67.0000, -99.4874,-999.000,     -999.0,    34.8647,2,     -999.0,9,     -999.0,9,-999.0000,9,-999.0000,9,-999.0000,9,-999.0000,9,-999.0000,9,-999.0000,9,-999.0000,9,-999.0000,9,-999.0000,9,-999.0000,-999.000,   0.0646,     -999.0,     -999.0,9,     -999.0,9,     -999.0,9,     -999.0,9,     -999.0,20110413,       1109
320620110219,       S04P,     120,          1,          2,          2,2,20110413,       1103,   -67.0001,   -99.4874,       4690,  4699.6,   0.4110,  34.7014,2,  34.7011,2,    213.7,2,   213.7,2,  143.27,2,   32.68,2,    0.00,2,    2.24,2,   0.383,2,   0.147,2,   0.020,2,-999.0000,9,  2264.0,6,  2376.1,4,   7.5977,2,    25.00,-999.000,9,-999.0000,9,-999.000,9,   0.4109,2, -999.00,9,  -999.0,9,  -999.0,-999.000,9, -999.00,9,-999.000,9,   40.31,2,   34.84,2, -67.0001, -99.4873,-999.000,     -999.0,    34.8647,2,     -999.0,9,     -999.0,9,-999.0000,9,-999.0000,9,-999.0000,9,-999.0000,9,-999.0000,9,-999.0000,9,-999.0000,9,-999.0000,9,-999.0000,9,-999.0000,-999.000,   0.0479,     -999.0,     -999.0,9,     -999.0,9,     -999.0,9,     -999.0,9,     -999.0,20110413,       1106
320620110219,       S04P,     120,          1,          1,          1,2,20110413,       1103,   -67.0001,   -99.4874,       4690,  4779.2,   0.4124,  34.7010,2,  34.7007,2,    213.5,2,   213.9,2,  144.86,2,   32.70,2,    0.00,2,    2.24,2,   0.448,2,   0.208,2,   0.026,2,-999.0000,9,  2262.7,2,  2364.2,2,   7.5945,6,    25.00,-999.000,9,-999.0000,9,-999.000,9,   0.4122,2, -999.00,9,  -999.0,9,  -999.0,-999.000,9, -999.00,9,-999.000,9,   40.37,2,   34.73,2, -67.0001, -99.4874,-999.000,     -999.0,    34.8644,2,     -999.0,9,     -999.0,9,-999.0000,9,-999.0000,9,-999.0000,9,-999.0000,9,-999.0000,9,-999.0000,9,-999.0000,9,-999.0000,9,-999.0000,9,-999.0000,-999.000,   0.0403,     -999.0,     -999.0,9,     -999.0,9,     -999.0,9,     -999.0,9,     -999.0,20110413,       1103