BOTTLE,20220813CCHSIOAMB
EXPOCODE,SECT_ID,STNNBR,CASTNO,SAMPNO,BTLNBR,BTLNBR_FLAG_W,DATE,TIME,LATITUDE,LONGITUDE,DEPTH,CTDPRS,CTDTMP,CTDSAL,CTDSAL_FLAG_W,SALNTY,SALNTY_FLAG_W,CTDOXY,CTDOXY_FLAG_W,OXYGEN,OXYGEN_FLAG_W,SILCAT,SILCAT_FLAG_W,NITRAT,NITRAT_FLAG_W,NITRIT,NITRIT_FLAG_W,PHSPHT,PHSPHT_FLAG_W,CFC-11,CFC-11_FLAG_W,CFC-12,CFC-12_FLAG_W,CFC113,CFC113_FLAG_W,SF6,SF6_FLAG_W,TCARBN,TCARBN_FLAG_W,ALKALI,ALKALI_FLAG_W,PH_TOT,PH_TOT_FLAG_W,PH_TMP,TRITUM,TRITUM_FLAG_W,HELIUM,HELIUM_FLAG_W,DELHE3,DELHE3_FLAG_W,REFTMP,REFTMP_FLAG_W,DELC13,DELC13_FLAG_W,DELC14,DELC14_FLAG_W,C14ERR,NEON,NEON_FLAG_W,DELO18,DELO18_FLAG_W,POC,POC_FLAG_W,DOC,DOC_FLAG_W,TDN,TDN_FLAG_W,BTL_LAT,BTL_LON,TRITER,NEONER,SALTREF,SALTREF_FLAG_W,PIGMENTS,PIGMENTS_FLAG_W,LAB_DEN,LAB_DEN_FLAG_W,CDOM325,CDOM325_FLAG_W,CDOM340,CDOM340_FLAG_W,CDOM380,CDOM380_FLAG_W,CDOM412,CDOM412_FLAG_W,CDOM443,CDOM443_FLAG_W,CDOM490,CDOM490_FLAG_W,CDOM555,CDOM555_FLAG_W,CDOMSL,CDOMSL_FLAG_W,CDOMSN,CDOMSN_FLAG_W,HELIER,DELHER,THETA,LDEO_SAMPNO,ABSORBTION,ABSORBTION_FLAG_W,IMAGE_COUNT,IMAGE_COUNT_FLAG_W,CYTO_COUNT,CYTO_COUNT_FLAG_W,DELD,DELD_FLAG_W,DELDERR,BTL_DATE,BTL_TIME
,,,,,,,,,,,METERS,DBAR,ITS-90,PSS-78,,PSS-78,,UMOL/KG,,UMOL/KG,,UMOL/KG,,UMOL/KG,,UMOL/KG,,UMOL/KG,,PMOL/KG,,PMOL/KG,,PMOL/KG,,FMOL/KG,,UMOL/KG,,UMOL/KG,,,,DEG C,TU,,NMOL/KG,,PERCNT,,DEG C,,/MILLE,,/MILLE,,/MILLE,NMOL/KG,,/MILLE,,UG/KG,,UMOL/KG,,UMOL/KG,,,,TU,NMOL/KG,G/KG,,,,,,1/M,,1/M,,1/M,,1/M,,1/M,,1/M,,1/M,,1/NM,,1/NM,,NMOL/KG,PERCNT,DEG C,,,,,,,,/MILLE,,/MILLE,,
320620110219,       P16S,      47,          1,         13,         13,2,20110311,       1910,   -67.9959,  -149.9988,       4246,  1566.0,   0.7215,  34.7093,2,  34.7091,2,    202.1,2,   202.7,2,  124.04,2,   31.90,2,    0.00,2,    2.24,2,-999.000,9,-999.000,9,-999.000,9,-999.0000,9,  -999.0,9,  -999.0,9,-999.0000,9,  -999.00,-999.000,9,-999.0000,9,-999.000,9,   0.7222,2, -999.00,9,  -999.0,9,  -999.0,-999.000,9, -999.00,9,-999.000,9, -999.00,9, -999.00,9, -67.9962,-149.9986,-999.000,     -999.0,    34.8728,2,     -999.0,9,     -999.0,9,   0.0578,3,   0.0194,3,  -0.0180,4,  -0.0225,4,  -0.0282,4,  -0.0221,4,  -0.0184,4,   0.1277,4,   0.0805,4,-999.0000,-999.000,   0.6354,     -999.0,     -999.0,9,     -999.0,9,     -999.0,9,     -999.0,9,     -999.0,20110311,       2011
320620110219,       P16S,      47,          1,         12,         12,2,20110311,       1910,   -67.9959,  -149.9988,       4246,  1735.8,   0.6684,  34.7077,2,  34.7071,2,    203.6,2,   203.6,2,  125.32,2,   31.94,2,    0.00,2,    2.24,2,   0.109,2,   0.055,2,   0.007,2,   0.0390,2,  2260.4,2,  2361.2,2,   7.5909,2,    25.00,-999.000,9,-999.0000,9,-999.000,9,   0.6686,2, -999.00,9,  -999.0,9,  -999.0,-999.000,9, -999.00,9,-999.000,9, -999.00,9, -999.00,9, -67.9962,-149.9986,-999.000,     -999.0,    34.8708,2,     -999.0,9,     -999.0,9,-999.0000,9,-999.0000,9,-999.0000,9,-999.0000,9,-999.0000,9,-999.0000,9,-999.0000,9,-999.0000,9,-999.0000,9,-999.0000,-999.000,   0.5713,     -999.0,     -999.0,9,     -999.0,9,     -999.0,9,     -999.0,9,     -999.0,20110311,       2007
320620110219,       P16S,      47,          1,         11,         11,2,20110311,       1910,   -67.9959,  -149.9988,       4246,  1933.9,   0.6006,  34.7060,2,  34.7050,2,    205.5,2,   205.1,2,  126.55,2,   32.04,2,    0.00,2,    2.24,2,-999.000,9,-999.000,9,-999.000,9,-999.0000,9,  -999.0,9,  -999.0,9,-999.0000,9,  -999.00,-999.000,9,-999.0000,9,-999.000,9,   0.6008,2, -999.00,9,  -999.0,9,  -999.0,-999.000,9, -999.00,9,-999.000,9, -999.00,9, -999.00,9, -67.9962,-149.9986,-999.000,     -999.0,    34.8686,2,     -999.0,9,     -999.0,9,-999.0000,9,-999.0000,9,-999.0000,9,-999.0000,9,-999.0000,9,-999.0000,9,-999.0000,9,-999.0000,9,-999.0000,9,-999.0000,-999.000,   0.4902,     -999.0,     -999.0,9,     -999.0,9,     -999.0,9,     -999.0,9,     -999.0,20110311,       2002
320620110219,       P16S,      47,          1,         10,         37,2,20110311,       1910,   -67.9959,  -149.9988,       4246,  2165.5,   0.5191,  34.7043,2,  34.7036,2,    207.4,2,   207.2,2,  127.88,2,   32.11,2,    0.00,2,    2.24,2,-999.000,9,-999.000,9,-999.000,9,-999.0000,9,  -999.0,9,  -999.0,9,-999.0000,9,  -999.00,-999.000,9,-999.0000,9,-999.000,9,   0.5200,2, -999.00,9,  -999.0,9,  -999.0,-999.000,9, -999.00,9,-999.000,9, -999.00,9, -999.00,9, -67.9962,-149.9986,-999.000,     -999.0,    34.8672,2,     -999.0,9,     -999.0,9,   0.0577,3,   0.0193,3,  -0.0181,4,  -0.0217,4,  -0.0276,4,  -0.0216,4,  -0.0183,4,   0.1093,4,   0.0801,4,-999.0000,-999.000,   0.3928,     -999.0,     -999.0,9,     -999.0,9,     -999.0,9,     -999.0,9,     -999.0,20110311,       1957
320620110219,       P16S,      47,          1,          9,          9,2,20110311,       1910,   -67.9959,  -149.9988,       4246,  2415.9,   0.4280,  34.7034,2,  34.7026,2,    209.5,2,   209.4,2,  130.06,2,   32.21,2,    0.00,2,    2.24,2,-999.000,9,-999.000,9,-999.000,9,-999.0000,9,  2260.0,2,  2361.1,2,   7.5935,2,    25.00,-999.000,9,-999.0000,9,-999.000,9,   0.4281,2, -999.00,9,  -999.0,9,  -999.0,-999.000,9, -999.00,9,-999.000,9, -999.00,9, -999.00,9, -67.9962,-149.9986,-999.000,     -999.0,    34.8662,2,     -999.0,9,     -999.0,9,-999.0000,9,-999.0000,9,-999.0000,9,-999.0000,9,-999.0000,9,-999.0000,9,-999.0000,9,-999.0000,9,-999.0000,9,-999.0000,-999.000,   0.2838,     -999.0,     -999.0,9,     -999.0,9,     -999.0,9,     -999.0,9,     -999.0,20110311,       1952
320620110219,       P16S,      47,          1,          8,          8,2,20110311,       1910,   -67.9959,  -149.9988,       4246,  2664.0,   0.3610,  34.7029,2,  34.7020,2,    211.4,2,   211.2,2,  132.38,2,   32.28,2,    0.00,2,    2.24,2,   0.140,2,   0.074,2,   0.009,2,   0.0640,2,  -999.0,9,  -999.0,9,-999.0000,9,  -999.00,-999.000,9,-999.0000,9,-999.000,9,   0.3611,2, -999.00,9,  -999.0,9,  -999.0,-999.000,9, -999.00,9,-999.000,9, -999.00,9, -999.00,9, -67.9961,-149.9987,-999.000,     -999.0,    34.8656,2,     -999.0,9,     -999.0,9,-999.0000,9,-999.0000,9,-999.0000,9,-999.0000,9,-999.0000,9,-999.0000,9,-999.0000,9,-999.0000,9,-999.0000,9,-999.0000,-999.000,   0.1980,     -999.0,     -999.0,9,     -999.0,9,     -999.0,9,     -999.0,9,     -999.0,20110311,       1946
320620110219,       P16S,      47,          1,          7,          7,2,20110311,       1910,   -67.9959,  -149.9988,       4246,  2914.4,   0.3048,  34.7021,2,  34.7018,2,    213.2,2,   212.9,2,  133.15,2,   32.30,2,    0.00,2,    2.24,2,-999.000,9,-999.000,9,-999.000,9,-999.0000,9,  2260.1,2,  2362.1,2,   7.5933,2,    25.00,-999.000,9,-999.0000,9,-999.000,9,   0.3047,2, -999.00,9,  -999.0,9,  -999.0,-999.000,9, -999.00,9,-999.000,9, -999.00,9, -999.00,9, -67.9960,-149.9987,-999.000,     -999.0,    34.8654,2,     -999.0,9,     -999.0,9,   0.0565,3,   0.0182,3,  -0.0189,4,  -0.0225,4,  -0.0283,4,  -0.0220,4,  -0.0185,4,   0.1276,4,   0.0827,4,-999.0000,-999.000,   0.1218,     -999.0,     -999.0,9,     -999.0,9,     -999.0,9,     -999.0,9,     -999.0,20110311,       1941
320620110219,       P16S,      47,          1,          6,          6,2,20110311,       1910,   -67.9959,  -149.9988,       4246,  3300.6,   0.2203,  34.6989,2,  34.6984,2,    216.7,2,   217.2,2,  130.49,2,   32.18,2,    0.00,2,    2.24,2,   0.473,2,   0.244,2,   0.030,2,   0.0760,2,  -999.0,9,  -999.0,9,-999.0000,9,  -999.00,-999.000,9,-999.0000,9,-999.000,9,   0.2208,2, -999.00,9,  -999.0,9,  -999.0,-999.000,9, -999.00,9,-999.000,9, -999.00,9, -999.00,9, -67.9960,-149.9987,-999.000,     -999.0,    34.8621,2,     -999.0,9,     -999.0,9,-999.0000,9,-999.0000,9,-999.0000,9,-999.0000,9,-999.0000,9,-999.0000,9,-999.0000,9,-999.0000,9,-999.0000,9,-999.0000,-999.000,   0.0050,     -999.0,     -999.0,9,     -999.0,9,     -999.0,9,     -999.0,9,     -999.0,20110311,       1933
320620110219,       P16S,      47,          1,          5,          5,2,20110311,       1910,   -67.9959,  -149.9988,       4246,  3600.1,   0.1808,  34.6964,2,  34.6959,2,    219.7,2,   219.7,2,  125.32,2,   32.16,2,    0.00,2,    2.23,2,   0.743,2,   0.368,2,   0.043,2,   0.1030,2,  2260.4,2,  2359.5,2,   7.5940,2,    25.00,-999.000,9,-999.0000,9,-999.000,9,   0.1811,2, -999.00,9,  -999.0,9,  -999.0,-999.000,9, -999.00,9,-999.000,9, -999.00,9, -999.00,9, -67.9959,-149.9987,-999.000,     -999.0,    34.8595,2,     -999.0,9,     -999.0,9,-999.0000,9,-999.0000,9,-999.0000,9,-999.0000,9,-999.0000,9,-999.0000,9,-999.0000,9,-999.0000,9,-999.0000,9,-999.0000,-999.000,  -0.0614,     -999.0,     -999.0,9,     -999.0,9,     -999.0,9,     -999.0,9,     -999.0,20110311,       1927
320620110219,       P16S,      47,          1,          4,          4,2,20110311,       1910,   -67.9959,  -149.9988,       4246,  3798.6,   0.1806,  34.6964,2,  34.6963,2,    220.2,2,   220.0,2,  124.51,2,   32.06,2,    0.00,2,    2.23,2,   0.758,2,   0.387,2,   0.043,2,   0.1070,2,  2257.1,2,  2358.8,2,   7.5937,4,    25.00,-999.000,9,-999.0000,9,-999.000,9,   0.1805,2, -999.00,9,  -999.0,9,  -999.0,-999.000,9, -999.00,9,-999.000,9, -999.00,9, -999.00,9, -67.9959,-149.9987,-999.000,     -999.0,    34.8599,2,     -999.0,9,     -999.0,9,   0.0533,3,   0.0159,3,  -0.0190,4,  -0.0235,4,  -0.0289,4,  -0.0224,4,  -0.0187,4,   0.1193,4,   0.0859,4,-999.0000,-999.000,  -0.0808,     -999.0,     -999.0,9,     -999.0,9,     -999.0,9,     -999.0,9,     -999.0,20110311,       1922
320620110219,       P16S,      47,          1,          3,          3,2,20110311,       1910,   -67.9959,  -149.9988,       4246,  4100.6,   0.1985,  34.6969,2,  34.6965,2,    220.0,2,   219.9,2,  125.49,2,   32.09,2,    0.00,2,    2.23,2,   0.751,2,   0.372,2,   0.041,2,   0.0940,2,  2257.5,2,  2358.4,6,   7.5904,2,    25.00,-999.000,9,-999.0000,9,-999.000,9,   0.1989,2, -999.00,9,  -999.0,9,  -999.0,-999.000,9, -999.00,9,-999.000,9, -999.00,9, -999.00,9, -67.9959,-149.9987,-999.000,     -999.0,    34.8601,2,     -999.0,9,     -999.0,9,-999.0000,9,-999.0000,9,-999.0000,9,-999.0000,9,-999.0000,9,-999.0000,9,-999.0000,9,-999.0000,9,-999.0000,9,-999.0000,-999.000,  -0.0938,     -999.0,     -999.0,9,     -999.0,9,     -999.0,9,     -999.0,9,     -999.0,20110311,       1916
320620110219,       P16S,      47,          1,          2,          2,2,20110311,       1910,   -67.9959,  -149.9988,       4246,  4270.1,   0.2146,  34.6971,2,  34.6959,2,    219.7,2,   219.5,2,  126.42,2,   31.99,2,    0.00,2,    2.23,2,   0.762,2,   0.374,2,   0.042,2,   0.0970,2,  2258.4,6,  2358.9,2,   7.5900,2,    25.00,-999.000,9,-999.0000,9,-999.000,9,   0.2142,2, -999.00,9,  -999.0,9,  -999.0,-999.000,9, -999.00,9,-999.000,9, -999.00,9, -999.00,9, -67.9959,-149.9987,-999.000,     -999.0,    34.8595,2,     -999.0,9,     -999.0,9,-999.0000,9,-999.0000,9,-999.0000,9,-999.0000,9,-999.0000,9,-999.0000,9,-999.0000,9,-999.0000,9,-999.0000,9,-999.0000,-999.000,  -0.0957,     -999.0,     -999.0,9,     -999.0,9,     -999.0,9,     -999.0,9,     -999.0,20110311,       1912
320620110219,       P16S,      47,          1,          1,          1,2,20110311,       1910,   -67.9959,  -149.9988,       4246,  4320.6,   0.2208,  34.6970,2,  34.6970,2,    219.3,2,   219.4,2,  126.71,2,   31.98,2,    0.00,2,    2.23,2,   0.800,2,   0.394,2,   0.044,2,   0.1180,2,  2259.2,2,  2358.4,2,   7.5884,6,    25.00,-999.000,9,-999.0000,9,-999.000,9,   0.2205,2, -999.00,9,  -999.0,9,  -999.0,-999.000,9, -999.00,9,-999.000,9, -999.00,9, -999.00,9, -67.9959,-149.9988,-999.000,     -999.0,    34.8606,2,     -999.0,9,     -999.0,9,   0.0602,3,   0.0210,3,  -0.0161,4,  -0.0211,4,  -0.0273,4,  -0.0216,4,  -0.0184,4,   0.1152,4,   0.0782,4,-999.0000,-999.000,  -0.0951,     -999.0,     -999.0,9,     -999.0,9,     -999.0,9,     -999.0,9,     -999.0,20110311,       1910