BOTTLE,20220813CCHSIOAMB
EXPOCODE,SECT_ID,STNNBR,CASTNO,SAMPNO,BTLNBR,BTLNBR_FLAG_W,DATE,TIME,LATITUDE,LONGITUDE,DEPTH,CTDPRS,CTDTMP,CTDSAL,CTDSAL_FLAG_W,SALNTY,SALNTY_FLAG_W,CTDOXY,CTDOXY_FLAG_W,OXYGEN,OXYGEN_FLAG_W,SILCAT,SILCAT_FLAG_W,NITRAT,NITRAT_FLAG_W,NITRIT,NITRIT_FLAG_W,PHSPHT,PHSPHT_FLAG_W,CFC-11,CFC-11_FLAG_W,CFC-12,CFC-12_FLAG_W,CFC113,CFC113_FLAG_W,SF6,SF6_FLAG_W,TCARBN,TCARBN_FLAG_W,ALKALI,ALKALI_FLAG_W,PH_TOT,PH_TOT_FLAG_W,PH_TMP,TRITUM,TRITUM_FLAG_W,HELIUM,HELIUM_FLAG_W,DELHE3,DELHE3_FLAG_W,REFTMP,REFTMP_FLAG_W,DELC13,DELC13_FLAG_W,DELC14,DELC14_FLAG_W,C14ERR,NEON,NEON_FLAG_W,DELO18,DELO18_FLAG_W,POC,POC_FLAG_W,DOC,DOC_FLAG_W,TDN,TDN_FLAG_W,BTL_LAT,BTL_LON,TRITER,NEONER,SALTREF,SALTREF_FLAG_W,PIGMENTS,PIGMENTS_FLAG_W,LAB_DEN,LAB_DEN_FLAG_W,CDOM325,CDOM325_FLAG_W,CDOM340,CDOM340_FLAG_W,CDOM380,CDOM380_FLAG_W,CDOM412,CDOM412_FLAG_W,CDOM443,CDOM443_FLAG_W,CDOM490,CDOM490_FLAG_W,CDOM555,CDOM555_FLAG_W,CDOMSL,CDOMSL_FLAG_W,CDOMSN,CDOMSN_FLAG_W,HELIER,DELHER,THETA,LDEO_SAMPNO,ABSORBTION,ABSORBTION_FLAG_W,IMAGE_COUNT,IMAGE_COUNT_FLAG_W,CYTO_COUNT,CYTO_COUNT_FLAG_W,DELD,DELD_FLAG_W,DELDERR,BTL_DATE,BTL_TIME
,,,,,,,,,,,METERS,DBAR,ITS-90,PSS-78,,PSS-78,,UMOL/KG,,UMOL/KG,,UMOL/KG,,UMOL/KG,,UMOL/KG,,UMOL/KG,,PMOL/KG,,PMOL/KG,,PMOL/KG,,FMOL/KG,,UMOL/KG,,UMOL/KG,,,,DEG C,TU,,NMOL/KG,,PERCNT,,DEG C,,/MILLE,,/MILLE,,/MILLE,NMOL/KG,,/MILLE,,UG/KG,,UMOL/KG,,UMOL/KG,,,,TU,NMOL/KG,G/KG,,,,,,1/M,,1/M,,1/M,,1/M,,1/M,,1/M,,1/M,,1/NM,,1/NM,,NMOL/KG,PERCNT,DEG C,,,,,,,,/MILLE,,/MILLE,,
320620110219,       S04P,     108,          1,         13,         13,2,20110405,       1222,   -67.0002,  -127.6233,       4458,  1735.2,   1.0397,  34.7202,2,  34.7211,2,    200.0,2,   199.8,2,  112.32,2,   31.52,2,    0.00,2,    2.22,2,-999.000,9,-999.000,9,-999.000,9,-999.0000,9,  -999.0,9,  -999.0,9,-999.0000,9,  -999.00,-999.000,9,-999.0000,9,-999.000,9,   1.0403,2, -999.00,9,  -999.0,9,  -999.0,-999.000,9, -999.00,9,-999.000,9,   40.13,2,   34.59,2, -67.0002,-127.6233,-999.000,     -999.0,    34.8848,2,     -999.0,9,     -999.0,9,-999.0000,9,-999.0000,9,-999.0000,9,-999.0000,9,-999.0000,9,-999.0000,9,-999.0000,9,-999.0000,9,-999.0000,9,-999.0000,-999.000,   0.9375,     -999.0,     -999.0,9,     -999.0,9,     -999.0,9,     -999.0,9,     -999.0,20110405,       1322
320620110219,       S04P,     108,          1,         12,         12,2,20110405,       1222,   -67.0002,  -127.6233,       4458,  1934.8,   0.9455,  34.7161,2,  34.7166,2,    201.6,2,   202.0,2,  115.55,2,   31.68,2,    0.00,2,    2.22,2,   0.136,2,   0.066,2,   0.008,2,   0.0590,2,  2259.8,2,  2362.2,2,   7.6004,2,    25.00,-999.000,9,-999.0000,9,-999.000,9,   0.9456,2, -999.00,9,  -999.0,9,  -999.0,-999.000,9, -999.00,9,-999.000,9,   40.17,2,   34.58,2, -67.0002,-127.6232,-999.000,     -999.0,    34.8803,2,     -999.0,9,     -999.0,9,-999.0000,9,-999.0000,9,-999.0000,9,-999.0000,9,-999.0000,9,-999.0000,9,-999.0000,9,-999.0000,9,-999.0000,9,-999.0000,-999.000,   0.8299,     -999.0,     -999.0,9,     -999.0,9,     -999.0,9,     -999.0,9,     -999.0,20110405,       1317
320620110219,       S04P,     108,          1,         11,         11,2,20110405,       1222,   -67.0002,  -127.6233,       4458,  2165.5,   0.8482,  34.7126,2,  34.7130,2,    203.3,2,   203.6,2,  119.28,2,   31.93,2,    0.00,2,    2.23,2,-999.000,9,-999.000,9,-999.000,9,-999.0000,9,  -999.0,9,  -999.0,9,-999.0000,9,  -999.00,-999.000,9,-999.0000,9,-999.000,9,   0.8488,2, -999.00,9,  -999.0,9,  -999.0,-999.000,9, -999.00,9,-999.000,9,   40.39,2,   34.22,2, -67.0002,-127.6235,-999.000,     -999.0,    34.8767,2,     -999.0,9,     -999.0,9,-999.0000,9,-999.0000,9,-999.0000,9,-999.0000,9,-999.0000,9,-999.0000,9,-999.0000,9,-999.0000,9,-999.0000,9,-999.0000,-999.000,   0.7163,     -999.0,     -999.0,9,     -999.0,9,     -999.0,9,     -999.0,9,     -999.0,20110405,       1312
320620110219,       S04P,     108,          1,         10,         37,2,20110405,       1222,   -67.0002,  -127.6233,       4458,  2414.7,   0.7583,  34.7092,2,  34.7101,2,    204.8,2,   204.9,2,  122.48,2,   32.03,2,    0.00,2,    2.24,2,-999.000,9,-999.000,9,-999.000,9,-999.0000,9,  -999.0,9,  -999.0,9,-999.0000,9,  -999.00,-999.000,9,-999.0000,9,-999.000,9,   0.7582,2, -999.00,9,  -999.0,9,  -999.0,-999.000,9, -999.00,9,-999.000,9,   40.62,2,   34.35,2, -67.0002,-127.6238,-999.000,     -999.0,    34.8738,2,     -999.0,9,     -999.0,9,-999.0000,9,-999.0000,9,-999.0000,9,-999.0000,9,-999.0000,9,-999.0000,9,-999.0000,9,-999.0000,9,-999.0000,9,-999.0000,-999.000,   0.6081,     -999.0,     -999.0,9,     -999.0,9,     -999.0,9,     -999.0,9,     -999.0,20110405,       1307
320620110219,       S04P,     108,          1,          9,          9,2,20110405,       1222,   -67.0002,  -127.6233,       4458,  2664.6,   0.6689,  34.7065,2,  34.7066,2,    206.7,2,   206.4,2,  124.53,2,   32.07,2,    0.00,2,    2.24,2,-999.000,9,-999.000,9,-999.000,9,-999.0000,9,  2261.1,2,  2362.9,2,   7.5983,2,    25.00,-999.000,9,-999.0000,9,-999.000,9,   0.6693,2, -999.00,9,  -999.0,9,  -999.0,-999.000,9, -999.00,9,-999.000,9,   40.80,2,   34.69,2, -67.0001,-127.6229,-999.000,     -999.0,    34.8702,2,     -999.0,9,     -999.0,9,-999.0000,9,-999.0000,9,-999.0000,9,-999.0000,9,-999.0000,9,-999.0000,9,-999.0000,9,-999.0000,9,-999.0000,9,-999.0000,-999.000,   0.4996,     -999.0,     -999.0,9,     -999.0,9,     -999.0,9,     -999.0,9,     -999.0,20110405,       1302
320620110219,       S04P,     108,          1,          8,          8,2,20110405,       1222,   -67.0002,  -127.6233,       4458,  2916.0,   0.5793,  34.7050,2,  34.7050,2,    208.6,2,   208.9,2,  125.80,2,   32.17,2,    0.00,2,    2.24,2,   0.210,2,   0.103,2,   0.011,2,   0.0740,2,  -999.0,9,  -999.0,9,-999.0000,9,  -999.00,-999.000,9,-999.0000,9,-999.000,9,   0.5795,2, -999.00,9,  -999.0,9,  -999.0,-999.000,9, -999.00,9,-999.000,9,   40.37,2,   34.79,2, -67.0000,-127.6222,-999.000,     -999.0,    34.8687,2,     -999.0,9,     -999.0,9,-999.0000,9,-999.0000,9,-999.0000,9,-999.0000,9,-999.0000,9,-999.0000,9,-999.0000,9,-999.0000,9,-999.0000,9,-999.0000,-999.000,   0.3902,     -999.0,     -999.0,9,     -999.0,9,     -999.0,9,     -999.0,9,     -999.0,20110405,       1257
320620110219,       S04P,     108,          1,          7,          7,2,20110405,       1222,   -67.0002,  -127.6233,       4458,  3199.2,   0.4862,  34.7030,2,  34.7021,2,    210.8,2,   210.9,2,  128.12,2,   32.31,2,    0.00,2,    2.24,2,-999.000,9,-999.000,9,-999.000,9,-999.0000,9,  2261.2,2,  2362.8,2,   7.5970,2,    25.00,-999.000,9,-999.0000,9,-999.000,9,   0.4868,2, -999.00,9,  -999.0,9,  -999.0,-999.000,9, -999.00,9,-999.000,9,   40.59,2,   34.50,2, -67.0001,-127.6228,-999.000,     -999.0,    34.8657,2,     -999.0,9,     -999.0,9,-999.0000,9,-999.0000,9,-999.0000,9,-999.0000,9,-999.0000,9,-999.0000,9,-999.0000,9,-999.0000,9,-999.0000,9,-999.0000,-999.000,   0.2738,     -999.0,     -999.0,9,     -999.0,9,     -999.0,9,     -999.0,9,     -999.0,20110405,       1251
320620110219,       S04P,     108,          1,          6,          6,2,20110405,       1222,   -67.0002,  -127.6233,       4458,  3500.1,   0.4205,  34.7029,2,  34.6976,4,    212.4,2,   212.6,2,  131.63,2,   32.42,2,    0.00,2,    2.25,2,   0.234,2,   0.103,2,   0.013,2,   0.1050,2,  -999.0,9,  -999.0,9,-999.0000,9,  -999.00,-999.000,9,-999.0000,9,-999.000,9,   0.4208,2, -999.00,9,  -999.0,9,  -999.0,-999.000,9, -999.00,9,-999.000,9,   40.56,2,   34.88,2, -67.0001,-127.6226,-999.000,     -999.0,    34.8612,4,     -999.0,9,     -999.0,9,-999.0000,9,-999.0000,9,-999.0000,9,-999.0000,9,-999.0000,9,-999.0000,9,-999.0000,9,-999.0000,9,-999.0000,9,-999.0000,-999.000,   0.1816,     -999.0,     -999.0,9,     -999.0,9,     -999.0,9,     -999.0,9,     -999.0,20110405,       1245
320620110219,       S04P,     108,          1,          5,          5,2,20110405,       1222,   -67.0002,  -127.6233,       4458,  3799.4,   0.3745,  34.7024,2,  34.7021,2,    214.0,2,   214.0,2,  134.30,2,   32.47,2,    0.00,2,    2.25,2,   0.287,2,   0.131,2,   0.012,2,   0.0790,2,  2261.0,2,  2363.5,2,   7.5971,2,    25.00,-999.000,9,-999.0000,9,-999.000,9,   0.3745,2, -999.00,9,  -999.0,9,  -999.0,-999.000,9, -999.00,9,-999.000,9,   40.46,2,   34.57,2, -67.0001,-127.6224,-999.000,     -999.0,    34.8657,2,     -999.0,9,     -999.0,9,-999.0000,9,-999.0000,9,-999.0000,9,-999.0000,9,-999.0000,9,-999.0000,9,-999.0000,9,-999.0000,9,-999.0000,9,-999.0000,-999.000,   0.1076,     -999.0,     -999.0,9,     -999.0,9,     -999.0,9,     -999.0,9,     -999.0,20110405,       1239
320620110219,       S04P,     108,          1,          4,          4,2,20110405,       1222,   -67.0002,  -127.6233,       4458,  4100.5,   0.3556,  34.7015,2,  34.7019,2,    215.2,2,   214.4,2,  136.75,2,   32.55,2,    0.00,2,    2.25,2,   0.378,2,   0.180,2,   0.018,2,   0.1020,2,  2261.5,2,  2364.2,2,   7.5946,2,    25.00,-999.000,9,-999.0000,9,-999.000,9,   0.3558,2, -999.00,9,  -999.0,9,  -999.0,-999.000,9, -999.00,9,-999.000,9,   40.23,2,   35.08,2, -67.0001,-127.6227,-999.000,     -999.0,    34.8655,2,     -999.0,9,     -999.0,9,-999.0000,9,-999.0000,9,-999.0000,9,-999.0000,9,-999.0000,9,-999.0000,9,-999.0000,9,-999.0000,9,-999.0000,9,-999.0000,-999.000,   0.0587,     -999.0,     -999.0,9,     -999.0,9,     -999.0,9,     -999.0,9,     -999.0,20110405,       1233
320620110219,       S04P,     108,          1,          3,          3,2,20110405,       1222,   -67.0002,  -127.6233,       4458,  4400.3,   0.3457,  34.7003,2,  34.7005,2,    215.6,2,   215.7,2,  138.96,2,   32.61,2,    0.00,2,    2.25,2,   0.437,2,   0.201,2,   0.019,2,   0.0880,2,  2261.8,2,  2362.5,6,   7.5953,2,    25.00,-999.000,9,-999.0000,9,-999.000,9,   0.3459,2, -999.00,9,  -999.0,9,  -999.0,-999.000,9, -999.00,9,-999.000,9,   41.02,2,   35.35,2, -67.0002,-127.6235,-999.000,     -999.0,    34.8642,2,     -999.0,9,     -999.0,9,-999.0000,9,-999.0000,9,-999.0000,9,-999.0000,9,-999.0000,9,-999.0000,9,-999.0000,9,-999.0000,9,-999.0000,9,-999.0000,-999.000,   0.0175,     -999.0,     -999.0,9,     -999.0,9,     -999.0,9,     -999.0,9,     -999.0,20110405,       1227
320620110219,       S04P,     108,          1,          2,          2,2,20110405,       1222,   -67.0002,  -127.6233,       4458,  4489.8,   0.3446,  34.7000,2,  34.6998,2,    215.3,2,   215.5,2,  140.58,2,   32.64,2,    0.00,2,    2.25,2,   0.474,2,   0.215,2,   0.017,2,   0.1130,2,  2262.5,2,  2363.1,2,   7.5954,6,    25.00,-999.000,9,-999.0000,9,-999.000,9,   0.3443,2, -999.00,9,  -999.0,9,  -999.0,-999.000,9, -999.00,9,-999.000,9,   40.86,2,   34.84,2, -67.0002,-127.6234,-999.000,     -999.0,    34.8634,2,     -999.0,9,     -999.0,9,-999.0000,9,-999.0000,9,-999.0000,9,-999.0000,9,-999.0000,9,-999.0000,9,-999.0000,9,-999.0000,9,-999.0000,9,-999.0000,-999.000,   0.0067,     -999.0,     -999.0,9,     -999.0,9,     -999.0,9,     -999.0,9,     -999.0,20110405,       1224
320620110219,       S04P,     108,          1,          1,          1,2,20110405,       1222,   -67.0002,  -127.6233,       4458,  4540.1,   0.3441,  34.6997,2,  34.7000,2,    215.4,2,   215.4,2,  140.23,2,   32.68,2,    0.00,2,    2.24,2,   0.533,2,   0.236,2,   0.030,2,   0.1590,2,  2262.3,6,  2363.4,2,   7.5938,2,    25.00,-999.000,9,-999.0000,9,-999.000,9,   0.3438,2, -999.00,9,  -999.0,9,  -999.0,-999.000,9, -999.00,9,-999.000,9,   40.40,2,   34.50,2, -67.0002,-127.6232,-999.000,     -999.0,    34.8636,2,     -999.0,9,     -999.0,9,-999.0000,9,-999.0000,9,-999.0000,9,-999.0000,9,-999.0000,9,-999.0000,9,-999.0000,9,-999.0000,9,-999.0000,9,-999.0000,-999.000,   0.0008,     -999.0,     -999.0,9,     -999.0,9,     -999.0,9,     -999.0,9,     -999.0,20110405,       1222