BOTTLE,20220813CCHSIOAMB
EXPOCODE,SECT_ID,STNNBR,CASTNO,SAMPNO,BTLNBR,BTLNBR_FLAG_W,DATE,TIME,LATITUDE,LONGITUDE,DEPTH,CTDPRS,CTDTMP,CTDSAL,CTDSAL_FLAG_W,SALNTY,SALNTY_FLAG_W,CTDOXY,CTDOXY_FLAG_W,OXYGEN,OXYGEN_FLAG_W,SILCAT,SILCAT_FLAG_W,NITRAT,NITRAT_FLAG_W,NITRIT,NITRIT_FLAG_W,PHSPHT,PHSPHT_FLAG_W,CFC-11,CFC-11_FLAG_W,CFC-12,CFC-12_FLAG_W,CFC113,CFC113_FLAG_W,SF6,SF6_FLAG_W,TCARBN,TCARBN_FLAG_W,ALKALI,ALKALI_FLAG_W,PH_TOT,PH_TOT_FLAG_W,PH_TMP,TRITUM,TRITUM_FLAG_W,HELIUM,HELIUM_FLAG_W,DELHE3,DELHE3_FLAG_W,REFTMP,REFTMP_FLAG_W,DELC13,DELC13_FLAG_W,DELC14,DELC14_FLAG_W,C14ERR,NEON,NEON_FLAG_W,DELO18,DELO18_FLAG_W,POC,POC_FLAG_W,DOC,DOC_FLAG_W,TDN,TDN_FLAG_W,BTL_LAT,BTL_LON,TRITER,NEONER,SALTREF,SALTREF_FLAG_W,PIGMENTS,PIGMENTS_FLAG_W,LAB_DEN,LAB_DEN_FLAG_W,CDOM325,CDOM325_FLAG_W,CDOM340,CDOM340_FLAG_W,CDOM380,CDOM380_FLAG_W,CDOM412,CDOM412_FLAG_W,CDOM443,CDOM443_FLAG_W,CDOM490,CDOM490_FLAG_W,CDOM555,CDOM555_FLAG_W,CDOMSL,CDOMSL_FLAG_W,CDOMSN,CDOMSN_FLAG_W,HELIER,DELHER,THETA,LDEO_SAMPNO,ABSORBTION,ABSORBTION_FLAG_W,IMAGE_COUNT,IMAGE_COUNT_FLAG_W,CYTO_COUNT,CYTO_COUNT_FLAG_W,DELD,DELD_FLAG_W,DELDERR,BTL_DATE,BTL_TIME
,,,,,,,,,,,METERS,DBAR,ITS-90,PSS-78,,PSS-78,,UMOL/KG,,UMOL/KG,,UMOL/KG,,UMOL/KG,,UMOL/KG,,UMOL/KG,,PMOL/KG,,PMOL/KG,,PMOL/KG,,FMOL/KG,,UMOL/KG,,UMOL/KG,,,,DEG C,TU,,NMOL/KG,,PERCNT,,DEG C,,/MILLE,,/MILLE,,/MILLE,NMOL/KG,,/MILLE,,UG/KG,,UMOL/KG,,UMOL/KG,,,,TU,NMOL/KG,G/KG,,,,,,1/M,,1/M,,1/M,,1/M,,1/M,,1/M,,1/M,,1/NM,,1/NM,,NMOL/KG,PERCNT,DEG C,,,,,,,,/MILLE,,/MILLE,,
320620110219,       S04P,     126,          3,         36,         36,2,20110416,       0055,   -67.0001,   -84.1834,       4328,     2.1,  -1.1595,  33.4811,2,  33.4816,2,    347.0,3,   352.5,2,   20.66,2,   23.88,2,    0.21,2,    1.63,2,   6.341,2,   3.563,2,   0.703,2,   3.0000,2,  2136.6,6,  2262.6,2,   7.6994,2,    25.00,-999.000,9,-999.0000,9,-999.000,9,  -1.1597,2, -999.00,9,  -999.0,9,  -999.0,-999.000,9, -999.00,9,-999.000,9,   45.89,2,   27.77,2, -67.0001, -84.1833,-999.000,     -999.0,    33.6395,2,     -999.0,9,     -999.0,9,-999.0000,9,-999.0000,9,-999.0000,9,-999.0000,9,-999.0000,9,-999.0000,9,-999.0000,9,-999.0000,9,-999.0000,9,-999.0000,-999.000,  -1.1595,     -999.0,     -999.0,9,     -999.0,9,     -999.0,9,     -999.0,9,     -999.0,20110416,       0237
320620110219,       S04P,     126,          3,         35,         35,2,20110416,       0055,   -67.0001,   -84.1834,       4328,    35.0,  -0.3233,  33.6240,2,  33.6255,2,    342.3,2,   343.2,2,   13.00,2,   23.94,2,    0.23,2,    1.68,2,   6.088,2,   3.446,2,   0.670,2,   2.9100,2,  2143.6,2,  2269.9,2,   7.7007,6,    25.00,-999.000,9,-999.0000,9,-999.000,9,  -0.3234,2, -999.00,9,  -999.0,9,  -999.0,-999.000,9, -999.00,9,-999.000,9,   45.48,2,   27.86,2, -67.0001, -84.1833,-999.000,     -999.0,    33.7840,2,     -999.0,9,     -999.0,9,-999.0000,9,-999.0000,9,-999.0000,9,-999.0000,9,-999.0000,9,-999.0000,9,-999.0000,9,-999.0000,9,-999.0000,9,-999.0000,-999.000,  -0.3244,     -999.0,     -999.0,9,     -999.0,9,     -999.0,9,     -999.0,9,     -999.0,20110416,       0235
320620110219,       S04P,     126,          3,         34,         34,2,20110416,       0055,   -67.0001,   -84.1834,       4328,    60.2,  -0.3516,  33.6806,2,  33.6813,2,    341.5,2,   340.3,2,   14.71,2,   24.50,2,    0.23,2,    1.74,2,   6.064,2,   3.437,2,   0.663,2,   2.8300,2,  2146.8,2,  2273.4,6,   7.6939,2,    25.00,-999.000,9,-999.0000,9,-999.000,9,  -0.3563,2, -999.00,9,  -999.0,9,  -999.0,-999.000,9, -999.00,9,-999.000,9,   44.87,2,   27.66,2, -67.0001, -84.1833,-999.000,     -999.0,    33.8401,2,     -999.0,9,     -999.0,9,-999.0000,9,-999.0000,9,-999.0000,9,-999.0000,9,-999.0000,9,-999.0000,9,-999.0000,9,-999.0000,9,-999.0000,9,-999.0000,-999.000,  -0.3535,     -999.0,     -999.0,9,     -999.0,9,     -999.0,9,     -999.0,9,     -999.0,20110416,       0234
320620110219,       S04P,     126,          3,         33,         33,2,20110416,       0055,   -67.0001,   -84.1834,       4328,    84.6,  -1.5171,  33.8667,2,  33.8679,2,    329.6,2,   328.6,2,   33.25,2,   28.37,2,    0.23,2,    2.05,2,   5.945,2,   3.310,2,   0.650,2,   2.7100,2,  2173.4,2,  2282.0,2,   7.6473,2,    25.00,-999.000,9,-999.0000,9,-999.000,9,  -1.5144,2, -999.00,9,  -999.0,9,  -999.0,-999.000,9, -999.00,9,-999.000,9,   43.08,2,   31.23,2, -67.0002, -84.1833,-999.000,     -999.0,    34.0276,2,     -999.0,9,     -999.0,9,-999.0000,9,-999.0000,9,-999.0000,9,-999.0000,9,-999.0000,9,-999.0000,9,-999.0000,9,-999.0000,9,-999.0000,9,-999.0000,-999.000,  -1.5189,     -999.0,     -999.0,9,     -999.0,9,     -999.0,9,     -999.0,9,     -999.0,20110416,       0233
320620110219,       S04P,     126,          3,         32,         32,2,20110416,       0055,   -67.0001,   -84.1834,       4328,   109.4,  -0.6614,  33.9630,2,  33.9725,2,    311.2,2,   305.8,2,   36.56,2,   30.12,2,    0.10,2,    2.11,2,   5.317,2,   2.977,2,   0.572,2,   2.3600,2,  2184.2,2,  2287.9,2,   7.6263,2,    25.00,-999.000,9,-999.0000,9,-999.000,9,  -0.6784,2, -999.00,9,  -999.0,9,  -999.0,-999.000,9, -999.00,9,-999.000,9,   41.97,2,   33.03,2, -67.0002, -84.1833,-999.000,     -999.0,    34.1327,2,     -999.0,9,     -999.0,9,-999.0000,9,-999.0000,9,-999.0000,9,-999.0000,9,-999.0000,9,-999.0000,9,-999.0000,9,-999.0000,9,-999.0000,9,-999.0000,-999.000,  -0.6646,     -999.0,     -999.0,9,     -999.0,9,     -999.0,9,     -999.0,9,     -999.0,20110416,       0232
320620110219,       S04P,     126,          3,         31,         31,2,20110416,       0055,   -67.0001,   -84.1834,       4328,   134.2,   0.5826,  34.1050,2,  34.0983,2,    270.7,2,   272.2,2,   41.68,2,   31.57,2,    0.04,2,    2.20,2,   4.457,2,   2.480,2,   0.456,2,   1.8800,2,  2199.2,2,  2294.7,2,   7.5997,2,    25.00,-999.000,9,-999.0000,9,-999.000,9,   0.5916,2, -999.00,9,  -999.0,9,  -999.0,-999.000,9, -999.00,9,-999.000,9,   41.71,2,   34.35,2, -67.0001, -84.1833,-999.000,     -999.0,    34.2591,2,     -999.0,9,     -999.0,9,-999.0000,9,-999.0000,9,-999.0000,9,-999.0000,9,-999.0000,9,-999.0000,9,-999.0000,9,-999.0000,9,-999.0000,9,-999.0000,-999.000,   0.5772,     -999.0,     -999.0,9,     -999.0,9,     -999.0,9,     -999.0,9,     -999.0,20110416,       0230
320620110219,       S04P,     126,          3,         30,         30,2,20110416,       0055,   -67.0001,   -84.1834,       4328,   165.4,   1.4428,  34.2200,2,  34.2253,2,    237.8,2,   236.4,2,   49.03,2,   33.12,2,    0.02,2,    2.29,2,   3.385,2,   1.928,2,   0.344,2,   1.3200,2,  2216.2,2,  2304.4,2,   7.5749,2,    25.00,-999.000,9,-999.0000,9,-999.000,9,   1.4441,2, -999.00,9,  -999.0,9,  -999.0,-999.000,9, -999.00,9,-999.000,9,   41.20,2,   35.69,2, -67.0001, -84.1833,-999.000,     -999.0,    34.3867,2,     -999.0,9,     -999.0,9,-999.0000,9,-999.0000,9,-999.0000,9,-999.0000,9,-999.0000,9,-999.0000,9,-999.0000,9,-999.0000,9,-999.0000,9,-999.0000,-999.000,   1.4349,     -999.0,     -999.0,9,     -999.0,9,     -999.0,9,     -999.0,9,     -999.0,20110416,       0229
320620110219,       S04P,     126,          3,         29,         29,2,20110416,       0055,   -67.0001,   -84.1834,       4328,   213.5,   2.0049,  34.3366,2,  34.3366,2,    209.0,2,   205.6,2,   57.25,2,   34.16,2,    0.00,2,    2.37,2,   2.403,2,   1.456,2,   0.238,2,   0.8500,2,  2231.7,2,  2318.2,2,   7.5543,2,    25.00,-999.000,9,-999.0000,9,-999.000,9,   2.0053,2, -999.00,9,  -999.0,9,  -999.0,-999.000,9, -999.00,9,-999.000,9,   41.42,2,   37.04,2, -67.0001, -84.1833,-999.000,     -999.0,    34.4985,2,     -999.0,9,     -999.0,9,-999.0000,9,-999.0000,9,-999.0000,9,-999.0000,9,-999.0000,9,-999.0000,9,-999.0000,9,-999.0000,9,-999.0000,9,-999.0000,-999.000,   1.9935,     -999.0,     -999.0,9,     -999.0,9,     -999.0,9,     -999.0,9,     -999.0,20110416,       0227
320620110219,       S04P,     126,          3,         28,         28,2,20110416,       0055,   -67.0001,   -84.1834,       4328,   265.4,   2.1724,  34.4012,2,  34.4020,2,    193.2,2,   191.6,2,   62.24,2,   34.52,2,    0.00,2,    2.39,2,-999.000,9,-999.000,9,-999.000,9,-999.0000,9,  2241.8,2,  2321.3,2,   7.5450,2,    25.00,-999.000,9,-999.0000,9,-999.000,9,   2.1737,2, -999.00,9,  -999.0,9,  -999.0,-999.000,9, -999.00,9,-999.000,9,   41.27,2,   36.95,2, -67.0001, -84.1833,-999.000,     -999.0,    34.5642,2,     -999.0,9,     -999.0,9,-999.0000,9,-999.0000,9,-999.0000,9,-999.0000,9,-999.0000,9,-999.0000,9,-999.0000,9,-999.0000,9,-999.0000,9,-999.0000,-999.000,   2.1578,     -999.0,     -999.0,9,     -999.0,9,     -999.0,9,     -999.0,9,     -999.0,20110416,       0226
320620110219,       S04P,     126,          3,         27,         27,2,20110416,       0055,   -67.0001,   -84.1834,       4328,   314.4,   2.2301,  34.4425,2,  34.4445,2,    183.9,2,   183.3,2,   65.46,2,   34.69,2,    0.00,2,    2.41,2,   1.541,2,   0.915,2,   0.148,2,   0.4900,2,  2246.6,2,  2328.4,2,   7.5412,2,    25.00,-999.000,9,-999.0000,9,-999.000,9,   2.2296,2, -999.00,9,  -999.0,9,  -999.0,-999.000,9, -999.00,9,-999.000,9,   40.78,2,   37.50,2, -67.0001, -84.1834,-999.000,     -999.0,    34.6069,2,     -999.0,9,     -999.0,9,-999.0000,9,-999.0000,9,-999.0000,9,-999.0000,9,-999.0000,9,-999.0000,9,-999.0000,9,-999.0000,9,-999.0000,9,-999.0000,-999.000,   2.2125,     -999.0,     -999.0,9,     -999.0,9,     -999.0,9,     -999.0,9,     -999.0,20110416,       0224
320620110219,       S04P,     126,          3,         26,         26,2,20110416,       0055,   -67.0001,   -84.1834,       4328,   364.5,   2.2467,  34.4832,2,  34.4837,2,    178.4,2,   178.9,2,   68.67,2,   34.72,2,    0.00,2,    2.40,2,-999.000,9,-999.000,9,-999.000,9,-999.0000,9,  2248.8,2,  2331.9,2,   7.5410,2,    25.00,-999.000,9,-999.0000,9,-999.000,9,   2.2466,2, -999.00,9,  -999.0,9,  -999.0,-999.000,9, -999.00,9,-999.000,9,   40.67,2,   37.31,2, -67.0001, -84.1833,-999.000,     -999.0,    34.6463,2,     -999.0,9,     -999.0,9,-999.0000,9,-999.0000,9,-999.0000,9,-999.0000,9,-999.0000,9,-999.0000,9,-999.0000,9,-999.0000,9,-999.0000,9,-999.0000,-999.000,   2.2260,     -999.0,     -999.0,9,     -999.0,9,     -999.0,9,     -999.0,9,     -999.0,20110416,       0222
320620110219,       S04P,     126,          3,         25,         25,2,20110416,       0055,   -67.0001,   -84.1834,       4328,   415.0,   2.2584,  34.5229,2,  34.5227,2,    174.3,2,   174.5,2,   71.60,2,   34.56,2,    0.00,2,    2.40,2,   1.079,2,   0.712,2,   0.093,2,   0.3400,2,  -999.0,9,  -999.0,9,-999.0000,9,  -999.00,-999.000,9,-999.0000,9,-999.000,9,   2.2582,2, -999.00,9,  -999.0,9,  -999.0,-999.000,9, -999.00,9,-999.000,9,   40.48,2,   37.38,2, -67.0001, -84.1833,-999.000,     -999.0,    34.6855,2,     -999.0,9,     -999.0,9,-999.0000,9,-999.0000,9,-999.0000,9,-999.0000,9,-999.0000,9,-999.0000,9,-999.0000,9,-999.0000,9,-999.0000,9,-999.0000,-999.000,   2.2346,     -999.0,     -999.0,9,     -999.0,9,     -999.0,9,     -999.0,9,     -999.0,20110416,       0221
320620110219,       S04P,     126,          3,         24,         24,2,20110416,       0055,   -67.0001,   -84.1834,       4328,   464.7,   2.2453,  34.5517,2,  34.5527,2,    172.1,2,   172.6,2,   73.56,2,   34.48,2,    0.00,2,    2.39,2,-999.000,9,-999.000,9,-999.000,9,-999.0000,9,  2254.5,2,  2333.6,2,   7.5429,2,    25.00,-999.000,9,-999.0000,9,-999.000,9,   2.2458,2, -999.00,9,  -999.0,9,  -999.0,-999.000,9, -999.00,9,-999.000,9,   40.52,2,   36.99,2, -67.0001, -84.1833,-999.000,     -999.0,    34.7156,2,     -999.0,9,     -999.0,9,-999.0000,9,-999.0000,9,-999.0000,9,-999.0000,9,-999.0000,9,-999.0000,9,-999.0000,9,-999.0000,9,-999.0000,9,-999.0000,-999.000,   2.2185,     -999.0,     -999.0,9,     -999.0,9,     -999.0,9,     -999.0,9,     -999.0,20110416,       0219
320620110219,       S04P,     126,          3,         23,         23,2,20110416,       0055,   -67.0001,   -84.1834,       4328,   534.5,   2.2303,  34.5889,2,  34.5880,2,    170.8,2,   171.4,2,   76.12,2,   34.15,2,    0.00,2,    2.36,2,   0.736,2,   0.472,2,   0.065,2,   0.2500,2,  -999.0,9,  -999.0,9,-999.0000,9,  -999.00,-999.000,9,-999.0000,9,-999.000,9,   2.2307,2, -999.00,9,  -999.0,9,  -999.0,-999.000,9, -999.00,9,-999.000,9,   40.47,2,   36.86,2, -67.0001, -84.1834,-999.000,     -999.0,    34.7511,2,     -999.0,9,     -999.0,9,-999.0000,9,-999.0000,9,-999.0000,9,-999.0000,9,-999.0000,9,-999.0000,9,-999.0000,9,-999.0000,9,-999.0000,9,-999.0000,-999.000,   2.1992,     -999.0,     -999.0,9,     -999.0,9,     -999.0,9,     -999.0,9,     -999.0,20110416,       0217
320620110219,       S04P,     126,          3,         22,         22,2,20110416,       0055,   -67.0001,   -84.1834,       4328,   635.0,   2.1893,  34.6282,2,  34.6300,2,    171.0,2,   171.9,2,   78.74,2,   33.67,2,    0.00,2,    2.33,2,-999.000,9,-999.000,9,-999.000,9,-999.0000,9,  2256.5,2,  2341.0,2,   7.5570,2,    25.00,-999.000,9,-999.0000,9,-999.000,9,   2.1890,2, -999.00,9,  -999.0,9,  -999.0,-999.000,9, -999.00,9,-999.000,9,   40.05,2,   36.49,2, -67.0001, -84.1833,-999.000,     -999.0,    34.7933,2,     -999.0,9,     -999.0,9,-999.0000,9,-999.0000,9,-999.0000,9,-999.0000,9,-999.0000,9,-999.0000,9,-999.0000,9,-999.0000,9,-999.0000,9,-999.0000,-999.000,   2.1520,     -999.0,     -999.0,9,     -999.0,9,     -999.0,9,     -999.0,9,     -999.0,20110416,       0215
320620110219,       S04P,     126,          3,         21,         21,2,20110416,       0055,   -67.0001,   -84.1834,       4328,   734.9,   2.1477,  34.6580,2,  34.6564,2,    173.5,2,   173.3,2,   80.59,2,   33.16,2,    0.00,2,    2.29,2,   0.463,2,   0.294,2,   0.031,2,   0.1700,2,  -999.0,9,  -999.0,9,-999.0000,9,  -999.00,-999.000,9,-999.0000,9,-999.000,9,   2.1474,2, -999.00,9,  -999.0,9,  -999.0,-999.000,9, -999.00,9,-999.000,9,   39.90,2,   36.02,2, -67.0001, -84.1834,-999.000,     -999.0,    34.8198,2,     -999.0,9,     -999.0,9,-999.0000,9,-999.0000,9,-999.0000,9,-999.0000,9,-999.0000,9,-999.0000,9,-999.0000,9,-999.0000,9,-999.0000,9,-999.0000,-999.000,   2.1041,     -999.0,     -999.0,9,     -999.0,9,     -999.0,9,     -999.0,9,     -999.0,20110416,       0212
320620110219,       S04P,     126,          3,         20,         20,2,20110416,       0055,   -67.0001,   -84.1834,       4328,   835.1,   2.0953,  34.6834,2,  34.6851,2,    176.4,2,   176.6,2,   82.12,2,   32.49,2,    0.00,2,    2.24,2,-999.000,9,-999.000,9,-999.000,9,-999.0000,9,  2254.5,2,  2345.4,2,   7.5741,6,    25.00,-999.000,9,-999.0000,9,-999.000,9,   2.0956,2, -999.00,9,  -999.0,9,  -999.0,-999.000,9, -999.00,9,-999.000,9,   39.66,2,   35.44,2, -67.0001, -84.1834,-999.000,     -999.0,    34.8486,2,     -999.0,9,     -999.0,9,-999.0000,9,-999.0000,9,-999.0000,9,-999.0000,9,-999.0000,9,-999.0000,9,-999.0000,9,-999.0000,9,-999.0000,9,-999.0000,-999.000,   2.0454,     -999.0,     -999.0,9,     -999.0,9,     -999.0,9,     -999.0,9,     -999.0,20110416,       0209
320620110219,       S04P,     126,          3,         19,         19,2,20110416,       0055,   -67.0001,   -84.1834,       4328,   935.1,   2.0330,  34.7011,2,  34.7021,2,    179.1,2,   180.0,2,   84.19,2,   32.08,2,    0.00,2,    2.23,2,   0.300,2,   0.225,2,   0.032,2,   0.0800,2,  -999.0,9,  -999.0,9,-999.0000,9,  -999.00,-999.000,9,-999.0000,9,-999.000,9,   2.0331,2, -999.00,9,  -999.0,9,  -999.0,-999.000,9, -999.00,9,-999.000,9,   39.75,2,   34.42,2, -67.0001, -84.1833,-999.000,     -999.0,    34.8658,2,     -999.0,9,     -999.0,9,-999.0000,9,-999.0000,9,-999.0000,9,-999.0000,9,-999.0000,9,-999.0000,9,-999.0000,9,-999.0000,9,-999.0000,9,-999.0000,-999.000,   1.9768,     -999.0,     -999.0,9,     -999.0,9,     -999.0,9,     -999.0,9,     -999.0,20110416,       0207
320620110219,       S04P,     126,          3,         18,         18,2,20110416,       0055,   -67.0001,   -84.1834,       4328,  1034.8,   1.9602,  34.7130,2,  34.7141,2,    182.1,2,   182.1,2,   85.65,2,   31.77,2,    0.00,2,    2.21,2,-999.000,9,-999.000,9,-999.000,9,-999.0000,9,  2254.9,6,  2350.1,2,   7.5863,2,    25.00,-999.000,9,-999.0000,9,-999.000,9,   1.9599,2, -999.00,9,  -999.0,9,  -999.0,-999.000,9, -999.00,9,-999.000,9,   39.97,2,   34.38,2, -67.0001, -84.1833,-999.000,     -999.0,    34.8778,2,     -999.0,9,     -999.0,9,-999.0000,9,-999.0000,9,-999.0000,9,-999.0000,9,-999.0000,9,-999.0000,9,-999.0000,9,-999.0000,9,-999.0000,9,-999.0000,-999.000,   1.8977,     -999.0,     -999.0,9,     -999.0,9,     -999.0,9,     -999.0,9,     -999.0,20110416,       0204
320620110219,       S04P,     126,          3,         17,         17,2,20110416,       0055,   -67.0001,   -84.1834,       4328,  1135.2,   1.8891,  34.7209,2,  34.7217,2,    184.7,2,   184.6,2,   87.85,2,   31.63,2,    0.00,2,    2.20,2,   0.236,2,   0.188,2,   0.019,2,   0.0800,2,  -999.0,9,  -999.0,9,-999.0000,9,  -999.00,-999.000,9,-999.0000,9,-999.000,9,   1.8893,2, -999.00,9,  -999.0,9,  -999.0,-999.000,9, -999.00,9,-999.000,9,   39.78,2,   34.20,2, -67.0001, -84.1834,-999.000,     -999.0,    34.8855,2,     -999.0,9,     -999.0,9,-999.0000,9,-999.0000,9,-999.0000,9,-999.0000,9,-999.0000,9,-999.0000,9,-999.0000,9,-999.0000,9,-999.0000,9,-999.0000,-999.000,   1.8203,     -999.0,     -999.0,9,     -999.0,9,     -999.0,9,     -999.0,9,     -999.0,20110416,       0202
320620110219,       S04P,     126,          3,         16,         16,2,20110416,       0055,   -67.0001,   -84.1834,       4328,  1234.4,   1.8111,  34.7272,2,  34.7284,2,    187.3,2,   187.2,2,   89.54,2,   31.43,2,    0.00,2,    2.17,2,-999.000,9,-999.000,9,-999.000,9,-999.0000,9,  2253.4,2,  2351.8,6,   7.5948,2,    25.00,-999.000,9,-999.0000,9,-999.000,9,   1.8113,2, -999.00,9,  -999.0,9,  -999.0,-999.000,9, -999.00,9,-999.000,9,   39.47,2,   33.73,2, -67.0001, -84.1834,-999.000,     -999.0,    34.8922,2,     -999.0,9,     -999.0,9,-999.0000,9,-999.0000,9,-999.0000,9,-999.0000,9,-999.0000,9,-999.0000,9,-999.0000,9,-999.0000,9,-999.0000,9,-999.0000,-999.000,   1.7360,     -999.0,     -999.0,9,     -999.0,9,     -999.0,9,     -999.0,9,     -999.0,20110416,       0159
320620110219,       S04P,     126,          3,         15,         15,2,20110416,       0055,   -67.0001,   -84.1834,       4328,  1335.1,   1.7219,  34.7304,2,  34.7315,2,    189.2,2,   189.2,2,   91.98,2,   31.36,2,    0.00,2,    2.16,2,   0.217,2,   0.177,2,   0.018,2,   0.0800,2,  -999.0,9,  -999.0,9,-999.0000,9,  -999.00,-999.000,9,-999.0000,9,-999.000,9,   1.7218,2, -999.00,9,  -999.0,9,  -999.0,-999.000,9, -999.00,9,-999.000,9,   39.64,2,   33.97,2, -67.0001, -84.1834,-999.000,     -999.0,    34.8953,2,     -999.0,9,     -999.0,9,-999.0000,9,-999.0000,9,-999.0000,9,-999.0000,9,-999.0000,9,-999.0000,9,-999.0000,9,-999.0000,9,-999.0000,9,-999.0000,-999.000,   1.6405,     -999.0,     -999.0,9,     -999.0,9,     -999.0,9,     -999.0,9,     -999.0,20110416,       0157
320620110219,       S04P,     126,          3,         14,         14,2,20110416,       0055,   -67.0001,   -84.1834,       4328,  1434.9,   1.6477,  34.7316,2,  34.7329,2,    191.0,2,   190.8,2,   94.16,2,   31.35,2,    0.00,2,    2.17,2,-999.000,9,-999.000,9,-999.000,9,-999.0000,9,  2254.7,2,  2355.2,2,   7.5996,2,    25.00,-999.000,9,-999.0000,9,-999.000,9,   1.6477,2, -999.00,9,  -999.0,9,  -999.0,-999.000,9, -999.00,9,-999.000,9,   39.44,2,   33.90,2, -67.0001, -84.1834,-999.000,     -999.0,    34.8967,2,     -999.0,9,     -999.0,9,-999.0000,9,-999.0000,9,-999.0000,9,-999.0000,9,-999.0000,9,-999.0000,9,-999.0000,9,-999.0000,9,-999.0000,9,-999.0000,-999.000,   1.5599,     -999.0,     -999.0,9,     -999.0,9,     -999.0,9,     -999.0,9,     -999.0,20110416,       0154