BOTTLE,20220813CCHSIOAMB
EXPOCODE,SECT_ID,STNNBR,CASTNO,SAMPNO,BTLNBR,BTLNBR_FLAG_W,DATE,TIME,LATITUDE,LONGITUDE,DEPTH,CTDPRS,CTDTMP,CTDSAL,CTDSAL_FLAG_W,SALNTY,SALNTY_FLAG_W,CTDOXY,CTDOXY_FLAG_W,OXYGEN,OXYGEN_FLAG_W,SILCAT,SILCAT_FLAG_W,NITRAT,NITRAT_FLAG_W,NITRIT,NITRIT_FLAG_W,PHSPHT,PHSPHT_FLAG_W,CFC-11,CFC-11_FLAG_W,CFC-12,CFC-12_FLAG_W,CFC113,CFC113_FLAG_W,SF6,SF6_FLAG_W,TCARBN,TCARBN_FLAG_W,ALKALI,ALKALI_FLAG_W,PH_TOT,PH_TOT_FLAG_W,PH_TMP,TRITUM,TRITUM_FLAG_W,HELIUM,HELIUM_FLAG_W,DELHE3,DELHE3_FLAG_W,REFTMP,REFTMP_FLAG_W,DELC13,DELC13_FLAG_W,DELC14,DELC14_FLAG_W,C14ERR,NEON,NEON_FLAG_W,DELO18,DELO18_FLAG_W,POC,POC_FLAG_W,DOC,DOC_FLAG_W,TDN,TDN_FLAG_W,BTL_LAT,BTL_LON,TRITER,NEONER,SALTREF,SALTREF_FLAG_W,PIGMENTS,PIGMENTS_FLAG_W,LAB_DEN,LAB_DEN_FLAG_W,CDOM325,CDOM325_FLAG_W,CDOM340,CDOM340_FLAG_W,CDOM380,CDOM380_FLAG_W,CDOM412,CDOM412_FLAG_W,CDOM443,CDOM443_FLAG_W,CDOM490,CDOM490_FLAG_W,CDOM555,CDOM555_FLAG_W,CDOMSL,CDOMSL_FLAG_W,CDOMSN,CDOMSN_FLAG_W,HELIER,DELHER,THETA,LDEO_SAMPNO,ABSORBTION,ABSORBTION_FLAG_W,IMAGE_COUNT,IMAGE_COUNT_FLAG_W,CYTO_COUNT,CYTO_COUNT_FLAG_W,DELD,DELD_FLAG_W,DELDERR,BTL_DATE,BTL_TIME
,,,,,,,,,,,METERS,DBAR,ITS-90,PSS-78,,PSS-78,,UMOL/KG,,UMOL/KG,,UMOL/KG,,UMOL/KG,,UMOL/KG,,UMOL/KG,,PMOL/KG,,PMOL/KG,,PMOL/KG,,FMOL/KG,,UMOL/KG,,UMOL/KG,,,,DEG C,TU,,NMOL/KG,,PERCNT,,DEG C,,/MILLE,,/MILLE,,/MILLE,NMOL/KG,,/MILLE,,UG/KG,,UMOL/KG,,UMOL/KG,,,,TU,NMOL/KG,G/KG,,,,,,1/M,,1/M,,1/M,,1/M,,1/M,,1/M,,1/M,,1/NM,,1/NM,,NMOL/KG,PERCNT,DEG C,,,,,,,,/MILLE,,/MILLE,,
320620110219,       S04P,      10,          2,         36,         36,2,20110224,       0747,   -69.4531,   170.2830,       2802,     4.6,  -1.4815,  33.9345,2,  33.9356,2,    337.1,3,   341.3,2,   68.42,2,   28.63,2,    0.11,2,    1.91,2,-999.000,9,-999.000,9,-999.000,9,-999.0000,9,  2184.5,2,  2293.0,2,   7.6410,2,    25.00,-999.000,9,-999.0000,9,-999.000,9,  -1.4826,2, -999.00,9,  -999.0,9,  -999.0,-999.000,9, -999.00,9,-999.000,9, -999.00,9, -999.00,9, -69.4531, 170.2829,-999.000,     -999.0,    34.0956,2,     -999.0,9,     -999.0,9,-999.0000,9,-999.0000,9,-999.0000,9,-999.0000,9,-999.0000,9,-999.0000,9,-999.0000,9,-999.0000,9,-999.0000,9,-999.0000,-999.000,  -1.4816,     -999.0,     -999.0,9,     -999.0,9,     -999.0,9,     -999.0,9,     -999.0,20110224,       0920
320620110219,       S04P,      10,          2,         35,         35,4,20110224,       0747,   -69.4531,   170.2830,       2802,    60.3,  -1.5701,  34.0303,2,  34.0306,2,    343.6,2,   342.8,2,   67.64,2,   28.62,2,    0.12,2,    1.90,2,   3.669,2,   2.157,2,   0.400,2,   2.6590,2,  2193.6,6,  2300.1,2,   7.6346,2,    25.00,-999.000,9,-999.0000,9,-999.000,9,  -1.5698,2, -999.00,9,  -999.0,9,  -999.0,-999.000,9, -999.00,9,-999.000,9, -999.00,9, -999.00,9, -69.4531, 170.2830,-999.000,     -999.0,    34.1911,2,     -999.0,9,     -999.0,9,-999.0000,9,-999.0000,9,-999.0000,9,-999.0000,9,-999.0000,9,-999.0000,9,-999.0000,9,-999.0000,9,-999.0000,9,-999.0000,-999.000,  -1.5714,     -999.0,     -999.0,9,     -999.0,9,     -999.0,9,     -999.0,9,     -999.0,20110224,       0916
320620110219,       S04P,      10,          2,         34,         34,4,20110224,       0747,   -69.4531,   170.2830,       2802,    85.0,  -1.6449,  34.0479,2,  34.0490,2,    341.6,2,   340.6,2,   67.84,2,   28.51,2,    0.12,2,    1.90,2,   5.382,2,   3.014,2,   0.555,2,   2.7100,3,  2195.7,2,  2301.4,6,   7.6360,2,    25.00,-999.000,9,-999.0000,9,-999.000,9,  -1.6438,2, -999.00,9,  -999.0,9,  -999.0,-999.000,9, -999.00,9,-999.000,9, -999.00,9, -999.00,9, -69.4531, 170.2829,-999.000,     -999.0,    34.2096,2,     -999.0,9,     -999.0,9,-999.0000,9,-999.0000,9,-999.0000,9,-999.0000,9,-999.0000,9,-999.0000,9,-999.0000,9,-999.0000,9,-999.0000,9,-999.0000,-999.000,  -1.6466,     -999.0,     -999.0,9,     -999.0,9,     -999.0,9,     -999.0,9,     -999.0,20110224,       0914
320620110219,       S04P,      10,          2,         33,         33,4,20110224,       0747,   -69.4531,   170.2830,       2802,   109.1,  -1.6789,  34.1543,2,  34.1520,2,    332.5,2,   319.5,2,   68.71,2,   29.43,2,    0.11,2,    1.94,2,-999.000,9,-999.000,9,-999.000,9,-999.0000,9,  2207.7,2,  2303.9,4,   7.6207,2,    25.00,-999.000,9,-999.0000,9,-999.000,9,  -1.6786,2, -999.00,9,  -999.0,9,  -999.0,-999.000,9, -999.00,9,-999.000,9, -999.00,9, -999.00,9, -69.4531, 170.2830,-999.000,     -999.0,    34.3130,2,     -999.0,9,     -999.0,9,-999.0000,9,-999.0000,9,-999.0000,9,-999.0000,9,-999.0000,9,-999.0000,9,-999.0000,9,-999.0000,9,-999.0000,9,-999.0000,-999.000,  -1.6812,     -999.0,     -999.0,9,     -999.0,9,     -999.0,9,     -999.0,9,     -999.0,20110224,       0912
320620110219,       S04P,      10,          2,         32,         32,4,20110224,       0747,   -69.4531,   170.2830,       2802,   135.9,  -1.6782,  34.3363,2,  34.3302,2,    284.5,2,   287.5,2,   69.98,2,   30.50,2,    0.03,2,    2.01,2,   3.086,2,   1.764,2,   0.340,2,   2.3850,3,  2225.2,2,  2313.7,4,   7.6012,4,    25.00,-999.000,9,-999.0000,9,-999.000,9,  -1.6762,2, -999.00,9,  -999.0,9,  -999.0,-999.000,9, -999.00,9,-999.000,9, -999.00,9, -999.00,9, -69.4531, 170.2829,-999.000,     -999.0,    34.4920,2,     -999.0,9,     -999.0,9,-999.0000,9,-999.0000,9,-999.0000,9,-999.0000,9,-999.0000,9,-999.0000,9,-999.0000,9,-999.0000,9,-999.0000,9,-999.0000,-999.000,  -1.6811,     -999.0,     -999.0,9,     -999.0,9,     -999.0,9,     -999.0,9,     -999.0,20110224,       0910
320620110219,       S04P,      10,          2,         31,         31,4,20110224,       0747,   -69.4531,   170.2830,       2802,   159.0,  -1.4685,  34.3681,2,  34.3713,2,    277.4,2,   275.5,2,   73.19,2,   30.77,2,    0.01,2,    2.04,2,-999.000,9,-999.000,9,-999.000,9,-999.0000,9,  -999.0,9,  -999.0,9,-999.0000,9,  -999.00,-999.000,9,-999.0000,9,-999.000,9,  -1.4868,2, -999.00,9,  -999.0,9,  -999.0,-999.000,9, -999.00,9,-999.000,9, -999.00,9, -999.00,9, -69.4531, 170.2829,-999.000,     -999.0,    34.5334,2,     -999.0,9,     -999.0,9,-999.0000,9,-999.0000,9,-999.0000,9,-999.0000,9,-999.0000,9,-999.0000,9,-999.0000,9,-999.0000,9,-999.0000,9,-999.0000,-999.000,  -1.4722,     -999.0,     -999.0,9,     -999.0,9,     -999.0,9,     -999.0,9,     -999.0,20110224,       0909
320620110219,       S04P,      10,          2,         30,         30,4,20110224,       0747,   -69.4531,   170.2830,       2802,   184.4,  -0.8393,  34.4419,2,  34.4395,2,    261.0,2,   254.2,2,   79.46,2,   31.38,2,    0.01,2,    2.09,2,-999.000,9,-999.000,9,-999.000,9,-999.0000,9,  2239.4,2,  2328.1,2,   7.5925,4,    25.00,-999.000,9,-999.0000,9,-999.000,9,  -0.8377,2, -999.00,9,  -999.0,9,  -999.0,-999.000,9, -999.00,9,-999.000,9, -999.00,9, -999.00,9, -69.4531, 170.2829,-999.000,     -999.0,    34.6019,2,     -999.0,9,     -999.0,9,-999.0000,9,-999.0000,9,-999.0000,9,-999.0000,9,-999.0000,9,-999.0000,9,-999.0000,9,-999.0000,9,-999.0000,9,-999.0000,-999.000,  -0.8447,     -999.0,     -999.0,9,     -999.0,9,     -999.0,9,     -999.0,9,     -999.0,20110224,       0907
320620110219,       S04P,      10,          2,         29,         29,4,20110224,       0747,   -69.4531,   170.2830,       2802,   209.2,   0.1708,  34.5457,2,  34.5412,2,    242.6,2,   224.8,2,   85.61,2,   31.74,2,    0.00,2,    2.15,2,-999.000,9,-999.000,9,-999.000,9,-999.0000,9,  -999.0,9,  -999.0,9,-999.0000,9,  -999.00,-999.000,9,-999.0000,9,-999.000,9,   0.2117,3, -999.00,9,  -999.0,9,  -999.0,-999.000,9, -999.00,9,-999.000,9, -999.00,9, -999.00,9, -69.4531, 170.2830,-999.000,     -999.0,    34.7041,2,     -999.0,9,     -999.0,9,-999.0000,9,-999.0000,9,-999.0000,9,-999.0000,9,-999.0000,9,-999.0000,9,-999.0000,9,-999.0000,9,-999.0000,9,-999.0000,-999.000,   0.1628,     -999.0,     -999.0,9,     -999.0,9,     -999.0,9,     -999.0,9,     -999.0,20110224,       0905
320620110219,       S04P,      10,          2,         28,         28,4,20110224,       0747,   -69.4531,   170.2830,       2802,   234.4,   0.7277,  34.6190,2,  34.6187,2,    211.5,2,   205.4,2,   90.94,2,   31.96,2,    0.00,2,    2.18,2,   1.244,2,   0.689,2,   0.135,2,-999.0000,9,  2254.0,2,  2340.2,2,   7.5704,2,    25.00,-999.000,9,-999.0000,9,-999.000,9,   0.7282,2, -999.00,9,  -999.0,9,  -999.0,-999.000,9, -999.00,9,-999.000,9, -999.00,9, -999.00,9, -69.4531, 170.2829,-999.000,     -999.0,    34.7819,2,     -999.0,9,     -999.0,9,-999.0000,9,-999.0000,9,-999.0000,9,-999.0000,9,-999.0000,9,-999.0000,9,-999.0000,9,-999.0000,9,-999.0000,9,-999.0000,-999.000,   0.7175,     -999.0,     -999.0,9,     -999.0,9,     -999.0,9,     -999.0,9,     -999.0,20110224,       0904
320620110219,       S04P,      10,          2,         27,         27,4,20110224,       0747,   -69.4531,   170.2830,       2802,   265.5,   1.0901,  34.6665,2,  34.6656,2,    199.9,2,   195.1,2,   94.00,2,   32.21,2,    0.00,2,    2.18,2,-999.000,9,-999.000,9,-999.000,9,-999.0000,9,  -999.0,9,  -999.0,9,-999.0000,9,  -999.00,-999.000,9,-999.0000,9,-999.000,9,   1.0996,2, -999.00,9,  -999.0,9,  -999.0,-999.000,9, -999.00,9,-999.000,9, -999.00,9, -999.00,9, -69.4531, 170.2830,-999.000,     -999.0,    34.8290,2,     -999.0,9,     -999.0,9,-999.0000,9,-999.0000,9,-999.0000,9,-999.0000,9,-999.0000,9,-999.0000,9,-999.0000,9,-999.0000,9,-999.0000,9,-999.0000,-999.000,   1.0777,     -999.0,     -999.0,9,     -999.0,9,     -999.0,9,     -999.0,9,     -999.0,20110224,       0902
320620110219,       S04P,      10,          2,         26,         26,4,20110224,       0747,   -69.4531,   170.2830,       2802,   313.4,   1.0484,  34.6779,2,  34.6766,2,    196.0,2,   196.5,2,   95.44,2,   32.10,2,    0.00,2,    2.20,2,-999.000,9,-999.000,9,-999.000,9,-999.0000,9,  2256.4,2,  2344.1,2,   7.5711,2,    25.00,-999.000,9,-999.0000,9,-999.000,9,   1.0473,2, -999.00,9,  -999.0,9,  -999.0,-999.000,9, -999.00,9,-999.000,9, -999.00,9, -999.00,9, -69.4531, 170.2830,-999.000,     -999.0,    34.8401,2,     -999.0,9,     -999.0,9,-999.0000,9,-999.0000,9,-999.0000,9,-999.0000,9,-999.0000,9,-999.0000,9,-999.0000,9,-999.0000,9,-999.0000,9,-999.0000,-999.000,   1.0337,     -999.0,     -999.0,9,     -999.0,9,     -999.0,9,     -999.0,9,     -999.0,20110224,       0900
320620110219,       S04P,      10,          2,         25,         25,4,20110224,       0747,   -69.4531,   170.2830,       2802,   366.3,   1.0585,  34.6878,2,  34.6870,2,    196.6,2,   195.8,2,   98.24,2,   32.34,2,    0.00,2,    2.15,2,-999.000,9,-999.000,9,-999.000,9,-999.0000,9,  2256.3,2,  2342.0,4,   7.5761,2,    25.00,-999.000,9,-999.0000,9,-999.000,9,   1.0587,2, -999.00,9,  -999.0,9,  -999.0,-999.000,9, -999.00,9,-999.000,9, -999.00,9, -999.00,9, -69.4531, 170.2830,-999.000,     -999.0,    34.8505,2,     -999.0,9,     -999.0,9,-999.0000,9,-999.0000,9,-999.0000,9,-999.0000,9,-999.0000,9,-999.0000,9,-999.0000,9,-999.0000,9,-999.0000,9,-999.0000,-999.000,   1.0411,     -999.0,     -999.0,9,     -999.0,9,     -999.0,9,     -999.0,9,     -999.0,20110224,       0858
320620110219,       S04P,      10,          2,         24,         24,4,20110224,       0747,   -69.4531,   170.2830,       2802,   413.9,   1.0688,  34.6945,2,  34.6923,2,    195.9,2,   196.5,2,   99.77,2,   32.09,2,    0.00,2,    2.17,2,   0.573,2,   0.289,2,   0.061,2,   0.2740,2,  2257.1,2,  2346.8,2,   7.5756,2,    25.00,-999.000,9,-999.0000,9,-999.000,9,   1.0686,2, -999.00,9,  -999.0,9,  -999.0,-999.000,9, -999.00,9,-999.000,9, -999.00,9, -999.00,9, -69.4531, 170.2830,-999.000,     -999.0,    34.8558,2,     -999.0,9,     -999.0,9,-999.0000,9,-999.0000,9,-999.0000,9,-999.0000,9,-999.0000,9,-999.0000,9,-999.0000,9,-999.0000,9,-999.0000,9,-999.0000,-999.000,   1.0490,     -999.0,     -999.0,9,     -999.0,9,     -999.0,9,     -999.0,9,     -999.0,20110224,       0856
320620110219,       S04P,      10,          2,         23,         23,4,20110224,       0747,   -69.4531,   170.2830,       2802,   463.4,   1.0653,  34.7006,2,  34.6989,2,    195.7,2,   195.7,2,  101.94,2,   32.08,2,    0.00,2,    2.17,2,-999.000,9,-999.000,9,-999.000,9,-999.0000,9,  2257.4,2,  2347.5,2,   7.5752,2,    25.00,-999.000,9,-999.0000,9,-999.000,9,   1.0647,2, -999.00,9,  -999.0,9,  -999.0,-999.000,9, -999.00,9,-999.000,9, -999.00,9, -999.00,9, -69.4531, 170.2829,-999.000,     -999.0,    34.8626,2,     -999.0,9,     -999.0,9,-999.0000,9,-999.0000,9,-999.0000,9,-999.0000,9,-999.0000,9,-999.0000,9,-999.0000,9,-999.0000,9,-999.0000,9,-999.0000,-999.000,   1.0429,     -999.0,     -999.0,9,     -999.0,9,     -999.0,9,     -999.0,9,     -999.0,20110224,       0854
320620110219,       S04P,      10,          2,         22,         22,4,20110224,       0747,   -69.4531,   170.2830,       2802,   534.9,   1.0571,  34.7055,2,  34.7005,2,    195.3,2,   195.7,2,  104.05,2,   32.05,2,    0.00,2,    2.17,2,   0.467,2,   0.218,2,   0.034,2,   0.1650,2,  2256.6,2,  2340.3,4,   7.5810,2,    25.00,-999.000,9,-999.0000,9,-999.000,9,   1.0573,2, -999.00,9,  -999.0,9,  -999.0,-999.000,9, -999.00,9,-999.000,9, -999.00,9, -999.00,9, -69.4531, 170.2830,-999.000,     -999.0,    34.8641,2,     -999.0,9,     -999.0,9,-999.0000,9,-999.0000,9,-999.0000,9,-999.0000,9,-999.0000,9,-999.0000,9,-999.0000,9,-999.0000,9,-999.0000,9,-999.0000,-999.000,   1.0310,     -999.0,     -999.0,9,     -999.0,9,     -999.0,9,     -999.0,9,     -999.0,20110224,       0852
320620110219,       S04P,      10,          2,         21,         21,4,20110224,       0747,   -69.4531,   170.2830,       2802,   634.4,   1.0082,  34.7075,2,  34.7032,2,    195.9,2,   196.6,2,  106.40,2,   32.10,2,    0.00,2,    2.17,2,-999.000,9,-999.000,9,-999.000,9,-999.0000,9,  -999.0,9,  -999.0,9,-999.0000,9,  -999.00,-999.000,9,-999.0000,9,-999.000,9,   1.0082,2, -999.00,9,  -999.0,9,  -999.0,-999.000,9, -999.00,9,-999.000,9, -999.00,9, -999.00,9, -69.4531, 170.2830,-999.000,     -999.0,    34.8669,2,     -999.0,9,     -999.0,9,-999.0000,9,-999.0000,9,-999.0000,9,-999.0000,9,-999.0000,9,-999.0000,9,-999.0000,9,-999.0000,9,-999.0000,9,-999.0000,-999.000,   0.9769,     -999.0,     -999.0,9,     -999.0,9,     -999.0,9,     -999.0,9,     -999.0,20110224,       0849
320620110219,       S04P,      10,          2,         20,         20,4,20110224,       0747,   -69.4531,   170.2830,       2802,   734.7,   0.9345,  34.7067,2,  34.7060,2,    197.8,2,   198.6,2,  109.29,2,   32.10,2,    0.00,2,    2.15,2,-999.000,9,-999.000,9,-999.000,9,-999.0000,9,  2258.9,2,  2348.9,2,   7.5843,2,    25.00,-999.000,9,-999.0000,9,-999.000,9,   0.9335,2, -999.00,9,  -999.0,9,  -999.0,-999.000,9, -999.00,9,-999.000,9, -999.00,9, -999.00,9, -69.4531, 170.2829,-999.000,     -999.0,    34.8696,2,     -999.0,9,     -999.0,9,-999.0000,9,-999.0000,9,-999.0000,9,-999.0000,9,-999.0000,9,-999.0000,9,-999.0000,9,-999.0000,9,-999.0000,9,-999.0000,-999.000,   0.8981,     -999.0,     -999.0,9,     -999.0,9,     -999.0,9,     -999.0,9,     -999.0,20110224,       0846
320620110219,       S04P,      10,          2,         19,         19,4,20110224,       0747,   -69.4531,   170.2830,       2802,   835.1,   0.8795,  34.7070,2,  34.7072,2,    199.6,2,   200.1,2,  112.03,2,   32.24,2,    0.00,2,    2.17,2,-999.000,9,-999.000,9,-999.000,9,-999.0000,9,  -999.0,9,  -999.0,9,-999.0000,9,  -999.00,-999.000,9,-999.0000,9,-999.000,9,   0.8795,2, -999.00,9,  -999.0,9,  -999.0,-999.000,9, -999.00,9,-999.000,9, -999.00,9, -999.00,9, -69.4531, 170.2829,-999.000,     -999.0,    34.8708,2,     -999.0,9,     -999.0,9,-999.0000,9,-999.0000,9,-999.0000,9,-999.0000,9,-999.0000,9,-999.0000,9,-999.0000,9,-999.0000,9,-999.0000,9,-999.0000,-999.000,   0.8377,     -999.0,     -999.0,9,     -999.0,9,     -999.0,9,     -999.0,9,     -999.0,20110224,       0844
320620110219,       S04P,      10,          2,         18,         18,4,20110224,       0747,   -69.4531,   170.2830,       2802,   935.3,   0.8147,  34.7053,2,  34.7052,2,    201.3,2,   201.2,2,  114.06,2,   32.17,2,    0.00,2,    2.18,2,   0.483,2,   0.144,2,   0.045,2,   0.1590,2,  2259.0,2,  2353.8,2,   7.5856,2,    25.00,-999.000,9,-999.0000,9,-999.000,9,   0.8144,2, -999.00,9,  -999.0,9,  -999.0,-999.000,9, -999.00,9,-999.000,9, -999.00,9, -999.00,9, -69.4531, 170.2829,-999.000,     -999.0,    34.8688,2,     -999.0,9,     -999.0,9,-999.0000,9,-999.0000,9,-999.0000,9,-999.0000,9,-999.0000,9,-999.0000,9,-999.0000,9,-999.0000,9,-999.0000,9,-999.0000,-999.000,   0.7676,     -999.0,     -999.0,9,     -999.0,9,     -999.0,9,     -999.0,9,     -999.0,20110224,       0841
320620110219,       S04P,      10,          2,         17,         17,4,20110224,       0747,   -69.4531,   170.2830,       2802,  1035.4,   0.7777,  34.7057,2,  34.7038,2,    202.6,2,   202.1,2,  116.52,2,   32.28,2,    0.00,2,    2.17,2,   0.288,2,   0.124,2,   0.030,2,   0.1680,2,  -999.0,9,  -999.0,9,-999.0000,9,  -999.00,-999.000,9,-999.0000,9,-999.000,9,   0.7770,2, -999.00,9,  -999.0,9,  -999.0,-999.000,9, -999.00,9,-999.000,9, -999.00,9, -999.00,9, -69.4531, 170.2829,-999.000,     -999.0,    34.8675,2,     -999.0,9,     -999.0,9,-999.0000,9,-999.0000,9,-999.0000,9,-999.0000,9,-999.0000,9,-999.0000,9,-999.0000,9,-999.0000,9,-999.0000,9,-999.0000,-999.000,   0.7250,     -999.0,     -999.0,9,     -999.0,9,     -999.0,9,     -999.0,9,     -999.0,20110224,       0838
320620110219,       S04P,      10,          2,         16,         16,4,20110224,       0747,   -69.4531,   170.2830,       2802,  1134.3,   0.7214,  34.7033,2,  34.7085,4,    204.1,2,   203.4,2,  116.64,2,   32.18,2,    0.00,2,    2.17,2,-999.000,9,-999.000,9,-999.000,9,-999.0000,9,  2259.5,2,  -999.0,5,   7.5880,4,    25.00,-999.000,9,-999.0000,9,-999.000,9,   0.7214,2, -999.00,9,  -999.0,9,  -999.0,-999.000,9, -999.00,9,-999.000,9, -999.00,9, -999.00,9, -69.4531, 170.2830,-999.000,     -999.0,    34.8722,4,     -999.0,9,     -999.0,9,-999.0000,9,-999.0000,9,-999.0000,9,-999.0000,9,-999.0000,9,-999.0000,9,-999.0000,9,-999.0000,9,-999.0000,9,-999.0000,-999.000,   0.6632,     -999.0,     -999.0,9,     -999.0,9,     -999.0,9,     -999.0,9,     -999.0,20110224,       0835
320620110219,       S04P,      10,          2,         15,         15,4,20110224,       0747,   -69.4531,   170.2830,       2802,  1235.2,   0.6557,  34.7003,2,  34.6985,2,    205.9,2,   206.1,2,  118.28,2,   32.36,2,    0.00,2,    2.18,2,-999.000,9,-999.000,9,-999.000,9,-999.0000,9,  -999.0,9,  -999.0,9,-999.0000,9,  -999.00,-999.000,9,-999.0000,9,-999.000,9,   0.6555,2, -999.00,9,  -999.0,9,  -999.0,-999.000,9, -999.00,9,-999.000,9, -999.00,9, -999.00,9, -69.4531, 170.2830,-999.000,     -999.0,    34.8621,2,     -999.0,9,     -999.0,9,-999.0000,9,-999.0000,9,-999.0000,9,-999.0000,9,-999.0000,9,-999.0000,9,-999.0000,9,-999.0000,9,-999.0000,9,-999.0000,-999.000,   0.5919,     -999.0,     -999.0,9,     -999.0,9,     -999.0,9,     -999.0,9,     -999.0,20110224,       0832
320620110219,       S04P,      10,          2,         14,         14,4,20110224,       0747,   -69.4531,   170.2830,       2802,  1335.2,   0.6072,  34.6986,2,  34.6990,2,    207.1,2,   206.5,2,  118.71,2,   32.27,2,    0.00,2,    2.20,2,-999.000,9,-999.000,9,-999.000,9,-999.0000,9,  2257.5,2,  2355.0,2,   7.5859,2,    25.00,-999.000,9,-999.0000,9,-999.000,9,   0.6074,2, -999.00,9,  -999.0,9,  -999.0,-999.000,9, -999.00,9,-999.000,9, -999.00,9, -999.00,9, -69.4531, 170.2830,-999.000,     -999.0,    34.8627,2,     -999.0,9,     -999.0,9,-999.0000,9,-999.0000,9,-999.0000,9,-999.0000,9,-999.0000,9,-999.0000,9,-999.0000,9,-999.0000,9,-999.0000,9,-999.0000,-999.000,   0.5377,     -999.0,     -999.0,9,     -999.0,9,     -999.0,9,     -999.0,9,     -999.0,20110224,       0829