BOTTLE,20220813CCHSIOAMB
EXPOCODE,SECT_ID,STNNBR,CASTNO,SAMPNO,BTLNBR,BTLNBR_FLAG_W,DATE,TIME,LATITUDE,LONGITUDE,DEPTH,CTDPRS,CTDTMP,CTDSAL,CTDSAL_FLAG_W,SALNTY,SALNTY_FLAG_W,CTDOXY,CTDOXY_FLAG_W,OXYGEN,OXYGEN_FLAG_W,SILCAT,SILCAT_FLAG_W,NITRAT,NITRAT_FLAG_W,NITRIT,NITRIT_FLAG_W,PHSPHT,PHSPHT_FLAG_W,CFC-11,CFC-11_FLAG_W,CFC-12,CFC-12_FLAG_W,CFC113,CFC113_FLAG_W,SF6,SF6_FLAG_W,TCARBN,TCARBN_FLAG_W,ALKALI,ALKALI_FLAG_W,PH_TOT,PH_TOT_FLAG_W,PH_TMP,TRITUM,TRITUM_FLAG_W,HELIUM,HELIUM_FLAG_W,DELHE3,DELHE3_FLAG_W,REFTMP,REFTMP_FLAG_W,DELC13,DELC13_FLAG_W,DELC14,DELC14_FLAG_W,C14ERR,NEON,NEON_FLAG_W,DELO18,DELO18_FLAG_W,POC,POC_FLAG_W,DOC,DOC_FLAG_W,TDN,TDN_FLAG_W,BTL_LAT,BTL_LON,TRITER,NEONER,SALTREF,SALTREF_FLAG_W,PIGMENTS,PIGMENTS_FLAG_W,LAB_DEN,LAB_DEN_FLAG_W,CDOM325,CDOM325_FLAG_W,CDOM340,CDOM340_FLAG_W,CDOM380,CDOM380_FLAG_W,CDOM412,CDOM412_FLAG_W,CDOM443,CDOM443_FLAG_W,CDOM490,CDOM490_FLAG_W,CDOM555,CDOM555_FLAG_W,CDOMSL,CDOMSL_FLAG_W,CDOMSN,CDOMSN_FLAG_W,HELIER,DELHER,THETA,LDEO_SAMPNO,ABSORBTION,ABSORBTION_FLAG_W,IMAGE_COUNT,IMAGE_COUNT_FLAG_W,CYTO_COUNT,CYTO_COUNT_FLAG_W,DELD,DELD_FLAG_W,DELDERR,BTL_DATE,BTL_TIME
,,,,,,,,,,,METERS,DBAR,ITS-90,PSS-78,,PSS-78,,UMOL/KG,,UMOL/KG,,UMOL/KG,,UMOL/KG,,UMOL/KG,,UMOL/KG,,PMOL/KG,,PMOL/KG,,PMOL/KG,,FMOL/KG,,UMOL/KG,,UMOL/KG,,,,DEG C,TU,,NMOL/KG,,PERCNT,,DEG C,,/MILLE,,/MILLE,,/MILLE,NMOL/KG,,/MILLE,,UG/KG,,UMOL/KG,,UMOL/KG,,,,TU,NMOL/KG,G/KG,,,,,,1/M,,1/M,,1/M,,1/M,,1/M,,1/M,,1/M,,1/NM,,1/NM,,NMOL/KG,PERCNT,DEG C,,,,,,,,/MILLE,,/MILLE,,
320620110219,       S04P,      27,          2,         13,         13,2,20110305,       1152,   -67.0005,  -172.9024,       3574,  1500.2,   0.6804,  34.7062,2,  34.7069,2,    206.2,2,   206.6,2,  119.91,2,   31.86,2,    0.00,2,    2.19,2,-999.000,9,-999.000,9,-999.000,9,-999.0000,9,  -999.0,9,  -999.0,9,-999.0000,9,  -999.00,-999.000,9,-999.0000,9,-999.000,9,   0.6802,2, -999.00,9,  -999.0,9,  -999.0,-999.000,9, -999.00,9,-999.000,9, -999.00,9, -999.00,9, -67.0006,-172.9024,-999.000,     -999.0,    34.8705,2,     -999.0,9,     -999.0,9,-999.0000,9,-999.0000,9,-999.0000,9,-999.0000,9,-999.0000,9,-999.0000,9,-999.0000,9,-999.0000,9,-999.0000,9,-999.0000,-999.000,   0.5993,     -999.0,     -999.0,9,     -999.0,9,     -999.0,9,     -999.0,9,     -999.0,20110305,       1246
320620110219,       S04P,      27,          2,         12,         12,2,20110305,       1152,   -67.0005,  -172.9024,       3574,  1598.8,   0.6352,  34.7046,2,  34.7059,2,    207.0,2,   207.7,2,  120.12,2,   31.85,2,    0.00,2,    2.19,2,   0.277,2,   0.141,2,   0.017,2,-999.0000,9,  2261.0,2,  2359.4,2,   7.5948,2,    25.00,-999.000,9,-999.0000,9,-999.000,9,   0.6354,2, -999.00,9,  -999.0,9,  -999.0,-999.000,9, -999.00,9,-999.000,9, -999.00,9, -999.00,9, -67.0006,-172.9024,-999.000,     -999.0,    34.8695,2,     -999.0,9,     -999.0,9,-999.0000,9,-999.0000,9,-999.0000,9,-999.0000,9,-999.0000,9,-999.0000,9,-999.0000,9,-999.0000,9,-999.0000,9,-999.0000,-999.000,   0.5480,     -999.0,     -999.0,9,     -999.0,9,     -999.0,9,     -999.0,9,     -999.0,20110305,       1243
320620110219,       S04P,      27,          2,         11,         11,2,20110305,       1152,   -67.0005,  -172.9024,       3574,  1701.8,   0.5908,  34.7030,2,  34.7029,2,    207.9,2,   208.3,2,  121.74,2,   31.91,2,    0.00,2,    2.19,2,-999.000,9,-999.000,9,-999.000,9,-999.0000,9,  -999.0,9,  -999.0,9,-999.0000,9,  -999.00,-999.000,9,-999.0000,9,-999.000,9,   0.5910,2, -999.00,9,  -999.0,9,  -999.0,-999.000,9, -999.00,9,-999.000,9, -999.00,9, -999.00,9, -67.0006,-172.9024,-999.000,     -999.0,    34.8666,2,     -999.0,9,     -999.0,9,-999.0000,9,-999.0000,9,-999.0000,9,-999.0000,9,-999.0000,9,-999.0000,9,-999.0000,9,-999.0000,9,-999.0000,9,-999.0000,-999.000,   0.4971,     -999.0,     -999.0,9,     -999.0,9,     -999.0,9,     -999.0,9,     -999.0,20110305,       1240
320620110219,       S04P,      27,          2,         10,         37,2,20110305,       1152,   -67.0005,  -172.9024,       3574,  1800.0,   0.5466,  34.7016,2,  34.7015,2,    208.8,2,   208.9,2,  121.62,2,   31.84,2,    0.00,2,    2.20,2,-999.000,9,-999.000,9,-999.000,9,-999.0000,9,  2259.5,2,  2360.2,2,   7.5934,2,    25.00,-999.000,9,-999.0000,9,-999.000,9,   0.5464,2, -999.00,9,  -999.0,9,  -999.0,-999.000,9, -999.00,9,-999.000,9, -999.00,9, -999.00,9, -67.0006,-172.9024,-999.000,     -999.0,    34.8652,2,     -999.0,9,     -999.0,9,-999.0000,9,-999.0000,9,-999.0000,9,-999.0000,9,-999.0000,9,-999.0000,9,-999.0000,9,-999.0000,9,-999.0000,9,-999.0000,-999.000,   0.4467,     -999.0,     -999.0,9,     -999.0,9,     -999.0,9,     -999.0,9,     -999.0,20110305,       1238
320620110219,       S04P,      27,          2,          9,          9,2,20110305,       1152,   -67.0005,  -172.9024,       3574,  1999.8,   0.4564,  34.6991,2,  34.6988,2,    210.7,2,   210.5,2,  122.93,2,   32.04,2,    0.00,2,    2.21,2,-999.000,9,-999.000,9,-999.000,9,-999.0000,9,  -999.0,9,  -999.0,9,-999.0000,9,  -999.00,-999.000,9,-999.0000,9,-999.000,9,   0.4561,2, -999.00,9,  -999.0,9,  -999.0,-999.000,9, -999.00,9,-999.000,9, -999.00,9, -999.00,9, -67.0006,-172.9023,-999.000,     -999.0,    34.8624,2,     -999.0,9,     -999.0,9,-999.0000,9,-999.0000,9,-999.0000,9,-999.0000,9,-999.0000,9,-999.0000,9,-999.0000,9,-999.0000,9,-999.0000,9,-999.0000,-999.000,   0.3435,     -999.0,     -999.0,9,     -999.0,9,     -999.0,9,     -999.0,9,     -999.0,20110305,       1233
320620110219,       S04P,      27,          2,          8,          8,2,20110305,       1152,   -67.0005,  -172.9024,       3574,  2201.2,   0.3799,  34.6974,2,  34.6968,2,    212.5,2,   213.6,2,  123.59,2,   32.11,2,    0.00,2,    2.21,2,   0.503,2,   0.258,2,   0.030,2,-999.0000,9,  2259.5,2,  2358.6,2,   7.5901,2,    25.00,-999.000,9,-999.0000,9,-999.000,9,   0.3791,2, -999.00,9,  -999.0,9,  -999.0,-999.000,9, -999.00,9,-999.000,9, -999.00,9, -999.00,9, -67.0006,-172.9023,-999.000,     -999.0,    34.8604,2,     -999.0,9,     -999.0,9,-999.0000,9,-999.0000,9,-999.0000,9,-999.0000,9,-999.0000,9,-999.0000,9,-999.0000,9,-999.0000,9,-999.0000,9,-999.0000,-999.000,   0.2532,     -999.0,     -999.0,9,     -999.0,9,     -999.0,9,     -999.0,9,     -999.0,20110305,       1228
320620110219,       S04P,      27,          2,          7,          7,2,20110305,       1152,   -67.0005,  -172.9024,       3574,  2399.3,   0.3054,  34.6945,2,  34.6940,2,    214.9,2,   215.3,2,  122.98,2,   32.20,2,    0.00,2,    2.21,2,-999.000,9,-999.000,9,-999.000,9,-999.0000,9,  -999.0,9,  -999.0,9,-999.0000,9,  -999.00,-999.000,9,-999.0000,9,-999.000,9,   0.3048,2, -999.00,9,  -999.0,9,  -999.0,-999.000,9, -999.00,9,-999.000,9, -999.00,9, -999.00,9, -67.0006,-172.9023,-999.000,     -999.0,    34.8576,2,     -999.0,9,     -999.0,9,-999.0000,9,-999.0000,9,-999.0000,9,-999.0000,9,-999.0000,9,-999.0000,9,-999.0000,9,-999.0000,9,-999.0000,9,-999.0000,-999.000,   0.1648,     -999.0,     -999.0,9,     -999.0,9,     -999.0,9,     -999.0,9,     -999.0,20110305,       1224
320620110219,       S04P,      27,          2,          6,          6,2,20110305,       1152,   -67.0005,  -172.9024,       3574,  2599.4,   0.2822,  34.6934,2,  34.6930,2,    215.8,2,   216.6,2,  123.19,2,   32.28,2,    0.00,2,    2.21,2,   0.716,2,   0.364,2,   0.047,2,-999.0000,9,  2259.6,2,  2358.6,2,   7.5902,2,    25.00,-999.000,9,-999.0000,9,-999.000,9,   0.2820,2, -999.00,9,  -999.0,9,  -999.0,-999.000,9, -999.00,9,-999.000,9, -999.00,9, -999.00,9, -67.0006,-172.9023,-999.000,     -999.0,    34.8566,2,     -999.0,9,     -999.0,9,-999.0000,9,-999.0000,9,-999.0000,9,-999.0000,9,-999.0000,9,-999.0000,9,-999.0000,9,-999.0000,9,-999.0000,9,-999.0000,-999.000,   0.1261,     -999.0,     -999.0,9,     -999.0,9,     -999.0,9,     -999.0,9,     -999.0,20110305,       1219
320620110219,       S04P,      27,          2,          5,          5,2,20110305,       1152,   -67.0005,  -172.9024,       3574,  2801.8,   0.2657,  34.6923,2,  34.6918,2,    217.3,2,   217.6,2,  122.90,2,   32.30,2,    0.00,2,    2.22,2,   0.775,2,   0.407,2,   0.053,2,-999.0000,9,  -999.0,9,  -999.0,9,-999.0000,9,  -999.00,-999.000,9,-999.0000,9,-999.000,9,   0.2661,2, -999.00,9,  -999.0,9,  -999.0,-999.000,9, -999.00,9,-999.000,9, -999.00,9, -999.00,9, -67.0006,-172.9023,-999.000,     -999.0,    34.8554,2,     -999.0,9,     -999.0,9,-999.0000,9,-999.0000,9,-999.0000,9,-999.0000,9,-999.0000,9,-999.0000,9,-999.0000,9,-999.0000,9,-999.0000,9,-999.0000,-999.000,   0.0932,     -999.0,     -999.0,9,     -999.0,9,     -999.0,9,     -999.0,9,     -999.0,20110305,       1214
320620110219,       S04P,      27,          2,          4,          4,2,20110305,       1152,   -67.0005,  -172.9024,       3574,  2998.6,   0.2636,  34.6922,2,  34.6908,2,    217.9,2,   218.0,2,  122.88,2,   32.34,2,    0.00,2,    2.21,2,   0.853,2,   0.435,2,   0.058,2,-999.0000,9,  2257.3,2,  2357.3,2,   7.5925,2,    25.00,-999.000,9,-999.0000,9,-999.000,9,   0.2642,2, -999.00,9,  -999.0,9,  -999.0,-999.000,9, -999.00,9,-999.000,9, -999.00,9, -999.00,9, -67.0006,-172.9023,-999.000,     -999.0,    34.8544,2,     -999.0,9,     -999.0,9,-999.0000,9,-999.0000,9,-999.0000,9,-999.0000,9,-999.0000,9,-999.0000,9,-999.0000,9,-999.0000,9,-999.0000,9,-999.0000,-999.000,   0.0743,     -999.0,     -999.0,9,     -999.0,9,     -999.0,9,     -999.0,9,     -999.0,20110305,       1209
320620110219,       S04P,      27,          2,          3,          3,2,20110305,       1152,   -67.0005,  -172.9024,       3574,  3301.4,   0.2649,  34.6915,2,  34.6906,2,    218.9,2,   218.6,2,  122.81,2,   32.33,2,    0.00,2,    2.22,2,   0.840,2,   0.438,2,   0.055,2,-999.0000,9,  2259.2,2,  2357.3,6,   7.5894,2,    25.00,-999.000,9,-999.0000,9,-999.000,9,   0.2651,2, -999.00,9,  -999.0,9,  -999.0,-999.000,9, -999.00,9,-999.000,9, -999.00,9, -999.00,9, -67.0006,-172.9024,-999.000,     -999.0,    34.8542,2,     -999.0,9,     -999.0,9,-999.0000,9,-999.0000,9,-999.0000,9,-999.0000,9,-999.0000,9,-999.0000,9,-999.0000,9,-999.0000,9,-999.0000,9,-999.0000,-999.000,   0.0485,     -999.0,     -999.0,9,     -999.0,9,     -999.0,9,     -999.0,9,     -999.0,20110305,       1201
320620110219,       S04P,      27,          2,          2,          2,2,20110305,       1152,   -67.0005,  -172.9024,       3574,  3573.5,   0.2841,  34.6909,2,  34.6922,2,    218.8,2,   218.9,2,  122.66,2,   32.37,2,    0.00,2,    2.21,2,   0.864,2,   0.449,2,   0.060,2,-999.0000,9,  2258.2,6,  2357.5,2,   7.5894,2,    25.00,-999.000,9,-999.0000,9,-999.000,9,   0.2835,2, -999.00,9,  -999.0,9,  -999.0,-999.000,9, -999.00,9,-999.000,9, -999.00,9, -999.00,9, -67.0005,-172.9024,-999.000,     -999.0,    34.8557,2,     -999.0,9,     -999.0,9,-999.0000,9,-999.0000,9,-999.0000,9,-999.0000,9,-999.0000,9,-999.0000,9,-999.0000,9,-999.0000,9,-999.0000,9,-999.0000,-999.000,   0.0417,     -999.0,     -999.0,9,     -999.0,9,     -999.0,9,     -999.0,9,     -999.0,20110305,       1154
320620110219,       S04P,      27,          2,          1,          1,2,20110305,       1152,   -67.0005,  -172.9024,       3574,  3631.8,   0.2878,  34.6907,2,  34.6902,2,    218.7,2,   219.6,2,  122.92,2,   32.33,2,    0.00,2,    2.21,2,   0.862,2,   0.453,2,   0.057,2,-999.0000,9,  2259.2,2,  2357.4,2,   7.5910,6,    25.00,-999.000,9,-999.0000,9,-999.000,9,   0.2877,2, -999.00,9,  -999.0,9,  -999.0,-999.000,9, -999.00,9,-999.000,9, -999.00,9, -999.00,9, -67.0005,-172.9024,-999.000,     -999.0,    34.8537,2,     -999.0,9,     -999.0,9,-999.0000,9,-999.0000,9,-999.0000,9,-999.0000,9,-999.0000,9,-999.0000,9,-999.0000,9,-999.0000,9,-999.0000,9,-999.0000,-999.000,   0.0397,     -999.0,     -999.0,9,     -999.0,9,     -999.0,9,     -999.0,9,     -999.0,20110305,       1152