BOTTLE,20220813CCHSIOAMB
EXPOCODE,SECT_ID,STNNBR,CASTNO,SAMPNO,BTLNBR,BTLNBR_FLAG_W,DATE,TIME,LATITUDE,LONGITUDE,DEPTH,CTDPRS,CTDTMP,CTDSAL,CTDSAL_FLAG_W,SALNTY,SALNTY_FLAG_W,CTDOXY,CTDOXY_FLAG_W,OXYGEN,OXYGEN_FLAG_W,SILCAT,SILCAT_FLAG_W,NITRAT,NITRAT_FLAG_W,NITRIT,NITRIT_FLAG_W,PHSPHT,PHSPHT_FLAG_W,CFC-11,CFC-11_FLAG_W,CFC-12,CFC-12_FLAG_W,CFC113,CFC113_FLAG_W,SF6,SF6_FLAG_W,TCARBN,TCARBN_FLAG_W,ALKALI,ALKALI_FLAG_W,PH_TOT,PH_TOT_FLAG_W,PH_TMP,TRITUM,TRITUM_FLAG_W,HELIUM,HELIUM_FLAG_W,DELHE3,DELHE3_FLAG_W,REFTMP,REFTMP_FLAG_W,DELC13,DELC13_FLAG_W,DELC14,DELC14_FLAG_W,C14ERR,NEON,NEON_FLAG_W,DELO18,DELO18_FLAG_W,POC,POC_FLAG_W,DOC,DOC_FLAG_W,TDN,TDN_FLAG_W,BTL_LAT,BTL_LON,TRITER,NEONER,SALTREF,SALTREF_FLAG_W,PIGMENTS,PIGMENTS_FLAG_W,LAB_DEN,LAB_DEN_FLAG_W,CDOM325,CDOM325_FLAG_W,CDOM340,CDOM340_FLAG_W,CDOM380,CDOM380_FLAG_W,CDOM412,CDOM412_FLAG_W,CDOM443,CDOM443_FLAG_W,CDOM490,CDOM490_FLAG_W,CDOM555,CDOM555_FLAG_W,CDOMSL,CDOMSL_FLAG_W,CDOMSN,CDOMSN_FLAG_W,HELIER,DELHER,THETA,LDEO_SAMPNO,ABSORBTION,ABSORBTION_FLAG_W,IMAGE_COUNT,IMAGE_COUNT_FLAG_W,CYTO_COUNT,CYTO_COUNT_FLAG_W,DELD,DELD_FLAG_W,DELDERR,BTL_DATE,BTL_TIME
,,,,,,,,,,,METERS,DBAR,ITS-90,PSS-78,,PSS-78,,UMOL/KG,,UMOL/KG,,UMOL/KG,,UMOL/KG,,UMOL/KG,,UMOL/KG,,PMOL/KG,,PMOL/KG,,PMOL/KG,,FMOL/KG,,UMOL/KG,,UMOL/KG,,,,DEG C,TU,,NMOL/KG,,PERCNT,,DEG C,,/MILLE,,/MILLE,,/MILLE,NMOL/KG,,/MILLE,,UG/KG,,UMOL/KG,,UMOL/KG,,,,TU,NMOL/KG,G/KG,,,,,,1/M,,1/M,,1/M,,1/M,,1/M,,1/M,,1/M,,1/NM,,1/NM,,NMOL/KG,PERCNT,DEG C,,,,,,,,/MILLE,,/MILLE,,
320620110219,       S04P,      19,          1,         13,         13,2,20110301,       0543,   -67.0001,   176.8628,       3555,  1533.8,   0.7288,  34.7103,2,  34.7115,2,    203.4,2,   203.5,2,  122.83,2,   32.45,2,    0.00,2,    2.18,2,   0.098,2,   0.051,2,   0.011,2,-999.0000,9,  -999.0,9,  -999.0,9,-999.0000,9,  -999.00,-999.000,9,-999.0000,9,-999.000,9,   0.7296,2, -999.00,9,  -999.0,9,  -999.0,-999.000,9, -999.00,9,-999.000,9, -999.00,9, -999.00,9, -67.0001, 176.8628,-999.000,     -999.0,    34.8752,2,     -999.0,9,     -999.0,9,-999.0000,9,-999.0000,9,-999.0000,9,-999.0000,9,-999.0000,9,-999.0000,9,-999.0000,9,-999.0000,9,-999.0000,9,-999.0000,-999.000,   0.6448,     -999.0,     -999.0,9,     -999.0,9,     -999.0,9,     -999.0,9,     -999.0,20110301,       0635
320620110219,       S04P,      19,          1,         12,         12,2,20110301,       0543,   -67.0001,   176.8628,       3555,  1634.7,   0.6874,  34.7084,2,  34.7084,2,    204.4,2,   204.1,2,  123.90,2,   32.52,2,    0.00,2,    2.17,2,-999.000,9,-999.000,9,-999.000,9,-999.0000,9,  -999.0,9,  -999.0,9,-999.0000,9,  -999.00,-999.000,9,-999.0000,9,-999.000,9,   0.6877,2, -999.00,9,  -999.0,9,  -999.0,-999.000,9, -999.00,9,-999.000,9, -999.00,9, -999.00,9, -67.0001, 176.8629,-999.000,     -999.0,    34.8721,2,     -999.0,9,     -999.0,9,-999.0000,9,-999.0000,9,-999.0000,9,-999.0000,9,-999.0000,9,-999.0000,9,-999.0000,9,-999.0000,9,-999.0000,9,-999.0000,-999.000,   0.5971,     -999.0,     -999.0,9,     -999.0,9,     -999.0,9,     -999.0,9,     -999.0,20110301,       0632
320620110219,       S04P,      19,          1,         11,         11,2,20110301,       0543,   -67.0001,   176.8628,       3555,  1735.3,   0.6502,  34.7075,2,  34.7080,2,    205.3,2,   205.4,2,  124.68,2,   32.43,2,    0.00,2,    2.17,2,   0.121,2,   0.059,2,   0.013,2,-999.0000,9,  -999.0,9,  -999.0,9,-999.0000,9,  -999.00,-999.000,9,-999.0000,9,-999.000,9,   0.6501,2, -999.00,9,  -999.0,9,  -999.0,-999.000,9, -999.00,9,-999.000,9, -999.00,9, -999.00,9, -67.0001, 176.8628,-999.000,     -999.0,    34.8717,2,     -999.0,9,     -999.0,9,-999.0000,9,-999.0000,9,-999.0000,9,-999.0000,9,-999.0000,9,-999.0000,9,-999.0000,9,-999.0000,9,-999.0000,9,-999.0000,-999.000,   0.5534,     -999.0,     -999.0,9,     -999.0,9,     -999.0,9,     -999.0,9,     -999.0,20110301,       0629
320620110219,       S04P,      19,          1,         10,         10,2,20110301,       0543,   -67.0001,   176.8628,       3555,  1865.3,   0.6081,  34.7065,2,  34.7066,2,    206.1,2,   205.8,2,  125.32,2,   32.52,2,    0.00,2,    2.17,2,-999.000,9,-999.000,9,-999.000,9,-999.0000,9,  2262.5,2,  2360.0,2,   7.5876,2,    25.00,-999.000,9,-999.0000,9,-999.000,9,   0.6080,2, -999.00,9,  -999.0,9,  -999.0,-999.000,9, -999.00,9,-999.000,9, -999.00,9, -999.00,9, -67.0001, 176.8628,-999.000,     -999.0,    34.8703,2,     -999.0,9,     -999.0,9,-999.0000,9,-999.0000,9,-999.0000,9,-999.0000,9,-999.0000,9,-999.0000,9,-999.0000,9,-999.0000,9,-999.0000,9,-999.0000,-999.000,   0.5026,     -999.0,     -999.0,9,     -999.0,9,     -999.0,9,     -999.0,9,     -999.0,20110301,       0626
320620110219,       S04P,      19,          1,          9,          9,2,20110301,       0543,   -67.0001,   176.8628,       3555,  2064.9,   0.5524,  34.7051,2,  34.7052,2,    207.7,2,   207.1,2,  126.94,2,   32.65,2,    0.00,2,    2.18,2,   0.155,2,   0.077,2,   0.014,2,-999.0000,9,  -999.0,9,  -999.0,9,-999.0000,9,  -999.00,-999.000,9,-999.0000,9,-999.000,9,   0.5523,2, -999.00,9,  -999.0,9,  -999.0,-999.000,9, -999.00,9,-999.000,9, -999.00,9, -999.00,9, -67.0001, 176.8628,-999.000,     -999.0,    34.8689,2,     -999.0,9,     -999.0,9,-999.0000,9,-999.0000,9,-999.0000,9,-999.0000,9,-999.0000,9,-999.0000,9,-999.0000,9,-999.0000,9,-999.0000,9,-999.0000,-999.000,   0.4331,     -999.0,     -999.0,9,     -999.0,9,     -999.0,9,     -999.0,9,     -999.0,20110301,       0621
320620110219,       S04P,      19,          1,          8,          8,2,20110301,       0543,   -67.0001,   176.8628,       3555,  2265.1,   0.5031,  34.7040,2,  34.7041,2,    208.9,2,   208.5,2,  127.59,2,   32.66,2,    0.00,2,    2.17,2,-999.000,9,-999.000,9,-999.000,9,-999.0000,9,  2263.3,2,  2359.9,2,   7.5872,2,    25.00,-999.000,9,-999.0000,9,-999.000,9,   0.5033,2, -999.00,9,  -999.0,9,  -999.0,-999.000,9, -999.00,9,-999.000,9, -999.00,9, -999.00,9, -67.0000, 176.8628,-999.000,     -999.0,    34.8677,2,     -999.0,9,     -999.0,9,-999.0000,9,-999.0000,9,-999.0000,9,-999.0000,9,-999.0000,9,-999.0000,9,-999.0000,9,-999.0000,9,-999.0000,9,-999.0000,-999.000,   0.3694,     -999.0,     -999.0,9,     -999.0,9,     -999.0,9,     -999.0,9,     -999.0,20110301,       0616
320620110219,       S04P,      19,          1,          7,          7,2,20110301,       0543,   -67.0001,   176.8628,       3555,  2465.4,   0.4567,  34.7025,2,  34.7025,2,    210.1,2,   204.9,4,  128.68,2,   32.76,2,    0.00,2,    2.17,2,   0.240,2,   0.108,2,   0.027,2,-999.0000,9,  -999.0,9,  -999.0,9,-999.0000,9,  -999.00,-999.000,9,-999.0000,9,-999.000,9,   0.4567,2, -999.00,9,  -999.0,9,  -999.0,-999.000,9, -999.00,9,-999.000,9, -999.00,9, -999.00,9, -67.0000, 176.8629,-999.000,     -999.0,    34.8661,2,     -999.0,9,     -999.0,9,-999.0000,9,-999.0000,9,-999.0000,9,-999.0000,9,-999.0000,9,-999.0000,9,-999.0000,9,-999.0000,9,-999.0000,9,-999.0000,-999.000,   0.3080,     -999.0,     -999.0,9,     -999.0,9,     -999.0,9,     -999.0,9,     -999.0,20110301,       0611
320620110219,       S04P,      19,          1,          6,          6,2,20110301,       0543,   -67.0001,   176.8628,       3555,  2664.7,   0.4049,  34.7014,2,  34.7015,2,    211.7,2,   211.7,2,  129.19,2,   32.79,2,    0.00,2,    2.17,2,-999.000,9,-999.000,9,-999.000,9,-999.0000,9,  -999.0,9,  -999.0,9,-999.0000,9,  -999.00,-999.000,9,-999.0000,9,-999.000,9,   0.4047,2, -999.00,9,  -999.0,9,  -999.0,-999.000,9, -999.00,9,-999.000,9, -999.00,9, -999.00,9, -67.0001, 176.8628,-999.000,     -999.0,    34.8652,2,     -999.0,9,     -999.0,9,-999.0000,9,-999.0000,9,-999.0000,9,-999.0000,9,-999.0000,9,-999.0000,9,-999.0000,9,-999.0000,9,-999.0000,9,-999.0000,-999.000,   0.2409,     -999.0,     -999.0,9,     -999.0,9,     -999.0,9,     -999.0,9,     -999.0,20110301,       0607
320620110219,       S04P,      19,          1,          5,          5,2,20110301,       0543,   -67.0001,   176.8628,       3555,  2865.1,   0.3580,  34.6990,2,  34.6994,2,    213.1,2,   213.8,2,  128.43,2,   32.81,2,    0.00,2,    2.17,2,   0.348,2,   0.180,2,   0.039,2,-999.0000,9,  2262.7,2,  2359.6,2,   7.5866,2,    25.00,-999.000,9,-999.0000,9,-999.000,9,   0.3581,2, -999.00,9,  -999.0,9,  -999.0,-999.000,9, -999.00,9,-999.000,9, -999.00,9, -999.00,9, -67.0001, 176.8629,-999.000,     -999.0,    34.8630,2,     -999.0,9,     -999.0,9,-999.0000,9,-999.0000,9,-999.0000,9,-999.0000,9,-999.0000,9,-999.0000,9,-999.0000,9,-999.0000,9,-999.0000,9,-999.0000,-999.000,   0.1781,     -999.0,     -999.0,9,     -999.0,9,     -999.0,9,     -999.0,9,     -999.0,20110301,       0602
320620110219,       S04P,      19,          1,          4,          4,2,20110301,       0543,   -67.0001,   176.8628,       3555,  3099.6,   0.3029,  34.6965,2,  34.6964,2,    215.1,2,   215.3,2,  128.40,2,   32.79,2,    0.00,2,    2.17,2,   0.446,2,   0.240,2,   0.052,2,-999.0000,9,  2262.6,2,  2359.4,2,   7.5837,2,    25.00,-999.000,9,-999.0000,9,-999.000,9,   0.3027,2, -999.00,9,  -999.0,9,  -999.0,-999.000,9, -999.00,9,-999.000,9, -999.00,9, -999.00,9, -67.0001, 176.8629,-999.000,     -999.0,    34.8600,2,     -999.0,9,     -999.0,9,-999.0000,9,-999.0000,9,-999.0000,9,-999.0000,9,-999.0000,9,-999.0000,9,-999.0000,9,-999.0000,9,-999.0000,9,-999.0000,-999.000,   0.1038,     -999.0,     -999.0,9,     -999.0,9,     -999.0,9,     -999.0,9,     -999.0,20110301,       0556
320620110219,       S04P,      19,          1,          3,          3,2,20110301,       0543,   -67.0001,   176.8628,       3555,  3400.3,   0.2335,  34.6931,2,  34.6929,2,   -999.0,9,  -999.0,5,  126.48,2,   32.72,2,    0.00,2,    2.17,2,   0.697,2,   0.364,2,   0.067,2,-999.0000,9,  2261.3,2,  2358.4,6,   7.5850,2,    25.00,-999.000,9,-999.0000,9,-999.000,9,   0.2334,2, -999.00,9,  -999.0,9,  -999.0,-999.000,9, -999.00,9,-999.000,9, -999.00,9, -999.00,9, -67.0001, 176.8629,-999.000,     -999.0,    34.8565,2,     -999.0,9,     -999.0,9,-999.0000,9,-999.0000,9,-999.0000,9,-999.0000,9,-999.0000,9,-999.0000,9,-999.0000,9,-999.0000,9,-999.0000,9,-999.0000,-999.000,   0.0087,     -999.0,     -999.0,9,     -999.0,9,     -999.0,9,     -999.0,9,     -999.0,20110301,       0549
320620110219,       S04P,      19,          1,          2,          2,2,20110301,       0543,   -67.0001,   176.8628,       3555,  3530.4,   0.1818,  34.6893,2,  34.6892,2,    220.3,2,   220.4,2,  121.43,2,   32.62,2,    0.00,2,    2.16,2,   0.949,2,   0.522,2,   0.100,2,-999.0000,9,  2259.7,2,  2356.2,2,   7.5834,6,    25.00,-999.000,9,-999.0000,9,-999.000,9,   0.1813,2, -999.00,9,  -999.0,9,  -999.0,-999.000,9, -999.00,9,-999.000,9, -999.00,9, -999.00,9, -67.0001, 176.8629,-999.000,     -999.0,    34.8527,2,     -999.0,9,     -999.0,9,-999.0000,9,-999.0000,9,-999.0000,9,-999.0000,9,-999.0000,9,-999.0000,9,-999.0000,9,-999.0000,9,-999.0000,9,-999.0000,-999.000,  -0.0538,     -999.0,     -999.0,9,     -999.0,9,     -999.0,9,     -999.0,9,     -999.0,20110301,       0546
320620110219,       S04P,      19,          1,          1,          1,2,20110301,       0543,   -67.0001,   176.8628,       3555,  3611.2,   0.1547,  34.6867,2,  34.6866,2,    222.1,2,   221.8,2,  118.21,2,   32.49,2,    0.00,2,    2.15,2,   1.148,2,   0.641,2,   0.121,2,-999.0000,9,  2258.8,6,  2355.4,2,   7.5831,2,    25.00,-999.000,9,-999.0000,9,-999.000,9,   0.1542,2, -999.00,9,  -999.0,9,  -999.0,-999.000,9, -999.00,9,-999.000,9, -999.00,9, -999.00,9, -67.0001, 176.8628,-999.000,     -999.0,    34.8502,2,     -999.0,9,     -999.0,9,-999.0000,9,-999.0000,9,-999.0000,9,-999.0000,9,-999.0000,9,-999.0000,9,-999.0000,9,-999.0000,9,-999.0000,9,-999.0000,-999.000,  -0.0878,     -999.0,     -999.0,9,     -999.0,9,     -999.0,9,     -999.0,9,     -999.0,20110301,       0543