BOTTLE,20220813CCHSIOAMB
EXPOCODE,SECT_ID,STNNBR,CASTNO,SAMPNO,BTLNBR,BTLNBR_FLAG_W,DATE,TIME,LATITUDE,LONGITUDE,DEPTH,CTDPRS,CTDTMP,CTDSAL,CTDSAL_FLAG_W,SALNTY,SALNTY_FLAG_W,CTDOXY,CTDOXY_FLAG_W,OXYGEN,OXYGEN_FLAG_W,SILCAT,SILCAT_FLAG_W,NITRAT,NITRAT_FLAG_W,NITRIT,NITRIT_FLAG_W,PHSPHT,PHSPHT_FLAG_W,CFC-11,CFC-11_FLAG_W,CFC-12,CFC-12_FLAG_W,CFC113,CFC113_FLAG_W,SF6,SF6_FLAG_W,TCARBN,TCARBN_FLAG_W,ALKALI,ALKALI_FLAG_W,PH_TOT,PH_TOT_FLAG_W,PH_TMP,TRITUM,TRITUM_FLAG_W,HELIUM,HELIUM_FLAG_W,DELHE3,DELHE3_FLAG_W,REFTMP,REFTMP_FLAG_W,DELC13,DELC13_FLAG_W,DELC14,DELC14_FLAG_W,C14ERR,NEON,NEON_FLAG_W,DELO18,DELO18_FLAG_W,POC,POC_FLAG_W,DOC,DOC_FLAG_W,TDN,TDN_FLAG_W,BTL_LAT,BTL_LON,TRITER,NEONER,SALTREF,SALTREF_FLAG_W,PIGMENTS,PIGMENTS_FLAG_W,LAB_DEN,LAB_DEN_FLAG_W,CDOM325,CDOM325_FLAG_W,CDOM340,CDOM340_FLAG_W,CDOM380,CDOM380_FLAG_W,CDOM412,CDOM412_FLAG_W,CDOM443,CDOM443_FLAG_W,CDOM490,CDOM490_FLAG_W,CDOM555,CDOM555_FLAG_W,CDOMSL,CDOMSL_FLAG_W,CDOMSN,CDOMSN_FLAG_W,HELIER,DELHER,THETA,LDEO_SAMPNO,ABSORBTION,ABSORBTION_FLAG_W,IMAGE_COUNT,IMAGE_COUNT_FLAG_W,CYTO_COUNT,CYTO_COUNT_FLAG_W,DELD,DELD_FLAG_W,DELDERR,BTL_DATE,BTL_TIME
,,,,,,,,,,,METERS,DBAR,ITS-90,PSS-78,,PSS-78,,UMOL/KG,,UMOL/KG,,UMOL/KG,,UMOL/KG,,UMOL/KG,,UMOL/KG,,PMOL/KG,,PMOL/KG,,PMOL/KG,,FMOL/KG,,UMOL/KG,,UMOL/KG,,,,DEG C,TU,,NMOL/KG,,PERCNT,,DEG C,,/MILLE,,/MILLE,,/MILLE,NMOL/KG,,/MILLE,,UG/KG,,UMOL/KG,,UMOL/KG,,,,TU,NMOL/KG,G/KG,,,,,,1/M,,1/M,,1/M,,1/M,,1/M,,1/M,,1/M,,1/NM,,1/NM,,NMOL/KG,PERCNT,DEG C,,,,,,,,/MILLE,,/MILLE,,
320620110219,       S04P,     110,          1,         13,         13,2,20110406,       1124,   -67.0006,  -122.5053,       4414,  1666.5,   1.1418,  34.7235,2,  34.7232,2,    198.2,2,   198.1,2,  108.14,2,   31.49,2,    0.00,2,    2.19,2,-999.000,9,-999.000,9,-999.000,9,-999.0000,9,  2258.1,2,  2360.1,2,   7.6003,2,    25.00,-999.000,9,-999.0000,9,-999.000,9,   1.1431,2,    0.49,2,  -159.4,2,     1.9,-999.000,9, -999.00,9,-999.000,9,   40.22,2,   33.83,2, -67.0006,-122.5053,-999.000,     -999.0,    34.8869,2,     -999.0,9,     -999.0,9,-999.0000,9,-999.0000,9,-999.0000,9,-999.0000,9,-999.0000,9,-999.0000,9,-999.0000,9,-999.0000,9,-999.0000,9,-999.0000,-999.000,   1.0433,     -999.0,     -999.0,9,     -999.0,9,     -999.0,9,     -999.0,9,     -999.0,20110406,       1223
320620110219,       S04P,     110,          1,         12,         12,2,20110406,       1124,   -67.0006,  -122.5053,       4414,  1866.0,   1.0295,  34.7193,2,  34.7185,2,    199.9,2,   200.2,2,  112.27,2,   31.61,2,    0.00,2,    2.20,2,   0.140,2,   0.071,2,   0.010,2,   0.0540,2,  -999.0,9,  -999.0,9,   7.6004,2,    25.00,-999.000,9,-999.0000,9,-999.000,9,   1.0298,2,    0.48,2,  -163.0,2,     2.0,-999.000,9, -999.00,9,-999.000,9,   40.12,2,   34.56,2, -67.0006,-122.5053,-999.000,     -999.0,    34.8822,2,     -999.0,9,     -999.0,9,-999.0000,9,-999.0000,9,-999.0000,9,-999.0000,9,-999.0000,9,-999.0000,9,-999.0000,9,-999.0000,9,-999.0000,9,-999.0000,-999.000,   0.9178,     -999.0,     -999.0,9,     -999.0,9,     -999.0,9,     -999.0,9,     -999.0,20110406,       1219
320620110219,       S04P,     110,          1,         11,         11,2,20110406,       1124,   -67.0006,  -122.5053,       4414,  2084.6,   0.9268,  34.7154,2,  34.7145,2,    201.8,2,   201.6,2,  116.29,2,   31.67,2,    0.00,2,    2.20,2,-999.000,9,-999.000,9,-999.000,9,-999.0000,9,  2260.5,2,  2360.7,2,   7.6022,2,    25.00,-999.000,9,-999.0000,9,-999.000,9,   0.9268,2,    0.46,2,  -166.0,2,     1.9,-999.000,9, -999.00,9,-999.000,9,   40.50,2,   34.28,2, -67.0006,-122.5053,-999.000,     -999.0,    34.8782,2,     -999.0,9,     -999.0,9,-999.0000,9,-999.0000,9,-999.0000,9,-999.0000,9,-999.0000,9,-999.0000,9,-999.0000,9,-999.0000,9,-999.0000,9,-999.0000,-999.000,   0.8000,     -999.0,     -999.0,9,     -999.0,9,     -999.0,9,     -999.0,9,     -999.0,20110406,       1214
320620110219,       S04P,     110,          1,         10,         37,2,20110406,       1124,   -67.0006,  -122.5053,       4414,  2335.0,   0.8174,  34.7113,2,  34.7106,2,    203.5,2,   204.0,2,  120.15,2,   31.90,2,    0.00,2,    2.21,2,-999.000,9,-999.000,9,-999.000,9,-999.0000,9,  -999.0,9,  -999.0,9,   7.5999,2,    25.00,-999.000,9,-999.0000,9,-999.000,9,   0.8181,2,    0.44,2,  -163.1,2,     2.0,-999.000,9, -999.00,9,-999.000,9,   40.77,2,   34.55,2, -67.0006,-122.5053,-999.000,     -999.0,    34.8743,2,     -999.0,9,     -999.0,9,-999.0000,9,-999.0000,9,-999.0000,9,-999.0000,9,-999.0000,9,-999.0000,9,-999.0000,9,-999.0000,9,-999.0000,9,-999.0000,-999.000,   0.6726,     -999.0,     -999.0,9,     -999.0,9,     -999.0,9,     -999.0,9,     -999.0,20110406,       1209
320620110219,       S04P,     110,          1,          9,          9,2,20110406,       1124,   -67.0006,  -122.5053,       4414,  2585.3,   0.7238,  34.7081,2,  34.7081,2,    205.6,2,   205.4,2,  123.55,2,   31.94,2,    0.00,2,    2.22,2,-999.000,9,-999.000,9,-999.000,9,-999.0000,9,  2260.8,2,  2362.0,2,   7.5990,2,    25.00,-999.000,9,-999.0000,9,-999.000,9,   0.7237,2,    0.48,2,  -165.0,2,     1.8,-999.000,9, -999.00,9,-999.000,9,   40.81,2,   34.79,2, -67.0006,-122.5053,-999.000,     -999.0,    34.8717,2,     -999.0,9,     -999.0,9,-999.0000,9,-999.0000,9,-999.0000,9,-999.0000,9,-999.0000,9,-999.0000,9,-999.0000,9,-999.0000,9,-999.0000,9,-999.0000,-999.000,   0.5601,     -999.0,     -999.0,9,     -999.0,9,     -999.0,9,     -999.0,9,     -999.0,20110406,       1204
320620110219,       S04P,     110,          1,          8,          8,2,20110406,       1124,   -67.0006,  -122.5053,       4414,  2836.3,   0.6264,  34.7060,2,  34.7055,2,    207.4,2,   207.6,2,  125.61,2,   32.03,2,    0.00,2,    2.23,2,   0.179,2,   0.087,2,   0.007,2,   0.0580,2,  -999.0,9,  -999.0,9,   7.5978,2,    25.00,-999.000,9,-999.0000,9,-999.000,9,   0.6265,2,    0.49,2,  -163.7,2,     1.8,-999.000,9, -999.00,9,-999.000,9,   40.84,2,   34.39,2, -67.0006,-122.5053,-999.000,     -999.0,    34.8691,2,     -999.0,9,     -999.0,9,-999.0000,9,-999.0000,9,-999.0000,9,-999.0000,9,-999.0000,9,-999.0000,9,-999.0000,9,-999.0000,9,-999.0000,9,-999.0000,-999.000,   0.4432,     -999.0,     -999.0,9,     -999.0,9,     -999.0,9,     -999.0,9,     -999.0,20110406,       1158
320620110219,       S04P,     110,          1,          7,          7,2,20110406,       1124,   -67.0006,  -122.5053,       4414,  3099.9,   0.5326,  34.7044,2,  34.7051,2,    209.6,2,   209.5,2,  128.27,2,   32.32,2,    0.00,2,    2.23,2,-999.000,9,-999.000,9,-999.000,9,-999.0000,9,  2261.7,2,  2362.3,2,   7.5961,2,    25.00,-999.000,9,-999.0000,9,-999.000,9,   0.5325,2,    0.49,2,  -160.8,2,     2.4,-999.000,9, -999.00,9,-999.000,9,   40.72,2,   34.35,2, -67.0006,-122.5053,-999.000,     -999.0,    34.8687,2,     -999.0,9,     -999.0,9,-999.0000,9,-999.0000,9,-999.0000,9,-999.0000,9,-999.0000,9,-999.0000,9,-999.0000,9,-999.0000,9,-999.0000,9,-999.0000,-999.000,   0.3281,     -999.0,     -999.0,9,     -999.0,9,     -999.0,9,     -999.0,9,     -999.0,20110406,       1153
320620110219,       S04P,     110,          1,          6,          6,2,20110406,       1124,   -67.0006,  -122.5053,       4414,  3400.6,   0.4608,  34.7036,2,  34.7027,2,    211.1,2,   211.2,2,  130.89,2,   32.41,2,    0.00,2,    2.24,2,   0.196,2,   0.097,2,   0.007,2,   0.0710,2,  -999.0,9,  -999.0,9,   7.5974,2,    25.00,-999.000,9,-999.0000,9,-999.000,9,   0.4609,2,    0.54,2,  -161.6,2,     2.0,-999.000,9, -999.00,9,-999.000,9,   40.87,2,   34.81,2, -67.0006,-122.5053,-999.000,     -999.0,    34.8664,2,     -999.0,9,     -999.0,9,-999.0000,9,-999.0000,9,-999.0000,9,-999.0000,9,-999.0000,9,-999.0000,9,-999.0000,9,-999.0000,9,-999.0000,9,-999.0000,-999.000,   0.2303,     -999.0,     -999.0,9,     -999.0,9,     -999.0,9,     -999.0,9,     -999.0,20110406,       1147
320620110219,       S04P,     110,          1,          5,          5,2,20110406,       1124,   -67.0006,  -122.5053,       4414,  3701.5,   0.4100,  34.7031,2,  34.7021,2,    212.5,2,   212.4,2,  133.62,2,   32.52,2,    0.00,2,    2.24,2,   0.276,2,   0.125,2,   0.016,2,   0.0670,2,  2263.0,2,  2361.5,2,   7.5966,2,    25.00,-999.000,9,-999.0000,9,-999.000,9,   0.4104,2,    0.50,2,  -164.0,2,     1.9,-999.000,9, -999.00,9,-999.000,9,   40.36,2,   34.91,2, -67.0006,-122.5053,-999.000,     -999.0,    34.8658,2,     -999.0,9,     -999.0,9,-999.0000,9,-999.0000,9,-999.0000,9,-999.0000,9,-999.0000,9,-999.0000,9,-999.0000,9,-999.0000,9,-999.0000,9,-999.0000,-999.000,   0.1518,     -999.0,     -999.0,9,     -999.0,9,     -999.0,9,     -999.0,9,     -999.0,20110406,       1141
320620110219,       S04P,     110,          1,          4,          4,2,20110406,       1124,   -67.0006,  -122.5053,       4414,  3999.5,   0.3788,  34.7024,2,  34.7017,2,    213.7,2,   213.7,2,  136.41,2,   32.60,2,    0.00,2,    2.24,2,   0.282,2,   0.134,2,   0.012,2,   0.0630,2,  2262.8,2,  2362.8,2,   7.5956,2,    25.00,-999.000,9,-999.0000,9,-999.000,9,   0.3787,2,    0.51,2,  -168.2,2,     2.2,-999.000,9, -999.00,9,-999.000,9,   40.86,2,   34.76,2, -67.0006,-122.5053,-999.000,     -999.0,    34.8654,2,     -999.0,9,     -999.0,9,-999.0000,9,-999.0000,9,-999.0000,9,-999.0000,9,-999.0000,9,-999.0000,9,-999.0000,9,-999.0000,9,-999.0000,9,-999.0000,-999.000,   0.0916,     -999.0,     -999.0,9,     -999.0,9,     -999.0,9,     -999.0,9,     -999.0,20110406,       1136
320620110219,       S04P,     110,          1,          3,          3,2,20110406,       1124,   -67.0006,  -122.5053,       4414,  4300.7,   0.3682,  34.7016,2,  34.7009,2,    214.3,2,   213.9,2,  140.60,2,   32.79,2,    0.00,2,    2.24,2,-999.000,9,-999.000,9,-999.000,9,-999.0000,9,  2262.2,2,  2363.9,2,   7.5955,2,    25.00,-999.000,9,-999.0000,9,-999.000,9,   0.3683,2,    0.54,2,  -169.6,2,     1.7,-999.000,9, -999.00,9,-999.000,9,   40.40,2,   35.26,2, -67.0006,-122.5053,-999.000,     -999.0,    34.8646,2,     -999.0,9,     -999.0,9,-999.0000,9,-999.0000,9,-999.0000,9,-999.0000,9,-999.0000,9,-999.0000,9,-999.0000,9,-999.0000,9,-999.0000,9,-999.0000,-999.000,   0.0499,     -999.0,     -999.0,9,     -999.0,9,     -999.0,9,     -999.0,9,     -999.0,20110406,       1130
320620110219,       S04P,     110,          1,          2,          2,2,20110406,       1124,   -67.0006,  -122.5053,       4414,  4445.6,   0.3611,  34.7006,2,  34.7004,2,    214.2,2,   213.9,2,  144.28,2,   32.88,2,    0.00,2,    2.25,2,   0.423,2,   0.205,2,   0.024,2,   0.0750,2,  2263.5,6,  2363.3,2,   7.5944,2,    25.00,-999.000,9,-999.0000,9,-999.000,9,   0.3611,2,    0.50,2,  -201.1,4,     1.9,-999.000,9, -999.00,9,-999.000,9,   40.52,2,   35.37,2, -67.0006,-122.5053,-999.000,     -999.0,    34.8640,2,     -999.0,9,     -999.0,9,-999.0000,9,-999.0000,9,-999.0000,9,-999.0000,9,-999.0000,9,-999.0000,9,-999.0000,9,-999.0000,9,-999.0000,9,-999.0000,-999.000,   0.0275,     -999.0,     -999.0,9,     -999.0,9,     -999.0,9,     -999.0,9,     -999.0,20110406,       1126
320620110219,       S04P,     110,          1,          1,          1,2,20110406,       1124,   -67.0006,  -122.5053,       4414,  4494.5,   0.3608,  34.7005,2,  34.7004,2,    214.2,2,   214.8,2,  143.66,2,   32.73,2,    0.00,2,    2.24,2,   0.496,2,   0.237,2,   0.026,2,   0.1190,2,  2261.4,2,  2363.6,2,   7.5939,6,    25.00,-999.000,9,-999.0000,9,-999.000,9,   0.3602,2,    0.33,2,  -168.5,2,     2.2,-999.000,9, -999.00,9,-999.000,9,   40.39,2,   35.48,2, -67.0006,-122.5053,-999.000,     -999.0,    34.8640,2,     -999.0,9,     -999.0,9,-999.0000,9,-999.0000,9,-999.0000,9,-999.0000,9,-999.0000,9,-999.0000,9,-999.0000,9,-999.0000,9,-999.0000,9,-999.0000,-999.000,   0.0219,     -999.0,     -999.0,9,     -999.0,9,     -999.0,9,     -999.0,9,     -999.0,20110406,       1124