BOTTLE,20220813CCHSIOAMB
EXPOCODE,SECT_ID,STNNBR,CASTNO,SAMPNO,BTLNBR,BTLNBR_FLAG_W,DATE,TIME,LATITUDE,LONGITUDE,DEPTH,CTDPRS,CTDTMP,CTDSAL,CTDSAL_FLAG_W,SALNTY,SALNTY_FLAG_W,CTDOXY,CTDOXY_FLAG_W,OXYGEN,OXYGEN_FLAG_W,SILCAT,SILCAT_FLAG_W,NITRAT,NITRAT_FLAG_W,NITRIT,NITRIT_FLAG_W,PHSPHT,PHSPHT_FLAG_W,CFC-11,CFC-11_FLAG_W,CFC-12,CFC-12_FLAG_W,CFC113,CFC113_FLAG_W,SF6,SF6_FLAG_W,TCARBN,TCARBN_FLAG_W,ALKALI,ALKALI_FLAG_W,PH_TOT,PH_TOT_FLAG_W,PH_TMP,TRITUM,TRITUM_FLAG_W,HELIUM,HELIUM_FLAG_W,DELHE3,DELHE3_FLAG_W,REFTMP,REFTMP_FLAG_W,DELC13,DELC13_FLAG_W,DELC14,DELC14_FLAG_W,C14ERR,NEON,NEON_FLAG_W,DELO18,DELO18_FLAG_W,POC,POC_FLAG_W,DOC,DOC_FLAG_W,TDN,TDN_FLAG_W,BTL_LAT,BTL_LON,TRITER,NEONER,SALTREF,SALTREF_FLAG_W,PIGMENTS,PIGMENTS_FLAG_W,LAB_DEN,LAB_DEN_FLAG_W,CDOM325,CDOM325_FLAG_W,CDOM340,CDOM340_FLAG_W,CDOM380,CDOM380_FLAG_W,CDOM412,CDOM412_FLAG_W,CDOM443,CDOM443_FLAG_W,CDOM490,CDOM490_FLAG_W,CDOM555,CDOM555_FLAG_W,CDOMSL,CDOMSL_FLAG_W,CDOMSN,CDOMSN_FLAG_W,HELIER,DELHER,THETA,LDEO_SAMPNO,ABSORBTION,ABSORBTION_FLAG_W,IMAGE_COUNT,IMAGE_COUNT_FLAG_W,CYTO_COUNT,CYTO_COUNT_FLAG_W,DELD,DELD_FLAG_W,DELDERR,BTL_DATE,BTL_TIME
,,,,,,,,,,,METERS,DBAR,ITS-90,PSS-78,,PSS-78,,UMOL/KG,,UMOL/KG,,UMOL/KG,,UMOL/KG,,UMOL/KG,,UMOL/KG,,PMOL/KG,,PMOL/KG,,PMOL/KG,,FMOL/KG,,UMOL/KG,,UMOL/KG,,,,DEG C,TU,,NMOL/KG,,PERCNT,,DEG C,,/MILLE,,/MILLE,,/MILLE,NMOL/KG,,/MILLE,,UG/KG,,UMOL/KG,,UMOL/KG,,,,TU,NMOL/KG,G/KG,,,,,,1/M,,1/M,,1/M,,1/M,,1/M,,1/M,,1/M,,1/NM,,1/NM,,NMOL/KG,PERCNT,DEG C,,,,,,,,/MILLE,,/MILLE,,
320620110219,       P16S,      52,          1,         13,         13,2,20110313,       0857,   -70.4851,  -150.0043,       4322,  1534.3,   0.9343,  34.7171,2,  34.7171,2,    198.6,2,   198.6,2,  115.49,2,   32.19,2,    0.00,2,    2.23,2,-999.000,9,-999.000,9,-999.000,9,-999.0000,9,  -999.0,9,  -999.0,9,-999.0000,9,  -999.00,-999.000,9,-999.0000,9,-999.000,9,   0.9348,2, -999.00,9,  -999.0,9,  -999.0,-999.000,9, -999.00,9,-999.000,9,   39.58,2,   33.98,2, -70.4851,-150.0043,-999.000,     -999.0,    34.8808,2,     -999.0,9,     -999.0,9,-999.0000,9,-999.0000,9,-999.0000,9,-999.0000,9,-999.0000,9,-999.0000,9,-999.0000,9,-999.0000,9,-999.0000,9,-999.0000,-999.000,   0.8478,     -999.0,     -999.0,9,     -999.0,9,     -999.0,9,     -999.0,9,     -999.0,20110313,       0959
320620110219,       P16S,      52,          1,         12,         12,2,20110313,       0857,   -70.4851,  -150.0043,       4322,  1665.2,   0.8700,  34.7144,2,  34.7145,2,    200.7,2,   200.3,2,  117.67,2,   32.21,2,    0.00,2,    2.21,2,   0.116,2,   0.055,2,   0.005,2,   0.0550,2,  -999.0,9,  -999.0,9,-999.0000,9,  -999.00,-999.000,9,-999.0000,9,-999.000,9,   0.8701,2, -999.00,9,  -999.0,9,  -999.0,-999.000,9, -999.00,9,-999.000,9,   39.68,2,   34.25,2, -70.4851,-150.0043,-999.000,     -999.0,    34.8782,2,     -999.0,9,     -999.0,9,-999.0000,9,-999.0000,9,-999.0000,9,-999.0000,9,-999.0000,9,-999.0000,9,-999.0000,9,-999.0000,9,-999.0000,9,-999.0000,-999.000,   0.7752,     -999.0,     -999.0,9,     -999.0,9,     -999.0,9,     -999.0,9,     -999.0,20110313,       0956
320620110219,       P16S,      52,          1,         11,         11,2,20110313,       0857,   -70.4851,  -150.0043,       4322,  1865.0,   0.7852,  34.7113,2,  34.7114,2,    203.0,2,   202.9,2,  120.54,2,   32.26,2,    0.00,2,    2.22,2,-999.000,9,-999.000,9,-999.000,9,-999.0000,9,  2261.6,2,  2361.0,2,   7.5969,2,    25.00,-999.000,9,-999.0000,9,-999.000,9,   0.7855,2, -999.00,9,  -999.0,9,  -999.0,-999.000,9, -999.00,9,-999.000,9,   39.85,2,   35.18,2, -70.4851,-150.0043,-999.000,     -999.0,    34.8750,2,     -999.0,9,     -999.0,9,-999.0000,9,-999.0000,9,-999.0000,9,-999.0000,9,-999.0000,9,-999.0000,9,-999.0000,9,-999.0000,9,-999.0000,9,-999.0000,-999.000,   0.6771,     -999.0,     -999.0,9,     -999.0,9,     -999.0,9,     -999.0,9,     -999.0,20110313,       0951
320620110219,       P16S,      52,          1,         10,         37,2,20110313,       0857,   -70.4851,  -150.0043,       4322,  2084.5,   0.7074,  34.7092,2,  34.7092,2,    205.1,2,   205.2,2,  122.70,2,   32.29,2,    0.00,2,    2.23,2,-999.000,9,-999.000,9,-999.000,9,-999.0000,9,  -999.0,9,  -999.0,9,-999.0000,9,  -999.00,-999.000,9,-999.0000,9,-999.000,9,   0.7078,2, -999.00,9,  -999.0,9,  -999.0,-999.000,9, -999.00,9,-999.000,9,   40.09,2,   34.44,2, -70.4851,-150.0043,-999.000,     -999.0,    34.8728,2,     -999.0,9,     -999.0,9,-999.0000,9,-999.0000,9,-999.0000,9,-999.0000,9,-999.0000,9,-999.0000,9,-999.0000,9,-999.0000,9,-999.0000,9,-999.0000,-999.000,   0.5841,     -999.0,     -999.0,9,     -999.0,9,     -999.0,9,     -999.0,9,     -999.0,20110313,       0947
320620110219,       P16S,      52,          1,          9,          9,2,20110313,       0857,   -70.4851,  -150.0043,       4322,  2335.5,   0.6193,  34.7060,2,  34.7056,2,    206.5,2,   206.2,2,  125.00,2,   32.47,2,    0.00,2,    2.23,2,-999.000,9,-999.000,9,-999.000,9,-999.0000,9,  -999.0,9,  -999.0,9,-999.0000,9,  -999.00,-999.000,9,-999.0000,9,-999.000,9,   0.6195,2, -999.00,9,  -999.0,9,  -999.0,-999.000,9, -999.00,9,-999.000,9,   40.11,2,   34.54,2, -70.4851,-150.0043,-999.000,     -999.0,    34.8693,2,     -999.0,9,     -999.0,9,-999.0000,9,-999.0000,9,-999.0000,9,-999.0000,9,-999.0000,9,-999.0000,9,-999.0000,9,-999.0000,9,-999.0000,9,-999.0000,-999.000,   0.4780,     -999.0,     -999.0,9,     -999.0,9,     -999.0,9,     -999.0,9,     -999.0,20110313,       0941
320620110219,       P16S,      52,          1,          8,          8,2,20110313,       0857,   -70.4851,  -150.0043,       4322,  2583.7,   0.5321,  34.7050,2,  34.7050,2,    208.5,2,   208.5,2,  127.04,2,   32.41,2,    0.00,2,    2.24,2,   0.161,2,   0.079,2,   0.008,2,   0.0600,2,  -999.0,9,  -999.0,9,-999.0000,9,  -999.00,-999.000,9,-999.0000,9,-999.000,9,   0.5323,2, -999.00,9,  -999.0,9,  -999.0,-999.000,9, -999.00,9,-999.000,9,   40.13,2,   35.14,2, -70.4851,-150.0043,-999.000,     -999.0,    34.8687,2,     -999.0,9,     -999.0,9,-999.0000,9,-999.0000,9,-999.0000,9,-999.0000,9,-999.0000,9,-999.0000,9,-999.0000,9,-999.0000,9,-999.0000,9,-999.0000,-999.000,   0.3723,     -999.0,     -999.0,9,     -999.0,9,     -999.0,9,     -999.0,9,     -999.0,20110313,       0936
320620110219,       P16S,      52,          1,          7,          7,2,20110313,       0857,   -70.4851,  -150.0043,       4322,  2835.3,   0.4584,  34.7040,2,  34.7040,2,    210.1,2,   210.0,2,  128.94,2,   32.46,2,    0.00,2,    2.23,2,-999.000,9,-999.000,9,-999.000,9,-999.0000,9,  2262.8,2,  2359.4,2,   7.5969,2,    25.00,-999.000,9,-999.0000,9,-999.000,9,   0.4586,2, -999.00,9,  -999.0,9,  -999.0,-999.000,9, -999.00,9,-999.000,9,   40.32,2,   34.94,2, -70.4851,-150.0043,-999.000,     -999.0,    34.8677,2,     -999.0,9,     -999.0,9,-999.0000,9,-999.0000,9,-999.0000,9,-999.0000,9,-999.0000,9,-999.0000,9,-999.0000,9,-999.0000,9,-999.0000,9,-999.0000,-999.000,   0.2789,     -999.0,     -999.0,9,     -999.0,9,     -999.0,9,     -999.0,9,     -999.0,20110313,       0931
320620110219,       P16S,      52,          1,          6,          6,2,20110313,       0857,   -70.4851,  -150.0043,       4322,  3099.3,   0.4083,  34.7035,2,  34.7026,2,    211.3,2,   211.1,2,  131.76,2,   32.49,2,    0.00,2,    2.24,2,   0.198,2,   0.102,2,   0.015,2,   0.0440,2,  -999.0,9,  -999.0,9,-999.0000,9,  -999.00,-999.000,9,-999.0000,9,-999.000,9,   0.4088,2, -999.00,9,  -999.0,9,  -999.0,-999.000,9, -999.00,9,-999.000,9,   40.23,2,   35.24,2, -70.4851,-150.0043,-999.000,     -999.0,    34.8663,2,     -999.0,9,     -999.0,9,-999.0000,9,-999.0000,9,-999.0000,9,-999.0000,9,-999.0000,9,-999.0000,9,-999.0000,9,-999.0000,9,-999.0000,9,-999.0000,-999.000,   0.2067,     -999.0,     -999.0,9,     -999.0,9,     -999.0,9,     -999.0,9,     -999.0,20110313,       0925
320620110219,       P16S,      52,          1,          5,          5,2,20110313,       0857,   -70.4851,  -150.0043,       4322,  3399.4,   0.3594,  34.7030,2,  34.7028,2,    213.1,2,   213.2,2,  133.22,2,   32.48,2,    0.00,2,    2.23,2,-999.000,9,-999.000,9,-999.000,9,-999.0000,9,  -999.0,9,  -999.0,9,-999.0000,9,  -999.00,-999.000,9,-999.0000,9,-999.000,9,   0.3596,2, -999.00,9,  -999.0,9,  -999.0,-999.000,9, -999.00,9,-999.000,9,   40.19,2,   35.07,2, -70.4851,-150.0043,-999.000,     -999.0,    34.8664,2,     -999.0,9,     -999.0,9,-999.0000,9,-999.0000,9,-999.0000,9,-999.0000,9,-999.0000,9,-999.0000,9,-999.0000,9,-999.0000,9,-999.0000,9,-999.0000,-999.000,   0.1315,     -999.0,     -999.0,9,     -999.0,9,     -999.0,9,     -999.0,9,     -999.0,20110313,       0919
320620110219,       P16S,      52,          1,          4,          4,2,20110313,       0857,   -70.4851,  -150.0043,       4322,  3700.1,   0.3267,  34.7019,2,  34.7014,2,    214.5,2,   214.4,2,  134.69,2,   32.38,2,    0.00,2,    2.24,2,   0.286,2,   0.135,2,   0.016,2,   0.0740,2,  2262.8,2,  2361.2,6,   7.5964,2,    25.00,-999.000,9,-999.0000,9,-999.000,9,   0.3269,2, -999.00,9,  -999.0,9,  -999.0,-999.000,9, -999.00,9,-999.000,9,   40.36,2,   34.80,2, -70.4851,-150.0043,-999.000,     -999.0,    34.8650,2,     -999.0,9,     -999.0,9,-999.0000,9,-999.0000,9,-999.0000,9,-999.0000,9,-999.0000,9,-999.0000,9,-999.0000,9,-999.0000,9,-999.0000,9,-999.0000,-999.000,   0.0709,     -999.0,     -999.0,9,     -999.0,9,     -999.0,9,     -999.0,9,     -999.0,20110313,       0912
320620110219,       P16S,      52,          1,          3,          3,2,20110313,       0857,   -70.4851,  -150.0043,       4322,  4000.5,   0.2883,  34.6997,2,  34.6992,2,    216.4,2,   216.6,2,  131.96,2,   32.29,2,    0.00,2,    2.23,2,   0.471,2,   0.231,2,   0.020,2,   0.0840,2,  2261.2,2,  2358.7,6,   7.5939,2,    25.00,-999.000,9,-999.0000,9,-999.000,9,   0.2884,2, -999.00,9,  -999.0,9,  -999.0,-999.000,9, -999.00,9,-999.000,9,   40.27,2,   34.44,2, -70.4851,-150.0043,-999.000,     -999.0,    34.8629,2,     -999.0,9,     -999.0,9,-999.0000,9,-999.0000,9,-999.0000,9,-999.0000,9,-999.0000,9,-999.0000,9,-999.0000,9,-999.0000,9,-999.0000,9,-999.0000,-999.000,   0.0036,     -999.0,     -999.0,9,     -999.0,9,     -999.0,9,     -999.0,9,     -999.0,20110313,       0906
320620110219,       P16S,      52,          1,          2,          2,2,20110313,       0857,   -70.4851,  -150.0043,       4322,  4201.0,   0.2330,  34.6969,2,  34.6967,2,    220.1,2,   219.7,2,  123.87,2,   32.27,2,    0.00,2,    2.22,2,   0.739,2,   0.364,2,   0.044,2,   0.1080,2,  2259.6,2,  2357.8,2,   7.5931,6,    25.00,-999.000,9,-999.0000,9,-999.000,9,   0.2330,2, -999.00,9,  -999.0,9,  -999.0,-999.000,9, -999.00,9,-999.000,9,   40.18,2,   34.71,2, -70.4851,-150.0043,-999.000,     -999.0,    34.8603,2,     -999.0,9,     -999.0,9,-999.0000,9,-999.0000,9,-999.0000,9,-999.0000,9,-999.0000,9,-999.0000,9,-999.0000,9,-999.0000,9,-999.0000,9,-999.0000,-999.000,  -0.0707,     -999.0,     -999.0,9,     -999.0,9,     -999.0,9,     -999.0,9,     -999.0,20110313,       0901
320620110219,       P16S,      52,          1,          1,          1,2,20110313,       0857,   -70.4851,  -150.0043,       4322,  4398.8,   0.2354,  34.6969,2,  34.6966,2,    219.6,2,   219.6,2,  124.53,2,   32.25,2,    0.00,2,    2.23,2,   0.752,2,   0.373,2,   0.041,2,   0.1150,2,  2261.9,6,  2358.3,2,   7.5912,2,    25.00,-999.000,9,-999.0000,9,-999.000,9,   0.2351,2, -999.00,9,  -999.0,9,  -999.0,-999.000,9, -999.00,9,-999.000,9,   40.06,2,   34.79,2, -70.4851,-150.0043,-999.000,     -999.0,    34.8602,2,     -999.0,9,     -999.0,9,-999.0000,9,-999.0000,9,-999.0000,9,-999.0000,9,-999.0000,9,-999.0000,9,-999.0000,9,-999.0000,9,-999.0000,9,-999.0000,-999.000,  -0.0892,     -999.0,     -999.0,9,     -999.0,9,     -999.0,9,     -999.0,9,     -999.0,20110313,       0857