BOTTLE,20220813CCHSIOAMB
EXPOCODE,SECT_ID,STNNBR,CASTNO,SAMPNO,BTLNBR,BTLNBR_FLAG_W,DATE,TIME,LATITUDE,LONGITUDE,DEPTH,CTDPRS,CTDTMP,CTDSAL,CTDSAL_FLAG_W,SALNTY,SALNTY_FLAG_W,CTDOXY,CTDOXY_FLAG_W,OXYGEN,OXYGEN_FLAG_W,SILCAT,SILCAT_FLAG_W,NITRAT,NITRAT_FLAG_W,NITRIT,NITRIT_FLAG_W,PHSPHT,PHSPHT_FLAG_W,CFC-11,CFC-11_FLAG_W,CFC-12,CFC-12_FLAG_W,CFC113,CFC113_FLAG_W,SF6,SF6_FLAG_W,TCARBN,TCARBN_FLAG_W,ALKALI,ALKALI_FLAG_W,PH_TOT,PH_TOT_FLAG_W,PH_TMP,TRITUM,TRITUM_FLAG_W,HELIUM,HELIUM_FLAG_W,DELHE3,DELHE3_FLAG_W,REFTMP,REFTMP_FLAG_W,DELC13,DELC13_FLAG_W,DELC14,DELC14_FLAG_W,C14ERR,NEON,NEON_FLAG_W,DELO18,DELO18_FLAG_W,POC,POC_FLAG_W,DOC,DOC_FLAG_W,TDN,TDN_FLAG_W,BTL_LAT,BTL_LON,TRITER,NEONER,SALTREF,SALTREF_FLAG_W,PIGMENTS,PIGMENTS_FLAG_W,LAB_DEN,LAB_DEN_FLAG_W,CDOM325,CDOM325_FLAG_W,CDOM340,CDOM340_FLAG_W,CDOM380,CDOM380_FLAG_W,CDOM412,CDOM412_FLAG_W,CDOM443,CDOM443_FLAG_W,CDOM490,CDOM490_FLAG_W,CDOM555,CDOM555_FLAG_W,CDOMSL,CDOMSL_FLAG_W,CDOMSN,CDOMSN_FLAG_W,HELIER,DELHER,THETA,LDEO_SAMPNO,ABSORBTION,ABSORBTION_FLAG_W,IMAGE_COUNT,IMAGE_COUNT_FLAG_W,CYTO_COUNT,CYTO_COUNT_FLAG_W,DELD,DELD_FLAG_W,DELDERR,BTL_DATE,BTL_TIME
,,,,,,,,,,,METERS,DBAR,ITS-90,PSS-78,,PSS-78,,UMOL/KG,,UMOL/KG,,UMOL/KG,,UMOL/KG,,UMOL/KG,,UMOL/KG,,PMOL/KG,,PMOL/KG,,PMOL/KG,,FMOL/KG,,UMOL/KG,,UMOL/KG,,,,DEG C,TU,,NMOL/KG,,PERCNT,,DEG C,,/MILLE,,/MILLE,,/MILLE,NMOL/KG,,/MILLE,,UG/KG,,UMOL/KG,,UMOL/KG,,,,TU,NMOL/KG,G/KG,,,,,,1/M,,1/M,,1/M,,1/M,,1/M,,1/M,,1/M,,1/NM,,1/NM,,NMOL/KG,PERCNT,DEG C,,,,,,,,/MILLE,,/MILLE,,
320620110219,       S04P,      98,          1,         36,         36,2,20110331,       0342,   -67.0000,  -144.2352,       4314,     2.2,  -0.6947,  33.5403,2,  33.5402,2,    340.7,3,   345.0,2,   36.15,2,   22.70,2,    0.21,2,    1.54,2,   6.130,2,   3.335,2,   0.614,2,   2.8020,2,  2144.5,6,  2275.0,2,   7.7048,2,    25.00,-999.000,9,-999.0000,9,-999.000,9,  -0.6964,2,    1.53,2,   -95.5,2,     2.5,-999.000,9, -999.00,9,-999.000,9, -999.00,9, -999.00,9, -67.0000,-144.2353,-999.000,     -999.0,    33.6983,2,     -999.0,1,     -999.0,9,-999.0000,9,-999.0000,9,-999.0000,9,-999.0000,9,-999.0000,9,-999.0000,9,-999.0000,9,-999.0000,9,-999.0000,9,-999.0000,-999.000,  -0.6948,     -999.0,     -999.0,9,     -999.0,9,     -999.0,9,     -999.0,9,     -999.0,20110331,       0525
320620110219,       S04P,      98,          1,         35,         35,2,20110331,       0342,   -67.0000,  -144.2352,       4314,    24.6,  -0.6830,  33.5441,2,  33.5441,2,    345.5,2,   344.6,2,   36.19,2,   22.78,2,    0.21,2,    1.56,2,   6.133,2,   3.302,2,   0.613,2,   2.7710,2,  2146.2,2,  2272.8,2,   7.7055,2,    25.00,-999.000,9,-999.0000,9,-999.000,9,  -0.6835,2, -999.00,9,  -999.0,9,  -999.0,-999.000,9, -999.00,9,-999.000,9, -999.00,9, -999.00,9, -67.0000,-144.2353,-999.000,     -999.0,    33.7022,2,     -999.0,1,     -999.0,9,-999.0000,9,-999.0000,9,-999.0000,9,-999.0000,9,-999.0000,9,-999.0000,9,-999.0000,9,-999.0000,9,-999.0000,9,-999.0000,-999.000,  -0.6837,     -999.0,     -999.0,9,     -999.0,9,     -999.0,9,     -999.0,9,     -999.0,20110331,       0523
320620110219,       S04P,      98,          1,         34,         34,2,20110331,       0342,   -67.0000,  -144.2352,       4314,    49.0,  -0.9690,  33.6681,3,  33.7352,2,    338.7,2,   335.0,2,   42.59,2,   24.75,2,    0.25,2,    1.73,2,   5.890,2,   3.204,2,   0.584,2,   2.6450,2,  2164.9,2,  2283.0,2,   7.6777,2,    25.00,-999.000,9,-999.0000,9,-999.000,9,  -0.9696,2,    1.35,2,   -97.5,2,     2.6,-999.000,9, -999.00,9,-999.000,9, -999.00,9, -999.00,9, -67.0000,-144.2353,-999.000,     -999.0,    33.8943,2,     -999.0,1,     -999.0,9,-999.0000,9,-999.0000,9,-999.0000,9,-999.0000,9,-999.0000,9,-999.0000,9,-999.0000,9,-999.0000,9,-999.0000,9,-999.0000,-999.000,  -0.9702,     -999.0,     -999.0,9,     -999.0,9,     -999.0,9,     -999.0,9,     -999.0,20110331,       0522
320620110219,       S04P,      98,          1,         33,         33,2,20110331,       0342,   -67.0000,  -144.2352,       4314,    74.0,  -1.7070,  34.0349,2,  34.0342,2,    320.8,2,   318.9,2,   52.04,2,   28.01,2,    0.30,2,    1.96,2,   5.479,2,   2.962,2,   0.548,2,   2.4110,2,  2195.0,2,  2300.5,2,   7.6373,2,    25.00,-999.000,9,-999.0000,9,-999.000,9,  -1.7071,2,    1.18,2,  -104.3,2,     2.7,-999.000,9, -999.00,9,-999.000,9, -999.00,9, -999.00,9, -67.0000,-144.2353,-999.000,     -999.0,    34.1947,2,     -999.0,1,     -999.0,9,-999.0000,9,-999.0000,9,-999.0000,9,-999.0000,9,-999.0000,9,-999.0000,9,-999.0000,9,-999.0000,9,-999.0000,9,-999.0000,-999.000,  -1.7085,     -999.0,     -999.0,9,     -999.0,9,     -999.0,9,     -999.0,9,     -999.0,20110331,       0521
320620110219,       S04P,      98,          1,         32,         32,2,20110331,       0342,   -67.0000,  -144.2352,       4314,   101.0,  -1.4901,  34.1108,2,  34.1062,2,    301.4,2,   305.0,2,   55.99,2,   28.90,2,    0.13,2,    1.99,2,   5.038,2,   2.721,2,   0.494,2,   2.1610,2,  2203.7,2,  2305.1,2,   7.6265,2,    25.00,-999.000,9,-999.0000,9,-999.000,9,  -1.4813,2,    1.02,2,  -103.5,2,     2.7,-999.000,9, -999.00,9,-999.000,9, -999.00,9, -999.00,9, -67.0000,-144.2354,-999.000,     -999.0,    34.2670,2,     -999.0,9,     -999.0,9,-999.0000,9,-999.0000,9,-999.0000,9,-999.0000,9,-999.0000,9,-999.0000,9,-999.0000,9,-999.0000,9,-999.0000,9,-999.0000,-999.000,  -1.4923,     -999.0,     -999.0,9,     -999.0,9,     -999.0,9,     -999.0,9,     -999.0,20110331,       0520
320620110219,       S04P,      98,          1,         31,         31,2,20110331,       0342,   -67.0000,  -144.2352,       4314,   150.9,   0.4655,  34.5069,2,  34.5228,2,    213.5,2,   213.3,2,   84.07,2,   32.32,2,    0.01,2,    2.20,2,   1.783,2,   0.956,2,   0.181,2,   0.7950,2,  2248.1,2,  2333.3,2,   7.5718,6,    25.00,-999.000,9,-999.0000,9,-999.000,9,   0.4616,2,    0.50,2,  -141.0,2,     3.0,-999.000,9, -999.00,9,-999.000,9, -999.00,9, -999.00,9, -66.9999,-144.2354,-999.000,     -999.0,    34.6856,2,     -999.0,9,     -999.0,9,-999.0000,9,-999.0000,9,-999.0000,9,-999.0000,9,-999.0000,9,-999.0000,9,-999.0000,9,-999.0000,9,-999.0000,9,-999.0000,-999.000,   0.4594,     -999.0,     -999.0,9,     -999.0,9,     -999.0,9,     -999.0,9,     -999.0,20110331,       0518
320620110219,       S04P,      98,          1,         30,         30,2,20110331,       0342,   -67.0000,  -144.2352,       4314,   199.8,   1.2176,  34.6740,2,  34.6678,2,    189.8,2,   186.9,2,   93.55,2,   33.08,2,    0.00,2,    2.25,2,   0.745,2,   0.384,2,   0.067,2,   0.2860,2,  2261.4,2,  2343.4,2,   7.5620,2,    25.00,-999.000,9,-999.0000,9,-999.000,9,   1.2111,2,    0.40,2,  -146.1,2,     2.4,-999.000,9, -999.00,9,-999.000,9, -999.00,9, -999.00,9, -66.9999,-144.2353,-999.000,     -999.0,    34.8313,2,     -999.0,9,     -999.0,9,-999.0000,9,-999.0000,9,-999.0000,9,-999.0000,9,-999.0000,9,-999.0000,9,-999.0000,9,-999.0000,9,-999.0000,9,-999.0000,-999.000,   1.2082,     -999.0,     -999.0,9,     -999.0,9,     -999.0,9,     -999.0,9,     -999.0,20110331,       0516
320620110219,       S04P,      98,          1,         29,         29,2,20110331,       0342,   -67.0000,  -144.2352,       4314,   251.7,   1.3683,  34.7222,2,  34.7210,2,    181.2,2,   181.2,2,   99.22,2,   32.98,2,    0.00,2,    2.25,2,   0.296,2,   0.141,2,   0.015,2,   0.0450,2,  2265.3,2,  2351.9,2,   7.5676,2,    25.00,-999.000,9,-999.0000,9,-999.000,9,   1.3677,2,    0.35,2,  -156.8,2,     2.4,-999.000,9, -999.00,9,-999.000,9, -999.00,9, -999.00,9, -66.9999,-144.2352,-999.000,     -999.0,    34.8847,2,     -999.0,9,     -999.0,9,-999.0000,9,-999.0000,9,-999.0000,9,-999.0000,9,-999.0000,9,-999.0000,9,-999.0000,9,-999.0000,9,-999.0000,9,-999.0000,-999.000,   1.3560,     -999.0,     -999.0,9,     -999.0,9,     -999.0,9,     -999.0,9,     -999.0,20110331,       0514
320620110219,       S04P,      98,          1,         28,         28,2,20110331,       0342,   -67.0000,  -144.2352,       4314,   300.5,   1.3552,  34.7270,2,  34.7253,2,    181.1,2,   181.4,2,  101.41,2,   33.04,2,    0.00,2,    2.25,2,   0.235,2,   0.114,2,   0.022,2,   0.0820,2,  2265.7,2,  2351.3,2,   7.5691,2,    25.00,-999.000,9,-999.0000,9,-999.000,9,   1.3547,2,    0.36,2,  -151.4,2,     2.4,-999.000,9, -999.00,9,-999.000,9, -999.00,9, -999.00,9, -66.9999,-144.2353,-999.000,     -999.0,    34.8890,2,     -999.0,9,     -999.0,9,-999.0000,9,-999.0000,9,-999.0000,9,-999.0000,9,-999.0000,9,-999.0000,9,-999.0000,9,-999.0000,9,-999.0000,9,-999.0000,-999.000,   1.3404,     -999.0,     -999.0,9,     -999.0,9,     -999.0,9,     -999.0,9,     -999.0,20110331,       0513
320620110219,       S04P,      98,          1,         27,         27,2,20110331,       0342,   -67.0000,  -144.2352,       4314,   350.4,   1.3199,  34.7292,2,  34.7270,2,    181.6,2,   181.8,2,  103.31,2,   33.02,2,    0.00,2,    2.24,2,   0.197,2,   0.084,2,   0.013,2,   0.0240,2,  2267.6,2,  2353.5,2,   7.5701,2,    25.00,-999.000,9,-999.0000,9,-999.000,9,   1.3200,2,    0.50,2,  -163.3,2,     2.6,-999.000,9, -999.00,9,-999.000,9, -999.00,9, -999.00,9, -66.9999,-144.2352,-999.000,     -999.0,    34.8908,2,     -999.0,9,     -999.0,9,-999.0000,9,-999.0000,9,-999.0000,9,-999.0000,9,-999.0000,9,-999.0000,9,-999.0000,9,-999.0000,9,-999.0000,9,-999.0000,-999.000,   1.3026,     -999.0,     -999.0,9,     -999.0,9,     -999.0,9,     -999.0,9,     -999.0,20110331,       0511
320620110219,       S04P,      98,          1,         26,         26,2,20110331,       0342,   -67.0000,  -144.2352,       4314,   400.0,   1.2884,  34.7294,2,  34.7286,2,    182.9,2,   183.6,2,  104.27,2,   33.05,2,    0.00,2,    2.24,2,-999.000,9,-999.000,9,-999.000,9,-999.0000,9,  2266.5,2,  2355.2,2,   7.5736,2,    25.00,-999.000,9,-999.0000,9,-999.000,9,   1.2885,2,    0.41,2,  -165.0,2,     2.6,-999.000,9, -999.00,9,-999.000,9, -999.00,9, -999.00,9, -66.9999,-144.2352,-999.000,     -999.0,    34.8924,2,     -999.0,9,     -999.0,9,-999.0000,9,-999.0000,9,-999.0000,9,-999.0000,9,-999.0000,9,-999.0000,9,-999.0000,9,-999.0000,9,-999.0000,9,-999.0000,-999.000,   1.2685,     -999.0,     -999.0,9,     -999.0,9,     -999.0,9,     -999.0,9,     -999.0,20110331,       0509
320620110219,       S04P,      98,          1,         25,         25,2,20110331,       0342,   -67.0000,  -144.2352,       4314,   451.0,   1.2506,  34.7288,2,  34.7276,2,    183.0,2,   183.4,2,  105.69,2,   32.95,2,    0.00,2,    2.24,2,   0.185,2,   0.092,2,   0.017,2,   0.0550,2,  2267.3,2,  2357.5,4,   7.5728,2,    25.00,-999.000,9,-999.0000,9,-999.000,9,   1.2508,2,    0.44,2,  -167.8,2,     2.3,-999.000,9, -999.00,9,-999.000,9, -999.00,9, -999.00,9, -66.9999,-144.2352,-999.000,     -999.0,    34.8914,2,     -999.0,9,     -999.0,9,-999.0000,9,-999.0000,9,-999.0000,9,-999.0000,9,-999.0000,9,-999.0000,9,-999.0000,9,-999.0000,9,-999.0000,9,-999.0000,-999.000,   1.2282,     -999.0,     -999.0,9,     -999.0,9,     -999.0,9,     -999.0,9,     -999.0,20110331,       0508
320620110219,       S04P,      98,          1,         24,         24,2,20110331,       0342,   -67.0000,  -144.2352,       4314,   498.9,   1.2140,  34.7279,2,  34.7272,2,    184.8,2,   184.7,2,  107.36,2,   32.91,2,    0.00,2,    2.24,2,-999.000,9,-999.000,9,-999.000,9,-999.0000,9,  2266.2,2,  2354.6,2,   7.5738,2,    25.00,-999.000,9,-999.0000,9,-999.000,9,   1.2146,2,    0.38,2,  -167.3,2,     2.4,-999.000,9, -999.00,9,-999.000,9, -999.00,9, -999.00,9, -66.9999,-144.2352,-999.000,     -999.0,    34.8910,2,     -999.0,9,     -999.0,9,-999.0000,9,-999.0000,9,-999.0000,9,-999.0000,9,-999.0000,9,-999.0000,9,-999.0000,9,-999.0000,9,-999.0000,9,-999.0000,-999.000,   1.1891,     -999.0,     -999.0,9,     -999.0,9,     -999.0,9,     -999.0,9,     -999.0,20110331,       0506
320620110219,       S04P,      98,          1,         23,         23,2,20110331,       0342,   -67.0000,  -144.2352,       4314,   598.3,   1.1527,  34.7262,2,  34.7253,2,    187.9,2,   187.4,2,  109.19,2,   32.73,2,    0.00,2,    2.24,2,   0.135,2,   0.063,2,   0.011,2,   0.0750,2,  -999.0,9,  2354.3,2,   7.5796,2,    25.00,-999.000,9,-999.0000,9,-999.000,9,   1.1528,2,    0.42,2,  -167.1,2,     2.4,-999.000,9, -999.00,9,-999.000,9, -999.00,9, -999.00,9, -66.9999,-144.2352,-999.000,     -999.0,    34.8890,2,     -999.0,9,     -999.0,9,-999.0000,9,-999.0000,9,-999.0000,9,-999.0000,9,-999.0000,9,-999.0000,9,-999.0000,9,-999.0000,9,-999.0000,9,-999.0000,-999.000,   1.1226,     -999.0,     -999.0,9,     -999.0,9,     -999.0,9,     -999.0,9,     -999.0,20110331,       0504
320620110219,       S04P,      98,          1,         22,         22,2,20110331,       0342,   -67.0000,  -144.2352,       4314,   699.6,   1.0942,  34.7248,2,  34.7239,2,    190.7,2,   189.6,2,  110.66,2,   32.58,2,    0.00,2,    2.24,2,-999.000,9,-999.000,9,-999.000,9,-999.0000,9,  2264.7,2,  2356.3,6,   7.5838,2,    25.00,-999.000,9,-999.0000,9,-999.000,9,   1.0948,2,    0.41,2,  -171.1,2,     2.6,-999.000,9, -999.00,9,-999.000,9, -999.00,9, -999.00,9, -66.9999,-144.2352,-999.000,     -999.0,    34.8876,2,     -999.0,9,     -999.0,9,-999.0000,9,-999.0000,9,-999.0000,9,-999.0000,9,-999.0000,9,-999.0000,9,-999.0000,9,-999.0000,9,-999.0000,9,-999.0000,-999.000,   1.0588,     -999.0,     -999.0,9,     -999.0,9,     -999.0,9,     -999.0,9,     -999.0,20110331,       0501
320620110219,       S04P,      98,          1,         21,         21,2,20110331,       0342,   -67.0000,  -144.2352,       4314,   800.4,   1.0196,  34.7215,2,  34.7208,2,    193.5,2,   192.8,2,  112.27,2,   32.54,2,    0.00,2,    2.23,2,   0.120,2,   0.057,2,   0.012,2,   0.0380,2,  -999.0,9,  -999.0,9,-999.0000,9,  -999.00,-999.000,9,-999.0000,9,-999.000,9,   1.0192,2, -999.00,9,  -999.0,9,  -999.0,-999.000,9, -999.00,9,-999.000,9, -999.00,9, -999.00,9, -67.0000,-144.2351,-999.000,     -999.0,    34.8845,2,     -999.0,9,     -999.0,9,-999.0000,9,-999.0000,9,-999.0000,9,-999.0000,9,-999.0000,9,-999.0000,9,-999.0000,9,-999.0000,9,-999.0000,9,-999.0000,-999.000,   0.9789,     -999.0,     -999.0,9,     -999.0,9,     -999.0,9,     -999.0,9,     -999.0,20110331,       0459
320620110219,       S04P,      98,          1,         20,         20,2,20110331,       0342,   -67.0000,  -144.2352,       4314,   899.1,   0.9611,  34.7194,2,  34.7192,2,    195.5,2,   194.7,2,  114.04,2,   32.44,2,    0.00,2,    2.23,2,-999.000,9,-999.000,9,-999.000,9,-999.0000,9,  2263.0,2,  2359.1,2,   7.5873,6,    25.00,-999.000,9,-999.0000,9,-999.000,9,   0.9612,2,    0.46,2,  -164.4,2,     2.5,-999.000,9, -999.00,9,-999.000,9, -999.00,9, -999.00,9, -67.0000,-144.2351,-999.000,     -999.0,    34.8829,2,     -999.0,9,     -999.0,9,-999.0000,9,-999.0000,9,-999.0000,9,-999.0000,9,-999.0000,9,-999.0000,9,-999.0000,9,-999.0000,9,-999.0000,9,-999.0000,-999.000,   0.9150,     -999.0,     -999.0,9,     -999.0,9,     -999.0,9,     -999.0,9,     -999.0,20110331,       0456
320620110219,       S04P,      98,          1,         19,         19,2,20110331,       0342,   -67.0000,  -144.2352,       4314,   999.0,   0.9089,  34.7173,2,  34.7170,2,    197.0,2,   197.1,2,  115.70,2,   32.29,2,    0.00,2,    2.23,2,   0.100,2,   0.048,2,   0.013,2,   0.0700,2,  -999.0,9,  2359.8,2,   7.5896,2,    25.00,-999.000,9,-999.0000,9,-999.000,9,   0.9082,2,    0.42,2,  -169.6,2,     3.4,-999.000,9, -999.00,9,-999.000,9, -999.00,9, -999.00,9, -67.0000,-144.2351,-999.000,     -999.0,    34.8807,2,     -999.0,9,     -999.0,9,-999.0000,9,-999.0000,9,-999.0000,9,-999.0000,9,-999.0000,9,-999.0000,9,-999.0000,9,-999.0000,9,-999.0000,9,-999.0000,-999.000,   0.8573,     -999.0,     -999.0,9,     -999.0,9,     -999.0,9,     -999.0,9,     -999.0,20110331,       0454
320620110219,       S04P,      98,          1,         18,         18,2,20110331,       0342,   -67.0000,  -144.2352,       4314,  1099.3,   0.8555,  34.7152,2,  34.7147,2,    199.0,2,   199.0,2,  117.18,2,   32.31,2,    0.00,2,    2.23,2,-999.000,9,-999.000,9,-999.000,9,-999.0000,9,  2263.7,2,  2359.4,2,   7.5926,2,    25.00,-999.000,9,-999.0000,9,-999.000,9,   0.8555,2, -999.00,9,  -999.0,9,  -999.0,-999.000,9, -999.00,9,-999.000,9, -999.00,9, -999.00,9, -67.0000,-144.2351,-999.000,     -999.0,    34.8784,2,     -999.0,9,     -999.0,9,-999.0000,9,-999.0000,9,-999.0000,9,-999.0000,9,-999.0000,9,-999.0000,9,-999.0000,9,-999.0000,9,-999.0000,9,-999.0000,-999.000,   0.7982,     -999.0,     -999.0,9,     -999.0,9,     -999.0,9,     -999.0,9,     -999.0,20110331,       0451
320620110219,       S04P,      98,          1,         17,         17,2,20110331,       0342,   -67.0000,  -144.2352,       4314,  1200.8,   0.8047,  34.7132,2,  34.7113,2,    201.1,2,   200.7,2,  118.53,2,   32.19,2,    0.00,2,    2.23,2,   0.132,2,   0.058,2,   0.011,2,   0.0160,2,  -999.0,9,  2359.4,2,   7.5962,2,    25.00,-999.000,9,-999.0000,9,-999.000,9,   0.8049,2,    0.51,2,  -157.7,2,     2.4,-999.000,9, -999.00,9,-999.000,9, -999.00,9, -999.00,9, -67.0000,-144.2351,-999.000,     -999.0,    34.8750,2,     -999.0,9,     -999.0,9,-999.0000,9,-999.0000,9,-999.0000,9,-999.0000,9,-999.0000,9,-999.0000,9,-999.0000,9,-999.0000,9,-999.0000,9,-999.0000,-999.000,   0.7416,     -999.0,     -999.0,9,     -999.0,9,     -999.0,9,     -999.0,9,     -999.0,20110331,       0449
320620110219,       S04P,      98,          1,         16,         16,2,20110331,       0342,   -67.0000,  -144.2352,       4314,  1299.7,   0.7654,  34.7113,2,  34.7107,2,    201.9,2,   201.2,2,  120.40,2,   32.20,2,    0.00,2,    2.23,2,-999.000,9,-999.000,9,-999.000,9,-999.0000,9,  2264.0,2,  2359.3,2,   7.5928,2,    25.00,-999.000,9,-999.0000,9,-999.000,9,   0.7657,2,    0.56,2,  -152.6,2,     2.4,-999.000,9, -999.00,9,-999.000,9, -999.00,9, -999.00,9, -67.0000,-144.2351,-999.000,     -999.0,    34.8744,2,     -999.0,9,     -999.0,9,-999.0000,9,-999.0000,9,-999.0000,9,-999.0000,9,-999.0000,9,-999.0000,9,-999.0000,9,-999.0000,9,-999.0000,9,-999.0000,-999.000,   0.6964,     -999.0,     -999.0,9,     -999.0,9,     -999.0,9,     -999.0,9,     -999.0,20110331,       0446
320620110219,       S04P,      98,          1,         15,         15,2,20110331,       0342,   -67.0000,  -144.2352,       4314,  1401.2,   0.7292,  34.7101,2,  34.7096,2,    202.9,2,   202.5,2,  121.48,2,   32.27,2,    0.00,2,    2.23,2,   0.131,2,   0.060,2,   0.010,2,   0.0500,2,  -999.0,9,  2359.8,2,   7.5960,2,    25.00,-999.000,9,-999.0000,9,-999.000,9,   0.7296,2,    0.47,6,  -157.1,6,     3.0,-999.000,9, -999.00,9,-999.000,9, -999.00,9, -999.00,9, -67.0000,-144.2351,-999.000,     -999.0,    34.8732,2,     -999.0,9,     -999.0,9,-999.0000,9,-999.0000,9,-999.0000,9,-999.0000,9,-999.0000,9,-999.0000,9,-999.0000,9,-999.0000,9,-999.0000,9,-999.0000,-999.000,   0.6541,     -999.0,     -999.0,9,     -999.0,9,     -999.0,9,     -999.0,9,     -999.0,20110331,       0444
320620110219,       S04P,      98,          1,         14,         14,2,20110331,       0342,   -67.0000,  -144.2352,       4314,  1496.5,   0.6863,  34.7084,2,  34.7084,2,    203.3,2,   203.2,2,  122.85,2,   32.30,2,    0.00,2,    2.24,2,-999.000,9,-999.000,9,-999.000,9,-999.0000,9,  -999.0,9,  -999.0,9,-999.0000,9,  -999.00,-999.000,9,-999.0000,9,-999.000,9,   0.6866,2, -999.00,9,  -999.0,9,  -999.0,-999.000,9, -999.00,9,-999.000,9, -999.00,9, -999.00,9, -67.0000,-144.2351,-999.000,     -999.0,    34.8721,2,     -999.0,9,     -999.0,9,-999.0000,9,-999.0000,9,-999.0000,9,-999.0000,9,-999.0000,9,-999.0000,9,-999.0000,9,-999.0000,9,-999.0000,9,-999.0000,-999.000,   0.6054,     -999.0,     -999.0,9,     -999.0,9,     -999.0,9,     -999.0,9,     -999.0,20110331,       0441