BOTTLE,20220813CCHSIOAMB
EXPOCODE,SECT_ID,STNNBR,CASTNO,SAMPNO,BTLNBR,BTLNBR_FLAG_W,DATE,TIME,LATITUDE,LONGITUDE,DEPTH,CTDPRS,CTDTMP,CTDSAL,CTDSAL_FLAG_W,SALNTY,SALNTY_FLAG_W,CTDOXY,CTDOXY_FLAG_W,OXYGEN,OXYGEN_FLAG_W,SILCAT,SILCAT_FLAG_W,NITRAT,NITRAT_FLAG_W,NITRIT,NITRIT_FLAG_W,PHSPHT,PHSPHT_FLAG_W,CFC-11,CFC-11_FLAG_W,CFC-12,CFC-12_FLAG_W,CFC113,CFC113_FLAG_W,SF6,SF6_FLAG_W,TCARBN,TCARBN_FLAG_W,ALKALI,ALKALI_FLAG_W,PH_TOT,PH_TOT_FLAG_W,PH_TMP,TRITUM,TRITUM_FLAG_W,HELIUM,HELIUM_FLAG_W,DELHE3,DELHE3_FLAG_W,REFTMP,REFTMP_FLAG_W,DELC13,DELC13_FLAG_W,DELC14,DELC14_FLAG_W,C14ERR,NEON,NEON_FLAG_W,DELO18,DELO18_FLAG_W,POC,POC_FLAG_W,DOC,DOC_FLAG_W,TDN,TDN_FLAG_W,BTL_LAT,BTL_LON,TRITER,NEONER,SALTREF,SALTREF_FLAG_W,PIGMENTS,PIGMENTS_FLAG_W,LAB_DEN,LAB_DEN_FLAG_W,CDOM325,CDOM325_FLAG_W,CDOM340,CDOM340_FLAG_W,CDOM380,CDOM380_FLAG_W,CDOM412,CDOM412_FLAG_W,CDOM443,CDOM443_FLAG_W,CDOM490,CDOM490_FLAG_W,CDOM555,CDOM555_FLAG_W,CDOMSL,CDOMSL_FLAG_W,CDOMSN,CDOMSN_FLAG_W,HELIER,DELHER,THETA,LDEO_SAMPNO,ABSORBTION,ABSORBTION_FLAG_W,IMAGE_COUNT,IMAGE_COUNT_FLAG_W,CYTO_COUNT,CYTO_COUNT_FLAG_W,DELD,DELD_FLAG_W,DELDERR,BTL_DATE,BTL_TIME
,,,,,,,,,,,METERS,DBAR,ITS-90,PSS-78,,PSS-78,,UMOL/KG,,UMOL/KG,,UMOL/KG,,UMOL/KG,,UMOL/KG,,UMOL/KG,,PMOL/KG,,PMOL/KG,,PMOL/KG,,FMOL/KG,,UMOL/KG,,UMOL/KG,,,,DEG C,TU,,NMOL/KG,,PERCNT,,DEG C,,/MILLE,,/MILLE,,/MILLE,NMOL/KG,,/MILLE,,UG/KG,,UMOL/KG,,UMOL/KG,,,,TU,NMOL/KG,G/KG,,,,,,1/M,,1/M,,1/M,,1/M,,1/M,,1/M,,1/M,,1/NM,,1/NM,,NMOL/KG,PERCNT,DEG C,,,,,,,,/MILLE,,/MILLE,,
320620110219,       S04P,      96,          1,         13,         13,2,20110330,       0938,   -66.9995,  -148.0603,       4162,  1534.4,   0.6974,  34.7089,2,  34.7092,2,    203.0,2,   203.1,2,  122.64,2,   32.64,2,    0.00,2,    2.24,2,   0.099,2,   0.046,2,   0.009,2,   0.0140,2,  -999.0,9,  -999.0,9,-999.0000,9,  -999.00,-999.000,9,-999.0000,9,-999.000,9,   0.6975,2, -999.00,9,  -999.0,9,  -999.0,-999.000,9, -999.00,9,-999.000,9,   39.65,2,   34.92,2, -66.9991,-148.0603,-999.000,     -999.0,    34.8729,2,     -999.0,9,     -999.0,9,-999.0000,9,-999.0000,9,-999.0000,9,-999.0000,9,-999.0000,9,-999.0000,9,-999.0000,9,-999.0000,9,-999.0000,9,-999.0000,-999.000,   0.6138,     -999.0,     -999.0,9,     -999.0,9,     -999.0,9,     -999.0,9,     -999.0,20110330,       1035
320620110219,       S04P,      96,          1,         12,         12,2,20110330,       0938,   -66.9995,  -148.0603,       4162,  1665.1,   0.6530,  34.7074,2,  34.7075,2,    204.4,2,   203.6,2,  124.01,2,   32.54,2,    0.00,2,    2.24,2,-999.000,9,-999.000,9,-999.000,9,-999.0000,9,  2261.0,2,  2360.2,6,   7.5959,2,    25.00,-999.000,9,-999.0000,9,-999.000,9,   0.6530,2, -999.00,9,  -999.0,9,  -999.0,-999.000,9, -999.00,9,-999.000,9,   40.12,2,   35.39,2, -66.9991,-148.0604,-999.000,     -999.0,    34.8711,2,     -999.0,9,     -999.0,9,-999.0000,9,-999.0000,9,-999.0000,9,-999.0000,9,-999.0000,9,-999.0000,9,-999.0000,9,-999.0000,9,-999.0000,9,-999.0000,-999.000,   0.5610,     -999.0,     -999.0,9,     -999.0,9,     -999.0,9,     -999.0,9,     -999.0,20110330,       1032
320620110219,       S04P,      96,          1,         11,         11,2,20110330,       0938,   -66.9995,  -148.0603,       4162,  1867.2,   0.5707,  34.7054,2,  34.7051,2,    205.9,2,   205.8,2,  125.39,2,   32.47,2,    0.00,2,    2.22,2,   0.117,2,   0.060,2,   0.005,2,   0.0660,2,  -999.0,9,  -999.0,9,-999.0000,9,  -999.00,-999.000,9,-999.0000,9,-999.000,9,   0.5709,2, -999.00,9,  -999.0,9,  -999.0,-999.000,9, -999.00,9,-999.000,9,   39.83,2,   35.39,2, -66.9991,-148.0603,-999.000,     -999.0,    34.8688,2,     -999.0,9,     -999.0,9,-999.0000,9,-999.0000,9,-999.0000,9,-999.0000,9,-999.0000,9,-999.0000,9,-999.0000,9,-999.0000,9,-999.0000,9,-999.0000,-999.000,   0.4656,     -999.0,     -999.0,9,     -999.0,9,     -999.0,9,     -999.0,9,     -999.0,20110330,       1028
320620110219,       S04P,      96,          1,         10,         37,2,20110330,       0938,   -66.9995,  -148.0603,       4162,  2085.0,   0.4912,  34.7042,2,  34.7039,2,    207.9,2,   207.5,2,  126.42,2,   32.40,2,    0.00,2,    2.24,2,-999.000,9,-999.000,9,-999.000,9,-999.0000,9,  -999.0,9,  -999.0,9,-999.0000,9,  -999.00,-999.000,9,-999.0000,9,-999.000,9,   0.4914,2, -999.00,9,  -999.0,9,  -999.0,-999.000,9, -999.00,9,-999.000,9,   40.14,2,   35.04,2, -66.9993,-148.0603,-999.000,     -999.0,    34.8676,2,     -999.0,9,     -999.0,9,-999.0000,9,-999.0000,9,-999.0000,9,-999.0000,9,-999.0000,9,-999.0000,9,-999.0000,9,-999.0000,9,-999.0000,9,-999.0000,-999.000,   0.3714,     -999.0,     -999.0,9,     -999.0,9,     -999.0,9,     -999.0,9,     -999.0,20110330,       1023
320620110219,       S04P,      96,          1,          9,          9,2,20110330,       0938,   -66.9995,  -148.0603,       4162,  2334.8,   0.4112,  34.7034,2,  34.7032,2,    209.9,2,   209.9,2,  128.17,2,   32.53,2,    0.00,2,    2.24,2,   0.131,2,   0.063,2,   0.010,2,   0.0710,2,  2261.9,2,  2367.2,4,   7.5964,2,    25.00,-999.000,9,-999.0000,9,-999.000,9,   0.4113,2, -999.00,9,  -999.0,9,  -999.0,-999.000,9, -999.00,9,-999.000,9,   40.22,2,   34.94,2, -66.9995,-148.0603,-999.000,     -999.0,    34.8668,2,     -999.0,9,     -999.0,9,-999.0000,9,-999.0000,9,-999.0000,9,-999.0000,9,-999.0000,9,-999.0000,9,-999.0000,9,-999.0000,9,-999.0000,9,-999.0000,-999.000,   0.2737,     -999.0,     -999.0,9,     -999.0,9,     -999.0,9,     -999.0,9,     -999.0,20110330,       1018
320620110219,       S04P,      96,          1,          8,          8,2,20110330,       0938,   -66.9995,  -148.0603,       4162,  2586.1,   0.3466,  34.7030,2,  34.7020,2,    211.7,2,   211.7,2,  129.53,2,   32.52,2,    0.00,2,    2.24,2,-999.000,9,-999.000,9,-999.000,9,-999.0000,9,  -999.0,9,  -999.0,9,-999.0000,9,  -999.00,-999.000,9,-999.0000,9,-999.000,9,   0.3466,2, -999.00,9,  -999.0,9,  -999.0,-999.000,9, -999.00,9,-999.000,9,   39.83,2,   34.98,2, -66.9997,-148.0603,-999.000,     -999.0,    34.8656,2,     -999.0,9,     -999.0,9,-999.0000,9,-999.0000,9,-999.0000,9,-999.0000,9,-999.0000,9,-999.0000,9,-999.0000,9,-999.0000,9,-999.0000,9,-999.0000,-999.000,   0.1903,     -999.0,     -999.0,9,     -999.0,9,     -999.0,9,     -999.0,9,     -999.0,20110330,       1013
320620110219,       S04P,      96,          1,          7,          7,2,20110330,       0938,   -66.9995,  -148.0603,       4162,  2835.4,   0.2875,  34.7015,2,  34.7010,2,    213.9,2,   213.6,2,  130.31,2,   32.51,2,    0.00,2,    2.24,2,   0.244,2,   0.122,2,   0.015,2,   0.1060,2,  2261.8,2,  -999.0,5,   7.5969,2,    25.00,-999.000,9,-999.0000,9,-999.000,9,   0.2876,2, -999.00,9,  -999.0,9,  -999.0,-999.000,9, -999.00,9,-999.000,9,   39.75,2,   35.10,2, -66.9996,-148.0603,-999.000,     -999.0,    34.8646,2,     -999.0,9,     -999.0,9,-999.0000,9,-999.0000,9,-999.0000,9,-999.0000,9,-999.0000,9,-999.0000,9,-999.0000,9,-999.0000,9,-999.0000,9,-999.0000,-999.000,   0.1117,     -999.0,     -999.0,9,     -999.0,9,     -999.0,9,     -999.0,9,     -999.0,20110330,       1008
320620110219,       S04P,      96,          1,          6,          6,2,20110330,       0938,   -66.9995,  -148.0603,       4162,  3103.9,   0.2263,  34.6993,2,  34.6988,2,    216.5,2,   216.3,2,  128.64,2,   32.51,2,    0.00,2,    2.24,2,   0.438,2,   0.210,2,   0.035,2,   0.1360,2,  -999.0,9,  -999.0,9,-999.0000,9,  -999.00,-999.000,9,-999.0000,9,-999.000,9,   0.2265,2, -999.00,9,  -999.0,9,  -999.0,-999.000,9, -999.00,9,-999.000,9,   40.06,2,   35.03,2, -66.9994,-148.0604,-999.000,     -999.0,    34.8624,2,     -999.0,9,     -999.0,9,-999.0000,9,-999.0000,9,-999.0000,9,-999.0000,9,-999.0000,9,-999.0000,9,-999.0000,9,-999.0000,9,-999.0000,9,-999.0000,-999.000,   0.0286,     -999.0,     -999.0,9,     -999.0,9,     -999.0,9,     -999.0,9,     -999.0,20110330,       1002
320620110219,       S04P,      96,          1,          5,          5,2,20110330,       0938,   -66.9995,  -148.0603,       4162,  3402.2,   0.1770,  34.6964,2,  34.6957,2,    219.5,2,   219.2,2,  124.03,2,   32.38,2,    0.00,2,    2.24,2,   0.730,2,   0.348,2,   0.053,2,   0.1340,2,  2258.6,2,  2362.1,2,   7.5944,2,    25.00,-999.000,9,-999.0000,9,-999.000,9,   0.1773,2, -999.00,9,  -999.0,9,  -999.0,-999.000,9, -999.00,9,-999.000,9,   40.03,2,   34.91,2, -66.9998,-148.0603,-999.000,     -999.0,    34.8593,2,     -999.0,9,     -999.0,9,-999.0000,9,-999.0000,9,-999.0000,9,-999.0000,9,-999.0000,9,-999.0000,9,-999.0000,9,-999.0000,9,-999.0000,9,-999.0000,-999.000,  -0.0465,     -999.0,     -999.0,9,     -999.0,9,     -999.0,9,     -999.0,9,     -999.0,20110330,       0956
320620110219,       S04P,      96,          1,          4,          4,2,20110330,       0938,   -66.9995,  -148.0603,       4162,  3700.3,   0.1814,  34.6959,2,  34.6947,2,    220.0,2,   219.9,2,  122.64,2,   32.36,2,    0.00,2,    2.24,2,   0.777,2,   0.370,2,   0.051,2,   0.1360,2,  2260.3,2,  2359.7,2,   7.5947,2,    25.00,-999.000,9,-999.0000,9,-999.000,9,   0.1812,2, -999.00,9,  -999.0,9,  -999.0,-999.000,9, -999.00,9,-999.000,9,   40.47,2,   34.74,2, -66.9998,-148.0602,-999.000,     -999.0,    34.8583,2,     -999.0,9,     -999.0,9,-999.0000,9,-999.0000,9,-999.0000,9,-999.0000,9,-999.0000,9,-999.0000,9,-999.0000,9,-999.0000,9,-999.0000,9,-999.0000,-999.000,  -0.0705,     -999.0,     -999.0,9,     -999.0,9,     -999.0,9,     -999.0,9,     -999.0,20110330,       0950
320620110219,       S04P,      96,          1,          3,          3,2,20110330,       0938,   -66.9995,  -148.0603,       4162,  4001.7,   0.2030,  34.6961,2,  34.6957,2,    220.1,2,   220.0,2,  123.14,2,   32.39,2,    0.00,2,    2.24,2,   0.766,2,   0.364,2,   0.043,2,   0.1100,2,  2258.7,2,  2361.4,4,   7.5931,2,    25.00,-999.000,9,-999.0000,9,-999.000,9,   0.2028,2, -999.00,9,  -999.0,9,  -999.0,-999.000,9, -999.00,9,-999.000,9,   39.90,2,   34.53,2, -66.9998,-148.0603,-999.000,     -999.0,    34.8593,2,     -999.0,9,     -999.0,9,-999.0000,9,-999.0000,9,-999.0000,9,-999.0000,9,-999.0000,9,-999.0000,9,-999.0000,9,-999.0000,9,-999.0000,9,-999.0000,-999.000,  -0.0793,     -999.0,     -999.0,9,     -999.0,9,     -999.0,9,     -999.0,9,     -999.0,20110330,       0944
320620110219,       S04P,      96,          1,          2,          2,2,20110330,       0938,   -66.9995,  -148.0603,       4162,  4131.8,   0.2143,  34.6965,2,  34.6953,2,    220.3,2,   219.9,2,  123.47,2,   32.32,2,    0.00,2,    2.24,2,   0.756,2,   0.364,2,   0.047,2,   0.1520,2,  2259.5,6,  2356.6,2,   7.5938,2,    25.00,-999.000,9,-999.0000,9,-999.000,9,   0.2145,2, -999.00,9,  -999.0,9,  -999.0,-999.000,9, -999.00,9,-999.000,9,   39.87,2,   34.77,2, -66.9997,-148.0603,-999.000,     -999.0,    34.8589,2,     -999.0,9,     -999.0,9,-999.0000,9,-999.0000,9,-999.0000,9,-999.0000,9,-999.0000,9,-999.0000,9,-999.0000,9,-999.0000,9,-999.0000,9,-999.0000,-999.000,  -0.0816,     -999.0,     -999.0,9,     -999.0,9,     -999.0,9,     -999.0,9,     -999.0,20110330,       0941
320620110219,       S04P,      96,          1,          1,          1,2,20110330,       0938,   -66.9995,  -148.0603,       4162,  4231.4,   0.2230,  34.6962,2,  34.6962,2,    220.0,2,   219.7,2,  123.43,2,   32.40,2,    0.00,2,    2.24,2,   0.758,2,   0.358,2,   0.040,2,   0.1250,2,  2258.9,2,  2357.8,2,   7.5944,6,    25.00,-999.000,9,-999.0000,9,-999.000,9,   0.2229,2, -999.00,9,  -999.0,9,  -999.0,-999.000,9, -999.00,9,-999.000,9,   39.78,2,   34.31,2, -66.9995,-148.0603,-999.000,     -999.0,    34.8598,2,     -999.0,9,     -999.0,9,-999.0000,9,-999.0000,9,-999.0000,9,-999.0000,9,-999.0000,9,-999.0000,9,-999.0000,9,-999.0000,9,-999.0000,9,-999.0000,-999.000,  -0.0835,     -999.0,     -999.0,9,     -999.0,9,     -999.0,9,     -999.0,9,     -999.0,20110330,       0938