BOTTLE,20220813CCHSIOAMB
EXPOCODE,SECT_ID,STNNBR,CASTNO,SAMPNO,BTLNBR,BTLNBR_FLAG_W,DATE,TIME,LATITUDE,LONGITUDE,DEPTH,CTDPRS,CTDTMP,CTDSAL,CTDSAL_FLAG_W,SALNTY,SALNTY_FLAG_W,CTDOXY,CTDOXY_FLAG_W,OXYGEN,OXYGEN_FLAG_W,SILCAT,SILCAT_FLAG_W,NITRAT,NITRAT_FLAG_W,NITRIT,NITRIT_FLAG_W,PHSPHT,PHSPHT_FLAG_W,CFC-11,CFC-11_FLAG_W,CFC-12,CFC-12_FLAG_W,CFC113,CFC113_FLAG_W,SF6,SF6_FLAG_W,TCARBN,TCARBN_FLAG_W,ALKALI,ALKALI_FLAG_W,PH_TOT,PH_TOT_FLAG_W,PH_TMP,TRITUM,TRITUM_FLAG_W,HELIUM,HELIUM_FLAG_W,DELHE3,DELHE3_FLAG_W,REFTMP,REFTMP_FLAG_W,DELC13,DELC13_FLAG_W,DELC14,DELC14_FLAG_W,C14ERR,NEON,NEON_FLAG_W,DELO18,DELO18_FLAG_W,POC,POC_FLAG_W,DOC,DOC_FLAG_W,TDN,TDN_FLAG_W,BTL_LAT,BTL_LON,TRITER,NEONER,SALTREF,SALTREF_FLAG_W,PIGMENTS,PIGMENTS_FLAG_W,LAB_DEN,LAB_DEN_FLAG_W,CDOM325,CDOM325_FLAG_W,CDOM340,CDOM340_FLAG_W,CDOM380,CDOM380_FLAG_W,CDOM412,CDOM412_FLAG_W,CDOM443,CDOM443_FLAG_W,CDOM490,CDOM490_FLAG_W,CDOM555,CDOM555_FLAG_W,CDOMSL,CDOMSL_FLAG_W,CDOMSN,CDOMSN_FLAG_W,HELIER,DELHER,THETA,LDEO_SAMPNO,ABSORBTION,ABSORBTION_FLAG_W,IMAGE_COUNT,IMAGE_COUNT_FLAG_W,CYTO_COUNT,CYTO_COUNT_FLAG_W,DELD,DELD_FLAG_W,DELDERR,BTL_DATE,BTL_TIME
,,,,,,,,,,,METERS,DBAR,ITS-90,PSS-78,,PSS-78,,UMOL/KG,,UMOL/KG,,UMOL/KG,,UMOL/KG,,UMOL/KG,,UMOL/KG,,PMOL/KG,,PMOL/KG,,PMOL/KG,,FMOL/KG,,UMOL/KG,,UMOL/KG,,,,DEG C,TU,,NMOL/KG,,PERCNT,,DEG C,,/MILLE,,/MILLE,,/MILLE,NMOL/KG,,/MILLE,,UG/KG,,UMOL/KG,,UMOL/KG,,,,TU,NMOL/KG,G/KG,,,,,,1/M,,1/M,,1/M,,1/M,,1/M,,1/M,,1/M,,1/NM,,1/NM,,NMOL/KG,PERCNT,DEG C,,,,,,,,/MILLE,,/MILLE,,
320620110219,       S04P,      32,          1,          1,          1,4,20110306,       2234,   -67.0006,  -166.5026,       3578,     3.8,  -0.8928,  33.6404,2,  33.6401,2,    341.1,3,   345.5,2,   59.06,2,   25.59,2,    0.19,2,    1.83,2,   6.089,2,   3.392,2,   0.603,2,   2.6950,2,  2156.9,2,  2278.0,2,   7.6758,2,    25.00,-999.000,9,-999.0000,9,-999.000,9,  -0.8927,2, -999.00,9,  -999.0,9,  -999.0,-999.000,9, -999.00,9,-999.000,9,   43.25,2,   29.80,2, -67.0006,-166.5026,-999.000,     -999.0,    33.7987,2,     -999.0,9,     -999.0,9,-999.0000,9,-999.0000,9,-999.0000,9,-999.0000,9,-999.0000,9,-999.0000,9,-999.0000,9,-999.0000,9,-999.0000,9,-999.0000,-999.000,  -0.8929,     -999.0,     -999.0,9,     -999.0,9,     -999.0,9,     -999.0,9,     -999.0,20110307,       0018
320620110219,       S04P,      32,          1,         36,         36,2,20110306,       2234,   -67.0006,  -166.5026,       3578,    20.1,  -0.9021,  33.6402,2,  33.6395,2,    344.6,2,   345.4,2,   60.12,2,   25.17,2,    0.17,2,    1.76,2,   6.126,2,   3.376,2,   0.609,2,   2.5040,2,  2157.8,6,  2277.5,2,   7.6767,2,    25.00,-999.000,9,-999.0000,9,-999.000,9,  -0.9022,2, -999.00,9,  -999.0,9,  -999.0,-999.000,9, -999.00,9,-999.000,9,   43.24,2,   29.73,2, -67.0006,-166.5026,-999.000,     -999.0,    33.7982,2,     -999.0,9,     -999.0,9,-999.0000,9,-999.0000,9,-999.0000,9,-999.0000,9,-999.0000,9,-999.0000,9,-999.0000,9,-999.0000,9,-999.0000,9,-999.0000,-999.000,  -0.9026,     -999.0,     -999.0,9,     -999.0,9,     -999.0,9,     -999.0,9,     -999.0,20110307,       0017
320620110219,       S04P,      32,          1,         35,         35,4,20110306,       2234,   -67.0006,  -166.5026,       3578,    40.0,  -0.9110,  33.6447,2,  33.6626,2,    345.0,2,   343.5,2,   60.38,2,   25.35,2,    0.16,2,    1.77,2,   6.057,2,   3.198,2,   0.598,2,   2.2390,2,  2159.3,2,  2279.5,2,   7.6732,2,    25.00,-999.000,9,-999.0000,9,-999.000,9,  -0.9112,2, -999.00,9,  -999.0,9,  -999.0,-999.000,9, -999.00,9,-999.000,9,   43.15,2,   32.79,2, -67.0006,-166.5026,-999.000,     -999.0,    33.8213,2,     -999.0,1,     -999.0,9,-999.0000,9,-999.0000,9,-999.0000,9,-999.0000,9,-999.0000,9,-999.0000,9,-999.0000,9,-999.0000,9,-999.0000,9,-999.0000,-999.000,  -0.9120,     -999.0,     -999.0,9,     -999.0,1,     -999.0,1,     -999.0,9,     -999.0,20110307,       0016
320620110219,       S04P,      32,          1,         34,         34,4,20110306,       2234,   -67.0006,  -166.5026,       3578,    64.8,  -1.7108,  34.2739,2,  34.2700,2,    290.2,2,   289.3,2,   67.57,2,   29.20,2,    0.11,2,    2.02,2,   4.261,2,   2.334,2,   0.399,2,   1.4340,2,  2209.5,2,  2317.2,2,   7.6245,2,    25.00,-999.000,9,-999.0000,9,-999.000,9,  -1.7101,2, -999.00,9,  -999.0,9,  -999.0,-999.000,9, -999.00,9,-999.000,9,   42.77,2,   32.74,2, -67.0006,-166.5025,-999.000,     -999.0,    34.4316,2,     -999.0,1,     -999.0,9,-999.0000,9,-999.0000,9,-999.0000,9,-999.0000,9,-999.0000,9,-999.0000,9,-999.0000,9,-999.0000,9,-999.0000,9,-999.0000,-999.000,  -1.7121,     -999.0,     -999.0,9,     -999.0,1,     -999.0,1,     -999.0,9,     -999.0,20110307,       0014
320620110219,       S04P,      32,          1,         33,         33,2,20110306,       2234,   -67.0006,  -166.5026,       3578,    64.8,  -1.7108,  34.2739,2,  34.2704,2,    290.2,2,   289.1,2,   67.55,2,   29.11,2,    0.11,2,    2.03,2,   4.220,2,   2.332,2,   0.409,2,   1.4630,2,  2212.1,2,  2316.9,2,   7.6228,2,    25.00,-999.000,9,-999.0000,9,-999.000,9,  -1.7101,2, -999.00,9,  -999.0,9,  -999.0,-999.000,9, -999.00,9,-999.000,9,   42.70,2,   34.23,2, -67.0006,-166.5025,-999.000,     -999.0,    34.4320,2,     -999.0,1,     -999.0,9,-999.0000,9,-999.0000,9,-999.0000,9,-999.0000,9,-999.0000,9,-999.0000,9,-999.0000,9,-999.0000,9,-999.0000,9,-999.0000,-999.000,  -1.7121,     -999.0,     -999.0,9,     -999.0,1,     -999.0,1,     -999.0,9,     -999.0,20110307,       0014
320620110219,       S04P,      32,          1,         32,         32,2,20110306,       2234,   -67.0006,  -166.5026,       3578,    90.5,  -1.1381,  34.3616,2,  34.3396,2,    259.4,2,   266.6,2,   70.82,2,   30.54,2,    0.08,2,    2.09,2,   3.660,2,   2.012,2,   0.358,2,   1.2240,2,  2220.5,2,  2320.4,2,   7.5996,2,    25.00,-999.000,9,-999.0000,9,-999.000,9,  -1.1942,3, -999.00,9,  -999.0,9,  -999.0,-999.000,9, -999.00,9,-999.000,9,   42.08,2,   35.00,2, -67.0006,-166.5026,-999.000,     -999.0,    34.5015,2,     -999.0,1,     -999.0,9,-999.0000,9,-999.0000,9,-999.0000,9,-999.0000,9,-999.0000,9,-999.0000,9,-999.0000,9,-999.0000,9,-999.0000,9,-999.0000,-999.000,  -1.1404,     -999.0,     -999.0,9,     -999.0,1,     -999.0,1,     -999.0,9,     -999.0,20110307,       0013
320620110219,       S04P,      32,          1,         31,         31,2,20110306,       2234,   -67.0006,  -166.5026,       3578,   115.0,   0.1235,  34.5058,2,  34.5136,2,    221.6,2,   218.0,2,   81.55,2,   32.43,2,    0.02,2,    2.20,2,-999.000,9,-999.000,9,-999.000,9,-999.0000,9,  2240.2,2,  2331.1,6,   7.5734,2,    25.00,-999.000,9,-999.0000,9,-999.000,9,   0.1108,2, -999.00,9,  -999.0,9,  -999.0,-999.000,9, -999.00,9,-999.000,9,   41.72,2,   35.37,2, -67.0006,-166.5026,-999.000,     -999.0,    34.6764,2,     -999.0,9,     -999.0,9,-999.0000,9,-999.0000,9,-999.0000,9,-999.0000,9,-999.0000,9,-999.0000,9,-999.0000,9,-999.0000,9,-999.0000,9,-999.0000,-999.000,   0.1192,     -999.0,     -999.0,9,     -999.0,9,     -999.0,9,     -999.0,9,     -999.0,20110307,       0011
320620110219,       S04P,      32,          1,         30,         30,2,20110306,       2234,   -67.0006,  -166.5026,       3578,   139.5,   0.7753,  34.5926,2,  34.5909,2,    202.5,2,   201.9,2,   86.17,2,   32.91,2,    0.01,2,    2.24,2,   1.373,2,   0.727,2,   0.124,2,   0.3290,2,  2247.3,2,  2335.9,2,   7.5693,6,    25.00,-999.000,9,-999.0000,9,-999.000,9,   0.7887,2, -999.00,9,  -999.0,9,  -999.0,-999.000,9, -999.00,9,-999.000,9,   40.86,2,   35.36,2, -67.0006,-166.5026,-999.000,     -999.0,    34.7540,2,     -999.0,9,     -999.0,9,-999.0000,9,-999.0000,9,-999.0000,9,-999.0000,9,-999.0000,9,-999.0000,9,-999.0000,9,-999.0000,9,-999.0000,9,-999.0000,-999.000,   0.7693,     -999.0,     -999.0,9,     -999.0,9,     -999.0,9,     -999.0,9,     -999.0,20110307,       0010
320620110219,       S04P,      32,          1,         29,         29,2,20110306,       2234,   -67.0006,  -166.5026,       3578,   185.0,   1.2192,  34.6675,2,  34.6658,2,    189.8,2,   187.8,2,   91.19,2,   32.91,2,    0.01,2,    2.25,2,-999.000,9,-999.000,9,-999.000,9,-999.0000,9,  2253.1,2,  2342.9,2,   7.5685,2,    25.00,-999.000,9,-999.0000,9,-999.000,9,   1.2188,2, -999.00,9,  -999.0,9,  -999.0,-999.000,9, -999.00,9,-999.000,9,   40.79,2,   35.64,2, -67.0006,-166.5026,-999.000,     -999.0,    34.8293,2,     -999.0,9,     -999.0,9,-999.0000,9,-999.0000,9,-999.0000,9,-999.0000,9,-999.0000,9,-999.0000,9,-999.0000,9,-999.0000,9,-999.0000,9,-999.0000,-999.000,   1.2105,     -999.0,     -999.0,9,     -999.0,9,     -999.0,9,     -999.0,9,     -999.0,20110307,       0008
320620110219,       S04P,      32,          1,         28,         28,2,20110306,       2234,   -67.0006,  -166.5026,       3578,   234.7,   1.4302,  34.7146,2,  34.7111,2,    182.5,2,   182.9,2,   95.56,2,   33.00,2,    0.00,2,    2.25,2,   0.371,2,   0.186,2,   0.027,2,   0.0980,2,  2257.1,2,  2347.5,2,   7.5679,2,    25.00,-999.000,9,-999.0000,9,-999.000,9,   1.4304,2, -999.00,9,  -999.0,9,  -999.0,-999.000,9, -999.00,9,-999.000,9,   40.75,2,   35.73,2, -67.0006,-166.5026,-999.000,     -999.0,    34.8748,2,     -999.0,9,     -999.0,9,-999.0000,9,-999.0000,9,-999.0000,9,-999.0000,9,-999.0000,9,-999.0000,9,-999.0000,9,-999.0000,9,-999.0000,9,-999.0000,-999.000,   1.4186,     -999.0,     -999.0,9,     -999.0,9,     -999.0,9,     -999.0,9,     -999.0,20110307,       0006
320620110219,       S04P,      32,          1,         27,         27,2,20110306,       2234,   -67.0006,  -166.5026,       3578,   285.1,   1.4365,  34.7257,2,  34.7257,2,    182.2,2,   182.5,2,   98.54,2,   32.87,2,    0.00,2,    2.24,2,-999.000,9,-999.000,9,-999.000,9,-999.0000,9,  2259.4,2,  2350.0,2,   7.5708,2,    25.00,-999.000,9,-999.0000,9,-999.000,9,   1.4379,2, -999.00,9,  -999.0,9,  -999.0,-999.000,9, -999.00,9,-999.000,9,   40.74,2,   35.09,2, -67.0006,-166.5026,-999.000,     -999.0,    34.8894,2,     -999.0,9,     -999.0,9,-999.0000,9,-999.0000,9,-999.0000,9,-999.0000,9,-999.0000,9,-999.0000,9,-999.0000,9,-999.0000,9,-999.0000,9,-999.0000,-999.000,   1.4223,     -999.0,     -999.0,9,     -999.0,9,     -999.0,9,     -999.0,9,     -999.0,20110307,       0005
320620110219,       S04P,      32,          1,         26,         26,2,20110306,       2234,   -67.0006,  -166.5026,       3578,   334.8,   1.3994,  34.7287,2,  34.7288,2,    183.5,2,   183.5,2,  100.23,2,   32.65,2,    0.00,2,    2.24,2,   0.205,2,   0.095,2,   0.013,2,   0.0800,2,  2258.9,2,  2351.4,2,   7.5739,2,    25.00,-999.000,9,-999.0000,9,-999.000,9,   1.4004,2, -999.00,9,  -999.0,9,  -999.0,-999.000,9, -999.00,9,-999.000,9,   40.88,2,   35.44,2, -67.0006,-166.5026,-999.000,     -999.0,    34.8926,2,     -999.0,9,     -999.0,9,-999.0000,9,-999.0000,9,-999.0000,9,-999.0000,9,-999.0000,9,-999.0000,9,-999.0000,9,-999.0000,9,-999.0000,9,-999.0000,-999.000,   1.3827,     -999.0,     -999.0,9,     -999.0,9,     -999.0,9,     -999.0,9,     -999.0,20110307,       0003
320620110219,       S04P,      32,          1,         25,         25,2,20110306,       2234,   -67.0006,  -166.5026,       3578,   384.7,   1.3539,  34.7295,2,  34.7284,2,    183.7,2,   184.4,2,  102.65,2,   32.71,2,    0.00,2,    2.24,2,-999.000,9,-999.000,9,-999.000,9,-999.0000,9,  2260.1,2,  2352.4,2,   7.5745,2,    25.00,-999.000,9,-999.0000,9,-999.000,9,   1.3534,2, -999.00,9,  -999.0,9,  -999.0,-999.000,9, -999.00,9,-999.000,9,   40.63,2,   35.36,2, -67.0006,-166.5026,-999.000,     -999.0,    34.8922,2,     -999.0,9,     -999.0,9,-999.0000,9,-999.0000,9,-999.0000,9,-999.0000,9,-999.0000,9,-999.0000,9,-999.0000,9,-999.0000,9,-999.0000,9,-999.0000,-999.000,   1.3346,     -999.0,     -999.0,9,     -999.0,9,     -999.0,9,     -999.0,9,     -999.0,20110307,       0001
320620110219,       S04P,      32,          1,         24,         24,2,20110306,       2234,   -67.0006,  -166.5026,       3578,   433.8,   1.3182,  34.7295,2,  34.7290,2,    184.1,2,   184.8,2,  103.82,2,   32.84,2,    0.00,2,    2.24,2,   0.190,2,   0.086,2,   0.012,2,   0.0740,2,  2259.2,2,  2353.3,2,   7.5759,2,    25.00,-999.000,9,-999.0000,9,-999.000,9,   1.3181,2, -999.00,9,  -999.0,9,  -999.0,-999.000,9, -999.00,9,-999.000,9,   41.09,2,   35.26,2, -67.0006,-166.5026,-999.000,     -999.0,    34.8928,2,     -999.0,9,     -999.0,9,-999.0000,9,-999.0000,9,-999.0000,9,-999.0000,9,-999.0000,9,-999.0000,9,-999.0000,9,-999.0000,9,-999.0000,9,-999.0000,-999.000,   1.2964,     -999.0,     -999.0,9,     -999.0,9,     -999.0,9,     -999.0,9,     -999.0,20110306,       2359
320620110219,       S04P,      32,          1,         23,         23,2,20110306,       2234,   -67.0006,  -166.5026,       3578,   484.7,   1.2757,  34.7289,2,  34.7286,2,    185.2,2,   185.1,2,  105.21,2,   32.75,2,    0.00,2,    2.24,2,-999.000,9,-999.000,9,-999.000,9,-999.0000,9,  2260.3,2,  2353.9,2,   7.5768,2,    25.00,-999.000,9,-999.0000,9,-999.000,9,   1.2748,2, -999.00,9,  -999.0,9,  -999.0,-999.000,9, -999.00,9,-999.000,9,   40.72,2,   34.99,2, -67.0006,-166.5026,-999.000,     -999.0,    34.8924,2,     -999.0,9,     -999.0,9,-999.0000,9,-999.0000,9,-999.0000,9,-999.0000,9,-999.0000,9,-999.0000,9,-999.0000,9,-999.0000,9,-999.0000,9,-999.0000,-999.000,   1.2513,     -999.0,     -999.0,9,     -999.0,9,     -999.0,9,     -999.0,9,     -999.0,20110306,       2357
320620110219,       S04P,      32,          1,         22,         22,2,20110306,       2234,   -67.0006,  -166.5026,       3578,   565.6,   1.2153,  34.7277,2,  34.7274,2,    187.5,2,   188.3,2,  106.91,2,   32.65,2,    0.00,2,    2.24,2,   0.167,2,   0.083,2,   0.010,2,   0.0670,2,  2260.1,2,  2353.8,2,   7.5789,2,    25.00,-999.000,9,-999.0000,9,-999.000,9,   1.2150,2, -999.00,9,  -999.0,9,  -999.0,-999.000,9, -999.00,9,-999.000,9,   40.61,2,   34.87,2, -67.0006,-166.5026,-999.000,     -999.0,    34.8912,2,     -999.0,9,     -999.0,9,-999.0000,9,-999.0000,9,-999.0000,9,-999.0000,9,-999.0000,9,-999.0000,9,-999.0000,9,-999.0000,9,-999.0000,9,-999.0000,-999.000,   1.1868,     -999.0,     -999.0,9,     -999.0,9,     -999.0,9,     -999.0,9,     -999.0,20110306,       2355
320620110219,       S04P,      32,          1,         21,         21,2,20110306,       2234,   -67.0006,  -166.5026,       3578,   665.0,   1.1392,  34.7254,2,  34.7249,2,    190.0,2,   190.2,2,  108.92,2,   32.55,2,    0.00,2,    2.25,2,-999.000,9,-999.000,9,-999.000,9,-999.0000,9,  2259.9,2,  2355.9,2,   7.5849,6,    25.00,-999.000,9,-999.0000,9,-999.000,9,   1.1392,2, -999.00,9,  -999.0,9,  -999.0,-999.000,9, -999.00,9,-999.000,9,   40.44,2,   35.23,2, -67.0006,-166.5026,-999.000,     -999.0,    34.8886,2,     -999.0,9,     -999.0,9,-999.0000,9,-999.0000,9,-999.0000,9,-999.0000,9,-999.0000,9,-999.0000,9,-999.0000,9,-999.0000,9,-999.0000,9,-999.0000,-999.000,   1.1055,     -999.0,     -999.0,9,     -999.0,9,     -999.0,9,     -999.0,9,     -999.0,20110306,       2353
320620110219,       S04P,      32,          1,         20,         20,2,20110306,       2234,   -67.0006,  -166.5026,       3578,   763.9,   1.0758,  34.7233,2,  34.7239,2,    192.3,2,   192.8,2,  110.55,2,   32.46,2,    0.00,2,    2.24,2,   0.105,2,   0.057,2,   0.006,2,   0.0550,2,  -999.0,9,  -999.0,9,-999.0000,9,  -999.00,-999.000,9,-999.0000,9,-999.000,9,   1.0758,2, -999.00,9,  -999.0,9,  -999.0,-999.000,9, -999.00,9,-999.000,9,   40.35,2,   35.30,2, -67.0006,-166.5026,-999.000,     -999.0,    34.8876,2,     -999.0,9,     -999.0,9,-999.0000,9,-999.0000,9,-999.0000,9,-999.0000,9,-999.0000,9,-999.0000,9,-999.0000,9,-999.0000,9,-999.0000,9,-999.0000,-999.000,   1.0368,     -999.0,     -999.0,9,     -999.0,9,     -999.0,9,     -999.0,9,     -999.0,20110306,       2350
320620110219,       S04P,      32,          1,         19,         19,2,20110306,       2234,   -67.0006,  -166.5026,       3578,   864.6,   1.0071,  34.7208,2,  34.7212,2,    194.9,2,   194.9,2,  112.59,2,   32.40,2,    0.00,2,    2.24,2,-999.000,9,-999.000,9,-999.000,9,-999.0000,9,  2259.2,2,  2356.6,2,   7.5898,2,    25.00,-999.000,9,-999.0000,9,-999.000,9,   1.0069,2, -999.00,9,  -999.0,9,  -999.0,-999.000,9, -999.00,9,-999.000,9,   40.27,2,   35.37,2, -67.0006,-166.5026,-999.000,     -999.0,    34.8849,2,     -999.0,9,     -999.0,9,-999.0000,9,-999.0000,9,-999.0000,9,-999.0000,9,-999.0000,9,-999.0000,9,-999.0000,9,-999.0000,9,-999.0000,9,-999.0000,-999.000,   0.9627,     -999.0,     -999.0,9,     -999.0,9,     -999.0,9,     -999.0,9,     -999.0,20110306,       2347
320620110219,       S04P,      32,          1,         18,         18,2,20110306,       2234,   -67.0006,  -166.5026,       3578,   966.1,   0.9524,  34.7187,2,  34.7188,2,    196.8,2,   197.0,2,  114.15,2,   32.41,2,    0.00,2,    2.24,2,   0.093,2,   0.045,2,   0.004,2,   0.0540,2,  -999.0,9,  -999.0,9,-999.0000,9,  -999.00,-999.000,9,-999.0000,9,-999.000,9,   0.9514,2, -999.00,9,  -999.0,9,  -999.0,-999.000,9, -999.00,9,-999.000,9,   40.19,2,   35.09,2, -67.0006,-166.5026,-999.000,     -999.0,    34.8825,2,     -999.0,9,     -999.0,9,-999.0000,9,-999.0000,9,-999.0000,9,-999.0000,9,-999.0000,9,-999.0000,9,-999.0000,9,-999.0000,9,-999.0000,9,-999.0000,-999.000,   0.9024,     -999.0,     -999.0,9,     -999.0,9,     -999.0,9,     -999.0,9,     -999.0,20110306,       2344
320620110219,       S04P,      32,          1,         17,         17,2,20110306,       2234,   -67.0006,  -166.5026,       3578,  1065.8,   0.9002,  34.7167,2,  34.7164,2,    198.3,2,   198.1,2, -999.00,5, -999.00,5, -999.00,5, -999.00,5,-999.000,9,-999.000,9,-999.000,9,-999.0000,9,  2259.3,2,  2357.9,6,   7.5947,2,    25.00,-999.000,9,-999.0000,9,-999.000,9,   0.8999,2, -999.00,9,  -999.0,9,  -999.0,-999.000,9, -999.00,9,-999.000,9,   40.65,2,   35.00,2, -67.0006,-166.5026,-999.000,     -999.0,    34.8801,2,     -999.0,9,     -999.0,9,-999.0000,9,-999.0000,9,-999.0000,9,-999.0000,9,-999.0000,9,-999.0000,9,-999.0000,9,-999.0000,9,-999.0000,9,-999.0000,-999.000,   0.8446,     -999.0,     -999.0,9,     -999.0,9,     -999.0,9,     -999.0,9,     -999.0,20110306,       2341
320620110219,       S04P,      32,          1,         16,         16,2,20110306,       2234,   -67.0006,  -166.5026,       3578,  1164.1,   0.8519,  34.7145,2,  34.7143,2,    199.6,2,   199.7,2,  117.91,2,   32.51,2,    0.00,2,    2.25,2,   0.090,2,   0.044,2,   0.004,2,   0.0410,2,  -999.0,9,  -999.0,9,-999.0000,9,  -999.00,-999.000,9,-999.0000,9,-999.000,9,   0.8517,2, -999.00,9,  -999.0,9,  -999.0,-999.000,9, -999.00,9,-999.000,9,   40.47,2,   35.25,2, -67.0006,-166.5026,-999.000,     -999.0,    34.8780,2,     -999.0,9,     -999.0,9,-999.0000,9,-999.0000,9,-999.0000,9,-999.0000,9,-999.0000,9,-999.0000,9,-999.0000,9,-999.0000,9,-999.0000,9,-999.0000,-999.000,   0.7907,     -999.0,     -999.0,9,     -999.0,9,     -999.0,9,     -999.0,9,     -999.0,20110306,       2338
320620110219,       S04P,      32,          1,         15,         15,2,20110306,       2234,   -67.0006,  -166.5026,       3578,  1265.5,   0.7995,  34.7123,2,  34.7129,2,    201.0,2,   201.5,2,  119.35,2,   32.59,2,    0.00,2,    2.25,2,-999.000,9,-999.000,9,-999.000,9,-999.0000,9,  2258.2,6,  2359.4,2,   7.5952,2,    25.00,-999.000,9,-999.0000,9,-999.000,9,   0.7997,2, -999.00,9,  -999.0,9,  -999.0,-999.000,9, -999.00,9,-999.000,9,   40.22,2,   34.87,2, -67.0006,-166.5026,-999.000,     -999.0,    34.8766,2,     -999.0,9,     -999.0,9,-999.0000,9,-999.0000,9,-999.0000,9,-999.0000,9,-999.0000,9,-999.0000,9,-999.0000,9,-999.0000,9,-999.0000,9,-999.0000,-999.000,   0.7324,     -999.0,     -999.0,9,     -999.0,9,     -999.0,9,     -999.0,9,     -999.0,20110306,       2335