BOTTLE,20220813CCHSIOAMB
EXPOCODE,SECT_ID,STNNBR,CASTNO,SAMPNO,BTLNBR,BTLNBR_FLAG_W,DATE,TIME,LATITUDE,LONGITUDE,DEPTH,CTDPRS,CTDTMP,CTDSAL,CTDSAL_FLAG_W,SALNTY,SALNTY_FLAG_W,CTDOXY,CTDOXY_FLAG_W,OXYGEN,OXYGEN_FLAG_W,SILCAT,SILCAT_FLAG_W,NITRAT,NITRAT_FLAG_W,NITRIT,NITRIT_FLAG_W,PHSPHT,PHSPHT_FLAG_W,CFC-11,CFC-11_FLAG_W,CFC-12,CFC-12_FLAG_W,CFC113,CFC113_FLAG_W,SF6,SF6_FLAG_W,TCARBN,TCARBN_FLAG_W,ALKALI,ALKALI_FLAG_W,PH_TOT,PH_TOT_FLAG_W,PH_TMP,TRITUM,TRITUM_FLAG_W,HELIUM,HELIUM_FLAG_W,DELHE3,DELHE3_FLAG_W,REFTMP,REFTMP_FLAG_W,DELC13,DELC13_FLAG_W,DELC14,DELC14_FLAG_W,C14ERR,NEON,NEON_FLAG_W,DELO18,DELO18_FLAG_W,POC,POC_FLAG_W,DOC,DOC_FLAG_W,TDN,TDN_FLAG_W,BTL_LAT,BTL_LON,TRITER,NEONER,SALTREF,SALTREF_FLAG_W,PIGMENTS,PIGMENTS_FLAG_W,LAB_DEN,LAB_DEN_FLAG_W,CDOM325,CDOM325_FLAG_W,CDOM340,CDOM340_FLAG_W,CDOM380,CDOM380_FLAG_W,CDOM412,CDOM412_FLAG_W,CDOM443,CDOM443_FLAG_W,CDOM490,CDOM490_FLAG_W,CDOM555,CDOM555_FLAG_W,CDOMSL,CDOMSL_FLAG_W,CDOMSN,CDOMSN_FLAG_W,HELIER,DELHER,THETA,LDEO_SAMPNO,ABSORBTION,ABSORBTION_FLAG_W,IMAGE_COUNT,IMAGE_COUNT_FLAG_W,CYTO_COUNT,CYTO_COUNT_FLAG_W,DELD,DELD_FLAG_W,DELDERR,BTL_DATE,BTL_TIME
,,,,,,,,,,,METERS,DBAR,ITS-90,PSS-78,,PSS-78,,UMOL/KG,,UMOL/KG,,UMOL/KG,,UMOL/KG,,UMOL/KG,,UMOL/KG,,PMOL/KG,,PMOL/KG,,PMOL/KG,,FMOL/KG,,UMOL/KG,,UMOL/KG,,,,DEG C,TU,,NMOL/KG,,PERCNT,,DEG C,,/MILLE,,/MILLE,,/MILLE,NMOL/KG,,/MILLE,,UG/KG,,UMOL/KG,,UMOL/KG,,,,TU,NMOL/KG,G/KG,,,,,,1/M,,1/M,,1/M,,1/M,,1/M,,1/M,,1/M,,1/NM,,1/NM,,NMOL/KG,PERCNT,DEG C,,,,,,,,/MILLE,,/MILLE,,
320620110219,       S04P,      31,          1,         13,         13,2,20110306,       1452,   -67.0002,  -167.7823,       3701,  1534.5,   0.7034,  34.7080,2,  34.7090,2,    204.3,2,   205.0,2,  121.55,2,   32.26,2,    0.00,2,    2.24,2,-999.000,9,-999.000,9,-999.000,9,-999.0000,9,  -999.0,9,  -999.0,9,-999.0000,9,  -999.00,-999.000,9,-999.0000,9,-999.000,9,   0.7030,2, -999.00,9,  -999.0,9,  -999.0,-999.000,9, -999.00,9,-999.000,9, -999.00,9, -999.00,9, -67.0002,-167.7823,-999.000,     -999.0,    34.8726,2,     -999.0,9,     -999.0,9,-999.0000,9,-999.0000,9,-999.0000,9,-999.0000,9,-999.0000,9,-999.0000,9,-999.0000,9,-999.0000,9,-999.0000,9,-999.0000,-999.000,   0.6197,     -999.0,     -999.0,9,     -999.0,9,     -999.0,9,     -999.0,9,     -999.0,20110306,       1549
320620110219,       S04P,      31,          1,         12,         12,2,20110306,       1452,   -67.0002,  -167.7823,       3701,  1635.1,   0.6594,  34.7064,2,  34.7062,2,    205.3,2,   205.7,2,  122.29,2,   32.22,2,    0.00,2,    2.24,2,   0.227,2,   0.113,2,   0.014,2,   0.0640,2,  2257.7,2,  2360.0,2,   7.5986,2,    25.00,-999.000,9,-999.0000,9,-999.000,9,   0.6586,2, -999.00,9,  -999.0,9,  -999.0,-999.000,9, -999.00,9,-999.000,9, -999.00,9, -999.00,9, -67.0002,-167.7823,-999.000,     -999.0,    34.8699,2,     -999.0,9,     -999.0,9,-999.0000,9,-999.0000,9,-999.0000,9,-999.0000,9,-999.0000,9,-999.0000,9,-999.0000,9,-999.0000,9,-999.0000,9,-999.0000,-999.000,   0.5694,     -999.0,     -999.0,9,     -999.0,9,     -999.0,9,     -999.0,9,     -999.0,20110306,       1546
320620110219,       S04P,      31,          1,         11,         11,2,20110306,       1452,   -67.0002,  -167.7823,       3701,  1734.3,   0.6194,  34.7050,2,  34.7056,2,    206.2,2,   206.4,2,  122.67,2,   32.36,2,    0.00,2,    2.24,2,-999.000,9,-999.000,9,-999.000,9,-999.0000,9,  -999.0,9,  -999.0,9,-999.0000,9,  -999.00,-999.000,9,-999.0000,9,-999.000,9,   0.6196,2, -999.00,9,  -999.0,9,  -999.0,-999.000,9, -999.00,9,-999.000,9, -999.00,9, -999.00,9, -67.0002,-167.7824,-999.000,     -999.0,    34.8693,2,     -999.0,9,     -999.0,9,-999.0000,9,-999.0000,9,-999.0000,9,-999.0000,9,-999.0000,9,-999.0000,9,-999.0000,9,-999.0000,9,-999.0000,9,-999.0000,-999.000,   0.5231,     -999.0,     -999.0,9,     -999.0,9,     -999.0,9,     -999.0,9,     -999.0,20110306,       1543
320620110219,       S04P,      31,          1,         10,         37,2,20110306,       1452,   -67.0002,  -167.7823,       3701,  1865.7,   0.5693,  34.7037,2,  34.7037,2,    207.1,2,   207.8,2,  123.88,2,   32.41,2,    0.00,2,    2.25,2,-999.000,9,-999.000,9,-999.000,9,-999.0000,9,  -999.0,9,  -999.0,9,-999.0000,9,  -999.00,-999.000,9,-999.0000,9,-999.000,9,   0.5691,2, -999.00,9,  -999.0,9,  -999.0,-999.000,9, -999.00,9,-999.000,9, -999.00,9, -999.00,9, -67.0002,-167.7824,-999.000,     -999.0,    34.8673,2,     -999.0,9,     -999.0,9,-999.0000,9,-999.0000,9,-999.0000,9,-999.0000,9,-999.0000,9,-999.0000,9,-999.0000,9,-999.0000,9,-999.0000,9,-999.0000,-999.000,   0.4644,     -999.0,     -999.0,9,     -999.0,9,     -999.0,9,     -999.0,9,     -999.0,20110306,       1539
320620110219,       S04P,      31,          1,          9,          9,2,20110306,       1452,   -67.0002,  -167.7823,       3701,  2084.5,   0.4913,  34.7021,2,  34.7019,2,    208.8,2,   209.3,2,  125.33,2,   32.51,2,    0.00,2,    2.25,2,-999.000,9,-999.000,9,-999.000,9,-999.0000,9,  2257.5,2,  2359.9,2,   7.5949,2,    25.00,-999.000,9,-999.0000,9,-999.000,9,   0.4912,2, -999.00,9,  -999.0,9,  -999.0,-999.000,9, -999.00,9,-999.000,9, -999.00,9, -999.00,9, -67.0002,-167.7823,-999.000,     -999.0,    34.8656,2,     -999.0,9,     -999.0,9,-999.0000,9,-999.0000,9,-999.0000,9,-999.0000,9,-999.0000,9,-999.0000,9,-999.0000,9,-999.0000,9,-999.0000,9,-999.0000,-999.000,   0.3715,     -999.0,     -999.0,9,     -999.0,9,     -999.0,9,     -999.0,9,     -999.0,20110306,       1534
320620110219,       S04P,      31,          1,          8,          8,2,20110306,       1452,   -67.0002,  -167.7823,       3701,  2334.7,   0.4128,  34.7004,2,  34.7009,2,    210.8,2,   212.1,2,  126.79,2,   32.60,2,    0.00,2,    2.24,2,   0.314,2,   0.151,2,   0.016,2,   0.1400,2,  -999.0,9,  -999.0,9,-999.0000,9,  -999.00,-999.000,9,-999.0000,9,-999.000,9,   0.4124,2, -999.00,9,  -999.0,9,  -999.0,-999.000,9, -999.00,9,-999.000,9, -999.00,9, -999.00,9, -67.0002,-167.7823,-999.000,     -999.0,    34.8646,2,     -999.0,9,     -999.0,9,-999.0000,9,-999.0000,9,-999.0000,9,-999.0000,9,-999.0000,9,-999.0000,9,-999.0000,9,-999.0000,9,-999.0000,9,-999.0000,-999.000,   0.2753,     -999.0,     -999.0,9,     -999.0,9,     -999.0,9,     -999.0,9,     -999.0,20110306,       1528
320620110219,       S04P,      31,          1,          7,          7,2,20110306,       1452,   -67.0002,  -167.7823,       3701,  2584.8,   0.3427,  34.6989,2,  34.6992,2,    212.6,2,   213.3,2,  127.21,2,   32.67,2,    0.00,2,    2.24,2,-999.000,9,-999.000,9,-999.000,9,-999.0000,9,  -999.0,9,  -999.0,9,-999.0000,9,  -999.00,-999.000,9,-999.0000,9,-999.000,9,   0.3429,2, -999.00,9,  -999.0,9,  -999.0,-999.000,9, -999.00,9,-999.000,9, -999.00,9, -999.00,9, -67.0002,-167.7823,-999.000,     -999.0,    34.8628,2,     -999.0,9,     -999.0,9,-999.0000,9,-999.0000,9,-999.0000,9,-999.0000,9,-999.0000,9,-999.0000,9,-999.0000,9,-999.0000,9,-999.0000,9,-999.0000,-999.000,   0.1866,     -999.0,     -999.0,9,     -999.0,9,     -999.0,9,     -999.0,9,     -999.0,20110306,       1522
320620110219,       S04P,      31,          1,          6,          6,2,20110306,       1452,   -67.0002,  -167.7823,       3701,  2834.5,   0.2717,  34.6952,2,  34.6954,2,    216.0,2,   216.1,2,  125.23,2,   32.68,2,    0.00,2,    2.25,2,   0.633,2,   0.314,2,   0.038,2,   0.0940,2,  2257.0,2,  2357.5,2,   7.5957,2,    25.00,-999.000,9,-999.0000,9,-999.000,9,   0.2717,2, -999.00,9,  -999.0,9,  -999.0,-999.000,9, -999.00,9,-999.000,9, -999.00,9, -999.00,9, -67.0002,-167.7823,-999.000,     -999.0,    34.8590,2,     -999.0,9,     -999.0,9,-999.0000,9,-999.0000,9,-999.0000,9,-999.0000,9,-999.0000,9,-999.0000,9,-999.0000,9,-999.0000,9,-999.0000,9,-999.0000,-999.000,   0.0963,     -999.0,     -999.0,9,     -999.0,9,     -999.0,9,     -999.0,9,     -999.0,20110306,       1516
320620110219,       S04P,      31,          1,          5,          5,2,20110306,       1452,   -67.0002,  -167.7823,       3701,  3084.9,   0.2306,  34.6928,2,  34.6927,2,    218.0,2,   218.0,2,  123.83,2,   32.69,2,    0.00,2,    2.24,2,-999.000,9,-999.000,9,-999.000,9,-999.0000,9,  -999.0,9,  -999.0,9,-999.0000,9,  -999.00,-999.000,9,-999.0000,9,-999.000,9,   0.2304,2, -999.00,9,  -999.0,9,  -999.0,-999.000,9, -999.00,9,-999.000,9, -999.00,9, -999.00,9, -67.0002,-167.7823,-999.000,     -999.0,    34.8563,2,     -999.0,9,     -999.0,9,-999.0000,9,-999.0000,9,-999.0000,9,-999.0000,9,-999.0000,9,-999.0000,9,-999.0000,9,-999.0000,9,-999.0000,9,-999.0000,-999.000,   0.0345,     -999.0,     -999.0,9,     -999.0,9,     -999.0,9,     -999.0,9,     -999.0,20110306,       1510
320620110219,       S04P,      31,          1,          4,          4,2,20110306,       1452,   -67.0002,  -167.7823,       3701,  3334.1,   0.2265,  34.6918,2,  34.6921,2,    219.0,2,   219.3,2,  122.83,2,   32.63,2,    0.00,2,    2.24,2,   0.890,2,   0.436,2,   0.063,2,   0.1640,2,  2255.3,2,  2356.9,2,   7.5939,2,    25.00,-999.000,9,-999.0000,9,-999.000,9,   0.2265,2, -999.00,9,  -999.0,9,  -999.0,-999.000,9, -999.00,9,-999.000,9, -999.00,9, -999.00,9, -67.0002,-167.7823,-999.000,     -999.0,    34.8557,2,     -999.0,9,     -999.0,9,-999.0000,9,-999.0000,9,-999.0000,9,-999.0000,9,-999.0000,9,-999.0000,9,-999.0000,9,-999.0000,9,-999.0000,9,-999.0000,-999.000,   0.0080,     -999.0,     -999.0,9,     -999.0,9,     -999.0,9,     -999.0,9,     -999.0,20110306,       1504
320620110219,       S04P,      31,          1,          3,          3,2,20110306,       1452,   -67.0002,  -167.7823,       3701,  3585.4,   0.2374,  34.6909,2,  34.6897,2,    219.6,2,   219.6,2,  122.45,2,   32.59,2,    0.00,2,    2.24,2,   0.900,2,   0.458,2,   0.065,2,   0.1680,2,  2261.2,3,  2356.6,6,   7.5956,2,    25.00,-999.000,9,-999.0000,9,-999.000,9,   0.2375,2, -999.00,9,  -999.0,9,  -999.0,-999.000,9, -999.00,9,-999.000,9, -999.00,9, -999.00,9, -67.0002,-167.7823,-999.000,     -999.0,    34.8533,2,     -999.0,9,     -999.0,9,-999.0000,9,-999.0000,9,-999.0000,9,-999.0000,9,-999.0000,9,-999.0000,9,-999.0000,9,-999.0000,9,-999.0000,9,-999.0000,-999.000,  -0.0049,     -999.0,     -999.0,9,     -999.0,9,     -999.0,9,     -999.0,9,     -999.0,20110306,       1458
320620110219,       S04P,      31,          1,          2,          2,2,20110306,       1452,   -67.0002,  -167.7823,       3701,  3697.7,   0.2479,  34.6909,2,  34.6903,2,    219.5,2,   219.1,2,  122.90,2,   32.53,2,    0.00,2,    2.24,2,   0.916,2,   0.465,2,   0.068,2,   0.2020,2,  2258.4,6,  2362.5,4,   7.5946,2,    25.00,-999.000,9,-999.0000,9,-999.000,9,   0.2472,2, -999.00,9,  -999.0,9,  -999.0,-999.000,9, -999.00,9,-999.000,9, -999.00,9, -999.00,9, -67.0002,-167.7823,-999.000,     -999.0,    34.8539,2,     -999.0,9,     -999.0,9,-999.0000,9,-999.0000,9,-999.0000,9,-999.0000,9,-999.0000,9,-999.0000,9,-999.0000,9,-999.0000,9,-999.0000,9,-999.0000,-999.000,  -0.0055,     -999.0,     -999.0,9,     -999.0,9,     -999.0,9,     -999.0,9,     -999.0,20110306,       1454
320620110219,       S04P,      31,          1,          1,          1,2,20110306,       1452,   -67.0002,  -167.7823,       3701,  3761.3,   0.2545,  34.6907,2,  34.6905,2,    219.3,2,   220.1,2,  122.45,2,   32.57,2,    0.00,2,    2.23,2,   0.922,2,   0.464,2,   0.069,2,   0.1600,2,  2256.1,2,  2355.3,2,   7.5969,6,    25.00,-999.000,9,-999.0000,9,-999.000,9,   0.2545,2, -999.00,9,  -999.0,9,  -999.0,-999.000,9, -999.00,9,-999.000,9, -999.00,9, -999.00,9, -67.0002,-167.7823,-999.000,     -999.0,    34.8541,2,     -999.0,9,     -999.0,9,-999.0000,9,-999.0000,9,-999.0000,9,-999.0000,9,-999.0000,9,-999.0000,9,-999.0000,9,-999.0000,9,-999.0000,9,-999.0000,-999.000,  -0.0053,     -999.0,     -999.0,9,     -999.0,9,     -999.0,9,     -999.0,9,     -999.0,20110306,       1452