BOTTLE,20220813CCHSIOAMB
EXPOCODE,SECT_ID,STNNBR,CASTNO,SAMPNO,BTLNBR,BTLNBR_FLAG_W,DATE,TIME,LATITUDE,LONGITUDE,DEPTH,CTDPRS,CTDTMP,CTDSAL,CTDSAL_FLAG_W,SALNTY,SALNTY_FLAG_W,CTDOXY,CTDOXY_FLAG_W,OXYGEN,OXYGEN_FLAG_W,SILCAT,SILCAT_FLAG_W,NITRAT,NITRAT_FLAG_W,NITRIT,NITRIT_FLAG_W,PHSPHT,PHSPHT_FLAG_W,CFC-11,CFC-11_FLAG_W,CFC-12,CFC-12_FLAG_W,CFC113,CFC113_FLAG_W,SF6,SF6_FLAG_W,TCARBN,TCARBN_FLAG_W,ALKALI,ALKALI_FLAG_W,PH_TOT,PH_TOT_FLAG_W,PH_TMP,TRITUM,TRITUM_FLAG_W,HELIUM,HELIUM_FLAG_W,DELHE3,DELHE3_FLAG_W,REFTMP,REFTMP_FLAG_W,DELC13,DELC13_FLAG_W,DELC14,DELC14_FLAG_W,C14ERR,NEON,NEON_FLAG_W,DELO18,DELO18_FLAG_W,POC,POC_FLAG_W,DOC,DOC_FLAG_W,TDN,TDN_FLAG_W,BTL_LAT,BTL_LON,TRITER,NEONER,SALTREF,SALTREF_FLAG_W,PIGMENTS,PIGMENTS_FLAG_W,LAB_DEN,LAB_DEN_FLAG_W,CDOM325,CDOM325_FLAG_W,CDOM340,CDOM340_FLAG_W,CDOM380,CDOM380_FLAG_W,CDOM412,CDOM412_FLAG_W,CDOM443,CDOM443_FLAG_W,CDOM490,CDOM490_FLAG_W,CDOM555,CDOM555_FLAG_W,CDOMSL,CDOMSL_FLAG_W,CDOMSN,CDOMSN_FLAG_W,HELIER,DELHER,THETA,LDEO_SAMPNO,ABSORBTION,ABSORBTION_FLAG_W,IMAGE_COUNT,IMAGE_COUNT_FLAG_W,CYTO_COUNT,CYTO_COUNT_FLAG_W,DELD,DELD_FLAG_W,DELDERR,BTL_DATE,BTL_TIME
,,,,,,,,,,,METERS,DBAR,ITS-90,PSS-78,,PSS-78,,UMOL/KG,,UMOL/KG,,UMOL/KG,,UMOL/KG,,UMOL/KG,,UMOL/KG,,PMOL/KG,,PMOL/KG,,PMOL/KG,,FMOL/KG,,UMOL/KG,,UMOL/KG,,,,DEG C,TU,,NMOL/KG,,PERCNT,,DEG C,,/MILLE,,/MILLE,,/MILLE,NMOL/KG,,/MILLE,,UG/KG,,UMOL/KG,,UMOL/KG,,,,TU,NMOL/KG,G/KG,,,,,,1/M,,1/M,,1/M,,1/M,,1/M,,1/M,,1/M,,1/NM,,1/NM,,NMOL/KG,PERCNT,DEG C,,,,,,,,/MILLE,,/MILLE,,
320620110219,       S04P,      38,          1,         13,         13,2,20110308,       1810,   -66.9998,  -158.8248,       3744,  1466.0,   0.7278,  34.7095,2,  34.7092,2,    202.5,2,   205.2,4,  122.52,2,   31.99,2,    0.00,2,    2.23,2,-999.000,9,-999.000,9,-999.000,9,-999.0000,9,  2261.7,2,  2357.9,2,   7.5913,2,    25.00,-999.000,9,-999.0000,9,-999.000,9,   0.7279,2, -999.00,9,  -999.0,9,  -999.0,-999.000,9, -999.00,9,-999.000,9,   39.97,2,   34.47,2, -66.9998,-158.8248,-999.000,     -999.0,    34.8729,2,     -999.0,9,     -999.0,9,-999.0000,9,-999.0000,9,-999.0000,9,-999.0000,9,-999.0000,9,-999.0000,9,-999.0000,9,-999.0000,9,-999.0000,9,-999.0000,-999.000,   0.6484,     -999.0,     -999.0,9,     -999.0,9,     -999.0,9,     -999.0,9,     -999.0,20110308,       1904
320620110219,       S04P,      38,          1,         12,         12,2,20110308,       1810,   -66.9998,  -158.8248,       3744,  1566.5,   0.6799,  34.7080,2,  34.7090,2,    203.7,2,   203.2,2,  123.51,2,   31.96,2,    0.00,2,    2.23,2,   0.112,2,   0.047,2,   0.005,2,   0.0450,2,  -999.0,9,  -999.0,9,-999.0000,9,  -999.00,-999.000,9,-999.0000,9,-999.000,9,   0.6799,2, -999.00,9,  -999.0,9,  -999.0,-999.000,9, -999.00,9,-999.000,9,   39.96,2,   34.29,2, -66.9998,-158.8248,-999.000,     -999.0,    34.8727,2,     -999.0,9,     -999.0,9,-999.0000,9,-999.0000,9,-999.0000,9,-999.0000,9,-999.0000,9,-999.0000,9,-999.0000,9,-999.0000,9,-999.0000,9,-999.0000,-999.000,   0.5943,     -999.0,     -999.0,9,     -999.0,9,     -999.0,9,     -999.0,9,     -999.0,20110308,       1901
320620110219,       S04P,      38,          1,         11,         11,2,20110308,       1810,   -66.9998,  -158.8248,       3744,  1664.1,   0.6454,  34.7070,2,  34.7070,2,    204.8,2,   204.0,2,  124.79,2,   31.98,2,    0.00,2,    2.23,2,-999.000,9,-999.000,9,-999.000,9,-999.0000,9,  -999.0,9,  -999.0,9,-999.0000,9,  -999.00,-999.000,9,-999.0000,9,-999.000,9,   0.6451,2, -999.00,9,  -999.0,9,  -999.0,-999.000,9, -999.00,9,-999.000,9,   39.77,2,   34.35,2, -66.9998,-158.8248,-999.000,     -999.0,    34.8707,2,     -999.0,9,     -999.0,9,-999.0000,9,-999.0000,9,-999.0000,9,-999.0000,9,-999.0000,9,-999.0000,9,-999.0000,9,-999.0000,9,-999.0000,9,-999.0000,-999.000,   0.5536,     -999.0,     -999.0,9,     -999.0,9,     -999.0,9,     -999.0,9,     -999.0,20110308,       1859
320620110219,       S04P,      38,          1,         10,         37,2,20110308,       1810,   -66.9998,  -158.8248,       3744,  1765.7,   0.6118,  34.7059,2,  34.7058,2,    205.4,2,   205.2,2,  125.69,2,   32.04,2,    0.00,2,    2.24,2,-999.000,9,-999.000,9,-999.000,9,-999.0000,9,  2261.3,2,  2357.6,2,   7.5973,4,    25.00,-999.000,9,-999.0000,9,-999.000,9,   0.6117,2, -999.00,9,  -999.0,9,  -999.0,-999.000,9, -999.00,9,-999.000,9,   39.97,2,   34.33,2, -66.9998,-158.8248,-999.000,     -999.0,    34.8695,2,     -999.0,9,     -999.0,9,-999.0000,9,-999.0000,9,-999.0000,9,-999.0000,9,-999.0000,9,-999.0000,9,-999.0000,9,-999.0000,9,-999.0000,9,-999.0000,-999.000,   0.5134,     -999.0,     -999.0,9,     -999.0,9,     -999.0,9,     -999.0,9,     -999.0,20110308,       1856
320620110219,       S04P,      38,          1,          9,          9,2,20110308,       1810,   -66.9998,  -158.8248,       3744,  1932.4,   0.5485,  34.7051,2,  34.7046,2,    207.0,2,   207.1,2,  126.21,2,   32.12,2,    0.00,2,    2.25,2,-999.000,9,-999.000,9,-999.000,9,-999.0000,9,  -999.0,9,  -999.0,9,-999.0000,9,  -999.00,-999.000,9,-999.0000,9,-999.000,9,   0.5485,2, -999.00,9,  -999.0,9,  -999.0,-999.000,9, -999.00,9,-999.000,9,   39.90,2,   34.42,2, -66.9998,-158.8248,-999.000,     -999.0,    34.8683,2,     -999.0,9,     -999.0,9,-999.0000,9,-999.0000,9,-999.0000,9,-999.0000,9,-999.0000,9,-999.0000,9,-999.0000,9,-999.0000,9,-999.0000,9,-999.0000,-999.000,   0.4390,     -999.0,     -999.0,9,     -999.0,9,     -999.0,9,     -999.0,9,     -999.0,20110308,       1852
320620110219,       S04P,      38,          1,          8,          8,2,20110308,       1810,   -66.9998,  -158.8248,       3744,  2166.5,   0.4621,  34.7034,2,  34.7032,2,    209.0,2,   208.7,2,  128.26,2,   32.14,2,    0.00,2,    2.25,2,   0.150,2,   0.068,2,   0.008,2,   0.0480,2,  -999.0,9,  -999.0,9,-999.0000,9,  -999.00,-999.000,9,-999.0000,9,-999.000,9,   0.4624,2, -999.00,9,  -999.0,9,  -999.0,-999.000,9, -999.00,9,-999.000,9,   39.88,2,   34.57,2, -66.9998,-158.8248,-999.000,     -999.0,    34.8669,2,     -999.0,9,     -999.0,9,-999.0000,9,-999.0000,9,-999.0000,9,-999.0000,9,-999.0000,9,-999.0000,9,-999.0000,9,-999.0000,9,-999.0000,9,-999.0000,-999.000,   0.3366,     -999.0,     -999.0,9,     -999.0,9,     -999.0,9,     -999.0,9,     -999.0,20110308,       1847
320620110219,       S04P,      38,          1,          7,          7,2,20110308,       1810,   -66.9998,  -158.8248,       3744,  2414.3,   0.3938,  34.7029,2,  34.7019,2,    210.7,2,   211.0,2,  129.67,2,   32.16,2,    0.00,2,    2.24,2,-999.000,9,-999.000,9,-999.000,9,-999.0000,9,  2260.7,2,  2358.0,2,   7.5913,2,    25.00,-999.000,9,-999.0000,9,-999.000,9,   0.3938,2, -999.00,9,  -999.0,9,  -999.0,-999.000,9, -999.00,9,-999.000,9,   40.01,2,   34.51,2, -66.9998,-158.8248,-999.000,     -999.0,    34.8655,2,     -999.0,9,     -999.0,9,-999.0000,9,-999.0000,9,-999.0000,9,-999.0000,9,-999.0000,9,-999.0000,9,-999.0000,9,-999.0000,9,-999.0000,9,-999.0000,-999.000,   0.2504,     -999.0,     -999.0,9,     -999.0,9,     -999.0,9,     -999.0,9,     -999.0,20110308,       1841
320620110219,       S04P,      38,          1,          6,          6,2,20110308,       1810,   -66.9998,  -158.8248,       3744,  2665.5,   0.3333,  34.7016,2,  34.7013,2,    212.8,2,   212.5,2,  130.93,2,   32.14,2,    0.00,2,    2.24,2,   0.231,2,   0.105,2,   0.015,2,   0.0460,2,  -999.0,9,  -999.0,9,-999.0000,9,  -999.00,-999.000,9,-999.0000,9,-999.000,9,   0.3334,2, -999.00,9,  -999.0,9,  -999.0,-999.000,9, -999.00,9,-999.000,9,   40.31,2,   34.40,2, -66.9998,-158.8248,-999.000,     -999.0,    34.8649,2,     -999.0,9,     -999.0,9,-999.0000,9,-999.0000,9,-999.0000,9,-999.0000,9,-999.0000,9,-999.0000,9,-999.0000,9,-999.0000,9,-999.0000,9,-999.0000,-999.000,   0.1707,     -999.0,     -999.0,9,     -999.0,9,     -999.0,9,     -999.0,9,     -999.0,20110308,       1836
320620110219,       S04P,      38,          1,          5,          5,2,20110308,       1810,   -66.9998,  -158.8248,       3744,  2915.1,   0.2734,  34.7001,2,  34.6995,2,    214.7,2,   214.6,2,  130.82,2,   32.15,2,    0.00,2,    2.24,2,   0.344,2,   0.150,2,   0.023,2,   0.0550,2,  2262.3,2,  2357.1,2,   7.5921,2,    25.00,-999.000,9,-999.0000,9,-999.000,9,   0.2739,2, -999.00,9,  -999.0,9,  -999.0,-999.000,9, -999.00,9,-999.000,9,   40.70,2,   34.81,2, -66.9998,-158.8248,-999.000,     -999.0,    34.8631,2,     -999.0,9,     -999.0,9,-999.0000,9,-999.0000,9,-999.0000,9,-999.0000,9,-999.0000,9,-999.0000,9,-999.0000,9,-999.0000,9,-999.0000,9,-999.0000,-999.000,   0.0911,     -999.0,     -999.0,9,     -999.0,9,     -999.0,9,     -999.0,9,     -999.0,20110308,       1831
320620110219,       S04P,      38,          1,          4,          4,2,20110308,       1810,   -66.9998,  -158.8248,       3744,  3198.7,   0.2121,  34.6972,2,  34.6985,2,    217.8,2,   217.3,2,  127.61,2,   32.06,2,    0.00,2,    2.24,2,   0.608,2,   0.281,2,   0.031,2,   0.1050,2,  2260.6,2,  2356.1,2,   7.5908,2,    25.00,-999.000,9,-999.0000,9,-999.000,9,   0.2121,2, -999.00,9,  -999.0,9,  -999.0,-999.000,9, -999.00,9,-999.000,9,   40.08,2,   34.21,2, -66.9998,-158.8248,-999.000,     -999.0,    34.8621,2,     -999.0,9,     -999.0,9,-999.0000,9,-999.0000,9,-999.0000,9,-999.0000,9,-999.0000,9,-999.0000,9,-999.0000,9,-999.0000,9,-999.0000,9,-999.0000,-999.000,   0.0062,     -999.0,     -999.0,9,     -999.0,9,     -999.0,9,     -999.0,9,     -999.0,20110308,       1825
320620110219,       S04P,      38,          1,          3,          3,2,20110308,       1810,   -66.9998,  -158.8248,       3744,  3500.3,   0.1721,  34.6945,2,  34.6951,2,    220.4,2,   220.3,2,  123.30,2,   32.09,2,    0.00,2,    2.24,2,   0.872,2,   0.408,2,   0.048,2,   0.1280,2,  2260.8,2,  2355.1,6,   7.5915,2,    25.00,-999.000,9,-999.0000,9,-999.000,9,   0.1721,2, -999.00,9,  -999.0,9,  -999.0,-999.000,9, -999.00,9,-999.000,9,   40.51,2,   34.40,2, -66.9998,-158.8248,-999.000,     -999.0,    34.8587,2,     -999.0,9,     -999.0,9,-999.0000,9,-999.0000,9,-999.0000,9,-999.0000,9,-999.0000,9,-999.0000,9,-999.0000,9,-999.0000,9,-999.0000,9,-999.0000,-999.000,  -0.0605,     -999.0,     -999.0,9,     -999.0,9,     -999.0,9,     -999.0,9,     -999.0,20110308,       1818
320620110219,       S04P,      38,          1,          2,          2,2,20110308,       1810,   -66.9998,  -158.8248,       3744,  3749.6,   0.1860,  34.6948,2,  34.6926,2,    220.1,2,   219.7,2,  123.47,2,   32.06,2,    0.00,2,    2.23,2,   0.877,2,   0.413,2,   0.050,2,   0.1610,2,  2259.2,2,  2355.2,2,   7.5913,2,    25.00,-999.000,9,-999.0000,9,-999.000,9,   0.1863,2, -999.00,9,  -999.0,9,  -999.0,-999.000,9, -999.00,9,-999.000,9,   40.97,2,   34.64,2, -66.9998,-158.8248,-999.000,     -999.0,    34.8562,2,     -999.0,9,     -999.0,9,-999.0000,9,-999.0000,9,-999.0000,9,-999.0000,9,-999.0000,9,-999.0000,9,-999.0000,9,-999.0000,9,-999.0000,9,-999.0000,-999.000,  -0.0708,     -999.0,     -999.0,9,     -999.0,9,     -999.0,9,     -999.0,9,     -999.0,20110308,       1813
320620110219,       S04P,      38,          1,          1,          1,2,20110308,       1810,   -66.9998,  -158.8248,       3744,  3804.9,   0.1920,  34.6942,2,  34.6922,3,    219.9,2,   219.6,2,  123.20,2,   32.13,2,    0.00,2,    2.24,2,   0.921,2,   0.436,2,   0.053,2,   0.1830,2,  2261.5,6,  2354.8,2,   7.5927,2,    25.00,-999.000,9,-999.0000,9,-999.000,9,   0.1922,2, -999.00,9,  -999.0,9,  -999.0,-999.000,9, -999.00,9,-999.000,9,   40.82,2,   34.75,2, -66.9998,-158.8248,-999.000,     -999.0,    34.8557,3,     -999.0,9,     -999.0,9,-999.0000,9,-999.0000,9,-999.0000,9,-999.0000,9,-999.0000,9,-999.0000,9,-999.0000,9,-999.0000,9,-999.0000,9,-999.0000,-999.000,  -0.0704,     -999.0,     -999.0,9,     -999.0,9,     -999.0,9,     -999.0,9,     -999.0,20110308,       1810