BOTTLE,20220813CCHSIOAMB
EXPOCODE,SECT_ID,STNNBR,CASTNO,SAMPNO,BTLNBR,BTLNBR_FLAG_W,DATE,TIME,LATITUDE,LONGITUDE,DEPTH,CTDPRS,CTDTMP,CTDSAL,CTDSAL_FLAG_W,SALNTY,SALNTY_FLAG_W,CTDOXY,CTDOXY_FLAG_W,OXYGEN,OXYGEN_FLAG_W,SILCAT,SILCAT_FLAG_W,NITRAT,NITRAT_FLAG_W,NITRIT,NITRIT_FLAG_W,PHSPHT,PHSPHT_FLAG_W,CFC-11,CFC-11_FLAG_W,CFC-12,CFC-12_FLAG_W,CFC113,CFC113_FLAG_W,SF6,SF6_FLAG_W,TCARBN,TCARBN_FLAG_W,ALKALI,ALKALI_FLAG_W,PH_TOT,PH_TOT_FLAG_W,PH_TMP,TRITUM,TRITUM_FLAG_W,HELIUM,HELIUM_FLAG_W,DELHE3,DELHE3_FLAG_W,REFTMP,REFTMP_FLAG_W,DELC13,DELC13_FLAG_W,DELC14,DELC14_FLAG_W,C14ERR,NEON,NEON_FLAG_W,DELO18,DELO18_FLAG_W,POC,POC_FLAG_W,DOC,DOC_FLAG_W,TDN,TDN_FLAG_W,BTL_LAT,BTL_LON,TRITER,NEONER,SALTREF,SALTREF_FLAG_W,PIGMENTS,PIGMENTS_FLAG_W,LAB_DEN,LAB_DEN_FLAG_W,CDOM325,CDOM325_FLAG_W,CDOM340,CDOM340_FLAG_W,CDOM380,CDOM380_FLAG_W,CDOM412,CDOM412_FLAG_W,CDOM443,CDOM443_FLAG_W,CDOM490,CDOM490_FLAG_W,CDOM555,CDOM555_FLAG_W,CDOMSL,CDOMSL_FLAG_W,CDOMSN,CDOMSN_FLAG_W,HELIER,DELHER,THETA,LDEO_SAMPNO,ABSORBTION,ABSORBTION_FLAG_W,IMAGE_COUNT,IMAGE_COUNT_FLAG_W,CYTO_COUNT,CYTO_COUNT_FLAG_W,DELD,DELD_FLAG_W,DELDERR,BTL_DATE,BTL_TIME
,,,,,,,,,,,METERS,DBAR,ITS-90,PSS-78,,PSS-78,,UMOL/KG,,UMOL/KG,,UMOL/KG,,UMOL/KG,,UMOL/KG,,UMOL/KG,,PMOL/KG,,PMOL/KG,,PMOL/KG,,FMOL/KG,,UMOL/KG,,UMOL/KG,,,,DEG C,TU,,NMOL/KG,,PERCNT,,DEG C,,/MILLE,,/MILLE,,/MILLE,NMOL/KG,,/MILLE,,UG/KG,,UMOL/KG,,UMOL/KG,,,,TU,NMOL/KG,G/KG,,,,,,1/M,,1/M,,1/M,,1/M,,1/M,,1/M,,1/M,,1/NM,,1/NM,,NMOL/KG,PERCNT,DEG C,,,,,,,,/MILLE,,/MILLE,,
320620110219,       S04P,      40,          1,         36,         36,2,20110309,       0944,   -67.0002,  -156.2653,       3948,     4.4,  -0.3441,  33.7260,2,  33.7257,2,    343.2,3,   346.5,2,   46.86,2,   19.94,2,    0.09,2,    1.46,2,   5.978,2,   3.294,2,   0.579,2,   2.4950,2,  -999.0,5,  2287.8,6,   7.7605,2,    25.00,-999.000,9,-999.0000,9,-999.000,9,  -0.3444,2, -999.00,9,  -999.0,9,  -999.0,-999.000,9, -999.00,9,-999.000,9,   46.03,2,   24.09,2, -67.0002,-156.2654,-999.000,     -999.0,    33.8847,2,     -999.0,9,     -999.0,9,-999.0000,9,-999.0000,9,-999.0000,9,-999.0000,9,-999.0000,9,-999.0000,9,-999.0000,9,-999.0000,9,-999.0000,9,-999.0000,-999.000,  -0.3442,     -999.0,     -999.0,9,     -999.0,9,     -999.0,9,     -999.0,9,     -999.0,20110309,       1128
320620110219,       S04P,      40,          1,         35,         35,2,20110309,       0944,   -67.0002,  -156.2653,       3948,    34.6,  -0.3542,  33.7313,2,  33.7315,2,    347.0,2,   345.7,2,   46.81,2,   19.99,2,    0.09,2,    1.46,2,   5.917,2,   3.284,2,   0.570,2,-999.0000,9,  2132.1,3,  2287.7,2,   7.7610,6,    25.00,-999.000,9,-999.0000,9,-999.000,9,  -0.3544,2, -999.00,9,  -999.0,9,  -999.0,-999.000,9, -999.00,9,-999.000,9,   46.26,2,   24.40,2, -67.0002,-156.2654,-999.000,     -999.0,    33.8906,2,     -999.0,9,     -999.0,9,-999.0000,9,-999.0000,9,-999.0000,9,-999.0000,9,-999.0000,9,-999.0000,9,-999.0000,9,-999.0000,9,-999.0000,9,-999.0000,-999.000,  -0.3553,     -999.0,     -999.0,9,     -999.0,9,     -999.0,9,     -999.0,9,     -999.0,20110309,       1127
320620110219,       S04P,      40,          1,         34,         34,2,20110309,       0944,   -67.0002,  -156.2653,       3948,    59.5,  -1.5589,  34.0887,2,  34.0948,2,    307.7,2,   298.6,2,   56.86,2,   27.45,2,    0.23,2,    1.97,2,   4.921,2,   2.703,2,   0.475,2,   1.8550,2,  2200.1,6,  2305.7,2,   7.6247,2,    25.00,-999.000,9,-999.0000,9,-999.000,9,  -1.5681,2, -999.00,9,  -999.0,9,  -999.0,-999.000,9, -999.00,9,-999.000,9,   45.86,2,   32.06,2, -67.0002,-156.2653,-999.000,     -999.0,    34.2556,2,     -999.0,9,     -999.0,9,-999.0000,9,-999.0000,9,-999.0000,9,-999.0000,9,-999.0000,9,-999.0000,9,-999.0000,9,-999.0000,9,-999.0000,9,-999.0000,-999.000,  -1.5602,     -999.0,     -999.0,9,     -999.0,9,     -999.0,9,     -999.0,9,     -999.0,20110309,       1126
320620110219,       S04P,      40,          1,         33,         33,2,20110309,       0944,   -67.0002,  -156.2653,       3948,    86.1,  -1.3775,  34.1997,2,  34.2034,2,    282.7,2,   281.4,2,   60.99,2,   29.11,2,    0.10,2,    2.04,2,   4.378,2,   2.395,2,   0.417,2,   1.6680,2,  2209.2,2,  2309.6,2,   7.6017,2,    25.00,-999.000,9,-999.0000,9,-999.000,9,  -1.3651,2, -999.00,9,  -999.0,9,  -999.0,-999.000,9, -999.00,9,-999.000,9,   42.54,2,   32.51,2, -67.0001,-156.2653,-999.000,     -999.0,    34.3647,2,     -999.0,9,     -999.0,9,-999.0000,9,-999.0000,9,-999.0000,9,-999.0000,9,-999.0000,9,-999.0000,9,-999.0000,9,-999.0000,9,-999.0000,9,-999.0000,-999.000,  -1.3795,     -999.0,     -999.0,9,     -999.0,9,     -999.0,9,     -999.0,9,     -999.0,20110309,       1124
320620110219,       S04P,      40,          1,         32,         32,2,20110309,       0944,   -67.0002,  -156.2653,       3948,   109.5,  -0.2702,  34.3763,2,  34.3811,2,    253.2,2,   240.2,2,   71.59,2,   30.98,2,    0.06,2,    2.15,2,-999.000,9,-999.000,9,-999.000,9,-999.0000,9,  2230.0,2,  2320.4,2,   7.5783,2,    25.00,-999.000,9,-999.0000,9,-999.000,9,  -0.2475,2, -999.00,9,  -999.0,9,  -999.0,-999.000,9, -999.00,9,-999.000,9,   42.26,2,   34.04,2, -67.0002,-156.2653,-999.000,     -999.0,    34.5432,2,     -999.0,9,     -999.0,9,-999.0000,9,-999.0000,9,-999.0000,9,-999.0000,9,-999.0000,9,-999.0000,9,-999.0000,9,-999.0000,9,-999.0000,9,-999.0000,-999.000,  -0.2739,     -999.0,     -999.0,9,     -999.0,9,     -999.0,9,     -999.0,9,     -999.0,20110309,       1122
320620110219,       S04P,      40,          1,         31,         31,2,20110309,       0944,   -67.0002,  -156.2653,       3948,   135.9,   0.7629,  34.5445,2,  34.5479,2,    214.3,2,   204.5,2,   81.67,2,   32.19,2,    0.05,2,    2.21,2,   1.674,2,   0.872,2,   0.131,2,   0.4920,2,  2246.1,2,  2331.5,2,   7.5598,2,    25.00,-999.000,9,-999.0000,9,-999.000,9,   0.7724,2, -999.00,9,  -999.0,9,  -999.0,-999.000,9, -999.00,9,-999.000,9,   41.81,2,   34.85,2, -67.0002,-156.2654,-999.000,     -999.0,    34.7108,2,     -999.0,9,     -999.0,9,-999.0000,9,-999.0000,9,-999.0000,9,-999.0000,9,-999.0000,9,-999.0000,9,-999.0000,9,-999.0000,9,-999.0000,9,-999.0000,-999.000,   0.7571,     -999.0,     -999.0,9,     -999.0,9,     -999.0,9,     -999.0,9,     -999.0,20110309,       1121
320620110219,       S04P,      40,          1,         30,         30,2,20110309,       0944,   -67.0002,  -156.2653,       3948,   164.4,   1.2139,  34.6294,2,  34.6300,2,    199.3,2,   190.2,2,   87.00,2,   32.48,2,    0.03,2,    2.23,2,-999.000,9,-999.000,9,-999.000,9,-999.0000,9,  2251.6,2,  2337.9,2,   7.5571,2,    25.00,-999.000,9,-999.0000,9,-999.000,9,   1.2184,2, -999.00,9,  -999.0,9,  -999.0,-999.000,9, -999.00,9,-999.000,9,   41.83,2,   35.01,2, -67.0002,-156.2653,-999.000,     -999.0,    34.7933,2,     -999.0,9,     -999.0,9,-999.0000,9,-999.0000,9,-999.0000,9,-999.0000,9,-999.0000,9,-999.0000,9,-999.0000,9,-999.0000,9,-999.0000,9,-999.0000,-999.000,   1.2062,     -999.0,     -999.0,9,     -999.0,9,     -999.0,9,     -999.0,9,     -999.0,20110309,       1119
320620110219,       S04P,      40,          1,         29,         29,2,20110309,       0944,   -67.0002,  -156.2653,       3948,   213.9,   1.4870,  34.6880,2,  34.6871,2,    184.1,2,   183.8,2,   90.38,2,   32.40,2,    0.03,2,    2.22,2,   0.610,2,   0.287,2,   0.046,2,   0.1360,2,  2256.0,2,  2343.2,2,   7.5638,2,    25.00,-999.000,9,-999.0000,9,-999.000,9,   1.4871,2, -999.00,9,  -999.0,9,  -999.0,-999.000,9, -999.00,9,-999.000,9,   41.86,2,   34.87,2, -67.0002,-156.2652,-999.000,     -999.0,    34.8507,2,     -999.0,9,     -999.0,9,-999.0000,9,-999.0000,9,-999.0000,9,-999.0000,9,-999.0000,9,-999.0000,9,-999.0000,9,-999.0000,9,-999.0000,9,-999.0000,-999.000,   1.4764,     -999.0,     -999.0,9,     -999.0,9,     -999.0,9,     -999.0,9,     -999.0,20110309,       1118
320620110219,       S04P,      40,          1,         28,         28,2,20110309,       0944,   -67.0002,  -156.2653,       3948,   264.9,   1.5341,  34.7170,2,  34.7167,2,    182.5,2,   182.5,2,   94.37,2,   32.13,2,    0.02,2,    2.20,2,-999.000,9,-999.000,9,-999.000,9,-999.0000,9,  2256.9,2,  2347.2,2,   7.5690,2,    25.00,-999.000,9,-999.0000,9,-999.000,9,   1.5338,2, -999.00,9,  -999.0,9,  -999.0,-999.000,9, -999.00,9,-999.000,9,   41.14,2,   34.65,2, -67.0002,-156.2654,-999.000,     -999.0,    34.8804,2,     -999.0,9,     -999.0,9,-999.0000,9,-999.0000,9,-999.0000,9,-999.0000,9,-999.0000,9,-999.0000,9,-999.0000,9,-999.0000,9,-999.0000,9,-999.0000,-999.000,   1.5207,     -999.0,     -999.0,9,     -999.0,9,     -999.0,9,     -999.0,9,     -999.0,20110309,       1116
320620110219,       S04P,      40,          1,         27,         27,2,20110309,       0944,   -67.0002,  -156.2653,       3948,   315.0,   1.4928,  34.7255,2,  34.7248,2,    183.5,2,   183.1,2,   96.84,2,   32.06,2,    0.01,2,    2.20,2,   0.296,2,   0.132,2,   0.016,2,   0.0550,2,  2258.6,2,  2348.1,2,   7.5724,2,    25.00,-999.000,9,-999.0000,9,-999.000,9,   1.4925,2, -999.00,9,  -999.0,9,  -999.0,-999.000,9, -999.00,9,-999.000,9,   40.81,2,   34.70,2, -67.0002,-156.2653,-999.000,     -999.0,    34.8885,2,     -999.0,9,     -999.0,9,-999.0000,9,-999.0000,9,-999.0000,9,-999.0000,9,-999.0000,9,-999.0000,9,-999.0000,9,-999.0000,9,-999.0000,9,-999.0000,-999.000,   1.4769,     -999.0,     -999.0,9,     -999.0,9,     -999.0,9,     -999.0,9,     -999.0,20110309,       1113
320620110219,       S04P,      40,          1,         26,         26,2,20110309,       0944,   -67.0002,  -156.2653,       3948,   363.8,   1.4570,  34.7277,2,  34.7279,2,    184.6,2,   184.3,2,   98.27,2,   32.05,2,    0.01,2,    2.19,2,   0.266,2,   0.107,2,   0.014,2,   0.0550,2,  2257.0,2,  2349.1,2,   7.5726,2,    25.00,-999.000,9,-999.0000,9,-999.000,9,   1.4569,2, -999.00,9,  -999.0,9,  -999.0,-999.000,9, -999.00,9,-999.000,9,   40.67,2,   34.60,2, -67.0002,-156.2653,-999.000,     -999.0,    34.8917,2,     -999.0,9,     -999.0,9,-999.0000,9,-999.0000,9,-999.0000,9,-999.0000,9,-999.0000,9,-999.0000,9,-999.0000,9,-999.0000,9,-999.0000,9,-999.0000,-999.000,   1.4385,     -999.0,     -999.0,9,     -999.0,9,     -999.0,9,     -999.0,9,     -999.0,20110309,       1112
320620110219,       S04P,      40,          1,         25,         25,2,20110309,       0944,   -67.0002,  -156.2653,       3948,   414.9,   1.4098,  34.7294,2,  34.7291,2,    184.7,2,   183.6,2,  100.83,2,   32.23,2,    0.00,2,    2.20,2,   0.227,2,   0.102,2,   0.010,2,   0.0580,2,  2260.0,2,  2349.7,2,   7.5734,6,    25.00,-999.000,9,-999.0000,9,-999.000,9,   1.4096,2, -999.00,9,  -999.0,9,  -999.0,-999.000,9, -999.00,9,-999.000,9,   40.60,2,   34.76,2, -67.0002,-156.2653,-999.000,     -999.0,    34.8928,2,     -999.0,9,     -999.0,9,-999.0000,9,-999.0000,9,-999.0000,9,-999.0000,9,-999.0000,9,-999.0000,9,-999.0000,9,-999.0000,9,-999.0000,9,-999.0000,-999.000,   1.3887,     -999.0,     -999.0,9,     -999.0,9,     -999.0,9,     -999.0,9,     -999.0,20110309,       1110
320620110219,       S04P,      40,          1,         24,         24,2,20110309,       0944,   -67.0002,  -156.2653,       3948,   464.3,   1.3659,  34.7297,2,  34.7295,2,    184.5,2,   184.7,2,  102.50,2,   32.26,2,    0.00,2,    2.25,2,   0.203,2,   0.087,2,   0.009,2,   0.0690,2,  2259.7,6,  2351.2,2,   7.5730,2,    25.00,-999.000,9,-999.0000,9,-999.000,9,   1.3658,2, -999.00,9,  -999.0,9,  -999.0,-999.000,9, -999.00,9,-999.000,9,   40.50,2,   34.79,2, -67.0002,-156.2653,-999.000,     -999.0,    34.8932,2,     -999.0,9,     -999.0,9,-999.0000,9,-999.0000,9,-999.0000,9,-999.0000,9,-999.0000,9,-999.0000,9,-999.0000,9,-999.0000,9,-999.0000,9,-999.0000,-999.000,   1.3423,     -999.0,     -999.0,9,     -999.0,9,     -999.0,9,     -999.0,9,     -999.0,20110309,       1108
320620110219,       S04P,      40,          1,         23,         23,2,20110309,       0944,   -67.0002,  -156.2653,       3948,   533.7,   1.3122,  34.7296,2,  34.7294,2,    185.5,2,   185.3,2,  104.68,2,   32.45,2,    0.00,2,    2.25,2,   0.173,2,   0.070,2,   0.007,2,   0.0470,2,  2259.5,2,  2352.6,2,   7.5724,2,    25.00,-999.000,9,-999.0000,9,-999.000,9,   1.3125,2, -999.00,9,  -999.0,9,  -999.0,-999.000,9, -999.00,9,-999.000,9,   40.45,2,   34.84,2, -67.0002,-156.2653,-999.000,     -999.0,    34.8932,2,     -999.0,9,     -999.0,9,-999.0000,9,-999.0000,9,-999.0000,9,-999.0000,9,-999.0000,9,-999.0000,9,-999.0000,9,-999.0000,9,-999.0000,9,-999.0000,-999.000,   1.2850,     -999.0,     -999.0,9,     -999.0,9,     -999.0,9,     -999.0,9,     -999.0,20110309,       1106
320620110219,       S04P,      40,          1,         22,         22,2,20110309,       0944,   -67.0002,  -156.2653,       3948,   636.0,   1.2338,  34.7280,2,  34.7279,2,    187.8,2,   187.4,2,  107.59,2,   32.36,2,    0.00,2,    2.25,2,-999.000,9,-999.000,9,-999.000,9,-999.0000,9,  2260.2,2,  2353.6,2,   7.5753,2,    25.00,-999.000,9,-999.0000,9,-999.000,9,   1.2339,2, -999.00,9,  -999.0,9,  -999.0,-999.000,9, -999.00,9,-999.000,9,   39.98,2,   34.69,2, -67.0002,-156.2653,-999.000,     -999.0,    34.8916,2,     -999.0,9,     -999.0,9,-999.0000,9,-999.0000,9,-999.0000,9,-999.0000,9,-999.0000,9,-999.0000,9,-999.0000,9,-999.0000,9,-999.0000,9,-999.0000,-999.000,   1.2012,     -999.0,     -999.0,9,     -999.0,9,     -999.0,9,     -999.0,9,     -999.0,20110309,       1103
320620110219,       S04P,      40,          1,         21,         21,2,20110309,       0944,   -67.0002,  -156.2653,       3948,   732.9,   1.1554,  34.7261,2,  34.7259,2,    190.3,2,   190.4,2,  109.88,2,   32.24,2,    0.00,2,    2.25,2,-999.000,9,-999.000,9,-999.000,9,-999.0000,9,  -999.0,9,  -999.0,9,-999.0000,9,  -999.00,-999.000,9,-999.0000,9,-999.000,9,   1.1554,2, -999.00,9,  -999.0,9,  -999.0,-999.000,9, -999.00,9,-999.000,9,   39.55,2,   34.52,2, -67.0002,-156.2653,-999.000,     -999.0,    34.8896,2,     -999.0,9,     -999.0,9,-999.0000,9,-999.0000,9,-999.0000,9,-999.0000,9,-999.0000,9,-999.0000,9,-999.0000,9,-999.0000,9,-999.0000,9,-999.0000,-999.000,   1.1177,     -999.0,     -999.0,9,     -999.0,9,     -999.0,9,     -999.0,9,     -999.0,20110309,       1100
320620110219,       S04P,      40,          1,         20,         20,2,20110309,       0944,   -67.0002,  -156.2653,       3948,   834.1,   1.0955,  34.7239,2,  34.7237,2,    192.9,2,   192.1,2,  111.69,2,   32.23,2,    0.00,2,    2.25,2,-999.000,9,-999.000,9,-999.000,9,-999.0000,9,  2259.7,2,  2355.9,6,   7.5865,2,    25.00,-999.000,9,-999.0000,9,-999.000,9,   1.0952,2, -999.00,9,  -999.0,9,  -999.0,-999.000,9, -999.00,9,-999.000,9,   39.68,2,   34.37,2, -67.0002,-156.2653,-999.000,     -999.0,    34.8875,2,     -999.0,9,     -999.0,9,-999.0000,9,-999.0000,9,-999.0000,9,-999.0000,9,-999.0000,9,-999.0000,9,-999.0000,9,-999.0000,9,-999.0000,9,-999.0000,-999.000,   1.0523,     -999.0,     -999.0,9,     -999.0,9,     -999.0,9,     -999.0,9,     -999.0,20110309,       1058
320620110219,       S04P,      40,          1,         19,         19,2,20110309,       0944,   -67.0002,  -156.2653,       3948,   934.9,   1.0382,  34.7221,2,  34.7220,2,    194.7,2,   195.0,2,  113.27,2,   32.20,2,    0.00,2,    2.25,2,   0.121,2,   0.049,2,   0.006,2,   0.0770,2,  -999.0,9,  -999.0,9,-999.0000,9,  -999.00,-999.000,9,-999.0000,9,-999.000,9,   1.0383,2, -999.00,9,  -999.0,9,  -999.0,-999.000,9, -999.00,9,-999.000,9,   39.92,2,   34.38,2, -67.0002,-156.2654,-999.000,     -999.0,    34.8857,2,     -999.0,9,     -999.0,9,-999.0000,9,-999.0000,9,-999.0000,9,-999.0000,9,-999.0000,9,-999.0000,9,-999.0000,9,-999.0000,9,-999.0000,9,-999.0000,-999.000,   0.9894,     -999.0,     -999.0,9,     -999.0,9,     -999.0,9,     -999.0,9,     -999.0,20110309,       1055
320620110219,       S04P,      40,          1,         18,         18,2,20110309,       0944,   -67.0002,  -156.2653,       3948,  1034.2,   0.9734,  34.7194,2,  34.7196,2,    196.7,2,   195.8,2,  115.32,2,   32.22,2,    0.00,2,    2.25,2,-999.000,9,-999.000,9,-999.000,9,-999.0000,9,  2259.9,2,  2356.9,2,   7.5903,2,    25.00,-999.000,9,-999.0000,9,-999.000,9,   0.9734,2, -999.00,9,  -999.0,9,  -999.0,-999.000,9, -999.00,9,-999.000,9,   39.43,2,   34.88,2, -67.0002,-156.2653,-999.000,     -999.0,    34.8833,2,     -999.0,9,     -999.0,9,-999.0000,9,-999.0000,9,-999.0000,9,-999.0000,9,-999.0000,9,-999.0000,9,-999.0000,9,-999.0000,9,-999.0000,9,-999.0000,-999.000,   0.9191,     -999.0,     -999.0,9,     -999.0,9,     -999.0,9,     -999.0,9,     -999.0,20110309,       1052
320620110219,       S04P,      40,          1,         17,         17,2,20110309,       0944,   -67.0002,  -156.2653,       3948,  1134.5,   0.9119,  34.7169,2,  34.7172,2,    198.5,2,   198.0,2,  117.06,2,   32.18,2,    0.00,2,    2.24,2,   0.103,2,   0.049,2,   0.008,2,   0.0750,2,  -999.0,9,  -999.0,9,-999.0000,9,  -999.00,-999.000,9,-999.0000,9,-999.000,9,   0.9121,2, -999.00,9,  -999.0,9,  -999.0,-999.000,9, -999.00,9,-999.000,9,   39.46,2,   35.07,2, -67.0002,-156.2653,-999.000,     -999.0,    34.8809,2,     -999.0,9,     -999.0,9,-999.0000,9,-999.0000,9,-999.0000,9,-999.0000,9,-999.0000,9,-999.0000,9,-999.0000,9,-999.0000,9,-999.0000,9,-999.0000,-999.000,   0.8519,     -999.0,     -999.0,9,     -999.0,9,     -999.0,9,     -999.0,9,     -999.0,20110309,       1050
320620110219,       S04P,      40,          1,         16,         16,2,20110309,       0944,   -67.0002,  -156.2653,       3948,  1233.6,   0.8678,  34.7150,2,  34.7159,2,    199.7,2,   198.7,2,  118.05,2,   32.32,2,    0.00,2,    2.24,2,-999.000,9,-999.000,9,-999.000,9,-999.0000,9,  -999.0,9,  -999.0,9,-999.0000,9,  -999.00,-999.000,9,-999.0000,9,-999.000,9,   0.8677,2, -999.00,9,  -999.0,9,  -999.0,-999.000,9, -999.00,9,-999.000,9,   39.47,2,   34.54,2, -67.0002,-156.2653,-999.000,     -999.0,    34.8796,2,     -999.0,9,     -999.0,9,-999.0000,9,-999.0000,9,-999.0000,9,-999.0000,9,-999.0000,9,-999.0000,9,-999.0000,9,-999.0000,9,-999.0000,9,-999.0000,-999.000,   0.8020,     -999.0,     -999.0,9,     -999.0,9,     -999.0,9,     -999.0,9,     -999.0,20110309,       1047
320620110219,       S04P,      40,          1,         15,         15,2,20110309,       0944,   -67.0002,  -156.2653,       3948,  1333.2,   0.8166,  34.7132,2,  34.7134,2,    200.8,2,   200.2,2,  119.45,2,   32.26,2,    0.00,2,    2.24,2,   0.106,2,   0.044,2,   0.005,2,   0.0510,2,  2259.5,2,  2358.0,2,   7.5905,2,    25.00,-999.000,9,-999.0000,9,-999.000,9,   0.8165,2, -999.00,9,  -999.0,9,  -999.0,-999.000,9, -999.00,9,-999.000,9,   39.76,2,   35.07,2, -67.0002,-156.2653,-999.000,     -999.0,    34.8771,2,     -999.0,9,     -999.0,9,-999.0000,9,-999.0000,9,-999.0000,9,-999.0000,9,-999.0000,9,-999.0000,9,-999.0000,9,-999.0000,9,-999.0000,9,-999.0000,-999.000,   0.7449,     -999.0,     -999.0,9,     -999.0,9,     -999.0,9,     -999.0,9,     -999.0,20110309,       1045
320620110219,       S04P,      40,          1,         14,         14,2,20110309,       0944,   -67.0002,  -156.2653,       3948,  1433.4,   0.7671,  34.7111,2,  34.7112,2,    201.9,2,   201.5,2,  121.42,2,   32.22,2,    0.00,2,    2.24,2,-999.000,9,-999.000,9,-999.000,9,-999.0000,9,  -999.0,9,  -999.0,9,-999.0000,9,  -999.00,-999.000,9,-999.0000,9,-999.000,9,   0.7671,2, -999.00,9,  -999.0,9,  -999.0,-999.000,9, -999.00,9,-999.000,9,   39.92,2,   34.74,2, -67.0002,-156.2654,-999.000,     -999.0,    34.8749,2,     -999.0,9,     -999.0,9,-999.0000,9,-999.0000,9,-999.0000,9,-999.0000,9,-999.0000,9,-999.0000,9,-999.0000,9,-999.0000,9,-999.0000,9,-999.0000,-999.000,   0.6894,     -999.0,     -999.0,9,     -999.0,9,     -999.0,9,     -999.0,9,     -999.0,20110309,       1042