BOTTLE,20220813CCHSIOAMB
EXPOCODE,SECT_ID,STNNBR,CASTNO,SAMPNO,BTLNBR,BTLNBR_FLAG_W,DATE,TIME,LATITUDE,LONGITUDE,DEPTH,CTDPRS,CTDTMP,CTDSAL,CTDSAL_FLAG_W,SALNTY,SALNTY_FLAG_W,CTDOXY,CTDOXY_FLAG_W,OXYGEN,OXYGEN_FLAG_W,SILCAT,SILCAT_FLAG_W,NITRAT,NITRAT_FLAG_W,NITRIT,NITRIT_FLAG_W,PHSPHT,PHSPHT_FLAG_W,CFC-11,CFC-11_FLAG_W,CFC-12,CFC-12_FLAG_W,CFC113,CFC113_FLAG_W,SF6,SF6_FLAG_W,TCARBN,TCARBN_FLAG_W,ALKALI,ALKALI_FLAG_W,PH_TOT,PH_TOT_FLAG_W,PH_TMP,TRITUM,TRITUM_FLAG_W,HELIUM,HELIUM_FLAG_W,DELHE3,DELHE3_FLAG_W,REFTMP,REFTMP_FLAG_W,DELC13,DELC13_FLAG_W,DELC14,DELC14_FLAG_W,C14ERR,NEON,NEON_FLAG_W,DELO18,DELO18_FLAG_W,POC,POC_FLAG_W,DOC,DOC_FLAG_W,TDN,TDN_FLAG_W,BTL_LAT,BTL_LON,TRITER,NEONER,SALTREF,SALTREF_FLAG_W,PIGMENTS,PIGMENTS_FLAG_W,LAB_DEN,LAB_DEN_FLAG_W,CDOM325,CDOM325_FLAG_W,CDOM340,CDOM340_FLAG_W,CDOM380,CDOM380_FLAG_W,CDOM412,CDOM412_FLAG_W,CDOM443,CDOM443_FLAG_W,CDOM490,CDOM490_FLAG_W,CDOM555,CDOM555_FLAG_W,CDOMSL,CDOMSL_FLAG_W,CDOMSN,CDOMSN_FLAG_W,HELIER,DELHER,THETA,LDEO_SAMPNO,ABSORBTION,ABSORBTION_FLAG_W,IMAGE_COUNT,IMAGE_COUNT_FLAG_W,CYTO_COUNT,CYTO_COUNT_FLAG_W,DELD,DELD_FLAG_W,DELDERR,BTL_DATE,BTL_TIME
,,,,,,,,,,,METERS,DBAR,ITS-90,PSS-78,,PSS-78,,UMOL/KG,,UMOL/KG,,UMOL/KG,,UMOL/KG,,UMOL/KG,,UMOL/KG,,PMOL/KG,,PMOL/KG,,PMOL/KG,,FMOL/KG,,UMOL/KG,,UMOL/KG,,,,DEG C,TU,,NMOL/KG,,PERCNT,,DEG C,,/MILLE,,/MILLE,,/MILLE,NMOL/KG,,/MILLE,,UG/KG,,UMOL/KG,,UMOL/KG,,,,TU,NMOL/KG,G/KG,,,,,,1/M,,1/M,,1/M,,1/M,,1/M,,1/M,,1/M,,1/NM,,1/NM,,NMOL/KG,PERCNT,DEG C,,,,,,,,/MILLE,,/MILLE,,
320620110219,       S04P,     112,          1,         13,         13,2,20110407,       0739,   -67.0003,  -117.3861,       4621,  1800.1,   1.1207,  34.7223,2,  34.7220,2,    199.1,2,   199.7,2,  109.25,2,   31.75,2,    0.00,2,    2.20,2,-999.000,9,-999.000,9,-999.000,9,-999.0000,9,  -999.0,9,  -999.0,9,-999.0000,9,  -999.00,-999.000,9,-999.0000,9,-999.000,9,   1.1207,2, -999.00,9,  -999.0,9,  -999.0,-999.000,9, -999.00,9,-999.000,9,   39.58,2,   34.31,2, -67.0003,-117.3862,-999.000,     -999.0,    34.8858,2,     -999.0,9,     -999.0,9,-999.0000,9,-999.0000,9,-999.0000,9,-999.0000,9,-999.0000,9,-999.0000,9,-999.0000,9,-999.0000,9,-999.0000,9,-999.0000,-999.000,   1.0126,     -999.0,     -999.0,9,     -999.0,9,     -999.0,9,     -999.0,9,     -999.0,20110407,       0839
320620110219,       S04P,     112,          1,         12,         12,2,20110407,       0739,   -67.0003,  -117.3861,       4621,  1999.7,   1.0190,  34.7187,2,  34.7183,2,    200.8,2,   200.8,2,  112.50,2,   31.82,2,    0.00,2,    2.21,2,   0.149,2,   0.074,2,   0.009,2,   0.0340,2,  2259.1,2,  2360.8,2,   7.6024,2,    25.00,-999.000,9,-999.0000,9,-999.000,9,   1.0193,2, -999.00,9,  -999.0,9,  -999.0,-999.000,9, -999.00,9,-999.000,9,   39.59,2,   34.13,2, -67.0003,-117.3862,-999.000,     -999.0,    34.8820,2,     -999.0,9,     -999.0,9,-999.0000,9,-999.0000,9,-999.0000,9,-999.0000,9,-999.0000,9,-999.0000,9,-999.0000,9,-999.0000,9,-999.0000,9,-999.0000,-999.000,   0.8973,     -999.0,     -999.0,9,     -999.0,9,     -999.0,9,     -999.0,9,     -999.0,20110407,       0835
320620110219,       S04P,     112,          1,         11,         11,2,20110407,       0739,   -67.0003,  -117.3861,       4621,  2250.1,   0.9035,  34.7138,2,  34.7136,2,    202.9,2,   202.7,2,  116.92,2,   31.95,2,    0.00,2,    2.22,2,-999.000,9,-999.000,9,-999.000,9,-999.0000,9,  -999.0,9,  -999.0,9,-999.0000,9,  -999.00,-999.000,9,-999.0000,9,-999.000,9,   0.9036,2, -999.00,9,  -999.0,9,  -999.0,-999.000,9, -999.00,9,-999.000,9,   40.39,2,   34.42,2, -67.0003,-117.3861,-999.000,     -999.0,    34.8773,2,     -999.0,9,     -999.0,9,-999.0000,9,-999.0000,9,-999.0000,9,-999.0000,9,-999.0000,9,-999.0000,9,-999.0000,9,-999.0000,9,-999.0000,9,-999.0000,-999.000,   0.7640,     -999.0,     -999.0,9,     -999.0,9,     -999.0,9,     -999.0,9,     -999.0,20110407,       0830
320620110219,       S04P,     112,          1,         10,         37,2,20110407,       0739,   -67.0003,  -117.3861,       4621,  2500.0,   0.8076,  34.7099,2,  34.7099,2,    204.5,2,   204.4,2,  120.42,2,   32.07,2,    0.00,2,    2.23,2,-999.000,9,-999.000,9,-999.000,9,-999.0000,9,  -999.0,9,  -999.0,9,-999.0000,9,  -999.00,-999.000,9,-999.0000,9,-999.000,9,   0.8076,2, -999.00,9,  -999.0,9,  -999.0,-999.000,9, -999.00,9,-999.000,9,   40.70,2,   34.50,2, -67.0003,-117.3861,-999.000,     -999.0,    34.8735,2,     -999.0,9,     -999.0,9,-999.0000,9,-999.0000,9,-999.0000,9,-999.0000,9,-999.0000,9,-999.0000,9,-999.0000,9,-999.0000,9,-999.0000,9,-999.0000,-999.000,   0.6494,     -999.0,     -999.0,9,     -999.0,9,     -999.0,9,     -999.0,9,     -999.0,20110407,       0825
320620110219,       S04P,     112,          1,          9,          9,2,20110407,       0739,   -67.0003,  -117.3861,       4621,  2749.2,   0.7222,  34.7070,2,  34.7063,2,    206.2,2,   206.4,2,  123.07,2,   32.06,2,    0.00,2,    2.24,2,   0.214,2,   0.107,2,   0.017,2,   0.0390,2,  2260.5,2,  2361.7,2,   7.5992,2,    25.00,-999.000,9,-999.0000,9,-999.000,9,   0.7221,2, -999.00,9,  -999.0,9,  -999.0,-999.000,9, -999.00,9,-999.000,9,   40.12,2,   34.55,2, -67.0003,-117.3860,-999.000,     -999.0,    34.8700,2,     -999.0,9,     -999.0,9,-999.0000,9,-999.0000,9,-999.0000,9,-999.0000,9,-999.0000,9,-999.0000,9,-999.0000,9,-999.0000,9,-999.0000,9,-999.0000,-999.000,   0.5446,     -999.0,     -999.0,9,     -999.0,9,     -999.0,9,     -999.0,9,     -999.0,20110407,       0819
320620110219,       S04P,     112,          1,          8,          8,2,20110407,       0739,   -67.0003,  -117.3861,       4621,  3000.1,   0.6272,  34.7052,2,  34.7045,2,    207.7,2,   207.8,2,  125.30,2,   32.05,2,    0.00,2,    2.24,2,   0.234,2,   0.119,2,   0.014,2,   0.0430,2,  -999.0,9,  -999.0,9,-999.0000,9,  -999.00,-999.000,9,-999.0000,9,-999.000,9,   0.6271,2, -999.00,9,  -999.0,9,  -999.0,-999.000,9, -999.00,9,-999.000,9,   40.50,2,   34.40,2, -67.0003,-117.3861,-999.000,     -999.0,    34.8682,2,     -999.0,9,     -999.0,9,-999.0000,9,-999.0000,9,-999.0000,9,-999.0000,9,-999.0000,9,-999.0000,9,-999.0000,9,-999.0000,9,-999.0000,9,-999.0000,-999.000,   0.4296,     -999.0,     -999.0,9,     -999.0,9,     -999.0,9,     -999.0,9,     -999.0,20110407,       0814
320620110219,       S04P,     112,          1,          7,          7,2,20110407,       0739,   -67.0003,  -117.3861,       4621,  3300.0,   0.5196,  34.7034,2,  34.7028,2,    210.2,2,   210.1,2,  127.98,2,   32.29,2,    0.00,2,    2.24,2,-999.000,9,-999.000,9,-999.000,9,-999.0000,9,  2260.3,2,  2362.4,2,   7.5947,2,    25.00,-999.000,9,-999.0000,9,-999.000,9,   0.5197,2, -999.00,9,  -999.0,9,  -999.0,-999.000,9, -999.00,9,-999.000,9,   40.80,2,   35.08,2, -67.0003,-117.3861,-999.000,     -999.0,    34.8664,2,     -999.0,9,     -999.0,9,-999.0000,9,-999.0000,9,-999.0000,9,-999.0000,9,-999.0000,9,-999.0000,9,-999.0000,9,-999.0000,9,-999.0000,9,-999.0000,-999.000,   0.2971,     -999.0,     -999.0,9,     -999.0,9,     -999.0,9,     -999.0,9,     -999.0,20110407,       0808
320620110219,       S04P,     112,          1,          6,          6,2,20110407,       0739,   -67.0003,  -117.3861,       4621,  3600.3,   0.4376,  34.7022,2,  34.7018,2,    212.3,2,   212.7,2,  130.15,2,   32.30,2,    0.00,2,    2.24,2,   0.309,2,   0.148,2,   0.016,2,   0.0570,2,  -999.0,9,  -999.0,9,-999.0000,9,  -999.00,-999.000,9,-999.0000,9,-999.000,9,   0.4382,2, -999.00,9,  -999.0,9,  -999.0,-999.000,9, -999.00,9,-999.000,9,   41.07,2,   34.81,2, -67.0003,-117.3861,-999.000,     -999.0,    34.8654,2,     -999.0,9,     -999.0,9,-999.0000,9,-999.0000,9,-999.0000,9,-999.0000,9,-999.0000,9,-999.0000,9,-999.0000,9,-999.0000,9,-999.0000,9,-999.0000,-999.000,   0.1886,     -999.0,     -999.0,9,     -999.0,9,     -999.0,9,     -999.0,9,     -999.0,20110407,       0802
320620110219,       S04P,     112,          1,          5,          5,2,20110407,       0739,   -67.0003,  -117.3861,       4621,  3898.8,   0.3866,  34.7022,2,  34.7014,2,    213.7,2,   213.6,2,  133.59,2,   32.40,2,    0.00,2,    2.24,2,   0.332,2,   0.158,2,   0.016,2,   0.0610,2,  2260.7,2,  2362.1,6,   7.5966,2,    25.00,-999.000,9,-999.0000,9,-999.000,9,   0.3865,2, -999.00,9,  -999.0,9,  -999.0,-999.000,9, -999.00,9,-999.000,9,   40.28,2,   35.15,2, -67.0003,-117.3861,-999.000,     -999.0,    34.8650,2,     -999.0,9,     -999.0,9,-999.0000,9,-999.0000,9,-999.0000,9,-999.0000,9,-999.0000,9,-999.0000,9,-999.0000,9,-999.0000,9,-999.0000,9,-999.0000,-999.000,   0.1094,     -999.0,     -999.0,9,     -999.0,9,     -999.0,9,     -999.0,9,     -999.0,20110407,       0756
320620110219,       S04P,     112,          1,          4,          4,2,20110407,       0739,   -67.0003,  -117.3861,       4621,  4199.6,   0.3610,  34.7013,2,  34.7004,2,    214.8,2,   214.7,2,  135.59,2,   32.38,2,    0.00,2,    2.25,2,   0.380,2,   0.181,2,   0.018,2,   0.0490,2,  2260.9,2,  2361.9,2,   7.5957,2,    25.00,-999.000,9,-999.0000,9,-999.000,9,   0.3608,2, -999.00,9,  -999.0,9,  -999.0,-999.000,9, -999.00,9,-999.000,9,   39.87,2,   35.11,2, -67.0003,-117.3861,-999.000,     -999.0,    34.8640,2,     -999.0,9,     -999.0,9,-999.0000,9,-999.0000,9,-999.0000,9,-999.0000,9,-999.0000,9,-999.0000,9,-999.0000,9,-999.0000,9,-999.0000,9,-999.0000,-999.000,   0.0536,     -999.0,     -999.0,9,     -999.0,9,     -999.0,9,     -999.0,9,     -999.0,20110407,       0750
320620110219,       S04P,     112,          1,          3,          3,2,20110407,       0739,   -67.0003,  -117.3861,       4621,  4499.5,   0.3582,  34.7003,2,  34.7000,2,    215.5,2,   215.3,2,  137.98,2,   32.38,2,    0.00,2,    2.25,2,-999.000,9,-999.000,9,-999.000,9,-999.0000,9,  2261.6,2,  2361.0,2,   7.5949,2,    25.00,-999.000,9,-999.0000,9,-999.000,9,   0.3578,2, -999.00,9,  -999.0,9,  -999.0,-999.000,9, -999.00,9,-999.000,9,   40.46,2,   35.23,2, -67.0003,-117.3861,-999.000,     -999.0,    34.8636,2,     -999.0,9,     -999.0,9,-999.0000,9,-999.0000,9,-999.0000,9,-999.0000,9,-999.0000,9,-999.0000,9,-999.0000,9,-999.0000,9,-999.0000,9,-999.0000,-999.000,   0.0189,     -999.0,     -999.0,9,     -999.0,9,     -999.0,9,     -999.0,9,     -999.0,20110407,       0745
320620110219,       S04P,     112,          1,          2,          2,2,20110407,       0739,   -67.0003,  -117.3861,       4621,  4601.0,   0.3531,  34.6999,2,  34.6996,2,    215.8,2,   215.7,2,  138.28,2,   32.47,2,    0.00,2,    2.24,2,   0.506,2,   0.243,2,   0.019,2,   0.0620,2,  2261.0,2,  2361.1,2,   7.5939,6,    25.00,-999.000,9,-999.0000,9,-999.000,9,   0.3529,2, -999.00,9,  -999.0,9,  -999.0,-999.000,9, -999.00,9,-999.000,9,   40.56,2,   34.56,2, -67.0003,-117.3861,-999.000,     -999.0,    34.8632,2,     -999.0,9,     -999.0,9,-999.0000,9,-999.0000,9,-999.0000,9,-999.0000,9,-999.0000,9,-999.0000,9,-999.0000,9,-999.0000,9,-999.0000,9,-999.0000,-999.000,   0.0028,     -999.0,     -999.0,9,     -999.0,9,     -999.0,9,     -999.0,9,     -999.0,20110407,       0742
320620110219,       S04P,     112,          1,          1,          1,2,20110407,       0739,   -67.0003,  -117.3861,       4621,  4706.1,   0.3545,  34.6992,2,  34.6994,2,    215.4,2,   215.6,2,  141.24,2,   32.59,2,    0.00,2,    2.24,2,-999.000,9,-999.000,9,-999.000,9,   0.0950,2,  2262.8,6,  2362.3,2,   7.5940,2,    25.00,-999.000,9,-999.0000,9,-999.000,9,   0.3540,2, -999.00,9,  -999.0,9,  -999.0,-999.000,9, -999.00,9,-999.000,9,   40.64,2,   35.37,2, -67.0003,-117.3861,-999.000,     -999.0,    34.8630,2,     -999.0,9,     -999.0,9,-999.0000,9,-999.0000,9,-999.0000,9,-999.0000,9,-999.0000,9,-999.0000,9,-999.0000,9,-999.0000,9,-999.0000,9,-999.0000,-999.000,  -0.0075,     -999.0,     -999.0,9,     -999.0,9,     -999.0,9,     -999.0,9,     -999.0,20110407,       0739