BOTTLE,20220813CCHSIOAMB
EXPOCODE,SECT_ID,STNNBR,CASTNO,SAMPNO,BTLNBR,BTLNBR_FLAG_W,DATE,TIME,LATITUDE,LONGITUDE,DEPTH,CTDPRS,CTDTMP,CTDSAL,CTDSAL_FLAG_W,SALNTY,SALNTY_FLAG_W,CTDOXY,CTDOXY_FLAG_W,OXYGEN,OXYGEN_FLAG_W,SILCAT,SILCAT_FLAG_W,NITRAT,NITRAT_FLAG_W,NITRIT,NITRIT_FLAG_W,PHSPHT,PHSPHT_FLAG_W,CFC-11,CFC-11_FLAG_W,CFC-12,CFC-12_FLAG_W,CFC113,CFC113_FLAG_W,SF6,SF6_FLAG_W,TCARBN,TCARBN_FLAG_W,ALKALI,ALKALI_FLAG_W,PH_TOT,PH_TOT_FLAG_W,PH_TMP,TRITUM,TRITUM_FLAG_W,HELIUM,HELIUM_FLAG_W,DELHE3,DELHE3_FLAG_W,REFTMP,REFTMP_FLAG_W,DELC13,DELC13_FLAG_W,DELC14,DELC14_FLAG_W,C14ERR,NEON,NEON_FLAG_W,DELO18,DELO18_FLAG_W,POC,POC_FLAG_W,DOC,DOC_FLAG_W,TDN,TDN_FLAG_W,BTL_LAT,BTL_LON,TRITER,NEONER,SALTREF,SALTREF_FLAG_W,PIGMENTS,PIGMENTS_FLAG_W,LAB_DEN,LAB_DEN_FLAG_W,CDOM325,CDOM325_FLAG_W,CDOM340,CDOM340_FLAG_W,CDOM380,CDOM380_FLAG_W,CDOM412,CDOM412_FLAG_W,CDOM443,CDOM443_FLAG_W,CDOM490,CDOM490_FLAG_W,CDOM555,CDOM555_FLAG_W,CDOMSL,CDOMSL_FLAG_W,CDOMSN,CDOMSN_FLAG_W,HELIER,DELHER,THETA,LDEO_SAMPNO,ABSORBTION,ABSORBTION_FLAG_W,IMAGE_COUNT,IMAGE_COUNT_FLAG_W,CYTO_COUNT,CYTO_COUNT_FLAG_W,DELD,DELD_FLAG_W,DELDERR,BTL_DATE,BTL_TIME
,,,,,,,,,,,METERS,DBAR,ITS-90,PSS-78,,PSS-78,,UMOL/KG,,UMOL/KG,,UMOL/KG,,UMOL/KG,,UMOL/KG,,UMOL/KG,,PMOL/KG,,PMOL/KG,,PMOL/KG,,FMOL/KG,,UMOL/KG,,UMOL/KG,,,,DEG C,TU,,NMOL/KG,,PERCNT,,DEG C,,/MILLE,,/MILLE,,/MILLE,NMOL/KG,,/MILLE,,UG/KG,,UMOL/KG,,UMOL/KG,,,,TU,NMOL/KG,G/KG,,,,,,1/M,,1/M,,1/M,,1/M,,1/M,,1/M,,1/M,,1/NM,,1/NM,,NMOL/KG,PERCNT,DEG C,,,,,,,,/MILLE,,/MILLE,,
320620110219,       S04P,      35,          1,         13,         13,2,20110307,       1932,   -67.0000,  -162.6635,       3909,  1464.9,   0.7502,  34.7104,2,  34.7105,2,    202.4,2,   202.6,2,  121.79,2,   32.07,2,    0.00,2,    2.21,2,   0.103,2,   0.053,2,   0.005,2,   0.0400,2,  -999.0,9,  -999.0,9,-999.0000,9,  -999.00,-999.000,9,-999.0000,9,-999.000,9,   0.7498,2, -999.00,9,  -999.0,9,  -999.0,-999.000,9, -999.00,9,-999.000,9, -999.00,9, -999.00,9, -67.0000,-162.6635,-999.000,     -999.0,    34.8742,2,     -999.0,9,     -999.0,9,-999.0000,9,-999.0000,9,-999.0000,9,-999.0000,9,-999.0000,9,-999.0000,9,-999.0000,9,-999.0000,9,-999.0000,9,-999.0000,-999.000,   0.6706,     -999.0,     -999.0,9,     -999.0,9,     -999.0,9,     -999.0,9,     -999.0,20110307,       2037
320620110219,       S04P,      35,          1,         12,         12,2,20110307,       1932,   -67.0000,  -162.6635,       3909,  1563.5,   0.7078,  34.7090,2,  34.7090,2,    203.4,2,   203.0,2,  122.42,2,   32.05,2,    0.00,2,    2.20,2,-999.000,9,-999.000,9,-999.000,9,-999.0000,9,  -999.0,9,  -999.0,9,-999.0000,9,  -999.00,-999.000,9,-999.0000,9,-999.000,9,   0.7078,2, -999.00,9,  -999.0,9,  -999.0,-999.000,9, -999.00,9,-999.000,9, -999.00,9, -999.00,9, -67.0000,-162.6635,-999.000,     -999.0,    34.8726,2,     -999.0,9,     -999.0,9,-999.0000,9,-999.0000,9,-999.0000,9,-999.0000,9,-999.0000,9,-999.0000,9,-999.0000,9,-999.0000,9,-999.0000,9,-999.0000,-999.000,   0.6221,     -999.0,     -999.0,9,     -999.0,9,     -999.0,9,     -999.0,9,     -999.0,20110307,       2034
320620110219,       S04P,      35,          1,         11,         11,2,20110307,       1932,   -67.0000,  -162.6635,       3909,  1734.5,   0.6450,  34.7067,2,  34.7068,2,    205.1,2,   205.3,2,  124.71,2,   32.15,2,    0.00,2,    2.21,2,   0.122,2,   0.054,2,   0.006,2,   0.0420,2,  2257.6,2,  2356.9,2,   7.5970,2,    25.00,-999.000,9,-999.0000,9,-999.000,9,   0.6450,2, -999.00,9,  -999.0,9,  -999.0,-999.000,9, -999.00,9,-999.000,9, -999.00,9, -999.00,9, -67.0000,-162.6635,-999.000,     -999.0,    34.8705,2,     -999.0,9,     -999.0,9,-999.0000,9,-999.0000,9,-999.0000,9,-999.0000,9,-999.0000,9,-999.0000,9,-999.0000,9,-999.0000,9,-999.0000,9,-999.0000,-999.000,   0.5483,     -999.0,     -999.0,9,     -999.0,9,     -999.0,9,     -999.0,9,     -999.0,20110307,       2030
320620110219,       S04P,      35,          1,         10,         37,2,20110307,       1932,   -67.0000,  -162.6635,       3909,  1935.1,   0.5662,  34.7050,2,  34.7049,2,    206.7,2,   206.7,2,  126.51,2,   32.20,2,    0.00,2,    2.21,2,-999.000,9,-999.000,9,-999.000,9,-999.0000,9,  -999.0,9,  -999.0,9,-999.0000,9,  -999.00,-999.000,9,-999.0000,9,-999.000,9,   0.5662,2, -999.00,9,  -999.0,9,  -999.0,-999.000,9, -999.00,9,-999.000,9, -999.00,9, -999.00,9, -67.0000,-162.6635,-999.000,     -999.0,    34.8685,2,     -999.0,9,     -999.0,9,-999.0000,9,-999.0000,9,-999.0000,9,-999.0000,9,-999.0000,9,-999.0000,9,-999.0000,9,-999.0000,9,-999.0000,9,-999.0000,-999.000,   0.4563,     -999.0,     -999.0,9,     -999.0,9,     -999.0,9,     -999.0,9,     -999.0,20110307,       2025
320620110219,       S04P,      35,          1,          9,          9,2,20110307,       1932,   -67.0000,  -162.6635,       3909,  2164.3,   0.4862,  34.7038,2,  34.7031,2,    208.6,2,   209.1,2,  127.47,2,   32.22,2,    0.00,2,    2.21,2,   0.151,2,   0.071,2,   0.010,2,   0.0740,2,  -999.0,9,  -999.0,9,-999.0000,9,  -999.00,-999.000,9,-999.0000,9,-999.000,9,   0.4862,2, -999.00,9,  -999.0,9,  -999.0,-999.000,9, -999.00,9,-999.000,9, -999.00,9, -999.00,9, -67.0000,-162.6635,-999.000,     -999.0,    34.8667,2,     -999.0,9,     -999.0,9,-999.0000,9,-999.0000,9,-999.0000,9,-999.0000,9,-999.0000,9,-999.0000,9,-999.0000,9,-999.0000,9,-999.0000,9,-999.0000,-999.000,   0.3605,     -999.0,     -999.0,9,     -999.0,9,     -999.0,9,     -999.0,9,     -999.0,20110307,       2020
320620110219,       S04P,      35,          1,          8,          8,2,20110307,       1932,   -67.0000,  -162.6635,       3909,  2414.8,   0.4077,  34.7027,2,  34.7025,2,    210.5,2,   210.5,2,  129.27,2,   32.27,2,    0.00,2,    2.22,2,-999.000,9,-999.000,9,-999.000,9,-999.0000,9,  -999.0,9,  -999.0,9,-999.0000,9,  -999.00,-999.000,9,-999.0000,9,-999.000,9,   0.4078,2, -999.00,9,  -999.0,9,  -999.0,-999.000,9, -999.00,9,-999.000,9, -999.00,9, -999.00,9, -67.0000,-162.6635,-999.000,     -999.0,    34.8661,2,     -999.0,9,     -999.0,9,-999.0000,9,-999.0000,9,-999.0000,9,-999.0000,9,-999.0000,9,-999.0000,9,-999.0000,9,-999.0000,9,-999.0000,9,-999.0000,-999.000,   0.2640,     -999.0,     -999.0,9,     -999.0,9,     -999.0,9,     -999.0,9,     -999.0,20110307,       2015
320620110219,       S04P,      35,          1,          7,          7,2,20110307,       1932,   -67.0000,  -162.6635,       3909,  2665.5,   0.3392,  34.7016,2,  34.7009,2,    212.2,2,   212.5,2,  130.12,2,   32.29,2,    0.00,2,    2.22,2,   0.252,2,   0.116,2,   0.015,2,   0.0950,2,  2258.0,2,  2358.4,2,   7.5988,2,    25.00,-999.000,9,-999.0000,9,-999.000,9,   0.3397,2, -999.00,9,  -999.0,9,  -999.0,-999.000,9, -999.00,9,-999.000,9, -999.00,9, -999.00,9, -67.0000,-162.6635,-999.000,     -999.0,    34.8646,2,     -999.0,9,     -999.0,9,-999.0000,9,-999.0000,9,-999.0000,9,-999.0000,9,-999.0000,9,-999.0000,9,-999.0000,9,-999.0000,9,-999.0000,9,-999.0000,-999.000,   0.1765,     -999.0,     -999.0,9,     -999.0,9,     -999.0,9,     -999.0,9,     -999.0,20110307,       2009
320620110219,       S04P,      35,          1,          6,          6,2,20110307,       1932,   -67.0000,  -162.6635,       3909,  2915.2,   0.2822,  34.6994,2,  34.6988,2,    214.5,2,   215.3,2,  129.07,2,   32.22,2,    0.00,2,    2.22,2,   0.393,2,   0.183,2,   0.022,2,   0.1090,2,  -999.0,9,  -999.0,9,-999.0000,9,  -999.00,-999.000,9,-999.0000,9,-999.000,9,   0.2825,2, -999.00,9,  -999.0,9,  -999.0,-999.000,9, -999.00,9,-999.000,9, -999.00,9, -999.00,9, -67.0000,-162.6635,-999.000,     -999.0,    34.8624,2,     -999.0,9,     -999.0,9,-999.0000,9,-999.0000,9,-999.0000,9,-999.0000,9,-999.0000,9,-999.0000,9,-999.0000,9,-999.0000,9,-999.0000,9,-999.0000,-999.000,   0.0997,     -999.0,     -999.0,9,     -999.0,9,     -999.0,9,     -999.0,9,     -999.0,20110307,       2003
320620110219,       S04P,      35,          1,          5,          5,2,20110307,       1932,   -67.0000,  -162.6635,       3909,  3201.3,   0.2115,  34.6955,2,  34.6949,2,    217.8,2,   218.6,2,  125.97,2,   32.07,2,    0.00,2,    2.22,2,   0.670,2,   0.333,2,   0.049,2,   0.1460,2,  -999.0,9,  -999.0,9,-999.0000,9,  -999.00,-999.000,9,-999.0000,9,-999.000,9,   0.2112,2, -999.00,9,  -999.0,9,  -999.0,-999.000,9, -999.00,9,-999.000,9, -999.00,9, -999.00,9, -67.0000,-162.6635,-999.000,     -999.0,    34.8585,2,     -999.0,9,     -999.0,9,-999.0000,9,-999.0000,9,-999.0000,9,-999.0000,9,-999.0000,9,-999.0000,9,-999.0000,9,-999.0000,9,-999.0000,9,-999.0000,-999.000,   0.0054,     -999.0,     -999.0,9,     -999.0,9,     -999.0,9,     -999.0,9,     -999.0,20110307,       1956
320620110219,       S04P,      35,          1,          4,          4,2,20110307,       1932,   -67.0000,  -162.6635,       3909,  3500.1,   0.1820,  34.6926,2,  34.6925,2,    220.4,2,   220.5,2,  125.59,2,   32.03,2,    0.00,2,    2.22,2,   0.912,2,   0.451,2,   0.059,2,   0.2070,2,  2257.3,2,  2355.2,2,   7.5980,2,    25.00,-999.000,9,-999.0000,9,-999.000,9,   0.1818,2, -999.00,9,  -999.0,9,  -999.0,-999.000,9, -999.00,9,-999.000,9, -999.00,9, -999.00,9, -67.0000,-162.6635,-999.000,     -999.0,    34.8561,2,     -999.0,9,     -999.0,9,-999.0000,9,-999.0000,9,-999.0000,9,-999.0000,9,-999.0000,9,-999.0000,9,-999.0000,9,-999.0000,9,-999.0000,9,-999.0000,-999.000,  -0.0508,     -999.0,     -999.0,9,     -999.0,9,     -999.0,9,     -999.0,9,     -999.0,20110307,       1948
320620110219,       S04P,      35,          1,          3,          3,2,20110307,       1932,   -67.0000,  -162.6635,       3909,  3799.8,   0.1995,  34.6924,2,  34.6919,2,    220.6,2,   220.9,2,  122.71,2,   32.05,2,    0.00,2,    2.22,2,   0.937,2,   0.454,2,   0.061,2,   0.2500,2,  2258.0,2,  2355.2,2,   7.5946,2,    25.00,-999.000,9,-999.0000,9,-999.000,9,   0.1996,2, -999.00,9,  -999.0,9,  -999.0,-999.000,9, -999.00,9,-999.000,9, -999.00,9, -999.00,9, -67.0000,-162.6635,-999.000,     -999.0,    34.8555,2,     -999.0,9,     -999.0,9,-999.0000,9,-999.0000,9,-999.0000,9,-999.0000,9,-999.0000,9,-999.0000,9,-999.0000,9,-999.0000,9,-999.0000,9,-999.0000,-999.000,  -0.0626,     -999.0,     -999.0,9,     -999.0,9,     -999.0,9,     -999.0,9,     -999.0,20110307,       1939
320620110219,       S04P,      35,          1,          2,          2,2,20110307,       1932,   -67.0000,  -162.6635,       3909,  3923.0,   0.2099,  34.6926,2,  34.6923,2,    220.2,2,   220.5,2,  122.62,2,   32.00,2,    0.00,2,    2.23,2,   0.927,2,   0.445,2,   0.056,2,   0.1770,2,  2257.5,6,  2354.3,2,   7.5957,2,    25.00,-999.000,9,-999.0000,9,-999.000,9,   0.2094,2, -999.00,9,  -999.0,9,  -999.0,-999.000,9, -999.00,9,-999.000,9, -999.00,9, -999.00,9, -67.0000,-162.6634,-999.000,     -999.0,    34.8559,2,     -999.0,9,     -999.0,9,-999.0000,9,-999.0000,9,-999.0000,9,-999.0000,9,-999.0000,9,-999.0000,9,-999.0000,9,-999.0000,9,-999.0000,9,-999.0000,-999.000,  -0.0647,     -999.0,     -999.0,9,     -999.0,9,     -999.0,9,     -999.0,9,     -999.0,20110307,       1935
320620110219,       S04P,      35,          1,          1,          1,2,20110307,       1932,   -67.0000,  -162.6635,       3909,  3974.3,   0.2149,  34.6925,2,  34.6921,2,    219.9,2,   220.3,2,  122.52,2,   32.00,2,    0.00,2,    2.23,2,   0.954,2,   0.466,2,   0.057,2,   0.3130,2,  2258.7,2,  2354.5,2,   7.5947,6,    25.00,-999.000,9,-999.0000,9,-999.000,9,   0.2147,2, -999.00,9,  -999.0,9,  -999.0,-999.000,9, -999.00,9,-999.000,9, -999.00,9, -999.00,9, -67.0000,-162.6635,-999.000,     -999.0,    34.8557,2,     -999.0,9,     -999.0,9,-999.0000,9,-999.0000,9,-999.0000,9,-999.0000,9,-999.0000,9,-999.0000,9,-999.0000,9,-999.0000,9,-999.0000,9,-999.0000,-999.000,  -0.0650,     -999.0,     -999.0,9,     -999.0,9,     -999.0,9,     -999.0,9,     -999.0,20110307,       1932