BOTTLE,20220813CCHSIOAMB
EXPOCODE,SECT_ID,STNNBR,CASTNO,SAMPNO,BTLNBR,BTLNBR_FLAG_W,DATE,TIME,LATITUDE,LONGITUDE,DEPTH,CTDPRS,CTDTMP,CTDSAL,CTDSAL_FLAG_W,SALNTY,SALNTY_FLAG_W,CTDOXY,CTDOXY_FLAG_W,OXYGEN,OXYGEN_FLAG_W,SILCAT,SILCAT_FLAG_W,NITRAT,NITRAT_FLAG_W,NITRIT,NITRIT_FLAG_W,PHSPHT,PHSPHT_FLAG_W,CFC-11,CFC-11_FLAG_W,CFC-12,CFC-12_FLAG_W,CFC113,CFC113_FLAG_W,SF6,SF6_FLAG_W,TCARBN,TCARBN_FLAG_W,ALKALI,ALKALI_FLAG_W,PH_TOT,PH_TOT_FLAG_W,PH_TMP,TRITUM,TRITUM_FLAG_W,HELIUM,HELIUM_FLAG_W,DELHE3,DELHE3_FLAG_W,REFTMP,REFTMP_FLAG_W,DELC13,DELC13_FLAG_W,DELC14,DELC14_FLAG_W,C14ERR,NEON,NEON_FLAG_W,DELO18,DELO18_FLAG_W,POC,POC_FLAG_W,DOC,DOC_FLAG_W,TDN,TDN_FLAG_W,BTL_LAT,BTL_LON,TRITER,NEONER,SALTREF,SALTREF_FLAG_W,PIGMENTS,PIGMENTS_FLAG_W,LAB_DEN,LAB_DEN_FLAG_W,CDOM325,CDOM325_FLAG_W,CDOM340,CDOM340_FLAG_W,CDOM380,CDOM380_FLAG_W,CDOM412,CDOM412_FLAG_W,CDOM443,CDOM443_FLAG_W,CDOM490,CDOM490_FLAG_W,CDOM555,CDOM555_FLAG_W,CDOMSL,CDOMSL_FLAG_W,CDOMSN,CDOMSN_FLAG_W,HELIER,DELHER,THETA,LDEO_SAMPNO,ABSORBTION,ABSORBTION_FLAG_W,IMAGE_COUNT,IMAGE_COUNT_FLAG_W,CYTO_COUNT,CYTO_COUNT_FLAG_W,DELD,DELD_FLAG_W,DELDERR,BTL_DATE,BTL_TIME
,,,,,,,,,,,METERS,DBAR,ITS-90,PSS-78,,PSS-78,,UMOL/KG,,UMOL/KG,,UMOL/KG,,UMOL/KG,,UMOL/KG,,UMOL/KG,,PMOL/KG,,PMOL/KG,,PMOL/KG,,FMOL/KG,,UMOL/KG,,UMOL/KG,,,,DEG C,TU,,NMOL/KG,,PERCNT,,DEG C,,/MILLE,,/MILLE,,/MILLE,NMOL/KG,,/MILLE,,UG/KG,,UMOL/KG,,UMOL/KG,,,,TU,NMOL/KG,G/KG,,,,,,1/M,,1/M,,1/M,,1/M,,1/M,,1/M,,1/M,,1/NM,,1/NM,,NMOL/KG,PERCNT,DEG C,,,,,,,,/MILLE,,/MILLE,,
320620110219,       S04P,      34,          1,         13,         13,2,20110307,       1229,   -66.9998,  -163.9443,       3870,  1534.6,   0.7076,  34.7091,2,  34.7105,2,    203.3,2,   203.5,2,  123.23,2,   32.22,2,    0.00,2,    2.23,2,-999.000,9,-999.000,9,-999.000,9,-999.0000,9,  -999.0,9,  -999.0,9,-999.0000,9,  -999.00,-999.000,9,-999.0000,9,-999.000,9,   0.7078,2, -999.00,9,  -999.0,9,  -999.0,-999.000,9, -999.00,9,-999.000,9,   40.18,2,   34.31,2, -66.9998,-163.9443,-999.000,     -999.0,    34.8742,2,     -999.0,9,     -999.0,9,-999.0000,9,-999.0000,9,-999.0000,9,-999.0000,9,-999.0000,9,-999.0000,9,-999.0000,9,-999.0000,9,-999.0000,9,-999.0000,-999.000,   0.6238,     -999.0,     -999.0,9,     -999.0,9,     -999.0,9,     -999.0,9,     -999.0,20110307,       1325
320620110219,       S04P,      34,          1,         12,         12,2,20110307,       1229,   -66.9998,  -163.9443,       3870,  1635.5,   0.6741,  34.7078,2,  34.7084,2,    204.2,2,   204.1,2,  124.24,2,   32.17,2,    0.00,2,    2.23,2,   0.160,2,   0.077,2,   0.012,2,   0.0770,2,  2262.8,2,  2358.5,2,   7.5960,2,    25.00,-999.000,9,-999.0000,9,-999.000,9,   0.6740,2, -999.00,9,  -999.0,9,  -999.0,-999.000,9, -999.00,9,-999.000,9,   40.12,2,   34.36,2, -66.9998,-163.9443,-999.000,     -999.0,    34.8721,2,     -999.0,9,     -999.0,9,-999.0000,9,-999.0000,9,-999.0000,9,-999.0000,9,-999.0000,9,-999.0000,9,-999.0000,9,-999.0000,9,-999.0000,9,-999.0000,-999.000,   0.5839,     -999.0,     -999.0,9,     -999.0,9,     -999.0,9,     -999.0,9,     -999.0,20110307,       1322
320620110219,       S04P,      34,          1,         11,         11,2,20110307,       1229,   -66.9998,  -163.9443,       3870,  1736.5,   0.6420,  34.7066,2,  34.7060,2,    204.8,2,   204.8,2,  124.91,2,   32.17,2,    0.00,2,    2.23,2,-999.000,9,-999.000,9,-999.000,9,-999.0000,9,  -999.0,9,  -999.0,9,-999.0000,9,  -999.00,-999.000,9,-999.0000,9,-999.000,9,   0.6422,2, -999.00,9,  -999.0,9,  -999.0,-999.000,9, -999.00,9,-999.000,9,   40.20,2,   34.78,2, -66.9998,-163.9443,-999.000,     -999.0,    34.8697,2,     -999.0,9,     -999.0,9,-999.0000,9,-999.0000,9,-999.0000,9,-999.0000,9,-999.0000,9,-999.0000,9,-999.0000,9,-999.0000,9,-999.0000,9,-999.0000,-999.000,   0.5452,     -999.0,     -999.0,9,     -999.0,9,     -999.0,9,     -999.0,9,     -999.0,20110307,       1319
320620110219,       S04P,      34,          1,         10,         37,2,20110307,       1229,   -66.9998,  -163.9443,       3870,  1865.0,   0.5973,  34.7057,2,  34.7054,2,    206.0,2,   206.6,2,  125.90,2,   32.28,2,    0.00,2,    2.23,2,-999.000,9,-999.000,9,-999.000,9,-999.0000,9,  -999.0,9,  -999.0,9,-999.0000,9,  -999.00,-999.000,9,-999.0000,9,-999.000,9,   0.5973,2, -999.00,9,  -999.0,9,  -999.0,-999.000,9, -999.00,9,-999.000,9,   40.17,2,   34.79,2, -66.9998,-163.9443,-999.000,     -999.0,    34.8691,2,     -999.0,9,     -999.0,9,-999.0000,9,-999.0000,9,-999.0000,9,-999.0000,9,-999.0000,9,-999.0000,9,-999.0000,9,-999.0000,9,-999.0000,9,-999.0000,-999.000,   0.4920,     -999.0,     -999.0,9,     -999.0,9,     -999.0,9,     -999.0,9,     -999.0,20110307,       1316
320620110219,       S04P,      34,          1,          9,          9,2,20110307,       1229,   -66.9998,  -163.9443,       3870,  2084.9,   0.5083,  34.7040,2,  34.7035,2,    207.8,2,   208.2,2,  127.40,2,   32.43,2,    0.00,2,    2.23,2,-999.000,9,-999.000,9,-999.000,9,-999.0000,9,  2262.9,2,  2357.9,2,   7.5956,2,    25.00,-999.000,9,-999.0000,9,-999.000,9,   0.5082,2, -999.00,9,  -999.0,9,  -999.0,-999.000,9, -999.00,9,-999.000,9,   40.02,2,   35.05,2, -66.9998,-163.9443,-999.000,     -999.0,    34.8671,2,     -999.0,9,     -999.0,9,-999.0000,9,-999.0000,9,-999.0000,9,-999.0000,9,-999.0000,9,-999.0000,9,-999.0000,9,-999.0000,9,-999.0000,9,-999.0000,-999.000,   0.3882,     -999.0,     -999.0,9,     -999.0,9,     -999.0,9,     -999.0,9,     -999.0,20110307,       1312
320620110219,       S04P,      34,          1,          8,          8,2,20110307,       1229,   -66.9998,  -163.9443,       3870,  2334.8,   0.4278,  34.7027,2,  34.7027,2,    209.7,2,   210.3,2,  129.06,2,   32.48,2,    0.00,2,    2.23,2,   0.168,2,   0.080,2,   0.010,2,   0.0970,2,  -999.0,9,  -999.0,9,-999.0000,9,  -999.00,-999.000,9,-999.0000,9,-999.000,9,   0.4282,2, -999.00,9,  -999.0,9,  -999.0,-999.000,9, -999.00,9,-999.000,9,   40.04,2,   34.79,2, -66.9998,-163.9443,-999.000,     -999.0,    34.8663,2,     -999.0,9,     -999.0,9,-999.0000,9,-999.0000,9,-999.0000,9,-999.0000,9,-999.0000,9,-999.0000,9,-999.0000,9,-999.0000,9,-999.0000,9,-999.0000,-999.000,   0.2900,     -999.0,     -999.0,9,     -999.0,9,     -999.0,9,     -999.0,9,     -999.0,20110307,       1306
320620110219,       S04P,      34,          1,          7,          7,2,20110307,       1229,   -66.9998,  -163.9443,       3870,  2585.9,   0.3622,  34.7017,2,  34.7013,2,    211.8,2,   212.5,2,  130.24,2,   32.63,2,    0.00,2,    2.24,2,-999.000,9,-999.000,9,-999.000,9,-999.0000,9,  2263.0,2,  2359.5,2,   7.5960,2,    25.00,-999.000,9,-999.0000,9,-999.000,9,   0.3621,2, -999.00,9,  -999.0,9,  -999.0,-999.000,9, -999.00,9,-999.000,9,   40.05,2,   35.01,2, -66.9998,-163.9443,-999.000,     -999.0,    34.8650,2,     -999.0,9,     -999.0,9,-999.0000,9,-999.0000,9,-999.0000,9,-999.0000,9,-999.0000,9,-999.0000,9,-999.0000,9,-999.0000,9,-999.0000,9,-999.0000,-999.000,   0.2056,     -999.0,     -999.0,9,     -999.0,9,     -999.0,9,     -999.0,9,     -999.0,20110307,       1301
320620110219,       S04P,      34,          1,          6,          6,2,20110307,       1229,   -66.9998,  -163.9443,       3870,  2834.1,   0.3029,  34.7004,2,  34.7004,2,    213.8,2,   214.6,2,  129.82,2,   32.64,2,    0.00,2,    2.23,2,   0.323,2,   0.166,2,   0.015,2,   0.0840,2,  -999.0,9,  -999.0,9,-999.0000,9,  -999.00,-999.000,9,-999.0000,9,-999.000,9,   0.3032,2, -999.00,9,  -999.0,9,  -999.0,-999.000,9, -999.00,9,-999.000,9,   40.17,2,   35.51,2, -66.9998,-163.9443,-999.000,     -999.0,    34.8640,2,     -999.0,9,     -999.0,9,-999.0000,9,-999.0000,9,-999.0000,9,-999.0000,9,-999.0000,9,-999.0000,9,-999.0000,9,-999.0000,9,-999.0000,9,-999.0000,-999.000,   0.1268,     -999.0,     -999.0,9,     -999.0,9,     -999.0,9,     -999.0,9,     -999.0,20110307,       1256
320620110219,       S04P,      34,          1,          5,          5,2,20110307,       1229,   -66.9998,  -163.9443,       3870,  3100.6,   0.2474,  34.6977,2,  34.6974,2,    216.2,2,   216.5,2,  128.85,2,   32.58,2,    0.00,2,    2.23,2,-999.000,9,-999.000,9,-999.000,9,-999.0000,9,  2261.0,2,  2357.1,2,   7.5969,2,    25.00,-999.000,9,-999.0000,9,-999.000,9,   0.2473,2, -999.00,9,  -999.0,9,  -999.0,-999.000,9, -999.00,9,-999.000,9,   40.05,2,   35.01,2, -66.9998,-163.9443,-999.000,     -999.0,    34.8610,2,     -999.0,9,     -999.0,9,-999.0000,9,-999.0000,9,-999.0000,9,-999.0000,9,-999.0000,9,-999.0000,9,-999.0000,9,-999.0000,9,-999.0000,9,-999.0000,-999.000,   0.0495,     -999.0,     -999.0,9,     -999.0,9,     -999.0,9,     -999.0,9,     -999.0,20110307,       1250
320620110219,       S04P,      34,          1,          4,          4,2,20110307,       1229,   -66.9998,  -163.9443,       3870,  3399.8,   0.1930,  34.6927,2,  34.6929,2,    219.6,2,   219.9,2,  122.92,2,   32.52,2,    0.00,2,    2.22,2,   0.862,2,   0.429,2,   0.048,2,   0.1560,2,  2261.7,2,  2355.9,2,   7.5904,2,    25.00,-999.000,9,-999.0000,9,-999.000,9,   0.1926,2, -999.00,9,  -999.0,9,  -999.0,-999.000,9, -999.00,9,-999.000,9,   39.87,2,   35.46,2, -66.9998,-163.9443,-999.000,     -999.0,    34.8565,2,     -999.0,9,     -999.0,9,-999.0000,9,-999.0000,9,-999.0000,9,-999.0000,9,-999.0000,9,-999.0000,9,-999.0000,9,-999.0000,9,-999.0000,9,-999.0000,-999.000,  -0.0307,     -999.0,     -999.0,9,     -999.0,9,     -999.0,9,     -999.0,9,     -999.0,20110307,       1243
320620110219,       S04P,      34,          1,          3,          3,2,20110307,       1229,   -66.9998,  -163.9443,       3870,  3700.1,   0.2024,  34.6919,2,  34.6911,3,    220.6,2,   220.3,2,  122.57,2,   32.53,2,    0.00,2,    2.22,2,   0.938,2,   0.467,2,   0.060,2,   0.1680,2,  2259.8,6,  2355.4,2,   7.5932,2,    25.00,-999.000,9,-999.0000,9,-999.000,9,   0.2021,2, -999.00,9,  -999.0,9,  -999.0,-999.000,9, -999.00,9,-999.000,9,   39.72,2,   35.22,2, -66.9998,-163.9443,-999.000,     -999.0,    34.8547,3,     -999.0,9,     -999.0,9,-999.0000,9,-999.0000,9,-999.0000,9,-999.0000,9,-999.0000,9,-999.0000,9,-999.0000,9,-999.0000,9,-999.0000,9,-999.0000,-999.000,  -0.0500,     -999.0,     -999.0,9,     -999.0,9,     -999.0,9,     -999.0,9,     -999.0,20110307,       1236
320620110219,       S04P,      34,          1,          2,          2,2,20110307,       1229,   -66.9998,  -163.9443,       3870,  3885.9,   0.2185,  34.6921,2,  34.6917,2,    220.0,2,   220.4,2,  122.73,2,   32.56,2,    0.00,2,    2.22,2,   0.927,2,   0.459,2,   0.062,2,   0.1480,2,  2259.9,2,  2355.5,6,   7.5921,2,    25.00,-999.000,9,-999.0000,9,-999.000,9,   0.2180,2, -999.00,9,  -999.0,9,  -999.0,-999.000,9, -999.00,9,-999.000,9,   40.37,2,   35.25,2, -66.9998,-163.9443,-999.000,     -999.0,    34.8553,2,     -999.0,9,     -999.0,9,-999.0000,9,-999.0000,9,-999.0000,9,-999.0000,9,-999.0000,9,-999.0000,9,-999.0000,9,-999.0000,9,-999.0000,9,-999.0000,-999.000,  -0.0526,     -999.0,     -999.0,9,     -999.0,9,     -999.0,9,     -999.0,9,     -999.0,20110307,       1231
320620110219,       S04P,      34,          1,          1,          1,2,20110307,       1229,   -66.9998,  -163.9443,       3870,  3935.3,   0.2229,  34.6921,2,  34.6929,2,    219.5,2,   220.3,2,  122.54,2,   32.60,2,    0.00,2,    2.22,2,   0.957,2,   0.482,2,   0.063,2,   0.1970,2,  2258.2,2,  2355.3,2,   7.5931,6,    25.00,-999.000,9,-999.0000,9,-999.000,9,   0.2224,2, -999.00,9,  -999.0,9,  -999.0,-999.000,9, -999.00,9,-999.000,9,   40.36,2,   35.30,2, -66.9998,-163.9443,-999.000,     -999.0,    34.8565,2,     -999.0,9,     -999.0,9,-999.0000,9,-999.0000,9,-999.0000,9,-999.0000,9,-999.0000,9,-999.0000,9,-999.0000,9,-999.0000,9,-999.0000,9,-999.0000,-999.000,  -0.0533,     -999.0,     -999.0,9,     -999.0,9,     -999.0,9,     -999.0,9,     -999.0,20110307,       1229