BOTTLE,20220813CCHSIOAMB
EXPOCODE,SECT_ID,STNNBR,CASTNO,SAMPNO,BTLNBR,BTLNBR_FLAG_W,DATE,TIME,LATITUDE,LONGITUDE,DEPTH,CTDPRS,CTDTMP,CTDSAL,CTDSAL_FLAG_W,SALNTY,SALNTY_FLAG_W,CTDOXY,CTDOXY_FLAG_W,OXYGEN,OXYGEN_FLAG_W,SILCAT,SILCAT_FLAG_W,NITRAT,NITRAT_FLAG_W,NITRIT,NITRIT_FLAG_W,PHSPHT,PHSPHT_FLAG_W,CFC-11,CFC-11_FLAG_W,CFC-12,CFC-12_FLAG_W,CFC113,CFC113_FLAG_W,SF6,SF6_FLAG_W,TCARBN,TCARBN_FLAG_W,ALKALI,ALKALI_FLAG_W,PH_TOT,PH_TOT_FLAG_W,PH_TMP,TRITUM,TRITUM_FLAG_W,HELIUM,HELIUM_FLAG_W,DELHE3,DELHE3_FLAG_W,REFTMP,REFTMP_FLAG_W,DELC13,DELC13_FLAG_W,DELC14,DELC14_FLAG_W,C14ERR,NEON,NEON_FLAG_W,DELO18,DELO18_FLAG_W,POC,POC_FLAG_W,DOC,DOC_FLAG_W,TDN,TDN_FLAG_W,BTL_LAT,BTL_LON,TRITER,NEONER,SALTREF,SALTREF_FLAG_W,PIGMENTS,PIGMENTS_FLAG_W,LAB_DEN,LAB_DEN_FLAG_W,CDOM325,CDOM325_FLAG_W,CDOM340,CDOM340_FLAG_W,CDOM380,CDOM380_FLAG_W,CDOM412,CDOM412_FLAG_W,CDOM443,CDOM443_FLAG_W,CDOM490,CDOM490_FLAG_W,CDOM555,CDOM555_FLAG_W,CDOMSL,CDOMSL_FLAG_W,CDOMSN,CDOMSN_FLAG_W,HELIER,DELHER,THETA,LDEO_SAMPNO,ABSORBTION,ABSORBTION_FLAG_W,IMAGE_COUNT,IMAGE_COUNT_FLAG_W,CYTO_COUNT,CYTO_COUNT_FLAG_W,DELD,DELD_FLAG_W,DELDERR,BTL_DATE,BTL_TIME
,,,,,,,,,,,METERS,DBAR,ITS-90,PSS-78,,PSS-78,,UMOL/KG,,UMOL/KG,,UMOL/KG,,UMOL/KG,,UMOL/KG,,UMOL/KG,,PMOL/KG,,PMOL/KG,,PMOL/KG,,FMOL/KG,,UMOL/KG,,UMOL/KG,,,,DEG C,TU,,NMOL/KG,,PERCNT,,DEG C,,/MILLE,,/MILLE,,/MILLE,NMOL/KG,,/MILLE,,UG/KG,,UMOL/KG,,UMOL/KG,,,,TU,NMOL/KG,G/KG,,,,,,1/M,,1/M,,1/M,,1/M,,1/M,,1/M,,1/M,,1/NM,,1/NM,,NMOL/KG,PERCNT,DEG C,,,,,,,,/MILLE,,/MILLE,,
320620110219,       S04P,     105,          1,         36,         36,9,20110404,       0738,   -67.0008,  -134.7005,       4631,     5.0,  -0.9208,  33.5476,2,-999.0000,9,   -999.0,5,  -999.0,9, -999.00,9, -999.00,9, -999.00,9, -999.00,9,-999.000,9,-999.000,9,-999.000,9,-999.0000,9,  -999.0,9,  -999.0,9,-999.0000,9,  -999.00,-999.000,9,-999.0000,9,-999.000,9,  -0.9204,2, -999.00,9,  -999.0,9,  -999.0,-999.000,9, -999.00,9,-999.000,9, -999.00,9, -999.00,9, -67.0008,-134.7005,-999.000,     -999.0,     -999.0,9,     -999.0,9,     -999.0,9,-999.0000,9,-999.0000,9,-999.0000,9,-999.0000,9,-999.0000,9,-999.0000,9,-999.0000,9,-999.0000,9,-999.0000,9,-999.0000,-999.000,  -0.9209,     -999.0,     -999.0,9,     -999.0,9,     -999.0,9,     -999.0,9,     -999.0,20110404,       0928
320620110219,       S04P,     105,          1,         35,         35,2,20110404,       0738,   -67.0008,  -134.7005,       4631,    19.9,  -0.9202,  33.5481,2,  33.5483,2,    348.7,2,   348.2,2,   26.16,2,   24.60,2,    0.21,2,    1.63,2,   6.150,2,   3.400,2,   0.614,2,   2.7430,2,  2142.6,2,  2271.1,6,   7.7033,2,    25.00,-999.000,9,-999.0000,9,-999.000,9,  -0.9200,2, -999.00,9,  -999.0,9,  -999.0,-999.000,9, -999.00,9,-999.000,9,   44.68,2,   28.60,2, -67.0008,-134.7005,-999.000,     -999.0,    33.7065,2,     -999.0,9,     -999.0,9,-999.0000,9,-999.0000,9,-999.0000,9,-999.0000,9,-999.0000,9,-999.0000,9,-999.0000,9,-999.0000,9,-999.0000,9,-999.0000,-999.000,  -0.9207,     -999.0,     -999.0,9,     -999.0,9,     -999.0,9,     -999.0,9,     -999.0,20110404,       0927
320620110219,       S04P,     105,          1,         34,         34,2,20110404,       0738,   -67.0008,  -134.7005,       4631,    40.1,  -0.9496,  33.5684,2,  33.5669,2,    349.4,2,   346.5,2,   27.16,2,   24.84,2,    0.21,2,    1.67,2,   6.150,2,   3.392,2,   0.614,2,   2.7300,2,  2145.3,2,  2272.2,2,   7.6992,6,    25.00,-999.000,9,-999.0000,9,-999.000,9,  -0.9498,2, -999.00,9,  -999.0,9,  -999.0,-999.000,9, -999.00,9,-999.000,9,   44.55,2,   29.38,2, -67.0008,-134.7005,-999.000,     -999.0,    33.7252,2,     -999.0,9,     -999.0,9,-999.0000,9,-999.0000,9,-999.0000,9,-999.0000,9,-999.0000,9,-999.0000,9,-999.0000,9,-999.0000,9,-999.0000,9,-999.0000,-999.000,  -0.9506,     -999.0,     -999.0,9,     -999.0,9,     -999.0,9,     -999.0,9,     -999.0,20110404,       0926
320620110219,       S04P,     105,          1,         33,         33,2,20110404,       0738,   -67.0008,  -134.7005,       4631,    64.8,  -1.6522,  33.8879,2,  33.8967,2,    333.1,2,   324.4,2,   43.41,2,   28.74,2,    0.20,2,    2.02,2,   5.641,2,   3.080,2,   0.558,2,   2.4930,2,  2182.8,6,  2290.8,2,   7.6352,2,    25.00,-999.000,9,-999.0000,9,-999.000,9,  -1.6515,2, -999.00,9,  -999.0,9,  -999.0,-999.000,9, -999.00,9,-999.000,9,   43.65,2,   33.04,2, -67.0008,-134.7005,-999.000,     -999.0,    34.0565,2,     -999.0,9,     -999.0,9,-999.0000,9,-999.0000,9,-999.0000,9,-999.0000,9,-999.0000,9,-999.0000,9,-999.0000,9,-999.0000,9,-999.0000,9,-999.0000,-999.000,  -1.6535,     -999.0,     -999.0,9,     -999.0,9,     -999.0,9,     -999.0,9,     -999.0,20110404,       0925
320620110219,       S04P,     105,          1,         32,         32,2,20110404,       0738,   -67.0008,  -134.7005,       4631,    89.8,  -1.5964,  33.9563,2,  33.9541,2,    318.2,2,   316.8,2,   45.02,2,   29.57,2,    0.21,2,    2.05,2,   5.476,2,   2.996,2,   0.543,2,   2.3980,2,  2188.9,2,  2294.5,2,   7.6288,2,    25.00,-999.000,9,-999.0000,9,-999.000,9,  -1.5944,2, -999.00,9,  -999.0,9,  -999.0,-999.000,9, -999.00,9,-999.000,9,   42.56,2,   33.13,2, -67.0008,-134.7005,-999.000,     -999.0,    34.1143,2,     -999.0,9,     -999.0,9,-999.0000,9,-999.0000,9,-999.0000,9,-999.0000,9,-999.0000,9,-999.0000,9,-999.0000,9,-999.0000,9,-999.0000,9,-999.0000,-999.000,  -1.5983,     -999.0,     -999.0,9,     -999.0,9,     -999.0,9,     -999.0,9,     -999.0,20110404,       0923
320620110219,       S04P,     105,          1,         31,         31,2,20110404,       0738,   -67.0008,  -134.7005,       4631,   134.9,  -0.5081,  34.1423,2,  34.1431,2,    290.7,2,   276.1,2,   53.75,2,   31.57,2,    0.00,2,    2.17,2,   4.277,2,   2.325,2,   0.415,2,   1.8270,2,  2211.7,2,  2306.1,2,   7.5949,2,    25.00,-999.000,9,-999.0000,9,-999.000,9,  -0.5198,2, -999.00,9,  -999.0,9,  -999.0,-999.000,9, -999.00,9,-999.000,9,   41.13,2,   34.82,2, -67.0008,-134.7005,-999.000,     -999.0,    34.3041,2,     -999.0,9,     -999.0,9,-999.0000,9,-999.0000,9,-999.0000,9,-999.0000,9,-999.0000,9,-999.0000,9,-999.0000,9,-999.0000,9,-999.0000,9,-999.0000,-999.000,  -0.5123,     -999.0,     -999.0,9,     -999.0,9,     -999.0,9,     -999.0,9,     -999.0,20110404,       0922
320620110219,       S04P,     105,          1,         30,         30,2,20110404,       0738,   -67.0008,  -134.7005,       4631,   185.0,   1.3612,  34.4463,2,  34.4442,2,    215.6,2,   203.8,2,   70.49,2,   34.11,2,    0.00,2,    2.33,2,   1.964,2,   1.070,2,   0.171,2,   0.8330,2,  2246.1,2,  2325.5,2,   7.5465,2,    25.00,-999.000,9,-999.0000,9,-999.000,9,   1.3596,2, -999.00,9,  -999.0,9,  -999.0,-999.000,9, -999.00,9,-999.000,9,   40.61,2,   36.84,2, -67.0008,-134.7005,-999.000,     -999.0,    34.6066,2,     -999.0,9,     -999.0,9,-999.0000,9,-999.0000,9,-999.0000,9,-999.0000,9,-999.0000,9,-999.0000,9,-999.0000,9,-999.0000,9,-999.0000,9,-999.0000,-999.000,   1.3523,     -999.0,     -999.0,9,     -999.0,9,     -999.0,9,     -999.0,9,     -999.0,20110404,       0920
320620110219,       S04P,     105,          1,         29,         29,2,20110404,       0738,   -67.0008,  -134.7005,       4631,   234.5,   1.7826,  34.5451,2,  34.5420,2,    188.0,2,   186.9,2,   75.40,2,   34.35,2,    0.00,2,    2.35,2,   1.262,2,   0.672,2,   0.108,2,   0.5330,2,  2252.6,2,  2331.9,2,   7.5442,2,    25.00,-999.000,9,-999.0000,9,-999.000,9,   1.7819,2, -999.00,9,  -999.0,9,  -999.0,-999.000,9, -999.00,9,-999.000,9,   40.61,2,   37.14,2, -67.0008,-134.7005,-999.000,     -999.0,    34.7049,2,     -999.0,9,     -999.0,9,-999.0000,9,-999.0000,9,-999.0000,9,-999.0000,9,-999.0000,9,-999.0000,9,-999.0000,9,-999.0000,9,-999.0000,9,-999.0000,-999.000,   1.7704,     -999.0,     -999.0,9,     -999.0,9,     -999.0,9,     -999.0,9,     -999.0,20110404,       0918
320620110219,       S04P,     105,          1,         28,         28,2,20110404,       0738,   -67.0008,  -134.7005,       4631,   284.7,   1.9553,  34.6025,2,  34.6012,2,    178.5,2,   177.6,2,   78.05,2,   33.94,2,    0.00,2,    2.33,2,   0.812,2,   0.421,2,   0.069,2,   0.2940,2,  2256.1,2,  2337.7,2,   7.5473,2,    25.00,-999.000,9,-999.0000,9,-999.000,9,   1.9543,2, -999.00,9,  -999.0,9,  -999.0,-999.000,9, -999.00,9,-999.000,9,   41.00,2,   36.75,2, -67.0009,-134.7005,-999.000,     -999.0,    34.7644,2,     -999.0,9,     -999.0,9,-999.0000,9,-999.0000,9,-999.0000,9,-999.0000,9,-999.0000,9,-999.0000,9,-999.0000,9,-999.0000,9,-999.0000,9,-999.0000,-999.000,   1.9400,     -999.0,     -999.0,9,     -999.0,9,     -999.0,9,     -999.0,9,     -999.0,20110404,       0917
320620110219,       S04P,     105,          1,         27,         27,2,20110404,       0738,   -67.0008,  -134.7005,       4631,   335.2,   2.0121,  34.6362,2,  34.6360,2,    175.2,2,   175.6,2,   79.51,2,   33.58,2,    0.00,2,    2.30,2,   0.611,2,   0.309,2,   0.043,2,   0.2120,2,  2255.7,2,  2340.6,2,   7.5545,2,    25.00,-999.000,9,-999.0000,9,-999.000,9,   2.0128,2, -999.00,9,  -999.0,9,  -999.0,-999.000,9, -999.00,9,-999.000,9,   40.36,2,   36.34,2, -67.0008,-134.7005,-999.000,     -999.0,    34.7993,2,     -999.0,9,     -999.0,9,-999.0000,9,-999.0000,9,-999.0000,9,-999.0000,9,-999.0000,9,-999.0000,9,-999.0000,9,-999.0000,9,-999.0000,9,-999.0000,-999.000,   1.9937,     -999.0,     -999.0,9,     -999.0,9,     -999.0,9,     -999.0,9,     -999.0,20110404,       0915
320620110219,       S04P,     105,          1,         26,         26,2,20110404,       0738,   -67.0008,  -134.7005,       4631,   384.9,   2.0352,  34.6602,2,  34.6599,2,    174.9,2,   175.1,2,   80.56,2,   33.06,2,    0.00,2,    2.28,2,-999.000,9,-999.000,9,-999.000,9,-999.0000,9,  2256.1,2,  2342.5,2,   7.5590,2,    25.00,-999.000,9,-999.0000,9,-999.000,9,   2.0348,2, -999.00,9,  -999.0,9,  -999.0,-999.000,9, -999.00,9,-999.000,9,   40.46,2,   35.97,2, -67.0008,-134.7005,-999.000,     -999.0,    34.8233,2,     -999.0,9,     -999.0,9,-999.0000,9,-999.0000,9,-999.0000,9,-999.0000,9,-999.0000,9,-999.0000,9,-999.0000,9,-999.0000,9,-999.0000,9,-999.0000,-999.000,   2.0138,     -999.0,     -999.0,9,     -999.0,9,     -999.0,9,     -999.0,9,     -999.0,20110404,       0913
320620110219,       S04P,     105,          1,         25,         25,2,20110404,       0738,   -67.0008,  -134.7005,       4631,   463.1,   1.9945,  34.6858,2,  34.6856,2,    177.7,2,   178.1,2,   82.74,2,   32.52,2,    0.00,2,    2.24,2,   0.374,2,   0.191,2,   0.023,2,   0.1210,2,  2255.9,2,  2345.2,2,   7.5691,2,    25.00,-999.000,9,-999.0000,9,-999.000,9,   1.9938,2, -999.00,9,  -999.0,9,  -999.0,-999.000,9, -999.00,9,-999.000,9,   39.77,2,   34.81,2, -67.0008,-134.7005,-999.000,     -999.0,    34.8491,2,     -999.0,9,     -999.0,9,-999.0000,9,-999.0000,9,-999.0000,9,-999.0000,9,-999.0000,9,-999.0000,9,-999.0000,9,-999.0000,9,-999.0000,9,-999.0000,-999.000,   1.9686,     -999.0,     -999.0,9,     -999.0,9,     -999.0,9,     -999.0,9,     -999.0,20110404,       0911
320620110219,       S04P,     105,          1,         24,         24,2,20110404,       0738,   -67.0008,  -134.7005,       4631,   564.0,   1.9280,  34.7062,2,  34.7052,2,    181.7,2,   180.9,2,   84.80,2,   32.02,2,    0.00,2,    2.23,2,-999.000,9,-999.000,9,-999.000,9,-999.0000,9,  2253.9,2,  2347.2,2,   7.5794,2,    25.00,-999.000,9,-999.0000,9,-999.000,9,   1.9280,2, -999.00,9,  -999.0,9,  -999.0,-999.000,9, -999.00,9,-999.000,9,   40.21,2,   34.68,2, -67.0008,-134.7005,-999.000,     -999.0,    34.8688,2,     -999.0,9,     -999.0,9,-999.0000,9,-999.0000,9,-999.0000,9,-999.0000,9,-999.0000,9,-999.0000,9,-999.0000,9,-999.0000,9,-999.0000,9,-999.0000,-999.000,   1.8963,     -999.0,     -999.0,9,     -999.0,9,     -999.0,9,     -999.0,9,     -999.0,20110404,       0908
320620110219,       S04P,     105,          1,         23,         23,2,20110404,       0738,   -67.0008,  -134.7005,       4631,   663.1,   1.8591,  34.7186,2,  34.7187,2,    184.8,2,   184.7,2,   87.16,2,   31.72,2,    0.00,2,    2.20,2,   0.273,2,   0.135,2,   0.015,2,   0.1050,2,  2253.4,2,  2349.6,2,   7.5870,2,    25.00,-999.000,9,-999.0000,9,-999.000,9,   1.8589,2, -999.00,9,  -999.0,9,  -999.0,-999.000,9, -999.00,9,-999.000,9,   40.08,2,   34.35,2, -67.0008,-134.7005,-999.000,     -999.0,    34.8824,2,     -999.0,9,     -999.0,9,-999.0000,9,-999.0000,9,-999.0000,9,-999.0000,9,-999.0000,9,-999.0000,9,-999.0000,9,-999.0000,9,-999.0000,9,-999.0000,-999.000,   1.8216,     -999.0,     -999.0,9,     -999.0,9,     -999.0,9,     -999.0,9,     -999.0,20110404,       0906
320620110219,       S04P,     105,          1,         22,         22,2,20110404,       0738,   -67.0008,  -134.7005,       4631,   765.3,   1.7789,  34.7267,2,  34.7268,2,    187.8,2,   187.5,2,   89.50,2,   31.46,2,    0.00,2,    2.18,2,-999.000,9,-999.000,9,-999.000,9,-999.0000,9,  -999.0,9,  -999.0,9,-999.0000,9,  -999.00,-999.000,9,-999.0000,9,-999.000,9,   1.7788,2, -999.00,9,  -999.0,9,  -999.0,-999.000,9, -999.00,9,-999.000,9,   39.81,2,   34.36,2, -67.0008,-134.7006,-999.000,     -999.0,    34.8905,2,     -999.0,9,     -999.0,9,-999.0000,9,-999.0000,9,-999.0000,9,-999.0000,9,-999.0000,9,-999.0000,9,-999.0000,9,-999.0000,9,-999.0000,9,-999.0000,-999.000,   1.7355,     -999.0,     -999.0,9,     -999.0,9,     -999.0,9,     -999.0,9,     -999.0,20110404,       0903
320620110219,       S04P,     105,          1,         21,         21,2,20110404,       0738,   -67.0008,  -134.7005,       4631,   865.9,   1.6922,  34.7310,2,  34.7309,2,    190.2,2,   189.1,2,   92.16,2,   31.31,2,    0.00,2,    2.18,2,   0.212,2,   0.106,2,   0.013,2,   0.0840,2,  2252.7,2,  2353.7,2,   7.5959,2,    25.00,-999.000,9,-999.0000,9,-999.000,9,   1.6950,2, -999.00,9,  -999.0,9,  -999.0,-999.000,9, -999.00,9,-999.000,9,   39.81,2,   34.13,2, -67.0008,-134.7005,-999.000,     -999.0,    34.8947,2,     -999.0,9,     -999.0,9,-999.0000,9,-999.0000,9,-999.0000,9,-999.0000,9,-999.0000,9,-999.0000,9,-999.0000,9,-999.0000,9,-999.0000,9,-999.0000,-999.000,   1.6430,     -999.0,     -999.0,9,     -999.0,9,     -999.0,9,     -999.0,9,     -999.0,20110404,       0901
320620110219,       S04P,     105,          1,         20,         20,2,20110404,       0738,   -67.0008,  -134.7005,       4631,   965.3,   1.6022,  34.7327,2,  34.7330,2,    191.7,2,   191.6,2,   94.49,2,   31.23,2,    0.00,2,    2.18,2,-999.000,9,-999.000,9,-999.000,9,-999.0000,9,  -999.0,9,  -999.0,9,-999.0000,9,  -999.00,-999.000,9,-999.0000,9,-999.000,9,   1.6021,2, -999.00,9,  -999.0,9,  -999.0,-999.000,9, -999.00,9,-999.000,9,   39.75,2,   33.94,2, -67.0008,-134.7005,-999.000,     -999.0,    34.8968,2,     -999.0,9,     -999.0,9,-999.0000,9,-999.0000,9,-999.0000,9,-999.0000,9,-999.0000,9,-999.0000,9,-999.0000,9,-999.0000,9,-999.0000,9,-999.0000,-999.000,   1.5472,     -999.0,     -999.0,9,     -999.0,9,     -999.0,9,     -999.0,9,     -999.0,20110404,       0858
320620110219,       S04P,     105,          1,         19,         19,2,20110404,       0738,   -67.0008,  -134.7005,       4631,  1065.4,   1.5226,  34.7330,2,  34.7330,2,    193.3,2,   193.1,2,   96.78,2,   31.29,2,    0.00,2,    2.18,2,   0.181,2,   0.087,2,   0.008,2,   0.0960,2,  2254.7,2,  2355.4,6,   7.5995,2,    25.00,-999.000,9,-999.0000,9,-999.000,9,   1.5226,2, -999.00,9,  -999.0,9,  -999.0,-999.000,9, -999.00,9,-999.000,9,   39.77,2,   33.83,2, -67.0008,-134.7006,-999.000,     -999.0,    34.8968,2,     -999.0,9,     -999.0,9,-999.0000,9,-999.0000,9,-999.0000,9,-999.0000,9,-999.0000,9,-999.0000,9,-999.0000,9,-999.0000,9,-999.0000,9,-999.0000,-999.000,   1.4617,     -999.0,     -999.0,9,     -999.0,9,     -999.0,9,     -999.0,9,     -999.0,20110404,       0856
320620110219,       S04P,     105,          1,         18,         18,2,20110404,       0738,   -67.0008,  -134.7005,       4631,  1164.3,   1.4371,  34.7322,2,  34.7325,2,    194.5,2,   193.6,2,   99.44,2,   31.45,2,    0.00,2,    2.18,2,-999.000,9,-999.000,9,-999.000,9,-999.0000,9,  -999.0,9,  -999.0,9,-999.0000,9,  -999.00,-999.000,9,-999.0000,9,-999.000,9,   1.4369,2, -999.00,9,  -999.0,9,  -999.0,-999.000,9, -999.00,9,-999.000,9,   39.61,2,   33.86,2, -67.0009,-134.7005,-999.000,     -999.0,    34.8962,2,     -999.0,9,     -999.0,9,-999.0000,9,-999.0000,9,-999.0000,9,-999.0000,9,-999.0000,9,-999.0000,9,-999.0000,9,-999.0000,9,-999.0000,9,-999.0000,-999.000,   1.3704,     -999.0,     -999.0,9,     -999.0,9,     -999.0,9,     -999.0,9,     -999.0,20110404,       0853
320620110219,       S04P,     105,          1,         17,         17,2,20110404,       0738,   -67.0008,  -134.7005,       4631,  1265.2,   1.3613,  34.7308,2,  34.7309,2,    195.3,2,   195.5,2,  101.82,2,   31.59,2,    0.00,2,    2.19,2,   0.153,2,   0.075,2,   0.006,2,   0.0560,2,  2256.7,2,  2358.3,2,   7.5996,6,    25.00,-999.000,9,-999.0000,9,-999.000,9,   1.3608,2, -999.00,9,  -999.0,9,  -999.0,-999.000,9, -999.00,9,-999.000,9,   39.27,2,   33.74,2, -67.0008,-134.7005,-999.000,     -999.0,    34.8946,2,     -999.0,9,     -999.0,9,-999.0000,9,-999.0000,9,-999.0000,9,-999.0000,9,-999.0000,9,-999.0000,9,-999.0000,9,-999.0000,9,-999.0000,9,-999.0000,-999.000,   1.2885,     -999.0,     -999.0,9,     -999.0,9,     -999.0,9,     -999.0,9,     -999.0,20110404,       0850
320620110219,       S04P,     105,          1,         16,         16,2,20110404,       0738,   -67.0008,  -134.7005,       4631,  1366.1,   1.2887,  34.7288,2,  34.7291,2,    196.0,2,   195.8,2,  103.99,2,   31.65,2,    0.00,2,    2.19,2,-999.000,9,-999.000,9,-999.000,9,-999.0000,9,  -999.0,9,  -999.0,9,-999.0000,9,  -999.00,-999.000,9,-999.0000,9,-999.000,9,   1.2888,2, -999.00,9,  -999.0,9,  -999.0,-999.000,9, -999.00,9,-999.000,9,   39.78,2,   34.13,2, -67.0008,-134.7005,-999.000,     -999.0,    34.8929,2,     -999.0,9,     -999.0,9,-999.0000,9,-999.0000,9,-999.0000,9,-999.0000,9,-999.0000,9,-999.0000,9,-999.0000,9,-999.0000,9,-999.0000,9,-999.0000,-999.000,   1.2097,     -999.0,     -999.0,9,     -999.0,9,     -999.0,9,     -999.0,9,     -999.0,20110404,       0848
320620110219,       S04P,     105,          1,         15,         15,2,20110404,       0738,   -67.0008,  -134.7005,       4631,  1464.8,   1.2251,  34.7266,2,  34.7267,2,    197.2,2,   197.1,2,  106.09,2,   31.80,2,    0.00,2,    2.20,2,   0.139,2,   0.073,2,   0.008,2,   0.0620,2,  2258.7,6,  2360.5,2,   7.6018,2,    25.00,-999.000,9,-999.0000,9,-999.000,9,   1.2253,2, -999.00,9,  -999.0,9,  -999.0,-999.000,9, -999.00,9,-999.000,9,   39.74,2,   34.27,2, -67.0008,-134.7005,-999.000,     -999.0,    34.8905,2,     -999.0,9,     -999.0,9,-999.0000,9,-999.0000,9,-999.0000,9,-999.0000,9,-999.0000,9,-999.0000,9,-999.0000,9,-999.0000,9,-999.0000,9,-999.0000,-999.000,   1.1400,     -999.0,     -999.0,9,     -999.0,9,     -999.0,9,     -999.0,9,     -999.0,20110404,       0845
320620110219,       S04P,     105,          1,         14,         14,2,20110404,       0738,   -67.0008,  -134.7005,       4631,  1564.7,   1.1560,  34.7243,2,  34.7242,2,    198.1,2,   198.1,2,  108.76,2,   31.89,2,    0.00,2,    2.21,2,-999.000,9,-999.000,9,-999.000,9,-999.0000,9,  -999.0,9,  -999.0,9,-999.0000,9,  -999.00,-999.000,9,-999.0000,9,-999.000,9,   1.1559,2, -999.00,9,  -999.0,9,  -999.0,-999.000,9, -999.00,9,-999.000,9,   39.78,2,   34.56,2, -67.0008,-134.7005,-999.000,     -999.0,    34.8879,2,     -999.0,9,     -999.0,9,-999.0000,9,-999.0000,9,-999.0000,9,-999.0000,9,-999.0000,9,-999.0000,9,-999.0000,9,-999.0000,9,-999.0000,9,-999.0000,-999.000,   1.0646,     -999.0,     -999.0,9,     -999.0,9,     -999.0,9,     -999.0,9,     -999.0,20110404,       0843