BOTTLE,20220813CCHSIOAMB
EXPOCODE,SECT_ID,STNNBR,CASTNO,SAMPNO,BTLNBR,BTLNBR_FLAG_W,DATE,TIME,LATITUDE,LONGITUDE,DEPTH,CTDPRS,CTDTMP,CTDSAL,CTDSAL_FLAG_W,SALNTY,SALNTY_FLAG_W,CTDOXY,CTDOXY_FLAG_W,OXYGEN,OXYGEN_FLAG_W,SILCAT,SILCAT_FLAG_W,NITRAT,NITRAT_FLAG_W,NITRIT,NITRIT_FLAG_W,PHSPHT,PHSPHT_FLAG_W,CFC-11,CFC-11_FLAG_W,CFC-12,CFC-12_FLAG_W,CFC113,CFC113_FLAG_W,SF6,SF6_FLAG_W,TCARBN,TCARBN_FLAG_W,ALKALI,ALKALI_FLAG_W,PH_TOT,PH_TOT_FLAG_W,PH_TMP,TRITUM,TRITUM_FLAG_W,HELIUM,HELIUM_FLAG_W,DELHE3,DELHE3_FLAG_W,REFTMP,REFTMP_FLAG_W,DELC13,DELC13_FLAG_W,DELC14,DELC14_FLAG_W,C14ERR,NEON,NEON_FLAG_W,DELO18,DELO18_FLAG_W,POC,POC_FLAG_W,DOC,DOC_FLAG_W,TDN,TDN_FLAG_W,BTL_LAT,BTL_LON,TRITER,NEONER,SALTREF,SALTREF_FLAG_W,PIGMENTS,PIGMENTS_FLAG_W,LAB_DEN,LAB_DEN_FLAG_W,CDOM325,CDOM325_FLAG_W,CDOM340,CDOM340_FLAG_W,CDOM380,CDOM380_FLAG_W,CDOM412,CDOM412_FLAG_W,CDOM443,CDOM443_FLAG_W,CDOM490,CDOM490_FLAG_W,CDOM555,CDOM555_FLAG_W,CDOMSL,CDOMSL_FLAG_W,CDOMSN,CDOMSN_FLAG_W,HELIER,DELHER,THETA,LDEO_SAMPNO,ABSORBTION,ABSORBTION_FLAG_W,IMAGE_COUNT,IMAGE_COUNT_FLAG_W,CYTO_COUNT,CYTO_COUNT_FLAG_W,DELD,DELD_FLAG_W,DELDERR,BTL_DATE,BTL_TIME
,,,,,,,,,,,METERS,DBAR,ITS-90,PSS-78,,PSS-78,,UMOL/KG,,UMOL/KG,,UMOL/KG,,UMOL/KG,,UMOL/KG,,UMOL/KG,,PMOL/KG,,PMOL/KG,,PMOL/KG,,FMOL/KG,,UMOL/KG,,UMOL/KG,,,,DEG C,TU,,NMOL/KG,,PERCNT,,DEG C,,/MILLE,,/MILLE,,/MILLE,NMOL/KG,,/MILLE,,UG/KG,,UMOL/KG,,UMOL/KG,,,,TU,NMOL/KG,G/KG,,,,,,1/M,,1/M,,1/M,,1/M,,1/M,,1/M,,1/M,,1/NM,,1/NM,,NMOL/KG,PERCNT,DEG C,,,,,,,,/MILLE,,/MILLE,,
320620110219,       P15S,      84,          1,         35,         35,2,20110324,       0948,   -73.9191,  -172.9860,       2667,     5.4,  -1.3155,  33.9725,2,  33.9719,2,    339.3,2,   341.0,2,   58.67,2,   25.76,2,    0.08,2,    1.84,2,   6.048,2,   3.302,2,   0.597,2,   2.4990,2,  2180.2,2,  2303.8,2,   7.6746,2,    25.00,-999.000,9,-999.0000,9,-999.000,9,  -1.3151,2, -999.00,9,  -999.0,9,  -999.0,-999.000,9, -999.00,9,-999.000,9, -999.00,9, -999.00,9, -73.9192,-172.9860,-999.000,     -999.0,    34.1320,2,     -999.0,9,     -999.0,9,-999.0000,9,-999.0000,9,-999.0000,9,-999.0000,9,-999.0000,9,-999.0000,9,-999.0000,9,-999.0000,9,-999.0000,9,-999.0000,-999.000,  -1.3156,     -999.0,     -999.0,9,     -999.0,9,     -999.0,9,     -999.0,9,     -999.0,20110324,       1104
320620110219,       P15S,      84,          1,         34,         34,2,20110324,       0948,   -73.9191,  -172.9860,       2667,    34.6,  -1.3463,  33.9748,2,  33.9730,2,    340.6,2,   341.1,2,   58.92,2,   25.88,2,    0.08,2,    1.85,2,   6.058,2,   3.298,2,   0.599,2,   2.4910,2,  2179.9,6,  2299.4,2,   7.6704,2,    25.00,-999.000,9,-999.0000,9,-999.000,9,  -1.3459,2, -999.00,9,  -999.0,9,  -999.0,-999.000,9, -999.00,9,-999.000,9, -999.00,9, -999.00,9, -73.9191,-172.9859,-999.000,     -999.0,    34.1332,2,     -999.0,9,     -999.0,9,-999.0000,9,-999.0000,9,-999.0000,9,-999.0000,9,-999.0000,9,-999.0000,9,-999.0000,9,-999.0000,9,-999.0000,9,-999.0000,-999.000,  -1.3471,     -999.0,     -999.0,9,     -999.0,9,     -999.0,9,     -999.0,9,     -999.0,20110324,       1103
320620110219,       P15S,      84,          1,         33,         33,2,20110324,       0948,   -73.9191,  -172.9860,       2667,    59.7,  -1.4494,  33.9812,2,  33.9812,2,    340.0,2,   338.9,2,   58.68,2,   26.44,2,    0.09,2,    1.88,2,-999.000,9,-999.000,9,-999.000,9,-999.0000,9,  2182.6,2,  2299.0,2,   7.6649,6,    25.00,-999.000,9,-999.0000,9,-999.000,9,  -1.4496,2, -999.00,9,  -999.0,9,  -999.0,-999.000,9, -999.00,9,-999.000,9, -999.00,9, -999.00,9, -73.9191,-172.9859,-999.000,     -999.0,    34.1414,2,     -999.0,9,     -999.0,9,-999.0000,9,-999.0000,9,-999.0000,9,-999.0000,9,-999.0000,9,-999.0000,9,-999.0000,9,-999.0000,9,-999.0000,9,-999.0000,-999.000,  -1.4507,     -999.0,     -999.0,9,     -999.0,9,     -999.0,9,     -999.0,9,     -999.0,20110324,       1101
320620110219,       P15S,      84,          1,         32,         32,2,20110324,       0948,   -73.9191,  -172.9860,       2667,    85.2,  -1.6607,  34.1415,2,  34.1406,2,    291.1,2,   293.4,2,   63.64,2,   29.55,2,    0.12,2,    2.06,2,   4.604,2,   2.487,2,   0.450,2,   1.7730,2,  2206.3,2,  2309.4,2,   7.6137,2,    25.00,-999.000,9,-999.0000,9,-999.000,9,  -1.6602,2, -999.00,9,  -999.0,9,  -999.0,-999.000,9, -999.00,9,-999.000,9, -999.00,9, -999.00,9, -73.9191,-172.9858,-999.000,     -999.0,    34.3016,2,     -999.0,9,     -999.0,9,-999.0000,9,-999.0000,9,-999.0000,9,-999.0000,9,-999.0000,9,-999.0000,9,-999.0000,9,-999.0000,9,-999.0000,9,-999.0000,-999.000,  -1.6625,     -999.0,     -999.0,9,     -999.0,9,     -999.0,9,     -999.0,9,     -999.0,20110324,       1100
320620110219,       P15S,      84,          1,         31,         31,2,20110324,       0948,   -73.9191,  -172.9860,       2667,   109.6,  -1.4565,  34.1932,2,  34.1860,2,    276.3,2,   281.2,2,   66.13,2,   30.42,2,    0.10,2,    2.11,2,   4.261,2,   2.282,2,   0.413,2,   1.6450,2,  2213.2,2,  2309.0,2,   7.6062,2,    25.00,-999.000,9,-999.0000,9,-999.000,9,  -1.4590,2, -999.00,9,  -999.0,9,  -999.0,-999.000,9, -999.00,9,-999.000,9, -999.00,9, -999.00,9, -73.9191,-172.9858,-999.000,     -999.0,    34.3472,2,     -999.0,9,     -999.0,9,-999.0000,9,-999.0000,9,-999.0000,9,-999.0000,9,-999.0000,9,-999.0000,9,-999.0000,9,-999.0000,9,-999.0000,9,-999.0000,-999.000,  -1.4590,     -999.0,     -999.0,9,     -999.0,9,     -999.0,9,     -999.0,9,     -999.0,20110324,       1059
320620110219,       P15S,      84,          1,         30,         30,2,20110324,       0948,   -73.9191,  -172.9860,       2667,   135.2,  -1.4146,  34.2281,2,  34.2269,2,    273.8,2,   279.4,2,   65.76,2,   30.55,2,    0.10,2,    2.12,2,-999.000,9,-999.000,9,-999.000,9,-999.0000,9,  2212.7,2,  2313.4,2,   7.6077,2,    25.00,-999.000,9,-999.0000,9,-999.000,9,  -1.4240,2, -999.00,9,  -999.0,9,  -999.0,-999.000,9, -999.00,9,-999.000,9, -999.00,9, -999.00,9, -73.9191,-172.9859,-999.000,     -999.0,    34.3883,2,     -999.0,9,     -999.0,9,-999.0000,9,-999.0000,9,-999.0000,9,-999.0000,9,-999.0000,9,-999.0000,9,-999.0000,9,-999.0000,9,-999.0000,9,-999.0000,-999.000,  -1.4178,     -999.0,     -999.0,9,     -999.0,9,     -999.0,9,     -999.0,9,     -999.0,20110324,       1057
320620110219,       P15S,      84,          1,         29,         29,2,20110324,       0948,   -73.9191,  -172.9860,       2667,   159.3,  -1.1442,  34.2633,2,  34.2639,2,    247.8,2,   268.7,2,   67.72,2,   31.04,2,    0.06,2,    2.14,2,   3.844,2,   2.052,2,   0.376,2,   1.4590,2,  2217.9,2,  2313.8,2,   7.5986,2,    25.00,-999.000,9,-999.0000,9,-999.000,9,  -1.1367,2, -999.00,9,  -999.0,9,  -999.0,-999.000,9, -999.00,9,-999.000,9, -999.00,9, -999.00,9, -73.9191,-172.9859,-999.000,     -999.0,    34.4254,2,     -999.0,9,     -999.0,9,-999.0000,9,-999.0000,9,-999.0000,9,-999.0000,9,-999.0000,9,-999.0000,9,-999.0000,9,-999.0000,9,-999.0000,9,-999.0000,-999.000,  -1.1484,     -999.0,     -999.0,9,     -999.0,9,     -999.0,9,     -999.0,9,     -999.0,20110324,       1056
320620110219,       P15S,      84,          1,         28,         28,2,20110324,       0948,   -73.9191,  -172.9860,       2667,   184.3,  -0.0923,  34.3835,2,  34.3810,2,    215.7,2,   234.8,2,   74.74,2,   32.18,2,    0.00,2,    2.22,2,   2.638,2,   1.398,2,   0.240,2,   1.0280,2,  2230.7,2,  2320.7,2,   7.5802,2,    25.00,-999.000,9,-999.0000,9,-999.000,9,  -0.0881,2, -999.00,9,  -999.0,9,  -999.0,-999.000,9, -999.00,9,-999.000,9, -999.00,9, -999.00,9, -73.9191,-172.9859,-999.000,     -999.0,    34.5431,2,     -999.0,9,     -999.0,9,-999.0000,9,-999.0000,9,-999.0000,9,-999.0000,9,-999.0000,9,-999.0000,9,-999.0000,9,-999.0000,9,-999.0000,9,-999.0000,-999.000,  -0.0989,     -999.0,     -999.0,9,     -999.0,9,     -999.0,9,     -999.0,9,     -999.0,20110324,       1055
320620110219,       P15S,      84,          1,         27,         27,2,20110324,       0948,   -73.9191,  -172.9860,       2667,   209.0,   0.7578,  34.4994,2,  34.4962,2,    201.2,2,   208.6,2,   80.49,2,   32.69,2,    0.00,2,    2.25,2,-999.000,9,-999.000,9,-999.000,9,-999.0000,9,  2242.1,2,  2333.0,2,   7.5690,2,    25.00,-999.000,9,-999.0000,9,-999.000,9,   0.7584,2, -999.00,9,  -999.0,9,  -999.0,-999.000,9, -999.00,9,-999.000,9, -999.00,9, -999.00,9, -73.9191,-172.9859,-999.000,     -999.0,    34.6589,2,     -999.0,9,     -999.0,9,-999.0000,9,-999.0000,9,-999.0000,9,-999.0000,9,-999.0000,9,-999.0000,9,-999.0000,9,-999.0000,9,-999.0000,9,-999.0000,-999.000,   0.7488,     -999.0,     -999.0,9,     -999.0,9,     -999.0,9,     -999.0,9,     -999.0,20110324,       1053
320620110219,       P15S,      84,          1,         26,         26,2,20110324,       0948,   -73.9191,  -172.9860,       2667,   235.0,   1.2888,  34.5962,2,  34.5942,2,    191.4,2,   191.6,2,   84.22,2,   32.82,2,    0.00,2,    2.27,2,   1.037,2,   0.545,2,   0.096,2,   0.3230,2,  2249.5,2,  2336.5,2,   7.5646,2,    25.00,-999.000,9,-999.0000,9,-999.000,9,   1.2892,2, -999.00,9,  -999.0,9,  -999.0,-999.000,9, -999.00,9,-999.000,9, -999.00,9, -999.00,9, -73.9191,-172.9859,-999.000,     -999.0,    34.7573,2,     -999.0,9,     -999.0,9,-999.0000,9,-999.0000,9,-999.0000,9,-999.0000,9,-999.0000,9,-999.0000,9,-999.0000,9,-999.0000,9,-999.0000,9,-999.0000,-999.000,   1.2775,     -999.0,     -999.0,9,     -999.0,9,     -999.0,9,     -999.0,9,     -999.0,20110324,       1052
320620110219,       P15S,      84,          1,         25,         25,2,20110324,       0948,   -73.9191,  -172.9860,       2667,   264.7,   1.4960,  34.6461,2,  34.6434,2,    185.9,2,   186.3,2,   86.47,2,   32.86,2,    0.00,2,    2.26,2,-999.000,9,-999.000,9,-999.000,9,-999.0000,9,  -999.0,9,  -999.0,9,-999.0000,9,  -999.00,-999.000,9,-999.0000,9,-999.000,9,   1.4971,2, -999.00,9,  -999.0,9,  -999.0,-999.000,9, -999.00,9,-999.000,9, -999.00,9, -999.00,9, -73.9191,-172.9859,-999.000,     -999.0,    34.8068,2,     -999.0,9,     -999.0,9,-999.0000,9,-999.0000,9,-999.0000,9,-999.0000,9,-999.0000,9,-999.0000,9,-999.0000,9,-999.0000,9,-999.0000,9,-999.0000,-999.000,   1.4828,     -999.0,     -999.0,9,     -999.0,9,     -999.0,9,     -999.0,9,     -999.0,20110324,       1051
320620110219,       P15S,      84,          1,         24,         24,2,20110324,       0948,   -73.9191,  -172.9860,       2667,   314.4,   1.6572,  34.6973,2,  34.6936,2,    183.0,2,   183.2,2,   88.94,2,   32.58,2,    0.00,2,    2.24,2,   0.450,2,   0.219,2,   0.029,2,   0.1440,2,  2254.1,2,  2346.5,2,   7.5716,2,    25.00,-999.000,9,-999.0000,9,-999.000,9,   1.6566,2, -999.00,9,  -999.0,9,  -999.0,-999.000,9, -999.00,9,-999.000,9, -999.00,9, -999.00,9, -73.9191,-172.9860,-999.000,     -999.0,    34.8572,2,     -999.0,9,     -999.0,9,-999.0000,9,-999.0000,9,-999.0000,9,-999.0000,9,-999.0000,9,-999.0000,9,-999.0000,9,-999.0000,9,-999.0000,9,-999.0000,-999.000,   1.6409,     -999.0,     -999.0,9,     -999.0,9,     -999.0,9,     -999.0,9,     -999.0,20110324,       1049
320620110219,       P15S,      84,          1,         23,         23,2,20110324,       0948,   -73.9191,  -172.9860,       2667,   364.3,   1.6636,  34.7128,2,  34.7118,2,    183.5,2,   183.0,2,   90.50,2,   32.27,2,    0.00,2,    2.22,2,-999.000,9,-999.000,9,-999.000,9,-999.0000,9,  2255.2,2,  2349.1,2,   7.5758,2,    25.00,-999.000,9,-999.0000,9,-999.000,9,   1.6635,2, -999.00,9,  -999.0,9,  -999.0,-999.000,9, -999.00,9,-999.000,9, -999.00,9, -999.00,9, -73.9191,-172.9860,-999.000,     -999.0,    34.8755,2,     -999.0,9,     -999.0,9,-999.0000,9,-999.0000,9,-999.0000,9,-999.0000,9,-999.0000,9,-999.0000,9,-999.0000,9,-999.0000,9,-999.0000,9,-999.0000,-999.000,   1.6445,     -999.0,     -999.0,9,     -999.0,9,     -999.0,9,     -999.0,9,     -999.0,20110324,       1047
320620110219,       P15S,      84,          1,         22,         22,2,20110324,       0948,   -73.9191,  -172.9860,       2667,   415.6,   1.6165,  34.7225,2,  34.7216,2,    184.1,2,   184.0,2,   92.92,2,   32.21,2,    0.00,2,    2.22,2,   0.275,2,   0.139,2,   0.018,2,   0.1050,2,  2254.9,2,  2351.0,2,   7.5804,6,    25.00,-999.000,9,-999.0000,9,-999.000,9,   1.6163,2, -999.00,9,  -999.0,9,  -999.0,-999.000,9, -999.00,9,-999.000,9, -999.00,9, -999.00,9, -73.9192,-172.9861,-999.000,     -999.0,    34.8853,2,     -999.0,9,     -999.0,9,-999.0000,9,-999.0000,9,-999.0000,9,-999.0000,9,-999.0000,9,-999.0000,9,-999.0000,9,-999.0000,9,-999.0000,9,-999.0000,-999.000,   1.5947,     -999.0,     -999.0,9,     -999.0,9,     -999.0,9,     -999.0,9,     -999.0,20110324,       1045
320620110219,       P15S,      84,          1,         21,         21,2,20110324,       0948,   -73.9191,  -172.9860,       2667,   464.4,   1.5777,  34.7263,2,  34.7255,2,    185.0,2,   185.0,2,   94.68,2,   32.13,2,    0.00,2,    2.21,2,-999.000,9,-999.000,9,-999.000,9,-999.0000,9,  -999.0,9,  -999.0,9,-999.0000,9,  -999.00,-999.000,9,-999.0000,9,-999.000,9,   1.5772,2, -999.00,9,  -999.0,9,  -999.0,-999.000,9, -999.00,9,-999.000,9, -999.00,9, -999.00,9, -73.9191,-172.9861,-999.000,     -999.0,    34.8892,2,     -999.0,9,     -999.0,9,-999.0000,9,-999.0000,9,-999.0000,9,-999.0000,9,-999.0000,9,-999.0000,9,-999.0000,9,-999.0000,9,-999.0000,9,-999.0000,-999.000,   1.5533,     -999.0,     -999.0,9,     -999.0,9,     -999.0,9,     -999.0,9,     -999.0,20110324,       1044
320620110219,       P15S,      84,          1,         20,         20,2,20110324,       0948,   -73.9191,  -172.9860,       2667,   534.5,   1.4913,  34.7296,2,  34.7282,2,    186.2,2,   187.1,2,   97.27,2,   32.06,2,    0.00,2,    2.21,2,   0.199,2,   0.095,2,   0.016,2,   0.0960,2,  2256.0,6,  2351.4,2,   7.5861,2,    25.00,-999.000,9,-999.0000,9,-999.000,9,   1.4909,2, -999.00,9,  -999.0,9,  -999.0,-999.000,9, -999.00,9,-999.000,9, -999.00,9, -999.00,9, -73.9192,-172.9861,-999.000,     -999.0,    34.8920,2,     -999.0,9,     -999.0,9,-999.0000,9,-999.0000,9,-999.0000,9,-999.0000,9,-999.0000,9,-999.0000,9,-999.0000,9,-999.0000,9,-999.0000,9,-999.0000,-999.000,   1.4633,     -999.0,     -999.0,9,     -999.0,9,     -999.0,9,     -999.0,9,     -999.0,20110324,       1042
320620110219,       P15S,      84,          1,         19,         19,2,20110324,       0948,   -73.9191,  -172.9860,       2667,   635.0,   1.3924,  34.7299,2,  34.7292,2,    187.4,2,   187.8,2,  101.35,2,   32.09,2,    0.00,2,    2.22,2,-999.000,9,-999.000,9,-999.000,9,-999.0000,9,  -999.0,9,  -999.0,9,-999.0000,9,  -999.00,-999.000,9,-999.0000,9,-999.000,9,   1.3926,2, -999.00,9,  -999.0,9,  -999.0,-999.000,9, -999.00,9,-999.000,9, -999.00,9, -999.00,9, -73.9192,-172.9861,-999.000,     -999.0,    34.8929,2,     -999.0,9,     -999.0,9,-999.0000,9,-999.0000,9,-999.0000,9,-999.0000,9,-999.0000,9,-999.0000,9,-999.0000,9,-999.0000,9,-999.0000,9,-999.0000,-999.000,   1.3591,     -999.0,     -999.0,9,     -999.0,9,     -999.0,9,     -999.0,9,     -999.0,20110324,       1039
320620110219,       P15S,      84,          1,         18,         18,2,20110324,       0948,   -73.9191,  -172.9860,       2667,   734.2,   1.2852,  34.7289,2,  34.7284,2,    189.3,2,   189.7,2,  104.62,2,   32.00,2,    0.00,2,    2.23,2,   0.119,2,   0.060,2,   0.008,2,   0.0440,2,  2257.7,2,  2352.1,6,   7.5874,2,    25.00,-999.000,9,-999.0000,9,-999.000,9,   1.2852,2, -999.00,9,  -999.0,9,  -999.0,-999.000,9,   -0.46,2,-999.000,9, -999.00,9, -999.00,9, -73.9191,-172.9860,-999.000,     -999.0,    34.8921,2,     -999.0,9,     -999.0,9,-999.0000,9,-999.0000,9,-999.0000,9,-999.0000,9,-999.0000,9,-999.0000,9,-999.0000,9,-999.0000,9,-999.0000,9,-999.0000,-999.000,   1.2467,     -999.0,     -999.0,9,     -999.0,9,     -999.0,9,      -4.61,2,       0.05,20110324,       1037
320620110219,       P15S,      84,          1,         17,         17,2,20110324,       0948,   -73.9191,  -172.9860,       2667,   834.8,   1.2047,  34.7268,2,  34.7262,2,    191.5,2,   191.7,2,  107.27,2,   31.94,2,    0.00,2,    2.23,2,-999.000,9,-999.000,9,-999.000,9,-999.0000,9,  -999.0,9,  -999.0,9,-999.0000,9,  -999.00,-999.000,9,-999.0000,9,-999.000,9,   1.2041,2, -999.00,9,  -999.0,9,  -999.0,-999.000,9,   -0.49,2,-999.000,9, -999.00,9, -999.00,9, -73.9190,-172.9858,-999.000,     -999.0,    34.8899,2,     -999.0,9,     -999.0,9,-999.0000,9,-999.0000,9,-999.0000,9,-999.0000,9,-999.0000,9,-999.0000,9,-999.0000,9,-999.0000,9,-999.0000,9,-999.0000,-999.000,   1.1607,     -999.0,     -999.0,9,     -999.0,9,     -999.0,9,      -4.57,2,       0.04,20110324,       1034
320620110219,       P15S,      84,          1,         16,         16,2,20110324,       0948,   -73.9191,  -172.9860,       2667,   933.9,   1.1325,  34.7246,2,  34.7244,2,    193.6,2,   193.6,2,  109.51,2,   31.82,2,    0.00,2,    2.22,2,   0.088,2,   0.042,2,   0.006,2,   0.0640,2,  -999.0,9,  -999.0,9,-999.0000,9,  -999.00,-999.000,9,-999.0000,9,-999.000,9,   1.1324,2, -999.00,9,  -999.0,9,  -999.0,-999.000,9,   -0.35,2,-999.000,9, -999.00,9, -999.00,9, -73.9190,-172.9856,-999.000,     -999.0,    34.8881,2,     -999.0,9,     -999.0,9,-999.0000,9,-999.0000,9,-999.0000,9,-999.0000,9,-999.0000,9,-999.0000,9,-999.0000,9,-999.0000,9,-999.0000,9,-999.0000,-999.000,   1.0831,     -999.0,     -999.0,9,     -999.0,9,     -999.0,9,      -3.87,2,       0.11,20110324,       1032
320620110219,       P15S,      84,          1,         15,         15,2,20110324,       0948,   -73.9191,  -172.9860,       2667,  1034.0,   1.0701,  34.7225,2,  34.7222,2,    195.1,2,   195.2,2,  111.41,2,   31.89,2,    0.00,2,    2.22,2,-999.000,9,-999.000,9,-999.000,9,-999.0000,9,  2259.3,2,  2356.3,2,   7.5926,2,    25.00,-999.000,9,-999.0000,9,-999.000,9,   1.0699,2, -999.00,9,  -999.0,9,  -999.0,-999.000,9,   -0.29,2,-999.000,9, -999.00,9, -999.00,9, -73.9189,-172.9854,-999.000,     -999.0,    34.8859,2,     -999.0,9,     -999.0,9,-999.0000,9,-999.0000,9,-999.0000,9,-999.0000,9,-999.0000,9,-999.0000,9,-999.0000,9,-999.0000,9,-999.0000,9,-999.0000,-999.000,   1.0150,     -999.0,     -999.0,9,     -999.0,9,     -999.0,9,      -2.91,2,       0.02,20110324,       1029
320620110219,       P15S,      84,          1,         14,         14,2,20110324,       0948,   -73.9191,  -172.9860,       2667,  1135.5,   1.0186,  34.7208,2,  34.7200,2,    196.7,2,   196.8,2,  112.64,2,   31.87,2,    0.00,2,    2.23,2,   0.075,2,   0.040,2,   0.005,2,   0.0510,2,  -999.0,9,  -999.0,9,-999.0000,9,  -999.00,-999.000,9,-999.0000,9,-999.000,9,   1.0184,2, -999.00,9,  -999.0,9,  -999.0,-999.000,9,   -0.04,2,-999.000,9, -999.00,9, -999.00,9, -73.9189,-172.9854,-999.000,     -999.0,    34.8837,2,     -999.0,9,     -999.0,9,-999.0000,9,-999.0000,9,-999.0000,9,-999.0000,9,-999.0000,9,-999.0000,9,-999.0000,9,-999.0000,9,-999.0000,9,-999.0000,-999.000,   0.9576,     -999.0,     -999.0,9,     -999.0,9,     -999.0,9,      -1.70,2,       0.16,20110324,       1026
320620110219,       P15S,      84,          1,         13,         13,2,20110324,       0948,   -73.9191,  -172.9860,       2667,  1234.7,   0.9656,  34.7188,2,  34.7182,2,    198.0,2,   197.7,2,  114.30,2,   31.87,2,    0.00,2,    2.23,2,-999.000,9,-999.000,9,-999.000,9,-999.0000,9,  -999.0,9,  -999.0,9,-999.0000,9,  -999.00,-999.000,9,-999.0000,9,-999.000,9,   0.9656,2, -999.00,9,  -999.0,9,  -999.0,-999.000,9,   -0.13,2,-999.000,9, -999.00,9, -999.00,9, -73.9189,-172.9854,-999.000,     -999.0,    34.8819,2,     -999.0,9,     -999.0,9,-999.0000,9,-999.0000,9,-999.0000,9,-999.0000,9,-999.0000,9,-999.0000,9,-999.0000,9,-999.0000,9,-999.0000,9,-999.0000,-999.000,   0.8988,     -999.0,     -999.0,9,     -999.0,9,     -999.0,9,      -1.51,2,       0.06,20110324,       1024