BOTTLE,20220813CCHSIOAMB
EXPOCODE,SECT_ID,STNNBR,CASTNO,SAMPNO,BTLNBR,BTLNBR_FLAG_W,DATE,TIME,LATITUDE,LONGITUDE,DEPTH,CTDPRS,CTDTMP,CTDSAL,CTDSAL_FLAG_W,SALNTY,SALNTY_FLAG_W,CTDOXY,CTDOXY_FLAG_W,OXYGEN,OXYGEN_FLAG_W,SILCAT,SILCAT_FLAG_W,NITRAT,NITRAT_FLAG_W,NITRIT,NITRIT_FLAG_W,PHSPHT,PHSPHT_FLAG_W,CFC-11,CFC-11_FLAG_W,CFC-12,CFC-12_FLAG_W,CFC113,CFC113_FLAG_W,SF6,SF6_FLAG_W,TCARBN,TCARBN_FLAG_W,ALKALI,ALKALI_FLAG_W,PH_TOT,PH_TOT_FLAG_W,PH_TMP,TRITUM,TRITUM_FLAG_W,HELIUM,HELIUM_FLAG_W,DELHE3,DELHE3_FLAG_W,REFTMP,REFTMP_FLAG_W,DELC13,DELC13_FLAG_W,DELC14,DELC14_FLAG_W,C14ERR,NEON,NEON_FLAG_W,DELO18,DELO18_FLAG_W,POC,POC_FLAG_W,DOC,DOC_FLAG_W,TDN,TDN_FLAG_W,BTL_LAT,BTL_LON,TRITER,NEONER,SALTREF,SALTREF_FLAG_W,PIGMENTS,PIGMENTS_FLAG_W,LAB_DEN,LAB_DEN_FLAG_W,CDOM325,CDOM325_FLAG_W,CDOM340,CDOM340_FLAG_W,CDOM380,CDOM380_FLAG_W,CDOM412,CDOM412_FLAG_W,CDOM443,CDOM443_FLAG_W,CDOM490,CDOM490_FLAG_W,CDOM555,CDOM555_FLAG_W,CDOMSL,CDOMSL_FLAG_W,CDOMSN,CDOMSN_FLAG_W,HELIER,DELHER,THETA,LDEO_SAMPNO,ABSORBTION,ABSORBTION_FLAG_W,IMAGE_COUNT,IMAGE_COUNT_FLAG_W,CYTO_COUNT,CYTO_COUNT_FLAG_W,DELD,DELD_FLAG_W,DELDERR,BTL_DATE,BTL_TIME
,,,,,,,,,,,METERS,DBAR,ITS-90,PSS-78,,PSS-78,,UMOL/KG,,UMOL/KG,,UMOL/KG,,UMOL/KG,,UMOL/KG,,UMOL/KG,,PMOL/KG,,PMOL/KG,,PMOL/KG,,FMOL/KG,,UMOL/KG,,UMOL/KG,,,,DEG C,TU,,NMOL/KG,,PERCNT,,DEG C,,/MILLE,,/MILLE,,/MILLE,NMOL/KG,,/MILLE,,UG/KG,,UMOL/KG,,UMOL/KG,,,,TU,NMOL/KG,G/KG,,,,,,1/M,,1/M,,1/M,,1/M,,1/M,,1/M,,1/M,,1/NM,,1/NM,,NMOL/KG,PERCNT,DEG C,,,,,,,,/MILLE,,/MILLE,,
320620110219,       S04P,     121,          1,         13,         13,2,20110413,       2140,   -67.0002,   -96.9379,       4679,  1735.5,   1.4407,  34.7296,2,  34.7304,2,    193.6,2,   194.3,2,  100.26,2,   31.65,2,    0.00,2,    2.16,2,   0.142,2,   0.071,2,   0.012,2,   0.0730,2,  2257.1,2,  2359.5,2,   7.6030,2,    25.00,-999.000,9,-999.0000,9,-999.000,9,   1.4405,2, -999.00,9,  -999.0,9,  -999.0,-999.000,9, -999.00,9,-999.000,9,   40.25,2,   34.17,2, -67.0002, -96.9378,-999.000,     -999.0,    34.8942,2,     -999.0,9,     -999.0,9,   0.0788,2,   0.0396,3,  -0.0012,4,  -0.0085,4,  -0.0161,4,  -0.0128,4,  -0.0131,4,   0.0690,4,   0.0532,4,-999.0000,-999.000,   1.3331,     -999.0,     -999.0,9,     -999.0,9,     -999.0,9,     -999.0,9,     -999.0,20110413,       2241
320620110219,       S04P,     121,          1,         12,         12,2,20110413,       2140,   -67.0002,   -96.9379,       4679,  1935.2,   1.3025,  34.7256,2,  34.7257,2,    195.6,2,   195.4,2,  105.20,2,   31.79,2,    0.00,2,    2.18,2,-999.000,9,-999.000,9,-999.000,9,-999.0000,9,  -999.0,9,  -999.0,9,-999.0000,9,  -999.00,-999.000,9,-999.0000,9,-999.000,9,   1.3024,2,    0.51,2,  -163.6,2,     2.2,-999.000,9, -999.00,9,-999.000,9,   40.27,2,   34.61,2, -67.0002, -96.9379,-999.000,     -999.0,    34.8895,2,     -999.0,9,     -999.0,9,-999.0000,9,-999.0000,9,-999.0000,9,-999.0000,9,-999.0000,9,-999.0000,9,-999.0000,9,-999.0000,9,-999.0000,9,-999.0000,-999.000,   1.1815,     -999.0,     -999.0,9,     -999.0,9,     -999.0,9,     -999.0,9,     -999.0,20110413,       2237
320620110219,       S04P,     121,          1,         11,         11,2,20110413,       2140,   -67.0002,   -96.9379,       4679,  2164.9,   1.1784,  34.7232,2,  34.7238,2,    198.1,2,   198.7,2,  108.31,2,   31.83,2,    0.00,2,    2.17,2,   0.155,2,   0.071,2,   0.010,2,   0.0590,2,  2258.4,2,  2360.7,2,   7.6029,2,    25.00,-999.000,9,-999.0000,9,-999.000,9,   1.1783,2,    0.54,2,  -163.3,2,     2.3,-999.000,9, -999.00,9,-999.000,9,   39.35,2,   34.37,2, -67.0002, -96.9378,-999.000,     -999.0,    34.8875,2,     -999.0,9,     -999.0,9,-999.0000,9,-999.0000,9,-999.0000,9,-999.0000,9,-999.0000,9,-999.0000,9,-999.0000,9,-999.0000,9,-999.0000,9,-999.0000,-999.000,   1.0411,     -999.0,     -999.0,9,     -999.0,9,     -999.0,9,     -999.0,9,     -999.0,20110413,       2232
320620110219,       S04P,     121,          1,         10,         37,2,20110413,       2140,   -67.0002,   -96.9379,       4679,  2415.0,   1.0417,  34.7184,2,  34.7183,2,    200.5,2,   200.8,2,  113.07,2,   31.95,2,    0.00,2,    2.18,2,-999.000,9,-999.000,9,-999.000,9,-999.0000,9,  -999.0,9,  -999.0,9,-999.0000,9,  -999.00,-999.000,9,-999.0000,9,-999.000,9,   1.0417,2,    0.48,2,  -165.7,2,     2.4,-999.000,9, -999.00,9,-999.000,9,   39.57,2,   34.15,2, -67.0002, -96.9379,-999.000,     -999.0,    34.8820,2,     -999.0,9,     -999.0,9,   0.0810,2,   0.0416,3,   0.0005,4,  -0.0073,4,  -0.0153,4,  -0.0124,4,  -0.0131,4,   0.0679,4,   0.0512,4,-999.0000,-999.000,   0.8862,     -999.0,     -999.0,9,     -999.0,9,     -999.0,9,     -999.0,9,     -999.0,20110413,       2227
320620110219,       S04P,     121,          1,          9,          9,2,20110413,       2140,   -67.0002,   -96.9379,       4679,  2664.2,   0.9292,  34.7144,2,  34.7145,2,    202.1,2,   202.9,2,  117.33,2,   32.00,2,    0.00,2,    2.20,2,   0.163,2,   0.076,2,   0.012,2,   0.0720,2,  2260.5,2,  -999.0,5,   7.6019,2,    25.00,-999.000,9,-999.0000,9,-999.000,9,   0.9297,2, -999.00,9,  -999.0,9,  -999.0,-999.000,9, -999.00,9,-999.000,9,   39.39,2,   34.73,2, -67.0002, -96.9379,-999.000,     -999.0,    34.8782,2,     -999.0,9,     -999.0,9,-999.0000,9,-999.0000,9,-999.0000,9,-999.0000,9,-999.0000,9,-999.0000,9,-999.0000,9,-999.0000,9,-999.0000,9,-999.0000,-999.000,   0.7547,     -999.0,     -999.0,9,     -999.0,9,     -999.0,9,     -999.0,9,     -999.0,20110413,       2222
320620110219,       S04P,     121,          1,          8,          8,2,20110413,       2140,   -67.0002,   -96.9379,       4679,  2914.7,   0.8306,  34.7105,2,  34.7108,2,    204.2,2,   204.9,2,  120.87,2,   32.10,2,    0.00,2,    2.20,2,-999.000,9,-999.000,9,-999.000,9,-999.0000,9,  -999.0,9,  -999.0,9,-999.0000,9,  -999.00,-999.000,9,-999.0000,9,-999.000,9,   0.8303,2,    0.47,2,  -163.7,2,     2.8,-999.000,9, -999.00,9,-999.000,9,   39.44,2,   34.23,2, -67.0002, -96.9378,-999.000,     -999.0,    34.8745,2,     -999.0,9,     -999.0,9,-999.0000,9,-999.0000,9,-999.0000,9,-999.0000,9,-999.0000,9,-999.0000,9,-999.0000,9,-999.0000,9,-999.0000,9,-999.0000,-999.000,   0.6361,     -999.0,     -999.0,9,     -999.0,9,     -999.0,9,     -999.0,9,     -999.0,20110413,       2217
320620110219,       S04P,     121,          1,          7,          7,2,20110413,       2140,   -67.0002,   -96.9379,       4679,  3199.4,   0.7197,  34.7073,2,  34.7077,2,    206.6,2,   206.7,2,  124.23,2,   32.31,2,    0.00,2,    2.21,2,   0.202,2,   0.091,2,   0.008,2,   0.0400,2,  2262.0,2,  2362.8,2,   7.5996,2,    25.00,-999.000,9,-999.0000,9,-999.000,9,   0.7200,2,    0.46,2,  -159.6,2,     2.6,-999.000,9, -999.00,9,-999.000,9,   39.53,2,   34.50,2, -67.0002, -96.9379,-999.000,     -999.0,    34.8713,2,     -999.0,9,     -999.0,9,   0.0791,2,   0.0397,3,  -0.0011,4,  -0.0083,4,  -0.0160,4,  -0.0129,4,  -0.0132,4,   0.0788,4,   0.0533,4,-999.0000,-999.000,   0.5017,     -999.0,     -999.0,9,     -999.0,9,     -999.0,9,     -999.0,9,     -999.0,20110413,       2211
320620110219,       S04P,     121,          1,          6,          6,2,20110413,       2140,   -67.0002,   -96.9379,       4679,  3500.3,   0.5966,  34.7050,2,  34.7053,2,    209.1,2,   209.0,2,  127.21,2,   32.40,2,    0.00,2,    2.22,2,-999.000,9,-999.000,9,-999.000,9,-999.0000,9,  -999.0,9,  -999.0,9,-999.0000,9,  -999.00,-999.000,9,-999.0000,9,-999.000,9,   0.5968,2,    0.51,2,  -165.4,2,     2.3,-999.000,9, -999.00,9,-999.000,9,   39.56,2,   34.54,2, -67.0002, -96.9378,-999.000,     -999.0,    34.8689,2,     -999.0,9,     -999.0,9,-999.0000,9,-999.0000,9,-999.0000,9,-999.0000,9,-999.0000,9,-999.0000,9,-999.0000,9,-999.0000,9,-999.0000,9,-999.0000,-999.000,   0.3531,     -999.0,     -999.0,9,     -999.0,9,     -999.0,9,     -999.0,9,     -999.0,20110413,       2206
320620110219,       S04P,     121,          1,          5,          5,2,20110413,       2140,   -67.0002,   -96.9379,       4679,  3799.8,   0.5034,  34.7039,2,  34.7041,2,    211.1,2,   211.5,2,  130.62,2,   32.42,2,    0.00,2,    2.23,2,   0.227,2,   0.098,2,   0.008,2,   0.0560,2,  2263.2,2,  -999.0,5,   7.5981,2,    25.00,-999.000,9,-999.0000,9,-999.000,9,   0.5031,2,    0.48,2,  -160.3,2,     2.7,-999.000,9, -999.00,9,-999.000,9,   39.77,2,   34.75,2, -67.0002, -96.9379,-999.000,     -999.0,    34.8678,2,     -999.0,9,     -999.0,9,-999.0000,9,-999.0000,9,-999.0000,9,-999.0000,9,-999.0000,9,-999.0000,9,-999.0000,9,-999.0000,9,-999.0000,9,-999.0000,-999.000,   0.2329,     -999.0,     -999.0,9,     -999.0,9,     -999.0,9,     -999.0,9,     -999.0,20110413,       2200
320620110219,       S04P,     121,          1,          4,          4,2,20110413,       2140,   -67.0002,   -96.9379,       4679,  4099.3,   0.4509,  34.7034,2,  34.7033,2,    212.8,2,   212.3,2,  133.63,2,   32.41,2,    0.00,2,    2.23,2,-999.000,9,-999.000,9,-999.000,9,-999.0000,9,  -999.0,9,  -999.0,9,-999.0000,9,  -999.00,-999.000,9,-999.0000,9,-999.000,9,   0.4511,2,    0.48,2,  -161.3,2,     2.3,-999.000,9, -999.00,9,-999.000,9,   39.72,2,   35.03,2, -67.0002, -96.9378,-999.000,     -999.0,    34.8670,2,     -999.0,9,     -999.0,9,   0.0878,2,   0.0473,2,   0.0045,3,  -0.0016,4,  -0.0104,4,  -0.0113,4,  -0.0130,4,   0.0574,4,   0.0462,4,-999.0000,-999.000,   0.1513,     -999.0,     -999.0,9,     -999.0,9,     -999.0,9,     -999.0,9,     -999.0,20110413,       2154
320620110219,       S04P,     121,          1,          3,          3,2,20110413,       2140,   -67.0002,   -96.9379,       4679,  4400.1,   0.4209,  34.7025,2,  34.7029,2,    214.0,2,   213.8,2,  135.59,2,   32.46,2,    0.00,2,    2.23,2,   0.304,2,   0.148,2,   0.013,2,   0.0750,2,  2262.8,2,  2363.4,2,   7.5982,2,    25.00,-999.000,9,-999.0000,9,-999.000,9,   0.4207,2,    0.48,2,  -170.2,2,     2.7,-999.000,9, -999.00,9,-999.000,9,   40.40,2,   35.11,2, -67.0002, -96.9378,-999.000,     -999.0,    34.8666,2,     -999.0,9,     -999.0,9,-999.0000,9,-999.0000,9,-999.0000,9,-999.0000,9,-999.0000,9,-999.0000,9,-999.0000,9,-999.0000,9,-999.0000,9,-999.0000,-999.000,   0.0904,     -999.0,     -999.0,9,     -999.0,9,     -999.0,9,     -999.0,9,     -999.0,20110413,       2148
320620110219,       S04P,     121,          1,          2,          2,2,20110413,       2140,   -67.0002,   -96.9379,       4679,  4599.9,   0.4107,  34.7018,2,  34.7015,2,    214.7,2,   214.9,2,  136.57,2,   32.35,2,    0.00,2,    2.23,2,   0.429,2,   0.184,2,   0.018,2,   0.0960,2,  2263.3,2,  -999.0,5,   7.5971,6,    25.00,-999.000,9,-999.0000,9,-999.000,9,   0.4104,2,    0.49,2,  -155.0,2,     2.3,-999.000,9, -999.00,9,-999.000,9,   40.18,2,   35.24,2, -67.0002, -96.9379,-999.000,     -999.0,    34.8652,2,     -999.0,9,     -999.0,9,-999.0000,9,-999.0000,9,-999.0000,9,-999.0000,9,-999.0000,9,-999.0000,9,-999.0000,9,-999.0000,9,-999.0000,9,-999.0000,-999.000,   0.0587,     -999.0,     -999.0,9,     -999.0,9,     -999.0,9,     -999.0,9,     -999.0,20110413,       2144
320620110219,       S04P,     121,          1,          1,          1,2,20110413,       2140,   -67.0002,   -96.9379,       4679,  4765.0,   0.4070,  34.7010,2,  34.7013,2,    214.1,2,   214.7,2,  142.32,2,   32.41,2,    0.00,2,    2.24,2,   0.407,2,   0.193,2,   0.020,2,   0.0980,2,  2264.2,6,  2365.0,2,   7.5967,2,    25.00,-999.000,9,-999.0000,9,-999.000,9,   0.4064,2,    0.48,2,  -158.6,2,     2.7,-999.000,9, -999.00,9,-999.000,9,   40.01,2,   35.13,2, -67.0002, -96.9379,-999.000,     -999.0,    34.8650,2,     -999.0,9,     -999.0,9,   0.0858,2,   0.0458,2,   0.0060,3,  -0.0046,4,  -0.0135,4,  -0.0113,4,  -0.0124,4,   0.0529,4,   0.0453,4,-999.0000,-999.000,   0.0367,     -999.0,     -999.0,9,     -999.0,9,     -999.0,9,     -999.0,9,     -999.0,20110413,       2140