BOTTLE,20220813CCHSIOAMB
EXPOCODE,SECT_ID,STNNBR,CASTNO,SAMPNO,BTLNBR,BTLNBR_FLAG_W,DATE,TIME,LATITUDE,LONGITUDE,DEPTH,CTDPRS,CTDTMP,CTDSAL,CTDSAL_FLAG_W,SALNTY,SALNTY_FLAG_W,CTDOXY,CTDOXY_FLAG_W,OXYGEN,OXYGEN_FLAG_W,SILCAT,SILCAT_FLAG_W,NITRAT,NITRAT_FLAG_W,NITRIT,NITRIT_FLAG_W,PHSPHT,PHSPHT_FLAG_W,CFC-11,CFC-11_FLAG_W,CFC-12,CFC-12_FLAG_W,CFC113,CFC113_FLAG_W,SF6,SF6_FLAG_W,TCARBN,TCARBN_FLAG_W,ALKALI,ALKALI_FLAG_W,PH_TOT,PH_TOT_FLAG_W,PH_TMP,TRITUM,TRITUM_FLAG_W,HELIUM,HELIUM_FLAG_W,DELHE3,DELHE3_FLAG_W,REFTMP,REFTMP_FLAG_W,DELC13,DELC13_FLAG_W,DELC14,DELC14_FLAG_W,C14ERR,NEON,NEON_FLAG_W,DELO18,DELO18_FLAG_W,POC,POC_FLAG_W,DOC,DOC_FLAG_W,TDN,TDN_FLAG_W,BTL_LAT,BTL_LON,TRITER,NEONER,SALTREF,SALTREF_FLAG_W,PIGMENTS,PIGMENTS_FLAG_W,LAB_DEN,LAB_DEN_FLAG_W,CDOM325,CDOM325_FLAG_W,CDOM340,CDOM340_FLAG_W,CDOM380,CDOM380_FLAG_W,CDOM412,CDOM412_FLAG_W,CDOM443,CDOM443_FLAG_W,CDOM490,CDOM490_FLAG_W,CDOM555,CDOM555_FLAG_W,CDOMSL,CDOMSL_FLAG_W,CDOMSN,CDOMSN_FLAG_W,HELIER,DELHER,THETA,LDEO_SAMPNO,ABSORBTION,ABSORBTION_FLAG_W,IMAGE_COUNT,IMAGE_COUNT_FLAG_W,CYTO_COUNT,CYTO_COUNT_FLAG_W,DELD,DELD_FLAG_W,DELDERR,BTL_DATE,BTL_TIME
,,,,,,,,,,,METERS,DBAR,ITS-90,PSS-78,,PSS-78,,UMOL/KG,,UMOL/KG,,UMOL/KG,,UMOL/KG,,UMOL/KG,,UMOL/KG,,PMOL/KG,,PMOL/KG,,PMOL/KG,,FMOL/KG,,UMOL/KG,,UMOL/KG,,,,DEG C,TU,,NMOL/KG,,PERCNT,,DEG C,,/MILLE,,/MILLE,,/MILLE,NMOL/KG,,/MILLE,,UG/KG,,UMOL/KG,,UMOL/KG,,,,TU,NMOL/KG,G/KG,,,,,,1/M,,1/M,,1/M,,1/M,,1/M,,1/M,,1/M,,1/NM,,1/NM,,NMOL/KG,PERCNT,DEG C,,,,,,,,/MILLE,,/MILLE,,
320620110219,       P16S,      60,          1,         36,         36,2,20110315,       2021,   -74.4610,  -150.0001,       3883,     5.2,  -1.4460,  33.4394,2,  33.4372,2,    357.2,2,   356.3,2,   38.10,2,   21.21,2,    0.19,2,    1.29,2,   6.306,2,   3.454,2,   0.615,2,-999.0000,9,  2125.3,6,  2268.9,2,   7.7387,2,    25.00,-999.000,9,-999.0000,9,-999.000,9,  -1.4503,2, -999.00,9,  -999.0,9,  -999.0,-999.000,9,   -0.49,2,-999.000,9,   46.64,2,   24.87,2, -74.4610,-150.0001,-999.000,     -999.0,    33.5948,2,     -999.0,9,     -999.0,9,   0.1023,2,   0.0608,2,   0.0125,3,   0.0035,3,  -0.0069,4,  -0.0068,4,  -0.0100,4,   0.0422,3,   0.0382,3,-999.0000,-999.000,  -1.4461,     -999.0,     -999.0,9,     -999.0,9,     -999.0,9,      -4.42,2,       0.06,20110315,       2207
320620110219,       P16S,      60,          1,         35,         35,2,20110315,       2021,   -74.4610,  -150.0001,       3883,    25.1,  -1.3356,  33.4606,2,  33.4643,2,    354.9,2,   354.8,2,   37.67,2,   21.31,2,    0.19,2,    1.33,2,   6.269,2,   3.430,2,   0.609,2,-999.0000,9,  2128.2,2,  2270.2,2,   7.7378,6,    25.00,-999.000,9,-999.0000,9,-999.000,9,  -1.3391,2, -999.00,9,  -999.0,9,  -999.0,-999.000,9,   -0.49,2,-999.000,9,   45.27,2,   25.97,2, -74.4610,-150.0001,-999.000,     -999.0,    33.6221,2,     -999.0,9,     -999.0,9,   0.1076,2,   0.0653,2,   0.0146,3,   0.0039,2,  -0.0063,4,  -0.0063,4,  -0.0097,4,   0.0401,3,   0.0364,3,-999.0000,-999.000,  -1.3361,     -999.0,     -999.0,9,     -999.0,9,     -999.0,9,      -4.39,2,       0.06,20110315,       2206
320620110219,       P16S,      60,          1,         34,         34,2,20110315,       2021,   -74.4610,  -150.0001,       3883,    75.2,  -1.5511,  34.0697,2,  34.0677,2,    309.8,2,   308.0,2,   51.86,2,   28.26,2,    0.16,2,    2.00,2,   5.080,2,   2.764,2,   0.477,2,-999.0000,9,  2195.6,2,  2302.2,6,   7.6298,2,    25.00,-999.000,9,-999.0000,9,-999.000,9,  -1.5509,2, -999.00,9,  -999.0,9,  -999.0,-999.000,9,   -0.25,2,-999.000,9,   44.47,2,   32.39,2, -74.4610,-150.0001,-999.000,     -999.0,    34.2284,2,     -999.0,9,     -999.0,9,   0.0757,2,   0.0391,3,   0.0033,3,  -0.0014,4,  -0.0101,4,  -0.0083,4,  -0.0102,4,   0.0612,4,   0.0497,4,-999.0000,-999.000,  -1.5527,     -999.0,     -999.0,9,     -999.0,9,     -999.0,9,      -3.55,2,       0.13,20110315,       2202
320620110219,       P16S,      60,          1,         33,         33,2,20110315,       2021,   -74.4610,  -150.0001,       3883,    99.7,  -1.4783,  34.1227,2,  34.1218,2,    296.4,2,   298.1,2,   53.93,2,   28.66,2,    0.21,2,    2.04,2,   4.878,2,   2.641,2,   0.467,2,-999.0000,9,  2202.1,2,  2306.0,3,   7.6200,2,    25.00,-999.000,9,-999.0000,9,-999.000,9,  -1.4814,2, -999.00,9,  -999.0,9,  -999.0,-999.000,9,   -0.39,2,-999.000,9,   43.69,2,   32.56,2, -74.4610,-150.0001,-999.000,     -999.0,    34.2827,2,     -999.0,9,     -999.0,9,   0.0785,2,   0.0399,3,   0.0005,4,  -0.0033,4,  -0.0114,4,  -0.0095,4,  -0.0110,4,   0.0688,4,   0.0526,4,-999.0000,-999.000,  -1.4805,     -999.0,     -999.0,9,     -999.0,9,     -999.0,9,      -4.35,2,       0.33,20110315,       2201
320620110219,       P16S,      60,          1,         31,         31,4,20110315,       2021,   -74.4610,  -150.0001,       3883,   125.0,  -1.3798,  34.1640,2,  34.1641,2,    289.9,2,   289.8,2,   55.14,2,   29.29,2,    0.16,2,    2.06,2,   4.682,2,   2.551,2,   0.441,2,-999.0000,9,  2206.2,2,  2307.8,2,   7.6105,2,    25.00,-999.000,9,-999.0000,9,-999.000,9,  -1.3747,2, -999.00,9,  -999.0,9,  -999.0,-999.000,9,   -0.32,2,-999.000,9,   43.14,2,   32.44,2, -74.4610,-150.0001,-999.000,     -999.0,    34.3252,2,     -999.0,9,     -999.0,9,   0.0827,2,   0.0446,2,   0.0064,3,   0.0003,4,  -0.0088,4,  -0.0078,4,  -0.0103,4,   0.0511,4,   0.0451,3,-999.0000,-999.000,  -1.3827,     -999.0,     -999.0,9,     -999.0,9,     -999.0,9,      -3.38,2,       0.07,20110315,       2158
320620110219,       P16S,      60,          1,         32,         32,4,20110315,       2021,   -74.4610,  -150.0001,       3883,   125.3,  -1.3790,  34.1636,2,  34.1617,2,    289.9,2,   291.0,2,   54.65,2,   29.14,2,    0.16,2,    2.07,2,   4.746,2,   2.575,2,   0.441,2,-999.0000,9,  -999.0,9,  -999.0,9,-999.0000,9,  -999.00,-999.000,9,-999.0000,9,-999.000,9,  -1.3805,2, -999.00,9,  -999.0,9,  -999.0,-999.000,9, -999.00,9,-999.000,9,   42.23,2,   32.64,2, -74.4610,-150.0001,-999.000,     -999.0,    34.3228,2,     -999.0,9,     -999.0,9,-999.0000,9,-999.0000,9,-999.0000,9,-999.0000,9,-999.0000,9,-999.0000,9,-999.0000,9,-999.0000,9,-999.0000,9,-999.0000,-999.000,  -1.3819,     -999.0,     -999.0,9,     -999.0,9,     -999.0,9,     -999.0,9,     -999.0,20110315,       2159
320620110219,       P16S,      60,          1,         30,         30,2,20110315,       2021,   -74.4610,  -150.0001,       3883,   149.9,  -0.7356,  34.2407,2,  34.2389,2,    266.0,2,   251.8,2,   78.60,2,   31.14,2,    0.02,2,    2.18,2,   3.154,2,   1.728,2,   0.287,2,-999.0000,9,  2223.6,2,  2315.9,4,   7.5786,2,    25.00,-999.000,9,-999.0000,9,-999.000,9,  -0.7349,2, -999.00,9,  -999.0,9,  -999.0,-999.000,9,   -0.36,2,-999.000,9,   41.48,2,   33.71,2, -74.4610,-150.0001,-999.000,     -999.0,    34.4004,2,     -999.0,9,     -999.0,9,   0.0915,2,   0.0504,2,   0.0085,3,   0.0006,4,  -0.0096,4,  -0.0088,4,  -0.0110,4,   0.0558,4,   0.0432,4,-999.0000,-999.000,  -0.7400,     -999.0,     -999.0,9,     -999.0,9,     -999.0,9,      -4.15,2,       0.04,20110315,       2157
320620110219,       P16S,      60,          1,         29,         29,2,20110315,       2021,   -74.4610,  -150.0001,       3883,   200.3,   0.8164,  34.4670,2,  34.4646,2,    215.8,2,   208.3,2,   77.25,2,   32.53,2,    0.02,2,    2.27,2,   1.863,2,   1.004,2,   0.158,2,-999.0000,9,  2239.7,2,  2327.4,2,   7.5604,2,    25.00,-999.000,9,-999.0000,9,-999.000,9,   0.8166,2, -999.00,9,  -999.0,9,  -999.0,-999.000,9,   -0.07,2,-999.000,9,   41.04,2,   35.25,2, -74.4610,-150.0001,-999.000,     -999.0,    34.6272,2,     -999.0,9,     -999.0,9,   0.0922,2,   0.0502,2,   0.0063,3,  -0.0012,4,  -0.0105,4,  -0.0091,4,  -0.0112,4,   0.0552,4,   0.0451,4,-999.0000,-999.000,   0.8077,     -999.0,     -999.0,9,     -999.0,9,     -999.0,9,      -1.64,2,       0.04,20110315,       2155
320620110219,       P16S,      60,          1,         28,         28,2,20110315,       2021,   -74.4610,  -150.0001,       3883,   249.8,   1.6429,  34.6182,2,  34.6241,2,    187.4,2,   182.4,2,   81.58,2,   32.88,2,    0.00,2,    2.30,2,   0.845,2,   0.443,2,   0.063,2,-999.0000,9,  2251.3,2,  2337.6,2,   7.5536,2,    25.00,-999.000,9,-999.0000,9,-999.000,9,   1.6422,2, -999.00,9,  -999.0,9,  -999.0,-999.000,9,   -0.13,2,-999.000,9,   40.91,2,   35.76,2, -74.4610,-150.0001,-999.000,     -999.0,    34.7874,2,     -999.0,9,     -999.0,9,   0.0989,2,   0.0558,2,   0.0094,3,   0.0010,3,  -0.0093,4,  -0.0089,4,  -0.0111,4,   0.0551,4,   0.0420,4,-999.0000,-999.000,   1.6301,     -999.0,     -999.0,9,     -999.0,9,     -999.0,9,      -1.53,2,       0.09,20110315,       2153
320620110219,       P16S,      60,          1,         27,         27,2,20110315,       2021,   -74.4610,  -150.0001,       3883,   300.2,   1.8168,  34.6750,2,  34.6737,2,    180.0,2,   179.3,2,   83.89,2,   32.41,2,    0.00,2,    2.27,2,   0.547,2,   0.277,2,   0.044,2,-999.0000,9,  2252.6,2,  2341.6,2,   7.5585,2,    25.00,-999.000,9,-999.0000,9,-999.000,9,   1.8165,2, -999.00,9,  -999.0,9,  -999.0,-999.000,9,   -0.14,2,-999.000,9,   40.77,2,   35.06,2, -74.4610,-150.0001,-999.000,     -999.0,    34.8373,2,     -999.0,9,     -999.0,9,-999.0000,9,-999.0000,9,-999.0000,9,-999.0000,9,-999.0000,9,-999.0000,9,-999.0000,9,-999.0000,9,-999.0000,9,-999.0000,-999.000,   1.8009,     -999.0,     -999.0,9,     -999.0,9,     -999.0,9,      -2.03,2,       0.28,20110315,       2151
320620110219,       P16S,      60,          1,         26,         26,2,20110315,       2021,   -74.4610,  -150.0001,       3883,   350.2,   1.8006,  34.6985,2,  34.6971,2,    180.3,2,   180.6,2,   86.02,2,   31.99,2,    0.00,2,    2.24,2,   0.431,2,   0.218,2,   0.032,2,-999.0000,9,  2252.7,2,  2344.3,2,   7.5673,2,    25.00,-999.000,9,-999.0000,9,-999.000,9,   1.8023,2, -999.00,9,  -999.0,9,  -999.0,-999.000,9, -999.00,9,-999.000,9,   40.56,2,   34.81,2, -74.4610,-150.0001,-999.000,     -999.0,    34.8607,2,     -999.0,9,     -999.0,9,-999.0000,9,-999.0000,9,-999.0000,9,-999.0000,9,-999.0000,9,-999.0000,9,-999.0000,9,-999.0000,9,-999.0000,9,-999.0000,-999.000,   1.7819,     -999.0,     -999.0,9,     -999.0,9,     -999.0,9,     -999.0,9,     -999.0,20110315,       2150
320620110219,       P16S,      60,          1,         25,         25,2,20110315,       2021,   -74.4610,  -150.0001,       3883,   399.9,   1.7610,  34.7119,2,  34.7127,2,    183.8,2,   182.6,2,   87.87,2,   31.64,2,    0.00,2,    2.23,2,-999.000,9,-999.000,9,-999.000,9,-999.0000,9,  2252.2,2,  2345.7,2,   7.5761,2,    25.00,-999.000,9,-999.0000,9,-999.000,9,   1.7607,2, -999.00,9,  -999.0,9,  -999.0,-999.000,9,    0.11,2,-999.000,9,   40.61,2,   34.25,2, -74.4610,-150.0001,-999.000,     -999.0,    34.8763,2,     -999.0,9,     -999.0,9,   0.0990,2,   0.0566,2,   0.0124,3,   0.0001,4,  -0.0103,4,  -0.0093,4,  -0.0114,4,   0.0478,4,   0.0391,4,-999.0000,-999.000,   1.7396,     -999.0,     -999.0,9,     -999.0,9,     -999.0,9,      -0.86,2,       0.13,20110315,       2148
320620110219,       P16S,      60,          1,         24,         24,2,20110315,       2021,   -74.4610,  -150.0001,       3883,   449.7,   1.7185,  34.7192,2,  34.7180,2,    184.4,2,   184.8,2,   89.84,2,   31.43,2,    0.00,2,    2.22,2,   0.324,2,   0.155,2,   0.024,2,-999.0000,9,  2252.3,2,  2347.7,2,   7.5793,2,    25.00,-999.000,9,-999.0000,9,-999.000,9,   1.7181,2, -999.00,9,  -999.0,9,  -999.0,-999.000,9, -999.00,9,-999.000,9,   40.20,2,   34.09,2, -74.4610,-150.0002,-999.000,     -999.0,    34.8817,2,     -999.0,9,     -999.0,9,-999.0000,9,-999.0000,9,-999.0000,9,-999.0000,9,-999.0000,9,-999.0000,9,-999.0000,9,-999.0000,9,-999.0000,9,-999.0000,-999.000,   1.6944,     -999.0,     -999.0,9,     -999.0,9,     -999.0,9,     -999.0,9,     -999.0,20110315,       2146
320620110219,       P16S,      60,          1,         23,         23,2,20110315,       2021,   -74.4610,  -150.0001,       3883,   499.5,   1.6570,  34.7250,2,  34.7237,2,    186.2,2,   185.9,2,   91.57,2,   31.39,2,    0.00,2,    2.22,2,-999.000,9,-999.000,9,-999.000,9,-999.0000,9,  2253.1,2,  2347.7,2,   7.5833,6,    25.00,-999.000,9,-999.0000,9,-999.000,9,   1.6568,2, -999.00,9,  -999.0,9,  -999.0,-999.000,9,   -0.10,2,-999.000,9,   40.66,2,   34.25,2, -74.4610,-150.0001,-999.000,     -999.0,    34.8874,2,     -999.0,9,     -999.0,9,-999.0000,9,-999.0000,9,-999.0000,9,-999.0000,9,-999.0000,9,-999.0000,9,-999.0000,9,-999.0000,9,-999.0000,9,-999.0000,-999.000,   1.6303,     -999.0,     -999.0,9,     -999.0,9,     -999.0,9,      -1.44,2,       0.18,20110315,       2144
320620110219,       P16S,      60,          1,         22,         22,2,20110315,       2021,   -74.4610,  -150.0001,       3883,   600.3,   1.5460,  34.7286,2,  34.7276,2,    188.4,2,   187.5,2,   95.17,2,   31.36,2,    0.00,2,    2.22,2,   0.229,2,   0.120,2,   0.017,2,-999.0000,9,  2255.2,6,  2350.8,6,   7.5844,2,    25.00,-999.000,9,-999.0000,9,-999.000,9,   1.5463,2, -999.00,9,  -999.0,9,  -999.0,-999.000,9, -999.00,9,-999.000,9,   40.69,2,   34.01,2, -74.4610,-150.0001,-999.000,     -999.0,    34.8914,2,     -999.0,9,     -999.0,9,   0.0970,2,   0.0541,2,   0.0081,3,  -0.0009,4,  -0.0107,4,  -0.0097,4,  -0.0116,4,   0.0532,4,   0.0429,4,-999.0000,-999.000,   1.5139,     -999.0,     -999.0,9,     -999.0,9,     -999.0,9,     -999.0,9,     -999.0,20110315,       2141
320620110219,       P16S,      60,          1,         21,         21,2,20110315,       2021,   -74.4610,  -150.0001,       3883,   699.7,   1.4443,  34.7301,2,  34.7296,2,    189.6,2,   188.6,2,   98.83,2,   31.43,2,    0.00,2,    2.23,2,-999.000,9,-999.000,9,-999.000,9,-999.0000,9,  -999.0,9,  -999.0,9,-999.0000,9,  -999.00,-999.000,9,-999.0000,9,-999.000,9,   1.4446,2, -999.00,9,  -999.0,9,  -999.0,-999.000,9,    0.02,2,-999.000,9,   40.47,2,   33.94,2, -74.4610,-150.0001,-999.000,     -999.0,    34.8934,2,     -999.0,9,     -999.0,9,-999.0000,9,-999.0000,9,-999.0000,9,-999.0000,9,-999.0000,9,-999.0000,9,-999.0000,9,-999.0000,9,-999.0000,9,-999.0000,-999.000,   1.4069,     -999.0,     -999.0,9,     -999.0,9,     -999.0,9,      -1.32,2,       0.11,20110315,       2139
320620110219,       P16S,      60,          1,         20,         20,2,20110315,       2021,   -74.4610,  -150.0001,       3883,   799.3,   1.3540,  34.7298,2,  34.7305,2,    190.6,2,   189.9,2,  101.92,2,   31.58,2,    0.00,2,    2.24,2,   0.167,2,   0.084,2,   0.010,2,-999.0000,9,  2257.4,2,  2354.6,2,   7.5864,2,    25.00,-999.000,9,-999.0000,9,-999.000,9,   1.3539,2, -999.00,9,  -999.0,9,  -999.0,-999.000,9, -999.00,9,-999.000,9,   40.08,2,   33.74,2, -74.4610,-150.0001,-999.000,     -999.0,    34.8942,2,     -999.0,9,     -999.0,9,-999.0000,9,-999.0000,9,-999.0000,9,-999.0000,9,-999.0000,9,-999.0000,9,-999.0000,9,-999.0000,9,-999.0000,9,-999.0000,-999.000,   1.3112,     -999.0,     -999.0,9,     -999.0,9,     -999.0,9,     -999.0,9,     -999.0,20110315,       2136
320620110219,       P16S,      60,          1,         19,         19,2,20110315,       2021,   -74.4610,  -150.0001,       3883,   898.8,   1.2648,  34.7282,2,  34.7279,2,    191.4,2,   191.5,2,  105.05,2,   31.67,2,    0.00,2,    2.24,2,-999.000,9,-999.000,9,-999.000,9,-999.0000,9,  -999.0,9,  -999.0,9,-999.0000,9,  -999.00,-999.000,9,-999.0000,9,-999.000,9,   1.2647,2, -999.00,9,  -999.0,9,  -999.0,-999.000,9, -999.00,9,-999.000,9,   39.95,2,   33.72,2, -74.4610,-150.0001,-999.000,     -999.0,    34.8917,2,     -999.0,9,     -999.0,9,   0.1014,2,   0.0578,2,   0.0105,3,   0.0032,3,  -0.0079,4,  -0.0089,4,  -0.0113,4,   0.0471,4,   0.0408,4,-999.0000,-999.000,   1.2165,     -999.0,     -999.0,9,     -999.0,9,     -999.0,9,     -999.0,9,     -999.0,20110315,       2133
320620110219,       P16S,      60,          1,         18,         18,2,20110315,       2021,   -74.4610,  -150.0001,       3883,   999.4,   1.1937,  34.7263,2,  34.7262,2,    192.8,2,   194.0,2,  107.37,2,   31.84,2,    0.00,2,    2.24,2,   0.123,2,   0.059,2,   0.005,2,-999.0000,9,  2258.1,2,  2357.2,2,   7.5863,2,    25.00,-999.000,9,-999.0000,9,-999.000,9,   1.1936,2, -999.00,9,  -999.0,9,  -999.0,-999.000,9, -999.00,9,-999.000,9,   39.71,2,   34.58,2, -74.4610,-150.0001,-999.000,     -999.0,    34.8899,2,     -999.0,9,     -999.0,9,-999.0000,9,-999.0000,9,-999.0000,9,-999.0000,9,-999.0000,9,-999.0000,9,-999.0000,9,-999.0000,9,-999.0000,9,-999.0000,-999.000,   1.1397,     -999.0,     -999.0,9,     -999.0,9,     -999.0,9,     -999.0,9,     -999.0,20110315,       2130
320620110219,       P16S,      60,          1,         17,         17,2,20110315,       2021,   -74.4610,  -150.0001,       3883,  1100.1,   1.1288,  34.7242,2,  34.7235,2,    194.2,2,   192.9,2,  109.63,2,   31.79,2,    0.00,2,    2.24,2,-999.000,9,-999.000,9,-999.000,9,-999.0000,9,  -999.0,9,  -999.0,9,-999.0000,9,  -999.00,-999.000,9,-999.0000,9,-999.000,9,   1.1290,2, -999.00,9,  -999.0,9,  -999.0,-999.000,9, -999.00,9,-999.000,9,   39.75,2,   34.63,2, -74.4610,-150.0001,-999.000,     -999.0,    34.8872,2,     -999.0,9,     -999.0,9,-999.0000,9,-999.0000,9,-999.0000,9,-999.0000,9,-999.0000,9,-999.0000,9,-999.0000,9,-999.0000,9,-999.0000,9,-999.0000,-999.000,   1.0691,     -999.0,     -999.0,9,     -999.0,9,     -999.0,9,     -999.0,9,     -999.0,20110315,       2128
320620110219,       P16S,      60,          1,         16,         16,2,20110315,       2021,   -74.4610,  -150.0001,       3883,  1199.7,   1.0718,  34.7224,2,  34.7211,2,    195.5,2,   194.6,2,  111.05,2,   31.90,2,    0.00,2,    2.25,2,   0.110,2,   0.055,2,   0.005,2,-999.0000,9,  2258.8,2,  2358.0,2,   7.5897,2,    25.00,-999.000,9,-999.0000,9,-999.000,9,   1.0718,2, -999.00,9,  -999.0,9,  -999.0,-999.000,9, -999.00,9,-999.000,9,   39.72,2,   34.72,2, -74.4610,-150.0001,-999.000,     -999.0,    34.8849,2,     -999.0,9,     -999.0,9,   0.0931,2,   0.0513,2,   0.0080,3,  -0.0025,4,  -0.0120,4,  -0.0104,4,  -0.0118,4,   0.0511,4,   0.0431,4,-999.0000,-999.000,   1.0062,     -999.0,     -999.0,9,     -999.0,9,     -999.0,9,     -999.0,9,     -999.0,20110315,       2125
320620110219,       P16S,      60,          1,         15,         15,2,20110315,       2021,   -74.4610,  -150.0001,       3883,  1298.8,   1.0147,  34.7203,2,  34.7212,2,    196.9,2,   196.3,2,  112.62,2,   31.99,2,    0.00,2,    2.25,2,-999.000,9,-999.000,9,-999.000,9,-999.0000,9,  -999.0,9,  -999.0,9,-999.0000,9,  -999.00,-999.000,9,-999.0000,9,-999.000,9,   1.0144,2, -999.00,9,  -999.0,9,  -999.0,-999.000,9, -999.00,9,-999.000,9,   39.94,2,   34.19,2, -74.4610,-150.0001,-999.000,     -999.0,    34.8849,2,     -999.0,9,     -999.0,9,-999.0000,9,-999.0000,9,-999.0000,9,-999.0000,9,-999.0000,9,-999.0000,9,-999.0000,9,-999.0000,9,-999.0000,9,-999.0000,-999.000,   0.9432,     -999.0,     -999.0,9,     -999.0,9,     -999.0,9,     -999.0,9,     -999.0,20110315,       2122
320620110219,       P16S,      60,          1,         14,         14,2,20110315,       2021,   -74.4610,  -150.0001,       3883,  1400.4,   0.9638,  34.7182,2,  34.7180,2,    198.1,2,   196.9,2,  114.10,2,   32.03,2,    0.00,2,    2.26,2,   0.091,2,   0.046,2,   0.004,2,-999.0000,9,  -999.0,9,  -999.0,9,-999.0000,9,  -999.00,-999.000,9,-999.0000,9,-999.000,9,   0.9639,2, -999.00,9,  -999.0,9,  -999.0,-999.000,9, -999.00,9,-999.000,9,   40.07,2,   34.30,2, -74.4610,-150.0001,-999.000,     -999.0,    34.8818,2,     -999.0,9,     -999.0,9,-999.0000,9,-999.0000,9,-999.0000,9,-999.0000,9,-999.0000,9,-999.0000,9,-999.0000,9,-999.0000,9,-999.0000,9,-999.0000,-999.000,   0.8861,     -999.0,     -999.0,9,     -999.0,9,     -999.0,9,     -999.0,9,     -999.0,20110315,       2119