BOTTLE,20220813CCHSIOAMB
EXPOCODE,SECT_ID,STNNBR,CASTNO,SAMPNO,BTLNBR,BTLNBR_FLAG_W,DATE,TIME,LATITUDE,LONGITUDE,DEPTH,CTDPRS,CTDTMP,CTDSAL,CTDSAL_FLAG_W,SALNTY,SALNTY_FLAG_W,CTDOXY,CTDOXY_FLAG_W,OXYGEN,OXYGEN_FLAG_W,SILCAT,SILCAT_FLAG_W,NITRAT,NITRAT_FLAG_W,NITRIT,NITRIT_FLAG_W,PHSPHT,PHSPHT_FLAG_W,CFC-11,CFC-11_FLAG_W,CFC-12,CFC-12_FLAG_W,CFC113,CFC113_FLAG_W,SF6,SF6_FLAG_W,TCARBN,TCARBN_FLAG_W,ALKALI,ALKALI_FLAG_W,PH_TOT,PH_TOT_FLAG_W,PH_TMP,TRITUM,TRITUM_FLAG_W,HELIUM,HELIUM_FLAG_W,DELHE3,DELHE3_FLAG_W,REFTMP,REFTMP_FLAG_W,DELC13,DELC13_FLAG_W,DELC14,DELC14_FLAG_W,C14ERR,NEON,NEON_FLAG_W,DELO18,DELO18_FLAG_W,POC,POC_FLAG_W,DOC,DOC_FLAG_W,TDN,TDN_FLAG_W,BTL_LAT,BTL_LON,TRITER,NEONER,SALTREF,SALTREF_FLAG_W,PIGMENTS,PIGMENTS_FLAG_W,LAB_DEN,LAB_DEN_FLAG_W,CDOM325,CDOM325_FLAG_W,CDOM340,CDOM340_FLAG_W,CDOM380,CDOM380_FLAG_W,CDOM412,CDOM412_FLAG_W,CDOM443,CDOM443_FLAG_W,CDOM490,CDOM490_FLAG_W,CDOM555,CDOM555_FLAG_W,CDOMSL,CDOMSL_FLAG_W,CDOMSN,CDOMSN_FLAG_W,HELIER,DELHER,THETA,LDEO_SAMPNO,ABSORBTION,ABSORBTION_FLAG_W,IMAGE_COUNT,IMAGE_COUNT_FLAG_W,CYTO_COUNT,CYTO_COUNT_FLAG_W,DELD,DELD_FLAG_W,DELDERR,BTL_DATE,BTL_TIME
,,,,,,,,,,,METERS,DBAR,ITS-90,PSS-78,,PSS-78,,UMOL/KG,,UMOL/KG,,UMOL/KG,,UMOL/KG,,UMOL/KG,,UMOL/KG,,PMOL/KG,,PMOL/KG,,PMOL/KG,,FMOL/KG,,UMOL/KG,,UMOL/KG,,,,DEG C,TU,,NMOL/KG,,PERCNT,,DEG C,,/MILLE,,/MILLE,,/MILLE,NMOL/KG,,/MILLE,,UG/KG,,UMOL/KG,,UMOL/KG,,,,TU,NMOL/KG,G/KG,,,,,,1/M,,1/M,,1/M,,1/M,,1/M,,1/M,,1/M,,1/NM,,1/NM,,NMOL/KG,PERCNT,DEG C,,,,,,,,/MILLE,,/MILLE,,
320620110219,       S04P,      36,          1,         36,         36,2,20110308,       0338,   -67.0000,  -161.3837,       3563,     3.6,  -0.6951,  33.6191,2,  33.6192,2,    343.4,3,   348.3,2,   45.58,2,   21.37,2,    0.13,2,    1.51,2,   6.029,2,   3.324,2,   0.607,2,   2.5620,2,  2138.7,2,  2279.0,2,   7.7255,2,    25.00,   0.107,2,    1.905,2,  -1.455,2,  -0.6954,2, -999.00,9,  -999.0,9,  -999.0,   8.674,2,   -0.56,2,-999.000,9,   46.52,2,   25.72,2, -66.9999,-161.3836,   0.005,      0.006,    33.7777,2,     -999.0,9,     -999.0,9,-999.0000,9,-999.0000,9,-999.0000,9,-999.0000,9,-999.0000,9,-999.0000,9,-999.0000,9,-999.0000,9,-999.0000,9,    0.000,   0.209,  -0.6952,50003601036,     -999.0,9,     -999.0,9,     -999.0,9,      -4.91,2,       0.26,20110308,       0513
320620110219,       S04P,      36,          1,         35,         35,2,20110308,       0338,   -67.0000,  -161.3837,       3563,    24.7,  -0.6985,  33.6200,2,  33.6200,2,    347.9,2,   347.8,2,   45.72,2,   21.39,2,    0.11,2,    1.52,2,   6.025,2,   3.347,2,   0.592,2,   2.6450,2,  2138.9,2,  2279.7,2,   7.7251,6,    25.00,   0.105,2,    1.980,2,  -1.483,2,  -0.6986,2, -999.00,9,  -999.0,9,  -999.0,   8.907,2,   -0.37,2,-999.000,9,   45.87,2,   26.01,2, -66.9999,-161.3836,   0.005,      0.011,    33.7785,2,     -999.0,9,     -999.0,9,-999.0000,9,-999.0000,9,-999.0000,9,-999.0000,9,-999.0000,9,-999.0000,9,-999.0000,9,-999.0000,9,-999.0000,9,    0.000,   0.203,  -0.6992,50003601035,     -999.0,9,     -999.0,9,     -999.0,9,      -4.09,2,       0.32,20110308,       0512
320620110219,       S04P,      36,          1,         34,         34,2,20110308,       0338,   -67.0000,  -161.3837,       3563,    50.9,  -0.7289,  33.6354,3,  33.6883,2,    347.4,2,   340.5,2,   48.01,2,   22.26,2,    0.12,2,    1.58,2,   5.823,2,   3.207,2,   0.556,2,   2.4830,2,  2148.6,2,  2282.8,6,   7.7087,2,    25.00,   0.086,2,    1.940,2,  -1.247,2,  -0.7293,2, -999.00,9,  -999.0,9,  -999.0,   8.965,2,   -0.48,2,-999.000,9,   45.81,2,   26.69,2, -66.9999,-161.3836,   0.004,      0.007,    33.8472,2,     -999.0,9,     -999.0,9,-999.0000,9,-999.0000,9,-999.0000,9,-999.0000,9,-999.0000,9,-999.0000,9,-999.0000,9,-999.0000,9,-999.0000,9,    0.001,   0.198,  -0.7303,50003601034,     -999.0,9,     -999.0,9,     -999.0,9,      -4.20,2,       0.24,20110308,       0510
320620110219,       S04P,      36,          1,         33,         33,2,20110308,       0338,   -67.0000,  -161.3837,       3563,    74.2,  -1.4447,  34.2196,2,  34.2134,2,    280.2,2,   281.6,2,   64.72,2,   29.34,2,    0.12,2,    2.04,2,   4.337,2,   2.348,2,   0.414,2,   1.7800,2,  2213.2,2,  2310.2,2,   7.6034,2,    25.00,   0.065,2,    1.967,2,   1.941,2,  -1.4448,2, -999.00,9,  -999.0,9,  -999.0,   8.804,2,   -0.41,2,-999.000,9,   41.75,2,   32.61,2, -66.9999,-161.3836,   0.004,      0.007,    34.3748,2,     -999.0,9,     -999.0,9,-999.0000,9,-999.0000,9,-999.0000,9,-999.0000,9,-999.0000,9,-999.0000,9,-999.0000,9,-999.0000,9,-999.0000,9,    0.000,   0.199,  -1.4464,50003601033,     -999.0,9,     -999.0,9,     -999.0,9,      -3.36,2,       0.16,20110308,       0509
320620110219,       S04P,      36,          1,         32,         32,2,20110308,       0338,   -67.0000,  -161.3837,       3563,   100.3,   0.2672,  34.4881,3,  34.5104,2,    232.9,2,   214.5,3,   82.09,2,   31.95,2,    0.05,2,    2.20,2,   1.934,2,   1.029,2,   0.182,2,   0.6690,2,  2244.4,2,  2329.6,2,   7.5651,2,    25.00,   0.013,2,    2.014,2,   6.123,2,   0.2313,2, -999.00,9,  -999.0,9,  -999.0,   8.854,2,   -0.06,2,-999.000,9,   41.53,2,   34.80,2, -66.9999,-161.3836,   0.004,      0.008,    34.6732,2,     -999.0,9,     -999.0,9,-999.0000,9,-999.0000,9,-999.0000,9,-999.0000,9,-999.0000,9,-999.0000,9,-999.0000,9,-999.0000,9,-999.0000,9,    0.001,   0.202,   0.2634,50003601032,     -999.0,9,     -999.0,9,     -999.0,9,      -1.80,2,       0.32,20110308,       0507
320620110219,       S04P,      36,          1,         31,         31,2,20110308,       0338,   -67.0000,  -161.3837,       3563,   124.8,   0.9321,  34.5975,2,  34.5934,2,    200.7,2,   199.6,2,   86.23,2,   32.36,2,    0.03,2,    2.22,2,   1.328,2,   0.689,2,   0.115,2,   0.3150,2,  2249.7,2,  2336.5,2,   7.5637,2,    25.00,   0.004,2,    1.963,2,   7.099,2,   0.9276,2, -999.00,9,  -999.0,9,  -999.0,   8.640,2,   -0.13,2,-999.000,9,   41.60,2,   35.26,2, -66.9999,-161.3836,   0.004,      0.007,    34.7565,2,     -999.0,9,     -999.0,9,-999.0000,9,-999.0000,9,-999.0000,9,-999.0000,9,-999.0000,9,-999.0000,9,-999.0000,9,-999.0000,9,-999.0000,9,    0.000,   0.212,   0.9266,50003601031,     -999.0,9,     -999.0,9,     -999.0,9,      -2.00,2,       0.24,20110308,       0506
320620110219,       S04P,      36,          1,         30,         30,2,20110308,       0338,   -67.0000,  -161.3837,       3563,   149.7,   1.1697,  34.6408,2,  34.6434,2,    190.7,2,   189.9,2,   89.37,2,   32.48,2,    0.03,2,    2.23,2,   0.924,2,   0.465,2,   0.083,2,   0.2530,2,  2254.3,2,  2340.0,2,   7.5610,2,    25.00,   0.001,2,    1.999,2,   7.813,2,   1.1632,2, -999.00,9,  -999.0,9,  -999.0,   8.749,2,   -0.12,2,-999.000,9,   41.08,2,   35.18,2, -66.9999,-161.3836,   0.004,      0.011,    34.8068,2,     -999.0,9,     -999.0,9,-999.0000,9,-999.0000,9,-999.0000,9,-999.0000,9,-999.0000,9,-999.0000,9,-999.0000,9,-999.0000,9,-999.0000,9,    0.000,   0.212,   1.1628,50003601030,     -999.0,9,     -999.0,9,     -999.0,9,      -2.30,2,       0.56,20110308,       0504
320620110219,       S04P,      36,          1,         29,         29,2,20110308,       0338,   -67.0000,  -161.3837,       3563,   199.4,   1.3871,  34.6945,2,  34.6940,2,    182.2,2,   183.2,2,   94.29,2,   32.55,2,    0.02,2,    2.24,2,   0.561,2,   0.271,2,   0.045,2,-999.0000,9,  2258.6,2,  2340.0,2,   7.5595,2,    25.00,   0.001,2,    2.014,2,   8.743,2,   1.3865,2, -999.00,9,  -999.0,9,  -999.0,   8.805,2,    0.10,2,-999.000,9,   40.69,2,   35.23,2, -66.9999,-161.3836,   0.004,      0.008,    34.8576,2,     -999.0,9,     -999.0,9,-999.0000,9,-999.0000,9,-999.0000,9,-999.0000,9,-999.0000,9,-999.0000,9,-999.0000,9,-999.0000,9,-999.0000,9,    0.001,   0.214,   1.3774,50003601029,     -999.0,9,     -999.0,9,     -999.0,9,      -1.40,2,       0.18,20110308,       0503
320620110219,       S04P,      36,          1,         28,         28,2,20110308,       0338,   -67.0000,  -161.3837,       3563,   248.6,   1.4692,  34.7212,2,  34.7207,2,    181.3,2,   180.9,2,   97.03,2,   32.50,2,    0.01,2,    2.23,2,   0.359,2,   0.171,2,   0.034,2,   0.0890,2,  2260.8,2,  2345.7,2,   7.5637,2,    25.00,   0.005,2,    1.965,2,   8.763,2,   1.4688,2, -999.00,9,  -999.0,9,  -999.0,   8.648,2,    0.00,2,-999.000,9,   40.59,2,   35.28,2, -66.9999,-161.3836,   0.004,      0.007,    34.8844,2,     -999.0,9,     -999.0,9,-999.0000,9,-999.0000,9,-999.0000,9,-999.0000,9,-999.0000,9,-999.0000,9,-999.0000,9,-999.0000,9,-999.0000,9,    0.001,   0.211,   1.4568,50003601028,     -999.0,9,     -999.0,9,     -999.0,9,      -1.58,2,       0.13,20110308,       0501
320620110219,       S04P,      36,          1,         27,         27,2,20110308,       0338,   -67.0000,  -161.3837,       3563,   299.9,   1.4381,  34.7274,2,  34.7272,2,    181.9,2,   183.2,2,   99.33,2,   32.39,2,    0.01,2,    2.23,2,   0.265,2,   0.120,2,   0.026,2,   0.0920,2,  2261.6,2,  2349.8,2,   7.5683,2,    25.00,   0.001,2,    1.904,2,   9.122,2,   1.4383,2, -999.00,9,  -999.0,9,  -999.0,   8.686,2,   -0.13,2,-999.000,9,   41.04,2,   35.04,2, -66.9999,-161.3836,   0.004,      0.007,    34.8909,2,     -999.0,9,     -999.0,9,-999.0000,9,-999.0000,9,-999.0000,9,-999.0000,9,-999.0000,9,-999.0000,9,-999.0000,9,-999.0000,9,-999.0000,9,    0.001,   0.212,   1.4231,50003601027,     -999.0,9,     -999.0,9,     -999.0,9,      -2.00,2,       0.36,20110308,       0459
320620110219,       S04P,      36,          1,         26,         26,2,20110308,       0338,   -67.0000,  -161.3837,       3563,   349.2,   1.3906,  34.7292,2,  34.7295,2,    182.7,2,   182.7,2,  101.33,2,   32.54,2,    0.00,2,    2.23,2,-999.000,9,-999.000,9,-999.000,9,-999.0000,9,  2261.4,2,  2350.1,2,   7.5681,2,    25.00,-999.000,9,-999.0000,9,-999.000,9,   1.3903,2, -999.00,9,  -999.0,9,  -999.0,-999.000,9, -999.00,9,-999.000,9,   41.25,2,   35.20,2, -66.9999,-161.3836,-999.000,     -999.0,    34.8933,2,     -999.0,9,     -999.0,9,-999.0000,9,-999.0000,9,-999.0000,9,-999.0000,9,-999.0000,9,-999.0000,9,-999.0000,9,-999.0000,9,-999.0000,9,-999.0000,-999.000,   1.3731,     -999.0,     -999.0,9,     -999.0,9,     -999.0,9,     -999.0,9,     -999.0,20110308,       0458
320620110219,       S04P,      36,          1,         25,         25,2,20110308,       0338,   -67.0000,  -161.3837,       3563,   400.1,   1.3529,  34.7296,2,  34.7303,2,    184.0,2,   183.9,2,  103.17,2,   32.55,2,    0.00,2,    2.24,2,   0.192,2,   0.095,2,   0.016,2,   0.0890,2,  2262.0,2,  2351.9,2,   7.5709,2,    25.00,   0.004,2,    2.019,2,   9.340,2,   1.3529,2, -999.00,9,  -999.0,9,  -999.0,   8.877,2,   -0.10,2,-999.000,9,   41.50,2,   35.00,2, -66.9999,-161.3836,   0.004,      0.007,    34.8941,2,     -999.0,9,     -999.0,9,-999.0000,9,-999.0000,9,-999.0000,9,-999.0000,9,-999.0000,9,-999.0000,9,-999.0000,9,-999.0000,9,-999.0000,9,    0.001,   0.200,   1.3328,50003601025,     -999.0,9,     -999.0,9,     -999.0,9,      -1.86,2,       0.13,20110308,       0456
320620110219,       S04P,      36,          1,         24,         24,2,20110308,       0338,   -67.0000,  -161.3837,       3563,   449.5,   1.3153,  34.7297,2,  34.7299,2,    185.3,2,   184.8,2,  104.77,2,   32.61,2,    0.00,2,    2.23,2,-999.000,9,-999.000,9,-999.000,9,-999.0000,9,  2262.2,2,  2352.3,2,   7.5714,2,    25.00,-999.000,9,-999.0000,9,-999.000,9,   1.3152,2, -999.00,9,  -999.0,9,  -999.0,-999.000,9, -999.00,9,-999.000,9,   41.45,2,   35.18,2, -66.9999,-161.3836,-999.000,     -999.0,    34.8937,2,     -999.0,9,     -999.0,9,-999.0000,9,-999.0000,9,-999.0000,9,-999.0000,9,-999.0000,9,-999.0000,9,-999.0000,9,-999.0000,9,-999.0000,9,-999.0000,-999.000,   1.2927,     -999.0,     -999.0,9,     -999.0,9,     -999.0,9,     -999.0,9,     -999.0,20110308,       0454
320620110219,       S04P,      36,          1,         23,         23,2,20110308,       0338,   -67.0000,  -161.3837,       3563,   499.3,   1.2776,  34.7293,2,  34.7297,2,    185.9,2,   185.2,2,  105.98,2,   32.69,2,    0.00,2,    2.23,2,   0.161,2,   0.071,2,   0.012,2,   0.0930,2,  2263.1,2,  2352.5,2,   7.5726,2,    25.00,   0.011,2,    1.994,2,   9.210,2,   1.2774,2, -999.00,9,  -999.0,9,  -999.0,   8.780,2,    0.04,2,-999.000,9,   41.34,2,   35.12,2, -66.9999,-161.3837,   0.006,      0.007,    34.8935,2,     -999.0,9,     -999.0,9,-999.0000,9,-999.0000,9,-999.0000,9,-999.0000,9,-999.0000,9,-999.0000,9,-999.0000,9,-999.0000,9,-999.0000,9,    0.001,   0.213,   1.2524,50003601023,     -999.0,9,     -999.0,9,     -999.0,9,      -1.53,2,       0.44,20110308,       0452
320620110219,       S04P,      36,          1,         22,         22,2,20110308,       0338,   -67.0000,  -161.3837,       3563,   598.9,   1.1974,  34.7274,2,  34.7279,2,    187.8,2,   187.0,2,  108.84,2,   32.58,2,    0.00,2,    2.24,2,-999.000,9,-999.000,9,-999.000,9,-999.0000,9,  -999.0,9,  -999.0,9,-999.0000,9,  -999.00,-999.000,9,-999.0000,9,-999.000,9,   1.1974,2, -999.00,9,  -999.0,9,  -999.0,-999.000,9, -999.00,9,-999.000,9,   40.96,2,   34.68,2, -66.9999,-161.3836,-999.000,     -999.0,    34.8917,2,     -999.0,9,     -999.0,9,-999.0000,9,-999.0000,9,-999.0000,9,-999.0000,9,-999.0000,9,-999.0000,9,-999.0000,9,-999.0000,9,-999.0000,9,-999.0000,-999.000,   1.1671,     -999.0,     -999.0,9,     -999.0,9,     -999.0,9,     -999.0,9,     -999.0,20110308,       0449
320620110219,       S04P,      36,          1,         21,         21,2,20110308,       0338,   -67.0000,  -161.3837,       3563,   699.6,   1.1334,  34.7254,2,  34.7258,2,    190.2,2,   189.6,2,  110.64,2,   32.53,2,    0.00,2,    2.24,2,   0.116,2,   0.055,2,   0.008,2,   0.0520,2,  2263.5,2,  2355.0,2,   7.5802,2,    25.00,   0.001,2,    1.994,2,   9.732,2,   1.1334,2, -999.00,9,  -999.0,9,  -999.0,   8.730,2,    0.09,2,-999.000,9,   40.87,2,   34.91,2, -66.9999,-161.3837,   0.004,      0.010,    34.8895,2,     -999.0,9,     -999.0,9,-999.0000,9,-999.0000,9,-999.0000,9,-999.0000,9,-999.0000,9,-999.0000,9,-999.0000,9,-999.0000,9,-999.0000,9,    0.000,   0.212,   1.0978,50003601021,     -999.0,9,     -999.0,9,     -999.0,9,      -1.94,2,       0.12,20110308,       0447
320620110219,       S04P,      36,          1,         20,         20,2,20110308,       0338,   -67.0000,  -161.3837,       3563,   800.8,   1.0741,  34.7232,2,  34.7238,2,    192.4,2,   192.5,2,  112.49,2,   32.41,2,    0.00,2,    2.23,2,   0.114,2,   0.053,2,   0.007,2,   0.0460,2,  -999.0,9,  -999.0,9,-999.0000,9,  -999.00,-999.000,9,    1.969,2,  10.158,2,   1.0739,2, -999.00,9,  -999.0,9,  -999.0,   8.681,2, -999.00,9,-999.000,9,   40.78,2,   34.44,2, -66.9999,-161.3836,-999.000,      0.007,    34.8875,2,     -999.0,9,     -999.0,9,-999.0000,9,-999.0000,9,-999.0000,9,-999.0000,9,-999.0000,9,-999.0000,9,-999.0000,9,-999.0000,9,-999.0000,9,    0.000,   0.212,   1.0330,50003601020,     -999.0,9,     -999.0,9,     -999.0,9,     -999.0,9,     -999.0,20110308,       0444
320620110219,       S04P,      36,          1,         19,         19,2,20110308,       0338,   -67.0000,  -161.3837,       3563,   899.5,   1.0086,  34.7209,2,  34.7220,2,    195.3,2,   195.1,2,  113.76,2,   32.38,2,    0.00,2,    2.23,2,   0.108,2,   0.047,2,   0.008,2,   0.0870,2,  2261.5,2,  2357.1,2,   7.5871,6,    25.00,   0.001,2,    2.024,2,   9.917,2,   1.0086,2, -999.00,9,  -999.0,9,  -999.0,   8.845,2, -999.00,9,-999.000,9,   40.60,2,   34.53,2, -66.9999,-161.3836,   0.004,      0.011,    34.8858,2,     -999.0,9,     -999.0,9,-999.0000,9,-999.0000,9,-999.0000,9,-999.0000,9,-999.0000,9,-999.0000,9,-999.0000,9,-999.0000,9,-999.0000,9,    0.000,   0.200,   0.9622,50003601019,     -999.0,9,     -999.0,9,     -999.0,9,     -999.0,9,     -999.0,20110308,       0442
320620110219,       S04P,      36,          1,         18,         18,2,20110308,       0338,   -67.0000,  -161.3837,       3563,  1000.4,   0.9482,  34.7184,2,  34.7187,2,    197.2,2,   196.7,2,  115.84,2,   32.39,2,    0.00,2,    2.22,2,-999.000,9,-999.000,9,-999.000,9,-999.0000,9,  -999.0,9,  -999.0,9,-999.0000,9,  -999.00,-999.000,9,-999.0000,9,-999.000,9,   0.9486,2, -999.00,9,  -999.0,9,  -999.0,-999.000,9, -999.00,9,-999.000,9,   40.47,2,   34.49,2, -66.9999,-161.3836,-999.000,     -999.0,    34.8824,2,     -999.0,9,     -999.0,9,-999.0000,9,-999.0000,9,-999.0000,9,-999.0000,9,-999.0000,9,-999.0000,9,-999.0000,9,-999.0000,9,-999.0000,9,-999.0000,-999.000,   0.8962,     -999.0,     -999.0,9,     -999.0,9,     -999.0,9,     -999.0,9,     -999.0,20110308,       0439
320620110219,       S04P,      36,          1,         17,         17,2,20110308,       0338,   -67.0000,  -161.3837,       3563,  1099.2,   0.8945,  34.7165,2,  34.7171,2,    198.4,2,   198.1,2,  118.19,2,   32.54,2,    0.00,2,    2.23,2,   0.095,2,   0.048,2,   0.008,2,   0.0760,2,  2262.2,2,  2358.7,6,   7.5908,2,    25.00,   0.003,2,    1.993,2,   9.406,2,   0.8941,2, -999.00,9,  -999.0,9,  -999.0,   8.645,2, -999.00,9,-999.000,9,   40.41,2,   34.72,2, -66.9999,-161.3836,   0.004,      0.014,    34.8808,2,     -999.0,9,     -999.0,9,-999.0000,9,-999.0000,9,-999.0000,9,-999.0000,9,-999.0000,9,-999.0000,9,-999.0000,9,-999.0000,9,-999.0000,9,    0.001,   0.219,   0.8369,50003601017,     -999.0,9,     -999.0,9,     -999.0,9,     -999.0,9,     -999.0,20110308,       0436
320620110219,       S04P,      36,          1,         16,         16,2,20110308,       0338,   -67.0000,  -161.3837,       3563,  1199.8,   0.8416,  34.7141,2,  34.7155,2,    200.1,2,   199.5,2,  119.29,2,   32.52,2,    0.00,2,    2.23,2,-999.000,9,-999.000,9,-999.000,9,-999.0000,9,  -999.0,9,  -999.0,9,-999.0000,9,  -999.00,-999.000,9,-999.0000,9,-999.000,9,   0.8417,2, -999.00,9,  -999.0,9,  -999.0,-999.000,9, -999.00,9,-999.000,9,   40.59,2,   35.05,2, -66.9999,-161.3837,-999.000,     -999.0,    34.8792,2,     -999.0,9,     -999.0,9,-999.0000,9,-999.0000,9,-999.0000,9,-999.0000,9,-999.0000,9,-999.0000,9,-999.0000,9,-999.0000,9,-999.0000,9,-999.0000,-999.000,   0.7782,     -999.0,     -999.0,9,     -999.0,9,     -999.0,9,     -999.0,9,     -999.0,20110308,       0434
320620110219,       S04P,      36,          1,         15,         15,2,20110308,       0338,   -67.0000,  -161.3837,       3563,  1300.6,   0.7990,  34.7127,2,  34.7146,2,    201.3,2,   201.2,2,  120.32,2,   32.36,2,    0.00,2,    2.22,2,   0.100,2,   0.042,2,   0.006,2,   0.0760,2,  2262.1,2,  2358.7,2,   7.5907,2,    25.00,   0.001,2,-999.0000,9,-999.000,9,   0.7997,2, -999.00,9,  -999.0,9,  -999.0,-999.000,9, -999.00,9,-999.000,9,   40.68,2,   34.66,2, -66.9999,-161.3836,   0.005,     -999.0,    34.8783,2,     -999.0,9,     -999.0,9,-999.0000,9,-999.0000,9,-999.0000,9,-999.0000,9,-999.0000,9,-999.0000,9,-999.0000,9,-999.0000,9,-999.0000,9,-999.0000,-999.000,   0.7296,     -999.0,     -999.0,9,     -999.0,9,     -999.0,9,     -999.0,9,     -999.0,20110308,       0431
320620110219,       S04P,      36,          1,         14,         14,2,20110308,       0338,   -67.0000,  -161.3837,       3563,  1401.3,   0.7495,  34.7105,2,  34.7114,2,    202.6,2,   202.3,2,  121.58,2,   32.41,2,    0.00,2,    2.23,2,-999.000,9,-999.000,9,-999.000,9,-999.0000,9,  -999.0,9,  -999.0,9,-999.0000,9,  -999.00,-999.000,9,-999.0000,9,-999.000,9,   0.7494,2, -999.00,9,  -999.0,9,  -999.0,-999.000,9, -999.00,9,-999.000,9,   40.76,2,   34.43,2, -66.9999,-161.3836,-999.000,     -999.0,    34.8751,2,     -999.0,9,     -999.0,9,-999.0000,9,-999.0000,9,-999.0000,9,-999.0000,9,-999.0000,9,-999.0000,9,-999.0000,9,-999.0000,9,-999.0000,9,-999.0000,-999.000,   0.6741,     -999.0,     -999.0,9,     -999.0,9,     -999.0,9,     -999.0,9,     -999.0,20110308,       0429