BOTTLE,20220813CCHSIOAMB
EXPOCODE,SECT_ID,STNNBR,CASTNO,SAMPNO,BTLNBR,BTLNBR_FLAG_W,DATE,TIME,LATITUDE,LONGITUDE,DEPTH,CTDPRS,CTDTMP,CTDSAL,CTDSAL_FLAG_W,SALNTY,SALNTY_FLAG_W,CTDOXY,CTDOXY_FLAG_W,OXYGEN,OXYGEN_FLAG_W,SILCAT,SILCAT_FLAG_W,NITRAT,NITRAT_FLAG_W,NITRIT,NITRIT_FLAG_W,PHSPHT,PHSPHT_FLAG_W,CFC-11,CFC-11_FLAG_W,CFC-12,CFC-12_FLAG_W,CFC113,CFC113_FLAG_W,SF6,SF6_FLAG_W,TCARBN,TCARBN_FLAG_W,ALKALI,ALKALI_FLAG_W,PH_TOT,PH_TOT_FLAG_W,PH_TMP,TRITUM,TRITUM_FLAG_W,HELIUM,HELIUM_FLAG_W,DELHE3,DELHE3_FLAG_W,REFTMP,REFTMP_FLAG_W,DELC13,DELC13_FLAG_W,DELC14,DELC14_FLAG_W,C14ERR,NEON,NEON_FLAG_W,DELO18,DELO18_FLAG_W,POC,POC_FLAG_W,DOC,DOC_FLAG_W,TDN,TDN_FLAG_W,BTL_LAT,BTL_LON,TRITER,NEONER,SALTREF,SALTREF_FLAG_W,PIGMENTS,PIGMENTS_FLAG_W,LAB_DEN,LAB_DEN_FLAG_W,CDOM325,CDOM325_FLAG_W,CDOM340,CDOM340_FLAG_W,CDOM380,CDOM380_FLAG_W,CDOM412,CDOM412_FLAG_W,CDOM443,CDOM443_FLAG_W,CDOM490,CDOM490_FLAG_W,CDOM555,CDOM555_FLAG_W,CDOMSL,CDOMSL_FLAG_W,CDOMSN,CDOMSN_FLAG_W,HELIER,DELHER,THETA,LDEO_SAMPNO,ABSORBTION,ABSORBTION_FLAG_W,IMAGE_COUNT,IMAGE_COUNT_FLAG_W,CYTO_COUNT,CYTO_COUNT_FLAG_W,DELD,DELD_FLAG_W,DELDERR,BTL_DATE,BTL_TIME
,,,,,,,,,,,METERS,DBAR,ITS-90,PSS-78,,PSS-78,,UMOL/KG,,UMOL/KG,,UMOL/KG,,UMOL/KG,,UMOL/KG,,UMOL/KG,,PMOL/KG,,PMOL/KG,,PMOL/KG,,FMOL/KG,,UMOL/KG,,UMOL/KG,,,,DEG C,TU,,NMOL/KG,,PERCNT,,DEG C,,/MILLE,,/MILLE,,/MILLE,NMOL/KG,,/MILLE,,UG/KG,,UMOL/KG,,UMOL/KG,,,,TU,NMOL/KG,G/KG,,,,,,1/M,,1/M,,1/M,,1/M,,1/M,,1/M,,1/M,,1/NM,,1/NM,,NMOL/KG,PERCNT,DEG C,,,,,,,,/MILLE,,/MILLE,,
320620110219,       S04P,     123,          1,         13,         13,2,20110414,       1801,   -67.0002,   -91.8373,       4642,  1865.1,   1.2934,  34.7269,2,  34.7263,2,    195.9,2,   196.2,2,  104.91,2,   31.38,2,    0.00,2,    2.17,2,   0.137,2,   0.064,2,   0.007,2,   0.0420,2,  -999.0,9,  -999.0,9,-999.0000,9,  -999.00,-999.000,9,-999.0000,9,-999.000,9,   1.2933,2, -999.00,9,  -999.0,9,  -999.0,-999.000,9, -999.00,9,-999.000,9,   39.56,2,   33.49,2, -67.0002, -91.8373,-999.000,     -999.0,    34.8901,2,     -999.0,9,     -999.0,9,   0.0802,2,   0.0403,3,  -0.0016,4,  -0.0057,4,  -0.0141,4,  -0.0130,4,  -0.0135,4,   0.0717,4,   0.0537,4,-999.0000,-999.000,   1.1779,     -999.0,     -999.0,9,     -999.0,9,     -999.0,9,     -999.0,9,     -999.0,20110414,       1900
320620110219,       S04P,     123,          1,         12,         12,2,20110414,       1801,   -67.0002,   -91.8373,       4642,  2085.1,   1.1645,  34.7228,2,  34.7218,2,    197.7,2,   197.8,2,  109.12,2,   31.49,2,    0.00,2,    2.18,2,-999.000,9,-999.000,9,-999.000,9,-999.0000,9,  2262.5,2,  2362.8,2,   7.6006,2,    25.00,-999.000,9,-999.0000,9,-999.000,9,   1.1645,2, -999.00,9,  -999.0,9,  -999.0,-999.000,9, -999.00,9,-999.000,9,   39.56,2,   33.74,2, -67.0002, -91.8373,-999.000,     -999.0,    34.8855,2,     -999.0,9,     -999.0,9,-999.0000,9,-999.0000,9,-999.0000,9,-999.0000,9,-999.0000,9,-999.0000,9,-999.0000,9,-999.0000,9,-999.0000,9,-999.0000,-999.000,   1.0338,     -999.0,     -999.0,9,     -999.0,9,     -999.0,9,     -999.0,9,     -999.0,20110414,       1856
320620110219,       S04P,     123,          1,         11,         11,2,20110414,       1801,   -67.0002,   -91.8373,       4642,  2334.8,   1.0368,  34.7184,2,  34.7179,2,    200.1,2,   200.1,2,  113.48,2,   31.53,2,    0.00,2,    2.19,2,   0.128,2,   0.063,2,   0.006,2,   0.0320,2,  -999.0,9,  -999.0,9,-999.0000,9,  -999.00,-999.000,9,-999.0000,9,-999.000,9,   1.0372,2, -999.00,9,  -999.0,9,  -999.0,-999.000,9, -999.00,9,-999.000,9,   39.31,2,   33.84,2, -67.0002, -91.8373,-999.000,     -999.0,    34.8816,2,     -999.0,9,     -999.0,9,-999.0000,9,-999.0000,9,-999.0000,9,-999.0000,9,-999.0000,9,-999.0000,9,-999.0000,9,-999.0000,9,-999.0000,9,-999.0000,-999.000,   0.8881,     -999.0,     -999.0,9,     -999.0,9,     -999.0,9,     -999.0,9,     -999.0,20110414,       1851
320620110219,       S04P,     123,          1,         10,         37,2,20110414,       1801,   -67.0002,   -91.8373,       4642,  2585.0,   0.9177,  34.7141,2,  34.7133,2,    202.2,2,   202.5,2,  117.76,2,   31.64,2,    0.00,2,    2.21,2,-999.000,9,-999.000,9,-999.000,9,-999.0000,9,  2263.3,2,  2361.6,2,   7.5998,2,    25.00,-999.000,9,-999.0000,9,-999.000,9,   0.9179,2, -999.00,9,  -999.0,9,  -999.0,-999.000,9, -999.00,9,-999.000,9,   39.54,2,   34.01,2, -67.0002, -91.8373,-999.000,     -999.0,    34.8770,2,     -999.0,9,     -999.0,9,   0.0760,2,   0.0385,3,   0.0009,3,  -0.0073,4,  -0.0158,4,  -0.0139,4,  -0.0139,4,   0.0624,4,   0.0516,4,-999.0000,-999.000,   0.7502,     -999.0,     -999.0,9,     -999.0,9,     -999.0,9,     -999.0,9,     -999.0,20110414,       1846
320620110219,       S04P,     123,          1,          9,          9,2,20110414,       1801,   -67.0002,   -91.8373,       4642,  2835.3,   0.8191,  34.7104,2,  34.7096,2,    204.0,2,   204.2,2,  121.32,2,   31.86,2,    0.00,2,    2.22,2,   0.160,2,   0.073,2,   0.008,2,   0.0400,2,  -999.0,9,  -999.0,9,-999.0000,9,  -999.00,-999.000,9,-999.0000,9,-999.000,9,   0.8190,2, -999.00,9,  -999.0,9,  -999.0,-999.000,9, -999.00,9,-999.000,9,   39.46,2,   34.14,2, -67.0002, -91.8373,-999.000,     -999.0,    34.8733,2,     -999.0,9,     -999.0,9,-999.0000,9,-999.0000,9,-999.0000,9,-999.0000,9,-999.0000,9,-999.0000,9,-999.0000,9,-999.0000,9,-999.0000,9,-999.0000,-999.000,   0.6319,     -999.0,     -999.0,9,     -999.0,9,     -999.0,9,     -999.0,9,     -999.0,20110414,       1840
320620110219,       S04P,     123,          1,          8,          8,2,20110414,       1801,   -67.0002,   -91.8373,       4642,  3099.5,   0.7089,  34.7072,2,  34.7061,2,    206.0,2,   206.4,2,  124.81,2,   31.92,2,    0.00,2,    2.22,2,-999.000,9,-999.000,9,-999.000,9,-999.0000,9,  2263.0,2,  2361.9,2,   7.5977,2,    25.00,-999.000,9,-999.0000,9,-999.000,9,   0.7088,2, -999.00,9,  -999.0,9,  -999.0,-999.000,9, -999.00,9,-999.000,9,   39.52,2,   34.06,2, -67.0002, -91.8373,-999.000,     -999.0,    34.8697,2,     -999.0,9,     -999.0,9,-999.0000,9,-999.0000,9,-999.0000,9,-999.0000,9,-999.0000,9,-999.0000,9,-999.0000,9,-999.0000,9,-999.0000,9,-999.0000,-999.000,   0.5004,     -999.0,     -999.0,9,     -999.0,9,     -999.0,9,     -999.0,9,     -999.0,20110414,       1835
320620110219,       S04P,     123,          1,          7,          7,2,20110414,       1801,   -67.0002,   -91.8373,       4642,  3399.3,   0.5856,  34.7049,2,  34.7045,2,    208.8,2,   209.6,2,  127.42,2,   32.17,2,    0.00,2,    2.23,2,   0.220,2,   0.100,2,   0.009,2,   0.0460,2,  -999.0,9,  -999.0,9,-999.0000,9,  -999.00,-999.000,9,-999.0000,9,-999.000,9,   0.5864,2, -999.00,9,  -999.0,9,  -999.0,-999.000,9, -999.00,9,-999.000,9,   39.91,2,   34.36,2, -67.0002, -91.8373,-999.000,     -999.0,    34.8682,2,     -999.0,9,     -999.0,9,   0.0695,3,   0.0317,3,  -0.0072,4,  -0.0120,4,  -0.0189,4,  -0.0148,4,  -0.0141,4,   0.0838,4,   0.0615,4,-999.0000,-999.000,   0.3521,     -999.0,     -999.0,9,     -999.0,9,     -999.0,9,     -999.0,9,     -999.0,20110414,       1829
320620110219,       S04P,     123,          1,          6,          6,2,20110414,       1801,   -67.0002,   -91.8373,       4642,  3700.2,   0.4960,  34.7039,2,  34.7023,2,    210.7,2,   211.0,2,  131.07,2,   32.27,2,    0.00,2,    2.23,2,-999.000,9,-999.000,9,-999.000,9,-999.0000,9,  2263.1,2,  2362.3,2,   7.5963,2,    25.00,-999.000,9,-999.0000,9,-999.000,9,   0.4963,2, -999.00,9,  -999.0,9,  -999.0,-999.000,9, -999.00,9,-999.000,9,   39.85,2,   34.61,2, -67.0002, -91.8373,-999.000,     -999.0,    34.8660,2,     -999.0,9,     -999.0,9,-999.0000,9,-999.0000,9,-999.0000,9,-999.0000,9,-999.0000,9,-999.0000,9,-999.0000,9,-999.0000,9,-999.0000,9,-999.0000,-999.000,   0.2357,     -999.0,     -999.0,9,     -999.0,9,     -999.0,9,     -999.0,9,     -999.0,20110414,       1823
320620110219,       S04P,     123,          1,          5,          5,2,20110414,       1801,   -67.0002,   -91.8373,       4642,  4000.2,   0.4442,  34.7032,2,  34.7027,2,    212.6,2,   212.6,2,  133.24,2,   32.38,2,    0.00,2,    2.23,2,   0.231,2,   0.110,2,   0.010,2,   0.0490,2,  -999.0,9,  -999.0,9,-999.0000,9,  -999.00,-999.000,9,-999.0000,9,-999.000,9,   0.4448,2, -999.00,9,  -999.0,9,  -999.0,-999.000,9, -999.00,9,-999.000,9,   39.70,2,   34.31,2, -67.0002, -91.8373,-999.000,     -999.0,    34.8664,2,     -999.0,9,     -999.0,9,-999.0000,9,-999.0000,9,-999.0000,9,-999.0000,9,-999.0000,9,-999.0000,9,-999.0000,9,-999.0000,9,-999.0000,9,-999.0000,-999.000,   0.1551,     -999.0,     -999.0,9,     -999.0,9,     -999.0,9,     -999.0,9,     -999.0,20110414,       1817
320620110219,       S04P,     123,          1,          4,          4,2,20110414,       1801,   -67.0002,   -91.8373,       4642,  4299.6,   0.4151,  34.7026,2,  34.7019,2,    213.6,2,   213.7,2,  137.35,2,   32.50,2,    0.00,2,    2.24,2,   0.269,2,   0.133,2,   0.012,2,   0.0550,2,  2264.5,2,  -999.0,9,   7.5973,2,    25.00,-999.000,9,-999.0000,9,-999.000,9,   0.4151,2, -999.00,9,  -999.0,9,  -999.0,-999.000,9, -999.00,9,-999.000,9,   40.54,2,   34.69,2, -67.0002, -91.8373,-999.000,     -999.0,    34.8656,2,     -999.0,9,     -999.0,9,   0.0692,3,   0.0325,3,  -0.0043,4,  -0.0114,4,  -0.0187,4,  -0.0148,4,  -0.0140,4,   0.0704,4,   0.0582,4,-999.0000,-999.000,   0.0955,     -999.0,     -999.0,9,     -999.0,9,     -999.0,9,     -999.0,9,     -999.0,20110414,       1811
320620110219,       S04P,     123,          1,          3,          3,2,20110414,       1801,   -67.0002,   -91.8373,       4642,  4475.2,   0.4059,  34.7020,2,  34.7011,2,    213.8,2,   213.9,2,  139.24,2,   32.52,2,    0.00,2,    2.24,2,   0.312,2,   0.148,2,   0.015,2,   0.0610,2,  2264.1,2,  2362.7,6,   7.5960,2,    25.00,-999.000,9,-999.0000,9,-999.000,9,   0.4061,2, -999.00,9,  -999.0,9,  -999.0,-999.000,9, -999.00,9,-999.000,9,   40.87,2,   34.79,2, -67.0002, -91.8373,-999.000,     -999.0,    34.8648,2,     -999.0,9,     -999.0,9,-999.0000,9,-999.0000,9,-999.0000,9,-999.0000,9,-999.0000,9,-999.0000,9,-999.0000,9,-999.0000,9,-999.0000,9,-999.0000,-999.000,   0.0677,     -999.0,     -999.0,9,     -999.0,9,     -999.0,9,     -999.0,9,     -999.0,20110414,       1808
320620110219,       S04P,     123,          1,          2,          2,2,20110414,       1801,   -67.0002,   -91.8373,       4642,  4625.1,   0.4059,  34.7017,2,  34.7007,2,    213.8,2,   213.8,2,  142.35,2,   32.60,2,    0.00,2,    2.24,2,   0.351,2,   0.166,2,   0.017,2,   0.0710,2,  2264.8,2,  -999.0,9,   7.5953,6,    25.00,-999.000,9,-999.0000,9,-999.000,9,   0.4056,2, -999.00,9,  -999.0,9,  -999.0,-999.000,9, -999.00,9,-999.000,9,   40.77,2,   34.82,2, -67.0002, -91.8373,-999.000,     -999.0,    34.8644,2,     -999.0,9,     -999.0,9,-999.0000,9,-999.0000,9,-999.0000,9,-999.0000,9,-999.0000,9,-999.0000,9,-999.0000,9,-999.0000,9,-999.0000,9,-999.0000,-999.000,   0.0512,     -999.0,     -999.0,9,     -999.0,9,     -999.0,9,     -999.0,9,     -999.0,20110414,       1804
320620110219,       S04P,     123,          1,          1,          1,2,20110414,       1801,   -67.0002,   -91.8373,       4642,  4728.2,   0.4060,  34.7010,2,  34.7007,2,    213.7,2,   214.2,2,  143.91,2,   32.65,2,    0.00,2,    2.24,2,   0.436,2,   0.215,2,   0.024,2,   0.0760,2,  2266.1,6,  2364.3,2,   7.5953,2,    25.00,-999.000,9,-999.0000,9,-999.000,9,   0.4055,2, -999.00,9,  -999.0,9,  -999.0,-999.000,9, -999.00,9,-999.000,9,   40.58,2,   35.08,2, -67.0002, -91.8373,-999.000,     -999.0,    34.8644,2,     -999.0,9,     -999.0,9,   0.0713,3,   0.0337,3,  -0.0048,4,  -0.0117,4,  -0.0187,4,  -0.0148,4,  -0.0140,4,   0.0719,4,   0.0577,4,-999.0000,-999.000,   0.0398,     -999.0,     -999.0,9,     -999.0,9,     -999.0,9,     -999.0,9,     -999.0,20110414,       1801