BOTTLE,20220813CCHSIOAMB
EXPOCODE,SECT_ID,STNNBR,CASTNO,SAMPNO,BTLNBR,BTLNBR_FLAG_W,DATE,TIME,LATITUDE,LONGITUDE,DEPTH,CTDPRS,CTDTMP,CTDSAL,CTDSAL_FLAG_W,SALNTY,SALNTY_FLAG_W,CTDOXY,CTDOXY_FLAG_W,OXYGEN,OXYGEN_FLAG_W,SILCAT,SILCAT_FLAG_W,NITRAT,NITRAT_FLAG_W,NITRIT,NITRIT_FLAG_W,PHSPHT,PHSPHT_FLAG_W,CFC-11,CFC-11_FLAG_W,CFC-12,CFC-12_FLAG_W,CFC113,CFC113_FLAG_W,SF6,SF6_FLAG_W,TCARBN,TCARBN_FLAG_W,ALKALI,ALKALI_FLAG_W,PH_TOT,PH_TOT_FLAG_W,PH_TMP,TRITUM,TRITUM_FLAG_W,HELIUM,HELIUM_FLAG_W,DELHE3,DELHE3_FLAG_W,REFTMP,REFTMP_FLAG_W,DELC13,DELC13_FLAG_W,DELC14,DELC14_FLAG_W,C14ERR,NEON,NEON_FLAG_W,DELO18,DELO18_FLAG_W,POC,POC_FLAG_W,DOC,DOC_FLAG_W,TDN,TDN_FLAG_W,BTL_LAT,BTL_LON,TRITER,NEONER,SALTREF,SALTREF_FLAG_W,PIGMENTS,PIGMENTS_FLAG_W,LAB_DEN,LAB_DEN_FLAG_W,CDOM325,CDOM325_FLAG_W,CDOM340,CDOM340_FLAG_W,CDOM380,CDOM380_FLAG_W,CDOM412,CDOM412_FLAG_W,CDOM443,CDOM443_FLAG_W,CDOM490,CDOM490_FLAG_W,CDOM555,CDOM555_FLAG_W,CDOMSL,CDOMSL_FLAG_W,CDOMSN,CDOMSN_FLAG_W,HELIER,DELHER,THETA,LDEO_SAMPNO,ABSORBTION,ABSORBTION_FLAG_W,IMAGE_COUNT,IMAGE_COUNT_FLAG_W,CYTO_COUNT,CYTO_COUNT_FLAG_W,DELD,DELD_FLAG_W,DELDERR,BTL_DATE,BTL_TIME
,,,,,,,,,,,METERS,DBAR,ITS-90,PSS-78,,PSS-78,,UMOL/KG,,UMOL/KG,,UMOL/KG,,UMOL/KG,,UMOL/KG,,UMOL/KG,,PMOL/KG,,PMOL/KG,,PMOL/KG,,FMOL/KG,,UMOL/KG,,UMOL/KG,,,,DEG C,TU,,NMOL/KG,,PERCNT,,DEG C,,/MILLE,,/MILLE,,/MILLE,NMOL/KG,,/MILLE,,UG/KG,,UMOL/KG,,UMOL/KG,,,,TU,NMOL/KG,G/KG,,,,,,1/M,,1/M,,1/M,,1/M,,1/M,,1/M,,1/M,,1/NM,,1/NM,,NMOL/KG,PERCNT,DEG C,,,,,,,,/MILLE,,/MILLE,,
320620110219,       P15S,      82,          1,         36,         36,2,20110323,       2308,   -74.2251,  -175.2145,       2437,     5.2,  -1.6400,  33.9744,2,  33.9745,2,    338.5,2,   339.6,2,   62.00,2,   25.23,2,    0.09,2,    1.84,2,   6.005,2,   3.226,2,   0.596,2,   2.6080,2,  2181.8,6,  2304.4,2,   7.6735,2,    25.00,   0.060,2,    1.979,2,  -1.415,2,  -1.6390,2, -999.00,9,  -999.0,9,  -999.0,   8.913,2,   -0.51,2,-999.000,9, -999.00,9, -999.00,9, -74.2251,-175.2142,   0.005,      0.008,    34.1347,2,     -999.0,9,     -999.0,9,-999.0000,9,-999.0000,9,-999.0000,9,-999.0000,9,-999.0000,9,-999.0000,9,-999.0000,9,-999.0000,9,-999.0000,9,    0.001,   0.193,  -1.6401,50008201036,     -999.0,9,     -999.0,9,     -999.0,9,      -4.80,2,       0.12,20110324,       0022
320620110219,       P15S,      82,          1,         35,         35,2,20110323,       2308,   -74.2251,  -175.2145,       2437,    19.1,  -1.6507,  33.9747,2,-999.0000,9,   -999.0,9,  -999.0,9, -999.00,9, -999.00,9, -999.00,9, -999.00,9,-999.000,9,-999.000,9,-999.000,9,-999.0000,9,  -999.0,9,  -999.0,9,-999.0000,9,  -999.00,-999.000,9,-999.0000,9,-999.000,9,  -1.6504,2, -999.00,9,  -999.0,9,  -999.0,-999.000,9, -999.00,9,-999.000,1, -999.00,9, -999.00,9, -74.2251,-175.2141,-999.000,     -999.0,     -999.0,9,     -999.0,1,     -999.0,9,-999.0000,9,-999.0000,9,-999.0000,9,-999.0000,9,-999.0000,9,-999.0000,9,-999.0000,9,-999.0000,9,-999.0000,9,-999.0000,-999.000,  -1.6511,     -999.0,     -999.0,1,     -999.0,9,     -999.0,9,     -999.0,9,     -999.0,20110324,       0020
320620110219,       P15S,      82,          1,         34,         34,2,20110323,       2308,   -74.2251,  -175.2145,       2437,    19.8,  -1.6511,  33.9745,2,  33.9749,2,    340.8,2,   339.8,2,   62.08,2,   25.16,2,    0.09,2,    1.85,2,   6.031,2,   3.236,2,   0.603,2,   2.5740,2,  2181.9,2,  2303.5,2,   7.6737,6,    25.00,   0.087,2,    1.993,2,  -1.220,2,  -1.6508,2, -999.00,9,  -999.0,9,  -999.0,   8.997,2,   -0.30,2,-999.000,9, -999.00,9, -999.00,9, -74.2251,-175.2141,   0.005,      0.007,    34.1351,2,     -999.0,9,     -999.0,9,-999.0000,9,-999.0000,9,-999.0000,9,-999.0000,9,-999.0000,9,-999.0000,9,-999.0000,9,-999.0000,9,-999.0000,9,    0.000,   0.192,  -1.6515,50008201034,     -999.0,9,     -999.0,9,     -999.0,9,      -4.50,2,       0.17,20110324,       0020
320620110219,       P15S,      82,          1,         32,         32,2,20110323,       2308,   -74.2251,  -175.2145,       2437,    39.8,  -1.6386,  33.9779,2,  33.9776,2,    340.7,2,   343.2,2,   61.74,2,   25.33,2,    0.09,2,    1.86,2,   5.982,2,   3.216,2,   0.599,2,   2.4540,2,  2182.8,2,  2303.0,6,   7.6739,2,    25.00,   0.091,2,    2.043,2,  -1.389,2,  -1.6390,2, -999.00,9,  -999.0,9,  -999.0,   9.164,2,   -0.46,6,-999.000,9, -999.00,9, -999.00,9, -74.2251,-175.2141,   0.005,      0.007,    34.1378,2,     -999.0,9,     -999.0,9,-999.0000,9,-999.0000,9,-999.0000,9,-999.0000,9,-999.0000,9,-999.0000,9,-999.0000,9,-999.0000,9,-999.0000,9,    0.001,   0.210,  -1.6394,50008201032,     -999.0,9,     -999.0,9,     -999.0,9,      -4.95,6,       0.09,20110324,       0019
320620110219,       P15S,      82,          1,         33,         33,2,20110323,       2308,   -74.2251,  -175.2145,       2437,    40.6,  -1.6380,  33.9779,2,-999.0000,9,   -999.0,9,  -999.0,9, -999.00,9, -999.00,9, -999.00,9, -999.00,9,-999.000,9,-999.000,9,-999.000,9,-999.0000,9,  -999.0,9,  -999.0,9,-999.0000,9,  -999.00,-999.000,9,-999.0000,9,-999.000,9,  -1.6382,2, -999.00,9,  -999.0,9,  -999.0,-999.000,9, -999.00,9,-999.000,1, -999.00,9, -999.00,9, -74.2251,-175.2141,-999.000,     -999.0,     -999.0,9,     -999.0,1,     -999.0,9,-999.0000,9,-999.0000,9,-999.0000,9,-999.0000,9,-999.0000,9,-999.0000,9,-999.0000,9,-999.0000,9,-999.0000,9,-999.0000,-999.000,  -1.6388,     -999.0,     -999.0,1,     -999.0,9,     -999.0,9,     -999.0,9,     -999.0,20110324,       0019
320620110219,       P15S,      82,          1,         31,         31,2,20110323,       2308,   -74.2251,  -175.2145,       2437,    64.3,  -1.6317,  33.9800,2,  33.9811,2,    339.2,2,   338.4,2,   61.44,2,   25.33,2,    0.09,2,    1.86,2,   5.997,2,   3.226,2,   0.592,2,   2.4860,2,  2182.7,2,  2304.3,2,   7.6703,2,    25.00,   0.063,2,    1.989,2,   9.278,4,  -1.6313,2, -999.00,9,  -999.0,9,  -999.0,   8.710,2, -999.00,9,-999.000,9, -999.00,9, -999.00,9, -74.2251,-175.2141,   0.005,      0.007,    34.1413,2,     -999.0,9,     -999.0,9,-999.0000,9,-999.0000,9,-999.0000,9,-999.0000,9,-999.0000,9,-999.0000,9,-999.0000,9,-999.0000,9,-999.0000,9,    0.000,   0.224,  -1.6330,50008201031,     -999.0,9,     -999.0,9,     -999.0,9,     -999.0,9,     -999.0,20110324,       0017
320620110219,       P15S,      82,          1,         30,         30,2,20110323,       2308,   -74.2251,  -175.2145,       2437,    89.5,  -1.7556,  34.1364,2,  34.1351,2,    289.4,2,   290.2,2,   68.30,2,   29.59,2,    0.16,2,    2.09,2,-999.000,9,-999.000,9,-999.000,9,-999.0000,9,  2210.5,2,  2309.0,2,   7.6046,2,    25.00,-999.000,9,-999.0000,9,-999.000,9,  -1.7552,2, -999.00,9,  -999.0,9,  -999.0,-999.000,9, -999.00,9,-999.000,9, -999.00,9, -999.00,9, -74.2251,-175.2142,-999.000,     -999.0,    34.2960,2,     -999.0,9,     -999.0,9,-999.0000,9,-999.0000,9,-999.0000,9,-999.0000,9,-999.0000,9,-999.0000,9,-999.0000,9,-999.0000,9,-999.0000,9,-999.0000,-999.000,  -1.7574,     -999.0,     -999.0,9,     -999.0,9,     -999.0,9,     -999.0,9,     -999.0,20110324,       0016
320620110219,       P15S,      82,          1,         29,         29,2,20110323,       2308,   -74.2251,  -175.2145,       2437,   114.3,  -1.7518,  34.1543,2,  34.1556,2,    285.5,2,   287.0,2,   71.11,2,   29.89,2,    0.12,2,    2.09,2,   4.432,2,   2.328,2,   0.436,2,   1.6600,2,  2211.7,2,  2310.0,2,   7.6038,2,    25.00,   0.056,2,    2.120,2,   1.583,2,  -1.7517,2, -999.00,9,  -999.0,9,  -999.0,   9.394,2,   -0.51,2,-999.000,9, -999.00,9, -999.00,9, -74.2251,-175.2142,   0.004,      0.008,    34.3167,2,     -999.0,9,     -999.0,9,-999.0000,9,-999.0000,9,-999.0000,9,-999.0000,9,-999.0000,9,-999.0000,9,-999.0000,9,-999.0000,9,-999.0000,9,    0.002,   0.196,  -1.7541,50008201029,     -999.0,9,     -999.0,9,     -999.0,9,      -5.23,2,       0.18,20110324,       0015
320620110219,       P15S,      82,          1,         28,         28,2,20110323,       2308,   -74.2251,  -175.2145,       2437,   139.7,  -1.7541,  34.1623,2,  34.1630,2,    274.2,2,   285.8,2,   72.79,2,   30.00,2,    0.05,2,    2.11,2,-999.000,9,-999.000,9,-999.000,9,-999.0000,9,  2213.3,2,  2310.4,2,   7.6036,2,    25.00,-999.000,9,-999.0000,9,-999.000,9,  -1.7524,2, -999.00,9,  -999.0,9,  -999.0,-999.000,9, -999.00,9,-999.000,9, -999.00,9, -999.00,9, -74.2251,-175.2142,-999.000,     -999.0,    34.3241,2,     -999.0,9,     -999.0,9,-999.0000,9,-999.0000,9,-999.0000,9,-999.0000,9,-999.0000,9,-999.0000,9,-999.0000,9,-999.0000,9,-999.0000,9,-999.0000,-999.000,  -1.7569,     -999.0,     -999.0,9,     -999.0,9,     -999.0,9,     -999.0,9,     -999.0,20110324,       0013
320620110219,       P15S,      82,          1,         27,         27,2,20110323,       2308,   -74.2251,  -175.2145,       2437,   164.9,  -1.3793,  34.1978,2,  34.1924,2,    252.4,2,   275.1,2,   72.55,2,   30.36,2,    0.01,2,    2.14,2,   4.034,2,   2.160,2,   0.383,2,   1.5470,2,  2215.9,2,  2312.3,2,   7.5959,2,    25.00,   0.045,2,    2.021,2,   2.127,2,  -1.3822,2, -999.00,9,  -999.0,9,  -999.0,   8.983,2,   -0.44,2,-999.000,9, -999.00,9, -999.00,9, -74.2251,-175.2141,   0.005,      0.007,    34.3536,2,     -999.0,9,     -999.0,9,-999.0000,9,-999.0000,9,-999.0000,9,-999.0000,9,-999.0000,9,-999.0000,9,-999.0000,9,-999.0000,9,-999.0000,9,    0.001,   0.206,  -1.3832,50008201027,     -999.0,9,     -999.0,9,     -999.0,9,      -4.37,2,       0.19,20110324,       0012
320620110219,       P15S,      82,          1,         26,         26,2,20110323,       2308,   -74.2251,  -175.2145,       2437,   190.4,  -0.1887,  34.3363,2,  34.3459,2,    230.7,2,   236.2,2,   77.46,2,   31.52,2,    0.00,2,    2.22,2,-999.000,9,-999.000,9,-999.000,9,-999.0000,9,  2229.7,2,  2319.9,2,   7.5768,2,    25.00,-999.000,9,-999.0000,9,-999.000,9,  -0.2245,2, -999.00,9,  -999.0,9,  -999.0,-999.000,9, -999.00,9,-999.000,9, -999.00,9, -999.00,9, -74.2251,-175.2141,-999.000,     -999.0,    34.5079,2,     -999.0,9,     -999.0,9,-999.0000,9,-999.0000,9,-999.0000,9,-999.0000,9,-999.0000,9,-999.0000,9,-999.0000,9,-999.0000,9,-999.0000,9,-999.0000,-999.000,  -0.1953,     -999.0,     -999.0,9,     -999.0,9,     -999.0,9,     -999.0,9,     -999.0,20110324,       0010
320620110219,       P15S,      82,          1,         25,         25,2,20110323,       2308,   -74.2251,  -175.2145,       2437,   215.5,   0.5158,  34.4576,2,  34.4490,2,    204.7,2,   215.6,2,   80.58,2,   31.99,2,    0.00,2,    2.26,2,   1.947,2,   1.054,2,   0.177,2,   0.7460,2,  2239.4,2,  2327.8,2,   7.5687,2,    25.00,-999.000,9,-999.0000,9,-999.000,9,   0.5234,2, -999.00,9,  -999.0,9,  -999.0,-999.000,9, -999.00,9,-999.000,9, -999.00,9, -999.00,9, -74.2251,-175.2141,-999.000,     -999.0,    34.6114,2,     -999.0,9,     -999.0,9,-999.0000,9,-999.0000,9,-999.0000,9,-999.0000,9,-999.0000,9,-999.0000,9,-999.0000,9,-999.0000,9,-999.0000,9,-999.0000,-999.000,   0.5069,     -999.0,     -999.0,9,     -999.0,9,     -999.0,9,     -999.0,9,     -999.0,20110324,       0009
320620110219,       P15S,      82,          1,         24,         24,2,20110323,       2308,   -74.2251,  -175.2145,       2437,   239.8,   0.8376,  34.5181,2,  34.5107,2,    197.0,2,   205.3,2,   82.70,2,   32.10,2,    0.00,2,    2.26,2,-999.000,9,-999.000,9,-999.000,9,-999.0000,9,  2243.5,2,  2331.1,2,   7.5674,2,    25.00,-999.000,9,-999.0000,9,-999.000,9,   0.8398,2, -999.00,9,  -999.0,9,  -999.0,-999.000,9, -999.00,9,-999.000,9, -999.00,9, -999.00,9, -74.2251,-175.2141,-999.000,     -999.0,    34.6734,2,     -999.0,9,     -999.0,9,-999.0000,9,-999.0000,9,-999.0000,9,-999.0000,9,-999.0000,9,-999.0000,9,-999.0000,9,-999.0000,9,-999.0000,9,-999.0000,-999.000,   0.8270,     -999.0,     -999.0,9,     -999.0,9,     -999.0,9,     -999.0,9,     -999.0,20110324,       0008
320620110219,       P15S,      82,          1,         23,         23,2,20110323,       2308,   -74.2251,  -175.2145,       2437,   285.4,   1.2811,  34.6209,2,  34.6193,2,    184.0,2,   190.3,2,   86.22,2,   32.09,2,    0.00,2,    2.26,2,   0.956,2,   0.494,2,   0.080,2,   0.3300,2,  2251.5,2,  2339.6,2,   7.5653,2,    25.00,   0.001,2,    2.003,2,   8.021,2,   1.2745,2, -999.00,9,  -999.0,9,  -999.0,   8.731,2,   -0.16,2,-999.000,9, -999.00,9, -999.00,9, -74.2251,-175.2141,   0.006,      0.007,    34.7826,2,     -999.0,9,     -999.0,9,-999.0000,9,-999.0000,9,-999.0000,9,-999.0000,9,-999.0000,9,-999.0000,9,-999.0000,9,-999.0000,9,-999.0000,9,    0.001,   0.196,   1.2673,50008201023,     -999.0,9,     -999.0,9,     -999.0,9,      -1.73,2,       0.40,20110324,       0006
320620110219,       P15S,      82,          1,         22,         22,2,20110323,       2308,   -74.2251,  -175.2145,       2437,   332.6,   1.5792,  34.6943,2,  34.6925,2,    182.6,2,   182.9,2,   89.77,2,   32.05,2,    0.00,2,    2.25,2,-999.000,9,-999.000,9,-999.000,9,-999.0000,9,  2254.8,2,  2345.8,2,   7.5707,2,    25.00,-999.000,9,-999.0000,9,-999.000,9,   1.5783,2, -999.00,9,  -999.0,9,  -999.0,-999.000,9, -999.00,9,-999.000,9, -999.00,9, -999.00,9, -74.2251,-175.2141,-999.000,     -999.0,    34.8561,2,     -999.0,9,     -999.0,9,-999.0000,9,-999.0000,9,-999.0000,9,-999.0000,9,-999.0000,9,-999.0000,9,-999.0000,9,-999.0000,9,-999.0000,9,-999.0000,-999.000,   1.5621,     -999.0,     -999.0,9,     -999.0,9,     -999.0,9,     -999.0,9,     -999.0,20110324,       0004
320620110219,       P15S,      82,          1,         21,         21,2,20110323,       2308,   -74.2251,  -175.2145,       2437,   384.8,   1.6223,  34.7129,2,  34.7135,2,    183.3,2,   183.1,2,   91.45,2,   31.76,2,    0.00,2,    2.24,2,   0.346,2,   0.170,2,   0.022,2,   0.1270,2,  -999.0,9,  -999.0,9,-999.0000,9,  -999.00,   0.012,2,    2.001,2,   8.999,2,   1.6223,2, -999.00,9,  -999.0,9,  -999.0,   8.779,2,   -0.08,2,-999.000,9, -999.00,9, -999.00,9, -74.2251,-175.2141,   0.004,      0.008,    34.8771,2,     -999.0,9,     -999.0,9,-999.0000,9,-999.0000,9,-999.0000,9,-999.0000,9,-999.0000,9,-999.0000,9,-999.0000,9,-999.0000,9,-999.0000,9,    0.001,   0.229,   1.6022,50008201021,     -999.0,9,     -999.0,9,     -999.0,9,      -1.47,2,       0.13,20110324,       0002
320620110219,       P15S,      82,          1,         20,         20,2,20110323,       2308,   -74.2251,  -175.2145,       2437,   435.8,   1.5890,  34.7224,2,  34.7227,2,    184.4,2,   184.3,2,   93.77,2,   31.77,2,    0.00,2,    2.24,2,-999.000,9,-999.000,9,-999.000,9,-999.0000,9,  2255.4,2,  2349.6,2,   7.5801,2,    25.00,-999.000,9,-999.0000,9,-999.000,9,   1.5889,2, -999.00,9,  -999.0,9,  -999.0,-999.000,9, -999.00,9,-999.000,9, -999.00,9, -999.00,9, -74.2251,-175.2141,-999.000,     -999.0,    34.8864,2,     -999.0,9,     -999.0,9,-999.0000,9,-999.0000,9,-999.0000,9,-999.0000,9,-999.0000,9,-999.0000,9,-999.0000,9,-999.0000,9,-999.0000,9,-999.0000,-999.000,   1.5662,     -999.0,     -999.0,9,     -999.0,9,     -999.0,9,     -999.0,9,     -999.0,20110324,       0001
320620110219,       P15S,      82,          1,         19,         19,2,20110323,       2308,   -74.2251,  -175.2145,       2437,   485.2,   1.5109,  34.7257,2,  34.7256,2,    184.9,2,   185.5,2,   96.47,2,   31.94,2,    0.00,2,    2.24,2,   0.230,2,   0.113,2,   0.012,2,   0.0640,2,  -999.0,9,  -999.0,9,-999.0000,9,  -999.00,-999.000,9,    1.985,2,   9.245,2,   1.5107,2, -999.00,9,  -999.0,9,  -999.0,   8.746,2, -999.00,9,-999.000,9, -999.00,9, -999.00,9, -74.2251,-175.2142,-999.000,      0.008,    34.8893,2,     -999.0,9,     -999.0,9,-999.0000,9,-999.0000,9,-999.0000,9,-999.0000,9,-999.0000,9,-999.0000,9,-999.0000,9,-999.0000,9,-999.0000,9,    0.001,   0.229,   1.4856,50008201019,     -999.0,9,     -999.0,9,     -999.0,9,     -999.0,9,     -999.0,20110323,       2359
320620110219,       P15S,      82,          1,         18,         18,2,20110323,       2308,   -74.2251,  -175.2145,       2437,   564.7,   1.4218,  34.7284,2,  34.7299,2,    186.3,2,   185.9,2,  100.06,2,   31.91,2,    0.00,2,    2.24,2,-999.000,9,-999.000,9,-999.000,9,-999.0000,9,  2257.6,2,  2353.4,2,   7.5820,6,    25.00,-999.000,9,-999.0000,9,-999.000,9,   1.4214,2, -999.00,9,  -999.0,9,  -999.0,-999.000,9, -999.00,9,-999.000,9, -999.00,9, -999.00,9, -74.2251,-175.2142,-999.000,     -999.0,    34.8937,2,     -999.0,9,     -999.0,9,-999.0000,9,-999.0000,9,-999.0000,9,-999.0000,9,-999.0000,9,-999.0000,9,-999.0000,9,-999.0000,9,-999.0000,9,-999.0000,-999.000,   1.3923,     -999.0,     -999.0,9,     -999.0,9,     -999.0,9,     -999.0,9,     -999.0,20110323,       2357
320620110219,       P15S,      82,          1,         17,         17,2,20110323,       2308,   -74.2251,  -175.2145,       2437,   665.4,   1.3318,  34.7286,2,  34.7289,2,    188.1,2,   188.0,2,  103.09,2,   32.00,2,    0.00,2,    2.24,2,   0.142,2,   0.071,2,   0.007,2,   0.0300,2,  2257.8,2,  2354.9,2,   7.5831,2,    25.00,-999.000,9,    2.054,2,   8.990,2,   1.3299,2, -999.00,9,  -999.0,9,  -999.0,   8.972,2, -999.00,9,-999.000,9, -999.00,9, -999.00,9, -74.2251,-175.2142,-999.000,      0.007,    34.8927,2,     -999.0,9,     -999.0,9,-999.0000,9,-999.0000,9,-999.0000,9,-999.0000,9,-999.0000,9,-999.0000,9,-999.0000,9,-999.0000,9,-999.0000,9,    0.001,   0.231,   1.2970,50008201017,     -999.0,9,     -999.0,9,     -999.0,9,     -999.0,9,     -999.0,20110323,       2354
320620110219,       P15S,      82,          1,         16,         16,2,20110323,       2308,   -74.2251,  -175.2145,       2437,   764.4,   1.2137,  34.7269,2,  34.7265,2,    190.2,2,   190.2,2,  106.66,2,   31.94,2,    0.00,2,    2.24,2,-999.000,9,-999.000,9,-999.000,9,-999.0000,9,  -999.0,9,  -999.0,9,-999.0000,9,  -999.00,-999.000,9,-999.0000,9,-999.000,9,   1.2144,2, -999.00,9,  -999.0,9,  -999.0,-999.000,9, -999.00,9,-999.000,9, -999.00,9, -999.00,9, -74.2251,-175.2143,-999.000,     -999.0,    34.8903,2,     -999.0,9,     -999.0,9,-999.0000,9,-999.0000,9,-999.0000,9,-999.0000,9,-999.0000,9,-999.0000,9,-999.0000,9,-999.0000,9,-999.0000,9,-999.0000,-999.000,   1.1738,     -999.0,     -999.0,9,     -999.0,9,     -999.0,9,     -999.0,9,     -999.0,20110323,       2351
320620110219,       P15S,      82,          1,         15,         15,2,20110323,       2308,   -74.2251,  -175.2145,       2437,   863.3,   1.1190,  34.7245,2,  34.7246,2,    192.6,2,   193.2,2,  109.61,2,   31.94,2,    0.00,2,    2.24,2,   0.085,2,   0.045,2,   0.005,2,   0.0030,2,  2259.7,2,  2357.9,2,   7.5900,2,    25.00,-999.000,9,    2.107,2,   9.017,2,   1.1193,2, -999.00,9,  -999.0,9,  -999.0,   9.097,2, -999.00,9,-999.000,9, -999.00,9, -999.00,9, -74.2251,-175.2144,-999.000,      0.008,    34.8883,2,     -999.0,9,     -999.0,9,-999.0000,9,-999.0000,9,-999.0000,9,-999.0000,9,-999.0000,9,-999.0000,9,-999.0000,9,-999.0000,9,-999.0000,9,    0.002,   0.197,   1.0739,50008201015,     -999.0,9,     -999.0,9,     -999.0,9,     -999.0,9,     -999.0,20110323,       2349
320620110219,       P15S,      82,          1,         14,         14,2,20110323,       2308,   -74.2251,  -175.2145,       2437,   963.9,   1.0542,  34.7222,2,  34.7232,2,    194.4,2,   194.4,2,  111.39,2,   32.01,2,    0.00,2,    2.24,2,-999.000,9,-999.000,9,-999.000,9,-999.0000,9,  -999.0,9,  -999.0,9,-999.0000,9,  -999.00,-999.000,9,-999.0000,9,-999.000,9,   1.0538,2, -999.00,9,  -999.0,9,  -999.0,-999.000,9, -999.00,9,-999.000,9, -999.00,9, -999.00,9, -74.2251,-175.2143,-999.000,     -999.0,    34.8869,2,     -999.0,9,     -999.0,9,-999.0000,9,-999.0000,9,-999.0000,9,-999.0000,9,-999.0000,9,-999.0000,9,-999.0000,9,-999.0000,9,-999.0000,9,-999.0000,-999.000,   1.0035,     -999.0,     -999.0,9,     -999.0,9,     -999.0,9,     -999.0,9,     -999.0,20110323,       2346