BOTTLE,20220813CCHSIOAMB
EXPOCODE,SECT_ID,STNNBR,CASTNO,SAMPNO,BTLNBR,BTLNBR_FLAG_W,DATE,TIME,LATITUDE,LONGITUDE,DEPTH,CTDPRS,CTDTMP,CTDSAL,CTDSAL_FLAG_W,SALNTY,SALNTY_FLAG_W,CTDOXY,CTDOXY_FLAG_W,OXYGEN,OXYGEN_FLAG_W,SILCAT,SILCAT_FLAG_W,NITRAT,NITRAT_FLAG_W,NITRIT,NITRIT_FLAG_W,PHSPHT,PHSPHT_FLAG_W,CFC-11,CFC-11_FLAG_W,CFC-12,CFC-12_FLAG_W,CFC113,CFC113_FLAG_W,SF6,SF6_FLAG_W,TCARBN,TCARBN_FLAG_W,ALKALI,ALKALI_FLAG_W,PH_TOT,PH_TOT_FLAG_W,PH_TMP,TRITUM,TRITUM_FLAG_W,HELIUM,HELIUM_FLAG_W,DELHE3,DELHE3_FLAG_W,REFTMP,REFTMP_FLAG_W,DELC13,DELC13_FLAG_W,DELC14,DELC14_FLAG_W,C14ERR,NEON,NEON_FLAG_W,DELO18,DELO18_FLAG_W,POC,POC_FLAG_W,DOC,DOC_FLAG_W,TDN,TDN_FLAG_W,BTL_LAT,BTL_LON,TRITER,NEONER,SALTREF,SALTREF_FLAG_W,PIGMENTS,PIGMENTS_FLAG_W,LAB_DEN,LAB_DEN_FLAG_W,CDOM325,CDOM325_FLAG_W,CDOM340,CDOM340_FLAG_W,CDOM380,CDOM380_FLAG_W,CDOM412,CDOM412_FLAG_W,CDOM443,CDOM443_FLAG_W,CDOM490,CDOM490_FLAG_W,CDOM555,CDOM555_FLAG_W,CDOMSL,CDOMSL_FLAG_W,CDOMSN,CDOMSN_FLAG_W,HELIER,DELHER,THETA,LDEO_SAMPNO,ABSORBTION,ABSORBTION_FLAG_W,IMAGE_COUNT,IMAGE_COUNT_FLAG_W,CYTO_COUNT,CYTO_COUNT_FLAG_W,DELD,DELD_FLAG_W,DELDERR,BTL_DATE,BTL_TIME
,,,,,,,,,,,METERS,DBAR,ITS-90,PSS-78,,PSS-78,,UMOL/KG,,UMOL/KG,,UMOL/KG,,UMOL/KG,,UMOL/KG,,UMOL/KG,,PMOL/KG,,PMOL/KG,,PMOL/KG,,FMOL/KG,,UMOL/KG,,UMOL/KG,,,,DEG C,TU,,NMOL/KG,,PERCNT,,DEG C,,/MILLE,,/MILLE,,/MILLE,NMOL/KG,,/MILLE,,UG/KG,,UMOL/KG,,UMOL/KG,,,,TU,NMOL/KG,G/KG,,,,,,1/M,,1/M,,1/M,,1/M,,1/M,,1/M,,1/M,,1/NM,,1/NM,,NMOL/KG,PERCNT,DEG C,,,,,,,,/MILLE,,/MILLE,,
320620110219,       S04P,     139,          1,         21,         21,2,20110419,       0618,   -66.9994,   -72.9083,        882,     3.6,  -0.0254,  33.8338,2,  33.8356,2,    333.4,3,   335.5,2,   29.93,2,   22.43,2,    0.23,2,    1.51,2,   5.966,2,   3.272,2,   0.623,2,   3.0440,2,  2159.8,6,  2293.1,2,   7.7068,2,    25.00,-999.000,9,-999.0000,9,-999.000,9,  -0.0257,2,    1.46,2,   -95.2,2,     2.6,-999.000,9,   -0.49,2,-999.000,9, -999.00,9, -999.00,9, -66.9997, -72.9090,-999.000,     -999.0,    33.9951,2,     -999.0,9,     -999.0,9,-999.0000,9,-999.0000,9,-999.0000,9,-999.0000,9,-999.0000,9,-999.0000,9,-999.0000,9,-999.0000,9,-999.0000,9,-999.0000,-999.000,  -0.0255,     -999.0,     -999.0,9,     -999.0,9,     -999.0,9,      -4.52,2,       0.12,20110419,       0651
320620110219,       S04P,     139,          1,         20,         20,2,20110419,       0618,   -66.9994,   -72.9083,        882,    20.1,  -0.0015,  33.8413,2,  33.8369,2,    336.7,2,   335.5,2,   30.28,2,   22.43,2,    0.24,2,    1.52,2,   5.960,2,   3.265,2,   0.631,2,   2.6600,2,  -999.0,9,  -999.0,9,-999.0000,9,  -999.00,-999.000,9,-999.0000,9,-999.000,9,   0.0030,2, -999.00,9,  -999.0,9,  -999.0,-999.000,9,   -0.44,2,-999.000,9, -999.00,9, -999.00,9, -66.9996, -72.9090,-999.000,     -999.0,    33.9965,2,     -999.0,9,     -999.0,9,-999.0000,9,-999.0000,9,-999.0000,9,-999.0000,9,-999.0000,9,-999.0000,9,-999.0000,9,-999.0000,9,-999.0000,9,-999.0000,-999.000,  -0.0022,     -999.0,     -999.0,9,     -999.0,9,     -999.0,9,      -4.52,2,       0.05,20110419,       0649
320620110219,       S04P,     139,          1,         19,         19,2,20110419,       0618,   -66.9994,   -72.9083,        882,    40.7,  -0.1386,  33.8587,2,  33.8592,2,    336.2,2,   338.3,2,   38.73,2,   22.49,2,    0.25,2,    1.53,2,   5.982,2,   3.281,2,   0.625,2,   2.7290,2,  -999.0,9,  -999.0,9,-999.0000,9,  -999.00,-999.000,9,-999.0000,9,-999.000,9,  -0.1178,2, -999.00,9,  -999.0,9,  -999.0,-999.000,9,   -0.49,2,-999.000,9, -999.00,9, -999.00,9, -66.9996, -72.9089,-999.000,     -999.0,    34.0189,2,     -999.0,9,     -999.0,9,-999.0000,9,-999.0000,9,-999.0000,9,-999.0000,9,-999.0000,9,-999.0000,9,-999.0000,9,-999.0000,9,-999.0000,9,-999.0000,-999.000,  -0.1399,     -999.0,     -999.0,9,     -999.0,9,     -999.0,9,      -4.94,2,       0.02,20110419,       0648
320620110219,       S04P,     139,          1,         18,         18,2,20110419,       0618,   -66.9994,   -72.9083,        882,    64.8,  -0.5122,  33.8630,2,  33.8627,2,    340.1,2,   343.4,2,   41.22,2,   22.19,2,    0.24,2,    1.53,2,   6.051,2,   3.298,2,   0.638,2,   2.7520,2,  2159.4,2,  2298.8,2,   7.7194,6,    25.00,-999.000,9,-999.0000,9,-999.000,9,  -0.5129,2,    1.56,2,  -112.5,2,     3.3,-999.000,9,   -0.57,2,-999.000,9, -999.00,9, -999.00,9, -66.9996, -72.9089,-999.000,     -999.0,    34.0224,2,     -999.0,9,     -999.0,9,-999.0000,9,-999.0000,9,-999.0000,9,-999.0000,9,-999.0000,9,-999.0000,9,-999.0000,9,-999.0000,9,-999.0000,9,-999.0000,-999.000,  -0.5141,     -999.0,     -999.0,9,     -999.0,9,     -999.0,9,      -5.72,2,       0.13,20110419,       0647
320620110219,       S04P,     139,          1,         17,         17,2,20110419,       0618,   -66.9994,   -72.9083,        882,    89.5,  -0.6364,  33.8939,2,  33.9022,2,    337.4,2,   331.8,2,   49.96,2,   23.78,2,    0.24,2,    1.67,2,   5.758,2,   3.164,2,   0.596,2,   2.5440,2,  2170.7,2,  2301.9,2,   7.6923,2,    25.00,-999.000,9,-999.0000,9,-999.000,9,  -0.6280,2,    1.34,2,  -111.1,2,     2.9,-999.000,9,   -0.47,2,-999.000,9, -999.00,9, -999.00,9, -66.9995, -72.9087,-999.000,     -999.0,    34.0621,2,     -999.0,9,     -999.0,9,-999.0000,9,-999.0000,9,-999.0000,9,-999.0000,9,-999.0000,9,-999.0000,9,-999.0000,9,-999.0000,9,-999.0000,9,-999.0000,-999.000,  -0.6390,     -999.0,     -999.0,9,     -999.0,9,     -999.0,9,      -4.92,2,       0.06,20110419,       0645
320620110219,       S04P,     139,          1,         16,         16,2,20110419,       0618,   -66.9994,   -72.9083,        882,   115.5,  -1.0413,  34.0734,2,  34.0728,2,    286.9,2,   284.8,2,   76.16,2,   30.31,2,    0.16,2,    2.12,2,-999.000,9,-999.000,9,-999.000,9,-999.0000,9,  2213.7,2,  -999.0,5,   7.5938,2,    25.00,-999.000,9,-999.0000,9,-999.000,9,  -1.0429,2,    0.70,2,  -123.5,2,     2.5,-999.000,9,   -0.35,2,-999.000,9, -999.00,9, -999.00,9, -66.9995, -72.9086,-999.000,     -999.0,    34.2334,2,     -999.0,9,     -999.0,9,-999.0000,9,-999.0000,9,-999.0000,9,-999.0000,9,-999.0000,9,-999.0000,9,-999.0000,9,-999.0000,9,-999.0000,9,-999.0000,-999.000,  -1.0443,     -999.0,     -999.0,9,     -999.0,9,     -999.0,9,      -4.12,2,       0.20,20110419,       0644
320620110219,       S04P,     139,          1,         15,         15,2,20110419,       0618,   -66.9994,   -72.9083,        882,   140.0,  -0.4617,  34.2186,2,  34.2219,2,    250.3,2,   245.2,2,   84.00,2,   32.37,2,    0.02,2,    2.24,2,   3.408,2,   1.926,2,   0.360,2,   1.5880,2,  2231.6,2,  2316.1,2,   7.5620,2,    25.00,-999.000,9,-999.0000,9,-999.000,9,  -0.4611,2,    0.60,2,  -132.6,2,     2.5,-999.000,9,    0.00,2,-999.000,9, -999.00,9, -999.00,9, -66.9995, -72.9086,-999.000,     -999.0,    34.3833,2,     -999.0,9,     -999.0,9,-999.0000,9,-999.0000,9,-999.0000,9,-999.0000,9,-999.0000,9,-999.0000,9,-999.0000,9,-999.0000,9,-999.0000,9,-999.0000,-999.000,  -0.4661,     -999.0,     -999.0,9,     -999.0,9,     -999.0,9,      -3.20,2,       0.23,20110419,       0643
320620110219,       S04P,     139,          1,         14,         14,2,20110419,       0618,   -66.9994,   -72.9083,        882,   164.5,   0.2110,  34.3700,2,  34.3704,2,    215.2,2,   211.2,2,   90.27,2,   33.40,2,    0.00,2,    2.31,2,-999.000,9,-999.000,9,-999.000,9,-999.0000,9,  2246.9,2,  -999.0,5,   7.5404,2,    25.00,-999.000,9,-999.0000,9,-999.000,9,   0.2122,2,    0.40,2,  -138.4,2,     2.5,-999.000,9,   -0.25,2,-999.000,9, -999.00,9, -999.00,9, -66.9995, -72.9085,-999.000,     -999.0,    34.5325,2,     -999.0,9,     -999.0,9,-999.0000,9,-999.0000,9,-999.0000,9,-999.0000,9,-999.0000,9,-999.0000,9,-999.0000,9,-999.0000,9,-999.0000,9,-999.0000,-999.000,   0.2048,     -999.0,     -999.0,9,     -999.0,9,     -999.0,9,      -3.44,2,       0.21,20110419,       0641
320620110219,       S04P,     139,          1,         13,         13,2,20110419,       0618,   -66.9994,   -72.9083,        882,   190.5,   0.8314,  34.5056,2,  34.5144,2,    186.9,2,   186.7,2,   94.40,2,   33.66,2,    0.00,2,    2.33,2,   1.407,2,   0.773,2,   0.131,2,   0.5200,2,  2258.5,2,  2334.8,2,   7.5318,2,    25.00,-999.000,9,-999.0000,9,-999.000,9,   0.8425,2,    0.32,2,  -147.7,2,     2.4,-999.000,9,   -0.08,2,-999.000,9, -999.00,9, -999.00,9, -66.9994, -72.9085,-999.000,     -999.0,    34.6772,2,     -999.0,9,     -999.0,9,-999.0000,9,-999.0000,9,-999.0000,9,-999.0000,9,-999.0000,9,-999.0000,9,-999.0000,9,-999.0000,9,-999.0000,9,-999.0000,-999.000,   0.8231,     -999.0,     -999.0,9,     -999.0,9,     -999.0,9,      -1.98,2,       0.06,20110419,       0640
320620110219,       S04P,     139,          1,         12,         12,2,20110419,       0618,   -66.9994,   -72.9083,        882,   214.0,   1.1643,  34.5646,2,-999.0000,5,    181.0,2,   179.7,2,   92.85,2,   33.65,2,    0.00,2,    2.31,2,-999.000,9,-999.000,9,-999.000,9,-999.0000,9,  -999.0,9,  -999.0,9,-999.0000,9,  -999.00,-999.000,9,-999.0000,9,-999.000,9,   1.1787,2,    0.37,2,  -155.4,2,     2.9,-999.000,9,   -0.05,2,-999.000,9, -999.00,9, -999.00,9, -66.9994, -72.9085,-999.000,     -999.0,     -999.0,5,     -999.0,9,     -999.0,9,-999.0000,9,-999.0000,9,-999.0000,9,-999.0000,9,-999.0000,9,-999.0000,9,-999.0000,9,-999.0000,9,-999.0000,9,-999.0000,-999.000,   1.1543,     -999.0,     -999.0,9,     -999.0,9,     -999.0,9,      -1.89,2,       0.08,20110419,       0639
320620110219,       S04P,     139,          1,         11,         11,2,20110419,       0618,   -66.9994,   -72.9083,        882,   240.3,   1.7572,  34.6638,2,  34.6647,2,    173.9,2,   174.1,2,   86.67,2,   33.00,2,    0.00,2,    2.25,2,   0.961,2,   0.495,2,   0.075,2,   0.1310,2,  2258.4,2,  2343.9,2,   7.5551,2,    25.00,-999.000,9,-999.0000,9,-999.000,9,   1.7604,2,    0.44,2,  -170.0,3,     2.4,-999.000,9,   -0.08,2,-999.000,9, -999.00,9, -999.00,9, -66.9995, -72.9085,-999.000,     -999.0,    34.8281,2,     -999.0,9,     -999.0,9,-999.0000,9,-999.0000,9,-999.0000,9,-999.0000,9,-999.0000,9,-999.0000,9,-999.0000,9,-999.0000,9,-999.0000,9,-999.0000,-999.000,   1.7447,     -999.0,     -999.0,9,     -999.0,9,     -999.0,9,      -1.96,2,       0.27,20110419,       0638
320620110219,       S04P,     139,          1,         10,         37,2,20110419,       0618,   -66.9994,   -72.9083,        882,   285.2,   1.8080,  34.6950,2,  34.6970,2,    174.5,2,   176.0,2,   87.60,2,   32.44,2,    0.00,2,    2.22,2,-999.000,9,-999.000,9,-999.000,9,-999.0000,9,  -999.0,9,  -999.0,9,-999.0000,9,  -999.00,-999.000,9,-999.0000,9,-999.000,9,   1.8026,2,    0.40,2,  -153.2,2,     2.5,-999.000,9,    0.05,2,-999.000,9, -999.00,9, -999.00,9, -66.9995, -72.9086,-999.000,     -999.0,    34.8607,2,     -999.0,9,     -999.0,9,-999.0000,9,-999.0000,9,-999.0000,9,-999.0000,9,-999.0000,9,-999.0000,9,-999.0000,9,-999.0000,9,-999.0000,9,-999.0000,-999.000,   1.7929,     -999.0,     -999.0,9,     -999.0,9,     -999.0,9,      -1.04,2,       0.05,20110419,       0636
320620110219,       S04P,     139,          1,          9,          9,2,20110419,       0618,   -66.9994,   -72.9083,        882,   335.2,   1.8127,  34.7094,2,  34.7116,2,    177.9,2,   178.1,2,   88.58,2,   32.10,2,    0.00,2,    2.20,2,   0.321,2,   0.156,2,   0.023,2,   0.0510,2,  2257.6,2,  2351.5,2,   7.5724,2,    25.00,-999.000,9,-999.0000,9,-999.000,9,   1.8098,2,    0.48,2,  -144.7,2,     2.8,-999.000,9,    0.07,2,-999.000,9, -999.00,9, -999.00,9, -66.9995, -72.9085,-999.000,     -999.0,    34.8752,2,     -999.0,9,     -999.0,9,-999.0000,9,-999.0000,9,-999.0000,9,-999.0000,9,-999.0000,9,-999.0000,9,-999.0000,9,-999.0000,9,-999.0000,9,-999.0000,-999.000,   1.7948,     -999.0,     -999.0,9,     -999.0,9,     -999.0,9,      -0.89,2,       0.04,20110419,       0634
320620110219,       S04P,     139,          1,          8,          8,2,20110419,       0618,   -66.9994,   -72.9083,        882,   385.8,   1.7427,  34.7121,2,  34.7137,2,    178.6,2,   178.5,2,   91.68,2,   32.21,2,    0.00,2,    2.20,2,-999.000,9,-999.000,9,-999.000,9,-999.0000,9,  -999.0,9,  -999.0,9,-999.0000,9,  -999.00,-999.000,9,-999.0000,9,-999.000,9,   1.7423,2, -999.00,9,  -999.0,9,  -999.0,-999.000,9,    0.00,2,-999.000,9, -999.00,9, -999.00,9, -66.9994, -72.9085,-999.000,     -999.0,    34.8774,2,     -999.0,9,     -999.0,9,-999.0000,9,-999.0000,9,-999.0000,9,-999.0000,9,-999.0000,9,-999.0000,9,-999.0000,9,-999.0000,9,-999.0000,9,-999.0000,-999.000,   1.7222,     -999.0,     -999.0,9,     -999.0,9,     -999.0,9,      -1.01,2,       0.17,20110419,       0633
320620110219,       S04P,     139,          1,          7,          7,2,20110419,       0618,   -66.9994,   -72.9083,        882,   434.4,   1.6692,  34.7155,2,  34.7169,2,    179.9,2,   179.8,2,   93.84,2,   32.00,2,    0.00,2,    2.20,2,   0.286,2,   0.138,2,   0.023,2,   0.0650,2,  -999.0,9,  -999.0,9,-999.0000,9,  -999.00,-999.000,9,-999.0000,9,-999.000,9,   1.6688,2,    0.41,2,  -146.8,2,     2.3,-999.000,9,   -0.01,2,-999.000,9, -999.00,9, -999.00,9, -66.9994, -72.9085,-999.000,     -999.0,    34.8806,2,     -999.0,9,     -999.0,9,-999.0000,9,-999.0000,9,-999.0000,9,-999.0000,9,-999.0000,9,-999.0000,9,-999.0000,9,-999.0000,9,-999.0000,9,-999.0000,-999.000,   1.6462,     -999.0,     -999.0,9,     -999.0,9,     -999.0,9,      -1.07,2,       0.03,20110419,       0631
320620110219,       S04P,     139,          1,          6,          6,2,20110419,       0618,   -66.9994,   -72.9083,        882,   484.9,   1.6356,  34.7220,2,  34.7235,2,    182.3,2,   182.7,2,   94.97,2,   31.81,2,    0.00,2,    2.18,2,-999.000,9,-999.000,9,-999.000,9,-999.0000,9,  -999.0,9,  -999.0,9,-999.0000,9,  -999.00,-999.000,9,-999.0000,9,-999.000,9,   1.6355,2, -999.00,9,  -999.0,9,  -999.0,-999.000,9,   -0.01,2,-999.000,9, -999.00,9, -999.00,9, -66.9994, -72.9084,-999.000,     -999.0,    34.8873,2,     -999.0,9,     -999.0,9,-999.0000,9,-999.0000,9,-999.0000,9,-999.0000,9,-999.0000,9,-999.0000,9,-999.0000,9,-999.0000,9,-999.0000,9,-999.0000,-999.000,   1.6098,     -999.0,     -999.0,9,     -999.0,9,     -999.0,9,      -1.24,2,       0.08,20110419,       0629
320620110219,       S04P,     139,          1,          5,          5,2,20110419,       0618,   -66.9994,   -72.9083,        882,   565.4,   1.5736,  34.7257,2,  34.7269,2,    185.2,2,   184.9,2,   96.83,2,   31.63,2,    0.00,2,    2.18,2,   0.205,2,   0.098,2,   0.015,2,   0.0040,2,  2258.3,2,  2354.4,2,   7.5854,2,    25.00,-999.000,9,-999.0000,9,-999.000,9,   1.5733,2,    0.45,2,  -151.7,2,     2.3,-999.000,9,   -0.09,2,-999.000,9, -999.00,9, -999.00,9, -66.9994, -72.9083,-999.000,     -999.0,    34.8906,2,     -999.0,9,     -999.0,9,-999.0000,9,-999.0000,9,-999.0000,9,-999.0000,9,-999.0000,9,-999.0000,9,-999.0000,9,-999.0000,9,-999.0000,9,-999.0000,-999.000,   1.5434,     -999.0,     -999.0,9,     -999.0,9,     -999.0,9,      -1.96,2,       0.12,20110419,       0627
320620110219,       S04P,     139,          1,          4,          4,2,20110419,       0618,   -66.9994,   -72.9083,        882,   664.4,   1.5454,  34.7265,2,  34.7286,2,    186.5,2,   186.3,2,   97.16,2,   31.49,2,    0.00,2,    2.17,2,   0.214,2,   0.094,2,   0.013,2,   0.0700,2,  -999.0,9,  -999.0,9,-999.0000,9,  -999.00,-999.000,9,-999.0000,9,-999.000,9,   1.5447,2, -999.00,9,  -999.0,9,  -999.0,-999.000,9,   -0.06,2,-999.000,9, -999.00,9, -999.00,9, -66.9993, -72.9082,-999.000,     -999.0,    34.8924,2,     -999.0,9,     -999.0,9,-999.0000,9,-999.0000,9,-999.0000,9,-999.0000,9,-999.0000,9,-999.0000,9,-999.0000,9,-999.0000,9,-999.0000,9,-999.0000,-999.000,   1.5095,     -999.0,     -999.0,9,     -999.0,9,     -999.0,9,      -1.33,2,       0.05,20110419,       0624
320620110219,       S04P,     139,          1,          3,          3,2,20110419,       0618,   -66.9994,   -72.9083,        882,   764.0,   1.4326,  34.7272,2,  34.7290,2,    189.2,2,   189.5,2,  100.23,2,   31.49,2,    0.00,2,    2.17,2,   0.175,2,   0.079,2,   0.009,2,   0.0430,2,  -999.0,9,  -999.0,9,-999.0000,9,  -999.00,-999.000,9,-999.0000,9,-999.000,9,   1.4330,2,    0.46,2,  -152.9,2,     2.4,-999.000,9,   -0.01,2,-999.000,9, -999.00,9, -999.00,9, -66.9993, -72.9082,-999.000,     -999.0,    34.8928,2,     -999.0,9,     -999.0,9,-999.0000,9,-999.0000,9,-999.0000,9,-999.0000,9,-999.0000,9,-999.0000,9,-999.0000,9,-999.0000,9,-999.0000,9,-999.0000,-999.000,   1.3914,     -999.0,     -999.0,9,     -999.0,9,     -999.0,9,      -1.42,2,       0.05,20110419,       0622
320620110219,       S04P,     139,          1,          2,          2,2,20110419,       0618,   -66.9994,   -72.9083,        882,   830.1,   1.2898,  34.7258,2,  34.7282,2,    192.1,2,   192.3,2,  104.78,2,   31.56,2,    0.00,2,    2.16,2,-999.000,9,-999.000,9,-999.000,9,-999.0000,9,  2258.6,2,  2359.5,2,   7.5964,6,    25.00,-999.000,9,-999.0000,9,-999.000,9,   1.2899,2,    0.47,2,  -155.2,2,     2.4,-999.000,9,   -0.07,2,-999.000,9, -999.00,9, -999.00,9, -66.9994, -72.9082,-999.000,     -999.0,    34.8920,2,     -999.0,9,     -999.0,9,-999.0000,9,-999.0000,9,-999.0000,9,-999.0000,9,-999.0000,9,-999.0000,9,-999.0000,9,-999.0000,9,-999.0000,9,-999.0000,-999.000,   1.2455,     -999.0,     -999.0,9,     -999.0,9,     -999.0,9,      -1.46,2,       0.11,20110419,       0620
320620110219,       S04P,     139,          1,          1,          1,2,20110419,       0618,   -66.9994,   -72.9083,        882,   881.0,   1.2067,  34.7239,2,  34.7263,2,    193.6,2,   194.2,2,  107.27,2,   31.64,2,    0.00,2,    2.16,2,   0.142,2,   0.069,2,   0.008,2,   0.0320,2,  2259.2,2,  2361.1,2,   7.5998,2,    25.00,-999.000,9,-999.0000,9,-999.000,9,   1.2056,2,    0.49,2,  -161.3,2,     2.9,-999.000,9,   -0.06,2,-999.000,9, -999.00,9, -999.00,9, -66.9994, -72.9083,-999.000,     -999.0,    34.8900,2,     -999.0,9,     -999.0,9,-999.0000,9,-999.0000,9,-999.0000,9,-999.0000,9,-999.0000,9,-999.0000,9,-999.0000,9,-999.0000,9,-999.0000,9,-999.0000,-999.000,   1.1599,     -999.0,     -999.0,9,     -999.0,9,     -999.0,9,      -1.59,2,       0.05,20110419,       0618