BOTTLE,20220813CCHSIOAMB
EXPOCODE,SECT_ID,STNNBR,CASTNO,SAMPNO,BTLNBR,BTLNBR_FLAG_W,DATE,TIME,LATITUDE,LONGITUDE,DEPTH,CTDPRS,CTDTMP,CTDSAL,CTDSAL_FLAG_W,SALNTY,SALNTY_FLAG_W,CTDOXY,CTDOXY_FLAG_W,OXYGEN,OXYGEN_FLAG_W,SILCAT,SILCAT_FLAG_W,NITRAT,NITRAT_FLAG_W,NITRIT,NITRIT_FLAG_W,PHSPHT,PHSPHT_FLAG_W,CFC-11,CFC-11_FLAG_W,CFC-12,CFC-12_FLAG_W,CFC113,CFC113_FLAG_W,SF6,SF6_FLAG_W,TCARBN,TCARBN_FLAG_W,ALKALI,ALKALI_FLAG_W,PH_TOT,PH_TOT_FLAG_W,PH_TMP,TRITUM,TRITUM_FLAG_W,HELIUM,HELIUM_FLAG_W,DELHE3,DELHE3_FLAG_W,REFTMP,REFTMP_FLAG_W,DELC13,DELC13_FLAG_W,DELC14,DELC14_FLAG_W,C14ERR,NEON,NEON_FLAG_W,DELO18,DELO18_FLAG_W,POC,POC_FLAG_W,DOC,DOC_FLAG_W,TDN,TDN_FLAG_W,BTL_LAT,BTL_LON,TRITER,NEONER,SALTREF,SALTREF_FLAG_W,PIGMENTS,PIGMENTS_FLAG_W,LAB_DEN,LAB_DEN_FLAG_W,CDOM325,CDOM325_FLAG_W,CDOM340,CDOM340_FLAG_W,CDOM380,CDOM380_FLAG_W,CDOM412,CDOM412_FLAG_W,CDOM443,CDOM443_FLAG_W,CDOM490,CDOM490_FLAG_W,CDOM555,CDOM555_FLAG_W,CDOMSL,CDOMSL_FLAG_W,CDOMSN,CDOMSN_FLAG_W,HELIER,DELHER,THETA,LDEO_SAMPNO,ABSORBTION,ABSORBTION_FLAG_W,IMAGE_COUNT,IMAGE_COUNT_FLAG_W,CYTO_COUNT,CYTO_COUNT_FLAG_W,DELD,DELD_FLAG_W,DELDERR,BTL_DATE,BTL_TIME
,,,,,,,,,,,METERS,DBAR,ITS-90,PSS-78,,PSS-78,,UMOL/KG,,UMOL/KG,,UMOL/KG,,UMOL/KG,,UMOL/KG,,UMOL/KG,,PMOL/KG,,PMOL/KG,,PMOL/KG,,FMOL/KG,,UMOL/KG,,UMOL/KG,,,,DEG C,TU,,NMOL/KG,,PERCNT,,DEG C,,/MILLE,,/MILLE,,/MILLE,NMOL/KG,,/MILLE,,UG/KG,,UMOL/KG,,UMOL/KG,,,,TU,NMOL/KG,G/KG,,,,,,1/M,,1/M,,1/M,,1/M,,1/M,,1/M,,1/M,,1/NM,,1/NM,,NMOL/KG,PERCNT,DEG C,,,,,,,,/MILLE,,/MILLE,,
320620110219,       S04P,     125,          1,         13,         13,2,20110415,       1351,   -67.0002,   -86.7341,       4325,  1599.7,   1.4979,  34.7288,2,  34.7290,2,    192.0,2,   192.2,2,   99.66,2,   31.82,2,    0.00,2,    2.18,2,   0.141,2,   0.071,2,   0.006,2,   0.0210,2,  -999.0,9,  -999.0,9,-999.0000,9,  -999.00,  -0.005,2,   1.9287,2,   10.66,2,   1.4974,2, -999.00,9,  -999.0,9,  -999.0,   8.348,2, -999.00,9,-999.000,9,   39.42,2,   34.04,2, -67.0002, -86.7341,   0.012,      0.043,    34.8928,2,     -999.0,9,     -999.0,9,-999.0000,9,-999.0000,9,-999.0000,9,-999.0000,9,-999.0000,9,-999.0000,9,-999.0000,9,-999.0000,9,-999.0000,9,   0.0093,    0.14,   1.3998,     -999.0,     -999.0,9,     -999.0,9,     -999.0,9,     -999.0,9,     -999.0,20110415,       1448
320620110219,       S04P,     125,          1,         12,         12,2,20110415,       1351,   -67.0002,   -86.7341,       4325,  1799.5,   1.3538,  34.7275,2,  34.7276,2,    194.5,2,   195.1,2,  102.68,2,   31.90,2,    0.00,2,    2.19,2,-999.000,9,-999.000,9,-999.000,9,-999.0000,9,  2260.7,2,  2358.6,2,   7.6028,2,    25.00,-999.000,9,-999.0000,9,-999.000,9,   1.3530,2,    0.39,2,  -156.4,2,     3.2,-999.000,9, -999.00,9,-999.000,9,   39.19,2,   33.90,2, -67.0002, -86.7341,-999.000,     -999.0,    34.8914,2,     -999.0,9,     -999.0,9,-999.0000,9,-999.0000,9,-999.0000,9,-999.0000,9,-999.0000,9,-999.0000,9,-999.0000,9,-999.0000,9,-999.0000,9,-999.0000,-999.000,   1.2425,     -999.0,     -999.0,9,     -999.0,9,     -999.0,9,     -999.0,9,     -999.0,20110415,       1444
320620110219,       S04P,     125,          1,         11,         11,2,20110415,       1351,   -67.0002,   -86.7341,       4325,  1999.7,   1.2407,  34.7244,2,  34.7243,2,    196.7,2,   196.7,2,  107.17,2,   31.96,2,    0.00,2,    2.19,2,   0.111,2,   0.058,2,   0.005,2,   0.0270,2,  -999.0,9,  -999.0,9,   7.6024,2,    25.00,   0.004,2,   1.9426,2,   10.16,2,   1.2408,2,    0.43,2,  -158.9,2,     2.3,   8.477,2, -999.00,9,-999.000,9,   39.08,2,   34.50,2, -67.0002, -86.7341,   0.012,      0.043,    34.8880,2,     -999.0,9,     -999.0,9,-999.0000,9,-999.0000,9,-999.0000,9,-999.0000,9,-999.0000,9,-999.0000,9,-999.0000,9,-999.0000,9,-999.0000,9,   0.0093,    0.14,   1.1156,     -999.0,     -999.0,9,     -999.0,9,     -999.0,9,     -999.0,9,     -999.0,20110415,       1440
320620110219,       S04P,     125,          1,         10,         37,2,20110415,       1351,   -67.0002,   -86.7341,       4325,  2250.1,   1.1132,  34.7202,2,  34.7202,2,    199.2,2,   199.1,2,  111.41,2,   32.12,2,    0.00,2,    2.20,2,-999.000,9,-999.000,9,-999.000,9,-999.0000,9,  2261.8,2,  2361.7,2,   7.6010,2,    25.00,-999.000,9,-999.0000,9,-999.000,9,   1.1130,2,    0.42,2,  -160.9,2,     2.4,-999.000,9, -999.00,9,-999.000,9,   39.12,2,   34.48,2, -67.0002, -86.7341,-999.000,     -999.0,    34.8839,2,     -999.0,9,     -999.0,9,-999.0000,9,-999.0000,9,-999.0000,9,-999.0000,9,-999.0000,9,-999.0000,9,-999.0000,9,-999.0000,9,-999.0000,9,-999.0000,-999.000,   0.9701,     -999.0,     -999.0,9,     -999.0,9,     -999.0,9,     -999.0,9,     -999.0,20110415,       1435
320620110219,       S04P,     125,          1,          9,          9,2,20110415,       1351,   -67.0002,   -86.7341,       4325,  2500.1,   0.9779,  34.7158,2,  34.7151,2,    201.3,2,   201.6,2,  116.23,2,   32.23,2,    0.00,2,    2.21,2,   0.197,2,   0.076,2,   0.012,2,   0.1110,2,  -999.0,9,  -999.0,9,   7.5917,4,    25.00,  -0.007,2,   1.9232,2,   10.19,2,   0.9784,2,    0.43,2,  -166.4,2,     3.4,   8.376,2, -999.00,9,-999.000,9,   39.35,2,   34.46,2, -67.0002, -86.7341,   0.012,      0.043,    34.8788,2,     -999.0,9,     -999.0,9,-999.0000,9,-999.0000,9,-999.0000,9,-999.0000,9,-999.0000,9,-999.0000,9,-999.0000,9,-999.0000,9,-999.0000,9,   0.0092,    0.14,   0.8165,     -999.0,     -999.0,9,     -999.0,9,     -999.0,9,     -999.0,9,     -999.0,20110415,       1430
320620110219,       S04P,     125,          1,          8,          8,2,20110415,       1351,   -67.0002,   -86.7341,       4325,  2750.1,   0.8660,  34.7117,2,  34.7115,2,    203.3,2,   202.8,2,  120.11,2,   32.39,2,    0.00,2,    2.22,2,-999.000,9,-999.000,9,-999.000,9,-999.0000,9,  2263.3,2,  2361.1,2,   7.5999,2,    25.00,-999.000,9,-999.0000,9,-999.000,9,   0.8662,2,    0.45,2,  -155.1,2,     2.6,-999.000,9, -999.00,9,-999.000,9,   39.49,2,   34.41,2, -67.0002, -86.7341,-999.000,     -999.0,    34.8752,2,     -999.0,9,     -999.0,9,-999.0000,9,-999.0000,9,-999.0000,9,-999.0000,9,-999.0000,9,-999.0000,9,-999.0000,9,-999.0000,9,-999.0000,9,-999.0000,-999.000,   0.6853,     -999.0,     -999.0,9,     -999.0,9,     -999.0,9,     -999.0,9,     -999.0,20110415,       1425
320620110219,       S04P,     125,          1,          7,          7,2,20110415,       1351,   -67.0002,   -86.7341,       4325,  3000.3,   0.7622,  34.7085,2,  34.7078,2,    205.3,2,   205.1,2,  123.69,2,   32.52,2,    0.00,2,    2.23,2,   0.164,2,   0.077,2,   0.005,2,   0.0330,2,  -999.0,9,  -999.0,9,   7.5989,2,    25.00,   0.004,2,   1.9097,2,   10.57,2,   0.7625,2,    0.41,2,  -160.2,2,     2.3,   8.391,2, -999.00,9,-999.000,9,   39.60,2,   34.82,2, -67.0002, -86.7341,   0.013,      0.043,    34.8715,2,     -999.0,9,     -999.0,9,-999.0000,9,-999.0000,9,-999.0000,9,-999.0000,9,-999.0000,9,-999.0000,9,-999.0000,9,-999.0000,9,-999.0000,9,   0.0092,    0.14,   0.5615,     -999.0,     -999.0,9,     -999.0,9,     -999.0,9,     -999.0,9,     -999.0,20110415,       1420
320620110219,       S04P,     125,          1,          6,          6,2,20110415,       1351,   -67.0002,   -86.7341,       4325,  3300.1,   0.6288,  34.7054,2,  34.7051,2,    208.1,2,   208.1,2,  126.90,2,   32.47,2,    0.00,2,    2.23,2,-999.000,9,-999.000,9,-999.000,9,-999.0000,9,  2263.0,2,  2364.4,2,   7.5996,2,    25.00,-999.000,9,-999.0000,9,-999.000,9,   0.6292,2,    0.44,2,  -164.9,2,     2.4,-999.000,9, -999.00,9,-999.000,9,   39.02,2,   34.53,2, -67.0002, -86.7341,-999.000,     -999.0,    34.8687,2,     -999.0,9,     -999.0,9,-999.0000,9,-999.0000,9,-999.0000,9,-999.0000,9,-999.0000,9,-999.0000,9,-999.0000,9,-999.0000,9,-999.0000,9,-999.0000,-999.000,   0.4036,     -999.0,     -999.0,9,     -999.0,9,     -999.0,9,     -999.0,9,     -999.0,20110415,       1414
320620110219,       S04P,     125,          1,          5,          5,2,20110415,       1351,   -67.0002,   -86.7341,       4325,  3601.1,   0.5176,  34.7040,2,  34.7037,2,    210.7,2,   211.4,2,  130.94,2,   32.59,2,    0.00,2,    2.24,2,   0.180,2,   0.089,2,   0.006,2,   0.0720,2,  -999.0,9,  -999.0,9,   7.5987,6,    25.00,  -0.023,2,   1.9662,2,    9.56,2,   0.5183,2,    0.44,2,  -158.4,2,     2.5,   8.634,2,   -0.58,3,-999.000,9,   39.20,2,   34.97,2, -67.0002, -86.7341,   0.012,      0.044,    34.8673,2,     -999.0,9,     -999.0,9,-999.0000,9,-999.0000,9,-999.0000,9,-999.0000,9,-999.0000,9,-999.0000,9,-999.0000,9,-999.0000,9,-999.0000,9,   0.0094,    0.14,   0.2664,     -999.0,     -999.0,9,     -999.0,9,     -999.0,9,      -3.47,2,       0.11,20110415,       1408
320620110219,       S04P,     125,          1,          4,          4,2,20110415,       1351,   -67.0002,   -86.7341,       4325,  3899.6,   0.4609,  34.7034,2,  34.7033,2,    211.9,2,   211.9,2,  134.54,2,   32.67,2,    0.00,2,    2.24,2,   0.198,2,   0.100,2,   0.006,2,   0.0800,2,  2264.1,2,  -999.0,9,   7.5997,2,    25.00,-999.000,9,-999.0000,9,-999.000,9,   0.4608,2,    0.46,2,  -161.2,2,     2.3,-999.000,9, -999.00,9,-999.000,9,   39.80,2,   34.76,2, -67.0002, -86.7341,-999.000,     -999.0,    34.8669,2,     -999.0,9,     -999.0,9,-999.0000,9,-999.0000,9,-999.0000,9,-999.0000,9,-999.0000,9,-999.0000,9,-999.0000,9,-999.0000,9,-999.0000,9,-999.0000,-999.000,   0.1816,     -999.0,     -999.0,9,     -999.0,9,     -999.0,9,     -999.0,9,     -999.0,20110415,       1402
320620110219,       S04P,     125,          1,          3,          3,2,20110415,       1351,   -67.0002,   -86.7341,       4325,  4199.7,   0.4352,  34.7026,2,  34.7023,2,    213.0,2,   212.7,2,  138.10,2,   32.76,2,    0.00,2,    2.24,2,   0.306,2,   0.145,2,   0.009,2,   0.0840,2,  2263.7,2,  2363.8,2,   7.5964,2,    25.00,  -0.001,2,   1.9592,2,    8.76,2,   0.4352,2,    0.48,2,  -161.3,2,     2.4,   8.479,2,   -0.22,2,-999.000,9,   40.66,2,   35.01,2, -67.0002, -86.7341,   0.012,      0.043,    34.8659,2,     -999.0,9,     -999.0,9,-999.0000,9,-999.0000,9,-999.0000,9,-999.0000,9,-999.0000,9,-999.0000,9,-999.0000,9,-999.0000,9,-999.0000,9,   0.0094,    0.14,   0.1256,     -999.0,     -999.0,9,     -999.0,9,     -999.0,9,      -2.43,2,       0.54,20110415,       1357
320620110219,       S04P,     125,          1,          2,          2,2,20110415,       1351,   -67.0002,   -86.7341,       4325,  4349.2,   0.4244,  34.7023,2,  34.7017,2,    213.0,2,   212.3,2,  141.13,2,   32.81,2,    0.00,2,    2.24,2,   0.255,2,   0.118,2,   0.009,2,   0.0490,2,  2265.0,6,  -999.0,9,   7.5971,2,    25.00,-999.000,9,-999.0000,9,-999.000,9,   0.4242,2,    0.42,2,  -157.4,2,     2.9,-999.000,9, -999.00,9,-999.000,9,   40.55,2,   35.11,2, -67.0002, -86.7341,-999.000,     -999.0,    34.8654,2,     -999.0,9,     -999.0,9,-999.0000,9,-999.0000,9,-999.0000,9,-999.0000,9,-999.0000,9,-999.0000,9,-999.0000,9,-999.0000,9,-999.0000,9,-999.0000,-999.000,   0.0992,     -999.0,     -999.0,9,     -999.0,9,     -999.0,9,     -999.0,9,     -999.0,20110415,       1353
320620110219,       S04P,     125,          1,          1,          1,2,20110415,       1351,   -67.0002,   -86.7341,       4325,  4400.6,   0.4219,  34.7018,2,  34.7019,2,    212.3,2,   212.9,2,  143.85,2,   32.85,2,    0.00,2,    2.25,2,   0.280,2,   0.124,2,   0.011,2,   0.0530,2,  2265.6,2,  2364.5,2,   7.5962,2,    25.00,   0.018,2,   1.9204,2,    8.88,2,   0.4221,2,    0.44,2,  -158.9,2,     2.7,   8.420,2,   -0.46,3,-999.000,9,   40.52,2,   35.23,2, -67.0002, -86.7341,   0.012,      0.043,    34.8656,2,     -999.0,9,     -999.0,9,-999.0000,9,-999.0000,9,-999.0000,9,-999.0000,9,-999.0000,9,-999.0000,9,-999.0000,9,-999.0000,9,-999.0000,9,   0.0092,    0.14,   0.0913,     -999.0,     -999.0,9,     -999.0,9,     -999.0,9,      -2.74,2,       0.32,20110415,       1351