BOTTLE,20220813CCHSIOAMB
EXPOCODE,SECT_ID,STNNBR,CASTNO,SAMPNO,BTLNBR,BTLNBR_FLAG_W,DATE,TIME,LATITUDE,LONGITUDE,DEPTH,CTDPRS,CTDTMP,CTDSAL,CTDSAL_FLAG_W,SALNTY,SALNTY_FLAG_W,CTDOXY,CTDOXY_FLAG_W,OXYGEN,OXYGEN_FLAG_W,SILCAT,SILCAT_FLAG_W,NITRAT,NITRAT_FLAG_W,NITRIT,NITRIT_FLAG_W,PHSPHT,PHSPHT_FLAG_W,CFC-11,CFC-11_FLAG_W,CFC-12,CFC-12_FLAG_W,CFC113,CFC113_FLAG_W,SF6,SF6_FLAG_W,TCARBN,TCARBN_FLAG_W,ALKALI,ALKALI_FLAG_W,PH_TOT,PH_TOT_FLAG_W,PH_TMP,TRITUM,TRITUM_FLAG_W,HELIUM,HELIUM_FLAG_W,DELHE3,DELHE3_FLAG_W,REFTMP,REFTMP_FLAG_W,DELC13,DELC13_FLAG_W,DELC14,DELC14_FLAG_W,C14ERR,NEON,NEON_FLAG_W,DELO18,DELO18_FLAG_W,POC,POC_FLAG_W,DOC,DOC_FLAG_W,TDN,TDN_FLAG_W,BTL_LAT,BTL_LON,TRITER,NEONER,SALTREF,SALTREF_FLAG_W,PIGMENTS,PIGMENTS_FLAG_W,LAB_DEN,LAB_DEN_FLAG_W,CDOM325,CDOM325_FLAG_W,CDOM340,CDOM340_FLAG_W,CDOM380,CDOM380_FLAG_W,CDOM412,CDOM412_FLAG_W,CDOM443,CDOM443_FLAG_W,CDOM490,CDOM490_FLAG_W,CDOM555,CDOM555_FLAG_W,CDOMSL,CDOMSL_FLAG_W,CDOMSN,CDOMSN_FLAG_W,HELIER,DELHER,THETA,LDEO_SAMPNO,ABSORBTION,ABSORBTION_FLAG_W,IMAGE_COUNT,IMAGE_COUNT_FLAG_W,CYTO_COUNT,CYTO_COUNT_FLAG_W,DELD,DELD_FLAG_W,DELDERR,BTL_DATE,BTL_TIME
,,,,,,,,,,,METERS,DBAR,ITS-90,PSS-78,,PSS-78,,UMOL/KG,,UMOL/KG,,UMOL/KG,,UMOL/KG,,UMOL/KG,,UMOL/KG,,PMOL/KG,,PMOL/KG,,PMOL/KG,,FMOL/KG,,UMOL/KG,,UMOL/KG,,,,DEG C,TU,,NMOL/KG,,PERCNT,,DEG C,,/MILLE,,/MILLE,,/MILLE,NMOL/KG,,/MILLE,,UG/KG,,UMOL/KG,,UMOL/KG,,,,TU,NMOL/KG,G/KG,,,,,,1/M,,1/M,,1/M,,1/M,,1/M,,1/M,,1/M,,1/NM,,1/NM,,NMOL/KG,PERCNT,DEG C,,,,,,,,/MILLE,,/MILLE,,
320620110219,       S04P,      23,          2,         13,         13,2,20110302,       1227,   -67.0008,  -178.0202,       4004,  1464.7,   0.8478,  34.7139,2,  34.7140,2,    200.7,2,   200.8,2,  118.93,2,   32.32,2,    0.00,2,    2.19,2,-999.000,9,-999.000,9,-999.000,9,-999.0000,9,  -999.0,9,  -999.0,9,-999.0000,9,  -999.00,-999.000,9,-999.0000,9,-999.000,9,   0.8478,2, -999.00,9,  -999.0,9,  -999.0,-999.000,9, -999.00,9,-999.000,9, -999.00,9, -999.00,9, -67.0007,-178.0203,-999.000,     -999.0,    34.8777,2,     -999.0,9,     -999.0,9,-999.0000,9,-999.0000,9,-999.0000,9,-999.0000,9,-999.0000,9,-999.0000,9,-999.0000,9,-999.0000,9,-999.0000,9,-999.0000,-999.000,   0.7671,     -999.0,     -999.0,9,     -999.0,9,     -999.0,9,     -999.0,9,     -999.0,20110302,       1333
320620110219,       S04P,      23,          2,         12,         12,2,20110302,       1227,   -67.0008,  -178.0202,       4004,  1564.1,   0.7997,  34.7121,2,  34.7118,2,    202.1,2,   201.8,2,  120.30,2,   32.43,2,    0.00,2,    2.19,2,   0.087,2,   0.044,2,   0.005,2,-999.0000,9,  2259.6,2,  2360.1,2,   7.5869,2,    25.00,-999.000,9,-999.0000,9,-999.000,9,   0.7998,2, -999.00,9,  -999.0,9,  -999.0,-999.000,9, -999.00,9,-999.000,9, -999.00,9, -999.00,9, -67.0007,-178.0203,-999.000,     -999.0,    34.8755,2,     -999.0,9,     -999.0,9,-999.0000,9,-999.0000,9,-999.0000,9,-999.0000,9,-999.0000,9,-999.0000,9,-999.0000,9,-999.0000,9,-999.0000,9,-999.0000,-999.000,   0.7128,     -999.0,     -999.0,9,     -999.0,9,     -999.0,9,     -999.0,9,     -999.0,20110302,       1331
320620110219,       S04P,      23,          2,         11,         11,2,20110302,       1227,   -67.0008,  -178.0202,       4004,  1734.7,   0.7314,  34.7094,2,  34.7092,2,    204.0,2,   203.6,2,  122.63,2,   32.53,2,    0.00,2,    2.21,2,-999.000,9,-999.000,9,-999.000,9,-999.0000,9,  -999.0,9,  -999.0,9,-999.0000,9,  -999.00,-999.000,9,-999.0000,9,-999.000,9,   0.7312,2, -999.00,9,  -999.0,9,  -999.0,-999.000,9, -999.00,9,-999.000,9, -999.00,9, -999.00,9, -67.0007,-178.0202,-999.000,     -999.0,    34.8729,2,     -999.0,9,     -999.0,9,-999.0000,9,-999.0000,9,-999.0000,9,-999.0000,9,-999.0000,9,-999.0000,9,-999.0000,9,-999.0000,9,-999.0000,9,-999.0000,-999.000,   0.6335,     -999.0,     -999.0,9,     -999.0,9,     -999.0,9,     -999.0,9,     -999.0,20110302,       1327
320620110219,       S04P,      23,          2,         10,         10,2,20110302,       1227,   -67.0008,  -178.0202,       4004,  1935.4,   0.6547,  34.7068,2,  34.7061,2,    206.0,2,   205.6,2,  123.36,2,   32.48,2,    0.00,2,    2.21,2,   0.114,2,   0.072,2,   0.009,2,-999.0000,9,  2258.3,2,  2359.8,2,   7.5885,2,    25.00,-999.000,9,-999.0000,9,-999.000,9,   0.6550,2, -999.00,9,  -999.0,9,  -999.0,-999.000,9, -999.00,9,-999.000,9, -999.00,9, -999.00,9, -67.0008,-178.0203,-999.000,     -999.0,    34.8697,2,     -999.0,9,     -999.0,9,-999.0000,9,-999.0000,9,-999.0000,9,-999.0000,9,-999.0000,9,-999.0000,9,-999.0000,9,-999.0000,9,-999.0000,9,-999.0000,-999.000,   0.5434,     -999.0,     -999.0,9,     -999.0,9,     -999.0,9,     -999.0,9,     -999.0,20110302,       1322
320620110219,       S04P,      23,          2,          9,          9,2,20110302,       1227,   -67.0008,  -178.0202,       4004,  2165.1,   0.5689,  34.7054,2,  34.7045,2,    207.3,2,   207.3,2,  126.20,2,   32.67,2,    0.00,2,    2.22,2,-999.000,9,-999.000,9,-999.000,9,-999.0000,9,  -999.0,9,  -999.0,9,-999.0000,9,  -999.00,-999.000,9,-999.0000,9,-999.000,9,   0.5692,2, -999.00,9,  -999.0,9,  -999.0,-999.000,9, -999.00,9,-999.000,9, -999.00,9, -999.00,9, -67.0008,-178.0202,-999.000,     -999.0,    34.8682,2,     -999.0,9,     -999.0,9,-999.0000,9,-999.0000,9,-999.0000,9,-999.0000,9,-999.0000,9,-999.0000,9,-999.0000,9,-999.0000,9,-999.0000,9,-999.0000,-999.000,   0.4418,     -999.0,     -999.0,9,     -999.0,9,     -999.0,9,     -999.0,9,     -999.0,20110302,       1316
320620110219,       S04P,      23,          2,          8,          8,2,20110302,       1227,   -67.0008,  -178.0202,       4004,  2414.6,   0.4883,  34.7031,2,  34.7024,2,    209.5,2,   209.4,2,  127.30,2,   32.66,2,    0.00,2,    2.22,2,   0.186,2,   0.113,2,   0.017,2,-999.0000,9,  2260.2,2,  2361.0,2,   7.5849,2,    25.00,-999.000,9,-999.0000,9,-999.000,9,   0.4889,2, -999.00,9,  -999.0,9,  -999.0,-999.000,9, -999.00,9,-999.000,9, -999.00,9, -999.00,9, -67.0008,-178.0202,-999.000,     -999.0,    34.8660,2,     -999.0,9,     -999.0,9,-999.0000,9,-999.0000,9,-999.0000,9,-999.0000,9,-999.0000,9,-999.0000,9,-999.0000,9,-999.0000,9,-999.0000,9,-999.0000,-999.000,   0.3431,     -999.0,     -999.0,9,     -999.0,9,     -999.0,9,     -999.0,9,     -999.0,20110302,       1311
320620110219,       S04P,      23,          2,          7,          7,2,20110302,       1227,   -67.0008,  -178.0202,       4004,  2664.3,   0.4185,  34.7021,2,  34.7018,2,    211.2,2,   210.9,2,  129.50,2,   32.84,2,    0.00,2,    2.21,2,-999.000,9,-999.000,9,-999.000,9,-999.0000,9,  -999.0,9,  -999.0,9,-999.0000,9,  -999.00,-999.000,9,-999.0000,9,-999.000,9,   0.4186,2, -999.00,9,  -999.0,9,  -999.0,-999.000,9, -999.00,9,-999.000,9, -999.00,9, -999.00,9, -67.0008,-178.0202,-999.000,     -999.0,    34.8654,2,     -999.0,9,     -999.0,9,-999.0000,9,-999.0000,9,-999.0000,9,-999.0000,9,-999.0000,9,-999.0000,9,-999.0000,9,-999.0000,9,-999.0000,9,-999.0000,-999.000,   0.2543,     -999.0,     -999.0,9,     -999.0,9,     -999.0,9,     -999.0,9,     -999.0,20110302,       1305
320620110219,       S04P,      23,          2,          6,          6,2,20110302,       1227,   -67.0008,  -178.0202,       4004,  2905.6,   0.3721,  34.7013,2,  34.7008,2,    212.7,2,   212.8,2,  130.64,2,   32.80,2,    0.00,2,    2.21,2,   0.208,2,   0.134,2,   0.020,2,-999.0000,9,  2260.8,2,  2361.3,2,   7.5884,2,    25.00,-999.000,9,-999.0000,9,-999.000,9,   0.3722,2, -999.00,9,  -999.0,9,  -999.0,-999.000,9, -999.00,9,-999.000,9, -999.00,9, -999.00,9, -67.0008,-178.0202,-999.000,     -999.0,    34.8644,2,     -999.0,9,     -999.0,9,-999.0000,9,-999.0000,9,-999.0000,9,-999.0000,9,-999.0000,9,-999.0000,9,-999.0000,9,-999.0000,9,-999.0000,9,-999.0000,-999.000,   0.1884,     -999.0,     -999.0,9,     -999.0,9,     -999.0,9,     -999.0,9,     -999.0,20110302,       1259
320620110219,       S04P,      23,          2,          5,          5,2,20110302,       1227,   -67.0008,  -178.0202,       4004,  3199.1,   0.3102,  34.6988,2,  34.6980,2,    215.0,2,   215.7,2,  130.47,2,   32.82,2,    0.00,2,    2.21,2,-999.000,9,-999.000,9,-999.000,9,-999.0000,9,  -999.0,9,  -999.0,9,-999.0000,9,  -999.00,-999.000,9,-999.0000,9,-999.000,9,   0.3102,2, -999.00,9,  -999.0,9,  -999.0,-999.000,9, -999.00,9,-999.000,9, -999.00,9, -999.00,9, -67.0008,-178.0202,-999.000,     -999.0,    34.8616,2,     -999.0,9,     -999.0,9,-999.0000,9,-999.0000,9,-999.0000,9,-999.0000,9,-999.0000,9,-999.0000,9,-999.0000,9,-999.0000,9,-999.0000,9,-999.0000,-999.000,   0.1020,     -999.0,     -999.0,9,     -999.0,9,     -999.0,9,     -999.0,9,     -999.0,20110302,       1253
320620110219,       S04P,      23,          2,          4,          4,2,20110302,       1227,   -67.0008,  -178.0202,       4004,  3499.3,   0.2551,  34.6972,2,  34.6962,2,    217.6,2,   217.1,2,  129.72,2,   32.70,2,    0.00,2,    2.22,2,   0.446,2,   0.262,2,   0.033,2,-999.0000,9,  2260.4,6,  2359.4,2,   7.5876,2,    25.00,-999.000,9,-999.0000,9,-999.000,9,   0.2555,2, -999.00,9,  -999.0,9,  -999.0,-999.000,9, -999.00,9,-999.000,9, -999.00,9, -999.00,9, -67.0008,-178.0202,-999.000,     -999.0,    34.8599,2,     -999.0,9,     -999.0,9,-999.0000,9,-999.0000,9,-999.0000,9,-999.0000,9,-999.0000,9,-999.0000,9,-999.0000,9,-999.0000,9,-999.0000,9,-999.0000,-999.000,   0.0205,     -999.0,     -999.0,9,     -999.0,9,     -999.0,9,     -999.0,9,     -999.0,20110302,       1245
320620110219,       S04P,      23,          2,          3,          3,2,20110302,       1227,   -67.0008,  -178.0202,       4004,  3800.7,   0.2222,  34.6966,2,  34.6959,2,    219.2,2,   218.8,2,  128.44,2,   32.79,2,    0.00,2,    2.21,2,   0.561,2,   0.318,2,   0.035,2,-999.0000,9,  2259.7,2,  2358.6,2,   7.5858,2,    25.00,-999.000,9,-999.0000,9,-999.000,9,   0.2225,2, -999.00,9,  -999.0,9,  -999.0,-999.000,9, -999.00,9,-999.000,9, -999.00,9, -999.00,9, -67.0008,-178.0202,-999.000,     -999.0,    34.8595,2,     -999.0,9,     -999.0,9,-999.0000,9,-999.0000,9,-999.0000,9,-999.0000,9,-999.0000,9,-999.0000,9,-999.0000,9,-999.0000,9,-999.0000,9,-999.0000,-999.000,  -0.0406,     -999.0,     -999.0,9,     -999.0,9,     -999.0,9,     -999.0,9,     -999.0,20110302,       1237
320620110219,       S04P,      23,          2,          2,          2,2,20110302,       1227,   -67.0008,  -178.0202,       4004,  4019.8,   0.2168,  34.6966,2,  34.6959,2,    219.2,2,   219.1,2,  127.12,2,   32.76,2,    0.00,2,    2.22,2,   0.621,2,   0.385,2,   0.043,2,-999.0000,9,  2261.6,2,  2358.4,6,   7.5849,2,    25.00,-999.000,9,-999.0000,9,-999.000,9,   0.2167,2, -999.00,9,  -999.0,9,  -999.0,-999.000,9, -999.00,9,-999.000,9, -999.00,9, -999.00,9, -67.0008,-178.0202,-999.000,     -999.0,    34.8595,2,     -999.0,9,     -999.0,9,-999.0000,9,-999.0000,9,-999.0000,9,-999.0000,9,-999.0000,9,-999.0000,9,-999.0000,9,-999.0000,9,-999.0000,9,-999.0000,-999.000,  -0.0678,     -999.0,     -999.0,9,     -999.0,9,     -999.0,9,     -999.0,9,     -999.0,20110302,       1230
320620110219,       S04P,      23,          2,          1,          1,2,20110302,       1227,   -67.0008,  -178.0202,       4004,  4071.6,   0.2162,  34.6971,2,  34.6955,2,    218.8,2,   218.7,2,  126.78,2,   32.71,2,    0.00,2,    2.23,2,   0.629,2,   0.355,2,   0.038,2,-999.0000,9,  2258.0,2,  2358.1,2,   7.5825,6,    25.00,-999.000,9,-999.0000,9,-999.000,9,   0.2142,2, -999.00,9,  -999.0,9,  -999.0,-999.000,9, -999.00,9,-999.000,9, -999.00,9, -999.00,9, -67.0008,-178.0202,-999.000,     -999.0,    34.8591,2,     -999.0,9,     -999.0,9,-999.0000,9,-999.0000,9,-999.0000,9,-999.0000,9,-999.0000,9,-999.0000,9,-999.0000,9,-999.0000,9,-999.0000,9,-999.0000,-999.000,  -0.0736,     -999.0,     -999.0,9,     -999.0,9,     -999.0,9,     -999.0,9,     -999.0,20110302,       1227