BOTTLE,20220813CCHSIOAMB
EXPOCODE,SECT_ID,STNNBR,CASTNO,SAMPNO,BTLNBR,BTLNBR_FLAG_W,DATE,TIME,LATITUDE,LONGITUDE,DEPTH,CTDPRS,CTDTMP,CTDSAL,CTDSAL_FLAG_W,SALNTY,SALNTY_FLAG_W,CTDOXY,CTDOXY_FLAG_W,OXYGEN,OXYGEN_FLAG_W,SILCAT,SILCAT_FLAG_W,NITRAT,NITRAT_FLAG_W,NITRIT,NITRIT_FLAG_W,PHSPHT,PHSPHT_FLAG_W,CFC-11,CFC-11_FLAG_W,CFC-12,CFC-12_FLAG_W,CFC113,CFC113_FLAG_W,SF6,SF6_FLAG_W,TCARBN,TCARBN_FLAG_W,ALKALI,ALKALI_FLAG_W,PH_TOT,PH_TOT_FLAG_W,PH_TMP,TRITUM,TRITUM_FLAG_W,HELIUM,HELIUM_FLAG_W,DELHE3,DELHE3_FLAG_W,REFTMP,REFTMP_FLAG_W,DELC13,DELC13_FLAG_W,DELC14,DELC14_FLAG_W,C14ERR,NEON,NEON_FLAG_W,DELO18,DELO18_FLAG_W,POC,POC_FLAG_W,DOC,DOC_FLAG_W,TDN,TDN_FLAG_W,BTL_LAT,BTL_LON,TRITER,NEONER,SALTREF,SALTREF_FLAG_W,PIGMENTS,PIGMENTS_FLAG_W,LAB_DEN,LAB_DEN_FLAG_W,CDOM325,CDOM325_FLAG_W,CDOM340,CDOM340_FLAG_W,CDOM380,CDOM380_FLAG_W,CDOM412,CDOM412_FLAG_W,CDOM443,CDOM443_FLAG_W,CDOM490,CDOM490_FLAG_W,CDOM555,CDOM555_FLAG_W,CDOMSL,CDOMSL_FLAG_W,CDOMSN,CDOMSN_FLAG_W,HELIER,DELHER,THETA,LDEO_SAMPNO,ABSORBTION,ABSORBTION_FLAG_W,IMAGE_COUNT,IMAGE_COUNT_FLAG_W,CYTO_COUNT,CYTO_COUNT_FLAG_W,DELD,DELD_FLAG_W,DELDERR,BTL_DATE,BTL_TIME
,,,,,,,,,,,METERS,DBAR,ITS-90,PSS-78,,PSS-78,,UMOL/KG,,UMOL/KG,,UMOL/KG,,UMOL/KG,,UMOL/KG,,UMOL/KG,,PMOL/KG,,PMOL/KG,,PMOL/KG,,FMOL/KG,,UMOL/KG,,UMOL/KG,,,,DEG C,TU,,NMOL/KG,,PERCNT,,DEG C,,/MILLE,,/MILLE,,/MILLE,NMOL/KG,,/MILLE,,UG/KG,,UMOL/KG,,UMOL/KG,,,,TU,NMOL/KG,G/KG,,,,,,1/M,,1/M,,1/M,,1/M,,1/M,,1/M,,1/M,,1/NM,,1/NM,,NMOL/KG,PERCNT,DEG C,,,,,,,,/MILLE,,/MILLE,,
320620110219,       S04P,       8,          1,         36,         36,2,20110223,       2019,   -69.8770,   169.5273,       2689,     4.5,  -1.5533,  34.0538,2,  34.0535,2,    342.3,3,   345.2,2,   67.53,2,   29.06,2,    0.13,2,    1.91,2,   5.739,2,   3.203,2,   0.575,2,   2.8680,2,  2189.4,2,  2307.1,2,   7.6574,6,    25.00,   0.090,2,    2.031,2,  -1.538,2,  -1.5537,2, -999.00,9,  -999.0,9,  -999.0,   9.205,2,   -0.31,2,-999.000,9,   43.41,2,   31.40,2, -69.8770, 169.5273,   0.006,      0.007,    34.2141,2,     -999.0,9,     -999.0,9,-999.0000,9,-999.0000,9,-999.0000,9,-999.0000,9,-999.0000,9,-999.0000,9,-999.0000,9,-999.0000,9,-999.0000,9,    0.001,   0.186,  -1.5534,50000801036,     -999.0,9,     -999.0,9,     -999.0,9,      -3.27,2,       0.06,20110223,       2151
320620110219,       S04P,       8,          1,         35,         35,2,20110223,       2019,   -69.8770,   169.5273,       2689,    20.4,  -1.5641,  34.0564,2,  34.0567,2,    344.9,2,   344.8,2,   67.49,2,   28.92,2,    0.13,2,    1.93,2,   5.621,2,   3.153,2,   0.559,2,   2.7370,2,  2190.8,6,  2298.0,2,   7.6550,4,    25.00,   0.066,2,    2.095,2,  -1.178,2,  -1.5638,2, -999.00,9,  -999.0,9,  -999.0,   9.393,2,   -0.27,2,-999.000,9,   42.29,2,   32.03,2, -69.8770, 169.5273,   0.004,      0.012,    34.2173,2,     -999.0,9,     -999.0,9,-999.0000,9,-999.0000,9,-999.0000,9,-999.0000,9,-999.0000,9,-999.0000,9,-999.0000,9,-999.0000,9,-999.0000,9,    0.000,   0.203,  -1.5645,50000801035,     -999.0,9,     -999.0,9,     -999.0,9,      -3.14,2,       0.04,20110223,       2149
320620110219,       S04P,       8,          1,         34,         34,2,20110223,       2019,   -69.8770,   169.5273,       2689,    40.5,  -1.5739,  34.0583,2,  34.0579,2,    344.4,2,   344.3,2,   67.70,2,   28.82,2,    0.13,2,    1.95,2,   5.636,2,   3.175,2,   0.566,2,   2.7620,2,  2191.4,2,  2301.8,6,   7.6573,4,    25.00,   0.060,2,    2.023,2,  -1.469,2,  -1.5751,2, -999.00,9,  -999.0,9,  -999.0,   9.128,2,    0.06,2,-999.000,9,   42.02,2,   32.50,2, -69.8770, 169.5273,   0.005,      0.011,    34.2184,2,     -999.0,9,     -999.0,9,-999.0000,9,-999.0000,9,-999.0000,9,-999.0000,9,-999.0000,9,-999.0000,9,-999.0000,9,-999.0000,9,-999.0000,9,    0.000,   0.202,  -1.5747,50000801034,     -999.0,9,     -999.0,9,     -999.0,9,      -1.94,2,       0.16,20110223,       2147
320620110219,       S04P,       8,          1,         33,         33,2,20110223,       2019,   -69.8770,   169.5273,       2689,    64.8,  -1.6388,  34.0729,2,  34.0727,2,    340.0,2,   340.7,2,   68.00,2,   29.01,2,    0.12,2,    1.95,2,   5.507,2,   3.104,2,   0.560,2,   2.7400,2,  2193.5,2,  2300.3,2,   7.6503,4,    25.00,   0.058,2,    2.014,2,  -0.582,2,  -1.6387,2, -999.00,9,  -999.0,9,  -999.0,   9.165,2,   -0.28,2,-999.000,9,   42.11,2,   32.74,2, -69.8770, 169.5273,   0.005,      0.008,    34.2334,2,     -999.0,9,     -999.0,9,-999.0000,9,-999.0000,9,-999.0000,9,-999.0000,9,-999.0000,9,-999.0000,9,-999.0000,9,-999.0000,9,-999.0000,9,    0.001,   0.198,  -1.6401,50000801033,     -999.0,9,     -999.0,9,     -999.0,9,      -3.18,2,       0.01,20110223,       2146
320620110219,       S04P,       8,          1,         32,         32,2,20110223,       2019,   -69.8770,   169.5273,       2689,    89.2,  -1.7134,  34.0973,2,  34.0909,2,    337.3,2,   337.2,2,   68.43,2,   29.25,2,    0.11,2,    1.96,2,   5.356,2,   3.002,2,   0.548,2,   2.7000,2,  -999.0,9,  -999.0,9,-999.0000,9,  -999.00,   0.065,2,    2.061,2,  -0.844,2,  -1.7134,2, -999.00,9,  -999.0,9,  -999.0,   9.249,2,   -0.07,2,-999.000,9,   42.12,2,   32.83,2, -69.8770, 169.5273,   0.005,      0.012,    34.2517,2,     -999.0,9,     -999.0,9,-999.0000,9,-999.0000,9,-999.0000,9,-999.0000,9,-999.0000,9,-999.0000,9,-999.0000,9,-999.0000,9,-999.0000,9,    0.000,   0.205,  -1.7152,50000801032,     -999.0,9,     -999.0,9,     -999.0,9,      -2.80,2,       0.23,20110223,       2144
320620110219,       S04P,       8,          1,         31,         31,2,20110223,       2019,   -69.8770,   169.5273,       2689,   115.5,  -1.6234,  34.3127,2,  34.3133,2,    284.3,2,   284.8,2,   70.54,2,   30.76,2,    0.13,2,    2.07,2,   4.330,2,   2.295,2,   0.415,2,   1.8530,2,  2218.3,2,  2316.8,2,   7.6168,2,    25.00,   0.059,2,    2.042,2,   1.733,2,  -1.6232,2, -999.00,9,  -999.0,9,  -999.0,   9.074,2,   -0.16,2,-999.000,9,   42.23,2,   33.91,2, -69.8770, 169.5273,   0.005,      0.011,    34.4751,2,     -999.0,9,     -999.0,9,-999.0000,9,-999.0000,9,-999.0000,9,-999.0000,9,-999.0000,9,-999.0000,9,-999.0000,9,-999.0000,9,-999.0000,9,    0.000,   0.204,  -1.6259,50000801031,     -999.0,9,     -999.0,9,     -999.0,9,      -2.97,2,       0.02,20110223,       2143
320620110219,       S04P,       8,          1,         30,         30,2,20110223,       2019,   -69.8770,   169.5273,       2689,   140.0,  -1.6464,  34.3405,2,  34.3366,2,    285.5,2,   285.4,2,   70.60,2,   31.14,2,    0.03,2,    2.05,2,   4.230,2,   2.350,2,   0.429,2,   1.8800,2,  2220.1,2,  2317.2,2,   7.6144,2,    25.00,   0.056,2,    2.093,2,   1.478,2,  -1.6517,2, -999.00,9,  -999.0,9,  -999.0,   9.290,2,   -0.29,2,-999.000,9,   42.12,2,   34.39,2, -69.8770, 169.5273,   0.004,      0.008,    34.4986,2,     -999.0,9,     -999.0,9,-999.0000,9,-999.0000,9,-999.0000,9,-999.0000,9,-999.0000,9,-999.0000,9,-999.0000,9,-999.0000,9,-999.0000,9,    0.000,   0.201,  -1.6494,50000801030,     -999.0,9,     -999.0,9,     -999.0,9,      -3.23,2,       0.10,20110223,       2141
320620110219,       S04P,       8,          1,         29,         29,2,20110223,       2019,   -69.8770,   169.5273,       2689,   166.2,  -1.2875,  34.3834,2,  34.3839,2,    275.1,2,   270.6,2,   74.57,2,   31.52,2,    0.01,2,    2.11,2,   3.721,2,   2.042,2,   0.373,2,   1.0930,2,  -999.0,9,  -999.0,9,-999.0000,9,  -999.00,   0.038,2,    2.061,2,   2.634,2,  -1.2939,2, -999.00,9,  -999.0,9,  -999.0,   9.118,2,   -0.03,2,-999.000,9,   42.32,2,   34.68,2, -69.8770, 169.5273,   0.006,      0.011,    34.5460,2,     -999.0,9,     -999.0,9,-999.0000,9,-999.0000,9,-999.0000,9,-999.0000,9,-999.0000,9,-999.0000,9,-999.0000,9,-999.0000,9,-999.0000,9,    0.000,   0.204,  -1.2917,50000801029,     -999.0,9,     -999.0,9,     -999.0,9,      -2.31,2,       0.26,20110223,       2140
320620110219,       S04P,       8,          1,         28,         28,2,20110223,       2019,   -69.8770,   169.5273,       2689,   190.5,  -0.9331,  34.4265,2,  34.4233,2,    261.3,2,   258.7,2,   77.63,2,   31.44,2,    0.01,2,    2.12,2,   3.298,2,   1.779,2,   0.330,2,   1.1350,2,  2229.3,2,  2325.1,2,   7.5981,2,    25.00,-999.000,9,-999.0000,9,-999.000,9,  -0.9387,2, -999.00,9,  -999.0,9,  -999.0,-999.000,9, -999.00,9,-999.000,9,   41.77,2,   34.13,2, -69.8770, 169.5273,-999.000,     -999.0,    34.5856,2,     -999.0,9,     -999.0,9,-999.0000,9,-999.0000,9,-999.0000,9,-999.0000,9,-999.0000,9,-999.0000,9,-999.0000,9,-999.0000,9,-999.0000,9,-999.0000,-999.000,  -0.9385,     -999.0,     -999.0,9,     -999.0,9,     -999.0,9,     -999.0,9,     -999.0,20110223,       2138
320620110219,       S04P,       8,          1,         27,         27,2,20110223,       2019,   -69.8770,   169.5273,       2689,   215.5,  -0.5519,  34.4756,2,  34.4766,2,    246.1,2,   245.1,2,   82.49,2,   31.44,2,    0.00,2,    2.14,2,   2.744,2,   1.494,2,   0.257,2,   0.7030,2,  -999.0,9,  -999.0,9,-999.0000,9,  -999.00,   0.028,2,    2.027,2,   4.601,2,  -0.5566,2, -999.00,9,  -999.0,9,  -999.0,   8.912,2,   -0.17,2,-999.000,9,   41.10,2,   35.39,2, -69.8770, 169.5273,   0.005,      0.016,    34.6392,2,     -999.0,9,     -999.0,9,-999.0000,9,-999.0000,9,-999.0000,9,-999.0000,9,-999.0000,9,-999.0000,9,-999.0000,9,-999.0000,9,-999.0000,9,    0.001,   0.217,  -0.5588,50000801027,     -999.0,9,     -999.0,9,     -999.0,9,      -2.72,2,       0.09,20110223,       2137
320620110219,       S04P,       8,          1,         26,         26,2,20110223,       2019,   -69.8770,   169.5273,       2689,   240.9,  -0.0995,  34.5357,2,  34.5393,2,    232.1,2,   230.8,2,   85.66,2,   32.19,2,    0.00,2,    2.15,2,-999.000,9,-999.000,9,-999.000,9,-999.0000,9,  2240.2,2,  2332.7,2,   7.5875,2,    25.00,-999.000,9,-999.0000,9,-999.000,9,  -0.0912,2, -999.00,9,  -999.0,9,  -999.0,-999.000,9, -999.00,9,-999.000,9,   40.62,2,   35.39,2, -69.8770, 169.5273,-999.000,     -999.0,    34.7022,2,     -999.0,9,     -999.0,9,-999.0000,9,-999.0000,9,-999.0000,9,-999.0000,9,-999.0000,9,-999.0000,9,-999.0000,9,-999.0000,9,-999.0000,9,-999.0000,-999.000,  -0.1082,     -999.0,     -999.0,9,     -999.0,9,     -999.0,9,     -999.0,9,     -999.0,20110223,       2135
320620110219,       S04P,       8,          1,         25,         25,2,20110223,       2019,   -69.8770,   169.5273,       2689,   285.8,   0.4516,  34.6071,2,  34.6039,2,    212.7,2,   214.1,2,   90.66,2,   32.30,2,    0.00,2,    2.16,2,   1.554,2,   0.811,2,   0.141,2,   0.4920,2,  -999.0,9,  -999.0,9,-999.0000,9,  -999.00,   0.012,2,    2.021,2,   6.905,2,   0.4526,2, -999.00,9,  -999.0,9,  -999.0,   8.784,2,    0.18,2,-999.000,9,   40.07,2,   35.21,2, -69.8770, 169.5273,   0.005,      0.015,    34.7670,2,     -999.0,9,     -999.0,9,-999.0000,9,-999.0000,9,-999.0000,9,-999.0000,9,-999.0000,9,-999.0000,9,-999.0000,9,-999.0000,9,-999.0000,9,    0.001,   0.218,   0.4397,50000801025,     -999.0,9,     -999.0,9,     -999.0,9,      -1.12,2,       0.10,20110223,       2133
320620110219,       S04P,       8,          1,         24,         24,2,20110223,       2019,   -69.8770,   169.5273,       2689,   334.9,   0.8685,  34.6594,2,  34.6592,2,    202.2,2,   201.5,2,   94.12,2,   32.68,2,    0.00,2,    2.18,2,   1.022,2,   0.518,2,   0.093,2,-999.0000,9,  2252.6,2,  2341.8,2,   7.5792,2,    25.00,-999.000,9,-999.0000,9,-999.000,9,   0.8710,2, -999.00,9,  -999.0,9,  -999.0,-999.000,9, -999.00,9,-999.000,9,   39.62,2,   34.70,2, -69.8770, 169.5273,-999.000,     -999.0,    34.8226,2,     -999.0,9,     -999.0,9,-999.0000,9,-999.0000,9,-999.0000,9,-999.0000,9,-999.0000,9,-999.0000,9,-999.0000,9,-999.0000,9,-999.0000,9,-999.0000,-999.000,   0.8533,     -999.0,     -999.0,9,     -999.0,9,     -999.0,9,     -999.0,9,     -999.0,20110223,       2131
320620110219,       S04P,       8,          1,         23,         23,2,20110223,       2019,   -69.8770,   169.5273,       2689,   385.6,   0.8440,  34.6655,2,  34.6653,2,    200.3,2,   201.4,2,   95.70,2,   32.30,2,    0.00,2,    2.19,2,   0.968,2,   0.488,2,   0.081,2,   0.3230,2,  -999.0,9,  -999.0,9,-999.0000,9,  -999.00,   0.005,2,    2.137,4,   7.843,2,   0.8443,2, -999.00,9,  -999.0,9,  -999.0,   9.281,2,   -0.11,2,-999.000,9,   39.60,2,   35.49,2, -69.8770, 169.5272,   0.004,      0.017,    34.8287,2,     -999.0,9,     -999.0,9,-999.0000,9,-999.0000,9,-999.0000,9,-999.0000,9,-999.0000,9,-999.0000,9,-999.0000,9,-999.0000,9,-999.0000,9,    0.001,   0.197,   0.8264,50000801023,     -999.0,9,     -999.0,9,     -999.0,9,      -2.33,2,       0.26,20110223,       2129
320620110219,       S04P,       8,          1,         22,         22,2,20110223,       2019,   -69.8770,   169.5273,       2689,   435.3,   0.8537,  34.6744,2,  34.6719,2,    196.0,2,   201.0,2,   97.71,2,   32.41,2,    0.00,2,    2.17,2,-999.000,9,-999.000,9,-999.000,9,-999.0000,9,  2253.0,2,  2344.9,2,   7.5820,2,    25.00,-999.000,9,-999.0000,9,-999.000,9,   0.8627,2, -999.00,9,  -999.0,9,  -999.0,-999.000,9, -999.00,9,-999.000,9,   39.56,2,   34.90,2, -69.8770, 169.5273,-999.000,     -999.0,    34.8354,2,     -999.0,9,     -999.0,9,-999.0000,9,-999.0000,9,-999.0000,9,-999.0000,9,-999.0000,9,-999.0000,9,-999.0000,9,-999.0000,9,-999.0000,9,-999.0000,-999.000,   0.8336,     -999.0,     -999.0,9,     -999.0,9,     -999.0,9,     -999.0,9,     -999.0,20110223,       2127
320620110219,       S04P,       8,          1,         21,         21,2,20110223,       2019,   -69.8770,   169.5273,       2689,   484.8,   0.9187,  34.6870,2,  34.6868,2,    195.6,2,   199.1,2,  100.21,2,   32.45,2,    0.00,2,    2.18,2,   0.789,2,   0.377,2,   0.064,2,   0.2570,2,  -999.0,9,  -999.0,9,-999.0000,9,  -999.00,   0.000,2,    2.198,4,   7.853,2,   0.9154,2, -999.00,9,  -999.0,9,  -999.0,   9.454,4,   -0.04,2,-999.000,9,   39.27,2,   34.84,2, -69.8770, 169.5273,   0.005,      0.012,    34.8504,2,     -999.0,9,     -999.0,9,-999.0000,9,-999.0000,9,-999.0000,9,-999.0000,9,-999.0000,9,-999.0000,9,-999.0000,9,-999.0000,9,-999.0000,9,    0.000,   0.201,   0.8958,50000801021,     -999.0,9,     -999.0,9,     -999.0,9,      -1.80,2,       0.22,20110223,       2125
320620110219,       S04P,       8,          1,         20,         20,2,20110223,       2019,   -69.8770,   169.5273,       2689,   565.1,   0.9237,  34.6943,2,  34.6941,2,    198.0,2,   198.2,2,  102.84,2,   32.60,2,    0.00,2,    2.18,2,-999.000,9,-999.000,9,-999.000,9,-999.0000,9,  2255.2,2,  -999.0,5,   7.5857,2,    25.00,-999.000,9,-999.0000,9,-999.000,9,   0.9207,2, -999.00,9,  -999.0,9,  -999.0,-999.000,9, -999.00,9,-999.000,9,   39.44,2,   35.28,2, -69.8770, 169.5273,-999.000,     -999.0,    34.8577,2,     -999.0,9,     -999.0,9,-999.0000,9,-999.0000,9,-999.0000,9,-999.0000,9,-999.0000,9,-999.0000,9,-999.0000,9,-999.0000,9,-999.0000,9,-999.0000,-999.000,   0.8966,     -999.0,     -999.0,9,     -999.0,9,     -999.0,9,     -999.0,9,     -999.0,20110223,       2122
320620110219,       S04P,       8,          1,         19,         19,2,20110223,       2019,   -69.8770,   169.5273,       2689,   665.5,   0.9751,  34.7079,2,  34.7073,2,    197.3,2,   196.8,2,  107.34,2,   32.59,2,    0.00,2,    2.18,2,   0.427,2,   0.189,2,   0.029,2,   0.1240,2,  -999.0,9,  -999.0,9,-999.0000,9,  -999.00,   0.011,2,    2.083,2,   8.832,2,   0.9747,2, -999.00,9,  -999.0,9,  -999.0,   8.984,2,    0.04,2,-999.000,9,   39.45,2,   34.74,2, -69.8770, 169.5273,   0.004,      0.016,    34.8709,2,     -999.0,9,     -999.0,9,-999.0000,9,-999.0000,9,-999.0000,9,-999.0000,9,-999.0000,9,-999.0000,9,-999.0000,9,-999.0000,9,-999.0000,9,    0.001,   0.208,   0.9423,50000801019,     -999.0,9,     -999.0,9,     -999.0,9,      -1.44,2,       0.07,20110223,       2119
320620110219,       S04P,       8,          1,         18,         18,2,20110223,       2019,   -69.8770,   169.5273,       2689,   765.0,   0.8957,  34.7058,2,  34.7069,2,    198.8,2,   198.1,2,  109.20,2,   32.58,2,    0.00,2,    2.18,2,-999.000,9,-999.000,9,-999.000,9,-999.0000,9,  2256.3,2,  2351.4,2,   7.5878,2,    25.00,-999.000,9,-999.0000,9,-999.000,9,   0.8974,2, -999.00,9,  -999.0,9,  -999.0,-999.000,9, -999.00,9,-999.000,9,   39.45,2,   34.65,2, -69.8770, 169.5273,-999.000,     -999.0,    34.8705,2,     -999.0,9,     -999.0,9,-999.0000,9,-999.0000,9,-999.0000,9,-999.0000,9,-999.0000,9,-999.0000,9,-999.0000,9,-999.0000,9,-999.0000,9,-999.0000,-999.000,   0.8578,     -999.0,     -999.0,9,     -999.0,9,     -999.0,9,     -999.0,9,     -999.0,20110223,       2116
320620110219,       S04P,       8,          1,         17,         17,2,20110223,       2019,   -69.8770,   169.5273,       2689,   865.9,   0.8278,  34.7047,2,  34.7033,2,    200.0,2,   201.0,2,  111.25,2,   32.02,2,    0.00,2,    2.19,2,   0.471,2,   0.202,2,   0.034,2,   0.1450,2,  -999.0,9,  -999.0,9,-999.0000,9,  -999.00,   0.001,2,    2.068,2,   9.158,2,   0.8307,2, -999.00,9,  -999.0,9,  -999.0,   8.990,2,   -0.08,2,-999.000,9,   39.80,2,   35.01,2, -69.8770, 169.5273,   0.004,      0.011,    34.8670,2,     -999.0,9,     -999.0,9,-999.0000,9,-999.0000,9,-999.0000,9,-999.0000,9,-999.0000,9,-999.0000,9,-999.0000,9,-999.0000,9,-999.0000,9,    0.000,   0.204,   0.7846,50000801017,     -999.0,9,     -999.0,9,     -999.0,9,      -1.94,2,       0.02,20110223,       2113
320620110219,       S04P,       8,          1,         16,         16,2,20110223,       2019,   -69.8770,   169.5273,       2689,   965.5,   0.7719,  34.7041,2,  34.7035,2,    202.8,2,   202.2,2,  113.49,2,   32.22,2,    0.00,2,    2.18,2,   0.439,2,   0.185,2,   0.030,2,-999.0000,9,  -999.0,9,  -999.0,9,-999.0000,9,  -999.00,-999.000,9,-999.0000,9,-999.000,9,   0.7734,2, -999.00,9,  -999.0,9,  -999.0,-999.000,9, -999.00,9,-999.000,9,   40.12,2,   35.40,2, -69.8770, 169.5273,-999.000,     -999.0,    34.8672,2,     -999.0,9,     -999.0,9,-999.0000,9,-999.0000,9,-999.0000,9,-999.0000,9,-999.0000,9,-999.0000,9,-999.0000,9,-999.0000,9,-999.0000,9,-999.0000,-999.000,   0.7234,     -999.0,     -999.0,9,     -999.0,9,     -999.0,9,     -999.0,9,     -999.0,20110223,       2110
320620110219,       S04P,       8,          1,         15,         15,2,20110223,       2019,   -69.8770,   169.5273,       2689,  1065.0,   0.6607,  34.6963,2,  34.6959,2,    206.2,2,   205.3,2,  112.76,2,   32.43,2,    0.00,2,    2.17,2,   0.569,2,   0.269,2,   0.043,2,-999.0000,9,  2263.2,3,  2354.0,2,   7.5946,4,    25.00,   0.001,2,    2.070,2,   9.336,2,   0.6604,2, -999.00,9,  -999.0,9,  -999.0,   9.014,2,   -0.18,2,-999.000,9,   39.89,2,   35.32,2, -69.8770, 169.5273,   0.004,      0.011,    34.8595,2,     -999.0,9,     -999.0,9,-999.0000,9,-999.0000,9,-999.0000,9,-999.0000,9,-999.0000,9,-999.0000,9,-999.0000,9,-999.0000,9,-999.0000,9,    0.000,   0.200,   0.6072,50000801015,     -999.0,9,     -999.0,9,     -999.0,9,      -2.36,2,       0.04,20110223,       2107
320620110219,       S04P,       8,          1,         14,         14,2,20110223,       2019,   -69.8770,   169.5273,       2689,  1165.3,   0.5224,  34.6872,2,  34.6869,2,    208.7,2,   209.3,2,  111.24,2,   32.50,2,    0.00,2,    2.17,2,-999.000,9,-999.000,9,-999.000,9,-999.0000,9,  -999.0,9,  -999.0,9,-999.0000,9,  -999.00,-999.000,9,-999.0000,9,-999.000,9,   0.5216,2, -999.00,9,  -999.0,9,  -999.0,-999.000,9, -999.00,9,-999.000,9,   39.85,2,   35.56,2, -69.8770, 169.5272,-999.000,     -999.0,    34.8504,2,     -999.0,9,     -999.0,9,-999.0000,9,-999.0000,9,-999.0000,9,-999.0000,9,-999.0000,9,-999.0000,9,-999.0000,9,-999.0000,9,-999.0000,9,-999.0000,-999.000,   0.4642,     -999.0,     -999.0,9,     -999.0,9,     -999.0,9,     -999.0,9,     -999.0,20110223,       2104