BOTTLE,20220813CCHSIOAMB
EXPOCODE,SECT_ID,STNNBR,CASTNO,SAMPNO,BTLNBR,BTLNBR_FLAG_W,DATE,TIME,LATITUDE,LONGITUDE,DEPTH,CTDPRS,CTDTMP,CTDSAL,CTDSAL_FLAG_W,SALNTY,SALNTY_FLAG_W,CTDOXY,CTDOXY_FLAG_W,OXYGEN,OXYGEN_FLAG_W,SILCAT,SILCAT_FLAG_W,NITRAT,NITRAT_FLAG_W,NITRIT,NITRIT_FLAG_W,PHSPHT,PHSPHT_FLAG_W,CFC-11,CFC-11_FLAG_W,CFC-12,CFC-12_FLAG_W,CFC113,CFC113_FLAG_W,SF6,SF6_FLAG_W,TCARBN,TCARBN_FLAG_W,ALKALI,ALKALI_FLAG_W,PH_TOT,PH_TOT_FLAG_W,PH_TMP,TRITUM,TRITUM_FLAG_W,HELIUM,HELIUM_FLAG_W,DELHE3,DELHE3_FLAG_W,REFTMP,REFTMP_FLAG_W,DELC13,DELC13_FLAG_W,DELC14,DELC14_FLAG_W,C14ERR,NEON,NEON_FLAG_W,DELO18,DELO18_FLAG_W,POC,POC_FLAG_W,DOC,DOC_FLAG_W,TDN,TDN_FLAG_W,BTL_LAT,BTL_LON,TRITER,NEONER,SALTREF,SALTREF_FLAG_W,PIGMENTS,PIGMENTS_FLAG_W,LAB_DEN,LAB_DEN_FLAG_W,CDOM325,CDOM325_FLAG_W,CDOM340,CDOM340_FLAG_W,CDOM380,CDOM380_FLAG_W,CDOM412,CDOM412_FLAG_W,CDOM443,CDOM443_FLAG_W,CDOM490,CDOM490_FLAG_W,CDOM555,CDOM555_FLAG_W,CDOMSL,CDOMSL_FLAG_W,CDOMSN,CDOMSN_FLAG_W,HELIER,DELHER,THETA,LDEO_SAMPNO,ABSORBTION,ABSORBTION_FLAG_W,IMAGE_COUNT,IMAGE_COUNT_FLAG_W,CYTO_COUNT,CYTO_COUNT_FLAG_W,DELD,DELD_FLAG_W,DELDERR,BTL_DATE,BTL_TIME
,,,,,,,,,,,METERS,DBAR,ITS-90,PSS-78,,PSS-78,,UMOL/KG,,UMOL/KG,,UMOL/KG,,UMOL/KG,,UMOL/KG,,UMOL/KG,,PMOL/KG,,PMOL/KG,,PMOL/KG,,FMOL/KG,,UMOL/KG,,UMOL/KG,,,,DEG C,TU,,NMOL/KG,,PERCNT,,DEG C,,/MILLE,,/MILLE,,/MILLE,NMOL/KG,,/MILLE,,UG/KG,,UMOL/KG,,UMOL/KG,,,,TU,NMOL/KG,G/KG,,,,,,1/M,,1/M,,1/M,,1/M,,1/M,,1/M,,1/M,,1/NM,,1/NM,,NMOL/KG,PERCNT,DEG C,,,,,,,,/MILLE,,/MILLE,,
320620110219,       S04P,      20,          1,         36,         36,2,20110301,       1352,   -66.9998,   178.1408,       3867,     4.7,  -0.3899,  33.4337,2,  33.4340,2,    341.5,3,   342.0,2,   59.86,2,   26.41,2,    0.19,2,    1.71,2,   6.040,2,   3.279,2,   0.607,2,-999.0000,9,  2145.6,6,  2264.0,2,   7.6675,2,    25.00,-999.000,9,-999.0000,9,-999.000,9,  -0.3900,2, -999.00,9,  -999.0,9,  -999.0,-999.000,9, -999.00,9,-999.000,9,   45.12,2,   29.62,2, -66.9997, 178.1409,-999.000,     -999.0,    33.5916,2,     -999.0,9,     -999.0,9,-999.0000,9,-999.0000,9,-999.0000,9,-999.0000,9,-999.0000,9,-999.0000,9,-999.0000,9,-999.0000,9,-999.0000,9,-999.0000,-999.000,  -0.3900,     -999.0,     -999.0,9,     -999.0,9,     -999.0,9,     -999.0,9,     -999.0,20110301,       1554
320620110219,       S04P,      20,          1,         35,         35,2,20110301,       1352,   -66.9998,   178.1408,       3867,    20.4,  -0.3912,  33.4335,2,  33.4344,2,    342.1,2,   341.8,2,   59.80,2,   26.33,2,    0.19,2,    1.71,2,   5.981,2,   3.265,2,   0.567,2,-999.0000,9,  2146.2,2,  2263.5,2,   7.6679,6,    25.00,-999.000,9,-999.0000,9,-999.000,9,  -0.3925,2, -999.00,9,  -999.0,9,  -999.0,-999.000,9, -999.00,9,-999.000,9,   44.56,2,   29.59,2, -66.9997, 178.1409,-999.000,     -999.0,    33.5920,2,     -999.0,9,     -999.0,9,-999.0000,9,-999.0000,9,-999.0000,9,-999.0000,9,-999.0000,9,-999.0000,9,-999.0000,9,-999.0000,9,-999.0000,9,-999.0000,-999.000,  -0.3918,     -999.0,     -999.0,9,     -999.0,9,     -999.0,9,     -999.0,9,     -999.0,20110301,       1552
320620110219,       S04P,      20,          1,         34,         34,2,20110301,       1352,   -66.9998,   178.1408,       3867,    40.0,  -1.5316,  34.1048,2,  34.1056,2,    307.1,2,   307.4,2,   63.74,2,   27.82,2,    0.08,2,    1.83,2,   4.165,2,   2.314,2,   0.383,2,-999.0000,9,  2191.3,2,  2307.5,6,   7.6532,2,    25.00,-999.000,9,-999.0000,9,-999.000,9,  -1.5312,2, -999.00,9,  -999.0,9,  -999.0,-999.000,9, -999.00,9,-999.000,9,   44.38,2,   30.50,2, -66.9997, 178.1408,-999.000,     -999.0,    34.2664,2,     -999.0,9,     -999.0,9,-999.0000,9,-999.0000,9,-999.0000,9,-999.0000,9,-999.0000,9,-999.0000,9,-999.0000,9,-999.0000,9,-999.0000,9,-999.0000,-999.000,  -1.5324,     -999.0,     -999.0,9,     -999.0,9,     -999.0,9,     -999.0,9,     -999.0,20110301,       1550
320620110219,       S04P,      20,          1,         33,         33,2,20110301,       1352,   -66.9998,   178.1408,       3867,    65.1,  -1.7179,  34.1914,2,  34.1901,2,    288.4,2,   287.7,2,   65.69,2,   29.53,2,    0.12,2,    1.96,2,   4.013,2,   2.241,2,   0.392,2,-999.0000,9,  2206.4,2,  2311.2,2,   7.6208,2,    25.00,-999.000,9,-999.0000,9,-999.000,9,  -1.7191,2, -999.00,9,  -999.0,9,  -999.0,-999.000,9, -999.00,9,-999.000,9,   43.46,2,   32.58,2, -66.9997, 178.1409,-999.000,     -999.0,    34.3514,2,     -999.0,9,     -999.0,9,-999.0000,9,-999.0000,9,-999.0000,9,-999.0000,9,-999.0000,9,-999.0000,9,-999.0000,9,-999.0000,9,-999.0000,9,-999.0000,-999.000,  -1.7192,     -999.0,     -999.0,9,     -999.0,9,     -999.0,9,     -999.0,9,     -999.0,20110301,       1549
320620110219,       S04P,      20,          1,         32,         32,2,20110301,       1352,   -66.9998,   178.1408,       3867,    89.2,  -1.5535,  34.2376,2,  34.2371,2,    277.6,2,   278.1,2,   67.52,2,   30.13,2,    0.17,2,    2.01,2,-999.000,9,-999.000,9,-999.000,9,-999.0000,9,  -999.0,9,  -999.0,9,-999.0000,9,  -999.00,-999.000,9,-999.0000,9,-999.000,9,  -1.5559,2, -999.00,9,  -999.0,9,  -999.0,-999.000,9, -999.00,9,-999.000,9, -999.00,9, -999.00,9, -66.9997, 178.1408,-999.000,     -999.0,    34.3986,2,     -999.0,9,     -999.0,9,-999.0000,9,-999.0000,9,-999.0000,9,-999.0000,9,-999.0000,9,-999.0000,9,-999.0000,9,-999.0000,9,-999.0000,9,-999.0000,-999.000,  -1.5554,     -999.0,     -999.0,9,     -999.0,9,     -999.0,9,     -999.0,9,     -999.0,20110301,       1547
320620110219,       S04P,      20,          1,         31,         31,2,20110301,       1352,   -66.9998,   178.1408,       3867,   114.5,  -0.3589,  34.4167,2,  34.3936,2,    238.4,2,   242.4,2,   75.33,2,   31.54,2,    0.06,2,    2.10,2,   2.712,2,   1.527,2,   0.273,2,-999.0000,9,  2230.4,2,  2324.7,2,   7.5788,2,    25.00,-999.000,9,-999.0000,9,-999.000,9,  -0.3627,2, -999.00,9,  -999.0,9,  -999.0,-999.000,9, -999.00,9,-999.000,9,   42.91,2,   34.10,2, -66.9997, 178.1409,-999.000,     -999.0,    34.5558,2,     -999.0,9,     -999.0,9,-999.0000,9,-999.0000,9,-999.0000,9,-999.0000,9,-999.0000,9,-999.0000,9,-999.0000,9,-999.0000,9,-999.0000,9,-999.0000,-999.000,  -0.3626,     -999.0,     -999.0,9,     -999.0,9,     -999.0,9,     -999.0,9,     -999.0,20110301,       1545
320620110219,       S04P,      20,          1,         30,         30,2,20110301,       1352,   -66.9998,   178.1408,       3867,   140.2,   0.9257,  34.5925,2,  34.5918,2,    203.5,2,   200.5,2,   85.03,2,   32.66,2,    0.01,2,    2.18,2,   1.246,2,   0.698,2,   0.130,2,-999.0000,9,  2248.1,2,  2336.2,2,   7.5613,2,    25.00,-999.000,9,-999.0000,9,-999.000,9,   0.9268,2, -999.00,9,  -999.0,9,  -999.0,-999.000,9, -999.00,9,-999.000,9,   42.62,2,   35.18,2, -66.9997, 178.1408,-999.000,     -999.0,    34.7549,2,     -999.0,9,     -999.0,9,-999.0000,9,-999.0000,9,-999.0000,9,-999.0000,9,-999.0000,9,-999.0000,9,-999.0000,9,-999.0000,9,-999.0000,9,-999.0000,-999.000,   0.9195,     -999.0,     -999.0,9,     -999.0,9,     -999.0,9,     -999.0,9,     -999.0,20110301,       1543
320620110219,       S04P,      20,          1,         29,         29,2,20110301,       1352,   -66.9998,   178.1408,       3867,   186.1,   1.3131,  34.6664,2,  34.6636,2,    190.0,2,   189.2,2,   89.45,2,   32.65,2,    0.00,2,    2.18,2,-999.000,9,-999.000,9,-999.000,9,-999.0000,9,  2255.9,2,  2341.8,2,   7.5637,2,    25.00,-999.000,9,-999.0000,9,-999.000,9,   1.3136,2, -999.00,9,  -999.0,9,  -999.0,-999.000,9, -999.00,9,-999.000,9,   42.33,2,   35.52,2, -66.9997, 178.1409,-999.000,     -999.0,    34.8271,2,     -999.0,9,     -999.0,9,-999.0000,9,-999.0000,9,-999.0000,9,-999.0000,9,-999.0000,9,-999.0000,9,-999.0000,9,-999.0000,9,-999.0000,9,-999.0000,-999.000,   1.3042,     -999.0,     -999.0,9,     -999.0,9,     -999.0,9,     -999.0,9,     -999.0,20110301,       1541
320620110219,       S04P,      20,          1,         28,         28,2,20110301,       1352,   -66.9998,   178.1408,       3867,   235.4,   1.4234,  34.6925,2,  34.6923,2,    186.5,2,   186.7,2,   91.59,2,   32.38,2,    0.00,2,    2.17,2,   0.537,2,   0.294,2,   0.062,2,-999.0000,9,  2255.9,2,  2343.7,2,   7.5648,2,    25.00,-999.000,9,-999.0000,9,-999.000,9,   1.4234,2, -999.00,9,  -999.0,9,  -999.0,-999.000,9, -999.00,9,-999.000,9,   42.17,2,   35.68,2, -66.9997, 178.1409,-999.000,     -999.0,    34.8558,2,     -999.0,9,     -999.0,9,-999.0000,9,-999.0000,9,-999.0000,9,-999.0000,9,-999.0000,9,-999.0000,9,-999.0000,9,-999.0000,9,-999.0000,9,-999.0000,-999.000,   1.4118,     -999.0,     -999.0,9,     -999.0,9,     -999.0,9,     -999.0,9,     -999.0,20110301,       1539
320620110219,       S04P,      20,          1,         27,         27,2,20110301,       1352,   -66.9998,   178.1408,       3867,   284.1,   1.4497,  34.7083,2,  34.7072,2,    186.7,2,   187.1,2,   93.65,2,   32.25,2,    0.00,2,    2.16,2,-999.000,9,-999.000,9,-999.000,9,-999.0000,9,  2257.4,2,  2347.1,2,   7.5709,2,    25.00,-999.000,9,-999.0000,9,-999.000,9,   1.4493,2, -999.00,9,  -999.0,9,  -999.0,-999.000,9, -999.00,9,-999.000,9,   41.88,2,   35.99,2, -66.9997, 178.1409,-999.000,     -999.0,    34.8708,2,     -999.0,9,     -999.0,9,-999.0000,9,-999.0000,9,-999.0000,9,-999.0000,9,-999.0000,9,-999.0000,9,-999.0000,9,-999.0000,9,-999.0000,9,-999.0000,-999.000,   1.4355,     -999.0,     -999.0,9,     -999.0,9,     -999.0,9,     -999.0,9,     -999.0,20110301,       1537
320620110219,       S04P,      20,          1,         26,         26,2,20110301,       1352,   -66.9998,   178.1408,       3867,   335.3,   1.4277,  34.7147,2,  34.7140,2,    187.4,2,   187.7,2,   96.12,2,   32.15,2,    0.00,2,    2.16,2,   0.338,2,   0.187,2,   0.036,2,-999.0000,9,  2257.0,2,  2350.2,2,   7.5731,2,    25.00,-999.000,9,-999.0000,9,-999.000,9,   1.4279,2, -999.00,9,  -999.0,9,  -999.0,-999.000,9, -999.00,9,-999.000,9,   41.79,2,   35.71,2, -66.9997, 178.1409,-999.000,     -999.0,    34.8777,2,     -999.0,9,     -999.0,9,-999.0000,9,-999.0000,9,-999.0000,9,-999.0000,9,-999.0000,9,-999.0000,9,-999.0000,9,-999.0000,9,-999.0000,9,-999.0000,-999.000,   1.4109,     -999.0,     -999.0,9,     -999.0,9,     -999.0,9,     -999.0,9,     -999.0,20110301,       1535
320620110219,       S04P,      20,          1,         25,         25,2,20110301,       1352,   -66.9998,   178.1408,       3867,   385.2,   1.4240,  34.7205,2,  34.7203,2,    187.7,2,   187.6,2,   97.15,2,   32.06,2,    0.00,2,    2.16,2,-999.000,9,-999.000,9,-999.000,9,-999.0000,9,  2258.2,2,  2349.0,2,   7.5765,2,    25.00,-999.000,9,-999.0000,9,-999.000,9,   1.4238,2, -999.00,9,  -999.0,9,  -999.0,-999.000,9, -999.00,9,-999.000,9,   41.52,2,   35.41,2, -66.9997, 178.1408,-999.000,     -999.0,    34.8840,2,     -999.0,9,     -999.0,9,-999.0000,9,-999.0000,9,-999.0000,9,-999.0000,9,-999.0000,9,-999.0000,9,-999.0000,9,-999.0000,9,-999.0000,9,-999.0000,-999.000,   1.4045,     -999.0,     -999.0,9,     -999.0,9,     -999.0,9,     -999.0,9,     -999.0,20110301,       1533
320620110219,       S04P,      20,          1,         24,         24,2,20110301,       1352,   -66.9998,   178.1408,       3867,   436.2,   1.3937,  34.7223,2,  34.7221,2,    188.3,2,   189.2,2,   98.71,2,   32.00,2,    0.00,2,    2.16,2,   0.266,2,   0.147,2,   0.031,2,-999.0000,9,  2259.1,2,  2351.9,2,   7.5759,2,    25.00,-999.000,9,-999.0000,9,-999.000,9,   1.3943,2, -999.00,9,  -999.0,9,  -999.0,-999.000,9, -999.00,9,-999.000,9,   41.20,2,   35.55,2, -66.9997, 178.1409,-999.000,     -999.0,    34.8858,2,     -999.0,9,     -999.0,9,-999.0000,9,-999.0000,9,-999.0000,9,-999.0000,9,-999.0000,9,-999.0000,9,-999.0000,9,-999.0000,9,-999.0000,9,-999.0000,-999.000,   1.3715,     -999.0,     -999.0,9,     -999.0,9,     -999.0,9,     -999.0,9,     -999.0,20110301,       1531
320620110219,       S04P,      20,          1,         23,         23,2,20110301,       1352,   -66.9998,   178.1408,       3867,   486.7,   1.3493,  34.7229,2,  34.7225,2,    189.3,2,   189.4,2,  100.19,2,   32.04,2,    0.00,2,    2.15,2,-999.000,9,-999.000,9,-999.000,9,-999.0000,9,  2257.7,2,  2353.0,2,   7.5763,2,    25.00,-999.000,9,-999.0000,9,-999.000,9,   1.3494,2, -999.00,9,  -999.0,9,  -999.0,-999.000,9, -999.00,9,-999.000,9,   40.88,2,   35.41,2, -66.9997, 178.1409,-999.000,     -999.0,    34.8862,2,     -999.0,9,     -999.0,9,-999.0000,9,-999.0000,9,-999.0000,9,-999.0000,9,-999.0000,9,-999.0000,9,-999.0000,9,-999.0000,9,-999.0000,9,-999.0000,-999.000,   1.3245,     -999.0,     -999.0,9,     -999.0,9,     -999.0,9,     -999.0,9,     -999.0,20110301,       1528
320620110219,       S04P,      20,          1,         22,         22,2,20110301,       1352,   -66.9998,   178.1408,       3867,   565.4,   1.2972,  34.7242,2,  34.7234,2,    191.0,2,   190.6,2,  102.09,2,   32.08,2,    0.00,2,    2.15,2,   0.233,2,   0.129,2,   0.030,2,-999.0000,9,  -999.0,9,  -999.0,9,-999.0000,9,  -999.00,-999.000,9,-999.0000,9,-999.000,9,   1.2970,2, -999.00,9,  -999.0,9,  -999.0,-999.000,9, -999.00,9,-999.000,9,   40.87,2,   35.58,2, -66.9997, 178.1409,-999.000,     -999.0,    34.8872,2,     -999.0,9,     -999.0,9,-999.0000,9,-999.0000,9,-999.0000,9,-999.0000,9,-999.0000,9,-999.0000,9,-999.0000,9,-999.0000,9,-999.0000,9,-999.0000,-999.000,   1.2683,     -999.0,     -999.0,9,     -999.0,9,     -999.0,9,     -999.0,9,     -999.0,20110301,       1526
320620110219,       S04P,      20,          1,         21,         21,2,20110301,       1352,   -66.9998,   178.1408,       3867,   665.4,   1.2266,  34.7244,2,  34.7238,2,    192.4,2,   192.1,2,  104.64,2,   32.06,2,    0.00,2,    2.15,2,-999.000,9,-999.000,9,-999.000,9,-999.0000,9,  2258.0,2,  2354.5,2,   7.5794,6,    25.00,-999.000,9,-999.0000,9,-999.000,9,   1.2266,2, -999.00,9,  -999.0,9,  -999.0,-999.000,9, -999.00,9,-999.000,9,   40.67,2,   35.81,2, -66.9997, 178.1409,-999.000,     -999.0,    34.8876,2,     -999.0,9,     -999.0,9,-999.0000,9,-999.0000,9,-999.0000,9,-999.0000,9,-999.0000,9,-999.0000,9,-999.0000,9,-999.0000,9,-999.0000,9,-999.0000,-999.000,   1.1924,     -999.0,     -999.0,9,     -999.0,9,     -999.0,9,     -999.0,9,     -999.0,20110301,       1522
320620110219,       S04P,      20,          1,         20,         20,2,20110301,       1352,   -66.9998,   178.1408,       3867,   763.9,   1.1688,  34.7238,2,  34.7232,2,    194.0,2,   193.9,2,  106.62,2,   32.10,2,    0.00,2,    2.16,2,   0.174,2,   0.096,2,   0.024,2,-999.0000,9,  2259.8,2,  2354.0,2,   7.5846,4,    25.00,-999.000,9,-999.0000,9,-999.000,9,   1.1689,2, -999.00,9,  -999.0,9,  -999.0,-999.000,9, -999.00,9,-999.000,9,   40.80,2,   35.94,2, -66.9997, 178.1409,-999.000,     -999.0,    34.8870,2,     -999.0,9,     -999.0,9,-999.0000,9,-999.0000,9,-999.0000,9,-999.0000,9,-999.0000,9,-999.0000,9,-999.0000,9,-999.0000,9,-999.0000,9,-999.0000,-999.000,   1.1292,     -999.0,     -999.0,9,     -999.0,9,     -999.0,9,     -999.0,9,     -999.0,20110301,       1519
320620110219,       S04P,      20,          1,         19,         19,2,20110301,       1352,   -66.9998,   178.1408,       3867,   864.7,   1.0977,  34.7219,2,  34.7219,2,    195.6,2,   195.1,2,  109.65,2,   32.11,2,    0.00,2,    2.16,2,   0.144,6,   0.077,6,   0.019,6,-999.0000,9,  -999.0,9,  -999.0,9,-999.0000,9,  -999.00,-999.000,9,-999.0000,9,-999.000,9,   1.0972,2, -999.00,9,  -999.0,9,  -999.0,-999.000,9, -999.00,9,-999.000,9,   40.47,2,   35.49,2, -66.9997, 178.1408,-999.000,     -999.0,    34.8856,2,     -999.0,9,     -999.0,9,-999.0000,9,-999.0000,9,-999.0000,9,-999.0000,9,-999.0000,9,-999.0000,9,-999.0000,9,-999.0000,9,-999.0000,9,-999.0000,-999.000,   1.0527,     -999.0,     -999.0,9,     -999.0,9,     -999.0,9,     -999.0,9,     -999.0,20110301,       1516
320620110219,       S04P,      20,          1,         18,         18,2,20110301,       1352,   -66.9998,   178.1408,       3867,   965.4,   1.0363,  34.7200,2,  34.7199,2,    196.4,2,   196.4,2,  111.49,2,   32.25,2,    0.00,2,    2.16,2,   0.129,2,   0.074,2,   0.016,2,-999.0000,9,  2259.3,2,  2356.6,2,   7.5869,4,    25.00,-999.000,9,-999.0000,9,-999.000,9,   1.0362,2, -999.00,9,  -999.0,9,  -999.0,-999.000,9, -999.00,9,-999.000,9,   40.57,2,   35.34,2, -66.9997, 178.1409,-999.000,     -999.0,    34.8836,2,     -999.0,9,     -999.0,9,-999.0000,9,-999.0000,9,-999.0000,9,-999.0000,9,-999.0000,9,-999.0000,9,-999.0000,9,-999.0000,9,-999.0000,9,-999.0000,-999.000,   0.9857,     -999.0,     -999.0,9,     -999.0,9,     -999.0,9,     -999.0,9,     -999.0,20110301,       1513
320620110219,       S04P,      20,          1,         17,         17,2,20110301,       1352,   -66.9998,   178.1408,       3867,  1065.6,   0.9752,  34.7179,2,  34.7181,2,    197.9,2,   197.7,2,  113.66,2,   32.25,2,    0.00,2,    2.17,2,-999.000,9,-999.000,9,-999.000,9,-999.0000,9,  -999.0,9,  -999.0,9,-999.0000,9,  -999.00,-999.000,9,-999.0000,9,-999.000,9,   0.9753,2, -999.00,9,  -999.0,9,  -999.0,-999.000,9, -999.00,9,-999.000,9,   40.81,2,   35.26,2, -66.9997, 178.1409,-999.000,     -999.0,    34.8818,2,     -999.0,9,     -999.0,9,-999.0000,9,-999.0000,9,-999.0000,9,-999.0000,9,-999.0000,9,-999.0000,9,-999.0000,9,-999.0000,9,-999.0000,9,-999.0000,-999.000,   0.9190,     -999.0,     -999.0,9,     -999.0,9,     -999.0,9,     -999.0,9,     -999.0,20110301,       1510
320620110219,       S04P,      20,          1,         16,         16,2,20110301,       1352,   -66.9998,   178.1408,       3867,  1165.3,   0.9247,  34.7161,2,  34.7159,2,    198.8,2,   199.2,2,  115.11,2,   32.37,2,    0.00,2,    2.17,2,   0.113,2,   0.065,2,   0.012,2,-999.0000,9,  2258.8,2,  2358.3,2,   7.5886,4,    25.00,-999.000,9,-999.0000,9,-999.000,9,   0.9247,2, -999.00,9,  -999.0,9,  -999.0,-999.000,9, -999.00,9,-999.000,9,   40.89,2,   34.37,2, -66.9997, 178.1409,-999.000,     -999.0,    34.8797,2,     -999.0,9,     -999.0,9,-999.0000,9,-999.0000,9,-999.0000,9,-999.0000,9,-999.0000,9,-999.0000,9,-999.0000,9,-999.0000,9,-999.0000,9,-999.0000,-999.000,   0.8627,     -999.0,     -999.0,9,     -999.0,9,     -999.0,9,     -999.0,9,     -999.0,20110301,       1507
320620110219,       S04P,      20,          1,         15,         15,2,20110301,       1352,   -66.9998,   178.1408,       3867,  1265.8,   0.8733,  34.7145,2,  34.7144,2,    199.9,2,   200.1,2,  116.75,2,   32.37,2,    0.00,2,    2.17,2,-999.000,9,-999.000,9,-999.000,9,-999.0000,9,  -999.0,9,  -999.0,9,-999.0000,9,  -999.00,-999.000,9,-999.0000,9,-999.000,9,   0.8730,2, -999.00,9,  -999.0,9,  -999.0,-999.000,9, -999.00,9,-999.000,9,   40.54,2,   34.50,2, -66.9997, 178.1408,-999.000,     -999.0,    34.8781,2,     -999.0,9,     -999.0,9,-999.0000,9,-999.0000,9,-999.0000,9,-999.0000,9,-999.0000,9,-999.0000,9,-999.0000,9,-999.0000,9,-999.0000,9,-999.0000,-999.000,   0.8054,     -999.0,     -999.0,9,     -999.0,9,     -999.0,9,     -999.0,9,     -999.0,20110301,       1503
320620110219,       S04P,      20,          1,         14,         14,2,20110301,       1352,   -66.9998,   178.1408,       3867,  1364.0,   0.8232,  34.7125,2,  34.7126,2,    201.6,2,   201.2,2,  117.93,2,   32.37,2,    0.00,2,    2.17,2,   0.116,2,   0.066,2,   0.013,2,-999.0000,9,  2261.8,2,  2359.3,2,   7.5889,2,    25.00,-999.000,9,-999.0000,9,-999.000,9,   0.8228,2, -999.00,9,  -999.0,9,  -999.0,-999.000,9, -999.00,9,-999.000,9,   40.31,2,   35.22,2, -66.9997, 178.1408,-999.000,     -999.0,    34.8763,2,     -999.0,9,     -999.0,9,-999.0000,9,-999.0000,9,-999.0000,9,-999.0000,9,-999.0000,9,-999.0000,9,-999.0000,9,-999.0000,9,-999.0000,9,-999.0000,-999.000,   0.7495,     -999.0,     -999.0,9,     -999.0,9,     -999.0,9,     -999.0,9,     -999.0,20110301,       1500