BOTTLE,20220813CCHSIOAMB
EXPOCODE,SECT_ID,STNNBR,CASTNO,SAMPNO,BTLNBR,BTLNBR_FLAG_W,DATE,TIME,LATITUDE,LONGITUDE,DEPTH,CTDPRS,CTDTMP,CTDSAL,CTDSAL_FLAG_W,SALNTY,SALNTY_FLAG_W,CTDOXY,CTDOXY_FLAG_W,OXYGEN,OXYGEN_FLAG_W,SILCAT,SILCAT_FLAG_W,NITRAT,NITRAT_FLAG_W,NITRIT,NITRIT_FLAG_W,PHSPHT,PHSPHT_FLAG_W,CFC-11,CFC-11_FLAG_W,CFC-12,CFC-12_FLAG_W,CFC113,CFC113_FLAG_W,SF6,SF6_FLAG_W,TCARBN,TCARBN_FLAG_W,ALKALI,ALKALI_FLAG_W,PH_TOT,PH_TOT_FLAG_W,PH_TMP,TRITUM,TRITUM_FLAG_W,HELIUM,HELIUM_FLAG_W,DELHE3,DELHE3_FLAG_W,REFTMP,REFTMP_FLAG_W,DELC13,DELC13_FLAG_W,DELC14,DELC14_FLAG_W,C14ERR,NEON,NEON_FLAG_W,DELO18,DELO18_FLAG_W,POC,POC_FLAG_W,DOC,DOC_FLAG_W,TDN,TDN_FLAG_W,BTL_LAT,BTL_LON,TRITER,NEONER,SALTREF,SALTREF_FLAG_W,PIGMENTS,PIGMENTS_FLAG_W,LAB_DEN,LAB_DEN_FLAG_W,CDOM325,CDOM325_FLAG_W,CDOM340,CDOM340_FLAG_W,CDOM380,CDOM380_FLAG_W,CDOM412,CDOM412_FLAG_W,CDOM443,CDOM443_FLAG_W,CDOM490,CDOM490_FLAG_W,CDOM555,CDOM555_FLAG_W,CDOMSL,CDOMSL_FLAG_W,CDOMSN,CDOMSN_FLAG_W,HELIER,DELHER,THETA,LDEO_SAMPNO,ABSORBTION,ABSORBTION_FLAG_W,IMAGE_COUNT,IMAGE_COUNT_FLAG_W,CYTO_COUNT,CYTO_COUNT_FLAG_W,DELD,DELD_FLAG_W,DELDERR,BTL_DATE,BTL_TIME
,,,,,,,,,,,METERS,DBAR,ITS-90,PSS-78,,PSS-78,,UMOL/KG,,UMOL/KG,,UMOL/KG,,UMOL/KG,,UMOL/KG,,UMOL/KG,,PMOL/KG,,PMOL/KG,,PMOL/KG,,FMOL/KG,,UMOL/KG,,UMOL/KG,,,,DEG C,TU,,NMOL/KG,,PERCNT,,DEG C,,/MILLE,,/MILLE,,/MILLE,NMOL/KG,,/MILLE,,UG/KG,,UMOL/KG,,UMOL/KG,,,,TU,NMOL/KG,G/KG,,,,,,1/M,,1/M,,1/M,,1/M,,1/M,,1/M,,1/M,,1/NM,,1/NM,,NMOL/KG,PERCNT,DEG C,,,,,,,,/MILLE,,/MILLE,,
320620110219,       S04P,     101,          1,         36,         36,2,20110401,       1511,   -67.0011,  -138.4961,       4448,     4.6,  -0.7905,  33.5033,2,  33.5023,2,    345.1,2,   345.7,2,   26.45,2,   23.34,2,    0.18,2,    1.60,2,   6.239,2,   3.420,2,   0.615,2,   2.8500,2,  2136.9,2,  2266.2,2,   7.7091,2,    25.00,   0.116,2,    1.929,2,  -0.900,2,  -0.7906,2, -999.00,9,  -999.0,9,  -999.0,   8.741,2,   -0.46,2,-999.000,9,   45.10,2,   27.30,2, -67.0004,-138.4956,   0.005,      0.006,    33.6603,2,     -999.0,9,     -999.0,9,-999.0000,9,-999.0000,9,-999.0000,9,-999.0000,9,-999.0000,9,-999.0000,9,-999.0000,9,-999.0000,9,-999.0000,9,    0.001,   0.212,  -0.7906,50010101036,     -999.0,9,     -999.0,9,     -999.0,9,      -4.06,2,       0.12,20110401,       1658
320620110219,       S04P,     101,          1,         35,         35,2,20110401,       1511,   -67.0011,  -138.4961,       4448,    23.8,  -0.7932,  33.5045,2,  33.5042,2,    346.0,2,   345.5,2,   26.60,2,   23.32,2,    0.18,2,    1.60,2,   6.281,2,   3.431,2,   0.627,2,   2.7370,2,  2136.9,2,  2266.1,2,   7.7089,6,    25.00,-999.000,9,    1.951,2,  -1.291,2,  -0.7934,2, -999.00,9,  -999.0,9,  -999.0,   8.851,2, -999.00,9,-999.000,9,   44.90,2,   27.33,2, -67.0004,-138.4956,-999.000,      0.006,    33.6622,2,     -999.0,9,     -999.0,9,-999.0000,9,-999.0000,9,-999.0000,9,-999.0000,9,-999.0000,9,-999.0000,9,-999.0000,9,-999.0000,9,-999.0000,9,    0.001,   0.211,  -0.7938,50010101035,     -999.0,9,     -999.0,9,     -999.0,9,     -999.0,9,     -999.0,20110401,       1657
320620110219,       S04P,     101,          1,         34,         34,2,20110401,       1511,   -67.0011,  -138.4961,       4448,    48.9,  -1.1676,  33.6974,2,  33.7165,2,    343.6,2,   331.8,2,   36.14,2,   26.07,2,    0.18,2,    1.84,2,   5.892,2,   3.226,2,   0.586,2,   2.5460,2,  2161.2,6,  2278.0,2,   7.6701,2,    25.00,   0.088,2,    1.941,2,  -0.898,2,  -1.1779,2, -999.00,9,  -999.0,9,  -999.0,   8.764,2,   -0.32,2,-999.000,9,   44.49,2,   29.84,2, -67.0002,-138.4955,   0.005,      0.006,    33.8755,2,     -999.0,9,     -999.0,9,-999.0000,9,-999.0000,9,-999.0000,9,-999.0000,9,-999.0000,9,-999.0000,9,-999.0000,9,-999.0000,9,-999.0000,9,    0.001,   0.210,  -1.1688,50010101034,     -999.0,9,     -999.0,9,     -999.0,9,      -3.62,2,       0.08,20110401,       1656
320620110219,       S04P,     101,          1,         33,         33,2,20110401,       1511,   -67.0011,  -138.4961,       4448,    74.1,  -1.3586,  34.0324,2,  34.0373,2,    309.1,2,   301.3,2,   49.25,2,   30.14,2,    0.16,2,    2.09,2,   5.053,6,   2.729,6,   0.502,6,   2.1290,6,  2196.6,2,  2295.5,2,   7.6164,2,    25.00,-999.000,9,    1.975,2,   0.966,2,  -1.3419,2, -999.00,9,  -999.0,9,  -999.0,   8.873,2, -999.00,9,-999.000,9,   44.64,2,   33.41,2, -67.0002,-138.4955,-999.000,      0.006,    34.1978,2,     -999.0,9,     -999.0,9,-999.0000,9,-999.0000,9,-999.0000,9,-999.0000,9,-999.0000,9,-999.0000,9,-999.0000,9,-999.0000,9,-999.0000,9,    0.001,   0.224,  -1.3603,50010101033,     -999.0,9,     -999.0,9,     -999.0,9,     -999.0,9,     -999.0,20110401,       1654
320620110219,       S04P,     101,          1,         32,         32,2,20110401,       1511,   -67.0011,  -138.4961,       4448,   100.0,  -0.4861,  34.1867,2,  34.1943,2,    265.6,2,   267.5,2,   57.00,2,   31.66,2,    0.02,2,    2.16,2,   4.001,2,   2.170,2,   0.383,2,   1.7250,2,  2214.8,2,  2305.3,2,   7.5896,2,    25.00,   0.057,2,    1.977,2,   2.736,2,  -0.4841,2, -999.00,9,  -999.0,9,  -999.0,   8.815,2,   -0.23,2,-999.000,9,   42.84,2,   34.38,2, -67.0003,-138.4954,   0.005,      0.007,    34.3555,2,     -999.0,9,     -999.0,9,-999.0000,9,-999.0000,9,-999.0000,9,-999.0000,9,-999.0000,9,-999.0000,9,-999.0000,9,-999.0000,9,-999.0000,9,    0.000,   0.202,  -0.4892,50010101032,     -999.0,9,     -999.0,9,     -999.0,9,      -2.29,2,       0.15,20110401,       1653
320620110219,       S04P,     101,          1,         31,         31,2,20110401,       1511,   -67.0011,  -138.4961,       4448,   149.2,   1.1830,  34.4587,2,  34.4654,2,    205.4,2,   204.0,2,   71.39,2,   33.95,2,    0.00,2,    2.31,2,   1.892,2,   1.064,2,   0.175,2,   0.7840,2,  2243.9,2,  2323.0,2,   7.5500,2,    25.00,-999.000,9,    1.962,2,   6.072,2,   1.1879,2, -999.00,9,  -999.0,9,  -999.0,   8.676,2, -999.00,9,-999.000,9,   41.75,2,   36.57,2, -67.0002,-138.4954,-999.000,      0.006,    34.6279,2,     -999.0,9,     -999.0,9,-999.0000,9,-999.0000,9,-999.0000,9,-999.0000,9,-999.0000,9,-999.0000,9,-999.0000,9,-999.0000,9,-999.0000,9,    0.001,   0.225,   1.1761,50010101031,     -999.0,9,     -999.0,9,     -999.0,9,     -999.0,9,     -999.0,20110401,       1651
320620110219,       S04P,     101,          1,         30,         30,2,20110401,       1511,   -67.0011,  -138.4961,       4448,   199.8,   1.8580,  34.6066,2,  34.6025,2,    179.5,2,   178.9,2,   78.27,2,   34.16,2,    0.00,2,    2.32,2,   0.852,2,   0.453,2,   0.060,2,   0.3160,2,  2254.3,2,  2337.9,4,   7.5473,2,    25.00,   0.004,2,    1.962,2,   8.136,2,   1.8571,2, -999.00,9,  -999.0,9,  -999.0,   8.569,2,    0.06,2,-999.000,9,   40.71,2,   36.77,2, -67.0002,-138.4954,   0.004,      0.007,    34.7657,2,     -999.0,9,     -999.0,9,-999.0000,9,-999.0000,9,-999.0000,9,-999.0000,9,-999.0000,9,-999.0000,9,-999.0000,9,-999.0000,9,-999.0000,9,    0.000,   0.203,   1.8475,50010101030,     -999.0,9,     -999.0,9,     -999.0,9,      -0.82,2,       0.21,20110401,       1650
320620110219,       S04P,     101,          1,         29,         29,2,20110401,       1511,   -67.0011,  -138.4961,       4448,   251.5,   1.9772,  34.6554,2,  34.6547,2,    176.4,2,   176.1,2,   80.34,2,   33.69,2,    0.00,2,    2.28,2,   0.544,2,   0.278,2,   0.038,2,   0.1870,2,  2254.6,2,  2338.2,2,   7.5561,2,    25.00,-999.000,9,    1.989,2,   9.167,2,   1.9771,2, -999.00,9,  -999.0,9,  -999.0,-999.000,5, -999.00,9,-999.000,9,   40.80,2,   36.24,2, -67.0002,-138.4953,-999.000,      0.000,    34.8181,2,     -999.0,9,     -999.0,9,-999.0000,9,-999.0000,9,-999.0000,9,-999.0000,9,-999.0000,9,-999.0000,9,-999.0000,9,-999.0000,9,-999.0000,9,    0.000,   0.203,   1.9636,50010101029,     -999.0,9,     -999.0,9,     -999.0,9,     -999.0,9,     -999.0,20110401,       1648
320620110219,       S04P,     101,          1,         28,         28,2,20110401,       1511,   -67.0011,  -138.4961,       4448,   300.1,   1.9487,  34.6745,2,  34.6729,2,    176.8,2,   176.5,2,   81.92,2,   33.28,2,    0.00,2,    2.25,2,   0.468,2,   0.235,2,   0.036,2,   0.1790,2,  2255.2,2,  2340.2,2,   7.5627,2,    25.00,-999.000,9,    1.950,2,   8.571,2,   1.9484,2, -999.00,9,  -999.0,9,  -999.0,   8.553,2, -999.00,9,-999.000,9,   40.56,2,   36.11,2, -67.0002,-138.4954,-999.000,      0.007,    34.8364,2,     -999.0,9,     -999.0,9,-999.0000,9,-999.0000,9,-999.0000,9,-999.0000,9,-999.0000,9,-999.0000,9,-999.0000,9,-999.0000,9,-999.0000,9,    0.000,   0.216,   1.9325,50010101028,     -999.0,9,     -999.0,9,     -999.0,9,     -999.0,9,     -999.0,20110401,       1646
320620110219,       S04P,     101,          1,         27,         27,2,20110401,       1511,   -67.0011,  -138.4961,       4448,   349.1,   1.9103,  34.6924,2,  34.6916,2,    178.7,2,   179.3,2,   83.34,2,   32.75,2,    0.00,2,    2.23,2,   0.397,2,   0.200,2,   0.028,2,   0.1690,2,  2254.2,2,  2341.5,2,   7.5692,2,    25.00,-999.000,9,    1.977,2,   8.940,2,   1.9102,2, -999.00,9,  -999.0,9,  -999.0,   8.656,2, -999.00,9,-999.000,9,   40.75,2,   34.85,2, -67.0002,-138.4953,-999.000,      0.007,    34.8552,2,     -999.0,9,     -999.0,9,-999.0000,9,-999.0000,9,-999.0000,9,-999.0000,9,-999.0000,9,-999.0000,9,-999.0000,9,-999.0000,9,-999.0000,9,    0.000,   0.216,   1.8914,50010101027,     -999.0,9,     -999.0,9,     -999.0,9,     -999.0,9,     -999.0,20110401,       1644
320620110219,       S04P,     101,          1,         26,         26,2,20110401,       1511,   -67.0011,  -138.4961,       4448,   401.1,   1.8791,  34.7033,2,  34.7030,2,    180.6,2,   180.5,2,   84.45,2,   32.27,2,    0.00,2,    2.21,2,-999.000,9,-999.000,9,-999.000,9,-999.0000,9,  2254.0,2,  2344.6,2,   7.5732,2,    25.00,-999.000,9,-999.0000,9,-999.000,9,   1.8785,2, -999.00,9,  -999.0,9,  -999.0,-999.000,9, -999.00,9,-999.000,9,   40.01,2,   34.38,2, -67.0002,-138.4954,-999.000,     -999.0,    34.8666,2,     -999.0,9,     -999.0,9,-999.0000,9,-999.0000,9,-999.0000,9,-999.0000,9,-999.0000,9,-999.0000,9,-999.0000,9,-999.0000,9,-999.0000,9,-999.0000,-999.000,   1.8573,     -999.0,     -999.0,9,     -999.0,9,     -999.0,9,     -999.0,9,     -999.0,20110401,       1643
320620110219,       S04P,     101,          1,         25,         25,2,20110401,       1511,   -67.0011,  -138.4961,       4448,   448.0,   1.8462,  34.7120,2,  34.7114,2,    182.4,2,   182.5,2,   85.52,2,   31.97,2,    0.00,2,    2.21,2,   0.322,2,   0.158,2,   0.024,2,   0.1410,2,  2252.7,2,  2345.1,2,   7.5788,2,    25.00,   0.001,2,    1.999,2,   9.100,2,   1.8457,2, -999.00,9,  -999.0,9,  -999.0,   8.709,2,   -0.10,2,-999.000,9,   39.94,2,   34.73,2, -67.0002,-138.4954,   0.005,      0.007,    34.8751,2,     -999.0,9,     -999.0,9,-999.0000,9,-999.0000,9,-999.0000,9,-999.0000,9,-999.0000,9,-999.0000,9,-999.0000,9,-999.0000,9,-999.0000,9,    0.000,   0.216,   1.8217,50010101025,     -999.0,9,     -999.0,9,     -999.0,9,      -1.66,2,       0.51,20110401,       1641
320620110219,       S04P,     101,          1,         24,         24,2,20110401,       1511,   -67.0011,  -138.4961,       4448,   500.3,   1.8165,  34.7180,2,  34.7173,2,    183.8,2,   184.0,2,   86.60,2,   31.92,2,    0.00,2,    2.20,2,-999.000,9,-999.000,9,-999.000,9,-999.0000,9,  2252.7,2,  2346.3,2,   7.5828,2,    25.00,-999.000,9,-999.0000,9,-999.000,9,   1.8164,2, -999.00,9,  -999.0,9,  -999.0,-999.000,9, -999.00,9,-999.000,9,   39.84,2,   34.22,2, -67.0003,-138.4955,-999.000,     -999.0,    34.8810,2,     -999.0,9,     -999.0,9,-999.0000,9,-999.0000,9,-999.0000,9,-999.0000,9,-999.0000,9,-999.0000,9,-999.0000,9,-999.0000,9,-999.0000,9,-999.0000,-999.000,   1.7891,     -999.0,     -999.0,9,     -999.0,9,     -999.0,9,     -999.0,9,     -999.0,20110401,       1639
320620110219,       S04P,     101,          1,         23,         23,2,20110401,       1511,   -67.0011,  -138.4961,       4448,   599.0,   1.7381,  34.7260,2,  34.7251,2,    187.3,2,   186.4,2,   89.11,2,   31.59,2,    0.00,2,    2.18,2,   0.272,2,   0.134,2,   0.020,2,   0.1000,2,  -999.0,9,  -999.0,9,-999.0000,9,  -999.00,-999.000,9,    1.980,2,   8.825,2,   1.7374,2, -999.00,9,  -999.0,9,  -999.0,   8.608,2, -999.00,9,-999.000,9,   39.47,2,   34.25,2, -67.0006,-138.4958,-999.000,      0.007,    34.8889,2,     -999.0,9,     -999.0,9,-999.0000,9,-999.0000,9,-999.0000,9,-999.0000,9,-999.0000,9,-999.0000,9,-999.0000,9,-999.0000,9,-999.0000,9,    0.001,   0.208,   1.7052,50010101023,     -999.0,9,     -999.0,9,     -999.0,9,     -999.0,9,     -999.0,20110401,       1637
320620110219,       S04P,     101,          1,         22,         22,2,20110401,       1511,   -67.0011,  -138.4961,       4448,   702.0,   1.6577,  34.7311,2,  34.7302,2,    189.4,2,   188.8,2,   91.59,2,   31.44,2,    0.00,2,    2.17,2,-999.000,9,-999.000,9,-999.000,9,-999.0000,9,  2252.6,2,  2351.7,2,   7.5924,2,    25.00,-999.000,9,-999.0000,9,-999.000,9,   1.6579,2, -999.00,9,  -999.0,9,  -999.0,-999.000,9, -999.00,9,-999.000,9,   39.60,2,   34.24,2, -67.0007,-138.4958,-999.000,     -999.0,    34.8940,2,     -999.0,9,     -999.0,9,-999.0000,9,-999.0000,9,-999.0000,9,-999.0000,9,-999.0000,9,-999.0000,9,-999.0000,9,-999.0000,9,-999.0000,9,-999.0000,-999.000,   1.6189,     -999.0,     -999.0,9,     -999.0,9,     -999.0,9,     -999.0,9,     -999.0,20110401,       1634
320620110219,       S04P,     101,          1,         21,         21,2,20110401,       1511,   -67.0011,  -138.4961,       4448,   800.3,   1.5510,  34.7329,2,  34.7322,2,    191.6,2,   192.1,2,   94.74,2,   31.49,2,    0.00,2,    2.17,2,   0.209,2,   0.097,2,   0.016,2,   0.1200,2,  -999.0,9,  -999.0,9,-999.0000,9,  -999.00,-999.000,9,    1.972,2,   9.331,2,   1.5513,2, -999.00,9,  -999.0,9,  -999.0,   8.588,2, -999.00,9,-999.000,9,   39.44,2,   34.24,2, -67.0008,-138.4961,-999.000,      0.006,    34.8960,2,     -999.0,9,     -999.0,9,-999.0000,9,-999.0000,9,-999.0000,9,-999.0000,9,-999.0000,9,-999.0000,9,-999.0000,9,-999.0000,9,-999.0000,9,    0.001,   0.205,   1.5068,50010101021,     -999.0,9,     -999.0,9,     -999.0,9,     -999.0,9,     -999.0,20110401,       1632
320620110219,       S04P,     101,          1,         20,         20,2,20110401,       1511,   -67.0011,  -138.4961,       4448,   900.3,   1.4397,  34.7320,2,  34.7311,2,    192.6,2,   192.4,2,   98.07,2,   31.44,2,    0.00,2,    2.17,2,   0.188,2,   0.088,2,   0.012,2,   0.1080,2,  2254.3,2,  2354.8,2,   7.5946,2,    25.00,   0.001,2,    1.960,2,   9.666,2,   1.4396,2, -999.00,9,  -999.0,9,  -999.0,   8.545,2,   -0.11,2,-999.000,9,   39.85,2,   34.25,2, -67.0010,-138.4962,   0.004,      0.006,    34.8948,2,     -999.0,9,     -999.0,9,-999.0000,9,-999.0000,9,-999.0000,9,-999.0000,9,-999.0000,9,-999.0000,9,-999.0000,9,-999.0000,9,-999.0000,9,    0.001,   0.205,   1.3901,50010101020,     -999.0,9,     -999.0,9,     -999.0,9,      -2.10,2,       0.33,20110401,       1629
320620110219,       S04P,     101,          1,         19,         19,2,20110401,       1511,   -67.0011,  -138.4961,       4448,   999.0,   1.3674,  34.7309,2,  34.7301,2,    193.6,2,   193.8,2,  100.53,2,   31.50,2,    0.00,2,    2.17,2,   0.165,2,   0.083,2,   0.010,2,   0.0910,2,  -999.0,9,  -999.0,9,-999.0000,9,  -999.00,   0.001,2,    1.963,2,   9.677,2,   1.3673,2, -999.00,9,  -999.0,9,  -999.0,   8.576,2,   -0.05,2,-999.000,9,   39.81,2,   33.81,2, -67.0010,-138.4963,   0.004,      0.008,    34.8938,2,     -999.0,9,     -999.0,9,-999.0000,9,-999.0000,9,-999.0000,9,-999.0000,9,-999.0000,9,-999.0000,9,-999.0000,9,-999.0000,9,-999.0000,9,    0.001,   0.206,   1.3121,50010101019,     -999.0,9,     -999.0,9,     -999.0,9,      -1.51,2,       0.03,20110401,       1627
320620110219,       S04P,     101,          1,         18,         18,2,20110401,       1511,   -67.0011,  -138.4961,       4448,  1099.8,   1.2966,  34.7293,2,  34.7291,2,    195.0,2,   193.9,2,  102.82,2,   31.56,2,    0.00,2,    2.19,2,-999.000,9,-999.000,9,-999.000,9,-999.0000,9,  2257.1,2,  2355.0,2,   7.5983,2,    25.00,-999.000,9,-999.0000,9,-999.000,9,   1.2967,2, -999.00,9,  -999.0,9,  -999.0,-999.000,9, -999.00,9,-999.000,9,   39.73,2,   33.68,2, -67.0009,-138.4961,-999.000,     -999.0,    34.8929,2,     -999.0,9,     -999.0,9,-999.0000,9,-999.0000,9,-999.0000,9,-999.0000,9,-999.0000,9,-999.0000,9,-999.0000,9,-999.0000,9,-999.0000,9,-999.0000,-999.000,   1.2354,     -999.0,     -999.0,9,     -999.0,9,     -999.0,9,     -999.0,9,     -999.0,20110401,       1624
320620110219,       S04P,     101,          1,         17,         17,2,20110401,       1511,   -67.0011,  -138.4961,       4448,  1200.4,   1.2240,  34.7275,2,  34.7267,2,    195.5,2,   195.8,2,  105.12,2,   31.47,2,    0.00,2,    2.20,2,   0.132,2,   0.064,2,   0.008,2,   0.0980,2,  -999.0,9,  -999.0,9,-999.0000,9,  -999.00,-999.000,9,    1.998,2,   9.565,2,   1.2239,2, -999.00,9,  -999.0,9,  -999.0,   8.689,2, -999.00,9,-999.000,9,   40.10,2,   34.36,2, -67.0009,-138.4961,-999.000,      0.007,    34.8905,2,     -999.0,9,     -999.0,9,-999.0000,9,-999.0000,9,-999.0000,9,-999.0000,9,-999.0000,9,-999.0000,9,-999.0000,9,-999.0000,9,-999.0000,9,    0.001,   0.210,   1.1569,50010101017,     -999.0,9,     -999.0,9,     -999.0,9,     -999.0,9,     -999.0,20110401,       1621
320620110219,       S04P,     101,          1,         16,         16,2,20110401,       1511,   -67.0011,  -138.4961,       4448,  1298.4,   1.1555,  34.7251,2,  34.7244,2,    197.2,2,   196.4,2,  107.57,2,   31.49,2,    0.00,2,    2.21,2,-999.000,9,-999.000,9,-999.000,9,-999.0000,9,  2258.5,2,  2361.9,4,   7.5989,6,    25.00,-999.000,9,-999.0000,9,-999.000,9,   1.1551,2, -999.00,9,  -999.0,9,  -999.0,-999.000,9, -999.00,9,-999.000,9,   39.81,2,   33.75,2, -67.0008,-138.4959,-999.000,     -999.0,    34.8881,2,     -999.0,9,     -999.0,9,-999.0000,9,-999.0000,9,-999.0000,9,-999.0000,9,-999.0000,9,-999.0000,9,-999.0000,9,-999.0000,9,-999.0000,9,-999.0000,-999.000,   1.0826,     -999.0,     -999.0,9,     -999.0,9,     -999.0,9,     -999.0,9,     -999.0,20110401,       1619
320620110219,       S04P,     101,          1,         15,         15,2,20110401,       1511,   -67.0011,  -138.4961,       4448,  1399.3,   1.0771,  34.7225,2,  34.7220,2,    198.6,2,   197.9,2,  110.32,2,   31.72,2,    0.00,2,    2.21,2,   0.121,2,   0.057,2,   0.008,2,   0.0930,2,  -999.0,9,  -999.0,9,-999.0000,9,  -999.00,   0.001,2,    2.124,4,   9.342,2,   1.0777,2, -999.00,9,  -999.0,9,  -999.0,   9.188,2,   -0.13,2,-999.000,9,   39.81,2,   33.84,2, -67.0007,-138.4959,   0.004,      0.007,    34.8858,2,     -999.0,9,     -999.0,9,-999.0000,9,-999.0000,9,-999.0000,9,-999.0000,9,-999.0000,9,-999.0000,9,-999.0000,9,-999.0000,9,-999.0000,9,    0.001,   0.207,   0.9982,50010101015,     -999.0,9,     -999.0,9,     -999.0,9,      -1.71,2,       0.07,20110401,       1616
320620110219,       S04P,     101,          1,         14,         14,2,20110401,       1511,   -67.0011,  -138.4961,       4448,  1498.5,   1.0000,  34.7197,2,  34.7189,2,    199.3,2,   199.1,2,  113.15,2,   31.78,2,    0.00,2,    2.22,2,-999.000,9,-999.000,9,-999.000,9,-999.0000,9,  2259.1,6,  2359.9,2,   7.5990,2,    25.00,-999.000,9,-999.0000,9,-999.000,9,   1.0004,2, -999.00,9,  -999.0,9,  -999.0,-999.000,9, -999.00,9,-999.000,9,   39.43,2,   33.94,2, -67.0008,-138.4960,-999.000,     -999.0,    34.8826,2,     -999.0,9,     -999.0,9,-999.0000,9,-999.0000,9,-999.0000,9,-999.0000,9,-999.0000,9,-999.0000,9,-999.0000,9,-999.0000,9,-999.0000,9,-999.0000,-999.000,   0.9152,     -999.0,     -999.0,9,     -999.0,9,     -999.0,9,     -999.0,9,     -999.0,20110401,       1614