BOTTLE,20220813CCHSIOAMB
EXPOCODE,SECT_ID,STNNBR,CASTNO,SAMPNO,BTLNBR,BTLNBR_FLAG_W,DATE,TIME,LATITUDE,LONGITUDE,DEPTH,CTDPRS,CTDTMP,CTDSAL,CTDSAL_FLAG_W,SALNTY,SALNTY_FLAG_W,CTDOXY,CTDOXY_FLAG_W,OXYGEN,OXYGEN_FLAG_W,SILCAT,SILCAT_FLAG_W,NITRAT,NITRAT_FLAG_W,NITRIT,NITRIT_FLAG_W,PHSPHT,PHSPHT_FLAG_W,CFC-11,CFC-11_FLAG_W,CFC-12,CFC-12_FLAG_W,CFC113,CFC113_FLAG_W,SF6,SF6_FLAG_W,TCARBN,TCARBN_FLAG_W,ALKALI,ALKALI_FLAG_W,PH_TOT,PH_TOT_FLAG_W,PH_TMP,TRITUM,TRITUM_FLAG_W,HELIUM,HELIUM_FLAG_W,DELHE3,DELHE3_FLAG_W,REFTMP,REFTMP_FLAG_W,DELC13,DELC13_FLAG_W,DELC14,DELC14_FLAG_W,C14ERR,NEON,NEON_FLAG_W,DELO18,DELO18_FLAG_W,POC,POC_FLAG_W,DOC,DOC_FLAG_W,TDN,TDN_FLAG_W,BTL_LAT,BTL_LON,TRITER,NEONER,SALTREF,SALTREF_FLAG_W,PIGMENTS,PIGMENTS_FLAG_W,LAB_DEN,LAB_DEN_FLAG_W,CDOM325,CDOM325_FLAG_W,CDOM340,CDOM340_FLAG_W,CDOM380,CDOM380_FLAG_W,CDOM412,CDOM412_FLAG_W,CDOM443,CDOM443_FLAG_W,CDOM490,CDOM490_FLAG_W,CDOM555,CDOM555_FLAG_W,CDOMSL,CDOMSL_FLAG_W,CDOMSN,CDOMSN_FLAG_W,HELIER,DELHER,THETA,LDEO_SAMPNO,ABSORBTION,ABSORBTION_FLAG_W,IMAGE_COUNT,IMAGE_COUNT_FLAG_W,CYTO_COUNT,CYTO_COUNT_FLAG_W,DELD,DELD_FLAG_W,DELDERR,BTL_DATE,BTL_TIME
,,,,,,,,,,,METERS,DBAR,ITS-90,PSS-78,,PSS-78,,UMOL/KG,,UMOL/KG,,UMOL/KG,,UMOL/KG,,UMOL/KG,,UMOL/KG,,PMOL/KG,,PMOL/KG,,PMOL/KG,,FMOL/KG,,UMOL/KG,,UMOL/KG,,,,DEG C,TU,,NMOL/KG,,PERCNT,,DEG C,,/MILLE,,/MILLE,,/MILLE,NMOL/KG,,/MILLE,,UG/KG,,UMOL/KG,,UMOL/KG,,,,TU,NMOL/KG,G/KG,,,,,,1/M,,1/M,,1/M,,1/M,,1/M,,1/M,,1/M,,1/NM,,1/NM,,NMOL/KG,PERCNT,DEG C,,,,,,,,/MILLE,,/MILLE,,
320620110219,       P16S,      64,          1,         28,         28,2,20110316,       2314,   -75.6070,  -150.0134,       1664,     2.1,  -1.7858,  33.4690,2,  33.4723,2,    336.2,3,   342.7,2,   60.92,2,   23.13,2,    0.16,2,    1.54,2,   5.555,2,   3.134,2,   0.556,2,-999.0000,9,  2145.1,2,  2275.8,2,   7.7026,2,    25.00,-999.000,9,-999.0000,9,-999.000,9,  -1.7863,2, -999.00,9,  -999.0,9,  -999.0,-999.000,9, -999.00,9,-999.000,9,   45.19,2,   27.85,2, -75.6076,-150.0183,-999.000,     -999.0,    33.6301,2,     -999.0,9,     -999.0,1,-999.0000,9,-999.0000,9,-999.0000,9,-999.0000,9,-999.0000,9,-999.0000,9,-999.0000,9,-999.0000,9,-999.0000,9,-999.0000,-999.000,  -1.7858,     -999.0,     -999.0,9,     -999.0,9,     -999.0,9,     -999.0,9,     -999.0,20110317,       0007
320620110219,       P16S,      64,          1,         27,         27,2,20110316,       2314,   -75.6070,  -150.0134,       1664,    35.0,  -1.7925,  33.5084,2,  33.5115,2,    337.7,2,   337.9,2,   64.15,2,   23.76,2,    0.15,2,    1.62,2,   5.524,2,   3.050,2,   0.526,2,-999.0000,9,  2150.0,2,  2276.2,2,   7.6941,6,    25.00,-999.000,9,-999.0000,9,-999.000,9,  -1.7927,2, -999.00,9,  -999.0,9,  -999.0,-999.000,9, -999.00,9,-999.000,9,   44.67,2,   27.97,2, -75.6076,-150.0181,-999.000,     -999.0,    33.6695,2,     -999.0,9,     -999.0,1,   0.1074,2,   0.0657,2,   0.0152,3,   0.0073,3,  -0.0036,4,  -0.0046,4,  -0.0091,4,   0.0369,3,   0.0358,3,-999.0000,-999.000,  -1.7931,     -999.0,     -999.0,9,     -999.0,9,     -999.0,9,     -999.0,9,     -999.0,20110317,       0005
320620110219,       P16S,      64,          1,         26,         26,2,20110316,       2314,   -75.6070,  -150.0134,       1664,    59.8,  -1.7559,  33.5629,2,  33.5786,2,    331.6,2,   329.0,2,   67.89,2,   24.75,2,    0.15,2,    1.73,2,-999.000,9,-999.000,9,-999.000,9,-999.0000,9,  2159.2,2,  2279.7,2,   7.6782,2,    25.00,-999.000,9,-999.0000,9,-999.000,9,  -1.7569,2, -999.00,9,  -999.0,9,  -999.0,-999.000,9, -999.00,9,-999.000,9,   43.49,2,   29.75,2, -75.6076,-150.0178,-999.000,     -999.0,    33.7370,2,     -999.0,9,     -999.0,1,   0.0939,2,   0.0550,2,   0.0131,3,   0.0055,2,  -0.0054,4,  -0.0058,4,  -0.0090,4,   0.0377,3,   0.0374,3,-999.0000,-999.000,  -1.7570,     -999.0,     -999.0,9,     -999.0,9,     -999.0,9,     -999.0,9,     -999.0,20110317,       0004
320620110219,       P16S,      64,          1,         25,         25,2,20110316,       2314,   -75.6070,  -150.0134,       1664,    84.8,  -1.6706,  33.7690,2,  33.7620,2,    309.0,2,   308.2,2,   75.57,2,   27.16,2,    0.14,2,    1.93,2,   4.629,2,   2.556,2,   0.434,2,-999.0000,9,  2180.4,2,  2290.8,2,   7.6393,2,    25.00,-999.000,9,-999.0000,9,-999.000,9,  -1.6708,2, -999.00,9,  -999.0,9,  -999.0,-999.000,9, -999.00,9,-999.000,9,   43.48,2,   30.63,2, -75.6076,-150.0178,-999.000,     -999.0,    33.9212,2,     -999.0,9,     -999.0,1,   0.1069,2,   0.0636,2,   0.0160,3,   0.0073,3,  -0.0043,4,  -0.0054,4,  -0.0093,4,   0.0358,3,   0.0359,3,-999.0000,-999.000,  -1.6723,     -999.0,     -999.0,9,     -999.0,9,     -999.0,9,     -999.0,9,     -999.0,20110317,       0002
320620110219,       P16S,      64,          1,         24,         24,2,20110316,       2314,   -75.6070,  -150.0134,       1664,   110.1,  -1.6667,  33.9188,2,  33.9190,2,    292.9,2,   292.7,2,   81.06,2,   29.15,2,    0.13,2,    2.06,2,   4.158,2,   2.302,2,   0.387,2,-999.0000,9,  2197.5,2,  2298.7,2,   7.6128,2,    25.00,-999.000,9,-999.0000,9,-999.000,9,  -1.6669,2, -999.00,9,  -999.0,9,  -999.0,-999.000,9, -999.00,9,-999.000,9,   43.40,2,   32.46,2, -75.6076,-150.0177,-999.000,     -999.0,    34.0790,2,     -999.0,9,     -999.0,1,   0.1062,2,   0.0633,2,   0.0175,3,   0.0065,3,  -0.0053,4,  -0.0063,4,  -0.0096,4,   0.0347,3,   0.0347,3,-999.0000,-999.000,  -1.6689,     -999.0,     -999.0,9,     -999.0,9,     -999.0,9,     -999.0,9,     -999.0,20110317,       0001
320620110219,       P16S,      64,          1,         23,         23,2,20110316,       2314,   -75.6070,  -150.0134,       1664,   134.6,  -1.6786,  33.9767,2,  33.9767,2,    289.1,2,   288.0,2,   82.70,2,   29.79,2,    0.14,2,    2.09,2,-999.000,9,-999.000,9,-999.000,9,-999.0000,9,  -999.0,9,  -999.0,9,-999.0000,9,  -999.00,-999.000,9,-999.0000,9,-999.000,9,  -1.6787,2, -999.00,9,  -999.0,9,  -999.0,-999.000,9, -999.00,9,-999.000,9,   42.34,2,   32.54,2, -75.6076,-150.0177,-999.000,     -999.0,    34.1369,2,     -999.0,9,     -999.0,9,   0.0988,2,   0.0571,2,   0.0127,3,   0.0044,2,  -0.0068,4,  -0.0072,4,  -0.0099,4,   0.0406,3,   0.0386,3,-999.0000,-999.000,  -1.6814,     -999.0,     -999.0,9,     -999.0,9,     -999.0,9,     -999.0,9,     -999.0,20110316,       0000
320620110219,       P16S,      64,          1,         22,         22,2,20110316,       2314,   -75.6070,  -150.0134,       1664,   160.5,  -1.6864,  34.0173,2,  34.0188,2,    286.8,2,   287.0,2,   82.66,2,   30.05,2,    0.13,2,    2.10,2,   4.072,2,   2.245,2,   0.381,2,-999.0000,9,  2207.0,2,  2303.4,2,   7.6020,2,    25.00,-999.000,9,-999.0000,9,-999.000,9,  -1.6868,2, -999.00,9,  -999.0,9,  -999.0,-999.000,9, -999.00,9,-999.000,9,   41.73,2,   32.93,2, -75.6076,-150.0176,-999.000,     -999.0,    34.1792,2,     -999.0,9,     -999.0,1,   0.0988,2,   0.0563,2,   0.0109,3,   0.0032,3,  -0.0077,4,  -0.0076,4,  -0.0101,4,   0.0449,3,   0.0404,3,-999.0000,-999.000,  -1.6898,     -999.0,     -999.0,9,     -999.0,9,     -999.0,9,     -999.0,9,     -999.0,20110316,       2358
320620110219,       P16S,      64,          1,         21,         21,2,20110316,       2314,   -75.6070,  -150.0134,       1664,   185.1,  -1.6972,  34.0417,2,  34.0426,2,    287.5,2,   287.8,2,   82.50,2,   30.15,2,    0.13,2,    2.10,2,   4.057,2,   2.234,2,   0.378,2,-999.0000,9,  -999.0,9,  -999.0,9,-999.0000,9,  -999.00,-999.000,9,-999.0000,9,-999.000,9,  -1.6973,2, -999.00,9,  -999.0,9,  -999.0,-999.000,9, -999.00,9,-999.000,9,   41.58,2,   32.84,2, -75.6075,-150.0172,-999.000,     -999.0,    34.2032,2,     -999.0,9,     -999.0,9,   0.0961,2,   0.0540,2,   0.0104,3,   0.0017,3,  -0.0088,4,  -0.0079,4,  -0.0103,4,   0.0475,4,   0.0412,4,-999.0000,-999.000,  -1.7011,     -999.0,     -999.0,9,     -999.0,9,     -999.0,9,     -999.0,9,     -999.0,20110316,       2357
320620110219,       P16S,      64,          1,         20,         20,2,20110316,       2314,   -75.6070,  -150.0134,       1664,   209.6,  -1.6908,  34.0608,2,  34.0620,2,    285.7,2,   286.2,2,   82.43,2,   30.23,2,    0.10,2,    2.10,2,-999.000,9,-999.000,9,-999.000,9,-999.0000,9,  2209.8,2,  2307.2,2,   7.5968,2,    25.00,-999.000,9,-999.0000,9,-999.000,9,  -1.6913,2, -999.00,9,  -999.0,9,  -999.0,-999.000,9, -999.00,9,-999.000,9,   41.42,2,   32.96,2, -75.6075,-150.0169,-999.000,     -999.0,    34.2226,2,     -999.0,9,     -999.0,1,-999.0000,9,-999.0000,9,-999.0000,9,-999.0000,9,-999.0000,9,-999.0000,9,-999.0000,9,-999.0000,9,-999.0000,9,-999.0000,-999.000,  -1.6953,     -999.0,     -999.0,9,     -999.0,9,     -999.0,9,     -999.0,9,     -999.0,20110316,       2356
320620110219,       P16S,      64,          1,         19,         19,2,20110316,       2314,   -75.6070,  -150.0134,       1664,   235.2,  -1.6739,  34.0859,2,  34.0855,2,    283.3,2,   283.0,2,   82.85,2,   30.38,2,    0.08,2,    2.11,2,   3.979,2,   2.189,2,   0.367,2,-999.0000,9,  -999.0,9,  -999.0,9,-999.0000,9,  -999.00,-999.000,9,-999.0000,9,-999.000,9,  -1.6723,2, -999.00,9,  -999.0,9,  -999.0,-999.000,9, -999.00,9,-999.000,9,   41.31,2,   33.45,2, -75.6075,-150.0167,-999.000,     -999.0,    34.2462,2,     -999.0,9,     -999.0,9,-999.0000,9,-999.0000,9,-999.0000,9,-999.0000,9,-999.0000,9,-999.0000,9,-999.0000,9,-999.0000,9,-999.0000,9,-999.0000,-999.000,  -1.6790,     -999.0,     -999.0,9,     -999.0,9,     -999.0,9,     -999.0,9,     -999.0,20110316,       2354
320620110219,       P16S,      64,          1,         18,         18,2,20110316,       2314,   -75.6070,  -150.0134,       1664,   265.1,  -1.6373,  34.1061,2,  34.1057,2,    280.2,2,   280.4,2,   82.42,2,   30.61,2,    0.06,2,    2.12,2,   3.929,2,   2.168,2,   0.364,2,-999.0000,9,  2213.3,2,  2310.3,2,   7.5938,2,    25.00,-999.000,9,-999.0000,9,-999.000,9,  -1.6366,2, -999.00,9,  -999.0,9,  -999.0,-999.000,9, -999.00,9,-999.000,9,   40.80,2,   33.18,2, -75.6075,-150.0167,-999.000,     -999.0,    34.2665,2,     -999.0,9,     -999.0,1,   0.0973,2,   0.0550,2,   0.0107,3,   0.0022,3,  -0.0084,4,  -0.0078,4,  -0.0102,4,   0.0465,4,   0.0408,4,-999.0000,-999.000,  -1.6433,     -999.0,     -999.0,9,     -999.0,9,     -999.0,9,     -999.0,9,     -999.0,20110316,       2353
320620110219,       P16S,      64,          1,         17,         17,2,20110316,       2314,   -75.6070,  -150.0134,       1664,   314.6,  -1.5225,  34.1293,2,  34.1294,2,    275.2,2,   275.4,2,   83.15,2,   30.64,2,    0.03,2,    2.12,2,   3.781,2,   2.076,2,   0.352,2,-999.0000,9,  2215.0,2,  2311.6,2,   7.5915,2,    25.00,-999.000,9,-999.0000,9,-999.000,9,  -1.5234,2, -999.00,9,  -999.0,9,  -999.0,-999.000,9, -999.00,9,-999.000,9,   40.15,2,   33.28,2, -75.6075,-150.0167,-999.000,     -999.0,    34.2903,2,     -999.0,9,     -999.0,1,-999.0000,9,-999.0000,9,-999.0000,9,-999.0000,9,-999.0000,9,-999.0000,9,-999.0000,9,-999.0000,9,-999.0000,9,-999.0000,-999.000,  -1.5301,     -999.0,     -999.0,9,     -999.0,9,     -999.0,9,     -999.0,9,     -999.0,20110316,       2351
320620110219,       P16S,      64,          1,         16,         16,2,20110316,       2314,   -75.6070,  -150.0134,       1664,   364.4,  -1.3682,  34.1583,2,  34.1591,2,    271.3,2,   268.4,2,   83.51,2,   30.94,2,    0.01,2,    2.14,2,   3.538,2,   1.952,2,   0.330,2,-999.0000,9,  2216.5,2,  2313.0,2,   7.5877,2,    25.00,-999.000,9,-999.0000,9,-999.000,9,  -1.3707,2, -999.00,9,  -999.0,9,  -999.0,-999.000,9, -999.00,9,-999.000,9,   40.35,2,   32.97,2, -75.6074,-150.0167,-999.000,     -999.0,    34.3202,2,     -999.0,9,     -999.0,1,-999.0000,9,-999.0000,9,-999.0000,9,-999.0000,9,-999.0000,9,-999.0000,9,-999.0000,9,-999.0000,9,-999.0000,9,-999.0000,-999.000,  -1.3776,     -999.0,     -999.0,9,     -999.0,9,     -999.0,9,     -999.0,9,     -999.0,20110316,       2349
320620110219,       P16S,      64,          1,         15,         15,2,20110316,       2314,   -75.6070,  -150.0134,       1664,   415.1,  -0.7954,  34.2411,2,  34.2449,2,    258.3,2,   249.3,2,   82.61,2,   31.47,2,    0.01,2,    2.18,2,   2.975,2,   1.635,2,   0.268,2,-999.0000,9,  2224.9,2,  2316.9,2,   7.5791,2,    25.00,-999.000,9,-999.0000,9,-999.000,9,  -0.8004,2, -999.00,9,  -999.0,9,  -999.0,-999.000,9, -999.00,9,-999.000,9,   40.24,2,   33.72,2, -75.6074,-150.0167,-999.000,     -999.0,    34.4063,2,     -999.0,9,     -999.0,1,   0.1010,2,   0.0574,2,   0.0133,3,   0.0027,3,  -0.0084,4,  -0.0083,4,  -0.0107,4,   0.0414,3,   0.0388,3,-999.0000,-999.000,  -0.8085,     -999.0,     -999.0,9,     -999.0,9,     -999.0,9,     -999.0,9,     -999.0,20110316,       2348
320620110219,       P16S,      64,          1,         14,         14,2,20110316,       2314,   -75.6070,  -150.0134,       1664,   465.3,   0.9985,  34.5179,2,  34.5186,2,    213.3,2,   200.9,2,   81.79,2,   32.86,2,    0.01,2,    2.27,2,   1.467,2,   0.795,2,   0.127,2,-999.0000,9,  -999.0,9,  -999.0,9,-999.0000,9,  -999.00,-999.000,9,-999.0000,9,-999.000,9,   0.9971,2, -999.00,9,  -999.0,9,  -999.0,-999.000,9, -999.00,9,-999.000,9,   40.18,2,   35.44,2, -75.6074,-150.0163,-999.000,     -999.0,    34.6814,2,     -999.0,9,     -999.0,9,-999.0000,9,-999.0000,9,-999.0000,9,-999.0000,9,-999.0000,9,-999.0000,9,-999.0000,9,-999.0000,9,-999.0000,9,-999.0000,-999.000,   0.9764,     -999.0,     -999.0,9,     -999.0,9,     -999.0,9,     -999.0,9,     -999.0,20110316,       2346
320620110219,       P16S,      64,          1,         13,         13,2,20110316,       2314,   -75.6070,  -150.0134,       1664,   534.9,   1.6753,  34.6853,2,  34.6875,2,    182.7,2,   183.1,2,   87.76,2,   32.32,2,    0.00,2,    2.24,2,   0.481,2,   0.245,2,   0.035,2,-999.0000,9,  2252.4,2,  2343.9,2,   7.5673,2,    25.00,-999.000,9,-999.0000,9,-999.000,9,   1.6748,2, -999.00,9,  -999.0,9,  -999.0,-999.000,9, -999.00,9,-999.000,9,   40.39,2,   34.30,2, -75.6074,-150.0157,-999.000,     -999.0,    34.8511,2,     -999.0,9,     -999.0,1,   0.1012,2,   0.0581,2,   0.0107,3,   0.0019,3,  -0.0087,4,  -0.0083,4,  -0.0107,4,   0.0487,4,   0.0405,4,-999.0000,-999.000,   1.6465,     -999.0,     -999.0,9,     -999.0,9,     -999.0,9,     -999.0,9,     -999.0,20110316,       2344
320620110219,       P16S,      64,          1,         12,         12,2,20110316,       2314,   -75.6070,  -150.0134,       1664,   634.7,   1.5507,  34.7254,2,  34.7248,2,    187.7,2,   187.0,2,   95.05,2,   31.78,2,    0.00,2,    2.21,2,   0.247,2,   0.122,2,   0.018,2,-999.0000,9,  2254.5,2,  2350.2,2,   7.5828,2,    25.00,-999.000,9,-999.0000,9,-999.000,9,   1.5502,2, -999.00,9,  -999.0,9,  -999.0,-999.000,9, -999.00,9,-999.000,9,   40.22,2,   34.39,2, -75.6074,-150.0156,-999.000,     -999.0,    34.8885,2,     -999.0,9,     -999.0,1,-999.0000,9,-999.0000,9,-999.0000,9,-999.0000,9,-999.0000,9,-999.0000,9,-999.0000,9,-999.0000,9,-999.0000,9,-999.0000,-999.000,   1.5166,     -999.0,     -999.0,9,     -999.0,9,     -999.0,9,     -999.0,9,     -999.0,20110316,       2341
320620110219,       P16S,      64,          1,         11,         11,2,20110316,       2314,   -75.6070,  -150.0134,       1664,   735.3,   1.4067,  34.7291,2,  34.7289,2,    189.8,2,   190.3,2,  100.23,2,   31.74,2,    0.00,2,    2.22,2,-999.000,9,-999.000,9,-999.000,9,-999.0000,9,  -999.0,9,  -999.0,9,-999.0000,9,  -999.00,-999.000,9,-999.0000,9,-999.000,9,   1.4061,2, -999.00,9,  -999.0,9,  -999.0,-999.000,9, -999.00,9,-999.000,9,   40.34,2,   34.16,2, -75.6075,-150.0156,-999.000,     -999.0,    34.8927,2,     -999.0,9,     -999.0,9,   0.0971,2,   0.0559,2,   0.0141,3,   0.0005,4,  -0.0099,4,  -0.0090,4,  -0.0111,4,   0.0425,4,   0.0374,4,-999.0000,-999.000,   1.3674,     -999.0,     -999.0,9,     -999.0,9,     -999.0,9,     -999.0,9,     -999.0,20110316,       2339
320620110219,       P16S,      64,          1,         10,         37,2,20110316,       2314,   -75.6070,  -150.0134,       1664,   834.7,   1.2813,  34.7276,2,  34.7268,2,    191.6,2,   194.2,3,  104.29,2,   31.83,2,    0.00,2,    2.22,2,-999.000,9,-999.000,9,-999.000,9,-999.0000,9,  2256.3,2,  2355.6,2,   7.5879,2,    25.00,-999.000,9,-999.0000,9,-999.000,9,   1.2807,2, -999.00,9,  -999.0,9,  -999.0,-999.000,9, -999.00,9,-999.000,9,   39.40,2,   34.14,2, -75.6074,-150.0155,-999.000,     -999.0,    34.8905,2,     -999.0,9,     -999.0,1,-999.0000,9,-999.0000,9,-999.0000,9,-999.0000,9,-999.0000,9,-999.0000,9,-999.0000,9,-999.0000,9,-999.0000,9,-999.0000,-999.000,   1.2368,     -999.0,     -999.0,9,     -999.0,9,     -999.0,9,     -999.0,9,     -999.0,20110316,       2336
320620110219,       P16S,      64,          1,          9,          9,2,20110316,       2314,   -75.6070,  -150.0134,       1664,   935.3,   1.2053,  34.7263,2,  34.7264,2,    193.2,2,   193.0,2,  107.27,2,   31.81,2,    0.00,2,    2.22,2,-999.000,9,-999.000,9,-999.000,9,-999.0000,9,  -999.0,9,  -999.0,9,-999.0000,9,  -999.00,-999.000,9,-999.0000,9,-999.000,9,   1.2049,2, -999.00,9,  -999.0,9,  -999.0,-999.000,9, -999.00,9,-999.000,9,   39.31,2,   33.98,2, -75.6072,-150.0150,-999.000,     -999.0,    34.8901,2,     -999.0,9,     -999.0,9,   0.0941,2,   0.0523,2,   0.0082,3,  -0.0013,4,  -0.0108,4,  -0.0092,4,  -0.0111,4,   0.0533,4,   0.0427,4,-999.0000,-999.000,   1.1552,     -999.0,     -999.0,9,     -999.0,9,     -999.0,9,     -999.0,9,     -999.0,20110316,       2333
320620110219,       P16S,      64,          1,          8,          8,2,20110316,       2314,   -75.6070,  -150.0134,       1664,  1034.9,   1.1186,  34.7234,2,  34.7238,2,    194.9,2,   195.4,2,  109.75,2,   31.91,2,    0.00,2,    2.23,2,   0.108,2,   0.052,2,   0.006,2,-999.0000,9,  2257.9,2,  2358.0,2,   7.5886,2,    25.00,-999.000,9,-999.0000,9,-999.000,9,   1.1185,2, -999.00,9,  -999.0,9,  -999.0,-999.000,9, -999.00,9,-999.000,9,   39.95,2,   34.00,2, -75.6070,-150.0143,-999.000,     -999.0,    34.8876,2,     -999.0,9,     -999.0,1,-999.0000,9,-999.0000,9,-999.0000,9,-999.0000,9,-999.0000,9,-999.0000,9,-999.0000,9,-999.0000,9,-999.0000,9,-999.0000,-999.000,   1.0631,     -999.0,     -999.0,9,     -999.0,9,     -999.0,9,     -999.0,9,     -999.0,20110316,       2331
320620110219,       P16S,      64,          1,          7,          7,2,20110316,       2314,   -75.6070,  -150.0134,       1664,  1134.9,   1.0523,  34.7211,2,  34.7211,2,    196.4,2,   196.6,2,  111.68,2,   31.91,2,    0.00,2,    2.23,2,-999.000,9,-999.000,9,-999.000,9,-999.0000,9,  -999.0,9,  -999.0,9,-999.0000,9,  -999.00,-999.000,9,-999.0000,9,-999.000,9,   1.0523,2, -999.00,9,  -999.0,9,  -999.0,-999.000,9, -999.00,9,-999.000,9,   40.60,2,   34.61,2, -75.6070,-150.0139,-999.000,     -999.0,    34.8848,2,     -999.0,9,     -999.0,9,   0.0958,2,   0.0541,2,   0.0096,3,  -0.0003,4,  -0.0101,4,  -0.0089,4,  -0.0110,4,   0.0535,4,   0.0414,4,-999.0000,-999.000,   0.9910,     -999.0,     -999.0,9,     -999.0,9,     -999.0,9,     -999.0,9,     -999.0,20110316,       2328
320620110219,       P16S,      64,          1,          6,          6,2,20110316,       2314,   -75.6070,  -150.0134,       1664,  1234.5,   0.9625,  34.7181,2,  34.7184,2,    199.1,2,   198.9,2,  114.15,2,   31.88,2,    0.00,2,    2.24,2,   0.091,2,   0.046,2,   0.005,2,-999.0000,9,  2258.8,2,  2359.6,2,   7.5916,2,    25.00,-999.000,9,-999.0000,9,-999.000,9,   0.9623,2, -999.00,9,  -999.0,9,  -999.0,-999.000,9, -999.00,9,-999.000,9,   40.82,2,   33.93,2, -75.6070,-150.0138,-999.000,     -999.0,    34.8821,2,     -999.0,9,     -999.0,1,-999.0000,9,-999.0000,9,-999.0000,9,-999.0000,9,-999.0000,9,-999.0000,9,-999.0000,9,-999.0000,9,-999.0000,9,-999.0000,-999.000,   0.8957,     -999.0,     -999.0,9,     -999.0,9,     -999.0,9,     -999.0,9,     -999.0,20110316,       2326