BOTTLE,20220813CCHSIOAMB
EXPOCODE,SECT_ID,STNNBR,CASTNO,SAMPNO,BTLNBR,BTLNBR_FLAG_W,DATE,TIME,LATITUDE,LONGITUDE,DEPTH,CTDPRS,CTDTMP,CTDSAL,CTDSAL_FLAG_W,SALNTY,SALNTY_FLAG_W,CTDOXY,CTDOXY_FLAG_W,OXYGEN,OXYGEN_FLAG_W,SILCAT,SILCAT_FLAG_W,NITRAT,NITRAT_FLAG_W,NITRIT,NITRIT_FLAG_W,PHSPHT,PHSPHT_FLAG_W,CFC-11,CFC-11_FLAG_W,CFC-12,CFC-12_FLAG_W,CFC113,CFC113_FLAG_W,SF6,SF6_FLAG_W,TCARBN,TCARBN_FLAG_W,ALKALI,ALKALI_FLAG_W,PH_TOT,PH_TOT_FLAG_W,PH_TMP,TRITUM,TRITUM_FLAG_W,HELIUM,HELIUM_FLAG_W,DELHE3,DELHE3_FLAG_W,REFTMP,REFTMP_FLAG_W,DELC13,DELC13_FLAG_W,DELC14,DELC14_FLAG_W,C14ERR,NEON,NEON_FLAG_W,DELO18,DELO18_FLAG_W,POC,POC_FLAG_W,DOC,DOC_FLAG_W,TDN,TDN_FLAG_W,BTL_LAT,BTL_LON,TRITER,NEONER,SALTREF,SALTREF_FLAG_W,PIGMENTS,PIGMENTS_FLAG_W,LAB_DEN,LAB_DEN_FLAG_W,CDOM325,CDOM325_FLAG_W,CDOM340,CDOM340_FLAG_W,CDOM380,CDOM380_FLAG_W,CDOM412,CDOM412_FLAG_W,CDOM443,CDOM443_FLAG_W,CDOM490,CDOM490_FLAG_W,CDOM555,CDOM555_FLAG_W,CDOMSL,CDOMSL_FLAG_W,CDOMSN,CDOMSN_FLAG_W,HELIER,DELHER,THETA,LDEO_SAMPNO,ABSORBTION,ABSORBTION_FLAG_W,IMAGE_COUNT,IMAGE_COUNT_FLAG_W,CYTO_COUNT,CYTO_COUNT_FLAG_W,DELD,DELD_FLAG_W,DELDERR,BTL_DATE,BTL_TIME
,,,,,,,,,,,METERS,DBAR,ITS-90,PSS-78,,PSS-78,,UMOL/KG,,UMOL/KG,,UMOL/KG,,UMOL/KG,,UMOL/KG,,UMOL/KG,,PMOL/KG,,PMOL/KG,,PMOL/KG,,FMOL/KG,,UMOL/KG,,UMOL/KG,,,,DEG C,TU,,NMOL/KG,,PERCNT,,DEG C,,/MILLE,,/MILLE,,/MILLE,NMOL/KG,,/MILLE,,UG/KG,,UMOL/KG,,UMOL/KG,,,,TU,NMOL/KG,G/KG,,,,,,1/M,,1/M,,1/M,,1/M,,1/M,,1/M,,1/M,,1/NM,,1/NM,,NMOL/KG,PERCNT,DEG C,,,,,,,,/MILLE,,/MILLE,,
320620110219,       S04P,      99,          1,         13,         13,2,20110331,       1248,   -67.0003,  -142.3207,       3857,  1535.7,   0.7175,  34.7092,2,  34.7094,2,    203.8,2,   203.2,2,  122.24,2,   32.24,2,    0.00,2,    2.24,2,-999.000,9,-999.000,9,-999.000,9,-999.0000,9,  -999.0,9,  -999.0,9,-999.0000,9,  -999.00,-999.000,9,-999.0000,9,-999.000,9,   0.7181,2, -999.00,9,  -999.0,9,  -999.0,-999.000,9, -999.00,9,-999.000,9,   39.52,2,   34.40,2, -67.0003,-142.3208,-999.000,     -999.0,    34.8730,2,     -999.0,9,     -999.0,9,-999.0000,9,-999.0000,9,-999.0000,9,-999.0000,9,-999.0000,9,-999.0000,9,-999.0000,9,-999.0000,9,-999.0000,9,-999.0000,-999.000,   0.6335,     -999.0,     -999.0,9,     -999.0,9,     -999.0,9,     -999.0,9,     -999.0,20110331,       1338
320620110219,       S04P,      99,          1,         12,         12,2,20110331,       1248,   -67.0003,  -142.3207,       3857,  1632.2,   0.6867,  34.7082,2,  34.7074,2,    204.6,2,   204.5,2,  123.35,2,   32.28,2,    0.00,2,    2.24,2,   0.158,2,   0.076,2,   0.008,2,   0.0250,2,  2260.8,2,  2360.6,2,   7.5964,2,    25.00,-999.000,9,-999.0000,9,-999.000,9,   0.6869,2, -999.00,9,  -999.0,9,  -999.0,-999.000,9, -999.00,9,-999.000,9,   39.71,2,   34.63,2, -67.0003,-142.3208,-999.000,     -999.0,    34.8711,2,     -999.0,9,     -999.0,9,-999.0000,9,-999.0000,9,-999.0000,9,-999.0000,9,-999.0000,9,-999.0000,9,-999.0000,9,-999.0000,9,-999.0000,9,-999.0000,-999.000,   0.5966,     -999.0,     -999.0,9,     -999.0,9,     -999.0,9,     -999.0,9,     -999.0,20110331,       1336
320620110219,       S04P,      99,          1,         11,         11,2,20110331,       1248,   -67.0003,  -142.3207,       3857,  1733.9,   0.6481,  34.7072,2,  34.7062,2,    205.2,2,   205.0,2,  124.64,2,   32.31,2,    0.00,2,    2.24,2,-999.000,9,-999.000,9,-999.000,9,-999.0000,9,  -999.0,9,  -999.0,9,-999.0000,9,  -999.00,-999.000,9,-999.0000,9,-999.000,9,   0.6485,2, -999.00,9,  -999.0,9,  -999.0,-999.000,9, -999.00,9,-999.000,9,   39.38,2,   34.89,2, -67.0003,-142.3208,-999.000,     -999.0,    34.8699,2,     -999.0,9,     -999.0,9,-999.0000,9,-999.0000,9,-999.0000,9,-999.0000,9,-999.0000,9,-999.0000,9,-999.0000,9,-999.0000,9,-999.0000,9,-999.0000,-999.000,   0.5514,     -999.0,     -999.0,9,     -999.0,9,     -999.0,9,     -999.0,9,     -999.0,20110331,       1333
320620110219,       S04P,      99,          1,         10,         37,2,20110331,       1248,   -67.0003,  -142.3207,       3857,  1866.4,   0.6098,  34.7057,2,  34.7049,2,    206.1,2,   205.6,2,  124.96,2,   32.46,2,    0.00,2,    2.25,2,-999.000,9,-999.000,9,-999.000,9,-999.0000,9,  2260.7,2,  2360.4,2,   7.5956,2,    25.00,-999.000,9,-999.0000,9,-999.000,9,   0.6101,2, -999.00,9,  -999.0,9,  -999.0,-999.000,9, -999.00,9,-999.000,9,   39.18,2,   34.75,2, -67.0003,-142.3208,-999.000,     -999.0,    34.8685,2,     -999.0,9,     -999.0,9,-999.0000,9,-999.0000,9,-999.0000,9,-999.0000,9,-999.0000,9,-999.0000,9,-999.0000,9,-999.0000,9,-999.0000,9,-999.0000,-999.000,   0.5042,     -999.0,     -999.0,9,     -999.0,9,     -999.0,9,     -999.0,9,     -999.0,20110331,       1330
320620110219,       S04P,      99,          1,          9,          9,2,20110331,       1248,   -67.0003,  -142.3207,       3857,  2085.3,   0.5307,  34.7043,2,  34.7041,2,    208.0,2,   207.5,2,  126.44,2,   32.48,2,    0.00,2,    2.25,2,-999.000,9,-999.000,9,-999.000,9,-999.0000,9,  -999.0,9,  -999.0,9,-999.0000,9,  -999.00,-999.000,9,-999.0000,9,-999.000,9,   0.5316,2, -999.00,9,  -999.0,9,  -999.0,-999.000,9, -999.00,9,-999.000,9,   39.77,2,   34.59,2, -67.0003,-142.3208,-999.000,     -999.0,    34.8677,2,     -999.0,9,     -999.0,9,-999.0000,9,-999.0000,9,-999.0000,9,-999.0000,9,-999.0000,9,-999.0000,9,-999.0000,9,-999.0000,9,-999.0000,9,-999.0000,-999.000,   0.4102,     -999.0,     -999.0,9,     -999.0,9,     -999.0,9,     -999.0,9,     -999.0,20110331,       1325
320620110219,       S04P,      99,          1,          8,          8,2,20110331,       1248,   -67.0003,  -142.3207,       3857,  2336.2,   0.4415,  34.7032,2,  34.7027,2,    209.8,2,   209.6,2,  127.78,2,   32.61,2,    0.00,2,    2.25,2,   0.188,2,   0.085,2,   0.007,2,   0.0440,2,  -999.0,9,  -999.0,9,-999.0000,9,  -999.00,-999.000,9,-999.0000,9,-999.000,9,   0.4415,2, -999.00,9,  -999.0,9,  -999.0,-999.000,9, -999.00,9,-999.000,9,   40.14,2,   34.91,2, -67.0003,-142.3208,-999.000,     -999.0,    34.8663,2,     -999.0,9,     -999.0,9,-999.0000,9,-999.0000,9,-999.0000,9,-999.0000,9,-999.0000,9,-999.0000,9,-999.0000,9,-999.0000,9,-999.0000,9,-999.0000,-999.000,   0.3033,     -999.0,     -999.0,9,     -999.0,9,     -999.0,9,     -999.0,9,     -999.0,20110331,       1320
320620110219,       S04P,      99,          1,          7,          7,2,20110331,       1248,   -67.0003,  -142.3207,       3857,  2585.1,   0.3739,  34.7028,2,  34.7021,2,    211.0,2,   211.7,2,  129.93,2,   32.73,2,    0.00,2,    2.26,2,   0.184,2,   0.094,2,   0.010,2,   0.0500,2,  2260.3,2,  2360.2,2,   7.5957,2,    25.00,-999.000,9,-999.0000,9,-999.000,9,   0.3740,2, -999.00,9,  -999.0,9,  -999.0,-999.000,9, -999.00,9,-999.000,9,   39.57,2,   35.11,2, -67.0003,-142.3208,-999.000,     -999.0,    34.8657,2,     -999.0,9,     -999.0,9,-999.0000,9,-999.0000,9,-999.0000,9,-999.0000,9,-999.0000,9,-999.0000,9,-999.0000,9,-999.0000,9,-999.0000,9,-999.0000,-999.000,   0.2171,     -999.0,     -999.0,9,     -999.0,9,     -999.0,9,     -999.0,9,     -999.0,20110331,       1315
320620110219,       S04P,      99,          1,          6,          6,2,20110331,       1248,   -67.0003,  -142.3207,       3857,  2834.9,   0.3179,  34.7021,2,  34.7017,2,    213.2,2,   213.2,2,  131.13,2,   32.70,2,    0.00,2,    2.25,2,   0.231,2,   0.118,2,   0.013,2,   0.0270,2,  -999.0,9,  -999.0,9,-999.0000,9,  -999.00,-999.000,9,-999.0000,9,-999.000,9,   0.3179,2, -999.00,9,  -999.0,9,  -999.0,-999.000,9, -999.00,9,-999.000,9,   39.06,2,   34.79,2, -67.0003,-142.3208,-999.000,     -999.0,    34.8654,2,     -999.0,9,     -999.0,9,-999.0000,9,-999.0000,9,-999.0000,9,-999.0000,9,-999.0000,9,-999.0000,9,-999.0000,9,-999.0000,9,-999.0000,9,-999.0000,-999.000,   0.1414,     -999.0,     -999.0,9,     -999.0,9,     -999.0,9,     -999.0,9,     -999.0,20110331,       1310
320620110219,       S04P,      99,          1,          5,          5,2,20110331,       1248,   -67.0003,  -142.3207,       3857,  3100.5,   0.2562,  34.7003,2,  34.6998,2,    215.4,2,   215.6,2,  130.97,2,   32.76,2,    0.00,2,    2.25,2,   0.388,2,   0.196,2,   0.022,2,   0.0450,2,  2260.5,2,  2359.8,2,   7.5949,2,    25.00,-999.000,9,-999.0000,9,-999.000,9,   0.2560,2, -999.00,9,  -999.0,9,  -999.0,-999.000,9, -999.00,9,-999.000,9,   38.99,2,   35.34,2, -67.0003,-142.3208,-999.000,     -999.0,    34.8634,2,     -999.0,9,     -999.0,9,-999.0000,9,-999.0000,9,-999.0000,9,-999.0000,9,-999.0000,9,-999.0000,9,-999.0000,9,-999.0000,9,-999.0000,9,-999.0000,-999.000,   0.0581,     -999.0,     -999.0,9,     -999.0,9,     -999.0,9,     -999.0,9,     -999.0,20110331,       1305
320620110219,       S04P,      99,          1,          4,          4,2,20110331,       1248,   -67.0003,  -142.3207,       3857,  3400.7,   0.1985,  34.6974,2,  34.6964,2,    218.3,2,   217.9,2,  126.62,2,   32.66,2,    0.00,2,    2.24,2,-999.000,9,-999.000,9,-999.000,9,-999.0000,9,  2259.2,2,  2357.1,2,   7.5945,2,    25.00,-999.000,9,-999.0000,9,-999.000,9,   0.1986,2, -999.00,9,  -999.0,9,  -999.0,-999.000,9, -999.00,9,-999.000,9,   39.03,2,   35.21,2, -67.0003,-142.3208,-999.000,     -999.0,    34.8600,2,     -999.0,9,     -999.0,9,-999.0000,9,-999.0000,9,-999.0000,9,-999.0000,9,-999.0000,9,-999.0000,9,-999.0000,9,-999.0000,9,-999.0000,9,-999.0000,-999.000,  -0.0254,     -999.0,     -999.0,9,     -999.0,9,     -999.0,9,     -999.0,9,     -999.0,20110331,       1259
320620110219,       S04P,      99,          1,          3,          3,2,20110331,       1248,   -67.0003,  -142.3207,       3857,  3701.1,   0.1965,  34.6964,2,  34.6956,2,    219.7,2,   219.4,2,  124.95,2,   32.57,2,    0.00,2,    2.24,2,   0.768,2,   0.379,2,   0.046,2,   0.1270,2,  2258.7,2,  2360.0,2,   7.5942,2,    25.00,-999.000,9,-999.0000,9,-999.000,9,   0.1961,2, -999.00,9,  -999.0,9,  -999.0,-999.000,9, -999.00,9,-999.000,9,   39.02,2,   35.14,2, -67.0003,-142.3208,-999.000,     -999.0,    34.8592,2,     -999.0,9,     -999.0,9,-999.0000,9,-999.0000,9,-999.0000,9,-999.0000,9,-999.0000,9,-999.0000,9,-999.0000,9,-999.0000,9,-999.0000,9,-999.0000,-999.000,  -0.0559,     -999.0,     -999.0,9,     -999.0,9,     -999.0,9,     -999.0,9,     -999.0,20110331,       1253
320620110219,       S04P,      99,          1,          2,          2,2,20110331,       1248,   -67.0003,  -142.3207,       3857,  3866.8,   0.2071,  34.6960,2,  34.6958,2,    219.8,2,   219.5,2,  124.40,2,   32.51,2,    0.00,2,    2.24,2,-999.000,9,-999.000,9,-999.000,9,-999.0000,9,  2259.4,6,  2362.1,2,   7.5941,2,    25.00,-999.000,9,-999.0000,9,-999.000,9,   0.2066,2, -999.00,9,  -999.0,9,  -999.0,-999.000,9, -999.00,9,-999.000,9,   39.76,2,   34.33,2, -67.0003,-142.3207,-999.000,     -999.0,    34.8594,2,     -999.0,9,     -999.0,9,-999.0000,9,-999.0000,9,-999.0000,9,-999.0000,9,-999.0000,9,-999.0000,9,-999.0000,9,-999.0000,9,-999.0000,9,-999.0000,-999.000,  -0.0618,     -999.0,     -999.0,9,     -999.0,9,     -999.0,9,     -999.0,9,     -999.0,20110331,       1249
320620110219,       S04P,      99,          1,          1,          1,2,20110331,       1248,   -67.0003,  -142.3207,       3857,  3919.0,   0.2083,  34.6963,2,  34.6956,2,    219.6,2,   219.4,2,  124.57,2,   32.62,2,    0.00,2,    2.24,2,   0.826,2,   0.409,2,   0.053,2,   0.1510,2,  2260.4,2,  2359.0,2,   7.5938,6,    25.00,-999.000,9,-999.0000,9,-999.000,9,   0.2081,2, -999.00,9,  -999.0,9,  -999.0,-999.000,9, -999.00,9,-999.000,9,   39.35,2,   34.89,2, -67.0003,-142.3207,-999.000,     -999.0,    34.8592,2,     -999.0,9,     -999.0,9,-999.0000,9,-999.0000,9,-999.0000,9,-999.0000,9,-999.0000,9,-999.0000,9,-999.0000,9,-999.0000,9,-999.0000,9,-999.0000,-999.000,  -0.0659,     -999.0,     -999.0,9,     -999.0,9,     -999.0,9,     -999.0,9,     -999.0,20110331,       1248