BOTTLE,20220813CCHSIOAMB
EXPOCODE,SECT_ID,STNNBR,CASTNO,SAMPNO,BTLNBR,BTLNBR_FLAG_W,DATE,TIME,LATITUDE,LONGITUDE,DEPTH,CTDPRS,CTDTMP,CTDSAL,CTDSAL_FLAG_W,SALNTY,SALNTY_FLAG_W,CTDOXY,CTDOXY_FLAG_W,OXYGEN,OXYGEN_FLAG_W,SILCAT,SILCAT_FLAG_W,NITRAT,NITRAT_FLAG_W,NITRIT,NITRIT_FLAG_W,PHSPHT,PHSPHT_FLAG_W,CFC-11,CFC-11_FLAG_W,CFC-12,CFC-12_FLAG_W,CFC113,CFC113_FLAG_W,SF6,SF6_FLAG_W,TCARBN,TCARBN_FLAG_W,ALKALI,ALKALI_FLAG_W,PH_TOT,PH_TOT_FLAG_W,PH_TMP,TRITUM,TRITUM_FLAG_W,HELIUM,HELIUM_FLAG_W,DELHE3,DELHE3_FLAG_W,REFTMP,REFTMP_FLAG_W,DELC13,DELC13_FLAG_W,DELC14,DELC14_FLAG_W,C14ERR,NEON,NEON_FLAG_W,DELO18,DELO18_FLAG_W,POC,POC_FLAG_W,DOC,DOC_FLAG_W,TDN,TDN_FLAG_W,BTL_LAT,BTL_LON,TRITER,NEONER,SALTREF,SALTREF_FLAG_W,PIGMENTS,PIGMENTS_FLAG_W,LAB_DEN,LAB_DEN_FLAG_W,CDOM325,CDOM325_FLAG_W,CDOM340,CDOM340_FLAG_W,CDOM380,CDOM380_FLAG_W,CDOM412,CDOM412_FLAG_W,CDOM443,CDOM443_FLAG_W,CDOM490,CDOM490_FLAG_W,CDOM555,CDOM555_FLAG_W,CDOMSL,CDOMSL_FLAG_W,CDOMSN,CDOMSN_FLAG_W,HELIER,DELHER,THETA,LDEO_SAMPNO,ABSORBTION,ABSORBTION_FLAG_W,IMAGE_COUNT,IMAGE_COUNT_FLAG_W,CYTO_COUNT,CYTO_COUNT_FLAG_W,DELD,DELD_FLAG_W,DELDERR,BTL_DATE,BTL_TIME
,,,,,,,,,,,METERS,DBAR,ITS-90,PSS-78,,PSS-78,,UMOL/KG,,UMOL/KG,,UMOL/KG,,UMOL/KG,,UMOL/KG,,UMOL/KG,,PMOL/KG,,PMOL/KG,,PMOL/KG,,FMOL/KG,,UMOL/KG,,UMOL/KG,,,,DEG C,TU,,NMOL/KG,,PERCNT,,DEG C,,/MILLE,,/MILLE,,/MILLE,NMOL/KG,,/MILLE,,UG/KG,,UMOL/KG,,UMOL/KG,,,,TU,NMOL/KG,G/KG,,,,,,1/M,,1/M,,1/M,,1/M,,1/M,,1/M,,1/M,,1/NM,,1/NM,,NMOL/KG,PERCNT,DEG C,,,,,,,,/MILLE,,/MILLE,,
320620110219,       S04P,     107,          1,         13,         13,2,20110405,       0251,   -67.0002,  -130.1857,       4439,  1665.0,   1.0872,  34.7218,2,  34.7214,2,    199.3,2,   199.6,2,  109.78,2,   31.82,2,    0.00,2,    2.20,2,   0.159,2,   0.080,2,   0.013,2,   0.0870,2,  -999.0,9,  -999.0,9,-999.0000,9,  -999.00,  -0.021,2,-999.0000,9,-999.000,9,   1.0876,2, -999.00,9,  -999.0,9,  -999.0,-999.000,9,   -0.04,2,-999.000,9,   39.66,2,   34.11,2, -67.0001,-130.1857,   0.013,     -999.0,    34.8851,2,     -999.0,9,     -999.0,9,-999.0000,9,-999.0000,9,-999.0000,9,-999.0000,9,-999.0000,9,-999.0000,9,-999.0000,9,-999.0000,9,-999.0000,9,-999.0000,-999.000,   0.9895,     -999.0,     -999.0,9,     -999.0,9,     -999.0,9,      -1.12,2,       0.06,20110405,       0350
320620110219,       S04P,     107,          1,         12,         12,2,20110405,       0251,   -67.0002,  -130.1857,       4439,  1864.2,   0.9782,  34.7176,2,  34.7176,2,    201.2,2,   201.1,2,  114.15,2,   32.01,2,    0.00,2,    2.21,2,-999.000,9,-999.000,9,-999.000,9,-999.0000,9,  2258.0,3,  2362.7,2,   7.6007,2,    25.00,-999.000,9,-999.0000,9,-999.000,9,   0.9783,2, -999.00,9,  -999.0,9,  -999.0,-999.000,9, -999.00,9,-999.000,9,   39.78,2,   34.56,2, -67.0002,-130.1857,-999.000,     -999.0,    34.8813,2,     -999.0,9,     -999.0,9,-999.0000,9,-999.0000,9,-999.0000,9,-999.0000,9,-999.0000,9,-999.0000,9,-999.0000,9,-999.0000,9,-999.0000,9,-999.0000,-999.000,   0.8674,     -999.0,     -999.0,9,     -999.0,9,     -999.0,9,     -999.0,9,     -999.0,20110405,       0346
320620110219,       S04P,     107,          1,         11,         11,2,20110405,       0251,   -67.0002,  -130.1857,       4439,  2084.9,   0.8804,  34.7138,2,  34.7129,2,    202.9,2,   203.1,2,  117.51,2,   31.98,2,    0.00,2,    2.21,2,   0.157,2,   0.073,2,   0.009,2,   0.0830,2,  -999.0,9,  -999.0,9,-999.0000,9,  -999.00,  -0.010,2,   1.9706,2,   10.42,2,   0.8804,2, -999.00,9,  -999.0,9,  -999.0,   8.570,2,   -0.12,2,-999.000,9,   39.49,2,   34.46,2, -67.0002,-130.1857,   0.013,      0.044,    34.8766,2,     -999.0,9,     -999.0,9,-999.0000,9,-999.0000,9,-999.0000,9,-999.0000,9,-999.0000,9,-999.0000,9,-999.0000,9,-999.0000,9,-999.0000,9,   0.0095,    0.14,   0.7543,     -999.0,     -999.0,9,     -999.0,9,     -999.0,9,      -1.88,2,       0.05,20110405,       0342
320620110219,       S04P,     107,          1,         10,         37,2,20110405,       0251,   -67.0002,  -130.1857,       4439,  2334.3,   0.7844,  34.7096,2,  34.7092,2,    204.7,2,   204.3,2,  121.47,2,   32.14,2,    0.00,2,    2.22,2,-999.000,9,-999.000,9,-999.000,9,-999.0000,9,  2258.5,3,  2362.7,2,   7.5992,2,    25.00,-999.000,9,-999.0000,9,-999.000,9,   0.7843,2, -999.00,9,  -999.0,9,  -999.0,-999.000,9, -999.00,9,-999.000,9,   39.86,2,   34.48,2, -67.0001,-130.1857,-999.000,     -999.0,    34.8728,2,     -999.0,9,     -999.0,9,-999.0000,9,-999.0000,9,-999.0000,9,-999.0000,9,-999.0000,9,-999.0000,9,-999.0000,9,-999.0000,9,-999.0000,9,-999.0000,-999.000,   0.6402,     -999.0,     -999.0,9,     -999.0,9,     -999.0,9,     -999.0,9,     -999.0,20110405,       0337
320620110219,       S04P,     107,          1,          9,          9,2,20110405,       0251,   -67.0002,  -130.1857,       4439,  2584.2,   0.6953,  34.7064,2,  34.7056,2,    206.3,2,   206.1,2,  123.73,2,   32.15,2,    0.00,2,    2.23,2,   0.208,2,   0.101,2,   0.012,2,   0.0830,2,  -999.0,9,  -999.0,9,-999.0000,9,  -999.00,  -0.016,2,   1.9368,2,   10.90,2,   0.6955,2, -999.00,9,  -999.0,9,  -999.0,   8.435,2,   -0.26,2,-999.000,9,   40.18,2,   34.39,2, -67.0001,-130.1857,   0.012,      0.043,    34.8693,2,     -999.0,9,     -999.0,9,-999.0000,9,-999.0000,9,-999.0000,9,-999.0000,9,-999.0000,9,-999.0000,9,-999.0000,9,-999.0000,9,-999.0000,9,   0.0093,    0.14,   0.5323,     -999.0,     -999.0,9,     -999.0,9,     -999.0,9,      -2.92,2,       0.26,20110405,       0332
320620110219,       S04P,     107,          1,          8,          8,2,20110405,       0251,   -67.0002,  -130.1857,       4439,  2834.7,   0.6017,  34.7046,2,  34.7037,2,    208.2,2,   208.6,2,  125.37,2,   32.22,2,    0.00,2,    2.22,2,   0.262,2,   0.120,2,   0.018,2,   0.0920,2,  2258.9,3,  2362.6,2,   7.5961,2,    25.00,-999.000,9,-999.0000,9,-999.000,9,   0.6018,2, -999.00,9,  -999.0,9,  -999.0,-999.000,9, -999.00,9,-999.000,9,   40.25,2,   34.84,2, -67.0001,-130.1857,-999.000,     -999.0,    34.8673,2,     -999.0,9,     -999.0,9,-999.0000,9,-999.0000,9,-999.0000,9,-999.0000,9,-999.0000,9,-999.0000,9,-999.0000,9,-999.0000,9,-999.0000,9,-999.0000,-999.000,   0.4192,     -999.0,     -999.0,9,     -999.0,9,     -999.0,9,     -999.0,9,     -999.0,20110405,       0327
320620110219,       S04P,     107,          1,          7,          7,2,20110405,       0251,   -67.0002,  -130.1857,       4439,  3100.4,   0.5187,  34.7047,2,  34.7045,2,    209.5,2,   209.5,2,  129.58,2,   32.37,2,    0.00,2,    2.24,2,   0.161,2,   0.073,2,   0.012,2,   0.0850,2,  -999.0,9,  -999.0,9,-999.0000,9,  -999.00,   0.007,2,   1.9459,2,    9.65,2,   0.5185,2, -999.00,9,  -999.0,9,  -999.0,   8.445,2,   -0.19,2,-999.000,9,   39.87,2,   34.51,2, -67.0002,-130.1857,   0.014,      0.043,    34.8681,2,     -999.0,9,     -999.0,9,-999.0000,9,-999.0000,9,-999.0000,9,-999.0000,9,-999.0000,9,-999.0000,9,-999.0000,9,-999.0000,9,-999.0000,9,   0.0093,    0.14,   0.3145,     -999.0,     -999.0,9,     -999.0,9,     -999.0,9,      -2.29,2,       0.10,20110405,       0321
320620110219,       S04P,     107,          1,          6,          6,2,20110405,       0251,   -67.0002,  -130.1857,       4439,  3399.7,   0.4496,  34.7038,2,  34.7027,2,    211.4,2,   211.2,2,  132.17,2,   32.43,2,    0.00,2,    2.24,2,-999.000,9,-999.000,9,-999.000,9,-999.0000,9,  2261.0,3,  2364.5,2,   7.5960,2,    25.00,-999.000,9,-999.0000,9,-999.000,9,   0.4495,2, -999.00,9,  -999.0,9,  -999.0,-999.000,9, -999.00,9,-999.000,9,   40.26,2,   34.42,2, -67.0002,-130.1857,-999.000,     -999.0,    34.8663,2,     -999.0,9,     -999.0,9,-999.0000,9,-999.0000,9,-999.0000,9,-999.0000,9,-999.0000,9,-999.0000,9,-999.0000,9,-999.0000,9,-999.0000,9,-999.0000,-999.000,   0.2194,     -999.0,     -999.0,9,     -999.0,9,     -999.0,9,     -999.0,9,     -999.0,20110405,       0315
320620110219,       S04P,     107,          1,          5,          5,2,20110405,       0251,   -67.0002,  -130.1857,       4439,  3700.1,   0.3845,  34.7023,2,  34.7013,2,    213.3,2,   213.3,2,  133.54,2,   32.52,2,    0.00,2,    2.24,2,   0.316,2,   0.152,2,   0.015,2,   0.1300,2,  -999.0,9,  -999.0,9,-999.0000,9,  -999.00,  -0.015,2,   1.9531,2,    9.05,2,   0.3845,2, -999.00,9,  -999.0,9,  -999.0,   8.569,2, -999.00,9,-999.000,9,   40.54,2,   34.61,2, -67.0001,-130.1857,   0.013,      0.044,    34.8650,2,     -999.0,9,     -999.0,9,-999.0000,9,-999.0000,9,-999.0000,9,-999.0000,9,-999.0000,9,-999.0000,9,-999.0000,9,-999.0000,9,-999.0000,9,   0.0094,    0.14,   0.1272,     -999.0,     -999.0,9,     -999.0,9,     -999.0,9,     -999.0,9,     -999.0,20110405,       0309
320620110219,       S04P,     107,          1,          4,          4,2,20110405,       0251,   -67.0002,  -130.1857,       4439,  3999.2,   0.3572,  34.7018,2,  34.7021,2,    214.4,2,   214.8,2,  136.57,2,   32.55,2,    0.00,2,    2.25,2,-999.000,9,-999.000,9,-999.000,9,-999.0000,9,  2261.0,3,  2364.0,2,   7.5961,2,    25.00,-999.000,9,-999.0000,9,-999.000,9,   0.3569,2, -999.00,9,  -999.0,9,  -999.0,-999.000,9, -999.00,9,-999.000,9,   40.77,2,   34.84,2, -67.0002,-130.1857,-999.000,     -999.0,    34.8657,2,     -999.0,9,     -999.0,9,-999.0000,9,-999.0000,9,-999.0000,9,-999.0000,9,-999.0000,9,-999.0000,9,-999.0000,9,-999.0000,9,-999.0000,9,-999.0000,-999.000,   0.0707,     -999.0,     -999.0,9,     -999.0,9,     -999.0,9,     -999.0,9,     -999.0,20110405,       0304
320620110219,       S04P,     107,          1,          3,          3,2,20110405,       0251,   -67.0002,  -130.1857,       4439,  4299.9,   0.3423,  34.7006,2,  34.7041,3,    215.4,2,   215.2,2,  137.81,2,   32.60,2,    0.00,2,    2.24,2,   0.405,2,   0.184,2,   0.015,2,   0.0900,2,  2261.1,3,  2362.6,6,   7.5948,2,    25.00,   0.005,2,   1.9474,2,    8.36,2,   0.3419,2, -999.00,9,  -999.0,9,  -999.0,   8.496,2,   -0.24,2,-999.000,9,   40.50,2,   34.76,2, -67.0002,-130.1857,   0.013,      0.043,    34.8677,3,     -999.0,9,     -999.0,9,-999.0000,9,-999.0000,9,-999.0000,9,-999.0000,9,-999.0000,9,-999.0000,9,-999.0000,9,-999.0000,9,-999.0000,9,   0.0093,    0.14,   0.0249,     -999.0,     -999.0,9,     -999.0,9,     -999.0,9,      -2.79,2,       0.10,20110405,       0258
320620110219,       S04P,     107,          1,          2,          2,2,20110405,       0251,   -67.0002,  -130.1857,       4439,  4421.3,   0.3384,  34.7000,2,  34.6990,2,    216.3,2,   216.1,2,  138.39,2,   32.64,2,    0.00,2,    2.24,2,   0.454,2,   0.212,2,   0.023,2,   0.0930,2,  2261.8,3,  2363.0,2,   7.5940,6,    25.00,-999.000,9,-999.0000,9,-999.000,9,   0.3388,2, -999.00,9,  -999.0,9,  -999.0,-999.000,9, -999.00,9,-999.000,9,   40.57,2,   34.67,2, -67.0001,-130.1857,-999.000,     -999.0,    34.8626,2,     -999.0,9,     -999.0,9,-999.0000,9,-999.0000,9,-999.0000,9,-999.0000,9,-999.0000,9,-999.0000,9,-999.0000,9,-999.0000,9,-999.0000,9,-999.0000,-999.000,   0.0082,     -999.0,     -999.0,9,     -999.0,9,     -999.0,9,     -999.0,9,     -999.0,20110405,       0255
320620110219,       S04P,     107,          1,          1,          1,2,20110405,       0251,   -67.0002,  -130.1857,       4439,  4518.2,   0.3298,  34.6993,2,  34.6992,2,    216.8,2,   217.0,2,  139.06,2,   32.59,2,    0.00,2,    2.24,2,   0.519,2,   0.242,2,   0.028,2,   0.1200,2,  2262.4,3,  2363.0,2,   7.5949,2,    25.00,   0.010,2,   1.9044,2,    8.34,2,   0.3293,2, -999.00,9,  -999.0,9,  -999.0,   8.414,2,   -0.30,2,-999.000,9,   40.63,2,   34.80,2, -67.0002,-130.1857,   0.012,      0.043,    34.8628,2,     -999.0,9,     -999.0,9,-999.0000,9,-999.0000,9,-999.0000,9,-999.0000,9,-999.0000,9,-999.0000,9,-999.0000,9,-999.0000,9,-999.0000,9,   0.0091,    0.14,  -0.0107,     -999.0,     -999.0,9,     -999.0,9,     -999.0,9,      -3.49,2,       0.38,20110405,       0251