BOTTLE,20220813CCHSIOAMB
EXPOCODE,SECT_ID,STNNBR,CASTNO,SAMPNO,BTLNBR,BTLNBR_FLAG_W,DATE,TIME,LATITUDE,LONGITUDE,DEPTH,CTDPRS,CTDTMP,CTDSAL,CTDSAL_FLAG_W,SALNTY,SALNTY_FLAG_W,CTDOXY,CTDOXY_FLAG_W,OXYGEN,OXYGEN_FLAG_W,SILCAT,SILCAT_FLAG_W,NITRAT,NITRAT_FLAG_W,NITRIT,NITRIT_FLAG_W,PHSPHT,PHSPHT_FLAG_W,CFC-11,CFC-11_FLAG_W,CFC-12,CFC-12_FLAG_W,CFC113,CFC113_FLAG_W,SF6,SF6_FLAG_W,TCARBN,TCARBN_FLAG_W,ALKALI,ALKALI_FLAG_W,PH_TOT,PH_TOT_FLAG_W,PH_TMP,TRITUM,TRITUM_FLAG_W,HELIUM,HELIUM_FLAG_W,DELHE3,DELHE3_FLAG_W,REFTMP,REFTMP_FLAG_W,DELC13,DELC13_FLAG_W,DELC14,DELC14_FLAG_W,C14ERR,NEON,NEON_FLAG_W,DELO18,DELO18_FLAG_W,POC,POC_FLAG_W,DOC,DOC_FLAG_W,TDN,TDN_FLAG_W,BTL_LAT,BTL_LON,TRITER,NEONER,SALTREF,SALTREF_FLAG_W,PIGMENTS,PIGMENTS_FLAG_W,LAB_DEN,LAB_DEN_FLAG_W,CDOM325,CDOM325_FLAG_W,CDOM340,CDOM340_FLAG_W,CDOM380,CDOM380_FLAG_W,CDOM412,CDOM412_FLAG_W,CDOM443,CDOM443_FLAG_W,CDOM490,CDOM490_FLAG_W,CDOM555,CDOM555_FLAG_W,CDOMSL,CDOMSL_FLAG_W,CDOMSN,CDOMSN_FLAG_W,HELIER,DELHER,THETA,LDEO_SAMPNO,ABSORBTION,ABSORBTION_FLAG_W,IMAGE_COUNT,IMAGE_COUNT_FLAG_W,CYTO_COUNT,CYTO_COUNT_FLAG_W,DELD,DELD_FLAG_W,DELDERR,BTL_DATE,BTL_TIME
,,,,,,,,,,,METERS,DBAR,ITS-90,PSS-78,,PSS-78,,UMOL/KG,,UMOL/KG,,UMOL/KG,,UMOL/KG,,UMOL/KG,,UMOL/KG,,PMOL/KG,,PMOL/KG,,PMOL/KG,,FMOL/KG,,UMOL/KG,,UMOL/KG,,,,DEG C,TU,,NMOL/KG,,PERCNT,,DEG C,,/MILLE,,/MILLE,,/MILLE,NMOL/KG,,/MILLE,,UG/KG,,UMOL/KG,,UMOL/KG,,,,TU,NMOL/KG,G/KG,,,,,,1/M,,1/M,,1/M,,1/M,,1/M,,1/M,,1/M,,1/NM,,1/NM,,NMOL/KG,PERCNT,DEG C,,,,,,,,/MILLE,,/MILLE,,
320620110219,       S04P,      10,          2,         13,         13,4,20110224,       0747,   -69.4531,   170.2830,       2802,  1436.1,   0.5583,  34.6976,2,  34.6979,2,    209.1,2,   208.0,2,  119.06,2,   32.02,2,    0.00,2,    2.18,2,   0.420,2,   0.193,2,   0.042,2,-999.0000,9,  -999.0,9,  -999.0,9,-999.0000,9,  -999.00,-999.000,9,-999.0000,9,-999.000,9,   0.5583,2, -999.00,9,  -999.0,9,  -999.0,-999.000,9, -999.00,9,-999.000,9, -999.00,9, -999.00,9, -69.4531, 170.2829,-999.000,     -999.0,    34.8615,2,     -999.0,9,     -999.0,9,-999.0000,9,-999.0000,9,-999.0000,9,-999.0000,9,-999.0000,9,-999.0000,9,-999.0000,9,-999.0000,9,-999.0000,9,-999.0000,-999.000,   0.4828,     -999.0,     -999.0,9,     -999.0,9,     -999.0,9,     -999.0,9,     -999.0,20110224,       0827
320620110219,       S04P,      10,          2,         12,         12,4,20110224,       0747,   -69.4531,   170.2830,       2802,  1535.2,   0.4765,  34.6923,2,  34.6927,2,    210.5,2,   210.4,2,  118.52,2,   32.03,2,    0.00,2,    2.18,2,-999.000,9,-999.000,9,-999.000,9,-999.0000,9,  2257.5,2,  2356.1,2,   7.5850,2,    25.00,-999.000,9,-999.0000,9,-999.000,9,   0.4764,2, -999.00,9,  -999.0,9,  -999.0,-999.000,9, -999.00,9,-999.000,9, -999.00,9, -999.00,9, -69.4531, 170.2830,-999.000,     -999.0,    34.8563,2,     -999.0,9,     -999.0,9,-999.0000,9,-999.0000,9,-999.0000,9,-999.0000,9,-999.0000,9,-999.0000,9,-999.0000,9,-999.0000,9,-999.0000,9,-999.0000,-999.000,   0.3956,     -999.0,     -999.0,9,     -999.0,9,     -999.0,9,     -999.0,9,     -999.0,20110224,       0824
320620110219,       S04P,      10,          2,         11,         11,4,20110224,       0747,   -69.4531,   170.2830,       2802,  1634.4,   0.4091,  34.6893,2,  34.6849,2,    212.8,2,   212.8,2,  117.11,2,   31.95,2,    0.00,2,    2.17,2,   0.748,2,   0.374,2,   0.060,2,   0.2560,2,  -999.0,9,  -999.0,9,-999.0000,9,  -999.00,-999.000,9,-999.0000,9,-999.000,9,   0.4095,2, -999.00,9,  -999.0,9,  -999.0,-999.000,9, -999.00,9,-999.000,9, -999.00,9, -999.00,9, -69.4531, 170.2830,-999.000,     -999.0,    34.8484,2,     -999.0,9,     -999.0,9,-999.0000,9,-999.0000,9,-999.0000,9,-999.0000,9,-999.0000,9,-999.0000,9,-999.0000,9,-999.0000,9,-999.0000,9,-999.0000,-999.000,   0.3224,     -999.0,     -999.0,9,     -999.0,9,     -999.0,9,     -999.0,9,     -999.0,20110224,       0821
320620110219,       S04P,      10,          2,         10,         10,4,20110224,       0747,   -69.4531,   170.2830,       2802,  1733.7,   0.3494,  34.6861,2,  34.6851,2,    214.1,2,   214.3,2,  115.99,2,   31.89,2,    0.00,2,    2.16,2,-999.000,9,-999.000,9,-999.000,9,-999.0000,9,  -999.0,9,  -999.0,9,-999.0000,9,  -999.00,-999.000,9,-999.0000,9,-999.000,9,   0.3494,2, -999.00,9,  -999.0,9,  -999.0,-999.000,9, -999.00,9,-999.000,9, -999.00,9, -999.00,9, -69.4531, 170.2830,-999.000,     -999.0,    34.8486,2,     -999.0,9,     -999.0,9,-999.0000,9,-999.0000,9,-999.0000,9,-999.0000,9,-999.0000,9,-999.0000,9,-999.0000,9,-999.0000,9,-999.0000,9,-999.0000,-999.000,   0.2568,     -999.0,     -999.0,9,     -999.0,9,     -999.0,9,     -999.0,9,     -999.0,20110224,       0818
320620110219,       S04P,      10,          2,          9,          9,4,20110224,       0747,   -69.4531,   170.2830,       2802,  1833.8,   0.3244,  34.6876,2,  34.6870,2,    215.5,2,   215.4,2,  117.38,2,   31.82,2,    0.00,2,    2.17,2,   0.863,2,   0.435,2,   0.076,2,   0.2650,2,  -999.0,9,  -999.0,9,-999.0000,9,  -999.00,-999.000,9,-999.0000,9,-999.000,9,   0.3244,2, -999.00,9,  -999.0,9,  -999.0,-999.000,9, -999.00,9,-999.000,9, -999.00,9, -999.00,9, -69.4531, 170.2830,-999.000,     -999.0,    34.8506,2,     -999.0,9,     -999.0,9,-999.0000,9,-999.0000,9,-999.0000,9,-999.0000,9,-999.0000,9,-999.0000,9,-999.0000,9,-999.0000,9,-999.0000,9,-999.0000,-999.000,   0.2253,     -999.0,     -999.0,9,     -999.0,9,     -999.0,9,     -999.0,9,     -999.0,20110224,       0814
320620110219,       S04P,      10,          2,          8,          8,4,20110224,       0747,   -69.4531,   170.2830,       2802,  1936.7,   0.2531,  34.6821,2,  34.6821,2,    217.2,2,   218.4,2,  115.22,2,   31.88,2,    0.00,2,    2.17,2,-999.000,9,-999.000,9,-999.000,9,-999.0000,9,  2254.5,2,  2351.5,2,   7.5846,2,    25.00,-999.000,9,-999.0000,9,-999.000,9,   0.2536,2, -999.00,9,  -999.0,9,  -999.0,-999.000,9, -999.00,9,-999.000,9, -999.00,9, -999.00,9, -69.4531, 170.2830,-999.000,     -999.0,    34.8457,2,     -999.0,9,     -999.0,9,-999.0000,9,-999.0000,9,-999.0000,9,-999.0000,9,-999.0000,9,-999.0000,9,-999.0000,9,-999.0000,9,-999.0000,9,-999.0000,-999.000,   0.1479,     -999.0,     -999.0,9,     -999.0,9,     -999.0,9,     -999.0,9,     -999.0,20110224,       0811
320620110219,       S04P,      10,          2,          7,          7,4,20110224,       0747,   -69.4531,   170.2830,       2802,  2064.2,   0.2185,  34.6822,2,  34.6815,2,    219.1,2,   219.4,2,  116.49,2,   31.91,2,    0.00,2,    2.18,2,   1.091,2,   0.581,2,   0.095,2,   0.3670,2,  -999.0,9,  -999.0,9,-999.0000,9,  -999.00,-999.000,9,-999.0000,9,-999.000,9,   0.2180,2, -999.00,9,  -999.0,9,  -999.0,-999.000,9, -999.00,9,-999.000,9, -999.00,9, -999.00,9, -69.4531, 170.2830,-999.000,     -999.0,    34.8451,2,     -999.0,9,     -999.0,9,-999.0000,9,-999.0000,9,-999.0000,9,-999.0000,9,-999.0000,9,-999.0000,9,-999.0000,9,-999.0000,9,-999.0000,9,-999.0000,-999.000,   0.1047,     -999.0,     -999.0,9,     -999.0,9,     -999.0,9,     -999.0,9,     -999.0,20110224,       0808
320620110219,       S04P,      10,          2,          6,          6,4,20110224,       0747,   -69.4531,   170.2830,       2802,  2266.4,   0.0964,  34.6735,2,  34.6723,2,    223.9,2,   223.8,2,  110.44,2,   31.79,2,    0.00,2,    2.17,2,-999.000,9,-999.000,9,-999.000,9,-999.0000,9,  -999.0,9,  -999.0,9,-999.0000,9,  -999.00,-999.000,9,-999.0000,9,-999.000,9,   0.0963,2, -999.00,9,  -999.0,9,  -999.0,-999.000,9, -999.00,9,-999.000,9, -999.00,9, -999.00,9, -69.4531, 170.2830,-999.000,     -999.0,    34.8358,2,     -999.0,9,     -999.0,9,-999.0000,9,-999.0000,9,-999.0000,9,-999.0000,9,-999.0000,9,-999.0000,9,-999.0000,9,-999.0000,9,-999.0000,9,-999.0000,-999.000,  -0.0302,     -999.0,     -999.0,9,     -999.0,9,     -999.0,9,     -999.0,9,     -999.0,20110224,       0803
320620110219,       S04P,      10,          2,          5,          5,4,20110224,       0747,   -69.4531,   170.2830,       2802,  2464.3,  -0.0272,  34.6660,2,  34.6652,2,    228.3,2,   229.7,2,  104.26,2,   31.53,2,    0.00,2,    2.17,2,   1.770,2,   0.966,2,   0.156,2,   0.6320,2,  -999.0,9,  -999.0,9,-999.0000,9,  -999.00,-999.000,9,-999.0000,9,-999.000,9,  -0.0272,2, -999.00,9,  -999.0,9,  -999.0,-999.000,9, -999.00,9,-999.000,9, -999.00,9, -999.00,9, -69.4531, 170.2830,-999.000,     -999.0,    34.8287,2,     -999.0,9,     -999.0,9,-999.0000,9,-999.0000,9,-999.0000,9,-999.0000,9,-999.0000,9,-999.0000,9,-999.0000,9,-999.0000,9,-999.0000,9,-999.0000,-999.000,  -0.1665,     -999.0,     -999.0,9,     -999.0,9,     -999.0,9,     -999.0,9,     -999.0,20110224,       0758
320620110219,       S04P,      10,          2,          4,          4,2,20110224,       0747,   -69.4531,   170.2830,       2802,  2464.3,  -0.0272,  34.6660,2,  34.6670,2,    228.3,2,   230.0,2,  104.53,2,   31.75,2,    0.00,2,    2.17,2,-999.000,9,-999.000,9,-999.000,9,-999.0000,9,  2251.6,2,  2351.0,2,   7.5829,2,    25.00,-999.000,9,-999.0000,9,-999.000,9,  -0.0272,2, -999.00,9,  -999.0,9,  -999.0,-999.000,9, -999.00,9,-999.000,9, -999.00,9, -999.00,9, -69.4531, 170.2830,-999.000,     -999.0,    34.8305,2,     -999.0,9,     -999.0,9,-999.0000,9,-999.0000,9,-999.0000,9,-999.0000,9,-999.0000,9,-999.0000,9,-999.0000,9,-999.0000,9,-999.0000,9,-999.0000,-999.000,  -0.1665,     -999.0,     -999.0,9,     -999.0,9,     -999.0,9,     -999.0,9,     -999.0,20110224,       0758
320620110219,       S04P,      10,          2,          3,          3,2,20110224,       0747,   -69.4531,   170.2830,       2802,  2665.3,  -0.1454,  34.6619,2,  34.6619,2,    233.3,2,   234.0,2,  101.15,2,   31.85,2,    0.00,2,    2.15,2,   2.040,2,   1.119,2,   0.195,2,   0.7480,2,  2250.0,2,  2350.2,2,   7.5873,6,    25.00,-999.000,9,-999.0000,9,-999.000,9,  -0.1455,2, -999.00,9,  -999.0,9,  -999.0,-999.000,9, -999.00,9,-999.000,9, -999.00,9, -999.00,9, -69.4531, 170.2830,-999.000,     -999.0,    34.8253,2,     -999.0,9,     -999.0,9,-999.0000,9,-999.0000,9,-999.0000,9,-999.0000,9,-999.0000,9,-999.0000,9,-999.0000,9,-999.0000,9,-999.0000,9,-999.0000,-999.000,  -0.2981,     -999.0,     -999.0,9,     -999.0,9,     -999.0,9,     -999.0,9,     -999.0,20110224,       0753
320620110219,       S04P,      10,          2,          2,          2,2,20110224,       0747,   -69.4531,   170.2830,       2802,  2765.7,  -0.2028,  34.6603,2,  34.6609,2,    236.8,2,   236.6,2,   99.78,2,   31.40,2,    0.00,2,    2.13,2,   2.176,2,   1.234,2,   0.208,2,   0.7620,2,  2249.5,6,  2347.9,2,   7.5906,2,    25.00,-999.000,9,-999.0000,9,-999.000,9,  -0.2033,2, -999.00,9,  -999.0,9,  -999.0,-999.000,9, -999.00,9,-999.000,9, -999.00,9, -999.00,9, -69.4531, 170.2829,-999.000,     -999.0,    34.8244,2,     -999.0,9,     -999.0,9,-999.0000,9,-999.0000,9,-999.0000,9,-999.0000,9,-999.0000,9,-999.0000,9,-999.0000,9,-999.0000,9,-999.0000,9,-999.0000,-999.000,  -0.3623,     -999.0,     -999.0,9,     -999.0,9,     -999.0,9,     -999.0,9,     -999.0,20110224,       0750
320620110219,       S04P,      10,          2,          1,          1,2,20110224,       0747,   -69.4531,   170.2830,       2802,  2838.2,  -0.2365,  34.6593,2,  34.6584,2,    239.0,2,   238.1,2,   98.93,2,   31.36,2,    0.00,2,    2.14,2,   2.243,2,   1.234,2,   0.210,2,   0.7990,2,  2249.4,2,  2348.7,6,   7.5917,2,    25.00,-999.000,9,-999.0000,9,-999.000,9,  -0.2371,2, -999.00,9,  -999.0,9,  -999.0,-999.000,9, -999.00,9,-999.000,9, -999.00,9, -999.00,9, -69.4531, 170.2830,-999.000,     -999.0,    34.8218,2,     -999.0,9,     -999.0,9,-999.0000,9,-999.0000,9,-999.0000,9,-999.0000,9,-999.0000,9,-999.0000,9,-999.0000,9,-999.0000,9,-999.0000,9,-999.0000,-999.000,  -0.4011,     -999.0,     -999.0,9,     -999.0,9,     -999.0,9,     -999.0,9,     -999.0,20110224,       0747