BOTTLE,20220813CCHSIOAMB
EXPOCODE,SECT_ID,STNNBR,CASTNO,SAMPNO,BTLNBR,BTLNBR_FLAG_W,DATE,TIME,LATITUDE,LONGITUDE,DEPTH,CTDPRS,CTDTMP,CTDSAL,CTDSAL_FLAG_W,SALNTY,SALNTY_FLAG_W,CTDOXY,CTDOXY_FLAG_W,OXYGEN,OXYGEN_FLAG_W,SILCAT,SILCAT_FLAG_W,NITRAT,NITRAT_FLAG_W,NITRIT,NITRIT_FLAG_W,PHSPHT,PHSPHT_FLAG_W,CFC-11,CFC-11_FLAG_W,CFC-12,CFC-12_FLAG_W,CFC113,CFC113_FLAG_W,SF6,SF6_FLAG_W,TCARBN,TCARBN_FLAG_W,ALKALI,ALKALI_FLAG_W,PH_TOT,PH_TOT_FLAG_W,PH_TMP,TRITUM,TRITUM_FLAG_W,HELIUM,HELIUM_FLAG_W,DELHE3,DELHE3_FLAG_W,REFTMP,REFTMP_FLAG_W,DELC13,DELC13_FLAG_W,DELC14,DELC14_FLAG_W,C14ERR,NEON,NEON_FLAG_W,DELO18,DELO18_FLAG_W,POC,POC_FLAG_W,DOC,DOC_FLAG_W,TDN,TDN_FLAG_W,BTL_LAT,BTL_LON,TRITER,NEONER,SALTREF,SALTREF_FLAG_W,PIGMENTS,PIGMENTS_FLAG_W,LAB_DEN,LAB_DEN_FLAG_W,CDOM325,CDOM325_FLAG_W,CDOM340,CDOM340_FLAG_W,CDOM380,CDOM380_FLAG_W,CDOM412,CDOM412_FLAG_W,CDOM443,CDOM443_FLAG_W,CDOM490,CDOM490_FLAG_W,CDOM555,CDOM555_FLAG_W,CDOMSL,CDOMSL_FLAG_W,CDOMSN,CDOMSN_FLAG_W,HELIER,DELHER,THETA,LDEO_SAMPNO,ABSORBTION,ABSORBTION_FLAG_W,IMAGE_COUNT,IMAGE_COUNT_FLAG_W,CYTO_COUNT,CYTO_COUNT_FLAG_W,DELD,DELD_FLAG_W,DELDERR,BTL_DATE,BTL_TIME
,,,,,,,,,,,METERS,DBAR,ITS-90,PSS-78,,PSS-78,,UMOL/KG,,UMOL/KG,,UMOL/KG,,UMOL/KG,,UMOL/KG,,UMOL/KG,,PMOL/KG,,PMOL/KG,,PMOL/KG,,FMOL/KG,,UMOL/KG,,UMOL/KG,,,,DEG C,TU,,NMOL/KG,,PERCNT,,DEG C,,/MILLE,,/MILLE,,/MILLE,NMOL/KG,,/MILLE,,UG/KG,,UMOL/KG,,UMOL/KG,,,,TU,NMOL/KG,G/KG,,,,,,1/M,,1/M,,1/M,,1/M,,1/M,,1/M,,1/M,,1/NM,,1/NM,,NMOL/KG,PERCNT,DEG C,,,,,,,,/MILLE,,/MILLE,,
320620110219,       P16S,      49,          2,         36,         36,2,20110312,       1105,   -68.9933,  -149.9782,       4365,     5.6,  -0.5259,  33.7540,2,  33.7530,2,    341.4,3,   344.4,2,   36.71,2,   23.20,2,    0.21,2,    1.57,2,   6.140,2,   3.371,2,   0.595,2,   2.5650,2,  2154.4,2,  2286.9,2,   7.7101,6,    25.00,-999.000,9,-999.0000,9,-999.000,9,  -0.5260,2, -999.00,9,  -999.0,9,  -999.0,-999.000,9, -999.00,9,-999.000,9, -999.00,9, -999.00,9, -68.9933,-149.9780,-999.000,     -999.0,    33.9122,2,     -999.0,9,     -999.0,9,-999.0000,9,-999.0000,9,-999.0000,9,-999.0000,9,-999.0000,9,-999.0000,9,-999.0000,9,-999.0000,9,-999.0000,9,-999.0000,-999.000,  -0.5261,     -999.0,     -999.0,9,     -999.0,9,     -999.0,9,     -999.0,9,     -999.0,20110312,       1256
320620110219,       P16S,      49,          2,         35,         35,2,20110312,       1105,   -68.9933,  -149.9782,       4365,    35.3,  -0.5250,  33.7540,2,  33.7536,2,    345.6,2,   344.5,2,   36.67,2,   23.30,2,    0.21,2,    1.58,2,   6.104,2,   3.361,2,   0.592,2,   2.5560,2,  2153.6,2,  2286.9,6,   7.7103,2,    25.00,-999.000,9,-999.0000,9,-999.000,9,  -0.5259,2, -999.00,9,  -999.0,9,  -999.0,-999.000,9, -999.00,9,-999.000,9, -999.00,9, -999.00,9, -68.9933,-149.9781,-999.000,     -999.0,    33.9128,2,     -999.0,9,     -999.0,9,-999.0000,9,-999.0000,9,-999.0000,9,-999.0000,9,-999.0000,9,-999.0000,9,-999.0000,9,-999.0000,9,-999.0000,9,-999.0000,-999.000,  -0.5260,     -999.0,     -999.0,9,     -999.0,9,     -999.0,9,     -999.0,9,     -999.0,20110312,       1254
320620110219,       P16S,      49,          2,         34,         34,2,20110312,       1105,   -68.9933,  -149.9782,       4365,    59.3,  -1.3869,  34.0109,2,  33.9874,2,    316.6,2,   317.4,2,   48.79,2,   26.67,2,    0.22,2,    1.88,2,   5.381,2,   2.956,2,   0.508,2,   1.9510,2,  2185.6,6,  2299.0,2,   7.6524,2,    25.00,-999.000,9,-999.0000,9,-999.000,9,  -1.3873,2, -999.00,9,  -999.0,9,  -999.0,-999.000,9, -999.00,9,-999.000,9, -999.00,9, -999.00,9, -68.9933,-149.9781,-999.000,     -999.0,    34.1477,2,     -999.0,9,     -999.0,9,-999.0000,9,-999.0000,9,-999.0000,9,-999.0000,9,-999.0000,9,-999.0000,9,-999.0000,9,-999.0000,9,-999.0000,9,-999.0000,-999.000,  -1.3882,     -999.0,     -999.0,9,     -999.0,9,     -999.0,9,     -999.0,9,     -999.0,20110312,       1253
320620110219,       P16S,      49,          2,         33,         33,2,20110312,       1105,   -68.9933,  -149.9782,       4365,    84.3,  -1.3511,  34.1447,2,  34.1486,2,    289.7,2,   290.4,2,   56.11,2,   29.05,2,    0.14,2,    2.00,2,   4.736,2,   2.583,2,   0.450,2,   1.8060,2,  2206.0,2,  2307.4,2,   7.6148,2,    25.00,-999.000,9,-999.0000,9,-999.000,9,  -1.3747,2, -999.00,9,  -999.0,9,  -999.0,-999.000,9, -999.00,9,-999.000,9, -999.00,9, -999.00,9, -68.9933,-149.9781,-999.000,     -999.0,    34.3097,2,     -999.0,9,     -999.0,9,-999.0000,9,-999.0000,9,-999.0000,9,-999.0000,9,-999.0000,9,-999.0000,9,-999.0000,9,-999.0000,9,-999.0000,9,-999.0000,-999.000,  -1.3531,     -999.0,     -999.0,9,     -999.0,9,     -999.0,9,     -999.0,9,     -999.0,20110312,       1251
320620110219,       P16S,      49,          2,         32,         32,2,20110312,       1105,   -68.9933,  -149.9782,       4365,   115.5,  -0.3663,  34.3140,2,  34.2923,2,    256.4,2,   256.7,2,   64.97,2,   30.78,2,    0.02,2,    2.10,2,   3.628,2,   1.976,2,   0.335,2,   1.2270,2,  2224.4,2,  2315.6,2,   7.5900,2,    25.00,-999.000,9,-999.0000,9,-999.000,9,  -0.3546,2, -999.00,9,  -999.0,9,  -999.0,-999.000,9, -999.00,9,-999.000,9, -999.00,9, -999.00,9, -68.9933,-149.9781,-999.000,     -999.0,    34.4541,2,     -999.0,9,     -999.0,9,-999.0000,9,-999.0000,9,-999.0000,9,-999.0000,9,-999.0000,9,-999.0000,9,-999.0000,9,-999.0000,9,-999.0000,9,-999.0000,-999.000,  -0.3700,     -999.0,     -999.0,9,     -999.0,9,     -999.0,9,     -999.0,9,     -999.0,20110312,       1250
320620110219,       P16S,      49,          2,         31,         31,2,20110312,       1105,   -68.9933,  -149.9782,       4365,   164.9,   0.7927,  34.5326,2,  34.5361,2,    206.2,2,   206.7,2,   80.73,2,   32.44,2,    0.01,2,    2.21,2,-999.000,9,-999.000,9,-999.000,9,-999.0000,9,  2248.0,2,  2331.3,2,   7.5647,2,    25.00,-999.000,9,-999.0000,9,-999.000,9,   0.7920,2, -999.00,9,  -999.0,9,  -999.0,-999.000,9, -999.00,9,-999.000,9, -999.00,9, -999.00,9, -68.9933,-149.9780,-999.000,     -999.0,    34.6990,2,     -999.0,9,     -999.0,9,-999.0000,9,-999.0000,9,-999.0000,9,-999.0000,9,-999.0000,9,-999.0000,9,-999.0000,9,-999.0000,9,-999.0000,9,-999.0000,-999.000,   0.7856,     -999.0,     -999.0,9,     -999.0,9,     -999.0,9,     -999.0,9,     -999.0,20110312,       1248
320620110219,       P16S,      49,          2,         30,         30,2,20110312,       1105,   -68.9933,  -149.9782,       4365,   214.5,   1.6113,  34.6814,2,  34.6830,2,    183.3,2,   182.9,2,   87.34,2,   32.58,2,    0.00,2,    2.21,2,   0.575,2,   0.301,2,   0.040,2,   0.0910,2,  2256.8,2,  2342.9,2,   7.5671,2,    25.00,-999.000,9,-999.0000,9,-999.000,9,   1.6111,2, -999.00,9,  -999.0,9,  -999.0,-999.000,9, -999.00,9,-999.000,9, -999.00,9, -999.00,9, -68.9933,-149.9780,-999.000,     -999.0,    34.8465,2,     -999.0,9,     -999.0,9,-999.0000,9,-999.0000,9,-999.0000,9,-999.0000,9,-999.0000,9,-999.0000,9,-999.0000,9,-999.0000,9,-999.0000,9,-999.0000,-999.000,   1.6004,     -999.0,     -999.0,9,     -999.0,9,     -999.0,9,     -999.0,9,     -999.0,20110312,       1246
320620110219,       P16S,      49,          2,         29,         29,2,20110312,       1105,   -68.9933,  -149.9782,       4365,   263.8,   1.5950,  34.7090,2,  34.7028,2,    184.0,2,   183.4,2,   89.91,2,   32.34,2,    0.00,2,    2.20,2,   0.437,2,   0.229,2,   0.034,2,   0.1050,2,  2257.2,2,  2346.3,2,   7.5725,2,    25.00,-999.000,9,-999.0000,9,-999.000,9,   1.5937,2, -999.00,9,  -999.0,9,  -999.0,-999.000,9, -999.00,9,-999.000,9, -999.00,9, -999.00,9, -68.9933,-149.9780,-999.000,     -999.0,    34.8664,2,     -999.0,9,     -999.0,9,-999.0000,9,-999.0000,9,-999.0000,9,-999.0000,9,-999.0000,9,-999.0000,9,-999.0000,9,-999.0000,9,-999.0000,9,-999.0000,-999.000,   1.5816,     -999.0,     -999.0,9,     -999.0,9,     -999.0,9,     -999.0,9,     -999.0,20110312,       1244
320620110219,       P16S,      49,          2,         28,         28,2,20110312,       1105,   -68.9933,  -149.9782,       4365,   314.6,   1.5678,  34.7241,2,  34.7230,2,    185.3,2,   185.7,2,   93.12,2,   31.83,2,    0.00,2,    2.18,2,   0.306,2,   0.157,2,   0.017,2,   0.0530,2,  2257.9,2,  2348.8,2,   7.5797,2,    25.00,-999.000,9,-999.0000,9,-999.000,9,   1.5683,2, -999.00,9,  -999.0,9,  -999.0,-999.000,9, -999.00,9,-999.000,9, -999.00,9, -999.00,9, -68.9933,-149.9780,-999.000,     -999.0,    34.8868,2,     -999.0,9,     -999.0,9,-999.0000,9,-999.0000,9,-999.0000,9,-999.0000,9,-999.0000,9,-999.0000,9,-999.0000,9,-999.0000,9,-999.0000,9,-999.0000,-999.000,   1.5517,     -999.0,     -999.0,9,     -999.0,9,     -999.0,9,     -999.0,9,     -999.0,20110312,       1243
320620110219,       P16S,      49,          2,         27,         27,2,20110312,       1105,   -68.9933,  -149.9782,       4365,   364.7,   1.5064,  34.7277,2,  34.7281,2,    186.6,2,   186.6,2,   95.60,2,   31.81,2,    0.00,2,    2.18,2,   0.269,2,   0.137,2,   0.017,2,   0.0770,2,  2258.6,2,  2350.9,2,   7.5822,2,    25.00,-999.000,9,-999.0000,9,-999.000,9,   1.5075,2, -999.00,9,  -999.0,9,  -999.0,-999.000,9, -999.00,9,-999.000,9, -999.00,9, -999.00,9, -68.9933,-149.9781,-999.000,     -999.0,    34.8919,2,     -999.0,9,     -999.0,9,-999.0000,9,-999.0000,9,-999.0000,9,-999.0000,9,-999.0000,9,-999.0000,9,-999.0000,9,-999.0000,9,-999.0000,9,-999.0000,-999.000,   1.4877,     -999.0,     -999.0,9,     -999.0,9,     -999.0,9,     -999.0,9,     -999.0,20110312,       1241
320620110219,       P16S,      49,          2,         26,         26,2,20110312,       1105,   -68.9933,  -149.9782,       4365,   414.0,   1.4345,  34.7274,2,  34.7267,2,    183.1,2,   183.4,2,   98.81,2,   32.18,2,    0.00,2,    2.21,2,   0.247,2,   0.121,2,   0.019,2,   0.0480,2,  2260.5,2,  2350.5,2,   7.5714,2,    25.00,-999.000,9,-999.0000,9,-999.000,9,   1.4343,2, -999.00,9,  -999.0,9,  -999.0,-999.000,9, -999.00,9,-999.000,9, -999.00,9, -999.00,9, -68.9933,-149.9780,-999.000,     -999.0,    34.8905,2,     -999.0,9,     -999.0,9,-999.0000,9,-999.0000,9,-999.0000,9,-999.0000,9,-999.0000,9,-999.0000,9,-999.0000,9,-999.0000,9,-999.0000,9,-999.0000,-999.000,   1.4134,     -999.0,     -999.0,9,     -999.0,9,     -999.0,9,     -999.0,9,     -999.0,20110312,       1239
320620110219,       P16S,      49,          2,         25,         25,2,20110312,       1105,   -68.9933,  -149.9782,       4365,   465.6,   1.4010,  34.7296,2,  34.7293,2,    186.8,2,   185.8,2,   99.87,2,   31.83,2,    0.00,2,    2.20,2,   0.220,2,   0.111,2,   0.013,2,   0.0520,2,  2259.5,2,  2353.1,2,   7.5783,2,    25.00,-999.000,9,-999.0000,9,-999.000,9,   1.4011,2, -999.00,9,  -999.0,9,  -999.0,-999.000,9, -999.00,9,-999.000,9, -999.00,9, -999.00,9, -68.9933,-149.9781,-999.000,     -999.0,    34.8931,2,     -999.0,9,     -999.0,9,-999.0000,9,-999.0000,9,-999.0000,9,-999.0000,9,-999.0000,9,-999.0000,9,-999.0000,9,-999.0000,9,-999.0000,9,-999.0000,-999.000,   1.3772,     -999.0,     -999.0,9,     -999.0,9,     -999.0,9,     -999.0,9,     -999.0,20110312,       1237
320620110219,       P16S,      49,          2,         24,         24,2,20110312,       1105,   -68.9933,  -149.9782,       4365,   533.2,   1.3407,  34.7298,2,  34.7293,2,    186.7,2,   186.7,2,  102.44,2,   31.91,2,    0.00,2,    2.20,2,   0.186,2,   0.093,2,   0.016,2,   0.0700,2,  2260.6,2,  2353.6,2,   7.5801,2,    25.00,-999.000,9,-999.0000,9,-999.000,9,   1.3406,2, -999.00,9,  -999.0,9,  -999.0,-999.000,9, -999.00,9,-999.000,9, -999.00,9, -999.00,9, -68.9933,-149.9780,-999.000,     -999.0,    34.8930,2,     -999.0,9,     -999.0,9,-999.0000,9,-999.0000,9,-999.0000,9,-999.0000,9,-999.0000,9,-999.0000,9,-999.0000,9,-999.0000,9,-999.0000,9,-999.0000,-999.000,   1.3134,     -999.0,     -999.0,9,     -999.0,9,     -999.0,9,     -999.0,9,     -999.0,20110312,       1235
320620110219,       P16S,      49,          2,         23,         23,2,20110312,       1105,   -68.9933,  -149.9782,       4365,   634.5,   1.2635,  34.7290,2,  34.7283,2,    186.4,2,   186.3,2,  105.91,2,   32.05,2,    0.00,2,    2.21,2,-999.000,9,-999.000,9,-999.000,9,-999.0000,9,  -999.0,9,  -999.0,9,-999.0000,9,  -999.00,-999.000,9,-999.0000,9,-999.000,9,   1.2641,2, -999.00,9,  -999.0,9,  -999.0,-999.000,9, -999.00,9,-999.000,9, -999.00,9, -999.00,9, -68.9933,-149.9781,-999.000,     -999.0,    34.8921,2,     -999.0,9,     -999.0,9,-999.0000,9,-999.0000,9,-999.0000,9,-999.0000,9,-999.0000,9,-999.0000,9,-999.0000,9,-999.0000,9,-999.0000,9,-999.0000,-999.000,   1.2309,     -999.0,     -999.0,9,     -999.0,9,     -999.0,9,     -999.0,9,     -999.0,20110312,       1232
320620110219,       P16S,      49,          2,         22,         22,2,20110312,       1105,   -68.9933,  -149.9782,       4365,   734.8,   1.1926,  34.7271,2,  34.7263,2,    189.3,2,   189.4,2,  107.95,2,   31.90,2,    0.00,2,    2.20,2,   0.141,2,   0.066,2,   0.006,2,   0.0440,2,  2261.8,2,  2356.4,2,   7.5856,4,    25.00,-999.000,9,-999.0000,9,-999.000,9,   1.1923,2, -999.00,9,  -999.0,9,  -999.0,-999.000,9, -999.00,9,-999.000,9, -999.00,9, -999.00,9, -68.9933,-149.9781,-999.000,     -999.0,    34.8901,2,     -999.0,9,     -999.0,9,-999.0000,9,-999.0000,9,-999.0000,9,-999.0000,9,-999.0000,9,-999.0000,9,-999.0000,9,-999.0000,9,-999.0000,9,-999.0000,-999.000,   1.1546,     -999.0,     -999.0,9,     -999.0,9,     -999.0,9,     -999.0,9,     -999.0,20110312,       1230
320620110219,       P16S,      49,          2,         21,         21,2,20110312,       1105,   -68.9933,  -149.9782,       4365,   833.7,   1.1233,  34.7250,2,  34.7244,2,    190.7,2,   190.2,2,  110.36,2,   31.95,2,    0.00,2,    2.20,2,-999.000,9,-999.000,9,-999.000,9,-999.0000,9,  -999.0,9,  -999.0,9,-999.0000,9,  -999.00,-999.000,9,-999.0000,9,-999.000,9,   1.1231,2, -999.00,9,  -999.0,9,  -999.0,-999.000,9, -999.00,9,-999.000,9, -999.00,9, -999.00,9, -68.9933,-149.9781,-999.000,     -999.0,    34.8881,2,     -999.0,9,     -999.0,9,-999.0000,9,-999.0000,9,-999.0000,9,-999.0000,9,-999.0000,9,-999.0000,9,-999.0000,9,-999.0000,9,-999.0000,9,-999.0000,-999.000,   1.0799,     -999.0,     -999.0,9,     -999.0,9,     -999.0,9,     -999.0,9,     -999.0,20110312,       1227
320620110219,       P16S,      49,          2,         20,         20,2,20110312,       1105,   -68.9933,  -149.9782,       4365,   935.8,   1.0534,  34.7224,2,  34.7216,2,    193.7,2,   195.0,2,  111.70,2,   31.69,2,    0.00,2,    2.19,2,   0.112,2,   0.055,2,   0.005,2,   0.0510,2,  -999.0,9,  -999.0,9,-999.0000,9,  -999.00,-999.000,9,-999.0000,9,-999.000,9,   1.0537,2, -999.00,9,  -999.0,9,  -999.0,-999.000,9, -999.00,9,-999.000,9, -999.00,9, -999.00,9, -68.9933,-149.9781,-999.000,     -999.0,    34.8853,2,     -999.0,9,     -999.0,9,-999.0000,9,-999.0000,9,-999.0000,9,-999.0000,9,-999.0000,9,-999.0000,9,-999.0000,9,-999.0000,9,-999.0000,9,-999.0000,-999.000,   1.0045,     -999.0,     -999.0,9,     -999.0,9,     -999.0,9,     -999.0,9,     -999.0,20110312,       1224
320620110219,       P16S,      49,          2,         19,         19,2,20110312,       1105,   -68.9933,  -149.9782,       4365,  1035.1,   0.9958,  34.7201,2,  34.7198,2,    195.8,2,   195.8,2,  113.68,2,   31.74,2,    0.00,2,    2.20,2,-999.000,9,-999.000,9,-999.000,9,-999.0000,9,  -999.0,9,  -999.0,9,-999.0000,9,  -999.00,-999.000,9,-999.0000,9,-999.000,9,   0.9957,2, -999.00,9,  -999.0,9,  -999.0,-999.000,9, -999.00,9,-999.000,9, -999.00,9, -999.00,9, -68.9933,-149.9780,-999.000,     -999.0,    34.8836,2,     -999.0,9,     -999.0,9,-999.0000,9,-999.0000,9,-999.0000,9,-999.0000,9,-999.0000,9,-999.0000,9,-999.0000,9,-999.0000,9,-999.0000,9,-999.0000,-999.000,   0.9413,     -999.0,     -999.0,9,     -999.0,9,     -999.0,9,     -999.0,9,     -999.0,20110312,       1222
320620110219,       P16S,      49,          2,         18,         18,2,20110312,       1105,   -68.9933,  -149.9782,       4365,  1135.6,   0.9383,  34.7179,2,  34.7173,2,    196.9,2,   196.6,2,  115.18,2,   31.73,2,    0.00,2,    2.20,2,   0.100,2,   0.053,2,   0.007,2,   0.0490,2,  2261.9,2,  2358.5,2,   7.5908,2,    25.00,-999.000,9,-999.0000,9,-999.000,9,   0.9389,2, -999.00,9,  -999.0,9,  -999.0,-999.000,9, -999.00,9,-999.000,9, -999.00,9, -999.00,9, -68.9933,-149.9781,-999.000,     -999.0,    34.8810,2,     -999.0,9,     -999.0,9,-999.0000,9,-999.0000,9,-999.0000,9,-999.0000,9,-999.0000,9,-999.0000,9,-999.0000,9,-999.0000,9,-999.0000,9,-999.0000,-999.000,   0.8780,     -999.0,     -999.0,9,     -999.0,9,     -999.0,9,     -999.0,9,     -999.0,20110312,       1219
320620110219,       P16S,      49,          2,         17,         17,2,20110312,       1105,   -68.9933,  -149.9782,       4365,  1235.4,   0.8873,  34.7159,2,  34.7155,2,    198.7,2,   198.1,2,  117.38,2,   31.67,2,    0.00,2,    2.20,2,-999.000,9,-999.000,9,-999.000,9,-999.0000,9,  -999.0,9,  -999.0,9,-999.0000,9,  -999.00,-999.000,9,-999.0000,9,-999.000,9,   0.8878,2, -999.00,9,  -999.0,9,  -999.0,-999.000,9, -999.00,9,-999.000,9, -999.00,9, -999.00,9, -68.9933,-149.9781,-999.000,     -999.0,    34.8792,2,     -999.0,9,     -999.0,9,-999.0000,9,-999.0000,9,-999.0000,9,-999.0000,9,-999.0000,9,-999.0000,9,-999.0000,9,-999.0000,9,-999.0000,9,-999.0000,-999.000,   0.8212,     -999.0,     -999.0,9,     -999.0,9,     -999.0,9,     -999.0,9,     -999.0,20110312,       1216
320620110219,       P16S,      49,          2,         16,         16,2,20110312,       1105,   -68.9933,  -149.9782,       4365,  1334.7,   0.8378,  34.7141,2,  34.7135,2,    199.9,2,   200.0,2,  119.11,2,   31.59,2,    0.00,2,    2.21,2,   0.099,2,   0.050,2,   0.007,2,   0.0630,2,  -999.0,9,  -999.0,9,-999.0000,9,  -999.00,-999.000,9,-999.0000,9,-999.000,9,   0.8384,2, -999.00,9,  -999.0,9,  -999.0,-999.000,9, -999.00,9,-999.000,9, -999.00,9, -999.00,9, -68.9933,-149.9781,-999.000,     -999.0,    34.8772,2,     -999.0,9,     -999.0,9,-999.0000,9,-999.0000,9,-999.0000,9,-999.0000,9,-999.0000,9,-999.0000,9,-999.0000,9,-999.0000,9,-999.0000,9,-999.0000,-999.000,   0.7658,     -999.0,     -999.0,9,     -999.0,9,     -999.0,9,     -999.0,9,     -999.0,20110312,       1213
320620110219,       P16S,      49,          2,         15,         15,2,20110312,       1105,   -68.9933,  -149.9782,       4365,  1434.9,   0.7922,  34.7121,2,  34.7114,2,    201.1,2,   200.4,2,  120.18,2,   31.75,2,    0.00,2,    2.21,2,-999.000,9,-999.000,9,-999.000,9,-999.0000,9,  -999.0,9,  -999.0,9,-999.0000,9,  -999.00,-999.000,9,-999.0000,9,-999.000,9,   0.7927,2, -999.00,9,  -999.0,9,  -999.0,-999.000,9, -999.00,9,-999.000,9, -999.00,9, -999.00,9, -68.9933,-149.9780,-999.000,     -999.0,    34.8751,2,     -999.0,9,     -999.0,9,-999.0000,9,-999.0000,9,-999.0000,9,-999.0000,9,-999.0000,9,-999.0000,9,-999.0000,9,-999.0000,9,-999.0000,9,-999.0000,-999.000,   0.7141,     -999.0,     -999.0,9,     -999.0,9,     -999.0,9,     -999.0,9,     -999.0,20110312,       1211
320620110219,       P16S,      49,          2,         14,         14,2,20110312,       1105,   -68.9933,  -149.9782,       4365,  1534.3,   0.7584,  34.7108,2,  34.7104,2,    202.0,2,   201.6,2,  121.29,2,   31.74,2,    0.00,2,    2.21,2,   0.118,2,   0.052,2,   0.009,2,   0.0620,2,  2261.4,2,  2359.8,2,   7.5930,2,    25.00,-999.000,9,-999.0000,9,-999.000,9,   0.7579,2, -999.00,9,  -999.0,9,  -999.0,-999.000,9, -999.00,9,-999.000,9, -999.00,9, -999.00,9, -68.9933,-149.9782,-999.000,     -999.0,    34.8741,2,     -999.0,9,     -999.0,9,-999.0000,9,-999.0000,9,-999.0000,9,-999.0000,9,-999.0000,9,-999.0000,9,-999.0000,9,-999.0000,9,-999.0000,9,-999.0000,-999.000,   0.6740,     -999.0,     -999.0,9,     -999.0,9,     -999.0,9,     -999.0,9,     -999.0,20110312,       1208