BOTTLE,20220813CCHSIOAMB
EXPOCODE,SECT_ID,STNNBR,CASTNO,SAMPNO,BTLNBR,BTLNBR_FLAG_W,DATE,TIME,LATITUDE,LONGITUDE,DEPTH,CTDPRS,CTDTMP,CTDSAL,CTDSAL_FLAG_W,SALNTY,SALNTY_FLAG_W,CTDOXY,CTDOXY_FLAG_W,OXYGEN,OXYGEN_FLAG_W,SILCAT,SILCAT_FLAG_W,NITRAT,NITRAT_FLAG_W,NITRIT,NITRIT_FLAG_W,PHSPHT,PHSPHT_FLAG_W,CFC-11,CFC-11_FLAG_W,CFC-12,CFC-12_FLAG_W,CFC113,CFC113_FLAG_W,SF6,SF6_FLAG_W,TCARBN,TCARBN_FLAG_W,ALKALI,ALKALI_FLAG_W,PH_TOT,PH_TOT_FLAG_W,PH_TMP,TRITUM,TRITUM_FLAG_W,HELIUM,HELIUM_FLAG_W,DELHE3,DELHE3_FLAG_W,REFTMP,REFTMP_FLAG_W,DELC13,DELC13_FLAG_W,DELC14,DELC14_FLAG_W,C14ERR,NEON,NEON_FLAG_W,DELO18,DELO18_FLAG_W,POC,POC_FLAG_W,DOC,DOC_FLAG_W,TDN,TDN_FLAG_W,BTL_LAT,BTL_LON,TRITER,NEONER,SALTREF,SALTREF_FLAG_W,PIGMENTS,PIGMENTS_FLAG_W,LAB_DEN,LAB_DEN_FLAG_W,CDOM325,CDOM325_FLAG_W,CDOM340,CDOM340_FLAG_W,CDOM380,CDOM380_FLAG_W,CDOM412,CDOM412_FLAG_W,CDOM443,CDOM443_FLAG_W,CDOM490,CDOM490_FLAG_W,CDOM555,CDOM555_FLAG_W,CDOMSL,CDOMSL_FLAG_W,CDOMSN,CDOMSN_FLAG_W,HELIER,DELHER,THETA,LDEO_SAMPNO,ABSORBTION,ABSORBTION_FLAG_W,IMAGE_COUNT,IMAGE_COUNT_FLAG_W,CYTO_COUNT,CYTO_COUNT_FLAG_W,DELD,DELD_FLAG_W,DELDERR,BTL_DATE,BTL_TIME
,,,,,,,,,,,METERS,DBAR,ITS-90,PSS-78,,PSS-78,,UMOL/KG,,UMOL/KG,,UMOL/KG,,UMOL/KG,,UMOL/KG,,UMOL/KG,,PMOL/KG,,PMOL/KG,,PMOL/KG,,FMOL/KG,,UMOL/KG,,UMOL/KG,,,,DEG C,TU,,NMOL/KG,,PERCNT,,DEG C,,/MILLE,,/MILLE,,/MILLE,NMOL/KG,,/MILLE,,UG/KG,,UMOL/KG,,UMOL/KG,,,,TU,NMOL/KG,G/KG,,,,,,1/M,,1/M,,1/M,,1/M,,1/M,,1/M,,1/M,,1/NM,,1/NM,,NMOL/KG,PERCNT,DEG C,,,,,,,,/MILLE,,/MILLE,,
320620110219,       S04P,       9,          1,         13,         13,2,20110224,       0209,   -69.6661,   169.9073,       2747,  1300.1,   0.5335,  34.6928,2,  34.6907,2,    210.9,2,   209.9,2,  114.89,2,   32.11,2,    0.00,2,    2.17,2,   0.641,2,   0.315,2,   0.061,2,   0.2290,2,  2259.5,2,  2357.3,6,   7.5845,2,    25.00,-999.000,9,-999.0000,9,-999.000,9,   0.5350,2, -999.00,9,  -999.0,9,  -999.0,-999.000,9, -999.00,9,-999.000,9, -999.00,9, -999.00,9, -69.6661, 169.9073,-999.000,     -999.0,    34.8543,2,     -999.0,9,     -999.0,9,-999.0000,9,-999.0000,9,-999.0000,9,-999.0000,9,-999.0000,9,-999.0000,9,-999.0000,9,-999.0000,9,-999.0000,9,-999.0000,-999.000,   0.4670,     -999.0,     -999.0,9,     -999.0,9,     -999.0,9,     -999.0,9,     -999.0,20110224,       0253
320620110219,       S04P,       9,          1,         12,         12,2,20110224,       0209,   -69.6661,   169.9073,       2747,  1400.3,   0.4607,  34.6881,2,  34.6882,2,    211.2,2,   212.2,2,  113.37,2,   31.92,2,    0.00,2,    2.18,2,-999.000,9,-999.000,9,-999.000,9,-999.0000,9,  -999.0,9,  -999.0,9,-999.0000,9,  -999.00,-999.000,9,-999.0000,9,-999.000,9,   0.4607,2, -999.00,9,  -999.0,9,  -999.0,-999.000,9, -999.00,9,-999.000,9, -999.00,9, -999.00,9, -69.6661, 169.9073,-999.000,     -999.0,    34.8517,2,     -999.0,9,     -999.0,9,-999.0000,9,-999.0000,9,-999.0000,9,-999.0000,9,-999.0000,9,-999.0000,9,-999.0000,9,-999.0000,9,-999.0000,9,-999.0000,-999.000,   0.3887,     -999.0,     -999.0,9,     -999.0,9,     -999.0,9,     -999.0,9,     -999.0,20110224,       0250
320620110219,       S04P,       9,          1,         11,         11,2,20110224,       0209,   -69.6661,   169.9073,       2747,  1498.8,   0.3919,  34.6846,2,  34.6848,2,    214.6,2,   214.4,2,  112.30,2,   32.07,2,    0.00,2,    2.17,2,   0.904,2,   0.457,2,   0.079,2,   0.2550,2,  2260.1,2,  2351.6,4,   7.5840,2,    25.00,-999.000,9,-999.0000,9,-999.000,9,   0.3920,2, -999.00,9,  -999.0,9,  -999.0,-999.000,9, -999.00,9,-999.000,9, -999.00,9, -999.00,9, -69.6660, 169.9073,-999.000,     -999.0,    34.8484,2,     -999.0,9,     -999.0,9,-999.0000,9,-999.0000,9,-999.0000,9,-999.0000,9,-999.0000,9,-999.0000,9,-999.0000,9,-999.0000,9,-999.0000,9,-999.0000,-999.000,   0.3144,     -999.0,     -999.0,9,     -999.0,9,     -999.0,9,     -999.0,9,     -999.0,20110224,       0247
320620110219,       S04P,       9,          1,         10,         10,2,20110224,       0209,   -69.6661,   169.9073,       2747,  1599.6,   0.2948,  34.6772,2,  34.6854,3,    217.5,2,   217.6,2,  108.61,2,   31.80,2,    0.00,2,    2.16,2,-999.000,9,-999.000,9,-999.000,9,-999.0000,9,  -999.0,9,  -999.0,9,-999.0000,9,  -999.00,-999.000,9,-999.0000,9,-999.000,9,   0.2942,2, -999.00,9,  -999.0,9,  -999.0,-999.000,9, -999.00,9,-999.000,9, -999.00,9, -999.00,9, -69.6660, 169.9073,-999.000,     -999.0,    34.8490,3,     -999.0,9,     -999.0,9,-999.0000,9,-999.0000,9,-999.0000,9,-999.0000,9,-999.0000,9,-999.0000,9,-999.0000,9,-999.0000,9,-999.0000,9,-999.0000,-999.000,   0.2119,     -999.0,     -999.0,9,     -999.0,9,     -999.0,9,     -999.0,9,     -999.0,20110224,       0244
320620110219,       S04P,       9,          1,          9,          9,2,20110224,       0209,   -69.6661,   169.9073,       2747,  1700.5,   0.2616,  34.6774,2,  34.6772,2,    218.3,2,   218.6,2,  108.49,2,   32.00,2,    0.00,2,    2.16,2,   1.244,2,   0.649,2,   0.112,2,   0.4480,2,  -999.0,9,  -999.0,9,-999.0000,9,  -999.00,-999.000,9,-999.0000,9,-999.000,9,   0.2635,2, -999.00,9,  -999.0,9,  -999.0,-999.000,9, -999.00,9,-999.000,9, -999.00,9, -999.00,9, -69.6660, 169.9074,-999.000,     -999.0,    34.8407,2,     -999.0,9,     -999.0,9,-999.0000,9,-999.0000,9,-999.0000,9,-999.0000,9,-999.0000,9,-999.0000,9,-999.0000,9,-999.0000,9,-999.0000,9,-999.0000,-999.000,   0.1725,     -999.0,     -999.0,9,     -999.0,9,     -999.0,9,     -999.0,9,     -999.0,20110224,       0241
320620110219,       S04P,       9,          1,          8,          8,2,20110224,       0209,   -69.6661,   169.9073,       2747,  1800.6,   0.2377,  34.6782,2,  34.6778,2,    221.6,2,   219.0,2,  110.61,2,   31.88,2,    0.00,2,    2.16,2,-999.000,9,-999.000,9,-999.000,9,-999.0000,9,  2258.4,2,  2354.0,2,   7.5841,2,    25.00,-999.000,9,-999.0000,9,-999.000,9,   0.2375,2, -999.00,9,  -999.0,9,  -999.0,-999.000,9, -999.00,9,-999.000,9, -999.00,9, -999.00,9, -69.6660, 169.9073,-999.000,     -999.0,    34.8413,2,     -999.0,9,     -999.0,9,-999.0000,9,-999.0000,9,-999.0000,9,-999.0000,9,-999.0000,9,-999.0000,9,-999.0000,9,-999.0000,9,-999.0000,9,-999.0000,-999.000,   0.1422,     -999.0,     -999.0,9,     -999.0,9,     -999.0,9,     -999.0,9,     -999.0,20110224,       0238
320620110219,       S04P,       9,          1,          7,          7,2,20110224,       0209,   -69.6661,   169.9073,       2747,  1900.5,   0.2118,  34.6791,2,  34.6789,2,    222.6,2,   219.7,2,  111.78,2,   32.15,2,    0.00,2,    2.17,2,   1.183,2,   0.611,2,   0.105,2,   0.3870,2,  -999.0,9,  -999.0,9,-999.0000,9,  -999.00,-999.000,9,-999.0000,9,-999.000,9,   0.2119,2, -999.00,9,  -999.0,9,  -999.0,-999.000,9, -999.00,9,-999.000,9, -999.00,9, -999.00,9, -69.6660, 169.9074,-999.000,     -999.0,    34.8425,2,     -999.0,9,     -999.0,9,-999.0000,9,-999.0000,9,-999.0000,9,-999.0000,9,-999.0000,9,-999.0000,9,-999.0000,9,-999.0000,9,-999.0000,9,-999.0000,-999.000,   0.1097,     -999.0,     -999.0,9,     -999.0,9,     -999.0,9,     -999.0,9,     -999.0,20110224,       0235
320620110219,       S04P,       9,          1,          6,          6,2,20110224,       0209,   -69.6661,   169.9073,       2747,  2001.4,   0.1714,  34.6781,2,  34.6786,2,    221.9,2,   216.3,3,  111.41,2,   31.77,2,    0.00,2,    2.17,2,-999.000,9,-999.000,9,-999.000,9,-999.0000,9,  -999.0,9,  -999.0,9,-999.0000,9,  -999.00,-999.000,9,-999.0000,9,-999.000,9,   0.1714,2, -999.00,9,  -999.0,9,  -999.0,-999.000,9, -999.00,9,-999.000,9, -999.00,9, -999.00,9, -69.6660, 169.9074,-999.000,     -999.0,    34.8421,2,     -999.0,9,     -999.0,9,-999.0000,9,-999.0000,9,-999.0000,9,-999.0000,9,-999.0000,9,-999.0000,9,-999.0000,9,-999.0000,9,-999.0000,9,-999.0000,-999.000,   0.0629,     -999.0,     -999.0,9,     -999.0,9,     -999.0,9,     -999.0,9,     -999.0,20110224,       0232
320620110219,       S04P,       9,          1,          5,          5,2,20110224,       0209,   -69.6661,   169.9073,       2747,  2200.4,   0.0647,  34.6717,2,  34.6717,2,    224.8,2,   224.9,2,  107.10,2,   31.77,2,    0.00,2,    2.16,2,   1.558,2,   0.826,2,   0.140,2,   0.6010,2,  2257.3,2,  2353.1,2,   7.5963,2,    25.00,-999.000,9,-999.0000,9,-999.000,9,   0.0647,2, -999.00,9,  -999.0,9,  -999.0,-999.000,9, -999.00,9,-999.000,9, -999.00,9, -999.00,9, -69.6660, 169.9073,-999.000,     -999.0,    34.8352,2,     -999.0,9,     -999.0,9,-999.0000,9,-999.0000,9,-999.0000,9,-999.0000,9,-999.0000,9,-999.0000,9,-999.0000,9,-999.0000,9,-999.0000,9,-999.0000,-999.000,  -0.0564,     -999.0,     -999.0,9,     -999.0,9,     -999.0,9,     -999.0,9,     -999.0,20110224,       0227
320620110219,       S04P,       9,          1,          4,          4,2,20110224,       0209,   -69.6661,   169.9073,       2747,  2399.0,  -0.0705,  34.6668,2,  34.6654,2,    231.3,2,   231.8,2,  100.31,2,   31.74,2,    0.00,2,    2.18,2,   2.003,2,   1.076,2,   0.192,2,   0.7340,2,  -999.0,9,  -999.0,9,-999.0000,9,  -999.00,-999.000,9,-999.0000,9,-999.000,9,  -0.0709,2, -999.00,9,  -999.0,9,  -999.0,-999.000,9, -999.00,9,-999.000,9, -999.00,9, -999.00,9, -69.6660, 169.9073,-999.000,     -999.0,    34.8289,2,     -999.0,9,     -999.0,9,-999.0000,9,-999.0000,9,-999.0000,9,-999.0000,9,-999.0000,9,-999.0000,9,-999.0000,9,-999.0000,9,-999.0000,9,-999.0000,-999.000,  -0.2040,     -999.0,     -999.0,9,     -999.0,9,     -999.0,9,     -999.0,9,     -999.0,20110224,       0222
320620110219,       S04P,       9,          1,          3,          3,2,20110224,       0209,   -69.6661,   169.9073,       2747,  2599.1,  -0.1518,  34.6678,2,  34.6682,2,    234.1,2,   243.2,4,   98.20,2,   31.54,2,    0.00,2,    2.16,2,   2.184,2,   1.174,2,   0.200,2,   0.7600,2,  2253.6,2,  2346.5,6,   7.5972,4,    25.00,-999.000,9,-999.0000,9,-999.000,9,  -0.1522,2, -999.00,9,  -999.0,9,  -999.0,-999.000,9, -999.00,9,-999.000,9, -999.00,9, -999.00,9, -69.6660, 169.9073,-999.000,     -999.0,    34.8316,2,     -999.0,9,     -999.0,9,-999.0000,9,-999.0000,9,-999.0000,9,-999.0000,9,-999.0000,9,-999.0000,9,-999.0000,9,-999.0000,9,-999.0000,9,-999.0000,-999.000,  -0.2992,     -999.0,     -999.0,9,     -999.0,9,     -999.0,9,     -999.0,9,     -999.0,20110224,       0216
320620110219,       S04P,       9,          1,          2,          2,2,20110224,       0209,   -69.6661,   169.9073,       2747,  2739.0,  -0.3637,  34.6650,2,  34.6654,2,    240.7,2,   242.8,2,   95.53,2,   31.20,2,    0.00,2,    2.12,2,   2.577,2,   1.386,2,   0.236,2,   1.0050,2,  2251.9,2,  2345.6,2,   7.5953,4,    25.00,-999.000,9,-999.0000,9,-999.000,9,  -0.3631,2, -999.00,9,  -999.0,9,  -999.0,-999.000,9, -999.00,9,-999.000,9, -999.00,9, -999.00,9, -69.6660, 169.9073,-999.000,     -999.0,    34.8289,2,     -999.0,9,     -999.0,9,-999.0000,9,-999.0000,9,-999.0000,9,-999.0000,9,-999.0000,9,-999.0000,9,-999.0000,9,-999.0000,9,-999.0000,9,-999.0000,-999.000,  -0.5177,     -999.0,     -999.0,9,     -999.0,9,     -999.0,9,     -999.0,9,     -999.0,20110224,       0212
320620110219,       S04P,       9,          1,          1,          1,2,20110224,       0209,   -69.6661,   169.9073,       2747,  2783.2,  -0.5158,  34.6599,2,  34.6599,2,    249.2,2,   249.7,2,   91.95,2,   31.01,2,    0.00,2,    2.10,2,   2.900,2,   1.549,2,   0.275,2,   1.1760,2,  2251.2,6,  2346.5,2,   7.5991,4,    25.00,-999.000,9,-999.0000,9,-999.000,9,  -0.5170,2, -999.00,9,  -999.0,9,  -999.0,-999.000,9, -999.00,9,-999.000,9, -999.00,9, -999.00,9, -69.6660, 169.9073,-999.000,     -999.0,    34.8234,2,     -999.0,9,     -999.0,9,-999.0000,9,-999.0000,9,-999.0000,9,-999.0000,9,-999.0000,9,-999.0000,9,-999.0000,9,-999.0000,9,-999.0000,9,-999.0000,-999.000,  -0.6701,     -999.0,     -999.0,9,     -999.0,9,     -999.0,9,     -999.0,9,     -999.0,20110224,       0209