BOTTLE,20220813CCHSIOAMB
EXPOCODE,SECT_ID,STNNBR,CASTNO,SAMPNO,BTLNBR,BTLNBR_FLAG_W,DATE,TIME,LATITUDE,LONGITUDE,DEPTH,CTDPRS,CTDTMP,CTDSAL,CTDSAL_FLAG_W,SALNTY,SALNTY_FLAG_W,CTDOXY,CTDOXY_FLAG_W,OXYGEN,OXYGEN_FLAG_W,SILCAT,SILCAT_FLAG_W,NITRAT,NITRAT_FLAG_W,NITRIT,NITRIT_FLAG_W,PHSPHT,PHSPHT_FLAG_W,CFC-11,CFC-11_FLAG_W,CFC-12,CFC-12_FLAG_W,CFC113,CFC113_FLAG_W,SF6,SF6_FLAG_W,TCARBN,TCARBN_FLAG_W,ALKALI,ALKALI_FLAG_W,PH_TOT,PH_TOT_FLAG_W,PH_TMP,TRITUM,TRITUM_FLAG_W,HELIUM,HELIUM_FLAG_W,DELHE3,DELHE3_FLAG_W,REFTMP,REFTMP_FLAG_W,DELC13,DELC13_FLAG_W,DELC14,DELC14_FLAG_W,C14ERR,NEON,NEON_FLAG_W,DELO18,DELO18_FLAG_W,POC,POC_FLAG_W,DOC,DOC_FLAG_W,TDN,TDN_FLAG_W,BTL_LAT,BTL_LON,TRITER,NEONER,SALTREF,SALTREF_FLAG_W,PIGMENTS,PIGMENTS_FLAG_W,LAB_DEN,LAB_DEN_FLAG_W,CDOM325,CDOM325_FLAG_W,CDOM340,CDOM340_FLAG_W,CDOM380,CDOM380_FLAG_W,CDOM412,CDOM412_FLAG_W,CDOM443,CDOM443_FLAG_W,CDOM490,CDOM490_FLAG_W,CDOM555,CDOM555_FLAG_W,CDOMSL,CDOMSL_FLAG_W,CDOMSN,CDOMSN_FLAG_W,HELIER,DELHER,THETA,LDEO_SAMPNO,ABSORBTION,ABSORBTION_FLAG_W,IMAGE_COUNT,IMAGE_COUNT_FLAG_W,CYTO_COUNT,CYTO_COUNT_FLAG_W,DELD,DELD_FLAG_W,DELDERR,BTL_DATE,BTL_TIME
,,,,,,,,,,,METERS,DBAR,ITS-90,PSS-78,,PSS-78,,UMOL/KG,,UMOL/KG,,UMOL/KG,,UMOL/KG,,UMOL/KG,,UMOL/KG,,PMOL/KG,,PMOL/KG,,PMOL/KG,,FMOL/KG,,UMOL/KG,,UMOL/KG,,,,DEG C,TU,,NMOL/KG,,PERCNT,,DEG C,,/MILLE,,/MILLE,,/MILLE,NMOL/KG,,/MILLE,,UG/KG,,UMOL/KG,,UMOL/KG,,,,TU,NMOL/KG,G/KG,,,,,,1/M,,1/M,,1/M,,1/M,,1/M,,1/M,,1/M,,1/NM,,1/NM,,NMOL/KG,PERCNT,DEG C,,,,,,,,/MILLE,,/MILLE,,
320620110219,       S04P,     128,          2,         36,         36,2,20110416,       1731,   -67.0001,   -80.3578,       4130,     2.0,  -0.3799,  33.6420,2,  33.6425,2,    336.7,3,   341.3,2,   18.09,2,   22.86,2,    0.19,2,    1.57,2,   5.977,2,   3.273,2,   0.638,2,   2.7110,2,  2143.0,6,  2275.7,2,   7.7105,2,    25.00,-999.000,9,-999.0000,9,-999.000,9,  -0.3800,2, -999.00,9,  -999.0,9,  -999.0,-999.000,9, -999.00,9,-999.000,9, -999.00,9, -999.00,9, -67.0001, -80.3578,-999.000,     -999.0,    33.8011,2,     -999.0,9,     -999.0,9,   0.0756,2,   0.0396,3,  -0.0002,4,  -0.0084,4,  -0.0160,4,  -0.0128,4,  -0.0129,4,   0.0650,4,   0.0493,4,-999.0000,-999.000,  -0.3800,     -999.0,     -999.0,9,     -999.0,9,     -999.0,9,     -999.0,9,     -999.0,20110416,       1915
320620110219,       S04P,     128,          2,         35,         35,2,20110416,       1731,   -67.0001,   -80.3578,       4130,    25.1,  -0.3824,  33.6425,2,  33.6423,2,    341.6,2,   341.3,2,   18.14,2,   22.78,2,    0.19,2,    1.57,2,   6.006,2,   3.271,2,   0.640,2,   2.7360,2,  2143.1,2,  -999.0,9,   7.7102,6,    25.00,-999.000,9,-999.0000,9,-999.000,9,  -0.3822,2, -999.00,9,  -999.0,9,  -999.0,-999.000,9, -999.00,9,-999.000,9, -999.00,9, -999.00,9, -67.0001, -80.3578,-999.000,     -999.0,    33.8009,2,     -999.0,9,     -999.0,9,   0.0830,2,   0.0467,2,   0.0068,3,  -0.0018,4,  -0.0103,4,  -0.0108,4,  -0.0124,4,   0.0577,4,   0.0417,4,-999.0000,-999.000,  -0.3832,     -999.0,     -999.0,9,     -999.0,9,     -999.0,9,     -999.0,9,     -999.0,20110416,       1914
320620110219,       S04P,     128,          2,         34,         34,2,20110416,       1731,   -67.0001,   -80.3578,       4130,    50.2,  -0.3841,  33.6428,2,  33.6421,2,    341.4,2,   341.2,2,   18.20,2,   22.74,2,    0.19,2,    1.58,2,   5.997,2,   3.307,2,   0.647,2,   2.7120,2,  2143.3,2,  2276.1,2,   7.7096,2,    25.00,-999.000,9,-999.0000,9,-999.000,9,  -0.3837,2, -999.00,9,  -999.0,9,  -999.0,-999.000,9, -999.00,9,-999.000,9, -999.00,9, -999.00,9, -67.0001, -80.3578,-999.000,     -999.0,    33.8007,2,     -999.0,9,     -999.0,9,   0.0723,2,   0.0360,3,  -0.0004,4,  -0.0065,4,  -0.0143,4,  -0.0117,4,  -0.0124,4,   0.0749,4,   0.0542,4,-999.0000,-999.000,  -0.3856,     -999.0,     -999.0,9,     -999.0,9,     -999.0,9,     -999.0,9,     -999.0,20110416,       1913
320620110219,       S04P,     128,          2,         33,         33,2,20110416,       1731,   -67.0001,   -80.3578,       4130,    74.9,  -0.3845,  33.6428,2,  33.6426,2,    341.2,2,   341.3,2,   18.17,2,   22.71,2,    0.19,2,    1.59,2,   5.991,2,   3.276,2,   0.639,2,   2.7450,2,  2143.7,2,  -999.0,9,   7.7118,2,    25.00,-999.000,9,-999.0000,9,-999.000,9,  -0.3847,2, -999.00,9,  -999.0,9,  -999.0,-999.000,9, -999.00,9,-999.000,9, -999.00,9, -999.00,9, -67.0001, -80.3578,-999.000,     -999.0,    33.8013,2,     -999.0,1,     -999.0,9,   0.0623,3,   0.0274,3,  -0.0064,4,  -0.0109,4,  -0.0174,4,  -0.0135,4,  -0.0131,4,   0.0823,4,   0.0643,4,-999.0000,-999.000,  -0.3868,     -999.0,     -999.0,9,     -999.0,9,     -999.0,9,     -999.0,9,     -999.0,20110416,       1911
320620110219,       S04P,     128,          2,         32,         32,2,20110416,       1731,   -67.0001,   -80.3578,       4130,   100.3,  -1.5815,  33.9754,2,  33.9749,2,    300.6,2,   300.1,2,   52.03,2,   29.41,2,    0.22,2,    2.20,2,   5.081,2,   2.808,2,   0.546,2,   2.1040,2,  2194.0,2,  2294.1,2,   7.6112,2,    25.00,-999.000,9,-999.0000,9,-999.000,9,  -1.5779,2, -999.00,9,  -999.0,9,  -999.0,-999.000,9, -999.00,9,-999.000,9, -999.00,9, -999.00,9, -67.0001, -80.3578,-999.000,     -999.0,    34.1351,2,     -999.0,9,     -999.0,9,   0.0691,3,   0.0319,3,  -0.0046,4,  -0.0090,4,  -0.0164,4,  -0.0135,4,  -0.0132,4,   0.0723,4,   0.0592,4,-999.0000,-999.000,  -1.5836,     -999.0,     -999.0,9,     -999.0,9,     -999.0,9,     -999.0,9,     -999.0,20110416,       1910
320620110219,       S04P,     128,          2,         31,         31,2,20110416,       1731,   -67.0001,   -80.3578,       4130,   125.5,  -0.8550,  34.1030,2,  34.1009,2,    272.0,2,   272.9,2,   56.16,2,   31.08,2,    0.29,2,    2.28,2,   4.421,2,   2.452,2,   0.466,2,   1.7450,2,  2210.3,2,  -999.0,9,   7.5837,2,    25.00,-999.000,9,-999.0000,9,-999.000,9,  -0.8520,2, -999.00,9,  -999.0,9,  -999.0,-999.000,9, -999.00,9,-999.000,9, -999.00,9, -999.00,9, -67.0001, -80.3578,-999.000,     -999.0,    34.2617,2,     -999.0,9,     -999.0,9,   0.0697,3,   0.0321,3,  -0.0022,4,  -0.0081,4,  -0.0158,4,  -0.0127,4,  -0.0128,4,   0.0794,4,   0.0594,4,-999.0000,-999.000,  -0.8585,     -999.0,     -999.0,9,     -999.0,9,     -999.0,9,     -999.0,9,     -999.0,20110416,       1909
320620110219,       S04P,     128,          2,         30,         30,2,20110416,       1731,   -67.0001,   -80.3578,       4130,   149.6,   0.4316,  34.2961,2,  34.2976,2,    225.1,2,   224.8,2,   64.08,2,   33.70,2,    0.00,2,    2.36,2,   3.108,2,   1.822,2,   0.305,2,   1.1330,2,  2232.5,2,  2312.0,2,   7.5465,2,    25.00,-999.000,9,-999.0000,9,-999.000,9,   0.4364,2, -999.00,9,  -999.0,9,  -999.0,-999.000,9, -999.00,9,-999.000,9, -999.00,9, -999.00,9, -67.0001, -80.3578,-999.000,     -999.0,    34.4593,2,     -999.0,9,     -999.0,9,   0.0774,2,   0.0372,3,  -0.0009,4,  -0.0080,4,  -0.0163,4,  -0.0134,4,  -0.0132,4,   0.0786,4,   0.0558,4,-999.0000,-999.000,   0.4257,     -999.0,     -999.0,9,     -999.0,9,     -999.0,9,     -999.0,9,     -999.0,20110416,       1907
320620110219,       S04P,     128,          2,         29,         29,2,20110416,       1731,   -67.0001,   -80.3578,       4130,   200.1,   1.5715,  34.4848,2,  34.4853,2,    186.0,2,   185.4,2,   72.43,2,   34.50,2,    0.00,2,    2.39,2,   1.583,2,   0.928,2,   0.147,2,   0.5210,2,  2250.0,2,  -999.0,9,   7.5315,2,    25.00,-999.000,9,-999.0000,9,-999.000,9,   1.5777,2, -999.00,9,  -999.0,9,  -999.0,-999.000,9, -999.00,9,-999.000,9, -999.00,9, -999.00,9, -67.0001, -80.3578,-999.000,     -999.0,    34.6480,2,     -999.0,9,     -999.0,9,   0.0846,2,   0.0425,3,  -0.0007,4,  -0.0063,4,  -0.0150,4,  -0.0128,4,  -0.0132,4,   0.0848,4,   0.0535,4,-999.0000,-999.000,   1.5615,     -999.0,     -999.0,9,     -999.0,9,     -999.0,9,     -999.0,9,     -999.0,20110416,       1905
320620110219,       S04P,     128,          2,         28,         28,2,20110416,       1731,   -67.0001,   -80.3578,       4130,   249.9,   1.8401,  34.5560,2,  34.5569,2,    175.5,2,   176.7,2,   75.75,2,   34.18,2,    0.00,2,    2.37,2,   1.109,2,   0.638,2,   0.096,2,   0.3400,2,  2253.8,2,  2331.4,2,   7.5379,2,    25.00,-999.000,9,-999.0000,9,-999.000,9,   1.8397,2, -999.00,9,  -999.0,9,  -999.0,-999.000,9, -999.00,9,-999.000,9, -999.00,9, -999.00,9, -67.0001, -80.3578,-999.000,     -999.0,    34.7199,2,     -999.0,9,     -999.0,9,   0.0874,2,   0.0445,3,   0.0005,4,  -0.0055,4,  -0.0144,4,  -0.0123,4,  -0.0129,4,   0.0691,4,   0.0518,4,-999.0000,-999.000,   1.8270,     -999.0,     -999.0,9,     -999.0,9,     -999.0,9,     -999.0,9,     -999.0,20110416,       1904
320620110219,       S04P,     128,          2,         27,         27,2,20110416,       1731,   -67.0001,   -80.3578,       4130,   299.9,   1.9828,  34.6050,2,  34.6054,2,    173.3,2,   173.0,2,   77.89,2,   33.90,2,    0.00,2,    2.33,2,   0.778,6,   0.466,6,   0.066,6,   0.2400,6,  2255.8,2,  -999.0,9,   7.5429,2,    25.00,-999.000,9,-999.0000,9,-999.000,9,   1.9823,2, -999.00,9,  -999.0,9,  -999.0,-999.000,9, -999.00,9,-999.000,9, -999.00,9, -999.00,9, -67.0001, -80.3578,-999.000,     -999.0,    34.7685,2,     -999.0,9,     -999.0,9,-999.0000,9,-999.0000,9,-999.0000,9,-999.0000,9,-999.0000,9,-999.0000,9,-999.0000,9,-999.0000,9,-999.0000,9,-999.0000,-999.000,   1.9665,     -999.0,     -999.0,9,     -999.0,9,     -999.0,9,     -999.0,9,     -999.0,20110416,       1902
320620110219,       S04P,     128,          2,         26,         26,2,20110416,       1731,   -67.0001,   -80.3578,       4130,   350.5,   2.0130,  34.6346,2,  34.6344,2,    172.1,2,   172.2,2,   79.59,2,   33.55,2,    0.00,2,    2.32,2,   0.632,2,   0.354,2,   0.060,2,   0.1940,2,  -999.0,9,  -999.0,9,-999.0000,9,  -999.00,-999.000,9,-999.0000,9,-999.000,9,   2.0130,2, -999.00,9,  -999.0,9,  -999.0,-999.000,9, -999.00,9,-999.000,9, -999.00,9, -999.00,9, -67.0001, -80.3578,-999.000,     -999.0,    34.7977,2,     -999.0,9,     -999.0,9,-999.0000,9,-999.0000,9,-999.0000,9,-999.0000,9,-999.0000,9,-999.0000,9,-999.0000,9,-999.0000,9,-999.0000,9,-999.0000,-999.000,   1.9937,     -999.0,     -999.0,9,     -999.0,9,     -999.0,9,     -999.0,9,     -999.0,20110416,       1900
320620110219,       S04P,     128,          2,         25,         25,2,20110416,       1731,   -67.0001,   -80.3578,       4130,   400.2,   2.0246,  34.6545,2,  34.6552,2,    171.9,2,   171.1,2,   80.97,2,   33.27,2,    0.00,2,    2.31,2,-999.000,9,-999.000,9,-999.000,9,-999.0000,9,  2256.2,2,  2340.2,6,   7.5522,2,    25.00,-999.000,9,-999.0000,9,-999.000,9,   2.0251,2, -999.00,9,  -999.0,9,  -999.0,-999.000,9, -999.00,9,-999.000,9, -999.00,9, -999.00,9, -67.0001, -80.3578,-999.000,     -999.0,    34.8186,2,     -999.0,9,     -999.0,9,-999.0000,9,-999.0000,9,-999.0000,9,-999.0000,9,-999.0000,9,-999.0000,9,-999.0000,9,-999.0000,9,-999.0000,9,-999.0000,-999.000,   2.0024,     -999.0,     -999.0,9,     -999.0,9,     -999.0,9,     -999.0,9,     -999.0,20110416,       1858
320620110219,       S04P,     128,          2,         24,         24,2,20110416,       1731,   -67.0001,   -80.3578,       4130,   449.4,   2.0091,  34.6661,2,  34.6665,2,    172.6,2,   171.9,2,   81.96,2,   33.17,2,    0.00,2,    2.29,2,   0.474,2,   0.253,2,   0.037,2,   0.1580,2,  -999.0,9,  -999.0,9,-999.0000,9,  -999.00,-999.000,9,-999.0000,9,-999.000,9,   2.0091,2, -999.00,9,  -999.0,9,  -999.0,-999.000,9, -999.00,9,-999.000,9, -999.00,9, -999.00,9, -67.0001, -80.3578,-999.000,     -999.0,    34.8300,2,     -999.0,9,     -999.0,9,   0.0868,2,   0.0448,3,   0.0022,3,  -0.0064,4,  -0.0152,4,  -0.0128,4,  -0.0132,4,   0.0572,3,   0.0497,3,-999.0000,-999.000,   1.9840,     -999.0,     -999.0,9,     -999.0,9,     -999.0,9,     -999.0,9,     -999.0,20110416,       1857
320620110219,       S04P,     128,          2,         23,         23,2,20110416,       1731,   -67.0001,   -80.3578,       4130,   500.0,   2.0029,  34.6815,2,  34.6797,2,    173.0,2,   173.6,2,   83.18,2,   32.84,2,    0.00,2,    2.27,2,-999.000,9,-999.000,9,-999.000,9,-999.0000,9,  2256.4,2,  -999.0,9,   7.5611,2,    25.00,-999.000,9,-999.0000,9,-999.000,9,   2.0027,2, -999.00,9,  -999.0,9,  -999.0,-999.000,9, -999.00,9,-999.000,9, -999.00,9, -999.00,9, -67.0001, -80.3578,-999.000,     -999.0,    34.8432,2,     -999.0,9,     -999.0,9,-999.0000,9,-999.0000,9,-999.0000,9,-999.0000,9,-999.0000,9,-999.0000,9,-999.0000,9,-999.0000,9,-999.0000,9,-999.0000,-999.000,   1.9748,     -999.0,     -999.0,9,     -999.0,9,     -999.0,9,     -999.0,9,     -999.0,20110416,       1855
320620110219,       S04P,     128,          2,         22,         22,2,20110416,       1731,   -67.0001,   -80.3578,       4130,   600.1,   1.9579,  34.7031,2,  34.7030,2,    176.6,2,   177.3,2,   84.95,2,   32.24,2,    0.00,2,    2.23,2,   0.300,2,   0.171,2,   0.019,2,   0.1020,2,  -999.0,9,  -999.0,9,-999.0000,9,  -999.00,-999.000,9,-999.0000,9,-999.000,9,   1.9573,2, -999.00,9,  -999.0,9,  -999.0,-999.000,9, -999.00,9,-999.000,9, -999.00,9, -999.00,9, -67.0001, -80.3578,-999.000,     -999.0,    34.8667,2,     -999.0,9,     -999.0,9,-999.0000,9,-999.0000,9,-999.0000,9,-999.0000,9,-999.0000,9,-999.0000,9,-999.0000,9,-999.0000,9,-999.0000,9,-999.0000,-999.000,   1.9238,     -999.0,     -999.0,9,     -999.0,9,     -999.0,9,     -999.0,9,     -999.0,20110416,       1852
320620110219,       S04P,     128,          2,         21,         21,2,20110416,       1731,   -67.0001,   -80.3578,       4130,   699.7,   1.8940,  34.7145,2,  34.7150,2,    179.0,2,   179.7,2,   86.92,2,   31.92,2,    0.00,2,    2.22,2,-999.000,9,-999.000,9,-999.000,9,-999.0000,9,  2254.5,2,  2347.3,2,   7.5789,2,    25.00,-999.000,9,-999.0000,9,-999.000,9,   1.8938,2, -999.00,9,  -999.0,9,  -999.0,-999.000,9, -999.00,9,-999.000,9, -999.00,9, -999.00,9, -67.0001, -80.3578,-999.000,     -999.0,    34.8787,2,     -999.0,9,     -999.0,9,-999.0000,9,-999.0000,9,-999.0000,9,-999.0000,9,-999.0000,9,-999.0000,9,-999.0000,9,-999.0000,9,-999.0000,9,-999.0000,-999.000,   1.8541,     -999.0,     -999.0,9,     -999.0,9,     -999.0,9,     -999.0,9,     -999.0,20110416,       1849
320620110219,       S04P,     128,          2,         20,         20,2,20110416,       1731,   -67.0001,   -80.3578,       4130,   799.1,   1.8236,  34.7225,2,  34.7228,2,    182.3,2,   182.5,2,   88.72,2,   31.70,2,    0.00,2,    2.20,2,   0.227,2,   0.124,2,   0.014,2,   0.0830,2,  -999.0,9,  -999.0,9,-999.0000,9,  -999.00,-999.000,9,-999.0000,9,-999.000,9,   1.8239,2, -999.00,9,  -999.0,9,  -999.0,-999.000,9, -999.00,9,-999.000,9, -999.00,9, -999.00,9, -67.0001, -80.3578,-999.000,     -999.0,    34.8866,2,     -999.0,9,     -999.0,9,-999.0000,9,-999.0000,9,-999.0000,9,-999.0000,9,-999.0000,9,-999.0000,9,-999.0000,9,-999.0000,9,-999.0000,9,-999.0000,-999.000,   1.7778,     -999.0,     -999.0,9,     -999.0,9,     -999.0,9,     -999.0,9,     -999.0,20110416,       1847
320620110219,       S04P,     128,          2,         19,         19,2,20110416,       1731,   -67.0001,   -80.3578,       4130,   899.5,   1.7413,  34.7278,2,  34.7285,2,    184.9,2,   184.8,2,   91.04,2,   31.56,2,    0.00,2,    2.18,2,-999.000,9,-999.000,9,-999.000,9,-999.0000,9,  2254.4,2,  -999.0,9,   7.5895,6,    25.00,-999.000,9,-999.0000,9,-999.000,9,   1.7414,2, -999.00,9,  -999.0,9,  -999.0,-999.000,9, -999.00,9,-999.000,9, -999.00,9, -999.00,9, -67.0001, -80.3578,-999.000,     -999.0,    34.8923,2,     -999.0,9,     -999.0,9,   0.0854,2,   0.0441,3,   0.0016,3,  -0.0073,4,  -0.0161,4,  -0.0133,4,  -0.0135,4,   0.0605,4,   0.0501,4,-999.0000,-999.000,   1.6895,     -999.0,     -999.0,9,     -999.0,9,     -999.0,9,     -999.0,9,     -999.0,20110416,       1844
320620110219,       S04P,     128,          2,         18,         18,2,20110416,       1731,   -67.0001,   -80.3578,       4130,   999.5,   1.6710,  34.7302,2,  34.7305,2,    186.7,2,   187.7,2,   92.96,2,   31.56,2,    0.00,2,    2.17,2,   0.181,2,   0.105,2,   0.012,2,   0.0570,2,  -999.0,9,  -999.0,9,-999.0000,9,  -999.00,-999.000,9,-999.0000,9,-999.000,9,   1.6709,2, -999.00,9,  -999.0,9,  -999.0,-999.000,9, -999.00,9,-999.000,9, -999.00,9, -999.00,9, -67.0001, -80.3578,-999.000,     -999.0,    34.8942,2,     -999.0,9,     -999.0,9,-999.0000,9,-999.0000,9,-999.0000,9,-999.0000,9,-999.0000,9,-999.0000,9,-999.0000,9,-999.0000,9,-999.0000,9,-999.0000,-999.000,   1.6132,     -999.0,     -999.0,9,     -999.0,9,     -999.0,9,     -999.0,9,     -999.0,20110416,       1841
320620110219,       S04P,     128,          2,         17,         17,2,20110416,       1731,   -67.0001,   -80.3578,       4130,  1099.4,   1.5846,  34.7313,2,  34.7317,2,    188.9,2,   189.1,2,   95.28,2,   31.56,2,    0.00,2,    2.18,2,-999.000,9,-999.000,9,-999.000,9,-999.0000,9,  2254.3,2,  2354.4,2,   7.5967,2,    25.00,-999.000,9,-999.0000,9,-999.000,9,   1.5850,2, -999.00,9,  -999.0,9,  -999.0,-999.000,9, -999.00,9,-999.000,9, -999.00,9, -999.00,9, -67.0001, -80.3578,-999.000,     -999.0,    34.8954,2,     -999.0,9,     -999.0,9,-999.0000,9,-999.0000,9,-999.0000,9,-999.0000,9,-999.0000,9,-999.0000,9,-999.0000,9,-999.0000,9,-999.0000,9,-999.0000,-999.000,   1.5209,     -999.0,     -999.0,9,     -999.0,9,     -999.0,9,     -999.0,9,     -999.0,20110416,       1839
320620110219,       S04P,     128,          2,         16,         16,2,20110416,       1731,   -67.0001,   -80.3578,       4130,  1199.9,   1.4970,  34.7309,2,  34.7315,2,    190.6,2,   190.5,2,   98.19,2,   31.49,2,    0.00,2,    2.18,2,-999.000,9,-999.000,9,-999.000,9,-999.0000,9,  -999.0,9,  -999.0,9,-999.0000,9,  -999.00,-999.000,9,-999.0000,9,-999.000,9,   1.4971,2, -999.00,9,  -999.0,9,  -999.0,-999.000,9, -999.00,9,-999.000,9, -999.00,9, -999.00,9, -67.0001, -80.3578,-999.000,     -999.0,    34.8952,2,     -999.0,9,     -999.0,9,   0.0839,2,   0.0429,3,  -0.0003,4,  -0.0071,4,  -0.0156,4,  -0.0132,4,  -0.0135,4,   0.0837,4,   0.0520,4,-999.0000,-999.000,   1.4273,     -999.0,     -999.0,9,     -999.0,9,     -999.0,9,     -999.0,9,     -999.0,20110416,       1836
320620110219,       S04P,     128,          2,         15,         15,2,20110416,       1731,   -67.0001,   -80.3578,       4130,  1300.2,   1.4208,  34.7300,2,  34.7303,2,    192.0,2,   192.0,2,  100.79,2,   31.41,2,    0.00,2,    2.18,2,   0.116,2,   0.074,2,   0.010,2,   0.0350,2,  2256.7,2,  -999.0,9,   7.5985,2,    25.00,-999.000,9,-999.0000,9,-999.000,9,   1.4206,2, -999.00,9,  -999.0,9,  -999.0,-999.000,9, -999.00,9,-999.000,9, -999.00,9, -999.00,9, -67.0001, -80.3578,-999.000,     -999.0,    34.8940,2,     -999.0,9,     -999.0,9,-999.0000,9,-999.0000,9,-999.0000,9,-999.0000,9,-999.0000,9,-999.0000,9,-999.0000,9,-999.0000,9,-999.0000,9,-999.0000,-999.000,   1.3450,     -999.0,     -999.0,9,     -999.0,9,     -999.0,9,     -999.0,9,     -999.0,20110416,       1834
320620110219,       S04P,     128,          2,         14,         14,2,20110416,       1731,   -67.0001,   -80.3578,       4130,  1399.8,   1.3642,  34.7290,2,  34.7295,2,    193.0,2,   192.9,2,  102.38,2,   31.42,2,    0.00,2,    2.18,2,-999.000,9,-999.000,9,-999.000,9,-999.0000,9,  -999.0,9,  -999.0,9,-999.0000,9,  -999.00,-999.000,9,-999.0000,9,-999.000,9,   1.3644,2, -999.00,9,  -999.0,9,  -999.0,-999.000,9, -999.00,9,-999.000,9, -999.00,9, -999.00,9, -67.0001, -80.3578,-999.000,     -999.0,    34.8932,2,     -999.0,9,     -999.0,9,-999.0000,9,-999.0000,9,-999.0000,9,-999.0000,9,-999.0000,9,-999.0000,9,-999.0000,9,-999.0000,9,-999.0000,9,-999.0000,-999.000,   1.2821,     -999.0,     -999.0,9,     -999.0,9,     -999.0,9,     -999.0,9,     -999.0,20110416,       1831