BOTTLE,20220813CCHSIOAMB
EXPOCODE,SECT_ID,STNNBR,CASTNO,SAMPNO,BTLNBR,BTLNBR_FLAG_W,DATE,TIME,LATITUDE,LONGITUDE,DEPTH,CTDPRS,CTDTMP,CTDSAL,CTDSAL_FLAG_W,SALNTY,SALNTY_FLAG_W,CTDOXY,CTDOXY_FLAG_W,OXYGEN,OXYGEN_FLAG_W,SILCAT,SILCAT_FLAG_W,NITRAT,NITRAT_FLAG_W,NITRIT,NITRIT_FLAG_W,PHSPHT,PHSPHT_FLAG_W,CFC-11,CFC-11_FLAG_W,CFC-12,CFC-12_FLAG_W,CFC113,CFC113_FLAG_W,SF6,SF6_FLAG_W,TCARBN,TCARBN_FLAG_W,ALKALI,ALKALI_FLAG_W,PH_TOT,PH_TOT_FLAG_W,PH_TMP,TRITUM,TRITUM_FLAG_W,HELIUM,HELIUM_FLAG_W,DELHE3,DELHE3_FLAG_W,REFTMP,REFTMP_FLAG_W,DELC13,DELC13_FLAG_W,DELC14,DELC14_FLAG_W,C14ERR,NEON,NEON_FLAG_W,DELO18,DELO18_FLAG_W,POC,POC_FLAG_W,DOC,DOC_FLAG_W,TDN,TDN_FLAG_W,BTL_LAT,BTL_LON,TRITER,NEONER,SALTREF,SALTREF_FLAG_W,PIGMENTS,PIGMENTS_FLAG_W,LAB_DEN,LAB_DEN_FLAG_W,CDOM325,CDOM325_FLAG_W,CDOM340,CDOM340_FLAG_W,CDOM380,CDOM380_FLAG_W,CDOM412,CDOM412_FLAG_W,CDOM443,CDOM443_FLAG_W,CDOM490,CDOM490_FLAG_W,CDOM555,CDOM555_FLAG_W,CDOMSL,CDOMSL_FLAG_W,CDOMSN,CDOMSN_FLAG_W,HELIER,DELHER,THETA,LDEO_SAMPNO,ABSORBTION,ABSORBTION_FLAG_W,IMAGE_COUNT,IMAGE_COUNT_FLAG_W,CYTO_COUNT,CYTO_COUNT_FLAG_W,DELD,DELD_FLAG_W,DELDERR,BTL_DATE,BTL_TIME
,,,,,,,,,,,METERS,DBAR,ITS-90,PSS-78,,PSS-78,,UMOL/KG,,UMOL/KG,,UMOL/KG,,UMOL/KG,,UMOL/KG,,UMOL/KG,,PMOL/KG,,PMOL/KG,,PMOL/KG,,FMOL/KG,,UMOL/KG,,UMOL/KG,,,,DEG C,TU,,NMOL/KG,,PERCNT,,DEG C,,/MILLE,,/MILLE,,/MILLE,NMOL/KG,,/MILLE,,UG/KG,,UMOL/KG,,UMOL/KG,,,,TU,NMOL/KG,G/KG,,,,,,1/M,,1/M,,1/M,,1/M,,1/M,,1/M,,1/M,,1/NM,,1/NM,,NMOL/KG,PERCNT,DEG C,,,,,,,,/MILLE,,/MILLE,,
320620110219,       S04P,      35,          1,         36,         36,2,20110307,       1932,   -67.0000,  -162.6635,       3909,     4.4,  -0.8457,  33.7247,2,  33.7241,2,    344.5,3,   344.7,2,   51.62,2,   23.23,2,    0.15,2,    1.64,2,   6.037,2,   3.308,2,   0.600,2,   2.2350,2,  2156.3,6,  2283.2,2,   7.6925,2,    25.00,-999.000,9,-999.0000,9,-999.000,9,  -0.8466,2, -999.00,9,  -999.0,9,  -999.0,-999.000,9, -999.00,9,-999.000,9, -999.00,9, -999.00,9, -67.0000,-162.6635,-999.000,     -999.0,    33.8831,2,     -999.0,9,     -999.0,9,-999.0000,9,-999.0000,9,-999.0000,9,-999.0000,9,-999.0000,9,-999.0000,9,-999.0000,9,-999.0000,9,-999.0000,9,-999.0000,-999.000,  -0.8458,     -999.0,     -999.0,9,     -999.0,9,     -999.0,9,     -999.0,9,     -999.0,20110307,       2128
320620110219,       S04P,      35,          1,         35,         35,2,20110307,       1932,   -67.0000,  -162.6635,       3909,    19.7,  -0.8539,  33.7265,2,  33.7251,2,    343.6,2,   344.9,2,   51.75,2,   23.18,2,    0.15,2,    1.67,2,-999.000,9,-999.000,9,-999.000,9,-999.0000,9,  2157.0,2,  2284.1,2,   7.6924,2,    25.00,-999.000,9,-999.0000,9,-999.000,9,  -0.8540,2, -999.00,9,  -999.0,9,  -999.0,-999.000,9, -999.00,9,-999.000,1, -999.00,9, -999.00,9, -67.0000,-162.6635,-999.000,     -999.0,    33.8841,2,     -999.0,9,     -999.0,9,-999.0000,9,-999.0000,9,-999.0000,9,-999.0000,9,-999.0000,9,-999.0000,9,-999.0000,9,-999.0000,9,-999.0000,9,-999.0000,-999.000,  -0.8544,     -999.0,     -999.0,1,     -999.0,1,     -999.0,1,     -999.0,9,     -999.0,20110307,       2126
320620110219,       S04P,      35,          1,         34,         34,2,20110307,       1932,   -67.0000,  -162.6635,       3909,    40.2,  -0.8473,  33.7362,2,  33.7394,2,    343.1,2,   344.1,2,   52.14,2,   23.37,2,    0.15,2,    1.67,2,   6.000,2,   3.309,2,   0.597,2,   2.4870,2,  2158.0,2,  2284.8,2,   7.6941,6,    25.00,-999.000,9,-999.0000,9,-999.000,9,  -0.8469,2, -999.00,9,  -999.0,9,  -999.0,-999.000,9, -999.00,9,-999.000,1, -999.00,9, -999.00,9, -67.0000,-162.6635,-999.000,     -999.0,    33.8984,2,     -999.0,9,     -999.0,9,-999.0000,9,-999.0000,9,-999.0000,9,-999.0000,9,-999.0000,9,-999.0000,9,-999.0000,9,-999.0000,9,-999.0000,9,-999.0000,-999.000,  -0.8484,     -999.0,     -999.0,1,     -999.0,1,     -999.0,1,     -999.0,9,     -999.0,20110307,       2124
320620110219,       S04P,      35,          1,         33,         33,2,20110307,       1932,   -67.0000,  -162.6635,       3909,    65.4,  -1.6971,  34.2209,2,  34.2205,2,    287.8,2,   288.0,2,   63.31,2,   28.99,2,    0.19,2,    2.04,2,-999.000,9,-999.000,9,-999.000,9,-999.0000,9,  2211.4,2,  2310.7,2,   7.6142,2,    25.00,-999.000,9,-999.0000,9,-999.000,9,  -1.6955,2, -999.00,9,  -999.0,9,  -999.0,-999.000,9, -999.00,9,-999.000,9, -999.00,9, -999.00,9, -67.0000,-162.6635,-999.000,     -999.0,    34.3819,2,     -999.0,9,     -999.0,9,-999.0000,9,-999.0000,9,-999.0000,9,-999.0000,9,-999.0000,9,-999.0000,9,-999.0000,9,-999.0000,9,-999.0000,9,-999.0000,-999.000,  -1.6984,     -999.0,     -999.0,9,     -999.0,9,     -999.0,9,     -999.0,9,     -999.0,20110307,       2123
320620110219,       S04P,      35,          1,         32,         32,2,20110307,       1932,   -67.0000,  -162.6635,       3909,    89.6,  -1.1234,  34.3149,2,  34.3120,2,    268.3,2,   268.7,2,   67.31,2,   29.92,2,    0.06,2,    2.10,2,   3.945,2,   2.038,2,   0.367,2,   1.3060,2,  2221.0,2,  2315.6,2,   7.5978,2,    25.00,-999.000,9,-999.0000,9,-999.000,9,  -1.1147,2, -999.00,9,  -999.0,9,  -999.0,-999.000,9, -999.00,9,-999.000,9, -999.00,9, -999.00,9, -67.0000,-162.6635,-999.000,     -999.0,    34.4738,2,     -999.0,9,     -999.0,9,-999.0000,9,-999.0000,9,-999.0000,9,-999.0000,9,-999.0000,9,-999.0000,9,-999.0000,9,-999.0000,9,-999.0000,9,-999.0000,-999.000,  -1.1257,     -999.0,     -999.0,9,     -999.0,9,     -999.0,9,     -999.0,9,     -999.0,20110307,       2121
320620110219,       S04P,      35,          1,         31,         31,2,20110307,       1932,   -67.0000,  -162.6635,       3909,   115.1,  -0.1430,  34.4449,2,  34.4430,2,    239.4,2,   234.0,2,   75.81,2,   31.35,2,    0.04,2,    2.17,2,-999.000,9,-999.000,9,-999.000,9,-999.0000,9,  2235.1,2,  2324.0,2,   7.5812,2,    25.00,-999.000,9,-999.0000,9,-999.000,9,  -0.1451,2, -999.00,9,  -999.0,9,  -999.0,-999.000,9, -999.00,9,-999.000,9, -999.00,9, -999.00,9, -67.0000,-162.6635,-999.000,     -999.0,    34.6055,2,     -999.0,9,     -999.0,9,-999.0000,9,-999.0000,9,-999.0000,9,-999.0000,9,-999.0000,9,-999.0000,9,-999.0000,9,-999.0000,9,-999.0000,9,-999.0000,-999.000,  -0.1470,     -999.0,     -999.0,9,     -999.0,9,     -999.0,9,     -999.0,9,     -999.0,20110307,       2120
320620110219,       S04P,      35,          1,         30,         30,2,20110307,       1932,   -67.0000,  -162.6635,       3909,   139.5,   0.7202,  34.5672,2,  34.5709,2,    207.0,2,   204.5,2,   83.25,2,   32.24,2,    0.02,2,    2.23,2,   1.520,2,   0.795,2,   0.139,2,   0.4610,2,  2247.1,2,  2333.5,2,   7.5667,2,    25.00,-999.000,9,-999.0000,9,-999.000,9,   0.7242,2, -999.00,9,  -999.0,9,  -999.0,-999.000,9, -999.00,9,-999.000,9, -999.00,9, -999.00,9, -67.0000,-162.6635,-999.000,     -999.0,    34.7339,2,     -999.0,9,     -999.0,9,-999.0000,9,-999.0000,9,-999.0000,9,-999.0000,9,-999.0000,9,-999.0000,9,-999.0000,9,-999.0000,9,-999.0000,9,-999.0000,-999.000,   0.7143,     -999.0,     -999.0,9,     -999.0,9,     -999.0,9,     -999.0,9,     -999.0,20110307,       2118
320620110219,       S04P,      35,          1,         29,         29,2,20110307,       1932,   -67.0000,  -162.6635,       3909,   185.4,   1.1726,  34.6435,2,  34.6433,2,    190.7,2,   191.2,2,   87.92,2,   32.47,2,    0.01,2,    2.24,2,   0.944,2,   0.476,2,   0.072,2,   0.2720,2,  2252.6,2,  2339.1,2,   7.5645,2,    25.00,-999.000,9,-999.0000,9,-999.000,9,   1.1681,2, -999.00,9,  -999.0,9,  -999.0,-999.000,9, -999.00,9,-999.000,9, -999.00,9, -999.00,9, -67.0000,-162.6635,-999.000,     -999.0,    34.8066,2,     -999.0,9,     -999.0,9,-999.0000,9,-999.0000,9,-999.0000,9,-999.0000,9,-999.0000,9,-999.0000,9,-999.0000,9,-999.0000,9,-999.0000,9,-999.0000,-999.000,   1.1639,     -999.0,     -999.0,9,     -999.0,9,     -999.0,9,     -999.0,9,     -999.0,20110307,       2116
320620110219,       S04P,      35,          1,         28,         28,2,20110307,       1932,   -67.0000,  -162.6635,       3909,   234.1,   1.4514,  34.7001,2,  34.6976,2,    184.2,2,   184.9,2,   92.23,2,   32.44,2,    0.01,2,    2.23,2,   0.525,2,   0.250,2,   0.040,2,   0.1560,2,  2255.9,2,  2344.1,2,   7.5683,2,    25.00,-999.000,9,-999.0000,9,-999.000,9,   1.4499,2, -999.00,9,  -999.0,9,  -999.0,-999.000,9, -999.00,9,-999.000,9, -999.00,9, -999.00,9, -67.0000,-162.6635,-999.000,     -999.0,    34.8612,2,     -999.0,9,     -999.0,9,-999.0000,9,-999.0000,9,-999.0000,9,-999.0000,9,-999.0000,9,-999.0000,9,-999.0000,9,-999.0000,9,-999.0000,9,-999.0000,-999.000,   1.4398,     -999.0,     -999.0,9,     -999.0,9,     -999.0,9,     -999.0,9,     -999.0,20110307,       2114
320620110219,       S04P,      35,          1,         27,         27,2,20110307,       1932,   -67.0000,  -162.6635,       3909,   284.9,   1.4941,  34.7217,2,  34.7208,2,    182.9,2,   182.5,2,   95.76,2,   32.28,2,    0.01,2,    2.23,2,-999.000,9,-999.000,9,-999.000,9,-999.0000,9,  2257.4,2,  2347.2,2,   7.5724,2,    25.00,-999.000,9,-999.0000,9,-999.000,9,   1.4938,2, -999.00,9,  -999.0,9,  -999.0,-999.000,9, -999.00,9,-999.000,9, -999.00,9, -999.00,9, -67.0000,-162.6635,-999.000,     -999.0,    34.8845,2,     -999.0,9,     -999.0,9,-999.0000,9,-999.0000,9,-999.0000,9,-999.0000,9,-999.0000,9,-999.0000,9,-999.0000,9,-999.0000,9,-999.0000,9,-999.0000,-999.000,   1.4798,     -999.0,     -999.0,9,     -999.0,9,     -999.0,9,     -999.0,9,     -999.0,20110307,       2112
320620110219,       S04P,      35,          1,         26,         26,2,20110307,       1932,   -67.0000,  -162.6635,       3909,   334.2,   1.4580,  34.7274,2,  34.7263,2,    183.4,2,   183.7,2,   97.89,2,   32.38,2,    0.00,2,    2.23,2,   0.264,2,   0.116,2,   0.018,2,   0.1040,2,  2259.2,2,  2348.4,2,   7.5735,2,    25.00,-999.000,9,-999.0000,9,-999.000,9,   1.4581,2, -999.00,9,  -999.0,9,  -999.0,-999.000,9, -999.00,9,-999.000,9, -999.00,9, -999.00,9, -67.0000,-162.6635,-999.000,     -999.0,    34.8900,2,     -999.0,9,     -999.0,9,-999.0000,9,-999.0000,9,-999.0000,9,-999.0000,9,-999.0000,9,-999.0000,9,-999.0000,9,-999.0000,9,-999.0000,9,-999.0000,-999.000,   1.4411,     -999.0,     -999.0,9,     -999.0,9,     -999.0,9,     -999.0,9,     -999.0,20110307,       2110
320620110219,       S04P,      35,          1,         25,         25,2,20110307,       1932,   -67.0000,  -162.6635,       3909,   385.4,   1.4233,  34.7288,2,  34.7288,2,    183.9,2,   184.1,2,   99.77,2,   32.36,2,    0.00,2,    2.23,2,   0.262,2,   0.117,2,   0.020,2,   0.0480,2,  2260.3,2,  2349.4,2,   7.5740,2,    25.00,-999.000,9,-999.0000,9,-999.000,9,   1.4235,2, -999.00,9,  -999.0,9,  -999.0,-999.000,9, -999.00,9,-999.000,9, -999.00,9, -999.00,9, -67.0000,-162.6635,-999.000,     -999.0,    34.8926,2,     -999.0,9,     -999.0,9,-999.0000,9,-999.0000,9,-999.0000,9,-999.0000,9,-999.0000,9,-999.0000,9,-999.0000,9,-999.0000,9,-999.0000,9,-999.0000,-999.000,   1.4038,     -999.0,     -999.0,9,     -999.0,9,     -999.0,9,     -999.0,9,     -999.0,20110307,       2108
320620110219,       S04P,      35,          1,         24,         24,2,20110307,       1932,   -67.0000,  -162.6635,       3909,   435.4,   1.3901,  34.7296,2,  34.7286,2,    184.7,2,   184.4,2,  101.57,2,   32.42,2,    0.00,2,    2.23,2,-999.000,9,-999.000,9,-999.000,9,-999.0000,9,  2259.4,2,  2349.1,2,   7.5790,2,    25.00,-999.000,9,-999.0000,9,-999.000,9,   1.3890,2, -999.00,9,  -999.0,9,  -999.0,-999.000,9, -999.00,9,-999.000,9, -999.00,9, -999.00,9, -67.0000,-162.6635,-999.000,     -999.0,    34.8924,2,     -999.0,9,     -999.0,9,-999.0000,9,-999.0000,9,-999.0000,9,-999.0000,9,-999.0000,9,-999.0000,9,-999.0000,9,-999.0000,9,-999.0000,9,-999.0000,-999.000,   1.3680,     -999.0,     -999.0,9,     -999.0,9,     -999.0,9,     -999.0,9,     -999.0,20110307,       2106
320620110219,       S04P,      35,          1,         23,         23,2,20110307,       1932,   -67.0000,  -162.6635,       3909,   485.9,   1.3404,  34.7298,2,  34.7294,2,    185.1,2,   185.1,2,  103.33,2,   32.45,2,    0.00,2,    2.24,2,   0.184,2,   0.081,2,   0.011,2,   0.0450,2,  2259.2,2,  2349.8,2,   7.5798,2,    25.00,-999.000,9,-999.0000,9,-999.000,9,   1.3408,2, -999.00,9,  -999.0,9,  -999.0,-999.000,9, -999.00,9,-999.000,9, -999.00,9, -999.00,9, -67.0000,-162.6635,-999.000,     -999.0,    34.8932,2,     -999.0,9,     -999.0,9,-999.0000,9,-999.0000,9,-999.0000,9,-999.0000,9,-999.0000,9,-999.0000,9,-999.0000,9,-999.0000,9,-999.0000,9,-999.0000,-999.000,   1.3157,     -999.0,     -999.0,9,     -999.0,9,     -999.0,9,     -999.0,9,     -999.0,20110307,       2104
320620110219,       S04P,      35,          1,         22,         22,2,20110307,       1932,   -67.0000,  -162.6635,       3909,   564.9,   1.2791,  34.7291,2,  34.7290,2,    186.5,2,   186.9,2,  105.28,2,   32.40,2,    0.00,2,    2.23,2,-999.000,9,-999.000,9,-999.000,9,-999.0000,9,  -999.0,9,  -999.0,9,-999.0000,9,  -999.00,-999.000,9,-999.0000,9,-999.000,9,   1.2788,2, -999.00,9,  -999.0,9,  -999.0,-999.000,9, -999.00,9,-999.000,9, -999.00,9, -999.00,9, -67.0000,-162.6635,-999.000,     -999.0,    34.8928,2,     -999.0,9,     -999.0,9,-999.0000,9,-999.0000,9,-999.0000,9,-999.0000,9,-999.0000,9,-999.0000,9,-999.0000,9,-999.0000,9,-999.0000,9,-999.0000,-999.000,   1.2503,     -999.0,     -999.0,9,     -999.0,9,     -999.0,9,     -999.0,9,     -999.0,20110307,       2102
320620110219,       S04P,      35,          1,         21,         21,2,20110307,       1932,   -67.0000,  -162.6635,       3909,   665.1,   1.2052,  34.7275,2,  34.7272,2,    188.2,2,   188.8,2,  107.91,2,   32.36,2,    0.00,2,    2.23,2,   0.141,2,   0.063,2,   0.010,2,   0.0780,2,  -999.0,9,  -999.0,9,-999.0000,9,  -999.00,-999.000,9,-999.0000,9,-999.000,9,   1.2050,2, -999.00,9,  -999.0,9,  -999.0,-999.000,9, -999.00,9,-999.000,9, -999.00,9, -999.00,9, -67.0000,-162.6635,-999.000,     -999.0,    34.8910,2,     -999.0,9,     -999.0,9,-999.0000,9,-999.0000,9,-999.0000,9,-999.0000,9,-999.0000,9,-999.0000,9,-999.0000,9,-999.0000,9,-999.0000,9,-999.0000,-999.000,   1.1711,     -999.0,     -999.0,9,     -999.0,9,     -999.0,9,     -999.0,9,     -999.0,20110307,       2059
320620110219,       S04P,      35,          1,         20,         20,2,20110307,       1932,   -67.0000,  -162.6635,       3909,   764.0,   1.1319,  34.7253,2,  34.7249,2,    190.1,2,   190.8,2,  109.81,2,   32.31,2,    0.00,2,    2.22,2,-999.000,9,-999.000,9,-999.000,9,-999.0000,9,  2258.4,2,  2353.6,2,   7.5874,2,    25.00,-999.000,9,-999.0000,9,-999.000,9,   1.1316,2, -999.00,9,  -999.0,9,  -999.0,-999.000,9, -999.00,9,-999.000,9, -999.00,9, -999.00,9, -67.0000,-162.6635,-999.000,     -999.0,    34.8886,2,     -999.0,9,     -999.0,9,-999.0000,9,-999.0000,9,-999.0000,9,-999.0000,9,-999.0000,9,-999.0000,9,-999.0000,9,-999.0000,9,-999.0000,9,-999.0000,-999.000,   1.0926,     -999.0,     -999.0,9,     -999.0,9,     -999.0,9,     -999.0,9,     -999.0,20110307,       2056
320620110219,       S04P,      35,          1,         19,         19,2,20110307,       1932,   -67.0000,  -162.6635,       3909,   864.7,   1.0660,  34.7232,2,  34.7229,2,    192.9,2,   193.7,2,  111.84,2,   32.19,2,    0.00,2,    2.22,2,   0.105,2,   0.049,2,   0.005,2,   0.0440,2,  -999.0,9,  -999.0,9,-999.0000,9,  -999.00,-999.000,9,-999.0000,9,-999.000,9,   1.0656,2, -999.00,9,  -999.0,9,  -999.0,-999.000,9, -999.00,9,-999.000,9, -999.00,9, -999.00,9, -67.0000,-162.6635,-999.000,     -999.0,    34.8867,2,     -999.0,9,     -999.0,9,-999.0000,9,-999.0000,9,-999.0000,9,-999.0000,9,-999.0000,9,-999.0000,9,-999.0000,9,-999.0000,9,-999.0000,9,-999.0000,-999.000,   1.0212,     -999.0,     -999.0,9,     -999.0,9,     -999.0,9,     -999.0,9,     -999.0,20110307,       2053
320620110219,       S04P,      35,          1,         18,         18,2,20110307,       1932,   -67.0000,  -162.6635,       3909,   965.0,   1.0010,  34.7207,2,  34.7202,2,    195.1,2,   195.0,2,  113.22,2,   32.23,2,    0.00,2,    2.22,2,-999.000,9,-999.000,9,-999.000,9,-999.0000,9,  -999.0,9,  -999.0,9,-999.0000,9,  -999.00,-999.000,9,-999.0000,9,-999.000,9,   1.0013,2, -999.00,9,  -999.0,9,  -999.0,-999.000,9, -999.00,9,-999.000,9, -999.00,9, -999.00,9, -67.0000,-162.6635,-999.000,     -999.0,    34.8839,2,     -999.0,9,     -999.0,9,-999.0000,9,-999.0000,9,-999.0000,9,-999.0000,9,-999.0000,9,-999.0000,9,-999.0000,9,-999.0000,9,-999.0000,9,-999.0000,-999.000,   0.9507,     -999.0,     -999.0,9,     -999.0,9,     -999.0,9,     -999.0,9,     -999.0,20110307,       2051
320620110219,       S04P,      35,          1,         17,         17,2,20110307,       1932,   -67.0000,  -162.6635,       3909,  1065.2,   0.9358,  34.7179,2,  34.7182,2,    197.0,2,   201.3,4,  115.87,2,   32.28,2,    0.00,2,    2.23,2,-999.000,9,-999.000,9,-999.000,9,-999.0000,9,  -999.0,9,  -999.0,9,-999.0000,9,  -999.00,-999.000,9,-999.0000,9,-999.000,9,   0.9359,2, -999.00,9,  -999.0,9,  -999.0,-999.000,9, -999.00,9,-999.000,9, -999.00,9, -999.00,9, -67.0000,-162.6635,-999.000,     -999.0,    34.8819,2,     -999.0,9,     -999.0,9,-999.0000,9,-999.0000,9,-999.0000,9,-999.0000,9,-999.0000,9,-999.0000,9,-999.0000,9,-999.0000,9,-999.0000,9,-999.0000,-999.000,   0.8799,     -999.0,     -999.0,9,     -999.0,9,     -999.0,9,     -999.0,9,     -999.0,20110307,       2048
320620110219,       S04P,      35,          1,         16,         16,2,20110307,       1932,   -67.0000,  -162.6635,       3909,  1164.6,   0.8833,  34.7161,2,  34.7161,2,    198.5,2,   199.5,2,  117.26,2,   32.17,2,    0.00,2,    2.22,2,   0.096,2,   0.045,2,   0.004,2,   0.0440,2,  2258.2,2,  2356.7,2,   7.5961,2,    25.00,-999.000,9,-999.0000,9,-999.000,9,   0.8839,2, -999.00,9,  -999.0,9,  -999.0,-999.000,9, -999.00,9,-999.000,9, -999.00,9, -999.00,9, -67.0000,-162.6635,-999.000,     -999.0,    34.8798,2,     -999.0,9,     -999.0,9,-999.0000,9,-999.0000,9,-999.0000,9,-999.0000,9,-999.0000,9,-999.0000,9,-999.0000,9,-999.0000,9,-999.0000,9,-999.0000,-999.000,   0.8217,     -999.0,     -999.0,9,     -999.0,9,     -999.0,9,     -999.0,9,     -999.0,20110307,       2045
320620110219,       S04P,      35,          1,         15,         15,2,20110307,       1932,   -67.0000,  -162.6635,       3909,  1263.8,   0.8369,  34.7141,2,  34.7139,2,    200.1,2,   201.4,2,  118.63,2,   32.15,2,    0.00,2,    2.21,2,   0.102,6,   0.050,6,   0.005,6,   0.0480,6,  -999.0,9,  -999.0,9,-999.0000,9,  -999.00,-999.000,9,-999.0000,9,-999.000,9,   0.8367,2, -999.00,9,  -999.0,9,  -999.0,-999.000,9, -999.00,9,-999.000,9, -999.00,9, -999.00,9, -67.0000,-162.6635,-999.000,     -999.0,    34.8776,2,     -999.0,9,     -999.0,9,-999.0000,9,-999.0000,9,-999.0000,9,-999.0000,9,-999.0000,9,-999.0000,9,-999.0000,9,-999.0000,9,-999.0000,9,-999.0000,-999.000,   0.7695,     -999.0,     -999.0,9,     -999.0,9,     -999.0,9,     -999.0,9,     -999.0,20110307,       2042
320620110219,       S04P,      35,          1,         14,         14,2,20110307,       1932,   -67.0000,  -162.6635,       3909,  1365.0,   0.7899,  34.7120,2,  34.7121,2,    201.4,2,   200.9,2,  120.00,2,   32.10,2,    0.00,2,    2.22,2,-999.000,9,-999.000,9,-999.000,9,-999.0000,9,  -999.0,9,  -999.0,9,-999.0000,9,  -999.00,-999.000,9,-999.0000,9,-999.000,9,   0.7898,2, -999.00,9,  -999.0,9,  -999.0,-999.000,9, -999.00,9,-999.000,9, -999.00,9, -999.00,9, -67.0000,-162.6635,-999.000,     -999.0,    34.8758,2,     -999.0,9,     -999.0,9,-999.0000,9,-999.0000,9,-999.0000,9,-999.0000,9,-999.0000,9,-999.0000,9,-999.0000,9,-999.0000,9,-999.0000,9,-999.0000,-999.000,   0.7164,     -999.0,     -999.0,9,     -999.0,9,     -999.0,9,     -999.0,9,     -999.0,20110307,       2040