BOTTLE,20220813CCHSIOAMB
EXPOCODE,SECT_ID,STNNBR,CASTNO,SAMPNO,BTLNBR,BTLNBR_FLAG_W,DATE,TIME,LATITUDE,LONGITUDE,DEPTH,CTDPRS,CTDTMP,CTDSAL,CTDSAL_FLAG_W,SALNTY,SALNTY_FLAG_W,CTDOXY,CTDOXY_FLAG_W,OXYGEN,OXYGEN_FLAG_W,SILCAT,SILCAT_FLAG_W,NITRAT,NITRAT_FLAG_W,NITRIT,NITRIT_FLAG_W,PHSPHT,PHSPHT_FLAG_W,CFC-11,CFC-11_FLAG_W,CFC-12,CFC-12_FLAG_W,CFC113,CFC113_FLAG_W,SF6,SF6_FLAG_W,TCARBN,TCARBN_FLAG_W,ALKALI,ALKALI_FLAG_W,PH_TOT,PH_TOT_FLAG_W,PH_TMP,TRITUM,TRITUM_FLAG_W,HELIUM,HELIUM_FLAG_W,DELHE3,DELHE3_FLAG_W,REFTMP,REFTMP_FLAG_W,DELC13,DELC13_FLAG_W,DELC14,DELC14_FLAG_W,C14ERR,NEON,NEON_FLAG_W,DELO18,DELO18_FLAG_W,POC,POC_FLAG_W,DOC,DOC_FLAG_W,TDN,TDN_FLAG_W,BTL_LAT,BTL_LON,TRITER,NEONER,SALTREF,SALTREF_FLAG_W,PIGMENTS,PIGMENTS_FLAG_W,LAB_DEN,LAB_DEN_FLAG_W,CDOM325,CDOM325_FLAG_W,CDOM340,CDOM340_FLAG_W,CDOM380,CDOM380_FLAG_W,CDOM412,CDOM412_FLAG_W,CDOM443,CDOM443_FLAG_W,CDOM490,CDOM490_FLAG_W,CDOM555,CDOM555_FLAG_W,CDOMSL,CDOMSL_FLAG_W,CDOMSN,CDOMSN_FLAG_W,HELIER,DELHER,THETA,LDEO_SAMPNO,ABSORBTION,ABSORBTION_FLAG_W,IMAGE_COUNT,IMAGE_COUNT_FLAG_W,CYTO_COUNT,CYTO_COUNT_FLAG_W,DELD,DELD_FLAG_W,DELDERR,BTL_DATE,BTL_TIME
,,,,,,,,,,,METERS,DBAR,ITS-90,PSS-78,,PSS-78,,UMOL/KG,,UMOL/KG,,UMOL/KG,,UMOL/KG,,UMOL/KG,,UMOL/KG,,PMOL/KG,,PMOL/KG,,PMOL/KG,,FMOL/KG,,UMOL/KG,,UMOL/KG,,,,DEG C,TU,,NMOL/KG,,PERCNT,,DEG C,,/MILLE,,/MILLE,,/MILLE,NMOL/KG,,/MILLE,,UG/KG,,UMOL/KG,,UMOL/KG,,,,TU,NMOL/KG,G/KG,,,,,,1/M,,1/M,,1/M,,1/M,,1/M,,1/M,,1/M,,1/NM,,1/NM,,NMOL/KG,PERCNT,DEG C,,,,,,,,/MILLE,,/MILLE,,
320620110219,       S04P,     105,          1,         13,         13,2,20110404,       0738,   -67.0008,  -134.7005,       4631,  1734.5,   1.0602,  34.7209,2,  34.7210,2,    199.7,2,   200.0,2,  111.83,2,   32.00,2,    0.00,2,    2.22,2,   0.131,2,   0.067,2,   0.007,2,   0.0740,2,  -999.0,9,  -999.0,9,-999.0000,9,  -999.00,-999.000,9,-999.0000,9,-999.000,9,   1.0606,2, -999.00,9,  -999.0,9,  -999.0,-999.000,9, -999.00,9,-999.000,9,   39.55,2,   34.55,2, -67.0008,-134.7005,-999.000,     -999.0,    34.8848,2,     -999.0,9,     -999.0,9,-999.0000,9,-999.0000,9,-999.0000,9,-999.0000,9,-999.0000,9,-999.0000,9,-999.0000,9,-999.0000,9,-999.0000,9,-999.0000,-999.000,   0.9578,     -999.0,     -999.0,9,     -999.0,9,     -999.0,9,     -999.0,9,     -999.0,20110404,       0839
320620110219,       S04P,     105,          1,         12,         12,2,20110404,       0738,   -67.0008,  -134.7005,       4631,  1934.7,   0.9622,  34.7171,2,  34.7169,2,    201.7,2,   201.6,2,  115.22,2,   32.11,2,    0.00,2,    2.23,2,-999.000,9,-999.000,9,-999.000,9,-999.0000,9,  2259.5,2,  2363.0,2,   7.6003,2,    25.00,-999.000,9,-999.0000,9,-999.000,9,   0.9624,2, -999.00,9,  -999.0,9,  -999.0,-999.000,9, -999.00,9,-999.000,9,   39.67,2,   34.60,2, -67.0008,-134.7005,-999.000,     -999.0,    34.8806,2,     -999.0,9,     -999.0,9,-999.0000,9,-999.0000,9,-999.0000,9,-999.0000,9,-999.0000,9,-999.0000,9,-999.0000,9,-999.0000,9,-999.0000,9,-999.0000,-999.000,   0.8463,     -999.0,     -999.0,9,     -999.0,9,     -999.0,9,     -999.0,9,     -999.0,20110404,       0835
320620110219,       S04P,     105,          1,         11,         11,2,20110404,       0738,   -67.0008,  -134.7005,       4631,  2164.9,   0.8553,  34.7125,2,  34.7120,2,    203.1,2,   204.1,2,  119.30,2,   32.24,2,    0.00,2,    2.24,2,   0.151,2,   0.074,2,   0.010,2,   0.1060,2,  -999.0,9,  -999.0,9,-999.0000,9,  -999.00,-999.000,9,-999.0000,9,-999.000,9,   0.8554,2, -999.00,9,  -999.0,9,  -999.0,-999.000,9, -999.00,9,-999.000,9,   40.14,2,   34.27,2, -67.0008,-134.7005,-999.000,     -999.0,    34.8757,2,     -999.0,9,     -999.0,9,-999.0000,9,-999.0000,9,-999.0000,9,-999.0000,9,-999.0000,9,-999.0000,9,-999.0000,9,-999.0000,9,-999.0000,9,-999.0000,-999.000,   0.7234,     -999.0,     -999.0,9,     -999.0,9,     -999.0,9,     -999.0,9,     -999.0,20110404,       0830
320620110219,       S04P,     105,          1,         10,         37,2,20110404,       0738,   -67.0008,  -134.7005,       4631,  2413.8,   0.7646,  34.7091,2,  34.7090,2,    204.9,2,   204.8,2,  122.76,2,   32.44,2,    0.00,2,    2.24,2,-999.000,9,-999.000,9,-999.000,9,-999.0000,9,  2261.3,2,  2361.5,2,   7.6004,2,    25.00,-999.000,9,-999.0000,9,-999.000,9,   0.7648,2, -999.00,9,  -999.0,9,  -999.0,-999.000,9, -999.00,9,-999.000,9,   39.56,2,   34.75,2, -67.0008,-134.7005,-999.000,     -999.0,    34.8727,2,     -999.0,9,     -999.0,9,-999.0000,9,-999.0000,9,-999.0000,9,-999.0000,9,-999.0000,9,-999.0000,9,-999.0000,9,-999.0000,9,-999.0000,9,-999.0000,-999.000,   0.6143,     -999.0,     -999.0,9,     -999.0,9,     -999.0,9,     -999.0,9,     -999.0,20110404,       0825
320620110219,       S04P,     105,          1,          9,          9,2,20110404,       0738,   -67.0008,  -134.7005,       4631,  2663.9,   0.6806,  34.7065,2,  34.7065,2,    206.5,2,   206.3,2,  124.81,2,   32.47,2,    0.00,2,    2.24,2,   0.201,2,   0.103,2,   0.014,2,   0.0930,2,  -999.0,9,  -999.0,9,-999.0000,9,  -999.00,-999.000,9,-999.0000,9,-999.000,9,   0.6804,2, -999.00,9,  -999.0,9,  -999.0,-999.000,9, -999.00,9,-999.000,9,   39.45,2,   34.56,2, -67.0008,-134.7005,-999.000,     -999.0,    34.8701,2,     -999.0,9,     -999.0,9,-999.0000,9,-999.0000,9,-999.0000,9,-999.0000,9,-999.0000,9,-999.0000,9,-999.0000,9,-999.0000,9,-999.0000,9,-999.0000,-999.000,   0.5111,     -999.0,     -999.0,9,     -999.0,9,     -999.0,9,     -999.0,9,     -999.0,20110404,       0820
320620110219,       S04P,     105,          1,          8,          8,2,20110404,       0738,   -67.0008,  -134.7005,       4631,  2914.5,   0.5841,  34.7044,2,  34.7035,2,    208.7,2,   208.5,2,  126.74,2,   32.60,2,    0.00,2,    2.24,2,   0.236,2,   0.117,2,   0.014,2,   0.1060,2,  2260.9,2,  2363.8,2,   7.5966,2,    25.00,-999.000,9,-999.0000,9,-999.000,9,   0.5840,2, -999.00,9,  -999.0,9,  -999.0,-999.000,9, -999.00,9,-999.000,9,   39.67,2,   35.00,2, -67.0008,-134.7006,-999.000,     -999.0,    34.8672,2,     -999.0,9,     -999.0,9,-999.0000,9,-999.0000,9,-999.0000,9,-999.0000,9,-999.0000,9,-999.0000,9,-999.0000,9,-999.0000,9,-999.0000,9,-999.0000,-999.000,   0.3950,     -999.0,     -999.0,9,     -999.0,9,     -999.0,9,     -999.0,9,     -999.0,20110404,       0815
320620110219,       S04P,     105,          1,          7,          7,2,20110404,       0738,   -67.0008,  -134.7005,       4631,  3199.6,   0.4838,  34.7032,2,  34.7030,2,    210.7,2,   210.6,2,  129.29,2,   32.83,2,    0.00,2,    2.24,2,   0.248,2,   0.120,2,   0.016,2,   0.1000,2,  -999.0,9,  -999.0,9,-999.0000,9,  -999.00,-999.000,9,-999.0000,9,-999.000,9,   0.4838,2, -999.00,9,  -999.0,9,  -999.0,-999.000,9, -999.00,9,-999.000,9,   40.33,2,   34.94,2, -67.0008,-134.7005,-999.000,     -999.0,    34.8666,2,     -999.0,9,     -999.0,9,-999.0000,9,-999.0000,9,-999.0000,9,-999.0000,9,-999.0000,9,-999.0000,9,-999.0000,9,-999.0000,9,-999.0000,9,-999.0000,-999.000,   0.2714,     -999.0,     -999.0,9,     -999.0,9,     -999.0,9,     -999.0,9,     -999.0,20110404,       0809
320620110219,       S04P,     105,          1,          6,          6,2,20110404,       0738,   -67.0008,  -134.7005,       4631,  3501.0,   0.4207,  34.7030,2,  34.7010,2,    212.4,2,   212.4,2,  132.22,2,   32.85,2,    0.00,2,    2.25,2,   0.256,2,   0.125,2,   0.018,2,   0.1430,2,  2261.8,2,  2364.3,2,   7.5956,2,    25.00,-999.000,9,-999.0000,9,-999.000,9,   0.4206,2, -999.00,9,  -999.0,9,  -999.0,-999.000,9, -999.00,9,-999.000,9,   40.18,2,   35.10,2, -67.0008,-134.7005,-999.000,     -999.0,    34.8646,2,     -999.0,9,     -999.0,9,-999.0000,9,-999.0000,9,-999.0000,9,-999.0000,9,-999.0000,9,-999.0000,9,-999.0000,9,-999.0000,9,-999.0000,9,-999.0000,-999.000,   0.1817,     -999.0,     -999.0,9,     -999.0,9,     -999.0,9,     -999.0,9,     -999.0,20110404,       0803
320620110219,       S04P,     105,          1,          5,          5,2,20110404,       0738,   -67.0008,  -134.7005,       4631,  3800.5,   0.3722,  34.7020,2,  34.7014,2,    214.3,2,   214.0,2,  133.58,2,   32.82,2,    0.00,2,    2.24,2,   0.297,2,   0.142,2,   0.016,2,   0.1190,2,  -999.0,9,  -999.0,9,-999.0000,9,  -999.00,-999.000,9,-999.0000,9,-999.000,9,   0.3720,2, -999.00,9,  -999.0,9,  -999.0,-999.000,9, -999.00,9,-999.000,9,   40.57,2,   34.89,2, -67.0008,-134.7005,-999.000,     -999.0,    34.8650,2,     -999.0,9,     -999.0,9,-999.0000,9,-999.0000,9,-999.0000,9,-999.0000,9,-999.0000,9,-999.0000,9,-999.0000,9,-999.0000,9,-999.0000,9,-999.0000,-999.000,   0.1053,     -999.0,     -999.0,9,     -999.0,9,     -999.0,9,     -999.0,9,     -999.0,20110404,       0758
320620110219,       S04P,     105,          1,          4,          4,2,20110404,       0738,   -67.0008,  -134.7005,       4631,  4099.8,   0.3388,  34.7010,2,  34.7002,2,    215.7,2,   215.2,2,  135.64,2,   32.70,2,    0.00,2,    2.25,2,   0.365,2,   0.180,2,   0.020,2,   0.1050,2,  2261.0,2,  2363.9,2,   7.5969,2,    25.00,-999.000,9,-999.0000,9,-999.000,9,   0.3391,2, -999.00,9,  -999.0,9,  -999.0,-999.000,9, -999.00,9,-999.000,9,   40.12,2,   35.13,2, -67.0008,-134.7006,-999.000,     -999.0,    34.8638,2,     -999.0,9,     -999.0,9,-999.0000,9,-999.0000,9,-999.0000,9,-999.0000,9,-999.0000,9,-999.0000,9,-999.0000,9,-999.0000,9,-999.0000,9,-999.0000,-999.000,   0.0425,     -999.0,     -999.0,9,     -999.0,9,     -999.0,9,     -999.0,9,     -999.0,20110404,       0752
320620110219,       S04P,     105,          1,          3,          3,2,20110404,       0738,   -67.0008,  -134.7005,       4631,  4400.4,   0.3308,  34.7001,2,  34.6998,2,    216.6,2,   216.8,2,  136.36,2,   32.76,2,    0.00,2,    2.25,2,   0.455,2,   0.224,2,   0.023,2,   0.1490,2,  2261.2,2,  2363.6,6,   7.5929,2,    25.00,-999.000,9,-999.0000,9,-999.000,9,   0.3310,2, -999.00,9,  -999.0,9,  -999.0,-999.000,9, -999.00,9,-999.000,9,   40.21,2,   34.40,2, -67.0008,-134.7005,-999.000,     -999.0,    34.8634,2,     -999.0,9,     -999.0,9,-999.0000,9,-999.0000,9,-999.0000,9,-999.0000,9,-999.0000,9,-999.0000,9,-999.0000,9,-999.0000,9,-999.0000,9,-999.0000,-999.000,   0.0030,     -999.0,     -999.0,9,     -999.0,9,     -999.0,9,     -999.0,9,     -999.0,20110404,       0746
320620110219,       S04P,     105,          1,          2,          2,2,20110404,       0738,   -67.0008,  -134.7005,       4631,  4599.4,   0.3274,  34.6994,2,  34.6986,2,    217.4,2,   216.9,2,  135.76,2,   32.74,2,    0.00,2,    2.24,2,   0.524,2,   0.247,2,   0.031,2,   0.1090,2,  2261.7,2,  2362.6,2,   7.5943,6,    25.00,-999.000,9,-999.0000,9,-999.000,9,   0.3269,2, -999.00,9,  -999.0,9,  -999.0,-999.000,9, -999.00,9,-999.000,9,   39.90,2,   34.41,2, -67.0008,-134.7005,-999.000,     -999.0,    34.8622,2,     -999.0,9,     -999.0,9,-999.0000,9,-999.0000,9,-999.0000,9,-999.0000,9,-999.0000,9,-999.0000,9,-999.0000,9,-999.0000,9,-999.0000,9,-999.0000,-999.000,  -0.0219,     -999.0,     -999.0,9,     -999.0,9,     -999.0,9,     -999.0,9,     -999.0,20110404,       0741
320620110219,       S04P,     105,          1,          1,          1,2,20110404,       0738,   -67.0008,  -134.7005,       4631,  4716.9,   0.3309,  34.6987,2,  34.6978,2,    217.1,2,   217.3,2,  135.91,2,   32.70,2,    0.00,2,    2.25,2,   0.592,2,   0.289,2,   0.035,2,   0.1860,2,  2262.6,6,  2363.4,2,   7.5906,2,    25.00,-999.000,9,-999.0000,9,-999.000,9,   0.3305,2, -999.00,9,  -999.0,9,  -999.0,-999.000,9, -999.00,9,-999.000,9,   39.86,2,   34.82,2, -67.0008,-134.7005,-999.000,     -999.0,    34.8614,2,     -999.0,9,     -999.0,9,-999.0000,9,-999.0000,9,-999.0000,9,-999.0000,9,-999.0000,9,-999.0000,9,-999.0000,9,-999.0000,9,-999.0000,9,-999.0000,-999.000,  -0.0315,     -999.0,     -999.0,9,     -999.0,9,     -999.0,9,     -999.0,9,     -999.0,20110404,       0738