BOTTLE,20220813CCHSIOAMB
EXPOCODE,SECT_ID,STNNBR,CASTNO,SAMPNO,BTLNBR,BTLNBR_FLAG_W,DATE,TIME,LATITUDE,LONGITUDE,DEPTH,CTDPRS,CTDTMP,CTDSAL,CTDSAL_FLAG_W,SALNTY,SALNTY_FLAG_W,CTDOXY,CTDOXY_FLAG_W,OXYGEN,OXYGEN_FLAG_W,SILCAT,SILCAT_FLAG_W,NITRAT,NITRAT_FLAG_W,NITRIT,NITRIT_FLAG_W,PHSPHT,PHSPHT_FLAG_W,CFC-11,CFC-11_FLAG_W,CFC-12,CFC-12_FLAG_W,CFC113,CFC113_FLAG_W,SF6,SF6_FLAG_W,TCARBN,TCARBN_FLAG_W,ALKALI,ALKALI_FLAG_W,PH_TOT,PH_TOT_FLAG_W,PH_TMP,TRITUM,TRITUM_FLAG_W,HELIUM,HELIUM_FLAG_W,DELHE3,DELHE3_FLAG_W,REFTMP,REFTMP_FLAG_W,DELC13,DELC13_FLAG_W,DELC14,DELC14_FLAG_W,C14ERR,NEON,NEON_FLAG_W,DELO18,DELO18_FLAG_W,POC,POC_FLAG_W,DOC,DOC_FLAG_W,TDN,TDN_FLAG_W,BTL_LAT,BTL_LON,TRITER,NEONER,SALTREF,SALTREF_FLAG_W,PIGMENTS,PIGMENTS_FLAG_W,LAB_DEN,LAB_DEN_FLAG_W,CDOM325,CDOM325_FLAG_W,CDOM340,CDOM340_FLAG_W,CDOM380,CDOM380_FLAG_W,CDOM412,CDOM412_FLAG_W,CDOM443,CDOM443_FLAG_W,CDOM490,CDOM490_FLAG_W,CDOM555,CDOM555_FLAG_W,CDOMSL,CDOMSL_FLAG_W,CDOMSN,CDOMSN_FLAG_W,HELIER,DELHER,THETA,LDEO_SAMPNO,ABSORBTION,ABSORBTION_FLAG_W,IMAGE_COUNT,IMAGE_COUNT_FLAG_W,CYTO_COUNT,CYTO_COUNT_FLAG_W,DELD,DELD_FLAG_W,DELDERR,BTL_DATE,BTL_TIME
,,,,,,,,,,,METERS,DBAR,ITS-90,PSS-78,,PSS-78,,UMOL/KG,,UMOL/KG,,UMOL/KG,,UMOL/KG,,UMOL/KG,,UMOL/KG,,PMOL/KG,,PMOL/KG,,PMOL/KG,,FMOL/KG,,UMOL/KG,,UMOL/KG,,,,DEG C,TU,,NMOL/KG,,PERCNT,,DEG C,,/MILLE,,/MILLE,,/MILLE,NMOL/KG,,/MILLE,,UG/KG,,UMOL/KG,,UMOL/KG,,,,TU,NMOL/KG,G/KG,,,,,,1/M,,1/M,,1/M,,1/M,,1/M,,1/M,,1/M,,1/NM,,1/NM,,NMOL/KG,PERCNT,DEG C,,,,,,,,/MILLE,,/MILLE,,
320620110219,       S04P,      25,          1,         36,         36,2,20110304,       2109,   -67.0002,  -175.4657,       3028,     5.1,  -0.5272,  33.8081,2,  33.8072,2,    336.5,3,   341.1,2,   56.11,2,   26.33,2,    0.17,2,    1.73,2,   5.863,2,   3.245,2,   0.576,2,-999.0000,9,  2167.4,6,  2288.2,2,   7.6780,2,    25.00,-999.000,9,-999.0000,9,-999.000,9,  -0.5271,2,    1.09,2,  -112.9,2,     2.5,-999.000,9, -999.00,9,-999.000,9, -999.00,9, -999.00,9, -67.0002,-175.4657,-999.000,     -999.0,    33.9666,2,     -999.0,9,     -999.0,9,-999.0000,9,-999.0000,9,-999.0000,9,-999.0000,9,-999.0000,9,-999.0000,9,-999.0000,9,-999.0000,9,-999.0000,9,-999.0000,-999.000,  -0.5273,     -999.0,     -999.0,9,     -999.0,9,     -999.0,9,     -999.0,9,     -999.0,20110304,       2257
320620110219,       S04P,      25,          1,         35,         35,2,20110304,       2109,   -67.0002,  -175.4657,       3028,    34.9,  -0.5363,  33.8085,2,  33.8085,2,    341.2,2,   332.0,3,   55.82,2,   26.37,2,    0.16,2,    1.75,2,   5.874,2,   3.246,2,   0.572,2,-999.0000,9,  2166.1,2,  2287.8,2,   7.6793,4,    25.00,-999.000,9,-999.0000,9,-999.000,9,  -0.5360,2, -999.00,9,  -999.0,9,  -999.0,-999.000,9, -999.00,9,-999.000,9, -999.00,9, -999.00,9, -67.0001,-175.4657,-999.000,     -999.0,    33.9679,2,     -999.0,9,     -999.0,9,-999.0000,9,-999.0000,9,-999.0000,9,-999.0000,9,-999.0000,9,-999.0000,9,-999.0000,9,-999.0000,9,-999.0000,9,-999.0000,-999.000,  -0.5373,     -999.0,     -999.0,9,     -999.0,9,     -999.0,9,     -999.0,9,     -999.0,20110304,       2254
320620110219,       S04P,      25,          1,         34,         34,2,20110304,       2109,   -67.0002,  -175.4657,       3028,    59.2,  -0.8114,  33.8959,2,  33.8881,2,    333.2,2,   332.2,2,   57.22,2,   26.90,2,    0.15,2,    1.79,2,   5.490,2,   3.054,2,   0.539,2,-999.0000,9,  2173.5,2,  2291.9,6,   7.6705,4,    25.00,-999.000,9,-999.0000,9,-999.000,9,  -0.8374,2,    1.03,2,  -121.1,2,     3.0,-999.000,9, -999.00,9,-999.000,9, -999.00,9, -999.00,9, -67.0001,-175.4657,-999.000,     -999.0,    34.0479,2,     -999.0,9,     -999.0,9,-999.0000,9,-999.0000,9,-999.0000,9,-999.0000,9,-999.0000,9,-999.0000,9,-999.0000,9,-999.0000,9,-999.0000,9,-999.0000,-999.000,  -0.8130,     -999.0,     -999.0,9,     -999.0,9,     -999.0,9,     -999.0,9,     -999.0,20110304,       2253
320620110219,       S04P,      25,          1,         33,         33,2,20110304,       2109,   -67.0002,  -175.4657,       3028,    85.2,  -1.3601,  34.2983,2,  34.3063,2,    274.2,2,   273.9,2,   66.75,2,   30.50,2,    0.14,2,    2.06,2,   3.846,2,   2.110,2,   0.368,2,-999.0000,9,  2218.2,2,  2315.3,2,   7.6104,2,    25.00,-999.000,9,-999.0000,9,-999.000,9,  -1.3444,2,    0.73,2,  -129.5,2,     2.7,-999.000,9, -999.00,9,-999.000,9, -999.00,9, -999.00,9, -67.0001,-175.4657,-999.000,     -999.0,    34.4680,2,     -999.0,9,     -999.0,9,-999.0000,9,-999.0000,9,-999.0000,9,-999.0000,9,-999.0000,9,-999.0000,9,-999.0000,9,-999.0000,9,-999.0000,9,-999.0000,-999.000,  -1.3621,     -999.0,     -999.0,9,     -999.0,9,     -999.0,9,     -999.0,9,     -999.0,20110304,       2251
320620110219,       S04P,      25,          1,         32,         32,2,20110304,       2109,   -67.0002,  -175.4657,       3028,   110.4,   0.1510,  34.4876,2,  34.4803,2,    239.1,2,   227.5,2,   77.57,2,   32.13,2,    0.04,2,    2.17,2,   2.338,2,   1.284,2,   0.213,2,-999.0000,9,  2238.0,2,  2326.6,2,   7.5830,2,    25.00,-999.000,9,-999.0000,9,-999.000,9,   0.1525,2,    0.52,2,  -136.0,2,     3.1,-999.000,9, -999.00,9,-999.000,9, -999.00,9, -999.00,9, -67.0001,-175.4657,-999.000,     -999.0,    34.6429,2,     -999.0,9,     -999.0,9,-999.0000,9,-999.0000,9,-999.0000,9,-999.0000,9,-999.0000,9,-999.0000,9,-999.0000,9,-999.0000,9,-999.0000,9,-999.0000,-999.000,   0.1469,     -999.0,     -999.0,9,     -999.0,9,     -999.0,9,     -999.0,9,     -999.0,20110304,       2249
320620110219,       S04P,      25,          1,         31,         31,2,20110304,       2109,   -67.0002,  -175.4657,       3028,   136.4,   1.0259,  34.6075,2,  34.6119,2,    199.0,2,   198.8,2,   84.40,2,   32.62,2,    0.05,2,    2.23,2,   1.190,2,   0.641,2,   0.111,2,-999.0000,9,  2250.7,2,  2336.4,2,   7.5711,4,    25.00,-999.000,9,-999.0000,9,-999.000,9,   1.0193,2,    0.42,2,  -144.1,2,     2.5,-999.000,9, -999.00,9,-999.000,9, -999.00,9, -999.00,9, -67.0002,-175.4657,-999.000,     -999.0,    34.7751,2,     -999.0,9,     -999.0,9,-999.0000,9,-999.0000,9,-999.0000,9,-999.0000,9,-999.0000,9,-999.0000,9,-999.0000,9,-999.0000,9,-999.0000,9,-999.0000,-999.000,   1.0198,     -999.0,     -999.0,9,     -999.0,9,     -999.0,9,     -999.0,9,     -999.0,20110304,       2247
320620110219,       S04P,      25,          1,         30,         30,2,20110304,       2109,   -67.0002,  -175.4657,       3028,   160.1,   1.3007,  34.6645,2,  34.6605,2,    191.6,2,   192.1,2,   87.74,2,   32.72,2,    0.03,2,    2.23,2,   0.849,2,   0.454,2,   0.070,2,-999.0000,9,  2253.8,2,  2340.2,2,   7.5727,2,    25.00,-999.000,9,-999.0000,9,-999.000,9,   1.2961,2,    0.36,2,  -142.6,2,     2.5,-999.000,9, -999.00,9,-999.000,9, -999.00,9, -999.00,9, -67.0002,-175.4658,-999.000,     -999.0,    34.8240,2,     -999.0,9,     -999.0,9,-999.0000,9,-999.0000,9,-999.0000,9,-999.0000,9,-999.0000,9,-999.0000,9,-999.0000,9,-999.0000,9,-999.0000,9,-999.0000,-999.000,   1.2931,     -999.0,     -999.0,9,     -999.0,9,     -999.0,9,     -999.0,9,     -999.0,20110304,       2245
320620110219,       S04P,      25,          1,         29,         29,2,20110304,       2109,   -67.0002,  -175.4657,       3028,   185.3,   1.4052,  34.6911,2,  34.6897,2,    189.4,2,   189.4,2,   89.18,2,   32.51,2,    0.01,2,    2.20,2,   0.662,2,   0.332,2,   0.053,2,-999.0000,9,  2253.1,2,  2343.3,2,   7.5761,2,    25.00,-999.000,9,-999.0000,9,-999.000,9,   1.4060,2,    0.38,2,  -143.1,2,     2.6,-999.000,9, -999.00,9,-999.000,9, -999.00,9, -999.00,9, -67.0002,-175.4657,-999.000,     -999.0,    34.8533,2,     -999.0,9,     -999.0,9,-999.0000,9,-999.0000,9,-999.0000,9,-999.0000,9,-999.0000,9,-999.0000,9,-999.0000,9,-999.0000,9,-999.0000,9,-999.0000,-999.000,   1.3962,     -999.0,     -999.0,9,     -999.0,9,     -999.0,9,     -999.0,9,     -999.0,20110304,       2243
320620110219,       S04P,      25,          1,         28,         28,2,20110304,       2109,   -67.0002,  -175.4657,       3028,   209.8,   1.4216,  34.7002,2,  34.6982,2,    190.2,2,   190.2,2,   89.37,2,   32.27,2,    0.01,2,    2.19,2,   0.608,2,   0.320,2,   0.049,2,-999.0000,9,  2252.5,2,  2343.2,2,   7.5821,4,    25.00,-999.000,9,-999.0000,9,-999.000,9,   1.4218,2,    0.40,2,  -138.3,2,     2.3,-999.000,9, -999.00,9,-999.000,9, -999.00,9, -999.00,9, -67.0001,-175.4657,-999.000,     -999.0,    34.8618,2,     -999.0,9,     -999.0,9,-999.0000,9,-999.0000,9,-999.0000,9,-999.0000,9,-999.0000,9,-999.0000,9,-999.0000,9,-999.0000,9,-999.0000,9,-999.0000,-999.000,   1.4113,     -999.0,     -999.0,9,     -999.0,9,     -999.0,9,     -999.0,9,     -999.0,20110304,       2241
320620110219,       S04P,      25,          1,         27,         27,2,20110304,       2109,   -67.0002,  -175.4657,       3028,   234.9,   1.4310,  34.7068,2,  34.7054,2,    191.0,2,   191.9,2,   89.57,2,   32.04,2,    0.00,2,    2.17,2,-999.000,9,-999.000,9,-999.000,9,-999.0000,9,  2252.8,2,  2344.5,2,   7.5866,4,    25.00,-999.000,9,-999.0000,9,-999.000,9,   1.4313,2,    0.45,2,  -142.4,2,     2.3,-999.000,9, -999.00,9,-999.000,9, -999.00,9, -999.00,9, -67.0001,-175.4657,-999.000,     -999.0,    34.8691,2,     -999.0,9,     -999.0,9,-999.0000,9,-999.0000,9,-999.0000,9,-999.0000,9,-999.0000,9,-999.0000,9,-999.0000,9,-999.0000,9,-999.0000,9,-999.0000,-999.000,   1.4194,     -999.0,     -999.0,9,     -999.0,9,     -999.0,9,     -999.0,9,     -999.0,20110304,       2239
320620110219,       S04P,      25,          1,         26,         26,2,20110304,       2109,   -67.0002,  -175.4657,       3028,   265.4,   1.4232,  34.7120,2,  34.7109,2,    191.5,2,   192.2,2,   90.90,2,   31.98,2,    0.00,2,    2.18,2,   0.517,2,   0.266,2,   0.040,2,-999.0000,9,  2254.0,2,  2344.4,2,   7.5848,4,    25.00,-999.000,9,-999.0000,9,-999.000,9,   1.4238,2,    0.46,2,  -145.2,2,     3.3,-999.000,9, -999.00,9,-999.000,9, -999.00,9, -999.00,9, -67.0002,-175.4657,-999.000,     -999.0,    34.8746,2,     -999.0,9,     -999.0,9,-999.0000,9,-999.0000,9,-999.0000,9,-999.0000,9,-999.0000,9,-999.0000,9,-999.0000,9,-999.0000,9,-999.0000,9,-999.0000,-999.000,   1.4100,     -999.0,     -999.0,9,     -999.0,9,     -999.0,9,     -999.0,9,     -999.0,20110304,       2238
320620110219,       S04P,      25,          1,         25,         25,2,20110304,       2109,   -67.0002,  -175.4657,       3028,   315.3,   1.4129,  34.7179,2,  34.7161,2,    192.8,2,   191.0,2,   93.66,2,   32.04,2,    0.00,2,    2.18,2,-999.000,9,-999.000,9,-999.000,9,-999.0000,9,  2254.6,2,  2345.9,2,   7.5877,4,    25.00,-999.000,9,-999.0000,9,-999.000,9,   1.4135,2,    0.37,2,  -151.0,2,     2.5,-999.000,9, -999.00,9,-999.000,9, -999.00,9, -999.00,9, -67.0001,-175.4657,-999.000,     -999.0,    34.8798,2,     -999.0,9,     -999.0,9,-999.0000,9,-999.0000,9,-999.0000,9,-999.0000,9,-999.0000,9,-999.0000,9,-999.0000,9,-999.0000,9,-999.0000,9,-999.0000,-999.000,   1.3972,     -999.0,     -999.0,9,     -999.0,9,     -999.0,9,     -999.0,9,     -999.0,20110304,       2235
320620110219,       S04P,      25,          1,         24,         24,2,20110304,       2109,   -67.0002,  -175.4657,       3028,   365.1,   1.3736,  34.7204,2,  34.7184,2,    192.7,2,   192.4,2,   94.92,2,   31.87,2,    0.00,2,    2.17,2,   0.435,2,   0.211,2,   0.024,2,-999.0000,9,  2252.1,3,  2348.0,2,   7.5916,4,    25.00,-999.000,9,-999.0000,9,-999.000,9,   1.3744,2,    0.36,2,  -153.1,2,     2.6,-999.000,9, -999.00,9,-999.000,9, -999.00,9, -999.00,9, -67.0002,-175.4657,-999.000,     -999.0,    34.8821,2,     -999.0,9,     -999.0,9,-999.0000,9,-999.0000,9,-999.0000,9,-999.0000,9,-999.0000,9,-999.0000,9,-999.0000,9,-999.0000,9,-999.0000,9,-999.0000,-999.000,   1.3553,     -999.0,     -999.0,9,     -999.0,9,     -999.0,9,     -999.0,9,     -999.0,20110304,       2233
320620110219,       S04P,      25,          1,         23,         23,2,20110304,       2109,   -67.0002,  -175.4657,       3028,   416.0,   1.3875,  34.7279,2,  34.7268,2,    189.1,2,   189.4,2,   99.17,2,   32.12,2,    0.00,2,    2.18,2,-999.000,9,-999.000,9,-999.000,9,-999.0000,9,  2258.4,2,  2350.1,2,   7.5886,4,    25.00,-999.000,9,-999.0000,9,-999.000,9,   1.3879,2,    0.38,2,  -153.5,2,     2.7,-999.000,9, -999.00,9,-999.000,9, -999.00,9, -999.00,9, -67.0001,-175.4657,-999.000,     -999.0,    34.8906,2,     -999.0,9,     -999.0,9,-999.0000,9,-999.0000,9,-999.0000,9,-999.0000,9,-999.0000,9,-999.0000,9,-999.0000,9,-999.0000,9,-999.0000,9,-999.0000,-999.000,   1.3665,     -999.0,     -999.0,9,     -999.0,9,     -999.0,9,     -999.0,9,     -999.0,20110304,       2231
320620110219,       S04P,      25,          1,         22,         22,2,20110304,       2109,   -67.0002,  -175.4657,       3028,   463.9,   1.3452,  34.7301,2,  34.7292,2,    188.5,2,   188.2,2,  102.34,2,   32.21,2,    0.00,2,    2.19,2,   0.206,2,   0.100,2,   0.011,2,-999.0000,9,  2259.6,2,  2351.6,2,   7.5855,4,    25.00,-999.000,9,-999.0000,9,-999.000,9,   1.3457,2,    0.37,2,  -158.9,2,     2.5,-999.000,9, -999.00,9,-999.000,9, -999.00,9, -999.00,9, -67.0002,-175.4657,-999.000,     -999.0,    34.8930,2,     -999.0,9,     -999.0,9,-999.0000,9,-999.0000,9,-999.0000,9,-999.0000,9,-999.0000,9,-999.0000,9,-999.0000,9,-999.0000,9,-999.0000,9,-999.0000,-999.000,   1.3217,     -999.0,     -999.0,9,     -999.0,9,     -999.0,9,     -999.0,9,     -999.0,20110304,       2228
320620110219,       S04P,      25,          1,         21,         21,2,20110304,       2109,   -67.0002,  -175.4657,       3028,   534.6,   1.2808,  34.7297,2,  34.7290,2,    189.0,2,   188.8,2,  104.05,2,   32.17,2,    0.00,2,    2.20,2,-999.000,9,-999.000,9,-999.000,9,-999.0000,9,  2259.4,2,  2352.9,2,   7.5984,4,    25.00,-999.000,9,-999.0000,9,-999.000,9,   1.2816,2,    0.42,2,  -162.3,2,     2.4,-999.000,9, -999.00,9,-999.000,9, -999.00,9, -999.00,9, -67.0001,-175.4657,-999.000,     -999.0,    34.8928,2,     -999.0,9,     -999.0,9,-999.0000,9,-999.0000,9,-999.0000,9,-999.0000,9,-999.0000,9,-999.0000,9,-999.0000,9,-999.0000,9,-999.0000,9,-999.0000,-999.000,   1.2537,     -999.0,     -999.0,9,     -999.0,9,     -999.0,9,     -999.0,9,     -999.0,20110304,       2226
320620110219,       S04P,      25,          1,         20,         20,2,20110304,       2109,   -67.0002,  -175.4657,       3028,   634.0,   1.1828,  34.7266,2,  34.7257,2,    193.0,2,   193.5,2,  105.47,2,   31.95,2,    0.00,2,    2.18,2,   0.192,2,   0.098,2,   0.010,2,-999.0000,9,  -999.0,9,  2354.0,2,-999.0000,9,  -999.00,-999.000,9,-999.0000,9,-999.000,9,   1.1832,2,    0.36,2,  -161.3,2,     2.6,-999.000,9, -999.00,9,-999.000,9, -999.00,9, -999.00,9, -67.0001,-175.4657,-999.000,     -999.0,    34.8894,2,     -999.0,9,     -999.0,9,-999.0000,9,-999.0000,9,-999.0000,9,-999.0000,9,-999.0000,9,-999.0000,9,-999.0000,9,-999.0000,9,-999.0000,9,-999.0000,-999.000,   1.1506,     -999.0,     -999.0,9,     -999.0,9,     -999.0,9,     -999.0,9,     -999.0,20110304,       2223
320620110219,       S04P,      25,          1,         19,         19,2,20110304,       2109,   -67.0002,  -175.4657,       3028,   735.6,   1.1128,  34.7239,2,  34.7235,2,    197.1,2,   196.3,2,  107.08,2,   31.82,2,    0.00,2,    2.17,2,-999.000,9,-999.000,9,-999.000,9,-999.0000,9,  2257.9,2,  2353.3,6,   7.6083,4,    25.00,-999.000,9,-999.0000,9,-999.000,9,   1.1141,2,    0.47,2,  -151.3,2,     2.5,-999.000,9, -999.00,9,-999.000,9, -999.00,9, -999.00,9, -67.0001,-175.4657,-999.000,     -999.0,    34.8872,2,     -999.0,9,     -999.0,9,-999.0000,9,-999.0000,9,-999.0000,9,-999.0000,9,-999.0000,9,-999.0000,9,-999.0000,9,-999.0000,9,-999.0000,9,-999.0000,-999.000,   1.0752,     -999.0,     -999.0,9,     -999.0,9,     -999.0,9,     -999.0,9,     -999.0,20110304,       2220
320620110219,       S04P,      25,          1,         18,         18,2,20110304,       2109,   -67.0002,  -175.4657,       3028,   835.6,   1.0524,  34.7218,2,  34.7215,2,    199.1,2,   198.8,2,  108.29,2,   31.65,2,    0.00,2,    2.17,2,   0.237,2,   0.113,2,   0.014,2,-999.0000,9,  -999.0,9,  2352.7,2,   7.6080,4,    25.00,-999.000,9,-999.0000,9,-999.000,9,   1.0534,2,    0.47,2,  -154.1,2,     2.5,-999.000,9, -999.00,9,-999.000,9, -999.00,9, -999.00,9, -67.0001,-175.4657,-999.000,     -999.0,    34.8853,2,     -999.0,9,     -999.0,9,-999.0000,9,-999.0000,9,-999.0000,9,-999.0000,9,-999.0000,9,-999.0000,9,-999.0000,9,-999.0000,9,-999.0000,9,-999.0000,-999.000,   1.0094,     -999.0,     -999.0,9,     -999.0,9,     -999.0,9,     -999.0,9,     -999.0,20110304,       2217
320620110219,       S04P,      25,          1,         17,         17,2,20110304,       2109,   -67.0002,  -175.4657,       3028,   933.8,   0.9922,  34.7199,2,  34.7192,2,    199.5,2,   199.6,2,  110.41,2,   31.75,2,    0.00,2,    2.17,2,-999.000,9,-999.000,9,-999.000,9,-999.0000,9,  -999.0,9,  2355.6,2,   7.6090,4,    25.00,-999.000,9,-999.0000,9,-999.000,9,   0.9935,2,    0.47,2,  -157.0,2,     2.8,-999.000,9, -999.00,9,-999.000,9, -999.00,9, -999.00,9, -67.0001,-175.4658,-999.000,     -999.0,    34.8829,2,     -999.0,9,     -999.0,9,-999.0000,9,-999.0000,9,-999.0000,9,-999.0000,9,-999.0000,9,-999.0000,9,-999.0000,9,-999.0000,9,-999.0000,9,-999.0000,-999.000,   0.9438,     -999.0,     -999.0,9,     -999.0,9,     -999.0,9,     -999.0,9,     -999.0,20110304,       2214
320620110219,       S04P,      25,          1,         16,         16,2,20110304,       2109,   -67.0002,  -175.4657,       3028,  1037.8,   0.9375,  34.7179,2,  34.7172,2,    200.6,2,   200.3,2,  111.97,2,   31.83,2,    0.00,2,    2.18,2,   0.199,2,   0.099,2,   0.009,2,-999.0000,9,  2259.7,6,  2356.1,2,   7.6070,4,    25.00,-999.000,9,-999.0000,9,-999.000,9,   0.9393,2,    0.49,2,  -155.1,2,     2.9,-999.000,9, -999.00,9,-999.000,9, -999.00,9, -999.00,9, -67.0002,-175.4657,-999.000,     -999.0,    34.8809,2,     -999.0,9,     -999.0,9,-999.0000,9,-999.0000,9,-999.0000,9,-999.0000,9,-999.0000,9,-999.0000,9,-999.0000,9,-999.0000,9,-999.0000,9,-999.0000,-999.000,   0.8833,     -999.0,     -999.0,9,     -999.0,9,     -999.0,9,     -999.0,9,     -999.0,20110304,       2211
320620110219,       S04P,      25,          1,         15,         15,2,20110304,       2109,   -67.0002,  -175.4657,       3028,  1134.9,   0.8609,  34.7150,2,  34.7145,2,    201.7,2,   202.3,2,  115.04,2,   31.84,2,    0.00,2,    2.19,2,-999.000,9,-999.000,9,-999.000,9,-999.0000,9,  -999.0,9,  2357.7,2,   7.6070,4,    25.00,-999.000,9,-999.0000,9,-999.000,9,   0.8612,2,    0.45,2,  -159.6,2,     2.9,-999.000,9, -999.00,9,-999.000,9, -999.00,9, -999.00,9, -67.0001,-175.4657,-999.000,     -999.0,    34.8782,2,     -999.0,9,     -999.0,9,-999.0000,9,-999.0000,9,-999.0000,9,-999.0000,9,-999.0000,9,-999.0000,9,-999.0000,9,-999.0000,9,-999.0000,9,-999.0000,-999.000,   0.8014,     -999.0,     -999.0,9,     -999.0,9,     -999.0,9,     -999.0,9,     -999.0,20110304,       2208
320620110219,       S04P,      25,          1,         14,         14,2,20110304,       2109,   -67.0002,  -175.4657,       3028,  1234.7,   0.8164,  34.7131,2,  34.7125,2,    202.9,2,   203.2,2,  115.60,2,   31.90,2,    0.00,2,    2.19,2,   0.198,2,   0.094,2,   0.007,2,-999.0000,9,  -999.0,9,  -999.0,9,-999.0000,9,  -999.00,-999.000,9,-999.0000,9,-999.000,9,   0.8172,2, -999.00,9,  -999.0,9,  -999.0,-999.000,9, -999.00,9,-999.000,9, -999.00,9, -999.00,9, -67.0002,-175.4657,-999.000,     -999.0,    34.8762,2,     -999.0,9,     -999.0,9,-999.0000,9,-999.0000,9,-999.0000,9,-999.0000,9,-999.0000,9,-999.0000,9,-999.0000,9,-999.0000,9,-999.0000,9,-999.0000,-999.000,   0.7511,     -999.0,     -999.0,9,     -999.0,9,     -999.0,9,     -999.0,9,     -999.0,20110304,       2205