BOTTLE,20220813CCHSIOAMB
EXPOCODE,SECT_ID,STNNBR,CASTNO,SAMPNO,BTLNBR,BTLNBR_FLAG_W,DATE,TIME,LATITUDE,LONGITUDE,DEPTH,CTDPRS,CTDTMP,CTDSAL,CTDSAL_FLAG_W,SALNTY,SALNTY_FLAG_W,CTDOXY,CTDOXY_FLAG_W,OXYGEN,OXYGEN_FLAG_W,SILCAT,SILCAT_FLAG_W,NITRAT,NITRAT_FLAG_W,NITRIT,NITRIT_FLAG_W,PHSPHT,PHSPHT_FLAG_W,CFC-11,CFC-11_FLAG_W,CFC-12,CFC-12_FLAG_W,CFC113,CFC113_FLAG_W,SF6,SF6_FLAG_W,TCARBN,TCARBN_FLAG_W,ALKALI,ALKALI_FLAG_W,PH_TOT,PH_TOT_FLAG_W,PH_TMP,TRITUM,TRITUM_FLAG_W,HELIUM,HELIUM_FLAG_W,DELHE3,DELHE3_FLAG_W,REFTMP,REFTMP_FLAG_W,DELC13,DELC13_FLAG_W,DELC14,DELC14_FLAG_W,C14ERR,NEON,NEON_FLAG_W,DELO18,DELO18_FLAG_W,POC,POC_FLAG_W,DOC,DOC_FLAG_W,TDN,TDN_FLAG_W,BTL_LAT,BTL_LON,TRITER,NEONER,SALTREF,SALTREF_FLAG_W,PIGMENTS,PIGMENTS_FLAG_W,LAB_DEN,LAB_DEN_FLAG_W,CDOM325,CDOM325_FLAG_W,CDOM340,CDOM340_FLAG_W,CDOM380,CDOM380_FLAG_W,CDOM412,CDOM412_FLAG_W,CDOM443,CDOM443_FLAG_W,CDOM490,CDOM490_FLAG_W,CDOM555,CDOM555_FLAG_W,CDOMSL,CDOMSL_FLAG_W,CDOMSN,CDOMSN_FLAG_W,HELIER,DELHER,THETA,LDEO_SAMPNO,ABSORBTION,ABSORBTION_FLAG_W,IMAGE_COUNT,IMAGE_COUNT_FLAG_W,CYTO_COUNT,CYTO_COUNT_FLAG_W,DELD,DELD_FLAG_W,DELDERR,BTL_DATE,BTL_TIME
,,,,,,,,,,,METERS,DBAR,ITS-90,PSS-78,,PSS-78,,UMOL/KG,,UMOL/KG,,UMOL/KG,,UMOL/KG,,UMOL/KG,,UMOL/KG,,PMOL/KG,,PMOL/KG,,PMOL/KG,,FMOL/KG,,UMOL/KG,,UMOL/KG,,,,DEG C,TU,,NMOL/KG,,PERCNT,,DEG C,,/MILLE,,/MILLE,,/MILLE,NMOL/KG,,/MILLE,,UG/KG,,UMOL/KG,,UMOL/KG,,,,TU,NMOL/KG,G/KG,,,,,,1/M,,1/M,,1/M,,1/M,,1/M,,1/M,,1/M,,1/NM,,1/NM,,NMOL/KG,PERCNT,DEG C,,,,,,,,/MILLE,,/MILLE,,
320620110219,       S04P,       3,          1,         14,         14,2,20110223,       0029,   -70.5001,   168.3531,        399,     1.8,  -1.1970,  34.1709,2,-999.0000,5,    337.4,3,   340.9,2,   67.71,2,   28.65,2,    0.16,2,    1.92,2,   5.725,2,   3.145,2,   0.594,2,   2.7470,2,  2201.0,2,  2308.2,2,-999.0000,5,    25.00,-999.000,9,-999.0000,9,-999.000,9,  -1.1979,2, -999.00,9,  -999.0,9,  -999.0,-999.000,9, -999.00,9,-999.000,9, -999.00,9, -999.00,9, -70.5001, 168.3531,-999.000,     -999.0,     -999.0,5,     -999.0,9,     -999.0,9,-999.0000,9,-999.0000,9,-999.0000,9,-999.0000,9,-999.0000,9,-999.0000,9,-999.0000,9,-999.0000,9,-999.0000,9,-999.0000,-999.000,  -1.1970,     -999.0,     -999.0,9,     -999.0,9,     -999.0,9,     -999.0,9,     -999.0,20110223,       0054
320620110219,       S04P,       3,          1,         13,         13,2,20110223,       0029,   -70.5001,   168.3531,        399,    24.6,  -1.2449,  34.1831,2,  34.1820,2,    338.5,2,   340.1,2,   67.55,2,   28.45,2,    0.16,2,    1.93,2,   5.822,2,   3.121,2,   0.562,2,   2.7400,2,  2201.7,2,  2311.3,2,-999.0000,5,    25.00,-999.000,9,-999.0000,9,-999.000,9,  -1.2442,2, -999.00,9,  -999.0,9,  -999.0,-999.000,9, -999.00,9,-999.000,9, -999.00,9, -999.00,9, -70.5002, 168.3531,-999.000,     -999.0,    34.3432,2,     -999.0,9,     -999.0,9,-999.0000,9,-999.0000,9,-999.0000,9,-999.0000,9,-999.0000,9,-999.0000,9,-999.0000,9,-999.0000,9,-999.0000,9,-999.0000,-999.000,  -1.2455,     -999.0,     -999.0,9,     -999.0,9,     -999.0,9,     -999.0,9,     -999.0,20110223,       0052
320620110219,       S04P,       3,          1,         12,         12,2,20110223,       0029,   -70.5001,   168.3531,        399,    49.9,  -0.8378,  34.3202,2,  34.3254,2,    308.2,2,   311.1,2,   71.02,2,   29.66,2,    0.09,2,    1.98,2,   4.848,2,   2.638,2,   0.481,2,   2.1150,2,  2213.4,2,  2321.1,2,-999.0000,5,    25.00,-999.000,9,-999.0000,9,-999.000,9,  -0.8302,2, -999.00,9,  -999.0,9,  -999.0,-999.000,9, -999.00,9,-999.000,9, -999.00,9, -999.00,9, -70.5002, 168.3531,-999.000,     -999.0,    34.4872,2,     -999.0,9,     -999.0,9,-999.0000,9,-999.0000,9,-999.0000,9,-999.0000,9,-999.0000,9,-999.0000,9,-999.0000,9,-999.0000,9,-999.0000,9,-999.0000,-999.000,  -0.8392,     -999.0,     -999.0,9,     -999.0,9,     -999.0,9,     -999.0,9,     -999.0,20110223,       0050
320620110219,       S04P,       3,          1,         11,         11,2,20110223,       0029,   -70.5001,   168.3531,        399,    74.2,  -0.6946,  34.3684,2,  34.3677,2,    300.0,2,   297.2,2,   72.86,2,   29.51,2,    0.07,2,    2.01,2,   4.372,2,   2.386,2,   0.434,2,   1.9540,2,  2218.5,2,  2324.1,2,-999.0000,5,    25.00,-999.000,9,-999.0000,9,-999.000,9,  -0.6941,2, -999.00,9,  -999.0,9,  -999.0,-999.000,9, -999.00,9,-999.000,9, -999.00,9, -999.00,9, -70.5002, 168.3531,-999.000,     -999.0,    34.5297,2,     -999.0,9,     -999.0,9,-999.0000,9,-999.0000,9,-999.0000,9,-999.0000,9,-999.0000,9,-999.0000,9,-999.0000,9,-999.0000,9,-999.0000,9,-999.0000,-999.000,  -0.6968,     -999.0,     -999.0,9,     -999.0,9,     -999.0,9,     -999.0,9,     -999.0,20110223,       0048
320620110219,       S04P,       3,          1,         10,         10,2,20110223,       0029,   -70.5001,   168.3531,        399,    99.8,  -0.6596,  34.3826,2,-999.0000,5,    295.9,2,   293.3,2,   73.24,2,   29.68,2,    0.07,2,    2.02,2,   4.246,2,   2.311,2,   0.426,2,   1.7380,2,  -999.0,9,  -999.0,9,-999.0000,9,  -999.00,-999.000,9,-999.0000,9,-999.000,9,  -0.6599,2, -999.00,9,  -999.0,9,  -999.0,-999.000,9, -999.00,9,-999.000,9, -999.00,9, -999.00,9, -70.5001, 168.3531,-999.000,     -999.0,     -999.0,5,     -999.0,9,     -999.0,9,-999.0000,9,-999.0000,9,-999.0000,9,-999.0000,9,-999.0000,9,-999.0000,9,-999.0000,9,-999.0000,9,-999.0000,9,-999.0000,-999.000,  -0.6626,     -999.0,     -999.0,9,     -999.0,9,     -999.0,9,     -999.0,9,     -999.0,20110223,       0046
320620110219,       S04P,       3,          1,          9,          9,2,20110223,       0029,   -70.5001,   168.3531,        399,   124.5,  -0.9084,  34.3978,2,  34.3990,2,    296.1,2,   299.4,2,   74.49,2,   29.20,2,    0.07,2,    2.02,2,   4.520,2,   2.433,2,   0.451,2,   1.7510,2,  2222.0,2,  2325.5,2,-999.0000,5,    25.00,-999.000,9,-999.0000,9,-999.000,9,  -0.9169,2, -999.00,9,  -999.0,9,  -999.0,-999.000,9, -999.00,9,-999.000,9, -999.00,9, -999.00,9, -70.5001, 168.3531,-999.000,     -999.0,    34.5612,2,     -999.0,9,     -999.0,9,-999.0000,9,-999.0000,9,-999.0000,9,-999.0000,9,-999.0000,9,-999.0000,9,-999.0000,9,-999.0000,9,-999.0000,9,-999.0000,-999.000,  -0.9119,     -999.0,     -999.0,9,     -999.0,9,     -999.0,9,     -999.0,9,     -999.0,20110223,       0045
320620110219,       S04P,       3,          1,          8,          8,2,20110223,       0029,   -70.5001,   168.3531,        399,   149.8,  -1.0862,  34.3969,2,  34.3976,2,    304.4,2,   304.2,2,   74.36,2,   28.93,2,    0.07,2,    2.01,2,   4.764,2,   2.530,2,   0.457,2,   2.0290,2,  -999.0,9,  -999.0,9,-999.0000,9,  -999.00,-999.000,9,-999.0000,9,-999.000,9,  -1.0878,2, -999.00,9,  -999.0,9,  -999.0,-999.000,9, -999.00,9,-999.000,9, -999.00,9, -999.00,9, -70.5002, 168.3531,-999.000,     -999.0,    34.5598,2,     -999.0,9,     -999.0,9,-999.0000,9,-999.0000,9,-999.0000,9,-999.0000,9,-999.0000,9,-999.0000,9,-999.0000,9,-999.0000,9,-999.0000,9,-999.0000,-999.000,  -1.0902,     -999.0,     -999.0,9,     -999.0,9,     -999.0,9,     -999.0,9,     -999.0,20110223,       0043
320620110219,       S04P,       3,          1,          7,          7,2,20110223,       0029,   -70.5001,   168.3531,        399,   175.2,  -0.6489,  34.4442,2,  34.4443,2,    293.2,2,   278.0,2,   77.46,2,   30.09,2,    0.06,2,    2.06,2,   3.906,2,   2.050,2,   0.365,2,   1.5060,2,  2228.5,2,  2329.1,2,-999.0000,5,    25.00,-999.000,9,-999.0000,9,-999.000,9,  -0.6507,2, -999.00,9,  -999.0,9,  -999.0,-999.000,9, -999.00,9,-999.000,9, -999.00,9, -999.00,9, -70.5002, 168.3531,-999.000,     -999.0,    34.6067,2,     -999.0,9,     -999.0,9,-999.0000,9,-999.0000,9,-999.0000,9,-999.0000,9,-999.0000,9,-999.0000,9,-999.0000,9,-999.0000,9,-999.0000,9,-999.0000,-999.000,  -0.6543,     -999.0,     -999.0,9,     -999.0,9,     -999.0,9,     -999.0,9,     -999.0,20110223,       0042
320620110219,       S04P,       3,          1,          6,          6,2,20110223,       0029,   -70.5001,   168.3531,        399,   201.4,  -0.3204,  34.5074,2,  34.5074,2,    259.0,2,   254.2,2,   82.25,2,   30.70,2,    0.04,2,    2.11,2,   3.280,2,   1.636,2,   0.296,2,   1.1760,2,  -999.0,9,  -999.0,9,-999.0000,9,  -999.00,-999.000,9,-999.0000,9,-999.000,9,  -0.3224,2, -999.00,9,  -999.0,9,  -999.0,-999.000,9, -999.00,9,-999.000,9, -999.00,9, -999.00,9, -70.5001, 168.3531,-999.000,     -999.0,    34.6701,2,     -999.0,9,     -999.0,9,-999.0000,9,-999.0000,9,-999.0000,9,-999.0000,9,-999.0000,9,-999.0000,9,-999.0000,9,-999.0000,9,-999.0000,9,-999.0000,-999.000,  -0.3272,     -999.0,     -999.0,9,     -999.0,9,     -999.0,9,     -999.0,9,     -999.0,20110223,       0040
320620110219,       S04P,       3,          1,          5,          5,2,20110223,       0029,   -70.5001,   168.3531,        399,   225.4,  -0.3321,  34.5289,2,  34.5297,2,    250.7,2,   250.9,2,   84.06,2,   30.44,2,    0.04,2,    2.11,2,   3.164,2,   1.582,2,   0.288,2,   1.1470,2,  2241.3,2,  2331.6,4,-999.0000,5,    25.00,-999.000,9,-999.0000,9,-999.000,9,  -0.3333,2, -999.00,9,  -999.0,9,  -999.0,-999.000,9, -999.00,9,-999.000,9, -999.00,9, -999.00,9, -70.5002, 168.3531,-999.000,     -999.0,    34.6926,2,     -999.0,9,     -999.0,9,-999.0000,9,-999.0000,9,-999.0000,9,-999.0000,9,-999.0000,9,-999.0000,9,-999.0000,9,-999.0000,9,-999.0000,9,-999.0000,-999.000,  -0.3398,     -999.0,     -999.0,9,     -999.0,9,     -999.0,9,     -999.0,9,     -999.0,20110223,       0038
320620110219,       S04P,       3,          1,          4,          4,2,20110223,       0029,   -70.5001,   168.3531,        399,   251.1,  -0.2394,  34.5551,2,  34.5542,2,    241.3,2,   244.8,2,   86.19,2,   30.48,2,    0.04,2,    2.12,2,   2.986,2,   1.449,2,   0.263,2,   1.1110,2,  2242.9,2,  2337.1,2,-999.0000,5,    25.00,-999.000,9,-999.0000,9,-999.000,9,  -0.2397,2, -999.00,9,  -999.0,9,  -999.0,-999.000,9, -999.00,9,-999.000,9, -999.00,9, -999.00,9, -70.5001, 168.3531,-999.000,     -999.0,    34.7172,2,     -999.0,9,     -999.0,9,-999.0000,9,-999.0000,9,-999.0000,9,-999.0000,9,-999.0000,9,-999.0000,9,-999.0000,9,-999.0000,9,-999.0000,9,-999.0000,-999.000,  -0.2482,     -999.0,     -999.0,9,     -999.0,9,     -999.0,9,     -999.0,9,     -999.0,20110223,       0036
320620110219,       S04P,       3,          1,          3,          3,2,20110223,       0029,   -70.5001,   168.3531,        399,   300.0,  -0.2609,  34.5844,2,  34.5844,2,    240.5,2,   241.7,2,   87.92,2,   31.54,2,    0.03,2,    2.14,2,   2.770,2,   1.385,2,   0.236,2,   1.0190,2,  2245.1,2,  2339.2,2,-999.0000,5,    25.00,-999.000,9,-999.0000,9,-999.000,9,  -0.2594,2, -999.00,9,  -999.0,9,  -999.0,-999.000,9, -999.00,9,-999.000,9, -999.00,9, -999.00,9, -70.5001, 168.3531,-999.000,     -999.0,    34.7475,2,     -999.0,9,     -999.0,9,-999.0000,9,-999.0000,9,-999.0000,9,-999.0000,9,-999.0000,9,-999.0000,9,-999.0000,9,-999.0000,9,-999.0000,9,-999.0000,-999.000,  -0.2716,     -999.0,     -999.0,9,     -999.0,9,     -999.0,9,     -999.0,9,     -999.0,20110223,       0034
320620110219,       S04P,       3,          1,          2,          2,2,20110223,       0029,   -70.5001,   168.3531,        399,   350.5,  -0.2927,  34.5844,2,  34.5840,2,    242.0,2,   242.7,2,   87.44,2,   30.95,2,    0.03,2,    2.12,2,   2.876,2,   1.426,2,   0.266,2,   1.0460,2,  2244.6,2,  2338.2,2,-999.0000,5,    25.00,-999.000,9,-999.0000,9,-999.000,9,  -0.2905,2, -999.00,9,  -999.0,9,  -999.0,-999.000,9, -999.00,9,-999.000,9, -999.00,9, -999.00,9, -70.5001, 168.3531,-999.000,     -999.0,    34.7471,2,     -999.0,9,     -999.0,9,-999.0000,9,-999.0000,9,-999.0000,9,-999.0000,9,-999.0000,9,-999.0000,9,-999.0000,9,-999.0000,9,-999.0000,9,-999.0000,-999.000,  -0.3052,     -999.0,     -999.0,9,     -999.0,9,     -999.0,9,     -999.0,9,     -999.0,20110223,       0032
320620110219,       S04P,       3,          1,          1,          1,2,20110223,       0029,   -70.5001,   168.3531,        399,   392.9,  -0.3510,  34.5771,2,  34.5770,2,   -999.0,9,  -999.0,5,   86.74,2,   31.08,2,    0.04,2,    2.14,2,   3.082,2,   1.498,2,   0.275,2,   1.1050,2,  2246.3,6,  2338.6,6,-999.0000,5,    25.00,-999.000,9,-999.0000,9,-999.000,9,  -0.3527,2, -999.00,9,  -999.0,9,  -999.0,-999.000,9, -999.00,9,-999.000,9, -999.00,9, -999.00,9, -70.5001, 168.3531,-999.000,     -999.0,    34.7400,2,     -999.0,9,     -999.0,9,-999.0000,9,-999.0000,9,-999.0000,9,-999.0000,9,-999.0000,9,-999.0000,9,-999.0000,9,-999.0000,9,-999.0000,9,-999.0000,-999.000,  -0.3650,     -999.0,     -999.0,9,     -999.0,9,     -999.0,9,     -999.0,9,     -999.0,20110223,       0029