BOTTLE,20220813CCHSIOAMB
EXPOCODE,SECT_ID,STNNBR,CASTNO,SAMPNO,BTLNBR,BTLNBR_FLAG_W,DATE,TIME,LATITUDE,LONGITUDE,DEPTH,CTDPRS,CTDTMP,CTDSAL,CTDSAL_FLAG_W,SALNTY,SALNTY_FLAG_W,CTDOXY,CTDOXY_FLAG_W,OXYGEN,OXYGEN_FLAG_W,SILCAT,SILCAT_FLAG_W,NITRAT,NITRAT_FLAG_W,NITRIT,NITRIT_FLAG_W,PHSPHT,PHSPHT_FLAG_W,CFC-11,CFC-11_FLAG_W,CFC-12,CFC-12_FLAG_W,CFC113,CFC113_FLAG_W,SF6,SF6_FLAG_W,TCARBN,TCARBN_FLAG_W,ALKALI,ALKALI_FLAG_W,PH_TOT,PH_TOT_FLAG_W,PH_TMP,TRITUM,TRITUM_FLAG_W,HELIUM,HELIUM_FLAG_W,DELHE3,DELHE3_FLAG_W,REFTMP,REFTMP_FLAG_W,DELC13,DELC13_FLAG_W,DELC14,DELC14_FLAG_W,C14ERR,NEON,NEON_FLAG_W,DELO18,DELO18_FLAG_W,POC,POC_FLAG_W,DOC,DOC_FLAG_W,TDN,TDN_FLAG_W,BTL_LAT,BTL_LON,TRITER,NEONER,SALTREF,SALTREF_FLAG_W,PIGMENTS,PIGMENTS_FLAG_W,LAB_DEN,LAB_DEN_FLAG_W,CDOM325,CDOM325_FLAG_W,CDOM340,CDOM340_FLAG_W,CDOM380,CDOM380_FLAG_W,CDOM412,CDOM412_FLAG_W,CDOM443,CDOM443_FLAG_W,CDOM490,CDOM490_FLAG_W,CDOM555,CDOM555_FLAG_W,CDOMSL,CDOMSL_FLAG_W,CDOMSN,CDOMSN_FLAG_W,HELIER,DELHER,THETA,LDEO_SAMPNO,ABSORBTION,ABSORBTION_FLAG_W,IMAGE_COUNT,IMAGE_COUNT_FLAG_W,CYTO_COUNT,CYTO_COUNT_FLAG_W,DELD,DELD_FLAG_W,DELDERR,BTL_DATE,BTL_TIME
,,,,,,,,,,,METERS,DBAR,ITS-90,PSS-78,,PSS-78,,UMOL/KG,,UMOL/KG,,UMOL/KG,,UMOL/KG,,UMOL/KG,,UMOL/KG,,PMOL/KG,,PMOL/KG,,PMOL/KG,,FMOL/KG,,UMOL/KG,,UMOL/KG,,,,DEG C,TU,,NMOL/KG,,PERCNT,,DEG C,,/MILLE,,/MILLE,,/MILLE,NMOL/KG,,/MILLE,,UG/KG,,UMOL/KG,,UMOL/KG,,,,TU,NMOL/KG,G/KG,,,,,,1/M,,1/M,,1/M,,1/M,,1/M,,1/M,,1/M,,1/NM,,1/NM,,NMOL/KG,PERCNT,DEG C,,,,,,,,/MILLE,,/MILLE,,
320620110219,       S04P,      33,          1,         13,         13,2,20110307,       0453,   -67.0002,  -165.2232,       3566,  1499.1,   0.6879,  34.7083,2,  34.7097,2,    203.6,2,   203.6,2,  124.47,2,   31.97,2,    0.00,2,    2.22,2,   0.097,2,   0.052,2,   0.009,2,   0.0710,2,  -999.0,9,  -999.0,9,-999.0000,9,  -999.00,-999.000,9,-999.0000,9,-999.000,9,   0.6881,2, -999.00,9,  -999.0,9,  -999.0,-999.000,9, -999.00,9,-999.000,9, -999.00,9, -999.00,9, -67.0002,-165.2232,-999.000,     -999.0,    34.8733,2,     -999.0,9,     -999.0,9,-999.0000,9,-999.0000,9,-999.0000,9,-999.0000,9,-999.0000,9,-999.0000,9,-999.0000,9,-999.0000,9,-999.0000,9,-999.0000,-999.000,   0.6068,     -999.0,     -999.0,9,     -999.0,9,     -999.0,9,     -999.0,9,     -999.0,20110307,       0543
320620110219,       S04P,      33,          1,         12,         12,2,20110307,       0453,   -67.0002,  -165.2232,       3566,  1598.9,   0.6548,  34.7073,2,  34.7081,2,    204.5,2,   206.3,4,  125.26,2,   32.03,2,    0.00,2,    2.22,2,-999.000,9,-999.000,9,-999.000,9,-999.0000,9,  -999.0,9,  2358.9,2,   7.5896,4,    25.00,-999.000,9,-999.0000,9,-999.000,9,   0.6548,2,    0.44,2,  -168.3,2,     2.4,-999.000,9, -999.00,9,-999.000,9, -999.00,9, -999.00,9, -67.0002,-165.2232,-999.000,     -999.0,    34.8717,2,     -999.0,9,     -999.0,9,-999.0000,9,-999.0000,9,-999.0000,9,-999.0000,9,-999.0000,9,-999.0000,9,-999.0000,9,-999.0000,9,-999.0000,9,-999.0000,-999.000,   0.5673,     -999.0,     -999.0,9,     -999.0,9,     -999.0,9,     -999.0,9,     -999.0,20110307,       0540
320620110219,       S04P,      33,          1,         11,         11,2,20110307,       0453,   -67.0002,  -165.2232,       3566,  1699.8,   0.6132,  34.7060,2,  34.7065,2,    205.4,2,   206.2,2,  126.38,2,   32.08,2,    0.00,2,    2.22,2,   0.120,2,   0.063,2,   0.010,2,   0.1040,2,  -999.0,9,  -999.0,9,-999.0000,9,  -999.00,-999.000,9,-999.0000,9,-999.000,9,   0.6133,2, -999.00,9,  -999.0,9,  -999.0,-999.000,9, -999.00,9,-999.000,9, -999.00,9, -999.00,9, -67.0002,-165.2232,-999.000,     -999.0,    34.8701,2,     -999.0,9,     -999.0,9,-999.0000,9,-999.0000,9,-999.0000,9,-999.0000,9,-999.0000,9,-999.0000,9,-999.0000,9,-999.0000,9,-999.0000,9,-999.0000,-999.000,   0.5193,     -999.0,     -999.0,9,     -999.0,9,     -999.0,9,     -999.0,9,     -999.0,20110307,       0538
320620110219,       S04P,      33,          1,         10,         37,2,20110307,       0453,   -67.0002,  -165.2232,       3566,  1799.9,   0.5807,  34.7052,2,  34.7057,2,    206.1,2,   206.6,2,  126.89,2,   32.19,2,    0.00,2,    2.23,2,-999.000,9,-999.000,9,-999.000,9,-999.0000,9,  2259.9,2,  2358.3,2,   7.5890,4,    25.00,-999.000,9,-999.0000,9,-999.000,9,   0.5807,2,    0.41,2,  -165.4,2,     2.3,-999.000,9, -999.00,9,-999.000,9, -999.00,9, -999.00,9, -67.0002,-165.2232,-999.000,     -999.0,    34.8693,2,     -999.0,9,     -999.0,9,-999.0000,9,-999.0000,9,-999.0000,9,-999.0000,9,-999.0000,9,-999.0000,9,-999.0000,9,-999.0000,9,-999.0000,9,-999.0000,-999.000,   0.4803,     -999.0,     -999.0,9,     -999.0,9,     -999.0,9,     -999.0,9,     -999.0,20110307,       0535
320620110219,       S04P,      33,          1,          9,          9,2,20110307,       0453,   -67.0002,  -165.2232,       3566,  1999.6,   0.5119,  34.7038,2,  34.7035,2,    207.9,2,   208.6,2,  128.15,2,   32.26,2,    0.00,2,    2.24,2,   0.148,2,   0.074,2,   0.010,2,   0.1070,2,  -999.0,9,  2358.3,2,   7.5915,4,    25.00,-999.000,9,-999.0000,9,-999.000,9,   0.5124,2,    0.40,2,  -168.4,2,     2.8,-999.000,9, -999.00,9,-999.000,9, -999.00,9, -999.00,9, -67.0002,-165.2232,-999.000,     -999.0,    34.8671,2,     -999.0,9,     -999.0,9,-999.0000,9,-999.0000,9,-999.0000,9,-999.0000,9,-999.0000,9,-999.0000,9,-999.0000,9,-999.0000,9,-999.0000,9,-999.0000,-999.000,   0.3981,     -999.0,     -999.0,9,     -999.0,9,     -999.0,9,     -999.0,9,     -999.0,20110307,       0531
320620110219,       S04P,      33,          1,          8,          8,2,20110307,       0453,   -67.0002,  -165.2232,       3566,  2250.5,   0.4236,  34.7027,2,  34.7029,2,    210.0,2,   210.4,2,  130.30,2,   32.40,2,    0.00,2,    2.23,2,-999.000,9,-999.000,9,-999.000,9,-999.0000,9,  2258.9,2,  2358.6,2,   7.5911,4,    25.00,-999.000,9,-999.0000,9,-999.000,9,   0.4233,2,    0.42,2,  -167.7,2,     2.3,-999.000,9, -999.00,9,-999.000,9, -999.00,9, -999.00,9, -67.0002,-165.2233,-999.000,     -999.0,    34.8665,2,     -999.0,9,     -999.0,9,-999.0000,9,-999.0000,9,-999.0000,9,-999.0000,9,-999.0000,9,-999.0000,9,-999.0000,9,-999.0000,9,-999.0000,9,-999.0000,-999.000,   0.2924,     -999.0,     -999.0,9,     -999.0,9,     -999.0,9,     -999.0,9,     -999.0,20110307,       0525
320620110219,       S04P,      33,          1,          7,          7,2,20110307,       0453,   -67.0002,  -165.2232,       3566,  2499.2,   0.3583,  34.7015,2,  34.7021,2,    211.7,2,   212.2,2,  131.39,2,   32.44,2,    0.00,2,    2.24,2,   0.230,2,   0.107,2,   0.020,2,   0.0890,2,  -999.0,9,  2359.2,2,   7.5912,4,    25.00,-999.000,9,-999.0000,9,-999.000,9,   0.3584,2,    0.42,2,  -167.5,2,     2.4,-999.000,9, -999.00,9,-999.000,9, -999.00,9, -999.00,9, -67.0002,-165.2232,-999.000,     -999.0,    34.8657,2,     -999.0,9,     -999.0,9,-999.0000,9,-999.0000,9,-999.0000,9,-999.0000,9,-999.0000,9,-999.0000,9,-999.0000,9,-999.0000,9,-999.0000,9,-999.0000,-999.000,   0.2088,     -999.0,     -999.0,9,     -999.0,9,     -999.0,9,     -999.0,9,     -999.0,20110307,       0520
320620110219,       S04P,      33,          1,          6,          6,2,20110307,       0453,   -67.0002,  -165.2232,       3566,  2752.0,   0.2761,  34.6991,2,  34.6993,2,    214.9,2,   215.0,2,  131.14,2,   32.52,2,    0.00,2,    2.24,2,-999.000,9,-999.000,9,-999.000,9,-999.0000,9,  2259.3,2,  2358.3,2,   7.5882,4,    25.00,-999.000,9,-999.0000,9,-999.000,9,   0.2762,2,    0.41,2,  -166.4,2,     3.3,-999.000,9, -999.00,9,-999.000,9, -999.00,9, -999.00,9, -67.0002,-165.2232,-999.000,     -999.0,    34.8629,2,     -999.0,9,     -999.0,9,-999.0000,9,-999.0000,9,-999.0000,9,-999.0000,9,-999.0000,9,-999.0000,9,-999.0000,9,-999.0000,9,-999.0000,9,-999.0000,-999.000,   0.1075,     -999.0,     -999.0,9,     -999.0,9,     -999.0,9,     -999.0,9,     -999.0,20110307,       0515
320620110219,       S04P,      33,          1,          5,          5,2,20110307,       0453,   -67.0002,  -165.2232,       3566,  3000.5,   0.2177,  34.6957,2,  34.6965,2,    217.6,2,   218.5,2,  127.84,2,   32.45,2,    0.00,2,    2.23,2,   0.654,2,   0.321,2,   0.053,2,   0.1470,2,  -999.0,9,  2357.6,2,   7.5905,4,    25.00,-999.000,9,-999.0000,9,-999.000,9,   0.2175,2,    0.44,2,  -157.1,2,     2.5,-999.000,9, -999.00,9,-999.000,9, -999.00,9, -999.00,9, -67.0002,-165.2232,-999.000,     -999.0,    34.8601,2,     -999.0,9,     -999.0,9,-999.0000,9,-999.0000,9,-999.0000,9,-999.0000,9,-999.0000,9,-999.0000,9,-999.0000,9,-999.0000,9,-999.0000,9,-999.0000,-999.000,   0.0292,     -999.0,     -999.0,9,     -999.0,9,     -999.0,9,     -999.0,9,     -999.0,20110307,       0510
320620110219,       S04P,      33,          1,          4,          4,2,20110307,       0453,   -67.0002,  -165.2232,       3566,  3251.0,   0.1944,  34.6930,2,  34.6928,2,    219.8,2,   220.2,2,  125.03,2,   32.33,2,    0.00,2,    2.23,2,   0.838,2,   0.418,2,   0.065,2,   0.1580,2,  2259.9,2,  2356.0,2,   7.5917,4,    25.00,-999.000,9,-999.0000,9,-999.000,9,   0.1942,2,    0.46,2,  -157.0,2,     3.0,-999.000,9, -999.00,9,-999.000,9, -999.00,9, -999.00,9, -67.0002,-165.2233,-999.000,     -999.0,    34.8564,2,     -999.0,9,     -999.0,9,-999.0000,9,-999.0000,9,-999.0000,9,-999.0000,9,-999.0000,9,-999.0000,9,-999.0000,9,-999.0000,9,-999.0000,9,-999.0000,-999.000,  -0.0157,     -999.0,     -999.0,9,     -999.0,9,     -999.0,9,     -999.0,9,     -999.0,20110307,       0504
320620110219,       S04P,      33,          1,          3,          3,2,20110307,       0453,   -67.0002,  -165.2232,       3566,  3400.5,   0.1971,  34.6927,2,  34.6924,2,    220.1,2,   220.4,2,  124.70,2,   32.42,2,    0.00,2,    2.24,2,   0.881,2,   0.437,2,   0.070,2,   0.1590,2,  2259.1,2,  2356.2,2,   7.5914,6,    25.00,-999.000,9,-999.0000,9,-999.000,9,   0.1971,2,    0.45,2,  -157.3,2,     2.7,-999.000,9, -999.00,9,-999.000,9, -999.00,9, -999.00,9, -67.0002,-165.2232,-999.000,     -999.0,    34.8560,2,     -999.0,9,     -999.0,9,-999.0000,9,-999.0000,9,-999.0000,9,-999.0000,9,-999.0000,9,-999.0000,9,-999.0000,9,-999.0000,9,-999.0000,9,-999.0000,-999.000,  -0.0268,     -999.0,     -999.0,9,     -999.0,9,     -999.0,9,     -999.0,9,     -999.0,20110307,       0500
320620110219,       S04P,      33,          1,          2,          2,2,20110307,       0453,   -67.0002,  -165.2232,       3566,  3551.2,   0.2047,  34.6920,2,  34.6923,2,    220.6,2,   220.4,2,  124.35,2,   32.39,2,    0.00,2,    2.23,2,   0.903,2,   0.453,2,   0.072,2,   0.1680,2,  2259.2,2,  2356.2,6,   7.5890,2,    25.00,-999.000,9,-999.0000,9,-999.000,9,   0.2047,2,    0.47,2,  -151.8,2,     2.9,-999.000,9, -999.00,9,-999.000,9, -999.00,9, -999.00,9, -67.0002,-165.2233,-999.000,     -999.0,    34.8559,2,     -999.0,9,     -999.0,9,-999.0000,9,-999.0000,9,-999.0000,9,-999.0000,9,-999.0000,9,-999.0000,9,-999.0000,9,-999.0000,9,-999.0000,9,-999.0000,-999.000,  -0.0335,     -999.0,     -999.0,9,     -999.0,9,     -999.0,9,     -999.0,9,     -999.0,20110307,       0456
320620110219,       S04P,      33,          1,          1,          1,2,20110307,       0453,   -67.0002,  -165.2232,       3566,  3621.8,   0.2116,  34.6920,2,  34.6917,2,    220.5,2,   221.2,2,  124.49,2,   32.40,2,    0.00,2,    2.23,2,   0.915,2,   0.454,2,   0.072,2,   0.1860,2,  2259.5,6,  2356.6,2,   7.5897,2,    25.00,-999.000,9,-999.0000,9,-999.000,9,   0.2114,2,    0.49,2,  -148.3,2,     3.8,-999.000,9, -999.00,9,-999.000,9, -999.00,9, -999.00,9, -67.0002,-165.2232,-999.000,     -999.0,    34.8553,2,     -999.0,9,     -999.0,9,-999.0000,9,-999.0000,9,-999.0000,9,-999.0000,9,-999.0000,9,-999.0000,9,-999.0000,9,-999.0000,9,-999.0000,9,-999.0000,-999.000,  -0.0335,     -999.0,     -999.0,9,     -999.0,9,     -999.0,9,     -999.0,9,     -999.0,20110307,       0453