BOTTLE,20220813CCHSIOAMB
EXPOCODE,SECT_ID,STNNBR,CASTNO,SAMPNO,BTLNBR,BTLNBR_FLAG_W,DATE,TIME,LATITUDE,LONGITUDE,DEPTH,CTDPRS,CTDTMP,CTDSAL,CTDSAL_FLAG_W,SALNTY,SALNTY_FLAG_W,CTDOXY,CTDOXY_FLAG_W,OXYGEN,OXYGEN_FLAG_W,SILCAT,SILCAT_FLAG_W,NITRAT,NITRAT_FLAG_W,NITRIT,NITRIT_FLAG_W,PHSPHT,PHSPHT_FLAG_W,CFC-11,CFC-11_FLAG_W,CFC-12,CFC-12_FLAG_W,CFC113,CFC113_FLAG_W,SF6,SF6_FLAG_W,TCARBN,TCARBN_FLAG_W,ALKALI,ALKALI_FLAG_W,PH_TOT,PH_TOT_FLAG_W,PH_TMP,TRITUM,TRITUM_FLAG_W,HELIUM,HELIUM_FLAG_W,DELHE3,DELHE3_FLAG_W,REFTMP,REFTMP_FLAG_W,DELC13,DELC13_FLAG_W,DELC14,DELC14_FLAG_W,C14ERR,NEON,NEON_FLAG_W,DELO18,DELO18_FLAG_W,POC,POC_FLAG_W,DOC,DOC_FLAG_W,TDN,TDN_FLAG_W,BTL_LAT,BTL_LON,TRITER,NEONER,SALTREF,SALTREF_FLAG_W,PIGMENTS,PIGMENTS_FLAG_W,LAB_DEN,LAB_DEN_FLAG_W,CDOM325,CDOM325_FLAG_W,CDOM340,CDOM340_FLAG_W,CDOM380,CDOM380_FLAG_W,CDOM412,CDOM412_FLAG_W,CDOM443,CDOM443_FLAG_W,CDOM490,CDOM490_FLAG_W,CDOM555,CDOM555_FLAG_W,CDOMSL,CDOMSL_FLAG_W,CDOMSN,CDOMSN_FLAG_W,HELIER,DELHER,THETA,LDEO_SAMPNO,ABSORBTION,ABSORBTION_FLAG_W,IMAGE_COUNT,IMAGE_COUNT_FLAG_W,CYTO_COUNT,CYTO_COUNT_FLAG_W,DELD,DELD_FLAG_W,DELDERR,BTL_DATE,BTL_TIME
,,,,,,,,,,,METERS,DBAR,ITS-90,PSS-78,,PSS-78,,UMOL/KG,,UMOL/KG,,UMOL/KG,,UMOL/KG,,UMOL/KG,,UMOL/KG,,PMOL/KG,,PMOL/KG,,PMOL/KG,,FMOL/KG,,UMOL/KG,,UMOL/KG,,,,DEG C,TU,,NMOL/KG,,PERCNT,,DEG C,,/MILLE,,/MILLE,,/MILLE,NMOL/KG,,/MILLE,,UG/KG,,UMOL/KG,,UMOL/KG,,,,TU,NMOL/KG,G/KG,,,,,,1/M,,1/M,,1/M,,1/M,,1/M,,1/M,,1/M,,1/NM,,1/NM,,NMOL/KG,PERCNT,DEG C,,,,,,,,/MILLE,,/MILLE,,
320620110219,       S04P,     140,          2,         14,         14,2,20110419,       0857,   -67.0008,   -72.6794,        378,     4.4,  -0.1146,  33.8401,2,  33.8407,2,    337.8,3,   341.3,2,   30.62,2,   22.16,2,    0.23,2,    1.50,2,   6.057,2,   3.282,2,   0.634,2,   2.6830,2,  2156.6,6,  2298.9,2,   7.7223,6,    25.00,-999.000,9,-999.0000,9,-999.000,9,  -0.1145,2, -999.00,9,  -999.0,9,  -999.0,-999.000,9,   -0.47,2,-999.000,9,   46.64,2,   26.89,2, -67.0012, -72.6815,-999.000,     -999.0,    34.0003,2,     -999.0,9,     -999.0,1,-999.0000,9,-999.0000,9,-999.0000,9,-999.0000,9,-999.0000,9,-999.0000,9,-999.0000,9,-999.0000,9,-999.0000,9,-999.0000,-999.000,  -0.1147,     -999.0,     -999.0,9,     -999.0,9,     -999.0,9,      -4.54,2,       0.05,20110419,       0918
320620110219,       S04P,     140,          2,         13,         13,2,20110419,       0857,   -67.0008,   -72.6794,        378,    34.5,  -0.1077,  33.8409,2,  33.8417,2,    341.5,2,   341.4,2,   30.62,2,   22.15,2,    0.29,2,    1.56,2,   6.071,2,   3.292,2,   0.633,2,   2.8040,2,  -999.0,9,  -999.0,9,-999.0000,9,  -999.00,-999.000,9,-999.0000,9,-999.000,9,  -0.1071,2, -999.00,9,  -999.0,9,  -999.0,-999.000,9,   -0.44,2,-999.000,9,   46.60,2,   25.79,2, -67.0012, -72.6815,-999.000,     -999.0,    34.0012,2,     -999.0,9,     -999.0,9,-999.0000,9,-999.0000,9,-999.0000,9,-999.0000,9,-999.0000,9,-999.0000,9,-999.0000,9,-999.0000,9,-999.0000,9,-999.0000,-999.000,  -0.1088,     -999.0,     -999.0,9,     -999.0,9,     -999.0,9,      -4.63,2,       0.08,20110419,       0916
320620110219,       S04P,     140,          2,         12,         12,2,20110419,       0857,   -67.0008,   -72.6794,        378,    60.1,  -0.1273,  33.8571,2,  33.8575,2,    340.8,2,   337.5,2,   36.01,2,   22.64,2,    0.30,2,    1.63,2,   6.023,2,   3.271,2,   0.621,2,   2.9760,2,  2162.9,2,  2301.0,2,   7.7102,2,    25.00,-999.000,9,-999.0000,9,-999.000,9,  -0.1284,2, -999.00,9,  -999.0,9,  -999.0,-999.000,9,   -0.43,2,-999.000,9,   45.61,2,   27.69,2, -67.0012, -72.6815,-999.000,     -999.0,    34.0171,2,     -999.0,9,     -999.0,1,-999.0000,9,-999.0000,9,-999.0000,9,-999.0000,9,-999.0000,9,-999.0000,9,-999.0000,9,-999.0000,9,-999.0000,9,-999.0000,-999.000,  -0.1293,     -999.0,     -999.0,9,     -999.0,9,     -999.0,9,      -4.59,2,       0.15,20110419,       0915
320620110219,       S04P,     140,          2,         11,         11,2,20110419,       0857,   -67.0008,   -72.6794,        378,    84.5,  -0.2259,  33.8741,2,  33.8796,2,    332.8,2,   333.2,2,   40.50,2,   23.00,2,    0.29,2,    1.67,2,   5.931,2,   3.233,2,   0.616,2,   2.4970,2,  2164.3,2,  -999.0,5,   7.7066,2,    25.00,-999.000,9,-999.0000,9,-999.000,9,  -0.2363,2, -999.00,9,  -999.0,9,  -999.0,-999.000,9,   -0.45,2,-999.000,9,   45.24,2,   28.71,2, -67.0011, -72.6814,-999.000,     -999.0,    34.0393,2,     -999.0,9,     -999.0,1,-999.0000,9,-999.0000,9,-999.0000,9,-999.0000,9,-999.0000,9,-999.0000,9,-999.0000,9,-999.0000,9,-999.0000,9,-999.0000,-999.000,  -0.2286,     -999.0,     -999.0,9,     -999.0,9,     -999.0,9,      -4.70,2,       0.19,20110419,       0913
320620110219,       S04P,     140,          2,         10,         37,2,20110419,       0857,   -67.0008,   -72.6794,        378,   110.0,  -1.0749,  34.0613,2,  34.0618,2,    293.4,2,   290.5,2,   74.06,2,   30.17,2,    0.19,2,    2.23,2,   4.861,6,   2.686,6,   0.514,6,   2.1710,6,  2211.0,2,  2307.0,2,   7.5998,2,    25.00,-999.000,9,-999.0000,9,-999.000,9,  -1.0728,2, -999.00,9,  -999.0,9,  -999.0,-999.000,9,   -0.44,2,-999.000,9,   44.45,2,   35.38,2, -67.0011, -72.6813,-999.000,     -999.0,    34.2225,2,     -999.0,9,     -999.0,1,-999.0000,9,-999.0000,9,-999.0000,9,-999.0000,9,-999.0000,9,-999.0000,9,-999.0000,9,-999.0000,9,-999.0000,9,-999.0000,-999.000,  -1.0777,     -999.0,     -999.0,9,     -999.0,9,     -999.0,9,      -4.28,2,       0.05,20110419,       0912
320620110219,       S04P,     140,          2,          9,          9,2,20110419,       0857,   -67.0008,   -72.6794,        378,   134.3,  -0.6725,  34.1703,2,  34.1803,2,    261.1,2,   255.7,2,   80.80,2,   32.30,2,    0.02,2,    2.35,2,   3.761,2,   2.102,2,   0.395,2,   1.7720,2,  -999.0,9,  -999.0,9,-999.0000,9,  -999.00,-999.000,9,-999.0000,9,-999.000,9,  -0.6719,2, -999.00,9,  -999.0,9,  -999.0,-999.000,9,   -0.36,2,-999.000,9,   42.26,2,   36.90,2, -67.0011, -72.6811,-999.000,     -999.0,    34.3414,2,     -999.0,9,     -999.0,9,-999.0000,9,-999.0000,9,-999.0000,9,-999.0000,9,-999.0000,9,-999.0000,9,-999.0000,9,-999.0000,9,-999.0000,9,-999.0000,-999.000,  -0.6765,     -999.0,     -999.0,9,     -999.0,9,     -999.0,9,      -3.85,2,       0.13,20110419,       0910
320620110219,       S04P,     140,          2,          8,          8,2,20110419,       0857,   -67.0008,   -72.6794,        378,   158.8,   0.0742,  34.3391,2,  34.3399,2,    219.0,2,   216.8,2,   88.22,2,   33.55,2,    0.01,2,    2.37,2,   2.540,2,   1.431,2,   0.262,2,   1.0210,2,  2245.7,2,  2323.5,2,   7.5436,2,    25.00,-999.000,9,-999.0000,9,-999.000,9,   0.0756,2, -999.00,9,  -999.0,9,  -999.0,-999.000,9,   -0.26,2,-999.000,9,   41.42,2,   37.79,2, -67.0011, -72.6810,-999.000,     -999.0,    34.5018,2,     -999.0,9,     -999.0,1,-999.0000,9,-999.0000,9,-999.0000,9,-999.0000,9,-999.0000,9,-999.0000,9,-999.0000,9,-999.0000,9,-999.0000,9,-999.0000,-999.000,   0.0684,     -999.0,     -999.0,9,     -999.0,9,     -999.0,9,      -3.35,2,       0.27,20110419,       0908
320620110219,       S04P,     140,          2,          7,          7,2,20110419,       0857,   -67.0008,   -72.6794,        378,   185.2,   0.7259,  34.4863,2,  34.4845,2,    192.4,2,   190.3,2,   93.82,2,   34.25,2,    0.00,2,    2.42,2,   1.573,2,   0.876,2,   0.152,2,   0.5630,2,  -999.0,9,  -999.0,9,-999.0000,9,  -999.00,-999.000,9,-999.0000,9,-999.000,9,   0.7276,2, -999.00,9,  -999.0,9,  -999.0,-999.000,9,   -0.12,2,-999.000,9,   41.37,2,   37.60,2, -67.0010, -72.6808,-999.000,     -999.0,    34.6471,2,     -999.0,9,     -999.0,9,-999.0000,9,-999.0000,9,-999.0000,9,-999.0000,9,-999.0000,9,-999.0000,9,-999.0000,9,-999.0000,9,-999.0000,9,-999.0000,-999.000,   0.7180,     -999.0,     -999.0,9,     -999.0,9,     -999.0,9,      -2.19,2,       0.16,20110419,       0907
320620110219,       S04P,     140,          2,          6,          6,2,20110419,       0857,   -67.0008,   -72.6794,        378,   209.7,   1.0031,  34.5489,2,  34.5580,2,    182.2,2,   180.0,2,   95.72,2,   34.20,2,    0.00,2,    2.40,2,   1.149,2,   0.621,2,   0.102,2,   0.4000,2,  2263.4,2,  2339.6,2,   7.5335,2,    25.00,-999.000,9,-999.0000,9,-999.000,9,   1.0052,2, -999.00,9,  -999.0,9,  -999.0,-999.000,9,   -0.10,2,-999.000,9,   41.34,2,   37.02,2, -67.0010, -72.6806,-999.000,     -999.0,    34.7210,2,     -999.0,9,     -999.0,1,-999.0000,9,-999.0000,9,-999.0000,9,-999.0000,9,-999.0000,9,-999.0000,9,-999.0000,9,-999.0000,9,-999.0000,9,-999.0000,-999.000,   0.9936,     -999.0,     -999.0,9,     -999.0,9,     -999.0,9,      -1.81,2,       0.13,20110419,       0905
320620110219,       S04P,     140,          2,          5,          5,2,20110419,       0857,   -67.0008,   -72.6794,        378,   234.8,   1.2507,  34.6039,2,  34.6049,2,    176.4,2,   176.0,2,   95.90,2,   34.07,2,    0.00,2,    2.40,2,   0.893,2,   0.470,2,   0.071,2,   0.3370,2,  -999.0,9,  -999.0,9,-999.0000,9,  -999.00,-999.000,9,-999.0000,9,-999.000,9,   1.2508,2, -999.00,9,  -999.0,9,  -999.0,-999.000,9,   -0.06,2,-999.000,9,   41.72,2,   38.11,2, -67.0010, -72.6804,-999.000,     -999.0,    34.7681,2,     -999.0,9,     -999.0,9,-999.0000,9,-999.0000,9,-999.0000,9,-999.0000,9,-999.0000,9,-999.0000,9,-999.0000,9,-999.0000,9,-999.0000,9,-999.0000,-999.000,   1.2395,     -999.0,     -999.0,9,     -999.0,9,     -999.0,9,      -1.53,2,       0.15,20110419,       0904
320620110219,       S04P,     140,          2,          4,          4,2,20110419,       0857,   -67.0008,   -72.6794,        378,   263.4,   1.4532,  34.6509,2,  34.6518,2,    172.1,2,   172.0,2,   96.18,2,   33.76,2,    0.00,2,    2.38,2,   0.625,2,   0.314,2,   0.050,2,   0.2040,2,  -999.0,9,  -999.0,9,-999.0000,9,  -999.00,-999.000,9,-999.0000,9,-999.000,9,   1.4527,2, -999.00,9,  -999.0,9,  -999.0,-999.000,9,   -0.02,2,-999.000,9,   42.84,2,   38.40,2, -67.0010, -72.6803,-999.000,     -999.0,    34.8152,2,     -999.0,9,     -999.0,9,-999.0000,9,-999.0000,9,-999.0000,9,-999.0000,9,-999.0000,9,-999.0000,9,-999.0000,9,-999.0000,9,-999.0000,9,-999.0000,-999.000,   1.4401,     -999.0,     -999.0,9,     -999.0,9,     -999.0,9,      -1.36,2,       0.02,20110419,       0902
320620110219,       S04P,     140,          2,          3,          3,2,20110419,       0857,   -67.0008,   -72.6794,        378,   313.4,   1.5064,  34.6892,2,  34.6902,2,    168.5,2,   167.6,2,  104.67,2,   33.53,2,    0.00,2,    2.40,2,   0.394,2,   0.201,2,   0.025,2,   0.1310,2,  2270.3,3,  -999.0,5,   7.5418,2,    25.00,-999.000,9,-999.0000,9,-999.000,9,   1.5060,2, -999.00,9,  -999.0,9,  -999.0,-999.000,9,   -0.06,2,-999.000,9,   42.87,2,   37.48,2, -67.0009, -72.6799,-999.000,     -999.0,    34.8538,2,     -999.0,9,     -999.0,1,-999.0000,9,-999.0000,9,-999.0000,9,-999.0000,9,-999.0000,9,-999.0000,9,-999.0000,9,-999.0000,9,-999.0000,9,-999.0000,-999.000,   1.4905,     -999.0,     -999.0,9,     -999.0,9,     -999.0,9,      -1.43,2,       0.12,20110419,       0900
320620110219,       S04P,     140,          2,          2,          2,2,20110419,       0857,   -67.0008,   -72.6794,        378,   349.4,   1.4925,  34.7069,2,  34.7081,2,    174.4,2,   176.3,2,  102.60,2,   32.79,2,    0.00,2,    2.31,2,   0.317,2,   0.149,2,   0.019,2,   0.0760,2,  2265.9,3,  -999.0,5,   7.5626,2,    25.00,-999.000,9,-999.0000,9,-999.000,9,   1.4926,2, -999.00,9,  -999.0,9,  -999.0,-999.000,9,   -0.11,2,-999.000,9,   42.66,2,   36.66,2, -67.0008, -72.6796,-999.000,     -999.0,    34.8717,2,     -999.0,9,     -999.0,1,-999.0000,9,-999.0000,9,-999.0000,9,-999.0000,9,-999.0000,9,-999.0000,9,-999.0000,9,-999.0000,9,-999.0000,9,-999.0000,-999.000,   1.4747,     -999.0,     -999.0,9,     -999.0,9,     -999.0,9,      -1.95,2,       0.18,20110419,       0858
320620110219,       S04P,     140,          2,          1,          1,2,20110419,       0857,   -67.0008,   -72.6794,        378,   371.7,   1.4999,  34.7254,2,  34.7269,2,    186.0,2,   186.5,2,   97.72,2,   32.03,2,    0.00,2,    2.23,2,   0.227,2,   0.108,2,   0.015,2,   0.0830,2,  2258.7,2,  2354.8,2,   7.5871,2,    25.00,-999.000,9,-999.0000,9,-999.000,9,   1.4996,2, -999.00,9,  -999.0,9,  -999.0,-999.000,9,    0.00,2,-999.000,9,   42.57,2,   36.25,2, -67.0007, -72.6793,-999.000,     -999.0,    34.8907,2,     -999.0,9,     -999.0,1,-999.0000,9,-999.0000,9,-999.0000,9,-999.0000,9,-999.0000,9,-999.0000,9,-999.0000,9,-999.0000,9,-999.0000,9,-999.0000,-999.000,   1.4809,     -999.0,     -999.0,9,     -999.0,9,     -999.0,9,      -1.04,2,       0.17,20110419,       0857