BOTTLE,20220813CCHSIOAMB
EXPOCODE,SECT_ID,STNNBR,CASTNO,SAMPNO,BTLNBR,BTLNBR_FLAG_W,DATE,TIME,LATITUDE,LONGITUDE,DEPTH,CTDPRS,CTDTMP,CTDSAL,CTDSAL_FLAG_W,SALNTY,SALNTY_FLAG_W,CTDOXY,CTDOXY_FLAG_W,OXYGEN,OXYGEN_FLAG_W,SILCAT,SILCAT_FLAG_W,NITRAT,NITRAT_FLAG_W,NITRIT,NITRIT_FLAG_W,PHSPHT,PHSPHT_FLAG_W,CFC-11,CFC-11_FLAG_W,CFC-12,CFC-12_FLAG_W,CFC113,CFC113_FLAG_W,SF6,SF6_FLAG_W,TCARBN,TCARBN_FLAG_W,ALKALI,ALKALI_FLAG_W,PH_TOT,PH_TOT_FLAG_W,PH_TMP,TRITUM,TRITUM_FLAG_W,HELIUM,HELIUM_FLAG_W,DELHE3,DELHE3_FLAG_W,REFTMP,REFTMP_FLAG_W,DELC13,DELC13_FLAG_W,DELC14,DELC14_FLAG_W,C14ERR,NEON,NEON_FLAG_W,DELO18,DELO18_FLAG_W,POC,POC_FLAG_W,DOC,DOC_FLAG_W,TDN,TDN_FLAG_W,BTL_LAT,BTL_LON,TRITER,NEONER,SALTREF,SALTREF_FLAG_W,PIGMENTS,PIGMENTS_FLAG_W,LAB_DEN,LAB_DEN_FLAG_W,CDOM325,CDOM325_FLAG_W,CDOM340,CDOM340_FLAG_W,CDOM380,CDOM380_FLAG_W,CDOM412,CDOM412_FLAG_W,CDOM443,CDOM443_FLAG_W,CDOM490,CDOM490_FLAG_W,CDOM555,CDOM555_FLAG_W,CDOMSL,CDOMSL_FLAG_W,CDOMSN,CDOMSN_FLAG_W,HELIER,DELHER,THETA,LDEO_SAMPNO,ABSORBTION,ABSORBTION_FLAG_W,IMAGE_COUNT,IMAGE_COUNT_FLAG_W,CYTO_COUNT,CYTO_COUNT_FLAG_W,DELD,DELD_FLAG_W,DELDERR,BTL_DATE,BTL_TIME
,,,,,,,,,,,METERS,DBAR,ITS-90,PSS-78,,PSS-78,,UMOL/KG,,UMOL/KG,,UMOL/KG,,UMOL/KG,,UMOL/KG,,UMOL/KG,,PMOL/KG,,PMOL/KG,,PMOL/KG,,FMOL/KG,,UMOL/KG,,UMOL/KG,,,,DEG C,TU,,NMOL/KG,,PERCNT,,DEG C,,/MILLE,,/MILLE,,/MILLE,NMOL/KG,,/MILLE,,UG/KG,,UMOL/KG,,UMOL/KG,,,,TU,NMOL/KG,G/KG,,,,,,1/M,,1/M,,1/M,,1/M,,1/M,,1/M,,1/M,,1/NM,,1/NM,,NMOL/KG,PERCNT,DEG C,,,,,,,,/MILLE,,/MILLE,,
320620110219,       S04P,     132,          2,         13,         13,2,20110417,       2046,   -67.0001,   -75.7972,       3358,  1534.0,   0.9876,  34.7182,2,  34.7185,2,    199.4,2,   199.6,2,  113.37,2,   31.94,2,    0.00,2,    2.20,2,-999.000,9,-999.000,9,-999.000,9,-999.0000,9,  -999.0,9,  -999.0,9,-999.0000,9,  -999.00,-999.000,9,-999.0000,9,-999.000,9,   0.9874,2, -999.00,9,  -999.0,9,  -999.0,-999.000,9, -999.00,9,-999.000,9,   40.30,2,   34.60,2, -67.0001, -75.7973,-999.000,     -999.0,    34.8822,2,     -999.0,9,     -999.0,9,-999.0000,9,-999.0000,9,-999.0000,9,-999.0000,9,-999.0000,9,-999.0000,9,-999.0000,9,-999.0000,9,-999.0000,9,-999.0000,-999.000,   0.9005,     -999.0,     -999.0,9,     -999.0,9,     -999.0,9,     -999.0,9,     -999.0,20110417,       2129
320620110219,       S04P,     132,          2,         12,         12,2,20110417,       2046,   -67.0001,   -75.7972,       3358,  1635.5,   0.9439,  34.7164,2,  34.7169,2,    200.5,2,   200.6,2,  114.44,2,   31.99,2,    0.00,2,    2.20,2,   0.110,2,   0.055,2,   0.014,2,   0.0290,2,  -999.0,9,  -999.0,9,-999.0000,9,  -999.00,-999.000,9,-999.0000,9,-999.000,9,   0.9435,2, -999.00,9,  -999.0,9,  -999.0,-999.000,9, -999.00,9,-999.000,9,   39.88,2,   34.55,2, -67.0001, -75.7973,-999.000,     -999.0,    34.8806,2,     -999.0,9,     -999.0,9,-999.0000,9,-999.0000,9,-999.0000,9,-999.0000,9,-999.0000,9,-999.0000,9,-999.0000,9,-999.0000,9,-999.0000,9,-999.0000,-999.000,   0.8502,     -999.0,     -999.0,9,     -999.0,9,     -999.0,9,     -999.0,9,     -999.0,20110417,       2127
320620110219,       S04P,     132,          2,         11,         11,2,20110417,       2046,   -67.0001,   -75.7972,       3358,  1734.3,   0.8962,  34.7147,2,  34.7149,2,    201.2,2,   201.5,2,  115.93,2,   32.09,2,    0.00,2,    2.22,2,-999.000,9,-999.000,9,-999.000,9,-999.0000,9,  2260.5,2,  2362.3,2,   7.6011,2,    25.00,-999.000,9,-999.0000,9,-999.000,9,   0.8960,2, -999.00,9,  -999.0,9,  -999.0,-999.000,9, -999.00,9,-999.000,9,   40.00,2,   34.90,2, -67.0001, -75.7973,-999.000,     -999.0,    34.8786,2,     -999.0,9,     -999.0,9,-999.0000,9,-999.0000,9,-999.0000,9,-999.0000,9,-999.0000,9,-999.0000,9,-999.0000,9,-999.0000,9,-999.0000,9,-999.0000,-999.000,   0.7961,     -999.0,     -999.0,9,     -999.0,9,     -999.0,9,     -999.0,9,     -999.0,20110417,       2124
320620110219,       S04P,     132,          2,         10,         37,2,20110417,       2046,   -67.0001,   -75.7972,       3358,  1865.0,   0.8599,  34.7133,2,  34.7137,2,    201.9,2,   202.0,2,  117.88,2,   32.15,2,    0.00,2,    2.22,2,-999.000,9,-999.000,9,-999.000,9,-999.0000,9,  -999.0,9,  -999.0,9,-999.0000,9,  -999.00,-999.000,9,-999.0000,9,-999.000,9,   0.8598,2, -999.00,9,  -999.0,9,  -999.0,-999.000,9, -999.00,9,-999.000,9,   40.39,2,   34.67,2, -67.0001, -75.7973,-999.000,     -999.0,    34.8774,2,     -999.0,9,     -999.0,9,-999.0000,9,-999.0000,9,-999.0000,9,-999.0000,9,-999.0000,9,-999.0000,9,-999.0000,9,-999.0000,9,-999.0000,9,-999.0000,-999.000,   0.7508,     -999.0,     -999.0,9,     -999.0,9,     -999.0,9,     -999.0,9,     -999.0,20110417,       2121
320620110219,       S04P,     132,          2,          9,          9,2,20110417,       2046,   -67.0001,   -75.7972,       3358,  2064.5,   0.7497,  34.7096,2,  34.7100,2,    203.9,2,   204.1,2,  121.14,2,   32.28,2,    0.00,2,    2.21,2,-999.000,9,-999.000,9,-999.000,9,-999.0000,9,  -999.0,9,  -999.0,9,-999.0000,9,  -999.00,-999.000,9,-999.0000,9,-999.000,9,   0.7482,2, -999.00,9,  -999.0,9,  -999.0,-999.000,9, -999.00,9,-999.000,9,   40.24,2,   34.88,2, -67.0001, -75.7973,-999.000,     -999.0,    34.8737,2,     -999.0,9,     -999.0,9,-999.0000,9,-999.0000,9,-999.0000,9,-999.0000,9,-999.0000,9,-999.0000,9,-999.0000,9,-999.0000,9,-999.0000,9,-999.0000,-999.000,   0.6273,     -999.0,     -999.0,9,     -999.0,9,     -999.0,9,     -999.0,9,     -999.0,20110417,       2117
320620110219,       S04P,     132,          2,          8,          8,2,20110417,       2046,   -67.0001,   -75.7972,       3358,  2264.1,   0.6563,  34.7072,2,  34.7077,2,    205.8,2,   206.0,2,  124.02,2,   32.40,2,    0.00,2,    2.21,2,   0.153,2,   0.078,2,   0.013,2,   0.0840,2,  -999.0,9,  -999.0,9,-999.0000,9,  -999.00,-999.000,9,-999.0000,9,-999.000,9,   0.6562,2, -999.00,9,  -999.0,9,  -999.0,-999.000,9, -999.00,9,-999.000,9,   40.16,2,   35.13,2, -67.0001, -75.7972,-999.000,     -999.0,    34.8713,2,     -999.0,9,     -999.0,9,-999.0000,9,-999.0000,9,-999.0000,9,-999.0000,9,-999.0000,9,-999.0000,9,-999.0000,9,-999.0000,9,-999.0000,9,-999.0000,-999.000,   0.5200,     -999.0,     -999.0,9,     -999.0,9,     -999.0,9,     -999.0,9,     -999.0,20110417,       2113
320620110219,       S04P,     132,          2,          7,          7,2,20110417,       2046,   -67.0001,   -75.7972,       3358,  2464.8,   0.5853,  34.7058,2,  34.7063,2,    207.1,2,   207.5,2,  125.86,2,   32.34,2,    0.00,2,    2.22,2,-999.000,9,-999.000,9,-999.000,9,-999.0000,9,  2261.7,2,  2363.2,2,   7.5990,2,    25.00,-999.000,9,-999.0000,9,-999.000,9,   0.5859,2, -999.00,9,  -999.0,9,  -999.0,-999.000,9, -999.00,9,-999.000,9,   39.86,2,   35.00,2, -67.0001, -75.7973,-999.000,     -999.0,    34.8699,2,     -999.0,9,     -999.0,9,-999.0000,9,-999.0000,9,-999.0000,9,-999.0000,9,-999.0000,9,-999.0000,9,-999.0000,9,-999.0000,9,-999.0000,9,-999.0000,-999.000,   0.4342,     -999.0,     -999.0,9,     -999.0,9,     -999.0,9,     -999.0,9,     -999.0,20110417,       2108
320620110219,       S04P,     132,          2,          6,          6,2,20110417,       2046,   -67.0001,   -75.7972,       3358,  2664.5,   0.4996,  34.7039,2,  34.7043,2,    208.7,2,   208.7,2,  129.32,2,   32.38,2,    0.00,2,    2.22,2,   0.165,2,   0.089,2,   0.009,2,   0.0380,2,  -999.0,9,  -999.0,9,-999.0000,9,  -999.00,-999.000,9,-999.0000,9,-999.000,9,   0.4997,2, -999.00,9,  -999.0,9,  -999.0,-999.000,9, -999.00,9,-999.000,9,   40.24,2,   34.94,2, -67.0001, -75.7973,-999.000,     -999.0,    34.8679,2,     -999.0,9,     -999.0,9,-999.0000,9,-999.0000,9,-999.0000,9,-999.0000,9,-999.0000,9,-999.0000,9,-999.0000,9,-999.0000,9,-999.0000,9,-999.0000,-999.000,   0.3337,     -999.0,     -999.0,9,     -999.0,9,     -999.0,9,     -999.0,9,     -999.0,20110417,       2104
320620110219,       S04P,     132,          2,          5,          5,2,20110417,       2046,   -67.0001,   -75.7972,       3358,  2864.2,   0.4560,  34.7029,2,  34.7035,2,    209.7,2,   209.4,2,  132.17,2,   32.49,2,    0.00,2,    2.24,2,-999.000,9,-999.000,9,-999.000,9,-999.0000,9,  -999.0,9,  -999.0,9,-999.0000,9,  -999.00,-999.000,9,-999.0000,9,-999.000,9,   0.4562,2, -999.00,9,  -999.0,9,  -999.0,-999.000,9, -999.00,9,-999.000,9,   39.84,2,   35.00,2, -67.0001, -75.7973,-999.000,     -999.0,    34.8672,2,     -999.0,9,     -999.0,9,-999.0000,9,-999.0000,9,-999.0000,9,-999.0000,9,-999.0000,9,-999.0000,9,-999.0000,9,-999.0000,9,-999.0000,9,-999.0000,-999.000,   0.2741,     -999.0,     -999.0,9,     -999.0,9,     -999.0,9,     -999.0,9,     -999.0,20110417,       2100
320620110219,       S04P,     132,          2,          4,          4,2,20110417,       2046,   -67.0001,   -75.7972,       3358,  3064.8,   0.4191,  34.7031,2,  34.7035,2,    210.6,2,   210.7,2,  133.55,2,   32.51,2,    0.00,2,    2.24,2,   0.166,2,   0.089,2,   0.009,2,   0.0430,2,  2263.0,2,  -999.0,9,   7.5976,2,    25.00,-999.000,9,-999.0000,9,-999.000,9,   0.4199,2, -999.00,9,  -999.0,9,  -999.0,-999.000,9, -999.00,9,-999.000,9,   40.07,2,   34.73,2, -67.0001, -75.7973,-999.000,     -999.0,    34.8672,2,     -999.0,9,     -999.0,9,-999.0000,9,-999.0000,9,-999.0000,9,-999.0000,9,-999.0000,9,-999.0000,9,-999.0000,9,-999.0000,9,-999.0000,9,-999.0000,-999.000,   0.2204,     -999.0,     -999.0,9,     -999.0,9,     -999.0,9,     -999.0,9,     -999.0,20110417,       2056
320620110219,       S04P,     132,          2,          3,          3,2,20110417,       2046,   -67.0001,   -75.7972,       3358,  3199.9,   0.4195,  34.7031,2,  34.7037,2,    211.0,2,   210.7,2,  134.28,2,   32.47,2,    0.00,2,    2.23,2,-999.000,9,-999.000,9,-999.000,9,-999.0000,9,  2263.7,2,  2365.0,6,   7.5972,2,    25.00,-999.000,9,-999.0000,9,-999.000,9,   0.4193,2, -999.00,9,  -999.0,9,  -999.0,-999.000,9, -999.00,9,-999.000,9,   39.99,2,   35.08,2, -67.0001, -75.7973,-999.000,     -999.0,    34.8673,2,     -999.0,9,     -999.0,9,-999.0000,9,-999.0000,9,-999.0000,9,-999.0000,9,-999.0000,9,-999.0000,9,-999.0000,9,-999.0000,9,-999.0000,9,-999.0000,-999.000,   0.2086,     -999.0,     -999.0,9,     -999.0,9,     -999.0,9,     -999.0,9,     -999.0,20110417,       2052
320620110219,       S04P,     132,          2,          2,          2,2,20110417,       2046,   -67.0001,   -75.7972,       3358,  3299.5,   0.4095,  34.7030,2,  34.7035,2,    211.3,2,   211.1,2,  134.99,2,   32.46,2,    0.00,2,    2.24,2,   0.176,2,   0.090,2,   0.009,2,   0.0510,2,  2263.3,2,  -999.0,9,   7.5983,6,    25.00,-999.000,9,-999.0000,9,-999.000,9,   0.4098,2, -999.00,9,  -999.0,9,  -999.0,-999.000,9, -999.00,9,-999.000,9,   40.00,2,   35.19,2, -67.0001, -75.7973,-999.000,     -999.0,    34.8671,2,     -999.0,9,     -999.0,9,-999.0000,9,-999.0000,9,-999.0000,9,-999.0000,9,-999.0000,9,-999.0000,9,-999.0000,9,-999.0000,9,-999.0000,9,-999.0000,-999.000,   0.1897,     -999.0,     -999.0,9,     -999.0,9,     -999.0,9,     -999.0,9,     -999.0,20110417,       2050
320620110219,       S04P,     132,          2,          1,          1,2,20110417,       2046,   -67.0001,   -75.7972,       3358,  3408.1,   0.3930,  34.7025,2,  34.7035,2,    211.0,2,   211.2,2,  137.55,2,   32.50,2,    0.00,2,    2.24,2,   0.236,2,   0.128,2,   0.012,2,   0.0910,2,  2265.5,6,  2364.8,2,   7.5954,2,    25.00,-999.000,9,-999.0000,9,-999.000,9,   0.3929,2, -999.00,9,  -999.0,9,  -999.0,-999.000,9, -999.00,9,-999.000,9,   40.18,2,   35.13,2, -67.0001, -75.7973,-999.000,     -999.0,    34.8671,2,     -999.0,9,     -999.0,9,-999.0000,9,-999.0000,9,-999.0000,9,-999.0000,9,-999.0000,9,-999.0000,9,-999.0000,9,-999.0000,9,-999.0000,9,-999.0000,-999.000,   0.1635,     -999.0,     -999.0,9,     -999.0,9,     -999.0,9,     -999.0,9,     -999.0,20110417,       2046