BOTTLE,20220813CCHSIOAMB
EXPOCODE,SECT_ID,STNNBR,CASTNO,SAMPNO,BTLNBR,BTLNBR_FLAG_W,DATE,TIME,LATITUDE,LONGITUDE,DEPTH,CTDPRS,CTDTMP,CTDSAL,CTDSAL_FLAG_W,SALNTY,SALNTY_FLAG_W,CTDOXY,CTDOXY_FLAG_W,OXYGEN,OXYGEN_FLAG_W,SILCAT,SILCAT_FLAG_W,NITRAT,NITRAT_FLAG_W,NITRIT,NITRIT_FLAG_W,PHSPHT,PHSPHT_FLAG_W,CFC-11,CFC-11_FLAG_W,CFC-12,CFC-12_FLAG_W,CFC113,CFC113_FLAG_W,SF6,SF6_FLAG_W,TCARBN,TCARBN_FLAG_W,ALKALI,ALKALI_FLAG_W,PH_TOT,PH_TOT_FLAG_W,PH_TMP,TRITUM,TRITUM_FLAG_W,HELIUM,HELIUM_FLAG_W,DELHE3,DELHE3_FLAG_W,REFTMP,REFTMP_FLAG_W,DELC13,DELC13_FLAG_W,DELC14,DELC14_FLAG_W,C14ERR,NEON,NEON_FLAG_W,DELO18,DELO18_FLAG_W,POC,POC_FLAG_W,DOC,DOC_FLAG_W,TDN,TDN_FLAG_W,BTL_LAT,BTL_LON,TRITER,NEONER,SALTREF,SALTREF_FLAG_W,PIGMENTS,PIGMENTS_FLAG_W,LAB_DEN,LAB_DEN_FLAG_W,CDOM325,CDOM325_FLAG_W,CDOM340,CDOM340_FLAG_W,CDOM380,CDOM380_FLAG_W,CDOM412,CDOM412_FLAG_W,CDOM443,CDOM443_FLAG_W,CDOM490,CDOM490_FLAG_W,CDOM555,CDOM555_FLAG_W,CDOMSL,CDOMSL_FLAG_W,CDOMSN,CDOMSN_FLAG_W,HELIER,DELHER,THETA,LDEO_SAMPNO,ABSORBTION,ABSORBTION_FLAG_W,IMAGE_COUNT,IMAGE_COUNT_FLAG_W,CYTO_COUNT,CYTO_COUNT_FLAG_W,DELD,DELD_FLAG_W,DELDERR,BTL_DATE,BTL_TIME
,,,,,,,,,,,METERS,DBAR,ITS-90,PSS-78,,PSS-78,,UMOL/KG,,UMOL/KG,,UMOL/KG,,UMOL/KG,,UMOL/KG,,UMOL/KG,,PMOL/KG,,PMOL/KG,,PMOL/KG,,FMOL/KG,,UMOL/KG,,UMOL/KG,,,,DEG C,TU,,NMOL/KG,,PERCNT,,DEG C,,/MILLE,,/MILLE,,/MILLE,NMOL/KG,,/MILLE,,UG/KG,,UMOL/KG,,UMOL/KG,,,,TU,NMOL/KG,G/KG,,,,,,1/M,,1/M,,1/M,,1/M,,1/M,,1/M,,1/M,,1/NM,,1/NM,,NMOL/KG,PERCNT,DEG C,,,,,,,,/MILLE,,/MILLE,,
320620110219,       P16S,      49,          2,         13,         13,2,20110312,       1105,   -68.9933,  -149.9782,       4365,  1664.7,   0.7065,  34.7088,2,  34.7084,2,    203.1,2,   202.8,2,  122.70,2,   31.70,2,    0.00,2,    2.21,2,-999.000,9,-999.000,9,-999.000,9,-999.0000,9,  -999.0,9,  -999.0,9,-999.0000,9,  -999.00,-999.000,9,-999.0000,9,-999.000,9,   0.7068,2, -999.00,9,  -999.0,9,  -999.0,-999.000,9, -999.00,9,-999.000,9, -999.00,9, -999.00,9, -68.9933,-149.9782,-999.000,     -999.0,    34.8721,2,     -999.0,9,     -999.0,9,-999.0000,9,-999.0000,9,-999.0000,9,-999.0000,9,-999.0000,9,-999.0000,9,-999.0000,9,-999.0000,9,-999.0000,9,-999.0000,-999.000,   0.6138,     -999.0,     -999.0,9,     -999.0,9,     -999.0,9,     -999.0,9,     -999.0,20110312,       1205
320620110219,       P16S,      49,          2,         12,         12,2,20110312,       1105,   -68.9933,  -149.9782,       4365,  1864.1,   0.6322,  34.7066,2,  34.7063,2,    204.8,2,   204.7,2,  124.46,2,   31.74,2,    0.00,2,    2.22,2,   0.119,2,   0.060,2,   0.006,2,   0.0470,2,  -999.0,9,  -999.0,9,-999.0000,9,  -999.00,-999.000,9,-999.0000,9,-999.000,9,   0.6324,2, -999.00,9,  -999.0,9,  -999.0,-999.000,9, -999.00,9,-999.000,9, -999.00,9, -999.00,9, -68.9933,-149.9782,-999.000,     -999.0,    34.8699,2,     -999.0,9,     -999.0,9,-999.0000,9,-999.0000,9,-999.0000,9,-999.0000,9,-999.0000,9,-999.0000,9,-999.0000,9,-999.0000,9,-999.0000,9,-999.0000,-999.000,   0.5264,     -999.0,     -999.0,9,     -999.0,9,     -999.0,9,     -999.0,9,     -999.0,20110312,       1200
320620110219,       P16S,      49,          2,         11,         11,2,20110312,       1105,   -68.9933,  -149.9782,       4365,  2084.8,   0.5493,  34.7048,2,  34.7041,2,    206.5,2,   206.8,2,  125.54,2,   31.96,2,    0.00,2,    2.23,2,-999.000,9,-999.000,9,-999.000,9,-999.0000,9,  -999.0,9,  -999.0,9,-999.0000,9,  -999.00,-999.000,9,-999.0000,9,-999.000,9,   0.5496,2, -999.00,9,  -999.0,9,  -999.0,-999.000,9, -999.00,9,-999.000,9, -999.00,9, -999.00,9, -68.9933,-149.9782,-999.000,     -999.0,    34.8678,2,     -999.0,9,     -999.0,9,-999.0000,9,-999.0000,9,-999.0000,9,-999.0000,9,-999.0000,9,-999.0000,9,-999.0000,9,-999.0000,9,-999.0000,9,-999.0000,-999.000,   0.4286,     -999.0,     -999.0,9,     -999.0,9,     -999.0,9,     -999.0,9,     -999.0,20110312,       1156
320620110219,       P16S,      49,          2,         10,         37,2,20110312,       1105,   -68.9933,  -149.9782,       4365,  2334.7,   0.4633,  34.7037,2,  34.7041,2,    208.4,2,   208.6,2,  127.68,2,   31.89,2,    0.00,2,    2.24,2,-999.000,9,-999.000,9,-999.000,9,-999.0000,9,  2261.8,2,  2360.2,2,   7.5930,2,    25.00,-999.000,9,-999.0000,9,-999.000,9,   0.4637,2, -999.00,9,  -999.0,9,  -999.0,-999.000,9, -999.00,9,-999.000,9, -999.00,9, -999.00,9, -68.9933,-149.9782,-999.000,     -999.0,    34.8678,2,     -999.0,9,     -999.0,9,-999.0000,9,-999.0000,9,-999.0000,9,-999.0000,9,-999.0000,9,-999.0000,9,-999.0000,9,-999.0000,9,-999.0000,9,-999.0000,-999.000,   0.3249,     -999.0,     -999.0,9,     -999.0,9,     -999.0,9,     -999.0,9,     -999.0,20110312,       1151
320620110219,       P16S,      49,          2,          9,          9,2,20110312,       1105,   -68.9933,  -149.9782,       4365,  2584.3,   0.3904,  34.7033,2,  34.7017,2,    210.4,2,   210.2,2,  129.38,2,   32.09,2,    0.00,2,    2.24,2,-999.000,9,-999.000,9,-999.000,9,-999.0000,9,  -999.0,9,  -999.0,9,-999.0000,9,  -999.00,-999.000,9,-999.0000,9,-999.000,9,   0.3906,2, -999.00,9,  -999.0,9,  -999.0,-999.000,9, -999.00,9,-999.000,9, -999.00,9, -999.00,9, -68.9933,-149.9782,-999.000,     -999.0,    34.8654,2,     -999.0,9,     -999.0,9,-999.0000,9,-999.0000,9,-999.0000,9,-999.0000,9,-999.0000,9,-999.0000,9,-999.0000,9,-999.0000,9,-999.0000,9,-999.0000,-999.000,   0.2334,     -999.0,     -999.0,9,     -999.0,9,     -999.0,9,     -999.0,9,     -999.0,20110312,       1145
320620110219,       P16S,      49,          2,          8,          8,2,20110312,       1105,   -68.9933,  -149.9782,       4365,  2835.5,   0.3343,  34.7025,2,  34.7017,2,    212.3,2,   212.8,2,  131.03,2,   32.01,2,    0.00,2,    2.23,2,   0.180,2,   0.092,2,   0.014,2,   0.0580,2,  -999.0,9,  -999.0,9,-999.0000,9,  -999.00,-999.000,9,-999.0000,9,-999.000,9,   0.3350,2, -999.00,9,  -999.0,9,  -999.0,-999.000,9, -999.00,9,-999.000,9, -999.00,9, -999.00,9, -68.9933,-149.9782,-999.000,     -999.0,    34.8654,2,     -999.0,9,     -999.0,9,-999.0000,9,-999.0000,9,-999.0000,9,-999.0000,9,-999.0000,9,-999.0000,9,-999.0000,9,-999.0000,9,-999.0000,9,-999.0000,-999.000,   0.1574,     -999.0,     -999.0,9,     -999.0,9,     -999.0,9,     -999.0,9,     -999.0,20110312,       1140
320620110219,       P16S,      49,          2,          7,          7,2,20110312,       1105,   -68.9933,  -149.9782,       4365,  3099.8,   0.2876,  34.7016,2,  34.7008,2,    214.3,2,   214.3,2,  131.50,2,   32.11,2,    0.00,2,    2.23,2,-999.000,9,-999.000,9,-999.000,9,-999.0000,9,  2262.6,2,  2360.7,2,   7.5916,2,    25.00,-999.000,9,-999.0000,9,-999.000,9,   0.2878,2, -999.00,9,  -999.0,9,  -999.0,-999.000,9, -999.00,9,-999.000,9, -999.00,9, -999.00,9, -68.9933,-149.9781,-999.000,     -999.0,    34.8644,2,     -999.0,9,     -999.0,9,-999.0000,9,-999.0000,9,-999.0000,9,-999.0000,9,-999.0000,9,-999.0000,9,-999.0000,9,-999.0000,9,-999.0000,9,-999.0000,-999.000,   0.0888,     -999.0,     -999.0,9,     -999.0,9,     -999.0,9,     -999.0,9,     -999.0,20110312,       1134
320620110219,       P16S,      49,          2,          6,          6,2,20110312,       1105,   -68.9933,  -149.9782,       4365,  3399.9,   0.2316,  34.6992,2,  34.6984,2,    217.1,2,   217.2,2,  129.02,2,   32.10,2,    0.00,2,    2.23,2,   0.486,2,   0.235,2,   0.031,2,   0.1270,2,  -999.0,9,  -999.0,9,-999.0000,9,  -999.00,-999.000,9,-999.0000,9,-999.000,9,   0.2312,2, -999.00,9,  -999.0,9,  -999.0,-999.000,9, -999.00,9,-999.000,9, -999.00,9, -999.00,9, -68.9933,-149.9782,-999.000,     -999.0,    34.8620,2,     -999.0,9,     -999.0,9,-999.0000,9,-999.0000,9,-999.0000,9,-999.0000,9,-999.0000,9,-999.0000,9,-999.0000,9,-999.0000,9,-999.0000,9,-999.0000,-999.000,   0.0069,     -999.0,     -999.0,9,     -999.0,9,     -999.0,9,     -999.0,9,     -999.0,20110312,       1128
320620110219,       P16S,      49,          2,          5,          5,2,20110312,       1105,   -68.9933,  -149.9782,       4365,  3700.9,   0.1913,  34.6965,2,  34.6959,2,    220.2,2,   219.7,2,  123.93,2,   31.99,2,    0.00,2,    2.22,2,   0.745,2,   0.367,2,   0.045,2,   0.1120,2,  -999.0,9,  -999.0,9,-999.0000,9,  -999.00,-999.000,9,-999.0000,9,-999.000,9,   0.1916,2, -999.00,9,  -999.0,9,  -999.0,-999.000,9, -999.00,9,-999.000,9, -999.00,9, -999.00,9, -68.9933,-149.9781,-999.000,     -999.0,    34.8595,2,     -999.0,9,     -999.0,9,-999.0000,9,-999.0000,9,-999.0000,9,-999.0000,9,-999.0000,9,-999.0000,9,-999.0000,9,-999.0000,9,-999.0000,9,-999.0000,-999.000,  -0.0609,     -999.0,     -999.0,9,     -999.0,9,     -999.0,9,     -999.0,9,     -999.0,20110312,       1122
320620110219,       P16S,      49,          2,          4,          4,2,20110312,       1105,   -68.9933,  -149.9782,       4365,  4001.1,   0.1976,  34.6965,2,  34.6955,2,    221.1,2,   224.4,4,  123.30,2,   32.09,2,    0.00,2,    2.21,2,   0.788,2,   0.382,2,   0.043,2,   0.1120,2,  2260.0,2,  2357.8,2,   7.5917,2,    25.00,-999.000,9,-999.0000,9,-999.000,9,   0.1979,2, -999.00,9,  -999.0,9,  -999.0,-999.000,9, -999.00,9,-999.000,9, -999.00,9, -999.00,9, -68.9933,-149.9782,-999.000,     -999.0,    34.8591,2,     -999.0,9,     -999.0,9,-999.0000,9,-999.0000,9,-999.0000,9,-999.0000,9,-999.0000,9,-999.0000,9,-999.0000,9,-999.0000,9,-999.0000,9,-999.0000,-999.000,  -0.0845,     -999.0,     -999.0,9,     -999.0,9,     -999.0,9,     -999.0,9,     -999.0,20110312,       1116
320620110219,       P16S,      49,          2,          3,          3,2,20110312,       1105,   -68.9933,  -149.9782,       4365,  4299.5,   0.2183,  34.6971,2,  34.6962,2,    220.6,2,   219.9,2,  124.95,2,   32.13,2,    0.00,2,    2.22,2,   0.773,2,   0.376,2,   0.040,2,   0.0820,2,  2260.4,2,  2358.2,6,   7.5895,2,    25.00,-999.000,9,-999.0000,9,-999.000,9,   0.2181,2, -999.00,9,  -999.0,9,  -999.0,-999.000,9, -999.00,9,-999.000,9, -999.00,9, -999.00,9, -68.9933,-149.9782,-999.000,     -999.0,    34.8598,2,     -999.0,9,     -999.0,9,-999.0000,9,-999.0000,9,-999.0000,9,-999.0000,9,-999.0000,9,-999.0000,9,-999.0000,9,-999.0000,9,-999.0000,9,-999.0000,-999.000,  -0.0952,     -999.0,     -999.0,9,     -999.0,9,     -999.0,9,     -999.0,9,     -999.0,20110312,       1110
320620110219,       P16S,      49,          2,          2,          2,2,20110312,       1105,   -68.9933,  -149.9782,       4365,  4395.1,   0.2282,  34.6972,2,  34.6964,2,    220.1,2,   219.7,2,  125.79,2,   32.16,2,    0.00,2,    2.23,2,   0.788,2,   0.378,2,   0.040,2,   0.1260,2,  2261.6,6,  2358.7,2,   7.5897,2,    25.00,-999.000,9,-999.0000,9,-999.000,9,   0.2283,2, -999.00,9,  -999.0,9,  -999.0,-999.000,9, -999.00,9,-999.000,9, -999.00,9, -999.00,9, -68.9933,-149.9782,-999.000,     -999.0,    34.8600,2,     -999.0,9,     -999.0,9,-999.0000,9,-999.0000,9,-999.0000,9,-999.0000,9,-999.0000,9,-999.0000,9,-999.0000,9,-999.0000,9,-999.0000,9,-999.0000,-999.000,  -0.0958,     -999.0,     -999.0,9,     -999.0,9,     -999.0,9,     -999.0,9,     -999.0,20110312,       1107
320620110219,       P16S,      49,          2,          1,          1,2,20110312,       1105,   -68.9933,  -149.9782,       4365,  4444.8,   0.2334,  34.6972,2,  34.6964,2,    219.9,2,   220.4,2,  125.86,2,   32.14,2,    0.00,2,    2.22,2,   0.761,2,   0.374,2,   0.030,2,   0.0830,2,  2263.0,2,  2358.1,2,   7.5901,6,    25.00,-999.000,9,-999.0000,9,-999.000,9,   0.2331,2, -999.00,9,  -999.0,9,  -999.0,-999.000,9, -999.00,9,-999.000,9, -999.00,9, -999.00,9, -68.9933,-149.9782,-999.000,     -999.0,    34.8600,2,     -999.0,9,     -999.0,9,-999.0000,9,-999.0000,9,-999.0000,9,-999.0000,9,-999.0000,9,-999.0000,9,-999.0000,9,-999.0000,9,-999.0000,9,-999.0000,-999.000,  -0.0961,     -999.0,     -999.0,9,     -999.0,9,     -999.0,9,     -999.0,9,     -999.0,20110312,       1105