BOTTLE,20220813CCHSIOAMB
EXPOCODE,SECT_ID,STNNBR,CASTNO,SAMPNO,BTLNBR,BTLNBR_FLAG_W,DATE,TIME,LATITUDE,LONGITUDE,DEPTH,CTDPRS,CTDTMP,CTDSAL,CTDSAL_FLAG_W,SALNTY,SALNTY_FLAG_W,CTDOXY,CTDOXY_FLAG_W,OXYGEN,OXYGEN_FLAG_W,SILCAT,SILCAT_FLAG_W,NITRAT,NITRAT_FLAG_W,NITRIT,NITRIT_FLAG_W,PHSPHT,PHSPHT_FLAG_W,CFC-11,CFC-11_FLAG_W,CFC-12,CFC-12_FLAG_W,CFC113,CFC113_FLAG_W,SF6,SF6_FLAG_W,TCARBN,TCARBN_FLAG_W,ALKALI,ALKALI_FLAG_W,PH_TOT,PH_TOT_FLAG_W,PH_TMP,TRITUM,TRITUM_FLAG_W,HELIUM,HELIUM_FLAG_W,DELHE3,DELHE3_FLAG_W,REFTMP,REFTMP_FLAG_W,DELC13,DELC13_FLAG_W,DELC14,DELC14_FLAG_W,C14ERR,NEON,NEON_FLAG_W,DELO18,DELO18_FLAG_W,POC,POC_FLAG_W,DOC,DOC_FLAG_W,TDN,TDN_FLAG_W,BTL_LAT,BTL_LON,TRITER,NEONER,SALTREF,SALTREF_FLAG_W,PIGMENTS,PIGMENTS_FLAG_W,LAB_DEN,LAB_DEN_FLAG_W,CDOM325,CDOM325_FLAG_W,CDOM340,CDOM340_FLAG_W,CDOM380,CDOM380_FLAG_W,CDOM412,CDOM412_FLAG_W,CDOM443,CDOM443_FLAG_W,CDOM490,CDOM490_FLAG_W,CDOM555,CDOM555_FLAG_W,CDOMSL,CDOMSL_FLAG_W,CDOMSN,CDOMSN_FLAG_W,HELIER,DELHER,THETA,LDEO_SAMPNO,ABSORBTION,ABSORBTION_FLAG_W,IMAGE_COUNT,IMAGE_COUNT_FLAG_W,CYTO_COUNT,CYTO_COUNT_FLAG_W,DELD,DELD_FLAG_W,DELDERR,BTL_DATE,BTL_TIME
,,,,,,,,,,,METERS,DBAR,ITS-90,PSS-78,,PSS-78,,UMOL/KG,,UMOL/KG,,UMOL/KG,,UMOL/KG,,UMOL/KG,,UMOL/KG,,PMOL/KG,,PMOL/KG,,PMOL/KG,,FMOL/KG,,UMOL/KG,,UMOL/KG,,,,DEG C,TU,,NMOL/KG,,PERCNT,,DEG C,,/MILLE,,/MILLE,,/MILLE,NMOL/KG,,/MILLE,,UG/KG,,UMOL/KG,,UMOL/KG,,,,TU,NMOL/KG,G/KG,,,,,,1/M,,1/M,,1/M,,1/M,,1/M,,1/M,,1/M,,1/NM,,1/NM,,NMOL/KG,PERCNT,DEG C,,,,,,,,/MILLE,,/MILLE,,
320620110219,       S04P,     106,          1,         36,         36,2,20110404,       1553,   -66.9996,  -132.7427,       4595,     4.9,  -0.8623,  33.5582,2,  33.5559,2,    341.2,3,   346.0,2,   25.48,2,   24.41,2,    0.22,2,    1.65,2,   6.234,2,   3.392,2,   0.618,2,   2.7700,2,  2142.6,6,  2269.3,2,   7.7001,2,    25.00,-999.000,9,-999.0000,9,-999.000,9,  -0.8625,2,    1.37,2,  -101.9,2,     3.1,-999.000,9, -999.00,9,-999.000,9, -999.00,9, -999.00,9, -67.0003,-132.7458,-999.000,     -999.0,    33.7141,2,     -999.0,9,     -999.0,9,-999.0000,9,-999.0000,9,-999.0000,9,-999.0000,9,-999.0000,9,-999.0000,9,-999.0000,9,-999.0000,9,-999.0000,9,-999.0000,-999.000,  -0.8624,     -999.0,     -999.0,9,     -999.0,9,     -999.0,9,     -999.0,9,     -999.0,20110404,       1746
320620110219,       S04P,     106,          1,         35,         35,2,20110404,       1553,   -66.9996,  -132.7427,       4595,    25.6,  -0.8622,  33.5583,2,  33.5567,2,    346.0,2,   346.0,2,   25.48,2,   24.48,2,    0.23,2,    1.66,2,   6.211,2,   3.408,2,   0.620,2,   2.7510,2,  2140.2,2,  2267.7,2,   7.6997,6,    25.00,-999.000,9,-999.0000,9,-999.000,9,  -0.8623,2, -999.00,9,  -999.0,9,  -999.0,-999.000,9, -999.00,9,-999.000,9, -999.00,9, -999.00,9, -67.0003,-132.7459,-999.000,     -999.0,    33.7149,2,     -999.0,9,     -999.0,9,-999.0000,9,-999.0000,9,-999.0000,9,-999.0000,9,-999.0000,9,-999.0000,9,-999.0000,9,-999.0000,9,-999.0000,9,-999.0000,-999.000,  -0.8629,     -999.0,     -999.0,9,     -999.0,9,     -999.0,9,     -999.0,9,     -999.0,20110404,       1745
320620110219,       S04P,     106,          1,         34,         34,2,20110404,       1553,   -66.9996,  -132.7427,       4595,    49.4,  -0.8659,  33.5608,2,  33.5617,2,    346.0,2,   345.3,2,   25.80,2,   24.49,2,    0.24,2,    1.68,2,   6.184,6,   3.389,6,   0.619,6,   2.7710,6,  2143.3,2,  2270.6,2,   7.6988,2,    25.00,-999.000,9,-999.0000,9,-999.000,9,  -0.8662,2, -999.00,9,  -999.0,9,  -999.0,-999.000,9, -999.00,9,-999.000,9, -999.00,9, -999.00,9, -67.0003,-132.7458,-999.000,     -999.0,    33.7200,2,     -999.0,9,     -999.0,9,-999.0000,9,-999.0000,9,-999.0000,9,-999.0000,9,-999.0000,9,-999.0000,9,-999.0000,9,-999.0000,9,-999.0000,9,-999.0000,-999.000,  -0.8672,     -999.0,     -999.0,9,     -999.0,9,     -999.0,9,     -999.0,9,     -999.0,20110404,       1744
320620110219,       S04P,     106,          1,         33,         33,2,20110404,       1553,   -66.9996,  -132.7427,       4595,    74.8,  -1.6430,  33.8980,2,  33.8897,2,    318.2,2,   316.1,2,   43.96,2,   28.77,2,    0.20,2,    2.06,2,   5.455,2,   2.968,2,   0.544,2,   2.3570,2,  2182.3,2,  2288.4,6,   7.6304,2,    25.00,-999.000,9,-999.0000,9,-999.000,9,  -1.6426,2,    1.04,2,  -106.6,2,     2.4,-999.000,9, -999.00,9,-999.000,9, -999.00,9, -999.00,9, -67.0003,-132.7458,-999.000,     -999.0,    34.0495,2,     -999.0,9,     -999.0,9,-999.0000,9,-999.0000,9,-999.0000,9,-999.0000,9,-999.0000,9,-999.0000,9,-999.0000,9,-999.0000,9,-999.0000,9,-999.0000,-999.000,  -1.6445,     -999.0,     -999.0,9,     -999.0,9,     -999.0,9,     -999.0,9,     -999.0,20110404,       1742
320620110219,       S04P,     106,          1,         32,         32,2,20110404,       1553,   -66.9996,  -132.7427,       4595,   100.2,  -1.5695,  33.9603,2,  33.9582,2,    310.5,2,   314.0,2,   45.21,2,   29.75,2,    0.21,2,    2.06,2,   5.414,2,   2.945,2,   0.540,2,   2.3450,2,  2187.4,2,  2291.9,2,   7.6249,2,    25.00,-999.000,9,-999.0000,9,-999.000,9,  -1.5780,2,    1.03,2,  -110.4,2,     2.4,-999.000,9, -999.00,9,-999.000,9, -999.00,9, -999.00,9, -67.0003,-132.7459,-999.000,     -999.0,    34.1183,2,     -999.0,9,     -999.0,9,-999.0000,9,-999.0000,9,-999.0000,9,-999.0000,9,-999.0000,9,-999.0000,9,-999.0000,9,-999.0000,9,-999.0000,9,-999.0000,-999.000,  -1.5716,     -999.0,     -999.0,9,     -999.0,9,     -999.0,9,     -999.0,9,     -999.0,20110404,       1741
320620110219,       S04P,     106,          1,         31,         31,2,20110404,       1553,   -66.9996,  -132.7427,       4595,   150.4,   0.1573,  34.2377,2,  34.2376,2,    255.5,2,   252.8,2,   59.20,2,   32.56,2,    0.05,2,    2.24,2,   3.556,2,   1.931,2,   0.346,2,   1.5390,2,  2220.0,2,  2308.0,2,   7.5823,2,    25.00,-999.000,9,-999.0000,9,-999.000,9,   0.1573,2,    0.73,2,  -122.1,2,     2.8,-999.000,9, -999.00,9,-999.000,9, -999.00,9, -999.00,9, -67.0003,-132.7458,-999.000,     -999.0,    34.3991,2,     -999.0,9,     -999.0,9,-999.0000,9,-999.0000,9,-999.0000,9,-999.0000,9,-999.0000,9,-999.0000,9,-999.0000,9,-999.0000,9,-999.0000,9,-999.0000,-999.000,   0.1517,     -999.0,     -999.0,9,     -999.0,9,     -999.0,9,     -999.0,9,     -999.0,20110404,       1740
320620110219,       S04P,     106,          1,         30,         30,2,20110404,       1553,   -66.9996,  -132.7427,       4595,   200.2,   1.4795,  34.4663,2,  34.4669,2,    202.5,2,   199.1,2,   72.08,2,   34.35,2,    0.00,2,    2.35,2,   1.805,2,   0.970,2,   0.164,2,   0.7480,2,  2245.1,2,  2325.7,2,   7.5468,2,    25.00,-999.000,9,-999.0000,9,-999.000,9,   1.4756,2,    0.46,2,  -133.2,2,     3.2,-999.000,9, -999.00,9,-999.000,9, -999.00,9, -999.00,9, -67.0003,-132.7458,-999.000,     -999.0,    34.6294,2,     -999.0,9,     -999.0,9,-999.0000,9,-999.0000,9,-999.0000,9,-999.0000,9,-999.0000,9,-999.0000,9,-999.0000,9,-999.0000,9,-999.0000,9,-999.0000,-999.000,   1.4697,     -999.0,     -999.0,9,     -999.0,9,     -999.0,9,     -999.0,9,     -999.0,20110404,       1738
320620110219,       S04P,     106,          1,         29,         29,2,20110404,       1553,   -66.9996,  -132.7427,       4595,   250.2,   1.8564,  34.5593,2,  34.5574,2,    184.7,2,   182.2,2,   76.25,2,   34.43,2,    0.00,2,    2.35,2,   1.103,2,   0.579,2,   0.090,2,   0.4360,2,  2252.0,2,  2332.4,2,   7.5437,2,    25.00,-999.000,9,-999.0000,9,-999.000,9,   1.8544,2,    0.43,2,  -145.1,2,     2.4,-999.000,9, -999.00,9,-999.000,9, -999.00,9, -999.00,9, -67.0003,-132.7458,-999.000,     -999.0,    34.7204,2,     -999.0,9,     -999.0,9,-999.0000,9,-999.0000,9,-999.0000,9,-999.0000,9,-999.0000,9,-999.0000,9,-999.0000,9,-999.0000,9,-999.0000,9,-999.0000,-999.000,   1.8432,     -999.0,     -999.0,9,     -999.0,9,     -999.0,9,     -999.0,9,     -999.0,20110404,       1736
320620110219,       S04P,     106,          1,         28,         28,2,20110404,       1553,   -66.9996,  -132.7427,       4595,   300.1,   1.9960,  34.6088,2,  34.6063,2,    176.1,2,   176.4,2,   78.14,2,   34.07,2,    0.00,2,    2.33,2,   0.740,2,   0.392,2,   0.062,2,   0.2770,2,  2255.0,2,  2337.2,2,   7.5487,2,    25.00,-999.000,9,-999.0000,9,-999.000,9,   1.9947,2,    0.53,2,  -145.7,2,     2.3,-999.000,9, -999.00,9,-999.000,9, -999.00,9, -999.00,9, -67.0003,-132.7458,-999.000,     -999.0,    34.7694,2,     -999.0,9,     -999.0,9,-999.0000,9,-999.0000,9,-999.0000,9,-999.0000,9,-999.0000,9,-999.0000,9,-999.0000,9,-999.0000,9,-999.0000,9,-999.0000,-999.000,   1.9797,     -999.0,     -999.0,9,     -999.0,9,     -999.0,9,     -999.0,9,     -999.0,20110404,       1734
320620110219,       S04P,     106,          1,         27,         27,2,20110404,       1553,   -66.9996,  -132.7427,       4595,   349.6,   2.0298,  34.6326,2,  34.6310,2,    174.8,2,   175.2,2,   79.24,2,   33.70,2,    0.00,2,    2.31,2,   0.598,2,   0.307,2,   0.043,2,   0.1900,2,  2256.2,2,  2339.0,2,   7.5545,2,    25.00,-999.000,9,-999.0000,9,-999.000,9,   2.0298,2,    0.39,2,  -142.6,2,     2.5,-999.000,9, -999.00,9,-999.000,9, -999.00,9, -999.00,9, -67.0003,-132.7458,-999.000,     -999.0,    34.7943,2,     -999.0,9,     -999.0,9,-999.0000,9,-999.0000,9,-999.0000,9,-999.0000,9,-999.0000,9,-999.0000,9,-999.0000,9,-999.0000,9,-999.0000,9,-999.0000,-999.000,   2.0105,     -999.0,     -999.0,9,     -999.0,9,     -999.0,9,     -999.0,9,     -999.0,20110404,       1732
320620110219,       S04P,     106,          1,         26,         26,2,20110404,       1553,   -66.9996,  -132.7427,       4595,   400.5,   2.0591,  34.6598,2,  34.6569,2,    175.2,2,   175.1,2,   80.59,2,   33.24,2,    0.00,2,    2.28,2,   0.460,2,   0.229,2,   0.030,2,   0.1800,2,  2255.0,2,  2341.8,2,   7.5602,2,    25.00,-999.000,9,-999.0000,9,-999.000,9,   2.0595,2,    0.40,2,  -148.0,2,     2.6,-999.000,9, -999.00,9,-999.000,9, -999.00,9, -999.00,9, -67.0003,-132.7458,-999.000,     -999.0,    34.8203,2,     -999.0,9,     -999.0,9,-999.0000,9,-999.0000,9,-999.0000,9,-999.0000,9,-999.0000,9,-999.0000,9,-999.0000,9,-999.0000,9,-999.0000,9,-999.0000,-999.000,   2.0367,     -999.0,     -999.0,9,     -999.0,9,     -999.0,9,     -999.0,9,     -999.0,20110404,       1730
320620110219,       S04P,     106,          1,         25,         25,2,20110404,       1553,   -66.9996,  -132.7427,       4595,   499.8,   2.0094,  34.6881,2,  34.6881,2,    178.5,2,   177.9,2,   82.90,2,   32.75,2,    0.00,2,    2.24,2,-999.000,9,-999.000,9,-999.000,9,-999.0000,9,  2255.3,2,  2344.0,2,   7.5711,2,    25.00,-999.000,9,-999.0000,9,-999.000,9,   2.0091,2,    0.31,2,  -145.6,2,     2.3,-999.000,9, -999.00,9,-999.000,9, -999.00,9, -999.00,9, -67.0003,-132.7458,-999.000,     -999.0,    34.8516,2,     -999.0,9,     -999.0,9,-999.0000,9,-999.0000,9,-999.0000,9,-999.0000,9,-999.0000,9,-999.0000,9,-999.0000,9,-999.0000,9,-999.0000,9,-999.0000,-999.000,   1.9813,     -999.0,     -999.0,9,     -999.0,9,     -999.0,9,     -999.0,9,     -999.0,20110404,       1728
320620110219,       S04P,     106,          1,         24,         24,2,20110404,       1553,   -66.9996,  -132.7427,       4595,   599.7,   1.9432,  34.7072,2,  34.7061,2,    181.8,2,   181.5,2,   84.96,2,   32.29,2,    0.00,2,    2.22,2,   0.290,2,   0.142,2,   0.020,2,   0.1290,2,  2254.3,2,  2345.7,2,   7.5806,2,    25.00,-999.000,9,-999.0000,9,-999.000,9,   1.9435,2,    0.44,2,  -152.2,2,     2.4,-999.000,9, -999.00,9,-999.000,9, -999.00,9, -999.00,9, -67.0003,-132.7458,-999.000,     -999.0,    34.8698,2,     -999.0,9,     -999.0,9,-999.0000,9,-999.0000,9,-999.0000,9,-999.0000,9,-999.0000,9,-999.0000,9,-999.0000,9,-999.0000,9,-999.0000,9,-999.0000,-999.000,   1.9092,     -999.0,     -999.0,9,     -999.0,9,     -999.0,9,     -999.0,9,     -999.0,20110404,       1725
320620110219,       S04P,     106,          1,         23,         23,2,20110404,       1553,   -66.9996,  -132.7427,       4595,   699.9,   1.8701,  34.7187,2,  34.7183,2,    185.4,2,   184.2,2,   87.17,2,   31.98,2,    0.00,2,    2.20,2,-999.000,9,-999.000,9,-999.000,9,-999.0000,9,  -999.0,9,  -999.0,5,   7.5854,2,    25.00,-999.000,9,-999.0000,9,-999.000,9,   1.8701,2,    0.45,2,  -152.0,2,     2.3,-999.000,9, -999.00,9,-999.000,9, -999.00,9, -999.00,9, -67.0003,-132.7458,-999.000,     -999.0,    34.8820,2,     -999.0,9,     -999.0,9,-999.0000,9,-999.0000,9,-999.0000,9,-999.0000,9,-999.0000,9,-999.0000,9,-999.0000,9,-999.0000,9,-999.0000,9,-999.0000,-999.000,   1.8303,     -999.0,     -999.0,9,     -999.0,9,     -999.0,9,     -999.0,9,     -999.0,20110404,       1723
320620110219,       S04P,     106,          1,         22,         22,2,20110404,       1553,   -66.9996,  -132.7427,       4595,   799.7,   1.7903,  34.7265,2,  34.7255,2,    188.1,2,   187.2,2,   89.04,2,   31.77,2,    0.00,2,    2.17,2,   0.232,2,   0.113,2,   0.017,2,   0.1230,2,  2252.7,2,  2349.2,2,   7.5904,2,    25.00,-999.000,9,-999.0000,9,-999.000,9,   1.7902,2,    0.48,2,  -155.0,2,     2.6,-999.000,9, -999.00,9,-999.000,9, -999.00,9, -999.00,9, -67.0003,-132.7456,-999.000,     -999.0,    34.8893,2,     -999.0,9,     -999.0,9,-999.0000,9,-999.0000,9,-999.0000,9,-999.0000,9,-999.0000,9,-999.0000,9,-999.0000,9,-999.0000,9,-999.0000,9,-999.0000,-999.000,   1.7446,     -999.0,     -999.0,9,     -999.0,9,     -999.0,9,     -999.0,9,     -999.0,20110404,       1720
320620110219,       S04P,     106,          1,         21,         21,2,20110404,       1553,   -66.9996,  -132.7427,       4595,   900.1,   1.7155,  34.7305,2,  34.7296,2,    190.4,2,   190.0,2,   91.27,2,   31.74,2,    0.00,2,    2.16,2,-999.000,9,-999.000,9,-999.000,9,-999.0000,9,  -999.0,9,  -999.0,5,   7.5942,2,    25.00,-999.000,9,-999.0000,9,-999.000,9,   1.7150,2,    0.48,2,  -150.5,2,     2.8,-999.000,9, -999.00,9,-999.000,9, -999.00,9, -999.00,9, -67.0003,-132.7457,-999.000,     -999.0,    34.8934,2,     -999.0,9,     -999.0,9,-999.0000,9,-999.0000,9,-999.0000,9,-999.0000,9,-999.0000,9,-999.0000,9,-999.0000,9,-999.0000,9,-999.0000,9,-999.0000,-999.000,   1.6639,     -999.0,     -999.0,9,     -999.0,9,     -999.0,9,     -999.0,9,     -999.0,20110404,       1717
320620110219,       S04P,     106,          1,         20,         20,2,20110404,       1553,   -66.9996,  -132.7427,       4595,  1001.5,   1.6309,  34.7330,2,  34.7316,2,    192.1,2,   191.8,2,   93.54,2,   31.56,2,    0.00,2,    2.15,2,   0.193,2,   0.092,2,   0.010,2,   0.0580,2,  2253.3,2,  2353.5,2,   7.5965,6,    25.00,-999.000,9,-999.0000,9,-999.000,9,   1.6311,2,    0.47,2,  -149.7,2,     2.4,-999.000,9, -999.00,9,-999.000,9, -999.00,9, -999.00,9, -67.0003,-132.7457,-999.000,     -999.0,    34.8954,2,     -999.0,9,     -999.0,9,-999.0000,9,-999.0000,9,-999.0000,9,-999.0000,9,-999.0000,9,-999.0000,9,-999.0000,9,-999.0000,9,-999.0000,9,-999.0000,-999.000,   1.5733,     -999.0,     -999.0,9,     -999.0,9,     -999.0,9,     -999.0,9,     -999.0,20110404,       1714
320620110219,       S04P,     106,          1,         19,         19,2,20110404,       1553,   -66.9996,  -132.7427,       4595,  1100.4,   1.5387,  34.7330,2,  34.7322,2,    193.2,2,   192.8,2,   96.48,2,   31.67,2,    0.00,2,    2.16,2,-999.000,9,-999.000,9,-999.000,9,-999.0000,9,  -999.0,9,  -999.0,5,   7.5985,2,    25.00,-999.000,9,-999.0000,9,-999.000,9,   1.5376,2,    0.46,2,  -157.5,2,     2.4,-999.000,9, -999.00,9,-999.000,9, -999.00,9, -999.00,9, -67.0001,-132.7449,-999.000,     -999.0,    34.8960,2,     -999.0,9,     -999.0,9,-999.0000,9,-999.0000,9,-999.0000,9,-999.0000,9,-999.0000,9,-999.0000,9,-999.0000,9,-999.0000,9,-999.0000,9,-999.0000,-999.000,   1.4753,     -999.0,     -999.0,9,     -999.0,9,     -999.0,9,     -999.0,9,     -999.0,20110404,       1712
320620110219,       S04P,     106,          1,         18,         18,2,20110404,       1553,   -66.9996,  -132.7427,       4595,  1200.2,   1.4562,  34.7324,2,  34.7316,2,    194.5,2,   194.1,2,   98.75,2,   31.71,2,    0.00,2,    2.17,2,   0.172,2,   0.084,2,   0.007,2,   0.0600,2,  2255.4,6,  2354.9,2,   7.5992,2,    25.00,-999.000,9,-999.0000,9,-999.000,9,   1.4565,2,    0.43,2,  -154.7,2,     2.5,-999.000,9, -999.00,9,-999.000,9, -999.00,9, -999.00,9, -67.0000,-132.7445,-999.000,     -999.0,    34.8954,2,     -999.0,9,     -999.0,9,-999.0000,9,-999.0000,9,-999.0000,9,-999.0000,9,-999.0000,9,-999.0000,9,-999.0000,9,-999.0000,9,-999.0000,9,-999.0000,-999.000,   1.3869,     -999.0,     -999.0,9,     -999.0,9,     -999.0,9,     -999.0,9,     -999.0,20110404,       1709
320620110219,       S04P,     106,          1,         17,         17,2,20110404,       1553,   -66.9996,  -132.7427,       4595,  1300.8,   1.3782,  34.7307,2,  34.7298,2,    194.8,2,   194.6,2,  101.21,2,   31.79,2,    0.00,2,    2.17,2,-999.000,9,-999.000,9,-999.000,9,-999.0000,9,  -999.0,9,  -999.0,5,   7.5990,2,    25.00,-999.000,9,-999.0000,9,-999.000,9,   1.3790,2,    0.48,2,  -155.4,2,     2.8,-999.000,9, -999.00,9,-999.000,9, -999.00,9, -999.00,9, -66.9999,-132.7442,-999.000,     -999.0,    34.8936,2,     -999.0,9,     -999.0,9,-999.0000,9,-999.0000,9,-999.0000,9,-999.0000,9,-999.0000,9,-999.0000,9,-999.0000,9,-999.0000,9,-999.0000,9,-999.0000,-999.000,   1.3028,     -999.0,     -999.0,9,     -999.0,9,     -999.0,9,     -999.0,9,     -999.0,20110404,       1707
320620110219,       S04P,     106,          1,         16,         16,2,20110404,       1553,   -66.9996,  -132.7427,       4595,  1400.5,   1.3151,  34.7293,2,  34.7285,2,    196.1,2,   196.3,2,  103.24,2,   31.79,2,    0.00,2,    2.18,2,   0.148,2,   0.073,2,   0.005,2,   0.0540,2,  2258.0,2,  2358.6,6,   7.6001,2,    25.00,-999.000,9,-999.0000,9,-999.000,9,   1.3149,2,    0.46,2,  -153.3,2,     2.5,-999.000,9, -999.00,9,-999.000,9, -999.00,9, -999.00,9, -66.9998,-132.7438,-999.000,     -999.0,    34.8922,2,     -999.0,9,     -999.0,9,-999.0000,9,-999.0000,9,-999.0000,9,-999.0000,9,-999.0000,9,-999.0000,9,-999.0000,9,-999.0000,9,-999.0000,9,-999.0000,-999.000,   1.2335,     -999.0,     -999.0,9,     -999.0,9,     -999.0,9,     -999.0,9,     -999.0,20110404,       1704
320620110219,       S04P,     106,          1,         15,         15,2,20110404,       1553,   -66.9996,  -132.7427,       4595,  1500.8,   1.2367,  34.7269,2,  34.7263,2,    196.9,2,   196.8,2,  105.95,2,   31.80,2,    0.00,2,    2.18,2,-999.000,9,-999.000,9,-999.000,9,-999.0000,9,  -999.0,9,  -999.0,5,   7.6005,2,    25.00,-999.000,9,-999.0000,9,-999.000,9,   1.2367,2,    0.44,2,  -156.2,2,     2.3,-999.000,9, -999.00,9,-999.000,9, -999.00,9, -999.00,9, -66.9998,-132.7438,-999.000,     -999.0,    34.8900,2,     -999.0,9,     -999.0,9,-999.0000,9,-999.0000,9,-999.0000,9,-999.0000,9,-999.0000,9,-999.0000,9,-999.0000,9,-999.0000,9,-999.0000,9,-999.0000,-999.000,   1.1489,     -999.0,     -999.0,9,     -999.0,9,     -999.0,9,     -999.0,9,     -999.0,20110404,       1701
320620110219,       S04P,     106,          1,         14,         14,2,20110404,       1553,   -66.9996,  -132.7427,       4595,  1601.6,   1.1790,  34.7249,2,  34.7241,2,    197.8,2,   198.0,2,  107.73,2,   31.86,2,    0.00,2,    2.18,2,   0.134,2,   0.068,2,   0.005,2,   0.0840,2,  2258.5,2,  2360.0,2,   7.6007,2,    25.00,-999.000,9,-999.0000,9,-999.000,9,   1.1792,2,    0.50,2,  -162.9,2,     2.7,-999.000,9, -999.00,9,-999.000,9, -999.00,9, -999.00,9, -66.9998,-132.7438,-999.000,     -999.0,    34.8879,2,     -999.0,9,     -999.0,9,-999.0000,9,-999.0000,9,-999.0000,9,-999.0000,9,-999.0000,9,-999.0000,9,-999.0000,9,-999.0000,9,-999.0000,9,-999.0000,-999.000,   1.0847,     -999.0,     -999.0,9,     -999.0,9,     -999.0,9,     -999.0,9,     -999.0,20110404,       1659