BOTTLE,20220813CCHSIOAMB
EXPOCODE,SECT_ID,STNNBR,CASTNO,SAMPNO,BTLNBR,BTLNBR_FLAG_W,DATE,TIME,LATITUDE,LONGITUDE,DEPTH,CTDPRS,CTDTMP,CTDSAL,CTDSAL_FLAG_W,SALNTY,SALNTY_FLAG_W,CTDOXY,CTDOXY_FLAG_W,OXYGEN,OXYGEN_FLAG_W,SILCAT,SILCAT_FLAG_W,NITRAT,NITRAT_FLAG_W,NITRIT,NITRIT_FLAG_W,PHSPHT,PHSPHT_FLAG_W,CFC-11,CFC-11_FLAG_W,CFC-12,CFC-12_FLAG_W,CFC113,CFC113_FLAG_W,SF6,SF6_FLAG_W,TCARBN,TCARBN_FLAG_W,ALKALI,ALKALI_FLAG_W,PH_TOT,PH_TOT_FLAG_W,PH_TMP,TRITUM,TRITUM_FLAG_W,HELIUM,HELIUM_FLAG_W,DELHE3,DELHE3_FLAG_W,REFTMP,REFTMP_FLAG_W,DELC13,DELC13_FLAG_W,DELC14,DELC14_FLAG_W,C14ERR,NEON,NEON_FLAG_W,DELO18,DELO18_FLAG_W,POC,POC_FLAG_W,DOC,DOC_FLAG_W,TDN,TDN_FLAG_W,BTL_LAT,BTL_LON,TRITER,NEONER,SALTREF,SALTREF_FLAG_W,PIGMENTS,PIGMENTS_FLAG_W,LAB_DEN,LAB_DEN_FLAG_W,CDOM325,CDOM325_FLAG_W,CDOM340,CDOM340_FLAG_W,CDOM380,CDOM380_FLAG_W,CDOM412,CDOM412_FLAG_W,CDOM443,CDOM443_FLAG_W,CDOM490,CDOM490_FLAG_W,CDOM555,CDOM555_FLAG_W,CDOMSL,CDOMSL_FLAG_W,CDOMSN,CDOMSN_FLAG_W,HELIER,DELHER,THETA,LDEO_SAMPNO,ABSORBTION,ABSORBTION_FLAG_W,IMAGE_COUNT,IMAGE_COUNT_FLAG_W,CYTO_COUNT,CYTO_COUNT_FLAG_W,DELD,DELD_FLAG_W,DELDERR,BTL_DATE,BTL_TIME
,,,,,,,,,,,METERS,DBAR,ITS-90,PSS-78,,PSS-78,,UMOL/KG,,UMOL/KG,,UMOL/KG,,UMOL/KG,,UMOL/KG,,UMOL/KG,,PMOL/KG,,PMOL/KG,,PMOL/KG,,FMOL/KG,,UMOL/KG,,UMOL/KG,,,,DEG C,TU,,NMOL/KG,,PERCNT,,DEG C,,/MILLE,,/MILLE,,/MILLE,NMOL/KG,,/MILLE,,UG/KG,,UMOL/KG,,UMOL/KG,,,,TU,NMOL/KG,G/KG,,,,,,1/M,,1/M,,1/M,,1/M,,1/M,,1/M,,1/M,,1/NM,,1/NM,,NMOL/KG,PERCNT,DEG C,,,,,,,,/MILLE,,/MILLE,,
320620110219,       S04P,     128,          2,         13,         13,2,20110416,       1731,   -67.0001,   -80.3578,       4130,  1498.8,   1.2909,  34.7273,2,  34.7281,2,    194.1,2,   193.7,2,  104.78,2,   31.46,2,    0.00,2,    2.18,2,-999.000,9,-999.000,9,-999.000,9,-999.0000,9,  2257.4,2,  2359.0,2,   7.5983,2,    25.00,-999.000,9,-999.0000,9,-999.000,9,   1.2909,2, -999.00,9,  -999.0,9,  -999.0,-999.000,9, -999.00,9,-999.000,9, -999.00,9, -999.00,9, -67.0001, -80.3578,-999.000,     -999.0,    34.8919,2,     -999.0,9,     -999.0,9,   0.0889,2,   0.0468,3,   0.0014,3,  -0.0054,4,  -0.0146,4,  -0.0123,4,  -0.0129,4,   0.0616,4,   0.0493,4,-999.0000,-999.000,   1.2026,     -999.0,     -999.0,9,     -999.0,9,     -999.0,9,     -999.0,9,     -999.0,20110416,       1828
320620110219,       S04P,     128,          2,         12,         12,2,20110416,       1731,   -67.0001,   -80.3578,       4130,  1600.5,   1.2325,  34.7255,2,  34.7257,2,    195.3,2,   195.4,2,  106.83,2,   31.49,2,    0.00,2,    2.19,2,   0.083,2,   0.056,2,   0.007,2,   0.0260,2,  -999.0,9,  -999.0,9,-999.0000,9,  -999.00,-999.000,9,-999.0000,9,-999.000,9,   1.2324,2, -999.00,9,  -999.0,9,  -999.0,-999.000,9, -999.00,9,-999.000,9, -999.00,9, -999.00,9, -67.0001, -80.3578,-999.000,     -999.0,    34.8895,2,     -999.0,9,     -999.0,9,-999.0000,9,-999.0000,9,-999.0000,9,-999.0000,9,-999.0000,9,-999.0000,9,-999.0000,9,-999.0000,9,-999.0000,9,-999.0000,-999.000,   1.1376,     -999.0,     -999.0,9,     -999.0,9,     -999.0,9,     -999.0,9,     -999.0,20110416,       1826
320620110219,       S04P,     128,          2,         11,         11,2,20110416,       1731,   -67.0001,   -80.3578,       4130,  1800.0,   1.1201,  34.7219,2,  34.7224,2,    197.5,2,   197.4,2,  110.08,2,   31.47,2,    0.00,2,    2.19,2,-999.000,9,-999.000,9,-999.000,9,-999.0000,9,  2258.2,2,  -999.0,9,   7.6003,2,    25.00,-999.000,9,-999.0000,9,-999.000,9,   1.1206,2, -999.00,9,  -999.0,9,  -999.0,-999.000,9, -999.00,9,-999.000,9, -999.00,9, -999.00,9, -67.0001, -80.3578,-999.000,     -999.0,    34.8861,2,     -999.0,9,     -999.0,9,-999.0000,9,-999.0000,9,-999.0000,9,-999.0000,9,-999.0000,9,-999.0000,9,-999.0000,9,-999.0000,9,-999.0000,9,-999.0000,-999.000,   1.0120,     -999.0,     -999.0,9,     -999.0,9,     -999.0,9,     -999.0,9,     -999.0,20110416,       1821
320620110219,       S04P,     128,          2,         10,         37,2,20110416,       1731,   -67.0001,   -80.3578,       4130,  2000.8,   1.0245,  34.7185,2,  34.7189,2,    199.2,2,   198.8,2,  113.40,2,   31.52,2,    0.00,2,    2.20,2,-999.000,9,-999.000,9,-999.000,9,-999.0000,9,  -999.0,9,  -999.0,9,-999.0000,9,  -999.00,-999.000,9,-999.0000,9,-999.000,9,   1.0244,2, -999.00,9,  -999.0,9,  -999.0,-999.000,9, -999.00,9,-999.000,9, -999.00,9, -999.00,9, -67.0001, -80.3578,-999.000,     -999.0,    34.8826,2,     -999.0,9,     -999.0,9,   0.0823,2,   0.0417,3,   0.0009,3,  -0.0073,4,  -0.0158,4,  -0.0131,4,  -0.0135,4,   0.0638,4,   0.0515,4,-999.0000,-999.000,   0.9026,     -999.0,     -999.0,9,     -999.0,9,     -999.0,9,     -999.0,9,     -999.0,20110416,       1817
320620110219,       S04P,     128,          2,          9,          9,2,20110416,       1731,   -67.0001,   -80.3578,       4130,  2249.9,   0.8972,  34.7139,2,  34.7137,2,    201.6,2,   201.9,2,  117.80,2,   31.75,2,    0.00,2,    2.21,2,   0.091,2,   0.058,2,   0.002,2,   0.0040,2,  2260.3,2,  2362.6,2,   7.5988,2,    25.00,-999.000,9,-999.0000,9,-999.000,9,   0.8972,2, -999.00,9,  -999.0,9,  -999.0,-999.000,9, -999.00,9,-999.000,9, -999.00,9, -999.00,9, -67.0001, -80.3578,-999.000,     -999.0,    34.8774,2,     -999.0,9,     -999.0,9,-999.0000,9,-999.0000,9,-999.0000,9,-999.0000,9,-999.0000,9,-999.0000,9,-999.0000,9,-999.0000,9,-999.0000,9,-999.0000,-999.000,   0.7578,     -999.0,     -999.0,9,     -999.0,9,     -999.0,9,     -999.0,9,     -999.0,20110416,       1812
320620110219,       S04P,     128,          2,          8,          8,2,20110416,       1731,   -67.0001,   -80.3578,       4130,  2500.8,   0.7898,  34.7105,2,  34.7108,2,    203.6,2,   203.4,2,  121.43,2,   31.81,2,    0.00,2,    2.22,2,-999.000,9,-999.000,9,-999.000,9,-999.0000,9,  -999.0,9,  -999.0,9,-999.0000,9,  -999.00,-999.000,9,-999.0000,9,-999.000,9,   0.7899,2, -999.00,9,  -999.0,9,  -999.0,-999.000,9, -999.00,9,-999.000,9, -999.00,9, -999.00,9, -67.0001, -80.3578,-999.000,     -999.0,    34.8745,2,     -999.0,9,     -999.0,9,-999.0000,9,-999.0000,9,-999.0000,9,-999.0000,9,-999.0000,9,-999.0000,9,-999.0000,9,-999.0000,9,-999.0000,9,-999.0000,-999.000,   0.6319,     -999.0,     -999.0,9,     -999.0,9,     -999.0,9,     -999.0,9,     -999.0,20110416,       1807
320620110219,       S04P,     128,          2,          7,          7,2,20110416,       1731,   -67.0001,   -80.3578,       4130,  2749.8,   0.6794,  34.7075,2,  34.7077,2,    205.7,2,   205.9,2,  124.53,2,   31.87,2,    0.00,2,    2.23,2,-999.000,9,-999.000,9,-999.000,9,-999.0000,9,  2261.0,2,  -999.0,9,   7.6005,2,    25.00,-999.000,9,-999.0000,9,-999.000,9,   0.6796,2, -999.00,9,  -999.0,9,  -999.0,-999.000,9, -999.00,9,-999.000,9, -999.00,9, -999.00,9, -67.0001, -80.3578,-999.000,     -999.0,    34.8713,2,     -999.0,9,     -999.0,9,   0.0789,2,   0.0388,3,  -0.0016,4,  -0.0084,4,  -0.0165,4,  -0.0134,4,  -0.0135,4,   0.0702,4,   0.0545,4,-999.0000,-999.000,   0.5026,     -999.0,     -999.0,9,     -999.0,9,     -999.0,9,     -999.0,9,     -999.0,20110416,       1801
320620110219,       S04P,     128,          2,          6,          6,2,20110416,       1731,   -67.0001,   -80.3578,       4130,  3000.9,   0.5820,  34.7055,2,  34.7055,2,    207.5,2,   207.9,2,  127.23,2,   31.94,2,    0.00,2,    2.23,2,   0.140,2,   0.083,2,   0.004,2,   0.0180,2,  -999.0,9,  -999.0,9,-999.0000,9,  -999.00,-999.000,9,-999.0000,9,-999.000,9,   0.5829,2, -999.00,9,  -999.0,9,  -999.0,-999.000,9, -999.00,9,-999.000,9, -999.00,9, -999.00,9, -67.0001, -80.3578,-999.000,     -999.0,    34.8691,2,     -999.0,9,     -999.0,9,-999.0000,9,-999.0000,9,-999.0000,9,-999.0000,9,-999.0000,9,-999.0000,9,-999.0000,9,-999.0000,9,-999.0000,9,-999.0000,-999.000,   0.3853,     -999.0,     -999.0,9,     -999.0,9,     -999.0,9,     -999.0,9,     -999.0,20110416,       1756
320620110219,       S04P,     128,          2,          5,          5,2,20110416,       1731,   -67.0001,   -80.3578,       4130,  3300.6,   0.4893,  34.7041,2,  34.7043,2,    209.7,2,   209.9,2,  131.15,2,   32.11,2,    0.00,2,    2.24,2,-999.000,9,-999.000,9,-999.000,9,-999.0000,9,  2262.7,2,  2363.4,2,   7.5979,2,    25.00,-999.000,9,-999.0000,9,-999.000,9,   0.4898,2, -999.00,9,  -999.0,9,  -999.0,-999.000,9, -999.00,9,-999.000,9, -999.00,9, -999.00,9, -67.0001, -80.3578,-999.000,     -999.0,    34.8680,2,     -999.0,9,     -999.0,9,-999.0000,9,-999.0000,9,-999.0000,9,-999.0000,9,-999.0000,9,-999.0000,9,-999.0000,9,-999.0000,9,-999.0000,9,-999.0000,-999.000,   0.2674,     -999.0,     -999.0,9,     -999.0,9,     -999.0,9,     -999.0,9,     -999.0,20110416,       1750
320620110219,       S04P,     128,          2,          4,          4,2,20110416,       1731,   -67.0001,   -80.3578,       4130,  3600.8,   0.4352,  34.7035,2,  34.7041,2,    211.2,2,   211.4,2,  134.37,2,   32.19,2,    0.00,2,    2.24,2,   0.150,2,   0.084,2,   0.004,2,   0.0340,2,  -999.0,9,  -999.0,9,-999.0000,9,  -999.00,-999.000,9,-999.0000,9,-999.000,9,   0.4353,2, -999.00,9,  -999.0,9,  -999.0,-999.000,9, -999.00,9,-999.000,9, -999.00,9, -999.00,9, -67.0001, -80.3578,-999.000,     -999.0,    34.8678,2,     -999.0,9,     -999.0,9,   0.0765,2,   0.0363,3,  -0.0043,4,  -0.0096,4,  -0.0172,4,  -0.0136,4,  -0.0137,4,   0.0756,4,   0.0572,4,-999.0000,-999.000,   0.1862,     -999.0,     -999.0,9,     -999.0,9,     -999.0,9,     -999.0,9,     -999.0,20110416,       1744
320620110219,       S04P,     128,          2,          3,          3,2,20110416,       1731,   -67.0001,   -80.3578,       4130,  3900.8,   0.4082,  34.7029,2,  34.7031,2,    212.1,2,   211.9,2,  137.74,2,   32.38,2,    0.00,2,    2.24,2,   0.179,2,   0.103,2,   0.005,2,   0.0310,2,  2264.5,2,  -999.0,9,   7.5974,2,    25.00,-999.000,9,-999.0000,9,-999.000,9,   0.4081,2, -999.00,9,  -999.0,9,  -999.0,-999.000,9, -999.00,9,-999.000,9, -999.00,9, -999.00,9, -67.0001, -80.3578,-999.000,     -999.0,    34.8668,2,     -999.0,9,     -999.0,9,-999.0000,9,-999.0000,9,-999.0000,9,-999.0000,9,-999.0000,9,-999.0000,9,-999.0000,9,-999.0000,9,-999.0000,9,-999.0000,-999.000,   0.1302,     -999.0,     -999.0,9,     -999.0,9,     -999.0,9,     -999.0,9,     -999.0,20110416,       1738
320620110219,       S04P,     128,          2,          2,          2,2,20110416,       1731,   -67.0001,   -80.3578,       4130,  4049.8,   0.3915,  34.7022,2,  34.7025,2,    211.8,2,   211.5,2,  142.36,2,   32.61,2,    0.00,2,    2.25,2,   0.222,2,   0.126,2,   0.008,2,   0.0530,2,  2264.3,2,  -999.0,9,   7.5939,6,    25.00,-999.000,9,-999.0000,9,-999.000,9,   0.3912,2, -999.00,9,  -999.0,9,  -999.0,-999.000,9, -999.00,9,-999.000,9, -999.00,9, -999.00,9, -67.0001, -80.3578,-999.000,     -999.0,    34.8662,2,     -999.0,9,     -999.0,9,-999.0000,9,-999.0000,9,-999.0000,9,-999.0000,9,-999.0000,9,-999.0000,9,-999.0000,9,-999.0000,9,-999.0000,9,-999.0000,-999.000,   0.0988,     -999.0,     -999.0,9,     -999.0,9,     -999.0,9,     -999.0,9,     -999.0,20110416,       1734
320620110219,       S04P,     128,          2,          1,          1,2,20110416,       1731,   -67.0001,   -80.3578,       4130,  4200.3,   0.4065,  34.7022,2,  34.7029,2,    210.5,2,   210.8,2,  146.07,2,   32.80,2,    0.00,2,    2.26,2,   0.258,2,   0.138,2,   0.012,2,   0.0880,2,  2266.7,6,  2364.8,2,   7.5914,2,    25.00,-999.000,9,-999.0000,9,-999.000,9,   0.4066,2, -999.00,9,  -999.0,9,  -999.0,-999.000,9, -999.00,9,-999.000,9, -999.00,9, -999.00,9, -67.0001, -80.3578,-999.000,     -999.0,    34.8666,2,     -999.0,9,     -999.0,9,   0.0852,2,   0.0434,3,   0.0007,3,  -0.0058,4,  -0.0144,4,  -0.0124,4,  -0.0132,4,   0.0668,4,   0.0516,4,-999.0000,-999.000,   0.0977,     -999.0,     -999.0,9,     -999.0,9,     -999.0,9,     -999.0,9,     -999.0,20110416,       1731