BOTTLE,20220813CCHSIOAMB
EXPOCODE,SECT_ID,STNNBR,CASTNO,SAMPNO,BTLNBR,BTLNBR_FLAG_W,DATE,TIME,LATITUDE,LONGITUDE,DEPTH,CTDPRS,CTDTMP,CTDSAL,CTDSAL_FLAG_W,SALNTY,SALNTY_FLAG_W,CTDOXY,CTDOXY_FLAG_W,OXYGEN,OXYGEN_FLAG_W,SILCAT,SILCAT_FLAG_W,NITRAT,NITRAT_FLAG_W,NITRIT,NITRIT_FLAG_W,PHSPHT,PHSPHT_FLAG_W,CFC-11,CFC-11_FLAG_W,CFC-12,CFC-12_FLAG_W,CFC113,CFC113_FLAG_W,SF6,SF6_FLAG_W,TCARBN,TCARBN_FLAG_W,ALKALI,ALKALI_FLAG_W,PH_TOT,PH_TOT_FLAG_W,PH_TMP,TRITUM,TRITUM_FLAG_W,HELIUM,HELIUM_FLAG_W,DELHE3,DELHE3_FLAG_W,REFTMP,REFTMP_FLAG_W,DELC13,DELC13_FLAG_W,DELC14,DELC14_FLAG_W,C14ERR,NEON,NEON_FLAG_W,DELO18,DELO18_FLAG_W,POC,POC_FLAG_W,DOC,DOC_FLAG_W,TDN,TDN_FLAG_W,BTL_LAT,BTL_LON,TRITER,NEONER,SALTREF,SALTREF_FLAG_W,PIGMENTS,PIGMENTS_FLAG_W,LAB_DEN,LAB_DEN_FLAG_W,CDOM325,CDOM325_FLAG_W,CDOM340,CDOM340_FLAG_W,CDOM380,CDOM380_FLAG_W,CDOM412,CDOM412_FLAG_W,CDOM443,CDOM443_FLAG_W,CDOM490,CDOM490_FLAG_W,CDOM555,CDOM555_FLAG_W,CDOMSL,CDOMSL_FLAG_W,CDOMSN,CDOMSN_FLAG_W,HELIER,DELHER,THETA,LDEO_SAMPNO,ABSORBTION,ABSORBTION_FLAG_W,IMAGE_COUNT,IMAGE_COUNT_FLAG_W,CYTO_COUNT,CYTO_COUNT_FLAG_W,DELD,DELD_FLAG_W,DELDERR,BTL_DATE,BTL_TIME
,,,,,,,,,,,METERS,DBAR,ITS-90,PSS-78,,PSS-78,,UMOL/KG,,UMOL/KG,,UMOL/KG,,UMOL/KG,,UMOL/KG,,UMOL/KG,,PMOL/KG,,PMOL/KG,,PMOL/KG,,FMOL/KG,,UMOL/KG,,UMOL/KG,,,,DEG C,TU,,NMOL/KG,,PERCNT,,DEG C,,/MILLE,,/MILLE,,/MILLE,NMOL/KG,,/MILLE,,UG/KG,,UMOL/KG,,UMOL/KG,,,,TU,NMOL/KG,G/KG,,,,,,1/M,,1/M,,1/M,,1/M,,1/M,,1/M,,1/M,,1/NM,,1/NM,,NMOL/KG,PERCNT,DEG C,,,,,,,,/MILLE,,/MILLE,,
320620110219,       S04P,      12,          1,         13,         13,2,20110227,       0154,   -69.0266,   171.0189,       3211,  1399.5,   0.7031,  34.7075,2,  34.7075,2,    203.9,2,   204.9,2,  121.35,2,   32.50,2,    0.00,2,    2.21,2,-999.000,9,-999.000,9,-999.000,9,-999.0000,9,  -999.0,9,  -999.0,9,-999.0000,9,  -999.00,-999.000,9,-999.0000,9,-999.000,9,   0.7018,2, -999.00,9,  -999.0,9,  -999.0,-999.000,9, -999.00,9,-999.000,9, -999.00,9, -999.00,9, -69.0266, 171.0190,-999.000,     -999.0,    34.8712,2,     -999.0,9,     -999.0,9,-999.0000,9,-999.0000,9,-999.0000,9,-999.0000,9,-999.0000,9,-999.0000,9,-999.0000,9,-999.0000,9,-999.0000,9,-999.0000,-999.000,   0.6284,     -999.0,     -999.0,9,     -999.0,9,     -999.0,9,     -999.0,9,     -999.0,20110227,       0244
320620110219,       S04P,      12,          1,         12,         12,2,20110227,       0154,   -69.0266,   171.0189,       3211,  1498.1,   0.6657,  34.7062,2,  34.7062,2,    205.1,2,   205.2,2,  121.54,2,   32.10,2,    0.00,2,    2.21,2,   0.218,2,   0.128,2,   0.023,2,-999.0000,9,  2260.9,2,  2359.7,2,   7.5852,2,    25.00,   0.001,2,    2.094,2,   9.804,2,   0.6660,2,    0.40,2,  -168.4,2,     2.8,   9.148,2,   -0.08,2,-999.000,9, -999.00,9, -999.00,9, -69.0266, 171.0190,   0.004,      0.015,    34.8698,2,     -999.0,9,     -999.0,9,-999.0000,9,-999.0000,9,-999.0000,9,-999.0000,9,-999.0000,9,-999.0000,9,-999.0000,9,-999.0000,9,-999.0000,9,    0.001,   0.206,   0.5849,50001201012,     -999.0,9,     -999.0,9,     -999.0,9,      -1.80,2,       0.32,20110227,       0242
320620110219,       S04P,      12,          1,         11,         11,2,20110227,       0154,   -69.0266,   171.0189,       3211,  1600.0,   0.6301,  34.7045,2,  34.7054,2,    206.2,2,   206.6,2,  123.62,2,   32.19,2,    0.00,2,    2.20,2,-999.000,9,-999.000,9,-999.000,9,-999.0000,9,  -999.0,9,  -999.0,9,-999.0000,9,  -999.00,-999.000,9,-999.0000,9,-999.000,9,   0.6301,2, -999.00,9,  -999.0,9,  -999.0,-999.000,9, -999.00,9,-999.000,9, -999.00,9, -999.00,9, -69.0266, 171.0190,-999.000,     -999.0,    34.8690,2,     -999.0,9,     -999.0,9,-999.0000,9,-999.0000,9,-999.0000,9,-999.0000,9,-999.0000,9,-999.0000,9,-999.0000,9,-999.0000,9,-999.0000,9,-999.0000,-999.000,   0.5429,     -999.0,     -999.0,9,     -999.0,9,     -999.0,9,     -999.0,9,     -999.0,20110227,       0239
320620110219,       S04P,      12,          1,         10,         10,2,20110227,       0154,   -69.0266,   171.0189,       3211,  1700.7,   0.5982,  34.7042,2,  34.7044,2,    207.1,2,   207.1,2,  123.27,2,   32.32,2,    0.00,2,    2.20,2,   0.247,2,   0.127,2,   0.025,2,   0.1210,2,  -999.0,9,  -999.0,9,-999.0000,9,  -999.00,-999.000,9,-999.0000,9,-999.000,9,   0.5976,2, -999.00,9,  -999.0,9,  -999.0,-999.000,9, -999.00,9,-999.000,9, -999.00,9, -999.00,9, -69.0266, 171.0190,-999.000,     -999.0,    34.8681,2,     -999.0,9,     -999.0,9,-999.0000,9,-999.0000,9,-999.0000,9,-999.0000,9,-999.0000,9,-999.0000,9,-999.0000,9,-999.0000,9,-999.0000,9,-999.0000,-999.000,   0.5045,     -999.0,     -999.0,9,     -999.0,9,     -999.0,9,     -999.0,9,     -999.0,20110227,       0236
320620110219,       S04P,      12,          1,          9,          9,2,20110227,       0154,   -69.0266,   171.0189,       3211,  1800.7,   0.5542,  34.7035,2,  34.7036,2,    207.9,2,   208.7,2,  123.80,2,   32.26,2,    0.00,2,    2.22,2,-999.000,9,-999.000,9,-999.000,9,-999.0000,9,  2260.4,2,  2360.1,2,   7.5839,2,    25.00,-999.000,9,-999.0000,9,-999.000,9,   0.5539,2,    0.46,2,  -167.0,2,     2.4,-999.000,9, -999.00,9,-999.000,9, -999.00,9, -999.00,9, -69.0266, 171.0190,-999.000,     -999.0,    34.8673,2,     -999.0,9,     -999.0,9,-999.0000,9,-999.0000,9,-999.0000,9,-999.0000,9,-999.0000,9,-999.0000,9,-999.0000,9,-999.0000,9,-999.0000,9,-999.0000,-999.000,   0.4541,     -999.0,     -999.0,9,     -999.0,9,     -999.0,9,     -999.0,9,     -999.0,20110227,       0233
320620110219,       S04P,      12,          1,          8,          8,2,20110227,       0154,   -69.0266,   171.0189,       3211,  2000.5,   0.5046,  34.7037,2,  34.7042,2,    208.7,2,   208.9,2,  127.03,2,   32.17,2,    0.00,2,    2.23,2,   0.234,2,   0.116,2,   0.023,2,   0.1060,2,  -999.0,9,  -999.0,9,-999.0000,9,  -999.00,   0.001,2,    2.214,4,   8.807,2,   0.5044,2, -999.00,9,  -999.0,9,  -999.0,   9.576,4,   -0.11,2,-999.000,9, -999.00,9, -999.00,9, -69.0265, 171.0190,   0.004,      0.012,    34.8679,2,     -999.0,9,     -999.0,9,-999.0000,9,-999.0000,9,-999.0000,9,-999.0000,9,-999.0000,9,-999.0000,9,-999.0000,9,-999.0000,9,-999.0000,9,    0.001,   0.193,   0.3908,50001201008,     -999.0,9,     -999.0,9,     -999.0,9,      -2.06,2,       0.18,20110227,       0228
320620110219,       S04P,      12,          1,          7,          7,2,20110227,       0154,   -69.0266,   171.0189,       3211,  2198.8,   0.4534,  34.7017,2,  34.7019,2,    210.5,2,   210.9,2,  127.38,2,   32.40,2,    0.00,2,    2.20,2,-999.000,9,-999.000,9,-999.000,9,-999.0000,9,  2262.5,2,  2361.2,2,   7.5839,2,    25.00,-999.000,9,-999.0000,9,-999.000,9,   0.4535,2,    0.45,2,  -174.9,3,     3.0,-999.000,9, -999.00,9,-999.000,9, -999.00,9, -999.00,9, -69.0265, 171.0190,-999.000,     -999.0,    34.8655,2,     -999.0,9,     -999.0,9,-999.0000,9,-999.0000,9,-999.0000,9,-999.0000,9,-999.0000,9,-999.0000,9,-999.0000,9,-999.0000,9,-999.0000,9,-999.0000,-999.000,   0.3256,     -999.0,     -999.0,9,     -999.0,9,     -999.0,9,     -999.0,9,     -999.0,20110227,       0224
320620110219,       S04P,      12,          1,          6,          6,2,20110227,       0154,   -69.0266,   171.0189,       3211,  2400.8,   0.4011,  34.6984,2,  34.6992,2,   -999.0,9,  -999.0,5,  127.13,2,   32.04,2,    0.00,2,    2.23,2,   0.378,2,   0.202,2,   0.039,2,   0.1760,2,  -999.0,9,  -999.0,9,-999.0000,9,  -999.00,-999.000,9,-999.0000,9,-999.000,9,   0.4004,2, -999.00,9,  -999.0,9,  -999.0,-999.000,9, -999.00,9,-999.000,9, -999.00,9, -999.00,9, -69.0266, 171.0190,-999.000,     -999.0,    34.8628,2,     -999.0,9,     -999.0,9,-999.0000,9,-999.0000,9,-999.0000,9,-999.0000,9,-999.0000,9,-999.0000,9,-999.0000,9,-999.0000,9,-999.0000,9,-999.0000,-999.000,   0.2586,     -999.0,     -999.0,9,     -999.0,9,     -999.0,9,     -999.0,9,     -999.0,20110227,       0219
320620110219,       S04P,      12,          1,          5,          5,2,20110227,       0154,   -69.0266,   171.0189,       3211,  2600.1,   0.3481,  34.6946,2,  34.6956,2,    214.6,2,   214.4,2,  125.46,2,   32.10,2,    0.00,2,    2.23,2,-999.000,9,-999.000,9,-999.000,9,-999.0000,9,  -999.0,9,  -999.0,9,-999.0000,9,  -999.00,-999.000,9,-999.0000,9,-999.000,9,   0.3483,2, -999.00,9,  -999.0,9,  -999.0,-999.000,9, -999.00,9,-999.000,9, -999.00,9, -999.00,9, -69.0266, 171.0190,-999.000,     -999.0,    34.8592,2,     -999.0,9,     -999.0,9,-999.0000,9,-999.0000,9,-999.0000,9,-999.0000,9,-999.0000,9,-999.0000,9,-999.0000,9,-999.0000,9,-999.0000,9,-999.0000,-999.000,   0.1906,     -999.0,     -999.0,9,     -999.0,9,     -999.0,9,     -999.0,9,     -999.0,20110227,       0214
320620110219,       S04P,      12,          1,          4,          4,2,20110227,       0154,   -69.0266,   171.0189,       3211,  2801.2,   0.2668,  34.6861,2,  34.6866,2,    218.0,2,   218.9,2,  118.60,2,   32.00,2,    0.00,2,    2.20,2,   0.909,2,   0.496,2,   0.099,2,   0.3650,2,  2261.6,2,  2356.7,2,   7.5833,6,    25.00,   0.019,2,    2.136,4,   8.006,2,   0.2665,2,    0.40,2,  -163.1,2,     2.3,   9.330,2,   -0.27,2,-999.000,9, -999.00,9, -999.00,9, -69.0266, 171.0189,   0.004,      0.007,    34.8502,2,     -999.0,9,     -999.0,9,-999.0000,9,-999.0000,9,-999.0000,9,-999.0000,9,-999.0000,9,-999.0000,9,-999.0000,9,-999.0000,9,-999.0000,9,    0.001,   0.199,   0.0944,50001201004,     -999.0,9,     -999.0,9,     -999.0,9,      -3.27,2,       0.17,20110227,       0209
320620110219,       S04P,      12,          1,          3,          3,2,20110227,       0154,   -69.0266,   171.0189,       3211,  3000.0,   0.2518,  34.6853,2,  34.6862,2,    219.5,2,   220.3,2,  117.87,2,   32.06,2,    0.00,2,    2.21,2,   0.966,2,   0.532,2,   0.107,2,-999.0000,9,  2259.7,2,  2355.8,2,   7.5831,2,    25.00,   0.012,2,    2.183,4,   7.766,2,   0.2513,2,    0.42,2,  -159.7,2,     3.0,   9.456,2,   -0.15,2,-999.000,9, -999.00,9, -999.00,9, -69.0266, 171.0189,   0.004,      0.015,    34.8498,2,     -999.0,9,     -999.0,9,-999.0000,9,-999.0000,9,-999.0000,9,-999.0000,9,-999.0000,9,-999.0000,9,-999.0000,9,-999.0000,9,-999.0000,9,    0.001,   0.193,   0.0627,50001201003,     -999.0,9,     -999.0,9,     -999.0,9,      -2.52,2,       0.17,20110227,       0204
320620110219,       S04P,      12,          1,          2,          2,2,20110227,       0154,   -69.0266,   171.0189,       3211,  3179.5,   0.1950,  34.6814,2,  34.6825,2,    222.8,2,   222.2,2,  114.27,2,   31.99,2,    0.00,2,    2.21,2,   1.226,2,   0.679,2,   0.118,2,   0.4550,2,  2259.8,6,  2354.5,2,   7.5828,2,    25.00,   0.003,2,    2.069,2,   7.775,2,   0.1950,2,    0.51,2,  -157.6,2,     2.6,   9.031,2,   -0.22,2,-999.000,9, -999.00,9, -999.00,9, -69.0266, 171.0189,   0.004,      0.008,    34.8460,2,     -999.0,9,     -999.0,9,-999.0000,9,-999.0000,9,-999.0000,9,-999.0000,9,-999.0000,9,-999.0000,9,-999.0000,9,-999.0000,9,-999.0000,9,    0.001,   0.201,  -0.0086,50001201002,     -999.0,9,     -999.0,9,     -999.0,9,      -2.89,2,       0.03,20110227,       0158
320620110219,       S04P,      12,          1,          1,          1,2,20110227,       0154,   -69.0266,   171.0189,       3211,  3256.2,  -0.0245,  34.6680,2,  34.6693,2,    230.7,2,   231.7,2,  103.97,2,   31.55,2,    0.00,2,    2.18,2,   1.868,2,   1.027,2,   0.188,2,   0.7250,2,  2256.7,2,  2351.7,6,   7.5832,2,    25.00,   0.004,2,    2.100,2,   6.382,2,  -0.0251,2,    0.51,2,  -156.9,2,     2.4,   9.188,2,   -0.29,2,-999.000,9, -999.00,9, -999.00,9, -69.0266, 171.0189,   0.005,      0.008,    34.8328,2,     -999.0,9,     -999.0,9,-999.0000,9,-999.0000,9,-999.0000,9,-999.0000,9,-999.0000,9,-999.0000,9,-999.0000,9,-999.0000,9,-999.0000,9,    0.001,   0.201,  -0.2297,50001201001,     -999.0,9,     -999.0,9,     -999.0,9,      -3.32,2,       0.17,20110227,       0154