BOTTLE,20220813CCHSIOAMB
EXPOCODE,SECT_ID,STNNBR,CASTNO,SAMPNO,BTLNBR,BTLNBR_FLAG_W,DATE,TIME,LATITUDE,LONGITUDE,DEPTH,CTDPRS,CTDTMP,CTDSAL,CTDSAL_FLAG_W,SALNTY,SALNTY_FLAG_W,CTDOXY,CTDOXY_FLAG_W,OXYGEN,OXYGEN_FLAG_W,SILCAT,SILCAT_FLAG_W,NITRAT,NITRAT_FLAG_W,NITRIT,NITRIT_FLAG_W,PHSPHT,PHSPHT_FLAG_W,CFC-11,CFC-11_FLAG_W,CFC-12,CFC-12_FLAG_W,CFC113,CFC113_FLAG_W,SF6,SF6_FLAG_W,TCARBN,TCARBN_FLAG_W,ALKALI,ALKALI_FLAG_W,PH_TOT,PH_TOT_FLAG_W,PH_TMP,TRITUM,TRITUM_FLAG_W,HELIUM,HELIUM_FLAG_W,DELHE3,DELHE3_FLAG_W,REFTMP,REFTMP_FLAG_W,DELC13,DELC13_FLAG_W,DELC14,DELC14_FLAG_W,C14ERR,NEON,NEON_FLAG_W,DELO18,DELO18_FLAG_W,POC,POC_FLAG_W,DOC,DOC_FLAG_W,TDN,TDN_FLAG_W,BTL_LAT,BTL_LON,TRITER,NEONER,SALTREF,SALTREF_FLAG_W,PIGMENTS,PIGMENTS_FLAG_W,LAB_DEN,LAB_DEN_FLAG_W,CDOM325,CDOM325_FLAG_W,CDOM340,CDOM340_FLAG_W,CDOM380,CDOM380_FLAG_W,CDOM412,CDOM412_FLAG_W,CDOM443,CDOM443_FLAG_W,CDOM490,CDOM490_FLAG_W,CDOM555,CDOM555_FLAG_W,CDOMSL,CDOMSL_FLAG_W,CDOMSN,CDOMSN_FLAG_W,HELIER,DELHER,THETA,LDEO_SAMPNO,ABSORBTION,ABSORBTION_FLAG_W,IMAGE_COUNT,IMAGE_COUNT_FLAG_W,CYTO_COUNT,CYTO_COUNT_FLAG_W,DELD,DELD_FLAG_W,DELDERR,BTL_DATE,BTL_TIME
,,,,,,,,,,,METERS,DBAR,ITS-90,PSS-78,,PSS-78,,UMOL/KG,,UMOL/KG,,UMOL/KG,,UMOL/KG,,UMOL/KG,,UMOL/KG,,PMOL/KG,,PMOL/KG,,PMOL/KG,,FMOL/KG,,UMOL/KG,,UMOL/KG,,,,DEG C,TU,,NMOL/KG,,PERCNT,,DEG C,,/MILLE,,/MILLE,,/MILLE,NMOL/KG,,/MILLE,,UG/KG,,UMOL/KG,,UMOL/KG,,,,TU,NMOL/KG,G/KG,,,,,,1/M,,1/M,,1/M,,1/M,,1/M,,1/M,,1/M,,1/NM,,1/NM,,NMOL/KG,PERCNT,DEG C,,,,,,,,/MILLE,,/MILLE,,
320620110219,       P15S,      87,          1,         36,         36,2,20110325,       0211,   -73.4992,  -169.9992,       3866,     3.0,  -1.1405,  33.9687,2,  33.9682,2,    333.8,3,   337.1,2,   59.47,2,   24.69,2,    0.07,2,    1.79,2,-999.000,9,   3.280,2,-999.000,9,   2.3430,2,  2177.0,2,  2303.4,6,-999.0000,5,    25.00,-999.000,9,-999.0000,9,-999.000,9,  -1.1405,2, -999.00,9,  -999.0,9,  -999.0,-999.000,9, -999.00,9,-999.000,9,   45.29,2,   29.28,2, -73.4998,-170.0014,-999.000,     -999.0,    34.1284,2,     -999.0,9,     -999.0,9,-999.0000,9,-999.0000,9,-999.0000,9,-999.0000,9,-999.0000,9,-999.0000,9,-999.0000,9,-999.0000,9,-999.0000,9,-999.0000,-999.000,  -1.1406,     -999.0,     -999.0,9,     -999.0,9,     -999.0,9,     -999.0,9,     -999.0,20110325,       0349
320620110219,       P15S,      87,          1,         35,         35,2,20110325,       0211,   -73.4992,  -169.9992,       3866,    33.6,  -1.1389,  33.9686,2,  33.9678,2,    337.3,2,   336.6,2,   59.14,2,   24.67,2,    0.07,2,    1.80,2,-999.000,9,-999.000,9,-999.000,9,-999.0000,9,  2181.7,2,  2303.6,2,   7.6802,2,    25.00,-999.000,9,-999.0000,9,-999.000,9,  -1.1387,2, -999.00,9,  -999.0,9,  -999.0,-999.000,9, -999.00,9,-999.000,9,   45.68,2,   29.15,2, -73.4998,-170.0015,-999.000,     -999.0,    34.1280,2,     -999.0,1,     -999.0,9,-999.0000,9,-999.0000,9,-999.0000,9,-999.0000,9,-999.0000,9,-999.0000,9,-999.0000,9,-999.0000,9,-999.0000,9,-999.0000,-999.000,  -1.1397,     -999.0,     -999.0,9,     -999.0,9,     -999.0,9,     -999.0,9,     -999.0,20110325,       0348
320620110219,       P15S,      87,          1,         34,         34,2,20110325,       0211,   -73.4992,  -169.9992,       3866,    59.1,  -1.2501,  34.0021,2,  33.9876,2,    327.4,2,   331.7,2,   60.70,2,   25.26,2,    0.07,2,    1.84,2,   5.850,2,   3.099,2,   0.588,2,   2.3440,2,  2184.2,2,  2304.2,2,   7.6729,2,    25.00,-999.000,9,-999.0000,9,-999.000,9,  -1.2516,2, -999.00,9,  -999.0,9,  -999.0,-999.000,9, -999.00,9,-999.000,9,   45.88,2,   29.88,2, -73.4999,-170.0019,-999.000,     -999.0,    34.1479,2,     -999.0,1,     -999.0,9,-999.0000,9,-999.0000,9,-999.0000,9,-999.0000,9,-999.0000,9,-999.0000,9,-999.0000,9,-999.0000,9,-999.0000,9,-999.0000,-999.000,  -1.2515,     -999.0,     -999.0,9,     -999.0,9,     -999.0,9,     -999.0,9,     -999.0,20110325,       0346
320620110219,       P15S,      87,          1,         33,         33,2,20110325,       0211,   -73.4992,  -169.9992,       3866,    84.4,  -1.7450,  34.1263,2,  34.1267,2,    289.5,2,   290.1,2,   66.99,2,   29.51,2,    0.09,2,    2.08,2,   4.666,2,   2.523,2,   0.449,2,   1.9730,2,  2214.6,2,  2309.4,6,   7.6021,2,    25.00,-999.000,9,-999.0000,9,-999.000,9,  -1.7446,2, -999.00,9,  -999.0,9,  -999.0,-999.000,9, -999.00,9,-999.000,9,   43.11,2,   33.55,2, -73.5000,-170.0022,-999.000,     -999.0,    34.2876,2,     -999.0,1,     -999.0,9,-999.0000,9,-999.0000,9,-999.0000,9,-999.0000,9,-999.0000,9,-999.0000,9,-999.0000,9,-999.0000,9,-999.0000,9,-999.0000,-999.000,  -1.7467,     -999.0,     -999.0,9,     -999.0,9,     -999.0,9,     -999.0,9,     -999.0,20110325,       0345
320620110219,       P15S,      87,          1,         32,         32,2,20110325,       0211,   -73.4992,  -169.9992,       3866,   109.3,  -1.7368,  34.1384,2,  34.1382,2,    290.1,2,   289.7,2,   62.87,2,   29.45,2,    0.12,2,    2.08,2,   4.691,2,   2.492,2,   0.451,2,   2.0520,2,  2213.2,2,  2307.4,2,   7.6045,6,    25.00,-999.000,9,-999.0000,9,-999.000,9,  -1.7376,2, -999.00,9,  -999.0,9,  -999.0,-999.000,9, -999.00,9,-999.000,9,   43.20,2,   33.38,2, -73.5001,-170.0025,-999.000,     -999.0,    34.2992,2,     -999.0,9,     -999.0,9,-999.0000,9,-999.0000,9,-999.0000,9,-999.0000,9,-999.0000,9,-999.0000,9,-999.0000,9,-999.0000,9,-999.0000,9,-999.0000,-999.000,  -1.7390,     -999.0,     -999.0,9,     -999.0,9,     -999.0,9,     -999.0,9,     -999.0,20110325,       0344
320620110219,       P15S,      87,          1,         31,         31,2,20110325,       0211,   -73.4992,  -169.9992,       3866,   136.0,  -1.4339,  34.1783,2,  34.1713,2,    286.1,2,   281.4,2,   63.79,2,   29.98,2,    0.11,2,    2.10,2,   4.435,2,   2.374,2,   0.428,2,   1.8080,2,  2215.5,2,  2309.4,2,   7.6011,2,    25.00,-999.000,9,-999.0000,9,-999.000,9,  -1.4262,2, -999.00,9,  -999.0,9,  -999.0,-999.000,9, -999.00,9,-999.000,9,   41.95,2,   33.66,2, -73.5001,-170.0026,-999.000,     -999.0,    34.3325,2,     -999.0,9,     -999.0,9,-999.0000,9,-999.0000,9,-999.0000,9,-999.0000,9,-999.0000,9,-999.0000,9,-999.0000,9,-999.0000,9,-999.0000,9,-999.0000,-999.000,  -1.4370,     -999.0,     -999.0,9,     -999.0,9,     -999.0,9,     -999.0,9,     -999.0,20110325,       0342
320620110219,       P15S,      87,          1,         30,         30,2,20110325,       0211,   -73.4992,  -169.9992,       3866,   164.8,  -0.6230,  34.2736,2,  34.2702,2,    258.2,2,   253.3,2,   70.96,2,   31.11,2,    0.02,2,    2.16,2,   3.477,2,   1.840,2,   0.338,2,   1.4220,2,  2227.1,2,  2312.0,2,   7.5870,2,    25.00,-999.000,9,-999.0000,9,-999.000,9,  -0.6192,2, -999.00,9,  -999.0,9,  -999.0,-999.000,9, -999.00,9,-999.000,9,   40.93,2,   33.88,2, -73.5000,-170.0025,-999.000,     -999.0,    34.4318,2,     -999.0,9,     -999.0,9,-999.0000,9,-999.0000,9,-999.0000,9,-999.0000,9,-999.0000,9,-999.0000,9,-999.0000,9,-999.0000,9,-999.0000,9,-999.0000,-999.000,  -0.6280,     -999.0,     -999.0,9,     -999.0,9,     -999.0,9,     -999.0,9,     -999.0,20110325,       0341
320620110219,       P15S,      87,          1,         29,         29,2,20110325,       0211,   -73.4992,  -169.9992,       3866,   215.3,   0.4874,  34.4428,2,  34.4367,2,    221.8,2,   218.9,2,   76.80,2,   32.07,2,    0.00,2,    2.23,2,   2.244,2,   1.175,2,   0.206,2,   0.8240,2,  2238.8,2,  2325.9,2,   7.5711,2,    25.00,-999.000,9,-999.0000,9,-999.000,9,   0.4917,2, -999.00,9,  -999.0,9,  -999.0,-999.000,9, -999.00,9,-999.000,9,   40.42,2,   34.75,2, -73.4999,-170.0020,-999.000,     -999.0,    34.5991,2,     -999.0,9,     -999.0,9,-999.0000,9,-999.0000,9,-999.0000,9,-999.0000,9,-999.0000,9,-999.0000,9,-999.0000,9,-999.0000,9,-999.0000,9,-999.0000,-999.000,   0.4786,     -999.0,     -999.0,9,     -999.0,9,     -999.0,9,     -999.0,9,     -999.0,20110325,       0339
320620110219,       P15S,      87,          1,         28,         28,2,20110325,       0211,   -73.4992,  -169.9992,       3866,   264.4,   1.2796,  34.5922,2,  34.5832,2,    195.6,2,   192.3,2,   84.63,2,   32.50,2,    0.00,2,    2.26,2,-999.000,9,-999.000,9,-999.000,9,-999.0000,9,  2251.1,2,  2346.9,4,   7.5621,2,    25.00,-999.000,9,-999.0000,9,-999.000,9,   1.2830,2, -999.00,9,  -999.0,9,  -999.0,-999.000,9, -999.00,9,-999.000,9,   39.70,2,   35.12,2, -73.4998,-170.0014,-999.000,     -999.0,    34.7463,2,     -999.0,9,     -999.0,9,-999.0000,9,-999.0000,9,-999.0000,9,-999.0000,9,-999.0000,9,-999.0000,9,-999.0000,9,-999.0000,9,-999.0000,9,-999.0000,-999.000,   1.2669,     -999.0,     -999.0,9,     -999.0,9,     -999.0,9,     -999.0,9,     -999.0,20110325,       0338
320620110219,       P15S,      87,          1,         27,         27,2,20110325,       0211,   -73.4992,  -169.9992,       3866,   315.8,   1.6117,  34.6706,2,  34.6675,2,    182.6,2,   182.5,2,   87.57,2,   32.27,2,    0.00,2,    2.25,2,   0.609,2,   0.308,2,   0.055,2,   0.2870,2,  2254.5,2,  2341.1,6,   7.5656,2,    25.00,-999.000,9,-999.0000,9,-999.000,9,   1.6106,2, -999.00,9,  -999.0,9,  -999.0,-999.000,9, -999.00,9,-999.000,9,   39.77,2,   34.98,2, -73.4998,-170.0012,-999.000,     -999.0,    34.8310,2,     -999.0,9,     -999.0,9,-999.0000,9,-999.0000,9,-999.0000,9,-999.0000,9,-999.0000,9,-999.0000,9,-999.0000,9,-999.0000,9,-999.0000,9,-999.0000,-999.000,   1.5954,     -999.0,     -999.0,9,     -999.0,9,     -999.0,9,     -999.0,9,     -999.0,20110325,       0336
320620110219,       P15S,      87,          1,         26,         26,2,20110325,       0211,   -73.4992,  -169.9992,       3866,   365.5,   1.6810,  34.7061,2,  34.7046,2,    181.9,2,   182.2,2,   89.73,2,   31.89,2,    0.00,2,    2.23,2,-999.000,9,-999.000,9,-999.000,9,-999.0000,9,  2255.7,2,  2346.5,2,   7.5748,2,    25.00,-999.000,9,-999.0000,9,-999.000,9,   1.6808,2, -999.00,9,  -999.0,9,  -999.0,-999.000,9, -999.00,9,-999.000,9,   39.34,2,   34.16,2, -73.4997,-170.0010,-999.000,     -999.0,    34.8683,2,     -999.0,9,     -999.0,9,-999.0000,9,-999.0000,9,-999.0000,9,-999.0000,9,-999.0000,9,-999.0000,9,-999.0000,9,-999.0000,9,-999.0000,9,-999.0000,-999.000,   1.6618,     -999.0,     -999.0,9,     -999.0,9,     -999.0,9,     -999.0,9,     -999.0,20110325,       0334
320620110219,       P15S,      87,          1,         25,         25,2,20110325,       0211,   -73.4992,  -169.9992,       3866,   414.2,   1.6729,  34.7164,2,  34.7162,2,   -999.0,9,  -999.0,5,   90.86,2,   31.76,2,    0.00,2,    2.22,2,   0.369,2,   0.179,2,   0.031,2,   0.0780,2,  2255.1,2,  2346.8,2,   7.5806,2,    25.00,-999.000,9,-999.0000,9,-999.000,9,   1.6728,2, -999.00,9,  -999.0,9,  -999.0,-999.000,9, -999.00,9,-999.000,9,   39.90,2,   34.49,2, -73.4997,-170.0012,-999.000,     -999.0,    34.8799,2,     -999.0,9,     -999.0,9,-999.0000,9,-999.0000,9,-999.0000,9,-999.0000,9,-999.0000,9,-999.0000,9,-999.0000,9,-999.0000,9,-999.0000,9,-999.0000,-999.000,   1.6510,     -999.0,     -999.0,9,     -999.0,9,     -999.0,9,     -999.0,9,     -999.0,20110325,       0333
320620110219,       P15S,      87,          1,         24,         24,2,20110325,       0211,   -73.4992,  -169.9992,       3866,   462.9,   1.6263,  34.7240,2,  34.7230,2,    184.8,2,   184.9,2,   92.77,2,   31.56,2,    0.00,2,    2.21,2,-999.000,9,-999.000,9,-999.000,9,-999.0000,9,  2255.8,2,  2349.2,2,   7.5821,2,    25.00,-999.000,9,-999.0000,9,-999.000,9,   1.6268,2, -999.00,9,  -999.0,9,  -999.0,-999.000,9, -999.00,9,-999.000,9,   39.78,2,   34.29,2, -73.4997,-170.0008,-999.000,     -999.0,    34.8868,2,     -999.0,9,     -999.0,9,-999.0000,9,-999.0000,9,-999.0000,9,-999.0000,9,-999.0000,9,-999.0000,9,-999.0000,9,-999.0000,9,-999.0000,9,-999.0000,-999.000,   1.6018,     -999.0,     -999.0,9,     -999.0,9,     -999.0,9,     -999.0,9,     -999.0,20110325,       0331
320620110219,       P15S,      87,          1,         23,         23,2,20110325,       0211,   -73.4992,  -169.9992,       3866,   536.5,   1.5667,  34.7279,2,  34.7268,2,    186.6,2,   186.0,2,   95.00,2,   31.50,2,    0.00,2,    2.20,2,   0.187,2,   0.110,2,   0.011,2,   0.0630,2,  -999.0,9,  -999.0,9,-999.0000,9,  -999.00,-999.000,9,-999.0000,9,-999.000,9,   1.5666,2, -999.00,9,  -999.0,9,  -999.0,-999.000,9, -999.00,9,-999.000,9,   39.30,2,   34.19,2, -73.4995,-169.9997,-999.000,     -999.0,    34.8905,2,     -999.0,9,     -999.0,9,-999.0000,9,-999.0000,9,-999.0000,9,-999.0000,9,-999.0000,9,-999.0000,9,-999.0000,9,-999.0000,9,-999.0000,9,-999.0000,-999.000,   1.5382,     -999.0,     -999.0,9,     -999.0,9,     -999.0,9,     -999.0,9,     -999.0,20110325,       0329
320620110219,       P15S,      87,          1,         22,         22,2,20110325,       0211,   -73.4992,  -169.9992,       3866,   635.3,   1.4641,  34.7306,2,  34.7301,2,    187.9,2,   187.9,2,   99.46,2,   31.51,2,    0.00,2,    2.22,2,-999.000,9,-999.000,9,-999.000,9,-999.0000,9,  2257.2,2,  2352.1,2,   7.5882,2,    25.00,-999.000,9,-999.0000,9,-999.000,9,   1.4638,2, -999.00,9,  -999.0,9,  -999.0,-999.000,9, -999.00,9,-999.000,9,   39.75,2,   34.39,2, -73.4994,-169.9992,-999.000,     -999.0,    34.8939,2,     -999.0,9,     -999.0,9,-999.0000,9,-999.0000,9,-999.0000,9,-999.0000,9,-999.0000,9,-999.0000,9,-999.0000,9,-999.0000,9,-999.0000,9,-999.0000,-999.000,   1.4304,     -999.0,     -999.0,9,     -999.0,9,     -999.0,9,     -999.0,9,     -999.0,20110325,       0326
320620110219,       P15S,      87,          1,         21,         21,2,20110325,       0211,   -73.4992,  -169.9992,       3866,   735.0,   1.3853,  34.7306,2,  34.7305,2,    188.8,2,   188.0,2,  101.84,2,   31.54,2,    0.00,2,    2.22,2,   0.205,2,   0.092,2,   0.020,2,   0.1220,2,  -999.0,9,  -999.0,9,-999.0000,9,  -999.00,-999.000,9,-999.0000,9,-999.000,9,   1.3855,2, -999.00,9,  -999.0,9,  -999.0,-999.000,9, -999.00,9,-999.000,9,   39.24,2,   34.22,2, -73.4995,-170.0000,-999.000,     -999.0,    34.8943,2,     -999.0,9,     -999.0,9,-999.0000,9,-999.0000,9,-999.0000,9,-999.0000,9,-999.0000,9,-999.0000,9,-999.0000,9,-999.0000,9,-999.0000,9,-999.0000,-999.000,   1.3461,     -999.0,     -999.0,9,     -999.0,9,     -999.0,9,     -999.0,9,     -999.0,20110325,       0324
320620110219,       P15S,      87,          1,         20,         20,2,20110325,       0211,   -73.4992,  -169.9992,       3866,   833.8,   1.3057,  34.7298,2,  34.7295,2,    189.6,2,   189.9,2,  104.91,2,   31.55,2,    0.00,2,    2.24,2,-999.000,9,-999.000,9,-999.000,9,-999.0000,9,  2258.5,2,  2355.0,6,   7.5888,2,    25.00,-999.000,9,-999.0000,9,-999.000,9,   1.3055,2, -999.00,9,  -999.0,9,  -999.0,-999.000,9, -999.00,9,-999.000,9,   39.20,2,   34.28,2, -73.4997,-170.0009,-999.000,     -999.0,    34.8933,2,     -999.0,9,     -999.0,9,-999.0000,9,-999.0000,9,-999.0000,9,-999.0000,9,-999.0000,9,-999.0000,9,-999.0000,9,-999.0000,9,-999.0000,9,-999.0000,-999.000,   1.2611,     -999.0,     -999.0,9,     -999.0,9,     -999.0,9,     -999.0,9,     -999.0,20110325,       0321
320620110219,       P15S,      87,          1,         19,         19,2,20110325,       0211,   -73.4992,  -169.9992,       3866,   933.7,   1.2310,  34.7282,2,  34.7277,2,    191.1,2,   191.7,2,  107.29,2,   31.55,2,    0.00,2,    2.24,2,   0.131,2,   0.060,2,   0.015,2,   0.0660,2,  -999.0,9,  -999.0,9,-999.0000,9,  -999.00,-999.000,9,-999.0000,9,-999.000,9,   1.2312,2, -999.00,9,  -999.0,9,  -999.0,-999.000,9, -999.00,9,-999.000,9,   39.66,2,   34.40,2, -73.4998,-170.0016,-999.000,     -999.0,    34.8915,2,     -999.0,9,     -999.0,9,-999.0000,9,-999.0000,9,-999.0000,9,-999.0000,9,-999.0000,9,-999.0000,9,-999.0000,9,-999.0000,9,-999.0000,9,-999.0000,-999.000,   1.1808,     -999.0,     -999.0,9,     -999.0,9,     -999.0,9,     -999.0,9,     -999.0,20110325,       0319
320620110219,       P15S,      87,          1,         18,         18,2,20110325,       0211,   -73.4992,  -169.9992,       3866,  1034.7,   1.1655,  34.7261,2,  34.7266,2,    192.5,2,   192.0,2,  109.18,2,   31.58,2,    0.00,2,    2.24,2,-999.000,9,-999.000,9,-999.000,9,-999.0000,9,  2261.2,6,  2357.7,2,   7.5902,6,    25.00,-999.000,9,-999.0000,9,-999.000,9,   1.1652,2, -999.00,9,  -999.0,9,  -999.0,-999.000,9, -999.00,9,-999.000,9,   39.25,2,   34.38,2, -73.4999,-170.0021,-999.000,     -999.0,    34.8903,2,     -999.0,9,     -999.0,9,-999.0000,9,-999.0000,9,-999.0000,9,-999.0000,9,-999.0000,9,-999.0000,9,-999.0000,9,-999.0000,9,-999.0000,9,-999.0000,-999.000,   1.1096,     -999.0,     -999.0,9,     -999.0,9,     -999.0,9,     -999.0,9,     -999.0,20110325,       0316
320620110219,       P15S,      87,          1,         17,         17,2,20110325,       0211,   -73.4992,  -169.9992,       3866,  1133.6,   1.1004,  34.7240,2,  34.7236,2,    194.0,2,   194.7,2,  111.33,2,   31.73,2,    0.00,2,    2.24,2,   0.099,2,   0.046,2,   0.009,2,   0.0660,2,  -999.0,9,  -999.0,9,-999.0000,9,  -999.00,-999.000,9,-999.0000,9,-999.000,9,   1.1004,2, -999.00,9,  -999.0,9,  -999.0,-999.000,9, -999.00,9,-999.000,9,   39.30,2,   34.60,2, -73.5000,-170.0024,-999.000,     -999.0,    34.8873,2,     -999.0,9,     -999.0,9,-999.0000,9,-999.0000,9,-999.0000,9,-999.0000,9,-999.0000,9,-999.0000,9,-999.0000,9,-999.0000,9,-999.0000,9,-999.0000,-999.000,   1.0388,     -999.0,     -999.0,9,     -999.0,9,     -999.0,9,     -999.0,9,     -999.0,20110325,       0313
320620110219,       P15S,      87,          1,         16,         16,2,20110325,       0211,   -73.4992,  -169.9992,       3866,  1236.7,   1.0390,  34.7217,2,  34.7214,2,    195.7,2,   195.4,2,  113.76,2,   31.74,2,    0.00,2,    2.24,2,-999.000,9,-999.000,9,-999.000,9,-999.0000,9,  2259.7,2,  2358.9,2,   7.5931,2,    25.00,-999.000,9,-999.0000,9,-999.000,9,   1.0388,2, -999.00,9,  -999.0,9,  -999.0,-999.000,9, -999.00,9,-999.000,9,   39.34,2,   34.38,2, -73.5001,-170.0026,-999.000,     -999.0,    34.8852,2,     -999.0,9,     -999.0,9,-999.0000,9,-999.0000,9,-999.0000,9,-999.0000,9,-999.0000,9,-999.0000,9,-999.0000,9,-999.0000,9,-999.0000,9,-999.0000,-999.000,   0.9713,     -999.0,     -999.0,9,     -999.0,9,     -999.0,9,     -999.0,9,     -999.0,20110325,       0311
320620110219,       P15S,      87,          1,         15,         15,2,20110325,       0211,   -73.4992,  -169.9992,       3866,  1333.5,   0.9852,  34.7196,2,  34.7193,2,    197.0,2,   197.0,2,  114.83,2,   31.93,2,    0.00,2,    2.24,2,   0.098,2,   0.047,2,   0.009,2,   0.0790,2,  -999.0,9,  -999.0,9,-999.0000,9,  -999.00,-999.000,9,-999.0000,9,-999.000,9,   0.9853,2, -999.00,9,  -999.0,9,  -999.0,-999.000,9, -999.00,9,-999.000,9,   39.26,2,   34.69,2, -73.4999,-170.0024,-999.000,     -999.0,    34.8830,2,     -999.0,9,     -999.0,9,-999.0000,9,-999.0000,9,-999.0000,9,-999.0000,9,-999.0000,9,-999.0000,9,-999.0000,9,-999.0000,9,-999.0000,9,-999.0000,-999.000,   0.9117,     -999.0,     -999.0,9,     -999.0,9,     -999.0,9,     -999.0,9,     -999.0,20110325,       0308
320620110219,       P15S,      87,          1,         14,         14,2,20110325,       0211,   -73.4992,  -169.9992,       3866,  1436.1,   0.9294,  34.7174,2,  34.7167,2,    198.5,2,   198.2,2,  116.38,2,   31.93,2,    0.00,2,    2.24,2,-999.000,9,-999.000,9,-999.000,9,-999.0000,9,  -999.0,9,  -999.0,9,-999.0000,9,  -999.00,-999.000,9,-999.0000,9,-999.000,9,   0.9289,2, -999.00,9,  -999.0,9,  -999.0,-999.000,9, -999.00,9,-999.000,9,   39.37,2,   34.31,2, -73.4998,-170.0016,-999.000,     -999.0,    34.8804,2,     -999.0,9,     -999.0,9,-999.0000,9,-999.0000,9,-999.0000,9,-999.0000,9,-999.0000,9,-999.0000,9,-999.0000,9,-999.0000,9,-999.0000,9,-999.0000,-999.000,   0.8497,     -999.0,     -999.0,9,     -999.0,9,     -999.0,9,     -999.0,9,     -999.0,20110325,       0306