BOTTLE,20220813CCHSIOAMB
EXPOCODE,SECT_ID,STNNBR,CASTNO,SAMPNO,BTLNBR,BTLNBR_FLAG_W,DATE,TIME,LATITUDE,LONGITUDE,DEPTH,CTDPRS,CTDTMP,CTDSAL,CTDSAL_FLAG_W,SALNTY,SALNTY_FLAG_W,CTDOXY,CTDOXY_FLAG_W,OXYGEN,OXYGEN_FLAG_W,SILCAT,SILCAT_FLAG_W,NITRAT,NITRAT_FLAG_W,NITRIT,NITRIT_FLAG_W,PHSPHT,PHSPHT_FLAG_W,CFC-11,CFC-11_FLAG_W,CFC-12,CFC-12_FLAG_W,CFC113,CFC113_FLAG_W,SF6,SF6_FLAG_W,TCARBN,TCARBN_FLAG_W,ALKALI,ALKALI_FLAG_W,PH_TOT,PH_TOT_FLAG_W,PH_TMP,TRITUM,TRITUM_FLAG_W,HELIUM,HELIUM_FLAG_W,DELHE3,DELHE3_FLAG_W,REFTMP,REFTMP_FLAG_W,DELC13,DELC13_FLAG_W,DELC14,DELC14_FLAG_W,C14ERR,NEON,NEON_FLAG_W,DELO18,DELO18_FLAG_W,POC,POC_FLAG_W,DOC,DOC_FLAG_W,TDN,TDN_FLAG_W,BTL_LAT,BTL_LON,TRITER,NEONER,SALTREF,SALTREF_FLAG_W,PIGMENTS,PIGMENTS_FLAG_W,LAB_DEN,LAB_DEN_FLAG_W,CDOM325,CDOM325_FLAG_W,CDOM340,CDOM340_FLAG_W,CDOM380,CDOM380_FLAG_W,CDOM412,CDOM412_FLAG_W,CDOM443,CDOM443_FLAG_W,CDOM490,CDOM490_FLAG_W,CDOM555,CDOM555_FLAG_W,CDOMSL,CDOMSL_FLAG_W,CDOMSN,CDOMSN_FLAG_W,HELIER,DELHER,THETA,LDEO_SAMPNO,ABSORBTION,ABSORBTION_FLAG_W,IMAGE_COUNT,IMAGE_COUNT_FLAG_W,CYTO_COUNT,CYTO_COUNT_FLAG_W,DELD,DELD_FLAG_W,DELDERR,BTL_DATE,BTL_TIME
,,,,,,,,,,,METERS,DBAR,ITS-90,PSS-78,,PSS-78,,UMOL/KG,,UMOL/KG,,UMOL/KG,,UMOL/KG,,UMOL/KG,,UMOL/KG,,PMOL/KG,,PMOL/KG,,PMOL/KG,,FMOL/KG,,UMOL/KG,,UMOL/KG,,,,DEG C,TU,,NMOL/KG,,PERCNT,,DEG C,,/MILLE,,/MILLE,,/MILLE,NMOL/KG,,/MILLE,,UG/KG,,UMOL/KG,,UMOL/KG,,,,TU,NMOL/KG,G/KG,,,,,,1/M,,1/M,,1/M,,1/M,,1/M,,1/M,,1/M,,1/NM,,1/NM,,NMOL/KG,PERCNT,DEG C,,,,,,,,/MILLE,,/MILLE,,
320620110219,       S04P,     134,          1,         13,         13,2,20110418,       0719,   -67.0001,   -74.5143,       2911,  1296.6,   1.1443,  34.7233,2,  34.7236,2,    195.9,2,   196.2,2,  108.74,2,   31.70,2,    0.00,2,    2.20,2,   0.107,2,   0.057,2,   0.007,2,   0.0000,2,  -999.0,9,  -999.0,9,-999.0000,9,  -999.00,-999.000,9,-999.0000,9,-999.000,9,   1.1443,2, -999.00,9,  -999.0,9,  -999.0,-999.000,9, -999.00,9,-999.000,9,   39.65,2,   33.67,2, -67.0012, -74.5212,-999.000,     -999.0,    34.8874,2,     -999.0,9,     -999.0,9,-999.0000,9,-999.0000,9,-999.0000,9,-999.0000,9,-999.0000,9,-999.0000,9,-999.0000,9,-999.0000,9,-999.0000,9,-999.0000,-999.000,   1.0716,     -999.0,     -999.0,9,     -999.0,9,     -999.0,9,     -999.0,9,     -999.0,20110418,       0800
320620110219,       S04P,     134,          1,         12,         12,2,20110418,       0719,   -67.0001,   -74.5143,       2911,  1394.0,   1.0822,  34.7210,2,  34.7213,2,    197.3,2,   197.0,2,  110.53,2,   31.65,2,    0.00,2,    2.20,2,-999.000,9,-999.000,9,-999.000,9,-999.0000,9,  -999.0,9,  -999.0,9,-999.0000,9,  -999.00,-999.000,9,-999.0000,9,-999.000,9,   1.0825,2, -999.00,9,  -999.0,9,  -999.0,-999.000,9, -999.00,9,-999.000,9,   39.66,2,   34.08,2, -67.0011, -74.5190,-999.000,     -999.0,    34.8850,2,     -999.0,9,     -999.0,9,-999.0000,9,-999.0000,9,-999.0000,9,-999.0000,9,-999.0000,9,-999.0000,9,-999.0000,9,-999.0000,9,-999.0000,9,-999.0000,-999.000,   1.0036,     -999.0,     -999.0,9,     -999.0,9,     -999.0,9,     -999.0,9,     -999.0,20110418,       0757
320620110219,       S04P,     134,          1,         11,         11,2,20110418,       0719,   -67.0001,   -74.5143,       2911,  1496.7,   1.0314,  34.7192,2,  34.7197,2,    198.6,2,   198.5,2,  112.38,2,   31.57,2,    0.00,2,    2.20,2,-999.000,9,-999.000,9,-999.000,9,-999.0000,9,  2260.7,2,  2362.7,2,   7.5995,2,    25.00,-999.000,9,-999.0000,9,-999.000,9,   1.0317,2, -999.00,9,  -999.0,9,  -999.0,-999.000,9, -999.00,9,-999.000,9,   39.78,2,   34.24,2, -67.0014, -74.5156,-999.000,     -999.0,    34.8834,2,     -999.0,9,     -999.0,9,-999.0000,9,-999.0000,9,-999.0000,9,-999.0000,9,-999.0000,9,-999.0000,9,-999.0000,9,-999.0000,9,-999.0000,9,-999.0000,-999.000,   0.9463,     -999.0,     -999.0,9,     -999.0,9,     -999.0,9,     -999.0,9,     -999.0,20110418,       0755
320620110219,       S04P,     134,          1,         10,         37,2,20110418,       0719,   -67.0001,   -74.5143,       2911,  1605.8,   0.9598,  34.7170,2,  34.7170,2,    199.8,2,   200.2,2,  114.68,2,   31.68,2,    0.00,2,    2.20,2,-999.000,9,-999.000,9,-999.000,9,-999.0000,9,  -999.0,9,  -999.0,9,-999.0000,9,  -999.00,-999.000,9,-999.0000,9,-999.000,9,   0.9598,2, -999.00,9,  -999.0,9,  -999.0,-999.000,9, -999.00,9,-999.000,9,   39.86,2,   34.11,2, -67.0021, -74.5143,-999.000,     -999.0,    34.8807,2,     -999.0,9,     -999.0,9,-999.0000,9,-999.0000,9,-999.0000,9,-999.0000,9,-999.0000,9,-999.0000,9,-999.0000,9,-999.0000,9,-999.0000,9,-999.0000,-999.000,   0.8680,     -999.0,     -999.0,9,     -999.0,9,     -999.0,9,     -999.0,9,     -999.0,20110418,       0752
320620110219,       S04P,     134,          1,          9,          9,2,20110418,       0719,   -67.0001,   -74.5143,       2911,  1707.0,   0.9032,  34.7150,2,  34.7152,2,    200.7,2,   200.9,2,  116.62,2,   31.81,2,    0.00,2,    2.21,2,-999.000,9,-999.000,9,-999.000,9,-999.0000,9,  -999.0,9,  -999.0,9,-999.0000,9,  -999.00,-999.000,9,-999.0000,9,-999.000,9,   0.9029,2, -999.00,9,  -999.0,9,  -999.0,-999.000,9, -999.00,9,-999.000,9,   39.91,2,   34.29,2, -67.0026, -74.5167,-999.000,     -999.0,    34.8789,2,     -999.0,9,     -999.0,9,-999.0000,9,-999.0000,9,-999.0000,9,-999.0000,9,-999.0000,9,-999.0000,9,-999.0000,9,-999.0000,9,-999.0000,9,-999.0000,-999.000,   0.8049,     -999.0,     -999.0,9,     -999.0,9,     -999.0,9,     -999.0,9,     -999.0,20110418,       0748
320620110219,       S04P,     134,          1,          8,          8,2,20110418,       0719,   -67.0001,   -74.5143,       2911,  1798.5,   0.8676,  34.7135,2,  34.7135,2,    201.6,2,   201.3,2,  117.71,2,   31.86,2,    0.00,2,    2.21,2,-999.000,9,-999.000,9,-999.000,9,-999.0000,9,  2260.9,2,  2363.3,6,   7.6012,2,    25.00,-999.000,9,-999.0000,9,-999.000,9,   0.8674,2, -999.00,9,  -999.0,9,  -999.0,-999.000,9, -999.00,9,-999.000,9,   39.78,2,   34.12,2, -67.0016, -74.5195,-999.000,     -999.0,    34.8771,2,     -999.0,9,     -999.0,9,-999.0000,9,-999.0000,9,-999.0000,9,-999.0000,9,-999.0000,9,-999.0000,9,-999.0000,9,-999.0000,9,-999.0000,9,-999.0000,-999.000,   0.7632,     -999.0,     -999.0,9,     -999.0,9,     -999.0,9,     -999.0,9,     -999.0,20110418,       0745
320620110219,       S04P,     134,          1,          7,          7,2,20110418,       0719,   -67.0001,   -74.5143,       2911,  1996.4,   0.7678,  34.7102,2,  34.7109,2,    203.1,2,   203.6,2,  121.27,2,   32.04,2,    0.00,2,    2.22,2,   0.132,2,   0.065,2,   0.010,2,   0.0100,2,  -999.0,9,  -999.0,9,-999.0000,9,  -999.00,-999.000,9,-999.0000,9,-999.000,9,   0.7682,2, -999.00,9,  -999.0,9,  -999.0,-999.000,9, -999.00,9,-999.000,9,   39.48,2,   34.91,2, -66.9999, -74.5172,-999.000,     -999.0,    34.8746,2,     -999.0,9,     -999.0,9,-999.0000,9,-999.0000,9,-999.0000,9,-999.0000,9,-999.0000,9,-999.0000,9,-999.0000,9,-999.0000,9,-999.0000,9,-999.0000,-999.000,   0.6502,     -999.0,     -999.0,9,     -999.0,9,     -999.0,9,     -999.0,9,     -999.0,20110418,       0741
320620110219,       S04P,     134,          1,          6,          6,2,20110418,       0719,   -67.0001,   -74.5143,       2911,  2198.7,   0.6688,  34.7077,2,  34.7064,2,    205.0,2,   205.1,2,  124.06,2,   32.17,2,    0.00,2,    2.22,2,-999.000,9,-999.000,9,-999.000,9,-999.0000,9,  -999.0,9,  -999.0,9,-999.0000,9,  -999.00,-999.000,9,-999.0000,9,-999.000,9,   0.6681,2, -999.00,9,  -999.0,9,  -999.0,-999.000,9, -999.00,9,-999.000,9,   39.68,2,   34.92,2, -67.0002, -74.5140,-999.000,     -999.0,    34.8701,2,     -999.0,9,     -999.0,9,-999.0000,9,-999.0000,9,-999.0000,9,-999.0000,9,-999.0000,9,-999.0000,9,-999.0000,9,-999.0000,9,-999.0000,9,-999.0000,-999.000,   0.5374,     -999.0,     -999.0,9,     -999.0,9,     -999.0,9,     -999.0,9,     -999.0,20110418,       0737
320620110219,       S04P,     134,          1,          5,          5,2,20110418,       0719,   -67.0001,   -74.5143,       2911,  2399.4,   0.5599,  34.7053,2,  34.7058,2,    207.2,2,   207.5,2,  127.34,2,   32.26,2,    0.00,2,    2.24,2,   0.160,2,   0.079,2,   0.009,2,   0.0040,2,  2262.0,2,  2363.4,2,   7.5989,2,    25.00,-999.000,9,-999.0000,9,-999.000,9,   0.5599,2, -999.00,9,  -999.0,9,  -999.0,-999.000,9, -999.00,9,-999.000,9,   39.84,2,   34.64,2, -67.0002, -74.5143,-999.000,     -999.0,    34.8695,2,     -999.0,9,     -999.0,9,-999.0000,9,-999.0000,9,-999.0000,9,-999.0000,9,-999.0000,9,-999.0000,9,-999.0000,9,-999.0000,9,-999.0000,9,-999.0000,-999.000,   0.4146,     -999.0,     -999.0,9,     -999.0,9,     -999.0,9,     -999.0,9,     -999.0,20110418,       0733
320620110219,       S04P,     134,          1,          4,          4,2,20110418,       0719,   -67.0001,   -74.5143,       2911,  2601.5,   0.4812,  34.7033,2,  34.7039,2,    208.9,2,   209.1,2,  130.01,2,   32.46,2,    0.00,2,    2.24,2,   0.178,2,   0.089,2,   0.010,2,   0.0070,2,  -999.0,9,  -999.0,9,-999.0000,9,  -999.00,-999.000,9,-999.0000,9,-999.000,9,   0.4815,2, -999.00,9,  -999.0,9,  -999.0,-999.000,9, -999.00,9,-999.000,9,   39.96,2,   34.81,2, -67.0001, -74.5145,-999.000,     -999.0,    34.8675,2,     -999.0,9,     -999.0,9,-999.0000,9,-999.0000,9,-999.0000,9,-999.0000,9,-999.0000,9,-999.0000,9,-999.0000,9,-999.0000,9,-999.0000,9,-999.0000,-999.000,   0.3209,     -999.0,     -999.0,9,     -999.0,9,     -999.0,9,     -999.0,9,     -999.0,20110418,       0728
320620110219,       S04P,     134,          1,          3,          3,2,20110418,       0719,   -67.0001,   -74.5143,       2911,  2802.7,   0.4490,  34.7024,2,  34.7033,2,    209.3,2,   209.0,2,  132.91,2,   32.54,2,    0.00,2,    2.24,2,   0.192,2,   0.094,2,   0.009,2,   0.0410,2,  2264.1,2,  2366.4,4,   7.5978,2,    25.00,-999.000,9,-999.0000,9,-999.000,9,   0.4494,2, -999.00,9,  -999.0,9,  -999.0,-999.000,9, -999.00,9,-999.000,9,   40.02,2,   35.00,2, -67.0000, -74.5144,-999.000,     -999.0,    34.8669,2,     -999.0,9,     -999.0,9,-999.0000,9,-999.0000,9,-999.0000,9,-999.0000,9,-999.0000,9,-999.0000,9,-999.0000,9,-999.0000,9,-999.0000,9,-999.0000,-999.000,   0.2725,     -999.0,     -999.0,9,     -999.0,9,     -999.0,9,     -999.0,9,     -999.0,20110418,       0724
320620110219,       S04P,     134,          1,          2,          2,2,20110418,       0719,   -67.0001,   -74.5143,       2911,  2874.1,   0.4442,  34.7026,2,  34.7035,2,    209.5,2,   209.1,2,  133.43,2,   32.55,2,    0.00,2,    2.24,2,-999.000,9,-999.000,9,-999.000,9,-999.0000,9,  2264.7,6,  -999.0,9,   7.5981,2,    25.00,-999.000,9,-999.0000,9,-999.000,9,   0.4442,2, -999.00,9,  -999.0,9,  -999.0,-999.000,9, -999.00,9,-999.000,9,   40.23,2,   35.03,2, -67.0000, -74.5143,-999.000,     -999.0,    34.8671,2,     -999.0,9,     -999.0,9,-999.0000,9,-999.0000,9,-999.0000,9,-999.0000,9,-999.0000,9,-999.0000,9,-999.0000,9,-999.0000,9,-999.0000,9,-999.0000,-999.000,   0.2617,     -999.0,     -999.0,9,     -999.0,9,     -999.0,9,     -999.0,9,     -999.0,20110418,       0722
320620110219,       S04P,     134,          1,          1,          1,2,20110418,       0719,   -67.0001,   -74.5143,       2911,  2947.0,   0.4275,  34.7025,2,  34.7037,2,    209.9,2,   210.3,2,  134.93,2,   32.56,2,    0.00,2,    2.24,2,   0.199,2,   0.095,2,   0.013,2,   0.0370,2,  2264.0,2,  2365.6,4,   7.5973,6,    25.00,-999.000,9,-999.0000,9,-999.000,9,   0.4280,2, -999.00,9,  -999.0,9,  -999.0,-999.000,9, -999.00,9,-999.000,9,   40.48,2,   34.73,2, -67.0000, -74.5143,-999.000,     -999.0,    34.8673,2,     -999.0,9,     -999.0,9,-999.0000,9,-999.0000,9,-999.0000,9,-999.0000,9,-999.0000,9,-999.0000,9,-999.0000,9,-999.0000,9,-999.0000,9,-999.0000,-999.000,   0.2390,     -999.0,     -999.0,9,     -999.0,9,     -999.0,9,     -999.0,9,     -999.0,20110418,       0719