BOTTLE,20220813CCHSIOAMB
EXPOCODE,SECT_ID,STNNBR,CASTNO,SAMPNO,BTLNBR,BTLNBR_FLAG_W,DATE,TIME,LATITUDE,LONGITUDE,DEPTH,CTDPRS,CTDTMP,CTDSAL,CTDSAL_FLAG_W,SALNTY,SALNTY_FLAG_W,CTDOXY,CTDOXY_FLAG_W,OXYGEN,OXYGEN_FLAG_W,SILCAT,SILCAT_FLAG_W,NITRAT,NITRAT_FLAG_W,NITRIT,NITRIT_FLAG_W,PHSPHT,PHSPHT_FLAG_W,CFC-11,CFC-11_FLAG_W,CFC-12,CFC-12_FLAG_W,CFC113,CFC113_FLAG_W,SF6,SF6_FLAG_W,TCARBN,TCARBN_FLAG_W,ALKALI,ALKALI_FLAG_W,PH_TOT,PH_TOT_FLAG_W,PH_TMP,TRITUM,TRITUM_FLAG_W,HELIUM,HELIUM_FLAG_W,DELHE3,DELHE3_FLAG_W,REFTMP,REFTMP_FLAG_W,DELC13,DELC13_FLAG_W,DELC14,DELC14_FLAG_W,C14ERR,NEON,NEON_FLAG_W,DELO18,DELO18_FLAG_W,POC,POC_FLAG_W,DOC,DOC_FLAG_W,TDN,TDN_FLAG_W,BTL_LAT,BTL_LON,TRITER,NEONER,SALTREF,SALTREF_FLAG_W,PIGMENTS,PIGMENTS_FLAG_W,LAB_DEN,LAB_DEN_FLAG_W,CDOM325,CDOM325_FLAG_W,CDOM340,CDOM340_FLAG_W,CDOM380,CDOM380_FLAG_W,CDOM412,CDOM412_FLAG_W,CDOM443,CDOM443_FLAG_W,CDOM490,CDOM490_FLAG_W,CDOM555,CDOM555_FLAG_W,CDOMSL,CDOMSL_FLAG_W,CDOMSN,CDOMSN_FLAG_W,HELIER,DELHER,THETA,LDEO_SAMPNO,ABSORBTION,ABSORBTION_FLAG_W,IMAGE_COUNT,IMAGE_COUNT_FLAG_W,CYTO_COUNT,CYTO_COUNT_FLAG_W,DELD,DELD_FLAG_W,DELDERR,BTL_DATE,BTL_TIME
,,,,,,,,,,,METERS,DBAR,ITS-90,PSS-78,,PSS-78,,UMOL/KG,,UMOL/KG,,UMOL/KG,,UMOL/KG,,UMOL/KG,,UMOL/KG,,PMOL/KG,,PMOL/KG,,PMOL/KG,,FMOL/KG,,UMOL/KG,,UMOL/KG,,,,DEG C,TU,,NMOL/KG,,PERCNT,,DEG C,,/MILLE,,/MILLE,,/MILLE,NMOL/KG,,/MILLE,,UG/KG,,UMOL/KG,,UMOL/KG,,,,TU,NMOL/KG,G/KG,,,,,,1/M,,1/M,,1/M,,1/M,,1/M,,1/M,,1/M,,1/NM,,1/NM,,NMOL/KG,PERCNT,DEG C,,,,,,,,/MILLE,,/MILLE,,
320620110219,       P16S,      46,          1,         36,         36,2,20110311,       1215,   -67.4980,  -149.9996,       4393,     5.0,  -0.6785,  33.7810,2,  33.7804,2,    339.1,2,   343.7,2,   41.98,2,   24.34,2,    0.20,2,    1.68,2,   6.018,2,   3.303,2,   0.594,2,   2.5620,2,  2192.4,4,  2288.3,2,   7.6983,2,    25.00,-999.000,9,-999.0000,9,-999.000,9,  -0.6786,2, -999.00,9,  -999.0,9,  -999.0,-999.000,9, -999.00,9,-999.000,9,   45.40,2,   28.77,2, -67.4981,-150.0001,-999.000,     -999.0,    33.9397,2,     -999.0,9,     -999.0,9,-999.0000,9,-999.0000,9,-999.0000,9,-999.0000,9,-999.0000,9,-999.0000,9,-999.0000,9,-999.0000,9,-999.0000,9,-999.0000,-999.000,  -0.6786,     -999.0,     -999.0,9,     -999.0,9,     -999.0,9,     -999.0,9,     -999.0,20110311,       1407
320620110219,       P16S,      46,          1,         35,         35,2,20110311,       1215,   -67.4980,  -149.9996,       4393,    34.8,  -0.6862,  33.7805,2,  33.7816,2,    343.8,2,   343.7,2,   41.97,2,   24.39,2,    0.20,2,    1.69,2,-999.000,9,-999.000,9,-999.000,9,-999.0000,9,  2200.7,4,  2288.7,2,   7.7014,6,    25.00,-999.000,9,-999.0000,9,-999.000,9,  -0.6861,2, -999.00,9,  -999.0,9,  -999.0,-999.000,9, -999.00,9,-999.000,9,   45.88,2,   28.62,2, -67.4981,-150.0001,-999.000,     -999.0,    33.9409,2,     -999.0,9,     -999.0,9,-999.0000,9,-999.0000,9,-999.0000,9,-999.0000,9,-999.0000,9,-999.0000,9,-999.0000,9,-999.0000,9,-999.0000,9,-999.0000,-999.000,  -0.6872,     -999.0,     -999.0,9,     -999.0,9,     -999.0,9,     -999.0,9,     -999.0,20110311,       1406
320620110219,       P16S,      46,          1,         34,         34,2,20110311,       1215,   -67.4980,  -149.9996,       4393,    60.1,  -0.6861,  33.7807,2,  33.7805,2,    344.2,2,   343.7,2,   41.93,2,   24.34,2,    0.19,2,    1.71,2,   5.969,2,   3.306,2,   0.580,2,   2.5280,2,  2218.0,4,  2288.0,6,   7.6967,2,    25.00,-999.000,9,-999.0000,9,-999.000,9,  -0.6861,2, -999.00,9,  -999.0,9,  -999.0,-999.000,9, -999.00,9,-999.000,9,   45.73,2,   28.42,2, -67.4981,-150.0001,-999.000,     -999.0,    33.9398,2,     -999.0,9,     -999.0,9,-999.0000,9,-999.0000,9,-999.0000,9,-999.0000,9,-999.0000,9,-999.0000,9,-999.0000,9,-999.0000,9,-999.0000,9,-999.0000,-999.000,  -0.6878,     -999.0,     -999.0,9,     -999.0,9,     -999.0,9,     -999.0,9,     -999.0,20110311,       1404
320620110219,       P16S,      46,          1,         33,         33,2,20110311,       1215,   -67.4980,  -149.9996,       4393,    85.5,  -1.2645,  34.0545,2,  34.0583,2,    298.3,2,   303.4,2,   53.38,2,   27.90,2,    0.18,2,    1.96,2,   5.036,2,   2.752,2,   0.484,2,   1.9160,2,  2249.8,4,  2303.0,2,   7.6324,2,    25.00,-999.000,9,-999.0000,9,-999.000,9,  -1.2644,2, -999.00,9,  -999.0,9,  -999.0,-999.000,9, -999.00,9,-999.000,9,   44.27,2,   31.74,2, -67.4981,-150.0001,-999.000,     -999.0,    34.2189,2,     -999.0,9,     -999.0,9,-999.0000,9,-999.0000,9,-999.0000,9,-999.0000,9,-999.0000,9,-999.0000,9,-999.0000,9,-999.0000,9,-999.0000,9,-999.0000,-999.000,  -1.2665,     -999.0,     -999.0,9,     -999.0,9,     -999.0,9,     -999.0,9,     -999.0,20110311,       1402
320620110219,       P16S,      46,          1,         32,         32,2,20110311,       1215,   -67.4980,  -149.9996,       4393,   114.9,  -0.8714,  34.2174,2,  34.2103,2,    276.5,2,   274.3,2,   61.05,2,   29.77,2,    0.09,2,    2.06,2,   4.139,2,   2.260,2,   0.379,2,   1.5310,2,  2256.9,4,  2311.9,2,   7.6068,2,    25.00,-999.000,9,-999.0000,9,-999.000,9,  -0.8645,2, -999.00,9,  -999.0,9,  -999.0,-999.000,9, -999.00,9,-999.000,9,   43.66,2,   32.54,2, -67.4981,-150.0001,-999.000,     -999.0,    34.3716,2,     -999.0,9,     -999.0,9,-999.0000,9,-999.0000,9,-999.0000,9,-999.0000,9,-999.0000,9,-999.0000,9,-999.0000,9,-999.0000,9,-999.0000,9,-999.0000,-999.000,  -0.8746,     -999.0,     -999.0,9,     -999.0,9,     -999.0,9,     -999.0,9,     -999.0,20110311,       1401
320620110219,       P16S,      46,          1,         31,         31,2,20110311,       1215,   -67.4980,  -149.9996,       4393,   165.1,   0.5603,  34.4801,2,  34.4853,2,    220.5,2,   216.3,2,   77.46,2,   32.27,2,    0.03,2,    2.21,2,   2.071,2,   1.141,2,   0.184,2,   0.5980,2,  2269.3,4,  2325.5,4,   7.5683,2,    25.00,-999.000,9,-999.0000,9,-999.000,9,   0.5679,2, -999.00,9,  -999.0,9,  -999.0,-999.000,9, -999.00,9,-999.000,9,   42.53,2,   34.98,2, -67.4981,-150.0001,-999.000,     -999.0,    34.6480,2,     -999.0,9,     -999.0,9,-999.0000,9,-999.0000,9,-999.0000,9,-999.0000,9,-999.0000,9,-999.0000,9,-999.0000,9,-999.0000,9,-999.0000,9,-999.0000,-999.000,   0.5535,     -999.0,     -999.0,9,     -999.0,9,     -999.0,9,     -999.0,9,     -999.0,20110311,       1359
320620110219,       P16S,      46,          1,         30,         30,2,20110311,       1215,   -67.4980,  -149.9996,       4393,   214.6,   1.2773,  34.6348,2,  34.6321,2,    190.1,2,   191.0,2,   86.64,2,   32.83,2,    0.01,2,    2.24,2,   0.992,2,   0.540,2,   0.076,2,   0.2060,2,  2292.4,4,  2341.3,2,   7.5609,2,    25.00,-999.000,9,-999.0000,9,-999.000,9,   1.2771,2, -999.00,9,  -999.0,9,  -999.0,-999.000,9, -999.00,9,-999.000,9,   41.53,2,   35.44,2, -67.4981,-150.0001,-999.000,     -999.0,    34.7954,2,     -999.0,9,     -999.0,9,-999.0000,9,-999.0000,9,-999.0000,9,-999.0000,9,-999.0000,9,-999.0000,9,-999.0000,9,-999.0000,9,-999.0000,9,-999.0000,-999.000,   1.2670,     -999.0,     -999.0,9,     -999.0,9,     -999.0,9,     -999.0,9,     -999.0,20110311,       1357
320620110219,       P16S,      46,          1,         29,         29,2,20110311,       1215,   -67.4980,  -149.9996,       4393,   265.2,   1.5488,  34.7061,2,  34.7053,2,    184.2,2,   183.1,2,   91.54,2,   32.43,2,    0.02,2,    2.22,2,   0.447,2,   0.232,2,   0.033,2,   0.0690,2,  2293.7,4,  2346.4,2,   7.5702,2,    25.00,-999.000,9,-999.0000,9,-999.000,9,   1.5448,2, -999.00,9,  -999.0,9,  -999.0,-999.000,9, -999.00,9,-999.000,9,   41.41,2,   34.92,2, -67.4981,-150.0000,-999.000,     -999.0,    34.8689,2,     -999.0,9,     -999.0,9,-999.0000,9,-999.0000,9,-999.0000,9,-999.0000,9,-999.0000,9,-999.0000,9,-999.0000,9,-999.0000,9,-999.0000,9,-999.0000,-999.000,   1.5354,     -999.0,     -999.0,9,     -999.0,9,     -999.0,9,     -999.0,9,     -999.0,20110311,       1355
320620110219,       P16S,      46,          1,         28,         28,2,20110311,       1215,   -67.4980,  -149.9996,       4393,   315.2,   1.5414,  34.7212,2,  34.7196,2,    185.3,2,   184.4,2,   93.55,2,   32.12,2,    0.01,2,    2.21,2,   0.323,2,   0.167,2,   0.022,2,   0.0470,2,  2278.5,4,  2349.8,2,   7.5759,2,    25.00,-999.000,9,-999.0000,9,-999.000,9,   1.5414,2, -999.00,9,  -999.0,9,  -999.0,-999.000,9, -999.00,9,-999.000,9,   41.11,2,   34.55,2, -67.4981,-150.0001,-999.000,     -999.0,    34.8833,2,     -999.0,9,     -999.0,9,-999.0000,9,-999.0000,9,-999.0000,9,-999.0000,9,-999.0000,9,-999.0000,9,-999.0000,9,-999.0000,9,-999.0000,9,-999.0000,-999.000,   1.5253,     -999.0,     -999.0,9,     -999.0,9,     -999.0,9,     -999.0,9,     -999.0,20110311,       1353
320620110219,       P16S,      46,          1,         27,         27,2,20110311,       1215,   -67.4980,  -149.9996,       4393,   364.9,   1.4935,  34.7255,2,  34.7241,2,    185.3,2,   185.7,2,   96.07,2,   32.22,2,    0.00,2,    2.21,2,   0.292,2,   0.147,2,   0.018,2,   0.0450,2,  2293.9,4,  2351.7,2,   7.5768,2,    25.00,-999.000,9,-999.0000,9,-999.000,9,   1.4945,2, -999.00,9,  -999.0,9,  -999.0,-999.000,9, -999.00,9,-999.000,9,   41.05,2,   34.47,2, -67.4981,-150.0001,-999.000,     -999.0,    34.8879,2,     -999.0,9,     -999.0,9,-999.0000,9,-999.0000,9,-999.0000,9,-999.0000,9,-999.0000,9,-999.0000,9,-999.0000,9,-999.0000,9,-999.0000,9,-999.0000,-999.000,   1.4749,     -999.0,     -999.0,9,     -999.0,9,     -999.0,9,     -999.0,9,     -999.0,20110311,       1351
320620110219,       P16S,      46,          1,         26,         26,2,20110311,       1215,   -67.4980,  -149.9996,       4393,   414.7,   1.4527,  34.7291,2,  34.7283,2,    186.0,2,   187.2,2,   97.82,2,   32.01,2,    0.00,2,    2.21,2,-999.000,9,-999.000,9,-999.000,9,-999.0000,9,  2289.4,4,  2352.5,2,   7.5792,2,    25.00,-999.000,9,-999.0000,9,-999.000,9,   1.4517,2, -999.00,9,  -999.0,9,  -999.0,-999.000,9, -999.00,9,-999.000,9,   40.73,2,   34.44,2, -67.4981,-150.0001,-999.000,     -999.0,    34.8920,2,     -999.0,9,     -999.0,9,-999.0000,9,-999.0000,9,-999.0000,9,-999.0000,9,-999.0000,9,-999.0000,9,-999.0000,9,-999.0000,9,-999.0000,9,-999.0000,-999.000,   1.4315,     -999.0,     -999.0,9,     -999.0,9,     -999.0,9,     -999.0,9,     -999.0,20110311,       1349
320620110219,       P16S,      46,          1,         25,         25,2,20110311,       1215,   -67.4980,  -149.9996,       4393,   465.2,   1.3977,  34.7294,2,  34.7283,2,    185.6,2,   185.8,2,   99.73,2,   32.22,2,    0.00,2,    2.23,2,   0.223,2,   0.112,2,   0.012,2,   0.0510,2,  2290.7,4,  2353.1,2,   7.5766,6,    25.00,-999.000,9,-999.0000,9,-999.000,9,   1.3987,2, -999.00,9,  -999.0,9,  -999.0,-999.000,9, -999.00,9,-999.000,9,   40.61,2,   34.50,2, -67.4981,-150.0001,-999.000,     -999.0,    34.8921,2,     -999.0,9,     -999.0,9,-999.0000,9,-999.0000,9,-999.0000,9,-999.0000,9,-999.0000,9,-999.0000,9,-999.0000,9,-999.0000,9,-999.0000,9,-999.0000,-999.000,   1.3739,     -999.0,     -999.0,9,     -999.0,9,     -999.0,9,     -999.0,9,     -999.0,20110311,       1347
320620110219,       P16S,      46,          1,         24,         24,2,20110311,       1215,   -67.4980,  -149.9996,       4393,   533.9,   1.3434,  34.7296,2,  34.7287,2,    186.1,2,   185.8,2,  101.94,2,   32.31,2,    0.00,2,    2.23,2,-999.000,9,-999.000,9,-999.000,9,-999.0000,9,  2288.2,4,  2354.0,2,   7.5753,2,    25.00,-999.000,9,-999.0000,9,-999.000,9,   1.3433,2, -999.00,9,  -999.0,9,  -999.0,-999.000,9, -999.00,9,-999.000,9,   40.65,2,   34.88,2, -67.4981,-150.0001,-999.000,     -999.0,    34.8925,2,     -999.0,9,     -999.0,9,-999.0000,9,-999.0000,9,-999.0000,9,-999.0000,9,-999.0000,9,-999.0000,9,-999.0000,9,-999.0000,9,-999.0000,9,-999.0000,-999.000,   1.3160,     -999.0,     -999.0,9,     -999.0,9,     -999.0,9,     -999.0,9,     -999.0,20110311,       1345
320620110219,       P16S,      46,          1,         23,         23,2,20110311,       1215,   -67.4980,  -149.9996,       4393,   634.9,   1.2665,  34.7287,2,  34.7272,2,    186.6,2,   186.5,2,  105.43,2,   32.49,2,    0.00,2,    2.22,2,   0.160,2,   0.078,2,   0.011,2,   0.0500,2,  -999.0,9,  -999.0,9,-999.0000,9,  -999.00,-999.000,9,-999.0000,9,-999.000,9,   1.2665,2, -999.00,9,  -999.0,9,  -999.0,-999.000,9, -999.00,9,-999.000,9,   40.69,2,   34.58,2, -67.4981,-150.0001,-999.000,     -999.0,    34.8909,2,     -999.0,9,     -999.0,9,-999.0000,9,-999.0000,9,-999.0000,9,-999.0000,9,-999.0000,9,-999.0000,9,-999.0000,9,-999.0000,9,-999.0000,9,-999.0000,-999.000,   1.2338,     -999.0,     -999.0,9,     -999.0,9,     -999.0,9,     -999.0,9,     -999.0,20110311,       1342
320620110219,       P16S,      46,          1,         22,         22,2,20110311,       1215,   -67.4980,  -149.9996,       4393,   735.1,   1.1973,  34.7271,2,  34.7264,2,    188.6,2,   188.3,2,  107.87,2,   32.36,2,    0.00,2,    2.22,2,-999.000,9,-999.000,9,-999.000,9,-999.0000,9,  -999.0,9,  -999.0,9,-999.0000,9,  -999.00,-999.000,9,-999.0000,9,-999.000,9,   1.1968,2, -999.00,9,  -999.0,9,  -999.0,-999.000,9, -999.00,9,-999.000,9,   40.28,2,   34.65,2, -67.4981,-150.0001,-999.000,     -999.0,    34.8901,2,     -999.0,9,     -999.0,9,-999.0000,9,-999.0000,9,-999.0000,9,-999.0000,9,-999.0000,9,-999.0000,9,-999.0000,9,-999.0000,9,-999.0000,9,-999.0000,-999.000,   1.1592,     -999.0,     -999.0,9,     -999.0,9,     -999.0,9,     -999.0,9,     -999.0,20110311,       1339
320620110219,       P16S,      46,          1,         21,         21,2,20110311,       1215,   -67.4980,  -149.9996,       4393,   835.2,   1.1359,  34.7252,2,  34.7241,2,    190.7,2,   190.6,2,  109.51,2,   32.25,2,    0.00,2,    2.23,2,   0.118,2,   0.055,2,   0.010,2,   0.0430,2,  2284.7,4,  2356.9,6,   7.5804,2,    25.00,-999.000,9,-999.0000,9,-999.000,9,   1.1359,2, -999.00,9,  -999.0,9,  -999.0,-999.000,9, -999.00,9,-999.000,9,   40.15,2,   34.50,2, -67.4981,-150.0001,-999.000,     -999.0,    34.8878,2,     -999.0,9,     -999.0,9,-999.0000,9,-999.0000,9,-999.0000,9,-999.0000,9,-999.0000,9,-999.0000,9,-999.0000,9,-999.0000,9,-999.0000,9,-999.0000,-999.000,   1.0924,     -999.0,     -999.0,9,     -999.0,9,     -999.0,9,     -999.0,9,     -999.0,20110311,       1336
320620110219,       P16S,      46,          1,         20,         20,2,20110311,       1215,   -67.4980,  -149.9996,       4393,   934.5,   1.0761,  34.7232,2,  34.7219,2,    193.1,2,   192.5,2,  111.91,2,   32.15,2,    0.00,2,    2.22,2,-999.000,9,-999.000,9,-999.000,9,-999.0000,9,  -999.0,9,  -999.0,9,-999.0000,9,  -999.00,-999.000,9,-999.0000,9,-999.000,9,   1.0754,2, -999.00,9,  -999.0,9,  -999.0,-999.000,9, -999.00,9,-999.000,9,   40.05,2,   34.34,2, -67.4981,-150.0001,-999.000,     -999.0,    34.8857,2,     -999.0,9,     -999.0,9,-999.0000,9,-999.0000,9,-999.0000,9,-999.0000,9,-999.0000,9,-999.0000,9,-999.0000,9,-999.0000,9,-999.0000,9,-999.0000,-999.000,   1.0271,     -999.0,     -999.0,9,     -999.0,9,     -999.0,9,     -999.0,9,     -999.0,20110311,       1334
320620110219,       P16S,      46,          1,         19,         19,2,20110311,       1215,   -67.4980,  -149.9996,       4393,  1034.8,   1.0107,  34.7206,2,  34.7202,2,    194.9,2,   194.2,2,  113.35,2,   32.07,2,    0.00,2,    2.22,2,   0.108,2,   0.055,2,   0.010,2,   0.0400,2,  -999.0,9,  -999.0,9,-999.0000,9,  -999.00,-999.000,9,-999.0000,9,-999.000,9,   1.0109,2, -999.00,9,  -999.0,9,  -999.0,-999.000,9, -999.00,9,-999.000,9,   39.68,2,   34.27,2, -67.4981,-150.0001,-999.000,     -999.0,    34.8839,2,     -999.0,9,     -999.0,9,-999.0000,9,-999.0000,9,-999.0000,9,-999.0000,9,-999.0000,9,-999.0000,9,-999.0000,9,-999.0000,9,-999.0000,9,-999.0000,-999.000,   0.9561,     -999.0,     -999.0,9,     -999.0,9,     -999.0,9,     -999.0,9,     -999.0,20110311,       1331
320620110219,       P16S,      46,          1,         18,         18,2,20110311,       1215,   -67.4980,  -149.9996,       4393,  1134.8,   0.9511,  34.7184,2,  34.7184,2,    196.4,2,   196.7,2,  115.08,2,   31.98,2,    0.00,2,    2.22,2,-999.000,9,-999.000,9,-999.000,9,-999.0000,9,  2294.3,4,  2360.4,2,   7.5883,2,    25.00,-999.000,9,-999.0000,9,-999.000,9,   0.9510,2, -999.00,9,  -999.0,9,  -999.0,-999.000,9, -999.00,9,-999.000,9,   39.75,2,   33.94,2, -67.4981,-150.0001,-999.000,     -999.0,    34.8822,2,     -999.0,9,     -999.0,9,-999.0000,9,-999.0000,9,-999.0000,9,-999.0000,9,-999.0000,9,-999.0000,9,-999.0000,9,-999.0000,9,-999.0000,9,-999.0000,-999.000,   0.8908,     -999.0,     -999.0,9,     -999.0,9,     -999.0,9,     -999.0,9,     -999.0,20110311,       1328
320620110219,       P16S,      46,          1,         17,         17,2,20110311,       1215,   -67.4980,  -149.9996,       4393,  1235.2,   0.8936,  34.7160,2,  34.7153,2,    198.3,2,   198.2,2,  116.57,2,   31.91,2,    0.00,2,    2.22,2,   0.095,2,   0.051,2,   0.005,2,   0.0510,2,  -999.0,9,  -999.0,9,-999.0000,9,  -999.00,-999.000,9,-999.0000,9,-999.000,9,   0.8931,2, -999.00,9,  -999.0,9,  -999.0,-999.000,9, -999.00,9,-999.000,9,   39.53,2,   34.49,2, -67.4981,-150.0001,-999.000,     -999.0,    34.8790,2,     -999.0,9,     -999.0,9,-999.0000,9,-999.0000,9,-999.0000,9,-999.0000,9,-999.0000,9,-999.0000,9,-999.0000,9,-999.0000,9,-999.0000,9,-999.0000,-999.000,   0.8275,     -999.0,     -999.0,9,     -999.0,9,     -999.0,9,     -999.0,9,     -999.0,20110311,       1325
320620110219,       P16S,      46,          1,         16,         16,2,20110311,       1215,   -67.4980,  -149.9996,       4393,  1334.1,   0.8508,  34.7145,2,  34.7138,2,    199.5,2,   200.2,2,  118.58,2,   31.86,2,    0.00,2,    2.23,2,-999.000,9,-999.000,9,-999.000,9,-999.0000,9,  -999.0,9,  -999.0,9,-999.0000,9,  -999.00,-999.000,9,-999.0000,9,-999.000,9,   0.8513,2, -999.00,9,  -999.0,9,  -999.0,-999.000,9, -999.00,9,-999.000,9,   39.43,2,   34.45,2, -67.4981,-150.0001,-999.000,     -999.0,    34.8775,2,     -999.0,9,     -999.0,9,-999.0000,9,-999.0000,9,-999.0000,9,-999.0000,9,-999.0000,9,-999.0000,9,-999.0000,9,-999.0000,9,-999.0000,9,-999.0000,-999.000,   0.7787,     -999.0,     -999.0,9,     -999.0,9,     -999.0,9,     -999.0,9,     -999.0,20110311,       1323
320620110219,       P16S,      46,          1,         15,         15,2,20110311,       1215,   -67.4980,  -149.9996,       4393,  1435.0,   0.8005,  34.7123,2,  34.7116,2,    200.8,2,   200.3,2,  119.91,2,   31.78,2,    0.00,2,    2.23,2,   0.092,2,   0.049,2,   0.005,2,   0.0390,2,  -999.0,9,  -999.0,9,-999.0000,9,  -999.00,-999.000,9,-999.0000,9,-999.000,9,   0.8007,2, -999.00,9,  -999.0,9,  -999.0,-999.000,9, -999.00,9,-999.000,9,   39.31,2,   34.39,2, -67.4981,-150.0001,-999.000,     -999.0,    34.8753,2,     -999.0,9,     -999.0,9,-999.0000,9,-999.0000,9,-999.0000,9,-999.0000,9,-999.0000,9,-999.0000,9,-999.0000,9,-999.0000,9,-999.0000,9,-999.0000,-999.000,   0.7223,     -999.0,     -999.0,9,     -999.0,9,     -999.0,9,     -999.0,9,     -999.0,20110311,       1320
320620110219,       P16S,      46,          1,         14,         14,2,20110311,       1215,   -67.4980,  -149.9996,       4393,  1533.9,   0.7583,  34.7107,2,  34.7097,2,    201.7,2,   201.6,2,  120.55,2,   31.71,2,    0.00,2,    2.23,2,-999.000,9,-999.000,9,-999.000,9,-999.0000,9,  2279.0,4,  2360.4,2,   7.5923,2,    25.00,-999.000,9,-999.0000,9,-999.000,9,   0.7585,2, -999.00,9,  -999.0,9,  -999.0,-999.000,9, -999.00,9,-999.000,9,   39.22,2,   34.25,2, -67.4981,-150.0001,-999.000,     -999.0,    34.8734,2,     -999.0,9,     -999.0,9,-999.0000,9,-999.0000,9,-999.0000,9,-999.0000,9,-999.0000,9,-999.0000,9,-999.0000,9,-999.0000,9,-999.0000,9,-999.0000,-999.000,   0.6740,     -999.0,     -999.0,9,     -999.0,9,     -999.0,9,     -999.0,9,     -999.0,20110311,       1317