BOTTLE,20220813CCHSIOAMB
EXPOCODE,SECT_ID,STNNBR,CASTNO,SAMPNO,BTLNBR,BTLNBR_FLAG_W,DATE,TIME,LATITUDE,LONGITUDE,DEPTH,CTDPRS,CTDTMP,CTDSAL,CTDSAL_FLAG_W,SALNTY,SALNTY_FLAG_W,CTDOXY,CTDOXY_FLAG_W,OXYGEN,OXYGEN_FLAG_W,SILCAT,SILCAT_FLAG_W,NITRAT,NITRAT_FLAG_W,NITRIT,NITRIT_FLAG_W,PHSPHT,PHSPHT_FLAG_W,CFC-11,CFC-11_FLAG_W,CFC-12,CFC-12_FLAG_W,CFC113,CFC113_FLAG_W,SF6,SF6_FLAG_W,TCARBN,TCARBN_FLAG_W,ALKALI,ALKALI_FLAG_W,PH_TOT,PH_TOT_FLAG_W,PH_TMP,TRITUM,TRITUM_FLAG_W,HELIUM,HELIUM_FLAG_W,DELHE3,DELHE3_FLAG_W,REFTMP,REFTMP_FLAG_W,DELC13,DELC13_FLAG_W,DELC14,DELC14_FLAG_W,C14ERR,NEON,NEON_FLAG_W,DELO18,DELO18_FLAG_W,POC,POC_FLAG_W,DOC,DOC_FLAG_W,TDN,TDN_FLAG_W,BTL_LAT,BTL_LON,TRITER,NEONER,SALTREF,SALTREF_FLAG_W,PIGMENTS,PIGMENTS_FLAG_W,LAB_DEN,LAB_DEN_FLAG_W,CDOM325,CDOM325_FLAG_W,CDOM340,CDOM340_FLAG_W,CDOM380,CDOM380_FLAG_W,CDOM412,CDOM412_FLAG_W,CDOM443,CDOM443_FLAG_W,CDOM490,CDOM490_FLAG_W,CDOM555,CDOM555_FLAG_W,CDOMSL,CDOMSL_FLAG_W,CDOMSN,CDOMSN_FLAG_W,HELIER,DELHER,THETA,LDEO_SAMPNO,ABSORBTION,ABSORBTION_FLAG_W,IMAGE_COUNT,IMAGE_COUNT_FLAG_W,CYTO_COUNT,CYTO_COUNT_FLAG_W,DELD,DELD_FLAG_W,DELDERR,BTL_DATE,BTL_TIME
,,,,,,,,,,,METERS,DBAR,ITS-90,PSS-78,,PSS-78,,UMOL/KG,,UMOL/KG,,UMOL/KG,,UMOL/KG,,UMOL/KG,,UMOL/KG,,PMOL/KG,,PMOL/KG,,PMOL/KG,,FMOL/KG,,UMOL/KG,,UMOL/KG,,,,DEG C,TU,,NMOL/KG,,PERCNT,,DEG C,,/MILLE,,/MILLE,,/MILLE,NMOL/KG,,/MILLE,,UG/KG,,UMOL/KG,,UMOL/KG,,,,TU,NMOL/KG,G/KG,,,,,,1/M,,1/M,,1/M,,1/M,,1/M,,1/M,,1/M,,1/NM,,1/NM,,NMOL/KG,PERCNT,DEG C,,,,,,,,/MILLE,,/MILLE,,
320620110219,       S04P,      33,          1,         36,         36,2,20110307,       0453,   -67.0002,  -165.2232,       3566,     5.3,  -0.8119,  33.6134,2,  33.6145,2,    340.1,3,   345.0,2,   58.17,2,   23.71,2,    0.14,2,    1.66,2,   6.018,2,   3.353,2,   0.589,2,   2.7460,2,  2154.2,6,  2277.6,2,   7.6884,2,    25.00,-999.000,9,-999.0000,9,-999.000,9,  -0.8105,2,    1.28,2,  -121.7,2,     2.5,-999.000,9, -999.00,9,-999.000,9, -999.00,9, -999.00,9, -67.0002,-165.2232,-999.000,     -999.0,    33.7730,2,     -999.0,9,     -999.0,9,-999.0000,9,-999.0000,9,-999.0000,9,-999.0000,9,-999.0000,9,-999.0000,9,-999.0000,9,-999.0000,9,-999.0000,9,-999.0000,-999.000,  -0.8120,     -999.0,     -999.0,9,     -999.0,9,     -999.0,9,     -999.0,9,     -999.0,20110307,       0630
320620110219,       S04P,      33,          1,         35,         35,2,20110307,       0453,   -67.0002,  -165.2232,       3566,    24.5,  -0.8258,  33.6153,2,  33.6161,2,    344.7,2,   344.8,2,   58.58,2,   23.70,2,    0.14,2,    1.68,2,   5.951,2,   3.317,2,   0.574,2,   2.7860,2,  2154.4,2,  2278.2,6,   7.6860,2,    25.00,-999.000,9,-999.0000,9,-999.000,9,  -0.8260,2, -999.00,9,  -999.0,9,  -999.0,-999.000,9, -999.00,9,-999.000,9, -999.00,9, -999.00,9, -67.0002,-165.2232,-999.000,     -999.0,    33.7746,2,     -999.0,9,     -999.0,9,-999.0000,9,-999.0000,9,-999.0000,9,-999.0000,9,-999.0000,9,-999.0000,9,-999.0000,9,-999.0000,9,-999.0000,9,-999.0000,-999.000,  -0.8264,     -999.0,     -999.0,9,     -999.0,9,     -999.0,9,     -999.0,9,     -999.0,20110307,       0629
320620110219,       S04P,      33,          1,         34,         34,2,20110307,       0453,   -67.0002,  -165.2232,       3566,    50.0,  -0.8382,  33.6293,3,  33.6697,2,    343.9,2,   339.4,2,   59.39,2,   24.28,2,    0.14,2,    1.72,2,   5.857,2,   3.263,2,   0.580,2,   2.5890,2,  2159.9,2,  2281.0,2,   7.6789,6,    25.00,-999.000,9,-999.0000,9,-999.000,9,  -0.8382,2,    1.19,2,  -121.5,2,     2.4,-999.000,9, -999.00,9,-999.000,9, -999.00,9, -999.00,9, -67.0002,-165.2232,-999.000,     -999.0,    33.8285,2,     -999.0,9,     -999.0,9,-999.0000,9,-999.0000,9,-999.0000,9,-999.0000,9,-999.0000,9,-999.0000,9,-999.0000,9,-999.0000,9,-999.0000,9,-999.0000,-999.000,  -0.8395,     -999.0,     -999.0,9,     -999.0,9,     -999.0,9,     -999.0,9,     -999.0,20110307,       0627
320620110219,       S04P,      33,          1,         33,         33,2,20110307,       0453,   -67.0002,  -165.2232,       3566,    75.6,  -1.7864,  34.2413,2,  34.2400,2,    283.8,2,   284.0,2,   69.16,2,   29.74,2,    0.13,2,    2.05,2,   4.263,2,   2.323,2,   0.410,2,   1.5750,2,  2215.0,2,  2313.9,2,   7.6033,2,    25.00,-999.000,9,-999.0000,9,-999.000,9,  -1.7892,2,    0.88,2,  -121.1,2,     3.1,-999.000,9, -999.00,9,-999.000,9, -999.00,9, -999.00,9, -67.0002,-165.2232,-999.000,     -999.0,    34.4014,2,     -999.0,9,     -999.0,9,-999.0000,9,-999.0000,9,-999.0000,9,-999.0000,9,-999.0000,9,-999.0000,9,-999.0000,9,-999.0000,9,-999.0000,9,-999.0000,-999.000,  -1.7879,     -999.0,     -999.0,9,     -999.0,9,     -999.0,9,     -999.0,9,     -999.0,20110307,       0626
320620110219,       S04P,      33,          1,         32,         32,2,20110307,       0453,   -67.0002,  -165.2232,       3566,   100.8,  -1.4186,  34.3041,2,  34.3109,2,    271.3,2,   269.6,2,   70.81,2,   30.46,2,    0.07,2,    2.07,2,   3.778,2,   2.062,2,   0.356,2,   1.5770,2,  2221.6,2,  2317.0,2,   7.5987,2,    25.00,-999.000,9,-999.0000,9,-999.000,9,  -1.4288,2,    0.73,2,  -121.7,2,     2.7,-999.000,9, -999.00,9,-999.000,9, -999.00,9, -999.00,9, -67.0002,-165.2232,-999.000,     -999.0,    34.4727,2,     -999.0,9,     -999.0,9,-999.0000,9,-999.0000,9,-999.0000,9,-999.0000,9,-999.0000,9,-999.0000,9,-999.0000,9,-999.0000,9,-999.0000,9,-999.0000,-999.000,  -1.4209,     -999.0,     -999.0,9,     -999.0,9,     -999.0,9,     -999.0,9,     -999.0,20110307,       0624
320620110219,       S04P,      33,          1,         31,         31,2,20110307,       0453,   -67.0002,  -165.2232,       3566,   123.4,   0.6014,  34.5627,2,  34.5639,2,    221.0,2,   204.7,2,   85.66,2,   32.94,2,    0.04,2,    2.21,2,   1.563,2,   0.837,2,   0.150,2,   0.5210,2,  2250.6,2,  2334.2,2,   7.5621,2,    25.00,-999.000,9,-999.0000,9,-999.000,9,   0.6162,2,    0.44,2,  -133.5,2,     2.6,-999.000,9, -999.00,9,-999.000,9, -999.00,9, -999.00,9, -67.0002,-165.2232,-999.000,     -999.0,    34.7269,2,     -999.0,9,     -999.0,9,-999.0000,9,-999.0000,9,-999.0000,9,-999.0000,9,-999.0000,9,-999.0000,9,-999.0000,9,-999.0000,9,-999.0000,9,-999.0000,-999.000,   0.5963,     -999.0,     -999.0,9,     -999.0,9,     -999.0,9,     -999.0,9,     -999.0,20110307,       0623
320620110219,       S04P,      33,          1,         30,         30,2,20110307,       0453,   -67.0002,  -165.2232,       3566,   149.0,   0.9703,  34.6242,2,  34.6266,2,    195.2,2,   192.3,2,   89.82,2,   33.14,2,    0.01,2,    2.23,2,-999.000,9,-999.000,9,-999.000,9,-999.0000,9,  2256.2,2,  2340.0,2,   7.5604,2,    25.00,-999.000,9,-999.0000,9,-999.000,9,   0.9747,2,    0.40,2,  -134.5,2,     2.7,-999.000,9, -999.00,9,-999.000,9, -999.00,9, -999.00,9, -67.0002,-165.2232,-999.000,     -999.0,    34.7899,2,     -999.0,9,     -999.0,9,-999.0000,9,-999.0000,9,-999.0000,9,-999.0000,9,-999.0000,9,-999.0000,9,-999.0000,9,-999.0000,9,-999.0000,9,-999.0000,-999.000,   0.9636,     -999.0,     -999.0,9,     -999.0,9,     -999.0,9,     -999.0,9,     -999.0,20110307,       0621
320620110219,       S04P,      33,          1,         29,         29,2,20110307,       0453,   -67.0002,  -165.2232,       3566,   199.9,   1.3799,  34.7024,2,  34.7047,2,    182.8,2,   182.7,2,   96.35,2,   33.10,2,    0.01,2,    2.24,2,   0.449,2,   0.221,2,   0.037,2,   0.0930,2,  2260.5,2,  2346.8,2,   7.5628,2,    25.00,-999.000,9,-999.0000,9,-999.000,9,   1.3799,2,    0.34,2,  -143.5,2,     2.4,-999.000,9, -999.00,9,-999.000,9, -999.00,9, -999.00,9, -67.0002,-165.2232,-999.000,     -999.0,    34.8683,2,     -999.0,9,     -999.0,9,-999.0000,9,-999.0000,9,-999.0000,9,-999.0000,9,-999.0000,9,-999.0000,9,-999.0000,9,-999.0000,9,-999.0000,9,-999.0000,-999.000,   1.3702,     -999.0,     -999.0,9,     -999.0,9,     -999.0,9,     -999.0,9,     -999.0,20110307,       0620
320620110219,       S04P,      33,          1,         28,         28,2,20110307,       0453,   -67.0002,  -165.2232,       3566,   249.2,   1.4424,  34.7245,2,  34.7243,2,    180.1,2,   180.5,2,   98.96,2,   32.88,2,    0.00,2,    2.24,2,-999.000,9,-999.000,9,-999.000,9,-999.0000,9,  2261.6,2,  2348.5,2,   7.5665,2,    25.00,-999.000,9,-999.0000,9,-999.000,9,   1.4422,2,    0.49,2,  -147.8,2,     2.7,-999.000,9, -999.00,9,-999.000,9, -999.00,9, -999.00,9, -67.0002,-165.2232,-999.000,     -999.0,    34.8881,2,     -999.0,9,     -999.0,9,-999.0000,9,-999.0000,9,-999.0000,9,-999.0000,9,-999.0000,9,-999.0000,9,-999.0000,9,-999.0000,9,-999.0000,9,-999.0000,-999.000,   1.4300,     -999.0,     -999.0,9,     -999.0,9,     -999.0,9,     -999.0,9,     -999.0,20110307,       0618
320620110219,       S04P,      33,          1,         27,         27,2,20110307,       0453,   -67.0002,  -165.2232,       3566,   300.4,   1.4182,  34.7281,2,  34.7280,2,    180.6,2,   181.6,2,  100.59,2,   32.74,2,    0.00,2,    2.23,2,   0.241,2,   0.114,2,   0.024,2,   0.0810,2,  2263.6,2,  2349.9,2,   7.5717,2,    25.00,-999.000,9,-999.0000,9,-999.000,9,   1.4180,2,    0.41,2,  -145.1,2,     2.4,-999.000,9, -999.00,9,-999.000,9, -999.00,9, -999.00,9, -67.0002,-165.2232,-999.000,     -999.0,    34.8918,2,     -999.0,9,     -999.0,9,-999.0000,9,-999.0000,9,-999.0000,9,-999.0000,9,-999.0000,9,-999.0000,9,-999.0000,9,-999.0000,9,-999.0000,9,-999.0000,-999.000,   1.4032,     -999.0,     -999.0,9,     -999.0,9,     -999.0,9,     -999.0,9,     -999.0,20110307,       0616
320620110219,       S04P,      33,          1,         26,         26,2,20110307,       0453,   -67.0002,  -165.2232,       3566,   350.4,   1.3697,  34.7295,2,  34.7309,2,    181.8,2,   183.1,2,  102.79,2,   32.66,2,    0.00,2,    2.22,2,-999.000,9,-999.000,9,-999.000,9,-999.0000,9,  2262.3,2,  2351.3,2,   7.5702,2,    25.00,-999.000,9,-999.0000,9,-999.000,9,   1.3693,2,    0.44,2,  -153.3,2,     2.3,-999.000,9, -999.00,9,-999.000,9, -999.00,9, -999.00,9, -67.0002,-165.2233,-999.000,     -999.0,    34.8947,2,     -999.0,9,     -999.0,9,-999.0000,9,-999.0000,9,-999.0000,9,-999.0000,9,-999.0000,9,-999.0000,9,-999.0000,9,-999.0000,9,-999.0000,9,-999.0000,-999.000,   1.3522,     -999.0,     -999.0,9,     -999.0,9,     -999.0,9,     -999.0,9,     -999.0,20110307,       0614
320620110219,       S04P,      33,          1,         25,         25,2,20110307,       0453,   -67.0002,  -165.2232,       3566,   400.4,   1.3290,  34.7297,2,  34.7303,2,    183.5,2,   183.6,2,  104.63,2,   32.62,2,    0.00,2,    2.22,2,   0.188,2,   0.092,2,   0.015,2,   0.1520,2,  2263.2,2,  2351.3,2,   7.5749,2,    25.00,-999.000,9,-999.0000,9,-999.000,9,   1.3274,2, -999.00,9,  -999.0,9,  -999.0,-999.000,9, -999.00,9,-999.000,9, -999.00,9, -999.00,9, -67.0002,-165.2232,-999.000,     -999.0,    34.8941,2,     -999.0,9,     -999.0,9,-999.0000,9,-999.0000,9,-999.0000,9,-999.0000,9,-999.0000,9,-999.0000,9,-999.0000,9,-999.0000,9,-999.0000,9,-999.0000,-999.000,   1.3090,     -999.0,     -999.0,9,     -999.0,9,     -999.0,9,     -999.0,9,     -999.0,20110307,       0613
320620110219,       S04P,      33,          1,         24,         24,2,20110307,       0453,   -67.0002,  -165.2232,       3566,   451.2,   1.2815,  34.7293,2,  34.7303,2,    184.3,2,   185.1,2,  106.63,2,   32.74,2,    0.00,2,    2.22,2,-999.000,9,-999.000,9,-999.000,9,-999.0000,9,  2262.8,2,  2352.5,2,   7.5680,4,    25.00,-999.000,9,-999.0000,9,-999.000,9,   1.2821,2,    0.38,2,  -154.3,2,     2.3,-999.000,9, -999.00,9,-999.000,9, -999.00,9, -999.00,9, -67.0002,-165.2233,-999.000,     -999.0,    34.8941,2,     -999.0,9,     -999.0,9,-999.0000,9,-999.0000,9,-999.0000,9,-999.0000,9,-999.0000,9,-999.0000,9,-999.0000,9,-999.0000,9,-999.0000,9,-999.0000,-999.000,   1.2589,     -999.0,     -999.0,9,     -999.0,9,     -999.0,9,     -999.0,9,     -999.0,20110307,       0611
320620110219,       S04P,      33,          1,         23,         23,2,20110307,       0453,   -67.0002,  -165.2232,       3566,   501.6,   1.2457,  34.7285,2,  34.7291,2,    185.7,2,   185.4,2,  107.13,2,   32.65,2,    0.00,2,    2.22,2,   0.144,2,   0.072,2,   0.009,2,   0.0760,2,  2261.6,2,  2353.5,2,   7.5712,4,    25.00,-999.000,9,-999.0000,9,-999.000,9,   1.2461,2,    0.36,2,  -156.1,2,     2.4,-999.000,9, -999.00,9,-999.000,9, -999.00,9, -999.00,9, -67.0002,-165.2233,-999.000,     -999.0,    34.8929,2,     -999.0,9,     -999.0,9,-999.0000,9,-999.0000,9,-999.0000,9,-999.0000,9,-999.0000,9,-999.0000,9,-999.0000,9,-999.0000,9,-999.0000,9,-999.0000,-999.000,   1.2205,     -999.0,     -999.0,9,     -999.0,9,     -999.0,9,     -999.0,9,     -999.0,20110307,       0609
320620110219,       S04P,      33,          1,         22,         22,2,20110307,       0453,   -67.0002,  -165.2232,       3566,   598.8,   1.1732,  34.7267,2,  34.7279,2,    187.9,2,   187.9,2,  108.85,2,   32.47,2,    0.00,2,    2.22,2,-999.000,9,-999.000,9,-999.000,9,-999.0000,9,  -999.0,9,  2354.2,2,   7.5780,4,    25.00,-999.000,9,-999.0000,9,-999.000,9,   1.1734,2,    0.36,2,  -158.1,2,     2.3,-999.000,9, -999.00,9,-999.000,9, -999.00,9, -999.00,9, -67.0002,-165.2233,-999.000,     -999.0,    34.8917,2,     -999.0,9,     -999.0,9,-999.0000,9,-999.0000,9,-999.0000,9,-999.0000,9,-999.0000,9,-999.0000,9,-999.0000,9,-999.0000,9,-999.0000,9,-999.0000,-999.000,   1.1430,     -999.0,     -999.0,9,     -999.0,9,     -999.0,9,     -999.0,9,     -999.0,20110307,       0606
320620110219,       S04P,      33,          1,         21,         21,2,20110307,       0453,   -67.0002,  -165.2232,       3566,   701.1,   1.1036,  34.7249,2,  34.7248,2,    190.7,2,   190.5,2,  111.32,2,   32.32,2,    0.00,2,    2.21,2,   0.103,2,   0.055,2,   0.007,2,   0.0620,2,  2261.8,2,  2355.2,2,   7.5782,4,    25.00,-999.000,9,-999.0000,9,-999.000,9,   1.1038,2,    0.42,2,  -171.9,3,     2.4,-999.000,9, -999.00,9,-999.000,9, -999.00,9, -999.00,9, -67.0002,-165.2232,-999.000,     -999.0,    34.8885,2,     -999.0,9,     -999.0,9,-999.0000,9,-999.0000,9,-999.0000,9,-999.0000,9,-999.0000,9,-999.0000,9,-999.0000,9,-999.0000,9,-999.0000,9,-999.0000,-999.000,   1.0680,     -999.0,     -999.0,9,     -999.0,9,     -999.0,9,     -999.0,9,     -999.0,20110307,       0604
320620110219,       S04P,      33,          1,         20,         20,2,20110307,       0453,   -67.0002,  -165.2232,       3566,   801.2,   1.0472,  34.7226,2,  34.7240,2,    193.1,2,   193.2,2,  113.13,2,   32.25,2,    0.00,2,    2.22,2,-999.000,9,-999.000,9,-999.000,9,-999.0000,9,  -999.0,9,  2356.1,2,   7.5826,4,    25.00,-999.000,9,-999.0000,9,-999.000,9,   1.0483,2,    0.43,2,  -160.1,2,     2.6,-999.000,9, -999.00,9,-999.000,9, -999.00,9, -999.00,9, -67.0002,-165.2233,-999.000,     -999.0,    34.8877,2,     -999.0,9,     -999.0,9,-999.0000,9,-999.0000,9,-999.0000,9,-999.0000,9,-999.0000,9,-999.0000,9,-999.0000,9,-999.0000,9,-999.0000,9,-999.0000,-999.000,   1.0062,     -999.0,     -999.0,9,     -999.0,9,     -999.0,9,     -999.0,9,     -999.0,20110307,       0601
320620110219,       S04P,      33,          1,         19,         19,2,20110307,       0453,   -67.0002,  -165.2232,       3566,   900.6,   0.9792,  34.7198,2,  34.7210,2,    195.1,2,   195.4,2,  115.21,2,   32.10,2,    0.00,2,    2.21,2,   0.107,2,   0.058,2,   0.011,2,   0.0620,2,  2260.9,2,  2356.7,2,   7.5837,4,    25.00,-999.000,9,-999.0000,9,-999.000,9,   0.9790,2,    0.40,2,  -161.2,2,     2.7,-999.000,9, -999.00,9,-999.000,9, -999.00,9, -999.00,9, -67.0002,-165.2233,-999.000,     -999.0,    34.8847,2,     -999.0,9,     -999.0,9,-999.0000,9,-999.0000,9,-999.0000,9,-999.0000,9,-999.0000,9,-999.0000,9,-999.0000,9,-999.0000,9,-999.0000,9,-999.0000,-999.000,   0.9329,     -999.0,     -999.0,9,     -999.0,9,     -999.0,9,     -999.0,9,     -999.0,20110307,       0559
320620110219,       S04P,      33,          1,         18,         18,2,20110307,       0453,   -67.0002,  -165.2232,       3566,   999.5,   0.9208,  34.7177,2,  34.7190,2,    197.0,2,   197.7,2,  116.94,2,   32.15,2,    0.00,2,    2.21,2,-999.000,9,-999.000,9,-999.000,9,-999.0000,9,  -999.0,9,  2357.4,6,   7.5872,4,    25.00,-999.000,9,-999.0000,9,-999.000,9,   0.9207,2,    0.41,2,  -158.6,2,     2.5,-999.000,9, -999.00,9,-999.000,9, -999.00,9, -999.00,9, -67.0002,-165.2232,-999.000,     -999.0,    34.8827,2,     -999.0,9,     -999.0,9,-999.0000,9,-999.0000,9,-999.0000,9,-999.0000,9,-999.0000,9,-999.0000,9,-999.0000,9,-999.0000,9,-999.0000,9,-999.0000,-999.000,   0.8691,     -999.0,     -999.0,9,     -999.0,9,     -999.0,9,     -999.0,9,     -999.0,20110307,       0556
320620110219,       S04P,      33,          1,         17,         17,2,20110307,       0453,   -67.0002,  -165.2232,       3566,  1099.7,   0.8657,  34.7154,2,  34.7164,2,    198.6,2,   199.3,2,  118.96,2,   32.14,2,    0.00,2,    2.20,2,   0.081,2,   0.045,2,   0.008,2,   0.0550,2,  -999.0,9,  -999.0,9,-999.0000,9,  -999.00,-999.000,9,-999.0000,9,-999.000,9,   0.8655,2, -999.00,9,  -999.0,9,  -999.0,-999.000,9, -999.00,9,-999.000,9, -999.00,9, -999.00,9, -67.0002,-165.2232,-999.000,     -999.0,    34.8801,2,     -999.0,9,     -999.0,9,-999.0000,9,-999.0000,9,-999.0000,9,-999.0000,9,-999.0000,9,-999.0000,9,-999.0000,9,-999.0000,9,-999.0000,9,-999.0000,-999.000,   0.8083,     -999.0,     -999.0,9,     -999.0,9,     -999.0,9,     -999.0,9,     -999.0,20110307,       0553
320620110219,       S04P,      33,          1,         16,         16,2,20110307,       0453,   -67.0002,  -165.2232,       3566,  1198.4,   0.8184,  34.7137,2,  34.7143,2,    200.1,2,   200.3,2,  119.91,2,   32.10,2,    0.00,2,    2.19,2,-999.000,9,-999.000,9,-999.000,9,-999.0000,9,  2261.0,6,  2358.1,2,   7.5902,4,    25.00,-999.000,9,-999.0000,9,-999.000,9,   0.8189,2,    0.41,2,  -163.5,2,     2.8,-999.000,9, -999.00,9,-999.000,9, -999.00,9, -999.00,9, -67.0002,-165.2232,-999.000,     -999.0,    34.8780,2,     -999.0,9,     -999.0,9,-999.0000,9,-999.0000,9,-999.0000,9,-999.0000,9,-999.0000,9,-999.0000,9,-999.0000,9,-999.0000,9,-999.0000,9,-999.0000,-999.000,   0.7553,     -999.0,     -999.0,9,     -999.0,9,     -999.0,9,     -999.0,9,     -999.0,20110307,       0551
320620110219,       S04P,      33,          1,         15,         15,2,20110307,       0453,   -67.0002,  -165.2232,       3566,  1299.3,   0.7713,  34.7115,2,  34.7122,2,    201.3,2,   201.9,2,  121.94,2,   31.99,2,    0.00,2,    2.20,2,   0.105,2,   0.051,2,   0.011,2,   0.0620,2,  -999.0,9,  2358.8,2,   7.5902,4,    25.00,-999.000,9,-999.0000,9,-999.000,9,   0.7715,2,    0.45,2,  -164.3,2,     2.4,-999.000,9, -999.00,9,-999.000,9, -999.00,9, -999.00,9, -67.0002,-165.2232,-999.000,     -999.0,    34.8759,2,     -999.0,9,     -999.0,9,-999.0000,9,-999.0000,9,-999.0000,9,-999.0000,9,-999.0000,9,-999.0000,9,-999.0000,9,-999.0000,9,-999.0000,9,-999.0000,-999.000,   0.7023,     -999.0,     -999.0,9,     -999.0,9,     -999.0,9,     -999.0,9,     -999.0,20110307,       0548
320620110219,       S04P,      33,          1,         14,         14,2,20110307,       0453,   -67.0002,  -165.2232,       3566,  1400.1,   0.7295,  34.7101,2,  34.7105,2,    202.7,2,   202.5,2,  123.47,2,   31.91,2,    0.00,2,    2.21,2,-999.000,9,-999.000,9,-999.000,9,-999.0000,9,  2259.1,2,  2358.3,2,   7.5900,4,    25.00,-999.000,9,-999.0000,9,-999.000,9,   0.7296,2,    0.43,6,  -160.7,6,     2.0,-999.000,9, -999.00,9,-999.000,9, -999.00,9, -999.00,9, -67.0002,-165.2232,-999.000,     -999.0,    34.8741,2,     -999.0,9,     -999.0,9,-999.0000,9,-999.0000,9,-999.0000,9,-999.0000,9,-999.0000,9,-999.0000,9,-999.0000,9,-999.0000,9,-999.0000,9,-999.0000,-999.000,   0.6544,     -999.0,     -999.0,9,     -999.0,9,     -999.0,9,     -999.0,9,     -999.0,20110307,       0546