BOTTLE,20220813CCHSIOAMB
EXPOCODE,SECT_ID,STNNBR,CASTNO,SAMPNO,BTLNBR,BTLNBR_FLAG_W,DATE,TIME,LATITUDE,LONGITUDE,DEPTH,CTDPRS,CTDTMP,CTDSAL,CTDSAL_FLAG_W,SALNTY,SALNTY_FLAG_W,CTDOXY,CTDOXY_FLAG_W,OXYGEN,OXYGEN_FLAG_W,SILCAT,SILCAT_FLAG_W,NITRAT,NITRAT_FLAG_W,NITRIT,NITRIT_FLAG_W,PHSPHT,PHSPHT_FLAG_W,CFC-11,CFC-11_FLAG_W,CFC-12,CFC-12_FLAG_W,CFC113,CFC113_FLAG_W,SF6,SF6_FLAG_W,TCARBN,TCARBN_FLAG_W,ALKALI,ALKALI_FLAG_W,PH_TOT,PH_TOT_FLAG_W,PH_TMP,TRITUM,TRITUM_FLAG_W,HELIUM,HELIUM_FLAG_W,DELHE3,DELHE3_FLAG_W,REFTMP,REFTMP_FLAG_W,DELC13,DELC13_FLAG_W,DELC14,DELC14_FLAG_W,C14ERR,NEON,NEON_FLAG_W,DELO18,DELO18_FLAG_W,POC,POC_FLAG_W,DOC,DOC_FLAG_W,TDN,TDN_FLAG_W,BTL_LAT,BTL_LON,TRITER,NEONER,SALTREF,SALTREF_FLAG_W,PIGMENTS,PIGMENTS_FLAG_W,LAB_DEN,LAB_DEN_FLAG_W,CDOM325,CDOM325_FLAG_W,CDOM340,CDOM340_FLAG_W,CDOM380,CDOM380_FLAG_W,CDOM412,CDOM412_FLAG_W,CDOM443,CDOM443_FLAG_W,CDOM490,CDOM490_FLAG_W,CDOM555,CDOM555_FLAG_W,CDOMSL,CDOMSL_FLAG_W,CDOMSN,CDOMSN_FLAG_W,HELIER,DELHER,THETA,LDEO_SAMPNO,ABSORBTION,ABSORBTION_FLAG_W,IMAGE_COUNT,IMAGE_COUNT_FLAG_W,CYTO_COUNT,CYTO_COUNT_FLAG_W,DELD,DELD_FLAG_W,DELDERR,BTL_DATE,BTL_TIME
,,,,,,,,,,,METERS,DBAR,ITS-90,PSS-78,,PSS-78,,UMOL/KG,,UMOL/KG,,UMOL/KG,,UMOL/KG,,UMOL/KG,,UMOL/KG,,PMOL/KG,,PMOL/KG,,PMOL/KG,,FMOL/KG,,UMOL/KG,,UMOL/KG,,,,DEG C,TU,,NMOL/KG,,PERCNT,,DEG C,,/MILLE,,/MILLE,,/MILLE,NMOL/KG,,/MILLE,,UG/KG,,UMOL/KG,,UMOL/KG,,,,TU,NMOL/KG,G/KG,,,,,,1/M,,1/M,,1/M,,1/M,,1/M,,1/M,,1/M,,1/NM,,1/NM,,NMOL/KG,PERCNT,DEG C,,,,,,,,/MILLE,,/MILLE,,
320620110219,       S04P,     133,          1,         13,         13,2,20110418,       0227,   -67.0000,   -75.1532,       2933,  1265.4,   1.2116,  34.7253,2,  34.7258,2,    195.5,2,   195.9,2,  107.69,2,   31.31,2,    0.00,2,    2.18,2,   0.115,2,   0.064,2,   0.011,2,   0.0780,2,  -999.0,9,  -999.0,9,-999.0000,9,  -999.00,-999.000,9,-999.0000,9,-999.000,9,   1.2102,2,    0.50,2,  -172.2,3,     3.4,-999.000,9, -999.00,9,-999.000,9, -999.00,9, -999.00,9, -67.0000, -75.1531,-999.000,     -999.0,    34.8895,2,     -999.0,9,     -999.0,9,-999.0000,9,-999.0000,9,-999.0000,9,-999.0000,9,-999.0000,9,-999.0000,9,-999.0000,9,-999.0000,9,-999.0000,9,-999.0000,-999.000,   1.1403,     -999.0,     -999.0,9,     -999.0,9,     -999.0,9,     -999.0,9,     -999.0,20110418,       0305
320620110219,       S04P,     133,          1,         12,         12,2,20110418,       0227,   -67.0000,   -75.1532,       2933,  1362.4,   1.1537,  34.7230,2,  34.7236,2,    197.1,2,   197.4,2,  109.44,2,   31.39,2,    0.00,2,    2.18,2,-999.000,9,-999.000,9,-999.000,9,-999.0000,9,  2259.9,2,  2360.3,2,   7.6011,2,    25.00,-999.000,9,-999.0000,9,-999.000,9,   1.1532,2,    0.52,2,  -153.5,2,     2.4,-999.000,9, -999.00,9,-999.000,9, -999.00,9, -999.00,9, -67.0000, -75.1532,-999.000,     -999.0,    34.8874,2,     -999.0,9,     -999.0,9,-999.0000,9,-999.0000,9,-999.0000,9,-999.0000,9,-999.0000,9,-999.0000,9,-999.0000,9,-999.0000,9,-999.0000,9,-999.0000,-999.000,   1.0765,     -999.0,     -999.0,9,     -999.0,9,     -999.0,9,     -999.0,9,     -999.0,20110418,       0303
320620110219,       S04P,     133,          1,         11,         11,2,20110418,       0227,   -67.0000,   -75.1532,       2933,  1464.1,   1.0998,  34.7216,2,  34.7223,2,    198.3,2,   198.5,2,  111.22,2,   31.53,2,    0.00,2,    2.18,2,   0.109,2,   0.062,2,   0.015,2,   0.0490,2,  -999.0,9,  -999.0,9,-999.0000,9,  -999.00,-999.000,9,-999.0000,9,-999.000,9,   1.0994,2,    0.58,2,  -155.8,2,     2.5,-999.000,9, -999.00,9,-999.000,9, -999.00,9, -999.00,9, -67.0000, -75.1531,-999.000,     -999.0,    34.8860,2,     -999.0,9,     -999.0,9,-999.0000,9,-999.0000,9,-999.0000,9,-999.0000,9,-999.0000,9,-999.0000,9,-999.0000,9,-999.0000,9,-999.0000,9,-999.0000,-999.000,   1.0162,     -999.0,     -999.0,9,     -999.0,9,     -999.0,9,     -999.0,9,     -999.0,20110418,       0300
320620110219,       S04P,     133,          1,         10,         37,2,20110418,       0227,   -67.0000,   -75.1532,       2933,  1564.5,   1.0421,  34.7195,2,  34.7205,2,    199.1,2,   198.6,2,  113.17,2,   31.66,2,    0.00,2,    2.19,2,-999.000,9,-999.000,9,-999.000,9,-999.0000,9,  -999.0,9,  -999.0,9,-999.0000,9,  -999.00,-999.000,9,-999.0000,9,-999.000,9,   1.0425,2,    0.50,2,  -155.2,2,     2.8,-999.000,9, -999.00,9,-999.000,9, -999.00,9, -999.00,9, -67.0001, -75.1532,-999.000,     -999.0,    34.8842,2,     -999.0,9,     -999.0,9,-999.0000,9,-999.0000,9,-999.0000,9,-999.0000,9,-999.0000,9,-999.0000,9,-999.0000,9,-999.0000,9,-999.0000,9,-999.0000,-999.000,   0.9522,     -999.0,     -999.0,9,     -999.0,9,     -999.0,9,     -999.0,9,     -999.0,20110418,       0258
320620110219,       S04P,     133,          1,          9,          9,2,20110418,       0227,   -67.0000,   -75.1532,       2933,  1664.1,   0.9839,  34.7175,2,  34.7184,2,    200.3,2,   201.0,2,  114.79,2,   31.73,2,    0.00,2,    2.19,2,   0.112,2,   0.063,2,   0.011,2,   0.0260,2,  2259.5,2,  2360.9,2,   7.5998,2,    25.00,-999.000,9,-999.0000,9,-999.000,9,   0.9841,2,    0.49,2,  -156.1,2,     2.4,-999.000,9, -999.00,9,-999.000,9, -999.00,9, -999.00,9, -67.0000, -75.1532,-999.000,     -999.0,    34.8821,2,     -999.0,9,     -999.0,9,-999.0000,9,-999.0000,9,-999.0000,9,-999.0000,9,-999.0000,9,-999.0000,9,-999.0000,9,-999.0000,9,-999.0000,9,-999.0000,-999.000,   0.8876,     -999.0,     -999.0,9,     -999.0,9,     -999.0,9,     -999.0,9,     -999.0,20110418,       0255
320620110219,       S04P,     133,          1,          8,          8,2,20110418,       0227,   -67.0000,   -75.1532,       2933,  1765.9,   0.9319,  34.7156,2,  34.7164,2,    200.4,2,   200.3,2,  116.65,2,   31.80,2,    0.00,2,    2.20,2,-999.000,9,-999.000,9,-999.000,9,-999.0000,9,  -999.0,9,  -999.0,9,-999.0000,9,  -999.00,-999.000,9,-999.0000,9,-999.000,9,   0.9320,2,    0.47,2,  -158.4,2,     2.4,-999.000,9, -999.00,9,-999.000,9, -999.00,9, -999.00,9, -67.0000, -75.1532,-999.000,     -999.0,    34.8801,2,     -999.0,9,     -999.0,9,-999.0000,9,-999.0000,9,-999.0000,9,-999.0000,9,-999.0000,9,-999.0000,9,-999.0000,9,-999.0000,9,-999.0000,9,-999.0000,-999.000,   0.8290,     -999.0,     -999.0,9,     -999.0,9,     -999.0,9,     -999.0,9,     -999.0,20110418,       0253
320620110219,       S04P,     133,          1,          7,          7,2,20110418,       0227,   -67.0000,   -75.1532,       2933,  1936.7,   0.8232,  34.7119,2,  34.7129,2,    202.7,2,   202.6,2,  120.04,2,   31.90,2,    0.00,2,    2.20,2,   0.126,2,   0.066,2,   0.013,2,   0.0230,2,  -999.0,9,  -999.0,9,-999.0000,9,  -999.00,-999.000,9,-999.0000,9,-999.000,9,   0.8238,2, -999.00,9,  -999.0,9,  -999.0,-999.000,9, -999.00,9,-999.000,9, -999.00,9, -999.00,9, -67.0000, -75.1532,-999.000,     -999.0,    34.8765,2,     -999.0,9,     -999.0,9,-999.0000,9,-999.0000,9,-999.0000,9,-999.0000,9,-999.0000,9,-999.0000,9,-999.0000,9,-999.0000,9,-999.0000,9,-999.0000,-999.000,   0.7093,     -999.0,     -999.0,9,     -999.0,9,     -999.0,9,     -999.0,9,     -999.0,20110418,       0249
320620110219,       S04P,     133,          1,          6,          6,2,20110418,       0227,   -67.0000,   -75.1532,       2933,  2134.2,   0.7258,  34.7087,2,  34.7091,2,    204.3,2,   204.2,2,  122.71,2,   32.05,2,    0.00,2,    2.20,2,-999.000,9,-999.000,9,-999.000,9,-999.0000,9,  2260.3,2,  2363.6,2,   7.5959,2,    25.00,-999.000,9,-999.0000,9,-999.000,9,   0.7258,2,    0.45,2,  -158.5,2,     2.4,-999.000,9, -999.00,9,-999.000,9, -999.00,9, -999.00,9, -67.0000, -75.1532,-999.000,     -999.0,    34.8728,2,     -999.0,9,     -999.0,9,-999.0000,9,-999.0000,9,-999.0000,9,-999.0000,9,-999.0000,9,-999.0000,9,-999.0000,9,-999.0000,9,-999.0000,9,-999.0000,-999.000,   0.5984,     -999.0,     -999.0,9,     -999.0,9,     -999.0,9,     -999.0,9,     -999.0,20110418,       0245
320620110219,       S04P,     133,          1,          5,          5,2,20110418,       0227,   -67.0000,   -75.1532,       2933,  2336.3,   0.6021,  34.7062,2,  34.7076,2,    206.6,2,   206.5,2,  126.60,2,   32.22,2,    0.00,2,    2.21,2,   0.205,2,   0.098,2,   0.020,2,   0.0930,2,  -999.0,9,  -999.0,9,-999.0000,9,  -999.00,-999.000,9,-999.0000,9,-999.000,9,   0.6026,2,    0.49,2,  -160.3,2,     2.3,-999.000,9, -999.00,9,-999.000,9, -999.00,9, -999.00,9, -67.0001, -75.1532,-999.000,     -999.0,    34.8712,2,     -999.0,9,     -999.0,9,-999.0000,9,-999.0000,9,-999.0000,9,-999.0000,9,-999.0000,9,-999.0000,9,-999.0000,9,-999.0000,9,-999.0000,9,-999.0000,-999.000,   0.4610,     -999.0,     -999.0,9,     -999.0,9,     -999.0,9,     -999.0,9,     -999.0,20110418,       0240
320620110219,       S04P,     133,          1,          4,          4,2,20110418,       0227,   -67.0000,   -75.1532,       2933,  2535.3,   0.5207,  34.7043,2,  34.7050,2,    208.2,2,   208.0,2,  129.53,2,   32.32,2,    0.00,2,    2.23,2,-999.000,9,-999.000,9,-999.000,9,-999.0000,9,  -999.0,9,  -999.0,9,-999.0000,9,  -999.00,-999.000,9,-999.0000,9,-999.000,9,   0.5210,2,    0.49,2,  -162.0,2,     2.6,-999.000,9, -999.00,9,-999.000,9, -999.00,9, -999.00,9, -67.0000, -75.1531,-999.000,     -999.0,    34.8687,2,     -999.0,9,     -999.0,9,-999.0000,9,-999.0000,9,-999.0000,9,-999.0000,9,-999.0000,9,-999.0000,9,-999.0000,9,-999.0000,9,-999.0000,9,-999.0000,-999.000,   0.3651,     -999.0,     -999.0,9,     -999.0,9,     -999.0,9,     -999.0,9,     -999.0,20110418,       0236
320620110219,       S04P,     133,          1,          3,          3,2,20110418,       0227,   -67.0000,   -75.1532,       2933,  2735.4,   0.4612,  34.7022,2,  34.7050,4,    209.3,2,   209.5,2,  132.54,2,   32.45,2,    0.00,2,    2.22,2,   0.193,2,   0.101,2,   0.014,2,   0.0520,2,  2262.7,2,  -999.0,5,   7.5976,6,    25.00,-999.000,9,-999.0000,9,-999.000,9,   0.4611,2,    0.51,2,  -166.2,2,     2.7,-999.000,9, -999.00,9,-999.000,9, -999.00,9, -999.00,9, -67.0000, -75.1532,-999.000,     -999.0,    34.8687,4,     -999.0,9,     -999.0,9,-999.0000,9,-999.0000,9,-999.0000,9,-999.0000,9,-999.0000,9,-999.0000,9,-999.0000,9,-999.0000,9,-999.0000,9,-999.0000,-999.000,   0.2902,     -999.0,     -999.0,9,     -999.0,9,     -999.0,9,     -999.0,9,     -999.0,20110418,       0232
320620110219,       S04P,     133,          1,          2,          2,2,20110418,       0227,   -67.0000,   -75.1532,       2933,  2848.4,   0.4497,  34.7023,2,  34.7037,2,    209.4,2,   209.2,2,  134.41,2,   32.54,2,    0.00,2,    2.23,2,   0.190,2,   0.099,2,   0.016,2,   0.0920,2,  2262.6,2,  -999.0,9,   7.5964,2,    25.00,-999.000,9,-999.0000,9,-999.000,9,   0.4496,2,    0.46,2,  -160.4,2,     2.4,-999.000,9, -999.00,9,-999.000,9, -999.00,9, -999.00,9, -67.0000, -75.1531,-999.000,     -999.0,    34.8673,2,     -999.0,9,     -999.0,9,-999.0000,9,-999.0000,9,-999.0000,9,-999.0000,9,-999.0000,9,-999.0000,9,-999.0000,9,-999.0000,9,-999.0000,9,-999.0000,-999.000,   0.2693,     -999.0,     -999.0,9,     -999.0,9,     -999.0,9,     -999.0,9,     -999.0,20110418,       0230
320620110219,       S04P,     133,          1,          1,          1,2,20110418,       0227,   -67.0000,   -75.1532,       2933,  2965.6,   0.4371,  34.7026,2,  34.7035,2,    209.1,2,   208.9,2,  137.21,2,   32.64,2,    0.00,2,    2.24,2,   0.175,2,   0.091,2,   0.012,2,   0.0900,2,  2265.2,6,  2363.7,2,   7.5965,2,    25.00,-999.000,9,-999.0000,9,-999.000,9,   0.4369,2, -999.00,9,  -999.0,9,  -999.0,-999.000,9, -999.00,9,-999.000,9, -999.00,9, -999.00,9, -67.0000, -75.1531,-999.000,     -999.0,    34.8671,2,     -999.0,9,     -999.0,9,-999.0000,9,-999.0000,9,-999.0000,9,-999.0000,9,-999.0000,9,-999.0000,9,-999.0000,9,-999.0000,9,-999.0000,9,-999.0000,-999.000,   0.2467,     -999.0,     -999.0,9,     -999.0,9,     -999.0,9,     -999.0,9,     -999.0,20110418,       0227