BOTTLE,20220813CCHSIOAMB
EXPOCODE,SECT_ID,STNNBR,CASTNO,SAMPNO,BTLNBR,BTLNBR_FLAG_W,DATE,TIME,LATITUDE,LONGITUDE,DEPTH,CTDPRS,CTDTMP,CTDSAL,CTDSAL_FLAG_W,SALNTY,SALNTY_FLAG_W,CTDOXY,CTDOXY_FLAG_W,OXYGEN,OXYGEN_FLAG_W,SILCAT,SILCAT_FLAG_W,NITRAT,NITRAT_FLAG_W,NITRIT,NITRIT_FLAG_W,PHSPHT,PHSPHT_FLAG_W,CFC-11,CFC-11_FLAG_W,CFC-12,CFC-12_FLAG_W,CFC113,CFC113_FLAG_W,SF6,SF6_FLAG_W,TCARBN,TCARBN_FLAG_W,ALKALI,ALKALI_FLAG_W,PH_TOT,PH_TOT_FLAG_W,PH_TMP,TRITUM,TRITUM_FLAG_W,HELIUM,HELIUM_FLAG_W,DELHE3,DELHE3_FLAG_W,REFTMP,REFTMP_FLAG_W,DELC13,DELC13_FLAG_W,DELC14,DELC14_FLAG_W,C14ERR,NEON,NEON_FLAG_W,DELO18,DELO18_FLAG_W,POC,POC_FLAG_W,DOC,DOC_FLAG_W,TDN,TDN_FLAG_W,BTL_LAT,BTL_LON,TRITER,NEONER,SALTREF,SALTREF_FLAG_W,PIGMENTS,PIGMENTS_FLAG_W,LAB_DEN,LAB_DEN_FLAG_W,CDOM325,CDOM325_FLAG_W,CDOM340,CDOM340_FLAG_W,CDOM380,CDOM380_FLAG_W,CDOM412,CDOM412_FLAG_W,CDOM443,CDOM443_FLAG_W,CDOM490,CDOM490_FLAG_W,CDOM555,CDOM555_FLAG_W,CDOMSL,CDOMSL_FLAG_W,CDOMSN,CDOMSN_FLAG_W,HELIER,DELHER,THETA,LDEO_SAMPNO,ABSORBTION,ABSORBTION_FLAG_W,IMAGE_COUNT,IMAGE_COUNT_FLAG_W,CYTO_COUNT,CYTO_COUNT_FLAG_W,DELD,DELD_FLAG_W,DELDERR,BTL_DATE,BTL_TIME
,,,,,,,,,,,METERS,DBAR,ITS-90,PSS-78,,PSS-78,,UMOL/KG,,UMOL/KG,,UMOL/KG,,UMOL/KG,,UMOL/KG,,UMOL/KG,,PMOL/KG,,PMOL/KG,,PMOL/KG,,FMOL/KG,,UMOL/KG,,UMOL/KG,,,,DEG C,TU,,NMOL/KG,,PERCNT,,DEG C,,/MILLE,,/MILLE,,/MILLE,NMOL/KG,,/MILLE,,UG/KG,,UMOL/KG,,UMOL/KG,,,,TU,NMOL/KG,G/KG,,,,,,1/M,,1/M,,1/M,,1/M,,1/M,,1/M,,1/M,,1/NM,,1/NM,,NMOL/KG,PERCNT,DEG C,,,,,,,,/MILLE,,/MILLE,,
320620110219,       P16S,      61,          1,         13,         13,2,20110316,       0406,   -74.9595,  -150.0070,       3765,  1534.7,   0.8801,  34.7151,2,  34.7156,2,    200.9,2,   201.1,2,  117.43,2,   31.98,2,    0.00,2,    2.24,2,-999.000,9,-999.000,9,-999.000,9,-999.0000,9,  -999.0,9,  -999.0,9,-999.0000,9,  -999.00,-999.000,9,-999.0000,9,-999.000,9,   0.8799,2, -999.00,9,  -999.0,9,  -999.0,-999.000,9, -999.00,9,-999.000,9, -999.00,9, -999.00,9, -74.9595,-150.0070,-999.000,     -999.0,    34.8793,2,     -999.0,9,     -999.0,9,-999.0000,9,-999.0000,9,-999.0000,9,-999.0000,9,-999.0000,9,-999.0000,9,-999.0000,9,-999.0000,9,-999.0000,9,-999.0000,-999.000,   0.7942,     -999.0,     -999.0,9,     -999.0,9,     -999.0,9,     -999.0,9,     -999.0,20110316,       0456
320620110219,       P16S,      61,          1,         12,         12,2,20110316,       0406,   -74.9595,  -150.0070,       3765,  1634.8,   0.8388,  34.7135,2,  34.7141,2,    201.9,2,   202.0,2,  118.44,2,   32.08,2,    0.00,2,    2.24,2,   0.107,2,   0.054,2,   0.009,2,-999.0000,9,  -999.0,9,  -999.0,9,-999.0000,9,  -999.00,-999.000,9,-999.0000,9,-999.000,9,   0.8386,2, -999.00,9,  -999.0,9,  -999.0,-999.000,9, -999.00,9,-999.000,9, -999.00,9, -999.00,9, -74.9595,-150.0070,-999.000,     -999.0,    34.8778,2,     -999.0,9,     -999.0,9,-999.0000,9,-999.0000,9,-999.0000,9,-999.0000,9,-999.0000,9,-999.0000,9,-999.0000,9,-999.0000,9,-999.0000,9,-999.0000,-999.000,   0.7465,     -999.0,     -999.0,9,     -999.0,9,     -999.0,9,     -999.0,9,     -999.0,20110316,       0453
320620110219,       P16S,      61,          1,         11,         11,2,20110316,       0406,   -74.9595,  -150.0070,       3765,  1735.2,   0.7963,  34.7120,2,  34.7127,2,    202.7,2,   202.8,2,  120.51,2,   32.07,2,    0.00,2,    2.24,2,-999.000,9,-999.000,9,-999.000,9,-999.0000,9,  -999.0,9,  -999.0,9,-999.0000,9,  -999.00,-999.000,9,-999.0000,9,-999.000,9,   0.7962,2, -999.00,9,  -999.0,9,  -999.0,-999.000,9, -999.00,9,-999.000,9, -999.00,9, -999.00,9, -74.9595,-150.0069,-999.000,     -999.0,    34.8764,2,     -999.0,9,     -999.0,9,-999.0000,9,-999.0000,9,-999.0000,9,-999.0000,9,-999.0000,9,-999.0000,9,-999.0000,9,-999.0000,9,-999.0000,9,-999.0000,-999.000,   0.6975,     -999.0,     -999.0,9,     -999.0,9,     -999.0,9,     -999.0,9,     -999.0,20110316,       0451
320620110219,       P16S,      61,          1,         10,         37,2,20110316,       0406,   -74.9595,  -150.0070,       3765,  1864.4,   0.7475,  34.7103,2,  34.7104,2,    203.9,2,   204.2,2,  121.77,2,   32.18,2,    0.00,2,    2.24,2,-999.000,9,-999.000,9,-999.000,9,-999.0000,9,  2260.5,2,  2360.8,2,   7.5943,2,    25.00,-999.000,9,-999.0000,9,-999.000,9,   0.7480,2, -999.00,9,  -999.0,9,  -999.0,-999.000,9, -999.00,9,-999.000,9, -999.00,9, -999.00,9, -74.9595,-150.0069,-999.000,     -999.0,    34.8740,2,     -999.0,9,     -999.0,9,-999.0000,9,-999.0000,9,-999.0000,9,-999.0000,9,-999.0000,9,-999.0000,9,-999.0000,9,-999.0000,9,-999.0000,9,-999.0000,-999.000,   0.6400,     -999.0,     -999.0,9,     -999.0,9,     -999.0,9,     -999.0,9,     -999.0,20110316,       0447
320620110219,       P16S,      61,          1,          9,          9,2,20110316,       0406,   -74.9595,  -150.0070,       3765,  2085.0,   0.6791,  34.7085,2,  34.7100,4,    205.5,2,   205.6,2,  124.07,2,   32.30,2,    0.00,2,    2.24,2,-999.000,9,-999.000,9,-999.000,9,-999.0000,9,  -999.0,9,  -999.0,9,-999.0000,9,  -999.00,-999.000,9,-999.0000,9,-999.000,9,   0.6794,2, -999.00,9,  -999.0,9,  -999.0,-999.000,9, -999.00,9,-999.000,9, -999.00,9, -999.00,9, -74.9595,-150.0070,-999.000,     -999.0,    34.8736,4,     -999.0,9,     -999.0,9,-999.0000,9,-999.0000,9,-999.0000,9,-999.0000,9,-999.0000,9,-999.0000,9,-999.0000,9,-999.0000,9,-999.0000,9,-999.0000,-999.000,   0.5563,     -999.0,     -999.0,9,     -999.0,9,     -999.0,9,     -999.0,9,     -999.0,20110316,       0443
320620110219,       P16S,      61,          1,          8,          8,2,20110316,       0406,   -74.9595,  -150.0070,       3765,  2334.5,   0.6076,  34.7072,2,  34.7070,2,    206.8,2,   207.1,2,  126.94,2,   32.39,2,    0.00,2,    2.25,2,   0.137,2,   0.062,2,   0.010,2,-999.0000,9,  2261.2,2,  2361.1,2,   7.5934,2,    25.00,-999.000,9,-999.0000,9,-999.000,9,   0.6076,2, -999.00,9,  -999.0,9,  -999.0,-999.000,9, -999.00,9,-999.000,9, -999.00,9, -999.00,9, -74.9595,-150.0070,-999.000,     -999.0,    34.8707,2,     -999.0,9,     -999.0,9,-999.0000,9,-999.0000,9,-999.0000,9,-999.0000,9,-999.0000,9,-999.0000,9,-999.0000,9,-999.0000,9,-999.0000,9,-999.0000,-999.000,   0.4666,     -999.0,     -999.0,9,     -999.0,9,     -999.0,9,     -999.0,9,     -999.0,20110316,       0438
320620110219,       P16S,      61,          1,          7,          7,2,20110316,       0406,   -74.9595,  -150.0070,       3765,  2583.9,   0.5536,  34.7062,2,  34.7066,2,    208.3,2,   208.2,2,  128.85,2,   32.48,2,    0.00,2,    2.25,2,-999.000,9,-999.000,9,-999.000,9,-999.0000,9,  -999.0,9,  -999.0,9,-999.0000,9,  -999.00,-999.000,9,-999.0000,9,-999.000,9,   0.5540,2, -999.00,9,  -999.0,9,  -999.0,-999.000,9, -999.00,9,-999.000,9, -999.00,9, -999.00,9, -74.9595,-150.0069,-999.000,     -999.0,    34.8703,2,     -999.0,9,     -999.0,9,-999.0000,9,-999.0000,9,-999.0000,9,-999.0000,9,-999.0000,9,-999.0000,9,-999.0000,9,-999.0000,9,-999.0000,9,-999.0000,-999.000,   0.3934,     -999.0,     -999.0,9,     -999.0,9,     -999.0,9,     -999.0,9,     -999.0,20110316,       0433
320620110219,       P16S,      61,          1,          6,          6,2,20110316,       0406,   -74.9595,  -150.0070,       3765,  2835.2,   0.5132,  34.7053,2,  34.7054,2,    209.2,2,   209.1,2,  131.15,2,   32.57,2,    0.00,2,    2.26,2,   0.153,2,   0.077,2,   0.009,2,-999.0000,9,  2262.2,2,  2362.2,2,   7.5937,2,    25.00,-999.000,9,-999.0000,9,-999.000,9,   0.5138,2, -999.00,9,  -999.0,9,  -999.0,-999.000,9, -999.00,9,-999.000,9, -999.00,9, -999.00,9, -74.9595,-150.0070,-999.000,     -999.0,    34.8691,2,     -999.0,9,     -999.0,9,-999.0000,9,-999.0000,9,-999.0000,9,-999.0000,9,-999.0000,9,-999.0000,9,-999.0000,9,-999.0000,9,-999.0000,9,-999.0000,-999.000,   0.3325,     -999.0,     -999.0,9,     -999.0,9,     -999.0,9,     -999.0,9,     -999.0,20110316,       0428
320620110219,       P16S,      61,          1,          5,          5,2,20110316,       0406,   -74.9595,  -150.0070,       3765,  3084.9,   0.4683,  34.7042,2,  34.7039,2,    210.7,2,   210.2,2,  131.63,2,   32.72,2,    0.00,2,    2.25,2,-999.000,9,-999.000,9,-999.000,9,-999.0000,9,  -999.0,9,  -999.0,9,-999.0000,9,  -999.00,-999.000,9,-999.0000,9,-999.000,9,   0.4688,2, -999.00,9,  -999.0,9,  -999.0,-999.000,9, -999.00,9,-999.000,9, -999.00,9, -999.00,9, -74.9595,-150.0070,-999.000,     -999.0,    34.8675,2,     -999.0,9,     -999.0,9,-999.0000,9,-999.0000,9,-999.0000,9,-999.0000,9,-999.0000,9,-999.0000,9,-999.0000,9,-999.0000,9,-999.0000,9,-999.0000,-999.000,   0.2667,     -999.0,     -999.0,9,     -999.0,9,     -999.0,9,     -999.0,9,     -999.0,20110316,       0423
320620110219,       P16S,      61,          1,          4,          4,2,20110316,       0406,   -74.9595,  -150.0070,       3765,  3335.0,   0.4274,  34.7038,2,  34.7041,2,    211.9,2,   212.4,2,  134.34,2,   32.72,2,    0.00,2,    2.26,2,   0.159,2,   0.079,2,   0.007,2,-999.0000,9,  2262.0,2,  2363.3,6,   7.5922,2,    25.00,-999.000,9,-999.0000,9,-999.000,9,   0.4273,2, -999.00,9,  -999.0,9,  -999.0,-999.000,9, -999.00,9,-999.000,9, -999.00,9, -999.00,9, -74.9595,-150.0070,-999.000,     -999.0,    34.8677,2,     -999.0,9,     -999.0,9,-999.0000,9,-999.0000,9,-999.0000,9,-999.0000,9,-999.0000,9,-999.0000,9,-999.0000,9,-999.0000,9,-999.0000,9,-999.0000,-999.000,   0.2039,     -999.0,     -999.0,9,     -999.0,9,     -999.0,9,     -999.0,9,     -999.0,20110316,       0417
320620110219,       P16S,      61,          1,          3,          3,2,20110316,       0406,   -74.9595,  -150.0070,       3765,  3585.0,   0.3716,  34.7029,2,  34.7033,2,    213.7,2,   214.0,2,  136.27,2,   32.81,2,    0.00,2,    2.25,2,   0.188,2,   0.089,2,   0.009,2,-999.0000,9,  2262.5,2,  2363.5,2,   7.5917,2,    25.00,-999.000,9,-999.0000,9,-999.000,9,   0.3713,2, -999.00,9,  -999.0,9,  -999.0,-999.000,9, -999.00,9,-999.000,9, -999.00,9, -999.00,9, -74.9595,-150.0070,-999.000,     -999.0,    34.8669,2,     -999.0,9,     -999.0,9,-999.0000,9,-999.0000,9,-999.0000,9,-999.0000,9,-999.0000,9,-999.0000,9,-999.0000,9,-999.0000,9,-999.0000,9,-999.0000,-999.000,   0.1258,     -999.0,     -999.0,9,     -999.0,9,     -999.0,9,     -999.0,9,     -999.0,20110316,       0412
320620110219,       P16S,      61,          1,          2,          2,2,20110316,       0406,   -74.9595,  -150.0070,       3765,  3724.8,   0.3279,  34.7019,2,  34.7013,2,    214.6,2,   214.5,2,  137.93,2,   32.80,2,    0.00,2,    2.25,2,   0.274,2,   0.132,2,   0.009,2,-999.0000,9,  2262.5,2,  2362.4,2,   7.5913,6,    25.00,-999.000,9,-999.0000,9,-999.000,9,   0.3274,2, -999.00,9,  -999.0,9,  -999.0,-999.000,9, -999.00,9,-999.000,9, -999.00,9, -999.00,9, -74.9595,-150.0070,-999.000,     -999.0,    34.8650,2,     -999.0,9,     -999.0,9,-999.0000,9,-999.0000,9,-999.0000,9,-999.0000,9,-999.0000,9,-999.0000,9,-999.0000,9,-999.0000,9,-999.0000,9,-999.0000,-999.000,   0.0697,     -999.0,     -999.0,9,     -999.0,9,     -999.0,9,     -999.0,9,     -999.0,20110316,       0409
320620110219,       P16S,      61,          1,          1,          1,2,20110316,       0406,   -74.9595,  -150.0070,       3765,  3827.6,   0.2192,  34.6983,2,  34.6992,2,    217.5,2,   217.6,2,  131.24,2,   32.79,2,    0.00,2,    2.27,2,   0.621,2,   0.300,2,   0.028,2,-999.0000,9,  2261.2,6,  2359.9,2,   7.5875,2,    25.00,-999.000,9,-999.0000,9,-999.000,9,   0.2185,2, -999.00,9,  -999.0,9,  -999.0,-999.000,9, -999.00,9,-999.000,9, -999.00,9, -999.00,9, -74.9595,-150.0069,-999.000,     -999.0,    34.8628,2,     -999.0,9,     -999.0,9,-999.0000,9,-999.0000,9,-999.0000,9,-999.0000,9,-999.0000,9,-999.0000,9,-999.0000,9,-999.0000,9,-999.0000,9,-999.0000,-999.000,  -0.0462,     -999.0,     -999.0,9,     -999.0,9,     -999.0,9,     -999.0,9,     -999.0,20110316,       0406