BOTTLE,20220813CCHSIOAMB
EXPOCODE,SECT_ID,STNNBR,CASTNO,SAMPNO,BTLNBR,BTLNBR_FLAG_W,DATE,TIME,LATITUDE,LONGITUDE,DEPTH,CTDPRS,CTDTMP,CTDSAL,CTDSAL_FLAG_W,SALNTY,SALNTY_FLAG_W,CTDOXY,CTDOXY_FLAG_W,OXYGEN,OXYGEN_FLAG_W,SILCAT,SILCAT_FLAG_W,NITRAT,NITRAT_FLAG_W,NITRIT,NITRIT_FLAG_W,PHSPHT,PHSPHT_FLAG_W,CFC-11,CFC-11_FLAG_W,CFC-12,CFC-12_FLAG_W,CFC113,CFC113_FLAG_W,SF6,SF6_FLAG_W,TCARBN,TCARBN_FLAG_W,ALKALI,ALKALI_FLAG_W,PH_TOT,PH_TOT_FLAG_W,PH_TMP,TRITUM,TRITUM_FLAG_W,HELIUM,HELIUM_FLAG_W,DELHE3,DELHE3_FLAG_W,REFTMP,REFTMP_FLAG_W,DELC13,DELC13_FLAG_W,DELC14,DELC14_FLAG_W,C14ERR,NEON,NEON_FLAG_W,DELO18,DELO18_FLAG_W,POC,POC_FLAG_W,DOC,DOC_FLAG_W,TDN,TDN_FLAG_W,BTL_LAT,BTL_LON,TRITER,NEONER,SALTREF,SALTREF_FLAG_W,PIGMENTS,PIGMENTS_FLAG_W,LAB_DEN,LAB_DEN_FLAG_W,CDOM325,CDOM325_FLAG_W,CDOM340,CDOM340_FLAG_W,CDOM380,CDOM380_FLAG_W,CDOM412,CDOM412_FLAG_W,CDOM443,CDOM443_FLAG_W,CDOM490,CDOM490_FLAG_W,CDOM555,CDOM555_FLAG_W,CDOMSL,CDOMSL_FLAG_W,CDOMSN,CDOMSN_FLAG_W,HELIER,DELHER,THETA,LDEO_SAMPNO,ABSORBTION,ABSORBTION_FLAG_W,IMAGE_COUNT,IMAGE_COUNT_FLAG_W,CYTO_COUNT,CYTO_COUNT_FLAG_W,DELD,DELD_FLAG_W,DELDERR,BTL_DATE,BTL_TIME
,,,,,,,,,,,METERS,DBAR,ITS-90,PSS-78,,PSS-78,,UMOL/KG,,UMOL/KG,,UMOL/KG,,UMOL/KG,,UMOL/KG,,UMOL/KG,,PMOL/KG,,PMOL/KG,,PMOL/KG,,FMOL/KG,,UMOL/KG,,UMOL/KG,,,,DEG C,TU,,NMOL/KG,,PERCNT,,DEG C,,/MILLE,,/MILLE,,/MILLE,NMOL/KG,,/MILLE,,UG/KG,,UMOL/KG,,UMOL/KG,,,,TU,NMOL/KG,G/KG,,,,,,1/M,,1/M,,1/M,,1/M,,1/M,,1/M,,1/M,,1/NM,,1/NM,,NMOL/KG,PERCNT,DEG C,,,,,,,,/MILLE,,/MILLE,,
320620110219,       P16S,      63,          1,         13,         13,2,20110316,       1722,   -75.4537,  -150.0680,       3306,  1500.4,   0.8230,  34.7132,2,  34.7141,2,    201.5,2,   201.3,2,  119.60,2,   32.28,2,    0.00,2,    2.26,2,-999.000,9,-999.000,9,-999.000,9,-999.0000,9,  -999.0,9,  -999.0,9,-999.0000,9,  -999.00,-999.000,9,-999.0000,9,-999.000,9,   0.8230,2, -999.00,9,  -999.0,9,  -999.0,-999.000,9,    0.02,2,-999.000,9, -999.00,9, -999.00,9, -75.4539,-150.0977,-999.000,     -999.0,    34.8778,2,     -999.0,9,     -999.0,9,-999.0000,9,-999.0000,9,-999.0000,9,-999.0000,9,-999.0000,9,-999.0000,9,-999.0000,9,-999.0000,9,-999.0000,9,-999.0000,-999.000,   0.7402,     -999.0,     -999.0,9,     -999.0,9,     -999.0,9,      -1.79,2,       0.43,20110316,       1808
320620110219,       P16S,      63,          1,         12,         12,2,20110316,       1722,   -75.4537,  -150.0680,       3306,  1599.5,   0.7753,  34.7117,2,  34.7115,2,    202.4,2,   202.7,2,  121.19,2,   32.24,2,    0.00,2,    2.26,2,   0.103,2,   0.054,2,   0.006,2,-999.0000,9,  -999.0,9,  -999.0,9,-999.0000,9,  -999.00,-999.000,9,-999.0000,9,-999.000,9,   0.7751,2, -999.00,9,  -999.0,9,  -999.0,-999.000,9,   -0.60,3,-999.000,9, -999.00,9, -999.00,9, -75.4539,-150.0959,-999.000,     -999.0,    34.8752,2,     -999.0,9,     -999.0,9,-999.0000,9,-999.0000,9,-999.0000,9,-999.0000,9,-999.0000,9,-999.0000,9,-999.0000,9,-999.0000,9,-999.0000,9,-999.0000,-999.000,   0.6863,     -999.0,     -999.0,9,     -999.0,9,     -999.0,9,      -2.32,2,       0.07,20110316,       1805
320620110219,       P16S,      63,          1,         11,         11,2,20110316,       1722,   -75.4537,  -150.0680,       3306,  1700.3,   0.7442,  34.7111,2,  34.7103,2,    203.2,2,   203.0,2,  121.89,2,   32.33,2,    0.00,2,    2.26,2,-999.000,9,-999.000,9,-999.000,9,-999.0000,9,  2261.9,2,  2359.3,2,   7.5947,2,    25.00,-999.000,9,-999.0000,9,-999.000,9,   0.7440,2, -999.00,9,  -999.0,9,  -999.0,-999.000,9,   -0.70,3,-999.000,9, -999.00,9, -999.00,9, -75.4538,-150.0935,-999.000,     -999.0,    34.8740,2,     -999.0,9,     -999.0,9,-999.0000,9,-999.0000,9,-999.0000,9,-999.0000,9,-999.0000,9,-999.0000,9,-999.0000,9,-999.0000,9,-999.0000,9,-999.0000,-999.000,   0.6486,     -999.0,     -999.0,9,     -999.0,9,     -999.0,9,      -2.66,2,       0.02,20110316,       1802
320620110219,       P16S,      63,          1,         10,         37,2,20110316,       1722,   -75.4537,  -150.0680,       3306,  1801.5,   0.7052,  34.7100,2,  34.7091,2,    204.1,2,   204.0,2,  123.27,2,   32.34,2,    0.00,2,    2.26,2,-999.000,9,-999.000,9,-999.000,9,-999.0000,9,  -999.0,9,  -999.0,9,-999.0000,9,  -999.00,-999.000,9,-999.0000,9,-999.000,9,   0.7052,2, -999.00,9,  -999.0,9,  -999.0,-999.000,9,   -0.62,3,-999.000,9, -999.00,9, -999.00,9, -75.4539,-150.0917,-999.000,     -999.0,    34.8728,2,     -999.0,9,     -999.0,9,-999.0000,9,-999.0000,9,-999.0000,9,-999.0000,9,-999.0000,9,-999.0000,9,-999.0000,9,-999.0000,9,-999.0000,9,-999.0000,-999.000,   0.6029,     -999.0,     -999.0,9,     -999.0,9,     -999.0,9,      -2.56,2,       0.10,20110316,       1759
320620110219,       P16S,      63,          1,          9,          9,2,20110316,       1722,   -75.4537,  -150.0680,       3306,  2001.3,   0.6376,  34.7081,2,  34.7093,3,    205.2,2,   205.2,2,  125.60,2,   32.33,2,    0.00,2,    2.27,2,-999.000,9,-999.000,9,-999.000,9,-999.0000,9,  -999.0,9,  -999.0,9,-999.0000,9,  -999.00,-999.000,9,-999.0000,9,-999.000,9,   0.6375,2, -999.00,9,  -999.0,9,  -999.0,-999.000,9,   -0.62,3,-999.000,9, -999.00,9, -999.00,9, -75.4542,-150.0897,-999.000,     -999.0,    34.8730,3,     -999.0,9,     -999.0,9,-999.0000,9,-999.0000,9,-999.0000,9,-999.0000,9,-999.0000,9,-999.0000,9,-999.0000,9,-999.0000,9,-999.0000,9,-999.0000,-999.000,   0.5217,     -999.0,     -999.0,9,     -999.0,9,     -999.0,9,      -2.85,2,       0.08,20110316,       1754
320620110219,       P16S,      63,          1,          8,          8,2,20110316,       1722,   -75.4537,  -150.0680,       3306,  2200.3,   0.5860,  34.7072,2,  34.7064,2,    206.2,2,   207.3,2,  127.37,2,   32.45,2,    0.00,2,    2.27,2,   0.121,2,   0.063,2,   0.007,2,-999.0000,9,  2262.3,2,  2365.3,4,   7.5947,2,    25.00,-999.000,9,-999.0000,9,-999.000,9,   0.5859,2, -999.00,9,  -999.0,9,  -999.0,-999.000,9,   -0.46,3,-999.000,9, -999.00,9, -999.00,9, -75.4542,-150.0864,-999.000,     -999.0,    34.8700,2,     -999.0,9,     -999.0,9,-999.0000,9,-999.0000,9,-999.0000,9,-999.0000,9,-999.0000,9,-999.0000,9,-999.0000,9,-999.0000,9,-999.0000,9,-999.0000,-999.000,   0.4559,     -999.0,     -999.0,9,     -999.0,9,     -999.0,9,      -2.67,2,       0.14,20110316,       1749
320620110219,       P16S,      63,          1,          7,          7,2,20110316,       1722,   -75.4537,  -150.0680,       3306,  2400.0,   0.5569,  34.7064,2,  34.7061,2,    206.8,2,   207.2,2,  128.85,2,   32.60,2,    0.00,2,    2.28,2,-999.000,9,-999.000,9,-999.000,9,-999.0000,9,  -999.0,9,  -999.0,9,-999.0000,9,  -999.00,-999.000,9,-999.0000,9,-999.000,9,   0.5566,2, -999.00,9,  -999.0,9,  -999.0,-999.000,9,   -0.66,3,-999.000,9, -999.00,9, -999.00,9, -75.4539,-150.0825,-999.000,     -999.0,    34.8698,2,     -999.0,9,     -999.0,9,-999.0000,9,-999.0000,9,-999.0000,9,-999.0000,9,-999.0000,9,-999.0000,9,-999.0000,9,-999.0000,9,-999.0000,9,-999.0000,-999.000,   0.4116,     -999.0,     -999.0,9,     -999.0,9,     -999.0,9,      -3.63,2,       0.14,20110316,       1745
320620110219,       P16S,      63,          1,          6,          6,2,20110316,       1722,   -75.4537,  -150.0680,       3306,  2600.7,   0.5475,  34.7060,2,  34.7059,2,    207.4,2,   207.7,2,  129.70,2,   32.60,2,    0.00,2,    2.28,2,   0.114,2,   0.061,2,   0.009,2,-999.0000,9,  -999.0,9,  -999.0,9,-999.0000,9,  -999.00,-999.000,9,-999.0000,9,-999.000,9,   0.5472,2, -999.00,9,  -999.0,9,  -999.0,-999.000,9,    0.20,3,-999.000,9, -999.00,9, -999.00,9, -75.4539,-150.0797,-999.000,     -999.0,    34.8696,2,     -999.0,9,     -999.0,9,-999.0000,9,-999.0000,9,-999.0000,9,-999.0000,9,-999.0000,9,-999.0000,9,-999.0000,9,-999.0000,9,-999.0000,9,-999.0000,-999.000,   0.3860,     -999.0,     -999.0,9,     -999.0,9,     -999.0,9,      -1.22,2,       0.08,20110316,       1741
320620110219,       P16S,      63,          1,          5,          5,2,20110316,       1722,   -75.4537,  -150.0680,       3306,  2799.3,   0.5232,  34.7053,2,  34.7047,2,    208.3,2,   209.3,2,  130.85,2,   32.74,2,    0.00,2,    2.27,2,-999.000,9,-999.000,9,-999.000,9,-999.0000,9,  2262.7,2,  2361.2,2,   7.5939,2,    25.00,-999.000,9,-999.0000,9,-999.000,9,   0.5228,2, -999.00,9,  -999.0,9,  -999.0,-999.000,9,   -0.04,2,-999.000,9, -999.00,9, -999.00,9, -75.4536,-150.0761,-999.000,     -999.0,    34.8684,2,     -999.0,9,     -999.0,9,-999.0000,9,-999.0000,9,-999.0000,9,-999.0000,9,-999.0000,9,-999.0000,9,-999.0000,9,-999.0000,9,-999.0000,9,-999.0000,-999.000,   0.3454,     -999.0,     -999.0,9,     -999.0,9,     -999.0,9,      -1.96,2,       0.05,20110316,       1736
320620110219,       P16S,      63,          1,          4,          4,2,20110316,       1722,   -75.4537,  -150.0680,       3306,  3000.8,   0.4878,  34.7047,2,  34.7045,2,    209.2,2,   209.5,2,  132.05,2,   32.83,2,    0.00,2,    2.27,2,   0.126,2,   0.065,2,   0.007,2,-999.0000,9,  2263.3,2,  2360.5,2,   7.5941,2,    25.00,-999.000,9,-999.0000,9,-999.000,9,   0.4873,2, -999.00,9,  -999.0,9,  -999.0,-999.000,9,   -0.03,2,-999.000,9, -999.00,9, -999.00,9, -75.4534,-150.0728,-999.000,     -999.0,    34.8682,2,     -999.0,9,     -999.0,9,-999.0000,9,-999.0000,9,-999.0000,9,-999.0000,9,-999.0000,9,-999.0000,9,-999.0000,9,-999.0000,9,-999.0000,9,-999.0000,-999.000,   0.2932,     -999.0,     -999.0,9,     -999.0,9,     -999.0,9,      -1.85,2,       0.10,20110316,       1732
320620110219,       P16S,      63,          1,          3,          3,2,20110316,       1722,   -75.4537,  -150.0680,       3306,  3201.2,   0.4502,  34.7040,2,  34.7033,2,    210.3,2,   210.0,2,  133.93,2,   32.82,2,    0.00,2,    2.28,2,   0.137,2,   0.072,2,   0.007,2,-999.0000,9,  2263.0,2,  2361.2,2,   7.5935,2,    25.00,-999.000,9,-999.0000,9,-999.000,9,   0.4498,2, -999.00,9,  -999.0,9,  -999.0,-999.000,9,   -0.07,2,-999.000,9, -999.00,9, -999.00,9, -75.4537,-150.0714,-999.000,     -999.0,    34.8670,2,     -999.0,9,     -999.0,9,-999.0000,9,-999.0000,9,-999.0000,9,-999.0000,9,-999.0000,9,-999.0000,9,-999.0000,9,-999.0000,9,-999.0000,9,-999.0000,-999.000,   0.2384,     -999.0,     -999.0,9,     -999.0,9,     -999.0,9,      -2.00,2,       0.04,20110316,       1727
320620110219,       P16S,      63,          1,          2,          2,2,20110316,       1722,   -75.4537,  -150.0680,       3306,  3300.3,   0.4163,  34.7034,2,  34.7029,2,    211.2,2,   210.9,2,  135.02,2,   32.87,2,    0.00,2,    2.28,2,   0.174,2,   0.082,2,   0.009,2,-999.0000,9,  2263.2,2,  2361.7,2,   7.5936,6,    25.00,-999.000,9,-999.0000,9,-999.000,9,   0.4168,2, -999.00,9,  -999.0,9,  -999.0,-999.000,9,   -0.12,2,-999.000,9, -999.00,9, -999.00,9, -75.4538,-150.0700,-999.000,     -999.0,    34.8666,2,     -999.0,9,     -999.0,9,-999.0000,9,-999.0000,9,-999.0000,9,-999.0000,9,-999.0000,9,-999.0000,9,-999.0000,9,-999.0000,9,-999.0000,9,-999.0000,-999.000,   0.1963,     -999.0,     -999.0,9,     -999.0,9,     -999.0,9,      -2.26,2,       0.19,20110316,       1725
320620110219,       P16S,      63,          1,          1,          1,2,20110316,       1722,   -75.4537,  -150.0680,       3306,  3356.9,   0.3883,  34.7029,2,  34.7021,2,    211.7,2,   212.0,2,  135.63,2,   32.81,2,    0.00,2,    2.29,2,   0.251,2,   0.124,2,   0.010,2,-999.0000,9,  2263.8,6,  2360.6,2,   7.5934,2,    25.00,-999.000,9,-999.0000,9,-999.000,9,   0.3877,2, -999.00,9,  -999.0,9,  -999.0,-999.000,9,   -0.22,2,-999.000,9, -999.00,9, -999.00,9, -75.4537,-150.0685,-999.000,     -999.0,    34.8658,2,     -999.0,9,     -999.0,9,-999.0000,9,-999.0000,9,-999.0000,9,-999.0000,9,-999.0000,9,-999.0000,9,-999.0000,9,-999.0000,9,-999.0000,9,-999.0000,-999.000,   0.1637,     -999.0,     -999.0,9,     -999.0,9,     -999.0,9,      -3.19,2,       0.23,20110316,       1722