BOTTLE,20220813CCHSIOAMB
EXPOCODE,SECT_ID,STNNBR,CASTNO,SAMPNO,BTLNBR,BTLNBR_FLAG_W,DATE,TIME,LATITUDE,LONGITUDE,DEPTH,CTDPRS,CTDTMP,CTDSAL,CTDSAL_FLAG_W,SALNTY,SALNTY_FLAG_W,CTDOXY,CTDOXY_FLAG_W,OXYGEN,OXYGEN_FLAG_W,SILCAT,SILCAT_FLAG_W,NITRAT,NITRAT_FLAG_W,NITRIT,NITRIT_FLAG_W,PHSPHT,PHSPHT_FLAG_W,CFC-11,CFC-11_FLAG_W,CFC-12,CFC-12_FLAG_W,CFC113,CFC113_FLAG_W,SF6,SF6_FLAG_W,TCARBN,TCARBN_FLAG_W,ALKALI,ALKALI_FLAG_W,PH_TOT,PH_TOT_FLAG_W,PH_TMP,TRITUM,TRITUM_FLAG_W,HELIUM,HELIUM_FLAG_W,DELHE3,DELHE3_FLAG_W,REFTMP,REFTMP_FLAG_W,DELC13,DELC13_FLAG_W,DELC14,DELC14_FLAG_W,C14ERR,NEON,NEON_FLAG_W,DELO18,DELO18_FLAG_W,POC,POC_FLAG_W,DOC,DOC_FLAG_W,TDN,TDN_FLAG_W,BTL_LAT,BTL_LON,TRITER,NEONER,SALTREF,SALTREF_FLAG_W,PIGMENTS,PIGMENTS_FLAG_W,LAB_DEN,LAB_DEN_FLAG_W,CDOM325,CDOM325_FLAG_W,CDOM340,CDOM340_FLAG_W,CDOM380,CDOM380_FLAG_W,CDOM412,CDOM412_FLAG_W,CDOM443,CDOM443_FLAG_W,CDOM490,CDOM490_FLAG_W,CDOM555,CDOM555_FLAG_W,CDOMSL,CDOMSL_FLAG_W,CDOMSN,CDOMSN_FLAG_W,HELIER,DELHER,THETA,LDEO_SAMPNO,ABSORBTION,ABSORBTION_FLAG_W,IMAGE_COUNT,IMAGE_COUNT_FLAG_W,CYTO_COUNT,CYTO_COUNT_FLAG_W,DELD,DELD_FLAG_W,DELDERR,BTL_DATE,BTL_TIME
,,,,,,,,,,,METERS,DBAR,ITS-90,PSS-78,,PSS-78,,UMOL/KG,,UMOL/KG,,UMOL/KG,,UMOL/KG,,UMOL/KG,,UMOL/KG,,PMOL/KG,,PMOL/KG,,PMOL/KG,,FMOL/KG,,UMOL/KG,,UMOL/KG,,,,DEG C,TU,,NMOL/KG,,PERCNT,,DEG C,,/MILLE,,/MILLE,,/MILLE,NMOL/KG,,/MILLE,,UG/KG,,UMOL/KG,,UMOL/KG,,,,TU,NMOL/KG,G/KG,,,,,,1/M,,1/M,,1/M,,1/M,,1/M,,1/M,,1/M,,1/NM,,1/NM,,NMOL/KG,PERCNT,DEG C,,,,,,,,/MILLE,,/MILLE,,
320620110219,       S04P,      37,          2,         36,         36,2,20110308,       1123,   -67.0006,  -160.1040,       3993,     4.5,  -0.6722,  33.6440,2,  33.6446,2,    338.7,3,   344.6,2,   48.23,2,   21.51,2,    0.12,2,    1.50,2,   6.069,2,   3.372,2,   0.618,2,   2.5270,2,  2141.5,6,  2280.7,2,   7.7188,2,    25.00,-999.000,9,-999.0000,9,-999.000,9,  -0.6727,2, -999.00,9,  -999.0,9,  -999.0,-999.000,9, -999.00,9,-999.000,9, -999.00,9, -999.00,9, -67.0006,-160.1040,-999.000,     -999.0,    33.8032,2,     -999.0,9,     -999.0,9,-999.0000,9,-999.0000,9,-999.0000,9,-999.0000,9,-999.0000,9,-999.0000,9,-999.0000,9,-999.0000,9,-999.0000,9,-999.0000,-999.000,  -0.6723,     -999.0,     -999.0,9,     -999.0,9,     -999.0,9,     -999.0,9,     -999.0,20110308,       1308
320620110219,       S04P,      37,          2,         35,         35,2,20110308,       1123,   -67.0006,  -160.1040,       3993,    35.9,  -0.6532,  33.6464,2,  33.6473,2,    345.4,2,   344.1,2,   48.21,2,   21.55,2,    0.11,2,    1.50,2,   6.074,2,   3.347,2,   0.591,2,   2.5810,2,  2142.7,2,  2280.3,2,   7.7186,6,    25.00,-999.000,9,-999.0000,9,-999.000,9,  -0.6533,2, -999.00,9,  -999.0,9,  -999.0,-999.000,9, -999.00,9,-999.000,9, -999.00,9, -999.00,9, -67.0006,-160.1040,-999.000,     -999.0,    33.8060,2,     -999.0,9,     -999.0,9,-999.0000,9,-999.0000,9,-999.0000,9,-999.0000,9,-999.0000,9,-999.0000,9,-999.0000,9,-999.0000,9,-999.0000,9,-999.0000,-999.000,  -0.6542,     -999.0,     -999.0,9,     -999.0,9,     -999.0,9,     -999.0,9,     -999.0,20110308,       1306
320620110219,       S04P,      37,          2,         34,         34,2,20110308,       1123,   -67.0006,  -160.1040,       3993,    58.8,  -1.5140,  34.0916,2,  34.0809,2,    297.8,2,   297.7,2,   60.55,2,   27.50,2,    0.21,2,    1.97,2,   4.804,2,   2.647,2,   0.463,2,   1.9060,2,  2194.9,2,  2303.6,6,   7.6262,2,    25.00,-999.000,9,-999.0000,9,-999.000,9,  -1.4791,2, -999.00,9,  -999.0,9,  -999.0,-999.000,9, -999.00,9,-999.000,9, -999.00,9, -999.00,9, -67.0006,-160.1040,-999.000,     -999.0,    34.2416,2,     -999.0,9,     -999.0,9,-999.0000,9,-999.0000,9,-999.0000,9,-999.0000,9,-999.0000,9,-999.0000,9,-999.0000,9,-999.0000,9,-999.0000,9,-999.0000,-999.000,  -1.5153,     -999.0,     -999.0,9,     -999.0,9,     -999.0,9,     -999.0,9,     -999.0,20110308,       1304
320620110219,       S04P,      37,          2,         33,         33,2,20110308,       1123,   -67.0006,  -160.1040,       3993,    84.0,  -1.3594,  34.2270,2,  34.2111,2,    281.8,2,   281.1,2,   64.02,2,   29.34,2,    0.14,2,    2.03,2,   4.335,2,   2.363,2,   0.408,2,   1.4950,2,  2207.9,2,  2311.1,2,   7.6094,4,    25.00,-999.000,9,-999.0000,9,-999.000,9,  -1.3547,2, -999.00,9,  -999.0,9,  -999.0,-999.000,9, -999.00,9,-999.000,9, -999.00,9, -999.00,9, -67.0006,-160.1040,-999.000,     -999.0,    34.3724,2,     -999.0,9,     -999.0,9,-999.0000,9,-999.0000,9,-999.0000,9,-999.0000,9,-999.0000,9,-999.0000,9,-999.0000,9,-999.0000,9,-999.0000,9,-999.0000,-999.000,  -1.3614,     -999.0,     -999.0,9,     -999.0,9,     -999.0,9,     -999.0,9,     -999.0,20110308,       1302
320620110219,       S04P,      37,          2,         32,         32,2,20110308,       1123,   -67.0006,  -160.1040,       3993,   110.0,  -0.1735,  34.4080,2,  34.3999,2,    246.8,2,   237.8,2,   74.39,2,   31.26,2,    0.06,2,    2.14,2,   2.840,6,   1.534,6,   0.269,6,   0.9620,6,  2228.8,2,  2321.3,2,   7.5785,2,    25.00,-999.000,9,-999.0000,9,-999.000,9,  -0.1739,2, -999.00,9,  -999.0,9,  -999.0,-999.000,9, -999.00,9,-999.000,9, -999.00,9, -999.00,9, -67.0006,-160.1040,-999.000,     -999.0,    34.5621,2,     -999.0,9,     -999.0,9,-999.0000,9,-999.0000,9,-999.0000,9,-999.0000,9,-999.0000,9,-999.0000,9,-999.0000,9,-999.0000,9,-999.0000,9,-999.0000,-999.000,  -0.1773,     -999.0,     -999.0,9,     -999.0,9,     -999.0,9,     -999.0,9,     -999.0,20110308,       1301
320620110219,       S04P,      37,          2,         31,         31,2,20110308,       1123,   -67.0006,  -160.1040,       3993,   134.8,   0.4799,  34.5118,2,  34.5144,2,    216.8,2,   212.5,2,   81.32,2,   32.04,2,    0.06,2,    2.19,2,-999.000,9,-999.000,9,-999.000,9,-999.0000,9,  2239.9,2,  2329.8,2,   7.5661,2,    25.00,-999.000,9,-999.0000,9,-999.000,9,   0.4750,2, -999.00,9,  -999.0,9,  -999.0,-999.000,9, -999.00,9,-999.000,9, -999.00,9, -999.00,9, -67.0006,-160.1040,-999.000,     -999.0,    34.6771,2,     -999.0,9,     -999.0,9,-999.0000,9,-999.0000,9,-999.0000,9,-999.0000,9,-999.0000,9,-999.0000,9,-999.0000,9,-999.0000,9,-999.0000,9,-999.0000,-999.000,   0.4745,     -999.0,     -999.0,9,     -999.0,9,     -999.0,9,     -999.0,9,     -999.0,20110308,       1300
320620110219,       S04P,      37,          2,         30,         30,2,20110308,       1123,   -67.0006,  -160.1040,       3993,   164.7,   1.0114,  34.6053,2,  34.5987,2,    196.9,2,   196.6,2,   86.36,2,   32.48,2,    0.04,2,    2.22,2,   1.284,2,   0.659,2,   0.104,2,   0.3310,2,  2247.2,2,  2336.0,2,   7.5627,2,    25.00,-999.000,9,-999.0000,9,-999.000,9,   1.0122,2, -999.00,9,  -999.0,9,  -999.0,-999.000,9, -999.00,9,-999.000,9, -999.00,9, -999.00,9, -67.0006,-160.1040,-999.000,     -999.0,    34.7618,2,     -999.0,9,     -999.0,9,-999.0000,9,-999.0000,9,-999.0000,9,-999.0000,9,-999.0000,9,-999.0000,9,-999.0000,9,-999.0000,9,-999.0000,9,-999.0000,-999.000,   1.0040,     -999.0,     -999.0,9,     -999.0,9,     -999.0,9,     -999.0,9,     -999.0,20110308,       1258
320620110219,       S04P,      37,          2,         29,         29,2,20110308,       1123,   -67.0006,  -160.1040,       3993,   215.3,   1.4318,  34.6903,2,  34.6903,2,    184.3,2,   183.4,2,   92.05,2,   32.61,2,    0.03,2,    2.24,2,-999.000,9,-999.000,9,-999.000,9,-999.0000,9,  2252.2,2,  2343.0,2,   7.5622,2,    25.00,-999.000,9,-999.0000,9,-999.000,9,   1.4298,2, -999.00,9,  -999.0,9,  -999.0,-999.000,9, -999.00,9,-999.000,9, -999.00,9, -999.00,9, -67.0006,-160.1040,-999.000,     -999.0,    34.8539,2,     -999.0,9,     -999.0,9,-999.0000,9,-999.0000,9,-999.0000,9,-999.0000,9,-999.0000,9,-999.0000,9,-999.0000,9,-999.0000,9,-999.0000,9,-999.0000,-999.000,   1.4212,     -999.0,     -999.0,9,     -999.0,9,     -999.0,9,     -999.0,9,     -999.0,20110308,       1256
320620110219,       S04P,      37,          2,         28,         28,2,20110308,       1123,   -67.0006,  -160.1040,       3993,   265.2,   1.5008,  34.7211,2,  34.7211,2,    181.5,2,   182.0,2,   95.76,2,   32.29,2,    0.01,2,    2.21,2,   0.334,2,   0.151,2,   0.019,2,   0.0730,2,  2253.4,2,  2346.7,2,   7.5698,2,    25.00,-999.000,9,-999.0000,9,-999.000,9,   1.5007,2, -999.00,9,  -999.0,9,  -999.0,-999.000,9, -999.00,9,-999.000,9, -999.00,9, -999.00,9, -67.0006,-160.1040,-999.000,     -999.0,    34.8848,2,     -999.0,9,     -999.0,9,-999.0000,9,-999.0000,9,-999.0000,9,-999.0000,9,-999.0000,9,-999.0000,9,-999.0000,9,-999.0000,9,-999.0000,9,-999.0000,-999.000,   1.4875,     -999.0,     -999.0,9,     -999.0,9,     -999.0,9,     -999.0,9,     -999.0,20110308,       1254
320620110219,       S04P,      37,          2,         27,         27,2,20110308,       1123,   -67.0006,  -160.1040,       3993,   314.6,   1.4646,  34.7270,2,  34.7276,2,    182.2,2,   182.1,2,   98.04,2,   32.13,2,    0.01,2,    2.21,2,-999.000,9,-999.000,9,-999.000,9,-999.0000,9,  2254.8,2,  2348.6,2,   7.5692,2,    25.00,-999.000,9,-999.0000,9,-999.000,9,   1.4643,2, -999.00,9,  -999.0,9,  -999.0,-999.000,9, -999.00,9,-999.000,9, -999.00,9, -999.00,9, -67.0006,-160.1040,-999.000,     -999.0,    34.8913,2,     -999.0,9,     -999.0,9,-999.0000,9,-999.0000,9,-999.0000,9,-999.0000,9,-999.0000,9,-999.0000,9,-999.0000,9,-999.0000,9,-999.0000,9,-999.0000,-999.000,   1.4488,     -999.0,     -999.0,9,     -999.0,9,     -999.0,9,     -999.0,9,     -999.0,20110308,       1253
320620110219,       S04P,      37,          2,         26,         26,2,20110308,       1123,   -67.0006,  -160.1040,       3993,   364.1,   1.4204,  34.7291,2,  34.7287,2,    183.1,2,   182.8,2,   99.92,2,   32.08,2,    0.00,2,    2.22,2,   0.237,2,   0.105,2,   0.010,2,   0.0730,2,  2255.0,2,  2349.0,2,   7.5717,2,    25.00,-999.000,9,-999.0000,9,-999.000,9,   1.4208,2, -999.00,9,  -999.0,9,  -999.0,-999.000,9, -999.00,9,-999.000,9, -999.00,9, -999.00,9, -67.0006,-160.1040,-999.000,     -999.0,    34.8925,2,     -999.0,9,     -999.0,9,-999.0000,9,-999.0000,9,-999.0000,9,-999.0000,9,-999.0000,9,-999.0000,9,-999.0000,9,-999.0000,9,-999.0000,9,-999.0000,-999.000,   1.4020,     -999.0,     -999.0,9,     -999.0,9,     -999.0,9,     -999.0,9,     -999.0,20110308,       1251
320620110219,       S04P,      37,          2,         25,         25,2,20110308,       1123,   -67.0006,  -160.1040,       3993,   415.5,   1.3771,  34.7297,2,  34.7305,2,    183.7,2,   183.4,2,  102.12,2,   32.12,2,    0.00,2,    2.23,2,-999.000,9,-999.000,9,-999.000,9,-999.0000,9,  2256.9,2,  2350.6,2,   7.5721,2,    25.00,-999.000,9,-999.0000,9,-999.000,9,   1.3766,2, -999.00,9,  -999.0,9,  -999.0,-999.000,9, -999.00,9,-999.000,9, -999.00,9, -999.00,9, -67.0006,-160.1040,-999.000,     -999.0,    34.8943,2,     -999.0,9,     -999.0,9,-999.0000,9,-999.0000,9,-999.0000,9,-999.0000,9,-999.0000,9,-999.0000,9,-999.0000,9,-999.0000,9,-999.0000,9,-999.0000,-999.000,   1.3561,     -999.0,     -999.0,9,     -999.0,9,     -999.0,9,     -999.0,9,     -999.0,20110308,       1249
320620110219,       S04P,      37,          2,         24,         24,2,20110308,       1123,   -67.0006,  -160.1040,       3993,   463.5,   1.3357,  34.7298,2,  34.7313,2,    184.5,2,   184.5,2,  103.47,2,   32.13,2,    0.00,2,    2.22,2,   0.178,2,   0.079,2,   0.007,2,   0.0620,2,  2257.2,2,  2351.5,2,   7.5750,2,    25.00,-999.000,9,-999.0000,9,-999.000,9,   1.3355,2, -999.00,9,  -999.0,9,  -999.0,-999.000,9, -999.00,9,-999.000,9, -999.00,9, -999.00,9, -67.0006,-160.1040,-999.000,     -999.0,    34.8951,2,     -999.0,9,     -999.0,9,-999.0000,9,-999.0000,9,-999.0000,9,-999.0000,9,-999.0000,9,-999.0000,9,-999.0000,9,-999.0000,9,-999.0000,9,-999.0000,-999.000,   1.3123,     -999.0,     -999.0,9,     -999.0,9,     -999.0,9,     -999.0,9,     -999.0,20110308,       1247
320620110219,       S04P,      37,          2,         23,         23,2,20110308,       1123,   -67.0006,  -160.1040,       3993,   534.0,   1.2746,  34.7290,2,  34.7297,2,    185.7,2,   185.6,2,  106.15,2,   32.18,2,    0.00,2,    2.23,2,-999.000,9,-999.000,9,-999.000,9,-999.0000,9,  2256.3,2,  2352.7,2,   7.5742,2,    25.00,-999.000,9,-999.0000,9,-999.000,9,   1.2744,2, -999.00,9,  -999.0,9,  -999.0,-999.000,9, -999.00,9,-999.000,9, -999.00,9, -999.00,9, -67.0006,-160.1040,-999.000,     -999.0,    34.8935,2,     -999.0,9,     -999.0,9,-999.0000,9,-999.0000,9,-999.0000,9,-999.0000,9,-999.0000,9,-999.0000,9,-999.0000,9,-999.0000,9,-999.0000,9,-999.0000,-999.000,   1.2475,     -999.0,     -999.0,9,     -999.0,9,     -999.0,9,     -999.0,9,     -999.0,20110308,       1245
320620110219,       S04P,      37,          2,         22,         22,2,20110308,       1123,   -67.0006,  -160.1040,       3993,   635.2,   1.1975,  34.7275,2,  34.7275,2,    187.6,2,   187.9,2,  108.76,2,   32.15,2,    0.00,2,    2.23,2,   0.131,2,   0.060,2,   0.005,2,   0.0430,2,  -999.0,9,  -999.0,9,-999.0000,9,  -999.00,-999.000,9,-999.0000,9,-999.000,9,   1.1972,2, -999.00,9,  -999.0,9,  -999.0,-999.000,9, -999.00,9,-999.000,9, -999.00,9, -999.00,9, -67.0006,-160.1040,-999.000,     -999.0,    34.8913,2,     -999.0,9,     -999.0,9,-999.0000,9,-999.0000,9,-999.0000,9,-999.0000,9,-999.0000,9,-999.0000,9,-999.0000,9,-999.0000,9,-999.0000,9,-999.0000,-999.000,   1.1652,     -999.0,     -999.0,9,     -999.0,9,     -999.0,9,     -999.0,9,     -999.0,20110308,       1243
320620110219,       S04P,      37,          2,         21,         21,2,20110308,       1123,   -67.0006,  -160.1040,       3993,   735.0,   1.1266,  34.7254,2,  34.7256,2,    189.8,2,   189.1,2,  110.56,2,   32.08,2,    0.00,2,    2.23,2,-999.000,9,-999.000,9,-999.000,9,-999.0000,9,  -999.0,9,  -999.0,9,-999.0000,9,  -999.00,-999.000,9,-999.0000,9,-999.000,9,   1.1257,2, -999.00,9,  -999.0,9,  -999.0,-999.000,9, -999.00,9,-999.000,9, -999.00,9, -999.00,9, -67.0006,-160.1040,-999.000,     -999.0,    34.8893,2,     -999.0,9,     -999.0,9,-999.0000,9,-999.0000,9,-999.0000,9,-999.0000,9,-999.0000,9,-999.0000,9,-999.0000,9,-999.0000,9,-999.0000,9,-999.0000,-999.000,   1.0890,     -999.0,     -999.0,9,     -999.0,9,     -999.0,9,     -999.0,9,     -999.0,20110308,       1240
320620110219,       S04P,      37,          2,         20,         20,2,20110308,       1123,   -67.0006,  -160.1040,       3993,   834.8,   1.0607,  34.7229,2,  34.7230,2,    192.4,2,   192.5,2,  112.28,2,   32.07,2,    0.00,2,    2.22,2,   0.102,2,   0.047,2,   0.004,2,   0.0540,2,  2256.7,2,  2355.2,2,   7.5832,2,    25.00,-999.000,9,-999.0000,9,-999.000,9,   1.0604,2, -999.00,9,  -999.0,9,  -999.0,-999.000,9, -999.00,9,-999.000,9, -999.00,9, -999.00,9, -67.0006,-160.1040,-999.000,     -999.0,    34.8868,2,     -999.0,9,     -999.0,9,-999.0000,9,-999.0000,9,-999.0000,9,-999.0000,9,-999.0000,9,-999.0000,9,-999.0000,9,-999.0000,9,-999.0000,9,-999.0000,-999.000,   1.0177,     -999.0,     -999.0,9,     -999.0,9,     -999.0,9,     -999.0,9,     -999.0,20110308,       1237
320620110219,       S04P,      37,          2,         19,         19,2,20110308,       1123,   -67.0006,  -160.1040,       3993,   935.6,   1.0097,  34.7208,2,  34.7216,2,    194.8,2,   194.7,2,  113.93,2,   32.08,2,    0.00,2,    2.22,2,-999.000,9,-999.000,9,-999.000,9,-999.0000,9,  -999.0,9,  -999.0,9,-999.0000,9,  -999.00,-999.000,9,-999.0000,9,-999.000,9,   1.0095,2, -999.00,9,  -999.0,9,  -999.0,-999.000,9, -999.00,9,-999.000,9, -999.00,9, -999.00,9, -67.0006,-160.1040,-999.000,     -999.0,    34.8854,2,     -999.0,9,     -999.0,9,-999.0000,9,-999.0000,9,-999.0000,9,-999.0000,9,-999.0000,9,-999.0000,9,-999.0000,9,-999.0000,9,-999.0000,9,-999.0000,-999.000,   0.9611,     -999.0,     -999.0,9,     -999.0,9,     -999.0,9,     -999.0,9,     -999.0,20110308,       1235
320620110219,       S04P,      37,          2,         18,         18,2,20110308,       1123,   -67.0006,  -160.1040,       3993,  1034.5,   0.9491,  34.7184,2,  34.7201,2,    196.6,2,   196.8,2,  114.23,2,   32.03,2,    0.00,2,    2.23,2,   0.093,2,   0.046,2,   0.005,2,   0.0630,2,  -999.0,9,  -999.0,9,-999.0000,9,  -999.00,-999.000,9,-999.0000,9,-999.000,9,   0.9488,2, -999.00,9,  -999.0,9,  -999.0,-999.000,9, -999.00,9,-999.000,9, -999.00,9, -999.00,9, -67.0006,-160.1039,-999.000,     -999.0,    34.8838,2,     -999.0,9,     -999.0,9,-999.0000,9,-999.0000,9,-999.0000,9,-999.0000,9,-999.0000,9,-999.0000,9,-999.0000,9,-999.0000,9,-999.0000,9,-999.0000,-999.000,   0.8950,     -999.0,     -999.0,9,     -999.0,9,     -999.0,9,     -999.0,9,     -999.0,20110308,       1232
320620110219,       S04P,      37,          2,         17,         17,2,20110308,       1123,   -67.0006,  -160.1040,       3993,  1134.0,   0.8983,  34.7164,2,  34.7171,2,    198.1,2,   197.7,2,  117.23,2,   32.08,2,    0.00,2,    2.23,2,-999.000,9,-999.000,9,-999.000,9,-999.0000,9,  -999.0,9,  -999.0,9,-999.0000,9,  -999.00,-999.000,9,-999.0000,9,-999.000,9,   0.8986,2, -999.00,9,  -999.0,9,  -999.0,-999.000,9, -999.00,9,-999.000,9, -999.00,9, -999.00,9, -67.0006,-160.1040,-999.000,     -999.0,    34.8808,2,     -999.0,9,     -999.0,9,-999.0000,9,-999.0000,9,-999.0000,9,-999.0000,9,-999.0000,9,-999.0000,9,-999.0000,9,-999.0000,9,-999.0000,9,-999.0000,-999.000,   0.8385,     -999.0,     -999.0,9,     -999.0,9,     -999.0,9,     -999.0,9,     -999.0,20110308,       1230
320620110219,       S04P,      37,          2,         16,         16,2,20110308,       1123,   -67.0006,  -160.1040,       3993,  1233.9,   0.8462,  34.7143,2,  34.7150,2,    199.9,2,   199.3,2,  118.56,2,   32.18,2,    0.00,2,    2.22,2,   0.094,2,   0.046,2,   0.005,2,   0.0730,2,  2258.0,2,  2358.0,2,   7.5907,2,    25.00,-999.000,9,-999.0000,9,-999.000,9,   0.8459,2, -999.00,9,  -999.0,9,  -999.0,-999.000,9, -999.00,9,-999.000,9, -999.00,9, -999.00,9, -67.0006,-160.1040,-999.000,     -999.0,    34.8786,2,     -999.0,9,     -999.0,9,-999.0000,9,-999.0000,9,-999.0000,9,-999.0000,9,-999.0000,9,-999.0000,9,-999.0000,9,-999.0000,9,-999.0000,9,-999.0000,-999.000,   0.7806,     -999.0,     -999.0,9,     -999.0,9,     -999.0,9,     -999.0,9,     -999.0,20110308,       1227
320620110219,       S04P,      37,          2,         15,         15,2,20110308,       1123,   -67.0006,  -160.1040,       3993,  1334.3,   0.7987,  34.7125,2,  34.7130,2,    201.1,2,   200.7,2,  120.26,2,   32.12,2,    0.00,2,    2.23,2,-999.000,9,-999.000,9,-999.000,9,-999.0000,9,  -999.0,9,  -999.0,9,-999.0000,9,  -999.00,-999.000,9,-999.0000,9,-999.000,9,   0.7986,2, -999.00,9,  -999.0,9,  -999.0,-999.000,9, -999.00,9,-999.000,9, -999.00,9, -999.00,9, -67.0006,-160.1039,-999.000,     -999.0,    34.8767,2,     -999.0,9,     -999.0,9,-999.0000,9,-999.0000,9,-999.0000,9,-999.0000,9,-999.0000,9,-999.0000,9,-999.0000,9,-999.0000,9,-999.0000,9,-999.0000,-999.000,   0.7271,     -999.0,     -999.0,9,     -999.0,9,     -999.0,9,     -999.0,9,     -999.0,20110308,       1225
320620110219,       S04P,      37,          2,         14,         14,2,20110308,       1123,   -67.0006,  -160.1040,       3993,  1434.6,   0.7494,  34.7106,2,  34.7132,2,    202.1,2,   202.0,2,  122.14,2,   32.16,2,    0.00,2,    2.24,2,   0.099,2,   0.047,2,   0.004,2,   0.0930,2,  -999.0,9,  -999.0,9,-999.0000,9,  -999.00,-999.000,9,-999.0000,9,-999.000,9,   0.7496,2, -999.00,9,  -999.0,9,  -999.0,-999.000,9, -999.00,9,-999.000,9, -999.00,9, -999.00,9, -67.0006,-160.1040,-999.000,     -999.0,    34.8769,2,     -999.0,9,     -999.0,9,-999.0000,9,-999.0000,9,-999.0000,9,-999.0000,9,-999.0000,9,-999.0000,9,-999.0000,9,-999.0000,9,-999.0000,9,-999.0000,-999.000,   0.6718,     -999.0,     -999.0,9,     -999.0,9,     -999.0,9,     -999.0,9,     -999.0,20110308,       1222