BOTTLE,20220813CCHSIOAMB
EXPOCODE,SECT_ID,STNNBR,CASTNO,SAMPNO,BTLNBR,BTLNBR_FLAG_W,DATE,TIME,LATITUDE,LONGITUDE,DEPTH,CTDPRS,CTDTMP,CTDSAL,CTDSAL_FLAG_W,SALNTY,SALNTY_FLAG_W,CTDOXY,CTDOXY_FLAG_W,OXYGEN,OXYGEN_FLAG_W,SILCAT,SILCAT_FLAG_W,NITRAT,NITRAT_FLAG_W,NITRIT,NITRIT_FLAG_W,PHSPHT,PHSPHT_FLAG_W,CFC-11,CFC-11_FLAG_W,CFC-12,CFC-12_FLAG_W,CFC113,CFC113_FLAG_W,SF6,SF6_FLAG_W,TCARBN,TCARBN_FLAG_W,ALKALI,ALKALI_FLAG_W,PH_TOT,PH_TOT_FLAG_W,PH_TMP,TRITUM,TRITUM_FLAG_W,HELIUM,HELIUM_FLAG_W,DELHE3,DELHE3_FLAG_W,REFTMP,REFTMP_FLAG_W,DELC13,DELC13_FLAG_W,DELC14,DELC14_FLAG_W,C14ERR,NEON,NEON_FLAG_W,DELO18,DELO18_FLAG_W,POC,POC_FLAG_W,DOC,DOC_FLAG_W,TDN,TDN_FLAG_W,BTL_LAT,BTL_LON,TRITER,NEONER,SALTREF,SALTREF_FLAG_W,PIGMENTS,PIGMENTS_FLAG_W,LAB_DEN,LAB_DEN_FLAG_W,CDOM325,CDOM325_FLAG_W,CDOM340,CDOM340_FLAG_W,CDOM380,CDOM380_FLAG_W,CDOM412,CDOM412_FLAG_W,CDOM443,CDOM443_FLAG_W,CDOM490,CDOM490_FLAG_W,CDOM555,CDOM555_FLAG_W,CDOMSL,CDOMSL_FLAG_W,CDOMSN,CDOMSN_FLAG_W,HELIER,DELHER,THETA,LDEO_SAMPNO,ABSORBTION,ABSORBTION_FLAG_W,IMAGE_COUNT,IMAGE_COUNT_FLAG_W,CYTO_COUNT,CYTO_COUNT_FLAG_W,DELD,DELD_FLAG_W,DELDERR,BTL_DATE,BTL_TIME
,,,,,,,,,,,METERS,DBAR,ITS-90,PSS-78,,PSS-78,,UMOL/KG,,UMOL/KG,,UMOL/KG,,UMOL/KG,,UMOL/KG,,UMOL/KG,,PMOL/KG,,PMOL/KG,,PMOL/KG,,FMOL/KG,,UMOL/KG,,UMOL/KG,,,,DEG C,TU,,NMOL/KG,,PERCNT,,DEG C,,/MILLE,,/MILLE,,/MILLE,NMOL/KG,,/MILLE,,UG/KG,,UMOL/KG,,UMOL/KG,,,,TU,NMOL/KG,G/KG,,,,,,1/M,,1/M,,1/M,,1/M,,1/M,,1/M,,1/M,,1/NM,,1/NM,,NMOL/KG,PERCNT,DEG C,,,,,,,,/MILLE,,/MILLE,,
320620110219,       S04P,      16,          1,         36,         36,2,20110228,       0337,   -67.6162,   173.5398,       3474,     3.4,  -1.2770,  33.2933,2,  33.2934,2,    346.0,3,   346.0,2,   63.91,2,   26.83,2,    0.15,2,    1.76,2,   6.057,2,   3.281,2,   0.613,2,   2.5940,2,  2141.9,2,  2254.6,2,   7.6614,2,    25.00,-999.000,9,-999.0000,9,-999.000,9,  -1.2771,2, -999.00,9,  -999.0,9,  -999.0,-999.000,9, -999.00,9,-999.000,9, -999.00,9, -999.00,9, -67.6176, 173.5350,-999.000,     -999.0,    33.4504,2,     -999.0,1,     -999.0,9,   0.0573,3,   0.0252,3,  -0.0018,4,  -0.0083,4,  -0.0147,4,  -0.0110,4,  -0.0119,4,   0.0729,4,   0.0622,4,-999.0000,-999.000,  -1.2771,     -999.0,     -999.0,9,     -999.0,1,     -999.0,1,     -999.0,9,     -999.0,20110228,       0517
320620110219,       S04P,      16,          1,         35,         35,2,20110228,       0337,   -67.6162,   173.5398,       3474,    36.0,  -1.2571,  33.3135,2,  33.3109,2,    346.4,2,   345.3,2,   64.05,2,   26.88,2,    0.15,2,    1.75,2,   5.997,2,   3.270,2,   0.611,2,   2.5730,2,  2142.9,2,  2256.4,2,   7.6576,2,    25.00,-999.000,9,-999.0000,9,-999.000,9,  -1.2565,2, -999.00,9,  -999.0,9,  -999.0,-999.000,9, -999.00,9,-999.000,9, -999.00,9, -999.00,9, -67.6176, 173.5350,-999.000,     -999.0,    33.4680,2,     -999.0,1,     -999.0,9,   0.0610,3,   0.0289,3,  -0.0015,4,  -0.0080,4,  -0.0142,4,  -0.0108,4,  -0.0119,4,   0.0661,4,   0.0561,4,-999.0000,-999.000,  -1.2579,     -999.0,     -999.0,9,     -999.0,1,     -999.0,1,     -999.0,9,     -999.0,20110228,       0515
320620110219,       S04P,      16,          1,         34,         34,2,20110228,       0337,   -67.6162,   173.5398,       3474,    60.3,  -1.3983,  34.1480,2,  34.1416,2,    281.2,2,   270.2,2,   74.29,2,   30.17,2,    0.09,2,    2.01,2,   3.316,2,   1.860,2,   0.347,2,   1.3960,2,  2207.9,6,  2310.0,2,   7.6124,2,    25.00,-999.000,9,-999.0000,9,-999.000,9,  -1.3978,2, -999.00,9,  -999.0,9,  -999.0,-999.000,9, -999.00,9,-999.000,9, -999.00,9, -999.00,9, -67.6176, 173.5350,-999.000,     -999.0,    34.3026,2,     -999.0,1,     -999.0,9,   0.0851,2,   0.0435,3,   0.0030,3,  -0.0018,4,  -0.0108,4,  -0.0092,4,  -0.0110,4,   0.0634,4,   0.0505,4,-999.0000,-999.000,  -1.3997,     -999.0,     -999.0,9,     -999.0,1,     -999.0,1,     -999.0,9,     -999.0,20110228,       0514
320620110219,       S04P,      16,          1,         33,         33,2,20110228,       0337,   -67.6162,   173.5398,       3474,    85.8,  -0.1546,  34.4275,2,  34.4571,2,    242.0,2,   222.7,2,   82.56,2,   32.12,2,    0.22,2,    2.14,2,-999.000,9,-999.000,9,-999.000,9,-999.0000,9,  2240.8,2,  2329.6,2,   7.5740,2,    25.00,-999.000,9,-999.0000,9,-999.000,9,  -0.1592,2, -999.00,9,  -999.0,9,  -999.0,-999.000,9, -999.00,9,-999.000,9, -999.00,9, -999.00,9, -67.6176, 173.5350,-999.000,     -999.0,    34.6196,2,     -999.0,1,     -999.0,9,   0.0946,2,   0.0524,2,   0.0081,3,  -0.0003,4,  -0.0104,4,  -0.0094,4,  -0.0112,4,   0.0536,4,   0.0430,4,-999.0000,-999.000,  -0.1575,     -999.0,     -999.0,9,     -999.0,1,     -999.0,1,     -999.0,9,     -999.0,20110228,       0512
320620110219,       S04P,      16,          1,         32,         32,2,20110228,       0337,   -67.6162,   173.5398,       3474,   110.3,   1.0474,  34.6260,2,  34.6211,2,    198.3,2,   196.7,2,   89.18,2,   32.85,2,    0.08,2,    2.17,2,   0.986,2,   0.552,2,   0.108,2,   0.4180,2,  2252.9,2,  2339.7,2,   7.5611,2,    25.00,-999.000,9,-999.0000,9,-999.000,9,   1.0566,2, -999.00,9,  -999.0,9,  -999.0,-999.000,9, -999.00,9,-999.000,9, -999.00,9, -999.00,9, -67.6176, 173.5349,-999.000,     -999.0,    34.7843,2,     -999.0,1,     -999.0,9,   0.0950,2,   0.0522,2,   0.0063,3,  -0.0007,4,  -0.0109,4,  -0.0096,4,  -0.0115,4,   0.0568,4,   0.0448,4,-999.0000,-999.000,   1.0424,     -999.0,     -999.0,9,     -999.0,1,     -999.0,1,     -999.0,9,     -999.0,20110228,       0511
320620110219,       S04P,      16,          1,         31,         31,2,20110228,       0337,   -67.6162,   173.5398,       3474,   135.9,   1.3040,  34.6734,2,  34.6715,2,    190.6,2,   189.0,2,   91.28,2,   32.95,2,    0.04,2,    2.17,2,-999.000,9,-999.000,9,-999.000,9,-999.0000,9,  -999.0,9,  -999.0,9,-999.0000,9,  -999.00,-999.000,9,-999.0000,9,-999.000,9,   1.3097,2, -999.00,9,  -999.0,9,  -999.0,-999.000,9, -999.00,9,-999.000,9, -999.00,9, -999.00,9, -67.6176, 173.5350,-999.000,     -999.0,    34.8350,2,     -999.0,9,     -999.0,9,   0.0983,2,   0.0554,2,   0.0086,3,   0.0002,4,  -0.0102,4,  -0.0094,4,  -0.0113,4,   0.0570,4,   0.0424,4,-999.0000,-999.000,   1.2976,     -999.0,     -999.0,9,     -999.0,9,     -999.0,9,     -999.0,9,     -999.0,20110228,       0510
320620110219,       S04P,      16,          1,         30,         30,2,20110228,       0337,   -67.6162,   173.5398,       3474,   164.3,   1.3802,  34.6910,2,  34.6909,2,    187.6,2,   187.4,2,   93.47,2,   32.98,2,    0.02,2,    2.18,2,   0.518,2,   0.278,2,   0.059,2,   0.1700,2,  2255.7,2,  2347.3,2,   7.5660,6,    25.00,-999.000,9,-999.0000,9,-999.000,9,   1.3798,2, -999.00,9,  -999.0,9,  -999.0,-999.000,9, -999.00,9,-999.000,9, -999.00,9, -999.00,9, -67.6176, 173.5350,-999.000,     -999.0,    34.8545,2,     -999.0,9,     -999.0,9,   0.1125,2,   0.0664,2,   0.0176,3,   0.0050,2,  -0.0066,4,  -0.0067,4,  -0.0101,4,   0.0363,3,   0.0356,3,-999.0000,-999.000,   1.3723,     -999.0,     -999.0,9,     -999.0,9,     -999.0,9,     -999.0,9,     -999.0,20110228,       0508
320620110219,       S04P,      16,          1,         29,         29,2,20110228,       0337,   -67.6162,   173.5398,       3474,   214.8,   1.4081,  34.7058,2,  34.7062,2,    186.4,2,   186.8,2,   96.52,2,   32.87,2,    0.01,2,    2.17,2,-999.000,9,-999.000,9,-999.000,9,-999.0000,9,  2257.4,2,  2348.8,6,   7.5696,2,    25.00,-999.000,9,-999.0000,9,-999.000,9,   1.4081,2, -999.00,9,  -999.0,9,  -999.0,-999.000,9, -999.00,9,-999.000,9, -999.00,9, -999.00,9, -67.6176, 173.5350,-999.000,     -999.0,    34.8699,2,     -999.0,9,     -999.0,9,   0.1015,3,   0.0576,3,   0.0096,4,   0.0015,4,  -0.0092,4,  -0.0090,4,  -0.0112,4,   0.0534,4,   0.0418,4,-999.0000,-999.000,   1.3976,     -999.0,     -999.0,9,     -999.0,9,     -999.0,9,     -999.0,9,     -999.0,20110228,       0506
320620110219,       S04P,      16,          1,         28,         28,2,20110228,       0337,   -67.6162,   173.5398,       3474,   264.2,   1.3871,  34.7135,2,  34.7133,2,    187.2,2,   187.4,2,   98.35,2,   32.73,2,    0.00,2,    2.13,2,   0.350,2,   0.190,2,   0.041,2,   0.1810,2,  2256.6,2,  2350.2,2,   7.5706,2,    25.00,-999.000,9,-999.0000,9,-999.000,9,   1.3868,2, -999.00,9,  -999.0,9,  -999.0,-999.000,9, -999.00,9,-999.000,9, -999.00,9, -999.00,9, -67.6176, 173.5350,-999.000,     -999.0,    34.8770,2,     -999.0,9,     -999.0,9,   0.0985,2,   0.0552,2,   0.0082,3,  -0.0001,4,  -0.0105,4,  -0.0095,4,  -0.0114,4,   0.0609,4,   0.0430,4,-999.0000,-999.000,   1.3741,     -999.0,     -999.0,9,     -999.0,9,     -999.0,9,     -999.0,9,     -999.0,20110228,       0504
320620110219,       S04P,      16,          1,         27,         27,2,20110228,       0337,   -67.6162,   173.5398,       3474,   315.2,   1.3603,  34.7172,2,  34.7170,2,    188.4,2,   188.2,2,   99.72,2,   32.67,2,    0.01,2,    2.14,2,-999.000,9,-999.000,9,-999.000,9,-999.0000,9,  2259.1,2,  2350.1,2,   7.5788,2,    25.00,-999.000,9,-999.0000,9,-999.000,9,   1.3599,2, -999.00,9,  -999.0,9,  -999.0,-999.000,9, -999.00,9,-999.000,9, -999.00,9, -999.00,9, -67.6176, 173.5349,-999.000,     -999.0,    34.8807,2,     -999.0,9,     -999.0,9,-999.0000,9,-999.0000,9,-999.0000,9,-999.0000,9,-999.0000,9,-999.0000,9,-999.0000,9,-999.0000,9,-999.0000,9,-999.0000,-999.000,   1.3447,     -999.0,     -999.0,9,     -999.0,9,     -999.0,9,     -999.0,9,     -999.0,20110228,       0502
320620110219,       S04P,      16,          1,         26,         26,2,20110228,       0337,   -67.6162,   173.5398,       3474,   364.7,   1.3357,  34.7188,2,  34.7193,2,    188.9,2,   189.4,2,  101.25,2,   32.61,2,    0.01,2,    2.16,2,   0.254,2,   0.121,2,   0.021,2,-999.0000,9,  2257.8,2,  2351.4,2,   7.5800,4,    25.00,-999.000,9,-999.0000,9,-999.000,9,   1.3355,2, -999.00,9,  -999.0,9,  -999.0,-999.000,9, -999.00,9,-999.000,9, -999.00,9, -999.00,9, -67.6176, 173.5350,-999.000,     -999.0,    34.8831,2,     -999.0,9,     -999.0,9,-999.0000,9,-999.0000,9,-999.0000,9,-999.0000,9,-999.0000,9,-999.0000,9,-999.0000,9,-999.0000,9,-999.0000,9,-999.0000,-999.000,   1.3176,     -999.0,     -999.0,9,     -999.0,9,     -999.0,9,     -999.0,9,     -999.0,20110228,       0500
320620110219,       S04P,      16,          1,         25,         25,2,20110228,       0337,   -67.6162,   173.5398,       3474,   414.0,   1.3081,  34.7204,2,  34.7203,2,    189.6,2,   188.5,2,  102.46,2,   32.64,2,    0.01,2,    2.17,2,-999.000,9,-999.000,9,-999.000,9,-999.0000,9,  2258.2,2,  2353.2,2,   7.5809,4,    25.00,-999.000,9,-999.0000,9,-999.000,9,   1.3073,2, -999.00,9,  -999.0,9,  -999.0,-999.000,9, -999.00,9,-999.000,9, -999.00,9, -999.00,9, -67.6176, 173.5350,-999.000,     -999.0,    34.8841,2,     -999.0,9,     -999.0,9,   0.0976,2,   0.0548,2,   0.0100,3,   0.0006,3,  -0.0098,4,  -0.0092,4,  -0.0114,4,   0.0544,4,   0.0417,4,-999.0000,-999.000,   1.2874,     -999.0,     -999.0,9,     -999.0,9,     -999.0,9,     -999.0,9,     -999.0,20110228,       0458
320620110219,       S04P,      16,          1,         24,         24,2,20110228,       0337,   -67.6162,   173.5398,       3474,   464.4,   1.2757,  34.7215,2,  34.7219,2,    190.1,2,   190.9,2,  103.72,2,   32.57,2,    0.00,2,    2.17,2,   0.205,2,   0.102,2,   0.015,2,   0.1350,2,  -999.0,9,  -999.0,9,-999.0000,9,  -999.00,-999.000,9,-999.0000,9,-999.000,9,   1.2757,2, -999.00,9,  -999.0,9,  -999.0,-999.000,9, -999.00,9,-999.000,9, -999.00,9, -999.00,9, -67.6176, 173.5349,-999.000,     -999.0,    34.8856,2,     -999.0,9,     -999.0,9,-999.0000,9,-999.0000,9,-999.0000,9,-999.0000,9,-999.0000,9,-999.0000,9,-999.0000,9,-999.0000,9,-999.0000,9,-999.0000,-999.000,   1.2524,     -999.0,     -999.0,9,     -999.0,9,     -999.0,9,     -999.0,9,     -999.0,20110228,       0457
320620110219,       S04P,      16,          1,         23,         23,2,20110228,       0337,   -67.6162,   173.5398,       3474,   535.1,   1.2281,  34.7224,2,  34.7225,2,    190.9,2,   191.0,2,  106.69,2,   32.64,2,    0.00,2,    2.17,2,-999.000,9,-999.000,9,-999.000,9,-999.0000,9,  2260.3,2,  2355.2,2,   7.5824,4,    25.00,-999.000,9,-999.0000,9,-999.000,9,   1.2282,2, -999.00,9,  -999.0,9,  -999.0,-999.000,9, -999.00,9,-999.000,9, -999.00,9, -999.00,9, -67.6176, 173.5350,-999.000,     -999.0,    34.8862,2,     -999.0,9,     -999.0,9,-999.0000,9,-999.0000,9,-999.0000,9,-999.0000,9,-999.0000,9,-999.0000,9,-999.0000,9,-999.0000,9,-999.0000,9,-999.0000,-999.000,   1.2012,     -999.0,     -999.0,9,     -999.0,9,     -999.0,9,     -999.0,9,     -999.0,20110228,       0454
320620110219,       S04P,      16,          1,         22,         22,2,20110228,       0337,   -67.6162,   173.5398,       3474,   634.5,   1.1663,  34.7220,2,  34.7223,2,    192.3,2,   191.8,2,  107.93,2,   32.55,2,    0.00,2,    2.17,2,   0.148,2,   0.086,2,   0.016,2,   0.1440,2,  2259.6,2,  2356.3,2,   7.5846,4,    25.00,-999.000,9,-999.0000,9,-999.000,9,   1.1661,2, -999.00,9,  -999.0,9,  -999.0,-999.000,9, -999.00,9,-999.000,9, -999.00,9, -999.00,9, -67.6176, 173.5350,-999.000,     -999.0,    34.8860,2,     -999.0,9,     -999.0,9,   0.0980,2,   0.0546,2,   0.0090,3,  -0.0002,4,  -0.0103,4,  -0.0093,4,  -0.0116,4,   0.0586,4,   0.0427,4,-999.0000,-999.000,   1.1342,     -999.0,     -999.0,9,     -999.0,9,     -999.0,9,     -999.0,9,     -999.0,20110228,       0451
320620110219,       S04P,      16,          1,         21,         21,2,20110228,       0337,   -67.6162,   173.5398,       3474,   734.3,   1.1164,  34.7215,2,  34.7218,2,    193.4,2,   194.3,2,  109.72,2,   32.52,2,    0.00,2,    2.18,2,-999.000,9,-999.000,9,-999.000,9,-999.0000,9,  -999.0,9,  -999.0,9,-999.0000,9,  -999.00,-999.000,9,-999.0000,9,-999.000,9,   1.1161,2, -999.00,9,  -999.0,9,  -999.0,-999.000,9, -999.00,9,-999.000,9, -999.00,9, -999.00,9, -67.6176, 173.5349,-999.000,     -999.0,    34.8856,2,     -999.0,9,     -999.0,9,-999.0000,9,-999.0000,9,-999.0000,9,-999.0000,9,-999.0000,9,-999.0000,9,-999.0000,9,-999.0000,9,-999.0000,9,-999.0000,-999.000,   1.0789,     -999.0,     -999.0,9,     -999.0,9,     -999.0,9,     -999.0,9,     -999.0,20110228,       0449
320620110219,       S04P,      16,          1,         20,         20,2,20110228,       0337,   -67.6162,   173.5398,       3474,   832.5,   1.0616,  34.7207,2,  34.7207,2,    195.1,2,   194.8,2,  111.98,2,   32.42,2,    0.00,2,    2.16,2,   0.126,2,   0.061,2,   0.013,2,   0.0960,2,  2261.1,2,  2358.6,2,   7.5886,4,    25.00,-999.000,9,-999.0000,9,-999.000,9,   1.0618,2, -999.00,9,  -999.0,9,  -999.0,-999.000,9, -999.00,9,-999.000,9, -999.00,9, -999.00,9, -67.6176, 173.5349,-999.000,     -999.0,    34.8844,2,     -999.0,9,     -999.0,9,-999.0000,9,-999.0000,9,-999.0000,9,-999.0000,9,-999.0000,9,-999.0000,9,-999.0000,9,-999.0000,9,-999.0000,9,-999.0000,-999.000,   1.0187,     -999.0,     -999.0,9,     -999.0,9,     -999.0,9,     -999.0,9,     -999.0,20110228,       0446
320620110219,       S04P,      16,          1,         19,         19,2,20110228,       0337,   -67.6162,   173.5398,       3474,   934.6,   1.0057,  34.7190,2,  34.7193,2,    196.5,2,   196.5,2,  114.14,2,   32.44,2,    0.00,2,    2.20,2,-999.000,9,-999.000,9,-999.000,9,-999.0000,9,  -999.0,9,  -999.0,9,-999.0000,9,  -999.00,-999.000,9,-999.0000,9,-999.000,9,   1.0054,2, -999.00,9,  -999.0,9,  -999.0,-999.000,9, -999.00,9,-999.000,9, -999.00,9, -999.00,9, -67.6176, 173.5349,-999.000,     -999.0,    34.8830,2,     -999.0,9,     -999.0,9,   0.0949,2,   0.0525,2,   0.0070,3,  -0.0011,4,  -0.0110,4,  -0.0099,4,  -0.0118,4,   0.0571,4,   0.0440,4,-999.0000,-999.000,   0.9572,     -999.0,     -999.0,9,     -999.0,9,     -999.0,9,     -999.0,9,     -999.0,20110228,       0443
320620110219,       S04P,      16,          1,         18,         18,2,20110228,       0337,   -67.6162,   173.5398,       3474,  1034.7,   0.9555,  34.7176,2,  34.7177,2,    197.8,2,   197.4,2,  115.90,2,   32.37,2,    0.00,2,    2.17,2,   0.097,2,   0.050,2,   0.010,2,   0.1060,2,  2261.1,2,  2359.7,2,   7.5908,4,    25.00,-999.000,9,-999.0000,9,-999.000,9,   0.9554,2, -999.00,9,  -999.0,9,  -999.0,-999.000,9, -999.00,9,-999.000,9, -999.00,9, -999.00,9, -67.6176, 173.5350,-999.000,     -999.0,    34.8814,2,     -999.0,9,     -999.0,9,-999.0000,9,-999.0000,9,-999.0000,9,-999.0000,9,-999.0000,9,-999.0000,9,-999.0000,9,-999.0000,9,-999.0000,9,-999.0000,-999.000,   0.9013,     -999.0,     -999.0,9,     -999.0,9,     -999.0,9,     -999.0,9,     -999.0,20110228,       0440
320620110219,       S04P,      16,          1,         17,         17,2,20110228,       0337,   -67.6162,   173.5398,       3474,  1134.5,   0.8920,  34.7155,2,  34.7161,2,    199.1,2,   198.7,2,  117.37,2,   32.43,2,    0.00,2,    2.16,2,-999.000,9,-999.000,9,-999.000,9,-999.0000,9,  -999.0,9,  -999.0,9,-999.0000,9,  -999.00,-999.000,9,-999.0000,9,-999.000,9,   0.8919,2, -999.00,9,  -999.0,9,  -999.0,-999.000,9, -999.00,9,-999.000,9, -999.00,9, -999.00,9, -67.6176, 173.5349,-999.000,     -999.0,    34.8798,2,     -999.0,9,     -999.0,9,-999.0000,9,-999.0000,9,-999.0000,9,-999.0000,9,-999.0000,9,-999.0000,9,-999.0000,9,-999.0000,9,-999.0000,9,-999.0000,-999.000,   0.8322,     -999.0,     -999.0,9,     -999.0,9,     -999.0,9,     -999.0,9,     -999.0,20110228,       0437
320620110219,       S04P,      16,          1,         16,         16,2,20110228,       0337,   -67.6162,   173.5398,       3474,  1233.7,   0.8441,  34.7142,2,  34.7150,2,    200.1,2,   201.1,2,  119.25,2,   32.40,2,    0.00,2,    2.20,2,   0.097,2,   0.062,2,   0.012,2,   0.1440,2,  2260.6,2,  2360.0,2,   7.5940,4,    25.00,-999.000,9,-999.0000,9,-999.000,9,   0.8448,2, -999.00,9,  -999.0,9,  -999.0,-999.000,9, -999.00,9,-999.000,9, -999.00,9, -999.00,9, -67.6176, 173.5350,-999.000,     -999.0,    34.8786,2,     -999.0,9,     -999.0,9,   0.1081,2,   0.0634,2,   0.0151,3,   0.0046,2,  -0.0062,4,  -0.0062,4,  -0.0097,4,   0.0386,3,   0.0371,3,-999.0000,-999.000,   0.7785,     -999.0,     -999.0,9,     -999.0,9,     -999.0,9,     -999.0,9,     -999.0,20110228,       0434
320620110219,       S04P,      16,          1,         15,         15,2,20110228,       0337,   -67.6162,   173.5398,       3474,  1335.2,   0.8001,  34.7122,2,  34.7132,2,    201.3,2,   200.1,2,  120.42,2,   32.42,2,    0.00,2,    2.21,2,-999.000,9,-999.000,9,-999.000,9,-999.0000,9,  -999.0,9,  -999.0,9,-999.0000,9,  -999.00,-999.000,9,-999.0000,9,-999.000,9,   0.8003,2, -999.00,9,  -999.0,9,  -999.0,-999.000,9, -999.00,9,-999.000,9, -999.00,9, -999.00,9, -67.6176, 173.5349,-999.000,     -999.0,    34.8769,2,     -999.0,9,     -999.0,9,-999.0000,9,-999.0000,9,-999.0000,9,-999.0000,9,-999.0000,9,-999.0000,9,-999.0000,9,-999.0000,9,-999.0000,9,-999.0000,-999.000,   0.7285,     -999.0,     -999.0,9,     -999.0,9,     -999.0,9,     -999.0,9,     -999.0,20110228,       0431
320620110219,       S04P,      16,          1,         14,         14,2,20110228,       0337,   -67.6162,   173.5398,       3474,  1434.7,   0.7636,  34.7112,2,  34.7118,2,    202.3,2,   201.8,2,  121.53,2,   32.37,2,    0.00,2,    2.18,2,   0.098,2,   0.054,2,   0.010,2,   0.1310,2,  2259.5,2,  2361.0,2,   7.5930,4,    25.00,-999.000,9,-999.0000,9,-999.000,9,   0.7636,2, -999.00,9,  -999.0,9,  -999.0,-999.000,9, -999.00,9,-999.000,9, -999.00,9, -999.00,9, -67.6176, 173.5349,-999.000,     -999.0,    34.8755,2,     -999.0,9,     -999.0,9,-999.0000,9,-999.0000,9,-999.0000,9,-999.0000,9,-999.0000,9,-999.0000,9,-999.0000,9,-999.0000,9,-999.0000,9,-999.0000,-999.000,   0.6859,     -999.0,     -999.0,9,     -999.0,9,     -999.0,9,     -999.0,9,     -999.0,20110228,       0429