BOTTLE,20220813CCHSIOAMB
EXPOCODE,SECT_ID,STNNBR,CASTNO,SAMPNO,BTLNBR,BTLNBR_FLAG_W,DATE,TIME,LATITUDE,LONGITUDE,DEPTH,CTDPRS,CTDTMP,CTDSAL,CTDSAL_FLAG_W,SALNTY,SALNTY_FLAG_W,CTDOXY,CTDOXY_FLAG_W,OXYGEN,OXYGEN_FLAG_W,SILCAT,SILCAT_FLAG_W,NITRAT,NITRAT_FLAG_W,NITRIT,NITRIT_FLAG_W,PHSPHT,PHSPHT_FLAG_W,CFC-11,CFC-11_FLAG_W,CFC-12,CFC-12_FLAG_W,CFC113,CFC113_FLAG_W,SF6,SF6_FLAG_W,TCARBN,TCARBN_FLAG_W,ALKALI,ALKALI_FLAG_W,PH_TOT,PH_TOT_FLAG_W,PH_TMP,TRITUM,TRITUM_FLAG_W,HELIUM,HELIUM_FLAG_W,DELHE3,DELHE3_FLAG_W,REFTMP,REFTMP_FLAG_W,DELC13,DELC13_FLAG_W,DELC14,DELC14_FLAG_W,C14ERR,NEON,NEON_FLAG_W,DELO18,DELO18_FLAG_W,POC,POC_FLAG_W,DOC,DOC_FLAG_W,TDN,TDN_FLAG_W,BTL_LAT,BTL_LON,TRITER,NEONER,SALTREF,SALTREF_FLAG_W,PIGMENTS,PIGMENTS_FLAG_W,LAB_DEN,LAB_DEN_FLAG_W,CDOM325,CDOM325_FLAG_W,CDOM340,CDOM340_FLAG_W,CDOM380,CDOM380_FLAG_W,CDOM412,CDOM412_FLAG_W,CDOM443,CDOM443_FLAG_W,CDOM490,CDOM490_FLAG_W,CDOM555,CDOM555_FLAG_W,CDOMSL,CDOMSL_FLAG_W,CDOMSN,CDOMSN_FLAG_W,HELIER,DELHER,THETA,LDEO_SAMPNO,ABSORBTION,ABSORBTION_FLAG_W,IMAGE_COUNT,IMAGE_COUNT_FLAG_W,CYTO_COUNT,CYTO_COUNT_FLAG_W,DELD,DELD_FLAG_W,DELDERR,BTL_DATE,BTL_TIME
,,,,,,,,,,,METERS,DBAR,ITS-90,PSS-78,,PSS-78,,UMOL/KG,,UMOL/KG,,UMOL/KG,,UMOL/KG,,UMOL/KG,,UMOL/KG,,PMOL/KG,,PMOL/KG,,PMOL/KG,,FMOL/KG,,UMOL/KG,,UMOL/KG,,,,DEG C,TU,,NMOL/KG,,PERCNT,,DEG C,,/MILLE,,/MILLE,,/MILLE,NMOL/KG,,/MILLE,,UG/KG,,UMOL/KG,,UMOL/KG,,,,TU,NMOL/KG,G/KG,,,,,,1/M,,1/M,,1/M,,1/M,,1/M,,1/M,,1/M,,1/NM,,1/NM,,NMOL/KG,PERCNT,DEG C,,,,,,,,/MILLE,,/MILLE,,
320620110219,       S04P,      13,          1,         36,         36,2,20110227,       0643,   -68.8128,   171.3925,       3173,     3.5,  -1.3741,  33.7057,2,  33.7065,2,   -999.0,9,  -999.0,5,   65.57,2,   28.06,2,    0.15,2,    1.86,2,   5.608,2,   3.131,2,   0.572,2,-999.0000,9,  2171.2,2,  2280.1,6,   7.6643,4,    25.00,-999.000,9,-999.0000,9,-999.000,9,  -1.3643,2, -999.00,9,  -999.0,9,  -999.0,-999.000,9, -999.00,9,-999.000,9,   42.34,2,   31.41,2, -68.8128, 171.3925,-999.000,     -999.0,    33.8655,2,     -999.0,9,     -999.0,9,-999.0000,9,-999.0000,9,-999.0000,9,-999.0000,9,-999.0000,9,-999.0000,9,-999.0000,9,-999.0000,9,-999.0000,9,-999.0000,-999.000,  -1.3742,     -999.0,     -999.0,9,     -999.0,9,     -999.0,9,     -999.0,9,     -999.0,20110227,       0819
320620110219,       S04P,      13,          1,         35,         35,2,20110227,       0643,   -68.8128,   171.3925,       3173,    35.0,  -1.4403,  33.7811,2,  33.7917,2,   -999.0,9,  -999.0,5,   66.69,2,   28.08,2,    0.14,2,    1.89,2,   5.504,2,   3.076,2,   0.567,2,-999.0000,9,  2175.5,6,  2285.8,2,   7.6608,4,    25.00,-999.000,9,-999.0000,9,-999.000,9,  -1.4403,2, -999.00,9,  -999.0,9,  -999.0,-999.000,9, -999.00,9,-999.000,9,   42.35,2,   31.42,2, -68.8128, 171.3926,-999.000,     -999.0,    33.9511,2,     -999.0,9,     -999.0,9,-999.0000,9,-999.0000,9,-999.0000,9,-999.0000,9,-999.0000,9,-999.0000,9,-999.0000,9,-999.0000,9,-999.0000,9,-999.0000,-999.000,  -1.4410,     -999.0,     -999.0,9,     -999.0,9,     -999.0,9,     -999.0,9,     -999.0,20110227,       0818
320620110219,       S04P,      13,          1,         34,         34,2,20110227,       0643,   -68.8128,   171.3925,       3173,    60.1,  -1.5679,  33.9226,2,  33.9158,2,    330.1,2,   332.4,2,   69.11,2,   28.71,2,    0.13,2,    1.91,2,   5.093,2,   2.879,2,   0.540,2,-999.0000,9,  2184.9,2,  2294.4,2,   7.6489,6,    25.00,-999.000,9,-999.0000,9,-999.000,9,  -1.5709,2, -999.00,9,  -999.0,9,  -999.0,-999.000,9, -999.00,9,-999.000,9,   42.74,2,   32.14,2, -68.8128, 171.3925,-999.000,     -999.0,    34.0758,2,     -999.0,9,     -999.0,9,-999.0000,9,-999.0000,9,-999.0000,9,-999.0000,9,-999.0000,9,-999.0000,9,-999.0000,9,-999.0000,9,-999.0000,9,-999.0000,-999.000,  -1.5691,     -999.0,     -999.0,9,     -999.0,9,     -999.0,9,     -999.0,9,     -999.0,20110227,       0816
320620110219,       S04P,      13,          1,         33,         33,2,20110227,       0643,   -68.8128,   171.3925,       3173,    84.4,  -0.5226,  34.3823,2,  34.3854,2,    244.4,2,   243.5,2,   77.23,2,   31.33,2,    0.15,2,    2.10,2,   2.640,2,   1.500,2,   0.282,2,-999.0000,9,  2229.8,2,  2325.2,2,   7.6152,4,    25.00,-999.000,9,-999.0000,9,-999.000,9,  -0.5438,2, -999.00,9,  -999.0,9,  -999.0,-999.000,9, -999.00,9,-999.000,9,   42.02,2,   34.25,2, -68.8128, 171.3926,-999.000,     -999.0,    34.5476,2,     -999.0,9,     -999.0,9,-999.0000,9,-999.0000,9,-999.0000,9,-999.0000,9,-999.0000,9,-999.0000,9,-999.0000,9,-999.0000,9,-999.0000,9,-999.0000,-999.000,  -0.5252,     -999.0,     -999.0,9,     -999.0,9,     -999.0,9,     -999.0,9,     -999.0,20110227,       0814
320620110219,       S04P,      13,          1,         32,         32,2,20110227,       0643,   -68.8128,   171.3925,       3173,   109.6,   0.5647,  34.5456,2,  34.5491,2,    219.7,2,   210.9,2,   85.79,2,   32.41,2,    0.04,2,    2.18,2,-999.000,9,-999.000,9,-999.000,9,-999.0000,9,  2245.8,2,  2335.5,2,   7.5728,2,    25.00,-999.000,9,-999.0000,9,-999.000,9,   0.5652,2, -999.00,9,  -999.0,9,  -999.0,-999.000,9, -999.00,9,-999.000,9,   41.28,2,   34.57,2, -68.8128, 171.3926,-999.000,     -999.0,    34.7120,2,     -999.0,9,     -999.0,9,-999.0000,9,-999.0000,9,-999.0000,9,-999.0000,9,-999.0000,9,-999.0000,9,-999.0000,9,-999.0000,9,-999.0000,9,-999.0000,-999.000,   0.5602,     -999.0,     -999.0,9,     -999.0,9,     -999.0,9,     -999.0,9,     -999.0,20110227,       0813
320620110219,       S04P,      13,          1,         31,         31,2,20110227,       0643,   -68.8128,   171.3925,       3173,   135.5,   1.0730,  34.6277,2,  34.6289,2,    205.3,2,   195.5,2,   90.58,2,   32.68,2,    0.01,2,    2.19,2,   0.921,2,   0.466,2,   0.084,2,-999.0000,9,  -999.0,9,  -999.0,9,-999.0000,9,  -999.00,-999.000,9,-999.0000,9,-999.000,9,   1.0758,2, -999.00,9,  -999.0,9,  -999.0,-999.000,9, -999.00,9,-999.000,9,   41.02,2,   34.85,2, -68.8128, 171.3925,-999.000,     -999.0,    34.7922,2,     -999.0,9,     -999.0,9,-999.0000,9,-999.0000,9,-999.0000,9,-999.0000,9,-999.0000,9,-999.0000,9,-999.0000,9,-999.0000,9,-999.0000,9,-999.0000,-999.000,   1.0669,     -999.0,     -999.0,9,     -999.0,9,     -999.0,9,     -999.0,9,     -999.0,20110227,       0811
320620110219,       S04P,      13,          1,         30,         30,2,20110227,       0643,   -68.8128,   171.3925,       3173,   161.3,   1.2682,  34.6647,2,  34.6664,2,    195.8,2,   189.6,2,   92.36,2,   32.49,2,    0.04,2,    2.20,2,-999.000,9,-999.000,9,-999.000,9,-999.0000,9,  2257.9,2,  2344.2,2,   7.5696,2,    25.00,-999.000,9,-999.0000,9,-999.000,9,   1.2701,2, -999.00,9,  -999.0,9,  -999.0,-999.000,9, -999.00,9,-999.000,9,   41.20,2,   35.22,2, -68.8128, 171.3926,-999.000,     -999.0,    34.8299,2,     -999.0,9,     -999.0,9,-999.0000,9,-999.0000,9,-999.0000,9,-999.0000,9,-999.0000,9,-999.0000,9,-999.0000,9,-999.0000,9,-999.0000,9,-999.0000,-999.000,   1.2606,     -999.0,     -999.0,9,     -999.0,9,     -999.0,9,     -999.0,9,     -999.0,20110227,       0810
320620110219,       S04P,      13,          1,         29,         29,2,20110227,       0643,   -68.8128,   171.3925,       3173,   184.5,   1.3636,  34.6851,2,  34.6835,2,    190.5,2,   188.3,2,   93.73,2,   32.84,2,    0.04,2,    2.19,2,   0.523,2,   0.304,2,   0.053,2,-999.0000,9,  -999.0,9,  -999.0,9,-999.0000,9,  -999.00,-999.000,9,-999.0000,9,-999.000,9,   1.3641,2, -999.00,9,  -999.0,9,  -999.0,-999.000,9, -999.00,9,-999.000,9,   40.65,2,   35.53,2, -68.8128, 171.3925,-999.000,     -999.0,    34.8470,2,     -999.0,9,     -999.0,9,-999.0000,9,-999.0000,9,-999.0000,9,-999.0000,9,-999.0000,9,-999.0000,9,-999.0000,9,-999.0000,9,-999.0000,9,-999.0000,-999.000,   1.3547,     -999.0,     -999.0,9,     -999.0,9,     -999.0,9,     -999.0,9,     -999.0,20110227,       0808
320620110219,       S04P,      13,          1,         28,         28,2,20110227,       0643,   -68.8128,   171.3925,       3173,   214.7,   1.3990,  34.7004,2,  34.7002,2,    188.0,2,   188.0,2,   95.55,2,   32.46,2,    0.01,2,    2.17,2,-999.000,9,-999.000,9,-999.000,9,-999.0000,9,  2259.1,2,  2347.8,2,   7.5758,2,    25.00,-999.000,9,-999.0000,9,-999.000,9,   1.3988,2, -999.00,9,  -999.0,9,  -999.0,-999.000,9, -999.00,9,-999.000,9,   40.76,2,   35.52,2, -68.8128, 171.3925,-999.000,     -999.0,    34.8638,2,     -999.0,9,     -999.0,9,-999.0000,9,-999.0000,9,-999.0000,9,-999.0000,9,-999.0000,9,-999.0000,9,-999.0000,9,-999.0000,9,-999.0000,9,-999.0000,-999.000,   1.3885,     -999.0,     -999.0,9,     -999.0,9,     -999.0,9,     -999.0,9,     -999.0,20110227,       0806
320620110219,       S04P,      13,          1,         27,         27,2,20110227,       0643,   -68.8128,   171.3925,       3173,   265.5,   1.3898,  34.7098,2,  34.7094,2,    187.5,2,   188.4,2,   97.70,2,   32.59,2,    0.01,2,    2.17,2,   0.355,2,   0.205,2,   0.043,2,-999.0000,9,  2261.8,2,  2348.4,2,   7.5742,2,    25.00,-999.000,9,-999.0000,9,-999.000,9,   1.3902,2, -999.00,9,  -999.0,9,  -999.0,-999.000,9, -999.00,9,-999.000,9,   40.64,2,   35.44,2, -68.8128, 171.3925,-999.000,     -999.0,    34.8730,2,     -999.0,9,     -999.0,9,-999.0000,9,-999.0000,9,-999.0000,9,-999.0000,9,-999.0000,9,-999.0000,9,-999.0000,9,-999.0000,9,-999.0000,9,-999.0000,-999.000,   1.3767,     -999.0,     -999.0,9,     -999.0,9,     -999.0,9,     -999.0,9,     -999.0,20110227,       0804
320620110219,       S04P,      13,          1,         26,         26,2,20110227,       0643,   -68.8128,   171.3925,       3173,   314.4,   1.3717,  34.7158,2,  34.7153,2,    187.9,2,   188.5,2,   99.81,2,   32.40,2,    0.02,2,    2.16,2,-999.000,9,-999.000,9,-999.000,9,-999.0000,9,  2262.1,2,  2350.2,2,   7.5775,2,    25.00,-999.000,9,-999.0000,9,-999.000,9,   1.3708,2, -999.00,9,  -999.0,9,  -999.0,-999.000,9, -999.00,9,-999.000,9,   39.61,2,   35.35,2, -68.8128, 171.3926,-999.000,     -999.0,    34.8790,2,     -999.0,9,     -999.0,9,-999.0000,9,-999.0000,9,-999.0000,9,-999.0000,9,-999.0000,9,-999.0000,9,-999.0000,9,-999.0000,9,-999.0000,9,-999.0000,-999.000,   1.3561,     -999.0,     -999.0,9,     -999.0,9,     -999.0,9,     -999.0,9,     -999.0,20110227,       0803
320620110219,       S04P,      13,          1,         25,         25,2,20110227,       0643,   -68.8128,   171.3925,       3173,   364.3,   1.3430,  34.7191,2,  34.7190,2,    188.3,2,   188.4,2,  100.98,2,   32.47,2,    0.01,2,    2.16,2,   0.237,2,   0.125,2,   0.024,2,-999.0000,9,  2259.7,2,  2351.7,2,   7.5780,2,    25.00,-999.000,9,-999.0000,9,-999.000,9,   1.3428,2, -999.00,9,  -999.0,9,  -999.0,-999.000,9, -999.00,9,-999.000,9,   39.93,2,   35.67,2, -68.8128, 171.3925,-999.000,     -999.0,    34.8827,2,     -999.0,9,     -999.0,9,-999.0000,9,-999.0000,9,-999.0000,9,-999.0000,9,-999.0000,9,-999.0000,9,-999.0000,9,-999.0000,9,-999.0000,9,-999.0000,-999.000,   1.3249,     -999.0,     -999.0,9,     -999.0,9,     -999.0,9,     -999.0,9,     -999.0,20110227,       0801
320620110219,       S04P,      13,          1,         24,         24,2,20110227,       0643,   -68.8128,   171.3925,       3173,   414.1,   1.3153,  34.7208,2,  34.7210,2,    188.6,2,   188.6,2,  102.08,2,   32.33,2,    0.02,2,    2.16,2,-999.000,9,-999.000,9,-999.000,9,-999.0000,9,  2259.7,2,  2353.1,2,   7.5790,2,    25.00,-999.000,9,-999.0000,9,-999.000,9,   1.3156,2, -999.00,9,  -999.0,9,  -999.0,-999.000,9, -999.00,9,-999.000,9,   39.71,2,   35.23,2, -68.8128, 171.3926,-999.000,     -999.0,    34.8847,2,     -999.0,9,     -999.0,9,-999.0000,9,-999.0000,9,-999.0000,9,-999.0000,9,-999.0000,9,-999.0000,9,-999.0000,9,-999.0000,9,-999.0000,9,-999.0000,-999.000,   1.2946,     -999.0,     -999.0,9,     -999.0,9,     -999.0,9,     -999.0,9,     -999.0,20110227,       0759
320620110219,       S04P,      13,          1,         23,         23,2,20110227,       0643,   -68.8128,   171.3925,       3173,   464.6,   1.2934,  34.7236,2,  34.7229,2,    188.2,2,   188.9,2,  103.97,2,   32.27,2,    0.01,2,    2.17,2,-999.000,9,-999.000,9,-999.000,9,-999.0000,9,  -999.0,9,  -999.0,9,-999.0000,9,  -999.00,-999.000,9,-999.0000,9,-999.000,9,   1.2939,2, -999.00,9,  -999.0,9,  -999.0,-999.000,9, -999.00,9,-999.000,9,   40.34,2,   34.57,2, -68.8128, 171.3925,-999.000,     -999.0,    34.8867,2,     -999.0,9,     -999.0,9,-999.0000,9,-999.0000,9,-999.0000,9,-999.0000,9,-999.0000,9,-999.0000,9,-999.0000,9,-999.0000,9,-999.0000,9,-999.0000,-999.000,   1.2701,     -999.0,     -999.0,9,     -999.0,9,     -999.0,9,     -999.0,9,     -999.0,20110227,       0757
320620110219,       S04P,      13,          1,         22,         22,2,20110227,       0643,   -68.8128,   171.3925,       3173,   535.2,   1.2479,  34.7251,2,  34.7253,2,    189.0,2,   189.5,2,  106.15,2,   32.34,2,    0.00,2,    2.18,2,-999.000,9,-999.000,9,-999.000,9,-999.0000,9,  2262.4,2,  2355.4,2,   7.5814,2,    25.00,-999.000,9,-999.0000,9,-999.000,9,   1.2472,2, -999.00,9,  -999.0,9,  -999.0,-999.000,9, -999.00,9,-999.000,9,   40.63,2,   34.64,2, -68.8128, 171.3926,-999.000,     -999.0,    34.8890,2,     -999.0,9,     -999.0,9,-999.0000,9,-999.0000,9,-999.0000,9,-999.0000,9,-999.0000,9,-999.0000,9,-999.0000,9,-999.0000,9,-999.0000,9,-999.0000,-999.000,   1.2209,     -999.0,     -999.0,9,     -999.0,9,     -999.0,9,     -999.0,9,     -999.0,20110227,       0754
320620110219,       S04P,      13,          1,         21,         21,2,20110227,       0643,   -68.8128,   171.3925,       3173,   635.4,   1.1877,  34.7254,2,  34.7239,2,    190.7,2,   190.4,2,  108.97,2,   32.30,2,    0.00,2,    2.17,2,   0.103,2,   0.066,2,   0.011,2,-999.0000,9,  2262.8,2,  2356.0,2,   7.5819,2,    25.00,-999.000,9,-999.0000,9,-999.000,9,   1.1878,2, -999.00,9,  -999.0,9,  -999.0,-999.000,9, -999.00,9,-999.000,9,   40.91,2,   34.67,2, -68.8128, 171.3925,-999.000,     -999.0,    34.8876,2,     -999.0,9,     -999.0,9,-999.0000,9,-999.0000,9,-999.0000,9,-999.0000,9,-999.0000,9,-999.0000,9,-999.0000,9,-999.0000,9,-999.0000,9,-999.0000,-999.000,   1.1554,     -999.0,     -999.0,9,     -999.0,9,     -999.0,9,     -999.0,9,     -999.0,20110227,       0751
320620110219,       S04P,      13,          1,         20,         20,2,20110227,       0643,   -68.8128,   171.3925,       3173,   734.5,   1.1141,  34.7233,2,  34.7231,2,    192.9,2,   192.7,2,  111.03,2,   32.21,2,    0.00,2,    2.16,2,-999.000,9,-999.000,9,-999.000,9,-999.0000,9,  -999.0,9,  -999.0,9,-999.0000,9,  -999.00,-999.000,9,-999.0000,9,-999.000,9,   1.1142,2, -999.00,9,  -999.0,9,  -999.0,-999.000,9, -999.00,9,-999.000,9,   40.42,2,   35.01,2, -68.8128, 171.3926,-999.000,     -999.0,    34.8868,2,     -999.0,9,     -999.0,9,-999.0000,9,-999.0000,9,-999.0000,9,-999.0000,9,-999.0000,9,-999.0000,9,-999.0000,9,-999.0000,9,-999.0000,9,-999.0000,-999.000,   1.0766,     -999.0,     -999.0,9,     -999.0,9,     -999.0,9,     -999.0,9,     -999.0,20110227,       0749
320620110219,       S04P,      13,          1,         19,         19,2,20110227,       0643,   -68.8128,   171.3925,       3173,   835.1,   1.0330,  34.7204,2,  34.7206,2,    195.4,2,   195.9,2,  112.90,2,   32.16,2,    0.00,2,    2.16,2,   0.092,2,   0.058,2,   0.007,2,-999.0000,9,  2263.3,2,  2358.0,2,   7.5869,2,    25.00,-999.000,9,-999.0000,9,-999.000,9,   1.0336,2, -999.00,9,  -999.0,9,  -999.0,-999.000,9, -999.00,9,-999.000,9,   39.75,2,   34.37,2, -68.8128, 171.3926,-999.000,     -999.0,    34.8843,2,     -999.0,9,     -999.0,9,-999.0000,9,-999.0000,9,-999.0000,9,-999.0000,9,-999.0000,9,-999.0000,9,-999.0000,9,-999.0000,9,-999.0000,9,-999.0000,-999.000,   0.9902,     -999.0,     -999.0,9,     -999.0,9,     -999.0,9,     -999.0,9,     -999.0,20110227,       0746
320620110219,       S04P,      13,          1,         18,         18,2,20110227,       0643,   -68.8128,   171.3925,       3173,   935.4,   0.9617,  34.7181,2,  34.7182,2,    197.3,2,   197.2,2,  115.45,2,   32.23,2,    0.00,2,    2.17,2,-999.000,9,-999.000,9,-999.000,9,-999.0000,9,  -999.0,9,  -999.0,9,-999.0000,9,  -999.00,-999.000,9,-999.0000,9,-999.000,9,   0.9617,2, -999.00,9,  -999.0,9,  -999.0,-999.000,9, -999.00,9,-999.000,9,   40.40,2,   34.40,2, -68.8128, 171.3925,-999.000,     -999.0,    34.8819,2,     -999.0,9,     -999.0,9,-999.0000,9,-999.0000,9,-999.0000,9,-999.0000,9,-999.0000,9,-999.0000,9,-999.0000,9,-999.0000,9,-999.0000,9,-999.0000,-999.000,   0.9135,     -999.0,     -999.0,9,     -999.0,9,     -999.0,9,     -999.0,9,     -999.0,20110227,       0743
320620110219,       S04P,      13,          1,         17,         17,2,20110227,       0643,   -68.8128,   171.3925,       3173,  1034.4,   0.9003,  34.7161,2,  34.7312,4,    198.8,2,   199.0,2,  117.73,2,   32.21,2,    0.00,2,    2.19,2,   0.082,2,   0.049,2,   0.010,2,-999.0000,9,  2262.6,2,  2358.5,2,   7.5879,2,    25.00,-999.000,9,-999.0000,9,-999.000,9,   0.9001,2, -999.00,9,  -999.0,9,  -999.0,-999.000,9, -999.00,9,-999.000,9,   40.02,2,   34.40,2, -68.8128, 171.3926,-999.000,     -999.0,    34.8949,4,     -999.0,9,     -999.0,9,-999.0000,9,-999.0000,9,-999.0000,9,-999.0000,9,-999.0000,9,-999.0000,9,-999.0000,9,-999.0000,9,-999.0000,9,-999.0000,-999.000,   0.8466,     -999.0,     -999.0,9,     -999.0,9,     -999.0,9,     -999.0,9,     -999.0,20110227,       0740
320620110219,       S04P,      13,          1,         16,         16,2,20110227,       0643,   -68.8128,   171.3925,       3173,  1134.7,   0.8531,  34.7146,2,  34.7147,2,    200.1,2,   199.8,2,  118.35,2,   32.28,2,    0.00,2,    2.19,2,-999.000,9,-999.000,9,-999.000,9,-999.0000,9,  -999.0,9,  -999.0,9,-999.0000,9,  -999.00,-999.000,9,-999.0000,9,-999.000,9,   0.8531,2, -999.00,9,  -999.0,9,  -999.0,-999.000,9, -999.00,9,-999.000,9,   40.37,2,   34.54,2, -68.8128, 171.3926,-999.000,     -999.0,    34.8784,2,     -999.0,9,     -999.0,9,-999.0000,9,-999.0000,9,-999.0000,9,-999.0000,9,-999.0000,9,-999.0000,9,-999.0000,9,-999.0000,9,-999.0000,9,-999.0000,-999.000,   0.7937,     -999.0,     -999.0,9,     -999.0,9,     -999.0,9,     -999.0,9,     -999.0,20110227,       0737
320620110219,       S04P,      13,          1,         15,         15,2,20110227,       0643,   -68.8128,   171.3925,       3173,  1234.8,   0.8054,  34.7129,2,  34.7127,2,    201.1,2,   201.3,2,  120.17,2,   32.00,2,    0.00,2,    2.17,2,   0.104,2,   0.060,2,   0.006,2,-999.0000,9,  2262.3,2,  2359.8,2,   7.5902,2,    25.00,-999.000,9,-999.0000,9,-999.000,9,   0.8051,2, -999.00,9,  -999.0,9,  -999.0,-999.000,9, -999.00,9,-999.000,9,   40.42,2,   33.74,2, -68.8128, 171.3925,-999.000,     -999.0,    34.8764,2,     -999.0,9,     -999.0,9,-999.0000,9,-999.0000,9,-999.0000,9,-999.0000,9,-999.0000,9,-999.0000,9,-999.0000,9,-999.0000,9,-999.0000,9,-999.0000,-999.000,   0.7402,     -999.0,     -999.0,9,     -999.0,9,     -999.0,9,     -999.0,9,     -999.0,20110227,       0734
320620110219,       S04P,      13,          1,         14,         14,2,20110227,       0643,   -68.8128,   171.3925,       3173,  1333.5,   0.7652,  34.7115,2,  34.7117,2,    202.0,2,   203.0,2,  121.31,2,   32.08,2,    0.00,2,    2.20,2,-999.000,9,-999.000,9,-999.000,9,-999.0000,9,  -999.0,9,  -999.0,9,-999.0000,9,  -999.00,-999.000,9,-999.0000,9,-999.000,9,   0.7654,2, -999.00,9,  -999.0,9,  -999.0,-999.000,9, -999.00,9,-999.000,9,   40.39,2,   33.90,2, -68.8128, 171.3926,-999.000,     -999.0,    34.8754,2,     -999.0,9,     -999.0,9,-999.0000,9,-999.0000,9,-999.0000,9,-999.0000,9,-999.0000,9,-999.0000,9,-999.0000,9,-999.0000,9,-999.0000,9,-999.0000,-999.000,   0.6941,     -999.0,     -999.0,9,     -999.0,9,     -999.0,9,     -999.0,9,     -999.0,20110227,       0732