BOTTLE,20220813CCHSIOAMB
EXPOCODE,SECT_ID,STNNBR,CASTNO,SAMPNO,BTLNBR,BTLNBR_FLAG_W,DATE,TIME,LATITUDE,LONGITUDE,DEPTH,CTDPRS,CTDTMP,CTDSAL,CTDSAL_FLAG_W,SALNTY,SALNTY_FLAG_W,CTDOXY,CTDOXY_FLAG_W,OXYGEN,OXYGEN_FLAG_W,SILCAT,SILCAT_FLAG_W,NITRAT,NITRAT_FLAG_W,NITRIT,NITRIT_FLAG_W,PHSPHT,PHSPHT_FLAG_W,CFC-11,CFC-11_FLAG_W,CFC-12,CFC-12_FLAG_W,CFC113,CFC113_FLAG_W,SF6,SF6_FLAG_W,TCARBN,TCARBN_FLAG_W,ALKALI,ALKALI_FLAG_W,PH_TOT,PH_TOT_FLAG_W,PH_TMP,TRITUM,TRITUM_FLAG_W,HELIUM,HELIUM_FLAG_W,DELHE3,DELHE3_FLAG_W,REFTMP,REFTMP_FLAG_W,DELC13,DELC13_FLAG_W,DELC14,DELC14_FLAG_W,C14ERR,NEON,NEON_FLAG_W,DELO18,DELO18_FLAG_W,POC,POC_FLAG_W,DOC,DOC_FLAG_W,TDN,TDN_FLAG_W,BTL_LAT,BTL_LON,TRITER,NEONER,SALTREF,SALTREF_FLAG_W,PIGMENTS,PIGMENTS_FLAG_W,LAB_DEN,LAB_DEN_FLAG_W,CDOM325,CDOM325_FLAG_W,CDOM340,CDOM340_FLAG_W,CDOM380,CDOM380_FLAG_W,CDOM412,CDOM412_FLAG_W,CDOM443,CDOM443_FLAG_W,CDOM490,CDOM490_FLAG_W,CDOM555,CDOM555_FLAG_W,CDOMSL,CDOMSL_FLAG_W,CDOMSN,CDOMSN_FLAG_W,HELIER,DELHER,THETA,LDEO_SAMPNO,ABSORBTION,ABSORBTION_FLAG_W,IMAGE_COUNT,IMAGE_COUNT_FLAG_W,CYTO_COUNT,CYTO_COUNT_FLAG_W,DELD,DELD_FLAG_W,DELDERR,BTL_DATE,BTL_TIME
,,,,,,,,,,,METERS,DBAR,ITS-90,PSS-78,,PSS-78,,UMOL/KG,,UMOL/KG,,UMOL/KG,,UMOL/KG,,UMOL/KG,,UMOL/KG,,PMOL/KG,,PMOL/KG,,PMOL/KG,,FMOL/KG,,UMOL/KG,,UMOL/KG,,,,DEG C,TU,,NMOL/KG,,PERCNT,,DEG C,,/MILLE,,/MILLE,,/MILLE,NMOL/KG,,/MILLE,,UG/KG,,UMOL/KG,,UMOL/KG,,,,TU,NMOL/KG,G/KG,,,,,,1/M,,1/M,,1/M,,1/M,,1/M,,1/M,,1/M,,1/NM,,1/NM,,NMOL/KG,PERCNT,DEG C,,,,,,,,/MILLE,,/MILLE,,
320620110219,       P16S,      48,          1,         13,         13,2,20110312,       0324,   -68.5041,  -149.9994,       4360,  1599.5,   0.7188,  34.7093,2,  34.7109,2,    203.3,2,   203.3,2,  121.73,2,   31.63,2,    0.00,2,    2.25,2,   0.102,2,   0.054,2,   0.009,2,   0.0570,2,  2259.5,2,  2362.1,2,   7.5930,2,    25.00,-999.000,9,-999.0000,9,-999.000,9,   0.7191,2, -999.00,9,  -999.0,9,  -999.0,-999.000,9, -999.00,9,-999.000,9,   39.82,2,   34.53,2, -68.5041,-149.9994,-999.000,     -999.0,    34.8746,2,     -999.0,9,     -999.0,9,-999.0000,9,-999.0000,9,-999.0000,9,-999.0000,9,-999.0000,9,-999.0000,9,-999.0000,9,-999.0000,9,-999.0000,9,-999.0000,-999.000,   0.6305,     -999.0,     -999.0,9,     -999.0,9,     -999.0,9,     -999.0,9,     -999.0,20110312,       0424
320620110219,       P16S,      48,          1,         12,         12,2,20110312,       0324,   -68.5041,  -149.9994,       4360,  1799.0,   0.6472,  34.7069,2,  34.7074,2,    205.2,2,   204.4,2,  123.87,2,   31.67,2,    0.00,2,    2.25,2,-999.000,9,-999.000,9,-999.000,9,-999.0000,9,  -999.0,9,  -999.0,9,-999.0000,9,  -999.00,-999.000,9,-999.0000,9,-999.000,9,   0.6470,2, -999.00,9,  -999.0,9,  -999.0,-999.000,9,   -0.12,2,-999.000,9,   39.68,2,   34.42,2, -68.5041,-149.9994,-999.000,     -999.0,    34.8711,2,     -999.0,9,     -999.0,9,-999.0000,9,-999.0000,9,-999.0000,9,-999.0000,9,-999.0000,9,-999.0000,9,-999.0000,9,-999.0000,9,-999.0000,9,-999.0000,-999.000,   0.5459,     -999.0,     -999.0,9,     -999.0,9,     -999.0,9,      -1.28,2,       0.15,20110312,       0420
320620110219,       P16S,      48,          1,         11,         11,2,20110312,       0324,   -68.5041,  -149.9994,       4360,  2000.1,   0.5736,  34.7053,2,  34.7074,4,    206.8,2,   206.6,2,  125.04,2,   31.71,2,    0.00,2,    2.26,2,   0.128,2,   0.060,2,   0.010,2,   0.0890,2,  -999.0,9,  -999.0,9,-999.0000,9,  -999.00,-999.000,9,-999.0000,9,-999.000,9,   0.5737,2, -999.00,9,  -999.0,9,  -999.0,-999.000,9, -999.00,9,-999.000,9,   39.73,2,   34.25,2, -68.5041,-149.9994,-999.000,     -999.0,    34.8711,4,     -999.0,9,     -999.0,9,-999.0000,9,-999.0000,9,-999.0000,9,-999.0000,9,-999.0000,9,-999.0000,9,-999.0000,9,-999.0000,9,-999.0000,9,-999.0000,-999.000,   0.4588,     -999.0,     -999.0,9,     -999.0,9,     -999.0,9,     -999.0,9,     -999.0,20110312,       0415
320620110219,       P16S,      48,          1,         10,         37,2,20110312,       0324,   -68.5041,  -149.9994,       4360,  2248.6,   0.4816,  34.7040,2,  34.7049,2,    208.6,2,   209.1,2,  126.61,2,   31.86,2,    0.00,2,    2.26,2,-999.000,9,-999.000,9,-999.000,9,-999.0000,9,  2258.3,2,  2360.9,2,   7.5916,2,    25.00,-999.000,9,-999.0000,9,-999.000,9,   0.4819,2, -999.00,9,  -999.0,9,  -999.0,-999.000,9, -999.00,9,-999.000,9,   39.77,2,   34.30,2, -68.5041,-149.9994,-999.000,     -999.0,    34.8685,2,     -999.0,9,     -999.0,9,-999.0000,9,-999.0000,9,-999.0000,9,-999.0000,9,-999.0000,9,-999.0000,9,-999.0000,9,-999.0000,9,-999.0000,9,-999.0000,-999.000,   0.3495,     -999.0,     -999.0,9,     -999.0,9,     -999.0,9,     -999.0,9,     -999.0,20110312,       0410
320620110219,       P16S,      48,          1,          9,          9,2,20110312,       0324,   -68.5041,  -149.9994,       4360,  2500.8,   0.4001,  34.7032,2,  34.7037,2,    210.7,2,   210.6,2,  128.38,2,   32.02,2,    0.00,2,    2.25,2,-999.000,9,-999.000,9,-999.000,9,-999.0000,9,  -999.0,9,  -999.0,9,-999.0000,9,  -999.00,-999.000,9,-999.0000,9,-999.000,9,   0.4007,2, -999.00,9,  -999.0,9,  -999.0,-999.000,9,   -0.26,2,-999.000,9,   40.41,2,   34.24,2, -68.5041,-149.9994,-999.000,     -999.0,    34.8674,2,     -999.0,9,     -999.0,9,-999.0000,9,-999.0000,9,-999.0000,9,-999.0000,9,-999.0000,9,-999.0000,9,-999.0000,9,-999.0000,9,-999.0000,9,-999.0000,-999.000,   0.2496,     -999.0,     -999.0,9,     -999.0,9,     -999.0,9,      -1.92,2,       0.69,20110312,       0405
320620110219,       P16S,      48,          1,          8,          8,2,20110312,       0324,   -68.5041,  -149.9994,       4360,  2749.3,   0.3375,  34.7027,2,  34.7035,2,    212.2,2,   212.3,2,  130.22,2,   32.06,2,    0.00,2,    2.26,2,   0.165,2,   0.086,2,   0.012,2,   0.0840,2,  -999.0,9,  -999.0,9,-999.0000,9,  -999.00,-999.000,9,-999.0000,9,-999.000,9,   0.3379,2, -999.00,9,  -999.0,9,  -999.0,-999.000,9, -999.00,9,-999.000,9,   40.44,2,   34.40,2, -68.5041,-149.9994,-999.000,     -999.0,    34.8672,2,     -999.0,9,     -999.0,9,-999.0000,9,-999.0000,9,-999.0000,9,-999.0000,9,-999.0000,9,-999.0000,9,-999.0000,9,-999.0000,9,-999.0000,9,-999.0000,-999.000,   0.1679,     -999.0,     -999.0,9,     -999.0,9,     -999.0,9,     -999.0,9,     -999.0,20110312,       0400
320620110219,       P16S,      48,          1,          7,          7,2,20110312,       0324,   -68.5041,  -149.9994,       4360,  3000.8,   0.2884,  34.7017,2,  34.7020,2,    214.0,2,   214.6,2,  130.68,2,   32.12,2,    0.00,2,    2.25,2,-999.000,9,-999.000,9,-999.000,9,-999.0000,9,  2259.2,2,  2361.2,2,   7.5932,2,    25.00,-999.000,9,-999.0000,9,-999.000,9,   0.2885,2, -999.00,9,  -999.0,9,  -999.0,-999.000,9, -999.00,9,-999.000,9,   40.45,2,   34.93,2, -68.5041,-149.9994,-999.000,     -999.0,    34.8656,2,     -999.0,9,     -999.0,9,-999.0000,9,-999.0000,9,-999.0000,9,-999.0000,9,-999.0000,9,-999.0000,9,-999.0000,9,-999.0000,9,-999.0000,9,-999.0000,-999.000,   0.0983,     -999.0,     -999.0,9,     -999.0,9,     -999.0,9,     -999.0,9,     -999.0,20110312,       0355
320620110219,       P16S,      48,          1,          6,          6,2,20110312,       0324,   -68.5041,  -149.9994,       4360,  3299.1,   0.2289,  34.6994,2,  34.6997,2,    217.2,2,   217.0,2,  129.06,2,   32.07,2,    0.00,2,    2.25,2,   0.444,2,   0.229,2,   0.031,2,   0.0900,2,  -999.0,9,  -999.0,9,-999.0000,9,  -999.00,-999.000,9,-999.0000,9,-999.000,9,   0.2291,2, -999.00,9,  -999.0,9,  -999.0,-999.000,9, -999.00,9,-999.000,9,   40.71,2,   34.83,2, -68.5041,-149.9994,-999.000,     -999.0,    34.8633,2,     -999.0,9,     -999.0,9,-999.0000,9,-999.0000,9,-999.0000,9,-999.0000,9,-999.0000,9,-999.0000,9,-999.0000,9,-999.0000,9,-999.0000,9,-999.0000,-999.000,   0.0135,     -999.0,     -999.0,9,     -999.0,9,     -999.0,9,     -999.0,9,     -999.0,20110312,       0349
320620110219,       P16S,      48,          1,          5,          5,2,20110312,       0324,   -68.5041,  -149.9994,       4360,  3600.1,   0.1834,  34.6964,2,  34.6966,2,    220.2,2,   220.3,2,  123.36,2,   31.95,2,    0.00,2,    2.25,2,   0.728,2,   0.366,2,   0.047,2,   0.1270,2,  -999.0,9,  -999.0,9,-999.0000,9,  -999.00,-999.000,9,-999.0000,9,-999.000,9,   0.1838,2, -999.00,9,  -999.0,9,  -999.0,-999.000,9,   -0.32,2,-999.000,9,   40.53,2,   34.68,2, -68.5041,-149.9994,-999.000,     -999.0,    34.8602,2,     -999.0,9,     -999.0,9,-999.0000,9,-999.0000,9,-999.0000,9,-999.0000,9,-999.0000,9,-999.0000,9,-999.0000,9,-999.0000,9,-999.0000,9,-999.0000,-999.000,  -0.0589,     -999.0,     -999.0,9,     -999.0,9,     -999.0,9,      -2.72,2,       0.16,20110312,       0342
320620110219,       P16S,      48,          1,          4,          4,2,20110312,       0324,   -68.5041,  -149.9994,       4360,  3899.4,   0.1885,  34.6964,2,  34.6970,2,    221.2,2,   220.6,2,  122.88,2,   32.02,2,    0.00,2,    2.25,2,   0.758,2,   0.381,2,   0.047,2,   0.1660,2,  2256.7,2,  2360.0,2,   7.5915,2,    25.00,-999.000,9,-999.0000,9,-999.000,9,   0.1888,2, -999.00,9,  -999.0,9,  -999.0,-999.000,9, -999.00,9,-999.000,9,   40.80,2,   34.94,2, -68.5041,-149.9994,-999.000,     -999.0,    34.8606,2,     -999.0,9,     -999.0,9,-999.0000,9,-999.0000,9,-999.0000,9,-999.0000,9,-999.0000,9,-999.0000,9,-999.0000,9,-999.0000,9,-999.0000,9,-999.0000,-999.000,  -0.0831,     -999.0,     -999.0,9,     -999.0,9,     -999.0,9,     -999.0,9,     -999.0,20110312,       0336
320620110219,       P16S,      48,          1,          3,          3,9,20110312,       0324,   -68.5041,  -149.9994,       4360,  4199.2,   0.2088,  34.6971,2,-999.0000,9,   -999.0,9,  -999.0,9, -999.00,9, -999.00,9, -999.00,9, -999.00,9,-999.000,9,-999.000,9,-999.000,9,-999.0000,9,  -999.0,9,  -999.0,9,-999.0000,9,  -999.00,-999.000,9,-999.0000,9,-999.000,9,   0.2087,2, -999.00,9,  -999.0,9,  -999.0,-999.000,9, -999.00,9,-999.000,9, -999.00,9, -999.00,9, -68.5041,-149.9994,-999.000,     -999.0,     -999.0,9,     -999.0,9,     -999.0,9,-999.0000,9,-999.0000,9,-999.0000,9,-999.0000,9,-999.0000,9,-999.0000,9,-999.0000,9,-999.0000,9,-999.0000,9,-999.0000,-999.000,  -0.0940,     -999.0,     -999.0,9,     -999.0,9,     -999.0,9,     -999.0,9,     -999.0,20110312,       0330
320620110219,       P16S,      48,          1,          2,          2,2,20110312,       0324,   -68.5041,  -149.9994,       4360,  4350.8,   0.2237,  34.6970,2,  34.6976,2,    220.3,2,   220.1,2,  124.57,2,   32.04,2,    0.00,2,    2.25,2,   0.757,2,   0.370,2,   0.045,2,   0.1180,2,  2257.8,2,  2359.6,6,   7.5900,6,    25.00,-999.000,9,-999.0000,9,-999.000,9,   0.2238,2, -999.00,9,  -999.0,9,  -999.0,-999.000,9, -999.00,9,-999.000,9,   40.55,2,   34.57,2, -68.5041,-149.9994,-999.000,     -999.0,    34.8612,2,     -999.0,9,     -999.0,9,-999.0000,9,-999.0000,9,-999.0000,9,-999.0000,9,-999.0000,9,-999.0000,9,-999.0000,9,-999.0000,9,-999.0000,9,-999.0000,-999.000,  -0.0954,     -999.0,     -999.0,9,     -999.0,9,     -999.0,9,     -999.0,9,     -999.0,20110312,       0327
320620110219,       P16S,      48,          1,          1,          1,2,20110312,       0324,   -68.5041,  -149.9994,       4360,  4437.2,   0.2335,  34.6971,2,  34.6970,2,    220.2,2,   220.6,2,  124.51,2,   32.03,2,    0.00,2,    2.25,2,   0.794,2,   0.394,2,   0.050,2,   0.1550,2,  2259.8,2,  2359.1,2,   7.5917,2,    25.00,-999.000,9,-999.0000,9,-999.000,9,   0.2331,2, -999.00,9,  -999.0,9,  -999.0,-999.000,9,   -0.24,2,-999.000,9,   40.10,2,   34.60,2, -68.5041,-149.9994,-999.000,     -999.0,    34.8606,2,     -999.0,9,     -999.0,9,-999.0000,9,-999.0000,9,-999.0000,9,-999.0000,9,-999.0000,9,-999.0000,9,-999.0000,9,-999.0000,9,-999.0000,9,-999.0000,-999.000,  -0.0952,     -999.0,     -999.0,9,     -999.0,9,     -999.0,9,      -2.46,2,       0.60,20110312,       0324