BOTTLE,20220813CCHSIOAMB
EXPOCODE,SECT_ID,STNNBR,CASTNO,SAMPNO,BTLNBR,BTLNBR_FLAG_W,DATE,TIME,LATITUDE,LONGITUDE,DEPTH,CTDPRS,CTDTMP,CTDSAL,CTDSAL_FLAG_W,SALNTY,SALNTY_FLAG_W,CTDOXY,CTDOXY_FLAG_W,OXYGEN,OXYGEN_FLAG_W,SILCAT,SILCAT_FLAG_W,NITRAT,NITRAT_FLAG_W,NITRIT,NITRIT_FLAG_W,PHSPHT,PHSPHT_FLAG_W,CFC-11,CFC-11_FLAG_W,CFC-12,CFC-12_FLAG_W,CFC113,CFC113_FLAG_W,SF6,SF6_FLAG_W,TCARBN,TCARBN_FLAG_W,ALKALI,ALKALI_FLAG_W,PH_TOT,PH_TOT_FLAG_W,PH_TMP,TRITUM,TRITUM_FLAG_W,HELIUM,HELIUM_FLAG_W,DELHE3,DELHE3_FLAG_W,REFTMP,REFTMP_FLAG_W,DELC13,DELC13_FLAG_W,DELC14,DELC14_FLAG_W,C14ERR,NEON,NEON_FLAG_W,DELO18,DELO18_FLAG_W,POC,POC_FLAG_W,DOC,DOC_FLAG_W,TDN,TDN_FLAG_W,BTL_LAT,BTL_LON,TRITER,NEONER,SALTREF,SALTREF_FLAG_W,PIGMENTS,PIGMENTS_FLAG_W,LAB_DEN,LAB_DEN_FLAG_W,CDOM325,CDOM325_FLAG_W,CDOM340,CDOM340_FLAG_W,CDOM380,CDOM380_FLAG_W,CDOM412,CDOM412_FLAG_W,CDOM443,CDOM443_FLAG_W,CDOM490,CDOM490_FLAG_W,CDOM555,CDOM555_FLAG_W,CDOMSL,CDOMSL_FLAG_W,CDOMSN,CDOMSN_FLAG_W,HELIER,DELHER,THETA,LDEO_SAMPNO,ABSORBTION,ABSORBTION_FLAG_W,IMAGE_COUNT,IMAGE_COUNT_FLAG_W,CYTO_COUNT,CYTO_COUNT_FLAG_W,DELD,DELD_FLAG_W,DELDERR,BTL_DATE,BTL_TIME
,,,,,,,,,,,METERS,DBAR,ITS-90,PSS-78,,PSS-78,,UMOL/KG,,UMOL/KG,,UMOL/KG,,UMOL/KG,,UMOL/KG,,UMOL/KG,,PMOL/KG,,PMOL/KG,,PMOL/KG,,FMOL/KG,,UMOL/KG,,UMOL/KG,,,,DEG C,TU,,NMOL/KG,,PERCNT,,DEG C,,/MILLE,,/MILLE,,/MILLE,NMOL/KG,,/MILLE,,UG/KG,,UMOL/KG,,UMOL/KG,,,,TU,NMOL/KG,G/KG,,,,,,1/M,,1/M,,1/M,,1/M,,1/M,,1/M,,1/M,,1/NM,,1/NM,,NMOL/KG,PERCNT,DEG C,,,,,,,,/MILLE,,/MILLE,,
320620110219,       S04P,      39,          1,         36,         36,2,20110309,       0055,   -67.0001,  -157.5448,       3743,     3.6,  -0.4020,  33.6225,2,  33.6220,2,    338.9,3,   342.5,2,   46.93,2,   21.78,2,    0.16,2,    1.51,2,   5.992,2,   3.276,2,   0.578,2,   2.3350,2,  2150.2,6,  2279.5,2,   7.7064,2,    25.00,-999.000,9,-999.0000,9,-999.000,9,  -0.4023,2, -999.00,9,  -999.0,9,  -999.0,-999.000,9, -999.00,9,-999.000,9, -999.00,9, -999.00,9, -67.0002,-157.5447,-999.000,     -999.0,    33.7805,2,     -999.0,9,     -999.0,9,   0.0599,3,   0.0230,3,  -0.0107,4,  -0.0157,4,  -0.0222,4,  -0.0176,4,  -0.0163,4,   0.1051,4,   0.0728,4,-999.0000,-999.000,  -0.4021,     -999.0,     -999.0,9,     -999.0,9,     -999.0,9,     -999.0,9,     -999.0,20110309,       0232
320620110219,       S04P,      39,          1,         35,         35,2,20110309,       0055,   -67.0001,  -157.5448,       3743,    24.9,  -0.4073,  33.6333,2,  33.6321,2,    343.2,2,   342.3,2,   46.29,2,   21.68,2,    0.15,2,    1.51,2,   5.989,2,   3.283,2,   0.576,2,   2.3500,2,  2150.3,2,  2281.3,2,   7.7065,6,    25.00,-999.000,9,-999.0000,9,-999.000,9,  -0.4076,2, -999.00,9,  -999.0,9,  -999.0,-999.000,9, -999.00,9,-999.000,9, -999.00,9, -999.00,9, -67.0001,-157.5448,-999.000,     -999.0,    33.7907,2,     -999.0,9,     -999.0,9,   0.0667,2,   0.0309,3,  -0.0055,4,  -0.0152,4,  -0.0226,4,  -0.0181,4,  -0.0164,4,   0.0697,3,   0.0599,3,-999.0000,-999.000,  -0.4080,     -999.0,     -999.0,9,     -999.0,9,     -999.0,9,     -999.0,9,     -999.0,20110309,       0231
320620110219,       S04P,      39,          1,         34,         34,2,20110309,       0055,   -67.0001,  -157.5448,       3743,    48.7,  -1.0708,  33.9063,3,  33.7859,2,    337.4,2,   321.4,2,   51.56,2,   23.67,2,    0.19,2,    1.68,2,   5.377,2,   2.944,2,   0.491,2,   2.1970,2,  2173.2,2,  2289.1,6,   7.6750,2,    25.00,-999.000,9,-999.0000,9,-999.000,9,  -1.0811,3, -999.00,9,  -999.0,9,  -999.0,-999.000,9, -999.00,9,-999.000,9, -999.00,9, -999.00,9, -67.0002,-157.5447,-999.000,     -999.0,    33.9452,2,     -999.0,9,     -999.0,9,   0.0674,3,   0.0283,3,  -0.0086,4,  -0.0135,4,  -0.0207,4,  -0.0164,4,  -0.0155,4,   0.0935,4,   0.0672,4,-999.0000,-999.000,  -1.0720,     -999.0,     -999.0,9,     -999.0,9,     -999.0,9,     -999.0,9,     -999.0,20110309,       0230
320620110219,       S04P,      39,          1,         33,         33,2,20110309,       0055,   -67.0001,  -157.5448,       3743,    74.7,  -1.7359,  34.1579,2,  34.1547,2,    289.5,2,   288.9,2,   66.10,2,   28.92,2,    0.34,2,    2.02,2,-999.000,9,-999.000,9,-999.000,9,-999.0000,9,  2210.7,2,  2308.0,2,   7.6076,2,    25.00,-999.000,9,-999.0000,9,-999.000,9,  -1.7298,2, -999.00,9,  -999.0,9,  -999.0,-999.000,9, -999.00,9,-999.000,9, -999.00,9, -999.00,9, -67.0002,-157.5448,-999.000,     -999.0,    34.3158,2,     -999.0,9,     -999.0,9,   0.0597,3,   0.0223,3,  -0.0140,4,  -0.0172,4,  -0.0234,4,  -0.0183,4,  -0.0164,4,   0.0996,4,   0.0745,4,-999.0000,-999.000,  -1.7374,     -999.0,     -999.0,9,     -999.0,9,     -999.0,9,     -999.0,9,     -999.0,20110309,       0228
320620110219,       S04P,      39,          1,         32,         32,2,20110309,       0055,   -67.0001,  -157.5448,       3743,   100.1,  -0.3561,  34.3709,2,  34.3608,2,    264.3,2,   244.0,2,   74.03,2,   30.92,2,    0.09,2,    2.15,2,   3.109,2,   1.662,2,   0.287,2,   1.1270,2,  2230.7,2,  2320.8,2,   7.5787,2,    25.00,-999.000,9,-999.0000,9,-999.000,9,  -0.3649,2, -999.00,9,  -999.0,9,  -999.0,-999.000,9, -999.00,9,-999.000,9, -999.00,9, -999.00,9, -67.0002,-157.5448,-999.000,     -999.0,    34.5228,2,     -999.0,9,     -999.0,9,   0.0615,3,   0.0224,3,  -0.0148,4,  -0.0181,4,  -0.0243,4,  -0.0190,4,  -0.0168,4,   0.1085,4,   0.0758,4,-999.0000,-999.000,  -0.3594,     -999.0,     -999.0,9,     -999.0,9,     -999.0,9,     -999.0,9,     -999.0,20110309,       0227
320620110219,       S04P,      39,          1,         31,         31,2,20110309,       0055,   -67.0001,  -157.5448,       3743,   125.2,   0.6312,  34.5319,2,  34.5203,2,    220.9,2,   210.7,2,   81.44,2,   32.32,2,    0.07,2,    2.22,2,-999.000,9,-999.000,9,-999.000,9,-999.0000,9,  2247.0,2,  2330.2,2,   7.5629,2,    25.00,-999.000,9,-999.0000,9,-999.000,9,   0.6305,2, -999.00,9,  -999.0,9,  -999.0,-999.000,9, -999.00,9,-999.000,9, -999.00,9, -999.00,9, -67.0001,-157.5448,-999.000,     -999.0,    34.6831,2,     -999.0,9,     -999.0,9,   0.0667,3,   0.0267,3,  -0.0119,4,  -0.0173,4,  -0.0240,4,  -0.0189,4,  -0.0168,4,   0.0983,4,   0.0700,4,-999.0000,-999.000,   0.6260,     -999.0,     -999.0,9,     -999.0,9,     -999.0,9,     -999.0,9,     -999.0,20110309,       0226
320620110219,       S04P,      39,          1,         30,         30,2,20110309,       0055,   -67.0001,  -157.5448,       3743,   151.2,   1.1193,  34.6133,2,  34.6009,2,    200.7,2,   194.9,2,   85.67,2,   32.68,2,    0.07,2,    2.25,2,   1.260,2,   0.639,2,   0.117,2,   0.3480,2,  2253.1,2,  2336.6,2,   7.5590,2,    25.00,-999.000,9,-999.0000,9,-999.000,9,   1.1186,2, -999.00,9,  -999.0,9,  -999.0,-999.000,9, -999.00,9,-999.000,9, -999.00,9, -999.00,9, -67.0002,-157.5447,-999.000,     -999.0,    34.7641,2,     -999.0,9,     -999.0,9,   0.0706,3,   0.0297,3,  -0.0098,4,  -0.0162,4,  -0.0236,4,  -0.0188,4,  -0.0168,4,   0.0930,4,   0.0671,4,-999.0000,-999.000,   1.1124,     -999.0,     -999.0,9,     -999.0,9,     -999.0,9,     -999.0,9,     -999.0,20110309,       0224
320620110219,       S04P,      39,          1,         29,         29,2,20110309,       0055,   -67.0001,  -157.5448,       3743,   198.7,   1.4543,  34.6855,2,  34.6833,2,    185.3,2,   183.6,2,   91.13,2,   32.62,2,    0.04,2,    2.24,2,-999.000,9,-999.000,9,-999.000,9,-999.0000,9,  2258.1,2,  2342.1,2,   7.5626,2,    25.00,-999.000,9,-999.0000,9,-999.000,9,   1.4558,2, -999.00,9,  -999.0,9,  -999.0,-999.000,9, -999.00,9,-999.000,9, -999.00,9, -999.00,9, -67.0001,-157.5448,-999.000,     -999.0,    34.8469,2,     -999.0,9,     -999.0,9,   0.0731,3,   0.0319,3,  -0.0109,4,  -0.0164,4,  -0.0237,4,  -0.0190,4,  -0.0169,4,   0.0958,4,   0.0650,4,-999.0000,-999.000,   1.4445,     -999.0,     -999.0,9,     -999.0,9,     -999.0,9,     -999.0,9,     -999.0,20110309,       0223
320620110219,       S04P,      39,          1,         28,         28,2,20110309,       0055,   -67.0001,  -157.5448,       3743,   250.0,   1.5190,  34.7132,2,  34.7122,2,    182.9,2,   183.4,2,   94.30,2,   32.44,2,    0.02,2,    2.22,2,   0.438,2,   0.210,2,   0.036,2,   0.0800,2,  2259.3,2,  2346.4,2,   7.5668,2,    25.00,-999.000,9,-999.0000,9,-999.000,9,   1.5185,2, -999.00,9,  -999.0,9,  -999.0,-999.000,9, -999.00,9,-999.000,9, -999.00,9, -999.00,9, -67.0001,-157.5448,-999.000,     -999.0,    34.8759,2,     -999.0,9,     -999.0,9,   0.0668,3,   0.0268,3,  -0.0101,4,  -0.0184,4,  -0.0253,4,  -0.0198,4,  -0.0175,4,   0.0999,4,   0.0698,4,-999.0000,-999.000,   1.5064,     -999.0,     -999.0,9,     -999.0,9,     -999.0,9,     -999.0,9,     -999.0,20110309,       0221
320620110219,       S04P,      39,          1,         27,         27,2,20110309,       0055,   -67.0001,  -157.5448,       3743,   300.2,   1.5022,  34.7224,2,  34.7212,2,    183.1,2,   183.3,2,   96.21,2,   32.31,2,    0.03,2,    2.23,2,-999.000,9,-999.000,9,-999.000,9,-999.0000,9,  2259.6,2,  2347.2,2,   7.5689,2,    25.00,-999.000,9,-999.0000,9,-999.000,9,   1.5018,2, -999.00,9,  -999.0,9,  -999.0,-999.000,9, -999.00,9,-999.000,9, -999.00,9, -999.00,9, -67.0002,-157.5447,-999.000,     -999.0,    34.8849,2,     -999.0,9,     -999.0,9,-999.0000,9,-999.0000,9,-999.0000,9,-999.0000,9,-999.0000,9,-999.0000,9,-999.0000,9,-999.0000,9,-999.0000,9,-999.0000,-999.000,   1.4870,     -999.0,     -999.0,9,     -999.0,9,     -999.0,9,     -999.0,9,     -999.0,20110309,       0219
320620110219,       S04P,      39,          1,         26,         26,2,20110309,       0055,   -67.0001,  -157.5448,       3743,   349.6,   1.4641,  34.7271,2,  34.7257,2,    184.5,2,   183.8,2,   98.45,2,   32.30,2,    0.02,2,    2.22,2,   0.283,2,   0.120,2,   0.023,2,   0.0960,2,  2261.7,2,  2349.5,2,   7.5729,2,    25.00,-999.000,9,-999.0000,9,-999.000,9,   1.4640,2, -999.00,9,  -999.0,9,  -999.0,-999.000,9, -999.00,9,-999.000,9, -999.00,9, -999.00,9, -67.0001,-157.5448,-999.000,     -999.0,    34.8895,2,     -999.0,9,     -999.0,9,-999.0000,9,-999.0000,9,-999.0000,9,-999.0000,9,-999.0000,9,-999.0000,9,-999.0000,9,-999.0000,9,-999.0000,9,-999.0000,-999.000,   1.4464,     -999.0,     -999.0,9,     -999.0,9,     -999.0,9,     -999.0,9,     -999.0,20110309,       0217
320620110219,       S04P,      39,          1,         25,         25,2,20110309,       0055,   -67.0001,  -157.5448,       3743,   400.1,   1.4137,  34.7290,2,  34.7287,2,    184.8,2,   185.0,2,  100.70,2,   32.37,2,    0.01,2,    2.21,2,-999.000,9,-999.000,9,-999.000,9,-999.0000,9,  2264.7,2,  2350.7,2,   7.5715,2,    25.00,-999.000,9,-999.0000,9,-999.000,9,   1.4135,2, -999.00,9,  -999.0,9,  -999.0,-999.000,9, -999.00,9,-999.000,9, -999.00,9, -999.00,9, -67.0001,-157.5447,-999.000,     -999.0,    34.8924,2,     -999.0,9,     -999.0,9,   0.0694,3,   0.0289,3,  -0.0108,4,  -0.0166,4,  -0.0237,4,  -0.0190,4,  -0.0170,4,   0.0940,4,   0.0678,4,-999.0000,-999.000,   1.3934,     -999.0,     -999.0,9,     -999.0,9,     -999.0,9,     -999.0,9,     -999.0,20110309,       0216
320620110219,       S04P,      39,          1,         24,         24,2,20110309,       0055,   -67.0001,  -157.5448,       3743,   450.3,   1.3631,  34.7295,2,  34.7291,2,    185.0,2,   185.1,2,  102.49,2,   32.52,2,    0.01,2,    2.23,2,   0.207,2,   0.089,2,   0.015,2,   0.0590,2,  2263.9,2,  2351.2,2,   7.5725,2,    25.00,-999.000,9,-999.0000,9,-999.000,9,   1.3634,2, -999.00,9,  -999.0,9,  -999.0,-999.000,9, -999.00,9,-999.000,9, -999.00,9, -999.00,9, -67.0001,-157.5448,-999.000,     -999.0,    34.8928,2,     -999.0,9,     -999.0,9,-999.0000,9,-999.0000,9,-999.0000,9,-999.0000,9,-999.0000,9,-999.0000,9,-999.0000,9,-999.0000,9,-999.0000,9,-999.0000,-999.000,   1.3403,     -999.0,     -999.0,9,     -999.0,9,     -999.0,9,     -999.0,9,     -999.0,20110309,       0214
320620110219,       S04P,      39,          1,         23,         23,2,20110309,       0055,   -67.0001,  -157.5448,       3743,   499.1,   1.3279,  34.7296,2,  34.7287,2,    185.7,2,   185.4,2,  103.96,2,   32.42,2,    0.01,2,    2.22,2,   0.195,2,   0.080,2,   0.012,2,   0.0780,2,  2264.3,2,  2352.9,2,   7.5739,6,    25.00,-999.000,9,-999.0000,9,-999.000,9,   1.3268,2, -999.00,9,  -999.0,9,  -999.0,-999.000,9, -999.00,9,-999.000,9, -999.00,9, -999.00,9, -67.0001,-157.5448,-999.000,     -999.0,    34.8925,2,     -999.0,9,     -999.0,9,-999.0000,9,-999.0000,9,-999.0000,9,-999.0000,9,-999.0000,9,-999.0000,9,-999.0000,9,-999.0000,9,-999.0000,9,-999.0000,-999.000,   1.3025,     -999.0,     -999.0,9,     -999.0,9,     -999.0,9,     -999.0,9,     -999.0,20110309,       0212
320620110219,       S04P,      39,          1,         22,         22,2,20110309,       0055,   -67.0001,  -157.5448,       3743,   602.5,   1.2609,  34.7287,2,  34.7277,2,    187.2,2,   186.9,2,  106.37,2,   32.39,2,    0.01,2,    2.22,2,   0.167,2,   0.073,2,   0.010,2,   0.1070,2,  -999.0,9,  -999.0,9,-999.0000,9,  -999.00,-999.000,9,-999.0000,9,-999.000,9,   1.2610,2, -999.00,9,  -999.0,9,  -999.0,-999.000,9, -999.00,9,-999.000,9, -999.00,9, -999.00,9, -67.0002,-157.5448,-999.000,     -999.0,    34.8915,2,     -999.0,9,     -999.0,9,   0.0689,3,   0.0281,3,  -0.0120,4,  -0.0165,4,  -0.0235,4,  -0.0190,4,  -0.0170,4,   0.0986,4,   0.0689,4,-999.0000,-999.000,   1.2301,     -999.0,     -999.0,9,     -999.0,9,     -999.0,9,     -999.0,9,     -999.0,20110309,       0210
320620110219,       S04P,      39,          1,         21,         21,2,20110309,       0055,   -67.0001,  -157.5448,       3743,   699.6,   1.1926,  34.7271,2,  34.7267,2,    189.4,2,   188.7,2,  108.58,2,   32.31,2,    0.00,2,    2.21,2,   0.143,2,   0.062,2,   0.008,2,   0.0770,2,  -999.0,9,  -999.0,9,-999.0000,9,  -999.00,-999.000,9,-999.0000,9,-999.000,9,   1.1928,2, -999.00,9,  -999.0,9,  -999.0,-999.000,9, -999.00,9,-999.000,9, -999.00,9, -999.00,9, -67.0002,-157.5447,-999.000,     -999.0,    34.8905,2,     -999.0,9,     -999.0,9,-999.0000,9,-999.0000,9,-999.0000,9,-999.0000,9,-999.0000,9,-999.0000,9,-999.0000,9,-999.0000,9,-999.0000,9,-999.0000,-999.000,   1.1566,     -999.0,     -999.0,9,     -999.0,9,     -999.0,9,     -999.0,9,     -999.0,20110309,       0207
320620110219,       S04P,      39,          1,         20,         20,2,20110309,       0055,   -67.0001,  -157.5448,       3743,   799.3,   1.1192,  34.7248,2,  34.7242,2,    191.5,2,   191.7,2,  110.62,2,   32.23,2,    0.00,2,    2.22,2,   0.128,2,   0.058,2,   0.007,2,   0.1090,2,  -999.0,9,  -999.0,9,-999.0000,9,  -999.00,-999.000,9,-999.0000,9,-999.000,9,   1.1190,2, -999.00,9,  -999.0,9,  -999.0,-999.000,9, -999.00,9,-999.000,9, -999.00,9, -999.00,9, -67.0001,-157.5448,-999.000,     -999.0,    34.8879,2,     -999.0,9,     -999.0,9,-999.0000,9,-999.0000,9,-999.0000,9,-999.0000,9,-999.0000,9,-999.0000,9,-999.0000,9,-999.0000,9,-999.0000,9,-999.0000,-999.000,   1.0779,     -999.0,     -999.0,9,     -999.0,9,     -999.0,9,     -999.0,9,     -999.0,20110309,       0205
320620110219,       S04P,      39,          1,         19,         19,2,20110309,       0055,   -67.0001,  -157.5448,       3743,   900.5,   1.0473,  34.7221,2,  34.7214,2,    194.1,2,   193.6,2,  112.68,2,   32.18,2,    0.00,2,    2.21,2,-999.000,9,-999.000,9,-999.000,9,-999.0000,9,  2263.2,2,  2356.1,2,   7.5856,2,    25.00,-999.000,9,-999.0000,9,-999.000,9,   1.0471,2, -999.00,9,  -999.0,9,  -999.0,-999.000,9, -999.00,9,-999.000,9, -999.00,9, -999.00,9, -67.0001,-157.5448,-999.000,     -999.0,    34.8852,2,     -999.0,9,     -999.0,9,   0.0672,3,   0.0272,3,  -0.0106,4,  -0.0175,4,  -0.0244,4,  -0.0194,4,  -0.0173,4,   0.0968,4,   0.0696,4,-999.0000,-999.000,   1.0005,     -999.0,     -999.0,9,     -999.0,9,     -999.0,9,     -999.0,9,     -999.0,20110309,       0202
320620110219,       S04P,      39,          1,         18,         18,2,20110309,       0055,   -67.0001,  -157.5448,       3743,  1001.3,   0.9902,  34.7201,2,  34.7205,2,    196.2,2,   195.4,2,  114.60,2,   32.18,2,    0.00,2,    2.22,2,   0.111,2,   0.046,2,   0.005,2,   0.0390,2,  -999.0,9,  -999.0,9,-999.0000,9,  -999.00,-999.000,9,-999.0000,9,-999.000,9,   0.9900,2, -999.00,9,  -999.0,9,  -999.0,-999.000,9, -999.00,9,-999.000,9, -999.00,9, -999.00,9, -67.0001,-157.5448,-999.000,     -999.0,    34.8842,2,     -999.0,9,     -999.0,9,-999.0000,9,-999.0000,9,-999.0000,9,-999.0000,9,-999.0000,9,-999.0000,9,-999.0000,9,-999.0000,9,-999.0000,9,-999.0000,-999.000,   0.9378,     -999.0,     -999.0,9,     -999.0,9,     -999.0,9,     -999.0,9,     -999.0,20110309,       0159
320620110219,       S04P,      39,          1,         17,         17,2,20110309,       0055,   -67.0001,  -157.5448,       3743,  1099.2,   0.9373,  34.7179,2,  34.7177,2,    197.4,2,   196.7,2,  116.31,2,   32.21,2,    0.00,2,    2.22,2,-999.000,9,-999.000,9,-999.000,9,-999.0000,9,  -999.0,9,  -999.0,9,-999.0000,9,  -999.00,-999.000,9,-999.0000,9,-999.000,9,   0.9375,2, -999.00,9,  -999.0,9,  -999.0,-999.000,9, -999.00,9,-999.000,9, -999.00,9, -999.00,9, -67.0001,-157.5447,-999.000,     -999.0,    34.8814,2,     -999.0,9,     -999.0,9,-999.0000,9,-999.0000,9,-999.0000,9,-999.0000,9,-999.0000,9,-999.0000,9,-999.0000,9,-999.0000,9,-999.0000,9,-999.0000,-999.000,   0.8793,     -999.0,     -999.0,9,     -999.0,9,     -999.0,9,     -999.0,9,     -999.0,20110309,       0157
320620110219,       S04P,      39,          1,         16,         16,2,20110309,       0055,   -67.0001,  -157.5448,       3743,  1199.1,   0.8756,  34.7155,2,  34.7154,2,    199.2,2,   198.9,2,  118.31,2,   32.12,2,    0.00,2,    2.22,2,   0.105,2,   0.046,2,   0.004,2,   0.0370,2,  -999.0,9,  -999.0,9,-999.0000,9,  -999.00,-999.000,9,-999.0000,9,-999.000,9,   0.8762,2, -999.00,9,  -999.0,9,  -999.0,-999.000,9, -999.00,9,-999.000,9, -999.00,9, -999.00,9, -67.0001,-157.5448,-999.000,     -999.0,    34.8791,2,     -999.0,9,     -999.0,9,   0.0648,3,   0.0256,3,  -0.0118,4,  -0.0186,4,  -0.0251,4,  -0.0198,4,  -0.0174,4,   0.0961,4,   0.0709,4,-999.0000,-999.000,   0.8119,     -999.0,     -999.0,9,     -999.0,9,     -999.0,9,     -999.0,9,     -999.0,20110309,       0154
320620110219,       S04P,      39,          1,         15,         15,2,20110309,       0055,   -67.0001,  -157.5448,       3743,  1298.8,   0.8207,  34.7133,2,  34.7132,2,    200.4,2,   200.0,2,  119.71,2,   31.98,2,    0.00,2,    2.21,2,-999.000,9,-999.000,9,-999.000,9,-999.0000,9,  2262.8,2,  2359.0,2,   7.5915,2,    25.00,-999.000,9,-999.0000,9,-999.000,9,   0.8208,2, -999.00,9,  -999.0,9,  -999.0,-999.000,9, -999.00,9,-999.000,9, -999.00,9, -999.00,9, -67.0001,-157.5448,-999.000,     -999.0,    34.8769,2,     -999.0,9,     -999.0,9,-999.0000,9,-999.0000,9,-999.0000,9,-999.0000,9,-999.0000,9,-999.0000,9,-999.0000,9,-999.0000,9,-999.0000,9,-999.0000,-999.000,   0.7512,     -999.0,     -999.0,9,     -999.0,9,     -999.0,9,     -999.0,9,     -999.0,20110309,       0151
320620110219,       S04P,      39,          1,         14,         14,2,20110309,       0055,   -67.0001,  -157.5448,       3743,  1400.4,   0.7741,  34.7113,2,  34.7109,2,    201.8,2,   201.7,2,  120.46,2,   31.94,2,    0.00,2,    2.22,2,   0.098,2,   0.043,2,   0.005,2,   0.0440,2,  -999.0,9,  -999.0,9,-999.0000,9,  -999.00,-999.000,9,-999.0000,9,-999.000,9,   0.7748,2, -999.00,9,  -999.0,9,  -999.0,-999.000,9, -999.00,9,-999.000,9, -999.00,9, -999.00,9, -67.0001,-157.5448,-999.000,     -999.0,    34.8745,2,     -999.0,9,     -999.0,9,-999.0000,9,-999.0000,9,-999.0000,9,-999.0000,9,-999.0000,9,-999.0000,9,-999.0000,9,-999.0000,9,-999.0000,9,-999.0000,-999.000,   0.6985,     -999.0,     -999.0,9,     -999.0,9,     -999.0,9,     -999.0,9,     -999.0,20110309,       0149