BOTTLE,20220813CCHSIOAMB
EXPOCODE,SECT_ID,STNNBR,CASTNO,SAMPNO,BTLNBR,BTLNBR_FLAG_W,DATE,TIME,LATITUDE,LONGITUDE,DEPTH,CTDPRS,CTDTMP,CTDSAL,CTDSAL_FLAG_W,SALNTY,SALNTY_FLAG_W,CTDOXY,CTDOXY_FLAG_W,OXYGEN,OXYGEN_FLAG_W,SILCAT,SILCAT_FLAG_W,NITRAT,NITRAT_FLAG_W,NITRIT,NITRIT_FLAG_W,PHSPHT,PHSPHT_FLAG_W,CFC-11,CFC-11_FLAG_W,CFC-12,CFC-12_FLAG_W,CFC113,CFC113_FLAG_W,SF6,SF6_FLAG_W,TCARBN,TCARBN_FLAG_W,ALKALI,ALKALI_FLAG_W,PH_TOT,PH_TOT_FLAG_W,PH_TMP,TRITUM,TRITUM_FLAG_W,HELIUM,HELIUM_FLAG_W,DELHE3,DELHE3_FLAG_W,REFTMP,REFTMP_FLAG_W,DELC13,DELC13_FLAG_W,DELC14,DELC14_FLAG_W,C14ERR,NEON,NEON_FLAG_W,DELO18,DELO18_FLAG_W,POC,POC_FLAG_W,DOC,DOC_FLAG_W,TDN,TDN_FLAG_W,BTL_LAT,BTL_LON,TRITER,NEONER,SALTREF,SALTREF_FLAG_W,PIGMENTS,PIGMENTS_FLAG_W,LAB_DEN,LAB_DEN_FLAG_W,CDOM325,CDOM325_FLAG_W,CDOM340,CDOM340_FLAG_W,CDOM380,CDOM380_FLAG_W,CDOM412,CDOM412_FLAG_W,CDOM443,CDOM443_FLAG_W,CDOM490,CDOM490_FLAG_W,CDOM555,CDOM555_FLAG_W,CDOMSL,CDOMSL_FLAG_W,CDOMSN,CDOMSN_FLAG_W,HELIER,DELHER,THETA,LDEO_SAMPNO,ABSORBTION,ABSORBTION_FLAG_W,IMAGE_COUNT,IMAGE_COUNT_FLAG_W,CYTO_COUNT,CYTO_COUNT_FLAG_W,DELD,DELD_FLAG_W,DELDERR,BTL_DATE,BTL_TIME
,,,,,,,,,,,METERS,DBAR,ITS-90,PSS-78,,PSS-78,,UMOL/KG,,UMOL/KG,,UMOL/KG,,UMOL/KG,,UMOL/KG,,UMOL/KG,,PMOL/KG,,PMOL/KG,,PMOL/KG,,FMOL/KG,,UMOL/KG,,UMOL/KG,,,,DEG C,TU,,NMOL/KG,,PERCNT,,DEG C,,/MILLE,,/MILLE,,/MILLE,NMOL/KG,,/MILLE,,UG/KG,,UMOL/KG,,UMOL/KG,,,,TU,NMOL/KG,G/KG,,,,,,1/M,,1/M,,1/M,,1/M,,1/M,,1/M,,1/M,,1/NM,,1/NM,,NMOL/KG,PERCNT,DEG C,,,,,,,,/MILLE,,/MILLE,,
320620110219,       P16S,      56,          1,         36,         36,2,20110314,       1413,   -72.4718,  -150.0004,       4144,     5.1,  -0.8427,  33.6080,2,  33.6087,2,    350.8,2,   351.7,2,   31.76,2,   22.51,2,    0.17,2,    1.50,2,   6.190,2,   3.420,2,   0.591,2,-999.0000,9,  2131.3,6,  2276.2,2,   7.7458,2,    25.00,-999.000,9,-999.0000,9,-999.000,9,  -0.8425,2, -999.00,9,  -999.0,9,  -999.0,-999.000,9, -999.00,9,-999.000,9,   45.93,2,   26.67,2, -72.4718,-150.0004,-999.000,     -999.0,    33.7672,2,     -999.0,9,     -999.0,9,-999.0000,9,-999.0000,9,-999.0000,9,-999.0000,9,-999.0000,9,-999.0000,9,-999.0000,9,-999.0000,9,-999.0000,9,-999.0000,-999.000,  -0.8428,     -999.0,     -999.0,9,     -999.0,9,     -999.0,9,     -999.0,9,     -999.0,20110314,       1559
320620110219,       P16S,      56,          1,         35,         35,2,20110314,       1413,   -72.4718,  -150.0004,       4144,    19.9,  -0.8468,  33.6081,2,  33.6118,2,    352.2,2,   351.6,2,   31.76,2,   22.46,2,    0.17,2,    1.50,2,   6.147,2,   3.417,2,   0.589,2,-999.0000,9,  2129.2,2,  2276.0,2,   7.7453,6,    25.00,-999.000,9,-999.0000,9,-999.000,9,  -0.8475,2, -999.00,9,  -999.0,9,  -999.0,-999.000,9, -999.00,9,-999.000,9,   45.67,2,   26.89,2, -72.4718,-150.0004,-999.000,     -999.0,    33.7703,2,     -999.0,9,     -999.0,9,-999.0000,9,-999.0000,9,-999.0000,9,-999.0000,9,-999.0000,9,-999.0000,9,-999.0000,9,-999.0000,9,-999.0000,9,-999.0000,-999.000,  -0.8473,     -999.0,     -999.0,9,     -999.0,9,     -999.0,9,     -999.0,9,     -999.0,20110314,       1558
320620110219,       P16S,      56,          1,         34,         34,2,20110314,       1413,   -72.4718,  -150.0004,       4144,    39.9,  -1.0040,  33.7520,3,  33.7062,2,    352.7,2,   343.0,2,   35.35,2,   23.70,2,    0.16,2,    1.66,2,   5.964,2,   3.283,2,   0.571,2,-999.0000,9,  2144.7,2,  2282.5,6,   7.7222,2,    25.00,-999.000,9,-999.0000,9,-999.000,9,  -0.9869,2, -999.00,9,  -999.0,9,  -999.0,-999.000,9, -999.00,9,-999.000,9,   45.52,2,   27.42,2, -72.4718,-150.0004,-999.000,     -999.0,    33.8651,2,     -999.0,9,     -999.0,9,-999.0000,9,-999.0000,9,-999.0000,9,-999.0000,9,-999.0000,9,-999.0000,9,-999.0000,9,-999.0000,9,-999.0000,9,-999.0000,-999.000,  -1.0050,     -999.0,     -999.0,9,     -999.0,9,     -999.0,9,     -999.0,9,     -999.0,20110314,       1556
320620110219,       P16S,      56,          1,         33,         33,2,20110314,       1413,   -72.4718,  -150.0004,       4144,    65.2,  -1.5382,  34.0635,2,  34.0632,2,    317.6,2,   312.8,2,   47.93,2,   28.23,2,    0.17,2,    2.01,2,   5.280,2,   2.904,2,   0.492,2,-999.0000,9,  2191.4,2,  2300.6,2,   7.6389,2,    25.00,-999.000,9,-999.0000,9,-999.000,9,  -1.5382,2, -999.00,9,  -999.0,9,  -999.0,-999.000,9, -999.00,9,-999.000,9,   43.02,2,   31.53,2, -72.4718,-150.0004,-999.000,     -999.0,    34.2238,2,     -999.0,9,     -999.0,9,-999.0000,9,-999.0000,9,-999.0000,9,-999.0000,9,-999.0000,9,-999.0000,9,-999.0000,9,-999.0000,9,-999.0000,9,-999.0000,-999.000,  -1.5396,     -999.0,     -999.0,9,     -999.0,9,     -999.0,9,     -999.0,9,     -999.0,20110314,       1555
320620110219,       P16S,      56,          1,         32,         32,2,20110314,       1413,   -72.4718,  -150.0004,       4144,    90.3,  -1.1873,  34.1466,2,  34.1387,2,    291.7,2,   292.9,2,   52.31,2,   29.59,2,    0.22,2,    2.08,2,   4.812,2,   2.640,2,   0.450,2,-999.0000,9,  2201.3,2,  2303.8,2,   7.6164,2,    25.00,-999.000,9,-999.0000,9,-999.000,9,  -1.2219,2, -999.00,9,  -999.0,9,  -999.0,-999.000,9, -999.00,9,-999.000,9,   42.27,2,   33.13,2, -72.4718,-150.0004,-999.000,     -999.0,    34.2997,2,     -999.0,9,     -999.0,9,-999.0000,9,-999.0000,9,-999.0000,9,-999.0000,9,-999.0000,9,-999.0000,9,-999.0000,9,-999.0000,9,-999.0000,9,-999.0000,-999.000,  -1.1895,     -999.0,     -999.0,9,     -999.0,9,     -999.0,9,     -999.0,9,     -999.0,20110314,       1553
320620110219,       P16S,      56,          1,         31,         31,2,20110314,       1413,   -72.4718,  -150.0004,       4144,   134.9,   0.3579,  34.3716,2,  34.3786,2,    235.3,2,   227.4,2,   68.61,2,   32.91,2,    0.02,2,    2.26,2,   2.694,2,   1.471,2,   0.240,2,-999.0000,9,  2230.8,2,  2319.1,2,   7.5703,6,    25.00,-999.000,9,-999.0000,9,-999.000,9,   0.3446,2, -999.00,9,  -999.0,9,  -999.0,-999.000,9, -999.00,9,-999.000,9,   41.47,2,   35.43,2, -72.4718,-150.0004,-999.000,     -999.0,    34.5407,2,     -999.0,9,     -999.0,9,-999.0000,9,-999.0000,9,-999.0000,9,-999.0000,9,-999.0000,9,-999.0000,9,-999.0000,9,-999.0000,9,-999.0000,9,-999.0000,-999.000,   0.3527,     -999.0,     -999.0,9,     -999.0,9,     -999.0,9,     -999.0,9,     -999.0,20110314,       1552
320620110219,       P16S,      56,          1,         30,         30,2,20110314,       1413,   -72.4718,  -150.0004,       4144,   185.2,   1.6948,  34.5999,2,  34.6041,2,    192.4,2,   180.7,2,   80.14,2,   34.08,2,    0.01,2,    2.31,2,-999.000,9,-999.000,9,-999.000,9,-999.0000,9,  -999.0,9,  -999.0,9,-999.0000,9,  -999.00,-999.000,9,-999.0000,9,-999.000,9,   1.6973,2, -999.00,9,  -999.0,9,  -999.0,-999.000,9, -999.00,9,-999.000,9, -999.00,9,   36.44,2, -72.4718,-150.0004,-999.000,     -999.0,    34.7672,2,     -999.0,9,     -999.0,9,-999.0000,9,-999.0000,9,-999.0000,9,-999.0000,9,-999.0000,9,-999.0000,9,-999.0000,9,-999.0000,9,-999.0000,9,-999.0000,-999.000,   1.6854,     -999.0,     -999.0,9,     -999.0,9,     -999.0,9,     -999.0,9,     -999.0,20110314,       1550
320620110219,       P16S,      56,          1,         29,         29,2,20110314,       1413,   -72.4718,  -150.0004,       4144,   235.1,   1.7933,  34.6556,2,  34.6537,2,    179.4,2,   178.4,2,   82.98,2,   33.71,2,    0.00,2,    2.28,2,   0.660,2,   0.344,2,   0.047,2,-999.0000,9,  2250.1,2,  2337.8,2,   7.5565,2,    25.00,-999.000,9,-999.0000,9,-999.000,9,   1.7933,2, -999.00,9,  -999.0,9,  -999.0,-999.000,9, -999.00,9,-999.000,9,   41.30,2,   36.50,2, -72.4718,-150.0004,-999.000,     -999.0,    34.8171,2,     -999.0,9,     -999.0,9,-999.0000,9,-999.0000,9,-999.0000,9,-999.0000,9,-999.0000,9,-999.0000,9,-999.0000,9,-999.0000,9,-999.0000,9,-999.0000,-999.000,   1.7810,     -999.0,     -999.0,9,     -999.0,9,     -999.0,9,     -999.0,9,     -999.0,20110314,       1548
320620110219,       P16S,      56,          1,         28,         28,2,20110314,       1413,   -72.4718,  -150.0004,       4144,   284.8,   1.8403,  34.6885,2,  34.6878,2,    178.9,2,   179.3,2,   84.62,2,   33.21,2,    0.00,2,    2.25,2,   0.478,2,   0.237,2,   0.035,2,-999.0000,9,  2251.7,2,  2341.2,2,   7.5657,2,    25.00,-999.000,9,-999.0000,9,-999.000,9,   1.8401,2, -999.00,9,  -999.0,9,  -999.0,-999.000,9, -999.00,9,-999.000,9,   41.22,2,   35.95,2, -72.4718,-150.0004,-999.000,     -999.0,    34.8514,2,     -999.0,9,     -999.0,9,-999.0000,9,-999.0000,9,-999.0000,9,-999.0000,9,-999.0000,9,-999.0000,9,-999.0000,9,-999.0000,9,-999.0000,9,-999.0000,-999.000,   1.8252,     -999.0,     -999.0,9,     -999.0,9,     -999.0,9,     -999.0,9,     -999.0,20110314,       1546
320620110219,       P16S,      56,          1,         27,         27,2,20110314,       1413,   -72.4718,  -150.0004,       4144,   334.3,   1.8235,  34.7034,2,  34.7035,2,    180.0,2,   180.1,2,   86.33,2,   32.87,2,    0.00,2,    2.23,2,-999.000,9,-999.000,9,-999.000,9,-999.0000,9,  2249.3,2,  2341.8,2,   7.5735,4,    25.00,-999.000,9,-999.0000,9,-999.000,9,   1.8225,2, -999.00,9,  -999.0,9,  -999.0,-999.000,9, -999.00,9,-999.000,9,   40.62,2,   35.37,2, -72.4718,-150.0004,-999.000,     -999.0,    34.8672,2,     -999.0,9,     -999.0,9,-999.0000,9,-999.0000,9,-999.0000,9,-999.0000,9,-999.0000,9,-999.0000,9,-999.0000,9,-999.0000,9,-999.0000,9,-999.0000,-999.000,   1.8056,     -999.0,     -999.0,9,     -999.0,9,     -999.0,9,     -999.0,9,     -999.0,20110314,       1545
320620110219,       P16S,      56,          1,         26,         26,2,20110314,       1413,   -72.4718,  -150.0004,       4144,   385.0,   1.7797,  34.7138,2,  34.7141,2,    182.3,2,   182.5,2,   87.73,2,   32.52,2,    0.00,2,    2.21,2,   0.348,2,   0.172,2,   0.024,2,-999.0000,9,  2249.8,2,  2341.9,2,   7.5780,2,    25.00,-999.000,9,-999.0000,9,-999.000,9,   1.7801,2, -999.00,9,  -999.0,9,  -999.0,-999.000,9, -999.00,9,-999.000,9,   40.34,2,   34.91,2, -72.4718,-150.0004,-999.000,     -999.0,    34.8778,2,     -999.0,9,     -999.0,9,-999.0000,9,-999.0000,9,-999.0000,9,-999.0000,9,-999.0000,9,-999.0000,9,-999.0000,9,-999.0000,9,-999.0000,9,-999.0000,-999.000,   1.7591,     -999.0,     -999.0,9,     -999.0,9,     -999.0,9,     -999.0,9,     -999.0,20110314,       1543
320620110219,       P16S,      56,          1,         25,         25,2,20110314,       1413,   -72.4718,  -150.0004,       4144,   434.7,   1.7432,  34.7198,2,  34.7214,2,    183.9,2,   184.0,2,   89.36,2,   32.32,2,    0.00,2,    2.21,2,-999.000,9,-999.000,9,-999.000,9,-999.0000,9,  2250.4,2,  2345.8,2,   7.5797,4,    25.00,-999.000,9,-999.0000,9,-999.000,9,   1.7426,2, -999.00,9,  -999.0,9,  -999.0,-999.000,9, -999.00,9,-999.000,9,   40.22,2,   34.71,2, -72.4718,-150.0004,-999.000,     -999.0,    34.8851,2,     -999.0,9,     -999.0,9,-999.0000,9,-999.0000,9,-999.0000,9,-999.0000,9,-999.0000,9,-999.0000,9,-999.0000,9,-999.0000,9,-999.0000,9,-999.0000,-999.000,   1.7199,     -999.0,     -999.0,9,     -999.0,9,     -999.0,9,     -999.0,9,     -999.0,20110314,       1541
320620110219,       P16S,      56,          1,         24,         24,2,20110314,       1413,   -72.4718,  -150.0004,       4144,   484.9,   1.6918,  34.7242,2,  34.7240,2,    185.9,2,   185.4,2,   90.60,2,   32.23,2,    0.00,2,    2.20,2,   0.292,2,   0.149,2,   0.020,2,-999.0000,9,  2250.9,2,  2346.6,6,   7.5802,4,    25.00,-999.000,9,-999.0000,9,-999.000,9,   1.6924,2, -999.00,9,  -999.0,9,  -999.0,-999.000,9, -999.00,9,-999.000,9,   40.26,2,   34.57,2, -72.4718,-150.0004,-999.000,     -999.0,    34.8877,2,     -999.0,9,     -999.0,9,-999.0000,9,-999.0000,9,-999.0000,9,-999.0000,9,-999.0000,9,-999.0000,9,-999.0000,9,-999.0000,9,-999.0000,9,-999.0000,-999.000,   1.6658,     -999.0,     -999.0,9,     -999.0,9,     -999.0,9,     -999.0,9,     -999.0,20110314,       1539
320620110219,       P16S,      56,          1,         23,         23,2,20110314,       1413,   -72.4718,  -150.0004,       4144,   564.5,   1.6151,  34.7283,2,  34.7283,2,    187.9,2,   187.0,2,   93.35,2,   32.15,2,    0.00,2,    2.20,2,-999.000,9,-999.000,9,-999.000,9,-999.0000,9,  2253.0,2,  2348.7,2,   7.5888,4,    25.00,-999.000,9,-999.0000,9,-999.000,9,   1.6146,2, -999.00,9,  -999.0,9,  -999.0,-999.000,9, -999.00,9,-999.000,9,   40.05,2,   34.54,2, -72.4718,-150.0004,-999.000,     -999.0,    34.8920,2,     -999.0,9,     -999.0,9,-999.0000,9,-999.0000,9,-999.0000,9,-999.0000,9,-999.0000,9,-999.0000,9,-999.0000,9,-999.0000,9,-999.0000,9,-999.0000,-999.000,   1.5848,     -999.0,     -999.0,9,     -999.0,9,     -999.0,9,     -999.0,9,     -999.0,20110314,       1537
320620110219,       P16S,      56,          1,         22,         22,2,20110314,       1413,   -72.4718,  -150.0004,       4144,   664.7,   1.5044,  34.7301,2,  34.7295,2,    188.7,2,   188.6,2,   96.91,2,   32.19,2,    0.00,2,    2.20,2,   0.241,2,   0.117,2,   0.012,2,-999.0000,9,  -999.0,9,  -999.0,9,-999.0000,9,  -999.00,-999.000,9,-999.0000,9,-999.000,9,   1.5039,2, -999.00,9,  -999.0,9,  -999.0,-999.000,9, -999.00,9,-999.000,9,   40.39,2,   34.68,2, -72.4718,-150.0004,-999.000,     -999.0,    34.8932,2,     -999.0,9,     -999.0,9,-999.0000,9,-999.0000,9,-999.0000,9,-999.0000,9,-999.0000,9,-999.0000,9,-999.0000,9,-999.0000,9,-999.0000,9,-999.0000,-999.000,   1.4687,     -999.0,     -999.0,9,     -999.0,9,     -999.0,9,     -999.0,9,     -999.0,20110314,       1534
320620110219,       P16S,      56,          1,         21,         21,2,20110314,       1413,   -72.4718,  -150.0004,       4144,   765.0,   1.4102,  34.7301,2,  34.7297,2,    189.3,2,   188.7,2,   99.98,2,   32.28,2,    0.00,2,    2.21,2,-999.000,9,-999.000,9,-999.000,9,-999.0000,9,  2257.9,2,  2351.5,2,   7.5862,2,    25.00,-999.000,9,-999.0000,9,-999.000,9,   1.4101,2, -999.00,9,  -999.0,9,  -999.0,-999.000,9, -999.00,9,-999.000,9,   40.10,2,   34.89,2, -72.4718,-150.0004,-999.000,     -999.0,    34.8934,2,     -999.0,9,     -999.0,9,-999.0000,9,-999.0000,9,-999.0000,9,-999.0000,9,-999.0000,9,-999.0000,9,-999.0000,9,-999.0000,9,-999.0000,9,-999.0000,-999.000,   1.3691,     -999.0,     -999.0,9,     -999.0,9,     -999.0,9,     -999.0,9,     -999.0,20110314,       1531
320620110219,       P16S,      56,          1,         20,         20,2,20110314,       1413,   -72.4718,  -150.0004,       4144,   864.8,   1.3304,  34.7294,2,  34.7293,2,    189.8,2,   188.7,2,  103.13,2,   32.23,2,    0.00,2,    2.22,2,   0.181,2,   0.088,2,   0.007,2,-999.0000,9,  -999.0,9,  -999.0,9,-999.0000,9,  -999.00,-999.000,9,-999.0000,9,-999.000,9,   1.3300,2, -999.00,9,  -999.0,9,  -999.0,-999.000,9, -999.00,9,-999.000,9,   39.98,2,   34.29,2, -72.4718,-150.0004,-999.000,     -999.0,    34.8931,2,     -999.0,9,     -999.0,9,-999.0000,9,-999.0000,9,-999.0000,9,-999.0000,9,-999.0000,9,-999.0000,9,-999.0000,9,-999.0000,9,-999.0000,9,-999.0000,-999.000,   1.2837,     -999.0,     -999.0,9,     -999.0,9,     -999.0,9,     -999.0,9,     -999.0,20110314,       1529
320620110219,       P16S,      56,          1,         19,         19,2,20110314,       1413,   -72.4718,  -150.0004,       4144,   964.1,   1.2562,  34.7279,2,  34.7305,2,    190.6,2,   190.0,2,  105.86,2,   32.29,2,    0.00,2,    2.23,2,-999.000,9,-999.000,9,-999.000,9,-999.0000,9,  -999.0,9,  -999.0,9,-999.0000,9,  -999.00,-999.000,9,-999.0000,9,-999.000,9,   1.2560,2, -999.00,9,  -999.0,9,  -999.0,-999.000,9, -999.00,9,-999.000,9,   39.93,2,   34.62,2, -72.4718,-150.0004,-999.000,     -999.0,    34.8942,2,     -999.0,9,     -999.0,9,-999.0000,9,-999.0000,9,-999.0000,9,-999.0000,9,-999.0000,9,-999.0000,9,-999.0000,9,-999.0000,9,-999.0000,9,-999.0000,-999.000,   1.2040,     -999.0,     -999.0,9,     -999.0,9,     -999.0,9,     -999.0,9,     -999.0,20110314,       1526
320620110219,       P16S,      56,          1,         18,         18,2,20110314,       1413,   -72.4718,  -150.0004,       4144,  1064.3,   1.1839,  34.7260,2,  34.7260,2,    192.4,2,   192.2,2,  108.33,2,   32.09,2,    0.00,2,    2.23,2,   0.140,2,   0.068,2,   0.005,2,-999.0000,9,  2260.4,2,  2355.1,2,   7.5895,2,    25.00,-999.000,9,-999.0000,9,-999.000,9,   1.1834,2, -999.00,9,  -999.0,9,  -999.0,-999.000,9, -999.00,9,-999.000,9,   39.75,2,   34.55,2, -72.4718,-150.0004,-999.000,     -999.0,    34.8897,2,     -999.0,9,     -999.0,9,-999.0000,9,-999.0000,9,-999.0000,9,-999.0000,9,-999.0000,9,-999.0000,9,-999.0000,9,-999.0000,9,-999.0000,9,-999.0000,-999.000,   1.1259,     -999.0,     -999.0,9,     -999.0,9,     -999.0,9,     -999.0,9,     -999.0,20110314,       1523
320620110219,       P16S,      56,          1,         17,         17,2,20110314,       1413,   -72.4718,  -150.0004,       4144,  1165.0,   1.1220,  34.7241,2,  34.7230,2,    194.3,2,   194.0,2,  110.32,2,   32.10,2,    0.00,2,    2.23,2,-999.000,9,-999.000,9,-999.000,9,-999.0000,9,  -999.0,9,  -999.0,9,-999.0000,9,  -999.00,-999.000,9,-999.0000,9,-999.000,9,   1.1220,2, -999.00,9,  -999.0,9,  -999.0,-999.000,9, -999.00,9,-999.000,9,   39.26,2,   34.41,2, -72.4718,-150.0004,-999.000,     -999.0,    34.8868,2,     -999.0,9,     -999.0,9,-999.0000,9,-999.0000,9,-999.0000,9,-999.0000,9,-999.0000,9,-999.0000,9,-999.0000,9,-999.0000,9,-999.0000,9,-999.0000,-999.000,   1.0582,     -999.0,     -999.0,9,     -999.0,9,     -999.0,9,     -999.0,9,     -999.0,20110314,       1521
320620110219,       P16S,      56,          1,         16,         16,2,20110314,       1413,   -72.4718,  -150.0004,       4144,  1264.8,   1.0705,  34.7220,2,  34.7221,2,    196.1,2,   196.0,2,  112.00,2,   32.06,2,    0.00,2,    2.23,2,   0.129,2,   0.061,2,   0.005,2,-999.0000,9,  -999.0,9,  -999.0,9,-999.0000,9,  -999.00,-999.000,9,-999.0000,9,-999.000,9,   1.0699,2, -999.00,9,  -999.0,9,  -999.0,-999.000,9, -999.00,9,-999.000,9,   39.47,2,   33.68,2, -72.4718,-150.0003,-999.000,     -999.0,    34.8858,2,     -999.0,9,     -999.0,9,-999.0000,9,-999.0000,9,-999.0000,9,-999.0000,9,-999.0000,9,-999.0000,9,-999.0000,9,-999.0000,9,-999.0000,9,-999.0000,-999.000,   1.0007,     -999.0,     -999.0,9,     -999.0,9,     -999.0,9,     -999.0,9,     -999.0,20110314,       1518
320620110219,       P16S,      56,          1,         15,         15,2,20110314,       1413,   -72.4718,  -150.0004,       4144,  1364.5,   1.0133,  34.7198,2,  34.7189,2,    197.4,2,   198.0,2,  113.52,2,   32.13,2,    0.00,2,    2.23,2,-999.000,9,-999.000,9,-999.000,9,-999.0000,9,  2260.6,2,  2357.3,2,   7.5939,2,    25.00,-999.000,9,-999.0000,9,-999.000,9,   1.0134,2, -999.00,9,  -999.0,9,  -999.0,-999.000,9, -999.00,9,-999.000,9,   39.10,2,   34.47,2, -72.4718,-150.0003,-999.000,     -999.0,    34.8826,2,     -999.0,9,     -999.0,9,-999.0000,9,-999.0000,9,-999.0000,9,-999.0000,9,-999.0000,9,-999.0000,9,-999.0000,9,-999.0000,9,-999.0000,9,-999.0000,-999.000,   0.9374,     -999.0,     -999.0,9,     -999.0,9,     -999.0,9,     -999.0,9,     -999.0,20110314,       1515
320620110219,       P16S,      56,          1,         14,         14,2,20110314,       1413,   -72.4718,  -150.0004,       4144,  1464.6,   0.9579,  34.7180,2,  34.7177,2,    198.6,2,   198.3,2,  114.81,2,   32.05,2,    0.00,2,    2.23,2,   0.108,2,   0.052,2,   0.006,2,-999.0000,9,  -999.0,9,  -999.0,9,-999.0000,9,  -999.00,-999.000,9,-999.0000,9,-999.000,9,   0.9581,2, -999.00,9,  -999.0,9,  -999.0,-999.000,9, -999.00,9,-999.000,9,   39.47,2,   34.24,2, -72.4718,-150.0004,-999.000,     -999.0,    34.8814,2,     -999.0,9,     -999.0,9,-999.0000,9,-999.0000,9,-999.0000,9,-999.0000,9,-999.0000,9,-999.0000,9,-999.0000,9,-999.0000,9,-999.0000,9,-999.0000,-999.000,   0.8759,     -999.0,     -999.0,9,     -999.0,9,     -999.0,9,     -999.0,9,     -999.0,20110314,       1513