BOTTLE,20220813CCHSIOAMB
EXPOCODE,SECT_ID,STNNBR,CASTNO,SAMPNO,BTLNBR,BTLNBR_FLAG_W,DATE,TIME,LATITUDE,LONGITUDE,DEPTH,CTDPRS,CTDTMP,CTDSAL,CTDSAL_FLAG_W,SALNTY,SALNTY_FLAG_W,CTDOXY,CTDOXY_FLAG_W,OXYGEN,OXYGEN_FLAG_W,SILCAT,SILCAT_FLAG_W,NITRAT,NITRAT_FLAG_W,NITRIT,NITRIT_FLAG_W,PHSPHT,PHSPHT_FLAG_W,CFC-11,CFC-11_FLAG_W,CFC-12,CFC-12_FLAG_W,CFC113,CFC113_FLAG_W,SF6,SF6_FLAG_W,TCARBN,TCARBN_FLAG_W,ALKALI,ALKALI_FLAG_W,PH_TOT,PH_TOT_FLAG_W,PH_TMP,TRITUM,TRITUM_FLAG_W,HELIUM,HELIUM_FLAG_W,DELHE3,DELHE3_FLAG_W,REFTMP,REFTMP_FLAG_W,DELC13,DELC13_FLAG_W,DELC14,DELC14_FLAG_W,C14ERR,NEON,NEON_FLAG_W,DELO18,DELO18_FLAG_W,POC,POC_FLAG_W,DOC,DOC_FLAG_W,TDN,TDN_FLAG_W,BTL_LAT,BTL_LON,TRITER,NEONER,SALTREF,SALTREF_FLAG_W,PIGMENTS,PIGMENTS_FLAG_W,LAB_DEN,LAB_DEN_FLAG_W,CDOM325,CDOM325_FLAG_W,CDOM340,CDOM340_FLAG_W,CDOM380,CDOM380_FLAG_W,CDOM412,CDOM412_FLAG_W,CDOM443,CDOM443_FLAG_W,CDOM490,CDOM490_FLAG_W,CDOM555,CDOM555_FLAG_W,CDOMSL,CDOMSL_FLAG_W,CDOMSN,CDOMSN_FLAG_W,HELIER,DELHER,THETA,LDEO_SAMPNO,ABSORBTION,ABSORBTION_FLAG_W,IMAGE_COUNT,IMAGE_COUNT_FLAG_W,CYTO_COUNT,CYTO_COUNT_FLAG_W,DELD,DELD_FLAG_W,DELDERR,BTL_DATE,BTL_TIME
,,,,,,,,,,,METERS,DBAR,ITS-90,PSS-78,,PSS-78,,UMOL/KG,,UMOL/KG,,UMOL/KG,,UMOL/KG,,UMOL/KG,,UMOL/KG,,PMOL/KG,,PMOL/KG,,PMOL/KG,,FMOL/KG,,UMOL/KG,,UMOL/KG,,,,DEG C,TU,,NMOL/KG,,PERCNT,,DEG C,,/MILLE,,/MILLE,,/MILLE,NMOL/KG,,/MILLE,,UG/KG,,UMOL/KG,,UMOL/KG,,,,TU,NMOL/KG,G/KG,,,,,,1/M,,1/M,,1/M,,1/M,,1/M,,1/M,,1/M,,1/NM,,1/NM,,NMOL/KG,PERCNT,DEG C,,,,,,,,/MILLE,,/MILLE,,
320620110219,       S04P,     117,          1,         13,         13,2,20110409,       0940,   -67.0000,  -104.5910,       4692,  1935.2,   1.2060,  34.7245,2,  34.7246,2,    197.4,2,   197.3,2,  107.97,2,   31.68,2,    0.00,2,    2.21,2,-999.000,9,-999.000,9,-999.000,9,-999.0000,9,  -999.0,9,  -999.0,9,-999.0000,9,  -999.00,-999.000,9,-999.0000,9,-999.000,9,   1.2059,2, -999.00,9,  -999.0,9,  -999.0,-999.000,9, -999.00,9,-999.000,9,   40.09,2,   33.77,2, -67.0001,-104.5910,-999.000,     -999.0,    34.8883,2,     -999.0,9,     -999.0,9,-999.0000,9,-999.0000,9,-999.0000,9,-999.0000,9,-999.0000,9,-999.0000,9,-999.0000,9,-999.0000,9,-999.0000,9,-999.0000,-999.000,   1.0864,     -999.0,     -999.0,9,     -999.0,9,     -999.0,9,     -999.0,9,     -999.0,20110409,       1039
320620110219,       S04P,     117,          1,         12,         12,2,20110409,       0940,   -67.0000,  -104.5910,       4692,  2166.5,   1.0880,  34.7202,2,  34.7208,2,    200.0,2,   199.7,2,  113.76,2,   31.75,2,    0.00,2,    2.22,2,   0.148,2,   0.068,2,   0.008,2,   0.0650,2,  -999.0,9,  -999.0,9,-999.0000,9,  -999.00,-999.000,9,-999.0000,9,-999.000,9,   1.0882,2, -999.00,9,  -999.0,9,  -999.0,-999.000,9, -999.00,9,-999.000,9,   39.87,2,   33.95,2, -67.0001,-104.5910,-999.000,     -999.0,    34.8845,2,     -999.0,9,     -999.0,9,-999.0000,9,-999.0000,9,-999.0000,9,-999.0000,9,-999.0000,9,-999.0000,9,-999.0000,9,-999.0000,9,-999.0000,9,-999.0000,-999.000,   0.9521,     -999.0,     -999.0,9,     -999.0,9,     -999.0,9,     -999.0,9,     -999.0,20110409,       1034
320620110219,       S04P,     117,          1,         11,         11,2,20110409,       0940,   -67.0000,  -104.5910,       4692,  2416.2,   0.9731,  34.7160,2,  34.7157,2,    201.8,2,   201.3,2,  115.63,2,   31.97,2,    0.00,2,    2.23,2,-999.000,9,-999.000,9,-999.000,9,-999.0000,9,  2259.8,2,  2363.1,2,   7.6012,2,    25.00,-999.000,9,-999.0000,9,-999.000,9,   0.9733,2, -999.00,9,  -999.0,9,  -999.0,-999.000,9, -999.00,9,-999.000,9,   40.22,2,   34.61,2, -67.0001,-104.5910,-999.000,     -999.0,    34.8794,2,     -999.0,9,     -999.0,9,-999.0000,9,-999.0000,9,-999.0000,9,-999.0000,9,-999.0000,9,-999.0000,9,-999.0000,9,-999.0000,9,-999.0000,9,-999.0000,-999.000,   0.8188,     -999.0,     -999.0,9,     -999.0,9,     -999.0,9,     -999.0,9,     -999.0,20110409,       1029
320620110219,       S04P,     117,          1,         10,         37,2,20110409,       0940,   -67.0000,  -104.5910,       4692,  2665.3,   0.8664,  34.7118,2,  34.7116,2,    204.1,2,   204.2,2,  119.02,2,   31.99,2,    0.00,2,    2.24,2,-999.000,9,-999.000,9,-999.000,9,-999.0000,9,  -999.0,9,  -999.0,9,-999.0000,9,  -999.00,-999.000,9,-999.0000,9,-999.000,9,   0.8669,2, -999.00,9,  -999.0,9,  -999.0,-999.000,9, -999.00,9,-999.000,9,   39.76,2,   34.17,2, -67.0001,-104.5910,-999.000,     -999.0,    34.8753,2,     -999.0,9,     -999.0,9,-999.0000,9,-999.0000,9,-999.0000,9,-999.0000,9,-999.0000,9,-999.0000,9,-999.0000,9,-999.0000,9,-999.0000,9,-999.0000,-999.000,   0.6931,     -999.0,     -999.0,9,     -999.0,9,     -999.0,9,     -999.0,9,     -999.0,20110409,       1024
320620110219,       S04P,     117,          1,          9,          9,2,20110409,       0940,   -67.0000,  -104.5910,       4692,  2916.3,   0.7726,  34.7086,2,  34.7082,2,    205.9,2,   205.9,2,  122.36,2,   32.11,2,    0.00,2,    2.23,2,-999.000,9,-999.000,9,-999.000,9,-999.0000,9,  -999.0,9,  -999.0,9,-999.0000,9,  -999.00,-999.000,9,-999.0000,9,-999.000,9,   0.7732,2, -999.00,9,  -999.0,9,  -999.0,-999.000,9, -999.00,9,-999.000,9,   39.86,2,   35.00,2, -67.0001,-104.5910,-999.000,     -999.0,    34.8719,2,     -999.0,9,     -999.0,9,-999.0000,9,-999.0000,9,-999.0000,9,-999.0000,9,-999.0000,9,-999.0000,9,-999.0000,9,-999.0000,9,-999.0000,9,-999.0000,-999.000,   0.5792,     -999.0,     -999.0,9,     -999.0,9,     -999.0,9,     -999.0,9,     -999.0,20110409,       1019
320620110219,       S04P,     117,          1,          8,          8,2,20110409,       0940,   -67.0000,  -104.5910,       4692,  3200.0,   0.6536,  34.7058,2,  34.7063,2,    208.0,2,   208.0,2,  125.32,2,   32.35,2,    0.00,2,    2.24,2,   0.230,2,   0.099,2,   0.012,2,   0.0540,2,  2262.0,2,  2364.9,2,   7.5981,2,    25.00,-999.000,9,-999.0000,9,-999.000,9,   0.6534,2, -999.00,9,  -999.0,9,  -999.0,-999.000,9, -999.00,9,-999.000,9,   39.69,2,   34.80,2, -67.0001,-104.5910,-999.000,     -999.0,    34.8699,2,     -999.0,9,     -999.0,9,-999.0000,9,-999.0000,9,-999.0000,9,-999.0000,9,-999.0000,9,-999.0000,9,-999.0000,9,-999.0000,9,-999.0000,9,-999.0000,-999.000,   0.4371,     -999.0,     -999.0,9,     -999.0,9,     -999.0,9,     -999.0,9,     -999.0,20110409,       1014
320620110219,       S04P,     117,          1,          7,          7,2,20110409,       0940,   -67.0000,  -104.5910,       4692,  3502.0,   0.5475,  34.7040,2,  34.7037,2,    210.6,2,   211.6,2,  128.75,2,   32.38,2,    0.00,2,    2.25,2,-999.000,9,-999.000,9,-999.000,9,-999.0000,9,  -999.0,9,  -999.0,9,-999.0000,9,  -999.00,-999.000,9,-999.0000,9,-999.000,9,   0.5481,2, -999.00,9,  -999.0,9,  -999.0,-999.000,9, -999.00,9,-999.000,9,   39.82,2,   34.80,2, -67.0000,-104.5910,-999.000,     -999.0,    34.8674,2,     -999.0,9,     -999.0,9,-999.0000,9,-999.0000,9,-999.0000,9,-999.0000,9,-999.0000,9,-999.0000,9,-999.0000,9,-999.0000,9,-999.0000,9,-999.0000,-999.000,   0.3051,     -999.0,     -999.0,9,     -999.0,9,     -999.0,9,     -999.0,9,     -999.0,20110409,       1008
320620110219,       S04P,     117,          1,          6,          6,2,20110409,       0940,   -67.0000,  -104.5910,       4692,  3800.5,   0.4638,  34.7032,2,  34.7025,2,    212.7,2,   212.5,2,  131.45,2,   32.49,2,    0.00,2,    2.25,2,   0.259,2,   0.119,2,   0.010,2,   0.0450,2,  2262.6,2,  2357.0,4,   7.5980,2,    25.00,-999.000,9,-999.0000,9,-999.000,9,   0.4640,2, -999.00,9,  -999.0,9,  -999.0,-999.000,9, -999.00,9,-999.000,9,   39.56,2,   34.72,2, -67.0001,-104.5910,-999.000,     -999.0,    34.8662,2,     -999.0,9,     -999.0,9,-999.0000,9,-999.0000,9,-999.0000,9,-999.0000,9,-999.0000,9,-999.0000,9,-999.0000,9,-999.0000,9,-999.0000,9,-999.0000,-999.000,   0.1944,     -999.0,     -999.0,9,     -999.0,9,     -999.0,9,     -999.0,9,     -999.0,20110409,       1002
320620110219,       S04P,     117,          1,          5,          5,2,20110409,       0940,   -67.0000,  -104.5910,       4692,  4100.8,   0.4177,  34.7025,2,  34.7021,2,    214.1,2,   213.6,2,  134.96,2,   32.54,2,    0.00,2,    2.25,2,   0.282,2,   0.124,2,   0.011,2,   0.0330,2,  -999.0,9,  -999.0,9,-999.0000,9,  -999.00,-999.000,9,-999.0000,9,-999.000,9,   0.4181,2, -999.00,9,  -999.0,9,  -999.0,-999.000,9, -999.00,9,-999.000,9,   40.33,2,   34.73,2, -67.0001,-104.5910,-999.000,     -999.0,    34.8658,2,     -999.0,9,     -999.0,9,-999.0000,9,-999.0000,9,-999.0000,9,-999.0000,9,-999.0000,9,-999.0000,9,-999.0000,9,-999.0000,9,-999.0000,9,-999.0000,-999.000,   0.1190,     -999.0,     -999.0,9,     -999.0,9,     -999.0,9,     -999.0,9,     -999.0,20110409,       0956
320620110219,       S04P,     117,          1,          4,          4,2,20110409,       0940,   -67.0000,  -104.5910,       4692,  4401.8,   0.3976,  34.7018,2,  34.7025,2,    215.3,2,   215.6,2,  136.93,2,   32.64,2,    0.00,2,    2.25,2,   0.368,2,   0.171,2,   0.017,2,   0.0750,2,  2263.7,2,  2363.3,2,   7.5966,2,    25.00,-999.000,9,-999.0000,9,-999.000,9,   0.3979,2, -999.00,9,  -999.0,9,  -999.0,-999.000,9, -999.00,9,-999.000,9,   39.92,2,   34.71,2, -67.0000,-104.5910,-999.000,     -999.0,    34.8662,2,     -999.0,9,     -999.0,9,-999.0000,9,-999.0000,9,-999.0000,9,-999.0000,9,-999.0000,9,-999.0000,9,-999.0000,9,-999.0000,9,-999.0000,9,-999.0000,-999.000,   0.0676,     -999.0,     -999.0,9,     -999.0,9,     -999.0,9,     -999.0,9,     -999.0,20110409,       0950
320620110219,       S04P,     117,          1,          3,          3,2,20110409,       0940,   -67.0000,  -104.5910,       4692,  4701.1,   0.3965,  34.7007,2,  34.7009,2,    214.6,2,   215.1,2,  143.61,2,   32.81,2,    0.00,2,    2.25,2,   0.419,2,   0.186,2,   0.017,2,   0.0500,2,  2264.2,2,  2363.9,2,   7.5960,2,    25.00,-999.000,9,-999.0000,9,-999.000,9,   0.3966,2, -999.00,9,  -999.0,9,  -999.0,-999.000,9, -999.00,9,-999.000,9,   40.14,2,   35.06,2, -67.0000,-104.5910,-999.000,     -999.0,    34.8646,2,     -999.0,9,     -999.0,9,-999.0000,9,-999.0000,9,-999.0000,9,-999.0000,9,-999.0000,9,-999.0000,9,-999.0000,9,-999.0000,9,-999.0000,9,-999.0000,-999.000,   0.0337,     -999.0,     -999.0,9,     -999.0,9,     -999.0,9,     -999.0,9,     -999.0,20110409,       0944
320620110219,       S04P,     117,          1,          2,          2,2,20110409,       0940,   -67.0000,  -104.5910,       4692,  4741.0,   0.3982,  34.7007,2,  34.7004,2,    214.3,2,   214.2,2,  144.50,2,   32.74,2,    0.00,2,    2.24,2,   0.445,2,   0.192,2,   0.014,2,   0.0590,2,  2265.8,6,  2364.4,2,   7.5946,2,    25.00,-999.000,9,-999.0000,9,-999.000,9,   0.3976,2, -999.00,9,  -999.0,9,  -999.0,-999.000,9, -999.00,9,-999.000,9,   39.84,2,   35.13,2, -67.0001,-104.5910,-999.000,     -999.0,    34.8640,2,     -999.0,9,     -999.0,9,-999.0000,9,-999.0000,9,-999.0000,9,-999.0000,9,-999.0000,9,-999.0000,9,-999.0000,9,-999.0000,9,-999.0000,9,-999.0000,-999.000,   0.0308,     -999.0,     -999.0,9,     -999.0,9,     -999.0,9,     -999.0,9,     -999.0,20110409,       0942
320620110219,       S04P,     117,          1,          1,          1,2,20110409,       0940,   -67.0000,  -104.5910,       4692,  4779.5,   0.4031,  34.7006,2,  34.7004,2,    214.2,2,   214.2,2,  144.78,2,   32.78,2,    0.00,2,    2.24,2,   0.524,2,   0.220,2,   0.027,2,   0.0570,2,  2264.7,2,  2364.1,2,   7.5938,6,    25.00,-999.000,9,-999.0000,9,-999.000,9,   0.4029,2, -999.00,9,  -999.0,9,  -999.0,-999.000,9, -999.00,9,-999.000,9,   40.44,2,   35.19,2, -67.0001,-104.5910,-999.000,     -999.0,    34.8640,2,     -999.0,9,     -999.0,9,-999.0000,9,-999.0000,9,-999.0000,9,-999.0000,9,-999.0000,9,-999.0000,9,-999.0000,9,-999.0000,9,-999.0000,9,-999.0000,-999.000,   0.0313,     -999.0,     -999.0,9,     -999.0,9,     -999.0,9,     -999.0,9,     -999.0,20110409,       0940