BOTTLE,20220813CCHSIOAMB
EXPOCODE,SECT_ID,STNNBR,CASTNO,SAMPNO,BTLNBR,BTLNBR_FLAG_W,DATE,TIME,LATITUDE,LONGITUDE,DEPTH,CTDPRS,CTDTMP,CTDSAL,CTDSAL_FLAG_W,SALNTY,SALNTY_FLAG_W,CTDOXY,CTDOXY_FLAG_W,OXYGEN,OXYGEN_FLAG_W,SILCAT,SILCAT_FLAG_W,NITRAT,NITRAT_FLAG_W,NITRIT,NITRIT_FLAG_W,PHSPHT,PHSPHT_FLAG_W,CFC-11,CFC-11_FLAG_W,CFC-12,CFC-12_FLAG_W,CFC113,CFC113_FLAG_W,SF6,SF6_FLAG_W,TCARBN,TCARBN_FLAG_W,ALKALI,ALKALI_FLAG_W,PH_TOT,PH_TOT_FLAG_W,PH_TMP,TRITUM,TRITUM_FLAG_W,HELIUM,HELIUM_FLAG_W,DELHE3,DELHE3_FLAG_W,REFTMP,REFTMP_FLAG_W,DELC13,DELC13_FLAG_W,DELC14,DELC14_FLAG_W,C14ERR,NEON,NEON_FLAG_W,DELO18,DELO18_FLAG_W,POC,POC_FLAG_W,DOC,DOC_FLAG_W,TDN,TDN_FLAG_W,BTL_LAT,BTL_LON,TRITER,NEONER,SALTREF,SALTREF_FLAG_W,PIGMENTS,PIGMENTS_FLAG_W,LAB_DEN,LAB_DEN_FLAG_W,CDOM325,CDOM325_FLAG_W,CDOM340,CDOM340_FLAG_W,CDOM380,CDOM380_FLAG_W,CDOM412,CDOM412_FLAG_W,CDOM443,CDOM443_FLAG_W,CDOM490,CDOM490_FLAG_W,CDOM555,CDOM555_FLAG_W,CDOMSL,CDOMSL_FLAG_W,CDOMSN,CDOMSN_FLAG_W,HELIER,DELHER,THETA,LDEO_SAMPNO,ABSORBTION,ABSORBTION_FLAG_W,IMAGE_COUNT,IMAGE_COUNT_FLAG_W,CYTO_COUNT,CYTO_COUNT_FLAG_W,DELD,DELD_FLAG_W,DELDERR,BTL_DATE,BTL_TIME
,,,,,,,,,,,METERS,DBAR,ITS-90,PSS-78,,PSS-78,,UMOL/KG,,UMOL/KG,,UMOL/KG,,UMOL/KG,,UMOL/KG,,UMOL/KG,,PMOL/KG,,PMOL/KG,,PMOL/KG,,FMOL/KG,,UMOL/KG,,UMOL/KG,,,,DEG C,TU,,NMOL/KG,,PERCNT,,DEG C,,/MILLE,,/MILLE,,/MILLE,NMOL/KG,,/MILLE,,UG/KG,,UMOL/KG,,UMOL/KG,,,,TU,NMOL/KG,G/KG,,,,,,1/M,,1/M,,1/M,,1/M,,1/M,,1/M,,1/M,,1/NM,,1/NM,,NMOL/KG,PERCNT,DEG C,,,,,,,,/MILLE,,/MILLE,,
320620110219,       S04P,     115,          1,         36,         36,2,20110408,       1327,   -67.0001,  -109.7088,       4246,     3.9,  -0.6380,  33.5162,2,  33.5159,2,    340.2,3,   346.0,2,   24.62,2,   24.62,2,    0.24,2,    1.71,2,   6.086,2,   3.424,2,   0.647,2,   2.7140,2,  2140.1,2,  2265.8,2,   7.6939,2,    25.00,-999.000,9,-999.0000,9,-999.000,9,  -0.6377,2,    1.36,2,   -88.1,2,     3.6,-999.000,9, -999.00,9,-999.000,9,   44.12,2,   29.88,2, -67.0001,-109.7088,-999.000,     -999.0,    33.6739,2,     -999.0,9,     -999.0,9,-999.0000,9,-999.0000,9,-999.0000,9,-999.0000,9,-999.0000,9,-999.0000,9,-999.0000,9,-999.0000,9,-999.0000,9,-999.0000,-999.000,  -0.6381,     -999.0,     -999.0,9,     -999.0,9,     -999.0,9,     -999.0,9,     -999.0,20110408,       1515
320620110219,       S04P,     115,          1,         35,         35,2,20110408,       1327,   -67.0001,  -109.7088,       4246,    24.3,  -0.6456,  33.5208,2,  33.5204,2,    345.7,2,   346.0,2,   24.81,2,   24.62,2,    0.24,2,    1.74,2,   6.063,2,   3.398,2,   0.639,2,   2.6520,2,  2140.1,2,  2264.0,2,   7.6939,6,    25.00,-999.000,9,-999.0000,9,-999.000,9,  -0.6455,2, -999.00,9,  -999.0,9,  -999.0,-999.000,9, -999.00,9,-999.000,9,   43.68,2,   29.71,2, -67.0001,-109.7088,-999.000,     -999.0,    33.6784,2,     -999.0,9,     -999.0,9,-999.0000,9,-999.0000,9,-999.0000,9,-999.0000,9,-999.0000,9,-999.0000,9,-999.0000,9,-999.0000,9,-999.0000,9,-999.0000,-999.000,  -0.6463,     -999.0,     -999.0,9,     -999.0,9,     -999.0,9,     -999.0,9,     -999.0,20110408,       1513
320620110219,       S04P,     115,          1,         34,         34,2,20110408,       1327,   -67.0001,  -109.7088,       4246,    50.8,  -0.8939,  33.6430,2,  33.6303,2,    346.4,2,   341.1,2,   29.31,2,   25.65,2,    0.22,2,    1.82,2,   5.959,2,   3.307,2,   0.633,2,   2.6050,2,  2149.6,6,  2271.7,2,   7.6829,2,    25.00,-999.000,9,-999.0000,9,-999.000,9,  -0.8876,2,    1.38,2,   -84.5,2,     3.3,-999.000,9, -999.00,9,-999.000,9,   43.87,2,   30.06,2, -67.0001,-109.7088,-999.000,     -999.0,    33.7889,2,     -999.0,9,     -999.0,9,-999.0000,9,-999.0000,9,-999.0000,9,-999.0000,9,-999.0000,9,-999.0000,9,-999.0000,9,-999.0000,9,-999.0000,9,-999.0000,-999.000,  -0.8952,     -999.0,     -999.0,9,     -999.0,9,     -999.0,9,     -999.0,9,     -999.0,20110408,       1512
320620110219,       S04P,     115,          1,         33,         33,2,20110408,       1327,   -67.0001,  -109.7088,       4246,    75.1,  -1.5463,  33.9297,2,  33.9339,2,    324.2,2,   325.3,2,   41.28,2,   28.70,2,    0.22,2,    2.04,2,   5.619,2,   3.111,2,   0.593,2,   2.4110,2,  2180.5,2,  2290.4,2,   7.6427,2,    25.00,-999.000,9,-999.0000,9,-999.000,9,  -1.5457,2,    1.09,2,   -95.0,2,     3.4,-999.000,9, -999.00,9,-999.000,9,   43.19,2,   32.95,2, -67.0001,-109.7088,-999.000,     -999.0,    34.0940,2,     -999.0,9,     -999.0,9,-999.0000,9,-999.0000,9,-999.0000,9,-999.0000,9,-999.0000,9,-999.0000,9,-999.0000,9,-999.0000,9,-999.0000,9,-999.0000,-999.000,  -1.5479,     -999.0,     -999.0,9,     -999.0,9,     -999.0,9,     -999.0,9,     -999.0,20110408,       1511
320620110219,       S04P,     115,          1,         32,         32,2,20110408,       1327,   -67.0001,  -109.7088,       4246,    99.4,  -1.4353,  33.9894,2,  33.9932,2,    310.1,2,   313.2,2,   44.42,2,   29.69,2,    0.20,2,    2.08,2,   5.367,6,   2.971,6,   0.573,6,   2.2870,6,  2190.1,2,  2293.2,2,   7.6272,2,    25.00,-999.000,9,-999.0000,9,-999.000,9,  -1.4503,2,    1.04,2,   -96.5,2,     3.2,-999.000,9, -999.00,9,-999.000,9,   42.63,2,   33.63,2, -67.0001,-109.7088,-999.000,     -999.0,    34.1535,2,     -999.0,9,     -999.0,9,-999.0000,9,-999.0000,9,-999.0000,9,-999.0000,9,-999.0000,9,-999.0000,9,-999.0000,9,-999.0000,9,-999.0000,9,-999.0000,-999.000,  -1.4375,     -999.0,     -999.0,9,     -999.0,9,     -999.0,9,     -999.0,9,     -999.0,20110408,       1509
320620110219,       S04P,     115,          1,         31,         31,2,20110408,       1327,   -67.0001,  -109.7088,       4246,   151.9,   0.2620,  34.2145,2,  34.2186,2,    249.5,2,   254.5,2,   56.23,2,   32.58,2,    0.02,2,    2.25,2,   3.747,2,   2.074,2,   0.372,2,   1.5240,2,  2219.3,2,  2308.1,2,   7.5801,2,    25.00,-999.000,9,-999.0000,9,-999.000,9,   0.2917,2,    0.72,2,  -107.6,2,     3.0,-999.000,9, -999.00,9,-999.000,9,   41.19,2,   35.96,2, -67.0001,-109.7088,-999.000,     -999.0,    34.3800,2,     -999.0,9,     -999.0,9,-999.0000,9,-999.0000,9,-999.0000,9,-999.0000,9,-999.0000,9,-999.0000,9,-999.0000,9,-999.0000,9,-999.0000,9,-999.0000,-999.000,   0.2562,     -999.0,     -999.0,9,     -999.0,9,     -999.0,9,     -999.0,9,     -999.0,20110408,       1508
320620110219,       S04P,     115,          1,         30,         30,2,20110408,       1327,   -67.0001,  -109.7088,       4246,   200.8,   1.6482,  34.4484,2,  34.4537,2,    196.9,2,   194.0,2,   69.63,2,   34.51,2,    0.03,2,    2.37,2,   1.848,2,   1.005,2,   0.166,2,   0.6570,2,  2246.6,2,  2321.5,2,   7.5419,2,    25.00,-999.000,9,-999.0000,9,-999.000,9,   1.6448,2,    0.47,2,  -125.6,2,     2.9,-999.000,9, -999.00,9,-999.000,9,   40.74,2,   37.57,2, -67.0001,-109.7088,-999.000,     -999.0,    34.6162,2,     -999.0,9,     -999.0,9,-999.0000,9,-999.0000,9,-999.0000,9,-999.0000,9,-999.0000,9,-999.0000,9,-999.0000,9,-999.0000,9,-999.0000,9,-999.0000,-999.000,   1.6381,     -999.0,     -999.0,9,     -999.0,9,     -999.0,9,     -999.0,9,     -999.0,20110408,       1506
320620110219,       S04P,     115,          1,         29,         29,2,20110408,       1327,   -67.0001,  -109.7088,       4246,   252.3,   1.9740,  34.5408,2,  34.5376,2,    180.0,2,   180.2,2,   73.74,2,   34.42,2,    0.02,2,    2.37,2,   1.200,2,   0.641,2,   0.084,2,   0.3910,2,  2253.5,2,  2330.8,2,   7.5395,2,    25.00,-999.000,9,-999.0000,9,-999.000,9,   1.9756,2,    0.42,2,  -130.9,2,     2.9,-999.000,9, -999.00,9,-999.000,9,   40.52,2,   37.16,2, -67.0001,-109.7088,-999.000,     -999.0,    34.7005,2,     -999.0,9,     -999.0,9,-999.0000,9,-999.0000,9,-999.0000,9,-999.0000,9,-999.0000,9,-999.0000,9,-999.0000,9,-999.0000,9,-999.0000,9,-999.0000,-999.000,   1.9605,     -999.0,     -999.0,9,     -999.0,9,     -999.0,9,     -999.0,9,     -999.0,20110408,       1504
320620110219,       S04P,     115,          1,         28,         28,2,20110408,       1327,   -67.0001,  -109.7088,       4246,   300.5,   2.0552,  34.5829,2,  34.5817,2,    176.2,2,   176.0,2,   75.49,2,   34.15,2,    0.00,2,    2.35,2,   0.910,2,   0.482,2,   0.071,2,   0.3010,2,  2253.4,2,  2334.5,2,   7.5474,2,    25.00,-999.000,9,-999.0000,9,-999.000,9,   2.0550,2,    0.42,2,  -135.6,2,     2.8,-999.000,9, -999.00,9,-999.000,9,   40.26,2,   36.97,2, -67.0001,-109.7088,-999.000,     -999.0,    34.7448,2,     -999.0,9,     -999.0,9,-999.0000,9,-999.0000,9,-999.0000,9,-999.0000,9,-999.0000,9,-999.0000,9,-999.0000,9,-999.0000,9,-999.0000,9,-999.0000,-999.000,   2.0387,     -999.0,     -999.0,9,     -999.0,9,     -999.0,9,     -999.0,9,     -999.0,20110408,       1502
320620110219,       S04P,     115,          1,         27,         27,2,20110408,       1327,   -67.0001,  -109.7088,       4246,   350.4,   2.0889,  34.6174,2,  34.6176,2,    174.3,2,   174.4,2,   77.30,2,   33.73,2,    0.00,2,    2.32,2,   0.691,2,   0.363,2,   0.047,2,   0.2450,2,  2255.1,2,  2338.7,2,   7.5539,2,    25.00,-999.000,9,-999.0000,9,-999.000,9,   2.0889,2,    0.42,2,  -139.8,2,     2.6,-999.000,9, -999.00,9,-999.000,9,   39.70,2,   36.69,2, -67.0001,-109.7088,-999.000,     -999.0,    34.7809,2,     -999.0,9,     -999.0,9,-999.0000,9,-999.0000,9,-999.0000,9,-999.0000,9,-999.0000,9,-999.0000,9,-999.0000,9,-999.0000,9,-999.0000,9,-999.0000,-999.000,   2.0694,     -999.0,     -999.0,9,     -999.0,9,     -999.0,9,     -999.0,9,     -999.0,20110408,       1500
320620110219,       S04P,     115,          1,         26,         26,2,20110408,       1327,   -67.0001,  -109.7088,       4246,   400.6,   2.0871,  34.6396,2,  34.6402,2,    173.7,2,   173.3,2,   78.63,2,   33.50,2,    0.00,2,    2.30,2,   0.587,2,   0.292,2,   0.044,2,   0.1980,2,  2255.5,2,  2340.9,2,   7.5553,2,    25.00,-999.000,9,-999.0000,9,-999.000,9,   2.0871,2,    0.41,2,  -143.1,2,     2.9,-999.000,9, -999.00,9,-999.000,9,   39.60,2,   36.20,2, -67.0001,-109.7088,-999.000,     -999.0,    34.8035,2,     -999.0,9,     -999.0,9,-999.0000,9,-999.0000,9,-999.0000,9,-999.0000,9,-999.0000,9,-999.0000,9,-999.0000,9,-999.0000,9,-999.0000,9,-999.0000,-999.000,   2.0647,     -999.0,     -999.0,9,     -999.0,9,     -999.0,9,     -999.0,9,     -999.0,20110408,       1459
320620110219,       S04P,     115,          1,         25,         25,2,20110408,       1327,   -67.0001,  -109.7088,       4246,   449.8,   2.0705,  34.6586,2,  34.6585,2,    174.6,2,   174.2,2,   79.68,2,   33.14,2,    0.00,2,    2.28,2,   0.510,2,   0.254,2,   0.038,2,   0.1870,2,  2255.5,2,  2341.3,2,   7.5623,2,    25.00,-999.000,9,-999.0000,9,-999.000,9,   2.0712,2,    0.44,2,  -139.4,2,     2.6,-999.000,9, -999.00,9,-999.000,9,   39.91,2,   35.80,2, -67.0001,-109.7088,-999.000,     -999.0,    34.8219,2,     -999.0,9,     -999.0,9,-999.0000,9,-999.0000,9,-999.0000,9,-999.0000,9,-999.0000,9,-999.0000,9,-999.0000,9,-999.0000,9,-999.0000,9,-999.0000,-999.000,   2.0452,     -999.0,     -999.0,9,     -999.0,9,     -999.0,9,     -999.0,9,     -999.0,20110408,       1457
320620110219,       S04P,     115,          1,         24,         24,2,20110408,       1327,   -67.0001,  -109.7088,       4246,   501.1,   2.0663,  34.6749,2,  34.6739,2,    176.0,2,   176.9,2,   80.43,2,   32.70,2,    0.00,2,    2.26,2,-999.000,9,-999.000,9,-999.000,9,-999.0000,9,  2255.5,2,  2343.4,6,   7.5658,2,    25.00,-999.000,9,-999.0000,9,-999.000,9,   2.0667,2,    0.42,2,  -143.4,2,     2.5,-999.000,9, -999.00,9,-999.000,9,   39.89,2,   35.58,2, -67.0001,-109.7088,-999.000,     -999.0,    34.8374,2,     -999.0,9,     -999.0,9,-999.0000,9,-999.0000,9,-999.0000,9,-999.0000,9,-999.0000,9,-999.0000,9,-999.0000,9,-999.0000,9,-999.0000,9,-999.0000,-999.000,   2.0379,     -999.0,     -999.0,9,     -999.0,9,     -999.0,9,     -999.0,9,     -999.0,20110408,       1455
320620110219,       S04P,     115,          1,         23,         23,2,20110408,       1327,   -67.0001,  -109.7088,       4246,   599.9,   2.0083,  34.6974,2,  34.6971,2,    179.0,2,   179.3,2,   83.17,2,   32.31,2,    0.00,2,    2.23,2,   0.345,2,   0.166,2,   0.025,2,   0.1450,2,  -999.0,9,  -999.0,9,   7.5785,2,    25.00,-999.000,9,-999.0000,9,-999.000,9,   2.0082,2, -999.00,9,  -999.0,9,  -999.0,-999.000,9, -999.00,9,-999.000,9,   39.63,2,   35.10,2, -67.0001,-109.7088,-999.000,     -999.0,    34.8607,2,     -999.0,9,     -999.0,9,-999.0000,9,-999.0000,9,-999.0000,9,-999.0000,9,-999.0000,9,-999.0000,9,-999.0000,9,-999.0000,9,-999.0000,9,-999.0000,-999.000,   1.9740,     -999.0,     -999.0,9,     -999.0,9,     -999.0,9,     -999.0,9,     -999.0,20110408,       1453
320620110219,       S04P,     115,          1,         22,         22,2,20110408,       1327,   -67.0001,  -109.7088,       4246,   699.1,   1.9369,  34.7126,2,  34.7124,2,    182.1,2,   182.2,2,   84.50,2,   32.00,2,    0.00,2,    2.20,2,-999.000,9,-999.000,9,-999.000,9,-999.0000,9,  2252.8,2,  2346.3,2,   7.5832,2,    25.00,-999.000,9,-999.0000,9,-999.000,9,   1.9371,2,    0.46,6,  -144.4,6,     3.0,-999.000,9, -999.00,9,-999.000,9,   39.56,2,   34.59,2, -67.0001,-109.7088,-999.000,     -999.0,    34.8761,2,     -999.0,9,     -999.0,9,-999.0000,9,-999.0000,9,-999.0000,9,-999.0000,9,-999.0000,9,-999.0000,9,-999.0000,9,-999.0000,9,-999.0000,9,-999.0000,-999.000,   1.8968,     -999.0,     -999.0,9,     -999.0,9,     -999.0,9,     -999.0,9,     -999.0,20110408,       1450
320620110219,       S04P,     115,          1,         21,         21,2,20110408,       1327,   -67.0001,  -109.7088,       4246,   800.5,   1.8687,  34.7224,2,  34.7224,2,    185.4,2,   185.7,2,   86.12,2,   31.56,2,    0.00,2,    2.17,2,   0.257,2,   0.118,2,   0.013,2,   0.0700,2,  -999.0,9,  -999.0,9,   7.5920,2,    25.00,-999.000,9,-999.0000,9,-999.000,9,   1.8685,2,    0.47,2,  -143.9,2,     2.7,-999.000,9, -999.00,9,-999.000,9,   39.87,2,   34.02,2, -67.0001,-109.7088,-999.000,     -999.0,    34.8861,2,     -999.0,9,     -999.0,9,-999.0000,9,-999.0000,9,-999.0000,9,-999.0000,9,-999.0000,9,-999.0000,9,-999.0000,9,-999.0000,9,-999.0000,9,-999.0000,-999.000,   1.8225,     -999.0,     -999.0,9,     -999.0,9,     -999.0,9,     -999.0,9,     -999.0,20110408,       1447
320620110219,       S04P,     115,          1,         20,         20,2,20110408,       1327,   -67.0001,  -109.7088,       4246,   900.1,   1.7894,  34.7280,2,  34.7279,2,    187.7,2,   187.4,2,   88.39,2,   31.44,2,    0.00,2,    2.16,2,-999.000,9,-999.000,9,-999.000,9,-999.0000,9,  2251.9,2,  2349.8,2,   7.5933,2,    25.00,-999.000,9,-999.0000,9,-999.000,9,   1.7895,2,    0.48,2,  -148.5,2,     2.9,-999.000,9, -999.00,9,-999.000,9,   39.88,2,   34.20,2, -67.0001,-109.7088,-999.000,     -999.0,    34.8916,2,     -999.0,9,     -999.0,9,-999.0000,9,-999.0000,9,-999.0000,9,-999.0000,9,-999.0000,9,-999.0000,9,-999.0000,9,-999.0000,9,-999.0000,9,-999.0000,-999.000,   1.7373,     -999.0,     -999.0,9,     -999.0,9,     -999.0,9,     -999.0,9,     -999.0,20110408,       1444
320620110219,       S04P,     115,          1,         19,         19,2,20110408,       1327,   -67.0001,  -109.7088,       4246,  1000.2,   1.7114,  34.7312,2,  34.7320,2,    189.7,2,   189.6,2,   90.82,2,   31.38,2,    0.00,2,    2.15,2,   0.216,2,   0.114,2,   0.012,2,   0.0790,2,  -999.0,9,  -999.0,9,   7.5969,2,    25.00,-999.000,9,-999.0000,9,-999.000,9,   1.7115,2,    0.49,2,  -156.3,2,     2.8,-999.000,9, -999.00,9,-999.000,9,   39.79,2,   33.45,2, -67.0001,-109.7088,-999.000,     -999.0,    34.8958,2,     -999.0,9,     -999.0,9,-999.0000,9,-999.0000,9,-999.0000,9,-999.0000,9,-999.0000,9,-999.0000,9,-999.0000,9,-999.0000,9,-999.0000,9,-999.0000,-999.000,   1.6533,     -999.0,     -999.0,9,     -999.0,9,     -999.0,9,     -999.0,9,     -999.0,20110408,       1442
320620110219,       S04P,     115,          1,         18,         18,2,20110408,       1327,   -67.0001,  -109.7088,       4246,  1099.7,   1.6231,  34.7323,2,  34.7324,2,    191.4,2,   191.7,2,   93.13,2,   31.36,2,    0.00,2,    2.15,2,-999.000,9,-999.000,9,-999.000,9,-999.0000,9,  2253.1,2,  2353.4,2,   7.6002,6,    25.00,-999.000,9,-999.0000,9,-999.000,9,   1.6232,2,    0.51,2,  -147.6,2,     2.6,-999.000,9, -999.00,9,-999.000,9,   39.75,2,   33.51,2, -67.0001,-109.7088,-999.000,     -999.0,    34.8962,2,     -999.0,9,     -999.0,9,-999.0000,9,-999.0000,9,-999.0000,9,-999.0000,9,-999.0000,9,-999.0000,9,-999.0000,9,-999.0000,9,-999.0000,9,-999.0000,-999.000,   1.5590,     -999.0,     -999.0,9,     -999.0,9,     -999.0,9,     -999.0,9,     -999.0,20110408,       1439
320620110219,       S04P,     115,          1,         17,         17,3,20110408,       1327,   -67.0001,  -109.7088,       4246,  1200.1,   1.5390,  34.7324,2,  34.7261,4,    192.7,2,   199.4,4,  104.32,4,   31.59,4,    0.00,4,    2.18,4,   0.180,2,   0.087,2,   0.010,2,   0.0690,2,  -999.0,9,  -999.0,9,   7.5976,4,    25.00,-999.000,9,-999.0000,9,-999.000,9,   1.5392,2,    0.48,2,  -157.7,2,     2.3,-999.000,9, -999.00,9,-999.000,9,   39.66,2,   33.82,2, -67.0001,-109.7088,-999.000,     -999.0,    34.8898,4,     -999.0,9,     -999.0,9,-999.0000,9,-999.0000,9,-999.0000,9,-999.0000,9,-999.0000,9,-999.0000,9,-999.0000,9,-999.0000,9,-999.0000,9,-999.0000,-999.000,   1.4689,     -999.0,     -999.0,9,     -999.0,9,     -999.0,9,     -999.0,9,     -999.0,20110408,       1436
320620110219,       S04P,     115,          1,         16,         16,2,20110408,       1327,   -67.0001,  -109.7088,       4246,  1300.5,   1.4614,  34.7316,2,  34.7312,2,    193.5,2,   193.7,2,   98.23,2,   31.22,2,    0.00,2,    2.16,2,-999.000,9,-999.000,9,-999.000,9,-999.0000,9,  2256.2,6,  2357.4,2,   7.6001,2,    25.00,-999.000,9,-999.0000,9,-999.000,9,   1.4615,2,    0.48,2,  -150.6,2,     2.4,-999.000,9, -999.00,9,-999.000,9,   39.77,2,   33.61,2, -67.0001,-109.7088,-999.000,     -999.0,    34.8950,2,     -999.0,9,     -999.0,9,-999.0000,9,-999.0000,9,-999.0000,9,-999.0000,9,-999.0000,9,-999.0000,9,-999.0000,9,-999.0000,9,-999.0000,9,-999.0000,-999.000,   1.3852,     -999.0,     -999.0,9,     -999.0,9,     -999.0,9,     -999.0,9,     -999.0,20110408,       1434
320620110219,       S04P,     115,          1,         15,         15,2,20110408,       1327,   -67.0001,  -109.7088,       4246,  1397.8,   1.3883,  34.7302,2,  34.7304,2,    194.3,2,   196.0,3,  100.49,2,   31.27,2,    0.00,2,    2.16,2,   0.154,2,   0.079,2,   0.010,2,   0.0970,2,  -999.0,9,  -999.0,9,   7.6007,2,    25.00,-999.000,9,-999.0000,9,-999.000,9,   1.3885,2, -999.00,9,  -999.0,9,  -999.0,-999.000,9, -999.00,9,-999.000,9,   39.62,2,   33.42,2, -67.0001,-109.7088,-999.000,     -999.0,    34.8942,2,     -999.0,9,     -999.0,9,-999.0000,9,-999.0000,9,-999.0000,9,-999.0000,9,-999.0000,9,-999.0000,9,-999.0000,9,-999.0000,9,-999.0000,9,-999.0000,-999.000,   1.3060,     -999.0,     -999.0,9,     -999.0,9,     -999.0,9,     -999.0,9,     -999.0,20110408,       1431
320620110219,       S04P,     115,          1,         14,         14,2,20110408,       1327,   -67.0001,  -109.7088,       4246,  1501.1,   1.3173,  34.7285,2,  34.7288,2,    195.6,2,   195.2,2,  102.55,2,   31.32,2,    0.00,2,    2.16,2,-999.000,9,-999.000,9,-999.000,9,-999.0000,9,  2256.4,2,  2358.4,2,   7.6022,2,    25.00,-999.000,9,-999.0000,9,-999.000,9,   1.3171,2,    0.33,2,  -173.4,3,     2.4,-999.000,9, -999.00,9,-999.000,9,   39.71,2,   33.95,2, -67.0001,-109.7088,-999.000,     -999.0,    34.8926,2,     -999.0,9,     -999.0,9,-999.0000,9,-999.0000,9,-999.0000,9,-999.0000,9,-999.0000,9,-999.0000,9,-999.0000,9,-999.0000,9,-999.0000,9,-999.0000,-999.000,   1.2285,     -999.0,     -999.0,9,     -999.0,9,     -999.0,9,     -999.0,9,     -999.0,20110408,       1428