BOTTLE,20220813CCHSIOAMB
EXPOCODE,SECT_ID,STNNBR,CASTNO,SAMPNO,BTLNBR,BTLNBR_FLAG_W,DATE,TIME,LATITUDE,LONGITUDE,DEPTH,CTDPRS,CTDTMP,CTDSAL,CTDSAL_FLAG_W,SALNTY,SALNTY_FLAG_W,CTDOXY,CTDOXY_FLAG_W,OXYGEN,OXYGEN_FLAG_W,SILCAT,SILCAT_FLAG_W,NITRAT,NITRAT_FLAG_W,NITRIT,NITRIT_FLAG_W,PHSPHT,PHSPHT_FLAG_W,CFC-11,CFC-11_FLAG_W,CFC-12,CFC-12_FLAG_W,CFC113,CFC113_FLAG_W,SF6,SF6_FLAG_W,TCARBN,TCARBN_FLAG_W,ALKALI,ALKALI_FLAG_W,PH_TOT,PH_TOT_FLAG_W,PH_TMP,TRITUM,TRITUM_FLAG_W,HELIUM,HELIUM_FLAG_W,DELHE3,DELHE3_FLAG_W,REFTMP,REFTMP_FLAG_W,DELC13,DELC13_FLAG_W,DELC14,DELC14_FLAG_W,C14ERR,NEON,NEON_FLAG_W,DELO18,DELO18_FLAG_W,POC,POC_FLAG_W,DOC,DOC_FLAG_W,TDN,TDN_FLAG_W,BTL_LAT,BTL_LON,TRITER,NEONER,SALTREF,SALTREF_FLAG_W,PIGMENTS,PIGMENTS_FLAG_W,LAB_DEN,LAB_DEN_FLAG_W,CDOM325,CDOM325_FLAG_W,CDOM340,CDOM340_FLAG_W,CDOM380,CDOM380_FLAG_W,CDOM412,CDOM412_FLAG_W,CDOM443,CDOM443_FLAG_W,CDOM490,CDOM490_FLAG_W,CDOM555,CDOM555_FLAG_W,CDOMSL,CDOMSL_FLAG_W,CDOMSN,CDOMSN_FLAG_W,HELIER,DELHER,THETA,LDEO_SAMPNO,ABSORBTION,ABSORBTION_FLAG_W,IMAGE_COUNT,IMAGE_COUNT_FLAG_W,CYTO_COUNT,CYTO_COUNT_FLAG_W,DELD,DELD_FLAG_W,DELDERR,BTL_DATE,BTL_TIME
,,,,,,,,,,,METERS,DBAR,ITS-90,PSS-78,,PSS-78,,UMOL/KG,,UMOL/KG,,UMOL/KG,,UMOL/KG,,UMOL/KG,,UMOL/KG,,PMOL/KG,,PMOL/KG,,PMOL/KG,,FMOL/KG,,UMOL/KG,,UMOL/KG,,,,DEG C,TU,,NMOL/KG,,PERCNT,,DEG C,,/MILLE,,/MILLE,,/MILLE,NMOL/KG,,/MILLE,,UG/KG,,UMOL/KG,,UMOL/KG,,,,TU,NMOL/KG,G/KG,,,,,,1/M,,1/M,,1/M,,1/M,,1/M,,1/M,,1/M,,1/NM,,1/NM,,NMOL/KG,PERCNT,DEG C,,,,,,,,/MILLE,,/MILLE,,
320620110219,       S04P,       8,          1,         13,         13,2,20110223,       2019,   -69.8770,   169.5273,       2689,  1264.8,   0.5233,  34.6912,2,  34.6918,2,    208.6,2,   209.4,2,  113.51,2,   32.66,2,    0.00,2,    2.18,2,   0.752,2,   0.378,2,   0.058,2,   0.2880,2,  -999.0,9,  -999.0,9,-999.0000,9,  -999.00,   0.001,2,    2.048,2,   9.200,2,   0.5233,2, -999.00,9,  -999.0,9,  -999.0,   8.921,2,   -0.19,2,-999.000,9,   39.42,2,   34.62,2, -69.8770, 169.5273,   0.004,      0.011,    34.8554,2,     -999.0,9,     -999.0,9,-999.0000,9,-999.0000,9,-999.0000,9,-999.0000,9,-999.0000,9,-999.0000,9,-999.0000,9,-999.0000,9,-999.0000,9,    0.000,   0.200,   0.4591,50000801013,     -999.0,9,     -999.0,9,     -999.0,9,      -2.43,2,       0.06,20110223,       2100
320620110219,       S04P,       8,          1,         12,         12,2,20110223,       2019,   -69.8770,   169.5273,       2689,  1364.7,   0.4588,  34.6881,2,  34.6882,2,    211.0,2,   211.8,2,  112.80,2,   32.20,2,    0.00,2,    2.17,2,-999.000,9,-999.000,9,-999.000,9,-999.0000,9,  2261.1,2,  2355.2,6,   7.6085,4,    25.00,-999.000,9,-999.0000,9,-999.000,9,   0.4568,2, -999.00,9,  -999.0,9,  -999.0,-999.000,9, -999.00,9,-999.000,9,   39.21,2,   35.09,2, -69.8770, 169.5273,-999.000,     -999.0,    34.8518,2,     -999.0,9,     -999.0,9,-999.0000,9,-999.0000,9,-999.0000,9,-999.0000,9,-999.0000,9,-999.0000,9,-999.0000,9,-999.0000,9,-999.0000,9,-999.0000,-999.000,   0.3890,     -999.0,     -999.0,9,     -999.0,9,     -999.0,9,     -999.0,9,     -999.0,20110223,       2057
320620110219,       S04P,       8,          1,         11,         11,2,20110223,       2019,   -69.8770,   169.5273,       2689,  1465.3,   0.3921,  34.6853,2,  34.6859,2,    214.7,2,   213.0,2,  112.75,2,   32.34,2,    0.00,2,    2.18,2,   0.903,2,   0.454,2,   0.068,2,   0.3140,2,  -999.0,9,  -999.0,9,-999.0000,9,  -999.00,-999.000,9,    2.060,2,   8.808,2,   0.3921,2, -999.00,9,  -999.0,9,  -999.0,   8.963,2,   -0.20,2,-999.000,9,   39.26,2,   35.18,2, -69.8770, 169.5273,-999.000,      0.011,    34.8494,2,     -999.0,9,     -999.0,9,-999.0000,9,-999.0000,9,-999.0000,9,-999.0000,9,-999.0000,9,-999.0000,9,-999.0000,9,-999.0000,9,-999.0000,9,    0.000,   0.205,   0.3167,50000801011,     -999.0,9,     -999.0,9,     -999.0,9,      -2.96,2,       0.24,20110223,       2054
320620110219,       S04P,       8,          1,         10,         10,2,20110223,       2019,   -69.8770,   169.5273,       2689,  1565.4,   0.3911,  34.6898,2,  34.6910,2,    213.0,2,   212.6,2,  115.97,2,   32.28,2,    0.00,2,    2.17,2,-999.000,9,-999.000,9,-999.000,9,-999.0000,9,  -999.0,9,  -999.0,9,-999.0000,9,  -999.00,-999.000,9,-999.0000,9,-999.000,9,   0.3901,2, -999.00,9,  -999.0,9,  -999.0,-999.000,9, -999.00,9,-999.000,9, -999.00,9, -999.00,9, -69.8770, 169.5273,-999.000,     -999.0,    34.8546,2,     -999.0,9,     -999.0,9,-999.0000,9,-999.0000,9,-999.0000,9,-999.0000,9,-999.0000,9,-999.0000,9,-999.0000,9,-999.0000,9,-999.0000,9,-999.0000,-999.000,   0.3092,     -999.0,     -999.0,9,     -999.0,9,     -999.0,9,     -999.0,9,     -999.0,20110223,       2051
320620110219,       S04P,       8,          1,          9,          9,2,20110223,       2019,   -69.8770,   169.5273,       2689,  1663.2,   0.2999,  34.6828,2,  34.6826,2,    216.5,2,   216.5,2,  111.97,2,   31.96,2,    0.00,2,    2.17,2,   1.041,2,   0.519,2,   0.082,2,   0.3170,2,  2259.8,2,  2351.2,2,   7.5910,4,    25.00,-999.000,9,    2.103,2,   7.854,2,   0.3000,2, -999.00,9,  -999.0,9,  -999.0,   9.164,2,    0.16,2,-999.000,9,   39.54,2,   34.13,2, -69.8770, 169.5272,-999.000,      0.016,    34.8461,2,     -999.0,9,     -999.0,9,-999.0000,9,-999.0000,9,-999.0000,9,-999.0000,9,-999.0000,9,-999.0000,9,-999.0000,9,-999.0000,9,-999.0000,9,    0.001,   0.181,   0.2128,50000801009,     -999.0,9,     -999.0,9,     -999.0,9,      -1.24,2,       0.13,20110223,       2049
320620110219,       S04P,       8,          1,          8,          8,2,20110223,       2019,   -69.8770,   169.5273,       2689,  1765.7,   0.2302,  34.6786,2,  34.6776,2,    215.5,2,   219.0,2,  110.47,2,   31.95,2,    0.00,2,    2.17,2,   1.209,2,   0.624,2,   0.098,2,   0.3910,2,  -999.0,9,  -999.0,9,-999.0000,9,  -999.00,-999.000,9,-999.0000,9,-999.000,9,   0.2303,2, -999.00,9,  -999.0,9,  -999.0,-999.000,9, -999.00,9,-999.000,9,   39.88,2,   34.72,2, -69.8770, 169.5273,-999.000,     -999.0,    34.8412,2,     -999.0,9,     -999.0,9,-999.0000,9,-999.0000,9,-999.0000,9,-999.0000,9,-999.0000,9,-999.0000,9,-999.0000,9,-999.0000,9,-999.0000,9,-999.0000,-999.000,   0.1371,     -999.0,     -999.0,9,     -999.0,9,     -999.0,9,     -999.0,9,     -999.0,20110223,       2046
320620110219,       S04P,       8,          1,          7,          7,2,20110223,       2019,   -69.8770,   169.5273,       2689,  1864.9,   0.2316,  34.6825,2,  34.6835,2,    218.5,2,   218.7,2,  113.88,2,   32.18,2,    0.00,2,    2.18,2,   1.086,2,   0.598,2,   0.088,2,   0.3030,2,  -999.0,9,  -999.0,9,-999.0000,9,  -999.00,   0.001,2,    2.075,2,   7.689,2,   0.2314,2, -999.00,9,  -999.0,9,  -999.0,   9.022,2,    0.11,2,-999.000,9,   39.97,2,   34.96,2, -69.8770, 169.5273,   0.004,      0.011,    34.8471,2,     -999.0,9,     -999.0,9,-999.0000,9,-999.0000,9,-999.0000,9,-999.0000,9,-999.0000,9,-999.0000,9,-999.0000,9,-999.0000,9,-999.0000,9,    0.000,   0.200,   0.1317,50000801007,     -999.0,9,     -999.0,9,     -999.0,9,      -1.49,2,       0.16,20110223,       2043
320620110219,       S04P,       8,          1,          6,          6,2,20110223,       2019,   -69.8770,   169.5273,       2689,  1965.3,   0.1678,  34.6784,2,  34.6786,2,    220.7,2,   221.4,2,  110.97,2,   32.32,2,    0.00,2,    2.16,2,-999.000,9,-999.000,9,-999.000,9,-999.0000,9,  2260.0,2,  2351.1,2,   7.5936,4,    25.00,-999.000,9,-999.0000,9,-999.000,9,   0.1675,2, -999.00,9,  -999.0,9,  -999.0,-999.000,9, -999.00,9,-999.000,9,   40.03,2,   35.36,2, -69.8770, 169.5273,-999.000,     -999.0,    34.8422,2,     -999.0,9,     -999.0,9,-999.0000,9,-999.0000,9,-999.0000,9,-999.0000,9,-999.0000,9,-999.0000,9,-999.0000,9,-999.0000,9,-999.0000,9,-999.0000,-999.000,   0.0619,     -999.0,     -999.0,9,     -999.0,9,     -999.0,9,     -999.0,9,     -999.0,20110223,       2040
320620110219,       S04P,       8,          1,          5,          5,2,20110223,       2019,   -69.8770,   169.5273,       2689,  2135.2,   0.0569,  34.6696,2,  34.6700,2,    225.6,2,   226.3,2,  104.06,2,   32.04,2,    0.00,2,    2.16,2,   1.673,2,   0.882,2,   0.151,2,   0.5120,2,  -999.0,9,  -999.0,9,-999.0000,9,  -999.00,   0.001,2,    2.106,2,   6.541,2,   0.0568,2, -999.00,9,  -999.0,9,  -999.0,   9.169,2,   -0.24,2,-999.000,9,   40.42,2,   34.04,2, -69.8770, 169.5273,   0.004,      0.012,    34.8335,2,     -999.0,9,     -999.0,9,-999.0000,9,-999.0000,9,-999.0000,9,-999.0000,9,-999.0000,9,-999.0000,9,-999.0000,9,-999.0000,9,-999.0000,9,    0.000,   0.203,  -0.0594,50000801005,     -999.0,9,     -999.0,9,     -999.0,9,      -3.13,2,       0.10,20110223,       2036
320620110219,       S04P,       8,          1,          4,          4,2,20110223,       2019,   -69.8770,   169.5273,       2689,  2334.6,  -0.0482,  34.6681,2,  34.6679,2,    230.5,2,   230.7,2,  100.65,2,   31.94,2,    0.00,2,    2.16,2,   1.981,2,   1.054,2,   0.192,2,   0.6580,2,  -999.0,9,  -999.0,9,-999.0000,9,  -999.00,   0.009,2,    2.132,4,   6.292,2,  -0.0487,2, -999.00,9,  -999.0,9,  -999.0,   9.290,2,   -0.38,2,-999.000,9,   40.47,2,   34.30,2, -69.8770, 169.5273,   0.004,      0.012,    34.8313,2,     -999.0,9,     -999.0,9,-999.0000,9,-999.0000,9,-999.0000,9,-999.0000,9,-999.0000,9,-999.0000,9,-999.0000,9,-999.0000,9,-999.0000,9,    0.000,   0.189,  -0.1773,50000801004,     -999.0,9,     -999.0,9,     -999.0,9,      -3.95,2,       0.22,20110223,       2031
320620110219,       S04P,       8,          1,          3,          3,2,20110223,       2019,   -69.8770,   169.5273,       2689,  2534.5,  -0.1650,  34.6678,2,  34.6681,2,    235.2,2,   235.2,2,   97.67,2,   31.64,2,    0.00,2,    2.15,2,   2.211,2,   1.181,2,   0.198,2,   0.6900,2,  2256.2,2,  2347.2,6,   7.5895,2,    25.00,   0.016,2,    2.168,4,   5.972,2,  -0.1651,2, -999.00,9,  -999.0,9,  -999.0,   9.424,2,   -0.32,2,-999.000,9,   40.58,2,   35.48,2, -69.8770, 169.5273,   0.004,      0.012,    34.8315,2,     -999.0,9,     -999.0,9,-999.0000,9,-999.0000,9,-999.0000,9,-999.0000,9,-999.0000,9,-999.0000,9,-999.0000,9,-999.0000,9,-999.0000,9,    0.001,   0.201,  -0.3071,50000801003,     -999.0,9,     -999.0,9,     -999.0,9,      -3.46,2,       0.09,20110223,       2026
320620110219,       S04P,       8,          1,          2,          2,2,20110223,       2019,   -69.8770,   169.5273,       2689,  2669.3,  -0.3329,  34.6625,2,  34.6616,2,    240.9,2,   241.2,2,   94.80,2,   31.09,2,    0.00,2,    2.15,2,   2.523,2,   1.344,2,   0.233,2,   0.8610,2,  2253.4,2,  2344.6,2,   7.5887,2,    25.00,   0.012,2,    2.167,4,   5.771,2,  -0.3351,2, -999.00,9,  -999.0,9,  -999.0,   9.342,2,   -0.26,2,-999.000,9,   40.17,2,   34.96,2, -69.8770, 169.5273,   0.003,      0.015,    34.8250,2,     -999.0,9,     -999.0,9,-999.0000,9,-999.0000,9,-999.0000,9,-999.0000,9,-999.0000,9,-999.0000,9,-999.0000,9,-999.0000,9,-999.0000,9,    0.001,   0.193,  -0.4821,50000801002,     -999.0,9,     -999.0,9,     -999.0,9,      -3.50,2,       0.14,20110223,       2021
320620110219,       S04P,       8,          1,          1,          1,2,20110223,       2019,   -69.8770,   169.5273,       2689,  2724.0,  -0.4277,  34.6611,2,  34.6614,2,    246.0,2,   246.4,2,   93.37,2,   31.41,2,    0.00,2,    2.17,2,   2.715,2,   1.482,2,   0.255,2,   0.8950,2,  2254.3,2,  2345.7,2,   7.5936,2,    25.00,   0.028,2,    2.017,2,   4.636,2,  -0.4281,2, -999.00,9,  -999.0,9,  -999.0,   8.923,2,   -0.34,2,-999.000,9,   40.57,2,   34.23,2, -69.8770, 169.5272,   0.004,      0.013,    34.8248,2,     -999.0,9,     -999.0,9,-999.0000,9,-999.0000,9,-999.0000,9,-999.0000,9,-999.0000,9,-999.0000,9,-999.0000,9,-999.0000,9,-999.0000,9,    0.000,   0.193,  -0.5792,50000801001,     -999.0,9,     -999.0,9,     -999.0,9,      -3.83,2,       0.16,20110223,       2019