BOTTLE,20220813CCHSIOAMB
EXPOCODE,SECT_ID,STNNBR,CASTNO,SAMPNO,BTLNBR,BTLNBR_FLAG_W,DATE,TIME,LATITUDE,LONGITUDE,DEPTH,CTDPRS,CTDTMP,CTDSAL,CTDSAL_FLAG_W,SALNTY,SALNTY_FLAG_W,CTDOXY,CTDOXY_FLAG_W,OXYGEN,OXYGEN_FLAG_W,SILCAT,SILCAT_FLAG_W,NITRAT,NITRAT_FLAG_W,NITRIT,NITRIT_FLAG_W,PHSPHT,PHSPHT_FLAG_W,CFC-11,CFC-11_FLAG_W,CFC-12,CFC-12_FLAG_W,CFC113,CFC113_FLAG_W,SF6,SF6_FLAG_W,TCARBN,TCARBN_FLAG_W,ALKALI,ALKALI_FLAG_W,PH_TOT,PH_TOT_FLAG_W,PH_TMP,TRITUM,TRITUM_FLAG_W,HELIUM,HELIUM_FLAG_W,DELHE3,DELHE3_FLAG_W,REFTMP,REFTMP_FLAG_W,DELC13,DELC13_FLAG_W,DELC14,DELC14_FLAG_W,C14ERR,NEON,NEON_FLAG_W,DELO18,DELO18_FLAG_W,POC,POC_FLAG_W,DOC,DOC_FLAG_W,TDN,TDN_FLAG_W,BTL_LAT,BTL_LON,TRITER,NEONER,SALTREF,SALTREF_FLAG_W,PIGMENTS,PIGMENTS_FLAG_W,LAB_DEN,LAB_DEN_FLAG_W,CDOM325,CDOM325_FLAG_W,CDOM340,CDOM340_FLAG_W,CDOM380,CDOM380_FLAG_W,CDOM412,CDOM412_FLAG_W,CDOM443,CDOM443_FLAG_W,CDOM490,CDOM490_FLAG_W,CDOM555,CDOM555_FLAG_W,CDOMSL,CDOMSL_FLAG_W,CDOMSN,CDOMSN_FLAG_W,HELIER,DELHER,THETA,LDEO_SAMPNO,ABSORBTION,ABSORBTION_FLAG_W,IMAGE_COUNT,IMAGE_COUNT_FLAG_W,CYTO_COUNT,CYTO_COUNT_FLAG_W,DELD,DELD_FLAG_W,DELDERR,BTL_DATE,BTL_TIME
,,,,,,,,,,,METERS,DBAR,ITS-90,PSS-78,,PSS-78,,UMOL/KG,,UMOL/KG,,UMOL/KG,,UMOL/KG,,UMOL/KG,,UMOL/KG,,PMOL/KG,,PMOL/KG,,PMOL/KG,,FMOL/KG,,UMOL/KG,,UMOL/KG,,,,DEG C,TU,,NMOL/KG,,PERCNT,,DEG C,,/MILLE,,/MILLE,,/MILLE,NMOL/KG,,/MILLE,,UG/KG,,UMOL/KG,,UMOL/KG,,,,TU,NMOL/KG,G/KG,,,,,,1/M,,1/M,,1/M,,1/M,,1/M,,1/M,,1/M,,1/NM,,1/NM,,NMOL/KG,PERCNT,DEG C,,,,,,,,/MILLE,,/MILLE,,
320620110219,       P15S,      93,          2,         13,         13,2,20110327,       0003,   -69.7462,  -170.0002,       4192,  1535.8,   0.7651,  34.7110,2,  34.7116,2,    201.8,2,   201.9,2,  120.18,2,   31.84,2,    0.00,2,    2.24,2,-999.000,9,-999.000,9,-999.000,9,-999.0000,9,  -999.0,9,  -999.0,9,-999.0000,9,  -999.00,-999.000,9,-999.0000,9,-999.000,9,   0.7656,2, -999.00,9,  -999.0,9,  -999.0,-999.000,9,   -0.05,2,-999.000,9,   40.62,2,   34.41,2, -69.7463,-169.9997,-999.000,     -999.0,    34.8753,2,     -999.0,9,     -999.0,9,   0.0707,3,   0.0316,3,  -0.0051,4,  -0.0146,4,  -0.0216,4,  -0.0168,4,  -0.0152,4,   0.0817,4,   0.0613,4,-999.0000,-999.000,   0.6806,     -999.0,     -999.0,9,     -999.0,9,     -999.0,9,      -1.37,2,       0.11,20110327,       0058
320620110219,       P15S,      93,          2,         12,         12,2,20110327,       0003,   -69.7462,  -170.0002,       4192,  1663.7,   0.7127,  34.7094,2,  34.7096,2,    202.6,2,   202.5,2,  122.42,2,   31.81,2,    0.00,2,    2.24,2,   0.103,2,   0.051,2,   0.006,2,   0.0540,2,  2260.2,2,  2359.5,2,   7.5962,2,    25.00,-999.000,9,-999.0000,9,-999.000,9,   0.7126,2, -999.00,9,  -999.0,9,  -999.0,-999.000,9, -999.00,9,-999.000,9,   40.56,2,   34.38,2, -69.7463,-169.9997,-999.000,     -999.0,    34.8733,2,     -999.0,9,     -999.0,9,-999.0000,9,-999.0000,9,-999.0000,9,-999.0000,9,-999.0000,9,-999.0000,9,-999.0000,9,-999.0000,9,-999.0000,9,-999.0000,-999.000,   0.6200,     -999.0,     -999.0,9,     -999.0,9,     -999.0,9,     -999.0,9,     -999.0,20110327,       0055
320620110219,       P15S,      93,          2,         11,         11,2,20110327,       0003,   -69.7462,  -170.0002,       4192,  1866.2,   0.6344,  34.7062,2,  34.7061,2,    205.5,2,   205.7,2,  122.65,2,   31.80,2,    0.00,2,    2.24,2,-999.000,9,-999.000,9,-999.000,9,-999.0000,9,  -999.0,9,  -999.0,9,-999.0000,9,  -999.00,-999.000,9,-999.0000,9,-999.000,9,   0.6348,2, -999.00,9,  -999.0,9,  -999.0,-999.000,9,   -0.09,2,-999.000,9,   40.74,2,   34.12,2, -69.7463,-169.9997,-999.000,     -999.0,    34.8697,2,     -999.0,9,     -999.0,9,-999.0000,9,-999.0000,9,-999.0000,9,-999.0000,9,-999.0000,9,-999.0000,9,-999.0000,9,-999.0000,9,-999.0000,9,-999.0000,-999.000,   0.5285,     -999.0,     -999.0,9,     -999.0,9,     -999.0,9,      -1.70,2,       0.08,20110327,       0051
320620110219,       P15S,      93,          2,         10,         37,2,20110327,       0003,   -69.7462,  -170.0002,       4192,  2084.4,   0.5599,  34.7046,2,  34.7053,2,    207.2,2,   206.9,2,  124.14,2,   31.92,2,    0.00,2,    2.24,2,-999.000,9,-999.000,9,-999.000,9,-999.0000,9,  2259.9,2,  2359.8,2,   7.5948,2,    25.00,-999.000,9,-999.0000,9,-999.000,9,   0.5603,2, -999.00,9,  -999.0,9,  -999.0,-999.000,9, -999.00,9,-999.000,9,   40.46,2,   33.83,2, -69.7462,-169.9997,-999.000,     -999.0,    34.8690,2,     -999.0,9,     -999.0,9,   0.0697,3,   0.0309,3,  -0.0059,4,  -0.0141,4,  -0.0211,4,  -0.0165,4,  -0.0151,4,   0.0726,3,   0.0624,3,-999.0000,-999.000,   0.4390,     -999.0,     -999.0,9,     -999.0,9,     -999.0,9,     -999.0,9,     -999.0,20110327,       0046
320620110219,       P15S,      93,          2,          9,          9,2,20110327,       0003,   -69.7462,  -170.0002,       4192,  2336.3,   0.4738,  34.7030,2,  34.7027,2,    209.0,2,   296.7,4,  126.02,2,   32.02,2,    0.00,2,    2.25,2,-999.000,9,-999.000,9,-999.000,9,-999.0000,9,  -999.0,9,  -999.0,9,-999.0000,9,  -999.00,-999.000,9,-999.0000,9,-999.000,9,   0.4740,2, -999.00,9,  -999.0,9,  -999.0,-999.000,9,   -0.14,2,-999.000,9,   40.77,2,   34.68,2, -69.7462,-169.9997,-999.000,     -999.0,    34.8664,2,     -999.0,9,     -999.0,9,-999.0000,9,-999.0000,9,-999.0000,9,-999.0000,9,-999.0000,9,-999.0000,9,-999.0000,9,-999.0000,9,-999.0000,9,-999.0000,-999.000,   0.3351,     -999.0,     -999.0,9,     -999.0,9,     -999.0,9,      -2.15,2,       0.42,20110327,       0041
320620110219,       P15S,      93,          2,          8,          8,2,20110327,       0003,   -69.7462,  -170.0002,       4192,  2583.8,   0.4037,  34.7017,2,  34.7012,2,    211.1,2,   212.1,2,  127.20,2,   32.27,2,    0.00,2,    2.25,2,   0.281,2,   0.137,2,   0.016,2,   0.0720,2,  2260.5,2,  2360.1,2,   7.5948,2,    25.00,-999.000,9,-999.0000,9,-999.000,9,   0.4041,2, -999.00,9,  -999.0,9,  -999.0,-999.000,9, -999.00,9,-999.000,9,   40.87,2,   35.01,2, -69.7462,-169.9998,-999.000,     -999.0,    34.8648,2,     -999.0,9,     -999.0,9,-999.0000,9,-999.0000,9,-999.0000,9,-999.0000,9,-999.0000,9,-999.0000,9,-999.0000,9,-999.0000,9,-999.0000,9,-999.0000,-999.000,   0.2464,     -999.0,     -999.0,9,     -999.0,9,     -999.0,9,     -999.0,9,     -999.0,20110327,       0036
320620110219,       P15S,      93,          2,          7,          7,2,20110327,       0003,   -69.7462,  -170.0002,       4192,  2834.2,   0.3467,  34.6999,2,  34.6998,2,    213.3,2,   211.3,3,  127.53,2,   32.35,2,    0.00,2,    2.25,2,-999.000,9,-999.000,9,-999.000,9,-999.0000,9,  -999.0,9,  -999.0,9,-999.0000,9,  -999.00,-999.000,9,-999.0000,9,-999.000,9,   0.3466,2, -999.00,9,  -999.0,9,  -999.0,-999.000,9,   -0.13,2,-999.000,9,   40.72,2,   34.58,2, -69.7463,-169.9998,-999.000,     -999.0,    34.8634,2,     -999.0,9,     -999.0,9,   0.0710,3,   0.0316,3,  -0.0054,4,  -0.0140,4,  -0.0210,4,  -0.0164,4,  -0.0150,4,   0.0697,3,   0.0616,3,-999.0000,-999.000,   0.1697,     -999.0,     -999.0,9,     -999.0,9,     -999.0,9,      -2.46,2,       0.04,20110327,       0032
320620110219,       P15S,      93,          2,          6,          6,2,20110327,       0003,   -69.7462,  -170.0002,       4192,  3100.9,   0.2879,  34.6973,2,  34.6978,2,    215.5,2,   215.5,2,  126.67,2,   32.38,2,    0.00,2,    2.25,2,   0.512,2,   0.256,2,   0.034,2,   0.0930,2,  2259.1,2,  2360.0,2,   7.5956,2,    25.00,-999.000,9,-999.0000,9,-999.000,9,   0.2881,2, -999.00,9,  -999.0,9,  -999.0,-999.000,9, -999.00,9,-999.000,9,   40.47,2,   34.87,2, -69.7463,-170.0000,-999.000,     -999.0,    34.8614,2,     -999.0,9,     -999.0,9,-999.0000,9,-999.0000,9,-999.0000,9,-999.0000,9,-999.0000,9,-999.0000,9,-999.0000,9,-999.0000,9,-999.0000,9,-999.0000,-999.000,   0.0890,     -999.0,     -999.0,9,     -999.0,9,     -999.0,9,     -999.0,9,     -999.0,20110327,       0027
320620110219,       P15S,      93,          2,          5,          5,2,20110327,       0003,   -69.7462,  -170.0002,       4192,  3400.9,   0.2325,  34.6943,2,  34.6941,2,    218.3,2,   218.1,2,  123.98,2,   32.36,2,    0.00,2,    2.26,2,-999.000,9,-999.000,9,-999.000,9,-999.0000,9,  -999.0,9,  -999.0,9,-999.0000,9,  -999.00,-999.000,9,-999.0000,9,-999.000,9,   0.2327,2, -999.00,9,  -999.0,9,  -999.0,-999.000,9,   -0.18,2,-999.000,9,   41.00,2,   34.75,2, -69.7462,-170.0003,-999.000,     -999.0,    34.8577,2,     -999.0,9,     -999.0,9,-999.0000,9,-999.0000,9,-999.0000,9,-999.0000,9,-999.0000,9,-999.0000,9,-999.0000,9,-999.0000,9,-999.0000,9,-999.0000,-999.000,   0.0077,     -999.0,     -999.0,9,     -999.0,9,     -999.0,9,      -2.26,2,       0.09,20110327,       0021
320620110219,       P15S,      93,          2,          4,          4,2,20110327,       0003,   -69.7462,  -170.0002,       4192,  3699.6,   0.1910,  34.6904,2,  34.6904,2,    221.5,2,   220.9,2,  119.16,2,   32.25,2,    0.00,2,    2.24,2,   1.029,2,   0.530,2,   0.079,2,   0.2570,2,  2257.4,2,  2357.1,6,   7.5947,2,    25.00,-999.000,9,-999.0000,9,-999.000,9,   0.1910,2, -999.00,9,  -999.0,9,  -999.0,-999.000,9, -999.00,9,-999.000,9,   40.65,2,   34.79,2, -69.7462,-170.0003,-999.000,     -999.0,    34.8539,2,     -999.0,9,     -999.0,9,   0.0717,3,   0.0319,3,  -0.0062,4,  -0.0136,4,  -0.0207,4,  -0.0162,4,  -0.0149,4,   0.0743,3,   0.0622,3,-999.0000,-999.000,  -0.0610,     -999.0,     -999.0,9,     -999.0,9,     -999.0,9,     -999.0,9,     -999.0,20110327,       0015
320620110219,       P15S,      93,          2,          3,          3,2,20110327,       0003,   -69.7462,  -170.0002,       4192,  3899.8,   0.1956,  34.6903,2,  34.6902,2,    222.3,2,   221.6,2,  119.63,2,   32.20,2,    0.00,2,    2.24,2,   1.060,2,   0.544,2,   0.083,2,   0.2740,2,  2258.2,2,  2356.4,2,   7.5933,2,    25.00,-999.000,9,-999.0000,9,-999.000,9,   0.1956,2, -999.00,9,  -999.0,9,  -999.0,-999.000,9, -999.00,9,-999.000,9,   41.01,2,   34.91,2, -69.7462,-170.0002,-999.000,     -999.0,    34.8537,2,     -999.0,9,     -999.0,9,-999.0000,9,-999.0000,9,-999.0000,9,-999.0000,9,-999.0000,9,-999.0000,9,-999.0000,9,-999.0000,9,-999.0000,9,-999.0000,-999.000,  -0.0762,     -999.0,     -999.0,9,     -999.0,9,     -999.0,9,     -999.0,9,     -999.0,20110327,       0011
320620110219,       P15S,      93,          2,          2,          2,2,20110327,       0003,   -69.7462,  -170.0002,       4192,  4160.5,   0.2103,  34.6914,2,  34.6911,2,    221.6,2,   221.5,2,  120.82,2,   32.37,2,    0.00,2,    2.24,2,   1.036,2,   0.514,2,   0.069,2,   0.2580,2,  2258.2,2,  2357.5,2,   7.5930,6,    25.00,-999.000,9,-999.0000,9,-999.000,9,   0.2098,2, -999.00,9,  -999.0,9,  -999.0,-999.000,9, -999.00,9,-999.000,9,   40.88,2,   34.74,2, -69.7462,-170.0002,-999.000,     -999.0,    34.8547,2,     -999.0,9,     -999.0,9,-999.0000,9,-999.0000,9,-999.0000,9,-999.0000,9,-999.0000,9,-999.0000,9,-999.0000,9,-999.0000,9,-999.0000,9,-999.0000,-999.000,  -0.0885,     -999.0,     -999.0,9,     -999.0,9,     -999.0,9,     -999.0,9,     -999.0,20110327,       0006
320620110219,       P15S,      93,          2,          1,          1,2,20110327,       0003,   -69.7462,  -170.0002,       4192,  4264.8,   0.2261,  34.6932,2,  34.6939,2,    220.2,2,   220.3,2,  123.12,2,   32.56,2,    0.00,2,    2.25,2,   0.956,2,   0.475,2,   0.063,2,   0.2130,2,  2259.5,6,  2358.2,2,   7.5900,2,    25.00,-999.000,9,-999.0000,9,-999.000,9,   0.2263,2, -999.00,9,  -999.0,9,  -999.0,-999.000,9, -999.00,9,-999.000,9,   40.74,2,   34.78,2, -69.7462,-170.0002,-999.000,     -999.0,    34.8575,2,     -999.0,9,     -999.0,9,   0.0744,3,   0.0351,3,  -0.0002,4,  -0.0118,4,  -0.0198,4,  -0.0158,4,  -0.0148,4,   0.0755,4,   0.0560,4,-999.0000,-999.000,  -0.0840,     -999.0,     -999.0,9,     -999.0,9,     -999.0,9,     -999.0,9,     -999.0,20110327,       0003