BOTTLE,20220813CCHSIOAMB
EXPOCODE,SECT_ID,STNNBR,CASTNO,SAMPNO,BTLNBR,BTLNBR_FLAG_W,DATE,TIME,LATITUDE,LONGITUDE,DEPTH,CTDPRS,CTDTMP,CTDSAL,CTDSAL_FLAG_W,SALNTY,SALNTY_FLAG_W,CTDOXY,CTDOXY_FLAG_W,OXYGEN,OXYGEN_FLAG_W,SILCAT,SILCAT_FLAG_W,NITRAT,NITRAT_FLAG_W,NITRIT,NITRIT_FLAG_W,PHSPHT,PHSPHT_FLAG_W,CFC-11,CFC-11_FLAG_W,CFC-12,CFC-12_FLAG_W,CFC113,CFC113_FLAG_W,SF6,SF6_FLAG_W,TCARBN,TCARBN_FLAG_W,ALKALI,ALKALI_FLAG_W,PH_TOT,PH_TOT_FLAG_W,PH_TMP,TRITUM,TRITUM_FLAG_W,HELIUM,HELIUM_FLAG_W,DELHE3,DELHE3_FLAG_W,REFTMP,REFTMP_FLAG_W,DELC13,DELC13_FLAG_W,DELC14,DELC14_FLAG_W,C14ERR,NEON,NEON_FLAG_W,DELO18,DELO18_FLAG_W,POC,POC_FLAG_W,DOC,DOC_FLAG_W,TDN,TDN_FLAG_W,BTL_LAT,BTL_LON,TRITER,NEONER,SALTREF,SALTREF_FLAG_W,PIGMENTS,PIGMENTS_FLAG_W,LAB_DEN,LAB_DEN_FLAG_W,CDOM325,CDOM325_FLAG_W,CDOM340,CDOM340_FLAG_W,CDOM380,CDOM380_FLAG_W,CDOM412,CDOM412_FLAG_W,CDOM443,CDOM443_FLAG_W,CDOM490,CDOM490_FLAG_W,CDOM555,CDOM555_FLAG_W,CDOMSL,CDOMSL_FLAG_W,CDOMSN,CDOMSN_FLAG_W,HELIER,DELHER,THETA,LDEO_SAMPNO,ABSORBTION,ABSORBTION_FLAG_W,IMAGE_COUNT,IMAGE_COUNT_FLAG_W,CYTO_COUNT,CYTO_COUNT_FLAG_W,DELD,DELD_FLAG_W,DELDERR,BTL_DATE,BTL_TIME
,,,,,,,,,,,METERS,DBAR,ITS-90,PSS-78,,PSS-78,,UMOL/KG,,UMOL/KG,,UMOL/KG,,UMOL/KG,,UMOL/KG,,UMOL/KG,,PMOL/KG,,PMOL/KG,,PMOL/KG,,FMOL/KG,,UMOL/KG,,UMOL/KG,,,,DEG C,TU,,NMOL/KG,,PERCNT,,DEG C,,/MILLE,,/MILLE,,/MILLE,NMOL/KG,,/MILLE,,UG/KG,,UMOL/KG,,UMOL/KG,,,,TU,NMOL/KG,G/KG,,,,,,1/M,,1/M,,1/M,,1/M,,1/M,,1/M,,1/M,,1/NM,,1/NM,,NMOL/KG,PERCNT,DEG C,,,,,,,,/MILLE,,/MILLE,,
320620110219,       P15S,      80,          1,         22,         22,2,20110323,       1536,   -74.3762,  -176.3280,       1051,     6.4,  -1.6176,  33.9801,2,  33.9796,2,    339.9,2,   339.9,2,   58.60,2,   26.23,2,    0.09,2,    1.85,2,   6.055,2,   3.286,2,   0.603,2,   2.6230,2,  2184.6,6,  2300.7,2,   7.6642,2,    25.00,-999.000,9,-999.0000,9,-999.000,9,  -1.6173,2, -999.00,9,  -999.0,9,  -999.0,-999.000,9, -999.00,9,-999.000,9, -999.00,9, -999.00,9, -74.3761,-176.3267,-999.000,     -999.0,    34.1398,2,     -999.0,9,     -999.0,9,-999.0000,9,-999.0000,9,-999.0000,9,-999.0000,9,-999.0000,9,-999.0000,9,-999.0000,9,-999.0000,9,-999.0000,9,-999.0000,-999.000,  -1.6177,     -999.0,     -999.0,9,     -999.0,9,     -999.0,9,     -999.0,9,     -999.0,20110323,       1615
320620110219,       P15S,      80,          1,         21,         21,2,20110323,       1536,   -74.3762,  -176.3280,       1051,    24.1,  -1.6193,  33.9798,2,  33.9792,2,    339.7,2,   340.1,2,   58.81,2,   26.35,2,    0.09,2,    1.87,2,   6.036,2,   3.288,2,   0.604,2,   2.6340,2,  2185.4,2,  2299.6,2,   7.6650,6,    25.00,-999.000,9,-999.0000,9,-999.000,9,  -1.6189,2, -999.00,9,  -999.0,9,  -999.0,-999.000,9, -999.00,9,-999.000,9, -999.00,9, -999.00,9, -74.3760,-176.3267,-999.000,     -999.0,    34.1394,2,     -999.0,9,     -999.0,9,-999.0000,9,-999.0000,9,-999.0000,9,-999.0000,9,-999.0000,9,-999.0000,9,-999.0000,9,-999.0000,9,-999.0000,9,-999.0000,-999.000,  -1.6198,     -999.0,     -999.0,9,     -999.0,9,     -999.0,9,     -999.0,9,     -999.0,20110323,       1614
320620110219,       P15S,      80,          1,         20,         20,2,20110323,       1536,   -74.3762,  -176.3280,       1051,    49.0,  -1.6232,  33.9845,2,  33.9884,2,    337.7,2,   337.3,2,   59.20,2,   26.56,2,    0.09,2,    1.88,2,   5.938,2,   3.254,2,   0.588,2,   2.4950,2,  2186.0,2,  2301.0,6,   7.6625,2,    25.00,-999.000,9,-999.0000,9,-999.000,9,  -1.6231,2, -999.00,9,  -999.0,9,  -999.0,-999.000,9, -999.00,9,-999.000,9, -999.00,9, -999.00,9, -74.3761,-176.3269,-999.000,     -999.0,    34.1487,2,     -999.0,9,     -999.0,9,-999.0000,9,-999.0000,9,-999.0000,9,-999.0000,9,-999.0000,9,-999.0000,9,-999.0000,9,-999.0000,9,-999.0000,9,-999.0000,-999.000,  -1.6242,     -999.0,     -999.0,9,     -999.0,9,     -999.0,9,     -999.0,9,     -999.0,20110323,       1613
320620110219,       P15S,      80,          1,         19,         19,2,20110323,       1536,   -74.3762,  -176.3280,       1051,    75.1,  -1.6779,  34.1357,2,  34.1295,2,    294.6,2,   294.4,2,   64.89,2,   29.31,2,    0.13,2,    2.06,2,   4.676,2,   2.513,2,   0.450,2,   1.9550,2,  2209.6,2,  2307.1,2,   7.6154,2,    25.00,-999.000,9,-999.0000,9,-999.000,9,  -1.6780,2, -999.00,9,  -999.0,9,  -999.0,-999.000,9, -999.00,9,-999.000,9, -999.00,9, -999.00,9, -74.3761,-176.3270,-999.000,     -999.0,    34.2905,2,     -999.0,9,     -999.0,9,-999.0000,9,-999.0000,9,-999.0000,9,-999.0000,9,-999.0000,9,-999.0000,9,-999.0000,9,-999.0000,9,-999.0000,9,-999.0000,-999.000,  -1.6794,     -999.0,     -999.0,9,     -999.0,9,     -999.0,9,     -999.0,9,     -999.0,20110323,       1611
320620110219,       P15S,      80,          1,         18,         18,2,20110323,       1536,   -74.3762,  -176.3280,       1051,    99.7,  -1.5827,  34.1746,2,  34.1695,2,    285.3,2,   285.2,2,   66.66,2,   30.06,2,    0.11,2,    2.11,2,   4.369,2,   2.334,2,   0.412,2,   1.7430,2,  2214.9,2,  2308.2,2,   7.6093,2,    25.00,-999.000,9,-999.0000,9,-999.000,9,  -1.5938,2, -999.00,9,  -999.0,9,  -999.0,-999.000,9, -999.00,9,-999.000,9, -999.00,9, -999.00,9, -74.3761,-176.3270,-999.000,     -999.0,    34.3306,2,     -999.0,9,     -999.0,9,-999.0000,9,-999.0000,9,-999.0000,9,-999.0000,9,-999.0000,9,-999.0000,9,-999.0000,9,-999.0000,9,-999.0000,9,-999.0000,-999.000,  -1.5848,     -999.0,     -999.0,9,     -999.0,9,     -999.0,9,     -999.0,9,     -999.0,20110323,       1610
320620110219,       P15S,      80,          1,         17,         17,2,20110323,       1536,   -74.3762,  -176.3280,       1051,   125.0,  -0.2423,  34.3522,2,  34.3507,2,    250.6,2,   238.7,2,   76.38,2,   31.75,2,    0.01,2,    2.19,2,-999.000,9,-999.000,9,-999.000,9,-999.0000,9,  2234.0,2,  2319.4,2,   7.5830,2,    25.00,-999.000,9,-999.0000,9,-999.000,9,  -0.2406,2, -999.00,9,  -999.0,9,  -999.0,-999.000,9, -999.00,9,-999.000,9, -999.00,9, -999.00,9, -74.3761,-176.3271,-999.000,     -999.0,    34.5127,2,     -999.0,9,     -999.0,9,-999.0000,9,-999.0000,9,-999.0000,9,-999.0000,9,-999.0000,9,-999.0000,9,-999.0000,9,-999.0000,9,-999.0000,9,-999.0000,-999.000,  -0.2465,     -999.0,     -999.0,9,     -999.0,9,     -999.0,9,     -999.0,9,     -999.0,20110323,       1608
320620110219,       P15S,      80,          1,         16,         16,2,20110323,       1536,   -74.3762,  -176.3280,       1051,   149.3,  -0.0870,  34.3810,2,  34.3795,2,    232.4,2,   234.6,2,   76.71,2,   31.91,2,    0.00,2,    2.20,2,   2.604,2,   1.389,2,   0.232,2,   0.9550,2,  2234.6,2,  2321.8,2,   7.5772,2,    25.00,-999.000,9,-999.0000,9,-999.000,9,  -0.0876,2, -999.00,9,  -999.0,9,  -999.0,-999.000,9, -999.00,9,-999.000,9, -999.00,9, -999.00,9, -74.3761,-176.3267,-999.000,     -999.0,    34.5416,2,     -999.0,9,     -999.0,9,-999.0000,9,-999.0000,9,-999.0000,9,-999.0000,9,-999.0000,9,-999.0000,9,-999.0000,9,-999.0000,9,-999.0000,9,-999.0000,-999.000,  -0.0923,     -999.0,     -999.0,9,     -999.0,9,     -999.0,9,     -999.0,9,     -999.0,20110323,       1607
320620110219,       P15S,      80,          1,         15,         15,2,20110323,       1536,   -74.3762,  -176.3280,       1051,   175.8,   0.1882,  34.4279,2,  34.4256,2,    223.4,2,   225.1,2,   78.20,2,   32.14,2,    0.00,2,    2.21,2,   2.265,2,   1.198,2,   0.206,2,   0.8200,2,  2237.9,2,  2324.1,2,   7.5749,2,    25.00,-999.000,9,-999.0000,9,-999.000,9,   0.1943,2, -999.00,9,  -999.0,9,  -999.0,-999.000,9, -999.00,9,-999.000,9, -999.00,9, -999.00,9, -74.3760,-176.3263,-999.000,     -999.0,    34.5879,2,     -999.0,9,     -999.0,9,-999.0000,9,-999.0000,9,-999.0000,9,-999.0000,9,-999.0000,9,-999.0000,9,-999.0000,9,-999.0000,9,-999.0000,9,-999.0000,-999.000,   0.1815,     -999.0,     -999.0,9,     -999.0,9,     -999.0,9,     -999.0,9,     -999.0,20110323,       1605
320620110219,       P15S,      80,          1,         14,         14,2,20110323,       1536,   -74.3762,  -176.3280,       1051,   200.3,   0.6054,  34.5028,2,  34.5021,2,    213.2,2,   211.3,2,   82.03,2,   32.39,2,    0.00,2,    2.23,2,   1.763,2,   0.928,2,   0.155,2,   0.7020,2,  2244.2,2,  2330.1,2,   7.5703,2,    25.00,-999.000,9,-999.0000,9,-999.000,9,   0.6051,2, -999.00,9,  -999.0,9,  -999.0,-999.000,9, -999.00,9,-999.000,9, -999.00,9, -999.00,9, -74.3760,-176.3259,-999.000,     -999.0,    34.6648,2,     -999.0,9,     -999.0,9,-999.0000,9,-999.0000,9,-999.0000,9,-999.0000,9,-999.0000,9,-999.0000,9,-999.0000,9,-999.0000,9,-999.0000,9,-999.0000,-999.000,   0.5970,     -999.0,     -999.0,9,     -999.0,9,     -999.0,9,     -999.0,9,     -999.0,20110323,       1604
320620110219,       P15S,      80,          1,         13,         13,2,20110323,       1536,   -74.3762,  -176.3280,       1051,   223.7,   0.7661,  34.5360,2,  34.5329,2,    207.2,2,   206.2,2,   83.30,2,   32.43,2,    0.00,2,    2.24,2,-999.000,9,-999.000,9,-999.000,9,-999.0000,9,  2246.6,2,  2332.1,2,   7.5678,2,    25.00,-999.000,9,-999.0000,9,-999.000,9,   0.7661,2, -999.00,9,  -999.0,9,  -999.0,-999.000,9, -999.00,9,-999.000,9, -999.00,9, -999.00,9, -74.3760,-176.3260,-999.000,     -999.0,    34.6957,2,     -999.0,9,     -999.0,9,-999.0000,9,-999.0000,9,-999.0000,9,-999.0000,9,-999.0000,9,-999.0000,9,-999.0000,9,-999.0000,9,-999.0000,9,-999.0000,-999.000,   0.7564,     -999.0,     -999.0,9,     -999.0,9,     -999.0,9,     -999.0,9,     -999.0,20110323,       1603
320620110219,       P15S,      80,          1,         12,         12,2,20110323,       1536,   -74.3762,  -176.3280,       1051,   249.5,   0.9617,  34.6120,2,  34.6110,2,    200.1,2,   199.2,2,   89.31,2,   32.22,2,    0.00,2,    2.23,2,   1.083,2,   0.567,2,   0.093,2,   0.3540,2,  2252.0,2,  2339.7,2,   7.5731,2,    25.00,-999.000,9,-999.0000,9,-999.000,9,   0.9614,2, -999.00,9,  -999.0,9,  -999.0,-999.000,9,   -0.60,2,-999.000,9, -999.00,9, -999.00,9, -74.3760,-176.3264,-999.000,     -999.0,    34.7742,2,     -999.0,9,     -999.0,9,-999.0000,9,-999.0000,9,-999.0000,9,-999.0000,9,-999.0000,9,-999.0000,9,-999.0000,9,-999.0000,9,-999.0000,9,-999.0000,-999.000,   0.9504,     -999.0,     -999.0,9,     -999.0,9,     -999.0,9,      -5.45,2,       0.37,20110323,       1601
320620110219,       P15S,      80,          1,         11,         11,2,20110323,       1536,   -74.3762,  -176.3280,       1051,   300.4,   1.0417,  34.6349,2,  34.6345,2,    195.2,2,   196.8,2,   90.99,2,   32.22,2,    0.00,2,    2.24,2,   0.915,2,   0.477,2,   0.065,2,   0.3480,2,  2253.5,2,  2341.3,2,   7.5735,2,    25.00,-999.000,9,-999.0000,9,-999.000,9,   1.0425,2, -999.00,9,  -999.0,9,  -999.0,-999.000,9,   -0.54,2,-999.000,9, -999.00,9, -999.00,9, -74.3760,-176.3265,-999.000,     -999.0,    34.7978,2,     -999.0,9,     -999.0,9,-999.0000,9,-999.0000,9,-999.0000,9,-999.0000,9,-999.0000,9,-999.0000,9,-999.0000,9,-999.0000,9,-999.0000,9,-999.0000,-999.000,   1.0277,     -999.0,     -999.0,9,     -999.0,9,     -999.0,9,      -4.84,2,       0.07,20110323,       1559
320620110219,       P15S,      80,          1,         10,         37,2,20110323,       1536,   -74.3762,  -176.3280,       1051,   349.7,   1.1953,  34.6766,2,  34.6744,2,    190.6,2,   192.0,2,   94.71,2,   32.23,2,    0.00,2,    2.24,2,-999.000,9,-999.000,9,-999.000,9,-999.0000,9,  2257.3,2,  2345.9,2,   7.5770,2,    25.00,-999.000,9,-999.0000,9,-999.000,9,   1.1950,2, -999.00,9,  -999.0,9,  -999.0,-999.000,9,   -0.48,2,-999.000,9, -999.00,9, -999.00,9, -74.3760,-176.3266,-999.000,     -999.0,    34.8379,2,     -999.0,9,     -999.0,9,-999.0000,9,-999.0000,9,-999.0000,9,-999.0000,9,-999.0000,9,-999.0000,9,-999.0000,9,-999.0000,9,-999.0000,9,-999.0000,-999.000,   1.1784,     -999.0,     -999.0,9,     -999.0,9,     -999.0,9,      -4.42,2,       0.03,20110323,       1558
320620110219,       P15S,      80,          1,          9,          9,2,20110323,       1536,   -74.3762,  -176.3280,       1051,   398.3,   1.3083,  34.7018,2,  34.7019,2,    188.0,2,   188.1,2,   96.84,2,   32.25,2,    0.00,2,    2.23,2,   0.413,2,   0.205,2,   0.035,2,   0.1360,2,  2259.2,2,  2349.0,2,   7.5767,2,    25.00,-999.000,9,-999.0000,9,-999.000,9,   1.3088,2, -999.00,9,  -999.0,9,  -999.0,-999.000,9,   -0.31,2,-999.000,9, -999.00,9, -999.00,9, -74.3760,-176.3268,-999.000,     -999.0,    34.8655,2,     -999.0,9,     -999.0,9,-999.0000,9,-999.0000,9,-999.0000,9,-999.0000,9,-999.0000,9,-999.0000,9,-999.0000,9,-999.0000,9,-999.0000,9,-999.0000,-999.000,   1.2885,     -999.0,     -999.0,9,     -999.0,9,     -999.0,9,      -3.00,2,       0.06,20110323,       1556
320620110219,       P15S,      80,          1,          8,          8,2,20110323,       1536,   -74.3762,  -176.3280,       1051,   449.7,   1.2786,  34.7124,2,  34.7133,2,    188.5,2,   188.8,2,   99.69,2,   32.23,2,    0.00,2,    2.23,2,   0.328,2,   0.160,2,   0.022,2,   0.1400,2,  2259.5,2,  2350.4,2,   7.5804,2,    25.00,-999.000,9,-999.0000,9,-999.000,9,   1.2791,2, -999.00,9,  -999.0,9,  -999.0,-999.000,9,    0.01,2,-999.000,9, -999.00,9, -999.00,9, -74.3761,-176.3273,-999.000,     -999.0,    34.8770,2,     -999.0,9,     -999.0,9,-999.0000,9,-999.0000,9,-999.0000,9,-999.0000,9,-999.0000,9,-999.0000,9,-999.0000,9,-999.0000,9,-999.0000,9,-999.0000,-999.000,   1.2561,     -999.0,     -999.0,9,     -999.0,9,     -999.0,9,      -2.03,2,       0.10,20110323,       1554
320620110219,       P15S,      80,          1,          7,          7,2,20110323,       1536,   -74.3762,  -176.3280,       1051,   498.9,   1.3151,  34.7224,2,  34.7231,2,    187.7,2,   188.5,2,  101.57,2,   32.29,2,    0.00,2,    2.23,2,   0.205,2,   0.103,2,   0.016,2,   0.0810,2,  2258.9,2,  2351.5,2,   7.5816,2,    25.00,-999.000,9,-999.0000,9,-999.000,9,   1.3148,2, -999.00,9,  -999.0,9,  -999.0,-999.000,9,   -0.15,2,-999.000,9, -999.00,9, -999.00,9, -74.3762,-176.3280,-999.000,     -999.0,    34.8869,2,     -999.0,9,     -999.0,9,-999.0000,9,-999.0000,9,-999.0000,9,-999.0000,9,-999.0000,9,-999.0000,9,-999.0000,9,-999.0000,9,-999.0000,9,-999.0000,-999.000,   1.2898,     -999.0,     -999.0,9,     -999.0,9,     -999.0,9,      -2.10,2,       0.04,20110323,       1552
320620110219,       P15S,      80,          1,          6,          6,2,20110323,       1536,   -74.3762,  -176.3280,       1051,   599.2,   1.1686,  34.7190,2,  34.7190,2,    191.8,2,   192.1,2,  104.61,2,   32.26,2,    0.00,2,    2.23,2,   0.249,2,   0.124,2,   0.019,2,   0.1270,2,  -999.0,9,  -999.0,9,-999.0000,9,  -999.00,-999.000,9,-999.0000,9,-999.000,9,   1.1683,2, -999.00,9,  -999.0,9,  -999.0,-999.000,9,   -0.12,2,-999.000,9, -999.00,9, -999.00,9, -74.3762,-176.3285,-999.000,     -999.0,    34.8827,2,     -999.0,9,     -999.0,9,-999.0000,9,-999.0000,9,-999.0000,9,-999.0000,9,-999.0000,9,-999.0000,9,-999.0000,9,-999.0000,9,-999.0000,9,-999.0000,-999.000,   1.1384,     -999.0,     -999.0,9,     -999.0,9,     -999.0,9,      -2.32,2,       0.13,20110323,       1549
320620110219,       P15S,      80,          1,          5,          5,2,20110323,       1536,   -74.3762,  -176.3280,       1051,   699.7,   1.0385,  34.7171,2,  34.7179,2,    195.2,2,   195.0,2,  108.57,2,   32.18,2,    0.00,2,    2.24,2,   0.247,2,   0.127,2,   0.019,2,   0.0950,2,  -999.0,9,  -999.0,9,-999.0000,9,  -999.00,-999.000,9,-999.0000,9,-999.000,9,   1.0381,2, -999.00,9,  -999.0,9,  -999.0,-999.000,9,   -0.04,2,-999.000,9, -999.00,9, -999.00,9, -74.3762,-176.3283,-999.000,     -999.0,    34.8816,2,     -999.0,9,     -999.0,9,-999.0000,9,-999.0000,9,-999.0000,9,-999.0000,9,-999.0000,9,-999.0000,9,-999.0000,9,-999.0000,9,-999.0000,9,-999.0000,-999.000,   1.0034,     -999.0,     -999.0,9,     -999.0,9,     -999.0,9,      -1.30,2,       0.14,20110323,       1547
320620110219,       P15S,      80,          1,          4,          4,2,20110323,       1536,   -74.3762,  -176.3280,       1051,   799.7,   0.9722,  34.7149,2,  34.7157,2,    197.0,2,   196.4,2,  109.64,2,   32.32,2,    0.00,2,    2.23,2,   0.247,2,   0.131,2,   0.016,2,   0.0960,2,  2260.7,2,  2355.6,2,   7.5892,2,    25.00,-999.000,9,-999.0000,9,-999.000,9,   0.9707,2, -999.00,9,  -999.0,9,  -999.0,-999.000,9,   -0.07,2,-999.000,9, -999.00,9, -999.00,9, -74.3762,-176.3283,-999.000,     -999.0,    34.8794,2,     -999.0,9,     -999.0,9,-999.0000,9,-999.0000,9,-999.0000,9,-999.0000,9,-999.0000,9,-999.0000,9,-999.0000,9,-999.0000,9,-999.0000,9,-999.0000,-999.000,   0.9318,     -999.0,     -999.0,9,     -999.0,9,     -999.0,9,      -1.47,2,       0.11,20110323,       1544
320620110219,       P15S,      80,          1,          3,          3,2,20110323,       1536,   -74.3762,  -176.3280,       1051,   900.2,   0.3816,  34.6824,2,  34.6828,2,    212.8,2,   213.4,2,  104.06,2,   31.95,2,    0.00,2,    2.22,2,   1.146,2,   0.604,2,   0.093,2,   0.4150,2,  2257.4,2,  2352.1,2,   7.5875,2,    25.00,-999.000,9,-999.0000,9,-999.000,9,   0.3810,2, -999.00,9,  -999.0,9,  -999.0,-999.000,9,   -0.13,2,-999.000,9, -999.00,9, -999.00,9, -74.3761,-176.3273,-999.000,     -999.0,    34.8463,2,     -999.0,9,     -999.0,9,-999.0000,9,-999.0000,9,-999.0000,9,-999.0000,9,-999.0000,9,-999.0000,9,-999.0000,9,-999.0000,9,-999.0000,9,-999.0000,-999.000,   0.3398,     -999.0,     -999.0,9,     -999.0,9,     -999.0,9,      -1.68,2,       0.13,20110323,       1541
320620110219,       P15S,      80,          1,          2,          2,2,20110323,       1536,   -74.3762,  -176.3280,       1051,  1004.6,   0.2167,  34.6761,2,  34.6773,2,    218.8,2,   218.2,2,  103.40,2,   32.03,2,    0.00,2,    2.22,2,   1.374,2,   0.724,2,   0.119,2,   0.4910,2,  2257.4,2,  2350.7,2,   7.5876,6,    25.00,-999.000,9,-999.0000,9,-999.000,9,   0.2185,2, -999.00,9,  -999.0,9,  -999.0,-999.000,9,   -0.16,2,-999.000,9, -999.00,9, -999.00,9, -74.3761,-176.3277,-999.000,     -999.0,    34.8408,2,     -999.0,9,     -999.0,9,-999.0000,9,-999.0000,9,-999.0000,9,-999.0000,9,-999.0000,9,-999.0000,9,-999.0000,9,-999.0000,9,-999.0000,9,-999.0000,-999.000,   0.1704,     -999.0,     -999.0,9,     -999.0,9,     -999.0,9,      -2.55,2,       0.11,20110323,       1538
320620110219,       P15S,      80,          1,          1,          1,2,20110323,       1536,   -74.3762,  -176.3280,       1051,  1055.4,   0.2160,  34.6759,2,  34.6772,2,    219.0,2,   219.4,2,  103.37,2,   31.93,2,    0.00,2,    2.22,2,   1.364,2,   0.770,2,   0.115,2,   0.5160,2,  2257.9,6,  2351.3,2,   7.5878,2,    25.00,-999.000,9,-999.0000,9,-999.000,9,   0.2154,2, -999.00,9,  -999.0,9,  -999.0,-999.000,9,   -0.23,2,-999.000,9, -999.00,9, -999.00,9, -74.3762,-176.3280,-999.000,     -999.0,    34.8407,2,     -999.0,9,     -999.0,9,-999.0000,9,-999.0000,9,-999.0000,9,-999.0000,9,-999.0000,9,-999.0000,9,-999.0000,9,-999.0000,9,-999.0000,9,-999.0000,-999.000,   0.1669,     -999.0,     -999.0,9,     -999.0,9,     -999.0,9,      -2.89,2,       0.04,20110323,       1536