BOTTLE,20220813CCHSIOAMB
EXPOCODE,SECT_ID,STNNBR,CASTNO,SAMPNO,BTLNBR,BTLNBR_FLAG_W,DATE,TIME,LATITUDE,LONGITUDE,DEPTH,CTDPRS,CTDTMP,CTDSAL,CTDSAL_FLAG_W,SALNTY,SALNTY_FLAG_W,CTDOXY,CTDOXY_FLAG_W,OXYGEN,OXYGEN_FLAG_W,SILCAT,SILCAT_FLAG_W,NITRAT,NITRAT_FLAG_W,NITRIT,NITRIT_FLAG_W,PHSPHT,PHSPHT_FLAG_W,CFC-11,CFC-11_FLAG_W,CFC-12,CFC-12_FLAG_W,CFC113,CFC113_FLAG_W,SF6,SF6_FLAG_W,TCARBN,TCARBN_FLAG_W,ALKALI,ALKALI_FLAG_W,PH_TOT,PH_TOT_FLAG_W,PH_TMP,TRITUM,TRITUM_FLAG_W,HELIUM,HELIUM_FLAG_W,DELHE3,DELHE3_FLAG_W,REFTMP,REFTMP_FLAG_W,DELC13,DELC13_FLAG_W,DELC14,DELC14_FLAG_W,C14ERR,NEON,NEON_FLAG_W,DELO18,DELO18_FLAG_W,POC,POC_FLAG_W,DOC,DOC_FLAG_W,TDN,TDN_FLAG_W,BTL_LAT,BTL_LON,TRITER,NEONER,SALTREF,SALTREF_FLAG_W,PIGMENTS,PIGMENTS_FLAG_W,LAB_DEN,LAB_DEN_FLAG_W,CDOM325,CDOM325_FLAG_W,CDOM340,CDOM340_FLAG_W,CDOM380,CDOM380_FLAG_W,CDOM412,CDOM412_FLAG_W,CDOM443,CDOM443_FLAG_W,CDOM490,CDOM490_FLAG_W,CDOM555,CDOM555_FLAG_W,CDOMSL,CDOMSL_FLAG_W,CDOMSN,CDOMSN_FLAG_W,HELIER,DELHER,THETA,LDEO_SAMPNO,ABSORBTION,ABSORBTION_FLAG_W,IMAGE_COUNT,IMAGE_COUNT_FLAG_W,CYTO_COUNT,CYTO_COUNT_FLAG_W,DELD,DELD_FLAG_W,DELDERR,BTL_DATE,BTL_TIME
,,,,,,,,,,,METERS,DBAR,ITS-90,PSS-78,,PSS-78,,UMOL/KG,,UMOL/KG,,UMOL/KG,,UMOL/KG,,UMOL/KG,,UMOL/KG,,PMOL/KG,,PMOL/KG,,PMOL/KG,,FMOL/KG,,UMOL/KG,,UMOL/KG,,,,DEG C,TU,,NMOL/KG,,PERCNT,,DEG C,,/MILLE,,/MILLE,,/MILLE,NMOL/KG,,/MILLE,,UG/KG,,UMOL/KG,,UMOL/KG,,,,TU,NMOL/KG,G/KG,,,,,,1/M,,1/M,,1/M,,1/M,,1/M,,1/M,,1/M,,1/NM,,1/NM,,NMOL/KG,PERCNT,DEG C,,,,,,,,/MILLE,,/MILLE,,
320620110219,       P15S,      87,          1,         13,         13,2,20110325,       0211,   -73.4992,  -169.9992,       3866,  1535.8,   0.8817,  34.7155,2,  34.7155,2,    199.6,2,   199.5,2,  117.78,2,   31.85,2,    0.00,2,    2.24,2,   0.085,2,   0.037,2,   0.009,2,   0.0680,2,  2260.0,2,  2360.1,2,   7.5948,2,    25.00,-999.000,9,-999.0000,9,-999.000,9,   0.8821,2, -999.00,9,  -999.0,9,  -999.0,-999.000,9, -999.00,9,-999.000,9,   39.39,2,   34.63,2, -73.4997,-170.0011,-999.000,     -999.0,    34.8792,2,     -999.0,9,     -999.0,9,-999.0000,9,-999.0000,9,-999.0000,9,-999.0000,9,-999.0000,9,-999.0000,9,-999.0000,9,-999.0000,9,-999.0000,9,-999.0000,-999.000,   0.7957,     -999.0,     -999.0,9,     -999.0,9,     -999.0,9,     -999.0,9,     -999.0,20110325,       0303
320620110219,       P15S,      87,          1,         12,         12,2,20110325,       0211,   -73.4992,  -169.9992,       3866,  1634.5,   0.8424,  34.7141,2,  34.7144,2,    200.7,2,   200.3,2,  119.38,2,   31.92,2,    0.00,2,    2.24,2,-999.000,9,-999.000,9,-999.000,9,-999.0000,9,  -999.0,9,  -999.0,9,-999.0000,9,  -999.00,-999.000,9,-999.0000,9,-999.000,9,   0.8421,2, -999.00,9,  -999.0,9,  -999.0,-999.000,9, -999.00,9,-999.000,9,   39.11,2,   34.07,2, -73.4997,-170.0008,-999.000,     -999.0,    34.8780,2,     -999.0,9,     -999.0,9,-999.0000,9,-999.0000,9,-999.0000,9,-999.0000,9,-999.0000,9,-999.0000,9,-999.0000,9,-999.0000,9,-999.0000,9,-999.0000,-999.000,   0.7501,     -999.0,     -999.0,9,     -999.0,9,     -999.0,9,     -999.0,9,     -999.0,20110325,       0300
320620110219,       P15S,      87,          1,         11,         11,2,20110325,       0211,   -73.4992,  -169.9992,       3866,  1735.0,   0.8018,  34.7126,2,  34.7122,2,    201.5,2,   201.4,2,  120.85,2,   31.99,2,    0.00,2,    2.24,2,   0.101,2,   0.052,2,   0.007,2,   0.0950,2,  -999.0,9,  -999.0,9,-999.0000,9,  -999.00,-999.000,9,-999.0000,9,-999.000,9,   0.8017,2, -999.00,9,  -999.0,9,  -999.0,-999.000,9, -999.00,9,-999.000,9,   39.43,2,   34.87,2, -73.4996,-170.0005,-999.000,     -999.0,    34.8759,2,     -999.0,9,     -999.0,9,-999.0000,9,-999.0000,9,-999.0000,9,-999.0000,9,-999.0000,9,-999.0000,9,-999.0000,9,-999.0000,9,-999.0000,9,-999.0000,-999.000,   0.7029,     -999.0,     -999.0,9,     -999.0,9,     -999.0,9,     -999.0,9,     -999.0,20110325,       0258
320620110219,       P15S,      87,          1,         10,         37,2,20110325,       0211,   -73.4992,  -169.9992,       3866,  1864.9,   0.7454,  34.7106,2,  34.7102,2,    203.0,2,   202.7,2,  123.09,2,   32.01,2,    0.00,2,    2.25,2,-999.000,9,-999.000,9,-999.000,9,-999.0000,9,  2260.1,2,  2361.0,2,   7.5967,2,    25.00,-999.000,9,-999.0000,9,-999.000,9,   0.7451,2, -999.00,9,  -999.0,9,  -999.0,-999.000,9, -999.00,9,-999.000,9,   39.19,2,   34.22,2, -73.4997,-170.0007,-999.000,     -999.0,    34.8739,2,     -999.0,9,     -999.0,9,-999.0000,9,-999.0000,9,-999.0000,9,-999.0000,9,-999.0000,9,-999.0000,9,-999.0000,9,-999.0000,9,-999.0000,9,-999.0000,-999.000,   0.6379,     -999.0,     -999.0,9,     -999.0,9,     -999.0,9,     -999.0,9,     -999.0,20110325,       0255
320620110219,       P15S,      87,          1,          9,          9,2,20110325,       0211,   -73.4992,  -169.9992,       3866,  2083.4,   0.6735,  34.7083,2,  34.7077,2,    204.5,2,   204.6,2,  125.37,2,   32.05,2,    0.00,2,    2.26,2,   0.103,2,   0.050,2,   0.010,2,   0.1010,2,  -999.0,9,  -999.0,9,-999.0000,9,  -999.00,-999.000,9,-999.0000,9,-999.000,9,   0.6736,2, -999.00,9,  -999.0,9,  -999.0,-999.000,9, -999.00,9,-999.000,9,   39.56,2,   34.33,2, -73.4997,-170.0009,-999.000,     -999.0,    34.8713,2,     -999.0,9,     -999.0,9,-999.0000,9,-999.0000,9,-999.0000,9,-999.0000,9,-999.0000,9,-999.0000,9,-999.0000,9,-999.0000,9,-999.0000,9,-999.0000,-999.000,   0.5509,     -999.0,     -999.0,9,     -999.0,9,     -999.0,9,     -999.0,9,     -999.0,20110325,       0250
320620110219,       P15S,      87,          1,          8,          8,2,20110325,       0211,   -73.4992,  -169.9992,       3866,  2334.5,   0.5965,  34.7069,2,  34.7059,2,    206.3,2,   206.4,2,  127.02,2,   32.33,2,    0.00,2,    2.25,2,-999.000,9,-999.000,9,-999.000,9,-999.0000,9,  2260.2,2,  2360.7,2,   7.5972,2,    25.00,-999.000,9,-999.0000,9,-999.000,9,   0.5968,2, -999.00,9,  -999.0,9,  -999.0,-999.000,9, -999.00,9,-999.000,9,   40.09,2,   35.01,2, -73.4997,-170.0010,-999.000,     -999.0,    34.8695,2,     -999.0,9,     -999.0,9,-999.0000,9,-999.0000,9,-999.0000,9,-999.0000,9,-999.0000,9,-999.0000,9,-999.0000,9,-999.0000,9,-999.0000,9,-999.0000,-999.000,   0.4557,     -999.0,     -999.0,9,     -999.0,9,     -999.0,9,     -999.0,9,     -999.0,20110325,       0245
320620110219,       P15S,      87,          1,          7,          7,2,20110325,       0211,   -73.4992,  -169.9992,       3866,  2585.2,   0.5161,  34.7052,2,  34.7047,2,    208.1,2,   208.4,2,  128.90,2,   32.33,2,    0.00,2,    2.25,2,   0.078,2,   0.056,2,   0.007,2,   0.0980,2,  -999.0,9,  -999.0,9,-999.0000,9,  -999.00,-999.000,9,-999.0000,9,-999.000,9,   0.5163,2, -999.00,9,  -999.0,9,  -999.0,-999.000,9, -999.00,9,-999.000,9,   40.36,2,   34.75,2, -73.4994,-170.0001,-999.000,     -999.0,    34.8684,2,     -999.0,9,     -999.0,9,-999.0000,9,-999.0000,9,-999.0000,9,-999.0000,9,-999.0000,9,-999.0000,9,-999.0000,9,-999.0000,9,-999.0000,9,-999.0000,-999.000,   0.3565,     -999.0,     -999.0,9,     -999.0,9,     -999.0,9,     -999.0,9,     -999.0,20110325,       0239
320620110219,       P15S,      87,          1,          6,          6,2,20110325,       0211,   -73.4992,  -169.9992,       3866,  2834.0,   0.4562,  34.7049,2,  34.7041,2,    209.6,2,   209.5,2,  131.34,2,   32.38,2,    0.00,2,    2.26,2,-999.000,9,-999.000,9,-999.000,9,-999.0000,9,  2261.4,2,  2360.2,2,   7.5973,2,    25.00,-999.000,9,-999.0000,9,-999.000,9,   0.4565,2, -999.00,9,  -999.0,9,  -999.0,-999.000,9, -999.00,9,-999.000,9,   40.52,2,   35.00,2, -73.4997,-170.0021,-999.000,     -999.0,    34.8678,2,     -999.0,9,     -999.0,9,-999.0000,9,-999.0000,9,-999.0000,9,-999.0000,9,-999.0000,9,-999.0000,9,-999.0000,9,-999.0000,9,-999.0000,9,-999.0000,-999.000,   0.2769,     -999.0,     -999.0,9,     -999.0,9,     -999.0,9,     -999.0,9,     -999.0,20110325,       0234
320620110219,       P15S,      87,          1,          5,          5,2,20110325,       0211,   -73.4992,  -169.9992,       3866,  3098.9,   0.4081,  34.7042,2,  34.7031,2,    210.9,2,   211.1,2,  132.98,2,   32.36,2,    0.00,2,    2.26,2,   0.122,2,   0.064,2,   0.014,2,   0.0310,2,  -999.0,9,  -999.0,9,-999.0000,9,  -999.00,-999.000,9,-999.0000,9,-999.000,9,   0.4082,2, -999.00,9,  -999.0,9,  -999.0,-999.000,9, -999.00,9,-999.000,9,   40.92,2,   34.98,2, -73.4995,-170.0012,-999.000,     -999.0,    34.8668,2,     -999.0,9,     -999.0,9,-999.0000,9,-999.0000,9,-999.0000,9,-999.0000,9,-999.0000,9,-999.0000,9,-999.0000,9,-999.0000,9,-999.0000,9,-999.0000,-999.000,   0.2066,     -999.0,     -999.0,9,     -999.0,9,     -999.0,9,     -999.0,9,     -999.0,20110325,       0229
320620110219,       P15S,      87,          1,          4,          4,2,20110325,       0211,   -73.4992,  -169.9992,       3866,  3400.1,   0.3587,  34.7035,2,  34.7033,2,    212.9,2,   212.5,2,  135.40,2,   32.44,2,    0.00,2,    2.26,2,   0.165,2,   0.073,2,   0.012,2,   0.0280,2,  -999.0,5,  2361.3,6,   7.5971,2,    25.00,-999.000,9,-999.0000,9,-999.000,9,   0.3581,2, -999.00,9,  -999.0,9,  -999.0,-999.000,9, -999.00,9,-999.000,9,   40.44,2,   35.25,2, -73.4994,-170.0001,-999.000,     -999.0,    34.8670,2,     -999.0,9,     -999.0,9,-999.0000,9,-999.0000,9,-999.0000,9,-999.0000,9,-999.0000,9,-999.0000,9,-999.0000,9,-999.0000,9,-999.0000,9,-999.0000,-999.000,   0.1308,     -999.0,     -999.0,9,     -999.0,9,     -999.0,9,     -999.0,9,     -999.0,20110325,       0223
320620110219,       P15S,      87,          1,          3,          3,2,20110325,       0211,   -73.4992,  -169.9992,       3866,  3699.6,   0.3095,  34.7025,2,  34.7019,2,    214.5,2,   214.2,2,  138.12,2,   32.45,2,    0.00,2,    2.26,2,   0.237,2,   0.107,2,   0.013,2,   0.1030,2,  2262.0,2,  2362.0,2,   7.5955,2,    25.00,-999.000,9,-999.0000,9,-999.000,9,   0.3093,2, -999.00,9,  -999.0,9,  -999.0,-999.000,9, -999.00,9,-999.000,9,   40.69,2,   35.08,2, -73.4993,-169.9999,-999.000,     -999.0,    34.8656,2,     -999.0,9,     -999.0,9,-999.0000,9,-999.0000,9,-999.0000,9,-999.0000,9,-999.0000,9,-999.0000,9,-999.0000,9,-999.0000,9,-999.0000,9,-999.0000,-999.000,   0.0542,     -999.0,     -999.0,9,     -999.0,9,     -999.0,9,     -999.0,9,     -999.0,20110325,       0217
320620110219,       P15S,      87,          1,          2,          2,2,20110325,       0211,   -73.4992,  -169.9992,       3866,  3831.0,   0.2595,  34.7004,2,  34.6998,2,    216.1,2,   216.2,2,  134.34,2,   32.49,2,    0.00,2,    2.26,2,   0.442,2,   0.205,2,   0.021,2,   0.1100,2,  2261.5,2,  2361.0,2,   7.5951,6,    25.00,-999.000,9,-999.0000,9,-999.000,9,   0.2594,2, -999.00,9,  -999.0,9,  -999.0,-999.000,9, -999.00,9,-999.000,9,   40.91,2,   35.35,2, -73.4993,-169.9995,-999.000,     -999.0,    34.8634,2,     -999.0,9,     -999.0,9,-999.0000,9,-999.0000,9,-999.0000,9,-999.0000,9,-999.0000,9,-999.0000,9,-999.0000,9,-999.0000,9,-999.0000,9,-999.0000,-999.000,  -0.0073,     -999.0,     -999.0,9,     -999.0,9,     -999.0,9,     -999.0,9,     -999.0,20110325,       0214
320620110219,       P15S,      87,          1,          1,          1,2,20110325,       0211,   -73.4992,  -169.9992,       3866,  3932.1,   0.1946,  34.6980,2,  34.6978,2,    217.2,2,   217.2,2,  129.43,2,   32.48,2,    0.00,2,    2.27,2,   0.750,2,   0.352,2,   0.021,2,   0.1250,2,  2263.0,6,  2358.9,2,   7.5886,2,    25.00,-999.000,9,-999.0000,9,-999.000,9,   0.1944,2, -999.00,9,  -999.0,9,  -999.0,-999.000,9, -999.00,9,-999.000,9,   41.07,2,   35.41,2, -73.4992,-169.9993,-999.000,     -999.0,    34.8614,2,     -999.0,9,     -999.0,9,-999.0000,9,-999.0000,9,-999.0000,9,-999.0000,9,-999.0000,9,-999.0000,9,-999.0000,9,-999.0000,9,-999.0000,9,-999.0000,-999.000,  -0.0805,     -999.0,     -999.0,9,     -999.0,9,     -999.0,9,     -999.0,9,     -999.0,20110325,       0211