BOTTLE,20220813CCHSIOAMB
EXPOCODE,SECT_ID,STNNBR,CASTNO,SAMPNO,BTLNBR,BTLNBR_FLAG_W,DATE,TIME,LATITUDE,LONGITUDE,DEPTH,CTDPRS,CTDTMP,CTDSAL,CTDSAL_FLAG_W,SALNTY,SALNTY_FLAG_W,CTDOXY,CTDOXY_FLAG_W,OXYGEN,OXYGEN_FLAG_W,SILCAT,SILCAT_FLAG_W,NITRAT,NITRAT_FLAG_W,NITRIT,NITRIT_FLAG_W,PHSPHT,PHSPHT_FLAG_W,CFC-11,CFC-11_FLAG_W,CFC-12,CFC-12_FLAG_W,CFC113,CFC113_FLAG_W,SF6,SF6_FLAG_W,TCARBN,TCARBN_FLAG_W,ALKALI,ALKALI_FLAG_W,PH_TOT,PH_TOT_FLAG_W,PH_TMP,TRITUM,TRITUM_FLAG_W,HELIUM,HELIUM_FLAG_W,DELHE3,DELHE3_FLAG_W,REFTMP,REFTMP_FLAG_W,DELC13,DELC13_FLAG_W,DELC14,DELC14_FLAG_W,C14ERR,NEON,NEON_FLAG_W,DELO18,DELO18_FLAG_W,POC,POC_FLAG_W,DOC,DOC_FLAG_W,TDN,TDN_FLAG_W,BTL_LAT,BTL_LON,TRITER,NEONER,SALTREF,SALTREF_FLAG_W,PIGMENTS,PIGMENTS_FLAG_W,LAB_DEN,LAB_DEN_FLAG_W,CDOM325,CDOM325_FLAG_W,CDOM340,CDOM340_FLAG_W,CDOM380,CDOM380_FLAG_W,CDOM412,CDOM412_FLAG_W,CDOM443,CDOM443_FLAG_W,CDOM490,CDOM490_FLAG_W,CDOM555,CDOM555_FLAG_W,CDOMSL,CDOMSL_FLAG_W,CDOMSN,CDOMSN_FLAG_W,HELIER,DELHER,THETA,LDEO_SAMPNO,ABSORBTION,ABSORBTION_FLAG_W,IMAGE_COUNT,IMAGE_COUNT_FLAG_W,CYTO_COUNT,CYTO_COUNT_FLAG_W,DELD,DELD_FLAG_W,DELDERR,BTL_DATE,BTL_TIME
,,,,,,,,,,,METERS,DBAR,ITS-90,PSS-78,,PSS-78,,UMOL/KG,,UMOL/KG,,UMOL/KG,,UMOL/KG,,UMOL/KG,,UMOL/KG,,PMOL/KG,,PMOL/KG,,PMOL/KG,,FMOL/KG,,UMOL/KG,,UMOL/KG,,,,DEG C,TU,,NMOL/KG,,PERCNT,,DEG C,,/MILLE,,/MILLE,,/MILLE,NMOL/KG,,/MILLE,,UG/KG,,UMOL/KG,,UMOL/KG,,,,TU,NMOL/KG,G/KG,,,,,,1/M,,1/M,,1/M,,1/M,,1/M,,1/M,,1/M,,1/NM,,1/NM,,NMOL/KG,PERCNT,DEG C,,,,,,,,/MILLE,,/MILLE,,
320620110219,       S04P,      44,          1,         13,         13,2,20110310,       1553,   -66.9998,  -151.1435,       4414,  1734.2,   0.6657,  34.7074,2,  34.7090,2,    203.8,2,   204.3,2,  125.47,2,   31.84,2,    0.00,2,    2.24,2,-999.000,9,-999.000,9,-999.000,9,-999.0000,9,  -999.0,9,  -999.0,9,-999.0000,9,  -999.00,-999.000,9,-999.0000,9,-999.000,9,   0.6664,2, -999.00,9,  -999.0,9,  -999.0,-999.000,9, -999.00,9,-999.000,9,   40.26,2,   34.39,2, -66.9997,-151.1435,-999.000,     -999.0,    34.8726,2,     -999.0,9,     -999.0,9,-999.0000,9,-999.0000,9,-999.0000,9,-999.0000,9,-999.0000,9,-999.0000,9,-999.0000,9,-999.0000,9,-999.0000,9,-999.0000,-999.000,   0.5687,     -999.0,     -999.0,9,     -999.0,9,     -999.0,9,     -999.0,9,     -999.0,20110310,       1651
320620110219,       S04P,      44,          1,         12,         12,2,20110310,       1553,   -66.9998,  -151.1435,       4414,  1932.7,   0.5915,  34.7057,2,  34.7054,2,    205.7,2,   206.4,2,  126.63,2,   31.92,2,    0.00,2,    2.24,2,   0.131,2,   0.061,2,   0.005,2,   0.0680,2,  -999.0,9,  -999.0,9,-999.0000,9,  -999.00,-999.000,9,-999.0000,9,-999.000,9,   0.5921,2, -999.00,9,  -999.0,9,  -999.0,-999.000,9, -999.00,9,-999.000,9,   39.88,2,   34.46,2, -66.9997,-151.1434,-999.000,     -999.0,    34.8691,2,     -999.0,9,     -999.0,9,-999.0000,9,-999.0000,9,-999.0000,9,-999.0000,9,-999.0000,9,-999.0000,9,-999.0000,9,-999.0000,9,-999.0000,9,-999.0000,-999.000,   0.4814,     -999.0,     -999.0,9,     -999.0,9,     -999.0,9,     -999.0,9,     -999.0,20110310,       1647
320620110219,       S04P,      44,          1,         11,         11,2,20110310,       1553,   -66.9998,  -151.1435,       4414,  2164.6,   0.5085,  34.7041,2,  34.7047,2,    207.6,2,   207.5,2,  127.98,2,   31.97,2,    0.00,2,    2.24,2,-999.000,9,-999.000,9,-999.000,9,-999.0000,9,  2259.8,2,  2360.0,2,   7.5912,2,    25.00,-999.000,9,-999.0000,9,-999.000,9,   0.5090,2, -999.00,9,  -999.0,9,  -999.0,-999.000,9, -999.00,9,-999.000,9,   40.22,2,   34.35,2, -66.9997,-151.1434,-999.000,     -999.0,    34.8683,2,     -999.0,9,     -999.0,1,-999.0000,9,-999.0000,9,-999.0000,9,-999.0000,9,-999.0000,9,-999.0000,9,-999.0000,9,-999.0000,9,-999.0000,9,-999.0000,-999.000,   0.3824,     -999.0,     -999.0,9,     -999.0,9,     -999.0,9,     -999.0,9,     -999.0,20110310,       1642
320620110219,       S04P,      44,          1,         10,         37,2,20110310,       1553,   -66.9998,  -151.1435,       4414,  2413.3,   0.4314,  34.7034,2,  34.7033,2,    209.4,2,   209.2,2,  130.36,2,   31.92,2,    0.00,2,    2.24,2,-999.000,9,-999.000,9,-999.000,9,-999.0000,9,  -999.0,9,  -999.0,9,-999.0000,9,  -999.00,-999.000,9,-999.0000,9,-999.000,9,   0.4317,2, -999.00,9,  -999.0,9,  -999.0,-999.000,9, -999.00,9,-999.000,9,   40.26,2,   34.25,2, -66.9998,-151.1435,-999.000,     -999.0,    34.8669,2,     -999.0,9,     -999.0,9,-999.0000,9,-999.0000,9,-999.0000,9,-999.0000,9,-999.0000,9,-999.0000,9,-999.0000,9,-999.0000,9,-999.0000,9,-999.0000,-999.000,   0.2873,     -999.0,     -999.0,9,     -999.0,9,     -999.0,9,     -999.0,9,     -999.0,20110310,       1637
320620110219,       S04P,      44,          1,          9,          9,2,20110310,       1553,   -66.9998,  -151.1435,       4414,  2663.1,   0.3631,  34.7028,2,  34.7039,2,    211.4,2,   211.4,2,  132.12,2,   31.94,2,    0.00,2,    2.24,2,-999.000,9,-999.000,9,-999.000,9,-999.0000,9,  2260.8,2,  2360.9,2,   7.5920,2,    25.00,-999.000,9,-999.0000,9,-999.000,9,   0.3635,2, -999.00,9,  -999.0,9,  -999.0,-999.000,9, -999.00,9,-999.000,9,   39.89,2,   34.37,2, -66.9998,-151.1435,-999.000,     -999.0,    34.8675,2,     -999.0,9,     -999.0,1,-999.0000,9,-999.0000,9,-999.0000,9,-999.0000,9,-999.0000,9,-999.0000,9,-999.0000,9,-999.0000,9,-999.0000,9,-999.0000,-999.000,   0.2001,     -999.0,     -999.0,9,     -999.0,9,     -999.0,9,     -999.0,9,     -999.0,20110310,       1632
320620110219,       S04P,      44,          1,          8,          8,2,20110310,       1553,   -66.9998,  -151.1435,       4414,  2913.5,   0.3129,  34.7022,2,  34.7031,2,    213.1,2,   213.5,2,  133.02,2,   32.02,2,    0.00,2,    2.24,2,   0.233,2,   0.116,2,   0.007,2,   0.1150,2,  -999.0,9,  -999.0,9,-999.0000,9,  -999.00,-999.000,9,-999.0000,9,-999.000,9,   0.3131,2, -999.00,9,  -999.0,9,  -999.0,-999.000,9, -999.00,9,-999.000,9,   40.20,2,   34.31,2, -66.9998,-151.1435,-999.000,     -999.0,    34.8667,2,     -999.0,9,     -999.0,9,-999.0000,9,-999.0000,9,-999.0000,9,-999.0000,9,-999.0000,9,-999.0000,9,-999.0000,9,-999.0000,9,-999.0000,9,-999.0000,-999.000,   0.1298,     -999.0,     -999.0,9,     -999.0,9,     -999.0,9,     -999.0,9,     -999.0,20110310,       1627
320620110219,       S04P,      44,          1,          7,          7,2,20110310,       1553,   -66.9998,  -151.1435,       4414,  3199.7,   0.2556,  34.7004,2,  34.7005,2,    215.5,2,   215.0,2,  132.42,2,   31.92,2,    0.00,2,    2.24,2,-999.000,9,-999.000,9,-999.000,9,-999.0000,9,  2258.7,2,  2360.9,2,   7.5930,2,    25.00,-999.000,9,-999.0000,9,-999.000,9,   0.2561,2, -999.00,9,  -999.0,9,  -999.0,-999.000,9, -999.00,9,-999.000,9,   40.16,2,   34.11,2, -66.9998,-151.1435,-999.000,     -999.0,    34.8642,2,     -999.0,9,     -999.0,1,-999.0000,9,-999.0000,9,-999.0000,9,-999.0000,9,-999.0000,9,-999.0000,9,-999.0000,9,-999.0000,9,-999.0000,9,-999.0000,-999.000,   0.0486,     -999.0,     -999.0,9,     -999.0,9,     -999.0,9,     -999.0,9,     -999.0,20110310,       1621
320620110219,       S04P,      44,          1,          6,          6,2,20110310,       1553,   -66.9998,  -151.1435,       4414,  3499.2,   0.1964,  34.6971,2,  34.6970,2,    218.8,2,   218.7,2,  127.01,2,   31.79,2,    0.00,2,    2.24,2,   0.685,2,   0.341,2,   0.037,2,   0.0990,2,  -999.0,9,  -999.0,9,-999.0000,9,  -999.00,-999.000,9,-999.0000,9,-999.000,9,   0.1966,2, -999.00,9,  -999.0,9,  -999.0,-999.000,9, -999.00,9,-999.000,9,   40.38,2,   34.14,2, -66.9997,-151.1435,-999.000,     -999.0,    34.8606,2,     -999.0,9,     -999.0,9,-999.0000,9,-999.0000,9,-999.0000,9,-999.0000,9,-999.0000,9,-999.0000,9,-999.0000,9,-999.0000,9,-999.0000,9,-999.0000,-999.000,  -0.0367,     -999.0,     -999.0,9,     -999.0,9,     -999.0,9,     -999.0,9,     -999.0,20110310,       1615
320620110219,       S04P,      44,          1,          5,          5,2,20110310,       1553,   -66.9998,  -151.1435,       4414,  3799.7,   0.1856,  34.6964,2,  34.6960,2,    220.2,2,   220.3,2,  125.36,2,   31.82,2,    0.00,2,    2.24,2,   0.813,2,   0.391,2,   0.046,2,   0.1030,2,  2257.2,2,  2357.9,2,   7.5884,2,    25.00,-999.000,9,-999.0000,9,-999.000,9,   0.1861,2, -999.00,9,  -999.0,9,  -999.0,-999.000,9, -999.00,9,-999.000,9,   40.79,2,   34.35,2, -66.9997,-151.1435,-999.000,     -999.0,    34.8596,2,     -999.0,9,     -999.0,1,-999.0000,9,-999.0000,9,-999.0000,9,-999.0000,9,-999.0000,9,-999.0000,9,-999.0000,9,-999.0000,9,-999.0000,9,-999.0000,-999.000,  -0.0761,     -999.0,     -999.0,9,     -999.0,9,     -999.0,9,     -999.0,9,     -999.0,20110310,       1609
320620110219,       S04P,      44,          1,          4,          4,2,20110310,       1553,   -66.9998,  -151.1435,       4414,  4099.4,   0.2017,  34.6968,2,  34.6966,2,    220.4,2,   220.0,2,  126.06,2,   31.84,2,    0.00,2,    2.24,2,   0.820,2,   0.387,2,   0.037,2,   0.1050,2,  2257.5,2,  2358.8,2,   7.5925,2,    25.00,-999.000,9,-999.0000,9,-999.000,9,   0.2017,2, -999.00,9,  -999.0,9,  -999.0,-999.000,9, -999.00,9,-999.000,9,   40.94,2,   33.96,2, -66.9997,-151.1434,-999.000,     -999.0,    34.8602,2,     -999.0,9,     -999.0,1,-999.0000,9,-999.0000,9,-999.0000,9,-999.0000,9,-999.0000,9,-999.0000,9,-999.0000,9,-999.0000,9,-999.0000,9,-999.0000,-999.000,  -0.0905,     -999.0,     -999.0,9,     -999.0,9,     -999.0,9,     -999.0,9,     -999.0,20110310,       1603
320620110219,       S04P,      44,          1,          3,          3,2,20110310,       1553,   -66.9998,  -151.1435,       4414,  4399.6,   0.2300,  34.6969,2,  34.6970,2,    220.0,2,   219.5,2,  128.95,2,   31.83,2,    0.00,2,    2.24,2,   0.809,2,   0.389,2,   0.035,2,   0.1050,2,  2259.4,2,  2358.5,6,   7.5888,2,    25.00,-999.000,9,-999.0000,9,-999.000,9,   0.2300,2, -999.00,9,  -999.0,9,  -999.0,-999.000,9, -999.00,9,-999.000,9,   41.07,2,   34.03,2, -66.9998,-151.1435,-999.000,     -999.0,    34.8606,2,     -999.0,9,     -999.0,1,-999.0000,9,-999.0000,9,-999.0000,9,-999.0000,9,-999.0000,9,-999.0000,9,-999.0000,9,-999.0000,9,-999.0000,9,-999.0000,-999.000,  -0.0945,     -999.0,     -999.0,9,     -999.0,9,     -999.0,9,     -999.0,9,     -999.0,20110310,       1557
320620110219,       S04P,      44,          1,          2,          2,2,20110310,       1553,   -66.9998,  -151.1435,       4414,  4445.5,   0.2345,  34.6970,2,  34.6978,2,    219.5,2,   219.4,2,  127.26,2,   31.82,2,    0.00,2,    2.24,2,   0.810,2,   0.383,2,   0.037,2,   0.1060,2,  2258.3,2,  2358.7,2,   7.5908,6,    25.00,-999.000,9,-999.0000,9,-999.000,9,   0.2342,2, -999.00,9,  -999.0,9,  -999.0,-999.000,9, -999.00,9,-999.000,9,   40.71,2,   34.14,2, -66.9998,-151.1435,-999.000,     -999.0,    34.8614,2,     -999.0,9,     -999.0,1,-999.0000,9,-999.0000,9,-999.0000,9,-999.0000,9,-999.0000,9,-999.0000,9,-999.0000,9,-999.0000,9,-999.0000,9,-999.0000,-999.000,  -0.0951,     -999.0,     -999.0,9,     -999.0,9,     -999.0,9,     -999.0,9,     -999.0,20110310,       1555
320620110219,       S04P,      44,          1,          1,          1,2,20110310,       1553,   -66.9998,  -151.1435,       4414,  4494.8,   0.2406,  34.6969,2,  34.6974,2,    219.4,2,   220.0,2,  126.91,2,   31.75,2,    0.00,2,    2.24,2,   0.806,2,   0.387,2,   0.032,2,   0.1100,2,  2258.6,6,  2358.1,2,   7.5915,2,    25.00,-999.000,9,-999.0000,9,-999.000,9,   0.2406,2, -999.00,9,  -999.0,9,  -999.0,-999.000,9, -999.00,9,-999.000,9,   40.89,2,   34.07,2, -66.9998,-151.1435,-999.000,     -999.0,    34.8610,2,     -999.0,9,     -999.0,1,-999.0000,9,-999.0000,9,-999.0000,9,-999.0000,9,-999.0000,9,-999.0000,9,-999.0000,9,-999.0000,9,-999.0000,9,-999.0000,-999.000,  -0.0945,     -999.0,     -999.0,9,     -999.0,9,     -999.0,9,     -999.0,9,     -999.0,20110310,       1553