BOTTLE,20220813CCHSIOAMB
EXPOCODE,SECT_ID,STNNBR,CASTNO,SAMPNO,BTLNBR,BTLNBR_FLAG_W,DATE,TIME,LATITUDE,LONGITUDE,DEPTH,CTDPRS,CTDTMP,CTDSAL,CTDSAL_FLAG_W,SALNTY,SALNTY_FLAG_W,CTDOXY,CTDOXY_FLAG_W,OXYGEN,OXYGEN_FLAG_W,SILCAT,SILCAT_FLAG_W,NITRAT,NITRAT_FLAG_W,NITRIT,NITRIT_FLAG_W,PHSPHT,PHSPHT_FLAG_W,CFC-11,CFC-11_FLAG_W,CFC-12,CFC-12_FLAG_W,CFC113,CFC113_FLAG_W,SF6,SF6_FLAG_W,TCARBN,TCARBN_FLAG_W,ALKALI,ALKALI_FLAG_W,PH_TOT,PH_TOT_FLAG_W,PH_TMP,TRITUM,TRITUM_FLAG_W,HELIUM,HELIUM_FLAG_W,DELHE3,DELHE3_FLAG_W,REFTMP,REFTMP_FLAG_W,DELC13,DELC13_FLAG_W,DELC14,DELC14_FLAG_W,C14ERR,NEON,NEON_FLAG_W,DELO18,DELO18_FLAG_W,POC,POC_FLAG_W,DOC,DOC_FLAG_W,TDN,TDN_FLAG_W,BTL_LAT,BTL_LON,TRITER,NEONER,SALTREF,SALTREF_FLAG_W,PIGMENTS,PIGMENTS_FLAG_W,LAB_DEN,LAB_DEN_FLAG_W,CDOM325,CDOM325_FLAG_W,CDOM340,CDOM340_FLAG_W,CDOM380,CDOM380_FLAG_W,CDOM412,CDOM412_FLAG_W,CDOM443,CDOM443_FLAG_W,CDOM490,CDOM490_FLAG_W,CDOM555,CDOM555_FLAG_W,CDOMSL,CDOMSL_FLAG_W,CDOMSN,CDOMSN_FLAG_W,HELIER,DELHER,THETA,LDEO_SAMPNO,ABSORBTION,ABSORBTION_FLAG_W,IMAGE_COUNT,IMAGE_COUNT_FLAG_W,CYTO_COUNT,CYTO_COUNT_FLAG_W,DELD,DELD_FLAG_W,DELDERR,BTL_DATE,BTL_TIME
,,,,,,,,,,,METERS,DBAR,ITS-90,PSS-78,,PSS-78,,UMOL/KG,,UMOL/KG,,UMOL/KG,,UMOL/KG,,UMOL/KG,,UMOL/KG,,PMOL/KG,,PMOL/KG,,PMOL/KG,,FMOL/KG,,UMOL/KG,,UMOL/KG,,,,DEG C,TU,,NMOL/KG,,PERCNT,,DEG C,,/MILLE,,/MILLE,,/MILLE,NMOL/KG,,/MILLE,,UG/KG,,UMOL/KG,,UMOL/KG,,,,TU,NMOL/KG,G/KG,,,,,,1/M,,1/M,,1/M,,1/M,,1/M,,1/M,,1/M,,1/NM,,1/NM,,NMOL/KG,PERCNT,DEG C,,,,,,,,/MILLE,,/MILLE,,
320620110219,       P15S,      86,          1,         13,         13,2,20110324,       2019,   -73.6854,  -171.3089,       3536,  1500.2,   0.8513,  34.7149,2,  34.7149,2,    200.4,2,   200.5,2,  117.47,2,   32.65,2,    0.00,2,    2.23,2,-999.000,9,-999.000,9,-999.000,9,-999.0000,9,  2261.1,2,  2360.1,2,   7.5975,2,    25.00,-999.000,9,-999.0000,9,-999.000,9,   0.8512,2, -999.00,9,  -999.0,9,  -999.0,-999.000,9, -999.00,9,-999.000,9, -999.00,9, -999.00,9, -73.6858,-171.3108,-999.000,     -999.0,    34.8786,2,     -999.0,9,     -999.0,9,   0.0975,2,   0.0555,2,   0.0097,3,   0.0000,4,  -0.0097,4,  -0.0087,4,  -0.0109,4,   0.0540,4,   0.0411,4,-999.0000,-999.000,   0.7681,     -999.0,     -999.0,9,     -999.0,9,     -999.0,9,     -999.0,9,     -999.0,20110324,       2107
320620110219,       P15S,      86,          1,         12,         12,2,20110324,       2019,   -73.6854,  -171.3089,       3536,  1601.0,   0.8110,  34.7132,2,  34.7141,2,    201.3,2,   201.2,2,  118.48,2,   32.70,2,    0.00,2,    2.23,2,   0.080,2,   0.044,2,   0.003,2,   0.0000,2,  -999.0,9,  -999.0,9,-999.0000,9,  -999.00,   0.001,2,    1.994,2,  10.814,2,   0.8114,2, -999.00,9,  -999.0,9,  -999.0,   8.776,2,   -0.14,2,-999.000,9, -999.00,9, -999.00,9, -73.6860,-171.3113,   0.004,      0.007,    34.8778,2,     -999.0,9,     -999.0,9,-999.0000,9,-999.0000,9,-999.0000,9,-999.0000,9,-999.0000,9,-999.0000,9,-999.0000,9,-999.0000,9,-999.0000,9,    0.001,   0.234,   0.7214,50008601012,     -999.0,9,     -999.0,9,     -999.0,9,      -2.03,2,       0.27,20110324,       2105
320620110219,       P15S,      86,          1,         11,         11,2,20110324,       2019,   -73.6854,  -171.3089,       3536,  1699.2,   0.7705,  34.7119,2,  34.7121,2,    202.3,2,   202.7,2,  119.34,2,   32.67,2,    0.00,2,    2.24,2,-999.000,9,-999.000,9,-999.000,9,-999.0000,9,  -999.0,9,  -999.0,9,-999.0000,9,  -999.00,-999.000,9,-999.0000,9,-999.000,9,   0.7706,2, -999.00,9,  -999.0,9,  -999.0,-999.000,9, -999.00,9,-999.000,9, -999.00,9, -999.00,9, -73.6862,-171.3120,-999.000,     -999.0,    34.8758,2,     -999.0,9,     -999.0,9,-999.0000,9,-999.0000,9,-999.0000,9,-999.0000,9,-999.0000,9,-999.0000,9,-999.0000,9,-999.0000,9,-999.0000,9,-999.0000,-999.000,   0.6746,     -999.0,     -999.0,9,     -999.0,9,     -999.0,9,     -999.0,9,     -999.0,20110324,       2102
320620110219,       P15S,      86,          1,         10,         37,2,20110324,       2019,   -73.6854,  -171.3089,       3536,  1800.5,   0.7369,  34.7107,2,  34.7109,2,    203.2,2,   203.3,2,  121.31,2,   32.77,2,    0.00,2,    2.24,2,-999.000,9,-999.000,9,-999.000,9,-999.0000,9,  2261.6,2,  2361.8,2,   7.5969,2,    25.00,   0.001,2,    1.994,2,  10.131,2,   0.7369,2, -999.00,9,  -999.0,9,  -999.0,   8.707,2,   -0.13,2,-999.000,9, -999.00,9, -999.00,9, -73.6861,-171.3119,   0.005,      0.007,    34.8746,2,     -999.0,9,     -999.0,9,   0.0909,2,   0.0493,2,   0.0059,3,  -0.0022,4,  -0.0115,4,  -0.0098,4,  -0.0114,4,   0.0587,4,   0.0453,4,    0.001,   0.208,   0.6342,50008601010,     -999.0,9,     -999.0,9,     -999.0,9,      -2.06,2,       0.13,20110324,       2059
320620110219,       P15S,      86,          1,          9,          9,2,20110324,       2019,   -73.6854,  -171.3089,       3536,  2000.9,   0.6756,  34.7093,2,  34.7094,2,    204.4,2,   204.1,2,  123.15,2,   32.80,2,    0.00,2,    2.24,2,   0.065,2,   0.043,2,   0.005,2,   0.0530,2,  -999.0,9,  -999.0,9,-999.0000,9,  -999.00,-999.000,9,-999.0000,9,-999.000,9,   0.6757,2, -999.00,9,  -999.0,9,  -999.0,-999.000,9, -999.00,9,-999.000,9, -999.00,9, -999.00,9, -73.6857,-171.3102,-999.000,     -999.0,    34.8730,2,     -999.0,9,     -999.0,9,-999.0000,9,-999.0000,9,-999.0000,9,-999.0000,9,-999.0000,9,-999.0000,9,-999.0000,9,-999.0000,9,-999.0000,9,-999.0000,-999.000,   0.5591,     -999.0,     -999.0,9,     -999.0,9,     -999.0,9,     -999.0,9,     -999.0,20110324,       2055
320620110219,       P15S,      86,          1,          8,          8,2,20110324,       2019,   -73.6854,  -171.3089,       3536,  2249.4,   0.6042,  34.7078,2,  34.7080,2,    205.7,2,   206.3,2,  125.44,2,   32.81,2,    0.00,2,    2.24,2,-999.000,9,-999.000,9,-999.000,9,-999.0000,9,  2262.8,2,  2360.6,2,   7.5971,2,    25.00,-999.000,9,-999.0000,9,-999.000,9,   0.6044,2, -999.00,9,  -999.0,9,  -999.0,-999.000,9, -999.00,9,-999.000,9, -999.00,9, -999.00,9, -73.6857,-171.3103,-999.000,     -999.0,    34.8717,2,     -999.0,9,     -999.0,9,-999.0000,9,-999.0000,9,-999.0000,9,-999.0000,9,-999.0000,9,-999.0000,9,-999.0000,9,-999.0000,9,-999.0000,9,-999.0000,-999.000,   0.4699,     -999.0,     -999.0,9,     -999.0,9,     -999.0,9,     -999.0,9,     -999.0,20110324,       2049
320620110219,       P15S,      86,          1,          7,          7,2,20110324,       2019,   -73.6854,  -171.3089,       3536,  2503.0,   0.5541,  34.7066,2,  34.7070,2,    207.0,2,   207.3,2,  126.79,2,   32.83,2,    0.00,2,    2.24,2,   0.117,2,   0.058,2,   0.005,2,   0.0410,2,  -999.0,9,  -999.0,9,-999.0000,9,  -999.00,   0.001,2,    2.045,2,   9.591,2,   0.5545,2, -999.00,9,  -999.0,9,  -999.0,   8.876,2,   -0.09,2,-999.000,9, -999.00,9, -999.00,9, -73.6856,-171.3098,   0.004,      0.007,    34.8707,2,     -999.0,9,     -999.0,9,-999.0000,9,-999.0000,9,-999.0000,9,-999.0000,9,-999.0000,9,-999.0000,9,-999.0000,9,-999.0000,9,-999.0000,9,    0.001,   0.205,   0.4005,50008601007,     -999.0,9,     -999.0,9,     -999.0,9,      -1.91,2,       0.14,20110324,       2044
320620110219,       P15S,      86,          1,          6,          6,2,20110324,       2019,   -73.6854,  -171.3089,       3536,  2748.6,   0.5173,  34.7058,2,  34.7058,2,    208.0,2,   208.0,2,  128.32,2,   32.79,2,    0.00,2,    2.24,2,-999.000,9,-999.000,9,-999.000,9,-999.0000,9,  2262.8,2,  2361.0,2,   7.5965,2,    25.00,-999.000,9,-999.0000,9,-999.000,9,   0.5173,2, -999.00,9,  -999.0,9,  -999.0,-999.000,9, -999.00,9,-999.000,9, -999.00,9, -999.00,9, -73.6856,-171.3099,-999.000,     -999.0,    34.8695,2,     -999.0,9,     -999.0,9,-999.0000,9,-999.0000,9,-999.0000,9,-999.0000,9,-999.0000,9,-999.0000,9,-999.0000,9,-999.0000,9,-999.0000,9,-999.0000,-999.000,   0.3440,     -999.0,     -999.0,9,     -999.0,9,     -999.0,9,     -999.0,9,     -999.0,20110324,       2039
320620110219,       P15S,      86,          1,          5,          5,2,20110324,       2019,   -73.6854,  -171.3089,       3536,  3001.7,   0.4748,  34.7050,2,  34.7049,2,    209.2,2,   209.4,2,  130.60,2,   32.83,2,    0.00,2,    2.25,2,   0.105,2,   0.053,2,   0.005,2,   0.0490,2,  -999.0,9,  -999.0,9,-999.0000,9,  -999.00,   0.001,2,    2.005,2,   9.347,2,   0.4748,2, -999.00,9,  -999.0,9,  -999.0,   8.757,2,   -0.28,2,-999.000,9, -999.00,9, -999.00,9, -73.6856,-171.3099,   0.004,      0.007,    34.8685,2,     -999.0,9,     -999.0,9,-999.0000,9,-999.0000,9,-999.0000,9,-999.0000,9,-999.0000,9,-999.0000,9,-999.0000,9,-999.0000,9,-999.0000,9,    0.001,   0.196,   0.2804,50008601005,     -999.0,9,     -999.0,9,     -999.0,9,      -2.60,2,       0.25,20110324,       2034
320620110219,       P15S,      86,          1,          4,          4,2,20110324,       2019,   -73.6854,  -171.3089,       3536,  3248.6,   0.4218,  34.7045,2,  34.7041,2,    210.8,2,   210.7,2,  132.81,2,   32.74,2,    0.00,2,    2.25,2,   0.116,2,   0.062,2,   0.005,2,   0.0630,2,  2263.1,2,  2362.9,2,   7.5972,2,    25.00,-999.000,9,-999.0000,9,-999.000,9,   0.4222,2, -999.00,9,  -999.0,9,  -999.0,-999.000,9, -999.00,9,-999.000,9, -999.00,9, -999.00,9, -73.6858,-171.3106,-999.000,     -999.0,    34.8677,2,     -999.0,9,     -999.0,9,   0.0850,2,   0.0444,3,   0.0027,3,  -0.0044,4,  -0.0127,4,  -0.0104,4,  -0.0117,4,   0.0636,4,   0.0491,4,-999.0000,-999.000,   0.2064,     -999.0,     -999.0,9,     -999.0,9,     -999.0,9,     -999.0,9,     -999.0,20110324,       2028
320620110219,       P15S,      86,          1,          3,          3,2,20110324,       2019,   -73.6854,  -171.3089,       3536,  3499.2,   0.3384,  34.7032,2,  34.7027,2,    212.9,2,   212.7,2,  135.50,2,   32.90,2,    0.00,2,    2.25,2,   0.197,2,   0.098,2,   0.011,2,   0.0580,2,  2263.5,2,  2362.5,6,   7.5964,2,    25.00,   0.001,2,    2.018,2,   8.959,2,   0.3387,2, -999.00,9,  -999.0,9,  -999.0,   8.859,2,   -0.21,2,-999.000,9, -999.00,9, -999.00,9, -73.6858,-171.3106,   0.004,      0.007,    34.8663,2,     -999.0,9,     -999.0,9,-999.0000,9,-999.0000,9,-999.0000,9,-999.0000,9,-999.0000,9,-999.0000,9,-999.0000,9,-999.0000,9,-999.0000,9,    0.000,   0.221,   0.1016,50008601003,     -999.0,9,     -999.0,9,     -999.0,9,      -2.44,2,       0.29,20110324,       2023
320620110219,       P15S,      86,          1,          2,          2,2,20110324,       2019,   -73.6854,  -171.3089,       3536,  3539.8,   0.3063,  34.7021,2,  34.7021,2,    213.6,2,   213.2,2,  135.38,2,   32.88,2,    0.00,2,    2.25,2,   0.272,2,   0.137,2,   0.012,2,   0.0990,2,  2264.0,6,  2365.3,2,   7.5939,2,    25.00,-999.000,9,-999.0000,9,-999.000,9,   0.3061,2, -999.00,9,  -999.0,9,  -999.0,-999.000,9, -999.00,9,-999.000,9, -999.00,9, -999.00,9, -73.6856,-171.3098,-999.000,     -999.0,    34.8657,2,     -999.0,9,     -999.0,9,-999.0000,9,-999.0000,9,-999.0000,9,-999.0000,9,-999.0000,9,-999.0000,9,-999.0000,9,-999.0000,9,-999.0000,9,-999.0000,-999.000,   0.0665,     -999.0,     -999.0,9,     -999.0,9,     -999.0,9,     -999.0,9,     -999.0,20110324,       2021
320620110219,       P15S,      86,          1,          1,          1,2,20110324,       2019,   -73.6854,  -171.3089,       3536,  3590.2,   0.3003,  34.7016,2,  34.7015,2,    213.6,2,   213.7,2,  135.59,2,   32.91,2,    0.00,2,    2.27,2,   0.321,2,   0.157,2,   0.016,2,   0.1250,2,  2264.0,2,  2366.0,2,   7.5899,6,    25.00,   0.001,2,    2.022,2,   8.086,2,   0.3000,2, -999.00,9,  -999.0,9,  -999.0,   8.810,2,   -0.21,2,-999.000,9, -999.00,9, -999.00,9, -73.6855,-171.3091,   0.003,      0.007,    34.8652,2,     -999.0,9,     -999.0,9,   0.0912,2,   0.0492,2,   0.0052,3,  -0.0020,4,  -0.0111,4,  -0.0096,4,  -0.0113,4,   0.0586,4,   0.0463,4,    0.001,   0.207,   0.0559,50008601001,     -999.0,9,     -999.0,9,     -999.0,9,      -2.43,2,       0.18,20110324,       2019