BOTTLE,20220813CCHSIOAMB
EXPOCODE,SECT_ID,STNNBR,CASTNO,SAMPNO,BTLNBR,BTLNBR_FLAG_W,DATE,TIME,LATITUDE,LONGITUDE,DEPTH,CTDPRS,CTDTMP,CTDSAL,CTDSAL_FLAG_W,SALNTY,SALNTY_FLAG_W,CTDOXY,CTDOXY_FLAG_W,OXYGEN,OXYGEN_FLAG_W,SILCAT,SILCAT_FLAG_W,NITRAT,NITRAT_FLAG_W,NITRIT,NITRIT_FLAG_W,PHSPHT,PHSPHT_FLAG_W,CFC-11,CFC-11_FLAG_W,CFC-12,CFC-12_FLAG_W,CFC113,CFC113_FLAG_W,SF6,SF6_FLAG_W,TCARBN,TCARBN_FLAG_W,ALKALI,ALKALI_FLAG_W,PH_TOT,PH_TOT_FLAG_W,PH_TMP,TRITUM,TRITUM_FLAG_W,HELIUM,HELIUM_FLAG_W,DELHE3,DELHE3_FLAG_W,REFTMP,REFTMP_FLAG_W,DELC13,DELC13_FLAG_W,DELC14,DELC14_FLAG_W,C14ERR,NEON,NEON_FLAG_W,DELO18,DELO18_FLAG_W,POC,POC_FLAG_W,DOC,DOC_FLAG_W,TDN,TDN_FLAG_W,BTL_LAT,BTL_LON,TRITER,NEONER,SALTREF,SALTREF_FLAG_W,PIGMENTS,PIGMENTS_FLAG_W,LAB_DEN,LAB_DEN_FLAG_W,CDOM325,CDOM325_FLAG_W,CDOM340,CDOM340_FLAG_W,CDOM380,CDOM380_FLAG_W,CDOM412,CDOM412_FLAG_W,CDOM443,CDOM443_FLAG_W,CDOM490,CDOM490_FLAG_W,CDOM555,CDOM555_FLAG_W,CDOMSL,CDOMSL_FLAG_W,CDOMSN,CDOMSN_FLAG_W,HELIER,DELHER,THETA,LDEO_SAMPNO,ABSORBTION,ABSORBTION_FLAG_W,IMAGE_COUNT,IMAGE_COUNT_FLAG_W,CYTO_COUNT,CYTO_COUNT_FLAG_W,DELD,DELD_FLAG_W,DELDERR,BTL_DATE,BTL_TIME
,,,,,,,,,,,METERS,DBAR,ITS-90,PSS-78,,PSS-78,,UMOL/KG,,UMOL/KG,,UMOL/KG,,UMOL/KG,,UMOL/KG,,UMOL/KG,,PMOL/KG,,PMOL/KG,,PMOL/KG,,FMOL/KG,,UMOL/KG,,UMOL/KG,,,,DEG C,TU,,NMOL/KG,,PERCNT,,DEG C,,/MILLE,,/MILLE,,/MILLE,NMOL/KG,,/MILLE,,UG/KG,,UMOL/KG,,UMOL/KG,,,,TU,NMOL/KG,G/KG,,,,,,1/M,,1/M,,1/M,,1/M,,1/M,,1/M,,1/M,,1/NM,,1/NM,,NMOL/KG,PERCNT,DEG C,,,,,,,,/MILLE,,/MILLE,,
320620110219,       S04P,     119,          1,         36,         36,2,20110413,       0132,   -67.0000,  -102.0310,       4728,     3.2,  -0.5682,  33.4465,2,  33.4470,2,    345.5,3,   349.1,2,   19.26,2,   24.02,2,    0.23,2,    1.65,2,   6.176,2,   3.430,2,   0.651,2,-999.0000,9,  2132.0,6,  2264.6,2,   7.7049,2,    25.00,   0.128,2,   1.8602,2,   -1.50,2,  -0.5683,2, -999.00,9,  -999.0,9,  -999.0,   8.363,2,   -0.38,2,-999.000,9,   44.71,2,   29.02,2, -67.0000,-102.0310,   0.012,      0.043,    33.6048,2,     -999.0,9,     -999.0,9,-999.0000,9,-999.0000,9,-999.0000,9,-999.0000,9,-999.0000,9,-999.0000,9,-999.0000,9,-999.0000,9,-999.0000,9,   0.0089,    0.14,  -0.5683,     -999.0,     -999.0,9,     -999.0,9,     -999.0,9,      -3.89,2,       0.03,20110413,       0325
320620110219,       S04P,     119,          1,         35,         35,2,20110413,       0132,   -67.0000,  -102.0310,       4728,    25.0,  -0.5612,  33.4468,2,  33.4470,2,    349.1,2,   349.0,2,   18.83,2,   24.03,2,    0.23,2,    1.66,2,   6.251,2,   3.492,2,   0.655,2,-999.0000,9,  2129.1,2,  2263.6,2,   7.7047,6,    25.00,   0.089,2,   1.9452,2,   -1.48,2,  -0.5624,2, -999.00,9,  -999.0,9,  -999.0,   8.682,2,   -0.43,2,-999.000,9,   45.22,2,   28.32,2, -67.0000,-102.0310,   0.012,      0.044,    33.6047,2,     -999.0,9,     -999.0,9,-999.0000,9,-999.0000,9,-999.0000,9,-999.0000,9,-999.0000,9,-999.0000,9,-999.0000,9,-999.0000,9,-999.0000,9,   0.0093,    0.14,  -0.5619,     -999.0,     -999.0,9,     -999.0,9,     -999.0,9,      -4.20,2,       0.06,20110413,       0323
320620110219,       S04P,     119,          1,         34,         34,2,20110413,       0132,   -67.0000,  -102.0310,       4728,    44.8,  -0.5554,  33.4469,2,  33.4478,2,    349.5,2,   349.1,2,   19.38,2,   24.00,2,    0.23,2,    1.68,2,   6.240,2,   3.464,2,   0.656,2,-999.0000,9,  2133.2,2,  2265.7,2,   7.7058,2,    25.00,   0.115,2,   1.9002,2,   -1.69,2,  -0.5550,2, -999.00,9,  -999.0,9,  -999.0,   8.345,2,   -0.34,2,-999.000,9,   44.90,2,   28.60,2, -67.0000,-102.0310,   0.013,      0.043,    33.6055,2,     -999.0,9,     -999.0,9,-999.0000,9,-999.0000,9,-999.0000,9,-999.0000,9,-999.0000,9,-999.0000,9,-999.0000,9,-999.0000,9,-999.0000,9,   0.0091,    0.14,  -0.5567,     -999.0,     -999.0,9,     -999.0,9,     -999.0,9,      -3.89,2,       0.05,20110413,       0322
320620110219,       S04P,     119,          1,         33,         33,2,20110413,       0132,   -67.0000,  -102.0310,       4728,    75.4,  -1.4592,  33.8296,2,  33.8308,2,    339.3,2,   339.9,2,   37.88,2,   27.90,2,    0.18,2,    2.05,2,   6.075,2,   3.373,2,   0.639,2,-999.0000,9,  2170.0,2,  2293.3,4,   7.6582,2,    25.00,   0.065,2,   1.8506,2,   -1.31,2,  -1.4593,2, -999.00,9,  -999.0,9,  -999.0,   8.322,2,   -0.34,2,-999.000,9,   44.17,2,   32.02,2, -67.0000,-102.0310,   0.012,      0.042,    33.9903,2,     -999.0,9,     -999.0,9,-999.0000,9,-999.0000,9,-999.0000,9,-999.0000,9,-999.0000,9,-999.0000,9,-999.0000,9,-999.0000,9,-999.0000,9,   0.0089,    0.14,  -1.4608,     -999.0,     -999.0,9,     -999.0,9,     -999.0,9,      -3.55,2,       0.07,20110413,       0321
320620110219,       S04P,     119,          1,         32,         32,2,20110413,       0132,   -67.0000,  -102.0310,       4728,   100.2,  -1.3103,  33.9194,2,  33.9185,2,    330.0,2,   330.1,2,   39.77,2,   28.96,2,    0.21,2,    2.06,2,   5.788,2,   3.225,2,   0.604,2,-999.0000,9,  2178.9,2,  2291.3,2,   7.6462,2,    25.00,   0.072,2,   1.8717,2,   -1.15,2,  -1.3084,2, -999.00,9,  -999.0,9,  -999.0,   8.398,2,   -0.31,2,-999.000,9,   41.41,2,   32.75,2, -67.0000,-102.0310,   0.013,      0.043,    34.0785,2,     -999.0,9,     -999.0,9,-999.0000,9,-999.0000,9,-999.0000,9,-999.0000,9,-999.0000,9,-999.0000,9,-999.0000,9,-999.0000,9,-999.0000,9,   0.0090,    0.14,  -1.3126,     -999.0,     -999.0,9,     -999.0,9,     -999.0,9,      -3.34,2,       0.05,20110413,       0319
320620110219,       S04P,     119,          1,         31,         31,2,20110413,       0132,   -67.0000,  -102.0310,       4728,   150.0,  -0.6635,  34.0425,2,  34.0413,2,    317.9,2,   319.2,2,   45.98,2,   30.30,2,    0.04,2,    2.10,2,   5.553,2,   2.893,2,   0.580,2,-999.0000,9,  2189.9,2,  2299.1,2,   7.6319,2,    25.00,   0.054,2,   1.8487,2,   -0.80,2,  -0.6639,2, -999.00,9,  -999.0,9,  -999.0,   8.314,2,   -0.32,2,-999.000,9,   40.85,2,   33.38,2, -67.0000,-102.0310,   0.013,      0.042,    34.2018,2,     -999.0,9,     -999.0,9,-999.0000,9,-999.0000,9,-999.0000,9,-999.0000,9,-999.0000,9,-999.0000,9,-999.0000,9,-999.0000,9,-999.0000,9,   0.0089,    0.14,  -0.6680,     -999.0,     -999.0,9,     -999.0,9,     -999.0,9,      -3.04,2,       0.12,20110413,       0318
320620110219,       S04P,     119,          1,         30,         30,2,20110413,       0132,   -67.0000,  -102.0310,       4728,   200.7,   0.0668,  34.1530,2,  34.1525,2,    297.4,2,   298.1,2,   52.03,2,   31.16,2,    0.00,2,    2.16,2,   4.956,2,   2.783,2,   0.519,2,-999.0000,9,  2203.6,2,  2304.1,2,   7.6152,2,    25.00,   0.041,2,   1.8390,2,    0.34,2,   0.0678,2, -999.00,9,  -999.0,9,  -999.0,   8.200,2, -999.00,5,-999.000,9,   40.73,2,   33.84,2, -67.0000,-102.0310,   0.012,      0.042,    34.3135,2,     -999.0,9,     -999.0,9,-999.0000,9,-999.0000,9,-999.0000,9,-999.0000,9,-999.0000,9,-999.0000,9,-999.0000,9,-999.0000,9,-999.0000,9,   0.0088,    0.14,   0.0595,     -999.0,     -999.0,9,     -999.0,9,     -999.0,9,     -999.0,5,     -999.0,20110413,       0316
320620110219,       S04P,     119,          1,         29,         29,2,20110413,       0132,   -67.0000,  -102.0310,       4728,   250.0,   1.1219,  34.3376,2,  34.3342,2,    244.7,2,   229.5,2,   62.63,2,   33.20,2,    0.00,2,    2.31,2,   3.009,2,   1.695,2,   0.291,2,-999.0000,9,  2231.9,2,  2318.8,2,   7.5655,2,    25.00,   0.004,2,   1.9004,2,    3.98,2,   1.1226,2, -999.00,9,  -999.0,9,  -999.0,   8.371,2,   -0.14,2,-999.000,9,   40.71,2,   35.84,2, -67.0000,-102.0310,   0.013,      0.043,    34.4961,2,     -999.0,9,     -999.0,9,-999.0000,9,-999.0000,9,-999.0000,9,-999.0000,9,-999.0000,9,-999.0000,9,-999.0000,9,-999.0000,9,-999.0000,9,   0.0091,    0.14,   1.1103,     -999.0,     -999.0,9,     -999.0,9,     -999.0,9,      -2.21,2,       0.10,20110413,       0314
320620110219,       S04P,     119,          1,         28,         28,2,20110413,       0132,   -67.0000,  -102.0310,       4728,   300.6,   1.9913,  34.4939,2,  34.4939,2,    191.9,2,   184.4,2,   70.77,2,   34.23,2,    0.00,2,    2.38,2,   1.567,2,   0.854,2,   0.134,2,-999.0000,9,  2249.7,2,  2330.2,2,   7.5453,2,    25.00,  -0.007,2,   1.8801,2,    6.79,2,   1.9908,2, -999.00,9,  -999.0,9,  -999.0,   8.218,2,   -0.05,2,-999.000,9,   40.27,2,   35.79,2, -67.0000,-102.0310,   0.012,      0.042,    34.6566,2,     -999.0,9,     -999.0,9,-999.0000,9,-999.0000,9,-999.0000,9,-999.0000,9,-999.0000,9,-999.0000,9,-999.0000,9,-999.0000,9,-999.0000,9,   0.0090,    0.14,   1.9750,     -999.0,     -999.0,9,     -999.0,9,     -999.0,9,      -1.51,2,       0.10,20110413,       0313
320620110219,       S04P,     119,          1,         27,         27,2,20110413,       0132,   -67.0000,  -102.0310,       4728,   351.1,   2.0935,  34.5438,2,  34.5431,2,    178.3,2,   178.4,2,   73.07,2,   34.06,2,    0.00,2,    2.37,2,   1.183,2,   0.635,2,   0.091,2,-999.0000,9,  2253.2,2,  2335.1,2,   7.5452,2,    25.00,  -0.015,2,   1.9249,2,    7.56,2,   2.0926,2, -999.00,9,  -999.0,9,  -999.0,   8.430,2,   -0.08,3,-999.000,9,   39.82,2,   36.54,2, -67.0000,-102.0310,   0.012,      0.043,    34.7060,2,     -999.0,9,     -999.0,9,-999.0000,9,-999.0000,9,-999.0000,9,-999.0000,9,-999.0000,9,-999.0000,9,-999.0000,9,-999.0000,9,-999.0000,9,   0.0092,    0.14,   2.0740,     -999.0,     -999.0,9,     -999.0,9,     -999.0,9,      -1.13,3,       0.07,20110413,       0311
320620110219,       S04P,     119,          1,         26,         26,2,20110413,       0132,   -67.0000,  -102.0310,       4728,   400.7,   2.1135,  34.5781,2,  34.5782,2,   -999.0,9,  -999.0,5,   75.83,2,   33.86,2,    0.00,2,    2.35,2,   0.981,2,   0.514,2,   0.074,2,-999.0000,9,  -999.0,9,  -999.0,9,-999.0000,9,  -999.00,  -0.016,2,   1.9013,2,    7.93,2,   2.1133,2, -999.00,9,  -999.0,9,  -999.0,   8.290,2,   -0.07,2,-999.000,9,   39.31,2,   36.63,2, -67.0000,-102.0310,   0.012,      0.042,    34.7413,2,     -999.0,9,     -999.0,9,-999.0000,9,-999.0000,9,-999.0000,9,-999.0000,9,-999.0000,9,-999.0000,9,-999.0000,9,-999.0000,9,-999.0000,9,   0.0091,    0.14,   2.0910,     -999.0,     -999.0,9,     -999.0,9,     -999.0,9,      -1.53,2,       0.07,20110413,       0309
320620110219,       S04P,     119,          1,         25,         25,2,20110413,       0132,   -67.0000,  -102.0310,       4728,   500.5,   2.1218,  34.6245,2,  34.6243,2,    175.2,2,   174.1,2,   78.61,2,   33.34,2,    0.00,2,    2.32,2,   0.688,2,   0.356,2,   0.047,2,-999.0000,9,  2255.3,2,  2340.3,2,   7.5563,2,    25.00,  -0.022,2,   1.8985,2,    8.82,2,   2.1216,2, -999.00,9,  -999.0,9,  -999.0,   8.281,2,   -0.05,2,-999.000,9,   39.32,2,   36.14,2, -67.0000,-102.0310,   0.013,      0.042,    34.7875,2,     -999.0,9,     -999.0,9,-999.0000,9,-999.0000,9,-999.0000,9,-999.0000,9,-999.0000,9,-999.0000,9,-999.0000,9,-999.0000,9,-999.0000,9,   0.0091,    0.14,   2.0932,     -999.0,     -999.0,9,     -999.0,9,     -999.0,9,      -1.43,2,       0.02,20110413,       0306
320620110219,       S04P,     119,          1,         24,         24,2,20110413,       0132,   -67.0000,  -102.0310,       4728,   600.3,   2.0956,  34.6602,2,  34.6604,2,    174.1,2,   174.6,2,   80.85,2,   32.90,2,    0.00,2,    2.29,2,-999.000,9,-999.000,9,-999.000,9,-999.0000,9,  -999.0,9,  -999.0,9,-999.0000,9,  -999.00,-999.000,9,-999.0000,9,-999.000,9,   2.0952,2, -999.00,9,  -999.0,9,  -999.0,-999.000,9, -999.00,9,-999.000,9,   39.58,2,   35.50,2, -67.0000,-102.0310,-999.000,     -999.0,    34.8238,2,     -999.0,9,     -999.0,9,-999.0000,9,-999.0000,9,-999.0000,9,-999.0000,9,-999.0000,9,-999.0000,9,-999.0000,9,-999.0000,9,-999.0000,9,-999.0000,-999.000,   2.0609,     -999.0,     -999.0,9,     -999.0,9,     -999.0,9,     -999.0,9,     -999.0,20110413,       0304
320620110219,       S04P,     119,          1,         23,         23,2,20110413,       0132,   -67.0000,  -102.0310,       4728,   700.3,   2.0614,  34.6833,2,  34.6833,2,    176.2,2,   177.0,2,   82.74,2,   32.42,2,    0.00,2,    2.26,2,   0.484,2,   0.188,2,   0.024,2,-999.0000,9,  2254.3,2,  2345.3,2,   7.5685,2,    25.00,   0.011,2,   1.8966,2,    9.18,2,   2.0612,2, -999.00,9,  -999.0,9,  -999.0,   8.232,2,   -0.07,2,-999.000,9,   39.32,2,   35.23,2, -67.0000,-102.0310,   0.012,      0.042,    34.8469,2,     -999.0,9,     -999.0,9,-999.0000,9,-999.0000,9,-999.0000,9,-999.0000,9,-999.0000,9,-999.0000,9,-999.0000,9,-999.0000,9,-999.0000,9,   0.0091,    0.14,   2.0205,     -999.0,     -999.0,9,     -999.0,9,     -999.0,9,      -0.67,2,       0.03,20110413,       0301
320620110219,       S04P,     119,          1,         22,         22,2,20110413,       0132,   -67.0000,  -102.0310,       4728,   800.4,   2.0082,  34.7015,2,  34.7014,2,    179.0,2,   179.5,2,   84.47,2,   32.14,2,    0.00,2,    2.24,2,-999.000,9,-999.000,9,-999.000,9,-999.0000,9,  -999.0,9,  -999.0,9,-999.0000,9,  -999.00,-999.000,9,-999.0000,9,-999.000,9,   2.0078,2, -999.00,9,  -999.0,9,  -999.0,-999.000,9, -999.00,9,-999.000,9,   39.34,2,   34.87,2, -67.0000,-102.0310,-999.000,     -999.0,    34.8650,2,     -999.0,9,     -999.0,9,-999.0000,9,-999.0000,9,-999.0000,9,-999.0000,9,-999.0000,9,-999.0000,9,-999.0000,9,-999.0000,9,-999.0000,9,-999.0000,-999.000,   1.9611,     -999.0,     -999.0,9,     -999.0,9,     -999.0,9,     -999.0,9,     -999.0,20110413,       0259
320620110219,       S04P,     119,          1,         21,         21,2,20110413,       0132,   -67.0000,  -102.0310,       4728,   899.7,   1.9533,  34.7127,2,  34.7125,2,    181.8,2,   181.8,2,   86.46,2,   31.80,2,    0.00,2,    2.22,2,   0.321,2,   0.150,2,   0.017,2,-999.0000,9,  2253.0,2,  2348.2,2,   7.5853,6,    25.00,   0.005,2,   1.8863,2,    9.57,2,   1.9529,2, -999.00,9,  -999.0,9,  -999.0,   8.212,2, -999.00,9,-999.000,9,   39.11,2,   34.60,2, -67.0000,-102.0310,   0.012,      0.042,    34.8762,2,     -999.0,9,     -999.0,9,-999.0000,9,-999.0000,9,-999.0000,9,-999.0000,9,-999.0000,9,-999.0000,9,-999.0000,9,-999.0000,9,-999.0000,9,   0.0091,    0.14,   1.9000,     -999.0,     -999.0,9,     -999.0,9,     -999.0,9,     -999.0,9,     -999.0,20110413,       0256
320620110219,       S04P,     119,          1,         20,         20,2,20110413,       0132,   -67.0000,  -102.0310,       4728,  1000.1,   1.8853,  34.7215,2,  34.7216,2,    184.3,2,   184.4,2,   86.60,2,   31.53,2,    0.00,2,    2.21,2,-999.000,9,-999.000,9,-999.000,9,-999.0000,9,  2253.9,6,  2347.6,2,   7.5904,2,    25.00,-999.000,9,-999.0000,9,-999.000,9,   1.8851,2, -999.00,9,  -999.0,9,  -999.0,-999.000,9, -999.00,9,-999.000,9,   39.57,2,   34.38,2, -67.0000,-102.0310,-999.000,     -999.0,    34.8853,2,     -999.0,9,     -999.0,9,-999.0000,9,-999.0000,9,-999.0000,9,-999.0000,9,-999.0000,9,-999.0000,9,-999.0000,9,-999.0000,9,-999.0000,9,-999.0000,-999.000,   1.8258,     -999.0,     -999.0,9,     -999.0,9,     -999.0,9,     -999.0,9,     -999.0,20110413,       0253
320620110219,       S04P,     119,          1,         19,         19,2,20110413,       0132,   -67.0000,  -102.0310,       4728,  1100.6,   1.8108,  34.7272,2,  34.7272,2,    186.6,2,   186.9,2,   89.20,2,   31.40,2,    0.00,2,    2.18,2,   0.258,2,   0.123,2,   0.015,2,-999.0000,9,  -999.0,9,  -999.0,9,-999.0000,9,  -999.00,  -0.003,2,   1.8873,2,    9.70,2,   1.8107,2, -999.00,9,  -999.0,9,  -999.0,   8.220,2, -999.00,9,-999.000,9,   39.31,2,   33.93,2, -67.0000,-102.0310,   0.013,      0.042,    34.8910,2,     -999.0,9,     -999.0,9,-999.0000,9,-999.0000,9,-999.0000,9,-999.0000,9,-999.0000,9,-999.0000,9,-999.0000,9,-999.0000,9,-999.0000,9,   0.0091,    0.14,   1.7450,     -999.0,     -999.0,9,     -999.0,9,     -999.0,9,     -999.0,9,     -999.0,20110413,       0251
320620110219,       S04P,     119,          1,         18,         18,2,20110413,       0132,   -67.0000,  -102.0310,       4728,  1200.3,   1.7404,  34.7304,2,  34.7306,2,    188.6,2,   188.9,2,   91.13,2,   31.36,2,    0.00,2,    2.18,2,-999.000,9,-999.000,9,-999.000,9,-999.0000,9,  2252.4,2,  2351.3,6,   7.5957,2,    25.00,-999.000,9,-999.0000,9,-999.000,9,   1.7400,2, -999.00,9,  -999.0,9,  -999.0,-999.000,9, -999.00,9,-999.000,9,   39.34,2,   33.80,2, -67.0000,-102.0310,-999.000,     -999.0,    34.8943,2,     -999.0,9,     -999.0,9,-999.0000,9,-999.0000,9,-999.0000,9,-999.0000,9,-999.0000,9,-999.0000,9,-999.0000,9,-999.0000,9,-999.0000,9,-999.0000,-999.000,   1.6684,     -999.0,     -999.0,9,     -999.0,9,     -999.0,9,     -999.0,9,     -999.0,20110413,       0248
320620110219,       S04P,     119,          1,         17,         17,2,20110413,       0132,   -67.0000,  -102.0310,       4728,  1300.0,   1.6481,  34.7320,2,  34.7329,2,    190.2,2,   190.8,2,   93.73,2,   31.48,2,    0.00,2,    2.18,2,   0.232,2,   0.107,2,   0.014,2,-999.0000,9,  -999.0,9,  -999.0,9,-999.0000,9,  -999.00,  -0.021,2,   1.9546,2,    9.56,2,   1.6479,2, -999.00,9,  -999.0,9,  -999.0,   8.355,2, -999.00,9,-999.000,9,   39.32,2,   34.13,2, -67.0000,-102.0310,   0.012,      0.043,    34.8967,2,     -999.0,9,     -999.0,9,-999.0000,9,-999.0000,9,-999.0000,9,-999.0000,9,-999.0000,9,-999.0000,9,-999.0000,9,-999.0000,9,-999.0000,9,   0.0094,    0.14,   1.5700,     -999.0,     -999.0,9,     -999.0,9,     -999.0,9,     -999.0,9,     -999.0,20110413,       0246
320620110219,       S04P,     119,          1,         16,         16,2,20110413,       0132,   -67.0000,  -102.0310,       4728,  1399.7,   1.5639,  34.7325,2,  34.7329,2,    191.7,2,   192.0,2,   96.26,2,   31.47,2,    0.00,2,    2.18,2,-999.000,9,-999.000,9,-999.000,9,-999.0000,9,  2254.2,2,  2354.5,2,   7.5996,2,    25.00,-999.000,9,-999.0000,9,-999.000,9,   1.5636,2, -999.00,9,  -999.0,9,  -999.0,-999.000,9, -999.00,9,-999.000,9,   39.09,2,   33.84,2, -67.0000,-102.0310,-999.000,     -999.0,    34.8967,2,     -999.0,9,     -999.0,9,-999.0000,9,-999.0000,9,-999.0000,9,-999.0000,9,-999.0000,9,-999.0000,9,-999.0000,9,-999.0000,9,-999.0000,9,-999.0000,-999.000,   1.4796,     -999.0,     -999.0,9,     -999.0,9,     -999.0,9,     -999.0,9,     -999.0,20110413,       0243
320620110219,       S04P,     119,          1,         15,         15,2,20110413,       0132,   -67.0000,  -102.0310,       4728,  1500.1,   1.4748,  34.7314,2,  34.7313,2,    193.3,2,   193.5,2,   99.46,2,   31.47,2,    0.00,2,    2.18,2,   0.202,2,   0.087,2,   0.011,2,-999.0000,9,  -999.0,9,  -999.0,9,-999.0000,9,  -999.00,  -0.020,2,   1.9152,2,    9.75,2,   1.4748,2, -999.00,9,  -999.0,9,  -999.0,   8.411,2, -999.00,9,-999.000,9,   39.27,2,   33.74,2, -67.0000,-102.0310,   0.012,      0.043,    34.8951,2,     -999.0,9,     -999.0,9,-999.0000,9,-999.0000,9,-999.0000,9,-999.0000,9,-999.0000,9,-999.0000,9,-999.0000,9,-999.0000,9,-999.0000,9,   0.0092,    0.14,   1.3842,     -999.0,     -999.0,9,     -999.0,9,     -999.0,9,     -999.0,9,     -999.0,20110413,       0241
320620110219,       S04P,     119,          1,         14,         14,2,20110413,       0132,   -67.0000,  -102.0310,       4728,  1600.8,   1.4098,  34.7301,2,  34.7301,2,    194.2,2,   193.9,2,  102.18,2,   31.51,2,    0.00,2,    2.18,2,-999.000,9,-999.000,9,-999.000,9,-999.0000,9,  2256.4,2,  2357.0,2,   7.6008,2,    25.00,-999.000,9,-999.0000,9,-999.000,9,   1.4096,2, -999.00,9,  -999.0,9,  -999.0,-999.000,9, -999.00,9,-999.000,9,   39.44,2,   34.24,2, -67.0000,-102.0310,-999.000,     -999.0,    34.8939,2,     -999.0,9,     -999.0,9,-999.0000,9,-999.0000,9,-999.0000,9,-999.0000,9,-999.0000,9,-999.0000,9,-999.0000,9,-999.0000,9,-999.0000,9,-999.0000,-999.000,   1.3127,     -999.0,     -999.0,9,     -999.0,9,     -999.0,9,     -999.0,9,     -999.0,20110413,       0238