BOTTLE,20220813CCHSIOAMB
EXPOCODE,SECT_ID,STNNBR,CASTNO,SAMPNO,BTLNBR,BTLNBR_FLAG_W,DATE,TIME,LATITUDE,LONGITUDE,DEPTH,CTDPRS,CTDTMP,CTDSAL,CTDSAL_FLAG_W,SALNTY,SALNTY_FLAG_W,CTDOXY,CTDOXY_FLAG_W,OXYGEN,OXYGEN_FLAG_W,SILCAT,SILCAT_FLAG_W,NITRAT,NITRAT_FLAG_W,NITRIT,NITRIT_FLAG_W,PHSPHT,PHSPHT_FLAG_W,CFC-11,CFC-11_FLAG_W,CFC-12,CFC-12_FLAG_W,CFC113,CFC113_FLAG_W,SF6,SF6_FLAG_W,TCARBN,TCARBN_FLAG_W,ALKALI,ALKALI_FLAG_W,PH_TOT,PH_TOT_FLAG_W,PH_TMP,TRITUM,TRITUM_FLAG_W,HELIUM,HELIUM_FLAG_W,DELHE3,DELHE3_FLAG_W,REFTMP,REFTMP_FLAG_W,DELC13,DELC13_FLAG_W,DELC14,DELC14_FLAG_W,C14ERR,NEON,NEON_FLAG_W,DELO18,DELO18_FLAG_W,POC,POC_FLAG_W,DOC,DOC_FLAG_W,TDN,TDN_FLAG_W,BTL_LAT,BTL_LON,TRITER,NEONER,SALTREF,SALTREF_FLAG_W,PIGMENTS,PIGMENTS_FLAG_W,LAB_DEN,LAB_DEN_FLAG_W,CDOM325,CDOM325_FLAG_W,CDOM340,CDOM340_FLAG_W,CDOM380,CDOM380_FLAG_W,CDOM412,CDOM412_FLAG_W,CDOM443,CDOM443_FLAG_W,CDOM490,CDOM490_FLAG_W,CDOM555,CDOM555_FLAG_W,CDOMSL,CDOMSL_FLAG_W,CDOMSN,CDOMSN_FLAG_W,HELIER,DELHER,THETA,LDEO_SAMPNO,ABSORBTION,ABSORBTION_FLAG_W,IMAGE_COUNT,IMAGE_COUNT_FLAG_W,CYTO_COUNT,CYTO_COUNT_FLAG_W,DELD,DELD_FLAG_W,DELDERR,BTL_DATE,BTL_TIME
,,,,,,,,,,,METERS,DBAR,ITS-90,PSS-78,,PSS-78,,UMOL/KG,,UMOL/KG,,UMOL/KG,,UMOL/KG,,UMOL/KG,,UMOL/KG,,PMOL/KG,,PMOL/KG,,PMOL/KG,,FMOL/KG,,UMOL/KG,,UMOL/KG,,,,DEG C,TU,,NMOL/KG,,PERCNT,,DEG C,,/MILLE,,/MILLE,,/MILLE,NMOL/KG,,/MILLE,,UG/KG,,UMOL/KG,,UMOL/KG,,,,TU,NMOL/KG,G/KG,,,,,,1/M,,1/M,,1/M,,1/M,,1/M,,1/M,,1/M,,1/NM,,1/NM,,NMOL/KG,PERCNT,DEG C,,,,,,,,/MILLE,,/MILLE,,
320620110219,       P18S,     118,          1,         13,         13,2,20110411,       1925,   -69.8157,   -99.4447,       4193,  1499.9,   1.2346,  34.7259,2,  34.7257,2,    195.5,2,   196.3,2,  106.17,2,   31.50,2,    0.00,2,    2.17,2,   0.131,2,   0.058,2,   0.007,2,   0.0940,2,  2258.1,2,  2360.6,2,   7.5971,2,    25.00,-999.000,9,-999.0000,9,-999.000,9,   1.2344,2, -999.00,9,  -999.0,9,  -999.0,-999.000,9, -999.00,9,-999.000,9, -999.00,9, -999.00,9, -69.8106, -99.4440,-999.000,     -999.0,    34.8894,2,     -999.0,9,     -999.0,9,   0.0671,3,   0.0293,3,  -0.0090,4,  -0.0158,4,  -0.0228,4,  -0.0180,4,  -0.0162,4,   0.0815,4,   0.0647,4,-999.0000,-999.000,   1.1469,     -999.0,     -999.0,9,     -999.0,9,     -999.0,9,     -999.0,9,     -999.0,20110411,       2020
320620110219,       P18S,     118,          1,         12,         12,2,20110411,       1925,   -69.8157,   -99.4447,       4193,  1600.3,   1.1789,  34.7241,2,  34.7241,2,    196.5,2,   196.6,2,  107.19,2,   31.55,2,    0.00,2,    2.18,2,-999.000,9,-999.000,9,-999.000,9,-999.0000,9,  -999.0,9,  -999.0,9,-999.0000,9,  -999.00,-999.000,9,-999.0000,9,-999.000,9,   1.1787,2, -999.00,9,  -999.0,9,  -999.0,-999.000,9, -999.00,9,-999.000,9, -999.00,9, -999.00,9, -69.8108, -99.4441,-999.000,     -999.0,    34.8878,2,     -999.0,9,     -999.0,9,-999.0000,9,-999.0000,9,-999.0000,9,-999.0000,9,-999.0000,9,-999.0000,9,-999.0000,9,-999.0000,9,-999.0000,9,-999.0000,-999.000,   1.0847,     -999.0,     -999.0,9,     -999.0,9,     -999.0,9,     -999.0,9,     -999.0,20110411,       2018
320620110219,       P18S,     118,          1,         11,         11,2,20110411,       1925,   -69.8157,   -99.4447,       4193,  1800.7,   1.0641,  34.7203,2,  34.7196,2,    198.4,2,   198.6,2,  111.68,2,   31.62,2,    0.00,2,    2.18,2,   0.126,2,   0.053,2,   0.006,2,   0.1000,2,  2260.7,6,  2362.0,2,   7.5993,2,    25.00,-999.000,9,-999.0000,9,-999.000,9,   1.0642,2, -999.00,9,  -999.0,9,  -999.0,-999.000,9, -999.00,9,-999.000,9, -999.00,9, -999.00,9, -69.8112, -99.4442,-999.000,     -999.0,    34.8833,2,     -999.0,9,     -999.0,9,-999.0000,9,-999.0000,9,-999.0000,9,-999.0000,9,-999.0000,9,-999.0000,9,-999.0000,9,-999.0000,9,-999.0000,9,-999.0000,-999.000,   0.9568,     -999.0,     -999.0,9,     -999.0,9,     -999.0,9,     -999.0,9,     -999.0,20110411,       2014
320620110219,       P18S,     118,          1,         10,         37,2,20110411,       1925,   -69.8157,   -99.4447,       4193,  2000.8,   0.9668,  34.7167,2,  34.7166,2,    200.6,2,   200.3,2,  114.37,2,   31.75,2,    0.00,2,    2.19,2,-999.000,9,-999.000,9,-999.000,9,-999.0000,9,  -999.0,9,  -999.0,9,-999.0000,9,  -999.00,-999.000,9,-999.0000,9,-999.000,9,   0.9668,2, -999.00,9,  -999.0,9,  -999.0,-999.000,9, -999.00,9,-999.000,9, -999.00,9, -999.00,9, -69.8116, -99.4443,-999.000,     -999.0,    34.8803,2,     -999.0,9,     -999.0,9,   0.0616,4,   0.0251,4,  -0.0111,4,  -0.0180,4,  -0.0243,4,  -0.0187,4,  -0.0165,4,   0.1050,4,   0.0700,4,-999.0000,-999.000,   0.8458,     -999.0,     -999.0,9,     -999.0,9,     -999.0,9,     -999.0,9,     -999.0,20110411,       2010
320620110219,       P18S,     118,          1,          9,          9,2,20110411,       1925,   -69.8157,   -99.4447,       4193,  2250.5,   0.8531,  34.7128,2,  34.7121,2,    202.3,2,   202.7,2,  119.14,2,   31.84,2,    0.00,2,    2.21,2,   0.180,2,   0.062,3,   0.006,2,   0.0990,2,  2260.9,2,  2362.7,2,   7.5997,2,    25.00,-999.000,9,-999.0000,9,-999.000,9,   0.8531,2, -999.00,9,  -999.0,9,  -999.0,-999.000,9, -999.00,9,-999.000,9, -999.00,9, -999.00,9, -69.8120, -99.4444,-999.000,     -999.0,    34.8758,2,     -999.0,9,     -999.0,9,-999.0000,9,-999.0000,9,-999.0000,9,-999.0000,9,-999.0000,9,-999.0000,9,-999.0000,9,-999.0000,9,-999.0000,9,-999.0000,-999.000,   0.7144,     -999.0,     -999.0,9,     -999.0,9,     -999.0,9,     -999.0,9,     -999.0,20110411,       2005
320620110219,       P18S,     118,          1,          8,          8,2,20110411,       1925,   -69.8157,   -99.4447,       4193,  2499.9,   0.7466,  34.7095,2,  34.7096,2,    204.8,2,   205.0,2,  122.74,2,   31.97,2,    0.00,2,    2.22,2,-999.000,9,-999.000,9,-999.000,9,-999.0000,9,  -999.0,9,  -999.0,9,-999.0000,9,  -999.00,-999.000,9,-999.0000,9,-999.000,9,   0.7464,2, -999.00,9,  -999.0,9,  -999.0,-999.000,9, -999.00,9,-999.000,9, -999.00,9, -999.00,9, -69.8124, -99.4445,-999.000,     -999.0,    34.8732,2,     -999.0,9,     -999.0,9,-999.0000,9,-999.0000,9,-999.0000,9,-999.0000,9,-999.0000,9,-999.0000,9,-999.0000,9,-999.0000,9,-999.0000,9,-999.0000,-999.000,   0.5896,     -999.0,     -999.0,9,     -999.0,9,     -999.0,9,     -999.0,9,     -999.0,20110411,       2000
320620110219,       P18S,     118,          1,          7,          7,2,20110411,       1925,   -69.8157,   -99.4447,       4193,  2750.6,   0.6418,  34.7067,2,  34.7060,2,    206.7,2,   206.7,2,  125.45,2,   32.07,2,    0.00,2,    2.22,2,   0.188,2,   0.085,2,   0.006,2,   0.1050,2,  2261.0,2,  2363.7,2,   7.5977,2,    25.00,-999.000,9,-999.0000,9,-999.000,9,   0.6416,2, -999.00,9,  -999.0,9,  -999.0,-999.000,9, -999.00,9,-999.000,9, -999.00,9, -999.00,9, -69.8129, -99.4445,-999.000,     -999.0,    34.8697,2,     -999.0,9,     -999.0,9,   0.0635,3,   0.0267,3,  -0.0120,4,  -0.0181,4,  -0.0247,4,  -0.0189,4,  -0.0166,4,   0.1007,4,   0.0681,4,-999.0000,-999.000,   0.4657,     -999.0,     -999.0,9,     -999.0,9,     -999.0,9,     -999.0,9,     -999.0,20110411,       1955
320620110219,       P18S,     118,          1,          6,          6,2,20110411,       1925,   -69.8157,   -99.4447,       4193,  2999.9,   0.5409,  34.7049,2,  34.7047,2,    208.7,2,   208.7,2,  128.68,2,   32.17,2,    0.00,2,    2.23,2,-999.000,9,-999.000,9,-999.000,9,-999.0000,9,  -999.0,9,  -999.0,9,-999.0000,9,  -999.00,-999.000,9,-999.0000,9,-999.000,9,   0.5408,2, -999.00,9,  -999.0,9,  -999.0,-999.000,9, -999.00,9,-999.000,9, -999.00,9, -999.00,9, -69.8133, -99.4446,-999.000,     -999.0,    34.8683,2,     -999.0,9,     -999.0,9,-999.0000,9,-999.0000,9,-999.0000,9,-999.0000,9,-999.0000,9,-999.0000,9,-999.0000,9,-999.0000,9,-999.0000,9,-999.0000,-999.000,   0.3452,     -999.0,     -999.0,9,     -999.0,9,     -999.0,9,     -999.0,9,     -999.0,20110411,       1950
320620110219,       P18S,     118,          1,          5,          5,2,20110411,       1925,   -69.8157,   -99.4447,       4193,  3300.7,   0.4652,  34.7040,2,  34.7041,2,    210.5,2,   211.0,2,  132.46,2,   32.20,2,    0.00,2,    2.24,2,   0.206,2,   0.083,2,   0.007,2,   0.0930,2,  -999.0,9,  -999.0,9,-999.0000,9,  -999.00,-999.000,9,-999.0000,9,-999.000,9,   0.4650,2, -999.00,9,  -999.0,9,  -999.0,-999.000,9, -999.00,9,-999.000,9, -999.00,9, -999.00,9, -69.8139, -99.4446,-999.000,     -999.0,    34.8677,2,     -999.0,9,     -999.0,9,-999.0000,9,-999.0000,9,-999.0000,9,-999.0000,9,-999.0000,9,-999.0000,9,-999.0000,9,-999.0000,9,-999.0000,9,-999.0000,-999.000,   0.2439,     -999.0,     -999.0,9,     -999.0,9,     -999.0,9,     -999.0,9,     -999.0,20110411,       1944
320620110219,       P18S,     118,          1,          4,          4,2,20110411,       1925,   -69.8157,   -99.4447,       4193,  3600.4,   0.4185,  34.7035,2,  34.7029,2,    211.9,2,   211.6,2,  135.56,2,   32.34,2,    0.00,2,    2.23,2,   0.220,2,   0.100,2,   0.008,2,   0.0950,2,  2261.2,2,  2364.2,6,   7.5966,2,    25.00,-999.000,9,-999.0000,9,-999.000,9,   0.4182,2, -999.00,9,  -999.0,9,  -999.0,-999.000,9, -999.00,9,-999.000,9, -999.00,9, -999.00,9, -69.8144, -99.4447,-999.000,     -999.0,    34.8665,2,     -999.0,9,     -999.0,9,   0.0582,3,   0.0224,3,  -0.0119,4,  -0.0192,4,  -0.0252,4,  -0.0192,4,  -0.0168,4,   0.1049,4,   0.0734,4,-999.0000,-999.000,   0.1700,     -999.0,     -999.0,9,     -999.0,9,     -999.0,9,     -999.0,9,     -999.0,20110411,       1938
320620110219,       P18S,     118,          1,          3,          3,2,20110411,       1925,   -69.8157,   -99.4447,       4193,  3900.8,   0.3854,  34.7026,2,  34.7019,2,    213.3,2,   213.3,2,  136.32,2,   32.42,2,    0.00,2,    2.24,2,   0.272,2,   0.125,2,   0.010,2,   0.0890,2,  2261.3,2,  2362.8,2,   7.5967,2,    25.00,-999.000,9,-999.0000,9,-999.000,9,   0.3852,2, -999.00,9,  -999.0,9,  -999.0,-999.000,9, -999.00,9,-999.000,9, -999.00,9, -999.00,9, -69.8149, -99.4447,-999.000,     -999.0,    34.8656,2,     -999.0,9,     -999.0,9,-999.0000,9,-999.0000,9,-999.0000,9,-999.0000,9,-999.0000,9,-999.0000,9,-999.0000,9,-999.0000,9,-999.0000,9,-999.0000,-999.000,   0.1081,     -999.0,     -999.0,9,     -999.0,9,     -999.0,9,     -999.0,9,     -999.0,20110411,       1932
320620110219,       P18S,     118,          1,          2,          2,2,20110411,       1925,   -69.8157,   -99.4447,       4193,  4099.7,   0.3717,  34.7020,2,  34.7019,2,    213.6,2,   213.4,2,  139.48,2,   32.56,2,    0.00,2,    2.24,2,   0.311,2,   0.148,2,   0.014,2,   0.0990,2,  2261.8,2,  2364.4,2,   7.5949,6,    25.00,-999.000,9,-999.0000,9,-999.000,9,   0.3714,2, -999.00,9,  -999.0,9,  -999.0,-999.000,9, -999.00,9,-999.000,9, -999.00,9, -999.00,9, -69.8153, -99.4447,-999.000,     -999.0,    34.8656,2,     -999.0,9,     -999.0,9,-999.0000,9,-999.0000,9,-999.0000,9,-999.0000,9,-999.0000,9,-999.0000,9,-999.0000,9,-999.0000,9,-999.0000,9,-999.0000,-999.000,   0.0744,     -999.0,     -999.0,9,     -999.0,9,     -999.0,9,     -999.0,9,     -999.0,20110411,       1928
320620110219,       P18S,     118,          1,          1,          1,2,20110411,       1925,   -69.8157,   -99.4447,       4193,  4266.4,   0.3612,  34.7011,2,  34.7013,2,    213.0,2,   213.1,2,  144.90,2,   32.72,2,    0.00,2,    2.24,2,   0.409,2,   0.190,2,   0.015,2,   0.1200,2,  2265.2,6,  2365.6,2,   7.5932,2,    25.00,-999.000,9,-999.0000,9,-999.000,9,   0.3609,2, -999.00,9,  -999.0,9,  -999.0,-999.000,9, -999.00,9,-999.000,9, -999.00,9, -999.00,9, -69.8157, -99.4447,-999.000,     -999.0,    34.8650,2,     -999.0,9,     -999.0,9,   0.0604,3,   0.0243,3,  -0.0112,4,  -0.0185,4,  -0.0248,4,  -0.0191,4,  -0.0168,4,   0.1069,4,   0.0710,4,-999.0000,-999.000,   0.0468,     -999.0,     -999.0,9,     -999.0,9,     -999.0,9,     -999.0,9,     -999.0,20110411,       1925