BOTTLE,20220813CCHSIOAMB
EXPOCODE,SECT_ID,STNNBR,CASTNO,SAMPNO,BTLNBR,BTLNBR_FLAG_W,DATE,TIME,LATITUDE,LONGITUDE,DEPTH,CTDPRS,CTDTMP,CTDSAL,CTDSAL_FLAG_W,SALNTY,SALNTY_FLAG_W,CTDOXY,CTDOXY_FLAG_W,OXYGEN,OXYGEN_FLAG_W,SILCAT,SILCAT_FLAG_W,NITRAT,NITRAT_FLAG_W,NITRIT,NITRIT_FLAG_W,PHSPHT,PHSPHT_FLAG_W,CFC-11,CFC-11_FLAG_W,CFC-12,CFC-12_FLAG_W,CFC113,CFC113_FLAG_W,SF6,SF6_FLAG_W,TCARBN,TCARBN_FLAG_W,ALKALI,ALKALI_FLAG_W,PH_TOT,PH_TOT_FLAG_W,PH_TMP,TRITUM,TRITUM_FLAG_W,HELIUM,HELIUM_FLAG_W,DELHE3,DELHE3_FLAG_W,REFTMP,REFTMP_FLAG_W,DELC13,DELC13_FLAG_W,DELC14,DELC14_FLAG_W,C14ERR,NEON,NEON_FLAG_W,DELO18,DELO18_FLAG_W,POC,POC_FLAG_W,DOC,DOC_FLAG_W,TDN,TDN_FLAG_W,BTL_LAT,BTL_LON,TRITER,NEONER,SALTREF,SALTREF_FLAG_W,PIGMENTS,PIGMENTS_FLAG_W,LAB_DEN,LAB_DEN_FLAG_W,CDOM325,CDOM325_FLAG_W,CDOM340,CDOM340_FLAG_W,CDOM380,CDOM380_FLAG_W,CDOM412,CDOM412_FLAG_W,CDOM443,CDOM443_FLAG_W,CDOM490,CDOM490_FLAG_W,CDOM555,CDOM555_FLAG_W,CDOMSL,CDOMSL_FLAG_W,CDOMSN,CDOMSN_FLAG_W,HELIER,DELHER,THETA,LDEO_SAMPNO,ABSORBTION,ABSORBTION_FLAG_W,IMAGE_COUNT,IMAGE_COUNT_FLAG_W,CYTO_COUNT,CYTO_COUNT_FLAG_W,DELD,DELD_FLAG_W,DELDERR,BTL_DATE,BTL_TIME
,,,,,,,,,,,METERS,DBAR,ITS-90,PSS-78,,PSS-78,,UMOL/KG,,UMOL/KG,,UMOL/KG,,UMOL/KG,,UMOL/KG,,UMOL/KG,,PMOL/KG,,PMOL/KG,,PMOL/KG,,FMOL/KG,,UMOL/KG,,UMOL/KG,,,,DEG C,TU,,NMOL/KG,,PERCNT,,DEG C,,/MILLE,,/MILLE,,/MILLE,NMOL/KG,,/MILLE,,UG/KG,,UMOL/KG,,UMOL/KG,,,,TU,NMOL/KG,G/KG,,,,,,1/M,,1/M,,1/M,,1/M,,1/M,,1/M,,1/M,,1/NM,,1/NM,,NMOL/KG,PERCNT,DEG C,,,,,,,,/MILLE,,/MILLE,,
320620110219,       P16S,      63,          1,         36,         36,2,20110316,       1722,   -75.4537,  -150.0680,       3306,     5.0,  -1.7870,  33.3833,2,  33.3839,2,    347.7,2,   351.6,2,   48.24,2,   21.42,2,    0.17,2,    1.35,2,   6.114,2,   3.350,2,   0.587,2,-999.0000,9,  2128.6,6,  2269.0,2,   7.7279,2,    25.00,-999.000,9,-999.0000,9,-999.000,9,  -1.7889,2, -999.00,9,  -999.0,9,  -999.0,-999.000,9, -999.00,9,-999.000,9, -999.00,9, -999.00,9, -75.4549,-150.1317,-999.000,     -999.0,    33.5413,2,     -999.0,9,     -999.0,9,-999.0000,9,-999.0000,9,-999.0000,9,-999.0000,9,-999.0000,9,-999.0000,9,-999.0000,9,-999.0000,9,-999.0000,9,-999.0000,-999.000,  -1.7871,     -999.0,     -999.0,9,     -999.0,9,     -999.0,9,     -999.0,9,     -999.0,20110316,       1857
320620110219,       P16S,      63,          1,         35,         35,2,20110316,       1722,   -75.4537,  -150.0680,       3306,    24.7,  -1.7893,  33.3882,2,  33.3918,2,    351.1,2,   350.0,2,   49.53,2,   21.56,2,    0.17,2,    1.40,2,   6.079,2,   3.333,2,   0.587,2,-999.0000,9,  2132.1,2,  2270.2,2,   7.7255,2,    25.00,-999.000,9,-999.0000,9,-999.000,9,  -1.7896,2, -999.00,9,  -999.0,9,  -999.0,-999.000,9, -999.00,9,-999.000,9, -999.00,9, -999.00,9, -75.4550,-150.1310,-999.000,     -999.0,    33.5493,2,     -999.0,9,     -999.0,9,-999.0000,9,-999.0000,9,-999.0000,9,-999.0000,9,-999.0000,9,-999.0000,9,-999.0000,9,-999.0000,9,-999.0000,9,-999.0000,-999.000,  -1.7897,     -999.0,     -999.0,9,     -999.0,9,     -999.0,9,     -999.0,9,     -999.0,20110316,       1856
320620110219,       P16S,      63,          1,         34,         34,2,20110316,       1722,   -75.4537,  -150.0680,       3306,    50.1,  -1.6934,  33.6651,2,  33.6555,2,    332.0,2,   318.0,2,   71.53,2,   25.56,2,    0.13,2,    1.83,2,   5.003,2,   2.742,2,   0.467,2,-999.0000,9,  2171.3,2,  2286.7,2,   7.6609,6,    25.00,-999.000,9,-999.0000,9,-999.000,9,  -1.6923,2, -999.00,9,  -999.0,9,  -999.0,-999.000,9, -999.00,9,-999.000,9, -999.00,9, -999.00,9, -75.4550,-150.1300,-999.000,     -999.0,    33.8142,2,     -999.0,9,     -999.0,9,-999.0000,9,-999.0000,9,-999.0000,9,-999.0000,9,-999.0000,9,-999.0000,9,-999.0000,9,-999.0000,9,-999.0000,9,-999.0000,-999.000,  -1.6944,     -999.0,     -999.0,9,     -999.0,9,     -999.0,9,     -999.0,9,     -999.0,20110316,       1854
320620110219,       P16S,      63,          1,         33,         33,2,20110316,       1722,   -75.4537,  -150.0680,       3306,    75.0,  -1.6352,  33.9805,2,  33.9829,2,    294.9,2,   295.3,2,   77.73,2,   28.90,2,    0.13,2,    2.12,2,   4.337,2,   2.377,2,   0.402,2,-999.0000,9,  2204.5,2,  2304.1,2,   7.6078,2,    25.00,-999.000,9,-999.0000,9,-999.000,9,  -1.6341,2, -999.00,9,  -999.0,9,  -999.0,-999.000,9, -999.00,9,-999.000,9, -999.00,9, -999.00,9, -75.4549,-150.1287,-999.000,     -999.0,    34.1431,2,     -999.0,9,     -999.0,9,-999.0000,9,-999.0000,9,-999.0000,9,-999.0000,9,-999.0000,9,-999.0000,9,-999.0000,9,-999.0000,9,-999.0000,9,-999.0000,-999.000,  -1.6367,     -999.0,     -999.0,9,     -999.0,9,     -999.0,9,     -999.0,9,     -999.0,20110316,       1853
320620110219,       P16S,      63,          1,         32,         32,2,20110316,       1722,   -75.4537,  -150.0680,       3306,   100.1,  -1.6852,  34.0334,2,  34.0349,2,    286.6,2,   292.9,2,   78.09,2,   29.05,2,    0.14,2,    2.12,2,   4.321,2,   2.382,2,   0.404,2,-999.0000,9,  2208.8,2,  2306.9,2,   7.6062,2,    25.00,-999.000,9,-999.0000,9,-999.000,9,  -1.6850,2, -999.00,9,  -999.0,9,  -999.0,-999.000,9, -999.00,9,-999.000,9, -999.00,9, -999.00,9, -75.4548,-150.1276,-999.000,     -999.0,    34.1954,2,     -999.0,9,     -999.0,9,-999.0000,9,-999.0000,9,-999.0000,9,-999.0000,9,-999.0000,9,-999.0000,9,-999.0000,9,-999.0000,9,-999.0000,9,-999.0000,-999.000,  -1.6872,     -999.0,     -999.0,9,     -999.0,9,     -999.0,9,     -999.0,9,     -999.0,20110316,       1851
320620110219,       P16S,      63,          1,         31,         31,2,20110316,       1722,   -75.4537,  -150.0680,       3306,   124.5,  -1.7306,  34.0670,2,  34.0628,2,    288.7,2,   288.5,2,   81.17,2,   29.62,2,    0.15,2,    2.11,2,-999.000,9,-999.000,9,-999.000,9,-999.0000,9,  2211.1,2,  2309.5,2,   7.6005,2,    25.00,-999.000,9,-999.0000,9,-999.000,9,  -1.7327,2, -999.00,9,  -999.0,9,  -999.0,-999.000,9, -999.00,9,-999.000,9, -999.00,9, -999.00,9, -75.4548,-150.1268,-999.000,     -999.0,    34.2235,2,     -999.0,9,     -999.0,9,-999.0000,9,-999.0000,9,-999.0000,9,-999.0000,9,-999.0000,9,-999.0000,9,-999.0000,9,-999.0000,9,-999.0000,9,-999.0000,-999.000,  -1.7331,     -999.0,     -999.0,9,     -999.0,9,     -999.0,9,     -999.0,9,     -999.0,20110316,       1850
320620110219,       P16S,      63,          1,         30,         30,2,20110316,       1722,   -75.4537,  -150.0680,       3306,   150.0,  -1.7337,  34.0834,2,  34.0826,2,    285.0,2,   286.0,2,   81.69,2,   29.78,2,    0.17,2,    2.12,2,   4.151,2,   2.282,2,   0.392,2,-999.0000,9,  2212.6,2,  2310.0,2,   7.5985,2,    25.00,-999.000,9,-999.0000,9,-999.000,9,  -1.7340,2, -999.00,9,  -999.0,9,  -999.0,-999.000,9, -999.00,9,-999.000,9, -999.00,9, -999.00,9, -75.4549,-150.1261,-999.000,     -999.0,    34.2433,2,     -999.0,9,     -999.0,9,-999.0000,9,-999.0000,9,-999.0000,9,-999.0000,9,-999.0000,9,-999.0000,9,-999.0000,9,-999.0000,9,-999.0000,9,-999.0000,-999.000,  -1.7368,     -999.0,     -999.0,9,     -999.0,9,     -999.0,9,     -999.0,9,     -999.0,20110316,       1849
320620110219,       P16S,      63,          1,         29,         29,2,20110316,       1722,   -75.4537,  -150.0680,       3306,   200.3,  -1.6714,  34.1121,2,  34.1139,2,    278.7,2,   279.3,2,   82.13,2,   30.25,2,    0.03,2,    2.14,2,-999.000,9,-999.000,9,-999.000,9,-999.0000,9,  2214.8,2,  2310.6,2,   7.5916,2,    25.00,-999.000,9,-999.0000,9,-999.000,9,  -1.6709,2, -999.00,9,  -999.0,9,  -999.0,-999.000,9, -999.00,9,-999.000,9, -999.00,9, -999.00,9, -75.4549,-150.1251,-999.000,     -999.0,    34.2747,2,     -999.0,9,     -999.0,9,-999.0000,9,-999.0000,9,-999.0000,9,-999.0000,9,-999.0000,9,-999.0000,9,-999.0000,9,-999.0000,9,-999.0000,9,-999.0000,-999.000,  -1.6757,     -999.0,     -999.0,9,     -999.0,9,     -999.0,9,     -999.0,9,     -999.0,20110316,       1847
320620110219,       P16S,      63,          1,         28,         28,2,20110316,       1722,   -75.4537,  -150.0680,       3306,   249.9,  -1.4237,  34.1519,2,  34.1508,2,    273.3,2,   270.0,2,   81.66,2,   30.56,2,    0.01,2,    2.17,2,   3.701,2,   2.016,2,   0.342,2,-999.0000,9,  2218.9,2,  2313.8,2,   7.5892,2,    25.00,-999.000,9,-999.0000,9,-999.000,9,  -1.4239,2, -999.00,9,  -999.0,9,  -999.0,-999.000,9, -999.00,9,-999.000,9, -999.00,9, -999.00,9, -75.4549,-150.1236,-999.000,     -999.0,    34.3119,2,     -999.0,9,     -999.0,9,-999.0000,9,-999.0000,9,-999.0000,9,-999.0000,9,-999.0000,9,-999.0000,9,-999.0000,9,-999.0000,9,-999.0000,9,-999.0000,-999.000,  -1.4298,     -999.0,     -999.0,9,     -999.0,9,     -999.0,9,     -999.0,9,     -999.0,20110316,       1845
320620110219,       P16S,      63,          1,         27,         27,2,20110316,       1722,   -75.4537,  -150.0680,       3306,   300.8,  -0.7484,  34.2486,2,  34.2472,2,    258.3,2,   248.7,2,   82.92,2,   31.12,2,    0.01,2,    2.21,2,-999.000,9,-999.000,9,-999.000,9,-999.0000,9,  2225.9,2,  2317.2,2,   7.5799,2,    25.00,-999.000,9,-999.0000,9,-999.000,9,  -0.7483,2, -999.00,9,  -999.0,9,  -999.0,-999.000,9, -999.00,9,-999.000,9, -999.00,9, -999.00,9, -75.4548,-150.1221,-999.000,     -999.0,    34.4087,2,     -999.0,9,     -999.0,9,-999.0000,9,-999.0000,9,-999.0000,9,-999.0000,9,-999.0000,9,-999.0000,9,-999.0000,9,-999.0000,9,-999.0000,9,-999.0000,-999.000,  -0.7577,     -999.0,     -999.0,9,     -999.0,9,     -999.0,9,     -999.0,9,     -999.0,20110316,       1843
320620110219,       P16S,      63,          1,         26,         26,2,20110316,       1722,   -75.4537,  -150.0680,       3306,   350.7,   0.2917,  34.4196,2,  34.4201,2,    230.4,2,   218.1,2,   84.48,2,   31.87,2,    0.01,2,    2.26,2,   1.993,2,   1.081,2,   0.175,2,-999.0000,9,  2239.0,2,  2326.8,2,   7.5681,2,    25.00,-999.000,9,-999.0000,9,-999.000,9,   0.2910,2, -999.00,9,  -999.0,9,  -999.0,-999.000,9, -999.00,9,-999.000,9, -999.00,9, -999.00,9, -75.4548,-150.1206,-999.000,     -999.0,    34.5824,2,     -999.0,9,     -999.0,9,-999.0000,9,-999.0000,9,-999.0000,9,-999.0000,9,-999.0000,9,-999.0000,9,-999.0000,9,-999.0000,9,-999.0000,9,-999.0000,-999.000,   0.2775,     -999.0,     -999.0,9,     -999.0,9,     -999.0,9,     -999.0,9,     -999.0,20110316,       1841
320620110219,       P16S,      63,          1,         25,         25,2,20110316,       1722,   -75.4537,  -150.0680,       3306,   399.5,   1.5982,  34.6730,2,  34.6746,2,    187.2,2,   184.1,2,   88.59,2,   32.11,2,    0.00,2,    2.27,2,-999.000,9,-999.000,9,-999.000,9,-999.0000,9,  2254.1,2,  2341.9,2,   7.5680,2,    25.00,-999.000,9,-999.0000,9,-999.000,9,   1.5965,2, -999.00,9,  -999.0,9,  -999.0,-999.000,9, -999.00,9,-999.000,9, -999.00,9, -999.00,9, -75.4546,-150.1189,-999.000,     -999.0,    34.8381,2,     -999.0,9,     -999.0,9,-999.0000,9,-999.0000,9,-999.0000,9,-999.0000,9,-999.0000,9,-999.0000,9,-999.0000,9,-999.0000,9,-999.0000,9,-999.0000,-999.000,   1.5774,     -999.0,     -999.0,9,     -999.0,9,     -999.0,9,     -999.0,9,     -999.0,20110316,       1839
320620110219,       P16S,      63,          1,         24,         24,2,20110316,       1722,   -75.4537,  -150.0680,       3306,   450.0,   1.6569,  34.7012,2,  34.7023,2,    184.0,2,   184.4,2,   90.44,2,   32.02,2,    0.00,2,    2.24,2,   0.399,2,   0.198,2,   0.032,2,-999.0000,9,  2255.2,2,  2344.4,2,   7.5739,2,    25.00,-999.000,9,-999.0000,9,-999.000,9,   1.6565,2, -999.00,9,  -999.0,9,  -999.0,-999.000,9, -999.00,9,-999.000,9, -999.00,9, -999.00,9, -75.4543,-150.1171,-999.000,     -999.0,    34.8659,2,     -999.0,9,     -999.0,9,-999.0000,9,-999.0000,9,-999.0000,9,-999.0000,9,-999.0000,9,-999.0000,9,-999.0000,9,-999.0000,9,-999.0000,9,-999.0000,-999.000,   1.6330,     -999.0,     -999.0,9,     -999.0,9,     -999.0,9,     -999.0,9,     -999.0,20110316,       1837
320620110219,       P16S,      63,          1,         23,         23,2,20110316,       1722,   -75.4537,  -150.0680,       3306,   500.1,   1.6230,  34.7192,2,  34.7191,2,    185.5,2,   184.7,2,   93.16,2,   31.86,2,    0.00,2,    2.24,2,-999.000,9,-999.000,9,-999.000,9,-999.0000,9,  2255.4,2,  2347.3,2,   7.5785,6,    25.00,-999.000,9,-999.0000,9,-999.000,9,   1.6231,2, -999.00,9,  -999.0,9,  -999.0,-999.000,9, -999.00,9,-999.000,9, -999.00,9, -999.00,9, -75.4542,-150.1159,-999.000,     -999.0,    34.8829,2,     -999.0,9,     -999.0,9,-999.0000,9,-999.0000,9,-999.0000,9,-999.0000,9,-999.0000,9,-999.0000,9,-999.0000,9,-999.0000,9,-999.0000,9,-999.0000,-999.000,   1.5964,     -999.0,     -999.0,9,     -999.0,9,     -999.0,9,     -999.0,9,     -999.0,20110316,       1836
320620110219,       P16S,      63,          1,         22,         22,2,20110316,       1722,   -75.4537,  -150.0680,       3306,   600.8,   1.4848,  34.7287,2,  34.7283,2,    187.2,2,   188.2,2,   97.69,2,   31.83,2,    0.00,2,    2.24,2,   0.215,2,   0.101,2,   0.015,2,-999.0000,9,  -999.0,9,  -999.0,9,-999.0000,9,  -999.00,-999.000,9,-999.0000,9,-999.000,9,   1.4846,2, -999.00,9,  -999.0,9,  -999.0,-999.000,9, -999.00,9,-999.000,9, -999.00,9, -999.00,9, -75.4543,-150.1147,-999.000,     -999.0,    34.8921,2,     -999.0,9,     -999.0,9,-999.0000,9,-999.0000,9,-999.0000,9,-999.0000,9,-999.0000,9,-999.0000,9,-999.0000,9,-999.0000,9,-999.0000,9,-999.0000,-999.000,   1.4530,     -999.0,     -999.0,9,     -999.0,9,     -999.0,9,     -999.0,9,     -999.0,20110316,       1833
320620110219,       P16S,      63,          1,         21,         21,2,20110316,       1722,   -75.4537,  -150.0680,       3306,   700.0,   1.3952,  34.7298,2,  34.7293,2,    188.9,2,   189.4,2,  101.20,2,   31.92,2,    0.00,2,    2.25,2,-999.000,9,-999.000,9,-999.000,9,-999.0000,9,  2258.0,6,  2351.7,2,   7.5862,2,    25.00,-999.000,9,-999.0000,9,-999.000,9,   1.3949,2, -999.00,9,  -999.0,9,  -999.0,-999.000,9, -999.00,9,-999.000,9, -999.00,9, -999.00,9, -75.4542,-150.1128,-999.000,     -999.0,    34.8931,2,     -999.0,9,     -999.0,9,-999.0000,9,-999.0000,9,-999.0000,9,-999.0000,9,-999.0000,9,-999.0000,9,-999.0000,9,-999.0000,9,-999.0000,9,-999.0000,-999.000,   1.3580,     -999.0,     -999.0,9,     -999.0,9,     -999.0,9,     -999.0,9,     -999.0,20110316,       1830
320620110219,       P16S,      63,          1,         20,         20,2,20110316,       1722,   -75.4537,  -150.0680,       3306,   800.3,   1.2919,  34.7285,2,  34.7281,2,    190.8,2,   190.6,2,  104.64,2,   31.95,2,    0.00,2,    2.24,2,   0.149,2,   0.076,2,   0.009,2,-999.0000,9,  -999.0,9,  -999.0,9,-999.0000,9,  -999.00,-999.000,9,-999.0000,9,-999.000,9,   1.2912,2, -999.00,9,  -999.0,9,  -999.0,-999.000,9, -999.00,9,-999.000,9, -999.00,9, -999.00,9, -75.4541,-150.1108,-999.000,     -999.0,    34.8919,2,     -999.0,9,     -999.0,9,-999.0000,9,-999.0000,9,-999.0000,9,-999.0000,9,-999.0000,9,-999.0000,9,-999.0000,9,-999.0000,9,-999.0000,9,-999.0000,-999.000,   1.2494,     -999.0,     -999.0,9,     -999.0,9,     -999.0,9,     -999.0,9,     -999.0,20110316,       1827
320620110219,       P16S,      63,          1,         19,         19,2,20110316,       1722,   -75.4537,  -150.0680,       3306,   899.7,   1.2200,  34.7272,2,  34.7275,2,    192.9,2,   192.8,2,  106.87,2,   32.03,2,    0.00,2,    2.25,2,-999.000,9,-999.000,9,-999.000,9,-999.0000,9,  2258.7,2,  2356.5,6,   7.5887,2,    25.00,-999.000,9,-999.0000,9,-999.000,9,   1.2197,2, -999.00,9,  -999.0,9,  -999.0,-999.000,9,   -0.25,2,-999.000,9, -999.00,9, -999.00,9, -75.4540,-150.1090,-999.000,     -999.0,    34.8913,2,     -999.0,9,     -999.0,9,-999.0000,9,-999.0000,9,-999.0000,9,-999.0000,9,-999.0000,9,-999.0000,9,-999.0000,9,-999.0000,9,-999.0000,9,-999.0000,-999.000,   1.1720,     -999.0,     -999.0,9,     -999.0,9,     -999.0,9,      -4.55,2,       0.02,20110316,       1825
320620110219,       P16S,      63,          1,         18,         18,2,20110316,       1722,   -75.4537,  -150.0680,       3306,  1000.6,   1.1073,  34.7232,2,  34.7238,2,    194.6,2,   195.1,2,  110.79,2,   32.02,2,    0.00,2,    2.25,2,   0.099,2,   0.050,2,   0.007,2,-999.0000,9,  -999.0,9,  -999.0,9,-999.0000,9,  -999.00,-999.000,9,-999.0000,9,-999.000,9,   1.1070,2, -999.00,9,  -999.0,9,  -999.0,-999.000,9,   -0.56,2,-999.000,9, -999.00,9, -999.00,9, -75.4540,-150.1073,-999.000,     -999.0,    34.8875,2,     -999.0,9,     -999.0,9,-999.0000,9,-999.0000,9,-999.0000,9,-999.0000,9,-999.0000,9,-999.0000,9,-999.0000,9,-999.0000,9,-999.0000,9,-999.0000,-999.000,   1.0540,     -999.0,     -999.0,9,     -999.0,9,     -999.0,9,      -5.78,3,       0.10,20110316,       1822
320620110219,       P16S,      63,          1,         17,         17,2,20110316,       1722,   -75.4537,  -150.0680,       3306,  1099.9,   1.0322,  34.7210,2,  34.7210,2,    196.3,2,   196.6,2,  113.15,2,   32.11,2,    0.00,2,    2.25,2,-999.000,9,-999.000,9,-999.000,9,-999.0000,9,  2259.5,2,  2356.7,2,   7.5921,2,    25.00,-999.000,9,-999.0000,9,-999.000,9,   1.0320,2, -999.00,9,  -999.0,9,  -999.0,-999.000,9,   -0.09,2,-999.000,9, -999.00,9, -999.00,9, -75.4540,-150.1052,-999.000,     -999.0,    34.8847,2,     -999.0,9,     -999.0,9,-999.0000,9,-999.0000,9,-999.0000,9,-999.0000,9,-999.0000,9,-999.0000,9,-999.0000,9,-999.0000,9,-999.0000,9,-999.0000,-999.000,   0.9733,     -999.0,     -999.0,9,     -999.0,9,     -999.0,9,      -4.69,2,       0.08,20110316,       1819
320620110219,       P16S,      63,          1,         16,         16,2,20110316,       1722,   -75.4537,  -150.0680,       3306,  1199.1,   0.9698,  34.7188,2,  34.7147,3,    197.8,2,   198.2,2,  115.08,2,   32.13,2,    0.00,2,    2.26,2,   0.086,2,   0.047,2,   0.006,2,-999.0000,9,  -999.0,9,  -999.0,9,-999.0000,9,  -999.00,-999.000,9,-999.0000,9,-999.000,9,   0.9697,2, -999.00,9,  -999.0,9,  -999.0,-999.000,9,   -0.51,2,-999.000,9, -999.00,9, -999.00,9, -75.4538,-150.1029,-999.000,     -999.0,    34.8784,3,     -999.0,9,     -999.0,9,-999.0000,9,-999.0000,9,-999.0000,9,-999.0000,9,-999.0000,9,-999.0000,9,-999.0000,9,-999.0000,9,-999.0000,9,-999.0000,-999.000,   0.9052,     -999.0,     -999.0,9,     -999.0,9,     -999.0,9,      -5.61,3,       0.06,20110316,       1816
320620110219,       P16S,      63,          1,         15,         15,2,20110316,       1722,   -75.4537,  -150.0680,       3306,  1302.1,   0.9220,  34.7171,2,  34.7171,2,    199.4,2,   199.0,2,  116.28,2,   32.25,2,    0.00,2,    2.26,2,-999.000,9,-999.000,9,-999.000,9,-999.0000,9,  -999.0,9,  -999.0,9,-999.0000,9,  -999.00,-999.000,9,-999.0000,9,-999.000,9,   0.9217,2, -999.00,9,  -999.0,9,  -999.0,-999.000,9,    0.60,3,-999.000,9, -999.00,9, -999.00,9, -75.4538,-150.1013,-999.000,     -999.0,    34.8808,2,     -999.0,9,     -999.0,9,-999.0000,9,-999.0000,9,-999.0000,9,-999.0000,9,-999.0000,9,-999.0000,9,-999.0000,9,-999.0000,9,-999.0000,9,-999.0000,-999.000,   0.8512,     -999.0,     -999.0,9,     -999.0,9,     -999.0,9,      -3.55,2,       0.13,20110316,       1813
320620110219,       P16S,      63,          1,         14,         14,2,20110316,       1722,   -75.4537,  -150.0680,       3306,  1399.4,   0.8745,  34.7152,2,  34.7143,2,    200.6,2,   200.3,2,  117.65,2,   32.24,2,    0.00,2,    2.26,2,   0.093,2,   0.046,2,   0.005,2,-999.0000,9,  2259.8,2,  2358.7,2,   7.5954,2,    25.00,-999.000,9,-999.0000,9,-999.000,9,   0.8743,2, -999.00,9,  -999.0,9,  -999.0,-999.000,9,    0.05,2,-999.000,9, -999.00,9, -999.00,9, -75.4540,-150.1003,-999.000,     -999.0,    34.8780,2,     -999.0,9,     -999.0,9,-999.0000,9,-999.0000,9,-999.0000,9,-999.0000,9,-999.0000,9,-999.0000,9,-999.0000,9,-999.0000,9,-999.0000,9,-999.0000,-999.000,   0.7978,     -999.0,     -999.0,9,     -999.0,9,     -999.0,9,      -2.45,2,       0.12,20110316,       1811