BOTTLE,20220813CCHSIOAMB
EXPOCODE,SECT_ID,STNNBR,CASTNO,SAMPNO,BTLNBR,BTLNBR_FLAG_W,DATE,TIME,LATITUDE,LONGITUDE,DEPTH,CTDPRS,CTDTMP,CTDSAL,CTDSAL_FLAG_W,SALNTY,SALNTY_FLAG_W,CTDOXY,CTDOXY_FLAG_W,OXYGEN,OXYGEN_FLAG_W,SILCAT,SILCAT_FLAG_W,NITRAT,NITRAT_FLAG_W,NITRIT,NITRIT_FLAG_W,PHSPHT,PHSPHT_FLAG_W,CFC-11,CFC-11_FLAG_W,CFC-12,CFC-12_FLAG_W,CFC113,CFC113_FLAG_W,SF6,SF6_FLAG_W,TCARBN,TCARBN_FLAG_W,ALKALI,ALKALI_FLAG_W,PH_TOT,PH_TOT_FLAG_W,PH_TMP,TRITUM,TRITUM_FLAG_W,HELIUM,HELIUM_FLAG_W,DELHE3,DELHE3_FLAG_W,REFTMP,REFTMP_FLAG_W,DELC13,DELC13_FLAG_W,DELC14,DELC14_FLAG_W,C14ERR,NEON,NEON_FLAG_W,DELO18,DELO18_FLAG_W,POC,POC_FLAG_W,DOC,DOC_FLAG_W,TDN,TDN_FLAG_W,BTL_LAT,BTL_LON,TRITER,NEONER,SALTREF,SALTREF_FLAG_W,PIGMENTS,PIGMENTS_FLAG_W,LAB_DEN,LAB_DEN_FLAG_W,CDOM325,CDOM325_FLAG_W,CDOM340,CDOM340_FLAG_W,CDOM380,CDOM380_FLAG_W,CDOM412,CDOM412_FLAG_W,CDOM443,CDOM443_FLAG_W,CDOM490,CDOM490_FLAG_W,CDOM555,CDOM555_FLAG_W,CDOMSL,CDOMSL_FLAG_W,CDOMSN,CDOMSN_FLAG_W,HELIER,DELHER,THETA,LDEO_SAMPNO,ABSORBTION,ABSORBTION_FLAG_W,IMAGE_COUNT,IMAGE_COUNT_FLAG_W,CYTO_COUNT,CYTO_COUNT_FLAG_W,DELD,DELD_FLAG_W,DELDERR,BTL_DATE,BTL_TIME
,,,,,,,,,,,METERS,DBAR,ITS-90,PSS-78,,PSS-78,,UMOL/KG,,UMOL/KG,,UMOL/KG,,UMOL/KG,,UMOL/KG,,UMOL/KG,,PMOL/KG,,PMOL/KG,,PMOL/KG,,FMOL/KG,,UMOL/KG,,UMOL/KG,,,,DEG C,TU,,NMOL/KG,,PERCNT,,DEG C,,/MILLE,,/MILLE,,/MILLE,NMOL/KG,,/MILLE,,UG/KG,,UMOL/KG,,UMOL/KG,,,,TU,NMOL/KG,G/KG,,,,,,1/M,,1/M,,1/M,,1/M,,1/M,,1/M,,1/M,,1/NM,,1/NM,,NMOL/KG,PERCNT,DEG C,,,,,,,,/MILLE,,/MILLE,,
320620110219,       P15S,      88,          1,         36,         36,2,20110325,       0801,   -73.0811,  -170.0010,       3911,     4.8,  -1.1520,  33.8611,2,  33.8607,2,    338.4,2,   340.5,2,   50.37,2,   23.46,2,    0.05,2,    1.71,2,   6.096,2,   3.330,2,   0.603,2,   2.6200,2,  2162.7,6,  2295.3,2,   7.7047,2,    25.00,-999.000,9,-999.0000,9,-999.000,9,  -1.1519,2, -999.00,9,  -999.0,9,  -999.0,-999.000,9, -999.00,9,-999.000,9, -999.00,9, -999.00,9, -73.0811,-169.9997,-999.000,     -999.0,    34.0204,2,     -999.0,9,     -999.0,9,-999.0000,9,-999.0000,9,-999.0000,9,-999.0000,9,-999.0000,9,-999.0000,9,-999.0000,9,-999.0000,9,-999.0000,9,-999.0000,-999.000,  -1.1521,     -999.0,     -999.0,9,     -999.0,1,     -999.0,1,     -999.0,9,     -999.0,20110325,       0941
320620110219,       P15S,      88,          1,         35,         35,2,20110325,       0801,   -73.0811,  -170.0010,       3911,    20.4,  -1.1531,  33.8615,2,  33.8605,2,    340.7,2,   340.7,2,   50.22,2,   23.53,2,    0.05,2,    1.73,2,-999.000,9,-999.000,9,-999.000,9,-999.0000,9,  2162.5,2,  2300.2,2,   7.7041,6,    25.00,-999.000,9,-999.0000,9,-999.000,9,  -1.1535,2, -999.00,9,  -999.0,9,  -999.0,-999.000,9, -999.00,9,-999.000,9, -999.00,9, -999.00,9, -73.0811,-169.9999,-999.000,     -999.0,    34.0201,2,     -999.0,1,     -999.0,9,-999.0000,9,-999.0000,9,-999.0000,9,-999.0000,9,-999.0000,9,-999.0000,9,-999.0000,9,-999.0000,9,-999.0000,9,-999.0000,-999.000,  -1.1536,     -999.0,     -999.0,9,     -999.0,1,     -999.0,1,     -999.0,9,     -999.0,20110325,       0940
320620110219,       P15S,      88,          1,         34,         34,2,20110325,       0801,   -73.0811,  -170.0010,       3911,    40.2,  -1.1545,  33.8624,2,  33.8611,2,    341.2,2,   340.3,2,   50.07,2,   23.40,2,    0.05,2,    1.74,2,   6.056,2,   3.298,2,   0.596,2,   2.5760,2,  2163.8,2,  2298.9,6,   7.7036,2,    25.00,-999.000,9,-999.0000,9,-999.000,9,  -1.1546,2, -999.00,9,  -999.0,9,  -999.0,-999.000,9, -999.00,9,-999.000,9, -999.00,9, -999.00,9, -73.0812,-169.9999,-999.000,     -999.0,    34.0207,2,     -999.0,1,     -999.0,9,-999.0000,9,-999.0000,9,-999.0000,9,-999.0000,9,-999.0000,9,-999.0000,9,-999.0000,9,-999.0000,9,-999.0000,9,-999.0000,-999.000,  -1.1555,     -999.0,     -999.0,9,     -999.0,1,     -999.0,1,     -999.0,9,     -999.0,20110325,       0939
320620110219,       P15S,      88,          1,         33,         33,2,20110325,       0801,   -73.0811,  -170.0010,       3911,    64.4,  -1.5706,  34.0835,2,  34.0866,2,    318.5,2,   301.4,2,   59.24,2,   27.99,2,    0.08,2,    2.02,2,   5.004,2,   2.671,2,   0.499,2,   2.1090,2,  2201.9,2,  2305.7,2,   7.6281,2,    25.00,-999.000,9,-999.0000,9,-999.000,9,  -1.5704,2, -999.00,9,  -999.0,9,  -999.0,-999.000,9, -999.00,9,-999.000,9, -999.00,9, -999.00,9, -73.0812,-170.0002,-999.000,     -999.0,    34.2473,2,     -999.0,1,     -999.0,9,-999.0000,9,-999.0000,9,-999.0000,9,-999.0000,9,-999.0000,9,-999.0000,9,-999.0000,9,-999.0000,9,-999.0000,9,-999.0000,-999.000,  -1.5720,     -999.0,     -999.0,9,     -999.0,1,     -999.0,1,     -999.0,9,     -999.0,20110325,       0937
320620110219,       P15S,      88,          1,         32,         32,2,20110325,       0801,   -73.0811,  -170.0010,       3911,    89.9,  -1.7384,  34.1449,2,  34.1421,2,    289.9,2,   289.5,2,   61.15,2,   29.48,2,    0.14,2,    2.08,2,   4.648,2,   2.489,2,   0.445,2,   1.8660,2,  2209.1,2,  2306.8,2,   7.6060,2,    25.00,-999.000,9,-999.0000,9,-999.000,9,  -1.7364,2, -999.00,9,  -999.0,9,  -999.0,-999.000,9, -999.00,9,-999.000,9, -999.00,9, -999.00,9, -73.0812,-170.0003,-999.000,     -999.0,    34.3031,2,     -999.0,9,     -999.0,9,-999.0000,9,-999.0000,9,-999.0000,9,-999.0000,9,-999.0000,9,-999.0000,9,-999.0000,9,-999.0000,9,-999.0000,9,-999.0000,-999.000,  -1.7402,     -999.0,     -999.0,9,     -999.0,9,     -999.0,9,     -999.0,9,     -999.0,20110325,       0936
320620110219,       P15S,      88,          1,         31,         31,2,20110325,       0801,   -73.0811,  -170.0010,       3911,   114.3,  -1.3788,  34.1855,2,  34.1856,2,    278.6,2,   277.5,2,   62.45,2,   30.20,2,    0.05,2,    2.12,2,   4.326,2,   2.332,2,   0.419,2,   1.8170,2,  2213.7,2,  2309.3,2,   7.5993,2,    25.00,-999.000,9,-999.0000,9,-999.000,9,  -1.3807,2, -999.00,9,  -999.0,9,  -999.0,-999.000,9, -999.00,9,-999.000,9, -999.00,9, -999.00,9, -73.0811,-170.0001,-999.000,     -999.0,    34.3468,2,     -999.0,9,     -999.0,9,-999.0000,9,-999.0000,9,-999.0000,9,-999.0000,9,-999.0000,9,-999.0000,9,-999.0000,9,-999.0000,9,-999.0000,9,-999.0000,-999.000,  -1.3815,     -999.0,     -999.0,9,     -999.0,9,     -999.0,9,     -999.0,9,     -999.0,20110325,       0935
320620110219,       P15S,      88,          1,         30,         30,2,20110325,       0801,   -73.0811,  -170.0010,       3911,   140.2,  -0.5556,  34.2863,2,  34.2844,2,    255.7,2,   253.1,2,   68.43,2,   31.11,2,    0.01,2,    2.18,2,   3.475,2,   1.842,2,   0.331,2,   1.4460,2,  2224.3,2,  2316.2,2,   7.5853,2,    25.00,-999.000,9,-999.0000,9,-999.000,9,  -0.5580,2, -999.00,9,  -999.0,9,  -999.0,-999.000,9, -999.00,9,-999.000,9, -999.00,9, -999.00,9, -73.0810,-169.9995,-999.000,     -999.0,    34.4461,2,     -999.0,9,     -999.0,9,-999.0000,9,-999.0000,9,-999.0000,9,-999.0000,9,-999.0000,9,-999.0000,9,-999.0000,9,-999.0000,9,-999.0000,9,-999.0000,-999.000,  -0.5599,     -999.0,     -999.0,9,     -999.0,9,     -999.0,9,     -999.0,9,     -999.0,20110325,       0933
320620110219,       P15S,      88,          1,         29,         29,2,20110325,       0801,   -73.0811,  -170.0010,       3911,   185.7,   0.4610,  34.4404,2,  34.4377,2,    221.0,2,   219.9,2,   75.92,2,   32.06,2,    0.00,2,    2.24,2,   2.235,2,   1.194,2,   0.208,2,   0.9340,2,  2238.2,2,  2324.9,2,   7.5715,2,    25.00,-999.000,9,-999.0000,9,-999.000,9,   0.4619,2, -999.00,9,  -999.0,9,  -999.0,-999.000,9, -999.00,9,-999.000,9, -999.00,9, -999.00,9, -73.0809,-169.9985,-999.000,     -999.0,    34.6000,2,     -999.0,9,     -999.0,9,-999.0000,9,-999.0000,9,-999.0000,9,-999.0000,9,-999.0000,9,-999.0000,9,-999.0000,9,-999.0000,9,-999.0000,9,-999.0000,-999.000,   0.4535,     -999.0,     -999.0,9,     -999.0,9,     -999.0,9,     -999.0,9,     -999.0,20110325,       0931
320620110219,       P15S,      88,          1,         28,         28,2,20110325,       0801,   -73.0811,  -170.0010,       3911,   234.4,   1.2621,  34.5817,2,  34.5739,2,    193.3,2,   195.6,2,   80.80,2,   32.53,2,    0.00,2,    2.26,2,   1.310,2,   0.683,2,   0.114,2,   0.4710,2,  2249.6,2,  2333.2,2,   7.5642,2,    25.00,-999.000,9,-999.0000,9,-999.000,9,   1.2593,2, -999.00,9,  -999.0,9,  -999.0,-999.000,9, -999.00,9,-999.000,9, -999.00,9, -999.00,9, -73.0808,-169.9976,-999.000,     -999.0,    34.7369,2,     -999.0,9,     -999.0,9,-999.0000,9,-999.0000,9,-999.0000,9,-999.0000,9,-999.0000,9,-999.0000,9,-999.0000,9,-999.0000,9,-999.0000,9,-999.0000,-999.000,   1.2509,     -999.0,     -999.0,9,     -999.0,9,     -999.0,9,     -999.0,9,     -999.0,20110325,       0930
320620110219,       P15S,      88,          1,         27,         27,2,20110325,       0801,   -73.0811,  -170.0010,       3911,   288.0,   1.6330,  34.6716,2,  34.6696,2,    183.1,2,   183.3,2,   86.36,2,   32.19,2,    0.00,2,    2.25,2,-999.000,9,-999.000,9,-999.000,9,-999.0000,9,  2254.0,2,  2341.5,2,   7.5679,2,    25.00,-999.000,9,-999.0000,9,-999.000,9,   1.6320,2, -999.00,9,  -999.0,9,  -999.0,-999.000,9, -999.00,9,-999.000,9, -999.00,9, -999.00,9, -73.0808,-169.9968,-999.000,     -999.0,    34.8331,2,     -999.0,9,     -999.0,9,-999.0000,9,-999.0000,9,-999.0000,9,-999.0000,9,-999.0000,9,-999.0000,9,-999.0000,9,-999.0000,9,-999.0000,9,-999.0000,-999.000,   1.6182,     -999.0,     -999.0,9,     -999.0,9,     -999.0,9,     -999.0,9,     -999.0,20110325,       0928
320620110219,       P15S,      88,          1,         26,         26,2,20110325,       0801,   -73.0811,  -170.0010,       3911,   331.7,   1.6708,  34.6977,2,  34.6961,2,    182.5,2,   182.9,2,   88.05,2,   31.93,2,    0.00,2,    2.24,2,   0.489,2,   0.233,2,   0.035,2,   0.1970,2,  2256.6,2,  2342.7,2,   7.5719,2,    25.00,-999.000,9,-999.0000,9,-999.000,9,   1.6711,2, -999.00,9,  -999.0,9,  -999.0,-999.000,9, -999.00,9,-999.000,9, -999.00,9, -999.00,9, -73.0806,-169.9967,-999.000,     -999.0,    34.8597,2,     -999.0,9,     -999.0,9,-999.0000,9,-999.0000,9,-999.0000,9,-999.0000,9,-999.0000,9,-999.0000,9,-999.0000,9,-999.0000,9,-999.0000,9,-999.0000,-999.000,   1.6535,     -999.0,     -999.0,9,     -999.0,9,     -999.0,9,     -999.0,9,     -999.0,20110325,       0926
320620110219,       P15S,      88,          1,         25,         25,2,20110325,       0801,   -73.0811,  -170.0010,       3911,   383.7,   1.6669,  34.7134,2,  34.7122,2,    183.7,2,   183.8,2,   90.10,2,   31.78,2,    0.00,2,    2.23,2,-999.000,9,-999.000,9,-999.000,9,-999.0000,9,  -999.0,5,  2346.1,2,   7.5805,2,    25.00,-999.000,9,-999.0000,9,-999.000,9,   1.6667,2, -999.00,9,  -999.0,9,  -999.0,-999.000,9, -999.00,9,-999.000,9, -999.00,9, -999.00,9, -73.0805,-169.9984,-999.000,     -999.0,    34.8759,2,     -999.0,9,     -999.0,9,-999.0000,9,-999.0000,9,-999.0000,9,-999.0000,9,-999.0000,9,-999.0000,9,-999.0000,9,-999.0000,9,-999.0000,9,-999.0000,-999.000,   1.6467,     -999.0,     -999.0,9,     -999.0,9,     -999.0,9,     -999.0,9,     -999.0,20110325,       0925
320620110219,       P15S,      88,          1,         24,         24,2,20110325,       0801,   -73.0811,  -170.0010,       3911,   435.1,   1.6254,  34.7228,2,  34.7222,2,    185.3,2,   185.5,2,   92.31,2,   31.59,2,    0.00,2,    2.22,2,   0.316,2,   0.152,2,   0.021,2,   0.1290,2,  2253.3,2,  2348.1,2,   7.5836,2,    25.00,-999.000,9,-999.0000,9,-999.000,9,   1.6254,2, -999.00,9,  -999.0,9,  -999.0,-999.000,9, -999.00,9,-999.000,9, -999.00,9, -999.00,9, -73.0807,-169.9990,-999.000,     -999.0,    34.8859,2,     -999.0,9,     -999.0,9,-999.0000,9,-999.0000,9,-999.0000,9,-999.0000,9,-999.0000,9,-999.0000,9,-999.0000,9,-999.0000,9,-999.0000,9,-999.0000,-999.000,   1.6025,     -999.0,     -999.0,9,     -999.0,9,     -999.0,9,     -999.0,9,     -999.0,20110325,       0923
320620110219,       P15S,      88,          1,         23,         23,2,20110325,       0801,   -73.0811,  -170.0010,       3911,   486.8,   1.5747,  34.7262,2,  34.7251,2,    186.8,2,   186.5,2,   94.11,2,   31.52,2,    0.00,2,    2.23,2,-999.000,9,-999.000,9,-999.000,9,-999.0000,9,  2254.2,2,  2349.4,2,   7.5844,2,    25.00,-999.000,9,-999.0000,9,-999.000,9,   1.5764,2, -999.00,9,  -999.0,9,  -999.0,-999.000,9, -999.00,9,-999.000,9, -999.00,9, -999.00,9, -73.0809,-169.9990,-999.000,     -999.0,    34.8889,2,     -999.0,9,     -999.0,9,-999.0000,9,-999.0000,9,-999.0000,9,-999.0000,9,-999.0000,9,-999.0000,9,-999.0000,9,-999.0000,9,-999.0000,9,-999.0000,-999.000,   1.5490,     -999.0,     -999.0,9,     -999.0,9,     -999.0,9,     -999.0,9,     -999.0,20110325,       0921
320620110219,       P15S,      88,          1,         22,         22,2,20110325,       0801,   -73.0811,  -170.0010,       3911,   563.4,   1.5006,  34.7292,2,  34.7304,2,    188.0,2,   187.8,2,   96.95,2,   31.62,2,    0.00,2,    2.24,2,   0.285,2,   0.137,2,   0.018,2,   0.1150,2,  2256.0,2,  2353.4,6,   7.5879,2,    25.00,-999.000,9,-999.0000,9,-999.000,9,   1.5003,2, -999.00,9,  -999.0,9,  -999.0,-999.000,9, -999.00,9,-999.000,9, -999.00,9, -999.00,9, -73.0809,-169.9996,-999.000,     -999.0,    34.8942,2,     -999.0,9,     -999.0,9,-999.0000,9,-999.0000,9,-999.0000,9,-999.0000,9,-999.0000,9,-999.0000,9,-999.0000,9,-999.0000,9,-999.0000,9,-999.0000,-999.000,   1.4709,     -999.0,     -999.0,9,     -999.0,9,     -999.0,9,     -999.0,9,     -999.0,20110325,       0919
320620110219,       P15S,      88,          1,         21,         21,2,20110325,       0801,   -73.0811,  -170.0010,       3911,   663.5,   1.4110,  34.7305,2,  34.7292,2,    188.7,2,   188.5,2,  100.00,2,   31.58,2,    0.00,2,    2.24,2,-999.000,9,-999.000,9,-999.000,9,-999.0000,9,  -999.0,9,  -999.0,9,-999.0000,9,  -999.00,-999.000,9,-999.0000,9,-999.000,9,   1.4109,2, -999.00,9,  -999.0,9,  -999.0,-999.000,9, -999.00,9,-999.000,9, -999.00,9, -999.00,9, -73.0809,-169.9998,-999.000,     -999.0,    34.8930,2,     -999.0,9,     -999.0,9,-999.0000,9,-999.0000,9,-999.0000,9,-999.0000,9,-999.0000,9,-999.0000,9,-999.0000,9,-999.0000,9,-999.0000,9,-999.0000,-999.000,   1.3759,     -999.0,     -999.0,9,     -999.0,9,     -999.0,9,     -999.0,9,     -999.0,20110325,       0917
320620110219,       P15S,      88,          1,         20,         20,2,20110325,       0801,   -73.0811,  -170.0010,       3911,   767.1,   1.3370,  34.7300,2,  34.7286,2,    188.6,2,   188.3,2,  102.79,2,   31.63,2,    0.00,2,    2.25,2,   0.205,2,   0.098,2,   0.009,2,   0.0650,2,  2259.9,2,  2354.8,2,   7.5850,2,    25.00,-999.000,9,-999.0000,9,-999.000,9,   1.3379,2, -999.00,9,  -999.0,9,  -999.0,-999.000,9, -999.00,9,-999.000,9, -999.00,9, -999.00,9, -73.0810,-170.0003,-999.000,     -999.0,    34.8924,2,     -999.0,9,     -999.0,9,-999.0000,9,-999.0000,9,-999.0000,9,-999.0000,9,-999.0000,9,-999.0000,9,-999.0000,9,-999.0000,9,-999.0000,9,-999.0000,-999.000,   1.2962,     -999.0,     -999.0,9,     -999.0,9,     -999.0,9,     -999.0,9,     -999.0,20110325,       0914
320620110219,       P15S,      88,          1,         19,         19,2,20110325,       0801,   -73.0811,  -170.0010,       3911,   864.0,   1.2615,  34.7290,2,  34.7280,2,    189.8,2,   189.1,2,  105.74,2,   31.82,2,    0.00,2,    2.26,2,-999.000,9,-999.000,9,-999.000,9,-999.0000,9,  -999.0,9,  -999.0,9,-999.0000,9,  -999.00,-999.000,9,-999.0000,9,-999.000,9,   1.2615,2, -999.00,9,  -999.0,9,  -999.0,-999.000,9,   -0.41,2,-999.000,9, -999.00,9, -999.00,9, -73.0811,-170.0011,-999.000,     -999.0,    34.8918,2,     -999.0,9,     -999.0,9,-999.0000,9,-999.0000,9,-999.0000,9,-999.0000,9,-999.0000,9,-999.0000,9,-999.0000,9,-999.0000,9,-999.0000,9,-999.0000,-999.000,   1.2154,     -999.0,     -999.0,9,     -999.0,9,     -999.0,9,      -4.64,2,       0.42,20110325,       0911
320620110219,       P15S,      88,          1,         18,         18,2,20110325,       0801,   -73.0811,  -170.0010,       3911,   963.9,   1.1918,  34.7271,2,  34.7259,2,    191.9,2,   191.3,2,  108.03,2,   31.94,2,    0.00,2,    2.25,2,   0.133,2,   0.059,2,   0.014,2,   0.0650,2,  2260.1,2,  2356.4,2,   7.5887,2,    25.00,-999.000,9,-999.0000,9,-999.000,9,   1.1917,2, -999.00,9,  -999.0,9,  -999.0,-999.000,9,   -0.09,2,-999.000,9, -999.00,9, -999.00,9, -73.0811,-170.0012,-999.000,     -999.0,    34.8896,2,     -999.0,9,     -999.0,9,-999.0000,9,-999.0000,9,-999.0000,9,-999.0000,9,-999.0000,9,-999.0000,9,-999.0000,9,-999.0000,9,-999.0000,9,-999.0000,-999.000,   1.1401,     -999.0,     -999.0,9,     -999.0,9,     -999.0,9,      -3.36,2,       0.16,20110325,       0909
320620110219,       P15S,      88,          1,         17,         17,2,20110325,       0801,   -73.0811,  -170.0010,       3911,  1064.8,   1.1276,  34.7250,2,  34.7241,2,    193.1,2,   193.0,2,  110.08,2,   32.08,2,    0.00,2,    2.26,2,-999.000,9,-999.000,9,-999.000,9,-999.0000,9,  -999.0,9,  -999.0,9,-999.0000,9,  -999.00,-999.000,9,-999.0000,9,-999.000,9,   1.1275,2, -999.00,9,  -999.0,9,  -999.0,-999.000,9,   -0.16,2,-999.000,9, -999.00,9, -999.00,9, -73.0810,-170.0006,-999.000,     -999.0,    34.8878,2,     -999.0,9,     -999.0,9,-999.0000,9,-999.0000,9,-999.0000,9,-999.0000,9,-999.0000,9,-999.0000,9,-999.0000,9,-999.0000,9,-999.0000,9,-999.0000,-999.000,   1.0701,     -999.0,     -999.0,9,     -999.0,9,     -999.0,9,      -3.69,2,       0.06,20110325,       0906
320620110219,       P15S,      88,          1,         16,         16,2,20110325,       0801,   -73.0811,  -170.0010,       3911,  1165.0,   1.0767,  34.7232,2,  34.7219,2,    194.7,2,   194.5,2,  112.10,2,   32.12,2,    0.00,2,    2.26,2,   0.117,2,   0.056,2,   0.011,2,   0.0200,2,  2260.5,2,  2357.3,2,   7.5921,6,    25.00,-999.000,9,-999.0000,9,-999.000,9,   1.0766,2, -999.00,9,  -999.0,9,  -999.0,-999.000,9,   -0.30,2,-999.000,9, -999.00,9, -999.00,9, -73.0810,-170.0002,-999.000,     -999.0,    34.8856,2,     -999.0,9,     -999.0,9,-999.0000,9,-999.0000,9,-999.0000,9,-999.0000,9,-999.0000,9,-999.0000,9,-999.0000,9,-999.0000,9,-999.0000,9,-999.0000,-999.000,   1.0133,     -999.0,     -999.0,9,     -999.0,9,     -999.0,9,      -2.95,2,       0.13,20110325,       0904
320620110219,       P15S,      88,          1,         15,         15,2,20110325,       0801,   -73.0811,  -170.0010,       3911,  1264.3,   1.0166,  34.7209,2,  34.7203,2,    196.0,2,   196.7,2,  113.70,2,   32.10,2,    0.00,2,    2.26,2,-999.000,9,-999.000,9,-999.000,9,-999.0000,9,  -999.0,9,  -999.0,9,-999.0000,9,  -999.00,-999.000,9,-999.0000,9,-999.000,9,   1.0169,2, -999.00,9,  -999.0,9,  -999.0,-999.000,9,   -0.12,2,-999.000,9, -999.00,9, -999.00,9, -73.0811,-170.0010,-999.000,     -999.0,    34.8840,2,     -999.0,9,     -999.0,9,-999.0000,9,-999.0000,9,-999.0000,9,-999.0000,9,-999.0000,9,-999.0000,9,-999.0000,9,-999.0000,9,-999.0000,9,-999.0000,-999.000,   0.9473,     -999.0,     -999.0,9,     -999.0,9,     -999.0,9,      -1.63,2,       0.14,20110325,       0901
320620110219,       P15S,      88,          1,         14,         14,2,20110325,       0801,   -73.0811,  -170.0010,       3911,  1365.3,   0.9591,  34.7185,2,  34.7178,2,    197.5,2,   197.4,2,  115.07,2,   32.13,2,    0.00,2,    2.26,2,   0.108,2,   0.052,2,   0.010,2,   0.0650,2,  2260.4,6,  2358.7,2,   7.5936,2,    25.00,-999.000,9,-999.0000,9,-999.000,9,   0.9593,2, -999.00,9,  -999.0,9,  -999.0,-999.000,9,   -0.13,2,-999.000,9, -999.00,9, -999.00,9, -73.0811,-170.0010,-999.000,     -999.0,    34.8815,2,     -999.0,9,     -999.0,9,-999.0000,9,-999.0000,9,-999.0000,9,-999.0000,9,-999.0000,9,-999.0000,9,-999.0000,9,-999.0000,9,-999.0000,9,-999.0000,-999.000,   0.8838,     -999.0,     -999.0,9,     -999.0,9,     -999.0,9,      -1.16,2,       0.08,20110325,       0858