BOTTLE,20220813CCHSIOAMB
EXPOCODE,SECT_ID,STNNBR,CASTNO,SAMPNO,BTLNBR,BTLNBR_FLAG_W,DATE,TIME,LATITUDE,LONGITUDE,DEPTH,CTDPRS,CTDTMP,CTDSAL,CTDSAL_FLAG_W,SALNTY,SALNTY_FLAG_W,CTDOXY,CTDOXY_FLAG_W,OXYGEN,OXYGEN_FLAG_W,SILCAT,SILCAT_FLAG_W,NITRAT,NITRAT_FLAG_W,NITRIT,NITRIT_FLAG_W,PHSPHT,PHSPHT_FLAG_W,CFC-11,CFC-11_FLAG_W,CFC-12,CFC-12_FLAG_W,CFC113,CFC113_FLAG_W,SF6,SF6_FLAG_W,TCARBN,TCARBN_FLAG_W,ALKALI,ALKALI_FLAG_W,PH_TOT,PH_TOT_FLAG_W,PH_TMP,TRITUM,TRITUM_FLAG_W,HELIUM,HELIUM_FLAG_W,DELHE3,DELHE3_FLAG_W,REFTMP,REFTMP_FLAG_W,DELC13,DELC13_FLAG_W,DELC14,DELC14_FLAG_W,C14ERR,NEON,NEON_FLAG_W,DELO18,DELO18_FLAG_W,POC,POC_FLAG_W,DOC,DOC_FLAG_W,TDN,TDN_FLAG_W,BTL_LAT,BTL_LON,TRITER,NEONER,SALTREF,SALTREF_FLAG_W,PIGMENTS,PIGMENTS_FLAG_W,LAB_DEN,LAB_DEN_FLAG_W,CDOM325,CDOM325_FLAG_W,CDOM340,CDOM340_FLAG_W,CDOM380,CDOM380_FLAG_W,CDOM412,CDOM412_FLAG_W,CDOM443,CDOM443_FLAG_W,CDOM490,CDOM490_FLAG_W,CDOM555,CDOM555_FLAG_W,CDOMSL,CDOMSL_FLAG_W,CDOMSN,CDOMSN_FLAG_W,HELIER,DELHER,THETA,LDEO_SAMPNO,ABSORBTION,ABSORBTION_FLAG_W,IMAGE_COUNT,IMAGE_COUNT_FLAG_W,CYTO_COUNT,CYTO_COUNT_FLAG_W,DELD,DELD_FLAG_W,DELDERR,BTL_DATE,BTL_TIME
,,,,,,,,,,,METERS,DBAR,ITS-90,PSS-78,,PSS-78,,UMOL/KG,,UMOL/KG,,UMOL/KG,,UMOL/KG,,UMOL/KG,,UMOL/KG,,PMOL/KG,,PMOL/KG,,PMOL/KG,,FMOL/KG,,UMOL/KG,,UMOL/KG,,,,DEG C,TU,,NMOL/KG,,PERCNT,,DEG C,,/MILLE,,/MILLE,,/MILLE,NMOL/KG,,/MILLE,,UG/KG,,UMOL/KG,,UMOL/KG,,,,TU,NMOL/KG,G/KG,,,,,,1/M,,1/M,,1/M,,1/M,,1/M,,1/M,,1/M,,1/NM,,1/NM,,NMOL/KG,PERCNT,DEG C,,,,,,,,/MILLE,,/MILLE,,
320620110219,       S04P,     126,          3,         13,         13,2,20110416,       0055,   -67.0001,   -84.1834,       4328,  1534.7,   1.5698,  34.7316,2,  34.7323,2,    192.1,2,   192.1,2,   96.09,2,   31.42,2,    0.00,2,    2.17,2,   0.192,2,   0.184,2,   0.018,2,   0.1000,2,  -999.0,9,  -999.0,9,-999.0000,9,  -999.00,-999.000,9,-999.0000,9,-999.000,9,   1.5694,2, -999.00,9,  -999.0,9,  -999.0,-999.000,9, -999.00,9,-999.000,9,   39.19,2,   33.62,2, -67.0001, -84.1833,-999.000,     -999.0,    34.8961,2,     -999.0,9,     -999.0,9,-999.0000,9,-999.0000,9,-999.0000,9,-999.0000,9,-999.0000,9,-999.0000,9,-999.0000,9,-999.0000,9,-999.0000,9,-999.0000,-999.000,   1.4756,     -999.0,     -999.0,9,     -999.0,9,     -999.0,9,     -999.0,9,     -999.0,20110416,       0152
320620110219,       S04P,     126,          3,         12,         12,2,20110416,       0055,   -67.0001,   -84.1834,       4328,  1665.1,   1.4612,  34.7304,2,  34.7315,2,    193.6,2,   193.3,2,   99.78,2,   31.49,2,    0.00,2,    2.18,2,-999.000,9,-999.000,9,-999.000,9,-999.0000,9,  -999.0,9,  -999.0,9,-999.0000,9,  -999.00,-999.000,9,-999.0000,9,-999.000,9,   1.4611,2, -999.00,9,  -999.0,9,  -999.0,-999.000,9, -999.00,9,-999.000,9,   39.00,2,   33.80,2, -67.0001, -84.1834,-999.000,     -999.0,    34.8953,2,     -999.0,9,     -999.0,9,-999.0000,9,-999.0000,9,-999.0000,9,-999.0000,9,-999.0000,9,-999.0000,9,-999.0000,9,-999.0000,9,-999.0000,9,-999.0000,-999.000,   1.3586,     -999.0,     -999.0,9,     -999.0,9,     -999.0,9,     -999.0,9,     -999.0,20110416,       0149
320620110219,       S04P,     126,          3,         11,         11,2,20110416,       0055,   -67.0001,   -84.1834,       4328,  1864.9,   1.3122,  34.7261,2,  34.7272,2,    195.3,2,   195.0,2,  105.37,2,   31.62,2,    0.00,2,    2.19,2,   0.212,2,   0.153,2,   0.025,2,   0.0600,2,  2259.5,2,  2360.7,2,   7.6012,2,    25.00,-999.000,9,-999.0000,9,-999.000,9,   1.3127,2, -999.00,9,  -999.0,9,  -999.0,-999.000,9, -999.00,9,-999.000,9,   39.29,2,   33.99,2, -67.0001, -84.1833,-999.000,     -999.0,    34.8909,2,     -999.0,9,     -999.0,9,-999.0000,9,-999.0000,9,-999.0000,9,-999.0000,9,-999.0000,9,-999.0000,9,-999.0000,9,-999.0000,9,-999.0000,9,-999.0000,-999.000,   1.1965,     -999.0,     -999.0,9,     -999.0,9,     -999.0,9,     -999.0,9,     -999.0,20110416,       0145
320620110219,       S04P,     126,          3,         10,         37,2,20110416,       0055,   -67.0001,   -84.1834,       4328,  2084.8,   1.1835,  34.7227,2,  34.7236,2,    197.5,2,   197.7,2,  109.36,2,   31.63,2,    0.00,2,    2.20,2,-999.000,9,-999.000,9,-999.000,9,-999.0000,9,  -999.0,9,  -999.0,9,-999.0000,9,  -999.00,-999.000,9,-999.0000,9,-999.000,9,   1.1837,2, -999.00,9,  -999.0,9,  -999.0,-999.000,9, -999.00,9,-999.000,9,   39.22,2,   33.79,2, -67.0001, -84.1834,-999.000,     -999.0,    34.8874,2,     -999.0,9,     -999.0,9,-999.0000,9,-999.0000,9,-999.0000,9,-999.0000,9,-999.0000,9,-999.0000,9,-999.0000,9,-999.0000,9,-999.0000,9,-999.0000,-999.000,   1.0525,     -999.0,     -999.0,9,     -999.0,9,     -999.0,9,     -999.0,9,     -999.0,20110416,       0141
320620110219,       S04P,     126,          3,          9,          9,2,20110416,       0055,   -67.0001,   -84.1834,       4328,  2335.2,   1.0571,  34.7186,2,  34.7193,2,    199.9,2,   199.8,2,  113.86,2,   31.77,2,    0.00,2,    2.20,2,   0.127,2,   0.135,2,   0.015,2,   0.0600,2,  2261.3,2,  2362.5,2,   7.5999,2,    25.00,-999.000,9,-999.0000,9,-999.000,9,   1.0569,2, -999.00,9,  -999.0,9,  -999.0,-999.000,9, -999.00,9,-999.000,9,   39.37,2,   33.88,2, -67.0001, -84.1833,-999.000,     -999.0,    34.8830,2,     -999.0,9,     -999.0,9,-999.0000,9,-999.0000,9,-999.0000,9,-999.0000,9,-999.0000,9,-999.0000,9,-999.0000,9,-999.0000,9,-999.0000,9,-999.0000,-999.000,   0.9080,     -999.0,     -999.0,9,     -999.0,9,     -999.0,9,     -999.0,9,     -999.0,20110416,       0136
320620110219,       S04P,     126,          3,          8,          8,2,20110416,       0055,   -67.0001,   -84.1834,       4328,  2585.0,   0.9382,  34.7144,2,  34.7152,2,    201.8,2,   202.2,2,  117.90,2,   31.89,2,    0.00,2,    2.22,2,-999.000,9,-999.000,9,-999.000,9,-999.0000,9,  -999.0,9,  -999.0,9,-999.0000,9,  -999.00,-999.000,9,-999.0000,9,-999.000,9,   0.9385,2, -999.00,9,  -999.0,9,  -999.0,-999.000,9, -999.00,9,-999.000,9,   40.07,2,   34.43,2, -67.0001, -84.1833,-999.000,     -999.0,    34.8789,2,     -999.0,9,     -999.0,9,-999.0000,9,-999.0000,9,-999.0000,9,-999.0000,9,-999.0000,9,-999.0000,9,-999.0000,9,-999.0000,9,-999.0000,9,-999.0000,-999.000,   0.7703,     -999.0,     -999.0,9,     -999.0,9,     -999.0,9,     -999.0,9,     -999.0,20110416,       0131
320620110219,       S04P,     126,          3,          7,          7,2,20110416,       0055,   -67.0001,   -84.1834,       4328,  2834.3,   0.8163,  34.7102,2,  34.7107,2,    203.9,2,   204.4,2,  122.19,2,   32.02,2,    0.00,2,    2.22,2,   0.147,2,   0.112,2,   0.015,2,   0.0800,2,  2262.8,2,  2364.2,2,   7.5996,2,    25.00,-999.000,9,-999.0000,9,-999.000,9,   0.8165,2, -999.00,9,  -999.0,9,  -999.0,-999.000,9, -999.00,9,-999.000,9,   40.00,2,   34.55,2, -67.0001, -84.1833,-999.000,     -999.0,    34.8743,2,     -999.0,9,     -999.0,9,-999.0000,9,-999.0000,9,-999.0000,9,-999.0000,9,-999.0000,9,-999.0000,9,-999.0000,9,-999.0000,9,-999.0000,9,-999.0000,-999.000,   0.6293,     -999.0,     -999.0,9,     -999.0,9,     -999.0,9,     -999.0,9,     -999.0,20110416,       0126
320620110219,       S04P,     126,          3,          6,          6,2,20110416,       0055,   -67.0001,   -84.1834,       4328,  3099.7,   0.7040,  34.7071,2,  34.7077,2,    206.3,2,   206.9,2,  125.31,2,   32.15,2,    0.00,2,    2.23,2,-999.000,9,-999.000,9,-999.000,9,-999.0000,9,  -999.0,9,  -999.0,9,-999.0000,9,  -999.00,-999.000,9,-999.0000,9,-999.000,9,   0.7040,2, -999.00,9,  -999.0,9,  -999.0,-999.000,9, -999.00,9,-999.000,9,   39.87,2,   34.56,2, -67.0001, -84.1834,-999.000,     -999.0,    34.8714,2,     -999.0,9,     -999.0,9,-999.0000,9,-999.0000,9,-999.0000,9,-999.0000,9,-999.0000,9,-999.0000,9,-999.0000,9,-999.0000,9,-999.0000,9,-999.0000,-999.000,   0.4956,     -999.0,     -999.0,9,     -999.0,9,     -999.0,9,     -999.0,9,     -999.0,20110416,       0121
320620110219,       S04P,     126,          3,          5,          5,2,20110416,       0055,   -67.0001,   -84.1834,       4328,  3399.8,   0.5793,  34.7047,2,  34.7053,2,    208.7,2,   209.1,2,  128.57,2,   32.29,2,    0.00,2,    2.24,2,   0.181,2,   0.118,2,   0.016,2,   0.0600,2,  2262.6,2,  2365.7,2,   7.5973,2,    25.00,-999.000,9,-999.0000,9,-999.000,9,   0.5799,2, -999.00,9,  -999.0,9,  -999.0,-999.000,9, -999.00,9,-999.000,9,   40.48,2,   34.47,2, -67.0001, -84.1834,-999.000,     -999.0,    34.8690,2,     -999.0,9,     -999.0,9,-999.0000,9,-999.0000,9,-999.0000,9,-999.0000,9,-999.0000,9,-999.0000,9,-999.0000,9,-999.0000,9,-999.0000,9,-999.0000,-999.000,   0.3459,     -999.0,     -999.0,9,     -999.0,9,     -999.0,9,     -999.0,9,     -999.0,20110416,       0115
320620110219,       S04P,     126,          3,          4,          4,2,20110416,       0055,   -67.0001,   -84.1834,       4328,  3700.2,   0.4958,  34.7038,2,  34.7043,2,    210.7,2,   210.8,2,  132.60,2,   32.41,2,    0.00,2,    2.24,2,-999.000,9,-999.000,9,-999.000,9,-999.0000,9,  -999.0,9,  -999.0,9,-999.0000,9,  -999.00,-999.000,9,-999.0000,9,-999.000,9,   0.4962,2, -999.00,9,  -999.0,9,  -999.0,-999.000,9, -999.00,9,-999.000,9,   40.35,2,   34.82,2, -67.0001, -84.1833,-999.000,     -999.0,    34.8680,2,     -999.0,9,     -999.0,9,-999.0000,9,-999.0000,9,-999.0000,9,-999.0000,9,-999.0000,9,-999.0000,9,-999.0000,9,-999.0000,9,-999.0000,9,-999.0000,-999.000,   0.2354,     -999.0,     -999.0,9,     -999.0,9,     -999.0,9,     -999.0,9,     -999.0,20110416,       0109
320620110219,       S04P,     126,          3,          3,          3,2,20110416,       0055,   -67.0001,   -84.1834,       4328,  4000.2,   0.4509,  34.7032,2,  34.7037,2,    212.3,2,   212.2,2,  136.09,2,   32.46,2,    0.00,2,    2.24,2,   0.206,2,   0.116,2,   0.015,2,   0.0800,2,  2264.1,2,  2364.9,6,   7.5970,2,    25.00,-999.000,9,-999.0000,9,-999.000,9,   0.4507,2, -999.00,9,  -999.0,9,  -999.0,-999.000,9, -999.00,9,-999.000,9,   40.46,2,   35.34,2, -67.0001, -84.1833,-999.000,     -999.0,    34.8674,2,     -999.0,9,     -999.0,9,-999.0000,9,-999.0000,9,-999.0000,9,-999.0000,9,-999.0000,9,-999.0000,9,-999.0000,9,-999.0000,9,-999.0000,9,-999.0000,-999.000,   0.1616,     -999.0,     -999.0,9,     -999.0,9,     -999.0,9,     -999.0,9,     -999.0,20110416,       0103
320620110219,       S04P,     126,          3,          2,          2,2,20110416,       0055,   -67.0001,   -84.1834,       4328,  4198.9,   0.4381,  34.7028,2,  34.7035,2,    212.8,2,   212.4,2,  138.59,2,   32.43,2,    0.00,2,    2.25,2,   0.246,2,   0.123,2,   0.015,2,   0.0800,2,  2264.7,2,  -999.0,9,   7.5962,6,    25.00,-999.000,9,-999.0000,9,-999.000,9,   0.4381,2, -999.00,9,  -999.0,9,  -999.0,-999.000,9, -999.00,9,-999.000,9,   40.59,2,   35.36,2, -67.0001, -84.1834,-999.000,     -999.0,    34.8672,2,     -999.0,9,     -999.0,9,-999.0000,9,-999.0000,9,-999.0000,9,-999.0000,9,-999.0000,9,-999.0000,9,-999.0000,9,-999.0000,9,-999.0000,9,-999.0000,-999.000,   0.1285,     -999.0,     -999.0,9,     -999.0,9,     -999.0,9,     -999.0,9,     -999.0,20110416,       0059
320620110219,       S04P,     126,          3,          1,          1,2,20110416,       0055,   -67.0001,   -84.1834,       4328,  4404.6,   0.4251,  34.7019,2,  34.7028,2,    212.4,2,   212.1,2,  144.62,2,   32.50,2,    0.00,2,    2.25,2,   0.337,2,   0.175,2,   0.022,2,   0.0900,2,  2265.8,6,  2365.1,2,   7.5952,2,    25.00,-999.000,9,-999.0000,9,-999.000,9,   0.4258,2, -999.00,9,  -999.0,9,  -999.0,-999.000,9, -999.00,9,-999.000,9,   40.47,2,   35.44,2, -67.0001, -84.1834,-999.000,     -999.0,    34.8664,2,     -999.0,9,     -999.0,9,-999.0000,9,-999.0000,9,-999.0000,9,-999.0000,9,-999.0000,9,-999.0000,9,-999.0000,9,-999.0000,9,-999.0000,9,-999.0000,-999.000,   0.0939,     -999.0,     -999.0,9,     -999.0,9,     -999.0,9,     -999.0,9,     -999.0,20110416,       0055