BOTTLE,20220813CCHSIOAMB
EXPOCODE,SECT_ID,STNNBR,CASTNO,SAMPNO,BTLNBR,BTLNBR_FLAG_W,DATE,TIME,LATITUDE,LONGITUDE,DEPTH,CTDPRS,CTDTMP,CTDSAL,CTDSAL_FLAG_W,SALNTY,SALNTY_FLAG_W,CTDOXY,CTDOXY_FLAG_W,OXYGEN,OXYGEN_FLAG_W,SILCAT,SILCAT_FLAG_W,NITRAT,NITRAT_FLAG_W,NITRIT,NITRIT_FLAG_W,PHSPHT,PHSPHT_FLAG_W,CFC-11,CFC-11_FLAG_W,CFC-12,CFC-12_FLAG_W,CFC113,CFC113_FLAG_W,SF6,SF6_FLAG_W,TCARBN,TCARBN_FLAG_W,ALKALI,ALKALI_FLAG_W,PH_TOT,PH_TOT_FLAG_W,PH_TMP,TRITUM,TRITUM_FLAG_W,HELIUM,HELIUM_FLAG_W,DELHE3,DELHE3_FLAG_W,REFTMP,REFTMP_FLAG_W,DELC13,DELC13_FLAG_W,DELC14,DELC14_FLAG_W,C14ERR,NEON,NEON_FLAG_W,DELO18,DELO18_FLAG_W,POC,POC_FLAG_W,DOC,DOC_FLAG_W,TDN,TDN_FLAG_W,BTL_LAT,BTL_LON,TRITER,NEONER,SALTREF,SALTREF_FLAG_W,PIGMENTS,PIGMENTS_FLAG_W,LAB_DEN,LAB_DEN_FLAG_W,CDOM325,CDOM325_FLAG_W,CDOM340,CDOM340_FLAG_W,CDOM380,CDOM380_FLAG_W,CDOM412,CDOM412_FLAG_W,CDOM443,CDOM443_FLAG_W,CDOM490,CDOM490_FLAG_W,CDOM555,CDOM555_FLAG_W,CDOMSL,CDOMSL_FLAG_W,CDOMSN,CDOMSN_FLAG_W,HELIER,DELHER,THETA,LDEO_SAMPNO,ABSORBTION,ABSORBTION_FLAG_W,IMAGE_COUNT,IMAGE_COUNT_FLAG_W,CYTO_COUNT,CYTO_COUNT_FLAG_W,DELD,DELD_FLAG_W,DELDERR,BTL_DATE,BTL_TIME
,,,,,,,,,,,METERS,DBAR,ITS-90,PSS-78,,PSS-78,,UMOL/KG,,UMOL/KG,,UMOL/KG,,UMOL/KG,,UMOL/KG,,UMOL/KG,,PMOL/KG,,PMOL/KG,,PMOL/KG,,FMOL/KG,,UMOL/KG,,UMOL/KG,,,,DEG C,TU,,NMOL/KG,,PERCNT,,DEG C,,/MILLE,,/MILLE,,/MILLE,NMOL/KG,,/MILLE,,UG/KG,,UMOL/KG,,UMOL/KG,,,,TU,NMOL/KG,G/KG,,,,,,1/M,,1/M,,1/M,,1/M,,1/M,,1/M,,1/M,,1/NM,,1/NM,,NMOL/KG,PERCNT,DEG C,,,,,,,,/MILLE,,/MILLE,,
320620110219,       P15S,      88,          1,         13,         13,2,20110325,       0801,   -73.0811,  -170.0010,       3911,  1463.9,   0.9096,  34.7166,2,  34.7162,2,    198.6,2,   199.1,2,  116.74,2,   32.25,2,    0.00,2,    2.25,2,-999.000,9,-999.000,9,-999.000,9,-999.0000,9,  -999.0,9,  -999.0,9,-999.0000,9,  -999.00,-999.000,9,-999.0000,9,-999.000,9,   0.9095,2, -999.00,9,  -999.0,9,  -999.0,-999.000,9,   -0.25,2,-999.000,9, -999.00,9, -999.00,9, -73.0811,-170.0008,-999.000,     -999.0,    34.8799,2,     -999.0,9,     -999.0,9,-999.0000,9,-999.0000,9,-999.0000,9,-999.0000,9,-999.0000,9,-999.0000,9,-999.0000,9,-999.0000,9,-999.0000,9,-999.0000,-999.000,   0.8282,     -999.0,     -999.0,9,     -999.0,9,     -999.0,9,      -2.10,2,       0.27,20110325,       0856
320620110219,       P15S,      88,          1,         12,         12,2,20110325,       0801,   -73.0811,  -170.0010,       3911,  1566.2,   0.8608,  34.7148,2,  34.7154,2,    200.1,2,   200.1,2,  117.92,2,   32.19,2,    0.00,2,    2.27,2,   0.103,2,   0.048,2,   0.007,2,   0.0340,2,  -999.0,9,  -999.0,9,-999.0000,9,  -999.00,-999.000,9,-999.0000,9,-999.000,9,   0.8614,2, -999.00,9,  -999.0,9,  -999.0,-999.000,9,   -0.01,2,-999.000,9, -999.00,9, -999.00,9, -73.0811,-170.0010,-999.000,     -999.0,    34.8791,2,     -999.0,9,     -999.0,9,-999.0000,9,-999.0000,9,-999.0000,9,-999.0000,9,-999.0000,9,-999.0000,9,-999.0000,9,-999.0000,9,-999.0000,9,-999.0000,-999.000,   0.7730,     -999.0,     -999.0,9,     -999.0,9,     -999.0,9,      -0.97,2,       0.25,20110325,       0853
320620110219,       P15S,      88,          1,         11,         11,2,20110325,       0801,   -73.0811,  -170.0010,       3911,  1732.1,   0.7865,  34.7117,2,  34.7111,2,    201.8,2,   201.8,2,  120.68,2,   32.27,2,    0.00,2,    2.27,2,-999.000,9,-999.000,9,-999.000,9,-999.0000,9,  2261.3,2,  2363.5,2,   7.5956,2,    25.00,-999.000,9,-999.0000,9,-999.000,9,   0.7866,2, -999.00,9,  -999.0,9,  -999.0,-999.000,9,   -0.02,2,-999.000,9, -999.00,9, -999.00,9, -73.0811,-170.0010,-999.000,     -999.0,    34.8747,2,     -999.0,9,     -999.0,9,-999.0000,9,-999.0000,9,-999.0000,9,-999.0000,9,-999.0000,9,-999.0000,9,-999.0000,9,-999.0000,9,-999.0000,9,-999.0000,-999.000,   0.6880,     -999.0,     -999.0,9,     -999.0,9,     -999.0,9,      -1.18,2,       0.03,20110325,       0849
320620110219,       P15S,      88,          1,         10,         37,2,20110325,       0801,   -73.0811,  -170.0010,       3911,  1935.5,   0.7103,  34.7090,2,  34.7081,2,    203.7,2,   203.7,2,  123.10,2,   32.37,2,    0.00,2,    2.27,2,-999.000,9,-999.000,9,-999.000,9,-999.0000,9,  -999.0,9,  -999.0,9,-999.0000,9,  -999.00,-999.000,9,-999.0000,9,-999.000,9,   0.7104,2, -999.00,9,  -999.0,9,  -999.0,-999.000,9,   -0.02,2,-999.000,9, -999.00,9, -999.00,9, -73.0810,-170.0005,-999.000,     -999.0,    34.8718,2,     -999.0,9,     -999.0,9,-999.0000,9,-999.0000,9,-999.0000,9,-999.0000,9,-999.0000,9,-999.0000,9,-999.0000,9,-999.0000,9,-999.0000,9,-999.0000,-999.000,   0.5982,     -999.0,     -999.0,9,     -999.0,9,     -999.0,9,      -1.35,2,       0.18,20110325,       0845
320620110219,       P15S,      88,          1,          9,          9,2,20110325,       0801,   -73.0811,  -170.0010,       3911,  2164.1,   0.6373,  34.7070,2,  34.7067,2,    205.4,2,   205.3,2,  125.21,2,   32.51,2,    0.00,2,    2.27,2,-999.000,9,-999.000,9,-999.000,9,-999.0000,9,  -999.0,9,  -999.0,9,-999.0000,9,  -999.00,-999.000,9,-999.0000,9,-999.000,9,   0.6376,2, -999.00,9,  -999.0,9,  -999.0,-999.000,9,   -0.16,2,-999.000,9, -999.00,9, -999.00,9, -73.0810,-170.0003,-999.000,     -999.0,    34.8704,2,     -999.0,9,     -999.0,9,-999.0000,9,-999.0000,9,-999.0000,9,-999.0000,9,-999.0000,9,-999.0000,9,-999.0000,9,-999.0000,9,-999.0000,9,-999.0000,-999.000,   0.5091,     -999.0,     -999.0,9,     -999.0,9,     -999.0,9,      -1.46,2,       0.31,20110325,       0840
320620110219,       P15S,      88,          1,          8,          8,2,20110325,       0801,   -73.0811,  -170.0010,       3911,  2416.2,   0.5498,  34.7051,2,  34.7047,2,    207.2,2,   208.0,2,  126.80,2,   32.60,2,    0.00,2,    2.28,2,   0.139,2,   0.063,2,   0.012,2,   0.0600,2,  2261.2,2,  2363.5,2,   7.5937,2,    25.00,-999.000,9,-999.0000,9,-999.000,9,   0.5502,2, -999.00,9,  -999.0,9,  -999.0,-999.000,9,   -0.16,2,-999.000,9, -999.00,9, -999.00,9, -73.0809,-169.9996,-999.000,     -999.0,    34.8684,2,     -999.0,9,     -999.0,9,-999.0000,9,-999.0000,9,-999.0000,9,-999.0000,9,-999.0000,9,-999.0000,9,-999.0000,9,-999.0000,9,-999.0000,9,-999.0000,-999.000,   0.4033,     -999.0,     -999.0,9,     -999.0,9,     -999.0,9,      -1.86,2,       0.20,20110325,       0835
320620110219,       P15S,      88,          1,          7,          7,2,20110325,       0801,   -73.0811,  -170.0010,       3911,  2664.6,   0.4712,  34.7044,2,  34.7036,2,    209.2,2,   209.2,2,  128.98,2,   32.64,2,    0.00,2,    2.28,2,-999.000,9,-999.000,9,-999.000,9,-999.0000,9,  -999.0,9,  -999.0,9,-999.0000,9,  -999.00,-999.000,9,-999.0000,9,-999.000,9,   0.4715,2, -999.00,9,  -999.0,9,  -999.0,-999.000,9,   -0.30,2,-999.000,9, -999.00,9, -999.00,9, -73.0809,-169.9997,-999.000,     -999.0,    34.8672,2,     -999.0,9,     -999.0,9,-999.0000,9,-999.0000,9,-999.0000,9,-999.0000,9,-999.0000,9,-999.0000,9,-999.0000,9,-999.0000,9,-999.0000,9,-999.0000,-999.000,   0.3059,     -999.0,     -999.0,9,     -999.0,9,     -999.0,9,      -2.93,2,       0.39,20110325,       0830
320620110219,       P15S,      88,          1,          6,          6,2,20110325,       0801,   -73.0811,  -170.0010,       3911,  2913.8,   0.4188,  34.7042,2,  34.7035,2,    210.5,2,   210.4,2,  131.27,2,   32.68,2,    0.00,2,    2.28,2,   0.131,2,   0.061,2,   0.009,2,   0.0560,2,  2262.0,2,  2360.9,2,   7.5959,2,    25.00,-999.000,9,-999.0000,9,-999.000,9,   0.4188,2, -999.00,9,  -999.0,9,  -999.0,-999.000,9,   -0.04,2,-999.000,9, -999.00,9, -999.00,9, -73.0811,-170.0009,-999.000,     -999.0,    34.8672,2,     -999.0,9,     -999.0,9,-999.0000,9,-999.0000,9,-999.0000,9,-999.0000,9,-999.0000,9,-999.0000,9,-999.0000,9,-999.0000,9,-999.0000,9,-999.0000,-999.000,   0.2334,     -999.0,     -999.0,9,     -999.0,9,     -999.0,9,      -1.52,2,       0.11,20110325,       0825
320620110219,       P15S,      88,          1,          5,          5,2,20110325,       0801,   -73.0811,  -170.0010,       3911,  3200.0,   0.3715,  34.7039,2,  34.7034,2,    211.9,2,   211.8,2,  133.43,2,   32.79,2,    0.00,2,    2.28,2,-999.000,9,-999.000,9,-999.000,9,-999.0000,9,  -999.0,9,  -999.0,9,-999.0000,9,  -999.00,-999.000,9,-999.0000,9,-999.000,9,   0.3718,2, -999.00,9,  -999.0,9,  -999.0,-999.000,9,   -0.08,2,-999.000,9, -999.00,9, -999.00,9, -73.0811,-170.0013,-999.000,     -999.0,    34.8670,2,     -999.0,9,     -999.0,9,-999.0000,9,-999.0000,9,-999.0000,9,-999.0000,9,-999.0000,9,-999.0000,9,-999.0000,9,-999.0000,9,-999.0000,9,-999.0000,-999.000,   0.1617,     -999.0,     -999.0,9,     -999.0,9,     -999.0,9,      -1.83,2,       0.06,20110325,       0819
320620110219,       P15S,      88,          1,          4,          4,2,20110325,       0801,   -73.0811,  -170.0010,       3911,  3500.1,   0.3254,  34.7030,2,  34.7026,2,    213.5,2,   213.4,2,  135.25,2,   32.80,2,    0.00,2,    2.27,2,   0.201,2,   0.093,2,   0.012,2,   0.0670,2,  2261.6,2,  2361.5,6,   7.5942,2,    25.00,-999.000,9,-999.0000,9,-999.000,9,   0.3254,2, -999.00,9,  -999.0,9,  -999.0,-999.000,9,   -0.11,2,-999.000,9, -999.00,9, -999.00,9, -73.0810,-170.0002,-999.000,     -999.0,    34.8662,2,     -999.0,9,     -999.0,9,-999.0000,9,-999.0000,9,-999.0000,9,-999.0000,9,-999.0000,9,-999.0000,9,-999.0000,9,-999.0000,9,-999.0000,9,-999.0000,-999.000,   0.0889,     -999.0,     -999.0,9,     -999.0,9,     -999.0,9,      -2.11,2,       0.21,20110325,       0813
320620110219,       P15S,      88,          1,          3,          3,2,20110325,       0801,   -73.0811,  -170.0010,       3911,  3799.3,   0.2573,  34.7007,2,  34.7014,2,    216.0,2,   216.0,2,  133.49,2,   32.87,2,    0.00,2,    2.27,2,   0.423,2,   0.196,2,   0.017,2,   0.0500,2,  2260.5,2,  2359.9,2,   7.5951,2,    25.00,-999.000,9,-999.0000,9,-999.000,9,   0.2573,2, -999.00,9,  -999.0,9,  -999.0,-999.000,9,   -0.14,2,-999.000,9, -999.00,9, -999.00,9, -73.0811,-170.0008,-999.000,     -999.0,    34.8650,2,     -999.0,9,     -999.0,9,-999.0000,9,-999.0000,9,-999.0000,9,-999.0000,9,-999.0000,9,-999.0000,9,-999.0000,9,-999.0000,9,-999.0000,9,-999.0000,-999.000,  -0.0064,     -999.0,     -999.0,9,     -999.0,9,     -999.0,9,      -2.18,2,       0.10,20110325,       0806
320620110219,       P15S,      88,          1,          2,          2,2,20110325,       0801,   -73.0811,  -170.0010,       3911,  3900.7,   0.2007,  34.6983,2,  34.6978,2,    218.7,2,   218.5,2,  127.34,2,   32.80,2,    0.00,2,    2.27,2,   0.651,2,   0.309,2,   0.028,2,   0.2540,2,  2258.8,2,  2360.3,2,   7.5928,6,    25.00,-999.000,9,-999.0000,9,-999.000,9,   0.2008,2, -999.00,9,  -999.0,9,  -999.0,-999.000,9,   -0.17,2,-999.000,9, -999.00,9, -999.00,9, -73.0811,-170.0012,-999.000,     -999.0,    34.8614,2,     -999.0,9,     -999.0,9,-999.0000,9,-999.0000,9,-999.0000,9,-999.0000,9,-999.0000,9,-999.0000,9,-999.0000,9,-999.0000,9,-999.0000,9,-999.0000,-999.000,  -0.0714,     -999.0,     -999.0,9,     -999.0,9,     -999.0,9,      -2.57,2,       0.09,20110325,       0803
320620110219,       P15S,      88,          1,          1,          1,2,20110325,       0801,   -73.0811,  -170.0010,       3911,  3976.1,   0.1919,  34.6981,2,  34.6976,2,    217.9,2,   217.8,2,  128.28,2,   32.86,2,    0.00,2,    2.28,2,   0.558,2,   0.326,2,   0.018,2,   0.1220,2,  2260.6,6,  2362.6,2,   7.5879,2,    25.00,-999.000,9,-999.0000,9,-999.000,9,   0.1917,2, -999.00,9,  -999.0,9,  -999.0,-999.000,9,   -0.39,2,-999.000,9, -999.00,9, -999.00,9, -73.0810,-170.0007,-999.000,     -999.0,    34.8612,2,     -999.0,9,     -999.0,9,-999.0000,9,-999.0000,9,-999.0000,9,-999.0000,9,-999.0000,9,-999.0000,9,-999.0000,9,-999.0000,9,-999.0000,9,-999.0000,-999.000,  -0.0875,     -999.0,     -999.0,9,     -999.0,9,     -999.0,9,      -3.85,3,       0.47,20110325,       0801