BOTTLE,20220813CCHSIOAMB
EXPOCODE,SECT_ID,STNNBR,CASTNO,SAMPNO,BTLNBR,BTLNBR_FLAG_W,DATE,TIME,LATITUDE,LONGITUDE,DEPTH,CTDPRS,CTDTMP,CTDSAL,CTDSAL_FLAG_W,SALNTY,SALNTY_FLAG_W,CTDOXY,CTDOXY_FLAG_W,OXYGEN,OXYGEN_FLAG_W,SILCAT,SILCAT_FLAG_W,NITRAT,NITRAT_FLAG_W,NITRIT,NITRIT_FLAG_W,PHSPHT,PHSPHT_FLAG_W,CFC-11,CFC-11_FLAG_W,CFC-12,CFC-12_FLAG_W,CFC113,CFC113_FLAG_W,SF6,SF6_FLAG_W,TCARBN,TCARBN_FLAG_W,ALKALI,ALKALI_FLAG_W,PH_TOT,PH_TOT_FLAG_W,PH_TMP,TRITUM,TRITUM_FLAG_W,HELIUM,HELIUM_FLAG_W,DELHE3,DELHE3_FLAG_W,REFTMP,REFTMP_FLAG_W,DELC13,DELC13_FLAG_W,DELC14,DELC14_FLAG_W,C14ERR,NEON,NEON_FLAG_W,DELO18,DELO18_FLAG_W,POC,POC_FLAG_W,DOC,DOC_FLAG_W,TDN,TDN_FLAG_W,BTL_LAT,BTL_LON,TRITER,NEONER,SALTREF,SALTREF_FLAG_W,PIGMENTS,PIGMENTS_FLAG_W,LAB_DEN,LAB_DEN_FLAG_W,CDOM325,CDOM325_FLAG_W,CDOM340,CDOM340_FLAG_W,CDOM380,CDOM380_FLAG_W,CDOM412,CDOM412_FLAG_W,CDOM443,CDOM443_FLAG_W,CDOM490,CDOM490_FLAG_W,CDOM555,CDOM555_FLAG_W,CDOMSL,CDOMSL_FLAG_W,CDOMSN,CDOMSN_FLAG_W,HELIER,DELHER,THETA,LDEO_SAMPNO,ABSORBTION,ABSORBTION_FLAG_W,IMAGE_COUNT,IMAGE_COUNT_FLAG_W,CYTO_COUNT,CYTO_COUNT_FLAG_W,DELD,DELD_FLAG_W,DELDERR,BTL_DATE,BTL_TIME
,,,,,,,,,,,METERS,DBAR,ITS-90,PSS-78,,PSS-78,,UMOL/KG,,UMOL/KG,,UMOL/KG,,UMOL/KG,,UMOL/KG,,UMOL/KG,,PMOL/KG,,PMOL/KG,,PMOL/KG,,FMOL/KG,,UMOL/KG,,UMOL/KG,,,,DEG C,TU,,NMOL/KG,,PERCNT,,DEG C,,/MILLE,,/MILLE,,/MILLE,NMOL/KG,,/MILLE,,UG/KG,,UMOL/KG,,UMOL/KG,,,,TU,NMOL/KG,G/KG,,,,,,1/M,,1/M,,1/M,,1/M,,1/M,,1/M,,1/M,,1/NM,,1/NM,,NMOL/KG,PERCNT,DEG C,,,,,,,,/MILLE,,/MILLE,,
320620110219,       P15S,      81,          1,          8,          8,2,20110323,       1823,   -74.3004,  -175.7676,       1954,  1335.4,   0.7561,  34.7117,2,  34.7120,2,    202.2,2,   202.2,2,  121.20,2,   32.46,2,    0.00,2,    2.24,2,   0.100,2,   0.053,2,   0.006,2,   0.0750,2,  -999.0,9,  -999.0,9,-999.0000,9,  -999.00,-999.000,9,-999.0000,9,-999.000,9,   0.7557,2, -999.00,9,  -999.0,9,  -999.0,-999.000,9,   -0.02,2,-999.000,9,   39.84,2,   34.63,2, -74.3004,-175.7676,-999.000,     -999.0,    34.8757,2,     -999.0,9,     -999.0,9,-999.0000,9,-999.0000,9,-999.0000,9,-999.0000,9,-999.0000,9,-999.0000,9,-999.0000,9,-999.0000,9,-999.0000,9,-999.0000,-999.000,   0.6849,     -999.0,     -999.0,9,     -999.0,9,     -999.0,9,      -1.45,2,       0.27,20110323,       1841
320620110219,       P15S,      81,          1,          7,          7,2,20110323,       1823,   -74.3004,  -175.7676,       1954,  1434.6,   0.6872,  34.7079,2,  34.7083,2,    204.3,2,   204.2,2,  121.03,2,   32.41,2,    0.00,2,    2.24,2,-999.000,9,-999.000,9,-999.000,9,-999.0000,9,  -999.0,9,  -999.0,9,-999.0000,9,  -999.00,-999.000,9,-999.0000,9,-999.000,9,   0.6866,2, -999.00,9,  -999.0,9,  -999.0,-999.000,9,   -0.05,2,-999.000,9,   39.73,2,   34.79,2, -74.3004,-175.7674,-999.000,     -999.0,    34.8720,2,     -999.0,9,     -999.0,9,-999.0000,9,-999.0000,9,-999.0000,9,-999.0000,9,-999.0000,9,-999.0000,9,-999.0000,9,-999.0000,9,-999.0000,9,-999.0000,-999.000,   0.6103,     -999.0,     -999.0,9,     -999.0,9,     -999.0,9,      -2.24,2,       0.20,20110323,       1838
320620110219,       P15S,      81,          1,          6,          6,2,20110323,       1823,   -74.3004,  -175.7676,       1954,  1534.0,   0.5756,  34.7002,2,  34.7009,2,    206.3,2,   207.5,2,  118.10,2,   32.35,2,    0.00,2,    2.24,2,   0.460,2,   0.242,2,   0.036,2,   0.1760,2,  -999.0,9,  -999.0,9,-999.0000,9,  -999.00,-999.000,9,-999.0000,9,-999.000,9,   0.5754,2, -999.00,9,  -999.0,9,  -999.0,-999.000,9,   -0.04,2,-999.000,9,   40.62,2,   34.51,2, -74.3004,-175.7674,-999.000,     -999.0,    34.8645,2,     -999.0,9,     -999.0,9,-999.0000,9,-999.0000,9,-999.0000,9,-999.0000,9,-999.0000,9,-999.0000,9,-999.0000,9,-999.0000,9,-999.0000,9,-999.0000,-999.000,   0.4935,     -999.0,     -999.0,9,     -999.0,9,     -999.0,9,      -0.76,2,       0.38,20110323,       1835
320620110219,       P15S,      81,          1,          5,          5,2,20110323,       1823,   -74.3004,  -175.7676,       1954,  1635.6,   0.2053,  34.6757,2,  34.6762,2,    219.1,2,   219.0,2,  108.99,2,   32.14,2,    0.02,3,    2.23,2,-999.000,9,-999.000,9,-999.000,9,-999.0000,9,  -999.0,9,  -999.0,9,-999.0000,9,  -999.00,-999.000,9,-999.0000,9,-999.000,9,   0.2050,2, -999.00,9,  -999.0,9,  -999.0,-999.000,9,   -0.05,2,-999.000,9,   40.46,2,   34.80,2, -74.3004,-175.7669,-999.000,     -999.0,    34.8397,2,     -999.0,9,     -999.0,9,-999.0000,9,-999.0000,9,-999.0000,9,-999.0000,9,-999.0000,9,-999.0000,9,-999.0000,9,-999.0000,9,-999.0000,9,-999.0000,-999.000,   0.1212,     -999.0,     -999.0,9,     -999.0,9,     -999.0,9,      -1.42,2,       0.24,20110323,       1833
320620110219,       P15S,      81,          1,          4,          4,2,20110323,       1823,   -74.3004,  -175.7676,       1954,  1733.6,   0.0982,  34.6698,2,  34.6701,2,    222.6,2,   223.1,2,  106.08,2,   32.09,2,    0.03,3,    2.23,2,   1.489,2,   0.791,2,   0.134,2,   0.5950,2,  -999.0,9,  -999.0,9,-999.0000,9,  -999.00,-999.000,9,-999.0000,9,-999.000,9,   0.0976,2, -999.00,9,  -999.0,9,  -999.0,-999.000,9,   -0.09,2,-999.000,9,   40.58,2,   34.66,2, -74.3003,-175.7672,-999.000,     -999.0,    34.8336,2,     -999.0,9,     -999.0,9,-999.0000,9,-999.0000,9,-999.0000,9,-999.0000,9,-999.0000,9,-999.0000,9,-999.0000,9,-999.0000,9,-999.0000,9,-999.0000,-999.000,   0.0091,     -999.0,     -999.0,9,     -999.0,9,     -999.0,9,      -1.93,2,       0.05,20110323,       1830
320620110219,       P15S,      81,          1,          3,          3,2,20110323,       1823,   -74.3004,  -175.7676,       1954,  1836.1,   0.0404,  34.6669,2,  34.6674,2,    224.8,2,   224.5,2,  104.25,2,   32.04,2,    0.03,3,    2.22,2,   1.610,2,   0.861,2,   0.140,2,   0.6080,2,  -999.0,9,  -999.0,9,-999.0000,9,  -999.00,-999.000,9,-999.0000,9,-999.000,9,   0.0403,2, -999.00,9,  -999.0,9,  -999.0,-999.000,9,   -0.18,2,-999.000,9,   40.39,2,   34.52,2, -74.3004,-175.7671,-999.000,     -999.0,    34.8309,2,     -999.0,9,     -999.0,9,-999.0000,9,-999.0000,9,-999.0000,9,-999.0000,9,-999.0000,9,-999.0000,9,-999.0000,9,-999.0000,9,-999.0000,9,-999.0000,-999.000,  -0.0547,     -999.0,     -999.0,9,     -999.0,9,     -999.0,9,      -2.49,2,       0.34,20110323,       1827
320620110219,       P15S,      81,          1,          2,          2,2,20110323,       1823,   -74.3004,  -175.7676,       1954,  1923.6,   0.0357,  34.6666,2,  34.6670,2,    224.7,2,   224.8,2,  104.48,2,   32.03,2,    0.03,3,    2.23,2,   1.635,2,   0.875,2,   0.142,2,   0.6220,2,  -999.0,9,  -999.0,9,-999.0000,9,  -999.00,-999.000,9,-999.0000,9,-999.000,9,   0.0353,2, -999.00,9,  -999.0,9,  -999.0,-999.000,9,   -0.06,2,-999.000,9,   40.65,2,   34.36,2, -74.3004,-175.7675,-999.000,     -999.0,    34.8305,2,     -999.0,9,     -999.0,9,-999.0000,9,-999.0000,9,-999.0000,9,-999.0000,9,-999.0000,9,-999.0000,9,-999.0000,9,-999.0000,9,-999.0000,9,-999.0000,-999.000,  -0.0653,     -999.0,     -999.0,9,     -999.0,9,     -999.0,9,      -2.66,2,       0.07,20110323,       1825
320620110219,       P15S,      81,          1,          1,          1,2,20110323,       1823,   -74.3004,  -175.7676,       1954,  1974.3,   0.0325,  34.6660,2,  34.6668,2,    224.9,2,   224.6,2,  104.08,2,   31.94,2,    0.03,3,    2.23,2,   1.678,2,   0.893,2,   0.148,2,   0.6630,2,  -999.0,9,  -999.0,9,-999.0000,9,  -999.00,-999.000,9,-999.0000,9,-999.000,9,   0.0316,2, -999.00,9,  -999.0,9,  -999.0,-999.000,9,    0.06,2,-999.000,9,   40.60,2,   34.08,2, -74.3004,-175.7675,-999.000,     -999.0,    34.8303,2,     -999.0,9,     -999.0,9,-999.0000,9,-999.0000,9,-999.0000,9,-999.0000,9,-999.0000,9,-999.0000,9,-999.0000,9,-999.0000,9,-999.0000,9,-999.0000,-999.000,  -0.0719,     -999.0,     -999.0,9,     -999.0,9,     -999.0,9,      -2.57,2,       0.26,20110323,       1823