BOTTLE,20220813CCHSIOAMB
EXPOCODE,SECT_ID,STNNBR,CASTNO,SAMPNO,BTLNBR,BTLNBR_FLAG_W,DATE,TIME,LATITUDE,LONGITUDE,DEPTH,CTDPRS,CTDTMP,CTDSAL,CTDSAL_FLAG_W,SALNTY,SALNTY_FLAG_W,CTDOXY,CTDOXY_FLAG_W,OXYGEN,OXYGEN_FLAG_W,SILCAT,SILCAT_FLAG_W,NITRAT,NITRAT_FLAG_W,NITRIT,NITRIT_FLAG_W,PHSPHT,PHSPHT_FLAG_W,CFC-11,CFC-11_FLAG_W,CFC-12,CFC-12_FLAG_W,CFC113,CFC113_FLAG_W,SF6,SF6_FLAG_W,TCARBN,TCARBN_FLAG_W,ALKALI,ALKALI_FLAG_W,PH_TOT,PH_TOT_FLAG_W,PH_TMP,TRITUM,TRITUM_FLAG_W,HELIUM,HELIUM_FLAG_W,DELHE3,DELHE3_FLAG_W,REFTMP,REFTMP_FLAG_W,DELC13,DELC13_FLAG_W,DELC14,DELC14_FLAG_W,C14ERR,NEON,NEON_FLAG_W,DELO18,DELO18_FLAG_W,POC,POC_FLAG_W,DOC,DOC_FLAG_W,TDN,TDN_FLAG_W,BTL_LAT,BTL_LON,TRITER,NEONER,SALTREF,SALTREF_FLAG_W,PIGMENTS,PIGMENTS_FLAG_W,LAB_DEN,LAB_DEN_FLAG_W,CDOM325,CDOM325_FLAG_W,CDOM340,CDOM340_FLAG_W,CDOM380,CDOM380_FLAG_W,CDOM412,CDOM412_FLAG_W,CDOM443,CDOM443_FLAG_W,CDOM490,CDOM490_FLAG_W,CDOM555,CDOM555_FLAG_W,CDOMSL,CDOMSL_FLAG_W,CDOMSN,CDOMSN_FLAG_W,HELIER,DELHER,THETA,LDEO_SAMPNO,ABSORBTION,ABSORBTION_FLAG_W,IMAGE_COUNT,IMAGE_COUNT_FLAG_W,CYTO_COUNT,CYTO_COUNT_FLAG_W,DELD,DELD_FLAG_W,DELDERR,BTL_DATE,BTL_TIME
,,,,,,,,,,,METERS,DBAR,ITS-90,PSS-78,,PSS-78,,UMOL/KG,,UMOL/KG,,UMOL/KG,,UMOL/KG,,UMOL/KG,,UMOL/KG,,PMOL/KG,,PMOL/KG,,PMOL/KG,,FMOL/KG,,UMOL/KG,,UMOL/KG,,,,DEG C,TU,,NMOL/KG,,PERCNT,,DEG C,,/MILLE,,/MILLE,,/MILLE,NMOL/KG,,/MILLE,,UG/KG,,UMOL/KG,,UMOL/KG,,,,TU,NMOL/KG,G/KG,,,,,,1/M,,1/M,,1/M,,1/M,,1/M,,1/M,,1/M,,1/NM,,1/NM,,NMOL/KG,PERCNT,DEG C,,,,,,,,/MILLE,,/MILLE,,
320620110219,       P16S,      58,          1,         36,         36,2,20110315,       0510,   -73.4660,  -150.0000,       4138,     3.3,  -1.0123,  33.4949,2,  33.4951,2,    352.8,2,   355.3,2,   32.33,2,   21.81,2,    0.19,2,    1.43,2,   6.240,2,   3.422,2,   0.611,2,-999.0000,9,  2126.2,3,  2268.9,6,   7.7486,2,    25.00,-999.000,9,-999.0000,9,-999.000,9,  -1.0125,2, -999.00,9,  -999.0,9,  -999.0,-999.000,9, -999.00,9,-999.000,9,   45.56,2,   26.75,2, -73.4660,-150.0000,-999.000,     -999.0,    33.6530,2,     -999.0,9,     -999.0,9,-999.0000,9,-999.0000,9,-999.0000,9,-999.0000,9,-999.0000,9,-999.0000,9,-999.0000,9,-999.0000,9,-999.0000,9,-999.0000,-999.000,  -1.0124,     -999.0,     -999.0,9,     -999.0,9,     -999.0,9,     -999.0,9,     -999.0,20110315,       0656
320620110219,       P16S,      58,          1,         35,         35,2,20110315,       0510,   -73.4660,  -150.0000,       4138,    34.9,  -1.0349,  33.5964,3,  33.6585,2,    351.7,2,   341.8,2,   39.48,2,   23.96,2,    0.17,2,    1.66,2,-999.000,9,-999.000,9,-999.000,9,-999.0000,9,  2149.4,3,  2280.1,2,   7.7110,2,    25.00,-999.000,9,-999.0000,9,-999.000,9,  -1.0471,2, -999.00,9,  -999.0,9,  -999.0,-999.000,9, -999.00,9,-999.000,1,   45.91,2,   28.47,2, -73.4660,-150.0000,-999.000,     -999.0,    33.8172,2,     -999.0,1,     -999.0,9,-999.0000,9,-999.0000,9,-999.0000,9,-999.0000,9,-999.0000,9,-999.0000,9,-999.0000,9,-999.0000,9,-999.0000,9,-999.0000,-999.000,  -1.0358,     -999.0,     -999.0,9,     -999.0,9,     -999.0,9,     -999.0,9,     -999.0,20110315,       0654
320620110219,       P16S,      58,          1,         34,         34,2,20110315,       0510,   -73.4660,  -150.0000,       4138,    59.9,  -1.4503,  33.9801,3,  33.9479,2,    301.2,2,   315.1,2,   52.83,2,   27.75,2,    0.15,2,    1.98,2,   5.136,2,   2.804,2,   0.502,2,-999.0000,9,  2188.7,3,  2295.3,2,   7.6441,2,    25.00,-999.000,9,-999.0000,9,-999.000,9,  -1.4498,2, -999.00,9,  -999.0,9,  -999.0,-999.000,9, -999.00,9,-999.000,1,   45.70,2,   31.40,2, -73.4660,-150.0000,-999.000,     -999.0,    34.1080,2,     -999.0,1,     -999.0,9,-999.0000,9,-999.0000,9,-999.0000,9,-999.0000,9,-999.0000,9,-999.0000,9,-999.0000,9,-999.0000,9,-999.0000,9,-999.0000,-999.000,  -1.4516,     -999.0,     -999.0,9,     -999.0,9,     -999.0,9,     -999.0,9,     -999.0,20110315,       0653
320620110219,       P16S,      58,          1,         33,         33,2,20110315,       0510,   -73.4660,  -150.0000,       4138,    85.2,  -1.0063,  34.1785,2,  34.1970,2,    268.2,2,   269.2,2,   64.40,2,   30.98,2,    0.09,2,    2.11,2,   3.873,2,   2.122,2,   0.359,2,-999.0000,9,  2218.0,2,  2310.1,2,   7.5972,2,    25.00,-999.000,9,-999.0000,9,-999.000,9,  -1.0057,2, -999.00,9,  -999.0,9,  -999.0,-999.000,9, -999.00,9,-999.000,9,   44.58,2,   33.68,2, -73.4660,-150.0000,-999.000,     -999.0,    34.3582,2,     -999.0,1,     -999.0,9,-999.0000,9,-999.0000,9,-999.0000,9,-999.0000,9,-999.0000,9,-999.0000,9,-999.0000,9,-999.0000,9,-999.0000,9,-999.0000,-999.000,  -1.0086,     -999.0,     -999.0,9,     -999.0,9,     -999.0,9,     -999.0,9,     -999.0,20110315,       0651
320620110219,       P16S,      58,          1,         32,         32,2,20110315,       0510,   -73.4660,  -150.0000,       4138,   110.5,  -0.2466,  34.2952,2,  34.2960,2,    250.0,2,   247.2,2,   67.89,2,   32.00,2,    0.03,2,    2.19,2,   3.231,2,   1.764,2,   0.294,2,-999.0000,9,  2226.7,2,  2314.9,2,   7.5831,2,    25.00,-999.000,9,-999.0000,9,-999.000,9,  -0.2439,2, -999.00,9,  -999.0,9,  -999.0,-999.000,9, -999.00,9,-999.000,9,   43.58,2,   34.65,2, -73.4660,-150.0000,-999.000,     -999.0,    34.4578,2,     -999.0,1,     -999.0,9,-999.0000,9,-999.0000,9,-999.0000,9,-999.0000,9,-999.0000,9,-999.0000,9,-999.0000,9,-999.0000,9,-999.0000,9,-999.0000,-999.000,  -0.2503,     -999.0,     -999.0,9,     -999.0,9,     -999.0,9,     -999.0,9,     -999.0,20110315,       0650
320620110219,       P16S,      58,          1,         31,         31,2,20110315,       0510,   -73.4660,  -150.0000,       4138,   135.6,   0.2663,  34.3727,2,  34.3801,2,    235.6,2,   231.9,2,   68.91,2,   32.56,2,    0.01,2,    2.23,2,   2.778,2,   1.521,2,   0.247,2,-999.0000,9,  2232.9,2,  2319.7,2,   7.5729,2,    25.00,-999.000,9,-999.0000,9,-999.000,9,   0.2442,2, -999.00,9,  -999.0,9,  -999.0,-999.000,9, -999.00,9,-999.000,9,   42.82,2,   34.74,2, -73.4660,-150.0000,-999.000,     -999.0,    34.5422,2,     -999.0,9,     -999.0,9,-999.0000,9,-999.0000,9,-999.0000,9,-999.0000,9,-999.0000,9,-999.0000,9,-999.0000,9,-999.0000,9,-999.0000,9,-999.0000,-999.000,   0.2611,     -999.0,     -999.0,9,     -999.0,9,     -999.0,9,     -999.0,9,     -999.0,20110315,       0648
320620110219,       P16S,      58,          1,         30,         30,2,20110315,       0510,   -73.4660,  -150.0000,       4138,   164.4,   0.9052,  34.4786,2,  34.4655,2,    212.2,2,   212.0,2,   73.99,2,   33.18,2,    0.01,2,    2.27,2,   2.046,2,   1.110,2,   0.178,2,-999.0000,9,  2242.4,2,  2325.3,2,   7.5629,6,    25.00,-999.000,9,-999.0000,9,-999.000,9,   0.9041,2, -999.00,9,  -999.0,9,  -999.0,-999.000,9, -999.00,9,-999.000,9,   41.91,2,   36.32,2, -73.4660,-150.0000,-999.000,     -999.0,    34.6280,2,     -999.0,9,     -999.0,9,-999.0000,9,-999.0000,9,-999.0000,9,-999.0000,9,-999.0000,9,-999.0000,9,-999.0000,9,-999.0000,9,-999.0000,9,-999.0000,-999.000,   0.8980,     -999.0,     -999.0,9,     -999.0,9,     -999.0,9,     -999.0,9,     -999.0,20110315,       0647
320620110219,       P16S,      58,          1,         29,         29,2,20110315,       0510,   -73.4660,  -150.0000,       4138,   215.1,   1.6041,  34.6139,2,  34.6163,2,    185.1,2,   185.0,2,   82.11,2,   33.52,2,    0.00,2,    2.29,2,   0.898,2,   0.479,2,   0.071,2,-999.0000,9,  2254.4,2,  2336.1,2,   7.5563,2,    25.00,-999.000,9,-999.0000,9,-999.000,9,   1.6051,2, -999.00,9,  -999.0,9,  -999.0,-999.000,9, -999.00,9,-999.000,9,   41.68,2,   36.23,2, -73.4660,-150.0000,-999.000,     -999.0,    34.7795,2,     -999.0,9,     -999.0,9,-999.0000,9,-999.0000,9,-999.0000,9,-999.0000,9,-999.0000,9,-999.0000,9,-999.0000,9,-999.0000,9,-999.0000,9,-999.0000,-999.000,   1.5932,     -999.0,     -999.0,9,     -999.0,9,     -999.0,9,     -999.0,9,     -999.0,20110315,       0645
320620110219,       P16S,      58,          1,         28,         28,2,20110315,       0510,   -73.4660,  -150.0000,       4138,   264.4,   1.7597,  34.6666,2,  34.6665,2,    179.8,2,   180.2,2,   84.13,2,   33.14,2,    0.00,2,    2.27,2,   0.610,2,   0.323,2,   0.046,2,-999.0000,9,  2256.3,2,  2339.8,2,   7.5626,2,    25.00,-999.000,9,-999.0000,9,-999.000,9,   1.7590,2, -999.00,9,  -999.0,9,  -999.0,-999.000,9, -999.00,9,-999.000,9,   40.85,2,   35.84,2, -73.4660,-150.0000,-999.000,     -999.0,    34.8300,2,     -999.0,9,     -999.0,9,-999.0000,9,-999.0000,9,-999.0000,9,-999.0000,9,-999.0000,9,-999.0000,9,-999.0000,9,-999.0000,9,-999.0000,9,-999.0000,-999.000,   1.7459,     -999.0,     -999.0,9,     -999.0,9,     -999.0,9,     -999.0,9,     -999.0,20110315,       0643
320620110219,       P16S,      58,          1,         27,         27,2,20110315,       0510,   -73.4660,  -150.0000,       4138,   314.1,   1.8013,  34.6964,2,  34.6946,2,    180.6,2,   180.6,2,   86.08,2,   32.62,2,    0.00,2,    2.24,2,   0.446,2,   0.221,2,   0.035,2,-999.0000,9,  2256.6,2,  2343.0,2,   7.5715,2,    25.00,-999.000,9,-999.0000,9,-999.000,9,   1.8012,2, -999.00,9,  -999.0,9,  -999.0,-999.000,9, -999.00,9,-999.000,9,   40.69,2,   35.33,2, -73.4660,-150.0000,-999.000,     -999.0,    34.8582,2,     -999.0,9,     -999.0,9,-999.0000,9,-999.0000,9,-999.0000,9,-999.0000,9,-999.0000,9,-999.0000,9,-999.0000,9,-999.0000,9,-999.0000,9,-999.0000,-999.000,   1.7846,     -999.0,     -999.0,9,     -999.0,9,     -999.0,9,     -999.0,9,     -999.0,20110315,       0642
320620110219,       P16S,      58,          1,         26,         26,2,20110315,       0510,   -73.4660,  -150.0000,       4138,   364.7,   1.7645,  34.7083,2,  34.7095,2,    182.3,2,   182.5,2,   87.80,2,   32.24,2,    0.00,2,    2.23,2,-999.000,9,-999.000,9,-999.000,9,-999.0000,9,  2257.7,2,  2344.7,2,   7.5758,2,    25.00,-999.000,9,-999.0000,9,-999.000,9,   1.7651,2, -999.00,9,  -999.0,9,  -999.0,-999.000,9, -999.00,9,-999.000,9,   40.72,2,   35.13,2, -73.4660,-150.0000,-999.000,     -999.0,    34.8731,2,     -999.0,9,     -999.0,9,-999.0000,9,-999.0000,9,-999.0000,9,-999.0000,9,-999.0000,9,-999.0000,9,-999.0000,9,-999.0000,9,-999.0000,9,-999.0000,-999.000,   1.7451,     -999.0,     -999.0,9,     -999.0,9,     -999.0,9,     -999.0,9,     -999.0,20110315,       0640
320620110219,       P16S,      58,          1,         25,         25,2,20110315,       0510,   -73.4660,  -150.0000,       4138,   415.0,   1.7102,  34.7180,2,  34.7179,2,    184.3,2,   184.6,2,   89.80,2,   31.94,2,    0.00,2,    2.22,2,   0.341,2,   0.171,2,   0.023,2,-999.0000,9,  2256.3,2,  2346.0,2,   7.5811,2,    25.00,-999.000,9,-999.0000,9,-999.000,9,   1.7102,2, -999.00,9,  -999.0,9,  -999.0,-999.000,9, -999.00,9,-999.000,9,   41.04,2,   34.78,2, -73.4660,-150.0000,-999.000,     -999.0,    34.8816,2,     -999.0,9,     -999.0,9,-999.0000,9,-999.0000,9,-999.0000,9,-999.0000,9,-999.0000,9,-999.0000,9,-999.0000,9,-999.0000,9,-999.0000,9,-999.0000,-999.000,   1.6881,     -999.0,     -999.0,9,     -999.0,9,     -999.0,9,     -999.0,9,     -999.0,20110315,       0638
320620110219,       P16S,      58,          1,         24,         24,2,20110315,       0510,   -73.4660,  -150.0000,       4138,   465.0,   1.6618,  34.7225,2,  34.7226,2,    186.3,2,   186.1,2,   91.72,2,   31.87,2,    0.00,2,    2.22,2,-999.000,9,-999.000,9,-999.000,9,-999.0000,9,  2256.4,2,  2347.6,2,   7.5851,2,    25.00,-999.000,9,-999.0000,9,-999.000,9,   1.6623,2, -999.00,9,  -999.0,9,  -999.0,-999.000,9, -999.00,9,-999.000,9,   41.30,2,   34.35,2, -73.4660,-150.0000,-999.000,     -999.0,    34.8863,2,     -999.0,9,     -999.0,9,-999.0000,9,-999.0000,9,-999.0000,9,-999.0000,9,-999.0000,9,-999.0000,9,-999.0000,9,-999.0000,9,-999.0000,9,-999.0000,-999.000,   1.6370,     -999.0,     -999.0,9,     -999.0,9,     -999.0,9,     -999.0,9,     -999.0,20110315,       0636
320620110219,       P16S,      58,          1,         23,         23,2,20110315,       0510,   -73.4660,  -150.0000,       4138,   534.8,   1.5951,  34.7270,2,  34.7283,2,    188.2,2,   187.0,2,   93.43,2,   31.85,2,    0.00,2,    2.22,2,   0.285,2,   0.137,2,   0.019,2,-999.0000,9,  2256.5,2,  2349.1,2,   7.5877,2,    25.00,-999.000,9,-999.0000,9,-999.000,9,   1.5952,2, -999.00,9,  -999.0,9,  -999.0,-999.000,9, -999.00,9,-999.000,9,   41.31,2,   34.06,2, -73.4660,-150.0000,-999.000,     -999.0,    34.8920,2,     -999.0,9,     -999.0,9,-999.0000,9,-999.0000,9,-999.0000,9,-999.0000,9,-999.0000,9,-999.0000,9,-999.0000,9,-999.0000,9,-999.0000,9,-999.0000,-999.000,   1.5666,     -999.0,     -999.0,9,     -999.0,9,     -999.0,9,     -999.0,9,     -999.0,20110315,       0634
320620110219,       P16S,      58,          1,         22,         22,2,20110315,       0510,   -73.4660,  -150.0000,       4138,   634.9,   1.4941,  34.7295,2,  34.7306,2,    189.0,2,   188.8,2,   96.90,2,   31.74,2,    0.00,2,    2.30,4,-999.000,9,-999.000,9,-999.000,9,-999.0000,9,  -999.0,9,  -999.0,9,-999.0000,9,  -999.00,-999.000,9,-999.0000,9,-999.000,9,   1.4928,2, -999.00,9,  -999.0,9,  -999.0,-999.000,9, -999.00,9,-999.000,9,   40.85,2,   34.65,2, -73.4660,-150.0000,-999.000,     -999.0,    34.8944,2,     -999.0,9,     -999.0,9,-999.0000,9,-999.0000,9,-999.0000,9,-999.0000,9,-999.0000,9,-999.0000,9,-999.0000,9,-999.0000,9,-999.0000,9,-999.0000,-999.000,   1.4602,     -999.0,     -999.0,9,     -999.0,9,     -999.0,9,     -999.0,9,     -999.0,20110315,       0631
320620110219,       P16S,      58,          1,         21,         21,2,20110315,       0510,   -73.4660,  -150.0000,       4138,   735.0,   1.4104,  34.7302,2,  34.7302,2,    189.5,2,   189.7,2,  100.15,2,   31.80,2,    0.00,2,    2.22,2,   0.212,2,   0.104,2,   0.014,2,-999.0000,9,  -999.0,9,  -999.0,9,-999.0000,9,  -999.00,-999.000,9,-999.0000,9,-999.000,9,   1.4107,2, -999.00,9,  -999.0,9,  -999.0,-999.000,9, -999.00,9,-999.000,9,   41.29,2,   34.39,2, -73.4660,-150.0000,-999.000,     -999.0,    34.8940,2,     -999.0,9,     -999.0,9,-999.0000,9,-999.0000,9,-999.0000,9,-999.0000,9,-999.0000,9,-999.0000,9,-999.0000,9,-999.0000,9,-999.0000,9,-999.0000,-999.000,   1.3711,     -999.0,     -999.0,9,     -999.0,9,     -999.0,9,     -999.0,9,     -999.0,20110315,       0629
320620110219,       P16S,      58,          1,         20,         20,2,20110315,       0510,   -73.4660,  -150.0000,       4138,   834.9,   1.3360,  34.7296,2,  34.7300,2,    189.6,2,   189.9,2,  102.73,2,   31.92,2,    0.00,2,    2.23,2,-999.000,9,-999.000,9,-999.000,9,-999.0000,9,  2260.9,2,  2353.8,6,   7.5868,2,    25.00,-999.000,9,-999.0000,9,-999.000,9,   1.3364,2, -999.00,9,  -999.0,9,  -999.0,-999.000,9, -999.00,9,-999.000,9,   41.40,2,   34.79,2, -73.4660,-150.0000,-999.000,     -999.0,    34.8938,2,     -999.0,9,     -999.0,9,-999.0000,9,-999.0000,9,-999.0000,9,-999.0000,9,-999.0000,9,-999.0000,9,-999.0000,9,-999.0000,9,-999.0000,9,-999.0000,-999.000,   1.2911,     -999.0,     -999.0,9,     -999.0,9,     -999.0,9,     -999.0,9,     -999.0,20110315,       0626
320620110219,       P16S,      58,          1,         19,         19,2,20110315,       0510,   -73.4660,  -150.0000,       4138,   935.3,   1.2652,  34.7282,2,  34.7286,2,    191.1,2,   191.0,2,  105.56,2,   31.91,2,    0.00,2,    2.24,2,   0.158,2,   0.074,2,   0.014,2,-999.0000,9,  -999.0,9,  -999.0,9,-999.0000,9,  -999.00,-999.000,9,-999.0000,9,-999.000,9,   1.2635,2, -999.00,9,  -999.0,9,  -999.0,-999.000,9, -999.00,9,-999.000,9,   40.92,2,   34.58,2, -73.4660,-150.0000,-999.000,     -999.0,    34.8924,2,     -999.0,9,     -999.0,9,-999.0000,9,-999.0000,9,-999.0000,9,-999.0000,9,-999.0000,9,-999.0000,9,-999.0000,9,-999.0000,9,-999.0000,9,-999.0000,-999.000,   1.2147,     -999.0,     -999.0,9,     -999.0,9,     -999.0,9,     -999.0,9,     -999.0,20110315,       0623
320620110219,       P16S,      58,          1,         18,         18,2,20110315,       0510,   -73.4660,  -150.0000,       4138,  1034.4,   1.2019,  34.7266,2,  34.7274,2,    192.8,2,   192.4,2,  107.76,2,   31.79,2,    0.00,2,    2.24,2,-999.000,9,-999.000,9,-999.000,9,-999.0000,9,  2262.1,2,  2356.5,2,   7.5898,6,    25.00,-999.000,9,-999.0000,9,-999.000,9,   1.2019,2, -999.00,9,  -999.0,9,  -999.0,-999.000,9, -999.00,9,-999.000,9,   40.44,2,   34.46,2, -73.4660,-150.0000,-999.000,     -999.0,    34.8912,2,     -999.0,9,     -999.0,9,-999.0000,9,-999.0000,9,-999.0000,9,-999.0000,9,-999.0000,9,-999.0000,9,-999.0000,9,-999.0000,9,-999.0000,9,-999.0000,-999.000,   1.1457,     -999.0,     -999.0,9,     -999.0,9,     -999.0,9,     -999.0,9,     -999.0,20110315,       0621
320620110219,       P16S,      58,          1,         17,         17,2,20110315,       0510,   -73.4660,  -150.0000,       4138,  1134.7,   1.1360,  34.7247,2,  34.7251,2,    194.5,2,   194.0,2,  110.10,2,   31.95,2,    0.00,2,    2.24,2,   0.128,2,   0.056,2,   0.009,2,-999.0000,9,  -999.0,9,  -999.0,9,-999.0000,9,  -999.00,-999.000,9,-999.0000,9,-999.000,9,   1.1365,2, -999.00,9,  -999.0,9,  -999.0,-999.000,9, -999.00,9,-999.000,9,   40.78,2,   34.67,2, -73.4660,-150.0000,-999.000,     -999.0,    34.8888,2,     -999.0,9,     -999.0,9,-999.0000,9,-999.0000,9,-999.0000,9,-999.0000,9,-999.0000,9,-999.0000,9,-999.0000,9,-999.0000,9,-999.0000,9,-999.0000,-999.000,   1.0740,     -999.0,     -999.0,9,     -999.0,9,     -999.0,9,     -999.0,9,     -999.0,20110315,       0618
320620110219,       P16S,      58,          1,         16,         16,2,20110315,       0510,   -73.4660,  -150.0000,       4138,  1235.3,   1.0760,  34.7223,2,  34.7235,2,    196.0,2,   195.6,2,  111.65,2,   31.96,2,    0.00,2,    2.24,2,-999.000,9,-999.000,9,-999.000,9,-999.0000,9,  2262.1,6,  2357.1,2,   7.5937,2,    25.00,-999.000,9,-999.0000,9,-999.000,9,   1.0758,2, -999.00,9,  -999.0,9,  -999.0,-999.000,9, -999.00,9,-999.000,9,   40.53,2,   34.60,2, -73.4660,-150.0000,-999.000,     -999.0,    34.8872,2,     -999.0,9,     -999.0,9,-999.0000,9,-999.0000,9,-999.0000,9,-999.0000,9,-999.0000,9,-999.0000,9,-999.0000,9,-999.0000,9,-999.0000,9,-999.0000,-999.000,   1.0080,     -999.0,     -999.0,9,     -999.0,9,     -999.0,9,     -999.0,9,     -999.0,20110315,       0615
320620110219,       P16S,      58,          1,         15,         15,2,20110315,       0510,   -73.4660,  -150.0000,       4138,  1334.7,   1.0155,  34.7201,2,  34.7209,2,    197.4,2,   197.7,2,  113.38,2,   31.93,2,    0.00,2,    2.24,2,   0.113,2,   0.055,2,   0.009,2,-999.0000,9,  -999.0,9,  -999.0,9,-999.0000,9,  -999.00,-999.000,9,-999.0000,9,-999.000,9,   1.0148,2, -999.00,9,  -999.0,9,  -999.0,-999.000,9, -999.00,9,-999.000,9,   40.03,2,   34.68,2, -73.4660,-150.0000,-999.000,     -999.0,    34.8847,2,     -999.0,9,     -999.0,9,-999.0000,9,-999.0000,9,-999.0000,9,-999.0000,9,-999.0000,9,-999.0000,9,-999.0000,9,-999.0000,9,-999.0000,9,-999.0000,-999.000,   0.9416,     -999.0,     -999.0,9,     -999.0,9,     -999.0,9,     -999.0,9,     -999.0,20110315,       0613
320620110219,       P16S,      58,          1,         14,         14,2,20110315,       0510,   -73.4660,  -150.0000,       4138,  1434.8,   0.9579,  34.7180,2,  34.7186,2,    198.7,2,   198.6,2,  114.83,2,   31.97,2,    0.00,2,    2.25,2,-999.000,9,-999.000,9,-999.000,9,-999.0000,9,  2262.7,2,  2358.7,2,   7.5950,2,    25.00,-999.000,9,-999.0000,9,-999.000,9,   0.9580,2, -999.00,9,  -999.0,9,  -999.0,-999.000,9, -999.00,9,-999.000,9,   39.80,2,   34.55,2, -73.4660,-150.0000,-999.000,     -999.0,    34.8823,2,     -999.0,9,     -999.0,9,-999.0000,9,-999.0000,9,-999.0000,9,-999.0000,9,-999.0000,9,-999.0000,9,-999.0000,9,-999.0000,9,-999.0000,9,-999.0000,-999.000,   0.8779,     -999.0,     -999.0,9,     -999.0,9,     -999.0,9,     -999.0,9,     -999.0,20110315,       0610