BOTTLE,20220813CCHSIOAMB
EXPOCODE,SECT_ID,STNNBR,CASTNO,SAMPNO,BTLNBR,BTLNBR_FLAG_W,DATE,TIME,LATITUDE,LONGITUDE,DEPTH,CTDPRS,CTDTMP,CTDSAL,CTDSAL_FLAG_W,SALNTY,SALNTY_FLAG_W,CTDOXY,CTDOXY_FLAG_W,OXYGEN,OXYGEN_FLAG_W,SILCAT,SILCAT_FLAG_W,NITRAT,NITRAT_FLAG_W,NITRIT,NITRIT_FLAG_W,PHSPHT,PHSPHT_FLAG_W,CFC-11,CFC-11_FLAG_W,CFC-12,CFC-12_FLAG_W,CFC113,CFC113_FLAG_W,SF6,SF6_FLAG_W,TCARBN,TCARBN_FLAG_W,ALKALI,ALKALI_FLAG_W,PH_TOT,PH_TOT_FLAG_W,PH_TMP,TRITUM,TRITUM_FLAG_W,HELIUM,HELIUM_FLAG_W,DELHE3,DELHE3_FLAG_W,REFTMP,REFTMP_FLAG_W,DELC13,DELC13_FLAG_W,DELC14,DELC14_FLAG_W,C14ERR,NEON,NEON_FLAG_W,DELO18,DELO18_FLAG_W,POC,POC_FLAG_W,DOC,DOC_FLAG_W,TDN,TDN_FLAG_W,BTL_LAT,BTL_LON,TRITER,NEONER,SALTREF,SALTREF_FLAG_W,PIGMENTS,PIGMENTS_FLAG_W,LAB_DEN,LAB_DEN_FLAG_W,CDOM325,CDOM325_FLAG_W,CDOM340,CDOM340_FLAG_W,CDOM380,CDOM380_FLAG_W,CDOM412,CDOM412_FLAG_W,CDOM443,CDOM443_FLAG_W,CDOM490,CDOM490_FLAG_W,CDOM555,CDOM555_FLAG_W,CDOMSL,CDOMSL_FLAG_W,CDOMSN,CDOMSN_FLAG_W,HELIER,DELHER,THETA,LDEO_SAMPNO,ABSORBTION,ABSORBTION_FLAG_W,IMAGE_COUNT,IMAGE_COUNT_FLAG_W,CYTO_COUNT,CYTO_COUNT_FLAG_W,DELD,DELD_FLAG_W,DELDERR,BTL_DATE,BTL_TIME
,,,,,,,,,,,METERS,DBAR,ITS-90,PSS-78,,PSS-78,,UMOL/KG,,UMOL/KG,,UMOL/KG,,UMOL/KG,,UMOL/KG,,UMOL/KG,,PMOL/KG,,PMOL/KG,,PMOL/KG,,FMOL/KG,,UMOL/KG,,UMOL/KG,,,,DEG C,TU,,NMOL/KG,,PERCNT,,DEG C,,/MILLE,,/MILLE,,/MILLE,NMOL/KG,,/MILLE,,UG/KG,,UMOL/KG,,UMOL/KG,,,,TU,NMOL/KG,G/KG,,,,,,1/M,,1/M,,1/M,,1/M,,1/M,,1/M,,1/M,,1/NM,,1/NM,,NMOL/KG,PERCNT,DEG C,,,,,,,,/MILLE,,/MILLE,,
320620110219,       S04P,     116,          1,         13,         13,2,20110409,       0004,   -67.0001,  -107.1501,       4634,  1665.2,   1.4628,  34.7304,2,  34.7306,2,    194.2,2,   194.4,2,   99.92,2,   31.45,2,    0.00,2,    2.18,2,-999.000,9,-999.000,9,-999.000,9,-999.0000,9,  -999.0,9,  -999.0,9,-999.0000,9,  -999.00,-999.000,9,-999.0000,9,-999.000,9,   1.4637,2, -999.00,9,  -999.0,9,  -999.0,-999.000,9, -999.00,9,-999.000,9,   39.79,2,   33.83,2, -67.0001,-107.1501,-999.000,     -999.0,    34.8943,2,     -999.0,9,     -999.0,9,-999.0000,9,-999.0000,9,-999.0000,9,-999.0000,9,-999.0000,9,-999.0000,9,-999.0000,9,-999.0000,9,-999.0000,9,-999.0000,-999.000,   1.3602,     -999.0,     -999.0,9,     -999.0,9,     -999.0,9,     -999.0,9,     -999.0,20110409,       0107
320620110219,       S04P,     116,          1,         12,         12,2,20110409,       0004,   -67.0001,  -107.1501,       4634,  1864.8,   1.3145,  34.7270,2,  34.7268,2,    196.0,2,   195.9,2,  104.53,2,   31.64,2,    0.00,2,    2.20,2,   0.145,2,   0.068,2,   0.016,2,   0.0660,2,  2259.0,6,  2361.4,2,   7.6038,2,    25.00,-999.000,9,-999.0000,9,-999.000,9,   1.3147,2, -999.00,9,  -999.0,9,  -999.0,-999.000,9, -999.00,9,-999.000,9,   39.98,2,   34.33,2, -67.0001,-107.1501,-999.000,     -999.0,    34.8906,2,     -999.0,9,     -999.0,9,-999.0000,9,-999.0000,9,-999.0000,9,-999.0000,9,-999.0000,9,-999.0000,9,-999.0000,9,-999.0000,9,-999.0000,9,-999.0000,-999.000,   1.1988,     -999.0,     -999.0,9,     -999.0,9,     -999.0,9,     -999.0,9,     -999.0,20110409,       0102
320620110219,       S04P,     116,          1,         11,         11,2,20110409,       0004,   -67.0001,  -107.1501,       4634,  2083.8,   1.1952,  34.7238,2,  34.7233,2,    198.1,2,   198.3,2,  108.53,2,   31.77,2,    0.00,2,    2.21,2,-999.000,9,-999.000,9,-999.000,9,-999.0000,9,  -999.0,9,  -999.0,9,-999.0000,9,  -999.00,-999.000,9,-999.0000,9,-999.000,9,   1.1956,2, -999.00,9,  -999.0,9,  -999.0,-999.000,9, -999.00,9,-999.000,9,   39.90,2,   34.33,2, -67.0001,-107.1501,-999.000,     -999.0,    34.8870,2,     -999.0,9,     -999.0,9,-999.0000,9,-999.0000,9,-999.0000,9,-999.0000,9,-999.0000,9,-999.0000,9,-999.0000,9,-999.0000,9,-999.0000,9,-999.0000,-999.000,   1.0641,     -999.0,     -999.0,9,     -999.0,9,     -999.0,9,     -999.0,9,     -999.0,20110409,       0058
320620110219,       S04P,     116,          1,         10,         37,2,20110409,       0004,   -67.0001,  -107.1501,       4634,  2334.5,   1.0697,  34.7194,2,  34.7191,2,    200.2,2,   200.2,2,  113.16,2,   31.85,2,    0.00,2,    2.21,2,-999.000,9,-999.000,9,-999.000,9,-999.0000,9,  2260.6,2,  2361.6,2,   7.6027,2,    25.00,-999.000,9,-999.0000,9,-999.000,9,   1.0700,2, -999.00,9,  -999.0,9,  -999.0,-999.000,9, -999.00,9,-999.000,9,   39.49,2,   34.21,2, -67.0001,-107.1501,-999.000,     -999.0,    34.8829,2,     -999.0,9,     -999.0,9,-999.0000,9,-999.0000,9,-999.0000,9,-999.0000,9,-999.0000,9,-999.0000,9,-999.0000,9,-999.0000,9,-999.0000,9,-999.0000,-999.000,   0.9204,     -999.0,     -999.0,9,     -999.0,9,     -999.0,9,     -999.0,9,     -999.0,20110409,       0053
320620110219,       S04P,     116,          1,          9,          9,2,20110409,       0004,   -67.0001,  -107.1501,       4634,  2585.8,   0.9494,  34.7145,2,  34.7142,2,    202.2,2,   202.3,2,  117.38,2,   32.09,2,    0.00,2,    2.23,2,-999.000,9,-999.000,9,-999.000,9,-999.0000,9,  -999.0,9,  -999.0,9,-999.0000,9,  -999.00,-999.000,9,-999.0000,9,-999.000,9,   0.9498,2, -999.00,9,  -999.0,9,  -999.0,-999.000,9, -999.00,9,-999.000,9,   39.65,2,   34.60,2, -67.0001,-107.1501,-999.000,     -999.0,    34.8779,2,     -999.0,9,     -999.0,9,-999.0000,9,-999.0000,9,-999.0000,9,-999.0000,9,-999.0000,9,-999.0000,9,-999.0000,9,-999.0000,9,-999.0000,9,-999.0000,-999.000,   0.7812,     -999.0,     -999.0,9,     -999.0,9,     -999.0,9,     -999.0,9,     -999.0,20110409,       0048
320620110219,       S04P,     116,          1,          8,          8,2,20110409,       0004,   -67.0001,  -107.1501,       4634,  2835.4,   0.8448,  34.7106,2,  34.7101,2,    204.2,2,   204.7,2,  121.75,2,   32.29,2,    0.00,2,    2.24,2,   0.241,2,   0.108,2,   0.019,2,   0.0280,2,  2262.2,2,  2359.3,3,   7.5994,2,    25.00,-999.000,9,-999.0000,9,-999.000,9,   0.8446,2, -999.00,9,  -999.0,9,  -999.0,-999.000,9, -999.00,9,-999.000,9,   39.74,2,   34.71,2, -67.0001,-107.1501,-999.000,     -999.0,    34.8738,2,     -999.0,9,     -999.0,9,-999.0000,9,-999.0000,9,-999.0000,9,-999.0000,9,-999.0000,9,-999.0000,9,-999.0000,9,-999.0000,9,-999.0000,9,-999.0000,-999.000,   0.6571,     -999.0,     -999.0,9,     -999.0,9,     -999.0,9,     -999.0,9,     -999.0,20110409,       0042
320620110219,       S04P,     116,          1,          7,          7,2,20110409,       0004,   -67.0001,  -107.1501,       4634,  3100.1,   0.7429,  34.7080,2,  34.7073,2,    205.9,2,   206.0,2,  124.35,2,   32.36,2,    0.00,2,    2.24,2,   0.238,2,   0.103,2,   0.013,2,   0.0390,2,  -999.0,9,  -999.0,9,-999.0000,9,  -999.00,-999.000,9,-999.0000,9,-999.000,9,   0.7429,2, -999.00,9,  -999.0,9,  -999.0,-999.000,9, -999.00,9,-999.000,9,   39.44,2,   34.82,2, -67.0001,-107.1501,-999.000,     -999.0,    34.8710,2,     -999.0,9,     -999.0,9,-999.0000,9,-999.0000,9,-999.0000,9,-999.0000,9,-999.0000,9,-999.0000,9,-999.0000,9,-999.0000,9,-999.0000,9,-999.0000,-999.000,   0.5336,     -999.0,     -999.0,9,     -999.0,9,     -999.0,9,     -999.0,9,     -999.0,20110409,       0037
320620110219,       S04P,     116,          1,          6,          6,2,20110409,       0004,   -67.0001,  -107.1501,       4634,  3400.2,   0.6074,  34.7044,2,  34.7034,2,    208.5,2,   209.2,2,  126.73,2,   32.53,2,    0.00,2,    2.24,2,   0.289,2,   0.126,2,   0.017,2,   0.0340,2,  2261.9,2,  2361.8,2,   7.5977,2,    25.00,-999.000,9,-999.0000,9,-999.000,9,   0.6077,2, -999.00,9,  -999.0,9,  -999.0,-999.000,9, -999.00,9,-999.000,9,   39.62,2,   34.82,2, -67.0001,-107.1501,-999.000,     -999.0,    34.8670,2,     -999.0,9,     -999.0,9,-999.0000,9,-999.0000,9,-999.0000,9,-999.0000,9,-999.0000,9,-999.0000,9,-999.0000,9,-999.0000,9,-999.0000,9,-999.0000,-999.000,   0.3733,     -999.0,     -999.0,9,     -999.0,9,     -999.0,9,     -999.0,9,     -999.0,20110409,       0031
320620110219,       S04P,     116,          1,          5,          5,2,20110409,       0004,   -67.0001,  -107.1501,       4634,  3699.8,   0.5084,  34.7034,2,  34.7034,2,    211.0,2,   210.9,2,  130.66,2,   32.65,2,    0.00,2,    2.24,2,-999.000,9,-999.000,9,-999.000,9,-999.0000,9,  -999.0,9,  -999.0,9,-999.0000,9,  -999.00,-999.000,9,-999.0000,9,-999.000,9,   0.5085,2, -999.00,9,  -999.0,9,  -999.0,-999.000,9, -999.00,9,-999.000,9,   39.47,2,   35.12,2, -67.0001,-107.1501,-999.000,     -999.0,    34.8670,2,     -999.0,9,     -999.0,9,-999.0000,9,-999.0000,9,-999.0000,9,-999.0000,9,-999.0000,9,-999.0000,9,-999.0000,9,-999.0000,9,-999.0000,9,-999.0000,-999.000,   0.2478,     -999.0,     -999.0,9,     -999.0,9,     -999.0,9,     -999.0,9,     -999.0,20110409,       0025
320620110219,       S04P,     116,          1,          4,          4,2,20110409,       0004,   -67.0001,  -107.1501,       4634,  3999.1,   0.4436,  34.7027,2,  34.7024,2,    213.0,2,   212.8,2,  134.04,2,   32.76,2,    0.00,2,    2.24,2,   0.334,2,   0.155,2,   0.021,2,   0.0830,2,  2263.1,2,  2362.9,2,   7.5972,2,    25.00,-999.000,9,-999.0000,9,-999.000,9,   0.4438,2, -999.00,9,  -999.0,9,  -999.0,-999.000,9, -999.00,9,-999.000,9,   39.90,2,   35.24,2, -67.0001,-107.1501,-999.000,     -999.0,    34.8660,2,     -999.0,9,     -999.0,9,-999.0000,9,-999.0000,9,-999.0000,9,-999.0000,9,-999.0000,9,-999.0000,9,-999.0000,9,-999.0000,9,-999.0000,9,-999.0000,-999.000,   0.1546,     -999.0,     -999.0,9,     -999.0,9,     -999.0,9,     -999.0,9,     -999.0,20110409,       0020
320620110219,       S04P,     116,          1,          3,          3,2,20110409,       0004,   -67.0001,  -107.1501,       4634,  4299.9,   0.3983,  34.7019,2,  34.7026,2,    214.8,2,   214.3,2,  136.39,2,   32.87,2,    0.00,2,    2.24,2,   0.352,2,   0.147,2,   0.017,2,   0.0370,2,  2263.1,2,  2362.5,2,   7.5957,2,    25.00,-999.000,9,-999.0000,9,-999.000,9,   0.3979,2, -999.00,9,  -999.0,9,  -999.0,-999.000,9, -999.00,9,-999.000,9,   40.17,2,   35.34,2, -67.0001,-107.1501,-999.000,     -999.0,    34.8662,2,     -999.0,9,     -999.0,9,-999.0000,9,-999.0000,9,-999.0000,9,-999.0000,9,-999.0000,9,-999.0000,9,-999.0000,9,-999.0000,9,-999.0000,9,-999.0000,-999.000,   0.0792,     -999.0,     -999.0,9,     -999.0,9,     -999.0,9,     -999.0,9,     -999.0,20110409,       0014
320620110219,       S04P,     116,          1,          2,          2,2,20110409,       0004,   -67.0001,  -107.1501,       4634,  4549.9,   0.3919,  34.7012,2,  34.7016,2,    215.2,2,   214.3,2,  139.61,2,   32.69,2,    0.00,2,    2.25,2,   0.392,2,   0.180,2,   0.019,2,   0.0620,2,  2262.9,2,  2360.9,2,   7.5954,6,    25.00,-999.000,9,-999.0000,9,-999.000,9,   0.3919,2, -999.00,9,  -999.0,9,  -999.0,-999.000,9, -999.00,9,-999.000,9,   40.44,2,   35.46,2, -67.0001,-107.1501,-999.000,     -999.0,    34.8652,2,     -999.0,9,     -999.0,9,-999.0000,9,-999.0000,9,-999.0000,9,-999.0000,9,-999.0000,9,-999.0000,9,-999.0000,9,-999.0000,9,-999.0000,9,-999.0000,-999.000,   0.0460,     -999.0,     -999.0,9,     -999.0,9,     -999.0,9,     -999.0,9,     -999.0,20110409,       0008
320620110219,       S04P,     116,          1,          1,          1,2,20110409,       0004,   -67.0001,  -107.1501,       4634,  4716.9,   0.4023,  34.7010,2,  34.7010,2,    215.8,2,   215.8,2,  141.33,2,   32.77,2,    0.00,2,    2.25,2,   0.420,2,   0.189,2,   0.016,2,   0.0450,2,  2263.4,6,  2362.7,2,   7.5957,2,    25.00,-999.000,9,-999.0000,9,-999.000,9,   0.4020,2, -999.00,9,  -999.0,9,  -999.0,-999.000,9, -999.00,9,-999.000,9,   40.07,2,   35.56,2, -67.0001,-107.1501,-999.000,     -999.0,    34.8646,2,     -999.0,9,     -999.0,9,-999.0000,9,-999.0000,9,-999.0000,9,-999.0000,9,-999.0000,9,-999.0000,9,-999.0000,9,-999.0000,9,-999.0000,9,-999.0000,-999.000,   0.0375,     -999.0,     -999.0,9,     -999.0,9,     -999.0,9,     -999.0,9,     -999.0,20110409,       0004