BOTTLE,20220813CCHSIOAMB
EXPOCODE,SECT_ID,STNNBR,CASTNO,SAMPNO,BTLNBR,BTLNBR_FLAG_W,DATE,TIME,LATITUDE,LONGITUDE,DEPTH,CTDPRS,CTDTMP,CTDSAL,CTDSAL_FLAG_W,SALNTY,SALNTY_FLAG_W,CTDOXY,CTDOXY_FLAG_W,OXYGEN,OXYGEN_FLAG_W,SILCAT,SILCAT_FLAG_W,NITRAT,NITRAT_FLAG_W,NITRIT,NITRIT_FLAG_W,PHSPHT,PHSPHT_FLAG_W,CFC-11,CFC-11_FLAG_W,CFC-12,CFC-12_FLAG_W,CFC113,CFC113_FLAG_W,SF6,SF6_FLAG_W,TCARBN,TCARBN_FLAG_W,ALKALI,ALKALI_FLAG_W,PH_TOT,PH_TOT_FLAG_W,PH_TMP,TRITUM,TRITUM_FLAG_W,HELIUM,HELIUM_FLAG_W,DELHE3,DELHE3_FLAG_W,REFTMP,REFTMP_FLAG_W,DELC13,DELC13_FLAG_W,DELC14,DELC14_FLAG_W,C14ERR,NEON,NEON_FLAG_W,DELO18,DELO18_FLAG_W,POC,POC_FLAG_W,DOC,DOC_FLAG_W,TDN,TDN_FLAG_W,BTL_LAT,BTL_LON,TRITER,NEONER,SALTREF,SALTREF_FLAG_W,PIGMENTS,PIGMENTS_FLAG_W,LAB_DEN,LAB_DEN_FLAG_W,CDOM325,CDOM325_FLAG_W,CDOM340,CDOM340_FLAG_W,CDOM380,CDOM380_FLAG_W,CDOM412,CDOM412_FLAG_W,CDOM443,CDOM443_FLAG_W,CDOM490,CDOM490_FLAG_W,CDOM555,CDOM555_FLAG_W,CDOMSL,CDOMSL_FLAG_W,CDOMSN,CDOMSN_FLAG_W,HELIER,DELHER,THETA,LDEO_SAMPNO,ABSORBTION,ABSORBTION_FLAG_W,IMAGE_COUNT,IMAGE_COUNT_FLAG_W,CYTO_COUNT,CYTO_COUNT_FLAG_W,DELD,DELD_FLAG_W,DELDERR,BTL_DATE,BTL_TIME
,,,,,,,,,,,METERS,DBAR,ITS-90,PSS-78,,PSS-78,,UMOL/KG,,UMOL/KG,,UMOL/KG,,UMOL/KG,,UMOL/KG,,UMOL/KG,,PMOL/KG,,PMOL/KG,,PMOL/KG,,FMOL/KG,,UMOL/KG,,UMOL/KG,,,,DEG C,TU,,NMOL/KG,,PERCNT,,DEG C,,/MILLE,,/MILLE,,/MILLE,NMOL/KG,,/MILLE,,UG/KG,,UMOL/KG,,UMOL/KG,,,,TU,NMOL/KG,G/KG,,,,,,1/M,,1/M,,1/M,,1/M,,1/M,,1/M,,1/M,,1/NM,,1/NM,,NMOL/KG,PERCNT,DEG C,,,,,,,,/MILLE,,/MILLE,,
320620110219,       P15S,      91,          2,         36,         36,2,20110326,       0801,   -71.1116,  -170.0023,       4122,     5.1,  -1.4728,  33.6951,2,  33.6944,2,    345.5,3,   349.5,2,   51.28,2,   26.09,2,    0.10,2,    1.78,2,   6.278,2,   3.393,2,   0.628,2,   2.7800,2,  2159.2,6,  2282.5,2,   7.6795,2,    25.00,   0.108,2,    1.947,2,  -1.903,2,  -1.4730,2, -999.00,9,  -999.0,9,  -999.0,   8.872,2,   -0.41,2,-999.000,9,   44.03,2,   29.60,2, -71.1116,-170.0023,   0.005,      0.007,    33.8533,2,     -999.0,9,     -999.0,9,-999.0000,9,-999.0000,9,-999.0000,9,-999.0000,9,-999.0000,9,-999.0000,9,-999.0000,9,-999.0000,9,-999.0000,9,    0.001,   0.220,  -1.4729,50009102036,     -999.0,9,     -999.0,1,     -999.0,1,      -4.22,2,       0.12,20110326,       0946
320620110219,       P15S,      91,          2,         35,         35,2,20110326,       0801,   -71.1116,  -170.0023,       4122,    19.6,  -1.4715,  33.6953,2,  33.6952,2,    350.2,2,   349.7,2,   51.05,2,   26.10,2,    0.10,2,    1.78,2,   6.251,2,   3.401,2,   0.617,2,   2.7230,2,  2160.0,2,  2281.5,6,   7.6808,2,    25.00,-999.000,9,    1.988,2,  -1.086,2,  -1.4715,2, -999.00,9,  -999.0,9,  -999.0,   9.036,2, -999.00,9,-999.000,9,   44.11,2,   29.77,2, -71.1116,-170.0023,-999.000,      0.007,    33.8541,2,     -999.0,9,     -999.0,9,-999.0000,9,-999.0000,9,-999.0000,9,-999.0000,9,-999.0000,9,-999.0000,9,-999.0000,9,-999.0000,9,-999.0000,9,    0.001,   0.222,  -1.4719,50009102035,     -999.0,9,     -999.0,9,     -999.0,9,     -999.0,9,     -999.0,20110326,       0945
320620110219,       P15S,      91,          2,         34,         34,2,20110326,       0801,   -71.1116,  -170.0023,       4122,    39.7,  -1.4556,  33.7046,3,  33.7628,2,    350.4,2,   342.2,2,   51.85,2,   26.44,2,    0.09,2,    1.82,2,   6.071,2,   3.284,2,   0.615,2,   2.6650,2,  2165.8,2,  2283.9,2,   7.6741,6,    25.00,-999.000,9,    1.949,2,  -1.670,2,  -1.4562,2, -999.00,9,  -999.0,9,  -999.0,   8.830,2, -999.00,9,-999.000,9,   44.14,2,   30.22,2, -71.1116,-170.0023,-999.000,      0.007,    33.9220,2,     -999.0,9,     -999.0,9,-999.0000,9,-999.0000,9,-999.0000,9,-999.0000,9,-999.0000,9,-999.0000,9,-999.0000,9,-999.0000,9,-999.0000,9,    0.001,   0.233,  -1.4564,50009102034,     -999.0,9,     -999.0,9,     -999.0,9,     -999.0,9,     -999.0,20110326,       0943
320620110219,       P15S,      91,          2,         33,         33,2,20110326,       0801,   -71.1116,  -170.0023,       4122,    65.6,  -1.7025,  34.1886,2,  34.1906,2,    295.2,2,   294.5,2,   56.39,2,   29.17,2,    0.14,2,    2.01,2,   4.763,2,   2.539,2,   0.478,2,   1.8850,2,  2206.4,2,  2307.8,2,   7.6234,2,    25.00,   0.075,2,    1.940,2,   1.575,2,  -1.7016,2, -999.00,9,  -999.0,9,  -999.0,   8.665,2,   -0.19,2,-999.000,9,   43.29,2,   32.11,2, -71.1116,-170.0023,   0.006,      0.007,    34.3518,2,     -999.0,9,     -999.0,9,-999.0000,9,-999.0000,9,-999.0000,9,-999.0000,9,-999.0000,9,-999.0000,9,-999.0000,9,-999.0000,9,-999.0000,9,    0.001,   0.208,  -1.7038,50009102033,     -999.0,9,     -999.0,9,     -999.0,9,      -3.00,2,       0.04,20110326,       0942
320620110219,       P15S,      91,          2,         32,         32,2,20110326,       0801,   -71.1116,  -170.0023,       4122,    90.2,  -1.6351,  34.2315,2,  34.2280,2,    291.1,2,   291.8,2,   56.90,2,   29.45,2,    0.10,2,    2.03,2,   4.723,2,   2.529,2,   0.459,2,   1.8400,2,  2210.4,2,  2317.0,4,   7.6202,2,    25.00,-999.000,9,    1.946,2,   1.431,2,  -1.6380,2, -999.00,9,  -999.0,9,  -999.0,   8.786,2, -999.00,9,-999.000,9,   41.58,2,   32.16,2, -71.1116,-170.0023,-999.000,      0.008,    34.3894,2,     -999.0,9,     -999.0,9,-999.0000,9,-999.0000,9,-999.0000,9,-999.0000,9,-999.0000,9,-999.0000,9,-999.0000,9,-999.0000,9,-999.0000,9,    0.001,   0.218,  -1.6370,50009102032,     -999.0,9,     -999.0,9,     -999.0,9,     -999.0,9,     -999.0,20110326,       0940
320620110219,       P15S,      91,          2,         31,         31,2,20110326,       0801,   -71.1116,  -170.0023,       4122,   113.2,  -1.4219,  34.2615,2,  34.2629,2,    284.7,2,   283.2,2,   58.99,2,   29.76,2,    0.02,2,    2.05,2,   4.430,2,   2.339,2,   0.436,2,   1.7550,2,  2213.4,2,  2312.8,6,   7.6136,2,    25.00,   0.071,2,    1.956,2,   2.123,2,  -1.4282,2, -999.00,9,  -999.0,9,  -999.0,   8.838,2,   -0.46,2,-999.000,9,   41.15,2,   32.62,2, -71.1116,-170.0024,   0.006,      0.007,    34.4244,2,     -999.0,9,     -999.0,9,-999.0000,9,-999.0000,9,-999.0000,9,-999.0000,9,-999.0000,9,-999.0000,9,-999.0000,9,-999.0000,9,-999.0000,9,    0.001,   0.230,  -1.4245,50009102031,     -999.0,9,     -999.0,9,     -999.0,9,      -3.49,2,       0.05,20110326,       0939
320620110219,       P15S,      91,          2,         30,         30,2,20110326,       0801,   -71.1116,  -170.0023,       4122,   139.4,  -0.8336,  34.3393,2,  34.3414,2,    264.2,2,   262.7,2,   65.07,2,   30.40,2,    0.00,2,    2.10,2,   3.749,2,   1.996,2,   0.359,2,   1.4300,2,  2224.7,2,  2318.1,2,   7.6018,2,    25.00,-999.000,9,    1.952,2,   2.837,2,  -0.8264,2, -999.00,9,  -999.0,9,  -999.0,   8.731,2, -999.00,9,-999.000,9,   41.69,2,   33.08,2, -71.1116,-170.0023,-999.000,      0.006,    34.5034,2,     -999.0,9,     -999.0,9,-999.0000,9,-999.0000,9,-999.0000,9,-999.0000,9,-999.0000,9,-999.0000,9,-999.0000,9,-999.0000,9,-999.0000,9,    0.001,   0.220,  -0.8376,50009102030,     -999.0,9,     -999.0,9,     -999.0,9,     -999.0,9,     -999.0,20110326,       0938
320620110219,       P15S,      91,          2,         29,         29,2,20110326,       0801,   -71.1116,  -170.0023,       4122,   185.0,   0.3412,  34.4976,2,  34.4953,2,    225.4,2,   220.7,2,   76.33,2,   31.83,2,    0.00,2,    2.19,2,   2.175,2,   1.156,2,   0.198,2,   0.8460,2,  2240.6,2,  2327.9,2,   7.5757,2,    25.00,   0.020,2,    1.973,2,   3.610,2,   0.3444,2, -999.00,9,  -999.0,9,  -999.0,   8.806,2,   -0.31,2,-999.000,9,   41.11,2,   34.25,2, -71.1116,-170.0023,   0.004,      0.007,    34.6580,2,     -999.0,9,     -999.0,9,-999.0000,9,-999.0000,9,-999.0000,9,-999.0000,9,-999.0000,9,-999.0000,9,-999.0000,9,-999.0000,9,-999.0000,9,    0.000,   0.208,   0.3339,50009102029,     -999.0,9,     -999.0,9,     -999.0,9,      -2.34,2,       0.09,20110326,       0936
320620110219,       P15S,      91,          2,         28,         28,2,20110326,       0801,   -71.1116,  -170.0023,       4122,   234.6,   1.2699,  34.6266,2,  34.6316,2,    195.3,2,   191.5,2,   84.49,2,   32.40,2,    0.00,2,    2.24,2,   0.951,2,   0.494,2,   0.083,2,   0.2510,2,  2251.9,2,  2337.1,2,   7.5651,2,    25.00,-999.000,9,    1.961,2,   8.674,2,   1.2727,2, -999.00,9,  -999.0,9,  -999.0,   8.570,2, -999.00,9,-999.000,9,   41.45,2,   34.62,2, -71.1116,-170.0023,-999.000,      0.007,    34.7949,2,     -999.0,9,     -999.0,9,-999.0000,9,-999.0000,9,-999.0000,9,-999.0000,9,-999.0000,9,-999.0000,9,-999.0000,9,-999.0000,9,-999.0000,9,    0.001,   0.255,   1.2587,50009102028,     -999.0,9,     -999.0,9,     -999.0,9,     -999.0,9,     -999.0,20110326,       0934
320620110219,       P15S,      91,          2,         27,         27,2,20110326,       0801,   -71.1116,  -170.0023,       4122,   284.9,   1.5944,  34.6942,2,  34.6946,2,    184.0,2,   184.1,2,   88.24,2,   32.12,2,    0.00,2,    2.23,2,   0.561,2,   0.273,2,   0.044,2,   0.1930,2,  2256.1,2,  2342.5,2,   7.5721,2,    25.00,   0.001,2,    1.974,2,   8.586,2,   1.5950,2, -999.00,9,  -999.0,9,  -999.0,   8.654,2,    0.07,2,-999.000,9,   41.61,2,   34.79,2, -71.1116,-170.0023,   0.003,      0.006,    34.8582,2,     -999.0,9,     -999.0,9,-999.0000,9,-999.0000,9,-999.0000,9,-999.0000,9,-999.0000,9,-999.0000,9,-999.0000,9,-999.0000,9,-999.0000,9,    0.001,   0.228,   1.5798,50009102027,     -999.0,9,     -999.0,9,     -999.0,9,      -0.95,2,       0.13,20110326,       0932
320620110219,       P15S,      91,          2,         26,         26,2,20110326,       0801,   -71.1116,  -170.0023,       4122,   334.8,   1.5985,  34.7140,2,  34.7130,2,    183.2,2,   183.4,2,   90.52,2,   31.89,2,    0.00,2,    2.22,2,-999.000,9,-999.000,9,-999.000,9,-999.0000,9,  2256.6,2,  2344.3,2,   7.5747,2,    25.00,-999.000,9,-999.0000,9,-999.000,9,   1.5982,2, -999.00,9,  -999.0,9,  -999.0,-999.000,9, -999.00,9,-999.000,9,   41.56,2,   34.56,2, -71.1116,-170.0023,-999.000,     -999.0,    34.8767,2,     -999.0,9,     -999.0,9,-999.0000,9,-999.0000,9,-999.0000,9,-999.0000,9,-999.0000,9,-999.0000,9,-999.0000,9,-999.0000,9,-999.0000,9,-999.0000,-999.000,   1.5812,     -999.0,     -999.0,9,     -999.0,9,     -999.0,9,     -999.0,9,     -999.0,20110326,       0930
320620110219,       P15S,      91,          2,         25,         25,2,20110326,       0801,   -71.1116,  -170.0023,       4122,   384.7,   1.5655,  34.7220,2,  34.7219,2,    184.3,2,   184.4,2,   92.84,2,   31.76,2,    0.00,2,    2.21,2,   0.314,2,   0.155,2,   0.020,2,   0.0670,2,  2257.6,2,  2346.4,2,   7.5777,2,    25.00,   0.001,2,    1.996,2,   8.821,2,   1.5648,2, -999.00,9,  -999.0,9,  -999.0,   8.727,2,   -0.05,2,-999.000,9,   41.67,2,   34.58,2, -71.1116,-170.0024,   0.004,      0.007,    34.8856,2,     -999.0,9,     -999.0,9,-999.0000,9,-999.0000,9,-999.0000,9,-999.0000,9,-999.0000,9,-999.0000,9,-999.0000,9,-999.0000,9,-999.0000,9,    0.001,   0.261,   1.5456,50009102025,     -999.0,9,     -999.0,9,     -999.0,9,      -1.78,2,       0.29,20110326,       0928
320620110219,       P15S,      91,          2,         24,         24,2,20110326,       0801,   -71.1116,  -170.0023,       4122,   434.7,   1.5278,  34.7258,2,  34.7264,2,    184.7,2,   184.6,2,   94.85,2,   31.74,2,    0.00,2,    2.21,2,-999.000,9,-999.000,9,-999.000,9,-999.0000,9,  2259.0,2,  2349.6,2,   7.5781,2,    25.00,-999.000,9,-999.0000,9,-999.000,9,   1.5269,2, -999.00,9,  -999.0,9,  -999.0,-999.000,9, -999.00,9,-999.000,9,   41.50,2,   34.52,2, -71.1116,-170.0023,-999.000,     -999.0,    34.8902,2,     -999.0,9,     -999.0,9,-999.0000,9,-999.0000,9,-999.0000,9,-999.0000,9,-999.0000,9,-999.0000,9,-999.0000,9,-999.0000,9,-999.0000,9,-999.0000,-999.000,   1.5052,     -999.0,     -999.0,9,     -999.0,9,     -999.0,9,     -999.0,9,     -999.0,20110326,       0927
320620110219,       P15S,      91,          2,         23,         23,2,20110326,       0801,   -71.1116,  -170.0023,       4122,   484.7,   1.4698,  34.7287,2,  34.7292,2,    185.2,2,   185.0,2,   97.48,2,   31.87,2,    0.00,2,    2.22,2,   0.279,2,   0.129,2,   0.022,2,   0.0630,2,  2259.6,2,  2348.7,2,   7.5795,2,    25.00,   0.001,2,    2.001,2,   8.811,2,   1.4697,2, -999.00,9,  -999.0,9,  -999.0,   8.715,2,    0.11,2,-999.000,9,   41.15,2,   34.39,2, -71.1116,-170.0023,   0.004,      0.007,    34.8929,2,     -999.0,9,     -999.0,9,-999.0000,9,-999.0000,9,-999.0000,9,-999.0000,9,-999.0000,9,-999.0000,9,-999.0000,9,-999.0000,9,-999.0000,9,    0.001,   0.195,   1.4447,50009102023,     -999.0,9,     -999.0,9,     -999.0,9,      -0.96,2,       0.17,20110326,       0924
320620110219,       P15S,      91,          2,         22,         22,2,20110326,       0801,   -71.1116,  -170.0023,       4122,   565.2,   1.3969,  34.7301,2,  34.7307,2,    185.5,2,   185.1,2,  100.56,2,   31.88,2,    0.00,2,    2.22,2,-999.000,9,-999.000,9,-999.000,9,-999.0000,9,  -999.0,9,  -999.0,9,-999.0000,9,  -999.00,-999.000,9,-999.0000,9,-999.000,9,   1.3966,2, -999.00,9,  -999.0,9,  -999.0,-999.000,9, -999.00,9,-999.000,9,   40.69,2,   34.38,2, -71.1116,-170.0023,-999.000,     -999.0,    34.8945,2,     -999.0,9,     -999.0,9,-999.0000,9,-999.0000,9,-999.0000,9,-999.0000,9,-999.0000,9,-999.0000,9,-999.0000,9,-999.0000,9,-999.0000,9,-999.0000,-999.000,   1.3675,     -999.0,     -999.0,9,     -999.0,9,     -999.0,9,     -999.0,9,     -999.0,20110326,       0922
320620110219,       P15S,      91,          2,         21,         21,2,20110326,       0801,   -71.1116,  -170.0023,       4122,   664.4,   1.3209,  34.7300,2,  34.7298,2,    187.5,2,   187.7,2,  103.02,2,   31.82,2,    0.00,2,    2.22,2,   0.165,2,   0.077,2,   0.012,2,   0.0040,2,  2261.4,2,  2352.5,6,   7.5826,2,    25.00,-999.000,9,-999.0000,9,-999.000,9,   1.3208,2, -999.00,9,  -999.0,9,  -999.0,-999.000,9,    0.05,2,-999.000,9,   40.79,2,   34.37,2, -71.1116,-170.0023,-999.000,     -999.0,    34.8935,2,     -999.0,9,     -999.0,9,-999.0000,9,-999.0000,9,-999.0000,9,-999.0000,9,-999.0000,9,-999.0000,9,-999.0000,9,-999.0000,9,-999.0000,9,-999.0000,-999.000,   1.2862,     -999.0,     -999.0,9,     -999.0,9,     -999.0,9,      -1.23,2,       0.18,20110326,       0919
320620110219,       P15S,      91,          2,         20,         20,2,20110326,       0801,   -71.1116,  -170.0023,       4122,   764.7,   1.2513,  34.7287,2,  34.7294,2,    189.1,2,   188.6,2,  105.54,2,   31.86,2,    0.00,2,    2.24,2,   0.131,2,   0.066,2,   0.007,2,   0.0230,2,  -999.0,9,  -999.0,9,-999.0000,9,  -999.00,-999.000,9,    1.971,2,   9.387,2,   1.2510,2, -999.00,9,  -999.0,9,  -999.0,   8.595,2, -999.00,9,-999.000,9,   40.90,2,   34.47,2, -71.1116,-170.0023,-999.000,      0.007,    34.8932,2,     -999.0,9,     -999.0,9,-999.0000,9,-999.0000,9,-999.0000,9,-999.0000,9,-999.0000,9,-999.0000,9,-999.0000,9,-999.0000,9,-999.0000,9,    0.001,   0.193,   1.2112,50009102020,     -999.0,9,     -999.0,9,     -999.0,9,     -999.0,9,     -999.0,20110326,       0917
320620110219,       P15S,      91,          2,         19,         19,2,20110326,       0801,   -71.1116,  -170.0023,       4122,   864.8,   1.1913,  34.7271,2,  34.7280,2,    190.5,2,   190.4,2,  107.63,2,   31.71,2,    0.00,2,    2.24,2,   0.117,2,   0.057,2,   0.007,2,   0.0020,2,  2262.4,2,  2354.0,6,   7.5848,2,    25.00,-999.000,9,    1.994,2,   9.502,2,   1.1913,2, -999.00,9,  -999.0,9,  -999.0,   8.703,2,    0.00,2,-999.000,9,   40.81,2,   34.38,2, -71.1116,-170.0023,-999.000,      0.007,    34.8918,2,     -999.0,9,     -999.0,9,-999.0000,9,-999.0000,9,-999.0000,9,-999.0000,9,-999.0000,9,-999.0000,9,-999.0000,9,-999.0000,9,-999.0000,9,    0.001,   0.207,   1.1456,50009102019,     -999.0,9,     -999.0,9,     -999.0,9,      -1.40,2,       0.20,20110326,       0914
320620110219,       P15S,      91,          2,         18,         18,2,20110326,       0801,   -71.1116,  -170.0023,       4122,   964.2,   1.1219,  34.7249,2,  34.7261,2,    192.0,2,   191.9,2,  109.18,2,   31.77,2,    0.00,2,    2.24,2,-999.000,9,-999.000,9,-999.000,9,-999.0000,9,  -999.0,9,  -999.0,9,-999.0000,9,  -999.00,-999.000,9,-999.0000,9,-999.000,9,   1.1216,2, -999.00,9,  -999.0,9,  -999.0,-999.000,9, -999.00,9,-999.000,9,   40.42,2,   34.53,2, -71.1116,-170.0024,-999.000,     -999.0,    34.8898,2,     -999.0,9,     -999.0,9,-999.0000,9,-999.0000,9,-999.0000,9,-999.0000,9,-999.0000,9,-999.0000,9,-999.0000,9,-999.0000,9,-999.0000,9,-999.0000,-999.000,   1.0707,     -999.0,     -999.0,9,     -999.0,9,     -999.0,9,     -999.0,9,     -999.0,20110326,       0911
320620110219,       P15S,      91,          2,         17,         17,2,20110326,       0801,   -71.1116,  -170.0023,       4122,  1064.3,   1.0596,  34.7228,2,  34.7231,2,    193.9,2,   194.2,2,  111.26,2,   31.88,2,    0.00,2,    2.24,2,   0.092,2,   0.047,2,   0.007,2,   0.0530,2,  2262.6,2,  2355.4,2,   7.5901,6,    25.00,   0.001,2,    1.994,2,   9.346,2,   1.0598,2, -999.00,9,  -999.0,9,  -999.0,   8.633,2,   -0.08,2,-999.000,9,   40.24,2,   34.62,2, -71.1116,-170.0024,   0.003,      0.006,    34.8869,2,     -999.0,9,     -999.0,9,-999.0000,9,-999.0000,9,-999.0000,9,-999.0000,9,-999.0000,9,-999.0000,9,-999.0000,9,-999.0000,9,-999.0000,9,    0.001,   0.205,   1.0027,50009102017,     -999.0,9,     -999.0,9,     -999.0,9,      -1.68,2,       0.11,20110326,       0909
320620110219,       P15S,      91,          2,         16,         16,2,20110326,       0801,   -71.1116,  -170.0023,       4122,  1165.3,   1.0007,  34.7204,2,  34.7210,2,    195.4,2,   195.2,2,  113.38,2,   31.98,2,    0.00,2,    2.24,2,-999.000,9,-999.000,9,-999.000,9,-999.0000,9,  -999.0,9,  -999.0,9,-999.0000,9,  -999.00,-999.000,9,-999.0000,9,-999.000,9,   1.0011,2, -999.00,9,  -999.0,9,  -999.0,-999.000,9, -999.00,9,-999.000,9,   39.44,2,   34.97,2, -71.1116,-170.0024,-999.000,     -999.0,    34.8847,2,     -999.0,9,     -999.0,9,-999.0000,9,-999.0000,9,-999.0000,9,-999.0000,9,-999.0000,9,-999.0000,9,-999.0000,9,-999.0000,9,-999.0000,9,-999.0000,-999.000,   0.9380,     -999.0,     -999.0,9,     -999.0,9,     -999.0,9,     -999.0,9,     -999.0,20110326,       0906
320620110219,       P15S,      91,          2,         15,         15,2,20110326,       0801,   -71.1116,  -170.0023,       4122,  1264.6,   0.9533,  34.7185,2,  34.7192,2,    197.5,2,   197.5,2,  114.67,2,   32.04,2,    0.00,2,    2.24,2,   0.086,2,   0.045,2,   0.005,2,   0.0270,2,  2261.6,2,  2358.4,2,   7.5942,2,    25.00,   0.001,2,    1.991,2,   9.957,2,   0.9536,2, -999.00,9,  -999.0,9,  -999.0,   8.709,2,   -0.12,2,-999.000,9,   39.19,2,   34.60,2, -71.1116,-170.0023,   0.004,      0.007,    34.8829,2,     -999.0,9,     -999.0,9,-999.0000,9,-999.0000,9,-999.0000,9,-999.0000,9,-999.0000,9,-999.0000,9,-999.0000,9,-999.0000,9,-999.0000,9,    0.001,   0.211,   0.8847,50009102015,     -999.0,9,     -999.0,9,     -999.0,9,      -2.06,2,       0.41,20110326,       0903
320620110219,       P15S,      91,          2,         14,         14,2,20110326,       0801,   -71.1116,  -170.0023,       4122,  1365.3,   0.8867,  34.7159,2,  34.7173,2,    199.1,2,   198.7,2,  116.88,2,   32.16,2,    0.00,2,    2.24,2,-999.000,9,-999.000,9,-999.000,9,-999.0000,9,  -999.0,9,  -999.0,9,-999.0000,9,  -999.00,-999.000,9,-999.0000,9,-999.000,9,   0.8872,2, -999.00,9,  -999.0,9,  -999.0,-999.000,9, -999.00,9,-999.000,9,   39.15,2,   34.88,2, -71.1116,-170.0023,-999.000,     -999.0,    34.8810,2,     -999.0,9,     -999.0,9,-999.0000,9,-999.0000,9,-999.0000,9,-999.0000,9,-999.0000,9,-999.0000,9,-999.0000,9,-999.0000,9,-999.0000,9,-999.0000,-999.000,   0.8122,     -999.0,     -999.0,9,     -999.0,9,     -999.0,9,     -999.0,9,     -999.0,20110326,       0901