BOTTLE,20220813CCHSIOAMB
EXPOCODE,SECT_ID,STNNBR,CASTNO,SAMPNO,BTLNBR,BTLNBR_FLAG_W,DATE,TIME,LATITUDE,LONGITUDE,DEPTH,CTDPRS,CTDTMP,CTDSAL,CTDSAL_FLAG_W,SALNTY,SALNTY_FLAG_W,CTDOXY,CTDOXY_FLAG_W,OXYGEN,OXYGEN_FLAG_W,SILCAT,SILCAT_FLAG_W,NITRAT,NITRAT_FLAG_W,NITRIT,NITRIT_FLAG_W,PHSPHT,PHSPHT_FLAG_W,CFC-11,CFC-11_FLAG_W,CFC-12,CFC-12_FLAG_W,CFC113,CFC113_FLAG_W,SF6,SF6_FLAG_W,TCARBN,TCARBN_FLAG_W,ALKALI,ALKALI_FLAG_W,PH_TOT,PH_TOT_FLAG_W,PH_TMP,TRITUM,TRITUM_FLAG_W,HELIUM,HELIUM_FLAG_W,DELHE3,DELHE3_FLAG_W,REFTMP,REFTMP_FLAG_W,DELC13,DELC13_FLAG_W,DELC14,DELC14_FLAG_W,C14ERR,NEON,NEON_FLAG_W,DELO18,DELO18_FLAG_W,POC,POC_FLAG_W,DOC,DOC_FLAG_W,TDN,TDN_FLAG_W,BTL_LAT,BTL_LON,TRITER,NEONER,SALTREF,SALTREF_FLAG_W,PIGMENTS,PIGMENTS_FLAG_W,LAB_DEN,LAB_DEN_FLAG_W,CDOM325,CDOM325_FLAG_W,CDOM340,CDOM340_FLAG_W,CDOM380,CDOM380_FLAG_W,CDOM412,CDOM412_FLAG_W,CDOM443,CDOM443_FLAG_W,CDOM490,CDOM490_FLAG_W,CDOM555,CDOM555_FLAG_W,CDOMSL,CDOMSL_FLAG_W,CDOMSN,CDOMSN_FLAG_W,HELIER,DELHER,THETA,LDEO_SAMPNO,ABSORBTION,ABSORBTION_FLAG_W,IMAGE_COUNT,IMAGE_COUNT_FLAG_W,CYTO_COUNT,CYTO_COUNT_FLAG_W,DELD,DELD_FLAG_W,DELDERR,BTL_DATE,BTL_TIME
,,,,,,,,,,,METERS,DBAR,ITS-90,PSS-78,,PSS-78,,UMOL/KG,,UMOL/KG,,UMOL/KG,,UMOL/KG,,UMOL/KG,,UMOL/KG,,PMOL/KG,,PMOL/KG,,PMOL/KG,,FMOL/KG,,UMOL/KG,,UMOL/KG,,,,DEG C,TU,,NMOL/KG,,PERCNT,,DEG C,,/MILLE,,/MILLE,,/MILLE,NMOL/KG,,/MILLE,,UG/KG,,UMOL/KG,,UMOL/KG,,,,TU,NMOL/KG,G/KG,,,,,,1/M,,1/M,,1/M,,1/M,,1/M,,1/M,,1/M,,1/NM,,1/NM,,NMOL/KG,PERCNT,DEG C,,,,,,,,/MILLE,,/MILLE,,
320620110219,       S04P,      98,          1,         13,         13,2,20110331,       0342,   -67.0000,  -144.2352,       4314,  1600.1,   0.6568,  34.7073,2,  34.7066,2,    204.0,2,   204.1,2,  123.66,2,   32.26,2,    0.00,2,    2.24,2,   0.153,2,   0.068,2,   0.013,2,   0.0960,2,  2264.8,2,  2359.8,2,   7.5956,2,    25.00,-999.000,9,-999.0000,9,-999.000,9,   0.6577,2,    0.44,2,  -159.4,2,     2.9,-999.000,9, -999.00,9,-999.000,9, -999.00,9, -999.00,9, -67.0000,-144.2351,-999.000,     -999.0,    34.8703,2,     -999.0,9,     -999.0,9,-999.0000,9,-999.0000,9,-999.0000,9,-999.0000,9,-999.0000,9,-999.0000,9,-999.0000,9,-999.0000,9,-999.0000,9,-999.0000,-999.000,   0.5692,     -999.0,     -999.0,9,     -999.0,9,     -999.0,9,     -999.0,9,     -999.0,20110331,       0439
320620110219,       S04P,      98,          1,         12,         12,2,20110331,       0342,   -67.0000,  -144.2352,       4314,  1801.5,   0.5813,  34.7053,2,  34.7058,2,    205.7,2,   205.7,2,  125.03,2,   32.39,2,    0.00,2,    2.24,2,-999.000,9,-999.000,9,-999.000,9,-999.0000,9,  2264.1,6,  2360.0,2,   7.5933,2,    25.00,-999.000,9,-999.0000,9,-999.000,9,   0.5814,2,    0.46,2,  -162.0,2,     2.5,-999.000,9, -999.00,9,-999.000,9, -999.00,9, -999.00,9, -67.0000,-144.2351,-999.000,     -999.0,    34.8695,2,     -999.0,9,     -999.0,9,-999.0000,9,-999.0000,9,-999.0000,9,-999.0000,9,-999.0000,9,-999.0000,9,-999.0000,9,-999.0000,9,-999.0000,9,-999.0000,-999.000,   0.4808,     -999.0,     -999.0,9,     -999.0,9,     -999.0,9,     -999.0,9,     -999.0,20110331,       0434
320620110219,       S04P,      98,          1,         11,         11,2,20110331,       0342,   -67.0000,  -144.2352,       4314,  1999.5,   0.5103,  34.7043,2,  34.7041,2,    207.3,2,   207.7,2,  125.72,2,   32.25,2,    0.00,2,    2.25,2,   0.181,2,   0.077,2,   0.014,2,   0.0860,2,  -999.0,9,  2359.2,2,   7.5934,2,    25.00,-999.000,9,-999.0000,9,-999.000,9,   0.5103,2,    0.49,2,  -158.5,2,     3.5,-999.000,9, -999.00,9,-999.000,9, -999.00,9, -999.00,9, -67.0000,-144.2352,-999.000,     -999.0,    34.8677,2,     -999.0,9,     -999.0,9,-999.0000,9,-999.0000,9,-999.0000,9,-999.0000,9,-999.0000,9,-999.0000,9,-999.0000,9,-999.0000,9,-999.0000,9,-999.0000,-999.000,   0.3965,     -999.0,     -999.0,9,     -999.0,9,     -999.0,9,     -999.0,9,     -999.0,20110331,       0430
320620110219,       S04P,      98,          1,         10,         37,2,20110331,       0342,   -67.0000,  -144.2352,       4314,  2249.4,   0.4297,  34.7035,2,  34.7027,2,    209.5,2,   209.2,2,  127.75,2,   32.31,2,    0.00,2,    2.25,2,-999.000,9,-999.000,9,-999.000,9,-999.0000,9,  2263.9,2,  2359.9,2,   7.5945,2,    25.00,-999.000,9,-999.0000,9,-999.000,9,   0.4296,2,    0.48,2,  -164.0,2,     2.3,-999.000,9, -999.00,9,-999.000,9, -999.00,9, -999.00,9, -67.0000,-144.2352,-999.000,     -999.0,    34.8663,2,     -999.0,9,     -999.0,9,-999.0000,9,-999.0000,9,-999.0000,9,-999.0000,9,-999.0000,9,-999.0000,9,-999.0000,9,-999.0000,9,-999.0000,9,-999.0000,-999.000,   0.2985,     -999.0,     -999.0,9,     -999.0,9,     -999.0,9,     -999.0,9,     -999.0,20110331,       0425
320620110219,       S04P,      98,          1,          9,          9,2,20110331,       0342,   -67.0000,  -144.2352,       4314,  2499.0,   0.3564,  34.7028,2,  34.7021,2,    211.3,2,   211.3,2,  129.17,2,   32.26,2,    0.00,2,    2.25,2,   0.180,2,   0.081,2,   0.013,2,   0.0700,2,  -999.0,9,  2359.8,2,   7.5959,2,    25.00,-999.000,9,-999.0000,9,-999.000,9,   0.3564,2,    0.51,2,  -163.6,2,     2.3,-999.000,9, -999.00,9,-999.000,9, -999.00,9, -999.00,9, -67.0000,-144.2352,-999.000,     -999.0,    34.8657,2,     -999.0,9,     -999.0,9,-999.0000,9,-999.0000,9,-999.0000,9,-999.0000,9,-999.0000,9,-999.0000,9,-999.0000,9,-999.0000,9,-999.0000,9,-999.0000,-999.000,   0.2069,     -999.0,     -999.0,9,     -999.0,9,     -999.0,9,     -999.0,9,     -999.0,20110331,       0420
320620110219,       S04P,      98,          1,          8,          8,2,20110331,       0342,   -67.0000,  -144.2352,       4314,  2750.8,   0.2897,  34.7019,2,  34.7007,2,    213.3,2,   213.6,2,  129.81,2,   32.40,2,    0.00,2,    2.26,2,-999.000,9,-999.000,9,-999.000,9,-999.0000,9,  2262.8,2,  2359.9,2,   7.5939,2,    25.00,-999.000,9,-999.0000,9,-999.000,9,   0.2908,2,    0.50,2,  -159.5,2,     2.4,-999.000,9, -999.00,9,-999.000,9, -999.00,9, -999.00,9, -67.0000,-144.2352,-999.000,     -999.0,    34.8644,2,     -999.0,9,     -999.0,9,-999.0000,9,-999.0000,9,-999.0000,9,-999.0000,9,-999.0000,9,-999.0000,9,-999.0000,9,-999.0000,9,-999.0000,9,-999.0000,-999.000,   0.1209,     -999.0,     -999.0,9,     -999.0,9,     -999.0,9,     -999.0,9,     -999.0,20110331,       0415
320620110219,       S04P,      98,          1,          7,          7,2,20110331,       0342,   -67.0000,  -144.2352,       4314,  3001.2,   0.2257,  34.6988,2,  34.6978,2,    216.2,2,   216.0,2,  127.66,2,   32.40,2,    0.00,2,    2.26,2,   0.466,2,   0.224,2,   0.027,2,   0.1290,2,  -999.0,9,  2358.7,2,   7.5944,2,    25.00,-999.000,9,-999.0000,9,-999.000,9,   0.2260,2,    0.47,2,  -161.8,2,     2.3,-999.000,9, -999.00,9,-999.000,9, -999.00,9, -999.00,9, -67.0000,-144.2351,-999.000,     -999.0,    34.8614,2,     -999.0,9,     -999.0,9,-999.0000,9,-999.0000,9,-999.0000,9,-999.0000,9,-999.0000,9,-999.0000,9,-999.0000,9,-999.0000,9,-999.0000,9,-999.0000,-999.000,   0.0370,     -999.0,     -999.0,9,     -999.0,9,     -999.0,9,     -999.0,9,     -999.0,20110331,       0410
320620110219,       S04P,      98,          1,          6,          6,2,20110331,       0342,   -67.0000,  -144.2352,       4314,  3301.3,   0.1808,  34.6961,2,  34.6947,2,    219.0,2,   218.5,2,  124.12,2,   32.41,2,    0.00,2,    2.25,2,   0.703,2,   0.339,2,   0.043,2,   0.1730,2,  2260.8,2,  2357.6,2,   7.5935,2,    25.00,-999.000,9,-999.0000,9,-999.000,9,   0.1811,2,    0.52,2,  -154.6,2,     2.6,-999.000,9, -999.00,9,-999.000,9, -999.00,9, -999.00,9, -67.0000,-144.2352,-999.000,     -999.0,    34.8583,2,     -999.0,9,     -999.0,9,-999.0000,9,-999.0000,9,-999.0000,9,-999.0000,9,-999.0000,9,-999.0000,9,-999.0000,9,-999.0000,9,-999.0000,9,-999.0000,-999.000,  -0.0336,     -999.0,     -999.0,9,     -999.0,9,     -999.0,9,     -999.0,9,     -999.0,20110331,       0405
320620110219,       S04P,      98,          1,          5,          5,2,20110331,       0342,   -67.0000,  -144.2352,       4314,  3600.0,   0.1852,  34.6958,2,  34.6945,2,    219.8,2,   219.5,2,  123.33,2,   32.45,2,    0.00,2,    2.25,2,   0.758,2,   0.371,2,   0.046,2,   0.2020,2,  -999.0,9,  2356.9,2,   7.5933,2,    25.00,-999.000,9,-999.0000,9,-999.000,9,   0.1852,2,    0.53,2,  -152.7,2,     2.4,-999.000,9, -999.00,9,-999.000,9, -999.00,9, -999.00,9, -67.0000,-144.2352,-999.000,     -999.0,    34.8581,2,     -999.0,9,     -999.0,9,-999.0000,9,-999.0000,9,-999.0000,9,-999.0000,9,-999.0000,9,-999.0000,9,-999.0000,9,-999.0000,9,-999.0000,9,-999.0000,-999.000,  -0.0571,     -999.0,     -999.0,9,     -999.0,9,     -999.0,9,     -999.0,9,     -999.0,20110331,       0359
320620110219,       S04P,      98,          1,          4,          4,2,20110331,       0342,   -67.0000,  -144.2352,       4314,  3899.9,   0.2041,  34.6958,2,  34.6949,2,    220.0,2,   219.5,2,  123.03,2,   32.46,2,    0.00,2,    2.25,2,   0.782,2,   0.373,2,   0.049,2,   0.1820,2,  2261.9,2,  2356.3,2,   7.5937,2,    25.00,-999.000,9,-999.0000,9,-999.000,9,   0.2041,2,    0.53,2,  -158.9,2,     2.4,-999.000,9, -999.00,9,-999.000,9, -999.00,9, -999.00,9, -67.0000,-144.2352,-999.000,     -999.0,    34.8585,2,     -999.0,9,     -999.0,9,-999.0000,9,-999.0000,9,-999.0000,9,-999.0000,9,-999.0000,9,-999.0000,9,-999.0000,9,-999.0000,9,-999.0000,9,-999.0000,-999.000,  -0.0680,     -999.0,     -999.0,9,     -999.0,9,     -999.0,9,     -999.0,9,     -999.0,20110331,       0353
320620110219,       S04P,      98,          1,          3,          3,2,20110331,       0342,   -67.0000,  -144.2352,       4314,  4200.6,   0.2290,  34.6960,2,  34.6954,2,    220.4,2,   219.5,2,  123.14,2,   32.47,2,    0.00,2,    2.25,2,   0.765,2,   0.370,2,   0.044,2,   0.1990,2,  2260.4,2,  2357.2,2,   7.5931,2,    25.00,-999.000,9,-999.0000,9,-999.000,9,   0.2292,2,    0.56,2,  -160.3,2,     2.3,-999.000,9, -999.00,9,-999.000,9, -999.00,9, -999.00,9, -67.0000,-144.2351,-999.000,     -999.0,    34.8590,2,     -999.0,9,     -999.0,9,-999.0000,9,-999.0000,9,-999.0000,9,-999.0000,9,-999.0000,9,-999.0000,9,-999.0000,9,-999.0000,9,-999.0000,9,-999.0000,-999.000,  -0.0745,     -999.0,     -999.0,9,     -999.0,9,     -999.0,9,     -999.0,9,     -999.0,20110331,       0347
320620110219,       S04P,      98,          1,          2,          2,2,20110331,       0342,   -67.0000,  -144.2352,       4314,  4301.1,   0.2388,  34.6961,2,  34.6956,2,    220.2,2,   219.5,2,  123.78,2,   32.41,2,    0.00,2,    2.25,2,   0.771,2,   0.370,2,   0.047,2,   0.2160,2,  2262.3,6,  2357.1,2,   7.5926,2,    25.00,-999.000,9,-999.0000,9,-999.000,9,   0.2385,2, -999.00,9,  -999.0,9,  -999.0,-999.000,9, -999.00,9,-999.000,9, -999.00,9, -999.00,9, -67.0000,-144.2352,-999.000,     -999.0,    34.8592,2,     -999.0,9,     -999.0,9,-999.0000,9,-999.0000,9,-999.0000,9,-999.0000,9,-999.0000,9,-999.0000,9,-999.0000,9,-999.0000,9,-999.0000,9,-999.0000,-999.000,  -0.0755,     -999.0,     -999.0,9,     -999.0,9,     -999.0,9,     -999.0,9,     -999.0,20110331,       0344
320620110219,       S04P,      98,          1,          1,          1,2,20110331,       0342,   -67.0000,  -144.2352,       4314,  4392.9,   0.2490,  34.6957,2,  34.6951,2,    219.7,2,   220.3,2,  123.27,2,   32.48,2,    0.00,2,    2.25,2,   0.793,2,   0.380,2,   0.047,2,   0.2340,2,  2261.7,2,  2356.8,2,   7.5944,6,    25.00,-999.000,9,-999.0000,9,-999.000,9,   0.2493,2,    0.55,2,  -151.0,2,     2.3,-999.000,9, -999.00,9,-999.000,9, -999.00,9, -999.00,9, -67.0000,-144.2352,-999.000,     -999.0,    34.8587,2,     -999.0,9,     -999.0,9,-999.0000,9,-999.0000,9,-999.0000,9,-999.0000,9,-999.0000,9,-999.0000,9,-999.0000,9,-999.0000,9,-999.0000,9,-999.0000,-999.000,  -0.0754,     -999.0,     -999.0,9,     -999.0,9,     -999.0,9,     -999.0,9,     -999.0,20110331,       0342