BOTTLE,20220813CCHSIOAMB
EXPOCODE,SECT_ID,STNNBR,CASTNO,SAMPNO,BTLNBR,BTLNBR_FLAG_W,DATE,TIME,LATITUDE,LONGITUDE,DEPTH,CTDPRS,CTDTMP,CTDSAL,CTDSAL_FLAG_W,SALNTY,SALNTY_FLAG_W,CTDOXY,CTDOXY_FLAG_W,OXYGEN,OXYGEN_FLAG_W,SILCAT,SILCAT_FLAG_W,NITRAT,NITRAT_FLAG_W,NITRIT,NITRIT_FLAG_W,PHSPHT,PHSPHT_FLAG_W,CFC-11,CFC-11_FLAG_W,CFC-12,CFC-12_FLAG_W,CFC113,CFC113_FLAG_W,SF6,SF6_FLAG_W,TCARBN,TCARBN_FLAG_W,ALKALI,ALKALI_FLAG_W,PH_TOT,PH_TOT_FLAG_W,PH_TMP,TRITUM,TRITUM_FLAG_W,HELIUM,HELIUM_FLAG_W,DELHE3,DELHE3_FLAG_W,REFTMP,REFTMP_FLAG_W,DELC13,DELC13_FLAG_W,DELC14,DELC14_FLAG_W,C14ERR,NEON,NEON_FLAG_W,DELO18,DELO18_FLAG_W,POC,POC_FLAG_W,DOC,DOC_FLAG_W,TDN,TDN_FLAG_W,BTL_LAT,BTL_LON,TRITER,NEONER,SALTREF,SALTREF_FLAG_W,PIGMENTS,PIGMENTS_FLAG_W,LAB_DEN,LAB_DEN_FLAG_W,CDOM325,CDOM325_FLAG_W,CDOM340,CDOM340_FLAG_W,CDOM380,CDOM380_FLAG_W,CDOM412,CDOM412_FLAG_W,CDOM443,CDOM443_FLAG_W,CDOM490,CDOM490_FLAG_W,CDOM555,CDOM555_FLAG_W,CDOMSL,CDOMSL_FLAG_W,CDOMSN,CDOMSN_FLAG_W,HELIER,DELHER,THETA,LDEO_SAMPNO,ABSORBTION,ABSORBTION_FLAG_W,IMAGE_COUNT,IMAGE_COUNT_FLAG_W,CYTO_COUNT,CYTO_COUNT_FLAG_W,DELD,DELD_FLAG_W,DELDERR,BTL_DATE,BTL_TIME
,,,,,,,,,,,METERS,DBAR,ITS-90,PSS-78,,PSS-78,,UMOL/KG,,UMOL/KG,,UMOL/KG,,UMOL/KG,,UMOL/KG,,UMOL/KG,,PMOL/KG,,PMOL/KG,,PMOL/KG,,FMOL/KG,,UMOL/KG,,UMOL/KG,,,,DEG C,TU,,NMOL/KG,,PERCNT,,DEG C,,/MILLE,,/MILLE,,/MILLE,NMOL/KG,,/MILLE,,UG/KG,,UMOL/KG,,UMOL/KG,,,,TU,NMOL/KG,G/KG,,,,,,1/M,,1/M,,1/M,,1/M,,1/M,,1/M,,1/M,,1/NM,,1/NM,,NMOL/KG,PERCNT,DEG C,,,,,,,,/MILLE,,/MILLE,,
320620110219,       P16S,      65,          2,         23,         23,2,20110317,       0233,   -75.6670,  -150.0012,        790,     4.5,  -1.8045,  33.4909,2,-999.0000,9,   -999.0,5,  -999.0,9, -999.00,9, -999.00,9, -999.00,9, -999.00,9,-999.000,9,-999.000,9,-999.000,9,-999.0000,9,  -999.0,9,  -999.0,9,-999.0000,9,  -999.00,-999.000,9,-999.0000,9,-999.000,9,  -1.8047,2, -999.00,9,  -999.0,9,  -999.0,-999.000,9, -999.00,9,-999.000,1, -999.00,9, -999.00,9, -75.6670,-150.0000,-999.000,     -999.0,     -999.0,9,     -999.0,1,     -999.0,9,-999.0000,9,-999.0000,9,-999.0000,9,-999.0000,9,-999.0000,9,-999.0000,9,-999.0000,9,-999.0000,9,-999.0000,9,-999.0000,-999.000,  -1.8046,     -999.0,     -999.0,1,     -999.0,9,     -999.0,9,     -999.0,9,     -999.0,20110317,       0305
320620110219,       P16S,      65,          2,         24,         24,2,20110317,       0233,   -75.6670,  -150.0012,        790,     4.5,  -1.8039,  33.4910,2,  33.4920,2,    339.8,3,   342.2,2,   62.65,2,   23.25,2,    0.15,2,    1.54,2,   5.585,2,   3.098,2,   0.543,2,-999.0000,9,  2144.2,6,  2274.1,2,   7.7014,2,    25.00,   0.055,2,    2.012,2,  -0.902,2,  -1.8024,2,    1.12,2,  -130.3,2,     2.4,   9.085,2,   -0.58,2,-999.000,9, -999.00,9, -999.00,9, -75.6670,-150.0000,   0.005,      0.007,    33.6500,2,     -999.0,9,     -999.0,9,-999.0000,9,-999.0000,9,-999.0000,9,-999.0000,9,-999.0000,9,-999.0000,9,-999.0000,9,-999.0000,9,-999.0000,9,    0.001,   0.179,  -1.8040,50006502024,     -999.0,9,     -999.0,9,     -999.0,9,      -5.70,2,       0.13,20110317,       0305
320620110219,       P16S,      65,          2,         21,         21,2,20110317,       0233,   -75.6670,  -150.0012,        790,    19.9,  -1.7996,  33.4976,2,-999.0000,9,   -999.0,9,  -999.0,9, -999.00,9, -999.00,9, -999.00,9, -999.00,9,-999.000,9,-999.000,9,-999.000,9,-999.0000,9,  -999.0,9,  -999.0,9,-999.0000,9,  -999.00,-999.000,9,-999.0000,9,-999.000,9,  -1.7996,2, -999.00,9,  -999.0,9,  -999.0,-999.000,9, -999.00,9,-999.000,1, -999.00,9, -999.00,9, -75.6670,-150.0000,-999.000,     -999.0,     -999.0,9,     -999.0,1,     -999.0,9,-999.0000,9,-999.0000,9,-999.0000,9,-999.0000,9,-999.0000,9,-999.0000,9,-999.0000,9,-999.0000,9,-999.0000,9,-999.0000,-999.000,  -1.7999,     -999.0,     -999.0,1,     -999.0,9,     -999.0,9,     -999.0,9,     -999.0,20110317,       0303
320620110219,       P16S,      65,          2,         22,         22,2,20110317,       0233,   -75.6670,  -150.0012,        790,    19.9,  -1.8016,  33.4965,2,  33.5057,2,    340.3,2,   339.3,2,   64.39,2,   23.56,2,    0.15,2,    1.60,2,   5.508,2,   3.022,2,   0.528,2,-999.0000,9,  2147.1,2,  2276.2,2,   7.6927,6,    25.00,   0.054,2,    2.029,2,  -0.374,2,  -1.8052,2, -999.00,9,  -999.0,9,  -999.0,   9.129,2,   -0.63,2,-999.000,9, -999.00,9, -999.00,9, -75.6670,-150.0000,   0.005,      0.007,    33.6637,2,     -999.0,9,     -999.0,9,-999.0000,9,-999.0000,9,-999.0000,9,-999.0000,9,-999.0000,9,-999.0000,9,-999.0000,9,-999.0000,9,-999.0000,9,    0.002,   0.192,  -1.8019,50006502022,     -999.0,9,     -999.0,9,     -999.0,9,      -6.19,2,       0.16,20110317,       0303
320620110219,       P16S,      65,          2,         20,         20,2,20110317,       0233,   -75.6670,  -150.0012,        790,    39.9,  -1.7699,  33.5311,2,  33.5319,2,    334.4,2,   334.8,2,   65.92,2,   24.02,2,    0.15,2,    1.64,2,   5.379,2,   2.976,2,   0.529,2,-999.0000,9,  2150.7,2,  2277.9,6,   7.6880,2,    25.00,   0.074,2,    2.089,2,  -0.333,2,  -1.7702,2, -999.00,9,  -999.0,9,  -999.0,   9.303,2,   -0.58,2,-999.000,9, -999.00,9, -999.00,9, -75.6670,-150.0000,   0.006,      0.007,    33.6900,2,     -999.0,9,     -999.0,9,-999.0000,9,-999.0000,9,-999.0000,9,-999.0000,9,-999.0000,9,-999.0000,9,-999.0000,9,-999.0000,9,-999.0000,9,    0.002,   0.192,  -1.7706,50006502020,     -999.0,9,     -999.0,9,     -999.0,9,      -5.72,2,       0.14,20110317,       0302
320620110219,       P16S,      65,          2,         19,         19,2,20110317,       0233,   -75.6670,  -150.0012,        790,    39.9,  -1.7691,  33.5321,2,-999.0000,9,   -999.0,9,  -999.0,9, -999.00,9, -999.00,9, -999.00,9, -999.00,9,-999.000,9,-999.000,9,-999.000,9,-999.0000,9,  -999.0,9,  -999.0,9,-999.0000,9,  -999.00,-999.000,9,-999.0000,9,-999.000,9,  -1.7695,2, -999.00,9,  -999.0,9,  -999.0,-999.000,9, -999.00,9,-999.000,1, -999.00,9, -999.00,9, -75.6670,-150.0000,-999.000,     -999.0,     -999.0,9,     -999.0,1,     -999.0,9,-999.0000,9,-999.0000,9,-999.0000,9,-999.0000,9,-999.0000,9,-999.0000,9,-999.0000,9,-999.0000,9,-999.0000,9,-999.0000,-999.000,  -1.7698,     -999.0,     -999.0,1,     -999.0,9,     -999.0,9,     -999.0,9,     -999.0,20110317,       0302
320620110219,       P16S,      65,          2,         18,         18,2,20110317,       0233,   -75.6670,  -150.0012,        790,    65.1,  -1.7556,  33.5618,2,  33.5711,2,    330.0,2,   329.6,2,   67.76,2,   24.50,2,    0.15,2,    1.71,2,   5.219,2,   2.879,2,   0.486,2,-999.0000,9,  2156.0,2,  2281.0,2,   7.6766,2,    25.00,   0.070,2,    2.037,2,   0.117,2,  -1.7540,2,    1.01,2,  -140.3,2,     2.4,   9.131,2,   -0.61,2,-999.000,9, -999.00,9, -999.00,9, -75.6670,-150.0000,   0.006,      0.007,    33.7294,2,     -999.0,9,     -999.0,9,-999.0000,9,-999.0000,9,-999.0000,9,-999.0000,9,-999.0000,9,-999.0000,9,-999.0000,9,-999.0000,9,-999.0000,9,    0.001,   0.194,  -1.7568,50006502018,     -999.0,9,     -999.0,9,     -999.0,9,      -5.78,2,       0.12,20110317,       0300
320620110219,       P16S,      65,          2,         17,         17,2,20110317,       0233,   -75.6670,  -150.0012,        790,    65.1,  -1.7433,  33.5765,2,-999.0000,9,   -999.0,9,  -999.0,9, -999.00,9, -999.00,9, -999.00,9, -999.00,9,-999.000,9,-999.000,9,-999.000,9,-999.0000,9,  -999.0,9,  -999.0,9,-999.0000,9,  -999.00,-999.000,9,-999.0000,9,-999.000,9,  -1.7456,2, -999.00,9,  -999.0,9,  -999.0,-999.000,9, -999.00,9,-999.000,1, -999.00,9, -999.00,9, -75.6670,-150.0000,-999.000,     -999.0,     -999.0,9,     -999.0,1,     -999.0,9,-999.0000,9,-999.0000,9,-999.0000,9,-999.0000,9,-999.0000,9,-999.0000,9,-999.0000,9,-999.0000,9,-999.0000,9,-999.0000,-999.000,  -1.7445,     -999.0,     -999.0,1,     -999.0,9,     -999.0,9,     -999.0,9,     -999.0,20110317,       0300
320620110219,       P16S,      65,          2,         16,         16,2,20110317,       0233,   -75.6670,  -150.0012,        790,    89.9,  -1.6728,  33.8048,2,  33.8071,2,    302.5,2,   303.8,2,   77.18,2,   27.65,2,    0.14,2,    1.95,2,-999.000,9,-999.000,9,-999.000,9,-999.0000,9,  2185.0,2,  2294.6,2,   7.6313,2,    25.00,-999.000,9,-999.0000,9,-999.000,9,  -1.6735,2,    0.77,2,  -138.8,2,     2.4,-999.000,9, -999.00,9,-999.000,9, -999.00,9, -999.00,9, -75.6670,-150.0000,-999.000,     -999.0,    33.9665,2,     -999.0,9,     -999.0,9,-999.0000,9,-999.0000,9,-999.0000,9,-999.0000,9,-999.0000,9,-999.0000,9,-999.0000,9,-999.0000,9,-999.0000,9,-999.0000,-999.000,  -1.6746,     -999.0,     -999.0,9,     -999.0,9,     -999.0,9,     -999.0,9,     -999.0,20110317,       0259
320620110219,       P16S,      65,          2,         15,         15,2,20110317,       0233,   -75.6670,  -150.0012,        790,   115.1,  -1.6669,  33.9377,2,  33.9610,4,    292.1,2,   291.0,2,   81.42,2,   29.19,2,    0.14,2,    2.06,2,   4.097,2,   2.255,2,   0.378,2,-999.0000,9,  -999.0,9,  -999.0,9,-999.0000,9,  -999.00,-999.000,9,-999.0000,9,-999.000,9,  -1.6671,2, -999.00,9,  -999.0,9,  -999.0,-999.000,9, -999.00,9,-999.000,9, -999.00,9, -999.00,9, -75.6670,-150.0000,-999.000,     -999.0,    34.1211,4,     -999.0,9,     -999.0,9,-999.0000,9,-999.0000,9,-999.0000,9,-999.0000,9,-999.0000,9,-999.0000,9,-999.0000,9,-999.0000,9,-999.0000,9,-999.0000,-999.000,  -1.6693,     -999.0,     -999.0,9,     -999.0,9,     -999.0,9,     -999.0,9,     -999.0,20110317,       0257
320620110219,       P16S,      65,          2,         14,         14,2,20110317,       0233,   -75.6670,  -150.0012,        790,   140.1,  -1.6800,  33.9949,2,  33.9913,2,    288.8,2,   288.9,2,   82.17,2,   29.65,2,    0.14,2,    2.07,2,   4.044,2,   2.217,2,   0.371,2,-999.0000,9,  2204.5,2,  2304.0,2,   7.6043,2,    25.00,   0.048,2,    2.133,2,   2.285,2,  -1.6799,2,    0.67,2,  -133.1,2,     2.4,   9.457,2,   -0.65,2,-999.000,9, -999.00,9, -999.00,9, -75.6670,-150.0000,   0.006,      0.008,    34.1516,2,     -999.0,9,     -999.0,9,-999.0000,9,-999.0000,9,-999.0000,9,-999.0000,9,-999.0000,9,-999.0000,9,-999.0000,9,-999.0000,9,-999.0000,9,    0.001,   0.192,  -1.6829,50006502014,     -999.0,9,     -999.0,9,     -999.0,9,      -6.15,2,       0.08,20110317,       0256
320620110219,       P16S,      65,          2,         13,         13,2,20110317,       0233,   -75.6670,  -150.0012,        790,   164.4,  -1.6846,  34.0087,2,  34.0158,2,    289.0,2,   288.3,2,   81.42,2,   29.74,2,    0.14,2,    2.08,2,-999.000,9,-999.000,9,-999.000,9,-999.0000,9,  -999.0,9,  2306.5,2,   7.6023,2,    25.00,-999.000,9,-999.0000,9,-999.000,9,  -1.6846,2,    0.63,2,  -136.7,2,     3.3,-999.000,9, -999.00,9,-999.000,9, -999.00,9, -999.00,9, -75.6670,-150.0001,-999.000,     -999.0,    34.1762,2,     -999.0,9,     -999.0,9,-999.0000,9,-999.0000,9,-999.0000,9,-999.0000,9,-999.0000,9,-999.0000,9,-999.0000,9,-999.0000,9,-999.0000,9,-999.0000,-999.000,  -1.6880,     -999.0,     -999.0,9,     -999.0,9,     -999.0,9,     -999.0,9,     -999.0,20110317,       0255
320620110219,       P16S,      65,          2,         12,         12,2,20110317,       0233,   -75.6670,  -150.0012,        790,   189.9,  -1.6963,  34.0399,2,  34.0416,2,    288.0,2,   289.2,2,   81.07,2,   29.78,2,    0.14,2,    2.09,2,   4.067,2,   2.257,2,   0.380,2,-999.0000,9,  2206.9,2,  2307.4,2,   7.6009,2,    25.00,-999.000,9,-999.0000,9,-999.000,9,  -1.6963,2,    0.67,2,  -136.9,2,     3.8,-999.000,9, -999.00,9,-999.000,9, -999.00,9, -999.00,9, -75.6670,-150.0003,-999.000,     -999.0,    34.2021,2,     -999.0,9,     -999.0,9,-999.0000,9,-999.0000,9,-999.0000,9,-999.0000,9,-999.0000,9,-999.0000,9,-999.0000,9,-999.0000,9,-999.0000,9,-999.0000,-999.000,  -1.7003,     -999.0,     -999.0,9,     -999.0,9,     -999.0,9,     -999.0,9,     -999.0,20110317,       0253
320620110219,       P16S,      65,          2,         11,         11,2,20110317,       0233,   -75.6670,  -150.0012,        790,   214.5,  -1.7106,  34.0604,2,  34.0598,2,    287.9,2,   289.0,2,   82.65,2,   29.98,2,    0.15,2,    2.09,2,-999.000,9,-999.000,9,-999.000,9,-999.0000,9,  -999.0,9,  -999.0,9,-999.0000,9,  -999.00,-999.000,9,-999.0000,9,-999.000,9,  -1.7101,2, -999.00,9,  -999.0,9,  -999.0,-999.000,9, -999.00,9,-999.000,9, -999.00,9, -999.00,9, -75.6670,-150.0005,-999.000,     -999.0,    34.2204,2,     -999.0,9,     -999.0,9,-999.0000,9,-999.0000,9,-999.0000,9,-999.0000,9,-999.0000,9,-999.0000,9,-999.0000,9,-999.0000,9,-999.0000,9,-999.0000,-999.000,  -1.7152,     -999.0,     -999.0,9,     -999.0,9,     -999.0,9,     -999.0,9,     -999.0,20110317,       0252
320620110219,       P16S,      65,          2,         10,         37,2,20110317,       0233,   -75.6670,  -150.0012,        790,   240.0,  -1.7093,  34.0720,2,  34.0751,2,    286.8,2,   286.5,2,   81.09,2,   30.03,2,    0.15,2,    2.09,2,-999.000,9,-999.000,9,-999.000,9,-999.0000,9,  2209.5,2,  2310.0,2,   7.5986,2,    25.00,   0.048,2,    2.159,4,   2.180,2,  -1.7094,2,    0.61,2,  -149.2,2,     2.8,   9.568,2,   -0.64,2,-999.000,9, -999.00,9, -999.00,9, -75.6670,-150.0006,   0.004,      0.008,    34.2358,2,     -999.0,9,     -999.0,9,-999.0000,9,-999.0000,9,-999.0000,9,-999.0000,9,-999.0000,9,-999.0000,9,-999.0000,9,-999.0000,9,-999.0000,9,    0.001,   0.192,  -1.7145,50006502010,     -999.0,9,     -999.0,9,     -999.0,9,      -6.18,2,       0.11,20110317,       0251
320620110219,       P16S,      65,          2,          9,          9,2,20110317,       0233,   -75.6670,  -150.0012,        790,   284.8,  -1.6495,  34.1020,2,  34.1017,2,    280.7,2,   281.7,2,   81.86,2,   30.24,2,    0.08,2,    2.10,2,-999.000,9,-999.000,9,-999.000,9,-999.0000,9,  2213.0,2,  2310.8,2,   7.5956,2,    25.00,-999.000,9,-999.0000,9,-999.000,9,  -1.6496,2,    0.62,2,  -148.6,2,     2.3,-999.000,9, -999.00,9,-999.000,9, -999.00,9, -999.00,9, -75.6670,-150.0009,-999.000,     -999.0,    34.2625,2,     -999.0,9,     -999.0,9,-999.0000,9,-999.0000,9,-999.0000,9,-999.0000,9,-999.0000,9,-999.0000,9,-999.0000,9,-999.0000,9,-999.0000,9,-999.0000,-999.000,  -1.6559,     -999.0,     -999.0,9,     -999.0,9,     -999.0,9,     -999.0,9,     -999.0,20110317,       0249
320620110219,       P16S,      65,          2,          8,          8,2,20110317,       0233,   -75.6670,  -150.0012,        790,   334.7,  -1.6221,  34.1155,2,  34.1164,2,    278.2,2,   279.4,2,   81.65,2,   30.37,2,    0.05,2,    2.11,2,   3.863,2,   2.116,2,   0.335,2,-999.0000,9,  2214.6,2,  2311.7,2,   7.5908,2,    25.00,-999.000,9,-999.0000,9,-999.000,9,  -1.6244,2,    0.61,2,  -146.9,2,     2.5,-999.000,9, -999.00,9,-999.000,9, -999.00,9, -999.00,9, -75.6670,-150.0011,-999.000,     -999.0,    34.2773,2,     -999.0,9,     -999.0,9,-999.0000,9,-999.0000,9,-999.0000,9,-999.0000,9,-999.0000,9,-999.0000,9,-999.0000,9,-999.0000,9,-999.0000,9,-999.0000,-999.000,  -1.6299,     -999.0,     -999.0,9,     -999.0,9,     -999.0,9,     -999.0,9,     -999.0,20110317,       0247
320620110219,       P16S,      65,          2,          7,          7,2,20110317,       0233,   -75.6670,  -150.0012,        790,   384.9,  -1.5612,  34.1341,2,  34.1362,2,    275.3,2,   274.2,2,   80.40,2,   30.53,2,    0.02,2,    2.12,2,-999.000,9,-999.000,9,-999.000,9,-999.0000,9,  2216.3,2,  2312.3,2,   7.5887,2,    25.00,-999.000,9,-999.0000,9,-999.000,9,  -1.5571,2,    0.62,2,  -143.2,2,     2.3,-999.000,9, -999.00,9,-999.000,9, -999.00,9, -999.00,9, -75.6670,-150.0011,-999.000,     -999.0,    34.2972,2,     -999.0,9,     -999.0,9,-999.0000,9,-999.0000,9,-999.0000,9,-999.0000,9,-999.0000,9,-999.0000,9,-999.0000,9,-999.0000,9,-999.0000,9,-999.0000,-999.000,  -1.5706,     -999.0,     -999.0,9,     -999.0,9,     -999.0,9,     -999.0,9,     -999.0,20110317,       0246
320620110219,       P16S,      65,          2,          6,          6,2,20110317,       0233,   -75.6670,  -150.0012,        790,   434.1,  -0.7476,  34.2444,2,  34.2561,2,    254.1,2,   247.5,2,   80.53,2,   31.40,2,    0.01,2,    2.17,2,   2.911,2,   1.604,2,   0.269,2,-999.0000,9,  2226.3,2,  2319.2,2,   7.5778,2,    25.00,   0.036,2,    2.072,2,   4.683,2,  -0.7459,2,    0.63,2,  -140.1,2,     2.5,   9.087,2,   -0.54,2,-999.000,9, -999.00,9, -999.00,9, -75.6670,-150.0012,   0.004,      0.007,    34.4176,2,     -999.0,9,     -999.0,9,-999.0000,9,-999.0000,9,-999.0000,9,-999.0000,9,-999.0000,9,-999.0000,9,-999.0000,9,-999.0000,9,-999.0000,9,    0.001,   0.205,  -0.7615,50006502006,     -999.0,9,     -999.0,9,     -999.0,9,      -3.72,2,       0.91,20110317,       0244
320620110219,       P16S,      65,          2,          5,          5,2,20110317,       0233,   -75.6670,  -150.0012,        790,   484.2,   0.9244,  34.5072,2,  34.5345,2,    207.5,2,   198.7,2,   82.51,2,   32.86,2,    0.01,2,    2.26,2,-999.000,9,-999.000,9,-999.000,9,-999.0000,9,  2246.9,2,  2334.5,2,   7.5576,2,    25.00,-999.000,9,-999.0000,9,-999.000,9,   0.9172,2,    0.46,2,  -146.8,2,     2.4,-999.000,9, -999.00,9,-999.000,9, -999.00,9, -999.00,9, -75.6670,-150.0012,-999.000,     -999.0,    34.6974,2,     -999.0,9,     -999.0,9,-999.0000,9,-999.0000,9,-999.0000,9,-999.0000,9,-999.0000,9,-999.0000,9,-999.0000,9,-999.0000,9,-999.0000,9,-999.0000,-999.000,   0.9016,     -999.0,     -999.0,9,     -999.0,9,     -999.0,9,     -999.0,9,     -999.0,20110317,       0242
320620110219,       P16S,      65,          2,          4,          4,2,20110317,       0233,   -75.6670,  -150.0012,        790,   565.1,   1.5444,  34.7206,2,  34.7229,2,    187.3,2,   187.1,2,   95.33,2,   31.76,2,    0.00,2,    2.19,2,   0.270,2,   0.137,2,   0.021,2,-999.0000,9,  2254.9,2,  2352.4,2,   7.5814,2,    25.00,-999.000,9,-999.0000,9,-999.000,9,   1.5440,2,    0.46,2,  -153.5,2,     2.4,-999.000,9, -999.00,9,-999.000,9, -999.00,9, -999.00,9, -75.6670,-150.0012,-999.000,     -999.0,    34.8866,2,     -999.0,9,     -999.0,9,-999.0000,9,-999.0000,9,-999.0000,9,-999.0000,9,-999.0000,9,-999.0000,9,-999.0000,9,-999.0000,9,-999.0000,9,-999.0000,-999.000,   1.5144,     -999.0,     -999.0,9,     -999.0,9,     -999.0,9,     -999.0,9,     -999.0,20110317,       0240
320620110219,       P16S,      65,          2,          3,          3,2,20110317,       0233,   -75.6670,  -150.0012,        790,   665.0,   1.3473,  34.7275,2,  34.7282,2,    190.8,2,   191.5,2,  101.64,2,   31.88,2,    0.00,2,    2.20,2,   0.163,2,   0.083,2,   0.013,2,-999.0000,9,  -999.0,9,  2355.6,2,   7.5847,2,    25.00,   0.028,2,-999.0000,9,-999.000,9,   1.3468,2,    0.48,2,  -160.2,2,     3.5,-999.000,9,    0.00,2,-999.000,9, -999.00,9, -999.00,9, -75.6670,-150.0012,   0.004,     -999.0,    34.8919,2,     -999.0,9,     -999.0,9,-999.0000,9,-999.0000,9,-999.0000,9,-999.0000,9,-999.0000,9,-999.0000,9,-999.0000,9,-999.0000,9,-999.0000,9,-999.0000,-999.000,   1.3125,     -999.0,     -999.0,9,     -999.0,9,     -999.0,9,      -1.20,2,       0.04,20110317,       0237
320620110219,       P16S,      65,          2,          2,          2,2,20110317,       0233,   -75.6670,  -150.0012,        790,   729.8,   1.2080,  34.7255,2,  34.7266,2,    193.7,2,   193.2,2,  106.10,2,   31.90,2,    0.00,2,    2.21,2,   0.136,2,   0.069,2,   0.008,2,-999.0000,9,  2258.1,2,  2356.0,2,   7.5891,6,    25.00,-999.000,9,-999.0000,9,-999.000,9,   1.2103,2,    0.47,2,  -157.6,2,     2.3,-999.000,9, -999.00,9,-999.000,9, -999.00,9, -999.00,9, -75.6670,-150.0011,-999.000,     -999.0,    34.8904,2,     -999.0,9,     -999.0,9,-999.0000,9,-999.0000,9,-999.0000,9,-999.0000,9,-999.0000,9,-999.0000,9,-999.0000,9,-999.0000,9,-999.0000,9,-999.0000,-999.000,   1.1702,     -999.0,     -999.0,9,     -999.0,9,     -999.0,9,     -999.0,9,     -999.0,20110317,       0235