BOTTLE,20220813CCHSIOAMB
EXPOCODE,SECT_ID,STNNBR,CASTNO,SAMPNO,BTLNBR,BTLNBR_FLAG_W,DATE,TIME,LATITUDE,LONGITUDE,DEPTH,CTDPRS,CTDTMP,CTDSAL,CTDSAL_FLAG_W,SALNTY,SALNTY_FLAG_W,CTDOXY,CTDOXY_FLAG_W,OXYGEN,OXYGEN_FLAG_W,SILCAT,SILCAT_FLAG_W,NITRAT,NITRAT_FLAG_W,NITRIT,NITRIT_FLAG_W,PHSPHT,PHSPHT_FLAG_W,CFC-11,CFC-11_FLAG_W,CFC-12,CFC-12_FLAG_W,CFC113,CFC113_FLAG_W,SF6,SF6_FLAG_W,TCARBN,TCARBN_FLAG_W,ALKALI,ALKALI_FLAG_W,PH_TOT,PH_TOT_FLAG_W,PH_TMP,TRITUM,TRITUM_FLAG_W,HELIUM,HELIUM_FLAG_W,DELHE3,DELHE3_FLAG_W,REFTMP,REFTMP_FLAG_W,DELC13,DELC13_FLAG_W,DELC14,DELC14_FLAG_W,C14ERR,NEON,NEON_FLAG_W,DELO18,DELO18_FLAG_W,POC,POC_FLAG_W,DOC,DOC_FLAG_W,TDN,TDN_FLAG_W,BTL_LAT,BTL_LON,TRITER,NEONER,SALTREF,SALTREF_FLAG_W,PIGMENTS,PIGMENTS_FLAG_W,LAB_DEN,LAB_DEN_FLAG_W,CDOM325,CDOM325_FLAG_W,CDOM340,CDOM340_FLAG_W,CDOM380,CDOM380_FLAG_W,CDOM412,CDOM412_FLAG_W,CDOM443,CDOM443_FLAG_W,CDOM490,CDOM490_FLAG_W,CDOM555,CDOM555_FLAG_W,CDOMSL,CDOMSL_FLAG_W,CDOMSN,CDOMSN_FLAG_W,HELIER,DELHER,THETA,LDEO_SAMPNO,ABSORBTION,ABSORBTION_FLAG_W,IMAGE_COUNT,IMAGE_COUNT_FLAG_W,CYTO_COUNT,CYTO_COUNT_FLAG_W,DELD,DELD_FLAG_W,DELDERR,BTL_DATE,BTL_TIME
,,,,,,,,,,,METERS,DBAR,ITS-90,PSS-78,,PSS-78,,UMOL/KG,,UMOL/KG,,UMOL/KG,,UMOL/KG,,UMOL/KG,,UMOL/KG,,PMOL/KG,,PMOL/KG,,PMOL/KG,,FMOL/KG,,UMOL/KG,,UMOL/KG,,,,DEG C,TU,,NMOL/KG,,PERCNT,,DEG C,,/MILLE,,/MILLE,,/MILLE,NMOL/KG,,/MILLE,,UG/KG,,UMOL/KG,,UMOL/KG,,,,TU,NMOL/KG,G/KG,,,,,,1/M,,1/M,,1/M,,1/M,,1/M,,1/M,,1/M,,1/NM,,1/NM,,NMOL/KG,PERCNT,DEG C,,,,,,,,/MILLE,,/MILLE,,
320620110219,       S04P,      24,          1,         13,         13,2,20110304,       1403,   -67.0006,  -176.7383,       4087,  1502.1,   0.8075,  34.7127,2,  34.7127,2,    201.7,2,   201.9,2,  120.49,2,   32.07,2,    0.00,2,    2.22,2,   0.076,2,   0.048,2,   0.005,2,-999.0000,9,  -999.0,9,  -999.0,9,-999.0000,9,  -999.00,   0.001,2,    2.215,4,   9.132,2,   0.8075,2, -999.00,9,  -999.0,9,  -999.0,   9.499,4, -999.00,9,-999.000,9,   39.88,2,   34.30,2, -67.0006,-176.7380,   0.004,      0.008,    34.8763,2,     -999.0,9,     -999.0,9,-999.0000,9,-999.0000,9,-999.0000,9,-999.0000,9,-999.0000,9,-999.0000,9,-999.0000,9,-999.0000,9,-999.0000,9,    0.001,   0.203,   0.7247,50002401013,     -999.0,9,     -999.0,9,     -999.0,9,     -999.0,9,     -999.0,20110304,       1517
320620110219,       S04P,      24,          1,         12,         12,2,20110304,       1403,   -67.0006,  -176.7383,       4087,  1602.5,   0.7623,  34.7111,2,  34.7115,2,    202.7,2,   203.0,2,  122.40,2,   32.13,2,    0.00,2,    2.22,2,-999.000,9,-999.000,9,-999.000,9,-999.0000,9,  -999.0,9,  -999.0,9,-999.0000,9,  -999.00,-999.000,9,-999.0000,9,-999.000,9,   0.7625,2, -999.00,9,  -999.0,9,  -999.0,-999.000,9, -999.00,9,-999.000,9,   40.17,2,   34.47,2, -67.0006,-176.7380,-999.000,     -999.0,    34.8752,2,     -999.0,9,     -999.0,9,-999.0000,9,-999.0000,9,-999.0000,9,-999.0000,9,-999.0000,9,-999.0000,9,-999.0000,9,-999.0000,9,-999.0000,9,-999.0000,-999.000,   0.6732,     -999.0,     -999.0,9,     -999.0,9,     -999.0,9,     -999.0,9,     -999.0,20110304,       1514
320620110219,       S04P,      24,          1,         11,         11,2,20110304,       1403,   -67.0006,  -176.7383,       4087,  1799.0,   0.6945,  34.7083,2,  34.7085,2,    204.3,2,   204.9,2,  123.67,2,   32.21,2,    0.00,2,    2.23,2,   0.093,2,   0.050,2,   0.005,2,-999.0000,9,  2262.3,2,  2358.4,2,   7.5862,4,    25.00,   0.001,2,-999.0000,9,-999.000,9,   0.6947,2, -999.00,9,  -999.0,9,  -999.0,-999.000,9, -999.00,9,-999.000,9,   40.34,2,   34.46,2, -67.0005,-176.7380,   0.005,     -999.0,    34.8722,2,     -999.0,9,     -999.0,9,-999.0000,9,-999.0000,9,-999.0000,9,-999.0000,9,-999.0000,9,-999.0000,9,-999.0000,9,-999.0000,9,-999.0000,9,-999.0000,-999.000,   0.5925,     -999.0,     -999.0,9,     -999.0,9,     -999.0,9,     -999.0,9,     -999.0,20110304,       1509
320620110219,       S04P,      24,          1,         10,         10,2,20110304,       1403,   -67.0006,  -176.7383,       4087,  1999.6,   0.6020,  34.7050,2,  34.7046,2,    209.1,2,   207.1,2,  124.05,2,   32.19,2,    0.00,2,    2.22,2,-999.000,9,-999.000,9,-999.000,9,-999.0000,9,  -999.0,9,  -999.0,9,-999.0000,9,  -999.00,-999.000,9,-999.0000,9,-999.000,9,   0.6026,2, -999.00,9,  -999.0,9,  -999.0,-999.000,9, -999.00,9,-999.000,9,   39.70,2,   35.09,2, -67.0006,-176.7380,-999.000,     -999.0,    34.8683,2,     -999.0,9,     -999.0,9,-999.0000,9,-999.0000,9,-999.0000,9,-999.0000,9,-999.0000,9,-999.0000,9,-999.0000,9,-999.0000,9,-999.0000,9,-999.0000,-999.000,   0.4868,     -999.0,     -999.0,9,     -999.0,9,     -999.0,9,     -999.0,9,     -999.0,20110304,       1503
320620110219,       S04P,      24,          1,          9,          9,2,20110304,       1403,   -67.0006,  -176.7383,       4087,  2251.6,   0.5215,  34.7026,2,  34.7023,2,    209.2,2,   209.4,2,  125.87,2,   32.30,2,    0.00,2,    2.22,2,   0.218,2,   0.130,2,   0.012,2,-999.0000,9,  -999.0,9,  -999.0,9,-999.0000,9,  -999.00,   0.000,2,    2.109,2,   9.371,2,   0.5222,2, -999.00,9,  -999.0,9,  -999.0,   9.146,2, -999.00,9,-999.000,9,   40.04,2,   35.20,2, -67.0006,-176.7380,   0.004,      0.008,    34.8659,2,     -999.0,9,     -999.0,9,-999.0000,9,-999.0000,9,-999.0000,9,-999.0000,9,-999.0000,9,-999.0000,9,-999.0000,9,-999.0000,9,-999.0000,9,    0.001,   0.203,   0.3885,50002401009,     -999.0,9,     -999.0,9,     -999.0,9,     -999.0,9,     -999.0,20110304,       1457
320620110219,       S04P,      24,          1,          8,          8,2,20110304,       1403,   -67.0006,  -176.7383,       4087,  2501.7,   0.4637,  34.7022,2,  34.7013,2,    210.0,2,   210.1,2,  127.53,2,   32.41,2,    0.00,2,    2.22,2,-999.000,9,-999.000,9,-999.000,9,-999.0000,9,  2261.4,2,  2358.1,2,   7.5899,4,    25.00,-999.000,9,-999.0000,9,-999.000,9,   0.4638,2, -999.00,9,  -999.0,9,  -999.0,-999.000,9, -999.00,9,-999.000,9,   40.46,2,   35.00,2, -67.0006,-176.7380,-999.000,     -999.0,    34.8649,2,     -999.0,9,     -999.0,9,-999.0000,9,-999.0000,9,-999.0000,9,-999.0000,9,-999.0000,9,-999.0000,9,-999.0000,9,-999.0000,9,-999.0000,9,-999.0000,-999.000,   0.3120,     -999.0,     -999.0,9,     -999.0,9,     -999.0,9,     -999.0,9,     -999.0,20110304,       1451
320620110219,       S04P,      24,          1,          7,          7,2,20110304,       1403,   -67.0006,  -176.7383,       4087,  2749.9,   0.3886,  34.6977,2,  34.6970,2,    212.7,2,   213.2,2,  126.04,2,   32.38,2,    0.00,2,    2.22,2,   0.423,2,   0.221,2,   0.025,2,-999.0000,9,  -999.0,9,  -999.0,9,-999.0000,9,  -999.00,   0.001,2,-999.0000,9,-999.000,9,   0.3890,2, -999.00,9,  -999.0,9,  -999.0,-999.000,9, -999.00,9,-999.000,9,   39.89,2,   34.50,2, -67.0006,-176.7381,   0.004,     -999.0,    34.8606,2,     -999.0,9,     -999.0,9,-999.0000,9,-999.0000,9,-999.0000,9,-999.0000,9,-999.0000,9,-999.0000,9,-999.0000,9,-999.0000,9,-999.0000,9,-999.0000,-999.000,   0.2179,     -999.0,     -999.0,9,     -999.0,9,     -999.0,9,     -999.0,9,     -999.0,20110304,       1444
320620110219,       S04P,      24,          1,          6,          6,2,20110304,       1403,   -67.0006,  -176.7383,       4087,  3053.1,   0.2996,  34.6934,2,  34.6944,2,    215.8,2,   216.9,2,  124.28,2,   32.37,2,    0.00,2,    2.22,2,   0.631,2,   0.344,2,   0.038,2,-999.0000,9,  2259.4,2,  2356.8,2,   7.5853,4,    25.00,-999.000,9,-999.0000,9,-999.000,9,   0.2995,2, -999.00,9,  -999.0,9,  -999.0,-999.000,9, -999.00,9,-999.000,9,   40.27,2,   34.69,2, -67.0006,-176.7381,-999.000,     -999.0,    34.8580,2,     -999.0,9,     -999.0,9,-999.0000,9,-999.0000,9,-999.0000,9,-999.0000,9,-999.0000,9,-999.0000,9,-999.0000,9,-999.0000,9,-999.0000,9,-999.0000,-999.000,   0.1047,     -999.0,     -999.0,9,     -999.0,9,     -999.0,9,     -999.0,9,     -999.0,20110304,       1436
320620110219,       S04P,      24,          1,          5,          5,2,20110304,       1403,   -67.0006,  -176.7383,       4087,  3400.7,   0.2858,  34.7010,2,  34.7007,2,    215.2,2,   215.2,2,  134.77,2,   32.68,2,    0.00,2,    2.23,2,   0.277,2,   0.147,2,   0.014,2,-999.0000,9,  2262.2,2,  2357.2,2,   7.5927,4,    25.00,   0.004,2,    2.187,4,   7.790,2,   0.2859,2, -999.00,9,  -999.0,9,  -999.0,   9.458,2,   -0.33,2,-999.000,9,   40.55,2,   35.27,2, -67.0005,-176.7382,   0.004,      0.008,    34.8643,2,     -999.0,9,     -999.0,9,-999.0000,9,-999.0000,9,-999.0000,9,-999.0000,9,-999.0000,9,-999.0000,9,-999.0000,9,-999.0000,9,-999.0000,9,    0.001,   0.202,   0.0597,50002401005,     -999.0,9,     -999.0,9,     -999.0,9,      -2.76,2,       0.13,20110304,       1428
320620110219,       S04P,      24,          1,          4,          4,2,20110304,       1403,   -67.0006,  -176.7383,       4087,  3601.5,   0.2086,  34.6907,2,  34.6911,2,    220.7,2,   219.9,2,  124.15,2,   32.37,2,    0.00,2,    2.22,2,   0.828,2,   0.439,2,   0.052,2,-999.0000,9,  2259.3,2,  2357.1,2,   7.5857,4,    25.00,-999.000,9,-999.0000,9,-999.000,9,   0.2072,2, -999.00,9,  -999.0,9,  -999.0,-999.000,9, -999.00,9,-999.000,9,   40.57,2,   35.11,2, -67.0006,-176.7381,-999.000,     -999.0,    34.8547,2,     -999.0,9,     -999.0,9,-999.0000,9,-999.0000,9,-999.0000,9,-999.0000,9,-999.0000,9,-999.0000,9,-999.0000,9,-999.0000,9,-999.0000,9,-999.0000,-999.000,  -0.0345,     -999.0,     -999.0,9,     -999.0,9,     -999.0,9,     -999.0,9,     -999.0,20110304,       1422
320620110219,       S04P,      24,          1,          3,          3,2,20110304,       1403,   -67.0006,  -176.7383,       4087,  3800.5,   0.2271,  34.6952,2,  34.6939,2,    219.8,2,   218.9,2,  127.40,2,   32.51,2,    0.00,2,    2.23,2,   0.694,2,   0.364,2,   0.046,2,-999.0000,9,  2258.9,2,  2356.5,6,   7.5792,4,    25.00,   0.001,2,    2.078,2,   8.439,2,   0.2277,2, -999.00,9,  -999.0,9,  -999.0,   9.063,2,   -0.15,2,-999.000,9,   40.17,2,   34.35,2, -67.0006,-176.7382,   0.004,      0.007,    34.8575,2,     -999.0,9,     -999.0,9,-999.0000,9,-999.0000,9,-999.0000,9,-999.0000,9,-999.0000,9,-999.0000,9,-999.0000,9,-999.0000,9,-999.0000,9,    0.000,   0.201,  -0.0358,50002401003,     -999.0,9,     -999.0,9,     -999.0,9,      -2.64,2,       0.25,20110304,       1416
320620110219,       S04P,      24,          1,          2,          2,2,20110304,       1403,   -67.0006,  -176.7383,       4087,  4098.1,   0.2077,  34.6853,2,  34.6852,2,    222.6,2,   223.0,2,  117.62,2,   32.24,2,    0.00,2,    2.21,2,   1.157,2,   0.627,2,   0.082,2,-999.0000,9,  2257.5,6,  2357.2,2,   7.5797,2,    25.00,-999.000,9,-999.0000,9,-999.000,9,   0.2075,2, -999.00,9,  -999.0,9,  -999.0,-999.000,9, -999.00,9,-999.000,9,   40.12,2,   34.42,2, -67.0006,-176.7382,-999.000,     -999.0,    34.8488,2,     -999.0,9,     -999.0,9,-999.0000,9,-999.0000,9,-999.0000,9,-999.0000,9,-999.0000,9,-999.0000,9,-999.0000,9,-999.0000,9,-999.0000,9,-999.0000,-999.000,  -0.0845,     -999.0,     -999.0,9,     -999.0,9,     -999.0,9,     -999.0,9,     -999.0,20110304,       1407
320620110219,       S04P,      24,          1,          1,          1,2,20110304,       1403,   -67.0006,  -176.7383,       4087,  4155.5,   0.2134,  34.6861,2,  34.6858,2,    222.8,2,   223.2,2,  118.41,2,   32.22,2,    0.00,2,    2.19,2,   1.139,2,   0.606,2,   0.070,2,-999.0000,9,  2258.6,2,  2357.2,2,   7.5848,4,    25.00,   0.011,2,    2.109,2,   8.178,2,   0.2134,2, -999.00,9,  -999.0,9,  -999.0,   9.211,2,   -0.05,2,-999.000,9,   40.06,2,   35.13,2, -67.0006,-176.7383,   0.005,      0.007,    34.8494,2,     -999.0,9,     -999.0,9,-999.0000,9,-999.0000,9,-999.0000,9,-999.0000,9,-999.0000,9,-999.0000,9,-999.0000,9,-999.0000,9,-999.0000,9,    0.001,   0.199,  -0.0849,50002401001,     -999.0,9,     -999.0,9,     -999.0,9,      -2.36,2,       0.16,20110304,       1403