BOTTLE,20220813CCHSIOAMB
EXPOCODE,SECT_ID,STNNBR,CASTNO,SAMPNO,BTLNBR,BTLNBR_FLAG_W,DATE,TIME,LATITUDE,LONGITUDE,DEPTH,CTDPRS,CTDTMP,CTDSAL,CTDSAL_FLAG_W,SALNTY,SALNTY_FLAG_W,CTDOXY,CTDOXY_FLAG_W,OXYGEN,OXYGEN_FLAG_W,SILCAT,SILCAT_FLAG_W,NITRAT,NITRAT_FLAG_W,NITRIT,NITRIT_FLAG_W,PHSPHT,PHSPHT_FLAG_W,CFC-11,CFC-11_FLAG_W,CFC-12,CFC-12_FLAG_W,CFC113,CFC113_FLAG_W,SF6,SF6_FLAG_W,TCARBN,TCARBN_FLAG_W,ALKALI,ALKALI_FLAG_W,PH_TOT,PH_TOT_FLAG_W,PH_TMP,TRITUM,TRITUM_FLAG_W,HELIUM,HELIUM_FLAG_W,DELHE3,DELHE3_FLAG_W,REFTMP,REFTMP_FLAG_W,DELC13,DELC13_FLAG_W,DELC14,DELC14_FLAG_W,C14ERR,NEON,NEON_FLAG_W,DELO18,DELO18_FLAG_W,POC,POC_FLAG_W,DOC,DOC_FLAG_W,TDN,TDN_FLAG_W,BTL_LAT,BTL_LON,TRITER,NEONER,SALTREF,SALTREF_FLAG_W,PIGMENTS,PIGMENTS_FLAG_W,LAB_DEN,LAB_DEN_FLAG_W,CDOM325,CDOM325_FLAG_W,CDOM340,CDOM340_FLAG_W,CDOM380,CDOM380_FLAG_W,CDOM412,CDOM412_FLAG_W,CDOM443,CDOM443_FLAG_W,CDOM490,CDOM490_FLAG_W,CDOM555,CDOM555_FLAG_W,CDOMSL,CDOMSL_FLAG_W,CDOMSN,CDOMSN_FLAG_W,HELIER,DELHER,THETA,LDEO_SAMPNO,ABSORBTION,ABSORBTION_FLAG_W,IMAGE_COUNT,IMAGE_COUNT_FLAG_W,CYTO_COUNT,CYTO_COUNT_FLAG_W,DELD,DELD_FLAG_W,DELDERR,BTL_DATE,BTL_TIME
,,,,,,,,,,,METERS,DBAR,ITS-90,PSS-78,,PSS-78,,UMOL/KG,,UMOL/KG,,UMOL/KG,,UMOL/KG,,UMOL/KG,,UMOL/KG,,PMOL/KG,,PMOL/KG,,PMOL/KG,,FMOL/KG,,UMOL/KG,,UMOL/KG,,,,DEG C,TU,,NMOL/KG,,PERCNT,,DEG C,,/MILLE,,/MILLE,,/MILLE,NMOL/KG,,/MILLE,,UG/KG,,UMOL/KG,,UMOL/KG,,,,TU,NMOL/KG,G/KG,,,,,,1/M,,1/M,,1/M,,1/M,,1/M,,1/M,,1/M,,1/NM,,1/NM,,NMOL/KG,PERCNT,DEG C,,,,,,,,/MILLE,,/MILLE,,
320620110219,       P16S,      46,          1,         13,         13,2,20110311,       1215,   -67.4980,  -149.9996,       4393,  1664.4,   0.7055,  34.7088,2,  34.7101,2,    203.0,2,   203.2,2,  122.74,2,   31.66,2,    0.00,2,    2.23,2,   0.106,2,   0.055,2,   0.007,2,   0.0550,2,  -999.0,9,  -999.0,9,-999.0000,9,  -999.00,-999.000,9,-999.0000,9,-999.000,9,   0.7056,2, -999.00,9,  -999.0,9,  -999.0,-999.000,9, -999.00,9,-999.000,9,   39.35,2,   34.23,2, -67.4981,-150.0000,-999.000,     -999.0,    34.8738,2,     -999.0,9,     -999.0,9,-999.0000,9,-999.0000,9,-999.0000,9,-999.0000,9,-999.0000,9,-999.0000,9,-999.0000,9,-999.0000,9,-999.0000,9,-999.0000,-999.000,   0.6129,     -999.0,     -999.0,9,     -999.0,9,     -999.0,9,     -999.0,9,     -999.0,20110311,       1314
320620110219,       P16S,      46,          1,         12,         12,2,20110311,       1215,   -67.4980,  -149.9996,       4393,  1865.5,   0.6310,  34.7065,2,  34.7060,2,    204.8,2,   205.0,2,  124.04,2,   31.60,2,    0.00,2,    2.23,2,-999.000,9,-999.000,9,-999.000,9,-999.0000,9,  -999.0,9,  -999.0,9,-999.0000,9,  -999.00,-999.000,9,-999.0000,9,-999.000,9,   0.6313,2, -999.00,9,  -999.0,9,  -999.0,-999.000,9, -999.00,9,-999.000,9,   39.90,2,   34.21,2, -67.4981,-149.9999,-999.000,     -999.0,    34.8697,2,     -999.0,9,     -999.0,9,-999.0000,9,-999.0000,9,-999.0000,9,-999.0000,9,-999.0000,9,-999.0000,9,-999.0000,9,-999.0000,9,-999.0000,9,-999.0000,-999.000,   0.5252,     -999.0,     -999.0,9,     -999.0,9,     -999.0,9,     -999.0,9,     -999.0,20110311,       1310
320620110219,       P16S,      46,          1,         11,         11,2,20110311,       1215,   -67.4980,  -149.9996,       4393,  2085.2,   0.5573,  34.7049,2,  34.7041,2,    206.7,2,   206.2,2,  125.18,2,   31.59,2,    0.00,2,    2.24,2,   0.131,2,   0.069,2,   0.005,2,   0.0520,2,  -999.0,9,  -999.0,9,-999.0000,9,  -999.00,-999.000,9,-999.0000,9,-999.000,9,   0.5575,2, -999.00,9,  -999.0,9,  -999.0,-999.000,9, -999.00,9,-999.000,9,   40.11,2,   34.31,2, -67.4981,-149.9999,-999.000,     -999.0,    34.8677,2,     -999.0,9,     -999.0,9,-999.0000,9,-999.0000,9,-999.0000,9,-999.0000,9,-999.0000,9,-999.0000,9,-999.0000,9,-999.0000,9,-999.0000,9,-999.0000,-999.000,   0.4364,     -999.0,     -999.0,9,     -999.0,9,     -999.0,9,     -999.0,9,     -999.0,20110311,       1305
320620110219,       P16S,      46,          1,         10,         37,2,20110311,       1215,   -67.4980,  -149.9996,       4393,  2335.8,   0.4638,  34.7039,2,  34.7029,2,    208.7,2,   208.4,2,  126.38,2,   31.70,2,    0.00,2,    2.24,2,-999.000,9,-999.000,9,-999.000,9,-999.0000,9,  2275.9,4,  2360.5,2,   7.5910,2,    25.00,-999.000,9,-999.0000,9,-999.000,9,   0.4643,2, -999.00,9,  -999.0,9,  -999.0,-999.000,9, -999.00,9,-999.000,9,   40.09,2,   34.59,2, -67.4981,-149.9999,-999.000,     -999.0,    34.8665,2,     -999.0,9,     -999.0,9,-999.0000,9,-999.0000,9,-999.0000,9,-999.0000,9,-999.0000,9,-999.0000,9,-999.0000,9,-999.0000,9,-999.0000,9,-999.0000,-999.000,   0.3253,     -999.0,     -999.0,9,     -999.0,9,     -999.0,9,     -999.0,9,     -999.0,20110311,       1300
320620110219,       P16S,      46,          1,          9,          9,2,20110311,       1215,   -67.4980,  -149.9996,       4393,  2585.2,   0.3923,  34.7032,2,  34.7021,2,    210.2,2,   210.9,2,  129.00,2,   31.74,2,    0.00,2,    2.24,2,   0.149,2,   0.079,2,   0.005,2,   0.0470,2,  -999.0,9,  -999.0,9,-999.0000,9,  -999.00,-999.000,9,-999.0000,9,-999.000,9,   0.3925,2, -999.00,9,  -999.0,9,  -999.0,-999.000,9, -999.00,9,-999.000,9,   40.03,2,   34.28,2, -67.4981,-149.9998,-999.000,     -999.0,    34.8658,2,     -999.0,9,     -999.0,9,-999.0000,9,-999.0000,9,-999.0000,9,-999.0000,9,-999.0000,9,-999.0000,9,-999.0000,9,-999.0000,9,-999.0000,9,-999.0000,-999.000,   0.2351,     -999.0,     -999.0,9,     -999.0,9,     -999.0,9,     -999.0,9,     -999.0,20110311,       1255
320620110219,       P16S,      46,          1,          8,          8,2,20110311,       1215,   -67.4980,  -149.9996,       4393,  2835.1,   0.3386,  34.7025,2,  34.7018,2,    212.4,2,   213.0,2,  130.12,2,   31.69,2,    0.00,2,    2.24,2,-999.000,9,-999.000,9,-999.000,9,-999.0000,9,  -999.0,9,  -999.0,9,-999.0000,9,  -999.00,-999.000,9,-999.0000,9,-999.000,9,   0.3391,2, -999.00,9,  -999.0,9,  -999.0,-999.000,9, -999.00,9,-999.000,9,   39.94,2,   34.58,2, -67.4981,-149.9999,-999.000,     -999.0,    34.8654,2,     -999.0,9,     -999.0,9,-999.0000,9,-999.0000,9,-999.0000,9,-999.0000,9,-999.0000,9,-999.0000,9,-999.0000,9,-999.0000,9,-999.0000,9,-999.0000,-999.000,   0.1617,     -999.0,     -999.0,9,     -999.0,9,     -999.0,9,     -999.0,9,     -999.0,20110311,       1250
320620110219,       P16S,      46,          1,          7,          7,2,20110311,       1215,   -67.4980,  -149.9996,       4393,  3099.4,   0.2829,  34.7014,2,  34.7006,2,    214.5,2,   214.2,2,  130.86,2,   31.68,2,    0.00,2,    2.24,2,   0.273,2,   0.137,2,   0.016,2,   0.0800,2,  2266.5,4,  2360.2,2,   7.5936,2,    25.00,-999.000,9,-999.0000,9,-999.000,9,   0.2836,2, -999.00,9,  -999.0,9,  -999.0,-999.000,9, -999.00,9,-999.000,9,   39.55,2,   34.60,2, -67.4981,-149.9998,-999.000,     -999.0,    34.8642,2,     -999.0,9,     -999.0,9,-999.0000,9,-999.0000,9,-999.0000,9,-999.0000,9,-999.0000,9,-999.0000,9,-999.0000,9,-999.0000,9,-999.0000,9,-999.0000,-999.000,   0.0842,     -999.0,     -999.0,9,     -999.0,9,     -999.0,9,     -999.0,9,     -999.0,20110311,       1244
320620110219,       P16S,      46,          1,          6,          6,2,20110311,       1215,   -67.4980,  -149.9996,       4393,  3400.0,   0.2275,  34.6989,2,  34.6977,2,    217.1,2,   217.3,2,  128.51,2,   31.71,2,    0.00,2,    2.24,2,-999.000,9,-999.000,9,-999.000,9,-999.0000,9,  -999.0,9,  -999.0,9,-999.0000,9,  -999.00,-999.000,9,-999.0000,9,-999.000,9,   0.2279,2, -999.00,9,  -999.0,9,  -999.0,-999.000,9, -999.00,9,-999.000,9,   39.67,2,   34.55,2, -67.4981,-149.9999,-999.000,     -999.0,    34.8613,2,     -999.0,9,     -999.0,9,-999.0000,9,-999.0000,9,-999.0000,9,-999.0000,9,-999.0000,9,-999.0000,9,-999.0000,9,-999.0000,9,-999.0000,9,-999.0000,-999.000,   0.0029,     -999.0,     -999.0,9,     -999.0,9,     -999.0,9,     -999.0,9,     -999.0,20110311,       1238
320620110219,       P16S,      46,          1,          5,          5,2,20110311,       1215,   -67.4980,  -149.9996,       4393,  3699.8,   0.1915,  34.6966,2,  34.6953,2,    219.9,2,   220.1,2,  123.93,2,   31.71,2,    0.00,2,    2.24,2,   0.739,2,   0.372,2,   0.039,2,   0.0960,2,  2271.6,4,  2359.3,2,   7.5913,2,    25.00,-999.000,9,-999.0000,9,-999.000,9,   0.1917,2, -999.00,9,  -999.0,9,  -999.0,-999.000,9, -999.00,9,-999.000,9,   39.82,2,   34.34,2, -67.4981,-149.9998,-999.000,     -999.0,    34.8590,2,     -999.0,9,     -999.0,9,-999.0000,9,-999.0000,9,-999.0000,9,-999.0000,9,-999.0000,9,-999.0000,9,-999.0000,9,-999.0000,9,-999.0000,9,-999.0000,-999.000,  -0.0606,     -999.0,     -999.0,9,     -999.0,9,     -999.0,9,     -999.0,9,     -999.0,20110311,       1232
320620110219,       P16S,      46,          1,          4,          4,2,20110311,       1215,   -67.4980,  -149.9996,       4393,  4000.3,   0.1941,  34.6967,2,  34.6956,2,    220.6,2,   220.1,2,  123.30,2,   31.73,2,    0.00,2,    2.24,2,   0.773,2,   0.385,2,   0.040,2,   0.0810,2,  2269.3,4,  2359.0,2,   7.5907,2,    25.00,-999.000,9,-999.0000,9,-999.000,9,   0.1944,2, -999.00,9,  -999.0,9,  -999.0,-999.000,9, -999.00,9,-999.000,9,   40.33,2,   34.54,2, -67.4980,-149.9996,-999.000,     -999.0,    34.8592,2,     -999.0,9,     -999.0,9,-999.0000,9,-999.0000,9,-999.0000,9,-999.0000,9,-999.0000,9,-999.0000,9,-999.0000,9,-999.0000,9,-999.0000,9,-999.0000,-999.000,  -0.0878,     -999.0,     -999.0,9,     -999.0,9,     -999.0,9,     -999.0,9,     -999.0,20110311,       1226
320620110219,       P16S,      46,          1,          3,          3,2,20110311,       1215,   -67.4980,  -149.9996,       4393,  4299.3,   0.2201,  34.6970,2,  34.6962,2,    220.2,2,   219.6,2,  124.27,2,   31.79,2,    0.00,2,    2.24,2,   0.760,2,   0.375,2,   0.030,2,   0.0760,2,  2258.4,4,  2358.7,6,   7.5904,2,    25.00,-999.000,9,-999.0000,9,-999.000,9,   0.2201,2, -999.00,9,  -999.0,9,  -999.0,-999.000,9, -999.00,9,-999.000,9,   40.50,2,   34.28,2, -67.4980,-149.9995,-999.000,     -999.0,    34.8598,2,     -999.0,9,     -999.0,9,-999.0000,9,-999.0000,9,-999.0000,9,-999.0000,9,-999.0000,9,-999.0000,9,-999.0000,9,-999.0000,9,-999.0000,9,-999.0000,-999.000,  -0.0935,     -999.0,     -999.0,9,     -999.0,9,     -999.0,9,     -999.0,9,     -999.0,20110311,       1220
320620110219,       P16S,      46,          1,          2,          2,2,20110311,       1215,   -67.4980,  -149.9996,       4393,  4420.8,   0.2316,  34.6970,2,  34.6960,2,    219.9,2,   219.5,2,  124.95,2,   31.81,2,    0.00,2,    2.24,2,   0.799,2,   0.392,2,   0.035,2,   0.0900,2,  2273.1,4,  2359.0,2,   7.5893,6,    25.00,-999.000,9,-999.0000,9,-999.000,9,   0.2313,2, -999.00,9,  -999.0,9,  -999.0,-999.000,9, -999.00,9,-999.000,9,   40.91,2,   34.50,2, -67.4980,-149.9995,-999.000,     -999.0,    34.8596,2,     -999.0,9,     -999.0,9,-999.0000,9,-999.0000,9,-999.0000,9,-999.0000,9,-999.0000,9,-999.0000,9,-999.0000,9,-999.0000,9,-999.0000,9,-999.0000,-999.000,  -0.0952,     -999.0,     -999.0,9,     -999.0,9,     -999.0,9,     -999.0,9,     -999.0,20110311,       1217
320620110219,       P16S,      46,          1,          1,          1,2,20110311,       1215,   -67.4980,  -149.9996,       4393,  4471.5,   0.2379,  34.6969,2,  34.6966,2,    219.5,2,   220.2,2,  124.64,2,   31.82,2,    0.00,2,    2.24,2,   0.766,2,   0.381,2,   0.034,2,   0.0880,2,  2281.3,4,  2357.7,2,   7.5884,2,    25.00,-999.000,9,-999.0000,9,-999.000,9,   0.2382,2, -999.00,9,  -999.0,9,  -999.0,-999.000,9, -999.00,9,-999.000,9,   40.89,2,   34.27,2, -67.4980,-149.9996,-999.000,     -999.0,    34.8602,2,     -999.0,9,     -999.0,9,-999.0000,9,-999.0000,9,-999.0000,9,-999.0000,9,-999.0000,9,-999.0000,9,-999.0000,9,-999.0000,9,-999.0000,9,-999.0000,-999.000,  -0.0946,     -999.0,     -999.0,9,     -999.0,9,     -999.0,9,     -999.0,9,     -999.0,20110311,       1215