BOTTLE,20220813CCHSIOAMB
EXPOCODE,SECT_ID,STNNBR,CASTNO,SAMPNO,BTLNBR,BTLNBR_FLAG_W,DATE,TIME,LATITUDE,LONGITUDE,DEPTH,CTDPRS,CTDTMP,CTDSAL,CTDSAL_FLAG_W,SALNTY,SALNTY_FLAG_W,CTDOXY,CTDOXY_FLAG_W,OXYGEN,OXYGEN_FLAG_W,SILCAT,SILCAT_FLAG_W,NITRAT,NITRAT_FLAG_W,NITRIT,NITRIT_FLAG_W,PHSPHT,PHSPHT_FLAG_W,CFC-11,CFC-11_FLAG_W,CFC-12,CFC-12_FLAG_W,CFC113,CFC113_FLAG_W,SF6,SF6_FLAG_W,TCARBN,TCARBN_FLAG_W,ALKALI,ALKALI_FLAG_W,PH_TOT,PH_TOT_FLAG_W,PH_TMP,TRITUM,TRITUM_FLAG_W,HELIUM,HELIUM_FLAG_W,DELHE3,DELHE3_FLAG_W,REFTMP,REFTMP_FLAG_W,DELC13,DELC13_FLAG_W,DELC14,DELC14_FLAG_W,C14ERR,NEON,NEON_FLAG_W,DELO18,DELO18_FLAG_W,POC,POC_FLAG_W,DOC,DOC_FLAG_W,TDN,TDN_FLAG_W,BTL_LAT,BTL_LON,TRITER,NEONER,SALTREF,SALTREF_FLAG_W,PIGMENTS,PIGMENTS_FLAG_W,LAB_DEN,LAB_DEN_FLAG_W,CDOM325,CDOM325_FLAG_W,CDOM340,CDOM340_FLAG_W,CDOM380,CDOM380_FLAG_W,CDOM412,CDOM412_FLAG_W,CDOM443,CDOM443_FLAG_W,CDOM490,CDOM490_FLAG_W,CDOM555,CDOM555_FLAG_W,CDOMSL,CDOMSL_FLAG_W,CDOMSN,CDOMSN_FLAG_W,HELIER,DELHER,THETA,LDEO_SAMPNO,ABSORBTION,ABSORBTION_FLAG_W,IMAGE_COUNT,IMAGE_COUNT_FLAG_W,CYTO_COUNT,CYTO_COUNT_FLAG_W,DELD,DELD_FLAG_W,DELDERR,BTL_DATE,BTL_TIME
,,,,,,,,,,,METERS,DBAR,ITS-90,PSS-78,,PSS-78,,UMOL/KG,,UMOL/KG,,UMOL/KG,,UMOL/KG,,UMOL/KG,,UMOL/KG,,PMOL/KG,,PMOL/KG,,PMOL/KG,,FMOL/KG,,UMOL/KG,,UMOL/KG,,,,DEG C,TU,,NMOL/KG,,PERCNT,,DEG C,,/MILLE,,/MILLE,,/MILLE,NMOL/KG,,/MILLE,,UG/KG,,UMOL/KG,,UMOL/KG,,,,TU,NMOL/KG,G/KG,,,,,,1/M,,1/M,,1/M,,1/M,,1/M,,1/M,,1/M,,1/NM,,1/NM,,NMOL/KG,PERCNT,DEG C,,,,,,,,/MILLE,,/MILLE,,
320620110219,       P16S,      64,          1,          5,          5,2,20110316,       2314,   -75.6070,  -150.0134,       1664,  1334.8,   0.9191,  34.7166,2,  34.7166,2,    199.8,2,   199.8,2,  115.95,2,   31.85,2,    0.00,2,    2.24,2,-999.000,9,-999.000,9,-999.000,9,-999.0000,9,  -999.0,9,  -999.0,9,-999.0000,9,  -999.00,-999.000,9,-999.0000,9,-999.000,9,   0.9187,2, -999.00,9,  -999.0,9,  -999.0,-999.000,9, -999.00,9,-999.000,9,   40.73,2,   34.47,2, -75.6070,-150.0135,-999.000,     -999.0,    34.8803,2,     -999.0,9,     -999.0,9,   0.0952,2,   0.0540,2,   0.0111,3,  -0.0001,4,  -0.0102,4,  -0.0089,4,  -0.0110,4,   0.0536,4,   0.0402,4,-999.0000,-999.000,   0.8462,     -999.0,     -999.0,9,     -999.0,9,     -999.0,9,     -999.0,9,     -999.0,20110316,       2323
320620110219,       P16S,      64,          1,          4,          4,2,20110316,       2314,   -75.6070,  -150.0134,       1664,  1434.5,   0.9003,  34.7157,2,  34.7154,2,    200.5,2,   201.0,2,  116.32,2,   31.89,2,    0.00,2,    2.24,2,   0.090,2,   0.049,2,   0.005,2,-999.0000,9,  2259.4,2,  2359.6,6,   7.5924,2,    25.00,-999.000,9,-999.0000,9,-999.000,9,   0.8999,2, -999.00,9,  -999.0,9,  -999.0,-999.000,9, -999.00,9,-999.000,9,   40.76,2,   33.93,2, -75.6070,-150.0134,-999.000,     -999.0,    34.8791,2,     -999.0,9,     -999.0,1,-999.0000,9,-999.0000,9,-999.0000,9,-999.0000,9,-999.0000,9,-999.0000,9,-999.0000,9,-999.0000,9,-999.0000,9,-999.0000,-999.000,   0.8210,     -999.0,     -999.0,9,     -999.0,9,     -999.0,9,     -999.0,9,     -999.0,20110316,       2321
320620110219,       P16S,      64,          1,          3,          3,2,20110316,       2314,   -75.6070,  -150.0134,       1664,  1535.2,   0.8597,  34.7142,2,  34.7143,2,    201.5,2,   201.3,2,  117.84,2,   31.82,2,    0.00,2,    2.25,2,   0.092,2,   0.051,2,   0.005,2,-999.0000,9,  2258.9,2,  2360.8,2,   7.5910,2,    25.00,-999.000,9,-999.0000,9,-999.000,9,   0.8592,2, -999.00,9,  -999.0,9,  -999.0,-999.000,9, -999.00,9,-999.000,9,   40.62,2,   33.77,2, -75.6070,-150.0134,-999.000,     -999.0,    34.8780,2,     -999.0,9,     -999.0,1,   0.0907,2,   0.0500,2,   0.0080,3,  -0.0020,4,  -0.0113,4,  -0.0096,4,  -0.0114,4,   0.0535,4,   0.0432,4,-999.0000,-999.000,   0.7740,     -999.0,     -999.0,9,     -999.0,9,     -999.0,9,     -999.0,9,     -999.0,20110316,       2318
320620110219,       P16S,      64,          1,          2,          2,2,20110316,       2314,   -75.6070,  -150.0134,       1664,  1620.0,   0.8190,  34.7128,2,  34.7133,2,    202.5,2,   203.6,2,  119.42,2,   31.86,2,    0.00,2,    2.25,2,   0.089,2,   0.048,2,   0.005,2,-999.0000,9,  2260.4,2,  2360.2,2,   7.5939,6,    25.00,-999.000,9,-999.0000,9,-999.000,9,   0.8184,2, -999.00,9,  -999.0,9,  -999.0,-999.000,9, -999.00,9,-999.000,9,   40.70,2,   34.52,2, -75.6070,-150.0134,-999.000,     -999.0,    34.8770,2,     -999.0,9,     -999.0,1,-999.0000,9,-999.0000,9,-999.0000,9,-999.0000,9,-999.0000,9,-999.0000,9,-999.0000,9,-999.0000,9,-999.0000,9,-999.0000,-999.000,   0.7280,     -999.0,     -999.0,9,     -999.0,9,     -999.0,9,     -999.0,9,     -999.0,20110316,       2316
320620110219,       P16S,      64,          1,          1,          1,2,20110316,       2314,   -75.6070,  -150.0134,       1664,  1677.2,   0.7850,  34.7117,2,  34.7115,2,    203.7,2,   203.9,2,  120.57,2,   32.06,2,    0.00,2,    2.24,2,   0.145,2,   0.077,2,   0.010,2,-999.0000,9,  2261.3,6,  2361.1,2,   7.5938,2,    25.00,-999.000,9,-999.0000,9,-999.000,9,   0.7856,2, -999.00,9,  -999.0,9,  -999.0,-999.000,9, -999.00,9,-999.000,9,   40.78,2,   34.90,2, -75.6070,-150.0134,-999.000,     -999.0,    34.8752,2,     -999.0,9,     -999.0,1,   0.0937,2,   0.0519,2,   0.0091,3,  -0.0010,4,  -0.0106,4,  -0.0091,4,  -0.0111,4,   0.0583,4,   0.0424,4,-999.0000,-999.000,   0.6904,     -999.0,     -999.0,9,     -999.0,9,     -999.0,9,     -999.0,9,     -999.0,20110316,       2314