BOTTLE,20220813CCHSIOAMB
EXPOCODE,SECT_ID,STNNBR,CASTNO,SAMPNO,BTLNBR,BTLNBR_FLAG_W,DATE,TIME,LATITUDE,LONGITUDE,DEPTH,CTDPRS,CTDTMP,CTDSAL,CTDSAL_FLAG_W,SALNTY,SALNTY_FLAG_W,CTDOXY,CTDOXY_FLAG_W,OXYGEN,OXYGEN_FLAG_W,SILCAT,SILCAT_FLAG_W,NITRAT,NITRAT_FLAG_W,NITRIT,NITRIT_FLAG_W,PHSPHT,PHSPHT_FLAG_W,CFC-11,CFC-11_FLAG_W,CFC-12,CFC-12_FLAG_W,CFC113,CFC113_FLAG_W,SF6,SF6_FLAG_W,TCARBN,TCARBN_FLAG_W,ALKALI,ALKALI_FLAG_W,PH_TOT,PH_TOT_FLAG_W,PH_TMP,TRITUM,TRITUM_FLAG_W,HELIUM,HELIUM_FLAG_W,DELHE3,DELHE3_FLAG_W,REFTMP,REFTMP_FLAG_W,DELC13,DELC13_FLAG_W,DELC14,DELC14_FLAG_W,C14ERR,NEON,NEON_FLAG_W,DELO18,DELO18_FLAG_W,POC,POC_FLAG_W,DOC,DOC_FLAG_W,TDN,TDN_FLAG_W,BTL_LAT,BTL_LON,TRITER,NEONER,SALTREF,SALTREF_FLAG_W,PIGMENTS,PIGMENTS_FLAG_W,LAB_DEN,LAB_DEN_FLAG_W,CDOM325,CDOM325_FLAG_W,CDOM340,CDOM340_FLAG_W,CDOM380,CDOM380_FLAG_W,CDOM412,CDOM412_FLAG_W,CDOM443,CDOM443_FLAG_W,CDOM490,CDOM490_FLAG_W,CDOM555,CDOM555_FLAG_W,CDOMSL,CDOMSL_FLAG_W,CDOMSN,CDOMSN_FLAG_W,HELIER,DELHER,THETA,LDEO_SAMPNO,ABSORBTION,ABSORBTION_FLAG_W,IMAGE_COUNT,IMAGE_COUNT_FLAG_W,CYTO_COUNT,CYTO_COUNT_FLAG_W,DELD,DELD_FLAG_W,DELDERR,BTL_DATE,BTL_TIME
,,,,,,,,,,,METERS,DBAR,ITS-90,PSS-78,,PSS-78,,UMOL/KG,,UMOL/KG,,UMOL/KG,,UMOL/KG,,UMOL/KG,,UMOL/KG,,PMOL/KG,,PMOL/KG,,PMOL/KG,,FMOL/KG,,UMOL/KG,,UMOL/KG,,,,DEG C,TU,,NMOL/KG,,PERCNT,,DEG C,,/MILLE,,/MILLE,,/MILLE,NMOL/KG,,/MILLE,,UG/KG,,UMOL/KG,,UMOL/KG,,,,TU,NMOL/KG,G/KG,,,,,,1/M,,1/M,,1/M,,1/M,,1/M,,1/M,,1/M,,1/NM,,1/NM,,NMOL/KG,PERCNT,DEG C,,,,,,,,/MILLE,,/MILLE,,
320620110219,       S04P,     120,          1,         36,         36,2,20110413,       1103,   -67.0001,   -99.4874,       4690,     2.6,  -0.6754,  33.4617,2,  33.4607,2,    344.1,3,   349.8,2,   17.98,2,   23.95,2,    0.26,2,    1.64,2,   6.295,2,   3.453,2,   0.659,2,-999.0000,9,  2130.6,2,  2262.8,6,   7.7062,2,    25.00,-999.000,9,-999.0000,9,-999.000,9,  -0.6761,2, -999.00,9,  -999.0,9,  -999.0,-999.000,9, -999.00,9,-999.000,9,   44.79,2,   27.84,2, -67.0001, -99.4874,-999.000,     -999.0,    33.6185,2,     -999.0,9,     -999.0,9,-999.0000,9,-999.0000,9,-999.0000,9,-999.0000,9,-999.0000,9,-999.0000,9,-999.0000,9,-999.0000,9,-999.0000,9,-999.0000,-999.000,  -0.6755,     -999.0,     -999.0,9,     -999.0,9,     -999.0,9,     -999.0,9,     -999.0,20110413,       1254
320620110219,       S04P,     120,          1,         35,         35,2,20110413,       1103,   -67.0001,   -99.4874,       4690,    34.8,  -0.6611,  33.4620,2,  33.4619,2,    349.3,2,   349.3,2,   17.78,2,   23.97,2,    0.26,2,    1.64,2,   6.304,2,   3.373,2,   0.664,2,-999.0000,9,  2130.2,2,  2262.2,2,   7.7046,6,    25.00,-999.000,9,-999.0000,9,-999.000,9,  -0.6598,2, -999.00,9,  -999.0,9,  -999.0,-999.000,9, -999.00,9,-999.000,9,   44.07,2,   28.39,2, -67.0001, -99.4874,-999.000,     -999.0,    33.6197,2,     -999.0,9,     -999.0,9,-999.0000,9,-999.0000,9,-999.0000,9,-999.0000,9,-999.0000,9,-999.0000,9,-999.0000,9,-999.0000,9,-999.0000,9,-999.0000,-999.000,  -0.6621,     -999.0,     -999.0,9,     -999.0,9,     -999.0,9,     -999.0,9,     -999.0,20110413,       1253
320620110219,       S04P,     120,          1,         34,         34,2,20110413,       1103,   -67.0001,   -99.4874,       4690,    59.5,  -1.4591,  33.8156,2,  33.8148,2,    341.5,2,   340.7,2,   35.55,2,   27.82,2,    0.19,2,    2.07,2,   6.181,2,   3.379,2,   0.647,2,-999.0000,9,  2165.2,6,  2289.4,2,   7.6608,2,    25.00,-999.000,9,-999.0000,9,-999.000,9,  -1.4588,2, -999.00,9,  -999.0,9,  -999.0,-999.000,9, -999.00,9,-999.000,9,   43.79,2,   31.90,2, -67.0001, -99.4874,-999.000,     -999.0,    33.9743,2,     -999.0,9,     -999.0,9,-999.0000,9,-999.0000,9,-999.0000,9,-999.0000,9,-999.0000,9,-999.0000,9,-999.0000,9,-999.0000,9,-999.0000,9,-999.0000,-999.000,  -1.4604,     -999.0,     -999.0,9,     -999.0,9,     -999.0,9,     -999.0,9,     -999.0,20110413,       1251
320620110219,       S04P,     120,          1,         33,         33,2,20110413,       1103,   -67.0001,   -99.4874,       4690,    85.0,  -1.3157,  33.9153,2,  33.9212,2,    330.2,2,   329.7,2,   38.89,2,   29.05,2,    0.22,2,    2.07,2,   5.896,2,   3.243,2,   0.618,2,-999.0000,9,  2176.0,2,  2292.1,2,   7.6454,2,    25.00,-999.000,9,-999.0000,9,-999.000,9,  -1.3153,2, -999.00,9,  -999.0,9,  -999.0,-999.000,9, -999.00,9,-999.000,9,   42.94,2,   33.18,2, -67.0000, -99.4874,-999.000,     -999.0,    34.0811,2,     -999.0,9,     -999.0,9,-999.0000,9,-999.0000,9,-999.0000,9,-999.0000,9,-999.0000,9,-999.0000,9,-999.0000,9,-999.0000,9,-999.0000,9,-999.0000,-999.000,  -1.3177,     -999.0,     -999.0,9,     -999.0,9,     -999.0,9,     -999.0,9,     -999.0,20110413,       1250
320620110219,       S04P,     120,          1,         32,         32,2,20110413,       1103,   -67.0001,   -99.4874,       4690,   114.6,  -0.8145,  34.0144,2,  34.0098,2,    314.5,2,   320.8,2,   42.89,2,   30.20,2,    0.06,2,    2.11,2,   5.671,6,   3.131,6,   0.597,6,-999.0000,9,  2185.0,2,  2293.9,2,   7.6346,2,    25.00,-999.000,9,-999.0000,9,-999.000,9,  -0.8141,2, -999.00,9,  -999.0,9,  -999.0,-999.000,9, -999.00,9,-999.000,9,   42.42,2,   34.06,2, -67.0001, -99.4874,-999.000,     -999.0,    34.1701,2,     -999.0,9,     -999.0,9,-999.0000,9,-999.0000,9,-999.0000,9,-999.0000,9,-999.0000,9,-999.0000,9,-999.0000,9,-999.0000,9,-999.0000,9,-999.0000,-999.000,  -0.8177,     -999.0,     -999.0,9,     -999.0,9,     -999.0,9,     -999.0,9,     -999.0,20110413,       1248
320620110219,       S04P,     120,          1,         31,         31,2,20110413,       1103,   -67.0001,   -99.4874,       4690,   164.5,  -0.0141,  34.1158,2,  34.1172,2,    312.5,2,   311.6,2,   47.76,2,   30.93,2,    0.02,2,    2.16,2,   5.281,2,   2.936,2,   0.547,2,-999.0000,9,  2194.4,2,  2303.1,2,   7.6256,2,    25.00,-999.000,9,-999.0000,9,-999.000,9,  -0.0188,2, -999.00,9,  -999.0,9,  -999.0,-999.000,9, -999.00,9,-999.000,9,   41.07,2,   34.49,2, -67.0001, -99.4873,-999.000,     -999.0,    34.2781,2,     -999.0,9,     -999.0,9,-999.0000,9,-999.0000,9,-999.0000,9,-999.0000,9,-999.0000,9,-999.0000,9,-999.0000,9,-999.0000,9,-999.0000,9,-999.0000,-999.000,  -0.0199,     -999.0,     -999.0,9,     -999.0,9,     -999.0,9,     -999.0,9,     -999.0,20110413,       1247
320620110219,       S04P,     120,          1,         30,         30,2,20110413,       1103,   -67.0001,   -99.4874,       4690,   214.5,   0.8249,  34.2458,2,  34.2447,2,    276.4,2,   263.0,2,   54.43,2,   32.46,2,    0.02,2,    2.25,2,   3.888,2,   2.172,2,   0.394,2,-999.0000,9,  2214.5,2,  2309.3,2,   7.5904,2,    25.00,-999.000,9,-999.0000,9,-999.000,9,   0.8306,2, -999.00,9,  -999.0,9,  -999.0,-999.000,9, -999.00,9,-999.000,9,   41.00,2,   35.85,2, -67.0000, -99.4874,-999.000,     -999.0,    34.4061,2,     -999.0,9,     -999.0,9,-999.0000,9,-999.0000,9,-999.0000,9,-999.0000,9,-999.0000,9,-999.0000,9,-999.0000,9,-999.0000,9,-999.0000,9,-999.0000,-999.000,   0.8156,     -999.0,     -999.0,9,     -999.0,9,     -999.0,9,     -999.0,9,     -999.0,20110413,       1245
320620110219,       S04P,     120,          1,         29,         29,2,20110413,       1103,   -67.0001,   -99.4874,       4690,   265.5,   1.6023,  34.3908,2,  34.3894,2,    217.3,2,   211.6,2,   62.64,2,   33.91,2,    0.00,2,    2.36,2,   2.366,2,   1.303,2,   0.231,2,-999.0000,9,  2235.7,2,  2319.0,2,   7.5539,2,    25.00,-999.000,9,-999.0000,9,-999.000,9,   1.6043,2, -999.00,9,  -999.0,9,  -999.0,-999.000,9, -999.00,9,-999.000,9,   40.98,2,   37.08,2, -67.0000, -99.4874,-999.000,     -999.0,    34.5516,2,     -999.0,9,     -999.0,9,-999.0000,9,-999.0000,9,-999.0000,9,-999.0000,9,-999.0000,9,-999.0000,9,-999.0000,9,-999.0000,9,-999.0000,9,-999.0000,-999.000,   1.5889,     -999.0,     -999.0,9,     -999.0,9,     -999.0,9,     -999.0,9,     -999.0,20110413,       1243
320620110219,       S04P,     120,          1,         28,         28,2,20110413,       1103,   -67.0001,   -99.4874,       4690,   315.0,   1.8473,  34.4691,2,  34.4755,2,    188.0,2,   187.5,2,   68.89,2,   34.57,2,    0.00,2,    2.41,2,   1.631,2,   0.874,2,   0.149,2,-999.0000,9,  2247.7,2,  2327.9,2,   7.5384,2,    25.00,-999.000,9,-999.0000,9,-999.000,9,   1.8479,2, -999.00,9,  -999.0,9,  -999.0,-999.000,9, -999.00,9,-999.000,9,   40.98,2,   37.40,2, -67.0001, -99.4874,-999.000,     -999.0,    34.6380,2,     -999.0,9,     -999.0,9,-999.0000,9,-999.0000,9,-999.0000,9,-999.0000,9,-999.0000,9,-999.0000,9,-999.0000,9,-999.0000,9,-999.0000,9,-999.0000,-999.000,   1.8306,     -999.0,     -999.0,9,     -999.0,9,     -999.0,9,     -999.0,9,     -999.0,20110413,       1242
320620110219,       S04P,     120,          1,         27,         27,2,20110413,       1103,   -67.0001,   -99.4874,       4690,   364.2,   1.9922,  34.5268,2,  34.5269,2,    179.0,2,   180.3,2,   71.81,2,   34.49,2,    0.00,2,    2.40,2,   1.273,2,   0.672,2,   0.112,2,-999.0000,9,  2251.9,2,  2337.1,4,   7.5395,2,    25.00,-999.000,9,-999.0000,9,-999.000,9,   1.9921,2, -999.00,9,  -999.0,9,  -999.0,-999.000,9, -999.00,9,-999.000,9,   41.03,2,   37.18,2, -67.0001, -99.4873,-999.000,     -999.0,    34.6897,2,     -999.0,9,     -999.0,9,-999.0000,9,-999.0000,9,-999.0000,9,-999.0000,9,-999.0000,9,-999.0000,9,-999.0000,9,-999.0000,9,-999.0000,9,-999.0000,-999.000,   1.9723,     -999.0,     -999.0,9,     -999.0,9,     -999.0,9,     -999.0,9,     -999.0,20110413,       1240
320620110219,       S04P,     120,          1,         26,         26,2,20110413,       1103,   -67.0001,   -99.4874,       4690,   434.8,   2.0783,  34.5774,2,  34.5778,2,    175.8,2,   175.3,2,   74.37,2,   34.22,2,    0.00,2,    2.38,2,   0.942,2,   0.482,2,   0.075,2,-999.0000,9,  2253.0,2,  2334.2,2,   7.5441,2,    25.00,-999.000,9,-999.0000,9,-999.000,9,   2.0777,2, -999.00,9,  -999.0,9,  -999.0,-999.000,9, -999.00,9,-999.000,9,   40.88,2,   36.94,2, -67.0001, -99.4874,-999.000,     -999.0,    34.7409,2,     -999.0,9,     -999.0,9,-999.0000,9,-999.0000,9,-999.0000,9,-999.0000,9,-999.0000,9,-999.0000,9,-999.0000,9,-999.0000,9,-999.0000,9,-999.0000,-999.000,   2.0539,     -999.0,     -999.0,9,     -999.0,9,     -999.0,9,     -999.0,9,     -999.0,20110413,       1238
320620110219,       S04P,     120,          1,         25,         25,2,20110413,       1103,   -67.0001,   -99.4874,       4690,   535.0,   2.1291,  34.6301,2,  34.6308,2,    173.7,2,   174.2,2,   77.08,2,   33.55,2,    0.00,2,    2.32,2,   0.622,2,   0.308,2,   0.040,2,-999.0000,9,  -999.0,9,  -999.0,9,-999.0000,9,  -999.00,-999.000,9,-999.0000,9,-999.000,9,   2.1290,2, -999.00,9,  -999.0,9,  -999.0,-999.000,9, -999.00,9,-999.000,9,   40.72,2,   36.09,2, -67.0001, -99.4874,-999.000,     -999.0,    34.7941,2,     -999.0,9,     -999.0,9,-999.0000,9,-999.0000,9,-999.0000,9,-999.0000,9,-999.0000,9,-999.0000,9,-999.0000,9,-999.0000,9,-999.0000,9,-999.0000,-999.000,   2.0984,     -999.0,     -999.0,9,     -999.0,9,     -999.0,9,     -999.0,9,     -999.0,20110413,       1235
320620110219,       S04P,     120,          1,         24,         24,2,20110413,       1103,   -67.0001,   -99.4874,       4690,   634.3,   2.1075,  34.6590,2,  34.6601,2,    174.8,2,   174.7,2,   78.43,2,   33.00,2,    0.00,2,    2.29,2,-999.000,9,-999.000,9,-999.000,9,-999.0000,9,  2253.9,2,  2387.6,4,   7.5632,2,    25.00,-999.000,9,-999.0000,9,-999.000,9,   2.1079,2, -999.00,9,  -999.0,9,  -999.0,-999.000,9, -999.00,9,-999.000,9,   40.12,2,   35.63,2, -67.0001, -99.4874,-999.000,     -999.0,    34.8235,2,     -999.0,9,     -999.0,9,-999.0000,9,-999.0000,9,-999.0000,9,-999.0000,9,-999.0000,9,-999.0000,9,-999.0000,9,-999.0000,9,-999.0000,9,-999.0000,-999.000,   2.0706,     -999.0,     -999.0,9,     -999.0,9,     -999.0,9,     -999.0,9,     -999.0,20110413,       1233
320620110219,       S04P,     120,          1,         23,         23,2,20110413,       1103,   -67.0001,   -99.4874,       4690,   735.2,   2.0618,  34.6829,2,  34.6848,2,    177.0,2,   177.5,2,   80.56,2,   32.51,2,    0.00,2,    2.25,2,   0.396,2,   0.192,2,   0.024,2,-999.0000,9,  -999.0,9,  -999.0,9,-999.0000,9,  -999.00,-999.000,9,-999.0000,9,-999.000,9,   2.0612,2, -999.00,9,  -999.0,9,  -999.0,-999.000,9, -999.00,9,-999.000,9,   39.92,2,   34.78,2, -67.0001, -99.4873,-999.000,     -999.0,    34.8484,2,     -999.0,9,     -999.0,9,-999.0000,9,-999.0000,9,-999.0000,9,-999.0000,9,-999.0000,9,-999.0000,9,-999.0000,9,-999.0000,9,-999.0000,9,-999.0000,-999.000,   2.0187,     -999.0,     -999.0,9,     -999.0,9,     -999.0,9,     -999.0,9,     -999.0,20110413,       1230
320620110219,       S04P,     120,          1,         22,         22,2,20110413,       1103,   -67.0001,   -99.4874,       4690,   834.9,   2.0101,  34.7015,2,  34.7023,2,    180.4,2,   180.2,2,   82.30,2,   32.14,2,    0.00,2,    2.23,2,-999.000,9,-999.000,9,-999.000,9,-999.0000,9,  2251.8,2,  2352.2,2,   7.5790,2,    25.00,-999.000,9,-999.0000,9,-999.000,9,   2.0097,2, -999.00,9,  -999.0,9,  -999.0,-999.000,9, -999.00,9,-999.000,9,   40.26,2,   34.30,2, -67.0001, -99.4874,-999.000,     -999.0,    34.8659,2,     -999.0,9,     -999.0,9,-999.0000,9,-999.0000,9,-999.0000,9,-999.0000,9,-999.0000,9,-999.0000,9,-999.0000,9,-999.0000,9,-999.0000,9,-999.0000,-999.000,   1.9608,     -999.0,     -999.0,9,     -999.0,9,     -999.0,9,     -999.0,9,     -999.0,20110413,       1228
320620110219,       S04P,     120,          1,         21,         21,2,20110413,       1103,   -67.0001,   -99.4874,       4690,   935.2,   1.9532,  34.7138,2,  34.7142,2,    183.0,2,   183.5,2,   84.61,2,   31.75,2,    0.00,2,    2.21,2,   0.283,2,   0.131,2,   0.016,2,-999.0000,9,  -999.0,9,  -999.0,9,-999.0000,9,  -999.00,-999.000,9,-999.0000,9,-999.000,9,   1.9527,2, -999.00,9,  -999.0,9,  -999.0,-999.000,9, -999.00,9,-999.000,9,   40.13,2,   34.11,2, -67.0001, -99.4874,-999.000,     -999.0,    34.8779,2,     -999.0,9,     -999.0,9,-999.0000,9,-999.0000,9,-999.0000,9,-999.0000,9,-999.0000,9,-999.0000,9,-999.0000,9,-999.0000,9,-999.0000,9,-999.0000,-999.000,   1.8976,     -999.0,     -999.0,9,     -999.0,9,     -999.0,9,     -999.0,9,     -999.0,20110413,       1225
320620110219,       S04P,     120,          1,         20,         20,2,20110413,       1103,   -67.0001,   -99.4874,       4690,  1035.1,   1.8896,  34.7217,2,  34.7221,2,    185.8,2,   186.1,2,   85.34,2,   31.50,2,    0.00,2,    2.19,2,-999.000,9,-999.000,9,-999.000,9,-999.0000,9,  2251.0,2,  2353.3,2,   7.5915,2,    25.00,-999.000,9,-999.0000,9,-999.000,9,   1.8895,2, -999.00,9,  -999.0,9,  -999.0,-999.000,9, -999.00,9,-999.000,9,   39.57,2,   34.16,2, -67.0001, -99.4873,-999.000,     -999.0,    34.8858,2,     -999.0,9,     -999.0,9,-999.0000,9,-999.0000,9,-999.0000,9,-999.0000,9,-999.0000,9,-999.0000,9,-999.0000,9,-999.0000,9,-999.0000,9,-999.0000,-999.000,   1.8277,     -999.0,     -999.0,9,     -999.0,9,     -999.0,9,     -999.0,9,     -999.0,20110413,       1223
320620110219,       S04P,     120,          1,         19,         19,2,20110413,       1103,   -67.0001,   -99.4874,       4690,  1134.4,   1.8101,  34.7274,2,  34.7270,2,    188.0,2,   187.5,2,   87.98,2,   31.45,2,    0.00,2,    2.18,2,   0.229,2,   0.104,2,   0.010,2,-999.0000,9,  -999.0,9,  -999.0,9,-999.0000,9,  -999.00,-999.000,9,-999.0000,9,-999.000,9,   1.8099,2, -999.00,9,  -999.0,9,  -999.0,-999.000,9, -999.00,9,-999.000,9,   39.92,2,   34.02,2, -67.0000, -99.4873,-999.000,     -999.0,    34.8908,2,     -999.0,9,     -999.0,9,-999.0000,9,-999.0000,9,-999.0000,9,-999.0000,9,-999.0000,9,-999.0000,9,-999.0000,9,-999.0000,9,-999.0000,9,-999.0000,-999.000,   1.7420,     -999.0,     -999.0,9,     -999.0,9,     -999.0,9,     -999.0,9,     -999.0,20110413,       1220
320620110219,       S04P,     120,          1,         18,         18,2,20110413,       1103,   -67.0001,   -99.4874,       4690,  1235.1,   1.7386,  34.7304,2,  34.7306,2,    189.7,2,   190.1,2,   90.08,2,   31.45,2,    0.00,2,    2.18,2,-999.000,9,-999.000,9,-999.000,9,-999.0000,9,  2250.4,2,  2354.9,6,   7.5982,2,    25.00,-999.000,9,-999.0000,9,-999.000,9,   1.7386,2, -999.00,9,  -999.0,9,  -999.0,-999.000,9, -999.00,9,-999.000,9,   39.45,2,   33.59,2, -67.0001, -99.4873,-999.000,     -999.0,    34.8943,2,     -999.0,9,     -999.0,9,-999.0000,9,-999.0000,9,-999.0000,9,-999.0000,9,-999.0000,9,-999.0000,9,-999.0000,9,-999.0000,9,-999.0000,9,-999.0000,-999.000,   1.6642,     -999.0,     -999.0,9,     -999.0,9,     -999.0,9,     -999.0,9,     -999.0,20110413,       1218
320620110219,       S04P,     120,          1,         17,         17,2,20110413,       1103,   -67.0001,   -99.4874,       4690,  1334.3,   1.6576,  34.7318,2,  34.7320,2,    191.4,2,   191.7,2,   91.58,2,   31.40,2,    0.00,2,    2.17,2,   0.198,2,   0.090,2,   0.011,2,-999.0000,9,  -999.0,9,  -999.0,9,-999.0000,9,  -999.00,-999.000,9,-999.0000,9,-999.000,9,   1.6586,2, -999.00,9,  -999.0,9,  -999.0,-999.000,9, -999.00,9,-999.000,9,   39.62,2,   33.80,2, -67.0001, -99.4874,-999.000,     -999.0,    34.8957,2,     -999.0,9,     -999.0,9,-999.0000,9,-999.0000,9,-999.0000,9,-999.0000,9,-999.0000,9,-999.0000,9,-999.0000,9,-999.0000,9,-999.0000,9,-999.0000,-999.000,   1.5769,     -999.0,     -999.0,9,     -999.0,9,     -999.0,9,     -999.0,9,     -999.0,20110413,       1215
320620110219,       S04P,     120,          1,         16,         16,2,20110413,       1103,   -67.0001,   -99.4874,       4690,  1434.3,   1.5784,  34.7319,2,  34.7322,2,    192.6,2,   192.2,2,   94.97,2,   31.44,2,    0.00,2,    2.18,2,-999.000,9,-999.000,9,-999.000,9,-999.0000,9,  2254.0,2,  2362.9,4,   7.6003,6,    25.00,-999.000,9,-999.0000,9,-999.000,9,   1.5782,2, -999.00,9,  -999.0,9,  -999.0,-999.000,9, -999.00,9,-999.000,9,   39.59,2,   33.65,2, -67.0000, -99.4874,-999.000,     -999.0,    34.8959,2,     -999.0,9,     -999.0,9,-999.0000,9,-999.0000,9,-999.0000,9,-999.0000,9,-999.0000,9,-999.0000,9,-999.0000,9,-999.0000,9,-999.0000,9,-999.0000,-999.000,   1.4914,     -999.0,     -999.0,9,     -999.0,9,     -999.0,9,     -999.0,9,     -999.0,20110413,       1212
320620110219,       S04P,     120,          1,         15,         15,2,20110413,       1103,   -67.0001,   -99.4874,       4690,  1534.2,   1.5065,  34.7313,2,  34.7312,2,    193.5,2,   194.0,2,   97.80,2,   31.44,2,    0.00,2,    2.18,2,   0.168,2,   0.075,2,   0.009,2,-999.0000,9,  -999.0,9,  -999.0,9,-999.0000,9,  -999.00,-999.000,9,-999.0000,9,-999.000,9,   1.5063,2, -999.00,9,  -999.0,9,  -999.0,-999.000,9, -999.00,9,-999.000,9,   39.34,2,   34.19,2, -67.0001, -99.4874,-999.000,     -999.0,    34.8950,2,     -999.0,9,     -999.0,9,-999.0000,9,-999.0000,9,-999.0000,9,-999.0000,9,-999.0000,9,-999.0000,9,-999.0000,9,-999.0000,9,-999.0000,9,-999.0000,-999.000,   1.4131,     -999.0,     -999.0,9,     -999.0,9,     -999.0,9,     -999.0,9,     -999.0,20110413,       1210
320620110219,       S04P,     120,          1,         14,         14,2,20110413,       1103,   -67.0001,   -99.4874,       4690,  1664.8,   1.4217,  34.7303,2,  34.7302,2,    194.8,2,   194.7,2,  101.64,2,   31.50,2,    0.00,2,    2.18,2,-999.000,9,-999.000,9,-999.000,9,-999.0000,9,  2255.5,6,  2358.9,2,   7.6015,2,    25.00,-999.000,9,-999.0000,9,-999.000,9,   1.4218,2, -999.00,9,  -999.0,9,  -999.0,-999.000,9, -999.00,9,-999.000,9,   39.31,2,   33.68,2, -67.0001, -99.4874,-999.000,     -999.0,    34.8940,2,     -999.0,9,     -999.0,9,-999.0000,9,-999.0000,9,-999.0000,9,-999.0000,9,-999.0000,9,-999.0000,9,-999.0000,9,-999.0000,9,-999.0000,9,-999.0000,-999.000,   1.3197,     -999.0,     -999.0,9,     -999.0,9,     -999.0,9,     -999.0,9,     -999.0,20110413,       1207