BOTTLE,20220813CCHSIOAMB
EXPOCODE,SECT_ID,STNNBR,CASTNO,SAMPNO,BTLNBR,BTLNBR_FLAG_W,DATE,TIME,LATITUDE,LONGITUDE,DEPTH,CTDPRS,CTDTMP,CTDSAL,CTDSAL_FLAG_W,SALNTY,SALNTY_FLAG_W,CTDOXY,CTDOXY_FLAG_W,OXYGEN,OXYGEN_FLAG_W,SILCAT,SILCAT_FLAG_W,NITRAT,NITRAT_FLAG_W,NITRIT,NITRIT_FLAG_W,PHSPHT,PHSPHT_FLAG_W,CFC-11,CFC-11_FLAG_W,CFC-12,CFC-12_FLAG_W,CFC113,CFC113_FLAG_W,SF6,SF6_FLAG_W,TCARBN,TCARBN_FLAG_W,ALKALI,ALKALI_FLAG_W,PH_TOT,PH_TOT_FLAG_W,PH_TMP,TRITUM,TRITUM_FLAG_W,HELIUM,HELIUM_FLAG_W,DELHE3,DELHE3_FLAG_W,REFTMP,REFTMP_FLAG_W,DELC13,DELC13_FLAG_W,DELC14,DELC14_FLAG_W,C14ERR,NEON,NEON_FLAG_W,DELO18,DELO18_FLAG_W,POC,POC_FLAG_W,DOC,DOC_FLAG_W,TDN,TDN_FLAG_W,BTL_LAT,BTL_LON,TRITER,NEONER,SALTREF,SALTREF_FLAG_W,PIGMENTS,PIGMENTS_FLAG_W,LAB_DEN,LAB_DEN_FLAG_W,CDOM325,CDOM325_FLAG_W,CDOM340,CDOM340_FLAG_W,CDOM380,CDOM380_FLAG_W,CDOM412,CDOM412_FLAG_W,CDOM443,CDOM443_FLAG_W,CDOM490,CDOM490_FLAG_W,CDOM555,CDOM555_FLAG_W,CDOMSL,CDOMSL_FLAG_W,CDOMSN,CDOMSN_FLAG_W,HELIER,DELHER,THETA,LDEO_SAMPNO,ABSORBTION,ABSORBTION_FLAG_W,IMAGE_COUNT,IMAGE_COUNT_FLAG_W,CYTO_COUNT,CYTO_COUNT_FLAG_W,DELD,DELD_FLAG_W,DELDERR,BTL_DATE,BTL_TIME
,,,,,,,,,,,METERS,DBAR,ITS-90,PSS-78,,PSS-78,,UMOL/KG,,UMOL/KG,,UMOL/KG,,UMOL/KG,,UMOL/KG,,UMOL/KG,,PMOL/KG,,PMOL/KG,,PMOL/KG,,FMOL/KG,,UMOL/KG,,UMOL/KG,,,,DEG C,TU,,NMOL/KG,,PERCNT,,DEG C,,/MILLE,,/MILLE,,/MILLE,NMOL/KG,,/MILLE,,UG/KG,,UMOL/KG,,UMOL/KG,,,,TU,NMOL/KG,G/KG,,,,,,1/M,,1/M,,1/M,,1/M,,1/M,,1/M,,1/M,,1/NM,,1/NM,,NMOL/KG,PERCNT,DEG C,,,,,,,,/MILLE,,/MILLE,,
320620110219,       S04P,     107,          1,         36,         36,2,20110405,       0251,   -67.0002,  -130.1857,       4439,     2.8,  -0.8730,  33.6009,2,  33.6007,2,    345.6,3,   346.4,2,   23.37,2,   23.66,2,    0.25,2,    1.57,2,   6.300,2,   3.375,2,   0.610,2,   2.7990,2,  2143.4,3,  2274.5,2,   7.7066,2,    25.00,   0.112,2,   1.9242,2,   -1.51,2,  -0.8726,2, -999.00,9,  -999.0,9,  -999.0,   8.546,2,   -0.34,3,-999.000,9,   44.78,2,   27.77,2, -67.0001,-130.1857,   0.012,      0.044,    33.7591,2,     -999.0,9,     -999.0,9,-999.0000,9,-999.0000,9,-999.0000,9,-999.0000,9,-999.0000,9,-999.0000,9,-999.0000,9,-999.0000,9,-999.0000,9,   0.0092,    0.14,  -0.8731,     -999.0,     -999.0,9,     -999.0,9,     -999.0,9,      -4.20,3,       0.06,20110405,       0438
320620110219,       S04P,     107,          1,         35,         35,2,20110405,       0251,   -67.0002,  -130.1857,       4439,    35.0,  -0.8692,  33.6007,2,  33.6011,2,    346.0,2,   346.3,2,   23.39,2,   23.73,2,    0.25,2,    1.58,2,   6.301,2,   3.369,2,   0.612,2,   2.7790,2,  2145.4,3,  2275.1,2,   7.7058,6,    25.00,   0.102,2,   1.9062,2,   -1.52,2,  -0.8699,2, -999.00,9,  -999.0,9,  -999.0,   8.509,2,   -0.38,2,-999.000,9,   44.69,2,   28.08,2, -67.0001,-130.1857,   0.013,      0.043,    33.7595,2,     -999.0,9,     -999.0,9,-999.0000,9,-999.0000,9,-999.0000,9,-999.0000,9,-999.0000,9,-999.0000,9,-999.0000,9,-999.0000,9,-999.0000,9,   0.0091,    0.14,  -0.8701,     -999.0,     -999.0,9,     -999.0,9,     -999.0,9,      -4.00,2,       0.02,20110405,       0436
320620110219,       S04P,     107,          1,         34,         34,2,20110405,       0251,   -67.0002,  -130.1857,       4439,    59.5,  -1.3404,  33.8344,2,  33.8285,2,    326.8,2,   321.3,2,   37.29,2,   27.03,2,    0.22,2,    1.90,2,   5.725,2,   3.045,2,   0.548,2,   2.3890,2,  2175.8,3,  2287.2,6,   7.6556,2,    25.00,   0.096,2,   1.8814,2,   -0.55,2,  -1.3128,2, -999.00,9,  -999.0,9,  -999.0,   8.401,2,   -0.40,2,-999.000,9,   43.90,2,   30.75,2, -67.0002,-130.1858,   0.013,      0.043,    33.9880,2,     -999.0,9,     -999.0,9,-999.0000,9,-999.0000,9,-999.0000,9,-999.0000,9,-999.0000,9,-999.0000,9,-999.0000,9,-999.0000,9,-999.0000,9,   0.0090,    0.14,  -1.3417,     -999.0,     -999.0,9,     -999.0,9,     -999.0,9,      -3.68,2,       0.11,20110405,       0435
320620110219,       S04P,     107,          1,         33,         33,2,20110405,       0251,   -67.0002,  -130.1857,       4439,    84.5,  -1.4425,  34.0036,2,  34.0089,2,    311.6,2,   298.2,2,   47.53,2,   30.08,2,    0.24,2,    2.10,2,   4.994,2,   2.749,2,   0.428,2,   2.1130,2,  2197.2,3,  2295.5,2,   7.6139,2,    25.00,   0.088,2,   1.9402,2,    0.54,2,  -1.4468,2, -999.00,9,  -999.0,9,  -999.0,   8.590,2,   -0.35,2,-999.000,9,   42.52,2,   33.18,2, -67.0001,-130.1857,   0.013,      0.044,    34.1693,2,     -999.0,9,     -999.0,9,-999.0000,9,-999.0000,9,-999.0000,9,-999.0000,9,-999.0000,9,-999.0000,9,-999.0000,9,-999.0000,9,-999.0000,9,   0.0093,    0.14,  -1.4444,     -999.0,     -999.0,9,     -999.0,9,     -999.0,9,      -3.52,2,       0.12,20110405,       0433
320620110219,       S04P,     107,          1,         32,         32,2,20110405,       0251,   -67.0002,  -130.1857,       4439,   114.4,  -0.2225,  34.1856,2,  34.1845,2,    265.4,2,   258.9,2,   56.64,2,   32.17,2,    0.07,2,    2.21,2,   3.973,2,   2.106,2,   0.370,2,   1.6680,2,  2218.5,3,  2306.9,2,   7.5828,2,    25.00,   0.064,2,   1.8913,2,    2.66,2,  -0.2165,2, -999.00,9,  -999.0,9,  -999.0,   8.356,2, -999.00,9,-999.000,9,   41.64,2,   35.08,2, -67.0002,-130.1857,   0.012,      0.043,    34.3457,2,     -999.0,9,     -999.0,9,-999.0000,9,-999.0000,9,-999.0000,9,-999.0000,9,-999.0000,9,-999.0000,9,-999.0000,9,-999.0000,9,-999.0000,9,   0.0091,    0.14,  -0.2263,     -999.0,     -999.0,9,     -999.0,9,     -999.0,9,     -999.0,9,     -999.0,20110405,       0432
320620110219,       S04P,     107,          1,         31,         31,2,20110405,       0251,   -67.0002,  -130.1857,       4439,   164.5,   1.4812,  34.4738,2,  34.4774,2,    197.6,2,   194.3,2,   73.25,2,   34.48,2,    0.00,2,    2.35,2,   1.731,2,   0.894,2,   0.149,2,   0.7020,2,  2250.4,3,  2326.0,2,   7.5427,2,    25.00,   0.031,2,   1.8934,2,    6.55,2,   1.4877,2, -999.00,9,  -999.0,9,  -999.0,   8.191,2, -999.00,9,-999.000,9,   41.82,2,   37.06,2, -67.0002,-130.1858,   0.012,      0.042,    34.6399,2,     -999.0,9,     -999.0,9,-999.0000,9,-999.0000,9,-999.0000,9,-999.0000,9,-999.0000,9,-999.0000,9,-999.0000,9,-999.0000,9,-999.0000,9,   0.0091,    0.14,   1.4732,     -999.0,     -999.0,9,     -999.0,9,     -999.0,9,     -999.0,9,     -999.0,20110405,       0430
320620110219,       S04P,     107,          1,         30,         30,2,20110405,       0251,   -67.0002,  -130.1857,       4439,   215.7,   1.8956,  34.5707,2,  34.5705,2,    177.3,2,   177.3,2,   77.56,2,   34.53,2,    0.00,2,    2.35,2,   1.019,2,   0.512,2,   0.080,2,   0.3780,2,  2256.5,3,  2333.5,2,   7.5405,2,    25.00,   0.007,2,   1.9051,2,    7.51,2,   1.8936,2, -999.00,9,  -999.0,9,  -999.0,   8.270,2,   -0.05,2,-999.000,9,   41.47,2,   36.99,2, -67.0001,-130.1857,   0.013,      0.042,    34.7335,2,     -999.0,9,     -999.0,9,-999.0000,9,-999.0000,9,-999.0000,9,-999.0000,9,-999.0000,9,-999.0000,9,-999.0000,9,-999.0000,9,-999.0000,9,   0.0091,    0.14,   1.8842,     -999.0,     -999.0,9,     -999.0,9,     -999.0,9,      -1.39,2,       0.11,20110405,       0429
320620110219,       S04P,     107,          1,         29,         29,2,20110405,       0251,   -67.0002,  -130.1857,       4439,   264.9,   1.9826,  34.6141,2,  34.6121,2,    173.8,2,   173.8,2,   79.64,2,   34.21,2,    0.00,2,    2.33,2,   0.753,2,   0.370,2,   0.057,2,   0.2700,2,  2258.6,3,  2336.5,2,   7.5449,2,    25.00,  -0.017,2,   1.9466,2,    8.05,2,   1.9834,2, -999.00,9,  -999.0,9,  -999.0,   8.402,2, -999.00,9,-999.000,9,   41.35,2,   36.66,2, -67.0001,-130.1857,   0.012,      0.043,    34.7753,2,     -999.0,9,     -999.0,9,-999.0000,9,-999.0000,9,-999.0000,9,-999.0000,9,-999.0000,9,-999.0000,9,-999.0000,9,-999.0000,9,-999.0000,9,   0.0093,    0.14,   1.9683,     -999.0,     -999.0,9,     -999.0,9,     -999.0,9,     -999.0,9,     -999.0,20110405,       0427
320620110219,       S04P,     107,          1,         28,         28,2,20110405,       0251,   -67.0002,  -130.1857,       4439,   315.1,   2.0136,  34.6432,2,  34.6438,2,    173.9,2,   173.5,2,   81.12,2,   33.75,2,    0.00,2,    2.30,2,   0.585,2,   0.329,2,   0.047,2,   0.2180,2,  2257.3,3,  2339.6,2,   7.5511,2,    25.00,   0.005,2,   1.8917,2,    8.57,2,   2.0135,2, -999.00,9,  -999.0,9,  -999.0,   8.217,2,   -0.12,2,-999.000,9,   41.19,2,   36.34,2, -67.0001,-130.1857,   0.012,      0.042,    34.8072,2,     -999.0,9,     -999.0,9,-999.0000,9,-999.0000,9,-999.0000,9,-999.0000,9,-999.0000,9,-999.0000,9,-999.0000,9,-999.0000,9,-999.0000,9,   0.0091,    0.14,   1.9964,     -999.0,     -999.0,9,     -999.0,9,     -999.0,9,      -1.44,2,       0.11,20110405,       0425
320620110219,       S04P,     107,          1,         27,         27,2,20110405,       0251,   -67.0002,  -130.1857,       4439,   364.2,   2.0154,  34.6657,2,  34.6644,2,    174.8,2,   175.0,2,   82.17,2,   33.34,2,    0.00,2,    2.28,2,   0.496,2,   0.233,2,   0.038,2,   0.1720,2,  2256.3,3,  2342.0,2,   7.5588,2,    25.00,   0.018,2,   1.9452,2,    8.74,2,   2.0152,2, -999.00,9,  -999.0,9,  -999.0,   8.379,2, -999.00,9,-999.000,9,   41.01,2,   35.69,2, -67.0001,-130.1857,   0.013,      0.043,    34.8279,2,     -999.0,9,     -999.0,9,-999.0000,9,-999.0000,9,-999.0000,9,-999.0000,9,-999.0000,9,-999.0000,9,-999.0000,9,-999.0000,9,-999.0000,9,   0.0093,    0.14,   1.9953,     -999.0,     -999.0,9,     -999.0,9,     -999.0,9,     -999.0,9,     -999.0,20110405,       0424
320620110219,       S04P,     107,          1,         26,         26,2,20110405,       0251,   -67.0002,  -130.1857,       4439,   415.1,   1.9942,  34.6829,2,  34.6805,2,    176.2,2,   176.5,2,   84.69,2,   32.99,2,    0.00,2,    2.26,2,   0.418,2,   0.192,2,   0.031,2,   0.1650,2,  2256.8,3,  2344.2,2,   7.5660,2,    25.00,   0.008,2,   1.9327,2,    8.90,2,   1.9943,2, -999.00,9,  -999.0,9,  -999.0,   8.399,2,    0.05,2,-999.000,9,   40.71,2,   35.75,2, -67.0001,-130.1857,   0.013,      0.043,    34.8441,2,     -999.0,9,     -999.0,9,-999.0000,9,-999.0000,9,-999.0000,9,-999.0000,9,-999.0000,9,-999.0000,9,-999.0000,9,-999.0000,9,-999.0000,9,   0.0093,    0.14,   1.9712,     -999.0,     -999.0,9,     -999.0,9,     -999.0,9,      -1.22,2,       0.03,20110405,       0422
320620110219,       S04P,     107,          1,         25,         25,2,20110405,       0251,   -67.0002,  -130.1857,       4439,   464.9,   1.9638,  34.6938,2,  34.6921,2,    177.7,2,   177.6,2,   86.20,2,   32.77,2,    0.00,2,    2.24,2,   0.375,2,   0.174,2,   0.028,2,   0.1240,2,  2256.5,3,  2344.7,2,   7.5693,2,    25.00,  -0.021,2,   1.8854,2,    9.30,2,   1.9640,2, -999.00,9,  -999.0,9,  -999.0,   8.237,2, -999.00,9,-999.000,9,   40.64,2,   35.17,2, -67.0001,-130.1857,   0.012,      0.042,    34.8557,2,     -999.0,9,     -999.0,9,-999.0000,9,-999.0000,9,-999.0000,9,-999.0000,9,-999.0000,9,-999.0000,9,-999.0000,9,-999.0000,9,-999.0000,9,   0.0090,    0.14,   1.9379,     -999.0,     -999.0,9,     -999.0,9,     -999.0,9,     -999.0,9,     -999.0,20110405,       0420
320620110219,       S04P,     107,          1,         24,         24,2,20110405,       0251,   -67.0002,  -130.1857,       4439,   534.9,   1.9094,  34.7064,2,  34.7052,2,    179.8,2,   180.0,2,   87.90,2,   32.55,2,    0.00,2,    2.23,2,   0.333,2,   0.162,2,   0.024,2,   0.1340,2,  2254.5,3,  2346.5,2,   7.5763,2,    25.00,  -0.017,2,   1.9101,2,    8.99,2,   1.9096,2, -999.00,9,  -999.0,9,  -999.0,   8.292,2,   -0.01,2,-999.000,9,   40.73,2,   35.01,2, -67.0002,-130.1857,   0.012,      0.042,    34.8689,2,     -999.0,9,     -999.0,9,-999.0000,9,-999.0000,9,-999.0000,9,-999.0000,9,-999.0000,9,-999.0000,9,-999.0000,9,-999.0000,9,-999.0000,9,   0.0092,    0.14,   1.8795,     -999.0,     -999.0,9,     -999.0,9,     -999.0,9,      -1.16,2,       0.05,20110405,       0418
320620110219,       S04P,     107,          1,         23,         23,2,20110405,       0251,   -67.0002,  -130.1857,       4439,   634.4,   1.8413,  34.7180,2,  34.7174,2,    182.4,2,   182.5,2,   90.45,2,   32.28,2,    0.00,2,    2.21,2,-999.000,9,-999.000,9,-999.000,9,-999.0000,9,  2253.4,3,  2348.3,2,   7.5818,2,    25.00,-999.000,9,-999.0000,9,-999.000,9,   1.8420,2, -999.00,9,  -999.0,9,  -999.0,-999.000,9, -999.00,9,-999.000,9,   40.59,2,   34.82,2, -67.0001,-130.1857,-999.000,     -999.0,    34.8811,2,     -999.0,9,     -999.0,9,-999.0000,9,-999.0000,9,-999.0000,9,-999.0000,9,-999.0000,9,-999.0000,9,-999.0000,9,-999.0000,9,-999.0000,9,-999.0000,-999.000,   1.8057,     -999.0,     -999.0,9,     -999.0,9,     -999.0,9,     -999.0,9,     -999.0,20110405,       0416
320620110219,       S04P,     107,          1,         22,         22,2,20110405,       0251,   -67.0002,  -130.1857,       4439,   734.3,   1.7619,  34.7263,2,  34.7255,2,    185.5,2,   185.5,2,   92.32,2,   31.97,2,    0.00,2,    2.19,2,-999.000,9,-999.000,9,-999.000,9,-999.0000,9,  -999.0,9,  -999.0,9,-999.0000,9,  -999.00,-999.000,9,-999.0000,9,-999.000,9,   1.7609,2, -999.00,9,  -999.0,9,  -999.0,-999.000,9, -999.00,9,-999.000,9,   40.80,2,   34.88,2, -67.0002,-130.1857,-999.000,     -999.0,    34.8892,2,     -999.0,9,     -999.0,9,-999.0000,9,-999.0000,9,-999.0000,9,-999.0000,9,-999.0000,9,-999.0000,9,-999.0000,9,-999.0000,9,-999.0000,9,-999.0000,-999.000,   1.7205,     -999.0,     -999.0,9,     -999.0,9,     -999.0,9,     -999.0,9,     -999.0,20110405,       0413
320620110219,       S04P,     107,          1,         21,         21,2,20110405,       0251,   -67.0002,  -130.1857,       4439,   834.4,   1.6798,  34.7303,2,  34.7300,2,    187.7,2,   187.9,2,   91.52,2,   31.78,2,    0.00,2,    2.18,2,   0.219,2,   0.104,2,   0.017,2,   0.0830,2,  2253.8,3,  2352.3,2,   7.5929,2,    25.00,   0.000,2,   1.9090,2,    9.55,2,   1.6797,2, -999.00,9,  -999.0,9,  -999.0,   8.213,2,   -0.04,2,-999.000,9,   40.89,2,   34.60,2, -67.0001,-130.1858,   0.013,      0.042,    34.8937,2,     -999.0,9,     -999.0,9,-999.0000,9,-999.0000,9,-999.0000,9,-999.0000,9,-999.0000,9,-999.0000,9,-999.0000,9,-999.0000,9,-999.0000,9,   0.0092,    0.14,   1.6326,     -999.0,     -999.0,9,     -999.0,9,     -999.0,9,      -1.27,2,       0.12,20110405,       0411
320620110219,       S04P,     107,          1,         20,         20,2,20110405,       0251,   -67.0002,  -130.1857,       4439,   935.1,   1.5993,  34.7320,2,  34.7317,2,    190.0,2,   189.8,2,   93.45,2,   31.63,2,    0.00,2,    2.17,2,-999.000,9,-999.000,9,-999.000,9,-999.0000,9,  -999.0,9,  -999.0,9,-999.0000,9,  -999.00,-999.000,9,-999.0000,9,-999.000,9,   1.5984,2, -999.00,9,  -999.0,9,  -999.0,-999.000,9, -999.00,9,-999.000,9,   40.27,2,   34.37,2, -67.0002,-130.1857,-999.000,     -999.0,    34.8955,2,     -999.0,9,     -999.0,9,-999.0000,9,-999.0000,9,-999.0000,9,-999.0000,9,-999.0000,9,-999.0000,9,-999.0000,9,-999.0000,9,-999.0000,9,-999.0000,-999.000,   1.5463,     -999.0,     -999.0,9,     -999.0,9,     -999.0,9,     -999.0,9,     -999.0,20110405,       0409
320620110219,       S04P,     107,          1,         19,         19,2,20110405,       0251,   -67.0002,  -130.1857,       4439,  1034.6,   1.5133,  34.7321,2,  34.7321,2,    191.2,2,   191.1,2,   96.61,2,   31.77,2,    0.00,2,    2.18,2,   0.178,2,   0.087,2,   0.012,2,   0.0910,2,  2254.2,3,  2355.5,6,   7.5960,2,    25.00,  -0.023,2,   1.9109,2,    9.50,2,   1.5130,2, -999.00,9,  -999.0,9,  -999.0,   8.124,2,   -0.15,2,-999.000,9,   40.42,2,   34.26,2, -67.0001,-130.1857,   0.012,      0.041,    34.8959,2,     -999.0,9,     -999.0,9,-999.0000,9,-999.0000,9,-999.0000,9,-999.0000,9,-999.0000,9,-999.0000,9,-999.0000,9,-999.0000,9,-999.0000,9,   0.0092,    0.14,   1.4545,     -999.0,     -999.0,9,     -999.0,9,     -999.0,9,      -2.18,2,       0.33,20110405,       0406
320620110219,       S04P,     107,          1,         18,         18,2,20110405,       0251,   -67.0002,  -130.1857,       4439,  1134.7,   1.4280,  34.7313,2,  34.7310,2,    192.8,2,   192.5,2,   99.19,2,   31.85,2,    0.00,2,    2.18,2,-999.000,9,-999.000,9,-999.000,9,-999.0000,9,  -999.0,9,  -999.0,9,-999.0000,9,  -999.00,-999.000,9,-999.0000,9,-999.000,9,   1.4280,2, -999.00,9,  -999.0,9,  -999.0,-999.000,9, -999.00,9,-999.000,9,   40.80,2,   34.21,2, -67.0001,-130.1857,-999.000,     -999.0,    34.8947,2,     -999.0,9,     -999.0,9,-999.0000,9,-999.0000,9,-999.0000,9,-999.0000,9,-999.0000,9,-999.0000,9,-999.0000,9,-999.0000,9,-999.0000,9,-999.0000,-999.000,   1.3633,     -999.0,     -999.0,9,     -999.0,9,     -999.0,9,     -999.0,9,     -999.0,20110405,       0403
320620110219,       S04P,     107,          1,         17,         17,2,20110405,       0251,   -67.0002,  -130.1857,       4439,  1234.2,   1.3483,  34.7300,2,  34.7296,2,    194.3,2,   194.7,2,  101.59,2,   31.87,2,    0.00,2,    2.18,2,   0.151,2,   0.073,2,   0.015,2,   0.0680,2,  2255.5,3,  2356.6,2,   7.5968,6,    25.00,  -0.018,2,   1.9353,2,    9.63,2,   1.3480,2, -999.00,9,  -999.0,9,  -999.0,   8.344,2, -999.00,9,-999.000,9,   40.53,2,   34.18,2, -67.0001,-130.1857,   0.013,      0.043,    34.8934,2,     -999.0,9,     -999.0,9,-999.0000,9,-999.0000,9,-999.0000,9,-999.0000,9,-999.0000,9,-999.0000,9,-999.0000,9,-999.0000,9,-999.0000,9,   0.0093,    0.14,   1.2777,     -999.0,     -999.0,9,     -999.0,9,     -999.0,9,     -999.0,9,     -999.0,20110405,       0401
320620110219,       S04P,     107,          1,         16,         16,2,20110405,       0251,   -67.0002,  -130.1857,       4439,  1335.8,   1.2799,  34.7283,2,  34.7278,2,    195.9,2,   195.4,2,  103.70,2,   31.88,2,    0.00,2,    2.18,2,-999.000,9,-999.000,9,-999.000,9,-999.0000,9,  -999.0,9,  -999.0,9,-999.0000,9,  -999.00,-999.000,9,-999.0000,9,-999.000,9,   1.2806,2, -999.00,9,  -999.0,9,  -999.0,-999.000,9, -999.00,9,-999.000,9,   40.41,2,   33.90,2, -67.0002,-130.1857,-999.000,     -999.0,    34.8916,2,     -999.0,9,     -999.0,9,-999.0000,9,-999.0000,9,-999.0000,9,-999.0000,9,-999.0000,9,-999.0000,9,-999.0000,9,-999.0000,9,-999.0000,9,-999.0000,-999.000,   1.2031,     -999.0,     -999.0,9,     -999.0,9,     -999.0,9,     -999.0,9,     -999.0,20110405,       0358
320620110219,       S04P,     107,          1,         15,         15,2,20110405,       0251,   -67.0002,  -130.1857,       4439,  1433.8,   1.2200,  34.7265,2,  34.7276,2,    197.1,2,   197.2,2,  105.46,2,   31.84,2,    0.00,2,    2.20,2,   0.144,2,   0.068,2,   0.012,2,   0.0650,2,  2257.5,3,  2360.0,2,   7.6007,2,    25.00,   0.002,2,   1.9230,2,    9.82,2,   1.2201,2, -999.00,9,  -999.0,9,  -999.0,   8.308,2, -999.00,9,-999.000,9,   40.43,2,   34.02,2, -67.0001,-130.1857,   0.013,      0.042,    34.8914,2,     -999.0,9,     -999.0,9,-999.0000,9,-999.0000,9,-999.0000,9,-999.0000,9,-999.0000,9,-999.0000,9,-999.0000,9,-999.0000,9,-999.0000,9,   0.0092,    0.14,   1.1371,     -999.0,     -999.0,9,     -999.0,9,     -999.0,9,     -999.0,9,     -999.0,20110405,       0356
320620110219,       S04P,     107,          1,         14,         14,2,20110405,       0251,   -67.0002,  -130.1857,       4439,  1534.8,   1.1634,  34.7244,2,  34.7243,2,    198.1,2,   198.2,2,  107.58,2,   31.88,2,    0.00,2,    2.19,2,-999.000,9,-999.000,9,-999.000,9,-999.0000,9,  -999.0,9,  -999.0,9,-999.0000,9,  -999.00,-999.000,9,-999.0000,9,-999.000,9,   1.1635,2, -999.00,9,  -999.0,9,  -999.0,-999.000,9, -999.00,9,-999.000,9,   40.32,2,   33.93,2, -67.0001,-130.1857,-999.000,     -999.0,    34.8880,2,     -999.0,9,     -999.0,9,-999.0000,9,-999.0000,9,-999.0000,9,-999.0000,9,-999.0000,9,-999.0000,9,-999.0000,9,-999.0000,9,-999.0000,9,-999.0000,-999.000,   1.0741,     -999.0,     -999.0,9,     -999.0,9,     -999.0,9,     -999.0,9,     -999.0,20110405,       0353