BOTTLE,20220813CCHSIOAMB
EXPOCODE,SECT_ID,STNNBR,CASTNO,SAMPNO,BTLNBR,BTLNBR_FLAG_W,DATE,TIME,LATITUDE,LONGITUDE,DEPTH,CTDPRS,CTDTMP,CTDSAL,CTDSAL_FLAG_W,SALNTY,SALNTY_FLAG_W,CTDOXY,CTDOXY_FLAG_W,OXYGEN,OXYGEN_FLAG_W,SILCAT,SILCAT_FLAG_W,NITRAT,NITRAT_FLAG_W,NITRIT,NITRIT_FLAG_W,PHSPHT,PHSPHT_FLAG_W,CFC-11,CFC-11_FLAG_W,CFC-12,CFC-12_FLAG_W,CFC113,CFC113_FLAG_W,SF6,SF6_FLAG_W,TCARBN,TCARBN_FLAG_W,ALKALI,ALKALI_FLAG_W,PH_TOT,PH_TOT_FLAG_W,PH_TMP,TRITUM,TRITUM_FLAG_W,HELIUM,HELIUM_FLAG_W,DELHE3,DELHE3_FLAG_W,REFTMP,REFTMP_FLAG_W,DELC13,DELC13_FLAG_W,DELC14,DELC14_FLAG_W,C14ERR,NEON,NEON_FLAG_W,DELO18,DELO18_FLAG_W,POC,POC_FLAG_W,DOC,DOC_FLAG_W,TDN,TDN_FLAG_W,BTL_LAT,BTL_LON,TRITER,NEONER,SALTREF,SALTREF_FLAG_W,PIGMENTS,PIGMENTS_FLAG_W,LAB_DEN,LAB_DEN_FLAG_W,CDOM325,CDOM325_FLAG_W,CDOM340,CDOM340_FLAG_W,CDOM380,CDOM380_FLAG_W,CDOM412,CDOM412_FLAG_W,CDOM443,CDOM443_FLAG_W,CDOM490,CDOM490_FLAG_W,CDOM555,CDOM555_FLAG_W,CDOMSL,CDOMSL_FLAG_W,CDOMSN,CDOMSN_FLAG_W,HELIER,DELHER,THETA,LDEO_SAMPNO,ABSORBTION,ABSORBTION_FLAG_W,IMAGE_COUNT,IMAGE_COUNT_FLAG_W,CYTO_COUNT,CYTO_COUNT_FLAG_W,DELD,DELD_FLAG_W,DELDERR,BTL_DATE,BTL_TIME
,,,,,,,,,,,METERS,DBAR,ITS-90,PSS-78,,PSS-78,,UMOL/KG,,UMOL/KG,,UMOL/KG,,UMOL/KG,,UMOL/KG,,UMOL/KG,,PMOL/KG,,PMOL/KG,,PMOL/KG,,FMOL/KG,,UMOL/KG,,UMOL/KG,,,,DEG C,TU,,NMOL/KG,,PERCNT,,DEG C,,/MILLE,,/MILLE,,/MILLE,NMOL/KG,,/MILLE,,UG/KG,,UMOL/KG,,UMOL/KG,,,,TU,NMOL/KG,G/KG,,,,,,1/M,,1/M,,1/M,,1/M,,1/M,,1/M,,1/M,,1/NM,,1/NM,,NMOL/KG,PERCNT,DEG C,,,,,,,,/MILLE,,/MILLE,,
320620110219,       S04P,      18,          1,         13,         13,2,20110228,       2325,   -67.0007,   175.5840,       3094,  1398.0,   0.8406,  34.7132,2,  34.7131,2,    200.3,2,   201.8,2,  119.76,2,   32.51,2,    0.00,2,    2.19,2,   0.094,6,   0.047,6,   0.006,6,-999.0000,9,  -999.0,9,  -999.0,9,-999.0000,9,  -999.00,-999.000,9,-999.0000,9,-999.000,9,   0.8405,2, -999.00,9,  -999.0,9,  -999.0,-999.000,9, -999.00,9,-999.000,9,   40.65,2,   35.49,2, -67.0007, 175.5840,-999.000,     -999.0,    34.8768,2,     -999.0,9,     -999.0,9,   0.0777,2,   0.0378,3,  -0.0006,4,  -0.0112,4,  -0.0194,4,  -0.0156,4,  -0.0147,4,   0.0670,4,   0.0541,4,-999.0000,-999.000,   0.7644,     -999.0,     -999.0,9,     -999.0,9,     -999.0,9,     -999.0,9,     -999.0,20110301,       0012
320620110219,       S04P,      18,          1,         12,         12,2,20110228,       2325,   -67.0007,   175.5840,       3094,  1501.0,   0.7933,  34.7119,2,  34.7123,2,    201.4,2,   201.7,2,  121.33,2,   32.49,2,    0.00,2,    2.20,2,-999.000,9,-999.000,9,-999.000,9,-999.0000,9,  2262.0,2,  2358.6,2,   7.5858,2,    25.00,-999.000,9,-999.0000,9,-999.000,9,   0.7930,2,    0.47,2,  -162.2,2,     2.3,-999.000,9, -999.00,9,-999.000,9,   40.55,2,   35.31,2, -67.0007, 175.5840,-999.000,     -999.0,    34.8760,2,     -999.0,9,     -999.0,9,-999.0000,9,-999.0000,9,-999.0000,9,-999.0000,9,-999.0000,9,-999.0000,9,-999.0000,9,-999.0000,9,-999.0000,9,-999.0000,-999.000,   0.7108,     -999.0,     -999.0,9,     -999.0,9,     -999.0,9,     -999.0,9,     -999.0,20110301,       0009
320620110219,       S04P,      18,          1,         11,         11,2,20110228,       2325,   -67.0007,   175.5840,       3094,  1599.7,   0.7537,  34.7106,2,  34.7109,2,    202.7,2,   203.5,2,  122.45,2,   32.53,2,    0.00,2,    2.20,2,   0.098,2,   0.048,2,   0.007,2,-999.0000,9,  -999.0,9,  -999.0,9,-999.0000,9,  -999.00,   0.001,2,    2.066,2,  10.036,2,   0.7536,2, -999.00,9,  -999.0,9,  -999.0,   8.955,2,   -0.11,2,-999.000,9,   40.44,2,   35.23,2, -67.0007, 175.5840,   0.004,      0.007,    34.8746,2,     -999.0,9,     -999.0,9,-999.0000,9,-999.0000,9,-999.0000,9,-999.0000,9,-999.0000,9,-999.0000,9,-999.0000,9,-999.0000,9,-999.0000,9,    0.001,   0.213,   0.6649,50001801011,     -999.0,9,     -999.0,9,     -999.0,9,      -1.78,2,       0.24,20110301,       0006
320620110219,       S04P,      18,          1,         10,         10,2,20110228,       2325,   -67.0007,   175.5840,       3094,  1699.7,   0.7192,  34.7094,2,  34.7099,2,    203.6,2,   203.4,2,  123.77,2,   32.59,2,    0.00,2,    2.20,2,-999.000,9,-999.000,9,-999.000,9,-999.0000,9,  -999.0,9,  -999.0,9,-999.0000,9,  -999.00,-999.000,9,-999.0000,9,-999.000,9,   0.7197,2, -999.00,9,  -999.0,9,  -999.0,-999.000,9, -999.00,9,-999.000,9,   40.22,2,   35.41,2, -67.0007, 175.5840,-999.000,     -999.0,    34.8736,2,     -999.0,9,     -999.0,9,   0.0777,2,   0.0375,3,  -0.0028,4,  -0.0102,4,  -0.0181,4,  -0.0143,4,  -0.0139,4,   0.0772,4,   0.0561,4,-999.0000,-999.000,   0.6239,     -999.0,     -999.0,9,     -999.0,9,     -999.0,9,     -999.0,9,     -999.0,20110301,       0003
320620110219,       S04P,      18,          1,          9,          9,2,20110228,       2325,   -67.0007,   175.5840,       3094,  1799.0,   0.6800,  34.7084,2,  34.7085,2,    204.6,2,   204.4,2,  124.91,2,   32.65,2,    0.00,2,    2.21,2,   0.114,2,   0.056,2,   0.006,2,-999.0000,9,  2263.5,2,  2359.2,2,   7.5880,2,    25.00,   0.001,2,    2.098,2,   9.798,2,   0.6799,2,    0.50,2,  -160.6,2,     2.3,   9.161,2,   -0.23,2,-999.000,9,   40.64,2,   35.38,2, -67.0007, 175.5840,   0.004,      0.007,    34.8722,2,     -999.0,9,     -999.0,9,-999.0000,9,-999.0000,9,-999.0000,9,-999.0000,9,-999.0000,9,-999.0000,9,-999.0000,9,-999.0000,9,-999.0000,9,    0.001,   0.200,   0.5782,50001801009,     -999.0,9,     -999.0,9,     -999.0,9,      -2.83,2,       0.24,20110301,       0001
320620110219,       S04P,      18,          1,          8,          8,2,20110228,       2325,   -67.0007,   175.5840,       3094,  2001.2,   0.6076,  34.7063,2,  34.7066,2,    206.4,2,   206.5,2,  126.78,2,   32.68,2,    0.00,2,    2.21,2,-999.000,9,-999.000,9,-999.000,9,-999.0000,9,  -999.0,9,  -999.0,9,-999.0000,9,  -999.00,-999.000,9,-999.0000,9,-999.000,9,   0.6078,2, -999.00,9,  -999.0,9,  -999.0,-999.000,9, -999.00,9,-999.000,9,   40.78,2,   35.44,2, -67.0007, 175.5840,-999.000,     -999.0,    34.8702,2,     -999.0,9,     -999.0,9,-999.0000,9,-999.0000,9,-999.0000,9,-999.0000,9,-999.0000,9,-999.0000,9,-999.0000,9,-999.0000,9,-999.0000,9,-999.0000,-999.000,   0.4922,     -999.0,     -999.0,9,     -999.0,9,     -999.0,9,     -999.0,9,     -999.0,20110228,       2356
320620110219,       S04P,      18,          1,          7,          7,2,20110228,       2325,   -67.0007,   175.5840,       3094,  2199.4,   0.5333,  34.7048,2,  34.7046,2,    208.3,2,   207.8,2,  127.67,2,   32.71,2,    0.00,2,    2.22,2,   0.169,2,   0.084,2,   0.012,2,-999.0000,9,  2264.0,2,  2360.2,6,   7.5902,2,    25.00,-999.000,9,-999.0000,9,-999.000,9,   0.5333,2,    0.47,2,  -161.7,2,     2.4,-999.000,9, -999.00,9,-999.000,9,   40.85,2,   35.25,2, -67.0007, 175.5840,-999.000,     -999.0,    34.8682,2,     -999.0,9,     -999.0,9,   0.0780,2,   0.0383,3,  -0.0002,4,  -0.0107,4,  -0.0190,4,  -0.0152,4,  -0.0145,4,   0.0770,4,   0.0536,4,-999.0000,-999.000,   0.4041,     -999.0,     -999.0,9,     -999.0,9,     -999.0,9,     -999.0,9,     -999.0,20110228,       2352
320620110219,       S04P,      18,          1,          6,          6,2,20110228,       2325,   -67.0007,   175.5840,       3094,  2399.3,   0.4548,  34.7019,2,  34.7022,2,    210.7,2,   210.5,2,  128.50,2,   32.72,2,    0.00,2,    2.23,2,-999.000,9,-999.000,9,-999.000,9,-999.0000,9,  -999.0,9,  -999.0,9,-999.0000,9,  -999.00,-999.000,9,-999.0000,9,-999.000,9,   0.4549,2, -999.00,9,  -999.0,9,  -999.0,-999.000,9, -999.00,9,-999.000,9,   40.82,2,   35.66,2, -67.0007, 175.5841,-999.000,     -999.0,    34.8658,2,     -999.0,9,     -999.0,9,-999.0000,9,-999.0000,9,-999.0000,9,-999.0000,9,-999.0000,9,-999.0000,9,-999.0000,9,-999.0000,9,-999.0000,9,-999.0000,-999.000,   0.3114,     -999.0,     -999.0,9,     -999.0,9,     -999.0,9,     -999.0,9,     -999.0,20110228,       2347
320620110219,       S04P,      18,          1,          5,          5,2,20110228,       2325,   -67.0007,   175.5840,       3094,  2600.1,   0.4096,  34.6999,2,  34.6998,2,    212.0,2,   212.8,2,  128.64,2,   32.72,2,    0.00,2,    2.22,2,   0.291,2,   0.151,2,   0.029,2,-999.0000,9,  -999.0,9,  -999.0,9,-999.0000,9,  -999.00,   0.001,2,    2.079,2,   9.556,2,   0.4095,2, -999.00,9,  -999.0,9,  -999.0,   9.073,2,   -0.23,2,-999.000,9,   40.29,2,   35.31,2, -67.0007, 175.5840,   0.003,      0.007,    34.8635,2,     -999.0,9,     -999.0,9,-999.0000,9,-999.0000,9,-999.0000,9,-999.0000,9,-999.0000,9,-999.0000,9,-999.0000,9,-999.0000,9,-999.0000,9,    0.000,   0.200,   0.2509,50001801005,     -999.0,9,     -999.0,9,     -999.0,9,      -3.06,2,       0.38,20110228,       2342
320620110219,       S04P,      18,          1,          4,          4,2,20110228,       2325,   -67.0007,   175.5840,       3094,  2799.9,   0.3603,  34.6977,2,  34.6975,2,    214.3,2,   214.9,2,  128.35,2,   32.77,2,    0.00,2,    2.22,2,   0.395,2,   0.204,2,   0.033,2,-999.0000,9,  2264.9,2,  2359.1,2,   7.5872,6,    25.00,-999.000,9,-999.0000,9,-999.000,9,   0.3599,2,    0.50,2,  -161.7,2,     3.0,-999.000,9, -999.00,9,-999.000,9,   39.94,2,   35.69,2, -67.0007, 175.5840,-999.000,     -999.0,    34.8611,2,     -999.0,9,     -999.0,9,   0.0731,3,   0.0338,3,  -0.0030,4,  -0.0121,4,  -0.0199,4,  -0.0156,4,  -0.0147,4,   0.0827,4,   0.0587,4,-999.0000,-999.000,   0.1859,     -999.0,     -999.0,9,     -999.0,9,     -999.0,9,     -999.0,9,     -999.0,20110228,       2336
320620110219,       S04P,      18,          1,          3,          3,2,20110228,       2325,   -67.0007,   175.5840,       3094,  2974.1,   0.3340,  34.6960,2,  34.6957,2,    215.1,2,   214.3,2,  128.18,2,   32.74,2,    0.00,2,    2.19,2,   0.488,2,   0.264,2,   0.035,2,-999.0000,9,  2263.5,2,  2358.8,2,   7.5867,2,    25.00,   0.001,2,    2.028,2,   8.828,2,   0.3337,2,    0.53,2,  -155.3,2,     2.3,   8.886,2,   -0.16,6,-999.000,9,   40.03,2,   35.83,2, -67.0007, 175.5840,   0.004,      0.014,    34.8593,2,     -999.0,9,     -999.0,9,-999.0000,9,-999.0000,9,-999.0000,9,-999.0000,9,-999.0000,9,-999.0000,9,-999.0000,9,-999.0000,9,-999.0000,9,    0.001,   0.229,   0.1452,50001801003,     -999.0,9,     -999.0,9,     -999.0,9,      -2.40,6,       0.05,20110228,       2331
320620110219,       S04P,      18,          1,          2,          2,2,20110228,       2325,   -67.0007,   175.5840,       3094,  3075.6,   0.3276,  34.6952,2,  34.6955,2,    215.9,2,   215.1,2,  128.43,2,   32.77,2,    0.00,2, -999.00,5,   0.484,2,   0.263,2,   0.035,2,-999.0000,9,  2262.8,6,  2358.9,2,   7.5863,2,    25.00,-999.000,9,-999.0000,9,-999.000,9,   0.3273,2,    0.54,2,  -156.9,2,     2.4,-999.000,9, -999.00,9,-999.000,9,   39.91,2,   35.35,2, -67.0007, 175.5840,-999.000,     -999.0,    34.8591,2,     -999.0,9,     -999.0,9,-999.0000,9,-999.0000,9,-999.0000,9,-999.0000,9,-999.0000,9,-999.0000,9,-999.0000,9,-999.0000,9,-999.0000,9,-999.0000,-999.000,   0.1300,     -999.0,     -999.0,9,     -999.0,9,     -999.0,9,     -999.0,9,     -999.0,20110228,       2327
320620110219,       S04P,      18,          1,          1,          1,2,20110228,       2325,   -67.0007,   175.5840,       3094,  3135.9,   0.3184,  34.6943,2,  34.6949,2,    216.1,2,   216.5,2,  127.92,2,   32.69,2,    0.00,2, -999.00,5,   0.505,2,   0.278,2,   0.037,2,-999.0000,9,  2263.6,2,  2358.6,2,   7.5894,2,    25.00,   0.005,2,    2.144,4,   8.258,2,   0.3180,2,    0.46,2,  -161.8,2,     2.9,   9.278,2,   -0.21,2,-999.000,9,   40.42,2,   35.75,2, -67.0007, 175.5840,   0.004,      0.008,    34.8585,2,     -999.0,9,     -999.0,9,   0.0772,2,   0.0366,3,  -0.0027,4,  -0.0108,4,  -0.0188,4,  -0.0150,4,  -0.0145,4,   0.0770,4,   0.0570,4,    0.000,   0.205,   0.1157,50001801001,     -999.0,9,     -999.0,9,     -999.0,9,      -2.65,2,       0.16,20110228,       2325