BOTTLE,20220813CCHSIOAMB
EXPOCODE,SECT_ID,STNNBR,CASTNO,SAMPNO,BTLNBR,BTLNBR_FLAG_W,DATE,TIME,LATITUDE,LONGITUDE,DEPTH,CTDPRS,CTDTMP,CTDSAL,CTDSAL_FLAG_W,SALNTY,SALNTY_FLAG_W,CTDOXY,CTDOXY_FLAG_W,OXYGEN,OXYGEN_FLAG_W,SILCAT,SILCAT_FLAG_W,NITRAT,NITRAT_FLAG_W,NITRIT,NITRIT_FLAG_W,PHSPHT,PHSPHT_FLAG_W,CFC-11,CFC-11_FLAG_W,CFC-12,CFC-12_FLAG_W,CFC113,CFC113_FLAG_W,SF6,SF6_FLAG_W,TCARBN,TCARBN_FLAG_W,ALKALI,ALKALI_FLAG_W,PH_TOT,PH_TOT_FLAG_W,PH_TMP,TRITUM,TRITUM_FLAG_W,HELIUM,HELIUM_FLAG_W,DELHE3,DELHE3_FLAG_W,REFTMP,REFTMP_FLAG_W,DELC13,DELC13_FLAG_W,DELC14,DELC14_FLAG_W,C14ERR,NEON,NEON_FLAG_W,DELO18,DELO18_FLAG_W,POC,POC_FLAG_W,DOC,DOC_FLAG_W,TDN,TDN_FLAG_W,BTL_LAT,BTL_LON,TRITER,NEONER,SALTREF,SALTREF_FLAG_W,PIGMENTS,PIGMENTS_FLAG_W,LAB_DEN,LAB_DEN_FLAG_W,CDOM325,CDOM325_FLAG_W,CDOM340,CDOM340_FLAG_W,CDOM380,CDOM380_FLAG_W,CDOM412,CDOM412_FLAG_W,CDOM443,CDOM443_FLAG_W,CDOM490,CDOM490_FLAG_W,CDOM555,CDOM555_FLAG_W,CDOMSL,CDOMSL_FLAG_W,CDOMSN,CDOMSN_FLAG_W,HELIER,DELHER,THETA,LDEO_SAMPNO,ABSORBTION,ABSORBTION_FLAG_W,IMAGE_COUNT,IMAGE_COUNT_FLAG_W,CYTO_COUNT,CYTO_COUNT_FLAG_W,DELD,DELD_FLAG_W,DELDERR,BTL_DATE,BTL_TIME
,,,,,,,,,,,METERS,DBAR,ITS-90,PSS-78,,PSS-78,,UMOL/KG,,UMOL/KG,,UMOL/KG,,UMOL/KG,,UMOL/KG,,UMOL/KG,,PMOL/KG,,PMOL/KG,,PMOL/KG,,FMOL/KG,,UMOL/KG,,UMOL/KG,,,,DEG C,TU,,NMOL/KG,,PERCNT,,DEG C,,/MILLE,,/MILLE,,/MILLE,NMOL/KG,,/MILLE,,UG/KG,,UMOL/KG,,UMOL/KG,,,,TU,NMOL/KG,G/KG,,,,,,1/M,,1/M,,1/M,,1/M,,1/M,,1/M,,1/M,,1/NM,,1/NM,,NMOL/KG,PERCNT,DEG C,,,,,,,,/MILLE,,/MILLE,,
320620110219,       S04P,     115,          1,         13,         13,2,20110408,       1327,   -67.0001,  -109.7088,       4246,  1599.7,   1.2522,  34.7265,2,  34.7267,2,    196.4,2,   197.0,2,  104.66,2,   31.29,2,    0.00,2,    2.17,2,   0.137,2,   0.074,2,   0.008,2,   0.0740,2,  -999.0,9,  -999.0,9,   7.6011,2,    25.00,-999.000,9,-999.0000,9,-999.000,9,   1.2526,2,    0.51,2,  -164.4,2,     2.5,-999.000,9, -999.00,9,-999.000,9,   39.96,2,   33.71,2, -67.0001,-109.7088,-999.000,     -999.0,    34.8904,2,     -999.0,9,     -999.0,9,-999.0000,9,-999.0000,9,-999.0000,9,-999.0000,9,-999.0000,9,-999.0000,9,-999.0000,9,-999.0000,9,-999.0000,9,-999.0000,-999.000,   1.1571,     -999.0,     -999.0,9,     -999.0,9,     -999.0,9,     -999.0,9,     -999.0,20110408,       1426
320620110219,       S04P,     115,          1,         12,         12,2,20110408,       1327,   -67.0001,  -109.7088,       4246,  1800.7,   1.1368,  34.7227,2,  34.7227,2,    198.4,2,   198.4,2,  108.31,2,   31.46,2,    0.00,2,    2.18,2,-999.000,9,-999.000,9,-999.000,9,-999.0000,9,  2259.1,2,  2359.7,2,   7.6018,2,    25.00,-999.000,9,-999.0000,9,-999.000,9,   1.1371,2,    0.51,2,  -163.5,2,     2.6,-999.000,9, -999.00,9,-999.000,9,   39.51,2,   33.59,2, -67.0001,-109.7088,-999.000,     -999.0,    34.8865,2,     -999.0,9,     -999.0,9,-999.0000,9,-999.0000,9,-999.0000,9,-999.0000,9,-999.0000,9,-999.0000,9,-999.0000,9,-999.0000,9,-999.0000,9,-999.0000,-999.000,   1.0285,     -999.0,     -999.0,9,     -999.0,9,     -999.0,9,     -999.0,9,     -999.0,20110408,       1421
320620110219,       S04P,     115,          1,         11,         11,2,20110408,       1327,   -67.0001,  -109.7088,       4246,  2000.8,   1.0307,  34.7192,2,  34.7192,2,    200.7,2,   200.6,2,  111.33,2,   31.51,2,    0.00,2,    2.18,2,   0.141,2,   0.074,2,   0.006,2,   0.0770,2,  -999.0,9,  -999.0,9,   7.6025,2,    25.00,-999.000,9,-999.0000,9,-999.000,9,   1.0306,2, -999.00,9,  -999.0,9,  -999.0,-999.000,9, -999.00,9,-999.000,9,   39.62,2,   34.19,2, -67.0001,-109.7088,-999.000,     -999.0,    34.8829,2,     -999.0,9,     -999.0,9,-999.0000,9,-999.0000,9,-999.0000,9,-999.0000,9,-999.0000,9,-999.0000,9,-999.0000,9,-999.0000,9,-999.0000,9,-999.0000,-999.000,   0.9087,     -999.0,     -999.0,9,     -999.0,9,     -999.0,9,     -999.0,9,     -999.0,20110408,       1416
320620110219,       S04P,     115,          1,         10,         37,2,20110408,       1327,   -67.0001,  -109.7088,       4246,  2251.2,   0.9104,  34.7145,2,  34.7145,2,    202.6,2,   202.9,2,  116.65,2,   31.76,2,    0.00,2,    2.19,2,-999.000,9,-999.000,9,-999.000,9,-999.0000,9,  2260.7,2,  2360.9,2,   7.6024,2,    25.00,-999.000,9,-999.0000,9,-999.000,9,   0.9111,2,    0.52,2,  -167.2,2,     2.6,-999.000,9, -999.00,9,-999.000,9,   39.40,2,   34.25,2, -67.0001,-109.7088,-999.000,     -999.0,    34.8782,2,     -999.0,9,     -999.0,9,-999.0000,9,-999.0000,9,-999.0000,9,-999.0000,9,-999.0000,9,-999.0000,9,-999.0000,9,-999.0000,9,-999.0000,9,-999.0000,-999.000,   0.7707,     -999.0,     -999.0,9,     -999.0,9,     -999.0,9,     -999.0,9,     -999.0,20110408,       1411
320620110219,       S04P,     115,          1,          9,          9,2,20110408,       1327,   -67.0001,  -109.7088,       4246,  2499.8,   0.8013,  34.7106,2,  34.7100,2,    204.6,2,   204.3,2,  120.01,2,   31.82,2,    0.00,2,    2.20,2,   0.170,2,   0.083,2,   0.007,2,   0.0880,2,  -999.0,9,  -999.0,9,   7.6000,2,    25.00,-999.000,9,-999.0000,9,-999.000,9,   0.8027,2,    0.50,2,  -162.6,2,     2.5,-999.000,9, -999.00,9,-999.000,9,   39.62,2,   34.45,2, -67.0001,-109.7088,-999.000,     -999.0,    34.8737,2,     -999.0,9,     -999.0,9,-999.0000,9,-999.0000,9,-999.0000,9,-999.0000,9,-999.0000,9,-999.0000,9,-999.0000,9,-999.0000,9,-999.0000,9,-999.0000,-999.000,   0.6433,     -999.0,     -999.0,9,     -999.0,9,     -999.0,9,     -999.0,9,     -999.0,20110408,       1406
320620110219,       S04P,     115,          1,          8,          8,2,20110408,       1327,   -67.0001,  -109.7088,       4246,  2749.8,   0.7039,  34.7079,2,  34.7072,2,    206.5,2,   206.3,2,  122.84,2,   31.85,2,    0.00,2,    2.22,2,-999.000,9,-999.000,9,-999.000,9,-999.0000,9,  2261.9,2,  2361.3,2,   7.5999,2,    25.00,-999.000,9,-999.0000,9,-999.000,9,   0.7048,2,    0.55,2,  -161.0,2,     3.2,-999.000,9, -999.00,9,-999.000,9,   39.86,2,   33.90,2, -67.0001,-109.7088,-999.000,     -999.0,    34.8709,2,     -999.0,9,     -999.0,9,-999.0000,9,-999.0000,9,-999.0000,9,-999.0000,9,-999.0000,9,-999.0000,9,-999.0000,9,-999.0000,9,-999.0000,9,-999.0000,-999.000,   0.5266,     -999.0,     -999.0,9,     -999.0,9,     -999.0,9,     -999.0,9,     -999.0,20110408,       1401
320620110219,       S04P,     115,          1,          7,          7,2,20110408,       1327,   -67.0001,  -109.7088,       4246,  3000.9,   0.5973,  34.7056,2,  34.7059,2,    208.3,2,   208.4,2,  125.73,2,   31.98,2,    0.00,2,    2.22,2,   0.179,2,   0.093,2,   0.009,2,   0.0690,2,  -999.0,9,  -999.0,9,   7.5974,2,    25.00,-999.000,9,-999.0000,9,-999.000,9,   0.5973,2, -999.00,9,  -999.0,9,  -999.0,-999.000,9, -999.00,9,-999.000,9,   39.75,2,   34.35,2, -67.0001,-109.7088,-999.000,     -999.0,    34.8695,2,     -999.0,9,     -999.0,9,-999.0000,9,-999.0000,9,-999.0000,9,-999.0000,9,-999.0000,9,-999.0000,9,-999.0000,9,-999.0000,9,-999.0000,9,-999.0000,-999.000,   0.4002,     -999.0,     -999.0,9,     -999.0,9,     -999.0,9,     -999.0,9,     -999.0,20110408,       1355
320620110219,       S04P,     115,          1,          6,          6,2,20110408,       1327,   -67.0001,  -109.7088,       4246,  3301.0,   0.5047,  34.7043,2,  34.7043,2,    210.3,2,   210.4,2,  130.03,2,   32.08,2,    0.00,2,    2.23,2,-999.000,9,-999.000,9,-999.000,9,-999.0000,9,  2263.2,2,  2363.4,2,   7.5989,2,    25.00,-999.000,9,-999.0000,9,-999.000,9,   0.5050,2,    0.55,2,  -163.9,2,     3.3,-999.000,9, -999.00,9,-999.000,9,   39.20,2,   34.71,2, -67.0001,-109.7088,-999.000,     -999.0,    34.8679,2,     -999.0,9,     -999.0,9,-999.0000,9,-999.0000,9,-999.0000,9,-999.0000,9,-999.0000,9,-999.0000,9,-999.0000,9,-999.0000,9,-999.0000,9,-999.0000,-999.000,   0.2824,     -999.0,     -999.0,9,     -999.0,9,     -999.0,9,     -999.0,9,     -999.0,20110408,       1349
320620110219,       S04P,     115,          1,          5,          5,2,20110408,       1327,   -67.0001,  -109.7088,       4246,  3599.1,   0.4519,  34.7038,2,  34.7033,2,    211.4,2,   211.7,2,  133.47,2,   32.16,2,    0.00,2,    2.24,2,   0.158,2,   0.088,2,   0.011,2,   0.0690,2,  -999.0,9,  -999.0,9,   7.5992,2,    25.00,-999.000,9,-999.0000,9,-999.000,9,   0.4517,2,    0.54,2,  -157.3,2,     2.4,-999.000,9, -999.00,9,-999.000,9,   39.45,2,   34.99,2, -67.0001,-109.7088,-999.000,     -999.0,    34.8670,2,     -999.0,9,     -999.0,9,-999.0000,9,-999.0000,9,-999.0000,9,-999.0000,9,-999.0000,9,-999.0000,9,-999.0000,9,-999.0000,9,-999.0000,9,-999.0000,-999.000,   0.2026,     -999.0,     -999.0,9,     -999.0,9,     -999.0,9,     -999.0,9,     -999.0,20110408,       1343
320620110219,       S04P,     115,          1,          4,          4,2,20110408,       1327,   -67.0001,  -109.7088,       4246,  3901.4,   0.4128,  34.7031,2,  34.7023,2,    212.7,2,   212.9,2,  136.07,2,   32.34,2,    0.00,2,    2.24,2,   0.239,2,   0.121,2,   0.012,2,   0.1160,2,  2263.3,2,  2363.4,2,   7.5963,2,    25.00,-999.000,9,-999.0000,9,-999.000,9,   0.4137,2,    0.49,2,  -157.0,2,     3.0,-999.000,9, -999.00,9,-999.000,9,   39.95,2,   34.43,2, -67.0001,-109.7088,-999.000,     -999.0,    34.8660,2,     -999.0,9,     -999.0,9,-999.0000,9,-999.0000,9,-999.0000,9,-999.0000,9,-999.0000,9,-999.0000,9,-999.0000,9,-999.0000,9,-999.0000,9,-999.0000,-999.000,   0.1346,     -999.0,     -999.0,9,     -999.0,9,     -999.0,9,     -999.0,9,     -999.0,20110408,       1337
320620110219,       S04P,     115,          1,          3,          3,2,20110408,       1327,   -67.0001,  -109.7088,       4246,  4199.7,   0.3722,  34.7020,2,  34.7017,2,    214.4,2,   214.4,2,  139.48,2,   32.42,2,    0.00,2,    2.24,2,   0.287,2,   0.146,2,   0.012,2,   0.1130,2,  2264.3,2,  2364.7,2,   7.5963,6,    25.00,-999.000,9,-999.0000,9,-999.000,9,   0.3719,2,    0.52,2,  -154.5,2,     2.4,-999.000,9, -999.00,9,-999.000,9,   39.57,2,   35.20,2, -67.0001,-109.7088,-999.000,     -999.0,    34.8654,2,     -999.0,9,     -999.0,9,-999.0000,9,-999.0000,9,-999.0000,9,-999.0000,9,-999.0000,9,-999.0000,9,-999.0000,9,-999.0000,9,-999.0000,9,-999.0000,-999.000,   0.0645,     -999.0,     -999.0,9,     -999.0,9,     -999.0,9,     -999.0,9,     -999.0,20110408,       1331
320620110219,       S04P,     115,          1,          2,          2,2,20110408,       1327,   -67.0001,  -109.7088,       4246,  4250.0,   0.3672,  34.7019,2,  34.7013,2,    214.2,2,   213.9,2,  139.93,2,   32.50,2,    0.00,2,    2.24,2,   0.323,2,   0.159,2,   0.016,2,   0.1190,2,  2263.0,6,  2363.9,2,   7.5947,2,    25.00,-999.000,9,-999.0000,9,-999.000,9,   0.3671,2,    0.48,2,  -152.6,2,     2.4,-999.000,9, -999.00,9,-999.000,9,   40.08,2,   34.80,2, -67.0001,-109.7088,-999.000,     -999.0,    34.8650,2,     -999.0,9,     -999.0,9,-999.0000,9,-999.0000,9,-999.0000,9,-999.0000,9,-999.0000,9,-999.0000,9,-999.0000,9,-999.0000,9,-999.0000,9,-999.0000,-999.000,   0.0543,     -999.0,     -999.0,9,     -999.0,9,     -999.0,9,     -999.0,9,     -999.0,20110408,       1329
320620110219,       S04P,     115,          1,          1,          1,2,20110408,       1327,   -67.0001,  -109.7088,       4246,  4320.2,   0.3647,  34.7012,2,  34.7009,2,    213.7,2,   214.0,2,  143.49,2,   32.57,2,    0.00,2,    2.24,2,   0.403,2,   0.199,2,   0.018,2,   0.1120,2,  2264.9,2,  2364.7,2,   7.5951,6,    25.00,-999.000,9,-999.0000,9,-999.000,9,   0.3648,2,    0.53,2,  -154.9,2,     2.4,-999.000,9, -999.00,9,-999.000,9,   40.46,2,   34.77,2, -67.0001,-109.7088,-999.000,     -999.0,    34.8646,2,     -999.0,9,     -999.0,9,-999.0000,9,-999.0000,9,-999.0000,9,-999.0000,9,-999.0000,9,-999.0000,9,-999.0000,9,-999.0000,9,-999.0000,9,-999.0000,-999.000,   0.0445,     -999.0,     -999.0,9,     -999.0,9,     -999.0,9,     -999.0,9,     -999.0,20110408,       1327