BOTTLE,20220813CCHSIOAMB
EXPOCODE,SECT_ID,STNNBR,CASTNO,SAMPNO,BTLNBR,BTLNBR_FLAG_W,DATE,TIME,LATITUDE,LONGITUDE,DEPTH,CTDPRS,CTDTMP,CTDSAL,CTDSAL_FLAG_W,SALNTY,SALNTY_FLAG_W,CTDOXY,CTDOXY_FLAG_W,OXYGEN,OXYGEN_FLAG_W,SILCAT,SILCAT_FLAG_W,NITRAT,NITRAT_FLAG_W,NITRIT,NITRIT_FLAG_W,PHSPHT,PHSPHT_FLAG_W,CFC-11,CFC-11_FLAG_W,CFC-12,CFC-12_FLAG_W,CFC113,CFC113_FLAG_W,SF6,SF6_FLAG_W,TCARBN,TCARBN_FLAG_W,ALKALI,ALKALI_FLAG_W,PH_TOT,PH_TOT_FLAG_W,PH_TMP,TRITUM,TRITUM_FLAG_W,HELIUM,HELIUM_FLAG_W,DELHE3,DELHE3_FLAG_W,REFTMP,REFTMP_FLAG_W,DELC13,DELC13_FLAG_W,DELC14,DELC14_FLAG_W,C14ERR,NEON,NEON_FLAG_W,DELO18,DELO18_FLAG_W,POC,POC_FLAG_W,DOC,DOC_FLAG_W,TDN,TDN_FLAG_W,BTL_LAT,BTL_LON,TRITER,NEONER,SALTREF,SALTREF_FLAG_W,PIGMENTS,PIGMENTS_FLAG_W,LAB_DEN,LAB_DEN_FLAG_W,CDOM325,CDOM325_FLAG_W,CDOM340,CDOM340_FLAG_W,CDOM380,CDOM380_FLAG_W,CDOM412,CDOM412_FLAG_W,CDOM443,CDOM443_FLAG_W,CDOM490,CDOM490_FLAG_W,CDOM555,CDOM555_FLAG_W,CDOMSL,CDOMSL_FLAG_W,CDOMSN,CDOMSN_FLAG_W,HELIER,DELHER,THETA,LDEO_SAMPNO,ABSORBTION,ABSORBTION_FLAG_W,IMAGE_COUNT,IMAGE_COUNT_FLAG_W,CYTO_COUNT,CYTO_COUNT_FLAG_W,DELD,DELD_FLAG_W,DELDERR,BTL_DATE,BTL_TIME
,,,,,,,,,,,METERS,DBAR,ITS-90,PSS-78,,PSS-78,,UMOL/KG,,UMOL/KG,,UMOL/KG,,UMOL/KG,,UMOL/KG,,UMOL/KG,,PMOL/KG,,PMOL/KG,,PMOL/KG,,FMOL/KG,,UMOL/KG,,UMOL/KG,,,,DEG C,TU,,NMOL/KG,,PERCNT,,DEG C,,/MILLE,,/MILLE,,/MILLE,NMOL/KG,,/MILLE,,UG/KG,,UMOL/KG,,UMOL/KG,,,,TU,NMOL/KG,G/KG,,,,,,1/M,,1/M,,1/M,,1/M,,1/M,,1/M,,1/M,,1/NM,,1/NM,,NMOL/KG,PERCNT,DEG C,,,,,,,,/MILLE,,/MILLE,,
320620110219,       S04P,      17,          1,         13,         13,2,20110228,       1702,   -67.2503,   174.4691,       3276,  1466.0,   0.8053,  34.7125,2,  34.7122,2,    201.0,2,   201.0,2,  120.74,2,   32.62,2,    0.00,2,    2.14,4,   0.083,2,   0.049,2,   0.013,2,   0.0130,2,  2264.1,2,  2358.9,2,   7.5885,2,    25.00,-999.000,9,-999.0000,9,-999.000,9,   0.8055,2, -999.00,9,  -999.0,9,  -999.0,-999.000,9, -999.00,9,-999.000,9,   39.01,2,   35.59,2, -67.2503, 174.4691,-999.000,     -999.0,    34.8759,2,     -999.0,9,     -999.0,9,-999.0000,9,-999.0000,9,-999.0000,9,-999.0000,9,-999.0000,9,-999.0000,9,-999.0000,9,-999.0000,9,-999.0000,9,-999.0000,-999.000,   0.7250,     -999.0,     -999.0,9,     -999.0,9,     -999.0,9,     -999.0,9,     -999.0,20110228,       1749
320620110219,       S04P,      17,          1,         12,         12,2,20110228,       1702,   -67.2503,   174.4691,       3276,  1564.2,   0.7630,  34.7109,2,  34.7109,2,    201.9,2,   202.2,2,  122.02,2,   32.66,2,    0.00,2,    2.15,4,-999.000,9,-999.000,9,-999.000,9,-999.0000,9,  -999.0,9,  -999.0,9,-999.0000,9,  -999.00,-999.000,9,-999.0000,9,-999.000,9,   0.7632,2, -999.00,9,  -999.0,9,  -999.0,-999.000,9, -999.00,9,-999.000,9,   39.67,2,   35.97,2, -67.2503, 174.4690,-999.000,     -999.0,    34.8745,2,     -999.0,9,     -999.0,9,-999.0000,9,-999.0000,9,-999.0000,9,-999.0000,9,-999.0000,9,-999.0000,9,-999.0000,9,-999.0000,9,-999.0000,9,-999.0000,-999.000,   0.6765,     -999.0,     -999.0,9,     -999.0,9,     -999.0,9,     -999.0,9,     -999.0,20110228,       1746
320620110219,       S04P,      17,          1,         11,         11,2,20110228,       1702,   -67.2503,   174.4691,       3276,  1665.3,   0.7259,  34.7100,2,  34.7099,2,    202.8,2,   202.9,2,  123.09,2,   32.73,2,    0.00,2,    2.17,4,   0.098,2,   0.054,2,   0.014,2,   0.0260,2,  -999.0,9,  -999.0,9,-999.0000,9,  -999.00,-999.000,9,-999.0000,9,-999.000,9,   0.7260,2, -999.00,9,  -999.0,9,  -999.0,-999.000,9, -999.00,9,-999.000,9,   39.71,2,   35.55,2, -67.2503, 174.4690,-999.000,     -999.0,    34.8736,2,     -999.0,9,     -999.0,9,-999.0000,9,-999.0000,9,-999.0000,9,-999.0000,9,-999.0000,9,-999.0000,9,-999.0000,9,-999.0000,9,-999.0000,9,-999.0000,-999.000,   0.6329,     -999.0,     -999.0,9,     -999.0,9,     -999.0,9,     -999.0,9,     -999.0,20110228,       1744
320620110219,       S04P,      17,          1,         10,         10,2,20110228,       1702,   -67.2503,   174.4691,       3276,  1765.0,   0.6929,  34.7087,2,  34.7083,2,    203.7,2,   203.8,2,  124.04,2,   32.78,2,    0.00,2,    2.18,2,-999.000,9,-999.000,9,-999.000,9,-999.0000,9,  2262.6,2,  2359.7,2,   7.5862,2,    25.00,-999.000,9,-999.0000,9,-999.000,9,   0.6930,2, -999.00,9,  -999.0,9,  -999.0,-999.000,9, -999.00,9,-999.000,9,   40.04,2,   36.02,2, -67.2503, 174.4690,-999.000,     -999.0,    34.8720,2,     -999.0,9,     -999.0,9,-999.0000,9,-999.0000,9,-999.0000,9,-999.0000,9,-999.0000,9,-999.0000,9,-999.0000,9,-999.0000,9,-999.0000,9,-999.0000,-999.000,   0.5934,     -999.0,     -999.0,9,     -999.0,9,     -999.0,9,     -999.0,9,     -999.0,20110228,       1741
320620110219,       S04P,      17,          1,          9,          9,2,20110228,       1702,   -67.2503,   174.4691,       3276,  1935.7,   0.6248,  34.7073,2,  34.7074,2,    205.4,2,   204.8,2,  125.74,2,   32.80,2,    0.00,2,    2.18,2,   0.109,2,   0.057,2,   0.014,2,   0.0530,2,  -999.0,9,  -999.0,9,-999.0000,9,  -999.00,-999.000,9,-999.0000,9,-999.000,9,   0.6244,2, -999.00,9,  -999.0,9,  -999.0,-999.000,9, -999.00,9,-999.000,9,   40.32,2,   35.64,2, -67.2503, 174.4690,-999.000,     -999.0,    34.8710,2,     -999.0,9,     -999.0,9,-999.0000,9,-999.0000,9,-999.0000,9,-999.0000,9,-999.0000,9,-999.0000,9,-999.0000,9,-999.0000,9,-999.0000,9,-999.0000,-999.000,   0.5139,     -999.0,     -999.0,9,     -999.0,9,     -999.0,9,     -999.0,9,     -999.0,20110228,       1736
320620110219,       S04P,      17,          1,          8,          8,2,20110228,       1702,   -67.2503,   174.4691,       3276,  2134.0,   0.5530,  34.7056,2,  34.7052,2,    207.0,2,   207.2,2,  126.84,2,   32.91,2,    0.00,2,    2.19,2,-999.000,9,-999.000,9,-999.000,9,-999.0000,9,  -999.0,9,  -999.0,9,-999.0000,9,  -999.00,-999.000,9,-999.0000,9,-999.000,9,   0.5532,2, -999.00,9,  -999.0,9,  -999.0,-999.000,9, -999.00,9,-999.000,9,   40.46,2,   35.63,2, -67.2503, 174.4690,-999.000,     -999.0,    34.8688,2,     -999.0,9,     -999.0,9,-999.0000,9,-999.0000,9,-999.0000,9,-999.0000,9,-999.0000,9,-999.0000,9,-999.0000,9,-999.0000,9,-999.0000,9,-999.0000,-999.000,   0.4285,     -999.0,     -999.0,9,     -999.0,9,     -999.0,9,     -999.0,9,     -999.0,20110228,       1732
320620110219,       S04P,      17,          1,          7,          7,2,20110228,       1702,   -67.2503,   174.4691,       3276,  2334.9,   0.4892,  34.7035,2,  34.7034,2,    208.9,2,   209.4,2,  127.89,2,   32.81,2,    0.00,2,    2.19,2,   0.179,2,   0.104,2,   0.019,2,   0.0870,2,  2264.1,2,  2359.3,2,   7.5891,2,    25.00,-999.000,9,-999.0000,9,-999.000,9,   0.4890,2, -999.00,9,  -999.0,9,  -999.0,-999.000,9, -999.00,9,-999.000,9,   40.05,2,   35.52,2, -67.2503, 174.4690,-999.000,     -999.0,    34.8671,2,     -999.0,9,     -999.0,9,-999.0000,9,-999.0000,9,-999.0000,9,-999.0000,9,-999.0000,9,-999.0000,9,-999.0000,9,-999.0000,9,-999.0000,9,-999.0000,-999.000,   0.3503,     -999.0,     -999.0,9,     -999.0,9,     -999.0,9,     -999.0,9,     -999.0,20110228,       1727
320620110219,       S04P,      17,          1,          6,          6,2,20110228,       1702,   -67.2503,   174.4691,       3276,  2533.3,   0.4370,  34.7017,2,  34.7013,2,    210.5,2,   210.2,2,  128.07,2,   32.80,2,    0.00,2,    2.20,2,-999.000,9,-999.000,9,-999.000,9,-999.0000,9,  -999.0,9,  -999.0,9,-999.0000,9,  -999.00,-999.000,9,-999.0000,9,-999.000,9,   0.4368,2, -999.00,9,  -999.0,9,  -999.0,-999.000,9, -999.00,9,-999.000,9,   40.06,2,   35.88,2, -67.2503, 174.4691,-999.000,     -999.0,    34.8649,2,     -999.0,9,     -999.0,9,-999.0000,9,-999.0000,9,-999.0000,9,-999.0000,9,-999.0000,9,-999.0000,9,-999.0000,9,-999.0000,9,-999.0000,9,-999.0000,-999.000,   0.2832,     -999.0,     -999.0,9,     -999.0,9,     -999.0,9,     -999.0,9,     -999.0,20110228,       1723
320620110219,       S04P,      17,          1,          5,          5,2,20110228,       1702,   -67.2503,   174.4691,       3276,  2733.6,   0.3774,  34.6982,2,  34.6980,2,    212.6,2,   212.6,2,  126.70,2,   32.79,2,    0.00,2,    2.20,2,   0.354,2,   0.199,2,   0.019,2,   0.1530,2,  -999.0,9,  -999.0,9,-999.0000,9,  -999.00,-999.000,9,-999.0000,9,-999.000,9,   0.3771,2, -999.00,9,  -999.0,9,  -999.0,-999.000,9, -999.00,9,-999.000,9,   40.38,2,   35.07,2, -67.2503, 174.4691,-999.000,     -999.0,    34.8616,2,     -999.0,9,     -999.0,9,-999.0000,9,-999.0000,9,-999.0000,9,-999.0000,9,-999.0000,9,-999.0000,9,-999.0000,9,-999.0000,9,-999.0000,9,-999.0000,-999.000,   0.2083,     -999.0,     -999.0,9,     -999.0,9,     -999.0,9,     -999.0,9,     -999.0,20110228,       1718
320620110219,       S04P,      17,          1,          4,          4,2,20110228,       1702,   -67.2503,   174.4691,       3276,  2934.2,   0.3293,  34.6963,2,  34.6958,2,    214.6,2,   214.6,2,  126.63,2,   32.81,2,    0.00,2,    2.21,2,   0.480,2,   0.274,2,   0.038,2,   0.1200,2,  2262.8,2,  2359.1,2,   7.5880,2,    25.00,-999.000,9,-999.0000,9,-999.000,9,   0.3294,2, -999.00,9,  -999.0,9,  -999.0,-999.000,9, -999.00,9,-999.000,9,   40.64,2,   35.60,2, -67.2503, 174.4690,-999.000,     -999.0,    34.8594,2,     -999.0,9,     -999.0,9,-999.0000,9,-999.0000,9,-999.0000,9,-999.0000,9,-999.0000,9,-999.0000,9,-999.0000,9,-999.0000,9,-999.0000,9,-999.0000,-999.000,   0.1441,     -999.0,     -999.0,9,     -999.0,9,     -999.0,9,     -999.0,9,     -999.0,20110228,       1713
320620110219,       S04P,      17,          1,          3,          3,2,20110228,       1702,   -67.2503,   174.4691,       3276,  3199.5,   0.2588,  34.6921,2,  34.6917,2,    217.4,2,   217.2,2,  125.02,2,   32.80,2,    0.00,2,    2.21,2,   0.677,2,   0.393,2,   0.047,2,   0.1990,2,  2262.2,2,  2357.5,2,   7.5858,6,    25.00,-999.000,9,-999.0000,9,-999.000,9,   0.2595,2, -999.00,9,  -999.0,9,  -999.0,-999.000,9, -999.00,9,-999.000,9,   40.28,2,   35.67,2, -67.2503, 174.4690,-999.000,     -999.0,    34.8553,2,     -999.0,9,     -999.0,9,-999.0000,9,-999.0000,9,-999.0000,9,-999.0000,9,-999.0000,9,-999.0000,9,-999.0000,9,-999.0000,9,-999.0000,9,-999.0000,-999.000,   0.0518,     -999.0,     -999.0,9,     -999.0,9,     -999.0,9,     -999.0,9,     -999.0,20110228,       1707
320620110219,       S04P,      17,          1,          2,          2,2,20110228,       1702,   -67.2503,   174.4691,       3276,  3291.1,   0.2112,  34.6887,2,  34.6888,2,    219.7,2,   219.1,2,  122.86,2,   32.75,2,    0.00,2,    2.22,2,   0.854,2,   0.483,2,   0.078,2,   0.3200,2,  2260.4,2,  2357.8,6,   7.5849,2,    25.00,-999.000,9,-999.0000,9,-999.000,9,   0.2105,2, -999.00,9,  -999.0,9,  -999.0,-999.000,9, -999.00,9,-999.000,9,   40.29,2,   35.45,2, -67.2503, 174.4690,-999.000,     -999.0,    34.8523,2,     -999.0,9,     -999.0,9,-999.0000,9,-999.0000,9,-999.0000,9,-999.0000,9,-999.0000,9,-999.0000,9,-999.0000,9,-999.0000,9,-999.0000,9,-999.0000,-999.000,  -0.0029,     -999.0,     -999.0,9,     -999.0,9,     -999.0,9,     -999.0,9,     -999.0,20110228,       1704
320620110219,       S04P,      17,          1,          1,          1,2,20110228,       1702,   -67.2503,   174.4691,       3276,  3325.6,   0.1972,  34.6875,2,  34.6878,2,    220.5,2,   220.7,2,  122.24,2,   32.72,2,    0.00,2,    2.24,2,   0.912,2,   0.522,2,   0.080,2,   0.3090,2,  2262.0,6,  2356.5,2,   7.5844,2,    25.00,-999.000,9,-999.0000,9,-999.000,9,   0.1964,2, -999.00,9,  -999.0,9,  -999.0,-999.000,9,   -0.22,2,-999.000,9,   40.47,2,   35.25,2, -67.2503, 174.4691,-999.000,     -999.0,    34.8513,2,     -999.0,9,     -999.0,9,-999.0000,9,-999.0000,9,-999.0000,9,-999.0000,9,-999.0000,9,-999.0000,9,-999.0000,9,-999.0000,9,-999.0000,9,-999.0000,-999.000,  -0.0197,     -999.0,     -999.0,9,     -999.0,9,     -999.0,9,      -2.62,2,       0.04,20110228,       1702