BOTTLE,20220813CCHSIOAMB
EXPOCODE,SECT_ID,STNNBR,CASTNO,SAMPNO,BTLNBR,BTLNBR_FLAG_W,DATE,TIME,LATITUDE,LONGITUDE,DEPTH,CTDPRS,CTDTMP,CTDSAL,CTDSAL_FLAG_W,SALNTY,SALNTY_FLAG_W,CTDOXY,CTDOXY_FLAG_W,OXYGEN,OXYGEN_FLAG_W,SILCAT,SILCAT_FLAG_W,NITRAT,NITRAT_FLAG_W,NITRIT,NITRIT_FLAG_W,PHSPHT,PHSPHT_FLAG_W,CFC-11,CFC-11_FLAG_W,CFC-12,CFC-12_FLAG_W,CFC113,CFC113_FLAG_W,SF6,SF6_FLAG_W,TCARBN,TCARBN_FLAG_W,ALKALI,ALKALI_FLAG_W,PH_TOT,PH_TOT_FLAG_W,PH_TMP,TRITUM,TRITUM_FLAG_W,HELIUM,HELIUM_FLAG_W,DELHE3,DELHE3_FLAG_W,REFTMP,REFTMP_FLAG_W,DELC13,DELC13_FLAG_W,DELC14,DELC14_FLAG_W,C14ERR,NEON,NEON_FLAG_W,DELO18,DELO18_FLAG_W,POC,POC_FLAG_W,DOC,DOC_FLAG_W,TDN,TDN_FLAG_W,BTL_LAT,BTL_LON,TRITER,NEONER,SALTREF,SALTREF_FLAG_W,PIGMENTS,PIGMENTS_FLAG_W,LAB_DEN,LAB_DEN_FLAG_W,CDOM325,CDOM325_FLAG_W,CDOM340,CDOM340_FLAG_W,CDOM380,CDOM380_FLAG_W,CDOM412,CDOM412_FLAG_W,CDOM443,CDOM443_FLAG_W,CDOM490,CDOM490_FLAG_W,CDOM555,CDOM555_FLAG_W,CDOMSL,CDOMSL_FLAG_W,CDOMSN,CDOMSN_FLAG_W,HELIER,DELHER,THETA,LDEO_SAMPNO,ABSORBTION,ABSORBTION_FLAG_W,IMAGE_COUNT,IMAGE_COUNT_FLAG_W,CYTO_COUNT,CYTO_COUNT_FLAG_W,DELD,DELD_FLAG_W,DELDERR,BTL_DATE,BTL_TIME
,,,,,,,,,,,METERS,DBAR,ITS-90,PSS-78,,PSS-78,,UMOL/KG,,UMOL/KG,,UMOL/KG,,UMOL/KG,,UMOL/KG,,UMOL/KG,,PMOL/KG,,PMOL/KG,,PMOL/KG,,FMOL/KG,,UMOL/KG,,UMOL/KG,,,,DEG C,TU,,NMOL/KG,,PERCNT,,DEG C,,/MILLE,,/MILLE,,/MILLE,NMOL/KG,,/MILLE,,UG/KG,,UMOL/KG,,UMOL/KG,,,,TU,NMOL/KG,G/KG,,,,,,1/M,,1/M,,1/M,,1/M,,1/M,,1/M,,1/M,,1/NM,,1/NM,,NMOL/KG,PERCNT,DEG C,,,,,,,,/MILLE,,/MILLE,,
320620110219,       S04P,     119,          1,         13,         13,2,20110413,       0132,   -67.0000,  -102.0310,       4728,  1800.5,   1.2932,  34.7272,2,  34.7274,2,    196.1,2,   196.3,2,  103.82,2,   31.64,2,    0.00,2,    2.19,2,   0.164,2,   0.078,2,   0.009,2,-999.0000,9,  -999.0,9,  -999.0,9,-999.0000,9,  -999.00,   0.008,2,   1.9233,2,    9.74,2,   1.2935,2, -999.00,9,  -999.0,9,  -999.0,   8.296,2, -999.00,9,-999.000,9,   39.49,2,   34.25,2, -67.0000,-102.0310,   0.013,      0.042,    34.8911,2,     -999.0,9,     -999.0,9,-999.0000,9,-999.0000,9,-999.0000,9,-999.0000,9,-999.0000,9,-999.0000,9,-999.0000,9,-999.0000,9,-999.0000,9,   0.0092,    0.14,   1.1827,     -999.0,     -999.0,9,     -999.0,9,     -999.0,9,     -999.0,9,     -999.0,20110413,       0234
320620110219,       S04P,     119,          1,         12,         12,2,20110413,       0132,   -67.0000,  -102.0310,       4728,  2000.6,   1.1829,  34.7238,2,  34.7234,2,    197.7,2,   197.8,2,  107.79,2,   31.80,2,    0.00,2,    2.19,2,-999.000,9,-999.000,9,-999.000,9,-999.0000,9,  2259.5,2,  2359.9,2,   7.6019,2,    25.00,-999.000,9,-999.0000,9,-999.000,9,   1.1828,2, -999.00,9,  -999.0,9,  -999.0,-999.000,9, -999.00,9,-999.000,9,   39.57,2,   34.19,2, -67.0000,-102.0310,-999.000,     -999.0,    34.8872,2,     -999.0,9,     -999.0,9,-999.0000,9,-999.0000,9,-999.0000,9,-999.0000,9,-999.0000,9,-999.0000,9,-999.0000,9,-999.0000,9,-999.0000,9,-999.0000,-999.000,   1.0586,     -999.0,     -999.0,9,     -999.0,9,     -999.0,9,     -999.0,9,     -999.0,20110413,       0229
320620110219,       S04P,     119,          1,         11,         11,2,20110413,       0132,   -67.0000,  -102.0310,       4728,  2249.7,   1.0518,  34.7190,2,  34.7189,2,    200.0,2,   200.2,2,  112.33,2,   32.00,2,    0.00,2,    2.20,2,   0.155,2,   0.069,2,   0.010,2,-999.0000,9,  -999.0,9,  -999.0,9,-999.0000,9,  -999.00,   0.004,6,   1.9593,2,    9.89,2,   1.0518,2, -999.00,9,  -999.0,9,  -999.0,   8.475,2, -999.00,9,-999.000,9,   39.24,2,   34.71,2, -67.0000,-102.0310,   0.010,      0.043,    34.8826,2,     -999.0,9,     -999.0,9,-999.0000,9,-999.0000,9,-999.0000,9,-999.0000,9,-999.0000,9,-999.0000,9,-999.0000,9,-999.0000,9,-999.0000,9,   0.0094,    0.14,   0.9098,     -999.0,     -999.0,9,     -999.0,9,     -999.0,9,     -999.0,9,     -999.0,20110413,       0224
320620110219,       S04P,     119,          1,         10,         37,2,20110413,       0132,   -67.0000,  -102.0310,       4728,  2500.3,   0.9424,  34.7147,2,  34.7148,2,    202.1,2,   202.1,2,  115.23,2,   32.12,2,    0.00,2,    2.22,2,-999.000,9,-999.000,9,-999.000,9,-999.0000,9,  2259.8,2,  2361.6,2,   7.6002,2,    25.00,-999.000,9,-999.0000,9,-999.000,9,   0.9429,2, -999.00,9,  -999.0,9,  -999.0,-999.000,9, -999.00,9,-999.000,9,   39.05,2,   34.85,2, -67.0000,-102.0310,-999.000,     -999.0,    34.8785,2,     -999.0,9,     -999.0,9,-999.0000,9,-999.0000,9,-999.0000,9,-999.0000,9,-999.0000,9,-999.0000,9,-999.0000,9,-999.0000,9,-999.0000,9,-999.0000,-999.000,   0.7816,     -999.0,     -999.0,9,     -999.0,9,     -999.0,9,     -999.0,9,     -999.0,20110413,       0219
320620110219,       S04P,     119,          1,          9,          9,2,20110413,       0132,   -67.0000,  -102.0310,       4728,  2749.3,   0.8408,  34.7109,2,  34.7106,2,    203.8,2,   204.1,2,  120.86,2,   32.31,2,    0.00,2,    2.22,2,   0.189,2,   0.083,2,   0.012,2,-999.0000,9,  -999.0,9,  -999.0,9,-999.0000,9,  -999.00,   0.016,2,   1.9432,2,   10.49,2,   0.8407,2, -999.00,9,  -999.0,9,  -999.0,   8.414,2, -999.00,9,-999.000,9,   39.49,2,   34.30,2, -67.0000,-102.0310,   0.013,      0.043,    34.8743,2,     -999.0,9,     -999.0,9,-999.0000,9,-999.0000,9,-999.0000,9,-999.0000,9,-999.0000,9,-999.0000,9,-999.0000,9,-999.0000,9,-999.0000,9,   0.0093,    0.14,   0.6607,     -999.0,     -999.0,9,     -999.0,9,     -999.0,9,     -999.0,9,     -999.0,20110413,       0214
320620110219,       S04P,     119,          1,          8,          8,2,20110413,       0132,   -67.0000,  -102.0310,       4728,  3000.2,   0.7404,  34.7077,2,  34.7077,2,    205.5,2,   206.0,2,  122.04,2,   32.40,2,    0.00,2,    2.24,2,-999.000,9,-999.000,9,-999.000,9,-999.0000,9,  2258.6,2,  2361.4,2,   7.5985,2,    25.00,-999.000,9,-999.0000,9,-999.000,9,   0.7403,2, -999.00,9,  -999.0,9,  -999.0,-999.000,9, -999.00,9,-999.000,9,   40.04,2,   34.49,2, -67.0000,-102.0310,-999.000,     -999.0,    34.8714,2,     -999.0,9,     -999.0,9,-999.0000,9,-999.0000,9,-999.0000,9,-999.0000,9,-999.0000,9,-999.0000,9,-999.0000,9,-999.0000,9,-999.0000,9,-999.0000,-999.000,   0.5402,     -999.0,     -999.0,9,     -999.0,9,     -999.0,9,     -999.0,9,     -999.0,20110413,       0209
320620110219,       S04P,     119,          1,          7,          7,2,20110413,       0132,   -67.0000,  -102.0310,       4728,  3299.8,   0.6133,  34.7051,2,  34.7045,2,    208.3,2,   208.7,2,  126.68,2,   32.49,2,    0.00,2,    2.24,2,   0.247,2,   0.117,2,   0.015,2,-999.0000,9,  -999.0,9,  -999.0,9,-999.0000,9,  -999.00,  -0.017,2,   1.9715,2,   10.05,2,   0.6135,2, -999.00,9,  -999.0,9,  -999.0,   8.533,2, -999.00,9,-999.000,9,   39.94,2,   34.81,2, -67.0000,-102.0310,   0.013,      0.044,    34.8682,2,     -999.0,9,     -999.0,9,-999.0000,9,-999.0000,9,-999.0000,9,-999.0000,9,-999.0000,9,-999.0000,9,-999.0000,9,-999.0000,9,-999.0000,9,   0.0095,    0.14,   0.3885,     -999.0,     -999.0,9,     -999.0,9,     -999.0,9,     -999.0,9,     -999.0,20110413,       0203
320620110219,       S04P,     119,          1,          6,          6,2,20110413,       0132,   -67.0000,  -102.0310,       4728,  3600.2,   0.5193,  34.7038,2,  34.7035,2,    210.5,2,   210.7,2,  128.90,2,   32.43,2,    0.00,2,    2.24,2,-999.000,9,-999.000,9,-999.000,9,-999.0000,9,  2262.2,2,  2361.9,2,   7.5973,2,    25.00,-999.000,9,-999.0000,9,-999.000,9,   0.5196,2, -999.00,9,  -999.0,9,  -999.0,-999.000,9, -999.00,9,-999.000,9,   39.70,2,   35.30,2, -67.0000,-102.0310,-999.000,     -999.0,    34.8672,2,     -999.0,9,     -999.0,9,-999.0000,9,-999.0000,9,-999.0000,9,-999.0000,9,-999.0000,9,-999.0000,9,-999.0000,9,-999.0000,9,-999.0000,9,-999.0000,-999.000,   0.2681,     -999.0,     -999.0,9,     -999.0,9,     -999.0,9,     -999.0,9,     -999.0,20110413,       0157
320620110219,       S04P,     119,          1,          5,          5,2,20110413,       0132,   -67.0000,  -102.0310,       4728,  3898.9,   0.4503,  34.7031,2,  34.7030,2,    212.1,2,   212.6,2,  131.33,2,   32.44,2,    0.00,2,    2.24,2,   0.269,2,   0.124,2,   0.014,2,-999.0000,9,  -999.0,9,  -999.0,9,-999.0000,9,  -999.00,   0.006,2,   1.9192,2,    9.20,2,   0.4501,2, -999.00,9,  -999.0,9,  -999.0,   8.457,2,   -0.09,2,-999.000,9,   40.48,2,   34.97,2, -67.0000,-102.0310,   0.012,      0.043,    34.8666,2,     -999.0,9,     -999.0,9,-999.0000,9,-999.0000,9,-999.0000,9,-999.0000,9,-999.0000,9,-999.0000,9,-999.0000,9,-999.0000,9,-999.0000,9,   0.0092,    0.14,   0.1713,     -999.0,     -999.0,9,     -999.0,9,     -999.0,9,      -2.20,2,       0.04,20110413,       0151
320620110219,       S04P,     119,          1,          4,          4,2,20110413,       0132,   -67.0000,  -102.0310,       4728,  4200.5,   0.4105,  34.7024,2,  34.7018,2,    213.5,2,   213.6,2,  133.75,2,   32.49,2,    0.00,2,    2.24,2,-999.000,9,-999.000,9,-999.000,9,-999.0000,9,  2261.8,2,  2362.3,6,   7.5980,2,    25.00,-999.000,9,-999.0000,9,-999.000,9,   0.4101,2, -999.00,9,  -999.0,9,  -999.0,-999.000,9, -999.00,9,-999.000,9,   40.49,2,   35.10,2, -67.0000,-102.0310,-999.000,     -999.0,    34.8654,2,     -999.0,9,     -999.0,9,-999.0000,9,-999.0000,9,-999.0000,9,-999.0000,9,-999.0000,9,-999.0000,9,-999.0000,9,-999.0000,9,-999.0000,9,-999.0000,-999.000,   0.1015,     -999.0,     -999.0,9,     -999.0,9,     -999.0,9,     -999.0,9,     -999.0,20110413,       0146
320620110219,       S04P,     119,          1,          3,          3,2,20110413,       0132,   -67.0000,  -102.0310,       4728,  4499.6,   0.3963,  34.7017,2,  34.7014,2,    214.6,2,   214.4,2,  136.75,2,   32.57,2,    0.00,2,    2.24,2,   0.374,2,   0.177,2,   0.016,2,-999.0000,9,  2262.6,2,  2362.5,2,   7.5980,2,    25.00,   0.024,2,-999.0000,9,-999.000,9,   0.3958,2, -999.00,9,  -999.0,9,  -999.0,-999.000,9,   -0.14,2,-999.000,9,   40.42,2,   35.39,2, -67.0000,-102.0310,   0.013,     -999.0,    34.8650,2,     -999.0,9,     -999.0,9,-999.0000,9,-999.0000,9,-999.0000,9,-999.0000,9,-999.0000,9,-999.0000,9,-999.0000,9,-999.0000,9,-999.0000,9,-999.0000,-999.000,   0.0557,     -999.0,     -999.0,9,     -999.0,9,     -999.0,9,      -2.44,2,       0.03,20110413,       0140
320620110219,       S04P,     119,          1,          2,          2,2,20110413,       0132,   -67.0000,  -102.0310,       4728,  4699.5,   0.3961,  34.7009,2,  34.7015,2,    214.5,2,   214.2,2,  142.09,2,   32.61,2,    0.00,2,    2.25,2,   0.446,2,   0.210,2,   0.016,2,-999.0000,9,  2263.6,2,  2362.9,2,   7.5953,6,    25.00,-999.000,9,-999.0000,9,-999.000,9,   0.3957,2, -999.00,9,  -999.0,9,  -999.0,-999.000,9, -999.00,9,-999.000,9,   40.55,2,   34.65,2, -67.0000,-102.0310,-999.000,     -999.0,    34.8652,2,     -999.0,9,     -999.0,9,-999.0000,9,-999.0000,9,-999.0000,9,-999.0000,9,-999.0000,9,-999.0000,9,-999.0000,9,-999.0000,9,-999.0000,9,-999.0000,-999.000,   0.0335,     -999.0,     -999.0,9,     -999.0,9,     -999.0,9,     -999.0,9,     -999.0,20110413,       0135
320620110219,       S04P,     119,          1,          1,          1,2,20110413,       0132,   -67.0000,  -102.0310,       4728,  4816.0,   0.4074,  34.7007,2,  34.7004,2,    214.1,2,   214.6,2,  143.33,2,   32.55,2,    0.00,2,    2.25,2,   0.504,2,   0.238,2,   0.021,2,-999.0000,9,  2264.5,6,  2363.0,2,   7.5940,2,    25.00,  -0.008,2,   1.9304,2,    8.62,2,   0.4070,2, -999.00,9,  -999.0,9,  -999.0,   8.478,2,   -0.22,3,-999.000,9,   40.08,2,   34.99,2, -67.0000,-102.0310,   0.013,      0.043,    34.8640,2,     -999.0,9,     -999.0,9,-999.0000,9,-999.0000,9,-999.0000,9,-999.0000,9,-999.0000,9,-999.0000,9,-999.0000,9,-999.0000,9,-999.0000,9,   0.0093,    0.14,   0.0313,     -999.0,     -999.0,9,     -999.0,9,     -999.0,9,      -2.21,3,       0.04,20110413,       0132