BOTTLE,20220813CCHSIOAMB
EXPOCODE,SECT_ID,STNNBR,CASTNO,SAMPNO,BTLNBR,BTLNBR_FLAG_W,DATE,TIME,LATITUDE,LONGITUDE,DEPTH,CTDPRS,CTDTMP,CTDSAL,CTDSAL_FLAG_W,SALNTY,SALNTY_FLAG_W,CTDOXY,CTDOXY_FLAG_W,OXYGEN,OXYGEN_FLAG_W,SILCAT,SILCAT_FLAG_W,NITRAT,NITRAT_FLAG_W,NITRIT,NITRIT_FLAG_W,PHSPHT,PHSPHT_FLAG_W,CFC-11,CFC-11_FLAG_W,CFC-12,CFC-12_FLAG_W,CFC113,CFC113_FLAG_W,SF6,SF6_FLAG_W,TCARBN,TCARBN_FLAG_W,ALKALI,ALKALI_FLAG_W,PH_TOT,PH_TOT_FLAG_W,PH_TMP,TRITUM,TRITUM_FLAG_W,HELIUM,HELIUM_FLAG_W,DELHE3,DELHE3_FLAG_W,REFTMP,REFTMP_FLAG_W,DELC13,DELC13_FLAG_W,DELC14,DELC14_FLAG_W,C14ERR,NEON,NEON_FLAG_W,DELO18,DELO18_FLAG_W,POC,POC_FLAG_W,DOC,DOC_FLAG_W,TDN,TDN_FLAG_W,BTL_LAT,BTL_LON,TRITER,NEONER,SALTREF,SALTREF_FLAG_W,PIGMENTS,PIGMENTS_FLAG_W,LAB_DEN,LAB_DEN_FLAG_W,CDOM325,CDOM325_FLAG_W,CDOM340,CDOM340_FLAG_W,CDOM380,CDOM380_FLAG_W,CDOM412,CDOM412_FLAG_W,CDOM443,CDOM443_FLAG_W,CDOM490,CDOM490_FLAG_W,CDOM555,CDOM555_FLAG_W,CDOMSL,CDOMSL_FLAG_W,CDOMSN,CDOMSN_FLAG_W,HELIER,DELHER,THETA,LDEO_SAMPNO,ABSORBTION,ABSORBTION_FLAG_W,IMAGE_COUNT,IMAGE_COUNT_FLAG_W,CYTO_COUNT,CYTO_COUNT_FLAG_W,DELD,DELD_FLAG_W,DELDERR,BTL_DATE,BTL_TIME
,,,,,,,,,,,METERS,DBAR,ITS-90,PSS-78,,PSS-78,,UMOL/KG,,UMOL/KG,,UMOL/KG,,UMOL/KG,,UMOL/KG,,UMOL/KG,,PMOL/KG,,PMOL/KG,,PMOL/KG,,FMOL/KG,,UMOL/KG,,UMOL/KG,,,,DEG C,TU,,NMOL/KG,,PERCNT,,DEG C,,/MILLE,,/MILLE,,/MILLE,NMOL/KG,,/MILLE,,UG/KG,,UMOL/KG,,UMOL/KG,,,,TU,NMOL/KG,G/KG,,,,,,1/M,,1/M,,1/M,,1/M,,1/M,,1/M,,1/M,,1/NM,,1/NM,,NMOL/KG,PERCNT,DEG C,,,,,,,,/MILLE,,/MILLE,,
320620110219,       S04P,       4,          1,         20,         20,9,20110223,       0242,   -70.4652,   168.4218,        863,     1.5,  -1.2982,  34.1500,2,-999.0000,9,   -999.0,5,  -999.0,9, -999.00,9, -999.00,9, -999.00,9, -999.00,9,-999.000,9,-999.000,9,-999.000,9,-999.0000,9,  -999.0,9,  -999.0,9,-999.0000,9,  -999.00,-999.000,9,-999.0000,9,-999.000,9,  -1.2984,2, -999.00,9,  -999.0,9,  -999.0,-999.000,9, -999.00,9,-999.000,9, -999.00,9, -999.00,9, -70.4652, 168.4218,-999.000,     -999.0,     -999.0,9,     -999.0,9,     -999.0,9,-999.0000,9,-999.0000,9,-999.0000,9,-999.0000,9,-999.0000,9,-999.0000,9,-999.0000,9,-999.0000,9,-999.0000,9,-999.0000,-999.000,  -1.2982,     -999.0,     -999.0,9,     -999.0,9,     -999.0,9,     -999.0,9,     -999.0,20110223,       0322
320620110219,       S04P,       4,          1,         21,         21,2,20110223,       0242,   -70.4652,   168.4218,        863,     2.6,  -1.2963,  34.1501,2,  34.1480,2,    339.6,3,   341.9,2,   67.38,2,   28.65,2,    0.16,2,    1.89,2,   5.699,2,   3.027,2,   0.580,2,   2.6980,2,  2199.0,2,  2309.6,2,-999.0000,5,    25.00,   0.064,2,    2.149,2,  -1.733,2,  -1.2959,2, -999.00,9,  -999.0,9,  -999.0,   9.612,2, -999.00,9,-999.000,9, -999.00,9, -999.00,9, -70.4652, 168.4217,   0.005,      0.016,    34.3091,2,     -999.0,9,     -999.0,9,-999.0000,9,-999.0000,9,-999.0000,9,-999.0000,9,-999.0000,9,-999.0000,9,-999.0000,9,-999.0000,9,-999.0000,9,    0.001,   0.180,  -1.2964,50000401021,     -999.0,9,     -999.0,9,     -999.0,9,     -999.0,9,     -999.0,20110223,       0323
320620110219,       S04P,       4,          1,         19,         19,2,20110223,       0242,   -70.4652,   168.4218,        863,    35.2,  -1.2995,  34.1521,2,  34.1543,2,    343.1,2,   279.8,4,   67.48,2,   28.67,2,    0.16,2,    1.92,2,   5.692,2,   3.007,2,   0.581,2,   2.6550,2,  2199.1,2,  2308.1,2,-999.0000,5,    25.00,   0.070,2,    2.070,2,  -1.808,2,  -1.2990,2, -999.00,9,  -999.0,9,  -999.0,   9.287,2, -999.00,9,-999.000,9, -999.00,9, -999.00,9, -70.4652, 168.4218,   0.005,      0.012,    34.3153,2,     -999.0,9,     -999.0,9,-999.0000,9,-999.0000,9,-999.0000,9,-999.0000,9,-999.0000,9,-999.0000,9,-999.0000,9,-999.0000,9,-999.0000,9,    0.000,   0.193,  -1.3003,50000401019,     -999.0,9,     -999.0,9,     -999.0,9,     -999.0,9,     -999.0,20110223,       0320
320620110219,       S04P,       4,          1,         18,         18,2,20110223,       0242,   -70.4652,   168.4218,        863,    60.2,  -1.2820,  34.1733,2,  34.1733,2,   -999.0,9,  -999.0,5,   67.81,2,   28.90,2,    0.16,2,    1.92,2,-999.000,9,-999.000,9,-999.000,9,-999.0000,9,  2200.2,2,  2311.2,2,-999.0000,5,    25.00,-999.000,9,-999.0000,9,-999.000,9,  -1.2814,2, -999.00,9,  -999.0,9,  -999.0,-999.000,9, -999.00,9,-999.000,9, -999.00,9, -999.00,9, -70.4652, 168.4218,-999.000,     -999.0,    34.3344,2,     -999.0,9,     -999.0,9,-999.0000,9,-999.0000,9,-999.0000,9,-999.0000,9,-999.0000,9,-999.0000,9,-999.0000,9,-999.0000,9,-999.0000,9,-999.0000,-999.000,  -1.2834,     -999.0,     -999.0,9,     -999.0,9,     -999.0,9,     -999.0,9,     -999.0,20110223,       0318
320620110219,       S04P,       4,          1,         17,         17,2,20110223,       0242,   -70.4652,   168.4218,        863,    84.8,  -1.0347,  34.2765,2,  34.2776,2,    334.9,2,   322.6,2,   70.11,2,   28.91,2,    0.12,2,    1.95,2,-999.000,9,-999.000,9,-999.000,9,-999.0000,9,  2208.2,2,  2317.3,2,-999.0000,5,    25.00,-999.000,9,-999.0000,9,-999.000,9,  -1.0352,2, -999.00,9,  -999.0,9,  -999.0,-999.000,9, -999.00,9,-999.000,9, -999.00,9, -999.00,9, -70.4652, 168.4218,-999.000,     -999.0,    34.4392,2,     -999.0,9,     -999.0,9,-999.0000,9,-999.0000,9,-999.0000,9,-999.0000,9,-999.0000,9,-999.0000,9,-999.0000,9,-999.0000,9,-999.0000,9,-999.0000,-999.000,  -1.0369,     -999.0,     -999.0,9,     -999.0,9,     -999.0,9,     -999.0,9,     -999.0,20110223,       0317
320620110219,       S04P,       4,          1,         16,         16,2,20110223,       0242,   -70.4652,   168.4218,        863,   110.9,  -0.9183,  34.3299,2,  34.3256,2,    312.2,2,   316.1,2,   71.15,2,   29.25,2,    0.10,2,    1.98,2,   4.868,2,   2.567,2,   0.489,2,   2.2680,2,  2211.8,2,  2321.7,2,-999.0000,5,    25.00,-999.000,9,-999.0000,9,-999.000,9,  -0.9194,2, -999.00,9,  -999.0,9,  -999.0,-999.000,9, -999.00,9,-999.000,9, -999.00,9, -999.00,9, -70.4652, 168.4218,-999.000,     -999.0,    34.4874,2,     -999.0,9,     -999.0,9,-999.0000,9,-999.0000,9,-999.0000,9,-999.0000,9,-999.0000,9,-999.0000,9,-999.0000,9,-999.0000,9,-999.0000,9,-999.0000,-999.000,  -0.9214,     -999.0,     -999.0,9,     -999.0,9,     -999.0,9,     -999.0,9,     -999.0,20110223,       0315
320620110219,       S04P,       4,          1,         15,         15,2,20110223,       0242,   -70.4652,   168.4218,        863,   134.4,  -0.7948,  34.3707,2,  34.3706,2,    305.4,2,   300.5,2,   72.94,2,   29.54,2,    0.08,2,    2.00,2,-999.000,9,-999.000,9,-999.000,9,-999.0000,9,  -999.0,9,  -999.0,9,-999.0000,9,  -999.00,   0.053,2,    2.141,2,   0.696,2,  -0.7954,2, -999.00,9,  -999.0,9,  -999.0,   9.438,2, -999.00,9,-999.000,9, -999.00,9, -999.00,9, -70.4652, 168.4218,   0.005,      0.012,    34.5326,2,     -999.0,9,     -999.0,9,-999.0000,9,-999.0000,9,-999.0000,9,-999.0000,9,-999.0000,9,-999.0000,9,-999.0000,9,-999.0000,9,-999.0000,9,    0.000,   0.191,  -0.7987,50000401015,     -999.0,9,     -999.0,9,     -999.0,9,     -999.0,9,     -999.0,20110223,       0313
320620110219,       S04P,       4,          1,         14,         14,2,20110223,       0242,   -70.4652,   168.4218,        863,   159.8,  -0.7863,  34.4102,2,  34.4089,2,    282.8,2,   289.3,2,   75.16,2,   29.89,2,    0.07,2,    2.02,2,   4.108,2,   2.186,2,   0.421,2,   1.8210,2,  2222.1,2,  2326.6,2,-999.0000,5,    25.00,-999.000,9,-999.0000,9,-999.000,9,  -0.7898,2, -999.00,9,  -999.0,9,  -999.0,-999.000,9, -999.00,9,-999.000,9, -999.00,9, -999.00,9, -70.4652, 168.4218,-999.000,     -999.0,    34.5712,2,     -999.0,9,     -999.0,9,-999.0000,9,-999.0000,9,-999.0000,9,-999.0000,9,-999.0000,9,-999.0000,9,-999.0000,9,-999.0000,9,-999.0000,9,-999.0000,-999.000,  -0.7910,     -999.0,     -999.0,9,     -999.0,9,     -999.0,9,     -999.0,9,     -999.0,20110223,       0312
320620110219,       S04P,       4,          1,         13,         13,2,20110223,       0242,   -70.4652,   168.4218,        863,   184.8,  -0.7445,  34.4370,2,  34.4374,2,    273.6,2,   281.6,2,   77.67,2,   30.09,2,    0.07,2,    2.03,2,   3.879,2,   2.057,2,   0.382,2,   1.6140,2,  -999.0,9,  -999.0,9,-999.0000,9,  -999.00,   0.037,2,    2.023,2,   2.323,2,  -0.7583,3, -999.00,9,  -999.0,9,  -999.0,   9.014,2, -999.00,9,-999.000,9, -999.00,9, -999.00,9, -70.4652, 168.4218,   0.004,      0.011,    34.5997,2,     -999.0,9,     -999.0,9,-999.0000,9,-999.0000,9,-999.0000,9,-999.0000,9,-999.0000,9,-999.0000,9,-999.0000,9,-999.0000,9,-999.0000,9,    0.000,   0.199,  -0.7501,50000401013,     -999.0,9,     -999.0,9,     -999.0,9,     -999.0,9,     -999.0,20110223,       0310
320620110219,       S04P,       4,          1,         12,         12,2,20110223,       0242,   -70.4652,   168.4218,        863,   209.9,  -0.1437,  34.5175,2,  34.5211,2,    246.5,2,   242.8,2,   85.93,2,   31.41,2,    0.07,2,    2.13,2,-999.000,9,-999.000,9,-999.000,9,-999.0000,9,  2238.8,2,  2335.0,2,-999.0000,5,    25.00,-999.000,9,-999.0000,9,-999.000,9,  -0.1427,2, -999.00,9,  -999.0,9,  -999.0,-999.000,9, -999.00,9,-999.000,9, -999.00,9, -999.00,9, -70.4652, 168.4218,-999.000,     -999.0,    34.6838,2,     -999.0,9,     -999.0,9,-999.0000,9,-999.0000,9,-999.0000,9,-999.0000,9,-999.0000,9,-999.0000,9,-999.0000,9,-999.0000,9,-999.0000,9,-999.0000,-999.000,  -0.1512,     -999.0,     -999.0,9,     -999.0,9,     -999.0,9,     -999.0,9,     -999.0,20110223,       0308
320620110219,       S04P,       4,          1,         11,         11,2,20110223,       0242,   -70.4652,   168.4218,        863,   235.4,   0.0692,  34.5547,2,  34.5536,2,    237.1,2,   231.7,2,   88.57,2,   31.67,2,    0.06,2,    2.13,2,   2.166,2,   1.116,2,   0.209,2,   0.8930,2,  -999.0,9,  -999.0,9,-999.0000,9,  -999.00,   0.026,2,    2.198,4,   5.662,2,   0.0690,2, -999.00,9,  -999.0,9,  -999.0,   9.526,4, -999.00,9,-999.000,9, -999.00,9, -999.00,9, -70.4652, 168.4218,   0.004,      0.013,    34.7165,2,     -999.0,9,     -999.0,9,-999.0000,9,-999.0000,9,-999.0000,9,-999.0000,9,-999.0000,9,-999.0000,9,-999.0000,9,-999.0000,9,-999.0000,9,    0.000,   0.189,   0.0603,50000401011,     -999.0,9,     -999.0,9,     -999.0,9,     -999.0,9,     -999.0,20110223,       0307
320620110219,       S04P,       4,          1,         10,         10,2,20110223,       0242,   -70.4652,   168.4218,        863,   266.5,   0.2872,  34.5985,2,  34.5944,2,    223.9,2,   221.3,2,   92.39,2,   31.96,2,    0.03,2,    2.16,2,   1.730,2,   0.883,2,   0.162,2,   0.6750,2,  2247.7,2,  2340.0,2,-999.0000,5,    25.00,-999.000,9,-999.0000,9,-999.000,9,   0.2866,2, -999.00,9,  -999.0,9,  -999.0,-999.000,9, -999.00,9,-999.000,9, -999.00,9, -999.00,9, -70.4652, 168.4218,-999.000,     -999.0,    34.7575,2,     -999.0,9,     -999.0,9,-999.0000,9,-999.0000,9,-999.0000,9,-999.0000,9,-999.0000,9,-999.0000,9,-999.0000,9,-999.0000,9,-999.0000,9,-999.0000,-999.000,   0.2766,     -999.0,     -999.0,9,     -999.0,9,     -999.0,9,     -999.0,9,     -999.0,20110223,       0305
320620110219,       S04P,       4,          1,          9,          9,2,20110223,       0242,   -70.4652,   168.4218,        863,   315.8,   0.4162,  34.6214,2,  34.6212,2,    213.8,2,   215.0,2,   94.75,2,   31.50,2,    0.02,2,    2.17,2,-999.000,9,-999.000,9,-999.000,9,-999.0000,9,  2249.9,2,  2343.9,2,-999.0000,5,    25.00,   0.006,2,-999.0000,9,-999.000,9,   0.4156,2, -999.00,9,  -999.0,9,  -999.0,-999.000,9, -999.00,9,-999.000,9, -999.00,9, -999.00,9, -70.4652, 168.4218,   0.005,     -999.0,    34.7845,2,     -999.0,9,     -999.0,9,-999.0000,9,-999.0000,9,-999.0000,9,-999.0000,9,-999.0000,9,-999.0000,9,-999.0000,9,-999.0000,9,-999.0000,9,-999.0000,-999.000,   0.4031,     -999.0,     -999.0,9,     -999.0,9,     -999.0,9,     -999.0,9,     -999.0,20110223,       0303
320620110219,       S04P,       4,          1,          8,          8,2,20110223,       0242,   -70.4652,   168.4218,        863,   366.1,   0.4019,  34.6325,2,  34.6326,2,    209.1,2,   216.9,2,   96.60,2,   32.08,2,    0.02,2,    2.17,2,   1.439,2,   0.747,2,   0.136,2,   0.5260,2,  2247.1,3,  2343.7,2,-999.0000,5,    25.00,-999.000,9,-999.0000,9,-999.000,9,   0.4023,2, -999.00,9,  -999.0,9,  -999.0,-999.000,9, -999.00,9,-999.000,9, -999.00,9, -999.00,9, -70.4652, 168.4218,-999.000,     -999.0,    34.7959,2,     -999.0,9,     -999.0,9,-999.0000,9,-999.0000,9,-999.0000,9,-999.0000,9,-999.0000,9,-999.0000,9,-999.0000,9,-999.0000,9,-999.0000,9,-999.0000,-999.000,   0.3866,     -999.0,     -999.0,9,     -999.0,9,     -999.0,9,     -999.0,9,     -999.0,20110223,       0300
320620110219,       S04P,       4,          1,          7,          7,2,20110223,       0242,   -70.4652,   168.4218,        863,   416.0,   0.4338,  34.6430,2,  34.6428,2,    209.6,2,   214.0,2,   98.12,2,   31.49,2,    0.02,2,    2.17,2,   1.373,2,   0.700,2,   0.125,2,   0.4620,2,  2251.9,2,  2346.0,2,-999.0000,5,    25.00,   0.007,2,    2.196,4,   6.721,2,   0.4333,2, -999.00,9,  -999.0,9,  -999.0,   9.482,4, -999.00,9,-999.000,9, -999.00,9, -999.00,9, -70.4652, 168.4218,   0.004,      0.012,    34.8062,2,     -999.0,9,     -999.0,9,-999.0000,9,-999.0000,9,-999.0000,9,-999.0000,9,-999.0000,9,-999.0000,9,-999.0000,9,-999.0000,9,-999.0000,9,    0.000,   0.204,   0.4161,50000401007,     -999.0,9,     -999.0,9,     -999.0,9,     -999.0,9,     -999.0,20110223,       0258
320620110219,       S04P,       4,          1,          6,          6,2,20110223,       0242,   -70.4652,   168.4218,        863,   465.3,   0.4538,  34.6482,2,  34.6487,2,    208.9,2,   213.7,2,   98.71,2,   32.05,2,    0.02,2,    2.16,2,-999.000,9,-999.000,9,-999.000,9,-999.0000,9,  -999.0,9,  -999.0,9,-999.0000,9,  -999.00,-999.000,9,-999.0000,9,-999.000,9,   0.4532,2, -999.00,9,  -999.0,9,  -999.0,-999.000,9, -999.00,9,-999.000,9, -999.00,9, -999.00,9, -70.4652, 168.4218,-999.000,     -999.0,    34.8120,2,     -999.0,9,     -999.0,9,-999.0000,9,-999.0000,9,-999.0000,9,-999.0000,9,-999.0000,9,-999.0000,9,-999.0000,9,-999.0000,9,-999.0000,9,-999.0000,-999.000,   0.4337,     -999.0,     -999.0,9,     -999.0,9,     -999.0,9,     -999.0,9,     -999.0,20110223,       0256
320620110219,       S04P,       4,          1,          5,          5,2,20110223,       0242,   -70.4652,   168.4218,        863,   536.8,   0.5892,  34.6710,2,  34.6710,2,    206.4,2,   208.4,2,  102.44,2,   32.05,2,    0.00,2,    2.16,2,   1.028,2,   0.511,2,   0.091,2,   0.3490,2,  2253.2,2,  2346.2,2,-999.0000,5,    25.00,   0.012,2,    2.040,2,   8.031,2,   0.5979,2, -999.00,9,  -999.0,9,  -999.0,   9.013,2, -999.00,9,-999.000,9, -999.00,9, -999.00,9, -70.4652, 168.4218,   0.004,      0.018,    34.8345,2,     -999.0,9,     -999.0,9,-999.0000,9,-999.0000,9,-999.0000,9,-999.0000,9,-999.0000,9,-999.0000,9,-999.0000,9,-999.0000,9,-999.0000,9,    0.001,   0.193,   0.5651,50000401005,     -999.0,9,     -999.0,9,     -999.0,9,     -999.0,9,     -999.0,20110223,       0254
320620110219,       S04P,       4,          1,          4,          4,2,20110223,       0242,   -70.4652,   168.4218,        863,   636.6,   0.6646,  34.6853,2,  34.6855,2,    206.1,2,   206.2,2,  106.18,2,   32.17,2,    0.00,2,    2.17,2,   0.794,2,   0.398,2,   0.070,2,   0.2730,2,  -999.0,9,  -999.0,9,-999.0000,9,  -999.00,-999.000,9,-999.0000,9,-999.000,9,   0.6638,2, -999.00,9,  -999.0,9,  -999.0,-999.000,9, -999.00,9,-999.000,9, -999.00,9, -999.00,9, -70.4652, 168.4218,-999.000,     -999.0,    34.8491,2,     -999.0,9,     -999.0,9,-999.0000,9,-999.0000,9,-999.0000,9,-999.0000,9,-999.0000,9,-999.0000,9,-999.0000,9,-999.0000,9,-999.0000,9,-999.0000,-999.000,   0.6350,     -999.0,     -999.0,9,     -999.0,9,     -999.0,9,     -999.0,9,     -999.0,20110223,       0251
320620110219,       S04P,       4,          1,          3,          3,2,20110223,       0242,   -70.4652,   168.4218,        863,   735.3,   0.4043,  34.6668,2,  34.6657,2,    207.5,2,   215.0,2,  102.73,2,   31.92,2,    0.01,2,    2.16,2,-999.000,9,-999.000,9,-999.000,9,-999.0000,9,  2254.3,2,  2349.2,6,-999.0000,5,    25.00,   0.008,2,    2.124,2,   7.408,2,   0.4025,2, -999.00,9,  -999.0,9,  -999.0,   9.237,2, -999.00,9,-999.000,9, -999.00,9, -999.00,9, -70.4652, 168.4218,   0.005,      0.008,    34.8291,2,     -999.0,9,     -999.0,9,-999.0000,9,-999.0000,9,-999.0000,9,-999.0000,9,-999.0000,9,-999.0000,9,-999.0000,9,-999.0000,9,-999.0000,9,    0.000,   0.203,   0.3711,50000401003,     -999.0,9,     -999.0,9,     -999.0,9,     -999.0,9,     -999.0,20110223,       0248
320620110219,       S04P,       4,          1,          2,          2,2,20110223,       0242,   -70.4652,   168.4218,        863,   809.2,   0.1258,  34.6502,2,  34.6501,2,    225.0,2,   224.4,2,   98.15,2,   31.69,2,    0.01,2,    2.14,2,   1.758,2,   0.908,2,   0.164,2,   0.6620,2,  2250.5,3,  2347.3,6,-999.0000,5,    25.00,-999.000,9,-999.0000,9,-999.000,9,   0.1249,2, -999.00,9,  -999.0,9,  -999.0,-999.000,9, -999.00,9,-999.000,9, -999.00,9, -999.00,9, -70.4652, 168.4218,-999.000,     -999.0,    34.8135,2,     -999.0,9,     -999.0,9,-999.0000,9,-999.0000,9,-999.0000,9,-999.0000,9,-999.0000,9,-999.0000,9,-999.0000,9,-999.0000,9,-999.0000,9,-999.0000,-999.000,   0.0906,     -999.0,     -999.0,9,     -999.0,9,     -999.0,9,     -999.0,9,     -999.0,20110223,       0245
320620110219,       S04P,       4,          1,          1,          1,2,20110223,       0242,   -70.4652,   168.4218,        863,   861.4,   0.1091,  34.6491,2,  34.6491,2,   -999.0,9,  -999.0,5,   97.11,2,   31.58,2,    0.01,2,    2.14,2,   1.824,2,   0.965,2,   0.169,2,   0.6640,2,  2251.7,6,  2345.3,2,-999.0000,5,    25.00,   0.011,2,-999.0000,9,-999.000,9,   0.1087,2, -999.00,9,  -999.0,9,  -999.0,-999.000,9, -999.00,9,-999.000,9, -999.00,9, -999.00,9, -70.4652, 168.4217,   0.004,     -999.0,    34.8125,2,     -999.0,9,     -999.0,9,-999.0000,9,-999.0000,9,-999.0000,9,-999.0000,9,-999.0000,9,-999.0000,9,-999.0000,9,-999.0000,9,-999.0000,9,-999.0000,-999.000,   0.0713,     -999.0,     -999.0,9,     -999.0,9,     -999.0,9,     -999.0,9,     -999.0,20110223,       0242