BOTTLE,20220813CCHSIOAMB
EXPOCODE,SECT_ID,STNNBR,CASTNO,SAMPNO,BTLNBR,BTLNBR_FLAG_W,DATE,TIME,LATITUDE,LONGITUDE,DEPTH,CTDPRS,CTDTMP,CTDSAL,CTDSAL_FLAG_W,SALNTY,SALNTY_FLAG_W,CTDOXY,CTDOXY_FLAG_W,OXYGEN,OXYGEN_FLAG_W,SILCAT,SILCAT_FLAG_W,NITRAT,NITRAT_FLAG_W,NITRIT,NITRIT_FLAG_W,PHSPHT,PHSPHT_FLAG_W,CFC-11,CFC-11_FLAG_W,CFC-12,CFC-12_FLAG_W,CFC113,CFC113_FLAG_W,SF6,SF6_FLAG_W,TCARBN,TCARBN_FLAG_W,ALKALI,ALKALI_FLAG_W,PH_TOT,PH_TOT_FLAG_W,PH_TMP,TRITUM,TRITUM_FLAG_W,HELIUM,HELIUM_FLAG_W,DELHE3,DELHE3_FLAG_W,REFTMP,REFTMP_FLAG_W,DELC13,DELC13_FLAG_W,DELC14,DELC14_FLAG_W,C14ERR,NEON,NEON_FLAG_W,DELO18,DELO18_FLAG_W,POC,POC_FLAG_W,DOC,DOC_FLAG_W,TDN,TDN_FLAG_W,BTL_LAT,BTL_LON,TRITER,NEONER,SALTREF,SALTREF_FLAG_W,PIGMENTS,PIGMENTS_FLAG_W,LAB_DEN,LAB_DEN_FLAG_W,CDOM325,CDOM325_FLAG_W,CDOM340,CDOM340_FLAG_W,CDOM380,CDOM380_FLAG_W,CDOM412,CDOM412_FLAG_W,CDOM443,CDOM443_FLAG_W,CDOM490,CDOM490_FLAG_W,CDOM555,CDOM555_FLAG_W,CDOMSL,CDOMSL_FLAG_W,CDOMSN,CDOMSN_FLAG_W,HELIER,DELHER,THETA,LDEO_SAMPNO,ABSORBTION,ABSORBTION_FLAG_W,IMAGE_COUNT,IMAGE_COUNT_FLAG_W,CYTO_COUNT,CYTO_COUNT_FLAG_W,DELD,DELD_FLAG_W,DELDERR,BTL_DATE,BTL_TIME
,,,,,,,,,,,METERS,DBAR,ITS-90,PSS-78,,PSS-78,,UMOL/KG,,UMOL/KG,,UMOL/KG,,UMOL/KG,,UMOL/KG,,UMOL/KG,,PMOL/KG,,PMOL/KG,,PMOL/KG,,FMOL/KG,,UMOL/KG,,UMOL/KG,,,,DEG C,TU,,NMOL/KG,,PERCNT,,DEG C,,/MILLE,,/MILLE,,/MILLE,NMOL/KG,,/MILLE,,UG/KG,,UMOL/KG,,UMOL/KG,,,,TU,NMOL/KG,G/KG,,,,,,1/M,,1/M,,1/M,,1/M,,1/M,,1/M,,1/M,,1/NM,,1/NM,,NMOL/KG,PERCNT,DEG C,,,,,,,,/MILLE,,/MILLE,,
320620110219,       S04P,     129,          1,         36,         36,2,20110416,       2346,   -67.0000,   -79.0630,       3903,     1.9,  -0.3475,  33.6397,2,  33.6408,2,    334.5,3,   340.2,2,   19.86,2,   23.20,2,    0.19,2,    1.57,2,   6.018,2,   3.299,2,   0.629,2,   2.7140,2,  2147.0,6,  2279.0,2,   7.7062,2,    25.00,   0.094,2,   1.8946,2,   -1.54,2,  -0.3509,2, -999.00,9,  -999.0,9,  -999.0,   8.401,2,   -0.37,2,-999.000,9,   46.16,2,   27.69,2, -67.0000, -79.0630,   0.012,      0.043,    33.7995,2,     -999.0,9,     -999.0,9,-999.0000,9,-999.0000,9,-999.0000,9,-999.0000,9,-999.0000,9,-999.0000,9,-999.0000,9,-999.0000,9,-999.0000,9,   0.0091,    0.14,  -0.3476,     -999.0,     -999.0,9,     -999.0,9,     -999.0,9,      -4.02,2,       0.05,20110417,       0124
320620110219,       S04P,     129,          1,         35,         35,2,20110416,       2346,   -67.0000,   -79.0630,       3903,    35.0,  -0.3549,  33.6415,2,  33.6406,2,    340.2,2,   339.8,2,   19.94,2,   23.27,2,    0.19,2,    1.59,2,   6.037,2,   3.292,2,   0.636,2,   2.7480,2,  2147.8,2,  2277.5,2,   7.7035,6,    25.00,   0.138,2,   1.9303,2,   -1.41,2,  -0.3544,2, -999.00,9,  -999.0,9,  -999.0,   8.482,2,   -0.37,2,-999.000,9,   45.96,2,   27.71,2, -67.0000, -79.0630,   0.013,      0.043,    33.7993,2,     -999.0,9,     -999.0,9,-999.0000,9,-999.0000,9,-999.0000,9,-999.0000,9,-999.0000,9,-999.0000,9,-999.0000,9,-999.0000,9,-999.0000,9,   0.0093,    0.14,  -0.3560,     -999.0,     -999.0,9,     -999.0,9,     -999.0,9,      -3.96,2,       0.08,20110417,       0123
320620110219,       S04P,     129,          1,         34,         34,2,20110416,       2346,   -67.0000,   -79.0630,       3903,    59.9,  -0.3676,  33.6437,2,  33.6430,2,    340.5,2,   340.3,2,   20.14,2,   23.40,2,    0.19,2,    1.60,2,   5.700,2,   3.266,2,   0.498,2,   2.6530,2,  2149.5,2,  2276.8,6,   7.7024,2,    25.00,   0.126,2,   1.8888,2,   -1.60,2,  -0.3649,2, -999.00,9,  -999.0,9,  -999.0,   8.400,2,   -0.38,2,-999.000,9,   45.65,2,   27.56,2, -67.0000, -79.0630,   0.013,      0.043,    33.8016,2,     -999.0,9,     -999.0,9,-999.0000,9,-999.0000,9,-999.0000,9,-999.0000,9,-999.0000,9,-999.0000,9,-999.0000,9,-999.0000,9,-999.0000,9,   0.0091,    0.14,  -0.3694,     -999.0,     -999.0,9,     -999.0,9,     -999.0,9,      -3.97,2,       0.06,20110417,       0121
320620110219,       S04P,     129,          1,         33,         33,2,20110416,       2346,   -67.0000,   -79.0630,       3903,    85.0,  -0.6491,  34.0929,3,  34.1407,2,    263.2,2,   263.0,2,   55.38,2,   32.61,2,    0.18,2,    2.26,2,   4.181,2,   2.309,2,   0.428,2,   1.6520,2,  2214.5,2,  2302.6,2,   7.5812,2,    25.00,   0.065,2,   1.8740,2,    1.93,2,  -0.6172,2, -999.00,9,  -999.0,9,  -999.0,   8.360,2,   -0.24,2,-999.000,9,   43.17,2,   36.34,2, -67.0000, -79.0630,   0.012,      0.043,    34.3017,2,     -999.0,9,     -999.0,9,-999.0000,9,-999.0000,9,-999.0000,9,-999.0000,9,-999.0000,9,-999.0000,9,-999.0000,9,-999.0000,9,-999.0000,9,   0.0090,    0.14,  -0.6516,     -999.0,     -999.0,9,     -999.0,9,     -999.0,9,      -2.89,2,       0.04,20110417,       0120
320620110219,       S04P,     129,          1,         32,         32,2,20110416,       2346,   -67.0000,   -79.0630,       3903,   109.8,   0.9269,  34.3107,2,  34.3142,2,    233.7,2,   223.2,2,   61.71,2,   34.04,2,    0.04,2,    2.33,2,   2.939,2,   1.646,2,   0.280,2,   1.0510,2,  2233.9,2,  2314.8,2,   7.5536,2,    25.00,  -0.010,2,   1.8704,2,    4.18,2,   0.9257,2, -999.00,9,  -999.0,9,  -999.0,   8.365,2,   -0.14,2,-999.000,9,   41.29,2,   37.21,2, -67.0000, -79.0630,   0.013,      0.043,    34.4760,2,     -999.0,9,     -999.0,9,-999.0000,9,-999.0000,9,-999.0000,9,-999.0000,9,-999.0000,9,-999.0000,9,-999.0000,9,-999.0000,9,-999.0000,9,   0.0090,    0.14,   0.9221,     -999.0,     -999.0,9,     -999.0,9,     -999.0,9,      -2.14,2,       0.06,20110417,       0119
320620110219,       S04P,     129,          1,         31,         31,2,20110416,       2346,   -67.0000,   -79.0630,       3903,   134.4,   1.0859,  34.3739,2,  34.3879,2,    205.1,2,   205.7,2,   66.99,2,   34.42,2,    0.02,2,    2.36,2,   2.319,2,   1.291,2,   0.216,2,   0.7820,2,  2241.9,2,  2324.3,4,   7.5432,2,    25.00,   0.037,2,   1.8681,2,    5.42,2,   1.0851,2, -999.00,9,  -999.0,9,  -999.0,   8.227,2,   -0.02,2,-999.000,9,   41.13,2,   37.21,2, -67.0000, -79.0630,   0.012,      0.042,    34.5500,2,     -999.0,9,     -999.0,9,-999.0000,9,-999.0000,9,-999.0000,9,-999.0000,9,-999.0000,9,-999.0000,9,-999.0000,9,-999.0000,9,-999.0000,9,   0.0090,    0.14,   1.0798,     -999.0,     -999.0,9,     -999.0,9,     -999.0,9,      -1.36,2,       0.01,20110417,       0117
320620110219,       S04P,     129,          1,         30,         30,2,20110416,       2346,   -67.0000,   -79.0630,       3903,   164.6,   1.6899,  34.4695,2,  34.4666,2,    193.4,2,   189.0,2,   70.17,2,   34.79,2,    0.01,2,    2.38,2,   1.700,2,   0.948,2,   0.151,2,   0.5200,2,  2250.8,2,  2325.2,2,   7.5399,2,    25.00,   0.036,2,   1.8963,2,    6.52,2,   1.6921,2, -999.00,9,  -999.0,9,  -999.0,   8.292,2,   -0.05,2,-999.000,9,   40.47,2,   37.51,2, -67.0000, -79.0630,   0.013,      0.042,    34.6292,2,     -999.0,9,     -999.0,9,-999.0000,9,-999.0000,9,-999.0000,9,-999.0000,9,-999.0000,9,-999.0000,9,-999.0000,9,-999.0000,9,-999.0000,9,   0.0091,    0.14,   1.6816,     -999.0,     -999.0,9,     -999.0,9,     -999.0,9,      -1.70,2,       0.06,20110417,       0116
320620110219,       S04P,     129,          1,         29,         29,2,20110416,       2346,   -67.0000,   -79.0630,       3903,   215.8,   1.9060,  34.5301,2,  34.5303,2,    182.8,2,   178.6,2,   73.31,2,   34.72,2,    0.01,2,    2.38,2,   1.284,2,   0.698,2,   0.106,2,   0.3650,2,  2255.6,2,  2330.5,2,   7.5380,2,    25.00,   0.018,2,-999.0000,9,-999.000,9,   1.9049,2, -999.00,9,  -999.0,9,  -999.0,-999.000,9,   -0.08,2,-999.000,9,   40.55,2,   37.39,2, -67.0000, -79.0630,   0.013,     -999.0,    34.6932,2,     -999.0,9,     -999.0,9,-999.0000,9,-999.0000,9,-999.0000,9,-999.0000,9,-999.0000,9,-999.0000,9,-999.0000,9,-999.0000,9,-999.0000,9,-999.0000,-999.000,   1.8946,     -999.0,     -999.0,9,     -999.0,9,     -999.0,9,      -1.80,2,       0.32,20110417,       0114
320620110219,       S04P,     129,          1,         28,         28,2,20110416,       2346,   -67.0000,   -79.0630,       3903,   264.5,   2.0226,  34.5799,2,  34.5833,2,    174.5,2,   173.5,2,   76.12,2,   34.28,2,    0.01,2,    2.34,2,   0.885,2,   0.479,2,   0.066,2,   0.2280,2,  2257.5,2,  2335.0,2,   7.5438,2,    25.00,   0.023,2,   1.8541,2,    8.40,2,   2.0198,2, -999.00,9,  -999.0,9,  -999.0,   8.122,2,   -0.09,2,-999.000,9,   40.31,2,   37.09,2, -67.0000, -79.0630,   0.013,      0.041,    34.7464,2,     -999.0,9,     -999.0,9,-999.0000,9,-999.0000,9,-999.0000,9,-999.0000,9,-999.0000,9,-999.0000,9,-999.0000,9,-999.0000,9,-999.0000,9,   0.0089,    0.14,   2.0082,     -999.0,     -999.0,9,     -999.0,9,     -999.0,9,      -1.64,2,       0.07,20110417,       0113
320620110219,       S04P,     129,          1,         27,         27,2,20110416,       2346,   -67.0000,   -79.0630,       3903,   315.0,   2.1035,  34.6176,2,  34.6180,2,    172.6,2,   171.9,2,   77.82,2,   33.81,2,    0.00,2,    2.31,2,   0.685,2,   0.357,2,   0.041,2,   0.1950,2,  2258.7,2,  2340.2,2,   7.5507,2,    25.00,   0.024,2,   1.9001,2,    8.67,2,   2.1040,2, -999.00,9,  -999.0,9,  -999.0,   8.202,2,    0.10,2,-999.000,9,   40.03,2,   36.21,2, -67.0000, -79.0630,   0.013,      0.042,    34.7812,2,     -999.0,9,     -999.0,9,-999.0000,9,-999.0000,9,-999.0000,9,-999.0000,9,-999.0000,9,-999.0000,9,-999.0000,9,-999.0000,9,-999.0000,9,   0.0091,    0.14,   2.0860,     -999.0,     -999.0,9,     -999.0,9,     -999.0,9,      -0.94,2,       0.06,20110417,       0111
320620110219,       S04P,     129,          1,         26,         26,2,20110416,       2346,   -67.0000,   -79.0630,       3903,   364.2,   2.0931,  34.6397,2,  34.6402,2,    172.3,2,   172.3,2,   79.19,2,   33.58,2,    0.00,2,    2.30,2,   0.575,2,   0.298,2,   0.029,2,   0.1340,2,  2259.1,2,  2338.5,2,   7.5550,2,    25.00,  -0.016,2,   1.9258,2,    8.74,2,   2.0928,2, -999.00,9,  -999.0,9,  -999.0,   8.341,2,    0.09,2,-999.000,9,   40.26,2,   36.40,2, -67.0000, -79.0630,   0.012,      0.043,    34.8035,2,     -999.0,9,     -999.0,9,-999.0000,9,-999.0000,9,-999.0000,9,-999.0000,9,-999.0000,9,-999.0000,9,-999.0000,9,-999.0000,9,-999.0000,9,   0.0092,    0.14,   2.0728,     -999.0,     -999.0,9,     -999.0,9,     -999.0,9,      -0.72,2,       0.04,20110417,       0110
320620110219,       S04P,     129,          1,         25,         25,2,20110416,       2346,   -67.0000,   -79.0630,       3903,   414.8,   2.0951,  34.6591,2,  34.6608,2,    173.7,2,   173.9,2,   80.18,2,   33.16,2,    0.00,2,    2.28,2,   0.475,2,   0.238,2,   0.025,2,   0.0340,2,  -999.0,9,  -999.0,9,-999.0000,9,  -999.00,   0.011,2,   1.8833,2,    9.09,2,   2.0946,2, -999.00,9,  -999.0,9,  -999.0,   8.205,2,    0.00,2,-999.000,9,   40.33,2,   35.70,2, -67.0000, -79.0630,   0.013,      0.042,    34.8242,2,     -999.0,9,     -999.0,9,-999.0000,9,-999.0000,9,-999.0000,9,-999.0000,9,-999.0000,9,-999.0000,9,-999.0000,9,-999.0000,9,-999.0000,9,   0.0090,    0.14,   2.0718,     -999.0,     -999.0,9,     -999.0,9,     -999.0,9,      -1.40,2,       0.11,20110417,       0108
320620110219,       S04P,     129,          1,         24,         24,2,20110416,       2346,   -67.0000,   -79.0630,       3903,   465.0,   2.0363,  34.6735,2,  34.6743,2,    174.8,2,   175.0,2,   81.43,2,   33.06,2,    0.00,2,    2.26,2,-999.000,9,-999.000,9,-999.000,9,-999.0000,9,  2257.2,2,  2343.3,6,   7.5636,2,    25.00,-999.000,9,-999.0000,9,-999.000,9,   2.0362,2, -999.00,9,  -999.0,9,  -999.0,-999.000,9, -999.00,9,-999.000,9,   40.39,2,   35.60,2, -67.0000, -79.0630,-999.000,     -999.0,    34.8378,2,     -999.0,9,     -999.0,9,-999.0000,9,-999.0000,9,-999.0000,9,-999.0000,9,-999.0000,9,-999.0000,9,-999.0000,9,-999.0000,9,-999.0000,9,-999.0000,-999.000,   2.0102,     -999.0,     -999.0,9,     -999.0,9,     -999.0,9,     -999.0,9,     -999.0,20110417,       0106
320620110219,       S04P,     129,          1,         23,         23,2,20110416,       2346,   -67.0000,   -79.0630,       3903,   534.3,   2.0030,  34.6921,2,  34.6900,2,    176.1,2,   176.6,2,   83.00,2,   32.65,2,    0.00,2,    2.24,2,   0.372,2,   0.190,2,   0.020,2,   0.0540,2,  -999.0,9,  -999.0,9,-999.0000,9,  -999.00,   0.007,2,   1.9013,2,    9.28,2,   2.0043,2, -999.00,9,  -999.0,9,  -999.0,   8.228,2,   -0.02,2,-999.000,9,   40.21,2,   35.48,2, -67.0000, -79.0630,   0.012,      0.042,    34.8535,2,     -999.0,9,     -999.0,9,-999.0000,9,-999.0000,9,-999.0000,9,-999.0000,9,-999.0000,9,-999.0000,9,-999.0000,9,-999.0000,9,-999.0000,9,   0.0091,    0.14,   1.9728,     -999.0,     -999.0,9,     -999.0,9,     -999.0,9,      -1.60,2,       0.52,20110417,       0105
320620110219,       S04P,     129,          1,         22,         22,2,20110416,       2346,   -67.0000,   -79.0630,       3903,   635.6,   1.9421,  34.7071,2,  34.7084,2,    177.7,2,   179.4,2,   84.85,2,   32.10,2,    0.00,2,    2.21,2,-999.000,9,-999.000,9,-999.000,9,-999.0000,9,  2256.7,2,  2347.4,2,   7.5772,2,    25.00,-999.000,9,-999.0000,9,-999.000,9,   1.9425,2, -999.00,9,  -999.0,9,  -999.0,-999.000,9, -999.00,9,-999.000,9,   40.12,2,   34.82,2, -67.0000, -79.0630,-999.000,     -999.0,    34.8721,2,     -999.0,9,     -999.0,9,-999.0000,9,-999.0000,9,-999.0000,9,-999.0000,9,-999.0000,9,-999.0000,9,-999.0000,9,-999.0000,9,-999.0000,9,-999.0000,-999.000,   1.9059,     -999.0,     -999.0,9,     -999.0,9,     -999.0,9,     -999.0,9,     -999.0,20110417,       0102
320620110219,       S04P,     129,          1,         21,         21,2,20110416,       2346,   -67.0000,   -79.0630,       3903,   734.9,   1.8507,  34.7188,2,  34.7192,2,    180.6,2,   180.4,2,   88.00,2,   31.88,2,    0.00,2,    2.20,2,   0.272,2,   0.134,2,   0.012,2,   0.0080,2,  -999.0,9,  -999.0,9,-999.0000,9,  -999.00,   0.016,2,   1.8924,2,    9.50,2,   1.8504,2, -999.00,9,  -999.0,9,  -999.0,   8.262,2, -999.00,9,-999.000,9,   39.92,2,   34.46,2, -67.0000, -79.0630,   0.013,      0.042,    34.8829,2,     -999.0,9,     -999.0,9,-999.0000,9,-999.0000,9,-999.0000,9,-999.0000,9,-999.0000,9,-999.0000,9,-999.0000,9,-999.0000,9,-999.0000,9,   0.0091,    0.14,   1.8088,     -999.0,     -999.0,9,     -999.0,9,     -999.0,9,     -999.0,9,     -999.0,20110417,       0100
320620110219,       S04P,     129,          1,         20,         20,2,20110416,       2346,   -67.0000,   -79.0630,       3903,   834.9,   1.7759,  34.7258,2,  34.7261,2,    184.0,2,   184.1,2,   89.98,2,   31.62,2,    0.00,2,    2.17,2,-999.000,9,-999.000,9,-999.000,9,-999.0000,9,  2257.7,2,  2351.6,2,   7.5888,2,    25.00,-999.000,9,-999.0000,9,-999.000,9,   1.7764,2, -999.00,9,  -999.0,9,  -999.0,-999.000,9, -999.00,9,-999.000,9,   39.71,2,   34.42,2, -67.0000, -79.0630,-999.000,     -999.0,    34.8898,2,     -999.0,9,     -999.0,9,-999.0000,9,-999.0000,9,-999.0000,9,-999.0000,9,-999.0000,9,-999.0000,9,-999.0000,9,-999.0000,9,-999.0000,9,-999.0000,-999.000,   1.7281,     -999.0,     -999.0,9,     -999.0,9,     -999.0,9,     -999.0,9,     -999.0,20110417,       0057
320620110219,       S04P,     129,          1,         19,         19,2,20110416,       2346,   -67.0000,   -79.0630,       3903,   933.9,   1.6914,  34.7296,2,  34.7294,2,    186.7,2,   186.6,2,   92.42,2,   31.38,2,    0.00,2,    2.18,2,   0.240,2,   0.111,2,   0.006,2,   0.0550,2,  -999.0,9,  -999.0,9,-999.0000,9,  -999.00,   0.006,2,   1.8852,2,   10.04,2,   1.6921,2, -999.00,9,  -999.0,9,  -999.0,   8.242,2, -999.00,9,-999.000,9,   39.46,2,   34.18,2, -67.0000, -79.0630,   0.012,      0.042,    34.8931,2,     -999.0,9,     -999.0,9,-999.0000,9,-999.0000,9,-999.0000,9,-999.0000,9,-999.0000,9,-999.0000,9,-999.0000,9,-999.0000,9,-999.0000,9,   0.0090,    0.14,   1.6378,     -999.0,     -999.0,9,     -999.0,9,     -999.0,9,     -999.0,9,     -999.0,20110417,       0055
320620110219,       S04P,     129,          1,         18,         18,2,20110416,       2346,   -67.0000,   -79.0630,       3903,  1035.9,   1.6079,  34.7307,2,  34.7309,2,    189.1,2,   188.3,2,   94.82,2,   31.32,2,    0.00,2,    2.18,2,-999.000,9,-999.000,9,-999.000,9,-999.0000,9,  2257.8,6,  2353.3,2,   7.5940,2,    25.00,-999.000,9,-999.0000,9,-999.000,9,   1.6077,2, -999.00,9,  -999.0,9,  -999.0,-999.000,9, -999.00,9,-999.000,9,   39.45,2,   33.90,2, -67.0000, -79.0630,-999.000,     -999.0,    34.8947,2,     -999.0,9,     -999.0,9,-999.0000,9,-999.0000,9,-999.0000,9,-999.0000,9,-999.0000,9,-999.0000,9,-999.0000,9,-999.0000,9,-999.0000,9,-999.0000,-999.000,   1.5482,     -999.0,     -999.0,9,     -999.0,9,     -999.0,9,     -999.0,9,     -999.0,20110417,       0053
320620110219,       S04P,     129,          1,         17,         17,2,20110416,       2346,   -67.0000,   -79.0630,       3903,  1134.2,   1.5235,  34.7313,2,  34.7313,2,    191.9,2,   190.8,2,   96.75,2,   31.22,2,    0.00,2,    2.17,2,   0.171,2,   0.087,2,   0.007,2,   0.0180,2,  -999.0,9,  -999.0,9,-999.0000,9,  -999.00,   0.013,2,   1.8842,2,   10.04,2,   1.5240,2, -999.00,9,  -999.0,9,  -999.0,   8.316,2, -999.00,9,-999.000,9,   39.43,2,   33.61,2, -67.0000, -79.0630,   0.013,      0.042,    34.8951,2,     -999.0,9,     -999.0,9,-999.0000,9,-999.0000,9,-999.0000,9,-999.0000,9,-999.0000,9,-999.0000,9,-999.0000,9,-999.0000,9,-999.0000,9,   0.0090,    0.14,   1.4580,     -999.0,     -999.0,9,     -999.0,9,     -999.0,9,     -999.0,9,     -999.0,20110417,       0050
320620110219,       S04P,     129,          1,         16,         16,2,20110416,       2346,   -67.0000,   -79.0630,       3903,  1234.6,   1.4423,  34.7302,2,  34.7305,2,    191.8,2,   191.8,2,   99.83,2,   31.31,2,    0.00,2,    2.17,2,-999.000,9,-999.000,9,-999.000,9,-999.0000,9,  2258.9,2,  2356.8,2,   7.5967,6,    25.00,-999.000,9,-999.0000,9,-999.000,9,   1.4417,2, -999.00,9,  -999.0,9,  -999.0,-999.000,9, -999.00,9,-999.000,9,   39.41,2,   33.86,2, -67.0000, -79.0630,-999.000,     -999.0,    34.8943,2,     -999.0,9,     -999.0,9,-999.0000,9,-999.0000,9,-999.0000,9,-999.0000,9,-999.0000,9,-999.0000,9,-999.0000,9,-999.0000,9,-999.0000,9,-999.0000,-999.000,   1.3708,     -999.0,     -999.0,9,     -999.0,9,     -999.0,9,     -999.0,9,     -999.0,20110417,       0047
320620110219,       S04P,     129,          1,         15,         15,2,20110416,       2346,   -67.0000,   -79.0630,       3903,  1334.9,   1.3711,  34.7289,2,  34.7295,2,    192.6,2,   192.6,2,  102.28,2,   31.40,2,    0.00,2,    2.18,2,   0.147,2,   0.070,2,   0.005,2,   0.0120,2,  -999.0,9,  -999.0,9,-999.0000,9,  -999.00,   0.005,2,   1.9116,2,    9.85,2,   1.3706,2, -999.00,9,  -999.0,9,  -999.0,   8.348,2, -999.00,9,-999.000,9,   39.51,2,   34.15,2, -67.0000, -79.0630,   0.012,      0.043,    34.8933,2,     -999.0,9,     -999.0,9,-999.0000,9,-999.0000,9,-999.0000,9,-999.0000,9,-999.0000,9,-999.0000,9,-999.0000,9,-999.0000,9,-999.0000,9,   0.0092,    0.14,   1.2934,     -999.0,     -999.0,9,     -999.0,9,     -999.0,9,     -999.0,9,     -999.0,20110417,       0045
320620110219,       S04P,     129,          1,         14,         14,2,20110416,       2346,   -67.0000,   -79.0630,       3903,  1435.3,   1.2924,  34.7272,2,  34.7272,2,    193.8,2,   193.9,2,  105.06,2,   31.56,2,    0.00,2,    2.19,2,-999.000,9,-999.000,9,-999.000,9,-999.0000,9,  2260.3,2,  2360.2,2,   7.5985,2,    25.00,-999.000,9,-999.0000,9,-999.000,9,   1.2928,2, -999.00,9,  -999.0,9,  -999.0,-999.000,9, -999.00,9,-999.000,9,   39.62,2,   34.13,2, -67.0000, -79.0630,-999.000,     -999.0,    34.8909,2,     -999.0,9,     -999.0,9,-999.0000,9,-999.0000,9,-999.0000,9,-999.0000,9,-999.0000,9,-999.0000,9,-999.0000,9,-999.0000,9,-999.0000,9,-999.0000,-999.000,   1.2086,     -999.0,     -999.0,9,     -999.0,9,     -999.0,9,     -999.0,9,     -999.0,20110417,       0042