BOTTLE,20220813CCHSIOAMB
EXPOCODE,SECT_ID,STNNBR,CASTNO,SAMPNO,BTLNBR,BTLNBR_FLAG_W,DATE,TIME,LATITUDE,LONGITUDE,DEPTH,CTDPRS,CTDTMP,CTDSAL,CTDSAL_FLAG_W,SALNTY,SALNTY_FLAG_W,CTDOXY,CTDOXY_FLAG_W,OXYGEN,OXYGEN_FLAG_W,SILCAT,SILCAT_FLAG_W,NITRAT,NITRAT_FLAG_W,NITRIT,NITRIT_FLAG_W,PHSPHT,PHSPHT_FLAG_W,CFC-11,CFC-11_FLAG_W,CFC-12,CFC-12_FLAG_W,CFC113,CFC113_FLAG_W,SF6,SF6_FLAG_W,TCARBN,TCARBN_FLAG_W,ALKALI,ALKALI_FLAG_W,PH_TOT,PH_TOT_FLAG_W,PH_TMP,TRITUM,TRITUM_FLAG_W,HELIUM,HELIUM_FLAG_W,DELHE3,DELHE3_FLAG_W,REFTMP,REFTMP_FLAG_W,DELC13,DELC13_FLAG_W,DELC14,DELC14_FLAG_W,C14ERR,NEON,NEON_FLAG_W,DELO18,DELO18_FLAG_W,POC,POC_FLAG_W,DOC,DOC_FLAG_W,TDN,TDN_FLAG_W,BTL_LAT,BTL_LON,TRITER,NEONER,SALTREF,SALTREF_FLAG_W,PIGMENTS,PIGMENTS_FLAG_W,LAB_DEN,LAB_DEN_FLAG_W,CDOM325,CDOM325_FLAG_W,CDOM340,CDOM340_FLAG_W,CDOM380,CDOM380_FLAG_W,CDOM412,CDOM412_FLAG_W,CDOM443,CDOM443_FLAG_W,CDOM490,CDOM490_FLAG_W,CDOM555,CDOM555_FLAG_W,CDOMSL,CDOMSL_FLAG_W,CDOMSN,CDOMSN_FLAG_W,HELIER,DELHER,THETA,LDEO_SAMPNO,ABSORBTION,ABSORBTION_FLAG_W,IMAGE_COUNT,IMAGE_COUNT_FLAG_W,CYTO_COUNT,CYTO_COUNT_FLAG_W,DELD,DELD_FLAG_W,DELDERR,BTL_DATE,BTL_TIME
,,,,,,,,,,,METERS,DBAR,ITS-90,PSS-78,,PSS-78,,UMOL/KG,,UMOL/KG,,UMOL/KG,,UMOL/KG,,UMOL/KG,,UMOL/KG,,PMOL/KG,,PMOL/KG,,PMOL/KG,,FMOL/KG,,UMOL/KG,,UMOL/KG,,,,DEG C,TU,,NMOL/KG,,PERCNT,,DEG C,,/MILLE,,/MILLE,,/MILLE,NMOL/KG,,/MILLE,,UG/KG,,UMOL/KG,,UMOL/KG,,,,TU,NMOL/KG,G/KG,,,,,,1/M,,1/M,,1/M,,1/M,,1/M,,1/M,,1/M,,1/NM,,1/NM,,NMOL/KG,PERCNT,DEG C,,,,,,,,/MILLE,,/MILLE,,
320620110219,       P15S,      81,          1,         31,         31,2,20110323,       1823,   -74.3004,  -175.7676,       1954,     6.9,  -1.5760,  33.9757,2,  33.9742,2,    340.6,3,   343.2,2,   54.77,2,   26.87,2,    0.09,2,    1.88,2,   6.122,2,   3.339,2,   0.620,2,   2.6170,2,  -999.0,9,  -999.0,9,-999.0000,9,  -999.00,-999.000,9,-999.0000,9,-999.000,9,  -1.5767,2, -999.00,9,  -999.0,9,  -999.0,-999.000,9, -999.00,9,-999.000,9,   45.02,2,   31.58,2, -74.3003,-175.7659,-999.000,     -999.0,    34.1344,2,     -999.0,9,     -999.0,9,-999.0000,9,-999.0000,9,-999.0000,9,-999.0000,9,-999.0000,9,-999.0000,9,-999.0000,9,-999.0000,9,-999.0000,9,-999.0000,-999.000,  -1.5761,     -999.0,     -999.0,9,     -999.0,9,     -999.0,9,     -999.0,9,     -999.0,20110323,       1929
320620110219,       P15S,      81,          1,         30,         30,2,20110323,       1823,   -74.3004,  -175.7676,       1954,    34.8,  -1.5767,  33.9758,2,  33.9744,2,    343.5,2,   342.8,2,   55.20,2,   26.78,2,    0.09,2,    1.89,2,   6.131,2,   3.329,2,   0.606,2,   2.5890,2,  -999.0,9,  -999.0,9,-999.0000,9,  -999.00,-999.000,9,-999.0000,9,-999.000,9,  -1.5761,2, -999.00,9,  -999.0,9,  -999.0,-999.000,9, -999.00,9,-999.000,9,   44.77,2,   31.36,2, -74.3003,-175.7660,-999.000,     -999.0,    34.1346,2,     -999.0,9,     -999.0,9,-999.0000,9,-999.0000,9,-999.0000,9,-999.0000,9,-999.0000,9,-999.0000,9,-999.0000,9,-999.0000,9,-999.0000,9,-999.0000,-999.000,  -1.5774,     -999.0,     -999.0,9,     -999.0,9,     -999.0,9,     -999.0,9,     -999.0,20110323,       1927
320620110219,       P15S,      81,          1,         29,         29,2,20110323,       1823,   -74.3004,  -175.7676,       1954,    61.1,  -1.5841,  34.0584,2,  34.0339,2,    342.3,2,   327.0,2,   57.51,2,   27.61,2,    0.10,2,    1.95,2,   5.637,2,   3.021,2,   0.557,2,   2.1920,2,  -999.0,9,  -999.0,9,-999.0000,9,  -999.00,-999.000,9,-999.0000,9,-999.000,9,  -1.5841,2, -999.00,9,  -999.0,9,  -999.0,-999.000,9, -999.00,9,-999.000,9,   43.65,2,   31.76,2, -74.3003,-175.7661,-999.000,     -999.0,    34.1944,2,     -999.0,9,     -999.0,9,-999.0000,9,-999.0000,9,-999.0000,9,-999.0000,9,-999.0000,9,-999.0000,9,-999.0000,9,-999.0000,9,-999.0000,9,-999.0000,-999.000,  -1.5854,     -999.0,     -999.0,9,     -999.0,9,     -999.0,9,     -999.0,9,     -999.0,20110323,       1925
320620110219,       P15S,      81,          1,         28,         28,2,20110323,       1823,   -74.3004,  -175.7676,       1954,    84.8,  -1.5880,  34.1156,2,  34.1071,2,    322.2,2,   306.6,2,   61.48,2,   28.61,2,    0.11,2,    2.02,2,-999.000,9,-999.000,9,-999.000,9,-999.0000,9,  -999.0,9,  -999.0,9,-999.0000,9,  -999.00,-999.000,9,-999.0000,9,-999.000,9,  -1.5879,2, -999.00,9,  -999.0,9,  -999.0,-999.000,9, -999.00,9,-999.000,9,   43.12,2,   32.71,2, -74.3002,-175.7666,-999.000,     -999.0,    34.2679,2,     -999.0,9,     -999.0,9,-999.0000,9,-999.0000,9,-999.0000,9,-999.0000,9,-999.0000,9,-999.0000,9,-999.0000,9,-999.0000,9,-999.0000,9,-999.0000,-999.000,  -1.5898,     -999.0,     -999.0,9,     -999.0,9,     -999.0,9,     -999.0,9,     -999.0,20110323,       1924
320620110219,       P15S,      81,          1,         27,         27,2,20110323,       1823,   -74.3004,  -175.7676,       1954,   109.6,  -1.4860,  34.2106,2,  34.2095,2,    284.3,2,   282.6,2,   64.95,2,   29.87,2,    0.11,2,    2.11,2,   4.304,2,   2.335,2,   0.400,2,   1.6570,2,  -999.0,9,  -999.0,9,-999.0000,9,  -999.00,-999.000,9,-999.0000,9,-999.000,9,  -1.4862,2, -999.00,9,  -999.0,9,  -999.0,-999.000,9, -999.00,9,-999.000,9,   41.56,2,   32.59,2, -74.3004,-175.7668,-999.000,     -999.0,    34.3708,2,     -999.0,9,     -999.0,9,-999.0000,9,-999.0000,9,-999.0000,9,-999.0000,9,-999.0000,9,-999.0000,9,-999.0000,9,-999.0000,9,-999.0000,9,-999.0000,-999.000,  -1.4885,     -999.0,     -999.0,9,     -999.0,9,     -999.0,9,     -999.0,9,     -999.0,20110323,       1922
320620110219,       P15S,      81,          1,         26,         26,2,20110323,       1823,   -74.3004,  -175.7676,       1954,   134.7,  -1.1082,  34.2798,2,  34.2730,2,    276.9,2,   269.6,2,   67.81,2,   30.46,2,    0.07,2,    2.14,2,   3.861,2,   2.029,2,   0.372,2,   1.5230,2,  -999.0,9,  -999.0,9,-999.0000,9,  -999.00,-999.000,9,-999.0000,9,-999.000,9,  -1.1256,2, -999.00,9,  -999.0,9,  -999.0,-999.000,9, -999.00,9,-999.000,9,   41.96,2,   33.10,2, -74.3004,-175.7671,-999.000,     -999.0,    34.4346,2,     -999.0,9,     -999.0,9,-999.0000,9,-999.0000,9,-999.0000,9,-999.0000,9,-999.0000,9,-999.0000,9,-999.0000,9,-999.0000,9,-999.0000,9,-999.0000,-999.000,  -1.1117,     -999.0,     -999.0,9,     -999.0,9,     -999.0,9,     -999.0,9,     -999.0,20110323,       1920
320620110219,       P15S,      81,          1,         25,         25,2,20110323,       1823,   -74.3004,  -175.7676,       1954,   160.9,   0.0757,  34.3936,2,  34.3952,2,    260.7,2,   228.2,2,   78.88,2,   31.71,2,    0.00,2,    2.22,2,-999.000,9,-999.000,9,-999.000,9,-999.0000,9,  -999.0,9,  -999.0,9,-999.0000,9,  -999.00,-999.000,9,-999.0000,9,-999.000,9,   0.0780,2, -999.00,9,  -999.0,9,  -999.0,-999.000,9, -999.00,9,-999.000,9,   41.63,2,   33.94,2, -74.3004,-175.7677,-999.000,     -999.0,    34.5574,2,     -999.0,9,     -999.0,9,-999.0000,9,-999.0000,9,-999.0000,9,-999.0000,9,-999.0000,9,-999.0000,9,-999.0000,9,-999.0000,9,-999.0000,9,-999.0000,-999.000,   0.0698,     -999.0,     -999.0,9,     -999.0,9,     -999.0,9,     -999.0,9,     -999.0,20110323,       1918
320620110219,       P15S,      81,          1,         24,         24,2,20110323,       1823,   -74.3004,  -175.7676,       1954,   184.9,   0.6438,  34.4902,2,  34.4893,2,    227.1,2,   210.9,2,   81.55,2,   32.05,2,    0.00,2,    2.25,2,   1.776,2,   0.951,2,   0.164,2,   0.7210,2,  -999.0,9,  -999.0,9,-999.0000,9,  -999.00,-999.000,9,-999.0000,9,-999.000,9,   0.6433,2, -999.00,9,  -999.0,9,  -999.0,-999.000,9, -999.00,9,-999.000,9,   40.54,2,   34.68,2, -74.3005,-175.7681,-999.000,     -999.0,    34.6520,2,     -999.0,9,     -999.0,9,-999.0000,9,-999.0000,9,-999.0000,9,-999.0000,9,-999.0000,9,-999.0000,9,-999.0000,9,-999.0000,9,-999.0000,9,-999.0000,-999.000,   0.6360,     -999.0,     -999.0,9,     -999.0,9,     -999.0,9,     -999.0,9,     -999.0,20110323,       1917
320620110219,       P15S,      81,          1,         23,         23,2,20110323,       1823,   -74.3004,  -175.7676,       1954,   211.6,   1.0400,  34.5768,2,  34.5750,2,    209.9,2,   198.1,2,   85.19,2,   32.19,2,    0.00,2,    2.26,2,   1.239,2,   0.654,2,   0.106,2,   0.4660,2,  -999.0,9,  -999.0,9,-999.0000,9,  -999.00,-999.000,9,-999.0000,9,-999.000,9,   1.0363,2, -999.00,9,  -999.0,9,  -999.0,-999.000,9, -999.00,9,-999.000,9,   40.47,2,   34.60,2, -74.3005,-175.7683,-999.000,     -999.0,    34.7381,2,     -999.0,9,     -999.0,9,-999.0000,9,-999.0000,9,-999.0000,9,-999.0000,9,-999.0000,9,-999.0000,9,-999.0000,9,-999.0000,9,-999.0000,9,-999.0000,-999.000,   1.0303,     -999.0,     -999.0,9,     -999.0,9,     -999.0,9,     -999.0,9,     -999.0,20110323,       1915
320620110219,       P15S,      81,          1,         22,         22,2,20110323,       1823,   -74.3004,  -175.7676,       1954,   224.2,   1.1653,  34.6010,2,  34.5972,2,    206.8,2,   194.7,2,   86.01,2,   32.28,2,    0.00,2,    2.26,2,   1.107,2,   0.576,2,   0.089,2,   0.4040,2,  -999.0,9,  -999.0,9,-999.0000,9,  -999.00,-999.000,9,-999.0000,9,-999.000,9,   1.1598,2, -999.00,9,  -999.0,9,  -999.0,-999.000,9, -999.00,9,-999.000,9,   40.58,2,   35.12,2, -74.3005,-175.7683,-999.000,     -999.0,    34.7604,2,     -999.0,9,     -999.0,9,-999.0000,9,-999.0000,9,-999.0000,9,-999.0000,9,-999.0000,9,-999.0000,9,-999.0000,9,-999.0000,9,-999.0000,9,-999.0000,-999.000,   1.1548,     -999.0,     -999.0,9,     -999.0,9,     -999.0,9,     -999.0,9,     -999.0,20110323,       1914
320620110219,       P15S,      81,          1,         21,         21,2,20110323,       1823,   -74.3004,  -175.7676,       1954,   264.7,   1.2091,  34.6381,2,  34.6312,2,    193.7,2,   192.3,2,   89.06,2,   32.24,2,    0.00,2,    2.25,2,-999.000,9,-999.000,9,-999.000,9,-999.0000,9,  -999.0,9,  -999.0,9,-999.0000,9,  -999.00,-999.000,9,-999.0000,9,-999.000,9,   1.2087,2, -999.00,9,  -999.0,9,  -999.0,-999.000,9, -999.00,9,-999.000,9,   41.07,2,   34.69,2, -74.3005,-175.7685,-999.000,     -999.0,    34.7945,2,     -999.0,9,     -999.0,9,-999.0000,9,-999.0000,9,-999.0000,9,-999.0000,9,-999.0000,9,-999.0000,9,-999.0000,9,-999.0000,9,-999.0000,9,-999.0000,-999.000,   1.1965,     -999.0,     -999.0,9,     -999.0,9,     -999.0,9,     -999.0,9,     -999.0,20110323,       1912
320620110219,       P15S,      81,          1,         20,         20,2,20110323,       1823,   -74.3004,  -175.7676,       1954,   314.5,   1.2273,  34.6700,3,  34.6685,2,    191.7,2,   191.8,2,   94.05,2,   32.10,2,    0.00,2,    2.24,2,   0.658,2,   0.331,2,   0.046,2,   0.2540,2,  -999.0,9,  -999.0,9,-999.0000,9,  -999.00,-999.000,9,-999.0000,9,-999.000,9,   1.2267,2, -999.00,9,  -999.0,9,  -999.0,-999.000,9, -999.00,9,-999.000,9,   40.96,2,   34.79,2, -74.3005,-175.7687,-999.000,     -999.0,    34.8320,2,     -999.0,9,     -999.0,9,-999.0000,9,-999.0000,9,-999.0000,9,-999.0000,9,-999.0000,9,-999.0000,9,-999.0000,9,-999.0000,9,-999.0000,9,-999.0000,-999.000,   1.2121,     -999.0,     -999.0,9,     -999.0,9,     -999.0,9,     -999.0,9,     -999.0,20110323,       1910
320620110219,       P15S,      81,          1,         19,         19,2,20110323,       1823,   -74.3004,  -175.7676,       1954,   365.5,   1.2719,  34.6843,2,  34.6836,2,    189.3,2,   190.1,2,   95.76,2,   32.06,2,    0.00,2,    2.24,2,-999.000,9,-999.000,9,-999.000,9,-999.0000,9,  -999.0,9,  -999.0,9,-999.0000,9,  -999.00,-999.000,9,-999.0000,9,-999.000,9,   1.2725,2, -999.00,9,  -999.0,9,  -999.0,-999.000,9, -999.00,9,-999.000,9,   40.87,2,   34.68,2, -74.3005,-175.7686,-999.000,     -999.0,    34.8472,2,     -999.0,9,     -999.0,9,-999.0000,9,-999.0000,9,-999.0000,9,-999.0000,9,-999.0000,9,-999.0000,9,-999.0000,9,-999.0000,9,-999.0000,9,-999.0000,-999.000,   1.2539,     -999.0,     -999.0,9,     -999.0,9,     -999.0,9,     -999.0,9,     -999.0,20110323,       1909
320620110219,       P15S,      81,          1,         18,         18,2,20110323,       1823,   -74.3004,  -175.7676,       1954,   415.9,   1.3081,  34.6990,2,  34.6978,2,    188.6,2,   189.6,2,   97.77,2,   32.14,2,    0.00,2,    2.24,2,   0.416,2,   0.209,2,   0.024,2,   0.1830,2,  -999.0,9,  -999.0,9,-999.0000,9,  -999.00,-999.000,9,-999.0000,9,-999.000,9,   1.3077,2, -999.00,9,  -999.0,9,  -999.0,-999.000,9, -999.00,9,-999.000,9,   40.90,2,   34.54,2, -74.3005,-175.7685,-999.000,     -999.0,    34.8614,2,     -999.0,9,     -999.0,9,-999.0000,9,-999.0000,9,-999.0000,9,-999.0000,9,-999.0000,9,-999.0000,9,-999.0000,9,-999.0000,9,-999.0000,9,-999.0000,-999.000,   1.2873,     -999.0,     -999.0,9,     -999.0,9,     -999.0,9,     -999.0,9,     -999.0,20110323,       1907
320620110219,       P15S,      81,          1,         17,         17,2,20110323,       1823,   -74.3004,  -175.7676,       1954,   465.4,   1.3124,  34.7157,2,  34.7159,2,    188.4,2,   188.2,2,  101.72,2,   32.12,2,    0.00,2,    2.24,2,-999.000,9,-999.000,9,-999.000,9,-999.0000,9,  -999.0,9,  -999.0,9,-999.0000,9,  -999.00,-999.000,9,-999.0000,9,-999.000,9,   1.3120,2, -999.00,9,  -999.0,9,  -999.0,-999.000,9,   -0.28,2,-999.000,9,   40.91,2,   34.54,2, -74.3005,-175.7686,-999.000,     -999.0,    34.8796,2,     -999.0,9,     -999.0,9,-999.0000,9,-999.0000,9,-999.0000,9,-999.0000,9,-999.0000,9,-999.0000,9,-999.0000,9,-999.0000,9,-999.0000,9,-999.0000,-999.000,   1.2889,     -999.0,     -999.0,9,     -999.0,9,     -999.0,9,      -4.00,2,       0.15,20110323,       1905
320620110219,       P15S,      81,          1,         16,         16,2,20110323,       1823,   -74.3004,  -175.7676,       1954,   535.0,   1.2871,  34.7212,2,  34.7206,2,    188.8,2,   189.2,2,  103.42,2,   32.07,2,    0.00,2,    2.24,2,   0.199,2,   0.101,2,   0.010,2,   0.1090,2,  -999.0,9,  -999.0,9,-999.0000,9,  -999.00,-999.000,9,-999.0000,9,-999.000,9,   1.2873,2, -999.00,9,  -999.0,9,  -999.0,-999.000,9,   -0.38,2,-999.000,9,   40.91,2,   34.75,2, -74.3005,-175.7689,-999.000,     -999.0,    34.8843,2,     -999.0,9,     -999.0,9,-999.0000,9,-999.0000,9,-999.0000,9,-999.0000,9,-999.0000,9,-999.0000,9,-999.0000,9,-999.0000,9,-999.0000,9,-999.0000,-999.000,   1.2599,     -999.0,     -999.0,9,     -999.0,9,     -999.0,9,      -4.20,2,       0.20,20110323,       1903
320620110219,       P15S,      81,          1,         15,         15,2,20110323,       1823,   -74.3004,  -175.7676,       1954,   634.8,   1.2401,  34.7234,2,  34.7232,2,    190.0,2,   190.1,2,  105.56,2,   32.08,2,    0.00,2,    2.24,2,-999.000,9,-999.000,9,-999.000,9,-999.0000,9,  -999.0,9,  -999.0,9,-999.0000,9,  -999.00,-999.000,9,-999.0000,9,-999.000,9,   1.2407,2, -999.00,9,  -999.0,9,  -999.0,-999.000,9,   -0.37,2,-999.000,9,   40.92,2,   34.60,2, -74.3006,-175.7690,-999.000,     -999.0,    34.8869,2,     -999.0,9,     -999.0,9,-999.0000,9,-999.0000,9,-999.0000,9,-999.0000,9,-999.0000,9,-999.0000,9,-999.0000,9,-999.0000,9,-999.0000,9,-999.0000,-999.000,   1.2076,     -999.0,     -999.0,9,     -999.0,9,     -999.0,9,      -3.71,2,       0.09,20110323,       1900
320620110219,       P15S,      81,          1,         14,         14,2,20110323,       1823,   -74.3004,  -175.7676,       1954,   735.5,   1.1510,  34.7230,2,  34.7222,2,    192.6,2,   192.2,2,  108.38,2,   32.10,2,    0.00,2,    2.24,2,   0.133,2,   0.068,2,   0.006,2,   0.0540,2,  -999.0,9,  -999.0,9,-999.0000,9,  -999.00,-999.000,9,-999.0000,9,-999.000,9,   1.1507,2, -999.00,9,  -999.0,9,  -999.0,-999.000,9,   -0.29,2,-999.000,9,   39.95,2,   34.49,2, -74.3006,-175.7690,-999.000,     -999.0,    34.8860,2,     -999.0,9,     -999.0,9,-999.0000,9,-999.0000,9,-999.0000,9,-999.0000,9,-999.0000,9,-999.0000,9,-999.0000,9,-999.0000,9,-999.0000,9,-999.0000,-999.000,   1.1132,     -999.0,     -999.0,9,     -999.0,9,     -999.0,9,      -3.30,2,       0.16,20110323,       1857
320620110219,       P15S,      81,          1,         13,         13,2,20110323,       1823,   -74.3004,  -175.7676,       1954,   835.7,   1.0816,  34.7214,2,  34.7203,2,    195.0,2,   194.0,2,  110.48,2,   32.14,2,    0.00,2,    2.24,2,-999.000,9,-999.000,9,-999.000,9,-999.0000,9,  -999.0,9,  -999.0,9,-999.0000,9,  -999.00,-999.000,9,-999.0000,9,-999.000,9,   1.0815,2, -999.00,9,  -999.0,9,  -999.0,-999.000,9,   -0.22,2,-999.000,9,   40.09,2,   34.58,2, -74.3005,-175.7686,-999.000,     -999.0,    34.8840,2,     -999.0,9,     -999.0,9,-999.0000,9,-999.0000,9,-999.0000,9,-999.0000,9,-999.0000,9,-999.0000,9,-999.0000,9,-999.0000,9,-999.0000,9,-999.0000,-999.000,   1.0384,     -999.0,     -999.0,9,     -999.0,9,     -999.0,9,      -2.48,2,       0.52,20110323,       1854
320620110219,       P15S,      81,          1,         12,         12,2,20110323,       1823,   -74.3004,  -175.7676,       1954,   933.3,   1.0324,  34.7205,2,  34.7193,2,    195.9,2,   194.8,2,  112.08,2,   32.15,2,    0.00,2,    2.24,2,   0.116,2,   0.065,2,   0.006,2,   0.0490,2,  -999.0,9,  -999.0,9,-999.0000,9,  -999.00,-999.000,9,-999.0000,9,-999.000,9,   1.0326,2, -999.00,9,  -999.0,9,  -999.0,-999.000,9,    0.03,2,-999.000,9,   40.61,2,   34.74,2, -74.3006,-175.7688,-999.000,     -999.0,    34.8831,2,     -999.0,9,     -999.0,9,-999.0000,9,-999.0000,9,-999.0000,9,-999.0000,9,-999.0000,9,-999.0000,9,-999.0000,9,-999.0000,9,-999.0000,9,-999.0000,-999.000,   0.9838,     -999.0,     -999.0,9,     -999.0,9,     -999.0,9,      -1.52,2,       0.32,20110323,       1852
320620110219,       P15S,      81,          1,         11,         11,2,20110323,       1823,   -74.3004,  -175.7676,       1954,  1035.2,   0.9447,  34.7175,2,  34.7176,2,    197.3,2,   197.5,2,  114.80,2,   32.28,2,    0.00,2,    2.24,2,-999.000,9,-999.000,9,-999.000,9,-999.0000,9,  -999.0,9,  -999.0,9,-999.0000,9,  -999.00,-999.000,9,-999.0000,9,-999.000,9,   0.9438,2, -999.00,9,  -999.0,9,  -999.0,-999.000,9,    0.01,2,-999.000,9,   40.58,2,   34.75,2, -74.3005,-175.7683,-999.000,     -999.0,    34.8813,2,     -999.0,9,     -999.0,9,-999.0000,9,-999.0000,9,-999.0000,9,-999.0000,9,-999.0000,9,-999.0000,9,-999.0000,9,-999.0000,9,-999.0000,9,-999.0000,-999.000,   0.8906,     -999.0,     -999.0,9,     -999.0,9,     -999.0,9,      -1.57,2,       0.09,20110323,       1849
320620110219,       P15S,      81,          1,         10,         37,2,20110323,       1823,   -74.3004,  -175.7676,       1954,  1135.2,   0.8961,  34.7160,2,  34.7163,2,    198.9,2,   198.8,2,  116.09,2,   32.18,2,    0.00,2,    2.24,2,-999.000,9,-999.000,9,-999.000,9,-999.0000,9,  -999.0,9,  -999.0,9,-999.0000,9,  -999.00,-999.000,9,-999.0000,9,-999.000,9,   0.8954,2, -999.00,9,  -999.0,9,  -999.0,-999.000,9,    0.04,2,-999.000,9,   40.19,2,   34.50,2, -74.3005,-175.7679,-999.000,     -999.0,    34.8800,2,     -999.0,9,     -999.0,9,-999.0000,9,-999.0000,9,-999.0000,9,-999.0000,9,-999.0000,9,-999.0000,9,-999.0000,9,-999.0000,9,-999.0000,9,-999.0000,-999.000,   0.8362,     -999.0,     -999.0,9,     -999.0,9,     -999.0,9,      -1.28,2,       0.30,20110323,       1846
320620110219,       P15S,      81,          1,          9,          9,2,20110323,       1823,   -74.3004,  -175.7676,       1954,  1234.6,   0.7927,  34.7131,2,  34.7137,2,    200.9,2,   201.6,2,  120.25,2,   32.19,2,    0.00,2,    2.25,2,-999.000,9,-999.000,9,-999.000,9,-999.0000,9,  -999.0,9,  -999.0,9,-999.0000,9,  -999.00,-999.000,9,-999.0000,9,-999.000,9,   0.7925,2, -999.00,9,  -999.0,9,  -999.0,-999.000,9,    0.09,2,-999.000,9,   40.28,2,   35.05,2, -74.3004,-175.7677,-999.000,     -999.0,    34.8774,2,     -999.0,9,     -999.0,9,-999.0000,9,-999.0000,9,-999.0000,9,-999.0000,9,-999.0000,9,-999.0000,9,-999.0000,9,-999.0000,9,-999.0000,9,-999.0000,-999.000,   0.7276,     -999.0,     -999.0,9,     -999.0,9,     -999.0,9,      -1.31,2,       0.21,20110323,       1843