BOTTLE,20220813CCHSIOAMB
EXPOCODE,SECT_ID,STNNBR,CASTNO,SAMPNO,BTLNBR,BTLNBR_FLAG_W,DATE,TIME,LATITUDE,LONGITUDE,DEPTH,CTDPRS,CTDTMP,CTDSAL,CTDSAL_FLAG_W,SALNTY,SALNTY_FLAG_W,CTDOXY,CTDOXY_FLAG_W,OXYGEN,OXYGEN_FLAG_W,SILCAT,SILCAT_FLAG_W,NITRAT,NITRAT_FLAG_W,NITRIT,NITRIT_FLAG_W,PHSPHT,PHSPHT_FLAG_W,CFC-11,CFC-11_FLAG_W,CFC-12,CFC-12_FLAG_W,CFC113,CFC113_FLAG_W,SF6,SF6_FLAG_W,TCARBN,TCARBN_FLAG_W,ALKALI,ALKALI_FLAG_W,PH_TOT,PH_TOT_FLAG_W,PH_TMP,TRITUM,TRITUM_FLAG_W,HELIUM,HELIUM_FLAG_W,DELHE3,DELHE3_FLAG_W,REFTMP,REFTMP_FLAG_W,DELC13,DELC13_FLAG_W,DELC14,DELC14_FLAG_W,C14ERR,NEON,NEON_FLAG_W,DELO18,DELO18_FLAG_W,POC,POC_FLAG_W,DOC,DOC_FLAG_W,TDN,TDN_FLAG_W,BTL_LAT,BTL_LON,TRITER,NEONER,SALTREF,SALTREF_FLAG_W,PIGMENTS,PIGMENTS_FLAG_W,LAB_DEN,LAB_DEN_FLAG_W,CDOM325,CDOM325_FLAG_W,CDOM340,CDOM340_FLAG_W,CDOM380,CDOM380_FLAG_W,CDOM412,CDOM412_FLAG_W,CDOM443,CDOM443_FLAG_W,CDOM490,CDOM490_FLAG_W,CDOM555,CDOM555_FLAG_W,CDOMSL,CDOMSL_FLAG_W,CDOMSN,CDOMSN_FLAG_W,HELIER,DELHER,THETA,LDEO_SAMPNO,ABSORBTION,ABSORBTION_FLAG_W,IMAGE_COUNT,IMAGE_COUNT_FLAG_W,CYTO_COUNT,CYTO_COUNT_FLAG_W,DELD,DELD_FLAG_W,DELDERR,BTL_DATE,BTL_TIME
,,,,,,,,,,,METERS,DBAR,ITS-90,PSS-78,,PSS-78,,UMOL/KG,,UMOL/KG,,UMOL/KG,,UMOL/KG,,UMOL/KG,,UMOL/KG,,PMOL/KG,,PMOL/KG,,PMOL/KG,,FMOL/KG,,UMOL/KG,,UMOL/KG,,,,DEG C,TU,,NMOL/KG,,PERCNT,,DEG C,,/MILLE,,/MILLE,,/MILLE,NMOL/KG,,/MILLE,,UG/KG,,UMOL/KG,,UMOL/KG,,,,TU,NMOL/KG,G/KG,,,,,,1/M,,1/M,,1/M,,1/M,,1/M,,1/M,,1/M,,1/NM,,1/NM,,NMOL/KG,PERCNT,DEG C,,,,,,,,/MILLE,,/MILLE,,
320620110219,       S04P,     132,          2,         36,         36,2,20110417,       2046,   -67.0001,   -75.7972,       3358,     1.9,   0.1473,  33.8193,2,  33.8210,2,    329.8,2,   334.1,2,   26.65,2,   22.00,2,    0.21,2,    1.52,2,   5.903,2,   3.264,2,   0.642,2,   2.6360,2,  2158.2,6,  2292.3,2,   7.7101,2,    25.00,-999.000,9,-999.0000,9,-999.000,9,   0.1476,2, -999.00,9,  -999.0,9,  -999.0,-999.000,9, -999.00,9,-999.000,9,   43.90,2,   26.77,2, -67.0001, -75.7973,-999.000,     -999.0,    33.9805,2,     -999.0,9,     -999.0,9,-999.0000,9,-999.0000,9,-999.0000,9,-999.0000,9,-999.0000,9,-999.0000,9,-999.0000,9,-999.0000,9,-999.0000,9,-999.0000,-999.000,   0.1472,     -999.0,     -999.0,9,     -999.0,9,     -999.0,9,     -999.0,9,     -999.0,20110417,       2215
320620110219,       S04P,     132,          2,         35,         35,2,20110417,       2046,   -67.0001,   -75.7972,       3358,    34.6,   0.1568,  33.8212,2,  33.8214,2,    334.6,2,   333.8,2,   26.64,2,   22.05,2,    0.20,2,    1.53,2,   5.905,2,   3.284,2,   0.639,2,   2.5530,2,  2159.1,2,  -999.0,9,   7.7100,6,    25.00,-999.000,9,-999.0000,9,-999.000,9,   0.1568,2, -999.00,9,  -999.0,9,  -999.0,-999.000,9, -999.00,9,-999.000,9,   45.01,2,   26.87,2, -67.0001, -75.7973,-999.000,     -999.0,    33.9809,2,     -999.0,9,     -999.0,9,-999.0000,9,-999.0000,9,-999.0000,9,-999.0000,9,-999.0000,9,-999.0000,9,-999.0000,9,-999.0000,9,-999.0000,9,-999.0000,-999.000,   0.1556,     -999.0,     -999.0,9,     -999.0,9,     -999.0,9,     -999.0,9,     -999.0,20110417,       2213
320620110219,       S04P,     132,          2,         34,         34,2,20110417,       2046,   -67.0001,   -75.7972,       3358,    59.5,   0.1631,  33.8216,2,  33.8224,2,    334.8,2,   334.4,2,   26.59,2,   22.00,2,    0.20,2,    1.54,2,   5.889,2,   3.273,2,   0.638,2,   2.6630,2,  2159.6,2,  2292.2,2,   7.7107,2,    25.00,-999.000,9,-999.0000,9,-999.000,9,   0.1625,2, -999.00,9,  -999.0,9,  -999.0,-999.000,9, -999.00,9,-999.000,9,   44.49,2,   26.46,2, -67.0001, -75.7973,-999.000,     -999.0,    33.9819,2,     -999.0,1,     -999.0,9,-999.0000,9,-999.0000,9,-999.0000,9,-999.0000,9,-999.0000,9,-999.0000,9,-999.0000,9,-999.0000,9,-999.0000,9,-999.0000,-999.000,   0.1610,     -999.0,     -999.0,9,     -999.0,9,     -999.0,9,     -999.0,9,     -999.0,20110417,       2212
320620110219,       S04P,     132,          2,         33,         33,2,20110417,       2046,   -67.0001,   -75.7972,       3358,    84.2,  -0.8827,  34.0073,2,  34.0187,2,    313.7,2,   297.2,2,   58.24,2,   27.71,2,    0.36,2,    2.12,2,   5.021,6,   2.788,6,   0.546,6,   2.1410,6,  2201.1,2,  2303.3,2,   7.6214,2,    25.00,-999.000,9,-999.0000,9,-999.000,9,  -0.8824,2, -999.00,9,  -999.0,9,  -999.0,-999.000,9, -999.00,9,-999.000,9,   44.15,2,   31.91,2, -67.0001, -75.7973,-999.000,     -999.0,    34.1791,2,     -999.0,9,     -999.0,9,-999.0000,9,-999.0000,9,-999.0000,9,-999.0000,9,-999.0000,9,-999.0000,9,-999.0000,9,-999.0000,9,-999.0000,9,-999.0000,-999.000,  -0.8850,     -999.0,     -999.0,9,     -999.0,9,     -999.0,9,     -999.0,9,     -999.0,20110417,       2211
320620110219,       S04P,     132,          2,         32,         32,2,20110417,       2046,   -67.0001,   -75.7972,       3358,   110.5,  -0.5020,  34.1956,2,  34.1794,2,    257.0,2,   256.7,2,   70.46,2,   31.28,2,    0.24,2,    2.29,2,   3.925,2,   2.224,2,   0.418,2,   1.6360,2,  2225.5,2,  2309.8,2,   7.5681,2,    25.00,-999.000,9,-999.0000,9,-999.000,9,  -0.4992,2, -999.00,9,  -999.0,9,  -999.0,-999.000,9, -999.00,9,-999.000,9,   43.63,2,   34.87,2, -67.0001, -75.7973,-999.000,     -999.0,    34.3405,2,     -999.0,9,     -999.0,9,-999.0000,9,-999.0000,9,-999.0000,9,-999.0000,9,-999.0000,9,-999.0000,9,-999.0000,9,-999.0000,9,-999.0000,9,-999.0000,-999.000,  -0.5054,     -999.0,     -999.0,9,     -999.0,9,     -999.0,9,     -999.0,9,     -999.0,20110417,       2209
320620110219,       S04P,     132,          2,         31,         31,2,20110417,       2046,   -67.0001,   -75.7972,       3358,   134.3,   0.1051,  34.3191,2,  34.3274,2,    220.0,2,   220.5,2,   76.90,2,   33.39,2,    0.06,2,    2.37,2,   2.841,2,   1.616,2,   0.303,2,   1.1950,2,  2241.4,2,  2318.2,2,   7.5399,2,    25.00,-999.000,9,-999.0000,9,-999.000,9,   0.1216,2, -999.00,9,  -999.0,9,  -999.0,-999.000,9, -999.00,9,-999.000,9,   42.97,2,   36.33,2, -67.0001, -75.7973,-999.000,     -999.0,    34.4893,2,     -999.0,9,     -999.0,9,-999.0000,9,-999.0000,9,-999.0000,9,-999.0000,9,-999.0000,9,-999.0000,9,-999.0000,9,-999.0000,9,-999.0000,9,-999.0000,-999.000,   0.1002,     -999.0,     -999.0,9,     -999.0,9,     -999.0,9,     -999.0,9,     -999.0,20110417,       2208
320620110219,       S04P,     132,          2,         30,         30,2,20110417,       2046,   -67.0001,   -75.7972,       3358,   165.3,   0.9800,  34.4814,2,  34.4898,2,    184.5,2,   187.7,2,   81.99,2,   34.26,2,    0.02,2,    2.40,2,   1.624,2,   0.921,2,   0.164,2,   0.5970,2,  2256.4,2,  2327.9,2,   7.5273,2,    25.00,-999.000,9,-999.0000,9,-999.000,9,   0.9781,2, -999.00,9,  -999.0,9,  -999.0,-999.000,9, -999.00,9,-999.000,9,   42.07,2,   36.93,2, -67.0001, -75.7973,-999.000,     -999.0,    34.6525,2,     -999.0,9,     -999.0,9,-999.0000,9,-999.0000,9,-999.0000,9,-999.0000,9,-999.0000,9,-999.0000,9,-999.0000,9,-999.0000,9,-999.0000,9,-999.0000,-999.000,   0.9726,     -999.0,     -999.0,9,     -999.0,9,     -999.0,9,     -999.0,9,     -999.0,20110417,       2207
320620110219,       S04P,     132,          2,         29,         29,2,20110417,       2046,   -67.0001,   -75.7972,       3358,   215.2,   1.8030,  34.6243,2,  34.6228,2,    170.9,2,   170.5,2,   82.53,2,   34.12,2,    0.00,2,    2.36,2,   0.781,2,   0.418,2,   0.074,2,   0.2110,2,  2261.5,2,  2336.2,2,   7.5362,2,    25.00,-999.000,9,-999.0000,9,-999.000,9,   1.8045,2, -999.00,9,  -999.0,9,  -999.0,-999.000,9, -999.00,9,-999.000,9,   41.69,2,   36.80,2, -67.0001, -75.7973,-999.000,     -999.0,    34.7861,2,     -999.0,9,     -999.0,9,-999.0000,9,-999.0000,9,-999.0000,9,-999.0000,9,-999.0000,9,-999.0000,9,-999.0000,9,-999.0000,9,-999.0000,9,-999.0000,-999.000,   1.7918,     -999.0,     -999.0,9,     -999.0,9,     -999.0,9,     -999.0,9,     -999.0,20110417,       2205
320620110219,       S04P,     132,          2,         28,         28,2,20110417,       2046,   -67.0001,   -75.7972,       3358,   265.5,   1.9128,  34.6594,2,  34.6595,2,    170.2,2,   170.0,2,   83.75,2,   33.58,2,    0.00,2,    2.32,2,   0.587,2,   0.299,2,   0.047,2,   0.1720,2,  2262.2,2,  2339.2,2,   7.5458,2,    25.00,-999.000,9,-999.0000,9,-999.000,9,   1.9125,2, -999.00,9,  -999.0,9,  -999.0,-999.000,9, -999.00,9,-999.000,9,   41.26,2,   36.42,2, -67.0001, -75.7973,-999.000,     -999.0,    34.8229,2,     -999.0,9,     -999.0,9,-999.0000,9,-999.0000,9,-999.0000,9,-999.0000,9,-999.0000,9,-999.0000,9,-999.0000,9,-999.0000,9,-999.0000,9,-999.0000,-999.000,   1.8986,     -999.0,     -999.0,9,     -999.0,9,     -999.0,9,     -999.0,9,     -999.0,20110417,       2204
320620110219,       S04P,     132,          2,         27,         27,2,20110417,       2046,   -67.0001,   -75.7972,       3358,   315.6,   1.9335,  34.6842,2,  34.6828,2,    172.2,2,   171.9,2,   85.15,2,   33.03,2,    0.00,2,    2.27,2,-999.000,9,-999.000,9,-999.000,9,-999.0000,9,  2260.5,2,  2342.7,6,   7.5546,2,    25.00,-999.000,9,-999.0000,9,-999.000,9,   1.9333,2, -999.00,9,  -999.0,9,  -999.0,-999.000,9, -999.00,9,-999.000,9,   40.85,2,   35.58,2, -67.0001, -75.7973,-999.000,     -999.0,    34.8464,2,     -999.0,9,     -999.0,9,-999.0000,9,-999.0000,9,-999.0000,9,-999.0000,9,-999.0000,9,-999.0000,9,-999.0000,9,-999.0000,9,-999.0000,9,-999.0000,-999.000,   1.9164,     -999.0,     -999.0,9,     -999.0,9,     -999.0,9,     -999.0,9,     -999.0,20110417,       2202
320620110219,       S04P,     132,          2,         26,         26,2,20110417,       2046,   -67.0001,   -75.7972,       3358,   364.8,   1.9076,  34.6984,2,  34.6993,2,    174.1,2,   174.9,2,   86.28,2,   32.63,2,    0.00,2,    2.25,2,   0.361,2,   0.187,2,   0.022,2,   0.0970,2,  -999.0,9,  -999.0,9,-999.0000,9,  -999.00,-999.000,9,-999.0000,9,-999.000,9,   1.9072,2, -999.00,9,  -999.0,9,  -999.0,-999.000,9, -999.00,9,-999.000,9,   40.57,2,   35.01,2, -67.0001, -75.7973,-999.000,     -999.0,    34.8629,2,     -999.0,9,     -999.0,9,-999.0000,9,-999.0000,9,-999.0000,9,-999.0000,9,-999.0000,9,-999.0000,9,-999.0000,9,-999.0000,9,-999.0000,9,-999.0000,-999.000,   1.8878,     -999.0,     -999.0,9,     -999.0,9,     -999.0,9,     -999.0,9,     -999.0,20110417,       2200
320620110219,       S04P,     132,          2,         25,         25,2,20110417,       2046,   -67.0001,   -75.7972,       3358,   415.1,   1.8592,  34.7046,2,  34.7054,2,    176.6,2,   176.3,2,   87.66,2,   32.55,2,    0.00,2,    2.25,2,-999.000,9,-999.000,9,-999.000,9,-999.0000,9,  2255.8,2,  2346.5,2,   7.5669,2,    25.00,-999.000,9,-999.0000,9,-999.000,9,   1.8591,2, -999.00,9,  -999.0,9,  -999.0,-999.000,9, -999.00,9,-999.000,9,   40.53,2,   35.10,2, -67.0001, -75.7973,-999.000,     -999.0,    34.8690,2,     -999.0,9,     -999.0,9,-999.0000,9,-999.0000,9,-999.0000,9,-999.0000,9,-999.0000,9,-999.0000,9,-999.0000,9,-999.0000,9,-999.0000,9,-999.0000,-999.000,   1.8366,     -999.0,     -999.0,9,     -999.0,9,     -999.0,9,     -999.0,9,     -999.0,20110417,       2158
320620110219,       S04P,     132,          2,         24,         24,2,20110417,       2046,   -67.0001,   -75.7972,       3358,   464.6,   1.7908,  34.7137,2,  34.7140,2,    178.8,2,   178.9,2,   89.70,2,   32.20,2,    0.00,2,    2.24,2,   0.292,2,   0.149,2,   0.019,2,   0.0520,2,  -999.0,9,  -999.0,9,-999.0000,9,  -999.00,-999.000,9,-999.0000,9,-999.000,9,   1.7908,2, -999.00,9,  -999.0,9,  -999.0,-999.000,9, -999.00,9,-999.000,9,   40.49,2,   34.77,2, -67.0001, -75.7973,-999.000,     -999.0,    34.8777,2,     -999.0,9,     -999.0,9,-999.0000,9,-999.0000,9,-999.0000,9,-999.0000,9,-999.0000,9,-999.0000,9,-999.0000,9,-999.0000,9,-999.0000,9,-999.0000,-999.000,   1.7656,     -999.0,     -999.0,9,     -999.0,9,     -999.0,9,     -999.0,9,     -999.0,20110417,       2157
320620110219,       S04P,     132,          2,         23,         23,2,20110417,       2046,   -67.0001,   -75.7972,       3358,   534.6,   1.7463,  34.7208,2,  34.7181,2,    181.0,2,   181.1,2,   91.12,2,   31.97,2,    0.00,2,    2.22,2,-999.000,9,-999.000,9,-999.000,9,-999.0000,9,  2254.4,2,  2349.9,2,   7.5797,2,    25.00,-999.000,9,-999.0000,9,-999.000,9,   1.7464,2, -999.00,9,  -999.0,9,  -999.0,-999.000,9, -999.00,9,-999.000,9,   40.28,2,   34.71,2, -67.0001, -75.7973,-999.000,     -999.0,    34.8818,2,     -999.0,9,     -999.0,9,-999.0000,9,-999.0000,9,-999.0000,9,-999.0000,9,-999.0000,9,-999.0000,9,-999.0000,9,-999.0000,9,-999.0000,9,-999.0000,-999.000,   1.7172,     -999.0,     -999.0,9,     -999.0,9,     -999.0,9,     -999.0,9,     -999.0,20110417,       2155
320620110219,       S04P,     132,          2,         22,         22,2,20110417,       2046,   -67.0001,   -75.7972,       3358,   635.0,   1.6778,  34.7267,2,  34.7268,2,    183.6,2,   184.4,2,   93.08,2,   31.77,2,    0.00,2,    2.20,2,   0.216,2,   0.109,2,   0.017,2,   0.0890,2,  -999.0,9,  -999.0,9,-999.0000,9,  -999.00,-999.000,9,-999.0000,9,-999.000,9,   1.6782,2, -999.00,9,  -999.0,9,  -999.0,-999.000,9, -999.00,9,-999.000,9,   40.40,2,   34.39,2, -67.0001, -75.7973,-999.000,     -999.0,    34.8905,2,     -999.0,9,     -999.0,9,-999.0000,9,-999.0000,9,-999.0000,9,-999.0000,9,-999.0000,9,-999.0000,9,-999.0000,9,-999.0000,9,-999.0000,9,-999.0000,-999.000,   1.6430,     -999.0,     -999.0,9,     -999.0,9,     -999.0,9,     -999.0,9,     -999.0,20110417,       2152
320620110219,       S04P,     132,          2,         21,         21,2,20110417,       2046,   -67.0001,   -75.7972,       3358,   735.2,   1.5752,  34.7280,2,  34.7285,2,    185.7,2,   185.3,2,   96.23,2,   31.80,2,    0.00,2,    2.20,2,-999.000,9,-999.000,9,-999.000,9,-999.0000,9,  -999.0,9,  -999.0,9,-999.0000,9,  -999.00,-999.000,9,-999.0000,9,-999.000,9,   1.5749,2, -999.00,9,  -999.0,9,  -999.0,-999.000,9, -999.00,9,-999.000,9,   40.38,2,   34.55,2, -67.0001, -75.7973,-999.000,     -999.0,    34.8923,2,     -999.0,9,     -999.0,9,-999.0000,9,-999.0000,9,-999.0000,9,-999.0000,9,-999.0000,9,-999.0000,9,-999.0000,9,-999.0000,9,-999.0000,9,-999.0000,-999.000,   1.5349,     -999.0,     -999.0,9,     -999.0,9,     -999.0,9,     -999.0,9,     -999.0,20110417,       2150
320620110219,       S04P,     132,          2,         20,         20,2,20110417,       2046,   -67.0001,   -75.7972,       3358,   835.4,   1.4618,  34.7291,2,  34.7291,2,    188.3,2,   188.9,2,   99.45,2,   31.70,2,    0.00,2,    2.20,2,   0.157,2,   0.080,2,   0.015,2,   0.0600,2,  2257.3,2,  2354.6,2,   7.5937,6,    25.00,-999.000,9,-999.0000,9,-999.000,9,   1.4613,2, -999.00,9,  -999.0,9,  -999.0,-999.000,9, -999.00,9,-999.000,9,   40.26,2,   34.36,2, -67.0001, -75.7973,-999.000,     -999.0,    34.8929,2,     -999.0,9,     -999.0,9,-999.0000,9,-999.0000,9,-999.0000,9,-999.0000,9,-999.0000,9,-999.0000,9,-999.0000,9,-999.0000,9,-999.0000,9,-999.0000,-999.000,   1.4161,     -999.0,     -999.0,9,     -999.0,9,     -999.0,9,     -999.0,9,     -999.0,20110417,       2147
320620110219,       S04P,     132,          2,         19,         19,2,20110417,       2046,   -67.0001,   -75.7972,       3358,   935.3,   1.3905,  34.7293,2,  34.7293,2,    191.2,2,   190.8,2,  101.47,2,   31.77,2,    0.00,2,    2.20,2,-999.000,9,-999.000,9,-999.000,9,-999.0000,9,  -999.0,9,  -999.0,9,-999.0000,9,  -999.00,-999.000,9,-999.0000,9,-999.000,9,   1.3905,2, -999.00,9,  -999.0,9,  -999.0,-999.000,9, -999.00,9,-999.000,9,   40.18,2,   34.38,2, -67.0001, -75.7972,-999.000,     -999.0,    34.8931,2,     -999.0,9,     -999.0,9,-999.0000,9,-999.0000,9,-999.0000,9,-999.0000,9,-999.0000,9,-999.0000,9,-999.0000,9,-999.0000,9,-999.0000,9,-999.0000,-999.000,   1.3390,     -999.0,     -999.0,9,     -999.0,9,     -999.0,9,     -999.0,9,     -999.0,20110417,       2145
320620110219,       S04P,     132,          2,         18,         18,2,20110417,       2046,   -67.0001,   -75.7972,       3358,  1034.4,   1.3304,  34.7281,2,  34.7279,2,    192.3,2,   192.5,2,  103.20,2,   31.83,2,    0.00,2,    2.20,2,   0.129,2,   0.067,2,   0.011,2,   0.0080,2,  -999.0,9,  -999.0,9,-999.0000,9,  -999.00,-999.000,9,-999.0000,9,-999.000,9,   1.3310,2, -999.00,9,  -999.0,9,  -999.0,-999.000,9, -999.00,9,-999.000,9,   40.03,2,   34.46,2, -67.0001, -75.7972,-999.000,     -999.0,    34.8917,2,     -999.0,9,     -999.0,9,-999.0000,9,-999.0000,9,-999.0000,9,-999.0000,9,-999.0000,9,-999.0000,9,-999.0000,9,-999.0000,9,-999.0000,9,-999.0000,-999.000,   1.2731,     -999.0,     -999.0,9,     -999.0,9,     -999.0,9,     -999.0,9,     -999.0,20110417,       2142
320620110219,       S04P,     132,          2,         17,         17,2,20110417,       2046,   -67.0001,   -75.7972,       3358,  1135.9,   1.2727,  34.7266,2,  34.7273,2,    193.9,2,   192.9,2,  104.94,2,   31.88,2,    0.00,2,    2.20,2,-999.000,9,-999.000,9,-999.000,9,-999.0000,9,  2258.7,2,  2359.2,2,   7.5960,2,    25.00,-999.000,9,-999.0000,9,-999.000,9,   1.2730,2, -999.00,9,  -999.0,9,  -999.0,-999.000,9, -999.00,9,-999.000,9,   40.41,2,   34.55,2, -67.0001, -75.7973,-999.000,     -999.0,    34.8911,2,     -999.0,9,     -999.0,9,-999.0000,9,-999.0000,9,-999.0000,9,-999.0000,9,-999.0000,9,-999.0000,9,-999.0000,9,-999.0000,9,-999.0000,9,-999.0000,-999.000,   1.2094,     -999.0,     -999.0,9,     -999.0,9,     -999.0,9,     -999.0,9,     -999.0,20110417,       2140
320620110219,       S04P,     132,          2,         16,         16,2,20110417,       2046,   -67.0001,   -75.7972,       3358,  1234.9,   1.2076,  34.7252,2,  34.7253,2,    195.2,2,   195.0,2,  106.91,2,   31.81,2,    0.00,2,    2.20,2,   0.108,2,   0.065,2,   0.011,2,   0.1010,2,  -999.0,9,  -999.0,9,-999.0000,9,  -999.00,-999.000,9,-999.0000,9,-999.000,9,   1.2073,2, -999.00,9,  -999.0,9,  -999.0,-999.000,9, -999.00,9,-999.000,9,   40.32,2,   34.60,2, -67.0001, -75.7973,-999.000,     -999.0,    34.8891,2,     -999.0,9,     -999.0,9,-999.0000,9,-999.0000,9,-999.0000,9,-999.0000,9,-999.0000,9,-999.0000,9,-999.0000,9,-999.0000,9,-999.0000,9,-999.0000,-999.000,   1.1384,     -999.0,     -999.0,9,     -999.0,9,     -999.0,9,     -999.0,9,     -999.0,20110417,       2137
320620110219,       S04P,     132,          2,         15,         15,2,20110417,       2046,   -67.0001,   -75.7972,       3358,  1335.8,   1.1349,  34.7230,2,  34.7234,2,    196.7,2,   196.1,2,  109.11,2,   31.97,2,    0.00,2,    2.20,2,-999.000,9,-999.000,9,-999.000,9,-999.0000,9,  -999.0,9,  -999.0,9,-999.0000,9,  -999.00,-999.000,9,-999.0000,9,-999.000,9,   1.1349,2, -999.00,9,  -999.0,9,  -999.0,-999.000,9, -999.00,9,-999.000,9,   40.25,2,   34.78,2, -67.0001, -75.7973,-999.000,     -999.0,    34.8871,2,     -999.0,9,     -999.0,9,-999.0000,9,-999.0000,9,-999.0000,9,-999.0000,9,-999.0000,9,-999.0000,9,-999.0000,9,-999.0000,9,-999.0000,9,-999.0000,-999.000,   1.0597,     -999.0,     -999.0,9,     -999.0,9,     -999.0,9,     -999.0,9,     -999.0,20110417,       2134
320620110219,       S04P,     132,          2,         14,         14,2,20110417,       2046,   -67.0001,   -75.7972,       3358,  1434.5,   1.0596,  34.7205,2,  34.7210,2,    198.3,2,   198.2,2,  111.05,2,   31.92,2,    0.00,2,    2.21,2,   0.102,2,   0.061,2,   0.012,2,   0.0180,2,  2258.9,2,  2362.4,2,   7.6007,2,    25.00,-999.000,9,-999.0000,9,-999.000,9,   1.0590,2, -999.00,9,  -999.0,9,  -999.0,-999.000,9, -999.00,9,-999.000,9,   40.49,2,   34.55,2, -67.0001, -75.7973,-999.000,     -999.0,    34.8848,2,     -999.0,9,     -999.0,9,-999.0000,9,-999.0000,9,-999.0000,9,-999.0000,9,-999.0000,9,-999.0000,9,-999.0000,9,-999.0000,9,-999.0000,9,-999.0000,-999.000,   0.9785,     -999.0,     -999.0,9,     -999.0,9,     -999.0,9,     -999.0,9,     -999.0,20110417,       2132