BOTTLE,20220813CCHSIOAMB
EXPOCODE,SECT_ID,STNNBR,CASTNO,SAMPNO,BTLNBR,BTLNBR_FLAG_W,DATE,TIME,LATITUDE,LONGITUDE,DEPTH,CTDPRS,CTDTMP,CTDSAL,CTDSAL_FLAG_W,SALNTY,SALNTY_FLAG_W,CTDOXY,CTDOXY_FLAG_W,OXYGEN,OXYGEN_FLAG_W,SILCAT,SILCAT_FLAG_W,NITRAT,NITRAT_FLAG_W,NITRIT,NITRIT_FLAG_W,PHSPHT,PHSPHT_FLAG_W,CFC-11,CFC-11_FLAG_W,CFC-12,CFC-12_FLAG_W,CFC113,CFC113_FLAG_W,SF6,SF6_FLAG_W,TCARBN,TCARBN_FLAG_W,ALKALI,ALKALI_FLAG_W,PH_TOT,PH_TOT_FLAG_W,PH_TMP,TRITUM,TRITUM_FLAG_W,HELIUM,HELIUM_FLAG_W,DELHE3,DELHE3_FLAG_W,REFTMP,REFTMP_FLAG_W,DELC13,DELC13_FLAG_W,DELC14,DELC14_FLAG_W,C14ERR,NEON,NEON_FLAG_W,DELO18,DELO18_FLAG_W,POC,POC_FLAG_W,DOC,DOC_FLAG_W,TDN,TDN_FLAG_W,BTL_LAT,BTL_LON,TRITER,NEONER,SALTREF,SALTREF_FLAG_W,PIGMENTS,PIGMENTS_FLAG_W,LAB_DEN,LAB_DEN_FLAG_W,CDOM325,CDOM325_FLAG_W,CDOM340,CDOM340_FLAG_W,CDOM380,CDOM380_FLAG_W,CDOM412,CDOM412_FLAG_W,CDOM443,CDOM443_FLAG_W,CDOM490,CDOM490_FLAG_W,CDOM555,CDOM555_FLAG_W,CDOMSL,CDOMSL_FLAG_W,CDOMSN,CDOMSN_FLAG_W,HELIER,DELHER,THETA,LDEO_SAMPNO,ABSORBTION,ABSORBTION_FLAG_W,IMAGE_COUNT,IMAGE_COUNT_FLAG_W,CYTO_COUNT,CYTO_COUNT_FLAG_W,DELD,DELD_FLAG_W,DELDERR,BTL_DATE,BTL_TIME
,,,,,,,,,,,METERS,DBAR,ITS-90,PSS-78,,PSS-78,,UMOL/KG,,UMOL/KG,,UMOL/KG,,UMOL/KG,,UMOL/KG,,UMOL/KG,,PMOL/KG,,PMOL/KG,,PMOL/KG,,FMOL/KG,,UMOL/KG,,UMOL/KG,,,,DEG C,TU,,NMOL/KG,,PERCNT,,DEG C,,/MILLE,,/MILLE,,/MILLE,NMOL/KG,,/MILLE,,UG/KG,,UMOL/KG,,UMOL/KG,,,,TU,NMOL/KG,G/KG,,,,,,1/M,,1/M,,1/M,,1/M,,1/M,,1/M,,1/M,,1/NM,,1/NM,,NMOL/KG,PERCNT,DEG C,,,,,,,,/MILLE,,/MILLE,,
320620110219,       S04P,     138,          2,         31,         31,2,20110419,       0314,   -66.9989,   -73.0125,       1628,     5.6,  -0.0963,  33.8536,2,-999.0000,9,   -999.0,5,  -999.0,9, -999.00,9, -999.00,9, -999.00,9, -999.00,9,-999.000,9,-999.000,9,-999.000,9,-999.0000,9,  -999.0,9,  -999.0,9,-999.0000,9,  -999.00,-999.000,9,-999.0000,9,-999.000,9,  -0.0965,2, -999.00,9,  -999.0,9,  -999.0,-999.000,9, -999.00,9,-999.000,9,   43.39,2,   27.24,2, -66.9991, -73.0134,-999.000,     -999.0,     -999.0,9,     -999.0,1,     -999.0,9,-999.0000,9,-999.0000,9,-999.0000,9,-999.0000,9,-999.0000,9,-999.0000,9,-999.0000,9,-999.0000,9,-999.0000,9,-999.0000,-999.000,  -0.0965,     -999.0,     -999.0,9,     -999.0,1,     -999.0,1,     -999.0,9,     -999.0,20110419,       0410
320620110219,       S04P,     138,          2,         32,         32,2,20110419,       0314,   -66.9989,   -73.0125,       1628,     5.7,  -0.0956,  33.8536,2,  33.8546,2,    333.8,3,   336.4,2,   34.58,2,   22.54,2,    0.23,2,    1.52,2,   5.968,2,   3.255,2,   0.625,2,   2.6490,2,  2162.2,6,  2301.5,2,   7.7047,2,    25.00,-999.000,9,-999.0000,9,-999.000,9,  -0.0956,2, -999.00,9,  -999.0,9,  -999.0,-999.000,9, -999.00,9,-999.000,9, -999.00,9, -999.00,9, -66.9991, -73.0134,-999.000,     -999.0,    34.0143,2,     -999.0,9,     -999.0,1,-999.0000,9,-999.0000,9,-999.0000,9,-999.0000,9,-999.0000,9,-999.0000,9,-999.0000,9,-999.0000,9,-999.0000,9,-999.0000,-999.000,  -0.0958,     -999.0,     -999.0,9,     -999.0,9,     -999.0,9,     -999.0,9,     -999.0,20110419,       0410
320620110219,       S04P,     138,          2,         30,         30,2,20110419,       0314,   -66.9989,   -73.0125,       1628,    24.6,  -0.1127,  33.8548,2,  33.8550,2,    336.2,2,   336.6,2,   35.07,2,   22.55,2,    0.23,2,    1.54,2,   5.930,2,   3.258,2,   0.630,2,   2.5670,2,  2162.9,2,  2298.8,2,   7.7049,6,    25.00,-999.000,9,-999.0000,9,-999.000,9,  -0.1127,2, -999.00,9,  -999.0,9,  -999.0,-999.000,9, -999.00,9,-999.000,9,   43.83,2,   27.29,2, -66.9991, -73.0133,-999.000,     -999.0,    34.0147,2,     -999.0,9,     -999.0,1,-999.0000,9,-999.0000,9,-999.0000,9,-999.0000,9,-999.0000,9,-999.0000,9,-999.0000,9,-999.0000,9,-999.0000,9,-999.0000,-999.000,  -0.1135,     -999.0,     -999.0,9,     -999.0,9,     -999.0,9,     -999.0,9,     -999.0,20110419,       0409
320620110219,       S04P,     138,          2,         29,         29,2,20110419,       0314,   -66.9989,   -73.0125,       1628,    49.8,  -0.1561,  33.8587,2,  33.8589,2,    335.1,2,   337.0,2,   37.26,2,   22.61,2,    0.24,2,    1.54,2,-999.000,9,-999.000,9,-999.000,9,-999.0000,9,  -999.0,9,  -999.0,9,-999.0000,9,  -999.00,-999.000,9,-999.0000,9,-999.000,9,  -0.1628,2, -999.00,9,  -999.0,9,  -999.0,-999.000,9, -999.00,9,-999.000,9,   43.71,2,   27.17,2, -66.9991, -73.0132,-999.000,     -999.0,    34.0186,2,     -999.0,9,     -999.0,9,-999.0000,9,-999.0000,9,-999.0000,9,-999.0000,9,-999.0000,9,-999.0000,9,-999.0000,9,-999.0000,9,-999.0000,9,-999.0000,-999.000,  -0.1577,     -999.0,     -999.0,9,     -999.0,9,     -999.0,9,     -999.0,9,     -999.0,20110419,       0407
320620110219,       S04P,     138,          2,         27,         27,2,20110419,       0314,   -66.9989,   -73.0125,       1628,    64.6,  -0.3628,  33.8548,2,-999.0000,9,   -999.0,9,  -999.0,9, -999.00,9, -999.00,9, -999.00,9, -999.00,9,-999.000,9,-999.000,9,-999.000,9,-999.0000,9,  -999.0,9,  -999.0,9,-999.0000,9,  -999.00,-999.000,9,-999.0000,9,-999.000,9,  -0.3624,2, -999.00,9,  -999.0,9,  -999.0,-999.000,9, -999.00,9,-999.000,9,   43.67,2,   26.23,2, -66.9991, -73.0132,-999.000,     -999.0,     -999.0,9,     -999.0,1,     -999.0,9,-999.0000,9,-999.0000,9,-999.0000,9,-999.0000,9,-999.0000,9,-999.0000,9,-999.0000,9,-999.0000,9,-999.0000,9,-999.0000,-999.000,  -0.3648,     -999.0,     -999.0,9,     -999.0,1,     -999.0,1,     -999.0,9,     -999.0,20110419,       0406
320620110219,       S04P,     138,          2,         28,         28,2,20110419,       0314,   -66.9989,   -73.0125,       1628,    64.8,  -0.3638,  33.8550,2,  33.8546,2,    335.8,2,   341.4,2,   39.93,2,   21.85,2,    0.27,2,    1.50,2,   6.028,2,   3.272,2,   0.628,2,   2.8670,2,  2160.3,2,  -999.0,5,   7.7177,2,    25.00,-999.000,9,-999.0000,9,-999.000,9,  -0.3646,2, -999.00,9,  -999.0,9,  -999.0,-999.000,9, -999.00,9,-999.000,9, -999.00,9, -999.00,9, -66.9991, -73.0132,-999.000,     -999.0,    34.0143,2,     -999.0,9,     -999.0,1,-999.0000,9,-999.0000,9,-999.0000,9,-999.0000,9,-999.0000,9,-999.0000,9,-999.0000,9,-999.0000,9,-999.0000,9,-999.0000,-999.000,  -0.3658,     -999.0,     -999.0,9,     -999.0,9,     -999.0,9,     -999.0,9,     -999.0,20110419,       0406
320620110219,       S04P,     138,          2,         26,         26,2,20110419,       0314,   -66.9989,   -73.0125,       1628,    88.8,  -0.4349,  33.8859,2,  33.8828,2,    337.6,2,   332.5,2,   44.31,2,   23.12,2,    0.30,2,    1.62,2,   5.839,2,   3.183,2,   0.622,2,   2.5340,2,  2168.8,2,  2302.6,2,   7.6948,2,    25.00,-999.000,9,-999.0000,9,-999.000,9,  -0.4329,2, -999.00,9,  -999.0,9,  -999.0,-999.000,9, -999.00,9,-999.000,9,   43.77,2,   27.25,2, -66.9990, -73.0131,-999.000,     -999.0,    34.0426,2,     -999.0,9,     -999.0,1,-999.0000,9,-999.0000,9,-999.0000,9,-999.0000,9,-999.0000,9,-999.0000,9,-999.0000,9,-999.0000,9,-999.0000,9,-999.0000,-999.000,  -0.4376,     -999.0,     -999.0,9,     -999.0,9,     -999.0,9,     -999.0,9,     -999.0,20110419,       0404
320620110219,       S04P,     138,          2,         25,         25,2,20110419,       0314,   -66.9989,   -73.0125,       1628,    89.0,  -0.4409,  33.8868,2,-999.0000,9,   -999.0,9,  -999.0,9, -999.00,9, -999.00,9, -999.00,9, -999.00,9,-999.000,9,-999.000,9,-999.000,9,-999.0000,9,  -999.0,9,  -999.0,9,-999.0000,9,  -999.00,-999.000,9,-999.0000,9,-999.000,9,  -0.4323,2, -999.00,9,  -999.0,9,  -999.0,-999.000,9, -999.00,9,-999.000,9, -999.00,9, -999.00,9, -66.9990, -73.0131,-999.000,     -999.0,     -999.0,9,     -999.0,1,     -999.0,9,-999.0000,9,-999.0000,9,-999.0000,9,-999.0000,9,-999.0000,9,-999.0000,9,-999.0000,9,-999.0000,9,-999.0000,9,-999.0000,-999.000,  -0.4436,     -999.0,     -999.0,9,     -999.0,1,     -999.0,1,     -999.0,9,     -999.0,20110419,       0404
320620110219,       S04P,     138,          2,         23,         23,2,20110419,       0314,   -66.9989,   -73.0125,       1628,    99.4,  -1.1084,  34.0322,2,-999.0000,9,   -999.0,9,  -999.0,9, -999.00,9, -999.00,9, -999.00,9, -999.00,9,-999.000,9,-999.000,9,-999.000,9,-999.0000,9,  -999.0,9,  -999.0,9,-999.0000,9,  -999.00,-999.000,9,-999.0000,9,-999.000,9,  -1.1082,2, -999.00,9,  -999.0,9,  -999.0,-999.000,9, -999.00,9,-999.000,9,   42.98,2,   32.44,2, -66.9990, -73.0131,-999.000,     -999.0,     -999.0,9,     -999.0,1,     -999.0,9,-999.0000,9,-999.0000,9,-999.0000,9,-999.0000,9,-999.0000,9,-999.0000,9,-999.0000,9,-999.0000,9,-999.0000,9,-999.0000,-999.000,  -1.1109,     -999.0,     -999.0,9,     -999.0,1,     -999.0,1,     -999.0,9,     -999.0,20110419,       0402
320620110219,       S04P,     138,          2,         24,         24,2,20110419,       0314,   -66.9989,   -73.0125,       1628,    99.7,  -1.1087,  34.0315,2,  34.0312,2,    300.9,2,   293.2,2,   73.73,2,   28.95,2,    0.17,2,    2.08,2,   4.868,2,   2.683,2,   0.520,2,   2.1070,2,  2206.1,2,  2304.5,2,   7.6055,2,    25.00,-999.000,9,-999.0000,9,-999.000,9,  -1.1116,2, -999.00,9,  -999.0,9,  -999.0,-999.000,9, -999.00,9,-999.000,9, -999.00,9, -999.00,9, -66.9991, -73.0131,-999.000,     -999.0,    34.1917,2,     -999.0,9,     -999.0,1,-999.0000,9,-999.0000,9,-999.0000,9,-999.0000,9,-999.0000,9,-999.0000,9,-999.0000,9,-999.0000,9,-999.0000,9,-999.0000,-999.000,  -1.1112,     -999.0,     -999.0,9,     -999.0,9,     -999.0,9,     -999.0,9,     -999.0,20110419,       0402
320620110219,       S04P,     138,          2,         22,         22,2,20110419,       0314,   -66.9989,   -73.0125,       1628,   125.6,  -0.8296,  34.1408,2,  34.1384,2,    263.7,2,   263.7,2,   78.93,2,   31.31,2,    0.02,2,    2.19,2,-999.000,9,-999.000,9,-999.000,9,-999.0000,9,  2222.0,2,  2310.2,2,   7.5732,2,    25.00,-999.000,9,-999.0000,9,-999.000,9,  -0.8153,2, -999.00,9,  -999.0,9,  -999.0,-999.000,9, -999.00,9,-999.000,9,   42.20,2,   34.25,2, -66.9990, -73.0131,-999.000,     -999.0,    34.2994,2,     -999.0,9,     -999.0,1,-999.0000,9,-999.0000,9,-999.0000,9,-999.0000,9,-999.0000,9,-999.0000,9,-999.0000,9,-999.0000,9,-999.0000,9,-999.0000,-999.000,  -0.8331,     -999.0,     -999.0,9,     -999.0,9,     -999.0,9,     -999.0,9,     -999.0,20110419,       0400
320620110219,       S04P,     138,          2,         21,         21,2,20110419,       0314,   -66.9989,   -73.0125,       1628,   151.3,  -0.1812,  34.2874,2,  34.2820,2,    239.7,2,   229.0,2,   85.74,2,   32.56,2,    0.00,2,    2.27,2,   2.952,2,   1.666,2,   0.309,2,   1.2220,2,  -999.0,9,  -999.0,9,-999.0000,9,  -999.00,-999.000,9,-999.0000,9,-999.000,9,  -0.1822,2, -999.00,9,  -999.0,9,  -999.0,-999.000,9, -999.00,9,-999.000,9,   42.35,2,   35.10,2, -66.9990, -73.0131,-999.000,     -999.0,    34.4436,2,     -999.0,9,     -999.0,9,-999.0000,9,-999.0000,9,-999.0000,9,-999.0000,9,-999.0000,9,-999.0000,9,-999.0000,9,-999.0000,9,-999.0000,9,-999.0000,-999.000,  -0.1864,     -999.0,     -999.0,9,     -999.0,9,     -999.0,9,     -999.0,9,     -999.0,20110419,       0359
320620110219,       S04P,     138,          2,         20,         20,2,20110419,       0314,   -66.9989,   -73.0125,       1628,   175.2,   0.2539,  34.3798,2,  34.3940,2,    214.5,2,   206.6,2,   89.14,2,   33.19,2,    0.00,2,    2.31,2,-999.000,9,-999.000,9,-999.000,9,-999.0000,9,  2248.0,2,  2325.7,2,   7.5385,2,    25.00,-999.000,9,-999.0000,9,-999.000,9,   0.2456,2, -999.00,9,  -999.0,9,  -999.0,-999.000,9, -999.00,9,-999.000,9,   42.21,2,   35.65,2, -66.9990, -73.0131,-999.000,     -999.0,    34.5562,2,     -999.0,9,     -999.0,1,-999.0000,9,-999.0000,9,-999.0000,9,-999.0000,9,-999.0000,9,-999.0000,9,-999.0000,9,-999.0000,9,-999.0000,9,-999.0000,-999.000,   0.2472,     -999.0,     -999.0,9,     -999.0,9,     -999.0,9,     -999.0,9,     -999.0,20110419,       0357
320620110219,       S04P,     138,          2,         19,         19,2,20110419,       0314,   -66.9989,   -73.0125,       1628,   200.5,   0.6983,  34.4722,2,  34.4718,2,    195.6,2,   192.4,2,   91.75,2,   33.56,2,    0.00,2,    2.33,2,   1.694,2,   0.945,2,   0.160,2,   0.6380,2,  -999.0,9,  -999.0,9,-999.0000,9,  -999.00,-999.000,9,-999.0000,9,-999.000,9,   0.6983,2, -999.00,9,  -999.0,9,  -999.0,-999.000,9, -999.00,9,-999.000,9,   42.15,2,   36.11,2, -66.9990, -73.0130,-999.000,     -999.0,    34.6344,2,     -999.0,9,     -999.0,9,-999.0000,9,-999.0000,9,-999.0000,9,-999.0000,9,-999.0000,9,-999.0000,9,-999.0000,9,-999.0000,9,-999.0000,9,-999.0000,-999.000,   0.6898,     -999.0,     -999.0,9,     -999.0,9,     -999.0,9,     -999.0,9,     -999.0,20110419,       0356
320620110219,       S04P,     138,          2,         18,         18,2,20110419,       0314,   -66.9989,   -73.0125,       1628,   225.5,   0.9606,  34.5322,2,  34.5312,2,    185.4,2,   183.5,2,   94.38,2,   33.52,2,    0.00,2,    2.34,2,-999.000,9,-999.000,9,-999.000,9,-999.0000,9,  2258.4,2,  2336.5,2,   7.5331,2,    25.00,-999.000,9,-999.0000,9,-999.000,9,   0.9600,2, -999.00,9,  -999.0,9,  -999.0,-999.000,9, -999.00,9,-999.000,9,   42.37,2,   36.30,2, -66.9990, -73.0129,-999.000,     -999.0,    34.6940,2,     -999.0,9,     -999.0,1,-999.0000,9,-999.0000,9,-999.0000,9,-999.0000,9,-999.0000,9,-999.0000,9,-999.0000,9,-999.0000,9,-999.0000,9,-999.0000,-999.000,   0.9504,     -999.0,     -999.0,9,     -999.0,9,     -999.0,9,     -999.0,9,     -999.0,20110419,       0354
320620110219,       S04P,     138,          2,         17,         17,2,20110419,       0314,   -66.9989,   -73.0125,       1628,   249.5,   1.1430,  34.5743,2,  34.5810,2,    179.6,2,   178.6,2,   94.95,2,   33.34,2,    0.00,2,    2.33,2,   1.073,2,   0.686,2,   0.095,2,   0.3690,2,  -999.0,9,  -999.0,9,-999.0000,9,  -999.00,-999.000,9,-999.0000,9,-999.000,9,   1.1442,2, -999.00,9,  -999.0,9,  -999.0,-999.000,9, -999.00,9,-999.000,9,   41.73,2,   35.97,2, -66.9990, -73.0128,-999.000,     -999.0,    34.7441,2,     -999.0,9,     -999.0,9,-999.0000,9,-999.0000,9,-999.0000,9,-999.0000,9,-999.0000,9,-999.0000,9,-999.0000,9,-999.0000,9,-999.0000,9,-999.0000,-999.000,   1.1313,     -999.0,     -999.0,9,     -999.0,9,     -999.0,9,     -999.0,9,     -999.0,20110419,       0352
320620110219,       S04P,     138,          2,         16,         16,2,20110419,       0314,   -66.9989,   -73.0125,       1628,   301.0,   1.5867,  34.6657,2,  34.6628,2,    172.7,2,   173.5,2,   93.40,2,   32.84,2,    0.00,2,    2.28,2,-999.000,9,-999.000,9,-999.000,9,-999.0000,9,  2261.5,2,  2350.0,2,   7.5497,2,    25.00,-999.000,9,-999.0000,9,-999.000,9,   1.5868,2, -999.00,9,  -999.0,9,  -999.0,-999.000,9, -999.00,9,-999.000,9,   41.70,2,   35.43,2, -66.9990, -73.0127,-999.000,     -999.0,    34.8263,2,     -999.0,9,     -999.0,1,-999.0000,9,-999.0000,9,-999.0000,9,-999.0000,9,-999.0000,9,-999.0000,9,-999.0000,9,-999.0000,9,-999.0000,9,-999.0000,-999.000,   1.5713,     -999.0,     -999.0,9,     -999.0,9,     -999.0,9,     -999.0,9,     -999.0,20110419,       0350
320620110219,       S04P,     138,          2,         15,         15,2,20110419,       0314,   -66.9989,   -73.0125,       1628,   350.4,   1.7996,  34.7060,2,  34.7064,2,    176.2,2,   177.4,2,   88.71,2,   32.08,2,    0.00,2,    2.22,2,   0.343,2,   0.167,2,   0.026,2,   0.0670,2,  -999.0,9,  -999.0,9,-999.0000,9,  -999.00,-999.000,9,-999.0000,9,-999.000,9,   1.7995,2, -999.00,9,  -999.0,9,  -999.0,-999.000,9, -999.00,9,-999.000,9,   40.78,2,   34.56,2, -66.9990, -73.0126,-999.000,     -999.0,    34.8700,2,     -999.0,9,     -999.0,9,-999.0000,9,-999.0000,9,-999.0000,9,-999.0000,9,-999.0000,9,-999.0000,9,-999.0000,9,-999.0000,9,-999.0000,9,-999.0000,-999.000,   1.7809,     -999.0,     -999.0,9,     -999.0,9,     -999.0,9,     -999.0,9,     -999.0,20110419,       0349
320620110219,       S04P,     138,          2,         14,         14,2,20110419,       0314,   -66.9989,   -73.0125,       1628,   399.5,   1.7582,  34.7202,2,  34.7205,2,    179.9,2,   180.6,2,   90.21,2,   31.73,2,    0.00,2,    2.19,2,-999.000,9,-999.000,9,-999.000,9,-999.0000,9,  -999.0,9,  -999.0,9,-999.0000,9,  -999.00,-999.000,9,-999.0000,9,-999.000,9,   1.7583,2, -999.00,9,  -999.0,9,  -999.0,-999.000,9, -999.00,9,-999.000,9,   40.39,2,   34.50,2, -66.9989, -73.0126,-999.000,     -999.0,    34.8842,2,     -999.0,9,     -999.0,9,-999.0000,9,-999.0000,9,-999.0000,9,-999.0000,9,-999.0000,9,-999.0000,9,-999.0000,9,-999.0000,9,-999.0000,9,-999.0000,-999.000,   1.7368,     -999.0,     -999.0,9,     -999.0,9,     -999.0,9,     -999.0,9,     -999.0,20110419,       0347
320620110219,       S04P,     138,          2,         13,         13,2,20110419,       0314,   -66.9989,   -73.0125,       1628,   449.6,   1.7057,  34.7247,2,  34.7256,2,    182.8,2,   183.3,2,   91.78,2,   31.50,2,    0.00,2,    2.18,2,   0.236,2,   0.112,2,   0.016,2,   0.0260,2,  2255.3,2,  2352.3,2,   7.5857,4,    25.00,-999.000,9,-999.0000,9,-999.000,9,   1.7039,2, -999.00,9,  -999.0,9,  -999.0,-999.000,9, -999.00,9,-999.000,9,   40.53,2,   34.25,2, -66.9989, -73.0125,-999.000,     -999.0,    34.8893,2,     -999.0,9,     -999.0,1,-999.0000,9,-999.0000,9,-999.0000,9,-999.0000,9,-999.0000,9,-999.0000,9,-999.0000,9,-999.0000,9,-999.0000,9,-999.0000,-999.000,   1.6817,     -999.0,     -999.0,9,     -999.0,9,     -999.0,9,     -999.0,9,     -999.0,20110419,       0345
320620110219,       S04P,     138,          2,         12,         12,2,20110419,       0314,   -66.9989,   -73.0125,       1628,   500.3,   1.6471,  34.7269,2,  34.7276,2,    185.1,2,   184.6,2,   93.32,2,   31.46,2,    0.00,2,    2.18,2,-999.000,9,-999.000,9,-999.000,9,-999.0000,9,  -999.0,9,  -999.0,9,-999.0000,9,  -999.00,-999.000,9,-999.0000,9,-999.000,9,   1.6463,2, -999.00,9,  -999.0,9,  -999.0,-999.000,9, -999.00,9,-999.000,9,   40.68,2,   34.10,2, -66.9989, -73.0125,-999.000,     -999.0,    34.8913,2,     -999.0,9,     -999.0,9,-999.0000,9,-999.0000,9,-999.0000,9,-999.0000,9,-999.0000,9,-999.0000,9,-999.0000,9,-999.0000,9,-999.0000,9,-999.0000,-999.000,   1.6204,     -999.0,     -999.0,9,     -999.0,9,     -999.0,9,     -999.0,9,     -999.0,20110419,       0343
320620110219,       S04P,     138,          2,         11,         11,2,20110419,       0314,   -66.9989,   -73.0125,       1628,   600.6,   1.5311,  34.7268,2,  34.7266,2,    186.2,2,   185.9,2,   97.40,2,   31.56,2,    0.00,2,    2.19,2,   0.207,2,   0.100,2,   0.013,2,   0.0330,2,  2257.5,2,  2355.0,2,   7.5873,2,    25.00,-999.000,9,-999.0000,9,-999.000,9,   1.5309,2, -999.00,9,  -999.0,9,  -999.0,-999.000,9, -999.00,9,-999.000,9,   40.76,2,   34.04,2, -66.9989, -73.0125,-999.000,     -999.0,    34.8903,2,     -999.0,9,     -999.0,1,-999.0000,9,-999.0000,9,-999.0000,9,-999.0000,9,-999.0000,9,-999.0000,9,-999.0000,9,-999.0000,9,-999.0000,9,-999.0000,-999.000,   1.4991,     -999.0,     -999.0,9,     -999.0,9,     -999.0,9,     -999.0,9,     -999.0,20110419,       0341
320620110219,       S04P,     138,          2,         10,         37,2,20110419,       0314,   -66.9989,   -73.0125,       1628,   699.2,   1.4386,  34.7283,2,  34.7283,2,    188.9,2,   189.0,2,   99.92,2,   31.52,2,    0.00,2,    2.18,2,-999.000,9,-999.000,9,-999.000,9,-999.0000,9,  -999.0,9,  -999.0,9,-999.0000,9,  -999.00,-999.000,9,-999.0000,9,-999.000,9,   1.4380,2, -999.00,9,  -999.0,9,  -999.0,-999.000,9, -999.00,9,-999.000,9,   40.81,2,   33.84,2, -66.9989, -73.0124,-999.000,     -999.0,    34.8921,2,     -999.0,9,     -999.0,9,-999.0000,9,-999.0000,9,-999.0000,9,-999.0000,9,-999.0000,9,-999.0000,9,-999.0000,9,-999.0000,9,-999.0000,9,-999.0000,-999.000,   1.4012,     -999.0,     -999.0,9,     -999.0,9,     -999.0,9,     -999.0,9,     -999.0,20110419,       0338