BOTTLE,20220813CCHSIOAMB
EXPOCODE,SECT_ID,STNNBR,CASTNO,SAMPNO,BTLNBR,BTLNBR_FLAG_W,DATE,TIME,LATITUDE,LONGITUDE,DEPTH,CTDPRS,CTDTMP,CTDSAL,CTDSAL_FLAG_W,SALNTY,SALNTY_FLAG_W,CTDOXY,CTDOXY_FLAG_W,OXYGEN,OXYGEN_FLAG_W,SILCAT,SILCAT_FLAG_W,NITRAT,NITRAT_FLAG_W,NITRIT,NITRIT_FLAG_W,PHSPHT,PHSPHT_FLAG_W,CFC-11,CFC-11_FLAG_W,CFC-12,CFC-12_FLAG_W,CFC113,CFC113_FLAG_W,SF6,SF6_FLAG_W,TCARBN,TCARBN_FLAG_W,ALKALI,ALKALI_FLAG_W,PH_TOT,PH_TOT_FLAG_W,PH_TMP,TRITUM,TRITUM_FLAG_W,HELIUM,HELIUM_FLAG_W,DELHE3,DELHE3_FLAG_W,REFTMP,REFTMP_FLAG_W,DELC13,DELC13_FLAG_W,DELC14,DELC14_FLAG_W,C14ERR,NEON,NEON_FLAG_W,DELO18,DELO18_FLAG_W,POC,POC_FLAG_W,DOC,DOC_FLAG_W,TDN,TDN_FLAG_W,BTL_LAT,BTL_LON,TRITER,NEONER,SALTREF,SALTREF_FLAG_W,PIGMENTS,PIGMENTS_FLAG_W,LAB_DEN,LAB_DEN_FLAG_W,CDOM325,CDOM325_FLAG_W,CDOM340,CDOM340_FLAG_W,CDOM380,CDOM380_FLAG_W,CDOM412,CDOM412_FLAG_W,CDOM443,CDOM443_FLAG_W,CDOM490,CDOM490_FLAG_W,CDOM555,CDOM555_FLAG_W,CDOMSL,CDOMSL_FLAG_W,CDOMSN,CDOMSN_FLAG_W,HELIER,DELHER,THETA,LDEO_SAMPNO,ABSORBTION,ABSORBTION_FLAG_W,IMAGE_COUNT,IMAGE_COUNT_FLAG_W,CYTO_COUNT,CYTO_COUNT_FLAG_W,DELD,DELD_FLAG_W,DELDERR,BTL_DATE,BTL_TIME
,,,,,,,,,,,METERS,DBAR,ITS-90,PSS-78,,PSS-78,,UMOL/KG,,UMOL/KG,,UMOL/KG,,UMOL/KG,,UMOL/KG,,UMOL/KG,,PMOL/KG,,PMOL/KG,,PMOL/KG,,FMOL/KG,,UMOL/KG,,UMOL/KG,,,,DEG C,TU,,NMOL/KG,,PERCNT,,DEG C,,/MILLE,,/MILLE,,/MILLE,NMOL/KG,,/MILLE,,UG/KG,,UMOL/KG,,UMOL/KG,,,,TU,NMOL/KG,G/KG,,,,,,1/M,,1/M,,1/M,,1/M,,1/M,,1/M,,1/M,,1/NM,,1/NM,,NMOL/KG,PERCNT,DEG C,,,,,,,,/MILLE,,/MILLE,,
320620110219,       S04P,     129,          1,         13,         13,2,20110416,       2346,   -67.0000,   -79.0630,       3903,  1535.1,   1.2288,  34.7255,2,  34.7274,2,    195.2,2,   195.3,2,  106.28,2,   31.28,2,    0.00,2,    2.19,2,   0.114,2,   0.058,2,   0.001,2,   0.0000,2,  -999.0,9,  -999.0,9,-999.0000,9,  -999.00,   0.012,2,   1.9162,2,    9.99,2,   1.2287,2, -999.00,9,  -999.0,9,  -999.0,   8.391,2, -999.00,9,-999.000,9,   39.63,2,   34.16,2, -67.0000, -79.0630,   0.012,      0.043,    34.8911,2,     -999.0,9,     -999.0,9,-999.0000,9,-999.0000,9,-999.0000,9,-999.0000,9,-999.0000,9,-999.0000,9,-999.0000,9,-999.0000,9,-999.0000,9,   0.0092,    0.14,   1.1387,     -999.0,     -999.0,9,     -999.0,9,     -999.0,9,     -999.0,9,     -999.0,20110417,       0039
320620110219,       S04P,     129,          1,         12,         12,2,20110416,       2346,   -67.0000,   -79.0630,       3903,  1634.4,   1.1649,  34.7236,2,  34.7238,2,    196.5,2,   196.0,2,  108.49,2,   31.35,2,    0.00,2,    2.19,2,-999.000,9,-999.000,9,-999.000,9,-999.0000,9,  2261.3,2,  2360.7,2,   7.5994,2,    25.00,-999.000,9,-999.0000,9,-999.000,9,   1.1653,2, -999.00,9,  -999.0,9,  -999.0,-999.000,9, -999.00,9,-999.000,9,   39.29,2,   33.45,2, -67.0000, -79.0630,-999.000,     -999.0,    34.8875,2,     -999.0,9,     -999.0,9,-999.0000,9,-999.0000,9,-999.0000,9,-999.0000,9,-999.0000,9,-999.0000,9,-999.0000,9,-999.0000,9,-999.0000,9,-999.0000,-999.000,   1.0684,     -999.0,     -999.0,9,     -999.0,9,     -999.0,9,     -999.0,9,     -999.0,20110417,       0037
320620110219,       S04P,     129,          1,         11,         11,2,20110416,       2346,   -67.0000,   -79.0630,       3903,  1734.3,   1.1103,  34.7216,2,  34.7220,2,    197.9,2,   197.1,2,  110.12,2,   31.32,2,    0.00,2,    2.19,2,   0.188,2,   0.098,2,   0.007,2,   0.0260,2,  -999.0,9,  -999.0,9,-999.0000,9,  -999.00,  -0.030,2,   1.9540,2,    9.84,2,   1.1101,2, -999.00,9,  -999.0,9,  -999.0,   8.445,2, -999.00,9,-999.000,9,   39.09,2,   34.01,2, -67.0000, -79.0630,   0.012,      0.043,    34.8858,2,     -999.0,9,     -999.0,9,-999.0000,9,-999.0000,9,-999.0000,9,-999.0000,9,-999.0000,9,-999.0000,9,-999.0000,9,-999.0000,9,-999.0000,9,   0.0094,    0.14,   1.0073,     -999.0,     -999.0,9,     -999.0,9,     -999.0,9,     -999.0,9,     -999.0,20110417,       0034
320620110219,       S04P,     129,          1,         10,         37,2,20110416,       2346,   -67.0000,   -79.0630,       3903,  1865.1,   1.0511,  34.7195,2,  34.7197,2,    198.7,2,   198.6,2,  112.41,2,   31.41,2,    0.00,2,    2.20,2,-999.000,9,-999.000,9,-999.000,9,-999.0000,9,  -999.0,9,  -999.0,9,-999.0000,9,  -999.00,-999.000,9,-999.0000,9,-999.000,9,   1.0517,2, -999.00,9,  -999.0,9,  -999.0,-999.000,9, -999.00,9,-999.000,9,   39.43,2,   34.07,2, -67.0000, -79.0630,-999.000,     -999.0,    34.8834,2,     -999.0,9,     -999.0,9,-999.0000,9,-999.0000,9,-999.0000,9,-999.0000,9,-999.0000,9,-999.0000,9,-999.0000,9,-999.0000,9,-999.0000,9,-999.0000,-999.000,   0.9392,     -999.0,     -999.0,9,     -999.0,9,     -999.0,9,     -999.0,9,     -999.0,20110417,       0031
320620110219,       S04P,     129,          1,          9,          9,2,20110416,       2346,   -67.0000,   -79.0630,       3903,  2084.2,   0.9285,  34.7151,2,  34.7151,2,    201.3,2,   201.4,2,  116.73,2,   31.61,2,    0.00,2,    2.21,2,   0.118,2,   0.064,2,   0.004,2,   0.0310,2,  2262.3,2,  2360.9,2,   7.6007,2,    25.00,  -0.022,2,-999.0000,9,-999.000,9,   0.9287,2, -999.00,9,  -999.0,9,  -999.0,-999.000,9, -999.00,9,-999.000,9,   39.42,2,   34.32,2, -67.0000, -79.0630,   0.012,     -999.0,    34.8788,2,     -999.0,9,     -999.0,9,-999.0000,9,-999.0000,9,-999.0000,9,-999.0000,9,-999.0000,9,-999.0000,9,-999.0000,9,-999.0000,9,-999.0000,9,-999.0000,-999.000,   0.8017,     -999.0,     -999.0,9,     -999.0,9,     -999.0,9,     -999.0,9,     -999.0,20110417,       0026
320620110219,       S04P,     129,          1,          8,          8,2,20110416,       2346,   -67.0000,   -79.0630,       3903,  2334.5,   0.8053,  34.7108,2,  34.7112,2,    203.5,2,   203.6,2,  120.41,2,   31.80,2,    0.00,2,    2.22,2,-999.000,9,-999.000,9,-999.000,9,-999.0000,9,  -999.0,9,  -999.0,9,-999.0000,9,  -999.00,-999.000,9,-999.0000,9,-999.000,9,   0.8059,2, -999.00,9,  -999.0,9,  -999.0,-999.000,9, -999.00,9,-999.000,9,   39.22,2,   34.47,2, -67.0000, -79.0630,-999.000,     -999.0,    34.8749,2,     -999.0,9,     -999.0,9,-999.0000,9,-999.0000,9,-999.0000,9,-999.0000,9,-999.0000,9,-999.0000,9,-999.0000,9,-999.0000,9,-999.0000,9,-999.0000,-999.000,   0.6607,     -999.0,     -999.0,9,     -999.0,9,     -999.0,9,     -999.0,9,     -999.0,20110417,       0021
320620110219,       S04P,     129,          1,          7,          7,2,20110416,       2346,   -67.0000,   -79.0630,       3903,  2584.6,   0.6947,  34.7079,2,  34.7083,2,    205.8,2,   206.0,2,  123.72,2,   31.99,2,    0.00,2,    2.23,2,   0.152,2,   0.075,2,   0.005,2,   0.0390,2,  2262.9,2,  2362.4,2,   7.5992,2,    25.00,   0.003,2,   1.9250,2,   10.47,2,   0.6952,2, -999.00,9,  -999.0,9,  -999.0,   8.434,2, -999.00,9,-999.000,9,   39.57,2,   34.65,2, -67.0000, -79.0630,   0.012,      0.043,    34.8719,2,     -999.0,9,     -999.0,9,-999.0000,9,-999.0000,9,-999.0000,9,-999.0000,9,-999.0000,9,-999.0000,9,-999.0000,9,-999.0000,9,-999.0000,9,   0.0092,    0.14,   0.5316,     -999.0,     -999.0,9,     -999.0,9,     -999.0,9,     -999.0,9,     -999.0,20110417,       0016
320620110219,       S04P,     129,          1,          6,          6,2,20110416,       2346,   -67.0000,   -79.0630,       3903,  2833.9,   0.5780,  34.7056,2,  34.7061,2,    207.9,2,   208.0,2,  127.01,2,   32.12,2,    0.00,2,    2.23,2,-999.000,9,-999.000,9,-999.000,9,-999.0000,9,  -999.0,9,  -999.0,9,-999.0000,9,  -999.00,-999.000,9,-999.0000,9,-999.000,9,   0.5782,2, -999.00,9,  -999.0,9,  -999.0,-999.000,9, -999.00,9,-999.000,9,   39.75,2,   34.56,2, -67.0000, -79.0630,-999.000,     -999.0,    34.8697,2,     -999.0,9,     -999.0,9,-999.0000,9,-999.0000,9,-999.0000,9,-999.0000,9,-999.0000,9,-999.0000,9,-999.0000,9,-999.0000,9,-999.0000,9,-999.0000,-999.000,   0.3961,     -999.0,     -999.0,9,     -999.0,9,     -999.0,9,     -999.0,9,     -999.0,20110417,       0011
320620110219,       S04P,     129,          1,          5,          5,2,20110416,       2346,   -67.0000,   -79.0630,       3903,  3099.6,   0.4843,  34.7040,2,  34.7045,2,    209.5,2,   209.6,2,  131.64,2,   32.29,2,    0.00,2,    2.24,2,   0.163,2,   0.085,2,   0.002,2,   0.0040,2,  2264.7,2,  2363.5,2,   7.5989,2,    25.00,   0.009,2,   1.9202,2,    9.58,2,   0.4845,2, -999.00,9,  -999.0,9,  -999.0,   8.419,2,   -0.11,2,-999.000,9,   40.43,2,   34.62,2, -67.0000, -79.0630,   0.012,      0.043,    34.8682,2,     -999.0,9,     -999.0,9,-999.0000,9,-999.0000,9,-999.0000,9,-999.0000,9,-999.0000,9,-999.0000,9,-999.0000,9,-999.0000,9,-999.0000,9,   0.0092,    0.14,   0.2810,     -999.0,     -999.0,9,     -999.0,9,     -999.0,9,      -2.10,2,       0.05,20110417,       0005
320620110219,       S04P,     129,          1,          4,          4,2,20110416,       2346,   -67.0000,   -79.0630,       3903,  3400.0,   0.4344,  34.7034,2,  34.7037,2,    211.1,2,   210.7,2,  134.56,2,   32.32,2,    0.00,2,    2.24,2,-999.000,9,-999.000,9,-999.000,9,-999.0000,9,  -999.0,9,  -999.0,9,-999.0000,9,  -999.00,-999.000,9,-999.0000,9,-999.000,9,   0.4350,2, -999.00,9,  -999.0,9,  -999.0,-999.000,9, -999.00,9,-999.000,9,   40.31,2,   34.58,2, -67.0000, -79.0630,-999.000,     -999.0,    34.8674,2,     -999.0,9,     -999.0,9,-999.0000,9,-999.0000,9,-999.0000,9,-999.0000,9,-999.0000,9,-999.0000,9,-999.0000,9,-999.0000,9,-999.0000,9,-999.0000,-999.000,   0.2046,     -999.0,     -999.0,9,     -999.0,9,     -999.0,9,     -999.0,9,     -999.0,20110416,       2359
320620110219,       S04P,     129,          1,          3,          3,2,20110416,       2346,   -67.0000,   -79.0630,       3903,  3700.3,   0.3971,  34.7028,2,  34.7033,2,    212.4,2,   211.9,2,  136.97,2,   32.47,2,    0.00,2,    2.24,2,   0.196,2,   0.098,2,   0.003,2,   0.0180,2,  2265.5,2,  2364.6,2,   7.5987,2,    25.00,   0.010,2,   2.0001,2,    8.83,2,   0.3969,2, -999.00,9,  -999.0,9,  -999.0,   8.678,2,   -0.18,2,-999.000,9,   40.48,2,   35.05,2, -67.0000, -79.0630,   0.013,      0.044,    34.8670,2,     -999.0,9,     -999.0,9,-999.0000,9,-999.0000,9,-999.0000,9,-999.0000,9,-999.0000,9,-999.0000,9,-999.0000,9,-999.0000,9,-999.0000,9,   0.0096,    0.14,   0.1394,     -999.0,     -999.0,9,     -999.0,9,     -999.0,9,      -2.64,2,       0.20,20110416,       2353
320620110219,       S04P,     129,          1,          2,          2,2,20110416,       2346,   -67.0000,   -79.0630,       3903,  3850.6,   0.3780,  34.7023,2,  34.7031,2,    211.8,2,   211.5,2,  140.83,2,   32.55,2,    0.00,2,    2.24,2,-999.000,9,-999.000,9,-999.000,9,-999.0000,9,  2267.2,2,  -999.0,9,   7.5945,6,    25.00,-999.000,9,-999.0000,9,-999.000,9,   0.3779,2, -999.00,9,  -999.0,9,  -999.0,-999.000,9, -999.00,9,-999.000,9,   40.87,2,   34.66,2, -67.0000, -79.0630,-999.000,     -999.0,    34.8668,2,     -999.0,9,     -999.0,9,-999.0000,9,-999.0000,9,-999.0000,9,-999.0000,9,-999.0000,9,-999.0000,9,-999.0000,9,-999.0000,9,-999.0000,9,-999.0000,-999.000,   0.1059,     -999.0,     -999.0,9,     -999.0,9,     -999.0,9,     -999.0,9,     -999.0,20110416,       2350
320620110219,       S04P,     129,          1,          1,          1,2,20110416,       2346,   -67.0000,   -79.0630,       3903,  3966.9,   0.3816,  34.7021,2,  34.7029,2,    209.8,2,   210.5,2,  145.05,2,   32.62,2,    0.00,2,    2.24,2,   0.291,2,   0.138,2,   0.005,2,   0.0340,2,  2268.5,6,  2364.5,2,   7.5931,2,    25.00,   0.010,2,-999.0000,9,-999.000,9,   0.3813,2, -999.00,9,  -999.0,9,  -999.0,-999.000,9,   -0.16,2,-999.000,9,   40.71,2,   35.02,2, -67.0000, -79.0630,   0.013,     -999.0,    34.8665,2,     -999.0,9,     -999.0,9,-999.0000,9,-999.0000,9,-999.0000,9,-999.0000,9,-999.0000,9,-999.0000,9,-999.0000,9,-999.0000,9,-999.0000,9,-999.0000,-999.000,   0.0977,     -999.0,     -999.0,9,     -999.0,9,     -999.0,9,      -2.62,2,       0.26,20110416,       2346