BOTTLE,20220813CCHSIOAMB
EXPOCODE,SECT_ID,STNNBR,CASTNO,SAMPNO,BTLNBR,BTLNBR_FLAG_W,DATE,TIME,LATITUDE,LONGITUDE,DEPTH,CTDPRS,CTDTMP,CTDSAL,CTDSAL_FLAG_W,SALNTY,SALNTY_FLAG_W,CTDOXY,CTDOXY_FLAG_W,OXYGEN,OXYGEN_FLAG_W,SILCAT,SILCAT_FLAG_W,NITRAT,NITRAT_FLAG_W,NITRIT,NITRIT_FLAG_W,PHSPHT,PHSPHT_FLAG_W,CFC-11,CFC-11_FLAG_W,CFC-12,CFC-12_FLAG_W,CFC113,CFC113_FLAG_W,SF6,SF6_FLAG_W,TCARBN,TCARBN_FLAG_W,ALKALI,ALKALI_FLAG_W,PH_TOT,PH_TOT_FLAG_W,PH_TMP,TRITUM,TRITUM_FLAG_W,HELIUM,HELIUM_FLAG_W,DELHE3,DELHE3_FLAG_W,REFTMP,REFTMP_FLAG_W,DELC13,DELC13_FLAG_W,DELC14,DELC14_FLAG_W,C14ERR,NEON,NEON_FLAG_W,DELO18,DELO18_FLAG_W,POC,POC_FLAG_W,DOC,DOC_FLAG_W,TDN,TDN_FLAG_W,BTL_LAT,BTL_LON,TRITER,NEONER,SALTREF,SALTREF_FLAG_W,PIGMENTS,PIGMENTS_FLAG_W,LAB_DEN,LAB_DEN_FLAG_W,CDOM325,CDOM325_FLAG_W,CDOM340,CDOM340_FLAG_W,CDOM380,CDOM380_FLAG_W,CDOM412,CDOM412_FLAG_W,CDOM443,CDOM443_FLAG_W,CDOM490,CDOM490_FLAG_W,CDOM555,CDOM555_FLAG_W,CDOMSL,CDOMSL_FLAG_W,CDOMSN,CDOMSN_FLAG_W,HELIER,DELHER,THETA,LDEO_SAMPNO,ABSORBTION,ABSORBTION_FLAG_W,IMAGE_COUNT,IMAGE_COUNT_FLAG_W,CYTO_COUNT,CYTO_COUNT_FLAG_W,DELD,DELD_FLAG_W,DELDERR,BTL_DATE,BTL_TIME
,,,,,,,,,,,METERS,DBAR,ITS-90,PSS-78,,PSS-78,,UMOL/KG,,UMOL/KG,,UMOL/KG,,UMOL/KG,,UMOL/KG,,UMOL/KG,,PMOL/KG,,PMOL/KG,,PMOL/KG,,FMOL/KG,,UMOL/KG,,UMOL/KG,,,,DEG C,TU,,NMOL/KG,,PERCNT,,DEG C,,/MILLE,,/MILLE,,/MILLE,NMOL/KG,,/MILLE,,UG/KG,,UMOL/KG,,UMOL/KG,,,,TU,NMOL/KG,G/KG,,,,,,1/M,,1/M,,1/M,,1/M,,1/M,,1/M,,1/M,,1/NM,,1/NM,,NMOL/KG,PERCNT,DEG C,,,,,,,,/MILLE,,/MILLE,,
320620110219,       S04P,     134,          1,         36,         36,2,20110418,       0719,   -67.0001,   -74.5143,       2911,     5.1,  -0.0231,  33.8244,2,  33.8234,2,    335.1,2,   335.6,2,   30.01,2,   22.38,2,    0.22,2,    1.52,2,   5.963,2,   3.276,2,   0.662,2,   2.5660,2,  2160.9,2,  2292.8,6,   7.7065,2,    25.00,-999.000,9,-999.0000,9,-999.000,9,  -0.0237,2, -999.00,9,  -999.0,9,  -999.0,-999.000,9, -999.00,9,-999.000,9,   43.55,2,   27.23,2, -66.9992, -74.5421,-999.000,     -999.0,    33.9829,2,     -999.0,9,     -999.0,9,-999.0000,9,-999.0000,9,-999.0000,9,-999.0000,9,-999.0000,9,-999.0000,9,-999.0000,9,-999.0000,9,-999.0000,9,-999.0000,-999.000,  -0.0233,     -999.0,     -999.0,9,     -999.0,9,     -999.0,9,     -999.0,9,     -999.0,20110418,       0844
320620110219,       S04P,     134,          1,         35,         35,2,20110418,       0719,   -67.0001,   -74.5143,       2911,    24.2,  -0.0097,  33.8261,2,  33.8257,2,    335.6,2,   335.4,2,   30.23,2,   22.44,2,    0.22,2,    1.53,2,-999.000,9,-999.000,9,-999.000,9,-999.0000,9,  -999.0,9,  -999.0,9,-999.0000,9,  -999.00,-999.000,9,-999.0000,9,-999.000,9,  -0.0099,2, -999.00,9,  -999.0,9,  -999.0,-999.000,9, -999.00,9,-999.000,9,   43.14,2,   26.66,2, -66.9992, -74.5415,-999.000,     -999.0,    33.9852,2,     -999.0,9,     -999.0,9,-999.0000,9,-999.0000,9,-999.0000,9,-999.0000,9,-999.0000,9,-999.0000,9,-999.0000,9,-999.0000,9,-999.0000,9,-999.0000,-999.000,  -0.0105,     -999.0,     -999.0,9,     -999.0,9,     -999.0,9,     -999.0,9,     -999.0,20110418,       0843
320620110219,       S04P,     134,          1,         34,         34,2,20110418,       0719,   -67.0001,   -74.5143,       2911,    49.7,  -0.0128,  33.8264,2,  33.8255,2,    334.8,2,   335.4,2,   30.29,2,   22.48,2,    0.22,2,    1.54,2,   5.935,2,   3.276,2,   0.628,2,   2.6170,2,  2160.5,6,  2292.3,2,   7.7071,2,    25.00,-999.000,9,-999.0000,9,-999.000,9,  -0.0126,2, -999.00,9,  -999.0,9,  -999.0,-999.000,9, -999.00,9,-999.000,9,   43.04,2,   27.26,2, -66.9993, -74.5410,-999.000,     -999.0,    33.9851,2,     -999.0,9,     -999.0,9,-999.0000,9,-999.0000,9,-999.0000,9,-999.0000,9,-999.0000,9,-999.0000,9,-999.0000,9,-999.0000,9,-999.0000,9,-999.0000,-999.000,  -0.0145,     -999.0,     -999.0,9,     -999.0,9,     -999.0,9,     -999.0,9,     -999.0,20110418,       0841
320620110219,       S04P,     134,          1,         33,         33,2,20110418,       0719,   -67.0001,   -74.5143,       2911,    76.3,  -0.0152,  33.8316,2,  33.8355,2,    335.1,2,   333.7,2,   31.68,2,   22.74,2,    0.24,2,    1.57,2,   5.888,2,   3.252,2,   0.624,2,   2.5340,2,  2163.5,2,  -999.0,9,   7.7033,2,    25.00,-999.000,9,-999.0000,9,-999.000,9,  -0.0133,2, -999.00,9,  -999.0,9,  -999.0,-999.000,9, -999.00,9,-999.000,9,   42.80,2,   27.54,2, -66.9993, -74.5408,-999.000,     -999.0,    33.9951,2,     -999.0,9,     -999.0,9,-999.0000,9,-999.0000,9,-999.0000,9,-999.0000,9,-999.0000,9,-999.0000,9,-999.0000,9,-999.0000,9,-999.0000,9,-999.0000,-999.000,  -0.0178,     -999.0,     -999.0,9,     -999.0,9,     -999.0,9,     -999.0,9,     -999.0,20110418,       0840
320620110219,       S04P,     134,          1,         32,         32,2,20110418,       0719,   -67.0001,   -74.5143,       2911,    99.8,  -0.9225,  34.1111,2,  34.1062,2,    298.2,2,   277.2,2,   69.66,2,   30.73,2,    0.27,2,    2.24,2,   4.527,2,   2.522,2,   0.467,2,   1.7750,2,  2217.9,2,  2307.9,2,   7.5849,6,    25.00,-999.000,9,-999.0000,9,-999.000,9,  -0.9134,2, -999.00,9,  -999.0,9,  -999.0,-999.000,9, -999.00,9,-999.000,9,   42.74,2,   34.35,2, -66.9994, -74.5406,-999.000,     -999.0,    34.2670,2,     -999.0,9,     -999.0,9,-999.0000,9,-999.0000,9,-999.0000,9,-999.0000,9,-999.0000,9,-999.0000,9,-999.0000,9,-999.0000,9,-999.0000,9,-999.0000,-999.000,  -0.9252,     -999.0,     -999.0,9,     -999.0,9,     -999.0,9,     -999.0,9,     -999.0,20110418,       0839
320620110219,       S04P,     134,          1,         31,         31,2,20110418,       0719,   -67.0001,   -74.5143,       2911,   124.2,  -0.0519,  34.2993,2,  34.2969,2,    246.5,2,   226.0,2,   78.68,2,   33.54,2,    0.04,2,    2.36,2,   3.001,2,   1.706,2,   0.317,2,   1.0920,2,  2241.5,2,  2318.0,2,   7.5435,2,    25.00,-999.000,9,-999.0000,9,-999.000,9,  -0.0475,2, -999.00,9,  -999.0,9,  -999.0,-999.000,9, -999.00,9,-999.000,9,   42.64,2,   36.68,2, -66.9994, -74.5401,-999.000,     -999.0,    34.4586,2,     -999.0,9,     -999.0,9,-999.0000,9,-999.0000,9,-999.0000,9,-999.0000,9,-999.0000,9,-999.0000,9,-999.0000,9,-999.0000,9,-999.0000,9,-999.0000,-999.000,  -0.0563,     -999.0,     -999.0,9,     -999.0,9,     -999.0,9,     -999.0,9,     -999.0,20110418,       0837
320620110219,       S04P,     134,          1,         30,         30,2,20110418,       0719,   -67.0001,   -74.5143,       2911,   150.4,   0.5298,  34.4073,2,  34.4053,2,    218.3,2,   202.2,2,   82.41,2,   34.25,2,    0.01,2,    2.39,2,   2.202,2,   1.249,2,   0.222,2,   0.7800,2,  2250.6,2,  2324.8,2,   7.5335,2,    25.00,-999.000,9,-999.0000,9,-999.000,9,   0.5305,2, -999.00,9,  -999.0,9,  -999.0,-999.000,9, -999.00,9,-999.000,9,   42.51,2,   36.95,2, -66.9994, -74.5394,-999.000,     -999.0,    34.5675,2,     -999.0,9,     -999.0,9,-999.0000,9,-999.0000,9,-999.0000,9,-999.0000,9,-999.0000,9,-999.0000,9,-999.0000,9,-999.0000,9,-999.0000,9,-999.0000,-999.000,   0.5237,     -999.0,     -999.0,9,     -999.0,9,     -999.0,9,     -999.0,9,     -999.0,20110418,       0836
320620110219,       S04P,     134,          1,         29,         29,2,20110418,       0719,   -67.0001,   -74.5143,       2911,   174.6,   0.9497,  34.4851,2,  34.4849,2,    197.2,2,   187.7,2,   84.48,2,   34.53,2,    0.01,2,    2.40,2,   1.646,2,   0.927,2,   0.152,2,   0.5400,2,  2256.3,2,  2330.8,2,   7.5274,2,    25.00,-999.000,9,-999.0000,9,-999.000,9,   0.9471,2, -999.00,9,  -999.0,9,  -999.0,-999.000,9, -999.00,9,-999.000,9,   41.43,2,   37.09,2, -66.9994, -74.5387,-999.000,     -999.0,    34.6475,2,     -999.0,9,     -999.0,9,-999.0000,9,-999.0000,9,-999.0000,9,-999.0000,9,-999.0000,9,-999.0000,9,-999.0000,9,-999.0000,9,-999.0000,9,-999.0000,-999.000,   0.9419,     -999.0,     -999.0,9,     -999.0,9,     -999.0,9,     -999.0,9,     -999.0,20110418,       0834
320620110219,       S04P,     134,          1,         28,         28,2,20110418,       0719,   -67.0001,   -74.5143,       2911,   199.7,   1.2639,  34.5463,2,  34.5441,2,    182.7,2,   179.3,2,   85.82,2,   34.44,2,    0.00,2,    2.39,2,-999.000,9,-999.000,9,-999.000,9,-999.0000,9,  2259.8,2,  2333.9,2,   7.5295,2,    25.00,-999.000,9,-999.0000,9,-999.000,9,   1.2576,2, -999.00,9,  -999.0,9,  -999.0,-999.000,9, -999.00,9,-999.000,9,   41.05,2,   37.19,2, -66.9994, -74.5382,-999.000,     -999.0,    34.7070,2,     -999.0,9,     -999.0,9,-999.0000,9,-999.0000,9,-999.0000,9,-999.0000,9,-999.0000,9,-999.0000,9,-999.0000,9,-999.0000,9,-999.0000,9,-999.0000,-999.000,   1.2544,     -999.0,     -999.0,9,     -999.0,9,     -999.0,9,     -999.0,9,     -999.0,20110418,       0833
320620110219,       S04P,     134,          1,         27,         27,2,20110418,       0719,   -67.0001,   -74.5143,       2911,   225.6,   1.4713,  34.5862,2,  34.5849,2,    178.6,2,   175.2,2,   86.00,2,   34.30,2,    0.00,2,    2.37,2,   1.012,2,   0.550,2,   0.091,2,   0.2640,2,  2261.1,2,  2337.6,2,   7.5325,2,    25.00,-999.000,9,-999.0000,9,-999.000,9,   1.4730,2, -999.00,9,  -999.0,9,  -999.0,-999.000,9, -999.00,9,-999.000,9,   41.31,2,   37.18,2, -66.9996, -74.5382,-999.000,     -999.0,    34.7479,2,     -999.0,9,     -999.0,9,-999.0000,9,-999.0000,9,-999.0000,9,-999.0000,9,-999.0000,9,-999.0000,9,-999.0000,9,-999.0000,9,-999.0000,9,-999.0000,-999.000,   1.4602,     -999.0,     -999.0,9,     -999.0,9,     -999.0,9,     -999.0,9,     -999.0,20110418,       0832
320620110219,       S04P,     134,          1,         26,         26,2,20110418,       0719,   -67.0001,   -74.5143,       2911,   251.6,   1.5199,  34.6043,2,  34.6033,2,    175.6,2,   174.3,2,   87.46,2,   34.15,2,    0.00,2,    2.35,2,-999.000,9,-999.000,9,-999.000,9,-999.0000,9,  2261.6,2,  -999.0,9,   7.5381,2,    25.00,-999.000,9,-999.0000,9,-999.000,9,   1.5198,2, -999.00,9,  -999.0,9,  -999.0,-999.000,9, -999.00,9,-999.000,9,   40.45,2,   36.56,2, -66.9998, -74.5381,-999.000,     -999.0,    34.7665,2,     -999.0,9,     -999.0,9,-999.0000,9,-999.0000,9,-999.0000,9,-999.0000,9,-999.0000,9,-999.0000,9,-999.0000,9,-999.0000,9,-999.0000,9,-999.0000,-999.000,   1.5073,     -999.0,     -999.0,9,     -999.0,9,     -999.0,9,     -999.0,9,     -999.0,20110418,       0830
320620110219,       S04P,     134,          1,         25,         25,2,20110418,       0719,   -67.0001,   -74.5143,       2911,   300.3,   1.6414,  34.6457,2,  34.6453,2,    173.2,2,   173.8,2,   88.95,2,   33.69,2,    0.00,2,    2.31,2,   0.679,2,   0.346,2,   0.052,2,   0.2530,2,  2261.0,2,  2342.6,2,   7.5475,6,    25.00,-999.000,9,-999.0000,9,-999.000,9,   1.6411,2, -999.00,9,  -999.0,9,  -999.0,-999.000,9, -999.00,9,-999.000,9,   40.43,2,   36.23,2, -66.9999, -74.5375,-999.000,     -999.0,    34.8087,2,     -999.0,9,     -999.0,9,-999.0000,9,-999.0000,9,-999.0000,9,-999.0000,9,-999.0000,9,-999.0000,9,-999.0000,9,-999.0000,9,-999.0000,9,-999.0000,-999.000,   1.6259,     -999.0,     -999.0,9,     -999.0,9,     -999.0,9,     -999.0,9,     -999.0,20110418,       0828
320620110219,       S04P,     134,          1,         24,         24,2,20110418,       0719,   -67.0001,   -74.5143,       2911,   348.9,   1.6666,  34.6683,2,  34.6679,2,    174.2,2,   174.2,2,   90.50,2,   33.40,2,    0.00,2,    2.28,2,-999.000,9,-999.000,9,-999.000,9,-999.0000,9,  2261.1,2,  -999.0,9,   7.5528,2,    25.00,-999.000,9,-999.0000,9,-999.000,9,   1.6664,2, -999.00,9,  -999.0,9,  -999.0,-999.000,9, -999.00,9,-999.000,9,   39.64,2,   36.13,2, -66.9998, -74.5366,-999.000,     -999.0,    34.8313,2,     -999.0,9,     -999.0,9,-999.0000,9,-999.0000,9,-999.0000,9,-999.0000,9,-999.0000,9,-999.0000,9,-999.0000,9,-999.0000,9,-999.0000,9,-999.0000,-999.000,   1.6484,     -999.0,     -999.0,9,     -999.0,9,     -999.0,9,     -999.0,9,     -999.0,20110418,       0827
320620110219,       S04P,     134,          1,         23,         23,2,20110418,       0719,   -67.0001,   -74.5143,       2911,   403.6,   1.6942,  34.6910,2,  34.6900,2,    175.7,2,   175.9,2,   91.50,2,   33.12,2,    0.00,2,    2.26,2,   0.423,2,   0.211,2,   0.027,2,   0.1500,2,  2260.5,2,  2347.3,2,   7.5601,2,    25.00,-999.000,9,-999.0000,9,-999.000,9,   1.6935,2, -999.00,9,  -999.0,9,  -999.0,-999.000,9, -999.00,9,-999.000,9,   39.86,2,   35.84,2, -66.9999, -74.5358,-999.000,     -999.0,    34.8536,2,     -999.0,9,     -999.0,9,-999.0000,9,-999.0000,9,-999.0000,9,-999.0000,9,-999.0000,9,-999.0000,9,-999.0000,9,-999.0000,9,-999.0000,9,-999.0000,-999.000,   1.6728,     -999.0,     -999.0,9,     -999.0,9,     -999.0,9,     -999.0,9,     -999.0,20110418,       0825
320620110219,       S04P,     134,          1,         22,         22,2,20110418,       0719,   -67.0001,   -74.5143,       2911,   450.4,   1.6858,  34.7039,2,  34.7036,2,    177.3,2,   177.2,2,   92.52,2,   32.87,2,    0.00,2,    2.24,2,-999.000,9,-999.000,9,-999.000,9,-999.0000,9,  -999.0,9,  -999.0,9,-999.0000,9,  -999.00,-999.000,9,-999.0000,9,-999.000,9,   1.6856,2, -999.00,9,  -999.0,9,  -999.0,-999.000,9, -999.00,9,-999.000,9,   39.91,2,   35.52,2, -67.0000, -74.5353,-999.000,     -999.0,    34.8672,2,     -999.0,9,     -999.0,9,-999.0000,9,-999.0000,9,-999.0000,9,-999.0000,9,-999.0000,9,-999.0000,9,-999.0000,9,-999.0000,9,-999.0000,9,-999.0000,-999.000,   1.6618,     -999.0,     -999.0,9,     -999.0,9,     -999.0,9,     -999.0,9,     -999.0,20110418,       0823
320620110219,       S04P,     134,          1,         21,         21,2,20110418,       0719,   -67.0001,   -74.5143,       2911,   500.2,   1.6790,  34.7123,2,  34.7110,2,    178.8,2,   178.7,2,   93.20,2,   32.54,2,    0.00,2,    2.23,2,   0.298,2,   0.150,2,   0.017,2,   0.0820,2,  2260.0,2,  2350.2,2,   7.5720,2,    25.00,-999.000,9,-999.0000,9,-999.000,9,   1.6786,2, -999.00,9,  -999.0,9,  -999.0,-999.000,9, -999.00,9,-999.000,9,   39.43,2,   34.86,2, -67.0000, -74.5342,-999.000,     -999.0,    34.8747,2,     -999.0,9,     -999.0,9,-999.0000,9,-999.0000,9,-999.0000,9,-999.0000,9,-999.0000,9,-999.0000,9,-999.0000,9,-999.0000,9,-999.0000,9,-999.0000,-999.000,   1.6522,     -999.0,     -999.0,9,     -999.0,9,     -999.0,9,     -999.0,9,     -999.0,20110418,       0821
320620110219,       S04P,     134,          1,         20,         20,2,20110418,       0719,   -67.0001,   -74.5143,       2911,   605.7,   1.6089,  34.7226,2,  34.7218,2,    181.4,2,   181.8,2,   95.72,2,   32.15,2,    0.00,2,    2.22,2,-999.000,9,-999.000,9,-999.000,9,-999.0000,9,  -999.0,9,  -999.0,9,-999.0000,9,  -999.00,-999.000,9,-999.0000,9,-999.000,9,   1.6087,2, -999.00,9,  -999.0,9,  -999.0,-999.000,9, -999.00,9,-999.000,9,   39.26,2,   34.74,2, -67.0002, -74.5332,-999.000,     -999.0,    34.8856,2,     -999.0,9,     -999.0,9,-999.0000,9,-999.0000,9,-999.0000,9,-999.0000,9,-999.0000,9,-999.0000,9,-999.0000,9,-999.0000,9,-999.0000,9,-999.0000,-999.000,   1.5762,     -999.0,     -999.0,9,     -999.0,9,     -999.0,9,     -999.0,9,     -999.0,20110418,       0818
320620110219,       S04P,     134,          1,         19,         19,2,20110418,       0719,   -67.0001,   -74.5143,       2911,   705.2,   1.5529,  34.7285,2,  34.7277,2,    186.5,2,   186.6,2,   96.81,2,   31.76,2,    0.00,2,    2.19,2,   0.185,2,   0.089,2,   0.011,2,   0.0150,2,  -999.0,9,  -999.0,9,-999.0000,9,  -999.00,-999.000,9,-999.0000,9,-999.000,9,   1.5524,2, -999.00,9,  -999.0,9,  -999.0,-999.000,9, -999.00,9,-999.000,9,   39.25,2,   34.40,2, -67.0003, -74.5333,-999.000,     -999.0,    34.8915,2,     -999.0,9,     -999.0,9,-999.0000,9,-999.0000,9,-999.0000,9,-999.0000,9,-999.0000,9,-999.0000,9,-999.0000,9,-999.0000,9,-999.0000,9,-999.0000,-999.000,   1.5145,     -999.0,     -999.0,9,     -999.0,9,     -999.0,9,     -999.0,9,     -999.0,20110418,       0815
320620110219,       S04P,     134,          1,         18,         18,2,20110418,       0719,   -67.0001,   -74.5143,       2911,   794.5,   1.4939,  34.7299,2,  34.7297,2,    189.3,2,   189.0,2,   98.09,2,   31.57,2,    0.00,2,    2.18,2,-999.000,9,-999.000,9,-999.000,9,-999.0000,9,  2257.6,2,  2356.3,2,   7.5926,2,    25.00,-999.000,9,-999.0000,9,-999.000,9,   1.4936,2, -999.00,9,  -999.0,9,  -999.0,-999.000,9, -999.00,9,-999.000,9,   39.14,2,   34.12,2, -67.0004, -74.5315,-999.000,     -999.0,    34.8935,2,     -999.0,9,     -999.0,9,-999.0000,9,-999.0000,9,-999.0000,9,-999.0000,9,-999.0000,9,-999.0000,9,-999.0000,9,-999.0000,9,-999.0000,9,-999.0000,-999.000,   1.4505,     -999.0,     -999.0,9,     -999.0,9,     -999.0,9,     -999.0,9,     -999.0,20110418,       0812
320620110219,       S04P,     134,          1,         17,         17,2,20110418,       0719,   -67.0001,   -74.5143,       2911,   894.5,   1.4117,  34.7289,2,  34.7287,2,    189.7,2,   190.4,2,  100.99,2,   31.63,2,    0.00,2,    2.18,2,   0.147,2,   0.073,2,   0.008,2,   0.0060,2,  -999.0,9,  -999.0,9,-999.0000,9,  -999.00,-999.000,9,-999.0000,9,-999.000,9,   1.4115,2, -999.00,9,  -999.0,9,  -999.0,-999.000,9, -999.00,9,-999.000,9,   39.80,2,   34.60,2, -67.0006, -74.5287,-999.000,     -999.0,    34.8925,2,     -999.0,9,     -999.0,9,-999.0000,9,-999.0000,9,-999.0000,9,-999.0000,9,-999.0000,9,-999.0000,9,-999.0000,9,-999.0000,9,-999.0000,9,-999.0000,-999.000,   1.3626,     -999.0,     -999.0,9,     -999.0,9,     -999.0,9,     -999.0,9,     -999.0,20110418,       0810
320620110219,       S04P,     134,          1,         16,         16,2,20110418,       0719,   -67.0001,   -74.5143,       2911,   994.8,   1.3382,  34.7282,2,  34.7281,2,    192.3,2,   192.2,2,  102.89,2,   31.58,2,    0.00,2,    2.18,2,-999.000,9,-999.000,9,-999.000,9,-999.0000,9,  -999.0,9,  -999.0,9,-999.0000,9,  -999.00,-999.000,9,-999.0000,9,-999.000,9,   1.3378,2, -999.00,9,  -999.0,9,  -999.0,-999.000,9, -999.00,9,-999.000,9,   39.91,2,   34.46,2, -67.0008, -74.5263,-999.000,     -999.0,    34.8919,2,     -999.0,9,     -999.0,9,-999.0000,9,-999.0000,9,-999.0000,9,-999.0000,9,-999.0000,9,-999.0000,9,-999.0000,9,-999.0000,9,-999.0000,9,-999.0000,-999.000,   1.2834,     -999.0,     -999.0,9,     -999.0,9,     -999.0,9,     -999.0,9,     -999.0,20110418,       0807
320620110219,       S04P,     134,          1,         15,         15,2,20110418,       0719,   -67.0001,   -74.5143,       2911,  1100.7,   1.2794,  34.7270,2,  34.7278,2,    193.4,2,   193.2,2,  104.85,2,   31.66,2,    0.00,2,    2.19,2,   0.126,2,   0.062,2,   0.007,2,   0.0000,2,  -999.0,9,  -999.0,9,-999.0000,9,  -999.00,-999.000,9,-999.0000,9,-999.000,9,   1.2794,2, -999.00,9,  -999.0,9,  -999.0,-999.000,9, -999.00,9,-999.000,9,   39.94,2,   34.42,2, -67.0011, -74.5242,-999.000,     -999.0,    34.8915,2,     -999.0,9,     -999.0,9,-999.0000,9,-999.0000,9,-999.0000,9,-999.0000,9,-999.0000,9,-999.0000,9,-999.0000,9,-999.0000,9,-999.0000,9,-999.0000,-999.000,   1.2183,     -999.0,     -999.0,9,     -999.0,9,     -999.0,9,     -999.0,9,     -999.0,20110418,       0805
320620110219,       S04P,     134,          1,         14,         14,2,20110418,       0719,   -67.0001,   -74.5143,       2911,  1195.9,   1.2148,  34.7254,2,  34.7250,2,    194.5,2,   193.7,2,  106.99,2,   31.73,2,    0.00,2,    2.19,2,-999.000,9,-999.000,9,-999.000,9,-999.0000,9,  2260.2,2,  2360.7,2,   7.5977,2,    25.00,-999.000,9,-999.0000,9,-999.000,9,   1.2156,2, -999.00,9,  -999.0,9,  -999.0,-999.000,9, -999.00,9,-999.000,9,   39.73,2,   34.46,2, -67.0009, -74.5231,-999.000,     -999.0,    34.8888,2,     -999.0,9,     -999.0,9,-999.0000,9,-999.0000,9,-999.0000,9,-999.0000,9,-999.0000,9,-999.0000,9,-999.0000,9,-999.0000,9,-999.0000,9,-999.0000,-999.000,   1.1481,     -999.0,     -999.0,9,     -999.0,9,     -999.0,9,     -999.0,9,     -999.0,20110418,       0802