BOTTLE,20220813CCHSIOAMB
EXPOCODE,SECT_ID,STNNBR,CASTNO,SAMPNO,BTLNBR,BTLNBR_FLAG_W,DATE,TIME,LATITUDE,LONGITUDE,DEPTH,CTDPRS,CTDTMP,CTDSAL,CTDSAL_FLAG_W,SALNTY,SALNTY_FLAG_W,CTDOXY,CTDOXY_FLAG_W,OXYGEN,OXYGEN_FLAG_W,SILCAT,SILCAT_FLAG_W,NITRAT,NITRAT_FLAG_W,NITRIT,NITRIT_FLAG_W,PHSPHT,PHSPHT_FLAG_W,CFC-11,CFC-11_FLAG_W,CFC-12,CFC-12_FLAG_W,CFC113,CFC113_FLAG_W,SF6,SF6_FLAG_W,TCARBN,TCARBN_FLAG_W,ALKALI,ALKALI_FLAG_W,PH_TOT,PH_TOT_FLAG_W,PH_TMP,TRITUM,TRITUM_FLAG_W,HELIUM,HELIUM_FLAG_W,DELHE3,DELHE3_FLAG_W,REFTMP,REFTMP_FLAG_W,DELC13,DELC13_FLAG_W,DELC14,DELC14_FLAG_W,C14ERR,NEON,NEON_FLAG_W,DELO18,DELO18_FLAG_W,POC,POC_FLAG_W,DOC,DOC_FLAG_W,TDN,TDN_FLAG_W,BTL_LAT,BTL_LON,TRITER,NEONER,SALTREF,SALTREF_FLAG_W,PIGMENTS,PIGMENTS_FLAG_W,LAB_DEN,LAB_DEN_FLAG_W,CDOM325,CDOM325_FLAG_W,CDOM340,CDOM340_FLAG_W,CDOM380,CDOM380_FLAG_W,CDOM412,CDOM412_FLAG_W,CDOM443,CDOM443_FLAG_W,CDOM490,CDOM490_FLAG_W,CDOM555,CDOM555_FLAG_W,CDOMSL,CDOMSL_FLAG_W,CDOMSN,CDOMSN_FLAG_W,HELIER,DELHER,THETA,LDEO_SAMPNO,ABSORBTION,ABSORBTION_FLAG_W,IMAGE_COUNT,IMAGE_COUNT_FLAG_W,CYTO_COUNT,CYTO_COUNT_FLAG_W,DELD,DELD_FLAG_W,DELDERR,BTL_DATE,BTL_TIME
,,,,,,,,,,,METERS,DBAR,ITS-90,PSS-78,,PSS-78,,UMOL/KG,,UMOL/KG,,UMOL/KG,,UMOL/KG,,UMOL/KG,,UMOL/KG,,PMOL/KG,,PMOL/KG,,PMOL/KG,,FMOL/KG,,UMOL/KG,,UMOL/KG,,,,DEG C,TU,,NMOL/KG,,PERCNT,,DEG C,,/MILLE,,/MILLE,,/MILLE,NMOL/KG,,/MILLE,,UG/KG,,UMOL/KG,,UMOL/KG,,,,TU,NMOL/KG,G/KG,,,,,,1/M,,1/M,,1/M,,1/M,,1/M,,1/M,,1/M,,1/NM,,1/NM,,NMOL/KG,PERCNT,DEG C,,,,,,,,/MILLE,,/MILLE,,
320620110219,       S04P,     123,          1,         36,         36,2,20110414,       1801,   -67.0002,   -91.8373,       4642,     2.3,  -0.3095,  33.5757,2,  33.5751,2,    339.4,3,   344.9,2,   11.94,2,   23.57,2,    0.26,2,    1.63,2,   6.065,2,   3.382,2,   0.630,2,   2.8100,2,  2138.7,6,  2266.7,2,   7.7076,2,    25.00,-999.000,9,-999.0000,9,-999.000,9,  -0.3097,2, -999.00,9,  -999.0,9,  -999.0,-999.000,9, -999.00,9,-999.000,9,   45.61,2,   27.47,2, -67.0002, -91.8373,-999.000,     -999.0,    33.7334,2,     -999.0,9,     -999.0,9,   0.0478,3,   0.0158,3,  -0.0125,4,  -0.0144,4,  -0.0195,4,  -0.0144,4,  -0.0137,4,   0.1230,4,   0.0822,4,-999.0000,-999.000,  -0.3096,     -999.0,     -999.0,9,     -999.0,9,     -999.0,9,     -999.0,9,     -999.0,20110414,       1951
320620110219,       S04P,     123,          1,         35,         35,2,20110414,       1801,   -67.0002,   -91.8373,       4642,    35.0,  -0.2217,  33.5953,2,  33.5946,2,    344.5,2,   344.1,2,   10.47,2,   23.40,2,    0.26,2,    1.60,2,   6.120,2,   3.347,2,   0.646,2,   2.6470,2,  2140.2,2,  2268.0,2,   7.7078,6,    25.00,-999.000,9,-999.0000,9,-999.000,9,  -0.2218,2, -999.00,9,  -999.0,9,  -999.0,-999.000,9, -999.00,9,-999.000,9,   45.23,2,   27.58,2, -67.0002, -91.8373,-999.000,     -999.0,    33.7530,2,     -999.0,9,     -999.0,9,   0.0549,3,   0.0210,3,  -0.0107,4,  -0.0135,4,  -0.0190,4,  -0.0144,4,  -0.0138,4,   0.1126,4,   0.0737,4,-999.0000,-999.000,  -0.2228,     -999.0,     -999.0,9,     -999.0,9,     -999.0,9,     -999.0,9,     -999.0,20110414,       1949
320620110219,       S04P,     123,          1,         34,         34,2,20110414,       1801,   -67.0002,   -91.8373,       4642,    59.5,  -0.1859,  33.6071,2,  33.6069,2,    344.0,2,   344.4,2,    9.98,2,   23.34,2,    0.26,2,    1.61,2,   6.157,2,   3.326,2,   0.656,2,   2.8140,2,  2141.6,2,  2268.5,6,   7.7088,2,    25.00,-999.000,9,-999.0000,9,-999.000,9,  -0.1863,2, -999.00,9,  -999.0,9,  -999.0,-999.000,9, -999.00,9,-999.000,9,   44.80,2,   27.87,2, -67.0002, -91.8372,-999.000,     -999.0,    33.7654,2,     -999.0,9,     -999.0,9,   0.0461,3,   0.0156,3,  -0.0110,4,  -0.0135,4,  -0.0189,4,  -0.0141,4,  -0.0134,4,   0.1098,3,   0.0815,4,-999.0000,-999.000,  -0.1878,     -999.0,     -999.0,9,     -999.0,9,     -999.0,9,     -999.0,9,     -999.0,20110414,       1948
320620110219,       S04P,     123,          1,         33,         33,2,20110414,       1801,   -67.0002,   -91.8373,       4642,    84.8,  -1.5464,  33.8729,2,  33.8728,2,    333.8,2,   334.0,2,   35.67,2,   28.34,2,    0.23,2,    2.05,2,   6.022,2,   3.250,2,   0.632,2,   2.6310,2,  2175.9,2,  2283.9,2,   7.6518,2,    25.00,-999.000,9,-999.0000,9,-999.000,9,  -1.5465,2, -999.00,9,  -999.0,9,  -999.0,-999.000,9, -999.00,9,-999.000,9,   43.78,2,   32.50,2, -67.0002, -91.8373,-999.000,     -999.0,    34.0325,2,     -999.0,9,     -999.0,9,   0.0605,3,   0.0255,3,  -0.0056,4,  -0.0070,4,  -0.0148,4,  -0.0129,4,  -0.0132,4,   0.0886,4,   0.0672,4,-999.0000,-999.000,  -1.5482,     -999.0,     -999.0,9,     -999.0,9,     -999.0,9,     -999.0,9,     -999.0,20110414,       1947
320620110219,       S04P,     123,          1,         32,         32,2,20110414,       1801,   -67.0002,   -91.8373,       4642,   114.8,  -1.6056,  33.9323,2,  33.9322,2,    323.5,2,   323.0,2,   40.01,2,   28.91,2,    0.25,2,    2.06,2,   5.757,6,   3.157,6,   0.603,6,   2.5040,6,  2179.8,2,  2292.8,4,   7.6364,2,    25.00,-999.000,9,-999.0000,9,-999.000,9,  -1.6052,2, -999.00,9,  -999.0,9,  -999.0,-999.000,9, -999.00,9,-999.000,9,   43.24,2,   32.63,2, -67.0002, -91.8373,-999.000,     -999.0,    34.0922,2,     -999.0,9,     -999.0,9,   0.0569,3,   0.0232,3,  -0.0086,4,  -0.0124,4,  -0.0186,4,  -0.0145,4,  -0.0137,4,   0.1060,4,   0.0703,4,-999.0000,-999.000,  -1.6080,     -999.0,     -999.0,9,     -999.0,9,     -999.0,9,     -999.0,9,     -999.0,20110414,       1945
320620110219,       S04P,     123,          1,         31,         31,2,20110414,       1801,   -67.0002,   -91.8373,       4642,   165.1,  -0.5645,  34.0471,2,  34.0463,2,    301.3,2,   302.4,2,   43.33,2,   30.75,2,    0.05,2,    2.13,2,   5.126,2,   2.817,2,   0.533,2,   2.2350,2,  2195.2,2,  2294.6,2,   7.6201,2,    25.00,-999.000,9,-999.0000,9,-999.000,9,  -0.5646,2, -999.00,9,  -999.0,9,  -999.0,-999.000,9, -999.00,9,-999.000,9,   43.10,2,   33.49,2, -67.0002, -91.8372,-999.000,     -999.0,    34.2068,2,     -999.0,9,     -999.0,9,   0.0518,3,   0.0176,3,  -0.0129,4,  -0.0137,4,  -0.0193,4,  -0.0145,4,  -0.0136,4,   0.1086,4,   0.0804,4,-999.0000,-999.000,  -0.5696,     -999.0,     -999.0,9,     -999.0,9,     -999.0,9,     -999.0,9,     -999.0,20110414,       1944
320620110219,       S04P,     123,          1,         30,         30,2,20110414,       1801,   -67.0002,   -91.8373,       4642,   215.4,   0.9712,  34.2523,2,  34.2488,2,    246.8,2,   240.0,2,   54.87,2,   33.36,2,    0.00,2,    2.28,2,   3.371,2,   1.870,2,   0.334,2,   1.3260,2,  2224.1,2,  2307.8,2,   7.5717,2,    25.00,-999.000,9,-999.0000,9,-999.000,9,   0.9662,2, -999.00,9,  -999.0,9,  -999.0,-999.000,9, -999.00,9,-999.000,9,   42.11,2,   35.85,2, -67.0002, -91.8373,-999.000,     -999.0,    34.4103,2,     -999.0,9,     -999.0,9,-999.0000,9,-999.0000,9,-999.0000,9,-999.0000,9,-999.0000,9,-999.0000,9,-999.0000,9,-999.0000,9,-999.0000,9,-999.0000,-999.000,   0.9616,     -999.0,     -999.0,9,     -999.0,9,     -999.0,9,     -999.0,9,     -999.0,20110414,       1942
320620110219,       S04P,     123,          1,         29,         29,2,20110414,       1801,   -67.0002,   -91.8373,       4642,   265.4,   1.5521,  34.3734,2,  34.3725,2,    203.9,2,   208.3,2,   63.03,2,   34.37,2,    0.00,2,    2.36,2,   2.392,2,   1.313,2,   0.222,2,   0.8750,2,  2241.0,2,  2317.5,2,   7.5500,2,    25.00,-999.000,9,-999.0000,9,-999.000,9,   1.5512,2, -999.00,9,  -999.0,9,  -999.0,-999.000,9, -999.00,9,-999.000,9,   41.57,2,   36.90,2, -67.0002, -91.8373,-999.000,     -999.0,    34.5345,2,     -999.0,9,     -999.0,9,   0.0731,3,   0.0344,3,  -0.0043,4,  -0.0087,4,  -0.0164,4,  -0.0136,4,  -0.0133,4,   0.0699,4,   0.0580,4,-999.0000,-999.000,   1.5388,     -999.0,     -999.0,9,     -999.0,9,     -999.0,9,     -999.0,9,     -999.0,20110414,       1940
320620110219,       S04P,     123,          1,         28,         28,2,20110414,       1801,   -67.0002,   -91.8373,       4642,   314.7,   1.9667,  34.4610,2,  34.4604,2,    188.1,2,   188.2,2,   67.90,2,   34.61,2,    0.00,2,    2.38,2,   1.654,2,   0.886,2,   0.139,2,   0.5440,2,  2249.4,2,  2323.1,2,   7.5419,2,    25.00,-999.000,9,-999.0000,9,-999.000,9,   1.9663,2, -999.00,9,  -999.0,9,  -999.0,-999.000,9, -999.00,9,-999.000,9,   40.72,2,   37.09,2, -67.0002, -91.8372,-999.000,     -999.0,    34.6229,2,     -999.0,9,     -999.0,9,   0.0741,3,   0.0347,3,  -0.0048,4,  -0.0092,4,  -0.0168,4,  -0.0136,4,  -0.0135,4,   0.0662,3,   0.0584,3,-999.0000,-999.000,   1.9497,     -999.0,     -999.0,9,     -999.0,9,     -999.0,9,     -999.0,9,     -999.0,20110414,       1938
320620110219,       S04P,     123,          1,         27,         27,2,20110414,       1801,   -67.0002,   -91.8373,       4642,   364.6,   2.1146,  34.5143,2,  34.5140,2,    180.7,2,   179.5,2,   70.89,2,   34.53,2,    0.00,2,    2.37,2,   1.243,2,   0.647,2,   0.105,2,   0.3640,2,  2253.8,2,  2329.1,2,   7.5425,2,    25.00,-999.000,9,-999.0000,9,-999.000,9,   2.1135,2, -999.00,9,  -999.0,9,  -999.0,-999.000,9, -999.00,9,-999.000,9,   40.83,2,   37.28,2, -67.0002, -91.8373,-999.000,     -999.0,    34.6767,2,     -999.0,9,     -999.0,9,-999.0000,9,-999.0000,9,-999.0000,9,-999.0000,9,-999.0000,9,-999.0000,9,-999.0000,9,-999.0000,9,-999.0000,9,-999.0000,-999.000,   2.0943,     -999.0,     -999.0,9,     -999.0,9,     -999.0,9,     -999.0,9,     -999.0,20110414,       1937
320620110219,       S04P,     123,          1,         26,         26,2,20110414,       1801,   -67.0002,   -91.8373,       4642,   434.0,   2.1609,  34.5633,2,  34.5628,2,    174.7,2,   174.9,2,   73.76,2,   34.30,2,    0.00,2,    2.35,2,   0.952,2,   0.485,2,   0.076,2,   0.2650,2,  -999.0,9,  -999.0,9,-999.0000,9,  -999.00,-999.000,9,-999.0000,9,-999.000,9,   2.1607,2, -999.00,9,  -999.0,9,  -999.0,-999.000,9, -999.00,9,-999.000,9,   40.54,2,   37.08,2, -67.0002, -91.8373,-999.000,     -999.0,    34.7257,2,     -999.0,9,     -999.0,9,-999.0000,9,-999.0000,9,-999.0000,9,-999.0000,9,-999.0000,9,-999.0000,9,-999.0000,9,-999.0000,9,-999.0000,9,-999.0000,-999.000,   2.1363,     -999.0,     -999.0,9,     -999.0,9,     -999.0,9,     -999.0,9,     -999.0,20110414,       1935
320620110219,       S04P,     123,          1,         25,         25,2,20110414,       1801,   -67.0002,   -91.8373,       4642,   535.1,   2.1650,  34.6161,2,  34.6153,2,    172.4,2,   172.3,2,   77.31,2,   33.70,2,    0.00,2,    2.32,2,   0.659,2,   0.331,2,   0.040,2,   0.1450,2,  2258.2,2,  2338.3,2,   7.5525,2,    25.00,-999.000,9,-999.0000,9,-999.000,9,   2.1644,2, -999.00,9,  -999.0,9,  -999.0,-999.000,9, -999.00,9,-999.000,9,   40.23,2,   36.25,2, -67.0002, -91.8373,-999.000,     -999.0,    34.7786,2,     -999.0,9,     -999.0,9,   0.0884,2,   0.0472,2,   0.0053,3,  -0.0001,4,  -0.0097,4,  -0.0114,4,  -0.0130,4,   0.0592,4,   0.0378,4,-999.0000,-999.000,   2.1341,     -999.0,     -999.0,9,     -999.0,9,     -999.0,9,     -999.0,9,     -999.0,20110414,       1932
320620110219,       S04P,     123,          1,         24,         24,2,20110414,       1801,   -67.0002,   -91.8373,       4642,   634.8,   2.1560,  34.6535,2,  34.6538,2,    173.1,2,   173.7,2,   79.55,2,   33.14,2,    0.00,2,    2.27,2,-999.000,9,-999.000,9,-999.000,9,-999.0000,9,  2258.0,2,  2341.0,2,   7.5637,2,    25.00,-999.000,9,-999.0000,9,-999.000,9,   2.1561,2, -999.00,9,  -999.0,9,  -999.0,-999.000,9, -999.00,9,-999.000,9,   40.20,2,   35.34,2, -67.0002, -91.8373,-999.000,     -999.0,    34.8172,2,     -999.0,9,     -999.0,9,-999.0000,9,-999.0000,9,-999.0000,9,-999.0000,9,-999.0000,9,-999.0000,9,-999.0000,9,-999.0000,9,-999.0000,9,-999.0000,-999.000,   2.1188,     -999.0,     -999.0,9,     -999.0,9,     -999.0,9,     -999.0,9,     -999.0,20110414,       1930
320620110219,       S04P,     123,          1,         23,         23,2,20110414,       1801,   -67.0002,   -91.8373,       4642,   733.7,   2.0968,  34.6770,2,  34.6724,2,    175.4,2,   176.6,2,   81.23,2,   32.75,2,    0.00,2,    2.24,2,   0.402,2,   0.196,2,   0.020,2,   0.1210,2,  -999.0,9,  -999.0,9,-999.0000,9,  -999.00,-999.000,9,-999.0000,9,-999.000,9,   2.0965,2, -999.00,9,  -999.0,9,  -999.0,-999.000,9, -999.00,9,-999.000,9,   39.81,2,   35.16,2, -67.0002, -91.8372,-999.000,     -999.0,    34.8359,2,     -999.0,9,     -999.0,9,-999.0000,9,-999.0000,9,-999.0000,9,-999.0000,9,-999.0000,9,-999.0000,9,-999.0000,9,-999.0000,9,-999.0000,9,-999.0000,-999.000,   2.0536,     -999.0,     -999.0,9,     -999.0,9,     -999.0,9,     -999.0,9,     -999.0,20110414,       1927
320620110219,       S04P,     123,          1,         22,         22,2,20110414,       1801,   -67.0002,   -91.8373,       4642,   834.3,   2.0428,  34.6967,2,  34.6971,2,    178.6,2,   178.7,2,   82.71,2,   32.20,2,    0.00,2,    2.22,2,-999.000,9,-999.000,9,-999.000,9,-999.0000,9,  2255.2,2,  2345.9,2,   7.5774,2,    25.00,-999.000,9,-999.0000,9,-999.000,9,   2.0426,2, -999.00,9,  -999.0,9,  -999.0,-999.000,9, -999.00,9,-999.000,9,   40.10,2,   34.24,2, -67.0002, -91.8372,-999.000,     -999.0,    34.8607,2,     -999.0,9,     -999.0,9,   0.0826,2,   0.0424,3,  -0.0006,4,  -0.0072,4,  -0.0160,4,  -0.0135,4,  -0.0135,4,   0.0752,4,   0.0519,4,-999.0000,-999.000,   1.9933,     -999.0,     -999.0,9,     -999.0,9,     -999.0,9,     -999.0,9,     -999.0,20110414,       1925
320620110219,       S04P,     123,          1,         21,         21,2,20110414,       1801,   -67.0002,   -91.8373,       4642,   935.0,   1.9761,  34.7100,2,  34.7103,2,    181.5,2,   181.0,2,   84.28,2,   31.95,2,    0.00,2,    2.20,2,   0.283,2,   0.132,2,   0.013,2,   0.0790,2,  -999.0,9,  -999.0,9,-999.0000,9,  -999.00,-999.000,9,-999.0000,9,-999.000,9,   1.9759,2, -999.00,9,  -999.0,9,  -999.0,-999.000,9, -999.00,9,-999.000,9,   40.06,2,   34.23,2, -67.0002, -91.8373,-999.000,     -999.0,    34.8739,2,     -999.0,9,     -999.0,9,-999.0000,9,-999.0000,9,-999.0000,9,-999.0000,9,-999.0000,9,-999.0000,9,-999.0000,9,-999.0000,9,-999.0000,9,-999.0000,-999.000,   1.9203,     -999.0,     -999.0,9,     -999.0,9,     -999.0,9,     -999.0,9,     -999.0,20110414,       1922
320620110219,       S04P,     123,          1,         20,         20,2,20110414,       1801,   -67.0002,   -91.8373,       4642,  1034.0,   1.9231,  34.7190,2,  34.7189,2,    184.4,2,   184.1,2,   85.61,2,   31.57,2,    0.00,2,    2.18,2,-999.000,9,-999.000,9,-999.000,9,-999.0000,9,  2256.2,6,  2348.8,2,   7.5885,2,    25.00,-999.000,9,-999.0000,9,-999.000,9,   1.9228,2, -999.00,9,  -999.0,9,  -999.0,-999.000,9, -999.00,9,-999.000,9,   39.87,2,   34.37,2, -67.0002, -91.8373,-999.000,     -999.0,    34.8826,2,     -999.0,9,     -999.0,9,-999.0000,9,-999.0000,9,-999.0000,9,-999.0000,9,-999.0000,9,-999.0000,9,-999.0000,9,-999.0000,9,-999.0000,9,-999.0000,-999.000,   1.8610,     -999.0,     -999.0,9,     -999.0,9,     -999.0,9,     -999.0,9,     -999.0,20110414,       1920
320620110219,       S04P,     123,          1,         19,         19,2,20110414,       1801,   -67.0002,   -91.8373,       4642,  1135.3,   1.8466,  34.7257,2,  34.7254,2,    186.6,2,   186.4,2,   87.88,2,   31.38,2,    0.00,2,    2.16,2,   0.237,2,   0.109,2,   0.012,2,   0.0620,2,  -999.0,9,  -999.0,9,-999.0000,9,  -999.00,-999.000,9,-999.0000,9,-999.000,9,   1.8464,2, -999.00,9,  -999.0,9,  -999.0,-999.000,9, -999.00,9,-999.000,9,   39.59,2,   34.25,2, -67.0002, -91.8373,-999.000,     -999.0,    34.8891,2,     -999.0,9,     -999.0,9,   0.0775,2,   0.0381,3,  -0.0035,4,  -0.0095,4,  -0.0173,4,  -0.0140,4,  -0.0136,4,   0.0786,4,   0.0558,4,-999.0000,-999.000,   1.7781,     -999.0,     -999.0,9,     -999.0,9,     -999.0,9,     -999.0,9,     -999.0,20110414,       1917
320620110219,       S04P,     123,          1,         18,         18,2,20110414,       1801,   -67.0002,   -91.8373,       4642,  1234.6,   1.7592,  34.7298,2,  34.7291,2,    188.3,2,   188.3,2,   90.31,2,   31.28,2,    0.00,2,    2.15,2,-999.000,9,-999.000,9,-999.000,9,-999.0000,9,  2255.8,2,  2352.4,2,   7.5960,6,    25.00,-999.000,9,-999.0000,9,-999.000,9,   1.7589,2, -999.00,9,  -999.0,9,  -999.0,-999.000,9, -999.00,9,-999.000,9,   39.69,2,   33.84,2, -67.0002, -91.8373,-999.000,     -999.0,    34.8929,2,     -999.0,9,     -999.0,9,-999.0000,9,-999.0000,9,-999.0000,9,-999.0000,9,-999.0000,9,-999.0000,9,-999.0000,9,-999.0000,9,-999.0000,9,-999.0000,-999.000,   1.6846,     -999.0,     -999.0,9,     -999.0,9,     -999.0,9,     -999.0,9,     -999.0,20110414,       1915
320620110219,       S04P,     123,          1,         17,         17,2,20110414,       1801,   -67.0002,   -91.8373,       4642,  1334.8,   1.6834,  34.7313,2,  34.7313,2,    190.1,2,   190.7,2,   93.02,2,   31.26,2,    0.00,2,    2.15,2,   0.194,2,   0.084,2,   0.010,2,   0.0620,2,  -999.0,9,  -999.0,9,-999.0000,9,  -999.00,-999.000,9,-999.0000,9,-999.000,9,   1.6834,2, -999.00,9,  -999.0,9,  -999.0,-999.000,9, -999.00,9,-999.000,9,   39.70,2,   33.53,2, -67.0002, -91.8373,-999.000,     -999.0,    34.8950,2,     -999.0,9,     -999.0,9,-999.0000,9,-999.0000,9,-999.0000,9,-999.0000,9,-999.0000,9,-999.0000,9,-999.0000,9,-999.0000,9,-999.0000,9,-999.0000,-999.000,   1.6024,     -999.0,     -999.0,9,     -999.0,9,     -999.0,9,     -999.0,9,     -999.0,20110414,       1912
320620110219,       S04P,     123,          1,         16,         16,2,20110414,       1801,   -67.0002,   -91.8373,       4642,  1434.7,   1.5946,  34.7320,2,  34.7316,2,    191.5,2,   191.3,2,   94.84,2,   31.14,2,    0.00,2,    2.15,2,-999.000,9,-999.000,9,-999.000,9,-999.0000,9,  2257.6,2,  2355.1,2,   7.5985,2,    25.00,-999.000,9,-999.0000,9,-999.000,9,   1.5946,2, -999.00,9,  -999.0,9,  -999.0,-999.000,9, -999.00,9,-999.000,9,   39.75,2,   33.59,2, -67.0002, -91.8373,-999.000,     -999.0,    34.8954,2,     -999.0,9,     -999.0,9,   0.0795,2,   0.0403,3,  -0.0003,4,  -0.0059,4,  -0.0147,4,  -0.0136,4,  -0.0137,4,   0.0750,4,   0.0528,4,-999.0000,-999.000,   1.5074,     -999.0,     -999.0,9,     -999.0,9,     -999.0,9,     -999.0,9,     -999.0,20110414,       1910
320620110219,       S04P,     123,          1,         15,         15,2,20110414,       1801,   -67.0002,   -91.8373,       4642,  1534.1,   1.5171,  34.7315,2,  34.7314,2,    192.5,2,   193.2,2,   97.39,2,   31.15,2,    0.00,2,    2.16,2,   0.179,2,   0.078,2,   0.009,2,   0.0500,2,  -999.0,9,  -999.0,9,-999.0000,9,  -999.00,-999.000,9,-999.0000,9,-999.000,9,   1.5165,2, -999.00,9,  -999.0,9,  -999.0,-999.000,9, -999.00,9,-999.000,9,   39.82,2,   33.52,2, -67.0002, -91.8373,-999.000,     -999.0,    34.8952,2,     -999.0,9,     -999.0,9,-999.0000,9,-999.0000,9,-999.0000,9,-999.0000,9,-999.0000,9,-999.0000,9,-999.0000,9,-999.0000,9,-999.0000,9,-999.0000,-999.000,   1.4236,     -999.0,     -999.0,9,     -999.0,9,     -999.0,9,     -999.0,9,     -999.0,20110414,       1907
320620110219,       S04P,     123,          1,         14,         14,2,20110414,       1801,   -67.0002,   -91.8373,       4642,  1664.7,   1.4153,  34.7298,2,  34.7293,2,    194.2,2,   194.4,2,  100.60,2,   31.18,2,    0.00,2,    2.16,2,-999.000,9,-999.000,9,-999.000,9,-999.0000,9,  2260.2,2,  2357.6,2,   7.6027,2,    25.00,-999.000,9,-999.0000,9,-999.000,9,   1.4156,2, -999.00,9,  -999.0,9,  -999.0,-999.000,9, -999.00,9,-999.000,9,   39.74,2,   33.57,2, -67.0002, -91.8373,-999.000,     -999.0,    34.8930,2,     -999.0,9,     -999.0,9,-999.0000,9,-999.0000,9,-999.0000,9,-999.0000,9,-999.0000,9,-999.0000,9,-999.0000,9,-999.0000,9,-999.0000,9,-999.0000,-999.000,   1.3134,     -999.0,     -999.0,9,     -999.0,9,     -999.0,9,     -999.0,9,     -999.0,20110414,       1904