BOTTLE,20220813CCHSIOAMB
EXPOCODE,SECT_ID,STNNBR,CASTNO,SAMPNO,BTLNBR,BTLNBR_FLAG_W,DATE,TIME,LATITUDE,LONGITUDE,DEPTH,CTDPRS,CTDTMP,CTDSAL,CTDSAL_FLAG_W,SALNTY,SALNTY_FLAG_W,CTDOXY,CTDOXY_FLAG_W,OXYGEN,OXYGEN_FLAG_W,SILCAT,SILCAT_FLAG_W,NITRAT,NITRAT_FLAG_W,NITRIT,NITRIT_FLAG_W,PHSPHT,PHSPHT_FLAG_W,CFC-11,CFC-11_FLAG_W,CFC-12,CFC-12_FLAG_W,CFC113,CFC113_FLAG_W,SF6,SF6_FLAG_W,TCARBN,TCARBN_FLAG_W,ALKALI,ALKALI_FLAG_W,PH_TOT,PH_TOT_FLAG_W,PH_TMP,TRITUM,TRITUM_FLAG_W,HELIUM,HELIUM_FLAG_W,DELHE3,DELHE3_FLAG_W,REFTMP,REFTMP_FLAG_W,DELC13,DELC13_FLAG_W,DELC14,DELC14_FLAG_W,C14ERR,NEON,NEON_FLAG_W,DELO18,DELO18_FLAG_W,POC,POC_FLAG_W,DOC,DOC_FLAG_W,TDN,TDN_FLAG_W,BTL_LAT,BTL_LON,TRITER,NEONER,SALTREF,SALTREF_FLAG_W,PIGMENTS,PIGMENTS_FLAG_W,LAB_DEN,LAB_DEN_FLAG_W,CDOM325,CDOM325_FLAG_W,CDOM340,CDOM340_FLAG_W,CDOM380,CDOM380_FLAG_W,CDOM412,CDOM412_FLAG_W,CDOM443,CDOM443_FLAG_W,CDOM490,CDOM490_FLAG_W,CDOM555,CDOM555_FLAG_W,CDOMSL,CDOMSL_FLAG_W,CDOMSN,CDOMSN_FLAG_W,HELIER,DELHER,THETA,LDEO_SAMPNO,ABSORBTION,ABSORBTION_FLAG_W,IMAGE_COUNT,IMAGE_COUNT_FLAG_W,CYTO_COUNT,CYTO_COUNT_FLAG_W,DELD,DELD_FLAG_W,DELDERR,BTL_DATE,BTL_TIME
,,,,,,,,,,,METERS,DBAR,ITS-90,PSS-78,,PSS-78,,UMOL/KG,,UMOL/KG,,UMOL/KG,,UMOL/KG,,UMOL/KG,,UMOL/KG,,PMOL/KG,,PMOL/KG,,PMOL/KG,,FMOL/KG,,UMOL/KG,,UMOL/KG,,,,DEG C,TU,,NMOL/KG,,PERCNT,,DEG C,,/MILLE,,/MILLE,,/MILLE,NMOL/KG,,/MILLE,,UG/KG,,UMOL/KG,,UMOL/KG,,,,TU,NMOL/KG,G/KG,,,,,,1/M,,1/M,,1/M,,1/M,,1/M,,1/M,,1/M,,1/NM,,1/NM,,NMOL/KG,PERCNT,DEG C,,,,,,,,/MILLE,,/MILLE,,
320620110219,       S04P,     121,          1,         36,         36,2,20110413,       2140,   -67.0002,   -96.9379,       4679,     2.5,  -0.1950,  33.5984,2,  33.5983,2,    339.6,3,   344.0,2,   11.25,2,   24.04,2,    0.21,2,    1.70,2,   6.199,2,   3.431,2,   0.658,2,   2.7970,2,  2137.2,6,  2266.1,2,   7.7034,2,    25.00,-999.000,9,-999.0000,9,-999.000,9,  -0.1944,2,    1.54,2,   -77.3,2,     2.6,-999.000,9, -999.00,9,-999.000,9,   45.05,2,   28.01,2, -67.0002, -96.9378,-999.000,     -999.0,    33.7568,2,     -999.0,9,     -999.0,9,   0.0564,3,   0.0243,3,  -0.0061,4,  -0.0097,4,  -0.0152,4,  -0.0119,4,  -0.0126,4,   0.0834,4,   0.0662,4,-999.0000,-999.000,  -0.1951,     -999.0,     -999.0,9,     -999.0,9,     -999.0,9,     -999.0,9,     -999.0,20110413,       2330
320620110219,       S04P,     121,          1,         35,         35,2,20110413,       2140,   -67.0002,   -96.9379,       4679,    20.1,  -0.1877,  33.5987,2,  33.5989,2,    343.9,2,   344.1,2,   11.23,2,   23.99,2,    0.21,2,    1.71,2,   6.153,6,   3.392,6,   0.641,6,   2.8000,6,  2139.2,2,  2266.2,2,   7.7023,6,    25.00,-999.000,9,-999.0000,9,-999.000,9,  -0.1887,2, -999.00,9,  -999.0,9,  -999.0,-999.000,9, -999.00,9,-999.000,9,   45.52,2,   28.41,2, -67.0002, -96.9379,-999.000,     -999.0,    33.7573,2,     -999.0,9,     -999.0,9,   0.0559,3,   0.0233,3,  -0.0055,4,  -0.0104,4,  -0.0162,4,  -0.0122,4,  -0.0126,4,   0.0852,4,   0.0678,4,-999.0000,-999.000,  -0.1883,     -999.0,     -999.0,9,     -999.0,9,     -999.0,9,     -999.0,9,     -999.0,20110413,       2329
320620110219,       S04P,     121,          1,         34,         34,2,20110413,       2140,   -67.0002,   -96.9379,       4679,    39.7,  -0.1822,  33.5986,2,  33.5993,2,    343.9,2,   343.9,2,   11.21,2,   24.10,2,    0.21,2,    1.71,2,   6.167,2,   3.396,2,   0.639,2,   2.8290,2,  2138.4,2,  2269.4,2,   7.7015,2,    25.00,-999.000,9,-999.0000,9,-999.000,9,  -0.1820,2, -999.00,9,  -999.0,9,  -999.0,-999.000,9, -999.00,9,-999.000,9,   45.82,2,   28.56,2, -67.0002, -96.9379,-999.000,     -999.0,    33.7577,2,     -999.0,9,     -999.0,9,   0.0539,3,   0.0211,3,  -0.0079,4,  -0.0115,4,  -0.0171,4,  -0.0127,4,  -0.0128,4,   0.0990,4,   0.0724,4,-999.0000,-999.000,  -0.1835,     -999.0,     -999.0,9,     -999.0,9,     -999.0,9,     -999.0,9,     -999.0,20110413,       2328
320620110219,       S04P,     121,          1,         33,         33,2,20110413,       2140,   -67.0002,   -96.9379,       4679,    64.7,  -0.8955,  33.7229,2,  33.7364,2,    340.1,2,   340.6,2,   21.97,2,   26.47,2,    0.18,2,    1.93,2,   6.199,2,   3.366,2,   0.655,2,   2.7550,2,  2154.2,2,  2274.8,2,   7.6777,2,    25.00,-999.000,9,-999.0000,9,-999.000,9,  -0.8823,2,    1.32,2,   -77.2,2,     2.6,-999.000,9, -999.00,9,-999.000,9,   45.32,2,   30.77,2, -67.0002, -96.9379,-999.000,     -999.0,    33.8955,2,     -999.0,9,     -999.0,9,   0.0597,3,   0.0260,3,  -0.0076,4,  -0.0103,4,  -0.0165,4,  -0.0126,4,  -0.0127,4,   0.0791,3,   0.0649,3,-999.0000,-999.000,  -0.8972,     -999.0,     -999.0,9,     -999.0,9,     -999.0,9,     -999.0,9,     -999.0,20110413,       2326
320620110219,       S04P,     121,          1,         32,         32,2,20110413,       2140,   -67.0002,   -96.9379,       4679,    89.9,  -1.1288,  33.8708,2,  33.8736,2,    329.2,2,   329.0,2,   29.94,2,   28.93,2,    0.15,2,    2.02,2,   6.014,2,   3.268,2,   0.627,2,   2.5750,2,  2169.2,2,  2281.4,2,   7.6528,2,    25.00,-999.000,9,-999.0000,9,-999.000,9,  -1.1430,2,    1.21,2,   -79.5,2,     2.9,-999.000,9, -999.00,9,-999.000,9,   43.10,2,   32.87,2, -67.0002, -96.9379,-999.000,     -999.0,    34.0333,2,     -999.0,9,     -999.0,9,   0.0558,3,   0.0226,3,  -0.0068,4,  -0.0107,4,  -0.0168,4,  -0.0128,4,  -0.0127,4,   0.0892,4,   0.0702,4,-999.0000,-999.000,  -1.1310,     -999.0,     -999.0,9,     -999.0,9,     -999.0,9,     -999.0,9,     -999.0,20110413,       2325
320620110219,       S04P,     121,          1,         31,         31,2,20110413,       2140,   -67.0002,   -96.9379,       4679,   134.6,   0.5019,  34.0738,2,  34.0709,2,    296.4,2,   286.0,2,   38.16,2,   31.31,2,    0.00,2,    2.14,2,   4.758,2,   2.639,2,   0.481,2,   1.9360,2,  2192.6,2,  2292.8,2,   7.6170,2,    25.00,-999.000,9,-999.0000,9,-999.000,9,   0.4986,2,    0.99,2,   -92.5,2,     2.4,-999.000,9, -999.00,9,-999.000,9,   41.62,2,   34.04,2, -67.0002, -96.9379,-999.000,     -999.0,    34.2316,2,     -999.0,9,     -999.0,9,-999.0000,9,-999.0000,9,-999.0000,9,-999.0000,9,-999.0000,9,-999.0000,9,-999.0000,9,-999.0000,9,-999.0000,9,-999.0000,-999.000,   0.4966,     -999.0,     -999.0,9,     -999.0,9,     -999.0,9,     -999.0,9,     -999.0,20110413,       2323
320620110219,       S04P,     121,          1,         30,         30,2,20110413,       2140,   -67.0002,   -96.9379,       4679,   185.1,   1.3424,  34.2004,2,  34.2160,2,    258.4,2,   244.0,2,   47.38,2,   33.06,2,    0.00,2,    2.26,2,   3.600,2,   1.966,2,   0.353,2,   1.3290,2,  2213.8,2,  2303.1,2,   7.5831,2,    25.00,-999.000,9,-999.0000,9,-999.000,9,   1.3480,2,    0.78,2,  -107.0,2,     3.0,-999.000,9, -999.00,9,-999.000,9,   40.60,2,   35.95,2, -67.0002, -96.9379,-999.000,     -999.0,    34.3773,2,     -999.0,9,     -999.0,9,   0.0666,3,   0.0301,3,  -0.0028,4,  -0.0090,4,  -0.0162,4,  -0.0126,4,  -0.0128,4,   0.0757,4,   0.0605,4,-999.0000,-999.000,   1.3336,     -999.0,     -999.0,9,     -999.0,9,     -999.0,9,     -999.0,9,     -999.0,20110413,       2322
320620110219,       S04P,     121,          1,         29,         29,2,20110413,       2140,   -67.0002,   -96.9379,       4679,   234.9,   2.0302,  34.3315,2,  34.3327,2,    212.8,2,   208.4,2,   55.87,2,   34.19,2,    0.00,2,    2.33,2,   2.441,2,   1.341,2,   0.215,2,   0.8230,2,  2230.8,2,  2313.4,2,   7.5561,2,    25.00,-999.000,9,-999.0000,9,-999.000,9,   2.0354,2,    0.63,2,  -121.4,2,     3.1,-999.000,9, -999.00,9,-999.000,9,   40.84,2,   36.94,2, -67.0002, -96.9378,-999.000,     -999.0,    34.4946,2,     -999.0,9,     -999.0,9,   0.0735,2,   0.0352,3,  -0.0023,4,  -0.0072,4,  -0.0146,4,  -0.0117,4,  -0.0124,4,   0.0772,4,   0.0568,4,-999.0000,-999.000,   2.0176,     -999.0,     -999.0,9,     -999.0,9,     -999.0,9,     -999.0,9,     -999.0,20110413,       2320
320620110219,       S04P,     121,          1,         28,         28,2,20110413,       2140,   -67.0002,   -96.9379,       4679,   284.2,   2.1822,  34.3909,2,  34.3938,2,    191.6,2,   194.2,2,   60.78,2,   34.60,2,    0.00,2,    2.37,2,   1.937,2,   1.045,2,   0.173,2,   0.6090,2,  2239.2,2,  2323.3,2,   7.5486,2,    25.00,-999.000,9,-999.0000,9,-999.000,9,   2.1831,2,    0.58,2,  -125.5,2,     2.7,-999.000,9, -999.00,9,-999.000,9,   40.72,2,   37.21,2, -67.0002, -96.9378,-999.000,     -999.0,    34.5560,2,     -999.0,9,     -999.0,9,-999.0000,9,-999.0000,9,-999.0000,9,-999.0000,9,-999.0000,9,-999.0000,9,-999.0000,9,-999.0000,9,-999.0000,9,-999.0000,-999.000,   2.1665,     -999.0,     -999.0,9,     -999.0,9,     -999.0,9,     -999.0,9,     -999.0,20110413,       2318
320620110219,       S04P,     121,          1,         27,         27,2,20110413,       2140,   -67.0002,   -96.9379,       4679,   335.2,   2.2682,  34.4541,2,  34.4546,2,    183.1,2,   182.4,2,   65.69,2,   34.72,2,    0.00,2,    2.38,2,   1.515,2,   0.790,2,   0.121,2,   0.4440,2,  2247.1,2,  2325.2,2,   7.5456,2,    25.00,-999.000,9,-999.0000,9,-999.000,9,   2.2681,2,    0.54,2,  -137.0,2,     3.0,-999.000,9, -999.00,9,-999.000,9,   40.67,2,   37.38,2, -67.0002, -96.9379,-999.000,     -999.0,    34.6170,2,     -999.0,9,     -999.0,9,-999.0000,9,-999.0000,9,-999.0000,9,-999.0000,9,-999.0000,9,-999.0000,9,-999.0000,9,-999.0000,9,-999.0000,9,-999.0000,-999.000,   2.2492,     -999.0,     -999.0,9,     -999.0,9,     -999.0,9,     -999.0,9,     -999.0,20110413,       2316
320620110219,       S04P,     121,          1,         26,         26,2,20110413,       2140,   -67.0002,   -96.9379,       4679,   384.5,   2.2537,  34.4839,2,  34.4845,2,    178.3,2,   179.4,2,   67.75,2,   34.74,2,    0.00,2,    2.38,2,-999.000,9,-999.000,9,-999.000,9,-999.0000,9,  2249.2,2,  2327.5,2,   7.5433,2,    25.00,-999.000,9,-999.0000,9,-999.000,9,   2.2530,2,    0.51,2,  -138.5,2,     2.5,-999.000,9, -999.00,9,-999.000,9,   40.85,2,   37.21,2, -67.0002, -96.9378,-999.000,     -999.0,    34.6471,2,     -999.0,9,     -999.0,9,-999.0000,9,-999.0000,9,-999.0000,9,-999.0000,9,-999.0000,9,-999.0000,9,-999.0000,9,-999.0000,9,-999.0000,9,-999.0000,-999.000,   2.2318,     -999.0,     -999.0,9,     -999.0,9,     -999.0,9,     -999.0,9,     -999.0,20110413,       2315
320620110219,       S04P,     121,          1,         25,         25,2,20110413,       2140,   -67.0002,   -96.9379,       4679,   465.3,   2.2837,  34.5403,2,  34.5422,2,    173.2,2,   173.9,2,   72.07,2,   34.62,2,    0.00,2,    2.36,2,   0.964,2,   0.493,2,   0.071,2,   0.2810,2,  2253.8,2,  2332.3,2,   7.5469,2,    25.00,-999.000,9,-999.0000,9,-999.000,9,   2.2835,2,    0.63,2,  -147.6,2,     2.4,-999.000,9, -999.00,9,-999.000,9,   40.72,2,   37.34,2, -67.0002, -96.9378,-999.000,     -999.0,    34.7051,2,     -999.0,9,     -999.0,9,   0.0788,2,   0.0391,3,  -0.0003,4,  -0.0076,4,  -0.0152,4,  -0.0122,4,  -0.0128,4,   0.0763,4,   0.0537,4,-999.0000,-999.000,   2.2567,     -999.0,     -999.0,9,     -999.0,9,     -999.0,9,     -999.0,9,     -999.0,20110413,       2313
320620110219,       S04P,     121,          1,         24,         24,2,20110413,       2140,   -67.0002,   -96.9379,       4679,   565.0,   2.2500,  34.5989,2,  34.5992,2,    171.4,2,   171.7,2,   76.31,2,   34.19,2,    0.00,2,    2.33,2,-999.000,9,-999.000,9,-999.000,9,-999.0000,9,  -999.0,9,  -999.0,9,-999.0000,9,  -999.00,-999.000,9,-999.0000,9,-999.000,9,   2.2497,2,    0.45,2,  -148.0,2,     2.4,-999.000,9, -999.00,9,-999.000,9,   40.76,2,   37.02,2, -67.0002, -96.9378,-999.000,     -999.0,    34.7624,2,     -999.0,9,     -999.0,9,-999.0000,9,-999.0000,9,-999.0000,9,-999.0000,9,-999.0000,9,-999.0000,9,-999.0000,9,-999.0000,9,-999.0000,9,-999.0000,-999.000,   2.2169,     -999.0,     -999.0,9,     -999.0,9,     -999.0,9,     -999.0,9,     -999.0,20110413,       2310
320620110219,       S04P,     121,          1,         23,         23,2,20110413,       2140,   -67.0002,   -96.9379,       4679,   665.3,   2.2141,  34.6355,2,  34.6373,2,    172.4,2,   172.7,2,   78.07,2,   33.63,2,    0.00,2,    2.29,2,   0.503,2,   0.248,2,   0.029,2,   0.1350,2,  2256.4,2,  2342.4,2,   7.5628,2,    25.00,-999.000,9,-999.0000,9,-999.000,9,   2.2142,2,    0.41,2,  -142.4,2,     2.3,-999.000,9, -999.00,9,-999.000,9,   40.47,2,   36.23,2, -67.0002, -96.9379,-999.000,     -999.0,    34.8006,2,     -999.0,9,     -999.0,9,-999.0000,9,-999.0000,9,-999.0000,9,-999.0000,9,-999.0000,9,-999.0000,9,-999.0000,9,-999.0000,9,-999.0000,9,-999.0000,-999.000,   2.1747,     -999.0,     -999.0,9,     -999.0,9,     -999.0,9,     -999.0,9,     -999.0,20110413,       2307
320620110219,       S04P,     121,          1,         22,         22,2,20110413,       2140,   -67.0002,   -96.9379,       4679,   765.0,   2.1631,  34.6635,2,  34.6644,2,    174.7,2,   174.5,2,   79.72,2,   33.04,2,    0.00,2,    2.26,2,-999.000,9,-999.000,9,-999.000,9,-999.0000,9,  -999.0,9,  -999.0,9,-999.0000,9,  -999.00,-999.000,9,-999.0000,9,-999.000,9,   2.1631,2,    0.43,2,  -141.6,2,     2.5,-999.000,9, -999.00,9,-999.000,9,   40.27,2,   35.53,2, -67.0002, -96.9378,-999.000,     -999.0,    34.8278,2,     -999.0,9,     -999.0,9,   0.0827,2,   0.0434,3,   0.0049,3,  -0.0055,4,  -0.0145,4,  -0.0120,4,  -0.0128,4,   0.0568,4,   0.0468,4,-999.0000,-999.000,   2.1174,     -999.0,     -999.0,9,     -999.0,9,     -999.0,9,     -999.0,9,     -999.0,20110413,       2305
320620110219,       S04P,     121,          1,         21,         21,2,20110413,       2140,   -67.0002,   -96.9379,       4679,   864.7,   2.1221,  34.6843,2,  34.6855,2,    177.2,2,   177.5,2,   81.30,2,   32.49,2,    0.00,2,    2.23,2,   0.321,2,   0.153,2,   0.016,2,   0.0820,2,  2256.1,2,  2347.2,2,   7.5777,6,    25.00,-999.000,9,-999.0000,9,-999.000,9,   2.1219,2,    0.42,2,  -146.6,2,     2.3,-999.000,9, -999.00,9,-999.000,9,   40.67,2,   34.75,2, -67.0002, -96.9378,-999.000,     -999.0,    34.8491,2,     -999.0,9,     -999.0,9,-999.0000,9,-999.0000,9,-999.0000,9,-999.0000,9,-999.0000,9,-999.0000,9,-999.0000,9,-999.0000,9,-999.0000,9,-999.0000,-999.000,   2.0700,     -999.0,     -999.0,9,     -999.0,9,     -999.0,9,     -999.0,9,     -999.0,20110413,       2302
320620110219,       S04P,     121,          1,         20,         20,2,20110413,       2140,   -67.0002,   -96.9379,       4679,   964.5,   2.0527,  34.7006,2,  34.7010,2,    180.0,2,   179.8,2,   83.28,2,   32.17,2,    0.00,2,    2.21,2,-999.000,9,-999.000,9,-999.000,9,-999.0000,9,  -999.0,9,  -999.0,9,-999.0000,9,  -999.00,-999.000,9,-999.0000,9,-999.000,9,   2.0529,2,    0.45,2,  -148.9,2,     2.4,-999.000,9, -999.00,9,-999.000,9,   40.61,2,   34.70,2, -67.0002, -96.9378,-999.000,     -999.0,    34.8647,2,     -999.0,9,     -999.0,9,-999.0000,9,-999.0000,9,-999.0000,9,-999.0000,9,-999.0000,9,-999.0000,9,-999.0000,9,-999.0000,9,-999.0000,9,-999.0000,-999.000,   1.9943,     -999.0,     -999.0,9,     -999.0,9,     -999.0,9,     -999.0,9,     -999.0,20110413,       2300
320620110219,       S04P,     121,          1,         19,         19,2,20110413,       2140,   -67.0002,   -96.9379,       4679,  1064.6,   1.9754,  34.7133,2,  34.7144,2,    182.9,2,   183.8,2,   84.93,2,   31.87,2,    0.00,2,    2.19,2,-999.000,9,-999.000,9,-999.000,9,-999.0000,9,  2254.1,6,  2349.3,2,   7.5867,2,    25.00,-999.000,9,-999.0000,9,-999.000,9,   1.9762,2,    0.46,2,  -153.4,2,     2.4,-999.000,9, -999.00,9,-999.000,9,   40.53,2,   34.46,2, -67.0002, -96.9378,-999.000,     -999.0,    34.8781,2,     -999.0,9,     -999.0,9,   0.0826,2,   0.0433,3,   0.0046,3,  -0.0071,4,  -0.0156,4,  -0.0125,4,  -0.0129,4,   0.0569,4,   0.0469,4,-999.0000,-999.000,   1.9107,     -999.0,     -999.0,9,     -999.0,9,     -999.0,9,     -999.0,9,     -999.0,20110413,       2257
320620110219,       S04P,     121,          1,         18,         18,2,20110413,       2140,   -67.0002,   -96.9379,       4679,  1164.5,   1.9046,  34.7216,2,  34.7218,2,    184.9,2,   184.8,2,   86.49,2,   31.61,2,    0.00,2,    2.17,2,-999.000,9,-999.000,9,-999.000,9,-999.0000,9,  -999.0,9,  -999.0,9,-999.0000,9,  -999.00,-999.000,9,-999.0000,9,-999.000,9,   1.9046,2,    0.49,2,  -147.2,2,     3.2,-999.000,9, -999.00,9,-999.000,9,   40.05,2,   34.25,2, -67.0002, -96.9379,-999.000,     -999.0,    34.8856,2,     -999.0,9,     -999.0,9,-999.0000,9,-999.0000,9,-999.0000,9,-999.0000,9,-999.0000,9,-999.0000,9,-999.0000,9,-999.0000,9,-999.0000,9,-999.0000,-999.000,   1.8336,     -999.0,     -999.0,9,     -999.0,9,     -999.0,9,     -999.0,9,     -999.0,20110413,       2255
320620110219,       S04P,     121,          1,         17,         17,2,20110413,       2140,   -67.0002,   -96.9379,       4679,  1264.2,   1.8277,  34.7272,2,  34.7279,2,    187.6,2,   187.1,2,   88.83,2,   31.59,2,    0.00,2,    2.16,2,   0.228,2,   0.105,2,   0.015,2,   0.0520,2,  2253.3,2,  2352.3,2,   7.5969,2,    25.00,-999.000,9,-999.0000,9,-999.000,9,   1.8268,2,    0.51,2,  -148.9,2,     2.4,-999.000,9, -999.00,9,-999.000,9,   39.88,2,   34.17,2, -67.0002, -96.9379,-999.000,     -999.0,    34.8917,2,     -999.0,9,     -999.0,9,-999.0000,9,-999.0000,9,-999.0000,9,-999.0000,9,-999.0000,9,-999.0000,9,-999.0000,9,-999.0000,9,-999.0000,9,-999.0000,-999.000,   1.7503,     -999.0,     -999.0,9,     -999.0,9,     -999.0,9,     -999.0,9,     -999.0,20110413,       2252
320620110219,       S04P,     121,          1,         16,         16,2,20110413,       2140,   -67.0002,   -96.9379,       4679,  1364.7,   1.7450,  34.7303,2,  34.7308,2,    189.5,2,   189.4,2,   91.02,2,   31.52,2,    0.00,2,    2.15,2,-999.000,9,-999.000,9,-999.000,9,-999.0000,9,  -999.0,9,  -999.0,9,-999.0000,9,  -999.00,-999.000,9,-999.0000,9,-999.000,9,   1.7430,2,    0.53,2,  -149.0,2,     2.3,-999.000,9, -999.00,9,-999.000,9,   39.81,2,   34.01,2, -67.0002, -96.9378,-999.000,     -999.0,    34.8946,2,     -999.0,9,     -999.0,9,   0.0831,2,   0.0435,3,   0.0026,3,  -0.0064,4,  -0.0148,4,  -0.0122,4,  -0.0128,4,   0.0649,4,   0.0485,4,-999.0000,-999.000,   1.6612,     -999.0,     -999.0,9,     -999.0,9,     -999.0,9,     -999.0,9,     -999.0,20110413,       2250
320620110219,       S04P,     121,          1,         15,         15,2,20110413,       2140,   -67.0002,   -96.9379,       4679,  1465.0,   1.6444,  34.7314,2,  34.7318,2,    191.0,2,   191.3,2,   93.78,2,   31.57,2,    0.00,2,    2.14,2,   0.196,2,   0.087,2,   0.012,2,   0.0690,2,  2254.9,2,  2355.5,2,   7.6010,2,    25.00,-999.000,9,-999.0000,9,-999.000,9,   1.6445,2,    0.58,2,  -152.6,2,     2.6,-999.000,9, -999.00,9,-999.000,9,   39.88,2,   33.94,2, -67.0002, -96.9378,-999.000,     -999.0,    34.8956,2,     -999.0,9,     -999.0,9,-999.0000,9,-999.0000,9,-999.0000,9,-999.0000,9,-999.0000,9,-999.0000,9,-999.0000,9,-999.0000,9,-999.0000,9,-999.0000,-999.000,   1.5544,     -999.0,     -999.0,9,     -999.0,9,     -999.0,9,     -999.0,9,     -999.0,20110413,       2247
320620110219,       S04P,     121,          1,         14,         14,2,20110413,       2140,   -67.0002,   -96.9379,       4679,  1564.6,   1.5622,  34.7310,2,  34.7312,2,    191.9,2,   191.8,2,   96.39,2,   31.58,2,    0.00,2,    2.15,2,-999.000,9,-999.000,9,-999.000,9,-999.0000,9,  -999.0,9,  -999.0,9,-999.0000,9,  -999.00,-999.000,9,-999.0000,9,-999.000,9,   1.5640,2,    0.51,2,  -159.9,2,     2.8,-999.000,9, -999.00,9,-999.000,9,   39.73,2,   34.16,2, -67.0002, -96.9378,-999.000,     -999.0,    34.8950,2,     -999.0,9,     -999.0,9,-999.0000,9,-999.0000,9,-999.0000,9,-999.0000,9,-999.0000,9,-999.0000,9,-999.0000,9,-999.0000,9,-999.0000,9,-999.0000,-999.000,   1.4659,     -999.0,     -999.0,9,     -999.0,9,     -999.0,9,     -999.0,9,     -999.0,20110413,       2245