BOTTLE,20220813CCHSIOAMB
EXPOCODE,SECT_ID,STNNBR,CASTNO,SAMPNO,BTLNBR,BTLNBR_FLAG_W,DATE,TIME,LATITUDE,LONGITUDE,DEPTH,CTDPRS,CTDTMP,CTDSAL,CTDSAL_FLAG_W,SALNTY,SALNTY_FLAG_W,CTDOXY,CTDOXY_FLAG_W,OXYGEN,OXYGEN_FLAG_W,SILCAT,SILCAT_FLAG_W,NITRAT,NITRAT_FLAG_W,NITRIT,NITRIT_FLAG_W,PHSPHT,PHSPHT_FLAG_W,CFC-11,CFC-11_FLAG_W,CFC-12,CFC-12_FLAG_W,CFC113,CFC113_FLAG_W,SF6,SF6_FLAG_W,TCARBN,TCARBN_FLAG_W,ALKALI,ALKALI_FLAG_W,PH_TOT,PH_TOT_FLAG_W,PH_TMP,TRITUM,TRITUM_FLAG_W,HELIUM,HELIUM_FLAG_W,DELHE3,DELHE3_FLAG_W,REFTMP,REFTMP_FLAG_W,DELC13,DELC13_FLAG_W,DELC14,DELC14_FLAG_W,C14ERR,NEON,NEON_FLAG_W,DELO18,DELO18_FLAG_W,POC,POC_FLAG_W,DOC,DOC_FLAG_W,TDN,TDN_FLAG_W,BTL_LAT,BTL_LON,TRITER,NEONER,SALTREF,SALTREF_FLAG_W,PIGMENTS,PIGMENTS_FLAG_W,LAB_DEN,LAB_DEN_FLAG_W,CDOM325,CDOM325_FLAG_W,CDOM340,CDOM340_FLAG_W,CDOM380,CDOM380_FLAG_W,CDOM412,CDOM412_FLAG_W,CDOM443,CDOM443_FLAG_W,CDOM490,CDOM490_FLAG_W,CDOM555,CDOM555_FLAG_W,CDOMSL,CDOMSL_FLAG_W,CDOMSN,CDOMSN_FLAG_W,HELIER,DELHER,THETA,LDEO_SAMPNO,ABSORBTION,ABSORBTION_FLAG_W,IMAGE_COUNT,IMAGE_COUNT_FLAG_W,CYTO_COUNT,CYTO_COUNT_FLAG_W,DELD,DELD_FLAG_W,DELDERR,BTL_DATE,BTL_TIME
,,,,,,,,,,,METERS,DBAR,ITS-90,PSS-78,,PSS-78,,UMOL/KG,,UMOL/KG,,UMOL/KG,,UMOL/KG,,UMOL/KG,,UMOL/KG,,PMOL/KG,,PMOL/KG,,PMOL/KG,,FMOL/KG,,UMOL/KG,,UMOL/KG,,,,DEG C,TU,,NMOL/KG,,PERCNT,,DEG C,,/MILLE,,/MILLE,,/MILLE,NMOL/KG,,/MILLE,,UG/KG,,UMOL/KG,,UMOL/KG,,,,TU,NMOL/KG,G/KG,,,,,,1/M,,1/M,,1/M,,1/M,,1/M,,1/M,,1/M,,1/NM,,1/NM,,NMOL/KG,PERCNT,DEG C,,,,,,,,/MILLE,,/MILLE,,
320620110219,       S04P,     111,          1,         36,         36,2,20110406,       2102,   -67.0006,  -119.9416,       4520,     3.1,  -0.8098,  33.5014,2,  33.5005,2,    342.2,3,   348.1,2,   23.85,2,   24.58,2,    0.21,2,    1.68,2,   6.249,2,   3.456,2,   0.654,2,   2.8300,2,  2137.0,6,  2265.0,2,   7.6979,2,    25.00,   0.088,2,   1.9159,2,   -1.53,2,  -0.8093,2, -999.00,9,  -999.0,9,  -999.0,   8.551,2,   -0.35,2,-999.000,9,   44.37,2,   29.06,2, -67.0006,-119.9417,   0.012,      0.044,    33.6585,2,     -999.0,9,     -999.0,9,   0.0637,3,   0.0278,3,  -0.0090,4,  -0.0152,4,  -0.0214,4,  -0.0163,4,  -0.0151,4,   0.0825,4,   0.0648,4,   0.0092,    0.14,  -0.8099,     -999.0,     -999.0,9,     -999.0,9,     -999.0,9,      -3.76,2,       0.08,20110406,       2247
320620110219,       S04P,     111,          1,         35,         35,2,20110406,       2102,   -67.0006,  -119.9416,       4520,    20.1,  -0.8161,  33.5015,2,  33.5002,2,    347.9,2,   347.5,2,   23.76,2,   24.65,2,    0.21,2,    1.70,2,   6.262,2,   3.447,2,   0.653,2,   2.8310,2,  2135.9,2,  2264.6,2,   7.6972,6,    25.00,   0.132,2,   1.8517,2,   -1.58,2,  -0.8161,2, -999.00,9,  -999.0,9,  -999.0,   8.374,2,   -0.36,2,-999.000,9,   44.39,2,   29.15,2, -67.0006,-119.9416,   0.013,      0.043,    33.6581,2,     -999.0,9,     -999.0,9,   0.0593,3,   0.0233,3,  -0.0104,4,  -0.0161,4,  -0.0220,4,  -0.0167,4,  -0.0152,4,   0.0932,4,   0.0713,4,   0.0089,    0.14,  -0.8166,     -999.0,     -999.0,9,     -999.0,9,     -999.0,9,      -3.76,2,       0.04,20110406,       2246
320620110219,       S04P,     111,          1,         34,         34,2,20110406,       2102,   -67.0006,  -119.9416,       4520,    39.0,  -0.8258,  33.5018,2,  33.5006,2,    348.1,2,   347.6,2,   23.71,2,   24.70,2,    0.21,2,    1.70,2,   6.184,6,   3.458,6,   0.648,6,   2.8000,6,  2136.4,2,  2265.1,2,   7.6976,2,    25.00,   0.128,2,   1.9052,2,   -1.63,2,  -0.8260,2, -999.00,9,  -999.0,9,  -999.0,   8.444,2,   -0.28,2,-999.000,9,   44.75,2,   28.93,2, -67.0006,-119.9416,   0.013,      0.043,    33.6585,2,     -999.0,9,     -999.0,9,   0.0562,3,   0.0219,3,  -0.0116,4,  -0.0160,4,  -0.0218,4,  -0.0167,4,  -0.0153,4,   0.1040,4,   0.0726,4,   0.0091,    0.14,  -0.8268,     -999.0,     -999.0,9,     -999.0,9,     -999.0,9,      -3.71,2,       0.10,20110406,       2245
320620110219,       S04P,     111,          1,         33,         33,2,20110406,       2102,   -67.0006,  -119.9416,       4520,    65.9,  -0.8649,  33.5317,2,  33.5328,2,    348.4,2,   346.3,2,   25.20,2,   24.92,2,    0.21,2,    1.72,2,   6.207,2,   3.422,2,   0.649,2,   2.8430,2,  2140.1,2,  2267.0,2,   7.6941,2,    25.00,   0.122,2,   1.8924,2,   -1.59,2,  -0.8662,2, -999.00,9,  -999.0,9,  -999.0,   8.466,2,   -0.34,2,-999.000,9,   43.94,2,   29.10,2, -67.0006,-119.9416,   0.013,      0.043,    33.6909,2,     -999.0,9,     -999.0,9,   0.0595,3,   0.0229,3,  -0.0121,4,  -0.0159,4,  -0.0214,4,  -0.0160,4,  -0.0149,4,   0.1096,4,   0.0729,4,   0.0091,    0.14,  -0.8666,     -999.0,     -999.0,9,     -999.0,9,     -999.0,9,      -3.64,2,       0.04,20110406,       2244
320620110219,       S04P,     111,          1,         32,         32,2,20110406,       2102,   -67.0006,  -119.9416,       4520,    88.8,  -1.5531,  33.9526,2,  33.9525,2,    323.2,2,   325.5,2,   43.11,2,   29.71,2,    0.17,2,    2.05,2,   5.726,2,   3.150,2,   0.594,2,   2.5410,2,  2181.5,2,  2299.3,4,   7.6379,2,    25.00,   0.072,2,   1.8884,2,   -0.68,2,  -1.5561,2, -999.00,9,  -999.0,9,  -999.0,   8.511,2,   -0.23,2,-999.000,9,   42.91,2,   33.47,2, -67.0006,-119.9416,   0.013,      0.043,    34.1126,2,     -999.0,9,     -999.0,9,   0.0753,3,   0.0261,3,  -0.0089,4,  -0.0135,4,  -0.0206,4,  -0.0162,4,  -0.0151,4,   0.1108,4,   0.0820,4,   0.0091,    0.14,  -1.5550,     -999.0,     -999.0,9,     -999.0,9,     -999.0,9,      -3.12,2,       0.08,20110406,       2242
320620110219,       S04P,     111,          1,         31,         31,2,20110406,       2102,   -67.0006,  -119.9416,       4520,   134.9,  -0.4539,  34.1150,2,  34.1195,2,    306.4,2,   298.8,2,   50.35,2,   31.26,2,    0.00,2,    2.14,2,   4.926,2,   2.744,2,   0.508,2,   2.1400,2,  2198.5,2,  2302.8,2,   7.6142,2,    25.00,   0.087,2,   1.8651,2,    0.46,2,  -0.4472,2, -999.00,9,  -999.0,9,  -999.0,   8.304,2,   -0.25,2,-999.000,9,   41.73,2,   34.25,2, -67.0006,-119.9416,   0.013,      0.042,    34.2804,2,     -999.0,9,     -999.0,9,   0.0579,3,   0.0210,3,  -0.0114,4,  -0.0158,4,  -0.0220,4,  -0.0171,4,  -0.0155,4,   0.1181,4,   0.0769,4,   0.0090,    0.14,  -0.4582,     -999.0,     -999.0,9,     -999.0,9,     -999.0,9,      -2.77,2,       0.14,20110406,       2241
320620110219,       S04P,     111,          1,         30,         30,2,20110406,       2102,   -67.0006,  -119.9416,       4520,   184.4,   0.9876,  34.3561,2,  34.3398,2,    230.7,2,   230.5,2,   63.20,2,   33.59,2,    0.00,2,    2.29,2,   2.970,2,   1.628,2,   0.296,2,   1.2080,2,  2228.6,2,  2317.1,2,   7.5651,2,    25.00,   0.053,2,   1.9002,2,    4.15,2,   0.9833,2, -999.00,9,  -999.0,9,  -999.0,   8.394,2,   -0.11,2,-999.000,9,   41.44,2,   36.34,2, -67.0006,-119.9416,   0.012,      0.043,    34.5018,2,     -999.0,9,     -999.0,9,   0.0688,3,   0.0298,3,  -0.0047,4,  -0.0125,4,  -0.0201,4,  -0.0161,4,  -0.0151,4,   0.0693,3,   0.0630,3,   0.0091,    0.14,   0.9794,     -999.0,     -999.0,9,     -999.0,9,     -999.0,9,      -2.09,2,       0.02,20110406,       2239
320620110219,       S04P,     111,          1,         29,         29,2,20110406,       2102,   -67.0006,  -119.9416,       4520,   235.2,   1.8874,  34.5292,2,  34.5268,2,    183.2,2,   184.2,2,   72.74,2,   34.56,2,    0.00,2,    2.36,2,   1.359,2,   0.732,2,   0.115,2,   0.4770,2,  2254.0,2,  2330.7,2,   7.5418,2,    25.00,   0.029,2,   1.8792,2,    7.17,2,   1.8846,2, -999.00,9,  -999.0,9,  -999.0,   8.246,2,   -0.07,3,-999.000,9,   41.14,2,   37.18,2, -67.0006,-119.9416,   0.012,      0.042,    34.6896,2,     -999.0,9,     -999.0,9,-999.0000,9,-999.0000,9,-999.0000,9,-999.0000,9,-999.0000,9,-999.0000,9,-999.0000,9,-999.0000,9,-999.0000,9,   0.0090,    0.14,   1.8750,     -999.0,     -999.0,9,     -999.0,9,     -999.0,9,      -1.37,3,       0.10,20110406,       2238
320620110219,       S04P,     111,          1,         28,         28,2,20110406,       2102,   -67.0006,  -119.9416,       4520,   285.2,   1.9642,  34.5752,2,  34.5737,2,    179.3,2,   178.7,2,   75.06,2,   34.08,2,    0.00,2,    2.35,2,   1.049,2,   0.550,2,   0.085,2,   0.3250,2,  2256.1,2,  2333.8,2,   7.5442,2,    25.00,   0.016,2,   1.9012,2,    7.90,2,   1.9648,2, -999.00,9,  -999.0,9,  -999.0,   8.211,2,   -0.12,2,-999.000,9,   41.04,2,   36.92,2, -67.0006,-119.9416,   0.012,      0.042,    34.7367,2,     -999.0,9,     -999.0,9,   0.0778,3,   0.0367,3,  -0.0017,4,  -0.0104,4,  -0.0189,4,  -0.0154,4,  -0.0149,4,   0.0712,4,   0.0566,4,   0.0091,    0.14,   1.9488,     -999.0,     -999.0,9,     -999.0,9,     -999.0,9,      -1.54,2,       0.14,20110406,       2236
320620110219,       S04P,     111,          1,         27,         27,2,20110406,       2102,   -67.0006,  -119.9416,       4520,   333.8,   2.0611,  34.6168,2,  34.6155,2,    175.7,2,   175.3,2,   77.22,2,   33.72,2,    0.00,2,    2.32,2,   0.730,2,   0.378,2,   0.056,2,   0.2020,2,  2256.7,2,  2337.5,2,   7.5534,2,    25.00,   0.009,2,   1.8873,2,    8.51,2,   2.0622,2, -999.00,9,  -999.0,9,  -999.0,   8.233,2,    0.00,2,-999.000,9,   40.66,2,   35.84,2, -67.0006,-119.9416,   0.013,      0.042,    34.7787,2,     -999.0,9,     -999.0,9,-999.0000,9,-999.0000,9,-999.0000,9,-999.0000,9,-999.0000,9,-999.0000,9,-999.0000,9,-999.0000,9,-999.0000,9,   0.0091,    0.14,   2.0427,     -999.0,     -999.0,9,     -999.0,9,     -999.0,9,      -1.25,2,       0.05,20110406,       2234
320620110219,       S04P,     111,          1,         26,         26,2,20110406,       2102,   -67.0006,  -119.9416,       4520,   384.1,   2.0504,  34.6394,2,  34.6365,2,    174.6,2,   175.6,2,   78.48,2,   33.37,2,    0.00,2,    2.28,2,   0.637,2,   0.334,2,   0.054,2,   0.1470,2,  2257.6,2,  2339.5,6,   7.5551,2,    25.00,   0.028,2,   1.8949,2,    8.62,2,   2.0495,2, -999.00,9,  -999.0,9,  -999.0,   8.205,2,   -0.03,2,-999.000,9,   40.94,2,   35.78,2, -67.0006,-119.9416,   0.013,      0.042,    34.7998,2,     -999.0,9,     -999.0,9,-999.0000,9,-999.0000,9,-999.0000,9,-999.0000,9,-999.0000,9,-999.0000,9,-999.0000,9,-999.0000,9,-999.0000,9,   0.0091,    0.14,   2.0291,     -999.0,     -999.0,9,     -999.0,9,     -999.0,9,      -1.23,2,       0.06,20110406,       2232
320620110219,       S04P,     111,          1,         25,         25,2,20110406,       2102,   -67.0006,  -119.9416,       4520,   463.7,   2.0803,  34.6724,2,  34.6712,2,    176.1,2,   176.0,2,   80.28,2,   32.70,2,    0.00,2,    2.23,2,   0.424,2,   0.214,2,   0.031,2,   0.1260,2,  2256.7,2,  2342.5,2,   7.5680,2,    25.00,   0.006,2,   1.9027,2,    9.24,2,   2.0804,2, -999.00,9,  -999.0,9,  -999.0,   8.198,2,   -0.10,2,-999.000,9,   40.40,2,   35.14,2, -67.0006,-119.9416,   0.013,      0.042,    34.8347,2,     -999.0,9,     -999.0,9,   0.0781,2,   0.0370,3,  -0.0039,4,  -0.0114,4,  -0.0191,4,  -0.0151,4,  -0.0147,4,   0.0854,4,   0.0577,4,   0.0091,    0.14,   2.0541,     -999.0,     -999.0,9,     -999.0,9,     -999.0,9,      -1.23,2,       0.01,20110406,       2230
320620110219,       S04P,     111,          1,         24,         24,2,20110406,       2102,   -67.0006,  -119.9416,       4520,   564.2,   2.0128,  34.6958,2,  34.6942,2,    178.8,2,   178.9,2,   82.51,2,   32.15,2,    0.00,2,    2.20,2,-999.000,9,-999.000,9,-999.000,9,-999.0000,9,  2255.2,2,  2345.4,2,   7.5743,2,    25.00,-999.000,9,-999.0000,9,-999.000,9,   2.0131,2, -999.00,9,  -999.0,9,  -999.0,-999.000,9, -999.00,9,-999.000,9,   40.66,2,   34.90,2, -67.0006,-119.9416,-999.000,     -999.0,    34.8578,2,     -999.0,9,     -999.0,9,-999.0000,9,-999.0000,9,-999.0000,9,-999.0000,9,-999.0000,9,-999.0000,9,-999.0000,9,-999.0000,9,-999.0000,9,-999.0000,-999.000,   1.9807,     -999.0,     -999.0,9,     -999.0,9,     -999.0,9,     -999.0,9,     -999.0,20110406,       2228
320620110219,       S04P,     111,          1,         23,         23,2,20110406,       2102,   -67.0006,  -119.9416,       4520,   664.3,   1.9375,  34.7110,2,  34.7103,2,    182.3,2,   181.9,2,   84.00,2,   31.72,2,    0.00,2,    2.18,2,   0.314,2,   0.156,2,   0.023,2,   0.0650,2,  -999.0,9,  -999.0,9,-999.0000,9,  -999.00,  -0.009,2,   1.9263,2,    9.16,2,   1.9373,2, -999.00,9,  -999.0,9,  -999.0,   8.252,2,    0.00,3,-999.000,9,   40.78,2,   33.90,2, -67.0006,-119.9416,   0.012,      0.042,    34.8740,2,     -999.0,9,     -999.0,9,-999.0000,9,-999.0000,9,-999.0000,9,-999.0000,9,-999.0000,9,-999.0000,9,-999.0000,9,-999.0000,9,-999.0000,9,   0.0092,    0.14,   1.8995,     -999.0,     -999.0,9,     -999.0,9,     -999.0,9,      -1.44,3,       0.10,20110406,       2226
320620110219,       S04P,     111,          1,         22,         22,2,20110406,       2102,   -67.0006,  -119.9416,       4520,   763.1,   1.8599,  34.7196,2,  34.7188,2,    184.8,2,   184.5,2,   86.29,2,   31.52,2,    0.00,2,    2.17,2,-999.000,9,-999.000,9,-999.000,9,-999.0000,9,  2251.5,6,  2348.5,2,   7.5862,2,    25.00,-999.000,9,-999.0000,9,-999.000,9,   1.8601,2, -999.00,9,  -999.0,9,  -999.0,-999.000,9, -999.00,9,-999.000,9,   40.32,2,   34.27,2, -67.0006,-119.9416,-999.000,     -999.0,    34.8825,2,     -999.0,9,     -999.0,9,   0.0759,2,   0.0355,3,  -0.0050,4,  -0.0125,4,  -0.0201,4,  -0.0159,4,  -0.0152,4,   0.0734,4,   0.0581,4,-999.0000,-999.000,   1.8161,     -999.0,     -999.0,9,     -999.0,9,     -999.0,9,     -999.0,9,     -999.0,20110406,       2223
320620110219,       S04P,     111,          1,         21,         21,2,20110406,       2102,   -67.0006,  -119.9416,       4520,   863.9,   1.7835,  34.7280,2,  34.7272,2,    187.5,2,   186.9,2,   88.71,2,   31.24,2,    0.00,2,    2.15,2,   0.238,2,   0.120,2,   0.017,2,   0.0710,2,  -999.0,9,  -999.0,9,-999.0000,9,  -999.00,   0.008,2,   1.8976,2,    9.51,2,   1.7840,2, -999.00,9,  -999.0,9,  -999.0,   8.168,2, -999.00,9,-999.000,9,   40.32,2,   34.16,2, -67.0006,-119.9416,   0.013,      0.042,    34.8910,2,     -999.0,9,     -999.0,9,-999.0000,9,-999.0000,9,-999.0000,9,-999.0000,9,-999.0000,9,-999.0000,9,-999.0000,9,-999.0000,9,-999.0000,9,   0.0091,    0.14,   1.7338,     -999.0,     -999.0,9,     -999.0,9,     -999.0,9,     -999.0,9,     -999.0,20110406,       2221
320620110219,       S04P,     111,          1,         20,         20,2,20110406,       2102,   -67.0006,  -119.9416,       4520,   965.5,   1.6992,  34.7316,2,  34.7309,2,    189.8,2,   189.3,2,   91.06,2,   31.15,2,    0.00,2,    2.15,2,-999.000,9,-999.000,9,-999.000,9,-999.0000,9,  2253.9,2,  2352.2,2,   7.5970,2,    25.00,-999.000,9,-999.0000,9,-999.000,9,   1.7003,2, -999.00,9,  -999.0,9,  -999.0,-999.000,9, -999.00,9,-999.000,9,   40.19,2,   34.01,2, -67.0006,-119.9416,-999.000,     -999.0,    34.8947,2,     -999.0,9,     -999.0,9,-999.0000,9,-999.0000,9,-999.0000,9,-999.0000,9,-999.0000,9,-999.0000,9,-999.0000,9,-999.0000,9,-999.0000,9,-999.0000,-999.000,   1.6434,     -999.0,     -999.0,9,     -999.0,9,     -999.0,9,     -999.0,9,     -999.0,20110406,       2218
320620110219,       S04P,     111,          1,         19,         19,2,20110406,       2102,   -67.0006,  -119.9416,       4520,  1064.2,   1.6135,  34.7333,2,  34.7323,2,    191.3,2,   191.3,2,   93.58,2,   31.04,2,    0.00,2,    2.15,2,   0.208,2,   0.109,2,   0.015,2,   0.0670,2,  -999.0,9,  -999.0,9,-999.0000,9,  -999.00,  -0.021,2,   1.9014,2,    9.74,2,   1.6143,2, -999.00,9,  -999.0,9,  -999.0,   8.245,2, -999.00,9,-999.000,9,   39.94,2,   33.89,2, -67.0006,-119.9416,   0.013,      0.042,    34.8961,2,     -999.0,9,     -999.0,9,   0.0770,2,   0.0366,3,  -0.0034,4,  -0.0116,4,  -0.0195,4,  -0.0153,4,  -0.0147,4,   0.0758,4,   0.0571,4,   0.0091,    0.14,   1.5519,     -999.0,     -999.0,9,     -999.0,9,     -999.0,9,     -999.0,9,     -999.0,20110406,       2216
320620110219,       S04P,     111,          1,         18,         18,2,20110406,       2102,   -67.0006,  -119.9416,       4520,  1165.5,   1.5281,  34.7330,2,  34.7321,2,    192.6,2,   192.4,2,   96.13,2,   31.05,2,    0.00,2,    2.16,2,-999.000,9,-999.000,9,-999.000,9,-999.0000,9,  2255.6,2,  2355.0,2,   7.5992,6,    25.00,-999.000,9,-999.0000,9,-999.000,9,   1.5274,2, -999.00,9,  -999.0,9,  -999.0,-999.000,9, -999.00,9,-999.000,9,   39.98,2,   33.83,2, -67.0006,-119.9417,-999.000,     -999.0,    34.8959,2,     -999.0,9,     -999.0,9,-999.0000,9,-999.0000,9,-999.0000,9,-999.0000,9,-999.0000,9,-999.0000,9,-999.0000,9,-999.0000,9,-999.0000,9,-999.0000,-999.000,   1.4604,     -999.0,     -999.0,9,     -999.0,9,     -999.0,9,     -999.0,9,     -999.0,20110406,       2214
320620110219,       S04P,     111,          1,         17,         17,2,20110406,       2102,   -67.0006,  -119.9416,       4520,  1263.8,   1.4536,  34.7322,2,  34.7314,2,    193.5,2,   193.5,2,   98.48,2,   31.15,2,    0.00,2,    2.17,2,   0.177,2,   0.088,2,   0.014,2,   0.0820,2,  -999.0,9,  -999.0,9,-999.0000,9,  -999.00,   0.021,2,   1.9611,2,    9.54,2,   1.4545,2, -999.00,9,  -999.0,9,  -999.0,   8.464,2, -999.00,9,-999.000,9,   39.86,2,   33.81,2, -67.0006,-119.9416,   0.013,      0.043,    34.8951,2,     -999.0,9,     -999.0,9,-999.0000,9,-999.0000,9,-999.0000,9,-999.0000,9,-999.0000,9,-999.0000,9,-999.0000,9,-999.0000,9,-999.0000,9,   0.0094,    0.14,   1.3800,     -999.0,     -999.0,9,     -999.0,9,     -999.0,9,     -999.0,9,     -999.0,20110406,       2211
320620110219,       S04P,     111,          1,         16,         16,2,20110406,       2102,   -67.0006,  -119.9416,       4520,  1365.2,   1.3768,  34.7307,2,  34.7300,2,    194.5,2,   194.3,2,  100.88,2,   31.32,2,    0.00,2,    2.18,2,-999.000,9,-999.000,9,-999.000,9,-999.0000,9,  2254.9,2,  2356.8,2,   7.6000,2,    25.00,-999.000,9,-999.0000,9,-999.000,9,   1.3776,2, -999.00,9,  -999.0,9,  -999.0,-999.000,9, -999.00,9,-999.000,9,   39.89,2,   33.74,2, -67.0006,-119.9416,-999.000,     -999.0,    34.8938,2,     -999.0,9,     -999.0,9,   0.0772,2,   0.0363,3,  -0.0042,4,  -0.0120,4,  -0.0198,4,  -0.0157,4,  -0.0150,4,   0.0880,4,   0.0580,4,-999.0000,-999.000,   1.2969,     -999.0,     -999.0,9,     -999.0,9,     -999.0,9,     -999.0,9,     -999.0,20110406,       2209
320620110219,       S04P,     111,          1,         15,         15,2,20110406,       2102,   -67.0006,  -119.9416,       4520,  1464.1,   1.3075,  34.7288,2,  34.7286,2,    195.2,2,   195.4,2,  103.24,2,   31.42,2,    0.00,2,    2.18,2,   0.163,2,   0.081,2,   0.013,2,   0.0770,2,  -999.0,9,  -999.0,9,-999.0000,9,  -999.00,  -0.025,2,   1.9091,2,    9.69,2,   1.3076,2, -999.00,9,  -999.0,9,  -999.0,   8.356,2, -999.00,9,-999.000,9,   39.49,2,   33.81,2, -67.0006,-119.9416,   0.013,      0.043,    34.8924,2,     -999.0,9,     -999.0,9,-999.0000,9,-999.0000,9,-999.0000,9,-999.0000,9,-999.0000,9,-999.0000,9,-999.0000,9,-999.0000,9,-999.0000,9,   0.0092,    0.14,   1.2215,     -999.0,     -999.0,9,     -999.0,9,     -999.0,9,     -999.0,9,     -999.0,20110406,       2206
320620110219,       S04P,     111,          1,         14,         14,2,20110406,       2102,   -67.0006,  -119.9416,       4520,  1564.7,   1.2399,  34.7267,2,  34.7265,2,    195.9,2,   196.3,2,  105.04,2,   31.56,2,    0.00,2,    2.19,2,-999.000,9,-999.000,9,-999.000,9,-999.0000,9,  2257.4,2,  2358.5,2,   7.6003,2,    25.00,-999.000,9,-999.0000,9,-999.000,9,   1.2403,2, -999.00,9,  -999.0,9,  -999.0,-999.000,9, -999.00,9,-999.000,9,   39.62,2,   33.70,2, -67.0006,-119.9417,-999.000,     -999.0,    34.8902,2,     -999.0,9,     -999.0,9,-999.0000,9,-999.0000,9,-999.0000,9,-999.0000,9,-999.0000,9,-999.0000,9,-999.0000,9,-999.0000,9,-999.0000,9,-999.0000,-999.000,   1.1475,     -999.0,     -999.0,9,     -999.0,9,     -999.0,9,     -999.0,9,     -999.0,20110406,       2204