BOTTLE,20220813CCHSIOAMB
EXPOCODE,SECT_ID,STNNBR,CASTNO,SAMPNO,BTLNBR,BTLNBR_FLAG_W,DATE,TIME,LATITUDE,LONGITUDE,DEPTH,CTDPRS,CTDTMP,CTDSAL,CTDSAL_FLAG_W,SALNTY,SALNTY_FLAG_W,CTDOXY,CTDOXY_FLAG_W,OXYGEN,OXYGEN_FLAG_W,SILCAT,SILCAT_FLAG_W,NITRAT,NITRAT_FLAG_W,NITRIT,NITRIT_FLAG_W,PHSPHT,PHSPHT_FLAG_W,CFC-11,CFC-11_FLAG_W,CFC-12,CFC-12_FLAG_W,CFC113,CFC113_FLAG_W,SF6,SF6_FLAG_W,TCARBN,TCARBN_FLAG_W,ALKALI,ALKALI_FLAG_W,PH_TOT,PH_TOT_FLAG_W,PH_TMP,TRITUM,TRITUM_FLAG_W,HELIUM,HELIUM_FLAG_W,DELHE3,DELHE3_FLAG_W,REFTMP,REFTMP_FLAG_W,DELC13,DELC13_FLAG_W,DELC14,DELC14_FLAG_W,C14ERR,NEON,NEON_FLAG_W,DELO18,DELO18_FLAG_W,POC,POC_FLAG_W,DOC,DOC_FLAG_W,TDN,TDN_FLAG_W,BTL_LAT,BTL_LON,TRITER,NEONER,SALTREF,SALTREF_FLAG_W,PIGMENTS,PIGMENTS_FLAG_W,LAB_DEN,LAB_DEN_FLAG_W,CDOM325,CDOM325_FLAG_W,CDOM340,CDOM340_FLAG_W,CDOM380,CDOM380_FLAG_W,CDOM412,CDOM412_FLAG_W,CDOM443,CDOM443_FLAG_W,CDOM490,CDOM490_FLAG_W,CDOM555,CDOM555_FLAG_W,CDOMSL,CDOMSL_FLAG_W,CDOMSN,CDOMSN_FLAG_W,HELIER,DELHER,THETA,LDEO_SAMPNO,ABSORBTION,ABSORBTION_FLAG_W,IMAGE_COUNT,IMAGE_COUNT_FLAG_W,CYTO_COUNT,CYTO_COUNT_FLAG_W,DELD,DELD_FLAG_W,DELDERR,BTL_DATE,BTL_TIME
,,,,,,,,,,,METERS,DBAR,ITS-90,PSS-78,,PSS-78,,UMOL/KG,,UMOL/KG,,UMOL/KG,,UMOL/KG,,UMOL/KG,,UMOL/KG,,PMOL/KG,,PMOL/KG,,PMOL/KG,,FMOL/KG,,UMOL/KG,,UMOL/KG,,,,DEG C,TU,,NMOL/KG,,PERCNT,,DEG C,,/MILLE,,/MILLE,,/MILLE,NMOL/KG,,/MILLE,,UG/KG,,UMOL/KG,,UMOL/KG,,,,TU,NMOL/KG,G/KG,,,,,,1/M,,1/M,,1/M,,1/M,,1/M,,1/M,,1/M,,1/NM,,1/NM,,NMOL/KG,PERCNT,DEG C,,,,,,,,/MILLE,,/MILLE,,
320620110219,       P15S,      94,          1,         36,         36,2,20110327,       0857,   -68.8180,  -170.0001,       4226,     3.6,  -1.4991,  33.8287,2,  33.8279,2,    341.4,3,   343.7,2,   60.49,2,   27.09,2,    0.10,2,    1.87,2,   6.001,2,   3.287,2,   0.603,2,   2.8240,2,  2176.4,6,  2291.5,2,   7.6543,2,    25.00,-999.000,9,-999.0000,9,-999.000,9,  -1.4989,2, -999.00,9,  -999.0,9,  -999.0,-999.000,9, -999.00,9,-999.000,9,   43.88,2,   30.62,2, -68.8180,-170.0001,-999.000,     -999.0,    33.9874,2,     -999.0,9,     -999.0,9,-999.0000,9,-999.0000,9,-999.0000,9,-999.0000,9,-999.0000,9,-999.0000,9,-999.0000,9,-999.0000,9,-999.0000,9,-999.0000,-999.000,  -1.4992,     -999.0,     -999.0,9,     -999.0,9,     -999.0,9,     -999.0,9,     -999.0,20110327,       1042
320620110219,       P15S,      94,          1,         35,         35,2,20110327,       0857,   -68.8180,  -170.0001,       4226,    19.8,  -1.4959,  33.8288,2,  33.8282,2,    343.8,2,   343.7,2,   60.44,2,   27.09,2,    0.10,2,    1.88,2,   6.035,2,   3.305,2,   0.605,2,   2.7250,2,  2175.6,2,  2288.7,2,   7.6552,6,    25.00,-999.000,9,-999.0000,9,-999.000,9,  -1.4962,2, -999.00,9,  -999.0,9,  -999.0,-999.000,9, -999.00,9,-999.000,9,   42.73,2,   31.01,2, -68.8180,-170.0001,-999.000,     -999.0,    33.9878,2,     -999.0,9,     -999.0,9,-999.0000,9,-999.0000,9,-999.0000,9,-999.0000,9,-999.0000,9,-999.0000,9,-999.0000,9,-999.0000,9,-999.0000,9,-999.0000,-999.000,  -1.4963,     -999.0,     -999.0,9,     -999.0,9,     -999.0,9,     -999.0,9,     -999.0,20110327,       1040
320620110219,       P15S,      94,          1,         34,         34,2,20110327,       0857,   -68.8180,  -170.0001,       4226,    39.6,  -1.4968,  33.8292,2,  33.8288,2,    344.1,2,   343.6,2,   60.50,2,   26.93,2,    0.11,2,    1.89,2,   6.050,2,   3.289,2,   0.599,2,   2.7450,2,  2175.8,2,  2291.2,6,   7.6560,2,    25.00,-999.000,9,-999.0000,9,-999.000,9,  -1.4969,2, -999.00,9,  -999.0,9,  -999.0,-999.000,9, -999.00,9,-999.000,9,   42.27,2,   30.97,2, -68.8180,-170.0001,-999.000,     -999.0,    33.9883,2,     -999.0,9,     -999.0,9,-999.0000,9,-999.0000,9,-999.0000,9,-999.0000,9,-999.0000,9,-999.0000,9,-999.0000,9,-999.0000,9,-999.0000,9,-999.0000,-999.000,  -1.4976,     -999.0,     -999.0,9,     -999.0,9,     -999.0,9,     -999.0,9,     -999.0,20110327,       1039
320620110219,       P15S,      94,          1,         33,         33,2,20110327,       0857,   -68.8180,  -170.0001,       4226,    66.1,  -1.5565,  33.9877,3,  34.1292,2,    339.5,2,   306.5,2,   62.87,2,   28.43,2,    0.10,2,    2.00,2,   4.852,2,   2.616,2,   0.483,2,   2.1340,2,  2202.2,2,  2311.1,2,   7.6339,2,    25.00,-999.000,9,-999.0000,9,-999.000,9,  -1.5594,2, -999.00,9,  -999.0,9,  -999.0,-999.000,9, -999.00,9,-999.000,9,   41.99,2,   31.85,2, -68.8180,-170.0001,-999.000,     -999.0,    34.2902,2,     -999.0,9,     -999.0,9,-999.0000,9,-999.0000,9,-999.0000,9,-999.0000,9,-999.0000,9,-999.0000,9,-999.0000,9,-999.0000,9,-999.0000,9,-999.0000,-999.000,  -1.5579,     -999.0,     -999.0,9,     -999.0,9,     -999.0,9,     -999.0,9,     -999.0,20110327,       1038
320620110219,       P15S,      94,          1,         32,         32,2,20110327,       0857,   -68.8180,  -170.0001,       4226,    90.2,  -1.3461,  34.3137,2,  34.3094,2,    281.7,2,   274.8,2,   66.54,2,   29.95,2,    0.15,2,    2.11,2,   4.044,2,   2.168,2,   0.394,2,   1.7090,2,  2219.5,2,  2321.6,2,   7.6046,2,    25.00,-999.000,9,-999.0000,9,-999.000,9,  -1.3239,2, -999.00,9,  -999.0,9,  -999.0,-999.000,9, -999.00,9,-999.000,9,   41.17,2,   33.12,2, -68.8180,-170.0002,-999.000,     -999.0,    34.4712,2,     -999.0,9,     -999.0,9,-999.0000,9,-999.0000,9,-999.0000,9,-999.0000,9,-999.0000,9,-999.0000,9,-999.0000,9,-999.0000,9,-999.0000,9,-999.0000,-999.000,  -1.3482,     -999.0,     -999.0,9,     -999.0,9,     -999.0,9,     -999.0,9,     -999.0,20110327,       1036
320620110219,       P15S,      94,          1,         31,         31,2,20110327,       0857,   -68.8180,  -170.0001,       4226,   135.5,   0.8140,  34.5785,2,  34.5681,2,    204.5,2,   203.4,2,   82.41,2,   32.63,2,    0.03,2,    2.26,2,   1.604,2,   0.849,2,   0.155,2,   0.6550,2,  2249.5,2,  2337.2,2,   7.5643,2,    25.00,-999.000,9,-999.0000,9,-999.000,9,   0.8180,2, -999.00,9,  -999.0,9,  -999.0,-999.000,9, -999.00,9,-999.000,9,   40.77,2,   35.52,2, -68.8180,-170.0001,-999.000,     -999.0,    34.7311,2,     -999.0,9,     -999.0,9,-999.0000,9,-999.0000,9,-999.0000,9,-999.0000,9,-999.0000,9,-999.0000,9,-999.0000,9,-999.0000,9,-999.0000,9,-999.0000,-999.000,   0.8082,     -999.0,     -999.0,9,     -999.0,9,     -999.0,9,     -999.0,9,     -999.0,20110327,       1035
320620110219,       P15S,      94,          1,         30,         30,2,20110327,       0857,   -68.8180,  -170.0001,       4226,   184.8,   1.3932,  34.6692,2,  34.6677,2,    188.6,2,   187.4,2,   88.14,2,   32.59,2,    0.00,2,    2.26,2,   0.797,2,   0.400,2,   0.055,2,   0.3020,2,  2255.5,2,  2342.8,2,   7.5687,2,    25.00,-999.000,9,-999.0000,9,-999.000,9,   1.3947,2, -999.00,9,  -999.0,9,  -999.0,-999.000,9, -999.00,9,-999.000,9,   40.77,2,   35.33,2, -68.8180,-170.0001,-999.000,     -999.0,    34.8312,2,     -999.0,9,     -999.0,9,-999.0000,9,-999.0000,9,-999.0000,9,-999.0000,9,-999.0000,9,-999.0000,9,-999.0000,9,-999.0000,9,-999.0000,9,-999.0000,-999.000,   1.3842,     -999.0,     -999.0,9,     -999.0,9,     -999.0,9,     -999.0,9,     -999.0,20110327,       1033
320620110219,       P15S,      94,          1,         29,         29,2,20110327,       0857,   -68.8180,  -170.0001,       4226,   234.8,   1.4944,  34.7017,2,  34.7003,2,    186.9,2,   186.7,2,   90.52,2,   32.41,2,    0.00,2,    2.24,2,   0.564,2,   0.281,2,   0.051,2,   0.1890,2,  2257.0,2,  2346.0,2,   7.5757,2,    25.00,-999.000,9,-999.0000,9,-999.000,9,   1.4949,2, -999.00,9,  -999.0,9,  -999.0,-999.000,9, -999.00,9,-999.000,9,   41.04,2,   34.65,2, -68.8180,-170.0001,-999.000,     -999.0,    34.8639,2,     -999.0,9,     -999.0,9,-999.0000,9,-999.0000,9,-999.0000,9,-999.0000,9,-999.0000,9,-999.0000,9,-999.0000,9,-999.0000,9,-999.0000,9,-999.0000,-999.000,   1.4827,     -999.0,     -999.0,9,     -999.0,9,     -999.0,9,     -999.0,9,     -999.0,20110327,       1031
320620110219,       P15S,      94,          1,         28,         28,2,20110327,       0857,   -68.8180,  -170.0001,       4226,   284.3,   1.4912,  34.7143,2,  34.7133,2,    187.4,2,   188.3,2,   92.39,2,   32.04,2,    0.00,2,    2.24,2,   0.532,2,   0.252,2,   0.041,2,   0.1610,2,  2256.2,2,  2347.8,2,   7.5783,2,    25.00,-999.000,9,-999.0000,9,-999.000,9,   1.4911,2, -999.00,9,  -999.0,9,  -999.0,-999.000,9, -999.00,9,-999.000,9,   41.01,2,   34.40,2, -68.8180,-170.0002,-999.000,     -999.0,    34.8769,2,     -999.0,9,     -999.0,9,-999.0000,9,-999.0000,9,-999.0000,9,-999.0000,9,-999.0000,9,-999.0000,9,-999.0000,9,-999.0000,9,-999.0000,9,-999.0000,-999.000,   1.4769,     -999.0,     -999.0,9,     -999.0,9,     -999.0,9,     -999.0,9,     -999.0,20110327,       1030
320620110219,       P15S,      94,          1,         27,         27,2,20110327,       0857,   -68.8180,  -170.0001,       4226,   334.7,   1.4686,  34.7201,2,  34.7207,2,    188.5,2,   188.9,2,   94.08,2,   31.93,2,    0.00,2,    2.23,2,   0.409,2,   0.201,2,   0.030,2,   0.1740,2,  2256.5,2,  2348.8,2,   7.5829,2,    25.00,-999.000,9,-999.0000,9,-999.000,9,   1.4688,2, -999.00,9,  -999.0,9,  -999.0,-999.000,9, -999.00,9,-999.000,9,   41.15,2,   34.66,2, -68.8180,-170.0001,-999.000,     -999.0,    34.8844,2,     -999.0,9,     -999.0,9,-999.0000,9,-999.0000,9,-999.0000,9,-999.0000,9,-999.0000,9,-999.0000,9,-999.0000,9,-999.0000,9,-999.0000,9,-999.0000,-999.000,   1.4517,     -999.0,     -999.0,9,     -999.0,9,     -999.0,9,     -999.0,9,     -999.0,20110327,       1028
320620110219,       P15S,      94,          1,         26,         26,2,20110327,       0857,   -68.8180,  -170.0001,       4226,   385.6,   1.4287,  34.7242,2,  34.7231,2,    189.7,2,   189.6,2,   96.04,2,   31.80,2,    0.00,2,    2.22,2,-999.000,9,-999.000,9,-999.000,9,-999.0000,9,  2257.0,2,  2349.4,2,   7.5859,2,    25.00,-999.000,9,-999.0000,9,-999.000,9,   1.4287,2, -999.00,9,  -999.0,9,  -999.0,-999.000,9, -999.00,9,-999.000,9,   40.75,2,   34.48,2, -68.8180,-170.0001,-999.000,     -999.0,    34.8868,2,     -999.0,9,     -999.0,9,-999.0000,9,-999.0000,9,-999.0000,9,-999.0000,9,-999.0000,9,-999.0000,9,-999.0000,9,-999.0000,9,-999.0000,9,-999.0000,-999.000,   1.4092,     -999.0,     -999.0,9,     -999.0,9,     -999.0,9,     -999.0,9,     -999.0,20110327,       1026
320620110219,       P15S,      94,          1,         25,         25,2,20110327,       0857,   -68.8180,  -170.0001,       4226,   434.3,   1.3947,  34.7260,2,  34.7252,2,    190.4,2,   190.3,2,   97.61,2,   31.94,2,    0.00,2,    2.22,2,   0.328,2,   0.154,2,   0.020,2,   0.1490,2,  2257.7,2,  2351.9,2,   7.5864,2,    25.00,-999.000,9,-999.0000,9,-999.000,9,   1.3947,2, -999.00,9,  -999.0,9,  -999.0,-999.000,9, -999.00,9,-999.000,9,   40.89,2,   34.45,2, -68.8180,-170.0002,-999.000,     -999.0,    34.8890,2,     -999.0,9,     -999.0,9,-999.0000,9,-999.0000,9,-999.0000,9,-999.0000,9,-999.0000,9,-999.0000,9,-999.0000,9,-999.0000,9,-999.0000,9,-999.0000,-999.000,   1.3726,     -999.0,     -999.0,9,     -999.0,9,     -999.0,9,     -999.0,9,     -999.0,20110327,       1024
320620110219,       P15S,      94,          1,         24,         24,2,20110327,       0857,   -68.8180,  -170.0001,       4226,   485.8,   1.3567,  34.7269,2,  34.7252,2,    191.2,2,   190.6,2,   99.21,2,   31.85,2,    0.00,2,    2.22,2,-999.000,9,-999.000,9,-999.000,9,-999.0000,9,  2257.9,2,  2351.3,2,   7.5891,2,    25.00,-999.000,9,-999.0000,9,-999.000,9,   1.3568,2, -999.00,9,  -999.0,9,  -999.0,-999.000,9, -999.00,9,-999.000,9,   40.11,2,   33.95,2, -68.8180,-170.0001,-999.000,     -999.0,    34.8889,2,     -999.0,9,     -999.0,9,-999.0000,9,-999.0000,9,-999.0000,9,-999.0000,9,-999.0000,9,-999.0000,9,-999.0000,9,-999.0000,9,-999.0000,9,-999.0000,-999.000,   1.3320,     -999.0,     -999.0,9,     -999.0,9,     -999.0,9,     -999.0,9,     -999.0,20110327,       1022
320620110219,       P15S,      94,          1,         23,         23,2,20110327,       0857,   -68.8180,  -170.0001,       4226,   564.6,   1.3006,  34.7271,2,  34.7258,2,    192.4,2,   191.8,2,  101.94,2,   32.00,2,    0.00,2,    2.23,2,   0.275,2,   0.127,2,   0.019,2,   0.0910,2,  2257.3,2,  2352.8,2,   7.5900,2,    25.00,-999.000,9,-999.0000,9,-999.000,9,   1.3002,2, -999.00,9,  -999.0,9,  -999.0,-999.000,9, -999.00,9,-999.000,9,   39.90,2,   34.72,2, -68.8180,-170.0001,-999.000,     -999.0,    34.8895,2,     -999.0,9,     -999.0,9,-999.0000,9,-999.0000,9,-999.0000,9,-999.0000,9,-999.0000,9,-999.0000,9,-999.0000,9,-999.0000,9,-999.0000,9,-999.0000,-999.000,   1.2717,     -999.0,     -999.0,9,     -999.0,9,     -999.0,9,     -999.0,9,     -999.0,20110327,       1020
320620110219,       P15S,      94,          1,         22,         22,2,20110327,       0857,   -68.8180,  -170.0001,       4226,   664.3,   1.2280,  34.7268,2,  34.7262,2,    193.8,2,   192.5,2,  104.58,2,   32.19,2,    0.00,2,    2.23,2,-999.000,9,-999.000,9,-999.000,9,-999.0000,9,  2259.3,2,  2353.9,2,   7.5925,2,    25.00,-999.000,9,-999.0000,9,-999.000,9,   1.2280,2, -999.00,9,  -999.0,9,  -999.0,-999.000,9, -999.00,9,-999.000,9,   39.50,2,   34.70,2, -68.8180,-170.0001,-999.000,     -999.0,    34.8899,2,     -999.0,9,     -999.0,9,-999.0000,9,-999.0000,9,-999.0000,9,-999.0000,9,-999.0000,9,-999.0000,9,-999.0000,9,-999.0000,9,-999.0000,9,-999.0000,-999.000,   1.1938,     -999.0,     -999.0,9,     -999.0,9,     -999.0,9,     -999.0,9,     -999.0,20110327,       1018
320620110219,       P15S,      94,          1,         21,         21,2,20110327,       0857,   -68.8180,  -170.0001,       4226,   764.0,   1.1590,  34.7254,2,  34.7246,2,    194.4,2,   194.1,2,  107.15,2,   32.20,2,    0.00,2,    2.24,2,   0.191,2,   0.088,2,   0.013,2,   0.0920,2,  -999.0,9,  -999.0,9,-999.0000,9,  -999.00,-999.000,9,-999.0000,9,-999.000,9,   1.1588,2, -999.00,9,  -999.0,9,  -999.0,-999.000,9, -999.00,9,-999.000,9,   39.99,2,   34.71,2, -68.8179,-170.0001,-999.000,     -999.0,    34.8883,2,     -999.0,9,     -999.0,9,-999.0000,9,-999.0000,9,-999.0000,9,-999.0000,9,-999.0000,9,-999.0000,9,-999.0000,9,-999.0000,9,-999.0000,9,-999.0000,-999.000,   1.1195,     -999.0,     -999.0,9,     -999.0,9,     -999.0,9,     -999.0,9,     -999.0,20110327,       1015
320620110219,       P15S,      94,          1,         20,         20,2,20110327,       0857,   -68.8180,  -170.0001,       4226,   864.9,   1.0943,  34.7232,2,  34.7228,2,    195.9,2,   195.7,2,  109.19,2,   32.20,2,    0.00,2,    2.24,2,-999.000,9,-999.000,9,-999.000,9,-999.0000,9,  2260.8,2,  2356.6,2,   7.5942,6,    25.00,-999.000,9,-999.0000,9,-999.000,9,   1.0937,2, -999.00,9,  -999.0,9,  -999.0,-999.000,9, -999.00,9,-999.000,9,   40.18,2,   34.29,2, -68.8180,-170.0001,-999.000,     -999.0,    34.8866,2,     -999.0,9,     -999.0,9,-999.0000,9,-999.0000,9,-999.0000,9,-999.0000,9,-999.0000,9,-999.0000,9,-999.0000,9,-999.0000,9,-999.0000,9,-999.0000,-999.000,   1.0493,     -999.0,     -999.0,9,     -999.0,9,     -999.0,9,     -999.0,9,     -999.0,20110327,       1012
320620110219,       P15S,      94,          1,         19,         19,2,20110327,       0857,   -68.8180,  -170.0001,       4226,   965.3,   1.0299,  34.7212,2,  34.7211,2,    197.8,2,   198.0,2,  110.53,2,   32.14,2,    0.00,2,    2.24,2,   0.171,2,   0.076,2,   0.010,2,   0.0650,2,  -999.0,9,  -999.0,9,-999.0000,9,  -999.00,-999.000,9,-999.0000,9,-999.000,9,   1.0299,2, -999.00,9,  -999.0,9,  -999.0,-999.000,9,   -0.26,2,-999.000,9,   39.98,2,   34.60,2, -68.8180,-170.0001,-999.000,     -999.0,    34.8848,2,     -999.0,9,     -999.0,9,-999.0000,9,-999.0000,9,-999.0000,9,-999.0000,9,-999.0000,9,-999.0000,9,-999.0000,9,-999.0000,9,-999.0000,9,-999.0000,-999.000,   0.9793,     -999.0,     -999.0,9,     -999.0,9,     -999.0,9,      -3.29,2,       0.07,20110327,       1010
320620110219,       P15S,      94,          1,         18,         18,2,20110327,       0857,   -68.8180,  -170.0001,       4226,  1065.0,   0.9680,  34.7186,2,  34.7181,2,    198.7,2,   199.0,2,  112.63,2,   32.21,2,    0.00,2,    2.24,2,-999.000,9,-999.000,9,-999.000,9,-999.0000,9,  2260.4,6,  2358.6,2,   7.5982,2,    25.00,-999.000,9,-999.0000,9,-999.000,9,   0.9684,2, -999.00,9,  -999.0,9,  -999.0,-999.000,9,   -0.26,2,-999.000,9,   39.89,2,   34.59,2, -68.8180,-170.0001,-999.000,     -999.0,    34.8818,2,     -999.0,9,     -999.0,9,-999.0000,9,-999.0000,9,-999.0000,9,-999.0000,9,-999.0000,9,-999.0000,9,-999.0000,9,-999.0000,9,-999.0000,9,-999.0000,-999.000,   0.9119,     -999.0,     -999.0,9,     -999.0,9,     -999.0,9,      -3.42,2,       0.19,20110327,       1007
320620110219,       P15S,      94,          1,         17,         17,2,20110327,       0857,   -68.8180,  -170.0001,       4226,  1166.1,   0.9085,  34.7160,2,  34.7154,2,    200.0,2,   200.4,2,  114.29,2,   32.20,2,    0.00,2,    2.24,2,   0.180,2,   0.084,2,   0.013,2,   0.0570,2,  -999.0,9,  -999.0,9,-999.0000,9,  -999.00,-999.000,9,-999.0000,9,-999.000,9,   0.9097,2, -999.00,9,  -999.0,9,  -999.0,-999.000,9,   -0.08,2,-999.000,9,   39.79,2,   35.14,2, -68.8180,-170.0001,-999.000,     -999.0,    34.8791,2,     -999.0,9,     -999.0,9,-999.0000,9,-999.0000,9,-999.0000,9,-999.0000,9,-999.0000,9,-999.0000,9,-999.0000,9,-999.0000,9,-999.0000,9,-999.0000,-999.000,   0.8466,     -999.0,     -999.0,9,     -999.0,9,     -999.0,9,      -2.41,2,       0.02,20110327,       1004
320620110219,       P15S,      94,          1,         16,         16,2,20110327,       0857,   -68.8180,  -170.0001,       4226,  1264.7,   0.8541,  34.7141,2,  34.7138,2,    201.4,2,   202.0,2,  115.92,2,   32.26,2,    0.00,2,    2.24,2,-999.000,9,-999.000,9,-999.000,9,-999.0000,9,  2261.2,2,  2358.2,6,   7.5981,2,    25.00,-999.000,9,-999.0000,9,-999.000,9,   0.8549,2, -999.00,9,  -999.0,9,  -999.0,-999.000,9,    0.02,2,-999.000,9,   40.34,2,   34.61,2, -68.8180,-170.0001,-999.000,     -999.0,    34.8775,2,     -999.0,9,     -999.0,9,-999.0000,9,-999.0000,9,-999.0000,9,-999.0000,9,-999.0000,9,-999.0000,9,-999.0000,9,-999.0000,9,-999.0000,9,-999.0000,-999.000,   0.7865,     -999.0,     -999.0,9,     -999.0,9,     -999.0,9,      -1.26,2,       0.27,20110327,       1001
320620110219,       P15S,      94,          1,         15,         15,2,20110327,       0857,   -68.8180,  -170.0001,       4226,  1364.4,   0.8181,  34.7125,2,  34.7122,2,    202.8,2,   202.7,2,  117.59,2,   32.41,2,    0.00,2,    2.24,2,-999.000,9,-999.000,9,-999.000,9,   0.0510,2,  -999.0,9,  -999.0,9,-999.0000,9,  -999.00,-999.000,9,-999.0000,9,-999.000,9,   0.8184,2, -999.00,9,  -999.0,9,  -999.0,-999.000,9,   -0.07,2,-999.000,9,   40.25,2,   35.17,2, -68.8180,-170.0001,-999.000,     -999.0,    34.8759,2,     -999.0,9,     -999.0,9,-999.0000,9,-999.0000,9,-999.0000,9,-999.0000,9,-999.0000,9,-999.0000,9,-999.0000,9,-999.0000,9,-999.0000,9,-999.0000,-999.000,   0.7444,     -999.0,     -999.0,9,     -999.0,9,     -999.0,9,      -1.36,2,       0.16,20110327,       0959
320620110219,       P15S,      94,          1,         14,         14,2,20110327,       0857,   -68.8180,  -170.0001,       4226,  1464.2,   0.7744,  34.7112,2,  34.7106,2,    203.2,2,   202.6,2,  119.20,2,   32.47,2,    0.00,2,    2.25,2,-999.000,9,-999.000,9,-999.000,9,-999.0000,9,  2261.1,2,  2361.3,2,   7.5984,2,    25.00,-999.000,9,-999.0000,9,-999.000,9,   0.7744,2, -999.00,9,  -999.0,9,  -999.0,-999.000,9,   -0.02,2,-999.000,9,   40.81,2,   35.05,2, -68.8180,-170.0001,-999.000,     -999.0,    34.8743,2,     -999.0,9,     -999.0,9,-999.0000,9,-999.0000,9,-999.0000,9,-999.0000,9,-999.0000,9,-999.0000,9,-999.0000,9,-999.0000,9,-999.0000,9,-999.0000,-999.000,   0.6946,     -999.0,     -999.0,9,     -999.0,9,     -999.0,9,      -1.97,2,       0.30,20110327,       0956