BOTTLE,20220813CCHSIOAMB
EXPOCODE,SECT_ID,STNNBR,CASTNO,SAMPNO,BTLNBR,BTLNBR_FLAG_W,DATE,TIME,LATITUDE,LONGITUDE,DEPTH,CTDPRS,CTDTMP,CTDSAL,CTDSAL_FLAG_W,SALNTY,SALNTY_FLAG_W,CTDOXY,CTDOXY_FLAG_W,OXYGEN,OXYGEN_FLAG_W,SILCAT,SILCAT_FLAG_W,NITRAT,NITRAT_FLAG_W,NITRIT,NITRIT_FLAG_W,PHSPHT,PHSPHT_FLAG_W,CFC-11,CFC-11_FLAG_W,CFC-12,CFC-12_FLAG_W,CFC113,CFC113_FLAG_W,SF6,SF6_FLAG_W,TCARBN,TCARBN_FLAG_W,ALKALI,ALKALI_FLAG_W,PH_TOT,PH_TOT_FLAG_W,PH_TMP,TRITUM,TRITUM_FLAG_W,HELIUM,HELIUM_FLAG_W,DELHE3,DELHE3_FLAG_W,REFTMP,REFTMP_FLAG_W,DELC13,DELC13_FLAG_W,DELC14,DELC14_FLAG_W,C14ERR,NEON,NEON_FLAG_W,DELO18,DELO18_FLAG_W,POC,POC_FLAG_W,DOC,DOC_FLAG_W,TDN,TDN_FLAG_W,BTL_LAT,BTL_LON,TRITER,NEONER,SALTREF,SALTREF_FLAG_W,PIGMENTS,PIGMENTS_FLAG_W,LAB_DEN,LAB_DEN_FLAG_W,CDOM325,CDOM325_FLAG_W,CDOM340,CDOM340_FLAG_W,CDOM380,CDOM380_FLAG_W,CDOM412,CDOM412_FLAG_W,CDOM443,CDOM443_FLAG_W,CDOM490,CDOM490_FLAG_W,CDOM555,CDOM555_FLAG_W,CDOMSL,CDOMSL_FLAG_W,CDOMSN,CDOMSN_FLAG_W,HELIER,DELHER,THETA,LDEO_SAMPNO,ABSORBTION,ABSORBTION_FLAG_W,IMAGE_COUNT,IMAGE_COUNT_FLAG_W,CYTO_COUNT,CYTO_COUNT_FLAG_W,DELD,DELD_FLAG_W,DELDERR,BTL_DATE,BTL_TIME
,,,,,,,,,,,METERS,DBAR,ITS-90,PSS-78,,PSS-78,,UMOL/KG,,UMOL/KG,,UMOL/KG,,UMOL/KG,,UMOL/KG,,UMOL/KG,,PMOL/KG,,PMOL/KG,,PMOL/KG,,FMOL/KG,,UMOL/KG,,UMOL/KG,,,,DEG C,TU,,NMOL/KG,,PERCNT,,DEG C,,/MILLE,,/MILLE,,/MILLE,NMOL/KG,,/MILLE,,UG/KG,,UMOL/KG,,UMOL/KG,,,,TU,NMOL/KG,G/KG,,,,,,1/M,,1/M,,1/M,,1/M,,1/M,,1/M,,1/M,,1/NM,,1/NM,,NMOL/KG,PERCNT,DEG C,,,,,,,,/MILLE,,/MILLE,,
320620110219,       S04P,      32,          1,         14,         14,2,20110306,       2234,   -67.0006,  -166.5026,       3578,  1364.9,   0.7549,  34.7106,2,  34.7107,2,    202.1,2,   202.6,2,  120.60,2,   32.61,2,    0.00,2,    2.25,2,   0.094,2,   0.055,2,   0.005,2,   0.0670,2,  -999.0,9,  -999.0,9,-999.0000,9,  -999.00,-999.000,9,-999.0000,9,-999.000,9,   0.7555,2, -999.00,9,  -999.0,9,  -999.0,-999.000,9, -999.00,9,-999.000,9,   40.50,2,   34.60,2, -67.0006,-166.5026,-999.000,     -999.0,    34.8744,2,     -999.0,9,     -999.0,9,-999.0000,9,-999.0000,9,-999.0000,9,-999.0000,9,-999.0000,9,-999.0000,9,-999.0000,9,-999.0000,9,-999.0000,9,-999.0000,-999.000,   0.6818,     -999.0,     -999.0,9,     -999.0,9,     -999.0,9,     -999.0,9,     -999.0,20110306,       2332
320620110219,       S04P,      32,          1,         13,         13,2,20110306,       2234,   -67.0006,  -166.5026,       3578,  1463.9,   0.7140,  34.7090,2,  34.7090,2,    203.3,2,   203.9,2,  122.05,2,   32.52,2,    0.00,2,    2.26,2,-999.000,9,-999.000,9,-999.000,9,-999.0000,9,  2258.8,2,  2358.5,2,   7.5969,2,    25.00,-999.000,9,-999.0000,9,-999.000,9,   0.7140,2, -999.00,9,  -999.0,9,  -999.0,-999.000,9, -999.00,9,-999.000,9,   40.47,2,   35.14,2, -67.0006,-166.5026,-999.000,     -999.0,    34.8726,2,     -999.0,9,     -999.0,9,-999.0000,9,-999.0000,9,-999.0000,9,-999.0000,9,-999.0000,9,-999.0000,9,-999.0000,9,-999.0000,9,-999.0000,9,-999.0000,-999.000,   0.6349,     -999.0,     -999.0,9,     -999.0,9,     -999.0,9,     -999.0,9,     -999.0,20110306,       2329
320620110219,       S04P,      32,          1,         12,         12,2,20110306,       2234,   -67.0006,  -166.5026,       3578,  1564.7,   0.6732,  34.7078,2,  34.7070,2,    204.2,2,   204.1,2,  123.09,2,   32.61,2,    0.00,2,    2.26,2,   0.109,2,   0.057,2,   0.005,2,   0.0580,2,  -999.0,9,  -999.0,9,-999.0000,9,  -999.00,-999.000,9,-999.0000,9,-999.000,9,   0.6734,2, -999.00,9,  -999.0,9,  -999.0,-999.000,9, -999.00,9,-999.000,9,   40.48,2,   34.96,2, -67.0006,-166.5026,-999.000,     -999.0,    34.8707,2,     -999.0,9,     -999.0,9,-999.0000,9,-999.0000,9,-999.0000,9,-999.0000,9,-999.0000,9,-999.0000,9,-999.0000,9,-999.0000,9,-999.0000,9,-999.0000,-999.000,   0.5878,     -999.0,     -999.0,9,     -999.0,9,     -999.0,9,     -999.0,9,     -999.0,20110306,       2326
320620110219,       S04P,      32,          1,         11,         11,2,20110306,       2234,   -67.0006,  -166.5026,       3578,  1664.5,   0.6365,  34.7065,2,  34.7068,2,    205.1,2,   204.8,2,  123.55,2,   32.74,2,    0.00,2,    2.26,2,-999.000,9,-999.000,9,-999.000,9,-999.0000,9,  -999.0,9,  -999.0,9,-999.0000,9,  -999.00,-999.000,9,-999.0000,9,-999.000,9,   0.6366,2, -999.00,9,  -999.0,9,  -999.0,-999.000,9, -999.00,9,-999.000,9,   39.86,2,   35.29,2, -67.0006,-166.5026,-999.000,     -999.0,    34.8705,2,     -999.0,9,     -999.0,9,-999.0000,9,-999.0000,9,-999.0000,9,-999.0000,9,-999.0000,9,-999.0000,9,-999.0000,9,-999.0000,9,-999.0000,9,-999.0000,-999.000,   0.5448,     -999.0,     -999.0,9,     -999.0,9,     -999.0,9,     -999.0,9,     -999.0,20110306,       2323
320620110219,       S04P,      32,          1,         10,         37,2,20110306,       2234,   -67.0006,  -166.5026,       3578,  1764.2,   0.5959,  34.7055,2,  34.7051,2,    206.1,2,   206.7,2,  124.63,2,   32.81,2,    0.00,2,    2.26,2,-999.000,9,-999.000,9,-999.000,9,-999.0000,9,  2259.6,2,  2359.1,2,   7.5970,2,    25.00,-999.000,9,-999.0000,9,-999.000,9,   0.5960,2, -999.00,9,  -999.0,9,  -999.0,-999.000,9, -999.00,9,-999.000,9,   40.03,2,   35.11,2, -67.0006,-166.5026,-999.000,     -999.0,    34.8687,2,     -999.0,9,     -999.0,9,-999.0000,9,-999.0000,9,-999.0000,9,-999.0000,9,-999.0000,9,-999.0000,9,-999.0000,9,-999.0000,9,-999.0000,9,-999.0000,-999.000,   0.4978,     -999.0,     -999.0,9,     -999.0,9,     -999.0,9,     -999.0,9,     -999.0,20110306,       2321
320620110219,       S04P,      32,          1,          9,          9,2,20110306,       2234,   -67.0006,  -166.5026,       3578,  1935.0,   0.5321,  34.7041,2,  34.7037,2,    207.5,2,   208.0,2,  125.52,2,   32.83,2,    0.00,2,    2.26,2,-999.000,9,-999.000,9,-999.000,9,-999.0000,9,  -999.0,9,  -999.0,9,-999.0000,9,  -999.00,-999.000,9,-999.0000,9,-999.000,9,   0.5323,2, -999.00,9,  -999.0,9,  -999.0,-999.000,9, -999.00,9,-999.000,9,   40.17,2,   35.73,2, -67.0006,-166.5026,-999.000,     -999.0,    34.8673,2,     -999.0,9,     -999.0,9,-999.0000,9,-999.0000,9,-999.0000,9,-999.0000,9,-999.0000,9,-999.0000,9,-999.0000,9,-999.0000,9,-999.0000,9,-999.0000,-999.000,   0.4227,     -999.0,     -999.0,9,     -999.0,9,     -999.0,9,     -999.0,9,     -999.0,20110306,       2317
320620110219,       S04P,      32,          1,          8,          8,2,20110306,       2234,   -67.0006,  -166.5026,       3578,  2166.5,   0.4491,  34.7028,2,  34.7019,2,    209.6,2,   209.9,2,  127.02,2,   32.86,2,    0.00,2,    2.27,2,   0.173,2,   0.081,2,   0.010,2,   0.0470,2,  2259.1,2,  2359.5,2,   7.5991,2,    25.00,-999.000,9,-999.0000,9,-999.000,9,   0.4493,2, -999.00,9,  -999.0,9,  -999.0,-999.000,9, -999.00,9,-999.000,9,   40.20,2,   35.46,2, -67.0006,-166.5025,-999.000,     -999.0,    34.8656,2,     -999.0,9,     -999.0,9,-999.0000,9,-999.0000,9,-999.0000,9,-999.0000,9,-999.0000,9,-999.0000,9,-999.0000,9,-999.0000,9,-999.0000,9,-999.0000,-999.000,   0.3239,     -999.0,     -999.0,9,     -999.0,9,     -999.0,9,     -999.0,9,     -999.0,20110306,       2312
320620110219,       S04P,      32,          1,          7,          7,2,20110306,       2234,   -67.0006,  -166.5026,       3578,  2413.5,   0.3787,  34.7013,2,  34.7005,2,    211.4,2,   211.9,2,  128.19,2,   32.90,2,    0.00,2,    2.28,2,-999.000,9,-999.000,9,-999.000,9,-999.0000,9,  -999.0,9,  -999.0,9,-999.0000,9,  -999.00,-999.000,9,-999.0000,9,-999.000,9,   0.3786,2, -999.00,9,  -999.0,9,  -999.0,-999.000,9, -999.00,9,-999.000,9,   40.07,2,   35.24,2, -67.0006,-166.5026,-999.000,     -999.0,    34.8642,2,     -999.0,9,     -999.0,9,-999.0000,9,-999.0000,9,-999.0000,9,-999.0000,9,-999.0000,9,-999.0000,9,-999.0000,9,-999.0000,9,-999.0000,9,-999.0000,-999.000,   0.2356,     -999.0,     -999.0,9,     -999.0,9,     -999.0,9,     -999.0,9,     -999.0,20110306,       2306
320620110219,       S04P,      32,          1,          6,          6,2,20110306,       2234,   -67.0006,  -166.5026,       3578,  2664.4,   0.3167,  34.6996,2,  34.6996,2,    213.3,2,   213.9,2,  128.25,2,   32.94,2,    0.00,2,    2.27,2,   0.355,2,   0.168,2,   0.020,2,   0.0860,2,  2257.2,2,  2359.2,2,   7.6001,2,    25.00,-999.000,9,-999.0000,9,-999.000,9,   0.3169,2, -999.00,9,  -999.0,9,  -999.0,-999.000,9, -999.00,9,-999.000,9,   40.16,2,   35.18,2, -67.0006,-166.5026,-999.000,     -999.0,    34.8632,2,     -999.0,9,     -999.0,9,-999.0000,9,-999.0000,9,-999.0000,9,-999.0000,9,-999.0000,9,-999.0000,9,-999.0000,9,-999.0000,9,-999.0000,9,-999.0000,-999.000,   0.1546,     -999.0,     -999.0,9,     -999.0,9,     -999.0,9,     -999.0,9,     -999.0,20110306,       2301
320620110219,       S04P,      32,          1,          5,          5,2,20110306,       2234,   -67.0006,  -166.5026,       3578,  2912.9,   0.2519,  34.6969,2,  34.6958,2,    216.3,2,   216.5,2,  126.28,2,   33.11,2,    0.00,2,    2.26,2,   0.547,2,   0.270,2,   0.035,2,   0.1320,2,  -999.0,9,  -999.0,9,-999.0000,9,  -999.00,-999.000,9,-999.0000,9,-999.000,9,   0.2521,2, -999.00,9,  -999.0,9,  -999.0,-999.000,9, -999.00,9,-999.000,9,   40.15,2,   35.70,2, -67.0006,-166.5026,-999.000,     -999.0,    34.8594,2,     -999.0,9,     -999.0,9,-999.0000,9,-999.0000,9,-999.0000,9,-999.0000,9,-999.0000,9,-999.0000,9,-999.0000,9,-999.0000,9,-999.0000,9,-999.0000,-999.000,   0.0702,     -999.0,     -999.0,9,     -999.0,9,     -999.0,9,     -999.0,9,     -999.0,20110306,       2256
320620110219,       S04P,      32,          1,          4,          4,4,20110306,       2234,   -67.0006,  -166.5026,       3578,  3501.5,   0.2026,  34.6918,2,  34.6929,2,    219.6,2,   219.6,2,  122.74,2,   32.98,2,    0.00,2,    2.27,2,   0.813,2,   0.399,2,   0.059,2,   0.1670,2,  2257.7,2,  2357.2,2,   7.5967,2,    25.00,-999.000,9,-999.0000,9,-999.000,9,   0.2022,2, -999.00,9,  -999.0,9,  -999.0,-999.000,9, -999.00,9,-999.000,9,   40.64,2,   34.76,2, -67.0006,-166.5026,-999.000,     -999.0,    34.8565,2,     -999.0,9,     -999.0,9,-999.0000,9,-999.0000,9,-999.0000,9,-999.0000,9,-999.0000,9,-999.0000,9,-999.0000,9,-999.0000,9,-999.0000,9,-999.0000,-999.000,  -0.0308,     -999.0,     -999.0,9,     -999.0,9,     -999.0,9,     -999.0,9,     -999.0,20110306,       2240
320620110219,       S04P,      32,          1,          3,          3,4,20110306,       2234,   -67.0006,  -166.5026,       3578,  3581.8,   0.2061,  34.6916,2,  34.6917,2,    219.7,2,   220.2,2,  122.46,2,   33.01,2,    0.00,2,    2.27,2,   0.916,2,   0.457,2,   0.066,2,   0.2120,2,  2257.3,2,  2356.4,6,   7.5943,2,    25.00,-999.000,9,-999.0000,9,-999.000,9,   0.2055,2, -999.00,9,  -999.0,9,  -999.0,-999.000,9, -999.00,9,-999.000,9,   40.61,2,   34.68,2, -67.0006,-166.5026,-999.000,     -999.0,    34.8553,2,     -999.0,9,     -999.0,9,-999.0000,9,-999.0000,9,-999.0000,9,-999.0000,9,-999.0000,9,-999.0000,9,-999.0000,9,-999.0000,9,-999.0000,9,-999.0000,-999.000,  -0.0350,     -999.0,     -999.0,9,     -999.0,9,     -999.0,9,     -999.0,9,     -999.0,20110306,       2237
320620110219,       S04P,      32,          1,          2,          2,4,20110306,       2234,   -67.0006,  -166.5026,       3578,  3633.5,   0.2105,  34.6916,2,  34.6913,2,    219.6,2,   219.9,2,  122.16,2,   33.04,2,    0.00,2,    2.26,2,   0.949,2,   0.477,2,   0.069,2,   0.2820,2,  2257.4,2,  2356.8,2,   7.5961,6,    25.00,-999.000,9,-999.0000,9,-999.000,9,   0.2102,2, -999.00,9,  -999.0,9,  -999.0,-999.000,9, -999.00,9,-999.000,9, -999.00,9, -999.00,9, -67.0006,-166.5026,-999.000,     -999.0,    34.8549,2,     -999.0,9,     -999.0,9,-999.0000,9,-999.0000,9,-999.0000,9,-999.0000,9,-999.0000,9,-999.0000,9,-999.0000,9,-999.0000,9,-999.0000,9,-999.0000,-999.000,  -0.0357,     -999.0,     -999.0,9,     -999.0,9,     -999.0,9,     -999.0,9,     -999.0,20110306,       2234