BOTTLE,20220813CCHSIOAMB
EXPOCODE,SECT_ID,STNNBR,CASTNO,SAMPNO,BTLNBR,BTLNBR_FLAG_W,DATE,TIME,LATITUDE,LONGITUDE,DEPTH,CTDPRS,CTDTMP,CTDSAL,CTDSAL_FLAG_W,SALNTY,SALNTY_FLAG_W,CTDOXY,CTDOXY_FLAG_W,OXYGEN,OXYGEN_FLAG_W,SILCAT,SILCAT_FLAG_W,NITRAT,NITRAT_FLAG_W,NITRIT,NITRIT_FLAG_W,PHSPHT,PHSPHT_FLAG_W,CFC-11,CFC-11_FLAG_W,CFC-12,CFC-12_FLAG_W,CFC113,CFC113_FLAG_W,SF6,SF6_FLAG_W,TCARBN,TCARBN_FLAG_W,ALKALI,ALKALI_FLAG_W,PH_TOT,PH_TOT_FLAG_W,PH_TMP,TRITUM,TRITUM_FLAG_W,HELIUM,HELIUM_FLAG_W,DELHE3,DELHE3_FLAG_W,REFTMP,REFTMP_FLAG_W,DELC13,DELC13_FLAG_W,DELC14,DELC14_FLAG_W,C14ERR,NEON,NEON_FLAG_W,DELO18,DELO18_FLAG_W,POC,POC_FLAG_W,DOC,DOC_FLAG_W,TDN,TDN_FLAG_W,BTL_LAT,BTL_LON,TRITER,NEONER,SALTREF,SALTREF_FLAG_W,PIGMENTS,PIGMENTS_FLAG_W,LAB_DEN,LAB_DEN_FLAG_W,CDOM325,CDOM325_FLAG_W,CDOM340,CDOM340_FLAG_W,CDOM380,CDOM380_FLAG_W,CDOM412,CDOM412_FLAG_W,CDOM443,CDOM443_FLAG_W,CDOM490,CDOM490_FLAG_W,CDOM555,CDOM555_FLAG_W,CDOMSL,CDOMSL_FLAG_W,CDOMSN,CDOMSN_FLAG_W,HELIER,DELHER,THETA,LDEO_SAMPNO,ABSORBTION,ABSORBTION_FLAG_W,IMAGE_COUNT,IMAGE_COUNT_FLAG_W,CYTO_COUNT,CYTO_COUNT_FLAG_W,DELD,DELD_FLAG_W,DELDERR,BTL_DATE,BTL_TIME
,,,,,,,,,,,METERS,DBAR,ITS-90,PSS-78,,PSS-78,,UMOL/KG,,UMOL/KG,,UMOL/KG,,UMOL/KG,,UMOL/KG,,UMOL/KG,,PMOL/KG,,PMOL/KG,,PMOL/KG,,FMOL/KG,,UMOL/KG,,UMOL/KG,,,,DEG C,TU,,NMOL/KG,,PERCNT,,DEG C,,/MILLE,,/MILLE,,/MILLE,NMOL/KG,,/MILLE,,UG/KG,,UMOL/KG,,UMOL/KG,,,,TU,NMOL/KG,G/KG,,,,,,1/M,,1/M,,1/M,,1/M,,1/M,,1/M,,1/M,,1/NM,,1/NM,,NMOL/KG,PERCNT,DEG C,,,,,,,,/MILLE,,/MILLE,,
320620110219,       S04P,     116,          1,         36,         36,2,20110409,       0004,   -67.0001,  -107.1501,       4634,     5.8,  -0.1470,  33.5231,2,  33.5224,2,    341.7,3,   343.0,2,   10.36,2,   24.09,2,    0.23,2,    1.66,2,   6.014,2,   3.347,2,   0.634,2,   2.5880,2,  2132.6,6,  2262.6,2,   7.7087,2,    25.00,-999.000,9,-999.0000,9,-999.000,9,  -0.1476,2, -999.00,9,  -999.0,9,  -999.0,-999.000,9, -999.00,9,-999.000,9,   43.63,2,   29.10,2, -67.0001,-107.1501,-999.000,     -999.0,    33.6804,2,     -999.0,9,     -999.0,9,-999.0000,9,-999.0000,9,-999.0000,9,-999.0000,9,-999.0000,9,-999.0000,9,-999.0000,9,-999.0000,9,-999.0000,9,-999.0000,-999.000,  -0.1472,     -999.0,     -999.0,9,     -999.0,9,     -999.0,9,     -999.0,9,     -999.0,20110409,       0156
320620110219,       S04P,     116,          1,         35,         35,2,20110409,       0004,   -67.0001,  -107.1501,       4634,    35.1,  -0.1421,  33.5226,2,  33.5222,2,    343.1,2,   342.9,2,   10.37,2,   24.13,2,    0.22,2,    1.66,2,   6.047,2,   3.371,2,   0.649,2,   2.7060,2,  2131.9,2,  2262.1,2,   7.7093,6,    25.00,-999.000,9,-999.0000,9,-999.000,9,  -0.1423,2, -999.00,9,  -999.0,9,  -999.0,-999.000,9, -999.00,9,-999.000,9,   43.43,2,   29.02,2, -67.0001,-107.1501,-999.000,     -999.0,    33.6802,2,     -999.0,9,     -999.0,9,-999.0000,9,-999.0000,9,-999.0000,9,-999.0000,9,-999.0000,9,-999.0000,9,-999.0000,9,-999.0000,9,-999.0000,9,-999.0000,-999.000,  -0.1432,     -999.0,     -999.0,9,     -999.0,9,     -999.0,9,     -999.0,9,     -999.0,20110409,       0155
320620110219,       S04P,     116,          1,         34,         34,2,20110409,       0004,   -67.0001,  -107.1501,       4634,    60.5,  -0.2598,  33.5715,3,  33.6061,2,    342.9,2,   341.8,2,   15.11,2,   25.02,2,    0.21,2,    1.79,2,   6.052,2,   3.370,2,   0.637,2,   2.6720,2,  2140.3,2,  2267.5,2,   7.6978,2,    25.00,-999.000,9,-999.0000,9,-999.000,9,  -0.2718,2, -999.00,9,  -999.0,9,  -999.0,-999.000,9, -999.00,9,-999.000,9,   42.81,2,   30.04,2, -67.0001,-107.1501,-999.000,     -999.0,    33.7646,2,     -999.0,9,     -999.0,9,-999.0000,9,-999.0000,9,-999.0000,9,-999.0000,9,-999.0000,9,-999.0000,9,-999.0000,9,-999.0000,9,-999.0000,9,-999.0000,-999.000,  -0.2617,     -999.0,     -999.0,9,     -999.0,9,     -999.0,9,     -999.0,9,     -999.0,20110409,       0153
320620110219,       S04P,     116,          1,         33,         33,2,20110409,       0004,   -67.0001,  -107.1501,       4634,    85.5,  -1.2298,  33.8521,2,  33.8542,2,    335.7,2,   335.6,2,   30.83,2,   28.27,2,    0.22,2,    2.02,2,   5.920,2,   3.304,2,   0.620,2,   2.4960,2,  2167.4,2,  2282.4,2,   7.6589,2,    25.00,-999.000,9,-999.0000,9,-999.000,9,  -1.2286,2, -999.00,9,  -999.0,9,  -999.0,-999.000,9, -999.00,9,-999.000,9,   42.15,2,   32.60,2, -67.0001,-107.1501,-999.000,     -999.0,    34.0138,2,     -999.0,9,     -999.0,9,-999.0000,9,-999.0000,9,-999.0000,9,-999.0000,9,-999.0000,9,-999.0000,9,-999.0000,9,-999.0000,9,-999.0000,9,-999.0000,-999.000,  -1.2318,     -999.0,     -999.0,9,     -999.0,9,     -999.0,9,     -999.0,9,     -999.0,20110409,       0152
320620110219,       S04P,     116,          1,         32,         32,2,20110409,       0004,   -67.0001,  -107.1501,       4634,   114.1,  -0.4955,  33.9653,2,  33.9625,2,    321.0,2,   322.7,2,   34.32,2,   29.72,2,    0.16,2,    2.06,2,   5.659,2,   3.144,2,   0.591,2,   2.4040,2,  2176.8,2,  2286.6,2,   7.6451,2,    25.00,-999.000,9,-999.0000,9,-999.000,9,  -0.4856,2, -999.00,9,  -999.0,9,  -999.0,-999.000,9, -999.00,9,-999.000,9,   41.70,2,   33.18,2, -67.0001,-107.1501,-999.000,     -999.0,    34.1226,2,     -999.0,9,     -999.0,9,-999.0000,9,-999.0000,9,-999.0000,9,-999.0000,9,-999.0000,9,-999.0000,9,-999.0000,9,-999.0000,9,-999.0000,9,-999.0000,-999.000,  -0.4990,     -999.0,     -999.0,9,     -999.0,9,     -999.0,9,     -999.0,9,     -999.0,20110409,       0150
320620110219,       S04P,     116,          1,         31,         31,2,20110409,       0004,   -67.0001,  -107.1501,       4634,   163.9,   0.3546,  34.1042,2,  34.1072,2,    295.6,2,   295.2,2,   42.74,2,   31.35,2,    0.00,2,    2.15,2,   4.860,2,   2.688,2,   0.494,2,   2.0370,2,  2196.9,2,  2297.1,2,   7.6202,2,    25.00,-999.000,9,-999.0000,9,-999.000,9,   0.3560,2, -999.00,9,  -999.0,9,  -999.0,-999.000,9, -999.00,9,-999.000,9,   41.04,2,   34.35,2, -67.0001,-107.1501,-999.000,     -999.0,    34.2681,2,     -999.0,9,     -999.0,9,-999.0000,9,-999.0000,9,-999.0000,9,-999.0000,9,-999.0000,9,-999.0000,9,-999.0000,9,-999.0000,9,-999.0000,9,-999.0000,-999.000,   0.3483,     -999.0,     -999.0,9,     -999.0,9,     -999.0,9,     -999.0,9,     -999.0,20110409,       0148
320620110219,       S04P,     116,          1,         30,         30,2,20110409,       0004,   -67.0001,  -107.1501,       4634,   214.6,   1.3902,  34.2566,2,  34.2593,2,    240.3,2,   240.7,2,   52.27,2,   33.18,2,    0.00,2,    2.27,2,   3.384,2,   1.856,2,   0.317,2,   1.2800,2,  2219.5,2,  2303.6,4,   7.5799,2,    25.00,-999.000,9,-999.0000,9,-999.000,9,   1.3853,2, -999.00,9,  -999.0,9,  -999.0,-999.000,9, -999.00,9,-999.000,9,   41.18,2,   35.95,2, -67.0001,-107.1501,-999.000,     -999.0,    34.4209,2,     -999.0,9,     -999.0,9,-999.0000,9,-999.0000,9,-999.0000,9,-999.0000,9,-999.0000,9,-999.0000,9,-999.0000,9,-999.0000,9,-999.0000,9,-999.0000,-999.000,   1.3799,     -999.0,     -999.0,9,     -999.0,9,     -999.0,9,     -999.0,9,     -999.0,20110409,       0147
320620110219,       S04P,     116,          1,         29,         29,2,20110409,       0004,   -67.0001,  -107.1501,       4634,   265.4,   1.9711,  34.3789,2,  34.3778,2,    204.6,2,   202.4,2,   60.70,2,   34.35,2,    0.00,2,    2.35,2,   2.212,2,   1.191,2,   0.198,2,   0.6580,2,  2237.2,2,  2318.2,2,   7.5527,2,    25.00,-999.000,9,-999.0000,9,-999.000,9,   1.9714,2, -999.00,9,  -999.0,9,  -999.0,-999.000,9, -999.00,9,-999.000,9,   40.96,2,   36.73,2, -67.0001,-107.1501,-999.000,     -999.0,    34.5399,2,     -999.0,9,     -999.0,9,-999.0000,9,-999.0000,9,-999.0000,9,-999.0000,9,-999.0000,9,-999.0000,9,-999.0000,9,-999.0000,9,-999.0000,9,-999.0000,-999.000,   1.9569,     -999.0,     -999.0,9,     -999.0,9,     -999.0,9,     -999.0,9,     -999.0,20110409,       0145
320620110219,       S04P,     116,          1,         28,         28,2,20110409,       0004,   -67.0001,  -107.1501,       4634,   315.4,   2.1226,  34.4437,2,  34.4454,2,    190.3,2,   188.3,2,   65.26,2,   34.63,2,    0.00,2,    2.37,2,   1.645,2,   0.874,2,   0.143,2,   0.4860,2,  2245.2,2,  2323.9,2,   7.5432,2,    25.00,-999.000,9,-999.0000,9,-999.000,9,   2.1226,2, -999.00,9,  -999.0,9,  -999.0,-999.000,9, -999.00,9,-999.000,9,   40.73,2,   37.00,2, -67.0001,-107.1501,-999.000,     -999.0,    34.6079,2,     -999.0,9,     -999.0,9,-999.0000,9,-999.0000,9,-999.0000,9,-999.0000,9,-999.0000,9,-999.0000,9,-999.0000,9,-999.0000,9,-999.0000,9,-999.0000,-999.000,   2.1052,     -999.0,     -999.0,9,     -999.0,9,     -999.0,9,     -999.0,9,     -999.0,20110409,       0143
320620110219,       S04P,     116,          1,         27,         27,2,20110409,       0004,   -67.0001,  -107.1501,       4634,   364.5,   2.2047,  34.4955,2,  34.4942,2,    180.7,2,   179.8,2,   68.84,2,   34.53,2,    0.00,2,    2.37,2,-999.000,9,-999.000,9,-999.000,9,-999.0000,9,  2249.4,2,  2328.6,2,   7.5419,2,    25.00,-999.000,9,-999.0000,9,-999.000,9,   2.2045,2, -999.00,9,  -999.0,9,  -999.0,-999.000,9, -999.00,9,-999.000,9,   40.74,2,   36.82,2, -67.0001,-107.1501,-999.000,     -999.0,    34.6569,2,     -999.0,9,     -999.0,9,-999.0000,9,-999.0000,9,-999.0000,9,-999.0000,9,-999.0000,9,-999.0000,9,-999.0000,9,-999.0000,9,-999.0000,9,-999.0000,-999.000,   2.1841,     -999.0,     -999.0,9,     -999.0,9,     -999.0,9,     -999.0,9,     -999.0,20110409,       0141
320620110219,       S04P,     116,          1,         26,         26,2,20110409,       0004,   -67.0001,  -107.1501,       4634,   414.9,   2.2248,  34.5268,2,  34.5250,2,    176.6,2,   176.0,2,   71.14,2,   34.25,2,    0.00,2,    2.37,2,   1.107,2,   0.570,2,   0.074,2,   0.3060,2,  2251.2,2,  2331.8,6,   7.5433,2,    25.00,-999.000,9,-999.0000,9,-999.000,9,   2.2249,2, -999.00,9,  -999.0,9,  -999.0,-999.000,9, -999.00,9,-999.000,9,   40.77,2,   36.76,2, -67.0001,-107.1501,-999.000,     -999.0,    34.6878,2,     -999.0,9,     -999.0,9,-999.0000,9,-999.0000,9,-999.0000,9,-999.0000,9,-999.0000,9,-999.0000,9,-999.0000,9,-999.0000,9,-999.0000,9,-999.0000,-999.000,   2.2011,     -999.0,     -999.0,9,     -999.0,9,     -999.0,9,     -999.0,9,     -999.0,20110409,       0139
320620110219,       S04P,     116,          1,         25,         25,2,20110409,       0004,   -67.0001,  -107.1501,       4634,   465.5,   2.2688,  34.5632,2,  34.5624,2,    173.3,2,   173.2,2,   73.83,2,   34.00,2,    0.00,2,    2.35,2,-999.000,9,-999.000,9,-999.000,9,-999.0000,9,  2254.4,2,  2336.9,2,   7.5469,2,    25.00,-999.000,9,-999.0000,9,-999.000,9,   2.2710,2, -999.00,9,  -999.0,9,  -999.0,-999.000,9, -999.00,9,-999.000,9,   40.66,2,   36.51,2, -67.0001,-107.1501,-999.000,     -999.0,    34.7254,2,     -999.0,9,     -999.0,9,-999.0000,9,-999.0000,9,-999.0000,9,-999.0000,9,-999.0000,9,-999.0000,9,-999.0000,9,-999.0000,9,-999.0000,9,-999.0000,-999.000,   2.2418,     -999.0,     -999.0,9,     -999.0,9,     -999.0,9,     -999.0,9,     -999.0,20110409,       0138
320620110219,       S04P,     116,          1,         24,         24,2,20110409,       0004,   -67.0001,  -107.1501,       4634,   535.3,   2.2473,  34.5965,2,  34.5964,2,    171.6,2,   172.1,2,   76.13,2,   33.74,2,    0.00,2,    2.33,2,   0.735,2,   0.364,2,   0.056,2,   0.1710,2,  -999.0,9,  -999.0,9,-999.0000,9,  -999.00,-999.000,9,-999.0000,9,-999.000,9,   2.2452,2, -999.00,9,  -999.0,9,  -999.0,-999.000,9, -999.00,9,-999.000,9,   40.52,2,   36.44,2, -67.0001,-107.1501,-999.000,     -999.0,    34.7595,2,     -999.0,9,     -999.0,9,-999.0000,9,-999.0000,9,-999.0000,9,-999.0000,9,-999.0000,9,-999.0000,9,-999.0000,9,-999.0000,9,-999.0000,9,-999.0000,-999.000,   2.2161,     -999.0,     -999.0,9,     -999.0,9,     -999.0,9,     -999.0,9,     -999.0,20110409,       0135
320620110219,       S04P,     116,          1,         23,         23,2,20110409,       0004,   -67.0001,  -107.1501,       4634,   634.8,   2.2220,  34.6354,2,  34.6352,2,    172.2,2,   172.5,2,   78.58,2,   33.11,2,    0.00,2,    2.29,2,-999.000,9,-999.000,9,-999.000,9,-999.0000,9,  2255.1,2,  2341.3,2,   7.5609,2,    25.00,-999.000,9,-999.0000,9,-999.000,9,   2.2225,2, -999.00,9,  -999.0,9,  -999.0,-999.000,9, -999.00,9,-999.000,9,   40.87,2,   35.65,2, -67.0001,-107.1501,-999.000,     -999.0,    34.7985,2,     -999.0,9,     -999.0,9,-999.0000,9,-999.0000,9,-999.0000,9,-999.0000,9,-999.0000,9,-999.0000,9,-999.0000,9,-999.0000,9,-999.0000,9,-999.0000,-999.000,   2.1845,     -999.0,     -999.0,9,     -999.0,9,     -999.0,9,     -999.0,9,     -999.0,20110409,       0133
320620110219,       S04P,     116,          1,         22,         22,2,20110409,       0004,   -67.0001,  -107.1501,       4634,   735.4,   2.1704,  34.6629,2,  34.6630,2,    174.4,2,   174.6,2,   80.36,2,   32.64,2,    0.00,2,    2.27,2,   0.400,2,   0.194,2,   0.026,2,   0.0630,2,  -999.0,9,  -999.0,9,-999.0000,9,  -999.00,-999.000,9,-999.0000,9,-999.000,9,   2.1705,2, -999.00,9,  -999.0,9,  -999.0,-999.000,9, -999.00,9,-999.000,9,   40.65,2,   35.33,2, -67.0001,-107.1501,-999.000,     -999.0,    34.8265,2,     -999.0,9,     -999.0,9,-999.0000,9,-999.0000,9,-999.0000,9,-999.0000,9,-999.0000,9,-999.0000,9,-999.0000,9,-999.0000,9,-999.0000,9,-999.0000,-999.000,   2.1266,     -999.0,     -999.0,9,     -999.0,9,     -999.0,9,     -999.0,9,     -999.0,20110409,       0130
320620110219,       S04P,     116,          1,         21,         21,2,20110409,       0004,   -67.0001,  -107.1501,       4634,   835.4,   2.1034,  34.6860,2,  34.6861,2,    177.3,2,   177.0,2,   82.18,2,   32.21,2,    0.00,2,    2.24,2,-999.000,9,-999.000,9,-999.000,9,-999.0000,9,  2254.2,2,  2345.8,2,   7.5757,2,    25.00,-999.000,9,-999.0000,9,-999.000,9,   2.1032,2, -999.00,9,  -999.0,9,  -999.0,-999.000,9, -999.00,9,-999.000,9,   40.56,2,   34.89,2, -67.0001,-107.1501,-999.000,     -999.0,    34.8497,2,     -999.0,9,     -999.0,9,-999.0000,9,-999.0000,9,-999.0000,9,-999.0000,9,-999.0000,9,-999.0000,9,-999.0000,9,-999.0000,9,-999.0000,9,-999.0000,-999.000,   2.0534,     -999.0,     -999.0,9,     -999.0,9,     -999.0,9,     -999.0,9,     -999.0,20110409,       0128
320620110219,       S04P,     116,          1,         20,         20,2,20110409,       0004,   -67.0001,  -107.1501,       4634,   934.2,   2.0372,  34.7021,2,  34.7020,2,    180.1,2,   180.4,2,   83.78,2,   31.82,2,    0.00,2,    2.22,2,   0.276,2,   0.135,2,   0.017,2,   0.0140,2,  -999.0,9,  -999.0,9,-999.0000,9,  -999.00,-999.000,9,-999.0000,9,-999.000,9,   2.0368,2, -999.00,9,  -999.0,9,  -999.0,-999.000,9, -999.00,9,-999.000,9,   40.21,2,   34.38,2, -67.0001,-107.1501,-999.000,     -999.0,    34.8657,2,     -999.0,9,     -999.0,9,-999.0000,9,-999.0000,9,-999.0000,9,-999.0000,9,-999.0000,9,-999.0000,9,-999.0000,9,-999.0000,9,-999.0000,9,-999.0000,-999.000,   1.9810,     -999.0,     -999.0,9,     -999.0,9,     -999.0,9,     -999.0,9,     -999.0,20110409,       0125
320620110219,       S04P,     116,          1,         19,         19,2,20110409,       0004,   -67.0001,  -107.1501,       4634,  1035.0,   1.9690,  34.7138,2,  34.7140,2,    182.3,2,   182.8,2,   85.29,2,   31.41,2,    0.00,2,    2.21,2,-999.000,9,-999.000,9,-999.000,9,-999.0000,9,  2253.9,2,  2348.0,2,   7.5875,6,    25.00,-999.000,9,-999.0000,9,-999.000,9,   1.9692,2, -999.00,9,  -999.0,9,  -999.0,-999.000,9, -999.00,9,-999.000,9,   39.89,2,   34.16,2, -67.0001,-107.1501,-999.000,     -999.0,    34.8777,2,     -999.0,9,     -999.0,9,-999.0000,9,-999.0000,9,-999.0000,9,-999.0000,9,-999.0000,9,-999.0000,9,-999.0000,9,-999.0000,9,-999.0000,9,-999.0000,-999.000,   1.9064,     -999.0,     -999.0,9,     -999.0,9,     -999.0,9,     -999.0,9,     -999.0,20110409,       0123
320620110219,       S04P,     116,          1,         18,         18,2,20110409,       0004,   -67.0001,  -107.1501,       4634,  1134.0,   1.8911,  34.7222,2,  34.7216,2,    184.6,2,   185.1,2,   87.35,2,   31.27,2,    0.00,2,    2.19,2,   0.233,2,   0.106,2,   0.016,2,   0.0220,2,  -999.0,9,  -999.0,9,-999.0000,9,  -999.00,-999.000,9,-999.0000,9,-999.000,9,   1.8913,2, -999.00,9,  -999.0,9,  -999.0,-999.000,9, -999.00,9,-999.000,9,   39.64,2,   33.73,2, -67.0001,-107.1501,-999.000,     -999.0,    34.8853,2,     -999.0,9,     -999.0,9,-999.0000,9,-999.0000,9,-999.0000,9,-999.0000,9,-999.0000,9,-999.0000,9,-999.0000,9,-999.0000,9,-999.0000,9,-999.0000,-999.000,   1.8223,     -999.0,     -999.0,9,     -999.0,9,     -999.0,9,     -999.0,9,     -999.0,20110409,       0120
320620110219,       S04P,     116,          1,         17,         17,2,20110409,       0004,   -67.0001,  -107.1501,       4634,  1233.8,   1.8135,  34.7274,2,  34.7281,2,    187.1,2,   187.4,2,   89.80,2,   31.17,2,    0.00,2,    2.18,2,-999.000,9,-999.000,9,-999.000,9,-999.0000,9,  -999.0,9,  -999.0,9,-999.0000,9,  -999.00,-999.000,9,-999.0000,9,-999.000,9,   1.8126,2, -999.00,9,  -999.0,9,  -999.0,-999.000,9, -999.00,9,-999.000,9,   39.49,2,   33.71,2, -67.0001,-107.1501,-999.000,     -999.0,    34.8918,2,     -999.0,9,     -999.0,9,-999.0000,9,-999.0000,9,-999.0000,9,-999.0000,9,-999.0000,9,-999.0000,9,-999.0000,9,-999.0000,9,-999.0000,9,-999.0000,-999.000,   1.7384,     -999.0,     -999.0,9,     -999.0,9,     -999.0,9,     -999.0,9,     -999.0,20110409,       0118
320620110219,       S04P,     116,          1,         16,         16,2,20110409,       0004,   -67.0001,  -107.1501,       4634,  1333.5,   1.7441,  34.7302,2,  34.7300,2,    189.1,2,   188.8,2,   91.44,2,   31.25,2,    0.00,2,    2.18,2,   0.197,2,   0.093,2,   0.014,2,   0.0070,2,  2253.7,2,  2353.2,2,   7.5964,2,    25.00,-999.000,9,-999.0000,9,-999.000,9,   1.7439,2, -999.00,9,  -999.0,9,  -999.0,-999.000,9, -999.00,9,-999.000,9,   39.69,2,   33.68,2, -67.0001,-107.1501,-999.000,     -999.0,    34.8938,2,     -999.0,9,     -999.0,9,-999.0000,9,-999.0000,9,-999.0000,9,-999.0000,9,-999.0000,9,-999.0000,9,-999.0000,9,-999.0000,9,-999.0000,9,-999.0000,-999.000,   1.6626,     -999.0,     -999.0,9,     -999.0,9,     -999.0,9,     -999.0,9,     -999.0,20110409,       0115
320620110219,       S04P,     116,          1,         15,         15,2,20110409,       0004,   -67.0001,  -107.1501,       4634,  1434.9,   1.6558,  34.7319,2,  34.7318,2,    191.0,2,   191.1,2,   93.22,2,   31.20,2,    0.00,2,    2.17,2,-999.000,9,-999.000,9,-999.000,9,-999.0000,9,  -999.0,9,  -999.0,9,-999.0000,9,  -999.00,-999.000,9,-999.0000,9,-999.000,9,   1.6550,2, -999.00,9,  -999.0,9,  -999.0,-999.000,9, -999.00,9,-999.000,9,   39.47,2,   33.68,2, -67.0001,-107.1501,-999.000,     -999.0,    34.8956,2,     -999.0,9,     -999.0,9,-999.0000,9,-999.0000,9,-999.0000,9,-999.0000,9,-999.0000,9,-999.0000,9,-999.0000,9,-999.0000,9,-999.0000,9,-999.0000,-999.000,   1.5679,     -999.0,     -999.0,9,     -999.0,9,     -999.0,9,     -999.0,9,     -999.0,20110409,       0112
320620110219,       S04P,     116,          1,         14,         14,2,20110409,       0004,   -67.0001,  -107.1501,       4634,  1534.3,   1.5800,  34.7323,2,  34.7324,2,    192.7,2,   192.0,2,   95.89,2,   31.30,2,    0.00,2,    2.18,2,   0.194,2,   0.083,2,   0.014,2,   0.0190,2,  2255.6,2,  2355.8,2,   7.6015,2,    25.00,-999.000,9,-999.0000,9,-999.000,9,   1.5798,2, -999.00,9,  -999.0,9,  -999.0,-999.000,9, -999.00,9,-999.000,9,   39.72,2,   34.06,2, -67.0001,-107.1501,-999.000,     -999.0,    34.8961,2,     -999.0,9,     -999.0,9,-999.0000,9,-999.0000,9,-999.0000,9,-999.0000,9,-999.0000,9,-999.0000,9,-999.0000,9,-999.0000,9,-999.0000,9,-999.0000,-999.000,   1.4857,     -999.0,     -999.0,9,     -999.0,9,     -999.0,9,     -999.0,9,     -999.0,20110409,       0110