BOTTLE,20220813CCHSIOAMB
EXPOCODE,SECT_ID,STNNBR,CASTNO,SAMPNO,BTLNBR,BTLNBR_FLAG_W,DATE,TIME,LATITUDE,LONGITUDE,DEPTH,CTDPRS,CTDTMP,CTDSAL,CTDSAL_FLAG_W,SALNTY,SALNTY_FLAG_W,CTDOXY,CTDOXY_FLAG_W,OXYGEN,OXYGEN_FLAG_W,SILCAT,SILCAT_FLAG_W,NITRAT,NITRAT_FLAG_W,NITRIT,NITRIT_FLAG_W,PHSPHT,PHSPHT_FLAG_W,CFC-11,CFC-11_FLAG_W,CFC-12,CFC-12_FLAG_W,CFC113,CFC113_FLAG_W,SF6,SF6_FLAG_W,TCARBN,TCARBN_FLAG_W,ALKALI,ALKALI_FLAG_W,PH_TOT,PH_TOT_FLAG_W,PH_TMP,TRITUM,TRITUM_FLAG_W,HELIUM,HELIUM_FLAG_W,DELHE3,DELHE3_FLAG_W,REFTMP,REFTMP_FLAG_W,DELC13,DELC13_FLAG_W,DELC14,DELC14_FLAG_W,C14ERR,NEON,NEON_FLAG_W,DELO18,DELO18_FLAG_W,POC,POC_FLAG_W,DOC,DOC_FLAG_W,TDN,TDN_FLAG_W,BTL_LAT,BTL_LON,TRITER,NEONER,SALTREF,SALTREF_FLAG_W,PIGMENTS,PIGMENTS_FLAG_W,LAB_DEN,LAB_DEN_FLAG_W,CDOM325,CDOM325_FLAG_W,CDOM340,CDOM340_FLAG_W,CDOM380,CDOM380_FLAG_W,CDOM412,CDOM412_FLAG_W,CDOM443,CDOM443_FLAG_W,CDOM490,CDOM490_FLAG_W,CDOM555,CDOM555_FLAG_W,CDOMSL,CDOMSL_FLAG_W,CDOMSN,CDOMSN_FLAG_W,HELIER,DELHER,THETA,LDEO_SAMPNO,ABSORBTION,ABSORBTION_FLAG_W,IMAGE_COUNT,IMAGE_COUNT_FLAG_W,CYTO_COUNT,CYTO_COUNT_FLAG_W,DELD,DELD_FLAG_W,DELDERR,BTL_DATE,BTL_TIME
,,,,,,,,,,,METERS,DBAR,ITS-90,PSS-78,,PSS-78,,UMOL/KG,,UMOL/KG,,UMOL/KG,,UMOL/KG,,UMOL/KG,,UMOL/KG,,PMOL/KG,,PMOL/KG,,PMOL/KG,,FMOL/KG,,UMOL/KG,,UMOL/KG,,,,DEG C,TU,,NMOL/KG,,PERCNT,,DEG C,,/MILLE,,/MILLE,,/MILLE,NMOL/KG,,/MILLE,,UG/KG,,UMOL/KG,,UMOL/KG,,,,TU,NMOL/KG,G/KG,,,,,,1/M,,1/M,,1/M,,1/M,,1/M,,1/M,,1/M,,1/NM,,1/NM,,NMOL/KG,PERCNT,DEG C,,,,,,,,/MILLE,,/MILLE,,
320620110219,       S04P,      45,          1,         36,         36,2,20110310,       2249,   -66.9981,  -149.9953,       4369,     3.5,  -0.4512,  33.7770,2,  33.7771,2,    339.0,3,   343.1,2,   41.80,2,   23.60,2,    0.19,2,    1.69,2,   6.021,2,   3.270,2,   0.583,2,   2.3830,2,  2158.7,2,  2289.4,2,   7.7046,2,    25.00,-999.000,9,-999.0000,9,-999.000,9,  -0.4487,2, -999.00,9,  -999.0,9,  -999.0,-999.000,9, -999.00,9,-999.000,9, -999.00,9, -999.00,9, -66.9983,-149.9935,-999.000,     -999.0,    33.9363,2,     -999.0,9,     -999.0,9,-999.0000,9,-999.0000,9,-999.0000,9,-999.0000,9,-999.0000,9,-999.0000,9,-999.0000,9,-999.0000,9,-999.0000,9,-999.0000,-999.000,  -0.4513,     -999.0,     -999.0,9,     -999.0,9,     -999.0,9,     -999.0,9,     -999.0,20110311,       0024
320620110219,       S04P,      45,          1,         35,         35,2,20110310,       2249,   -66.9981,  -149.9953,       4369,    23.6,  -0.4577,  33.7770,2,  33.7772,2,    343.1,2,   342.8,2,   41.50,2,   23.59,2,    0.19,2,    1.68,2,   6.033,2,   3.288,2,   0.574,2,   2.5940,2,  2159.0,2,  2289.0,6,   7.7044,2,    25.00,-999.000,9,-999.0000,9,-999.000,9,  -0.4581,2, -999.00,9,  -999.0,9,  -999.0,-999.000,9, -999.00,9,-999.000,9, -999.00,9, -999.00,9, -66.9983,-149.9935,-999.000,     -999.0,    33.9365,2,     -999.0,1,     -999.0,9,-999.0000,9,-999.0000,9,-999.0000,9,-999.0000,9,-999.0000,9,-999.0000,9,-999.0000,9,-999.0000,9,-999.0000,9,-999.0000,-999.000,  -0.4584,     -999.0,     -999.0,1,     -999.0,1,     -999.0,1,     -999.0,9,     -999.0,20110311,       0023
320620110219,       S04P,      45,          1,         34,         34,2,20110310,       2249,   -66.9981,  -149.9953,       4369,    49.5,  -1.0098,  33.9435,2,  33.9219,2,    326.6,2,   322.9,2,   48.32,2,   25.74,2,    0.20,2,    1.86,2,   5.560,2,   3.015,2,   0.533,2,   2.2510,2,  2178.9,2,  2296.6,2,   7.6679,2,    25.00,-999.000,9,-999.0000,9,-999.000,9,  -1.0227,2, -999.00,9,  -999.0,9,  -999.0,-999.000,9, -999.00,9,-999.000,9, -999.00,9, -999.00,9, -66.9983,-149.9937,-999.000,     -999.0,    34.0818,2,     -999.0,1,     -999.0,9,-999.0000,9,-999.0000,9,-999.0000,9,-999.0000,9,-999.0000,9,-999.0000,9,-999.0000,9,-999.0000,9,-999.0000,9,-999.0000,-999.000,  -1.0111,     -999.0,     -999.0,1,     -999.0,1,     -999.0,1,     -999.0,9,     -999.0,20110311,       0022
320620110219,       S04P,      45,          1,         33,         33,2,20110310,       2249,   -66.9981,  -149.9953,       4369,    73.2,  -1.4249,  34.1206,2,  34.1169,2,    295.8,2,   297.2,2,   56.28,2,   28.69,2,    0.21,2,    2.01,2,-999.000,9,-999.000,9,-999.000,9,-999.0000,9,  2203.7,2,  2307.7,2,   7.6210,2,    25.00,-999.000,9,-999.0000,9,-999.000,9,  -1.4303,2, -999.00,9,  -999.0,9,  -999.0,-999.000,9, -999.00,9,-999.000,9, -999.00,9, -999.00,9, -66.9983,-149.9936,-999.000,     -999.0,    34.2778,2,     -999.0,1,     -999.0,9,-999.0000,9,-999.0000,9,-999.0000,9,-999.0000,9,-999.0000,9,-999.0000,9,-999.0000,9,-999.0000,9,-999.0000,9,-999.0000,-999.000,  -1.4265,     -999.0,     -999.0,1,     -999.0,1,     -999.0,1,     -999.0,9,     -999.0,20110311,       0021
320620110219,       S04P,      45,          1,         32,         32,2,20110310,       2249,   -66.9981,  -149.9953,       4369,    99.7,  -1.0134,  34.2131,2,  34.2095,2,    276.9,2,   278.3,2,   62.15,2,   29.77,2,    0.07,2,    2.06,2,   4.324,2,   2.329,2,   0.407,2,   1.6360,2,  2213.6,2,  2311.8,2,   7.6050,2,    25.00,-999.000,9,-999.0000,9,-999.000,9,  -1.0194,2, -999.00,9,  -999.0,9,  -999.0,-999.000,9, -999.00,9,-999.000,9, -999.00,9, -999.00,9, -66.9983,-149.9935,-999.000,     -999.0,    34.3708,2,     -999.0,1,     -999.0,9,-999.0000,9,-999.0000,9,-999.0000,9,-999.0000,9,-999.0000,9,-999.0000,9,-999.0000,9,-999.0000,9,-999.0000,9,-999.0000,-999.000,  -1.0160,     -999.0,     -999.0,1,     -999.0,1,     -999.0,1,     -999.0,9,     -999.0,20110311,       0021
320620110219,       S04P,      45,          1,         31,         31,2,20110310,       2249,   -66.9981,  -149.9953,       4369,   147.9,   0.0634,  34.4123,2,  34.4120,2,    238.6,2,   236.0,2,   75.14,2,   31.71,2,    0.03,2,    2.17,2,-999.000,9,-999.000,9,-999.000,9,-999.0000,9,  2233.3,2,  2326.7,2,   7.5804,2,    25.00,-999.000,9,-999.0000,9,-999.000,9,   0.0377,2, -999.00,9,  -999.0,9,  -999.0,-999.000,9, -999.00,9,-999.000,9, -999.00,9, -999.00,9, -66.9982,-149.9935,-999.000,     -999.0,    34.5743,2,     -999.0,9,     -999.0,9,-999.0000,9,-999.0000,9,-999.0000,9,-999.0000,9,-999.0000,9,-999.0000,9,-999.0000,9,-999.0000,9,-999.0000,9,-999.0000,-999.000,   0.0580,     -999.0,     -999.0,9,     -999.0,9,     -999.0,9,     -999.0,9,     -999.0,20110311,       0019
320620110219,       S04P,      45,          1,         30,         30,2,20110310,       2249,   -66.9981,  -149.9953,       4369,   199.8,   1.2186,  34.6256,2,  34.6291,2,    198.2,2,   192.8,2,   86.60,2,   32.84,2,    0.02,2,    2.25,2,   1.025,2,   0.555,2,   0.092,2,   0.3140,2,  2253.0,2,  2339.5,2,   7.5629,6,    25.00,-999.000,9,-999.0000,9,-999.000,9,   1.2178,2, -999.00,9,  -999.0,9,  -999.0,-999.000,9, -999.00,9,-999.000,9, -999.00,9, -999.00,9, -66.9983,-149.9936,-999.000,     -999.0,    34.7924,2,     -999.0,9,     -999.0,9,-999.0000,9,-999.0000,9,-999.0000,9,-999.0000,9,-999.0000,9,-999.0000,9,-999.0000,9,-999.0000,9,-999.0000,9,-999.0000,-999.000,   1.2092,     -999.0,     -999.0,9,     -999.0,9,     -999.0,9,     -999.0,9,     -999.0,20110311,       0017
320620110219,       S04P,      45,          1,         29,         29,2,20110310,       2249,   -66.9981,  -149.9953,       4369,   248.8,   1.4086,  34.6937,2,  34.6928,2,    185.3,2,   183.9,2,   93.12,2,   32.76,2,    0.01,2,    2.24,2,   0.571,2,   0.302,2,   0.055,2,-999.0000,9,  2259.2,2,  2347.3,2,   7.5620,2,    25.00,-999.000,9,-999.0000,9,-999.000,9,   1.4085,2, -999.00,9,  -999.0,9,  -999.0,-999.000,9, -999.00,9,-999.000,9, -999.00,9, -999.00,9, -66.9982,-149.9939,-999.000,     -999.0,    34.8564,2,     -999.0,9,     -999.0,9,-999.0000,9,-999.0000,9,-999.0000,9,-999.0000,9,-999.0000,9,-999.0000,9,-999.0000,9,-999.0000,9,-999.0000,9,-999.0000,-999.000,   1.3963,     -999.0,     -999.0,9,     -999.0,9,     -999.0,9,     -999.0,9,     -999.0,20110311,       0016
320620110219,       S04P,      45,          1,         28,         28,2,20110310,       2249,   -66.9981,  -149.9953,       4369,   299.1,   1.4722,  34.7200,2,  34.7197,2,    182.4,2,   183.1,2,   95.97,2,   32.66,2,    0.01,2,    2.24,2,   0.328,6,   0.171,6,   0.026,6,   0.1030,6,  2260.5,2,  2349.9,2,   7.5657,2,    25.00,-999.000,9,-999.0000,9,-999.000,9,   1.4721,2, -999.00,9,  -999.0,9,  -999.0,-999.000,9, -999.00,9,-999.000,9, -999.00,9, -999.00,9, -66.9982,-149.9942,-999.000,     -999.0,    34.8834,2,     -999.0,9,     -999.0,9,-999.0000,9,-999.0000,9,-999.0000,9,-999.0000,9,-999.0000,9,-999.0000,9,-999.0000,9,-999.0000,9,-999.0000,9,-999.0000,-999.000,   1.4572,     -999.0,     -999.0,9,     -999.0,9,     -999.0,9,     -999.0,9,     -999.0,20110311,       0015
320620110219,       S04P,      45,          1,         27,         27,2,20110310,       2249,   -66.9981,  -149.9953,       4369,   349.4,   1.4346,  34.7272,2,  34.7267,2,    184.2,2,   184.7,2,   99.32,2,   32.55,2,    0.01,2,    2.24,2,   0.253,2,   0.132,2,   0.020,2,   0.0640,2,  2261.2,2,  2352.4,2,   7.5703,2,    25.00,-999.000,9,-999.0000,9,-999.000,9,   1.4348,2, -999.00,9,  -999.0,9,  -999.0,-999.000,9, -999.00,9,-999.000,9, -999.00,9, -999.00,9, -66.9982,-149.9943,-999.000,     -999.0,    34.8905,2,     -999.0,9,     -999.0,9,-999.0000,9,-999.0000,9,-999.0000,9,-999.0000,9,-999.0000,9,-999.0000,9,-999.0000,9,-999.0000,9,-999.0000,9,-999.0000,-999.000,   1.4170,     -999.0,     -999.0,9,     -999.0,9,     -999.0,9,     -999.0,9,     -999.0,20110311,       0014
320620110219,       S04P,      45,          1,         26,         26,2,20110310,       2249,   -66.9981,  -149.9953,       4369,   399.3,   1.3977,  34.7287,2,  34.7293,2,    184.5,2,   184.1,2,  100.78,2,   32.60,2,    0.00,2,    2.24,2,   0.224,2,   0.109,2,   0.014,2,   0.0880,2,  2261.4,2,  2352.1,2,   7.5692,4,    25.00,-999.000,9,-999.0000,9,-999.000,9,   1.3970,2, -999.00,9,  -999.0,9,  -999.0,-999.000,9, -999.00,9,-999.000,9, -999.00,9, -999.00,9, -66.9982,-149.9944,-999.000,     -999.0,    34.8930,2,     -999.0,9,     -999.0,9,-999.0000,9,-999.0000,9,-999.0000,9,-999.0000,9,-999.0000,9,-999.0000,9,-999.0000,9,-999.0000,9,-999.0000,9,-999.0000,-999.000,   1.3775,     -999.0,     -999.0,9,     -999.0,9,     -999.0,9,     -999.0,9,     -999.0,20110311,       0013
320620110219,       S04P,      45,          1,         25,         25,2,20110310,       2249,   -66.9981,  -149.9953,       4369,   449.4,   1.3491,  34.7295,2,  34.7306,2,    184.3,2,   183.5,2,  103.14,2,   32.75,2,    0.00,2,    2.24,2,-999.000,9,-999.000,9,-999.000,9,-999.0000,9,  2264.0,2,  2353.1,2,   7.5693,4,    25.00,-999.000,9,-999.0000,9,-999.000,9,   1.3490,2, -999.00,9,  -999.0,9,  -999.0,-999.000,9, -999.00,9,-999.000,9, -999.00,9, -999.00,9, -66.9982,-149.9945,-999.000,     -999.0,    34.8944,2,     -999.0,9,     -999.0,9,-999.0000,9,-999.0000,9,-999.0000,9,-999.0000,9,-999.0000,9,-999.0000,9,-999.0000,9,-999.0000,9,-999.0000,9,-999.0000,-999.000,   1.3264,     -999.0,     -999.0,9,     -999.0,9,     -999.0,9,     -999.0,9,     -999.0,20110311,       0012
320620110219,       S04P,      45,          1,         24,         24,2,20110310,       2249,   -66.9981,  -149.9953,       4369,   498.8,   1.3106,  34.7294,2,  34.7300,2,    183.8,2,   184.4,2,  105.25,2,   32.93,2,    0.00,2,    2.25,2,   0.163,2,   0.079,2,   0.011,2,   0.0550,2,  2263.3,2,  2355.2,2,   7.5686,4,    25.00,-999.000,9,-999.0000,9,-999.000,9,   1.3107,2, -999.00,9,  -999.0,9,  -999.0,-999.000,9, -999.00,9,-999.000,9, -999.00,9, -999.00,9, -66.9982,-149.9945,-999.000,     -999.0,    34.8938,2,     -999.0,9,     -999.0,9,-999.0000,9,-999.0000,9,-999.0000,9,-999.0000,9,-999.0000,9,-999.0000,9,-999.0000,9,-999.0000,9,-999.0000,9,-999.0000,-999.000,   1.2853,     -999.0,     -999.0,9,     -999.0,9,     -999.0,9,     -999.0,9,     -999.0,20110311,       0012
320620110219,       S04P,      45,          1,         23,         23,2,20110310,       2249,   -66.9981,  -149.9953,       4369,   598.9,   1.2318,  34.7282,2,  34.7285,2,    185.9,2,   185.4,2,  107.16,2,   32.87,2,    0.00,2,    2.25,2,   0.137,2,   0.068,2,   0.005,2,   0.0640,2,  -999.0,9,  -999.0,9,-999.0000,9,  -999.00,-999.000,9,-999.0000,9,-999.000,9,   1.2311,2, -999.00,9,  -999.0,9,  -999.0,-999.000,9, -999.00,9,-999.000,9, -999.00,9, -999.00,9, -66.9982,-149.9946,-999.000,     -999.0,    34.8922,2,     -999.0,9,     -999.0,9,-999.0000,9,-999.0000,9,-999.0000,9,-999.0000,9,-999.0000,9,-999.0000,9,-999.0000,9,-999.0000,9,-999.0000,9,-999.0000,-999.000,   1.2013,     -999.0,     -999.0,9,     -999.0,9,     -999.0,9,     -999.0,9,     -999.0,20110311,       0010
320620110219,       S04P,      45,          1,         22,         22,2,20110310,       2249,   -66.9981,  -149.9953,       4369,   698.8,   1.1610,  34.7262,2,  34.7269,2,    188.4,2,   187.7,2,  109.24,2,   32.71,2,    0.00,2,    2.24,2,   0.124,2,   0.072,2,   0.007,2,   0.0650,2,  -999.0,9,  -999.0,9,-999.0000,9,  -999.00,-999.000,9,-999.0000,9,-999.000,9,   1.1603,2, -999.00,9,  -999.0,9,  -999.0,-999.000,9, -999.00,9,-999.000,9, -999.00,9, -999.00,9, -66.9981,-149.9953,-999.000,     -999.0,    34.8906,2,     -999.0,9,     -999.0,9,-999.0000,9,-999.0000,9,-999.0000,9,-999.0000,9,-999.0000,9,-999.0000,9,-999.0000,9,-999.0000,9,-999.0000,9,-999.0000,-999.000,   1.1252,     -999.0,     -999.0,9,     -999.0,9,     -999.0,9,     -999.0,9,     -999.0,20110311,       0008
320620110219,       S04P,      45,          1,         21,         21,2,20110310,       2249,   -66.9981,  -149.9953,       4369,   799.2,   1.0987,  34.7243,2,  34.7253,2,    190.5,2,   189.9,2,  110.95,2,   32.48,2,    0.00,2,    2.24,2,-999.000,9,-999.000,9,-999.000,9,-999.0000,9,  2262.8,2,  2357.7,2,   7.5797,2,    25.00,-999.000,9,-999.0000,9,-999.000,9,   1.0987,2, -999.00,9,  -999.0,9,  -999.0,-999.000,9, -999.00,9,-999.000,9, -999.00,9, -999.00,9, -66.9981,-149.9954,-999.000,     -999.0,    34.8890,2,     -999.0,9,     -999.0,9,-999.0000,9,-999.0000,9,-999.0000,9,-999.0000,9,-999.0000,9,-999.0000,9,-999.0000,9,-999.0000,9,-999.0000,9,-999.0000,-999.000,   1.0575,     -999.0,     -999.0,9,     -999.0,9,     -999.0,9,     -999.0,9,     -999.0,20110311,       0007
320620110219,       S04P,      45,          1,         20,         20,2,20110310,       2249,   -66.9981,  -149.9953,       4369,   898.5,   1.0268,  34.7216,2,  34.7225,2,    193.3,2,   193.5,2,  113.01,2,   32.47,2,    0.00,2,    2.24,2,   0.090,2,   0.049,2,   0.008,2,   0.0720,2,  -999.0,9,  -999.0,9,-999.0000,9,  -999.00,-999.000,9,-999.0000,9,-999.000,9,   1.0276,2, -999.00,9,  -999.0,9,  -999.0,-999.000,9, -999.00,9,-999.000,9, -999.00,9, -999.00,9, -66.9982,-149.9949,-999.000,     -999.0,    34.8863,2,     -999.0,9,     -999.0,9,-999.0000,9,-999.0000,9,-999.0000,9,-999.0000,9,-999.0000,9,-999.0000,9,-999.0000,9,-999.0000,9,-999.0000,9,-999.0000,-999.000,   0.9803,     -999.0,     -999.0,9,     -999.0,9,     -999.0,9,     -999.0,9,     -999.0,20110311,       0005
320620110219,       S04P,      45,          1,         19,         19,2,20110310,       2249,   -66.9981,  -149.9953,       4369,   999.0,   0.9671,  34.7193,2,  34.7206,2,    195.3,2,   195.5,2,  115.20,2,   32.40,2,    0.00,2,    2.24,2,-999.000,9,-999.000,9,-999.000,9,-999.0000,9,  -999.0,9,  -999.0,9,-999.0000,9,  -999.00,-999.000,9,-999.0000,9,-999.000,9,   0.9672,2, -999.00,9,  -999.0,9,  -999.0,-999.000,9, -999.00,9,-999.000,9, -999.00,9, -999.00,9, -66.9982,-149.9944,-999.000,     -999.0,    34.8843,2,     -999.0,9,     -999.0,9,-999.0000,9,-999.0000,9,-999.0000,9,-999.0000,9,-999.0000,9,-999.0000,9,-999.0000,9,-999.0000,9,-999.0000,9,-999.0000,-999.000,   0.9150,     -999.0,     -999.0,9,     -999.0,9,     -999.0,9,     -999.0,9,     -999.0,20110311,       0003
320620110219,       S04P,      45,          1,         18,         18,2,20110310,       2249,   -66.9981,  -149.9953,       4369,  1099.5,   0.9096,  34.7172,2,  34.7178,2,    197.4,2,   197.6,2,  116.68,2,   32.45,2,    0.00,2,    2.24,2,   0.081,2,   0.049,2,   0.004,2,   0.0400,2,  2262.5,2,  2360.8,2,   7.5881,2,    25.00,-999.000,9,-999.0000,9,-999.000,9,   0.9101,2, -999.00,9,  -999.0,9,  -999.0,-999.000,9, -999.00,9,-999.000,9, -999.00,9, -999.00,9, -66.9983,-149.9940,-999.000,     -999.0,    34.8815,2,     -999.0,9,     -999.0,9,-999.0000,9,-999.0000,9,-999.0000,9,-999.0000,9,-999.0000,9,-999.0000,9,-999.0000,9,-999.0000,9,-999.0000,9,-999.0000,-999.000,   0.8518,     -999.0,     -999.0,9,     -999.0,9,     -999.0,9,     -999.0,9,     -999.0,20110311,       0002
320620110219,       S04P,      45,          1,         17,         17,2,20110310,       2249,   -66.9981,  -149.9953,       4369,  1199.3,   0.8625,  34.7152,2,  34.7160,2,    198.5,2,   198.2,2,  117.93,2,   32.61,2,    0.00,2,    2.25,2,-999.000,9,-999.000,9,-999.000,9,-999.0000,9,  -999.0,9,  -999.0,9,-999.0000,9,  -999.00,-999.000,9,-999.0000,9,-999.000,9,   0.8628,2, -999.00,9,  -999.0,9,  -999.0,-999.000,9, -999.00,9,-999.000,9, -999.00,9, -999.00,9, -66.9982,-149.9942,-999.000,     -999.0,    34.8797,2,     -999.0,9,     -999.0,9,-999.0000,9,-999.0000,9,-999.0000,9,-999.0000,9,-999.0000,9,-999.0000,9,-999.0000,9,-999.0000,9,-999.0000,9,-999.0000,-999.000,   0.7989,     -999.0,     -999.0,9,     -999.0,9,     -999.0,9,     -999.0,9,     -999.0,20110310,       0000
320620110219,       S04P,      45,          1,         16,         16,2,20110310,       2249,   -66.9981,  -149.9953,       4369,  1298.0,   0.8112,  34.7131,2,  34.7146,2,    200.0,2,   200.4,2,  119.52,2,   32.55,2,    0.00,2,    2.24,2,   0.084,2,   0.050,2,   0.005,2,   0.0460,2,  -999.0,9,  -999.0,9,-999.0000,9,  -999.00,-999.000,9,-999.0000,9,-999.000,9,   0.8111,2, -999.00,9,  -999.0,9,  -999.0,-999.000,9, -999.00,9,-999.000,9, -999.00,9, -999.00,9, -66.9982,-149.9948,-999.000,     -999.0,    34.8783,2,     -999.0,9,     -999.0,9,-999.0000,9,-999.0000,9,-999.0000,9,-999.0000,9,-999.0000,9,-999.0000,9,-999.0000,9,-999.0000,9,-999.0000,9,-999.0000,-999.000,   0.7419,     -999.0,     -999.0,9,     -999.0,9,     -999.0,9,     -999.0,9,     -999.0,20110310,       2358
320620110219,       S04P,      45,          1,         15,         15,2,20110310,       2249,   -66.9981,  -149.9953,       4369,  1398.4,   0.7677,  34.7113,2,  34.7123,2,    201.5,2,   201.2,2,  120.26,2,   32.36,2,    0.00,2,    2.22,2,-999.000,9,-999.000,9,-999.000,9,-999.0000,9,  -999.0,9,  -999.0,9,-999.0000,9,  -999.00,-999.000,9,-999.0000,9,-999.000,9,   0.7677,2, -999.00,9,  -999.0,9,  -999.0,-999.000,9, -999.00,9,-999.000,9, -999.00,9, -999.00,9, -66.9981,-149.9950,-999.000,     -999.0,    34.8760,2,     -999.0,9,     -999.0,9,-999.0000,9,-999.0000,9,-999.0000,9,-999.0000,9,-999.0000,9,-999.0000,9,-999.0000,9,-999.0000,9,-999.0000,9,-999.0000,-999.000,   0.6923,     -999.0,     -999.0,9,     -999.0,9,     -999.0,9,     -999.0,9,     -999.0,20110310,       2356
320620110219,       S04P,      45,          1,         14,         14,2,20110310,       2249,   -66.9981,  -149.9953,       4369,  1500.7,   0.7269,  34.7097,2,  34.7105,2,    202.6,2,   202.7,2,  122.01,2,   32.43,2,    0.00,2,    2.23,2,   0.088,2,   0.045,2,   0.004,2,   0.0470,2,  2262.4,2,  2360.5,2,   7.5893,2,    25.00,-999.000,9,-999.0000,9,-999.000,9,   0.7274,2, -999.00,9,  -999.0,9,  -999.0,-999.000,9, -999.00,9,-999.000,9, -999.00,9, -999.00,9, -66.9981,-149.9950,-999.000,     -999.0,    34.8742,2,     -999.0,9,     -999.0,9,-999.0000,9,-999.0000,9,-999.0000,9,-999.0000,9,-999.0000,9,-999.0000,9,-999.0000,9,-999.0000,9,-999.0000,9,-999.0000,-999.000,   0.6452,     -999.0,     -999.0,9,     -999.0,9,     -999.0,9,     -999.0,9,     -999.0,20110310,       2352