BOTTLE,20220813CCHSIOAMB
EXPOCODE,SECT_ID,STNNBR,CASTNO,SAMPNO,BTLNBR,BTLNBR_FLAG_W,DATE,TIME,LATITUDE,LONGITUDE,DEPTH,CTDPRS,CTDTMP,CTDSAL,CTDSAL_FLAG_W,SALNTY,SALNTY_FLAG_W,CTDOXY,CTDOXY_FLAG_W,OXYGEN,OXYGEN_FLAG_W,SILCAT,SILCAT_FLAG_W,NITRAT,NITRAT_FLAG_W,NITRIT,NITRIT_FLAG_W,PHSPHT,PHSPHT_FLAG_W,CFC-11,CFC-11_FLAG_W,CFC-12,CFC-12_FLAG_W,CFC113,CFC113_FLAG_W,SF6,SF6_FLAG_W,TCARBN,TCARBN_FLAG_W,ALKALI,ALKALI_FLAG_W,PH_TOT,PH_TOT_FLAG_W,PH_TMP,TRITUM,TRITUM_FLAG_W,HELIUM,HELIUM_FLAG_W,DELHE3,DELHE3_FLAG_W,REFTMP,REFTMP_FLAG_W,DELC13,DELC13_FLAG_W,DELC14,DELC14_FLAG_W,C14ERR,NEON,NEON_FLAG_W,DELO18,DELO18_FLAG_W,POC,POC_FLAG_W,DOC,DOC_FLAG_W,TDN,TDN_FLAG_W,BTL_LAT,BTL_LON,TRITER,NEONER,SALTREF,SALTREF_FLAG_W,PIGMENTS,PIGMENTS_FLAG_W,LAB_DEN,LAB_DEN_FLAG_W,CDOM325,CDOM325_FLAG_W,CDOM340,CDOM340_FLAG_W,CDOM380,CDOM380_FLAG_W,CDOM412,CDOM412_FLAG_W,CDOM443,CDOM443_FLAG_W,CDOM490,CDOM490_FLAG_W,CDOM555,CDOM555_FLAG_W,CDOMSL,CDOMSL_FLAG_W,CDOMSN,CDOMSN_FLAG_W,HELIER,DELHER,THETA,LDEO_SAMPNO,ABSORBTION,ABSORBTION_FLAG_W,IMAGE_COUNT,IMAGE_COUNT_FLAG_W,CYTO_COUNT,CYTO_COUNT_FLAG_W,DELD,DELD_FLAG_W,DELDERR,BTL_DATE,BTL_TIME
,,,,,,,,,,,METERS,DBAR,ITS-90,PSS-78,,PSS-78,,UMOL/KG,,UMOL/KG,,UMOL/KG,,UMOL/KG,,UMOL/KG,,UMOL/KG,,PMOL/KG,,PMOL/KG,,PMOL/KG,,FMOL/KG,,UMOL/KG,,UMOL/KG,,,,DEG C,TU,,NMOL/KG,,PERCNT,,DEG C,,/MILLE,,/MILLE,,/MILLE,NMOL/KG,,/MILLE,,UG/KG,,UMOL/KG,,UMOL/KG,,,,TU,NMOL/KG,G/KG,,,,,,1/M,,1/M,,1/M,,1/M,,1/M,,1/M,,1/M,,1/NM,,1/NM,,NMOL/KG,PERCNT,DEG C,,,,,,,,/MILLE,,/MILLE,,
320620110219,       S04P,      43,          2,         36,         36,2,20110310,       0912,   -67.0001,  -152.4246,       3555,     3.7,  -0.4945,  33.7017,2,  33.7032,2,    343.4,2,   346.3,2,   42.88,2,   22.65,2,    0.14,2,    1.59,2,   6.097,2,   3.322,2,   0.608,2,   2.5950,2,  2146.6,2,  2282.3,6,   7.7249,2,    25.00,-999.000,9,-999.0000,9,-999.000,9,  -0.4960,2, -999.00,9,  -999.0,9,  -999.0,-999.000,9, -999.00,9,-999.000,9, -999.00,9, -999.00,9, -67.0001,-152.4246,-999.000,     -999.0,    33.8621,2,     -999.0,9,     -999.0,9,-999.0000,9,-999.0000,9,-999.0000,9,-999.0000,9,-999.0000,9,-999.0000,9,-999.0000,9,-999.0000,9,-999.0000,9,-999.0000,-999.000,  -0.4946,     -999.0,     -999.0,9,     -999.0,9,     -999.0,9,     -999.0,9,     -999.0,20110310,       1050
320620110219,       S04P,      43,          2,         35,         35,2,20110310,       0912,   -67.0001,  -152.4246,       3555,    34.6,  -0.5251,  33.7103,2,  33.7124,2,    345.5,2,   345.0,2,   43.88,2,   22.50,2,    0.13,2,    1.60,2,   6.078,2,   3.334,2,   0.602,2,   2.7910,2,  2145.9,2,  2282.6,2,   7.7255,6,    25.00,-999.000,9,-999.0000,9,-999.000,9,  -0.5259,2, -999.00,9,  -999.0,9,  -999.0,-999.000,9, -999.00,9,-999.000,9, -999.00,9, -999.00,9, -67.0001,-152.4246,-999.000,     -999.0,    33.8713,2,     -999.0,9,     -999.0,9,-999.0000,9,-999.0000,9,-999.0000,9,-999.0000,9,-999.0000,9,-999.0000,9,-999.0000,9,-999.0000,9,-999.0000,9,-999.0000,-999.000,  -0.5261,     -999.0,     -999.0,9,     -999.0,9,     -999.0,9,     -999.0,9,     -999.0,20110310,       1049
320620110219,       S04P,      43,          2,         34,         34,2,20110310,       0912,   -67.0001,  -152.4246,       3555,    59.9,  -1.1924,  34.0049,2,  34.0024,2,    315.6,2,   308.4,2,   52.79,2,   26.79,2,    0.16,2,    1.91,2,   5.217,2,   2.839,2,   0.519,2,   2.1060,2,  2189.8,6,  2298.1,2,   7.6439,2,    25.00,-999.000,9,-999.0000,9,-999.000,9,  -1.2035,2, -999.00,9,  -999.0,9,  -999.0,-999.000,9, -999.00,9,-999.000,9, -999.00,9, -999.00,9, -67.0001,-152.4246,-999.000,     -999.0,    34.1628,2,     -999.0,9,     -999.0,9,-999.0000,9,-999.0000,9,-999.0000,9,-999.0000,9,-999.0000,9,-999.0000,9,-999.0000,9,-999.0000,9,-999.0000,9,-999.0000,-999.000,  -1.1938,     -999.0,     -999.0,9,     -999.0,9,     -999.0,9,     -999.0,9,     -999.0,20110310,       1047
320620110219,       S04P,      43,          2,         33,         33,2,20110310,       0912,   -67.0001,  -152.4246,       3555,    84.2,  -1.4258,  34.1083,2,  34.1145,2,    298.5,2,   294.6,2,   56.31,2,   28.34,2,    0.17,2,    2.01,2,-999.000,9,-999.000,9,-999.000,9,-999.0000,9,  2203.6,2,  2304.2,2,   7.6182,2,    25.00,-999.000,9,-999.0000,9,-999.000,9,  -1.4279,2, -999.00,9,  -999.0,9,  -999.0,-999.000,9, -999.00,9,-999.000,9, -999.00,9, -999.00,9, -67.0001,-152.4246,-999.000,     -999.0,    34.2754,2,     -999.0,9,     -999.0,9,-999.0000,9,-999.0000,9,-999.0000,9,-999.0000,9,-999.0000,9,-999.0000,9,-999.0000,9,-999.0000,9,-999.0000,9,-999.0000,-999.000,  -1.4277,     -999.0,     -999.0,9,     -999.0,9,     -999.0,9,     -999.0,9,     -999.0,20110310,       1046
320620110219,       S04P,      43,          2,         32,         32,2,20110310,       0912,   -67.0001,  -152.4246,       3555,   110.1,  -0.9877,  34.2160,2,  34.2105,2,    275.9,2,   275.4,2,   60.88,2,   29.73,2,    0.08,2,    2.05,2,   4.257,2,   2.309,2,   0.410,2,   1.6430,2,  2212.2,2,  2309.1,2,   7.6061,2,    25.00,-999.000,9,-999.0000,9,-999.000,9,  -0.9844,2, -999.00,9,  -999.0,9,  -999.0,-999.000,9, -999.00,9,-999.000,9, -999.00,9, -999.00,9, -67.0001,-152.4246,-999.000,     -999.0,    34.3718,2,     -999.0,9,     -999.0,9,-999.0000,9,-999.0000,9,-999.0000,9,-999.0000,9,-999.0000,9,-999.0000,9,-999.0000,9,-999.0000,9,-999.0000,9,-999.0000,-999.000,  -0.9907,     -999.0,     -999.0,9,     -999.0,9,     -999.0,9,     -999.0,9,     -999.0,20110310,       1044
320620110219,       S04P,      43,          2,         31,         31,2,20110310,       0912,   -67.0001,  -152.4246,       3555,   134.2,  -0.5563,  34.2937,2,  34.3076,2,    252.9,2,   254.3,2,   66.71,2,   30.67,2,    0.06,2,    2.11,2,-999.000,9,-999.000,9,-999.000,9,-999.0000,9,  2222.3,2,  2317.4,2,   7.5899,2,    25.00,-999.000,9,-999.0000,9,-999.000,9,  -0.5437,2, -999.00,9,  -999.0,9,  -999.0,-999.000,9, -999.00,9,-999.000,9, -999.00,9, -999.00,9, -67.0001,-152.4246,-999.000,     -999.0,    34.4694,2,     -999.0,9,     -999.0,9,-999.0000,9,-999.0000,9,-999.0000,9,-999.0000,9,-999.0000,9,-999.0000,9,-999.0000,9,-999.0000,9,-999.0000,9,-999.0000,-999.000,  -0.5605,     -999.0,     -999.0,9,     -999.0,9,     -999.0,9,     -999.0,9,     -999.0,20110310,       1043
320620110219,       S04P,      43,          2,         30,         30,2,20110310,       0912,   -67.0001,  -152.4246,       3555,   164.3,   0.3466,  34.4547,2,  34.4510,2,    226.1,2,   224.5,2,   75.53,2,   31.85,2,    0.04,2,    2.17,2,   2.406,2,   1.320,2,   0.227,2,   0.8820,2,  2237.3,2,  2326.6,2,   7.5742,2,    25.00,-999.000,9,-999.0000,9,-999.000,9,   0.3708,2, -999.00,9,  -999.0,9,  -999.0,-999.000,9, -999.00,9,-999.000,9, -999.00,9, -999.00,9, -67.0001,-152.4246,-999.000,     -999.0,    34.6135,2,     -999.0,9,     -999.0,9,-999.0000,9,-999.0000,9,-999.0000,9,-999.0000,9,-999.0000,9,-999.0000,9,-999.0000,9,-999.0000,9,-999.0000,9,-999.0000,-999.000,   0.3402,     -999.0,     -999.0,9,     -999.0,9,     -999.0,9,     -999.0,9,     -999.0,20110310,       1041
320620110219,       S04P,      43,          2,         29,         29,2,20110310,       0912,   -67.0001,  -152.4246,       3555,   215.4,   1.3641,  34.6408,2,  34.6451,2,    191.9,2,   189.0,2,   86.35,2,   32.65,2,    0.02,2,    2.22,2,   0.889,2,   0.483,2,   0.075,2,   0.2880,2,  2252.6,2,  2338.5,2,   7.5648,2,    25.00,-999.000,9,-999.0000,9,-999.000,9,   1.3594,2, -999.00,9,  -999.0,9,  -999.0,-999.000,9, -999.00,9,-999.000,9, -999.00,9, -999.00,9, -67.0001,-152.4246,-999.000,     -999.0,    34.8085,2,     -999.0,9,     -999.0,9,-999.0000,9,-999.0000,9,-999.0000,9,-999.0000,9,-999.0000,9,-999.0000,9,-999.0000,9,-999.0000,9,-999.0000,9,-999.0000,-999.000,   1.3536,     -999.0,     -999.0,9,     -999.0,9,     -999.0,9,     -999.0,9,     -999.0,20110310,       1039
320620110219,       S04P,      43,          2,         28,         28,2,20110310,       0912,   -67.0001,  -152.4246,       3555,   265.6,   1.5750,  34.6989,2,  34.7002,2,    183.9,2,   183.6,2,   91.64,2,   32.33,2,    0.02,2,    2.21,2,   0.481,2,   0.258,2,   0.035,2,   0.1050,2,  2257.1,2,  2344.7,2,   7.5687,2,    25.00,-999.000,9,-999.0000,9,-999.000,9,   1.5733,2, -999.00,9,  -999.0,9,  -999.0,-999.000,9, -999.00,9,-999.000,9, -999.00,9, -999.00,9, -67.0001,-152.4246,-999.000,     -999.0,    34.8639,2,     -999.0,9,     -999.0,9,-999.0000,9,-999.0000,9,-999.0000,9,-999.0000,9,-999.0000,9,-999.0000,9,-999.0000,9,-999.0000,9,-999.0000,9,-999.0000,-999.000,   1.5615,     -999.0,     -999.0,9,     -999.0,9,     -999.0,9,     -999.0,9,     -999.0,20110310,       1037
320620110219,       S04P,      43,          2,         27,         27,2,20110310,       0912,   -67.0001,  -152.4246,       3555,   313.5,   1.5576,  34.7180,2,  34.7187,2,    183.9,2,   183.8,2,   93.08,2,   32.17,2,    0.01,2,    2.20,2,   0.365,2,   0.185,2,   0.025,2,   0.0580,2,  2258.1,2,  2348.5,2,   7.5723,2,    25.00,-999.000,9,-999.0000,9,-999.000,9,   1.5572,2, -999.00,9,  -999.0,9,  -999.0,-999.000,9, -999.00,9,-999.000,9, -999.00,9, -999.00,9, -67.0001,-152.4246,-999.000,     -999.0,    34.8824,2,     -999.0,9,     -999.0,9,-999.0000,9,-999.0000,9,-999.0000,9,-999.0000,9,-999.0000,9,-999.0000,9,-999.0000,9,-999.0000,9,-999.0000,9,-999.0000,-999.000,   1.5416,     -999.0,     -999.0,9,     -999.0,9,     -999.0,9,     -999.0,9,     -999.0,20110310,       1035
320620110219,       S04P,      43,          2,         26,         26,2,20110310,       0912,   -67.0001,  -152.4246,       3555,   364.8,   1.5070,  34.7245,2,  34.7255,2,    184.8,2,   184.6,2,   95.64,2,   32.09,2,    0.01,2,    2.19,2,   0.291,2,   0.145,2,   0.022,2,   0.0470,2,  2259.4,2,  2348.7,2,   7.5763,2,    25.00,-999.000,9,-999.0000,9,-999.000,9,   1.5075,2, -999.00,9,  -999.0,9,  -999.0,-999.000,9, -999.00,9,-999.000,9, -999.00,9, -999.00,9, -67.0001,-152.4246,-999.000,     -999.0,    34.8893,2,     -999.0,9,     -999.0,9,-999.0000,9,-999.0000,9,-999.0000,9,-999.0000,9,-999.0000,9,-999.0000,9,-999.0000,9,-999.0000,9,-999.0000,9,-999.0000,-999.000,   1.4883,     -999.0,     -999.0,9,     -999.0,9,     -999.0,9,     -999.0,9,     -999.0,20110310,       1034
320620110219,       S04P,      43,          2,         25,         25,2,20110310,       0912,   -67.0001,  -152.4246,       3555,   414.9,   1.4514,  34.7276,2,  34.7283,2,    185.2,2,   185.0,2,   98.35,2,   32.07,2,    0.00,2,    2.20,2,-999.000,9,-999.000,9,-999.000,9,-999.0000,9,  2261.6,2,  2349.7,2,   7.5768,2,    25.00,-999.000,9,-999.0000,9,-999.000,9,   1.4509,2, -999.00,9,  -999.0,9,  -999.0,-999.000,9, -999.00,9,-999.000,9, -999.00,9, -999.00,9, -67.0001,-152.4246,-999.000,     -999.0,    34.8920,2,     -999.0,9,     -999.0,9,-999.0000,9,-999.0000,9,-999.0000,9,-999.0000,9,-999.0000,9,-999.0000,9,-999.0000,9,-999.0000,9,-999.0000,9,-999.0000,-999.000,   1.4302,     -999.0,     -999.0,9,     -999.0,9,     -999.0,9,     -999.0,9,     -999.0,20110310,       1032
320620110219,       S04P,      43,          2,         24,         24,2,20110310,       0912,   -67.0001,  -152.4246,       3555,   464.7,   1.4083,  34.7288,2,  34.7296,2,    185.5,2,   186.6,2,  100.20,2,   32.15,2,    0.00,2,    2.20,2,   0.195,2,   0.112,2,   0.012,2,   0.0740,2,  2261.3,2,  2350.9,2,   7.5764,2,    25.00,-999.000,9,-999.0000,9,-999.000,9,   1.4086,2, -999.00,9,  -999.0,9,  -999.0,-999.000,9, -999.00,9,-999.000,9, -999.00,9, -999.00,9, -67.0001,-152.4246,-999.000,     -999.0,    34.8934,2,     -999.0,9,     -999.0,9,-999.0000,9,-999.0000,9,-999.0000,9,-999.0000,9,-999.0000,9,-999.0000,9,-999.0000,9,-999.0000,9,-999.0000,9,-999.0000,-999.000,   1.3845,     -999.0,     -999.0,9,     -999.0,9,     -999.0,9,     -999.0,9,     -999.0,20110310,       1030
320620110219,       S04P,      43,          2,         23,         23,2,20110310,       0912,   -67.0001,  -152.4246,       3555,   534.0,   1.3523,  34.7297,2,  34.7302,2,    185.8,2,   185.1,2,  102.70,2,   32.30,2,    0.00,2,    2.22,2,   0.193,2,   0.095,2,   0.008,2,   0.0510,2,  2261.2,2,  2351.9,2,   7.5766,2,    25.00,-999.000,9,-999.0000,9,-999.000,9,   1.3524,2, -999.00,9,  -999.0,9,  -999.0,-999.000,9, -999.00,9,-999.000,9, -999.00,9, -999.00,9, -67.0001,-152.4246,-999.000,     -999.0,    34.8940,2,     -999.0,9,     -999.0,9,-999.0000,9,-999.0000,9,-999.0000,9,-999.0000,9,-999.0000,9,-999.0000,9,-999.0000,9,-999.0000,9,-999.0000,9,-999.0000,-999.000,   1.3249,     -999.0,     -999.0,9,     -999.0,9,     -999.0,9,     -999.0,9,     -999.0,20110310,       1028
320620110219,       S04P,      43,          2,         22,         22,2,20110310,       0912,   -67.0001,  -152.4246,       3555,   634.9,   1.2691,  34.7291,2,  34.7296,2,    186.1,2,   187.0,2,  105.93,2,   32.24,2,    0.00,2,    2.22,2,   0.162,6,   0.076,6,   0.007,6,   0.0600,6,  -999.0,9,  -999.0,9,-999.0000,9,  -999.00,-999.000,9,-999.0000,9,-999.000,9,   1.2695,2, -999.00,9,  -999.0,9,  -999.0,-999.000,9, -999.00,9,-999.000,9, -999.00,9, -999.00,9, -67.0001,-152.4246,-999.000,     -999.0,    34.8934,2,     -999.0,9,     -999.0,9,-999.0000,9,-999.0000,9,-999.0000,9,-999.0000,9,-999.0000,9,-999.0000,9,-999.0000,9,-999.0000,9,-999.0000,9,-999.0000,-999.000,   1.2364,     -999.0,     -999.0,9,     -999.0,9,     -999.0,9,     -999.0,9,     -999.0,20110310,       1025
320620110219,       S04P,      43,          2,         21,         21,2,20110310,       0912,   -67.0001,  -152.4246,       3555,   735.3,   1.2028,  34.7276,2,  34.7276,2,    189.1,2,   188.4,2,  107.78,2,   32.10,2,    0.00,2,    2.21,2,-999.000,9,-999.000,9,-999.000,9,-999.0000,9,  -999.0,9,  -999.0,9,-999.0000,9,  -999.00,-999.000,9,-999.0000,9,-999.000,9,   1.2018,2, -999.00,9,  -999.0,9,  -999.0,-999.000,9, -999.00,9,-999.000,9, -999.00,9, -999.00,9, -67.0001,-152.4246,-999.000,     -999.0,    34.8914,2,     -999.0,9,     -999.0,9,-999.0000,9,-999.0000,9,-999.0000,9,-999.0000,9,-999.0000,9,-999.0000,9,-999.0000,9,-999.0000,9,-999.0000,9,-999.0000,-999.000,   1.1647,     -999.0,     -999.0,9,     -999.0,9,     -999.0,9,     -999.0,9,     -999.0,20110310,       1022
320620110219,       S04P,      43,          2,         20,         20,2,20110310,       0912,   -67.0001,  -152.4246,       3555,   833.3,   1.1238,  34.7251,2,  34.7257,2,    191.7,2,   191.3,2,  109.67,2,   31.99,2,    0.00,2,    2.21,2,   0.124,2,   0.057,2,   0.006,2,   0.0780,2,  2262.7,2,  2355.6,2,   7.5839,2,    25.00,-999.000,9,-999.0000,9,-999.000,9,   1.1235,2, -999.00,9,  -999.0,9,  -999.0,-999.000,9, -999.00,9,-999.000,9, -999.00,9, -999.00,9, -67.0001,-152.4246,-999.000,     -999.0,    34.8894,2,     -999.0,9,     -999.0,9,-999.0000,9,-999.0000,9,-999.0000,9,-999.0000,9,-999.0000,9,-999.0000,9,-999.0000,9,-999.0000,9,-999.0000,9,-999.0000,-999.000,   1.0805,     -999.0,     -999.0,9,     -999.0,9,     -999.0,9,     -999.0,9,     -999.0,20110310,       1020
320620110219,       S04P,      43,          2,         19,         19,2,20110310,       0912,   -67.0001,  -152.4246,       3555,   935.3,   1.0602,  34.7231,2,  34.7241,2,    193.4,2,   192.8,2,  111.93,2,   31.93,2,    0.00,2,    2.21,2,-999.000,9,-999.000,9,-999.000,9,-999.0000,9,  -999.0,9,  -999.0,9,-999.0000,9,  -999.00,-999.000,9,-999.0000,9,-999.000,9,   1.0596,2, -999.00,9,  -999.0,9,  -999.0,-999.000,9, -999.00,9,-999.000,9, -999.00,9, -999.00,9, -67.0001,-152.4246,-999.000,     -999.0,    34.8878,2,     -999.0,9,     -999.0,9,-999.0000,9,-999.0000,9,-999.0000,9,-999.0000,9,-999.0000,9,-999.0000,9,-999.0000,9,-999.0000,9,-999.0000,9,-999.0000,-999.000,   1.0112,     -999.0,     -999.0,9,     -999.0,9,     -999.0,9,     -999.0,9,     -999.0,20110310,       1017
320620110219,       S04P,      43,          2,         18,         18,2,20110310,       0912,   -67.0001,  -152.4246,       3555,  1036.4,   1.0063,  34.7207,2,  34.7207,2,    195.9,2,   195.7,2,  112.94,2,   31.80,2,    0.00,2,    2.21,2,   0.115,2,   0.053,2,   0.007,2,   0.0480,2,  -999.0,9,  -999.0,9,-999.0000,9,  -999.00,-999.000,9,-999.0000,9,-999.000,9,   1.0061,2, -999.00,9,  -999.0,9,  -999.0,-999.000,9, -999.00,9,-999.000,9, -999.00,9, -999.00,9, -67.0001,-152.4246,-999.000,     -999.0,    34.8845,2,     -999.0,9,     -999.0,9,-999.0000,9,-999.0000,9,-999.0000,9,-999.0000,9,-999.0000,9,-999.0000,9,-999.0000,9,-999.0000,9,-999.0000,9,-999.0000,-999.000,   0.9516,     -999.0,     -999.0,9,     -999.0,9,     -999.0,9,     -999.0,9,     -999.0,20110310,       1014
320620110219,       S04P,      43,          2,         17,         17,2,20110310,       0912,   -67.0001,  -152.4246,       3555,  1134.5,   0.9394,  34.7180,2,  34.7193,2,    197.6,2,   197.2,2,  115.49,2,   31.76,2,    0.00,2,    2.21,2,-999.000,9,-999.000,9,-999.000,9,-999.0000,9,  -999.0,9,  -999.0,9,-999.0000,9,  -999.00,-999.000,9,-999.0000,9,-999.000,9,   0.9393,2, -999.00,9,  -999.0,9,  -999.0,-999.000,9, -999.00,9,-999.000,9, -999.00,9, -999.00,9, -67.0001,-152.4246,-999.000,     -999.0,    34.8830,2,     -999.0,9,     -999.0,9,-999.0000,9,-999.0000,9,-999.0000,9,-999.0000,9,-999.0000,9,-999.0000,9,-999.0000,9,-999.0000,9,-999.0000,9,-999.0000,-999.000,   0.8792,     -999.0,     -999.0,9,     -999.0,9,     -999.0,9,     -999.0,9,     -999.0,20110310,       1012
320620110219,       S04P,      43,          2,         16,         16,2,20110310,       0912,   -67.0001,  -152.4246,       3555,  1235.3,   0.8900,  34.7161,2,  34.7168,2,    198.9,2,   198.6,2,  117.07,2,   31.84,2,    0.00,2,    2.21,2,   0.117,2,   0.060,2,   0.008,2,   0.1380,2,  2262.3,2,  2358.5,2,   7.5905,2,    25.00,-999.000,9,-999.0000,9,-999.000,9,   0.8898,2, -999.00,9,  -999.0,9,  -999.0,-999.000,9, -999.00,9,-999.000,9, -999.00,9, -999.00,9, -67.0001,-152.4246,-999.000,     -999.0,    34.8805,2,     -999.0,9,     -999.0,9,-999.0000,9,-999.0000,9,-999.0000,9,-999.0000,9,-999.0000,9,-999.0000,9,-999.0000,9,-999.0000,9,-999.0000,9,-999.0000,-999.000,   0.8239,     -999.0,     -999.0,9,     -999.0,9,     -999.0,9,     -999.0,9,     -999.0,20110310,       1009
320620110219,       S04P,      43,          2,         15,         15,2,20110310,       0912,   -67.0001,  -152.4246,       3555,  1334.5,   0.8468,  34.7143,2,  34.7150,2,    199.6,2,   199.8,2,  118.74,2,   31.89,2,    0.00,2,    2.21,2,-999.000,9,-999.000,9,-999.000,9,-999.0000,9,  -999.0,9,  -999.0,9,-999.0000,9,  -999.00,-999.000,9,-999.0000,9,-999.000,9,   0.8468,2, -999.00,9,  -999.0,9,  -999.0,-999.000,9, -999.00,9,-999.000,9, -999.00,9, -999.00,9, -67.0001,-152.4246,-999.000,     -999.0,    34.8787,2,     -999.0,9,     -999.0,9,-999.0000,9,-999.0000,9,-999.0000,9,-999.0000,9,-999.0000,9,-999.0000,9,-999.0000,9,-999.0000,9,-999.0000,9,-999.0000,-999.000,   0.7747,     -999.0,     -999.0,9,     -999.0,9,     -999.0,9,     -999.0,9,     -999.0,20110310,       1006
320620110219,       S04P,      43,          2,         14,         14,2,20110310,       0912,   -67.0001,  -152.4246,       3555,  1434.7,   0.7955,  34.7125,2,  34.7130,2,    200.8,2,   201.1,2,  120.40,2,   31.81,2,    0.00,2,    2.22,2,   0.104,2,   0.052,2,   0.008,2,   0.0720,2,  -999.0,9,  -999.0,9,-999.0000,9,  -999.00,-999.000,9,-999.0000,9,-999.000,9,   0.7956,2, -999.00,9,  -999.0,9,  -999.0,-999.000,9, -999.00,9,-999.000,9, -999.00,9, -999.00,9, -67.0001,-152.4246,-999.000,     -999.0,    34.8767,2,     -999.0,9,     -999.0,9,-999.0000,9,-999.0000,9,-999.0000,9,-999.0000,9,-999.0000,9,-999.0000,9,-999.0000,9,-999.0000,9,-999.0000,9,-999.0000,-999.000,   0.7174,     -999.0,     -999.0,9,     -999.0,9,     -999.0,9,     -999.0,9,     -999.0,20110310,       1003