BOTTLE,20220813CCHSIOAMB
EXPOCODE,SECT_ID,STNNBR,CASTNO,SAMPNO,BTLNBR,BTLNBR_FLAG_W,DATE,TIME,LATITUDE,LONGITUDE,DEPTH,CTDPRS,CTDTMP,CTDSAL,CTDSAL_FLAG_W,SALNTY,SALNTY_FLAG_W,CTDOXY,CTDOXY_FLAG_W,OXYGEN,OXYGEN_FLAG_W,SILCAT,SILCAT_FLAG_W,NITRAT,NITRAT_FLAG_W,NITRIT,NITRIT_FLAG_W,PHSPHT,PHSPHT_FLAG_W,CFC-11,CFC-11_FLAG_W,CFC-12,CFC-12_FLAG_W,CFC113,CFC113_FLAG_W,SF6,SF6_FLAG_W,TCARBN,TCARBN_FLAG_W,ALKALI,ALKALI_FLAG_W,PH_TOT,PH_TOT_FLAG_W,PH_TMP,TRITUM,TRITUM_FLAG_W,HELIUM,HELIUM_FLAG_W,DELHE3,DELHE3_FLAG_W,REFTMP,REFTMP_FLAG_W,DELC13,DELC13_FLAG_W,DELC14,DELC14_FLAG_W,C14ERR,NEON,NEON_FLAG_W,DELO18,DELO18_FLAG_W,POC,POC_FLAG_W,DOC,DOC_FLAG_W,TDN,TDN_FLAG_W,BTL_LAT,BTL_LON,TRITER,NEONER,SALTREF,SALTREF_FLAG_W,PIGMENTS,PIGMENTS_FLAG_W,LAB_DEN,LAB_DEN_FLAG_W,CDOM325,CDOM325_FLAG_W,CDOM340,CDOM340_FLAG_W,CDOM380,CDOM380_FLAG_W,CDOM412,CDOM412_FLAG_W,CDOM443,CDOM443_FLAG_W,CDOM490,CDOM490_FLAG_W,CDOM555,CDOM555_FLAG_W,CDOMSL,CDOMSL_FLAG_W,CDOMSN,CDOMSN_FLAG_W,HELIER,DELHER,THETA,LDEO_SAMPNO,ABSORBTION,ABSORBTION_FLAG_W,IMAGE_COUNT,IMAGE_COUNT_FLAG_W,CYTO_COUNT,CYTO_COUNT_FLAG_W,DELD,DELD_FLAG_W,DELDERR,BTL_DATE,BTL_TIME
,,,,,,,,,,,METERS,DBAR,ITS-90,PSS-78,,PSS-78,,UMOL/KG,,UMOL/KG,,UMOL/KG,,UMOL/KG,,UMOL/KG,,UMOL/KG,,PMOL/KG,,PMOL/KG,,PMOL/KG,,FMOL/KG,,UMOL/KG,,UMOL/KG,,,,DEG C,TU,,NMOL/KG,,PERCNT,,DEG C,,/MILLE,,/MILLE,,/MILLE,NMOL/KG,,/MILLE,,UG/KG,,UMOL/KG,,UMOL/KG,,,,TU,NMOL/KG,G/KG,,,,,,1/M,,1/M,,1/M,,1/M,,1/M,,1/M,,1/M,,1/NM,,1/NM,,NMOL/KG,PERCNT,DEG C,,,,,,,,/MILLE,,/MILLE,,
320620110219,       S04P,      31,          1,         36,         36,2,20110306,       1452,   -67.0002,  -167.7823,       3701,     5.8,  -0.8600,  33.7513,2,  33.7520,2,    340.2,3,   344.5,2,   58.77,2,   25.53,2,    0.14,2,    1.73,2,   5.996,2,   3.299,2,   0.594,2,   2.4380,2,  2161.9,2,  2285.8,2,   7.6801,2,    25.00,-999.000,9,-999.0000,9,-999.000,9,  -0.8585,2, -999.00,9,  -999.0,9,  -999.0,-999.000,9, -999.00,9,-999.000,9, -999.00,9, -999.00,9, -67.0002,-167.7823,-999.000,     -999.0,    33.9112,2,     -999.0,9,     -999.0,9,-999.0000,9,-999.0000,9,-999.0000,9,-999.0000,9,-999.0000,9,-999.0000,9,-999.0000,9,-999.0000,9,-999.0000,9,-999.0000,-999.000,  -0.8602,     -999.0,     -999.0,9,     -999.0,9,     -999.0,9,     -999.0,9,     -999.0,20110306,       1644
320620110219,       S04P,      31,          1,         35,         35,2,20110306,       1452,   -67.0002,  -167.7823,       3701,    34.2,  -0.8628,  33.7535,2,  33.7540,2,    344.0,2,   344.3,2,   58.70,2,   25.50,2,    0.14,2,    1.74,2,   5.961,2,   3.309,2,   0.568,2,   2.1520,2,  2162.2,2,  2285.0,6,   7.6780,2,    25.00,-999.000,9,-999.0000,9,-999.000,9,  -0.8630,2, -999.00,9,  -999.0,9,  -999.0,-999.000,9, -999.00,9,-999.000,9, -999.00,9, -999.00,9, -67.0002,-167.7823,-999.000,     -999.0,    33.9132,2,     -999.0,9,     -999.0,9,-999.0000,9,-999.0000,9,-999.0000,9,-999.0000,9,-999.0000,9,-999.0000,9,-999.0000,9,-999.0000,9,-999.0000,9,-999.0000,-999.000,  -0.8637,     -999.0,     -999.0,9,     -999.0,9,     -999.0,9,     -999.0,9,     -999.0,20110306,       1642
320620110219,       S04P,      31,          1,         34,         34,2,20110306,       1452,   -67.0002,  -167.7823,       3701,    58.6,  -1.7406,  34.2909,3,  34.2358,2,    279.1,2,   291.5,2,   66.21,2,   29.02,2,    0.16,2,    2.00,2,   4.362,2,   2.402,2,   0.416,2,   1.4500,2,  2206.7,6,  2314.3,2,   7.6233,2,    25.00,-999.000,9,-999.0000,9,-999.000,9,  -1.7414,2, -999.00,9,  -999.0,9,  -999.0,-999.000,9, -999.00,9,-999.000,9, -999.00,9, -999.00,9, -67.0002,-167.7823,-999.000,     -999.0,    34.3972,2,     -999.0,9,     -999.0,9,-999.0000,9,-999.0000,9,-999.0000,9,-999.0000,9,-999.0000,9,-999.0000,9,-999.0000,9,-999.0000,9,-999.0000,9,-999.0000,-999.000,  -1.7418,     -999.0,     -999.0,9,     -999.0,9,     -999.0,9,     -999.0,9,     -999.0,20110306,       1640
320620110219,       S04P,      31,          1,         33,         33,2,20110306,       1452,   -67.0002,  -167.7823,       3701,    85.5,  -1.6472,  34.3244,2,  34.3220,2,    272.3,2,   277.1,2,   67.73,2,   30.02,2,    0.09,2,    2.05,2,   4.035,2,   2.205,2,   0.373,2,   1.3550,2,  2214.6,2,  2319.8,2,   7.6086,2,    25.00,-999.000,9,-999.0000,9,-999.000,9,  -1.6435,2, -999.00,9,  -999.0,9,  -999.0,-999.000,9, -999.00,9,-999.000,9, -999.00,9, -999.00,9, -67.0002,-167.7823,-999.000,     -999.0,    34.4838,2,     -999.0,9,     -999.0,9,-999.0000,9,-999.0000,9,-999.0000,9,-999.0000,9,-999.0000,9,-999.0000,9,-999.0000,9,-999.0000,9,-999.0000,9,-999.0000,-999.000,  -1.6490,     -999.0,     -999.0,9,     -999.0,9,     -999.0,9,     -999.0,9,     -999.0,20110306,       1638
320620110219,       S04P,      31,          1,         32,         32,2,20110306,       1452,   -67.0002,  -167.7823,       3701,   109.8,  -0.1200,  34.4832,2,  34.4748,2,    228.3,2,   231.0,2,   78.29,2,   31.52,2,    0.02,2,    2.17,2,   2.486,2,   1.351,2,   0.210,2,   0.7760,2,  2232.4,2,  2329.9,2,   7.5810,2,    25.00,-999.000,9,-999.0000,9,-999.000,9,  -0.1379,2, -999.00,9,  -999.0,9,  -999.0,-999.000,9, -999.00,9,-999.000,9, -999.00,9, -999.00,9, -67.0002,-167.7823,-999.000,     -999.0,    34.6374,2,     -999.0,9,     -999.0,9,-999.0000,9,-999.0000,9,-999.0000,9,-999.0000,9,-999.0000,9,-999.0000,9,-999.0000,9,-999.0000,9,-999.0000,9,-999.0000,-999.000,  -0.1238,     -999.0,     -999.0,9,     -999.0,9,     -999.0,9,     -999.0,9,     -999.0,20110306,       1637
320620110219,       S04P,      31,          1,         31,         31,2,20110306,       1452,   -67.0002,  -167.7823,       3701,   136.2,   0.7876,  34.5898,2,  34.5934,2,    204.5,2,   201.7,2,   84.44,2,   32.41,2,    0.01,2,    2.22,2,-999.000,9,-999.000,9,-999.000,9,-999.0000,9,  2245.4,2,  2335.7,2,   7.5643,2,    25.00,-999.000,9,-999.0000,9,-999.000,9,   0.7729,2, -999.00,9,  -999.0,9,  -999.0,-999.000,9, -999.00,9,-999.000,9, -999.00,9, -999.00,9, -67.0002,-167.7823,-999.000,     -999.0,    34.7566,2,     -999.0,9,     -999.0,9,-999.0000,9,-999.0000,9,-999.0000,9,-999.0000,9,-999.0000,9,-999.0000,9,-999.0000,9,-999.0000,9,-999.0000,9,-999.0000,-999.000,   0.7818,     -999.0,     -999.0,9,     -999.0,9,     -999.0,9,     -999.0,9,     -999.0,20110306,       1635
320620110219,       S04P,      31,          1,         30,         30,2,20110306,       1452,   -67.0002,  -167.7823,       3701,   164.9,   1.1094,  34.6350,2,  34.6336,2,    194.3,2,   193.9,2,   87.36,2,   32.50,2,    0.01,2,    2.23,2,   1.039,2,   0.546,2,   0.080,2,   0.2460,2,  2250.1,2,  2339.5,2,   7.5668,2,    25.00,-999.000,9,-999.0000,9,-999.000,9,   1.1065,2, -999.00,9,  -999.0,9,  -999.0,-999.000,9, -999.00,9,-999.000,9, -999.00,9, -999.00,9, -67.0002,-167.7823,-999.000,     -999.0,    34.7970,2,     -999.0,9,     -999.0,9,-999.0000,9,-999.0000,9,-999.0000,9,-999.0000,9,-999.0000,9,-999.0000,9,-999.0000,9,-999.0000,9,-999.0000,9,-999.0000,-999.000,   1.1018,     -999.0,     -999.0,9,     -999.0,9,     -999.0,9,     -999.0,9,     -999.0,20110306,       1634
320620110219,       S04P,      31,          1,         29,         29,2,20110306,       1452,   -67.0002,  -167.7823,       3701,   215.8,   1.4097,  34.6876,2,  34.6874,2,    186.1,2,   186.5,2,   90.70,2,   32.42,2,    0.00,2,    2.23,2,-999.000,9,-999.000,9,-999.000,9,-999.0000,9,  2252.9,2,  2344.2,2,   7.5717,2,    25.00,-999.000,9,-999.0000,9,-999.000,9,   1.4089,2, -999.00,9,  -999.0,9,  -999.0,-999.000,9, -999.00,9,-999.000,9, -999.00,9, -999.00,9, -67.0002,-167.7823,-999.000,     -999.0,    34.8510,2,     -999.0,9,     -999.0,9,-999.0000,9,-999.0000,9,-999.0000,9,-999.0000,9,-999.0000,9,-999.0000,9,-999.0000,9,-999.0000,9,-999.0000,9,-999.0000,-999.000,   1.3991,     -999.0,     -999.0,9,     -999.0,9,     -999.0,9,     -999.0,9,     -999.0,20110306,       1632
320620110219,       S04P,      31,          1,         28,         28,2,20110306,       1452,   -67.0002,  -167.7823,       3701,   266.0,   1.5055,  34.7159,2,  34.7153,2,    185.6,2,   185.7,2,   93.67,2,   32.04,2,    0.00,2,    2.22,2,   0.398,2,   0.199,2,   0.027,2,   0.0940,2,  2253.2,2,  2346.3,2,   7.5765,4,    25.00,-999.000,9,-999.0000,9,-999.000,9,   1.5055,2, -999.00,9,  -999.0,9,  -999.0,-999.000,9, -999.00,9,-999.000,9, -999.00,9, -999.00,9, -67.0002,-167.7823,-999.000,     -999.0,    34.8790,2,     -999.0,9,     -999.0,9,-999.0000,9,-999.0000,9,-999.0000,9,-999.0000,9,-999.0000,9,-999.0000,9,-999.0000,9,-999.0000,9,-999.0000,9,-999.0000,-999.000,   1.4921,     -999.0,     -999.0,9,     -999.0,9,     -999.0,9,     -999.0,9,     -999.0,20110306,       1630
320620110219,       S04P,      31,          1,         27,         27,2,20110306,       1452,   -67.0002,  -167.7823,       3701,   315.5,   1.4798,  34.7245,2,  34.7249,2,    183.5,2,   184.8,2,   96.43,2,   32.14,2,    0.00,2,    2.23,2,-999.000,9,-999.000,9,-999.000,9,-999.0000,9,  2254.1,2,  2348.7,2,   7.5783,4,    25.00,-999.000,9,-999.0000,9,-999.000,9,   1.4798,2, -999.00,9,  -999.0,9,  -999.0,-999.000,9, -999.00,9,-999.000,9, -999.00,9, -999.00,9, -67.0002,-167.7823,-999.000,     -999.0,    34.8886,2,     -999.0,9,     -999.0,9,-999.0000,9,-999.0000,9,-999.0000,9,-999.0000,9,-999.0000,9,-999.0000,9,-999.0000,9,-999.0000,9,-999.0000,9,-999.0000,-999.000,   1.4639,     -999.0,     -999.0,9,     -999.0,9,     -999.0,9,     -999.0,9,     -999.0,20110306,       1627
320620110219,       S04P,      31,          1,         26,         26,2,20110306,       1452,   -67.0002,  -167.7823,       3701,   363.6,   1.4412,  34.7272,2,  34.7264,2,    186.7,2,   187.1,2,   97.75,2,   32.06,2,    0.00,2,    2.21,2,   0.305,2,   0.152,2,   0.024,2,   0.1210,2,  2254.9,2,  2350.1,2,   7.5834,4,    25.00,-999.000,9,-999.0000,9,-999.000,9,   1.4410,2, -999.00,9,  -999.0,9,  -999.0,-999.000,9, -999.00,9,-999.000,9, -999.00,9, -999.00,9, -67.0002,-167.7823,-999.000,     -999.0,    34.8902,2,     -999.0,9,     -999.0,9,-999.0000,9,-999.0000,9,-999.0000,9,-999.0000,9,-999.0000,9,-999.0000,9,-999.0000,9,-999.0000,9,-999.0000,9,-999.0000,-999.000,   1.4228,     -999.0,     -999.0,9,     -999.0,9,     -999.0,9,     -999.0,9,     -999.0,20110306,       1625
320620110219,       S04P,      31,          1,         25,         25,2,20110306,       1452,   -67.0002,  -167.7823,       3701,   416.0,   1.3993,  34.7285,2,  34.7296,2,    187.6,2,   187.4,2,   99.52,2,   32.07,2,    0.00,2,    2.21,2,-999.000,9,-999.000,9,-999.000,9,-999.0000,9,  2256.2,2,  2351.0,2,   7.5813,4,    25.00,-999.000,9,-999.0000,9,-999.000,9,   1.3990,2, -999.00,9,  -999.0,9,  -999.0,-999.000,9, -999.00,9,-999.000,9, -999.00,9, -999.00,9, -67.0002,-167.7823,-999.000,     -999.0,    34.8934,2,     -999.0,9,     -999.0,9,-999.0000,9,-999.0000,9,-999.0000,9,-999.0000,9,-999.0000,9,-999.0000,9,-999.0000,9,-999.0000,9,-999.0000,9,-999.0000,-999.000,   1.3782,     -999.0,     -999.0,9,     -999.0,9,     -999.0,9,     -999.0,9,     -999.0,20110306,       1623
320620110219,       S04P,      31,          1,         24,         24,2,20110306,       1452,   -67.0002,  -167.7823,       3701,   465.1,   1.3669,  34.7287,2,  34.7296,2,    187.7,2,   188.7,2,  100.99,2,   32.10,2,    0.00,2,    2.21,2,   0.225,2,   0.108,2,   0.016,2,   0.0620,2,  2256.2,2,  2350.7,2,   7.5839,4,    25.00,-999.000,9,-999.0000,9,-999.000,9,   1.3666,2, -999.00,9,  -999.0,9,  -999.0,-999.000,9, -999.00,9,-999.000,9, -999.00,9, -999.00,9, -67.0002,-167.7823,-999.000,     -999.0,    34.8934,2,     -999.0,9,     -999.0,9,-999.0000,9,-999.0000,9,-999.0000,9,-999.0000,9,-999.0000,9,-999.0000,9,-999.0000,9,-999.0000,9,-999.0000,9,-999.0000,-999.000,   1.3432,     -999.0,     -999.0,9,     -999.0,9,     -999.0,9,     -999.0,9,     -999.0,20110306,       1621
320620110219,       S04P,      31,          1,         23,         23,2,20110306,       1452,   -67.0002,  -167.7823,       3701,   536.4,   1.3077,  34.7286,2,  34.7290,2,    188.1,2,   188.8,2,  103.27,2,   32.14,2,    0.00,2,    2.22,2,-999.000,9,-999.000,9,-999.000,9,-999.0000,9,  2256.3,2,  2351.2,2,   7.5851,2,    25.00,-999.000,9,-999.0000,9,-999.000,9,   1.3071,2, -999.00,9,  -999.0,9,  -999.0,-999.000,9, -999.00,9,-999.000,9, -999.00,9, -999.00,9, -67.0002,-167.7823,-999.000,     -999.0,    34.8928,2,     -999.0,9,     -999.0,9,-999.0000,9,-999.0000,9,-999.0000,9,-999.0000,9,-999.0000,9,-999.0000,9,-999.0000,9,-999.0000,9,-999.0000,9,-999.0000,-999.000,   1.2804,     -999.0,     -999.0,9,     -999.0,9,     -999.0,9,     -999.0,9,     -999.0,20110306,       1618
320620110219,       S04P,      31,          1,         22,         22,2,20110306,       1452,   -67.0002,  -167.7823,       3701,   634.6,   1.2437,  34.7281,2,  34.7274,2,    190.1,2,   188.8,2,  106.47,2,   32.30,2,    0.00,2,    2.23,2,   0.145,2,   0.076,2,   0.008,2,   0.0450,2,  2256.6,6,  2358.5,4,   7.5835,2,    25.00,-999.000,9,-999.0000,9,-999.000,9,   1.2440,2, -999.00,9,  -999.0,9,  -999.0,-999.000,9, -999.00,9,-999.000,9, -999.00,9, -999.00,9, -67.0002,-167.7823,-999.000,     -999.0,    34.8912,2,     -999.0,9,     -999.0,9,-999.0000,9,-999.0000,9,-999.0000,9,-999.0000,9,-999.0000,9,-999.0000,9,-999.0000,9,-999.0000,9,-999.0000,9,-999.0000,-999.000,   1.2111,     -999.0,     -999.0,9,     -999.0,9,     -999.0,9,     -999.0,9,     -999.0,20110306,       1616
320620110219,       S04P,      31,          1,         21,         21,2,20110306,       1452,   -67.0002,  -167.7823,       3701,   733.8,   1.1584,  34.7256,2,  34.7261,2,    191.5,2,   191.6,2,  108.07,2,   32.21,2,    0.00,2,    2.21,2,-999.000,9,-999.000,9,-999.000,9,-999.0000,9,  -999.0,9,  -999.0,9,-999.0000,9,  -999.00,-999.000,9,-999.0000,9,-999.000,9,   1.1583,2, -999.00,9,  -999.0,9,  -999.0,-999.000,9, -999.00,9,-999.000,9, -999.00,9, -999.00,9, -67.0002,-167.7823,-999.000,     -999.0,    34.8898,2,     -999.0,9,     -999.0,9,-999.0000,9,-999.0000,9,-999.0000,9,-999.0000,9,-999.0000,9,-999.0000,9,-999.0000,9,-999.0000,9,-999.0000,9,-999.0000,-999.000,   1.1206,     -999.0,     -999.0,9,     -999.0,9,     -999.0,9,     -999.0,9,     -999.0,20110306,       1613
320620110219,       S04P,      31,          1,         20,         20,2,20110306,       1452,   -67.0002,  -167.7823,       3701,   835.7,   1.0899,  34.7233,2,  34.7239,2,    193.3,2,   194.4,2,  110.20,2,   32.16,2,    0.00,2,    2.22,2,   0.129,2,   0.066,2,   0.008,2,   0.1120,2,  2256.1,2,  2356.0,6,   7.5913,2,    25.00,-999.000,9,-999.0000,9,-999.000,9,   1.0901,2, -999.00,9,  -999.0,9,  -999.0,-999.000,9, -999.00,9,-999.000,9, -999.00,9, -999.00,9, -67.0002,-167.7823,-999.000,     -999.0,    34.8876,2,     -999.0,9,     -999.0,9,-999.0000,9,-999.0000,9,-999.0000,9,-999.0000,9,-999.0000,9,-999.0000,9,-999.0000,9,-999.0000,9,-999.0000,9,-999.0000,-999.000,   1.0466,     -999.0,     -999.0,9,     -999.0,9,     -999.0,9,     -999.0,9,     -999.0,20110306,       1610
320620110219,       S04P,      31,          1,         19,         19,2,20110306,       1452,   -67.0002,  -167.7823,       3701,   935.4,   1.0297,  34.7212,2,  34.7227,2,    195.9,2,   196.0,2,  112.37,2,   32.13,2,    0.00,2,    2.23,2,-999.000,9,-999.000,9,-999.000,9,-999.0000,9,  -999.0,9,  -999.0,9,-999.0000,9,  -999.00,-999.000,9,-999.0000,9,-999.000,9,   1.0293,2, -999.00,9,  -999.0,9,  -999.0,-999.000,9, -999.00,9,-999.000,9, -999.00,9, -999.00,9, -67.0002,-167.7823,-999.000,     -999.0,    34.8865,2,     -999.0,9,     -999.0,9,-999.0000,9,-999.0000,9,-999.0000,9,-999.0000,9,-999.0000,9,-999.0000,9,-999.0000,9,-999.0000,9,-999.0000,9,-999.0000,-999.000,   0.9810,     -999.0,     -999.0,9,     -999.0,9,     -999.0,9,     -999.0,9,     -999.0,20110306,       1607
320620110219,       S04P,      31,          1,         18,         18,2,20110306,       1452,   -67.0002,  -167.7823,       3701,  1033.8,   0.9666,  34.7187,2,  34.7200,2,    197.7,2,   197.8,2,  113.73,2,   32.11,2,    0.00,2,    2.23,2,   0.121,2,   0.058,2,   0.007,2,   0.0900,2,  2255.6,2,  2357.7,2,   7.5946,2,    25.00,-999.000,9,-999.0000,9,-999.000,9,   0.9663,2, -999.00,9,  -999.0,9,  -999.0,-999.000,9, -999.00,9,-999.000,9, -999.00,9, -999.00,9, -67.0002,-167.7823,-999.000,     -999.0,    34.8837,2,     -999.0,9,     -999.0,9,-999.0000,9,-999.0000,9,-999.0000,9,-999.0000,9,-999.0000,9,-999.0000,9,-999.0000,9,-999.0000,9,-999.0000,9,-999.0000,-999.000,   0.9124,     -999.0,     -999.0,9,     -999.0,9,     -999.0,9,     -999.0,9,     -999.0,20110306,       1604
320620110219,       S04P,      31,          1,         17,         17,2,20110306,       1452,   -67.0002,  -167.7823,       3701,  1136.1,   0.9035,  34.7161,2,  34.7166,2,    199.4,2,   199.3,2,  115.67,2,   32.09,2,    0.00,2,    2.24,2,-999.000,9,-999.000,9,-999.000,9,-999.0000,9,  -999.0,9,  -999.0,9,-999.0000,9,  -999.00,-999.000,9,-999.0000,9,-999.000,9,   0.9036,2, -999.00,9,  -999.0,9,  -999.0,-999.000,9, -999.00,9,-999.000,9, -999.00,9, -999.00,9, -67.0002,-167.7823,-999.000,     -999.0,    34.8803,2,     -999.0,9,     -999.0,9,-999.0000,9,-999.0000,9,-999.0000,9,-999.0000,9,-999.0000,9,-999.0000,9,-999.0000,9,-999.0000,9,-999.0000,9,-999.0000,-999.000,   0.8435,     -999.0,     -999.0,9,     -999.0,9,     -999.0,9,     -999.0,9,     -999.0,20110306,       1601
320620110219,       S04P,      31,          1,         16,         16,2,20110306,       1452,   -67.0002,  -167.7823,       3701,  1235.8,   0.8493,  34.7140,2,  34.7139,2,    200.9,2,   200.6,2,  117.42,2,   32.30,2,    0.00,2,    2.24,2,   0.124,2,   0.064,2,   0.006,2,   0.0770,2,  2256.1,2,  2358.6,2,   7.5947,2,    25.00,-999.000,9,-999.0000,9,-999.000,9,   0.8493,2, -999.00,9,  -999.0,9,  -999.0,-999.000,9, -999.00,9,-999.000,9, -999.00,9, -999.00,9, -67.0002,-167.7823,-999.000,     -999.0,    34.8776,2,     -999.0,9,     -999.0,9,-999.0000,9,-999.0000,9,-999.0000,9,-999.0000,9,-999.0000,9,-999.0000,9,-999.0000,9,-999.0000,9,-999.0000,9,-999.0000,-999.000,   0.7836,     -999.0,     -999.0,9,     -999.0,9,     -999.0,9,     -999.0,9,     -999.0,20110306,       1558
320620110219,       S04P,      31,          1,         15,         15,2,20110306,       1452,   -67.0002,  -167.7823,       3701,  1335.0,   0.8010,  34.7120,2,  34.7129,2,    201.8,2,   202.0,2,  118.68,2,   32.31,2,    0.00,2,    2.24,2,-999.000,9,-999.000,9,-999.000,9,-999.0000,9,  -999.0,9,  -999.0,9,-999.0000,9,  -999.00,-999.000,9,-999.0000,9,-999.000,9,   0.8007,2, -999.00,9,  -999.0,9,  -999.0,-999.000,9, -999.00,9,-999.000,9, -999.00,9, -999.00,9, -67.0002,-167.7823,-999.000,     -999.0,    34.8766,2,     -999.0,9,     -999.0,9,-999.0000,9,-999.0000,9,-999.0000,9,-999.0000,9,-999.0000,9,-999.0000,9,-999.0000,9,-999.0000,9,-999.0000,9,-999.0000,-999.000,   0.7294,     -999.0,     -999.0,9,     -999.0,9,     -999.0,9,     -999.0,9,     -999.0,20110306,       1555
320620110219,       S04P,      31,          1,         14,         14,2,20110306,       1452,   -67.0002,  -167.7823,       3701,  1434.7,   0.7523,  34.7098,2,  34.7102,2,    203.4,2,   203.6,2,  119.88,2,   32.28,2,    0.00,2,    2.24,2,   0.163,2,   0.082,2,   0.009,2,   0.0830,2,  2256.6,2,  2360.1,2,   7.5995,2,    25.00,-999.000,9,-999.0000,9,-999.000,9,   0.7518,2, -999.00,9,  -999.0,9,  -999.0,-999.000,9, -999.00,9,-999.000,9, -999.00,9, -999.00,9, -67.0002,-167.7823,-999.000,     -999.0,    34.8738,2,     -999.0,9,     -999.0,9,-999.0000,9,-999.0000,9,-999.0000,9,-999.0000,9,-999.0000,9,-999.0000,9,-999.0000,9,-999.0000,9,-999.0000,9,-999.0000,-999.000,   0.6747,     -999.0,     -999.0,9,     -999.0,9,     -999.0,9,     -999.0,9,     -999.0,20110306,       1552