BOTTLE,20220813CCHSIOAMB
EXPOCODE,SECT_ID,STNNBR,CASTNO,SAMPNO,BTLNBR,BTLNBR_FLAG_W,DATE,TIME,LATITUDE,LONGITUDE,DEPTH,CTDPRS,CTDTMP,CTDSAL,CTDSAL_FLAG_W,SALNTY,SALNTY_FLAG_W,CTDOXY,CTDOXY_FLAG_W,OXYGEN,OXYGEN_FLAG_W,SILCAT,SILCAT_FLAG_W,NITRAT,NITRAT_FLAG_W,NITRIT,NITRIT_FLAG_W,PHSPHT,PHSPHT_FLAG_W,CFC-11,CFC-11_FLAG_W,CFC-12,CFC-12_FLAG_W,CFC113,CFC113_FLAG_W,SF6,SF6_FLAG_W,TCARBN,TCARBN_FLAG_W,ALKALI,ALKALI_FLAG_W,PH_TOT,PH_TOT_FLAG_W,PH_TMP,TRITUM,TRITUM_FLAG_W,HELIUM,HELIUM_FLAG_W,DELHE3,DELHE3_FLAG_W,REFTMP,REFTMP_FLAG_W,DELC13,DELC13_FLAG_W,DELC14,DELC14_FLAG_W,C14ERR,NEON,NEON_FLAG_W,DELO18,DELO18_FLAG_W,POC,POC_FLAG_W,DOC,DOC_FLAG_W,TDN,TDN_FLAG_W,BTL_LAT,BTL_LON,TRITER,NEONER,SALTREF,SALTREF_FLAG_W,PIGMENTS,PIGMENTS_FLAG_W,LAB_DEN,LAB_DEN_FLAG_W,CDOM325,CDOM325_FLAG_W,CDOM340,CDOM340_FLAG_W,CDOM380,CDOM380_FLAG_W,CDOM412,CDOM412_FLAG_W,CDOM443,CDOM443_FLAG_W,CDOM490,CDOM490_FLAG_W,CDOM555,CDOM555_FLAG_W,CDOMSL,CDOMSL_FLAG_W,CDOMSN,CDOMSN_FLAG_W,HELIER,DELHER,THETA,LDEO_SAMPNO,ABSORBTION,ABSORBTION_FLAG_W,IMAGE_COUNT,IMAGE_COUNT_FLAG_W,CYTO_COUNT,CYTO_COUNT_FLAG_W,DELD,DELD_FLAG_W,DELDERR,BTL_DATE,BTL_TIME
,,,,,,,,,,,METERS,DBAR,ITS-90,PSS-78,,PSS-78,,UMOL/KG,,UMOL/KG,,UMOL/KG,,UMOL/KG,,UMOL/KG,,UMOL/KG,,PMOL/KG,,PMOL/KG,,PMOL/KG,,FMOL/KG,,UMOL/KG,,UMOL/KG,,,,DEG C,TU,,NMOL/KG,,PERCNT,,DEG C,,/MILLE,,/MILLE,,/MILLE,NMOL/KG,,/MILLE,,UG/KG,,UMOL/KG,,UMOL/KG,,,,TU,NMOL/KG,G/KG,,,,,,1/M,,1/M,,1/M,,1/M,,1/M,,1/M,,1/M,,1/NM,,1/NM,,NMOL/KG,PERCNT,DEG C,,,,,,,,/MILLE,,/MILLE,,
320620110219,       P16S,      50,          1,         13,         13,2,20110312,       1754,   -69.4891,  -150.0009,       4359,  1564.4,   0.7450,  34.7102,2,  34.7114,2,    202.7,2,   202.6,2,  120.78,2,   32.08,2,    0.00,2,    2.22,2,-999.000,9,-999.000,9,-999.000,9,-999.0000,9,  -999.0,9,  -999.0,9,-999.0000,9,  -999.00,-999.000,9,-999.0000,9,-999.000,9,   0.7448,2, -999.00,9,  -999.0,9,  -999.0,-999.000,9, -999.00,9,-999.000,9,   39.15,2,   34.78,2, -69.4891,-150.0009,-999.000,     -999.0,    34.8751,2,     -999.0,9,     -999.0,9,-999.0000,9,-999.0000,9,-999.0000,9,-999.0000,9,-999.0000,9,-999.0000,9,-999.0000,9,-999.0000,9,-999.0000,9,-999.0000,-999.000,   0.6588,     -999.0,     -999.0,9,     -999.0,9,     -999.0,9,     -999.0,9,     -999.0,20110312,       1858
320620110219,       P16S,      50,          1,         12,         12,2,20110312,       1754,   -69.4891,  -150.0009,       4359,  1734.3,   0.6858,  34.7080,2,  34.7081,2,    203.7,2,   203.7,2,  122.82,2,   32.06,2,    0.00,2,    2.22,2,   0.122,2,   0.062,2,   0.004,2,   0.0450,2,  2261.8,2,  2359.9,2,   7.5944,2,    25.00,-999.000,9,-999.0000,9,-999.000,9,   0.6861,2, -999.00,9,  -999.0,9,  -999.0,-999.000,9, -999.00,9,-999.000,9,   39.15,2,   34.67,2, -69.4891,-150.0009,-999.000,     -999.0,    34.8718,2,     -999.0,9,     -999.0,9,-999.0000,9,-999.0000,9,-999.0000,9,-999.0000,9,-999.0000,9,-999.0000,9,-999.0000,9,-999.0000,9,-999.0000,9,-999.0000,-999.000,   0.5885,     -999.0,     -999.0,9,     -999.0,9,     -999.0,9,     -999.0,9,     -999.0,20110312,       1854
320620110219,       P16S,      50,          1,         11,         11,2,20110312,       1754,   -69.4891,  -150.0009,       4359,  1934.4,   0.6101,  34.7059,2,  34.7063,2,    205.4,2,   205.5,2,  124.05,2,   32.04,2,    0.00,2,    2.23,2,-999.000,9,-999.000,9,-999.000,9,-999.0000,9,  -999.0,9,  -999.0,9,-999.0000,9,  -999.00,-999.000,9,-999.0000,9,-999.000,9,   0.6104,2, -999.00,9,  -999.0,9,  -999.0,-999.000,9, -999.00,9,-999.000,9,   39.52,2,   34.84,2, -69.4891,-150.0009,-999.000,     -999.0,    34.8700,2,     -999.0,9,     -999.0,9,-999.0000,9,-999.0000,9,-999.0000,9,-999.0000,9,-999.0000,9,-999.0000,9,-999.0000,9,-999.0000,9,-999.0000,9,-999.0000,-999.000,   0.4996,     -999.0,     -999.0,9,     -999.0,9,     -999.0,9,     -999.0,9,     -999.0,20110312,       1849
320620110219,       P16S,      50,          1,         10,         37,2,20110312,       1754,   -69.4891,  -150.0009,       4359,  2164.9,   0.5273,  34.7044,2,  34.7045,2,    207.3,2,   207.5,2,  125.62,2,   32.01,2,    0.00,2,    2.23,2,-999.000,9,-999.000,9,-999.000,9,-999.0000,9,  -999.0,9,  -999.0,9,-999.0000,9,  -999.00,-999.000,9,-999.0000,9,-999.000,9,   0.5272,2, -999.00,9,  -999.0,9,  -999.0,-999.000,9, -999.00,9,-999.000,9,   39.87,2,   34.78,2, -69.4891,-150.0009,-999.000,     -999.0,    34.8682,2,     -999.0,9,     -999.0,9,-999.0000,9,-999.0000,9,-999.0000,9,-999.0000,9,-999.0000,9,-999.0000,9,-999.0000,9,-999.0000,9,-999.0000,9,-999.0000,-999.000,   0.4009,     -999.0,     -999.0,9,     -999.0,9,     -999.0,9,     -999.0,9,     -999.0,20110312,       1844
320620110219,       P16S,      50,          1,          9,          9,2,20110312,       1754,   -69.4891,  -150.0009,       4359,  2415.4,   0.4444,  34.7036,2,  34.7030,2,    209.2,2,   209.1,2,  127.03,2,   31.98,2,    0.00,2,    2.23,2,-999.000,9,-999.000,9,-999.000,9,-999.0000,9,  -999.0,9,  -999.0,9,-999.0000,9,  -999.00,-999.000,9,-999.0000,9,-999.000,9,   0.4441,2, -999.00,9,  -999.0,9,  -999.0,-999.000,9, -999.00,9,-999.000,9,   40.03,2,   35.00,2, -69.4891,-150.0009,-999.000,     -999.0,    34.8666,2,     -999.0,9,     -999.0,9,-999.0000,9,-999.0000,9,-999.0000,9,-999.0000,9,-999.0000,9,-999.0000,9,-999.0000,9,-999.0000,9,-999.0000,9,-999.0000,-999.000,   0.2999,     -999.0,     -999.0,9,     -999.0,9,     -999.0,9,     -999.0,9,     -999.0,20110312,       1839
320620110219,       P16S,      50,          1,          8,          8,2,20110312,       1754,   -69.4891,  -150.0009,       4359,  2665.1,   0.3712,  34.7029,2,  34.7024,2,    211.1,2,   211.1,2,  129.03,2,   32.50,3,    0.00,2,    2.23,2,   0.152,2,   0.075,2,   0.009,2,   0.0420,2,  2262.9,2,  2360.7,2,   7.5951,2,    25.00,-999.000,9,-999.0000,9,-999.000,9,   0.3716,2, -999.00,9,  -999.0,9,  -999.0,-999.000,9, -999.00,9,-999.000,9,   40.22,2,   34.82,2, -69.4891,-150.0008,-999.000,     -999.0,    34.8660,2,     -999.0,9,     -999.0,9,-999.0000,9,-999.0000,9,-999.0000,9,-999.0000,9,-999.0000,9,-999.0000,9,-999.0000,9,-999.0000,9,-999.0000,9,-999.0000,-999.000,   0.2079,     -999.0,     -999.0,9,     -999.0,9,     -999.0,9,     -999.0,9,     -999.0,20110312,       1833
320620110219,       P16S,      50,          1,          7,          7,2,20110312,       1754,   -69.4891,  -150.0009,       4359,  2915.2,   0.3174,  34.7022,2,  34.7020,2,    213.1,2,   213.5,2,  129.92,2,   32.04,2,    0.00,2,    2.23,2,-999.000,9,-999.000,9,-999.000,9,-999.0000,9,  -999.0,9,  -999.0,9,-999.0000,9,  -999.00,-999.000,9,-999.0000,9,-999.000,9,   0.3177,2, -999.00,9,  -999.0,9,  -999.0,-999.000,9, -999.00,9,-999.000,9,   40.46,2,   34.74,2, -69.4891,-150.0009,-999.000,     -999.0,    34.8656,2,     -999.0,9,     -999.0,9,-999.0000,9,-999.0000,9,-999.0000,9,-999.0000,9,-999.0000,9,-999.0000,9,-999.0000,9,-999.0000,9,-999.0000,9,-999.0000,-999.000,   0.1341,     -999.0,     -999.0,9,     -999.0,9,     -999.0,9,     -999.0,9,     -999.0,20110312,       1828
320620110219,       P16S,      50,          1,          6,          6,2,20110312,       1754,   -69.4891,  -150.0009,       4359,  3200.1,   0.2535,  34.7003,2,  34.6998,2,    215.5,2,   215.5,2,  129.52,2,   31.93,2,    0.00,2,    2.22,2,   0.385,2,   0.182,2,   0.020,2,   0.0410,2,  -999.0,9,  -999.0,9,-999.0000,9,  -999.00,-999.000,9,-999.0000,9,-999.000,9,   0.2530,2, -999.00,9,  -999.0,9,  -999.0,-999.000,9, -999.00,9,-999.000,9,   40.16,2,   34.68,2, -69.4891,-150.0009,-999.000,     -999.0,    34.8634,2,     -999.0,9,     -999.0,9,-999.0000,9,-999.0000,9,-999.0000,9,-999.0000,9,-999.0000,9,-999.0000,9,-999.0000,9,-999.0000,9,-999.0000,9,-999.0000,-999.000,   0.0465,     -999.0,     -999.0,9,     -999.0,9,     -999.0,9,     -999.0,9,     -999.0,20110312,       1822
320620110219,       P16S,      50,          1,          5,          5,2,20110312,       1754,   -69.4891,  -150.0009,       4359,  3499.4,   0.1998,  34.6972,2,  34.6967,2,    218.8,2,   218.7,2,  124.75,2,   31.82,2,    0.00,2,    2.23,2,   0.665,2,   0.317,2,   0.037,2,   0.0600,2,  2260.7,2,  2358.1,2,   7.5905,2,    25.00,-999.000,9,-999.0000,9,-999.000,9,   0.1999,2, -999.00,9,  -999.0,9,  -999.0,-999.000,9, -999.00,9,-999.000,9,   39.24,2,   34.91,2, -69.4891,-150.0009,-999.000,     -999.0,    34.8603,2,     -999.0,9,     -999.0,9,-999.0000,9,-999.0000,9,-999.0000,9,-999.0000,9,-999.0000,9,-999.0000,9,-999.0000,9,-999.0000,9,-999.0000,9,-999.0000,-999.000,  -0.0334,     -999.0,     -999.0,9,     -999.0,9,     -999.0,9,     -999.0,9,     -999.0,20110312,       1816
320620110219,       P16S,      50,          1,          4,          4,2,20110312,       1754,   -69.4891,  -150.0009,       4359,  3800.7,   0.1856,  34.6964,2,  34.6957,2,    220.5,2,   219.9,2,  122.32,2,   31.64,2,    0.00,2,    2.22,2,   0.792,2,   0.387,2,   0.044,2,   0.0750,2,  2260.3,2,  2357.8,2,   7.5934,2,    25.00,-999.000,9,-999.0000,9,-999.000,9,   0.1854,2, -999.00,9,  -999.0,9,  -999.0,-999.000,9, -999.00,9,-999.000,9,   39.38,2,   34.38,2, -69.4891,-150.0009,-999.000,     -999.0,    34.8593,2,     -999.0,9,     -999.0,9,-999.0000,9,-999.0000,9,-999.0000,9,-999.0000,9,-999.0000,9,-999.0000,9,-999.0000,9,-999.0000,9,-999.0000,9,-999.0000,-999.000,  -0.0762,     -999.0,     -999.0,9,     -999.0,9,     -999.0,9,     -999.0,9,     -999.0,20110312,       1809
320620110219,       P16S,      50,          1,          3,          3,2,20110312,       1754,   -69.4891,  -150.0009,       4359,  4099.4,   0.2018,  34.6970,2,  34.6960,2,    220.4,2,   220.2,2,  123.18,2,   31.72,2,    0.00,2,    2.23,2,   0.791,2,   0.379,2,   0.037,2,   0.1010,2,  2259.2,2,  2357.5,6,   7.5922,2,    25.00,-999.000,9,-999.0000,9,-999.000,9,   0.2016,2, -999.00,9,  -999.0,9,  -999.0,-999.000,9, -999.00,9,-999.000,9,   40.10,2,   34.41,2, -69.4891,-150.0009,-999.000,     -999.0,    34.8597,2,     -999.0,9,     -999.0,9,-999.0000,9,-999.0000,9,-999.0000,9,-999.0000,9,-999.0000,9,-999.0000,9,-999.0000,9,-999.0000,9,-999.0000,9,-999.0000,-999.000,  -0.0904,     -999.0,     -999.0,9,     -999.0,9,     -999.0,9,     -999.0,9,     -999.0,20110312,       1803
320620110219,       P16S,      50,          1,          2,          2,2,20110312,       1754,   -69.4891,  -150.0009,       4359,  4382.7,   0.2279,  34.6971,2,  34.6962,2,    220.0,2,   219.8,2,  124.06,2,   31.68,2,    0.00,2,    2.23,2,   0.766,2,   0.371,2,   0.037,2,   0.0630,2,  2259.6,2,  2358.1,2,   7.5903,6,    25.00,-999.000,9,-999.0000,9,-999.000,9,   0.2275,2, -999.00,9,  -999.0,9,  -999.0,-999.000,9, -999.00,9,-999.000,9,   40.20,2,   34.55,2, -69.4891,-150.0009,-999.000,     -999.0,    34.8598,2,     -999.0,9,     -999.0,9,-999.0000,9,-999.0000,9,-999.0000,9,-999.0000,9,-999.0000,9,-999.0000,9,-999.0000,9,-999.0000,9,-999.0000,9,-999.0000,-999.000,  -0.0948,     -999.0,     -999.0,9,     -999.0,9,     -999.0,9,     -999.0,9,     -999.0,20110312,       1757
320620110219,       P16S,      50,          1,          1,          1,2,20110312,       1754,   -69.4891,  -150.0009,       4359,  4436.4,   0.2341,  34.6969,2,  34.6968,2,    219.8,2,   220.1,2,  124.29,2,   31.87,2,    0.00,2,    2.24,2,   0.805,2,   0.392,2,   0.045,2,   0.0960,2,  2258.3,6,  2357.0,2,   7.5899,2,    25.00,-999.000,9,-999.0000,9,-999.000,9,   0.2345,2, -999.00,9,  -999.0,9,  -999.0,-999.000,9, -999.00,9,-999.000,9,   40.66,2,   34.17,2, -69.4891,-150.0009,-999.000,     -999.0,    34.8604,2,     -999.0,9,     -999.0,9,-999.0000,9,-999.0000,9,-999.0000,9,-999.0000,9,-999.0000,9,-999.0000,9,-999.0000,9,-999.0000,9,-999.0000,9,-999.0000,-999.000,  -0.0945,     -999.0,     -999.0,9,     -999.0,9,     -999.0,9,     -999.0,9,     -999.0,20110312,       1754