BOTTLE,20220813CCHSIOAMB
EXPOCODE,SECT_ID,STNNBR,CASTNO,SAMPNO,BTLNBR,BTLNBR_FLAG_W,DATE,TIME,LATITUDE,LONGITUDE,DEPTH,CTDPRS,CTDTMP,CTDSAL,CTDSAL_FLAG_W,SALNTY,SALNTY_FLAG_W,CTDOXY,CTDOXY_FLAG_W,OXYGEN,OXYGEN_FLAG_W,SILCAT,SILCAT_FLAG_W,NITRAT,NITRAT_FLAG_W,NITRIT,NITRIT_FLAG_W,PHSPHT,PHSPHT_FLAG_W,CFC-11,CFC-11_FLAG_W,CFC-12,CFC-12_FLAG_W,CFC113,CFC113_FLAG_W,SF6,SF6_FLAG_W,TCARBN,TCARBN_FLAG_W,ALKALI,ALKALI_FLAG_W,PH_TOT,PH_TOT_FLAG_W,PH_TMP,TRITUM,TRITUM_FLAG_W,HELIUM,HELIUM_FLAG_W,DELHE3,DELHE3_FLAG_W,REFTMP,REFTMP_FLAG_W,DELC13,DELC13_FLAG_W,DELC14,DELC14_FLAG_W,C14ERR,NEON,NEON_FLAG_W,DELO18,DELO18_FLAG_W,POC,POC_FLAG_W,DOC,DOC_FLAG_W,TDN,TDN_FLAG_W,BTL_LAT,BTL_LON,TRITER,NEONER,SALTREF,SALTREF_FLAG_W,PIGMENTS,PIGMENTS_FLAG_W,LAB_DEN,LAB_DEN_FLAG_W,CDOM325,CDOM325_FLAG_W,CDOM340,CDOM340_FLAG_W,CDOM380,CDOM380_FLAG_W,CDOM412,CDOM412_FLAG_W,CDOM443,CDOM443_FLAG_W,CDOM490,CDOM490_FLAG_W,CDOM555,CDOM555_FLAG_W,CDOMSL,CDOMSL_FLAG_W,CDOMSN,CDOMSN_FLAG_W,HELIER,DELHER,THETA,LDEO_SAMPNO,ABSORBTION,ABSORBTION_FLAG_W,IMAGE_COUNT,IMAGE_COUNT_FLAG_W,CYTO_COUNT,CYTO_COUNT_FLAG_W,DELD,DELD_FLAG_W,DELDERR,BTL_DATE,BTL_TIME
,,,,,,,,,,,METERS,DBAR,ITS-90,PSS-78,,PSS-78,,UMOL/KG,,UMOL/KG,,UMOL/KG,,UMOL/KG,,UMOL/KG,,UMOL/KG,,PMOL/KG,,PMOL/KG,,PMOL/KG,,FMOL/KG,,UMOL/KG,,UMOL/KG,,,,DEG C,TU,,NMOL/KG,,PERCNT,,DEG C,,/MILLE,,/MILLE,,/MILLE,NMOL/KG,,/MILLE,,UG/KG,,UMOL/KG,,UMOL/KG,,,,TU,NMOL/KG,G/KG,,,,,,1/M,,1/M,,1/M,,1/M,,1/M,,1/M,,1/M,,1/NM,,1/NM,,NMOL/KG,PERCNT,DEG C,,,,,,,,/MILLE,,/MILLE,,
320620110219,       P16S,      60,          1,         13,         13,2,20110315,       2021,   -74.4610,  -150.0001,       3883,  1499.6,   0.9148,  34.7165,2,  34.7173,2,    199.3,2,   200.0,2,  116.18,2,   32.04,2,    0.00,2,    2.25,2,-999.000,9,-999.000,9,-999.000,9,-999.0000,9,  2258.7,2,  2359.0,2,   7.5933,2,    25.00,-999.000,9,-999.0000,9,-999.000,9,   0.9147,2, -999.00,9,  -999.0,9,  -999.0,-999.000,9, -999.00,9,-999.000,9,   40.32,2,   34.17,2, -74.4610,-150.0001,-999.000,     -999.0,    34.8810,2,     -999.0,9,     -999.0,9,   0.0866,2,   0.0459,3,   0.0034,3,  -0.0051,4,  -0.0138,4,  -0.0112,4,  -0.0122,4,   0.0653,4,   0.0480,4,-999.0000,-999.000,   0.8309,     -999.0,     -999.0,9,     -999.0,9,     -999.0,9,     -999.0,9,     -999.0,20110315,       2116
320620110219,       P16S,      60,          1,         12,         12,2,20110315,       2021,   -74.4610,  -150.0001,       3883,  1600.3,   0.8632,  34.7147,2,  34.7152,2,    200.4,2,   200.7,2,  117.30,2,   32.08,2,    0.00,2,    2.25,2,   0.091,2,   0.048,2,   0.004,2,-999.0000,9,  -999.0,9,  -999.0,9,-999.0000,9,  -999.00,-999.000,9,-999.0000,9,-999.000,9,   0.8631,2, -999.00,9,  -999.0,9,  -999.0,-999.000,9, -999.00,9,-999.000,9,   40.51,2,   34.13,2, -74.4610,-150.0001,-999.000,     -999.0,    34.8789,2,     -999.0,9,     -999.0,9,-999.0000,9,-999.0000,9,-999.0000,9,-999.0000,9,-999.0000,9,-999.0000,9,-999.0000,9,-999.0000,9,-999.0000,9,-999.0000,-999.000,   0.7730,     -999.0,     -999.0,9,     -999.0,9,     -999.0,9,     -999.0,9,     -999.0,20110315,       2113
320620110219,       P16S,      60,          1,         11,         11,2,20110315,       2021,   -74.4610,  -150.0001,       3883,  1699.6,   0.8189,  34.7132,2,  34.7132,2,    201.6,2,   201.9,2,  119.22,2,   32.13,2,    0.00,2,    2.25,2,-999.000,9,-999.000,9,-999.000,9,-999.0000,9,  -999.0,9,  -999.0,9,-999.0000,9,  -999.00,-999.000,9,-999.0000,9,-999.000,9,   0.8189,2, -999.00,9,  -999.0,9,  -999.0,-999.000,9, -999.00,9,-999.000,9,   40.44,2,   34.24,2, -74.4610,-150.0001,-999.000,     -999.0,    34.8769,2,     -999.0,9,     -999.0,9,-999.0000,9,-999.0000,9,-999.0000,9,-999.0000,9,-999.0000,9,-999.0000,9,-999.0000,9,-999.0000,9,-999.0000,9,-999.0000,-999.000,   0.7223,     -999.0,     -999.0,9,     -999.0,9,     -999.0,9,     -999.0,9,     -999.0,20110315,       2110
320620110219,       P16S,      60,          1,         10,         37,2,20110315,       2021,   -74.4610,  -150.0001,       3883,  1800.4,   0.7768,  34.7118,2,  34.7125,2,    202.6,2,   203.1,2,  120.61,2,   32.30,2,    0.00,2,    2.25,2,-999.000,9,-999.000,9,-999.000,9,-999.0000,9,  2258.9,2,  2361.0,2,   7.5918,2,    25.00,-999.000,9,-999.0000,9,-999.000,9,   0.7768,2, -999.00,9,  -999.0,9,  -999.0,-999.000,9, -999.00,9,-999.000,9,   40.33,2,   34.38,2, -74.4610,-150.0001,-999.000,     -999.0,    34.8761,2,     -999.0,9,     -999.0,9,   0.0913,2,   0.0496,2,   0.0068,3,  -0.0027,4,  -0.0120,4,  -0.0105,4,  -0.0121,4,   0.0589,4,   0.0445,4,-999.0000,-999.000,   0.6736,     -999.0,     -999.0,9,     -999.0,9,     -999.0,9,     -999.0,9,     -999.0,20110315,       2107
320620110219,       P16S,      60,          1,          9,          9,2,20110315,       2021,   -74.4610,  -150.0001,       3883,  1999.7,   0.7122,  34.7098,2,  34.7107,2,    204.5,2,   204.2,2,  122.81,2,   32.38,2,    0.00,2,    2.25,2,-999.000,9,-999.000,9,-999.000,9,-999.0000,9,  -999.0,9,  -999.0,9,-999.0000,9,  -999.00,-999.000,9,-999.0000,9,-999.000,9,   0.7122,2, -999.00,9,  -999.0,9,  -999.0,-999.000,9, -999.00,9,-999.000,9,   40.15,2,   34.73,2, -74.4610,-150.0001,-999.000,     -999.0,    34.8744,2,     -999.0,9,     -999.0,9,-999.0000,9,-999.0000,9,-999.0000,9,-999.0000,9,-999.0000,9,-999.0000,9,-999.0000,9,-999.0000,9,-999.0000,9,-999.0000,-999.000,   0.5953,     -999.0,     -999.0,9,     -999.0,9,     -999.0,9,     -999.0,9,     -999.0,20110315,       2103
320620110219,       P16S,      60,          1,          8,          8,2,20110315,       2021,   -74.4610,  -150.0001,       3883,  2250.2,   0.6400,  34.7079,2,  34.7082,2,    206.1,2,   206.5,2,  125.17,2,   32.57,2,    0.00,2,    2.27,2,   0.114,2,   0.057,2,   0.006,2,-999.0000,9,  -999.0,9,  -999.0,9,-999.0000,9,  -999.00,-999.000,9,-999.0000,9,-999.000,9,   0.6399,2, -999.00,9,  -999.0,9,  -999.0,-999.000,9, -999.00,9,-999.000,9,   40.31,2,   35.21,2, -74.4610,-150.0001,-999.000,     -999.0,    34.8719,2,     -999.0,9,     -999.0,9,-999.0000,9,-999.0000,9,-999.0000,9,-999.0000,9,-999.0000,9,-999.0000,9,-999.0000,9,-999.0000,9,-999.0000,9,-999.0000,-999.000,   0.5051,     -999.0,     -999.0,9,     -999.0,9,     -999.0,9,     -999.0,9,     -999.0,20110315,       2057
320620110219,       P16S,      60,          1,          7,          7,2,20110315,       2021,   -74.4610,  -150.0001,       3883,  2500.0,   0.5758,  34.7066,2,  34.7072,2,    207.9,2,   207.3,2,  127.70,2,   32.65,2,    0.00,2,    2.27,2,-999.000,9,-999.000,9,-999.000,9,-999.0000,9,  2259.3,2,  2360.3,2,   7.5910,2,    25.00,-999.000,9,-999.0000,9,-999.000,9,   0.5759,2, -999.00,9,  -999.0,9,  -999.0,-999.000,9, -999.00,9,-999.000,9,   40.05,2,   35.00,2, -74.4610,-150.0001,-999.000,     -999.0,    34.8709,2,     -999.0,9,     -999.0,9,   0.0894,2,   0.0484,2,   0.0071,3,  -0.0030,4,  -0.0125,4,  -0.0108,4,  -0.0121,4,   0.0568,4,   0.0443,4,-999.0000,-999.000,   0.4220,     -999.0,     -999.0,9,     -999.0,9,     -999.0,9,     -999.0,9,     -999.0,20110315,       2052
320620110219,       P16S,      60,          1,          6,          6,2,20110315,       2021,   -74.4610,  -150.0001,       3883,  2749.5,   0.5179,  34.7054,2,  34.7055,2,    209.2,2,   208.6,2,  129.81,2,   32.80,2,    0.00,2,    2.27,2,   0.122,2,   0.062,2,   0.006,2,-999.0000,9,  -999.0,9,  -999.0,9,-999.0000,9,  -999.00,-999.000,9,-999.0000,9,-999.000,9,   0.5177,2, -999.00,9,  -999.0,9,  -999.0,-999.000,9, -999.00,9,-999.000,9,   40.81,2,   35.34,2, -74.4610,-150.0001,-999.000,     -999.0,    34.8692,2,     -999.0,9,     -999.0,9,-999.0000,9,-999.0000,9,-999.0000,9,-999.0000,9,-999.0000,9,-999.0000,9,-999.0000,9,-999.0000,9,-999.0000,9,-999.0000,-999.000,   0.3445,     -999.0,     -999.0,9,     -999.0,9,     -999.0,9,     -999.0,9,     -999.0,20110315,       2047
320620110219,       P16S,      60,          1,          5,          5,2,20110315,       2021,   -74.4610,  -150.0001,       3883,  3000.3,   0.4802,  34.7045,2,  34.7039,2,    210.3,2,   210.0,2,  130.72,2,   32.85,2,    0.00,2,    2.26,2,   0.129,2,   0.065,2,   0.006,2,-999.0000,9,  2260.6,2,  2361.8,2,   7.5913,2,    25.00,-999.000,9,-999.0000,9,-999.000,9,   0.4800,2, -999.00,9,  -999.0,9,  -999.0,-999.000,9,   -0.19,2,-999.000,9,   40.81,2,   35.43,2, -74.4610,-150.0001,-999.000,     -999.0,    34.8676,2,     -999.0,9,     -999.0,9,-999.0000,9,-999.0000,9,-999.0000,9,-999.0000,9,-999.0000,9,-999.0000,9,-999.0000,9,-999.0000,9,-999.0000,9,-999.0000,-999.000,   0.2858,     -999.0,     -999.0,9,     -999.0,9,     -999.0,9,      -2.25,2,       0.18,20110315,       2042
320620110219,       P16S,      60,          1,          4,          4,2,20110315,       2021,   -74.4610,  -150.0001,       3883,  3299.1,   0.4268,  34.7038,2,  34.7038,2,    211.9,2,   211.9,2,  132.77,2,   32.91,2,    0.00,2,    2.26,2,   0.145,2,   0.071,2,   0.006,2,-999.0000,9,  2260.5,2,  2361.2,2,   7.5922,2,    25.00,-999.000,9,-999.0000,9,-999.000,9,   0.4265,2, -999.00,9,  -999.0,9,  -999.0,-999.000,9, -999.00,9,-999.000,9,   40.83,2,   35.55,2, -74.4610,-150.0001,-999.000,     -999.0,    34.8674,2,     -999.0,9,     -999.0,9,   0.0827,2,   0.0430,3,   0.0035,3,  -0.0061,4,  -0.0146,4,  -0.0117,4,  -0.0125,4,   0.0680,4,   0.0485,4,-999.0000,-999.000,   0.2066,     -999.0,     -999.0,9,     -999.0,9,     -999.0,9,     -999.0,9,     -999.0,20110315,       2036
320620110219,       P16S,      60,          1,          3,          3,2,20110315,       2021,   -74.4610,  -150.0001,       3883,  3599.6,   0.3821,  34.7031,2,  34.7026,2,    213.0,2,   212.4,2,  135.14,2,   32.96,2,    0.00,2,    2.28,2,   0.178,2,   0.090,2,   0.008,2,-999.0000,9,  2260.8,2,  2360.8,6,   7.5881,4,    25.00,-999.000,9,-999.0000,9,-999.000,9,   0.3826,2, -999.00,9,  -999.0,9,  -999.0,-999.000,9,   -0.25,2,-999.000,9,   40.85,2,   35.84,2, -74.4610,-150.0001,-999.000,     -999.0,    34.8663,2,     -999.0,9,     -999.0,9,-999.0000,9,-999.0000,9,-999.0000,9,-999.0000,9,-999.0000,9,-999.0000,9,-999.0000,9,-999.0000,9,-999.0000,9,-999.0000,-999.000,   0.1346,     -999.0,     -999.0,9,     -999.0,9,     -999.0,9,      -2.47,2,       0.19,20110315,       2030
320620110219,       P16S,      60,          1,          2,          2,2,20110315,       2021,   -74.4610,  -150.0001,       3883,  3900.2,   0.3039,  34.7011,2,  34.7003,2,    214.4,2,   214.9,2,  135.95,2,   32.97,2,    0.00,2,    2.27,2,   0.360,2,   0.180,2,   0.015,2,-999.0000,9,  2260.5,2,  2361.0,2,   7.5902,6,    25.00,-999.000,9,-999.0000,9,-999.000,9,   0.3030,2, -999.00,9,  -999.0,9,  -999.0,-999.000,9, -999.00,9,-999.000,9,   40.93,2,   35.26,2, -74.4610,-150.0001,-999.000,     -999.0,    34.8639,2,     -999.0,9,     -999.0,9,-999.0000,9,-999.0000,9,-999.0000,9,-999.0000,9,-999.0000,9,-999.0000,9,-999.0000,9,-999.0000,9,-999.0000,9,-999.0000,-999.000,   0.0289,     -999.0,     -999.0,9,     -999.0,9,     -999.0,9,     -999.0,9,     -999.0,20110315,       2023
320620110219,       P16S,      60,          1,          1,          1,2,20110315,       2021,   -74.4610,  -150.0001,       3883,  3950.3,   0.2385,  34.6986,2,  34.6980,2,    216.1,2,   215.3,2,  130.97,2,   32.81,2,    0.00,2,    2.29,2,   0.638,2,   0.308,2,   0.029,2,-999.0000,9,  2260.9,6,  2358.9,2,   7.5868,2,    25.00,-999.000,9,-999.0000,9,-999.000,9,   0.2381,2, -999.00,9,  -999.0,9,  -999.0,-999.000,9,   -0.23,2,-999.000,9,   40.76,2,   34.89,2, -74.4610,-150.0001,-999.000,     -999.0,    34.8616,2,     -999.0,9,     -999.0,9,   0.0950,2,   0.0527,2,   0.0093,3,  -0.0014,4,  -0.0111,4,  -0.0097,4,  -0.0115,4,   0.0545,4,   0.0421,4,-999.0000,-999.000,  -0.0397,     -999.0,     -999.0,9,     -999.0,9,     -999.0,9,      -2.77,2,       0.03,20110315,       2021