BOTTLE,20220813CCHSIOAMB
EXPOCODE,SECT_ID,STNNBR,CASTNO,SAMPNO,BTLNBR,BTLNBR_FLAG_W,DATE,TIME,LATITUDE,LONGITUDE,DEPTH,CTDPRS,CTDTMP,CTDSAL,CTDSAL_FLAG_W,SALNTY,SALNTY_FLAG_W,CTDOXY,CTDOXY_FLAG_W,OXYGEN,OXYGEN_FLAG_W,SILCAT,SILCAT_FLAG_W,NITRAT,NITRAT_FLAG_W,NITRIT,NITRIT_FLAG_W,PHSPHT,PHSPHT_FLAG_W,CFC-11,CFC-11_FLAG_W,CFC-12,CFC-12_FLAG_W,CFC113,CFC113_FLAG_W,SF6,SF6_FLAG_W,TCARBN,TCARBN_FLAG_W,ALKALI,ALKALI_FLAG_W,PH_TOT,PH_TOT_FLAG_W,PH_TMP,TRITUM,TRITUM_FLAG_W,HELIUM,HELIUM_FLAG_W,DELHE3,DELHE3_FLAG_W,REFTMP,REFTMP_FLAG_W,DELC13,DELC13_FLAG_W,DELC14,DELC14_FLAG_W,C14ERR,NEON,NEON_FLAG_W,DELO18,DELO18_FLAG_W,POC,POC_FLAG_W,DOC,DOC_FLAG_W,TDN,TDN_FLAG_W,BTL_LAT,BTL_LON,TRITER,NEONER,SALTREF,SALTREF_FLAG_W,PIGMENTS,PIGMENTS_FLAG_W,LAB_DEN,LAB_DEN_FLAG_W,CDOM325,CDOM325_FLAG_W,CDOM340,CDOM340_FLAG_W,CDOM380,CDOM380_FLAG_W,CDOM412,CDOM412_FLAG_W,CDOM443,CDOM443_FLAG_W,CDOM490,CDOM490_FLAG_W,CDOM555,CDOM555_FLAG_W,CDOMSL,CDOMSL_FLAG_W,CDOMSN,CDOMSN_FLAG_W,HELIER,DELHER,THETA,LDEO_SAMPNO,ABSORBTION,ABSORBTION_FLAG_W,IMAGE_COUNT,IMAGE_COUNT_FLAG_W,CYTO_COUNT,CYTO_COUNT_FLAG_W,DELD,DELD_FLAG_W,DELDERR,BTL_DATE,BTL_TIME
,,,,,,,,,,,METERS,DBAR,ITS-90,PSS-78,,PSS-78,,UMOL/KG,,UMOL/KG,,UMOL/KG,,UMOL/KG,,UMOL/KG,,UMOL/KG,,PMOL/KG,,PMOL/KG,,PMOL/KG,,FMOL/KG,,UMOL/KG,,UMOL/KG,,,,DEG C,TU,,NMOL/KG,,PERCNT,,DEG C,,/MILLE,,/MILLE,,/MILLE,NMOL/KG,,/MILLE,,UG/KG,,UMOL/KG,,UMOL/KG,,,,TU,NMOL/KG,G/KG,,,,,,1/M,,1/M,,1/M,,1/M,,1/M,,1/M,,1/M,,1/NM,,1/NM,,NMOL/KG,PERCNT,DEG C,,,,,,,,/MILLE,,/MILLE,,
320620110219,       S04P,      43,          2,         13,         13,2,20110310,       0912,   -67.0001,  -152.4246,       3555,  1536.2,   0.7545,  34.7110,2,  34.7120,2,    201.9,2,   202.0,2,  121.64,2,   31.80,2,    0.00,2,    2.22,2,-999.000,9,-999.000,9,-999.000,9,-999.0000,9,  -999.0,9,  -999.0,9,-999.0000,9,  -999.00,-999.000,9,-999.0000,9,-999.000,9,   0.7546,2, -999.00,9,  -999.0,9,  -999.0,-999.000,9, -999.00,9,-999.000,9, -999.00,9, -999.00,9, -67.0001,-152.4246,-999.000,     -999.0,    34.8757,2,     -999.0,9,     -999.0,9,-999.0000,9,-999.0000,9,-999.0000,9,-999.0000,9,-999.0000,9,-999.0000,9,-999.0000,9,-999.0000,9,-999.0000,9,-999.0000,-999.000,   0.6701,     -999.0,     -999.0,9,     -999.0,9,     -999.0,9,     -999.0,9,     -999.0,20110310,       1000
320620110219,       S04P,      43,          2,         12,         12,2,20110310,       0912,   -67.0001,  -152.4246,       3555,  1633.6,   0.7122,  34.7094,2,  34.7101,2,    202.7,2,   203.0,2,  123.30,2,   31.80,2,    0.00,2,    2.22,2,   0.097,2,   0.050,2,   0.009,2,   0.0400,2,  -999.0,9,  -999.0,9,-999.0000,9,  -999.00,-999.000,9,-999.0000,9,-999.000,9,   0.7121,2, -999.00,9,  -999.0,9,  -999.0,-999.000,9, -999.00,9,-999.000,9, -999.00,9, -999.00,9, -67.0001,-152.4246,-999.000,     -999.0,    34.8738,2,     -999.0,9,     -999.0,9,-999.0000,9,-999.0000,9,-999.0000,9,-999.0000,9,-999.0000,9,-999.0000,9,-999.0000,9,-999.0000,9,-999.0000,9,-999.0000,-999.000,   0.6216,     -999.0,     -999.0,9,     -999.0,9,     -999.0,9,     -999.0,9,     -999.0,20110310,       0958
320620110219,       S04P,      43,          2,         11,         11,2,20110310,       0912,   -67.0001,  -152.4246,       3555,  1735.6,   0.6796,  34.7080,2,  34.7087,2,    203.4,2,   203.6,2,  123.50,2,   31.77,2,    0.00,2,    2.23,2,-999.000,9,-999.000,9,-999.000,9,-999.0000,9,  2262.1,2,  2359.7,2,   7.5929,2,    25.00,-999.000,9,-999.0000,9,-999.000,9,   0.6796,2, -999.00,9,  -999.0,9,  -999.0,-999.000,9, -999.00,9,-999.000,9, -999.00,9, -999.00,9, -67.0001,-152.4246,-999.000,     -999.0,    34.8724,2,     -999.0,9,     -999.0,9,-999.0000,9,-999.0000,9,-999.0000,9,-999.0000,9,-999.0000,9,-999.0000,9,-999.0000,9,-999.0000,9,-999.0000,9,-999.0000,-999.000,   0.5823,     -999.0,     -999.0,9,     -999.0,9,     -999.0,9,     -999.0,9,     -999.0,20110310,       0955
320620110219,       S04P,      43,          2,         10,         37,2,20110310,       0912,   -67.0001,  -152.4246,       3555,  1865.6,   0.6387,  34.7066,2,  34.7073,2,    204.7,2,   204.4,2,  125.25,2,   31.78,2,    0.00,2,    2.23,2,-999.000,9,-999.000,9,-999.000,9,-999.0000,9,  -999.0,9,  -999.0,9,-999.0000,9,  -999.00,-999.000,9,-999.0000,9,-999.000,9,   0.6384,2, -999.00,9,  -999.0,9,  -999.0,-999.000,9, -999.00,9,-999.000,9, -999.00,9, -999.00,9, -67.0001,-152.4246,-999.000,     -999.0,    34.8710,2,     -999.0,9,     -999.0,9,-999.0000,9,-999.0000,9,-999.0000,9,-999.0000,9,-999.0000,9,-999.0000,9,-999.0000,9,-999.0000,9,-999.0000,9,-999.0000,-999.000,   0.5327,     -999.0,     -999.0,9,     -999.0,9,     -999.0,9,     -999.0,9,     -999.0,20110310,       0952
320620110219,       S04P,      43,          2,          9,          9,2,20110310,       0912,   -67.0001,  -152.4246,       3555,  2065.0,   0.5658,  34.7046,2,  34.7057,2,    206.6,2,   205.8,2,  126.29,2,   31.83,2,    0.00,2,    2.22,2,-999.000,9,-999.000,9,-999.000,9,-999.0000,9,  -999.0,9,  -999.0,9,-999.0000,9,  -999.00,-999.000,9,-999.0000,9,-999.000,9,   0.5659,2, -999.00,9,  -999.0,9,  -999.0,-999.000,9, -999.00,9,-999.000,9, -999.00,9, -999.00,9, -67.0001,-152.4246,-999.000,     -999.0,    34.8694,2,     -999.0,9,     -999.0,9,-999.0000,9,-999.0000,9,-999.0000,9,-999.0000,9,-999.0000,9,-999.0000,9,-999.0000,9,-999.0000,9,-999.0000,9,-999.0000,-999.000,   0.4463,     -999.0,     -999.0,9,     -999.0,9,     -999.0,9,     -999.0,9,     -999.0,20110310,       0947
320620110219,       S04P,      43,          2,          8,          8,2,20110310,       0912,   -67.0001,  -152.4246,       3555,  2264.2,   0.4867,  34.7036,2,  34.7045,2,    208.4,2,   208.5,2,  127.11,2,   31.78,2,    0.00,2,    2.23,2,   0.133,2,   0.065,2,   0.006,2,   0.0700,2,  -999.0,9,  -999.0,9,-999.0000,9,  -999.00,-999.000,9,-999.0000,9,-999.000,9,   0.4872,2, -999.00,9,  -999.0,9,  -999.0,-999.000,9, -999.00,9,-999.000,9, -999.00,9, -999.00,9, -67.0001,-152.4246,-999.000,     -999.0,    34.8682,2,     -999.0,9,     -999.0,9,-999.0000,9,-999.0000,9,-999.0000,9,-999.0000,9,-999.0000,9,-999.0000,9,-999.0000,9,-999.0000,9,-999.0000,9,-999.0000,-999.000,   0.3533,     -999.0,     -999.0,9,     -999.0,9,     -999.0,9,     -999.0,9,     -999.0,20110310,       0943
320620110219,       S04P,      43,          2,          7,          7,2,20110310,       0912,   -67.0001,  -152.4246,       3555,  2464.2,   0.4267,  34.7036,2,  34.7036,2,    209.9,2,   209.9,2,  128.90,2,   31.86,2,    0.00,2,    2.22,2,-999.000,9,-999.000,9,-999.000,9,-999.0000,9,  2262.1,2,  2359.7,2,   7.5897,2,    25.00,-999.000,9,-999.0000,9,-999.000,9,   0.4273,2, -999.00,9,  -999.0,9,  -999.0,-999.000,9, -999.00,9,-999.000,9, -999.00,9, -999.00,9, -67.0001,-152.4246,-999.000,     -999.0,    34.8672,2,     -999.0,9,     -999.0,9,-999.0000,9,-999.0000,9,-999.0000,9,-999.0000,9,-999.0000,9,-999.0000,9,-999.0000,9,-999.0000,9,-999.0000,9,-999.0000,-999.000,   0.2787,     -999.0,     -999.0,9,     -999.0,9,     -999.0,9,     -999.0,9,     -999.0,20110310,       0938
320620110219,       S04P,      43,          2,          6,          6,2,20110310,       0912,   -67.0001,  -152.4246,       3555,  2665.3,   0.3722,  34.7025,2,  34.7041,2,    211.7,2,   211.3,2,  130.32,2,   31.86,2,    0.00,2,    2.23,2,   0.153,2,   0.076,2,   0.012,2,   0.0960,2,  -999.0,9,  -999.0,9,-999.0000,9,  -999.00,-999.000,9,-999.0000,9,-999.000,9,   0.3726,2, -999.00,9,  -999.0,9,  -999.0,-999.000,9, -999.00,9,-999.000,9, -999.00,9, -999.00,9, -67.0001,-152.4246,-999.000,     -999.0,    34.8678,2,     -999.0,9,     -999.0,9,-999.0000,9,-999.0000,9,-999.0000,9,-999.0000,9,-999.0000,9,-999.0000,9,-999.0000,9,-999.0000,9,-999.0000,9,-999.0000,-999.000,   0.2088,     -999.0,     -999.0,9,     -999.0,9,     -999.0,9,     -999.0,9,     -999.0,20110310,       0934
320620110219,       S04P,      43,          2,          5,          5,2,20110310,       0912,   -67.0001,  -152.4246,       3555,  2863.7,   0.3219,  34.7022,2,  34.7035,2,    213.1,2,   213.7,2,  131.89,2,   31.89,2,    0.00,2,    2.23,2,   0.189,2,   0.100,2,   0.010,2,   0.0590,2,  -999.0,9,  -999.0,9,-999.0000,9,  -999.00,-999.000,9,-999.0000,9,-999.000,9,   0.3221,2, -999.00,9,  -999.0,9,  -999.0,-999.000,9, -999.00,9,-999.000,9, -999.00,9, -999.00,9, -67.0001,-152.4246,-999.000,     -999.0,    34.8672,2,     -999.0,9,     -999.0,9,-999.0000,9,-999.0000,9,-999.0000,9,-999.0000,9,-999.0000,9,-999.0000,9,-999.0000,9,-999.0000,9,-999.0000,9,-999.0000,-999.000,   0.1429,     -999.0,     -999.0,9,     -999.0,9,     -999.0,9,     -999.0,9,     -999.0,20110310,       0929
320620110219,       S04P,      43,          2,          4,          4,2,20110310,       0912,   -67.0001,  -152.4246,       3555,  3098.1,   0.2721,  34.7008,2,  34.7010,2,    215.3,2,   215.1,2,  132.20,2,   31.88,2,    0.00,2,    2.23,2,   0.291,2,   0.147,2,   0.013,2,   0.0900,2,  2262.0,2,  2359.6,2,   7.5933,2,    25.00,-999.000,9,-999.0000,9,-999.000,9,   0.2718,2, -999.00,9,  -999.0,9,  -999.0,-999.000,9, -999.00,9,-999.000,9, -999.00,9, -999.00,9, -67.0001,-152.4246,-999.000,     -999.0,    34.8646,2,     -999.0,9,     -999.0,9,-999.0000,9,-999.0000,9,-999.0000,9,-999.0000,9,-999.0000,9,-999.0000,9,-999.0000,9,-999.0000,9,-999.0000,9,-999.0000,-999.000,   0.0738,     -999.0,     -999.0,9,     -999.0,9,     -999.0,9,     -999.0,9,     -999.0,20110310,       0924
320620110219,       S04P,      43,          2,          3,          3,2,20110310,       0912,   -67.0001,  -152.4246,       3555,  3399.6,   0.2089,  34.6974,2,  34.6984,2,    218.5,2,   218.5,2,  128.19,2,   31.74,2,    0.00,2,    2.23,2,   0.584,2,   0.292,2,   0.039,2,   0.1580,2,  2261.3,2,  2357.5,6,   7.5908,2,    25.00,-999.000,9,-999.0000,9,-999.000,9,   0.2094,2, -999.00,9,  -999.0,9,  -999.0,-999.000,9, -999.00,9,-999.000,9, -999.00,9, -999.00,9, -67.0001,-152.4246,-999.000,     -999.0,    34.8620,2,     -999.0,9,     -999.0,9,-999.0000,9,-999.0000,9,-999.0000,9,-999.0000,9,-999.0000,9,-999.0000,9,-999.0000,9,-999.0000,9,-999.0000,9,-999.0000,-999.000,  -0.0152,     -999.0,     -999.0,9,     -999.0,9,     -999.0,9,     -999.0,9,     -999.0,20110310,       0918
320620110219,       S04P,      43,          2,          2,          2,2,20110310,       0912,   -67.0001,  -152.4246,       3555,  3508.5,   0.1899,  34.6961,2,  34.6976,2,    220.0,2,   219.8,2,  125.50,2,   31.76,2,    0.00,2,    2.23,2,   0.663,2,   0.337,2,   0.048,2,   0.1020,2,  2260.8,6,  2357.2,2,   7.5920,2,    25.00,-999.000,9,-999.0000,9,-999.000,9,   0.1901,2, -999.00,9,  -999.0,9,  -999.0,-999.000,9, -999.00,9,-999.000,9, -999.00,9, -999.00,9, -67.0001,-152.4246,-999.000,     -999.0,    34.8612,2,     -999.0,9,     -999.0,9,-999.0000,9,-999.0000,9,-999.0000,9,-999.0000,9,-999.0000,9,-999.0000,9,-999.0000,9,-999.0000,9,-999.0000,9,-999.0000,-999.000,  -0.0439,     -999.0,     -999.0,9,     -999.0,9,     -999.0,9,     -999.0,9,     -999.0,20110310,       0915
320620110219,       S04P,      43,          2,          1,          1,2,20110310,       0912,   -67.0001,  -152.4246,       3555,  3609.2,   0.1732,  34.6958,2,  34.6968,2,    220.8,2,   220.7,2,  124.57,2,   31.75,2,    0.00,2,    2.22,2,   0.736,2,   0.365,2,   0.045,2,   0.1270,2,  2260.2,2,  2356.9,2,   7.5924,6,    25.00,-999.000,9,-999.0000,9,-999.000,9,   0.1733,2, -999.00,9,  -999.0,9,  -999.0,-999.000,9, -999.00,9,-999.000,9, -999.00,9, -999.00,9, -67.0001,-152.4246,-999.000,     -999.0,    34.8604,2,     -999.0,9,     -999.0,9,-999.0000,9,-999.0000,9,-999.0000,9,-999.0000,9,-999.0000,9,-999.0000,9,-999.0000,9,-999.0000,9,-999.0000,9,-999.0000,-999.000,  -0.0697,     -999.0,     -999.0,9,     -999.0,9,     -999.0,9,     -999.0,9,     -999.0,20110310,       0912