BOTTLE,20220813CCHSIOAMB
EXPOCODE,SECT_ID,STNNBR,CASTNO,SAMPNO,BTLNBR,BTLNBR_FLAG_W,DATE,TIME,LATITUDE,LONGITUDE,DEPTH,CTDPRS,CTDTMP,CTDSAL,CTDSAL_FLAG_W,SALNTY,SALNTY_FLAG_W,CTDOXY,CTDOXY_FLAG_W,OXYGEN,OXYGEN_FLAG_W,SILCAT,SILCAT_FLAG_W,NITRAT,NITRAT_FLAG_W,NITRIT,NITRIT_FLAG_W,PHSPHT,PHSPHT_FLAG_W,CFC-11,CFC-11_FLAG_W,CFC-12,CFC-12_FLAG_W,CFC113,CFC113_FLAG_W,SF6,SF6_FLAG_W,TCARBN,TCARBN_FLAG_W,ALKALI,ALKALI_FLAG_W,PH_TOT,PH_TOT_FLAG_W,PH_TMP,TRITUM,TRITUM_FLAG_W,HELIUM,HELIUM_FLAG_W,DELHE3,DELHE3_FLAG_W,REFTMP,REFTMP_FLAG_W,DELC13,DELC13_FLAG_W,DELC14,DELC14_FLAG_W,C14ERR,NEON,NEON_FLAG_W,DELO18,DELO18_FLAG_W,POC,POC_FLAG_W,DOC,DOC_FLAG_W,TDN,TDN_FLAG_W,BTL_LAT,BTL_LON,TRITER,NEONER,SALTREF,SALTREF_FLAG_W,PIGMENTS,PIGMENTS_FLAG_W,LAB_DEN,LAB_DEN_FLAG_W,CDOM325,CDOM325_FLAG_W,CDOM340,CDOM340_FLAG_W,CDOM380,CDOM380_FLAG_W,CDOM412,CDOM412_FLAG_W,CDOM443,CDOM443_FLAG_W,CDOM490,CDOM490_FLAG_W,CDOM555,CDOM555_FLAG_W,CDOMSL,CDOMSL_FLAG_W,CDOMSN,CDOMSN_FLAG_W,HELIER,DELHER,THETA,LDEO_SAMPNO,ABSORBTION,ABSORBTION_FLAG_W,IMAGE_COUNT,IMAGE_COUNT_FLAG_W,CYTO_COUNT,CYTO_COUNT_FLAG_W,DELD,DELD_FLAG_W,DELDERR,BTL_DATE,BTL_TIME
,,,,,,,,,,,METERS,DBAR,ITS-90,PSS-78,,PSS-78,,UMOL/KG,,UMOL/KG,,UMOL/KG,,UMOL/KG,,UMOL/KG,,UMOL/KG,,PMOL/KG,,PMOL/KG,,PMOL/KG,,FMOL/KG,,UMOL/KG,,UMOL/KG,,,,DEG C,TU,,NMOL/KG,,PERCNT,,DEG C,,/MILLE,,/MILLE,,/MILLE,NMOL/KG,,/MILLE,,UG/KG,,UMOL/KG,,UMOL/KG,,,,TU,NMOL/KG,G/KG,,,,,,1/M,,1/M,,1/M,,1/M,,1/M,,1/M,,1/M,,1/NM,,1/NM,,NMOL/KG,PERCNT,DEG C,,,,,,,,/MILLE,,/MILLE,,
320620110219,       P16S,      53,          1,         13,         13,2,20110313,       1547,   -70.9799,  -149.9992,       4268,  1564.7,   0.8705,  34.7147,2,  34.7151,2,    200.2,2,   200.3,2,  117.08,2,   32.07,2,    0.00,2,    2.21,2,-999.000,9,-999.000,9,-999.000,9,-999.0000,9,  -999.0,9,  -999.0,9,-999.0000,9,  -999.00,-999.000,9,-999.0000,9,-999.000,9,   0.8707,2, -999.00,9,  -999.0,9,  -999.0,-999.000,9, -999.00,9,-999.000,9, -999.00,9, -999.00,9, -70.9800,-150.0000,-999.000,     -999.0,    34.8788,2,     -999.0,9,     -999.0,9,-999.0000,9,-999.0000,9,-999.0000,9,-999.0000,9,-999.0000,9,-999.0000,9,-999.0000,9,-999.0000,9,-999.0000,9,-999.0000,-999.000,   0.7827,     -999.0,     -999.0,9,     -999.0,9,     -999.0,9,     -999.0,9,     -999.0,20110313,       1646
320620110219,       P16S,      53,          1,         12,         12,2,20110313,       1547,   -70.9799,  -149.9992,       4268,  1735.0,   0.7968,  34.7118,2,  34.7118,2,    202.3,2,   202.1,2,  120.10,2,   32.10,2,    0.00,2,    2.22,2,   0.102,2,   0.057,2,   0.005,2,   0.0000,2,  2260.3,2,  2360.5,2,   7.5950,2,    25.00,-999.000,9,-999.0000,9,-999.000,9,   0.7969,2, -999.00,9,  -999.0,9,  -999.0,-999.000,9, -999.00,9,-999.000,9, -999.00,9, -999.00,9, -70.9800,-150.0000,-999.000,     -999.0,    34.8755,2,     -999.0,9,     -999.0,9,-999.0000,9,-999.0000,9,-999.0000,9,-999.0000,9,-999.0000,9,-999.0000,9,-999.0000,9,-999.0000,9,-999.0000,9,-999.0000,-999.000,   0.6980,     -999.0,     -999.0,9,     -999.0,9,     -999.0,9,     -999.0,9,     -999.0,20110313,       1642
320620110219,       P16S,      53,          1,         11,         11,2,20110313,       1547,   -70.9799,  -149.9992,       4268,  1934.6,   0.7129,  34.7084,2,  34.7084,2,    204.1,2,   203.5,2,  123.04,2,   32.11,2,    0.00,2,    2.22,2,-999.000,9,-999.000,9,-999.000,9,-999.0000,9,  -999.0,9,  -999.0,9,-999.0000,9,  -999.00,-999.000,9,-999.0000,9,-999.000,9,   0.7131,2, -999.00,9,  -999.0,9,  -999.0,-999.000,9, -999.00,9,-999.000,9, -999.00,9, -999.00,9, -70.9800,-150.0000,-999.000,     -999.0,    34.8721,2,     -999.0,9,     -999.0,9,-999.0000,9,-999.0000,9,-999.0000,9,-999.0000,9,-999.0000,9,-999.0000,9,-999.0000,9,-999.0000,9,-999.0000,9,-999.0000,-999.000,   0.6008,     -999.0,     -999.0,9,     -999.0,9,     -999.0,9,     -999.0,9,     -999.0,20110313,       1638
320620110219,       P16S,      53,          1,         10,         37,2,20110313,       1547,   -70.9799,  -149.9992,       4268,  2164.2,   0.6315,  34.7064,2,  34.7057,2,    205.7,2,   205.7,2,  124.71,2,   32.20,2,    0.00,2,    2.22,2,-999.000,9,-999.000,9,-999.000,9,-999.0000,9,  -999.0,9,  -999.0,9,-999.0000,9,  -999.00,-999.000,9,-999.0000,9,-999.000,9,   0.6318,2, -999.00,9,  -999.0,9,  -999.0,-999.000,9, -999.00,9,-999.000,9, -999.00,9, -999.00,9, -70.9800,-150.0000,-999.000,     -999.0,    34.8694,2,     -999.0,9,     -999.0,9,-999.0000,9,-999.0000,9,-999.0000,9,-999.0000,9,-999.0000,9,-999.0000,9,-999.0000,9,-999.0000,9,-999.0000,9,-999.0000,-999.000,   0.5034,     -999.0,     -999.0,9,     -999.0,9,     -999.0,9,     -999.0,9,     -999.0,20110313,       1633
320620110219,       P16S,      53,          1,          9,          9,2,20110313,       1547,   -70.9799,  -149.9992,       4268,  2414.1,   0.5381,  34.7045,2,  34.7039,2,    207.6,2,   207.7,2,  126.45,2,   32.17,2,    0.00,2,    2.23,2,-999.000,9,-999.000,9,-999.000,9,-999.0000,9,  2259.0,2,  2359.3,2,   7.5943,2,    25.00,-999.000,9,-999.0000,9,-999.000,9,   0.5384,2, -999.00,9,  -999.0,9,  -999.0,-999.000,9, -999.00,9,-999.000,9, -999.00,9, -999.00,9, -70.9800,-150.0000,-999.000,     -999.0,    34.8676,2,     -999.0,9,     -999.0,9,-999.0000,9,-999.0000,9,-999.0000,9,-999.0000,9,-999.0000,9,-999.0000,9,-999.0000,9,-999.0000,9,-999.0000,9,-999.0000,-999.000,   0.3920,     -999.0,     -999.0,9,     -999.0,9,     -999.0,9,     -999.0,9,     -999.0,20110313,       1628
320620110219,       P16S,      53,          1,          8,          8,2,20110313,       1547,   -70.9799,  -149.9992,       4268,  2664.3,   0.4549,  34.7036,2,  34.7033,2,    209.7,2,   209.8,2,  128.54,2,   32.09,2,    0.00,2,    2.22,2,   0.140,2,   0.075,2,   0.005,2,   0.0400,2,  -999.0,9,  -999.0,9,-999.0000,9,  -999.00,-999.000,9,-999.0000,9,-999.000,9,   0.4552,2, -999.00,9,  -999.0,9,  -999.0,-999.000,9, -999.00,9,-999.000,9, -999.00,9, -999.00,9, -70.9800,-150.0000,-999.000,     -999.0,    34.8670,2,     -999.0,9,     -999.0,9,-999.0000,9,-999.0000,9,-999.0000,9,-999.0000,9,-999.0000,9,-999.0000,9,-999.0000,9,-999.0000,9,-999.0000,9,-999.0000,-999.000,   0.2900,     -999.0,     -999.0,9,     -999.0,9,     -999.0,9,     -999.0,9,     -999.0,20110313,       1623
320620110219,       P16S,      53,          1,          7,          7,2,20110313,       1547,   -70.9799,  -149.9992,       4268,  2914.6,   0.3961,  34.7033,2,  34.7031,2,    211.6,2,   210.9,2,  130.36,2,   32.19,2,    0.00,2,    2.22,2,-999.000,9,-999.000,9,-999.000,9,-999.0000,9,  2259.8,2,  2360.1,2,   7.5963,2,    25.00,-999.000,9,-999.0000,9,-999.000,9,   0.3961,2, -999.00,9,  -999.0,9,  -999.0,-999.000,9, -999.00,9,-999.000,9, -999.00,9, -999.00,9, -70.9800,-150.0000,-999.000,     -999.0,    34.8668,2,     -999.0,9,     -999.0,9,-999.0000,9,-999.0000,9,-999.0000,9,-999.0000,9,-999.0000,9,-999.0000,9,-999.0000,9,-999.0000,9,-999.0000,9,-999.0000,-999.000,   0.2111,     -999.0,     -999.0,9,     -999.0,9,     -999.0,9,     -999.0,9,     -999.0,20110313,       1618
320620110219,       P16S,      53,          1,          6,          6,2,20110313,       1547,   -70.9799,  -149.9992,       4268,  3198.5,   0.3414,  34.7026,2,  34.7025,2,    213.0,2,   213.0,2,  133.01,2,   32.15,2,    0.00,2,    2.23,2,   0.187,2,   0.097,2,   0.006,2,   0.0510,2,  -999.0,9,  -999.0,9,-999.0000,9,  -999.00,-999.000,9,-999.0000,9,-999.000,9,   0.3419,2, -999.00,9,  -999.0,9,  -999.0,-999.000,9, -999.00,9,-999.000,9, -999.00,9, -999.00,9, -70.9800,-150.0000,-999.000,     -999.0,    34.8662,2,     -999.0,9,     -999.0,9,-999.0000,9,-999.0000,9,-999.0000,9,-999.0000,9,-999.0000,9,-999.0000,9,-999.0000,9,-999.0000,9,-999.0000,9,-999.0000,-999.000,   0.1325,     -999.0,     -999.0,9,     -999.0,9,     -999.0,9,     -999.0,9,     -999.0,20110313,       1612
320620110219,       P16S,      53,          1,          5,          5,2,20110313,       1547,   -70.9799,  -149.9992,       4268,  3500.3,   0.2881,  34.7014,2,  34.7008,2,    214.9,2,   215.2,2,  134.31,2,   32.11,2,    0.00,2,    2.23,2,   0.313,2,   0.155,2,   0.014,2,   0.0430,2,  2259.9,2,  2360.3,2,   7.5972,2,    25.00,-999.000,9,-999.0000,9,-999.000,9,   0.2882,2, -999.00,9,  -999.0,9,  -999.0,-999.000,9, -999.00,9,-999.000,9, -999.00,9, -999.00,9, -70.9800,-150.0000,-999.000,     -999.0,    34.8644,2,     -999.0,9,     -999.0,9,-999.0000,9,-999.0000,9,-999.0000,9,-999.0000,9,-999.0000,9,-999.0000,9,-999.0000,9,-999.0000,9,-999.0000,9,-999.0000,-999.000,   0.0525,     -999.0,     -999.0,9,     -999.0,9,     -999.0,9,     -999.0,9,     -999.0,20110313,       1606
320620110219,       P16S,      53,          1,          4,          4,2,20110313,       1547,   -70.9799,  -149.9992,       4268,  3800.0,   0.2303,  34.6977,2,  34.6970,2,    218.5,2,   218.4,2,  126.52,2,   31.88,2,    0.00,2,    2.21,2,   0.627,2,   0.310,2,   0.032,2,   0.0840,2,  2257.9,2,  2359.4,2,   7.5946,2,    25.00,-999.000,9,-999.0000,9,-999.000,9,   0.2301,2, -999.00,9,  -999.0,9,  -999.0,-999.000,9, -999.00,9,-999.000,9, -999.00,9, -999.00,9, -70.9800,-150.0000,-999.000,     -999.0,    34.8606,2,     -999.0,9,     -999.0,9,-999.0000,9,-999.0000,9,-999.0000,9,-999.0000,9,-999.0000,9,-999.0000,9,-999.0000,9,-999.0000,9,-999.0000,9,-999.0000,-999.000,  -0.0327,     -999.0,     -999.0,9,     -999.0,9,     -999.0,9,     -999.0,9,     -999.0,20110313,       1600
320620110219,       P16S,      53,          1,          3,          3,2,20110313,       1547,   -70.9799,  -149.9992,       4268,  4099.3,   0.2090,  34.6966,2,  34.6962,2,    220.7,2,   220.3,2,  122.91,2,   31.86,2,    0.00,2,    2.22,2,   0.761,2,   0.379,2,   0.038,2,   0.0940,2,  2258.0,2,  2357.3,6,   7.5931,2,    25.00,-999.000,9,-999.0000,9,-999.000,9,   0.2088,2, -999.00,9,  -999.0,9,  -999.0,-999.000,9, -999.00,9,-999.000,9, -999.00,9, -999.00,9, -70.9799,-149.9996,-999.000,     -999.0,    34.8598,2,     -999.0,9,     -999.0,9,-999.0000,9,-999.0000,9,-999.0000,9,-999.0000,9,-999.0000,9,-999.0000,9,-999.0000,9,-999.0000,9,-999.0000,9,-999.0000,-999.000,  -0.0834,     -999.0,     -999.0,9,     -999.0,9,     -999.0,9,     -999.0,9,     -999.0,20110313,       1554
320620110219,       P16S,      53,          1,          2,          2,2,20110313,       1547,   -70.9799,  -149.9992,       4268,  4288.4,   0.2183,  34.6970,2,  34.6960,2,    219.9,2,   220.1,2,  123.95,2,   31.83,2,    0.00,2,    2.22,2,   0.762,2,   0.372,2,   0.037,2,   0.1000,2,  2258.5,6,  2357.8,2,   7.5932,2,    25.00,-999.000,9,-999.0000,9,-999.000,9,   0.2180,2, -999.00,9,  -999.0,9,  -999.0,-999.000,9, -999.00,9,-999.000,9, -999.00,9, -999.00,9, -70.9799,-149.9996,-999.000,     -999.0,    34.8596,2,     -999.0,9,     -999.0,9,-999.0000,9,-999.0000,9,-999.0000,9,-999.0000,9,-999.0000,9,-999.0000,9,-999.0000,9,-999.0000,9,-999.0000,9,-999.0000,-999.000,  -0.0941,     -999.0,     -999.0,9,     -999.0,9,     -999.0,9,     -999.0,9,     -999.0,20110313,       1550
320620110219,       P16S,      53,          1,          1,          1,2,20110313,       1547,   -70.9799,  -149.9992,       4268,  4344.4,   0.2237,  34.6971,2,  34.6966,2,    219.9,2,   219.6,2,  124.90,2,   31.94,2,    0.00,2,    2.22,2,   0.773,2,   0.381,2,   0.040,2,   0.1280,2,  2258.3,2,  2357.0,2,   7.5919,6,    25.00,-999.000,9,-999.0000,9,-999.000,9,   0.2237,2, -999.00,9,  -999.0,9,  -999.0,-999.000,9, -999.00,9,-999.000,9, -999.00,9, -999.00,9, -70.9799,-149.9993,-999.000,     -999.0,    34.8602,2,     -999.0,9,     -999.0,9,-999.0000,9,-999.0000,9,-999.0000,9,-999.0000,9,-999.0000,9,-999.0000,9,-999.0000,9,-999.0000,9,-999.0000,9,-999.0000,-999.000,  -0.0948,     -999.0,     -999.0,9,     -999.0,9,     -999.0,9,     -999.0,9,     -999.0,20110313,       1547