BOTTLE,20220813CCHSIOAMB
EXPOCODE,SECT_ID,STNNBR,CASTNO,SAMPNO,BTLNBR,BTLNBR_FLAG_W,DATE,TIME,LATITUDE,LONGITUDE,DEPTH,CTDPRS,CTDTMP,CTDSAL,CTDSAL_FLAG_W,SALNTY,SALNTY_FLAG_W,CTDOXY,CTDOXY_FLAG_W,OXYGEN,OXYGEN_FLAG_W,SILCAT,SILCAT_FLAG_W,NITRAT,NITRAT_FLAG_W,NITRIT,NITRIT_FLAG_W,PHSPHT,PHSPHT_FLAG_W,CFC-11,CFC-11_FLAG_W,CFC-12,CFC-12_FLAG_W,CFC113,CFC113_FLAG_W,SF6,SF6_FLAG_W,TCARBN,TCARBN_FLAG_W,ALKALI,ALKALI_FLAG_W,PH_TOT,PH_TOT_FLAG_W,PH_TMP,TRITUM,TRITUM_FLAG_W,HELIUM,HELIUM_FLAG_W,DELHE3,DELHE3_FLAG_W,REFTMP,REFTMP_FLAG_W,DELC13,DELC13_FLAG_W,DELC14,DELC14_FLAG_W,C14ERR,NEON,NEON_FLAG_W,DELO18,DELO18_FLAG_W,POC,POC_FLAG_W,DOC,DOC_FLAG_W,TDN,TDN_FLAG_W,BTL_LAT,BTL_LON,TRITER,NEONER,SALTREF,SALTREF_FLAG_W,PIGMENTS,PIGMENTS_FLAG_W,LAB_DEN,LAB_DEN_FLAG_W,CDOM325,CDOM325_FLAG_W,CDOM340,CDOM340_FLAG_W,CDOM380,CDOM380_FLAG_W,CDOM412,CDOM412_FLAG_W,CDOM443,CDOM443_FLAG_W,CDOM490,CDOM490_FLAG_W,CDOM555,CDOM555_FLAG_W,CDOMSL,CDOMSL_FLAG_W,CDOMSN,CDOMSN_FLAG_W,HELIER,DELHER,THETA,LDEO_SAMPNO,ABSORBTION,ABSORBTION_FLAG_W,IMAGE_COUNT,IMAGE_COUNT_FLAG_W,CYTO_COUNT,CYTO_COUNT_FLAG_W,DELD,DELD_FLAG_W,DELDERR,BTL_DATE,BTL_TIME
,,,,,,,,,,,METERS,DBAR,ITS-90,PSS-78,,PSS-78,,UMOL/KG,,UMOL/KG,,UMOL/KG,,UMOL/KG,,UMOL/KG,,UMOL/KG,,PMOL/KG,,PMOL/KG,,PMOL/KG,,FMOL/KG,,UMOL/KG,,UMOL/KG,,,,DEG C,TU,,NMOL/KG,,PERCNT,,DEG C,,/MILLE,,/MILLE,,/MILLE,NMOL/KG,,/MILLE,,UG/KG,,UMOL/KG,,UMOL/KG,,,,TU,NMOL/KG,G/KG,,,,,,1/M,,1/M,,1/M,,1/M,,1/M,,1/M,,1/M,,1/NM,,1/NM,,NMOL/KG,PERCNT,DEG C,,,,,,,,/MILLE,,/MILLE,,
320620110219,       P15S,      90,          1,         13,         13,2,20110325,       2344,   -71.7613,  -169.9986,       4022,  1536.0,   0.8365,  34.7138,2,  34.7141,2,    200.6,2,   200.8,2,  118.64,2,   32.57,2,    0.00,2,    2.24,2,-999.000,9,-999.000,9,-999.000,9,-999.0000,9,  -999.0,9,  2359.5,2,   7.5947,2,    25.00,-999.000,9,-999.0000,9,-999.000,9,   0.8375,2,    0.50,2,  -160.4,2,     1.6,-999.000,9, -999.00,9,-999.000,9, -999.00,9, -999.00,9, -71.7613,-169.9989,-999.000,     -999.0,    34.8778,2,     -999.0,9,     -999.0,9,   0.0993,2,   0.0567,2,   0.0108,3,   0.0029,3,  -0.0075,4,  -0.0073,4,  -0.0101,4,   0.0458,4,   0.0405,3,-999.0000,-999.000,   0.7511,     -999.0,     -999.0,9,     -999.0,9,     -999.0,9,     -999.0,9,     -999.0,20110326,       0037
320620110219,       P15S,      90,          1,         12,         12,2,20110325,       2344,   -71.7613,  -169.9986,       4022,  1634.7,   0.7945,  34.7119,2,  34.7126,2,    201.7,2,   359.2,4,  119.95,2,   32.63,2,    0.00,2,    2.24,2,   0.080,2,   0.045,2,   0.005,2,   0.0050,2,  -999.0,9,  2358.8,2,   7.5937,2,    25.00,-999.000,9,-999.0000,9,-999.000,9,   0.7948,2,    0.50,2,  -163.2,2,     1.8,-999.000,9, -999.00,9,-999.000,9, -999.00,9, -999.00,9, -71.7613,-169.9989,-999.000,     -999.0,    34.8763,2,     -999.0,9,     -999.0,9,-999.0000,9,-999.0000,9,-999.0000,9,-999.0000,9,-999.0000,9,-999.0000,9,-999.0000,9,-999.0000,9,-999.0000,9,-999.0000,-999.000,   0.7028,     -999.0,     -999.0,9,     -999.0,9,     -999.0,9,     -999.0,9,     -999.0,20110326,       0034
320620110219,       P15S,      90,          1,         11,         11,2,20110325,       2344,   -71.7613,  -169.9986,       4022,  1736.1,   0.7503,  34.7103,2,  34.7102,2,    202.9,2,   203.6,2,  121.13,2,   32.60,2,    0.00,2,    2.24,2,-999.000,9,-999.000,9,-999.000,9,-999.0000,9,  -999.0,9,  2359.1,2,   7.5946,2,    25.00,-999.000,9,-999.0000,9,-999.000,9,   0.7504,2,    0.44,2,  -159.8,2,     1.6,-999.000,9,   -0.06,2,-999.000,9, -999.00,9, -999.00,9, -71.7613,-169.9987,-999.000,     -999.0,    34.8739,2,     -999.0,9,     -999.0,9,-999.0000,9,-999.0000,9,-999.0000,9,-999.0000,9,-999.0000,9,-999.0000,9,-999.0000,9,-999.0000,9,-999.0000,9,-999.0000,-999.000,   0.6520,     -999.0,     -999.0,9,     -999.0,9,     -999.0,9,      -1.72,2,       0.20,20110326,       0032
320620110219,       P15S,      90,          1,         10,         37,2,20110325,       2344,   -71.7613,  -169.9986,       4022,  1864.2,   0.7098,  34.7089,2,  34.7082,2,    204.1,2,   205.0,2,  122.73,2,   32.54,2,    0.00,2,    2.24,2,-999.000,9,-999.000,9,-999.000,9,-999.0000,9,  2262.8,2,  2359.8,2,   7.5952,2,    25.00,-999.000,9,-999.0000,9,-999.000,9,   0.7099,2,    0.50,2,  -160.3,2,     2.1,-999.000,9, -999.00,9,-999.000,9, -999.00,9, -999.00,9, -71.7613,-169.9988,-999.000,     -999.0,    34.8719,2,     -999.0,9,     -999.0,9,-999.0000,9,-999.0000,9,-999.0000,9,-999.0000,9,-999.0000,9,-999.0000,9,-999.0000,9,-999.0000,9,-999.0000,9,-999.0000,-999.000,   0.6029,     -999.0,     -999.0,9,     -999.0,9,     -999.0,9,     -999.0,9,     -999.0,20110326,       0029
320620110219,       P15S,      90,          1,          9,          9,2,20110325,       2344,   -71.7613,  -169.9986,       4022,  2085.6,   0.6363,  34.7068,2,  34.7069,2,    206.0,2,   205.3,2,  124.40,2,   32.49,2,    0.00,2,    2.24,2,-999.000,9,-999.000,9,-999.000,9,-999.0000,9,  -999.0,9,  -999.0,9,-999.0000,9,  -999.00,-999.000,9,-999.0000,9,-999.000,9,   0.6369,2, -999.00,9,  -999.0,9,  -999.0,-999.000,9, -999.00,9,-999.000,9, -999.00,9, -999.00,9, -71.7613,-169.9986,-999.000,     -999.0,    34.8705,2,     -999.0,9,     -999.0,9,-999.0000,9,-999.0000,9,-999.0000,9,-999.0000,9,-999.0000,9,-999.0000,9,-999.0000,9,-999.0000,9,-999.0000,9,-999.0000,-999.000,   0.5141,     -999.0,     -999.0,9,     -999.0,9,     -999.0,9,     -999.0,9,     -999.0,20110326,       0024
320620110219,       P15S,      90,          1,          8,          8,2,20110325,       2344,   -71.7613,  -169.9986,       4022,  2334.4,   0.5450,  34.7049,2,  34.7049,2,    207.9,2,   242.4,4,  126.17,2,   32.61,2,    0.00,2,    2.24,2,   0.116,2,   0.061,2,   0.005,2,   0.0180,2,  2262.6,2,  2359.8,2,   7.5946,2,    25.00,-999.000,9,-999.0000,9,-999.000,9,   0.5451,2,    0.49,2,  -164.4,2,     2.5,-999.000,9,   -0.13,2,-999.000,9, -999.00,9, -999.00,9, -71.7613,-169.9987,-999.000,     -999.0,    34.8685,2,     -999.0,9,     -999.0,9,-999.0000,9,-999.0000,9,-999.0000,9,-999.0000,9,-999.0000,9,-999.0000,9,-999.0000,9,-999.0000,9,-999.0000,9,-999.0000,-999.000,   0.4051,     -999.0,     -999.0,9,     -999.0,9,     -999.0,9,      -2.11,2,       0.01,20110326,       0019
320620110219,       P15S,      90,          1,          7,          7,2,20110325,       2344,   -71.7613,  -169.9986,       4022,  2583.2,   0.4596,  34.7040,2,  34.7041,2,    209.8,2,   210.1,2,  128.37,2,   32.50,2,    0.00,2,    2.24,2,-999.000,9,-999.000,9,-999.000,9,-999.0000,9,  -999.0,9,  -999.0,9,-999.0000,9,  -999.00,-999.000,9,-999.0000,9,-999.000,9,   0.4595,2, -999.00,9,  -999.0,9,  -999.0,-999.000,9, -999.00,9,-999.000,9, -999.00,9, -999.00,9, -71.7613,-169.9985,-999.000,     -999.0,    34.8678,2,     -999.0,9,     -999.0,9,   0.0928,2,   0.0511,2,   0.0073,3,   0.0004,4,  -0.0090,4,  -0.0081,4,  -0.0105,4,   0.0587,4,   0.0440,4,-999.0000,-999.000,   0.3013,     -999.0,     -999.0,9,     -999.0,9,     -999.0,9,     -999.0,9,     -999.0,20110326,       0014
320620110219,       P15S,      90,          1,          6,          6,2,20110325,       2344,   -71.7613,  -169.9986,       4022,  2834.8,   0.3960,  34.7036,2,  34.7035,2,    211.7,2,   211.8,2,  130.38,2,   32.52,2,    0.00,2,    2.24,2,   0.136,2,   0.070,2,   0.006,2,   0.0240,2,  2262.8,2,  2360.5,2,   7.5957,2,    25.00,-999.000,9,-999.0000,9,-999.000,9,   0.3960,2,    0.46,2,  -162.7,2,     2.3,-999.000,9, -999.00,9,-999.000,9, -999.00,9, -999.00,9, -71.7613,-169.9984,-999.000,     -999.0,    34.8672,2,     -999.0,9,     -999.0,9,-999.0000,9,-999.0000,9,-999.0000,9,-999.0000,9,-999.0000,9,-999.0000,9,-999.0000,9,-999.0000,9,-999.0000,9,-999.0000,-999.000,   0.2179,     -999.0,     -999.0,9,     -999.0,9,     -999.0,9,     -999.0,9,     -999.0,20110326,       0009
320620110219,       P15S,      90,          1,          5,          5,2,20110325,       2344,   -71.7613,  -169.9986,       4022,  3101.0,   0.3467,  34.7033,2,  34.7027,2,    213.0,2,   212.5,2,  131.83,2,   32.58,2,    0.00,2,    2.24,2,-999.000,9,-999.000,9,-999.000,9,-999.0000,9,  -999.0,9,  2360.6,2,   7.5965,2,    25.00,-999.000,9,-999.0000,9,-999.000,9,   0.3469,2,    0.50,2,  -166.0,2,     2.3,-999.000,9, -999.00,9,-999.000,9, -999.00,9, -999.00,9, -71.7613,-169.9984,-999.000,     -999.0,    34.8664,2,     -999.0,9,     -999.0,9,-999.0000,9,-999.0000,9,-999.0000,9,-999.0000,9,-999.0000,9,-999.0000,9,-999.0000,9,-999.0000,9,-999.0000,9,-999.0000,-999.000,   0.1464,     -999.0,     -999.0,9,     -999.0,9,     -999.0,9,     -999.0,9,     -999.0,20110326,       0004
320620110219,       P15S,      90,          1,          4,          4,2,20110325,       2344,   -71.7613,  -169.9986,       4022,  3399.9,   0.2953,  34.7023,2,  34.7019,2,    215.2,2,   214.9,2,  133.15,2,   32.65,2,    0.00,2,    2.24,2,   0.223,2,   0.114,2,   0.011,2,   0.0360,2,  2262.6,2,  2359.8,2,   7.5948,2,    25.00,-999.000,9,-999.0000,9,-999.000,9,   0.2951,2,    0.49,2,  -164.2,2,     2.4,-999.000,9,   -0.18,2,-999.000,9, -999.00,9, -999.00,9, -71.7613,-169.9984,-999.000,     -999.0,    34.8656,2,     -999.0,9,     -999.0,9,   0.0955,2,   0.0539,2,   0.0103,3,   0.0024,3,  -0.0078,4,  -0.0074,4,  -0.0101,4,   0.0468,4,   0.0409,4,-999.0000,-999.000,   0.0690,     -999.0,     -999.0,9,     -999.0,9,     -999.0,9,      -2.37,2,       0.06,20110325,       2358
320620110219,       P15S,      90,          1,          3,          3,2,20110325,       2344,   -71.7613,  -169.9986,       4022,  3700.8,   0.2380,  34.6997,2,  34.6994,2,    218.1,2,   218.3,2,  129.87,2,   32.51,2,    0.00,2,    2.24,2,   0.450,2,   0.219,2,   0.024,2,   0.0580,2,  2261.7,2,  2359.4,2,   7.5954,2,    25.00,-999.000,9,-999.0000,9,-999.000,9,   0.2381,2,    0.50,2,  -162.1,2,     2.4,-999.000,9, -999.00,9,-999.000,9, -999.00,9, -999.00,9, -71.7613,-169.9985,-999.000,     -999.0,    34.8630,2,     -999.0,9,     -999.0,9,-999.0000,9,-999.0000,9,-999.0000,9,-999.0000,9,-999.0000,9,-999.0000,9,-999.0000,9,-999.0000,9,-999.0000,9,-999.0000,-999.000,  -0.0155,     -999.0,     -999.0,9,     -999.0,9,     -999.0,9,     -999.0,9,     -999.0,20110325,       2352
320620110219,       P15S,      90,          1,          2,          2,2,20110325,       2344,   -71.7613,  -169.9986,       4022,  3950.7,   0.1883,  34.6979,2,  34.6972,2,    221.0,2,   220.7,2,  124.62,2,   32.55,2,    0.00,2,    2.24,2,   0.685,2,   0.329,2,   0.037,2,   0.0680,2,  2260.8,2,  2357.2,6,   7.5946,2,    25.00,-999.000,9,-999.0000,9,-999.000,9,   0.1881,2,    0.52,2,  -159.6,2,     2.3,-999.000,9, -999.00,9,-999.000,9, -999.00,9, -999.00,9, -71.7613,-169.9986,-999.000,     -999.0,    34.8608,2,     -999.0,9,     -999.0,9,-999.0000,9,-999.0000,9,-999.0000,9,-999.0000,9,-999.0000,9,-999.0000,9,-999.0000,9,-999.0000,9,-999.0000,9,-999.0000,-999.000,  -0.0885,     -999.0,     -999.0,9,     -999.0,9,     -999.0,9,     -999.0,9,     -999.0,20110325,       2347
320620110219,       P15S,      90,          1,          1,          1,2,20110325,       2344,   -71.7613,  -169.9986,       4022,  4090.4,   0.1981,  34.6977,2,  34.6978,2,    219.7,2,   219.6,2,  126.30,2,   32.58,2,    0.00,2,    2.25,2,   0.735,2,   0.348,2,   0.040,2,   0.1270,2,  2262.2,6,  2357.2,2,   7.5913,6,    25.00,-999.000,9,-999.0000,9,-999.000,9,   0.1986,2,    0.51,2,  -153.0,2,     2.5,-999.000,9,   -0.48,3,-999.000,9, -999.00,9, -999.00,9, -71.7613,-169.9986,-999.000,     -999.0,    34.8614,2,     -999.0,9,     -999.0,9,   0.0961,2,   0.0539,2,   0.0105,3,   0.0020,3,  -0.0081,4,  -0.0076,4,  -0.0102,4,   0.0471,4,   0.0411,4,-999.0000,-999.000,  -0.0931,     -999.0,     -999.0,9,     -999.0,9,     -999.0,9,      -3.07,6,       0.05,20110325,       2344