BOTTLE,20220813CCHSIOAMB
EXPOCODE,SECT_ID,STNNBR,CASTNO,SAMPNO,BTLNBR,BTLNBR_FLAG_W,DATE,TIME,LATITUDE,LONGITUDE,DEPTH,CTDPRS,CTDTMP,CTDSAL,CTDSAL_FLAG_W,SALNTY,SALNTY_FLAG_W,CTDOXY,CTDOXY_FLAG_W,OXYGEN,OXYGEN_FLAG_W,SILCAT,SILCAT_FLAG_W,NITRAT,NITRAT_FLAG_W,NITRIT,NITRIT_FLAG_W,PHSPHT,PHSPHT_FLAG_W,CFC-11,CFC-11_FLAG_W,CFC-12,CFC-12_FLAG_W,CFC113,CFC113_FLAG_W,SF6,SF6_FLAG_W,TCARBN,TCARBN_FLAG_W,ALKALI,ALKALI_FLAG_W,PH_TOT,PH_TOT_FLAG_W,PH_TMP,TRITUM,TRITUM_FLAG_W,HELIUM,HELIUM_FLAG_W,DELHE3,DELHE3_FLAG_W,REFTMP,REFTMP_FLAG_W,DELC13,DELC13_FLAG_W,DELC14,DELC14_FLAG_W,C14ERR,NEON,NEON_FLAG_W,DELO18,DELO18_FLAG_W,POC,POC_FLAG_W,DOC,DOC_FLAG_W,TDN,TDN_FLAG_W,BTL_LAT,BTL_LON,TRITER,NEONER,SALTREF,SALTREF_FLAG_W,PIGMENTS,PIGMENTS_FLAG_W,LAB_DEN,LAB_DEN_FLAG_W,CDOM325,CDOM325_FLAG_W,CDOM340,CDOM340_FLAG_W,CDOM380,CDOM380_FLAG_W,CDOM412,CDOM412_FLAG_W,CDOM443,CDOM443_FLAG_W,CDOM490,CDOM490_FLAG_W,CDOM555,CDOM555_FLAG_W,CDOMSL,CDOMSL_FLAG_W,CDOMSN,CDOMSN_FLAG_W,HELIER,DELHER,THETA,LDEO_SAMPNO,ABSORBTION,ABSORBTION_FLAG_W,IMAGE_COUNT,IMAGE_COUNT_FLAG_W,CYTO_COUNT,CYTO_COUNT_FLAG_W,DELD,DELD_FLAG_W,DELDERR,BTL_DATE,BTL_TIME
,,,,,,,,,,,METERS,DBAR,ITS-90,PSS-78,,PSS-78,,UMOL/KG,,UMOL/KG,,UMOL/KG,,UMOL/KG,,UMOL/KG,,UMOL/KG,,PMOL/KG,,PMOL/KG,,PMOL/KG,,FMOL/KG,,UMOL/KG,,UMOL/KG,,,,DEG C,TU,,NMOL/KG,,PERCNT,,DEG C,,/MILLE,,/MILLE,,/MILLE,NMOL/KG,,/MILLE,,UG/KG,,UMOL/KG,,UMOL/KG,,,,TU,NMOL/KG,G/KG,,,,,,1/M,,1/M,,1/M,,1/M,,1/M,,1/M,,1/M,,1/NM,,1/NM,,NMOL/KG,PERCNT,DEG C,,,,,,,,/MILLE,,/MILLE,,
320620110219,       S04P,       5,          1,         26,         26,2,20110223,       0552,   -70.4399,   168.4779,       1396,     3.3,  -1.3146,  34.1304,2,  34.1320,2,    342.9,3,   342.9,2,   67.43,2,   28.91,2,    0.35,2,    1.89,2,   5.890,2,   3.216,2,   0.575,2,   2.6270,2,  2196.5,6,  2308.4,2,-999.0000,5,    25.00,-999.000,9,-999.0000,9,-999.000,9,  -1.3141,2,    0.90,2,  -125.5,2,     2.3,-999.000,9, -999.00,9,-999.000,9, -999.00,9, -999.00,9, -70.4399, 168.4779,-999.000,     -999.0,    34.2930,2,     -999.0,1,     -999.0,9,-999.0000,9,-999.0000,9,-999.0000,9,-999.0000,9,-999.0000,9,-999.0000,9,-999.0000,9,-999.0000,9,-999.0000,9,-999.0000,-999.000,  -1.3147,     -999.0,     -999.0,1,     -999.0,1,     -999.0,1,     -999.0,9,     -999.0,20110223,       0648
320620110219,       S04P,       5,          1,         25,         25,2,20110223,       0552,   -70.4399,   168.4779,       1396,    19.9,  -1.3480,  34.1346,2,  34.1356,2,    343.9,2,   342.6,2,   67.52,2,   28.96,2,    0.17,2,    1.90,2,   5.725,2,   3.189,2,   0.583,2,   2.6750,2,  -999.0,9,  -999.0,9,-999.0000,9,  -999.00,-999.000,9,-999.0000,9,-999.000,9,  -1.3487,2, -999.00,9,  -999.0,9,  -999.0,-999.000,9, -999.00,9,-999.000,9, -999.00,9, -999.00,9, -70.4399, 168.4778,-999.000,     -999.0,    34.2966,2,     -999.0,1,     -999.0,9,-999.0000,9,-999.0000,9,-999.0000,9,-999.0000,9,-999.0000,9,-999.0000,9,-999.0000,9,-999.0000,9,-999.0000,9,-999.0000,-999.000,  -1.3485,     -999.0,     -999.0,1,     -999.0,1,     -999.0,1,     -999.0,9,     -999.0,20110223,       0645
320620110219,       S04P,       5,          1,         24,         24,2,20110223,       0552,   -70.4399,   168.4779,       1396,    39.9,  -1.3595,  34.1427,2,  34.1427,2,    341.5,2,   341.8,2,   67.83,2,   28.99,2,    0.17,2,    1.91,2,   5.688,2,   3.197,2,   0.575,2,   2.5420,2,  2200.6,2,  2309.2,2,-999.0000,5,    25.00,-999.000,9,-999.0000,9,-999.000,9,  -1.3602,2, -999.00,9,  -999.0,9,  -999.0,-999.000,9, -999.00,9,-999.000,9, -999.00,9, -999.00,9, -70.4399, 168.4778,-999.000,     -999.0,    34.3036,2,     -999.0,1,     -999.0,9,-999.0000,9,-999.0000,9,-999.0000,9,-999.0000,9,-999.0000,9,-999.0000,9,-999.0000,9,-999.0000,9,-999.0000,9,-999.0000,-999.000,  -1.3604,     -999.0,     -999.0,1,     -999.0,1,     -999.0,1,     -999.0,9,     -999.0,20110223,       0644
320620110219,       S04P,       5,          1,         23,         23,2,20110223,       0552,   -70.4399,   168.4779,       1396,    65.2,  -1.3303,  34.2308,2,  34.2259,2,    334.8,2,   335.8,2,   68.21,2,   29.35,2,    0.19,2,    1.94,2,-999.000,9,-999.000,9,-999.000,9,-999.0000,9,  2209.1,2,  2313.2,6,-999.0000,5,    25.00,-999.000,9,-999.0000,9,-999.000,9,  -1.3305,2,    0.86,2,  -123.2,2,     3.0,-999.000,9, -999.00,9,-999.000,9, -999.00,9, -999.00,9, -70.4399, 168.4778,-999.000,     -999.0,    34.3872,2,     -999.0,1,     -999.0,9,-999.0000,9,-999.0000,9,-999.0000,9,-999.0000,9,-999.0000,9,-999.0000,9,-999.0000,9,-999.0000,9,-999.0000,9,-999.0000,-999.000,  -1.3318,     -999.0,     -999.0,1,     -999.0,1,     -999.0,1,     -999.0,9,     -999.0,20110223,       0642
320620110219,       S04P,       5,          1,         22,         22,2,20110223,       0552,   -70.4399,   168.4779,       1396,    90.2,  -1.2839,  34.2426,2,  34.2411,2,    330.0,2,   333.7,2,   68.16,2,   29.29,2,    0.19,2,    1.95,2,   5.433,2,   3.056,2,   0.544,2,   2.4520,2,  2211.1,2,  2315.2,2,-999.0000,5,    25.00,-999.000,9,-999.0000,9,-999.000,9,  -1.2799,2,    0.86,2,  -130.2,2,     2.5,-999.000,9, -999.00,9,-999.000,9, -999.00,9, -999.00,9, -70.4399, 168.4779,-999.000,     -999.0,    34.4026,2,     -999.0,9,     -999.0,9,-999.0000,9,-999.0000,9,-999.0000,9,-999.0000,9,-999.0000,9,-999.0000,9,-999.0000,9,-999.0000,9,-999.0000,9,-999.0000,-999.000,  -1.2861,     -999.0,     -999.0,9,     -999.0,9,     -999.0,9,     -999.0,9,     -999.0,20110223,       0640
320620110219,       S04P,       5,          1,         21,         21,2,20110223,       0552,   -70.4399,   168.4779,       1396,   114.8,  -1.2431,  34.2589,2,  34.2696,2,   -999.0,9,  -999.0,5,   69.53,2,   29.68,2,    0.18,2,    1.97,2,-999.000,9,-999.000,9,-999.000,9,-999.0000,9,  2210.8,2,  2316.5,2,-999.0000,5,    25.00,-999.000,9,-999.0000,9,-999.000,9,  -1.2386,2,    0.84,2,  -127.7,2,     2.6,-999.000,9, -999.00,9,-999.000,9, -999.00,9, -999.00,9, -70.4399, 168.4778,-999.000,     -999.0,    34.4311,2,     -999.0,9,     -999.0,9,-999.0000,9,-999.0000,9,-999.0000,9,-999.0000,9,-999.0000,9,-999.0000,9,-999.0000,9,-999.0000,9,-999.0000,9,-999.0000,-999.000,  -1.2459,     -999.0,     -999.0,9,     -999.0,9,     -999.0,9,     -999.0,9,     -999.0,20110223,       0639
320620110219,       S04P,       5,          1,         20,         20,2,20110223,       0552,   -70.4399,   168.4779,       1396,   139.9,  -0.9769,  34.3148,2,  34.3134,2,    314.6,2,   309.3,2,   71.72,2,   30.04,2,    0.15,2,    2.00,2,   4.649,2,   2.619,2,   0.453,2,   2.0770,2,  -999.0,9,  -999.0,9,-999.0000,9,  -999.00,-999.000,9,-999.0000,9,-999.000,9,  -0.9781,2, -999.00,9,  -999.0,9,  -999.0,-999.000,9, -999.00,9,-999.000,9, -999.00,9, -999.00,9, -70.4399, 168.4779,-999.000,     -999.0,    34.4752,2,     -999.0,1,     -999.0,9,-999.0000,9,-999.0000,9,-999.0000,9,-999.0000,9,-999.0000,9,-999.0000,9,-999.0000,9,-999.0000,9,-999.0000,9,-999.0000,-999.000,  -0.9807,     -999.0,     -999.0,1,     -999.0,1,     -999.0,1,     -999.0,9,     -999.0,20110223,       0637
320620110219,       S04P,       5,          1,         19,         19,2,20110223,       0552,   -70.4399,   168.4779,       1396,   164.9,  -0.8219,  34.3557,2,  34.3558,2,    296.0,2,   296.4,2,   73.99,2,   30.26,2,    0.12,2,    2.02,2,-999.000,9,-999.000,9,-999.000,9,-999.0000,9,  2222.4,2,  2322.5,2,-999.0000,5,    25.00,-999.000,9,-999.0000,9,-999.000,9,  -0.8219,2,    0.75,2,  -138.4,2,     2.7,-999.000,9, -999.00,9,-999.000,9, -999.00,9, -999.00,9, -70.4399, 168.4779,-999.000,     -999.0,    34.5178,2,     -999.0,9,     -999.0,9,-999.0000,9,-999.0000,9,-999.0000,9,-999.0000,9,-999.0000,9,-999.0000,9,-999.0000,9,-999.0000,9,-999.0000,9,-999.0000,-999.000,  -0.8267,     -999.0,     -999.0,9,     -999.0,9,     -999.0,9,     -999.0,9,     -999.0,20110223,       0636
320620110219,       S04P,       5,          1,         18,         18,2,20110223,       0552,   -70.4399,   168.4779,       1396,   189.9,  -0.7378,  34.3730,2,  34.3717,2,    281.6,2,   292.3,2,   74.73,2,   30.16,2,    0.11,2,    2.03,2,   4.148,2,   2.304,2,   0.424,2,   1.7550,2,  -999.0,9,  -999.0,9,-999.0000,9,  -999.00,-999.000,9,-999.0000,9,-999.000,9,  -0.7383,2, -999.00,9,  -999.0,9,  -999.0,-999.000,9, -999.00,9,-999.000,9, -999.00,9, -999.00,9, -70.4399, 168.4779,-999.000,     -999.0,    34.5337,2,     -999.0,9,     -999.0,9,-999.0000,9,-999.0000,9,-999.0000,9,-999.0000,9,-999.0000,9,-999.0000,9,-999.0000,9,-999.0000,9,-999.0000,9,-999.0000,-999.000,  -0.7435,     -999.0,     -999.0,9,     -999.0,9,     -999.0,9,     -999.0,9,     -999.0,20110223,       0634
320620110219,       S04P,       5,          1,         17,         17,2,20110223,       0552,   -70.4399,   168.4779,       1396,   214.6,  -0.5991,  34.4105,2,  34.4093,2,    277.3,2,   277.3,2,   77.20,2,   30.47,2,    0.10,2,    2.06,2,-999.000,9,-999.000,9,-999.000,9,-999.0000,9,  2227.3,2,  2325.5,2,-999.0000,5,    25.00,-999.000,9,-999.0000,9,-999.000,9,  -0.5976,2,    0.70,2,  -136.2,2,     2.5,-999.000,9, -999.00,9,-999.000,9, -999.00,9, -999.00,9, -70.4399, 168.4778,-999.000,     -999.0,    34.5715,2,     -999.0,9,     -999.0,9,-999.0000,9,-999.0000,9,-999.0000,9,-999.0000,9,-999.0000,9,-999.0000,9,-999.0000,9,-999.0000,9,-999.0000,9,-999.0000,-999.000,  -0.6059,     -999.0,     -999.0,9,     -999.0,9,     -999.0,9,     -999.0,9,     -999.0,20110223,       0632
320620110219,       S04P,       5,          1,         16,         16,2,20110223,       0552,   -70.4399,   168.4779,       1396,   239.5,  -0.3899,  34.4611,2,  34.4618,2,    269.1,2,   261.8,2,   80.92,2,   30.89,2,    0.09,2,    2.08,2,   3.115,2,   1.718,2,   0.291,2,   1.2410,2,  -999.0,9,  -999.0,9,-999.0000,9,  -999.00,-999.000,9,-999.0000,9,-999.000,9,  -0.3908,2, -999.00,9,  -999.0,9,  -999.0,-999.000,9, -999.00,9,-999.000,9, -999.00,9, -999.00,9, -70.4399, 168.4779,-999.000,     -999.0,    34.6243,2,     -999.0,9,     -999.0,9,-999.0000,9,-999.0000,9,-999.0000,9,-999.0000,9,-999.0000,9,-999.0000,9,-999.0000,9,-999.0000,9,-999.0000,9,-999.0000,-999.000,  -0.3980,     -999.0,     -999.0,9,     -999.0,9,     -999.0,9,     -999.0,9,     -999.0,20110223,       0631
320620110219,       S04P,       5,          1,         15,         15,2,20110223,       0552,   -70.4399,   168.4779,       1396,   285.3,  -0.2321,  34.5081,2,  34.5118,2,    247.3,2,   241.0,2,   84.68,2,   31.80,2,    0.06,2,    2.12,2,-999.000,9,-999.000,9,-999.000,9,-999.0000,9,  2241.3,2,  2331.4,2,-999.0000,5,    25.00,-999.000,9,-999.0000,9,-999.000,9,  -0.2358,2,    0.58,2,  -155.0,2,     2.4,-999.000,9, -999.00,9,-999.000,9, -999.00,9, -999.00,9, -70.4399, 168.4779,-999.000,     -999.0,    34.6746,2,     -999.0,9,     -999.0,9,-999.0000,9,-999.0000,9,-999.0000,9,-999.0000,9,-999.0000,9,-999.0000,9,-999.0000,9,-999.0000,9,-999.0000,9,-999.0000,-999.000,  -0.2422,     -999.0,     -999.0,9,     -999.0,9,     -999.0,9,     -999.0,9,     -999.0,20110223,       0629
320620110219,       S04P,       5,          1,         14,         14,2,20110223,       0552,   -70.4399,   168.4779,       1396,   335.7,   0.0595,  34.5613,2,  34.5607,2,    227.6,2,   228.0,2,   88.71,2,   32.14,2,    0.03,2,    2.14,2,   2.017,2,   1.095,2,   0.185,2,   0.6970,2,  2245.1,2,  2333.6,2,-999.0000,5,    25.00,-999.000,9,-999.0000,9,-999.000,9,   0.0582,2,    0.57,2,  -177.6,3,     3.9,-999.000,9, -999.00,9,-999.000,9, -999.00,9, -999.00,9, -70.4399, 168.4779,-999.000,     -999.0,    34.7236,2,     -999.0,9,     -999.0,9,-999.0000,9,-999.0000,9,-999.0000,9,-999.0000,9,-999.0000,9,-999.0000,9,-999.0000,9,-999.0000,9,-999.0000,9,-999.0000,-999.000,   0.0466,     -999.0,     -999.0,9,     -999.0,9,     -999.0,9,     -999.0,9,     -999.0,20110223,       0627
320620110219,       S04P,       5,          1,         13,         13,2,20110223,       0552,   -70.4399,   168.4779,       1396,   385.7,   0.3988,  34.6181,2,  34.6186,2,    226.6,2,   216.9,2,   94.19,2,   31.96,2,    0.01,2,    2.16,2,-999.000,9,-999.000,9,-999.000,9,-999.0000,9,  2252.2,2,  2341.7,2,-999.0000,5,    25.00,-999.000,9,-999.0000,9,-999.000,9,   0.3985,2,    0.50,2,  -155.5,2,     2.4,-999.000,9, -999.00,9,-999.000,9, -999.00,9, -999.00,9, -70.4399, 168.4779,-999.000,     -999.0,    34.7818,2,     -999.0,9,     -999.0,9,-999.0000,9,-999.0000,9,-999.0000,9,-999.0000,9,-999.0000,9,-999.0000,9,-999.0000,9,-999.0000,9,-999.0000,9,-999.0000,-999.000,   0.3826,     -999.0,     -999.0,9,     -999.0,9,     -999.0,9,     -999.0,9,     -999.0,20110223,       0625
320620110219,       S04P,       5,          1,         12,         12,2,20110223,       0552,   -70.4399,   168.4779,       1396,   435.4,   0.5027,  34.6408,2,  34.6399,2,    213.8,2,   212.8,2,   97.06,2,   31.96,2,    0.01,2,    2.16,2,   1.317,2,   0.680,2,   0.113,2,   0.4380,2,  -999.0,9,  2343.6,2,-999.0000,9,  -999.00,-999.000,9,-999.0000,9,-999.000,9,   0.5013,2, -999.00,9,  -999.0,9,  -999.0,-999.000,9, -999.00,9,-999.000,9, -999.00,9, -999.00,9, -70.4399, 168.4779,-999.000,     -999.0,    34.8033,2,     -999.0,9,     -999.0,9,-999.0000,9,-999.0000,9,-999.0000,9,-999.0000,9,-999.0000,9,-999.0000,9,-999.0000,9,-999.0000,9,-999.0000,9,-999.0000,-999.000,   0.4838,     -999.0,     -999.0,9,     -999.0,9,     -999.0,9,     -999.0,9,     -999.0,20110223,       0623
320620110219,       S04P,       5,          1,         11,         11,2,20110223,       0552,   -70.4399,   168.4779,       1396,   485.9,   0.6124,  34.6631,2,  34.6623,2,    208.4,2,   209.2,2,   99.98,2,   32.09,2,    0.00,2,    2.17,2,-999.000,9,-999.000,9,-999.000,9,-999.0000,9,  -999.0,9,  -999.0,9,-999.0000,9,  -999.00,-999.000,9,-999.0000,9,-999.000,9,   0.6119,2, -999.00,9,  -999.0,9,  -999.0,-999.000,9, -999.00,9,-999.000,9, -999.00,9, -999.00,9, -70.4399, 168.4779,-999.000,     -999.0,    34.8258,2,     -999.0,9,     -999.0,9,-999.0000,9,-999.0000,9,-999.0000,9,-999.0000,9,-999.0000,9,-999.0000,9,-999.0000,9,-999.0000,9,-999.0000,9,-999.0000,-999.000,   0.5907,     -999.0,     -999.0,9,     -999.0,9,     -999.0,9,     -999.0,9,     -999.0,20110223,       0621
320620110219,       S04P,       5,          1,         10,         10,2,20110223,       0552,   -70.4399,   168.4779,       1396,   566.2,   0.6224,  34.6770,2,  34.6763,2,    207.4,2,   208.1,2,  103.95,2,   32.04,2,    0.00,2,    2.17,2,   0.938,2,   0.478,2,   0.080,2,   0.2800,2,  2257.1,2,  2349.7,2,-999.0000,5,    25.00,-999.000,9,-999.0000,9,-999.000,9,   0.6218,2, -999.00,9,  -999.0,9,  -999.0,-999.000,9, -999.00,9,-999.000,9, -999.00,9, -999.00,9, -70.4399, 168.4778,-999.000,     -999.0,    34.8398,2,     -999.0,9,     -999.0,9,-999.0000,9,-999.0000,9,-999.0000,9,-999.0000,9,-999.0000,9,-999.0000,9,-999.0000,9,-999.0000,9,-999.0000,9,-999.0000,-999.000,   0.5966,     -999.0,     -999.0,9,     -999.0,9,     -999.0,9,     -999.0,9,     -999.0,20110223,       0618
320620110219,       S04P,       5,          1,          9,          9,2,20110223,       0552,   -70.4399,   168.4779,       1396,   666.1,   0.3003,  34.6555,2,  34.6588,2,    210.8,2,   217.9,2,  101.05,2,   31.59,2,    0.00,2,    2.16,2,-999.000,9,-999.000,9,-999.000,9,-999.0000,9,  -999.0,9,  -999.0,9,-999.0000,9,  -999.00,-999.000,9,-999.0000,9,-999.000,9,   0.3024,2, -999.00,9,  -999.0,9,  -999.0,-999.000,9, -999.00,9,-999.000,9, -999.00,9, -999.00,9, -70.4399, 168.4778,-999.000,     -999.0,    34.8223,2,     -999.0,9,     -999.0,9,-999.0000,9,-999.0000,9,-999.0000,9,-999.0000,9,-999.0000,9,-999.0000,9,-999.0000,9,-999.0000,9,-999.0000,9,-999.0000,-999.000,   0.2712,     -999.0,     -999.0,9,     -999.0,9,     -999.0,9,     -999.0,9,     -999.0,20110223,       0615
320620110219,       S04P,       5,          1,          8,          8,2,20110223,       0552,   -70.4399,   168.4779,       1396,   765.6,   0.6342,  34.6945,2,  34.6940,2,    210.4,2,   206.3,2,  111.00,2,   31.82,2,    0.00,2,    2.17,2,   0.688,2,   0.337,2,   0.058,2,   0.2060,2,  2258.3,2,  2352.6,2,-999.0000,5,    25.00,-999.000,9,-999.0000,9,-999.000,9,   0.6338,2,    0.49,2,  -165.6,2,     2.9,-999.000,9, -999.00,9,-999.000,9, -999.00,9, -999.00,9, -70.4399, 168.4779,-999.000,     -999.0,    34.8576,2,     -999.0,9,     -999.0,9,-999.0000,9,-999.0000,9,-999.0000,9,-999.0000,9,-999.0000,9,-999.0000,9,-999.0000,9,-999.0000,9,-999.0000,9,-999.0000,-999.000,   0.5979,     -999.0,     -999.0,9,     -999.0,9,     -999.0,9,     -999.0,9,     -999.0,20110223,       0612
320620110219,       S04P,       5,          1,          7,          7,2,20110223,       0552,   -70.4399,   168.4779,       1396,   866.2,   0.3063,  34.6727,2,  34.6728,2,    214.4,2,   225.3,2,  105.43,2,   32.35,2,    0.00,2,    2.16,2,-999.000,9,-999.000,9,-999.000,9,-999.0000,9,  -999.0,9,  -999.0,9,-999.0000,9,  -999.00,-999.000,9,-999.0000,9,-999.000,9,   0.2980,2, -999.00,9,  -999.0,9,  -999.0,-999.000,9, -999.00,9,-999.000,9, -999.00,9, -999.00,9, -70.4399, 168.4778,-999.000,     -999.0,    34.8363,2,     -999.0,9,     -999.0,9,-999.0000,9,-999.0000,9,-999.0000,9,-999.0000,9,-999.0000,9,-999.0000,9,-999.0000,9,-999.0000,9,-999.0000,9,-999.0000,-999.000,   0.2668,     -999.0,     -999.0,9,     -999.0,9,     -999.0,9,     -999.0,9,     -999.0,20110223,       0609
320620110219,       S04P,       5,          1,          6,          6,2,20110223,       0552,   -70.4399,   168.4779,       1396,   965.9,   0.3324,  34.6810,2,  34.6801,2,    219.7,2,  -999.0,5,  108.68,2,   32.38,2,    0.00,2,    2.17,2,   1.117,2,   0.574,2,   0.107,2,   0.4400,2,  2256.2,2,  2350.7,2,-999.0000,5,    25.00,-999.000,9,-999.0000,9,-999.000,9,   0.3330,2,    0.50,2,  -164.1,2,     2.5,-999.000,9, -999.00,9,-999.000,9, -999.00,9, -999.00,9, -70.4399, 168.4779,-999.000,     -999.0,    34.8436,2,     -999.0,9,     -999.0,9,-999.0000,9,-999.0000,9,-999.0000,9,-999.0000,9,-999.0000,9,-999.0000,9,-999.0000,9,-999.0000,9,-999.0000,9,-999.0000,-999.000,   0.2873,     -999.0,     -999.0,9,     -999.0,9,     -999.0,9,     -999.0,9,     -999.0,20110223,       0606
320620110219,       S04P,       5,          1,          5,          5,2,20110223,       0552,   -70.4399,   168.4779,       1396,  1065.8,   0.0541,  34.6599,2,  34.6526,2,    228.1,2,   228.2,2,   98.69,2,   31.96,2,    0.00,2,    2.15,2,-999.000,9,-999.000,9,-999.000,9,-999.0000,9,  -999.0,9,  -999.0,9,-999.0000,9,  -999.00,-999.000,9,-999.0000,9,-999.000,9,   0.0559,2, -999.00,9,  -999.0,9,  -999.0,-999.000,9, -999.00,9,-999.000,9, -999.00,9, -999.00,9, -70.4399, 168.4779,-999.000,     -999.0,    34.8160,2,     -999.0,9,     -999.0,9,-999.0000,9,-999.0000,9,-999.0000,9,-999.0000,9,-999.0000,9,-999.0000,9,-999.0000,9,-999.0000,9,-999.0000,9,-999.0000,-999.000,   0.0059,     -999.0,     -999.0,9,     -999.0,9,     -999.0,9,     -999.0,9,     -999.0,20110223,       0603
320620110219,       S04P,       5,          1,          4,          4,2,20110223,       0552,   -70.4399,   168.4779,       1396,  1165.3,  -0.0001,  34.6528,2,  34.6512,2,    229.5,2,   229.3,2,   97.46,2,   32.03,2,    0.00,2,    2.15,2,-999.000,9,-999.000,9,-999.000,9,-999.0000,9,  2251.6,2,  2348.2,2,-999.0000,5,    25.00,-999.000,9,-999.0000,9,-999.000,9,  -0.0010,2,    0.55,2,  -160.4,2,     2.6,-999.000,9, -999.00,9,-999.000,9, -999.00,9, -999.00,9, -70.4399, 168.4778,-999.000,     -999.0,    34.8146,2,     -999.0,9,     -999.0,9,-999.0000,9,-999.0000,9,-999.0000,9,-999.0000,9,-999.0000,9,-999.0000,9,-999.0000,9,-999.0000,9,-999.0000,9,-999.0000,-999.000,  -0.0533,     -999.0,     -999.0,9,     -999.0,9,     -999.0,9,     -999.0,9,     -999.0,20110223,       0600