BOTTLE,20220813CCHSIOAMB
EXPOCODE,SECT_ID,STNNBR,CASTNO,SAMPNO,BTLNBR,BTLNBR_FLAG_W,DATE,TIME,LATITUDE,LONGITUDE,DEPTH,CTDPRS,CTDTMP,CTDSAL,CTDSAL_FLAG_W,SALNTY,SALNTY_FLAG_W,CTDOXY,CTDOXY_FLAG_W,OXYGEN,OXYGEN_FLAG_W,SILCAT,SILCAT_FLAG_W,NITRAT,NITRAT_FLAG_W,NITRIT,NITRIT_FLAG_W,PHSPHT,PHSPHT_FLAG_W,CFC-11,CFC-11_FLAG_W,CFC-12,CFC-12_FLAG_W,CFC113,CFC113_FLAG_W,SF6,SF6_FLAG_W,TCARBN,TCARBN_FLAG_W,ALKALI,ALKALI_FLAG_W,PH_TOT,PH_TOT_FLAG_W,PH_TMP,TRITUM,TRITUM_FLAG_W,HELIUM,HELIUM_FLAG_W,DELHE3,DELHE3_FLAG_W,REFTMP,REFTMP_FLAG_W,DELC13,DELC13_FLAG_W,DELC14,DELC14_FLAG_W,C14ERR,NEON,NEON_FLAG_W,DELO18,DELO18_FLAG_W,POC,POC_FLAG_W,DOC,DOC_FLAG_W,TDN,TDN_FLAG_W,BTL_LAT,BTL_LON,TRITER,NEONER,SALTREF,SALTREF_FLAG_W,PIGMENTS,PIGMENTS_FLAG_W,LAB_DEN,LAB_DEN_FLAG_W,CDOM325,CDOM325_FLAG_W,CDOM340,CDOM340_FLAG_W,CDOM380,CDOM380_FLAG_W,CDOM412,CDOM412_FLAG_W,CDOM443,CDOM443_FLAG_W,CDOM490,CDOM490_FLAG_W,CDOM555,CDOM555_FLAG_W,CDOMSL,CDOMSL_FLAG_W,CDOMSN,CDOMSN_FLAG_W,HELIER,DELHER,THETA,LDEO_SAMPNO,ABSORBTION,ABSORBTION_FLAG_W,IMAGE_COUNT,IMAGE_COUNT_FLAG_W,CYTO_COUNT,CYTO_COUNT_FLAG_W,DELD,DELD_FLAG_W,DELDERR,BTL_DATE,BTL_TIME
,,,,,,,,,,,METERS,DBAR,ITS-90,PSS-78,,PSS-78,,UMOL/KG,,UMOL/KG,,UMOL/KG,,UMOL/KG,,UMOL/KG,,UMOL/KG,,PMOL/KG,,PMOL/KG,,PMOL/KG,,FMOL/KG,,UMOL/KG,,UMOL/KG,,,,DEG C,TU,,NMOL/KG,,PERCNT,,DEG C,,/MILLE,,/MILLE,,/MILLE,NMOL/KG,,/MILLE,,UG/KG,,UMOL/KG,,UMOL/KG,,,,TU,NMOL/KG,G/KG,,,,,,1/M,,1/M,,1/M,,1/M,,1/M,,1/M,,1/M,,1/NM,,1/NM,,NMOL/KG,PERCNT,DEG C,,,,,,,,/MILLE,,/MILLE,,
320620110219,       P15S,      84,          1,         12,         12,2,20110324,       0948,   -73.9191,  -172.9860,       2667,  1335.8,   0.9155,  34.7171,2,  34.7168,2,    199.1,2,   198.9,2,  115.87,2,   31.78,2,    0.00,2,    2.24,2,   0.075,2,   0.039,2,   0.005,2,   0.0400,2,  -999.0,9,  -999.0,9,-999.0000,9,  -999.00,-999.000,9,-999.0000,9,-999.000,9,   0.9151,2, -999.00,9,  -999.0,9,  -999.0,-999.000,9,   -0.04,2,-999.000,9, -999.00,9, -999.00,9, -73.9189,-172.9853,-999.000,     -999.0,    34.8805,2,     -999.0,9,     -999.0,9,-999.0000,9,-999.0000,9,-999.0000,9,-999.0000,9,-999.0000,9,-999.0000,9,-999.0000,9,-999.0000,9,-999.0000,9,-999.0000,-999.000,   0.8426,     -999.0,     -999.0,9,     -999.0,9,     -999.0,9,      -1.52,2,       0.15,20110324,       1021
320620110219,       P15S,      84,          1,         11,         11,2,20110324,       0948,   -73.9191,  -172.9860,       2667,  1434.1,   0.8670,  34.7152,2,  34.7144,2,    200.3,2,   200.0,2,  117.64,2,   31.72,2,    0.00,2,    2.24,2,-999.000,9,-999.000,9,-999.000,9,-999.0000,9,  2260.3,2,  2358.7,2,   7.5950,2,    25.00,-999.000,9,-999.0000,9,-999.000,9,   0.8671,2, -999.00,9,  -999.0,9,  -999.0,-999.000,9,   -0.20,2,-999.000,9, -999.00,9, -999.00,9, -73.9189,-172.9853,-999.000,     -999.0,    34.8781,2,     -999.0,9,     -999.0,9,-999.0000,9,-999.0000,9,-999.0000,9,-999.0000,9,-999.0000,9,-999.0000,9,-999.0000,9,-999.0000,9,-999.0000,9,-999.0000,-999.000,   0.7881,     -999.0,     -999.0,9,     -999.0,9,     -999.0,9,      -2.68,2,       0.42,20110324,       1019
320620110219,       P15S,      84,          1,         10,         37,2,20110324,       0948,   -73.9191,  -172.9860,       2667,  1534.8,   0.8159,  34.7133,2,  34.7126,2,    201.3,2,   201.3,2,  119.33,2,   31.79,2,    0.00,2,    2.24,2,-999.000,9,-999.000,9,-999.000,9,-999.0000,9,  -999.0,9,  -999.0,9,-999.0000,9,  -999.00,-999.000,9,-999.0000,9,-999.000,9,   0.8156,2, -999.00,9,  -999.0,9,  -999.0,-999.000,9,   -0.06,2,-999.000,9, -999.00,9, -999.00,9, -73.9189,-172.9851,-999.000,     -999.0,    34.8763,2,     -999.0,9,     -999.0,9,-999.0000,9,-999.0000,9,-999.0000,9,-999.0000,9,-999.0000,9,-999.0000,9,-999.0000,9,-999.0000,9,-999.0000,9,-999.0000,-999.000,   0.7308,     -999.0,     -999.0,9,     -999.0,9,     -999.0,9,      -1.55,2,       0.03,20110324,       1016
320620110219,       P15S,      84,          1,          9,          9,2,20110324,       0948,   -73.9191,  -172.9860,       2667,  1633.5,   0.7724,  34.7119,2,  34.7118,2,    202.5,2,   202.7,2,  121.08,2,   31.67,2,    0.00,2,    2.24,2,-999.000,9,-999.000,9,-999.000,9,-999.0000,9,  -999.0,9,  -999.0,9,-999.0000,9,  -999.00,-999.000,9,-999.0000,9,-999.000,9,   0.7721,2, -999.00,9,  -999.0,9,  -999.0,-999.000,9,   -0.07,2,-999.000,9, -999.00,9, -999.00,9, -73.9189,-172.9850,-999.000,     -999.0,    34.8755,2,     -999.0,9,     -999.0,9,-999.0000,9,-999.0000,9,-999.0000,9,-999.0000,9,-999.0000,9,-999.0000,9,-999.0000,9,-999.0000,9,-999.0000,9,-999.0000,-999.000,   0.6811,     -999.0,     -999.0,9,     -999.0,9,     -999.0,9,      -1.68,2,       0.36,20110324,       1014
320620110219,       P15S,      84,          1,          8,          8,2,20110324,       0948,   -73.9191,  -172.9860,       2667,  1734.9,   0.7289,  34.7107,2,  34.7098,2,    203.4,2,   203.2,2,  122.92,2,   31.92,2,    0.00,2,    2.24,2,   0.078,2,   0.030,3,   0.010,2,   0.0550,2,  -999.0,9,  -999.0,9,-999.0000,9,  -999.00,-999.000,9,-999.0000,9,-999.000,9,   0.7288,2, -999.00,9,  -999.0,9,  -999.0,-999.000,9,   -0.09,2,-999.000,9, -999.00,9, -999.00,9, -73.9189,-172.9850,-999.000,     -999.0,    34.8735,2,     -999.0,9,     -999.0,9,-999.0000,9,-999.0000,9,-999.0000,9,-999.0000,9,-999.0000,9,-999.0000,9,-999.0000,9,-999.0000,9,-999.0000,9,-999.0000,-999.000,   0.6310,     -999.0,     -999.0,9,     -999.0,9,     -999.0,9,      -1.75,2,       0.24,20110324,       1011
320620110219,       P15S,      84,          1,          7,          7,2,20110324,       0948,   -73.9191,  -172.9860,       2667,  1835.1,   0.6946,  34.7095,2,  34.7092,2,    204.0,2,   204.1,2,  124.01,2,   32.03,2,    0.00,2,    2.24,2,-999.000,9,-999.000,9,-999.000,9,-999.0000,9,  2261.1,2,  2359.0,2,   7.5972,2,    25.00,-999.000,9,-999.0000,9,-999.000,9,   0.6943,2, -999.00,9,  -999.0,9,  -999.0,-999.000,9,   -0.13,2,-999.000,9, -999.00,9, -999.00,9, -73.9189,-172.9850,-999.000,     -999.0,    34.8729,2,     -999.0,9,     -999.0,9,-999.0000,9,-999.0000,9,-999.0000,9,-999.0000,9,-999.0000,9,-999.0000,9,-999.0000,9,-999.0000,9,-999.0000,9,-999.0000,-999.000,   0.5900,     -999.0,     -999.0,9,     -999.0,9,     -999.0,9,      -2.25,2,       0.26,20110324,       1009
320620110219,       P15S,      84,          1,          6,          6,2,20110324,       0948,   -73.9191,  -172.9860,       2667,  1935.1,   0.6672,  34.7088,2,  34.7090,2,    204.7,2,   205.0,2,  124.62,2,   32.10,2,    0.00,2,    2.24,2,   0.085,2,   0.046,2,   0.008,2,   0.0840,2,  -999.0,9,  -999.0,9,-999.0000,9,  -999.00,-999.000,9,-999.0000,9,-999.000,9,   0.6671,2, -999.00,9,  -999.0,9,  -999.0,-999.000,9,   -0.09,2,-999.000,9, -999.00,9, -999.00,9, -73.9188,-172.9845,-999.000,     -999.0,    34.8726,2,     -999.0,9,     -999.0,9,-999.0000,9,-999.0000,9,-999.0000,9,-999.0000,9,-999.0000,9,-999.0000,9,-999.0000,9,-999.0000,9,-999.0000,9,-999.0000,-999.000,   0.5557,     -999.0,     -999.0,9,     -999.0,9,     -999.0,9,      -1.74,2,       0.05,20110324,       1006
320620110219,       P15S,      84,          1,          5,          5,2,20110324,       0948,   -73.9191,  -172.9860,       2667,  2064.2,   0.6365,  34.7079,2,  34.7086,2,    205.3,2,   206.1,2,  125.66,2,   32.15,2,    0.00,2,    2.24,2,-999.000,9,-999.000,9,-999.000,9,-999.0000,9,  -999.0,9,  -999.0,9,-999.0000,9,  -999.00,-999.000,9,-999.0000,9,-999.000,9,   0.6364,2, -999.00,9,  -999.0,9,  -999.0,-999.000,9,   -0.21,2,-999.000,9, -999.00,9, -999.00,9, -73.9188,-172.9845,-999.000,     -999.0,    34.8722,2,     -999.0,9,     -999.0,9,-999.0000,9,-999.0000,9,-999.0000,9,-999.0000,9,-999.0000,9,-999.0000,9,-999.0000,9,-999.0000,9,-999.0000,9,-999.0000,-999.000,   0.5159,     -999.0,     -999.0,9,     -999.0,9,     -999.0,9,      -2.17,2,       0.07,20110324,       1003
320620110219,       P15S,      84,          1,          4,          4,2,20110324,       0948,   -73.9191,  -172.9860,       2667,  2264.6,   0.5846,  34.7070,2,  34.7076,2,    206.6,2,   206.5,2,  127.54,2,   32.18,2,    0.00,2,    2.24,2,   0.098,2,   0.046,2,   0.011,2,   0.1180,2,  2259.6,2,  2359.3,2,   7.5970,2,    25.00,-999.000,9,-999.0000,9,-999.000,9,   0.5843,2, -999.00,9,  -999.0,9,  -999.0,-999.000,9,   -0.10,2,-999.000,9, -999.00,9, -999.00,9, -73.9189,-172.9848,-999.000,     -999.0,    34.8712,2,     -999.0,9,     -999.0,9,-999.0000,9,-999.0000,9,-999.0000,9,-999.0000,9,-999.0000,9,-999.0000,9,-999.0000,9,-999.0000,9,-999.0000,9,-999.0000,-999.000,   0.4495,     -999.0,     -999.0,9,     -999.0,9,     -999.0,9,      -1.87,2,       0.01,20110324,       0958
320620110219,       P15S,      84,          1,          3,          3,2,20110324,       0948,   -73.9191,  -172.9860,       2667,  2465.8,   0.5139,  34.7056,2,  34.7056,2,    207.9,2,   208.1,2,  130.21,2,   32.31,2,    0.00,2,    2.25,2,   0.101,2,   0.054,2,   0.005,2,   0.0890,2,  2261.2,2,  2361.2,6,   7.5966,2,    25.00,-999.000,9,-999.0000,9,-999.000,9,   0.5137,2, -999.00,9,  -999.0,9,  -999.0,-999.000,9,   -0.09,2,-999.000,9, -999.00,9, -999.00,9, -73.9190,-172.9852,-999.000,     -999.0,    34.8692,2,     -999.0,9,     -999.0,9,-999.0000,9,-999.0000,9,-999.0000,9,-999.0000,9,-999.0000,9,-999.0000,9,-999.0000,9,-999.0000,9,-999.0000,9,-999.0000,-999.000,   0.3641,     -999.0,     -999.0,9,     -999.0,9,     -999.0,9,      -1.95,2,       0.03,20110324,       0954
320620110219,       P15S,      84,          1,          2,          2,2,20110324,       0948,   -73.9191,  -172.9860,       2667,  2600.7,   0.4811,  34.7051,2,  34.7049,2,    208.6,2,   209.0,2,  132.06,2,   32.36,2,    0.00,2,    2.26,2,   0.110,2,   0.054,2,   0.009,2,   0.0410,2,  2261.4,6,  2360.3,2,   7.5967,2,    25.00,-999.000,9,-999.0000,9,-999.000,9,   0.4806,2, -999.00,9,  -999.0,9,  -999.0,-999.000,9,   -0.12,2,-999.000,9, -999.00,9, -999.00,9, -73.9191,-172.9858,-999.000,     -999.0,    34.8686,2,     -999.0,9,     -999.0,9,-999.0000,9,-999.0000,9,-999.0000,9,-999.0000,9,-999.0000,9,-999.0000,9,-999.0000,9,-999.0000,9,-999.0000,9,-999.0000,-999.000,   0.3209,     -999.0,     -999.0,9,     -999.0,9,     -999.0,9,      -2.10,2,       0.10,20110324,       0951
320620110219,       P15S,      84,          1,          1,          1,2,20110324,       0948,   -73.9191,  -172.9860,       2667,  2703.0,   0.4633,  34.7043,2,  34.7047,2,    208.8,2,   208.5,2,  133.43,2,   32.40,2,    0.00,2,    2.26,2,   0.120,2,   0.056,2,   0.010,2,   0.0870,2,  2261.5,2,  2360.5,2,   7.5931,6,    25.00,-999.000,9,-999.0000,9,-999.000,9,   0.4624,2, -999.00,9,  -999.0,9,  -999.0,-999.000,9,   -0.14,2,-999.000,9, -999.00,9, -999.00,9, -73.9191,-172.9860,-999.000,     -999.0,    34.8684,2,     -999.0,9,     -999.0,9,-999.0000,9,-999.0000,9,-999.0000,9,-999.0000,9,-999.0000,9,-999.0000,9,-999.0000,9,-999.0000,9,-999.0000,9,-999.0000,-999.000,   0.2949,     -999.0,     -999.0,9,     -999.0,9,     -999.0,9,      -2.24,2,       0.11,20110324,       0948