BOTTLE,20220813CCHSIOAMB
EXPOCODE,SECT_ID,STNNBR,CASTNO,SAMPNO,BTLNBR,BTLNBR_FLAG_W,DATE,TIME,LATITUDE,LONGITUDE,DEPTH,CTDPRS,CTDTMP,CTDSAL,CTDSAL_FLAG_W,SALNTY,SALNTY_FLAG_W,CTDOXY,CTDOXY_FLAG_W,OXYGEN,OXYGEN_FLAG_W,SILCAT,SILCAT_FLAG_W,NITRAT,NITRAT_FLAG_W,NITRIT,NITRIT_FLAG_W,PHSPHT,PHSPHT_FLAG_W,CFC-11,CFC-11_FLAG_W,CFC-12,CFC-12_FLAG_W,CFC113,CFC113_FLAG_W,SF6,SF6_FLAG_W,TCARBN,TCARBN_FLAG_W,ALKALI,ALKALI_FLAG_W,PH_TOT,PH_TOT_FLAG_W,PH_TMP,TRITUM,TRITUM_FLAG_W,HELIUM,HELIUM_FLAG_W,DELHE3,DELHE3_FLAG_W,REFTMP,REFTMP_FLAG_W,DELC13,DELC13_FLAG_W,DELC14,DELC14_FLAG_W,C14ERR,NEON,NEON_FLAG_W,DELO18,DELO18_FLAG_W,POC,POC_FLAG_W,DOC,DOC_FLAG_W,TDN,TDN_FLAG_W,BTL_LAT,BTL_LON,TRITER,NEONER,SALTREF,SALTREF_FLAG_W,PIGMENTS,PIGMENTS_FLAG_W,LAB_DEN,LAB_DEN_FLAG_W,CDOM325,CDOM325_FLAG_W,CDOM340,CDOM340_FLAG_W,CDOM380,CDOM380_FLAG_W,CDOM412,CDOM412_FLAG_W,CDOM443,CDOM443_FLAG_W,CDOM490,CDOM490_FLAG_W,CDOM555,CDOM555_FLAG_W,CDOMSL,CDOMSL_FLAG_W,CDOMSN,CDOMSN_FLAG_W,HELIER,DELHER,THETA,LDEO_SAMPNO,ABSORBTION,ABSORBTION_FLAG_W,IMAGE_COUNT,IMAGE_COUNT_FLAG_W,CYTO_COUNT,CYTO_COUNT_FLAG_W,DELD,DELD_FLAG_W,DELDERR,BTL_DATE,BTL_TIME
,,,,,,,,,,,METERS,DBAR,ITS-90,PSS-78,,PSS-78,,UMOL/KG,,UMOL/KG,,UMOL/KG,,UMOL/KG,,UMOL/KG,,UMOL/KG,,PMOL/KG,,PMOL/KG,,PMOL/KG,,FMOL/KG,,UMOL/KG,,UMOL/KG,,,,DEG C,TU,,NMOL/KG,,PERCNT,,DEG C,,/MILLE,,/MILLE,,/MILLE,NMOL/KG,,/MILLE,,UG/KG,,UMOL/KG,,UMOL/KG,,,,TU,NMOL/KG,G/KG,,,,,,1/M,,1/M,,1/M,,1/M,,1/M,,1/M,,1/M,,1/NM,,1/NM,,NMOL/KG,PERCNT,DEG C,,,,,,,,/MILLE,,/MILLE,,
320620110219,       P15S,      77,          1,         20,         20,2,20110322,       2235,   -74.6008,  -178.0036,        400,     5.3,  -1.6288,  34.0362,2,  34.0361,2,    345.6,2,   346.5,2,   62.70,2,   26.49,2,    0.10,2,    1.87,2,   6.121,2,   3.337,2,   0.621,2,   2.6440,2,  2185.8,2,  2310.4,6,   7.6703,2,    25.00,-999.000,9,-999.0000,9,-999.000,9,  -1.6280,2, -999.00,9,  -999.0,9,  -999.0,-999.000,9,   -0.60,6,-999.000,9,   45.26,2,   30.25,2, -74.6009,-178.0038,-999.000,     -999.0,    34.1966,2,     -999.0,9,     -999.0,9,-999.0000,9,-999.0000,9,-999.0000,9,-999.0000,9,-999.0000,9,-999.0000,9,-999.0000,9,-999.0000,9,-999.0000,9,-999.0000,-999.000,  -1.6289,     -999.0,     -999.0,9,     -999.0,9,     -999.0,9,      -5.86,6,       0.08,20110322,       2256
320620110219,       P15S,      77,          1,         18,         18,2,20110322,       2235,   -74.6008,  -178.0036,        400,    25.0,  -1.6277,  34.0441,2,  34.0448,2,    346.1,2,   346.4,2,   63.06,2,   26.57,2,    0.10,2,    1.88,2,   6.153,2,   3.343,2,   0.624,2,   2.6990,2,  2183.0,2,  2311.4,2,   7.6720,6,    25.00,-999.000,9,-999.0000,9,-999.000,9,  -1.6272,2, -999.00,9,  -999.0,9,  -999.0,-999.000,9,   -0.55,6,-999.000,9, -999.00,9, -999.00,9, -74.6009,-178.0039,-999.000,     -999.0,    34.2053,2,     -999.0,9,     -999.0,9,-999.0000,9,-999.0000,9,-999.0000,9,-999.0000,9,-999.0000,9,-999.0000,9,-999.0000,9,-999.0000,9,-999.0000,9,-999.0000,-999.000,  -1.6282,     -999.0,     -999.0,9,     -999.0,9,     -999.0,9,      -4.92,6,       0.05,20110322,       2255
320620110219,       P15S,      77,          1,         19,         19,2,20110322,       2235,   -74.6008,  -178.0036,        400,    25.4,  -1.6331,  34.0404,2,-999.0000,9,   -999.0,9,  -999.0,9, -999.00,9, -999.00,9, -999.00,9, -999.00,9,-999.000,9,-999.000,9,-999.000,9,-999.0000,9,  -999.0,9,  -999.0,9,-999.0000,9,  -999.00,-999.000,9,-999.0000,9,-999.000,9,  -1.6321,2, -999.00,9,  -999.0,9,  -999.0,-999.000,9, -999.00,9,-999.000,1,   43.90,2,   30.56,2, -74.6009,-178.0039,-999.000,     -999.0,     -999.0,9,     -999.0,1,     -999.0,9,-999.0000,9,-999.0000,9,-999.0000,9,-999.0000,9,-999.0000,9,-999.0000,9,-999.0000,9,-999.0000,9,-999.0000,9,-999.0000,-999.000,  -1.6336,     -999.0,     -999.0,9,     -999.0,1,     -999.0,1,     -999.0,9,     -999.0,20110322,       2255
320620110219,       P15S,      77,          1,         16,         16,2,20110322,       2235,   -74.6008,  -178.0036,        400,    50.4,  -1.5697,  34.0866,2,  34.0872,2,    343.5,2,   343.8,2,   63.62,2,   26.40,2,    0.10,2,    1.88,2,   6.079,2,   3.312,2,   0.612,2,   2.4420,2,  2187.1,2,  2310.1,2,   7.6720,2,    25.00,-999.000,9,-999.0000,9,-999.000,9,  -1.5695,2, -999.00,9,  -999.0,9,  -999.0,-999.000,9,   -0.62,6,-999.000,9, -999.00,9, -999.00,9, -74.6009,-178.0040,-999.000,     -999.0,    34.2480,2,     -999.0,9,     -999.0,9,-999.0000,9,-999.0000,9,-999.0000,9,-999.0000,9,-999.0000,9,-999.0000,9,-999.0000,9,-999.0000,9,-999.0000,9,-999.0000,-999.000,  -1.5708,     -999.0,     -999.0,9,     -999.0,9,     -999.0,9,      -5.76,6,       0.11,20110322,       2253
320620110219,       P15S,      77,          1,         17,         17,2,20110322,       2235,   -74.6008,  -178.0036,        400,    50.9,  -1.5703,  34.0863,2,-999.0000,9,   -999.0,9,  -999.0,9, -999.00,9, -999.00,9, -999.00,9, -999.00,9,-999.000,9,-999.000,9,-999.000,9,-999.0000,9,  -999.0,9,  -999.0,9,-999.0000,9,  -999.00,-999.000,9,-999.0000,9,-999.000,9,  -1.5698,2, -999.00,9,  -999.0,9,  -999.0,-999.000,9, -999.00,9,-999.000,1,   43.81,2,   30.45,2, -74.6009,-178.0040,-999.000,     -999.0,     -999.0,9,     -999.0,1,     -999.0,9,-999.0000,9,-999.0000,9,-999.0000,9,-999.0000,9,-999.0000,9,-999.0000,9,-999.0000,9,-999.0000,9,-999.0000,9,-999.0000,-999.000,  -1.5714,     -999.0,     -999.0,9,     -999.0,1,     -999.0,1,     -999.0,9,     -999.0,20110322,       2253
320620110219,       P15S,      77,          1,         14,         14,2,20110322,       2235,   -74.6008,  -178.0036,        400,    75.0,  -1.5613,  34.0938,2,  34.0923,2,    342.2,2,   342.6,2,   63.88,2,   26.53,2,    0.10,2,    1.89,2,   5.982,2,   3.286,2,   0.614,2,   2.4360,2,  2187.5,2,  2314.2,2,   7.6721,2,    25.00,-999.000,9,-999.0000,9,-999.000,9,  -1.5613,2, -999.00,9,  -999.0,9,  -999.0,-999.000,9,   -0.58,6,-999.000,9, -999.00,9, -999.00,9, -74.6009,-178.0040,-999.000,     -999.0,    34.2531,2,     -999.0,9,     -999.0,9,-999.0000,9,-999.0000,9,-999.0000,9,-999.0000,9,-999.0000,9,-999.0000,9,-999.0000,9,-999.0000,9,-999.0000,9,-999.0000,-999.000,  -1.5629,     -999.0,     -999.0,9,     -999.0,9,     -999.0,9,      -5.47,6,       0.14,20110322,       2251
320620110219,       P15S,      77,          1,         15,         15,2,20110322,       2235,   -74.6008,  -178.0036,        400,    75.1,  -1.5611,  34.0941,2,-999.0000,9,   -999.0,9,  -999.0,9, -999.00,9, -999.00,9, -999.00,9, -999.00,9,-999.000,9,-999.000,9,-999.000,9,-999.0000,9,  -999.0,9,  -999.0,9,-999.0000,9,  -999.00,-999.000,9,-999.0000,9,-999.000,9,  -1.5613,2, -999.00,9,  -999.0,9,  -999.0,-999.000,9, -999.00,9,-999.000,1,   43.64,2,   29.99,2, -74.6009,-178.0040,-999.000,     -999.0,     -999.0,9,     -999.0,1,     -999.0,9,-999.0000,9,-999.0000,9,-999.0000,9,-999.0000,9,-999.0000,9,-999.0000,9,-999.0000,9,-999.0000,9,-999.0000,9,-999.0000,-999.000,  -1.5627,     -999.0,     -999.0,9,     -999.0,1,     -999.0,1,     -999.0,9,     -999.0,20110322,       2251
320620110219,       P15S,      77,          1,         12,         12,2,20110322,       2235,   -74.6008,  -178.0036,        400,    99.7,  -1.5247,  34.1159,2,  34.1119,2,    337.2,2,   339.3,2,   64.80,2,   26.67,2,    0.10,2,    1.89,2,   5.873,2,   3.216,2,   0.584,2,   2.2170,2,  2190.4,2,  2316.5,2,   7.6674,2,    25.00,-999.000,9,-999.0000,9,-999.000,9,  -1.5245,2, -999.00,9,  -999.0,9,  -999.0,-999.000,9,   -0.59,6,-999.000,9, -999.00,9, -999.00,9, -74.6009,-178.0039,-999.000,     -999.0,    34.2728,2,     -999.0,9,     -999.0,9,-999.0000,9,-999.0000,9,-999.0000,9,-999.0000,9,-999.0000,9,-999.0000,9,-999.0000,9,-999.0000,9,-999.0000,9,-999.0000,-999.000,  -1.5269,     -999.0,     -999.0,9,     -999.0,9,     -999.0,9,      -5.70,6,       0.09,20110322,       2249
320620110219,       P15S,      77,          1,         13,         13,2,20110322,       2235,   -74.6008,  -178.0036,        400,   100.4,  -1.5244,  34.1160,2,-999.0000,9,   -999.0,9,  -999.0,9, -999.00,9, -999.00,9, -999.00,9, -999.00,9,-999.000,9,-999.000,9,-999.000,9,-999.0000,9,  -999.0,9,  -999.0,9,-999.0000,9,  -999.00,-999.000,9,-999.0000,9,-999.000,9,  -1.5249,2, -999.00,9,  -999.0,9,  -999.0,-999.000,9, -999.00,9,-999.000,1,   43.12,2,   30.29,2, -74.6009,-178.0039,-999.000,     -999.0,     -999.0,9,     -999.0,1,     -999.0,9,-999.0000,9,-999.0000,9,-999.0000,9,-999.0000,9,-999.0000,9,-999.0000,9,-999.0000,9,-999.0000,9,-999.0000,9,-999.0000,-999.000,  -1.5266,     -999.0,     -999.0,9,     -999.0,1,     -999.0,1,     -999.0,9,     -999.0,20110322,       2250
320620110219,       P15S,      77,          1,         10,         37,2,20110322,       2235,   -74.6008,  -178.0036,        400,   124.1,  -1.2967,  34.2350,2,  34.2331,2,    326.3,2,   321.8,2,   68.47,2,   26.69,2,    0.10,2,    1.90,2,-999.000,9,-999.000,9,-999.000,9,-999.0000,9,  2200.3,2,  2327.6,2,   7.6651,2,    25.00,-999.000,9,-999.0000,9,-999.000,9,  -1.3009,2, -999.00,9,  -999.0,9,  -999.0,-999.000,9,   -0.53,6,-999.000,9, -999.00,9, -999.00,9, -74.6009,-178.0038,-999.000,     -999.0,    34.3945,2,     -999.0,9,     -999.0,9,-999.0000,9,-999.0000,9,-999.0000,9,-999.0000,9,-999.0000,9,-999.0000,9,-999.0000,9,-999.0000,9,-999.0000,9,-999.0000,-999.000,  -1.2997,     -999.0,     -999.0,9,     -999.0,9,     -999.0,9,      -5.31,6,       0.08,20110322,       2248
320620110219,       P15S,      77,          1,         11,         11,2,20110322,       2235,   -74.6008,  -178.0036,        400,   124.7,  -1.2993,  34.2333,2,-999.0000,9,   -999.0,9,  -999.0,9, -999.00,9, -999.00,9, -999.00,9, -999.00,9,-999.000,9,-999.000,9,-999.000,9,-999.0000,9,  -999.0,9,  -999.0,9,-999.0000,9,  -999.00,-999.000,9,-999.0000,9,-999.000,9,  -1.2995,2, -999.00,9,  -999.0,9,  -999.0,-999.000,9, -999.00,9,-999.000,1,   42.12,2,   29.99,2, -74.6009,-178.0038,-999.000,     -999.0,     -999.0,9,     -999.0,1,     -999.0,9,-999.0000,9,-999.0000,9,-999.0000,9,-999.0000,9,-999.0000,9,-999.0000,9,-999.0000,9,-999.0000,9,-999.0000,9,-999.0000,-999.000,  -1.3023,     -999.0,     -999.0,9,     -999.0,1,     -999.0,1,     -999.0,9,     -999.0,20110322,       2248
320620110219,       P15S,      77,          1,          8,          8,2,20110322,       2235,   -74.6008,  -178.0036,        400,   149.5,  -1.1989,  34.3549,2,  34.3534,2,    291.3,2,   291.7,2,   76.05,2,   28.24,2,    0.09,2,    2.03,2,   4.513,2,   2.437,2,   0.443,2,   1.8870,2,  2218.8,2,  2335.3,2,   7.6303,2,    25.00,-999.000,9,-999.0000,9,-999.000,9,  -1.1990,2, -999.00,9,  -999.0,9,  -999.0,-999.000,9,   -0.53,2,-999.000,9, -999.00,9, -999.00,9, -74.6009,-178.0038,-999.000,     -999.0,    34.5154,2,     -999.0,9,     -999.0,9,-999.0000,9,-999.0000,9,-999.0000,9,-999.0000,9,-999.0000,9,-999.0000,9,-999.0000,9,-999.0000,9,-999.0000,9,-999.0000,-999.000,  -1.2027,     -999.0,     -999.0,9,     -999.0,9,     -999.0,9,      -5.29,2,       0.18,20110322,       2246
320620110219,       P15S,      77,          1,          9,          9,2,20110322,       2235,   -74.6008,  -178.0036,        400,   150.0,  -1.1993,  34.3555,2,-999.0000,9,   -999.0,9,  -999.0,9, -999.00,9, -999.00,9, -999.00,9, -999.00,9,-999.000,9,-999.000,9,-999.000,9,-999.0000,9,  -999.0,9,  -999.0,9,-999.0000,9,  -999.00,-999.000,9,-999.0000,9,-999.000,9,  -1.2001,2, -999.00,9,  -999.0,9,  -999.0,-999.000,9, -999.00,9,-999.000,1,   41.38,2,   31.21,2, -74.6009,-178.0038,-999.000,     -999.0,     -999.0,9,     -999.0,1,     -999.0,9,-999.0000,9,-999.0000,9,-999.0000,9,-999.0000,9,-999.0000,9,-999.0000,9,-999.0000,9,-999.0000,9,-999.0000,9,-999.0000,-999.000,  -1.2032,     -999.0,     -999.0,9,     -999.0,1,     -999.0,1,     -999.0,9,     -999.0,20110322,       2246
320620110219,       P15S,      77,          1,          7,          7,2,20110322,       2235,   -74.6008,  -178.0036,        400,   175.4,  -1.1733,  34.3914,2,  34.3891,2,    272.3,2,   272.2,2,   81.84,2,   29.98,2,    0.11,2,    2.13,2,   3.893,2,   2.071,2,   0.370,2,   1.4760,2,  2230.0,2,  2338.8,2,   7.6036,2,    25.00,-999.000,9,-999.0000,9,-999.000,9,  -1.1740,2, -999.00,9,  -999.0,9,  -999.0,-999.000,9,   -0.42,6,-999.000,9,   41.26,2,   32.30,2, -74.6008,-178.0037,-999.000,     -999.0,    34.5512,2,     -999.0,9,     -999.0,9,-999.0000,9,-999.0000,9,-999.0000,9,-999.0000,9,-999.0000,9,-999.0000,9,-999.0000,9,-999.0000,9,-999.0000,9,-999.0000,-999.000,  -1.1779,     -999.0,     -999.0,9,     -999.0,9,     -999.0,9,      -2.84,6,       0.16,20110322,       2244
320620110219,       P15S,      77,          1,          6,          6,2,20110322,       2235,   -74.6008,  -178.0036,        400,   200.1,  -1.3427,  34.4147,2,  34.4134,2,    269.4,2,   270.0,2,   81.89,2,   30.22,2,    0.08,2,    2.16,2,   3.995,2,   2.125,2,   0.377,2,   1.5080,2,  2233.8,2,  2337.4,2,   7.5912,2,    25.00,-999.000,9,-999.0000,9,-999.000,9,  -1.3569,2, -999.00,9,  -999.0,9,  -999.0,-999.000,9,   -0.56,6,-999.000,9,   41.10,2,   32.12,2, -74.6008,-178.0036,-999.000,     -999.0,    34.5757,2,     -999.0,9,     -999.0,9,-999.0000,9,-999.0000,9,-999.0000,9,-999.0000,9,-999.0000,9,-999.0000,9,-999.0000,9,-999.0000,9,-999.0000,9,-999.0000,-999.000,  -1.3477,     -999.0,     -999.0,9,     -999.0,9,     -999.0,9,      -4.70,6,       0.06,20110322,       2243
320620110219,       P15S,      77,          1,          5,          5,2,20110322,       2235,   -74.6008,  -178.0036,        400,   226.1,  -1.4423,  34.4265,2,  34.4257,2,    265.9,2,   265.9,2,   82.08,2,   30.60,2,    0.07,2,    2.22,2,   4.025,2,   2.138,2,   0.389,2,   1.5480,2,  2238.0,2,  2338.7,2,   7.5794,2,    25.00,-999.000,9,-999.0000,9,-999.000,9,  -1.4427,2, -999.00,9,  -999.0,9,  -999.0,-999.000,9,   -0.04,2,-999.000,9,   40.59,2,   33.20,2, -74.6008,-178.0035,-999.000,     -999.0,    34.5881,2,     -999.0,9,     -999.0,9,-999.0000,9,-999.0000,9,-999.0000,9,-999.0000,9,-999.0000,9,-999.0000,9,-999.0000,9,-999.0000,9,-999.0000,9,-999.0000,-999.000,  -1.4478,     -999.0,     -999.0,9,     -999.0,9,     -999.0,9,      -1.43,2,       0.07,20110322,       2241
320620110219,       P15S,      77,          1,          4,          4,2,20110322,       2235,   -74.6008,  -178.0036,        400,   250.3,  -1.4761,  34.4477,2,  34.4461,2,    260.1,2,   259.7,2,   83.95,2,   31.15,2,    0.06,2,    2.26,2,   3.930,2,   2.093,2,   0.370,2,   1.4800,2,  2242.7,2,  2335.4,2,   7.5681,2,    25.00,-999.000,9,-999.0000,9,-999.000,9,  -1.4763,2, -999.00,9,  -999.0,9,  -999.0,-999.000,9,   -0.34,6,-999.000,9,   40.37,2,   33.68,2, -74.6008,-178.0035,-999.000,     -999.0,    34.6086,2,     -999.0,9,     -999.0,9,-999.0000,9,-999.0000,9,-999.0000,9,-999.0000,9,-999.0000,9,-999.0000,9,-999.0000,9,-999.0000,9,-999.0000,9,-999.0000,-999.000,  -1.4822,     -999.0,     -999.0,9,     -999.0,9,     -999.0,9,      -4.63,6,       0.05,20110322,       2240
320620110219,       P15S,      77,          1,          3,          3,2,20110322,       2235,   -74.6008,  -178.0036,        400,   299.2,  -1.4571,  34.4676,2,  34.4659,2,    259.2,2,   259.5,2,   84.18,2,   31.34,2,    0.06,2,    2.24,2,   3.898,2,   2.074,2,   0.355,2,   1.3550,2,  2244.8,2,  -999.0,5,   7.5674,2,    25.00,-999.000,9,-999.0000,9,-999.000,9,  -1.4571,2, -999.00,9,  -999.0,9,  -999.0,-999.000,9,   -0.52,2,-999.000,9,   40.11,2,   34.70,2, -74.6008,-178.0033,-999.000,     -999.0,    34.6285,2,     -999.0,9,     -999.0,9,-999.0000,9,-999.0000,9,-999.0000,9,-999.0000,9,-999.0000,9,-999.0000,9,-999.0000,9,-999.0000,9,-999.0000,9,-999.0000,-999.000,  -1.4646,     -999.0,     -999.0,9,     -999.0,9,     -999.0,9,      -4.98,2,       0.06,20110322,       2238
320620110219,       P15S,      77,          1,          2,          2,2,20110322,       2235,   -74.6008,  -178.0036,        400,   350.6,  -1.4540,  34.4969,2,  34.4950,2,    262.0,2,   261.2,2,   84.50,2,   31.33,2,    0.07,2,    2.24,2,   3.915,2,   2.083,2,   0.355,2,   1.3740,2,  2245.6,2,  2335.1,2,   7.5716,2,    25.00,-999.000,9,-999.0000,9,-999.000,9,  -1.4541,2, -999.00,9,  -999.0,9,  -999.0,-999.000,9,   -0.14,6,-999.000,9,   40.07,2,   34.52,2, -74.6007,-178.0034,-999.000,     -999.0,    34.6576,2,     -999.0,9,     -999.0,9,-999.0000,9,-999.0000,9,-999.0000,9,-999.0000,9,-999.0000,9,-999.0000,9,-999.0000,9,-999.0000,9,-999.0000,9,-999.0000,-999.000,  -1.4630,     -999.0,     -999.0,9,     -999.0,9,     -999.0,9,      -3.40,6,       0.05,20110322,       2236
320620110219,       P15S,      77,          1,          1,          1,2,20110322,       2235,   -74.6008,  -178.0036,        400,   392.3,  -1.4537,  34.5301,2,  34.5285,2,    263.3,2,   263.8,2,   85.21,2,   31.42,2,    0.08,2,    2.23,2,   4.002,2,   2.108,2,   0.363,2,   1.3840,2,  2247.3,6,  2333.1,2,   7.5760,2,    25.00,-999.000,9,-999.0000,9,-999.000,9,  -1.4531,2, -999.00,9,  -999.0,9,  -999.0,-999.000,9,   -0.21,6,-999.000,9,   40.52,2,   34.40,2, -74.6007,-178.0037,-999.000,     -999.0,    34.6913,2,     -999.0,9,     -999.0,9,-999.0000,9,-999.0000,9,-999.0000,9,-999.0000,9,-999.0000,9,-999.0000,9,-999.0000,9,-999.0000,9,-999.0000,9,-999.0000,-999.000,  -1.4640,     -999.0,     -999.0,9,     -999.0,9,     -999.0,9,      -1.85,6,       0.04,20110322,       2235