BOTTLE,20220813CCHSIOAMB
EXPOCODE,SECT_ID,STNNBR,CASTNO,SAMPNO,BTLNBR,BTLNBR_FLAG_W,DATE,TIME,LATITUDE,LONGITUDE,DEPTH,CTDPRS,CTDTMP,CTDSAL,CTDSAL_FLAG_W,SALNTY,SALNTY_FLAG_W,CTDOXY,CTDOXY_FLAG_W,OXYGEN,OXYGEN_FLAG_W,SILCAT,SILCAT_FLAG_W,NITRAT,NITRAT_FLAG_W,NITRIT,NITRIT_FLAG_W,PHSPHT,PHSPHT_FLAG_W,CFC-11,CFC-11_FLAG_W,CFC-12,CFC-12_FLAG_W,CFC113,CFC113_FLAG_W,SF6,SF6_FLAG_W,TCARBN,TCARBN_FLAG_W,ALKALI,ALKALI_FLAG_W,PH_TOT,PH_TOT_FLAG_W,PH_TMP,TRITUM,TRITUM_FLAG_W,HELIUM,HELIUM_FLAG_W,DELHE3,DELHE3_FLAG_W,REFTMP,REFTMP_FLAG_W,DELC13,DELC13_FLAG_W,DELC14,DELC14_FLAG_W,C14ERR,NEON,NEON_FLAG_W,DELO18,DELO18_FLAG_W,POC,POC_FLAG_W,DOC,DOC_FLAG_W,TDN,TDN_FLAG_W,BTL_LAT,BTL_LON,TRITER,NEONER,SALTREF,SALTREF_FLAG_W,PIGMENTS,PIGMENTS_FLAG_W,LAB_DEN,LAB_DEN_FLAG_W,CDOM325,CDOM325_FLAG_W,CDOM340,CDOM340_FLAG_W,CDOM380,CDOM380_FLAG_W,CDOM412,CDOM412_FLAG_W,CDOM443,CDOM443_FLAG_W,CDOM490,CDOM490_FLAG_W,CDOM555,CDOM555_FLAG_W,CDOMSL,CDOMSL_FLAG_W,CDOMSN,CDOMSN_FLAG_W,HELIER,DELHER,THETA,LDEO_SAMPNO,ABSORBTION,ABSORBTION_FLAG_W,IMAGE_COUNT,IMAGE_COUNT_FLAG_W,CYTO_COUNT,CYTO_COUNT_FLAG_W,DELD,DELD_FLAG_W,DELDERR,BTL_DATE,BTL_TIME
,,,,,,,,,,,METERS,DBAR,ITS-90,PSS-78,,PSS-78,,UMOL/KG,,UMOL/KG,,UMOL/KG,,UMOL/KG,,UMOL/KG,,UMOL/KG,,PMOL/KG,,PMOL/KG,,PMOL/KG,,FMOL/KG,,UMOL/KG,,UMOL/KG,,,,DEG C,TU,,NMOL/KG,,PERCNT,,DEG C,,/MILLE,,/MILLE,,/MILLE,NMOL/KG,,/MILLE,,UG/KG,,UMOL/KG,,UMOL/KG,,,,TU,NMOL/KG,G/KG,,,,,,1/M,,1/M,,1/M,,1/M,,1/M,,1/M,,1/M,,1/NM,,1/NM,,NMOL/KG,PERCNT,DEG C,,,,,,,,/MILLE,,/MILLE,,
320620110219,       S04P,       7,          1,         13,         13,2,20110223,       1524,   -70.0966,   169.1255,       2657,  1335.4,   0.2911,  34.6793,2,  34.6801,2,    217.6,2,   217.0,2,  110.09,2,   32.34,2,    0.00,2,    2.18,2,-999.000,9,-999.000,9,-999.000,9,-999.0000,9,  2257.1,2,  2349.9,2,-999.0000,5,    25.00,-999.000,9,-999.0000,9,-999.000,9,   0.2908,2, -999.00,9,  -999.0,9,  -999.0,-999.000,9,   -0.38,6,-999.000,9, -999.00,9, -999.00,9, -70.0966, 169.1255,-999.000,     -999.0,    34.8436,2,     -999.0,9,     -999.0,9,-999.0000,9,-999.0000,9,-999.0000,9,-999.0000,9,-999.0000,9,-999.0000,9,-999.0000,9,-999.0000,9,-999.0000,9,-999.0000,-999.000,   0.2250,     -999.0,     -999.0,9,     -999.0,9,     -999.0,9,      -3.97,6,       0.09,20110223,       1606
320620110219,       S04P,       7,          1,         12,         12,2,20110223,       1524,   -70.0966,   169.1255,       2657,  1435.0,   0.0964,  34.6652,2,  34.6656,2,    220.4,2,   224.3,2,  104.61,2,   32.06,2,    0.00,2,    2.19,2,-999.000,9,-999.000,9,-999.000,9,-999.0000,9,  -999.0,9,  -999.0,9,-999.0000,9,  -999.00,-999.000,9,-999.0000,9,-999.000,9,   0.0967,2, -999.00,9,  -999.0,9,  -999.0,-999.000,9,    1.44,3,-999.000,9, -999.00,9, -999.00,9, -70.0966, 169.1255,-999.000,     -999.0,    34.8290,2,     -999.0,9,     -999.0,9,-999.0000,9,-999.0000,9,-999.0000,9,-999.0000,9,-999.0000,9,-999.0000,9,-999.0000,9,-999.0000,9,-999.0000,9,-999.0000,-999.000,   0.0264,     -999.0,     -999.0,9,     -999.0,9,     -999.0,9,      -0.69,2,       0.07,20110223,       1603
320620110219,       S04P,       7,          1,         11,         11,2,20110223,       1524,   -70.0966,   169.1255,       2657,  1534.2,   0.1083,  34.6664,2,  34.6663,2,    222.8,2,   224.2,2,  105.21,2,   32.05,2,    0.00,2,    2.20,2,-999.000,9,-999.000,9,-999.000,9,-999.0000,9,  -999.0,9,  -999.0,9,-999.0000,9,  -999.00,-999.000,9,-999.0000,9,-999.000,9,   0.1077,2, -999.00,9,  -999.0,9,  -999.0,-999.000,9,   -0.41,6,-999.000,9, -999.00,9, -999.00,9, -70.0966, 169.1255,-999.000,     -999.0,    34.8298,2,     -999.0,9,     -999.0,9,-999.0000,9,-999.0000,9,-999.0000,9,-999.0000,9,-999.0000,9,-999.0000,9,-999.0000,9,-999.0000,9,-999.0000,9,-999.0000,-999.000,   0.0320,     -999.0,     -999.0,9,     -999.0,9,     -999.0,9,      -3.55,6,       0.12,20110223,       1600
320620110219,       S04P,       7,          1,         10,         10,2,20110223,       1524,   -70.0966,   169.1255,       2657,  1635.1,   0.0577,  34.6710,2,  34.6708,2,    224.9,2,   224.7,2,  105.80,2,   32.20,2,    0.00,2,    2.18,2,-999.000,9,-999.000,9,-999.000,9,-999.0000,9,  2255.5,2,  2342.7,4,-999.0000,5,    25.00,-999.000,9,-999.0000,9,-999.000,9,   0.0580,2, -999.00,9,  -999.0,9,  -999.0,-999.000,9,   -0.39,2,-999.000,9, -999.00,9, -999.00,9, -70.0966, 169.1255,-999.000,     -999.0,    34.8343,2,     -999.0,9,     -999.0,9,-999.0000,9,-999.0000,9,-999.0000,9,-999.0000,9,-999.0000,9,-999.0000,9,-999.0000,9,-999.0000,9,-999.0000,9,-999.0000,-999.000,  -0.0244,     -999.0,     -999.0,9,     -999.0,9,     -999.0,9,      -2.80,2,       0.03,20110223,       1557
320620110219,       S04P,       7,          1,          9,          9,2,20110223,       1524,   -70.0966,   169.1255,       2657,  1734.7,  -0.0651,  34.6621,2,  34.6632,2,    226.3,2,   229.7,2,  101.95,2,   31.91,2,    0.00,2,    2.18,2,-999.000,9,-999.000,9,-999.000,9,-999.0000,9,  -999.0,9,  -999.0,9,-999.0000,9,  -999.00,-999.000,9,-999.0000,9,-999.000,9,  -0.0654,2, -999.00,9,  -999.0,9,  -999.0,-999.000,9,   -0.44,6,-999.000,9, -999.00,9, -999.00,9, -70.0966, 169.1255,-999.000,     -999.0,    34.8266,2,     -999.0,9,     -999.0,9,-999.0000,9,-999.0000,9,-999.0000,9,-999.0000,9,-999.0000,9,-999.0000,9,-999.0000,9,-999.0000,9,-999.0000,9,-999.0000,-999.000,  -0.1520,     -999.0,     -999.0,9,     -999.0,9,     -999.0,9,      -3.61,6,       0.04,20110223,       1554
320620110219,       S04P,       7,          1,          8,          8,2,20110223,       1524,   -70.0966,   169.1255,       2657,  1835.0,  -0.0776,  34.6637,2,  34.6634,2,    229.3,2,   230.4,2,  101.41,2,   32.05,2,    0.00,2,    2.15,2,-999.000,9,-999.000,9,-999.000,9,-999.0000,9,  -999.0,9,  -999.0,9,-999.0000,9,  -999.00,-999.000,9,-999.0000,9,-999.000,9,  -0.0767,2, -999.00,9,  -999.0,9,  -999.0,-999.000,9,   -0.50,2,-999.000,9, -999.00,9, -999.00,9, -70.0966, 169.1255,-999.000,     -999.0,    34.8268,2,     -999.0,9,     -999.0,9,-999.0000,9,-999.0000,9,-999.0000,9,-999.0000,9,-999.0000,9,-999.0000,9,-999.0000,9,-999.0000,9,-999.0000,9,-999.0000,-999.000,  -0.1709,     -999.0,     -999.0,9,     -999.0,9,     -999.0,9,      -3.18,2,       0.18,20110223,       1551
320620110219,       S04P,       7,          1,          7,          7,2,20110223,       1524,   -70.0966,   169.1255,       2657,  1934.3,  -0.1489,  34.6633,2,  34.6628,2,    230.9,2,   233.4,2,   99.47,2,   31.93,2,    0.00,2,    2.15,2,-999.000,9,-999.000,9,-999.000,9,-999.0000,9,  2252.3,2,  2347.5,2,-999.0000,5,    25.00,-999.000,9,-999.0000,9,-999.000,9,  -0.1489,2, -999.00,9,  -999.0,9,  -999.0,-999.000,9,   -0.54,6,-999.000,9, -999.00,9, -999.00,9, -70.0966, 169.1255,-999.000,     -999.0,    34.8262,2,     -999.0,9,     -999.0,9,-999.0000,9,-999.0000,9,-999.0000,9,-999.0000,9,-999.0000,9,-999.0000,9,-999.0000,9,-999.0000,9,-999.0000,9,-999.0000,-999.000,  -0.2478,     -999.0,     -999.0,9,     -999.0,9,     -999.0,9,      -3.90,6,       0.07,20110223,       1548
320620110219,       S04P,       7,          1,          6,          6,2,20110223,       1524,   -70.0966,   169.1255,       2657,  2064.8,  -0.1353,  34.6675,2,  34.6671,2,    232.7,2,   233.1,2,  100.08,2,   32.00,2,    0.00,2,    2.19,2,-999.000,9,-999.000,9,-999.000,9,-999.0000,9,  -999.0,9,  -999.0,9,-999.0000,9,  -999.00,-999.000,9,-999.0000,9,-999.000,9,  -0.1355,2, -999.00,9,  -999.0,9,  -999.0,-999.000,9,    0.11,2,-999.000,9, -999.00,9, -999.00,9, -70.0966, 169.1255,-999.000,     -999.0,    34.8305,2,     -999.0,9,     -999.0,9,-999.0000,9,-999.0000,9,-999.0000,9,-999.0000,9,-999.0000,9,-999.0000,9,-999.0000,9,-999.0000,9,-999.0000,9,-999.0000,-999.000,  -0.2434,     -999.0,     -999.0,9,     -999.0,9,     -999.0,9,      -2.22,2,       0.17,20110223,       1544
320620110219,       S04P,       7,          1,          5,          5,2,20110223,       1524,   -70.0966,   169.1255,       2657,  2264.3,  -0.2175,  34.6637,2,  34.6633,2,    235.6,2,   236.8,2,   97.74,2,   31.82,2,    0.00,2,    2.15,2,-999.000,9,-999.000,9,-999.000,9,-999.0000,9,  -999.0,9,  -999.0,9,-999.0000,9,  -999.00,-999.000,9,-999.0000,9,-999.000,9,  -0.2185,2, -999.00,9,  -999.0,9,  -999.0,-999.000,9,   -0.40,2,-999.000,9, -999.00,9, -999.00,9, -70.0966, 169.1255,-999.000,     -999.0,    34.8268,2,     -999.0,9,     -999.0,9,-999.0000,9,-999.0000,9,-999.0000,9,-999.0000,9,-999.0000,9,-999.0000,9,-999.0000,9,-999.0000,9,-999.0000,9,-999.0000,-999.000,  -0.3384,     -999.0,     -999.0,9,     -999.0,9,     -999.0,9,      -3.84,2,       0.10,20110223,       1539
320620110219,       S04P,       7,          1,          4,          4,2,20110223,       1524,   -70.0966,   169.1255,       2657,  2465.4,  -0.2749,  34.6608,2,  34.6604,2,    239.0,2,   239.4,2,   96.13,2,   31.69,2,    0.00,2,    2.13,2,-999.000,9,-999.000,9,-999.000,9,-999.0000,9,  -999.0,9,  -999.0,9,-999.0000,9,  -999.00,-999.000,9,-999.0000,9,-999.000,9,  -0.2759,2, -999.00,9,  -999.0,9,  -999.0,-999.000,9,    0.70,3,-999.000,9, -999.00,9, -999.00,9, -70.0966, 169.1255,-999.000,     -999.0,    34.8238,2,     -999.0,9,     -999.0,9,-999.0000,9,-999.0000,9,-999.0000,9,-999.0000,9,-999.0000,9,-999.0000,9,-999.0000,9,-999.0000,9,-999.0000,9,-999.0000,-999.000,  -0.4096,     -999.0,     -999.0,9,     -999.0,9,     -999.0,9,      -1.78,2,       0.06,20110223,       1534
320620110219,       S04P,       7,          1,          3,          3,2,20110223,       1524,   -70.0966,   169.1255,       2657,  2501.8,  -0.2755,  34.6613,2,  34.6613,2,    239.2,2,   239.8,2,   96.23,2,   31.65,2,    0.00,2,    2.13,2,-999.000,9,-999.000,9,-999.000,9,-999.0000,9,  2252.2,2,  2337.3,4,-999.0000,5,    25.00,-999.000,9,-999.0000,9,-999.000,9,  -0.2763,2, -999.00,9,  -999.0,9,  -999.0,-999.000,9,   -0.16,6,-999.000,9, -999.00,9, -999.00,9, -70.0966, 169.1255,-999.000,     -999.0,    34.8248,2,     -999.0,9,     -999.0,9,-999.0000,9,-999.0000,9,-999.0000,9,-999.0000,9,-999.0000,9,-999.0000,9,-999.0000,9,-999.0000,9,-999.0000,9,-999.0000,-999.000,  -0.4129,     -999.0,     -999.0,9,     -999.0,9,     -999.0,9,      -3.70,6,       0.14,20110223,       1532
320620110219,       S04P,       7,          1,          2,          2,2,20110223,       1524,   -70.0966,   169.1255,       2657,  2641.9,  -0.3064,  34.6604,2,  34.6604,2,    241.4,2,   241.2,2,   95.82,2,   31.63,2,    0.00,2,    2.14,2,-999.000,9,-999.000,9,-999.000,9,-999.0000,9,  2252.1,6,  2346.6,2,-999.0000,5,    25.00,-999.000,9,-999.0000,9,-999.000,9,  -0.3065,2, -999.00,9,  -999.0,9,  -999.0,-999.000,9,   -0.13,2,-999.000,9, -999.00,9, -999.00,9, -70.0966, 169.1255,-999.000,     -999.0,    34.8238,2,     -999.0,9,     -999.0,9,-999.0000,9,-999.0000,9,-999.0000,9,-999.0000,9,-999.0000,9,-999.0000,9,-999.0000,9,-999.0000,9,-999.0000,9,-999.0000,-999.000,  -0.4540,     -999.0,     -999.0,9,     -999.0,9,     -999.0,9,      -3.16,2,       0.08,20110223,       1528
320620110219,       S04P,       7,          1,          1,          1,2,20110223,       1524,   -70.0966,   169.1255,       2657,  2691.0,  -0.3312,  34.6588,2,  34.6586,2,    242.3,2,   242.3,2,   95.25,2,   31.60,2,    0.00,2,    2.13,2,-999.000,9,-999.000,9,-999.000,9,-999.0000,9,  2251.4,2,  2346.3,2,-999.0000,5,    25.00,-999.000,9,-999.0000,9,-999.000,9,  -0.3317,2, -999.00,9,  -999.0,9,  -999.0,-999.000,9,   -0.38,6,-999.000,9, -999.00,9, -999.00,9, -70.0966, 169.1255,-999.000,     -999.0,    34.8220,2,     -999.0,9,     -999.0,9,-999.0000,9,-999.0000,9,-999.0000,9,-999.0000,9,-999.0000,9,-999.0000,9,-999.0000,9,-999.0000,9,-999.0000,9,-999.0000,-999.000,  -0.4821,     -999.0,     -999.0,9,     -999.0,9,     -999.0,9,      -4.26,6,       0.16,20110223,       1524