BOTTLE,20220813CCHSIOAMB
EXPOCODE,SECT_ID,STNNBR,CASTNO,SAMPNO,BTLNBR,BTLNBR_FLAG_W,DATE,TIME,LATITUDE,LONGITUDE,DEPTH,CTDPRS,CTDTMP,CTDSAL,CTDSAL_FLAG_W,SALNTY,SALNTY_FLAG_W,CTDOXY,CTDOXY_FLAG_W,OXYGEN,OXYGEN_FLAG_W,SILCAT,SILCAT_FLAG_W,NITRAT,NITRAT_FLAG_W,NITRIT,NITRIT_FLAG_W,PHSPHT,PHSPHT_FLAG_W,CFC-11,CFC-11_FLAG_W,CFC-12,CFC-12_FLAG_W,CFC113,CFC113_FLAG_W,SF6,SF6_FLAG_W,TCARBN,TCARBN_FLAG_W,ALKALI,ALKALI_FLAG_W,PH_TOT,PH_TOT_FLAG_W,PH_TMP,TRITUM,TRITUM_FLAG_W,HELIUM,HELIUM_FLAG_W,DELHE3,DELHE3_FLAG_W,REFTMP,REFTMP_FLAG_W,DELC13,DELC13_FLAG_W,DELC14,DELC14_FLAG_W,C14ERR,NEON,NEON_FLAG_W,DELO18,DELO18_FLAG_W,POC,POC_FLAG_W,DOC,DOC_FLAG_W,TDN,TDN_FLAG_W,BTL_LAT,BTL_LON,TRITER,NEONER,SALTREF,SALTREF_FLAG_W,PIGMENTS,PIGMENTS_FLAG_W,LAB_DEN,LAB_DEN_FLAG_W,CDOM325,CDOM325_FLAG_W,CDOM340,CDOM340_FLAG_W,CDOM380,CDOM380_FLAG_W,CDOM412,CDOM412_FLAG_W,CDOM443,CDOM443_FLAG_W,CDOM490,CDOM490_FLAG_W,CDOM555,CDOM555_FLAG_W,CDOMSL,CDOMSL_FLAG_W,CDOMSN,CDOMSN_FLAG_W,HELIER,DELHER,THETA,LDEO_SAMPNO,ABSORBTION,ABSORBTION_FLAG_W,IMAGE_COUNT,IMAGE_COUNT_FLAG_W,CYTO_COUNT,CYTO_COUNT_FLAG_W,DELD,DELD_FLAG_W,DELDERR,BTL_DATE,BTL_TIME
,,,,,,,,,,,METERS,DBAR,ITS-90,PSS-78,,PSS-78,,UMOL/KG,,UMOL/KG,,UMOL/KG,,UMOL/KG,,UMOL/KG,,UMOL/KG,,PMOL/KG,,PMOL/KG,,PMOL/KG,,FMOL/KG,,UMOL/KG,,UMOL/KG,,,,DEG C,TU,,NMOL/KG,,PERCNT,,DEG C,,/MILLE,,/MILLE,,/MILLE,NMOL/KG,,/MILLE,,UG/KG,,UMOL/KG,,UMOL/KG,,,,TU,NMOL/KG,G/KG,,,,,,1/M,,1/M,,1/M,,1/M,,1/M,,1/M,,1/M,,1/NM,,1/NM,,NMOL/KG,PERCNT,DEG C,,,,,,,,/MILLE,,/MILLE,,
320620110219,       S04P,      29,          1,         36,         36,2,20110306,       0041,   -67.0002,  -170.3417,       3621,     3.8,  -0.7320,  33.7490,2,  33.7481,2,    335.7,3,   340.0,2,   56.90,2,   26.89,2,    0.14,2,    1.76,2,   5.825,2,   3.189,2,   0.557,2,   1.9630,2,  2167.4,2,  2284.3,2,   7.6721,2,    25.00,-999.000,9,-999.0000,9,-999.000,9,  -0.7463,2, -999.00,9,  -999.0,9,  -999.0,-999.000,9, -999.00,9,-999.000,9, -999.00,9, -999.00,9, -67.0002,-170.3417,-999.000,     -999.0,    33.9073,2,     -999.0,9,     -999.0,9,-999.0000,9,-999.0000,9,-999.0000,9,-999.0000,9,-999.0000,9,-999.0000,9,-999.0000,9,-999.0000,9,-999.0000,9,-999.0000,-999.000,  -0.7321,     -999.0,     -999.0,9,     -999.0,9,     -999.0,9,     -999.0,9,     -999.0,20110306,       0217
320620110219,       S04P,      29,          1,         35,         35,2,20110306,       0041,   -67.0002,  -170.3417,       3621,    20.2,  -0.7679,  33.7484,2,  33.7475,2,    340.2,2,   340.4,2,   56.82,2,   26.86,2,    0.14,2,    1.76,2,   5.836,2,   3.201,2,   0.558,2,   2.0330,2,  2166.9,2,  2285.4,2,   7.6728,6,    25.00,-999.000,9,-999.0000,9,-999.000,9,  -0.7683,2, -999.00,9,  -999.0,9,  -999.0,-999.000,9, -999.00,9,-999.000,9, -999.00,9, -999.00,9, -67.0002,-170.3417,-999.000,     -999.0,    33.9067,2,     -999.0,9,     -999.0,9,-999.0000,9,-999.0000,9,-999.0000,9,-999.0000,9,-999.0000,9,-999.0000,9,-999.0000,9,-999.0000,9,-999.0000,9,-999.0000,-999.000,  -0.7684,     -999.0,     -999.0,9,     -999.0,9,     -999.0,9,     -999.0,9,     -999.0,20110306,       0216
320620110219,       S04P,      29,          1,         34,         34,2,20110306,       0041,   -67.0002,  -170.3417,       3621,    41.9,  -0.7769,  33.7508,2,  33.7503,2,    340.7,2,   340.2,2,   57.11,2,   26.84,2,    0.14,2,    1.78,2,   5.788,2,   3.211,2,   0.578,2,   2.2950,2,  2166.7,2,  2285.3,6,   7.6728,2,    25.00,-999.000,9,-999.0000,9,-999.000,9,  -0.7717,2, -999.00,9,  -999.0,9,  -999.0,-999.000,9, -999.00,9,-999.000,9, -999.00,9, -999.00,9, -67.0002,-170.3417,-999.000,     -999.0,    33.9094,2,     -999.0,9,     -999.0,9,-999.0000,9,-999.0000,9,-999.0000,9,-999.0000,9,-999.0000,9,-999.0000,9,-999.0000,9,-999.0000,9,-999.0000,9,-999.0000,-999.000,  -0.7780,     -999.0,     -999.0,9,     -999.0,9,     -999.0,9,     -999.0,9,     -999.0,20110306,       0214
320620110219,       S04P,      29,          1,         33,         33,2,20110306,       0041,   -67.0002,  -170.3417,       3621,    65.1,  -1.7091,  34.1872,2,  34.1939,2,    278.4,2,   278.6,2,   65.71,2,   31.03,2,    0.17,2,    2.10,2,   3.959,2,   2.178,2,   0.383,2,   1.5480,2,  2210.3,2,  2310.6,2,   7.6122,2,    25.00,-999.000,9,-999.0000,9,-999.000,9,  -1.7173,2, -999.00,9,  -999.0,9,  -999.0,-999.000,9, -999.00,9,-999.000,9, -999.00,9, -999.00,9, -67.0002,-170.3417,-999.000,     -999.0,    34.3551,2,     -999.0,9,     -999.0,9,-999.0000,9,-999.0000,9,-999.0000,9,-999.0000,9,-999.0000,9,-999.0000,9,-999.0000,9,-999.0000,9,-999.0000,9,-999.0000,-999.000,  -1.7104,     -999.0,     -999.0,9,     -999.0,9,     -999.0,9,     -999.0,9,     -999.0,20110306,       0213
320620110219,       S04P,      29,          1,         32,         32,2,20110306,       0041,   -67.0002,  -170.3417,       3621,    90.9,   0.0429,  34.4534,2,  34.4597,2,    234.6,2,   225.4,2,   78.15,2,   33.06,2,    0.08,2,    2.24,2,-999.000,9,-999.000,9,-999.000,9,-999.0000,9,  2238.1,2,  2327.3,2,   7.5766,2,    25.00,-999.000,9,-999.0000,9,-999.000,9,   0.0392,2, -999.00,9,  -999.0,9,  -999.0,-999.000,9, -999.00,9,-999.000,9, -999.00,9, -999.00,9, -67.0002,-170.3417,-999.000,     -999.0,    34.6222,2,     -999.0,9,     -999.0,9,-999.0000,9,-999.0000,9,-999.0000,9,-999.0000,9,-999.0000,9,-999.0000,9,-999.0000,9,-999.0000,9,-999.0000,9,-999.0000,-999.000,   0.0396,     -999.0,     -999.0,9,     -999.0,9,     -999.0,9,     -999.0,9,     -999.0,20110306,       0212
320620110219,       S04P,      29,          1,         31,         31,2,20110306,       0041,   -67.0002,  -170.3417,       3621,   115.6,   1.0632,  34.6170,2,  34.6168,2,    203.5,2,   196.9,2,   85.41,2,   33.57,2,    0.03,2,    2.25,2,   1.187,2,   0.632,2,   0.110,2,   0.2630,2,  2250.8,2,  2338.1,2,   7.5764,2,    25.00,-999.000,9,-999.0000,9,-999.000,9,   1.0601,2, -999.00,9,  -999.0,9,  -999.0,-999.000,9, -999.00,9,-999.000,9, -999.00,9, -999.00,9, -67.0002,-170.3417,-999.000,     -999.0,    34.7800,2,     -999.0,9,     -999.0,9,-999.0000,9,-999.0000,9,-999.0000,9,-999.0000,9,-999.0000,9,-999.0000,9,-999.0000,9,-999.0000,9,-999.0000,9,-999.0000,-999.000,   1.0580,     -999.0,     -999.0,9,     -999.0,9,     -999.0,9,     -999.0,9,     -999.0,20110306,       0210
320620110219,       S04P,      29,          1,         30,         30,2,20110306,       0041,   -67.0002,  -170.3417,       3621,   140.4,   1.2523,  34.6519,2,  34.6523,2,    195.3,2,   190.5,2,   87.14,2,   33.50,2,    0.02,2,    2.24,2,-999.000,9,-999.000,9,-999.000,9,-999.0000,9,  2252.3,2,  2341.2,2,   7.5668,2,    25.00,-999.000,9,-999.0000,9,-999.000,9,   1.2531,2, -999.00,9,  -999.0,9,  -999.0,-999.000,9, -999.00,9,-999.000,9, -999.00,9, -999.00,9, -67.0002,-170.3417,-999.000,     -999.0,    34.8157,2,     -999.0,9,     -999.0,9,-999.0000,9,-999.0000,9,-999.0000,9,-999.0000,9,-999.0000,9,-999.0000,9,-999.0000,9,-999.0000,9,-999.0000,9,-999.0000,-999.000,   1.2457,     -999.0,     -999.0,9,     -999.0,9,     -999.0,9,     -999.0,9,     -999.0,20110306,       0209
320620110219,       S04P,      29,          1,         29,         29,2,20110306,       0041,   -67.0002,  -170.3417,       3621,   184.1,   1.4091,  34.6892,2,  34.6884,2,    190.6,2,   190.8,2,   88.87,2,   33.13,2,    0.01,2,    2.22,2,   0.688,2,   0.361,2,   0.064,2,   0.2110,2,  2252.9,2,  2344.0,2,   7.5771,2,    25.00,-999.000,9,-999.0000,9,-999.000,9,   1.4078,2, -999.00,9,  -999.0,9,  -999.0,-999.000,9, -999.00,9,-999.000,9, -999.00,9, -999.00,9, -67.0002,-170.3418,-999.000,     -999.0,    34.8520,2,     -999.0,9,     -999.0,9,-999.0000,9,-999.0000,9,-999.0000,9,-999.0000,9,-999.0000,9,-999.0000,9,-999.0000,9,-999.0000,9,-999.0000,9,-999.0000,-999.000,   1.4001,     -999.0,     -999.0,9,     -999.0,9,     -999.0,9,     -999.0,9,     -999.0,20110306,       0207
320620110219,       S04P,      29,          1,         28,         28,2,20110306,       0041,   -67.0002,  -170.3417,       3621,   235.1,   1.4438,  34.7062,2,  34.7047,2,    190.4,2,   190.6,2,   90.88,2,   32.76,2,    0.01,2,    2.19,2,-999.000,9,-999.000,9,-999.000,9,-999.0000,9,  2251.9,2,  2346.5,2,   7.5772,2,    25.00,-999.000,9,-999.0000,9,-999.000,9,   1.4438,2, -999.00,9,  -999.0,9,  -999.0,-999.000,9, -999.00,9,-999.000,9, -999.00,9, -999.00,9, -67.0002,-170.3417,-999.000,     -999.0,    34.8683,2,     -999.0,9,     -999.0,9,-999.0000,9,-999.0000,9,-999.0000,9,-999.0000,9,-999.0000,9,-999.0000,9,-999.0000,9,-999.0000,9,-999.0000,9,-999.0000,-999.000,   1.4322,     -999.0,     -999.0,9,     -999.0,9,     -999.0,9,     -999.0,9,     -999.0,20110306,       0205
320620110219,       S04P,      29,          1,         27,         27,2,20110306,       0041,   -67.0002,  -170.3417,       3621,   285.4,   1.4326,  34.7148,2,  34.7137,2,    191.0,2,   192.4,2,   92.59,2,   32.55,2,    0.00,2,    2.19,2,   0.481,2,   0.238,2,   0.040,2,   0.1320,2,  2252.3,2,  2348.1,2,   7.5807,2,    25.00,-999.000,9,-999.0000,9,-999.000,9,   1.4323,2, -999.00,9,  -999.0,9,  -999.0,-999.000,9, -999.00,9,-999.000,9, -999.00,9, -999.00,9, -67.0002,-170.3417,-999.000,     -999.0,    34.8774,2,     -999.0,9,     -999.0,9,-999.0000,9,-999.0000,9,-999.0000,9,-999.0000,9,-999.0000,9,-999.0000,9,-999.0000,9,-999.0000,9,-999.0000,9,-999.0000,-999.000,   1.4184,     -999.0,     -999.0,9,     -999.0,9,     -999.0,9,     -999.0,9,     -999.0,20110306,       0203
320620110219,       S04P,      29,          1,         26,         26,2,20110306,       0041,   -67.0002,  -170.3417,       3621,   334.2,   1.4073,  34.7207,2,  34.7198,2,    191.5,2,   192.3,2,   93.63,2,   32.40,2,    0.00,2,    2.18,2,-999.000,9,-999.000,9,-999.000,9,-999.0000,9,  2252.0,2,  2349.3,2,   7.5819,2,    25.00,-999.000,9,-999.0000,9,-999.000,9,   1.4070,2, -999.00,9,  -999.0,9,  -999.0,-999.000,9, -999.00,9,-999.000,9, -999.00,9, -999.00,9, -67.0002,-170.3417,-999.000,     -999.0,    34.8835,2,     -999.0,9,     -999.0,9,-999.0000,9,-999.0000,9,-999.0000,9,-999.0000,9,-999.0000,9,-999.0000,9,-999.0000,9,-999.0000,9,-999.0000,9,-999.0000,-999.000,   1.3906,     -999.0,     -999.0,9,     -999.0,9,     -999.0,9,     -999.0,9,     -999.0,20110306,       0202
320620110219,       S04P,      29,          1,         25,         25,2,20110306,       0041,   -67.0002,  -170.3417,       3621,   384.0,   1.3764,  34.7226,2,  34.7215,2,    192.1,2,   194.6,2,   95.21,2,   32.29,2,    0.00,2,    2.18,2,   0.411,2,   0.203,2,   0.035,2,   0.1220,2,  2252.9,2,  2351.1,2,   7.5843,2,    25.00,-999.000,9,-999.0000,9,-999.000,9,   1.3746,2, -999.00,9,  -999.0,9,  -999.0,-999.000,9, -999.00,9,-999.000,9, -999.00,9, -999.00,9, -67.0002,-170.3418,-999.000,     -999.0,    34.8853,2,     -999.0,9,     -999.0,9,-999.0000,9,-999.0000,9,-999.0000,9,-999.0000,9,-999.0000,9,-999.0000,9,-999.0000,9,-999.0000,9,-999.0000,9,-999.0000,-999.000,   1.3571,     -999.0,     -999.0,9,     -999.0,9,     -999.0,9,     -999.0,9,     -999.0,20110306,       0200
320620110219,       S04P,      29,          1,         24,         24,2,20110306,       0041,   -67.0002,  -170.3417,       3621,   435.0,   1.3469,  34.7244,2,  34.7235,2,    193.1,2,   193.2,2,   96.88,2,   32.19,2,    0.00,2,    2.18,2,-999.000,9,-999.000,9,-999.000,9,-999.0000,9,  2252.4,2,  2351.2,2,   7.5857,2,    25.00,-999.000,9,-999.0000,9,-999.000,9,   1.3471,2, -999.00,9,  -999.0,9,  -999.0,-999.000,9, -999.00,9,-999.000,9, -999.00,9, -999.00,9, -67.0002,-170.3417,-999.000,     -999.0,    34.8872,2,     -999.0,9,     -999.0,9,-999.0000,9,-999.0000,9,-999.0000,9,-999.0000,9,-999.0000,9,-999.0000,9,-999.0000,9,-999.0000,9,-999.0000,9,-999.0000,-999.000,   1.3250,     -999.0,     -999.0,9,     -999.0,9,     -999.0,9,     -999.0,9,     -999.0,20110306,       0158
320620110219,       S04P,      29,          1,         23,         23,2,20110306,       0041,   -67.0002,  -170.3417,       3621,   484.8,   1.3113,  34.7257,2,  34.7253,2,    193.6,2,   193.6,2,   99.19,2,   32.19,2,    0.00,2,    2.17,2,   0.302,2,   0.154,2,   0.028,2,   0.0870,2,  2253.7,2,  2352.4,2,   7.5860,2,    25.00,-999.000,9,-999.0000,9,-999.000,9,   1.3110,2, -999.00,9,  -999.0,9,  -999.0,-999.000,9, -999.00,9,-999.000,9, -999.00,9, -999.00,9, -67.0002,-170.3417,-999.000,     -999.0,    34.8890,2,     -999.0,9,     -999.0,9,-999.0000,9,-999.0000,9,-999.0000,9,-999.0000,9,-999.0000,9,-999.0000,9,-999.0000,9,-999.0000,9,-999.0000,9,-999.0000,-999.000,   1.2868,     -999.0,     -999.0,9,     -999.0,9,     -999.0,9,     -999.0,9,     -999.0,20110306,       0156
320620110219,       S04P,      29,          1,         22,         22,2,20110306,       0041,   -67.0002,  -170.3417,       3621,   562.5,   1.2682,  34.7260,2,  34.7257,2,    194.3,2,   194.4,2,  100.71,2,   32.15,2,    0.00,2,    2.18,2,-999.000,9,-999.000,9,-999.000,9,-999.0000,9,  2252.2,2,  2353.8,2,   7.5888,6,    25.00,-999.000,9,-999.0000,9,-999.000,9,   1.2682,2, -999.00,9,  -999.0,9,  -999.0,-999.000,9, -999.00,9,-999.000,9, -999.00,9, -999.00,9, -67.0002,-170.3418,-999.000,     -999.0,    34.8894,2,     -999.0,9,     -999.0,9,-999.0000,9,-999.0000,9,-999.0000,9,-999.0000,9,-999.0000,9,-999.0000,9,-999.0000,9,-999.0000,9,-999.0000,9,-999.0000,-999.000,   1.2396,     -999.0,     -999.0,9,     -999.0,9,     -999.0,9,     -999.0,9,     -999.0,20110306,       0154
320620110219,       S04P,      29,          1,         21,         21,2,20110306,       0041,   -67.0002,  -170.3417,       3621,   663.0,   1.1905,  34.7251,2,  34.7247,2,    195.4,2,   195.9,2,  103.85,2,   32.08,2,    0.00,2,    2.18,2,   0.232,2,   0.119,2,   0.015,2,   0.0680,2,  2253.7,2,  2353.3,6,   7.5898,2,    25.00,-999.000,9,-999.0000,9,-999.000,9,   1.1908,2, -999.00,9,  -999.0,9,  -999.0,-999.000,9, -999.00,9,-999.000,9, -999.00,9, -999.00,9, -67.0002,-170.3417,-999.000,     -999.0,    34.8884,2,     -999.0,9,     -999.0,9,-999.0000,9,-999.0000,9,-999.0000,9,-999.0000,9,-999.0000,9,-999.0000,9,-999.0000,9,-999.0000,9,-999.0000,9,-999.0000,-999.000,   1.1566,     -999.0,     -999.0,9,     -999.0,9,     -999.0,9,     -999.0,9,     -999.0,20110306,       0152
320620110219,       S04P,      29,          1,         20,         20,2,20110306,       0041,   -67.0002,  -170.3417,       3621,   764.8,   1.1180,  34.7234,2,  34.7235,2,    197.1,2,   197.4,2,  106.70,2,   32.00,2,    0.00,2,    2.19,2,-999.000,9,-999.000,9,-999.000,9,-999.0000,9,  -999.0,9,  -999.0,9,-999.0000,9,  -999.00,-999.000,9,-999.0000,9,-999.000,9,   1.1176,2, -999.00,9,  -999.0,9,  -999.0,-999.000,9, -999.00,9,-999.000,9, -999.00,9, -999.00,9, -67.0002,-170.3417,-999.000,     -999.0,    34.8872,2,     -999.0,9,     -999.0,9,-999.0000,9,-999.0000,9,-999.0000,9,-999.0000,9,-999.0000,9,-999.0000,9,-999.0000,9,-999.0000,9,-999.0000,9,-999.0000,-999.000,   1.0787,     -999.0,     -999.0,9,     -999.0,9,     -999.0,9,     -999.0,9,     -999.0,20110306,       0149
320620110219,       S04P,      29,          1,         19,         19,2,20110306,       0041,   -67.0002,  -170.3417,       3621,   864.8,   1.0609,  34.7214,2,  34.7215,2,    198.6,2,   198.8,2,  108.34,2,   31.97,2,    0.00,2,    2.19,2,   0.197,2,   0.099,2,   0.011,2,   0.0590,2,  2254.8,2,  2355.7,2,   7.5915,2,    25.00,-999.000,9,-999.0000,9,-999.000,9,   1.0609,2, -999.00,9,  -999.0,9,  -999.0,-999.000,9, -999.00,9,-999.000,9, -999.00,9, -999.00,9, -67.0002,-170.3417,-999.000,     -999.0,    34.8853,2,     -999.0,9,     -999.0,9,-999.0000,9,-999.0000,9,-999.0000,9,-999.0000,9,-999.0000,9,-999.0000,9,-999.0000,9,-999.0000,9,-999.0000,9,-999.0000,-999.000,   1.0161,     -999.0,     -999.0,9,     -999.0,9,     -999.0,9,     -999.0,9,     -999.0,20110306,       0146
320620110219,       S04P,      29,          1,         18,         18,2,20110306,       0041,   -67.0002,  -170.3417,       3621,   963.7,   0.9955,  34.7192,2,  34.7190,2,    200.0,2,   200.3,2,  110.53,2,   32.02,2,    0.00,2,    2.19,2,-999.000,9,-999.000,9,-999.000,9,-999.0000,9,  -999.0,9,  -999.0,9,-999.0000,9,  -999.00,-999.000,9,-999.0000,9,-999.000,9,   0.9957,2, -999.00,9,  -999.0,9,  -999.0,-999.000,9, -999.00,9,-999.000,9, -999.00,9, -999.00,9, -67.0002,-170.3417,-999.000,     -999.0,    34.8827,2,     -999.0,9,     -999.0,9,-999.0000,9,-999.0000,9,-999.0000,9,-999.0000,9,-999.0000,9,-999.0000,9,-999.0000,9,-999.0000,9,-999.0000,9,-999.0000,-999.000,   0.9453,     -999.0,     -999.0,9,     -999.0,9,     -999.0,9,     -999.0,9,     -999.0,20110306,       0144
320620110219,       S04P,      29,          1,         17,         17,2,20110306,       0041,   -67.0002,  -170.3417,       3621,  1065.7,   0.9271,  34.7168,2,  34.7161,2,    201.6,2,   202.1,2,  112.17,2,   32.08,2,    0.00,2,    2.21,2,   0.188,2,   0.094,2,   0.010,2,   0.0640,2,  2256.1,2,  2358.1,2,   7.5897,4,    25.00,-999.000,9,-999.0000,9,-999.000,9,   0.9252,2, -999.00,9,  -999.0,9,  -999.0,-999.000,9, -999.00,9,-999.000,9, -999.00,9, -999.00,9, -67.0002,-170.3417,-999.000,     -999.0,    34.8798,2,     -999.0,9,     -999.0,9,-999.0000,9,-999.0000,9,-999.0000,9,-999.0000,9,-999.0000,9,-999.0000,9,-999.0000,9,-999.0000,9,-999.0000,9,-999.0000,-999.000,   0.8713,     -999.0,     -999.0,9,     -999.0,9,     -999.0,9,     -999.0,9,     -999.0,20110306,       0141
320620110219,       S04P,      29,          1,         16,         16,2,20110306,       0041,   -67.0002,  -170.3417,       3621,  1164.7,   0.8516,  34.7136,2,  34.7135,2,    203.1,2,   203.7,2,  115.03,2,   32.12,2,    0.00,2,    2.21,2,-999.000,9,-999.000,9,-999.000,9,-999.0000,9,  -999.0,9,  -999.0,9,-999.0000,9,  -999.00,-999.000,9,-999.0000,9,-999.000,9,   0.8514,2, -999.00,9,  -999.0,9,  -999.0,-999.000,9, -999.00,9,-999.000,9, -999.00,9, -999.00,9, -67.0002,-170.3417,-999.000,     -999.0,    34.8772,2,     -999.0,9,     -999.0,9,-999.0000,9,-999.0000,9,-999.0000,9,-999.0000,9,-999.0000,9,-999.0000,9,-999.0000,9,-999.0000,9,-999.0000,9,-999.0000,-999.000,   0.7903,     -999.0,     -999.0,9,     -999.0,9,     -999.0,9,     -999.0,9,     -999.0,20110306,       0139
320620110219,       S04P,      29,          1,         15,         15,2,20110306,       0041,   -67.0002,  -170.3417,       3621,  1266.2,   0.7987,  34.7114,2,  34.7113,2,    204.2,2,   204.6,2,  116.61,2,   32.01,2,    0.00,2,    2.21,2,   0.206,2,   0.101,2,   0.014,2,   0.0840,2,  2256.4,2,  2358.9,2,   7.5928,2,    25.00,-999.000,9,-999.0000,9,-999.000,9,   0.7993,2, -999.00,9,  -999.0,9,  -999.0,-999.000,9, -999.00,9,-999.000,9, -999.00,9, -999.00,9, -67.0002,-170.3417,-999.000,     -999.0,    34.8750,2,     -999.0,9,     -999.0,9,-999.0000,9,-999.0000,9,-999.0000,9,-999.0000,9,-999.0000,9,-999.0000,9,-999.0000,9,-999.0000,9,-999.0000,9,-999.0000,-999.000,   0.7315,     -999.0,     -999.0,9,     -999.0,9,     -999.0,9,     -999.0,9,     -999.0,20110306,       0136
320620110219,       S04P,      29,          1,         14,         14,2,20110306,       0041,   -67.0002,  -170.3417,       3621,  1364.3,   0.7503,  34.7094,2,  34.7092,2,    205.4,2,   206.0,2,  117.93,2,   32.00,2,    0.00,2,    2.22,2,-999.000,9,-999.000,9,-999.000,9,-999.0000,9,  -999.0,9,  -999.0,9,-999.0000,9,  -999.00,-999.000,9,-999.0000,9,-999.000,9,   0.7502,2, -999.00,9,  -999.0,9,  -999.0,-999.000,9, -999.00,9,-999.000,9, -999.00,9, -999.00,9, -67.0002,-170.3417,-999.000,     -999.0,    34.8728,2,     -999.0,9,     -999.0,9,-999.0000,9,-999.0000,9,-999.0000,9,-999.0000,9,-999.0000,9,-999.0000,9,-999.0000,9,-999.0000,9,-999.0000,9,-999.0000,-999.000,   0.6773,     -999.0,     -999.0,9,     -999.0,9,     -999.0,9,     -999.0,9,     -999.0,20110306,       0134