BOTTLE,20220813CCHSIOAMB
EXPOCODE,SECT_ID,STNNBR,CASTNO,SAMPNO,BTLNBR,BTLNBR_FLAG_W,DATE,TIME,LATITUDE,LONGITUDE,DEPTH,CTDPRS,CTDTMP,CTDSAL,CTDSAL_FLAG_W,SALNTY,SALNTY_FLAG_W,CTDOXY,CTDOXY_FLAG_W,OXYGEN,OXYGEN_FLAG_W,SILCAT,SILCAT_FLAG_W,NITRAT,NITRAT_FLAG_W,NITRIT,NITRIT_FLAG_W,PHSPHT,PHSPHT_FLAG_W,CFC-11,CFC-11_FLAG_W,CFC-12,CFC-12_FLAG_W,CFC113,CFC113_FLAG_W,SF6,SF6_FLAG_W,TCARBN,TCARBN_FLAG_W,ALKALI,ALKALI_FLAG_W,PH_TOT,PH_TOT_FLAG_W,PH_TMP,TRITUM,TRITUM_FLAG_W,HELIUM,HELIUM_FLAG_W,DELHE3,DELHE3_FLAG_W,REFTMP,REFTMP_FLAG_W,DELC13,DELC13_FLAG_W,DELC14,DELC14_FLAG_W,C14ERR,NEON,NEON_FLAG_W,DELO18,DELO18_FLAG_W,POC,POC_FLAG_W,DOC,DOC_FLAG_W,TDN,TDN_FLAG_W,BTL_LAT,BTL_LON,TRITER,NEONER,SALTREF,SALTREF_FLAG_W,PIGMENTS,PIGMENTS_FLAG_W,LAB_DEN,LAB_DEN_FLAG_W,CDOM325,CDOM325_FLAG_W,CDOM340,CDOM340_FLAG_W,CDOM380,CDOM380_FLAG_W,CDOM412,CDOM412_FLAG_W,CDOM443,CDOM443_FLAG_W,CDOM490,CDOM490_FLAG_W,CDOM555,CDOM555_FLAG_W,CDOMSL,CDOMSL_FLAG_W,CDOMSN,CDOMSN_FLAG_W,HELIER,DELHER,THETA,LDEO_SAMPNO,ABSORBTION,ABSORBTION_FLAG_W,IMAGE_COUNT,IMAGE_COUNT_FLAG_W,CYTO_COUNT,CYTO_COUNT_FLAG_W,DELD,DELD_FLAG_W,DELDERR,BTL_DATE,BTL_TIME
,,,,,,,,,,,METERS,DBAR,ITS-90,PSS-78,,PSS-78,,UMOL/KG,,UMOL/KG,,UMOL/KG,,UMOL/KG,,UMOL/KG,,UMOL/KG,,PMOL/KG,,PMOL/KG,,PMOL/KG,,FMOL/KG,,UMOL/KG,,UMOL/KG,,,,DEG C,TU,,NMOL/KG,,PERCNT,,DEG C,,/MILLE,,/MILLE,,/MILLE,NMOL/KG,,/MILLE,,UG/KG,,UMOL/KG,,UMOL/KG,,,,TU,NMOL/KG,G/KG,,,,,,1/M,,1/M,,1/M,,1/M,,1/M,,1/M,,1/M,,1/NM,,1/NM,,NMOL/KG,PERCNT,DEG C,,,,,,,,/MILLE,,/MILLE,,
320620110219,       S04P,     125,          1,         36,         36,2,20110415,       1351,   -67.0002,   -86.7341,       4325,     4.8,  -0.0678,  33.6348,2,  33.6354,2,    340.4,3,   341.6,2,    9.22,2,   23.89,2,    0.21,2,    1.62,2,   6.061,2,   3.319,2,   0.632,2,   2.7190,2,  2140.9,2,  2268.6,2,   7.7058,2,    25.00,   0.115,2,   1.8664,2,   -1.64,2,  -0.0679,2,    1.56,2,   -74.5,2,     2.7,   8.381,2,   -0.49,2,-999.000,9,   44.40,2,   27.97,2, -67.0002, -86.7341,   0.013,      0.043,    33.7940,2,     -999.0,9,     -999.0,9,-999.0000,9,-999.0000,9,-999.0000,9,-999.0000,9,-999.0000,9,-999.0000,9,-999.0000,9,-999.0000,9,-999.0000,9,   0.0090,    0.14,  -0.0680,     -999.0,     -999.0,9,     -999.0,9,     -999.0,9,      -3.83,2,       0.23,20110415,       1536
320620110219,       S04P,     125,          1,         35,         35,2,20110415,       1351,   -67.0002,   -86.7341,       4325,    24.3,  -0.0714,  33.6358,2,  33.6354,2,    341.8,2,   341.5,2,    9.30,2,   23.96,2,    0.21,2,    1.63,2,   6.075,6,   3.319,6,   0.633,6,   2.6830,6,  2141.0,2,  2269.4,6,   7.7052,2,    25.00,   0.117,2,-999.0000,9,-999.000,9,  -0.0721,2, -999.00,9,  -999.0,9,  -999.0,-999.000,9,   -0.48,2,-999.000,9,   43.82,2,   28.25,2, -67.0002, -86.7341,   0.013,     -999.0,    33.7940,2,     -999.0,9,     -999.0,9,-999.0000,9,-999.0000,9,-999.0000,9,-999.0000,9,-999.0000,9,-999.0000,9,-999.0000,9,-999.0000,9,-999.0000,9,-999.0000,-999.000,  -0.0722,     -999.0,     -999.0,9,     -999.0,9,     -999.0,9,      -4.04,2,       0.32,20110415,       1534
320620110219,       S04P,     125,          1,         34,         34,2,20110415,       1351,   -67.0002,   -86.7341,       4325,    49.3,  -0.0228,  33.6443,2,  33.6456,2,    342.3,2,   341.4,2,    9.41,2,   24.01,2,    0.21,2,    1.66,2,   6.072,2,   3.331,2,   0.633,2,   2.7170,2,  2143.1,6,  2270.1,2,   7.7039,2,    25.00,   0.132,2,   1.8856,2,   -1.73,2,  -0.0219,2, -999.00,9,  -999.0,9,  -999.0,   8.433,2,   -0.42,2,-999.000,9,   43.73,2,   28.06,2, -67.0002, -86.7341,   0.013,      0.043,    33.8042,2,     -999.0,9,     -999.0,9,-999.0000,9,-999.0000,9,-999.0000,9,-999.0000,9,-999.0000,9,-999.0000,9,-999.0000,9,-999.0000,9,-999.0000,9,   0.0091,    0.14,  -0.0245,     -999.0,     -999.0,9,     -999.0,9,     -999.0,9,      -3.31,2,       0.17,20110415,       1533
320620110219,       S04P,     125,          1,         33,         33,2,20110415,       1351,   -67.0002,   -86.7341,       4325,    75.0,  -1.5698,  33.8420,2,  33.8394,2,    334.2,2,   334.8,2,   30.84,2,   28.23,2,    0.16,2,    2.04,2,   6.109,2,   3.323,2,   0.632,2,   2.6650,2,  2167.5,2,  2282.5,2,   7.6556,2,    25.00,   0.105,2,   1.8549,2,   -1.38,2,  -1.5715,2,    1.14,2,   -84.2,2,     2.5,   8.261,2,   -0.27,2,-999.000,9,   41.82,2,   31.74,2, -67.0002, -86.7341,   0.013,      0.042,    33.9990,2,     -999.0,9,     -999.0,9,-999.0000,9,-999.0000,9,-999.0000,9,-999.0000,9,-999.0000,9,-999.0000,9,-999.0000,9,-999.0000,9,-999.0000,9,   0.0089,    0.14,  -1.5714,     -999.0,     -999.0,9,     -999.0,9,     -999.0,9,      -3.69,2,       0.17,20110415,       1532
320620110219,       S04P,     125,          1,         32,         32,2,20110415,       1351,   -67.0002,   -86.7341,       4325,   100.0,  -1.4842,  33.8703,2,  33.8687,2,    329.5,2,   328.8,2,   32.72,2,   28.84,2,    0.21,2,    2.04,2,   5.981,2,   3.214,2,   0.615,2,   2.6190,2,  -999.0,5,  2284.5,2,   7.6478,2,    25.00,   0.068,2,   1.8551,2,   -1.00,2,  -1.4831,2,    1.17,2,   -90.6,2,     2.9,   8.260,2,   -0.51,2,-999.000,9,   41.31,2,   32.07,2, -67.0002, -86.7341,   0.013,      0.042,    34.0284,2,     -999.0,9,     -999.0,9,-999.0000,9,-999.0000,9,-999.0000,9,-999.0000,9,-999.0000,9,-999.0000,9,-999.0000,9,-999.0000,9,-999.0000,9,   0.0089,    0.14,  -1.4864,     -999.0,     -999.0,9,     -999.0,9,     -999.0,9,      -3.68,2,       0.19,20110415,       1530
320620110219,       S04P,     125,          1,         31,         31,2,20110415,       1351,   -67.0002,   -86.7341,       4325,   149.4,   0.6692,  34.1178,2,  34.1150,2,    273.7,2,   269.0,2,   42.37,2,   32.26,2,    0.01,2,    2.21,2,   4.342,2,   2.364,2,   0.420,2,   1.6980,2,  2199.9,2,  2294.6,2,   7.5968,2,    25.00,   0.070,2,   1.8578,2,    1.01,2,   0.6156,2,    0.87,2,  -101.1,2,     3.0,   8.174,2,   -0.26,2,-999.000,9,   41.77,2,   34.78,2, -67.0002, -86.7341,   0.013,      0.042,    34.2758,2,     -999.0,9,     -999.0,9,-999.0000,9,-999.0000,9,-999.0000,9,-999.0000,9,-999.0000,9,-999.0000,9,-999.0000,9,-999.0000,9,-999.0000,9,   0.0089,    0.14,   0.6630,     -999.0,     -999.0,9,     -999.0,9,     -999.0,9,      -2.33,2,       0.43,20110415,       1529
320620110219,       S04P,     125,          1,         30,         30,2,20110415,       1351,   -67.0002,   -86.7341,       4325,   200.0,   1.6411,  34.2572,2,  34.2593,2,    224.9,2,   227.6,2,   51.77,2,   33.86,2,    0.00,2,    2.32,2,   3.080,2,   1.695,2,   0.285,2,   1.0260,2,  2220.6,2,  2305.0,2,   7.5682,6,    25.00,   0.054,2,   1.8831,2,    3.24,2,   1.6417,2,    0.70,2,  -109.1,2,     2.6,   8.232,2,   -0.20,2,-999.000,9,   41.24,2,   36.32,2, -67.0002, -86.7341,   0.013,      0.042,    34.4208,2,     -999.0,9,     -999.0,9,-999.0000,9,-999.0000,9,-999.0000,9,-999.0000,9,-999.0000,9,-999.0000,9,-999.0000,9,-999.0000,9,-999.0000,9,   0.0090,    0.14,   1.6311,     -999.0,     -999.0,9,     -999.0,9,     -999.0,9,      -1.83,2,       0.34,20110415,       1527
320620110219,       S04P,     125,          1,         29,         29,2,20110415,       1351,   -67.0002,   -86.7341,       4325,   249.5,   2.0858,  34.3599,2,  34.3621,2,    199.7,2,   199.4,2,   59.15,2,   34.76,2,    0.00,2,    2.38,2,   2.201,2,   1.182,2,   0.195,2,   0.7310,2,  2234.8,2,  2314.7,2,   7.5506,2,    25.00,   0.032,2,   1.8802,2,    5.08,2,   2.0846,2,    0.59,2,  -120.4,2,     2.5,   8.271,2,   -0.20,2,-999.000,9,   40.66,2,   37.40,2, -67.0002, -86.7341,   0.012,      0.042,    34.5241,2,     -999.0,9,     -999.0,9,-999.0000,9,-999.0000,9,-999.0000,9,-999.0000,9,-999.0000,9,-999.0000,9,-999.0000,9,-999.0000,9,-999.0000,9,   0.0090,    0.14,   2.0723,     -999.0,     -999.0,9,     -999.0,9,     -999.0,9,      -1.48,2,       0.36,20110415,       1525
320620110219,       S04P,     125,          1,         28,         28,2,20110415,       1351,   -67.0002,   -86.7341,       4325,   300.0,   2.2222,  34.4254,2,  34.4262,2,    187.9,2,   187.5,2,   63.74,2,   34.99,2,    0.00,2,    2.40,2,   1.694,2,   0.895,2,   0.133,2,   0.4740,2,  2242.8,2,  2320.1,2,   7.5435,2,    25.00,   0.041,2,   1.8760,2,    6.00,2,   2.2228,2,    0.51,2,  -129.5,2,     2.5,   8.178,2,   -0.11,2,-999.000,9,   40.65,2,   37.41,2, -67.0002, -86.7341,   0.013,      0.042,    34.5885,2,     -999.0,9,     -999.0,9,-999.0000,9,-999.0000,9,-999.0000,9,-999.0000,9,-999.0000,9,-999.0000,9,-999.0000,9,-999.0000,9,-999.0000,9,   0.0090,    0.14,   2.2054,     -999.0,     -999.0,9,     -999.0,9,     -999.0,9,      -1.72,2,       0.19,20110415,       1524
320620110219,       S04P,     125,          1,         27,         27,2,20110415,       1351,   -67.0002,   -86.7341,       4325,   350.8,   2.2585,  34.4660,2,  34.4660,2,    180.2,2,   181.2,2,   66.93,2,   35.27,2,    0.00,2,    2.40,2,   1.398,2,   0.738,2,   0.095,2,   0.3880,2,  2246.9,2,  2325.3,2,   7.5434,2,    25.00,   0.022,2,   1.9535,2,    6.71,2,   2.2589,2,    0.49,2,  -133.9,2,     2.5,   8.461,2,   -0.13,2,-999.000,9,   40.64,2,   37.70,2, -67.0002, -86.7341,   0.012,      0.043,    34.6285,2,     -999.0,9,     -999.0,9,-999.0000,9,-999.0000,9,-999.0000,9,-999.0000,9,-999.0000,9,-999.0000,9,-999.0000,9,-999.0000,9,-999.0000,9,   0.0094,    0.14,   2.2386,     -999.0,     -999.0,9,     -999.0,9,     -999.0,9,      -1.62,2,       0.90,20110415,       1522
320620110219,       S04P,     125,          1,         26,         26,2,20110415,       1351,   -67.0002,   -86.7341,       4325,   399.5,   2.2611,  34.5034,2,  34.5032,2,    176.3,2,   176.5,2,   69.61,2,   35.03,2,    0.00,2,    2.40,2,   1.173,2,   0.615,2,   0.087,2,   0.3100,2,  2249.8,2,  2327.0,2,   7.5389,2,    25.00,   0.014,2,   1.9096,2,    7.49,2,   2.2607,2,    0.45,2,  -140.3,2,     2.6,   8.304,2,   -0.21,2,-999.000,9,   40.38,2,   37.47,2, -67.0002, -86.7341,   0.013,      0.042,    34.6659,2,     -999.0,9,     -999.0,9,-999.0000,9,-999.0000,9,-999.0000,9,-999.0000,9,-999.0000,9,-999.0000,9,-999.0000,9,-999.0000,9,-999.0000,9,   0.0092,    0.14,   2.2383,     -999.0,     -999.0,9,     -999.0,9,     -999.0,9,      -1.52,2,       0.26,20110415,       1520
320620110219,       S04P,     125,          1,         25,         25,2,20110415,       1351,   -67.0002,   -86.7341,       4325,   449.8,   2.2738,  34.5315,2,  34.5320,2,    173.9,2,   174.1,2,   71.89,2,   34.96,2,    0.00,2,    2.39,2,   0.985,2,   0.509,2,   0.072,2,   0.2200,2,  2251.5,2,  2328.4,2,   7.5412,2,    25.00,   0.017,2,   1.8993,2,    7.81,2,   2.2737,2,    0.44,2,  -134.2,2,     2.6,   8.274,2,   -0.07,2,-999.000,9,   40.52,2,   37.70,2, -67.0002, -86.7341,   0.012,      0.042,    34.6949,2,     -999.0,9,     -999.0,9,-999.0000,9,-999.0000,9,-999.0000,9,-999.0000,9,-999.0000,9,-999.0000,9,-999.0000,9,-999.0000,9,-999.0000,9,   0.0091,    0.14,   2.2478,     -999.0,     -999.0,9,     -999.0,9,     -999.0,9,      -2.31,2,       0.35,20110415,       1518
320620110219,       S04P,     125,          1,         24,         24,2,20110415,       1351,   -67.0002,   -86.7341,       4325,   499.7,   2.2809,  34.5601,2,  34.5595,2,    172.4,2,   172.0,2,   73.60,2,   34.64,2,    0.00,2,    2.37,2,-999.000,9,-999.000,9,-999.000,9,-999.0000,9,  2253.3,2,  2334.8,2,   7.5464,2,    25.00,-999.000,9,-999.0000,9,-999.000,9,   2.2807,2,    0.42,2,  -141.6,2,     2.6,-999.000,9, -999.00,9,-999.000,9,   40.60,2,   36.94,2, -67.0002, -86.7341,-999.000,     -999.0,    34.7225,2,     -999.0,9,     -999.0,9,-999.0000,9,-999.0000,9,-999.0000,9,-999.0000,9,-999.0000,9,-999.0000,9,-999.0000,9,-999.0000,9,-999.0000,9,-999.0000,-999.000,   2.2518,     -999.0,     -999.0,9,     -999.0,9,     -999.0,9,     -999.0,9,     -999.0,20110415,       1516
320620110219,       S04P,     125,          1,         23,         23,2,20110415,       1351,   -67.0002,   -86.7341,       4325,   599.9,   2.2537,  34.6076,2,  34.6073,2,    172.0,2,   171.7,2,   77.06,2,   34.12,2,    0.00,2,    2.34,2,   0.588,2,   0.295,2,   0.035,2,   0.1290,2,  -999.0,9,  -999.0,9,   7.5556,2,    25.00,  -0.004,2,   1.8997,2,    9.08,2,   2.2534,2,    0.38,2,  -142.5,2,     2.3,   8.276,2,   -0.29,2,-999.000,9,   40.66,2,   36.83,2, -67.0002, -86.7341,   0.012,      0.042,    34.7705,2,     -999.0,9,     -999.0,9,-999.0000,9,-999.0000,9,-999.0000,9,-999.0000,9,-999.0000,9,-999.0000,9,-999.0000,9,-999.0000,9,-999.0000,9,   0.0091,    0.14,   2.2183,     -999.0,     -999.0,9,     -999.0,9,     -999.0,9,      -1.86,2,       0.56,20110415,       1514
320620110219,       S04P,     125,          1,         22,         22,2,20110415,       1351,   -67.0002,   -86.7341,       4325,   699.5,   2.2022,  34.6434,2,  34.6433,2,    172.9,2,   172.4,2,   79.10,2,   33.58,2,    0.00,2,    2.30,2,-999.000,9,-999.000,9,-999.000,9,-999.0000,9,  2255.6,2,  2340.9,2,   7.5620,2,    25.00,-999.000,9,-999.0000,9,-999.000,9,   2.2021,2,    0.43,2,  -145.9,2,     2.4,-999.000,9, -999.00,9,-999.000,9,   40.45,2,   35.62,2, -67.0002, -86.7341,-999.000,     -999.0,    34.8066,2,     -999.0,9,     -999.0,9,-999.0000,9,-999.0000,9,-999.0000,9,-999.0000,9,-999.0000,9,-999.0000,9,-999.0000,9,-999.0000,9,-999.0000,9,-999.0000,-999.000,   2.1606,     -999.0,     -999.0,9,     -999.0,9,     -999.0,9,     -999.0,9,     -999.0,20110415,       1511
320620110219,       S04P,     125,          1,         21,         21,2,20110415,       1351,   -67.0002,   -86.7341,       4325,   799.8,   2.1303,  34.6704,2,  34.6709,2,    175.4,2,   175.8,2,   81.10,2,   33.02,2,    0.00,2,    2.28,2,   0.389,2,   0.186,2,   0.019,2,   0.1030,2,  -999.0,9,  -999.0,9,   7.5667,2,    25.00,   0.006,2,   1.8688,2,    9.51,2,   2.1306,2,    0.44,2,  -145.8,2,     2.4,   8.131,2, -999.00,9,-999.000,9,   40.46,2,   35.27,2, -67.0002, -86.7341,   0.013,      0.041,    34.8344,2,     -999.0,9,     -999.0,9,-999.0000,9,-999.0000,9,-999.0000,9,-999.0000,9,-999.0000,9,-999.0000,9,-999.0000,9,-999.0000,9,-999.0000,9,   0.0090,    0.14,   2.0825,     -999.0,     -999.0,9,     -999.0,9,     -999.0,9,     -999.0,9,     -999.0,20110415,       1509
320620110219,       S04P,     125,          1,         20,         20,2,20110415,       1351,   -67.0002,   -86.7341,       4325,   899.6,   2.0678,  34.6921,2,  34.6923,2,    178.2,2,   177.8,2,   82.86,2,   32.51,2,    0.00,2,    2.24,2,-999.000,9,-999.000,9,-999.000,9,-999.0000,9,  2255.0,2,  2345.1,6,   7.5772,2,    25.00,-999.000,9,-999.0000,9,-999.000,9,   2.0675,2,    0.48,2,  -150.0,2,     2.9,-999.000,9, -999.00,9,-999.000,9,   40.07,2,   35.42,2, -67.0002, -86.7341,-999.000,     -999.0,    34.8559,2,     -999.0,9,     -999.0,9,-999.0000,9,-999.0000,9,-999.0000,9,-999.0000,9,-999.0000,9,-999.0000,9,-999.0000,9,-999.0000,9,-999.0000,9,-999.0000,-999.000,   2.0138,     -999.0,     -999.0,9,     -999.0,9,     -999.0,9,     -999.0,9,     -999.0,20110415,       1506
320620110219,       S04P,     125,          1,         19,         19,2,20110415,       1351,   -67.0002,   -86.7341,       4325,   999.2,   2.0033,  34.7056,2,  34.7062,2,    180.6,2,   180.5,2,   84.64,2,   32.22,2,    0.00,2,    2.22,2,   0.288,2,   0.139,2,   0.015,2,   0.0990,2,  -999.0,9,  -999.0,9,   7.5816,2,    25.00,   0.008,2,   1.8836,2,    9.78,2,   2.0022,2,   -0.09,2,  -154.3,2,     2.4,   8.169,2, -999.00,9,-999.000,9,   39.74,2,   34.81,2, -67.0002, -86.7341,   0.013,      0.042,    34.8699,2,     -999.0,9,     -999.0,9,-999.0000,9,-999.0000,9,-999.0000,9,-999.0000,9,-999.0000,9,-999.0000,9,-999.0000,9,-999.0000,9,-999.0000,9,   0.0090,    0.14,   1.9429,     -999.0,     -999.0,9,     -999.0,9,     -999.0,9,     -999.0,9,     -999.0,20110415,       1504
320620110219,       S04P,     125,          1,         18,         18,2,20110415,       1351,   -67.0002,   -86.7341,       4325,  1100.0,   1.9286,  34.7169,2,  34.7168,2,    183.4,2,   183.1,2,   86.59,2,   31.88,2,    0.00,2,    2.20,2,-999.000,9,-999.000,9,-999.000,9,-999.0000,9,  -999.0,9,  -999.0,9,   7.5884,2,    25.00,-999.000,9,-999.0000,9,-999.000,9,   1.9282,2,    0.32,2,  -147.3,2,     2.8,-999.000,9, -999.00,9,-999.000,9,   39.25,2,   34.30,2, -67.0002, -86.7341,-999.000,     -999.0,    34.8805,2,     -999.0,9,     -999.0,9,-999.0000,9,-999.0000,9,-999.0000,9,-999.0000,9,-999.0000,9,-999.0000,9,-999.0000,9,-999.0000,9,-999.0000,9,-999.0000,-999.000,   1.8619,     -999.0,     -999.0,9,     -999.0,9,     -999.0,9,     -999.0,9,     -999.0,20110415,       1501
320620110219,       S04P,     125,          1,         17,         17,2,20110415,       1351,   -67.0002,   -86.7341,       4325,  1199.3,   1.8494,  34.7239,2,  34.7239,2,    185.8,2,   186.1,2,   88.79,2,   31.81,2,    0.00,2,    2.19,2,   0.217,2,   0.103,2,   0.010,2,   0.0580,2,  2254.3,6,  2350.4,2,   7.5931,2,    25.00,  -0.003,2,   1.9038,2,   10.02,2,   1.8495,2, -999.00,9,  -999.0,9,  -999.0,   8.288,2, -999.00,9,-999.000,9,   39.26,2,   33.82,2, -67.0002, -86.7341,   0.013,      0.042,    34.8876,2,     -999.0,9,     -999.0,9,-999.0000,9,-999.0000,9,-999.0000,9,-999.0000,9,-999.0000,9,-999.0000,9,-999.0000,9,-999.0000,9,-999.0000,9,   0.0091,    0.14,   1.7764,     -999.0,     -999.0,9,     -999.0,9,     -999.0,9,     -999.0,9,     -999.0,20110415,       1458
320620110219,       S04P,     125,          1,         16,         16,2,20110415,       1351,   -67.0002,   -86.7341,       4325,  1299.9,   1.7668,  34.7276,2,  34.7282,2,    187.7,2,   187.3,2,   91.42,2,   31.79,2,    0.00,2,    2.18,2,-999.000,9,-999.000,9,-999.000,9,-999.0000,9,  -999.0,9,  -999.0,9,   7.5938,6,    25.00,-999.000,9,-999.0000,9,-999.000,9,   1.7663,2,    0.49,2,  -150.1,2,     2.7,-999.000,9, -999.00,9,-999.000,9,   39.09,2,   34.06,2, -67.0002, -86.7341,-999.000,     -999.0,    34.8920,2,     -999.0,9,     -999.0,9,-999.0000,9,-999.0000,9,-999.0000,9,-999.0000,9,-999.0000,9,-999.0000,9,-999.0000,9,-999.0000,9,-999.0000,9,-999.0000,-999.000,   1.6875,     -999.0,     -999.0,9,     -999.0,9,     -999.0,9,     -999.0,9,     -999.0,20110415,       1456
320620110219,       S04P,     125,          1,         15,         15,2,20110415,       1351,   -67.0002,   -86.7341,       4325,  1400.0,   1.6806,  34.7299,2,  34.7302,2,    189.4,2,   189.4,2,   93.94,2,   31.77,2,    0.00,2,    2.18,2,   0.178,2,   0.089,2,   0.006,2,   0.0310,2,  -999.0,9,  -999.0,9,   7.5995,2,    25.00,  -0.004,2,-999.0000,9,-999.000,9,   1.6802,2,    0.47,2,  -157.1,2,     3.0,-999.000,9, -999.00,9,-999.000,9,   39.21,2,   34.58,2, -67.0002, -86.7341,   0.012,     -999.0,    34.8939,2,     -999.0,9,     -999.0,9,-999.0000,9,-999.0000,9,-999.0000,9,-999.0000,9,-999.0000,9,-999.0000,9,-999.0000,9,-999.0000,9,-999.0000,9,-999.0000,-999.000,   1.5950,     -999.0,     -999.0,9,     -999.0,9,     -999.0,9,     -999.0,9,     -999.0,20110415,       1453
320620110219,       S04P,     125,          1,         14,         14,2,20110415,       1351,   -67.0002,   -86.7341,       4325,  1499.8,   1.5802,  34.7296,2,  34.7298,2,    190.6,2,   190.7,2,   97.06,2,   31.79,2,    0.00,2,    2.18,2,-999.000,9,-999.000,9,-999.000,9,-999.0000,9,  2260.9,2,  2356.3,2,   7.6005,2,    25.00,-999.000,9,-999.0000,9,-999.000,9,   1.5811,2,    0.42,2,  -161.7,2,     2.5,-999.000,9, -999.00,9,-999.000,9,   39.34,2,   34.29,2, -67.0002, -86.7341,-999.000,     -999.0,    34.8935,2,     -999.0,9,     -999.0,9,-999.0000,9,-999.0000,9,-999.0000,9,-999.0000,9,-999.0000,9,-999.0000,9,-999.0000,9,-999.0000,9,-999.0000,9,-999.0000,-999.000,   1.4884,     -999.0,     -999.0,9,     -999.0,9,     -999.0,9,     -999.0,9,     -999.0,20110415,       1451