BOTTLE,20220813CCHSIOAMB
EXPOCODE,SECT_ID,STNNBR,CASTNO,SAMPNO,BTLNBR,BTLNBR_FLAG_W,DATE,TIME,LATITUDE,LONGITUDE,DEPTH,CTDPRS,CTDTMP,CTDSAL,CTDSAL_FLAG_W,SALNTY,SALNTY_FLAG_W,CTDOXY,CTDOXY_FLAG_W,OXYGEN,OXYGEN_FLAG_W,SILCAT,SILCAT_FLAG_W,NITRAT,NITRAT_FLAG_W,NITRIT,NITRIT_FLAG_W,PHSPHT,PHSPHT_FLAG_W,CFC-11,CFC-11_FLAG_W,CFC-12,CFC-12_FLAG_W,CFC113,CFC113_FLAG_W,SF6,SF6_FLAG_W,TCARBN,TCARBN_FLAG_W,ALKALI,ALKALI_FLAG_W,PH_TOT,PH_TOT_FLAG_W,PH_TMP,TRITUM,TRITUM_FLAG_W,HELIUM,HELIUM_FLAG_W,DELHE3,DELHE3_FLAG_W,REFTMP,REFTMP_FLAG_W,DELC13,DELC13_FLAG_W,DELC14,DELC14_FLAG_W,C14ERR,NEON,NEON_FLAG_W,DELO18,DELO18_FLAG_W,POC,POC_FLAG_W,DOC,DOC_FLAG_W,TDN,TDN_FLAG_W,BTL_LAT,BTL_LON,TRITER,NEONER,SALTREF,SALTREF_FLAG_W,PIGMENTS,PIGMENTS_FLAG_W,LAB_DEN,LAB_DEN_FLAG_W,CDOM325,CDOM325_FLAG_W,CDOM340,CDOM340_FLAG_W,CDOM380,CDOM380_FLAG_W,CDOM412,CDOM412_FLAG_W,CDOM443,CDOM443_FLAG_W,CDOM490,CDOM490_FLAG_W,CDOM555,CDOM555_FLAG_W,CDOMSL,CDOMSL_FLAG_W,CDOMSN,CDOMSN_FLAG_W,HELIER,DELHER,THETA,LDEO_SAMPNO,ABSORBTION,ABSORBTION_FLAG_W,IMAGE_COUNT,IMAGE_COUNT_FLAG_W,CYTO_COUNT,CYTO_COUNT_FLAG_W,DELD,DELD_FLAG_W,DELDERR,BTL_DATE,BTL_TIME
,,,,,,,,,,,METERS,DBAR,ITS-90,PSS-78,,PSS-78,,UMOL/KG,,UMOL/KG,,UMOL/KG,,UMOL/KG,,UMOL/KG,,UMOL/KG,,PMOL/KG,,PMOL/KG,,PMOL/KG,,FMOL/KG,,UMOL/KG,,UMOL/KG,,,,DEG C,TU,,NMOL/KG,,PERCNT,,DEG C,,/MILLE,,/MILLE,,/MILLE,NMOL/KG,,/MILLE,,UG/KG,,UMOL/KG,,UMOL/KG,,,,TU,NMOL/KG,G/KG,,,,,,1/M,,1/M,,1/M,,1/M,,1/M,,1/M,,1/M,,1/NM,,1/NM,,NMOL/KG,PERCNT,DEG C,,,,,,,,/MILLE,,/MILLE,,
320620110219,       S04P,     122,          2,         36,         36,2,20110414,       0824,   -67.0001,   -94.3881,       4598,     4.6,  -0.8819,  33.4949,2,  33.4943,2,    348.9,3,   350.5,2,   13.56,2,   23.12,2,    0.24,2,    1.54,2,   6.513,2,   3.529,2,   0.674,2,   2.9400,2,  2133.6,2,  2264.2,2,   7.7110,2,    25.00,   0.137,2,-999.0000,9,-999.000,9,  -0.8821,2, -999.00,9,  -999.0,9,  -999.0,-999.000,9,   -0.30,2,-999.000,9,   44.81,2,   28.33,2, -67.0001, -94.3881,   0.013,     -999.0,    33.6522,2,     -999.0,9,     -999.0,9,-999.0000,9,-999.0000,9,-999.0000,9,-999.0000,9,-999.0000,9,-999.0000,9,-999.0000,9,-999.0000,9,-999.0000,9,-999.0000,-999.000,  -0.8820,     -999.0,     -999.0,9,     -999.0,9,     -999.0,9,      -4.06,2,       0.23,20110414,       1016
320620110219,       S04P,     122,          2,         35,         35,2,20110414,       0824,   -67.0001,   -94.3881,       4598,    25.1,  -0.8572,  33.5069,2,  33.5052,2,    350.4,2,   350.1,2,   13.64,2,   23.10,2,    0.24,2,    1.55,2,   6.503,2,   3.496,2,   0.675,2,   2.8350,2,  2134.3,2,  2265.2,2,   7.7096,6,    25.00,   0.139,2,-999.0000,9,-999.000,9,  -0.8573,2, -999.00,9,  -999.0,9,  -999.0,-999.000,9,   -0.30,2,-999.000,9,   45.24,2,   28.39,2, -67.0001, -94.3881,   0.013,     -999.0,    33.6632,2,     -999.0,9,     -999.0,9,-999.0000,9,-999.0000,9,-999.0000,9,-999.0000,9,-999.0000,9,-999.0000,9,-999.0000,9,-999.0000,9,-999.0000,9,-999.0000,-999.000,  -0.8578,     -999.0,     -999.0,9,     -999.0,9,     -999.0,9,      -3.21,2,       0.99,20110414,       1014
320620110219,       S04P,     122,          2,         34,         34,2,20110414,       0824,   -67.0001,   -94.3881,       4598,    49.5,  -0.8807,  33.5523,3,  33.6540,2,    348.7,2,   339.2,2,   21.52,2,   25.02,2,    0.22,2,    1.78,2,   6.254,2,   3.363,2,   0.644,2,   2.6450,2,  2149.1,6,  2273.4,2,   7.6869,2,    25.00,   0.098,2,-999.0000,9,-999.000,9,  -0.8662,2, -999.00,9,  -999.0,9,  -999.0,-999.000,9,   -0.33,2,-999.000,9,   45.24,2,   29.47,2, -67.0001, -94.3881,   0.012,     -999.0,    33.8127,2,     -999.0,9,     -999.0,9,-999.0000,9,-999.0000,9,-999.0000,9,-999.0000,9,-999.0000,9,-999.0000,9,-999.0000,9,-999.0000,9,-999.0000,9,-999.0000,-999.000,  -0.8820,     -999.0,     -999.0,9,     -999.0,9,     -999.0,9,      -4.01,2,       0.46,20110414,       1013
320620110219,       S04P,     122,          2,         33,         33,2,20110414,       0824,   -67.0001,   -94.3881,       4598,    74.4,  -1.5495,  33.8961,2,  33.8894,2,    325.3,2,   325.2,2,   36.53,2,   28.59,2,    0.22,2,    2.04,2,   5.952,2,   3.200,2,   0.613,2,   2.4850,2,  2177.1,2,  2286.0,2,   7.6427,2,    25.00,   0.104,2,-999.0000,9,-999.000,9,  -1.5400,2, -999.00,9,  -999.0,9,  -999.0,-999.000,9,   -0.30,2,-999.000,9,   42.72,2,   32.30,2, -67.0001, -94.3881,   0.013,     -999.0,    34.0493,2,     -999.0,9,     -999.0,9,-999.0000,9,-999.0000,9,-999.0000,9,-999.0000,9,-999.0000,9,-999.0000,9,-999.0000,9,-999.0000,9,-999.0000,9,-999.0000,-999.000,  -1.5511,     -999.0,     -999.0,9,     -999.0,9,     -999.0,9,      -3.94,2,       0.27,20110414,       1011
320620110219,       S04P,     122,          2,         32,         32,2,20110414,       0824,   -67.0001,   -94.3881,       4598,    99.6,  -1.0246,  33.9730,2,  33.9587,2,    314.7,2,   313.0,2,   39.42,2,   29.72,2,    0.19,2,    2.07,2,   5.611,6,   3.036,6,   0.573,6,   2.3380,6,  2182.5,2,  2289.7,2,   7.6309,2,    25.00,   0.110,2,-999.0000,9,-999.000,9,  -0.9660,2, -999.00,9,  -999.0,9,  -999.0,-999.000,9,   -0.29,2,-999.000,9,   41.92,2,   32.96,2, -67.0001, -94.3881,   0.012,     -999.0,    34.1188,2,     -999.0,9,     -999.0,9,-999.0000,9,-999.0000,9,-999.0000,9,-999.0000,9,-999.0000,9,-999.0000,9,-999.0000,9,-999.0000,9,-999.0000,9,-999.0000,-999.000,  -1.0272,     -999.0,     -999.0,9,     -999.0,9,     -999.0,9,      -3.39,2,       0.21,20110414,       1010
320620110219,       S04P,     122,          2,         31,         31,2,20110414,       0824,   -67.0001,   -94.3881,       4598,   150.1,   1.2176,  34.2140,2,  34.2309,2,    241.1,2,   236.6,2,   50.70,2,   33.17,2,    0.04,2,    2.28,2,   3.385,2,   1.857,2,   0.308,2,   1.2560,2,  2217.4,2,  2305.3,2,   7.5729,2,    25.00,   0.065,2,-999.0000,9,-999.000,9,   1.2112,2, -999.00,9,  -999.0,9,  -999.0,-999.000,9,   -0.08,2,-999.000,9,   41.43,2,   35.71,2, -67.0001, -94.3881,   0.013,     -999.0,    34.3923,2,     -999.0,9,     -999.0,9,-999.0000,9,-999.0000,9,-999.0000,9,-999.0000,9,-999.0000,9,-999.0000,9,-999.0000,9,-999.0000,9,-999.0000,9,-999.0000,-999.000,   1.2107,     -999.0,     -999.0,9,     -999.0,9,     -999.0,9,      -2.32,2,       0.24,20110414,       1008
320620110219,       S04P,     122,          2,         30,         30,2,20110414,       0824,   -67.0001,   -94.3881,       4598,   199.7,   1.9816,  34.3484,2,  34.3496,2,    202.6,2,   204.0,2,   58.93,2,   34.34,2,    0.02,2,    2.34,2,   2.376,2,   1.271,2,   0.208,2,   0.7370,2,  2233.2,2,  2314.2,2,   7.5526,2,    25.00,   0.043,2,-999.0000,9,-999.000,9,   1.9815,2, -999.00,9,  -999.0,9,  -999.0,-999.000,9,   -0.14,2,-999.000,9,   41.00,2,   36.62,2, -67.0001, -94.3881,   0.013,     -999.0,    34.5115,2,     -999.0,9,     -999.0,9,-999.0000,9,-999.0000,9,-999.0000,9,-999.0000,9,-999.0000,9,-999.0000,9,-999.0000,9,-999.0000,9,-999.0000,9,-999.0000,-999.000,   1.9710,     -999.0,     -999.0,9,     -999.0,9,     -999.0,9,      -2.15,2,       0.08,20110414,       1006
320620110219,       S04P,     122,          2,         29,         29,2,20110414,       0824,   -67.0001,   -94.3881,       4598,   249.8,   2.1787,  34.4325,2,  34.4295,2,    185.4,2,   187.8,2,   64.92,2,   34.89,2,    0.01,2,    2.37,2,   1.721,2,   0.906,2,   0.132,2,   0.5110,2,  2241.3,2,  2322.2,2,   7.5436,2,    25.00,   0.017,2,-999.0000,9,-999.000,9,   2.1786,2, -999.00,9,  -999.0,9,  -999.0,-999.000,9,    0.04,2,-999.000,9,   40.70,2,   37.05,2, -67.0001, -94.3881,   0.012,     -999.0,    34.5919,2,     -999.0,9,     -999.0,9,-999.0000,9,-999.0000,9,-999.0000,9,-999.0000,9,-999.0000,9,-999.0000,9,-999.0000,9,-999.0000,9,-999.0000,9,-999.0000,-999.000,   2.1649,     -999.0,     -999.0,9,     -999.0,9,     -999.0,9,      -1.78,2,       0.16,20110414,       1005
320620110219,       S04P,     122,          2,         28,         28,2,20110414,       0824,   -67.0001,   -94.3881,       4598,   299.5,   2.2226,  34.4706,2,  34.4754,2,    179.9,2,   180.4,2,   68.04,2,   34.87,2,    0.01,2,    2.37,2,   1.412,2,   0.722,2,   0.116,2,   0.3730,2,  2247.6,2,  2326.9,2,   7.5403,2,    25.00,  -0.002,2,-999.0000,9,-999.000,9,   2.2218,2, -999.00,9,  -999.0,9,  -999.0,-999.000,9,   -0.16,2,-999.000,9,   40.56,2,   37.07,2, -67.0001, -94.3881,   0.013,     -999.0,    34.6380,2,     -999.0,9,     -999.0,9,-999.0000,9,-999.0000,9,-999.0000,9,-999.0000,9,-999.0000,9,-999.0000,9,-999.0000,9,-999.0000,9,-999.0000,9,-999.0000,-999.000,   2.2058,     -999.0,     -999.0,9,     -999.0,9,     -999.0,9,      -1.73,2,       0.04,20110414,       1003
320620110219,       S04P,     122,          2,         27,         27,2,20110414,       0824,   -67.0001,   -94.3881,       4598,   350.1,   2.2368,  34.5192,2,  34.5193,2,    175.7,2,   176.5,2,   71.01,2,   34.64,2,    0.00,2,    2.37,2,   1.123,2,   0.571,2,   0.088,2,   0.3230,2,  2250.1,2,  2330.0,2,   7.5431,2,    25.00,  -0.007,2,-999.0000,9,-999.000,9,   2.2365,2, -999.00,9,  -999.0,9,  -999.0,-999.000,9,   -0.10,2,-999.000,9,   40.45,2,   37.03,2, -67.0001, -94.3881,   0.013,     -999.0,    34.6821,2,     -999.0,9,     -999.0,9,-999.0000,9,-999.0000,9,-999.0000,9,-999.0000,9,-999.0000,9,-999.0000,9,-999.0000,9,-999.0000,9,-999.0000,9,-999.0000,-999.000,   2.2170,     -999.0,     -999.0,9,     -999.0,9,     -999.0,9,      -2.49,2,       0.06,20110414,       1001
320620110219,       S04P,     122,          2,         26,         26,2,20110414,       0824,   -67.0001,   -94.3881,       4598,   399.8,   2.2328,  34.5511,2,  34.5511,2,    173.3,2,   173.4,2,   73.12,2,   34.44,2,    0.00,2,    2.35,2,   0.952,2,   0.474,2,   0.072,2,   0.2110,2,  2252.8,2,  2334.4,2,   7.5471,2,    25.00,  -0.010,2,-999.0000,9,-999.000,9,   2.2325,2, -999.00,9,  -999.0,9,  -999.0,-999.000,9,    0.02,2,-999.000,9,   40.47,2,   37.08,2, -67.0001, -94.3881,   0.012,     -999.0,    34.7140,2,     -999.0,9,     -999.0,9,-999.0000,9,-999.0000,9,-999.0000,9,-999.0000,9,-999.0000,9,-999.0000,9,-999.0000,9,-999.0000,9,-999.0000,9,-999.0000,-999.000,   2.2100,     -999.0,     -999.0,9,     -999.0,9,     -999.0,9,      -1.41,2,       0.18,20110414,       0959
320620110219,       S04P,     122,          2,         25,         25,2,20110414,       0824,   -67.0001,   -94.3881,       4598,   499.5,   2.2186,  34.6060,2,  34.6060,2,    172.1,2,   172.3,2,   76.67,2,   33.86,2,    0.00,2,    2.32,2,   0.656,2,   0.319,2,   0.048,2,   0.1420,2,  -999.0,9,  -999.0,9,-999.0000,9,  -999.00,   0.025,2,-999.0000,9,-999.000,9,   2.2182,2, -999.00,9,  -999.0,9,  -999.0,-999.000,9,   -0.07,2,-999.000,9,   40.36,2,   37.09,2, -67.0001, -94.3881,   0.012,     -999.0,    34.7692,2,     -999.0,9,     -999.0,9,-999.0000,9,-999.0000,9,-999.0000,9,-999.0000,9,-999.0000,9,-999.0000,9,-999.0000,9,-999.0000,9,-999.0000,9,-999.0000,-999.000,   2.1897,     -999.0,     -999.0,9,     -999.0,9,     -999.0,9,      -1.38,2,       0.14,20110414,       0956
320620110219,       S04P,     122,          2,         24,         24,2,20110414,       0824,   -67.0001,   -94.3881,       4598,   599.1,   2.1746,  34.6450,2,  34.6440,2,    173.5,2,   172.6,2,   79.19,2,   33.28,2,    0.00,2,    2.29,2,-999.000,9,-999.000,9,-999.000,9,-999.0000,9,  2255.5,2,  2342.5,2,   7.5605,2,    25.00,-999.000,9,-999.0000,9,-999.000,9,   2.1757,2, -999.00,9,  -999.0,9,  -999.0,-999.000,9, -999.00,9,-999.000,9,   40.62,2,   35.94,2, -67.0001, -94.3881,-999.000,     -999.0,    34.8074,2,     -999.0,9,     -999.0,9,-999.0000,9,-999.0000,9,-999.0000,9,-999.0000,9,-999.0000,9,-999.0000,9,-999.0000,9,-999.0000,9,-999.0000,9,-999.0000,-999.000,   2.1396,     -999.0,     -999.0,9,     -999.0,9,     -999.0,9,     -999.0,9,     -999.0,20110414,       0954
320620110219,       S04P,     122,          2,         23,         23,2,20110414,       0824,   -67.0001,   -94.3881,       4598,   699.9,   2.1174,  34.6696,2,  34.6692,2,    176.0,2,   174.9,2,   81.07,2,   32.90,2,    0.00,2,    2.25,2,   0.421,2,   0.204,2,   0.028,2,   0.0880,2,  -999.0,9,  -999.0,9,-999.0000,9,  -999.00,   0.008,2,-999.0000,9,-999.000,9,   2.1170,2, -999.00,9,  -999.0,9,  -999.0,-999.000,9,   -0.08,2,-999.000,9,   40.35,2,   35.65,2, -67.0001, -94.3881,   0.013,     -999.0,    34.8326,2,     -999.0,9,     -999.0,9,-999.0000,9,-999.0000,9,-999.0000,9,-999.0000,9,-999.0000,9,-999.0000,9,-999.0000,9,-999.0000,9,-999.0000,9,-999.0000,-999.000,   2.0762,     -999.0,     -999.0,9,     -999.0,9,     -999.0,9,      -0.98,2,       0.02,20110414,       0951
320620110219,       S04P,     122,          2,         22,         22,2,20110414,       0824,   -67.0001,   -94.3881,       4598,   799.1,   2.0630,  34.6925,2,  34.6921,2,    178.9,2,   178.3,2,   82.80,2,   32.48,2,    0.00,2,    2.22,2,-999.000,9,-999.000,9,-999.000,9,-999.0000,9,  2253.5,2,  2345.2,2,   7.5780,2,    25.00,-999.000,9,-999.0000,9,-999.000,9,   2.0629,2, -999.00,9,  -999.0,9,  -999.0,-999.000,9, -999.00,9,-999.000,9,   40.09,2,   35.10,2, -67.0001, -94.3881,-999.000,     -999.0,    34.8557,2,     -999.0,9,     -999.0,9,-999.0000,9,-999.0000,9,-999.0000,9,-999.0000,9,-999.0000,9,-999.0000,9,-999.0000,9,-999.0000,9,-999.0000,9,-999.0000,-999.000,   2.0157,     -999.0,     -999.0,9,     -999.0,9,     -999.0,9,     -999.0,9,     -999.0,20110414,       0949
320620110219,       S04P,     122,          2,         21,         21,2,20110414,       0824,   -67.0001,   -94.3881,       4598,   900.4,   1.9956,  34.7072,2,  34.7074,2,    181.6,2,   180.9,2,   84.37,2,   32.05,2,    0.00,2,    2.20,2,   0.293,2,   0.139,2,   0.015,2,   0.0480,2,  -999.0,9,  -999.0,9,-999.0000,9,  -999.00,   0.020,2,-999.0000,9,-999.000,9,   1.9956,2, -999.00,9,  -999.0,9,  -999.0,-999.000,9, -999.00,9,-999.000,9,   39.82,2,   34.89,2, -67.0001, -94.3881,   0.012,     -999.0,    34.8711,2,     -999.0,9,     -999.0,9,-999.0000,9,-999.0000,9,-999.0000,9,-999.0000,9,-999.0000,9,-999.0000,9,-999.0000,9,-999.0000,9,-999.0000,9,-999.0000,-999.000,   1.9420,     -999.0,     -999.0,9,     -999.0,9,     -999.0,9,     -999.0,9,     -999.0,20110414,       0946
320620110219,       S04P,     122,          2,         20,         20,2,20110414,       0824,   -67.0001,   -94.3881,       4598,  1000.1,   1.9266,  34.7173,2,  34.7170,2,    184.2,2,   183.3,2,   86.25,2,   31.86,2,    0.00,2,    2.18,2,-999.000,9,-999.000,9,-999.000,9,-999.0000,9,  2253.5,2,  2349.9,2,   7.5894,2,    25.00,-999.000,9,-999.0000,9,-999.000,9,   1.9264,2, -999.00,9,  -999.0,9,  -999.0,-999.000,9, -999.00,9,-999.000,9,   39.90,2,   34.28,2, -67.0001, -94.3881,-999.000,     -999.0,    34.8807,2,     -999.0,9,     -999.0,9,-999.0000,9,-999.0000,9,-999.0000,9,-999.0000,9,-999.0000,9,-999.0000,9,-999.0000,9,-999.0000,9,-999.0000,9,-999.0000,-999.000,   1.8668,     -999.0,     -999.0,9,     -999.0,9,     -999.0,9,     -999.0,9,     -999.0,20110414,       0944
320620110219,       S04P,     122,          2,         19,         19,2,20110414,       0824,   -67.0001,   -94.3881,       4598,  1099.8,   1.8419,  34.7253,2,  34.7251,2,    186.1,2,   186.1,2,   88.19,2,   31.59,2,    0.00,2,    2.16,2,   0.239,2,   0.110,2,   0.013,2,   0.0360,2,  -999.0,9,  -999.0,9,-999.0000,9,  -999.00,  -0.007,2,-999.0000,9,-999.000,9,   1.8419,2, -999.00,9,  -999.0,9,  -999.0,-999.000,9, -999.00,9,-999.000,9,   39.41,2,   34.48,2, -67.0001, -94.3881,   0.013,     -999.0,    34.8888,2,     -999.0,9,     -999.0,9,-999.0000,9,-999.0000,9,-999.0000,9,-999.0000,9,-999.0000,9,-999.0000,9,-999.0000,9,-999.0000,9,-999.0000,9,-999.0000,-999.000,   1.7759,     -999.0,     -999.0,9,     -999.0,9,     -999.0,9,     -999.0,9,     -999.0,20110414,       0941
320620110219,       S04P,     122,          2,         18,         18,2,20110414,       0824,   -67.0001,   -94.3881,       4598,  1199.9,   1.7644,  34.7292,2,  34.7290,2,    188.1,2,   188.1,2,   90.26,2,   31.46,2,    0.00,2,    2.16,2,-999.000,9,-999.000,9,-999.000,9,-999.0000,9,  2253.6,6,  2352.0,2,   7.5960,2,    25.00,-999.000,9,-999.0000,9,-999.000,9,   1.7643,2, -999.00,9,  -999.0,9,  -999.0,-999.000,9, -999.00,9,-999.000,9,   39.52,2,   34.18,2, -67.0001, -94.3881,-999.000,     -999.0,    34.8928,2,     -999.0,9,     -999.0,9,-999.0000,9,-999.0000,9,-999.0000,9,-999.0000,9,-999.0000,9,-999.0000,9,-999.0000,9,-999.0000,9,-999.0000,9,-999.0000,-999.000,   1.6922,     -999.0,     -999.0,9,     -999.0,9,     -999.0,9,     -999.0,9,     -999.0,20110414,       0939
320620110219,       S04P,     122,          2,         17,         17,2,20110414,       0824,   -67.0001,   -94.3881,       4598,  1299.5,   1.6853,  34.7313,2,  34.7310,2,    189.8,2,   190.0,2,   92.51,2,   31.42,2,    0.00,2,    2.15,2,   0.204,2,   0.092,2,   0.011,2,   0.0370,2,  -999.0,9,  -999.0,9,-999.0000,9,  -999.00,   0.017,2,-999.0000,9,-999.000,9,   1.6851,2, -999.00,9,  -999.0,9,  -999.0,-999.000,9, -999.00,9,-999.000,9,   39.32,2,   33.75,2, -67.0000, -94.3881,   0.013,     -999.0,    34.8947,2,     -999.0,9,     -999.0,9,-999.0000,9,-999.0000,9,-999.0000,9,-999.0000,9,-999.0000,9,-999.0000,9,-999.0000,9,-999.0000,9,-999.0000,9,-999.0000,-999.000,   1.6068,     -999.0,     -999.0,9,     -999.0,9,     -999.0,9,     -999.0,9,     -999.0,20110414,       0936
320620110219,       S04P,     122,          2,         16,         16,2,20110414,       0824,   -67.0001,   -94.3881,       4598,  1400.3,   1.6097,  34.7320,2,  34.7317,2,    191.3,2,   190.9,2,   94.84,2,   31.46,2,    0.00,2,    2.16,2,-999.000,9,-999.000,9,-999.000,9,-999.0000,9,  2254.2,2,  2355.0,2,   7.6001,6,    25.00,-999.000,9,-999.0000,9,-999.000,9,   1.6098,2, -999.00,9,  -999.0,9,  -999.0,-999.000,9, -999.00,9,-999.000,9,   39.01,2,   33.83,2, -67.0000, -94.3881,-999.000,     -999.0,    34.8955,2,     -999.0,9,     -999.0,9,-999.0000,9,-999.0000,9,-999.0000,9,-999.0000,9,-999.0000,9,-999.0000,9,-999.0000,9,-999.0000,9,-999.0000,9,-999.0000,-999.000,   1.5248,     -999.0,     -999.0,9,     -999.0,9,     -999.0,9,     -999.0,9,     -999.0,20110414,       0934
320620110219,       S04P,     122,          2,         15,         15,2,20110414,       0824,   -67.0001,   -94.3881,       4598,  1499.2,   1.5274,  34.7319,2,  34.7317,2,    192.5,2,   192.4,2,   97.12,2,   31.46,2,    0.00,2,    2.16,2,   0.185,2,   0.085,2,   0.012,2,   0.0500,2,  -999.0,9,  -999.0,9,-999.0000,9,  -999.00,   0.004,2,-999.0000,9,-999.000,9,   1.5272,2, -999.00,9,  -999.0,9,  -999.0,-999.000,9, -999.00,9,-999.000,9,   39.41,2,   33.87,2, -67.0001, -94.3881,   0.013,     -999.0,    34.8955,2,     -999.0,9,     -999.0,9,-999.0000,9,-999.0000,9,-999.0000,9,-999.0000,9,-999.0000,9,-999.0000,9,-999.0000,9,-999.0000,9,-999.0000,9,-999.0000,-999.000,   1.4363,     -999.0,     -999.0,9,     -999.0,9,     -999.0,9,     -999.0,9,     -999.0,20110414,       0931
320620110219,       S04P,     122,          2,         14,         14,2,20110414,       0824,   -67.0001,   -94.3881,       4598,  1599.3,   1.4405,  34.7307,2,  34.7300,2,    193.3,2,   193.7,2,   99.85,2,   31.56,2,    0.00,2,    2.16,2,-999.000,9,-999.000,9,-999.000,9,-999.0000,9,  2256.2,2,  2357.6,2,   7.6020,2,    25.00,-999.000,9,-999.0000,9,-999.000,9,   1.4411,2, -999.00,9,  -999.0,9,  -999.0,-999.000,9, -999.00,9,-999.000,9,   39.38,2,   34.04,2, -67.0001, -94.3881,-999.000,     -999.0,    34.8937,2,     -999.0,9,     -999.0,9,-999.0000,9,-999.0000,9,-999.0000,9,-999.0000,9,-999.0000,9,-999.0000,9,-999.0000,9,-999.0000,9,-999.0000,9,-999.0000,-999.000,   1.3431,     -999.0,     -999.0,9,     -999.0,9,     -999.0,9,     -999.0,9,     -999.0,20110414,       0928