BOTTLE,20220813CCHSIOAMB
EXPOCODE,SECT_ID,STNNBR,CASTNO,SAMPNO,BTLNBR,BTLNBR_FLAG_W,DATE,TIME,LATITUDE,LONGITUDE,DEPTH,CTDPRS,CTDTMP,CTDSAL,CTDSAL_FLAG_W,SALNTY,SALNTY_FLAG_W,CTDOXY,CTDOXY_FLAG_W,OXYGEN,OXYGEN_FLAG_W,SILCAT,SILCAT_FLAG_W,NITRAT,NITRAT_FLAG_W,NITRIT,NITRIT_FLAG_W,PHSPHT,PHSPHT_FLAG_W,CFC-11,CFC-11_FLAG_W,CFC-12,CFC-12_FLAG_W,CFC113,CFC113_FLAG_W,SF6,SF6_FLAG_W,TCARBN,TCARBN_FLAG_W,ALKALI,ALKALI_FLAG_W,PH_TOT,PH_TOT_FLAG_W,PH_TMP,TRITUM,TRITUM_FLAG_W,HELIUM,HELIUM_FLAG_W,DELHE3,DELHE3_FLAG_W,REFTMP,REFTMP_FLAG_W,DELC13,DELC13_FLAG_W,DELC14,DELC14_FLAG_W,C14ERR,NEON,NEON_FLAG_W,DELO18,DELO18_FLAG_W,POC,POC_FLAG_W,DOC,DOC_FLAG_W,TDN,TDN_FLAG_W,BTL_LAT,BTL_LON,TRITER,NEONER,SALTREF,SALTREF_FLAG_W,PIGMENTS,PIGMENTS_FLAG_W,LAB_DEN,LAB_DEN_FLAG_W,CDOM325,CDOM325_FLAG_W,CDOM340,CDOM340_FLAG_W,CDOM380,CDOM380_FLAG_W,CDOM412,CDOM412_FLAG_W,CDOM443,CDOM443_FLAG_W,CDOM490,CDOM490_FLAG_W,CDOM555,CDOM555_FLAG_W,CDOMSL,CDOMSL_FLAG_W,CDOMSN,CDOMSN_FLAG_W,HELIER,DELHER,THETA,LDEO_SAMPNO,ABSORBTION,ABSORBTION_FLAG_W,IMAGE_COUNT,IMAGE_COUNT_FLAG_W,CYTO_COUNT,CYTO_COUNT_FLAG_W,DELD,DELD_FLAG_W,DELDERR,BTL_DATE,BTL_TIME
,,,,,,,,,,,METERS,DBAR,ITS-90,PSS-78,,PSS-78,,UMOL/KG,,UMOL/KG,,UMOL/KG,,UMOL/KG,,UMOL/KG,,UMOL/KG,,PMOL/KG,,PMOL/KG,,PMOL/KG,,FMOL/KG,,UMOL/KG,,UMOL/KG,,,,DEG C,TU,,NMOL/KG,,PERCNT,,DEG C,,/MILLE,,/MILLE,,/MILLE,NMOL/KG,,/MILLE,,UG/KG,,UMOL/KG,,UMOL/KG,,,,TU,NMOL/KG,G/KG,,,,,,1/M,,1/M,,1/M,,1/M,,1/M,,1/M,,1/M,,1/NM,,1/NM,,NMOL/KG,PERCNT,DEG C,,,,,,,,/MILLE,,/MILLE,,
320620110219,       P16S,      56,          1,         13,         13,2,20110314,       1413,   -72.4718,  -150.0004,       4144,  1564.7,   0.9073,  34.7158,2,  34.7170,2,    199.7,2,   199.8,2,  116.50,2,   32.01,2,    0.00,2,    2.24,2,-999.000,9,-999.000,9,-999.000,9,-999.0000,9,  -999.0,9,  -999.0,9,-999.0000,9,  -999.00,-999.000,9,-999.0000,9,-999.000,9,   0.9072,2, -999.00,9,  -999.0,9,  -999.0,-999.000,9, -999.00,9,-999.000,9,   39.47,2,   34.59,2, -72.4718,-150.0004,-999.000,     -999.0,    34.8807,2,     -999.0,9,     -999.0,9,-999.0000,9,-999.0000,9,-999.0000,9,-999.0000,9,-999.0000,9,-999.0000,9,-999.0000,9,-999.0000,9,-999.0000,9,-999.0000,-999.000,   0.8190,     -999.0,     -999.0,9,     -999.0,9,     -999.0,9,     -999.0,9,     -999.0,20110314,       1510
320620110219,       P16S,      56,          1,         12,         12,2,20110314,       1413,   -72.4718,  -150.0004,       4144,  1734.5,   0.8264,  34.7127,2,  34.7117,2,    201.5,2,   201.7,2,  119.72,2,   31.99,2,    0.00,2,    2.24,2,   0.113,2,   0.055,2,   0.005,2,-999.0000,9,  2261.2,2,  2359.4,2,   7.5945,2,    25.00,-999.000,9,-999.0000,9,-999.000,9,   0.8264,2, -999.00,9,  -999.0,9,  -999.0,-999.000,9, -999.00,9,-999.000,9,   39.33,2,   34.21,2, -72.4718,-150.0004,-999.000,     -999.0,    34.8754,2,     -999.0,9,     -999.0,9,-999.0000,9,-999.0000,9,-999.0000,9,-999.0000,9,-999.0000,9,-999.0000,9,-999.0000,9,-999.0000,9,-999.0000,9,-999.0000,-999.000,   0.7272,     -999.0,     -999.0,9,     -999.0,9,     -999.0,9,     -999.0,9,     -999.0,20110314,       1506
320620110219,       P16S,      56,          1,         11,         11,2,20110314,       1413,   -72.4718,  -150.0004,       4144,  1934.8,   0.7458,  34.7095,2,  34.7093,2,    203.5,2,   203.6,2,  122.76,2,   31.98,2,    0.00,2,    2.24,2,-999.000,9,-999.000,9,-999.000,9,-999.0000,9,  -999.0,9,  -999.0,9,-999.0000,9,  -999.00,-999.000,9,-999.0000,9,-999.000,9,   0.7459,2, -999.00,9,  -999.0,9,  -999.0,-999.000,9, -999.00,9,-999.000,9,   39.19,2,   34.40,2, -72.4718,-150.0004,-999.000,     -999.0,    34.8730,2,     -999.0,9,     -999.0,9,-999.0000,9,-999.0000,9,-999.0000,9,-999.0000,9,-999.0000,9,-999.0000,9,-999.0000,9,-999.0000,9,-999.0000,9,-999.0000,-999.000,   0.6332,     -999.0,     -999.0,9,     -999.0,9,     -999.0,9,     -999.0,9,     -999.0,20110314,       1502
320620110219,       P16S,      56,          1,         10,         37,2,20110314,       1413,   -72.4718,  -150.0004,       4144,  2163.8,   0.6631,  34.7073,2,  34.7064,2,    205.5,2,   205.1,2,  124.86,2,   32.01,2,    0.00,2,    2.25,2,-999.000,9,-999.000,9,-999.000,9,-999.0000,9,  -999.0,9,  -999.0,9,-999.0000,9,  -999.00,-999.000,9,-999.0000,9,-999.000,9,   0.6627,2, -999.00,9,  -999.0,9,  -999.0,-999.000,9, -999.00,9,-999.000,9,   39.30,2,   34.48,2, -72.4718,-150.0004,-999.000,     -999.0,    34.8700,2,     -999.0,9,     -999.0,9,-999.0000,9,-999.0000,9,-999.0000,9,-999.0000,9,-999.0000,9,-999.0000,9,-999.0000,9,-999.0000,9,-999.0000,9,-999.0000,-999.000,   0.5345,     -999.0,     -999.0,9,     -999.0,9,     -999.0,9,     -999.0,9,     -999.0,20110314,       1457
320620110219,       P16S,      56,          1,          9,          9,2,20110314,       1413,   -72.4718,  -150.0004,       4144,  2414.3,   0.5796,  34.7056,2,  34.7048,2,    207.6,2,   207.2,2,  126.43,2,   31.92,2,    0.00,2,    2.24,2,-999.000,9,-999.000,9,-999.000,9,-999.0000,9,  2260.7,2,  2358.8,2,   7.5984,2,    25.00,-999.000,9,-999.0000,9,-999.000,9,   0.5794,2, -999.00,9,  -999.0,9,  -999.0,-999.000,9, -999.00,9,-999.000,9,   39.37,2,   34.39,2, -72.4718,-150.0004,-999.000,     -999.0,    34.8685,2,     -999.0,9,     -999.0,9,-999.0000,9,-999.0000,9,-999.0000,9,-999.0000,9,-999.0000,9,-999.0000,9,-999.0000,9,-999.0000,9,-999.0000,9,-999.0000,-999.000,   0.4327,     -999.0,     -999.0,9,     -999.0,9,     -999.0,9,     -999.0,9,     -999.0,20110314,       1452
320620110219,       P16S,      56,          1,          8,          8,2,20110314,       1413,   -72.4718,  -150.0004,       4144,  2664.8,   0.4944,  34.7040,2,  34.7032,2,    209.5,2,   209.2,2,  128.24,2,   32.16,2,    0.00,2,    2.25,2,   0.152,2,   0.075,2,   0.005,2,-999.0000,9,  -999.0,9,  -999.0,9,-999.0000,9,  -999.00,-999.000,9,-999.0000,9,-999.000,9,   0.4946,2, -999.00,9,  -999.0,9,  -999.0,-999.000,9, -999.00,9,-999.000,9,   40.07,2,   34.73,2, -72.4718,-150.0004,-999.000,     -999.0,    34.8669,2,     -999.0,9,     -999.0,9,-999.0000,9,-999.0000,9,-999.0000,9,-999.0000,9,-999.0000,9,-999.0000,9,-999.0000,9,-999.0000,9,-999.0000,9,-999.0000,-999.000,   0.3286,     -999.0,     -999.0,9,     -999.0,9,     -999.0,9,     -999.0,9,     -999.0,20110314,       1446
320620110219,       P16S,      56,          1,          7,          7,2,20110314,       1413,   -72.4718,  -150.0004,       4144,  2914.7,   0.4297,  34.7035,2,  34.7033,2,    211.2,2,   210.5,2,  130.90,2,   32.24,2,    0.00,2,    2.26,2,-999.000,9,-999.000,9,-999.000,9,-999.0000,9,  2261.2,2,  2360.5,2,   7.5972,2,    25.00,-999.000,9,-999.0000,9,-999.000,9,   0.4302,2, -999.00,9,  -999.0,9,  -999.0,-999.000,9, -999.00,9,-999.000,9,   40.33,2,   34.41,2, -72.4718,-150.0003,-999.000,     -999.0,    34.8669,2,     -999.0,9,     -999.0,9,-999.0000,9,-999.0000,9,-999.0000,9,-999.0000,9,-999.0000,9,-999.0000,9,-999.0000,9,-999.0000,9,-999.0000,9,-999.0000,-999.000,   0.2440,     -999.0,     -999.0,9,     -999.0,9,     -999.0,9,     -999.0,9,     -999.0,20110314,       1441
320620110219,       P16S,      56,          1,          6,          6,2,20110314,       1413,   -72.4718,  -150.0004,       4144,  3200.3,   0.3790,  34.7030,2,  34.7029,2,    212.4,2,   212.8,2,  132.83,2,   32.40,2,    0.00,2,    2.26,2,   0.166,2,   0.082,2,   0.006,2,-999.0000,9,  -999.0,9,  -999.0,9,-999.0000,9,  -999.00,-999.000,9,-999.0000,9,-999.000,9,   0.3788,2, -999.00,9,  -999.0,9,  -999.0,-999.000,9, -999.00,9,-999.000,9,   40.60,2,   35.00,2, -72.4718,-150.0004,-999.000,     -999.0,    34.8665,2,     -999.0,9,     -999.0,9,-999.0000,9,-999.0000,9,-999.0000,9,-999.0000,9,-999.0000,9,-999.0000,9,-999.0000,9,-999.0000,9,-999.0000,9,-999.0000,-999.000,   0.1690,     -999.0,     -999.0,9,     -999.0,9,     -999.0,9,     -999.0,9,     -999.0,20110314,       1435
320620110219,       P16S,      56,          1,          5,          5,2,20110314,       1413,   -72.4718,  -150.0004,       4144,  3499.8,   0.3344,  34.7025,2,  34.7017,2,    214.1,2,   213.9,2,  135.02,2,   32.48,2,    0.00,2,    2.26,2,   0.221,2,   0.111,2,   0.006,2,-999.0000,9,  2262.3,2,  2360.2,2,   7.5955,2,    25.00,-999.000,9,-999.0000,9,-999.000,9,   0.3346,2, -999.00,9,  -999.0,9,  -999.0,-999.000,9, -999.00,9,-999.000,9,   40.30,2,   34.76,2, -72.4718,-150.0004,-999.000,     -999.0,    34.8653,2,     -999.0,9,     -999.0,9,-999.0000,9,-999.0000,9,-999.0000,9,-999.0000,9,-999.0000,9,-999.0000,9,-999.0000,9,-999.0000,9,-999.0000,9,-999.0000,-999.000,   0.0977,     -999.0,     -999.0,9,     -999.0,9,     -999.0,9,     -999.0,9,     -999.0,20110314,       1429
320620110219,       P16S,      56,          1,          4,          4,2,20110314,       1413,   -72.4718,  -150.0004,       4144,  3800.0,   0.3038,  34.7011,2,  34.7007,2,    215.6,2,   215.4,2,  136.15,2,   32.62,2,    0.00,2,    2.26,2,   0.334,2,   0.162,2,   0.014,2,-999.0000,9,  2261.4,2,  2360.4,2,   7.5955,4,    25.00,-999.000,9,-999.0000,9,-999.000,9,   0.3035,2, -999.00,9,  -999.0,9,  -999.0,-999.000,9, -999.00,9,-999.000,9,   40.46,2,   35.15,2, -72.4718,-150.0004,-999.000,     -999.0,    34.8643,2,     -999.0,9,     -999.0,9,-999.0000,9,-999.0000,9,-999.0000,9,-999.0000,9,-999.0000,9,-999.0000,9,-999.0000,9,-999.0000,9,-999.0000,9,-999.0000,-999.000,   0.0388,     -999.0,     -999.0,9,     -999.0,9,     -999.0,9,     -999.0,9,     -999.0,20110314,       1423
320620110219,       P16S,      56,          1,          3,          3,2,20110314,       1413,   -72.4718,  -150.0004,       4144,  4099.8,   0.2120,  34.6967,2,  34.6962,2,    220.4,2,   220.1,2,  123.87,2,   32.44,2,    0.00,2,    2.26,2,   0.750,2,   0.358,2,   0.038,2,-999.0000,9,  2258.9,2,  2356.8,6,   7.5934,2,    25.00,-999.000,9,-999.0000,9,-999.000,9,   0.2122,2, -999.00,9,  -999.0,9,  -999.0,-999.000,9, -999.00,9,-999.000,9,   40.82,2,   34.89,2, -72.4718,-150.0004,-999.000,     -999.0,    34.8598,2,     -999.0,9,     -999.0,9,-999.0000,9,-999.0000,9,-999.0000,9,-999.0000,9,-999.0000,9,-999.0000,9,-999.0000,9,-999.0000,9,-999.0000,9,-999.0000,-999.000,  -0.0806,     -999.0,     -999.0,9,     -999.0,9,     -999.0,9,     -999.0,9,     -999.0,20110314,       1417
320620110219,       P16S,      56,          1,          2,          2,2,20110314,       1413,   -72.4718,  -150.0004,       4144,  4169.9,   0.2093,  34.6972,2,  34.6970,2,    219.4,2,   219.3,2,  126.58,2,   32.58,2,    0.00,2,    2.26,2,   0.749,2,   0.364,2,   0.039,2,-999.0000,9,  2259.2,2,  2357.6,2,   7.5920,6,    25.00,-999.000,9,-999.0000,9,-999.000,9,   0.2090,2, -999.00,9,  -999.0,9,  -999.0,-999.000,9, -999.00,9,-999.000,9,   40.79,2,   34.35,2, -72.4718,-150.0004,-999.000,     -999.0,    34.8606,2,     -999.0,9,     -999.0,9,-999.0000,9,-999.0000,9,-999.0000,9,-999.0000,9,-999.0000,9,-999.0000,9,-999.0000,9,-999.0000,9,-999.0000,9,-999.0000,-999.000,  -0.0904,     -999.0,     -999.0,9,     -999.0,9,     -999.0,9,     -999.0,9,     -999.0,20110314,       1415
320620110219,       P16S,      56,          1,          1,          1,2,20110314,       1413,   -72.4718,  -150.0004,       4144,  4218.2,   0.2150,  34.6970,2,  34.6964,2,    219.5,2,   219.3,2,  126.77,2,   32.50,2,    0.00,2,    2.26,2,   0.765,2,   0.370,2,   0.039,2,-999.0000,9,  2259.6,6,  2357.1,2,   7.5907,2,    25.00,-999.000,9,-999.0000,9,-999.000,9,   0.2154,2, -999.00,9,  -999.0,9,  -999.0,-999.000,9, -999.00,9,-999.000,9,   40.95,2,   35.07,2, -72.4718,-150.0004,-999.000,     -999.0,    34.8600,2,     -999.0,9,     -999.0,9,-999.0000,9,-999.0000,9,-999.0000,9,-999.0000,9,-999.0000,9,-999.0000,9,-999.0000,9,-999.0000,9,-999.0000,9,-999.0000,-999.000,  -0.0899,     -999.0,     -999.0,9,     -999.0,9,     -999.0,9,     -999.0,9,     -999.0,20110314,       1413