BOTTLE,20220813CCHSIOAMB
EXPOCODE,SECT_ID,STNNBR,CASTNO,SAMPNO,BTLNBR,BTLNBR_FLAG_W,DATE,TIME,LATITUDE,LONGITUDE,DEPTH,CTDPRS,CTDTMP,CTDSAL,CTDSAL_FLAG_W,SALNTY,SALNTY_FLAG_W,CTDOXY,CTDOXY_FLAG_W,OXYGEN,OXYGEN_FLAG_W,SILCAT,SILCAT_FLAG_W,NITRAT,NITRAT_FLAG_W,NITRIT,NITRIT_FLAG_W,PHSPHT,PHSPHT_FLAG_W,CFC-11,CFC-11_FLAG_W,CFC-12,CFC-12_FLAG_W,CFC113,CFC113_FLAG_W,SF6,SF6_FLAG_W,TCARBN,TCARBN_FLAG_W,ALKALI,ALKALI_FLAG_W,PH_TOT,PH_TOT_FLAG_W,PH_TMP,TRITUM,TRITUM_FLAG_W,HELIUM,HELIUM_FLAG_W,DELHE3,DELHE3_FLAG_W,REFTMP,REFTMP_FLAG_W,DELC13,DELC13_FLAG_W,DELC14,DELC14_FLAG_W,C14ERR,NEON,NEON_FLAG_W,DELO18,DELO18_FLAG_W,POC,POC_FLAG_W,DOC,DOC_FLAG_W,TDN,TDN_FLAG_W,BTL_LAT,BTL_LON,TRITER,NEONER,SALTREF,SALTREF_FLAG_W,PIGMENTS,PIGMENTS_FLAG_W,LAB_DEN,LAB_DEN_FLAG_W,CDOM325,CDOM325_FLAG_W,CDOM340,CDOM340_FLAG_W,CDOM380,CDOM380_FLAG_W,CDOM412,CDOM412_FLAG_W,CDOM443,CDOM443_FLAG_W,CDOM490,CDOM490_FLAG_W,CDOM555,CDOM555_FLAG_W,CDOMSL,CDOMSL_FLAG_W,CDOMSN,CDOMSN_FLAG_W,HELIER,DELHER,THETA,LDEO_SAMPNO,ABSORBTION,ABSORBTION_FLAG_W,IMAGE_COUNT,IMAGE_COUNT_FLAG_W,CYTO_COUNT,CYTO_COUNT_FLAG_W,DELD,DELD_FLAG_W,DELDERR,BTL_DATE,BTL_TIME
,,,,,,,,,,,METERS,DBAR,ITS-90,PSS-78,,PSS-78,,UMOL/KG,,UMOL/KG,,UMOL/KG,,UMOL/KG,,UMOL/KG,,UMOL/KG,,PMOL/KG,,PMOL/KG,,PMOL/KG,,FMOL/KG,,UMOL/KG,,UMOL/KG,,,,DEG C,TU,,NMOL/KG,,PERCNT,,DEG C,,/MILLE,,/MILLE,,/MILLE,NMOL/KG,,/MILLE,,UG/KG,,UMOL/KG,,UMOL/KG,,,,TU,NMOL/KG,G/KG,,,,,,1/M,,1/M,,1/M,,1/M,,1/M,,1/M,,1/M,,1/NM,,1/NM,,NMOL/KG,PERCNT,DEG C,,,,,,,,/MILLE,,/MILLE,,
320620110219,       S04P,     108,          1,         36,         36,2,20110405,       1222,   -67.0002,  -127.6233,       4458,     4.1,  -0.9315,  33.5881,2,  33.5882,2,    343.1,3,   347.2,2,   26.98,2,   24.82,2,    0.21,2,    1.68,2,   6.330,2,   3.412,2,   0.621,2,   2.8650,2,  2147.6,2,  2272.5,6,   7.6906,2,    25.00,-999.000,9,-999.0000,9,-999.000,9,  -0.9309,2, -999.00,9,  -999.0,9,  -999.0,-999.000,9, -999.00,9,-999.000,9,   44.60,2,   29.81,2, -67.0002,-127.6239,-999.000,     -999.0,    33.7466,2,     -999.0,9,     -999.0,9,-999.0000,9,-999.0000,9,-999.0000,9,-999.0000,9,-999.0000,9,-999.0000,9,-999.0000,9,-999.0000,9,-999.0000,9,-999.0000,-999.000,  -0.9316,     -999.0,     -999.0,9,     -999.0,9,     -999.0,9,     -999.0,9,     -999.0,20110405,       1412
320620110219,       S04P,     108,          1,         35,         35,2,20110405,       1222,   -67.0002,  -127.6233,       4458,    19.4,  -0.9316,  33.5897,2,  33.5898,2,    347.4,2,   346.5,2,   27.00,2,   24.85,2,    0.21,2,    1.70,2,   6.352,2,   3.408,2,   0.627,2,   2.9110,2,  2148.8,2,  2271.2,2,   7.6915,6,    25.00,-999.000,9,-999.0000,9,-999.000,9,  -0.9317,2, -999.00,9,  -999.0,9,  -999.0,-999.000,9, -999.00,9,-999.000,9,   44.85,2,   29.85,2, -67.0002,-127.6238,-999.000,     -999.0,    33.7481,2,     -999.0,9,     -999.0,9,-999.0000,9,-999.0000,9,-999.0000,9,-999.0000,9,-999.0000,9,-999.0000,9,-999.0000,9,-999.0000,9,-999.0000,9,-999.0000,-999.000,  -0.9321,     -999.0,     -999.0,9,     -999.0,9,     -999.0,9,     -999.0,9,     -999.0,20110405,       1411
320620110219,       S04P,     108,          1,         34,         34,2,20110405,       1222,   -67.0002,  -127.6233,       4458,    39.2,  -0.9299,  33.5906,2,  33.5911,2,    347.0,2,   347.0,2,   27.01,2,   24.91,2,    0.21,2,    1.71,2,   6.346,2,   3.426,2,   0.627,2,   2.8930,2,  2147.3,6,  2271.8,2,   7.6912,2,    25.00,-999.000,9,-999.0000,9,-999.000,9,  -0.9301,2, -999.00,9,  -999.0,9,  -999.0,-999.000,9, -999.00,9,-999.000,9,   44.50,2,   29.71,2, -67.0002,-127.6237,-999.000,     -999.0,    33.7495,2,     -999.0,9,     -999.0,9,-999.0000,9,-999.0000,9,-999.0000,9,-999.0000,9,-999.0000,9,-999.0000,9,-999.0000,9,-999.0000,9,-999.0000,9,-999.0000,-999.000,  -0.9309,     -999.0,     -999.0,9,     -999.0,9,     -999.0,9,     -999.0,9,     -999.0,20110405,       1410
320620110219,       S04P,     108,          1,         33,         33,2,20110405,       1222,   -67.0002,  -127.6233,       4458,    64.2,  -0.9348,  33.6031,2,  33.6165,2,    344.8,2,   344.0,2,   28.33,2,   25.15,2,    0.21,2,    1.74,2,   6.322,6,   3.365,6,   0.613,6,   2.7460,6,  2152.2,2,  2273.4,2,   7.6857,2,    25.00,-999.000,9,-999.0000,9,-999.000,9,  -0.9404,2, -999.00,9,  -999.0,9,  -999.0,-999.000,9, -999.00,9,-999.000,9,   44.50,2,   29.73,2, -67.0002,-127.6237,-999.000,     -999.0,    33.7750,2,     -999.0,9,     -999.0,9,-999.0000,9,-999.0000,9,-999.0000,9,-999.0000,9,-999.0000,9,-999.0000,9,-999.0000,9,-999.0000,9,-999.0000,9,-999.0000,-999.000,  -0.9365,     -999.0,     -999.0,9,     -999.0,9,     -999.0,9,     -999.0,9,     -999.0,20110405,       1409
320620110219,       S04P,     108,          1,         32,         32,2,20110405,       1222,   -67.0002,  -127.6233,       4458,    90.0,  -1.6376,  33.9680,2,  33.9675,2,    311.3,2,   311.1,2,   45.87,2,   28.99,2,    0.20,2,    2.06,2,   5.547,2,   2.917,2,   0.538,2,   2.2460,2,  2191.7,2,  2294.7,2,   7.6249,2,    25.00,-999.000,9,-999.0000,9,-999.000,9,  -1.6355,2, -999.00,9,  -999.0,9,  -999.0,-999.000,9, -999.00,9,-999.000,9,   43.86,2,   33.28,2, -67.0002,-127.6237,-999.000,     -999.0,    34.1277,2,     -999.0,9,     -999.0,9,-999.0000,9,-999.0000,9,-999.0000,9,-999.0000,9,-999.0000,9,-999.0000,9,-999.0000,9,-999.0000,9,-999.0000,9,-999.0000,-999.000,  -1.6394,     -999.0,     -999.0,9,     -999.0,9,     -999.0,9,     -999.0,9,     -999.0,20110405,       1407
320620110219,       S04P,     108,          1,         31,         31,2,20110405,       1222,   -67.0002,  -127.6233,       4458,   134.7,  -0.1861,  34.1823,2,  34.1737,2,    269.4,2,   266.5,2,   54.62,2,   32.00,2,    0.02,2,    2.19,2,   4.198,2,   2.212,2,   0.394,2,   1.7850,2,  2215.6,2,  2306.0,2,   7.5888,2,    25.00,-999.000,9,-999.0000,9,-999.000,9,  -0.1842,2, -999.00,9,  -999.0,9,  -999.0,-999.000,9, -999.00,9,-999.000,9,   42.66,2,   35.00,2, -67.0002,-127.6236,-999.000,     -999.0,    34.3349,2,     -999.0,9,     -999.0,9,-999.0000,9,-999.0000,9,-999.0000,9,-999.0000,9,-999.0000,9,-999.0000,9,-999.0000,9,-999.0000,9,-999.0000,9,-999.0000,-999.000,  -0.1907,     -999.0,     -999.0,9,     -999.0,9,     -999.0,9,     -999.0,9,     -999.0,20110405,       1405
320620110219,       S04P,     108,          1,         30,         30,2,20110405,       1222,   -67.0002,  -127.6233,       4458,   185.4,   1.1367,  34.3967,2,  34.4033,2,    212.4,2,   212.5,2,   67.86,2,   33.92,2,    0.00,2,    2.31,2,   2.383,2,   1.241,2,   0.205,2,   0.9770,2,  2243.4,2,  2320.6,2,   7.5534,2,    25.00,-999.000,9,-999.0000,9,-999.000,9,   1.1330,2, -999.00,9,  -999.0,9,  -999.0,-999.000,9, -999.00,9,-999.000,9,   40.74,2,   36.57,2, -67.0002,-127.6237,-999.000,     -999.0,    34.5655,2,     -999.0,9,     -999.0,9,-999.0000,9,-999.0000,9,-999.0000,9,-999.0000,9,-999.0000,9,-999.0000,9,-999.0000,9,-999.0000,9,-999.0000,9,-999.0000,-999.000,   1.1282,     -999.0,     -999.0,9,     -999.0,9,     -999.0,9,     -999.0,9,     -999.0,20110405,       1404
320620110219,       S04P,     108,          1,         29,         29,2,20110405,       1222,   -67.0002,  -127.6233,       4458,   237.1,   1.6027,  34.5106,2,  34.5101,2,    196.0,2,   193.0,2,   73.80,2,   34.23,2,    0.00,2,    2.34,2,   1.612,2,   0.832,2,   0.133,2,   0.6380,2,  2252.4,2,  2328.6,2,   7.5475,2,    25.00,-999.000,9,-999.0000,9,-999.000,9,   1.6029,2, -999.00,9,  -999.0,9,  -999.0,-999.000,9, -999.00,9,-999.000,9,   40.35,2,   36.96,2, -67.0002,-127.6243,-999.000,     -999.0,    34.6729,2,     -999.0,9,     -999.0,9,-999.0000,9,-999.0000,9,-999.0000,9,-999.0000,9,-999.0000,9,-999.0000,9,-999.0000,9,-999.0000,9,-999.0000,9,-999.0000,-999.000,   1.5907,     -999.0,     -999.0,9,     -999.0,9,     -999.0,9,     -999.0,9,     -999.0,20110405,       1402
320620110219,       S04P,     108,          1,         28,         28,2,20110405,       1222,   -67.0002,  -127.6233,       4458,   283.9,   1.5244,  34.5551,2,  34.5525,2,    195.1,2,   193.5,2,   77.70,2,   33.78,2,    0.00,2,    2.30,2,   1.447,2,   0.750,2,   0.127,2,   0.5750,2,  2252.3,2,  2332.0,2,   7.5537,2,    25.00,-999.000,9,-999.0000,9,-999.000,9,   1.5207,2, -999.00,9,  -999.0,9,  -999.0,-999.000,9, -999.00,9,-999.000,9,   40.31,2,   36.34,2, -67.0003,-127.6240,-999.000,     -999.0,    34.7154,2,     -999.0,9,     -999.0,9,-999.0000,9,-999.0000,9,-999.0000,9,-999.0000,9,-999.0000,9,-999.0000,9,-999.0000,9,-999.0000,9,-999.0000,9,-999.0000,-999.000,   1.5101,     -999.0,     -999.0,9,     -999.0,9,     -999.0,9,     -999.0,9,     -999.0,20110405,       1400
320620110219,       S04P,     108,          1,         27,         27,2,20110405,       1222,   -67.0002,  -127.6233,       4458,   335.0,   1.4430,  34.5953,2,  34.5951,2,    192.6,2,   193.1,2,   81.23,2,   33.25,2,    0.00,2,    2.27,2,   1.265,2,   0.651,2,   0.085,2,   0.4970,2,  2253.4,2,  2337.1,2,   7.5589,2,    25.00,-999.000,9,-999.0000,9,-999.000,9,   1.4429,2, -999.00,9,  -999.0,9,  -999.0,-999.000,9, -999.00,9,-999.000,9,   40.23,2,   35.97,2, -67.0002,-127.6235,-999.000,     -999.0,    34.7582,2,     -999.0,9,     -999.0,9,-999.0000,9,-999.0000,9,-999.0000,9,-999.0000,9,-999.0000,9,-999.0000,9,-999.0000,9,-999.0000,9,-999.0000,9,-999.0000,-999.000,   1.4262,     -999.0,     -999.0,9,     -999.0,9,     -999.0,9,     -999.0,9,     -999.0,20110405,       1359
320620110219,       S04P,     108,          1,         26,         26,2,20110405,       1222,   -67.0002,  -127.6233,       4458,   384.6,   1.5960,  34.6478,2,  34.6470,2,    187.9,2,   187.7,2,   83.30,2,   32.67,2,    0.00,2,    2.25,2,   0.863,2,   0.431,2,   0.070,2,   0.3450,2,  2254.7,2,  2341.3,2,   7.5657,2,    25.00,-999.000,9,-999.0000,9,-999.000,9,   1.5961,2, -999.00,9,  -999.0,9,  -999.0,-999.000,9, -999.00,9,-999.000,9,   40.43,2,   35.71,2, -67.0002,-127.6236,-999.000,     -999.0,    34.8104,2,     -999.0,9,     -999.0,9,-999.0000,9,-999.0000,9,-999.0000,9,-999.0000,9,-999.0000,9,-999.0000,9,-999.0000,9,-999.0000,9,-999.0000,9,-999.0000,-999.000,   1.5760,     -999.0,     -999.0,9,     -999.0,9,     -999.0,9,     -999.0,9,     -999.0,20110405,       1357
320620110219,       S04P,     108,          1,         25,         25,2,20110405,       1222,   -67.0002,  -127.6233,       4458,   464.1,   1.8434,  34.7121,2,  34.7120,2,    183.0,2,   183.1,2,   85.60,2,   31.74,2,    0.00,2,    2.21,2,-999.000,9,-999.000,9,-999.000,9,-999.0000,9,  2253.6,2,  2347.5,2,   7.5832,2,    25.00,-999.000,9,-999.0000,9,-999.000,9,   1.8432,2, -999.00,9,  -999.0,9,  -999.0,-999.000,9, -999.00,9,-999.000,9,   40.37,2,   34.87,2, -67.0002,-127.6236,-999.000,     -999.0,    34.8757,2,     -999.0,9,     -999.0,9,-999.0000,9,-999.0000,9,-999.0000,9,-999.0000,9,-999.0000,9,-999.0000,9,-999.0000,9,-999.0000,9,-999.0000,9,-999.0000,-999.000,   1.8180,     -999.0,     -999.0,9,     -999.0,9,     -999.0,9,     -999.0,9,     -999.0,20110405,       1355
320620110219,       S04P,     108,          1,         24,         24,2,20110405,       1222,   -67.0002,  -127.6233,       4458,   564.1,   1.7852,  34.7232,2,  34.7236,2,    185.2,2,   185.7,2,   87.97,2,   31.52,2,    0.00,2,    2.18,2,   0.259,2,   0.129,2,   0.015,2,   0.0980,2,  2252.9,2,  2350.1,2,   7.5895,2,    25.00,-999.000,9,-999.0000,9,-999.000,9,   1.7852,2, -999.00,9,  -999.0,9,  -999.0,-999.000,9, -999.00,9,-999.000,9,   40.11,2,   34.21,2, -67.0002,-127.6236,-999.000,     -999.0,    34.8873,2,     -999.0,9,     -999.0,9,-999.0000,9,-999.0000,9,-999.0000,9,-999.0000,9,-999.0000,9,-999.0000,9,-999.0000,9,-999.0000,9,-999.0000,9,-999.0000,-999.000,   1.7541,     -999.0,     -999.0,9,     -999.0,9,     -999.0,9,     -999.0,9,     -999.0,20110405,       1352
320620110219,       S04P,     108,          1,         23,         23,2,20110405,       1222,   -67.0002,  -127.6233,       4458,   664.7,   1.7277,  34.7283,2,  34.7293,2,    187.8,2,   188.2,2,   90.24,2,   31.22,2,    0.00,2,    2.17,2,-999.000,9,-999.000,9,-999.000,9,-999.0000,9,  -999.0,9,  -999.0,9,-999.0000,9,  -999.00,-999.000,9,-999.0000,9,-999.000,9,   1.7278,2, -999.00,9,  -999.0,9,  -999.0,-999.000,9, -999.00,9,-999.000,9,   40.46,2,   34.18,2, -67.0001,-127.6229,-999.000,     -999.0,    34.8930,2,     -999.0,9,     -999.0,9,-999.0000,9,-999.0000,9,-999.0000,9,-999.0000,9,-999.0000,9,-999.0000,9,-999.0000,9,-999.0000,9,-999.0000,9,-999.0000,-999.000,   1.6908,     -999.0,     -999.0,9,     -999.0,9,     -999.0,9,     -999.0,9,     -999.0,20110405,       1349
320620110219,       S04P,     108,          1,         22,         22,2,20110405,       1222,   -67.0002,  -127.6233,       4458,   766.0,   1.6589,  34.7317,2,  34.7324,2,    189.7,2,   189.6,2,   92.08,2,   31.21,2,    0.00,2,    2.17,2,   0.202,2,   0.097,2,   0.011,2,   0.0710,2,  2252.5,2,  2353.7,6,   7.5983,2,    25.00,-999.000,9,-999.0000,9,-999.000,9,   1.6593,2, -999.00,9,  -999.0,9,  -999.0,-999.000,9, -999.00,9,-999.000,9,   40.82,2,   34.34,2, -67.0002,-127.6234,-999.000,     -999.0,    34.8962,2,     -999.0,9,     -999.0,9,-999.0000,9,-999.0000,9,-999.0000,9,-999.0000,9,-999.0000,9,-999.0000,9,-999.0000,9,-999.0000,9,-999.0000,9,-999.0000,-999.000,   1.6162,     -999.0,     -999.0,9,     -999.0,9,     -999.0,9,     -999.0,9,     -999.0,20110405,       1347
320620110219,       S04P,     108,          1,         21,         21,2,20110405,       1222,   -67.0002,  -127.6233,       4458,   864.6,   1.5830,  34.7330,2,  34.7336,2,    191.1,2,   191.2,2,   94.48,2,   31.18,2,    0.00,2,    2.16,2,-999.000,9,-999.000,9,-999.000,9,-999.0000,9,  -999.0,9,  -999.0,9,-999.0000,9,  -999.00,-999.000,9,-999.0000,9,-999.000,9,   1.5832,2, -999.00,9,  -999.0,9,  -999.0,-999.000,9, -999.00,9,-999.000,9,   40.43,2,   33.93,2, -67.0001,-127.6231,-999.000,     -999.0,    34.8974,2,     -999.0,9,     -999.0,9,-999.0000,9,-999.0000,9,-999.0000,9,-999.0000,9,-999.0000,9,-999.0000,9,-999.0000,9,-999.0000,9,-999.0000,9,-999.0000,-999.000,   1.5346,     -999.0,     -999.0,9,     -999.0,9,     -999.0,9,     -999.0,9,     -999.0,20110405,       1344
320620110219,       S04P,     108,          1,         20,         20,2,20110405,       1222,   -67.0002,  -127.6233,       4458,   964.0,   1.5336,  34.7331,2,  34.7332,2,    192.9,2,   192.7,2,   95.89,2,   31.13,2,    0.00,2,    2.17,2,   0.179,2,   0.084,2,   0.011,2,   0.1020,2,  2253.9,2,  2355.3,2,   7.5983,6,    25.00,-999.000,9,-999.0000,9,-999.000,9,   1.5337,2, -999.00,9,  -999.0,9,  -999.0,-999.000,9, -999.00,9,-999.000,9,   40.35,2,   33.60,2, -67.0001,-127.6226,-999.000,     -999.0,    34.8970,2,     -999.0,9,     -999.0,9,-999.0000,9,-999.0000,9,-999.0000,9,-999.0000,9,-999.0000,9,-999.0000,9,-999.0000,9,-999.0000,9,-999.0000,9,-999.0000,-999.000,   1.4792,     -999.0,     -999.0,9,     -999.0,9,     -999.0,9,     -999.0,9,     -999.0,20110405,       1341
320620110219,       S04P,     108,          1,         19,         19,2,20110405,       1222,   -67.0002,  -127.6233,       4458,  1065.2,   1.4570,  34.7325,2,  34.7332,2,    193.8,2,   193.6,2,   98.17,2,   31.15,2,    0.00,2,    2.17,2,-999.000,9,-999.000,9,-999.000,9,-999.0000,9,  -999.0,9,  -999.0,9,-999.0000,9,  -999.00,-999.000,9,-999.0000,9,-999.000,9,   1.4570,2, -999.00,9,  -999.0,9,  -999.0,-999.000,9, -999.00,9,-999.000,9,   40.67,2,   34.28,2, -67.0002,-127.6233,-999.000,     -999.0,    34.8970,2,     -999.0,9,     -999.0,9,-999.0000,9,-999.0000,9,-999.0000,9,-999.0000,9,-999.0000,9,-999.0000,9,-999.0000,9,-999.0000,9,-999.0000,9,-999.0000,-999.000,   1.3967,     -999.0,     -999.0,9,     -999.0,9,     -999.0,9,     -999.0,9,     -999.0,20110405,       1339
320620110219,       S04P,     108,          1,         18,         18,2,20110405,       1222,   -67.0002,  -127.6233,       4458,  1163.0,   1.3672,  34.7309,2,  34.7315,2,    194.7,2,   194.3,2,  101.18,2,   31.20,2,    0.00,2,    2.18,2,   0.159,2,   0.078,2,   0.007,2,   0.0580,2,  2256.9,6,  2357.4,2,   7.5998,2,    25.00,-999.000,9,-999.0000,9,-999.000,9,   1.3676,2, -999.00,9,  -999.0,9,  -999.0,-999.000,9, -999.00,9,-999.000,9,   40.13,2,   33.98,2, -67.0002,-127.6237,-999.000,     -999.0,    34.8952,2,     -999.0,9,     -999.0,9,-999.0000,9,-999.0000,9,-999.0000,9,-999.0000,9,-999.0000,9,-999.0000,9,-999.0000,9,-999.0000,9,-999.0000,9,-999.0000,-999.000,   1.3012,     -999.0,     -999.0,9,     -999.0,9,     -999.0,9,     -999.0,9,     -999.0,20110405,       1336
320620110219,       S04P,     108,          1,         17,         17,2,20110405,       1222,   -67.0002,  -127.6233,       4458,  1265.5,   1.3229,  34.7296,2,  34.7301,2,    195.7,2,   195.5,2,  102.77,2,   31.16,2,    0.00,2,    2.18,2,-999.000,9,-999.000,9,-999.000,9,-999.0000,9,  -999.0,9,  -999.0,9,-999.0000,9,  -999.00,-999.000,9,-999.0000,9,-999.000,9,   1.3227,2, -999.00,9,  -999.0,9,  -999.0,-999.000,9, -999.00,9,-999.000,9,   39.82,2,   33.80,2, -67.0002,-127.6235,-999.000,     -999.0,    34.8939,2,     -999.0,9,     -999.0,9,-999.0000,9,-999.0000,9,-999.0000,9,-999.0000,9,-999.0000,9,-999.0000,9,-999.0000,9,-999.0000,9,-999.0000,9,-999.0000,-999.000,   1.2505,     -999.0,     -999.0,9,     -999.0,9,     -999.0,9,     -999.0,9,     -999.0,20110405,       1333
320620110219,       S04P,     108,          1,         16,         16,2,20110405,       1222,   -67.0002,  -127.6233,       4458,  1365.2,   1.2427,  34.7272,2,  34.7275,2,    196.6,2,   196.3,2,  105.71,2,   31.22,2,    0.00,2,    2.19,2,   0.142,2,   0.067,2,   0.007,2,   0.0710,2,  2257.3,2,  2360.0,2,   7.6005,2,    25.00,-999.000,9,-999.0000,9,-999.000,9,   1.2428,2, -999.00,9,  -999.0,9,  -999.0,-999.000,9, -999.00,9,-999.000,9,   40.07,2,   33.30,2, -67.0001,-127.6226,-999.000,     -999.0,    34.8913,2,     -999.0,9,     -999.0,9,-999.0000,9,-999.0000,9,-999.0000,9,-999.0000,9,-999.0000,9,-999.0000,9,-999.0000,9,-999.0000,9,-999.0000,9,-999.0000,-999.000,   1.1643,     -999.0,     -999.0,9,     -999.0,9,     -999.0,9,     -999.0,9,     -999.0,20110405,       1331
320620110219,       S04P,     108,          1,         15,         15,2,20110405,       1222,   -67.0002,  -127.6233,       4458,  1466.0,   1.1874,  34.7252,2,  34.7260,2,    197.6,2,   197.4,2,  107.18,2,   31.23,2,    0.00,2,    2.20,2,-999.000,9,-999.000,9,-999.000,9,-999.0000,9,  -999.0,9,  -999.0,9,-999.0000,9,  -999.00,-999.000,9,-999.0000,9,-999.000,9,   1.1873,2, -999.00,9,  -999.0,9,  -999.0,-999.000,9, -999.00,9,-999.000,9,   40.03,2,   33.55,2, -67.0002,-127.6245,-999.000,     -999.0,    34.8897,2,     -999.0,9,     -999.0,9,-999.0000,9,-999.0000,9,-999.0000,9,-999.0000,9,-999.0000,9,-999.0000,9,-999.0000,9,-999.0000,9,-999.0000,9,-999.0000,-999.000,   1.1026,     -999.0,     -999.0,9,     -999.0,9,     -999.0,9,     -999.0,9,     -999.0,20110405,       1328
320620110219,       S04P,     108,          1,         14,         14,2,20110405,       1222,   -67.0002,  -127.6233,       4458,  1563.0,   1.1240,  34.7233,2,  34.7236,2,    198.2,2,   198.5,2,  109.31,2,   31.46,2,    0.00,2,    2.21,2,   0.126,2,   0.061,2,   0.010,2,   0.0600,2,  2258.8,2,  2360.8,2,   7.6023,2,    25.00,-999.000,9,-999.0000,9,-999.000,9,   1.1241,2, -999.00,9,  -999.0,9,  -999.0,-999.000,9, -999.00,9,-999.000,9,   40.43,2,   34.29,2, -67.0003,-127.6244,-999.000,     -999.0,    34.8874,2,     -999.0,9,     -999.0,9,-999.0000,9,-999.0000,9,-999.0000,9,-999.0000,9,-999.0000,9,-999.0000,9,-999.0000,9,-999.0000,9,-999.0000,9,-999.0000,-999.000,   1.0332,     -999.0,     -999.0,9,     -999.0,9,     -999.0,9,     -999.0,9,     -999.0,20110405,       1325