BOTTLE,20220813CCHSIOAMB
EXPOCODE,SECT_ID,STNNBR,CASTNO,SAMPNO,BTLNBR,BTLNBR_FLAG_W,DATE,TIME,LATITUDE,LONGITUDE,DEPTH,CTDPRS,CTDTMP,CTDSAL,CTDSAL_FLAG_W,SALNTY,SALNTY_FLAG_W,CTDOXY,CTDOXY_FLAG_W,OXYGEN,OXYGEN_FLAG_W,SILCAT,SILCAT_FLAG_W,NITRAT,NITRAT_FLAG_W,NITRIT,NITRIT_FLAG_W,PHSPHT,PHSPHT_FLAG_W,CFC-11,CFC-11_FLAG_W,CFC-12,CFC-12_FLAG_W,CFC113,CFC113_FLAG_W,SF6,SF6_FLAG_W,TCARBN,TCARBN_FLAG_W,ALKALI,ALKALI_FLAG_W,PH_TOT,PH_TOT_FLAG_W,PH_TMP,TRITUM,TRITUM_FLAG_W,HELIUM,HELIUM_FLAG_W,DELHE3,DELHE3_FLAG_W,REFTMP,REFTMP_FLAG_W,DELC13,DELC13_FLAG_W,DELC14,DELC14_FLAG_W,C14ERR,NEON,NEON_FLAG_W,DELO18,DELO18_FLAG_W,POC,POC_FLAG_W,DOC,DOC_FLAG_W,TDN,TDN_FLAG_W,BTL_LAT,BTL_LON,TRITER,NEONER,SALTREF,SALTREF_FLAG_W,PIGMENTS,PIGMENTS_FLAG_W,LAB_DEN,LAB_DEN_FLAG_W,CDOM325,CDOM325_FLAG_W,CDOM340,CDOM340_FLAG_W,CDOM380,CDOM380_FLAG_W,CDOM412,CDOM412_FLAG_W,CDOM443,CDOM443_FLAG_W,CDOM490,CDOM490_FLAG_W,CDOM555,CDOM555_FLAG_W,CDOMSL,CDOMSL_FLAG_W,CDOMSN,CDOMSN_FLAG_W,HELIER,DELHER,THETA,LDEO_SAMPNO,ABSORBTION,ABSORBTION_FLAG_W,IMAGE_COUNT,IMAGE_COUNT_FLAG_W,CYTO_COUNT,CYTO_COUNT_FLAG_W,DELD,DELD_FLAG_W,DELDERR,BTL_DATE,BTL_TIME
,,,,,,,,,,,METERS,DBAR,ITS-90,PSS-78,,PSS-78,,UMOL/KG,,UMOL/KG,,UMOL/KG,,UMOL/KG,,UMOL/KG,,UMOL/KG,,PMOL/KG,,PMOL/KG,,PMOL/KG,,FMOL/KG,,UMOL/KG,,UMOL/KG,,,,DEG C,TU,,NMOL/KG,,PERCNT,,DEG C,,/MILLE,,/MILLE,,/MILLE,NMOL/KG,,/MILLE,,UG/KG,,UMOL/KG,,UMOL/KG,,,,TU,NMOL/KG,G/KG,,,,,,1/M,,1/M,,1/M,,1/M,,1/M,,1/M,,1/M,,1/NM,,1/NM,,NMOL/KG,PERCNT,DEG C,,,,,,,,/MILLE,,/MILLE,,
320620110219,       S04P,     117,          1,         36,         36,2,20110409,       0940,   -67.0000,  -104.5910,       4692,     5.8,  -0.5744,  33.4500,2,  33.4496,2,    341.8,3,   346.4,2,   18.21,2,   24.13,2,    0.23,2,    1.65,2,   6.141,2,   3.431,2,   0.651,2,   2.8340,2,  2133.7,6,  2260.8,2,   7.7074,2,    25.00,-999.000,9,-999.0000,9,-999.000,9,  -0.5760,2, -999.00,9,  -999.0,9,  -999.0,-999.000,9, -999.00,9,-999.000,9,   43.54,2,   27.70,2, -67.0001,-104.5909,-999.000,     -999.0,    33.6073,2,     -999.0,9,     -999.0,9,-999.0000,9,-999.0000,9,-999.0000,9,-999.0000,9,-999.0000,9,-999.0000,9,-999.0000,9,-999.0000,9,-999.0000,9,-999.0000,-999.000,  -0.5746,     -999.0,     -999.0,9,     -999.0,9,     -999.0,9,     -999.0,9,     -999.0,20110409,       1133
320620110219,       S04P,     117,          1,         35,         35,2,20110409,       0940,   -67.0000,  -104.5910,       4692,    19.7,  -0.5713,  33.4501,2,  33.4498,2,    346.2,2,   346.1,2,   18.15,2,   24.07,2,    0.24,2,    1.67,2,   6.096,6,   3.421,6,   0.642,6,   2.8850,6,  2134.3,2,  2263.3,2,   7.7059,2,    25.00,-999.000,9,-999.0000,9,-999.000,9,  -0.5719,2, -999.00,9,  -999.0,9,  -999.0,-999.000,9, -999.00,9,-999.000,9,   43.72,2,   27.78,2, -67.0001,-104.5910,-999.000,     -999.0,    33.6075,2,     -999.0,9,     -999.0,9,-999.0000,9,-999.0000,9,-999.0000,9,-999.0000,9,-999.0000,9,-999.0000,9,-999.0000,9,-999.0000,9,-999.0000,9,-999.0000,-999.000,  -0.5719,     -999.0,     -999.0,9,     -999.0,9,     -999.0,9,     -999.0,9,     -999.0,20110409,       1132
320620110219,       S04P,     117,          1,         34,         34,2,20110409,       0940,   -67.0000,  -104.5910,       4692,    40.1,  -0.5723,  33.4503,2,  33.4502,2,    346.9,2,   346.6,2,   18.08,2,   24.05,2,    0.24,2,    1.67,2,   6.170,2,   3.438,2,   0.651,2,   2.8900,2,  2134.1,2,  2257.4,4,   7.7051,6,    25.00,-999.000,9,-999.0000,9,-999.000,9,  -0.5736,2, -999.00,9,  -999.0,9,  -999.0,-999.000,9, -999.00,9,-999.000,9,   44.09,2,   28.05,2, -67.0001,-104.5910,-999.000,     -999.0,    33.6079,2,     -999.0,9,     -999.0,9,-999.0000,9,-999.0000,9,-999.0000,9,-999.0000,9,-999.0000,9,-999.0000,9,-999.0000,9,-999.0000,9,-999.0000,9,-999.0000,-999.000,  -0.5734,     -999.0,     -999.0,9,     -999.0,9,     -999.0,9,     -999.0,9,     -999.0,20110409,       1130
320620110219,       S04P,     117,          1,         33,         33,2,20110409,       0940,   -67.0000,  -104.5910,       4692,    65.5,  -1.4385,  33.8364,2,  33.8366,2,    339.2,2,   338.9,2,   36.54,2,   28.24,2,    0.19,2,    2.03,2,   6.018,2,   3.341,2,   0.634,2,   2.7230,2,  2172.1,2,  2284.0,2,   7.6580,2,    25.00,-999.000,9,-999.0000,9,-999.000,9,  -1.4381,2, -999.00,9,  -999.0,9,  -999.0,-999.000,9, -999.00,9,-999.000,9,   44.20,2,   32.30,2, -67.0001,-104.5910,-999.000,     -999.0,    33.9962,2,     -999.0,9,     -999.0,9,-999.0000,9,-999.0000,9,-999.0000,9,-999.0000,9,-999.0000,9,-999.0000,9,-999.0000,9,-999.0000,9,-999.0000,9,-999.0000,-999.000,  -1.4399,     -999.0,     -999.0,9,     -999.0,9,     -999.0,9,     -999.0,9,     -999.0,20110409,       1129
320620110219,       S04P,     117,          1,         32,         32,2,20110409,       0940,   -67.0000,  -104.5910,       4692,    90.7,  -1.0043,  33.9409,2,  33.9381,2,    327.1,2,   327.6,2,   37.78,2,   29.74,2,    0.18,2,    2.06,2,   5.756,2,   3.215,2,   0.602,2,   2.6150,2,  2180.3,2,  2290.5,2,   7.6438,2,    25.00,-999.000,9,-999.0000,9,-999.000,9,  -1.0019,2, -999.00,9,  -999.0,9,  -999.0,-999.000,9, -999.00,9,-999.000,9,   43.38,2,   33.42,2, -67.0001,-104.5910,-999.000,     -999.0,    34.0981,2,     -999.0,9,     -999.0,9,-999.0000,9,-999.0000,9,-999.0000,9,-999.0000,9,-999.0000,9,-999.0000,9,-999.0000,9,-999.0000,9,-999.0000,9,-999.0000,-999.000,  -1.0067,     -999.0,     -999.0,9,     -999.0,9,     -999.0,9,     -999.0,9,     -999.0,20110409,       1127
320620110219,       S04P,     117,          1,         31,         31,2,20110409,       0940,   -67.0000,  -104.5910,       4692,   135.5,  -0.0522,  34.0829,2,  34.0817,2,    310.9,2,   311.0,2,   43.92,2,   31.10,2,    0.03,2,    2.13,2,   5.203,2,   2.935,2,   0.536,2,   2.3780,2,  2194.7,2,  2298.2,2,   7.6283,2,    25.00,-999.000,9,-999.0000,9,-999.000,9,  -0.0536,2, -999.00,9,  -999.0,9,  -999.0,-999.000,9, -999.00,9,-999.000,9,   41.20,2,   34.02,2, -67.0001,-104.5910,-999.000,     -999.0,    34.2424,2,     -999.0,9,     -999.0,9,-999.0000,9,-999.0000,9,-999.0000,9,-999.0000,9,-999.0000,9,-999.0000,9,-999.0000,9,-999.0000,9,-999.0000,9,-999.0000,-999.000,  -0.0569,     -999.0,     -999.0,9,     -999.0,9,     -999.0,9,     -999.0,9,     -999.0,20110409,       1126
320620110219,       S04P,     117,          1,         30,         30,2,20110409,       0940,   -67.0000,  -104.5910,       4692,   185.1,   0.6025,  34.1950,2,  34.1928,2,    279.7,2,   279.8,2,   51.71,2,   32.21,2,    0.00,2,    2.22,2,   4.370,2,   2.435,2,   0.430,2,   1.8910,2,  2211.8,2,  2306.0,2,   7.6044,2,    25.00,-999.000,9,-999.0000,9,-999.000,9,   0.6227,2, -999.00,9,  -999.0,9,  -999.0,-999.000,9, -999.00,9,-999.000,9,   40.64,2,   34.92,2, -67.0001,-104.5910,-999.000,     -999.0,    34.3541,2,     -999.0,9,     -999.0,9,-999.0000,9,-999.0000,9,-999.0000,9,-999.0000,9,-999.0000,9,-999.0000,9,-999.0000,9,-999.0000,9,-999.0000,9,-999.0000,-999.000,   0.5949,     -999.0,     -999.0,9,     -999.0,9,     -999.0,9,     -999.0,9,     -999.0,20110409,       1124
320620110219,       S04P,     117,          1,         29,         29,2,20110409,       0940,   -67.0000,  -104.5910,       4692,   236.6,   1.6212,  34.3531,2,  34.3491,2,    231.1,2,   219.5,2,   60.23,2,   34.12,2,    0.00,2,    2.32,2,   2.649,2,   1.455,2,   0.240,2,   1.0890,2,  2237.1,2,  2315.3,2,   7.5599,2,    25.00,-999.000,9,-999.0000,9,-999.000,9,   1.6206,2, -999.00,9,  -999.0,9,  -999.0,-999.000,9, -999.00,9,-999.000,9,   40.76,2,   36.52,2, -67.0001,-104.5910,-999.000,     -999.0,    34.5111,2,     -999.0,9,     -999.0,9,-999.0000,9,-999.0000,9,-999.0000,9,-999.0000,9,-999.0000,9,-999.0000,9,-999.0000,9,-999.0000,9,-999.0000,9,-999.0000,-999.000,   1.6093,     -999.0,     -999.0,9,     -999.0,9,     -999.0,9,     -999.0,9,     -999.0,20110409,       1122
320620110219,       S04P,     117,          1,         28,         28,2,20110409,       0940,   -67.0000,  -104.5910,       4692,   284.1,   2.0366,  34.4648,2,  34.4646,2,    189.1,2,   188.9,2,   67.49,2,   34.48,2,    0.00,2,    2.37,2,   1.606,2,   0.844,2,   0.141,2,   0.5270,2,  2248.9,2,  2325.5,2,   7.5444,2,    25.00,-999.000,9,-999.0000,9,-999.000,9,   2.0373,2, -999.00,9,  -999.0,9,  -999.0,-999.000,9, -999.00,9,-999.000,9,   40.68,2,   36.75,2, -67.0001,-104.5910,-999.000,     -999.0,    34.6271,2,     -999.0,9,     -999.0,9,-999.0000,9,-999.0000,9,-999.0000,9,-999.0000,9,-999.0000,9,-999.0000,9,-999.0000,9,-999.0000,9,-999.0000,9,-999.0000,-999.000,   2.0212,     -999.0,     -999.0,9,     -999.0,9,     -999.0,9,     -999.0,9,     -999.0,20110409,       1121
320620110219,       S04P,     117,          1,         27,         27,2,20110409,       0940,   -67.0000,  -104.5910,       4692,   335.4,   2.1643,  34.5216,2,  34.5216,2,    178.7,2,   178.4,2,   71.04,2,   34.38,2,    0.00,2,    2.38,2,   1.178,2,   0.598,2,   0.089,2,   0.3990,2,  2254.4,2,  2330.5,2,   7.5420,2,    25.00,-999.000,9,-999.0000,9,-999.000,9,   2.1641,2, -999.00,9,  -999.0,9,  -999.0,-999.000,9, -999.00,9,-999.000,9,   40.73,2,   36.57,2, -67.0000,-104.5910,-999.000,     -999.0,    34.6844,2,     -999.0,9,     -999.0,9,-999.0000,9,-999.0000,9,-999.0000,9,-999.0000,9,-999.0000,9,-999.0000,9,-999.0000,9,-999.0000,9,-999.0000,9,-999.0000,-999.000,   2.1456,     -999.0,     -999.0,9,     -999.0,9,     -999.0,9,     -999.0,9,     -999.0,20110409,       1119
320620110219,       S04P,     117,          1,         26,         26,2,20110409,       0940,   -67.0000,  -104.5910,       4692,   386.0,   2.1669,  34.5584,2,  34.5575,2,    175.8,2,   176.4,2,   73.35,2,   34.01,2,    0.00,2,    2.36,2,   0.978,2,   0.497,2,   0.074,2,   0.2450,2,  2255.7,2,  2333.3,2,   7.5467,2,    25.00,-999.000,9,-999.0000,9,-999.000,9,   2.1666,2, -999.00,9,  -999.0,9,  -999.0,-999.000,9, -999.00,9,-999.000,9,   40.62,2,   36.20,2, -67.0001,-104.5910,-999.000,     -999.0,    34.7204,2,     -999.0,9,     -999.0,9,-999.0000,9,-999.0000,9,-999.0000,9,-999.0000,9,-999.0000,9,-999.0000,9,-999.0000,9,-999.0000,9,-999.0000,9,-999.0000,-999.000,   2.1451,     -999.0,     -999.0,9,     -999.0,9,     -999.0,9,     -999.0,9,     -999.0,20110409,       1117
320620110219,       S04P,     117,          1,         25,         25,2,20110409,       0940,   -67.0000,  -104.5910,       4692,   465.7,   2.1147,  34.5973,2,  34.5977,2,    175.0,2,   175.0,2,   76.42,2,   33.69,2,    0.00,2,    2.34,2,-999.000,9,-999.000,9,-999.000,9,-999.0000,9,  2257.5,2,  2336.6,2,   7.5508,2,    25.00,-999.000,9,-999.0000,9,-999.000,9,   2.1143,2, -999.00,9,  -999.0,9,  -999.0,-999.000,9, -999.00,9,-999.000,9,   40.69,2,   36.41,2, -67.0001,-104.5910,-999.000,     -999.0,    34.7608,2,     -999.0,9,     -999.0,9,-999.0000,9,-999.0000,9,-999.0000,9,-999.0000,9,-999.0000,9,-999.0000,9,-999.0000,9,-999.0000,9,-999.0000,9,-999.0000,-999.000,   2.0883,     -999.0,     -999.0,9,     -999.0,9,     -999.0,9,     -999.0,9,     -999.0,20110409,       1115
320620110219,       S04P,     117,          1,         24,         24,2,20110409,       0940,   -67.0000,  -104.5910,       4692,   564.4,   2.1316,  34.6433,2,  34.6428,2,    174.9,2,   175.1,2,   78.66,2,   33.04,2,    0.00,2,    2.28,2,   0.578,2,   0.278,2,   0.038,2,   0.1250,2,  2258.7,2,  2339.7,2,   7.5600,2,    25.00,-999.000,9,-999.0000,9,-999.000,9,   2.1317,2, -999.00,9,  -999.0,9,  -999.0,-999.000,9, -999.00,9,-999.000,9,   40.57,2,   35.74,2, -67.0001,-104.5910,-999.000,     -999.0,    34.8061,2,     -999.0,9,     -999.0,9,-999.0000,9,-999.0000,9,-999.0000,9,-999.0000,9,-999.0000,9,-999.0000,9,-999.0000,9,-999.0000,9,-999.0000,9,-999.0000,-999.000,   2.0990,     -999.0,     -999.0,9,     -999.0,9,     -999.0,9,     -999.0,9,     -999.0,20110409,       1112
320620110219,       S04P,     117,          1,         23,         23,2,20110409,       0940,   -67.0000,  -104.5910,       4692,   665.7,   2.0983,  34.6750,2,  34.6750,2,    176.9,2,   176.8,2,   80.55,2,   32.58,2,    0.00,2,    2.25,2,-999.000,9,-999.000,9,-999.000,9,-999.0000,9,  -999.0,9,  -999.0,9,-999.0000,9,  -999.00,-999.000,9,-999.0000,9,-999.000,9,   2.0983,2, -999.00,9,  -999.0,9,  -999.0,-999.000,9, -999.00,9,-999.000,9,   40.26,2,   34.64,2, -67.0001,-104.5910,-999.000,     -999.0,    34.8385,2,     -999.0,9,     -999.0,9,-999.0000,9,-999.0000,9,-999.0000,9,-999.0000,9,-999.0000,9,-999.0000,9,-999.0000,9,-999.0000,9,-999.0000,9,-999.0000,-999.000,   2.0594,     -999.0,     -999.0,9,     -999.0,9,     -999.0,9,     -999.0,9,     -999.0,20110409,       1109
320620110219,       S04P,     117,          1,         22,         22,2,20110409,       0940,   -67.0000,  -104.5910,       4692,   763.7,   2.0442,  34.6953,2,  34.6962,2,    179.5,2,   179.5,2,   82.90,2,   32.05,2,    0.00,2,    2.23,2,   0.361,2,   0.160,2,   0.024,2,   0.0980,2,  2256.7,2,  2345.3,2,   7.5768,2,    25.00,-999.000,9,-999.0000,9,-999.000,9,   2.0442,2, -999.00,9,  -999.0,9,  -999.0,-999.000,9, -999.00,9,-999.000,9,   40.07,2,   34.39,2, -67.0001,-104.5910,-999.000,     -999.0,    34.8598,2,     -999.0,9,     -999.0,9,-999.0000,9,-999.0000,9,-999.0000,9,-999.0000,9,-999.0000,9,-999.0000,9,-999.0000,9,-999.0000,9,-999.0000,9,-999.0000,-999.000,   1.9993,     -999.0,     -999.0,9,     -999.0,9,     -999.0,9,     -999.0,9,     -999.0,20110409,       1107
320620110219,       S04P,     117,          1,         21,         21,2,20110409,       0940,   -67.0000,  -104.5910,       4692,   864.2,   1.9745,  34.7101,2,  34.7103,2,    182.5,2,   181.9,2,   83.92,2,   31.59,2,    0.00,2,    2.21,2,-999.000,9,-999.000,9,-999.000,9,-999.0000,9,  -999.0,9,  -999.0,9,-999.0000,9,  -999.00,-999.000,9,-999.0000,9,-999.000,9,   1.9742,2, -999.00,9,  -999.0,9,  -999.0,-999.000,9, -999.00,9,-999.000,9,   39.88,2,   34.31,2, -67.0001,-104.5910,-999.000,     -999.0,    34.8739,2,     -999.0,9,     -999.0,9,-999.0000,9,-999.0000,9,-999.0000,9,-999.0000,9,-999.0000,9,-999.0000,9,-999.0000,9,-999.0000,9,-999.0000,9,-999.0000,-999.000,   1.9234,     -999.0,     -999.0,9,     -999.0,9,     -999.0,9,     -999.0,9,     -999.0,20110409,       1104
320620110219,       S04P,     117,          1,         20,         20,2,20110409,       0940,   -67.0000,  -104.5910,       4692,   964.2,   1.9023,  34.7188,2,  34.7191,2,    184.6,2,   184.9,2,   86.21,2,   31.35,2,    0.00,2,    2.21,2,   0.287,2,   0.135,2,   0.017,2,   0.0490,2,  2255.0,2,  2347.5,2,   7.5897,2,    25.00,-999.000,9,-999.0000,9,-999.000,9,   1.9020,2, -999.00,9,  -999.0,9,  -999.0,-999.000,9, -999.00,9,-999.000,9,   39.56,2,   34.26,2, -67.0001,-104.5910,-999.000,     -999.0,    34.8828,2,     -999.0,9,     -999.0,9,-999.0000,9,-999.0000,9,-999.0000,9,-999.0000,9,-999.0000,9,-999.0000,9,-999.0000,9,-999.0000,9,-999.0000,9,-999.0000,-999.000,   1.8451,     -999.0,     -999.0,9,     -999.0,9,     -999.0,9,     -999.0,9,     -999.0,20110409,       1102
320620110219,       S04P,     117,          1,         19,         19,2,20110409,       0940,   -67.0000,  -104.5910,       4692,  1064.7,   1.8368,  34.7258,2,  34.7263,2,    186.9,2,   187.4,2,   88.25,2,   31.09,2,    0.00,2,    2.19,2,-999.000,9,-999.000,9,-999.000,9,-999.0000,9,  -999.0,9,  -999.0,9,-999.0000,9,  -999.00,-999.000,9,-999.0000,9,-999.000,9,   1.8367,2, -999.00,9,  -999.0,9,  -999.0,-999.000,9, -999.00,9,-999.000,9,   39.53,2,   34.02,2, -67.0001,-104.5910,-999.000,     -999.0,    34.8901,2,     -999.0,9,     -999.0,9,-999.0000,9,-999.0000,9,-999.0000,9,-999.0000,9,-999.0000,9,-999.0000,9,-999.0000,9,-999.0000,9,-999.0000,9,-999.0000,-999.000,   1.7733,     -999.0,     -999.0,9,     -999.0,9,     -999.0,9,     -999.0,9,     -999.0,20110409,       1059
320620110219,       S04P,     117,          1,         18,         18,2,20110409,       0940,   -67.0000,  -104.5910,       4692,  1166.5,   1.7517,  34.7302,2,  34.7303,2,    189.7,2,   188.8,2,   90.52,2,   30.93,2,    0.00,2,    2.18,2,   0.241,2,   0.105,2,   0.011,2,   0.0510,2,  2255.5,2,  2351.3,2,   7.5975,6,    25.00,-999.000,9,-999.0000,9,-999.000,9,   1.7518,2, -999.00,9,  -999.0,9,  -999.0,-999.000,9, -999.00,9,-999.000,9,   40.10,2,   33.64,2, -67.0001,-104.5910,-999.000,     -999.0,    34.8940,2,     -999.0,9,     -999.0,9,-999.0000,9,-999.0000,9,-999.0000,9,-999.0000,9,-999.0000,9,-999.0000,9,-999.0000,9,-999.0000,9,-999.0000,9,-999.0000,-999.000,   1.6819,     -999.0,     -999.0,9,     -999.0,9,     -999.0,9,     -999.0,9,     -999.0,20110409,       1056
320620110219,       S04P,     117,          1,         17,         17,2,20110409,       0940,   -67.0000,  -104.5910,       4692,  1265.6,   1.6655,  34.7324,2,  34.7338,2,    191.1,2,   191.8,2,   92.99,2,   31.02,2,    0.00,2,    2.17,2,-999.000,9,-999.000,9,-999.000,9,-999.0000,9,  -999.0,9,  -999.0,9,-999.0000,9,  -999.00,-999.000,9,-999.0000,9,-999.000,9,   1.6650,2, -999.00,9,  -999.0,9,  -999.0,-999.000,9, -999.00,9,-999.000,9,   40.05,2,   33.17,2, -67.0001,-104.5910,-999.000,     -999.0,    34.8976,2,     -999.0,9,     -999.0,9,-999.0000,9,-999.0000,9,-999.0000,9,-999.0000,9,-999.0000,9,-999.0000,9,-999.0000,9,-999.0000,9,-999.0000,9,-999.0000,-999.000,   1.5896,     -999.0,     -999.0,9,     -999.0,9,     -999.0,9,     -999.0,9,     -999.0,20110409,       1054
320620110219,       S04P,     117,          1,         16,         16,2,20110409,       0940,   -67.0000,  -104.5910,       4692,  1365.2,   1.5908,  34.7326,2,  34.7328,2,    192.5,2,   192.6,2,   95.36,2,   31.00,2,    0.00,2,    2.18,2,   0.216,2,   0.090,2,   0.015,2,   0.0440,2,  2257.1,6,  2354.4,2,   7.6002,2,    25.00,-999.000,9,-999.0000,9,-999.000,9,   1.5906,2, -999.00,9,  -999.0,9,  -999.0,-999.000,9, -999.00,9,-999.000,9,   39.72,2,   33.38,2, -67.0001,-104.5910,-999.000,     -999.0,    34.8966,2,     -999.0,9,     -999.0,9,-999.0000,9,-999.0000,9,-999.0000,9,-999.0000,9,-999.0000,9,-999.0000,9,-999.0000,9,-999.0000,9,-999.0000,9,-999.0000,-999.000,   1.5086,     -999.0,     -999.0,9,     -999.0,9,     -999.0,9,     -999.0,9,     -999.0,20110409,       1051
320620110219,       S04P,     117,          1,         15,         15,2,20110409,       0940,   -67.0000,  -104.5910,       4692,  1535.2,   1.4649,  34.7313,2,  34.7324,2,    194.4,2,   194.4,2,   99.15,2,   31.20,2,    0.00,2,    2.18,2,-999.000,9,-999.000,9,-999.000,9,-999.0000,9,  -999.0,9,  -999.0,9,-999.0000,9,  -999.00,-999.000,9,-999.0000,9,-999.000,9,   1.4647,2, -999.00,9,  -999.0,9,  -999.0,-999.000,9, -999.00,9,-999.000,9,   39.85,2,   33.67,2, -67.0001,-104.5910,-999.000,     -999.0,    34.8962,2,     -999.0,9,     -999.0,9,-999.0000,9,-999.0000,9,-999.0000,9,-999.0000,9,-999.0000,9,-999.0000,9,-999.0000,9,-999.0000,9,-999.0000,9,-999.0000,-999.000,   1.3719,     -999.0,     -999.0,9,     -999.0,9,     -999.0,9,     -999.0,9,     -999.0,20110409,       1047
320620110219,       S04P,     117,          1,         14,         14,2,20110409,       0940,   -67.0000,  -104.5910,       4692,  1733.6,   1.3229,  34.7284,2,  34.7283,2,    196.0,2,   196.2,2,  103.61,2,   31.47,2,    0.00,2,    2.20,2,   0.166,2,   0.076,2,   0.008,2,   0.0400,2,  2256.8,2,  2358.2,2,   7.6017,2,    25.00,-999.000,9,-999.0000,9,-999.000,9,   1.3226,2, -999.00,9,  -999.0,9,  -999.0,-999.000,9, -999.00,9,-999.000,9,   40.03,2,   34.33,2, -67.0001,-104.5909,-999.000,     -999.0,    34.8920,2,     -999.0,9,     -999.0,9,-999.0000,9,-999.0000,9,-999.0000,9,-999.0000,9,-999.0000,9,-999.0000,9,-999.0000,9,-999.0000,9,-999.0000,9,-999.0000,-999.000,   1.2170,     -999.0,     -999.0,9,     -999.0,9,     -999.0,9,     -999.0,9,     -999.0,20110409,       1043