BOTTLE,20220813CCHSIOAMB
EXPOCODE,SECT_ID,STNNBR,CASTNO,SAMPNO,BTLNBR,BTLNBR_FLAG_W,DATE,TIME,LATITUDE,LONGITUDE,DEPTH,CTDPRS,CTDTMP,CTDSAL,CTDSAL_FLAG_W,SALNTY,SALNTY_FLAG_W,CTDOXY,CTDOXY_FLAG_W,OXYGEN,OXYGEN_FLAG_W,SILCAT,SILCAT_FLAG_W,NITRAT,NITRAT_FLAG_W,NITRIT,NITRIT_FLAG_W,PHSPHT,PHSPHT_FLAG_W,CFC-11,CFC-11_FLAG_W,CFC-12,CFC-12_FLAG_W,CFC113,CFC113_FLAG_W,SF6,SF6_FLAG_W,TCARBN,TCARBN_FLAG_W,ALKALI,ALKALI_FLAG_W,PH_TOT,PH_TOT_FLAG_W,PH_TMP,TRITUM,TRITUM_FLAG_W,HELIUM,HELIUM_FLAG_W,DELHE3,DELHE3_FLAG_W,REFTMP,REFTMP_FLAG_W,DELC13,DELC13_FLAG_W,DELC14,DELC14_FLAG_W,C14ERR,NEON,NEON_FLAG_W,DELO18,DELO18_FLAG_W,POC,POC_FLAG_W,DOC,DOC_FLAG_W,TDN,TDN_FLAG_W,BTL_LAT,BTL_LON,TRITER,NEONER,SALTREF,SALTREF_FLAG_W,PIGMENTS,PIGMENTS_FLAG_W,LAB_DEN,LAB_DEN_FLAG_W,CDOM325,CDOM325_FLAG_W,CDOM340,CDOM340_FLAG_W,CDOM380,CDOM380_FLAG_W,CDOM412,CDOM412_FLAG_W,CDOM443,CDOM443_FLAG_W,CDOM490,CDOM490_FLAG_W,CDOM555,CDOM555_FLAG_W,CDOMSL,CDOMSL_FLAG_W,CDOMSN,CDOMSN_FLAG_W,HELIER,DELHER,THETA,LDEO_SAMPNO,ABSORBTION,ABSORBTION_FLAG_W,IMAGE_COUNT,IMAGE_COUNT_FLAG_W,CYTO_COUNT,CYTO_COUNT_FLAG_W,DELD,DELD_FLAG_W,DELDERR,BTL_DATE,BTL_TIME
,,,,,,,,,,,METERS,DBAR,ITS-90,PSS-78,,PSS-78,,UMOL/KG,,UMOL/KG,,UMOL/KG,,UMOL/KG,,UMOL/KG,,UMOL/KG,,PMOL/KG,,PMOL/KG,,PMOL/KG,,FMOL/KG,,UMOL/KG,,UMOL/KG,,,,DEG C,TU,,NMOL/KG,,PERCNT,,DEG C,,/MILLE,,/MILLE,,/MILLE,NMOL/KG,,/MILLE,,UG/KG,,UMOL/KG,,UMOL/KG,,,,TU,NMOL/KG,G/KG,,,,,,1/M,,1/M,,1/M,,1/M,,1/M,,1/M,,1/M,,1/NM,,1/NM,,NMOL/KG,PERCNT,DEG C,,,,,,,,/MILLE,,/MILLE,,
320620110219,       P16S,      57,          1,         36,         36,2,20110314,       2102,   -72.9694,  -150.0000,       4143,     2.0,  -0.9497,  33.5089,2,  33.5087,2,    350.0,3,   353.7,2,   31.44,2,   21.12,2,    0.16,2,    1.42,2,   6.304,2,   3.444,2,   0.613,2,-999.0000,9,  2121.4,6,  2270.8,2,   7.7537,2,    25.00,   0.111,2,    1.910,2,  -1.690,2,  -0.9497,2, -999.00,9,  -999.0,9,  -999.0,   8.634,2,   -0.45,2,-999.000,9, -999.00,9, -999.00,9, -72.9694,-150.0000,   0.006,      0.012,    33.6667,2,     -999.0,9,     -999.0,9,-999.0000,9,-999.0000,9,-999.0000,9,-999.0000,9,-999.0000,9,-999.0000,9,-999.0000,9,-999.0000,9,-999.0000,9,    0.000,   0.204,  -0.9497,50005701036,     -999.0,9,     -999.0,9,     -999.0,9,      -4.74,2,       0.28,20110314,       2250
320620110219,       P16S,      57,          1,         35,         35,2,20110314,       2102,   -72.9694,  -150.0000,       4143,    24.5,  -0.9715,  33.5093,2,  33.5177,2,    353.9,2,   352.6,2,   31.79,2,   21.20,2,    0.16,2,    1.45,2,   6.275,2,   3.432,2,   0.602,2,-999.0000,9,  2122.4,2,  2271.8,2,   7.7498,6,    25.00,   0.103,2,    1.961,2,  -2.019,2,  -0.9714,2, -999.00,9,  -999.0,9,  -999.0,   8.859,2,   -0.42,2,-999.000,9, -999.00,9, -999.00,9, -72.9694,-150.0000,   0.006,      0.013,    33.6758,2,     -999.0,9,     -999.0,9,-999.0000,9,-999.0000,9,-999.0000,9,-999.0000,9,-999.0000,9,-999.0000,9,-999.0000,9,-999.0000,9,-999.0000,9,    0.000,   0.180,  -0.9721,50005701035,     -999.0,9,     -999.0,9,     -999.0,9,      -4.08,2,       0.12,20110314,       2249
320620110219,       P16S,      57,          1,         34,         34,2,20110314,       2102,   -72.9694,  -150.0000,       4143,    49.6,  -1.5559,  34.0309,2,  34.0420,2,    318.0,2,   317.8,2,   47.75,2,   27.61,2,    0.15,2,    1.98,2,   5.412,2,   2.942,2,   0.518,2,-999.0000,9,  2189.5,2,  2305.6,6,   7.6410,4,    25.00,   0.079,2,    1.944,2,  -0.310,2,  -1.5542,2, -999.00,9,  -999.0,9,  -999.0,   8.792,2,   -0.37,2,-999.000,9, -999.00,9, -999.00,9, -72.9694,-150.0000,   0.005,      0.012,    34.2025,2,     -999.0,9,     -999.0,9,-999.0000,9,-999.0000,9,-999.0000,9,-999.0000,9,-999.0000,9,-999.0000,9,-999.0000,9,-999.0000,9,-999.0000,9,    0.001,   0.192,  -1.5569,50005701034,     -999.0,9,     -999.0,9,     -999.0,9,      -3.51,2,       0.05,20110314,       2248
320620110219,       P16S,      57,          1,         33,         33,2,20110314,       2102,   -72.9694,  -150.0000,       4143,    75.1,  -1.5665,  34.0984,2,  34.1005,2,    306.6,2,   307.0,2,   50.21,2,   28.32,2,    0.21,2,    2.13,3,   5.191,2,   2.805,2,   0.473,2,-999.0000,9,  2196.9,2,  2303.7,2,   7.6294,2,    25.00,   0.070,2,    1.949,2,   0.100,2,  -1.5574,2, -999.00,9,  -999.0,9,  -999.0,   8.773,2,   -0.42,2,-999.000,9, -999.00,9, -999.00,9, -72.9694,-150.0000,   0.005,      0.012,    34.2613,2,     -999.0,9,     -999.0,9,-999.0000,9,-999.0000,9,-999.0000,9,-999.0000,9,-999.0000,9,-999.0000,9,-999.0000,9,-999.0000,9,-999.0000,9,    0.000,   0.192,  -1.5681,50005701033,     -999.0,9,     -999.0,9,     -999.0,9,      -3.73,2,       0.17,20110314,       2246
320620110219,       P16S,      57,          1,         32,         32,2,20110314,       2102,   -72.9694,  -150.0000,       4143,   100.5,  -1.2286,  34.1692,2,  34.1797,2,    287.0,2,   285.7,2,   54.92,2,   29.94,2,    0.08,2,    2.07,2,   4.646,2,   2.512,2,   0.424,2,-999.0000,9,  2207.2,2,  2307.3,2,   7.6090,2,    25.00,   0.073,2,    1.948,2,   1.398,2,  -1.2266,2, -999.00,9,  -999.0,9,  -999.0,   8.739,2,   -0.31,2,-999.000,9, -999.00,9, -999.00,9, -72.9694,-150.0000,   0.005,      0.011,    34.3409,2,     -999.0,9,     -999.0,9,-999.0000,9,-999.0000,9,-999.0000,9,-999.0000,9,-999.0000,9,-999.0000,9,-999.0000,9,-999.0000,9,-999.0000,9,    0.000,   0.198,  -1.2311,50005701032,     -999.0,9,     -999.0,9,     -999.0,9,      -3.42,2,       0.04,20110314,       2245
320620110219,       P16S,      57,          1,         31,         31,2,20110314,       2102,   -72.9694,  -150.0000,       4143,   124.8,  -0.5469,  34.2593,2,  34.2594,2,    256.8,2,   262.5,2,   60.96,2,   31.07,2,    0.01,2,    2.14,2,   3.911,2,   2.100,2,   0.369,2,-999.0000,9,  2219.0,2,  2312.4,2,   7.5952,2,    25.00,   0.053,2,    1.921,2,   2.200,2,  -0.5467,2, -999.00,9,  -999.0,9,  -999.0,   8.724,2,   -0.28,2,-999.000,9, -999.00,9, -999.00,9, -72.9694,-150.0000,   0.006,      0.014,    34.4210,2,     -999.0,9,     -999.0,9,-999.0000,9,-999.0000,9,-999.0000,9,-999.0000,9,-999.0000,9,-999.0000,9,-999.0000,9,-999.0000,9,-999.0000,9,    0.000,   0.205,  -0.5508,50005701031,     -999.0,9,     -999.0,9,     -999.0,9,      -2.90,2,       0.04,20110314,       2244
320620110219,       P16S,      57,          1,         30,         30,2,20110314,       2102,   -72.9694,  -150.0000,       4143,   149.2,   0.3386,  34.3882,2,  34.3913,2,    228.6,2,   229.6,2,   69.86,2,   32.45,2,    0.01,2,    2.23,2,   2.734,2,   1.491,2,   0.246,2,-999.0000,9,  2232.1,2,  2320.6,2,   7.5718,2,    25.00,   0.028,2,    1.972,2,   5.019,2,   0.3390,2, -999.00,9,  -999.0,9,  -999.0,   8.604,2,   -0.16,2,-999.000,9, -999.00,9, -999.00,9, -72.9694,-150.0000,   0.005,      0.014,    34.5534,2,     -999.0,9,     -999.0,9,-999.0000,9,-999.0000,9,-999.0000,9,-999.0000,9,-999.0000,9,-999.0000,9,-999.0000,9,-999.0000,9,-999.0000,9,    0.001,   0.206,   0.3328,50005701030,     -999.0,9,     -999.0,9,     -999.0,9,      -2.30,2,       0.02,20110314,       2242
320620110219,       P16S,      57,          1,         29,         29,2,20110314,       2102,   -72.9694,  -150.0000,       4143,   199.3,   1.3245,  34.5628,2,  34.5718,2,    192.6,2,   192.0,2,   80.24,2,   33.54,2,    0.00,2,    2.28,2,   1.282,2,   0.678,2,   0.107,2,-999.0000,9,  2250.2,2,  2333.8,2,   7.5541,2,    25.00,   0.013,2,    2.004,2,   7.683,2,   1.3264,2, -999.00,9,  -999.0,9,  -999.0,   8.846,2,   -0.12,2,-999.000,9, -999.00,9, -999.00,9, -72.9694,-150.0000,   0.004,      0.017,    34.7348,2,     -999.0,9,     -999.0,9,-999.0000,9,-999.0000,9,-999.0000,9,-999.0000,9,-999.0000,9,-999.0000,9,-999.0000,9,-999.0000,9,-999.0000,9,    0.000,   0.193,   1.3149,50005701029,     -999.0,9,     -999.0,9,     -999.0,9,      -1.85,2,       0.08,20110314,       2241
320620110219,       P16S,      57,          1,         28,         28,2,20110314,       2102,   -72.9694,  -150.0000,       4143,   250.3,   1.7293,  34.6612,2,  34.6605,2,    181.4,2,   181.0,2,   84.35,2,   33.24,2,    0.00,2,    2.27,2,   0.644,2,   0.337,2,   0.045,2,-999.0000,9,  2254.2,2,  2340.0,2,   7.5587,2,    25.00,   0.001,2,    2.001,2,   8.633,2,   1.7294,2, -999.00,9,  -999.0,9,  -999.0,   8.712,2,   -0.13,2,-999.000,9, -999.00,9, -999.00,9, -72.9694,-150.0000,   0.004,      0.012,    34.8239,2,     -999.0,9,     -999.0,9,-999.0000,9,-999.0000,9,-999.0000,9,-999.0000,9,-999.0000,9,-999.0000,9,-999.0000,9,-999.0000,9,-999.0000,9,    0.001,   0.205,   1.7163,50005701028,     -999.0,9,     -999.0,9,     -999.0,9,      -1.52,2,       0.16,20110314,       2239
320620110219,       P16S,      57,          1,         27,         27,2,20110314,       2102,   -72.9694,  -150.0000,       4143,   299.9,   1.7509,  34.6928,2,  34.6936,2,    181.9,2,   181.4,2,   86.65,2,   32.85,2,    0.00,2,    2.24,2,   0.479,2,   0.244,2,   0.035,2,-999.0000,9,  2255.1,2,  2342.6,2,   7.5647,2,    25.00,   0.001,2,-999.0000,9,-999.000,9,   1.7504,2, -999.00,9,  -999.0,9,  -999.0,-999.000,9,    0.02,2,-999.000,9, -999.00,9, -999.00,9, -72.9694,-150.0000,   0.004,     -999.0,    34.8572,2,     -999.0,9,     -999.0,9,-999.0000,9,-999.0000,9,-999.0000,9,-999.0000,9,-999.0000,9,-999.0000,9,-999.0000,9,-999.0000,9,-999.0000,9,-999.0000,-999.000,   1.7351,     -999.0,     -999.0,9,     -999.0,9,     -999.0,9,      -1.00,2,       0.19,20110314,       2237
320620110219,       P16S,      57,          1,         26,         26,2,20110314,       2102,   -72.9694,  -150.0000,       4143,   349.6,   1.7266,  34.7090,2,  34.7103,2,    183.5,2,   183.4,2,   88.67,2,   32.52,2,    0.00,2,    2.22,2,-999.000,9,-999.000,9,-999.000,9,-999.0000,9,  2255.4,2,  2346.1,2,   7.5750,2,    25.00,-999.000,9,-999.0000,9,-999.000,9,   1.7263,2, -999.00,9,  -999.0,9,  -999.0,-999.000,9, -999.00,9,-999.000,9, -999.00,9, -999.00,9, -72.9694,-150.0000,-999.000,     -999.0,    34.8740,2,     -999.0,9,     -999.0,9,-999.0000,9,-999.0000,9,-999.0000,9,-999.0000,9,-999.0000,9,-999.0000,9,-999.0000,9,-999.0000,9,-999.0000,9,-999.0000,-999.000,   1.7081,     -999.0,     -999.0,9,     -999.0,9,     -999.0,9,     -999.0,9,     -999.0,20110314,       2235
320620110219,       P16S,      57,          1,         25,         25,2,20110314,       2102,   -72.9694,  -150.0000,       4143,   399.9,   1.6782,  34.7161,2,  34.7174,2,    185.1,2,   185.3,2,   90.22,2,   32.37,2,    0.00,2,    2.22,2,   0.361,2,   0.175,2,   0.023,2,-999.0000,9,  2254.2,2,  2347.3,2,   7.5817,2,    25.00,   0.001,2,    2.020,2,   9.150,2,   1.6780,2, -999.00,9,  -999.0,9,  -999.0,   8.712,2, -999.00,9,-999.000,9, -999.00,9, -999.00,9, -72.9694,-150.0000,   0.004,      0.012,    34.8811,2,     -999.0,9,     -999.0,9,-999.0000,9,-999.0000,9,-999.0000,9,-999.0000,9,-999.0000,9,-999.0000,9,-999.0000,9,-999.0000,9,-999.0000,9,    0.000,   0.205,   1.6571,50005701025,     -999.0,9,     -999.0,9,     -999.0,9,     -999.0,9,     -999.0,20110314,       2233
320620110219,       P16S,      57,          1,         24,         24,2,20110314,       2102,   -72.9694,  -150.0000,       4143,   449.8,   1.6310,  34.7223,2,  34.7219,2,    186.2,2,   185.8,2,   92.09,2,   32.32,2,    0.00,2,    2.21,2,-999.000,9,-999.000,9,-999.000,9,-999.0000,9,  2254.1,2,  2348.6,2,   7.5811,2,    25.00,-999.000,9,-999.0000,9,-999.000,9,   1.6309,2, -999.00,9,  -999.0,9,  -999.0,-999.000,9, -999.00,9,-999.000,9, -999.00,9, -999.00,9, -72.9694,-150.0001,-999.000,     -999.0,    34.8856,2,     -999.0,9,     -999.0,9,-999.0000,9,-999.0000,9,-999.0000,9,-999.0000,9,-999.0000,9,-999.0000,9,-999.0000,9,-999.0000,9,-999.0000,9,-999.0000,-999.000,   1.6072,     -999.0,     -999.0,9,     -999.0,9,     -999.0,9,     -999.0,9,     -999.0,20110314,       2232
320620110219,       P16S,      57,          1,         23,         23,2,20110314,       2102,   -72.9694,  -150.0000,       4143,   499.0,   1.5649,  34.7252,2,  34.7256,2,    187.3,2,   186.8,2,   94.44,2,   32.36,2,    0.00,2,    2.21,2,   0.292,2,   0.150,2,   0.020,2,-999.0000,9,  2255.1,2,  2349.9,2,   7.5833,2,    25.00,   0.001,2,    1.956,2,   9.527,2,   1.5646,2, -999.00,9,  -999.0,9,  -999.0,   8.593,2,   -0.18,2,-999.000,9, -999.00,9, -999.00,9, -72.9694,-150.0000,   0.004,      0.012,    34.8893,2,     -999.0,9,     -999.0,9,-999.0000,9,-999.0000,9,-999.0000,9,-999.0000,9,-999.0000,9,-999.0000,9,-999.0000,9,-999.0000,9,-999.0000,9,    0.000,   0.205,   1.5386,50005701023,     -999.0,9,     -999.0,9,     -999.0,9,      -1.97,2,       0.21,20110314,       2230
320620110219,       P16S,      57,          1,         22,         22,2,20110314,       2102,   -72.9694,  -150.0000,       4143,   600.2,   1.4744,  34.7297,2,  34.7317,2,    188.8,2,   188.3,2,   97.95,2,   32.28,2,    0.00,2,    2.19,2,-999.000,9,-999.000,9,-999.000,9,-999.0000,9,  -999.0,9,  -999.0,9,-999.0000,9,  -999.00,-999.000,9,-999.0000,9,-999.000,9,   1.4743,2, -999.00,9,  -999.0,9,  -999.0,-999.000,9, -999.00,9,-999.000,9, -999.00,9, -999.00,9, -72.9694,-150.0000,-999.000,     -999.0,    34.8955,2,     -999.0,9,     -999.0,9,-999.0000,9,-999.0000,9,-999.0000,9,-999.0000,9,-999.0000,9,-999.0000,9,-999.0000,9,-999.0000,9,-999.0000,9,-999.0000,-999.000,   1.4427,     -999.0,     -999.0,9,     -999.0,9,     -999.0,9,     -999.0,9,     -999.0,20110314,       2227
320620110219,       P16S,      57,          1,         21,         21,2,20110314,       2102,   -72.9694,  -150.0000,       4143,   699.9,   1.3919,  34.7302,2,  34.7295,2,    189.4,2,   189.7,2,  100.77,2,   32.31,2,    0.00,2,    2.20,2,   0.198,2,   0.097,2,   0.014,2,-999.0000,9,  2258.1,2,  2353.4,2,   7.5871,2,    25.00,   0.001,2,-999.0000,9,-999.000,9,   1.3918,2, -999.00,9,  -999.0,9,  -999.0,-999.000,9,   -0.11,2,-999.000,9, -999.00,9, -999.00,9, -72.9694,-150.0000,   0.004,     -999.0,    34.8933,2,     -999.0,9,     -999.0,9,-999.0000,9,-999.0000,9,-999.0000,9,-999.0000,9,-999.0000,9,-999.0000,9,-999.0000,9,-999.0000,9,-999.0000,9,-999.0000,-999.000,   1.3548,     -999.0,     -999.0,9,     -999.0,9,     -999.0,9,      -1.32,2,       0.11,20110314,       2224
320620110219,       P16S,      57,          1,         20,         20,2,20110314,       2102,   -72.9694,  -150.0000,       4143,   799.2,   1.3147,  34.7293,2,  34.7293,2,    190.2,2,   191.7,2,  103.59,2,   32.39,2,    0.00,2,    2.21,2,   0.179,2,   0.092,2,   0.012,2,-999.0000,9,  -999.0,9,  -999.0,9,-999.0000,9,  -999.00,   0.001,2,    1.973,2,   9.709,2,   1.3144,2, -999.00,9,  -999.0,9,  -999.0,   8.583,2, -999.00,9,-999.000,9, -999.00,9, -999.00,9, -72.9694,-150.0000,   0.004,      0.011,    34.8931,2,     -999.0,9,     -999.0,9,-999.0000,9,-999.0000,9,-999.0000,9,-999.0000,9,-999.0000,9,-999.0000,9,-999.0000,9,-999.0000,9,-999.0000,9,    0.001,   0.206,   1.2721,50005701020,     -999.0,9,     -999.0,9,     -999.0,9,     -999.0,9,     -999.0,20110314,       2222
320620110219,       P16S,      57,          1,         19,         19,2,20110314,       2102,   -72.9694,  -150.0000,       4143,   899.7,   1.2474,  34.7280,2,  34.7295,2,    191.6,2,   191.6,2,  105.98,2,   32.40,2,    0.00,2,    2.22,2,   0.146,2,   0.072,2,   0.009,2,-999.0000,9,  2258.6,2,  2356.0,2,   7.5886,2,    25.00,   0.001,2,-999.0000,9,-999.000,9,   1.2473,2, -999.00,9,  -999.0,9,  -999.0,-999.000,9, -999.00,9,-999.000,9, -999.00,9, -999.00,9, -72.9694,-150.0000,   0.004,     -999.0,    34.8933,2,     -999.0,9,     -999.0,9,-999.0000,9,-999.0000,9,-999.0000,9,-999.0000,9,-999.0000,9,-999.0000,9,-999.0000,9,-999.0000,9,-999.0000,9,-999.0000,-999.000,   1.1992,     -999.0,     -999.0,9,     -999.0,9,     -999.0,9,     -999.0,9,     -999.0,20110314,       2219
320620110219,       P16S,      57,          1,         18,         18,2,20110314,       2102,   -72.9694,  -150.0000,       4143,  1000.2,   1.1883,  34.7263,2,  34.7271,2,    192.9,2,   192.8,2,  107.85,2,   32.36,2,    0.00,2,    2.22,2,-999.000,9,-999.000,9,-999.000,9,-999.0000,9,  -999.0,9,  -999.0,9,-999.0000,9,  -999.00,-999.000,9,-999.0000,9,-999.000,9,   1.1880,2, -999.00,9,  -999.0,9,  -999.0,-999.000,9, -999.00,9,-999.000,9, -999.00,9, -999.00,9, -72.9694,-150.0000,-999.000,     -999.0,    34.8909,2,     -999.0,9,     -999.0,9,-999.0000,9,-999.0000,9,-999.0000,9,-999.0000,9,-999.0000,9,-999.0000,9,-999.0000,9,-999.0000,9,-999.0000,9,-999.0000,-999.000,   1.1343,     -999.0,     -999.0,9,     -999.0,9,     -999.0,9,     -999.0,9,     -999.0,20110314,       2216
320620110219,       P16S,      57,          1,         17,         17,2,20110314,       2102,   -72.9694,  -150.0000,       4143,  1099.9,   1.1274,  34.7244,2,  34.7250,2,    194.7,2,   194.3,2,  109.58,2,   32.23,2,    0.00,2,    2.22,2,   0.124,2,   0.066,2,   0.006,2,-999.0000,9,  2258.2,2,  2357.4,6,   7.5890,4,    25.00,   0.001,2,    1.978,2,  10.233,2,   1.1276,2, -999.00,9,  -999.0,9,  -999.0,   8.613,2, -999.00,9,-999.000,9, -999.00,9, -999.00,9, -72.9694,-150.0000,   0.004,      0.012,    34.8887,2,     -999.0,9,     -999.0,9,-999.0000,9,-999.0000,9,-999.0000,9,-999.0000,9,-999.0000,9,-999.0000,9,-999.0000,9,-999.0000,9,-999.0000,9,    0.000,   0.194,   1.0677,50005701017,     -999.0,9,     -999.0,9,     -999.0,9,     -999.0,9,     -999.0,20110314,       2214
320620110219,       P16S,      57,          1,         16,         16,2,20110314,       2102,   -72.9694,  -150.0000,       4143,  1199.7,   1.0722,  34.7223,2,  34.7234,2,    196.3,2,   195.7,2,  111.56,2,   32.20,2,    0.00,2,    2.22,2,-999.000,9,-999.000,9,-999.000,9,-999.0000,9,  -999.0,9,  -999.0,9,-999.0000,9,  -999.00,-999.000,9,-999.0000,9,-999.000,9,   1.0722,2, -999.00,9,  -999.0,9,  -999.0,-999.000,9, -999.00,9,-999.000,9, -999.00,9, -999.00,9, -72.9694,-150.0000,-999.000,     -999.0,    34.8871,2,     -999.0,9,     -999.0,9,-999.0000,9,-999.0000,9,-999.0000,9,-999.0000,9,-999.0000,9,-999.0000,9,-999.0000,9,-999.0000,9,-999.0000,9,-999.0000,-999.000,   1.0066,     -999.0,     -999.0,9,     -999.0,9,     -999.0,9,     -999.0,9,     -999.0,20110314,       2211
320620110219,       P16S,      57,          1,         15,         15,2,20110314,       2102,   -72.9694,  -150.0000,       4143,  1299.6,   1.0176,  34.7203,2,  34.7234,4,    197.8,2,   197.7,2,  113.02,2,   32.18,2,    0.00,2,    2.22,2,   0.116,2,   0.057,2,   0.005,2,-999.0000,9,  2258.8,2,  2358.9,2,   7.5934,2,    25.00,   0.001,2,    2.004,2,  10.136,2,   1.0176,2, -999.00,9,  -999.0,9,  -999.0,   8.748,2, -999.00,9,-999.000,9, -999.00,9, -999.00,9, -72.9694,-150.0000,   0.004,      0.011,    34.8871,4,     -999.0,9,     -999.0,9,-999.0000,9,-999.0000,9,-999.0000,9,-999.0000,9,-999.0000,9,-999.0000,9,-999.0000,9,-999.0000,9,-999.0000,9,    0.000,   0.212,   0.9460,50005701015,     -999.0,9,     -999.0,9,     -999.0,9,     -999.0,9,     -999.0,20110314,       2209
320620110219,       P16S,      57,          1,         14,         14,2,20110314,       2102,   -72.9694,  -150.0000,       4143,  1399.9,   0.9679,  34.7183,2,  34.7189,2,    198.9,2,   198.2,2,  114.48,2,   32.15,2,    0.00,2,    2.23,2,-999.000,9,-999.000,9,-999.000,9,-999.0000,9,  -999.0,9,  -999.0,9,-999.0000,9,  -999.00,-999.000,9,-999.0000,9,-999.000,9,   0.9680,2, -999.00,9,  -999.0,9,  -999.0,-999.000,9, -999.00,9,-999.000,9, -999.00,9, -999.00,9, -72.9694,-150.0000,-999.000,     -999.0,    34.8826,2,     -999.0,9,     -999.0,9,-999.0000,9,-999.0000,9,-999.0000,9,-999.0000,9,-999.0000,9,-999.0000,9,-999.0000,9,-999.0000,9,-999.0000,9,-999.0000,-999.000,   0.8902,     -999.0,     -999.0,9,     -999.0,9,     -999.0,9,     -999.0,9,     -999.0,20110314,       2206