BOTTLE,20220813CCHSIOAMB
EXPOCODE,SECT_ID,STNNBR,CASTNO,SAMPNO,BTLNBR,BTLNBR_FLAG_W,DATE,TIME,LATITUDE,LONGITUDE,DEPTH,CTDPRS,CTDTMP,CTDSAL,CTDSAL_FLAG_W,SALNTY,SALNTY_FLAG_W,CTDOXY,CTDOXY_FLAG_W,OXYGEN,OXYGEN_FLAG_W,SILCAT,SILCAT_FLAG_W,NITRAT,NITRAT_FLAG_W,NITRIT,NITRIT_FLAG_W,PHSPHT,PHSPHT_FLAG_W,CFC-11,CFC-11_FLAG_W,CFC-12,CFC-12_FLAG_W,CFC113,CFC113_FLAG_W,SF6,SF6_FLAG_W,TCARBN,TCARBN_FLAG_W,ALKALI,ALKALI_FLAG_W,PH_TOT,PH_TOT_FLAG_W,PH_TMP,TRITUM,TRITUM_FLAG_W,HELIUM,HELIUM_FLAG_W,DELHE3,DELHE3_FLAG_W,REFTMP,REFTMP_FLAG_W,DELC13,DELC13_FLAG_W,DELC14,DELC14_FLAG_W,C14ERR,NEON,NEON_FLAG_W,DELO18,DELO18_FLAG_W,POC,POC_FLAG_W,DOC,DOC_FLAG_W,TDN,TDN_FLAG_W,BTL_LAT,BTL_LON,TRITER,NEONER,SALTREF,SALTREF_FLAG_W,PIGMENTS,PIGMENTS_FLAG_W,LAB_DEN,LAB_DEN_FLAG_W,CDOM325,CDOM325_FLAG_W,CDOM340,CDOM340_FLAG_W,CDOM380,CDOM380_FLAG_W,CDOM412,CDOM412_FLAG_W,CDOM443,CDOM443_FLAG_W,CDOM490,CDOM490_FLAG_W,CDOM555,CDOM555_FLAG_W,CDOMSL,CDOMSL_FLAG_W,CDOMSN,CDOMSN_FLAG_W,HELIER,DELHER,THETA,LDEO_SAMPNO,ABSORBTION,ABSORBTION_FLAG_W,IMAGE_COUNT,IMAGE_COUNT_FLAG_W,CYTO_COUNT,CYTO_COUNT_FLAG_W,DELD,DELD_FLAG_W,DELDERR,BTL_DATE,BTL_TIME
,,,,,,,,,,,METERS,DBAR,ITS-90,PSS-78,,PSS-78,,UMOL/KG,,UMOL/KG,,UMOL/KG,,UMOL/KG,,UMOL/KG,,UMOL/KG,,PMOL/KG,,PMOL/KG,,PMOL/KG,,FMOL/KG,,UMOL/KG,,UMOL/KG,,,,DEG C,TU,,NMOL/KG,,PERCNT,,DEG C,,/MILLE,,/MILLE,,/MILLE,NMOL/KG,,/MILLE,,UG/KG,,UMOL/KG,,UMOL/KG,,,,TU,NMOL/KG,G/KG,,,,,,1/M,,1/M,,1/M,,1/M,,1/M,,1/M,,1/M,,1/NM,,1/NM,,NMOL/KG,PERCNT,DEG C,,,,,,,,/MILLE,,/MILLE,,
320620110219,       S04P,     100,          1,         36,         36,2,20110331,       2146,   -67.0000,  -140.4061,       4318,     5.7,  -0.6906,  33.4218,2,  33.4215,2,    343.0,3,   346.8,2,   29.78,2,   22.63,2,    0.17,2,    1.58,2,   6.305,2,   3.437,2,   0.626,2,-999.0000,9,  2134.6,6,  2263.9,2,   7.7083,2,    25.00,-999.000,9,-999.0000,9,-999.000,9,  -0.6909,2, -999.00,9,  -999.0,9,  -999.0,-999.000,9, -999.00,9,-999.000,9,   45.32,2,   27.87,2, -67.0001,-140.4061,-999.000,     -999.0,    33.5791,2,     -999.0,9,     -999.0,9,   0.0943,2,   0.0483,3,  -0.0015,4,  -0.0111,4,  -0.0194,4,  -0.0158,4,  -0.0149,4,   0.0657,4,   0.0512,4,-999.0000,-999.000,  -0.6908,     -999.0,     -999.0,9,     -999.0,9,     -999.0,9,     -999.0,9,     -999.0,20110331,       2335
320620110219,       S04P,     100,          1,         35,         35,2,20110331,       2146,   -67.0000,  -140.4061,       4318,    19.4,  -0.6900,  33.4232,2,  33.4223,2,    346.6,2,   346.4,2,   29.68,2,   22.64,2,    0.16,2,    1.60,2,   6.177,2,   3.376,2,   0.614,2,-999.0000,9,  2134.9,2,  2264.9,2,   7.7071,6,    25.00,-999.000,9,-999.0000,9,-999.000,9,  -0.6900,2, -999.00,9,  -999.0,9,  -999.0,-999.000,9, -999.00,9,-999.000,9,   45.13,2,   27.54,2, -67.0001,-140.4061,-999.000,     -999.0,    33.5799,2,     -999.0,1,     -999.0,9,   0.0942,2,   0.0490,3,  -0.0004,4,  -0.0091,4,  -0.0175,4,  -0.0143,4,  -0.0142,4,   0.0735,4,   0.0506,4,-999.0000,-999.000,  -0.6905,     -999.0,     -999.0,9,     -999.0,9,     -999.0,9,     -999.0,9,     -999.0,20110331,       2334
320620110219,       S04P,     100,          1,         34,         34,2,20110331,       2146,   -67.0000,  -140.4061,       4318,    40.3,  -0.7312,  33.4652,3,  33.4976,2,    347.1,2,   343.1,2,   33.18,2,   23.06,2,    0.17,2,    1.64,2,   6.150,2,-999.000,9,   0.613,2,-999.0000,9,  2142.0,2,  2269.6,6,   7.6972,2,    25.00,-999.000,9,-999.0000,9,-999.000,9,  -0.7351,2, -999.00,9,  -999.0,9,  -999.0,-999.000,9, -999.00,9,-999.000,9,   45.04,2,   28.13,2, -67.0001,-140.4061,-999.000,     -999.0,    33.6555,2,     -999.0,1,     -999.0,9,   0.0812,2,   0.0365,3,  -0.0076,4,  -0.0150,4,  -0.0225,4,  -0.0179,4,  -0.0162,4,   0.0808,4,   0.0609,4,-999.0000,-999.000,  -0.7323,     -999.0,     -999.0,9,     -999.0,9,     -999.0,9,     -999.0,9,     -999.0,20110331,       2332
320620110219,       S04P,     100,          1,         33,         33,2,20110331,       2146,   -67.0000,  -140.4061,       4318,    66.3,  -1.7193,  33.9875,2,  33.9899,2,    322.6,2,   323.4,2,   48.95,2,   28.19,2,    0.26,2,    2.01,2,   5.676,2,   3.004,2,   0.559,2,   2.4970,2,  2191.4,2,  2296.7,2,   7.6333,2,    25.00,-999.000,9,-999.0000,9,-999.000,9,  -1.7135,2, -999.00,9,  -999.0,9,  -999.0,-999.000,9, -999.00,9,-999.000,9,   44.97,2,   33.20,2, -67.0000,-140.4061,-999.000,     -999.0,    34.1502,2,     -999.0,1,     -999.0,9,   0.0524,3,   0.0161,3,  -0.0168,4,  -0.0201,4,  -0.0254,4,  -0.0195,4,  -0.0169,4,   0.1213,4,   0.0846,4,-999.0000,-999.000,  -1.7206,     -999.0,     -999.0,9,     -999.0,9,     -999.0,9,     -999.0,9,     -999.0,20110331,       2331
320620110219,       S04P,     100,          1,         32,         32,2,20110331,       2146,   -67.0000,  -140.4061,       4318,    89.9,  -1.4279,  34.0652,2,  34.0521,2,    314.9,2,   310.0,2,   50.59,2,   29.18,2,    0.17,2,    2.03,2,   5.259,2,   2.837,2,   0.514,2,   2.2260,2,  2197.8,2,  2299.3,2,   7.6225,2,    25.00,-999.000,9,-999.0000,9,-999.000,9,  -1.4274,2, -999.00,9,  -999.0,9,  -999.0,-999.000,9, -999.00,9,-999.000,9,   44.00,2,   33.19,2, -67.0001,-140.4061,-999.000,     -999.0,    34.2127,2,     -999.0,9,     -999.0,9,   0.0546,3,   0.0182,3,  -0.0145,4,  -0.0188,4,  -0.0243,4,  -0.0187,4,  -0.0165,4,   0.1155,4,   0.0812,4,-999.0000,-999.000,  -1.4299,     -999.0,     -999.0,9,     -999.0,9,     -999.0,9,     -999.0,9,     -999.0,20110331,       2329
320620110219,       S04P,     100,          1,         31,         31,2,20110331,       2146,   -67.0000,  -140.4061,       4318,   135.3,   0.4515,  34.3668,2,  34.3764,2,    252.8,2,   235.8,2,   67.75,2,   32.18,2,    0.01,2,    2.22,2,   2.856,2,   1.545,2,   0.277,2,   1.1750,2,  2233.1,2,  2316.9,2,   7.5738,2,    25.00,-999.000,9,-999.0000,9,-999.000,9,   0.4682,2, -999.00,9,  -999.0,9,  -999.0,-999.000,9, -999.00,9,-999.000,9,   43.16,2,   35.17,2, -67.0000,-140.4061,-999.000,     -999.0,    34.5385,2,     -999.0,9,     -999.0,9,-999.0000,9,-999.0000,9,-999.0000,9,-999.0000,9,-999.0000,9,-999.0000,9,-999.0000,9,-999.0000,9,-999.0000,9,-999.0000,-999.000,   0.4461,     -999.0,     -999.0,9,     -999.0,9,     -999.0,9,     -999.0,9,     -999.0,20110331,       2327
320620110219,       S04P,     100,          1,         30,         30,2,20110331,       2146,   -67.0000,  -140.4061,       4318,   183.8,   1.6627,  34.5904,2,  34.5883,2,    186.4,2,   185.0,2,   78.42,2,   33.48,2,    0.00,2,    2.29,2,   1.084,2,   0.574,2,   0.088,2,   0.3740,2,  2254.1,2,  2334.0,2,   7.5502,2,    25.00,-999.000,9,-999.0000,9,-999.000,9,   1.6624,2, -999.00,9,  -999.0,9,  -999.0,-999.000,9, -999.00,9,-999.000,9,   42.66,2,   36.41,2, -67.0000,-140.4061,-999.000,     -999.0,    34.7514,2,     -999.0,9,     -999.0,9,   0.0725,3,   0.0318,3,  -0.0083,4,  -0.0145,4,  -0.0218,4,  -0.0175,4,  -0.0160,4,   0.0839,4,   0.0639,4,-999.0000,-999.000,   1.6534,     -999.0,     -999.0,9,     -999.0,9,     -999.0,9,     -999.0,9,     -999.0,20110331,       2326
320620110219,       S04P,     100,          1,         29,         29,2,20110331,       2146,   -67.0000,  -140.4061,       4318,   234.5,   1.8633,  34.6542,2,  34.6536,2,    178.6,2,   178.2,2,   81.60,2,   32.96,2,    0.00,2,    2.26,2,   0.628,2,   0.322,2,   0.046,2,   0.2240,2,  2255.6,2,  2338.9,2,   7.5587,2,    25.00,-999.000,9,-999.0000,9,-999.000,9,   1.8631,2, -999.00,9,  -999.0,9,  -999.0,-999.000,9, -999.00,9,-999.000,9,   41.37,2,   35.67,2, -67.0001,-140.4061,-999.000,     -999.0,    34.8170,2,     -999.0,9,     -999.0,9,   0.0788,3,   0.0364,3,  -0.0062,4,  -0.0130,4,  -0.0205,4,  -0.0165,4,  -0.0154,4,   0.0698,3,   0.0592,3,-999.0000,-999.000,   1.8509,     -999.0,     -999.0,9,     -999.0,9,     -999.0,9,     -999.0,9,     -999.0,20110331,       2324
320620110219,       S04P,     100,          1,         28,         28,2,20110331,       2146,   -67.0000,  -140.4061,       4318,   285.9,   1.8883,  34.6816,2,  34.6809,2,    178.3,2,   178.8,2,   83.09,2,   32.43,2,    0.00,2,    2.24,2,   0.477,2,   0.235,2,   0.031,2,   0.1570,2,  2255.8,2,  2342.2,2,   7.5648,2,    25.00,-999.000,9,-999.0000,9,-999.000,9,   1.8885,2, -999.00,9,  -999.0,9,  -999.0,-999.000,9, -999.00,9,-999.000,9,   41.25,2,   34.91,2, -67.0001,-140.4061,-999.000,     -999.0,    34.8444,2,     -999.0,9,     -999.0,9,   0.0811,2,   0.0394,3,  -0.0043,4,  -0.0120,4,  -0.0202,4,  -0.0161,4,  -0.0151,4,   0.0791,4,   0.0557,4,-999.0000,-999.000,   1.8730,     -999.0,     -999.0,9,     -999.0,9,     -999.0,9,     -999.0,9,     -999.0,20110331,       2322
320620110219,       S04P,     100,          1,         27,         27,2,20110331,       2146,   -67.0000,  -140.4061,       4318,   333.6,   1.8708,  34.6971,2,  34.6968,2,    179.4,2,   180.9,2,   84.26,2,   32.00,2,    0.00,2,    2.22,2,   0.412,2,   0.201,2,   0.025,2,   0.1190,2,  2255.1,2,  2344.1,2,   7.5709,2,    25.00,-999.000,9,-999.0000,9,-999.000,9,   1.8702,2, -999.00,9,  -999.0,9,  -999.0,-999.000,9, -999.00,9,-999.000,9,   40.83,2,   34.64,2, -67.0001,-140.4061,-999.000,     -999.0,    34.8604,2,     -999.0,9,     -999.0,9,-999.0000,9,-999.0000,9,-999.0000,9,-999.0000,9,-999.0000,9,-999.0000,9,-999.0000,9,-999.0000,9,-999.0000,9,-999.0000,-999.000,   1.8529,     -999.0,     -999.0,9,     -999.0,9,     -999.0,9,     -999.0,9,     -999.0,20110331,       2321
320620110219,       S04P,     100,          1,         26,         26,2,20110331,       2146,   -67.0000,  -140.4061,       4318,   384.6,   1.8379,  34.7069,2,  34.7066,2,    181.5,2,   181.2,2,   85.22,2,   31.80,2,    0.00,2,    2.21,2,   0.366,2,   0.181,2,   0.022,2,   0.1070,2,  2254.0,2,  2345.3,2,   7.5764,2,    25.00,-999.000,9,-999.0000,9,-999.000,9,   1.8376,2, -999.00,9,  -999.0,9,  -999.0,-999.000,9, -999.00,9,-999.000,9,   41.32,2,   34.54,2, -67.0001,-140.4061,-999.000,     -999.0,    34.8702,2,     -999.0,9,     -999.0,9,-999.0000,9,-999.0000,9,-999.0000,9,-999.0000,9,-999.0000,9,-999.0000,9,-999.0000,9,-999.0000,9,-999.0000,9,-999.0000,-999.000,   1.8171,     -999.0,     -999.0,9,     -999.0,9,     -999.0,9,     -999.0,9,     -999.0,20110331,       2319
320620110219,       S04P,     100,          1,         25,         25,2,20110331,       2146,   -67.0000,  -140.4061,       4318,   435.2,   1.7725,  34.7134,2,  34.7130,2,    183.7,2,   183.8,2,   87.05,2,   31.58,2,    0.00,2,    2.20,2,-999.000,9,-999.000,9,-999.000,9,-999.0000,9,  2253.6,2,  2345.9,2,   7.5808,2,    25.00,-999.000,9,-999.0000,9,-999.000,9,   1.7726,2, -999.00,9,  -999.0,9,  -999.0,-999.000,9, -999.00,9,-999.000,9,   40.97,2,   33.90,2, -67.0000,-140.4061,-999.000,     -999.0,    34.8767,2,     -999.0,9,     -999.0,9,   0.0627,3,   0.0227,3,  -0.0169,4,  -0.0225,4,  -0.0285,4,  -0.0224,4,  -0.0188,4,   0.1136,4,   0.0761,4,-999.0000,-999.000,   1.7490,     -999.0,     -999.0,9,     -999.0,9,     -999.0,9,     -999.0,9,     -999.0,20110331,       2317
320620110219,       S04P,     100,          1,         24,         24,2,20110331,       2146,   -67.0000,  -140.4061,       4318,   484.1,   1.7437,  34.7208,2,  34.7197,2,    185.0,2,   184.8,2,   88.27,2,   31.43,2,    0.00,2,    2.19,2,   0.309,2,   0.149,2,   0.015,2,   0.0940,2,  2253.5,2,  2347.7,2,   7.5850,2,    25.00,-999.000,9,-999.0000,9,-999.000,9,   1.7435,2, -999.00,9,  -999.0,9,  -999.0,-999.000,9, -999.00,9,-999.000,9,   41.49,2,   34.42,2, -67.0001,-140.4061,-999.000,     -999.0,    34.8834,2,     -999.0,9,     -999.0,9,-999.0000,9,-999.0000,9,-999.0000,9,-999.0000,9,-999.0000,9,-999.0000,9,-999.0000,9,-999.0000,9,-999.0000,9,-999.0000,-999.000,   1.7175,     -999.0,     -999.0,9,     -999.0,9,     -999.0,9,     -999.0,9,     -999.0,20110331,       2315
320620110219,       S04P,     100,          1,         23,         23,2,20110331,       2146,   -67.0000,  -140.4061,       4318,   563.4,   1.6744,  34.7273,2,  34.7266,2,    187.5,2,   186.5,2,   90.53,2,   31.39,2,    0.00,2,    2.21,2,-999.000,9,-999.000,9,-999.000,9,-999.0000,9,  -999.0,9,  -999.0,9,-999.0000,9,  -999.00,-999.000,9,-999.0000,9,-999.000,9,   1.6743,2, -999.00,9,  -999.0,9,  -999.0,-999.000,9, -999.00,9,-999.000,9,   41.27,2,   33.48,2, -67.0000,-140.4060,-999.000,     -999.0,    34.8903,2,     -999.0,9,     -999.0,9,-999.0000,9,-999.0000,9,-999.0000,9,-999.0000,9,-999.0000,9,-999.0000,9,-999.0000,9,-999.0000,9,-999.0000,9,-999.0000,-999.000,   1.6439,     -999.0,     -999.0,9,     -999.0,9,     -999.0,9,     -999.0,9,     -999.0,20110331,       2313
320620110219,       S04P,     100,          1,         22,         22,2,20110331,       2146,   -67.0000,  -140.4061,       4318,   664.9,   1.5828,  34.7308,2,  34.7305,2,    189.6,2,   188.8,2,   93.60,2,   31.29,2,    0.00,2,    2.18,2,   0.235,2,   0.116,2,   0.012,2,   0.0670,2,  2254.3,2,  2351.3,2,   7.5919,2,    25.00,-999.000,9,-999.0000,9,-999.000,9,   1.5821,2, -999.00,9,  -999.0,9,  -999.0,-999.000,9, -999.00,9,-999.000,9,   41.12,2,   33.53,2, -67.0000,-140.4061,-999.000,     -999.0,    34.8943,2,     -999.0,9,     -999.0,9,   0.0672,3,   0.0260,3,  -0.0158,4,  -0.0195,4,  -0.0260,4,  -0.0212,4,  -0.0184,4,   0.0920,3,   0.0714,4,-999.0000,-999.000,   1.5467,     -999.0,     -999.0,9,     -999.0,9,     -999.0,9,     -999.0,9,     -999.0,20110331,       2311
320620110219,       S04P,     100,          1,         21,         21,2,20110331,       2146,   -67.0000,  -140.4061,       4318,   765.3,   1.4871,  34.7325,2,  34.7323,2,    191.6,2,   190.7,2,   96.78,2,   31.41,2,    0.00,2,    2.17,2,-999.000,9,-999.000,9,-999.000,9,-999.0000,9,  -999.0,9,  -999.0,9,-999.0000,9,  -999.00,-999.000,9,-999.0000,9,-999.000,9,   1.4862,2, -999.00,9,  -999.0,9,  -999.0,-999.000,9, -999.00,9,-999.000,9,   41.19,2,   34.16,2, -67.0001,-140.4061,-999.000,     -999.0,    34.8960,2,     -999.0,9,     -999.0,9,-999.0000,9,-999.0000,9,-999.0000,9,-999.0000,9,-999.0000,9,-999.0000,9,-999.0000,9,-999.0000,9,-999.0000,9,-999.0000,-999.000,   1.4455,     -999.0,     -999.0,9,     -999.0,9,     -999.0,9,     -999.0,9,     -999.0,20110331,       2308
320620110219,       S04P,     100,          1,         20,         20,2,20110331,       2146,   -67.0000,  -140.4061,       4318,   865.7,   1.3948,  34.7312,2,  34.7315,2,    192.4,2,   191.2,2,   99.92,2,   31.56,2,    0.00,2,    2.19,2,   0.188,2,   0.088,2,   0.010,2,   0.0580,2,  2256.8,2,  2355.5,2,   7.5932,2,    25.00,-999.000,9,-999.0000,9,-999.000,9,   1.3947,2, -999.00,9,  -999.0,9,  -999.0,-999.000,9, -999.00,9,-999.000,9,   40.90,2,   33.65,2, -67.0001,-140.4061,-999.000,     -999.0,    34.8952,2,     -999.0,9,     -999.0,9,-999.0000,9,-999.0000,9,-999.0000,9,-999.0000,9,-999.0000,9,-999.0000,9,-999.0000,9,-999.0000,9,-999.0000,9,-999.0000,-999.000,   1.3476,     -999.0,     -999.0,9,     -999.0,9,     -999.0,9,     -999.0,9,     -999.0,20110331,       2305
320620110219,       S04P,     100,          1,         19,         19,2,20110331,       2146,   -67.0000,  -140.4061,       4318,   964.4,   1.3073,  34.7301,2,  34.7299,2,    192.7,2,   193.9,2,  102.74,2,   31.58,2,    0.00,2,    2.19,2,-999.000,9,-999.000,9,-999.000,9,-999.0000,9,  -999.0,9,  -999.0,9,-999.0000,9,  -999.00,-999.000,9,-999.0000,9,-999.000,9,   1.3056,2, -999.00,9,  -999.0,9,  -999.0,-999.000,9, -999.00,9,-999.000,9,   40.17,2,   33.81,2, -67.0001,-140.4061,-999.000,     -999.0,    34.8937,2,     -999.0,9,     -999.0,9,   0.0676,3,   0.0270,3,  -0.0123,4,  -0.0202,4,  -0.0265,4,  -0.0209,4,  -0.0180,4,   0.1023,4,   0.0702,4,-999.0000,-999.000,   1.2546,     -999.0,     -999.0,9,     -999.0,9,     -999.0,9,     -999.0,9,     -999.0,20110331,       2302
320620110219,       S04P,     100,          1,         18,         18,2,20110331,       2146,   -67.0000,  -140.4061,       4318,  1064.8,   1.2444,  34.7281,2,  34.7277,2,    194.8,2,   193.9,2,  104.63,2,   31.96,2,    0.00,2,    2.20,2,   0.149,2,   0.073,2,   0.009,2,   0.0490,2,  2257.8,2,  2356.4,6,   7.5974,2,    25.00,-999.000,9,-999.0000,9,-999.000,9,   1.2447,2, -999.00,9,  -999.0,9,  -999.0,-999.000,9, -999.00,9,-999.000,9,   40.81,2,   34.28,2, -67.0001,-140.4061,-999.000,     -999.0,    34.8915,2,     -999.0,9,     -999.0,9,-999.0000,9,-999.0000,9,-999.0000,9,-999.0000,9,-999.0000,9,-999.0000,9,-999.0000,9,-999.0000,9,-999.0000,9,-999.0000,-999.000,   1.1859,     -999.0,     -999.0,9,     -999.0,9,     -999.0,9,     -999.0,9,     -999.0,20110331,       2259
320620110219,       S04P,     100,          1,         17,         17,2,20110331,       2146,   -67.0000,  -140.4061,       4318,  1164.6,   1.1756,  34.7258,2,  34.7254,2,    195.5,2,   195.1,2,  107.37,2,   31.75,2,    0.00,2,    2.20,2,-999.000,9,-999.000,9,-999.000,9,-999.0000,9,  -999.0,9,  -999.0,9,-999.0000,9,  -999.00,-999.000,9,-999.0000,9,-999.000,9,   1.1756,2, -999.00,9,  -999.0,9,  -999.0,-999.000,9, -999.00,9,-999.000,9,   40.23,2,   34.83,2, -67.0001,-140.4061,-999.000,     -999.0,    34.8891,2,     -999.0,9,     -999.0,9,-999.0000,9,-999.0000,9,-999.0000,9,-999.0000,9,-999.0000,9,-999.0000,9,-999.0000,9,-999.0000,9,-999.0000,9,-999.0000,-999.000,   1.1113,     -999.0,     -999.0,9,     -999.0,9,     -999.0,9,     -999.0,9,     -999.0,20110331,       2257
320620110219,       S04P,     100,          1,         16,         16,2,20110331,       2146,   -67.0000,  -140.4061,       4318,  1264.0,   1.0988,  34.7235,2,  34.7228,2,    196.4,2,   196.2,2,  109.93,2,   31.97,2,    0.00,2,    2.21,2,   0.123,2,   0.061,2,   0.005,2,   0.0140,2,  2260.2,2,  2358.1,2,   7.5950,6,    25.00,-999.000,9,-999.0000,9,-999.000,9,   1.0987,2, -999.00,9,  -999.0,9,  -999.0,-999.000,9, -999.00,9,-999.000,9,   39.65,2,   34.79,2, -67.0001,-140.4061,-999.000,     -999.0,    34.8865,2,     -999.0,9,     -999.0,9,   0.0726,3,   0.0317,3,  -0.0100,4,  -0.0164,4,  -0.0239,4,  -0.0203,4,  -0.0179,4,   0.0837,4,   0.0645,4,-999.0000,-999.000,   1.0287,     -999.0,     -999.0,9,     -999.0,9,     -999.0,9,     -999.0,9,     -999.0,20110331,       2254
320620110219,       S04P,     100,          1,         15,         15,2,20110331,       2146,   -67.0000,  -140.4061,       4318,  1364.3,   1.0403,  34.7213,2,  34.7212,2,    197.2,2,   197.8,2,  111.09,2,   31.94,2,    0.00,2,    2.21,2,-999.000,9,-999.000,9,-999.000,9,-999.0000,9,  -999.0,9,  -999.0,9,-999.0000,9,  -999.00,-999.000,9,-999.0000,9,-999.000,9,   1.0390,2, -999.00,9,  -999.0,9,  -999.0,-999.000,9, -999.00,9,-999.000,9,   39.56,2,   34.60,2, -67.0001,-140.4061,-999.000,     -999.0,    34.8850,2,     -999.0,9,     -999.0,9,-999.0000,9,-999.0000,9,-999.0000,9,-999.0000,9,-999.0000,9,-999.0000,9,-999.0000,9,-999.0000,9,-999.0000,9,-999.0000,-999.000,   0.9642,     -999.0,     -999.0,9,     -999.0,9,     -999.0,9,     -999.0,9,     -999.0,20110331,       2251
320620110219,       S04P,     100,          1,         14,         14,2,20110331,       2146,   -67.0000,  -140.4061,       4318,  1463.7,   0.9840,  34.7188,2,  34.7185,2,    198.7,2,   198.5,2,  113.01,2,   32.01,2,    0.00,2,    2.22,2,   0.113,2,   0.058,2,   0.005,2,   0.0120,2,  2261.1,6,  2360.0,2,   7.5974,2,    25.00,-999.000,9,-999.0000,9,-999.000,9,   0.9839,2, -999.00,9,  -999.0,9,  -999.0,-999.000,9, -999.00,9,-999.000,9,   40.22,2,   34.40,2, -67.0001,-140.4061,-999.000,     -999.0,    34.8822,2,     -999.0,9,     -999.0,9,-999.0000,9,-999.0000,9,-999.0000,9,-999.0000,9,-999.0000,9,-999.0000,9,-999.0000,9,-999.0000,9,-999.0000,9,-999.0000,-999.000,   0.9018,     -999.0,     -999.0,9,     -999.0,9,     -999.0,9,     -999.0,9,     -999.0,20110331,       2249