BOTTLE,20220813CCHSIOAMB
EXPOCODE,SECT_ID,STNNBR,CASTNO,SAMPNO,BTLNBR,BTLNBR_FLAG_W,DATE,TIME,LATITUDE,LONGITUDE,DEPTH,CTDPRS,CTDTMP,CTDSAL,CTDSAL_FLAG_W,SALNTY,SALNTY_FLAG_W,CTDOXY,CTDOXY_FLAG_W,OXYGEN,OXYGEN_FLAG_W,SILCAT,SILCAT_FLAG_W,NITRAT,NITRAT_FLAG_W,NITRIT,NITRIT_FLAG_W,PHSPHT,PHSPHT_FLAG_W,CFC-11,CFC-11_FLAG_W,CFC-12,CFC-12_FLAG_W,CFC113,CFC113_FLAG_W,SF6,SF6_FLAG_W,TCARBN,TCARBN_FLAG_W,ALKALI,ALKALI_FLAG_W,PH_TOT,PH_TOT_FLAG_W,PH_TMP,TRITUM,TRITUM_FLAG_W,HELIUM,HELIUM_FLAG_W,DELHE3,DELHE3_FLAG_W,REFTMP,REFTMP_FLAG_W,DELC13,DELC13_FLAG_W,DELC14,DELC14_FLAG_W,C14ERR,NEON,NEON_FLAG_W,DELO18,DELO18_FLAG_W,POC,POC_FLAG_W,DOC,DOC_FLAG_W,TDN,TDN_FLAG_W,BTL_LAT,BTL_LON,TRITER,NEONER,SALTREF,SALTREF_FLAG_W,PIGMENTS,PIGMENTS_FLAG_W,LAB_DEN,LAB_DEN_FLAG_W,CDOM325,CDOM325_FLAG_W,CDOM340,CDOM340_FLAG_W,CDOM380,CDOM380_FLAG_W,CDOM412,CDOM412_FLAG_W,CDOM443,CDOM443_FLAG_W,CDOM490,CDOM490_FLAG_W,CDOM555,CDOM555_FLAG_W,CDOMSL,CDOMSL_FLAG_W,CDOMSN,CDOMSN_FLAG_W,HELIER,DELHER,THETA,LDEO_SAMPNO,ABSORBTION,ABSORBTION_FLAG_W,IMAGE_COUNT,IMAGE_COUNT_FLAG_W,CYTO_COUNT,CYTO_COUNT_FLAG_W,DELD,DELD_FLAG_W,DELDERR,BTL_DATE,BTL_TIME
,,,,,,,,,,,METERS,DBAR,ITS-90,PSS-78,,PSS-78,,UMOL/KG,,UMOL/KG,,UMOL/KG,,UMOL/KG,,UMOL/KG,,UMOL/KG,,PMOL/KG,,PMOL/KG,,PMOL/KG,,FMOL/KG,,UMOL/KG,,UMOL/KG,,,,DEG C,TU,,NMOL/KG,,PERCNT,,DEG C,,/MILLE,,/MILLE,,/MILLE,NMOL/KG,,/MILLE,,UG/KG,,UMOL/KG,,UMOL/KG,,,,TU,NMOL/KG,G/KG,,,,,,1/M,,1/M,,1/M,,1/M,,1/M,,1/M,,1/M,,1/NM,,1/NM,,NMOL/KG,PERCNT,DEG C,,,,,,,,/MILLE,,/MILLE,,
320620110219,       P16S,      59,          2,         13,         13,2,20110315,       1344,   -73.9782,  -149.9634,       4040,  1465.2,   1.0266,  34.7203,2,  34.7200,2,    197.3,2,   197.4,2,  113.36,2,   32.37,2,    0.00,2,    2.22,2,-999.000,9,-999.000,9,-999.000,9,-999.0000,9,  -999.0,9,  -999.0,9,-999.0000,9,  -999.00,-999.000,9,-999.0000,9,-999.000,9,   1.0263,2, -999.00,9,  -999.0,9,  -999.0,-999.000,9, -999.00,9,-999.000,9, -999.00,9, -999.00,9, -73.9782,-149.9634,-999.000,     -999.0,    34.8837,2,     -999.0,9,     -999.0,9,-999.0000,9,-999.0000,9,-999.0000,9,-999.0000,9,-999.0000,9,-999.0000,9,-999.0000,9,-999.0000,9,-999.0000,9,-999.0000,-999.000,   0.9438,     -999.0,     -999.0,9,     -999.0,9,     -999.0,9,     -999.0,9,     -999.0,20110315,       1441
320620110219,       P16S,      59,          2,         12,         12,2,20110315,       1344,   -73.9782,  -149.9634,       4040,  1564.8,   0.9722,  34.7183,2,  34.7176,2,    198.7,2,   198.3,2,  115.07,2,   32.37,2,    0.00,2,    2.23,2,   0.112,2,   0.054,2,   0.010,2,-999.0000,9,  -999.0,9,  2358.6,2,   7.5920,2,    25.00,-999.000,9,-999.0000,9,-999.000,9,   0.9722,2,    0.40,2,  -160.5,2,     3.5,-999.000,9, -999.00,9,-999.000,9, -999.00,9, -999.00,9, -73.9782,-149.9634,-999.000,     -999.0,    34.8813,2,     -999.0,9,     -999.0,9,-999.0000,9,-999.0000,9,-999.0000,9,-999.0000,9,-999.0000,9,-999.0000,9,-999.0000,9,-999.0000,9,-999.0000,9,-999.0000,-999.000,   0.8831,     -999.0,     -999.0,9,     -999.0,9,     -999.0,9,     -999.0,9,     -999.0,20110315,       1439
320620110219,       P16S,      59,          2,         11,         11,2,20110315,       1344,   -73.9782,  -149.9634,       4040,  1734.1,   0.8936,  34.7152,2,  34.7145,2,    200.5,2,   200.1,2,  117.89,2,   32.44,2,    0.00,2,    2.23,2,-999.000,9,-999.000,9,-999.000,9,-999.0000,9,  2261.2,2,  2359.7,2,   7.5920,2,    25.00,-999.000,9,-999.0000,9,-999.000,9,   0.8936,2,    0.41,2,  -162.0,2,     2.7,-999.000,9, -999.00,9,-999.000,9, -999.00,9, -999.00,9, -73.9782,-149.9634,-999.000,     -999.0,    34.8782,2,     -999.0,9,     -999.0,9,-999.0000,9,-999.0000,9,-999.0000,9,-999.0000,9,-999.0000,9,-999.0000,9,-999.0000,9,-999.0000,9,-999.0000,9,-999.0000,-999.000,   0.7935,     -999.0,     -999.0,9,     -999.0,9,     -999.0,9,     -999.0,9,     -999.0,20110315,       1435
320620110219,       P16S,      59,          2,         10,         37,2,20110315,       1344,   -73.9782,  -149.9634,       4040,  1935.2,   0.8114,  34.7118,2,  34.7115,2,    202.0,2,   202.0,2,  120.83,2,   32.51,2,    0.00,2,    2.23,2,-999.000,9,-999.000,9,-999.000,9,-999.0000,9,  -999.0,9,  2359.0,2,   7.5912,2,    25.00,-999.000,9,-999.0000,9,-999.000,9,   0.8108,2,    0.36,2,  -164.2,2,     2.5,-999.000,9, -999.00,9,-999.000,9, -999.00,9, -999.00,9, -73.9782,-149.9634,-999.000,     -999.0,    34.8752,2,     -999.0,9,     -999.0,9,-999.0000,9,-999.0000,9,-999.0000,9,-999.0000,9,-999.0000,9,-999.0000,9,-999.0000,9,-999.0000,9,-999.0000,9,-999.0000,-999.000,   0.6978,     -999.0,     -999.0,9,     -999.0,9,     -999.0,9,     -999.0,9,     -999.0,20110315,       1431
320620110219,       P16S,      59,          2,          9,          9,2,20110315,       1344,   -73.9782,  -149.9634,       4040,  2164.1,   0.7224,  34.7086,2,  34.7080,2,    204.4,2,   204.3,2,  124.12,2,   32.55,2,    0.00,2,    2.23,2,-999.000,9,-999.000,9,-999.000,9,-999.0000,9,  -999.0,9,  -999.0,9,-999.0000,9,  -999.00,-999.000,9,-999.0000,9,-999.000,9,   0.7229,2, -999.00,9,  -999.0,9,  -999.0,-999.000,9, -999.00,9,-999.000,9, -999.00,9, -999.00,9, -73.9782,-149.9634,-999.000,     -999.0,    34.8716,2,     -999.0,9,     -999.0,9,-999.0000,9,-999.0000,9,-999.0000,9,-999.0000,9,-999.0000,9,-999.0000,9,-999.0000,9,-999.0000,9,-999.0000,9,-999.0000,-999.000,   0.5928,     -999.0,     -999.0,9,     -999.0,9,     -999.0,9,     -999.0,9,     -999.0,20110315,       1426
320620110219,       P16S,      59,          2,          8,          8,2,20110315,       1344,   -73.9782,  -149.9634,       4040,  2415.3,   0.6357,  34.7063,2,  34.7052,2,    206.3,2,   206.6,2,  126.00,2,   32.58,2,    0.00,2,    2.24,2,   0.155,2,   0.073,2,   0.009,2,-999.0000,9,  2261.6,2,  2360.4,2,   7.5910,2,    25.00,-999.000,9,-999.0000,9,-999.000,9,   0.6357,2,    0.41,2,  -156.8,2,     2.4,-999.000,9, -999.00,9,-999.000,9, -999.00,9, -999.00,9, -73.9782,-149.9634,-999.000,     -999.0,    34.8689,2,     -999.0,9,     -999.0,9,-999.0000,9,-999.0000,9,-999.0000,9,-999.0000,9,-999.0000,9,-999.0000,9,-999.0000,9,-999.0000,9,-999.0000,9,-999.0000,-999.000,   0.4877,     -999.0,     -999.0,9,     -999.0,9,     -999.0,9,     -999.0,9,     -999.0,20110315,       1421
320620110219,       P16S,      59,          2,          7,          7,2,20110315,       1344,   -73.9782,  -149.9634,       4040,  2664.6,   0.5475,  34.7047,2,  34.7038,2,    208.3,2,   208.2,2,  127.72,2,   32.69,2,    0.00,2,    2.24,2,-999.000,9,-999.000,9,-999.000,9,-999.0000,9,  -999.0,9,  2359.0,2,   7.5928,2,    25.00,-999.000,9,-999.0000,9,-999.000,9,   0.5479,2,    0.35,2,  -166.1,2,     2.4,-999.000,9, -999.00,9,-999.000,9, -999.00,9, -999.00,9, -73.9782,-149.9634,-999.000,     -999.0,    34.8675,2,     -999.0,9,     -999.0,9,-999.0000,9,-999.0000,9,-999.0000,9,-999.0000,9,-999.0000,9,-999.0000,9,-999.0000,9,-999.0000,9,-999.0000,9,-999.0000,-999.000,   0.3807,     -999.0,     -999.0,9,     -999.0,9,     -999.0,9,     -999.0,9,     -999.0,20110315,       1416
320620110219,       P16S,      59,          2,          6,          6,2,20110315,       1344,   -73.9782,  -149.9634,       4040,  2915.4,   0.4768,  34.7041,2,  34.7034,2,    209.9,2,   209.9,2,  129.95,2,   32.63,2,    0.00,2,    2.24,2,   0.183,2,   0.083,2,   0.017,2,-999.0000,9,  -999.0,9,  -999.0,9,-999.0000,9,  -999.00,-999.000,9,-999.0000,9,-999.000,9,   0.4769,2, -999.00,9,  -999.0,9,  -999.0,-999.000,9, -999.00,9,-999.000,9, -999.00,9, -999.00,9, -73.9782,-149.9634,-999.000,     -999.0,    34.8671,2,     -999.0,9,     -999.0,9,-999.0000,9,-999.0000,9,-999.0000,9,-999.0000,9,-999.0000,9,-999.0000,9,-999.0000,9,-999.0000,9,-999.0000,9,-999.0000,-999.000,   0.2900,     -999.0,     -999.0,9,     -999.0,9,     -999.0,9,     -999.0,9,     -999.0,20110315,       1410
320620110219,       P16S,      59,          2,          5,          5,2,20110315,       1344,   -73.9782,  -149.9634,       4040,  3199.3,   0.4189,  34.7038,2,  34.7030,2,    211.5,2,   211.4,2,  132.46,2,   32.70,2,    0.00,2,    2.25,2,-999.000,9,-999.000,9,-999.000,9,-999.0000,9,  2262.9,2,  2361.1,2,   7.5922,2,    25.00,-999.000,9,-999.0000,9,-999.000,9,   0.4191,2,    0.42,2,  -164.2,2,     2.3,-999.000,9, -999.00,9,-999.000,9, -999.00,9, -999.00,9, -73.9782,-149.9634,-999.000,     -999.0,    34.8666,2,     -999.0,9,     -999.0,9,-999.0000,9,-999.0000,9,-999.0000,9,-999.0000,9,-999.0000,9,-999.0000,9,-999.0000,9,-999.0000,9,-999.0000,9,-999.0000,-999.000,   0.2081,     -999.0,     -999.0,9,     -999.0,9,     -999.0,9,     -999.0,9,     -999.0,20110315,       1405
320620110219,       P16S,      59,          2,          4,          4,2,20110315,       1344,   -73.9782,  -149.9634,       4040,  3500.7,   0.3763,  34.7032,2,  34.7024,2,    213.2,2,   212.6,2,  135.10,2,   32.74,2,    0.00,2,    2.25,2,   0.174,2,   0.089,2,   0.011,2,-999.0000,9,  2263.0,2,  2361.1,2,   7.5910,2,    25.00,-999.000,9,-999.0000,9,-999.000,9,   0.3761,2,    0.46,2,  -163.7,2,     3.0,-999.000,9, -999.00,9,-999.000,9, -999.00,9, -999.00,9, -73.9782,-149.9634,-999.000,     -999.0,    34.8660,2,     -999.0,9,     -999.0,9,-999.0000,9,-999.0000,9,-999.0000,9,-999.0000,9,-999.0000,9,-999.0000,9,-999.0000,9,-999.0000,9,-999.0000,9,-999.0000,-999.000,   0.1384,     -999.0,     -999.0,9,     -999.0,9,     -999.0,9,     -999.0,9,     -999.0,20110315,       1358
320620110219,       P16S,      59,          2,          3,          3,2,20110315,       1344,   -73.9782,  -149.9634,       4040,  3800.4,   0.3416,  34.7025,2,  34.7014,2,    214.5,2,   214.1,2,  137.38,2,   32.79,2,    0.00,2,    2.24,2,   0.247,2,   0.124,2,   0.010,2,-999.0000,9,  2262.9,2,  2361.9,6,   7.5879,2,    25.00,-999.000,9,-999.0000,9,-999.000,9,   0.3414,2,    0.42,2,  -167.1,2,     2.4,-999.000,9, -999.00,9,-999.000,9, -999.00,9, -999.00,9, -73.9782,-149.9634,-999.000,     -999.0,    34.8650,2,     -999.0,9,     -999.0,9,-999.0000,9,-999.0000,9,-999.0000,9,-999.0000,9,-999.0000,9,-999.0000,9,-999.0000,9,-999.0000,9,-999.0000,9,-999.0000,-999.000,   0.0755,     -999.0,     -999.0,9,     -999.0,9,     -999.0,9,     -999.0,9,     -999.0,20110315,       1352
320620110219,       P16S,      59,          2,          2,          2,2,20110315,       1344,   -73.9782,  -149.9634,       4040,  4059.7,   0.2615,  34.6990,2,  34.6980,2,    217.6,2,   217.7,2,  131.34,2,   32.64,2,    0.00,2,    2.24,2,   0.560,2,   0.268,2,   0.027,2,-999.0000,9,  2262.3,6,  2359.0,2,   7.5881,2,    25.00,-999.000,9,-999.0000,9,-999.000,9,   0.2614,2,    0.43,2,  -161.9,2,     2.4,-999.000,9, -999.00,9,-999.000,9, -999.00,9, -999.00,9, -73.9782,-149.9634,-999.000,     -999.0,    34.8617,2,     -999.0,9,     -999.0,9,-999.0000,9,-999.0000,9,-999.0000,9,-999.0000,9,-999.0000,9,-999.0000,9,-999.0000,9,-999.0000,9,-999.0000,9,-999.0000,-999.000,  -0.0284,     -999.0,     -999.0,9,     -999.0,9,     -999.0,9,     -999.0,9,     -999.0,20110315,       1346
320620110219,       P16S,      59,          2,          1,          1,2,20110315,       1344,   -73.9782,  -149.9634,       4040,  4110.0,   0.2116,  34.6975,2,  34.6968,2,    218.9,2,   218.8,2,  128.04,2,   32.55,2,    0.00,2,    2.25,2,   0.750,2,   0.361,2,   0.031,2,-999.0000,9,  2261.3,2,  2358.0,2,   7.5865,6,    25.00,-999.000,9,-999.0000,9,-999.000,9,   0.2126,2,    0.37,2,  -160.5,2,     3.4,-999.000,9, -999.00,9,-999.000,9, -999.00,9, -999.00,9, -73.9782,-149.9634,-999.000,     -999.0,    34.8605,2,     -999.0,9,     -999.0,9,-999.0000,9,-999.0000,9,-999.0000,9,-999.0000,9,-999.0000,9,-999.0000,9,-999.0000,9,-999.0000,9,-999.0000,9,-999.0000,-999.000,  -0.0820,     -999.0,     -999.0,9,     -999.0,9,     -999.0,9,     -999.0,9,     -999.0,20110315,       1344