BOTTLE,20220813CCHSIOAMB
EXPOCODE,SECT_ID,STNNBR,CASTNO,SAMPNO,BTLNBR,BTLNBR_FLAG_W,DATE,TIME,LATITUDE,LONGITUDE,DEPTH,CTDPRS,CTDTMP,CTDSAL,CTDSAL_FLAG_W,SALNTY,SALNTY_FLAG_W,CTDOXY,CTDOXY_FLAG_W,OXYGEN,OXYGEN_FLAG_W,SILCAT,SILCAT_FLAG_W,NITRAT,NITRAT_FLAG_W,NITRIT,NITRIT_FLAG_W,PHSPHT,PHSPHT_FLAG_W,CFC-11,CFC-11_FLAG_W,CFC-12,CFC-12_FLAG_W,CFC113,CFC113_FLAG_W,SF6,SF6_FLAG_W,TCARBN,TCARBN_FLAG_W,ALKALI,ALKALI_FLAG_W,PH_TOT,PH_TOT_FLAG_W,PH_TMP,TRITUM,TRITUM_FLAG_W,HELIUM,HELIUM_FLAG_W,DELHE3,DELHE3_FLAG_W,REFTMP,REFTMP_FLAG_W,DELC13,DELC13_FLAG_W,DELC14,DELC14_FLAG_W,C14ERR,NEON,NEON_FLAG_W,DELO18,DELO18_FLAG_W,POC,POC_FLAG_W,DOC,DOC_FLAG_W,TDN,TDN_FLAG_W,BTL_LAT,BTL_LON,TRITER,NEONER,SALTREF,SALTREF_FLAG_W,PIGMENTS,PIGMENTS_FLAG_W,LAB_DEN,LAB_DEN_FLAG_W,CDOM325,CDOM325_FLAG_W,CDOM340,CDOM340_FLAG_W,CDOM380,CDOM380_FLAG_W,CDOM412,CDOM412_FLAG_W,CDOM443,CDOM443_FLAG_W,CDOM490,CDOM490_FLAG_W,CDOM555,CDOM555_FLAG_W,CDOMSL,CDOMSL_FLAG_W,CDOMSN,CDOMSN_FLAG_W,HELIER,DELHER,THETA,LDEO_SAMPNO,ABSORBTION,ABSORBTION_FLAG_W,IMAGE_COUNT,IMAGE_COUNT_FLAG_W,CYTO_COUNT,CYTO_COUNT_FLAG_W,DELD,DELD_FLAG_W,DELDERR,BTL_DATE,BTL_TIME
,,,,,,,,,,,METERS,DBAR,ITS-90,PSS-78,,PSS-78,,UMOL/KG,,UMOL/KG,,UMOL/KG,,UMOL/KG,,UMOL/KG,,UMOL/KG,,PMOL/KG,,PMOL/KG,,PMOL/KG,,FMOL/KG,,UMOL/KG,,UMOL/KG,,,,DEG C,TU,,NMOL/KG,,PERCNT,,DEG C,,/MILLE,,/MILLE,,/MILLE,NMOL/KG,,/MILLE,,UG/KG,,UMOL/KG,,UMOL/KG,,,,TU,NMOL/KG,G/KG,,,,,,1/M,,1/M,,1/M,,1/M,,1/M,,1/M,,1/M,,1/NM,,1/NM,,NMOL/KG,PERCNT,DEG C,,,,,,,,/MILLE,,/MILLE,,
320620110219,       P16S,      52,          1,         36,         36,2,20110313,       0857,   -70.4851,  -150.0043,       4322,     5.5,  -0.7044,  33.6798,2,  33.6795,2,    341.8,3,   347.0,2,   36.41,2,   22.57,2,    0.14,2,    1.56,2,   6.060,2,   3.288,2,   0.592,2,   2.4740,2,  2141.1,2,  2280.9,2,   7.7346,2,    25.00,-999.000,9,-999.0000,9,-999.000,9,  -0.7055,2, -999.00,9,  -999.0,9,  -999.0,-999.000,9, -999.00,9,-999.000,9,   45.22,2,   27.52,2, -70.4851,-150.0041,-999.000,     -999.0,    33.8384,2,     -999.0,9,     -999.0,9,-999.0000,9,-999.0000,9,-999.0000,9,-999.0000,9,-999.0000,9,-999.0000,9,-999.0000,9,-999.0000,9,-999.0000,9,-999.0000,-999.000,  -0.7046,     -999.0,     -999.0,9,     -999.0,9,     -999.0,9,     -999.0,9,     -999.0,20110313,       1049
320620110219,       P16S,      52,          1,         35,         35,2,20110313,       0857,   -70.4851,  -150.0043,       4322,    34.6,  -0.7206,  33.6813,2,  33.6811,2,    346.9,2,   346.5,2,   36.50,2,   22.65,2,    0.14,2,    1.57,2,-999.000,9,-999.000,9,-999.000,9,-999.0000,9,  2140.7,6,  2285.9,2,   7.7353,2,    25.00,-999.000,9,-999.0000,9,-999.000,9,  -0.7223,2, -999.00,9,  -999.0,9,  -999.0,-999.000,9, -999.00,9,-999.000,9,   45.39,2,   27.58,2, -70.4851,-150.0041,-999.000,     -999.0,    33.8399,2,     -999.0,9,     -999.0,9,-999.0000,9,-999.0000,9,-999.0000,9,-999.0000,9,-999.0000,9,-999.0000,9,-999.0000,9,-999.0000,9,-999.0000,9,-999.0000,-999.000,  -0.7215,     -999.0,     -999.0,9,     -999.0,9,     -999.0,9,     -999.0,9,     -999.0,20110313,       1048
320620110219,       P16S,      52,          1,         34,         34,2,20110313,       0857,   -70.4851,  -150.0043,       4322,    58.8,  -1.3356,  34.0639,2,  34.0660,2,    302.7,2,   302.6,2,   49.71,2,   28.19,2,    0.16,2,    2.00,2,   4.999,2,   2.707,2,   0.469,2,   2.0890,2,  2196.3,2,  2300.7,6,   7.6326,2,    25.00,-999.000,9,-999.0000,9,-999.000,9,  -1.3363,2, -999.00,9,  -999.0,9,  -999.0,-999.000,9, -999.00,9,-999.000,9,   45.37,2,   32.75,2, -70.4851,-150.0041,-999.000,     -999.0,    34.2266,2,     -999.0,9,     -999.0,9,-999.0000,9,-999.0000,9,-999.0000,9,-999.0000,9,-999.0000,9,-999.0000,9,-999.0000,9,-999.0000,9,-999.0000,9,-999.0000,-999.000,  -1.3370,     -999.0,     -999.0,9,     -999.0,9,     -999.0,9,     -999.0,9,     -999.0,20110313,       1046
320620110219,       P16S,      52,          1,         33,         33,2,20110313,       0857,   -70.4851,  -150.0043,       4322,    84.6,  -0.9881,  34.1514,2,  34.1427,2,    282.8,2,   284.6,2,   53.94,2,   29.07,2,    0.15,2,    2.07,2,   4.504,2,   2.424,2,   0.428,2,   1.8280,2,  2206.1,2,  2304.9,2,   7.6118,2,    25.00,-999.000,9,-999.0000,9,-999.000,9,  -0.9630,2, -999.00,9,  -999.0,9,  -999.0,-999.000,9, -999.00,9,-999.000,9,   44.45,2,   33.51,2, -70.4851,-150.0041,-999.000,     -999.0,    34.3037,2,     -999.0,9,     -999.0,9,-999.0000,9,-999.0000,9,-999.0000,9,-999.0000,9,-999.0000,9,-999.0000,9,-999.0000,9,-999.0000,9,-999.0000,9,-999.0000,-999.000,  -0.9903,     -999.0,     -999.0,9,     -999.0,9,     -999.0,9,     -999.0,9,     -999.0,20110313,       1045
320620110219,       P16S,      52,          1,         32,         32,2,20110313,       0857,   -70.4851,  -150.0043,       4322,   110.4,  -0.5186,  34.2254,2,  34.2454,2,    259.4,2,   259.2,2,   60.35,2,   30.50,2,    0.07,2,    2.14,2,   3.709,2,   2.024,2,   0.349,2,   1.3160,2,  2218.1,2,  2311.1,2,   7.5927,2,    25.00,-999.000,9,-999.0000,9,-999.000,9,  -0.5052,2, -999.00,9,  -999.0,9,  -999.0,-999.000,9, -999.00,9,-999.000,9,   44.03,2,   34.88,2, -70.4851,-150.0041,-999.000,     -999.0,    34.4069,2,     -999.0,9,     -999.0,9,-999.0000,9,-999.0000,9,-999.0000,9,-999.0000,9,-999.0000,9,-999.0000,9,-999.0000,9,-999.0000,9,-999.0000,9,-999.0000,-999.000,  -0.5220,     -999.0,     -999.0,9,     -999.0,9,     -999.0,9,     -999.0,9,     -999.0,20110313,       1043
320620110219,       P16S,      52,          1,         31,         31,2,20110313,       0857,   -70.4851,  -150.0043,       4322,   134.5,   0.8716,  34.4337,2,  34.4270,2,    216.7,2,   213.9,2,   70.52,2,   32.60,2,    0.02,2,    2.26,2,   2.231,2,   1.217,2,   0.190,2,   0.6760,2,  2238.6,2,  2323.4,2,   7.5595,2,    25.00,-999.000,9,-999.0000,9,-999.000,9,   0.8711,2, -999.00,9,  -999.0,9,  -999.0,-999.000,9, -999.00,9,-999.000,9,   43.72,2,   36.60,2, -70.4851,-150.0041,-999.000,     -999.0,    34.5894,2,     -999.0,9,     -999.0,9,-999.0000,9,-999.0000,9,-999.0000,9,-999.0000,9,-999.0000,9,-999.0000,9,-999.0000,9,-999.0000,9,-999.0000,9,-999.0000,-999.000,   0.8658,     -999.0,     -999.0,9,     -999.0,9,     -999.0,9,     -999.0,9,     -999.0,20110313,       1042
320620110219,       P16S,      52,          1,         30,         30,2,20110313,       0857,   -70.4851,  -150.0043,       4322,   164.3,   1.4120,  34.5294,2,  34.5352,2,    189.7,2,   191.7,2,   76.30,2,   33.25,2,    0.01,2,    2.30,2,   1.411,2,   0.763,2,   0.121,2,   0.3250,2,  2248.5,2,  2328.7,2,   7.5515,2,    25.00,-999.000,9,-999.0000,9,-999.000,9,   1.3970,2, -999.00,9,  -999.0,9,  -999.0,-999.000,9, -999.00,9,-999.000,9,   42.73,2,   36.23,2, -70.4851,-150.0041,-999.000,     -999.0,    34.6981,2,     -999.0,9,     -999.0,9,-999.0000,9,-999.0000,9,-999.0000,9,-999.0000,9,-999.0000,9,-999.0000,9,-999.0000,9,-999.0000,9,-999.0000,9,-999.0000,-999.000,   1.4041,     -999.0,     -999.0,9,     -999.0,9,     -999.0,9,     -999.0,9,     -999.0,20110313,       1041
320620110219,       P16S,      52,          1,         29,         29,2,20110313,       0857,   -70.4851,  -150.0043,       4322,   214.9,   1.7808,  34.6234,2,  34.6207,2,    178.8,2,   179.3,2,   80.52,2,   33.13,2,    0.00,2,    2.30,2,   0.830,2,   0.437,2,   0.063,2,   0.1290,2,  2254.7,2,  2336.2,2,   7.5515,2,    25.00,-999.000,9,-999.0000,9,-999.000,9,   1.7800,2, -999.00,9,  -999.0,9,  -999.0,-999.000,9, -999.00,9,-999.000,9,   42.18,2,   35.95,2, -70.4851,-150.0041,-999.000,     -999.0,    34.7840,2,     -999.0,9,     -999.0,9,-999.0000,9,-999.0000,9,-999.0000,9,-999.0000,9,-999.0000,9,-999.0000,9,-999.0000,9,-999.0000,9,-999.0000,9,-999.0000,-999.000,   1.7696,     -999.0,     -999.0,9,     -999.0,9,     -999.0,9,     -999.0,9,     -999.0,20110313,       1039
320620110219,       P16S,      52,          1,         28,         28,2,20110313,       0857,   -70.4851,  -150.0043,       4322,   265.1,   1.8815,  34.6755,2,  34.6735,2,    177.6,2,   177.3,2,   83.06,2,   32.68,2,    0.00,2,    2.26,2,   0.521,2,   0.269,2,   0.042,2,   0.0970,2,  2255.8,2,  2339.5,2,   7.5627,2,    25.00,-999.000,9,-999.0000,9,-999.000,9,   1.8817,2, -999.00,9,  -999.0,9,  -999.0,-999.000,9, -999.00,9,-999.000,9,   41.46,2,   35.49,2, -70.4851,-150.0042,-999.000,     -999.0,    34.8370,2,     -999.0,9,     -999.0,9,-999.0000,9,-999.0000,9,-999.0000,9,-999.0000,9,-999.0000,9,-999.0000,9,-999.0000,9,-999.0000,9,-999.0000,9,-999.0000,-999.000,   1.8674,     -999.0,     -999.0,9,     -999.0,9,     -999.0,9,     -999.0,9,     -999.0,20110313,       1037
320620110219,       P16S,      52,          1,         27,         27,2,20110313,       0857,   -70.4851,  -150.0043,       4322,   314.5,   1.8663,  34.6915,2,  34.6927,2,    178.7,2,   178.9,2,   84.56,2,   32.26,2,    0.00,2,    2.25,2,   0.459,2,   0.230,2,   0.035,2,   0.0910,2,  2258.0,2,  2342.6,2,-999.0000,5,    25.00,-999.000,9,-999.0000,9,-999.000,9,   1.8667,2, -999.00,9,  -999.0,9,  -999.0,-999.000,9, -999.00,9,-999.000,9,   41.51,2,   35.00,2, -70.4851,-150.0042,-999.000,     -999.0,    34.8563,2,     -999.0,9,     -999.0,9,-999.0000,9,-999.0000,9,-999.0000,9,-999.0000,9,-999.0000,9,-999.0000,9,-999.0000,9,-999.0000,9,-999.0000,9,-999.0000,-999.000,   1.8494,     -999.0,     -999.0,9,     -999.0,9,     -999.0,9,     -999.0,9,     -999.0,20110313,       1035
320620110219,       P16S,      52,          1,         26,         26,2,20110313,       0857,   -70.4851,  -150.0043,       4322,   365.4,   1.8322,  34.7073,2,  34.7071,2,    180.8,2,   180.4,2,   86.16,2,   31.90,2,    0.00,2,    2.22,2,   0.369,2,   0.183,2,   0.025,2,   0.0570,2,  2257.3,2,  2344.1,2,   7.5747,2,    25.00,-999.000,9,-999.0000,9,-999.000,9,   1.8319,2, -999.00,9,  -999.0,9,  -999.0,-999.000,9, -999.00,9,-999.000,9,   41.22,2,   34.79,2, -70.4851,-150.0043,-999.000,     -999.0,    34.8708,2,     -999.0,9,     -999.0,9,-999.0000,9,-999.0000,9,-999.0000,9,-999.0000,9,-999.0000,9,-999.0000,9,-999.0000,9,-999.0000,9,-999.0000,9,-999.0000,-999.000,   1.8126,     -999.0,     -999.0,9,     -999.0,9,     -999.0,9,     -999.0,9,     -999.0,20110313,       1033
320620110219,       P16S,      52,          1,         25,         25,2,20110313,       0857,   -70.4851,  -150.0043,       4322,   414.4,   1.7909,  34.7159,2,  34.7156,2,    182.6,2,   182.4,2,   87.29,2,   31.78,2,    0.00,2,    2.22,2,-999.000,9,-999.000,9,-999.000,9,-999.0000,9,  2256.9,2,  2344.9,2,   7.5786,2,    25.00,-999.000,9,-999.0000,9,-999.000,9,   1.7908,2, -999.00,9,  -999.0,9,  -999.0,-999.000,9, -999.00,9,-999.000,9,   40.62,2,   34.39,2, -70.4851,-150.0043,-999.000,     -999.0,    34.8793,2,     -999.0,9,     -999.0,9,-999.0000,9,-999.0000,9,-999.0000,9,-999.0000,9,-999.0000,9,-999.0000,9,-999.0000,9,-999.0000,9,-999.0000,9,-999.0000,-999.000,   1.7686,     -999.0,     -999.0,9,     -999.0,9,     -999.0,9,     -999.0,9,     -999.0,20110313,       1030
320620110219,       P16S,      52,          1,         24,         24,2,20110313,       0857,   -70.4851,  -150.0043,       4322,   464.0,   1.7482,  34.7226,2,  34.7230,2,    184.7,2,   184.6,2,   89.27,2,   31.59,2,    0.00,2,    2.20,2,   0.297,2,   0.143,2,   0.026,2,   0.1030,2,  2256.9,2,  2347.2,2,   7.5865,2,    25.00,-999.000,9,-999.0000,9,-999.000,9,   1.7480,2, -999.00,9,  -999.0,9,  -999.0,-999.000,9, -999.00,9,-999.000,9,   40.86,2,   34.16,2, -70.4851,-150.0043,-999.000,     -999.0,    34.8867,2,     -999.0,9,     -999.0,9,-999.0000,9,-999.0000,9,-999.0000,9,-999.0000,9,-999.0000,9,-999.0000,9,-999.0000,9,-999.0000,9,-999.0000,9,-999.0000,-999.000,   1.7232,     -999.0,     -999.0,9,     -999.0,9,     -999.0,9,     -999.0,9,     -999.0,20110313,       1028
320620110219,       P16S,      52,          1,         23,         23,2,20110313,       0857,   -70.4851,  -150.0043,       4322,   534.1,   1.6831,  34.7275,2,  34.7285,2,    186.7,2,   186.8,2,   91.27,2,   31.60,2,    0.00,2,    2.18,2,-999.000,9,-999.000,9,-999.000,9,-999.0000,9,  2256.6,2,  2348.6,2,   7.5869,2,    25.00,-999.000,9,-999.0000,9,-999.000,9,   1.6834,2, -999.00,9,  -999.0,9,  -999.0,-999.000,9, -999.00,9,-999.000,9,   40.66,2,   34.19,2, -70.4851,-150.0043,-999.000,     -999.0,    34.8922,2,     -999.0,9,     -999.0,9,-999.0000,9,-999.0000,9,-999.0000,9,-999.0000,9,-999.0000,9,-999.0000,9,-999.0000,9,-999.0000,9,-999.0000,9,-999.0000,-999.000,   1.6542,     -999.0,     -999.0,9,     -999.0,9,     -999.0,9,     -999.0,9,     -999.0,20110313,       1026
320620110219,       P16S,      52,          1,         22,         22,2,20110313,       0857,   -70.4851,  -150.0043,       4322,   634.8,   1.5810,  34.7308,2,  34.7306,2,    189.1,2,   188.8,2,   94.00,2,   31.49,2,    0.00,2,    2.18,2,   0.233,2,   0.117,2,   0.016,2,   0.0560,2,  -999.0,9,  -999.0,9,-999.0000,9,  -999.00,-999.000,9,-999.0000,9,-999.000,9,   1.5809,2, -999.00,9,  -999.0,9,  -999.0,-999.000,9, -999.00,9,-999.000,9,   40.60,2,   34.43,2, -70.4851,-150.0043,-999.000,     -999.0,    34.8944,2,     -999.0,9,     -999.0,9,-999.0000,9,-999.0000,9,-999.0000,9,-999.0000,9,-999.0000,9,-999.0000,9,-999.0000,9,-999.0000,9,-999.0000,9,-999.0000,-999.000,   1.5467,     -999.0,     -999.0,9,     -999.0,9,     -999.0,9,     -999.0,9,     -999.0,20110313,       1023
320620110219,       P16S,      52,          1,         21,         21,2,20110313,       0857,   -70.4851,  -150.0043,       4322,   734.7,   1.4692,  34.7312,2,  34.7316,2,    189.8,2,   189.6,2,   97.41,2,   31.61,2,    0.00,2,    2.20,2,-999.000,9,-999.000,9,-999.000,9,-999.0000,9,  -999.0,9,  -999.0,9,-999.0000,9,  -999.00,-999.000,9,-999.0000,9,-999.000,9,   1.4692,2, -999.00,9,  -999.0,9,  -999.0,-999.000,9, -999.00,9,-999.000,9,   40.57,2,   34.45,2, -70.4851,-150.0043,-999.000,     -999.0,    34.8954,2,     -999.0,9,     -999.0,9,-999.0000,9,-999.0000,9,-999.0000,9,-999.0000,9,-999.0000,9,-999.0000,9,-999.0000,9,-999.0000,9,-999.0000,9,-999.0000,-999.000,   1.4295,     -999.0,     -999.0,9,     -999.0,9,     -999.0,9,     -999.0,9,     -999.0,20110313,       1021
320620110219,       P16S,      52,          1,         20,         20,2,20110313,       0857,   -70.4851,  -150.0043,       4322,   835.2,   1.3846,  34.7306,2,  34.7308,2,    190.3,2,   190.4,2,  100.35,2,   31.72,2,    0.00,2,    2.21,2,   0.184,2,   0.093,2,   0.011,2,   0.0720,2,  -999.0,9,  -999.0,9,-999.0000,9,  -999.00,-999.000,9,-999.0000,9,-999.000,9,   1.3841,2, -999.00,9,  -999.0,9,  -999.0,-999.000,9, -999.00,9,-999.000,9,   40.40,2,   34.27,2, -70.4851,-150.0043,-999.000,     -999.0,    34.8945,2,     -999.0,9,     -999.0,9,-999.0000,9,-999.0000,9,-999.0000,9,-999.0000,9,-999.0000,9,-999.0000,9,-999.0000,9,-999.0000,9,-999.0000,9,-999.0000,-999.000,   1.3394,     -999.0,     -999.0,9,     -999.0,9,     -999.0,9,     -999.0,9,     -999.0,20110313,       1018
320620110219,       P16S,      52,          1,         19,         19,2,20110313,       0857,   -70.4851,  -150.0043,       4322,   934.7,   1.3061,  34.7294,2,  34.7300,2,    191.5,2,   191.6,2,  103.03,2,   31.77,2,    0.00,2,    2.21,2,-999.000,9,-999.000,9,-999.000,9,-999.0000,9,  2260.4,2,  2354.4,2,   7.5909,2,    25.00,-999.000,9,-999.0000,9,-999.000,9,   1.3060,2, -999.00,9,  -999.0,9,  -999.0,-999.000,9, -999.00,9,-999.000,9,   40.43,2,   34.28,2, -70.4851,-150.0043,-999.000,     -999.0,    34.8937,2,     -999.0,9,     -999.0,9,-999.0000,9,-999.0000,9,-999.0000,9,-999.0000,9,-999.0000,9,-999.0000,9,-999.0000,9,-999.0000,9,-999.0000,9,-999.0000,-999.000,   1.2553,     -999.0,     -999.0,9,     -999.0,9,     -999.0,9,     -999.0,9,     -999.0,20110313,       1015
320620110219,       P16S,      52,          1,         18,         18,2,20110313,       0857,   -70.4851,  -150.0043,       4322,  1034.7,   1.2370,  34.7277,2,  34.7278,2,    193.3,2,   193.6,2,  105.25,2,   31.75,2,    0.00,2,    2.21,2,   0.149,2,   0.070,2,   0.008,2,   0.0400,2,  -999.0,9,  -999.0,9,-999.0000,9,  -999.00,-999.000,9,-999.0000,9,-999.000,9,   1.2368,2, -999.00,9,  -999.0,9,  -999.0,-999.000,9, -999.00,9,-999.000,9,   40.32,2,   34.02,2, -70.4851,-150.0043,-999.000,     -999.0,    34.8915,2,     -999.0,9,     -999.0,9,-999.0000,9,-999.0000,9,-999.0000,9,-999.0000,9,-999.0000,9,-999.0000,9,-999.0000,9,-999.0000,9,-999.0000,9,-999.0000,-999.000,   1.1805,     -999.0,     -999.0,9,     -999.0,9,     -999.0,9,     -999.0,9,     -999.0,20110313,       1013
320620110219,       P16S,      52,          1,         17,         17,2,20110313,       0857,   -70.4851,  -150.0043,       4322,  1135.2,   1.1632,  34.7255,2,  34.7256,2,    194.8,2,   194.6,2,  107.67,2,   31.85,2,    0.00,2,    2.21,2,-999.000,9,-999.000,9,-999.000,9,-999.0000,9,  -999.0,9,  -999.0,9,-999.0000,9,  -999.00,-999.000,9,-999.0000,9,-999.000,9,   1.1636,2, -999.00,9,  -999.0,9,  -999.0,-999.000,9, -999.00,9,-999.000,9,   40.07,2,   34.40,2, -70.4851,-150.0043,-999.000,     -999.0,    34.8894,2,     -999.0,9,     -999.0,9,-999.0000,9,-999.0000,9,-999.0000,9,-999.0000,9,-999.0000,9,-999.0000,9,-999.0000,9,-999.0000,9,-999.0000,9,-999.0000,-999.000,   1.1009,     -999.0,     -999.0,9,     -999.0,9,     -999.0,9,     -999.0,9,     -999.0,20110313,       1010
320620110219,       P16S,      52,          1,         16,         16,2,20110313,       0857,   -70.4851,  -150.0043,       4322,  1234.3,   1.1011,  34.7232,2,  34.7230,2,    196.4,2,   195.8,2,  109.77,2,   32.01,2,    0.00,2,    2.21,2,   0.141,2,   0.073,2,   0.007,2,   0.0490,2,  -999.0,9,  -999.0,9,-999.0000,9,  -999.00,-999.000,9,-999.0000,9,-999.000,9,   1.1012,2, -999.00,9,  -999.0,9,  -999.0,-999.000,9, -999.00,9,-999.000,9,   39.89,2,   33.92,2, -70.4851,-150.0043,-999.000,     -999.0,    34.8868,2,     -999.0,9,     -999.0,9,-999.0000,9,-999.0000,9,-999.0000,9,-999.0000,9,-999.0000,9,-999.0000,9,-999.0000,9,-999.0000,9,-999.0000,9,-999.0000,-999.000,   1.0330,     -999.0,     -999.0,9,     -999.0,9,     -999.0,9,     -999.0,9,     -999.0,20110313,       1007
320620110219,       P16S,      52,          1,         15,         15,2,20110313,       0857,   -70.4851,  -150.0043,       4322,  1335.0,   1.0432,  34.7211,2,  34.7214,2,    196.2,2,   196.6,2,  111.82,2,   32.04,2,    0.00,2,    2.22,2,-999.000,9,-999.000,9,-999.000,9,-999.0000,9,  2261.5,2,  2358.1,2,   7.5943,2,    25.00,-999.000,9,-999.0000,9,-999.000,9,   1.0432,2, -999.00,9,  -999.0,9,  -999.0,-999.000,9, -999.00,9,-999.000,9,   39.70,2,   34.25,2, -70.4851,-150.0043,-999.000,     -999.0,    34.8852,2,     -999.0,9,     -999.0,9,-999.0000,9,-999.0000,9,-999.0000,9,-999.0000,9,-999.0000,9,-999.0000,9,-999.0000,9,-999.0000,9,-999.0000,9,-999.0000,-999.000,   0.9690,     -999.0,     -999.0,9,     -999.0,9,     -999.0,9,     -999.0,9,     -999.0,20110313,       1004
320620110219,       P16S,      52,          1,         14,         14,2,20110313,       0857,   -70.4851,  -150.0043,       4322,  1434.9,   0.9850,  34.7189,2,  34.7187,2,    197.8,2,   197.7,2,  113.57,2,   32.17,2,    0.00,2,    2.23,2,   0.111,2,   0.055,2,   0.006,2,   0.0600,2,  -999.0,9,  -999.0,9,-999.0000,9,  -999.00,-999.000,9,-999.0000,9,-999.000,9,   0.9853,2, -999.00,9,  -999.0,9,  -999.0,-999.000,9, -999.00,9,-999.000,9,   39.51,2,   34.64,2, -70.4851,-150.0043,-999.000,     -999.0,    34.8824,2,     -999.0,9,     -999.0,9,-999.0000,9,-999.0000,9,-999.0000,9,-999.0000,9,-999.0000,9,-999.0000,9,-999.0000,9,-999.0000,9,-999.0000,9,-999.0000,-999.000,   0.9047,     -999.0,     -999.0,9,     -999.0,9,     -999.0,9,     -999.0,9,     -999.0,20110313,       1002