BOTTLE,20220813CCHSIOAMB
EXPOCODE,SECT_ID,STNNBR,CASTNO,SAMPNO,BTLNBR,BTLNBR_FLAG_W,DATE,TIME,LATITUDE,LONGITUDE,DEPTH,CTDPRS,CTDTMP,CTDSAL,CTDSAL_FLAG_W,SALNTY,SALNTY_FLAG_W,CTDOXY,CTDOXY_FLAG_W,OXYGEN,OXYGEN_FLAG_W,SILCAT,SILCAT_FLAG_W,NITRAT,NITRAT_FLAG_W,NITRIT,NITRIT_FLAG_W,PHSPHT,PHSPHT_FLAG_W,CFC-11,CFC-11_FLAG_W,CFC-12,CFC-12_FLAG_W,CFC113,CFC113_FLAG_W,SF6,SF6_FLAG_W,TCARBN,TCARBN_FLAG_W,ALKALI,ALKALI_FLAG_W,PH_TOT,PH_TOT_FLAG_W,PH_TMP,TRITUM,TRITUM_FLAG_W,HELIUM,HELIUM_FLAG_W,DELHE3,DELHE3_FLAG_W,REFTMP,REFTMP_FLAG_W,DELC13,DELC13_FLAG_W,DELC14,DELC14_FLAG_W,C14ERR,NEON,NEON_FLAG_W,DELO18,DELO18_FLAG_W,POC,POC_FLAG_W,DOC,DOC_FLAG_W,TDN,TDN_FLAG_W,BTL_LAT,BTL_LON,TRITER,NEONER,SALTREF,SALTREF_FLAG_W,PIGMENTS,PIGMENTS_FLAG_W,LAB_DEN,LAB_DEN_FLAG_W,CDOM325,CDOM325_FLAG_W,CDOM340,CDOM340_FLAG_W,CDOM380,CDOM380_FLAG_W,CDOM412,CDOM412_FLAG_W,CDOM443,CDOM443_FLAG_W,CDOM490,CDOM490_FLAG_W,CDOM555,CDOM555_FLAG_W,CDOMSL,CDOMSL_FLAG_W,CDOMSN,CDOMSN_FLAG_W,HELIER,DELHER,THETA,LDEO_SAMPNO,ABSORBTION,ABSORBTION_FLAG_W,IMAGE_COUNT,IMAGE_COUNT_FLAG_W,CYTO_COUNT,CYTO_COUNT_FLAG_W,DELD,DELD_FLAG_W,DELDERR,BTL_DATE,BTL_TIME
,,,,,,,,,,,METERS,DBAR,ITS-90,PSS-78,,PSS-78,,UMOL/KG,,UMOL/KG,,UMOL/KG,,UMOL/KG,,UMOL/KG,,UMOL/KG,,PMOL/KG,,PMOL/KG,,PMOL/KG,,FMOL/KG,,UMOL/KG,,UMOL/KG,,,,DEG C,TU,,NMOL/KG,,PERCNT,,DEG C,,/MILLE,,/MILLE,,/MILLE,NMOL/KG,,/MILLE,,UG/KG,,UMOL/KG,,UMOL/KG,,,,TU,NMOL/KG,G/KG,,,,,,1/M,,1/M,,1/M,,1/M,,1/M,,1/M,,1/M,,1/NM,,1/NM,,NMOL/KG,PERCNT,DEG C,,,,,,,,/MILLE,,/MILLE,,
320620110219,       S04P,      41,          1,         13,         13,2,20110309,       1707,   -66.9998,  -154.9857,       4205,  1565.5,   0.7346,  34.7098,2,  34.7093,2,    202.9,2,   202.8,2,  123.40,2,   32.40,2,    0.00,2,    2.22,2,-999.000,9,-999.000,9,-999.000,9,-999.0000,9,  -999.0,9,  2357.5,2,   7.5940,2,    25.00,-999.000,9,-999.0000,9,-999.000,9,   0.7346,2,    0.46,2,  -159.8,2,     2.9,-999.000,9, -999.00,9,-999.000,9, -999.00,9, -999.00,9, -66.9998,-154.9857,-999.000,     -999.0,    34.8730,2,     -999.0,9,     -999.0,9,-999.0000,9,-999.0000,9,-999.0000,9,-999.0000,9,-999.0000,9,-999.0000,9,-999.0000,9,-999.0000,9,-999.0000,9,-999.0000,-999.000,   0.6484,     -999.0,     -999.0,9,     -999.0,9,     -999.0,9,     -999.0,9,     -999.0,20110309,       1808
320620110219,       S04P,      41,          1,         12,         12,2,20110309,       1707,   -66.9998,  -154.9857,       4205,  1733.5,   0.6727,  34.7076,2,  34.7071,2,    204.6,2,   204.3,2,  124.91,2,   32.40,2,    0.00,2,    2.22,2,   0.108,2,   0.056,2,   0.004,2,   0.0400,2,  -999.0,9,  2358.2,2,   7.5928,2,    25.00,-999.000,9,-999.0000,9,-999.000,9,   0.6730,2,    0.40,2,  -165.2,2,     2.4,-999.000,9, -999.00,9,-999.000,9, -999.00,9, -999.00,9, -66.9998,-154.9857,-999.000,     -999.0,    34.8708,2,     -999.0,9,     -999.0,9,-999.0000,9,-999.0000,9,-999.0000,9,-999.0000,9,-999.0000,9,-999.0000,9,-999.0000,9,-999.0000,9,-999.0000,9,-999.0000,-999.000,   0.5757,     -999.0,     -999.0,9,     -999.0,9,     -999.0,9,     -999.0,9,     -999.0,20110309,       1804
320620110219,       S04P,      41,          1,         11,         11,2,20110309,       1707,   -66.9998,  -154.9857,       4205,  1935.2,   0.5989,  34.7059,2,  34.7054,2,    206.4,2,   205.9,2,  126.14,2,   32.43,2,    0.00,2,    2.23,2,-999.000,9,-999.000,9,-999.000,9,-999.0000,9,  2262.6,2,  2358.5,2,   7.5931,2,    25.00,-999.000,9,-999.0000,9,-999.000,9,   0.5993,2,    0.47,2,  -171.8,2,     2.2,-999.000,9, -999.00,9,-999.000,9, -999.00,9, -999.00,9, -66.9998,-154.9857,-999.000,     -999.0,    34.8690,2,     -999.0,9,     -999.0,9,-999.0000,9,-999.0000,9,-999.0000,9,-999.0000,9,-999.0000,9,-999.0000,9,-999.0000,9,-999.0000,9,-999.0000,9,-999.0000,-999.000,   0.4885,     -999.0,     -999.0,9,     -999.0,9,     -999.0,9,     -999.0,9,     -999.0,20110309,       1759
320620110219,       S04P,      41,          1,         10,         37,2,20110309,       1707,   -66.9998,  -154.9857,       4205,  2164.4,   0.5208,  34.7043,2,  34.7038,2,    208.0,2,   207.8,2,  127.42,2,   32.54,2,    0.00,2,    2.23,2,   0.137,6,   0.068,6,   0.005,6,   0.0360,6,  -999.0,9,  -999.0,9,-999.0000,9,  -999.00,-999.000,9,-999.0000,9,-999.000,9,   0.5208,2, -999.00,9,  -999.0,9,  -999.0,-999.000,9, -999.00,9,-999.000,9, -999.00,9, -999.00,9, -66.9999,-154.9857,-999.000,     -999.0,    34.8674,2,     -999.0,9,     -999.0,9,-999.0000,9,-999.0000,9,-999.0000,9,-999.0000,9,-999.0000,9,-999.0000,9,-999.0000,9,-999.0000,9,-999.0000,9,-999.0000,-999.000,   0.3945,     -999.0,     -999.0,9,     -999.0,9,     -999.0,9,     -999.0,9,     -999.0,20110309,       1754
320620110219,       S04P,      41,          1,          9,          9,2,20110309,       1707,   -66.9998,  -154.9857,       4205,  2415.8,   0.4377,  34.7034,2,  34.7034,2,    209.8,2,   210.8,2,  129.65,2,   32.51,2,    0.00,2,    2.22,2,-999.000,9,-999.000,9,-999.000,9,-999.0000,9,  -999.0,9,  2358.0,2,   7.5936,2,    25.00,-999.000,9,-999.0000,9,-999.000,9,   0.4379,2,    0.40,2,  -168.8,2,     2.4,-999.000,9, -999.00,9,-999.000,9, -999.00,9, -999.00,9, -66.9999,-154.9857,-999.000,     -999.0,    34.8670,2,     -999.0,9,     -999.0,9,-999.0000,9,-999.0000,9,-999.0000,9,-999.0000,9,-999.0000,9,-999.0000,9,-999.0000,9,-999.0000,9,-999.0000,9,-999.0000,-999.000,   0.2933,     -999.0,     -999.0,9,     -999.0,9,     -999.0,9,     -999.0,9,     -999.0,20110309,       1748
320620110219,       S04P,      41,          1,          8,          8,2,20110309,       1707,   -66.9998,  -154.9857,       4205,  2667.7,   0.3711,  34.7025,2,  34.7028,2,    211.7,2,   211.8,2,  131.66,2,   32.61,2,    0.00,2,    2.23,2,   0.153,2,   0.085,2,   0.007,2,   0.0610,2,  -999.0,9,  2358.0,2,   7.5920,2,    25.00,-999.000,9,-999.0000,9,-999.000,9,   0.3714,2,    0.49,2,  -166.3,2,     2.5,-999.000,9, -999.00,9,-999.000,9, -999.00,9, -999.00,9, -66.9998,-154.9857,-999.000,     -999.0,    34.8664,2,     -999.0,9,     -999.0,9,-999.0000,9,-999.0000,9,-999.0000,9,-999.0000,9,-999.0000,9,-999.0000,9,-999.0000,9,-999.0000,9,-999.0000,9,-999.0000,-999.000,   0.2076,     -999.0,     -999.0,9,     -999.0,9,     -999.0,9,     -999.0,9,     -999.0,20110309,       1743
320620110219,       S04P,      41,          1,          7,          7,2,20110309,       1707,   -66.9998,  -154.9857,       4205,  2914.3,   0.3142,  34.7013,2,  34.7020,2,    213.4,2,   213.3,2,  132.35,2,   32.59,2,    0.00,2,    2.23,2,-999.000,9,-999.000,9,-999.000,9,-999.0000,9,  2261.7,2,  2358.3,2,   7.5919,2,    25.00,-999.000,9,-999.0000,9,-999.000,9,   0.3143,2,    0.51,2,  -167.2,2,     2.3,-999.000,9, -999.00,9,-999.000,9, -999.00,9, -999.00,9, -66.9998,-154.9857,-999.000,     -999.0,    34.8656,2,     -999.0,9,     -999.0,9,-999.0000,9,-999.0000,9,-999.0000,9,-999.0000,9,-999.0000,9,-999.0000,9,-999.0000,9,-999.0000,9,-999.0000,9,-999.0000,-999.000,   0.1310,     -999.0,     -999.0,9,     -999.0,9,     -999.0,9,     -999.0,9,     -999.0,20110309,       1737
320620110219,       S04P,      41,          1,          6,          6,2,20110309,       1707,   -66.9998,  -154.9857,       4205,  3200.1,   0.2595,  34.7000,2,  34.6996,2,    215.7,2,   215.8,2,  132.85,2,   32.59,2,    0.00,2,    2.23,2,   0.356,2,   0.188,2,   0.020,2,   0.0660,2,  -999.0,9,  2357.1,2,   7.5928,2,    25.00,-999.000,9,-999.0000,9,-999.000,9,   0.2594,2, -999.00,9,  -999.0,9,  -999.0,-999.000,9, -999.00,9,-999.000,9, -999.00,9, -999.00,9, -66.9998,-154.9857,-999.000,     -999.0,    34.8633,2,     -999.0,9,     -999.0,9,-999.0000,9,-999.0000,9,-999.0000,9,-999.0000,9,-999.0000,9,-999.0000,9,-999.0000,9,-999.0000,9,-999.0000,9,-999.0000,-999.000,   0.0524,     -999.0,     -999.0,9,     -999.0,9,     -999.0,9,     -999.0,9,     -999.0,20110309,       1731
320620110219,       S04P,      41,          1,          5,          5,2,20110309,       1707,   -66.9998,  -154.9857,       4205,  3501.1,   0.1978,  34.6955,2,  34.6955,2,    219.5,2,   219.3,2,  126.45,2,   32.47,2,    0.00,2,    2.22,2,-999.000,9,-999.000,9,-999.000,9,-999.0000,9,  -999.0,9,  2356.2,2,   7.5927,2,    25.00,-999.000,9,-999.0000,9,-999.000,9,   0.1981,2,    0.52,2,  -160.7,2,     2.3,-999.000,9, -999.00,9,-999.000,9, -999.00,9, -999.00,9, -66.9998,-154.9857,-999.000,     -999.0,    34.8591,2,     -999.0,9,     -999.0,9,-999.0000,9,-999.0000,9,-999.0000,9,-999.0000,9,-999.0000,9,-999.0000,9,-999.0000,9,-999.0000,9,-999.0000,9,-999.0000,-999.000,  -0.0355,     -999.0,     -999.0,9,     -999.0,9,     -999.0,9,     -999.0,9,     -999.0,20110309,       1725
320620110219,       S04P,      41,          1,          4,          4,2,20110309,       1707,   -66.9998,  -154.9857,       4205,  3800.0,   0.1872,  34.6958,2,  34.6951,2,    220.6,2,   220.3,2,  125.19,2,   32.42,2,    0.00,2,    2.22,2,   0.787,2,   0.401,2,   0.038,2,   0.1170,2,  2259.2,2,  2355.2,2,   7.5914,2,    25.00,-999.000,9,-999.0000,9,-999.000,9,   0.1873,2,    0.50,2,  -163.0,2,     2.3,-999.000,9, -999.00,9,-999.000,9, -999.00,9, -999.00,9, -66.9998,-154.9857,-999.000,     -999.0,    34.8587,2,     -999.0,9,     -999.0,9,-999.0000,9,-999.0000,9,-999.0000,9,-999.0000,9,-999.0000,9,-999.0000,9,-999.0000,9,-999.0000,9,-999.0000,9,-999.0000,-999.000,  -0.0746,     -999.0,     -999.0,9,     -999.0,9,     -999.0,9,     -999.0,9,     -999.0,20110309,       1719
320620110219,       S04P,      41,          1,          3,          3,2,20110309,       1707,   -66.9998,  -154.9857,       4205,  4099.8,   0.2094,  34.6962,2,  34.6965,2,    220.6,2,   219.6,2,  125.79,2,   32.50,2,    0.00,2,    2.22,2,   0.761,2,   0.381,2,   0.040,2,   0.1340,2,  2258.6,2,  2356.6,6,   7.5890,2,    25.00,-999.000,9,-999.0000,9,-999.000,9,   0.2096,2,    0.36,2,  -164.0,2,     2.7,-999.000,9, -999.00,9,-999.000,9, -999.00,9, -999.00,9, -66.9998,-154.9857,-999.000,     -999.0,    34.8601,2,     -999.0,9,     -999.0,9,-999.0000,9,-999.0000,9,-999.0000,9,-999.0000,9,-999.0000,9,-999.0000,9,-999.0000,9,-999.0000,9,-999.0000,9,-999.0000,-999.000,  -0.0831,     -999.0,     -999.0,9,     -999.0,9,     -999.0,9,     -999.0,9,     -999.0,20110309,       1713
320620110219,       S04P,      41,          1,          2,          2,2,20110309,       1707,   -66.9998,  -154.9857,       4205,  4225.2,   0.2211,  34.6964,2,  34.6966,2,    220.8,2,   219.8,2,  125.74,2,   32.31,2,    0.00,2,    2.23,2,   0.741,2,   0.380,2,   0.043,2,   0.0920,2,  2259.9,2,  2355.4,2,   7.5902,6,    25.00,-999.000,9,-999.0000,9,-999.000,9,   0.2208,2,    0.50,2,  -161.8,2,     2.3,-999.000,9, -999.00,9,-999.000,9, -999.00,9, -999.00,9, -66.9998,-154.9857,-999.000,     -999.0,    34.8602,2,     -999.0,9,     -999.0,9,-999.0000,9,-999.0000,9,-999.0000,9,-999.0000,9,-999.0000,9,-999.0000,9,-999.0000,9,-999.0000,9,-999.0000,9,-999.0000,-999.000,  -0.0847,     -999.0,     -999.0,9,     -999.0,9,     -999.0,9,     -999.0,9,     -999.0,20110309,       1709
320620110219,       S04P,      41,          1,          1,          1,2,20110309,       1707,   -66.9998,  -154.9857,       4205,  4278.4,   0.2257,  34.6965,2,  34.6966,2,    220.6,2,   220.6,2,  125.55,2,   32.39,2,    0.00,2,    2.22,2,   0.759,2,   0.383,2,   0.035,2,   0.1280,2,  2259.6,2,  2355.7,2,   7.5911,2,    25.00,-999.000,9,-999.0000,9,-999.000,9,   0.2256,2,    0.49,2,  -161.7,2,     2.4,-999.000,9, -999.00,9,-999.000,9, -999.00,9, -999.00,9, -66.9998,-154.9857,-999.000,     -999.0,    34.8602,2,     -999.0,9,     -999.0,9,-999.0000,9,-999.0000,9,-999.0000,9,-999.0000,9,-999.0000,9,-999.0000,9,-999.0000,9,-999.0000,9,-999.0000,9,-999.0000,-999.000,  -0.0859,     -999.0,     -999.0,9,     -999.0,9,     -999.0,9,     -999.0,9,     -999.0,20110309,       1707