BOTTLE,20220813CCHSIOAMB
EXPOCODE,SECT_ID,STNNBR,CASTNO,SAMPNO,BTLNBR,BTLNBR_FLAG_W,DATE,TIME,LATITUDE,LONGITUDE,DEPTH,CTDPRS,CTDTMP,CTDSAL,CTDSAL_FLAG_W,SALNTY,SALNTY_FLAG_W,CTDOXY,CTDOXY_FLAG_W,OXYGEN,OXYGEN_FLAG_W,SILCAT,SILCAT_FLAG_W,NITRAT,NITRAT_FLAG_W,NITRIT,NITRIT_FLAG_W,PHSPHT,PHSPHT_FLAG_W,CFC-11,CFC-11_FLAG_W,CFC-12,CFC-12_FLAG_W,CFC113,CFC113_FLAG_W,SF6,SF6_FLAG_W,TCARBN,TCARBN_FLAG_W,ALKALI,ALKALI_FLAG_W,PH_TOT,PH_TOT_FLAG_W,PH_TMP,TRITUM,TRITUM_FLAG_W,HELIUM,HELIUM_FLAG_W,DELHE3,DELHE3_FLAG_W,REFTMP,REFTMP_FLAG_W,DELC13,DELC13_FLAG_W,DELC14,DELC14_FLAG_W,C14ERR,NEON,NEON_FLAG_W,DELO18,DELO18_FLAG_W,POC,POC_FLAG_W,DOC,DOC_FLAG_W,TDN,TDN_FLAG_W,BTL_LAT,BTL_LON,TRITER,NEONER,SALTREF,SALTREF_FLAG_W,PIGMENTS,PIGMENTS_FLAG_W,LAB_DEN,LAB_DEN_FLAG_W,CDOM325,CDOM325_FLAG_W,CDOM340,CDOM340_FLAG_W,CDOM380,CDOM380_FLAG_W,CDOM412,CDOM412_FLAG_W,CDOM443,CDOM443_FLAG_W,CDOM490,CDOM490_FLAG_W,CDOM555,CDOM555_FLAG_W,CDOMSL,CDOMSL_FLAG_W,CDOMSN,CDOMSN_FLAG_W,HELIER,DELHER,THETA,LDEO_SAMPNO,ABSORBTION,ABSORBTION_FLAG_W,IMAGE_COUNT,IMAGE_COUNT_FLAG_W,CYTO_COUNT,CYTO_COUNT_FLAG_W,DELD,DELD_FLAG_W,DELDERR,BTL_DATE,BTL_TIME
,,,,,,,,,,,METERS,DBAR,ITS-90,PSS-78,,PSS-78,,UMOL/KG,,UMOL/KG,,UMOL/KG,,UMOL/KG,,UMOL/KG,,UMOL/KG,,PMOL/KG,,PMOL/KG,,PMOL/KG,,FMOL/KG,,UMOL/KG,,UMOL/KG,,,,DEG C,TU,,NMOL/KG,,PERCNT,,DEG C,,/MILLE,,/MILLE,,/MILLE,NMOL/KG,,/MILLE,,UG/KG,,UMOL/KG,,UMOL/KG,,,,TU,NMOL/KG,G/KG,,,,,,1/M,,1/M,,1/M,,1/M,,1/M,,1/M,,1/M,,1/NM,,1/NM,,NMOL/KG,PERCNT,DEG C,,,,,,,,/MILLE,,/MILLE,,
320620110219,       P15S,      82,          1,         13,         13,2,20110323,       2308,   -74.2251,  -175.2145,       2437,  1064.8,   0.9796,  34.7195,2,  34.7198,2,    195.9,2,   196.9,2,  113.90,2,   32.09,2,    0.00,2,    2.24,2,   0.071,2,   0.038,2,   0.004,2,   0.0070,2,  2258.9,2,  2358.6,2,   7.5918,2,    25.00,-999.000,9,-999.0000,9,-999.000,9,   0.9793,2, -999.00,9,  -999.0,9,  -999.0,-999.000,9, -999.00,9,-999.000,9, -999.00,9, -999.00,9, -74.2251,-175.2143,-999.000,     -999.0,    34.8835,2,     -999.0,9,     -999.0,9,-999.0000,9,-999.0000,9,-999.0000,9,-999.0000,9,-999.0000,9,-999.0000,9,-999.0000,9,-999.0000,9,-999.0000,9,-999.0000,-999.000,   0.9234,     -999.0,     -999.0,9,     -999.0,9,     -999.0,9,     -999.0,9,     -999.0,20110323,       2343
320620110219,       P15S,      82,          1,         12,         12,2,20110323,       2308,   -74.2251,  -175.2145,       2437,  1164.4,   0.9351,  34.7178,2,  34.7184,2,    196.9,2,   197.5,2,  115.39,2,   32.19,2,    0.00,2,    2.24,2,-999.000,9,-999.000,9,-999.000,9,-999.0000,9,  -999.0,9,  -999.0,9,-999.0000,9,  -999.00,-999.000,9,-999.0000,9,-999.000,9,   0.9351,2, -999.00,9,  -999.0,9,  -999.0,-999.000,9, -999.00,9,-999.000,9, -999.00,9, -999.00,9, -74.2251,-175.2144,-999.000,     -999.0,    34.8821,2,     -999.0,9,     -999.0,9,-999.0000,9,-999.0000,9,-999.0000,9,-999.0000,9,-999.0000,9,-999.0000,9,-999.0000,9,-999.0000,9,-999.0000,9,-999.0000,-999.000,   0.8731,     -999.0,     -999.0,9,     -999.0,9,     -999.0,9,     -999.0,9,     -999.0,20110323,       2341
320620110219,       P15S,      82,          1,         11,         11,2,20110323,       2308,   -74.2251,  -175.2145,       2437,  1265.0,   0.9044,  34.7168,2,  34.7170,2,    198.0,2,   198.3,2,  116.41,2,   32.19,2,    0.00,2,    2.25,2,   0.074,2,   0.038,2,   0.003,2,   0.0120,2,  2259.3,2,  2359.7,2,   7.5936,2,    25.00,-999.000,9,    2.030,2,   9.407,2,   0.9044,2, -999.00,9,  -999.0,9,  -999.0,   8.879,2, -999.00,9,-999.000,9, -999.00,9, -999.00,9, -74.2251,-175.2143,-999.000,      0.007,    34.8807,2,     -999.0,9,     -999.0,9,-999.0000,9,-999.0000,9,-999.0000,9,-999.0000,9,-999.0000,9,-999.0000,9,-999.0000,9,-999.0000,9,-999.0000,9,    0.001,   0.232,   0.8362,50008201011,     -999.0,9,     -999.0,9,     -999.0,9,     -999.0,9,     -999.0,20110323,       2338
320620110219,       P15S,      82,          1,         10,         37,2,20110323,       2308,   -74.2251,  -175.2145,       2437,  1365.3,   0.8657,  34.7152,2,  34.7156,2,    199.2,2,   199.1,2,  117.64,2,   32.15,2,    0.00,2,    2.24,2,-999.000,9,-999.000,9,-999.000,9,-999.0000,9,  -999.0,9,  -999.0,9,-999.0000,9,  -999.00,-999.000,9,-999.0000,9,-999.000,9,   0.8652,2, -999.00,9,  -999.0,9,  -999.0,-999.000,9, -999.00,9,-999.000,9, -999.00,9, -999.00,9, -74.2251,-175.2143,-999.000,     -999.0,    34.8793,2,     -999.0,9,     -999.0,9,-999.0000,9,-999.0000,9,-999.0000,9,-999.0000,9,-999.0000,9,-999.0000,9,-999.0000,9,-999.0000,9,-999.0000,9,-999.0000,-999.000,   0.7914,     -999.0,     -999.0,9,     -999.0,9,     -999.0,9,     -999.0,9,     -999.0,20110323,       2335
320620110219,       P15S,      82,          1,          9,          9,2,20110323,       2308,   -74.2251,  -175.2145,       2437,  1465.8,   0.8218,  34.7136,2,  34.7139,2,    200.5,2,   200.7,2,  119.20,2,   32.15,2,    0.00,2,    2.24,2,   0.070,2,   0.039,2,   0.004,2,   0.0000,2,  2260.4,2,  2360.0,2,   7.5944,2,    25.00,-999.000,9,    2.056,2,   9.715,2,   0.8219,2, -999.00,9,  -999.0,9,  -999.0,   8.927,2, -999.00,9,-999.000,9, -999.00,9, -999.00,9, -74.2251,-175.2143,-999.000,      0.007,    34.8775,2,     -999.0,9,     -999.0,9,-999.0000,9,-999.0000,9,-999.0000,9,-999.0000,9,-999.0000,9,-999.0000,9,-999.0000,9,-999.0000,9,-999.0000,9,    0.001,   0.208,   0.7413,50008201009,     -999.0,9,     -999.0,9,     -999.0,9,     -999.0,9,     -999.0,20110323,       2333
320620110219,       P15S,      82,          1,          8,          8,2,20110323,       2308,   -74.2251,  -175.2145,       2437,  1565.8,   0.7468,  34.7114,2,  34.7119,2,    202.2,2,   202.3,2,  121.71,2,   32.28,2,    0.00,2,    2.25,2,-999.000,9,-999.000,9,-999.000,9,-999.0000,9,  -999.0,9,  -999.0,9,-999.0000,9,  -999.00,-999.000,9,-999.0000,9,-999.000,9,   0.7469,2, -999.00,9,  -999.0,9,  -999.0,-999.000,9, -999.00,9,-999.000,9, -999.00,9, -999.00,9, -74.2251,-175.2144,-999.000,     -999.0,    34.8756,2,     -999.0,9,     -999.0,9,-999.0000,9,-999.0000,9,-999.0000,9,-999.0000,9,-999.0000,9,-999.0000,9,-999.0000,9,-999.0000,9,-999.0000,9,-999.0000,-999.000,   0.6604,     -999.0,     -999.0,9,     -999.0,9,     -999.0,9,     -999.0,9,     -999.0,20110323,       2330
320620110219,       P15S,      82,          1,          7,          7,2,20110323,       2308,   -74.2251,  -175.2145,       2437,  1665.5,   0.7057,  34.7099,2,  34.7101,2,    203.1,2,   203.1,2,  122.75,2,   32.36,2,    0.00,2,    2.25,2,   0.081,2,   0.043,2,   0.005,2,   0.0210,2,  -999.0,9,  -999.0,9,-999.0000,9,  -999.00,-999.000,9,-999.0000,9,-999.000,9,   0.7054,2, -999.00,9,  -999.0,9,  -999.0,-999.000,9, -999.00,9,-999.000,9, -999.00,9, -999.00,9, -74.2251,-175.2143,-999.000,     -999.0,    34.8738,2,     -999.0,9,     -999.0,9,-999.0000,9,-999.0000,9,-999.0000,9,-999.0000,9,-999.0000,9,-999.0000,9,-999.0000,9,-999.0000,9,-999.0000,9,-999.0000,-999.000,   0.6130,     -999.0,     -999.0,9,     -999.0,9,     -999.0,9,     -999.0,9,     -999.0,20110323,       2328
320620110219,       P15S,      82,          1,          6,          6,2,20110323,       2308,   -74.2251,  -175.2145,       2437,  1765.4,   0.6844,  34.7094,2,  34.7099,2,    203.9,2,   203.8,2,  123.53,2,   32.49,2,    0.00,2,    2.24,2,-999.000,9,-999.000,9,-999.000,9,-999.0000,9,  2260.2,2,  2360.5,2,   7.5955,2,    25.00,-999.000,9,-999.0000,9,-999.000,9,   0.6846,2, -999.00,9,  -999.0,9,  -999.0,-999.000,9, -999.00,9,-999.000,9, -999.00,9, -999.00,9, -74.2251,-175.2144,-999.000,     -999.0,    34.8735,2,     -999.0,9,     -999.0,9,-999.0000,9,-999.0000,9,-999.0000,9,-999.0000,9,-999.0000,9,-999.0000,9,-999.0000,9,-999.0000,9,-999.0000,9,-999.0000,-999.000,   0.5850,     -999.0,     -999.0,9,     -999.0,9,     -999.0,9,     -999.0,9,     -999.0,20110323,       2325
320620110219,       P15S,      82,          1,          5,          5,2,20110323,       2308,   -74.2251,  -175.2145,       2437,  1866.1,   0.6337,  34.7080,2,  34.7085,2,    205.1,2,   205.0,2,  125.02,2,   32.45,2,    0.00,3,    2.25,2,   0.102,2,   0.054,2,   0.005,2,   0.0250,2,  -999.0,9,  -999.0,9,-999.0000,9,  -999.00,-999.000,9,    2.051,2,  10.004,2,   0.6333,2, -999.00,9,  -999.0,9,  -999.0,   8.904,2, -999.00,9,-999.000,9, -999.00,9, -999.00,9, -74.2251,-175.2144,-999.000,      0.008,    34.8721,2,     -999.0,9,     -999.0,9,-999.0000,9,-999.0000,9,-999.0000,9,-999.0000,9,-999.0000,9,-999.0000,9,-999.0000,9,-999.0000,9,-999.0000,9,    0.001,   0.207,   0.5278,50008201005,     -999.0,9,     -999.0,9,     -999.0,9,     -999.0,9,     -999.0,20110323,       2322
320620110219,       P15S,      82,          1,          4,          4,2,20110323,       2308,   -74.2251,  -175.2145,       2437,  2065.0,   0.5296,  34.7016,2,  34.7024,2,    208.6,2,   208.2,2,  122.55,2,   32.50,2,    0.00,3,    2.24,2,   0.340,2,   0.186,2,   0.019,2,   0.1310,2,  2260.2,2,  2358.5,6,   7.5954,2,    25.00,-999.000,9,-999.0000,9,-999.000,9,   0.5285,2, -999.00,9,  -999.0,9,  -999.0,-999.000,9, -999.00,9,-999.000,9, -999.00,9, -999.00,9, -74.2251,-175.2144,-999.000,     -999.0,    34.8660,2,     -999.0,9,     -999.0,9,-999.0000,9,-999.0000,9,-999.0000,9,-999.0000,9,-999.0000,9,-999.0000,9,-999.0000,9,-999.0000,9,-999.0000,9,-999.0000,-999.000,   0.4107,     -999.0,     -999.0,9,     -999.0,9,     -999.0,9,     -999.0,9,     -999.0,20110323,       2318
320620110219,       P15S,      82,          1,          3,          3,2,20110323,       2308,   -74.2251,  -175.2145,       2437,  2263.5,   0.3335,  34.6876,2,  34.6886,2,    214.9,2,   214.7,2,  117.43,2,   32.23,2,    0.01,3,    2.24,2,   0.780,2,   0.406,2,   0.059,2,   0.3260,2,  2259.0,2,  2352.4,4,   7.5922,2,    25.00,   0.001,2,    2.013,2,   8.799,2,   0.3330,2, -999.00,9,  -999.0,9,  -999.0,   8.823,2,   -0.31,2,-999.000,9, -999.00,9, -999.00,9, -74.2251,-175.2145,   0.004,      0.007,    34.8522,2,     -999.0,9,     -999.0,9,-999.0000,9,-999.0000,9,-999.0000,9,-999.0000,9,-999.0000,9,-999.0000,9,-999.0000,9,-999.0000,9,-999.0000,9,    0.000,   0.218,   0.2029,50008201003,     -999.0,9,     -999.0,9,     -999.0,9,      -2.16,2,       0.14,20110323,       2314
320620110219,       P15S,      82,          1,          2,          2,2,20110323,       2308,   -74.2251,  -175.2145,       2437,  2364.4,   0.0309,  34.6646,2,  34.6657,2,    224.1,2,   224.9,2,  107.02,2,   31.95,2,    0.03,3,    2.23,2,   1.548,2,   0.821,2,   0.127,2,   0.5890,2,  2255.8,2,  2351.8,4,   7.5878,6,    25.00,-999.000,9,-999.0000,9,-999.000,9,   0.0311,2, -999.00,9,  -999.0,9,  -999.0,-999.000,9, -999.00,9,-999.000,9, -999.00,9, -999.00,9, -74.2251,-175.2146,-999.000,     -999.0,    34.8291,2,     -999.0,9,     -999.0,9,-999.0000,9,-999.0000,9,-999.0000,9,-999.0000,9,-999.0000,9,-999.0000,9,-999.0000,9,-999.0000,9,-999.0000,9,-999.0000,-999.000,  -0.1019,     -999.0,     -999.0,9,     -999.0,9,     -999.0,9,     -999.0,9,     -999.0,20110323,       2311
320620110219,       P15S,      82,          1,          1,          1,2,20110323,       2308,   -74.2251,  -175.2145,       2437,  2465.8,  -0.0335,  34.6594,2,  34.6598,2,    228.6,2,   229.0,2,  104.75,2,   31.95,2,    0.03,3,    2.22,2,   1.747,2,   0.936,2,   0.151,2,   0.6300,2,  2255.8,6,  2349.5,4,   7.5870,2,    25.00,   0.007,2,    2.017,2,   6.292,2,  -0.0338,2, -999.00,9,  -999.0,9,  -999.0,   8.846,2,   -0.12,2,-999.000,9, -999.00,9, -999.00,9, -74.2251,-175.2145,   0.004,      0.008,    34.8232,2,     -999.0,9,     -999.0,9,-999.0000,9,-999.0000,9,-999.0000,9,-999.0000,9,-999.0000,9,-999.0000,9,-999.0000,9,-999.0000,9,-999.0000,9,    0.000,   0.202,  -0.1728,50008201001,     -999.0,9,     -999.0,9,     -999.0,9,      -2.81,2,       0.26,20110323,       2308