BOTTLE,20220813CCHSIOAMB
EXPOCODE,SECT_ID,STNNBR,CASTNO,SAMPNO,BTLNBR,BTLNBR_FLAG_W,DATE,TIME,LATITUDE,LONGITUDE,DEPTH,CTDPRS,CTDTMP,CTDSAL,CTDSAL_FLAG_W,SALNTY,SALNTY_FLAG_W,CTDOXY,CTDOXY_FLAG_W,OXYGEN,OXYGEN_FLAG_W,SILCAT,SILCAT_FLAG_W,NITRAT,NITRAT_FLAG_W,NITRIT,NITRIT_FLAG_W,PHSPHT,PHSPHT_FLAG_W,CFC-11,CFC-11_FLAG_W,CFC-12,CFC-12_FLAG_W,CFC113,CFC113_FLAG_W,SF6,SF6_FLAG_W,TCARBN,TCARBN_FLAG_W,ALKALI,ALKALI_FLAG_W,PH_TOT,PH_TOT_FLAG_W,PH_TMP,TRITUM,TRITUM_FLAG_W,HELIUM,HELIUM_FLAG_W,DELHE3,DELHE3_FLAG_W,REFTMP,REFTMP_FLAG_W,DELC13,DELC13_FLAG_W,DELC14,DELC14_FLAG_W,C14ERR,NEON,NEON_FLAG_W,DELO18,DELO18_FLAG_W,POC,POC_FLAG_W,DOC,DOC_FLAG_W,TDN,TDN_FLAG_W,BTL_LAT,BTL_LON,TRITER,NEONER,SALTREF,SALTREF_FLAG_W,PIGMENTS,PIGMENTS_FLAG_W,LAB_DEN,LAB_DEN_FLAG_W,CDOM325,CDOM325_FLAG_W,CDOM340,CDOM340_FLAG_W,CDOM380,CDOM380_FLAG_W,CDOM412,CDOM412_FLAG_W,CDOM443,CDOM443_FLAG_W,CDOM490,CDOM490_FLAG_W,CDOM555,CDOM555_FLAG_W,CDOMSL,CDOMSL_FLAG_W,CDOMSN,CDOMSN_FLAG_W,HELIER,DELHER,THETA,LDEO_SAMPNO,ABSORBTION,ABSORBTION_FLAG_W,IMAGE_COUNT,IMAGE_COUNT_FLAG_W,CYTO_COUNT,CYTO_COUNT_FLAG_W,DELD,DELD_FLAG_W,DELDERR,BTL_DATE,BTL_TIME
,,,,,,,,,,,METERS,DBAR,ITS-90,PSS-78,,PSS-78,,UMOL/KG,,UMOL/KG,,UMOL/KG,,UMOL/KG,,UMOL/KG,,UMOL/KG,,PMOL/KG,,PMOL/KG,,PMOL/KG,,FMOL/KG,,UMOL/KG,,UMOL/KG,,,,DEG C,TU,,NMOL/KG,,PERCNT,,DEG C,,/MILLE,,/MILLE,,/MILLE,NMOL/KG,,/MILLE,,UG/KG,,UMOL/KG,,UMOL/KG,,,,TU,NMOL/KG,G/KG,,,,,,1/M,,1/M,,1/M,,1/M,,1/M,,1/M,,1/M,,1/NM,,1/NM,,NMOL/KG,PERCNT,DEG C,,,,,,,,/MILLE,,/MILLE,,
320620110219,       P15S,      92,          1,         13,         13,2,20110326,       1527,   -70.4404,  -169.9977,       4105,  1499.5,   0.8000,  34.7124,2,  34.7130,2,    201.3,2,   201.0,2,  119.85,2,   32.06,2,    0.00,2,    2.24,2,-999.000,9,-999.000,9,-999.000,9,-999.0000,9,  -999.0,9,  -999.0,9,-999.0000,9,  -999.00,-999.000,9,-999.0000,9,-999.000,9,   0.8003,2, -999.00,9,  -999.0,9,  -999.0,-999.000,9,   -0.06,2,-999.000,9, -999.00,9, -999.00,9, -70.4404,-169.9977,-999.000,     -999.0,    34.8767,2,     -999.0,9,     -999.0,9,-999.0000,9,-999.0000,9,-999.0000,9,-999.0000,9,-999.0000,9,-999.0000,9,-999.0000,9,-999.0000,9,-999.0000,9,-999.0000,-999.000,   0.7175,     -999.0,     -999.0,9,     -999.0,9,     -999.0,9,      -1.51,2,       0.02,20110326,       1624
320620110219,       P15S,      92,          1,         12,         12,2,20110326,       1527,   -70.4404,  -169.9977,       4105,  1599.4,   0.7564,  34.7110,2,  34.7106,2,    202.4,2,   202.6,2,  121.59,2,   32.06,2,    0.00,2,    2.24,2,   0.090,2,   0.047,2,   0.008,2,   0.0410,2,  2261.4,2,  2358.8,2,   7.5941,2,    25.00,-999.000,9,-999.0000,9,-999.000,9,   0.7565,2, -999.00,9,  -999.0,9,  -999.0,-999.000,9,   -0.03,2,-999.000,9, -999.00,9, -999.00,9, -70.4404,-169.9977,-999.000,     -999.0,    34.8743,2,     -999.0,9,     -999.0,9,-999.0000,9,-999.0000,9,-999.0000,9,-999.0000,9,-999.0000,9,-999.0000,9,-999.0000,9,-999.0000,9,-999.0000,9,-999.0000,-999.000,   0.6676,     -999.0,     -999.0,9,     -999.0,9,     -999.0,9,      -1.24,2,       0.07,20110326,       1621
320620110219,       P15S,      92,          1,         11,         11,2,20110326,       1527,   -70.4404,  -169.9977,       4105,  1800.1,   0.6819,  34.7083,2,  34.7085,2,    204.1,2,   204.0,2,  123.68,2,   32.06,2,    0.00,2,    2.24,2,-999.000,9,-999.000,9,-999.000,9,-999.0000,9,  -999.0,9,  -999.0,9,-999.0000,9,  -999.00,-999.000,9,-999.0000,9,-999.000,9,   0.6818,2, -999.00,9,  -999.0,9,  -999.0,-999.000,9,    0.01,2,-999.000,9, -999.00,9, -999.00,9, -70.4404,-169.9977,-999.000,     -999.0,    34.8721,2,     -999.0,9,     -999.0,9,-999.0000,9,-999.0000,9,-999.0000,9,-999.0000,9,-999.0000,9,-999.0000,9,-999.0000,9,-999.0000,9,-999.0000,9,-999.0000,-999.000,   0.5800,     -999.0,     -999.0,9,     -999.0,9,     -999.0,9,      -1.33,2,       0.08,20110326,       1617
320620110219,       P15S,      92,          1,         10,         37,2,20110326,       1527,   -70.4404,  -169.9977,       4105,  2000.5,   0.6128,  34.7063,2,  34.7061,2,    205.6,2,   205.9,2,  125.81,2,   32.14,2,    0.00,2,    2.24,2,-999.000,9,-999.000,9,-999.000,9,-999.0000,9,  2261.6,2,  2362.4,2,   7.5970,2,    25.00,-999.000,9,-999.0000,9,-999.000,9,   0.6131,2, -999.00,9,  -999.0,9,  -999.0,-999.000,9,   -0.15,2,-999.000,9, -999.00,9, -999.00,9, -70.4404,-169.9977,-999.000,     -999.0,    34.8698,2,     -999.0,9,     -999.0,9,-999.0000,9,-999.0000,9,-999.0000,9,-999.0000,9,-999.0000,9,-999.0000,9,-999.0000,9,-999.0000,9,-999.0000,9,-999.0000,-999.000,   0.4974,     -999.0,     -999.0,9,     -999.0,9,     -999.0,9,      -2.48,2,       0.30,20110326,       1612
320620110219,       P15S,      92,          1,          9,          9,2,20110326,       1527,   -70.4404,  -169.9977,       4105,  2249.6,   0.5205,  34.7048,2,  34.7047,2,    207.6,2,   207.4,2,  126.76,2,   32.10,2,    0.00,2,    2.25,2,-999.000,9,-999.000,9,-999.000,9,-999.0000,9,  -999.0,9,  -999.0,9,-999.0000,9,  -999.00,-999.000,9,-999.0000,9,-999.000,9,   0.5208,2, -999.00,9,  -999.0,9,  -999.0,-999.000,9,    0.06,2,-999.000,9, -999.00,9, -999.00,9, -70.4404,-169.9977,-999.000,     -999.0,    34.8684,2,     -999.0,9,     -999.0,9,-999.0000,9,-999.0000,9,-999.0000,9,-999.0000,9,-999.0000,9,-999.0000,9,-999.0000,9,-999.0000,9,-999.0000,9,-999.0000,-999.000,   0.3877,     -999.0,     -999.0,9,     -999.0,9,     -999.0,9,      -1.38,2,       0.19,20110326,       1607
320620110219,       P15S,      92,          1,          8,          8,2,20110326,       1527,   -70.4404,  -169.9977,       4105,  2499.6,   0.4430,  34.7041,2,  34.7036,2,    209.5,2,   209.8,2,  128.60,2,   32.22,2,    0.00,2,    2.25,2,   0.117,2,   0.061,2,   0.007,2,   0.0950,2,  2261.3,2,  2360.8,2,   7.5972,2,    25.00,-999.000,9,-999.0000,9,-999.000,9,   0.4431,2, -999.00,9,  -999.0,9,  -999.0,-999.000,9,   -0.06,2,-999.000,9, -999.00,9, -999.00,9, -70.4404,-169.9977,-999.000,     -999.0,    34.8672,2,     -999.0,9,     -999.0,9,-999.0000,9,-999.0000,9,-999.0000,9,-999.0000,9,-999.0000,9,-999.0000,9,-999.0000,9,-999.0000,9,-999.0000,9,-999.0000,-999.000,   0.2918,     -999.0,     -999.0,9,     -999.0,9,     -999.0,9,      -2.19,2,       0.30,20110326,       1602
320620110219,       P15S,      92,          1,          7,          7,2,20110326,       1527,   -70.4404,  -169.9977,       4105,  2750.0,   0.3841,  34.7034,2,  34.7036,2,    211.0,2,   211.0,2,  130.72,2,   32.38,2,    0.00,2,    2.25,2,-999.000,9,-999.000,9,-999.000,9,-999.0000,9,  -999.0,9,  -999.0,9,-999.0000,9,  -999.00,-999.000,9,-999.0000,9,-999.000,9,   0.3844,2, -999.00,9,  -999.0,9,  -999.0,-999.000,9,   -0.08,2,-999.000,9, -999.00,9, -999.00,9, -70.4404,-169.9977,-999.000,     -999.0,    34.8672,2,     -999.0,9,     -999.0,9,-999.0000,9,-999.0000,9,-999.0000,9,-999.0000,9,-999.0000,9,-999.0000,9,-999.0000,9,-999.0000,9,-999.0000,9,-999.0000,-999.000,   0.2134,     -999.0,     -999.0,9,     -999.0,9,     -999.0,9,      -1.89,2,       0.12,20110326,       1557
320620110219,       P15S,      92,          1,          6,          6,2,20110326,       1527,   -70.4404,  -169.9977,       4105,  3000.4,   0.3290,  34.7024,2,  34.7026,2,    212.9,2,   213.0,2,  131.45,2,   32.45,2,    0.00,2,    2.25,2,   0.202,2,   0.099,2,   0.011,2,   0.0530,2,  2261.7,2,  2358.7,2,   7.5973,2,    25.00,-999.000,9,-999.0000,9,-999.000,9,   0.3289,2, -999.00,9,  -999.0,9,  -999.0,-999.000,9,   -0.08,2,-999.000,9, -999.00,9, -999.00,9, -70.4404,-169.9977,-999.000,     -999.0,    34.8662,2,     -999.0,9,     -999.0,9,-999.0000,9,-999.0000,9,-999.0000,9,-999.0000,9,-999.0000,9,-999.0000,9,-999.0000,9,-999.0000,9,-999.0000,9,-999.0000,-999.000,   0.1380,     -999.0,     -999.0,9,     -999.0,9,     -999.0,9,      -1.90,2,       0.17,20110326,       1552
320620110219,       P15S,      92,          1,          5,          5,2,20110326,       1527,   -70.4404,  -169.9977,       4105,  3298.8,   0.2716,  34.7006,2,  34.7008,2,    215.2,2,   215.5,2,  131.56,2,   32.43,2,    0.00,2,    2.25,2,-999.000,9,-999.000,9,-999.000,9,-999.0000,9,  -999.0,9,  -999.0,9,-999.0000,9,  -999.00,-999.000,9,-999.0000,9,-999.000,9,   0.2715,2, -999.00,9,  -999.0,9,  -999.0,-999.000,9,   -0.16,2,-999.000,9, -999.00,9, -999.00,9, -70.4404,-169.9977,-999.000,     -999.0,    34.8645,2,     -999.0,9,     -999.0,9,-999.0000,9,-999.0000,9,-999.0000,9,-999.0000,9,-999.0000,9,-999.0000,9,-999.0000,9,-999.0000,9,-999.0000,9,-999.0000,-999.000,   0.0552,     -999.0,     -999.0,9,     -999.0,9,     -999.0,9,      -2.08,2,       0.13,20110326,       1546
320620110219,       P15S,      92,          1,          4,          4,2,20110326,       1527,   -70.4404,  -169.9977,       4105,  3598.4,   0.1993,  34.6922,2,  34.6914,2,    220.4,2,   220.4,2,  121.22,2,   32.27,2,    0.00,2,    2.24,2,   0.922,2,   0.460,2,   0.061,2,   0.2820,2,  2258.4,2,  2355.7,6,   7.5947,2,    25.00,-999.000,9,-999.0000,9,-999.000,9,   0.1991,2, -999.00,9,  -999.0,9,  -999.0,-999.000,9,   -0.14,2,-999.000,9, -999.00,9, -999.00,9, -70.4404,-169.9977,-999.000,     -999.0,    34.8550,2,     -999.0,9,     -999.0,9,-999.0000,9,-999.0000,9,-999.0000,9,-999.0000,9,-999.0000,9,-999.0000,9,-999.0000,9,-999.0000,9,-999.0000,9,-999.0000,-999.000,  -0.0432,     -999.0,     -999.0,9,     -999.0,9,     -999.0,9,      -2.27,2,       0.07,20110326,       1540
320620110219,       P15S,      92,          1,          3,          3,2,20110326,       1527,   -70.4404,  -169.9977,       4105,  3900.4,   0.1896,  34.6905,2,  34.6904,2,    222.3,2,   221.5,2,  119.52,2,   32.28,2,    0.00,2,    2.24,2,   1.060,2,   0.536,2,   0.077,2,   0.2610,2,  2258.3,2,  2355.6,6,   7.5931,2,    25.00,-999.000,9,-999.0000,9,-999.000,9,   0.1895,2, -999.00,9,  -999.0,9,  -999.0,-999.000,9,   -0.08,2,-999.000,9, -999.00,9, -999.00,9, -70.4404,-169.9977,-999.000,     -999.0,    34.8540,2,     -999.0,9,     -999.0,9,-999.0000,9,-999.0000,9,-999.0000,9,-999.0000,9,-999.0000,9,-999.0000,9,-999.0000,9,-999.0000,9,-999.0000,9,-999.0000,-999.000,  -0.0821,     -999.0,     -999.0,9,     -999.0,9,     -999.0,9,      -2.39,2,       0.01,20110326,       1534
320620110219,       P15S,      92,          1,          2,          2,2,20110326,       1527,   -70.4404,  -169.9977,       4105,  4125.2,   0.2137,  34.6944,2,  34.6942,2,    221.1,2,   219.8,2,  123.68,2,   32.43,2,    0.00,2,    2.24,2,   0.857,2,   0.414,2,   0.059,2,   0.1880,2,  2259.5,2,  2355.0,2,   7.5926,6,    25.00,-999.000,9,-999.0000,9,-999.000,9,   0.2131,2, -999.00,9,  -999.0,9,  -999.0,-999.000,9,   -0.11,2,-999.000,9, -999.00,9, -999.00,9, -70.4404,-169.9977,-999.000,     -999.0,    34.8578,2,     -999.0,9,     -999.0,9,-999.0000,9,-999.0000,9,-999.0000,9,-999.0000,9,-999.0000,9,-999.0000,9,-999.0000,9,-999.0000,9,-999.0000,9,-999.0000,-999.000,  -0.0815,     -999.0,     -999.0,9,     -999.0,9,     -999.0,9,      -2.55,2,       0.11,20110326,       1529
320620110219,       P15S,      92,          1,          1,          1,2,20110326,       1527,   -70.4404,  -169.9977,       4105,  4174.6,   0.2221,  34.6959,2,  34.6955,2,    220.2,2,   220.3,2,  124.69,2,   32.48,2,    0.00,2,    2.25,2,   0.821,2,   0.387,2,   0.048,2,   0.1310,2,  2260.7,6,  2355.6,2,   7.5923,2,    25.00,-999.000,9,-999.0000,9,-999.000,9,   0.2220,2, -999.00,9,  -999.0,9,  -999.0,-999.000,9,   -0.13,2,-999.000,9, -999.00,9, -999.00,9, -70.4404,-169.9977,-999.000,     -999.0,    34.8592,2,     -999.0,9,     -999.0,9,-999.0000,9,-999.0000,9,-999.0000,9,-999.0000,9,-999.0000,9,-999.0000,9,-999.0000,9,-999.0000,9,-999.0000,9,-999.0000,-999.000,  -0.0785,     -999.0,     -999.0,9,     -999.0,9,     -999.0,9,      -2.48,2,       0.04,20110326,       1527