BOTTLE,20220813CCHSIOAMB
EXPOCODE,SECT_ID,STNNBR,CASTNO,SAMPNO,BTLNBR,BTLNBR_FLAG_W,DATE,TIME,LATITUDE,LONGITUDE,DEPTH,CTDPRS,CTDTMP,CTDSAL,CTDSAL_FLAG_W,SALNTY,SALNTY_FLAG_W,CTDOXY,CTDOXY_FLAG_W,OXYGEN,OXYGEN_FLAG_W,SILCAT,SILCAT_FLAG_W,NITRAT,NITRAT_FLAG_W,NITRIT,NITRIT_FLAG_W,PHSPHT,PHSPHT_FLAG_W,CFC-11,CFC-11_FLAG_W,CFC-12,CFC-12_FLAG_W,CFC113,CFC113_FLAG_W,SF6,SF6_FLAG_W,TCARBN,TCARBN_FLAG_W,ALKALI,ALKALI_FLAG_W,PH_TOT,PH_TOT_FLAG_W,PH_TMP,TRITUM,TRITUM_FLAG_W,HELIUM,HELIUM_FLAG_W,DELHE3,DELHE3_FLAG_W,REFTMP,REFTMP_FLAG_W,DELC13,DELC13_FLAG_W,DELC14,DELC14_FLAG_W,C14ERR,NEON,NEON_FLAG_W,DELO18,DELO18_FLAG_W,POC,POC_FLAG_W,DOC,DOC_FLAG_W,TDN,TDN_FLAG_W,BTL_LAT,BTL_LON,TRITER,NEONER,SALTREF,SALTREF_FLAG_W,PIGMENTS,PIGMENTS_FLAG_W,LAB_DEN,LAB_DEN_FLAG_W,CDOM325,CDOM325_FLAG_W,CDOM340,CDOM340_FLAG_W,CDOM380,CDOM380_FLAG_W,CDOM412,CDOM412_FLAG_W,CDOM443,CDOM443_FLAG_W,CDOM490,CDOM490_FLAG_W,CDOM555,CDOM555_FLAG_W,CDOMSL,CDOMSL_FLAG_W,CDOMSN,CDOMSN_FLAG_W,HELIER,DELHER,THETA,LDEO_SAMPNO,ABSORBTION,ABSORBTION_FLAG_W,IMAGE_COUNT,IMAGE_COUNT_FLAG_W,CYTO_COUNT,CYTO_COUNT_FLAG_W,DELD,DELD_FLAG_W,DELDERR,BTL_DATE,BTL_TIME
,,,,,,,,,,,METERS,DBAR,ITS-90,PSS-78,,PSS-78,,UMOL/KG,,UMOL/KG,,UMOL/KG,,UMOL/KG,,UMOL/KG,,UMOL/KG,,PMOL/KG,,PMOL/KG,,PMOL/KG,,FMOL/KG,,UMOL/KG,,UMOL/KG,,,,DEG C,TU,,NMOL/KG,,PERCNT,,DEG C,,/MILLE,,/MILLE,,/MILLE,NMOL/KG,,/MILLE,,UG/KG,,UMOL/KG,,UMOL/KG,,,,TU,NMOL/KG,G/KG,,,,,,1/M,,1/M,,1/M,,1/M,,1/M,,1/M,,1/M,,1/NM,,1/NM,,NMOL/KG,PERCNT,DEG C,,,,,,,,/MILLE,,/MILLE,,
320620110219,       S04P,      15,          1,         13,         13,2,20110227,       1910,   -68.0106,   172.8205,       3124,  1400.7,   0.7774,  34.7115,2,  34.7114,2,    202.0,2,   202.1,2,  119.56,2,   32.34,2,    0.00,2,    2.19,2,-999.000,9,-999.000,9,-999.000,9,-999.0000,9,  -999.0,9,  -999.0,9,-999.0000,9,  -999.00,-999.000,9,-999.0000,9,-999.000,9,   0.7776,2, -999.00,9,  -999.0,9,  -999.0,-999.000,9, -999.00,9,-999.000,9,   39.13,2,   34.81,2, -68.0105, 172.8205,-999.000,     -999.0,    34.8750,2,     -999.0,9,     -999.0,9,-999.0000,9,-999.0000,9,-999.0000,9,-999.0000,9,-999.0000,9,-999.0000,9,-999.0000,9,-999.0000,9,-999.0000,9,-999.0000,-999.000,   0.7017,     -999.0,     -999.0,9,     -999.0,9,     -999.0,9,     -999.0,9,     -999.0,20110227,       2000
320620110219,       S04P,      15,          1,         12,         12,2,20110227,       1910,   -68.0106,   172.8205,       3124,  1499.6,   0.7322,  34.7102,2,  34.7098,2,    203.1,2,   203.5,2,  120.65,2,   32.30,2,    0.00,2,    2.19,2,   0.114,2,   0.058,2,   0.008,2,   0.0000,3,  -999.0,9,  -999.0,9,-999.0000,9,  -999.00,   0.001,2,    2.076,2,   9.912,2,   0.7327,2, -999.00,9,  -999.0,9,  -999.0,   9.086,2,   -0.27,2,-999.000,9,   39.55,2,   34.80,2, -68.0105, 172.8205,   0.004,      0.015,    34.8735,2,     -999.0,9,     -999.0,9,-999.0000,9,-999.0000,9,-999.0000,9,-999.0000,9,-999.0000,9,-999.0000,9,-999.0000,9,-999.0000,9,-999.0000,9,    0.001,   0.194,   0.6505,50001501012,     -999.0,9,     -999.0,9,     -999.0,9,      -2.78,2,       0.02,20110227,       1957
320620110219,       S04P,      15,          1,         11,         11,2,20110227,       1910,   -68.0106,   172.8205,       3124,  1599.4,   0.6945,  34.7091,2,  34.7087,2,    203.9,2,   203.8,2,  121.64,2,   32.38,2,    0.00,2,    2.21,2,-999.000,9,-999.000,9,-999.000,9,-999.0000,9,  2259.3,2,  2360.3,2,   7.5854,2,    25.00,-999.000,9,-999.0000,9,-999.000,9,   0.6943,2, -999.00,9,  -999.0,9,  -999.0,-999.000,9, -999.00,9,-999.000,9,   39.18,2,   35.57,2, -68.0106, 172.8206,-999.000,     -999.0,    34.8723,2,     -999.0,9,     -999.0,9,-999.0000,9,-999.0000,9,-999.0000,9,-999.0000,9,-999.0000,9,-999.0000,9,-999.0000,9,-999.0000,9,-999.0000,9,-999.0000,-999.000,   0.6065,     -999.0,     -999.0,9,     -999.0,9,     -999.0,9,     -999.0,9,     -999.0,20110227,       1955
320620110219,       S04P,      15,          1,         10,         10,2,20110227,       1910,   -68.0106,   172.8205,       3124,  1699.5,   0.6583,  34.7082,2,  34.7077,2,    204.6,2,   204.6,2,  122.82,2,   32.33,2,    0.00,2,    2.20,2,-999.000,9,-999.000,9,-999.000,9,-999.0000,9,  -999.0,9,  -999.0,9,-999.0000,9,  -999.00,-999.000,9,-999.0000,9,-999.000,9,   0.6581,2, -999.00,9,  -999.0,9,  -999.0,-999.000,9, -999.00,9,-999.000,9,   39.60,2,   34.67,2, -68.0106, 172.8205,-999.000,     -999.0,    34.8714,2,     -999.0,9,     -999.0,9,-999.0000,9,-999.0000,9,-999.0000,9,-999.0000,9,-999.0000,9,-999.0000,9,-999.0000,9,-999.0000,9,-999.0000,9,-999.0000,-999.000,   0.5639,     -999.0,     -999.0,9,     -999.0,9,     -999.0,9,     -999.0,9,     -999.0,20110227,       1952
320620110219,       S04P,      15,          1,          9,          9,2,20110227,       1910,   -68.0106,   172.8205,       3124,  1799.4,   0.6255,  34.7074,2,  34.7070,2,    205.4,2,   205.8,2,  123.50,2,   32.42,2,    0.00,2,    2.20,2,-999.000,9,-999.000,9,-999.000,9,-999.0000,9,  -999.0,9,  -999.0,9,-999.0000,9,  -999.00,-999.000,9,-999.0000,9,-999.000,9,   0.6258,2, -999.00,9,  -999.0,9,  -999.0,-999.000,9, -999.00,9,-999.000,9,   40.13,2,   35.37,2, -68.0106, 172.8205,-999.000,     -999.0,    34.8706,2,     -999.0,9,     -999.0,9,-999.0000,9,-999.0000,9,-999.0000,9,-999.0000,9,-999.0000,9,-999.0000,9,-999.0000,9,-999.0000,9,-999.0000,9,-999.0000,-999.000,   0.5245,     -999.0,     -999.0,9,     -999.0,9,     -999.0,9,     -999.0,9,     -999.0,20110227,       1949
320620110219,       S04P,      15,          1,          8,          8,2,20110227,       1910,   -68.0106,   172.8205,       3124,  2001.7,   0.5743,  34.7057,2,  34.7056,2,    206.8,2,   207.6,2,  125.07,2,   32.42,2,    0.00,2,    2.21,2,   0.165,2,   0.084,2,   0.012,2,   0.0420,2,  2259.2,2,  2361.5,2,   7.5882,2,    25.00,   0.001,2,    2.134,4,   9.497,2,   0.5745,2, -999.00,9,  -999.0,9,  -999.0,   9.335,2,   -0.35,2,-999.000,9,   39.91,2,   35.58,2, -68.0106, 172.8206,   0.004,      0.016,    34.8693,2,     -999.0,9,     -999.0,9,-999.0000,9,-999.0000,9,-999.0000,9,-999.0000,9,-999.0000,9,-999.0000,9,-999.0000,9,-999.0000,9,-999.0000,9,    0.001,   0.182,   0.4594,50001501008,     -999.0,9,     -999.0,9,     -999.0,9,      -3.51,2,       0.09,20110227,       1944
320620110219,       S04P,      15,          1,          7,          7,2,20110227,       1910,   -68.0106,   172.8205,       3124,  2201.7,   0.4976,  34.7030,2,  34.7027,2,    209.0,2,   208.7,2,  125.02,2,   32.51,2,    0.00,2,    2.22,2,-999.000,9,-999.000,9,-999.000,9,-999.0000,9,  -999.0,9,  -999.0,9,-999.0000,9,  -999.00,-999.000,9,-999.0000,9,-999.000,9,   0.4971,2, -999.00,9,  -999.0,9,  -999.0,-999.000,9, -999.00,9,-999.000,9,   40.20,2,   35.45,2, -68.0106, 172.8205,-999.000,     -999.0,    34.8663,2,     -999.0,9,     -999.0,9,-999.0000,9,-999.0000,9,-999.0000,9,-999.0000,9,-999.0000,9,-999.0000,9,-999.0000,9,-999.0000,9,-999.0000,9,-999.0000,-999.000,   0.3689,     -999.0,     -999.0,9,     -999.0,9,     -999.0,9,     -999.0,9,     -999.0,20110227,       1939
320620110219,       S04P,      15,          1,          6,          6,2,20110227,       1910,   -68.0106,   172.8205,       3124,  2399.8,   0.4422,  34.6997,2,  34.6992,2,    211.5,2,   210.9,2,  124.47,2,   32.60,2,    0.00,2,    2.22,2,-999.000,9,-999.000,9,-999.000,9,-999.0000,9,  -999.0,9,  -999.0,9,-999.0000,9,  -999.00,-999.000,9,-999.0000,9,-999.000,9,   0.4422,2, -999.00,9,  -999.0,9,  -999.0,-999.000,9, -999.00,9,-999.000,9,   40.34,2,   35.78,2, -68.0106, 172.8205,-999.000,     -999.0,    34.8628,2,     -999.0,9,     -999.0,9,-999.0000,9,-999.0000,9,-999.0000,9,-999.0000,9,-999.0000,9,-999.0000,9,-999.0000,9,-999.0000,9,-999.0000,9,-999.0000,-999.000,   0.2990,     -999.0,     -999.0,9,     -999.0,9,     -999.0,9,     -999.0,9,     -999.0,20110227,       1934
320620110219,       S04P,      15,          1,          5,          5,2,20110227,       1910,   -68.0106,   172.8205,       3124,  2601.1,   0.3735,  34.6946,2,  34.6939,2,    213.8,2,   214.1,2,  122.49,2,   32.37,2,    0.00,2,    2.22,2,-999.000,9,-999.000,9,-999.000,9,-999.0000,9,  2258.6,2,  2360.0,2,   7.5875,2,    25.00,-999.000,9,-999.0000,9,-999.000,9,   0.3732,2, -999.00,9,  -999.0,9,  -999.0,-999.000,9, -999.00,9,-999.000,9,   40.19,2,   35.60,2, -68.0106, 172.8205,-999.000,     -999.0,    34.8575,2,     -999.0,9,     -999.0,9,-999.0000,9,-999.0000,9,-999.0000,9,-999.0000,9,-999.0000,9,-999.0000,9,-999.0000,9,-999.0000,9,-999.0000,9,-999.0000,-999.000,   0.2154,     -999.0,     -999.0,9,     -999.0,9,     -999.0,9,     -999.0,9,     -999.0,20110227,       1929
320620110219,       S04P,      15,          1,          4,          4,2,20110227,       1910,   -68.0106,   172.8205,       3124,  2800.3,   0.2973,  34.6875,2,  34.6873,2,    216.7,2,   217.2,2,  118.30,3,   32.20,2,    0.00,2,    2.20,2,   0.795,2,   0.438,2,   0.071,2,   0.2070,2,  -999.0,9,  -999.0,9,-999.0000,9,  -999.00,   0.004,2,    2.251,4,   7.377,2,   0.2971,2, -999.00,9,  -999.0,9,  -999.0,   9.715,4,   -0.27,2,-999.000,9,   40.03,2,   35.93,2, -68.0106, 172.8205,   0.004,      0.021,    34.8509,2,     -999.0,9,     -999.0,9,-999.0000,9,-999.0000,9,-999.0000,9,-999.0000,9,-999.0000,9,-999.0000,9,-999.0000,9,-999.0000,9,-999.0000,9,    0.001,   0.193,   0.1243,50001501004,     -999.0,9,     -999.0,9,     -999.0,9,      -2.71,2,       0.10,20110227,       1924
320620110219,       S04P,      15,          1,          3,          3,2,20110227,       1910,   -68.0106,   172.8205,       3124,  3000.7,   0.2629,  34.6862,2,  34.6861,2,    218.2,2,   218.4,2,  119.15,2,   32.25,2,    0.00,2,    2.22,2,   0.863,2,   0.472,2,   0.078,2,   0.2460,2,  2258.2,2,  2357.0,6,   7.5858,2,    25.00,   0.012,2,    2.109,2,   8.092,2,   0.2628,2, -999.00,9,  -999.0,9,  -999.0,   9.222,2,   -0.24,2,-999.000,9,   40.23,2,   34.47,2, -68.0106, 172.8205,   0.004,      0.012,    34.8497,2,     -999.0,9,     -999.0,9,-999.0000,9,-999.0000,9,-999.0000,9,-999.0000,9,-999.0000,9,-999.0000,9,-999.0000,9,-999.0000,9,-999.0000,9,    0.000,   0.217,   0.0734,50001501003,     -999.0,9,     -999.0,9,     -999.0,9,      -2.76,2,       0.08,20110227,       1918
320620110219,       S04P,      15,          1,          2,          2,2,20110227,       1910,   -68.0106,   172.8205,       3124,  3127.1,   0.1817,  34.6830,2,  34.6834,2,    222.0,2,   221.1,2,  115.96,2,   32.26,2,    0.00,2,    2.19,2,   1.054,2,   0.577,2,   0.098,2,   0.3640,2,  2257.2,6,  2355.0,2,   7.5859,2,    25.00,   0.000,2,    2.092,2,   7.620,2,   0.1811,2, -999.00,9,  -999.0,9,  -999.0,   9.142,2,   -0.04,2,-999.000,9,   39.87,2,   34.74,2, -68.0106, 172.8206,   0.004,      0.007,    34.8470,2,     -999.0,9,     -999.0,9,-999.0000,9,-999.0000,9,-999.0000,9,-999.0000,9,-999.0000,9,-999.0000,9,-999.0000,9,-999.0000,9,-999.0000,9,    0.001,   0.200,  -0.0170,50001501002,     -999.0,9,     -999.0,9,     -999.0,9,      -1.61,2,       0.01,20110227,       1913
320620110219,       S04P,      15,          1,          1,          1,2,20110227,       1910,   -68.0106,   172.8205,       3124,  3169.0,   0.0683,  34.6750,2,  34.6754,2,    224.9,2,   226.2,2,  110.75,2,   32.08,2,    0.00,2,    2.19,2,   1.473,2,   0.806,2,   0.139,2,   0.4450,2,  2253.2,3,  2354.6,2,   7.5831,2,    25.00,   0.000,2,    2.076,2,   7.649,2,   0.0678,2, -999.00,9,  -999.0,9,  -999.0,   9.073,2,   -0.32,2,-999.000,9,   39.89,2,   34.62,2, -68.0106, 172.8205,   0.005,      0.011,    34.8389,2,     -999.0,9,     -999.0,9,-999.0000,9,-999.0000,9,-999.0000,9,-999.0000,9,-999.0000,9,-999.0000,9,-999.0000,9,-999.0000,9,-999.0000,9,    0.000,   0.194,  -0.1314,50001501001,     -999.0,9,     -999.0,9,     -999.0,9,      -3.14,2,       0.24,20110227,       1910