BOTTLE,20220813CCHSIOAMB
EXPOCODE,SECT_ID,STNNBR,CASTNO,SAMPNO,BTLNBR,BTLNBR_FLAG_W,DATE,TIME,LATITUDE,LONGITUDE,DEPTH,CTDPRS,CTDTMP,CTDSAL,CTDSAL_FLAG_W,SALNTY,SALNTY_FLAG_W,CTDOXY,CTDOXY_FLAG_W,OXYGEN,OXYGEN_FLAG_W,SILCAT,SILCAT_FLAG_W,NITRAT,NITRAT_FLAG_W,NITRIT,NITRIT_FLAG_W,PHSPHT,PHSPHT_FLAG_W,CFC-11,CFC-11_FLAG_W,CFC-12,CFC-12_FLAG_W,CFC113,CFC113_FLAG_W,SF6,SF6_FLAG_W,TCARBN,TCARBN_FLAG_W,ALKALI,ALKALI_FLAG_W,PH_TOT,PH_TOT_FLAG_W,PH_TMP,TRITUM,TRITUM_FLAG_W,HELIUM,HELIUM_FLAG_W,DELHE3,DELHE3_FLAG_W,REFTMP,REFTMP_FLAG_W,DELC13,DELC13_FLAG_W,DELC14,DELC14_FLAG_W,C14ERR,NEON,NEON_FLAG_W,DELO18,DELO18_FLAG_W,POC,POC_FLAG_W,DOC,DOC_FLAG_W,TDN,TDN_FLAG_W,BTL_LAT,BTL_LON,TRITER,NEONER,SALTREF,SALTREF_FLAG_W,PIGMENTS,PIGMENTS_FLAG_W,LAB_DEN,LAB_DEN_FLAG_W,CDOM325,CDOM325_FLAG_W,CDOM340,CDOM340_FLAG_W,CDOM380,CDOM380_FLAG_W,CDOM412,CDOM412_FLAG_W,CDOM443,CDOM443_FLAG_W,CDOM490,CDOM490_FLAG_W,CDOM555,CDOM555_FLAG_W,CDOMSL,CDOMSL_FLAG_W,CDOMSN,CDOMSN_FLAG_W,HELIER,DELHER,THETA,LDEO_SAMPNO,ABSORBTION,ABSORBTION_FLAG_W,IMAGE_COUNT,IMAGE_COUNT_FLAG_W,CYTO_COUNT,CYTO_COUNT_FLAG_W,DELD,DELD_FLAG_W,DELDERR,BTL_DATE,BTL_TIME
,,,,,,,,,,,METERS,DBAR,ITS-90,PSS-78,,PSS-78,,UMOL/KG,,UMOL/KG,,UMOL/KG,,UMOL/KG,,UMOL/KG,,UMOL/KG,,PMOL/KG,,PMOL/KG,,PMOL/KG,,FMOL/KG,,UMOL/KG,,UMOL/KG,,,,DEG C,TU,,NMOL/KG,,PERCNT,,DEG C,,/MILLE,,/MILLE,,/MILLE,NMOL/KG,,/MILLE,,UG/KG,,UMOL/KG,,UMOL/KG,,,,TU,NMOL/KG,G/KG,,,,,,1/M,,1/M,,1/M,,1/M,,1/M,,1/M,,1/M,,1/NM,,1/NM,,NMOL/KG,PERCNT,DEG C,,,,,,,,/MILLE,,/MILLE,,
320620110219,       S04P,     122,          2,         13,         13,2,20110414,       0824,   -67.0001,   -94.3881,       4598,  1800.1,   1.3146,  34.7280,2,  34.7276,2,    195.4,2,   196.5,2,  103.89,2,   31.70,2,    0.00,2,    2.16,2,   0.152,2,   0.072,2,   0.008,2,   0.0290,2,  -999.0,9,  -999.0,9,-999.0000,9,  -999.00,   0.018,2,-999.0000,9,-999.000,9,   1.3153,2, -999.00,9,  -999.0,9,  -999.0,-999.000,9, -999.00,9,-999.000,9,   39.15,2,   34.17,2, -67.0001, -94.3881,   0.012,     -999.0,    34.8914,2,     -999.0,9,     -999.0,9,-999.0000,9,-999.0000,9,-999.0000,9,-999.0000,9,-999.0000,9,-999.0000,9,-999.0000,9,-999.0000,9,-999.0000,9,-999.0000,-999.000,   1.2038,     -999.0,     -999.0,9,     -999.0,9,     -999.0,9,     -999.0,9,     -999.0,20110414,       0924
320620110219,       S04P,     122,          2,         12,         12,2,20110414,       0824,   -67.0001,   -94.3881,       4598,  2000.6,   1.2075,  34.7244,2,  34.7241,2,    197.4,2,   198.3,2,  107.31,2,   31.78,2,    0.00,2,    2.16,2,-999.000,9,-999.000,9,-999.000,9,-999.0000,9,  2258.3,2,  2361.2,2,   7.6022,2,    25.00,-999.000,9,-999.0000,9,-999.000,9,   1.2070,2, -999.00,9,  -999.0,9,  -999.0,-999.000,9, -999.00,9,-999.000,9,   39.42,2,   34.03,2, -67.0001, -94.3881,-999.000,     -999.0,    34.8878,2,     -999.0,9,     -999.0,9,-999.0000,9,-999.0000,9,-999.0000,9,-999.0000,9,-999.0000,9,-999.0000,9,-999.0000,9,-999.0000,9,-999.0000,9,-999.0000,-999.000,   1.0828,     -999.0,     -999.0,9,     -999.0,9,     -999.0,9,     -999.0,9,     -999.0,20110414,       0920
320620110219,       S04P,     122,          2,         11,         11,2,20110414,       0824,   -67.0001,   -94.3881,       4598,  2250.0,   1.0779,  34.7200,2,  34.7196,2,    199.9,2,   200.6,2,  111.49,2,   32.02,2,    0.00,2,    2.18,2,   0.127,2,   0.063,2,   0.008,2,-999.0000,9,  -999.0,9,  -999.0,9,-999.0000,9,  -999.00,   0.020,2,-999.0000,9,-999.000,9,   1.0783,2, -999.00,9,  -999.0,9,  -999.0,-999.000,9, -999.00,9,-999.000,9,   39.48,2,   34.18,2, -67.0001, -94.3881,   0.012,     -999.0,    34.8833,2,     -999.0,9,     -999.0,9,-999.0000,9,-999.0000,9,-999.0000,9,-999.0000,9,-999.0000,9,-999.0000,9,-999.0000,9,-999.0000,9,-999.0000,9,-999.0000,-999.000,   0.9354,     -999.0,     -999.0,9,     -999.0,9,     -999.0,9,     -999.0,9,     -999.0,20110414,       0915
320620110219,       S04P,     122,          2,         10,         37,2,20110414,       0824,   -67.0001,   -94.3881,       4598,  2500.6,   0.9547,  34.7155,2,  34.7149,2,    202.0,2,   201.9,2,  116.51,2,   32.04,2,    0.00,2,    2.19,2,-999.000,9,-999.000,9,-999.000,9,-999.0000,9,  2259.8,2,  2362.1,2,   7.6017,2,    25.00,-999.000,9,-999.0000,9,-999.000,9,   0.9552,2, -999.00,9,  -999.0,9,  -999.0,-999.000,9, -999.00,9,-999.000,9,   39.38,2,   34.40,2, -67.0001, -94.3881,-999.000,     -999.0,    34.8786,2,     -999.0,9,     -999.0,9,-999.0000,9,-999.0000,9,-999.0000,9,-999.0000,9,-999.0000,9,-999.0000,9,-999.0000,9,-999.0000,9,-999.0000,9,-999.0000,-999.000,   0.7937,     -999.0,     -999.0,9,     -999.0,9,     -999.0,9,     -999.0,9,     -999.0,20110414,       0909
320620110219,       S04P,     122,          2,          9,          9,2,20110414,       0824,   -67.0001,   -94.3881,       4598,  2749.8,   0.8411,  34.7114,2,  34.7107,2,    204.2,2,   204.8,2,  120.59,2,   32.26,2,    0.00,2,    2.20,2,   0.164,2,   0.073,2,   0.006,2,   0.0450,2,  -999.0,9,  -999.0,9,-999.0000,9,  -999.00,   0.005,2,-999.0000,9,-999.000,9,   0.8410,2, -999.00,9,  -999.0,9,  -999.0,-999.000,9, -999.00,9,-999.000,9,   39.23,2,   34.81,2, -67.0001, -94.3881,   0.013,     -999.0,    34.8744,2,     -999.0,9,     -999.0,9,-999.0000,9,-999.0000,9,-999.0000,9,-999.0000,9,-999.0000,9,-999.0000,9,-999.0000,9,-999.0000,9,-999.0000,9,-999.0000,-999.000,   0.6610,     -999.0,     -999.0,9,     -999.0,9,     -999.0,9,     -999.0,9,     -999.0,20110414,       0904
320620110219,       S04P,     122,          2,          8,          8,2,20110414,       0824,   -67.0001,   -94.3881,       4598,  3000.2,   0.7523,  34.7085,2,  34.7076,2,    206.1,2,   205.8,2,  123.27,2,   32.31,2,    0.00,2,    2.21,2,-999.000,9,-999.000,9,-999.000,9,-999.0000,9,  2260.4,2,  2363.1,2,   7.5979,2,    25.00,-999.000,9,-999.0000,9,-999.000,9,   0.7517,2, -999.00,9,  -999.0,9,  -999.0,-999.000,9, -999.00,9,-999.000,9,   39.02,2,   34.89,2, -67.0001, -94.3881,-999.000,     -999.0,    34.8713,2,     -999.0,9,     -999.0,9,-999.0000,9,-999.0000,9,-999.0000,9,-999.0000,9,-999.0000,9,-999.0000,9,-999.0000,9,-999.0000,9,-999.0000,9,-999.0000,-999.000,   0.5518,     -999.0,     -999.0,9,     -999.0,9,     -999.0,9,     -999.0,9,     -999.0,20110414,       0859
320620110219,       S04P,     122,          2,          7,          7,2,20110414,       0824,   -67.0001,   -94.3881,       4598,  3300.6,   0.6285,  34.7059,2,  34.7054,2,    208.8,2,   209.1,2,  126.45,2,   32.33,2,    0.00,2,    2.21,2,   0.201,2,   0.093,2,   0.010,2,   0.0340,2,  -999.0,9,  -999.0,9,-999.0000,9,  -999.00,   0.009,2,-999.0000,9,-999.000,9,   0.6287,2, -999.00,9,  -999.0,9,  -999.0,-999.000,9, -999.00,9,-999.000,9,   39.21,2,   34.37,2, -67.0001, -94.3881,   0.012,     -999.0,    34.8691,2,     -999.0,9,     -999.0,9,-999.0000,9,-999.0000,9,-999.0000,9,-999.0000,9,-999.0000,9,-999.0000,9,-999.0000,9,-999.0000,9,-999.0000,9,-999.0000,-999.000,   0.4033,     -999.0,     -999.0,9,     -999.0,9,     -999.0,9,     -999.0,9,     -999.0,20110414,       0853
320620110219,       S04P,     122,          2,          6,          6,2,20110414,       0824,   -67.0001,   -94.3881,       4598,  3599.8,   0.5194,  34.7043,2,  34.7039,2,    211.1,2,   211.1,2,  130.11,2,   32.39,2,    0.00,2,    2.22,2,-999.000,9,-999.000,9,-999.000,9,-999.0000,9,  2261.2,2,  2363.2,2,   7.5965,2,    25.00,-999.000,9,-999.0000,9,-999.000,9,   0.5199,2, -999.00,9,  -999.0,9,  -999.0,-999.000,9, -999.00,9,-999.000,9,   39.34,2,   34.37,2, -67.0001, -94.3881,-999.000,     -999.0,    34.8675,2,     -999.0,9,     -999.0,9,-999.0000,9,-999.0000,9,-999.0000,9,-999.0000,9,-999.0000,9,-999.0000,9,-999.0000,9,-999.0000,9,-999.0000,9,-999.0000,-999.000,   0.2683,     -999.0,     -999.0,9,     -999.0,9,     -999.0,9,     -999.0,9,     -999.0,20110414,       0847
320620110219,       S04P,     122,          2,          5,          5,2,20110414,       0824,   -67.0001,   -94.3881,       4598,  3899.6,   0.4506,  34.7036,2,  34.7029,2,    212.7,2,   212.2,2,  133.69,2,   32.46,2,    0.00,2,    2.22,2,   0.226,2,   0.106,2,   0.010,2,   0.0380,2,  -999.0,9,  -999.0,9,-999.0000,9,  -999.00,   0.021,2,-999.0000,9,-999.000,9,   0.4505,2, -999.00,9,  -999.0,9,  -999.0,-999.000,9,   -0.15,2,-999.000,9,   39.70,2,   35.12,2, -67.0001, -94.3881,   0.013,     -999.0,    34.8665,2,     -999.0,9,     -999.0,9,-999.0000,9,-999.0000,9,-999.0000,9,-999.0000,9,-999.0000,9,-999.0000,9,-999.0000,9,-999.0000,9,-999.0000,9,-999.0000,-999.000,   0.1715,     -999.0,     -999.0,9,     -999.0,9,     -999.0,9,      -2.27,2,       0.08,20110414,       0841
320620110219,       S04P,     122,          2,          4,          4,2,20110414,       0824,   -67.0001,   -94.3881,       4598,  4200.1,   0.4220,  34.7029,2,  34.7027,2,    214.0,2,   213.6,2,  136.36,2,   32.58,2,    0.00,2,    2.22,2,   0.308,2,   0.147,2,   0.012,2,   0.0660,2,  2261.9,2,  -999.0,9,   7.5972,2,    25.00,-999.000,9,-999.0000,9,-999.000,9,   0.4221,2, -999.00,9,  -999.0,9,  -999.0,-999.000,9, -999.00,9,-999.000,9,   40.05,2,   35.35,2, -67.0001, -94.3881,-999.000,     -999.0,    34.8663,2,     -999.0,9,     -999.0,9,-999.0000,9,-999.0000,9,-999.0000,9,-999.0000,9,-999.0000,9,-999.0000,9,-999.0000,9,-999.0000,9,-999.0000,9,-999.0000,-999.000,   0.1127,     -999.0,     -999.0,9,     -999.0,9,     -999.0,9,     -999.0,9,     -999.0,20110414,       0835
320620110219,       S04P,     122,          2,          3,          3,2,20110414,       0824,   -67.0001,   -94.3881,       4598,  4499.6,   0.4085,  34.7021,2,  34.7019,2,    213.8,2,   214.0,2,  140.44,2,   32.61,2,    0.00,2,    2.24,2,   0.314,2,   0.144,2,   0.009,2,   0.0470,2,  2262.2,2,  2364.8,6,   7.5948,2,    25.00,   0.020,2,-999.0000,9,-999.000,9,   0.4087,2, -999.00,9,  -999.0,9,  -999.0,-999.000,9,   -0.09,2,-999.000,9,   40.43,2,   35.50,2, -67.0001, -94.3881,   0.012,     -999.0,    34.8656,2,     -999.0,9,     -999.0,9,-999.0000,9,-999.0000,9,-999.0000,9,-999.0000,9,-999.0000,9,-999.0000,9,-999.0000,9,-999.0000,9,-999.0000,9,-999.0000,-999.000,   0.0675,     -999.0,     -999.0,9,     -999.0,9,     -999.0,9,      -2.44,2,       0.46,20110414,       0829
320620110219,       S04P,     122,          2,          2,          2,2,20110414,       0824,   -67.0001,   -94.3881,       4598,  4599.7,   0.4094,  34.7019,2,  34.7015,2,    213.1,2,   213.4,2,  142.35,2,   32.65,2,    0.00,2,    2.23,2,   0.341,2,   0.161,2,   0.011,2,   0.0350,2,  2263.1,6,  -999.0,9,   7.5952,2,    25.00,-999.000,9,-999.0000,9,-999.000,9,   0.4090,2, -999.00,9,  -999.0,9,  -999.0,-999.000,9, -999.00,9,-999.000,9,   40.33,2,   35.14,2, -67.0001, -94.3881,-999.000,     -999.0,    34.8652,2,     -999.0,9,     -999.0,9,-999.0000,9,-999.0000,9,-999.0000,9,-999.0000,9,-999.0000,9,-999.0000,9,-999.0000,9,-999.0000,9,-999.0000,9,-999.0000,-999.000,   0.0574,     -999.0,     -999.0,9,     -999.0,9,     -999.0,9,     -999.0,9,     -999.0,20110414,       0826
320620110219,       S04P,     122,          2,          1,          1,2,20110414,       0824,   -67.0001,   -94.3881,       4598,  4682.3,   0.4173,  34.7017,2,  34.7013,2,    212.9,2,   214.2,2,  141.79,2,   32.54,2,    0.00,2,    2.24,2,   0.372,2,   0.172,2,   0.011,2,   0.0620,2,  2262.5,2,  2364.5,2,   7.5966,6,    25.00,   0.018,2,-999.0000,9,-999.000,9,   0.4164,2, -999.00,9,  -999.0,9,  -999.0,-999.000,9,   -0.03,2,-999.000,9,   40.41,2,   35.27,2, -67.0001, -94.3881,   0.012,     -999.0,    34.8650,2,     -999.0,9,     -999.0,9,-999.0000,9,-999.0000,9,-999.0000,9,-999.0000,9,-999.0000,9,-999.0000,9,-999.0000,9,-999.0000,9,-999.0000,9,-999.0000,-999.000,   0.0559,     -999.0,     -999.0,9,     -999.0,9,     -999.0,9,      -2.27,2,       0.30,20110414,       0824