BOTTLE,20220813CCHSIOAMB
EXPOCODE,SECT_ID,STNNBR,CASTNO,SAMPNO,BTLNBR,BTLNBR_FLAG_W,DATE,TIME,LATITUDE,LONGITUDE,DEPTH,CTDPRS,CTDTMP,CTDSAL,CTDSAL_FLAG_W,SALNTY,SALNTY_FLAG_W,CTDOXY,CTDOXY_FLAG_W,OXYGEN,OXYGEN_FLAG_W,SILCAT,SILCAT_FLAG_W,NITRAT,NITRAT_FLAG_W,NITRIT,NITRIT_FLAG_W,PHSPHT,PHSPHT_FLAG_W,CFC-11,CFC-11_FLAG_W,CFC-12,CFC-12_FLAG_W,CFC113,CFC113_FLAG_W,SF6,SF6_FLAG_W,TCARBN,TCARBN_FLAG_W,ALKALI,ALKALI_FLAG_W,PH_TOT,PH_TOT_FLAG_W,PH_TMP,TRITUM,TRITUM_FLAG_W,HELIUM,HELIUM_FLAG_W,DELHE3,DELHE3_FLAG_W,REFTMP,REFTMP_FLAG_W,DELC13,DELC13_FLAG_W,DELC14,DELC14_FLAG_W,C14ERR,NEON,NEON_FLAG_W,DELO18,DELO18_FLAG_W,POC,POC_FLAG_W,DOC,DOC_FLAG_W,TDN,TDN_FLAG_W,BTL_LAT,BTL_LON,TRITER,NEONER,SALTREF,SALTREF_FLAG_W,PIGMENTS,PIGMENTS_FLAG_W,LAB_DEN,LAB_DEN_FLAG_W,CDOM325,CDOM325_FLAG_W,CDOM340,CDOM340_FLAG_W,CDOM380,CDOM380_FLAG_W,CDOM412,CDOM412_FLAG_W,CDOM443,CDOM443_FLAG_W,CDOM490,CDOM490_FLAG_W,CDOM555,CDOM555_FLAG_W,CDOMSL,CDOMSL_FLAG_W,CDOMSN,CDOMSN_FLAG_W,HELIER,DELHER,THETA,LDEO_SAMPNO,ABSORBTION,ABSORBTION_FLAG_W,IMAGE_COUNT,IMAGE_COUNT_FLAG_W,CYTO_COUNT,CYTO_COUNT_FLAG_W,DELD,DELD_FLAG_W,DELDERR,BTL_DATE,BTL_TIME
,,,,,,,,,,,METERS,DBAR,ITS-90,PSS-78,,PSS-78,,UMOL/KG,,UMOL/KG,,UMOL/KG,,UMOL/KG,,UMOL/KG,,UMOL/KG,,PMOL/KG,,PMOL/KG,,PMOL/KG,,FMOL/KG,,UMOL/KG,,UMOL/KG,,,,DEG C,TU,,NMOL/KG,,PERCNT,,DEG C,,/MILLE,,/MILLE,,/MILLE,NMOL/KG,,/MILLE,,UG/KG,,UMOL/KG,,UMOL/KG,,,,TU,NMOL/KG,G/KG,,,,,,1/M,,1/M,,1/M,,1/M,,1/M,,1/M,,1/M,,1/NM,,1/NM,,NMOL/KG,PERCNT,DEG C,,,,,,,,/MILLE,,/MILLE,,
320620110219,       S04P,     113,          1,         36,         36,2,20110407,       1719,   -67.0003,  -114.8278,       4742,     4.9,  -0.6215,  33.4433,2,  33.4426,2,    341.9,3,   347.4,2,   18.82,2,   24.08,2,    0.21,2,    1.63,2,   6.173,2,   3.432,2,   0.649,2,   2.7150,2,  2131.0,6,  2259.6,2,   7.7048,2,    25.00,-999.000,9,-999.0000,9,-999.000,9,  -0.6221,2, -999.00,9,  -999.0,9,  -999.0,-999.000,9, -999.00,9,-999.000,9,   43.97,2,   28.06,2, -66.9996,-114.8286,-999.000,     -999.0,    33.6003,2,     -999.0,9,     -999.0,9,   0.0764,2,   0.0380,3,  -0.0004,4,  -0.0078,4,  -0.0148,4,  -0.0114,4,  -0.0120,4,   0.0734,4,   0.0534,4,-999.0000,-999.000,  -0.6216,     -999.0,     -999.0,9,     -999.0,9,     -999.0,9,     -999.0,9,     -999.0,20110407,       1913
320620110219,       S04P,     113,          1,         35,         35,2,20110407,       1719,   -67.0003,  -114.8278,       4742,    35.5,  -0.6272,  33.4547,2,  33.4552,2,    347.3,2,   347.1,2,   17.81,2,   23.94,2,    0.21,2,    1.66,2,   6.210,2,   3.414,2,   0.655,2,   2.7020,2,  2131.7,2,  2260.6,2,   7.7043,6,    25.00,-999.000,9,-999.0000,9,-999.000,9,  -0.6274,2, -999.00,9,  -999.0,9,  -999.0,-999.000,9, -999.00,9,-999.000,9,   43.72,2,   28.04,2, -66.9996,-114.8286,-999.000,     -999.0,    33.6130,2,     -999.0,9,     -999.0,9,   0.0692,2,   0.0341,3,  -0.0024,4,  -0.0089,4,  -0.0158,4,  -0.0124,4,  -0.0127,4,   0.0759,4,   0.0552,4,-999.0000,-999.000,  -0.6282,     -999.0,     -999.0,9,     -999.0,9,     -999.0,9,     -999.0,9,     -999.0,20110407,       1911
320620110219,       S04P,     113,          1,         34,         34,2,20110407,       1719,   -67.0003,  -114.8278,       4742,    59.9,  -1.2162,  33.7481,3,  33.6964,2,    336.0,2,   341.5,2,   32.41,2,   26.63,2,    0.18,2,    1.93,2,   6.066,2,   3.343,2,   0.638,2,   2.5820,2,  2156.6,2,  2275.8,6,   7.6711,2,    25.00,-999.000,9,-999.0000,9,-999.000,9,  -1.2589,2, -999.00,9,  -999.0,9,  -999.0,-999.000,9, -999.00,9,-999.000,9,   43.48,2,   30.49,2, -66.9996,-114.8287,-999.000,     -999.0,    33.8552,2,     -999.0,9,     -999.0,9,   0.0791,2,   0.0398,3,   0.0010,3,  -0.0046,4,  -0.0123,4,  -0.0107,4,  -0.0119,4,   0.0637,4,   0.0521,4,-999.0000,-999.000,  -1.2176,     -999.0,     -999.0,9,     -999.0,9,     -999.0,9,     -999.0,9,     -999.0,20110407,       1910
320620110219,       S04P,     113,          1,         33,         33,2,20110407,       1719,   -67.0003,  -114.8278,       4742,    85.0,  -1.3930,  33.9168,2,  33.9260,2,    328.9,2,   329.9,2,   41.84,2,   29.09,2,    0.19,2,    2.06,2,   5.831,2,   3.213,2,   0.617,2,   2.4560,2,  2179.7,2,  2289.3,2,   7.6432,2,    25.00,-999.000,9,-999.0000,9,-999.000,9,  -1.3878,2, -999.00,9,  -999.0,9,  -999.0,-999.000,9, -999.00,9,-999.000,9,   42.26,2,   33.04,2, -66.9996,-114.8286,-999.000,     -999.0,    34.0860,2,     -999.0,9,     -999.0,9,   0.0665,4,   0.0313,4,  -0.0030,4,  -0.0082,4,  -0.0149,4,  -0.0116,4,  -0.0121,4,   0.0742,4,   0.0577,4,-999.0000,-999.000,  -1.3949,     -999.0,     -999.0,9,     -999.0,9,     -999.0,9,     -999.0,9,     -999.0,20110407,       1908
320620110219,       S04P,     113,          1,         32,         32,2,20110407,       1719,   -67.0003,  -114.8278,       4742,   115.5,  -1.1259,  34.0185,2,  34.0073,2,    315.6,2,   315.2,2,   44.41,2,   30.23,2,    0.01,2,    2.09,2,   5.563,6,   3.027,6,   0.584,6,   2.3120,6,  2188.9,2,  2293.6,2,   7.6261,2,    25.00,-999.000,9,-999.0000,9,-999.000,9,  -1.1331,2, -999.00,9,  -999.0,9,  -999.0,-999.000,9, -999.00,9,-999.000,9,   40.94,2,   34.06,2, -66.9996,-114.8286,-999.000,     -999.0,    34.1677,2,     -999.0,9,     -999.0,9,   0.0646,3,   0.0285,3,  -0.0033,4,  -0.0088,4,  -0.0156,4,  -0.0123,4,  -0.0125,4,   0.0753,4,   0.0622,4,-999.0000,-999.000,  -1.1288,     -999.0,     -999.0,9,     -999.0,9,     -999.0,9,     -999.0,9,     -999.0,20110407,       1907
320620110219,       S04P,     113,          1,         31,         31,2,20110407,       1719,   -67.0003,  -114.8278,       4742,   164.2,   0.3741,  34.2189,2,  34.2203,2,    297.8,2,   270.8,2,   55.44,2,   32.27,2,    0.00,2,    2.23,2,   4.154,2,   2.276,2,   0.432,2,   1.7240,2,  2213.1,2,  2307.3,2,   7.5933,2,    25.00,-999.000,9,-999.0000,9,-999.000,9,   0.3730,2, -999.00,9,  -999.0,9,  -999.0,-999.000,9, -999.00,9,-999.000,9,   40.16,2,   35.95,2, -66.9996,-114.8286,-999.000,     -999.0,    34.3816,2,     -999.0,9,     -999.0,9,   0.0784,2,   0.0394,3,   0.0034,3,  -0.0044,4,  -0.0126,4,  -0.0114,4,  -0.0125,4,   0.0626,4,   0.0500,4,-999.0000,-999.000,   0.3677,     -999.0,     -999.0,9,     -999.0,9,     -999.0,9,     -999.0,9,     -999.0,20110407,       1905
320620110219,       S04P,     113,          1,         30,         30,2,20110407,       1719,   -67.0003,  -114.8278,       4742,   214.4,   1.6209,  34.4338,2,  34.4305,2,    204.6,2,   201.8,2,   67.80,2,   34.29,2,    0.00,2,    2.36,2,   2.094,2,   1.132,2,   0.191,2,   0.7980,2,  2241.9,2,  2321.4,2,   7.5461,2,    25.00,-999.000,9,-999.0000,9,-999.000,9,   1.6184,2, -999.00,9,  -999.0,9,  -999.0,-999.000,9, -999.00,9,-999.000,9,   39.60,2,   37.30,2, -66.9996,-114.8286,-999.000,     -999.0,    34.5928,2,     -999.0,9,     -999.0,9,   0.0839,2,   0.0432,3,   0.0047,3,  -0.0051,4,  -0.0141,4,  -0.0121,4,  -0.0127,4,   0.0581,4,   0.0483,4,-999.0000,-999.000,   1.6101,     -999.0,     -999.0,9,     -999.0,9,     -999.0,9,     -999.0,9,     -999.0,20110407,       1903
320620110219,       S04P,     113,          1,         29,         29,2,20110407,       1719,   -67.0003,  -114.8278,       4742,   265.3,   1.9586,  34.5279,2,  34.5291,2,    181.2,2,   182.9,2,   72.91,2,   34.22,2,    0.00,2,    2.36,2,   1.285,2,   0.681,2,   0.110,2,   0.4690,2,  2249.9,2,  2329.3,2,   7.5430,2,    25.00,-999.000,9,-999.0000,9,-999.000,9,   1.9586,2, -999.00,9,  -999.0,9,  -999.0,-999.000,9, -999.00,9,-999.000,9,   39.29,2,   37.08,2, -66.9996,-114.8286,-999.000,     -999.0,    34.6919,2,     -999.0,9,     -999.0,9,   0.0873,2,   0.0459,3,   0.0036,3,  -0.0042,4,  -0.0133,4,  -0.0117,4,  -0.0126,4,   0.0636,4,   0.0480,4,-999.0000,-999.000,   1.9444,     -999.0,     -999.0,9,     -999.0,9,     -999.0,9,     -999.0,9,     -999.0,20110407,       1901
320620110219,       S04P,     113,          1,         28,         28,2,20110407,       1719,   -67.0003,  -114.8278,       4742,   314.3,   2.0230,  34.5705,2,  34.5710,2,    177.9,2,   178.0,2,   75.14,2,   34.02,2,    0.00,2,    2.34,2,   1.015,2,   0.530,2,   0.085,2,   0.3130,2,  2252.5,2,  2332.9,2,   7.5466,2,    25.00,-999.000,9,-999.0000,9,-999.000,9,   2.0236,2, -999.00,9,  -999.0,9,  -999.0,-999.000,9, -999.00,9,-999.000,9,   39.56,2,   36.66,2, -66.9996,-114.8286,-999.000,     -999.0,    34.7340,2,     -999.0,9,     -999.0,9,   0.0838,2,   0.0425,3,   0.0009,3,  -0.0067,4,  -0.0151,4,  -0.0125,4,  -0.0130,4,   0.0645,4,   0.0516,4,-999.0000,-999.000,   2.0058,     -999.0,     -999.0,9,     -999.0,9,     -999.0,9,     -999.0,9,     -999.0,20110407,       1900
320620110219,       S04P,     113,          1,         27,         27,2,20110407,       1719,   -67.0003,  -114.8278,       4742,   364.6,   2.0779,  34.6037,2,  34.6022,2,    175.2,2,   174.7,2,   77.30,2,   33.76,2,    0.00,2,    2.33,2,   0.798,2,   0.401,2,   0.066,2,   0.2570,2,  2254.7,2,  2335.4,2,   7.5488,2,    25.00,-999.000,9,-999.0000,9,-999.000,9,   2.0778,2, -999.00,9,  -999.0,9,  -999.0,-999.000,9, -999.00,9,-999.000,9,   39.69,2,   36.58,2, -66.9996,-114.8286,-999.000,     -999.0,    34.7654,2,     -999.0,9,     -999.0,9,-999.0000,9,-999.0000,9,-999.0000,9,-999.0000,9,-999.0000,9,-999.0000,9,-999.0000,9,-999.0000,9,-999.0000,9,-999.0000,-999.000,   2.0576,     -999.0,     -999.0,9,     -999.0,9,     -999.0,9,     -999.0,9,     -999.0,20110407,       1858
320620110219,       S04P,     113,          1,         26,         26,2,20110407,       1719,   -67.0003,  -114.8278,       4742,   435.4,   2.0972,  34.6373,2,  34.6353,2,    173.5,2,   173.6,2,   78.89,2,   33.24,2,    0.00,2,    2.32,2,   0.597,2,   0.301,2,   0.041,2,   0.1800,2,  2255.0,2,  2338.0,2,   7.5560,2,    25.00,-999.000,9,-999.0000,9,-999.000,9,   2.0969,2, -999.00,9,  -999.0,9,  -999.0,-999.000,9, -999.00,9,-999.000,9,   40.12,2,   35.69,2, -66.9996,-114.8287,-999.000,     -999.0,    34.7987,2,     -999.0,9,     -999.0,9,-999.0000,9,-999.0000,9,-999.0000,9,-999.0000,9,-999.0000,9,-999.0000,9,-999.0000,9,-999.0000,9,-999.0000,9,-999.0000,-999.000,   2.0726,     -999.0,     -999.0,9,     -999.0,9,     -999.0,9,     -999.0,9,     -999.0,20110407,       1856
320620110219,       S04P,     113,          1,         25,         25,2,20110407,       1719,   -67.0003,  -114.8278,       4742,   535.1,   2.0623,  34.6751,2,  34.6752,2,    175.5,2,   175.8,2,   81.55,2,   32.54,2,    0.00,2,    2.27,2,-999.000,9,-999.000,9,-999.000,9,-999.0000,9,  2252.8,2,  2342.4,2,   7.5666,2,    25.00,-999.000,9,-999.0000,9,-999.000,9,   2.0629,2, -999.00,9,  -999.0,9,  -999.0,-999.000,9, -999.00,9,-999.000,9,   39.81,2,   34.71,2, -66.9996,-114.8286,-999.000,     -999.0,    34.8387,2,     -999.0,9,     -999.0,9,   0.1069,2,   0.0626,2,   0.0142,3,   0.0046,2,  -0.0064,4,  -0.0080,4,  -0.0109,4,   0.0402,3,   0.0374,3,-999.0000,-999.000,   2.0318,     -999.0,     -999.0,9,     -999.0,9,     -999.0,9,     -999.0,9,     -999.0,20110407,       1853
320620110219,       S04P,     113,          1,         24,         24,2,20110407,       1719,   -67.0003,  -114.8278,       4742,   633.8,   2.0081,  34.6965,2,  34.6958,2,    178.7,2,   179.1,2,   83.74,2,   32.13,2,    0.00,2,    2.24,2,   0.350,2,   0.175,2,   0.019,2,   0.1220,2,  2253.0,2,  2344.6,2,   7.5753,2,    25.00,-999.000,9,-999.0000,9,-999.000,9,   2.0078,2, -999.00,9,  -999.0,9,  -999.0,-999.000,9, -999.00,9,-999.000,9,   39.76,2,   34.42,2, -66.9996,-114.8286,-999.000,     -999.0,    34.8594,2,     -999.0,9,     -999.0,9,-999.0000,9,-999.0000,9,-999.0000,9,-999.0000,9,-999.0000,9,-999.0000,9,-999.0000,9,-999.0000,9,-999.0000,9,-999.0000,-999.000,   1.9717,     -999.0,     -999.0,9,     -999.0,9,     -999.0,9,     -999.0,9,     -999.0,20110407,       1851
320620110219,       S04P,     113,          1,         23,         23,2,20110407,       1719,   -67.0003,  -114.8278,       4742,   734.9,   1.9429,  34.7119,2,  34.7118,2,    182.1,2,   181.8,2,   85.44,2,   31.78,2,    0.00,2,    2.22,2,-999.000,9,-999.000,9,-999.000,9,-999.0000,9,  -999.0,9,  -999.0,9,-999.0000,9,  -999.00,-999.000,9,-999.0000,9,-999.000,9,   1.9427,2, -999.00,9,  -999.0,9,  -999.0,-999.000,9, -999.00,9,-999.000,9,   39.93,2,   34.55,2, -66.9996,-114.8286,-999.000,     -999.0,    34.8755,2,     -999.0,9,     -999.0,9,-999.0000,9,-999.0000,9,-999.0000,9,-999.0000,9,-999.0000,9,-999.0000,9,-999.0000,9,-999.0000,9,-999.0000,9,-999.0000,-999.000,   1.9005,     -999.0,     -999.0,9,     -999.0,9,     -999.0,9,     -999.0,9,     -999.0,20110407,       1848
320620110219,       S04P,     113,          1,         22,         22,2,20110407,       1719,   -67.0003,  -114.8278,       4742,   834.9,   1.8665,  34.7222,2,  34.7221,2,    185.6,2,   185.8,2,   87.24,2,   31.58,2,    0.00,2,    2.20,2,   0.255,2,   0.124,2,   0.016,2,   0.0950,2,  2251.1,2,  2348.5,2,   7.5889,2,    25.00,-999.000,9,-999.0000,9,-999.000,9,   1.8657,2, -999.00,9,  -999.0,9,  -999.0,-999.000,9, -999.00,9,-999.000,9,   39.37,2,   33.97,2, -66.9996,-114.8287,-999.000,     -999.0,    34.8858,2,     -999.0,9,     -999.0,9,   0.0889,2,   0.0471,3,   0.0042,3,  -0.0059,4,  -0.0149,4,  -0.0125,4,  -0.0131,4,   0.0604,4,   0.0472,4,-999.0000,-999.000,   1.8181,     -999.0,     -999.0,9,     -999.0,9,     -999.0,9,     -999.0,9,     -999.0,20110407,       1846
320620110219,       S04P,     113,          1,         21,         21,2,20110407,       1719,   -67.0003,  -114.8278,       4742,   934.7,   1.7665,  34.7293,2,  34.7291,2,    188.3,2,   187.8,2,   89.66,2,   31.40,2,    0.00,2,    2.19,2,-999.000,9,-999.000,9,-999.000,9,-999.0000,9,  -999.0,9,  -999.0,9,-999.0000,9,  -999.00,-999.000,9,-999.0000,9,-999.000,9,   1.7672,2, -999.00,9,  -999.0,9,  -999.0,-999.000,9, -999.00,9,-999.000,9,   39.74,2,   34.04,2, -66.9996,-114.8287,-999.000,     -999.0,    34.8929,2,     -999.0,9,     -999.0,9,-999.0000,9,-999.0000,9,-999.0000,9,-999.0000,9,-999.0000,9,-999.0000,9,-999.0000,9,-999.0000,9,-999.0000,9,-999.0000,-999.000,   1.7123,     -999.0,     -999.0,9,     -999.0,9,     -999.0,9,     -999.0,9,     -999.0,20110407,       1843
320620110219,       S04P,     113,          1,         20,         20,2,20110407,       1719,   -67.0003,  -114.8278,       4742,  1035.8,   1.6818,  34.7319,2,  34.7313,2,    189.9,2,   190.5,2,   91.80,2,   31.33,2,    0.00,2,    2.19,2,   0.215,2,   0.104,2,   0.015,2,   0.1070,2,  2251.3,2,  2352.4,2,   7.5977,2,    25.00,-999.000,9,-999.0000,9,-999.000,9,   1.6824,2, -999.00,9,  -999.0,9,  -999.0,-999.000,9, -999.00,9,-999.000,9,   39.81,2,   34.03,2, -66.9996,-114.8286,-999.000,     -999.0,    34.8950,2,     -999.0,9,     -999.0,9,-999.0000,9,-999.0000,9,-999.0000,9,-999.0000,9,-999.0000,9,-999.0000,9,-999.0000,9,-999.0000,9,-999.0000,9,-999.0000,-999.000,   1.6215,     -999.0,     -999.0,9,     -999.0,9,     -999.0,9,     -999.0,9,     -999.0,20110407,       1840
320620110219,       S04P,     113,          1,         19,         19,2,20110407,       1719,   -67.0003,  -114.8278,       4742,  1134.5,   1.6086,  34.7329,2,  34.7326,2,    191.9,2,   191.4,2,   94.12,2,   31.29,2,    0.00,2,    2.19,2,-999.000,9,-999.000,9,-999.000,9,-999.0000,9,  -999.0,9,  -999.0,9,-999.0000,9,  -999.00,-999.000,9,-999.0000,9,-999.000,9,   1.6082,2, -999.00,9,  -999.0,9,  -999.0,-999.000,9, -999.00,9,-999.000,9,   39.70,2,   33.46,2, -66.9996,-114.8286,-999.000,     -999.0,    34.8964,2,     -999.0,9,     -999.0,9,   0.0847,2,   0.0439,3,   0.0036,3,  -0.0069,4,  -0.0156,4,  -0.0129,4,  -0.0133,4,   0.0602,4,   0.0483,4,-999.0000,-999.000,   1.5423,     -999.0,     -999.0,9,     -999.0,9,     -999.0,9,     -999.0,9,     -999.0,20110407,       1838
320620110219,       S04P,     113,          1,         18,         18,2,20110407,       1719,   -67.0003,  -114.8278,       4742,  1234.7,   1.5259,  34.7329,2,  34.7320,2,    193.4,2,   193.1,2,   96.98,2,   31.42,2,    0.00,2,    2.19,2,   0.191,2,   0.092,2,   0.013,2,   0.0860,2,  2253.6,2,  2354.7,2,   7.5994,2,    25.00,-999.000,9,-999.0000,9,-999.000,9,   1.5262,2, -999.00,9,  -999.0,9,  -999.0,-999.000,9, -999.00,9,-999.000,9,   40.01,2,   34.16,2, -66.9996,-114.8286,-999.000,     -999.0,    34.8958,2,     -999.0,9,     -999.0,9,-999.0000,9,-999.0000,9,-999.0000,9,-999.0000,9,-999.0000,9,-999.0000,9,-999.0000,9,-999.0000,9,-999.0000,9,-999.0000,-999.000,   1.4536,     -999.0,     -999.0,9,     -999.0,9,     -999.0,9,     -999.0,9,     -999.0,20110407,       1835
320620110219,       S04P,     113,          1,         17,         17,2,20110407,       1719,   -67.0003,  -114.8278,       4742,  1334.7,   1.4509,  34.7320,2,  34.7312,2,    194.4,2,   193.9,2,   99.51,2,   31.55,2,    0.00,2,    2.18,2,-999.000,9,-999.000,9,-999.000,9,-999.0000,9,  -999.0,9,  -999.0,9,-999.0000,9,  -999.00,-999.000,9,-999.0000,9,-999.000,9,   1.4510,2, -999.00,9,  -999.0,9,  -999.0,-999.000,9, -999.00,9,-999.000,9,   40.05,2,   33.92,2, -66.9996,-114.8286,-999.000,     -999.0,    34.8950,2,     -999.0,9,     -999.0,9,-999.0000,9,-999.0000,9,-999.0000,9,-999.0000,9,-999.0000,9,-999.0000,9,-999.0000,9,-999.0000,9,-999.0000,9,-999.0000,-999.000,   1.3724,     -999.0,     -999.0,9,     -999.0,9,     -999.0,9,     -999.0,9,     -999.0,20110407,       1833
320620110219,       S04P,     113,          1,         16,         16,2,20110407,       1719,   -67.0003,  -114.8278,       4742,  1435.8,   1.3797,  34.7303,2,  34.7291,2,    195.2,2,   195.5,2,  101.71,2,   31.73,2,    0.00,2,    2.19,2,   0.167,2,   0.080,2,   0.011,2,   0.0710,2,  2255.6,2,  2356.0,2,   7.6009,6,    25.00,-999.000,9,-999.0000,9,-999.000,9,   1.3794,2, -999.00,9,  -999.0,9,  -999.0,-999.000,9, -999.00,9,-999.000,9,   40.20,2,   34.25,2, -66.9996,-114.8286,-999.000,     -999.0,    34.8928,2,     -999.0,9,     -999.0,9,   0.0828,2,   0.0419,3,   0.0009,3,  -0.0082,4,  -0.0162,4,  -0.0130,4,  -0.0133,4,   0.0640,4,   0.0515,4,-999.0000,-999.000,   1.2949,     -999.0,     -999.0,9,     -999.0,9,     -999.0,9,     -999.0,9,     -999.0,20110407,       1830
320620110219,       S04P,     113,          1,         15,         15,2,20110407,       1719,   -67.0003,  -114.8278,       4742,  1534.9,   1.2959,  34.7282,2,  34.7277,2,    196.3,2,   196.9,2,  104.13,2,   31.81,2,    0.00,2,    2.20,2,-999.000,9,-999.000,9,-999.000,9,-999.0000,9,  -999.0,9,  -999.0,9,-999.0000,9,  -999.00,-999.000,9,-999.0000,9,-999.000,9,   1.2962,2, -999.00,9,  -999.0,9,  -999.0,-999.000,9, -999.00,9,-999.000,9,   40.10,2,   34.43,2, -66.9996,-114.8286,-999.000,     -999.0,    34.8915,2,     -999.0,9,     -999.0,9,-999.0000,9,-999.0000,9,-999.0000,9,-999.0000,9,-999.0000,9,-999.0000,9,-999.0000,9,-999.0000,9,-999.0000,9,-999.0000,-999.000,   1.2050,     -999.0,     -999.0,9,     -999.0,9,     -999.0,9,     -999.0,9,     -999.0,20110407,       1827
320620110219,       S04P,     113,          1,         14,         14,2,20110407,       1719,   -67.0003,  -114.8278,       4742,  1666.8,   1.2121,  34.7255,2,  34.7248,2,    197.4,2,   197.6,2,  106.55,2,   31.97,2,    0.00,2,    2.20,2,   0.150,2,   0.073,2,   0.007,2,   0.0630,2,  2257.8,6,  2358.4,2,   7.6020,2,    25.00,-999.000,9,-999.0000,9,-999.000,9,   1.2127,2, -999.00,9,  -999.0,9,  -999.0,-999.000,9, -999.00,9,-999.000,9,   39.76,2,   34.28,2, -66.9996,-114.8286,-999.000,     -999.0,    34.8885,2,     -999.0,9,     -999.0,9,-999.0000,9,-999.0000,9,-999.0000,9,-999.0000,9,-999.0000,9,-999.0000,9,-999.0000,9,-999.0000,9,-999.0000,9,-999.0000,-999.000,   1.1127,     -999.0,     -999.0,9,     -999.0,9,     -999.0,9,     -999.0,9,     -999.0,20110407,       1824