BOTTLE,20220813CCHSIOAMB
EXPOCODE,SECT_ID,STNNBR,CASTNO,SAMPNO,BTLNBR,BTLNBR_FLAG_W,DATE,TIME,LATITUDE,LONGITUDE,DEPTH,CTDPRS,CTDTMP,CTDSAL,CTDSAL_FLAG_W,SALNTY,SALNTY_FLAG_W,CTDOXY,CTDOXY_FLAG_W,OXYGEN,OXYGEN_FLAG_W,SILCAT,SILCAT_FLAG_W,NITRAT,NITRAT_FLAG_W,NITRIT,NITRIT_FLAG_W,PHSPHT,PHSPHT_FLAG_W,CFC-11,CFC-11_FLAG_W,CFC-12,CFC-12_FLAG_W,CFC113,CFC113_FLAG_W,SF6,SF6_FLAG_W,TCARBN,TCARBN_FLAG_W,ALKALI,ALKALI_FLAG_W,PH_TOT,PH_TOT_FLAG_W,PH_TMP,TRITUM,TRITUM_FLAG_W,HELIUM,HELIUM_FLAG_W,DELHE3,DELHE3_FLAG_W,REFTMP,REFTMP_FLAG_W,DELC13,DELC13_FLAG_W,DELC14,DELC14_FLAG_W,C14ERR,NEON,NEON_FLAG_W,DELO18,DELO18_FLAG_W,POC,POC_FLAG_W,DOC,DOC_FLAG_W,TDN,TDN_FLAG_W,BTL_LAT,BTL_LON,TRITER,NEONER,SALTREF,SALTREF_FLAG_W,PIGMENTS,PIGMENTS_FLAG_W,LAB_DEN,LAB_DEN_FLAG_W,CDOM325,CDOM325_FLAG_W,CDOM340,CDOM340_FLAG_W,CDOM380,CDOM380_FLAG_W,CDOM412,CDOM412_FLAG_W,CDOM443,CDOM443_FLAG_W,CDOM490,CDOM490_FLAG_W,CDOM555,CDOM555_FLAG_W,CDOMSL,CDOMSL_FLAG_W,CDOMSN,CDOMSN_FLAG_W,HELIER,DELHER,THETA,LDEO_SAMPNO,ABSORBTION,ABSORBTION_FLAG_W,IMAGE_COUNT,IMAGE_COUNT_FLAG_W,CYTO_COUNT,CYTO_COUNT_FLAG_W,DELD,DELD_FLAG_W,DELDERR,BTL_DATE,BTL_TIME
,,,,,,,,,,,METERS,DBAR,ITS-90,PSS-78,,PSS-78,,UMOL/KG,,UMOL/KG,,UMOL/KG,,UMOL/KG,,UMOL/KG,,UMOL/KG,,PMOL/KG,,PMOL/KG,,PMOL/KG,,FMOL/KG,,UMOL/KG,,UMOL/KG,,,,DEG C,TU,,NMOL/KG,,PERCNT,,DEG C,,/MILLE,,/MILLE,,/MILLE,NMOL/KG,,/MILLE,,UG/KG,,UMOL/KG,,UMOL/KG,,,,TU,NMOL/KG,G/KG,,,,,,1/M,,1/M,,1/M,,1/M,,1/M,,1/M,,1/M,,1/NM,,1/NM,,NMOL/KG,PERCNT,DEG C,,,,,,,,/MILLE,,/MILLE,,
320620110219,       S04P,     136,          2,         36,         36,2,20110418,       1826,   -66.9990,   -73.4076,       3362,     2.4,  -0.3990,  33.6253,2,  33.6262,2,    336.3,3,   340.0,2,   16.62,2,   23.15,2,    0.21,2,    1.61,2,   6.111,2,   3.350,2,   0.634,2,   2.8030,2,  2146.2,6,  2274.2,2,   7.7031,2,    25.00,-999.000,9,-999.0000,9,-999.000,9,  -0.3991,2, -999.00,9,  -999.0,9,  -999.0,-999.000,9, -999.00,9,-999.000,9,   43.73,2,   28.21,2, -66.9990, -73.4081,-999.000,     -999.0,    33.7848,2,     -999.0,9,     -999.0,9,-999.0000,9,-999.0000,9,-999.0000,9,-999.0000,9,-999.0000,9,-999.0000,9,-999.0000,9,-999.0000,9,-999.0000,9,-999.0000,-999.000,  -0.3991,     -999.0,     -999.0,9,     -999.0,9,     -999.0,9,     -999.0,9,     -999.0,20110418,       1951
320620110219,       S04P,     136,          2,         35,         35,2,20110418,       1826,   -66.9990,   -73.4076,       3362,    24.7,  -0.3928,  33.6264,2,  33.6260,2,    340.6,2,   340.5,2,   16.54,2,   23.12,2,    0.21,2,    1.62,2,-999.000,9,-999.000,9,-999.000,9,-999.0000,9,  2146.0,2,  2274.9,2,   7.7030,6,    25.00,-999.000,9,-999.0000,9,-999.000,9,  -0.3930,2, -999.00,9,  -999.0,9,  -999.0,-999.000,9, -999.00,9,-999.000,9,   43.64,2,   28.21,2, -66.9990, -73.4080,-999.000,     -999.0,    33.7846,2,     -999.0,9,     -999.0,9,-999.0000,9,-999.0000,9,-999.0000,9,-999.0000,9,-999.0000,9,-999.0000,9,-999.0000,9,-999.0000,9,-999.0000,9,-999.0000,-999.000,  -0.3935,     -999.0,     -999.0,9,     -999.0,9,     -999.0,9,     -999.0,9,     -999.0,20110418,       1949
320620110219,       S04P,     136,          2,         34,         34,2,20110418,       1826,   -66.9990,   -73.4076,       3362,    50.0,  -0.3928,  33.6266,2,  33.6280,2,    338.9,2,   339.4,2,   16.51,2,   23.10,2,    0.21,2,    1.63,2,   6.103,2,   3.333,2,   0.645,2,   2.7720,2,  2146.6,2,  2276.6,2,   7.7021,2,    25.00,-999.000,9,-999.0000,9,-999.000,9,  -0.3932,2, -999.00,9,  -999.0,9,  -999.0,-999.000,9, -999.00,9,-999.000,9,   43.43,2,   28.08,2, -66.9990, -73.4078,-999.000,     -999.0,    33.7866,2,     -999.0,1,     -999.0,9,-999.0000,9,-999.0000,9,-999.0000,9,-999.0000,9,-999.0000,9,-999.0000,9,-999.0000,9,-999.0000,9,-999.0000,9,-999.0000,-999.000,  -0.3943,     -999.0,     -999.0,9,     -999.0,9,     -999.0,9,     -999.0,9,     -999.0,20110418,       1948
320620110219,       S04P,     136,          2,         33,         33,2,20110418,       1826,   -66.9990,   -73.4076,       3362,    70.7,  -0.6301,  33.8752,2,  33.8726,2,    314.5,2,   314.3,2,   38.18,2,   25.91,2,    0.22,2,    1.92,2,   5.544,2,   3.044,2,   0.568,2,   2.3840,2,  2176.8,2,  2300.3,4,   7.6601,2,    25.00,-999.000,9,-999.0000,9,-999.000,9,  -0.6343,2, -999.00,9,  -999.0,9,  -999.0,-999.000,9, -999.00,9,-999.000,9,   43.22,2,   30.00,2, -66.9989, -73.4077,-999.000,     -999.0,    34.0323,2,     -999.0,9,     -999.0,9,-999.0000,9,-999.0000,9,-999.0000,9,-999.0000,9,-999.0000,9,-999.0000,9,-999.0000,9,-999.0000,9,-999.0000,9,-999.0000,-999.000,  -0.6321,     -999.0,     -999.0,9,     -999.0,9,     -999.0,9,     -999.0,9,     -999.0,20110418,       1947
320620110219,       S04P,     136,          2,         32,         32,2,20110418,       1826,   -66.9990,   -73.4076,       3362,    90.5,  -0.5836,  34.1191,2,  34.1247,2,    266.7,2,   266.9,2,   57.59,2,   31.42,2,    0.33,2,    2.27,2,   4.304,2,   2.383,2,   0.438,2,   1.7170,2,  2215.3,2,  -999.0,9,   7.5793,2,    25.00,-999.000,9,-999.0000,9,-999.000,9,  -0.6035,2, -999.00,9,  -999.0,9,  -999.0,-999.000,9, -999.00,9,-999.000,9,   43.05,2,   35.01,2, -66.9989, -73.4076,-999.000,     -999.0,    34.2857,2,     -999.0,9,     -999.0,9,-999.0000,9,-999.0000,9,-999.0000,9,-999.0000,9,-999.0000,9,-999.0000,9,-999.0000,9,-999.0000,9,-999.0000,9,-999.0000,-999.000,  -0.5863,     -999.0,     -999.0,9,     -999.0,9,     -999.0,9,     -999.0,9,     -999.0,20110418,       1946
320620110219,       S04P,     136,          2,         31,         31,2,20110418,       1826,   -66.9990,   -73.4076,       3362,   114.7,   0.3004,  34.3014,2,  34.2941,2,    219.8,2,   226.1,2,   67.63,2,   33.65,2,    0.05,2,    2.33,2,   3.070,2,   1.722,2,   0.313,2,   1.2660,2,  2236.1,2,  2314.4,2,   7.5455,2,    25.00,-999.000,9,-999.0000,9,-999.000,9,   0.2858,2, -999.00,9,  -999.0,9,  -999.0,-999.000,9, -999.00,9,-999.000,9,   42.53,2,   36.62,2, -66.9989, -73.4075,-999.000,     -999.0,    34.4558,2,     -999.0,9,     -999.0,9,-999.0000,9,-999.0000,9,-999.0000,9,-999.0000,9,-999.0000,9,-999.0000,9,-999.0000,9,-999.0000,9,-999.0000,9,-999.0000,-999.000,   0.2960,     -999.0,     -999.0,9,     -999.0,9,     -999.0,9,     -999.0,9,     -999.0,20110418,       1944
320620110219,       S04P,     136,          2,         30,         30,2,20110418,       1826,   -66.9990,   -73.4076,       3362,   139.4,   1.3427,  34.4717,2,  34.4695,2,    196.9,2,   189.0,2,   73.74,2,   34.50,2,    0.02,2,    2.37,2,   1.768,2,   0.999,2,   0.165,2,   0.5690,2,  2250.8,2,  2326.9,6,   7.5298,2,    25.00,-999.000,9,-999.0000,9,-999.000,9,   1.3393,2, -999.00,9,  -999.0,9,  -999.0,-999.000,9, -999.00,9,-999.000,9,   42.22,2,   37.03,2, -66.9989, -73.4074,-999.000,     -999.0,    34.6320,2,     -999.0,9,     -999.0,9,-999.0000,9,-999.0000,9,-999.0000,9,-999.0000,9,-999.0000,9,-999.0000,9,-999.0000,9,-999.0000,9,-999.0000,9,-999.0000,-999.000,   1.3361,     -999.0,     -999.0,9,     -999.0,9,     -999.0,9,     -999.0,9,     -999.0,20110418,       1943
320620110219,       S04P,     136,          2,         29,         29,2,20110418,       1826,   -66.9990,   -73.4076,       3362,   184.6,   1.7993,  34.5584,2,  34.5589,2,    175.6,2,   175.2,2,   76.77,2,   34.32,2,    0.00,2,    2.36,2,   1.140,2,   0.615,2,   0.091,2,   0.2840,2,  2257.6,2,  2336.5,2,   7.5351,2,    25.00,-999.000,9,-999.0000,9,-999.000,9,   1.7990,2, -999.00,9,  -999.0,9,  -999.0,-999.000,9, -999.00,9,-999.000,9,   42.10,2,   36.89,2, -66.9989, -73.4072,-999.000,     -999.0,    34.7218,2,     -999.0,9,     -999.0,9,-999.0000,9,-999.0000,9,-999.0000,9,-999.0000,9,-999.0000,9,-999.0000,9,-999.0000,9,-999.0000,9,-999.0000,9,-999.0000,-999.000,   1.7898,     -999.0,     -999.0,9,     -999.0,9,     -999.0,9,     -999.0,9,     -999.0,20110418,       1942
320620110219,       S04P,     136,          2,         28,         28,2,20110418,       1826,   -66.9990,   -73.4076,       3362,   234.7,   1.9877,  34.6124,2,  34.6126,2,    171.3,2,   171.7,2,   79.12,2,   33.78,2,    0.00,2,    2.33,2,   0.786,2,   0.410,2,   0.059,2,   0.2240,2,  2258.2,2,  2337.7,2,   7.5411,2,    25.00,-999.000,9,-999.0000,9,-999.000,9,   1.9877,2, -999.00,9,  -999.0,9,  -999.0,-999.000,9, -999.00,9,-999.000,9,   41.68,2,   36.36,2, -66.9989, -73.4071,-999.000,     -999.0,    34.7758,2,     -999.0,9,     -999.0,9,-999.0000,9,-999.0000,9,-999.0000,9,-999.0000,9,-999.0000,9,-999.0000,9,-999.0000,9,-999.0000,9,-999.0000,9,-999.0000,-999.000,   1.9751,     -999.0,     -999.0,9,     -999.0,9,     -999.0,9,     -999.0,9,     -999.0,20110418,       1940
320620110219,       S04P,     136,          2,         27,         27,2,20110418,       1826,   -66.9990,   -73.4076,       3362,   285.3,   2.0273,  34.6435,2,  34.6442,2,    171.6,2,   171.6,2,   80.45,2,   33.35,2,    0.00,2,    2.30,2,-999.000,9,-999.000,9,-999.000,9,-999.0000,9,  -999.0,9,  -999.0,9,-999.0000,9,  -999.00,-999.000,9,-999.0000,9,-999.000,9,   2.0270,2, -999.00,9,  -999.0,9,  -999.0,-999.000,9, -999.00,9,-999.000,9,   40.91,2,   36.00,2, -66.9989, -73.4071,-999.000,     -999.0,    34.8075,2,     -999.0,9,     -999.0,9,-999.0000,9,-999.0000,9,-999.0000,9,-999.0000,9,-999.0000,9,-999.0000,9,-999.0000,9,-999.0000,9,-999.0000,9,-999.0000,-999.000,   2.0117,     -999.0,     -999.0,9,     -999.0,9,     -999.0,9,     -999.0,9,     -999.0,20110418,       1938
320620110219,       S04P,     136,          2,         26,         26,2,20110418,       1826,   -66.9990,   -73.4076,       3362,   335.0,   2.0461,  34.6672,2,  34.6679,2,    173.4,2,   173.5,2,   81.41,2,   32.75,2,    0.00,2,    2.26,2,   0.468,2,   0.241,2,   0.035,2,   0.1060,2,  2256.4,2,  2343.3,2,   7.5610,2,    25.00,-999.000,9,-999.0000,9,-999.000,9,   2.0458,2, -999.00,9,  -999.0,9,  -999.0,-999.000,9, -999.00,9,-999.000,9,   40.76,2,   35.50,2, -66.9989, -73.4071,-999.000,     -999.0,    34.8314,2,     -999.0,9,     -999.0,9,-999.0000,9,-999.0000,9,-999.0000,9,-999.0000,9,-999.0000,9,-999.0000,9,-999.0000,9,-999.0000,9,-999.0000,9,-999.0000,-999.000,   2.0276,     -999.0,     -999.0,9,     -999.0,9,     -999.0,9,     -999.0,9,     -999.0,20110418,       1937
320620110219,       S04P,     136,          2,         25,         25,2,20110418,       1826,   -66.9990,   -73.4076,       3362,   386.0,   1.9930,  34.6820,2,  34.6824,2,    173.9,2,   173.5,2,   83.33,2,   32.62,2,    0.00,2,    2.26,2,-999.000,9,-999.000,9,-999.000,9,-999.0000,9,  -999.0,9,  -999.0,9,-999.0000,9,  -999.00,-999.000,9,-999.0000,9,-999.000,9,   1.9927,2, -999.00,9,  -999.0,9,  -999.0,-999.000,9, -999.00,9,-999.000,9,   40.38,2,   35.33,2, -66.9988, -73.4070,-999.000,     -999.0,    34.8460,2,     -999.0,9,     -999.0,9,-999.0000,9,-999.0000,9,-999.0000,9,-999.0000,9,-999.0000,9,-999.0000,9,-999.0000,9,-999.0000,9,-999.0000,9,-999.0000,-999.000,   1.9717,     -999.0,     -999.0,9,     -999.0,9,     -999.0,9,     -999.0,9,     -999.0,20110418,       1935
320620110219,       S04P,     136,          2,         24,         24,2,20110418,       1826,   -66.9990,   -73.4076,       3362,   435.1,   1.9643,  34.6949,2,  34.6956,2,    174.8,2,   175.2,2,   84.56,2,   32.34,2,    0.00,2,    2.24,2,   0.369,2,   0.187,2,   0.024,2,   0.1040,2,  2257.4,2,  2345.8,2,   7.5685,2,    25.00,-999.000,9,-999.0000,9,-999.000,9,   1.9641,2, -999.00,9,  -999.0,9,  -999.0,-999.000,9, -999.00,9,-999.000,9,   40.40,2,   34.91,2, -66.9987, -73.4070,-999.000,     -999.0,    34.8592,2,     -999.0,9,     -999.0,9,-999.0000,9,-999.0000,9,-999.0000,9,-999.0000,9,-999.0000,9,-999.0000,9,-999.0000,9,-999.0000,9,-999.0000,9,-999.0000,-999.000,   1.9402,     -999.0,     -999.0,9,     -999.0,9,     -999.0,9,     -999.0,9,     -999.0,20110418,       1933
320620110219,       S04P,     136,          2,         23,         23,2,20110418,       1826,   -66.9990,   -73.4076,       3362,   485.1,   1.9206,  34.7046,2,  34.7054,2,    175.8,2,   177.7,2,   86.13,2,   32.19,2,    0.00,2,    2.23,2,-999.000,9,-999.000,9,-999.000,9,-999.0000,9,  -999.0,9,  -999.0,9,-999.0000,9,  -999.00,-999.000,9,-999.0000,9,-999.000,9,   1.9203,2, -999.00,9,  -999.0,9,  -999.0,-999.000,9, -999.00,9,-999.000,9,   40.33,2,   34.79,2, -66.9986, -73.4069,-999.000,     -999.0,    34.8690,2,     -999.0,9,     -999.0,9,-999.0000,9,-999.0000,9,-999.0000,9,-999.0000,9,-999.0000,9,-999.0000,9,-999.0000,9,-999.0000,9,-999.0000,9,-999.0000,-999.000,   1.8937,     -999.0,     -999.0,9,     -999.0,9,     -999.0,9,     -999.0,9,     -999.0,20110418,       1932
320620110219,       S04P,     136,          2,         22,         22,2,20110418,       1826,   -66.9990,   -73.4076,       3362,   564.2,   1.8651,  34.7159,2,  34.7164,2,    181.7,2,   180.8,2,   87.42,2,   31.84,2,    0.00,2,    2.20,2,   0.279,2,   0.133,2,   0.020,2,   0.0870,2,  2256.7,2,  2355.0,3,   7.5811,2,    25.00,-999.000,9,-999.0000,9,-999.000,9,   1.8653,2, -999.00,9,  -999.0,9,  -999.0,-999.000,9, -999.00,9,-999.000,9,   40.33,2,   34.38,2, -66.9985, -73.4069,-999.000,     -999.0,    34.8801,2,     -999.0,9,     -999.0,9,-999.0000,9,-999.0000,9,-999.0000,9,-999.0000,9,-999.0000,9,-999.0000,9,-999.0000,9,-999.0000,9,-999.0000,9,-999.0000,-999.000,   1.8337,     -999.0,     -999.0,9,     -999.0,9,     -999.0,9,     -999.0,9,     -999.0,20110418,       1930
320620110219,       S04P,     136,          2,         21,         21,2,20110418,       1826,   -66.9990,   -73.4076,       3362,   664.5,   1.7870,  34.7249,2,  34.7260,2,    185.2,2,   185.1,2,   89.17,2,   31.46,2,    0.00,2,    2.18,2,-999.000,9,-999.000,9,-999.000,9,-999.0000,9,  -999.0,9,  -999.0,9,-999.0000,9,  -999.00,-999.000,9,-999.0000,9,-999.000,9,   1.7861,2, -999.00,9,  -999.0,9,  -999.0,-999.000,9, -999.00,9,-999.000,9,   40.49,2,   33.80,2, -66.9985, -73.4070,-999.000,     -999.0,    34.8897,2,     -999.0,9,     -999.0,9,-999.0000,9,-999.0000,9,-999.0000,9,-999.0000,9,-999.0000,9,-999.0000,9,-999.0000,9,-999.0000,9,-999.0000,9,-999.0000,-999.000,   1.7498,     -999.0,     -999.0,9,     -999.0,9,     -999.0,9,     -999.0,9,     -999.0,20110418,       1927
320620110219,       S04P,     136,          2,         20,         20,2,20110418,       1826,   -66.9990,   -73.4076,       3362,   765.0,   1.6856,  34.7291,2,  34.7293,2,    187.1,2,   187.3,2,   92.00,2,   31.40,2,    0.00,2,    2.18,2,   0.202,2,   0.103,2,   0.012,2,   0.0450,2,  -999.0,9,  -999.0,9,-999.0000,9,  -999.00,-999.000,9,-999.0000,9,-999.000,9,   1.6859,2, -999.00,9,  -999.0,9,  -999.0,-999.000,9, -999.00,9,-999.000,9,   40.96,2,   33.98,2, -66.9988, -73.4070,-999.000,     -999.0,    34.8931,2,     -999.0,9,     -999.0,9,-999.0000,9,-999.0000,9,-999.0000,9,-999.0000,9,-999.0000,9,-999.0000,9,-999.0000,9,-999.0000,9,-999.0000,9,-999.0000,-999.000,   1.6428,     -999.0,     -999.0,9,     -999.0,9,     -999.0,9,     -999.0,9,     -999.0,20110418,       1925
320620110219,       S04P,     136,          2,         19,         19,2,20110418,       1826,   -66.9990,   -73.4076,       3362,   864.8,   1.5864,  34.7308,2,  34.7313,2,    189.1,2,   188.8,2,   94.77,2,   31.39,2,    0.00,2,    2.18,2,-999.000,9,-999.000,9,-999.000,9,-999.0000,9,  2257.1,2,  2360.6,3,   7.5961,2,    25.00,-999.000,9,-999.0000,9,-999.000,9,   1.5863,2, -999.00,9,  -999.0,9,  -999.0,-999.000,9, -999.00,9,-999.000,9,   40.87,2,   33.84,2, -66.9988, -73.4071,-999.000,     -999.0,    34.8950,2,     -999.0,9,     -999.0,9,-999.0000,9,-999.0000,9,-999.0000,9,-999.0000,9,-999.0000,9,-999.0000,9,-999.0000,9,-999.0000,9,-999.0000,9,-999.0000,-999.000,   1.5380,     -999.0,     -999.0,9,     -999.0,9,     -999.0,9,     -999.0,9,     -999.0,20110418,       1923
320620110219,       S04P,     136,          2,         18,         18,2,20110418,       1826,   -66.9990,   -73.4076,       3362,   964.0,   1.4990,  34.7308,2,  34.7311,2,    190.9,2,   190.7,2,   97.47,2,   31.41,2,    0.00,2,    2.18,2,   0.176,2,   0.085,2,   0.009,2,   0.0400,2,  -999.0,9,  -999.0,9,-999.0000,9,  -999.00,-999.000,9,-999.0000,9,-999.000,9,   1.4966,2, -999.00,9,  -999.0,9,  -999.0,-999.000,9, -999.00,9,-999.000,9,   40.64,2,   33.44,2, -66.9987, -73.4070,-999.000,     -999.0,    34.8948,2,     -999.0,9,     -999.0,9,-999.0000,9,-999.0000,9,-999.0000,9,-999.0000,9,-999.0000,9,-999.0000,9,-999.0000,9,-999.0000,9,-999.0000,9,-999.0000,-999.000,   1.4449,     -999.0,     -999.0,9,     -999.0,9,     -999.0,9,     -999.0,9,     -999.0,20110418,       1920
320620110219,       S04P,     136,          2,         17,         17,2,20110418,       1826,   -66.9990,   -73.4076,       3362,  1063.5,   1.4027,  34.7296,2,  34.7301,2,    192.6,2,   192.0,2,  100.74,2,   31.55,2,    0.00,2,    2.19,2,-999.000,9,-999.000,9,-999.000,9,-999.0000,9,  -999.0,9,  -999.0,9,-999.0000,9,  -999.00,-999.000,9,-999.0000,9,-999.000,9,   1.4027,2, -999.00,9,  -999.0,9,  -999.0,-999.000,9, -999.00,9,-999.000,9,   40.37,2,   33.58,2, -66.9987, -73.4070,-999.000,     -999.0,    34.8938,2,     -999.0,9,     -999.0,9,-999.0000,9,-999.0000,9,-999.0000,9,-999.0000,9,-999.0000,9,-999.0000,9,-999.0000,9,-999.0000,9,-999.0000,9,-999.0000,-999.000,   1.3429,     -999.0,     -999.0,9,     -999.0,9,     -999.0,9,     -999.0,9,     -999.0,20110418,       1918
320620110219,       S04P,     136,          2,         16,         16,2,20110418,       1826,   -66.9990,   -73.4076,       3362,  1164.3,   1.3223,  34.7277,2,  34.7281,2,    194.6,2,   194.1,2,  103.07,2,   31.56,2,    0.00,2,    2.18,2,   0.127,2,   0.062,2,   0.006,2,   0.0180,2,  2259.4,2,  2361.5,2,   7.6028,2,    25.00,-999.000,9,-999.0000,9,-999.000,9,   1.3222,2, -999.00,9,  -999.0,9,  -999.0,-999.000,9, -999.00,9,-999.000,9,   39.81,2,   33.72,2, -66.9988, -73.4071,-999.000,     -999.0,    34.8919,2,     -999.0,9,     -999.0,9,-999.0000,9,-999.0000,9,-999.0000,9,-999.0000,9,-999.0000,9,-999.0000,9,-999.0000,9,-999.0000,9,-999.0000,9,-999.0000,-999.000,   1.2566,     -999.0,     -999.0,9,     -999.0,9,     -999.0,9,     -999.0,9,     -999.0,20110418,       1915
320620110219,       S04P,     136,          2,         15,         15,2,20110418,       1826,   -66.9990,   -73.4076,       3362,  1264.0,   1.2549,  34.7264,2,  34.7267,2,    195.3,2,   195.3,2,  105.19,2,   31.60,2,    0.00,2,    2.18,2,-999.000,9,-999.000,9,-999.000,9,-999.0000,9,  -999.0,9,  -999.0,9,-999.0000,9,  -999.00,-999.000,9,-999.0000,9,-999.000,9,   1.2539,2, -999.00,9,  -999.0,9,  -999.0,-999.000,9, -999.00,9,-999.000,9,   39.88,2,   33.89,2, -66.9987, -73.4073,-999.000,     -999.0,    34.8905,2,     -999.0,9,     -999.0,9,-999.0000,9,-999.0000,9,-999.0000,9,-999.0000,9,-999.0000,9,-999.0000,9,-999.0000,9,-999.0000,9,-999.0000,9,-999.0000,-999.000,   1.1833,     -999.0,     -999.0,9,     -999.0,9,     -999.0,9,     -999.0,9,     -999.0,20110418,       1913
320620110219,       S04P,     136,          2,         14,         14,2,20110418,       1826,   -66.9990,   -73.4076,       3362,  1364.8,   1.1890,  34.7244,2,  34.7244,2,    195.9,2,   195.9,2,  107.43,2,   31.75,2,    0.00,2,    2.19,2,   0.110,2,   0.057,2,   0.006,2,   0.0240,2,  -999.0,9,  -999.0,9,-999.0000,9,  -999.00,-999.000,9,-999.0000,9,-999.000,9,   1.1889,2, -999.00,9,  -999.0,9,  -999.0,-999.000,9, -999.00,9,-999.000,9,   39.83,2,   34.13,2, -66.9988, -73.4073,-999.000,     -999.0,    34.8881,2,     -999.0,9,     -999.0,9,-999.0000,9,-999.0000,9,-999.0000,9,-999.0000,9,-999.0000,9,-999.0000,9,-999.0000,9,-999.0000,9,-999.0000,9,-999.0000,-999.000,   1.1112,     -999.0,     -999.0,9,     -999.0,9,     -999.0,9,     -999.0,9,     -999.0,20110418,       1911