BOTTLE,20220813CCHSIOAMB
EXPOCODE,SECT_ID,STNNBR,CASTNO,SAMPNO,BTLNBR,BTLNBR_FLAG_W,DATE,TIME,LATITUDE,LONGITUDE,DEPTH,CTDPRS,CTDTMP,CTDSAL,CTDSAL_FLAG_W,SALNTY,SALNTY_FLAG_W,CTDOXY,CTDOXY_FLAG_W,OXYGEN,OXYGEN_FLAG_W,SILCAT,SILCAT_FLAG_W,NITRAT,NITRAT_FLAG_W,NITRIT,NITRIT_FLAG_W,PHSPHT,PHSPHT_FLAG_W,CFC-11,CFC-11_FLAG_W,CFC-12,CFC-12_FLAG_W,CFC113,CFC113_FLAG_W,SF6,SF6_FLAG_W,TCARBN,TCARBN_FLAG_W,ALKALI,ALKALI_FLAG_W,PH_TOT,PH_TOT_FLAG_W,PH_TMP,TRITUM,TRITUM_FLAG_W,HELIUM,HELIUM_FLAG_W,DELHE3,DELHE3_FLAG_W,REFTMP,REFTMP_FLAG_W,DELC13,DELC13_FLAG_W,DELC14,DELC14_FLAG_W,C14ERR,NEON,NEON_FLAG_W,DELO18,DELO18_FLAG_W,POC,POC_FLAG_W,DOC,DOC_FLAG_W,TDN,TDN_FLAG_W,BTL_LAT,BTL_LON,TRITER,NEONER,SALTREF,SALTREF_FLAG_W,PIGMENTS,PIGMENTS_FLAG_W,LAB_DEN,LAB_DEN_FLAG_W,CDOM325,CDOM325_FLAG_W,CDOM340,CDOM340_FLAG_W,CDOM380,CDOM380_FLAG_W,CDOM412,CDOM412_FLAG_W,CDOM443,CDOM443_FLAG_W,CDOM490,CDOM490_FLAG_W,CDOM555,CDOM555_FLAG_W,CDOMSL,CDOMSL_FLAG_W,CDOMSN,CDOMSN_FLAG_W,HELIER,DELHER,THETA,LDEO_SAMPNO,ABSORBTION,ABSORBTION_FLAG_W,IMAGE_COUNT,IMAGE_COUNT_FLAG_W,CYTO_COUNT,CYTO_COUNT_FLAG_W,DELD,DELD_FLAG_W,DELDERR,BTL_DATE,BTL_TIME
,,,,,,,,,,,METERS,DBAR,ITS-90,PSS-78,,PSS-78,,UMOL/KG,,UMOL/KG,,UMOL/KG,,UMOL/KG,,UMOL/KG,,UMOL/KG,,PMOL/KG,,PMOL/KG,,PMOL/KG,,FMOL/KG,,UMOL/KG,,UMOL/KG,,,,DEG C,TU,,NMOL/KG,,PERCNT,,DEG C,,/MILLE,,/MILLE,,/MILLE,NMOL/KG,,/MILLE,,UG/KG,,UMOL/KG,,UMOL/KG,,,,TU,NMOL/KG,G/KG,,,,,,1/M,,1/M,,1/M,,1/M,,1/M,,1/M,,1/M,,1/NM,,1/NM,,NMOL/KG,PERCNT,DEG C,,,,,,,,/MILLE,,/MILLE,,
320620110219,       S04P,      26,          1,         13,         13,2,20110305,       0432,   -67.0000,  -174.1807,       2918,  1264.9,   0.7933,  34.7108,2,  34.7129,2,    204.3,2,   205.6,2,  116.75,2,   32.00,2,    0.00,2,    2.18,2,   0.219,2,   0.108,2,   0.019,2,-999.0000,9,  -999.0,9,  2358.3,2,   7.5908,4,    25.00,-999.000,9,-999.0000,9,-999.000,9,   0.7937,2, -999.00,9,  -999.0,9,  -999.0,-999.000,9, -999.00,9,-999.000,9,   39.41,2,   34.84,2, -67.0000,-174.1807,-999.000,     -999.0,    34.8766,2,     -999.0,9,     -999.0,9,-999.0000,9,-999.0000,9,-999.0000,9,-999.0000,9,-999.0000,9,-999.0000,9,-999.0000,9,-999.0000,9,-999.0000,9,-999.0000,-999.000,   0.7263,     -999.0,     -999.0,9,     -999.0,9,     -999.0,9,     -999.0,9,     -999.0,20110305,       0517
320620110219,       S04P,      26,          1,         12,         12,2,20110305,       0432,   -67.0000,  -174.1807,       2918,  1364.9,   0.7262,  34.7082,2,  34.7084,2,    205.4,2,   205.6,2,  118.45,2,   32.01,2,    0.00,2,    2.18,2,-999.000,9,-999.000,9,-999.000,9,-999.0000,9,  -999.0,9,  -999.0,9,-999.0000,9,  -999.00,-999.000,9,-999.0000,9,-999.000,9,   0.7259,2, -999.00,9,  -999.0,9,  -999.0,-999.000,9, -999.00,9,-999.000,9,   39.43,2,   34.77,2, -67.0000,-174.1807,-999.000,     -999.0,    34.8720,2,     -999.0,9,     -999.0,9,-999.0000,9,-999.0000,9,-999.0000,9,-999.0000,9,-999.0000,9,-999.0000,9,-999.0000,9,-999.0000,9,-999.0000,9,-999.0000,-999.000,   0.6535,     -999.0,     -999.0,9,     -999.0,9,     -999.0,9,     -999.0,9,     -999.0,20110305,       0514
320620110219,       S04P,      26,          1,         11,         11,2,20110305,       0432,   -67.0000,  -174.1807,       2918,  1464.0,   0.6868,  34.7067,2,  34.7077,2,    206.4,2,   206.5,2,  119.69,2,   32.06,2,    0.00,2,    2.18,2,   0.239,2,   0.131,2,   0.021,2,-999.0000,9,  -999.0,9,  2359.3,2,   7.5911,4,    25.00,-999.000,9,-999.0000,9,-999.000,9,   0.6870,2, -999.00,9,  -999.0,9,  -999.0,-999.000,9, -999.00,9,-999.000,9,   39.68,2,   34.31,2, -67.0000,-174.1807,-999.000,     -999.0,    34.8714,2,     -999.0,9,     -999.0,9,-999.0000,9,-999.0000,9,-999.0000,9,-999.0000,9,-999.0000,9,-999.0000,9,-999.0000,9,-999.0000,9,-999.0000,9,-999.0000,-999.000,   0.6080,     -999.0,     -999.0,9,     -999.0,9,     -999.0,9,     -999.0,9,     -999.0,20110305,       0511
320620110219,       S04P,      26,          1,         10,         37,2,20110305,       0432,   -67.0000,  -174.1807,       2918,  1562.9,   0.6426,  34.7054,2,  34.7066,2,    207.1,2,   206.9,2,  120.94,2,   32.00,2,    0.00,2,    2.19,2,-999.000,9,-999.000,9,-999.000,9,-999.0000,9,  -999.0,9,  -999.0,9,-999.0000,9,  -999.00,-999.000,9,-999.0000,9,-999.000,9,   0.6432,2, -999.00,9,  -999.0,9,  -999.0,-999.000,9, -999.00,9,-999.000,9,   39.87,2,   34.84,2, -67.0000,-174.1807,-999.000,     -999.0,    34.8702,2,     -999.0,9,     -999.0,9,-999.0000,9,-999.0000,9,-999.0000,9,-999.0000,9,-999.0000,9,-999.0000,9,-999.0000,9,-999.0000,9,-999.0000,9,-999.0000,-999.000,   0.5577,     -999.0,     -999.0,9,     -999.0,9,     -999.0,9,     -999.0,9,     -999.0,20110305,       0508
320620110219,       S04P,      26,          1,          9,          9,2,20110305,       0432,   -67.0000,  -174.1807,       2918,  1666.1,   0.5915,  34.7031,2,  34.7036,2,    208.3,2,   208.7,2,  122.08,2,   32.05,2,    0.00,2,    2.19,2,   0.304,2,   0.149,2,   0.025,2,-999.0000,9,  -999.0,9,  -999.0,9,-999.0000,9,  -999.00,-999.000,9,-999.0000,9,-999.000,9,   0.5914,2, -999.00,9,  -999.0,9,  -999.0,-999.000,9, -999.00,9,-999.000,9,   39.78,2,   34.23,2, -67.0000,-174.1807,-999.000,     -999.0,    34.8672,2,     -999.0,9,     -999.0,9,-999.0000,9,-999.0000,9,-999.0000,9,-999.0000,9,-999.0000,9,-999.0000,9,-999.0000,9,-999.0000,9,-999.0000,9,-999.0000,-999.000,   0.5003,     -999.0,     -999.0,9,     -999.0,9,     -999.0,9,     -999.0,9,     -999.0,20110305,       0505
320620110219,       S04P,      26,          1,          8,          8,2,20110305,       0432,   -67.0000,  -174.1807,       2918,  1766.8,   0.5365,  34.7018,2,  34.7036,2,    209.1,2,   209.4,2,  123.24,2,   32.17,2,    0.00,2,    2.20,2,-999.000,9,-999.000,9,-999.000,9,-999.0000,9,  -999.0,9,  -999.0,9,-999.0000,9,  -999.00,-999.000,9,-999.0000,9,-999.000,9,   0.5359,2, -999.00,9,  -999.0,9,  -999.0,-999.000,9, -999.00,9,-999.000,9,   39.67,2,   34.28,2, -67.0000,-174.1807,-999.000,     -999.0,    34.8672,2,     -999.0,9,     -999.0,9,-999.0000,9,-999.0000,9,-999.0000,9,-999.0000,9,-999.0000,9,-999.0000,9,-999.0000,9,-999.0000,9,-999.0000,9,-999.0000,-999.000,   0.4390,     -999.0,     -999.0,9,     -999.0,9,     -999.0,9,     -999.0,9,     -999.0,20110305,       0503
320620110219,       S04P,      26,          1,          7,          7,2,20110305,       0432,   -67.0000,  -174.1807,       2918,  1935.5,   0.4545,  34.6991,2,  34.7008,2,    210.7,2,   211.2,2,  123.95,2,   32.30,2,    0.00,2,    2.20,2,-999.000,9,-999.000,9,-999.000,9,-999.0000,9,  -999.0,9,  2360.6,2,   7.5882,4,    25.00,-999.000,9,-999.0000,9,-999.000,9,   0.4546,2, -999.00,9,  -999.0,9,  -999.0,-999.000,9, -999.00,9,-999.000,9,   39.61,2,   34.75,2, -67.0000,-174.1807,-999.000,     -999.0,    34.8645,2,     -999.0,9,     -999.0,9,-999.0000,9,-999.0000,9,-999.0000,9,-999.0000,9,-999.0000,9,-999.0000,9,-999.0000,9,-999.0000,9,-999.0000,9,-999.0000,-999.000,   0.3462,     -999.0,     -999.0,9,     -999.0,9,     -999.0,9,     -999.0,9,     -999.0,20110305,       0458
320620110219,       S04P,      26,          1,          6,          6,2,20110305,       0432,   -67.0000,  -174.1807,       2918,  2134.7,   0.3783,  34.6975,2,  34.6981,2,    212.5,2,   212.6,2,  124.01,2,   32.28,2,    0.00,2,    2.20,2,   0.412,2,   0.203,2,   0.034,2,-999.0000,9,  -999.0,9,  -999.0,9,-999.0000,9,  -999.00,-999.000,9,-999.0000,9,-999.000,9,   0.3786,2, -999.00,9,  -999.0,9,  -999.0,-999.000,9, -999.00,9,-999.000,9,   40.14,2,   34.74,2, -67.0000,-174.1807,-999.000,     -999.0,    34.8617,2,     -999.0,9,     -999.0,9,-999.0000,9,-999.0000,9,-999.0000,9,-999.0000,9,-999.0000,9,-999.0000,9,-999.0000,9,-999.0000,9,-999.0000,9,-999.0000,-999.000,   0.2567,     -999.0,     -999.0,9,     -999.0,9,     -999.0,9,     -999.0,9,     -999.0,20110305,       0454
320620110219,       S04P,      26,          1,          5,          5,2,20110305,       0432,   -67.0000,  -174.1807,       2918,  2336.4,   0.3036,  34.6946,2,  34.6949,2,    215.1,2,   215.0,2,  123.70,2,   32.26,2,    0.00,2,    2.22,2,   0.603,2,   0.315,2,   0.044,2,-999.0000,9,  -999.0,9,  -999.0,9,-999.0000,9,  -999.00,-999.000,9,-999.0000,9,-999.000,9,   0.3032,2, -999.00,9,  -999.0,9,  -999.0,-999.000,9, -999.00,9,-999.000,9,   40.09,2,   34.74,2, -67.0000,-174.1807,-999.000,     -999.0,    34.8585,2,     -999.0,9,     -999.0,9,-999.0000,9,-999.0000,9,-999.0000,9,-999.0000,9,-999.0000,9,-999.0000,9,-999.0000,9,-999.0000,9,-999.0000,9,-999.0000,-999.000,   0.1679,     -999.0,     -999.0,9,     -999.0,9,     -999.0,9,     -999.0,9,     -999.0,20110305,       0449
320620110219,       S04P,      26,          1,          4,          4,2,20110305,       0432,   -67.0000,  -174.1807,       2918,  2535.8,   0.2491,  34.6925,2,  34.6935,2,    217.0,2,   217.5,2,  122.27,2,   32.18,2,    0.00,2,    2.22,2,   0.810,2,   0.419,2,   0.063,2,-999.0000,9,  -999.0,9,  2358.1,2,   7.6023,4,    25.00,-999.000,9,-999.0000,9,-999.000,9,   0.2487,2, -999.00,9,  -999.0,9,  -999.0,-999.000,9, -999.00,9,-999.000,9,   40.06,2,   34.56,2, -67.0000,-174.1807,-999.000,     -999.0,    34.8571,2,     -999.0,9,     -999.0,9,-999.0000,9,-999.0000,9,-999.0000,9,-999.0000,9,-999.0000,9,-999.0000,9,-999.0000,9,-999.0000,9,-999.0000,9,-999.0000,-999.000,   0.0988,     -999.0,     -999.0,9,     -999.0,9,     -999.0,9,     -999.0,9,     -999.0,20110305,       0444
320620110219,       S04P,      26,          1,          3,          3,2,20110305,       0432,   -67.0000,  -174.1807,       2918,  2735.2,   0.2338,  34.6912,2,  34.6921,2,    218.2,2,   218.0,2,  122.33,2,   32.14,2,    0.00,2,    2.20,2,   0.821,2,   0.420,2,   0.056,2,-999.0000,9,  -999.0,9,  2357.6,6,   7.6013,4,    25.00,-999.000,9,-999.0000,9,-999.000,9,   0.2333,2, -999.00,9,  -999.0,9,  -999.0,-999.000,9, -999.00,9,-999.000,9,   40.39,2,   34.36,2, -67.0000,-174.1807,-999.000,     -999.0,    34.8557,2,     -999.0,9,     -999.0,9,-999.0000,9,-999.0000,9,-999.0000,9,-999.0000,9,-999.0000,9,-999.0000,9,-999.0000,9,-999.0000,9,-999.0000,9,-999.0000,-999.000,   0.0675,     -999.0,     -999.0,9,     -999.0,9,     -999.0,9,     -999.0,9,     -999.0,20110305,       0439
320620110219,       S04P,      26,          1,          2,          2,2,20110305,       0432,   -67.0000,  -174.1807,       2918,  2861.3,   0.2315,  34.6910,2,  34.6908,2,   -999.0,9,  -999.0,5,  122.30,2,   32.17,2,    0.00,2,    2.20,2,   0.853,2,   0.432,2,   0.064,2,-999.0000,9,  -999.0,9,  2358.1,2,   7.6033,4,    25.00,-999.000,9,-999.0000,9,-999.000,9,   0.2311,2, -999.00,9,  -999.0,9,  -999.0,-999.000,9, -999.00,9,-999.000,9,   40.73,2,   34.30,2, -67.0000,-174.1807,-999.000,     -999.0,    34.8543,2,     -999.0,9,     -999.0,9,-999.0000,9,-999.0000,9,-999.0000,9,-999.0000,9,-999.0000,9,-999.0000,9,-999.0000,9,-999.0000,9,-999.0000,9,-999.0000,-999.000,   0.0547,     -999.0,     -999.0,9,     -999.0,9,     -999.0,9,     -999.0,9,     -999.0,20110305,       0435
320620110219,       S04P,      26,          1,          1,          1,2,20110305,       0432,   -67.0000,  -174.1807,       2918,  2957.5,   0.2335,  34.6905,2,  34.6915,2,    218.7,2,   218.9,2,  122.27,2,   32.08,2,    0.00,2,    2.20,2,   0.861,2,   0.445,2,   0.064,2,-999.0000,9,  -999.0,9,  2358.1,2,   7.6007,2,    25.00,-999.000,9,-999.0000,9,-999.000,9,   0.2327,2, -999.00,9,  -999.0,9,  -999.0,-999.000,9, -999.00,9,-999.000,9,   40.61,2,   34.60,2, -67.0000,-174.1807,-999.000,     -999.0,    34.8551,2,     -999.0,9,     -999.0,9,-999.0000,9,-999.0000,9,-999.0000,9,-999.0000,9,-999.0000,9,-999.0000,9,-999.0000,9,-999.0000,9,-999.0000,9,-999.0000,-999.000,   0.0484,     -999.0,     -999.0,9,     -999.0,9,     -999.0,9,     -999.0,9,     -999.0,20110305,       0432