BOTTLE,20220813CCHSIOAMB
EXPOCODE,SECT_ID,STNNBR,CASTNO,SAMPNO,BTLNBR,BTLNBR_FLAG_W,DATE,TIME,LATITUDE,LONGITUDE,DEPTH,CTDPRS,CTDTMP,CTDSAL,CTDSAL_FLAG_W,SALNTY,SALNTY_FLAG_W,CTDOXY,CTDOXY_FLAG_W,OXYGEN,OXYGEN_FLAG_W,SILCAT,SILCAT_FLAG_W,NITRAT,NITRAT_FLAG_W,NITRIT,NITRIT_FLAG_W,PHSPHT,PHSPHT_FLAG_W,CFC-11,CFC-11_FLAG_W,CFC-12,CFC-12_FLAG_W,CFC113,CFC113_FLAG_W,SF6,SF6_FLAG_W,TCARBN,TCARBN_FLAG_W,ALKALI,ALKALI_FLAG_W,PH_TOT,PH_TOT_FLAG_W,PH_TMP,TRITUM,TRITUM_FLAG_W,HELIUM,HELIUM_FLAG_W,DELHE3,DELHE3_FLAG_W,REFTMP,REFTMP_FLAG_W,DELC13,DELC13_FLAG_W,DELC14,DELC14_FLAG_W,C14ERR,NEON,NEON_FLAG_W,DELO18,DELO18_FLAG_W,POC,POC_FLAG_W,DOC,DOC_FLAG_W,TDN,TDN_FLAG_W,BTL_LAT,BTL_LON,TRITER,NEONER,SALTREF,SALTREF_FLAG_W,PIGMENTS,PIGMENTS_FLAG_W,LAB_DEN,LAB_DEN_FLAG_W,CDOM325,CDOM325_FLAG_W,CDOM340,CDOM340_FLAG_W,CDOM380,CDOM380_FLAG_W,CDOM412,CDOM412_FLAG_W,CDOM443,CDOM443_FLAG_W,CDOM490,CDOM490_FLAG_W,CDOM555,CDOM555_FLAG_W,CDOMSL,CDOMSL_FLAG_W,CDOMSN,CDOMSN_FLAG_W,HELIER,DELHER,THETA,LDEO_SAMPNO,ABSORBTION,ABSORBTION_FLAG_W,IMAGE_COUNT,IMAGE_COUNT_FLAG_W,CYTO_COUNT,CYTO_COUNT_FLAG_W,DELD,DELD_FLAG_W,DELDERR,BTL_DATE,BTL_TIME
,,,,,,,,,,,METERS,DBAR,ITS-90,PSS-78,,PSS-78,,UMOL/KG,,UMOL/KG,,UMOL/KG,,UMOL/KG,,UMOL/KG,,UMOL/KG,,PMOL/KG,,PMOL/KG,,PMOL/KG,,FMOL/KG,,UMOL/KG,,UMOL/KG,,,,DEG C,TU,,NMOL/KG,,PERCNT,,DEG C,,/MILLE,,/MILLE,,/MILLE,NMOL/KG,,/MILLE,,UG/KG,,UMOL/KG,,UMOL/KG,,,,TU,NMOL/KG,G/KG,,,,,,1/M,,1/M,,1/M,,1/M,,1/M,,1/M,,1/M,,1/NM,,1/NM,,NMOL/KG,PERCNT,DEG C,,,,,,,,/MILLE,,/MILLE,,
320620110219,       S04P,      24,          1,         36,         36,2,20110304,       1403,   -67.0006,  -176.7383,       4087,     6.1,  -0.0407,  33.8710,2,  33.8717,2,    336.9,3,   338.5,2,   54.12,2,   26.60,2,    0.19,2,    1.75,2,   5.807,2,   3.242,2,   0.574,2,-999.0000,9,  2169.7,6,  2290.5,2,   7.6716,2,    25.00,   0.086,2,    2.025,2,  -1.830,2,  -0.0410,2, -999.00,9,  -999.0,9,  -999.0,   8.988,2,   -0.34,2,-999.000,9,   44.56,2,   31.36,2, -67.0006,-176.7380,   0.005,      0.013,    34.0314,2,     -999.0,9,     -999.0,9,-999.0000,9,-999.0000,9,-999.0000,9,-999.0000,9,-999.0000,9,-999.0000,9,-999.0000,9,-999.0000,9,-999.0000,9,    0.000,   0.192,  -0.0409,50002401036,     -999.0,9,     -999.0,9,     -999.0,9,      -3.80,2,       0.17,20110304,       1610
320620110219,       S04P,      24,          1,         35,         35,2,20110304,       1403,   -67.0006,  -176.7383,       4087,    25.0,  -0.0477,  33.8712,2,  33.8723,2,    339.0,2,   338.6,2,   54.36,2,   26.57,2,    0.19,2,    1.77,2,   5.817,2,-999.000,9,   0.562,2,-999.0000,9,  2169.9,2,  2289.4,2,   7.6782,4,    25.00,   0.055,2,    2.100,2,  -1.774,2,  -0.0477,2, -999.00,9,  -999.0,9,  -999.0,   9.358,2,   -0.44,2,-999.000,9,   43.88,2,   31.33,2, -67.0006,-176.7380,   0.005,      0.015,    34.0320,2,     -999.0,9,     -999.0,9,-999.0000,9,-999.0000,9,-999.0000,9,-999.0000,9,-999.0000,9,-999.0000,9,-999.0000,9,-999.0000,9,-999.0000,9,    0.001,   0.192,  -0.0485,50002401035,     -999.0,9,     -999.0,9,     -999.0,9,      -3.81,2,       0.18,20110304,       1608
320620110219,       S04P,      24,          1,         34,         34,2,20110304,       1403,   -67.0006,  -176.7383,       4087,    49.3,  -0.2792,  33.9274,2,  33.9296,2,    338.4,2,   334.2,2,   54.72,2,   26.82,2,    0.17,2,    1.80,2,   5.698,2,   3.124,2,   0.549,2,-999.0000,9,  2174.6,2,  2294.1,6,   7.6908,4,    25.00,   0.095,2,    2.073,2,  -1.427,2,  -0.2674,2, -999.00,9,  -999.0,9,  -999.0,   9.267,2,   -0.38,2,-999.000,9,   43.17,2,   31.52,2, -67.0006,-176.7379,   0.006,      0.014,    34.0896,2,     -999.0,9,     -999.0,9,-999.0000,9,-999.0000,9,-999.0000,9,-999.0000,9,-999.0000,9,-999.0000,9,-999.0000,9,-999.0000,9,-999.0000,9,    0.001,   0.180,  -0.2808,50002401034,     -999.0,9,     -999.0,9,     -999.0,9,      -3.79,2,       0.21,20110304,       1606
320620110219,       S04P,      24,          1,         33,         33,2,20110304,       1403,   -67.0006,  -176.7383,       4087,    74.9,  -1.6672,  34.2333,2,  34.2313,2,    305.3,2,   303.3,2,   57.70,2,   28.72,2,    0.09,2,    1.97,2,   4.787,2,   2.623,2,   0.458,2,-999.0000,9,  2205.8,2,  2313.7,2,   7.6525,4,    25.00,   0.042,2,    2.023,2,   0.657,2,  -1.6658,2, -999.00,9,  -999.0,9,  -999.0,   9.046,2,   -0.33,2,-999.000,9,   43.88,2,   32.33,2, -67.0005,-176.7380,   0.006,      0.013,    34.3927,2,     -999.0,9,     -999.0,9,-999.0000,9,-999.0000,9,-999.0000,9,-999.0000,9,-999.0000,9,-999.0000,9,-999.0000,9,-999.0000,9,-999.0000,9,    0.001,   0.192,  -1.6687,50002401033,     -999.0,9,     -999.0,9,     -999.0,9,      -3.72,2,       0.04,20110304,       1605
320620110219,       S04P,      24,          1,         32,         32,2,20110304,       1403,   -67.0006,  -176.7383,       4087,   100.7,  -1.6530,  34.2778,2,  34.2807,2,    290.7,2,   292.7,2,   61.55,2,   29.16,2,    0.12,2,    2.01,2,   4.538,2,   2.519,2,   0.455,2,-999.0000,9,  2209.6,2,  2315.5,2,   7.6235,4,    25.00,-999.000,9,    2.047,2,   1.551,2,  -1.6506,2, -999.00,9,  -999.0,9,  -999.0,   9.166,2,   -0.30,2,-999.000,9,   43.01,2,   33.01,2, -67.0006,-176.7380,-999.000,      0.015,    34.4423,2,     -999.0,9,     -999.0,9,-999.0000,9,-999.0000,9,-999.0000,9,-999.0000,9,-999.0000,9,-999.0000,9,-999.0000,9,-999.0000,9,-999.0000,9,    0.001,   0.180,  -1.6551,50002401032,     -999.0,9,     -999.0,9,     -999.0,9,      -3.28,2,       0.26,20110304,       1603
320620110219,       S04P,      24,          1,         31,         31,2,20110304,       1403,   -67.0006,  -176.7383,       4087,   126.1,  -1.2557,  34.3394,2,  34.3400,2,    280.3,2,   274.4,2,   65.14,2,   30.05,2,    0.02,2,    2.06,2,   4.012,2,   2.230,2,   0.396,2,-999.0000,9,  2217.3,2,  2318.0,2,   7.6140,4,    25.00,   0.033,2,    1.995,2,   2.270,2,  -1.2529,2, -999.00,9,  -999.0,9,  -999.0,   8.934,2,   -0.14,2,-999.000,9,   43.27,2,   32.89,2, -67.0006,-176.7380,   0.005,      0.013,    34.5019,2,     -999.0,9,     -999.0,9,-999.0000,9,-999.0000,9,-999.0000,9,-999.0000,9,-999.0000,9,-999.0000,9,-999.0000,9,-999.0000,9,-999.0000,9,    0.000,   0.193,  -1.2588,50002401031,     -999.0,9,     -999.0,9,     -999.0,9,      -2.57,2,       0.09,20110304,       1602
320620110219,       S04P,      24,          1,         30,         30,2,20110304,       1403,   -67.0006,  -176.7383,       4087,   148.6,  -0.1038,  34.4462,2,  34.4429,2,    255.5,2,   235.5,2,   73.03,2,   31.50,2,    0.01,2,    2.16,2,   2.682,2,   1.464,2,   0.235,2,-999.0000,9,  2231.6,2,  2320.8,4,   7.5856,4,    25.00,   0.082,2,    1.996,2,   5.133,2,  -0.1125,2, -999.00,9,  -999.0,9,  -999.0,   8.847,2, -999.00,9,-999.000,9,   42.96,2,   34.41,2, -67.0006,-176.7380,   0.004,      0.011,    34.6053,2,     -999.0,9,     -999.0,9,-999.0000,9,-999.0000,9,-999.0000,9,-999.0000,9,-999.0000,9,-999.0000,9,-999.0000,9,-999.0000,9,-999.0000,9,    0.001,   0.203,  -0.1090,50002401030,     -999.0,9,     -999.0,9,     -999.0,9,     -999.0,9,     -999.0,20110304,       1600
320620110219,       S04P,      24,          1,         29,         29,2,20110304,       1403,   -67.0006,  -176.7383,       4087,   200.1,   1.0359,  34.5904,2,  34.5927,2,    206.3,2,   197.5,2,   83.00,2,   32.45,2,    0.00,2,    2.22,2,   1.256,2,   0.683,2,   0.112,2,-999.0000,9,  2244.6,2,  2333.8,2,   7.5384,4,    25.00,   0.009,2,    2.080,2,   7.221,2,   1.0365,2, -999.00,9,  -999.0,9,  -999.0,   9.099,2,   -0.05,2,-999.000,9,   42.57,2,   34.55,2, -67.0006,-176.7380,   0.005,      0.011,    34.7558,2,     -999.0,9,     -999.0,9,-999.0000,9,-999.0000,9,-999.0000,9,-999.0000,9,-999.0000,9,-999.0000,9,-999.0000,9,-999.0000,9,-999.0000,9,    0.000,   0.216,   1.0268,50002401029,     -999.0,9,     -999.0,9,     -999.0,9,      -1.64,2,       0.24,20110304,       1558
320620110219,       S04P,      24,          1,         28,         28,2,20110304,       1403,   -67.0006,  -176.7383,       4087,   246.6,   1.3296,  34.6479,2,  34.6476,2,    189.6,2,   189.2,2,   86.12,2,   32.37,2,    0.00,2,    2.23,2,   0.854,2,   0.460,2,   0.059,2,-999.0000,9,  2248.7,2,  2338.3,2,   7.5501,4,    25.00,   0.056,2,    1.966,2,   7.563,2,   1.3327,2, -999.00,9,  -999.0,9,  -999.0,   8.609,2,   -0.07,2,-999.000,9,   42.17,2,   34.68,2, -67.0005,-176.7380,   0.004,      0.010,    34.8110,2,     -999.0,9,     -999.0,9,-999.0000,9,-999.0000,9,-999.0000,9,-999.0000,9,-999.0000,9,-999.0000,9,-999.0000,9,-999.0000,9,-999.0000,9,    0.000,   0.216,   1.3176,50002401028,     -999.0,9,     -999.0,9,     -999.0,9,      -1.55,2,       0.11,20110304,       1557
320620110219,       S04P,      24,          1,         27,         27,2,20110304,       1403,   -67.0006,  -176.7383,       4087,   300.6,   1.5024,  34.6888,2,  34.6894,2,    185.7,2,   186.1,2,   89.29,2,   32.22,2,    0.00,2,    2.22,2,-999.000,9,-999.000,9,-999.000,9,-999.0000,9,  2256.3,2,  2340.7,2,   7.5982,4,    25.00,   0.001,2,    2.001,2,   8.974,2,   1.5035,2, -999.00,9,  -999.0,9,  -999.0,   8.762,2,   -0.20,2,-999.000,9,   41.87,2,   34.30,2, -67.0006,-176.7380,   0.004,      0.006,    34.8530,2,     -999.0,9,     -999.0,9,-999.0000,9,-999.0000,9,-999.0000,9,-999.0000,9,-999.0000,9,-999.0000,9,-999.0000,9,-999.0000,9,-999.0000,9,    0.000,   0.222,   1.4872,50002401027,     -999.0,9,     -999.0,9,     -999.0,9,      -1.74,2,       0.13,20110304,       1555
320620110219,       S04P,      24,          1,         26,         26,2,20110304,       1403,   -67.0006,  -176.7383,       4087,   350.4,   1.5564,  34.7148,2,  34.7150,2,    185.3,2,   185.1,2,   92.43,2,   31.98,2,    0.00,2,    2.20,2,-999.000,9,-999.000,9,-999.000,9,-999.0000,9,  2255.5,2,  2345.7,2,   7.5860,4,    25.00,-999.000,9,-999.0000,9,-999.000,9,   1.5560,2, -999.00,9,  -999.0,9,  -999.0,-999.000,9, -999.00,9,-999.000,9,   41.17,2,   34.36,2, -67.0005,-176.7380,-999.000,     -999.0,    34.8786,2,     -999.0,9,     -999.0,9,-999.0000,9,-999.0000,9,-999.0000,9,-999.0000,9,-999.0000,9,-999.0000,9,-999.0000,9,-999.0000,9,-999.0000,9,-999.0000,-999.000,   1.5384,     -999.0,     -999.0,9,     -999.0,9,     -999.0,9,     -999.0,9,     -999.0,20110304,       1553
320620110219,       S04P,      24,          1,         25,         25,2,20110304,       1403,   -67.0006,  -176.7383,       4087,   400.7,   1.5276,  34.7249,2,  34.7269,2,    186.0,2,   185.8,2,   95.21,2,   31.90,2,    0.00,2,    2.20,2,   0.275,2,   0.140,2,   0.019,2,-999.0000,9,  2258.3,2,  2348.0,2,   7.6045,4,    25.00,   0.001,2,    2.070,2,   9.143,2,   1.5271,2, -999.00,9,  -999.0,9,  -999.0,   9.021,2,    0.06,2,-999.000,9,   41.13,2,   34.25,2, -67.0006,-176.7380,   0.004,      0.007,    34.8907,2,     -999.0,9,     -999.0,9,-999.0000,9,-999.0000,9,-999.0000,9,-999.0000,9,-999.0000,9,-999.0000,9,-999.0000,9,-999.0000,9,-999.0000,9,    0.000,   0.211,   1.5069,50002401025,     -999.0,9,     -999.0,9,     -999.0,9,      -1.77,2,       0.44,20110304,       1551
320620110219,       S04P,      24,          1,         24,         24,2,20110304,       1403,   -67.0006,  -176.7383,       4087,   453.0,   1.4750,  34.7281,2,  34.7287,2,    186.8,2,   187.1,2,   97.25,2,   31.88,2,    0.00,2,    2.20,2,-999.000,9,-999.000,9,-999.000,9,-999.0000,9,  2257.6,2,  2348.3,2,   7.5784,4,    25.00,-999.000,9,-999.0000,9,-999.000,9,   1.4749,2, -999.00,9,  -999.0,9,  -999.0,-999.000,9, -999.00,9,-999.000,9,   41.00,2,   34.28,2, -67.0006,-176.7379,-999.000,     -999.0,    34.8925,2,     -999.0,9,     -999.0,9,-999.0000,9,-999.0000,9,-999.0000,9,-999.0000,9,-999.0000,9,-999.0000,9,-999.0000,9,-999.0000,9,-999.0000,9,-999.0000,-999.000,   1.4516,     -999.0,     -999.0,9,     -999.0,9,     -999.0,9,     -999.0,9,     -999.0,20110304,       1549
320620110219,       S04P,      24,          1,         23,         23,2,20110304,       1403,   -67.0006,  -176.7383,       4087,   499.2,   1.4376,  34.7290,2,  34.7291,2,    187.1,2,   187.4,2,   98.71,2,   31.91,2,    0.00,2,    2.20,2,-999.000,9,-999.000,9,-999.000,9,-999.0000,9,  2260.4,2,  2349.4,2,   7.5623,4,    25.00,   0.001,2,    2.027,2,   9.461,2,   1.4376,2, -999.00,9,  -999.0,9,  -999.0,   8.809,2,   -0.02,2,-999.000,9,   40.91,2,   34.24,2, -67.0006,-176.7380,   0.005,      0.011,    34.8929,2,     -999.0,9,     -999.0,9,-999.0000,9,-999.0000,9,-999.0000,9,-999.0000,9,-999.0000,9,-999.0000,9,-999.0000,9,-999.0000,9,-999.0000,9,    0.000,   0.205,   1.4118,50002401023,     -999.0,9,     -999.0,9,     -999.0,9,      -1.47,2,       0.06,20110304,       1547
320620110219,       S04P,      24,          1,         22,         22,2,20110304,       1403,   -67.0006,  -176.7383,       4087,   602.4,   1.3540,  34.7302,2,  34.7305,2,    187.6,2,   187.3,2,  103.18,2,   32.09,2,    0.00,2,    2.22,2,-999.000,9,-999.000,9,-999.000,9,-999.0000,9,  -999.0,9,  -999.0,9,-999.0000,9,  -999.00,-999.000,9,-999.0000,9,-999.000,9,   1.3540,2, -999.00,9,  -999.0,9,  -999.0,-999.000,9, -999.00,9,-999.000,9,   40.82,2,   34.21,2, -67.0006,-176.7380,-999.000,     -999.0,    34.8942,2,     -999.0,9,     -999.0,9,-999.0000,9,-999.0000,9,-999.0000,9,-999.0000,9,-999.0000,9,-999.0000,9,-999.0000,9,-999.0000,9,-999.0000,9,-999.0000,-999.000,   1.3227,     -999.0,     -999.0,9,     -999.0,9,     -999.0,9,     -999.0,9,     -999.0,20110304,       1544
320620110219,       S04P,      24,          1,         21,         21,2,20110304,       1403,   -67.0006,  -176.7383,       4087,   699.2,   1.2703,  34.7288,2,  34.7289,2,    188.6,2,   189.6,2,  105.53,2,   32.05,2,    0.00,2,    2.22,2,   0.102,2,   0.056,2,   0.008,2,-999.0000,9,  2259.5,2,  2353.0,6,   7.5878,4,    25.00,   0.001,2,    2.106,2,   9.469,2,   1.2705,2, -999.00,9,  -999.0,9,  -999.0,   9.153,2,    0.10,2,-999.000,9,   40.54,2,   34.35,2, -67.0006,-176.7380,   0.004,      0.007,    34.8927,2,     -999.0,9,     -999.0,9,-999.0000,9,-999.0000,9,-999.0000,9,-999.0000,9,-999.0000,9,-999.0000,9,-999.0000,9,-999.0000,9,-999.0000,9,    0.000,   0.200,   1.2339,50002401021,     -999.0,9,     -999.0,9,     -999.0,9,      -0.98,2,       0.08,20110304,       1541
320620110219,       S04P,      24,          1,         20,         20,2,20110304,       1403,   -67.0006,  -176.7383,       4087,   801.2,   1.2000,  34.7272,2,  34.7268,2,    190.2,2,   191.1,2,  107.51,2,   31.99,2,    0.00,2,    2.22,2,   0.100,2,   0.061,2,   0.008,2,-999.0000,9,  -999.0,9,  -999.0,9,-999.0000,9,  -999.00,   0.001,2,    1.999,2,   9.092,2,   1.1999,2, -999.00,9,  -999.0,9,  -999.0,   8.732,2, -999.00,9,-999.000,9,   40.47,2,   34.25,2, -67.0006,-176.7380,   0.004,      0.007,    34.8905,2,     -999.0,9,     -999.0,9,-999.0000,9,-999.0000,9,-999.0000,9,-999.0000,9,-999.0000,9,-999.0000,9,-999.0000,9,-999.0000,9,-999.0000,9,    0.000,   0.215,   1.1581,50002401020,     -999.0,9,     -999.0,9,     -999.0,9,     -999.0,9,     -999.0,20110304,       1538
320620110219,       S04P,      24,          1,         19,         19,2,20110304,       1403,   -67.0006,  -176.7383,       4087,   897.8,   1.1476,  34.7257,2,  34.7262,2,    191.9,2,   192.0,2,  109.72,2,   31.97,2,    0.00,2,    2.21,2,   0.099,2,   0.060,2,   0.008,2,-999.0000,9,  -999.0,9,  -999.0,9,-999.0000,9,  -999.00,   0.001,2,    2.096,2,   9.592,2,   1.1474,2, -999.00,9,  -999.0,9,  -999.0,   9.115,2, -999.00,9,-999.000,9,   40.44,2,   34.50,2, -67.0006,-176.7380,   0.004,      0.007,    34.8899,2,     -999.0,9,     -999.0,9,-999.0000,9,-999.0000,9,-999.0000,9,-999.0000,9,-999.0000,9,-999.0000,9,-999.0000,9,-999.0000,9,-999.0000,9,    0.001,   0.200,   1.1002,50002401019,     -999.0,9,     -999.0,9,     -999.0,9,     -999.0,9,     -999.0,20110304,       1535
320620110219,       S04P,      24,          1,         18,         18,2,20110304,       1403,   -67.0006,  -176.7383,       4087,   999.2,   1.0784,  34.7231,2,  34.7248,2,    194.0,2,   193.7,2,  111.91,2,   31.98,2,    0.00,2,    2.21,2,-999.000,9,-999.000,9,-999.000,9,-999.0000,9,  2260.8,2,  2356.8,2,   7.5951,4,    25.00,-999.000,9,-999.0000,9,-999.000,9,   1.0784,2, -999.00,9,  -999.0,9,  -999.0,-999.000,9, -999.00,9,-999.000,9,   40.56,2,   34.55,2, -67.0005,-176.7380,-999.000,     -999.0,    34.8885,2,     -999.0,9,     -999.0,9,-999.0000,9,-999.0000,9,-999.0000,9,-999.0000,9,-999.0000,9,-999.0000,9,-999.0000,9,-999.0000,9,-999.0000,9,-999.0000,-999.000,   1.0254,     -999.0,     -999.0,9,     -999.0,9,     -999.0,9,     -999.0,9,     -999.0,20110304,       1532
320620110219,       S04P,      24,          1,         17,         17,2,20110304,       1403,   -67.0006,  -176.7383,       4087,  1100.5,   0.9936,  34.7202,2,  34.7201,2,    196.8,2,   196.7,2,  114.60,2,   32.02,2,    0.00,2,    2.21,2,   0.082,2,   0.051,2,   0.005,2,-999.0000,9,  -999.0,9,  -999.0,9,-999.0000,9,  -999.00,   0.001,2,    2.015,2,   9.580,2,   0.9938,2, -999.00,9,  -999.0,9,  -999.0,   8.828,2, -999.00,9,-999.000,9,   40.37,2,   34.89,2, -67.0005,-176.7379,   0.004,      0.006,    34.8838,2,     -999.0,9,     -999.0,9,-999.0000,9,-999.0000,9,-999.0000,9,-999.0000,9,-999.0000,9,-999.0000,9,-999.0000,9,-999.0000,9,-999.0000,9,    0.000,   0.211,   0.9350,50002401017,     -999.0,9,     -999.0,9,     -999.0,9,     -999.0,9,     -999.0,20110304,       1529
320620110219,       S04P,      24,          1,         16,         16,2,20110304,       1403,   -67.0006,  -176.7383,       4087,  1200.1,   0.9322,  34.7178,2,  34.7187,2,    198.2,2,   198.1,2,  116.66,2,   32.14,2,    0.00,2,    2.22,2,-999.000,9,-999.000,9,-999.000,9,-999.0000,9,  2261.5,2,  2356.8,6,   7.5806,4,    25.00,-999.000,9,-999.0000,9,-999.000,9,   0.9322,2, -999.00,9,  -999.0,9,  -999.0,-999.000,9, -999.00,9,-999.000,9,   40.42,2,   35.04,2, -67.0006,-176.7380,-999.000,     -999.0,    34.8824,2,     -999.0,9,     -999.0,9,-999.0000,9,-999.0000,9,-999.0000,9,-999.0000,9,-999.0000,9,-999.0000,9,-999.0000,9,-999.0000,9,-999.0000,9,-999.0000,-999.000,   0.8679,     -999.0,     -999.0,9,     -999.0,9,     -999.0,9,     -999.0,9,     -999.0,20110304,       1526
320620110219,       S04P,      24,          1,         15,         15,2,20110304,       1403,   -67.0006,  -176.7383,       4087,  1301.4,   0.8810,  34.7156,2,  34.7152,2,    199.7,2,   199.3,2,  118.44,2,   32.14,2,    0.00,2,    2.22,2,   0.075,2,   0.042,2,   0.005,2,-999.0000,9,  -999.0,9,  -999.0,9,-999.0000,9,  -999.00,   0.001,2,    2.129,4,   9.382,2,   0.8812,2, -999.00,9,  -999.0,9,  -999.0,   9.258,2, -999.00,9,-999.000,9,   40.11,2,   34.20,2, -67.0006,-176.7380,   0.004,      0.007,    34.8789,2,     -999.0,9,     -999.0,9,-999.0000,9,-999.0000,9,-999.0000,9,-999.0000,9,-999.0000,9,-999.0000,9,-999.0000,9,-999.0000,9,-999.0000,9,    0.001,   0.200,   0.8107,50002401015,     -999.0,9,     -999.0,9,     -999.0,9,     -999.0,9,     -999.0,20110304,       1523
320620110219,       S04P,      24,          1,         14,         14,2,20110304,       1403,   -67.0006,  -176.7383,       4087,  1402.3,   0.8356,  34.7139,2,  34.7134,2,    200.9,2,   200.3,2,  119.37,2,   32.10,2,    0.00,2,    2.22,2,-999.000,9,-999.000,9,-999.000,9,-999.0000,9,  2260.2,2,  2357.6,2,   7.5880,4,    25.00,-999.000,9,-999.0000,9,-999.000,9,   0.8360,2, -999.00,9,  -999.0,9,  -999.0,-999.000,9, -999.00,9,-999.000,9,   39.70,2,   34.42,2, -67.0006,-176.7380,-999.000,     -999.0,    34.8771,2,     -999.0,9,     -999.0,9,-999.0000,9,-999.0000,9,-999.0000,9,-999.0000,9,-999.0000,9,-999.0000,9,-999.0000,9,-999.0000,9,-999.0000,9,-999.0000,-999.000,   0.7592,     -999.0,     -999.0,9,     -999.0,9,     -999.0,9,     -999.0,9,     -999.0,20110304,       1520