BOTTLE,20220813CCHSIOAMB
EXPOCODE,SECT_ID,STNNBR,CASTNO,SAMPNO,BTLNBR,BTLNBR_FLAG_W,DATE,TIME,LATITUDE,LONGITUDE,DEPTH,CTDPRS,CTDTMP,CTDSAL,CTDSAL_FLAG_W,SALNTY,SALNTY_FLAG_W,CTDOXY,CTDOXY_FLAG_W,OXYGEN,OXYGEN_FLAG_W,SILCAT,SILCAT_FLAG_W,NITRAT,NITRAT_FLAG_W,NITRIT,NITRIT_FLAG_W,PHSPHT,PHSPHT_FLAG_W,CFC-11,CFC-11_FLAG_W,CFC-12,CFC-12_FLAG_W,CFC113,CFC113_FLAG_W,SF6,SF6_FLAG_W,TCARBN,TCARBN_FLAG_W,ALKALI,ALKALI_FLAG_W,PH_TOT,PH_TOT_FLAG_W,PH_TMP,TRITUM,TRITUM_FLAG_W,HELIUM,HELIUM_FLAG_W,DELHE3,DELHE3_FLAG_W,REFTMP,REFTMP_FLAG_W,DELC13,DELC13_FLAG_W,DELC14,DELC14_FLAG_W,C14ERR,NEON,NEON_FLAG_W,DELO18,DELO18_FLAG_W,POC,POC_FLAG_W,DOC,DOC_FLAG_W,TDN,TDN_FLAG_W,BTL_LAT,BTL_LON,TRITER,NEONER,SALTREF,SALTREF_FLAG_W,PIGMENTS,PIGMENTS_FLAG_W,LAB_DEN,LAB_DEN_FLAG_W,CDOM325,CDOM325_FLAG_W,CDOM340,CDOM340_FLAG_W,CDOM380,CDOM380_FLAG_W,CDOM412,CDOM412_FLAG_W,CDOM443,CDOM443_FLAG_W,CDOM490,CDOM490_FLAG_W,CDOM555,CDOM555_FLAG_W,CDOMSL,CDOMSL_FLAG_W,CDOMSN,CDOMSN_FLAG_W,HELIER,DELHER,THETA,LDEO_SAMPNO,ABSORBTION,ABSORBTION_FLAG_W,IMAGE_COUNT,IMAGE_COUNT_FLAG_W,CYTO_COUNT,CYTO_COUNT_FLAG_W,DELD,DELD_FLAG_W,DELDERR,BTL_DATE,BTL_TIME
,,,,,,,,,,,METERS,DBAR,ITS-90,PSS-78,,PSS-78,,UMOL/KG,,UMOL/KG,,UMOL/KG,,UMOL/KG,,UMOL/KG,,UMOL/KG,,PMOL/KG,,PMOL/KG,,PMOL/KG,,FMOL/KG,,UMOL/KG,,UMOL/KG,,,,DEG C,TU,,NMOL/KG,,PERCNT,,DEG C,,/MILLE,,/MILLE,,/MILLE,NMOL/KG,,/MILLE,,UG/KG,,UMOL/KG,,UMOL/KG,,,,TU,NMOL/KG,G/KG,,,,,,1/M,,1/M,,1/M,,1/M,,1/M,,1/M,,1/M,,1/NM,,1/NM,,NMOL/KG,PERCNT,DEG C,,,,,,,,/MILLE,,/MILLE,,
320620110219,       S04P,      25,          1,         13,         13,2,20110304,       2109,   -67.0002,  -175.4657,       3028,  1333.8,   0.7618,  34.7109,2,  34.7098,2,   -999.0,9,  -999.0,5,  117.54,2,   31.79,2,    0.00,2,    2.19,2,-999.000,9,-999.000,9,-999.000,9,-999.0000,9,  2260.0,2,  2358.3,2,   7.6140,4,    25.00,-999.000,9,-999.0000,9,-999.000,9,   0.7623,2,    0.50,2,  -163.6,2,     3.0,-999.000,9, -999.00,9,-999.000,9, -999.00,9, -999.00,9, -67.0001,-175.4657,-999.000,     -999.0,    34.8734,2,     -999.0,9,     -999.0,9,-999.0000,9,-999.0000,9,-999.0000,9,-999.0000,9,-999.0000,9,-999.0000,9,-999.0000,9,-999.0000,9,-999.0000,9,-999.0000,-999.000,   0.6907,     -999.0,     -999.0,9,     -999.0,9,     -999.0,9,     -999.0,9,     -999.0,20110304,       2202
320620110219,       S04P,      25,          1,         12,         12,2,20110304,       2109,   -67.0002,  -175.4657,       3028,  1432.8,   0.7392,  34.7099,2,  34.7100,2,    205.1,2,   205.1,2,  118.16,2,   31.75,2,    0.00,2,    2.18,2,   0.216,2,   0.113,2,   0.009,2,-999.0000,9,  -999.0,9,  2357.8,2,   7.6128,4,    25.00,-999.000,9,-999.0000,9,-999.000,9,   0.7397,2,    0.52,2,  -151.2,2,     2.6,-999.000,9, -999.00,9,-999.000,9, -999.00,9, -999.00,9, -67.0001,-175.4657,-999.000,     -999.0,    34.8736,2,     -999.0,9,     -999.0,9,-999.0000,9,-999.0000,9,-999.0000,9,-999.0000,9,-999.0000,9,-999.0000,9,-999.0000,9,-999.0000,9,-999.0000,9,-999.0000,-999.000,   0.6619,     -999.0,     -999.0,9,     -999.0,9,     -999.0,9,     -999.0,9,     -999.0,20110304,       2159
320620110219,       S04P,      25,          1,         11,         11,2,20110304,       2109,   -67.0002,  -175.4657,       3028,  1534.5,   0.7227,  34.7089,2,  34.7082,2,    205.2,2,   205.5,2,  118.46,2,   31.77,2,    0.00,2,    2.17,2,   0.230,2,   0.116,2,   0.014,2,-999.0000,9,  -999.0,9,  -999.0,9,-999.0000,9,  -999.00,-999.000,9,-999.0000,9,-999.000,9,   0.7236,2, -999.00,9,  -999.0,9,  -999.0,-999.000,9, -999.00,9,-999.000,9, -999.00,9, -999.00,9, -67.0002,-175.4657,-999.000,     -999.0,    34.8719,2,     -999.0,9,     -999.0,9,-999.0000,9,-999.0000,9,-999.0000,9,-999.0000,9,-999.0000,9,-999.0000,9,-999.0000,9,-999.0000,9,-999.0000,9,-999.0000,-999.000,   0.6388,     -999.0,     -999.0,9,     -999.0,9,     -999.0,9,     -999.0,9,     -999.0,20110304,       2155
320620110219,       S04P,      25,          1,         10,         10,2,20110304,       2109,   -67.0002,  -175.4657,       3028,  1633.2,   0.6931,  34.7074,2,  34.7066,2,    205.9,2,   205.9,2,  119.43,2,   31.77,2,    0.00,2,    2.19,2,-999.000,9,-999.000,9,-999.000,9,-999.0000,9,  2260.8,2,  2357.3,2,   7.5861,4,    25.00,-999.000,9,-999.0000,9,-999.000,9,   0.6939,2,    0.50,2,  -155.4,2,     2.8,-999.000,9, -999.00,9,-999.000,9, -999.00,9, -999.00,9, -67.0001,-175.4657,-999.000,     -999.0,    34.8703,2,     -999.0,9,     -999.0,9,-999.0000,9,-999.0000,9,-999.0000,9,-999.0000,9,-999.0000,9,-999.0000,9,-999.0000,9,-999.0000,9,-999.0000,9,-999.0000,-999.000,   0.6028,     -999.0,     -999.0,9,     -999.0,9,     -999.0,9,     -999.0,9,     -999.0,20110304,       2152
320620110219,       S04P,      25,          1,          9,          9,2,20110304,       2109,   -67.0002,  -175.4657,       3028,  1737.5,   0.6677,  34.6783,4,  34.7058,2,    206.9,2,   206.6,2,  120.64,2,   31.85,2,    0.00,2,    2.19,2,-999.000,9,-999.000,9,-999.000,9,-999.0000,9,  -999.0,9,  2357.3,2,   7.5877,2,    25.00,-999.000,9,-999.0000,9,-999.000,9,   0.6694,2,    0.50,2,  -157.5,2,     3.0,-999.000,9, -999.00,9,-999.000,9, -999.00,9, -999.00,9, -67.0002,-175.4657,-999.000,     -999.0,    34.8695,2,     -999.0,9,     -999.0,9,-999.0000,9,-999.0000,9,-999.0000,9,-999.0000,9,-999.0000,9,-999.0000,9,-999.0000,9,-999.0000,9,-999.0000,9,-999.0000,-999.000,   0.5705,     -999.0,     -999.0,9,     -999.0,9,     -999.0,9,     -999.0,9,     -999.0,20110304,       2149
320620110219,       S04P,      25,          1,          8,          8,2,20110304,       2109,   -67.0002,  -175.4657,       3028,  1866.8,   0.6185,  34.6923,4,  34.7037,2,    207.7,2,   207.9,2,  122.03,2,   31.96,2,    0.00,2,    2.21,2,   0.292,2,   0.144,2,   0.016,2,-999.0000,9,  -999.0,9,  -999.0,9,-999.0000,9,  -999.00,-999.000,9,-999.0000,9,-999.000,9,   0.6195,2, -999.00,9,  -999.0,9,  -999.0,-999.000,9, -999.00,9,-999.000,9, -999.00,9, -999.00,9, -67.0002,-175.4657,-999.000,     -999.0,    34.8673,2,     -999.0,9,     -999.0,9,-999.0000,9,-999.0000,9,-999.0000,9,-999.0000,9,-999.0000,9,-999.0000,9,-999.0000,9,-999.0000,9,-999.0000,9,-999.0000,-999.000,   0.5128,     -999.0,     -999.0,9,     -999.0,9,     -999.0,9,     -999.0,9,     -999.0,20110304,       2145
320620110219,       S04P,      25,          1,          7,          7,2,20110304,       2109,   -67.0002,  -175.4657,       3028,  2065.7,   0.5241,  34.7014,2,  34.7011,2,    208.9,2,   210.0,2,  124.11,2,   32.13,2,    0.00,2,    2.22,2,   0.321,2,   0.155,2,   0.017,2,-999.0000,9,  2261.8,2,  2357.2,2,   7.5873,2,    25.00,-999.000,9,-999.0000,9,-999.000,9,   0.5244,2,    0.50,2,  -162.9,2,     2.6,-999.000,9, -999.00,9,-999.000,9, -999.00,9, -999.00,9, -67.0001,-175.4657,-999.000,     -999.0,    34.8648,2,     -999.0,9,     -999.0,9,-999.0000,9,-999.0000,9,-999.0000,9,-999.0000,9,-999.0000,9,-999.0000,9,-999.0000,9,-999.0000,9,-999.0000,9,-999.0000,-999.000,   0.4052,     -999.0,     -999.0,9,     -999.0,9,     -999.0,9,     -999.0,9,     -999.0,20110304,       2139
320620110219,       S04P,      25,          1,          6,          6,2,20110304,       2109,   -67.0002,  -175.4657,       3028,  2263.8,   0.4650,  34.7005,2,  34.7013,2,    210.0,2,   210.4,2,  126.06,2,   32.18,2,    0.00,2,    2.22,2,   0.326,2,   0.156,2,   0.017,2,-999.0000,9,  -999.0,9,  2358.7,2,   7.5862,2,    25.00,-999.000,9,-999.0000,9,-999.000,9,   0.4648,2,    0.48,2,  -159.6,2,     2.6,-999.000,9, -999.00,9,-999.000,9, -999.00,9, -999.00,9, -67.0002,-175.4657,-999.000,     -999.0,    34.8650,2,     -999.0,9,     -999.0,9,-999.0000,9,-999.0000,9,-999.0000,9,-999.0000,9,-999.0000,9,-999.0000,9,-999.0000,9,-999.0000,9,-999.0000,9,-999.0000,-999.000,   0.3321,     -999.0,     -999.0,9,     -999.0,9,     -999.0,9,     -999.0,9,     -999.0,20110304,       2134
320620110219,       S04P,      25,          1,          5,          5,2,20110304,       2109,   -67.0002,  -175.4657,       3028,  2463.3,   0.3790,  34.6967,2,  34.6974,2,    213.6,2,   213.7,2,  124.27,2,   32.21,2,    0.00,2,    2.22,2,   0.519,2,   0.259,2,   0.033,2,-999.0000,9,  2260.9,2,  2357.4,2,   7.5855,2,    25.00,-999.000,9,-999.0000,9,-999.000,9,   0.3793,2,    0.52,2,  -154.5,2,     2.6,-999.000,9, -999.00,9,-999.000,9, -999.00,9, -999.00,9, -67.0002,-175.4657,-999.000,     -999.0,    34.8610,2,     -999.0,9,     -999.0,9,-999.0000,9,-999.0000,9,-999.0000,9,-999.0000,9,-999.0000,9,-999.0000,9,-999.0000,9,-999.0000,9,-999.0000,9,-999.0000,-999.000,   0.2320,     -999.0,     -999.0,9,     -999.0,9,     -999.0,9,     -999.0,9,     -999.0,20110304,       2128
320620110219,       S04P,      25,          1,          4,          4,2,20110304,       2109,   -67.0002,  -175.4657,       3028,  2664.3,   0.3115,  34.6944,2,  34.6943,2,    215.7,2,   215.6,2,  124.09,2,   32.25,2,    0.00,2,    2.21,2,   0.727,2,   0.348,2,   0.053,2,-999.0000,9,  2261.1,2,  2358.0,2,   7.5851,2,    25.00,-999.000,9,-999.0000,9,-999.000,9,   0.3116,2,    0.50,2,  -147.9,2,     2.3,-999.000,9, -999.00,9,-999.000,9, -999.00,9, -999.00,9, -67.0001,-175.4657,-999.000,     -999.0,    34.8579,2,     -999.0,9,     -999.0,9,-999.0000,9,-999.0000,9,-999.0000,9,-999.0000,9,-999.0000,9,-999.0000,9,-999.0000,9,-999.0000,9,-999.0000,9,-999.0000,-999.000,   0.1495,     -999.0,     -999.0,9,     -999.0,9,     -999.0,9,     -999.0,9,     -999.0,20110304,       2123
320620110219,       S04P,      25,          1,          3,          3,2,20110304,       2109,   -67.0002,  -175.4657,       3028,  2865.7,   0.2623,  34.6918,2,  34.6929,2,    217.7,2,   217.4,2,  122.35,2,   32.17,2,    0.00,2,    2.21,2,   0.750,2,   0.391,2,   0.056,2,-999.0000,9,  2258.8,2,  2356.6,2,   7.5845,2,    25.00,-999.000,9,-999.0000,9,-999.000,9,   0.2621,2,    0.51,2,  -149.8,2,     2.5,-999.000,9, -999.00,9,-999.000,9, -999.00,9, -999.00,9, -67.0001,-175.4657,-999.000,     -999.0,    34.8565,2,     -999.0,9,     -999.0,9,-999.0000,9,-999.0000,9,-999.0000,9,-999.0000,9,-999.0000,9,-999.0000,9,-999.0000,9,-999.0000,9,-999.0000,9,-999.0000,-999.000,   0.0845,     -999.0,     -999.0,9,     -999.0,9,     -999.0,9,     -999.0,9,     -999.0,20110304,       2117
320620110219,       S04P,      25,          1,          2,          2,2,20110304,       2109,   -67.0002,  -175.4657,       3028,  3020.1,   0.2399,  34.6908,2,  34.6913,2,    218.8,2,   218.6,2,  122.89,2,   32.23,2,    0.00,2,    2.22,2,   0.833,2,   0.427,2,   0.059,2,-999.0000,9,  2259.4,2,  2356.5,6,   7.5821,4,    25.00,-999.000,9,-999.0000,9,-999.000,9,   0.2394,2,    0.54,2,  -150.6,2,     2.5,-999.000,9, -999.00,9,-999.000,9, -999.00,9, -999.00,9, -67.0001,-175.4657,-999.000,     -999.0,    34.8549,2,     -999.0,9,     -999.0,9,-999.0000,9,-999.0000,9,-999.0000,9,-999.0000,9,-999.0000,9,-999.0000,9,-999.0000,9,-999.0000,9,-999.0000,9,-999.0000,-999.000,   0.0492,     -999.0,     -999.0,9,     -999.0,9,     -999.0,9,     -999.0,9,     -999.0,20110304,       2112
320620110219,       S04P,      25,          1,          1,          1,2,20110304,       2109,   -67.0002,  -175.4657,       3028,  3069.7,   0.2357,  34.6903,2,  34.6909,2,    218.8,2,   219.2,2,  121.92,2,   32.21,2,    0.00,2,    2.22,2,   0.850,2,   0.435,2,   0.063,2,-999.0000,9,  2259.1,6,  2355.1,2,   7.5788,2,    25.00,-999.000,9,-999.0000,9,-999.000,9,   0.2350,2,    0.57,2,  -153.3,2,     2.5,-999.000,9, -999.00,9,-999.000,9, -999.00,9, -999.00,9, -67.0002,-175.4657,-999.000,     -999.0,    34.8545,2,     -999.0,9,     -999.0,9,-999.0000,9,-999.0000,9,-999.0000,9,-999.0000,9,-999.0000,9,-999.0000,9,-999.0000,9,-999.0000,9,-999.0000,9,-999.0000,-999.000,   0.0408,     -999.0,     -999.0,9,     -999.0,9,     -999.0,9,     -999.0,9,     -999.0,20110304,       2109