BOTTLE,20220813CCHSIOAMB
EXPOCODE,SECT_ID,STNNBR,CASTNO,SAMPNO,BTLNBR,BTLNBR_FLAG_W,DATE,TIME,LATITUDE,LONGITUDE,DEPTH,CTDPRS,CTDTMP,CTDSAL,CTDSAL_FLAG_W,SALNTY,SALNTY_FLAG_W,CTDOXY,CTDOXY_FLAG_W,OXYGEN,OXYGEN_FLAG_W,SILCAT,SILCAT_FLAG_W,NITRAT,NITRAT_FLAG_W,NITRIT,NITRIT_FLAG_W,PHSPHT,PHSPHT_FLAG_W,CFC-11,CFC-11_FLAG_W,CFC-12,CFC-12_FLAG_W,CFC113,CFC113_FLAG_W,SF6,SF6_FLAG_W,TCARBN,TCARBN_FLAG_W,ALKALI,ALKALI_FLAG_W,PH_TOT,PH_TOT_FLAG_W,PH_TMP,TRITUM,TRITUM_FLAG_W,HELIUM,HELIUM_FLAG_W,DELHE3,DELHE3_FLAG_W,REFTMP,REFTMP_FLAG_W,DELC13,DELC13_FLAG_W,DELC14,DELC14_FLAG_W,C14ERR,NEON,NEON_FLAG_W,DELO18,DELO18_FLAG_W,POC,POC_FLAG_W,DOC,DOC_FLAG_W,TDN,TDN_FLAG_W,BTL_LAT,BTL_LON,TRITER,NEONER,SALTREF,SALTREF_FLAG_W,PIGMENTS,PIGMENTS_FLAG_W,LAB_DEN,LAB_DEN_FLAG_W,CDOM325,CDOM325_FLAG_W,CDOM340,CDOM340_FLAG_W,CDOM380,CDOM380_FLAG_W,CDOM412,CDOM412_FLAG_W,CDOM443,CDOM443_FLAG_W,CDOM490,CDOM490_FLAG_W,CDOM555,CDOM555_FLAG_W,CDOMSL,CDOMSL_FLAG_W,CDOMSN,CDOMSN_FLAG_W,HELIER,DELHER,THETA,LDEO_SAMPNO,ABSORBTION,ABSORBTION_FLAG_W,IMAGE_COUNT,IMAGE_COUNT_FLAG_W,CYTO_COUNT,CYTO_COUNT_FLAG_W,DELD,DELD_FLAG_W,DELDERR,BTL_DATE,BTL_TIME
,,,,,,,,,,,METERS,DBAR,ITS-90,PSS-78,,PSS-78,,UMOL/KG,,UMOL/KG,,UMOL/KG,,UMOL/KG,,UMOL/KG,,UMOL/KG,,PMOL/KG,,PMOL/KG,,PMOL/KG,,FMOL/KG,,UMOL/KG,,UMOL/KG,,,,DEG C,TU,,NMOL/KG,,PERCNT,,DEG C,,/MILLE,,/MILLE,,/MILLE,NMOL/KG,,/MILLE,,UG/KG,,UMOL/KG,,UMOL/KG,,,,TU,NMOL/KG,G/KG,,,,,,1/M,,1/M,,1/M,,1/M,,1/M,,1/M,,1/M,,1/NM,,1/NM,,NMOL/KG,PERCNT,DEG C,,,,,,,,/MILLE,,/MILLE,,
320620110219,       S04P,      20,          1,         13,         13,2,20110301,       1352,   -66.9998,   178.1408,       3867,  1464.2,   0.7758,  34.7107,2,  34.7112,2,    202.5,2,   202.3,2,  119.43,2,   32.43,2,    0.00,2,    2.17,2,-999.000,9,-999.000,9,-999.000,9,-999.0000,9,  -999.0,9,  -999.0,9,-999.0000,9,  -999.00,-999.000,9,-999.0000,9,-999.000,9,   0.7759,2, -999.00,9,  -999.0,9,  -999.0,-999.000,9, -999.00,9,-999.000,9,   40.47,2,   34.86,2, -66.9997, 178.1408,-999.000,     -999.0,    34.8749,2,     -999.0,9,     -999.0,9,-999.0000,9,-999.0000,9,-999.0000,9,-999.0000,9,-999.0000,9,-999.0000,9,-999.0000,9,-999.0000,9,-999.0000,9,-999.0000,-999.000,   0.6960,     -999.0,     -999.0,9,     -999.0,9,     -999.0,9,     -999.0,9,     -999.0,20110301,       1457
320620110219,       S04P,      20,          1,         12,         12,2,20110301,       1352,   -66.9998,   178.1408,       3867,  1565.2,   0.7341,  34.7096,2,  34.7094,2,    203.2,2,   203.4,2,  120.68,2,   32.48,2,    0.00,2,    2.17,2,   0.131,2,   0.077,2,   0.016,2,-999.0000,9,  2261.0,2,  2359.9,2,   7.5859,2,    25.00,-999.000,9,-999.0000,9,-999.000,9,   0.7343,2, -999.00,9,  -999.0,9,  -999.0,-999.000,9, -999.00,9,-999.000,9,   40.07,2,   35.10,2, -66.9997, 178.1409,-999.000,     -999.0,    34.8731,2,     -999.0,9,     -999.0,9,-999.0000,9,-999.0000,9,-999.0000,9,-999.0000,9,-999.0000,9,-999.0000,9,-999.0000,9,-999.0000,9,-999.0000,9,-999.0000,-999.000,   0.6479,     -999.0,     -999.0,9,     -999.0,9,     -999.0,9,     -999.0,9,     -999.0,20110301,       1454
320620110219,       S04P,      20,          1,         11,         11,2,20110301,       1352,   -66.9998,   178.1408,       3867,  1735.0,   0.6671,  34.7073,2,  34.7082,2,    204.7,2,   205.5,2,  123.00,2,   32.56,2,    0.00,2,    2.16,2,   0.134,2,   0.075,2,   0.013,2,-999.0000,9,  -999.0,9,  -999.0,9,-999.0000,9,  -999.00,-999.000,9,-999.0000,9,-999.000,9,   0.6673,2, -999.00,9,  -999.0,9,  -999.0,-999.000,9, -999.00,9,-999.000,9,   40.49,2,   35.16,2, -66.9997, 178.1409,-999.000,     -999.0,    34.8719,2,     -999.0,9,     -999.0,9,-999.0000,9,-999.0000,9,-999.0000,9,-999.0000,9,-999.0000,9,-999.0000,9,-999.0000,9,-999.0000,9,-999.0000,9,-999.0000,-999.000,   0.5701,     -999.0,     -999.0,9,     -999.0,9,     -999.0,9,     -999.0,9,     -999.0,20110301,       1449
320620110219,       S04P,      20,          1,         10,         10,2,20110301,       1352,   -66.9998,   178.1408,       3867,  1933.0,   0.6050,  34.7059,2,  34.7059,2,    206.1,2,   206.3,2,  124.80,2,   32.52,2,    0.00,2,    2.17,2,   0.138,2,   0.073,2,   0.015,2,-999.0000,9,  2262.1,2,  2360.5,2,   7.5879,2,    25.00,-999.000,9,-999.0000,9,-999.000,9,   0.6048,2, -999.00,9,  -999.0,9,  -999.0,-999.000,9, -999.00,9,-999.000,9,   40.18,2,   35.00,2, -66.9997, 178.1409,-999.000,     -999.0,    34.8695,2,     -999.0,9,     -999.0,9,-999.0000,9,-999.0000,9,-999.0000,9,-999.0000,9,-999.0000,9,-999.0000,9,-999.0000,9,-999.0000,9,-999.0000,9,-999.0000,-999.000,   0.4946,     -999.0,     -999.0,9,     -999.0,9,     -999.0,9,     -999.0,9,     -999.0,20110301,       1445
320620110219,       S04P,      20,          1,          9,          9,2,20110301,       1352,   -66.9998,   178.1408,       3867,  2165.3,   0.5273,  34.7045,2,  34.7039,2,    208.0,2,   207.7,2,  126.47,2,   32.62,2,    0.00,2,    2.17,2,-999.000,9,-999.000,9,-999.000,9,-999.0000,9,  -999.0,9,  -999.0,9,-999.0000,9,  -999.00,-999.000,9,-999.0000,9,-999.000,9,   0.5282,2, -999.00,9,  -999.0,9,  -999.0,-999.000,9, -999.00,9,-999.000,9,   39.88,2,   35.09,2, -66.9997, 178.1409,-999.000,     -999.0,    34.8676,2,     -999.0,9,     -999.0,9,-999.0000,9,-999.0000,9,-999.0000,9,-999.0000,9,-999.0000,9,-999.0000,9,-999.0000,9,-999.0000,9,-999.0000,9,-999.0000,-999.000,   0.4008,     -999.0,     -999.0,9,     -999.0,9,     -999.0,9,     -999.0,9,     -999.0,20110301,       1439
320620110219,       S04P,      20,          1,          8,          8,2,20110301,       1352,   -66.9998,   178.1408,       3867,  2414.3,   0.4472,  34.7023,2,  34.7024,2,    210.0,2,   210.0,2,  127.81,2,   32.69,2,    0.00,2,    2.18,2,   0.209,2,   0.120,2,   0.021,2,-999.0000,9,  -999.0,9,  -999.0,9,-999.0000,9,  -999.00,-999.000,9,-999.0000,9,-999.000,9,   0.4472,2, -999.00,9,  -999.0,9,  -999.0,-999.000,9, -999.00,9,-999.000,9,   40.11,2,   35.32,2, -66.9998, 178.1408,-999.000,     -999.0,    34.8660,2,     -999.0,9,     -999.0,9,-999.0000,9,-999.0000,9,-999.0000,9,-999.0000,9,-999.0000,9,-999.0000,9,-999.0000,9,-999.0000,9,-999.0000,9,-999.0000,-999.000,   0.3028,     -999.0,     -999.0,9,     -999.0,9,     -999.0,9,     -999.0,9,     -999.0,20110301,       1433
320620110219,       S04P,      20,          1,          7,          7,2,20110301,       1352,   -66.9998,   178.1408,       3867,  2664.5,   0.3874,  34.7002,2,  34.7000,2,    211.8,2,   212.4,2,  127.74,2,   32.76,2,    0.00,2,    2.17,2,   0.292,2,   0.174,2,   0.031,2,-999.0000,9,  2261.9,2,  2359.7,2,   7.5866,2,    25.00,-999.000,9,-999.0000,9,-999.000,9,   0.3875,2, -999.00,9,  -999.0,9,  -999.0,-999.000,9, -999.00,9,-999.000,9,   40.48,2,   35.20,2, -66.9998, 178.1408,-999.000,     -999.0,    34.8636,2,     -999.0,9,     -999.0,9,-999.0000,9,-999.0000,9,-999.0000,9,-999.0000,9,-999.0000,9,-999.0000,9,-999.0000,9,-999.0000,9,-999.0000,9,-999.0000,-999.000,   0.2238,     -999.0,     -999.0,9,     -999.0,9,     -999.0,9,     -999.0,9,     -999.0,20110301,       1428
320620110219,       S04P,      20,          1,          6,          6,2,20110301,       1352,   -66.9998,   178.1408,       3867,  2916.4,   0.3291,  34.6979,2,  34.6976,2,    214.1,2,   214.6,2,  127.73,2,   32.73,2,    0.00,2,    2.17,2,   0.387,2,   0.220,2,   0.036,2,-999.0000,9,  -999.0,9,  -999.0,9,-999.0000,9,  -999.00,-999.000,9,-999.0000,9,-999.000,9,   0.3297,2, -999.00,9,  -999.0,9,  -999.0,-999.000,9, -999.00,9,-999.000,9,   40.22,2,   35.31,2, -66.9998, 178.1408,-999.000,     -999.0,    34.8612,2,     -999.0,9,     -999.0,9,-999.0000,9,-999.0000,9,-999.0000,9,-999.0000,9,-999.0000,9,-999.0000,9,-999.0000,9,-999.0000,9,-999.0000,9,-999.0000,-999.000,   0.1454,     -999.0,     -999.0,9,     -999.0,9,     -999.0,9,     -999.0,9,     -999.0,20110301,       1422
320620110219,       S04P,      20,          1,          5,          5,2,20110301,       1352,   -66.9998,   178.1408,       3867,  3200.6,   0.2543,  34.6945,2,  34.6941,2,    217.0,2,   216.7,2,  126.07,2,   32.67,2,    0.00,2,    2.17,2,   0.600,2,   0.338,2,   0.050,2,-999.0000,9,  -999.0,9,  -999.0,9,-999.0000,9,  -999.00,-999.000,9,-999.0000,9,-999.000,9,   0.2542,2, -999.00,9,  -999.0,9,  -999.0,-999.000,9, -999.00,9,-999.000,9,   39.86,2,   35.16,2, -66.9998, 178.1408,-999.000,     -999.0,    34.8577,2,     -999.0,9,     -999.0,9,-999.0000,9,-999.0000,9,-999.0000,9,-999.0000,9,-999.0000,9,-999.0000,9,-999.0000,9,-999.0000,9,-999.0000,9,-999.0000,-999.000,   0.0473,     -999.0,     -999.0,9,     -999.0,9,     -999.0,9,     -999.0,9,     -999.0,20110301,       1415
320620110219,       S04P,      20,          1,          4,          4,2,20110301,       1352,   -66.9998,   178.1408,       3867,  3500.3,   0.1595,  34.6878,2,  34.6874,2,    221.9,2,   221.9,2,  118.31,2,   32.47,2,    0.00,2,    2.16,2,   1.047,2,   0.590,2,   0.094,2,-999.0000,9,  2258.7,2,  2355.5,2,   7.5846,2,    25.00,-999.000,9,-999.0000,9,-999.000,9,   0.1599,2, -999.00,9,  -999.0,9,  -999.0,-999.000,9, -999.00,9,-999.000,9,   40.11,2,   34.82,2, -66.9998, 178.1408,-999.000,     -999.0,    34.8510,2,     -999.0,9,     -999.0,9,-999.0000,9,-999.0000,9,-999.0000,9,-999.0000,9,-999.0000,9,-999.0000,9,-999.0000,9,-999.0000,9,-999.0000,9,-999.0000,-999.000,  -0.0727,     -999.0,     -999.0,9,     -999.0,9,     -999.0,9,     -999.0,9,     -999.0,20110301,       1408
320620110219,       S04P,      20,          1,          3,          3,2,20110301,       1352,   -66.9998,   178.1408,       3867,  3801.0,   0.1365,  34.6842,2,  34.6843,2,    224.5,2,   224.2,2,  114.80,2,   32.46,2,    0.00,2,    2.15,2,   1.300,2,   0.723,2,   0.130,2,-999.0000,9,  2258.4,6,  2355.6,2,   7.5832,2,    25.00,-999.000,9,-999.0000,9,-999.000,9,   0.1363,2, -999.00,9,  -999.0,9,  -999.0,-999.000,9, -999.00,9,-999.000,9,   40.62,2,   34.92,2, -66.9998, 178.1408,-999.000,     -999.0,    34.8478,2,     -999.0,9,     -999.0,9,-999.0000,9,-999.0000,9,-999.0000,9,-999.0000,9,-999.0000,9,-999.0000,9,-999.0000,9,-999.0000,9,-999.0000,9,-999.0000,-999.000,  -0.1239,     -999.0,     -999.0,9,     -999.0,9,     -999.0,9,     -999.0,9,     -999.0,20110301,       1359
320620110219,       S04P,      20,          1,          2,          2,2,20110301,       1352,   -66.9998,   178.1408,       3867,  3854.0,   0.1400,  34.6841,2,  34.6839,2,    224.5,2,   224.2,2,  115.08,2,   32.35,2,    0.00,2,    2.15,2,   1.307,2,   0.733,2,   0.131,2,-999.0000,9,  2258.6,2,  2355.1,6,   7.5863,2,    25.00,-999.000,9,-999.0000,9,-999.000,9,   0.1396,2, -999.00,9,  -999.0,9,  -999.0,-999.000,9, -999.00,9,-999.000,9,   40.12,2,   34.64,2, -66.9998, 178.1408,-999.000,     -999.0,    34.8474,2,     -999.0,9,     -999.0,9,-999.0000,9,-999.0000,9,-999.0000,9,-999.0000,9,-999.0000,9,-999.0000,9,-999.0000,9,-999.0000,9,-999.0000,9,-999.0000,-999.000,  -0.1257,     -999.0,     -999.0,9,     -999.0,9,     -999.0,9,     -999.0,9,     -999.0,20110301,       1356
320620110219,       S04P,      20,          1,          1,          1,2,20110301,       1352,   -66.9998,   178.1408,       3867,  3930.9,   0.1446,  34.6837,2,  34.6839,2,    224.3,2,   225.0,2,  115.00,2,   32.28,2,    0.00,2,    2.14,2,   1.359,2,   0.722,2,   0.136,2,-999.0000,9,  2257.9,2,  2354.3,2,   7.5843,6,    25.00,-999.000,9,-999.0000,9,-999.000,9,   0.1444,2, -999.00,9,  -999.0,9,  -999.0,-999.000,9, -999.00,9,-999.000,9,   40.26,2,   34.68,2, -66.9998, 178.1408,-999.000,     -999.0,    34.8474,2,     -999.0,9,     -999.0,9,-999.0000,9,-999.0000,9,-999.0000,9,-999.0000,9,-999.0000,9,-999.0000,9,-999.0000,9,-999.0000,9,-999.0000,9,-999.0000,-999.000,  -0.1289,     -999.0,     -999.0,9,     -999.0,9,     -999.0,9,     -999.0,9,     -999.0,20110301,       1352