BOTTLE,20220813CCHSIOAMB
EXPOCODE,SECT_ID,STNNBR,CASTNO,SAMPNO,BTLNBR,BTLNBR_FLAG_W,DATE,TIME,LATITUDE,LONGITUDE,DEPTH,CTDPRS,CTDTMP,CTDSAL,CTDSAL_FLAG_W,SALNTY,SALNTY_FLAG_W,CTDOXY,CTDOXY_FLAG_W,OXYGEN,OXYGEN_FLAG_W,SILCAT,SILCAT_FLAG_W,NITRAT,NITRAT_FLAG_W,NITRIT,NITRIT_FLAG_W,PHSPHT,PHSPHT_FLAG_W,CFC-11,CFC-11_FLAG_W,CFC-12,CFC-12_FLAG_W,CFC113,CFC113_FLAG_W,SF6,SF6_FLAG_W,TCARBN,TCARBN_FLAG_W,ALKALI,ALKALI_FLAG_W,PH_TOT,PH_TOT_FLAG_W,PH_TMP,TRITUM,TRITUM_FLAG_W,HELIUM,HELIUM_FLAG_W,DELHE3,DELHE3_FLAG_W,REFTMP,REFTMP_FLAG_W,DELC13,DELC13_FLAG_W,DELC14,DELC14_FLAG_W,C14ERR,NEON,NEON_FLAG_W,DELO18,DELO18_FLAG_W,POC,POC_FLAG_W,DOC,DOC_FLAG_W,TDN,TDN_FLAG_W,BTL_LAT,BTL_LON,TRITER,NEONER,SALTREF,SALTREF_FLAG_W,PIGMENTS,PIGMENTS_FLAG_W,LAB_DEN,LAB_DEN_FLAG_W,CDOM325,CDOM325_FLAG_W,CDOM340,CDOM340_FLAG_W,CDOM380,CDOM380_FLAG_W,CDOM412,CDOM412_FLAG_W,CDOM443,CDOM443_FLAG_W,CDOM490,CDOM490_FLAG_W,CDOM555,CDOM555_FLAG_W,CDOMSL,CDOMSL_FLAG_W,CDOMSN,CDOMSN_FLAG_W,HELIER,DELHER,THETA,LDEO_SAMPNO,ABSORBTION,ABSORBTION_FLAG_W,IMAGE_COUNT,IMAGE_COUNT_FLAG_W,CYTO_COUNT,CYTO_COUNT_FLAG_W,DELD,DELD_FLAG_W,DELDERR,BTL_DATE,BTL_TIME
,,,,,,,,,,,METERS,DBAR,ITS-90,PSS-78,,PSS-78,,UMOL/KG,,UMOL/KG,,UMOL/KG,,UMOL/KG,,UMOL/KG,,UMOL/KG,,PMOL/KG,,PMOL/KG,,PMOL/KG,,FMOL/KG,,UMOL/KG,,UMOL/KG,,,,DEG C,TU,,NMOL/KG,,PERCNT,,DEG C,,/MILLE,,/MILLE,,/MILLE,NMOL/KG,,/MILLE,,UG/KG,,UMOL/KG,,UMOL/KG,,,,TU,NMOL/KG,G/KG,,,,,,1/M,,1/M,,1/M,,1/M,,1/M,,1/M,,1/M,,1/NM,,1/NM,,NMOL/KG,PERCNT,DEG C,,,,,,,,/MILLE,,/MILLE,,
320620110219,       P16S,      47,          1,         36,         36,2,20110311,       1910,   -67.9959,  -149.9988,       4246,     4.8,  -0.5118,  33.7796,2,  33.7800,2,    340.7,2,   343.7,2,   39.86,2,   23.63,2,    0.21,2,    1.66,2,   6.103,2,   3.337,2,   0.633,2,   2.5050,2,  2155.1,6,  2288.3,2,   7.7008,2,    25.00,-999.000,9,-999.0000,9,-999.000,9,  -0.5117,2, -999.00,9,  -999.0,9,  -999.0,-999.000,9, -999.00,9,-999.000,9, -999.00,9, -999.00,9, -67.9968,-149.9981,-999.000,     -999.0,    33.9392,2,     -999.0,9,     -999.0,9,-999.0000,9,-999.0000,9,-999.0000,9,-999.0000,9,-999.0000,9,-999.0000,9,-999.0000,9,-999.0000,9,-999.0000,9,-999.0000,-999.000,  -0.5119,     -999.0,     -999.0,9,     -999.0,9,     -999.0,9,     -999.0,9,     -999.0,20110311,       2100
320620110219,       P16S,      47,          1,         35,         35,2,20110311,       1910,   -67.9959,  -149.9988,       4246,    30.2,  -0.5147,  33.7795,2,  33.7792,2,    344.3,2,   344.0,2,   39.98,2,   23.57,2,    0.21,2,    1.67,2,   6.092,2,   3.337,2,   0.636,2,   2.2280,2,  2154.1,2,  2288.7,2,   7.7017,6,    25.00,-999.000,9,-999.0000,9,-999.000,9,  -0.5150,2, -999.00,9,  -999.0,9,  -999.0,-999.000,9, -999.00,9,-999.000,9, -999.00,9, -999.00,9, -67.9968,-149.9981,-999.000,     -999.0,    33.9384,2,     -999.0,9,     -999.0,9,   0.0650,2,   0.0290,3,  -0.0118,4,  -0.0164,4,  -0.0225,4,  -0.0173,4,  -0.0156,4,   0.1101,4,   0.0653,4,-999.0000,-999.000,  -0.5156,     -999.0,     -999.0,9,     -999.0,9,     -999.0,9,     -999.0,9,     -999.0,20110311,       2059
320620110219,       P16S,      47,          1,         33,         33,2,20110311,       1910,   -67.9959,  -149.9988,       4246,    63.4,  -0.5807,  33.8123,2,  33.8223,2,    344.4,2,   337.3,2,   42.13,2,   23.99,2,    0.21,2,    1.75,2,   5.929,2,   3.242,2,   0.619,2,   2.2890,2,  -999.0,9,  -999.0,9,-999.0000,9,  -999.00,-999.000,9,-999.0000,9,-999.000,9,  -0.5804,2, -999.00,9,  -999.0,9,  -999.0,-999.000,9, -999.00,9,-999.000,9, -999.00,9, -999.00,9, -67.9968,-149.9981,-999.000,     -999.0,    33.9818,2,     -999.0,9,     -999.0,9,   0.0529,3,   0.0177,3,  -0.0150,4,  -0.0175,4,  -0.0231,4,  -0.0174,4,  -0.0156,4,   0.1114,4,   0.0806,4,-999.0000,-999.000,  -0.5825,     -999.0,     -999.0,9,     -999.0,9,     -999.0,9,     -999.0,9,     -999.0,20110311,       2056
320620110219,       P16S,      47,          1,         34,         34,4,20110311,       1910,   -67.9959,  -149.9988,       4246,    64.1,  -0.5893,  33.8151,2,  33.8128,2,    339.1,2,   338.7,2,   41.55,2,   23.86,2,    0.21,2,    1.72,2,   5.996,2,   3.272,2,   0.629,2,   2.2600,2,  2159.6,2,  2289.3,6,   7.6920,2,    25.00,-999.000,9,-999.0000,9,-999.000,9,  -0.5868,2, -999.00,9,  -999.0,9,  -999.0,-999.000,9, -999.00,9,-999.000,9, -999.00,9, -999.00,9, -67.9968,-149.9981,-999.000,     -999.0,    33.9722,2,     -999.0,9,     -999.0,9,-999.0000,9,-999.0000,9,-999.0000,9,-999.0000,9,-999.0000,9,-999.0000,9,-999.0000,9,-999.0000,9,-999.0000,9,-999.0000,-999.000,  -0.5912,     -999.0,     -999.0,9,     -999.0,9,     -999.0,9,     -999.0,9,     -999.0,20110311,       2057
320620110219,       P16S,      47,          1,         32,         32,2,20110311,       1910,   -67.9959,  -149.9988,       4246,    89.9,  -1.4888,  34.1053,2,  34.1039,2,    301.7,2,   301.8,2,   54.38,2,   27.90,2,    0.24,2,    1.97,2,   4.985,2,   2.705,2,   0.530,2,   1.7130,2,  2196.0,2,  2305.7,2,   7.6278,4,    25.00,-999.000,9,-999.0000,9,-999.000,9,  -1.4897,2, -999.00,9,  -999.0,9,  -999.0,-999.000,9, -999.00,9,-999.000,9, -999.00,9, -999.00,9, -67.9967,-149.9982,-999.000,     -999.0,    34.2648,2,     -999.0,9,     -999.0,9,   0.0558,3,   0.0200,3,  -0.0165,4,  -0.0181,4,  -0.0239,4,  -0.0183,4,  -0.0160,4,   0.1073,4,   0.0773,4,-999.0000,-999.000,  -1.4908,     -999.0,     -999.0,9,     -999.0,9,     -999.0,9,     -999.0,9,     -999.0,20110311,       2055
320620110219,       P16S,      47,          1,         31,         31,2,20110311,       1910,   -67.9959,  -149.9988,       4246,   134.7,  -0.3449,  34.3239,2,  34.3274,2,    265.7,2,   251.4,2,   67.87,2,   30.54,2,    0.03,2,    2.12,2,-999.000,9,-999.000,9,-999.000,9,-999.0000,9,  2222.5,2,  2320.4,2,   7.5887,2,    25.00,-999.000,9,-999.0000,9,-999.000,9,  -0.3300,2, -999.00,9,  -999.0,9,  -999.0,-999.000,9, -999.00,9,-999.000,9, -999.00,9, -999.00,9, -67.9966,-149.9983,-999.000,     -999.0,    34.4892,2,     -999.0,9,     -999.0,9,   0.0616,3,   0.0231,3,  -0.0145,4,  -0.0168,4,  -0.0231,4,  -0.0180,4,  -0.0160,4,   0.1012,4,   0.0741,4,-999.0000,-999.000,  -0.3493,     -999.0,     -999.0,9,     -999.0,9,     -999.0,9,     -999.0,9,     -999.0,20110311,       2053
320620110219,       P16S,      47,          1,         30,         30,2,20110311,       1910,   -67.9959,  -149.9988,       4246,   183.7,   0.8216,  34.5410,2,  34.5384,2,    210.7,2,   207.3,2,   81.17,2,   31.95,2,    0.01,2,    2.21,2,   1.690,2,   0.930,2,   0.174,2,   0.5020,2,  2244.9,2,  2334.0,2,   7.5658,2,    25.00,-999.000,9,-999.0000,9,-999.000,9,   0.8251,2, -999.00,9,  -999.0,9,  -999.0,-999.000,9, -999.00,9,-999.000,9, -999.00,9, -999.00,9, -67.9965,-149.9983,-999.000,     -999.0,    34.7013,2,     -999.0,9,     -999.0,9,   0.0688,3,   0.0294,3,  -0.0083,4,  -0.0155,4,  -0.0231,4,  -0.0183,4,  -0.0164,4,   0.0808,3,   0.0657,4,-999.0000,-999.000,   0.8136,     -999.0,     -999.0,9,     -999.0,9,     -999.0,9,     -999.0,9,     -999.0,20110311,       2051
320620110219,       P16S,      47,          1,         29,         29,2,20110311,       1910,   -67.9959,  -149.9988,       4246,   234.3,   1.4903,  34.6826,2,  34.6877,2,    185.6,2,   184.1,2,   89.74,2,   31.99,2,    0.00,2,    2.23,2,   0.725,2,   0.302,2,   0.044,2,   0.1100,2,  2253.6,2,  2345.8,2,   7.5675,2,    25.00,-999.000,9,-999.0000,9,-999.000,9,   1.4881,2, -999.00,9,  -999.0,9,  -999.0,-999.000,9, -999.00,9,-999.000,9, -999.00,9, -999.00,9, -67.9965,-149.9983,-999.000,     -999.0,    34.8513,2,     -999.0,9,     -999.0,9,   0.0753,3,   0.0350,3,  -0.0052,4,  -0.0141,4,  -0.0224,4,  -0.0182,4,  -0.0163,4,   0.0761,4,   0.0585,4,-999.0000,-999.000,   1.4786,     -999.0,     -999.0,9,     -999.0,9,     -999.0,9,     -999.0,9,     -999.0,20110311,       2049
320620110219,       P16S,      47,          1,         28,         28,2,20110311,       1910,   -67.9959,  -149.9988,       4246,   285.1,   1.5333,  34.7147,2,  34.7132,2,    183.2,2,   183.7,2,   93.53,2,   31.81,2,    0.00,2,    2.22,2,   0.372,2,   0.194,2,   0.032,2,   0.1040,2,  2255.6,2,  2349.3,2,   7.5712,2,    25.00,-999.000,9,-999.0000,9,-999.000,9,   1.5335,2, -999.00,9,  -999.0,9,  -999.0,-999.000,9, -999.00,9,-999.000,9, -999.00,9, -999.00,9, -67.9965,-149.9983,-999.000,     -999.0,    34.8769,2,     -999.0,9,     -999.0,9,   0.0704,3,   0.0301,3,  -0.0105,4,  -0.0174,4,  -0.0244,4,  -0.0193,4,  -0.0168,4,   0.0952,4,   0.0664,4,-999.0000,-999.000,   1.5189,     -999.0,     -999.0,9,     -999.0,9,     -999.0,9,     -999.0,9,     -999.0,20110311,       2048
320620110219,       P16S,      47,          1,         27,         27,2,20110311,       1910,   -67.9959,  -149.9988,       4246,   333.8,   1.4956,  34.7232,2,  34.7216,2,    183.2,2,   183.7,2,   96.30,2,   31.67,2,    0.00,2,    2.22,2,   0.303,2,   0.158,2,   0.025,2,   0.0950,2,  2256.4,2,  2350.1,2,   7.5692,4,    25.00,-999.000,9,-999.0000,9,-999.000,9,   1.4954,2, -999.00,9,  -999.0,9,  -999.0,-999.000,9, -999.00,9,-999.000,9, -999.00,9, -999.00,9, -67.9965,-149.9983,-999.000,     -999.0,    34.8853,2,     -999.0,9,     -999.0,9,   0.0722,3,   0.0316,3,  -0.0097,4,  -0.0164,4,  -0.0238,4,  -0.0193,4,  -0.0170,4,   0.0840,4,   0.0645,4,-999.0000,-999.000,   1.4787,     -999.0,     -999.0,9,     -999.0,9,     -999.0,9,     -999.0,9,     -999.0,20110311,       2046
320620110219,       P16S,      47,          1,         26,         26,2,20110311,       1910,   -67.9959,  -149.9988,       4246,   384.9,   1.4534,  34.7268,2,  34.7267,2,    183.9,2,   184.3,2,   98.61,2,   31.67,2,    0.00,2,    2.22,2,   0.258,2,   0.134,2,   0.017,2,   0.0650,2,  2258.6,2,  2351.2,2,   7.5738,2,    25.00,-999.000,9,-999.0000,9,-999.000,9,   1.4537,2, -999.00,9,  -999.0,9,  -999.0,-999.000,9, -999.00,9,-999.000,9, -999.00,9, -999.00,9, -67.9965,-149.9983,-999.000,     -999.0,    34.8905,2,     -999.0,9,     -999.0,9,-999.0000,9,-999.0000,9,-999.0000,9,-999.0000,9,-999.0000,9,-999.0000,9,-999.0000,9,-999.0000,9,-999.0000,9,-999.0000,-999.000,   1.4338,     -999.0,     -999.0,9,     -999.0,9,     -999.0,9,     -999.0,9,     -999.0,20110311,       2044
320620110219,       P16S,      47,          1,         25,         25,2,20110311,       1910,   -67.9959,  -149.9988,       4246,   434.8,   1.4100,  34.7286,2,  34.7283,2,    184.4,2,   184.4,2,  100.57,2,   31.78,2,    0.00,2,    2.23,2,   0.230,2,   0.116,2,   0.014,2,   0.0550,2,  2257.8,2,  2352.4,2,   7.5750,2,    25.00,-999.000,9,-999.0000,9,-999.000,9,   1.4099,2, -999.00,9,  -999.0,9,  -999.0,-999.000,9, -999.00,9,-999.000,9, -999.00,9, -999.00,9, -67.9965,-149.9983,-999.000,     -999.0,    34.8920,2,     -999.0,9,     -999.0,9,   0.0705,3,   0.0294,3,  -0.0125,4,  -0.0167,4,  -0.0240,4,  -0.0195,4,  -0.0171,4,   0.0964,4,   0.0678,4,-999.0000,-999.000,   1.3878,     -999.0,     -999.0,9,     -999.0,9,     -999.0,9,     -999.0,9,     -999.0,20110311,       2042
320620110219,       P16S,      47,          1,         24,         24,2,20110311,       1910,   -67.9959,  -149.9988,       4246,   484.2,   1.3715,  34.7294,2,  34.7281,2,    185.4,2,   184.1,2,  102.94,2,   31.91,2,    0.00,2,    2.23,2,   0.196,2,   0.101,2,   0.012,2,   0.0400,2,  2259.6,2,  2353.5,6,   7.5719,2,    25.00,-999.000,9,-999.0000,9,-999.000,9,   1.3715,2, -999.00,9,  -999.0,9,  -999.0,-999.000,9, -999.00,9,-999.000,9, -999.00,9, -999.00,9, -67.9964,-149.9983,-999.000,     -999.0,    34.8918,2,     -999.0,9,     -999.0,9,-999.0000,9,-999.0000,9,-999.0000,9,-999.0000,9,-999.0000,9,-999.0000,9,-999.0000,9,-999.0000,9,-999.0000,9,-999.0000,-999.000,   1.3468,     -999.0,     -999.0,9,     -999.0,9,     -999.0,9,     -999.0,9,     -999.0,20110311,       2041
320620110219,       P16S,      47,          1,         23,         23,2,20110311,       1910,   -67.9959,  -149.9988,       4246,   564.8,   1.3075,  34.7293,2,  34.7286,2,    184.0,2,   183.9,2,  105.73,2,   32.06,2,    0.00,2,    2.24,2,-999.000,9,-999.000,9,-999.000,9,-999.0000,9,  2260.0,2,  2355.6,2,   7.5729,6,    25.00,-999.000,9,-999.0000,9,-999.000,9,   1.3073,2, -999.00,9,  -999.0,9,  -999.0,-999.000,9, -999.00,9,-999.000,9, -999.00,9, -999.00,9, -67.9963,-149.9985,-999.000,     -999.0,    34.8924,2,     -999.0,9,     -999.0,9,-999.0000,9,-999.0000,9,-999.0000,9,-999.0000,9,-999.0000,9,-999.0000,9,-999.0000,9,-999.0000,9,-999.0000,9,-999.0000,-999.000,   1.2786,     -999.0,     -999.0,9,     -999.0,9,     -999.0,9,     -999.0,9,     -999.0,20110311,       2038
320620110219,       P16S,      47,          1,         22,         22,2,20110311,       1910,   -67.9959,  -149.9988,       4246,   665.4,   1.2344,  34.7281,2,  34.7278,2,    187.2,2,   186.5,2,  107.39,2,   31.85,2,    0.00,2,    2.24,2,   0.143,2,   0.074,2,   0.010,2,   0.0580,2,  2259.7,6,  2356.8,2,   7.5770,4,    25.00,-999.000,9,-999.0000,9,-999.000,9,   1.2352,2, -999.00,9,  -999.0,9,  -999.0,-999.000,9, -999.00,9,-999.000,9, -999.00,9, -999.00,9, -67.9962,-149.9985,-999.000,     -999.0,    34.8916,2,     -999.0,9,     -999.0,9,   0.0691,3,   0.0285,3,  -0.0124,4,  -0.0173,4,  -0.0244,4,  -0.0197,4,  -0.0172,4,   0.0982,4,   0.0687,4,-999.0000,-999.000,   1.2001,     -999.0,     -999.0,9,     -999.0,9,     -999.0,9,     -999.0,9,     -999.0,20110311,       2035
320620110219,       P16S,      47,          1,         21,         21,2,20110311,       1910,   -67.9959,  -149.9988,       4246,   765.6,   1.1699,  34.7263,2,  34.7268,2,    189.5,2,   189.0,2,  109.44,2,   31.80,2,    0.00,2,    2.24,2,-999.000,9,-999.000,9,-999.000,9,-999.0000,9,  -999.0,9,  -999.0,9,-999.0000,9,  -999.00,-999.000,9,-999.0000,9,-999.000,9,   1.1697,2, -999.00,9,  -999.0,9,  -999.0,-999.000,9, -999.00,9,-999.000,9, -999.00,9, -999.00,9, -67.9962,-149.9986,-999.000,     -999.0,    34.8906,2,     -999.0,9,     -999.0,9,-999.0000,9,-999.0000,9,-999.0000,9,-999.0000,9,-999.0000,9,-999.0000,9,-999.0000,9,-999.0000,9,-999.0000,9,-999.0000,-999.000,   1.1302,     -999.0,     -999.0,9,     -999.0,9,     -999.0,9,     -999.0,9,     -999.0,20110311,       2033
320620110219,       P16S,      47,          1,         20,         20,2,20110311,       1910,   -67.9959,  -149.9988,       4246,   864.4,   1.0997,  34.7240,2,  34.7233,2,    191.7,2,   191.1,2,  111.40,2,   31.83,2,    0.00,2,    2.24,2,   0.110,2,   0.059,2,   0.006,2,   0.0420,2,  2260.5,2,  2356.4,2,   7.5807,2,    25.00,-999.000,9,-999.0000,9,-999.000,9,   1.0996,2, -999.00,9,  -999.0,9,  -999.0,-999.000,9, -999.00,9,-999.000,9, -999.00,9, -999.00,9, -67.9962,-149.9986,-999.000,     -999.0,    34.8870,2,     -999.0,9,     -999.0,9,-999.0000,9,-999.0000,9,-999.0000,9,-999.0000,9,-999.0000,9,-999.0000,9,-999.0000,9,-999.0000,9,-999.0000,9,-999.0000,-999.000,   1.0547,     -999.0,     -999.0,9,     -999.0,9,     -999.0,9,     -999.0,9,     -999.0,20110311,       2030
320620110219,       P16S,      47,          1,         19,         19,2,20110311,       1910,   -67.9959,  -149.9988,       4246,   965.7,   1.0334,  34.7216,2,  34.7215,2,    193.7,2,   193.4,2,  113.70,2,   31.82,2,    0.00,2,    2.24,2,-999.000,9,-999.000,9,-999.000,9,-999.0000,9,  -999.0,9,  -999.0,9,-999.0000,9,  -999.00,-999.000,9,-999.0000,9,-999.000,9,   1.0336,2, -999.00,9,  -999.0,9,  -999.0,-999.000,9, -999.00,9,-999.000,9, -999.00,9, -999.00,9, -67.9962,-149.9986,-999.000,     -999.0,    34.8852,2,     -999.0,9,     -999.0,9,   0.0619,3,   0.0226,3,  -0.0169,4,  -0.0216,4,  -0.0275,4,  -0.0211,4,  -0.0179,4,   0.1141,4,   0.0758,4,-999.0000,-999.000,   0.9828,     -999.0,     -999.0,9,     -999.0,9,     -999.0,9,     -999.0,9,     -999.0,20110311,       2027
320620110219,       P16S,      47,          1,         18,         18,2,20110311,       1910,   -67.9959,  -149.9988,       4246,  1065.0,   0.9768,  34.7194,2,  34.7190,2,    195.7,2,   195.4,2,  115.28,2,   31.88,2,    0.00,2,    2.24,2,   0.088,2,   0.050,2,   0.006,2,   0.0000,2,  2259.9,2,  2358.3,2,   7.5882,2,    25.00,-999.000,9,-999.0000,9,-999.000,9,   0.9767,2, -999.00,9,  -999.0,9,  -999.0,-999.000,9, -999.00,9,-999.000,9, -999.00,9, -999.00,9, -67.9962,-149.9986,-999.000,     -999.0,    34.8827,2,     -999.0,9,     -999.0,9,-999.0000,9,-999.0000,9,-999.0000,9,-999.0000,9,-999.0000,9,-999.0000,9,-999.0000,9,-999.0000,9,-999.0000,9,-999.0000,-999.000,   0.9206,     -999.0,     -999.0,9,     -999.0,9,     -999.0,9,     -999.0,9,     -999.0,20110311,       2025
320620110219,       P16S,      47,          1,         17,         17,2,20110311,       1910,   -67.9959,  -149.9988,       4246,  1165.0,   0.9167,  34.7170,2,  34.7170,2,    197.2,2,   197.0,2,  117.88,2,   31.91,2,    0.00,2,    2.24,2,-999.000,9,-999.000,9,-999.000,9,-999.0000,9,  -999.0,9,  -999.0,9,-999.0000,9,  -999.00,-999.000,9,-999.0000,9,-999.000,9,   0.9169,2, -999.00,9,  -999.0,9,  -999.0,-999.000,9, -999.00,9,-999.000,9, -999.00,9, -999.00,9, -67.9962,-149.9986,-999.000,     -999.0,    34.8807,2,     -999.0,9,     -999.0,9,-999.0000,9,-999.0000,9,-999.0000,9,-999.0000,9,-999.0000,9,-999.0000,9,-999.0000,9,-999.0000,9,-999.0000,9,-999.0000,-999.000,   0.8548,     -999.0,     -999.0,9,     -999.0,9,     -999.0,9,     -999.0,9,     -999.0,20110311,       2022
320620110219,       P16S,      47,          1,         16,         16,2,20110311,       1910,   -67.9959,  -149.9988,       4246,  1265.5,   0.8614,  34.7148,2,  34.7142,2,    198.8,2,   199.1,2,  119.38,2,   31.93,2,    0.00,2,    2.24,2,   0.085,2,   0.044,2,   0.005,2,   0.0000,2,  -999.0,9,  -999.0,9,-999.0000,9,  -999.00,-999.000,9,-999.0000,9,-999.000,9,   0.8615,2, -999.00,9,  -999.0,9,  -999.0,-999.000,9, -999.00,9,-999.000,9, -999.00,9, -999.00,9, -67.9962,-149.9986,-999.000,     -999.0,    34.8779,2,     -999.0,9,     -999.0,9,   0.0622,3,   0.0233,3,  -0.0141,4,  -0.0205,4,  -0.0269,4,  -0.0211,4,  -0.0180,4,   0.1074,4,   0.0741,4,-999.0000,-999.000,   0.7936,     -999.0,     -999.0,9,     -999.0,9,     -999.0,9,     -999.0,9,     -999.0,20110311,       2019
320620110219,       P16S,      47,          1,         15,         15,2,20110311,       1910,   -67.9959,  -149.9988,       4246,  1365.6,   0.8134,  34.7129,2,  34.7129,2,    199.8,2,   200.6,2,  120.83,2,   31.95,2,    0.00,2,    2.24,2,-999.000,9,-999.000,9,-999.000,9,-999.0000,9,  2260.6,2,  2361.6,2,   7.5885,4,    25.00,-999.000,9,-999.0000,9,-999.000,9,   0.8138,2, -999.00,9,  -999.0,9,  -999.0,-999.000,9, -999.00,9,-999.000,9, -999.00,9, -999.00,9, -67.9962,-149.9986,-999.000,     -999.0,    34.8765,2,     -999.0,9,     -999.0,9,-999.0000,9,-999.0000,9,-999.0000,9,-999.0000,9,-999.0000,9,-999.0000,9,-999.0000,9,-999.0000,9,-999.0000,9,-999.0000,-999.000,   0.7397,     -999.0,     -999.0,9,     -999.0,9,     -999.0,9,     -999.0,9,     -999.0,20110311,       2016
320620110219,       P16S,      47,          1,         14,         14,2,20110311,       1910,   -67.9959,  -149.9988,       4246,  1463.6,   0.7699,  34.7114,2,  34.7111,2,    201.2,2,   201.3,2,  122.25,2,   31.94,2,    0.00,2,    2.24,2,   0.084,2,   0.046,2,   0.006,2,   0.0000,2,  -999.0,9,  -999.0,9,-999.0000,9,  -999.00,-999.000,9,-999.0000,9,-999.000,9,   0.7700,2, -999.00,9,  -999.0,9,  -999.0,-999.000,9, -999.00,9,-999.000,9, -999.00,9, -999.00,9, -67.9962,-149.9986,-999.000,     -999.0,    34.8748,2,     -999.0,9,     -999.0,9,-999.0000,9,-999.0000,9,-999.0000,9,-999.0000,9,-999.0000,9,-999.0000,9,-999.0000,9,-999.0000,9,-999.0000,9,-999.0000,-999.000,   0.6902,     -999.0,     -999.0,9,     -999.0,9,     -999.0,9,     -999.0,9,     -999.0,20110311,       2013