BOTTLE,20220813CCHSIOAMB
EXPOCODE,SECT_ID,STNNBR,CASTNO,SAMPNO,BTLNBR,BTLNBR_FLAG_W,DATE,TIME,LATITUDE,LONGITUDE,DEPTH,CTDPRS,CTDTMP,CTDSAL,CTDSAL_FLAG_W,SALNTY,SALNTY_FLAG_W,CTDOXY,CTDOXY_FLAG_W,OXYGEN,OXYGEN_FLAG_W,SILCAT,SILCAT_FLAG_W,NITRAT,NITRAT_FLAG_W,NITRIT,NITRIT_FLAG_W,PHSPHT,PHSPHT_FLAG_W,CFC-11,CFC-11_FLAG_W,CFC-12,CFC-12_FLAG_W,CFC113,CFC113_FLAG_W,SF6,SF6_FLAG_W,TCARBN,TCARBN_FLAG_W,ALKALI,ALKALI_FLAG_W,PH_TOT,PH_TOT_FLAG_W,PH_TMP,TRITUM,TRITUM_FLAG_W,HELIUM,HELIUM_FLAG_W,DELHE3,DELHE3_FLAG_W,REFTMP,REFTMP_FLAG_W,DELC13,DELC13_FLAG_W,DELC14,DELC14_FLAG_W,C14ERR,NEON,NEON_FLAG_W,DELO18,DELO18_FLAG_W,POC,POC_FLAG_W,DOC,DOC_FLAG_W,TDN,TDN_FLAG_W,BTL_LAT,BTL_LON,TRITER,NEONER,SALTREF,SALTREF_FLAG_W,PIGMENTS,PIGMENTS_FLAG_W,LAB_DEN,LAB_DEN_FLAG_W,CDOM325,CDOM325_FLAG_W,CDOM340,CDOM340_FLAG_W,CDOM380,CDOM380_FLAG_W,CDOM412,CDOM412_FLAG_W,CDOM443,CDOM443_FLAG_W,CDOM490,CDOM490_FLAG_W,CDOM555,CDOM555_FLAG_W,CDOMSL,CDOMSL_FLAG_W,CDOMSN,CDOMSN_FLAG_W,HELIER,DELHER,THETA,LDEO_SAMPNO,ABSORBTION,ABSORBTION_FLAG_W,IMAGE_COUNT,IMAGE_COUNT_FLAG_W,CYTO_COUNT,CYTO_COUNT_FLAG_W,DELD,DELD_FLAG_W,DELDERR,BTL_DATE,BTL_TIME
,,,,,,,,,,,METERS,DBAR,ITS-90,PSS-78,,PSS-78,,UMOL/KG,,UMOL/KG,,UMOL/KG,,UMOL/KG,,UMOL/KG,,UMOL/KG,,PMOL/KG,,PMOL/KG,,PMOL/KG,,FMOL/KG,,UMOL/KG,,UMOL/KG,,,,DEG C,TU,,NMOL/KG,,PERCNT,,DEG C,,/MILLE,,/MILLE,,/MILLE,NMOL/KG,,/MILLE,,UG/KG,,UMOL/KG,,UMOL/KG,,,,TU,NMOL/KG,G/KG,,,,,,1/M,,1/M,,1/M,,1/M,,1/M,,1/M,,1/M,,1/NM,,1/NM,,NMOL/KG,PERCNT,DEG C,,,,,,,,/MILLE,,/MILLE,,
320620110219,       P16S,      62,          1,         36,         36,2,20110316,       1118,   -75.2203,  -150.0115,       3651,     2.5,  -1.7460,  33.4034,2,  33.4027,2,    351.3,3,   354.5,2,   44.71,2,   20.94,2,    0.18,2,    1.31,2,   6.314,2,   3.468,2,   0.617,2,-999.0000,9,  2123.0,2,  2280.0,4,   7.7340,4,    25.00,   0.086,2,    1.912,2,  -1.499,2,  -1.7462,2, -999.00,9,  -999.0,9,  -999.0,   8.650,2,   -0.48,2,-999.000,9,   45.57,2,   25.78,2, -75.2204,-150.0116,   0.005,      0.012,    33.5602,2,     -999.0,9,     -999.0,9,-999.0000,9,-999.0000,9,-999.0000,9,-999.0000,9,-999.0000,9,-999.0000,9,-999.0000,9,-999.0000,9,-999.0000,9,    0.000,   0.192,  -1.7460,50006201036,     -999.0,9,     -999.0,9,     -999.0,9,      -4.61,2,       0.12,20110316,       1256
320620110219,       P16S,      62,          1,         35,         35,2,20110316,       1118,   -75.2203,  -150.0115,       3651,    20.2,  -1.7484,  33.4115,2,  33.4120,2,    354.0,2,   354.1,2,   45.50,2,   21.20,2,    0.17,2,    1.33,2,   6.218,2,   3.451,2,   0.595,2,-999.0000,9,  2125.8,2,  2269.3,6,   7.7311,2,    25.00,   0.079,2,    1.908,2,  -1.894,2,  -1.7446,2, -999.00,9,  -999.0,9,  -999.0,   8.567,2,   -0.50,2,-999.000,9,   45.73,2,   25.75,2, -75.2203,-150.0116,   0.005,      0.014,    33.5696,2,     -999.0,9,     -999.0,9,-999.0000,9,-999.0000,9,-999.0000,9,-999.0000,9,-999.0000,9,-999.0000,9,-999.0000,9,-999.0000,9,-999.0000,9,    0.001,   0.203,  -1.7488,50006201035,     -999.0,9,     -999.0,9,     -999.0,9,      -4.71,2,       0.43,20110316,       1255
320620110219,       P16S,      62,          1,         34,         34,2,20110316,       1118,   -75.2203,  -150.0115,       3651,    39.9,  -0.9038,  33.6196,2,  33.6369,2,    350.8,2,   337.0,2,   56.42,2,   22.17,2,    0.14,2,    1.60,2,   5.820,2,   3.232,2,   0.542,2,-999.0000,9,  2147.6,6,  2284.6,2,   7.7125,2,    25.00,   0.077,2,    1.955,2,  -1.183,2,  -0.9027,2, -999.00,9,  -999.0,9,  -999.0,   8.889,2,   -0.52,2,-999.000,9,   45.75,2,   26.83,2, -75.2203,-150.0116,   0.005,      0.016,    33.7955,2,     -999.0,9,     -999.0,9,-999.0000,9,-999.0000,9,-999.0000,9,-999.0000,9,-999.0000,9,-999.0000,9,-999.0000,9,-999.0000,9,-999.0000,9,    0.001,   0.180,  -0.9048,50006201034,     -999.0,9,     -999.0,9,     -999.0,9,      -5.14,2,       0.24,20110316,       1254
320620110219,       P16S,      62,          1,         33,         33,2,20110316,       1118,   -75.2203,  -150.0115,       3651,    64.2,  -1.6846,  34.0363,2,  34.0403,2,    297.2,2,   296.5,2,   75.03,2,   28.91,2,    0.16,2,    2.09,2,   4.476,2,   2.467,2,   0.405,2,-999.0000,9,  2203.2,2,  2306.2,2,   7.6090,2,    25.00,   0.062,2,    2.018,2,   0.483,2,  -1.6851,2, -999.00,9,  -999.0,9,  -999.0,   9.026,2,   -0.42,2,-999.000,9,   44.54,2,   32.60,2, -75.2203,-150.0116,   0.005,      0.016,    34.2008,2,     -999.0,9,     -999.0,9,-999.0000,9,-999.0000,9,-999.0000,9,-999.0000,9,-999.0000,9,-999.0000,9,-999.0000,9,-999.0000,9,-999.0000,9,    0.001,   0.193,  -1.6859,50006201033,     -999.0,9,     -999.0,9,     -999.0,9,      -4.73,2,       0.08,20110316,       1252
320620110219,       P16S,      62,          1,         32,         32,2,20110316,       1118,   -75.2203,  -150.0115,       3651,    89.5,  -1.7601,  34.0665,2,  34.0665,2,    292.3,2,   290.5,2,   80.30,2,   29.52,2,    0.21,2,    2.10,2,   4.199,2,   2.339,2,   0.378,2,-999.0000,9,  2207.9,2,  2307.8,2,   7.6010,2,    25.00,-999.000,9,-999.0000,9,-999.000,9,  -1.7599,2, -999.00,9,  -999.0,9,  -999.0,-999.000,9, -999.00,9,-999.000,9,   44.63,2,   32.59,2, -75.2203,-150.0116,-999.000,     -999.0,    34.2271,2,     -999.0,9,     -999.0,9,-999.0000,9,-999.0000,9,-999.0000,9,-999.0000,9,-999.0000,9,-999.0000,9,-999.0000,9,-999.0000,9,-999.0000,9,-999.0000,-999.000,  -1.7619,     -999.0,     -999.0,9,     -999.0,9,     -999.0,9,     -999.0,9,     -999.0,20110316,       1251
320620110219,       P16S,      62,          1,         31,         31,2,20110316,       1118,   -75.2203,  -150.0115,       3651,   115.5,  -1.7289,  34.0850,2,  34.0849,2,    286.8,2,   286.7,2,   78.46,2,   29.91,2,    0.21,2,    2.11,2,   4.162,2,   2.317,2,   0.368,2,-999.0000,9,  2209.5,2,  2307.4,2,   7.5979,2,    25.00,-999.000,9,-999.0000,9,-999.000,9,  -1.7304,2, -999.00,9,  -999.0,9,  -999.0,-999.000,9, -999.00,9,-999.000,9,   42.89,2,   32.55,2, -75.2203,-150.0116,-999.000,     -999.0,    34.2456,2,     -999.0,9,     -999.0,9,-999.0000,9,-999.0000,9,-999.0000,9,-999.0000,9,-999.0000,9,-999.0000,9,-999.0000,9,-999.0000,9,-999.0000,9,-999.0000,-999.000,  -1.7312,     -999.0,     -999.0,9,     -999.0,9,     -999.0,9,     -999.0,9,     -999.0,20110316,       1249
320620110219,       P16S,      62,          1,         30,         30,2,20110316,       1118,   -75.2203,  -150.0115,       3651,   139.6,  -1.7312,  34.1019,2,  34.1021,2,    281.7,2,   282.1,2,   80.60,2,   30.36,2,    0.09,2,    2.12,2,   4.056,2,   2.247,2,   0.359,2,-999.0000,9,  2211.3,2,  2308.7,2,   7.5934,2,    25.00,-999.000,9,-999.0000,9,-999.000,9,  -1.7313,2, -999.00,9,  -999.0,9,  -999.0,-999.000,9, -999.00,9,-999.000,9,   42.68,2,   32.49,2, -75.2203,-150.0116,-999.000,     -999.0,    34.2629,2,     -999.0,9,     -999.0,9,-999.0000,9,-999.0000,9,-999.0000,9,-999.0000,9,-999.0000,9,-999.0000,9,-999.0000,9,-999.0000,9,-999.0000,9,-999.0000,-999.000,  -1.7341,     -999.0,     -999.0,9,     -999.0,9,     -999.0,9,     -999.0,9,     -999.0,20110316,       1248
320620110219,       P16S,      62,          1,         29,         29,2,20110316,       1118,   -75.2203,  -150.0115,       3651,   184.8,  -1.6645,  34.1227,2,  34.1226,2,    278.7,2,   278.5,2,   79.00,2,   30.55,2,    0.04,2,    2.14,2,   3.998,2,   2.210,2,   0.375,2,-999.0000,9,  2212.4,2,  2309.8,2,   7.5931,2,    25.00,   0.055,2,    2.052,2,   2.292,2,  -1.6638,2, -999.00,9,  -999.0,9,  -999.0,   9.141,2,   -0.51,2,-999.000,9,   41.91,2,   33.33,2, -75.2203,-150.0115,   0.005,      0.014,    34.2835,2,     -999.0,9,     -999.0,9,-999.0000,9,-999.0000,9,-999.0000,9,-999.0000,9,-999.0000,9,-999.0000,9,-999.0000,9,-999.0000,9,-999.0000,9,    0.000,   0.193,  -1.6685,50006201029,     -999.0,9,     -999.0,9,     -999.0,9,      -5.23,2,       0.09,20110316,       1246
320620110219,       P16S,      62,          1,         28,         28,2,20110316,       1118,   -75.2203,  -150.0115,       3651,   234.8,  -1.0550,  34.1939,2,  34.2027,2,    264.9,2,   259.3,2,   77.94,2,   31.34,2,    0.02,2,    2.18,2,   3.422,2,   1.877,2,   0.303,2,-999.0000,9,  2218.4,2,  2313.0,2,   7.5835,2,    25.00,-999.000,9,-999.0000,9,-999.000,9,  -1.0529,2, -999.00,9,  -999.0,9,  -999.0,-999.000,9, -999.00,9,-999.000,9,   41.26,2,   33.89,2, -75.2202,-150.0113,-999.000,     -999.0,    34.3640,2,     -999.0,9,     -999.0,9,-999.0000,9,-999.0000,9,-999.0000,9,-999.0000,9,-999.0000,9,-999.0000,9,-999.0000,9,-999.0000,9,-999.0000,9,-999.0000,-999.000,  -1.0614,     -999.0,     -999.0,9,     -999.0,9,     -999.0,9,     -999.0,9,     -999.0,20110316,       1244
320620110219,       P16S,      62,          1,         27,         27,2,20110316,       1118,   -75.2203,  -150.0115,       3651,   285.1,  -0.2098,  34.3240,2,  34.3252,2,    234.9,2,   235.5,2,   79.28,2,   32.12,2,    0.01,2,    2.23,2,   2.660,2,   1.455,2,   0.232,2,-999.0000,9,  2228.4,2,  2320.4,2,   7.5950,4,    25.00,   0.025,2,    2.008,2,   5.096,2,  -0.2076,2, -999.00,9,  -999.0,9,  -999.0,   8.808,2,   -0.34,2,-999.000,9,   40.63,2,   34.61,2, -75.2202,-150.0113,   0.006,      0.013,    34.4871,2,     -999.0,9,     -999.0,9,-999.0000,9,-999.0000,9,-999.0000,9,-999.0000,9,-999.0000,9,-999.0000,9,-999.0000,9,-999.0000,9,-999.0000,9,    0.001,   0.193,  -0.2199,50006201027,     -999.0,9,     -999.0,9,     -999.0,9,      -3.40,2,       0.11,20110316,       1243
320620110219,       P16S,      62,          1,         26,         26,2,20110316,       1118,   -75.2203,  -150.0115,       3651,   334.1,   1.1795,  34.5538,2,  34.5585,2,    198.1,2,   193.0,2,   83.57,2,   33.16,2,    0.01,2,    2.29,2,-999.000,9,-999.000,9,-999.000,9,-999.0000,9,  2246.9,2,  2334.0,2,   7.5556,2,    25.00,-999.000,9,-999.0000,9,-999.000,9,   1.1791,2, -999.00,9,  -999.0,9,  -999.0,-999.000,9, -999.00,9,-999.000,9,   40.04,2,   35.88,2, -75.2202,-150.0114,-999.000,     -999.0,    34.7214,2,     -999.0,9,     -999.0,9,-999.0000,9,-999.0000,9,-999.0000,9,-999.0000,9,-999.0000,9,-999.0000,9,-999.0000,9,-999.0000,9,-999.0000,9,-999.0000,-999.000,   1.1635,     -999.0,     -999.0,9,     -999.0,9,     -999.0,9,     -999.0,9,     -999.0,20110316,       1241
320620110219,       P16S,      62,          1,         25,         25,2,20110316,       1118,   -75.2203,  -150.0115,       3651,   384.4,   1.6677,  34.6572,2,  34.6597,2,    183.8,2,   182.5,2,   85.60,2,   33.00,2,    0.00,2,    2.27,2,   0.650,2,   0.328,2,   0.045,2,-999.0000,9,  2251.4,2,  2340.1,2,   7.5603,2,    25.00,-999.000,9,-999.0000,9,-999.000,9,   1.6682,2, -999.00,9,  -999.0,9,  -999.0,-999.000,9, -999.00,9,-999.000,9,   40.34,2,   35.15,2, -75.2202,-150.0114,-999.000,     -999.0,    34.8231,2,     -999.0,9,     -999.0,9,-999.0000,9,-999.0000,9,-999.0000,9,-999.0000,9,-999.0000,9,-999.0000,9,-999.0000,9,-999.0000,9,-999.0000,9,-999.0000,-999.000,   1.6475,     -999.0,     -999.0,9,     -999.0,9,     -999.0,9,     -999.0,9,     -999.0,20110316,       1239
320620110219,       P16S,      62,          1,         24,         24,2,20110316,       1118,   -75.2203,  -150.0115,       3651,   434.7,   1.7213,  34.6904,2,  34.6905,2,    181.6,2,   182.2,2,   87.40,2,   32.69,2,    0.00,2,    2.26,2,-999.000,9,-999.000,9,-999.000,9,-999.0000,9,  2250.7,2,  2344.0,6,   7.5667,2,    25.00,-999.000,9,-999.0000,9,-999.000,9,   1.7213,2, -999.00,9,  -999.0,9,  -999.0,-999.000,9, -999.00,9,-999.000,9,   40.21,2,   34.95,2, -75.2202,-150.0114,-999.000,     -999.0,    34.8541,2,     -999.0,9,     -999.0,9,-999.0000,9,-999.0000,9,-999.0000,9,-999.0000,9,-999.0000,9,-999.0000,9,-999.0000,9,-999.0000,9,-999.0000,9,-999.0000,-999.000,   1.6981,     -999.0,     -999.0,9,     -999.0,9,     -999.0,9,     -999.0,9,     -999.0,20110316,       1237
320620110219,       P16S,      62,          1,         23,         23,2,20110316,       1118,   -75.2203,  -150.0115,       3651,   484.7,   1.6928,  34.7092,2,  34.7111,2,    182.7,2,   183.7,2,   90.37,2,   32.32,2,    0.00,2,    2.24,2,   0.369,2,   0.180,2,   0.025,2,-999.0000,9,  2253.1,2,  2346.8,2,   7.5757,6,    25.00,   0.001,2,    1.968,2,   9.396,2,   1.6926,2, -999.00,9,  -999.0,9,  -999.0,   8.697,2,   -0.04,2,-999.000,9,   40.11,2,   34.29,2, -75.2202,-150.0114,   0.004,      0.015,    34.8747,2,     -999.0,9,     -999.0,9,-999.0000,9,-999.0000,9,-999.0000,9,-999.0000,9,-999.0000,9,-999.0000,9,-999.0000,9,-999.0000,9,-999.0000,9,    0.000,   0.205,   1.6668,50006201023,     -999.0,9,     -999.0,9,     -999.0,9,      -1.34,2,       0.04,20110316,       1235
320620110219,       P16S,      62,          1,         22,         22,2,20110316,       1118,   -75.2203,  -150.0115,       3651,   564.7,   1.6100,  34.7228,2,  34.7228,2,    185.2,2,   184.9,2,   93.65,2,   32.30,2,    0.00,2,    2.23,2,-999.000,9,-999.000,9,-999.000,9,-999.0000,9,  2252.8,6,  2349.2,2,   7.5802,2,    25.00,-999.000,9,-999.0000,9,-999.000,9,   1.6097,2, -999.00,9,  -999.0,9,  -999.0,-999.000,9, -999.00,9,-999.000,9,   39.97,2,   34.38,2, -75.2202,-150.0114,-999.000,     -999.0,    34.8866,2,     -999.0,9,     -999.0,9,-999.0000,9,-999.0000,9,-999.0000,9,-999.0000,9,-999.0000,9,-999.0000,9,-999.0000,9,-999.0000,9,-999.0000,9,-999.0000,-999.000,   1.5797,     -999.0,     -999.0,9,     -999.0,9,     -999.0,9,     -999.0,9,     -999.0,20110316,       1233
320620110219,       P16S,      62,          1,         21,         21,2,20110316,       1118,   -75.2203,  -150.0115,       3651,   664.6,   1.5037,  34.7282,2,  34.7281,2,    188.3,2,   188.0,2,   97.28,2,   32.19,2,    0.00,2,    2.22,2,   0.226,2,   0.111,2,   0.011,2,-999.0000,9,  -999.0,9,  -999.0,9,-999.0000,9,  -999.00,   0.001,2,    2.125,4,   8.743,2,   1.5034,2, -999.00,9,  -999.0,9,  -999.0,   9.055,2,   -0.04,2,-999.000,9,   40.02,2,   34.30,2, -75.2202,-150.0114,   0.004,      0.014,    34.8919,2,     -999.0,9,     -999.0,9,-999.0000,9,-999.0000,9,-999.0000,9,-999.0000,9,-999.0000,9,-999.0000,9,-999.0000,9,-999.0000,9,-999.0000,9,    0.001,   0.193,   1.4680,50006201021,     -999.0,9,     -999.0,9,     -999.0,9,      -1.36,2,       0.07,20110316,       1230
320620110219,       P16S,      62,          1,         20,         20,2,20110316,       1118,   -75.2203,  -150.0115,       3651,   765.2,   1.3913,  34.7295,2,  34.7293,2,    189.8,2,   189.6,2,  101.24,2,   32.16,2,    0.00,2,    2.23,2,-999.000,9,-999.000,9,-999.000,9,-999.0000,9,  2255.4,2,  2353.7,2,   7.5868,2,    25.00,-999.000,9,-999.0000,9,-999.000,9,   1.3912,2, -999.00,9,  -999.0,9,  -999.0,-999.000,9, -999.00,9,-999.000,9,   40.05,2,   34.48,2, -75.2202,-150.0113,-999.000,     -999.0,    34.8930,2,     -999.0,9,     -999.0,9,-999.0000,9,-999.0000,9,-999.0000,9,-999.0000,9,-999.0000,9,-999.0000,9,-999.0000,9,-999.0000,9,-999.0000,9,-999.0000,-999.000,   1.3503,     -999.0,     -999.0,9,     -999.0,9,     -999.0,9,     -999.0,9,     -999.0,20110316,       1227
320620110219,       P16S,      62,          1,         19,         19,2,20110316,       1118,   -75.2203,  -150.0115,       3651,   864.4,   1.2980,  34.7285,2,  34.7291,2,    191.0,2,   191.1,2,  104.17,2,   32.26,2,    0.00,2,    2.23,2,   0.153,2,   0.074,2,   0.008,2,-999.0000,9,  -999.0,9,  -999.0,9,-999.0000,9,  -999.00,   0.001,2,    2.035,2,   9.228,2,   1.2979,2, -999.00,9,  -999.0,9,  -999.0,   8.841,2,   -0.06,2,-999.000,9,   39.68,2,   34.65,2, -75.2201,-150.0112,   0.005,      0.013,    34.8928,2,     -999.0,9,     -999.0,9,-999.0000,9,-999.0000,9,-999.0000,9,-999.0000,9,-999.0000,9,-999.0000,9,-999.0000,9,-999.0000,9,-999.0000,9,    0.001,   0.193,   1.2516,50006201019,     -999.0,9,     -999.0,9,     -999.0,9,      -1.44,2,       0.05,20110316,       1225
320620110219,       P16S,      62,          1,         18,         18,2,20110316,       1118,   -75.2203,  -150.0115,       3651,   965.0,   1.2018,  34.7263,2,  34.7269,2,    192.9,2,   192.8,2,  107.52,2,   32.30,2,    0.00,2,    2.24,2,-999.000,9,-999.000,9,-999.000,9,-999.0000,9,  2256.6,2,  2356.3,2,   7.5881,2,    25.00,-999.000,9,-999.0000,9,-999.000,9,   1.2035,2, -999.00,9,  -999.0,9,  -999.0,-999.000,9, -999.00,9,-999.000,9,   39.33,2,   34.37,2, -75.2201,-150.0113,-999.000,     -999.0,    34.8907,2,     -999.0,9,     -999.0,9,-999.0000,9,-999.0000,9,-999.0000,9,-999.0000,9,-999.0000,9,-999.0000,9,-999.0000,9,-999.0000,9,-999.0000,9,-999.0000,-999.000,   1.1499,     -999.0,     -999.0,9,     -999.0,9,     -999.0,9,     -999.0,9,     -999.0,20110316,       1222
320620110219,       P16S,      62,          1,         17,         17,2,20110316,       1118,   -75.2203,  -150.0115,       3651,  1064.8,   1.1294,  34.7240,2,  34.7239,2,    194.6,2,   195.1,2,  109.77,2,   32.32,2,    0.00,2,    2.24,2,   0.109,2,   0.055,2,   0.008,2,-999.0000,9,  -999.0,9,  -999.0,9,-999.0000,9,  -999.00,   0.001,2,    2.020,2,   9.574,2,   1.1295,2, -999.00,9,  -999.0,9,  -999.0,   8.778,2,   -0.08,2,-999.000,9,   39.41,2,   34.77,2, -75.2201,-150.0112,   0.005,      0.012,    34.8877,2,     -999.0,9,     -999.0,9,-999.0000,9,-999.0000,9,-999.0000,9,-999.0000,9,-999.0000,9,-999.0000,9,-999.0000,9,-999.0000,9,-999.0000,9,    0.000,   0.193,   1.0719,50006201017,     -999.0,9,     -999.0,9,     -999.0,9,      -1.78,2,       0.18,20110316,       1219
320620110219,       P16S,      62,          1,         16,         16,2,20110316,       1118,   -75.2203,  -150.0115,       3651,  1164.2,   1.0561,  34.7219,2,  34.7224,2,    196.5,2,   196.1,2,  111.97,2,   32.40,2,    0.00,2,    2.24,2,-999.000,9,-999.000,9,-999.000,9,-999.0000,9,  2257.2,2,  2358.3,2,   7.5923,2,    25.00,-999.000,9,-999.0000,9,-999.000,9,   1.0554,2, -999.00,9,  -999.0,9,  -999.0,-999.000,9, -999.00,9,-999.000,9,   39.65,2,   34.85,2, -75.2201,-150.0113,-999.000,     -999.0,    34.8861,2,     -999.0,9,     -999.0,9,-999.0000,9,-999.0000,9,-999.0000,9,-999.0000,9,-999.0000,9,-999.0000,9,-999.0000,9,-999.0000,9,-999.0000,9,-999.0000,-999.000,   0.9929,     -999.0,     -999.0,9,     -999.0,9,     -999.0,9,     -999.0,9,     -999.0,20110316,       1217
320620110219,       P16S,      62,          1,         15,         15,2,20110316,       1118,   -75.2203,  -150.0115,       3651,  1264.6,   1.0012,  34.7197,2,  34.7196,2,    197.9,2,   197.9,2,  113.57,2,   32.54,2,    0.00,2,    2.24,2,   0.103,2,   0.050,2,   0.007,2,-999.0000,9,  -999.0,9,  -999.0,9,-999.0000,9,  -999.00,   0.001,2,    2.041,2,   9.589,2,   1.0009,2, -999.00,9,  -999.0,9,  -999.0,   8.961,2,    0.00,2,-999.000,9,   39.28,2,   35.01,2, -75.2201,-150.0113,   0.004,      0.013,    34.8833,2,     -999.0,9,     -999.0,9,-999.0000,9,-999.0000,9,-999.0000,9,-999.0000,9,-999.0000,9,-999.0000,9,-999.0000,9,-999.0000,9,-999.0000,9,    0.001,   0.193,   0.9321,50006201015,     -999.0,9,     -999.0,9,     -999.0,9,      -1.17,2,       0.14,20110316,       1214
320620110219,       P16S,      62,          1,         14,         14,2,20110316,       1118,   -75.2203,  -150.0115,       3651,  1365.2,   0.9414,  34.7176,2,  34.7172,2,    199.1,2,   198.5,2,  115.61,2,   32.52,2,    0.00,2,    2.23,2,-999.000,9,-999.000,9,-999.000,9,-999.0000,9,  -999.0,9,  -999.0,9,-999.0000,9,  -999.00,-999.000,9,-999.0000,9,-999.000,9,   0.9409,2, -999.00,9,  -999.0,9,  -999.0,-999.000,9, -999.00,9,-999.000,9,   39.81,2,   35.07,2, -75.2202,-150.0114,-999.000,     -999.0,    34.8809,2,     -999.0,9,     -999.0,9,-999.0000,9,-999.0000,9,-999.0000,9,-999.0000,9,-999.0000,9,-999.0000,9,-999.0000,9,-999.0000,9,-999.0000,9,-999.0000,-999.000,   0.8663,     -999.0,     -999.0,9,     -999.0,9,     -999.0,9,     -999.0,9,     -999.0,20110316,       1211