BOTTLE,20220813CCHSIOAMB
EXPOCODE,SECT_ID,STNNBR,CASTNO,SAMPNO,BTLNBR,BTLNBR_FLAG_W,DATE,TIME,LATITUDE,LONGITUDE,DEPTH,CTDPRS,CTDTMP,CTDSAL,CTDSAL_FLAG_W,SALNTY,SALNTY_FLAG_W,CTDOXY,CTDOXY_FLAG_W,OXYGEN,OXYGEN_FLAG_W,SILCAT,SILCAT_FLAG_W,NITRAT,NITRAT_FLAG_W,NITRIT,NITRIT_FLAG_W,PHSPHT,PHSPHT_FLAG_W,CFC-11,CFC-11_FLAG_W,CFC-12,CFC-12_FLAG_W,CFC113,CFC113_FLAG_W,SF6,SF6_FLAG_W,TCARBN,TCARBN_FLAG_W,ALKALI,ALKALI_FLAG_W,PH_TOT,PH_TOT_FLAG_W,PH_TMP,TRITUM,TRITUM_FLAG_W,HELIUM,HELIUM_FLAG_W,DELHE3,DELHE3_FLAG_W,REFTMP,REFTMP_FLAG_W,DELC13,DELC13_FLAG_W,DELC14,DELC14_FLAG_W,C14ERR,NEON,NEON_FLAG_W,DELO18,DELO18_FLAG_W,POC,POC_FLAG_W,DOC,DOC_FLAG_W,TDN,TDN_FLAG_W,BTL_LAT,BTL_LON,TRITER,NEONER,SALTREF,SALTREF_FLAG_W,PIGMENTS,PIGMENTS_FLAG_W,LAB_DEN,LAB_DEN_FLAG_W,CDOM325,CDOM325_FLAG_W,CDOM340,CDOM340_FLAG_W,CDOM380,CDOM380_FLAG_W,CDOM412,CDOM412_FLAG_W,CDOM443,CDOM443_FLAG_W,CDOM490,CDOM490_FLAG_W,CDOM555,CDOM555_FLAG_W,CDOMSL,CDOMSL_FLAG_W,CDOMSN,CDOMSN_FLAG_W,HELIER,DELHER,THETA,LDEO_SAMPNO,ABSORBTION,ABSORBTION_FLAG_W,IMAGE_COUNT,IMAGE_COUNT_FLAG_W,CYTO_COUNT,CYTO_COUNT_FLAG_W,DELD,DELD_FLAG_W,DELDERR,BTL_DATE,BTL_TIME
,,,,,,,,,,,METERS,DBAR,ITS-90,PSS-78,,PSS-78,,UMOL/KG,,UMOL/KG,,UMOL/KG,,UMOL/KG,,UMOL/KG,,UMOL/KG,,PMOL/KG,,PMOL/KG,,PMOL/KG,,FMOL/KG,,UMOL/KG,,UMOL/KG,,,,DEG C,TU,,NMOL/KG,,PERCNT,,DEG C,,/MILLE,,/MILLE,,/MILLE,NMOL/KG,,/MILLE,,UG/KG,,UMOL/KG,,UMOL/KG,,,,TU,NMOL/KG,G/KG,,,,,,1/M,,1/M,,1/M,,1/M,,1/M,,1/M,,1/M,,1/NM,,1/NM,,NMOL/KG,PERCNT,DEG C,,,,,,,,/MILLE,,/MILLE,,
320620110219,       S04P,      11,          1,         13,         13,2,20110226,       2037,   -69.2380,   170.6570,       2844,  1266.4,   0.7000,  34.7070,2,  34.7072,2,    204.4,2,   203.7,2,  120.20,2,   32.91,2,    0.00,2,    2.22,2,-999.000,9,-999.000,9,-999.000,9,-999.0000,9,  -999.0,9,  -999.0,9,-999.0000,9,  -999.00,-999.000,9,-999.0000,9,-999.000,9,   0.7004,2, -999.00,9,  -999.0,9,  -999.0,-999.000,9,   -0.08,2,-999.000,9,   40.45,2,   35.63,2, -69.2380, 170.6570,-999.000,     -999.0,    34.8709,2,     -999.0,9,     -999.0,9,-999.0000,9,-999.0000,9,-999.0000,9,-999.0000,9,-999.0000,9,-999.0000,9,-999.0000,9,-999.0000,9,-999.0000,9,-999.0000,-999.000,   0.6338,     -999.0,     -999.0,9,     -999.0,9,     -999.0,9,      -1.92,2,       0.01,20110226,       2131
320620110219,       S04P,      11,          1,         12,         12,2,20110226,       2037,   -69.2380,   170.6570,       2844,  1365.1,   0.5849,  34.6986,2,  34.6990,2,    207.3,2,   207.3,2,  119.34,2,   32.91,2,    0.00,2,    2.22,2,   0.410,2,   0.228,2,   0.046,2,   0.1330,2,  2262.4,2,  2357.8,2,   7.5882,2,    25.00,-999.000,9,-999.0000,9,-999.000,9,   0.5850,2, -999.00,9,  -999.0,9,  -999.0,-999.000,9, -999.00,9,-999.000,9,   40.16,2,   35.66,2, -69.2380, 170.6570,-999.000,     -999.0,    34.8626,2,     -999.0,9,     -999.0,9,-999.0000,9,-999.0000,9,-999.0000,9,-999.0000,9,-999.0000,9,-999.0000,9,-999.0000,9,-999.0000,9,-999.0000,9,-999.0000,-999.000,   0.5137,     -999.0,     -999.0,9,     -999.0,9,     -999.0,9,     -999.0,9,     -999.0,20110226,       2128
320620110219,       S04P,      11,          1,         11,         11,2,20110226,       2037,   -69.2380,   170.6570,       2844,  1465.8,   0.5235,  34.6956,2,  34.6945,2,    208.7,2,   208.9,2,  117.71,2,   33.04,4,    0.00,2,    2.17,4,   0.490,2,   0.279,2,   0.055,2,   0.1760,2,  -999.0,9,  -999.0,9,-999.0000,9,  -999.00,-999.000,9,-999.0000,9,-999.000,9,   0.5236,2, -999.00,9,  -999.0,9,  -999.0,-999.000,9,   -0.14,2,-999.000,9,   40.54,2,   35.63,2, -69.2380, 170.6570,-999.000,     -999.0,    34.8581,2,     -999.0,9,     -999.0,9,-999.0000,9,-999.0000,9,-999.0000,9,-999.0000,9,-999.0000,9,-999.0000,9,-999.0000,9,-999.0000,9,-999.0000,9,-999.0000,-999.000,   0.4465,     -999.0,     -999.0,9,     -999.0,9,     -999.0,9,      -2.20,2,       0.01,20110226,       2125
320620110219,       S04P,      11,          1,         10,         10,2,20110226,       2037,   -69.2380,   170.6570,       2844,  1565.2,   0.4825,  34.6954,2,  34.6951,2,    209.9,2,   209.8,2,  119.42,2,   32.78,4,    0.00,2,    2.19,4,-999.000,9,-999.000,9,-999.000,9,-999.0000,9,  -999.0,9,  -999.0,9,-999.0000,9,  -999.00,-999.000,9,-999.0000,9,-999.000,9,   0.4825,2, -999.00,9,  -999.0,9,  -999.0,-999.000,9, -999.00,9,-999.000,9,   40.47,2,   35.44,2, -69.2380, 170.6570,-999.000,     -999.0,    34.8587,2,     -999.0,9,     -999.0,9,-999.0000,9,-999.0000,9,-999.0000,9,-999.0000,9,-999.0000,9,-999.0000,9,-999.0000,9,-999.0000,9,-999.0000,9,-999.0000,-999.000,   0.3995,     -999.0,     -999.0,9,     -999.0,9,     -999.0,9,     -999.0,9,     -999.0,20110226,       2121
320620110219,       S04P,      11,          1,          9,          9,2,20110226,       2037,   -69.2380,   170.6570,       2844,  1665.2,   0.4324,  34.6937,2,  34.6937,2,    211.8,2,   210.9,2,  119.10,2,   32.72,2,    0.00,2,    2.22,2,   0.578,2,   0.311,2,   0.061,2,-999.0000,9,  2262.4,2,  2357.3,2,   7.5851,2,    25.00,-999.000,9,-999.0000,9,-999.000,9,   0.4325,2, -999.00,9,  -999.0,9,  -999.0,-999.000,9,   -0.25,2,-999.000,9,   40.58,2,   35.55,2, -69.2380, 170.6570,-999.000,     -999.0,    34.8573,2,     -999.0,9,     -999.0,1,-999.0000,9,-999.0000,9,-999.0000,9,-999.0000,9,-999.0000,9,-999.0000,9,-999.0000,9,-999.0000,9,-999.0000,9,-999.0000,-999.000,   0.3433,     -999.0,     -999.0,9,     -999.0,9,     -999.0,9,      -2.79,2,       0.29,20110226,       2118
320620110219,       S04P,      11,          1,          8,          8,2,20110226,       2037,   -69.2380,   170.6570,       2844,  1766.4,   0.3761,  34.6898,2,  34.6901,2,    213.4,2,   213.8,2,  117.12,2,   32.63,2,    0.00,2,    2.21,2,   0.693,2,   0.389,2,   0.066,2,   0.2640,2,  -999.0,9,  -999.0,9,-999.0000,9,  -999.00,-999.000,9,-999.0000,9,-999.000,9,   0.3767,2, -999.00,9,  -999.0,9,  -999.0,-999.000,9, -999.00,9,-999.000,9,   40.56,2,   35.67,2, -69.2380, 170.6570,-999.000,     -999.0,    34.8537,2,     -999.0,9,     -999.0,9,-999.0000,9,-999.0000,9,-999.0000,9,-999.0000,9,-999.0000,9,-999.0000,9,-999.0000,9,-999.0000,9,-999.0000,9,-999.0000,-999.000,   0.2809,     -999.0,     -999.0,9,     -999.0,9,     -999.0,9,     -999.0,9,     -999.0,20110226,       2115
320620110219,       S04P,      11,          1,          7,          7,2,20110226,       2037,   -69.2380,   170.6570,       2844,  1933.6,   0.2972,  34.6868,2,  34.6872,2,    216.0,2,   216.4,2,  116.83,2,   32.76,2,    0.00,2,    2.25,2,-999.000,9,-999.000,9,-999.000,9,-999.0000,9,  -999.0,9,  -999.0,9,-999.0000,9,  -999.00,-999.000,9,-999.0000,9,-999.000,9,   0.2973,2, -999.00,9,  -999.0,9,  -999.0,-999.000,9,   -0.16,2,-999.000,9,   40.49,2,   35.76,2, -69.2380, 170.6570,-999.000,     -999.0,    34.8508,2,     -999.0,9,     -999.0,9,-999.0000,9,-999.0000,9,-999.0000,9,-999.0000,9,-999.0000,9,-999.0000,9,-999.0000,9,-999.0000,9,-999.0000,9,-999.0000,-999.000,   0.1915,     -999.0,     -999.0,9,     -999.0,9,     -999.0,9,      -2.44,2,       0.07,20110226,       2110
320620110219,       S04P,      11,          1,          6,          6,2,20110226,       2037,   -69.2380,   170.6570,       2844,  2136.4,   0.1835,  34.6803,2,  34.6811,2,    219.5,2,   220.2,2,  113.92,2,   32.92,2,    0.00,2,    2.24,2,   1.088,2,   0.608,2,   0.116,2,   0.4160,2,  2257.8,2,  2359.8,2,   7.5848,2,    25.00,-999.000,9,-999.0000,9,-999.000,9,   0.1834,2, -999.00,9,  -999.0,9,  -999.0,-999.000,9, -999.00,9,-999.000,9,   40.62,2,   35.59,2, -69.2380, 170.6570,-999.000,     -999.0,    34.8447,2,     -999.0,9,     -999.0,1,-999.0000,9,-999.0000,9,-999.0000,9,-999.0000,9,-999.0000,9,-999.0000,9,-999.0000,9,-999.0000,9,-999.0000,9,-999.0000,-999.000,   0.0650,     -999.0,     -999.0,9,     -999.0,9,     -999.0,9,     -999.0,9,     -999.0,20110226,       2104
320620110219,       S04P,      11,          1,          5,          5,2,20110226,       2037,   -69.2380,   170.6570,       2844,  2335.6,   0.0735,  34.6718,2,  34.6725,2,    224.6,2,   224.9,2,  108.44,2,   32.50,2,    0.00,2,    2.23,2,   1.429,2,   0.817,2,   0.157,2,   0.5100,2,  -999.0,9,  -999.0,9,-999.0000,9,  -999.00,-999.000,9,-999.0000,9,-999.000,9,   0.0728,2, -999.00,9,  -999.0,9,  -999.0,-999.000,9,   -0.26,2,-999.000,9,   40.68,2,   35.44,2, -69.2380, 170.6570,-999.000,     -999.0,    34.8360,2,     -999.0,9,     -999.0,9,-999.0000,9,-999.0000,9,-999.0000,9,-999.0000,9,-999.0000,9,-999.0000,9,-999.0000,9,-999.0000,9,-999.0000,9,-999.0000,-999.000,  -0.0579,     -999.0,     -999.0,9,     -999.0,9,     -999.0,9,      -3.04,2,       0.04,20110226,       2058
320620110219,       S04P,      11,          1,          4,          4,2,20110226,       2037,   -69.2380,   170.6570,       2844,  2534.2,  -0.0357,  34.6670,2,  34.6670,2,    228.5,2,   230.6,2,  102.64,2,   32.39,2,    0.00,2,    2.20,2,   1.786,2,   1.018,2,   0.183,2,   0.7040,2,  -999.0,9,  -999.0,9,-999.0000,9,  -999.00,-999.000,9,-999.0000,9,-999.000,9,  -0.0360,2, -999.00,9,  -999.0,9,  -999.0,-999.000,9,   -0.30,2,-999.000,9,   41.05,2,   35.42,2, -69.2379, 170.6570,-999.000,     -999.0,    34.8305,2,     -999.0,9,     -999.0,9,-999.0000,9,-999.0000,9,-999.0000,9,-999.0000,9,-999.0000,9,-999.0000,9,-999.0000,9,-999.0000,9,-999.0000,9,-999.0000,-999.000,  -0.1803,     -999.0,     -999.0,9,     -999.0,9,     -999.0,9,      -3.30,2,       0.05,20110226,       2052
320620110219,       S04P,      11,          1,          3,          3,2,20110226,       2037,   -69.2380,   170.6570,       2844,  2735.9,  -0.1407,  34.6667,2,  34.6672,2,    234.7,2,   234.8,2,   98.47,2,   32.22,2,    0.00,2,    2.21,2,   2.055,2,   1.161,2,   0.203,2,   0.8100,2,  2255.6,2,  2355.4,2,   7.5839,6,    25.00,-999.000,9,-999.0000,9,-999.000,9,  -0.1414,2, -999.00,9,  -999.0,9,  -999.0,-999.000,9,   -0.34,2,-999.000,9,   40.55,2,   35.86,2, -69.2380, 170.6570,-999.000,     -999.0,    34.8307,2,     -999.0,9,     -999.0,1,-999.0000,9,-999.0000,9,-999.0000,9,-999.0000,9,-999.0000,9,-999.0000,9,-999.0000,9,-999.0000,9,-999.0000,9,-999.0000,-999.000,  -0.2991,     -999.0,     -999.0,9,     -999.0,9,     -999.0,9,      -3.59,2,       0.08,20110226,       2045
320620110219,       S04P,      11,          1,          2,          2,2,20110226,       2037,   -69.2380,   170.6570,       2844,  2778.2,  -0.1626,  34.6660,2,  34.6664,2,    236.1,2,   236.2,2,   99.04,2,   32.27,2,    0.00,2,    2.22,2,   2.096,2,   1.178,2,   0.205,2,   0.8320,2,  2254.5,2,  2348.6,6,   7.5829,2,    25.00,-999.000,9,-999.0000,9,-999.000,9,  -0.1636,2, -999.00,9,  -999.0,9,  -999.0,-999.000,9,   -0.34,2,-999.000,9,   40.69,2,   35.80,2, -69.2380, 170.6570,-999.000,     -999.0,    34.8299,2,     -999.0,9,     -999.0,1,-999.0000,9,-999.0000,9,-999.0000,9,-999.0000,9,-999.0000,9,-999.0000,9,-999.0000,9,-999.0000,9,-999.0000,9,-999.0000,-999.000,  -0.3240,     -999.0,     -999.0,9,     -999.0,9,     -999.0,9,      -3.62,2,       0.05,20110226,       2042
320620110219,       S04P,      11,          1,          1,          1,2,20110226,       2037,   -69.2380,   170.6570,       2844,  2883.9,  -0.2269,  34.6640,2,  34.6642,2,    238.8,2,   235.0,3,   98.26,2,   32.09,2,    0.00,2,    2.22,2,   2.228,2,   1.282,2,   0.232,2,   0.8820,2,  2254.2,6,  2349.4,6,   7.5856,2,    25.00,-999.000,9,-999.0000,9,-999.000,9,  -0.2274,2, -999.00,9,  -999.0,9,  -999.0,-999.000,9,   -0.16,2,-999.000,9,   40.35,2,   35.37,2, -69.2380, 170.6570,-999.000,     -999.0,    34.8277,2,     -999.0,9,     -999.0,1,-999.0000,9,-999.0000,9,-999.0000,9,-999.0000,9,-999.0000,9,-999.0000,9,-999.0000,9,-999.0000,9,-999.0000,9,-999.0000,-999.000,  -0.3955,     -999.0,     -999.0,9,     -999.0,9,     -999.0,9,      -3.28,2,       0.09,20110226,       2037