BOTTLE,20220813CCHSIOAMB
EXPOCODE,SECT_ID,STNNBR,CASTNO,SAMPNO,BTLNBR,BTLNBR_FLAG_W,DATE,TIME,LATITUDE,LONGITUDE,DEPTH,CTDPRS,CTDTMP,CTDSAL,CTDSAL_FLAG_W,SALNTY,SALNTY_FLAG_W,CTDOXY,CTDOXY_FLAG_W,OXYGEN,OXYGEN_FLAG_W,SILCAT,SILCAT_FLAG_W,NITRAT,NITRAT_FLAG_W,NITRIT,NITRIT_FLAG_W,PHSPHT,PHSPHT_FLAG_W,CFC-11,CFC-11_FLAG_W,CFC-12,CFC-12_FLAG_W,CFC113,CFC113_FLAG_W,SF6,SF6_FLAG_W,TCARBN,TCARBN_FLAG_W,ALKALI,ALKALI_FLAG_W,PH_TOT,PH_TOT_FLAG_W,PH_TMP,TRITUM,TRITUM_FLAG_W,HELIUM,HELIUM_FLAG_W,DELHE3,DELHE3_FLAG_W,REFTMP,REFTMP_FLAG_W,DELC13,DELC13_FLAG_W,DELC14,DELC14_FLAG_W,C14ERR,NEON,NEON_FLAG_W,DELO18,DELO18_FLAG_W,POC,POC_FLAG_W,DOC,DOC_FLAG_W,TDN,TDN_FLAG_W,BTL_LAT,BTL_LON,TRITER,NEONER,SALTREF,SALTREF_FLAG_W,PIGMENTS,PIGMENTS_FLAG_W,LAB_DEN,LAB_DEN_FLAG_W,CDOM325,CDOM325_FLAG_W,CDOM340,CDOM340_FLAG_W,CDOM380,CDOM380_FLAG_W,CDOM412,CDOM412_FLAG_W,CDOM443,CDOM443_FLAG_W,CDOM490,CDOM490_FLAG_W,CDOM555,CDOM555_FLAG_W,CDOMSL,CDOMSL_FLAG_W,CDOMSN,CDOMSN_FLAG_W,HELIER,DELHER,THETA,LDEO_SAMPNO,ABSORBTION,ABSORBTION_FLAG_W,IMAGE_COUNT,IMAGE_COUNT_FLAG_W,CYTO_COUNT,CYTO_COUNT_FLAG_W,DELD,DELD_FLAG_W,DELDERR,BTL_DATE,BTL_TIME
,,,,,,,,,,,METERS,DBAR,ITS-90,PSS-78,,PSS-78,,UMOL/KG,,UMOL/KG,,UMOL/KG,,UMOL/KG,,UMOL/KG,,UMOL/KG,,PMOL/KG,,PMOL/KG,,PMOL/KG,,FMOL/KG,,UMOL/KG,,UMOL/KG,,,,DEG C,TU,,NMOL/KG,,PERCNT,,DEG C,,/MILLE,,/MILLE,,/MILLE,NMOL/KG,,/MILLE,,UG/KG,,UMOL/KG,,UMOL/KG,,,,TU,NMOL/KG,G/KG,,,,,,1/M,,1/M,,1/M,,1/M,,1/M,,1/M,,1/M,,1/NM,,1/NM,,NMOL/KG,PERCNT,DEG C,,,,,,,,/MILLE,,/MILLE,,
320620110219,       P15S,      91,          2,         13,         13,2,20110326,       0801,   -71.1116,  -170.0023,       4122,  1465.2,   0.8384,  34.7140,2,  34.7151,2,    199.9,2,   200.4,2,  118.44,2,   32.14,2,    0.00,2,    2.24,2,   0.081,2,   0.043,2,   0.009,2,   0.0410,2,  -999.0,9,  -999.0,9,-999.0000,9,  -999.00,   0.001,2,    2.021,2,   9.869,2,   0.8386,2, -999.00,9,  -999.0,9,  -999.0,   8.809,2,   -0.06,2,-999.000,9,   39.60,2,   34.66,2, -71.1116,-170.0024,   0.003,      0.007,    34.8788,2,     -999.0,9,     -999.0,9,-999.0000,9,-999.0000,9,-999.0000,9,-999.0000,9,-999.0000,9,-999.0000,9,-999.0000,9,-999.0000,9,-999.0000,9,    0.001,   0.207,   0.7578,50009102013,     -999.0,9,     -999.0,9,     -999.0,9,      -1.76,2,       0.03,20110326,       0858
320620110219,       P15S,      91,          2,         12,         12,2,20110326,       0801,   -71.1116,  -170.0023,       4122,  1566.0,   0.7950,  34.7122,2,  34.7128,2,    201.2,2,   201.0,2,  119.94,2,   32.20,2,    0.00,2,    2.25,2,-999.000,9,-999.000,9,-999.000,9,-999.0000,9,  2262.3,6,  2359.2,2,   7.5946,2,    25.00,-999.000,9,-999.0000,9,-999.000,9,   0.7950,2, -999.00,9,  -999.0,9,  -999.0,-999.000,9, -999.00,9,-999.000,9,   39.36,2,   34.82,2, -71.1116,-170.0023,-999.000,     -999.0,    34.8765,2,     -999.0,9,     -999.0,9,-999.0000,9,-999.0000,9,-999.0000,9,-999.0000,9,-999.0000,9,-999.0000,9,-999.0000,9,-999.0000,9,-999.0000,9,-999.0000,-999.000,   0.7080,     -999.0,     -999.0,9,     -999.0,9,     -999.0,9,     -999.0,9,     -999.0,20110326,       0856
320620110219,       P15S,      91,          2,         11,         11,2,20110326,       0801,   -71.1116,  -170.0023,       4122,  1734.9,   0.7301,  34.7097,2,  34.7101,2,    203.0,2,   202.7,2,  122.16,2,   32.31,2,    0.00,2,    2.25,2,   0.093,2,   0.049,2,   0.007,2,   0.0040,2,  -999.0,9,  -999.0,9,-999.0000,9,  -999.00,   0.001,2,    1.998,2,  10.618,2,   0.7303,2, -999.00,9,  -999.0,9,  -999.0,   8.736,2,   -0.10,2,-999.000,9,   38.88,2,   34.78,2, -71.1116,-170.0024,   0.004,      0.007,    34.8737,2,     -999.0,9,     -999.0,9,-999.0000,9,-999.0000,9,-999.0000,9,-999.0000,9,-999.0000,9,-999.0000,9,-999.0000,9,-999.0000,9,-999.0000,9,    0.001,   0.211,   0.6322,50009102011,     -999.0,9,     -999.0,9,     -999.0,9,      -1.74,2,       0.24,20110326,       0852
320620110219,       P15S,      91,          2,         10,         37,2,20110326,       0801,   -71.1116,  -170.0023,       4122,  1935.1,   0.6662,  34.7077,2,  34.7081,2,    204.3,2,   204.2,2,  123.96,2,   32.33,2,    0.00,2,    2.25,2,-999.000,9,-999.000,9,-999.000,9,-999.0000,9,  2261.8,2,  2358.8,2,   7.5954,2,    25.00,-999.000,9,-999.0000,9,-999.000,9,   0.6665,2, -999.00,9,  -999.0,9,  -999.0,-999.000,9, -999.00,9,-999.000,9,   39.29,2,   34.90,2, -71.1116,-170.0023,-999.000,     -999.0,    34.8718,2,     -999.0,9,     -999.0,9,-999.0000,9,-999.0000,9,-999.0000,9,-999.0000,9,-999.0000,9,-999.0000,9,-999.0000,9,-999.0000,9,-999.0000,9,-999.0000,-999.000,   0.5548,     -999.0,     -999.0,9,     -999.0,9,     -999.0,9,     -999.0,9,     -999.0,20110326,       0848
320620110219,       P15S,      91,          2,          9,          9,2,20110326,       0801,   -71.1116,  -170.0023,       4122,  2165.0,   0.5840,  34.7058,2,  34.7063,2,    206.4,2,   206.2,2,  125.51,2,   32.47,2,    0.00,2,    2.25,2,   0.127,2,   0.060,2,   0.009,2,   0.0280,2,  -999.0,9,  -999.0,9,-999.0000,9,  -999.00,   0.001,2,    2.003,2,  10.777,2,   0.5842,2, -999.00,9,  -999.0,9,  -999.0,   8.724,2,    0.06,2,-999.000,9,   39.35,2,   34.82,2, -71.1116,-170.0024,   0.003,      0.007,    34.8700,2,     -999.0,9,     -999.0,9,-999.0000,9,-999.0000,9,-999.0000,9,-999.0000,9,-999.0000,9,-999.0000,9,-999.0000,9,-999.0000,9,-999.0000,9,    0.001,   0.205,   0.4566,50009102009,     -999.0,9,     -999.0,9,     -999.0,9,      -1.27,2,       0.31,20110326,       0843
320620110219,       P15S,      91,          2,          8,          8,2,20110326,       0801,   -71.1116,  -170.0023,       4122,  2415.0,   0.4939,  34.7046,2,  34.7058,2,    208.5,2,   208.4,2,  127.13,2,   32.61,2,    0.00,2,    2.26,2,-999.000,9,-999.000,9,-999.000,9,-999.0000,9,  2261.8,2,  2359.4,2,   7.5954,2,    25.00,-999.000,9,-999.0000,9,-999.000,9,   0.4939,2, -999.00,9,  -999.0,9,  -999.0,-999.000,9, -999.00,9,-999.000,9,   39.65,2,   35.11,2, -71.1116,-170.0023,-999.000,     -999.0,    34.8694,2,     -999.0,9,     -999.0,9,-999.0000,9,-999.0000,9,-999.0000,9,-999.0000,9,-999.0000,9,-999.0000,9,-999.0000,9,-999.0000,9,-999.0000,9,-999.0000,-999.000,   0.3485,     -999.0,     -999.0,9,     -999.0,9,     -999.0,9,     -999.0,9,     -999.0,20110326,       0838
320620110219,       P15S,      91,          2,          7,          7,2,20110326,       0801,   -71.1116,  -170.0023,       4122,  2664.2,   0.4226,  34.7040,2,  34.7040,2,    210.5,2,   210.4,2,  129.10,2,   32.73,2,    0.00,2,    2.27,2,   0.117,2,   0.057,2,   0.011,2,   0.0180,2,  -999.0,9,  -999.0,9,-999.0000,9,  -999.00,   0.001,2,    1.998,2,   9.668,2,   0.4229,2, -999.00,9,  -999.0,9,  -999.0,   8.764,2,   -0.11,2,-999.000,9,   39.42,2,   35.23,2, -71.1116,-170.0023,   0.003,      0.007,    34.8676,2,     -999.0,9,     -999.0,9,-999.0000,9,-999.0000,9,-999.0000,9,-999.0000,9,-999.0000,9,-999.0000,9,-999.0000,9,-999.0000,9,-999.0000,9,    0.001,   0.205,   0.2583,50009102007,     -999.0,9,     -999.0,9,     -999.0,9,      -2.01,2,       0.26,20110326,       0833
320620110219,       P15S,      91,          2,          6,          6,2,20110326,       0801,   -71.1116,  -170.0023,       4122,  2915.1,   0.3718,  34.7037,2,  34.7036,2,    211.8,2,   211.8,2,  131.49,2,   32.74,2,    0.00,2,    2.26,2,-999.000,9,-999.000,9,-999.000,9,-999.0000,9,  2261.8,2,  2358.9,2,   7.5962,2,    25.00,-999.000,9,-999.0000,9,-999.000,9,   0.3719,2, -999.00,9,  -999.0,9,  -999.0,-999.000,9, -999.00,9,-999.000,9,   40.17,2,   34.89,2, -71.1116,-170.0024,-999.000,     -999.0,    34.8673,2,     -999.0,9,     -999.0,9,-999.0000,9,-999.0000,9,-999.0000,9,-999.0000,9,-999.0000,9,-999.0000,9,-999.0000,9,-999.0000,9,-999.0000,9,-999.0000,-999.000,   0.1873,     -999.0,     -999.0,9,     -999.0,9,     -999.0,9,     -999.0,9,     -999.0,20110326,       0828
320620110219,       P15S,      91,          2,          5,          5,2,20110326,       0801,   -71.1116,  -170.0023,       4122,  3198.7,   0.3161,  34.7023,2,  34.7022,2,    213.7,2,   214.0,2,  132.01,2,   32.69,2,    0.00,2,    2.26,2,   0.219,2,   0.101,2,   0.014,2,   0.0690,2,  -999.0,9,  -999.0,9,-999.0000,9,  -999.00,   0.001,2,    2.013,2,   8.711,2,   0.3162,2, -999.00,9,  -999.0,9,  -999.0,   8.802,2,    0.06,2,-999.000,9,   40.31,2,   35.22,2, -71.1116,-170.0023,   0.004,      0.007,    34.8659,2,     -999.0,9,     -999.0,9,-999.0000,9,-999.0000,9,-999.0000,9,-999.0000,9,-999.0000,9,-999.0000,9,-999.0000,9,-999.0000,9,-999.0000,9,    0.001,   0.193,   0.1078,50009102005,     -999.0,9,     -999.0,9,     -999.0,9,      -1.57,2,       0.45,20110326,       0823
320620110219,       P15S,      91,          2,          4,          4,2,20110326,       0801,   -71.1116,  -170.0023,       4122,  3500.9,   0.2712,  34.7013,2,  34.7011,2,    215.7,2,   215.6,2,  131.90,2,   32.64,2,    0.00,2,    2.25,2,   0.321,2,   0.158,2,   0.016,2,   0.0830,2,  2262.0,2,  2360.6,2,   7.5971,4,    25.00,-999.000,9,-999.0000,9,-999.000,9,   0.2716,2, -999.00,9,  -999.0,9,  -999.0,-999.000,9, -999.00,9,-999.000,9,   40.40,2,   34.74,2, -71.1116,-170.0024,-999.000,     -999.0,    34.8647,2,     -999.0,9,     -999.0,9,-999.0000,9,-999.0000,9,-999.0000,9,-999.0000,9,-999.0000,9,-999.0000,9,-999.0000,9,-999.0000,9,-999.0000,9,-999.0000,-999.000,   0.0360,     -999.0,     -999.0,9,     -999.0,9,     -999.0,9,     -999.0,9,     -999.0,20110326,       0817
320620110219,       P15S,      91,          2,          3,          3,2,20110326,       0801,   -71.1116,  -170.0023,       4122,  3798.8,   0.2153,  34.6973,2,  34.6974,2,    219.4,2,   219.2,2,  125.26,2,   32.66,2,    0.00,2,    2.24,2,   0.649,2,   0.311,2,   0.041,2,   0.1050,2,  2261.1,2,  2356.9,2,   7.5954,6,    25.00,   0.001,2,    1.999,2,   7.738,2,   0.2153,2, -999.00,9,  -999.0,9,  -999.0,   8.754,2,    0.04,2,-999.000,9,   40.60,2,   35.02,2, -71.1116,-170.0024,   0.004,      0.007,    34.8610,2,     -999.0,9,     -999.0,9,-999.0000,9,-999.0000,9,-999.0000,9,-999.0000,9,-999.0000,9,-999.0000,9,-999.0000,9,-999.0000,9,-999.0000,9,    0.002,   0.205,  -0.0471,50009102003,     -999.0,9,     -999.0,9,     -999.0,9,      -1.78,2,       0.29,20110326,       0810
320620110219,       P15S,      91,          2,          2,          2,2,20110326,       0801,   -71.1116,  -170.0023,       4122,  3999.7,   0.2108,  34.6972,2,  34.6974,2,    220.3,2,   219.5,2,  125.13,2,   32.65,2,    0.00,2,    2.25,2,   0.696,2,   0.332,2,   0.035,2,   0.1030,2,  2260.6,6,  2356.2,2,   7.5942,2,    25.00,-999.000,9,-999.0000,9,-999.000,9,   0.2105,2, -999.00,9,  -999.0,9,  -999.0,-999.000,9, -999.00,9,-999.000,9,   40.74,2,   35.12,2, -71.1117,-170.0023,-999.000,     -999.0,    34.8610,2,     -999.0,9,     -999.0,9,-999.0000,9,-999.0000,9,-999.0000,9,-999.0000,9,-999.0000,9,-999.0000,9,-999.0000,9,-999.0000,9,-999.0000,9,-999.0000,-999.000,  -0.0716,     -999.0,     -999.0,9,     -999.0,9,     -999.0,9,     -999.0,9,     -999.0,20110326,       0806
320620110219,       P15S,      91,          2,          1,          1,2,20110326,       0801,   -71.1116,  -170.0023,       4122,  4192.5,   0.2183,  34.6975,2,  34.6988,2,    219.2,2,   219.3,2,  125.86,2,   32.78,2,    0.00,2,    2.25,2,   0.741,2,   0.353,2,   0.040,2,   0.0900,2,  2261.0,2,  2358.1,6,   7.5935,2,    25.00,   0.001,2,    1.997,2,   7.830,2,   0.2183,2, -999.00,9,  -999.0,9,  -999.0,   8.760,2,   -0.13,2,-999.000,9,   40.89,2,   35.51,2, -71.1116,-170.0023,   0.004,      0.007,    34.8624,2,     -999.0,9,     -999.0,9,-999.0000,9,-999.0000,9,-999.0000,9,-999.0000,9,-999.0000,9,-999.0000,9,-999.0000,9,-999.0000,9,-999.0000,9,    0.001,   0.205,  -0.0841,50009102001,     -999.0,9,     -999.0,9,     -999.0,9,      -2.75,2,       0.03,20110326,       0801