BOTTLE,20220813CCHSIOAMB
EXPOCODE,SECT_ID,STNNBR,CASTNO,SAMPNO,BTLNBR,BTLNBR_FLAG_W,DATE,TIME,LATITUDE,LONGITUDE,DEPTH,CTDPRS,CTDTMP,CTDSAL,CTDSAL_FLAG_W,SALNTY,SALNTY_FLAG_W,CTDOXY,CTDOXY_FLAG_W,OXYGEN,OXYGEN_FLAG_W,SILCAT,SILCAT_FLAG_W,NITRAT,NITRAT_FLAG_W,NITRIT,NITRIT_FLAG_W,PHSPHT,PHSPHT_FLAG_W,CFC-11,CFC-11_FLAG_W,CFC-12,CFC-12_FLAG_W,CFC113,CFC113_FLAG_W,SF6,SF6_FLAG_W,TCARBN,TCARBN_FLAG_W,ALKALI,ALKALI_FLAG_W,PH_TOT,PH_TOT_FLAG_W,PH_TMP,TRITUM,TRITUM_FLAG_W,HELIUM,HELIUM_FLAG_W,DELHE3,DELHE3_FLAG_W,REFTMP,REFTMP_FLAG_W,DELC13,DELC13_FLAG_W,DELC14,DELC14_FLAG_W,C14ERR,NEON,NEON_FLAG_W,DELO18,DELO18_FLAG_W,POC,POC_FLAG_W,DOC,DOC_FLAG_W,TDN,TDN_FLAG_W,BTL_LAT,BTL_LON,TRITER,NEONER,SALTREF,SALTREF_FLAG_W,PIGMENTS,PIGMENTS_FLAG_W,LAB_DEN,LAB_DEN_FLAG_W,CDOM325,CDOM325_FLAG_W,CDOM340,CDOM340_FLAG_W,CDOM380,CDOM380_FLAG_W,CDOM412,CDOM412_FLAG_W,CDOM443,CDOM443_FLAG_W,CDOM490,CDOM490_FLAG_W,CDOM555,CDOM555_FLAG_W,CDOMSL,CDOMSL_FLAG_W,CDOMSN,CDOMSN_FLAG_W,HELIER,DELHER,THETA,LDEO_SAMPNO,ABSORBTION,ABSORBTION_FLAG_W,IMAGE_COUNT,IMAGE_COUNT_FLAG_W,CYTO_COUNT,CYTO_COUNT_FLAG_W,DELD,DELD_FLAG_W,DELDERR,BTL_DATE,BTL_TIME
,,,,,,,,,,,METERS,DBAR,ITS-90,PSS-78,,PSS-78,,UMOL/KG,,UMOL/KG,,UMOL/KG,,UMOL/KG,,UMOL/KG,,UMOL/KG,,PMOL/KG,,PMOL/KG,,PMOL/KG,,FMOL/KG,,UMOL/KG,,UMOL/KG,,,,DEG C,TU,,NMOL/KG,,PERCNT,,DEG C,,/MILLE,,/MILLE,,/MILLE,NMOL/KG,,/MILLE,,UG/KG,,UMOL/KG,,UMOL/KG,,,,TU,NMOL/KG,G/KG,,,,,,1/M,,1/M,,1/M,,1/M,,1/M,,1/M,,1/M,,1/NM,,1/NM,,NMOL/KG,PERCNT,DEG C,,,,,,,,/MILLE,,/MILLE,,
320620110219,       S04P,      21,          1,         36,         36,2,20110301,       2045,   -66.9985,   179.4228,       3699,     5.3,  -0.0586,  33.4646,2,  33.4662,2,    340.2,3,   341.5,2,   58.97,2,   26.49,2,    0.21,2,    1.71,2,   5.951,2,   3.271,2,   0.614,2,-999.0000,9,  2143.6,6,  2264.8,2,   7.6741,2,    25.00,-999.000,9,-999.0000,9,-999.000,9,  -0.0585,2, -999.00,9,  -999.0,9,  -999.0,-999.000,9, -999.00,9,-999.000,9, -999.00,9, -999.00,9, -66.9985, 179.4228,-999.000,     -999.0,    33.6240,2,     -999.0,9,     -999.0,9,   0.0407,3,   0.0097,3,  -0.0139,4,  -0.0199,4,  -0.0247,4,  -0.0182,4,  -0.0161,4,   0.1429,4,   0.0967,4,-999.0000,-999.000,  -0.0588,     -999.0,     -999.0,9,     -999.0,9,     -999.0,9,     -999.0,9,     -999.0,20110301,       2245
320620110219,       S04P,      21,          1,         35,         35,2,20110301,       2045,   -66.9985,   179.4228,       3699,    25.0,  -0.0591,  33.4692,2,  33.4709,2,    342.0,2,   341.4,2,   58.92,2,   26.43,2,    0.21,2,    1.71,2,   5.891,2,   3.268,2,   0.608,2,-999.0000,9,  2142.9,2,  2266.0,2,   7.6744,6,    25.00,-999.000,9,-999.0000,9,-999.000,9,  -0.0592,2, -999.00,9,  -999.0,9,  -999.0,-999.000,9, -999.00,9,-999.000,9, -999.00,9, -999.00,9, -66.9985, 179.4228,-999.000,     -999.0,    33.6287,2,     -999.0,9,     -999.0,9,   0.0358,3,   0.0036,3,  -0.0215,4,  -0.0228,4,  -0.0268,4,  -0.0199,4,  -0.0173,4,   0.1421,3,   0.1058,3,-999.0000,-999.000,  -0.0599,     -999.0,     -999.0,9,     -999.0,9,     -999.0,9,     -999.0,9,     -999.0,20110301,       2243
320620110219,       S04P,      21,          1,         34,         34,2,20110301,       2045,   -66.9985,   179.4228,       3699,    50.1,  -0.7900,  33.8581,3,  33.8277,2,    334.3,2,   331.0,2,   59.81,2,   27.08,2,    0.14,2,    1.78,2,   5.528,2,   2.883,2,   0.536,2,-999.0000,9,  2166.2,2,  2289.0,6,   7.6692,2,    25.00,-999.000,9,-999.0000,9,-999.000,9,  -0.7946,2, -999.00,9,  -999.0,9,  -999.0,-999.000,9, -999.00,9,-999.000,9, -999.00,9, -999.00,9, -66.9985, 179.4228,-999.000,     -999.0,    33.9872,2,     -999.0,9,     -999.0,9,   0.0462,3,   0.0117,3,  -0.0192,4,  -0.0209,4,  -0.0258,4,  -0.0193,4,  -0.0168,4,   0.1279,4,   0.0919,4,-999.0000,-999.000,  -0.7914,     -999.0,     -999.0,9,     -999.0,9,     -999.0,9,     -999.0,9,     -999.0,20110301,       2240
320620110219,       S04P,      21,          1,         33,         33,2,20110301,       2045,   -66.9985,   179.4228,       3699,    74.8,  -1.3860,  34.2245,3,  34.2416,2,    275.0,2,   274.8,2,   69.33,2,   30.27,2,    0.14,2,    2.01,2,   3.519,2,   2.011,2,   0.381,2,-999.0000,9,  2210.6,2,  2314.4,2,   7.6111,2,    25.00,-999.000,9,-999.0000,9,-999.000,9,  -1.3938,2, -999.00,9,  -999.0,9,  -999.0,-999.000,9, -999.00,9,-999.000,9, -999.00,9, -999.00,9, -66.9985, 179.4228,-999.000,     -999.0,    34.4031,2,     -999.0,9,     -999.0,9,   0.0626,3,   0.0249,3,  -0.0105,4,  -0.0175,4,  -0.0243,4,  -0.0187,4,  -0.0166,4,   0.1002,4,   0.0712,4,-999.0000,-999.000,  -1.3877,     -999.0,     -999.0,9,     -999.0,9,     -999.0,9,     -999.0,9,     -999.0,20110301,       2239
320620110219,       S04P,      21,          1,         32,         32,2,20110301,       2045,   -66.9985,   179.4228,       3699,   100.6,  -0.1510,  34.4370,3,  34.4254,2,    240.2,2,   234.8,2,   77.31,2,   32.02,2,    0.09,2,    2.14,2,   2.346,2,   1.366,2,   0.254,2,-999.0000,9,  2229.8,2,  2324.9,2,   7.5802,2,    25.00,-999.000,9,-999.0000,9,-999.000,9,  -0.1003,3, -999.00,9,  -999.0,9,  -999.0,-999.000,9, -999.00,9,-999.000,9, -999.00,9, -999.00,9, -66.9985, 179.4228,-999.000,     -999.0,    34.5877,2,     -999.0,9,     -999.0,9,   0.0889,2,   0.0468,3,   0.0057,3,  -0.0051,4,  -0.0148,4,  -0.0123,4,  -0.0131,4,   0.0563,4,   0.0465,4,-999.0000,-999.000,  -0.1545,     -999.0,     -999.0,9,     -999.0,9,     -999.0,9,     -999.0,9,     -999.0,20110301,       2237
320620110219,       S04P,      21,          1,         31,         31,2,20110301,       2045,   -66.9985,   179.4228,       3699,   124.7,   0.5880,  34.5515,2,  34.5503,2,    211.1,2,   210.6,2,   83.92,2,   32.74,2,    0.01,2,    2.18,2,-999.000,9,-999.000,9,-999.000,9,-999.0000,9,  2243.2,2,  2334.3,2,   7.5652,2,    25.00,-999.000,9,-999.0000,9,-999.000,9,   0.5806,2, -999.00,9,  -999.0,9,  -999.0,-999.000,9, -999.00,9,-999.000,9, -999.00,9, -999.00,9, -66.9985, 179.4228,-999.000,     -999.0,    34.7132,2,     -999.0,9,     -999.0,9,   0.0773,3,   0.0361,3,  -0.0033,4,  -0.0130,4,  -0.0213,4,  -0.0170,4,  -0.0157,4,   0.0744,4,   0.0580,4,-999.0000,-999.000,   0.5829,     -999.0,     -999.0,9,     -999.0,9,     -999.0,9,     -999.0,9,     -999.0,20110301,       2235
320620110219,       S04P,      21,          1,         30,         30,2,20110301,       2045,   -66.9985,   179.4228,       3699,   150.1,   1.0522,  34.6197,2,  34.6152,2,    195.7,2,   197.3,2,   86.86,2,   33.03,2,    0.01,2,    2.20,2,   1.002,2,   0.607,2,   0.113,2,-999.0000,9,  2249.4,2,  2338.2,2,   7.5620,2,    25.00,-999.000,9,-999.0000,9,-999.000,9,   1.0519,2, -999.00,9,  -999.0,9,  -999.0,-999.000,9, -999.00,9,-999.000,9, -999.00,9, -999.00,9, -66.9985, 179.4228,-999.000,     -999.0,    34.7784,2,     -999.0,9,     -999.0,9,   0.0781,2,   0.0361,3,  -0.0060,4,  -0.0139,4,  -0.0218,4,  -0.0173,4,  -0.0159,4,   0.0683,3,   0.0589,3,-999.0000,-999.000,   1.0454,     -999.0,     -999.0,9,     -999.0,9,     -999.0,9,     -999.0,9,     -999.0,20110301,       2233
320620110219,       S04P,      21,          1,         29,         29,2,20110301,       2045,   -66.9985,   179.4228,       3699,   199.7,   1.3808,  34.6813,2,  34.6823,2,    187.7,2,   187.7,2,   91.41,2,   32.94,2,    0.00,2,    2.19,2,-999.000,9,-999.000,9,-999.000,9,-999.0000,9,  2253.2,6,  2343.2,2,   7.5651,2,    25.00,-999.000,9,-999.0000,9,-999.000,9,   1.3783,2, -999.00,9,  -999.0,9,  -999.0,-999.000,9, -999.00,9,-999.000,9, -999.00,9, -999.00,9, -66.9985, 179.4228,-999.000,     -999.0,    34.8458,2,     -999.0,9,     -999.0,9,   0.0760,3,   0.0344,3,  -0.0089,4,  -0.0147,4,  -0.0228,4,  -0.0186,4,  -0.0169,4,   0.0899,4,   0.0617,4,-999.0000,-999.000,   1.3711,     -999.0,     -999.0,9,     -999.0,9,     -999.0,9,     -999.0,9,     -999.0,20110301,       2231
320620110219,       S04P,      21,          1,         28,         28,2,20110301,       2045,   -66.9985,   179.4228,       3699,   250.9,   1.4596,  34.7025,2,  34.7025,2,    187.1,2,   186.9,2,   93.02,2,   32.75,2,    0.00,2,    2.18,2,   0.413,2,   0.243,2,   0.043,2,-999.0000,9,  2253.6,2,  2346.7,2,   7.5683,2,    25.00,-999.000,9,-999.0000,9,-999.000,9,   1.4598,2, -999.00,9,  -999.0,9,  -999.0,-999.000,9, -999.00,9,-999.000,9, -999.00,9, -999.00,9, -66.9985, 179.4228,-999.000,     -999.0,    34.8661,2,     -999.0,9,     -999.0,9,   0.0736,3,   0.0325,3,  -0.0083,4,  -0.0164,4,  -0.0239,4,  -0.0188,4,  -0.0171,4,   0.0804,4,   0.0631,4,-999.0000,-999.000,   1.4471,     -999.0,     -999.0,9,     -999.0,9,     -999.0,9,     -999.0,9,     -999.0,20110301,       2229
320620110219,       S04P,      21,          1,         27,         27,2,20110301,       2045,   -66.9985,   179.4228,       3699,   299.0,   1.4539,  34.7143,2,  34.7144,2,    187.3,2,   186.9,2,   95.78,2,   32.46,2,    0.00,2,    2.18,2,-999.000,9,-999.000,9,-999.000,9,-999.0000,9,  2252.9,2,  2347.5,2,   7.5739,2,    25.00,-999.000,9,-999.0000,9,-999.000,9,   1.4539,2, -999.00,9,  -999.0,9,  -999.0,-999.000,9, -999.00,9,-999.000,9, -999.00,9, -999.00,9, -66.9985, 179.4228,-999.000,     -999.0,    34.8781,2,     -999.0,9,     -999.0,9,-999.0000,9,-999.0000,9,-999.0000,9,-999.0000,9,-999.0000,9,-999.0000,9,-999.0000,9,-999.0000,9,-999.0000,9,-999.0000,-999.000,   1.4389,     -999.0,     -999.0,9,     -999.0,9,     -999.0,9,     -999.0,9,     -999.0,20110301,       2227
320620110219,       S04P,      21,          1,         26,         26,2,20110301,       2045,   -66.9985,   179.4228,       3699,   350.1,   1.4355,  34.7197,2,  34.7197,2,    187.5,2,   187.1,2,   97.02,2,   32.45,2,    0.00,2,    2.18,2,   0.308,2,   0.181,2,   0.030,2,-999.0000,9,  2253.2,2,  2348.8,2,   7.5759,2,    25.00,-999.000,9,-999.0000,9,-999.000,9,   1.4355,2, -999.00,9,  -999.0,9,  -999.0,-999.000,9, -999.00,9,-999.000,9, -999.00,9, -999.00,9, -66.9985, 179.4228,-999.000,     -999.0,    34.8834,2,     -999.0,9,     -999.0,9,-999.0000,9,-999.0000,9,-999.0000,9,-999.0000,9,-999.0000,9,-999.0000,9,-999.0000,9,-999.0000,9,-999.0000,9,-999.0000,-999.000,   1.4178,     -999.0,     -999.0,9,     -999.0,9,     -999.0,9,     -999.0,9,     -999.0,20110301,       2225
320620110219,       S04P,      21,          1,         25,         25,2,20110301,       2045,   -66.9985,   179.4228,       3699,   400.2,   1.4034,  34.7224,2,  34.7223,2,    188.0,2,   187.9,2,   99.07,2,   32.40,2,    0.00,2,    2.18,2,-999.000,9,-999.000,9,-999.000,9,-999.0000,9,  2254.4,2,  2349.8,2,   7.5732,2,    25.00,-999.000,9,-999.0000,9,-999.000,9,   1.4032,2, -999.00,9,  -999.0,9,  -999.0,-999.000,9, -999.00,9,-999.000,9, -999.00,9, -999.00,9, -66.9985, 179.4228,-999.000,     -999.0,    34.8860,2,     -999.0,9,     -999.0,9,   0.0742,3,   0.0339,3,  -0.0041,4,  -0.0156,4,  -0.0239,4,  -0.0189,4,  -0.0172,4,   0.0814,4,   0.0593,4,-999.0000,-999.000,   1.3832,     -999.0,     -999.0,9,     -999.0,9,     -999.0,9,     -999.0,9,     -999.0,20110301,       2223
320620110219,       S04P,      21,          1,         24,         24,2,20110301,       2045,   -66.9985,   179.4228,       3699,   450.8,   1.3552,  34.7231,2,  34.7230,2,    188.8,2,   189.4,2,  100.88,2,   32.33,2,    0.00,2,    2.17,2,   0.210,2,   0.129,2,   0.026,2,-999.0000,9,  2256.2,2,  2351.1,2,   7.5750,2,    25.00,-999.000,9,-999.0000,9,-999.000,9,   1.3555,2, -999.00,9,  -999.0,9,  -999.0,-999.000,9, -999.00,9,-999.000,9, -999.00,9, -999.00,9, -66.9985, 179.4228,-999.000,     -999.0,    34.8867,2,     -999.0,9,     -999.0,9,-999.0000,9,-999.0000,9,-999.0000,9,-999.0000,9,-999.0000,9,-999.0000,9,-999.0000,9,-999.0000,9,-999.0000,9,-999.0000,-999.000,   1.3324,     -999.0,     -999.0,9,     -999.0,9,     -999.0,9,     -999.0,9,     -999.0,20110301,       2221
320620110219,       S04P,      21,          1,         23,         23,2,20110301,       2045,   -66.9985,   179.4228,       3699,   500.3,   1.3321,  34.7243,2,  34.7246,2,    189.8,2,   189.3,2,  101.73,2,   32.39,2,    0.00,2,    2.18,2,-999.000,9,-999.000,9,-999.000,9,-999.0000,9,  2256.3,2,  2351.0,2,   7.5760,2,    25.00,-999.000,9,-999.0000,9,-999.000,9,   1.3321,2, -999.00,9,  -999.0,9,  -999.0,-999.000,9, -999.00,9,-999.000,9, -999.00,9, -999.00,9, -66.9985, 179.4228,-999.000,     -999.0,    34.8883,2,     -999.0,9,     -999.0,9,-999.0000,9,-999.0000,9,-999.0000,9,-999.0000,9,-999.0000,9,-999.0000,9,-999.0000,9,-999.0000,9,-999.0000,9,-999.0000,-999.000,   1.3067,     -999.0,     -999.0,9,     -999.0,9,     -999.0,9,     -999.0,9,     -999.0,20110301,       2219
320620110219,       S04P,      21,          1,         22,         22,2,20110301,       2045,   -66.9985,   179.4228,       3699,   600.2,   1.2729,  34.7258,2,  34.7263,2,    190.4,2,   190.8,2,  104.12,2,   32.35,2,    0.00,2,    2.18,2,   0.178,2,   0.106,2,   0.018,2,-999.0000,9,  2257.5,2,  2353.0,2,   7.5762,2,    25.00,-999.000,9,-999.0000,9,-999.000,9,   1.2722,2, -999.00,9,  -999.0,9,  -999.0,-999.000,9, -999.00,9,-999.000,9, -999.00,9, -999.00,9, -66.9985, 179.4228,-999.000,     -999.0,    34.8901,2,     -999.0,9,     -999.0,9,   0.0907,3,   0.0421,3,  -0.0045,4,  -0.0124,4,  -0.0216,4,  -0.0180,4,  -0.0169,4,   0.0846,4,   0.0589,4,-999.0000,-999.000,   1.2421,     -999.0,     -999.0,9,     -999.0,9,     -999.0,9,     -999.0,9,     -999.0,20110301,       2216
320620110219,       S04P,      21,          1,         21,         21,2,20110301,       2045,   -66.9985,   179.4228,       3699,   699.5,   1.1919,  34.7248,2,  34.7253,2,    191.4,2,   191.1,2,  107.22,2,   32.32,2,    0.00,2,    2.18,2,-999.000,9,-999.000,9,-999.000,9,-999.0000,9,  -999.0,9,  2354.5,2,-999.0000,9,  -999.00,-999.000,9,-999.0000,9,-999.000,9,   1.1915,2, -999.00,9,  -999.0,9,  -999.0,-999.000,9, -999.00,9,-999.000,9, -999.00,9, -999.00,9, -66.9985, 179.4228,-999.000,     -999.0,    34.8891,2,     -999.0,9,     -999.0,9,-999.0000,9,-999.0000,9,-999.0000,9,-999.0000,9,-999.0000,9,-999.0000,9,-999.0000,9,-999.0000,9,-999.0000,9,-999.0000,-999.000,   1.1559,     -999.0,     -999.0,9,     -999.0,9,     -999.0,9,     -999.0,9,     -999.0,20110301,       2213
320620110219,       S04P,      21,          1,         20,         20,2,20110301,       2045,   -66.9985,   179.4228,       3699,   799.2,   1.1303,  34.7233,2,  34.7236,2,   -999.0,9,  -999.0,5,  109.09,2,   32.26,2,    0.00,2,    2.18,2,   0.106,2,   0.067,2,   0.010,2,-999.0000,9,  2256.9,2,  2355.9,2,   7.5792,6,    25.00,-999.000,9,-999.0000,9,-999.000,9,   1.1306,2, -999.00,9,  -999.0,9,  -999.0,-999.000,9, -999.00,9,-999.000,9, -999.00,9, -999.00,9, -66.9985, 179.4228,-999.000,     -999.0,    34.8873,2,     -999.0,9,     -999.0,9,-999.0000,9,-999.0000,9,-999.0000,9,-999.0000,9,-999.0000,9,-999.0000,9,-999.0000,9,-999.0000,9,-999.0000,9,-999.0000,-999.000,   1.0889,     -999.0,     -999.0,9,     -999.0,9,     -999.0,9,     -999.0,9,     -999.0,20110301,       2210
320620110219,       S04P,      21,          1,         19,         19,2,20110301,       2045,   -66.9985,   179.4228,       3699,   900.7,   1.0732,  34.7213,2,  34.7218,2,    196.1,2,   196.0,2,  109.78,2,   32.10,2,    0.00,2,    2.16,2,-999.000,9,-999.000,9,-999.000,9,-999.0000,9,  -999.0,9,  -999.0,9,-999.0000,9,  -999.00,-999.000,9,-999.0000,9,-999.000,9,   1.0728,2, -999.00,9,  -999.0,9,  -999.0,-999.000,9, -999.00,9,-999.000,9, -999.00,9, -999.00,9, -66.9985, 179.4228,-999.000,     -999.0,    34.8855,2,     -999.0,9,     -999.0,9,   0.0718,3,   0.0312,3,  -0.0099,4,  -0.0165,4,  -0.0235,4,  -0.0183,4,  -0.0167,4,   0.0865,4,   0.0648,4,-999.0000,-999.000,   1.0262,     -999.0,     -999.0,9,     -999.0,9,     -999.0,9,     -999.0,9,     -999.0,20110301,       2206
320620110219,       S04P,      21,          1,         18,         18,2,20110301,       2045,   -66.9985,   179.4228,       3699,   998.8,   1.0052,  34.7195,2,  34.7198,2,   -999.0,9,  -999.0,5,  112.85,2,   32.25,2,    0.00,2,    2.18,2,   0.100,2,   0.062,2,   0.009,2,-999.0000,9,  2257.8,2,  2356.6,6,   7.5847,2,    25.00,-999.000,9,-999.0000,9,-999.000,9,   1.0051,2, -999.00,9,  -999.0,9,  -999.0,-999.000,9, -999.00,9,-999.000,9, -999.00,9, -999.00,9, -66.9985, 179.4228,-999.000,     -999.0,    34.8835,2,     -999.0,9,     -999.0,9,-999.0000,9,-999.0000,9,-999.0000,9,-999.0000,9,-999.0000,9,-999.0000,9,-999.0000,9,-999.0000,9,-999.0000,9,-999.0000,-999.000,   0.9528,     -999.0,     -999.0,9,     -999.0,9,     -999.0,9,     -999.0,9,     -999.0,20110301,       2203
320620110219,       S04P,      21,          1,         17,         17,2,20110301,       2045,   -66.9985,   179.4228,       3699,  1100.2,   0.9481,  34.7175,2,  34.7178,2,    198.4,2,   197.8,2,  114.96,2,   32.25,2,    0.00,2,    2.18,2,-999.000,9,-999.000,9,-999.000,9,-999.0000,9,  -999.0,9,  -999.0,9,-999.0000,9,  -999.00,-999.000,9,-999.0000,9,-999.000,9,   0.9482,2, -999.00,9,  -999.0,9,  -999.0,-999.000,9, -999.00,9,-999.000,9, -999.00,9, -999.00,9, -66.9985, 179.4228,-999.000,     -999.0,    34.8816,2,     -999.0,9,     -999.0,9,-999.0000,9,-999.0000,9,-999.0000,9,-999.0000,9,-999.0000,9,-999.0000,9,-999.0000,9,-999.0000,9,-999.0000,9,-999.0000,-999.000,   0.8900,     -999.0,     -999.0,9,     -999.0,9,     -999.0,9,     -999.0,9,     -999.0,20110301,       2200
320620110219,       S04P,      21,          1,         16,         16,2,20110301,       2045,   -66.9985,   179.4228,       3699,  1200.8,   0.8909,  34.7155,2,  34.7157,2,    199.6,2,   199.6,2,  117.38,2,   32.34,2,    0.00,2,    2.19,2,   0.076,2,   0.051,2,   0.008,2,-999.0000,9,  -999.0,9,  -999.0,9,-999.0000,9,  -999.00,-999.000,9,-999.0000,9,-999.000,9,   0.8910,2, -999.00,9,  -999.0,9,  -999.0,-999.000,9, -999.00,9,-999.000,9, -999.00,9, -999.00,9, -66.9985, 179.4228,-999.000,     -999.0,    34.8794,2,     -999.0,9,     -999.0,9,   0.0723,3,   0.0317,3,  -0.0086,4,  -0.0150,4,  -0.0224,4,  -0.0180,4,  -0.0166,4,   0.0782,3,   0.0637,3,-999.0000,-999.000,   0.8270,     -999.0,     -999.0,9,     -999.0,9,     -999.0,9,     -999.0,9,     -999.0,20110301,       2157
320620110219,       S04P,      21,          1,         15,         15,2,20110301,       2045,   -66.9985,   179.4228,       3699,  1298.8,   0.8318,  34.7135,2,  34.7133,2,    201.0,2,   202.2,2,  119.20,2,   32.31,2,    0.00,2,    2.19,2,-999.000,9,-999.000,9,-999.000,9,-999.0000,9,  2259.6,2,  2358.8,2,   7.5878,2,    25.00,-999.000,9,-999.0000,9,-999.000,9,   0.8319,2, -999.00,9,  -999.0,9,  -999.0,-999.000,9, -999.00,9,-999.000,9, -999.00,9, -999.00,9, -66.9985, 179.4228,-999.000,     -999.0,    34.8770,2,     -999.0,9,     -999.0,9,-999.0000,9,-999.0000,9,-999.0000,9,-999.0000,9,-999.0000,9,-999.0000,9,-999.0000,9,-999.0000,9,-999.0000,9,-999.0000,-999.000,   0.7622,     -999.0,     -999.0,9,     -999.0,9,     -999.0,9,     -999.0,9,     -999.0,20110301,       2154
320620110219,       S04P,      21,          1,         14,         14,2,20110301,       2045,   -66.9985,   179.4228,       3699,  1399.8,   0.7889,  34.7118,2,  34.7118,2,    202.0,2,   201.7,2,  120.50,2,   32.23,2,    0.00,2,    2.18,2,   0.088,2,   0.055,2,   0.010,2,-999.0000,9,  -999.0,9,  -999.0,9,-999.0000,9,  -999.00,-999.000,9,-999.0000,9,-999.000,9,   0.7889,2, -999.00,9,  -999.0,9,  -999.0,-999.000,9, -999.00,9,-999.000,9, -999.00,9, -999.00,9, -66.9985, 179.4228,-999.000,     -999.0,    34.8754,2,     -999.0,9,     -999.0,9,-999.0000,9,-999.0000,9,-999.0000,9,-999.0000,9,-999.0000,9,-999.0000,9,-999.0000,9,-999.0000,9,-999.0000,9,-999.0000,-999.000,   0.7132,     -999.0,     -999.0,9,     -999.0,9,     -999.0,9,     -999.0,9,     -999.0,20110301,       2151