BOTTLE,20220813CCHSIOAMB
EXPOCODE,SECT_ID,STNNBR,CASTNO,SAMPNO,BTLNBR,BTLNBR_FLAG_W,DATE,TIME,LATITUDE,LONGITUDE,DEPTH,CTDPRS,CTDTMP,CTDSAL,CTDSAL_FLAG_W,SALNTY,SALNTY_FLAG_W,CTDOXY,CTDOXY_FLAG_W,OXYGEN,OXYGEN_FLAG_W,SILCAT,SILCAT_FLAG_W,NITRAT,NITRAT_FLAG_W,NITRIT,NITRIT_FLAG_W,PHSPHT,PHSPHT_FLAG_W,CFC-11,CFC-11_FLAG_W,CFC-12,CFC-12_FLAG_W,CFC113,CFC113_FLAG_W,SF6,SF6_FLAG_W,TCARBN,TCARBN_FLAG_W,ALKALI,ALKALI_FLAG_W,PH_TOT,PH_TOT_FLAG_W,PH_TMP,TRITUM,TRITUM_FLAG_W,HELIUM,HELIUM_FLAG_W,DELHE3,DELHE3_FLAG_W,REFTMP,REFTMP_FLAG_W,DELC13,DELC13_FLAG_W,DELC14,DELC14_FLAG_W,C14ERR,NEON,NEON_FLAG_W,DELO18,DELO18_FLAG_W,POC,POC_FLAG_W,DOC,DOC_FLAG_W,TDN,TDN_FLAG_W,BTL_LAT,BTL_LON,TRITER,NEONER,SALTREF,SALTREF_FLAG_W,PIGMENTS,PIGMENTS_FLAG_W,LAB_DEN,LAB_DEN_FLAG_W,CDOM325,CDOM325_FLAG_W,CDOM340,CDOM340_FLAG_W,CDOM380,CDOM380_FLAG_W,CDOM412,CDOM412_FLAG_W,CDOM443,CDOM443_FLAG_W,CDOM490,CDOM490_FLAG_W,CDOM555,CDOM555_FLAG_W,CDOMSL,CDOMSL_FLAG_W,CDOMSN,CDOMSN_FLAG_W,HELIER,DELHER,THETA,LDEO_SAMPNO,ABSORBTION,ABSORBTION_FLAG_W,IMAGE_COUNT,IMAGE_COUNT_FLAG_W,CYTO_COUNT,CYTO_COUNT_FLAG_W,DELD,DELD_FLAG_W,DELDERR,BTL_DATE,BTL_TIME
,,,,,,,,,,,METERS,DBAR,ITS-90,PSS-78,,PSS-78,,UMOL/KG,,UMOL/KG,,UMOL/KG,,UMOL/KG,,UMOL/KG,,UMOL/KG,,PMOL/KG,,PMOL/KG,,PMOL/KG,,FMOL/KG,,UMOL/KG,,UMOL/KG,,,,DEG C,TU,,NMOL/KG,,PERCNT,,DEG C,,/MILLE,,/MILLE,,/MILLE,NMOL/KG,,/MILLE,,UG/KG,,UMOL/KG,,UMOL/KG,,,,TU,NMOL/KG,G/KG,,,,,,1/M,,1/M,,1/M,,1/M,,1/M,,1/M,,1/M,,1/NM,,1/NM,,NMOL/KG,PERCNT,DEG C,,,,,,,,/MILLE,,/MILLE,,
320620110219,       S04P,     110,          1,         36,         36,2,20110406,       1124,   -67.0006,  -122.5053,       4414,     6.0,  -0.9693,  33.5855,2,  33.5849,2,    346.7,2,   347.3,2,   28.49,2,   25.16,2,    0.21,2,    1.72,2,   6.179,2,   3.430,2,   0.647,2,   2.6500,2,  2147.2,2,  2270.7,6,   7.6883,2,    25.00,-999.000,9,-999.0000,9,-999.000,9,  -0.9700,2,    1.35,2,   -97.4,2,     2.9,-999.000,9, -999.00,9,-999.000,9,   44.24,2,   28.96,2, -67.0006,-122.5053,-999.000,     -999.0,    33.7432,2,     -999.0,9,     -999.0,9,-999.0000,9,-999.0000,9,-999.0000,9,-999.0000,9,-999.0000,9,-999.0000,9,-999.0000,9,-999.0000,9,-999.0000,9,-999.0000,-999.000,  -0.9694,     -999.0,     -999.0,9,     -999.0,9,     -999.0,9,     -999.0,9,     -999.0,20110406,       1313
320620110219,       S04P,     110,          1,         35,         35,2,20110406,       1124,   -67.0006,  -122.5053,       4414,    34.8,  -0.9572,  33.5875,2,  33.5870,2,    347.1,2,   347.2,2,   28.48,2,   25.23,2,    0.21,2,    1.73,2,   6.110,2,   3.416,2,   0.644,2,   2.7570,2,  2146.4,6,  2271.2,2,   7.6878,2,    25.00,-999.000,9,-999.0000,9,-999.000,9,  -0.9572,2, -999.00,9,  -999.0,9,  -999.0,-999.000,9, -999.00,9,-999.000,9,   44.52,2,   29.09,2, -67.0006,-122.5053,-999.000,     -999.0,    33.7454,2,     -999.0,9,     -999.0,9,-999.0000,9,-999.0000,9,-999.0000,9,-999.0000,9,-999.0000,9,-999.0000,9,-999.0000,9,-999.0000,9,-999.0000,9,-999.0000,-999.000,  -0.9581,     -999.0,     -999.0,9,     -999.0,9,     -999.0,9,     -999.0,9,     -999.0,20110406,       1311
320620110219,       S04P,     110,          1,         34,         34,2,20110406,       1124,   -67.0006,  -122.5053,       4414,    60.2,  -1.2156,  33.7337,2,  33.7337,2,    342.3,2,   336.7,2,   34.65,2,   26.82,2,    0.20,2,    1.92,2,   5.891,2,   3.269,2,   0.625,2,   2.5140,2,  2163.2,2,  2279.4,2,   7.6678,6,    25.00,-999.000,9,-999.0000,9,-999.000,9,  -1.2165,2,    1.20,2,  -103.3,2,     2.5,-999.000,9, -999.00,9,-999.000,9,   44.03,2,   30.19,2, -67.0006,-122.5053,-999.000,     -999.0,    33.8927,2,     -999.0,9,     -999.0,9,-999.0000,9,-999.0000,9,-999.0000,9,-999.0000,9,-999.0000,9,-999.0000,9,-999.0000,9,-999.0000,9,-999.0000,9,-999.0000,-999.000,  -1.2170,     -999.0,     -999.0,9,     -999.0,9,     -999.0,9,     -999.0,9,     -999.0,20110406,       1310
320620110219,       S04P,     110,          1,         33,         33,2,20110406,       1124,   -67.0006,  -122.5053,       4414,    86.7,  -1.6045,  33.9641,2,  33.9598,2,    315.7,2,   315.0,2,   44.80,2,   29.24,2,    0.18,2,    2.08,2,   5.412,2,   2.997,2,   0.568,2,   2.2340,2,  2189.3,2,  2292.6,2,   7.6294,2,    25.00,-999.000,9,-999.0000,9,-999.000,9,  -1.6048,2,    1.02,2,  -100.0,2,     2.6,-999.000,9, -999.00,9,-999.000,9,   43.63,2,   32.35,2, -67.0006,-122.5053,-999.000,     -999.0,    34.1200,2,     -999.0,9,     -999.0,9,-999.0000,9,-999.0000,9,-999.0000,9,-999.0000,9,-999.0000,9,-999.0000,9,-999.0000,9,-999.0000,9,-999.0000,9,-999.0000,-999.000,  -1.6063,     -999.0,     -999.0,9,     -999.0,9,     -999.0,9,     -999.0,9,     -999.0,20110406,       1308
320620110219,       S04P,     110,          1,         32,         32,2,20110406,       1124,   -67.0006,  -122.5053,       4414,   114.7,  -0.6236,  34.0983,2,  34.1059,2,    308.4,2,   293.6,2,   50.24,2,   31.19,2,    0.02,2,    2.17,2,   4.812,6,   2.676,6,   0.494,6,   1.9910,6,  2202.2,2,  2301.2,2,   7.6093,2,    25.00,-999.000,9,-999.0000,9,-999.000,9,  -0.6223,2,    0.92,2,  -108.4,2,     2.5,-999.000,9, -999.00,9,-999.000,9,   42.35,2,   34.01,2, -67.0006,-122.5053,-999.000,     -999.0,    34.2668,2,     -999.0,9,     -999.0,9,-999.0000,9,-999.0000,9,-999.0000,9,-999.0000,9,-999.0000,9,-999.0000,9,-999.0000,9,-999.0000,9,-999.0000,9,-999.0000,-999.000,  -0.6270,     -999.0,     -999.0,9,     -999.0,9,     -999.0,9,     -999.0,9,     -999.0,20110406,       1307
320620110219,       S04P,     110,          1,         31,         31,2,20110406,       1124,   -67.0006,  -122.5053,       4414,   166.0,   1.1123,  34.3755,2,  34.3750,2,    214.9,2,   215.2,2,   65.71,2,   34.14,2,    0.00,2,    2.37,2,   2.559,2,   1.403,2,   0.247,2,   0.9690,2,  2238.2,2,  2318.3,2,   7.5509,2,    25.00,-999.000,9,-999.0000,9,-999.000,9,   1.1114,2,    0.57,2,  -127.1,2,     2.6,-999.000,9, -999.00,9,-999.000,9,   41.97,2,   36.97,2, -67.0006,-122.5054,-999.000,     -999.0,    34.5371,2,     -999.0,9,     -999.0,9,-999.0000,9,-999.0000,9,-999.0000,9,-999.0000,9,-999.0000,9,-999.0000,9,-999.0000,9,-999.0000,9,-999.0000,9,-999.0000,-999.000,   1.1047,     -999.0,     -999.0,9,     -999.0,9,     -999.0,9,     -999.0,9,     -999.0,20110406,       1305
320620110219,       S04P,     110,          1,         30,         30,2,20110406,       1124,   -67.0006,  -122.5053,       4414,   215.1,   1.7952,  34.5160,2,  34.5238,2,    186.7,2,   183.4,2,   73.53,2,   34.61,2,    0.00,2,    2.41,2,   1.387,2,   0.743,2,   0.113,2,   0.4620,2,  2254.2,2,  2329.7,2,   7.5407,2,    25.00,-999.000,9,-999.0000,9,-999.000,9,   1.7826,2,    0.44,2,  -131.6,2,     2.6,-999.000,9, -999.00,9,-999.000,9,   41.46,2,   36.53,2, -67.0006,-122.5053,-999.000,     -999.0,    34.6866,2,     -999.0,9,     -999.0,9,-999.0000,9,-999.0000,9,-999.0000,9,-999.0000,9,-999.0000,9,-999.0000,9,-999.0000,9,-999.0000,9,-999.0000,9,-999.0000,-999.000,   1.7840,     -999.0,     -999.0,9,     -999.0,9,     -999.0,9,     -999.0,9,     -999.0,20110406,       1303
320620110219,       S04P,     110,          1,         29,         29,2,20110406,       1124,   -67.0006,  -122.5053,       4414,   265.4,   1.9608,  34.5769,2,  34.5751,2,    178.4,2,   178.6,2,   75.86,2,   34.29,2,    0.00,2,    2.39,2,   1.034,2,   0.550,2,   0.078,2,   0.3950,2,  2255.9,2,  2333.0,2,   7.5449,2,    25.00,-999.000,9,-999.0000,9,-999.000,9,   1.9614,2,    0.44,2,  -140.7,2,     2.4,-999.000,9, -999.00,9,-999.000,9,   40.92,2,   37.06,2, -67.0006,-122.5053,-999.000,     -999.0,    34.7382,2,     -999.0,9,     -999.0,9,-999.0000,9,-999.0000,9,-999.0000,9,-999.0000,9,-999.0000,9,-999.0000,9,-999.0000,9,-999.0000,9,-999.0000,9,-999.0000,-999.000,   1.9465,     -999.0,     -999.0,9,     -999.0,9,     -999.0,9,     -999.0,9,     -999.0,20110406,       1302
320620110219,       S04P,     110,          1,         28,         28,2,20110406,       1124,   -67.0006,  -122.5053,       4414,   316.6,   2.0645,  34.6215,2,  34.6202,2,    173.7,2,   173.4,2,   77.95,2,   33.89,2,    0.00,2,    2.36,2,   0.699,2,   0.355,2,   0.052,2,   0.2210,2,  2254.9,2,  2337.9,2,   7.5510,2,    25.00,-999.000,9,-999.0000,9,-999.000,9,   2.0646,2,    0.42,2,  -147.5,2,     2.5,-999.000,9, -999.00,9,-999.000,9,   40.30,2,   36.73,2, -67.0006,-122.5053,-999.000,     -999.0,    34.7835,2,     -999.0,9,     -999.0,9,-999.0000,9,-999.0000,9,-999.0000,9,-999.0000,9,-999.0000,9,-999.0000,9,-999.0000,9,-999.0000,9,-999.0000,9,-999.0000,-999.000,   2.0471,     -999.0,     -999.0,9,     -999.0,9,     -999.0,9,     -999.0,9,     -999.0,20110406,       1300
320620110219,       S04P,     110,          1,         27,         27,2,20110406,       1124,   -67.0006,  -122.5053,       4414,   364.7,   2.0757,  34.6464,2,  34.6446,2,    173.3,2,   173.7,2,   79.42,2,   33.58,2,    0.00,2,    2.34,2,   0.571,2,   0.288,2,   0.046,2,   0.1800,2,  2255.6,2,  2339.4,2,   7.5573,2,    25.00,-999.000,9,-999.0000,9,-999.000,9,   2.0758,2,    0.47,2,  -151.5,2,     2.5,-999.000,9, -999.00,9,-999.000,9,   40.50,2,   36.41,2, -67.0006,-122.5053,-999.000,     -999.0,    34.8079,2,     -999.0,9,     -999.0,9,-999.0000,9,-999.0000,9,-999.0000,9,-999.0000,9,-999.0000,9,-999.0000,9,-999.0000,9,-999.0000,9,-999.0000,9,-999.0000,-999.000,   2.0554,     -999.0,     -999.0,9,     -999.0,9,     -999.0,9,     -999.0,9,     -999.0,20110406,       1258
320620110219,       S04P,     110,          1,         26,         26,2,20110406,       1124,   -67.0006,  -122.5053,       4414,   414.5,   2.0574,  34.6631,2,  34.6632,2,    175.1,2,   174.8,2,   80.31,2,   33.29,2,    0.00,2,    2.31,2,   0.488,2,   0.244,2,   0.036,2,   0.1570,2,  2255.7,2,  2341.8,2,   7.5624,2,    25.00,-999.000,9,-999.0000,9,-999.000,9,   2.0572,2,    0.44,2,  -144.9,2,     2.9,-999.000,9, -999.00,9,-999.000,9,   40.06,2,   35.33,2, -67.0006,-122.5053,-999.000,     -999.0,    34.8267,2,     -999.0,9,     -999.0,9,-999.0000,9,-999.0000,9,-999.0000,9,-999.0000,9,-999.0000,9,-999.0000,9,-999.0000,9,-999.0000,9,-999.0000,9,-999.0000,-999.000,   2.0342,     -999.0,     -999.0,9,     -999.0,9,     -999.0,9,     -999.0,9,     -999.0,20110406,       1256
320620110219,       S04P,     110,          1,         25,         25,2,20110406,       1124,   -67.0006,  -122.5053,       4414,   464.5,   2.0533,  34.6799,2,  34.6793,2,    176.6,2,   176.7,2,   81.18,2,   32.87,2,    0.00,2,    2.28,2,   0.401,2,   0.198,2,   0.023,2,   0.1280,2,  2254.5,2,  2343.6,2,   7.5694,2,    25.00,-999.000,9,-999.0000,9,-999.000,9,   2.0534,2,    0.43,2,  -146.0,2,     2.8,-999.000,9, -999.00,9,-999.000,9,   40.27,2,   34.92,2, -67.0006,-122.5053,-999.000,     -999.0,    34.8428,2,     -999.0,9,     -999.0,9,-999.0000,9,-999.0000,9,-999.0000,9,-999.0000,9,-999.0000,9,-999.0000,9,-999.0000,9,-999.0000,9,-999.0000,9,-999.0000,-999.000,   2.0271,     -999.0,     -999.0,9,     -999.0,9,     -999.0,9,     -999.0,9,     -999.0,20110406,       1255
320620110219,       S04P,     110,          1,         24,         24,2,20110406,       1124,   -67.0006,  -122.5053,       4414,   534.2,   2.0119,  34.6978,2,  34.6973,2,    179.0,2,   179.4,2,   82.57,2,   32.47,2,    0.00,2,    2.25,2,   0.335,2,   0.165,2,   0.026,2,   0.1070,2,  2254.2,2,  2345.3,2,   7.5746,2,    25.00,-999.000,9,-999.0000,9,-999.000,9,   2.0122,2,    0.43,2,  -144.1,2,     2.5,-999.000,9, -999.00,9,-999.000,9,   39.68,2,   35.20,2, -67.0006,-122.5053,-999.000,     -999.0,    34.8609,2,     -999.0,9,     -999.0,9,-999.0000,9,-999.0000,9,-999.0000,9,-999.0000,9,-999.0000,9,-999.0000,9,-999.0000,9,-999.0000,9,-999.0000,9,-999.0000,-999.000,   1.9816,     -999.0,     -999.0,9,     -999.0,9,     -999.0,9,     -999.0,9,     -999.0,20110406,       1252
320620110219,       S04P,     110,          1,         23,         23,2,20110406,       1124,   -67.0006,  -122.5053,       4414,   635.9,   1.9396,  34.7131,2,  34.7128,2,    182.4,2,   182.5,2,   84.62,2,   32.05,2,    0.00,2,    2.24,2,-999.000,9,-999.000,9,-999.000,9,-999.0000,9,  -999.0,9,  -999.0,9,-999.0000,9,  -999.00,-999.000,9,-999.0000,9,-999.000,9,   1.9393,2, -999.00,9,  -999.0,9,  -999.0,-999.000,9, -999.00,9,-999.000,9,   39.93,2,   34.82,2, -67.0005,-122.5053,-999.000,     -999.0,    34.8765,2,     -999.0,9,     -999.0,9,-999.0000,9,-999.0000,9,-999.0000,9,-999.0000,9,-999.0000,9,-999.0000,9,-999.0000,9,-999.0000,9,-999.0000,9,-999.0000,-999.000,   1.9034,     -999.0,     -999.0,9,     -999.0,9,     -999.0,9,     -999.0,9,     -999.0,20110406,       1250
320620110219,       S04P,     110,          1,         22,         22,2,20110406,       1124,   -67.0006,  -122.5053,       4414,   735.1,   1.8466,  34.7230,2,  34.7228,2,    184.8,2,   184.5,2,   86.81,2,   31.76,2,    0.00,2,    2.22,2,   0.259,2,   0.123,2,   0.020,2,   0.0790,2,  2252.8,2,  2349.2,2,   7.5881,2,    25.00,-999.000,9,-999.0000,9,-999.000,9,   1.8474,2,    0.48,2,  -148.5,2,     2.3,-999.000,9, -999.00,9,-999.000,9,   40.17,2,   34.49,2, -67.0006,-122.5053,-999.000,     -999.0,    34.8866,2,     -999.0,9,     -999.0,9,-999.0000,9,-999.0000,9,-999.0000,9,-999.0000,9,-999.0000,9,-999.0000,9,-999.0000,9,-999.0000,9,-999.0000,9,-999.0000,-999.000,   1.8047,     -999.0,     -999.0,9,     -999.0,9,     -999.0,9,     -999.0,9,     -999.0,20110406,       1247
320620110219,       S04P,     110,          1,         21,         21,2,20110406,       1124,   -67.0006,  -122.5053,       4414,   835.8,   1.7717,  34.7286,2,  34.7285,2,    187.4,2,   187.6,2,   88.85,2,   31.54,2,    0.00,2,    2.21,2,-999.000,9,-999.000,9,-999.000,9,-999.0000,9,  -999.0,9,  -999.0,9,   7.5946,6,    25.00,-999.000,9,-999.0000,9,-999.000,9,   1.7716,2,    0.46,2,  -154.2,2,     3.3,-999.000,9, -999.00,9,-999.000,9,   40.05,2,   34.35,2, -67.0006,-122.5053,-999.000,     -999.0,    34.8923,2,     -999.0,9,     -999.0,9,-999.0000,9,-999.0000,9,-999.0000,9,-999.0000,9,-999.0000,9,-999.0000,9,-999.0000,9,-999.0000,9,-999.0000,9,-999.0000,-999.000,   1.7238,     -999.0,     -999.0,9,     -999.0,9,     -999.0,9,     -999.0,9,     -999.0,20110406,       1244
320620110219,       S04P,     110,          1,         20,         20,2,20110406,       1124,   -67.0006,  -122.5053,       4414,   934.9,   1.6873,  34.7320,2,  34.7313,2,    189.4,2,   189.8,2,   91.40,2,   31.34,2,    0.00,2,    2.15,2,   0.220,2,   0.108,2,   0.013,2,   0.0750,2,  2253.6,6,  2350.4,2,   7.5963,2,    25.00,-999.000,9,-999.0000,9,-999.000,9,   1.6882,2, -999.00,9,  -999.0,9,  -999.0,-999.000,9, -999.00,9,-999.000,9,   40.04,2,   34.28,2, -67.0006,-122.5053,-999.000,     -999.0,    34.8950,2,     -999.0,9,     -999.0,9,-999.0000,9,-999.0000,9,-999.0000,9,-999.0000,9,-999.0000,9,-999.0000,9,-999.0000,9,-999.0000,9,-999.0000,9,-999.0000,-999.000,   1.6336,     -999.0,     -999.0,9,     -999.0,9,     -999.0,9,     -999.0,9,     -999.0,20110406,       1242
320620110219,       S04P,     110,          1,         19,         19,2,20110406,       1124,   -67.0006,  -122.5053,       4414,  1033.9,   1.5991,  34.7330,2,  34.7326,2,    191.3,2,   191.0,2,   93.83,2,   31.28,2,    0.00,2,    2.15,2,-999.000,9,-999.000,9,-999.000,9,-999.0000,9,  -999.0,9,  -999.0,9,   7.5995,2,    25.00,-999.000,9,-999.0000,9,-999.000,9,   1.5989,2,    0.48,2,  -156.9,2,     2.3,-999.000,9, -999.00,9,-999.000,9,   39.97,2,   33.88,2, -67.0006,-122.5053,-999.000,     -999.0,    34.8964,2,     -999.0,9,     -999.0,9,-999.0000,9,-999.0000,9,-999.0000,9,-999.0000,9,-999.0000,9,-999.0000,9,-999.0000,9,-999.0000,9,-999.0000,9,-999.0000,-999.000,   1.5396,     -999.0,     -999.0,9,     -999.0,9,     -999.0,9,     -999.0,9,     -999.0,20110406,       1239
320620110219,       S04P,     110,          1,         18,         18,2,20110406,       1124,   -67.0006,  -122.5053,       4414,  1133.5,   1.5120,  34.7328,2,  34.7322,2,    192.4,2,   192.4,2,   96.59,2,   31.27,2,    0.00,2,    2.16,2,   0.189,2,   0.097,2,   0.008,2,   0.0770,2,  2254.8,2,  2354.1,6,   7.5989,2,    25.00,-999.000,9,-999.0000,9,-999.000,9,   1.5126,2,    0.50,2,  -155.5,2,     3.7,-999.000,9, -999.00,9,-999.000,9,   40.12,2,   34.24,2, -67.0006,-122.5053,-999.000,     -999.0,    34.8960,2,     -999.0,9,     -999.0,9,-999.0000,9,-999.0000,9,-999.0000,9,-999.0000,9,-999.0000,9,-999.0000,9,-999.0000,9,-999.0000,9,-999.0000,9,-999.0000,-999.000,   1.4467,     -999.0,     -999.0,9,     -999.0,9,     -999.0,9,     -999.0,9,     -999.0,20110406,       1237
320620110219,       S04P,     110,          1,         17,         17,2,20110406,       1124,   -67.0006,  -122.5053,       4414,  1235.5,   1.4305,  34.7312,2,  34.7314,2,    193.1,2,   192.9,2,   99.28,2,   31.49,2,    0.00,2,    2.16,2,-999.000,9,-999.000,9,-999.000,9,-999.0000,9,  -999.0,9,  -999.0,9,   7.5981,2,    25.00,-999.000,9,-999.0000,9,-999.000,9,   1.4307,2,    0.46,2,  -155.7,2,     2.0,-999.000,9, -999.00,9,-999.000,9,   40.22,2,   33.43,2, -67.0006,-122.5053,-999.000,     -999.0,    34.8952,2,     -999.0,9,     -999.0,9,-999.0000,9,-999.0000,9,-999.0000,9,-999.0000,9,-999.0000,9,-999.0000,9,-999.0000,9,-999.0000,9,-999.0000,9,-999.0000,-999.000,   1.3590,     -999.0,     -999.0,9,     -999.0,9,     -999.0,9,     -999.0,9,     -999.0,20110406,       1234
320620110219,       S04P,     110,          1,         16,         16,2,20110406,       1124,   -67.0006,  -122.5053,       4414,  1333.6,   1.3528,  34.7299,2,  34.7295,2,    194.6,2,   194.4,2,  101.47,2,   31.40,2,    0.00,2,    2.16,2,   0.169,2,   0.085,2,   0.010,2,   0.0610,2,  -999.0,9,  -999.0,9,   7.6005,2,    25.00,-999.000,9,-999.0000,9,-999.000,9,   1.3528,2,    0.46,2,  -150.9,2,     2.3,-999.000,9, -999.00,9,-999.000,9,   40.51,2,   33.74,2, -67.0006,-122.5053,-999.000,     -999.0,    34.8932,2,     -999.0,9,     -999.0,9,-999.0000,9,-999.0000,9,-999.0000,9,-999.0000,9,-999.0000,9,-999.0000,9,-999.0000,9,-999.0000,9,-999.0000,9,-999.0000,-999.000,   1.2754,     -999.0,     -999.0,9,     -999.0,9,     -999.0,9,     -999.0,9,     -999.0,20110406,       1231
320620110219,       S04P,     110,          1,         15,         15,2,20110406,       1124,   -67.0006,  -122.5053,       4414,  1435.3,   1.2878,  34.7282,2,  34.7275,2,    195.4,2,   195.5,2,  103.49,2,   31.50,2,    0.00,2,    2.17,2,-999.000,9,-999.000,9,-999.000,9,-999.0000,9,  2257.9,2,  2358.5,2,   7.5995,2,    25.00,-999.000,9,-999.0000,9,-999.000,9,   1.2872,2, -999.00,9,  -999.0,9,  -999.0,-999.000,9, -999.00,9,-999.000,9,   40.63,2,   34.13,2, -67.0006,-122.5053,-999.000,     -999.0,    34.8913,2,     -999.0,9,     -999.0,9,-999.0000,9,-999.0000,9,-999.0000,9,-999.0000,9,-999.0000,9,-999.0000,9,-999.0000,9,-999.0000,9,-999.0000,9,-999.0000,-999.000,   1.2040,     -999.0,     -999.0,9,     -999.0,9,     -999.0,9,     -999.0,9,     -999.0,20110406,       1229
320620110219,       S04P,     110,          1,         14,         14,2,20110406,       1124,   -67.0006,  -122.5053,       4414,  1533.9,   1.2254,  34.7264,2,  34.7255,2,    196.7,2,   196.5,2,  105.66,2,   31.47,2,    0.00,2,    2.17,2,   0.145,2,   0.072,2,   0.007,2,   0.0640,2,  -999.0,9,  -999.0,9,   7.5994,2,    25.00,-999.000,9,-999.0000,9,-999.000,9,   1.2260,2,    0.47,2,  -154.8,2,     1.9,-999.000,9, -999.00,9,-999.000,9,   40.52,2,   33.92,2, -67.0006,-122.5053,-999.000,     -999.0,    34.8893,2,     -999.0,9,     -999.0,9,-999.0000,9,-999.0000,9,-999.0000,9,-999.0000,9,-999.0000,9,-999.0000,9,-999.0000,9,-999.0000,9,-999.0000,9,-999.0000,-999.000,   1.1354,     -999.0,     -999.0,9,     -999.0,9,     -999.0,9,     -999.0,9,     -999.0,20110406,       1226