BOTTLE,20220813CCHSIOAMB
EXPOCODE,SECT_ID,STNNBR,CASTNO,SAMPNO,BTLNBR,BTLNBR_FLAG_W,DATE,TIME,LATITUDE,LONGITUDE,DEPTH,CTDPRS,CTDTMP,CTDSAL,CTDSAL_FLAG_W,SALNTY,SALNTY_FLAG_W,CTDOXY,CTDOXY_FLAG_W,OXYGEN,OXYGEN_FLAG_W,SILCAT,SILCAT_FLAG_W,NITRAT,NITRAT_FLAG_W,NITRIT,NITRIT_FLAG_W,PHSPHT,PHSPHT_FLAG_W,CFC-11,CFC-11_FLAG_W,CFC-12,CFC-12_FLAG_W,CFC113,CFC113_FLAG_W,SF6,SF6_FLAG_W,TCARBN,TCARBN_FLAG_W,ALKALI,ALKALI_FLAG_W,PH_TOT,PH_TOT_FLAG_W,PH_TMP,TRITUM,TRITUM_FLAG_W,HELIUM,HELIUM_FLAG_W,DELHE3,DELHE3_FLAG_W,REFTMP,REFTMP_FLAG_W,DELC13,DELC13_FLAG_W,DELC14,DELC14_FLAG_W,C14ERR,NEON,NEON_FLAG_W,DELO18,DELO18_FLAG_W,POC,POC_FLAG_W,DOC,DOC_FLAG_W,TDN,TDN_FLAG_W,BTL_LAT,BTL_LON,TRITER,NEONER,SALTREF,SALTREF_FLAG_W,PIGMENTS,PIGMENTS_FLAG_W,LAB_DEN,LAB_DEN_FLAG_W,CDOM325,CDOM325_FLAG_W,CDOM340,CDOM340_FLAG_W,CDOM380,CDOM380_FLAG_W,CDOM412,CDOM412_FLAG_W,CDOM443,CDOM443_FLAG_W,CDOM490,CDOM490_FLAG_W,CDOM555,CDOM555_FLAG_W,CDOMSL,CDOMSL_FLAG_W,CDOMSN,CDOMSN_FLAG_W,HELIER,DELHER,THETA,LDEO_SAMPNO,ABSORBTION,ABSORBTION_FLAG_W,IMAGE_COUNT,IMAGE_COUNT_FLAG_W,CYTO_COUNT,CYTO_COUNT_FLAG_W,DELD,DELD_FLAG_W,DELDERR,BTL_DATE,BTL_TIME
,,,,,,,,,,,METERS,DBAR,ITS-90,PSS-78,,PSS-78,,UMOL/KG,,UMOL/KG,,UMOL/KG,,UMOL/KG,,UMOL/KG,,UMOL/KG,,PMOL/KG,,PMOL/KG,,PMOL/KG,,FMOL/KG,,UMOL/KG,,UMOL/KG,,,,DEG C,TU,,NMOL/KG,,PERCNT,,DEG C,,/MILLE,,/MILLE,,/MILLE,NMOL/KG,,/MILLE,,UG/KG,,UMOL/KG,,UMOL/KG,,,,TU,NMOL/KG,G/KG,,,,,,1/M,,1/M,,1/M,,1/M,,1/M,,1/M,,1/M,,1/NM,,1/NM,,NMOL/KG,PERCNT,DEG C,,,,,,,,/MILLE,,/MILLE,,
320620110219,       S04P,     112,          1,         36,         36,2,20110407,       0739,   -67.0003,  -117.3861,       4621,     3.1,  -0.7396,  33.4810,2,  33.4800,2,    344.2,3,   347.5,2,   20.74,2,   24.05,2,    0.23,2,    1.65,2,   6.208,2,   3.449,2,   0.660,2,   2.7850,2,  2135.4,6,  2263.0,2,   7.6996,2,    25.00,-999.000,9,-999.0000,9,-999.000,9,  -0.7398,2, -999.00,9,  -999.0,9,  -999.0,-999.000,9, -999.00,9,-999.000,9,   45.71,2,   28.88,2, -67.0003,-117.3862,-999.000,     -999.0,    33.6379,2,     -999.0,9,     -999.0,9,-999.0000,9,-999.0000,9,-999.0000,9,-999.0000,9,-999.0000,9,-999.0000,9,-999.0000,9,-999.0000,9,-999.0000,9,-999.0000,-999.000,  -0.7397,     -999.0,     -999.0,9,     -999.0,9,     -999.0,9,     -999.0,9,     -999.0,20110407,       0932
320620110219,       S04P,     112,          1,         35,         35,2,20110407,       0739,   -67.0003,  -117.3861,       4621,    24.4,  -0.7306,  33.4827,2,  33.4814,2,    347.7,2,   347.5,2,   20.73,2,   24.00,2,    0.23,2,    1.65,2,   6.226,2,   3.450,2,   0.656,2,   2.8640,2,  2134.8,2,  2262.4,2,   7.7000,6,    25.00,-999.000,9,-999.0000,9,-999.000,9,  -0.7308,2, -999.00,9,  -999.0,9,  -999.0,-999.000,9, -999.00,9,-999.000,9,   45.62,2,   28.91,2, -67.0003,-117.3862,-999.000,     -999.0,    33.6393,2,     -999.0,9,     -999.0,9,-999.0000,9,-999.0000,9,-999.0000,9,-999.0000,9,-999.0000,9,-999.0000,9,-999.0000,9,-999.0000,9,-999.0000,9,-999.0000,-999.000,  -0.7313,     -999.0,     -999.0,9,     -999.0,9,     -999.0,9,     -999.0,9,     -999.0,20110407,       0930
320620110219,       S04P,     112,          1,         34,         34,2,20110407,       0739,   -67.0003,  -117.3861,       4621,    50.0,  -0.7474,  33.4902,2,  33.4837,2,    347.2,2,   347.2,2,   20.86,2,   24.01,2,    0.23,2,    1.66,2,   6.218,6,   3.443,6,   0.649,6,   2.7890,6,  2135.6,2,  2261.8,2,   7.7010,2,    25.00,-999.000,9,-999.0000,9,-999.000,9,  -0.7526,2, -999.00,9,  -999.0,9,  -999.0,-999.000,9, -999.00,9,-999.000,9,   44.50,2,   29.05,2, -67.0003,-117.3862,-999.000,     -999.0,    33.6416,2,     -999.0,9,     -999.0,9,-999.0000,9,-999.0000,9,-999.0000,9,-999.0000,9,-999.0000,9,-999.0000,9,-999.0000,9,-999.0000,9,-999.0000,9,-999.0000,-999.000,  -0.7487,     -999.0,     -999.0,9,     -999.0,9,     -999.0,9,     -999.0,9,     -999.0,20110407,       0929
320620110219,       S04P,     112,          1,         33,         33,2,20110407,       0739,   -67.0003,  -117.3861,       4621,    74.1,  -1.5863,  33.9158,2,  33.9098,2,    328.8,2,   329.5,2,   42.17,2,   28.55,2,    0.22,2,    2.04,2,   5.778,2,   3.210,2,   0.607,2,   2.5300,2,  2179.6,2,  2289.0,2,   7.6431,2,    25.00,-999.000,9,-999.0000,9,-999.000,9,  -1.5866,2, -999.00,9,  -999.0,9,  -999.0,-999.000,9, -999.00,9,-999.000,9,   43.51,2,   32.83,2, -67.0003,-117.3862,-999.000,     -999.0,    34.0696,2,     -999.0,9,     -999.0,9,-999.0000,9,-999.0000,9,-999.0000,9,-999.0000,9,-999.0000,9,-999.0000,9,-999.0000,9,-999.0000,9,-999.0000,9,-999.0000,-999.000,  -1.5878,     -999.0,     -999.0,9,     -999.0,9,     -999.0,9,     -999.0,9,     -999.0,20110407,       0927
320620110219,       S04P,     112,          1,         32,         32,2,20110407,       0739,   -67.0003,  -117.3861,       4621,    98.4,  -1.5402,  33.9621,2,  33.9561,2,    324.8,2,   324.1,2,   42.52,2,   29.40,2,    0.18,2,    2.06,2,   5.646,2,   3.136,2,   0.584,2,   2.4510,2,  2182.9,2,  2291.3,2,   7.6346,2,    25.00,-999.000,9,-999.0000,9,-999.000,9,  -1.5352,2, -999.00,9,  -999.0,9,  -999.0,-999.000,9, -999.00,9,-999.000,9,   42.65,2,   33.60,2, -67.0003,-117.3862,-999.000,     -999.0,    34.1162,2,     -999.0,9,     -999.0,9,-999.0000,9,-999.0000,9,-999.0000,9,-999.0000,9,-999.0000,9,-999.0000,9,-999.0000,9,-999.0000,9,-999.0000,9,-999.0000,-999.000,  -1.5423,     -999.0,     -999.0,9,     -999.0,9,     -999.0,9,     -999.0,9,     -999.0,20110407,       0926
320620110219,       S04P,     112,          1,         31,         31,2,20110407,       0739,   -67.0003,  -117.3861,       4621,   150.0,  -0.1997,  34.1392,2,  34.1506,2,    308.8,2,   293.6,2,   51.55,2,   31.16,2,    0.03,2,    2.17,2,   4.779,2,   2.658,2,   0.492,2,   2.1090,2,  2203.9,2,  2303.4,2,   7.6117,2,    25.00,-999.000,9,-999.0000,9,-999.000,9,  -0.1835,2, -999.00,9,  -999.0,9,  -999.0,-999.000,9, -999.00,9,-999.000,9,   42.14,2,   34.81,2, -67.0003,-117.3862,-999.000,     -999.0,    34.3116,2,     -999.0,9,     -999.0,9,-999.0000,9,-999.0000,9,-999.0000,9,-999.0000,9,-999.0000,9,-999.0000,9,-999.0000,9,-999.0000,9,-999.0000,9,-999.0000,-999.000,  -0.2048,     -999.0,     -999.0,9,     -999.0,9,     -999.0,9,     -999.0,9,     -999.0,20110407,       0924
320620110219,       S04P,     112,          1,         30,         30,2,20110407,       0739,   -67.0003,  -117.3861,       4621,   199.9,   1.1856,  34.3859,2,  34.3820,2,    224.7,2,   219.2,2,   65.53,2,   33.51,2,    0.02,2,    2.33,2,-999.000,9,-999.000,9,-999.000,9,-999.0000,9,  2235.0,2,  2318.6,2,   7.5571,2,    25.00,-999.000,9,-999.0000,9,-999.000,9,   1.1866,2, -999.00,9,  -999.0,9,  -999.0,-999.000,9, -999.00,9,-999.000,9,   41.30,2,   36.69,2, -67.0003,-117.3862,-999.000,     -999.0,    34.5442,2,     -999.0,9,     -999.0,9,-999.0000,9,-999.0000,9,-999.0000,9,-999.0000,9,-999.0000,9,-999.0000,9,-999.0000,9,-999.0000,9,-999.0000,9,-999.0000,-999.000,   1.1763,     -999.0,     -999.0,9,     -999.0,9,     -999.0,9,     -999.0,9,     -999.0,20110407,       0923
320620110219,       S04P,     112,          1,         29,         29,2,20110407,       0739,   -67.0003,  -117.3861,       4621,   249.6,   1.7484,  34.5132,2,  34.5110,2,    189.5,2,   189.1,2,   72.76,2,   34.08,2,    0.02,2,    2.37,2,   1.550,2,   0.837,2,   0.142,2,   0.6090,2,  2248.9,2,  2328.4,2,   7.5413,2,    25.00,-999.000,9,-999.0000,9,-999.000,9,   1.7459,2, -999.00,9,  -999.0,9,  -999.0,-999.000,9, -999.00,9,-999.000,9,   40.60,2,   36.96,2, -67.0003,-117.3862,-999.000,     -999.0,    34.6737,2,     -999.0,9,     -999.0,9,-999.0000,9,-999.0000,9,-999.0000,9,-999.0000,9,-999.0000,9,-999.0000,9,-999.0000,9,-999.0000,9,-999.0000,9,-999.0000,-999.000,   1.7355,     -999.0,     -999.0,9,     -999.0,9,     -999.0,9,     -999.0,9,     -999.0,20110407,       0921
320620110219,       S04P,     112,          1,         28,         28,2,20110407,       0739,   -67.0003,  -117.3861,       4621,   300.9,   1.9145,  34.5708,2,  34.5743,2,    180.8,2,   180.7,2,   75.75,2,   33.78,2,    0.00,2,    2.35,2,   1.075,2,   0.565,2,   0.094,2,   0.3320,2,  2253.4,2,  2333.1,6,   7.5450,2,    25.00,-999.000,9,-999.0000,9,-999.000,9,   1.9138,2, -999.00,9,  -999.0,9,  -999.0,-999.000,9, -999.00,9,-999.000,9,   40.16,2,   36.72,2, -67.0003,-117.3862,-999.000,     -999.0,    34.7374,2,     -999.0,9,     -999.0,9,-999.0000,9,-999.0000,9,-999.0000,9,-999.0000,9,-999.0000,9,-999.0000,9,-999.0000,9,-999.0000,9,-999.0000,9,-999.0000,-999.000,   1.8984,     -999.0,     -999.0,9,     -999.0,9,     -999.0,9,     -999.0,9,     -999.0,20110407,       0919
320620110219,       S04P,     112,          1,         27,         27,2,20110407,       0739,   -67.0003,  -117.3861,       4621,   350.2,   1.9975,  34.6142,2,  34.6138,2,    176.5,2,   176.2,2,   77.82,2,   33.52,2,    0.00,2,    2.33,2,-999.000,9,-999.000,9,-999.000,9,-999.0000,9,  2254.3,2,  2337.2,2,   7.5486,2,    25.00,-999.000,9,-999.0000,9,-999.000,9,   1.9978,2, -999.00,9,  -999.0,9,  -999.0,-999.000,9, -999.00,9,-999.000,9,   39.95,2,   36.37,2, -67.0003,-117.3862,-999.000,     -999.0,    34.7770,2,     -999.0,9,     -999.0,9,-999.0000,9,-999.0000,9,-999.0000,9,-999.0000,9,-999.0000,9,-999.0000,9,-999.0000,9,-999.0000,9,-999.0000,9,-999.0000,-999.000,   1.9783,     -999.0,     -999.0,9,     -999.0,9,     -999.0,9,     -999.0,9,     -999.0,20110407,       0917
320620110219,       S04P,     112,          1,         26,         26,2,20110407,       0739,   -67.0003,  -117.3861,       4621,   399.5,   2.0461,  34.6397,2,  34.6387,2,    174.1,2,   175.0,2,   78.98,2,   33.25,2,    0.00,2,    2.30,2,   0.647,2,   0.330,2,   0.049,2,   0.1970,2,  2254.5,2,  2339.2,2,   7.5551,2,    25.00,-999.000,9,-999.0000,9,-999.000,9,   2.0456,2, -999.00,9,  -999.0,9,  -999.0,-999.000,9, -999.00,9,-999.000,9,   40.02,2,   36.08,2, -67.0003,-117.3862,-999.000,     -999.0,    34.8021,2,     -999.0,9,     -999.0,9,-999.0000,9,-999.0000,9,-999.0000,9,-999.0000,9,-999.0000,9,-999.0000,9,-999.0000,9,-999.0000,9,-999.0000,9,-999.0000,-999.000,   2.0239,     -999.0,     -999.0,9,     -999.0,9,     -999.0,9,     -999.0,9,     -999.0,20110407,       0915
320620110219,       S04P,     112,          1,         25,         25,2,20110407,       0739,   -67.0003,  -117.3861,       4621,   499.4,   2.0416,  34.6781,2,  34.6768,2,    176.4,2,   176.6,2,   81.26,2,   32.53,2,    0.00,2,    2.26,2,-999.000,9,-999.000,9,-999.000,9,-999.0000,9,  2253.3,2,  2342.6,2,   7.5685,2,    25.00,-999.000,9,-999.0000,9,-999.000,9,   2.0414,2, -999.00,9,  -999.0,9,  -999.0,-999.000,9, -999.00,9,-999.000,9,   40.26,2,   35.24,2, -67.0003,-117.3861,-999.000,     -999.0,    34.8403,2,     -999.0,9,     -999.0,9,-999.0000,9,-999.0000,9,-999.0000,9,-999.0000,9,-999.0000,9,-999.0000,9,-999.0000,9,-999.0000,9,-999.0000,9,-999.0000,-999.000,   2.0134,     -999.0,     -999.0,9,     -999.0,9,     -999.0,9,     -999.0,9,     -999.0,20110407,       0912
320620110219,       S04P,     112,          1,         24,         24,2,20110407,       0739,   -67.0003,  -117.3861,       4621,   598.9,   1.9869,  34.7005,2,  34.6997,2,    179.3,2,   179.5,2,   83.27,2,   32.00,2,    0.00,2,    2.23,2,   0.352,2,   0.174,2,   0.024,2,   0.0930,2,  2252.7,2,  2345.5,2,   7.5794,2,    25.00,-999.000,9,-999.0000,9,-999.000,9,   1.9870,2, -999.00,9,  -999.0,9,  -999.0,-999.000,9, -999.00,9,-999.000,9,   40.26,2,   34.59,2, -67.0003,-117.3862,-999.000,     -999.0,    34.8634,2,     -999.0,9,     -999.0,9,-999.0000,9,-999.0000,9,-999.0000,9,-999.0000,9,-999.0000,9,-999.0000,9,-999.0000,9,-999.0000,9,-999.0000,9,-999.0000,-999.000,   1.9528,     -999.0,     -999.0,9,     -999.0,9,     -999.0,9,     -999.0,9,     -999.0,20110407,       0909
320620110219,       S04P,     112,          1,         23,         23,2,20110407,       0739,   -67.0003,  -117.3861,       4621,   700.0,   1.9106,  34.7128,2,  34.7125,2,    182.5,2,   182.3,2,   85.49,2,   31.72,2,    0.00,2,    2.21,2,-999.000,9,-999.000,9,-999.000,9,-999.0000,9,  -999.0,9,  -999.0,9,-999.0000,9,  -999.00,-999.000,9,-999.0000,9,-999.000,9,   1.9103,2, -999.00,9,  -999.0,9,  -999.0,-999.000,9, -999.00,9,-999.000,9,   40.68,2,   34.13,2, -67.0003,-117.3861,-999.000,     -999.0,    34.8762,2,     -999.0,9,     -999.0,9,-999.0000,9,-999.0000,9,-999.0000,9,-999.0000,9,-999.0000,9,-999.0000,9,-999.0000,9,-999.0000,9,-999.0000,9,-999.0000,-999.000,   1.8705,     -999.0,     -999.0,9,     -999.0,9,     -999.0,9,     -999.0,9,     -999.0,20110407,       0907
320620110219,       S04P,     112,          1,         22,         22,2,20110407,       0739,   -67.0003,  -117.3861,       4621,   800.0,   1.8496,  34.7222,2,  34.7219,2,    185.9,2,   185.7,2,   86.95,2,   31.57,2,    0.00,2,    2.19,2,   0.254,2,   0.124,2,   0.017,2,   0.0660,2,  2252.6,2,  2349.3,2,   7.5894,2,    25.00,-999.000,9,-999.0000,9,-999.000,9,   1.8496,2, -999.00,9,  -999.0,9,  -999.0,-999.000,9, -999.00,9,-999.000,9,   40.53,2,   34.38,2, -67.0003,-117.3861,-999.000,     -999.0,    34.8856,2,     -999.0,9,     -999.0,9,-999.0000,9,-999.0000,9,-999.0000,9,-999.0000,9,-999.0000,9,-999.0000,9,-999.0000,9,-999.0000,9,-999.0000,9,-999.0000,-999.000,   1.8035,     -999.0,     -999.0,9,     -999.0,9,     -999.0,9,     -999.0,9,     -999.0,20110407,       0904
320620110219,       S04P,     112,          1,         21,         21,2,20110407,       0739,   -67.0003,  -117.3861,       4621,   900.5,   1.7671,  34.7286,2,  34.7286,2,    188.3,2,   188.8,2,   89.28,2,   31.39,2,    0.00,2,    2.18,2,-999.000,9,-999.000,9,-999.000,9,-999.0000,9,  -999.0,9,  -999.0,9,-999.0000,9,  -999.00,-999.000,9,-999.0000,9,-999.000,9,   1.7669,2, -999.00,9,  -999.0,9,  -999.0,-999.000,9, -999.00,9,-999.000,9,   40.44,2,   34.33,2, -67.0003,-117.3862,-999.000,     -999.0,    34.8923,2,     -999.0,9,     -999.0,9,-999.0000,9,-999.0000,9,-999.0000,9,-999.0000,9,-999.0000,9,-999.0000,9,-999.0000,9,-999.0000,9,-999.0000,9,-999.0000,-999.000,   1.7151,     -999.0,     -999.0,9,     -999.0,9,     -999.0,9,     -999.0,9,     -999.0,20110407,       0902
320620110219,       S04P,     112,          1,         20,         20,2,20110407,       0739,   -67.0003,  -117.3861,       4621,  1000.9,   1.6890,  34.7321,2,  34.7323,2,    191.1,2,   190.4,2,   91.18,2,   31.31,2,    0.00,2,    2.16,2,   0.219,2,   0.107,2,   0.015,2,   0.0610,2,  2252.5,2,  2351.6,2,   7.5976,6,    25.00,-999.000,9,-999.0000,9,-999.000,9,   1.6878,2, -999.00,9,  -999.0,9,  -999.0,-999.000,9, -999.00,9,-999.000,9,   40.58,2,   34.17,2, -67.0003,-117.3862,-999.000,     -999.0,    34.8961,2,     -999.0,9,     -999.0,9,-999.0000,9,-999.0000,9,-999.0000,9,-999.0000,9,-999.0000,9,-999.0000,9,-999.0000,9,-999.0000,9,-999.0000,9,-999.0000,-999.000,   1.6310,     -999.0,     -999.0,9,     -999.0,9,     -999.0,9,     -999.0,9,     -999.0,20110407,       0859
320620110219,       S04P,     112,          1,         19,         19,2,20110407,       0739,   -67.0003,  -117.3861,       4621,  1100.0,   1.6096,  34.7332,2,  34.7337,2,    192.3,2,   192.4,2,   93.77,2,   31.16,2,    0.00,2,    2.17,2,-999.000,9,-999.000,9,-999.000,9,-999.0000,9,  -999.0,9,  -999.0,9,-999.0000,9,  -999.00,-999.000,9,-999.0000,9,-999.000,9,   1.6083,2, -999.00,9,  -999.0,9,  -999.0,-999.000,9, -999.00,9,-999.000,9,   40.56,2,   33.80,2, -67.0003,-117.3861,-999.000,     -999.0,    34.8974,2,     -999.0,9,     -999.0,9,-999.0000,9,-999.0000,9,-999.0000,9,-999.0000,9,-999.0000,9,-999.0000,9,-999.0000,9,-999.0000,9,-999.0000,9,-999.0000,-999.000,   1.5456,     -999.0,     -999.0,9,     -999.0,9,     -999.0,9,     -999.0,9,     -999.0,20110407,       0857
320620110219,       S04P,     112,          1,         18,         18,2,20110407,       0739,   -67.0003,  -117.3861,       4621,  1199.8,   1.5261,  34.7327,2,  34.7321,2,    193.5,2,   192.7,2,   96.31,2,   31.29,2,    0.00,2,    2.17,2,   0.186,2,   0.093,2,   0.010,2,   0.0260,2,  2253.9,6,  2355.1,2,   7.6007,2,    25.00,-999.000,9,-999.0000,9,-999.000,9,   1.5249,2, -999.00,9,  -999.0,9,  -999.0,-999.000,9, -999.00,9,-999.000,9,   40.47,2,   33.71,2, -67.0003,-117.3862,-999.000,     -999.0,    34.8959,2,     -999.0,9,     -999.0,9,-999.0000,9,-999.0000,9,-999.0000,9,-999.0000,9,-999.0000,9,-999.0000,9,-999.0000,9,-999.0000,9,-999.0000,9,-999.0000,-999.000,   1.4561,     -999.0,     -999.0,9,     -999.0,9,     -999.0,9,     -999.0,9,     -999.0,20110407,       0854
320620110219,       S04P,     112,          1,         17,         17,2,20110407,       0739,   -67.0003,  -117.3861,       4621,  1300.7,   1.4471,  34.7315,2,  34.7313,2,    194.4,2,   194.2,2,   98.73,2,   31.29,2,    0.00,2,    2.17,2,-999.000,9,-999.000,9,-999.000,9,-999.0000,9,  -999.0,9,  -999.0,9,-999.0000,9,  -999.00,-999.000,9,-999.0000,9,-999.000,9,   1.4469,2, -999.00,9,  -999.0,9,  -999.0,-999.000,9, -999.00,9,-999.000,9,   40.23,2,   33.82,2, -67.0003,-117.3862,-999.000,     -999.0,    34.8951,2,     -999.0,9,     -999.0,9,-999.0000,9,-999.0000,9,-999.0000,9,-999.0000,9,-999.0000,9,-999.0000,9,-999.0000,9,-999.0000,9,-999.0000,9,-999.0000,-999.000,   1.3710,     -999.0,     -999.0,9,     -999.0,9,     -999.0,9,     -999.0,9,     -999.0,20110407,       0851
320620110219,       S04P,     112,          1,         16,         16,2,20110407,       0739,   -67.0003,  -117.3861,       4621,  1400.0,   1.3659,  34.7299,2,  34.7299,2,    195.7,2,   195.6,2,  101.26,2,   31.46,2,    0.00,2,    2.18,2,   0.163,2,   0.079,2,   0.009,2,   0.0290,2,  2256.0,2,  2357.5,2,   7.6019,2,    25.00,-999.000,9,-999.0000,9,-999.000,9,   1.3661,2, -999.00,9,  -999.0,9,  -999.0,-999.000,9, -999.00,9,-999.000,9,   40.15,2,   34.16,2, -67.0003,-117.3862,-999.000,     -999.0,    34.8937,2,     -999.0,9,     -999.0,9,-999.0000,9,-999.0000,9,-999.0000,9,-999.0000,9,-999.0000,9,-999.0000,9,-999.0000,9,-999.0000,9,-999.0000,9,-999.0000,-999.000,   1.2837,     -999.0,     -999.0,9,     -999.0,9,     -999.0,9,     -999.0,9,     -999.0,20110407,       0849
320620110219,       S04P,     112,          1,         15,         15,2,20110407,       0739,   -67.0003,  -117.3861,       4621,  1500.5,   1.3043,  34.7283,2,  34.7281,2,    196.2,2,   197.2,2,  103.10,2,   31.58,2,    0.00,2,    2.18,2,-999.000,9,-999.000,9,-999.000,9,-999.0000,9,  -999.0,9,  -999.0,9,-999.0000,9,  -999.00,-999.000,9,-999.0000,9,-999.000,9,   1.3055,2, -999.00,9,  -999.0,9,  -999.0,-999.000,9, -999.00,9,-999.000,9,   40.26,2,   33.71,2, -67.0003,-117.3862,-999.000,     -999.0,    34.8919,2,     -999.0,9,     -999.0,9,-999.0000,9,-999.0000,9,-999.0000,9,-999.0000,9,-999.0000,9,-999.0000,9,-999.0000,9,-999.0000,9,-999.0000,9,-999.0000,-999.000,   1.2157,     -999.0,     -999.0,9,     -999.0,9,     -999.0,9,     -999.0,9,     -999.0,20110407,       0846
320620110219,       S04P,     112,          1,         14,         14,2,20110407,       0739,   -67.0003,  -117.3861,       4621,  1600.0,   1.2333,  34.7263,2,  34.7258,2,    197.1,2,   197.5,2,  105.44,2,   31.64,2,    0.00,2,    2.19,2,   0.148,2,   0.073,2,   0.008,2,   0.0460,2,  2257.4,2,  2359.4,2,   7.6019,2,    25.00,-999.000,9,-999.0000,9,-999.000,9,   1.2340,2, -999.00,9,  -999.0,9,  -999.0,-999.000,9, -999.00,9,-999.000,9,   39.50,2,   33.77,2, -67.0003,-117.3862,-999.000,     -999.0,    34.8895,2,     -999.0,9,     -999.0,9,-999.0000,9,-999.0000,9,-999.0000,9,-999.0000,9,-999.0000,9,-999.0000,9,-999.0000,9,-999.0000,9,-999.0000,9,-999.0000,-999.000,   1.1384,     -999.0,     -999.0,9,     -999.0,9,     -999.0,9,     -999.0,9,     -999.0,20110407,       0844