BOTTLE,20220813CCHSIOAMB
EXPOCODE,SECT_ID,STNNBR,CASTNO,SAMPNO,BTLNBR,BTLNBR_FLAG_W,DATE,TIME,LATITUDE,LONGITUDE,DEPTH,CTDPRS,CTDTMP,CTDSAL,CTDSAL_FLAG_W,SALNTY,SALNTY_FLAG_W,CTDOXY,CTDOXY_FLAG_W,OXYGEN,OXYGEN_FLAG_W,SILCAT,SILCAT_FLAG_W,NITRAT,NITRAT_FLAG_W,NITRIT,NITRIT_FLAG_W,PHSPHT,PHSPHT_FLAG_W,CFC-11,CFC-11_FLAG_W,CFC-12,CFC-12_FLAG_W,CFC113,CFC113_FLAG_W,SF6,SF6_FLAG_W,TCARBN,TCARBN_FLAG_W,ALKALI,ALKALI_FLAG_W,PH_TOT,PH_TOT_FLAG_W,PH_TMP,TRITUM,TRITUM_FLAG_W,HELIUM,HELIUM_FLAG_W,DELHE3,DELHE3_FLAG_W,REFTMP,REFTMP_FLAG_W,DELC13,DELC13_FLAG_W,DELC14,DELC14_FLAG_W,C14ERR,NEON,NEON_FLAG_W,DELO18,DELO18_FLAG_W,POC,POC_FLAG_W,DOC,DOC_FLAG_W,TDN,TDN_FLAG_W,BTL_LAT,BTL_LON,TRITER,NEONER,SALTREF,SALTREF_FLAG_W,PIGMENTS,PIGMENTS_FLAG_W,LAB_DEN,LAB_DEN_FLAG_W,CDOM325,CDOM325_FLAG_W,CDOM340,CDOM340_FLAG_W,CDOM380,CDOM380_FLAG_W,CDOM412,CDOM412_FLAG_W,CDOM443,CDOM443_FLAG_W,CDOM490,CDOM490_FLAG_W,CDOM555,CDOM555_FLAG_W,CDOMSL,CDOMSL_FLAG_W,CDOMSN,CDOMSN_FLAG_W,HELIER,DELHER,THETA,LDEO_SAMPNO,ABSORBTION,ABSORBTION_FLAG_W,IMAGE_COUNT,IMAGE_COUNT_FLAG_W,CYTO_COUNT,CYTO_COUNT_FLAG_W,DELD,DELD_FLAG_W,DELDERR,BTL_DATE,BTL_TIME
,,,,,,,,,,,METERS,DBAR,ITS-90,PSS-78,,PSS-78,,UMOL/KG,,UMOL/KG,,UMOL/KG,,UMOL/KG,,UMOL/KG,,UMOL/KG,,PMOL/KG,,PMOL/KG,,PMOL/KG,,FMOL/KG,,UMOL/KG,,UMOL/KG,,,,DEG C,TU,,NMOL/KG,,PERCNT,,DEG C,,/MILLE,,/MILLE,,/MILLE,NMOL/KG,,/MILLE,,UG/KG,,UMOL/KG,,UMOL/KG,,,,TU,NMOL/KG,G/KG,,,,,,1/M,,1/M,,1/M,,1/M,,1/M,,1/M,,1/M,,1/NM,,1/NM,,NMOL/KG,PERCNT,DEG C,,,,,,,,/MILLE,,/MILLE,,
320620110219,       P15S,      79,          1,         20,         20,2,20110323,       1308,   -74.4515,  -176.8803,        767,     6.9,  -1.6629,  33.9543,2,  33.9542,2,    338.9,2,   339.3,2,   60.19,2,   25.92,2,    0.09,2,    1.84,2,   6.037,2,   3.251,2,   0.611,2,   2.6160,2,  2182.3,2,  2300.1,6,   7.6686,2,    25.00,-999.000,9,-999.0000,9,-999.000,9,  -1.6644,2, -999.00,9,  -999.0,9,  -999.0,-999.000,9, -999.00,9,-999.000,9,   45.62,2,   30.58,2, -74.4512,-176.8777,-999.000,     -999.0,    34.1143,2,     -999.0,9,     -999.0,9,-999.0000,9,-999.0000,9,-999.0000,9,-999.0000,9,-999.0000,9,-999.0000,9,-999.0000,9,-999.0000,9,-999.0000,9,-999.0000,-999.000,  -1.6630,     -999.0,     -999.0,9,     -999.0,9,     -999.0,9,     -999.0,9,     -999.0,20110323,       1340
320620110219,       P15S,      79,          1,         19,         19,2,20110323,       1308,   -74.4515,  -176.8803,        767,    19.8,  -1.6623,  33.9542,2,  33.9538,2,    338.9,2,   339.3,2,   60.42,2,   26.01,2,    0.09,2,    1.85,2,   5.991,2,   3.226,2,   0.591,2,   2.6530,2,  2182.3,2,  2299.8,2,   7.6688,6,    25.00,-999.000,9,-999.0000,9,-999.000,9,  -1.6623,2, -999.00,9,  -999.0,9,  -999.0,-999.000,9, -999.00,9,-999.000,9,   44.60,2,   30.32,2, -74.4512,-176.8781,-999.000,     -999.0,    34.1139,2,     -999.0,9,     -999.0,9,-999.0000,9,-999.0000,9,-999.0000,9,-999.0000,9,-999.0000,9,-999.0000,9,-999.0000,9,-999.0000,9,-999.0000,9,-999.0000,-999.000,  -1.6627,     -999.0,     -999.0,9,     -999.0,9,     -999.0,9,     -999.0,9,     -999.0,20110323,       1338
320620110219,       P15S,      79,          1,         18,         18,2,20110323,       1308,   -74.4515,  -176.8803,        767,    40.8,  -1.6625,  33.9558,2,  33.9547,2,    338.5,2,   338.2,2,   60.18,2,   26.01,2,    0.09,2,    1.86,2,   5.942,2,   3.239,2,   0.587,2,   2.6660,2,  2181.9,6,  2300.7,2,   7.6680,2,    25.00,-999.000,9,-999.0000,9,-999.000,9,  -1.6623,2, -999.00,9,  -999.0,9,  -999.0,-999.000,9, -999.00,9,-999.000,9,   44.38,2,   30.44,2, -74.4512,-176.8778,-999.000,     -999.0,    34.1148,2,     -999.0,9,     -999.0,9,-999.0000,9,-999.0000,9,-999.0000,9,-999.0000,9,-999.0000,9,-999.0000,9,-999.0000,9,-999.0000,9,-999.0000,9,-999.0000,-999.000,  -1.6633,     -999.0,     -999.0,9,     -999.0,9,     -999.0,9,     -999.0,9,     -999.0,20110323,       1337
320620110219,       P15S,      79,          1,         17,         17,2,20110323,       1308,   -74.4515,  -176.8803,        767,    66.0,  -1.6601,  33.9759,2,  33.9780,2,    338.8,2,   331.9,2,   60.93,2,   26.52,2,    0.10,2,    1.89,2,   5.790,2,   3.142,2,   0.568,2,   2.5770,2,  2186.0,2,  2301.0,2,   7.6612,2,    25.00,-999.000,9,-999.0000,9,-999.000,9,  -1.6598,2, -999.00,9,  -999.0,9,  -999.0,-999.000,9, -999.00,9,-999.000,9,   44.19,2,   30.06,2, -74.4512,-176.8776,-999.000,     -999.0,    34.1382,2,     -999.0,9,     -999.0,9,-999.0000,9,-999.0000,9,-999.0000,9,-999.0000,9,-999.0000,9,-999.0000,9,-999.0000,9,-999.0000,9,-999.0000,9,-999.0000,-999.000,  -1.6614,     -999.0,     -999.0,9,     -999.0,9,     -999.0,9,     -999.0,9,     -999.0,20110323,       1336
320620110219,       P15S,      79,          1,         16,         16,2,20110323,       1308,   -74.4515,  -176.8803,        767,    89.0,  -1.6500,  34.1498,2,  34.1463,2,    327.5,2,   289.8,2,   67.23,2,   30.05,2,    0.11,2,    2.08,2,   4.523,2,   2.406,2,   0.429,2,   1.8130,2,  2210.2,2,  2308.4,2,   7.6067,2,    25.00,-999.000,9,-999.0000,9,-999.000,9,  -1.6491,2, -999.00,9,  -999.0,9,  -999.0,-999.000,9, -999.00,9,-999.000,9,   43.06,2,   33.40,2, -74.4512,-176.8775,-999.000,     -999.0,    34.3073,2,     -999.0,9,     -999.0,9,-999.0000,9,-999.0000,9,-999.0000,9,-999.0000,9,-999.0000,9,-999.0000,9,-999.0000,9,-999.0000,9,-999.0000,9,-999.0000,-999.000,  -1.6518,     -999.0,     -999.0,9,     -999.0,9,     -999.0,9,     -999.0,9,     -999.0,20110323,       1334
320620110219,       P15S,      79,          1,         15,         15,2,20110323,       1308,   -74.4515,  -176.8803,        767,   116.8,  -1.3699,  34.2060,2,  34.2052,2,    277.7,2,   276.9,2,   70.35,2,   30.82,2,    0.06,2,    2.12,2,   4.050,2,   2.155,2,   0.406,2,   1.6330,2,  2216.5,2,  2311.3,2,   7.6002,2,    25.00,-999.000,9,-999.0000,9,-999.000,9,  -1.3695,2, -999.00,9,  -999.0,9,  -999.0,-999.000,9, -999.00,9,-999.000,9,   42.62,2,   33.63,2, -74.4511,-176.8772,-999.000,     -999.0,    34.3665,2,     -999.0,9,     -999.0,9,-999.0000,9,-999.0000,9,-999.0000,9,-999.0000,9,-999.0000,9,-999.0000,9,-999.0000,9,-999.0000,9,-999.0000,9,-999.0000,-999.000,  -1.3727,     -999.0,     -999.0,9,     -999.0,9,     -999.0,9,     -999.0,9,     -999.0,20110323,       1333
320620110219,       P15S,      79,          1,         14,         14,2,20110323,       1308,   -74.4515,  -176.8803,        767,   140.1,  -0.9592,  34.2638,2,  34.2610,2,    261.4,2,   261.7,2,   73.02,2,   31.22,2,    0.03,2,    2.14,2,   3.524,2,   1.870,2,   0.320,2,   1.3860,2,  2222.3,2,  2318.5,2,   7.5919,2,    25.00,-999.000,9,-999.0000,9,-999.000,9,  -0.9600,2, -999.00,9,  -999.0,9,  -999.0,-999.000,9, -999.00,9,-999.000,9,   41.64,2,   33.50,2, -74.4511,-176.8771,-999.000,     -999.0,    34.4225,2,     -999.0,9,     -999.0,9,-999.0000,9,-999.0000,9,-999.0000,9,-999.0000,9,-999.0000,9,-999.0000,9,-999.0000,9,-999.0000,9,-999.0000,9,-999.0000,-999.000,  -0.9630,     -999.0,     -999.0,9,     -999.0,9,     -999.0,9,     -999.0,9,     -999.0,20110323,       1332
320620110219,       P15S,      79,          1,         13,         13,2,20110323,       1308,   -74.4515,  -176.8803,        767,   165.4,  -0.4697,  34.3323,2,  34.3305,2,    247.8,2,   246.5,2,   75.50,2,   31.72,2,    0.01,2,    2.17,2,   3.005,2,   1.608,2,   0.278,2,   1.2150,2,  2228.4,2,  2321.0,2,   7.5835,2,    25.00,-999.000,9,-999.0000,9,-999.000,9,  -0.4693,2, -999.00,9,  -999.0,9,  -999.0,-999.000,9, -999.00,9,-999.000,9,   41.19,2,   34.32,2, -74.4511,-176.8774,-999.000,     -999.0,    34.4924,2,     -999.0,9,     -999.0,9,-999.0000,9,-999.0000,9,-999.0000,9,-999.0000,9,-999.0000,9,-999.0000,9,-999.0000,9,-999.0000,9,-999.0000,9,-999.0000,-999.000,  -0.4750,     -999.0,     -999.0,9,     -999.0,9,     -999.0,9,     -999.0,9,     -999.0,20110323,       1330
320620110219,       P15S,      79,          1,         12,         12,2,20110323,       1308,   -74.4515,  -176.8803,        767,   191.8,  -0.2935,  34.3606,2,  34.3559,2,    239.1,2,   240.6,2,   76.33,2,   31.82,2,    0.01,2,    2.19,2,   2.807,2,   1.496,2,   0.257,2,   1.1620,2,  2230.9,2,  2320.6,2,   7.5817,2,    25.00,-999.000,9,-999.0000,9,-999.000,9,  -0.2956,2, -999.00,9,  -999.0,9,  -999.0,-999.000,9,   -0.36,2,-999.000,9,   40.20,2,   34.21,2, -74.4512,-176.8781,-999.000,     -999.0,    34.5180,2,     -999.0,9,     -999.0,9,-999.0000,9,-999.0000,9,-999.0000,9,-999.0000,9,-999.0000,9,-999.0000,9,-999.0000,9,-999.0000,9,-999.0000,9,-999.0000,-999.000,  -0.3000,     -999.0,     -999.0,9,     -999.0,9,     -999.0,9,      -4.64,2,       0.26,20110323,       1329
320620110219,       P15S,      79,          1,         11,         11,2,20110323,       1308,   -74.4515,  -176.8803,        767,   215.5,   0.1066,  34.4386,2,  34.4237,2,    229.9,2,   228.9,2,   79.87,2,   32.05,2,    0.00,2,    2.21,2,   2.344,2,   1.241,2,   0.220,2,   1.0300,2,  2236.5,2,  2329.5,2,   7.5780,2,    25.00,-999.000,9,-999.0000,9,-999.000,9,   0.1074,2, -999.00,9,  -999.0,9,  -999.0,-999.000,9,   -0.35,2,-999.000,9,   40.11,2,   34.46,2, -74.4513,-176.8784,-999.000,     -999.0,    34.5861,2,     -999.0,9,     -999.0,9,-999.0000,9,-999.0000,9,-999.0000,9,-999.0000,9,-999.0000,9,-999.0000,9,-999.0000,9,-999.0000,9,-999.0000,9,-999.0000,-999.000,   0.0985,     -999.0,     -999.0,9,     -999.0,9,     -999.0,9,      -4.53,2,       0.11,20110323,       1327
320620110219,       P15S,      79,          1,         10,         37,2,20110323,       1308,   -74.4515,  -176.8803,        767,   239.6,   0.2737,  34.4728,2,  34.4718,2,    221.9,2,   221.7,2,   82.15,2,   32.27,2,    0.00,2,    2.22,2,-999.000,9,-999.000,9,-999.000,9,-999.0000,9,  2239.9,2,  2329.2,2,   7.5776,2,    25.00,-999.000,9,-999.0000,9,-999.000,9,   0.2731,2, -999.00,9,  -999.0,9,  -999.0,-999.000,9,   -0.40,2,-999.000,9,   40.00,2,   34.68,2, -74.4513,-176.8785,-999.000,     -999.0,    34.6343,2,     -999.0,9,     -999.0,9,-999.0000,9,-999.0000,9,-999.0000,9,-999.0000,9,-999.0000,9,-999.0000,9,-999.0000,9,-999.0000,9,-999.0000,9,-999.0000,-999.000,   0.2643,     -999.0,     -999.0,9,     -999.0,9,     -999.0,9,      -4.67,2,       0.25,20110323,       1326
320620110219,       P15S,      79,          1,          9,          9,2,20110323,       1308,   -74.4515,  -176.8803,        767,   283.4,   0.6416,  34.5490,2,  34.5472,2,    210.8,2,   209.9,2,   86.30,2,   32.54,2,    0.00,2,    2.23,2,   1.513,2,   0.804,2,   0.135,2,   0.6830,2,  2246.7,2,  2335.1,2,   7.5749,2,    25.00,-999.000,9,-999.0000,9,-999.000,9,   0.6430,2, -999.00,9,  -999.0,9,  -999.0,-999.000,9,   -0.35,2,-999.000,9,   39.96,2,   35.11,2, -74.4513,-176.8787,-999.000,     -999.0,    34.7101,2,     -999.0,9,     -999.0,9,-999.0000,9,-999.0000,9,-999.0000,9,-999.0000,9,-999.0000,9,-999.0000,9,-999.0000,9,-999.0000,9,-999.0000,9,-999.0000,-999.000,   0.6294,     -999.0,     -999.0,9,     -999.0,9,     -999.0,9,      -4.28,2,       0.34,20110323,       1324
320620110219,       P15S,      79,          1,          8,          8,2,20110323,       1308,   -74.4515,  -176.8803,        767,   335.1,   0.8944,  34.5996,2,  34.5966,2,    201.9,2,   202.7,2,   88.71,2,   32.49,2,    0.00,2,    2.23,2,   1.197,2,   0.639,2,   0.101,2,   0.4410,2,  2249.8,2,  2339.3,2,   7.5728,2,    25.00,-999.000,9,-999.0000,9,-999.000,9,   0.8979,2, -999.00,9,  -999.0,9,  -999.0,-999.000,9,   -0.51,2,-999.000,9,   40.12,2,   35.12,2, -74.4513,-176.8784,-999.000,     -999.0,    34.7598,2,     -999.0,9,     -999.0,9,-999.0000,9,-999.0000,9,-999.0000,9,-999.0000,9,-999.0000,9,-999.0000,9,-999.0000,9,-999.0000,9,-999.0000,9,-999.0000,-999.000,   0.8791,     -999.0,     -999.0,9,     -999.0,9,     -999.0,9,      -4.88,2,       0.46,20110323,       1322
320620110219,       P15S,      79,          1,          7,          7,2,20110323,       1308,   -74.4515,  -176.8803,        767,   384.8,   1.0864,  34.6401,2,  34.6388,2,    194.5,2,   195.5,2,   91.59,2,   32.54,2,    0.00,2,    2.23,2,   0.867,2,   0.455,2,   0.075,2,   0.3920,2,  2252.7,2,  2341.7,2,   7.5746,2,    25.00,-999.000,9,-999.0000,9,-999.000,9,   1.0855,2, -999.00,9,  -999.0,9,  -999.0,-999.000,9,   -0.36,2,-999.000,9,   39.84,2,   35.10,2, -74.4513,-176.8789,-999.000,     -999.0,    34.8021,2,     -999.0,9,     -999.0,9,-999.0000,9,-999.0000,9,-999.0000,9,-999.0000,9,-999.0000,9,-999.0000,9,-999.0000,9,-999.0000,9,-999.0000,9,-999.0000,-999.000,   1.0680,     -999.0,     -999.0,9,     -999.0,9,     -999.0,9,      -3.11,2,       0.12,20110323,       1320
320620110219,       P15S,      79,          1,          6,          6,2,20110323,       1308,   -74.4515,  -176.8803,        767,   434.2,   1.1792,  34.6672,2,  34.6671,2,    192.3,2,   193.1,2,   93.73,2,   32.49,2,    0.00,2,    2.23,2,   0.677,2,   0.355,2,   0.053,2,   0.3190,2,  2254.7,2,  2345.1,2,   7.5757,2,    25.00,-999.000,9,-999.0000,9,-999.000,9,   1.1786,2, -999.00,9,  -999.0,9,  -999.0,-999.000,9,   -0.18,2,-999.000,9,   40.16,2,   35.84,2, -74.4513,-176.8792,-999.000,     -999.0,    34.8305,2,     -999.0,9,     -999.0,9,-999.0000,9,-999.0000,9,-999.0000,9,-999.0000,9,-999.0000,9,-999.0000,9,-999.0000,9,-999.0000,9,-999.0000,9,-999.0000,-999.000,   1.1580,     -999.0,     -999.0,9,     -999.0,9,     -999.0,9,      -2.44,2,       0.24,20110323,       1318
320620110219,       P15S,      79,          1,          5,          5,2,20110323,       1308,   -74.4515,  -176.8803,        767,   486.7,   1.2061,  34.6894,2,  34.6876,2,    193.6,2,   192.0,2,   96.34,2,   32.49,2,    0.00,2,    2.23,2,   0.539,2,   0.282,2,   0.042,2,   0.1960,2,  2257.1,2,  2348.5,2,   7.5768,2,    25.00,-999.000,9,-999.0000,9,-999.000,9,   1.2045,2, -999.00,9,  -999.0,9,  -999.0,-999.000,9,   -0.14,2,-999.000,9,   39.99,2,   35.06,2, -74.4513,-176.8790,-999.000,     -999.0,    34.8512,2,     -999.0,9,     -999.0,9,-999.0000,9,-999.0000,9,-999.0000,9,-999.0000,9,-999.0000,9,-999.0000,9,-999.0000,9,-999.0000,9,-999.0000,9,-999.0000,-999.000,   1.1819,     -999.0,     -999.0,9,     -999.0,9,     -999.0,9,      -2.25,2,       0.13,20110323,       1316
320620110219,       P15S,      79,          1,          4,          4,2,20110323,       1308,   -74.4515,  -176.8803,        767,   562.2,   1.0799,  34.7002,2,  34.7019,2,    194.9,2,   193.9,2,  101.05,2,   32.41,2,    0.00,2,    2.22,2,   0.749,2,-999.000,9,   0.066,2,   0.2600,2,  2258.9,2,  2350.7,2,   7.5793,2,    25.00,-999.000,9,-999.0000,9,-999.000,9,   1.0819,2, -999.00,9,  -999.0,9,  -999.0,-999.000,9,   -0.19,2,-999.000,9,   39.81,2,   35.37,2, -74.4513,-176.8791,-999.000,     -999.0,    34.8656,2,     -999.0,9,     -999.0,9,-999.0000,9,-999.0000,9,-999.0000,9,-999.0000,9,-999.0000,9,-999.0000,9,-999.0000,9,-999.0000,9,-999.0000,9,-999.0000,-999.000,   1.0522,     -999.0,     -999.0,9,     -999.0,9,     -999.0,9,      -2.65,2,       0.39,20110323,       1314
320620110219,       P15S,      79,          1,          3,          3,2,20110323,       1308,   -74.4515,  -176.8803,        767,   664.2,   0.2537,  34.6638,2,  34.6611,2,    223.5,2,   218.3,2,   98.55,2,   32.41,2,    0.04,3,    2.21,2,   1.490,2,   0.790,2,   0.121,2,   0.6140,2,  2255.5,2,  2349.7,6,   7.5869,2,    25.00,-999.000,9,-999.0000,9,-999.000,9,   0.2512,2, -999.00,9,  -999.0,9,  -999.0,-999.000,9,   -0.16,2,-999.000,9,   40.05,2,   34.48,2, -74.4514,-176.8796,-999.000,     -999.0,    34.8246,2,     -999.0,9,     -999.0,9,-999.0000,9,-999.0000,9,-999.0000,9,-999.0000,9,-999.0000,9,-999.0000,9,-999.0000,9,-999.0000,9,-999.0000,9,-999.0000,-999.000,   0.2249,     -999.0,     -999.0,9,     -999.0,9,     -999.0,9,      -1.98,2,       0.14,20110323,       1311
320620110219,       P15S,      79,          1,          2,          2,2,20110323,       1308,   -74.4515,  -176.8803,        767,   709.1,   0.1577,  34.6684,2,  34.6692,2,    221.0,2,   220.1,2,   98.73,2,   32.14,2,    0.03,3,    2.21,2,   1.583,2,   0.839,2,   0.138,2,   0.6030,2,  2255.9,6,  2350.2,2,   7.5836,2,    25.00,-999.000,9,-999.0000,9,-999.000,9,   0.1569,2, -999.00,9,  -999.0,9,  -999.0,-999.000,9,   -0.25,2,-999.000,9,   40.17,2,   35.23,2, -74.4514,-176.8800,-999.000,     -999.0,    34.8326,2,     -999.0,9,     -999.0,9,-999.0000,9,-999.0000,9,-999.0000,9,-999.0000,9,-999.0000,9,-999.0000,9,-999.0000,9,-999.0000,9,-999.0000,9,-999.0000,-999.000,   0.1273,     -999.0,     -999.0,9,     -999.0,9,     -999.0,9,      -3.17,2,       0.17,20110323,       1309
320620110219,       P15S,      79,          1,          1,          1,2,20110323,       1308,   -74.4515,  -176.8803,        767,   768.1,  -0.4456,  34.6362,2,  34.6364,2,    237.1,2,   237.9,2,   93.06,2,   31.66,2,    0.05,3,    2.20,2,   2.468,2,   1.312,2,   0.211,2,   0.9570,2,  2253.5,2,  2345.8,2,   7.5838,6,    25.00,-999.000,9,-999.0000,9,-999.000,9,  -0.4462,2, -999.00,9,  -999.0,9,  -999.0,-999.000,9,   -0.35,2,-999.000,9,   40.28,2,   34.51,2, -74.4515,-176.8803,-999.000,     -999.0,    34.7997,2,     -999.0,9,     -999.0,9,-999.0000,9,-999.0000,9,-999.0000,9,-999.0000,9,-999.0000,9,-999.0000,9,-999.0000,9,-999.0000,9,-999.0000,9,-999.0000,-999.000,  -0.4751,     -999.0,     -999.0,9,     -999.0,9,     -999.0,9,      -3.90,2,       0.04,20110323,       1308