BOTTLE,20220813CCHSIOAMB
EXPOCODE,SECT_ID,STNNBR,CASTNO,SAMPNO,BTLNBR,BTLNBR_FLAG_W,DATE,TIME,LATITUDE,LONGITUDE,DEPTH,CTDPRS,CTDTMP,CTDSAL,CTDSAL_FLAG_W,SALNTY,SALNTY_FLAG_W,CTDOXY,CTDOXY_FLAG_W,OXYGEN,OXYGEN_FLAG_W,SILCAT,SILCAT_FLAG_W,NITRAT,NITRAT_FLAG_W,NITRIT,NITRIT_FLAG_W,PHSPHT,PHSPHT_FLAG_W,CFC-11,CFC-11_FLAG_W,CFC-12,CFC-12_FLAG_W,CFC113,CFC113_FLAG_W,SF6,SF6_FLAG_W,TCARBN,TCARBN_FLAG_W,ALKALI,ALKALI_FLAG_W,PH_TOT,PH_TOT_FLAG_W,PH_TMP,TRITUM,TRITUM_FLAG_W,HELIUM,HELIUM_FLAG_W,DELHE3,DELHE3_FLAG_W,REFTMP,REFTMP_FLAG_W,DELC13,DELC13_FLAG_W,DELC14,DELC14_FLAG_W,C14ERR,NEON,NEON_FLAG_W,DELO18,DELO18_FLAG_W,POC,POC_FLAG_W,DOC,DOC_FLAG_W,TDN,TDN_FLAG_W,BTL_LAT,BTL_LON,TRITER,NEONER,SALTREF,SALTREF_FLAG_W,PIGMENTS,PIGMENTS_FLAG_W,LAB_DEN,LAB_DEN_FLAG_W,CDOM325,CDOM325_FLAG_W,CDOM340,CDOM340_FLAG_W,CDOM380,CDOM380_FLAG_W,CDOM412,CDOM412_FLAG_W,CDOM443,CDOM443_FLAG_W,CDOM490,CDOM490_FLAG_W,CDOM555,CDOM555_FLAG_W,CDOMSL,CDOMSL_FLAG_W,CDOMSN,CDOMSN_FLAG_W,HELIER,DELHER,THETA,LDEO_SAMPNO,ABSORBTION,ABSORBTION_FLAG_W,IMAGE_COUNT,IMAGE_COUNT_FLAG_W,CYTO_COUNT,CYTO_COUNT_FLAG_W,DELD,DELD_FLAG_W,DELDERR,BTL_DATE,BTL_TIME
,,,,,,,,,,,METERS,DBAR,ITS-90,PSS-78,,PSS-78,,UMOL/KG,,UMOL/KG,,UMOL/KG,,UMOL/KG,,UMOL/KG,,UMOL/KG,,PMOL/KG,,PMOL/KG,,PMOL/KG,,FMOL/KG,,UMOL/KG,,UMOL/KG,,,,DEG C,TU,,NMOL/KG,,PERCNT,,DEG C,,/MILLE,,/MILLE,,/MILLE,NMOL/KG,,/MILLE,,UG/KG,,UMOL/KG,,UMOL/KG,,,,TU,NMOL/KG,G/KG,,,,,,1/M,,1/M,,1/M,,1/M,,1/M,,1/M,,1/M,,1/NM,,1/NM,,NMOL/KG,PERCNT,DEG C,,,,,,,,/MILLE,,/MILLE,,
320620110219,       S04P,      28,          1,         13,         13,2,20110305,       1804,   -67.0004,  -171.6196,       3591,  1535.0,   0.6793,  34.7064,2,  34.7061,2,    206.3,2,   206.0,2,  120.13,2,   31.92,2,    0.00,2,    2.21,2,-999.000,9,-999.000,9,-999.000,9,-999.0000,9,  2260.0,2,  2358.8,2,   7.5964,2,    25.00,-999.000,9,-999.0000,9,-999.000,9,   0.6793,2, -999.00,9,  -999.0,9,  -999.0,-999.000,9, -999.00,9,-999.000,9,   39.78,2,   34.71,2, -67.0004,-171.6196,-999.000,     -999.0,    34.8697,2,     -999.0,9,     -999.0,9,-999.0000,9,-999.0000,9,-999.0000,9,-999.0000,9,-999.0000,9,-999.0000,9,-999.0000,9,-999.0000,9,-999.0000,9,-999.0000,-999.000,   0.5959,     -999.0,     -999.0,9,     -999.0,9,     -999.0,9,     -999.0,9,     -999.0,20110305,       1902
320620110219,       S04P,      28,          1,         12,         12,2,20110305,       1804,   -67.0004,  -171.6196,       3591,  1633.8,   0.6407,  34.7051,2,  34.7051,2,    206.8,2,   207.1,2,  121.18,2,   31.92,2,    0.00,2,    2.21,2,   0.259,2,   0.134,2,   0.014,2,-999.0000,9,  -999.0,9,  -999.0,9,-999.0000,9,  -999.00,-999.000,9,-999.0000,9,-999.000,9,   0.6406,2, -999.00,9,  -999.0,9,  -999.0,-999.000,9, -999.00,9,-999.000,9,   39.80,2,   34.60,2, -67.0004,-171.6195,-999.000,     -999.0,    34.8687,2,     -999.0,9,     -999.0,9,-999.0000,9,-999.0000,9,-999.0000,9,-999.0000,9,-999.0000,9,-999.0000,9,-999.0000,9,-999.0000,9,-999.0000,9,-999.0000,-999.000,   0.5510,     -999.0,     -999.0,9,     -999.0,9,     -999.0,9,     -999.0,9,     -999.0,20110305,       1859
320620110219,       S04P,      28,          1,         11,         11,2,20110305,       1804,   -67.0004,  -171.6196,       3591,  1734.2,   0.5986,  34.7036,2,  34.7037,2,    207.5,2,   207.7,2,  122.48,2,   31.92,2,    0.00,2,    2.21,2,-999.000,9,-999.000,9,-999.000,9,-999.0000,9,  2259.2,2,  2359.2,2,   7.5948,2,    25.00,-999.000,9,-999.0000,9,-999.000,9,   0.5985,2, -999.00,9,  -999.0,9,  -999.0,-999.000,9, -999.00,9,-999.000,9,   39.81,2,   34.22,2, -67.0004,-171.6196,-999.000,     -999.0,    34.8674,2,     -999.0,9,     -999.0,9,-999.0000,9,-999.0000,9,-999.0000,9,-999.0000,9,-999.0000,9,-999.0000,9,-999.0000,9,-999.0000,9,-999.0000,9,-999.0000,-999.000,   0.5026,     -999.0,     -999.0,9,     -999.0,9,     -999.0,9,     -999.0,9,     -999.0,20110305,       1856
320620110219,       S04P,      28,          1,         10,         37,2,20110305,       1804,   -67.0004,  -171.6196,       3591,  1865.3,   0.5409,  34.7021,2,  34.7020,2,    208.4,2,   209.2,2,  123.78,2,   32.08,2,    0.00,2,    2.23,2,   0.302,6,   0.154,6,   0.021,6,-999.0000,9,  -999.0,9,  -999.0,9,-999.0000,9,  -999.00,-999.000,9,-999.0000,9,-999.000,9,   0.5410,2, -999.00,9,  -999.0,9,  -999.0,-999.000,9, -999.00,9,-999.000,9,   40.14,2,   34.19,2, -67.0004,-171.6196,-999.000,     -999.0,    34.8656,2,     -999.0,9,     -999.0,9,-999.0000,9,-999.0000,9,-999.0000,9,-999.0000,9,-999.0000,9,-999.0000,9,-999.0000,9,-999.0000,9,-999.0000,9,-999.0000,-999.000,   0.4364,     -999.0,     -999.0,9,     -999.0,9,     -999.0,9,     -999.0,9,     -999.0,20110305,       1852
320620110219,       S04P,      28,          1,          9,          9,2,20110305,       1804,   -67.0004,  -171.6196,       3591,  2083.9,   0.4490,  34.7002,2,  34.7002,2,    210.3,2,   210.9,2,  124.28,2,   32.18,2,    0.00,2,    2.24,2,-999.000,9,-999.000,9,-999.000,9,-999.0000,9,  -999.0,9,  -999.0,9,-999.0000,9,  -999.00,-999.000,9,-999.0000,9,-999.000,9,   0.4488,2, -999.00,9,  -999.0,9,  -999.0,-999.000,9, -999.00,9,-999.000,9,   40.38,2,   34.65,2, -67.0004,-171.6196,-999.000,     -999.0,    34.8638,2,     -999.0,9,     -999.0,9,-999.0000,9,-999.0000,9,-999.0000,9,-999.0000,9,-999.0000,9,-999.0000,9,-999.0000,9,-999.0000,9,-999.0000,9,-999.0000,-999.000,   0.3300,     -999.0,     -999.0,9,     -999.0,9,     -999.0,9,     -999.0,9,     -999.0,20110305,       1847
320620110219,       S04P,      28,          1,          8,          8,2,20110305,       1804,   -67.0004,  -171.6196,       3591,  2333.3,   0.3614,  34.6981,2,  34.6975,2,    212.5,2,   213.3,2,  125.89,2,   32.20,2,    0.00,2,    2.24,2,   0.454,2,   0.218,2,   0.032,2,-999.0000,9,  2260.7,2,  2357.8,2,   7.5931,2,    25.00,-999.000,9,-999.0000,9,-999.000,9,   0.3615,2, -999.00,9,  -999.0,9,  -999.0,-999.000,9, -999.00,9,-999.000,9,   40.87,2,   34.76,2, -67.0004,-171.6196,-999.000,     -999.0,    34.8611,2,     -999.0,9,     -999.0,9,-999.0000,9,-999.0000,9,-999.0000,9,-999.0000,9,-999.0000,9,-999.0000,9,-999.0000,9,-999.0000,9,-999.0000,9,-999.0000,-999.000,   0.2249,     -999.0,     -999.0,9,     -999.0,9,     -999.0,9,     -999.0,9,     -999.0,20110305,       1840
320620110219,       S04P,      28,          1,          7,          7,2,20110305,       1804,   -67.0004,  -171.6196,       3591,  2584.6,   0.2995,  34.6954,2,  34.6955,2,    214.8,2,   215.6,2,  125.09,2,   32.19,2,    0.00,2,    2.23,2,-999.000,9,-999.000,9,-999.000,9,-999.0000,9,  -999.0,9,  -999.0,9,-999.0000,9,  -999.00,-999.000,9,-999.0000,9,-999.000,9,   0.2996,2, -999.00,9,  -999.0,9,  -999.0,-999.000,9, -999.00,9,-999.000,9,   40.63,2,   34.55,2, -67.0004,-171.6196,-999.000,     -999.0,    34.8591,2,     -999.0,9,     -999.0,9,-999.0000,9,-999.0000,9,-999.0000,9,-999.0000,9,-999.0000,9,-999.0000,9,-999.0000,9,-999.0000,9,-999.0000,9,-999.0000,-999.000,   0.1442,     -999.0,     -999.0,9,     -999.0,9,     -999.0,9,     -999.0,9,     -999.0,20110305,       1834
320620110219,       S04P,      28,          1,          6,          6,2,20110305,       1804,   -67.0004,  -171.6196,       3591,  2833.3,   0.2631,  34.6931,2,  34.6928,2,    217.0,2,   217.0,2,  123.35,2,   32.15,2,    0.00,2,    2.23,2,   0.722,2,   0.381,2,   0.044,2,-999.0000,9,  2259.8,2,  2358.2,2,   7.5889,2,    25.00,-999.000,9,-999.0000,9,-999.000,9,   0.2631,2, -999.00,9,  -999.0,9,  -999.0,-999.000,9, -999.00,9,-999.000,9,   40.27,2,   34.72,2, -67.0004,-171.6196,-999.000,     -999.0,    34.8564,2,     -999.0,9,     -999.0,9,-999.0000,9,-999.0000,9,-999.0000,9,-999.0000,9,-999.0000,9,-999.0000,9,-999.0000,9,-999.0000,9,-999.0000,9,-999.0000,-999.000,   0.0880,     -999.0,     -999.0,9,     -999.0,9,     -999.0,9,     -999.0,9,     -999.0,20110305,       1828
320620110219,       S04P,      28,          1,          5,          5,2,20110305,       1804,   -67.0004,  -171.6196,       3591,  3084.2,   0.2599,  34.6921,2,  34.6918,2,    217.6,2,   217.6,2,  123.23,2,   32.18,2,    0.00,2,    2.22,2,   0.771,2,   0.400,2,   0.053,2,-999.0000,9,  -999.0,9,  -999.0,9,-999.0000,9,  -999.00,-999.000,9,-999.0000,9,-999.000,9,   0.2600,2, -999.00,9,  -999.0,9,  -999.0,-999.000,9, -999.00,9,-999.000,9,   40.27,2,   34.39,2, -67.0004,-171.6196,-999.000,     -999.0,    34.8554,2,     -999.0,9,     -999.0,9,-999.0000,9,-999.0000,9,-999.0000,9,-999.0000,9,-999.0000,9,-999.0000,9,-999.0000,9,-999.0000,9,-999.0000,9,-999.0000,-999.000,   0.0632,     -999.0,     -999.0,9,     -999.0,9,     -999.0,9,     -999.0,9,     -999.0,20110305,       1821
320620110219,       S04P,      28,          1,          4,          4,2,20110305,       1804,   -67.0004,  -171.6196,       3591,  3335.8,   0.2693,  34.6921,2,  34.6917,2,    218.2,2,   217.9,2,  122.24,2,   32.24,2,    0.00,2,    2.21,2,   0.802,2,   0.416,2,   0.054,2,-999.0000,9,  2257.7,2,  2357.8,2,   7.5906,2,    25.00,-999.000,9,-999.0000,9,-999.000,9,   0.2693,2, -999.00,9,  -999.0,9,  -999.0,-999.000,9, -999.00,9,-999.000,9,   40.09,2,   34.44,2, -67.0004,-171.6196,-999.000,     -999.0,    34.8552,2,     -999.0,9,     -999.0,9,-999.0000,9,-999.0000,9,-999.0000,9,-999.0000,9,-999.0000,9,-999.0000,9,-999.0000,9,-999.0000,9,-999.0000,9,-999.0000,-999.000,   0.0496,     -999.0,     -999.0,9,     -999.0,9,     -999.0,9,     -999.0,9,     -999.0,20110305,       1815
320620110219,       S04P,      28,          1,          3,          3,2,20110305,       1804,   -67.0004,  -171.6196,       3591,  3493.8,   0.2763,  34.6916,2,  34.6913,2,    218.3,2,   218.7,2,  122.76,2,   32.27,2,    0.00,2,    2.22,2,   0.808,2,   0.420,2,   0.057,2,-999.0000,9,  2260.0,6,  2357.5,2,   7.5905,2,    25.00,-999.000,9,-999.0000,9,-999.000,9,   0.2759,2, -999.00,9,  -999.0,9,  -999.0,-999.000,9, -999.00,9,-999.000,9,   40.37,2,   34.89,2, -67.0004,-171.6196,-999.000,     -999.0,    34.8549,2,     -999.0,9,     -999.0,9,-999.0000,9,-999.0000,9,-999.0000,9,-999.0000,9,-999.0000,9,-999.0000,9,-999.0000,9,-999.0000,9,-999.0000,9,-999.0000,-999.000,   0.0417,     -999.0,     -999.0,9,     -999.0,9,     -999.0,9,     -999.0,9,     -999.0,20110305,       1811
320620110219,       S04P,      28,          1,          2,          2,2,20110305,       1804,   -67.0004,  -171.6196,       3591,  3590.0,   0.2831,  34.6914,2,  34.6915,2,    218.0,2,   218.5,2,  122.06,2,   32.18,2,    0.00,2,    2.22,2,   0.818,2,   0.428,2,   0.058,2,-999.0000,9,  2258.9,2,  2357.2,6,   7.5925,2,    25.00,-999.000,9,-999.0000,9,-999.000,9,   0.2827,2, -999.00,9,  -999.0,9,  -999.0,-999.000,9, -999.00,9,-999.000,9,   40.27,2,   34.73,2, -67.0004,-171.6196,-999.000,     -999.0,    34.8551,2,     -999.0,9,     -999.0,9,-999.0000,9,-999.0000,9,-999.0000,9,-999.0000,9,-999.0000,9,-999.0000,9,-999.0000,9,-999.0000,9,-999.0000,9,-999.0000,-999.000,   0.0392,     -999.0,     -999.0,9,     -999.0,9,     -999.0,9,     -999.0,9,     -999.0,20110305,       1806
320620110219,       S04P,      28,          1,          1,          1,2,20110305,       1804,   -67.0004,  -171.6196,       3591,  3646.9,   0.2887,  34.6914,2,  34.6919,2,    218.0,2,   218.3,2,  122.44,2,   32.18,2,    0.00,2,    2.22,2,   0.877,2,   0.444,2,   0.059,2,-999.0000,9,  2259.1,2,  2357.5,2,   7.5923,6,    25.00,-999.000,9,-999.0000,9,-999.000,9,   0.2887,2, -999.00,9,  -999.0,9,  -999.0,-999.000,9, -999.00,9,-999.000,9,   40.32,2,   35.12,2, -67.0004,-171.6196,-999.000,     -999.0,    34.8555,2,     -999.0,9,     -999.0,9,-999.0000,9,-999.0000,9,-999.0000,9,-999.0000,9,-999.0000,9,-999.0000,9,-999.0000,9,-999.0000,9,-999.0000,9,-999.0000,-999.000,   0.0392,     -999.0,     -999.0,9,     -999.0,9,     -999.0,9,     -999.0,9,     -999.0,20110305,       1804