BOTTLE,20220813CCHSIOAMB
EXPOCODE,SECT_ID,STNNBR,CASTNO,SAMPNO,BTLNBR,BTLNBR_FLAG_W,DATE,TIME,LATITUDE,LONGITUDE,DEPTH,CTDPRS,CTDTMP,CTDSAL,CTDSAL_FLAG_W,SALNTY,SALNTY_FLAG_W,CTDOXY,CTDOXY_FLAG_W,OXYGEN,OXYGEN_FLAG_W,SILCAT,SILCAT_FLAG_W,NITRAT,NITRAT_FLAG_W,NITRIT,NITRIT_FLAG_W,PHSPHT,PHSPHT_FLAG_W,CFC-11,CFC-11_FLAG_W,CFC-12,CFC-12_FLAG_W,CFC113,CFC113_FLAG_W,SF6,SF6_FLAG_W,TCARBN,TCARBN_FLAG_W,ALKALI,ALKALI_FLAG_W,PH_TOT,PH_TOT_FLAG_W,PH_TMP,TRITUM,TRITUM_FLAG_W,HELIUM,HELIUM_FLAG_W,DELHE3,DELHE3_FLAG_W,REFTMP,REFTMP_FLAG_W,DELC13,DELC13_FLAG_W,DELC14,DELC14_FLAG_W,C14ERR,NEON,NEON_FLAG_W,DELO18,DELO18_FLAG_W,POC,POC_FLAG_W,DOC,DOC_FLAG_W,TDN,TDN_FLAG_W,BTL_LAT,BTL_LON,TRITER,NEONER,SALTREF,SALTREF_FLAG_W,PIGMENTS,PIGMENTS_FLAG_W,LAB_DEN,LAB_DEN_FLAG_W,CDOM325,CDOM325_FLAG_W,CDOM340,CDOM340_FLAG_W,CDOM380,CDOM380_FLAG_W,CDOM412,CDOM412_FLAG_W,CDOM443,CDOM443_FLAG_W,CDOM490,CDOM490_FLAG_W,CDOM555,CDOM555_FLAG_W,CDOMSL,CDOMSL_FLAG_W,CDOMSN,CDOMSN_FLAG_W,HELIER,DELHER,THETA,LDEO_SAMPNO,ABSORBTION,ABSORBTION_FLAG_W,IMAGE_COUNT,IMAGE_COUNT_FLAG_W,CYTO_COUNT,CYTO_COUNT_FLAG_W,DELD,DELD_FLAG_W,DELDERR,BTL_DATE,BTL_TIME
,,,,,,,,,,,METERS,DBAR,ITS-90,PSS-78,,PSS-78,,UMOL/KG,,UMOL/KG,,UMOL/KG,,UMOL/KG,,UMOL/KG,,UMOL/KG,,PMOL/KG,,PMOL/KG,,PMOL/KG,,FMOL/KG,,UMOL/KG,,UMOL/KG,,,,DEG C,TU,,NMOL/KG,,PERCNT,,DEG C,,/MILLE,,/MILLE,,/MILLE,NMOL/KG,,/MILLE,,UG/KG,,UMOL/KG,,UMOL/KG,,,,TU,NMOL/KG,G/KG,,,,,,1/M,,1/M,,1/M,,1/M,,1/M,,1/M,,1/M,,1/NM,,1/NM,,NMOL/KG,PERCNT,DEG C,,,,,,,,/MILLE,,/MILLE,,
320620110219,       P15S,      89,          1,         13,         13,2,20110325,       1523,   -72.3893,  -169.9999,       3955,  1501.3,   0.8780,  34.7154,2,  34.7148,2,    199.9,2,   199.6,2,  117.69,2,   31.92,2,    0.00,2,    2.23,2,-999.000,9,-999.000,9,-999.000,9,-999.0000,9,  2259.0,2,  2359.1,2,   7.5966,6,    25.00,-999.000,9,-999.0000,9,-999.000,9,   0.8780,2, -999.00,9,  -999.0,9,  -999.0,-999.000,9,   -0.01,2,-999.000,9,   39.62,2,   34.63,2, -72.3893,-169.9998,-999.000,     -999.0,    34.8784,2,     -999.0,9,     -999.0,1,-999.0000,9,-999.0000,9,-999.0000,9,-999.0000,9,-999.0000,9,-999.0000,9,-999.0000,9,-999.0000,9,-999.0000,9,-999.0000,-999.000,   0.7944,     -999.0,     -999.0,9,     -999.0,9,     -999.0,9,      -2.08,2,       0.40,20110325,       1617
320620110219,       P15S,      89,          1,         12,         12,2,20110325,       1523,   -72.3893,  -169.9999,       3955,  1599.2,   0.8353,  34.7135,2,  34.7130,2,    200.7,2,   201.0,2,  119.51,2,   32.01,2,    0.00,2,    2.24,2,   0.094,2,   0.045,2,   0.010,2,   0.0510,2,  -999.0,9,  -999.0,9,-999.0000,9,  -999.00,-999.000,9,-999.0000,9,-999.000,9,   0.8357,2, -999.00,9,  -999.0,9,  -999.0,-999.000,9,    0.01,2,-999.000,9,   39.45,2,   34.37,2, -72.3893,-169.9998,-999.000,     -999.0,    34.8767,2,     -999.0,9,     -999.0,9,-999.0000,9,-999.0000,9,-999.0000,9,-999.0000,9,-999.0000,9,-999.0000,9,-999.0000,9,-999.0000,9,-999.0000,9,-999.0000,-999.000,   0.7455,     -999.0,     -999.0,9,     -999.0,9,     -999.0,9,      -0.93,2,       0.11,20110325,       1614
320620110219,       P15S,      89,          1,         11,         11,2,20110325,       1523,   -72.3893,  -169.9999,       3955,  1799.5,   0.7557,  34.7104,2,  34.7101,2,    202.7,2,   202.4,2,  122.41,2,   32.09,2,    0.00,2,    2.24,2,-999.000,9,-999.000,9,-999.000,9,-999.0000,9,  2258.6,2,  2359.7,2,   7.5958,2,    25.00,-999.000,9,-999.0000,9,-999.000,9,   0.7559,2, -999.00,9,  -999.0,9,  -999.0,-999.000,9,   -0.02,2,-999.000,9,   39.26,2,   34.56,2, -72.3893,-169.9998,-999.000,     -999.0,    34.8738,2,     -999.0,9,     -999.0,1,-999.0000,9,-999.0000,9,-999.0000,9,-999.0000,9,-999.0000,9,-999.0000,9,-999.0000,9,-999.0000,9,-999.0000,9,-999.0000,-999.000,   0.6528,     -999.0,     -999.0,9,     -999.0,9,     -999.0,9,      -1.46,2,       0.07,20110325,       1610
320620110219,       P15S,      89,          1,         10,         37,2,20110325,       1523,   -72.3893,  -169.9999,       3955,  2000.3,   0.6829,  34.7079,2,  34.7070,2,    204.3,2,   204.1,2,  124.43,2,   32.07,2,    0.00,2,    2.24,2,-999.000,9,-999.000,9,-999.000,9,-999.0000,9,  -999.0,9,  -999.0,9,-999.0000,9,  -999.00,-999.000,9,-999.0000,9,-999.000,9,   0.6835,2, -999.00,9,  -999.0,9,  -999.0,-999.000,9,   -0.03,2,-999.000,9,   39.75,2,   34.13,2, -72.3893,-169.9998,-999.000,     -999.0,    34.8707,2,     -999.0,9,     -999.0,9,-999.0000,9,-999.0000,9,-999.0000,9,-999.0000,9,-999.0000,9,-999.0000,9,-999.0000,9,-999.0000,9,-999.0000,9,-999.0000,-999.000,   0.5664,     -999.0,     -999.0,9,     -999.0,9,     -999.0,9,      -1.64,2,       0.14,20110325,       1605
320620110219,       P15S,      89,          1,          9,          9,2,20110325,       1523,   -72.3893,  -169.9999,       3955,  2248.6,   0.5946,  34.7060,2,  34.7049,2,    206.2,2,   205.9,2,  125.84,2,   32.09,2,    0.00,2,    2.24,2,-999.000,9,-999.000,9,-999.000,9,-999.0000,9,  2259.0,2,  2359.8,2,   7.5949,2,    25.00,-999.000,9,-999.0000,9,-999.000,9,   0.5949,2, -999.00,9,  -999.0,9,  -999.0,-999.000,9,   -0.14,2,-999.000,9,   40.35,2,   34.16,2, -72.3893,-169.9998,-999.000,     -999.0,    34.8685,2,     -999.0,9,     -999.0,1,-999.0000,9,-999.0000,9,-999.0000,9,-999.0000,9,-999.0000,9,-999.0000,9,-999.0000,9,-999.0000,9,-999.0000,9,-999.0000,-999.000,   0.4606,     -999.0,     -999.0,9,     -999.0,9,     -999.0,9,      -2.55,2,       0.33,20110325,       1600
320620110219,       P15S,      89,          1,          8,          8,2,20110325,       1523,   -72.3893,  -169.9999,       3955,  2499.8,   0.5029,  34.7044,2,  34.7037,2,    208.3,2,   208.6,2,  127.89,2,   32.15,2,    0.00,2,    2.25,2,   0.133,2,   0.063,2,   0.010,2,   0.0000,2,  -999.0,9,  -999.0,9,-999.0000,9,  -999.00,-999.000,9,-999.0000,9,-999.000,9,   0.5027,2, -999.00,9,  -999.0,9,  -999.0,-999.000,9,    0.03,2,-999.000,9,   40.32,2,   34.09,2, -72.3893,-169.9998,-999.000,     -999.0,    34.8674,2,     -999.0,9,     -999.0,9,-999.0000,9,-999.0000,9,-999.0000,9,-999.0000,9,-999.0000,9,-999.0000,9,-999.0000,9,-999.0000,9,-999.0000,9,-999.0000,-999.000,   0.3506,     -999.0,     -999.0,9,     -999.0,9,     -999.0,9,      -1.35,2,       0.12,20110325,       1555
320620110219,       P15S,      89,          1,          7,          7,2,20110325,       1523,   -72.3893,  -169.9999,       3955,  2748.7,   0.4310,  34.7041,2,  34.7032,2,    210.1,2,   210.3,2,  130.40,2,   32.26,2,    0.00,2,    2.26,2,-999.000,9,-999.000,9,-999.000,9,-999.0000,9,  2259.0,2,  2360.6,2,   7.5987,2,    25.00,-999.000,9,-999.0000,9,-999.000,9,   0.4310,2, -999.00,9,  -999.0,9,  -999.0,-999.000,9,   -0.17,3,-999.000,9,   40.10,2,   34.68,2, -72.3893,-169.9998,-999.000,     -999.0,    34.8668,2,     -999.0,9,     -999.0,1,-999.0000,9,-999.0000,9,-999.0000,9,-999.0000,9,-999.0000,9,-999.0000,9,-999.0000,9,-999.0000,9,-999.0000,9,-999.0000,-999.000,   0.2595,     -999.0,     -999.0,9,     -999.0,9,     -999.0,9,      -1.89,3,       0.11,20110325,       1550
320620110219,       P15S,      89,          1,          6,          6,2,20110325,       1523,   -72.3893,  -169.9999,       3955,  2999.6,   0.3790,  34.7036,2,  34.7026,2,    211.4,2,   211.5,2,  132.54,2,   32.37,2,    0.00,2,    2.27,2,   0.140,2,   0.073,2,   0.010,2,   0.0560,2,  -999.0,9,  -999.0,9,-999.0000,9,  -999.00,-999.000,9,-999.0000,9,-999.000,9,   0.3788,2, -999.00,9,  -999.0,9,  -999.0,-999.000,9,   -0.20,2,-999.000,9,   40.62,2,   34.46,2, -72.3893,-169.9997,-999.000,     -999.0,    34.8663,2,     -999.0,9,     -999.0,9,-999.0000,9,-999.0000,9,-999.0000,9,-999.0000,9,-999.0000,9,-999.0000,9,-999.0000,9,-999.0000,9,-999.0000,9,-999.0000,-999.000,   0.1870,     -999.0,     -999.0,9,     -999.0,9,     -999.0,9,      -2.19,2,       0.27,20110325,       1545
320620110219,       P15S,      89,          1,          5,          5,2,20110325,       1523,   -72.3893,  -169.9999,       3955,  3300.4,   0.3286,  34.7029,2,  34.7025,2,    213.1,2,   213.2,2,  134.47,2,   32.42,2,    0.00,2,    2.26,2,-999.000,9,-999.000,9,-999.000,9,-999.0000,9,  2259.5,2,  2361.0,2,   7.5952,2,    25.00,-999.000,9,-999.0000,9,-999.000,9,   0.3283,2, -999.00,9,  -999.0,9,  -999.0,-999.000,9,    0.02,2,-999.000,9,   40.31,2,   35.26,2, -72.3893,-169.9998,-999.000,     -999.0,    34.8661,2,     -999.0,9,     -999.0,1,-999.0000,9,-999.0000,9,-999.0000,9,-999.0000,9,-999.0000,9,-999.0000,9,-999.0000,9,-999.0000,9,-999.0000,9,-999.0000,-999.000,   0.1107,     -999.0,     -999.0,9,     -999.0,9,     -999.0,9,      -1.70,2,       0.22,20110325,       1539
320620110219,       P15S,      89,          1,          4,          4,2,20110325,       1523,   -72.3893,  -169.9999,       3955,  3601.3,   0.2876,  34.7017,2,  34.7011,2,    214.9,2,   214.9,2,  135.02,2,   32.54,2,    0.00,2,    2.26,2,   0.275,2,   0.133,2,   0.015,2,   0.0660,2,  2260.3,2,  2360.8,2,   7.5983,2,    25.00,-999.000,9,-999.0000,9,-999.000,9,   0.2879,2, -999.00,9,  -999.0,9,  -999.0,-999.000,9,   -0.03,2,-999.000,9,   40.77,2,   35.25,2, -72.3893,-169.9999,-999.000,     -999.0,    34.8648,2,     -999.0,9,     -999.0,1,-999.0000,9,-999.0000,9,-999.0000,9,-999.0000,9,-999.0000,9,-999.0000,9,-999.0000,9,-999.0000,9,-999.0000,9,-999.0000,-999.000,   0.0424,     -999.0,     -999.0,9,     -999.0,9,     -999.0,9,      -1.90,2,       0.04,20110325,       1533
320620110219,       P15S,      89,          1,          3,          3,2,20110325,       1523,   -72.3893,  -169.9999,       3955,  3899.4,   0.1962,  34.6980,2,  34.6971,2,    219.6,2,   219.4,2,  125.28,2,   32.40,2,    0.00,2,    2.26,2,   0.676,2,   0.320,2,   0.036,2,   0.1000,2,  2258.5,2,  2361.4,6,   7.5941,2,    25.00,-999.000,9,-999.0000,9,-999.000,9,   0.1964,2, -999.00,9,  -999.0,9,  -999.0,-999.000,9,   -0.01,2,-999.000,9,   40.70,2,   35.33,2, -72.3893,-169.9997,-999.000,     -999.0,    34.8607,2,     -999.0,9,     -999.0,1,-999.0000,9,-999.0000,9,-999.0000,9,-999.0000,9,-999.0000,9,-999.0000,9,-999.0000,9,-999.0000,9,-999.0000,9,-999.0000,-999.000,  -0.0757,     -999.0,     -999.0,9,     -999.0,9,     -999.0,9,      -2.14,2,       0.05,20110325,       1527
320620110219,       P15S,      89,          1,          2,          2,2,20110325,       1523,   -72.3893,  -169.9999,       3955,  3976.1,   0.1883,  34.6979,2,  34.6971,2,    219.6,2,   218.9,2,  127.04,2,   32.59,2,    0.00,2,    2.27,2,   0.715,2,   0.335,2,   0.035,2,   0.1490,2,  2258.7,6,  2358.3,2,   7.5918,2,    25.00,-999.000,9,-999.0000,9,-999.000,9,   0.1880,2, -999.00,9,  -999.0,9,  -999.0,-999.000,9,   -0.06,2,-999.000,9,   40.79,2,   35.42,2, -72.3893,-169.9997,-999.000,     -999.0,    34.8607,2,     -999.0,9,     -999.0,1,-999.0000,9,-999.0000,9,-999.0000,9,-999.0000,9,-999.0000,9,-999.0000,9,-999.0000,9,-999.0000,9,-999.0000,9,-999.0000,-999.000,  -0.0910,     -999.0,     -999.0,9,     -999.0,9,     -999.0,9,      -2.51,2,       0.08,20110325,       1525
320620110219,       P15S,      89,          1,          1,          1,2,20110325,       1523,   -72.3893,  -169.9999,       3955,  4022.6,   0.1932,  34.6979,2,  34.6969,2,    218.9,2,   219.4,2,  127.31,2,   32.61,2,    0.00,2,    2.27,2,   0.731,2,   0.348,2,   0.041,2,   0.2170,2,  2260.9,2,  2358.5,2,   7.5916,6,    25.00,-999.000,9,-999.0000,9,-999.000,9,   0.1931,2, -999.00,9,  -999.0,9,  -999.0,-999.000,9,   -0.13,2,-999.000,9,   40.45,2,   35.21,2, -72.3893,-169.9998,-999.000,     -999.0,    34.8606,2,     -999.0,9,     -999.0,1,-999.0000,9,-999.0000,9,-999.0000,9,-999.0000,9,-999.0000,9,-999.0000,9,-999.0000,9,-999.0000,9,-999.0000,9,-999.0000,-999.000,  -0.0910,     -999.0,     -999.0,9,     -999.0,9,     -999.0,9,      -2.73,2,       0.09,20110325,       1523