BOTTLE,20220813CCHSIOAMB
EXPOCODE,SECT_ID,STNNBR,CASTNO,SAMPNO,BTLNBR,BTLNBR_FLAG_W,DATE,TIME,LATITUDE,LONGITUDE,DEPTH,CTDPRS,CTDTMP,CTDSAL,CTDSAL_FLAG_W,SALNTY,SALNTY_FLAG_W,CTDOXY,CTDOXY_FLAG_W,OXYGEN,OXYGEN_FLAG_W,SILCAT,SILCAT_FLAG_W,NITRAT,NITRAT_FLAG_W,NITRIT,NITRIT_FLAG_W,PHSPHT,PHSPHT_FLAG_W,CFC-11,CFC-11_FLAG_W,CFC-12,CFC-12_FLAG_W,CFC113,CFC113_FLAG_W,SF6,SF6_FLAG_W,TCARBN,TCARBN_FLAG_W,ALKALI,ALKALI_FLAG_W,PH_TOT,PH_TOT_FLAG_W,PH_TMP,TRITUM,TRITUM_FLAG_W,HELIUM,HELIUM_FLAG_W,DELHE3,DELHE3_FLAG_W,REFTMP,REFTMP_FLAG_W,DELC13,DELC13_FLAG_W,DELC14,DELC14_FLAG_W,C14ERR,NEON,NEON_FLAG_W,DELO18,DELO18_FLAG_W,POC,POC_FLAG_W,DOC,DOC_FLAG_W,TDN,TDN_FLAG_W,BTL_LAT,BTL_LON,TRITER,NEONER,SALTREF,SALTREF_FLAG_W,PIGMENTS,PIGMENTS_FLAG_W,LAB_DEN,LAB_DEN_FLAG_W,CDOM325,CDOM325_FLAG_W,CDOM340,CDOM340_FLAG_W,CDOM380,CDOM380_FLAG_W,CDOM412,CDOM412_FLAG_W,CDOM443,CDOM443_FLAG_W,CDOM490,CDOM490_FLAG_W,CDOM555,CDOM555_FLAG_W,CDOMSL,CDOMSL_FLAG_W,CDOMSN,CDOMSN_FLAG_W,HELIER,DELHER,THETA,LDEO_SAMPNO,ABSORBTION,ABSORBTION_FLAG_W,IMAGE_COUNT,IMAGE_COUNT_FLAG_W,CYTO_COUNT,CYTO_COUNT_FLAG_W,DELD,DELD_FLAG_W,DELDERR,BTL_DATE,BTL_TIME
,,,,,,,,,,,METERS,DBAR,ITS-90,PSS-78,,PSS-78,,UMOL/KG,,UMOL/KG,,UMOL/KG,,UMOL/KG,,UMOL/KG,,UMOL/KG,,PMOL/KG,,PMOL/KG,,PMOL/KG,,FMOL/KG,,UMOL/KG,,UMOL/KG,,,,DEG C,TU,,NMOL/KG,,PERCNT,,DEG C,,/MILLE,,/MILLE,,/MILLE,NMOL/KG,,/MILLE,,UG/KG,,UMOL/KG,,UMOL/KG,,,,TU,NMOL/KG,G/KG,,,,,,1/M,,1/M,,1/M,,1/M,,1/M,,1/M,,1/M,,1/NM,,1/NM,,NMOL/KG,PERCNT,DEG C,,,,,,,,/MILLE,,/MILLE,,
320620110219,     DIPOLE,     104,          1,         10,         37,2,20110403,       0827,   -66.2105,  -136.0659,       4611,    14.6,  -0.7734,  33.5186,2,  33.5173,2,    347.4,2,   348.6,2, -999.00,9, -999.00,9, -999.00,9, -999.00,9,-999.000,9,-999.000,9,-999.000,9,-999.0000,9,  -999.0,9,  -999.0,9,-999.0000,9,  -999.00,   0.122,2,   1.8786,2,   -1.42,2,  -0.7737,2, -999.00,9,  -999.0,9,  -999.0,   8.440,2, -999.00,9,-999.000,9, -999.00,9, -999.00,9, -66.2106,-136.0635,   0.013,      0.043,    33.6753,2,     -999.0,9,     -999.0,9,-999.0000,9,-999.0000,9,-999.0000,9,-999.0000,9,-999.0000,9,-999.0000,9,-999.0000,9,-999.0000,9,-999.0000,9,   0.0090,    0.14,  -0.7738,     -999.0,     -999.0,9,     -999.0,9,     -999.0,9,     -999.0,9,     -999.0,20110403,       0943
320620110219,     DIPOLE,     104,          1,          9,          9,2,20110403,       0827,   -66.2105,  -136.0659,       4611,   498.3,   1.9280,  34.7033,2,  34.7030,2,    180.2,2,   180.1,2, -999.00,9, -999.00,9, -999.00,9, -999.00,9,-999.000,9,-999.000,9,-999.000,9,-999.0000,9,  -999.0,9,  -999.0,9,-999.0000,9,  -999.00,   0.013,2,   1.8944,2,    9.19,2,   1.9298,2, -999.00,9,  -999.0,9,  -999.0,   8.209,2, -999.00,9,-999.000,9, -999.00,9, -999.00,9, -66.2106,-136.0631,   0.012,      0.042,    34.8667,2,     -999.0,9,     -999.0,9,-999.0000,9,-999.0000,9,-999.0000,9,-999.0000,9,-999.0000,9,-999.0000,9,-999.0000,9,-999.0000,9,-999.0000,9,   0.0091,    0.14,   1.9003,     -999.0,     -999.0,9,     -999.0,9,     -999.0,9,     -999.0,9,     -999.0,20110403,       0934
320620110219,     DIPOLE,     104,          1,          8,          8,2,20110403,       0827,   -66.2105,  -136.0659,       4611,   999.6,   1.5084,  34.7327,2,  34.7331,2,    192.4,2,   192.3,2, -999.00,9, -999.00,9, -999.00,9, -999.00,9,-999.000,9,-999.000,9,-999.000,9,-999.0000,9,  -999.0,9,  -999.0,9,-999.0000,9,  -999.00,   0.018,2,   1.8985,2,    9.63,2,   1.5090,2, -999.00,9,  -999.0,9,  -999.0,   8.289,2, -999.00,9,-999.000,9, -999.00,9, -999.00,9, -66.2106,-136.0640,   0.013,      0.042,    34.8968,2,     -999.0,9,     -999.0,9,-999.0000,9,-999.0000,9,-999.0000,9,-999.0000,9,-999.0000,9,-999.0000,9,-999.0000,9,-999.0000,9,-999.0000,9,   0.0091,    0.14,   1.4519,     -999.0,     -999.0,9,     -999.0,9,     -999.0,9,     -999.0,9,     -999.0,20110403,       0926
320620110219,     DIPOLE,     104,          1,          7,          7,2,20110403,       0827,   -66.2105,  -136.0659,       4611,  1518.0,   1.1354,  34.7237,2,  34.7240,2,    197.8,2,   197.7,2, -999.00,9, -999.00,9, -999.00,9, -999.00,9,-999.000,9,-999.000,9,-999.000,9,-999.0000,9,  -999.0,9,  -999.0,9,-999.0000,9,  -999.00,   0.015,2,   1.9711,2,    9.69,2,   1.1358,2, -999.00,9,  -999.0,9,  -999.0,   8.565,2, -999.00,9,-999.000,9, -999.00,9, -999.00,9, -66.2106,-136.0635,   0.013,      0.044,    34.8878,2,     -999.0,9,     -999.0,9,-999.0000,9,-999.0000,9,-999.0000,9,-999.0000,9,-999.0000,9,-999.0000,9,-999.0000,9,-999.0000,9,-999.0000,9,   0.0095,    0.14,   1.0476,     -999.0,     -999.0,9,     -999.0,9,     -999.0,9,     -999.0,9,     -999.0,20110403,       0918
320620110219,     DIPOLE,     104,          1,          6,          6,2,20110403,       0827,   -66.2105,  -136.0659,       4611,  2000.5,   0.8873,  34.7140,2,  34.7142,2,    202.4,2,   202.3,2, -999.00,9, -999.00,9, -999.00,9, -999.00,9,-999.000,9,-999.000,9,-999.000,9,-999.0000,9,  -999.0,9,  -999.0,9,-999.0000,9,  -999.00,   0.016,2,   1.9378,2,   10.26,2,   0.8876,2, -999.00,9,  -999.0,9,  -999.0,   8.407,2, -999.00,9,-999.000,9, -999.00,9, -999.00,9, -66.2108,-136.0617,   0.013,      0.043,    34.8779,2,     -999.0,9,     -999.0,9,-999.0000,9,-999.0000,9,-999.0000,9,-999.0000,9,-999.0000,9,-999.0000,9,-999.0000,9,-999.0000,9,-999.0000,9,   0.0093,    0.14,   0.7676,     -999.0,     -999.0,9,     -999.0,9,     -999.0,9,     -999.0,9,     -999.0,20110403,       0910
320620110219,     DIPOLE,     104,          1,          5,          5,2,20110403,       0827,   -66.2105,  -136.0659,       4611,  2500.8,   0.7034,  34.7071,2,  34.7071,2,    205.8,2,   205.6,2, -999.00,9, -999.00,9, -999.00,9, -999.00,9,-999.000,9,-999.000,9,-999.000,9,-999.0000,9,  -999.0,9,  -999.0,9,-999.0000,9,  -999.00,   0.011,2,   1.9634,2,   10.91,2,   0.7034,2, -999.00,9,  -999.0,9,  -999.0,   8.538,2, -999.00,9,-999.000,9, -999.00,9, -999.00,9, -66.2107,-136.0625,   0.013,      0.044,    34.8708,2,     -999.0,9,     -999.0,9,-999.0000,9,-999.0000,9,-999.0000,9,-999.0000,9,-999.0000,9,-999.0000,9,-999.0000,9,-999.0000,9,-999.0000,9,   0.0094,    0.14,   0.5472,     -999.0,     -999.0,9,     -999.0,9,     -999.0,9,     -999.0,9,     -999.0,20110403,       0902
320620110219,     DIPOLE,     104,          1,          4,          4,2,20110403,       0827,   -66.2105,  -136.0659,       4611,  2999.5,   0.5198,  34.7033,2,  34.7028,2,    209.5,2,   209.6,2, -999.00,9, -999.00,9, -999.00,9, -999.00,9,-999.000,9,-999.000,9,-999.000,9,-999.0000,9,  -999.0,9,  -999.0,9,-999.0000,9,  -999.00,  -0.001,2,   1.9613,2,    9.86,2,   0.5198,2, -999.00,9,  -999.0,9,  -999.0,   8.605,2, -999.00,9,-999.000,9, -999.00,9, -999.00,9, -66.2104,-136.0645,   0.013,      0.044,    34.8664,2,     -999.0,9,     -999.0,9,-999.0000,9,-999.0000,9,-999.0000,9,-999.0000,9,-999.0000,9,-999.0000,9,-999.0000,9,-999.0000,9,-999.0000,9,   0.0094,    0.14,   0.3246,     -999.0,     -999.0,9,     -999.0,9,     -999.0,9,     -999.0,9,     -999.0,20110403,       0855
320620110219,     DIPOLE,     104,          1,          3,          3,2,20110403,       0827,   -66.2105,  -136.0659,       4611,  3499.7,   0.3878,  34.7025,2,  34.7016,2,    212.9,2,   212.9,2, -999.00,9, -999.00,9, -999.00,9, -999.00,9,-999.000,9,-999.000,9,-999.000,9,-999.0000,9,  -999.0,9,  -999.0,9,-999.0000,9,  -999.00,   0.010,2,   1.9707,2,    9.25,2,   0.3875,2, -999.00,9,  -999.0,9,  -999.0,   8.622,2, -999.00,9,-999.000,9, -999.00,9, -999.00,9, -66.2104,-136.0660,   0.013,      0.044,    34.8652,2,     -999.0,9,     -999.0,9,-999.0000,9,-999.0000,9,-999.0000,9,-999.0000,9,-999.0000,9,-999.0000,9,-999.0000,9,-999.0000,9,-999.0000,9,   0.0095,    0.14,   0.1497,     -999.0,     -999.0,9,     -999.0,9,     -999.0,9,     -999.0,9,     -999.0,20110403,       0847
320620110219,     DIPOLE,     104,          1,          2,          2,2,20110403,       0827,   -66.2105,  -136.0659,       4611,  3998.6,   0.3162,  34.7007,2,  34.6998,2,    215.9,2,   215.3,2, -999.00,9, -999.00,9, -999.00,9, -999.00,9,-999.000,9,-999.000,9,-999.000,9,-999.0000,9,  -999.0,9,  -999.0,9,-999.0000,9,  -999.00,   0.026,2,   1.9559,2,    8.58,2,   0.3164,2, -999.00,9,  -999.0,9,  -999.0,   8.436,2, -999.00,9,-999.000,9, -999.00,9, -999.00,9, -66.2104,-136.0664,   0.013,      0.043,    34.8634,2,     -999.0,9,     -999.0,9,-999.0000,9,-999.0000,9,-999.0000,9,-999.0000,9,-999.0000,9,-999.0000,9,-999.0000,9,-999.0000,9,-999.0000,9,   0.0094,    0.14,   0.0309,     -999.0,     -999.0,9,     -999.0,9,     -999.0,9,     -999.0,9,     -999.0,20110403,       0839
320620110219,     DIPOLE,     104,          1,          1,          1,2,20110403,       0827,   -66.2105,  -136.0659,       4611,  4692.6,   0.2932,  34.6969,2,  34.6963,2,    219.4,2,   219.5,2, -999.00,9, -999.00,9, -999.00,9, -999.00,9,-999.000,9,-999.000,9,-999.000,9,-999.0000,9,  -999.0,9,  -999.0,9,-999.0000,9,  -999.00,   0.020,2,   1.9433,2,    8.00,2,   0.2930,2, -999.00,9,  -999.0,9,  -999.0,   8.421,2, -999.00,9,-999.000,9, -999.00,9, -999.00,9, -66.2104,-136.0659,   0.012,      0.043,    34.8599,2,     -999.0,9,     -999.0,9,-999.0000,9,-999.0000,9,-999.0000,9,-999.0000,9,-999.0000,9,-999.0000,9,-999.0000,9,-999.0000,9,-999.0000,9,   0.0093,    0.14,  -0.0653,     -999.0,     -999.0,9,     -999.0,9,     -999.0,9,     -999.0,9,     -999.0,20110403,       0827