BOTTLE,20220813CCHSIOAMB
EXPOCODE,SECT_ID,STNNBR,CASTNO,SAMPNO,BTLNBR,BTLNBR_FLAG_W,DATE,TIME,LATITUDE,LONGITUDE,DEPTH,CTDPRS,CTDTMP,CTDSAL,CTDSAL_FLAG_W,SALNTY,SALNTY_FLAG_W,CTDOXY,CTDOXY_FLAG_W,OXYGEN,OXYGEN_FLAG_W,SILCAT,SILCAT_FLAG_W,NITRAT,NITRAT_FLAG_W,NITRIT,NITRIT_FLAG_W,PHSPHT,PHSPHT_FLAG_W,CFC-11,CFC-11_FLAG_W,CFC-12,CFC-12_FLAG_W,CFC113,CFC113_FLAG_W,SF6,SF6_FLAG_W,TCARBN,TCARBN_FLAG_W,ALKALI,ALKALI_FLAG_W,PH_TOT,PH_TOT_FLAG_W,PH_TMP,TRITUM,TRITUM_FLAG_W,HELIUM,HELIUM_FLAG_W,DELHE3,DELHE3_FLAG_W,REFTMP,REFTMP_FLAG_W,DELC13,DELC13_FLAG_W,DELC14,DELC14_FLAG_W,C14ERR,NEON,NEON_FLAG_W,DELO18,DELO18_FLAG_W,POC,POC_FLAG_W,DOC,DOC_FLAG_W,TDN,TDN_FLAG_W,BTL_LAT,BTL_LON,TRITER,NEONER,SALTREF,SALTREF_FLAG_W,PIGMENTS,PIGMENTS_FLAG_W,LAB_DEN,LAB_DEN_FLAG_W,CDOM325,CDOM325_FLAG_W,CDOM340,CDOM340_FLAG_W,CDOM380,CDOM380_FLAG_W,CDOM412,CDOM412_FLAG_W,CDOM443,CDOM443_FLAG_W,CDOM490,CDOM490_FLAG_W,CDOM555,CDOM555_FLAG_W,CDOMSL,CDOMSL_FLAG_W,CDOMSN,CDOMSN_FLAG_W,HELIER,DELHER,THETA,LDEO_SAMPNO,ABSORBTION,ABSORBTION_FLAG_W,IMAGE_COUNT,IMAGE_COUNT_FLAG_W,CYTO_COUNT,CYTO_COUNT_FLAG_W,DELD,DELD_FLAG_W,DELDERR,BTL_DATE,BTL_TIME
,,,,,,,,,,,METERS,DBAR,ITS-90,PSS-78,,PSS-78,,UMOL/KG,,UMOL/KG,,UMOL/KG,,UMOL/KG,,UMOL/KG,,UMOL/KG,,PMOL/KG,,PMOL/KG,,PMOL/KG,,FMOL/KG,,UMOL/KG,,UMOL/KG,,,,DEG C,TU,,NMOL/KG,,PERCNT,,DEG C,,/MILLE,,/MILLE,,/MILLE,NMOL/KG,,/MILLE,,UG/KG,,UMOL/KG,,UMOL/KG,,,,TU,NMOL/KG,G/KG,,,,,,1/M,,1/M,,1/M,,1/M,,1/M,,1/M,,1/M,,1/NM,,1/NM,,NMOL/KG,PERCNT,DEG C,,,,,,,,/MILLE,,/MILLE,,
320620110219,       S04P,      41,          1,         36,         36,2,20110309,       1707,   -66.9998,  -154.9857,       4205,     4.4,  -0.4944,  33.6872,2,  33.6860,2,    348.2,2,   348.1,2,   45.39,2,   21.76,2,    0.10,2,    1.50,2,   6.039,2,   3.310,2,   0.580,2,   2.4320,2,  2140.8,6,  2281.8,2,   7.7380,2,    25.00,-999.000,9,-999.0000,9,-999.000,9,  -0.4944,2,    1.69,2,  -108.4,2,     2.6,-999.000,9, -999.00,9,-999.000,9, -999.00,9, -999.00,9, -66.9998,-154.9857,-999.000,     -999.0,    33.8448,2,     -999.0,9,     -999.0,9,-999.0000,9,-999.0000,9,-999.0000,9,-999.0000,9,-999.0000,9,-999.0000,9,-999.0000,9,-999.0000,9,-999.0000,9,-999.0000,-999.000,  -0.4945,     -999.0,     -999.0,9,     -999.0,9,     -999.0,9,     -999.0,9,     -999.0,20110309,       1901
320620110219,       S04P,      41,          1,         35,         35,2,20110309,       1707,   -66.9998,  -154.9857,       4205,    20.4,  -0.4957,  33.6893,2,  33.6881,2,    348.3,2,   348.0,2,   45.33,2,   21.83,2,    0.10,2,    1.52,2,   6.047,2,   3.302,2,   0.581,2,   2.4400,2,  2140.2,2,  2283.3,2,   7.7348,6,    25.00,-999.000,9,-999.0000,9,-999.000,9,  -0.4959,2, -999.00,9,  -999.0,9,  -999.0,-999.000,9, -999.00,9,-999.000,1, -999.00,9, -999.00,9, -66.9998,-154.9857,-999.000,     -999.0,    33.8470,2,     -999.0,1,     -999.0,9,-999.0000,9,-999.0000,9,-999.0000,9,-999.0000,9,-999.0000,9,-999.0000,9,-999.0000,9,-999.0000,9,-999.0000,9,-999.0000,-999.000,  -0.4963,     -999.0,     -999.0,1,     -999.0,1,     -999.0,1,     -999.0,9,     -999.0,20110309,       1900
320620110219,       S04P,      41,          1,         34,         34,2,20110309,       1707,   -66.9998,  -154.9857,       4205,    39.7,  -0.5592,  33.7391,2,  33.7592,2,    347.8,2,   342.1,2,   46.10,2,   23.36,2,    0.12,2,    1.63,2,   5.962,2,   3.228,2,   0.568,2,   2.3460,2,  2153.4,2,  2285.0,6,   7.7117,2,    25.00,-999.000,9,-999.0000,9,-999.000,9,  -0.5548,2,    1.48,2,  -109.6,2,     2.4,-999.000,9, -999.00,9,-999.000,1, -999.00,9, -999.00,9, -66.9998,-154.9857,-999.000,     -999.0,    33.9184,2,     -999.0,1,     -999.0,9,-999.0000,9,-999.0000,9,-999.0000,9,-999.0000,9,-999.0000,9,-999.0000,9,-999.0000,9,-999.0000,9,-999.0000,9,-999.0000,-999.000,  -0.5604,     -999.0,     -999.0,1,     -999.0,1,     -999.0,1,     -999.0,9,     -999.0,20110309,       1858
320620110219,       S04P,      41,          1,         33,         33,2,20110309,       1707,   -66.9998,  -154.9857,       4205,    65.0,  -1.3925,  34.1568,2,  34.1560,2,    287.5,2,   287.4,2,   58.76,2,   28.74,2,    0.13,2,    2.01,2,-999.000,9,-999.000,9,-999.000,9,-999.0000,9,  2209.9,2,  2307.6,2,   7.6128,2,    25.00,-999.000,9,-999.0000,9,-999.000,9,  -1.3892,2,    0.92,2,  -113.1,2,     2.6,-999.000,9, -999.00,9,-999.000,1, -999.00,9, -999.00,9, -66.9998,-154.9857,-999.000,     -999.0,    34.3171,2,     -999.0,1,     -999.0,9,-999.0000,9,-999.0000,9,-999.0000,9,-999.0000,9,-999.0000,9,-999.0000,9,-999.0000,9,-999.0000,9,-999.0000,9,-999.0000,-999.000,  -1.3940,     -999.0,     -999.0,1,     -999.0,1,     -999.0,1,     -999.0,9,     -999.0,20110309,       1857
320620110219,       S04P,      41,          1,         32,         32,2,20110309,       1707,   -66.9998,  -154.9857,       4205,    89.5,  -1.0716,  34.2244,2,  34.2118,2,    276.0,2,   276.6,2,   60.91,2,   29.35,2,    0.07,2,    2.04,2,   4.260,2,   2.314,2,   0.373,2,   1.4710,2,  2215.1,2,  2310.5,2,   7.6057,2,    25.00,-999.000,9,-999.0000,9,-999.000,9,  -1.0710,2,    0.87,2,  -113.2,2,     2.8,-999.000,9, -999.00,9,-999.000,9, -999.00,9, -999.00,9, -66.9998,-154.9857,-999.000,     -999.0,    34.3731,2,     -999.0,9,     -999.0,9,-999.0000,9,-999.0000,9,-999.0000,9,-999.0000,9,-999.0000,9,-999.0000,9,-999.0000,9,-999.0000,9,-999.0000,9,-999.0000,-999.000,  -1.0739,     -999.0,     -999.0,9,     -999.0,9,     -999.0,9,     -999.0,9,     -999.0,20110309,       1855
320620110219,       S04P,      41,          1,         31,         31,2,20110309,       1707,   -66.9998,  -154.9857,       4205,   135.6,   0.0596,  34.4186,2,  34.4218,2,    239.0,2,   230.9,2,   74.02,2,   31.40,2,    0.05,2,    2.15,2,-999.000,9,-999.000,9,-999.000,9,-999.0000,9,  2238.3,2,  2322.2,2,   7.5747,2,    25.00,-999.000,9,-999.0000,9,-999.000,9,   0.0385,2,    0.60,2,  -129.9,2,     2.4,-999.000,9, -999.00,9,-999.000,9, -999.00,9, -999.00,9, -66.9998,-154.9857,-999.000,     -999.0,    34.5841,2,     -999.0,9,     -999.0,9,-999.0000,9,-999.0000,9,-999.0000,9,-999.0000,9,-999.0000,9,-999.0000,9,-999.0000,9,-999.0000,9,-999.0000,9,-999.0000,-999.000,   0.0547,     -999.0,     -999.0,9,     -999.0,9,     -999.0,9,     -999.0,9,     -999.0,20110309,       1853
320620110219,       S04P,      41,          1,         30,         30,2,20110309,       1707,   -66.9998,  -154.9857,       4205,   184.5,   1.1017,  34.5998,2,  34.6026,2,    203.7,2,   197.0,2,   84.91,2,   32.37,2,    0.03,2,    2.22,2,   1.184,2,   0.645,2,   0.098,2,   0.2660,2,  2254.2,2,  2336.5,2,   7.5635,2,    25.00,-999.000,9,-999.0000,9,-999.000,9,   1.1054,2,    0.45,2,  -145.3,2,     2.3,-999.000,9, -999.00,9,-999.000,9, -999.00,9, -999.00,9, -66.9998,-154.9857,-999.000,     -999.0,    34.7657,2,     -999.0,9,     -999.0,9,-999.0000,9,-999.0000,9,-999.0000,9,-999.0000,9,-999.0000,9,-999.0000,9,-999.0000,9,-999.0000,9,-999.0000,9,-999.0000,-999.000,   1.0932,     -999.0,     -999.0,9,     -999.0,9,     -999.0,9,     -999.0,9,     -999.0,20110309,       1851
320620110219,       S04P,      41,          1,         29,         29,2,20110309,       1707,   -66.9998,  -154.9857,       4205,   234.6,   1.4360,  34.6765,2,  34.6765,2,    186.9,2,   185.0,2,   89.90,2,   32.40,2,    0.02,2,    2.22,2,   0.643,2,   0.350,2,   0.049,2,   0.1500,2,  2261.7,2,  2341.4,2,   7.5641,2,    25.00,-999.000,9,-999.0000,9,-999.000,9,   1.4356,2,    0.40,2,  -153.6,2,     2.5,-999.000,9, -999.00,9,-999.000,9, -999.00,9, -999.00,9, -66.9998,-154.9857,-999.000,     -999.0,    34.8400,2,     -999.0,9,     -999.0,9,-999.0000,9,-999.0000,9,-999.0000,9,-999.0000,9,-999.0000,9,-999.0000,9,-999.0000,9,-999.0000,9,-999.0000,9,-999.0000,-999.000,   1.4244,     -999.0,     -999.0,9,     -999.0,9,     -999.0,9,     -999.0,9,     -999.0,20110309,       1849
320620110219,       S04P,      41,          1,         28,         28,2,20110309,       1707,   -66.9998,  -154.9857,       4205,   285.9,   1.5531,  34.7166,2,  34.7159,2,    183.9,2,   184.1,2,   93.99,2,   32.01,2,    0.01,2,    2.19,2,   0.358,2,   0.189,2,   0.028,2,   0.0910,2,  2264.0,2,  2347.4,2,   7.5722,2,    25.00,-999.000,9,-999.0000,9,-999.000,9,   1.5532,2,    0.42,2,  -149.6,2,     3.5,-999.000,9, -999.00,9,-999.000,9, -999.00,9, -999.00,9, -66.9998,-154.9857,-999.000,     -999.0,    34.8796,2,     -999.0,9,     -999.0,9,-999.0000,9,-999.0000,9,-999.0000,9,-999.0000,9,-999.0000,9,-999.0000,9,-999.0000,9,-999.0000,9,-999.0000,9,-999.0000,-999.000,   1.5386,     -999.0,     -999.0,9,     -999.0,9,     -999.0,9,     -999.0,9,     -999.0,20110309,       1847
320620110219,       S04P,      41,          1,         27,         27,2,20110309,       1707,   -66.9998,  -154.9857,       4205,   336.2,   1.5305,  34.7225,2,  34.7224,2,    184.7,2,   184.1,2,   95.35,2,   31.90,2,    0.00,2,    2.19,2,   0.307,2,   0.155,2,   0.025,2,   0.0860,2,  2262.7,2,  2347.5,2,   7.5722,2,    25.00,-999.000,9,-999.0000,9,-999.000,9,   1.5289,2,    0.38,2,  -150.5,2,     2.4,-999.000,9, -999.00,9,-999.000,9, -999.00,9, -999.00,9, -66.9998,-154.9857,-999.000,     -999.0,    34.8861,2,     -999.0,9,     -999.0,9,-999.0000,9,-999.0000,9,-999.0000,9,-999.0000,9,-999.0000,9,-999.0000,9,-999.0000,9,-999.0000,9,-999.0000,9,-999.0000,-999.000,   1.5133,     -999.0,     -999.0,9,     -999.0,9,     -999.0,9,     -999.0,9,     -999.0,20110309,       1845
320620110219,       S04P,      41,          1,         26,         26,2,20110309,       1707,   -66.9998,  -154.9857,       4205,   385.5,   1.4800,  34.7271,2,  34.7259,2,    184.7,2,   184.4,2,   97.92,2,   31.92,2,    0.00,2,    2.19,2,   0.267,2,   0.137,2,   0.019,2,   0.0780,2,  2261.2,2,  2348.9,2,   7.5759,2,    25.00,-999.000,9,-999.0000,9,-999.000,9,   1.4798,2,    0.39,2,  -156.0,2,     2.4,-999.000,9, -999.00,9,-999.000,9, -999.00,9, -999.00,9, -66.9998,-154.9857,-999.000,     -999.0,    34.8897,2,     -999.0,9,     -999.0,9,-999.0000,9,-999.0000,9,-999.0000,9,-999.0000,9,-999.0000,9,-999.0000,9,-999.0000,9,-999.0000,9,-999.0000,9,-999.0000,-999.000,   1.4603,     -999.0,     -999.0,9,     -999.0,9,     -999.0,9,     -999.0,9,     -999.0,20110309,       1843
320620110219,       S04P,      41,          1,         25,         25,2,20110309,       1707,   -66.9998,  -154.9857,       4205,   435.4,   1.4268,  34.7291,2,  34.7287,2,    184.9,2,   185.1,2,  100.40,2,   32.01,2,    0.00,2,    2.20,2,   0.224,2,   0.106,2,   0.014,2,   0.0680,2,  2263.0,2,  2349.4,2,   7.5769,2,    25.00,-999.000,9,-999.0000,9,-999.000,9,   1.4265,2,    0.44,2,  -155.2,2,     2.4,-999.000,9, -999.00,9,-999.000,9, -999.00,9, -999.00,9, -66.9998,-154.9857,-999.000,     -999.0,    34.8924,2,     -999.0,9,     -999.0,9,-999.0000,9,-999.0000,9,-999.0000,9,-999.0000,9,-999.0000,9,-999.0000,9,-999.0000,9,-999.0000,9,-999.0000,9,-999.0000,-999.000,   1.4046,     -999.0,     -999.0,9,     -999.0,9,     -999.0,9,     -999.0,9,     -999.0,20110309,       1841
320620110219,       S04P,      41,          1,         24,         24,2,20110309,       1707,   -66.9998,  -154.9857,       4205,   485.6,   1.3791,  34.7296,2,  34.7285,2,    185.3,2,   185.7,2,  102.38,2,   32.15,2,    0.00,2,    2.20,2,   0.208,2,   0.100,2,   0.012,2,   0.0720,2,  2261.8,2,  2351.0,2,   7.5747,2,    25.00,-999.000,9,-999.0000,9,-999.000,9,   1.3793,2,    0.44,2,  -153.2,2,     2.7,-999.000,9, -999.00,9,-999.000,9, -999.00,9, -999.00,9, -66.9998,-154.9857,-999.000,     -999.0,    34.8922,2,     -999.0,9,     -999.0,9,-999.0000,9,-999.0000,9,-999.0000,9,-999.0000,9,-999.0000,9,-999.0000,9,-999.0000,9,-999.0000,9,-999.0000,9,-999.0000,-999.000,   1.3543,     -999.0,     -999.0,9,     -999.0,9,     -999.0,9,     -999.0,9,     -999.0,20110309,       1839
320620110219,       S04P,      41,          1,         23,         23,2,20110309,       1707,   -66.9998,  -154.9857,       4205,   564.5,   1.3129,  34.7295,2,  34.7289,2,    186.1,2,   186.0,2,  104.92,2,   32.21,2,    0.00,2,    2.21,2,-999.000,9,-999.000,9,-999.000,9,-999.0000,9,  2263.6,2,  2351.3,2,   7.5773,2,    25.00,-999.000,9,-999.0000,9,-999.000,9,   1.3125,2,    0.40,2,  -148.1,2,     2.6,-999.000,9, -999.00,9,-999.000,9, -999.00,9, -999.00,9, -66.9998,-154.9857,-999.000,     -999.0,    34.8926,2,     -999.0,9,     -999.0,9,-999.0000,9,-999.0000,9,-999.0000,9,-999.0000,9,-999.0000,9,-999.0000,9,-999.0000,9,-999.0000,9,-999.0000,9,-999.0000,-999.000,   1.2840,     -999.0,     -999.0,9,     -999.0,9,     -999.0,9,     -999.0,9,     -999.0,20110309,       1836
320620110219,       S04P,      41,          1,         22,         22,2,20110309,       1707,   -66.9998,  -154.9857,       4205,   665.3,   1.2447,  34.7281,2,  34.7275,2,    187.8,2,   187.8,2,  107.39,2,   32.15,2,    0.00,2,    2.21,2,   0.144,2,   0.071,2,   0.009,2,   0.0420,2,  -999.0,9,  2354.4,2,   7.5780,2,    25.00,-999.000,9,-999.0000,9,-999.000,9,   1.2461,2,    0.38,2,  -160.2,2,     2.5,-999.000,9, -999.00,9,-999.000,9, -999.00,9, -999.00,9, -66.9998,-154.9857,-999.000,     -999.0,    34.8912,2,     -999.0,9,     -999.0,9,-999.0000,9,-999.0000,9,-999.0000,9,-999.0000,9,-999.0000,9,-999.0000,9,-999.0000,9,-999.0000,9,-999.0000,9,-999.0000,-999.000,   1.2104,     -999.0,     -999.0,9,     -999.0,9,     -999.0,9,     -999.0,9,     -999.0,20110309,       1833
320620110219,       S04P,      41,          1,         21,         21,2,20110309,       1707,   -66.9998,  -154.9857,       4205,   765.1,   1.1729,  34.7266,2,  34.7255,2,    189.8,2,   189.3,2,  109.92,2,   32.18,2,    0.00,2,    2.21,2,-999.000,9,-999.000,9,-999.000,9,-999.0000,9,  -999.0,9,  2354.0,6,   7.5814,2,    25.00,-999.000,9,-999.0000,9,-999.000,9,   1.1731,2,    0.40,6,  -154.4,6,     2.7,-999.000,9, -999.00,9,-999.000,9, -999.00,9, -999.00,9, -66.9998,-154.9857,-999.000,     -999.0,    34.8892,2,     -999.0,9,     -999.0,9,-999.0000,9,-999.0000,9,-999.0000,9,-999.0000,9,-999.0000,9,-999.0000,9,-999.0000,9,-999.0000,9,-999.0000,9,-999.0000,-999.000,   1.1332,     -999.0,     -999.0,9,     -999.0,9,     -999.0,9,     -999.0,9,     -999.0,20110309,       1830
320620110219,       S04P,      41,          1,         20,         20,2,20110309,       1707,   -66.9998,  -154.9857,       4205,   865.1,   1.1113,  34.7243,2,  34.7233,2,    192.1,2,   191.5,2,  111.56,2,   32.19,2,    0.00,2,    2.22,2,   0.118,2,   0.058,2,   0.004,2,   0.0450,2,  -999.0,9,  2355.5,2,   7.5824,2,    25.00,-999.000,9,-999.0000,9,-999.000,9,   1.1122,2, -999.00,9,  -999.0,9,  -999.0,-999.000,9, -999.00,9,-999.000,9, -999.00,9, -999.00,9, -66.9998,-154.9857,-999.000,     -999.0,    34.8871,2,     -999.0,9,     -999.0,9,-999.0000,9,-999.0000,9,-999.0000,9,-999.0000,9,-999.0000,9,-999.0000,9,-999.0000,9,-999.0000,9,-999.0000,9,-999.0000,-999.000,   1.0662,     -999.0,     -999.0,9,     -999.0,9,     -999.0,9,     -999.0,9,     -999.0,20110309,       1828
320620110219,       S04P,      41,          1,         19,         19,2,20110309,       1707,   -66.9998,  -154.9857,       4205,   965.0,   1.0524,  34.7221,2,  34.7221,2,    194.2,2,   195.0,2,  113.09,2,   32.17,2,    0.00,2,    2.22,2,-999.000,9,-999.000,9,-999.000,9,-999.0000,9,  2262.4,2,  -999.0,9,-999.0000,9,  -999.00,-999.000,9,-999.0000,9,-999.000,9,   1.0525,2, -999.00,9,  -999.0,9,  -999.0,-999.000,9, -999.00,9,-999.000,9, -999.00,9, -999.00,9, -66.9998,-154.9857,-999.000,     -999.0,    34.8859,2,     -999.0,9,     -999.0,9,-999.0000,9,-999.0000,9,-999.0000,9,-999.0000,9,-999.0000,9,-999.0000,9,-999.0000,9,-999.0000,9,-999.0000,9,-999.0000,-999.000,   1.0017,     -999.0,     -999.0,9,     -999.0,9,     -999.0,9,     -999.0,9,     -999.0,20110309,       1825
320620110219,       S04P,      41,          1,         18,         18,2,20110309,       1707,   -66.9998,  -154.9857,       4205,  1064.9,   0.9954,  34.7201,2,  34.7196,2,    195.9,2,   196.0,2,  114.99,2,   32.34,2,    0.00,2,    2.22,2,   0.097,2,   0.052,2,   0.004,2,   0.0460,2,  -999.0,9,  2357.3,2,   7.5873,6,    25.00,-999.000,9,-999.0000,9,-999.000,9,   0.9954,2,    0.47,2,  -164.2,2,     2.4,-999.000,9, -999.00,9,-999.000,9, -999.00,9, -999.00,9, -66.9998,-154.9857,-999.000,     -999.0,    34.8833,2,     -999.0,9,     -999.0,9,-999.0000,9,-999.0000,9,-999.0000,9,-999.0000,9,-999.0000,9,-999.0000,9,-999.0000,9,-999.0000,9,-999.0000,9,-999.0000,-999.000,   0.9390,     -999.0,     -999.0,9,     -999.0,9,     -999.0,9,     -999.0,9,     -999.0,20110309,       1822
320620110219,       S04P,      41,          1,         17,         17,2,20110309,       1707,   -66.9998,  -154.9857,       4205,  1165.2,   0.9260,  34.7174,2,  34.7182,2,    198.1,2,   197.3,2,  117.25,2,   32.39,2,    0.00,2,    2.22,2,-999.000,9,-999.000,9,-999.000,9,-999.0000,9,  -999.0,9,  2357.3,2,   7.5887,2,    25.00,-999.000,9,-999.0000,9,-999.000,9,   0.9257,2,    0.46,2,  -161.3,2,     2.5,-999.000,9, -999.00,9,-999.000,9, -999.00,9, -999.00,9, -66.9998,-154.9857,-999.000,     -999.0,    34.8819,2,     -999.0,9,     -999.0,9,-999.0000,9,-999.0000,9,-999.0000,9,-999.0000,9,-999.0000,9,-999.0000,9,-999.0000,9,-999.0000,9,-999.0000,9,-999.0000,-999.000,   0.8640,     -999.0,     -999.0,9,     -999.0,9,     -999.0,9,     -999.0,9,     -999.0,20110309,       1819
320620110219,       S04P,      41,          1,         16,         16,2,20110309,       1707,   -66.9998,  -154.9857,       4205,  1265.2,   0.8715,  34.7153,2,  34.7146,2,    199.5,2,   199.6,2,  118.95,2,   32.40,2,    0.00,2,    2.22,2,   0.088,2,   0.051,2,   0.004,2,   0.0410,2,  -999.0,9,  2356.9,2,   7.5914,2,    25.00,-999.000,9,-999.0000,9,-999.000,9,   0.8715,2,    0.48,2,  -157.0,2,     2.3,-999.000,9, -999.00,9,-999.000,9, -999.00,9, -999.00,9, -66.9998,-154.9857,-999.000,     -999.0,    34.8783,2,     -999.0,9,     -999.0,9,-999.0000,9,-999.0000,9,-999.0000,9,-999.0000,9,-999.0000,9,-999.0000,9,-999.0000,9,-999.0000,9,-999.0000,9,-999.0000,-999.000,   0.8037,     -999.0,     -999.0,9,     -999.0,9,     -999.0,9,     -999.0,9,     -999.0,20110309,       1816
320620110219,       S04P,      41,          1,         15,         15,2,20110309,       1707,   -66.9998,  -154.9857,       4205,  1363.5,   0.8246,  34.7136,2,  34.7129,2,    200.7,2,   200.6,2,  120.49,2,   32.42,2,    0.00,2,    2.21,2,-999.000,9,-999.000,9,-999.000,9,-999.0000,9,  2261.9,2,  2357.5,2,   7.5917,2,    25.00,-999.000,9,-999.0000,9,-999.000,9,   0.8254,2,    0.47,2,  -159.0,2,     2.4,-999.000,9, -999.00,9,-999.000,9, -999.00,9, -999.00,9, -66.9998,-154.9857,-999.000,     -999.0,    34.8766,2,     -999.0,9,     -999.0,9,-999.0000,9,-999.0000,9,-999.0000,9,-999.0000,9,-999.0000,9,-999.0000,9,-999.0000,9,-999.0000,9,-999.0000,9,-999.0000,-999.000,   0.7509,     -999.0,     -999.0,9,     -999.0,9,     -999.0,9,     -999.0,9,     -999.0,20110309,       1813
320620110219,       S04P,      41,          1,         14,         14,2,20110309,       1707,   -66.9998,  -154.9857,       4205,  1464.1,   0.7708,  34.7112,2,  34.7107,2,    201.7,2,   201.4,2,  121.97,2,   32.41,2,    0.00,2,    2.22,2,   0.092,2,   0.051,2,   0.004,2,   0.0400,2,  -999.0,9,  2358.3,2,   7.5956,2,    25.00,-999.000,9,-999.0000,9,-999.000,9,   0.7707,2,    0.44,2,  -162.0,2,     3.5,-999.000,9, -999.00,9,-999.000,9, -999.00,9, -999.00,9, -66.9998,-154.9857,-999.000,     -999.0,    34.8744,2,     -999.0,9,     -999.0,9,-999.0000,9,-999.0000,9,-999.0000,9,-999.0000,9,-999.0000,9,-999.0000,9,-999.0000,9,-999.0000,9,-999.0000,9,-999.0000,-999.000,   0.6910,     -999.0,     -999.0,9,     -999.0,9,     -999.0,9,     -999.0,9,     -999.0,20110309,       1810