BOTTLE,20220813CCHSIOAMB
EXPOCODE,SECT_ID,STNNBR,CASTNO,SAMPNO,BTLNBR,BTLNBR_FLAG_W,DATE,TIME,LATITUDE,LONGITUDE,DEPTH,CTDPRS,CTDTMP,CTDSAL,CTDSAL_FLAG_W,SALNTY,SALNTY_FLAG_W,CTDOXY,CTDOXY_FLAG_W,OXYGEN,OXYGEN_FLAG_W,SILCAT,SILCAT_FLAG_W,NITRAT,NITRAT_FLAG_W,NITRIT,NITRIT_FLAG_W,PHSPHT,PHSPHT_FLAG_W,CFC-11,CFC-11_FLAG_W,CFC-12,CFC-12_FLAG_W,CFC113,CFC113_FLAG_W,SF6,SF6_FLAG_W,TCARBN,TCARBN_FLAG_W,ALKALI,ALKALI_FLAG_W,PH_TOT,PH_TOT_FLAG_W,PH_TMP,TRITUM,TRITUM_FLAG_W,HELIUM,HELIUM_FLAG_W,DELHE3,DELHE3_FLAG_W,REFTMP,REFTMP_FLAG_W,DELC13,DELC13_FLAG_W,DELC14,DELC14_FLAG_W,C14ERR,NEON,NEON_FLAG_W,DELO18,DELO18_FLAG_W,POC,POC_FLAG_W,DOC,DOC_FLAG_W,TDN,TDN_FLAG_W,BTL_LAT,BTL_LON,TRITER,NEONER,SALTREF,SALTREF_FLAG_W,PIGMENTS,PIGMENTS_FLAG_W,LAB_DEN,LAB_DEN_FLAG_W,CDOM325,CDOM325_FLAG_W,CDOM340,CDOM340_FLAG_W,CDOM380,CDOM380_FLAG_W,CDOM412,CDOM412_FLAG_W,CDOM443,CDOM443_FLAG_W,CDOM490,CDOM490_FLAG_W,CDOM555,CDOM555_FLAG_W,CDOMSL,CDOMSL_FLAG_W,CDOMSN,CDOMSN_FLAG_W,HELIER,DELHER,THETA,LDEO_SAMPNO,ABSORBTION,ABSORBTION_FLAG_W,IMAGE_COUNT,IMAGE_COUNT_FLAG_W,CYTO_COUNT,CYTO_COUNT_FLAG_W,DELD,DELD_FLAG_W,DELDERR,BTL_DATE,BTL_TIME
,,,,,,,,,,,METERS,DBAR,ITS-90,PSS-78,,PSS-78,,UMOL/KG,,UMOL/KG,,UMOL/KG,,UMOL/KG,,UMOL/KG,,UMOL/KG,,PMOL/KG,,PMOL/KG,,PMOL/KG,,FMOL/KG,,UMOL/KG,,UMOL/KG,,,,DEG C,TU,,NMOL/KG,,PERCNT,,DEG C,,/MILLE,,/MILLE,,/MILLE,NMOL/KG,,/MILLE,,UG/KG,,UMOL/KG,,UMOL/KG,,,,TU,NMOL/KG,G/KG,,,,,,1/M,,1/M,,1/M,,1/M,,1/M,,1/M,,1/M,,1/NM,,1/NM,,NMOL/KG,PERCNT,DEG C,,,,,,,,/MILLE,,/MILLE,,
320620110219,       P16S,      58,          1,         13,         13,2,20110315,       0510,   -73.4660,  -150.0000,       4138,  1534.7,   0.9144,  34.7161,2,  34.7160,2,    199.8,2,   199.9,2,  116.48,2,   31.97,2,    0.00,2,    2.25,2,   0.101,2,   0.045,2,   0.011,2,-999.0000,9,  -999.0,9,  -999.0,9,-999.0000,9,  -999.00,-999.000,9,-999.0000,9,-999.000,9,   0.9147,2, -999.00,9,  -999.0,9,  -999.0,-999.000,9, -999.00,9,-999.000,9,   39.96,2,   34.48,2, -73.4660,-150.0000,-999.000,     -999.0,    34.8797,2,     -999.0,9,     -999.0,9,-999.0000,9,-999.0000,9,-999.0000,9,-999.0000,9,-999.0000,9,-999.0000,9,-999.0000,9,-999.0000,9,-999.0000,9,-999.0000,-999.000,   0.8281,     -999.0,     -999.0,9,     -999.0,9,     -999.0,9,     -999.0,9,     -999.0,20110315,       0607
320620110219,       P16S,      58,          1,         12,         12,2,20110315,       0510,   -73.4660,  -150.0000,       4138,  1664.9,   0.8548,  34.7137,2,  34.7144,2,    201.5,2,   201.1,2,  118.47,2,   32.04,2,    0.00,2,    2.25,2,-999.000,9,-999.000,9,-999.000,9,-999.0000,9,  -999.0,9,  -999.0,9,-999.0000,9,  -999.00,-999.000,9,-999.0000,9,-999.000,9,   0.8553,2, -999.00,9,  -999.0,9,  -999.0,-999.000,9, -999.00,9,-999.000,9,   40.50,2,   34.44,2, -73.4660,-150.0000,-999.000,     -999.0,    34.8781,2,     -999.0,9,     -999.0,9,-999.0000,9,-999.0000,9,-999.0000,9,-999.0000,9,-999.0000,9,-999.0000,9,-999.0000,9,-999.0000,9,-999.0000,9,-999.0000,-999.000,   0.7602,     -999.0,     -999.0,9,     -999.0,9,     -999.0,9,     -999.0,9,     -999.0,20110315,       0604
320620110219,       P16S,      58,          1,         11,         11,2,20110315,       0510,   -73.4660,  -150.0000,       4138,  1865.2,   0.7699,  34.7105,2,  34.7117,2,    203.4,2,   203.3,2,  121.84,2,   32.15,2,    0.00,2,    2.26,2,   0.106,2,   0.058,2,   0.007,2,-999.0000,9,  2262.7,2,  2358.9,2,   7.5977,2,    25.00,-999.000,9,-999.0000,9,-999.000,9,   0.7696,2, -999.00,9,  -999.0,9,  -999.0,-999.000,9, -999.00,9,-999.000,9,   40.02,2,   34.44,2, -73.4660,-150.0000,-999.000,     -999.0,    34.8754,2,     -999.0,9,     -999.0,9,-999.0000,9,-999.0000,9,-999.0000,9,-999.0000,9,-999.0000,9,-999.0000,9,-999.0000,9,-999.0000,9,-999.0000,9,-999.0000,-999.000,   0.6620,     -999.0,     -999.0,9,     -999.0,9,     -999.0,9,     -999.0,9,     -999.0,20110315,       0600
320620110219,       P16S,      58,          1,         10,         37,2,20110315,       0510,   -73.4660,  -150.0000,       4138,  2084.4,   0.6906,  34.7078,2,  34.7081,2,    205.1,2,   204.9,2,  124.46,2,   32.38,2,    0.00,2,    2.26,2,-999.000,9,-999.000,9,-999.000,9,-999.0000,9,  -999.0,9,  -999.0,9,-999.0000,9,  -999.00,-999.000,9,-999.0000,9,-999.000,9,   0.6903,2, -999.00,9,  -999.0,9,  -999.0,-999.000,9, -999.00,9,-999.000,9,   40.10,2,   34.46,2, -73.4660,-150.0000,-999.000,     -999.0,    34.8718,2,     -999.0,9,     -999.0,9,-999.0000,9,-999.0000,9,-999.0000,9,-999.0000,9,-999.0000,9,-999.0000,9,-999.0000,9,-999.0000,9,-999.0000,9,-999.0000,-999.000,   0.5676,     -999.0,     -999.0,9,     -999.0,9,     -999.0,9,     -999.0,9,     -999.0,20110315,       0555
320620110219,       P16S,      58,          1,          9,          9,2,20110315,       0510,   -73.4660,  -150.0000,       4138,  2334.7,   0.6060,  34.7060,2,  34.7063,2,    207.4,2,   207.6,2,  125.84,2,   32.45,2,    0.00,2,    2.27,2,   0.152,2,   0.077,2,   0.009,2,-999.0000,9,  2263.2,2,  2361.1,2,   7.5962,2,    25.00,-999.000,9,-999.0000,9,-999.000,9,   0.6064,2, -999.00,9,  -999.0,9,  -999.0,-999.000,9, -999.00,9,-999.000,9,   39.60,2,   34.58,2, -73.4660,-150.0000,-999.000,     -999.0,    34.8700,2,     -999.0,9,     -999.0,9,-999.0000,9,-999.0000,9,-999.0000,9,-999.0000,9,-999.0000,9,-999.0000,9,-999.0000,9,-999.0000,9,-999.0000,9,-999.0000,-999.000,   0.4650,     -999.0,     -999.0,9,     -999.0,9,     -999.0,9,     -999.0,9,     -999.0,20110315,       0550
320620110219,       P16S,      58,          1,          8,          8,2,20110315,       0510,   -73.4660,  -150.0000,       4138,  2583.8,   0.5132,  34.7042,2,  34.7040,2,    209.4,2,   209.0,2,  127.88,2,   32.56,2,    0.00,2,    2.27,2,-999.000,9,-999.000,9,-999.000,9,-999.0000,9,  -999.0,9,  -999.0,9,-999.0000,9,  -999.00,-999.000,9,-999.0000,9,-999.000,9,   0.5137,2, -999.00,9,  -999.0,9,  -999.0,-999.000,9, -999.00,9,-999.000,9,   40.17,2,   34.79,2, -73.4660,-150.0000,-999.000,     -999.0,    34.8676,2,     -999.0,9,     -999.0,9,-999.0000,9,-999.0000,9,-999.0000,9,-999.0000,9,-999.0000,9,-999.0000,9,-999.0000,9,-999.0000,9,-999.0000,9,-999.0000,-999.000,   0.3538,     -999.0,     -999.0,9,     -999.0,9,     -999.0,9,     -999.0,9,     -999.0,20110315,       0544
320620110219,       P16S,      58,          1,          7,          7,2,20110315,       0510,   -73.4660,  -150.0000,       4138,  2834.6,   0.4454,  34.7037,2,  34.7042,2,    210.7,2,   210.5,2,  130.26,2,   32.70,2,    0.00,2,    2.28,2,   0.156,2,   0.073,2,   0.008,2,-999.0000,9,  2263.9,2,  2360.5,2,   7.5969,2,    25.00,-999.000,9,-999.0000,9,-999.000,9,   0.4462,2, -999.00,9,  -999.0,9,  -999.0,-999.000,9, -999.00,9,-999.000,9,   40.66,2,   34.91,2, -73.4660,-150.0000,-999.000,     -999.0,    34.8678,2,     -999.0,9,     -999.0,9,-999.0000,9,-999.0000,9,-999.0000,9,-999.0000,9,-999.0000,9,-999.0000,9,-999.0000,9,-999.0000,9,-999.0000,9,-999.0000,-999.000,   0.2662,     -999.0,     -999.0,9,     -999.0,9,     -999.0,9,     -999.0,9,     -999.0,20110315,       0539
320620110219,       P16S,      58,          1,          6,          6,2,20110315,       0510,   -73.4660,  -150.0000,       4138,  3099.9,   0.3913,  34.7033,2,  34.7036,2,    212.4,2,   211.9,2,  132.65,2,   32.78,2,    0.00,2,    2.27,2,-999.000,9,-999.000,9,-999.000,9,-999.0000,9,  -999.0,9,  -999.0,9,-999.0000,9,  -999.00,-999.000,9,-999.0000,9,-999.000,9,   0.3910,2, -999.00,9,  -999.0,9,  -999.0,-999.000,9, -999.00,9,-999.000,9,   40.08,2,   35.23,2, -73.4660,-150.0000,-999.000,     -999.0,    34.8672,2,     -999.0,9,     -999.0,9,-999.0000,9,-999.0000,9,-999.0000,9,-999.0000,9,-999.0000,9,-999.0000,9,-999.0000,9,-999.0000,9,-999.0000,9,-999.0000,-999.000,   0.1901,     -999.0,     -999.0,9,     -999.0,9,     -999.0,9,     -999.0,9,     -999.0,20110315,       0534
320620110219,       P16S,      58,          1,          5,          5,2,20110315,       0510,   -73.4660,  -150.0000,       4138,  3399.6,   0.3427,  34.7027,2,  34.7030,2,    213.7,2,   213.7,2,  134.62,2,   32.87,2,    0.00,2,    2.28,2,   0.201,2,   0.101,2,   0.011,2,-999.0000,9,  2263.6,2,  2360.9,2,   7.5970,2,    25.00,-999.000,9,-999.0000,9,-999.000,9,   0.3427,2, -999.00,9,  -999.0,9,  -999.0,-999.000,9, -999.00,9,-999.000,9,   41.08,2,   35.06,2, -73.4660,-150.0000,-999.000,     -999.0,    34.8666,2,     -999.0,9,     -999.0,9,-999.0000,9,-999.0000,9,-999.0000,9,-999.0000,9,-999.0000,9,-999.0000,9,-999.0000,9,-999.0000,9,-999.0000,9,-999.0000,-999.000,   0.1152,     -999.0,     -999.0,9,     -999.0,9,     -999.0,9,     -999.0,9,     -999.0,20110315,       0528
320620110219,       P16S,      58,          1,          4,          4,2,20110315,       0510,   -73.4660,  -150.0000,       4138,  3700.1,   0.3090,  34.7018,2,  34.7028,2,    215.1,2,   215.5,2,  136.33,2,   32.89,2,    0.00,2,    2.28,2,   0.323,2,   0.163,2,   0.014,2,-999.0000,9,  2264.1,2,  2360.5,6,   7.5982,2,    25.00,-999.000,9,-999.0000,9,-999.000,9,   0.3090,2, -999.00,9,  -999.0,9,  -999.0,-999.000,9, -999.00,9,-999.000,9,   40.86,2,   35.29,2, -73.4660,-150.0000,-999.000,     -999.0,    34.8664,2,     -999.0,9,     -999.0,9,-999.0000,9,-999.0000,9,-999.0000,9,-999.0000,9,-999.0000,9,-999.0000,9,-999.0000,9,-999.0000,9,-999.0000,9,-999.0000,-999.000,   0.0537,     -999.0,     -999.0,9,     -999.0,9,     -999.0,9,     -999.0,9,     -999.0,20110315,       0522
320620110219,       P16S,      58,          1,          3,          3,2,20110315,       0510,   -73.4660,  -150.0000,       4138,  3999.5,   0.2313,  34.6977,2,  34.6980,2,    220.0,2,   220.0,2,  125.93,2,   32.82,2,    0.00,2,    2.27,2,   0.642,2,   0.315,2,   0.030,2,-999.0000,9,  2261.0,2,  2357.6,2,   7.5939,2,    25.00,-999.000,9,-999.0000,9,-999.000,9,   0.2312,2, -999.00,9,  -999.0,9,  -999.0,-999.000,9, -999.00,9,-999.000,9,   40.28,2,   35.34,2, -73.4660,-150.0000,-999.000,     -999.0,    34.8616,2,     -999.0,9,     -999.0,9,-999.0000,9,-999.0000,9,-999.0000,9,-999.0000,9,-999.0000,9,-999.0000,9,-999.0000,9,-999.0000,9,-999.0000,9,-999.0000,-999.000,  -0.0516,     -999.0,     -999.0,9,     -999.0,9,     -999.0,9,     -999.0,9,     -999.0,20110315,       0516
320620110219,       P16S,      58,          1,          2,          2,2,20110315,       0510,   -73.4660,  -150.0000,       4138,  4119.9,   0.2101,  34.6969,2,  34.6968,2,    221.1,2,   220.3,2,  124.11,2,   32.71,2,    0.00,2,    2.26,2,   0.748,2,   0.356,2,   0.038,2,-999.0000,9,  2260.7,2,  2357.5,2,   7.5937,6,    25.00,-999.000,9,-999.0000,9,-999.000,9,   0.2100,2, -999.00,9,  -999.0,9,  -999.0,-999.000,9, -999.00,9,-999.000,9,   40.86,2,   35.44,2, -73.4660,-150.0000,-999.000,     -999.0,    34.8605,2,     -999.0,9,     -999.0,9,-999.0000,9,-999.0000,9,-999.0000,9,-999.0000,9,-999.0000,9,-999.0000,9,-999.0000,9,-999.0000,9,-999.0000,9,-999.0000,-999.000,  -0.0845,     -999.0,     -999.0,9,     -999.0,9,     -999.0,9,     -999.0,9,     -999.0,20110315,       0513
320620110219,       P16S,      58,          1,          1,          1,2,20110315,       0510,   -73.4660,  -150.0000,       4138,  4209.1,   0.2138,  34.6971,2,  34.6988,2,    220.1,2,   220.1,2,  127.01,2,   32.85,2,    0.00,2,    2.27,2,   0.728,2,   0.356,2,   0.032,2,-999.0000,9,  2262.1,6,  2358.8,2,   7.5889,2,    25.00,-999.000,9,-999.0000,9,-999.000,9,   0.2141,2, -999.00,9,  -999.0,9,  -999.0,-999.000,9, -999.00,9,-999.000,9,   40.95,2,   34.98,2, -73.4660,-150.0000,-999.000,     -999.0,    34.8624,2,     -999.0,9,     -999.0,9,-999.0000,9,-999.0000,9,-999.0000,9,-999.0000,9,-999.0000,9,-999.0000,9,-999.0000,9,-999.0000,9,-999.0000,9,-999.0000,-999.000,  -0.0902,     -999.0,     -999.0,9,     -999.0,9,     -999.0,9,     -999.0,9,     -999.0,20110315,       0510