BOTTLE,20220813CCHSIOAMB
EXPOCODE,SECT_ID,STNNBR,CASTNO,SAMPNO,BTLNBR,BTLNBR_FLAG_W,DATE,TIME,LATITUDE,LONGITUDE,DEPTH,CTDPRS,CTDTMP,CTDSAL,CTDSAL_FLAG_W,SALNTY,SALNTY_FLAG_W,CTDOXY,CTDOXY_FLAG_W,OXYGEN,OXYGEN_FLAG_W,SILCAT,SILCAT_FLAG_W,NITRAT,NITRAT_FLAG_W,NITRIT,NITRIT_FLAG_W,PHSPHT,PHSPHT_FLAG_W,CFC-11,CFC-11_FLAG_W,CFC-12,CFC-12_FLAG_W,CFC113,CFC113_FLAG_W,SF6,SF6_FLAG_W,TCARBN,TCARBN_FLAG_W,ALKALI,ALKALI_FLAG_W,PH_TOT,PH_TOT_FLAG_W,PH_TMP,TRITUM,TRITUM_FLAG_W,HELIUM,HELIUM_FLAG_W,DELHE3,DELHE3_FLAG_W,REFTMP,REFTMP_FLAG_W,DELC13,DELC13_FLAG_W,DELC14,DELC14_FLAG_W,C14ERR,NEON,NEON_FLAG_W,DELO18,DELO18_FLAG_W,POC,POC_FLAG_W,DOC,DOC_FLAG_W,TDN,TDN_FLAG_W,BTL_LAT,BTL_LON,TRITER,NEONER,SALTREF,SALTREF_FLAG_W,PIGMENTS,PIGMENTS_FLAG_W,LAB_DEN,LAB_DEN_FLAG_W,CDOM325,CDOM325_FLAG_W,CDOM340,CDOM340_FLAG_W,CDOM380,CDOM380_FLAG_W,CDOM412,CDOM412_FLAG_W,CDOM443,CDOM443_FLAG_W,CDOM490,CDOM490_FLAG_W,CDOM555,CDOM555_FLAG_W,CDOMSL,CDOMSL_FLAG_W,CDOMSN,CDOMSN_FLAG_W,HELIER,DELHER,THETA,LDEO_SAMPNO,ABSORBTION,ABSORBTION_FLAG_W,IMAGE_COUNT,IMAGE_COUNT_FLAG_W,CYTO_COUNT,CYTO_COUNT_FLAG_W,DELD,DELD_FLAG_W,DELDERR,BTL_DATE,BTL_TIME
,,,,,,,,,,,METERS,DBAR,ITS-90,PSS-78,,PSS-78,,UMOL/KG,,UMOL/KG,,UMOL/KG,,UMOL/KG,,UMOL/KG,,UMOL/KG,,PMOL/KG,,PMOL/KG,,PMOL/KG,,FMOL/KG,,UMOL/KG,,UMOL/KG,,,,DEG C,TU,,NMOL/KG,,PERCNT,,DEG C,,/MILLE,,/MILLE,,/MILLE,NMOL/KG,,/MILLE,,UG/KG,,UMOL/KG,,UMOL/KG,,,,TU,NMOL/KG,G/KG,,,,,,1/M,,1/M,,1/M,,1/M,,1/M,,1/M,,1/M,,1/NM,,1/NM,,NMOL/KG,PERCNT,DEG C,,,,,,,,/MILLE,,/MILLE,,
320620110219,       S04P,      22,          1,         36,         36,2,20110302,       0437,   -66.9999,  -179.2951,       3616,     3.1,   0.2751,  33.8315,2,  33.8312,2,    341.8,2,   341.1,2,   53.42,2,   26.47,2,    0.20,2,    1.69,2,   5.865,2,   3.223,2,   0.596,2,-999.0000,9,  2164.6,6,  2289.0,2,   7.6823,2,    25.00,-999.000,9,-999.0000,9,-999.000,9,   0.2762,2, -999.00,9,  -999.0,9,  -999.0,-999.000,9, -999.00,9,-999.000,9,   43.57,2,   31.86,2, -66.9999,-179.2952,-999.000,     -999.0,    33.9907,2,     -999.0,9,     -999.0,9,-999.0000,9,-999.0000,9,-999.0000,9,-999.0000,9,-999.0000,9,-999.0000,9,-999.0000,9,-999.0000,9,-999.0000,9,-999.0000,-999.000,   0.2750,     -999.0,     -999.0,9,     -999.0,9,     -999.0,9,     -999.0,9,     -999.0,20110302,       0620
320620110219,       S04P,      22,          1,         35,         35,2,20110302,       0437,   -66.9999,  -179.2951,       3616,    35.4,  -0.1770,  33.8961,2,  33.8951,2,    342.3,2,   341.3,2,   54.34,2,   26.94,2,    0.18,2,    1.78,2,   5.826,2,   3.206,2,   0.604,2,-999.0000,9,  2171.7,2,  2293.2,2,   7.6685,2,    25.00,-999.000,9,-999.0000,9,-999.000,9,  -0.1781,2, -999.00,9,  -999.0,9,  -999.0,-999.000,9, -999.00,9,-999.000,9,   43.21,2,   31.47,2, -66.9999,-179.2952,-999.000,     -999.0,    34.0550,2,     -999.0,1,     -999.0,9,-999.0000,9,-999.0000,9,-999.0000,9,-999.0000,9,-999.0000,9,-999.0000,9,-999.0000,9,-999.0000,9,-999.0000,9,-999.0000,-999.000,  -0.1782,     -999.0,     -999.0,9,     -999.0,1,     -999.0,1,     -999.0,9,     -999.0,20110302,       0619
320620110219,       S04P,      22,          1,         34,         34,2,20110302,       0437,   -66.9999,  -179.2951,       3616,    58.9,  -1.1557,  34.1016,2,  34.0794,2,    330.0,2,   325.3,2,   55.51,2,   27.96,2,    0.13,2,    1.87,2,   5.331,2,   2.877,2,   0.520,2,-999.0000,9,  2191.4,2,  2304.8,2,   7.6479,2,    25.00,-999.000,9,-999.0000,9,-999.000,9,  -1.1359,2, -999.00,9,  -999.0,9,  -999.0,-999.000,9, -999.00,9,-999.000,9,   43.59,2,   32.71,2, -66.9999,-179.2951,-999.000,     -999.0,    34.2401,2,     -999.0,1,     -999.0,9,-999.0000,9,-999.0000,9,-999.0000,9,-999.0000,9,-999.0000,9,-999.0000,9,-999.0000,9,-999.0000,9,-999.0000,9,-999.0000,-999.000,  -1.1572,     -999.0,     -999.0,9,     -999.0,1,     -999.0,1,     -999.0,9,     -999.0,20110302,       0617
320620110219,       S04P,      22,          1,         33,         33,2,20110302,       0437,   -66.9999,  -179.2951,       3616,    84.8,  -1.6535,  34.2484,2,  34.2530,2,    302.4,2,   302.0,2,   59.03,2,   29.01,2,    0.11,2,    1.96,2,   4.649,2,   2.517,2,   0.456,2,-999.0000,9,  2207.6,2,  2313.7,2,   7.6249,2,    25.00,-999.000,9,-999.0000,9,-999.000,9,  -1.6530,2, -999.00,9,  -999.0,9,  -999.0,-999.000,9, -999.00,9,-999.000,9,   43.26,2,   32.71,2, -66.9999,-179.2952,-999.000,     -999.0,    34.4145,2,     -999.0,1,     -999.0,9,-999.0000,9,-999.0000,9,-999.0000,9,-999.0000,9,-999.0000,9,-999.0000,9,-999.0000,9,-999.0000,9,-999.0000,9,-999.0000,-999.000,  -1.6553,     -999.0,     -999.0,9,     -999.0,1,     -999.0,1,     -999.0,9,     -999.0,20110302,       0616
320620110219,       S04P,      22,          1,         32,         32,2,20110302,       0437,   -66.9999,  -179.2951,       3616,   109.3,  -1.6573,  34.2805,2,  34.2785,2,    293.8,2,   294.5,2,   60.55,2,   29.42,2,    0.15,2,    1.98,2,-999.000,9,-999.000,9,-999.000,9,-999.0000,9,  2212.5,2,  2317.2,2,   7.6168,2,    25.00,-999.000,9,-999.0000,9,-999.000,9,  -1.6573,2, -999.00,9,  -999.0,9,  -999.0,-999.000,9, -999.00,9,-999.000,9,   43.26,2,   34.10,2, -66.9998,-179.2952,-999.000,     -999.0,    34.4401,2,     -999.0,1,     -999.0,9,-999.0000,9,-999.0000,9,-999.0000,9,-999.0000,9,-999.0000,9,-999.0000,9,-999.0000,9,-999.0000,9,-999.0000,9,-999.0000,-999.000,  -1.6596,     -999.0,     -999.0,9,     -999.0,1,     -999.0,1,     -999.0,9,     -999.0,20110302,       0614
320620110219,       S04P,      22,          1,         31,         31,2,20110302,       0437,   -66.9999,  -179.2951,       3616,   133.6,  -1.3939,  34.3127,2,  34.3063,2,    288.0,2,   284.1,2,   62.37,2,   30.10,2,    0.09,2,    2.01,2,   4.304,2,   2.351,2,   0.423,2,-999.0000,9,  2217.5,2,  2318.0,2,   7.6074,2,    25.00,-999.000,9,-999.0000,9,-999.000,9,  -1.4065,2, -999.00,9,  -999.0,9,  -999.0,-999.000,9, -999.00,9,-999.000,9,   42.78,2,   34.04,2, -66.9999,-179.2951,-999.000,     -999.0,    34.4680,2,     -999.0,9,     -999.0,9,-999.0000,9,-999.0000,9,-999.0000,9,-999.0000,9,-999.0000,9,-999.0000,9,-999.0000,9,-999.0000,9,-999.0000,9,-999.0000,-999.000,  -1.3971,     -999.0,     -999.0,9,     -999.0,9,     -999.0,9,     -999.0,9,     -999.0,20110302,       0613
320620110219,       S04P,      22,          1,         30,         30,2,20110302,       0437,   -66.9999,  -179.2951,       3616,   163.6,   0.1747,  34.4630,2,  34.4622,2,    263.2,2,   225.8,2,   75.30,2,   32.47,2,    0.02,2,    2.16,2,-999.000,9,-999.000,9,-999.000,9,-999.0000,9,  2239.5,2,  2327.7,2,   7.5689,6,    25.00,-999.000,9,-999.0000,9,-999.000,9,   0.1725,2, -999.00,9,  -999.0,9,  -999.0,-999.000,9, -999.00,9,-999.000,9,   41.90,2,   35.89,2, -66.9999,-179.2952,-999.000,     -999.0,    34.6248,2,     -999.0,9,     -999.0,9,-999.0000,9,-999.0000,9,-999.0000,9,-999.0000,9,-999.0000,9,-999.0000,9,-999.0000,9,-999.0000,9,-999.0000,9,-999.0000,-999.000,   0.1685,     -999.0,     -999.0,9,     -999.0,9,     -999.0,9,     -999.0,9,     -999.0,20110302,       0611
320620110219,       S04P,      22,          1,         29,         29,2,20110302,       0437,   -66.9999,  -179.2951,       3616,   214.2,   1.2816,  34.6140,2,  34.6183,2,    201.4,2,   190.3,2,   86.68,2,   33.19,2,    0.02,2,    2.22,2,   0.916,2,   0.541,2,   0.094,2,-999.0000,9,  2251.1,2,  2338.1,2,   7.5563,2,    25.00,-999.000,9,-999.0000,9,-999.000,9,   1.2827,2, -999.00,9,  -999.0,9,  -999.0,-999.000,9, -999.00,9,-999.000,9,   39.97,2,   35.65,2, -66.9999,-179.2951,-999.000,     -999.0,    34.7816,2,     -999.0,9,     -999.0,9,-999.0000,9,-999.0000,9,-999.0000,9,-999.0000,9,-999.0000,9,-999.0000,9,-999.0000,9,-999.0000,9,-999.0000,9,-999.0000,-999.000,   1.2714,     -999.0,     -999.0,9,     -999.0,9,     -999.0,9,     -999.0,9,     -999.0,20110302,       0609
320620110219,       S04P,      22,          1,         28,         28,2,20110302,       0437,   -66.9999,  -179.2951,       3616,   264.4,   1.6821,  34.6942,2,  34.6927,2,    184.0,2,   182.9,2,   87.87,2,   32.83,2,    0.01,2,    2.21,2,-999.000,9,-999.000,9,-999.000,9,-999.0000,9,  2256.8,2,  2343.5,2,   7.5599,2,    25.00,-999.000,9,-999.0000,9,-999.000,9,   1.6820,2, -999.00,9,  -999.0,9,  -999.0,-999.000,9, -999.00,9,-999.000,9,   39.91,2,   35.75,2, -66.9999,-179.2952,-999.000,     -999.0,    34.8563,2,     -999.0,9,     -999.0,9,-999.0000,9,-999.0000,9,-999.0000,9,-999.0000,9,-999.0000,9,-999.0000,9,-999.0000,9,-999.0000,9,-999.0000,9,-999.0000,-999.000,   1.6684,     -999.0,     -999.0,9,     -999.0,9,     -999.0,9,     -999.0,9,     -999.0,20110302,       0608
320620110219,       S04P,      22,          1,         27,         27,2,20110302,       0437,   -66.9999,  -179.2951,       3616,   313.4,   1.6622,  34.7124,2,  34.7111,2,    183.9,2,   184.6,2,   90.07,2,   32.50,2,    0.01,2,    2.18,2,   0.321,2,   0.196,2,   0.026,2,-999.0000,9,  2256.3,2,  2346.4,6,   7.5699,2,    25.00,-999.000,9,-999.0000,9,-999.000,9,   1.6622,2, -999.00,9,  -999.0,9,  -999.0,-999.000,9, -999.00,9,-999.000,9,   39.67,2,   35.40,2, -66.9999,-179.2952,-999.000,     -999.0,    34.8748,2,     -999.0,9,     -999.0,9,-999.0000,9,-999.0000,9,-999.0000,9,-999.0000,9,-999.0000,9,-999.0000,9,-999.0000,9,-999.0000,9,-999.0000,9,-999.0000,-999.000,   1.6459,     -999.0,     -999.0,9,     -999.0,9,     -999.0,9,     -999.0,9,     -999.0,20110302,       0606
320620110219,       S04P,      22,          1,         26,         26,2,20110302,       0437,   -66.9999,  -179.2951,       3616,   364.6,   1.6134,  34.7212,2,  34.7204,2,    185.1,2,   185.3,2,   92.25,2,   32.27,2,    0.02,2,    2.17,2,-999.000,9,-999.000,9,-999.000,9,-999.0000,9,  2256.5,2,  2348.1,2,   7.5725,2,    25.00,-999.000,9,-999.0000,9,-999.000,9,   1.6141,2, -999.00,9,  -999.0,9,  -999.0,-999.000,9, -999.00,9,-999.000,9,   40.24,2,   35.57,2, -66.9999,-179.2952,-999.000,     -999.0,    34.8841,2,     -999.0,9,     -999.0,9,-999.0000,9,-999.0000,9,-999.0000,9,-999.0000,9,-999.0000,9,-999.0000,9,-999.0000,9,-999.0000,9,-999.0000,9,-999.0000,-999.000,   1.5944,     -999.0,     -999.0,9,     -999.0,9,     -999.0,9,     -999.0,9,     -999.0,20110302,       0604
320620110219,       S04P,      22,          1,         25,         25,2,20110302,       0437,   -66.9999,  -179.2951,       3616,   414.9,   1.5542,  34.7242,2,  34.7243,2,    186.0,2,   186.3,2,   94.13,2,   32.35,2,    0.01,2,    2.18,2,   0.249,2,   0.145,2,   0.025,2,-999.0000,9,  2257.5,2,  2350.4,2,   7.5725,2,    25.00,-999.000,9,-999.0000,9,-999.000,9,   1.5544,2, -999.00,9,  -999.0,9,  -999.0,-999.000,9, -999.00,9,-999.000,9,   39.56,2,   35.59,2, -66.9999,-179.2952,-999.000,     -999.0,    34.8880,2,     -999.0,9,     -999.0,9,-999.0000,9,-999.0000,9,-999.0000,9,-999.0000,9,-999.0000,9,-999.0000,9,-999.0000,9,-999.0000,9,-999.0000,9,-999.0000,-999.000,   1.5326,     -999.0,     -999.0,9,     -999.0,9,     -999.0,9,     -999.0,9,     -999.0,20110302,       0602
320620110219,       S04P,      22,          1,         24,         24,2,20110302,       0437,   -66.9999,  -179.2951,       3616,   463.6,   1.5118,  34.7278,2,  34.7274,2,    187.3,2,   187.2,2,   96.18,2,   32.33,2,    0.01,2,    2.17,2,-999.000,9,-999.000,9,-999.000,9,-999.0000,9,  2256.4,2,  2350.7,2,   7.5769,2,    25.00,-999.000,9,-999.0000,9,-999.000,9,   1.5118,2, -999.00,9,  -999.0,9,  -999.0,-999.000,9, -999.00,9,-999.000,9,   40.71,2,   35.43,2, -66.9999,-179.2951,-999.000,     -999.0,    34.8912,2,     -999.0,9,     -999.0,9,-999.0000,9,-999.0000,9,-999.0000,9,-999.0000,9,-999.0000,9,-999.0000,9,-999.0000,9,-999.0000,9,-999.0000,9,-999.0000,-999.000,   1.4877,     -999.0,     -999.0,9,     -999.0,9,     -999.0,9,     -999.0,9,     -999.0,20110302,       0600
320620110219,       S04P,      22,          1,         23,         23,2,20110302,       0437,   -66.9999,  -179.2951,       3616,   533.7,   1.4307,  34.7297,2,  34.7292,2,    187.1,2,   186.8,2,   99.87,2,   32.60,2,    0.00,2,    2.18,2,   0.176,2,   0.106,2,   0.017,2,-999.0000,9,  2259.8,2,  2352.2,2,   7.5756,2,    25.00,-999.000,9,-999.0000,9,-999.000,9,   1.4306,2, -999.00,9,  -999.0,9,  -999.0,-999.000,9, -999.00,9,-999.000,9,   40.49,2,   35.65,2, -66.9999,-179.2952,-999.000,     -999.0,    34.8930,2,     -999.0,9,     -999.0,9,-999.0000,9,-999.0000,9,-999.0000,9,-999.0000,9,-999.0000,9,-999.0000,9,-999.0000,9,-999.0000,9,-999.0000,9,-999.0000,-999.000,   1.4030,     -999.0,     -999.0,9,     -999.0,9,     -999.0,9,     -999.0,9,     -999.0,20110302,       0558
320620110219,       S04P,      22,          1,         22,         22,2,20110302,       0437,   -66.9999,  -179.2951,       3616,   633.8,   1.3426,  34.7299,2,  34.7298,2,    188.5,2,   188.1,2,  103.64,2,   32.53,2,    0.00,2,    2.18,2,-999.000,9,-999.000,9,-999.000,9,-999.0000,9,  2258.8,2,  2353.7,2,   7.5768,6,    25.00,-999.000,9,-999.0000,9,-999.000,9,   1.3426,2, -999.00,9,  -999.0,9,  -999.0,-999.000,9, -999.00,9,-999.000,9,   39.42,2,   35.44,2, -66.9999,-179.2952,-999.000,     -999.0,    34.8935,2,     -999.0,9,     -999.0,9,-999.0000,9,-999.0000,9,-999.0000,9,-999.0000,9,-999.0000,9,-999.0000,9,-999.0000,9,-999.0000,9,-999.0000,9,-999.0000,-999.000,   1.3096,     -999.0,     -999.0,9,     -999.0,9,     -999.0,9,     -999.0,9,     -999.0,20110302,       0555
320620110219,       S04P,      22,          1,         21,         21,2,20110302,       0437,   -66.9999,  -179.2951,       3616,   733.9,   1.2726,  34.7290,2,  34.7286,2,    189.3,2,   188.4,2,  105.94,2,   32.56,2,    0.00,2,    2.19,2,   0.111,2,   0.066,2,   0.012,2,-999.0000,9,  -999.0,9,  -999.0,9,-999.0000,9,  -999.00,-999.000,9,-999.0000,9,-999.000,9,   1.2726,2, -999.00,9,  -999.0,9,  -999.0,-999.000,9, -999.00,9,-999.000,9,   39.78,2,   35.62,2, -66.9998,-179.2952,-999.000,     -999.0,    34.8924,2,     -999.0,9,     -999.0,9,-999.0000,9,-999.0000,9,-999.0000,9,-999.0000,9,-999.0000,9,-999.0000,9,-999.0000,9,-999.0000,9,-999.0000,9,-999.0000,-999.000,   1.2342,     -999.0,     -999.0,9,     -999.0,9,     -999.0,9,     -999.0,9,     -999.0,20110302,       0552
320620110219,       S04P,      22,          1,         20,         20,2,20110302,       0437,   -66.9999,  -179.2951,       3616,   833.4,   1.2057,  34.7272,2,  34.7270,2,    190.5,2,   189.9,2,  108.12,2,   32.54,2,    0.00,2,    2.19,2,-999.000,9,-999.000,9,-999.000,9,-999.0000,9,  2260.7,2,  2356.6,6,   7.5784,2,    25.00,-999.000,9,-999.0000,9,-999.000,9,   1.2058,2, -999.00,9,  -999.0,9,  -999.0,-999.000,9, -999.00,9,-999.000,9,   39.36,2,   35.40,2, -66.9999,-179.2952,-999.000,     -999.0,    34.8908,2,     -999.0,9,     -999.0,9,-999.0000,9,-999.0000,9,-999.0000,9,-999.0000,9,-999.0000,9,-999.0000,9,-999.0000,9,-999.0000,9,-999.0000,9,-999.0000,-999.000,   1.1618,     -999.0,     -999.0,9,     -999.0,9,     -999.0,9,     -999.0,9,     -999.0,20110302,       0550
320620110219,       S04P,      22,          1,         19,         19,2,20110302,       0437,   -66.9999,  -179.2951,       3616,   934.2,   1.1494,  34.7255,2,  34.7249,2,    191.8,2,   191.4,2,  109.85,2,   32.50,2,    0.00,2,    2.19,2,   0.090,2,   0.055,2,   0.009,2,-999.0000,9,  -999.0,9,  -999.0,9,-999.0000,9,  -999.00,-999.000,9,-999.0000,9,-999.000,9,   1.1493,2, -999.00,9,  -999.0,9,  -999.0,-999.000,9, -999.00,9,-999.000,9,   40.08,2,   35.33,2, -66.9999,-179.2952,-999.000,     -999.0,    34.8886,2,     -999.0,9,     -999.0,9,-999.0000,9,-999.0000,9,-999.0000,9,-999.0000,9,-999.0000,9,-999.0000,9,-999.0000,9,-999.0000,9,-999.0000,9,-999.0000,-999.000,   1.0998,     -999.0,     -999.0,9,     -999.0,9,     -999.0,9,     -999.0,9,     -999.0,20110302,       0547
320620110219,       S04P,      22,          1,         18,         18,2,20110302,       0437,   -66.9999,  -179.2951,       3616,  1032.8,   1.0765,  34.7231,2,  34.7229,2,    194.1,2,   194.4,2,  112.14,2,   32.46,2,    0.00,2,    2.20,2,-999.000,9,-999.000,9,-999.000,9,-999.0000,9,  2260.5,2,  2357.7,2,   7.5876,2,    25.00,-999.000,9,-999.0000,9,-999.000,9,   1.0766,2, -999.00,9,  -999.0,9,  -999.0,-999.000,9, -999.00,9,-999.000,9,   39.89,2,   35.20,2, -66.9999,-179.2952,-999.000,     -999.0,    34.8867,2,     -999.0,9,     -999.0,9,-999.0000,9,-999.0000,9,-999.0000,9,-999.0000,9,-999.0000,9,-999.0000,9,-999.0000,9,-999.0000,9,-999.0000,9,-999.0000,-999.000,   1.0214,     -999.0,     -999.0,9,     -999.0,9,     -999.0,9,     -999.0,9,     -999.0,20110302,       0544
320620110219,       S04P,      22,          1,         17,         17,2,20110302,       0437,   -66.9999,  -179.2951,       3616,  1136.0,   1.0259,  34.7209,2,  34.7212,2,    196.0,2,   195.4,2,  113.70,2,   32.45,2,    0.00,2,    2.19,2,   0.069,2,   0.045,2,   0.006,2,-999.0000,9,  -999.0,9,  -999.0,9,-999.0000,9,  -999.00,-999.000,9,-999.0000,9,-999.000,9,   1.0260,2, -999.00,9,  -999.0,9,  -999.0,-999.000,9, -999.00,9,-999.000,9,   39.09,2,   35.56,2, -66.9999,-179.2951,-999.000,     -999.0,    34.8849,2,     -999.0,9,     -999.0,9,-999.0000,9,-999.0000,9,-999.0000,9,-999.0000,9,-999.0000,9,-999.0000,9,-999.0000,9,-999.0000,9,-999.0000,9,-999.0000,-999.000,   0.9648,     -999.0,     -999.0,9,     -999.0,9,     -999.0,9,     -999.0,9,     -999.0,20110302,       0542
320620110219,       S04P,      22,          1,         16,         16,2,20110302,       0437,   -66.9999,  -179.2951,       3616,  1235.3,   0.9611,  34.7185,2,  34.7182,2,    197.4,2,   197.5,2,  116.02,2,   32.52,2,    0.00,2,    2.20,2,-999.000,9,-999.000,9,-999.000,9,-999.0000,9,  2262.0,6,  2359.6,2,   7.5900,2,    25.00,-999.000,9,-999.0000,9,-999.000,9,   0.9603,2, -999.00,9,  -999.0,9,  -999.0,-999.000,9, -999.00,9,-999.000,9,   39.92,2,   35.78,2, -66.9999,-179.2952,-999.000,     -999.0,    34.8819,2,     -999.0,9,     -999.0,9,-999.0000,9,-999.0000,9,-999.0000,9,-999.0000,9,-999.0000,9,-999.0000,9,-999.0000,9,-999.0000,9,-999.0000,9,-999.0000,-999.000,   0.8943,     -999.0,     -999.0,9,     -999.0,9,     -999.0,9,     -999.0,9,     -999.0,20110302,       0539
320620110219,       S04P,      22,          1,         15,         15,2,20110302,       0437,   -66.9999,  -179.2951,       3616,  1336.0,   0.9016,  34.7161,2,  34.7155,2,    199.0,2,   199.5,2,  117.52,2,   32.41,2,    0.00,2,    2.19,2,   0.078,2,   0.052,2,   0.010,2,-999.0000,9,  -999.0,9,  -999.0,9,-999.0000,9,  -999.00,-999.000,9,-999.0000,9,-999.000,9,   0.9017,2, -999.00,9,  -999.0,9,  -999.0,-999.000,9, -999.00,9,-999.000,9,   39.71,2,   35.37,2, -66.9999,-179.2952,-999.000,     -999.0,    34.8792,2,     -999.0,9,     -999.0,9,-999.0000,9,-999.0000,9,-999.0000,9,-999.0000,9,-999.0000,9,-999.0000,9,-999.0000,9,-999.0000,9,-999.0000,9,-999.0000,-999.000,   0.8288,     -999.0,     -999.0,9,     -999.0,9,     -999.0,9,     -999.0,9,     -999.0,20110302,       0536
320620110219,       S04P,      22,          1,         14,         14,2,20110302,       0437,   -66.9999,  -179.2951,       3616,  1433.5,   0.8458,  34.7143,2,  34.7135,2,    200.6,2,   200.2,2,  119.21,2,   32.39,2,    0.00,2,    2.20,2,-999.000,9,-999.000,9,-999.000,9,-999.0000,9,  2259.5,2,  2360.2,2,   7.5915,2,    25.00,-999.000,9,-999.0000,9,-999.000,9,   0.8465,2, -999.00,9,  -999.0,9,  -999.0,-999.000,9, -999.00,9,-999.000,9,   39.63,2,   34.91,2, -66.9999,-179.2951,-999.000,     -999.0,    34.8772,2,     -999.0,9,     -999.0,9,-999.0000,9,-999.0000,9,-999.0000,9,-999.0000,9,-999.0000,9,-999.0000,9,-999.0000,9,-999.0000,9,-999.0000,9,-999.0000,-999.000,   0.7672,     -999.0,     -999.0,9,     -999.0,9,     -999.0,9,     -999.0,9,     -999.0,20110302,       0533