BOTTLE,20220813CCHSIOAMB
EXPOCODE,SECT_ID,STNNBR,CASTNO,SAMPNO,BTLNBR,BTLNBR_FLAG_W,DATE,TIME,LATITUDE,LONGITUDE,DEPTH,CTDPRS,CTDTMP,CTDSAL,CTDSAL_FLAG_W,SALNTY,SALNTY_FLAG_W,CTDOXY,CTDOXY_FLAG_W,OXYGEN,OXYGEN_FLAG_W,SILCAT,SILCAT_FLAG_W,NITRAT,NITRAT_FLAG_W,NITRIT,NITRIT_FLAG_W,PHSPHT,PHSPHT_FLAG_W,CFC-11,CFC-11_FLAG_W,CFC-12,CFC-12_FLAG_W,CFC113,CFC113_FLAG_W,SF6,SF6_FLAG_W,TCARBN,TCARBN_FLAG_W,ALKALI,ALKALI_FLAG_W,PH_TOT,PH_TOT_FLAG_W,PH_TMP,TRITUM,TRITUM_FLAG_W,HELIUM,HELIUM_FLAG_W,DELHE3,DELHE3_FLAG_W,REFTMP,REFTMP_FLAG_W,DELC13,DELC13_FLAG_W,DELC14,DELC14_FLAG_W,C14ERR,NEON,NEON_FLAG_W,DELO18,DELO18_FLAG_W,POC,POC_FLAG_W,DOC,DOC_FLAG_W,TDN,TDN_FLAG_W,BTL_LAT,BTL_LON,TRITER,NEONER,SALTREF,SALTREF_FLAG_W,PIGMENTS,PIGMENTS_FLAG_W,LAB_DEN,LAB_DEN_FLAG_W,CDOM325,CDOM325_FLAG_W,CDOM340,CDOM340_FLAG_W,CDOM380,CDOM380_FLAG_W,CDOM412,CDOM412_FLAG_W,CDOM443,CDOM443_FLAG_W,CDOM490,CDOM490_FLAG_W,CDOM555,CDOM555_FLAG_W,CDOMSL,CDOMSL_FLAG_W,CDOMSN,CDOMSN_FLAG_W,HELIER,DELHER,THETA,LDEO_SAMPNO,ABSORBTION,ABSORBTION_FLAG_W,IMAGE_COUNT,IMAGE_COUNT_FLAG_W,CYTO_COUNT,CYTO_COUNT_FLAG_W,DELD,DELD_FLAG_W,DELDERR,BTL_DATE,BTL_TIME
,,,,,,,,,,,METERS,DBAR,ITS-90,PSS-78,,PSS-78,,UMOL/KG,,UMOL/KG,,UMOL/KG,,UMOL/KG,,UMOL/KG,,UMOL/KG,,PMOL/KG,,PMOL/KG,,PMOL/KG,,FMOL/KG,,UMOL/KG,,UMOL/KG,,,,DEG C,TU,,NMOL/KG,,PERCNT,,DEG C,,/MILLE,,/MILLE,,/MILLE,NMOL/KG,,/MILLE,,UG/KG,,UMOL/KG,,UMOL/KG,,,,TU,NMOL/KG,G/KG,,,,,,1/M,,1/M,,1/M,,1/M,,1/M,,1/M,,1/M,,1/NM,,1/NM,,NMOL/KG,PERCNT,DEG C,,,,,,,,/MILLE,,/MILLE,,
320620110219,       P18S,     118,          1,         36,         36,2,20110411,       1925,   -69.8157,   -99.4447,       4193,     2.8,  -1.8114,  33.2001,2,  33.1986,2,    338.7,3,   339.3,2,   30.16,2,   24.89,2,    0.21,2,    1.75,2,   5.894,2,   3.269,2,   0.651,2,   2.5880,2,  2124.3,3,  2244.5,2,   7.6880,2,    25.00,-999.000,9,-999.0000,9,-999.000,9,  -1.8112,2, -999.00,9,  -999.0,9,  -999.0,-999.000,9, -999.00,9,-999.000,9, -999.00,9, -999.00,9, -69.8066, -99.4434,-999.000,     -999.0,    33.3552,2,     -999.0,9,     -999.0,9,   0.0551,3,   0.0204,3,  -0.0127,4,  -0.0169,4,  -0.0222,4,  -0.0170,4,  -0.0153,4,   0.1203,4,   0.0753,4,-999.0000,-999.000,  -1.8114,     -999.0,     -999.0,9,     -999.0,9,     -999.0,9,     -999.0,9,     -999.0,20110411,       2105
320620110219,       P18S,     118,          1,         35,         35,2,20110411,       1925,   -69.8157,   -99.4447,       4193,    19.8,  -1.8090,  33.2080,3,  33.2973,2,    338.5,2,   336.2,2,   32.66,2,   25.49,2,    0.20,2,    1.80,2,   5.867,2,   3.240,2,   0.636,2,   2.5350,2,  2132.6,3,  2248.4,2,   7.6799,6,    25.00,-999.000,9,-999.0000,9,-999.000,9,  -1.8087,2, -999.00,9,  -999.0,9,  -999.0,-999.000,9, -999.00,9,-999.000,9, -999.00,9, -999.00,9, -69.8067, -99.4434,-999.000,     -999.0,    33.4543,2,     -999.0,9,     -999.0,9,   0.0519,3,   0.0169,3,  -0.0149,4,  -0.0171,4,  -0.0223,4,  -0.0169,4,  -0.0153,4,   0.1141,4,   0.0819,4,-999.0000,-999.000,  -1.8093,     -999.0,     -999.0,9,     -999.0,9,     -999.0,9,     -999.0,9,     -999.0,20110411,       2103
320620110219,       P18S,     118,          1,         34,         34,2,20110411,       1925,   -69.8157,   -99.4447,       4193,    49.9,  -1.6387,  33.9368,2,  33.9389,2,    304.8,2,   304.3,2,   54.44,2,   30.08,2,    0.13,2,    2.08,2,   4.904,2,   2.725,2,   0.533,2,   2.4700,2,  2189.9,2,  2292.1,6,   7.6243,2,    25.00,-999.000,9,-999.0000,9,-999.000,9,  -1.6389,2, -999.00,9,  -999.0,9,  -999.0,-999.000,9, -999.00,9,-999.000,9, -999.00,9, -999.00,9, -69.8068, -99.4435,-999.000,     -999.0,    34.0990,2,     -999.0,9,     -999.0,9,-999.0000,5,-999.0000,5,-999.0000,5,-999.0000,5,-999.0000,5,-999.0000,5,-999.0000,5,-999.0000,5,-999.0000,5,-999.0000,-999.000,  -1.6397,     -999.0,     -999.0,9,     -999.0,9,     -999.0,9,     -999.0,9,     -999.0,20110411,       2101
320620110219,       P18S,     118,          1,         33,         33,2,20110411,       1925,   -69.8157,   -99.4447,       4193,    74.7,  -1.6523,  33.9723,2,  33.9714,2,    304.2,2,   302.2,2,   55.15,2,   30.33,2,    0.16,2,    2.10,2,   4.954,2,   2.721,2,   0.535,2,   2.0260,2,  2193.9,2,  2293.1,2,   7.6200,2,    25.00,-999.000,9,-999.0000,9,-999.000,9,  -1.6522,2, -999.00,9,  -999.0,9,  -999.0,-999.000,9, -999.00,9,-999.000,9, -999.00,9, -999.00,9, -69.8070, -99.4435,-999.000,     -999.0,    34.1316,2,     -999.0,9,     -999.0,9,   0.0610,3,   0.0222,3,  -0.0087,4,  -0.0076,4,  -0.0135,4,  -0.0143,4,  -0.0149,4,   0.1031,4,   0.0764,4,-999.0000,-999.000,  -1.6538,     -999.0,     -999.0,9,     -999.0,9,     -999.0,9,     -999.0,9,     -999.0,20110411,       2100
320620110219,       P18S,     118,          1,         32,         32,2,20110411,       1925,   -69.8157,   -99.4447,       4193,    99.8,  -1.6723,  34.0057,2,  34.0080,2,    304.3,2,   305.8,2,   53.07,2,   30.32,2,    0.19,2,    2.11,2,   5.111,2,   2.793,2,   0.551,2,   2.2010,2,  2195.0,2,  2295.3,2,   7.6193,2,    25.00,-999.000,9,-999.0000,9,-999.000,9,  -1.6727,2, -999.00,9,  -999.0,9,  -999.0,-999.000,9, -999.00,9,-999.000,9, -999.00,9, -999.00,9, -69.8071, -99.4435,-999.000,     -999.0,    34.1683,2,     -999.0,9,     -999.0,9,   0.0505,3,   0.0156,3,  -0.0160,4,  -0.0186,4,  -0.0237,4,  -0.0175,4,  -0.0153,4,   0.1165,4,   0.0853,4,-999.0000,-999.000,  -1.6743,     -999.0,     -999.0,9,     -999.0,9,     -999.0,9,     -999.0,9,     -999.0,20110411,       2059
320620110219,       P18S,     118,          1,         31,         31,2,20110411,       1925,   -69.8157,   -99.4447,       4193,   125.1,  -1.1804,  34.0860,2,  34.1042,2,    292.6,2,   279.9,2,   59.07,2,   31.78,2,    0.07,2,    2.17,2,   4.409,2,   2.451,2,   0.476,2,   1.8450,2,  2206.2,2,  2300.9,2,   7.5958,2,    25.00,-999.000,9,-999.0000,9,-999.000,9,  -1.1836,2, -999.00,9,  -999.0,9,  -999.0,-999.000,9, -999.00,9,-999.000,9, -999.00,9, -999.00,9, -69.8072, -99.4435,-999.000,     -999.0,    34.2650,2,     -999.0,9,     -999.0,9,   0.0533,3,   0.0165,3,  -0.0152,4,  -0.0177,4,  -0.0232,4,  -0.0171,4,  -0.0152,4,   0.1370,4,   0.0850,4,-999.0000,-999.000,  -1.1835,     -999.0,     -999.0,9,     -999.0,9,     -999.0,9,     -999.0,9,     -999.0,20110411,       2058
320620110219,       P18S,     118,          1,         30,         30,2,20110411,       1925,   -69.8157,   -99.4447,       4193,   150.0,   0.4134,  34.3090,2,  34.3108,2,    235.7,2,   230.0,2,   65.79,2,   33.49,2,    0.00,2,    2.28,2,   2.956,2,   1.640,2,   0.289,2,   1.1210,2,  2229.7,2,  2315.1,2,   7.5603,2,    25.00,-999.000,9,-999.0000,9,-999.000,9,   0.4135,2, -999.00,9,  -999.0,9,  -999.0,-999.000,9, -999.00,9,-999.000,9, -999.00,9, -999.00,9, -69.8073, -99.4436,-999.000,     -999.0,    34.4726,2,     -999.0,9,     -999.0,9,   0.0707,3,   0.0309,3,  -0.0071,4,  -0.0112,4,  -0.0187,4,  -0.0154,4,  -0.0147,4,   0.0801,4,   0.0639,4,-999.0000,-999.000,   0.4075,     -999.0,     -999.0,9,     -999.0,9,     -999.0,9,     -999.0,9,     -999.0,20110411,       2056
320620110219,       P18S,     118,          1,         29,         29,2,20110411,       1925,   -69.8157,   -99.4447,       4193,   200.3,   1.3952,  34.4900,2,  34.4924,2,    192.6,2,   192.4,2,   74.55,2,   34.22,2,    0.00,2,    2.34,2,   1.641,2,   0.910,2,   0.154,2,   0.5790,2,  2248.2,2,  2327.0,2,   7.5455,2,    25.00,-999.000,9,-999.0000,9,-999.000,9,   1.3949,2, -999.00,9,  -999.0,9,  -999.0,-999.000,9, -999.00,9,-999.000,9, -999.00,9, -999.00,9, -69.8074, -99.4436,-999.000,     -999.0,    34.6551,2,     -999.0,9,     -999.0,9,   0.0695,3,   0.0302,3,  -0.0068,4,  -0.0147,4,  -0.0218,4,  -0.0167,4,  -0.0153,4,   0.0804,4,   0.0640,4,-999.0000,-999.000,   1.3855,     -999.0,     -999.0,9,     -999.0,9,     -999.0,9,     -999.0,9,     -999.0,20110411,       2055
320620110219,       P18S,     118,          1,         28,         28,2,20110411,       1925,   -69.8157,   -99.4447,       4193,   250.2,   1.8404,  34.5895,2,  34.5897,2,    178.9,2,   177.7,2,   77.25,2,   34.11,2,    0.00,2,    2.32,2,   0.977,2,   0.525,2,   0.074,2,   0.3170,2,  2254.4,2,  2335.7,2,   7.5449,2,    25.00,-999.000,9,-999.0000,9,-999.000,9,   1.8400,2, -999.00,9,  -999.0,9,  -999.0,-999.000,9, -999.00,9,-999.000,9, -999.00,9, -999.00,9, -69.8076, -99.4436,-999.000,     -999.0,    34.7528,2,     -999.0,9,     -999.0,9,-999.0000,9,-999.0000,9,-999.0000,9,-999.0000,9,-999.0000,9,-999.0000,9,-999.0000,9,-999.0000,9,-999.0000,9,-999.0000,-999.000,   1.8272,     -999.0,     -999.0,9,     -999.0,9,     -999.0,9,     -999.0,9,     -999.0,20110411,       2053
320620110219,       P18S,     118,          1,         27,         27,2,20110411,       1925,   -69.8157,   -99.4447,       4193,   299.7,   1.9455,  34.6264,2,  34.6256,2,    174.7,2,   175.1,2,   80.12,2,   33.84,2,    0.00,2,    2.30,2,   0.765,2,   0.389,2,   0.051,2,   0.2190,2,  2256.1,2,  2338.0,2,   7.5524,2,    25.00,-999.000,9,-999.0000,9,-999.000,9,   1.9451,2, -999.00,9,  -999.0,9,  -999.0,-999.000,9, -999.00,9,-999.000,9, -999.00,9, -999.00,9, -69.8077, -99.4436,-999.000,     -999.0,    34.7889,2,     -999.0,9,     -999.0,9,-999.0000,9,-999.0000,9,-999.0000,9,-999.0000,9,-999.0000,9,-999.0000,9,-999.0000,9,-999.0000,9,-999.0000,9,-999.0000,-999.000,   1.9293,     -999.0,     -999.0,9,     -999.0,9,     -999.0,9,     -999.0,9,     -999.0,20110411,       2052
320620110219,       P18S,     118,          1,         26,         26,2,20110411,       1925,   -69.8157,   -99.4447,       4193,   349.9,   1.9934,  34.6556,2,  34.6558,2,    174.0,2,   174.3,2,   80.96,2,   33.44,2,    0.00,2,    2.28,2,   0.575,2,   0.291,2,   0.037,2,   0.1710,2,  2257.3,2,  2340.7,2,   7.5558,2,    25.00,-999.000,9,-999.0000,9,-999.000,9,   1.9932,2, -999.00,9,  -999.0,9,  -999.0,-999.000,9, -999.00,9,-999.000,9, -999.00,9, -999.00,9, -69.8079, -99.4436,-999.000,     -999.0,    34.8192,2,     -999.0,9,     -999.0,9,-999.0000,9,-999.0000,9,-999.0000,9,-999.0000,9,-999.0000,9,-999.0000,9,-999.0000,9,-999.0000,9,-999.0000,9,-999.0000,-999.000,   1.9742,     -999.0,     -999.0,9,     -999.0,9,     -999.0,9,     -999.0,9,     -999.0,20110411,       2050
320620110219,       P18S,     118,          1,         25,         25,2,20110411,       1925,   -69.8157,   -99.4447,       4193,   400.2,   1.9916,  34.6748,2,  34.6745,2,    174.9,2,   175.4,2,   82.46,2,   33.19,2,    0.00,2,    2.25,2,   0.482,2,   0.243,2,   0.031,2,   0.1470,2,  2256.8,2,  2342.9,2,   7.5622,2,    25.00,-999.000,9,-999.0000,9,-999.000,9,   1.9913,2, -999.00,9,  -999.0,9,  -999.0,-999.000,9, -999.00,9,-999.000,9, -999.00,9, -999.00,9, -69.8081, -99.4436,-999.000,     -999.0,    34.8380,2,     -999.0,9,     -999.0,9,   0.0781,2,   0.0378,3,  -0.0015,4,  -0.0112,4,  -0.0197,4,  -0.0162,4,  -0.0153,4,   0.0708,4,   0.0552,4,-999.0000,-999.000,   1.9695,     -999.0,     -999.0,9,     -999.0,9,     -999.0,9,     -999.0,9,     -999.0,20110411,       2048
320620110219,       P18S,     118,          1,         24,         24,2,20110411,       1925,   -69.8157,   -99.4447,       4193,   449.6,   1.9712,  34.6889,2,  34.6888,2,    176.0,2,   176.6,2,   83.41,2,   32.84,2,    0.00,2,    2.24,2,-999.000,9,-999.000,9,-999.000,9,-999.0000,9,  -999.0,9,  -999.0,9,-999.0000,9,  -999.00,-999.000,9,-999.0000,9,-999.000,9,   1.9708,2, -999.00,9,  -999.0,9,  -999.0,-999.000,9, -999.00,9,-999.000,9, -999.00,9, -999.00,9, -69.8082, -99.4436,-999.000,     -999.0,    34.8523,2,     -999.0,9,     -999.0,9,-999.0000,9,-999.0000,9,-999.0000,9,-999.0000,9,-999.0000,9,-999.0000,9,-999.0000,9,-999.0000,9,-999.0000,9,-999.0000,-999.000,   1.9462,     -999.0,     -999.0,9,     -999.0,9,     -999.0,9,     -999.0,9,     -999.0,20110411,       2047
320620110219,       P18S,     118,          1,         23,         23,2,20110411,       1925,   -69.8157,   -99.4447,       4193,   500.0,   1.9548,  34.6985,2,  34.6978,2,    177.6,2,   177.8,2,   84.62,2,   32.65,2,    0.00,2,    2.22,2,   0.389,2,   0.183,2,   0.023,2,   0.0920,2,  2256.9,2,  2345.7,2,   7.5712,2,    25.00,-999.000,9,-999.0000,9,-999.000,9,   1.9545,2, -999.00,9,  -999.0,9,  -999.0,-999.000,9, -999.00,9,-999.000,9, -999.00,9, -999.00,9, -69.8084, -99.4437,-999.000,     -999.0,    34.8614,2,     -999.0,9,     -999.0,9,-999.0000,9,-999.0000,9,-999.0000,9,-999.0000,9,-999.0000,9,-999.0000,9,-999.0000,9,-999.0000,9,-999.0000,9,-999.0000,-999.000,   1.9269,     -999.0,     -999.0,9,     -999.0,9,     -999.0,9,     -999.0,9,     -999.0,20110411,       2045
320620110219,       P18S,     118,          1,         22,         22,2,20110411,       1925,   -69.8157,   -99.4447,       4193,   600.5,   1.8915,  34.7126,2,  34.7125,2,    180.6,2,   180.1,2,   87.20,2,   32.33,2,    0.00,2,    2.20,2,-999.000,9,-999.000,9,-999.000,9,-999.0000,9,  -999.0,9,  -999.0,9,-999.0000,9,  -999.00,-999.000,9,-999.0000,9,-999.000,9,   1.8912,2, -999.00,9,  -999.0,9,  -999.0,-999.000,9, -999.00,9,-999.000,9, -999.00,9, -999.00,9, -69.8086, -99.4437,-999.000,     -999.0,    34.8762,2,     -999.0,9,     -999.0,9,   0.0751,2,   0.0351,3,  -0.0057,4,  -0.0129,4,  -0.0207,4,  -0.0165,4,  -0.0154,4,   0.0664,3,   0.0581,3,-999.0000,-999.000,   1.8577,     -999.0,     -999.0,9,     -999.0,9,     -999.0,9,     -999.0,9,     -999.0,20110411,       2043
320620110219,       P18S,     118,          1,         21,         21,2,20110411,       1925,   -69.8157,   -99.4447,       4193,   700.5,   1.8218,  34.7213,2,  34.7208,2,    183.1,2,   182.8,2,   88.52,2,   32.04,2,    0.00,2,    2.19,2,   0.274,2,   0.130,2,   0.013,2,   0.1000,2,  2255.6,2,  2349.9,2,   7.5842,2,    25.00,-999.000,9,-999.0000,9,-999.000,9,   1.8216,2, -999.00,9,  -999.0,9,  -999.0,-999.000,9, -999.00,9,-999.000,9, -999.00,9, -999.00,9, -69.8088, -99.4437,-999.000,     -999.0,    34.8845,2,     -999.0,9,     -999.0,9,-999.0000,9,-999.0000,9,-999.0000,9,-999.0000,9,-999.0000,9,-999.0000,9,-999.0000,9,-999.0000,9,-999.0000,9,-999.0000,-999.000,   1.7822,     -999.0,     -999.0,9,     -999.0,9,     -999.0,9,     -999.0,9,     -999.0,20110411,       2040
320620110219,       P18S,     118,          1,         20,         20,2,20110411,       1925,   -69.8157,   -99.4447,       4193,   799.8,   1.7471,  34.7272,2,  34.7268,2,    185.4,2,   186.0,2,   91.29,2,   31.78,2,    0.00,2,    2.17,2,-999.000,9,-999.000,9,-999.000,9,-999.0000,9,  -999.0,9,  -999.0,9,-999.0000,9,  -999.00,-999.000,9,-999.0000,9,-999.000,9,   1.7468,2, -999.00,9,  -999.0,9,  -999.0,-999.000,9, -999.00,9,-999.000,9, -999.00,9, -999.00,9, -69.8090, -99.4438,-999.000,     -999.0,    34.8906,2,     -999.0,9,     -999.0,9,-999.0000,9,-999.0000,9,-999.0000,9,-999.0000,9,-999.0000,9,-999.0000,9,-999.0000,9,-999.0000,9,-999.0000,9,-999.0000,-999.000,   1.7017,     -999.0,     -999.0,9,     -999.0,9,     -999.0,9,     -999.0,9,     -999.0,20110411,       2038
320620110219,       P18S,     118,          1,         19,         19,2,20110411,       1925,   -69.8157,   -99.4447,       4193,   900.4,   1.6659,  34.7304,2,  34.7300,2,    187.8,2,   187.8,2,   92.66,2,   31.56,2,    0.00,2,    2.16,2,   0.228,2,   0.107,2,   0.009,2,   0.1460,2,  2254.9,2,  2352.7,2,   7.5933,2,    25.00,-999.000,9,-999.0000,9,-999.000,9,   1.6656,2, -999.00,9,  -999.0,9,  -999.0,-999.000,9, -999.00,9,-999.000,9, -999.00,9, -999.00,9, -69.8093, -99.4438,-999.000,     -999.0,    34.8937,2,     -999.0,9,     -999.0,9,   0.0717,3,   0.0327,3,  -0.0067,4,  -0.0143,4,  -0.0214,4,  -0.0165,4,  -0.0152,4,   0.0749,3,   0.0607,3,-999.0000,-999.000,   1.6146,     -999.0,     -999.0,9,     -999.0,9,     -999.0,9,     -999.0,9,     -999.0,20110411,       2035
320620110219,       P18S,     118,          1,         18,         18,2,20110411,       1925,   -69.8157,   -99.4447,       4193,   999.7,   1.5858,  34.7315,2,  34.7314,2,    189.5,2,   189.1,2,   95.20,2,   31.57,2,    0.00,2,    2.16,2,-999.000,9,-999.000,9,-999.000,9,-999.0000,9,  -999.0,9,  -999.0,9,-999.0000,9,  -999.00,-999.000,9,-999.0000,9,-999.000,9,   1.5856,2, -999.00,9,  -999.0,9,  -999.0,-999.000,9, -999.00,9,-999.000,9, -999.00,9, -999.00,9, -69.8095, -99.4438,-999.000,     -999.0,    34.8951,2,     -999.0,9,     -999.0,9,-999.0000,9,-999.0000,9,-999.0000,9,-999.0000,9,-999.0000,9,-999.0000,9,-999.0000,9,-999.0000,9,-999.0000,9,-999.0000,-999.000,   1.5287,     -999.0,     -999.0,9,     -999.0,9,     -999.0,9,     -999.0,9,     -999.0,20110411,       2033
320620110219,       P18S,     118,          1,         17,         17,2,20110411,       1925,   -69.8157,   -99.4447,       4193,  1099.5,   1.5031,  34.7314,2,  34.7315,2,    190.9,2,   191.1,2,   97.93,2,   31.48,2,    0.00,2,    2.16,2,   0.186,2,   0.080,2,   0.008,2,   0.0930,2,  2255.4,2,  2355.5,2,   7.5950,2,    25.00,-999.000,9,-999.0000,9,-999.000,9,   1.5029,2, -999.00,9,  -999.0,9,  -999.0,-999.000,9, -999.00,9,-999.000,9, -999.00,9, -999.00,9, -69.8097, -99.4439,-999.000,     -999.0,    34.8953,2,     -999.0,9,     -999.0,9,-999.0000,9,-999.0000,9,-999.0000,9,-999.0000,9,-999.0000,9,-999.0000,9,-999.0000,9,-999.0000,9,-999.0000,9,-999.0000,-999.000,   1.4401,     -999.0,     -999.0,9,     -999.0,9,     -999.0,9,     -999.0,9,     -999.0,20110411,       2030
320620110219,       P18S,     118,          1,         16,         16,2,20110411,       1925,   -69.8157,   -99.4447,       4193,  1199.9,   1.4314,  34.7305,2,  34.7306,2,    192.4,2,   192.3,2,  101.16,2,   31.48,2,    0.00,2,    2.16,2,-999.000,9,-999.000,9,-999.000,9,-999.0000,9,  -999.0,9,  -999.0,9,-999.0000,9,  -999.00,-999.000,9,-999.0000,9,-999.000,9,   1.4312,2, -999.00,9,  -999.0,9,  -999.0,-999.000,9, -999.00,9,-999.000,9, -999.00,9, -999.00,9, -69.8099, -99.4439,-999.000,     -999.0,    34.8943,2,     -999.0,9,     -999.0,9,   0.0642,3,   0.0271,3,  -0.0089,4,  -0.0174,4,  -0.0241,4,  -0.0184,4,  -0.0163,4,   0.0863,4,   0.0671,4,-999.0000,-999.000,   1.3623,     -999.0,     -999.0,9,     -999.0,9,     -999.0,9,     -999.0,9,     -999.0,20110411,       2028
320620110219,       P18S,     118,          1,         15,         15,2,20110411,       1925,   -69.8157,   -99.4447,       4193,  1300.2,   1.3615,  34.7293,2,  34.7292,2,    193.7,2,   193.8,2,  102.85,2,   31.56,2,    0.00,2,    2.16,2,   0.164,2,   0.072,2,   0.006,2,   0.1210,2,  2256.7,2,  2358.4,2,   7.6002,6,    25.00,-999.000,9,-999.0000,9,-999.000,9,   1.3614,2, -999.00,9,  -999.0,9,  -999.0,-999.000,9, -999.00,9,-999.000,9, -999.00,9, -999.00,9, -69.8101, -99.4440,-999.000,     -999.0,    34.8930,2,     -999.0,9,     -999.0,9,-999.0000,9,-999.0000,9,-999.0000,9,-999.0000,9,-999.0000,9,-999.0000,9,-999.0000,9,-999.0000,9,-999.0000,9,-999.0000,-999.000,   1.2863,     -999.0,     -999.0,9,     -999.0,9,     -999.0,9,     -999.0,9,     -999.0,20110411,       2025
320620110219,       P18S,     118,          1,         14,         14,2,20110411,       1925,   -69.8157,   -99.4447,       4193,  1400.5,   1.2947,  34.7276,2,  34.7278,2,    194.6,2,   194.5,2,  104.97,2,   31.48,2,    0.00,2,    2.17,2,-999.000,9,-999.000,9,-999.000,9,-999.0000,9,  -999.0,9,  -999.0,9,-999.0000,9,  -999.00,-999.000,9,-999.0000,9,-999.000,9,   1.2945,2, -999.00,9,  -999.0,9,  -999.0,-999.000,9, -999.00,9,-999.000,9, -999.00,9, -999.00,9, -69.8104, -99.4440,-999.000,     -999.0,    34.8916,2,     -999.0,9,     -999.0,9,-999.0000,9,-999.0000,9,-999.0000,9,-999.0000,9,-999.0000,9,-999.0000,9,-999.0000,9,-999.0000,9,-999.0000,9,-999.0000,-999.000,   1.2133,     -999.0,     -999.0,9,     -999.0,9,     -999.0,9,     -999.0,9,     -999.0,20110411,       2023