BOTTLE,20220813CCHSIOAMB
EXPOCODE,SECT_ID,STNNBR,CASTNO,SAMPNO,BTLNBR,BTLNBR_FLAG_W,DATE,TIME,LATITUDE,LONGITUDE,DEPTH,CTDPRS,CTDTMP,CTDSAL,CTDSAL_FLAG_W,SALNTY,SALNTY_FLAG_W,CTDOXY,CTDOXY_FLAG_W,OXYGEN,OXYGEN_FLAG_W,SILCAT,SILCAT_FLAG_W,NITRAT,NITRAT_FLAG_W,NITRIT,NITRIT_FLAG_W,PHSPHT,PHSPHT_FLAG_W,CFC-11,CFC-11_FLAG_W,CFC-12,CFC-12_FLAG_W,CFC113,CFC113_FLAG_W,SF6,SF6_FLAG_W,TCARBN,TCARBN_FLAG_W,ALKALI,ALKALI_FLAG_W,PH_TOT,PH_TOT_FLAG_W,PH_TMP,TRITUM,TRITUM_FLAG_W,HELIUM,HELIUM_FLAG_W,DELHE3,DELHE3_FLAG_W,REFTMP,REFTMP_FLAG_W,DELC13,DELC13_FLAG_W,DELC14,DELC14_FLAG_W,C14ERR,NEON,NEON_FLAG_W,DELO18,DELO18_FLAG_W,POC,POC_FLAG_W,DOC,DOC_FLAG_W,TDN,TDN_FLAG_W,BTL_LAT,BTL_LON,TRITER,NEONER,SALTREF,SALTREF_FLAG_W,PIGMENTS,PIGMENTS_FLAG_W,LAB_DEN,LAB_DEN_FLAG_W,CDOM325,CDOM325_FLAG_W,CDOM340,CDOM340_FLAG_W,CDOM380,CDOM380_FLAG_W,CDOM412,CDOM412_FLAG_W,CDOM443,CDOM443_FLAG_W,CDOM490,CDOM490_FLAG_W,CDOM555,CDOM555_FLAG_W,CDOMSL,CDOMSL_FLAG_W,CDOMSN,CDOMSN_FLAG_W,HELIER,DELHER,THETA,LDEO_SAMPNO,ABSORBTION,ABSORBTION_FLAG_W,IMAGE_COUNT,IMAGE_COUNT_FLAG_W,CYTO_COUNT,CYTO_COUNT_FLAG_W,DELD,DELD_FLAG_W,DELDERR,BTL_DATE,BTL_TIME
,,,,,,,,,,,METERS,DBAR,ITS-90,PSS-78,,PSS-78,,UMOL/KG,,UMOL/KG,,UMOL/KG,,UMOL/KG,,UMOL/KG,,UMOL/KG,,PMOL/KG,,PMOL/KG,,PMOL/KG,,FMOL/KG,,UMOL/KG,,UMOL/KG,,,,DEG C,TU,,NMOL/KG,,PERCNT,,DEG C,,/MILLE,,/MILLE,,/MILLE,NMOL/KG,,/MILLE,,UG/KG,,UMOL/KG,,UMOL/KG,,,,TU,NMOL/KG,G/KG,,,,,,1/M,,1/M,,1/M,,1/M,,1/M,,1/M,,1/M,,1/NM,,1/NM,,NMOL/KG,PERCNT,DEG C,,,,,,,,/MILLE,,/MILLE,,
320620110219,       P16S,      59,          2,         36,         36,2,20110315,       1344,   -73.9782,  -149.9634,       4040,     4.3,  -1.6172,  33.4368,2,  33.4307,2,    352.5,2,   352.2,2,   46.58,2,   21.45,2,    0.17,2,    1.28,2,   6.272,2,   3.448,2,   0.602,2,-999.0000,9,  2133.4,2,  2269.7,2,   7.7237,6,    25.00,-999.000,9,-999.0000,9,-999.000,9,  -1.6170,2,    1.38,2,  -123.0,2,     2.4,-999.000,9, -999.00,9,-999.000,9, -999.00,9, -999.00,9, -73.9782,-149.9634,-999.000,     -999.0,    33.5884,2,     -999.0,9,     -999.0,9,-999.0000,9,-999.0000,9,-999.0000,9,-999.0000,9,-999.0000,9,-999.0000,9,-999.0000,9,-999.0000,9,-999.0000,9,-999.0000,-999.000,  -1.6173,     -999.0,     -999.0,9,     -999.0,9,     -999.0,9,     -999.0,9,     -999.0,20110315,       1530
320620110219,       P16S,      59,          2,         35,         35,2,20110315,       1344,   -73.9782,  -149.9634,       4040,    20.4,  -1.5914,  33.4781,2,  33.4619,2,    349.7,2,   349.5,2,   48.92,2,   21.83,2,    0.17,2,    1.36,2,   6.120,2,   3.393,2,   0.574,2,-999.0000,9,  2138.0,6,  2271.3,2,   7.7142,2,    25.00,-999.000,9,-999.0000,9,-999.000,9,  -1.5900,2, -999.00,9,  -999.0,9,  -999.0,-999.000,9, -999.00,9,-999.000,9, -999.00,9, -999.00,9, -73.9782,-149.9634,-999.000,     -999.0,    33.6197,2,     -999.0,9,     -999.0,9,-999.0000,9,-999.0000,9,-999.0000,9,-999.0000,9,-999.0000,9,-999.0000,9,-999.0000,9,-999.0000,9,-999.0000,9,-999.0000,-999.000,  -1.5918,     -999.0,     -999.0,9,     -999.0,9,     -999.0,9,     -999.0,9,     -999.0,20110315,       1528
320620110219,       P16S,      59,          2,         34,         34,2,20110315,       1344,   -73.9782,  -149.9634,       4040,    40.0,  -1.5574,  33.7387,2,  33.7220,2,    345.0,2,   319.8,2,   65.53,2,   25.40,2,    0.15,2,    1.80,2,   5.152,2,   2.829,2,   0.495,2,-999.0000,9,  2171.2,2,  2287.2,6,   7.6564,2,    25.00,-999.000,9,-999.0000,9,-999.000,9,  -1.5522,2,    0.98,2,  -137.2,2,     2.4,-999.000,9, -999.00,9,-999.000,9, -999.00,9, -999.00,9, -73.9782,-149.9634,-999.000,     -999.0,    33.8810,2,     -999.0,9,     -999.0,9,-999.0000,9,-999.0000,9,-999.0000,9,-999.0000,9,-999.0000,9,-999.0000,9,-999.0000,9,-999.0000,9,-999.0000,9,-999.0000,-999.000,  -1.5582,     -999.0,     -999.0,9,     -999.0,9,     -999.0,9,     -999.0,9,     -999.0,20110315,       1526
320620110219,       P16S,      59,          2,         33,         33,2,20110315,       1344,   -73.9782,  -149.9634,       4040,    64.6,  -1.6896,  34.0263,2,  34.0266,2,    289.9,2,   288.6,2,   83.49,2,   29.52,2,    0.17,2,    2.09,2,   4.081,2,   2.263,2,   0.388,2,-999.0000,9,  2210.4,2,  2305.2,2,   7.5999,2,    25.00,-999.000,9,-999.0000,9,-999.000,9,  -1.6896,2,    0.70,2,  -143.9,2,     2.8,-999.000,9, -999.00,9,-999.000,9, -999.00,9, -999.00,9, -73.9782,-149.9634,-999.000,     -999.0,    34.1870,2,     -999.0,9,     -999.0,9,-999.0000,9,-999.0000,9,-999.0000,9,-999.0000,9,-999.0000,9,-999.0000,9,-999.0000,9,-999.0000,9,-999.0000,9,-999.0000,-999.000,  -1.6909,     -999.0,     -999.0,9,     -999.0,9,     -999.0,9,     -999.0,9,     -999.0,20110315,       1525
320620110219,       P16S,      59,          2,         32,         32,2,20110315,       1344,   -73.9782,  -149.9634,       4040,    90.4,  -1.7227,  34.0532,2,  34.0518,2,    287.9,2,   288.1,2,   83.32,2,   29.60,2,    0.17,2,    2.08,2,   4.047,2,   2.244,2,   0.385,2,-999.0000,9,  2210.7,2,  2305.6,2,   7.5968,2,    25.00,-999.000,9,-999.0000,9,-999.000,9,  -1.7223,2,    0.67,2,  -149.1,2,     3.0,-999.000,9, -999.00,9,-999.000,9, -999.00,9, -999.00,9, -73.9782,-149.9634,-999.000,     -999.0,    34.2123,2,     -999.0,9,     -999.0,9,-999.0000,9,-999.0000,9,-999.0000,9,-999.0000,9,-999.0000,9,-999.0000,9,-999.0000,9,-999.0000,9,-999.0000,9,-999.0000,-999.000,  -1.7245,     -999.0,     -999.0,9,     -999.0,9,     -999.0,9,     -999.0,9,     -999.0,20110315,       1523
320620110219,       P16S,      59,          2,         31,         31,2,20110315,       1344,   -73.9782,  -149.9634,       4040,   114.5,  -1.7360,  34.0720,2,  34.0723,2,    286.0,2,   286.4,2,   83.20,2,   30.03,2,    0.15,2,    2.09,2,   4.045,2,   2.240,2,   0.379,2,-999.0000,9,  2212.6,2,  2309.0,4,   7.5969,2,    25.00,-999.000,9,-999.0000,9,-999.000,9,  -1.7358,2,    0.67,2,  -147.5,2,     2.4,-999.000,9, -999.00,9,-999.000,9, -999.00,9, -999.00,9, -73.9782,-149.9634,-999.000,     -999.0,    34.2330,2,     -999.0,9,     -999.0,9,-999.0000,9,-999.0000,9,-999.0000,9,-999.0000,9,-999.0000,9,-999.0000,9,-999.0000,9,-999.0000,9,-999.0000,9,-999.0000,-999.000,  -1.7383,     -999.0,     -999.0,9,     -999.0,9,     -999.0,9,     -999.0,9,     -999.0,20110315,       1522
320620110219,       P16S,      59,          2,         30,         30,2,20110315,       1344,   -73.9782,  -149.9634,       4040,   140.1,  -1.7241,  34.0866,2,  34.0860,2,    283.7,2,   283.8,2,   83.31,2,   30.01,2,    0.07,2,    2.10,2,   3.934,2,   2.189,2,   0.367,2,-999.0000,9,  2215.0,2,  2308.2,2,   7.5960,2,    25.00,-999.000,9,-999.0000,9,-999.000,9,  -1.7243,2,    0.66,2,  -145.9,2,     2.6,-999.000,9, -999.00,9,-999.000,9, -999.00,9, -999.00,9, -73.9782,-149.9633,-999.000,     -999.0,    34.2467,2,     -999.0,9,     -999.0,9,-999.0000,9,-999.0000,9,-999.0000,9,-999.0000,9,-999.0000,9,-999.0000,9,-999.0000,9,-999.0000,9,-999.0000,9,-999.0000,-999.000,  -1.7270,     -999.0,     -999.0,9,     -999.0,9,     -999.0,9,     -999.0,9,     -999.0,20110315,       1520
320620110219,       P16S,      59,          2,         29,         29,2,20110315,       1344,   -73.9782,  -149.9634,       4040,   184.9,  -1.6733,  34.1196,2,  34.1183,2,    279.3,2,   278.6,2,   83.41,2,   30.25,2,    0.01,2,    2.11,2,   3.877,2,   2.146,2,   0.363,2,-999.0000,9,  2217.4,2,  2310.3,2,   7.5915,2,    25.00,-999.000,9,-999.0000,9,-999.000,9,  -1.6725,2,    0.64,2,  -146.5,2,     2.5,-999.000,9, -999.00,9,-999.000,9, -999.00,9, -999.00,9, -73.9782,-149.9634,-999.000,     -999.0,    34.2791,2,     -999.0,9,     -999.0,9,-999.0000,9,-999.0000,9,-999.0000,9,-999.0000,9,-999.0000,9,-999.0000,9,-999.0000,9,-999.0000,9,-999.0000,9,-999.0000,-999.000,  -1.6773,     -999.0,     -999.0,9,     -999.0,9,     -999.0,9,     -999.0,9,     -999.0,20110315,       1519
320620110219,       P16S,      59,          2,         28,         28,2,20110315,       1344,   -73.9782,  -149.9634,       4040,   234.5,  -1.4887,  34.1466,2,  34.1448,2,    274.4,2,   271.6,2,   83.49,2,   30.43,2,    0.01,2,    2.13,2,   3.675,2,   2.020,2,   0.335,2,-999.0000,9,  2221.0,2,  2311.8,2,   7.5850,2,    25.00,-999.000,9,-999.0000,9,-999.000,9,  -1.4897,2,    0.61,2,  -142.3,2,     2.5,-999.000,9, -999.00,9,-999.000,9, -999.00,9, -999.00,9, -73.9782,-149.9634,-999.000,     -999.0,    34.3059,2,     -999.0,9,     -999.0,9,-999.0000,9,-999.0000,9,-999.0000,9,-999.0000,9,-999.0000,9,-999.0000,9,-999.0000,9,-999.0000,9,-999.0000,9,-999.0000,-999.000,  -1.4942,     -999.0,     -999.0,9,     -999.0,9,     -999.0,9,     -999.0,9,     -999.0,20110315,       1517
320620110219,       P16S,      59,          2,         27,         27,2,20110315,       1344,   -73.9782,  -149.9634,       4040,   285.5,  -0.6207,  34.2657,2,  34.2701,2,    249.8,2,   244.2,2,   82.71,2,   31.31,2,    0.00,2,    2.19,2,-999.000,9,-999.000,9,-999.000,9,-999.0000,9,  2230.0,2,  2318.0,2,   7.5762,2,    25.00,-999.000,9,-999.0000,9,-999.000,9,  -0.6193,2,    0.59,2,  -143.0,2,     2.6,-999.000,9, -999.00,9,-999.000,9, -999.00,9, -999.00,9, -73.9782,-149.9634,-999.000,     -999.0,    34.4317,2,     -999.0,9,     -999.0,9,-999.0000,9,-999.0000,9,-999.0000,9,-999.0000,9,-999.0000,9,-999.0000,9,-999.0000,9,-999.0000,9,-999.0000,9,-999.0000,-999.000,  -0.6298,     -999.0,     -999.0,9,     -999.0,9,     -999.0,9,     -999.0,9,     -999.0,20110315,       1515
320620110219,       P16S,      59,          2,         26,         26,2,20110315,       1344,   -73.9782,  -149.9634,       4040,   334.9,   0.7900,  34.4685,2,  34.4753,2,    214.6,2,   206.7,2,   78.55,3,   32.60,2,    0.00,2,    2.27,2,   1.817,2,   0.990,2,   0.156,2,-999.0000,9,  2244.3,2,  2327.1,2,   7.5596,2,    25.00,-999.000,9,-999.0000,9,-999.000,9,   0.7917,2,    0.56,2,  -146.2,2,     2.5,-999.000,9, -999.00,9,-999.000,9, -999.00,9, -999.00,9, -73.9782,-149.9634,-999.000,     -999.0,    34.6378,2,     -999.0,9,     -999.0,9,-999.0000,9,-999.0000,9,-999.0000,9,-999.0000,9,-999.0000,9,-999.0000,9,-999.0000,9,-999.0000,9,-999.0000,9,-999.0000,-999.000,   0.7751,     -999.0,     -999.0,9,     -999.0,9,     -999.0,9,     -999.0,9,     -999.0,20110315,       1513
320620110219,       P16S,      59,          2,         25,         25,2,20110315,       1344,   -73.9782,  -149.9634,       4040,   384.8,   1.4959,  34.5924,2,  34.5929,2,    190.1,2,   187.1,2,   81.85,2,   33.10,2,    0.00,2,    2.30,2,-999.000,9,-999.000,9,-999.000,9,-999.0000,9,  2252.9,2,  2335.8,2,   7.5489,2,    25.00,-999.000,9,-999.0000,9,-999.000,9,   1.4911,2,    0.39,2,  -147.6,2,     2.5,-999.000,9, -999.00,9,-999.000,9, -999.00,9, -999.00,9, -73.9782,-149.9634,-999.000,     -999.0,    34.7560,2,     -999.0,9,     -999.0,9,-999.0000,9,-999.0000,9,-999.0000,9,-999.0000,9,-999.0000,9,-999.0000,9,-999.0000,9,-999.0000,9,-999.0000,9,-999.0000,-999.000,   1.4763,     -999.0,     -999.0,9,     -999.0,9,     -999.0,9,     -999.0,9,     -999.0,20110315,       1511
320620110219,       P16S,      59,          2,         24,         24,2,20110315,       1344,   -73.9782,  -149.9634,       4040,   434.4,   1.6673,  34.6599,2,  34.6639,2,    182.4,2,   181.0,2,   86.07,2,   32.68,2,    0.00,2,    2.26,2,   0.617,2,   0.314,2,   0.049,2,-999.0000,9,  2255.9,2,  2341.2,6,   7.5583,2,    25.00,-999.000,9,-999.0000,9,-999.000,9,   1.6634,2,    0.43,2,  -151.4,2,     2.4,-999.000,9, -999.00,9,-999.000,9, -999.00,9, -999.00,9, -73.9782,-149.9634,-999.000,     -999.0,    34.8273,2,     -999.0,9,     -999.0,9,-999.0000,9,-999.0000,9,-999.0000,9,-999.0000,9,-999.0000,9,-999.0000,9,-999.0000,9,-999.0000,9,-999.0000,9,-999.0000,-999.000,   1.6443,     -999.0,     -999.0,9,     -999.0,9,     -999.0,9,     -999.0,9,     -999.0,20110315,       1509
320620110219,       P16S,      59,          2,         23,         23,2,20110315,       1344,   -73.9782,  -149.9634,       4040,   485.4,   1.7822,  34.6979,2,  34.6988,2,    180.3,2,   181.2,2,   87.34,2,   32.37,2,    0.00,2,    2.24,2,-999.000,9,-999.000,9,-999.000,9,-999.0000,9,  2255.7,2,  2342.5,2,   7.5677,6,    25.00,-999.000,9,-999.0000,9,-999.000,9,   1.7833,2,    0.41,2,  -151.8,2,     2.6,-999.000,9, -999.00,9,-999.000,9, -999.00,9, -999.00,9, -73.9782,-149.9634,-999.000,     -999.0,    34.8624,2,     -999.0,9,     -999.0,9,-999.0000,9,-999.0000,9,-999.0000,9,-999.0000,9,-999.0000,9,-999.0000,9,-999.0000,9,-999.0000,9,-999.0000,9,-999.0000,-999.000,   1.7558,     -999.0,     -999.0,9,     -999.0,9,     -999.0,9,     -999.0,9,     -999.0,20110315,       1507
320620110219,       P16S,      59,          2,         22,         22,2,20110315,       1344,   -73.9782,  -149.9634,       4040,   564.3,   1.7405,  34.7181,2,  34.7166,2,    182.9,2,   183.3,2,   89.43,2,   32.07,2,    0.00,2,    2.22,2,   0.337,2,   0.162,2,   0.022,2,-999.0000,9,  2255.0,6,  2346.5,2,   7.5757,2,    25.00,-999.000,9,-999.0000,9,-999.000,9,   1.7429,2,    0.44,2,  -148.0,2,     2.5,-999.000,9, -999.00,9,-999.000,9, -999.00,9, -999.00,9, -73.9782,-149.9634,-999.000,     -999.0,    34.8803,2,     -999.0,9,     -999.0,9,-999.0000,9,-999.0000,9,-999.0000,9,-999.0000,9,-999.0000,9,-999.0000,9,-999.0000,9,-999.0000,9,-999.0000,9,-999.0000,-999.000,   1.7096,     -999.0,     -999.0,9,     -999.0,9,     -999.0,9,     -999.0,9,     -999.0,20110315,       1505
320620110219,       P16S,      59,          2,         21,         21,2,20110315,       1344,   -73.9782,  -149.9634,       4040,   664.4,   1.6225,  34.7271,2,  34.7264,2,    186.4,2,   186.9,2,   93.26,2,   31.75,2,    0.00,2,    2.21,2,-999.000,9,-999.000,9,-999.000,9,-999.0000,9,  -999.0,9,  2349.1,2,   7.5843,2,    25.00,-999.000,9,-999.0000,9,-999.000,9,   1.6231,2,    0.45,2,  -154.8,2,     2.4,-999.000,9, -999.00,9,-999.000,9, -999.00,9, -999.00,9, -73.9782,-149.9634,-999.000,     -999.0,    34.8902,2,     -999.0,9,     -999.0,9,-999.0000,9,-999.0000,9,-999.0000,9,-999.0000,9,-999.0000,9,-999.0000,9,-999.0000,9,-999.0000,9,-999.0000,9,-999.0000,-999.000,   1.5862,     -999.0,     -999.0,9,     -999.0,9,     -999.0,9,     -999.0,9,     -999.0,20110315,       1502
320620110219,       P16S,      59,          2,         20,         20,2,20110315,       1344,   -73.9782,  -149.9634,       4040,   765.5,   1.5308,  34.7303,2,  34.7303,2,    189.3,2,   188.9,2,   96.07,2,   31.79,2,    0.00,2,    2.20,2,   0.245,2,   0.120,2,   0.018,2,-999.0000,9,  2255.8,2,  2351.4,2,   7.5856,2,    25.00,-999.000,9,-999.0000,9,-999.000,9,   1.5305,2,    0.45,2,  -156.5,2,     2.5,-999.000,9, -999.00,9,-999.000,9, -999.00,9, -999.00,9, -73.9782,-149.9634,-999.000,     -999.0,    34.8941,2,     -999.0,9,     -999.0,9,-999.0000,9,-999.0000,9,-999.0000,9,-999.0000,9,-999.0000,9,-999.0000,9,-999.0000,9,-999.0000,9,-999.0000,9,-999.0000,-999.000,   1.4889,     -999.0,     -999.0,9,     -999.0,9,     -999.0,9,     -999.0,9,     -999.0,20110315,       1500
320620110219,       P16S,      59,          2,         19,         19,2,20110315,       1344,   -73.9782,  -149.9634,       4040,   865.0,   1.4517,  34.7307,2,  34.7303,2,    190.3,2,   189.9,2,   99.02,2,   31.88,2,    0.00,2,    2.21,2,-999.000,9,-999.000,9,-999.000,9,-999.0000,9,  -999.0,9,  2353.6,2,   7.5845,2,    25.00,-999.000,9,-999.0000,9,-999.000,9,   1.4514,2,    0.28,2,  -158.9,2,     3.9,-999.000,9, -999.00,9,-999.000,9, -999.00,9, -999.00,9, -73.9782,-149.9634,-999.000,     -999.0,    34.8941,2,     -999.0,9,     -999.0,9,-999.0000,9,-999.0000,9,-999.0000,9,-999.0000,9,-999.0000,9,-999.0000,9,-999.0000,9,-999.0000,9,-999.0000,9,-999.0000,-999.000,   1.4042,     -999.0,     -999.0,9,     -999.0,9,     -999.0,9,     -999.0,9,     -999.0,20110315,       1457
320620110219,       P16S,      59,          2,         18,         18,2,20110315,       1344,   -73.9782,  -149.9634,       4040,   964.4,   1.3738,  34.7301,2,  34.7307,2,    190.6,2,   190.7,2,  102.12,2,   31.98,2,    0.00,2,    2.22,2,   0.189,2,   0.093,2,   0.012,2,-999.0000,9,  -999.0,9,  2353.5,2,   7.5836,2,    25.00,-999.000,9,-999.0000,9,-999.000,9,   1.3743,2,    0.35,2,  -159.4,2,     2.4,-999.000,9, -999.00,9,-999.000,9, -999.00,9, -999.00,9, -73.9782,-149.9634,-999.000,     -999.0,    34.8945,2,     -999.0,9,     -999.0,9,-999.0000,9,-999.0000,9,-999.0000,9,-999.0000,9,-999.0000,9,-999.0000,9,-999.0000,9,-999.0000,9,-999.0000,9,-999.0000,-999.000,   1.3206,     -999.0,     -999.0,9,     -999.0,9,     -999.0,9,     -999.0,9,     -999.0,20110315,       1454
320620110219,       P16S,      59,          2,         17,         17,2,20110315,       1344,   -73.9782,  -149.9634,       4040,  1065.0,   1.2949,  34.7288,2,  34.7287,2,    192.5,2,   191.8,2,  104.74,2,   32.01,2,    0.00,2,    2.22,2,-999.000,9,-999.000,9,-999.000,9,-999.0000,9,  2259.2,2,  2355.3,2,   7.5864,2,    25.00,-999.000,9,-999.0000,9,-999.000,9,   1.2950,2,    0.38,2,  -159.3,2,     2.5,-999.000,9, -999.00,9,-999.000,9, -999.00,9, -999.00,9, -73.9782,-149.9634,-999.000,     -999.0,    34.8925,2,     -999.0,9,     -999.0,9,-999.0000,9,-999.0000,9,-999.0000,9,-999.0000,9,-999.0000,9,-999.0000,9,-999.0000,9,-999.0000,9,-999.0000,9,-999.0000,-999.000,   1.2360,     -999.0,     -999.0,9,     -999.0,9,     -999.0,9,     -999.0,9,     -999.0,20110315,       1452
320620110219,       P16S,      59,          2,         16,         16,2,20110315,       1344,   -73.9782,  -149.9634,       4040,  1164.4,   1.2123,  34.7267,2,  34.7259,2,    193.2,2,   193.0,2,  107.73,2,   32.27,2,    0.00,2,    2.23,2,   0.140,2,   0.066,2,   0.011,2,-999.0000,9,  -999.0,9,  2355.5,2,   7.5882,2,    25.00,-999.000,9,-999.0000,9,-999.000,9,   1.2124,2,    0.36,2,  -164.5,2,     2.9,-999.000,9, -999.00,9,-999.000,9, -999.00,9, -999.00,9, -73.9782,-149.9634,-999.000,     -999.0,    34.8897,2,     -999.0,9,     -999.0,9,-999.0000,9,-999.0000,9,-999.0000,9,-999.0000,9,-999.0000,9,-999.0000,9,-999.0000,9,-999.0000,9,-999.0000,9,-999.0000,-999.000,   1.1477,     -999.0,     -999.0,9,     -999.0,9,     -999.0,9,     -999.0,9,     -999.0,20110315,       1449
320620110219,       P16S,      59,          2,         15,         15,2,20110315,       1344,   -73.9782,  -149.9634,       4040,  1265.2,   1.1519,  34.7249,2,  34.7242,2,    195.0,2,   194.5,2,  109.34,2,   32.30,2,    0.00,2,    2.23,2,-999.000,9,-999.000,9,-999.000,9,-999.0000,9,  -999.0,9,  2356.7,2,   7.5873,2,    25.00,-999.000,9,-999.0000,9,-999.000,9,   1.1520,2,    0.37,2,  -163.1,2,     2.5,-999.000,9, -999.00,9,-999.000,9, -999.00,9, -999.00,9, -73.9782,-149.9634,-999.000,     -999.0,    34.8879,2,     -999.0,9,     -999.0,9,-999.0000,9,-999.0000,9,-999.0000,9,-999.0000,9,-999.0000,9,-999.0000,9,-999.0000,9,-999.0000,9,-999.0000,9,-999.0000,-999.000,   1.0812,     -999.0,     -999.0,9,     -999.0,9,     -999.0,9,     -999.0,9,     -999.0,20110315,       1446
320620110219,       P16S,      59,          2,         14,         14,2,20110315,       1344,   -73.9782,  -149.9634,       4040,  1363.9,   1.0900,  34.7228,2,  34.7222,2,    196.0,2,   195.9,2,  111.36,2,   32.32,2,    0.00,2,    2.23,2,   0.118,2,   0.063,2,   0.007,2,-999.0000,9,  2259.7,2,  2357.2,2,   7.5872,2,    25.00,-999.000,9,-999.0000,9,-999.000,9,   1.0899,2,    0.37,2,  -166.6,2,     2.8,-999.000,9, -999.00,9,-999.000,9, -999.00,9, -999.00,9, -73.9782,-149.9634,-999.000,     -999.0,    34.8859,2,     -999.0,9,     -999.0,9,-999.0000,9,-999.0000,9,-999.0000,9,-999.0000,9,-999.0000,9,-999.0000,9,-999.0000,9,-999.0000,9,-999.0000,9,-999.0000,-999.000,   1.0133,     -999.0,     -999.0,9,     -999.0,9,     -999.0,9,     -999.0,9,     -999.0,20110315,       1444