BOTTLE,20220813CCHSIOAMB
EXPOCODE,SECT_ID,STNNBR,CASTNO,SAMPNO,BTLNBR,BTLNBR_FLAG_W,DATE,TIME,LATITUDE,LONGITUDE,DEPTH,CTDPRS,CTDTMP,CTDSAL,CTDSAL_FLAG_W,SALNTY,SALNTY_FLAG_W,CTDOXY,CTDOXY_FLAG_W,OXYGEN,OXYGEN_FLAG_W,SILCAT,SILCAT_FLAG_W,NITRAT,NITRAT_FLAG_W,NITRIT,NITRIT_FLAG_W,PHSPHT,PHSPHT_FLAG_W,CFC-11,CFC-11_FLAG_W,CFC-12,CFC-12_FLAG_W,CFC113,CFC113_FLAG_W,SF6,SF6_FLAG_W,TCARBN,TCARBN_FLAG_W,ALKALI,ALKALI_FLAG_W,PH_TOT,PH_TOT_FLAG_W,PH_TMP,TRITUM,TRITUM_FLAG_W,HELIUM,HELIUM_FLAG_W,DELHE3,DELHE3_FLAG_W,REFTMP,REFTMP_FLAG_W,DELC13,DELC13_FLAG_W,DELC14,DELC14_FLAG_W,C14ERR,NEON,NEON_FLAG_W,DELO18,DELO18_FLAG_W,POC,POC_FLAG_W,DOC,DOC_FLAG_W,TDN,TDN_FLAG_W,BTL_LAT,BTL_LON,TRITER,NEONER,SALTREF,SALTREF_FLAG_W,PIGMENTS,PIGMENTS_FLAG_W,LAB_DEN,LAB_DEN_FLAG_W,CDOM325,CDOM325_FLAG_W,CDOM340,CDOM340_FLAG_W,CDOM380,CDOM380_FLAG_W,CDOM412,CDOM412_FLAG_W,CDOM443,CDOM443_FLAG_W,CDOM490,CDOM490_FLAG_W,CDOM555,CDOM555_FLAG_W,CDOMSL,CDOMSL_FLAG_W,CDOMSN,CDOMSN_FLAG_W,HELIER,DELHER,THETA,LDEO_SAMPNO,ABSORBTION,ABSORBTION_FLAG_W,IMAGE_COUNT,IMAGE_COUNT_FLAG_W,CYTO_COUNT,CYTO_COUNT_FLAG_W,DELD,DELD_FLAG_W,DELDERR,BTL_DATE,BTL_TIME
,,,,,,,,,,,METERS,DBAR,ITS-90,PSS-78,,PSS-78,,UMOL/KG,,UMOL/KG,,UMOL/KG,,UMOL/KG,,UMOL/KG,,UMOL/KG,,PMOL/KG,,PMOL/KG,,PMOL/KG,,FMOL/KG,,UMOL/KG,,UMOL/KG,,,,DEG C,TU,,NMOL/KG,,PERCNT,,DEG C,,/MILLE,,/MILLE,,/MILLE,NMOL/KG,,/MILLE,,UG/KG,,UMOL/KG,,UMOL/KG,,,,TU,NMOL/KG,G/KG,,,,,,1/M,,1/M,,1/M,,1/M,,1/M,,1/M,,1/M,,1/NM,,1/NM,,NMOL/KG,PERCNT,DEG C,,,,,,,,/MILLE,,/MILLE,,
320620110219,       S04P,      97,          1,         36,         36,2,20110330,       1830,   -66.9991,  -146.1499,       4312,     5.4,  -0.8286,  33.6005,2,  33.5997,2,    340.3,3,   344.6,2,   37.92,2,   23.14,2,    0.21,2,    1.59,2,   6.179,2,   3.387,2,   0.626,2,   2.7750,2,  2145.2,2,  2276.5,2,   7.7004,2,    25.00,   0.125,2,    1.925,2,  -1.692,2,  -0.8286,2, -999.00,9,  -999.0,9,  -999.0,   8.762,2,   -0.50,2,-999.000,9,   46.18,2,   27.78,2, -66.9991,-146.1498,   0.007,      0.007,    33.7581,2,     -999.0,9,     -999.0,9,-999.0000,9,-999.0000,9,-999.0000,9,-999.0000,9,-999.0000,9,-999.0000,9,-999.0000,9,-999.0000,9,-999.0000,9,    0.001,   0.211,  -0.8287,50009701036,     -999.0,9,     -999.0,9,     -999.0,9,      -4.27,2,       0.03,20110330,       2016
320620110219,       S04P,      97,          1,         35,         35,2,20110330,       1830,   -66.9991,  -146.1499,       4312,    19.9,  -0.8503,  33.6057,2,  33.6056,2,    344.8,2,   344.7,2,   38.18,2,   23.24,2,    0.21,2,    1.60,2,   6.176,2,   3.370,2,   0.631,2,   2.7640,2,  2148.1,6,  2277.3,2,   7.6970,2,    25.00,-999.000,9,    2.031,2,  -1.818,2,  -0.8491,2, -999.00,9,  -999.0,9,  -999.0,   9.092,2, -999.00,9,-999.000,9,   46.26,2,   27.66,2, -66.9991,-146.1498,-999.000,      0.008,    33.7640,2,     -999.0,9,     -999.0,9,-999.0000,9,-999.0000,9,-999.0000,9,-999.0000,9,-999.0000,9,-999.0000,9,-999.0000,9,-999.0000,9,-999.0000,9,    0.001,   0.194,  -0.8508,50009701035,     -999.0,9,     -999.0,9,     -999.0,9,     -999.0,9,     -999.0,20110330,       2014
320620110219,       S04P,      97,          1,         34,         34,2,20110330,       1830,   -66.9991,  -146.1499,       4312,    40.9,  -0.8715,  33.6136,2,  33.6329,2,    345.0,2,   343.0,2,   38.90,2,   23.58,2,    0.22,2,    1.62,2,   6.107,2,   3.340,2,   0.614,2,   2.6160,2,  2149.8,2,  2278.2,2,   7.6943,6,    25.00,   0.113,2,    2.215,4,  -1.308,2,  -0.8720,2, -999.00,9,  -999.0,9,  -999.0,   9.787,4,   -0.44,2,-999.000,9,   44.79,2,   27.74,2, -66.9991,-146.1498,   0.006,      0.009,    33.7915,2,     -999.0,9,     -999.0,9,-999.0000,9,-999.0000,9,-999.0000,9,-999.0000,9,-999.0000,9,-999.0000,9,-999.0000,9,-999.0000,9,-999.0000,9,    0.001,   0.199,  -0.8726,50009701034,     -999.0,9,     -999.0,9,     -999.0,9,      -4.05,2,       0.08,20110330,       2013
320620110219,       S04P,      97,          1,         33,         33,2,20110330,       1830,   -66.9991,  -146.1499,       4312,    64.0,  -1.5437,  34.0238,2,  34.0133,2,    314.2,2,   315.0,2,   51.96,2,   27.50,2,    0.27,2,    1.93,2,   5.372,6,   2.912,6,   0.539,6,   2.2680,6,  2189.0,2,  2299.3,2,   7.6432,2,    25.00,-999.000,9,    1.959,2,   0.062,2,  -1.5439,2, -999.00,9,  -999.0,9,  -999.0,   8.811,2, -999.00,9,-999.000,9,   42.99,2,   30.74,2, -66.9991,-146.1498,-999.000,      0.007,    34.1736,2,     -999.0,9,     -999.0,9,-999.0000,9,-999.0000,9,-999.0000,9,-999.0000,9,-999.0000,9,-999.0000,9,-999.0000,9,-999.0000,9,-999.0000,9,    0.000,   0.201,  -1.5451,50009701033,     -999.0,9,     -999.0,9,     -999.0,9,     -999.0,9,     -999.0,20110330,       2011
320620110219,       S04P,      97,          1,         32,         32,2,20110330,       1830,   -66.9991,  -146.1499,       4312,    90.9,  -1.3581,  34.1529,2,  34.1506,2,    294.2,2,   292.7,2,   58.81,2,   29.24,2,    0.09,2,    2.01,2,   4.729,2,   2.557,2,   0.471,2,   1.9090,2,  2203.6,2,  2305.6,2,   7.6185,2,    25.00,   0.066,2,    1.937,2,   1.506,2,  -1.3440,2, -999.00,9,  -999.0,9,  -999.0,   8.717,2, -999.00,9,-999.000,9,   41.67,2,   32.02,2, -66.9991,-146.1498,   0.005,      0.012,    34.3117,2,     -999.0,9,     -999.0,9,-999.0000,9,-999.0000,9,-999.0000,9,-999.0000,9,-999.0000,9,-999.0000,9,-999.0000,9,-999.0000,9,-999.0000,9,    0.000,   0.205,  -1.3602,50009701032,     -999.0,9,     -999.0,9,     -999.0,9,     -999.0,9,     -999.0,20110330,       2010
320620110219,       S04P,      97,          1,         31,         31,2,20110330,       1830,   -66.9991,  -146.1499,       4312,   135.2,  -0.4216,  34.3400,2,  34.3284,2,    263.9,2,   253.5,2,   70.70,2,   30.74,2,    0.01,2,    2.13,2,   3.350,2,   1.811,2,   0.318,2,   1.3910,2,  2223.5,2,  2320.1,2,   7.5929,2,    25.00,-999.000,9,    1.957,2,   5.889,2,  -0.4274,2, -999.00,9,  -999.0,9,  -999.0,   8.636,2, -999.00,9,-999.000,9,   40.95,2,   33.60,2, -66.9991,-146.1498,-999.000,      0.007,    34.4903,2,     -999.0,9,     -999.0,9,-999.0000,9,-999.0000,9,-999.0000,9,-999.0000,9,-999.0000,9,-999.0000,9,-999.0000,9,-999.0000,9,-999.0000,9,    0.000,   0.211,  -0.4260,50009701031,     -999.0,9,     -999.0,9,     -999.0,9,     -999.0,9,     -999.0,20110330,       2008
320620110219,       S04P,      97,          1,         30,         30,2,20110330,       1830,   -66.9991,  -146.1499,       4312,   185.0,   0.7468,  34.5638,3,  34.5413,2,    204.9,2,   208.9,2,   83.89,2,   32.38,2,    0.00,2,    2.22,2,   1.682,2,   0.905,2,   0.151,2,   0.6800,2,  2244.3,2,  2335.7,2,   7.5717,2,    25.00,   0.015,2,    1.974,2,   6.913,2,   0.7487,2, -999.00,9,  -999.0,9,  -999.0,   8.671,2,   -0.28,2,-999.000,9,   40.41,2,   34.97,2, -66.9991,-146.1498,   0.005,      0.007,    34.7042,2,     -999.0,9,     -999.0,9,-999.0000,9,-999.0000,9,-999.0000,9,-999.0000,9,-999.0000,9,-999.0000,9,-999.0000,9,-999.0000,9,-999.0000,9,    0.000,   0.202,   0.7389,50009701030,     -999.0,9,     -999.0,9,     -999.0,9,      -2.72,2,       0.22,20110330,       2006
320620110219,       S04P,      97,          1,         29,         29,2,20110330,       1830,   -66.9991,  -146.1499,       4312,   234.7,   1.3292,  34.6794,2,  34.6784,2,    186.0,2,   185.3,2,   92.55,2,   32.93,2,    0.00,2,    2.24,2,   0.629,2,   0.323,2,   0.052,2,   0.2160,2,  2254.9,2,  2345.0,2,   7.5626,2,    25.00,-999.000,9,    1.962,2,   8.600,2,   1.3300,2, -999.00,9,  -999.0,9,  -999.0,   8.612,2, -999.00,9,-999.000,9,   40.60,2,   35.75,2, -66.9991,-146.1498,-999.000,      0.006,    34.8419,2,     -999.0,9,     -999.0,9,-999.0000,9,-999.0000,9,-999.0000,9,-999.0000,9,-999.0000,9,-999.0000,9,-999.0000,9,-999.0000,9,-999.0000,9,    0.001,   0.227,   1.3178,50009701029,     -999.0,9,     -999.0,9,     -999.0,9,     -999.0,9,     -999.0,20110330,       2005
320620110219,       S04P,      97,          1,         28,         28,2,20110330,       1830,   -66.9991,  -146.1499,       4312,   285.7,   1.4673,  34.7182,2,  34.7175,2,    180.5,2,   180.9,2,   96.43,2,   32.90,2,    0.00,2,    2.24,2,   0.326,2,   0.168,2,   0.023,2,   0.1140,2,  2259.5,2,  2349.4,2,   7.5680,2,    25.00,-999.000,9,    1.977,2,   9.488,2,   1.4673,2, -999.00,9,  -999.0,9,  -999.0,   8.643,2, -999.00,9,-999.000,9,   40.34,2,   35.21,2, -66.9991,-146.1498,-999.000,      0.007,    34.8812,2,     -999.0,9,     -999.0,9,-999.0000,9,-999.0000,9,-999.0000,9,-999.0000,9,-999.0000,9,-999.0000,9,-999.0000,9,-999.0000,9,-999.0000,9,    0.000,   0.206,   1.4530,50009701028,     -999.0,9,     -999.0,9,     -999.0,9,     -999.0,9,     -999.0,20110330,       2003
320620110219,       S04P,      97,          1,         27,         27,2,20110330,       1830,   -66.9991,  -146.1499,       4312,   337.1,   1.4432,  34.7268,2,  34.7261,2,    180.8,2,   181.1,2,   99.01,2,   32.89,2,    0.00,2,    2.23,2,   0.245,2,   0.115,2,   0.010,2,   0.0840,2,  2260.4,2,  2350.2,2,   7.5670,2,    25.00,-999.000,9,    1.938,2,  -1.194,3,   1.4437,2, -999.00,9,  -999.0,9,  -999.0,   8.816,2, -999.00,9,-999.000,9,   40.63,2,   35.30,2, -66.9991,-146.1498,-999.000,      0.007,    34.8899,2,     -999.0,9,     -999.0,9,-999.0000,9,-999.0000,9,-999.0000,9,-999.0000,9,-999.0000,9,-999.0000,9,-999.0000,9,-999.0000,9,-999.0000,9,    0.000,   0.219,   1.4262,50009701027,     -999.0,9,     -999.0,9,     -999.0,9,     -999.0,9,     -999.0,20110330,       2001
320620110219,       S04P,      97,          1,         26,         26,2,20110330,       1830,   -66.9991,  -146.1499,       4312,   385.4,   1.4044,  34.7291,2,  34.7287,2,    181.2,2,   180.7,2,  101.11,2,   32.93,2,    0.00,2,    2.23,2,-999.000,9,-999.000,9,-999.000,9,-999.0000,9,  2260.2,2,  2352.7,2,   7.5695,2,    25.00,-999.000,9,-999.0000,9,-999.000,9,   1.4042,2, -999.00,9,  -999.0,9,  -999.0,-999.000,9, -999.00,9,-999.000,9,   40.71,2,   35.17,2, -66.9991,-146.1498,-999.000,     -999.0,    34.8924,2,     -999.0,9,     -999.0,9,-999.0000,9,-999.0000,9,-999.0000,9,-999.0000,9,-999.0000,9,-999.0000,9,-999.0000,9,-999.0000,9,-999.0000,9,-999.0000,-999.000,   1.3849,     -999.0,     -999.0,9,     -999.0,9,     -999.0,9,     -999.0,9,     -999.0,20110330,       2000
320620110219,       S04P,      97,          1,         25,         25,2,20110330,       1830,   -66.9991,  -146.1499,       4312,   434.2,   1.3557,  34.7297,2,  34.7295,2,    181.7,2,   181.5,2,  102.84,2,   32.98,2,    0.00,2,    2.23,2,   0.181,2,   0.083,2,   0.007,2,   0.0780,2,  2262.4,2,  2351.6,2,   7.5709,2,    25.00,-999.000,9,    2.013,2,   9.413,2,   1.3568,2, -999.00,9,  -999.0,9,  -999.0,   8.735,2,   -0.17,2,-999.000,9,   40.08,2,   35.49,2, -66.9991,-146.1498,-999.000,      0.007,    34.8932,2,     -999.0,9,     -999.0,9,-999.0000,9,-999.0000,9,-999.0000,9,-999.0000,9,-999.0000,9,-999.0000,9,-999.0000,9,-999.0000,9,-999.0000,9,    0.000,   0.215,   1.3338,50009701025,     -999.0,9,     -999.0,9,     -999.0,9,      -1.60,2,       0.04,20110330,       1958
320620110219,       S04P,      97,          1,         24,         24,2,20110330,       1830,   -66.9991,  -146.1499,       4312,   484.6,   1.3088,  34.7296,2,  34.7297,2,    182.6,2,   182.1,2,  104.75,2,   32.94,2,    0.00,2,    2.23,2,-999.000,9,-999.000,9,-999.000,9,-999.0000,9,  2261.1,2,  2353.4,2,   7.5699,2,    25.00,-999.000,9,-999.0000,9,-999.000,9,   1.3091,2, -999.00,9,  -999.0,9,  -999.0,-999.000,9, -999.00,9,-999.000,9,   40.42,2,   35.24,2, -66.9991,-146.1498,-999.000,     -999.0,    34.8934,2,     -999.0,9,     -999.0,9,-999.0000,9,-999.0000,9,-999.0000,9,-999.0000,9,-999.0000,9,-999.0000,9,-999.0000,9,-999.0000,9,-999.0000,9,-999.0000,-999.000,   1.2843,     -999.0,     -999.0,9,     -999.0,9,     -999.0,9,     -999.0,9,     -999.0,20110330,       1956
320620110219,       S04P,      97,          1,         23,         23,2,20110330,       1830,   -66.9991,  -146.1499,       4312,   566.5,   1.2441,  34.7286,2,  34.7283,2,    184.3,2,   184.0,2,  106.99,2,   33.03,2,    0.00,2,    2.23,2,   0.125,2,   0.058,2,   0.007,2,   0.0710,2,  2261.8,2,  2354.6,2,   7.5748,2,    25.00,-999.000,9,    1.976,2,   9.915,2,   1.2441,2, -999.00,9,  -999.0,9,  -999.0,   8.657,2, -999.00,9,-999.000,9,   40.53,2,   35.89,2, -66.9991,-146.1498,-999.000,      0.007,    34.8920,2,     -999.0,9,     -999.0,9,-999.0000,9,-999.0000,9,-999.0000,9,-999.0000,9,-999.0000,9,-999.0000,9,-999.0000,9,-999.0000,9,-999.0000,9,    0.000,   0.215,   1.2154,50009701023,     -999.0,9,     -999.0,9,     -999.0,9,     -999.0,9,     -999.0,20110330,       1954
320620110219,       S04P,      97,          1,         22,         22,2,20110330,       1830,   -66.9991,  -146.1499,       4312,   665.0,   1.1672,  34.7270,2,  34.7269,2,    186.6,2,   186.9,2,  109.43,2,   32.78,2,    0.00,2,    2.23,2,-999.000,9,-999.000,9,-999.000,9,-999.0000,9,  2262.1,2,  2356.6,2,   7.5791,2,    25.00,-999.000,9,-999.0000,9,-999.000,9,   1.1671,2, -999.00,9,  -999.0,9,  -999.0,-999.000,9, -999.00,9,-999.000,9,   40.32,2,   35.80,2, -66.9991,-146.1498,-999.000,     -999.0,    34.8907,2,     -999.0,9,     -999.0,9,-999.0000,9,-999.0000,9,-999.0000,9,-999.0000,9,-999.0000,9,-999.0000,9,-999.0000,9,-999.0000,9,-999.0000,9,-999.0000,-999.000,   1.1333,     -999.0,     -999.0,9,     -999.0,9,     -999.0,9,     -999.0,9,     -999.0,20110330,       1951
320620110219,       S04P,      97,          1,         21,         21,2,20110330,       1830,   -66.9991,  -146.1499,       4312,   763.6,   1.1042,  34.7249,2,  34.7250,2,    189.8,2,   189.8,2,  110.95,2,   32.53,2,    0.00,2,    2.23,2,   0.088,2,   0.045,2,   0.001,2,   0.0310,2,  -999.0,9,  -999.0,9,-999.0000,9,  -999.00,-999.000,9,    2.007,2,   9.888,2,   1.1045,2, -999.00,9,  -999.0,9,  -999.0,   8.722,2, -999.00,9,-999.000,9,   40.06,2,   35.00,2, -66.9991,-146.1498,-999.000,      0.007,    34.8887,2,     -999.0,9,     -999.0,9,-999.0000,9,-999.0000,9,-999.0000,9,-999.0000,9,-999.0000,9,-999.0000,9,-999.0000,9,-999.0000,9,-999.0000,9,    0.000,   0.215,   1.0651,50009701021,     -999.0,9,     -999.0,9,     -999.0,9,     -999.0,9,     -999.0,20110330,       1949
320620110219,       S04P,      97,          1,         20,         20,2,20110330,       1830,   -66.9991,  -146.1499,       4312,   864.9,   1.0434,  34.7224,2,  34.7220,2,    192.8,2,   192.4,2,  112.62,2,   32.46,2,    0.00,2,    2.22,2,   0.087,2,   0.044,2,   0.005,2,   0.0160,2,  2261.5,2,  2356.9,2,   7.5864,2,    25.00,   0.004,2,    2.071,2,   8.900,2,   1.0436,2, -999.00,9,  -999.0,9,  -999.0,   8.960,2,   -0.08,2,-999.000,9,   39.91,2,   35.00,2, -66.9991,-146.1498,   0.005,      0.007,    34.8858,2,     -999.0,9,     -999.0,9,-999.0000,9,-999.0000,9,-999.0000,9,-999.0000,9,-999.0000,9,-999.0000,9,-999.0000,9,-999.0000,9,-999.0000,9,    0.001,   0.193,   0.9988,50009701020,     -999.0,9,     -999.0,9,     -999.0,9,      -1.71,2,       0.07,20110330,       1946
320620110219,       S04P,      97,          1,         19,         19,2,20110330,       1830,   -66.9991,  -146.1499,       4312,   965.0,   0.9775,  34.7199,2,  34.7201,2,    195.2,2,   195.1,2,  114.35,2,   32.41,2,    0.00,2,    2.22,2,   0.086,2,   0.044,2,   0.005,2,   0.0230,2,  -999.0,9,  -999.0,9,-999.0000,9,  -999.00,   0.001,2,    1.969,2,  10.050,2,   0.9777,2, -999.00,9,  -999.0,9,  -999.0,   8.650,2,   -0.14,2,-999.000,9,   39.97,2,   35.09,2, -66.9991,-146.1498,   0.004,      0.007,    34.8838,2,     -999.0,9,     -999.0,9,-999.0000,9,-999.0000,9,-999.0000,9,-999.0000,9,-999.0000,9,-999.0000,9,-999.0000,9,-999.0000,9,-999.0000,9,    0.000,   0.208,   0.9274,50009701019,     -999.0,9,     -999.0,9,     -999.0,9,      -1.87,2,       0.03,20110330,       1944
320620110219,       S04P,      97,          1,         18,         18,2,20110330,       1830,   -66.9991,  -146.1499,       4312,  1064.5,   0.9143,  34.7176,2,  34.7175,2,    196.7,2,   196.3,2,  115.75,2,   32.26,2,    0.00,2,    2.22,2,-999.000,9,-999.000,9,-999.000,9,-999.0000,9,  2261.5,2,  2359.2,2,   7.5902,6,    25.00,-999.000,9,-999.0000,9,-999.000,9,   0.9147,2, -999.00,9,  -999.0,9,  -999.0,-999.000,9, -999.00,9,-999.000,9,   39.66,2,   34.46,2, -66.9991,-146.1498,-999.000,     -999.0,    34.8812,2,     -999.0,9,     -999.0,9,-999.0000,9,-999.0000,9,-999.0000,9,-999.0000,9,-999.0000,9,-999.0000,9,-999.0000,9,-999.0000,9,-999.0000,9,-999.0000,-999.000,   0.8587,     -999.0,     -999.0,9,     -999.0,9,     -999.0,9,     -999.0,9,     -999.0,20110330,       1941
320620110219,       S04P,      97,          1,         17,         17,2,20110330,       1830,   -66.9991,  -146.1499,       4312,  1165.4,   0.8570,  34.7152,2,  34.7152,2,    198.6,2,   198.7,2,  118.08,2,   32.29,2,    0.00,2,    2.23,2,   0.075,2,   0.045,2,   0.005,2,   0.0140,2,  -999.0,9,  -999.0,9,-999.0000,9,  -999.00,-999.000,9,    1.972,2,   9.856,2,   0.8570,2, -999.00,9,  -999.0,9,  -999.0,   8.654,2, -999.00,9,-999.000,9,   39.87,2,   34.81,2, -66.9991,-146.1499,-999.000,      0.007,    34.8789,2,     -999.0,9,     -999.0,9,-999.0000,9,-999.0000,9,-999.0000,9,-999.0000,9,-999.0000,9,-999.0000,9,-999.0000,9,-999.0000,9,-999.0000,9,    0.001,   0.207,   0.7956,50009701017,     -999.0,9,     -999.0,9,     -999.0,9,     -999.0,9,     -999.0,20110330,       1938
320620110219,       S04P,      97,          1,         16,         16,2,20110330,       1830,   -66.9991,  -146.1499,       4312,  1264.8,   0.8120,  34.7134,2,  34.7136,2,    200.0,2,   199.6,2,  119.44,2,   32.22,2,    0.00,2,    2.22,2,-999.000,9,-999.000,9,-999.000,9,-999.0000,9,  2260.4,6,  2358.8,2,   7.5948,2,    25.00,-999.000,9,-999.0000,9,-999.000,9,   0.8121,2, -999.00,9,  -999.0,9,  -999.0,-999.000,9, -999.00,9,-999.000,9,   39.90,2,   34.98,2, -66.9991,-146.1498,-999.000,     -999.0,    34.8773,2,     -999.0,9,     -999.0,9,-999.0000,9,-999.0000,9,-999.0000,9,-999.0000,9,-999.0000,9,-999.0000,9,-999.0000,9,-999.0000,9,-999.0000,9,-999.0000,-999.000,   0.7448,     -999.0,     -999.0,9,     -999.0,9,     -999.0,9,     -999.0,9,     -999.0,20110330,       1936
320620110219,       S04P,      97,          1,         15,         15,2,20110330,       1830,   -66.9991,  -146.1499,       4312,  1365.2,   0.7676,  34.7115,2,  34.7116,2,    201.1,2,   201.3,2,  120.88,2,   32.29,2,    0.00,2,    2.23,2,   0.084,2,   0.045,2,   0.005,2,   0.0040,2,  -999.0,9,  -999.0,9,-999.0000,9,  -999.00,   0.001,2,    1.976,2,  10.131,2,   0.7675,2, -999.00,9,  -999.0,9,  -999.0,   8.760,2,   -0.12,2,-999.000,9,   39.98,2,   34.84,2, -66.9991,-146.1498,   0.004,      0.007,    34.8753,2,     -999.0,9,     -999.0,9,-999.0000,9,-999.0000,9,-999.0000,9,-999.0000,9,-999.0000,9,-999.0000,9,-999.0000,9,-999.0000,9,-999.0000,9,    0.001,   0.232,   0.6944,50009701015,     -999.0,9,     -999.0,9,     -999.0,9,      -1.71,2,       0.10,20110330,       1933
320620110219,       S04P,      97,          1,         14,         14,2,20110330,       1830,   -66.9991,  -146.1499,       4312,  1464.4,   0.7208,  34.7099,2,  34.7097,2,    202.3,2,   201.8,2,  122.29,2,   32.26,2,    0.00,2,    2.22,2,-999.000,9,-999.000,9,-999.000,9,-999.0000,9,  2261.0,2,  2360.6,2,   7.5944,2,    25.00,-999.000,9,-999.0000,9,-999.000,9,   0.7212,2, -999.00,9,  -999.0,9,  -999.0,-999.000,9, -999.00,9,-999.000,9,   40.38,2,   34.78,2, -66.9991,-146.1498,-999.000,     -999.0,    34.8734,2,     -999.0,9,     -999.0,9,-999.0000,9,-999.0000,9,-999.0000,9,-999.0000,9,-999.0000,9,-999.0000,9,-999.0000,9,-999.0000,9,-999.0000,9,-999.0000,-999.000,   0.6416,     -999.0,     -999.0,9,     -999.0,9,     -999.0,9,     -999.0,9,     -999.0,20110330,       1931