BOTTLE,20220813CCHSIOAMB
EXPOCODE,SECT_ID,STNNBR,CASTNO,SAMPNO,BTLNBR,BTLNBR_FLAG_W,DATE,TIME,LATITUDE,LONGITUDE,DEPTH,CTDPRS,CTDTMP,CTDSAL,CTDSAL_FLAG_W,SALNTY,SALNTY_FLAG_W,CTDOXY,CTDOXY_FLAG_W,OXYGEN,OXYGEN_FLAG_W,SILCAT,SILCAT_FLAG_W,NITRAT,NITRAT_FLAG_W,NITRIT,NITRIT_FLAG_W,PHSPHT,PHSPHT_FLAG_W,CFC-11,CFC-11_FLAG_W,CFC-12,CFC-12_FLAG_W,CFC113,CFC113_FLAG_W,SF6,SF6_FLAG_W,TCARBN,TCARBN_FLAG_W,ALKALI,ALKALI_FLAG_W,PH_TOT,PH_TOT_FLAG_W,PH_TMP,TRITUM,TRITUM_FLAG_W,HELIUM,HELIUM_FLAG_W,DELHE3,DELHE3_FLAG_W,REFTMP,REFTMP_FLAG_W,DELC13,DELC13_FLAG_W,DELC14,DELC14_FLAG_W,C14ERR,NEON,NEON_FLAG_W,DELO18,DELO18_FLAG_W,POC,POC_FLAG_W,DOC,DOC_FLAG_W,TDN,TDN_FLAG_W,BTL_LAT,BTL_LON,TRITER,NEONER,SALTREF,SALTREF_FLAG_W,PIGMENTS,PIGMENTS_FLAG_W,LAB_DEN,LAB_DEN_FLAG_W,CDOM325,CDOM325_FLAG_W,CDOM340,CDOM340_FLAG_W,CDOM380,CDOM380_FLAG_W,CDOM412,CDOM412_FLAG_W,CDOM443,CDOM443_FLAG_W,CDOM490,CDOM490_FLAG_W,CDOM555,CDOM555_FLAG_W,CDOMSL,CDOMSL_FLAG_W,CDOMSN,CDOMSN_FLAG_W,HELIER,DELHER,THETA,LDEO_SAMPNO,ABSORBTION,ABSORBTION_FLAG_W,IMAGE_COUNT,IMAGE_COUNT_FLAG_W,CYTO_COUNT,CYTO_COUNT_FLAG_W,DELD,DELD_FLAG_W,DELDERR,BTL_DATE,BTL_TIME
,,,,,,,,,,,METERS,DBAR,ITS-90,PSS-78,,PSS-78,,UMOL/KG,,UMOL/KG,,UMOL/KG,,UMOL/KG,,UMOL/KG,,UMOL/KG,,PMOL/KG,,PMOL/KG,,PMOL/KG,,FMOL/KG,,UMOL/KG,,UMOL/KG,,,,DEG C,TU,,NMOL/KG,,PERCNT,,DEG C,,/MILLE,,/MILLE,,/MILLE,NMOL/KG,,/MILLE,,UG/KG,,UMOL/KG,,UMOL/KG,,,,TU,NMOL/KG,G/KG,,,,,,1/M,,1/M,,1/M,,1/M,,1/M,,1/M,,1/M,,1/NM,,1/NM,,NMOL/KG,PERCNT,DEG C,,,,,,,,/MILLE,,/MILLE,,
320620110219,       S04P,     130,          2,         36,         36,2,20110417,       0720,   -67.0003,   -77.8072,       3816,     4.7,  -0.4243,  33.6753,2,  33.6757,2,    336.9,3,   339.9,2,   19.85,2,   23.45,2,    0.19,2,    1.60,2,-999.000,9,-999.000,9,-999.000,9,-999.0000,9,  2151.0,2,  2277.6,2,   7.7014,2,    25.00,-999.000,9,-999.0000,9,-999.000,9,  -0.4239,2, -999.00,9,  -999.0,9,  -999.0,-999.000,9, -999.00,9,-999.000,9,   44.12,2,   28.07,2, -67.0003, -77.8072,-999.000,     -999.0,    33.8345,2,     -999.0,9,     -999.0,9,-999.0000,9,-999.0000,9,-999.0000,9,-999.0000,9,-999.0000,9,-999.0000,9,-999.0000,9,-999.0000,9,-999.0000,9,-999.0000,-999.000,  -0.4244,     -999.0,     -999.0,9,     -999.0,9,     -999.0,9,     -999.0,9,     -999.0,20110417,       0901
320620110219,       S04P,     130,          2,         35,         35,2,20110417,       0720,   -67.0003,   -77.8072,       3816,    20.0,  -0.3701,  33.6813,2,  33.6827,2,    340.4,2,   339.4,2,   19.24,2,   23.51,2,    0.19,2,    1.61,2,-999.000,9,-999.000,9,-999.000,9,-999.0000,9,  2152.8,2,  -999.0,9,   7.7028,2,    25.00,-999.000,9,-999.0000,9,-999.000,9,  -0.3696,2, -999.00,9,  -999.0,9,  -999.0,-999.000,9, -999.00,9,-999.000,9,   43.88,2,   27.74,2, -67.0003, -77.8072,-999.000,     -999.0,    33.8415,2,     -999.0,9,     -999.0,9,-999.0000,9,-999.0000,9,-999.0000,9,-999.0000,9,-999.0000,9,-999.0000,9,-999.0000,9,-999.0000,9,-999.0000,9,-999.0000,-999.000,  -0.3707,     -999.0,     -999.0,9,     -999.0,9,     -999.0,9,     -999.0,9,     -999.0,20110417,       0900
320620110219,       S04P,     130,          2,         34,         34,2,20110417,       0720,   -67.0003,   -77.8072,       3816,    39.9,  -0.1999,  33.7281,2,  33.7292,2,    340.5,2,   336.7,2,   18.95,2,   23.26,2,    0.19,2,    1.61,2,-999.000,9,-999.000,9,-999.000,9,-999.0000,9,  2155.0,2,  2280.9,2,   7.7041,6,    25.00,-999.000,9,-999.0000,9,-999.000,9,  -0.1998,2, -999.00,9,  -999.0,9,  -999.0,-999.000,9, -999.00,9,-999.000,9,   43.92,2,   27.56,2, -67.0003, -77.8072,-999.000,     -999.0,    33.8882,2,     -999.0,9,     -999.0,9,-999.0000,9,-999.0000,9,-999.0000,9,-999.0000,9,-999.0000,9,-999.0000,9,-999.0000,9,-999.0000,9,-999.0000,9,-999.0000,-999.000,  -0.2012,     -999.0,     -999.0,9,     -999.0,9,     -999.0,9,     -999.0,9,     -999.0,20110417,       0858
320620110219,       S04P,     130,          2,         33,         33,2,20110417,       0720,   -67.0003,   -77.8072,       3816,    64.3,  -0.2720,  33.7539,2,  33.7520,2,    333.4,2,   333.6,2,   21.46,2,   23.74,2,    0.19,2,    1.67,2,-999.000,9,-999.000,9,-999.000,9,-999.0000,9,  2159.4,2,  -999.0,9,   7.6972,2,    25.00,-999.000,9,-999.0000,9,-999.000,9,  -0.2893,2, -999.00,9,  -999.0,9,  -999.0,-999.000,9, -999.00,9,-999.000,9,   43.65,2,   28.30,2, -67.0003, -77.8072,-999.000,     -999.0,    33.9112,2,     -999.0,9,     -999.0,9,-999.0000,9,-999.0000,9,-999.0000,9,-999.0000,9,-999.0000,9,-999.0000,9,-999.0000,9,-999.0000,9,-999.0000,9,-999.0000,-999.000,  -0.2740,     -999.0,     -999.0,9,     -999.0,9,     -999.0,9,     -999.0,9,     -999.0,20110417,       0857
320620110219,       S04P,     130,          2,         32,         32,2,20110417,       0720,   -67.0003,   -77.8072,       3816,    90.3,  -1.2125,  34.0377,2,  34.0408,2,    284.2,2,   283.7,2,   55.15,2,   30.93,2,    0.36,2,    2.19,2,-999.000,9,-999.000,9,-999.000,9,-999.0000,9,  2203.8,2,  2295.8,2,   7.5946,2,    25.00,-999.000,9,-999.0000,9,-999.000,9,  -1.2163,2, -999.00,9,  -999.0,9,  -999.0,-999.000,9, -999.00,9,-999.000,9,   43.08,2,   34.96,2, -67.0003, -77.8072,-999.000,     -999.0,    34.2013,2,     -999.0,9,     -999.0,9,-999.0000,9,-999.0000,9,-999.0000,9,-999.0000,9,-999.0000,9,-999.0000,9,-999.0000,9,-999.0000,9,-999.0000,9,-999.0000,-999.000,  -1.2147,     -999.0,     -999.0,9,     -999.0,9,     -999.0,9,     -999.0,9,     -999.0,20110417,       0855
320620110219,       S04P,     130,          2,         31,         31,2,20110417,       0720,   -67.0003,   -77.8072,       3816,   114.7,   0.1573,  34.2423,2,  34.2398,2,    239.8,2,   239.8,2,   61.78,2,   32.98,2,    0.03,2,    2.29,2,-999.000,9,-999.000,9,-999.000,9,-999.0000,9,  2228.1,2,  -999.0,9,   7.5605,2,    25.00,-999.000,9,-999.0000,9,-999.000,9,   0.1379,2, -999.00,9,  -999.0,9,  -999.0,-999.000,9, -999.00,9,-999.000,9,   42.31,2,   36.13,2, -67.0003, -77.8072,-999.000,     -999.0,    34.4013,2,     -999.0,9,     -999.0,9,-999.0000,9,-999.0000,9,-999.0000,9,-999.0000,9,-999.0000,9,-999.0000,9,-999.0000,9,-999.0000,9,-999.0000,9,-999.0000,-999.000,   0.1531,     -999.0,     -999.0,9,     -999.0,9,     -999.0,9,     -999.0,9,     -999.0,20110417,       0854
320620110219,       S04P,     130,          2,         30,         30,2,20110417,       0720,   -67.0003,   -77.8072,       3816,   139.2,   0.7646,  34.3364,2,  34.3352,2,    216.9,2,   218.2,2,   65.49,2,   33.57,2,    0.02,2,    2.33,2,-999.000,9,-999.000,9,-999.000,9,-999.0000,9,  2236.6,2,  2315.1,2,   7.5505,2,    25.00,-999.000,9,-999.0000,9,-999.000,9,   0.7681,2, -999.00,9,  -999.0,9,  -999.0,-999.000,9, -999.00,9,-999.000,9,   41.96,2,   36.42,2, -67.0003, -77.8072,-999.000,     -999.0,    34.4971,2,     -999.0,9,     -999.0,9,-999.0000,9,-999.0000,9,-999.0000,9,-999.0000,9,-999.0000,9,-999.0000,9,-999.0000,9,-999.0000,9,-999.0000,9,-999.0000,-999.000,   0.7587,     -999.0,     -999.0,9,     -999.0,9,     -999.0,9,     -999.0,9,     -999.0,20110417,       0852
320620110219,       S04P,     130,          2,         29,         29,2,20110417,       0720,   -67.0003,   -77.8072,       3816,   185.6,   1.4640,  34.4706,2,  34.4746,2,    188.0,2,   190.2,2,   71.86,2,   34.10,2,    0.00,2,    2.36,2,-999.000,9,-999.000,9,-999.000,9,-999.0000,9,  2249.5,2,  -999.0,9,   7.5409,2,    25.00,-999.000,9,-999.0000,9,-999.000,9,   1.4666,2, -999.00,9,  -999.0,9,  -999.0,-999.000,9, -999.00,9,-999.000,9,   41.67,2,   36.93,2, -67.0003, -77.8072,-999.000,     -999.0,    34.6371,2,     -999.0,9,     -999.0,9,-999.0000,9,-999.0000,9,-999.0000,9,-999.0000,9,-999.0000,9,-999.0000,9,-999.0000,9,-999.0000,9,-999.0000,9,-999.0000,-999.000,   1.4549,     -999.0,     -999.0,9,     -999.0,9,     -999.0,9,     -999.0,9,     -999.0,20110417,       0850
320620110219,       S04P,     130,          2,         28,         28,2,20110417,       0720,   -67.0003,   -77.8072,       3816,   234.2,   1.9888,  34.5810,2,  34.5791,2,    176.7,2,   175.2,2,   76.29,2,   33.78,2,    0.00,2,    2.34,2,-999.000,9,-999.000,9,-999.000,9,-999.0000,9,  2256.1,2,  2334.2,2,   7.5421,2,    25.00,-999.000,9,-999.0000,9,-999.000,9,   1.9896,2, -999.00,9,  -999.0,9,  -999.0,-999.000,9, -999.00,9,-999.000,9,   41.17,2,   36.50,2, -67.0003, -77.8072,-999.000,     -999.0,    34.7421,2,     -999.0,9,     -999.0,9,-999.0000,9,-999.0000,9,-999.0000,9,-999.0000,9,-999.0000,9,-999.0000,9,-999.0000,9,-999.0000,9,-999.0000,9,-999.0000,-999.000,   1.9762,     -999.0,     -999.0,9,     -999.0,9,     -999.0,9,     -999.0,9,     -999.0,20110417,       0848
320620110219,       S04P,     130,          2,         27,         27,2,20110417,       0720,   -67.0003,   -77.8072,       3816,   283.9,   2.0798,  34.6169,2,  34.6187,2,    172.8,2,   172.8,2,   78.21,2,   33.42,2,    0.00,2,    2.31,2,-999.000,9,-999.000,9,-999.000,9,-999.0000,9,  2257.1,2,  -999.0,9,   7.5501,2,    25.00,-999.000,9,-999.0000,9,-999.000,9,   2.0795,2, -999.00,9,  -999.0,9,  -999.0,-999.000,9, -999.00,9,-999.000,9,   41.11,2,   35.99,2, -67.0003, -77.8072,-999.000,     -999.0,    34.7819,2,     -999.0,9,     -999.0,9,-999.0000,9,-999.0000,9,-999.0000,9,-999.0000,9,-999.0000,9,-999.0000,9,-999.0000,9,-999.0000,9,-999.0000,9,-999.0000,-999.000,   2.0642,     -999.0,     -999.0,9,     -999.0,9,     -999.0,9,     -999.0,9,     -999.0,20110417,       0846
320620110219,       S04P,     130,          2,         26,         26,2,20110417,       0720,   -67.0003,   -77.8072,       3816,   335.1,   2.0252,  34.6386,2,  34.6377,2,    171.4,2,   171.8,2,   80.36,2,   33.53,2,    0.00,2,    2.31,2,-999.000,9,-999.000,9,-999.000,9,-999.0000,9,  2257.7,2,  2339.0,2,   7.5475,4,    25.00,-999.000,9,-999.0000,9,-999.000,9,   2.0252,2, -999.00,9,  -999.0,9,  -999.0,-999.000,9, -999.00,9,-999.000,9,   40.87,2,   36.08,2, -67.0003, -77.8072,-999.000,     -999.0,    34.8010,2,     -999.0,9,     -999.0,9,-999.0000,9,-999.0000,9,-999.0000,9,-999.0000,9,-999.0000,9,-999.0000,9,-999.0000,9,-999.0000,9,-999.0000,9,-999.0000,-999.000,   2.0068,     -999.0,     -999.0,9,     -999.0,9,     -999.0,9,     -999.0,9,     -999.0,20110417,       0844
320620110219,       S04P,     130,          2,         25,         25,2,20110417,       0720,   -67.0003,   -77.8072,       3816,   384.1,   2.0373,  34.6626,2,  34.6618,2,    172.2,2,   172.8,2,   81.57,2,   33.13,2,    0.00,2,    2.28,2,-999.000,9,-999.000,9,-999.000,9,-999.0000,9,  2258.3,2,  -999.0,9,   7.5554,2,    25.00,-999.000,9,-999.0000,9,-999.000,9,   2.0376,2, -999.00,9,  -999.0,9,  -999.0,-999.000,9, -999.00,9,-999.000,9,   40.37,2,   35.94,2, -67.0003, -77.8072,-999.000,     -999.0,    34.8253,2,     -999.0,9,     -999.0,9,-999.0000,9,-999.0000,9,-999.0000,9,-999.0000,9,-999.0000,9,-999.0000,9,-999.0000,9,-999.0000,9,-999.0000,9,-999.0000,-999.000,   2.0160,     -999.0,     -999.0,9,     -999.0,9,     -999.0,9,     -999.0,9,     -999.0,20110417,       0843
320620110219,       S04P,     130,          2,         24,         24,2,20110417,       0720,   -67.0003,   -77.8072,       3816,   435.2,   2.0157,  34.6788,2,  34.6777,2,    173.3,2,   174.0,2,   82.60,2,   32.82,2,    0.00,2,    2.26,2,-999.000,9,-999.000,9,-999.000,9,-999.0000,9,  -999.0,9,  -999.0,9,-999.0000,9,  -999.00,-999.000,9,-999.0000,9,-999.000,9,   2.0159,2, -999.00,9,  -999.0,9,  -999.0,-999.000,9, -999.00,9,-999.000,9,   40.36,2,   35.50,2, -67.0003, -77.8072,-999.000,     -999.0,    34.8412,2,     -999.0,9,     -999.0,9,-999.0000,9,-999.0000,9,-999.0000,9,-999.0000,9,-999.0000,9,-999.0000,9,-999.0000,9,-999.0000,9,-999.0000,9,-999.0000,-999.000,   1.9914,     -999.0,     -999.0,9,     -999.0,9,     -999.0,9,     -999.0,9,     -999.0,20110417,       0841
320620110219,       S04P,     130,          2,         23,         23,2,20110417,       0720,   -67.0003,   -77.8072,       3816,   484.5,   1.9895,  34.6869,2,  34.6871,2,    174.1,2,   174.8,2,   83.69,2,   32.75,2,    0.00,2,    2.25,2,-999.000,9,-999.000,9,-999.000,9,-999.0000,9,  2257.3,2,  2343.7,2,   7.5651,2,    25.00,-999.000,9,-999.0000,9,-999.000,9,   1.9895,2, -999.00,9,  -999.0,9,  -999.0,-999.000,9, -999.00,9,-999.000,9,   40.44,2,   35.36,2, -67.0003, -77.8072,-999.000,     -999.0,    34.8507,2,     -999.0,9,     -999.0,9,-999.0000,9,-999.0000,9,-999.0000,9,-999.0000,9,-999.0000,9,-999.0000,9,-999.0000,9,-999.0000,9,-999.0000,9,-999.0000,-999.000,   1.9624,     -999.0,     -999.0,9,     -999.0,9,     -999.0,9,     -999.0,9,     -999.0,20110417,       0839
320620110219,       S04P,     130,          2,         22,         22,2,20110417,       0720,   -67.0003,   -77.8072,       3816,   564.3,   1.9599,  34.7041,2,  34.7042,2,    179.2,2,   178.8,2,   84.66,2,   32.15,2,    0.00,2,    2.22,2,-999.000,9,-999.000,9,-999.000,9,-999.0000,9,  -999.0,9,  -999.0,9,-999.0000,9,  -999.00,-999.000,9,-999.0000,9,-999.000,9,   1.9600,2, -999.00,9,  -999.0,9,  -999.0,-999.000,9, -999.00,9,-999.000,9,   40.29,2,   34.72,2, -67.0003, -77.8072,-999.000,     -999.0,    34.8678,2,     -999.0,9,     -999.0,9,-999.0000,9,-999.0000,9,-999.0000,9,-999.0000,9,-999.0000,9,-999.0000,9,-999.0000,9,-999.0000,9,-999.0000,9,-999.0000,-999.000,   1.9280,     -999.0,     -999.0,9,     -999.0,9,     -999.0,9,     -999.0,9,     -999.0,20110417,       0837
320620110219,       S04P,     130,          2,         21,         21,2,20110417,       0720,   -67.0003,   -77.8072,       3816,   665.6,   1.8944,  34.7162,2,  34.7160,2,    183.3,2,   182.1,2,   86.53,2,   31.73,2,    0.00,2,    2.19,2,-999.000,9,-999.000,9,-999.000,9,-999.0000,9,  2253.7,2,  -999.0,9,   7.5843,2,    25.00,-999.000,9,-999.0000,9,-999.000,9,   1.8951,2, -999.00,9,  -999.0,9,  -999.0,-999.000,9, -999.00,9,-999.000,9,   40.12,2,   34.12,2, -67.0003, -77.8072,-999.000,     -999.0,    34.8797,2,     -999.0,9,     -999.0,9,-999.0000,9,-999.0000,9,-999.0000,9,-999.0000,9,-999.0000,9,-999.0000,9,-999.0000,9,-999.0000,9,-999.0000,9,-999.0000,-999.000,   1.8566,     -999.0,     -999.0,9,     -999.0,9,     -999.0,9,     -999.0,9,     -999.0,20110417,       0834
320620110219,       S04P,     130,          2,         20,         20,2,20110417,       0720,   -67.0003,   -77.8072,       3816,   764.1,   1.8111,  34.7240,2,  34.7238,2,    185.1,2,   184.7,2,   88.88,2,   31.57,2,    0.00,2,    2.18,2,-999.000,9,-999.000,9,-999.000,9,-999.0000,9,  -999.0,9,  -999.0,9,-999.0000,9,  -999.00,-999.000,9,-999.0000,9,-999.000,9,   1.8106,2, -999.00,9,  -999.0,9,  -999.0,-999.000,9, -999.00,9,-999.000,9,   40.12,2,   34.15,2, -67.0003, -77.8072,-999.000,     -999.0,    34.8875,2,     -999.0,9,     -999.0,9,-999.0000,9,-999.0000,9,-999.0000,9,-999.0000,9,-999.0000,9,-999.0000,9,-999.0000,9,-999.0000,9,-999.0000,9,-999.0000,-999.000,   1.7676,     -999.0,     -999.0,9,     -999.0,9,     -999.0,9,     -999.0,9,     -999.0,20110417,       0832
320620110219,       S04P,     130,          2,         19,         19,2,20110417,       0720,   -67.0003,   -77.8072,       3816,   865.3,   1.7294,  34.7278,2,  34.7277,2,    186.4,2,   186.5,2,   91.32,2,   31.55,2,    0.00,2,    2.18,2,-999.000,9,-999.000,9,-999.000,9,-999.0000,9,  -999.0,9,  -999.0,9,-999.0000,9,  -999.00,-999.000,9,-999.0000,9,-999.000,9,   1.7289,2, -999.00,9,  -999.0,9,  -999.0,-999.000,9, -999.00,9,-999.000,9,   40.22,2,   34.25,2, -67.0003, -77.8072,-999.000,     -999.0,    34.8915,2,     -999.0,9,     -999.0,9,-999.0000,9,-999.0000,9,-999.0000,9,-999.0000,9,-999.0000,9,-999.0000,9,-999.0000,9,-999.0000,9,-999.0000,9,-999.0000,-999.000,   1.6799,     -999.0,     -999.0,9,     -999.0,9,     -999.0,9,     -999.0,9,     -999.0,20110417,       0829
320620110219,       S04P,     130,          2,         18,         18,2,20110417,       0720,   -67.0003,   -77.8072,       3816,   965.0,   1.6410,  34.7306,2,  34.7311,2,    189.0,2,   188.4,2,   93.41,2,   31.52,2,    0.00,2,    2.17,2,-999.000,9,-999.000,9,-999.000,9,-999.0000,9,  2254.8,2,  2352.6,2,   7.5951,6,    25.00,-999.000,9,-999.0000,9,-999.000,9,   1.6415,2, -999.00,9,  -999.0,9,  -999.0,-999.000,9, -999.00,9,-999.000,9,   40.27,2,   33.91,2, -67.0003, -77.8072,-999.000,     -999.0,    34.8948,2,     -999.0,9,     -999.0,9,-999.0000,9,-999.0000,9,-999.0000,9,-999.0000,9,-999.0000,9,-999.0000,9,-999.0000,9,-999.0000,9,-999.0000,9,-999.0000,-999.000,   1.5857,     -999.0,     -999.0,9,     -999.0,9,     -999.0,9,     -999.0,9,     -999.0,20110417,       0826
320620110219,       S04P,     130,          2,         17,         17,2,20110417,       0720,   -67.0003,   -77.8072,       3816,  1064.5,   1.5650,  34.7313,2,  34.7313,2,    190.4,2,   190.1,2,   95.61,2,   31.56,2,    0.00,2,    2.16,2,-999.000,9,-999.000,9,-999.000,9,-999.0000,9,  -999.0,9,  -999.0,9,-999.0000,9,  -999.00,-999.000,9,-999.0000,9,-999.000,9,   1.5649,2, -999.00,9,  -999.0,9,  -999.0,-999.000,9, -999.00,9,-999.000,9,   40.42,2,   33.61,2, -67.0003, -77.8072,-999.000,     -999.0,    34.8950,2,     -999.0,9,     -999.0,9,-999.0000,9,-999.0000,9,-999.0000,9,-999.0000,9,-999.0000,9,-999.0000,9,-999.0000,9,-999.0000,9,-999.0000,9,-999.0000,-999.000,   1.5038,     -999.0,     -999.0,9,     -999.0,9,     -999.0,9,     -999.0,9,     -999.0,20110417,       0824
320620110219,       S04P,     130,          2,         16,         16,2,20110417,       0720,   -67.0003,   -77.8072,       3816,  1166.0,   1.4741,  34.7308,2,  34.7305,2,    191.9,2,   191.8,2,   98.77,2,   31.51,2,    0.00,2,    2.17,2,-999.000,9,-999.000,9,-999.000,9,-999.0000,9,  2257.1,6,  -999.0,9,   7.5981,2,    25.00,-999.000,9,-999.0000,9,-999.000,9,   1.4736,2, -999.00,9,  -999.0,9,  -999.0,-999.000,9, -999.00,9,-999.000,9,   40.72,2,   34.12,2, -67.0003, -77.8072,-999.000,     -999.0,    34.8942,2,     -999.0,9,     -999.0,9,-999.0000,9,-999.0000,9,-999.0000,9,-999.0000,9,-999.0000,9,-999.0000,9,-999.0000,9,-999.0000,9,-999.0000,9,-999.0000,-999.000,   1.4069,     -999.0,     -999.0,9,     -999.0,9,     -999.0,9,     -999.0,9,     -999.0,20110417,       0821
320620110219,       S04P,     130,          2,         15,         15,2,20110417,       0720,   -67.0003,   -77.8072,       3816,  1264.8,   1.3995,  34.7293,2,  34.7295,2,    193.3,2,   193.7,2,  100.94,2,   31.53,2,    0.00,2,    2.17,2,-999.000,9,-999.000,9,-999.000,9,-999.0000,9,  -999.0,9,  -999.0,9,-999.0000,9,  -999.00,-999.000,9,-999.0000,9,-999.000,9,   1.3995,2, -999.00,9,  -999.0,9,  -999.0,-999.000,9, -999.00,9,-999.000,9,   40.50,2,   33.89,2, -67.0003, -77.8072,-999.000,     -999.0,    34.8932,2,     -999.0,9,     -999.0,9,-999.0000,9,-999.0000,9,-999.0000,9,-999.0000,9,-999.0000,9,-999.0000,9,-999.0000,9,-999.0000,9,-999.0000,9,-999.0000,-999.000,   1.3263,     -999.0,     -999.0,9,     -999.0,9,     -999.0,9,     -999.0,9,     -999.0,20110417,       0819
320620110219,       S04P,     130,          2,         14,         14,2,20110417,       0720,   -67.0003,   -77.8072,       3816,  1364.9,   1.3203,  34.7276,2,  34.7277,2,    194.4,2,   194.1,2,  103.33,2,   31.56,2,    0.00,2,    2.16,2,-999.000,9,-999.000,9,-999.000,9,-999.0000,9,  2257.6,2,  2359.5,6,   7.5996,2,    25.00,-999.000,9,-999.0000,9,-999.000,9,   1.3210,2, -999.00,9,  -999.0,9,  -999.0,-999.000,9, -999.00,9,-999.000,9,   40.61,2,   33.77,2, -67.0003, -77.8072,-999.000,     -999.0,    34.8915,2,     -999.0,9,     -999.0,9,-999.0000,9,-999.0000,9,-999.0000,9,-999.0000,9,-999.0000,9,-999.0000,9,-999.0000,9,-999.0000,9,-999.0000,9,-999.0000,-999.000,   1.2411,     -999.0,     -999.0,9,     -999.0,9,     -999.0,9,     -999.0,9,     -999.0,20110417,       0816