BOTTLE,20220813CCHSIOAMB
EXPOCODE,SECT_ID,STNNBR,CASTNO,SAMPNO,BTLNBR,BTLNBR_FLAG_W,DATE,TIME,LATITUDE,LONGITUDE,DEPTH,CTDPRS,CTDTMP,CTDSAL,CTDSAL_FLAG_W,SALNTY,SALNTY_FLAG_W,CTDOXY,CTDOXY_FLAG_W,OXYGEN,OXYGEN_FLAG_W,SILCAT,SILCAT_FLAG_W,NITRAT,NITRAT_FLAG_W,NITRIT,NITRIT_FLAG_W,PHSPHT,PHSPHT_FLAG_W,CFC-11,CFC-11_FLAG_W,CFC-12,CFC-12_FLAG_W,CFC113,CFC113_FLAG_W,SF6,SF6_FLAG_W,TCARBN,TCARBN_FLAG_W,ALKALI,ALKALI_FLAG_W,PH_TOT,PH_TOT_FLAG_W,PH_TMP,TRITUM,TRITUM_FLAG_W,HELIUM,HELIUM_FLAG_W,DELHE3,DELHE3_FLAG_W,REFTMP,REFTMP_FLAG_W,DELC13,DELC13_FLAG_W,DELC14,DELC14_FLAG_W,C14ERR,NEON,NEON_FLAG_W,DELO18,DELO18_FLAG_W,POC,POC_FLAG_W,DOC,DOC_FLAG_W,TDN,TDN_FLAG_W,BTL_LAT,BTL_LON,TRITER,NEONER,SALTREF,SALTREF_FLAG_W,PIGMENTS,PIGMENTS_FLAG_W,LAB_DEN,LAB_DEN_FLAG_W,CDOM325,CDOM325_FLAG_W,CDOM340,CDOM340_FLAG_W,CDOM380,CDOM380_FLAG_W,CDOM412,CDOM412_FLAG_W,CDOM443,CDOM443_FLAG_W,CDOM490,CDOM490_FLAG_W,CDOM555,CDOM555_FLAG_W,CDOMSL,CDOMSL_FLAG_W,CDOMSN,CDOMSN_FLAG_W,HELIER,DELHER,THETA,LDEO_SAMPNO,ABSORBTION,ABSORBTION_FLAG_W,IMAGE_COUNT,IMAGE_COUNT_FLAG_W,CYTO_COUNT,CYTO_COUNT_FLAG_W,DELD,DELD_FLAG_W,DELDERR,BTL_DATE,BTL_TIME
,,,,,,,,,,,METERS,DBAR,ITS-90,PSS-78,,PSS-78,,UMOL/KG,,UMOL/KG,,UMOL/KG,,UMOL/KG,,UMOL/KG,,UMOL/KG,,PMOL/KG,,PMOL/KG,,PMOL/KG,,FMOL/KG,,UMOL/KG,,UMOL/KG,,,,DEG C,TU,,NMOL/KG,,PERCNT,,DEG C,,/MILLE,,/MILLE,,/MILLE,NMOL/KG,,/MILLE,,UG/KG,,UMOL/KG,,UMOL/KG,,,,TU,NMOL/KG,G/KG,,,,,,1/M,,1/M,,1/M,,1/M,,1/M,,1/M,,1/M,,1/NM,,1/NM,,NMOL/KG,PERCNT,DEG C,,,,,,,,/MILLE,,/MILLE,,
320620110219,       P15S,      85,          1,         13,         13,2,20110324,       1408,   -73.8023,  -172.1499,       3337,  1464.2,   0.8844,  34.7159,2,  34.7158,2,    200.0,2,   200.3,2,  117.12,2,   31.83,2,    0.00,2,    2.24,2,-999.000,9,-999.000,9,-999.000,9,-999.0000,9,  -999.0,9,  -999.0,9,-999.0000,9,  -999.00,-999.000,9,-999.0000,9,-999.000,9,   0.8840,2, -999.00,9,  -999.0,9,  -999.0,-999.000,9,   -0.13,2,-999.000,9,   39.93,2,   34.55,2, -73.8024,-172.1501,-999.000,     -999.0,    34.8795,2,     -999.0,9,     -999.0,9,-999.0000,9,-999.0000,9,-999.0000,9,-999.0000,9,-999.0000,9,-999.0000,9,-999.0000,9,-999.0000,9,-999.0000,9,-999.0000,-999.000,   0.8033,     -999.0,     -999.0,9,     -999.0,9,     -999.0,9,      -1.37,2,       0.08,20110324,       1452
320620110219,       P15S,      85,          1,         12,         12,2,20110324,       1408,   -73.8023,  -172.1499,       3337,  1566.1,   0.8473,  34.7144,2,  34.7142,2,    201.0,2,   201.3,2,  118.38,2,   31.78,2,    0.00,2,    2.24,2,   0.079,2,   0.046,2,   0.006,2,   0.0880,2,  2259.9,3,  2362.3,2,   7.5959,2,    25.00,-999.000,9,-999.0000,9,-999.000,9,   0.8475,2, -999.00,9,  -999.0,9,  -999.0,-999.000,9,   -0.14,2,-999.000,9,   39.99,2,   34.21,2, -73.8023,-172.1498,-999.000,     -999.0,    34.8779,2,     -999.0,9,     -999.0,9,-999.0000,9,-999.0000,9,-999.0000,9,-999.0000,9,-999.0000,9,-999.0000,9,-999.0000,9,-999.0000,9,-999.0000,9,-999.0000,-999.000,   0.7597,     -999.0,     -999.0,9,     -999.0,9,     -999.0,9,      -1.51,2,       0.10,20110324,       1450
320620110219,       P15S,      85,          1,         11,         11,2,20110324,       1408,   -73.8023,  -172.1499,       3337,  1666.4,   0.8150,  34.7134,2,  34.7132,2,    201.9,2,   201.6,2,  119.66,2,   31.91,2,    0.00,2,    2.25,2,-999.000,9,-999.000,9,-999.000,9,-999.0000,9,  -999.0,9,  -999.0,9,-999.0000,9,  -999.00,-999.000,9,-999.0000,9,-999.000,9,   0.8149,2, -999.00,9,  -999.0,9,  -999.0,-999.000,9,   -0.17,2,-999.000,9,   39.61,2,   34.27,2, -73.8024,-172.1502,-999.000,     -999.0,    34.8769,2,     -999.0,9,     -999.0,9,-999.0000,9,-999.0000,9,-999.0000,9,-999.0000,9,-999.0000,9,-999.0000,9,-999.0000,9,-999.0000,9,-999.0000,9,-999.0000,-999.000,   0.7208,     -999.0,     -999.0,9,     -999.0,9,     -999.0,9,      -1.50,2,       0.04,20110324,       1447
320620110219,       P15S,      85,          1,         10,         37,2,20110324,       1408,   -73.8023,  -172.1499,       3337,  1764.5,   0.7715,  34.7117,2,  34.7117,2,    202.9,2,   202.8,2,  121.03,2,   32.05,2,    0.00,2,    2.25,2,-999.000,9,-999.000,9,-999.000,9,-999.0000,9,  -999.0,9,  -999.0,9,-999.0000,9,  -999.00,-999.000,9,-999.0000,9,-999.000,9,   0.7714,2, -999.00,9,  -999.0,9,  -999.0,-999.000,9,   -0.15,2,-999.000,9,   39.54,2,   34.34,2, -73.8025,-172.1505,-999.000,     -999.0,    34.8754,2,     -999.0,9,     -999.0,9,-999.0000,9,-999.0000,9,-999.0000,9,-999.0000,9,-999.0000,9,-999.0000,9,-999.0000,9,-999.0000,9,-999.0000,9,-999.0000,-999.000,   0.6709,     -999.0,     -999.0,9,     -999.0,9,     -999.0,9,      -1.56,2,       0.06,20110324,       1445
320620110219,       P15S,      85,          1,          9,          9,2,20110324,       1408,   -73.8023,  -172.1499,       3337,  1935.3,   0.7159,  34.7101,2,  34.7099,2,    204.1,2,   204.4,2,  123.13,2,   32.14,2,    0.00,2,    2.25,2,-999.000,9,-999.000,9,-999.000,9,-999.0000,9,  2260.2,3,  2361.2,2,   7.5971,2,    25.00,-999.000,9,-999.0000,9,-999.000,9,   0.7157,2, -999.00,9,  -999.0,9,  -999.0,-999.000,9,   -0.17,2,-999.000,9,   39.65,2,   34.78,2, -73.8029,-172.1516,-999.000,     -999.0,    34.8736,2,     -999.0,9,     -999.0,9,-999.0000,9,-999.0000,9,-999.0000,9,-999.0000,9,-999.0000,9,-999.0000,9,-999.0000,9,-999.0000,9,-999.0000,9,-999.0000,-999.000,   0.6037,     -999.0,     -999.0,9,     -999.0,9,     -999.0,9,      -1.68,2,       0.07,20110324,       1441
320620110219,       P15S,      85,          1,          8,          8,2,20110324,       1408,   -73.8023,  -172.1499,       3337,  2134.1,   0.6539,  34.7087,2,  34.7082,2,    205.4,2,   206.7,2,  125.34,2,   32.33,2,    0.00,2,    2.25,2,   0.101,2,   0.050,2,   0.007,2,   0.0180,2,  -999.0,9,  -999.0,9,-999.0000,9,  -999.00,-999.000,9,-999.0000,9,-999.000,9,   0.6539,2, -999.00,9,  -999.0,9,  -999.0,-999.000,9,   -0.14,2,-999.000,9,   39.75,2,   34.35,2, -73.8027,-172.1515,-999.000,     -999.0,    34.8718,2,     -999.0,9,     -999.0,9,-999.0000,9,-999.0000,9,-999.0000,9,-999.0000,9,-999.0000,9,-999.0000,9,-999.0000,9,-999.0000,9,-999.0000,9,-999.0000,-999.000,   0.5277,     -999.0,     -999.0,9,     -999.0,9,     -999.0,9,      -1.76,2,       0.10,20110324,       1436
320620110219,       P15S,      85,          1,          7,          7,2,20110324,       1408,   -73.8023,  -172.1499,       3337,  2335.6,   0.5996,  34.7074,2,  34.7072,2,    206.7,2,   206.5,2,  127.03,2,   32.49,2,    0.00,2,    2.25,2,-999.000,9,-999.000,9,-999.000,9,-999.0000,9,  -999.0,9,  -999.0,9,-999.0000,9,  -999.00,-999.000,9,-999.0000,9,-999.000,9,   0.5994,2, -999.00,9,  -999.0,9,  -999.0,-999.000,9,   -0.24,2,-999.000,9,   39.41,2,   34.62,2, -73.8024,-172.1502,-999.000,     -999.0,    34.8709,2,     -999.0,9,     -999.0,9,-999.0000,9,-999.0000,9,-999.0000,9,-999.0000,9,-999.0000,9,-999.0000,9,-999.0000,9,-999.0000,9,-999.0000,9,-999.0000,-999.000,   0.4586,     -999.0,     -999.0,9,     -999.0,9,     -999.0,9,      -1.94,2,       0.03,20110324,       1432
320620110219,       P15S,      85,          1,          6,          6,2,20110324,       1408,   -73.8023,  -172.1499,       3337,  2533.9,   0.5630,  34.7065,2,  34.7064,2,    207.4,2,   207.5,2,  127.79,2,   32.44,2,    0.00,2,    2.26,2,   0.106,2,   0.048,2,   0.006,2,   0.0530,2,  2261.9,3,  2364.2,2,   7.5963,2,    25.00,-999.000,9,-999.0000,9,-999.000,9,   0.5628,2, -999.00,9,  -999.0,9,  -999.0,-999.000,9,   -0.28,2,-999.000,9,   40.00,2,   35.21,2, -73.8024,-172.1502,-999.000,     -999.0,    34.8701,2,     -999.0,9,     -999.0,9,-999.0000,9,-999.0000,9,-999.0000,9,-999.0000,9,-999.0000,9,-999.0000,9,-999.0000,9,-999.0000,9,-999.0000,9,-999.0000,-999.000,   0.4067,     -999.0,     -999.0,9,     -999.0,9,     -999.0,9,      -2.70,2,       0.20,20110324,       1428
320620110219,       P15S,      85,          1,          5,          5,2,20110324,       1408,   -73.8023,  -172.1499,       3337,  2734.5,   0.5322,  34.7059,2,  34.7058,2,    208.3,2,   208.2,2,  128.88,2,   32.39,2,    0.00,2,    2.27,2,-999.000,9,-999.000,9,-999.000,9,-999.0000,9,  -999.0,9,  -999.0,9,-999.0000,9,  -999.00,-999.000,9,-999.0000,9,-999.000,9,   0.5319,2, -999.00,9,  -999.0,9,  -999.0,-999.000,9,   -0.16,2,-999.000,9,   40.50,2,   34.76,2, -73.8028,-172.1512,-999.000,     -999.0,    34.8695,2,     -999.0,9,     -999.0,9,-999.0000,9,-999.0000,9,-999.0000,9,-999.0000,9,-999.0000,9,-999.0000,9,-999.0000,9,-999.0000,9,-999.0000,9,-999.0000,-999.000,   0.3598,     -999.0,     -999.0,9,     -999.0,9,     -999.0,9,      -1.97,2,       0.13,20110324,       1423
320620110219,       P15S,      85,          1,          4,          4,2,20110324,       1408,   -73.8023,  -172.1499,       3337,  2934.5,   0.5083,  34.7054,2,  34.7051,2,    209.0,2,   209.2,2,  130.48,2,   32.65,2,    0.00,2,    2.26,2,   0.163,2,   0.082,2,   0.011,2,   0.1490,2,  2262.8,3,  2364.5,2,   7.5982,2,    25.00,-999.000,9,-999.0000,9,-999.000,9,   0.5083,2, -999.00,9,  -999.0,9,  -999.0,-999.000,9,   -0.11,2,-999.000,9,   40.40,2,   34.86,2, -73.8029,-172.1515,-999.000,     -999.0,    34.8687,2,     -999.0,9,     -999.0,9,-999.0000,9,-999.0000,9,-999.0000,9,-999.0000,9,-999.0000,9,-999.0000,9,-999.0000,9,-999.0000,9,-999.0000,9,-999.0000,-999.000,   0.3191,     -999.0,     -999.0,9,     -999.0,9,     -999.0,9,      -2.01,2,       0.08,20110324,       1419
320620110219,       P15S,      85,          1,          3,          3,2,20110324,       1408,   -73.8023,  -172.1499,       3337,  3200.7,   0.4391,  34.7042,2,  34.7037,2,    210.4,2,   210.8,2,  133.94,2,   32.76,2,    0.00,2,    2.27,2,   0.136,2,   0.069,2,   0.010,2,   0.0700,2,  2262.4,3,  2364.7,6,   7.5977,2,    25.00,-999.000,9,-999.0000,9,-999.000,9,   0.4391,2, -999.00,9,  -999.0,9,  -999.0,-999.000,9,   -0.10,2,-999.000,9,   40.26,2,   35.60,2, -73.8025,-172.1504,-999.000,     -999.0,    34.8674,2,     -999.0,9,     -999.0,9,-999.0000,9,-999.0000,9,-999.0000,9,-999.0000,9,-999.0000,9,-999.0000,9,-999.0000,9,-999.0000,9,-999.0000,9,-999.0000,-999.000,   0.2277,     -999.0,     -999.0,9,     -999.0,9,     -999.0,9,      -2.13,2,       0.05,20110324,       1414
320620110219,       P15S,      85,          1,          2,          2,2,20110324,       1408,   -73.8023,  -172.1499,       3337,  3334.4,   0.3791,  34.7033,2,  34.7026,2,    211.5,2,   211.2,2,  136.55,2,   32.89,2,    0.00,2,    2.28,2,-999.000,9,-999.000,9,-999.000,9,   0.0420,2,  2264.5,3,  2361.5,2,   7.5942,6,    25.00,-999.000,9,-999.0000,9,-999.000,9,   0.3788,2, -999.00,9,  -999.0,9,  -999.0,-999.000,9,   -0.17,2,-999.000,9,   40.42,2,   35.39,2, -73.8024,-172.1503,-999.000,     -999.0,    34.8662,2,     -999.0,9,     -999.0,9,-999.0000,9,-999.0000,9,-999.0000,9,-999.0000,9,-999.0000,9,-999.0000,9,-999.0000,9,-999.0000,9,-999.0000,9,-999.0000,-999.000,   0.1568,     -999.0,     -999.0,9,     -999.0,9,     -999.0,9,      -2.34,2,       0.07,20110324,       1410
320620110219,       P15S,      85,          1,          1,          1,2,20110324,       1408,   -73.8023,  -172.1499,       3337,  3388.7,   0.3548,  34.7027,2,  34.7028,2,    210.7,2,   210.8,2,  137.70,2,   32.98,2,    0.00,2,    2.29,2,   0.205,2,   0.104,2,   0.011,2,   0.0160,2,  2264.4,3,  2362.2,2,   7.5929,2,    25.00,-999.000,9,-999.0000,9,-999.000,9,   0.3549,2, -999.00,9,  -999.0,9,  -999.0,-999.000,9,   -0.20,2,-999.000,9,   40.58,2,   35.55,2, -73.8024,-172.1500,-999.000,     -999.0,    34.8664,2,     -999.0,9,     -999.0,9,-999.0000,9,-999.0000,9,-999.0000,9,-999.0000,9,-999.0000,9,-999.0000,9,-999.0000,9,-999.0000,9,-999.0000,9,-999.0000,-999.000,   0.1280,     -999.0,     -999.0,9,     -999.0,9,     -999.0,9,      -2.45,2,       0.03,20110324,       1408