BOTTLE,20220813CCHSIOAMB
EXPOCODE,SECT_ID,STNNBR,CASTNO,SAMPNO,BTLNBR,BTLNBR_FLAG_W,DATE,TIME,LATITUDE,LONGITUDE,DEPTH,CTDPRS,CTDTMP,CTDSAL,CTDSAL_FLAG_W,SALNTY,SALNTY_FLAG_W,CTDOXY,CTDOXY_FLAG_W,OXYGEN,OXYGEN_FLAG_W,SILCAT,SILCAT_FLAG_W,NITRAT,NITRAT_FLAG_W,NITRIT,NITRIT_FLAG_W,PHSPHT,PHSPHT_FLAG_W,CFC-11,CFC-11_FLAG_W,CFC-12,CFC-12_FLAG_W,CFC113,CFC113_FLAG_W,SF6,SF6_FLAG_W,TCARBN,TCARBN_FLAG_W,ALKALI,ALKALI_FLAG_W,PH_TOT,PH_TOT_FLAG_W,PH_TMP,TRITUM,TRITUM_FLAG_W,HELIUM,HELIUM_FLAG_W,DELHE3,DELHE3_FLAG_W,REFTMP,REFTMP_FLAG_W,DELC13,DELC13_FLAG_W,DELC14,DELC14_FLAG_W,C14ERR,NEON,NEON_FLAG_W,DELO18,DELO18_FLAG_W,POC,POC_FLAG_W,DOC,DOC_FLAG_W,TDN,TDN_FLAG_W,BTL_LAT,BTL_LON,TRITER,NEONER,SALTREF,SALTREF_FLAG_W,PIGMENTS,PIGMENTS_FLAG_W,LAB_DEN,LAB_DEN_FLAG_W,CDOM325,CDOM325_FLAG_W,CDOM340,CDOM340_FLAG_W,CDOM380,CDOM380_FLAG_W,CDOM412,CDOM412_FLAG_W,CDOM443,CDOM443_FLAG_W,CDOM490,CDOM490_FLAG_W,CDOM555,CDOM555_FLAG_W,CDOMSL,CDOMSL_FLAG_W,CDOMSN,CDOMSN_FLAG_W,HELIER,DELHER,THETA,LDEO_SAMPNO,ABSORBTION,ABSORBTION_FLAG_W,IMAGE_COUNT,IMAGE_COUNT_FLAG_W,CYTO_COUNT,CYTO_COUNT_FLAG_W,DELD,DELD_FLAG_W,DELDERR,BTL_DATE,BTL_TIME
,,,,,,,,,,,METERS,DBAR,ITS-90,PSS-78,,PSS-78,,UMOL/KG,,UMOL/KG,,UMOL/KG,,UMOL/KG,,UMOL/KG,,UMOL/KG,,PMOL/KG,,PMOL/KG,,PMOL/KG,,FMOL/KG,,UMOL/KG,,UMOL/KG,,,,DEG C,TU,,NMOL/KG,,PERCNT,,DEG C,,/MILLE,,/MILLE,,/MILLE,NMOL/KG,,/MILLE,,UG/KG,,UMOL/KG,,UMOL/KG,,,,TU,NMOL/KG,G/KG,,,,,,1/M,,1/M,,1/M,,1/M,,1/M,,1/M,,1/M,,1/NM,,1/NM,,NMOL/KG,PERCNT,DEG C,,,,,,,,/MILLE,,/MILLE,,
320620110219,       S04P,      26,          1,         36,         36,2,20110305,       0432,   -67.0000,  -174.1807,       2918,     3.4,  -0.3641,  33.7812,2,  33.7811,2,    335.3,3,   339.8,2,   57.66,2,   26.29,2,    0.17,2,    1.71,2,   5.654,2,   3.145,2,   0.548,2,-999.0000,9,  -999.0,9,  2287.5,6,   7.6877,4,    25.00,-999.000,9,-999.0000,9,-999.000,9,  -0.3609,2, -999.00,9,  -999.0,9,  -999.0,-999.000,9, -999.00,9,-999.000,9,   44.36,2,   30.78,2, -67.0000,-174.1807,-999.000,     -999.0,    33.9404,2,     -999.0,9,     -999.0,9,-999.0000,9,-999.0000,9,-999.0000,9,-999.0000,9,-999.0000,9,-999.0000,9,-999.0000,9,-999.0000,9,-999.0000,9,-999.0000,-999.000,  -0.3642,     -999.0,     -999.0,9,     -999.0,9,     -999.0,9,     -999.0,9,     -999.0,20110305,       0603
320620110219,       S04P,      26,          1,         35,         35,2,20110305,       0432,   -67.0000,  -174.1807,       2918,    19.6,  -0.4088,  33.7807,2,  33.7803,2,    339.7,2,   340.1,2,   57.37,2,   26.27,2,    0.17,2,    1.71,2,   5.704,2,   3.169,2,   0.569,2,-999.0000,9,  -999.0,9,  2287.4,2,   7.6893,4,    25.00,-999.000,9,-999.0000,9,-999.000,9,  -0.4087,2, -999.00,9,  -999.0,9,  -999.0,-999.000,9, -999.00,9,-999.000,9,   43.85,2,   31.31,2, -67.0000,-174.1807,-999.000,     -999.0,    33.9396,2,     -999.0,1,     -999.0,9,-999.0000,9,-999.0000,9,-999.0000,9,-999.0000,9,-999.0000,9,-999.0000,9,-999.0000,9,-999.0000,9,-999.0000,9,-999.0000,-999.000,  -0.4094,     -999.0,     -999.0,9,     -999.0,1,     -999.0,1,     -999.0,9,     -999.0,20110305,       0602
320620110219,       S04P,      26,          1,         34,         34,2,20110305,       0432,   -67.0000,  -174.1807,       2918,    39.2,  -0.4130,  33.7830,2,  33.7829,2,    340.0,2,   339.5,2,   57.65,2,   26.16,2,    0.17,2,    1.71,2,   5.571,2,   3.146,2,   0.534,2,-999.0000,9,  -999.0,9,  2287.0,2,   7.6866,4,    25.00,-999.000,9,-999.0000,9,-999.000,9,  -0.4138,2, -999.00,9,  -999.0,9,  -999.0,-999.000,9, -999.00,9,-999.000,9,   43.73,2,   31.56,2, -67.0000,-174.1807,-999.000,     -999.0,    33.9422,2,     -999.0,1,     -999.0,9,-999.0000,9,-999.0000,9,-999.0000,9,-999.0000,9,-999.0000,9,-999.0000,9,-999.0000,9,-999.0000,9,-999.0000,9,-999.0000,-999.000,  -0.4142,     -999.0,     -999.0,9,     -999.0,1,     -999.0,1,     -999.0,9,     -999.0,20110305,       0601
320620110219,       S04P,      26,          1,         33,         33,2,20110305,       0432,   -67.0000,  -174.1807,       2918,    65.0,  -1.6187,  34.2124,2,  34.2124,2,    286.4,2,   290.0,2,   65.93,2,   29.53,2,    0.17,2,    2.01,2,   4.152,2,   2.288,2,   0.406,2,-999.0000,9,  -999.0,9,  2313.5,2,   7.6289,4,    25.00,-999.000,9,-999.0000,9,-999.000,9,  -1.6144,2, -999.00,9,  -999.0,9,  -999.0,-999.000,9, -999.00,9,-999.000,9,   43.43,2,   34.05,2, -67.0000,-174.1807,-999.000,     -999.0,    34.3737,2,     -999.0,1,     -999.0,9,-999.0000,9,-999.0000,9,-999.0000,9,-999.0000,9,-999.0000,9,-999.0000,9,-999.0000,9,-999.0000,9,-999.0000,9,-999.0000,-999.000,  -1.6201,     -999.0,     -999.0,9,     -999.0,1,     -999.0,1,     -999.0,9,     -999.0,20110305,       0559
320620110219,       S04P,      26,          1,         32,         32,2,20110305,       0432,   -67.0000,  -174.1807,       2918,    89.0,  -0.5427,  34.3868,2,  34.3973,2,    265.4,2,   244.9,2,   75.80,2,   31.36,2,    0.03,2,    2.12,2,-999.000,9,-999.000,9,-999.000,9,-999.0000,9,  -999.0,9,  2324.3,2,   7.5965,4,    25.00,-999.000,9,-999.0000,9,-999.000,9,  -0.5406,2, -999.00,9,  -999.0,9,  -999.0,-999.000,9, -999.00,9,-999.000,9,   43.13,2,   35.35,2, -67.0000,-174.1807,-999.000,     -999.0,    34.5595,2,     -999.0,9,     -999.0,9,-999.0000,9,-999.0000,9,-999.0000,9,-999.0000,9,-999.0000,9,-999.0000,9,-999.0000,9,-999.0000,9,-999.0000,9,-999.0000,-999.000,  -0.5454,     -999.0,     -999.0,9,     -999.0,9,     -999.0,9,     -999.0,9,     -999.0,20110305,       0558
320620110219,       S04P,      26,          1,         31,         31,2,20110305,       0432,   -67.0000,  -174.1807,       2918,   114.4,   0.6948,  34.5717,2,  34.5729,2,    226.4,2,   208.7,2,   84.53,2,   32.23,2,    0.01,2,    2.19,2,   1.495,2,   0.813,2,   0.147,2,-999.0000,9,  -999.0,9,  2336.6,2,   7.5794,4,    25.00,-999.000,9,-999.0000,9,-999.000,9,   0.6953,2, -999.00,9,  -999.0,9,  -999.0,-999.000,9, -999.00,9,-999.000,9,   42.78,2,   36.18,2, -67.0000,-174.1807,-999.000,     -999.0,    34.7360,2,     -999.0,9,     -999.0,9,-999.0000,9,-999.0000,9,-999.0000,9,-999.0000,9,-999.0000,9,-999.0000,9,-999.0000,9,-999.0000,9,-999.0000,9,-999.0000,-999.000,   0.6900,     -999.0,     -999.0,9,     -999.0,9,     -999.0,9,     -999.0,9,     -999.0,20110305,       0556
320620110219,       S04P,      26,          1,         30,         30,2,20110305,       0432,   -67.0000,  -174.1807,       2918,   140.4,   1.1293,  34.6411,2,  34.6359,2,    200.9,2,   197.1,2,   86.97,2,   32.33,2,    0.01,2,    2.20,2,-999.000,9,-999.000,9,-999.000,9,-999.0000,9,  -999.0,9,  2338.9,2,   7.5768,4,    25.00,-999.000,9,-999.0000,9,-999.000,9,   1.1300,2, -999.00,9,  -999.0,9,  -999.0,-999.000,9, -999.00,9,-999.000,9,   42.33,2,   35.86,2, -67.0000,-174.1807,-999.000,     -999.0,    34.7992,2,     -999.0,9,     -999.0,9,-999.0000,9,-999.0000,9,-999.0000,9,-999.0000,9,-999.0000,9,-999.0000,9,-999.0000,9,-999.0000,9,-999.0000,9,-999.0000,-999.000,   1.1229,     -999.0,     -999.0,9,     -999.0,9,     -999.0,9,     -999.0,9,     -999.0,20110305,       0555
320620110219,       S04P,      26,          1,         29,         29,2,20110305,       0432,   -67.0000,  -174.1807,       2918,   165.4,   1.3172,  34.6741,2,  34.6747,2,    193.7,2,   192.6,2,   88.47,2,   32.27,2,    0.01,2,    2.19,2,   0.824,2,   0.448,2,   0.082,2,-999.0000,9,  -999.0,9,  2342.0,2,   7.5842,4,    25.00,-999.000,9,-999.0000,9,-999.000,9,   1.3175,2, -999.00,9,  -999.0,9,  -999.0,-999.000,9, -999.00,9,-999.000,9,   41.97,2,   35.57,2, -67.0000,-174.1807,-999.000,     -999.0,    34.8382,2,     -999.0,9,     -999.0,9,-999.0000,9,-999.0000,9,-999.0000,9,-999.0000,9,-999.0000,9,-999.0000,9,-999.0000,9,-999.0000,9,-999.0000,9,-999.0000,-999.000,   1.3093,     -999.0,     -999.0,9,     -999.0,9,     -999.0,9,     -999.0,9,     -999.0,20110305,       0553
320620110219,       S04P,      26,          1,         28,         28,2,20110305,       0432,   -67.0000,  -174.1807,       2918,   191.4,   1.3761,  34.6882,2,  34.6906,2,    191.3,2,   191.9,2,   89.53,2,   32.04,2,    0.00,2,    2.18,2,-999.000,9,-999.000,9,-999.000,9,-999.0000,9,  -999.0,9,  2343.5,2,   7.5859,4,    25.00,-999.000,9,-999.0000,9,-999.000,9,   1.3771,2, -999.00,9,  -999.0,9,  -999.0,-999.000,9, -999.00,9,-999.000,9,   41.55,2,   35.35,2, -67.0000,-174.1807,-999.000,     -999.0,    34.8542,2,     -999.0,9,     -999.0,9,-999.0000,9,-999.0000,9,-999.0000,9,-999.0000,9,-999.0000,9,-999.0000,9,-999.0000,9,-999.0000,9,-999.0000,9,-999.0000,-999.000,   1.3668,     -999.0,     -999.0,9,     -999.0,9,     -999.0,9,     -999.0,9,     -999.0,20110305,       0551
320620110219,       S04P,      26,          1,         27,         27,2,20110305,       0432,   -67.0000,  -174.1807,       2918,   214.4,   1.3976,  34.6974,2,  34.6971,2,    191.0,2,   192.2,2,   90.23,2,   31.94,2,    0.00,2,    2.16,2,   0.659,2,   0.335,2,   0.065,2,-999.0000,9,  -999.0,9,  2344.7,2,   7.5859,4,    25.00,-999.000,9,-999.0000,9,-999.000,9,   1.3976,2, -999.00,9,  -999.0,9,  -999.0,-999.000,9, -999.00,9,-999.000,9,   41.24,2,   35.23,2, -67.0000,-174.1807,-999.000,     -999.0,    34.8607,2,     -999.0,9,     -999.0,9,-999.0000,9,-999.0000,9,-999.0000,9,-999.0000,9,-999.0000,9,-999.0000,9,-999.0000,9,-999.0000,9,-999.0000,9,-999.0000,-999.000,   1.3871,     -999.0,     -999.0,9,     -999.0,9,     -999.0,9,     -999.0,9,     -999.0,20110305,       0550
320620110219,       S04P,      26,          1,         26,         26,2,20110305,       0432,   -67.0000,  -174.1807,       2918,   238.1,   1.3995,  34.7045,2,  34.7036,2,    191.5,2,   191.8,2,   91.13,2,   31.95,2,    0.00,2,    2.17,2,-999.000,9,-999.000,9,-999.000,9,-999.0000,9,  -999.0,9,  2347.1,2,   7.5868,4,    25.00,-999.000,9,-999.0000,9,-999.000,9,   1.3996,2, -999.00,9,  -999.0,9,  -999.0,-999.000,9, -999.00,9,-999.000,9,   40.92,2,   34.93,2, -67.0000,-174.1807,-999.000,     -999.0,    34.8672,2,     -999.0,9,     -999.0,9,-999.0000,9,-999.0000,9,-999.0000,9,-999.0000,9,-999.0000,9,-999.0000,9,-999.0000,9,-999.0000,9,-999.0000,9,-999.0000,-999.000,   1.3878,     -999.0,     -999.0,9,     -999.0,9,     -999.0,9,     -999.0,9,     -999.0,20110305,       0548
320620110219,       S04P,      26,          1,         25,         25,2,20110305,       0432,   -67.0000,  -174.1807,       2918,   286.2,   1.3933,  34.7114,2,  34.7112,2,    192.4,2,   192.8,2,   92.95,2,   31.69,2,    0.00,2,    2.16,2,   0.460,2,   0.262,2,   0.042,2,-999.0000,9,  -999.0,9,  2347.4,2,   7.5913,4,    25.00,-999.000,9,-999.0000,9,-999.000,9,   1.3936,2, -999.00,9,  -999.0,9,  -999.0,-999.000,9, -999.00,9,-999.000,9,   40.70,2,   35.06,2, -67.0000,-174.1807,-999.000,     -999.0,    34.8749,2,     -999.0,9,     -999.0,9,-999.0000,9,-999.0000,9,-999.0000,9,-999.0000,9,-999.0000,9,-999.0000,9,-999.0000,9,-999.0000,9,-999.0000,9,-999.0000,-999.000,   1.3791,     -999.0,     -999.0,9,     -999.0,9,     -999.0,9,     -999.0,9,     -999.0,20110305,       0547
320620110219,       S04P,      26,          1,         24,         24,2,20110305,       0432,   -67.0000,  -174.1807,       2918,   335.3,   1.3722,  34.7153,2,  34.7154,2,    193.3,2,   193.1,2,   93.90,2,   31.67,2,    0.00,2,    2.15,2,-999.000,9,-999.000,9,-999.000,9,-999.0000,9,  -999.0,9,  2349.4,2,   7.5929,4,    25.00,-999.000,9,-999.0000,9,-999.000,9,   1.3717,2, -999.00,9,  -999.0,9,  -999.0,-999.000,9, -999.00,9,-999.000,9,   40.67,2,   35.11,2, -67.0000,-174.1807,-999.000,     -999.0,    34.8790,2,     -999.0,9,     -999.0,9,-999.0000,9,-999.0000,9,-999.0000,9,-999.0000,9,-999.0000,9,-999.0000,9,-999.0000,9,-999.0000,9,-999.0000,9,-999.0000,-999.000,   1.3555,     -999.0,     -999.0,9,     -999.0,9,     -999.0,9,     -999.0,9,     -999.0,20110305,       0545
320620110219,       S04P,      26,          1,         23,         23,2,20110305,       0432,   -67.0000,  -174.1807,       2918,   385.6,   1.3541,  34.7208,2,  34.7204,2,    194.4,2,   194.3,2,   96.57,2,   31.68,2,    0.00,2,    2.15,2,   0.399,2,   0.208,2,   0.039,2,-999.0000,9,  -999.0,9,  2350.0,2,   7.5969,4,    25.00,-999.000,9,-999.0000,9,-999.000,9,   1.3544,2, -999.00,9,  -999.0,9,  -999.0,-999.000,9, -999.00,9,-999.000,9,   40.60,2,   34.75,2, -67.0000,-174.1807,-999.000,     -999.0,    34.8842,2,     -999.0,9,     -999.0,9,-999.0000,9,-999.0000,9,-999.0000,9,-999.0000,9,-999.0000,9,-999.0000,9,-999.0000,9,-999.0000,9,-999.0000,9,-999.0000,-999.000,   1.3348,     -999.0,     -999.0,9,     -999.0,9,     -999.0,9,     -999.0,9,     -999.0,20110305,       0543
320620110219,       S04P,      26,          1,         22,         22,2,20110305,       0432,   -67.0000,  -174.1807,       2918,   434.6,   1.3106,  34.7221,2,  34.7226,2,    195.0,2,   195.1,2,   98.13,2,   31.55,2,    0.00,2,    2.15,2,-999.000,9,-999.000,9,-999.000,9,-999.0000,9,  -999.0,9,  2351.6,2,   7.5998,4,    25.00,-999.000,9,-999.0000,9,-999.000,9,   1.3101,2, -999.00,9,  -999.0,9,  -999.0,-999.000,9, -999.00,9,-999.000,9,   40.43,2,   35.11,2, -67.0000,-174.1807,-999.000,     -999.0,    34.8863,2,     -999.0,9,     -999.0,9,-999.0000,9,-999.0000,9,-999.0000,9,-999.0000,9,-999.0000,9,-999.0000,9,-999.0000,9,-999.0000,9,-999.0000,9,-999.0000,-999.000,   1.2888,     -999.0,     -999.0,9,     -999.0,9,     -999.0,9,     -999.0,9,     -999.0,20110305,       0541
320620110219,       S04P,      26,          1,         21,         21,2,20110305,       0432,   -67.0000,  -174.1807,       2918,   484.9,   1.2817,  34.7234,2,  34.7242,2,    195.5,2,   195.2,2,   98.88,2,   31.59,2,    0.00,2,    2.15,2,   0.344,2,   0.182,2,   0.027,2,-999.0000,9,  -999.0,9,  2352.3,2,   7.6003,4,    25.00,-999.000,9,-999.0000,9,-999.000,9,   1.2818,2, -999.00,9,  -999.0,9,  -999.0,-999.000,9, -999.00,9,-999.000,9,   40.27,2,   34.87,2, -67.0000,-174.1807,-999.000,     -999.0,    34.8879,2,     -999.0,9,     -999.0,9,-999.0000,9,-999.0000,9,-999.0000,9,-999.0000,9,-999.0000,9,-999.0000,9,-999.0000,9,-999.0000,9,-999.0000,9,-999.0000,-999.000,   1.2573,     -999.0,     -999.0,9,     -999.0,9,     -999.0,9,     -999.0,9,     -999.0,20110305,       0539
320620110219,       S04P,      26,          1,         20,         20,2,20110305,       0432,   -67.0000,  -174.1807,       2918,   564.6,   1.2382,  34.7240,2,  34.7245,2,    196.7,2,  -999.0,5,  101.07,2,   31.61,2,    0.00,2,    2.15,2,-999.000,9,-999.000,9,-999.000,9,-999.0000,9,  -999.0,9,  2354.5,2,   7.6007,4,    25.00,-999.000,9,-999.0000,9,-999.000,9,   1.2374,2, -999.00,9,  -999.0,9,  -999.0,-999.000,9, -999.00,9,-999.000,9,   40.43,2,   34.88,2, -67.0000,-174.1807,-999.000,     -999.0,    34.8883,2,     -999.0,9,     -999.0,9,-999.0000,9,-999.0000,9,-999.0000,9,-999.0000,9,-999.0000,9,-999.0000,9,-999.0000,9,-999.0000,9,-999.0000,9,-999.0000,-999.000,   1.2096,     -999.0,     -999.0,9,     -999.0,9,     -999.0,9,     -999.0,9,     -999.0,20110305,       0536
320620110219,       S04P,      26,          1,         19,         19,2,20110305,       0432,   -67.0000,  -174.1807,       2918,   666.8,   1.1503,  34.7228,2,  34.7227,2,    198.3,2,   197.9,2,  104.06,2,   31.66,2,    0.00,2,    2.15,2,   0.274,2,   0.140,2,   0.023,2,-999.0000,9,  -999.0,9,  2354.6,2,   7.5900,4,    25.00,-999.000,9,-999.0000,9,-999.000,9,   1.1501,2, -999.00,9,  -999.0,9,  -999.0,-999.000,9, -999.00,9,-999.000,9,   40.19,2,   34.63,2, -67.0000,-174.1807,-999.000,     -999.0,    34.8865,2,     -999.0,9,     -999.0,9,-999.0000,9,-999.0000,9,-999.0000,9,-999.0000,9,-999.0000,9,-999.0000,9,-999.0000,9,-999.0000,9,-999.0000,9,-999.0000,-999.000,   1.1164,     -999.0,     -999.0,9,     -999.0,9,     -999.0,9,     -999.0,9,     -999.0,20110305,       0534
320620110219,       S04P,      26,          1,         18,         18,2,20110305,       0432,   -67.0000,  -174.1807,       2918,   764.4,   1.0738,  34.7211,2,  34.7214,2,    199.9,2,   199.5,2,  106.85,2,   31.71,2,    0.00,2,    2.16,2,-999.000,9,-999.000,9,-999.000,9,-999.0000,9,  -999.0,9,  -999.0,9,-999.0000,9,  -999.00,-999.000,9,-999.0000,9,-999.000,9,   1.0738,2, -999.00,9,  -999.0,9,  -999.0,-999.000,9, -999.00,9,-999.000,9,   39.96,2,   34.43,2, -67.0000,-174.1807,-999.000,     -999.0,    34.8851,2,     -999.0,9,     -999.0,9,-999.0000,9,-999.0000,9,-999.0000,9,-999.0000,9,-999.0000,9,-999.0000,9,-999.0000,9,-999.0000,9,-999.0000,9,-999.0000,-999.000,   1.0348,     -999.0,     -999.0,9,     -999.0,9,     -999.0,9,     -999.0,9,     -999.0,20110305,       0531
320620110219,       S04P,      26,          1,         17,         17,2,20110305,       0432,   -67.0000,  -174.1807,       2918,   863.8,   1.0125,  34.7194,2,  34.7200,2,    200.7,2,   200.7,2,  108.23,2,   31.77,2,    0.00,2,    2.17,2,   0.231,2,   0.115,2,   0.017,2,-999.0000,9,  -999.0,9,  2356.1,6,   7.5900,4,    25.00,-999.000,9,-999.0000,9,-999.000,9,   1.0129,2, -999.00,9,  -999.0,9,  -999.0,-999.000,9, -999.00,9,-999.000,9,   40.16,2,   34.74,2, -67.0000,-174.1807,-999.000,     -999.0,    34.8837,2,     -999.0,9,     -999.0,9,-999.0000,9,-999.0000,9,-999.0000,9,-999.0000,9,-999.0000,9,-999.0000,9,-999.0000,9,-999.0000,9,-999.0000,9,-999.0000,-999.000,   0.9681,     -999.0,     -999.0,9,     -999.0,9,     -999.0,9,     -999.0,9,     -999.0,20110305,       0528
320620110219,       S04P,      26,          1,         16,         16,2,20110305,       0432,   -67.0000,  -174.1807,       2918,   963.6,   0.9560,  34.7172,2,  34.7178,2,    201.8,2,   201.5,2,  111.21,2,   31.96,2,    0.00,2,    2.16,2,-999.000,9,-999.000,9,-999.000,9,-999.0000,9,  -999.0,9,  -999.0,9,-999.0000,9,  -999.00,-999.000,9,-999.0000,9,-999.000,9,   0.9558,2, -999.00,9,  -999.0,9,  -999.0,-999.000,9, -999.00,9,-999.000,9,   39.98,2,   34.72,2, -67.0000,-174.1807,-999.000,     -999.0,    34.8815,2,     -999.0,9,     -999.0,9,-999.0000,9,-999.0000,9,-999.0000,9,-999.0000,9,-999.0000,9,-999.0000,9,-999.0000,9,-999.0000,9,-999.0000,9,-999.0000,-999.000,   0.9061,     -999.0,     -999.0,9,     -999.0,9,     -999.0,9,     -999.0,9,     -999.0,20110305,       0525
320620110219,       S04P,      26,          1,         15,         15,2,20110305,       0432,   -67.0000,  -174.1807,       2918,  1064.7,   0.8993,  34.7148,2,  34.7152,2,    202.7,2,   203.0,2,  113.28,2,   32.00,2,    0.00,2,    2.17,2,   0.219,2,   0.129,2,   0.020,2,-999.0000,9,  -999.0,9,  2357.1,2,   7.5884,4,    25.00,-999.000,9,-999.0000,9,-999.000,9,   0.8990,2, -999.00,9,  -999.0,9,  -999.0,-999.000,9, -999.00,9,-999.000,9,   39.55,2,   34.72,2, -67.0000,-174.1807,-999.000,     -999.0,    34.8789,2,     -999.0,9,     -999.0,9,-999.0000,9,-999.0000,9,-999.0000,9,-999.0000,9,-999.0000,9,-999.0000,9,-999.0000,9,-999.0000,9,-999.0000,9,-999.0000,-999.000,   0.8438,     -999.0,     -999.0,9,     -999.0,9,     -999.0,9,     -999.0,9,     -999.0,20110305,       0522
320620110219,       S04P,      26,          1,         14,         14,2,20110305,       0432,   -67.0000,  -174.1807,       2918,  1165.0,   0.8434,  34.7129,2,  34.7137,2,    203.4,2,   203.5,2,  115.62,2,   31.90,2,    0.00,2,    2.18,2,-999.000,9,-999.000,9,-999.000,9,-999.0000,9,  -999.0,9,  -999.0,9,-999.0000,9,  -999.00,-999.000,9,-999.0000,9,-999.000,9,   0.8426,2, -999.00,9,  -999.0,9,  -999.0,-999.000,9, -999.00,9,-999.000,9,   39.61,2,   34.75,2, -67.0000,-174.1807,-999.000,     -999.0,    34.8774,2,     -999.0,9,     -999.0,9,-999.0000,9,-999.0000,9,-999.0000,9,-999.0000,9,-999.0000,9,-999.0000,9,-999.0000,9,-999.0000,9,-999.0000,9,-999.0000,-999.000,   0.7822,     -999.0,     -999.0,9,     -999.0,9,     -999.0,9,     -999.0,9,     -999.0,20110305,       0520