BOTTLE,20220813CCHSIOAMB
EXPOCODE,SECT_ID,STNNBR,CASTNO,SAMPNO,BTLNBR,BTLNBR_FLAG_W,DATE,TIME,LATITUDE,LONGITUDE,DEPTH,CTDPRS,CTDTMP,CTDSAL,CTDSAL_FLAG_W,SALNTY,SALNTY_FLAG_W,CTDOXY,CTDOXY_FLAG_W,OXYGEN,OXYGEN_FLAG_W,SILCAT,SILCAT_FLAG_W,NITRAT,NITRAT_FLAG_W,NITRIT,NITRIT_FLAG_W,PHSPHT,PHSPHT_FLAG_W,CFC-11,CFC-11_FLAG_W,CFC-12,CFC-12_FLAG_W,CFC113,CFC113_FLAG_W,SF6,SF6_FLAG_W,TCARBN,TCARBN_FLAG_W,ALKALI,ALKALI_FLAG_W,PH_TOT,PH_TOT_FLAG_W,PH_TMP,TRITUM,TRITUM_FLAG_W,HELIUM,HELIUM_FLAG_W,DELHE3,DELHE3_FLAG_W,REFTMP,REFTMP_FLAG_W,DELC13,DELC13_FLAG_W,DELC14,DELC14_FLAG_W,C14ERR,NEON,NEON_FLAG_W,DELO18,DELO18_FLAG_W,POC,POC_FLAG_W,DOC,DOC_FLAG_W,TDN,TDN_FLAG_W,BTL_LAT,BTL_LON,TRITER,NEONER,SALTREF,SALTREF_FLAG_W,PIGMENTS,PIGMENTS_FLAG_W,LAB_DEN,LAB_DEN_FLAG_W,CDOM325,CDOM325_FLAG_W,CDOM340,CDOM340_FLAG_W,CDOM380,CDOM380_FLAG_W,CDOM412,CDOM412_FLAG_W,CDOM443,CDOM443_FLAG_W,CDOM490,CDOM490_FLAG_W,CDOM555,CDOM555_FLAG_W,CDOMSL,CDOMSL_FLAG_W,CDOMSN,CDOMSN_FLAG_W,HELIER,DELHER,THETA,LDEO_SAMPNO,ABSORBTION,ABSORBTION_FLAG_W,IMAGE_COUNT,IMAGE_COUNT_FLAG_W,CYTO_COUNT,CYTO_COUNT_FLAG_W,DELD,DELD_FLAG_W,DELDERR,BTL_DATE,BTL_TIME
,,,,,,,,,,,METERS,DBAR,ITS-90,PSS-78,,PSS-78,,UMOL/KG,,UMOL/KG,,UMOL/KG,,UMOL/KG,,UMOL/KG,,UMOL/KG,,PMOL/KG,,PMOL/KG,,PMOL/KG,,FMOL/KG,,UMOL/KG,,UMOL/KG,,,,DEG C,TU,,NMOL/KG,,PERCNT,,DEG C,,/MILLE,,/MILLE,,/MILLE,NMOL/KG,,/MILLE,,UG/KG,,UMOL/KG,,UMOL/KG,,,,TU,NMOL/KG,G/KG,,,,,,1/M,,1/M,,1/M,,1/M,,1/M,,1/M,,1/M,,1/NM,,1/NM,,NMOL/KG,PERCNT,DEG C,,,,,,,,/MILLE,,/MILLE,,
320620110219,       S04P,      29,          1,         13,         13,2,20110306,       0041,   -67.0002,  -170.3417,       3621,  1463.8,   0.7053,  34.7076,2,  34.7076,2,    206.0,2,   206.8,2,  119.74,2,   32.04,2,    0.00,2,    2.23,2,   0.219,2,   0.105,2,   0.014,2,   0.0670,2,  2257.9,2,  2358.9,2,   7.5939,2,    25.00,-999.000,9,-999.0000,9,-999.000,9,   0.7052,2, -999.00,9,  -999.0,9,  -999.0,-999.000,9, -999.00,9,-999.000,9, -999.00,9, -999.00,9, -67.0002,-170.3417,-999.000,     -999.0,    34.8713,2,     -999.0,9,     -999.0,9,-999.0000,9,-999.0000,9,-999.0000,9,-999.0000,9,-999.0000,9,-999.0000,9,-999.0000,9,-999.0000,9,-999.0000,9,-999.0000,-999.000,   0.6263,     -999.0,     -999.0,9,     -999.0,9,     -999.0,9,     -999.0,9,     -999.0,20110306,       0131
320620110219,       S04P,      29,          1,         12,         12,2,20110306,       0041,   -67.0002,  -170.3417,       3621,  1563.9,   0.6639,  34.7061,2,  34.7056,2,    206.9,2,   206.9,2,  120.91,2,   32.07,2,    0.00,2,    2.24,2,-999.000,9,-999.000,9,-999.000,9,-999.0000,9,  -999.0,9,  -999.0,9,-999.0000,9,  -999.00,-999.000,9,-999.0000,9,-999.000,9,   0.6638,2, -999.00,9,  -999.0,9,  -999.0,-999.000,9, -999.00,9,-999.000,9, -999.00,9, -999.00,9, -67.0002,-170.3417,-999.000,     -999.0,    34.8693,2,     -999.0,9,     -999.0,9,-999.0000,9,-999.0000,9,-999.0000,9,-999.0000,9,-999.0000,9,-999.0000,9,-999.0000,9,-999.0000,9,-999.0000,9,-999.0000,-999.000,   0.5787,     -999.0,     -999.0,9,     -999.0,9,     -999.0,9,     -999.0,9,     -999.0,20110306,       0128
320620110219,       S04P,      29,          1,         11,         11,2,20110306,       0041,   -67.0002,  -170.3417,       3621,  1665.5,   0.6298,  34.7048,2,  34.7045,2,    207.5,2,   207.3,2,  123.58,2,   32.17,2,    0.00,2,    2.23,2,   0.251,2,   0.123,2,   0.015,2,   0.0730,2,  -999.0,9,  -999.0,9,-999.0000,9,  -999.00,-999.000,9,-999.0000,9,-999.000,9,   0.6298,2, -999.00,9,  -999.0,9,  -999.0,-999.000,9, -999.00,9,-999.000,9, -999.00,9, -999.00,9, -67.0002,-170.3417,-999.000,     -999.0,    34.8681,2,     -999.0,9,     -999.0,9,-999.0000,9,-999.0000,9,-999.0000,9,-999.0000,9,-999.0000,9,-999.0000,9,-999.0000,9,-999.0000,9,-999.0000,9,-999.0000,-999.000,   0.5381,     -999.0,     -999.0,9,     -999.0,9,     -999.0,9,     -999.0,9,     -999.0,20110306,       0126
320620110219,       S04P,      29,          1,         10,         37,2,20110306,       0041,   -67.0002,  -170.3417,       3621,  1765.8,   0.5885,  34.7035,2,  34.7039,2,    208.4,2,   208.2,2,  122.34,2,   32.18,2,    0.00,2,    2.24,2,-999.000,9,-999.000,9,-999.000,9,-999.0000,9,  2258.9,2,  2359.0,2,   7.5926,2,    25.00,-999.000,9,-999.0000,9,-999.000,9,   0.5886,2, -999.00,9,  -999.0,9,  -999.0,-999.000,9, -999.00,9,-999.000,9, -999.00,9, -999.00,9, -67.0002,-170.3417,-999.000,     -999.0,    34.8675,2,     -999.0,9,     -999.0,9,-999.0000,9,-999.0000,9,-999.0000,9,-999.0000,9,-999.0000,9,-999.0000,9,-999.0000,9,-999.0000,9,-999.0000,9,-999.0000,-999.000,   0.4904,     -999.0,     -999.0,9,     -999.0,9,     -999.0,9,     -999.0,9,     -999.0,20110306,       0123
320620110219,       S04P,      29,          1,          9,          9,2,20110306,       0041,   -67.0002,  -170.3417,       3621,  1934.0,   0.5185,  34.7020,2,  34.7019,2,    209.4,2,   209.7,2,  123.60,2,   32.29,2,    0.00,2,    2.24,2,   0.287,2,   0.144,2,   0.020,2,   0.0890,2,  -999.0,9,  -999.0,9,-999.0000,9,  -999.00,-999.000,9,-999.0000,9,-999.000,9,   0.5182,2, -999.00,9,  -999.0,9,  -999.0,-999.000,9, -999.00,9,-999.000,9, -999.00,9, -999.00,9, -67.0002,-170.3417,-999.000,     -999.0,    34.8656,2,     -999.0,9,     -999.0,9,-999.0000,9,-999.0000,9,-999.0000,9,-999.0000,9,-999.0000,9,-999.0000,9,-999.0000,9,-999.0000,9,-999.0000,9,-999.0000,-999.000,   0.4094,     -999.0,     -999.0,9,     -999.0,9,     -999.0,9,     -999.0,9,     -999.0,20110306,       0120
320620110219,       S04P,      29,          1,          8,          8,2,20110306,       0041,   -67.0002,  -170.3417,       3621,  2165.3,   0.4443,  34.7015,2,  34.7013,2,    210.3,2,   210.6,2,  125.62,2,   32.40,2,    0.00,2,    2.24,2,-999.000,9,-999.000,9,-999.000,9,-999.0000,9,  -999.0,9,  -999.0,9,-999.0000,9,  -999.00,-999.000,9,-999.0000,9,-999.000,9,   0.4441,2, -999.00,9,  -999.0,9,  -999.0,-999.000,9, -999.00,9,-999.000,9, -999.00,9, -999.00,9, -67.0002,-170.3417,-999.000,     -999.0,    34.8650,2,     -999.0,9,     -999.0,9,-999.0000,9,-999.0000,9,-999.0000,9,-999.0000,9,-999.0000,9,-999.0000,9,-999.0000,9,-999.0000,9,-999.0000,9,-999.0000,-999.000,   0.3192,     -999.0,     -999.0,9,     -999.0,9,     -999.0,9,     -999.0,9,     -999.0,20110306,       0115
320620110219,       S04P,      29,          1,          7,          7,2,20110306,       0041,   -67.0002,  -170.3417,       3621,  2413.2,   0.3465,  34.6971,2,  34.6970,2,    213.4,2,   213.9,2,  124.30,2,   32.43,2,    0.00,2,    2.25,2,   0.492,2,   0.248,2,   0.032,2,   0.1040,2,  2259.6,2,  2358.4,2,   7.5895,2,    25.00,-999.000,9,-999.0000,9,-999.000,9,   0.3464,2, -999.00,9,  -999.0,9,  -999.0,-999.000,9, -999.00,9,-999.000,9, -999.00,9, -999.00,9, -67.0002,-170.3417,-999.000,     -999.0,    34.8606,2,     -999.0,9,     -999.0,9,-999.0000,9,-999.0000,9,-999.0000,9,-999.0000,9,-999.0000,9,-999.0000,9,-999.0000,9,-999.0000,9,-999.0000,9,-999.0000,-999.000,   0.2040,     -999.0,     -999.0,9,     -999.0,9,     -999.0,9,     -999.0,9,     -999.0,20110306,       0110
320620110219,       S04P,      29,          1,          6,          6,2,20110306,       0041,   -67.0002,  -170.3417,       3621,  2665.3,   0.2811,  34.6939,2,  34.6939,2,    215.9,2,   216.6,2,  122.75,2,   32.41,2,    0.00,2,    2.24,2,-999.000,9,-999.000,9,-999.000,9,-999.0000,9,  -999.0,9,  -999.0,9,-999.0000,9,  -999.00,-999.000,9,-999.0000,9,-999.000,9,   0.2814,2, -999.00,9,  -999.0,9,  -999.0,-999.000,9, -999.00,9,-999.000,9, -999.00,9, -999.00,9, -67.0002,-170.3417,-999.000,     -999.0,    34.8575,2,     -999.0,9,     -999.0,9,-999.0000,9,-999.0000,9,-999.0000,9,-999.0000,9,-999.0000,9,-999.0000,9,-999.0000,9,-999.0000,9,-999.0000,9,-999.0000,-999.000,   0.1196,     -999.0,     -999.0,9,     -999.0,9,     -999.0,9,     -999.0,9,     -999.0,20110306,       0104
320620110219,       S04P,      29,          1,          5,          5,2,20110306,       0041,   -67.0002,  -170.3417,       3621,  2914.7,   0.2609,  34.6933,2,  34.6927,2,    217.2,2,   217.6,2,  122.76,2,   32.43,2,    0.00,2,    2.24,2,   0.740,2,   0.373,2,   0.054,2,   0.1600,2,  -999.0,9,  -999.0,9,-999.0000,9,  -999.00,-999.000,9,-999.0000,9,-999.000,9,   0.2606,2, -999.00,9,  -999.0,9,  -999.0,-999.000,9, -999.00,9,-999.000,9, -999.00,9, -999.00,9, -67.0002,-170.3418,-999.000,     -999.0,    34.8563,2,     -999.0,9,     -999.0,9,-999.0000,9,-999.0000,9,-999.0000,9,-999.0000,9,-999.0000,9,-999.0000,9,-999.0000,9,-999.0000,9,-999.0000,9,-999.0000,-999.000,   0.0789,     -999.0,     -999.0,9,     -999.0,9,     -999.0,9,     -999.0,9,     -999.0,20110306,       0059
320620110219,       S04P,      29,          1,          4,          4,2,20110306,       0041,   -67.0002,  -170.3417,       3621,  3201.9,   0.2570,  34.6922,2,  34.6919,2,    217.8,2,   218.4,2,  122.66,2,   32.44,2,    0.00,2,    2.24,2,   0.788,2,   0.399,2,   0.060,2,   0.1770,2,  2259.0,2,  2357.2,2,   7.5887,2,    25.00,-999.000,9,-999.0000,9,-999.000,9,   0.2567,2, -999.00,9,  -999.0,9,  -999.0,-999.000,9, -999.00,9,-999.000,9, -999.00,9, -999.00,9, -67.0002,-170.3417,-999.000,     -999.0,    34.8555,2,     -999.0,9,     -999.0,9,-999.0000,9,-999.0000,9,-999.0000,9,-999.0000,9,-999.0000,9,-999.0000,9,-999.0000,9,-999.0000,9,-999.0000,9,-999.0000,-999.000,   0.0498,     -999.0,     -999.0,9,     -999.0,9,     -999.0,9,     -999.0,9,     -999.0,20110306,       0053
320620110219,       S04P,      29,          1,          3,          3,2,20110306,       0041,   -67.0002,  -170.3417,       3621,  3501.9,   0.2533,  34.6907,2,  34.6909,2,    219.0,2,   219.0,2,  120.81,2,   32.34,2,    0.00,2,    2.25,2,   0.861,2,   0.435,2,   0.062,2,   0.2540,2,  2260.1,2,  2357.1,6,   7.5891,2,    25.00,-999.000,9,-999.0000,9,-999.000,9,   0.2535,2, -999.00,9,  -999.0,9,  -999.0,-999.000,9, -999.00,9,-999.000,9, -999.00,9, -999.00,9, -67.0002,-170.3417,-999.000,     -999.0,    34.8545,2,     -999.0,9,     -999.0,9,-999.0000,9,-999.0000,9,-999.0000,9,-999.0000,9,-999.0000,9,-999.0000,9,-999.0000,9,-999.0000,9,-999.0000,9,-999.0000,-999.000,   0.0185,     -999.0,     -999.0,9,     -999.0,9,     -999.0,9,     -999.0,9,     -999.0,20110306,       0047
320620110219,       S04P,      29,          1,          2,          2,2,20110306,       0041,   -67.0002,  -170.3417,       3621,  3600.2,   0.2619,  34.6908,2,  34.6901,2,    219.0,2,   219.5,2,  121.68,2,   32.35,2,    0.00,2,    2.25,2,   0.864,2,   0.443,2,   0.062,2,   0.3050,2,  2259.2,2,  2357.2,2,   7.5876,6,    25.00,-999.000,9,-999.0000,9,-999.000,9,   0.2617,2, -999.00,9,  -999.0,9,  -999.0,-999.000,9, -999.00,9,-999.000,9, -999.00,9, -999.00,9, -67.0002,-170.3417,-999.000,     -999.0,    34.8537,2,     -999.0,9,     -999.0,9,-999.0000,9,-999.0000,9,-999.0000,9,-999.0000,9,-999.0000,9,-999.0000,9,-999.0000,9,-999.0000,9,-999.0000,9,-999.0000,-999.000,   0.0176,     -999.0,     -999.0,9,     -999.0,9,     -999.0,9,     -999.0,9,     -999.0,20110306,       0044
320620110219,       S04P,      29,          1,          1,          1,2,20110306,       0041,   -67.0002,  -170.3417,       3621,  3674.0,   0.2676,  34.6904,2,  34.6903,2,   -999.0,9,  -999.0,5,  121.71,2,   32.31,2,    0.00,2,    2.24,2,   0.917,2,   0.464,2,   0.065,2,   0.3650,2,  2258.8,6,  2357.0,2,   7.5899,2,    25.00,-999.000,9,-999.0000,9,-999.000,9,   0.2675,2, -999.00,9,  -999.0,9,  -999.0,-999.000,9, -999.00,9,-999.000,9, -999.00,9, -999.00,9, -67.0002,-170.3417,-999.000,     -999.0,    34.8539,2,     -999.0,9,     -999.0,9,-999.0000,9,-999.0000,9,-999.0000,9,-999.0000,9,-999.0000,9,-999.0000,9,-999.0000,9,-999.0000,9,-999.0000,9,-999.0000,-999.000,   0.0160,     -999.0,     -999.0,9,     -999.0,9,     -999.0,9,     -999.0,9,     -999.0,20110306,       0041