BOTTLE,20220813CCHSIOAMB
EXPOCODE,SECT_ID,STNNBR,CASTNO,SAMPNO,BTLNBR,BTLNBR_FLAG_W,DATE,TIME,LATITUDE,LONGITUDE,DEPTH,CTDPRS,CTDTMP,CTDSAL,CTDSAL_FLAG_W,SALNTY,SALNTY_FLAG_W,CTDOXY,CTDOXY_FLAG_W,OXYGEN,OXYGEN_FLAG_W,SILCAT,SILCAT_FLAG_W,NITRAT,NITRAT_FLAG_W,NITRIT,NITRIT_FLAG_W,PHSPHT,PHSPHT_FLAG_W,CFC-11,CFC-11_FLAG_W,CFC-12,CFC-12_FLAG_W,CFC113,CFC113_FLAG_W,SF6,SF6_FLAG_W,TCARBN,TCARBN_FLAG_W,ALKALI,ALKALI_FLAG_W,PH_TOT,PH_TOT_FLAG_W,PH_TMP,TRITUM,TRITUM_FLAG_W,HELIUM,HELIUM_FLAG_W,DELHE3,DELHE3_FLAG_W,REFTMP,REFTMP_FLAG_W,DELC13,DELC13_FLAG_W,DELC14,DELC14_FLAG_W,C14ERR,NEON,NEON_FLAG_W,DELO18,DELO18_FLAG_W,POC,POC_FLAG_W,DOC,DOC_FLAG_W,TDN,TDN_FLAG_W,BTL_LAT,BTL_LON,TRITER,NEONER,SALTREF,SALTREF_FLAG_W,PIGMENTS,PIGMENTS_FLAG_W,LAB_DEN,LAB_DEN_FLAG_W,CDOM325,CDOM325_FLAG_W,CDOM340,CDOM340_FLAG_W,CDOM380,CDOM380_FLAG_W,CDOM412,CDOM412_FLAG_W,CDOM443,CDOM443_FLAG_W,CDOM490,CDOM490_FLAG_W,CDOM555,CDOM555_FLAG_W,CDOMSL,CDOMSL_FLAG_W,CDOMSN,CDOMSN_FLAG_W,HELIER,DELHER,THETA,LDEO_SAMPNO,ABSORBTION,ABSORBTION_FLAG_W,IMAGE_COUNT,IMAGE_COUNT_FLAG_W,CYTO_COUNT,CYTO_COUNT_FLAG_W,DELD,DELD_FLAG_W,DELDERR,BTL_DATE,BTL_TIME
,,,,,,,,,,,METERS,DBAR,ITS-90,PSS-78,,PSS-78,,UMOL/KG,,UMOL/KG,,UMOL/KG,,UMOL/KG,,UMOL/KG,,UMOL/KG,,PMOL/KG,,PMOL/KG,,PMOL/KG,,FMOL/KG,,UMOL/KG,,UMOL/KG,,,,DEG C,TU,,NMOL/KG,,PERCNT,,DEG C,,/MILLE,,/MILLE,,/MILLE,NMOL/KG,,/MILLE,,UG/KG,,UMOL/KG,,UMOL/KG,,,,TU,NMOL/KG,G/KG,,,,,,1/M,,1/M,,1/M,,1/M,,1/M,,1/M,,1/M,,1/NM,,1/NM,,NMOL/KG,PERCNT,DEG C,,,,,,,,/MILLE,,/MILLE,,
320620110219,       S04P,     124,          2,         13,         13,2,20110415,       0432,   -67.0000,   -89.2850,       3316,  1565.3,   1.5330,  34.7313,2,  34.7312,2,    192.9,2,   193.3,2,   97.28,2,   31.36,2,    0.00,2,    2.17,2,   0.175,2,   0.087,2,   0.011,2,   0.0590,2,  -999.0,9,  -999.0,9,-999.0000,9,  -999.00,-999.000,9,-999.0000,9,-999.000,9,   1.5332,2, -999.00,9,  -999.0,9,  -999.0,-999.000,9, -999.00,9,-999.000,9,   40.35,2,   33.84,2, -67.0001, -89.2850,-999.000,     -999.0,    34.8949,2,     -999.0,9,     -999.0,9,-999.0000,9,-999.0000,9,-999.0000,9,-999.0000,9,-999.0000,9,-999.0000,9,-999.0000,9,-999.0000,9,-999.0000,9,-999.0000,-999.000,   1.4370,     -999.0,     -999.0,9,     -999.0,9,     -999.0,9,     -999.0,9,     -999.0,20110415,       0530
320620110219,       S04P,     124,          2,         12,         12,2,20110415,       0432,   -67.0000,   -89.2850,       3316,  1735.0,   1.4103,  34.7293,2,  34.7290,2,    194.7,2,   194.1,2,  101.61,2,   31.46,2,    0.00,2,    2.18,2,-999.000,9,-999.000,9,-999.000,9,-999.0000,9,  2255.9,2,  2358.5,2,   7.6024,2,    25.00,-999.000,9,-999.0000,9,-999.000,9,   1.4111,2, -999.00,9,  -999.0,9,  -999.0,-999.000,9, -999.00,9,-999.000,9,   40.18,2,   33.98,2, -67.0001, -89.2850,-999.000,     -999.0,    34.8928,2,     -999.0,9,     -999.0,9,-999.0000,9,-999.0000,9,-999.0000,9,-999.0000,9,-999.0000,9,-999.0000,9,-999.0000,9,-999.0000,9,-999.0000,9,-999.0000,-999.000,   1.3031,     -999.0,     -999.0,9,     -999.0,9,     -999.0,9,     -999.0,9,     -999.0,20110415,       0526
320620110219,       S04P,     124,          2,         11,         11,2,20110415,       0432,   -67.0000,   -89.2850,       3316,  1934.8,   1.2796,  34.7262,2,  34.7259,2,    196.6,2,   196.5,2,  105.74,2,   31.57,2,    0.00,2,    2.19,2,   0.130,2,   0.065,2,   0.011,2,   0.0040,2,  -999.0,9,  -999.0,9,-999.0000,9,  -999.00,-999.000,9,-999.0000,9,-999.000,9,   1.2796,2, -999.00,9,  -999.0,9,  -999.0,-999.000,9, -999.00,9,-999.000,9,   40.44,2,   34.15,2, -67.0001, -89.2849,-999.000,     -999.0,    34.8896,2,     -999.0,9,     -999.0,9,-999.0000,9,-999.0000,9,-999.0000,9,-999.0000,9,-999.0000,9,-999.0000,9,-999.0000,9,-999.0000,9,-999.0000,9,-999.0000,-999.000,   1.1589,     -999.0,     -999.0,9,     -999.0,9,     -999.0,9,     -999.0,9,     -999.0,20110415,       0522
320620110219,       S04P,     124,          2,         10,         37,2,20110415,       0432,   -67.0000,   -89.2850,       3316,  2164.8,   1.1599,  34.7221,2,  34.7219,2,    198.4,2,   198.3,2,  110.15,2,   31.64,2,    0.00,2,    2.20,2,-999.000,9,-999.000,9,-999.000,9,-999.0000,9,  2259.1,2,  2362.0,2,   7.6027,2,    25.00,-999.000,9,-999.0000,9,-999.000,9,   1.1601,2, -999.00,9,  -999.0,9,  -999.0,-999.000,9, -999.00,9,-999.000,9,   40.23,2,   33.86,2, -67.0001, -89.2850,-999.000,     -999.0,    34.8857,2,     -999.0,9,     -999.0,9,-999.0000,9,-999.0000,9,-999.0000,9,-999.0000,9,-999.0000,9,-999.0000,9,-999.0000,9,-999.0000,9,-999.0000,9,-999.0000,-999.000,   1.0229,     -999.0,     -999.0,9,     -999.0,9,     -999.0,9,     -999.0,9,     -999.0,20110415,       0517
320620110219,       S04P,     124,          2,          9,          9,2,20110415,       0432,   -67.0000,   -89.2850,       3316,  2415.0,   1.0223,  34.7174,2,  34.7170,2,    200.9,2,   201.6,2,  114.69,2,   31.77,2,    0.00,2,    2.21,2,   0.164,2,   0.085,2,   0.013,2,   0.0830,2,  -999.0,9,  -999.0,9,-999.0000,9,  -999.00,-999.000,9,-999.0000,9,-999.000,9,   1.0225,2, -999.00,9,  -999.0,9,  -999.0,-999.000,9, -999.00,9,-999.000,9,   40.82,2,   34.04,2, -67.0001, -89.2849,-999.000,     -999.0,    34.8807,2,     -999.0,9,     -999.0,9,-999.0000,9,-999.0000,9,-999.0000,9,-999.0000,9,-999.0000,9,-999.0000,9,-999.0000,9,-999.0000,9,-999.0000,9,-999.0000,-999.000,   0.8672,     -999.0,     -999.0,9,     -999.0,9,     -999.0,9,     -999.0,9,     -999.0,20110415,       0512
320620110219,       S04P,     124,          2,          8,          8,2,20110415,       0432,   -67.0000,   -89.2850,       3316,  2664.7,   0.8981,  34.7132,2,  34.7129,2,    203.1,2,   202.8,2,  118.99,2,   31.92,2,    0.00,2,    2.22,2,-999.000,9,-999.000,9,-999.000,9,-999.0000,9,  2260.2,2,  2363.9,2,   7.6002,2,    25.00,-999.000,9,-999.0000,9,-999.000,9,   0.8980,2, -999.00,9,  -999.0,9,  -999.0,-999.000,9, -999.00,9,-999.000,9,   40.95,2,   34.37,2, -67.0001, -89.2849,-999.000,     -999.0,    34.8766,2,     -999.0,9,     -999.0,9,-999.0000,9,-999.0000,9,-999.0000,9,-999.0000,9,-999.0000,9,-999.0000,9,-999.0000,9,-999.0000,9,-999.0000,9,-999.0000,-999.000,   0.7242,     -999.0,     -999.0,9,     -999.0,9,     -999.0,9,     -999.0,9,     -999.0,20110415,       0507
320620110219,       S04P,     124,          2,          7,          7,2,20110415,       0432,   -67.0000,   -89.2850,       3316,  2914.3,   0.7882,  34.7098,2,  34.7096,2,    205.1,2,   205.4,2,  122.79,2,   32.10,2,    0.00,2,    2.22,2,   0.150,2,   0.074,2,   0.009,2,   0.0300,2,  -999.0,9,  -999.0,9,-999.0000,9,  -999.00,-999.000,9,-999.0000,9,-999.000,9,   0.7879,2, -999.00,9,  -999.0,9,  -999.0,-999.000,9, -999.00,9,-999.000,9,   40.23,2,   34.55,2, -67.0001, -89.2849,-999.000,     -999.0,    34.8732,2,     -999.0,9,     -999.0,9,-999.0000,9,-999.0000,9,-999.0000,9,-999.0000,9,-999.0000,9,-999.0000,9,-999.0000,9,-999.0000,9,-999.0000,9,-999.0000,-999.000,   0.5947,     -999.0,     -999.0,9,     -999.0,9,     -999.0,9,     -999.0,9,     -999.0,20110415,       0502
320620110219,       S04P,     124,          2,          6,          6,2,20110415,       0432,   -67.0000,   -89.2850,       3316,  3200.7,   0.6620,  34.7067,2,  34.7062,2,    207.4,2,   207.5,2,  126.14,2,   32.21,2,    0.00,2,    2.23,2,-999.000,9,-999.000,9,-999.000,9,-999.0000,9,  2261.9,2,  2363.1,2,   7.5997,2,    25.00,-999.000,9,-999.0000,9,-999.000,9,   0.6624,2, -999.00,9,  -999.0,9,  -999.0,-999.000,9, -999.00,9,-999.000,9,   40.22,2,   34.56,2, -67.0001, -89.2849,-999.000,     -999.0,    34.8699,2,     -999.0,9,     -999.0,9,-999.0000,9,-999.0000,9,-999.0000,9,-999.0000,9,-999.0000,9,-999.0000,9,-999.0000,9,-999.0000,9,-999.0000,9,-999.0000,-999.000,   0.4453,     -999.0,     -999.0,9,     -999.0,9,     -999.0,9,     -999.0,9,     -999.0,20110415,       0457
320620110219,       S04P,     124,          2,          5,          5,2,20110415,       0432,   -67.0000,   -89.2850,       3316,  3499.9,   0.5395,  34.7049,2,  34.7041,2,    210.1,2,   209.9,2,  130.33,2,   32.35,2,    0.00,2,    2.24,2,   0.178,2,   0.086,2,   0.008,2,   0.0130,2,  -999.0,9,  -999.0,9,-999.0000,9,  -999.00,-999.000,9,-999.0000,9,-999.000,9,   0.5395,2, -999.00,9,  -999.0,9,  -999.0,-999.000,9, -999.00,9,-999.000,9,   40.84,2,   34.50,2, -67.0001, -89.2849,-999.000,     -999.0,    34.8677,2,     -999.0,9,     -999.0,9,-999.0000,9,-999.0000,9,-999.0000,9,-999.0000,9,-999.0000,9,-999.0000,9,-999.0000,9,-999.0000,9,-999.0000,9,-999.0000,-999.000,   0.2975,     -999.0,     -999.0,9,     -999.0,9,     -999.0,9,     -999.0,9,     -999.0,20110415,       0451
320620110219,       S04P,     124,          2,          4,          4,2,20110415,       0432,   -67.0000,   -89.2850,       3316,  3799.9,   0.4696,  34.7040,2,  34.7035,2,    211.6,2,   211.6,2,  133.92,2,   32.38,2,    0.00,2,    2.24,2,-999.000,9,-999.000,9,-999.000,9,-999.0000,9,  2263.6,2,  -999.0,9,   7.5996,2,    25.00,-999.000,9,-999.0000,9,-999.000,9,   0.4696,2, -999.00,9,  -999.0,9,  -999.0,-999.000,9, -999.00,9,-999.000,9,   40.48,2,   34.58,2, -67.0001, -89.2849,-999.000,     -999.0,    34.8671,2,     -999.0,9,     -999.0,9,-999.0000,9,-999.0000,9,-999.0000,9,-999.0000,9,-999.0000,9,-999.0000,9,-999.0000,9,-999.0000,9,-999.0000,9,-999.0000,-999.000,   0.2001,     -999.0,     -999.0,9,     -999.0,9,     -999.0,9,     -999.0,9,     -999.0,20110415,       0445
320620110219,       S04P,     124,          2,          3,          3,2,20110415,       0432,   -67.0000,   -89.2850,       3316,  4099.8,   0.4424,  34.7035,2,  34.7031,2,    212.7,2,   212.8,2,  136.75,2,   32.40,2,    0.00,2,    2.24,2,   0.289,2,   0.144,2,   0.016,2,   0.0600,2,  2264.8,2,  2364.7,2,   7.5983,2,    25.00,-999.000,9,-999.0000,9,-999.000,9,   0.4423,2, -999.00,9,  -999.0,9,  -999.0,-999.000,9, -999.00,9,-999.000,9,   40.57,2,   34.81,2, -67.0001, -89.2849,-999.000,     -999.0,    34.8667,2,     -999.0,9,     -999.0,9,-999.0000,9,-999.0000,9,-999.0000,9,-999.0000,9,-999.0000,9,-999.0000,9,-999.0000,9,-999.0000,9,-999.0000,9,-999.0000,-999.000,   0.1430,     -999.0,     -999.0,9,     -999.0,9,     -999.0,9,     -999.0,9,     -999.0,20110415,       0439
320620110219,       S04P,     124,          2,          2,          2,2,20110415,       0432,   -67.0000,   -89.2850,       3316,  4249.5,   0.4314,  34.7029,2,  34.7025,2,    213.0,2,   212.4,2,  138.74,2,   32.39,2,    0.00,2,    2.24,2,   0.244,2,   0.116,2,   0.015,2,   0.0360,2,  2266.2,6,  -999.0,9,   7.5973,2,    25.00,-999.000,9,-999.0000,9,-999.000,9,   0.4312,2, -999.00,9,  -999.0,9,  -999.0,-999.000,9, -999.00,9,-999.000,9,   40.48,2,   34.69,2, -67.0001, -89.2849,-999.000,     -999.0,    34.8661,2,     -999.0,9,     -999.0,9,-999.0000,9,-999.0000,9,-999.0000,9,-999.0000,9,-999.0000,9,-999.0000,9,-999.0000,9,-999.0000,9,-999.0000,9,-999.0000,-999.000,   0.1166,     -999.0,     -999.0,9,     -999.0,9,     -999.0,9,     -999.0,9,     -999.0,20110415,       0436
320620110219,       S04P,     124,          2,          1,          1,2,20110415,       0432,   -67.0000,   -89.2850,       3316,  4400.0,   0.4233,  34.7024,2,  34.7023,2,    212.3,2,   212.6,2,  141.32,2,   32.43,2,    0.00,2,    2.25,2,   0.257,2,   0.125,2,   0.012,2,   0.0760,2,  2265.9,2,  2364.8,2,   7.5952,6,    25.00,-999.000,9,-999.0000,9,-999.000,9,   0.4235,2, -999.00,9,  -999.0,9,  -999.0,-999.000,9, -999.00,9,-999.000,9,   40.16,2,   34.60,2, -67.0000, -89.2849,-999.000,     -999.0,    34.8659,2,     -999.0,9,     -999.0,9,-999.0000,9,-999.0000,9,-999.0000,9,-999.0000,9,-999.0000,9,-999.0000,9,-999.0000,9,-999.0000,9,-999.0000,9,-999.0000,-999.000,   0.0927,     -999.0,     -999.0,9,     -999.0,9,     -999.0,9,     -999.0,9,     -999.0,20110415,       0432