BOTTLE,20220813CCHSIOAMB
EXPOCODE,SECT_ID,STNNBR,CASTNO,SAMPNO,BTLNBR,BTLNBR_FLAG_W,DATE,TIME,LATITUDE,LONGITUDE,DEPTH,CTDPRS,CTDTMP,CTDSAL,CTDSAL_FLAG_W,SALNTY,SALNTY_FLAG_W,CTDOXY,CTDOXY_FLAG_W,OXYGEN,OXYGEN_FLAG_W,SILCAT,SILCAT_FLAG_W,NITRAT,NITRAT_FLAG_W,NITRIT,NITRIT_FLAG_W,PHSPHT,PHSPHT_FLAG_W,CFC-11,CFC-11_FLAG_W,CFC-12,CFC-12_FLAG_W,CFC113,CFC113_FLAG_W,SF6,SF6_FLAG_W,TCARBN,TCARBN_FLAG_W,ALKALI,ALKALI_FLAG_W,PH_TOT,PH_TOT_FLAG_W,PH_TMP,TRITUM,TRITUM_FLAG_W,HELIUM,HELIUM_FLAG_W,DELHE3,DELHE3_FLAG_W,REFTMP,REFTMP_FLAG_W,DELC13,DELC13_FLAG_W,DELC14,DELC14_FLAG_W,C14ERR,NEON,NEON_FLAG_W,DELO18,DELO18_FLAG_W,POC,POC_FLAG_W,DOC,DOC_FLAG_W,TDN,TDN_FLAG_W,BTL_LAT,BTL_LON,TRITER,NEONER,SALTREF,SALTREF_FLAG_W,PIGMENTS,PIGMENTS_FLAG_W,LAB_DEN,LAB_DEN_FLAG_W,CDOM325,CDOM325_FLAG_W,CDOM340,CDOM340_FLAG_W,CDOM380,CDOM380_FLAG_W,CDOM412,CDOM412_FLAG_W,CDOM443,CDOM443_FLAG_W,CDOM490,CDOM490_FLAG_W,CDOM555,CDOM555_FLAG_W,CDOMSL,CDOMSL_FLAG_W,CDOMSN,CDOMSN_FLAG_W,HELIER,DELHER,THETA,LDEO_SAMPNO,ABSORBTION,ABSORBTION_FLAG_W,IMAGE_COUNT,IMAGE_COUNT_FLAG_W,CYTO_COUNT,CYTO_COUNT_FLAG_W,DELD,DELD_FLAG_W,DELDERR,BTL_DATE,BTL_TIME
,,,,,,,,,,,METERS,DBAR,ITS-90,PSS-78,,PSS-78,,UMOL/KG,,UMOL/KG,,UMOL/KG,,UMOL/KG,,UMOL/KG,,UMOL/KG,,PMOL/KG,,PMOL/KG,,PMOL/KG,,FMOL/KG,,UMOL/KG,,UMOL/KG,,,,DEG C,TU,,NMOL/KG,,PERCNT,,DEG C,,/MILLE,,/MILLE,,/MILLE,NMOL/KG,,/MILLE,,UG/KG,,UMOL/KG,,UMOL/KG,,,,TU,NMOL/KG,G/KG,,,,,,1/M,,1/M,,1/M,,1/M,,1/M,,1/M,,1/M,,1/NM,,1/NM,,NMOL/KG,PERCNT,DEG C,,,,,,,,/MILLE,,/MILLE,,
320620110219,       P15S,      86,          1,         36,         36,2,20110324,       2019,   -73.6854,  -171.3089,       3536,     3.7,  -1.1882,  34.0140,2,  34.0138,2,    331.9,3,   333.6,2,   63.61,2,   24.71,2,    0.07,2,    1.82,2,   5.894,2,   2.996,2,   0.574,2,   2.5470,2,  2182.7,6,  2308.6,2,   7.6818,2,    25.00,   0.081,2,    1.903,2,  -1.416,2,  -1.1882,2, -999.00,9,  -999.0,9,  -999.0,   8.627,2,   -0.52,2,-999.000,9, -999.00,9, -999.00,9, -73.6864,-171.3123,   0.006,      0.007,    34.1742,2,     -999.0,9,     -999.0,9,   0.0803,2,   0.0421,3,   0.0033,3,  -0.0025,4,  -0.0113,4,  -0.0095,4,  -0.0109,4,   0.0601,4,   0.0490,4,    0.001,   0.204,  -1.1883,50008601036,     -999.0,9,     -999.0,9,     -999.0,9,      -5.11,2,       0.32,20110324,       2155
320620110219,       P15S,      86,          1,         35,         35,2,20110324,       2019,   -73.6854,  -171.3089,       3536,    24.9,  -1.1869,  34.0146,2,  34.0142,2,    335.8,2,   335.5,2,   63.72,2,   24.71,2,    0.07,2,    1.82,2,   5.923,2,   3.247,2,   0.593,2,   2.4770,2,  2182.5,2,  2308.5,2,   7.6823,2,    25.00,-999.000,9,-999.0000,9,-999.000,9,  -1.1870,2, -999.00,9,  -999.0,9,  -999.0,-999.000,9, -999.00,9,-999.000,9, -999.00,9, -999.00,9, -73.6864,-171.3125,-999.000,     -999.0,    34.1746,2,     -999.0,9,     -999.0,9,   0.0984,3,   0.0565,3,   0.0110,4,   0.0024,4,  -0.0080,4,  -0.0074,4,  -0.0097,4,   0.0457,4,   0.0401,4,-999.0000,-999.000,  -1.1875,     -999.0,     -999.0,9,     -999.0,9,     -999.0,9,     -999.0,9,     -999.0,20110324,       2154
320620110219,       P15S,      86,          1,         34,         34,2,20110324,       2019,   -73.6854,  -171.3089,       3536,    49.1,  -1.1880,  34.0147,2,  34.0152,2,    335.7,2,   334.9,2,   63.95,2,   24.86,2,    0.07,2,    1.83,2,-999.000,9,   3.159,2,-999.000,9,   2.3290,2,  -999.0,5,  -999.0,5,   7.6826,2,    25.00,   0.082,2,    1.931,2,  -1.756,2,  -1.1883,2, -999.00,9,  -999.0,9,  -999.0,   8.730,2,   -0.58,2,-999.000,9, -999.00,9, -999.00,9, -73.6863,-171.3126,   0.005,      0.007,    34.1756,2,     -999.0,9,     -999.0,9,   0.0844,2,   0.0452,3,   0.0043,3,  -0.0006,4,  -0.0097,4,  -0.0083,4,  -0.0103,4,   0.0586,4,   0.0472,4,    0.001,   0.203,  -1.1892,50008601034,     -999.0,9,     -999.0,9,     -999.0,9,      -5.61,2,       0.09,20110324,       2152
320620110219,       P15S,      86,          1,         33,         33,2,20110324,       2019,   -73.6854,  -171.3089,       3536,    75.5,  -1.2206,  34.0235,2,  34.0267,2,    334.3,2,   330.2,2,   64.84,2,   25.38,2,    0.08,2,    1.87,2,-999.000,9,-999.000,9,-999.000,9,-999.0000,9,  2186.1,2,  2309.1,2,   7.6748,2,    25.00,-999.000,9,-999.0000,9,-999.000,9,  -1.2198,2, -999.00,9,  -999.0,9,  -999.0,-999.000,9, -999.00,9,-999.000,9, -999.00,9, -999.00,9, -73.6862,-171.3124,-999.000,     -999.0,    34.1872,2,     -999.0,9,     -999.0,9,   0.0914,2,   0.0494,2,   0.0053,3,  -0.0013,4,  -0.0109,4,  -0.0094,4,  -0.0110,4,   0.0595,4,   0.0461,4,-999.0000,-999.000,  -1.2224,     -999.0,     -999.0,9,     -999.0,9,     -999.0,9,     -999.0,9,     -999.0,20110324,       2151
320620110219,       P15S,      86,          1,         32,         32,2,20110324,       2019,   -73.6854,  -171.3089,       3536,   100.3,  -1.7564,  34.1201,2,  34.1189,2,    290.3,2,   289.1,2,   69.09,2,   30.00,2,    0.10,2,    2.11,2,   4.638,2,   2.509,2,   0.448,2,   1.9440,2,  2213.7,2,  2309.6,2,   7.5985,6,    25.00,   0.066,2,    2.024,2,   1.701,2,  -1.7550,2, -999.00,9,  -999.0,9,  -999.0,   9.064,2,   -0.40,2,-999.000,9, -999.00,9, -999.00,9, -73.6862,-171.3122,   0.004,      0.007,    34.2798,2,     -999.0,9,     -999.0,9,   0.0844,2,   0.0438,3,   0.0036,3,  -0.0012,4,  -0.0105,4,  -0.0093,4,  -0.0108,4,   0.0604,4,   0.0492,4,    0.001,   0.192,  -1.7584,50008601032,     -999.0,9,     -999.0,9,     -999.0,9,      -4.91,2,       0.08,20110324,       2150
320620110219,       P15S,      86,          1,         31,         31,2,20110324,       2019,   -73.6854,  -171.3089,       3536,   124.8,  -1.6983,  34.1388,2,  34.1389,2,    287.0,2,   286.6,2,   66.70,2,   30.24,2,    0.10,2,    2.12,2,-999.000,9,-999.000,9,-999.000,9,-999.0000,9,  2213.2,2,  2309.1,2,   7.5989,2,    25.00,-999.000,9,-999.0000,9,-999.000,9,  -1.6979,2, -999.00,9,  -999.0,9,  -999.0,-999.000,9, -999.00,9,-999.000,9, -999.00,9, -999.00,9, -73.6862,-171.3123,-999.000,     -999.0,    34.2998,2,     -999.0,9,     -999.0,9,   0.0829,2,   0.0433,3,   0.0070,3,  -0.0021,4,  -0.0116,4,  -0.0101,4,  -0.0113,4,   0.0524,4,   0.0457,4,-999.0000,-999.000,  -1.7009,     -999.0,     -999.0,9,     -999.0,9,     -999.0,9,     -999.0,9,     -999.0,20110324,       2148
320620110219,       P15S,      86,          1,         30,         30,2,20110324,       2019,   -73.6854,  -171.3089,       3536,   150.2,  -1.4523,  34.1698,2,  34.1760,2,    279.6,2,   276.2,2,   67.60,2,   30.70,2,    0.08,2,    2.13,2,   4.168,2,   2.264,2,   0.399,2,   1.5920,2,  2216.3,2,  2311.3,2,   7.5947,2,    25.00,   0.066,2,    2.022,2,   2.164,2,  -1.4539,2, -999.00,9,  -999.0,9,  -999.0,   8.992,2,   -0.34,2,-999.000,9, -999.00,9, -999.00,9, -73.6862,-171.3121,   0.004,      0.007,    34.3372,2,     -999.0,9,     -999.0,9,   0.0806,2,   0.0411,3,   0.0021,3,  -0.0024,4,  -0.0112,4,  -0.0097,4,  -0.0111,4,   0.0633,4,   0.0511,4,    0.001,   0.240,  -1.4558,50008601030,     -999.0,9,     -999.0,9,     -999.0,9,      -3.80,2,       0.11,20110324,       2147
320620110219,       P15S,      86,          1,         29,         29,2,20110324,       2019,   -73.6854,  -171.3089,       3536,   200.5,  -0.1159,  34.3429,2,  34.3362,2,    245.3,2,   236.7,2,   75.02,2,   32.14,2,    0.03,2,    2.22,2,   2.774,2,   1.505,6,   0.252,2,   1.0920,6,  2232.9,2,  2321.7,2,   7.5770,2,    25.00,-999.000,9,-999.0000,9,-999.000,9,  -0.1111,2, -999.00,9,  -999.0,9,  -999.0,-999.000,9, -999.00,9,-999.000,9, -999.00,9, -999.00,9, -73.6861,-171.3118,-999.000,     -999.0,    34.4982,2,     -999.0,9,     -999.0,9,   0.0874,2,   0.0462,3,   0.0037,3,  -0.0019,4,  -0.0113,4,  -0.0098,4,  -0.0112,4,   0.0666,4,   0.0482,4,-999.0000,-999.000,  -0.1230,     -999.0,     -999.0,9,     -999.0,9,     -999.0,9,     -999.0,9,     -999.0,20110324,       2145
320620110219,       P15S,      86,          1,         28,         28,2,20110324,       2019,   -73.6854,  -171.3089,       3536,   248.3,   0.7139,  34.4827,2,  34.4785,2,    212.0,2,   208.8,2,   80.80,2,   32.81,2,    0.01,2,    2.26,2,   1.738,2,   0.928,2,   0.140,2,   0.6540,2,  2243.2,2,  2329.6,2,   7.5645,2,    25.00,   0.016,2,    2.037,2,   6.657,2,   0.7183,2, -999.00,9,  -999.0,9,  -999.0,   8.907,2,   -0.05,2,-999.000,9, -999.00,9, -999.00,9, -73.6859,-171.3112,   0.004,      0.008,    34.6411,2,     -999.0,9,     -999.0,9,   0.0935,2,   0.0508,2,   0.0065,3,  -0.0013,4,  -0.0108,4,  -0.0095,4,  -0.0112,4,   0.0555,4,   0.0449,4,    0.001,   0.194,   0.7032,50008601028,     -999.0,9,     -999.0,9,     -999.0,9,      -2.63,2,       0.18,20110324,       2143
320620110219,       P15S,      86,          1,         27,         27,2,20110324,       2019,   -73.6854,  -171.3089,       3536,   300.8,   1.3098,  34.6006,2,  34.6003,2,    190.7,2,   190.2,2,   84.38,2,   33.08,2,    0.00,2,    2.27,2,-999.000,9,-999.000,9,-999.000,9,-999.0000,9,  2251.6,2,  2336.1,2,   7.5619,2,    25.00,-999.000,9,-999.0000,9,-999.000,9,   1.3109,2, -999.00,9,  -999.0,9,  -999.0,-999.000,9, -999.00,9,-999.000,9, -999.00,9, -999.00,9, -73.6858,-171.3107,-999.000,     -999.0,    34.7634,2,     -999.0,9,     -999.0,9,-999.0000,9,-999.0000,9,-999.0000,9,-999.0000,9,-999.0000,9,-999.0000,9,-999.0000,9,-999.0000,9,-999.0000,9,-999.0000,-999.000,   1.2951,     -999.0,     -999.0,9,     -999.0,9,     -999.0,9,     -999.0,9,     -999.0,20110324,       2141
320620110219,       P15S,      86,          1,         26,         26,2,20110324,       2019,   -73.6854,  -171.3089,       3536,   348.7,   1.6174,  34.6822,2,  34.6815,2,    183.1,2,   182.8,2,   87.53,2,   32.78,2,    0.00,2,    2.25,2,   0.512,2,   0.257,2,   0.042,2,   0.1330,2,  2255.4,2,  2343.7,2,   7.5681,2,    25.00,   0.005,2,    1.967,2,   8.736,2,   1.6172,2, -999.00,9,  -999.0,9,  -999.0,   8.586,2,    0.14,2,-999.000,9, -999.00,9, -999.00,9, -73.6859,-171.3110,   0.004,      0.007,    34.8450,2,     -999.0,9,     -999.0,9,-999.0000,9,-999.0000,9,-999.0000,9,-999.0000,9,-999.0000,9,-999.0000,9,-999.0000,9,-999.0000,9,-999.0000,9,    0.001,   0.208,   1.5993,50008601026,     -999.0,9,     -999.0,9,     -999.0,9,      -1.86,2,       0.10,20110324,       2140
320620110219,       P15S,      86,          1,         25,         25,2,20110324,       2019,   -73.6854,  -171.3089,       3536,   399.1,   1.6497,  34.7084,2,  34.7082,2,    182.0,2,   182.1,2,   90.08,2,   32.57,2,    0.00,2,    2.24,2,-999.000,9,-999.000,9,-999.000,9,-999.0000,9,  2256.9,2,  2347.6,2,   7.5749,2,    25.00,-999.000,9,-999.0000,9,-999.000,9,   1.6502,2, -999.00,9,  -999.0,9,  -999.0,-999.000,9, -999.00,9,-999.000,9, -999.00,9, -999.00,9, -73.6860,-171.3113,-999.000,     -999.0,    34.8719,2,     -999.0,9,     -999.0,9,   0.0951,2,   0.0525,2,   0.0069,3,  -0.0017,4,  -0.0111,4,  -0.0098,4,  -0.0114,4,   0.0550,4,   0.0441,4,-999.0000,-999.000,   1.6287,     -999.0,     -999.0,9,     -999.0,9,     -999.0,9,     -999.0,9,     -999.0,20110324,       2138
320620110219,       P15S,      86,          1,         24,         24,2,20110324,       2019,   -73.6854,  -171.3089,       3536,   450.8,   1.6118,  34.7167,2,  34.7166,2,    182.5,2,   182.9,2,   91.99,2,   32.49,2,    0.00,2,    2.23,2,   0.313,2,   0.154,2,   0.020,2,   0.0950,2,  2256.9,2,  2353.0,2,   7.5776,2,    25.00,   0.001,2,    1.978,2,   9.603,2,   1.6123,2, -999.00,9,  -999.0,9,  -999.0,   8.633,2,   -0.15,2,-999.000,9, -999.00,9, -999.00,9, -73.6861,-171.3116,   0.004,      0.007,    34.8803,2,     -999.0,9,     -999.0,9,-999.0000,9,-999.0000,9,-999.0000,9,-999.0000,9,-999.0000,9,-999.0000,9,-999.0000,9,-999.0000,9,-999.0000,9,    0.001,   0.218,   1.5880,50008601024,     -999.0,9,     -999.0,9,     -999.0,9,      -1.60,2,       0.22,20110324,       2136
320620110219,       P15S,      86,          1,         23,         23,2,20110324,       2019,   -73.6854,  -171.3089,       3536,   499.2,   1.5692,  34.7238,2,  34.7235,2,    183.6,2,   183.8,2,   94.00,2,   32.44,2,    0.00,2,    2.23,2,-999.000,9,-999.000,9,-999.000,9,-999.0000,9,  2257.6,2,  2350.5,2,   7.5792,6,    25.00,-999.000,9,-999.0000,9,-999.000,9,   1.5690,2, -999.00,9,  -999.0,9,  -999.0,-999.000,9, -999.00,9,-999.000,9, -999.00,9, -999.00,9, -73.6860,-171.3113,-999.000,     -999.0,    34.8872,2,     -999.0,9,     -999.0,9,-999.0000,9,-999.0000,9,-999.0000,9,-999.0000,9,-999.0000,9,-999.0000,9,-999.0000,9,-999.0000,9,-999.0000,9,-999.0000,-999.000,   1.5428,     -999.0,     -999.0,9,     -999.0,9,     -999.0,9,     -999.0,9,     -999.0,20110324,       2134
320620110219,       P15S,      86,          1,         22,         22,2,20110324,       2019,   -73.6854,  -171.3089,       3536,   601.1,   1.4708,  34.7289,2,  34.7292,2,    185.5,2,   185.9,2,   97.53,2,   32.45,2,    0.00,2,    2.23,2,   0.187,2,   0.093,2,   0.008,2,   0.0540,2,  -999.0,9,  -999.0,9,-999.0000,9,  -999.00,   0.001,2,    1.987,2,   9.342,2,   1.4703,2, -999.00,9,  -999.0,9,  -999.0,   8.660,2,   -0.07,2,-999.000,9, -999.00,9, -999.00,9, -73.6858,-171.3108,   0.004,      0.007,    34.8930,2,     -999.0,9,     -999.0,9,   0.0979,2,   0.0548,2,   0.0081,3,  -0.0001,4,  -0.0098,4,  -0.0086,4,  -0.0107,4,   0.0608,4,   0.0431,4,    0.001,   0.197,   1.4390,50008601022,     -999.0,9,     -999.0,9,     -999.0,9,      -1.51,2,       0.14,20110324,       2131
320620110219,       P15S,      86,          1,         21,         21,2,20110324,       2019,   -73.6854,  -171.3089,       3536,   701.0,   1.3710,  34.7307,2,  34.7304,2,    187.8,2,   188.4,2,  101.17,2,   32.43,2,    0.00,2,    2.23,2,-999.000,9,-999.000,9,-999.000,9,-999.0000,9,  2259.7,2,  2356.9,2,   7.5862,2,    25.00,-999.000,9,-999.0000,9,-999.000,9,   1.3708,2, -999.00,9,  -999.0,9,  -999.0,-999.000,9, -999.00,9,-999.000,9, -999.00,9, -999.00,9, -73.6857,-171.3103,-999.000,     -999.0,    34.8941,2,     -999.0,9,     -999.0,9,-999.0000,9,-999.0000,9,-999.0000,9,-999.0000,9,-999.0000,9,-999.0000,9,-999.0000,9,-999.0000,9,-999.0000,9,-999.0000,-999.000,   1.3339,     -999.0,     -999.0,9,     -999.0,9,     -999.0,9,     -999.0,9,     -999.0,20110324,       2129
320620110219,       P15S,      86,          1,         20,         20,2,20110324,       2019,   -73.6854,  -171.3089,       3536,   800.5,   1.2995,  34.7296,2,  34.7292,2,    190.0,2,   189.2,2,  103.52,2,   32.51,2,    0.00,2,    2.23,2,   0.119,2,   0.061,2,   0.006,2,   0.0680,2,  -999.0,9,  -999.0,9,-999.0000,9,  -999.00,   0.001,2,    2.021,2,   9.389,2,   1.2993,2, -999.00,9,  -999.0,9,  -999.0,   8.774,2,    0.07,2,-999.000,9, -999.00,9, -999.00,9, -73.6857,-171.3103,   0.004,      0.007,    34.8930,2,     -999.0,9,     -999.0,9,-999.0000,9,-999.0000,9,-999.0000,9,-999.0000,9,-999.0000,9,-999.0000,9,-999.0000,9,-999.0000,9,-999.0000,9,    0.001,   0.198,   1.2569,50008601020,     -999.0,9,     -999.0,9,     -999.0,9,      -1.42,2,       0.13,20110324,       2126
320620110219,       P15S,      86,          1,         19,         19,2,20110324,       2019,   -73.6854,  -171.3089,       3536,   899.0,   1.2141,  34.7276,2,  34.7272,2,    191.8,2,   191.1,2,  106.05,2,   32.54,2,    0.00,2,    2.23,2,-999.000,9,-999.000,9,-999.000,9,-999.0000,9,  2259.9,2,  2355.1,6,   7.5889,2,    25.00,-999.000,9,-999.0000,9,-999.000,9,   1.2141,2, -999.00,9,  -999.0,9,  -999.0,-999.000,9, -999.00,9,-999.000,9, -999.00,9, -999.00,9, -73.6856,-171.3101,-999.000,     -999.0,    34.8910,2,     -999.0,9,     -999.0,9,   0.0928,2,   0.0505,2,   0.0061,3,  -0.0024,4,  -0.0116,4,  -0.0099,4,  -0.0115,4,   0.0587,4,   0.0451,4,-999.0000,-999.000,   1.1662,     -999.0,     -999.0,9,     -999.0,9,     -999.0,9,     -999.0,9,     -999.0,20110324,       2123
320620110219,       P15S,      86,          1,         18,         18,2,20110324,       2019,   -73.6854,  -171.3089,       3536,  1001.5,   1.1343,  34.7252,2,  34.7249,2,    193.6,2,   193.4,2,  108.83,2,   32.51,2,    0.00,2,    2.24,2,   0.076,2,   0.046,2,   0.002,2,   0.0260,2,  -999.0,9,  -999.0,9,-999.0000,9,  -999.00,   0.001,2,    2.036,2,   9.787,2,   1.1341,2, -999.00,9,  -999.0,9,  -999.0,   8.826,2,    0.02,2,-999.000,9, -999.00,9, -999.00,9, -73.6858,-171.3106,   0.004,      0.007,    34.8886,2,     -999.0,9,     -999.0,9,-999.0000,9,-999.0000,9,-999.0000,9,-999.0000,9,-999.0000,9,-999.0000,9,-999.0000,9,-999.0000,9,-999.0000,9,    0.001,   0.196,   1.0807,50008601018,     -999.0,9,     -999.0,9,     -999.0,9,      -1.39,2,       0.25,20110324,       2121
320620110219,       P15S,      86,          1,         17,         17,2,20110324,       2019,   -73.6854,  -171.3089,       3536,  1101.0,   1.0681,  34.7226,2,  34.7231,2,    195.2,2,   194.9,2,  111.21,2,   32.54,2,    0.00,2,    2.24,2,-999.000,9,-999.000,9,-999.000,9,-999.0000,9,  2260.5,2,  2358.3,2,   7.5938,2,    25.00,-999.000,9,-999.0000,9,-999.000,9,   1.0679,2, -999.00,9,  -999.0,9,  -999.0,-999.000,9, -999.00,9,-999.000,9, -999.00,9, -999.00,9, -73.6858,-171.3108,-999.000,     -999.0,    34.8868,2,     -999.0,9,     -999.0,9,-999.0000,9,-999.0000,9,-999.0000,9,-999.0000,9,-999.0000,9,-999.0000,9,-999.0000,9,-999.0000,9,-999.0000,9,-999.0000,-999.000,   1.0088,     -999.0,     -999.0,9,     -999.0,9,     -999.0,9,     -999.0,9,     -999.0,20110324,       2118
320620110219,       P15S,      86,          1,         16,         16,2,20110324,       2019,   -73.6854,  -171.3089,       3536,  1201.5,   1.0087,  34.7209,2,  34.7204,2,    196.9,2,   196.5,2,  112.35,2,   32.60,2,    0.00,2,    2.24,2,   0.077,2,   0.041,2,   0.002,2,   0.0340,2,  -999.0,9,  -999.0,9,-999.0000,9,  -999.00,-999.000,9,-999.0000,9,-999.000,9,   1.0089,2, -999.00,9,  -999.0,9,  -999.0,-999.000,9, -999.00,9,-999.000,9, -999.00,9, -999.00,9, -73.6858,-171.3108,-999.000,     -999.0,    34.8841,2,     -999.0,9,     -999.0,9,   0.0888,2,   0.0474,3,   0.0040,3,  -0.0037,4,  -0.0123,4,  -0.0102,4,  -0.0116,4,   0.0586,4,   0.0472,4,-999.0000,-999.000,   0.9436,     -999.0,     -999.0,9,     -999.0,9,     -999.0,9,     -999.0,9,     -999.0,20110324,       2115
320620110219,       P15S,      86,          1,         15,         15,2,20110324,       2019,   -73.6854,  -171.3089,       3536,  1300.7,   0.9424,  34.7180,2,  34.7184,2,    198.4,2,   198.1,2,  114.27,2,   32.62,2,    0.00,2,    2.24,2,-999.000,9,-999.000,9,-999.000,9,-999.0000,9,  2261.3,2,  2359.5,2,   7.5943,2,    25.00,-999.000,9,-999.0000,9,-999.000,9,   0.9416,2, -999.00,9,  -999.0,9,  -999.0,-999.000,9, -999.00,9,-999.000,9, -999.00,9, -999.00,9, -73.6858,-171.3105,-999.000,     -999.0,    34.8821,2,     -999.0,9,     -999.0,9,-999.0000,9,-999.0000,9,-999.0000,9,-999.0000,9,-999.0000,9,-999.0000,9,-999.0000,9,-999.0000,9,-999.0000,9,-999.0000,-999.000,   0.8715,     -999.0,     -999.0,9,     -999.0,9,     -999.0,9,     -999.0,9,     -999.0,20110324,       2113
320620110219,       P15S,      86,          1,         14,         14,2,20110324,       2019,   -73.6854,  -171.3089,       3536,  1399.5,   0.8990,  34.7168,2,  34.7166,2,    199.3,2,   199.4,2,  115.67,2,   32.74,2,    0.00,2,    2.24,2,   0.076,2,   0.041,2,   0.002,2,   0.0170,2,  -999.0,9,  -999.0,9,-999.0000,9,  -999.00,-999.000,9,-999.0000,9,-999.000,9,   0.8990,2, -999.00,9,  -999.0,9,  -999.0,-999.000,9, -999.00,9,-999.000,9, -999.00,9, -999.00,9, -73.6858,-171.3108,-999.000,     -999.0,    34.8803,2,     -999.0,9,     -999.0,9,-999.0000,9,-999.0000,9,-999.0000,9,-999.0000,9,-999.0000,9,-999.0000,9,-999.0000,9,-999.0000,9,-999.0000,9,-999.0000,-999.000,   0.8221,     -999.0,     -999.0,9,     -999.0,9,     -999.0,9,     -999.0,9,     -999.0,20110324,       2110