BOTTLE,20220813CCHSIOAMB
EXPOCODE,SECT_ID,STNNBR,CASTNO,SAMPNO,BTLNBR,BTLNBR_FLAG_W,DATE,TIME,LATITUDE,LONGITUDE,DEPTH,CTDPRS,CTDTMP,CTDSAL,CTDSAL_FLAG_W,SALNTY,SALNTY_FLAG_W,CTDOXY,CTDOXY_FLAG_W,OXYGEN,OXYGEN_FLAG_W,SILCAT,SILCAT_FLAG_W,NITRAT,NITRAT_FLAG_W,NITRIT,NITRIT_FLAG_W,PHSPHT,PHSPHT_FLAG_W,CFC-11,CFC-11_FLAG_W,CFC-12,CFC-12_FLAG_W,CFC113,CFC113_FLAG_W,SF6,SF6_FLAG_W,TCARBN,TCARBN_FLAG_W,ALKALI,ALKALI_FLAG_W,PH_TOT,PH_TOT_FLAG_W,PH_TMP,TRITUM,TRITUM_FLAG_W,HELIUM,HELIUM_FLAG_W,DELHE3,DELHE3_FLAG_W,REFTMP,REFTMP_FLAG_W,DELC13,DELC13_FLAG_W,DELC14,DELC14_FLAG_W,C14ERR,NEON,NEON_FLAG_W,DELO18,DELO18_FLAG_W,POC,POC_FLAG_W,DOC,DOC_FLAG_W,TDN,TDN_FLAG_W,BTL_LAT,BTL_LON,TRITER,NEONER,SALTREF,SALTREF_FLAG_W,PIGMENTS,PIGMENTS_FLAG_W,LAB_DEN,LAB_DEN_FLAG_W,CDOM325,CDOM325_FLAG_W,CDOM340,CDOM340_FLAG_W,CDOM380,CDOM380_FLAG_W,CDOM412,CDOM412_FLAG_W,CDOM443,CDOM443_FLAG_W,CDOM490,CDOM490_FLAG_W,CDOM555,CDOM555_FLAG_W,CDOMSL,CDOMSL_FLAG_W,CDOMSN,CDOMSN_FLAG_W,HELIER,DELHER,THETA,LDEO_SAMPNO,ABSORBTION,ABSORBTION_FLAG_W,IMAGE_COUNT,IMAGE_COUNT_FLAG_W,CYTO_COUNT,CYTO_COUNT_FLAG_W,DELD,DELD_FLAG_W,DELDERR,BTL_DATE,BTL_TIME
,,,,,,,,,,,METERS,DBAR,ITS-90,PSS-78,,PSS-78,,UMOL/KG,,UMOL/KG,,UMOL/KG,,UMOL/KG,,UMOL/KG,,UMOL/KG,,PMOL/KG,,PMOL/KG,,PMOL/KG,,FMOL/KG,,UMOL/KG,,UMOL/KG,,,,DEG C,TU,,NMOL/KG,,PERCNT,,DEG C,,/MILLE,,/MILLE,,/MILLE,NMOL/KG,,/MILLE,,UG/KG,,UMOL/KG,,UMOL/KG,,,,TU,NMOL/KG,G/KG,,,,,,1/M,,1/M,,1/M,,1/M,,1/M,,1/M,,1/M,,1/NM,,1/NM,,NMOL/KG,PERCNT,DEG C,,,,,,,,/MILLE,,/MILLE,,
320620110219,       S04P,       6,          2,         32,         32,2,20110223,       1038,   -70.3588,   168.6265,       2002,     2.8,  -1.4985,  34.0852,2,  34.0863,2,    343.8,3,   345.6,2,   66.85,2,   28.60,2,    0.14,2,    1.92,2,   5.782,2,   3.249,2,   0.602,2,   2.8340,2,  2192.2,2,  2297.4,6,-999.0000,5,    25.00,-999.000,9,-999.0000,9,-999.000,9,  -1.4980,2, -999.00,9,  -999.0,9,  -999.0,-999.000,9, -999.00,9,-999.000,9,   43.09,2,   31.72,2, -70.3588, 168.6265,-999.000,     -999.0,    34.2471,2,     -999.0,9,     -999.0,9,-999.0000,9,-999.0000,9,-999.0000,9,-999.0000,9,-999.0000,9,-999.0000,9,-999.0000,9,-999.0000,9,-999.0000,9,-999.0000,-999.000,  -1.4986,     -999.0,     -999.0,9,     -999.0,9,     -999.0,9,     -999.0,9,     -999.0,20110223,       1151
320620110219,       S04P,       6,          2,         31,         31,2,20110223,       1038,   -70.3588,   168.6265,       2002,    24.2,  -1.5048,  34.0868,2,  34.0871,2,    345.6,2,   345.3,2,   67.03,2,   28.70,2,    0.14,2,    1.91,2,   5.773,2,   3.244,2,   0.576,2,   2.8260,2,  2191.5,6,  2300.8,2,-999.0000,5,    25.00,-999.000,9,-999.0000,9,-999.000,9,  -1.5053,2, -999.00,9,  -999.0,9,  -999.0,-999.000,9, -999.00,9,-999.000,9,   43.82,2,   32.11,2, -70.3588, 168.6266,-999.000,     -999.0,    34.2478,2,     -999.0,9,     -999.0,9,-999.0000,9,-999.0000,9,-999.0000,9,-999.0000,9,-999.0000,9,-999.0000,9,-999.0000,9,-999.0000,9,-999.0000,9,-999.0000,-999.000,  -1.5053,     -999.0,     -999.0,9,     -999.0,9,     -999.0,9,     -999.0,9,     -999.0,20110223,       1150
320620110219,       S04P,       6,          2,         30,         30,2,20110223,       1038,   -70.3588,   168.6265,       2002,    49.9,  -1.4985,  34.0897,2,  34.0887,2,    345.0,2,   345.1,2,   66.84,2,   28.69,2,    0.14,2,    1.91,2,   5.759,2,   3.236,2,   0.594,2,   2.8630,2,  2192.8,2,  2284.6,4,-999.0000,5,    25.00,-999.000,9,-999.0000,9,-999.000,9,  -1.4987,2, -999.00,9,  -999.0,9,  -999.0,-999.000,9, -999.00,9,-999.000,9,   43.13,2,   32.24,2, -70.3588, 168.6265,-999.000,     -999.0,    34.2494,2,     -999.0,9,     -999.0,9,-999.0000,9,-999.0000,9,-999.0000,9,-999.0000,9,-999.0000,9,-999.0000,9,-999.0000,9,-999.0000,9,-999.0000,9,-999.0000,-999.000,  -1.4996,     -999.0,     -999.0,9,     -999.0,9,     -999.0,9,     -999.0,9,     -999.0,20110223,       1148
320620110219,       S04P,       6,          2,         29,         29,2,20110223,       1038,   -70.3588,   168.6265,       2002,    73.3,  -1.4412,  34.1114,2,  34.1114,2,    342.9,2,   342.7,2,   67.09,2,   28.69,2,    0.15,2,    1.92,2,   5.700,2,   3.206,2,   0.591,2,   2.6820,2,  2194.4,2,  2306.0,2,-999.0000,5,    25.00,-999.000,9,-999.0000,9,-999.000,9,  -1.4404,2, -999.00,9,  -999.0,9,  -999.0,-999.000,9, -999.00,9,-999.000,9,   42.27,2,   32.05,2, -70.3588, 168.6265,-999.000,     -999.0,    34.2722,2,     -999.0,9,     -999.0,9,-999.0000,9,-999.0000,9,-999.0000,9,-999.0000,9,-999.0000,9,-999.0000,9,-999.0000,9,-999.0000,9,-999.0000,9,-999.0000,-999.000,  -1.4428,     -999.0,     -999.0,9,     -999.0,9,     -999.0,9,     -999.0,9,     -999.0,20110223,       1146
320620110219,       S04P,       6,          2,         28,         28,2,20110223,       1038,   -70.3588,   168.6265,       2002,    99.6,  -1.0704,  34.2543,2,  34.2543,2,    327.1,2,   332.7,2,   68.50,2,   28.56,2,    0.16,2,    1.95,2,   5.347,2,   3.019,2,   0.539,2,   2.4150,2,  2206.3,2,  2299.1,4,-999.0000,5,    25.00,-999.000,9,-999.0000,9,-999.000,9,  -1.0701,2, -999.00,9,  -999.0,9,  -999.0,-999.000,9, -999.00,9,-999.000,9,   42.29,2,   31.76,2, -70.3588, 168.6265,-999.000,     -999.0,    34.4158,2,     -999.0,9,     -999.0,9,-999.0000,9,-999.0000,9,-999.0000,9,-999.0000,9,-999.0000,9,-999.0000,9,-999.0000,9,-999.0000,9,-999.0000,9,-999.0000,-999.000,  -1.0730,     -999.0,     -999.0,9,     -999.0,9,     -999.0,9,     -999.0,9,     -999.0,20110223,       1144
320620110219,       S04P,       6,          2,         27,         27,2,20110223,       1038,   -70.3588,   168.6265,       2002,   125.0,  -0.9560,  34.3059,2,  34.3019,2,    313.1,2,   315.1,2,   70.83,2,   29.43,2,    0.14,2,    1.99,2,-999.000,9,-999.000,9,-999.000,9,-999.0000,9,  -999.0,9,  -999.0,9,-999.0000,9,  -999.00,-999.000,9,-999.0000,9,-999.000,9,  -0.9562,2, -999.00,9,  -999.0,9,  -999.0,-999.000,9, -999.00,9,-999.000,9,   42.16,2,   32.41,2, -70.3588, 168.6265,-999.000,     -999.0,    34.4636,2,     -999.0,9,     -999.0,9,-999.0000,9,-999.0000,9,-999.0000,9,-999.0000,9,-999.0000,9,-999.0000,9,-999.0000,9,-999.0000,9,-999.0000,9,-999.0000,-999.000,  -0.9594,     -999.0,     -999.0,9,     -999.0,9,     -999.0,9,     -999.0,9,     -999.0,20110223,       1143
320620110219,       S04P,       6,          2,         26,         26,2,20110223,       1038,   -70.3588,   168.6265,       2002,   149.7,  -0.9293,  34.3319,2,  34.3268,2,    306.6,2,   306.6,2,   72.16,2,   29.80,2,    0.14,2,    2.00,2,   4.514,2,   2.540,2,   0.471,2,   2.1190,2,  2216.2,2,  2319.3,2,-999.0000,5,    25.00,-999.000,9,-999.0000,9,-999.000,9,  -0.9276,2, -999.00,9,  -999.0,9,  -999.0,-999.000,9, -999.00,9,-999.000,9,   42.08,2,   32.33,2, -70.3588, 168.6265,-999.000,     -999.0,    34.4886,2,     -999.0,9,     -999.0,9,-999.0000,9,-999.0000,9,-999.0000,9,-999.0000,9,-999.0000,9,-999.0000,9,-999.0000,9,-999.0000,9,-999.0000,9,-999.0000,-999.000,  -0.9335,     -999.0,     -999.0,9,     -999.0,9,     -999.0,9,     -999.0,9,     -999.0,20110223,       1141
320620110219,       S04P,       6,          2,         25,         25,2,20110223,       1038,   -70.3588,   168.6265,       2002,   174.0,  -1.0116,  34.3656,2,  34.3626,2,    301.5,2,   295.4,2,   73.12,2,   29.96,2,    0.10,2,    2.03,2,-999.000,9,-999.000,9,-999.000,9,-999.0000,9,  -999.0,9,  -999.0,9,-999.0000,9,  -999.00,-999.000,9,-999.0000,9,-999.000,9,  -1.0122,2, -999.00,9,  -999.0,9,  -999.0,-999.000,9, -999.00,9,-999.000,9,   41.43,2,   32.71,2, -70.3588, 168.6265,-999.000,     -999.0,    34.5247,2,     -999.0,9,     -999.0,9,-999.0000,9,-999.0000,9,-999.0000,9,-999.0000,9,-999.0000,9,-999.0000,9,-999.0000,9,-999.0000,9,-999.0000,9,-999.0000,-999.000,  -1.0164,     -999.0,     -999.0,9,     -999.0,9,     -999.0,9,     -999.0,9,     -999.0,20110223,       1139
320620110219,       S04P,       6,          2,         24,         24,2,20110223,       1038,   -70.3588,   168.6265,       2002,   199.8,  -0.9551,  34.3866,2,  34.3856,2,    291.0,2,   294.3,2,   74.09,2,   30.04,2,    0.08,2,    2.02,2,   4.258,2,   2.372,2,   0.431,2,   2.0390,2,  2221.2,2,  2315.4,4,-999.0000,5,    25.00,-999.000,9,-999.0000,9,-999.000,9,  -0.9558,2, -999.00,9,  -999.0,9,  -999.0,-999.000,9, -999.00,9,-999.000,9,   41.29,2,   32.74,2, -70.3588, 168.6266,-999.000,     -999.0,    34.5477,2,     -999.0,9,     -999.0,9,-999.0000,9,-999.0000,9,-999.0000,9,-999.0000,9,-999.0000,9,-999.0000,9,-999.0000,9,-999.0000,9,-999.0000,9,-999.0000,-999.000,  -0.9608,     -999.0,     -999.0,9,     -999.0,9,     -999.0,9,     -999.0,9,     -999.0,20110223,       1137
320620110219,       S04P,       6,          2,         23,         23,2,20110223,       1038,   -70.3588,   168.6265,       2002,   224.3,  -0.8395,  34.4321,2,  34.4277,2,    280.1,2,   275.0,2,   77.43,2,   30.46,2,    0.07,2,    2.06,2,   3.670,2,   2.047,2,   0.364,2,   1.5220,2,  -999.0,9,  -999.0,9,-999.0000,9,  -999.00,-999.000,9,-999.0000,9,-999.000,9,  -0.8373,2, -999.00,9,  -999.0,9,  -999.0,-999.000,9, -999.00,9,-999.000,9,   41.42,2,   32.62,2, -70.3588, 168.6265,-999.000,     -999.0,    34.5900,2,     -999.0,9,     -999.0,9,-999.0000,9,-999.0000,9,-999.0000,9,-999.0000,9,-999.0000,9,-999.0000,9,-999.0000,9,-999.0000,9,-999.0000,9,-999.0000,-999.000,  -0.8461,     -999.0,     -999.0,9,     -999.0,9,     -999.0,9,     -999.0,9,     -999.0,20110223,       1136
320620110219,       S04P,       6,          2,         22,         22,2,20110223,       1038,   -70.3588,   168.6265,       2002,   249.4,  -0.6785,  34.4641,2,  34.4591,2,    273.5,2,   268.9,2,   79.30,2,   30.69,2,    0.07,2,    2.07,2,-999.000,9,-999.000,9,-999.000,9,-999.0000,9,  2231.1,2,  -999.0,5,-999.0000,5,    25.00,-999.000,9,-999.0000,9,-999.000,9,  -0.6763,2, -999.00,9,  -999.0,9,  -999.0,-999.000,9, -999.00,9,-999.000,9,   41.49,2,   33.29,2, -70.3588, 168.6265,-999.000,     -999.0,    34.6215,2,     -999.0,9,     -999.0,9,-999.0000,9,-999.0000,9,-999.0000,9,-999.0000,9,-999.0000,9,-999.0000,9,-999.0000,9,-999.0000,9,-999.0000,9,-999.0000,-999.000,  -0.6863,     -999.0,     -999.0,9,     -999.0,9,     -999.0,9,     -999.0,9,     -999.0,20110223,       1134
320620110219,       S04P,       6,          2,         21,         21,2,20110223,       1038,   -70.3588,   168.6265,       2002,   299.8,  -0.4826,  34.5014,2,  34.4973,2,    253.0,2,   254.7,2,   82.39,2,   31.09,2,    0.05,2,    2.11,2,   2.996,2,   1.655,2,   0.301,2,   1.2500,2,  2236.4,2,  2329.0,2,-999.0000,5,    25.00,-999.000,9,-999.0000,9,-999.000,9,  -0.4780,2, -999.00,9,  -999.0,9,  -999.0,-999.000,9, -999.00,9,-999.000,9,   41.46,2,   33.52,2, -70.3588, 168.6265,-999.000,     -999.0,    34.6599,2,     -999.0,9,     -999.0,9,-999.0000,9,-999.0000,9,-999.0000,9,-999.0000,9,-999.0000,9,-999.0000,9,-999.0000,9,-999.0000,9,-999.0000,9,-999.0000,-999.000,  -0.4926,     -999.0,     -999.0,9,     -999.0,9,     -999.0,9,     -999.0,9,     -999.0,20110223,       1132
320620110219,       S04P,       6,          2,         20,         20,2,20110223,       1038,   -70.3588,   168.6265,       2002,   349.6,  -0.0637,  34.5551,2,  34.5600,2,    224.3,2,   229.8,2,   87.25,2,   31.73,2,    0.02,2,    2.15,2,-999.000,9,-999.000,9,-999.000,9,-999.0000,9,  2243.6,2,  2335.4,2,-999.0000,5,    25.00,-999.000,9,-999.0000,9,-999.000,9,  -0.0632,2, -999.00,9,  -999.0,9,  -999.0,-999.000,9, -999.00,9,-999.000,9,   41.44,2,   34.32,2, -70.3588, 168.6266,-999.000,     -999.0,    34.7230,2,     -999.0,9,     -999.0,9,-999.0000,9,-999.0000,9,-999.0000,9,-999.0000,9,-999.0000,9,-999.0000,9,-999.0000,9,-999.0000,9,-999.0000,9,-999.0000,-999.000,  -0.0769,     -999.0,     -999.0,9,     -999.0,9,     -999.0,9,     -999.0,9,     -999.0,20110223,       1130
320620110219,       S04P,       6,          2,         19,         19,2,20110223,       1038,   -70.3588,   168.6265,       2002,   400.4,  -0.0191,  34.5827,2,  34.5797,2,    222.4,2,   232.4,2,   89.29,2,   31.51,2,    0.04,2,    2.15,2,   2.195,2,   1.197,2,   0.199,2,   0.8610,2,  2243.1,2,  2337.2,2,-999.0000,5,    25.00,-999.000,9,-999.0000,9,-999.000,9,  -0.0161,2, -999.00,9,  -999.0,9,  -999.0,-999.000,9, -999.00,9,-999.000,9,   41.27,2,   34.18,2, -70.3588, 168.6265,-999.000,     -999.0,    34.7427,2,     -999.0,9,     -999.0,9,-999.0000,9,-999.0000,9,-999.0000,9,-999.0000,9,-999.0000,9,-999.0000,9,-999.0000,9,-999.0000,9,-999.0000,9,-999.0000,-999.000,  -0.0345,     -999.0,     -999.0,9,     -999.0,9,     -999.0,9,     -999.0,9,     -999.0,20110223,       1128
320620110219,       S04P,       6,          2,         18,         18,2,20110223,       1038,   -70.3588,   168.6265,       2002,   449.9,   0.6373,  34.6509,2,  34.6489,2,    210.3,2,   208.3,2,   94.99,2,   32.10,2,    0.01,2,    2.18,2,-999.000,9,-999.000,9,-999.000,9,-999.0000,9,  -999.0,9,  -999.0,9,-999.0000,9,  -999.00,-999.000,9,-999.0000,9,-999.000,9,   0.6357,2, -999.00,9,  -999.0,9,  -999.0,-999.000,9, -999.00,9,-999.000,9,   41.62,2,   34.54,2, -70.3588, 168.6266,-999.000,     -999.0,    34.8123,2,     -999.0,9,     -999.0,9,-999.0000,9,-999.0000,9,-999.0000,9,-999.0000,9,-999.0000,9,-999.0000,9,-999.0000,9,-999.0000,9,-999.0000,9,-999.0000,-999.000,   0.6173,     -999.0,     -999.0,9,     -999.0,9,     -999.0,9,     -999.0,9,     -999.0,20110223,       1126
320620110219,       S04P,       6,          2,         17,         17,2,20110223,       1038,   -70.3588,   168.6265,       2002,   499.8,   0.9042,  34.6889,2,  34.6823,2,    201.5,2,   199.2,2,  100.59,2,   32.12,2,    0.00,2,    2.18,2,   0.763,2,   0.374,2,   0.043,2,   0.2970,2,  2257.4,2,  2339.7,4,-999.0000,5,    25.00,-999.000,9,-999.0000,9,-999.000,9,   0.9034,2, -999.00,9,  -999.0,9,  -999.0,-999.000,9, -999.00,9,-999.000,9,   41.48,2,   33.85,2, -70.3588, 168.6266,-999.000,     -999.0,    34.8458,2,     -999.0,9,     -999.0,9,-999.0000,9,-999.0000,9,-999.0000,9,-999.0000,9,-999.0000,9,-999.0000,9,-999.0000,9,-999.0000,9,-999.0000,9,-999.0000,-999.000,   0.8806,     -999.0,     -999.0,9,     -999.0,9,     -999.0,9,     -999.0,9,     -999.0,20110223,       1124
320620110219,       S04P,       6,          2,         16,         16,2,20110223,       1038,   -70.3588,   168.6265,       2002,   600.9,   0.6252,  34.6717,2,  34.6707,2,    201.3,2,   208.2,2,  100.98,2,   32.11,2,    0.00,2,    2.17,2,-999.000,9,-999.000,9,-999.000,9,-999.0000,9,  -999.0,9,  -999.0,9,-999.0000,9,  -999.00,-999.000,9,-999.0000,9,-999.000,9,   0.6255,2, -999.00,9,  -999.0,9,  -999.0,-999.000,9, -999.00,9,-999.000,9,   41.45,2,   34.73,2, -70.3588, 168.6265,-999.000,     -999.0,    34.8342,2,     -999.0,9,     -999.0,9,-999.0000,9,-999.0000,9,-999.0000,9,-999.0000,9,-999.0000,9,-999.0000,9,-999.0000,9,-999.0000,9,-999.0000,9,-999.0000,-999.000,   0.5977,     -999.0,     -999.0,9,     -999.0,9,     -999.0,9,     -999.0,9,     -999.0,20110223,       1121
320620110219,       S04P,       6,          2,         15,         15,2,20110223,       1038,   -70.3588,   168.6265,       2002,   699.1,   0.4828,  34.6703,2,  34.6617,2,    210.6,2,   211.7,2,  103.67,2,   32.10,2,    0.00,2,    2.19,2,   1.098,2,   0.572,2,   0.100,2,   0.3730,2,  2254.1,2,  2347.4,2,-999.0000,5,    25.00,-999.000,9,-999.0000,9,-999.000,9,   0.4800,2, -999.00,9,  -999.0,9,  -999.0,-999.000,9, -999.00,9,-999.000,9,   41.12,2,   34.63,2, -70.3588, 168.6265,-999.000,     -999.0,    34.8251,2,     -999.0,9,     -999.0,9,-999.0000,9,-999.0000,9,-999.0000,9,-999.0000,9,-999.0000,9,-999.0000,9,-999.0000,9,-999.0000,9,-999.0000,9,-999.0000,-999.000,   0.4510,     -999.0,     -999.0,9,     -999.0,9,     -999.0,9,     -999.0,9,     -999.0,20110223,       1118
320620110219,       S04P,       6,          2,         14,         14,2,20110223,       1038,   -70.3588,   168.6265,       2002,   799.8,   0.6288,  34.6906,2,  34.6921,2,    204.7,2,   205.9,2,  110.47,2,   32.29,2,    0.00,2,    2.18,2,   0.665,2,   0.324,2,   0.050,2,   0.2420,2,  -999.0,9,  -999.0,9,-999.0000,9,  -999.00,-999.000,9,-999.0000,9,-999.000,9,   0.6275,2, -999.00,9,  -999.0,9,  -999.0,-999.000,9, -999.00,9,-999.000,9,   41.30,2,   34.40,2, -70.3588, 168.6265,-999.000,     -999.0,    34.8557,2,     -999.0,9,     -999.0,9,-999.0000,9,-999.0000,9,-999.0000,9,-999.0000,9,-999.0000,9,-999.0000,9,-999.0000,9,-999.0000,9,-999.0000,9,-999.0000,-999.000,   0.5907,     -999.0,     -999.0,9,     -999.0,9,     -999.0,9,     -999.0,9,     -999.0,20110223,       1116
320620110219,       S04P,       6,          2,         13,         13,2,20110223,       1038,   -70.3588,   168.6265,       2002,   899.4,   0.3875,  34.6705,2,  34.6689,2,    212.6,2,   214.2,2,  105.98,2,   32.07,2,    0.00,2,    2.17,2,-999.000,9,-999.000,9,-999.000,9,-999.0000,9,  2254.5,2,  2345.6,2,-999.0000,5,    25.00,-999.000,9,-999.0000,9,-999.000,9,   0.3888,2, -999.00,9,  -999.0,9,  -999.0,-999.000,9, -999.00,9,-999.000,9,   41.27,2,   34.49,2, -70.3588, 168.6265,-999.000,     -999.0,    34.8324,2,     -999.0,9,     -999.0,9,-999.0000,9,-999.0000,9,-999.0000,9,-999.0000,9,-999.0000,9,-999.0000,9,-999.0000,9,-999.0000,9,-999.0000,9,-999.0000,-999.000,   0.3457,     -999.0,     -999.0,9,     -999.0,9,     -999.0,9,     -999.0,9,     -999.0,20110223,       1113
320620110219,       S04P,       6,          2,         12,         12,2,20110223,       1038,   -70.3588,   168.6265,       2002,   997.7,   0.3675,  34.6736,2,  34.6736,2,    216.2,2,   214.5,2,  106.31,2,   32.10,2,    0.00,2,    2.17,2,   1.134,2,   0.578,2,   0.101,2,   0.3640,2,  -999.0,9,  -999.0,9,-999.0000,9,  -999.00,-999.000,9,-999.0000,9,-999.000,9,   0.3677,2, -999.00,9,  -999.0,9,  -999.0,-999.000,9, -999.00,9,-999.000,9,   40.90,2,   34.27,2, -70.3588, 168.6265,-999.000,     -999.0,    34.8371,2,     -999.0,9,     -999.0,9,-999.0000,9,-999.0000,9,-999.0000,9,-999.0000,9,-999.0000,9,-999.0000,9,-999.0000,9,-999.0000,9,-999.0000,9,-999.0000,-999.000,   0.3204,     -999.0,     -999.0,9,     -999.0,9,     -999.0,9,     -999.0,9,     -999.0,20110223,       1110
320620110219,       S04P,       6,          2,         11,         11,2,20110223,       1038,   -70.3588,   168.6265,       2002,  1100.8,   0.3623,  34.6773,2,  34.6774,2,    215.3,2,   214.5,2,  108.73,2,   32.10,2,    0.00,2,    2.18,2,-999.000,9,-999.000,9,-999.000,9,-999.0000,9,  2255.2,2,  2351.2,2,-999.0000,5,    25.00,-999.000,9,-999.0000,9,-999.000,9,   0.3622,2, -999.00,9,  -999.0,9,  -999.0,-999.000,9, -999.00,9,-999.000,9,   40.80,2,   33.87,2, -70.3588, 168.6265,-999.000,     -999.0,    34.8409,2,     -999.0,9,     -999.0,9,-999.0000,9,-999.0000,9,-999.0000,9,-999.0000,9,-999.0000,9,-999.0000,9,-999.0000,9,-999.0000,9,-999.0000,9,-999.0000,-999.000,   0.3094,     -999.0,     -999.0,9,     -999.0,9,     -999.0,9,     -999.0,9,     -999.0,20110223,       1107
320620110219,       S04P,       6,          2,         10,         10,2,20110223,       1038,   -70.3588,   168.6265,       2002,  1200.6,   0.3444,  34.6810,2,  34.6840,2,    215.4,2,   214.8,2,  109.00,2,   32.15,2,    0.00,2,    2.17,2,   1.153,2,   0.561,2,   0.085,2,   0.3850,2,  -999.0,9,  -999.0,9,-999.0000,9,  -999.00,-999.000,9,-999.0000,9,-999.000,9,   0.3443,2, -999.00,9,  -999.0,9,  -999.0,-999.000,9, -999.00,9,-999.000,9,   40.20,2,   34.08,2, -70.3588, 168.6265,-999.000,     -999.0,    34.8476,2,     -999.0,9,     -999.0,9,-999.0000,9,-999.0000,9,-999.0000,9,-999.0000,9,-999.0000,9,-999.0000,9,-999.0000,9,-999.0000,9,-999.0000,9,-999.0000,-999.000,   0.2858,     -999.0,     -999.0,9,     -999.0,9,     -999.0,9,     -999.0,9,     -999.0,20110223,       1104