BOTTLE,20220813CCHSIOAMB
EXPOCODE,SECT_ID,STNNBR,CASTNO,SAMPNO,BTLNBR,BTLNBR_FLAG_W,DATE,TIME,LATITUDE,LONGITUDE,DEPTH,CTDPRS,CTDTMP,CTDSAL,CTDSAL_FLAG_W,SALNTY,SALNTY_FLAG_W,CTDOXY,CTDOXY_FLAG_W,OXYGEN,OXYGEN_FLAG_W,SILCAT,SILCAT_FLAG_W,NITRAT,NITRAT_FLAG_W,NITRIT,NITRIT_FLAG_W,PHSPHT,PHSPHT_FLAG_W,CFC-11,CFC-11_FLAG_W,CFC-12,CFC-12_FLAG_W,CFC113,CFC113_FLAG_W,SF6,SF6_FLAG_W,TCARBN,TCARBN_FLAG_W,ALKALI,ALKALI_FLAG_W,PH_TOT,PH_TOT_FLAG_W,PH_TMP,TRITUM,TRITUM_FLAG_W,HELIUM,HELIUM_FLAG_W,DELHE3,DELHE3_FLAG_W,REFTMP,REFTMP_FLAG_W,DELC13,DELC13_FLAG_W,DELC14,DELC14_FLAG_W,C14ERR,NEON,NEON_FLAG_W,DELO18,DELO18_FLAG_W,POC,POC_FLAG_W,DOC,DOC_FLAG_W,TDN,TDN_FLAG_W,BTL_LAT,BTL_LON,TRITER,NEONER,SALTREF,SALTREF_FLAG_W,PIGMENTS,PIGMENTS_FLAG_W,LAB_DEN,LAB_DEN_FLAG_W,CDOM325,CDOM325_FLAG_W,CDOM340,CDOM340_FLAG_W,CDOM380,CDOM380_FLAG_W,CDOM412,CDOM412_FLAG_W,CDOM443,CDOM443_FLAG_W,CDOM490,CDOM490_FLAG_W,CDOM555,CDOM555_FLAG_W,CDOMSL,CDOMSL_FLAG_W,CDOMSN,CDOMSN_FLAG_W,HELIER,DELHER,THETA,LDEO_SAMPNO,ABSORBTION,ABSORBTION_FLAG_W,IMAGE_COUNT,IMAGE_COUNT_FLAG_W,CYTO_COUNT,CYTO_COUNT_FLAG_W,DELD,DELD_FLAG_W,DELDERR,BTL_DATE,BTL_TIME
,,,,,,,,,,,METERS,DBAR,ITS-90,PSS-78,,PSS-78,,UMOL/KG,,UMOL/KG,,UMOL/KG,,UMOL/KG,,UMOL/KG,,UMOL/KG,,PMOL/KG,,PMOL/KG,,PMOL/KG,,FMOL/KG,,UMOL/KG,,UMOL/KG,,,,DEG C,TU,,NMOL/KG,,PERCNT,,DEG C,,/MILLE,,/MILLE,,/MILLE,NMOL/KG,,/MILLE,,UG/KG,,UMOL/KG,,UMOL/KG,,,,TU,NMOL/KG,G/KG,,,,,,1/M,,1/M,,1/M,,1/M,,1/M,,1/M,,1/M,,1/NM,,1/NM,,NMOL/KG,PERCNT,DEG C,,,,,,,,/MILLE,,/MILLE,,
320620110219,       P15S,      92,          1,         36,         36,2,20110326,       1527,   -70.4404,  -169.9977,       4105,     4.5,  -1.4510,  33.7610,2,  33.7601,2,    345.6,3,   349.6,2,   55.92,2,   26.44,2,    0.14,2,    1.83,2,   6.259,2,   3.424,2,   0.622,2,   2.6700,2,  2166.9,2,  2281.8,2,   7.6675,2,    25.00,-999.000,9,-999.0000,9,-999.000,9,  -1.4507,2, -999.00,9,  -999.0,9,  -999.0,-999.000,9, -999.00,9,-999.000,9, -999.00,9, -999.00,9, -70.4404,-169.9977,-999.000,     -999.0,    33.9193,2,     -999.0,9,     -999.0,9,-999.0000,9,-999.0000,9,-999.0000,9,-999.0000,9,-999.0000,9,-999.0000,9,-999.0000,9,-999.0000,9,-999.0000,9,-999.0000,-999.000,  -1.4511,     -999.0,     -999.0,9,     -999.0,9,     -999.0,9,     -999.0,9,     -999.0,20110326,       1710
320620110219,       P15S,      92,          1,         35,         35,2,20110326,       1527,   -70.4404,  -169.9977,       4105,    24.3,  -1.4417,  33.7612,2,  33.7606,2,    349.7,2,   349.4,2,   55.95,2,   26.49,2,    0.15,2,    1.85,2,   6.214,2,   3.390,2,   0.613,2,   2.5840,2,  2167.0,6,  2281.5,2,   7.6666,4,    25.00,-999.000,9,-999.0000,9,-999.000,9,  -1.4420,2, -999.00,9,  -999.0,9,  -999.0,-999.000,9, -999.00,9,-999.000,9, -999.00,9, -999.00,9, -70.4404,-169.9977,-999.000,     -999.0,    33.9198,2,     -999.0,9,     -999.0,9,-999.0000,9,-999.0000,9,-999.0000,9,-999.0000,9,-999.0000,9,-999.0000,9,-999.0000,9,-999.0000,9,-999.0000,9,-999.0000,-999.000,  -1.4422,     -999.0,     -999.0,9,     -999.0,9,     -999.0,9,     -999.0,9,     -999.0,20110326,       1709
320620110219,       P15S,      92,          1,         34,         34,2,20110326,       1527,   -70.4404,  -169.9977,       4105,    50.6,  -1.5474,  34.1220,2,  34.1197,2,    334.0,2,   306.7,2,   57.56,2,   28.24,2,    0.10,2,    1.96,2,   4.858,2,   2.616,2,   0.474,2,   1.9460,2,  2197.1,2,  2303.2,2,   7.6424,6,    25.00,-999.000,9,-999.0000,9,-999.000,9,  -1.5500,2, -999.00,9,  -999.0,9,  -999.0,-999.000,9, -999.00,9,-999.000,9, -999.00,9, -999.00,9, -70.4404,-169.9977,-999.000,     -999.0,    34.2806,2,     -999.0,9,     -999.0,9,-999.0000,9,-999.0000,9,-999.0000,9,-999.0000,9,-999.0000,9,-999.0000,9,-999.0000,9,-999.0000,9,-999.0000,9,-999.0000,-999.000,  -1.5485,     -999.0,     -999.0,9,     -999.0,9,     -999.0,9,     -999.0,9,     -999.0,20110326,       1707
320620110219,       P15S,      92,          1,         33,         33,2,20110326,       1527,   -70.4404,  -169.9977,       4105,    74.6,  -1.6145,  34.2570,2,  34.2579,2,    297.2,2,   294.5,2,   58.53,2,   28.94,2,    0.17,2,    2.02,2,   4.579,2,   2.489,2,   0.432,2,   1.8040,2,  2208.7,2,  2312.5,2,   7.6264,2,    25.00,-999.000,9,-999.0000,9,-999.000,9,  -1.6144,2, -999.00,9,  -999.0,9,  -999.0,-999.000,9, -999.00,9,-999.000,9, -999.00,9, -999.00,9, -70.4404,-169.9977,-999.000,     -999.0,    34.4195,2,     -999.0,9,     -999.0,9,-999.0000,9,-999.0000,9,-999.0000,9,-999.0000,9,-999.0000,9,-999.0000,9,-999.0000,9,-999.0000,9,-999.0000,9,-999.0000,-999.000,  -1.6161,     -999.0,     -999.0,9,     -999.0,9,     -999.0,9,     -999.0,9,     -999.0,20110326,       1706
320620110219,       P15S,      92,          1,         32,         32,2,20110326,       1527,   -70.4404,  -169.9977,       4105,   100.0,  -1.6958,  34.2951,2,  34.2934,2,    289.8,2,   294.1,2,   60.28,2,   29.06,2,    0.14,2,    2.02,2,   4.598,6,   2.483,6,   0.440,6,   1.7740,6,  2211.6,2,  2315.2,2,   7.6268,2,    25.00,-999.000,9,-999.0000,9,-999.000,9,  -1.6941,2, -999.00,9,  -999.0,9,  -999.0,-999.000,9, -999.00,9,-999.000,9, -999.00,9, -999.00,9, -70.4404,-169.9977,-999.000,     -999.0,    34.4551,2,     -999.0,9,     -999.0,9,-999.0000,9,-999.0000,9,-999.0000,9,-999.0000,9,-999.0000,9,-999.0000,9,-999.0000,9,-999.0000,9,-999.0000,9,-999.0000,-999.000,  -1.6979,     -999.0,     -999.0,9,     -999.0,9,     -999.0,9,     -999.0,9,     -999.0,20110326,       1705
320620110219,       P15S,      92,          1,         31,         31,2,20110326,       1527,   -70.4404,  -169.9977,       4105,   126.3,  -1.7225,  34.3129,2,  34.3112,2,    290.0,2,   288.9,2,   61.18,2,   29.50,2,    0.05,2,    2.05,2,   4.376,2,   2.430,2,   0.426,2,   1.7290,2,  2215.3,2,  2319.6,2,   7.6191,2,    25.00,-999.000,9,-999.0000,9,-999.000,9,  -1.7221,2, -999.00,9,  -999.0,9,  -999.0,-999.000,9, -999.00,9,-999.000,9, -999.00,9, -999.00,9, -70.4404,-169.9977,-999.000,     -999.0,    34.4730,2,     -999.0,9,     -999.0,9,-999.0000,9,-999.0000,9,-999.0000,9,-999.0000,9,-999.0000,9,-999.0000,9,-999.0000,9,-999.0000,9,-999.0000,9,-999.0000,-999.000,  -1.7251,     -999.0,     -999.0,9,     -999.0,9,     -999.0,9,     -999.0,9,     -999.0,20110326,       1703
320620110219,       P15S,      92,          1,         30,         30,2,20110326,       1527,   -70.4404,  -169.9977,       4105,   150.5,  -0.9475,  34.3736,2,  34.3980,2,    283.6,2,   252.6,2,   69.34,2,   31.10,2,    0.01,2,    2.14,2,   3.300,2,   1.815,2,   0.319,2,   1.3320,2,  2227.8,2,  2321.0,2,   7.5938,2,    25.00,-999.000,9,-999.0000,9,-999.000,9,  -0.9472,2, -999.00,9,  -999.0,9,  -999.0,-999.000,9, -999.00,9,-999.000,9, -999.00,9, -999.00,9, -70.4404,-169.9977,-999.000,     -999.0,    34.5602,2,     -999.0,9,     -999.0,9,-999.0000,9,-999.0000,9,-999.0000,9,-999.0000,9,-999.0000,9,-999.0000,9,-999.0000,9,-999.0000,9,-999.0000,9,-999.0000,-999.000,  -0.9517,     -999.0,     -999.0,9,     -999.0,9,     -999.0,9,     -999.0,9,     -999.0,20110326,       1702
320620110219,       P15S,      92,          1,         29,         29,2,20110326,       1527,   -70.4404,  -169.9977,       4105,   200.5,   0.7562,  34.5606,2,  34.5617,2,    213.7,2,   205.5,2,   81.86,2,   32.61,2,    0.00,2,    2.25,2,   1.577,2,   0.833,2,   0.143,2,   0.6140,2,  2246.7,2,  2335.6,2,   7.5678,2,    25.00,-999.000,9,-999.0000,9,-999.000,9,   0.7575,2, -999.00,9,  -999.0,9,  -999.0,-999.000,9, -999.00,9,-999.000,9, -999.00,9, -999.00,9, -70.4404,-169.9976,-999.000,     -999.0,    34.7247,2,     -999.0,9,     -999.0,9,-999.0000,9,-999.0000,9,-999.0000,9,-999.0000,9,-999.0000,9,-999.0000,9,-999.0000,9,-999.0000,9,-999.0000,9,-999.0000,-999.000,   0.7475,     -999.0,     -999.0,9,     -999.0,9,     -999.0,9,     -999.0,9,     -999.0,20110326,       1700
320620110219,       P15S,      92,          1,         28,         28,2,20110326,       1527,   -70.4404,  -169.9977,       4105,   250.3,   1.3292,  34.6562,2,  34.6511,2,    190.7,2,   189.1,2,   87.10,2,   32.79,2,    0.00,2,    2.25,2,   0.841,2,   0.442,2,   0.061,2,   0.2800,2,  2253.0,2,  2338.3,2,   7.5657,2,    25.00,-999.000,9,-999.0000,9,-999.000,9,   1.3309,2, -999.00,9,  -999.0,9,  -999.0,-999.000,9, -999.00,9,-999.000,9, -999.00,9, -999.00,9, -70.4404,-169.9977,-999.000,     -999.0,    34.8145,2,     -999.0,9,     -999.0,9,-999.0000,9,-999.0000,9,-999.0000,9,-999.0000,9,-999.0000,9,-999.0000,9,-999.0000,9,-999.0000,9,-999.0000,9,-999.0000,-999.000,   1.3170,     -999.0,     -999.0,9,     -999.0,9,     -999.0,9,     -999.0,9,     -999.0,20110326,       1658
320620110219,       P15S,      92,          1,         27,         27,2,20110326,       1527,   -70.4404,  -169.9977,       4105,   299.9,   1.5494,  34.7051,2,  34.7043,2,    183.8,2,   183.3,2,   91.11,2,   32.61,2,    0.00,2,    2.24,2,   0.446,2,   0.219,2,   0.041,2,   0.1320,2,  2258.9,2,  2343.9,2,   7.5716,2,    25.00,-999.000,9,-999.0000,9,-999.000,9,   1.5494,2, -999.00,9,  -999.0,9,  -999.0,-999.000,9, -999.00,9,-999.000,9, -999.00,9, -999.00,9, -70.4404,-169.9977,-999.000,     -999.0,    34.8679,2,     -999.0,9,     -999.0,9,-999.0000,9,-999.0000,9,-999.0000,9,-999.0000,9,-999.0000,9,-999.0000,9,-999.0000,9,-999.0000,9,-999.0000,9,-999.0000,-999.000,   1.5341,     -999.0,     -999.0,9,     -999.0,9,     -999.0,9,     -999.0,9,     -999.0,20110326,       1656
320620110219,       P15S,      92,          1,         26,         26,2,20110326,       1527,   -70.4404,  -169.9977,       4105,   348.8,   1.5472,  34.7188,2,  34.7180,2,    183.4,2,   183.7,2,   93.68,2,   32.52,2,    0.00,2,    2.24,2,   0.335,2,   0.160,2,   0.024,2,   0.0620,2,  2258.0,2,  2345.0,2,   7.5738,2,    25.00,-999.000,9,-999.0000,9,-999.000,9,   1.5470,2, -999.00,9,  -999.0,9,  -999.0,-999.000,9, -999.00,9,-999.000,9, -999.00,9, -999.00,9, -70.4404,-169.9977,-999.000,     -999.0,    34.8818,2,     -999.0,9,     -999.0,9,-999.0000,9,-999.0000,9,-999.0000,9,-999.0000,9,-999.0000,9,-999.0000,9,-999.0000,9,-999.0000,9,-999.0000,9,-999.0000,-999.000,   1.5293,     -999.0,     -999.0,9,     -999.0,9,     -999.0,9,     -999.0,9,     -999.0,20110326,       1655
320620110219,       P15S,      92,          1,         25,         25,2,20110326,       1527,   -70.4404,  -169.9977,       4105,   399.4,   1.5031,  34.7258,2,  34.7259,2,    183.9,2,   183.7,2,   96.18,2,   32.60,2,    0.00,2,    2.24,2,-999.000,9,-999.000,9,-999.000,9,-999.0000,9,  2259.7,2,  2346.2,2,   7.5777,2,    25.00,-999.000,9,-999.0000,9,-999.000,9,   1.5035,2, -999.00,9,  -999.0,9,  -999.0,-999.000,9, -999.00,9,-999.000,9, -999.00,9, -999.00,9, -70.4404,-169.9977,-999.000,     -999.0,    34.8896,2,     -999.0,9,     -999.0,9,-999.0000,9,-999.0000,9,-999.0000,9,-999.0000,9,-999.0000,9,-999.0000,9,-999.0000,9,-999.0000,9,-999.0000,9,-999.0000,-999.000,   1.4826,     -999.0,     -999.0,9,     -999.0,9,     -999.0,9,     -999.0,9,     -999.0,20110326,       1653
320620110219,       P15S,      92,          1,         24,         24,2,20110326,       1527,   -70.4404,  -169.9977,       4105,   449.6,   1.4546,  34.7287,2,  34.7285,2,    184.3,2,   184.2,2,   98.87,2,   32.66,2,    0.00,2,    2.23,2,   0.219,2,   0.105,2,   0.014,2,   0.0510,2,  2261.1,2,  2348.5,2,   7.5780,2,    25.00,-999.000,9,-999.0000,9,-999.000,9,   1.4544,2, -999.00,9,  -999.0,9,  -999.0,-999.000,9, -999.00,9,-999.000,9, -999.00,9, -999.00,9, -70.4404,-169.9977,-999.000,     -999.0,    34.8922,2,     -999.0,9,     -999.0,9,-999.0000,9,-999.0000,9,-999.0000,9,-999.0000,9,-999.0000,9,-999.0000,9,-999.0000,9,-999.0000,9,-999.0000,9,-999.0000,-999.000,   1.4315,     -999.0,     -999.0,9,     -999.0,9,     -999.0,9,     -999.0,9,     -999.0,20110326,       1651
320620110219,       P15S,      92,          1,         23,         23,2,20110326,       1527,   -70.4404,  -169.9977,       4105,   500.3,   1.4198,  34.7299,2,  34.7294,2,    184.2,2,   183.9,2,  100.80,2,   32.77,2,    0.00,2,    2.24,2,-999.000,9,-999.000,9,-999.000,9,-999.0000,9,  2261.8,2,  2348.6,2,   7.5771,2,    25.00,-999.000,9,-999.0000,9,-999.000,9,   1.4203,2, -999.00,9,  -999.0,9,  -999.0,-999.000,9, -999.00,9,-999.000,9, -999.00,9, -999.00,9, -70.4404,-169.9977,-999.000,     -999.0,    34.8932,2,     -999.0,9,     -999.0,9,-999.0000,9,-999.0000,9,-999.0000,9,-999.0000,9,-999.0000,9,-999.0000,9,-999.0000,9,-999.0000,9,-999.0000,9,-999.0000,-999.000,   1.3940,     -999.0,     -999.0,9,     -999.0,9,     -999.0,9,     -999.0,9,     -999.0,20110326,       1649
320620110219,       P15S,      92,          1,         22,         22,2,20110326,       1527,   -70.4404,  -169.9977,       4105,   600.6,   1.3302,  34.7304,2,  34.7310,2,    185.8,2,   186.1,2,  104.00,2,   32.63,2,    0.00,2,    2.24,2,   0.156,2,   0.073,2,   0.015,2,   0.0220,2,  2262.9,2,  2350.3,2,   7.5788,2,    25.00,-999.000,9,-999.0000,9,-999.000,9,   1.3306,2, -999.00,9,  -999.0,9,  -999.0,-999.000,9, -999.00,9,-999.000,9, -999.00,9, -999.00,9, -70.4404,-169.9977,-999.000,     -999.0,    34.8948,2,     -999.0,9,     -999.0,9,-999.0000,9,-999.0000,9,-999.0000,9,-999.0000,9,-999.0000,9,-999.0000,9,-999.0000,9,-999.0000,9,-999.0000,9,-999.0000,-999.000,   1.2991,     -999.0,     -999.0,9,     -999.0,9,     -999.0,9,     -999.0,9,     -999.0,20110326,       1647
320620110219,       P15S,      92,          1,         21,         21,2,20110326,       1527,   -70.4404,  -169.9977,       4105,   701.3,   1.2588,  34.7290,2,  34.7296,2,    187.3,2,   187.4,2,  106.07,2,   32.59,2,    0.00,2,    2.24,2,-999.000,9,-999.000,9,-999.000,9,-999.0000,9,  -999.0,9,  -999.0,9,-999.0000,9,  -999.00,-999.000,9,-999.0000,9,-999.000,9,   1.2589,2, -999.00,9,  -999.0,9,  -999.0,-999.000,9, -999.00,9,-999.000,9, -999.00,9, -999.00,9, -70.4404,-169.9977,-999.000,     -999.0,    34.8934,2,     -999.0,9,     -999.0,9,-999.0000,9,-999.0000,9,-999.0000,9,-999.0000,9,-999.0000,9,-999.0000,9,-999.0000,9,-999.0000,9,-999.0000,9,-999.0000,-999.000,   1.2223,     -999.0,     -999.0,9,     -999.0,9,     -999.0,9,     -999.0,9,     -999.0,20110326,       1644
320620110219,       P15S,      92,          1,         20,         20,2,20110326,       1527,   -70.4404,  -169.9977,       4105,   800.3,   1.1934,  34.7275,2,  34.7269,2,    190.0,2,   190.1,2,  108.15,2,   32.50,2,    0.00,2,    2.23,2,   0.111,2,   0.055,2,   0.007,2,   0.0760,2,  2261.4,2,  2353.8,2,   7.5841,2,    25.00,-999.000,9,-999.0000,9,-999.000,9,   1.1943,2, -999.00,9,  -999.0,9,  -999.0,-999.000,9, -999.00,9,-999.000,9, -999.00,9, -999.00,9, -70.4404,-169.9977,-999.000,     -999.0,    34.8906,2,     -999.0,9,     -999.0,9,-999.0000,9,-999.0000,9,-999.0000,9,-999.0000,9,-999.0000,9,-999.0000,9,-999.0000,9,-999.0000,9,-999.0000,9,-999.0000,-999.000,   1.1515,     -999.0,     -999.0,9,     -999.0,9,     -999.0,9,     -999.0,9,     -999.0,20110326,       1642
320620110219,       P15S,      92,          1,         19,         19,2,20110326,       1527,   -70.4404,  -169.9977,       4105,   900.1,   1.1256,  34.7251,2,  34.7257,2,    191.9,2,   191.8,2,  110.45,2,   32.39,2,    0.00,2,    2.24,2,-999.000,9,-999.000,9,-999.000,9,-999.0000,9,  -999.0,9,  -999.0,9,-999.0000,9,  -999.00,-999.000,9,-999.0000,9,-999.000,9,   1.1255,2, -999.00,9,  -999.0,9,  -999.0,-999.000,9,   -0.36,2,-999.000,9, -999.00,9, -999.00,9, -70.4404,-169.9977,-999.000,     -999.0,    34.8895,2,     -999.0,9,     -999.0,9,-999.0000,9,-999.0000,9,-999.0000,9,-999.0000,9,-999.0000,9,-999.0000,9,-999.0000,9,-999.0000,9,-999.0000,9,-999.0000,-999.000,   1.0783,     -999.0,     -999.0,9,     -999.0,9,     -999.0,9,      -4.34,2,       0.45,20110326,       1639
320620110219,       P15S,      92,          1,         18,         18,2,20110326,       1527,   -70.4404,  -169.9977,       4105,  1000.5,   1.0692,  34.7231,2,  34.7230,2,    193.8,2,   194.4,2,  111.76,2,   32.27,2,    0.00,2,    2.23,2,   0.087,2,   0.045,2,   0.008,2,   0.0030,2,  2261.9,2,  2356.3,6,   7.5881,2,    25.00,-999.000,9,-999.0000,9,-999.000,9,   1.0687,2, -999.00,9,  -999.0,9,  -999.0,-999.000,9,   -0.24,2,-999.000,9, -999.00,9, -999.00,9, -70.4404,-169.9977,-999.000,     -999.0,    34.8867,2,     -999.0,9,     -999.0,9,-999.0000,9,-999.0000,9,-999.0000,9,-999.0000,9,-999.0000,9,-999.0000,9,-999.0000,9,-999.0000,9,-999.0000,9,-999.0000,-999.000,   1.0162,     -999.0,     -999.0,9,     -999.0,9,     -999.0,9,      -3.18,2,       0.05,20110326,       1637
320620110219,       P15S,      92,          1,         17,         17,2,20110326,       1527,   -70.4404,  -169.9977,       4105,  1099.8,   1.0098,  34.7208,2,  34.7210,2,    195.6,2,   195.7,2,  113.51,2,   32.27,2,    0.00,2,    2.24,2,-999.000,9,-999.000,9,-999.000,9,-999.0000,9,  -999.0,9,  -999.0,9,-999.0000,9,  -999.00,-999.000,9,-999.0000,9,-999.000,9,   1.0097,2, -999.00,9,  -999.0,9,  -999.0,-999.000,9,   -0.41,2,-999.000,9, -999.00,9, -999.00,9, -70.4404,-169.9977,-999.000,     -999.0,    34.8847,2,     -999.0,9,     -999.0,9,-999.0000,9,-999.0000,9,-999.0000,9,-999.0000,9,-999.0000,9,-999.0000,9,-999.0000,9,-999.0000,9,-999.0000,9,-999.0000,-999.000,   0.9511,     -999.0,     -999.0,9,     -999.0,9,     -999.0,9,      -4.44,2,       0.25,20110326,       1634
320620110219,       P15S,      92,          1,         16,         16,2,20110326,       1527,   -70.4404,  -169.9977,       4105,  1200.7,   0.9444,  34.7183,2,  34.7183,2,    197.4,2,   196.6,2,  115.15,2,   32.28,2,    0.00,2,    2.23,2,   0.080,2,   0.039,2,   0.010,2,   0.0210,2,  2261.6,2,  2359.0,2,   7.5929,6,    25.00,-999.000,9,-999.0000,9,-999.000,9,   0.9443,2, -999.00,9,  -999.0,9,  -999.0,-999.000,9,   -0.26,2,-999.000,9, -999.00,9, -999.00,9, -70.4404,-169.9977,-999.000,     -999.0,    34.8820,2,     -999.0,9,     -999.0,9,-999.0000,9,-999.0000,9,-999.0000,9,-999.0000,9,-999.0000,9,-999.0000,9,-999.0000,9,-999.0000,9,-999.0000,9,-999.0000,-999.000,   0.8800,     -999.0,     -999.0,9,     -999.0,9,     -999.0,9,      -2.66,2,       0.10,20110326,       1631
320620110219,       P15S,      92,          1,         15,         15,2,20110326,       1527,   -70.4404,  -169.9977,       4105,  1300.3,   0.8916,  34.7162,2,  34.7165,2,    198.9,2,   198.1,2,  116.51,2,   32.19,2,    0.00,2,    2.23,2,-999.000,9,-999.000,9,-999.000,9,-999.0000,9,  -999.0,9,  -999.0,9,-999.0000,9,  -999.00,-999.000,9,-999.0000,9,-999.000,9,   0.8918,2, -999.00,9,  -999.0,9,  -999.0,-999.000,9,   -0.02,2,-999.000,9, -999.00,9, -999.00,9, -70.4404,-169.9977,-999.000,     -999.0,    34.8802,2,     -999.0,9,     -999.0,9,-999.0000,9,-999.0000,9,-999.0000,9,-999.0000,9,-999.0000,9,-999.0000,9,-999.0000,9,-999.0000,9,-999.0000,9,-999.0000,-999.000,   0.8213,     -999.0,     -999.0,9,     -999.0,9,     -999.0,9,      -1.49,2,       0.12,20110326,       1629
320620110219,       P15S,      92,          1,         14,         14,2,20110326,       1527,   -70.4404,  -169.9977,       4105,  1398.8,   0.8464,  34.7145,2,  34.7140,2,    200.1,2,   199.5,2,  118.23,2,   32.19,2,    0.00,2,    2.23,2,   0.078,2,   0.041,2,   0.007,2,   0.0230,2,  2260.9,6,  2359.2,2,   7.5941,2,    25.00,-999.000,9,-999.0000,9,-999.000,9,   0.8464,2, -999.00,9,  -999.0,9,  -999.0,-999.000,9,   -0.06,2,-999.000,9, -999.00,9, -999.00,9, -70.4404,-169.9977,-999.000,     -999.0,    34.8777,2,     -999.0,9,     -999.0,9,-999.0000,9,-999.0000,9,-999.0000,9,-999.0000,9,-999.0000,9,-999.0000,9,-999.0000,9,-999.0000,9,-999.0000,9,-999.0000,-999.000,   0.7701,     -999.0,     -999.0,9,     -999.0,9,     -999.0,9,      -1.33,2,       0.08,20110326,       1626