BOTTLE,20220812CCHSIOAMB
EXPOCODE,SECT_ID,STNNBR,CASTNO,SAMPNO,BTLNBR,BTLNBR_FLAG_W,DATE,TIME,LATITUDE,LONGITUDE,DEPTH,CTDRAW,CTDPRS,CTDTMP,CTDSAL,CTDSAL_FLAG_W,SALNTY,SALNTY_FLAG_W,CTDOXY,CTDOXY_FLAG_W,THETA,OXYGEN,OXYGEN_FLAG_W,SILCAT,SILCAT_FLAG_W,NITRAT,NITRAT_FLAG_W,NITRIT,NITRIT_FLAG_W,PHSPHT,PHSPHT_FLAG_W,CFC-11,CFC-11_FLAG_W,CFC-12,CFC-12_FLAG_W,CFC113,CFC113_FLAG_W,TRITUM,TRITUM_FLAG_W,HELIUM,HELIUM_FLAG_W,DELHE3,DELHE3_FLAG_W,DELC14,DELC14_FLAG_W,DELC13,DELC13_FLAG_W,NEON,NEON_FLAG_W,TCARBN,TCARBN_FLAG_W,PCO2,PCO2_FLAG_W,PCO2_TMP,ALKALI,ALKALI_FLAG_W,PH,PH_FLAG_W,PH_TMP,C14ERR,DELHER,HELIER,NEONER,TRITER
,,,,,,,,,,,,,DBAR,ITS-90,PSS-78,,PSS-78,,UMOL/KG,,ITS-90,UMOL/KG,,UMOL/KG,,UMOL/KG,,UMOL/KG,,UMOL/KG,,PMOL/KG,,PMOL/KG,,PMOL/KG,,TU,,NMOL/KG,,PERCNT,,/MILLE,,/MILLE,,NMOL/KG,,UMOL/KG,,UATM,,DEG C,UMOL/KG,,,,DEG C,/MILLE,PERCNT,NMOL/KG,NMOL/KG,TU
     316N151_3,   A20,    82,  1,     18,     18,2,19970808,0826,  7.6928, -53.2015,  999,  170.4,      0.0,  28.6133,  30.4987,2,  30.5142,2,    254.1,2, 28.6133,    265.5,2,    11.65,3,     0.03,2,     0.00,2,     0.03,2, -999.000,9, -999.000,9, -999.000,5, -999.000,5,-999.0000,5,  -999.00,9,   -999.0,9,  -999.00,9,-999.000,9,   1708.9,2,    189.4,2,  20,   2046.4,2,   8.2110,2,   25,  -999.0, -999.00,-999.0000,-999.000,-999.000
     316N151_3,   A20,    82,  1,     17,     17,2,19970808,0826,  7.6928, -53.2015,  999,  276.5,     10.5,  28.3381,  35.1165,2,  35.1276,2,    206.1,2, 28.3356,    206.1,2,     4.18,3,     0.00,2,     0.00,2,     0.10,2,    1.649,2,    1.002,2, -999.000,5,    0.666,2,   1.6906,2,    -2.20,2,     46.5,2,     1.66,2,   6.669,2,   1969.8,2,    273.2,2,  20,   2305.7,2,   8.0940,2,   25,     3.0,    0.15,  0.0085,   0.033,   0.012
     316N151_3,   A20,    82,  1,     16,     16,2,19970808,0826,  7.6928, -53.2015,  999,  417.8,     25.1,  27.4601,  35.9194,2,  35.9250,2,    208.4,2, 27.4542,    210.1,2,     2.07,3,     0.00,2,     0.00,2,     0.07,2,    1.715,6,    1.030,6, -999.000,5, -999.000,5,-999.0000,5,  -999.00,9,   -999.0,9,  -999.00,9,-999.000,9,   2005.7,2,    279.9,2,  20,   2354.3,2,   8.1000,2,   25,  -999.0, -999.00,-999.0000,-999.000,-999.000
     316N151_3,   A20,    82,  1,     15,     15,2,19970808,0826,  7.6928, -53.2015,  999,  643.3,     49.1,  26.2608,  36.2725,2,  36.2504,2,    203.3,2, 26.2497,    201.9,2,     1.31,3,     0.08,2,     0.11,2,     0.06,2,    1.785,2,    1.062,2, -999.000,5,    0.709,2,-999.0000,5,  -999.00,9,   -999.0,9,  -999.00,9,-999.000,9,   2028.9,2,    294.7,2,  20,   2369.4,2,   8.0810,2,   25,  -999.0, -999.00,-999.0000,-999.000,   0.013
     316N151_3,   A20,    82,  1,     14,     14,2,19970808,0826,  7.6928, -53.2015,  999,  877.9,     73.4,  23.3342,  36.3292,2,  36.3411,2,    151.2,2, 23.3189,    152.3,2,     4.79,3,     6.02,2,     0.06,2,     0.50,2, -999.000,9, -999.000,9, -999.000,5, -999.000,5,-999.0000,5,  -999.00,9,   -999.0,9,  -999.00,9,-999.000,9,   2108.9,2,    412.2,2,  20,   2379.5,2,   7.9650,2,   25,  -999.0, -999.00,-999.0000,-999.000,-999.000
     316N151_3,   A20,    82,  1,     13,     13,2,19970808,0826,  7.6928, -53.2015,  999, 1133.3,     99.7,  19.9087,  36.4746,2,  36.4638,2,    144.2,2, 19.8902,    134.9,2,     4.03,3,     9.72,2,     0.03,2,     0.64,2, -999.000,9, -999.000,9, -999.000,5,    0.839,2,   1.7290,2,     0.98,2,     58.9,2,     0.90,3,   7.114,2,   2145.8,2,    490.2,2,  20,   2384.4,2,   7.8990,2,   25,     2.7,    0.15,  0.0086,   0.036,   0.013
     316N151_3,   A20,    82,  1,     12,     12,2,19970808,0826,  7.6928, -53.2015,  999, 1378.9,    124.7,  16.6890,  36.0805,2,  36.0612,2,    130.5,2, 16.6685,    125.1,2,     5.78,3,    14.84,2,     0.02,2,     0.95,2,    1.687,2,    0.916,2, -999.000,5, -999.000,5,-999.0000,5,  -999.00,9,   -999.0,9,  -999.00,9,-999.000,9,   2167.7,2,    605.7,2,  20,   2362.1,2,   7.8210,2,   25,  -999.0, -999.00,-999.0000,-999.000,-999.000
     316N151_3,   A20,    82,  1,     11,     11,2,19970808,0826,  7.6928, -53.2015,  999, 1617.0,    148.8,  13.0545,  35.3950,2,  35.3728,2,    143.4,2, 13.0339,    140.0,2,     8.49,3,    18.47,2,     0.01,2,     1.28,2,    1.536,6,    0.819,6, -999.000,5,    0.512,2,   1.7719,2,     1.89,2,   -999.0,9,  -999.00,9,   7.452,2,   2166.3,2,    701.3,2,  20,   2325.6,2,   7.7590,2,   25,  -999.0,    0.15,  0.0089,   0.037,   0.012
     316N151_3,   A20,    82,  1,     10,     10,2,19970808,0826,  7.6928, -53.2015,  999, 1877.2,    175.0,  11.7158,  35.1551,2,  35.1362,2,    143.6,2, 11.6933,    144.3,2,     9.66,3,    20.23,2,     0.01,2,     1.41,2, -999.000,9, -999.000,9, -999.000,5, -999.000,5,-999.0000,5,  -999.00,9,   -999.0,9,  -999.00,9,-999.000,9,   2166.9,2,    751.5,2,  20,   2316.9,2,   7.7340,2,   25,  -999.0, -999.00,-999.0000,-999.000,-999.000
     316N151_3,   A20,    82,  1,      9,      9,2,19970808,0826,  7.6928, -53.2015,  999, 2133.8,    201.0,  11.0312,  35.0474,2,  35.0465,2,    141.7,2, 11.0064,    142.7,2,    10.36,3,    21.42,2,     0.01,2,     1.49,2,    1.354,2,    0.716,2, -999.000,5,    0.362,2,   1.7644,2,     1.74,2,      2.6,2,     0.90,2,   7.474,2,   2170.3,2,    789.5,2,  20,   2309.6,2,   7.7150,2,   25,     3.5,    0.15,  0.0088,   0.037,   0.012
     316N151_3,   A20,    82,  1,      8,      8,2,19970808,0826,  7.6928, -53.2015,  999, 3106.6,    298.9,   9.6257,  34.8987,2,  34.8918,2,    134.3,2,  9.5917,    130.4,2,    13.46,3,    25.48,2,     0.00,2,     1.74,2,    0.971,2,    0.515,2, -999.000,5,    0.304,2,   1.7929,2,     1.55,2,    -24.4,2,     0.79,2,   7.599,2,   2187.1,2,    914.4,2,  20,   2305.9,2,   7.6570,2,   25,     3.2,    0.15,  0.0090,   0.038,   0.013
     316N151_3,   A20,    82,  1,      7,      7,2,19970808,0826,  7.6928, -53.2015,  999, 4125.4,    401.3,   8.4806,  34.8078,2,  34.7871,2,    116.3,2,  8.4382,    120.3,2,    16.85,3,    29.38,2,     0.00,2,     1.96,2,    0.533,2,    0.296,2, -999.000,5,    0.199,2,   1.7895,2,     1.81,2,   -999.0,9,  -999.00,9,   7.651,2,   2204.6,2,   1043.2,2,  20,   2299.9,2,   7.6030,2,   25,  -999.0,    0.15,  0.0089,   0.038,   0.011
     316N151_3,   A20,    82,  1,      6,      6,2,19970808,0826,  7.6928, -53.2015,  999, 5108.6,    500.3,   7.2708,  34.6894,2,  34.6840,2,    122.3,2,  7.2221,    121.8,2,    20.45,3,    31.53,2,     0.00,2,     2.12,2,    0.318,2,    0.179,2, -999.000,5,    0.090,2,   1.7964,2,     1.59,2,    -82.1,2,     0.74,2,   7.752,2,   2211.2,2,   1128.2,2,  20,   2300.1,2,   7.5730,2,   25,     2.6,    0.15,  0.0090,   0.039,   0.011
     316N151_3,   A20,    82,  1,      5,      5,2,19970808,0826,  7.6928, -53.2015,  999, 6055.6,    595.7,   6.3340,  34.5975,2,  34.5935,2,    125.7,2,  6.2799,    127.6,2,    23.56,3,    32.84,2,     0.00,2,     2.23,2,    0.164,6,    0.110,6, -999.000,5,    0.038,2,   1.7992,2,     0.98,2,   -999.0,9,  -999.00,9,   7.780,2,   2216.8,2,   1166.3,2,  20,   2296.6,2,   7.5670,2,   25,  -999.0,    0.15,  0.0090,   0.039,   0.011
     316N151_3,   A20,    82,  1,      4,      4,2,19970808,0826,  7.6928, -53.2015,  999, 7073.2,    698.0,   5.7610,  34.5832,2,  34.5838,2,    129.7,2,  5.7002,    130.8,2,    26.18,3,    33.64,2,     0.00,2,     2.29,2,    0.108,2,    0.065,2, -999.000,5, -999.000,5,   1.8058,2,     1.27,2,   -102.1,2,     0.73,2,   7.872,2,   2219.3,2,   1172.3,2,  20,   2301.1,2,   7.5650,2,   25,     2.8,    0.15,  0.0090,   0.039,-999.000
     316N151_3,   A20,    82,  1,      3,      3,2,19970808,0826,  7.6928, -53.2015,  999, 8079.7,    799.5,   5.2176,  34.5925,2,  34.5927,2,    138.0,2,  5.1508,    137.5,2,    28.80,3,    33.37,2,     0.00,2,     2.30,2,    0.049,6,    0.034,6, -999.000,5,    0.024,2,   1.8127,2,     1.40,2,   -999.0,9,  -999.00,9,   7.872,2,   2221.3,2,   1176.3,2,  20,   2301.4,2,   7.5620,2,   25,  -999.0,    0.15,  0.0091,   0.039,   0.011
     316N151_3,   A20,    82,  1,      2,      2,2,19970808,0826,  7.6928, -53.2015,  999, 9070.1,    899.3,   4.9761,  34.6553,2,  34.6561,2,    146.3,2,  4.9018,    146.8,2,    29.20,3,    32.38,2,     0.00,2,     2.23,2,    0.027,2,    0.016,2, -999.000,5,    0.041,2,   1.8132,2,     1.19,2,   -132.4,2,     0.39,2,   7.832,2,   2219.2,2,   1138.1,2,  20,   2308.6,2,   7.5810,2,   25,     3.0,    0.15,  0.0091,   0.039,   0.010
     316N151_3,   A20,    82,  1,      1,      1,2,19970808,0826,  7.6928, -53.2015,  999,10003.8,    993.4,   5.0632,  34.7771,2,  34.7716,2,    156.9,2,  4.9796,    159.4,2,    27.17,3,    29.73,6,     0.00,6,     2.05,2,    0.048,2,    0.030,2, -999.000,5,    0.046,2,   1.8254,2,     1.59,2,   -125.1,2,     0.81,2,   7.946,2,   2214.4,2,   1053.5,2,  20,   2310.5,2,   7.6110,2,   25,     2.8,    0.15,  0.0091,   0.040,   0.011
     316N151_3,   A20,    83,  1,     24,     24,2,19970808,1250,  7.6020, -53.2512,  833,  456.6,      1.4,  28.6080,  30.3853,3,  30.3846,2,     62.8,3, 28.6077,    221.3,2,    11.63,2,     0.02,2,    -0.01,2,     0.03,2, -999.000,9, -999.000,9, -999.000,5, -999.000,5,-999.0000,5,  -999.00,9,   -999.0,9,  -999.00,9,-999.000,9,   1689.2,2,   -999.0,9,-999,   2036.3,2,   8.2370,2,   25,  -999.0, -999.00,-999.0000,-999.000,-999.000
     316N151_3,   A20,    83,  1,     23,     23,2,19970808,1250,  7.6020, -53.2512,  833,  550.1,     11.9,  28.0751,  35.3486,3,-999.0000,9,     64.9,3, 28.0723,   -999.0,9,  -999.00,9,  -999.00,9,  -999.00,9,  -999.00,9, -999.000,9, -999.000,9, -999.000,5, -999.000,5,-999.0000,5,  -999.00,9,   -999.0,9,  -999.00,9,-999.000,9,   -999.0,9,   -999.0,9,-999,   -999.0,9,-999.0000,9, -999,  -999.0, -999.00,-999.0000,-999.000,-999.000
     316N151_3,   A20,    83,  1,     22,     22,2,19970808,1250,  7.6020, -53.2512,  833,  550.5,     11.9,  28.0612,  35.3526,3,-999.0000,9,     64.9,3, 28.0583,   -999.0,9,  -999.00,9,  -999.00,9,  -999.00,9,  -999.00,9, -999.000,9, -999.000,9, -999.000,5, -999.000,5,-999.0000,5,  -999.00,9,   -999.0,9,  -999.00,9,-999.000,9,   -999.0,9,   -999.0,9,-999,   -999.0,9,-999.0000,9, -999,  -999.0, -999.00,-999.0000,-999.000,-999.000
     316N151_3,   A20,    83,  1,     21,     21,2,19970808,1250,  7.6020, -53.2512,  833,  550.9,     12.0,  28.0644,  35.3473,3,-999.0000,9,     64.6,3, 28.0616,   -999.0,9,  -999.00,9,  -999.00,9,  -999.00,9,  -999.00,9, -999.000,9, -999.000,9, -999.000,5, -999.000,5,-999.0000,5,  -999.00,9,   -999.0,9,  -999.00,9,-999.000,9,   -999.0,9,   -999.0,9,-999,   -999.0,9,-999.0000,9, -999,  -999.0, -999.00,-999.0000,-999.000,-999.000
     316N151_3,   A20,    83,  1,     20,     20,2,19970808,1250,  7.6020, -53.2512,  833,  551.0,     12.0,  28.0837,  35.3384,3,-999.0000,9,     64.5,3, 28.0808,   -999.0,9,  -999.00,9,  -999.00,9,  -999.00,9,  -999.00,9, -999.000,9, -999.000,9, -999.000,5, -999.000,5,-999.0000,5,  -999.00,9,   -999.0,9,  -999.00,9,-999.000,9,   -999.0,9,   -999.0,9,-999,   -999.0,9,-999.0000,9, -999,  -999.0, -999.00,-999.0000,-999.000,-999.000
     316N151_3,   A20,    83,  1,     19,     19,2,19970808,1250,  7.6020, -53.2512,  833,  550.9,     12.0,  28.1065,  30.3869,2,-999.0000,9,     59.3,4, 28.1036,   -999.0,9,  -999.00,9,  -999.00,9,  -999.00,9,  -999.00,9, -999.000,9, -999.000,9, -999.000,5, -999.000,5,-999.0000,5,  -999.00,9,   -999.0,9,  -999.00,9,-999.000,9,   -999.0,9,   -999.0,9,-999,   -999.0,9,-999.0000,9, -999,  -999.0, -999.00,-999.0000,-999.000,-999.000
     316N151_3,   A20,    83,  1,     18,     18,2,19970808,1250,  7.6020, -53.2512,  833,  550.9,     12.0,  28.1225,  35.3320,2,  35.3447,2,     56.6,4, 28.1196,    210.1,2,     3.60,2,     0.05,2,     0.00,2,     0.09,2, -999.000,9, -999.000,9, -999.000,5, -999.000,5,-999.0000,5,  -999.00,9,   -999.0,9,  -999.00,9,-999.000,9,   -999.0,9,   -999.0,9,-999,   -999.0,9,-999.0000,9, -999,  -999.0, -999.00,-999.0000,-999.000,-999.000
     316N151_3,   A20,    83,  1,     17,     17,2,19970808,1250,  7.6020, -53.2512,  833,  924.6,     52.6,  25.9361,  36.2133,2,  36.2121,2,     57.1,4, 25.9244,    199.5,2,     1.40,2,     0.16,2,     0.19,2,     0.08,2, -999.000,9, -999.000,9, -999.000,5, -999.000,5,-999.0000,5,  -999.00,9,   -999.0,9,  -999.00,9,-999.000,9,   -999.0,9,   -999.0,9,-999,   -999.0,9,-999.0000,9, -999,  -999.0, -999.00,-999.0000,-999.000,-999.000
     316N151_3,   A20,    83,  1,     16,     16,2,19970808,1250,  7.6020, -53.2512,  833, 1359.6,     99.4,  19.6440,  36.4395,2,  36.4308,2,     61.5,4, 19.6257,    135.7,2,     4.20,2,    10.54,2,     0.02,2,     0.68,2, -999.000,9, -999.000,9, -999.000,5, -999.000,5,-999.0000,5,  -999.00,9,   -999.0,9,  -999.00,9,-999.000,9,   -999.0,9,   -999.0,9,-999,   -999.0,9,-999.0000,9, -999,  -999.0, -999.00,-999.0000,-999.000,-999.000
     316N151_3,   A20,    83,  1,     15,     15,2,19970808,1250,  7.6020, -53.2512,  833, 1832.2,    150.3,  12.2110,  35.2380,2,  35.2212,2,     80.3,4, 12.1911,    144.1,2,     9.04,2,    19.74,2,     0.01,2,     1.36,2, -999.000,9, -999.000,9, -999.000,5, -999.000,5,-999.0000,5,  -999.00,9,   -999.0,9,  -999.00,9,-999.000,9,   -999.0,9,   -999.0,9,-999,   -999.0,9,-999.0000,9, -999,  -999.0, -999.00,-999.0000,-999.000,-999.000
     316N151_3,   A20,    83,  1,     14,     14,2,19970808,1250,  7.6020, -53.2512,  833, 2222.0,    192.2,  11.2986,  35.0910,2,  35.0809,2,     88.4,4, 11.2745,    142.4,2,    10.21,2,    21.54,2,     0.01,2,     1.47,2, -999.000,9, -999.000,9, -999.000,5, -999.000,5,-999.0000,5,  -999.00,9,   -999.0,9,  -999.00,9,-999.000,9,   -999.0,9,   -999.0,9,-999,   -999.0,9,-999.0000,9, -999,  -999.0, -999.00,-999.0000,-999.000,-999.000
     316N151_3,   A20,    83,  1,     13,     13,2,19970808,1250,  7.6020, -53.2512,  833, 2740.5,    247.9,  10.4070,  34.9757,2,  34.9715,2,     96.3,4, 10.3774,    140.4,2,    11.57,2,    23.52,2,     0.00,2,     1.59,2, -999.000,9, -999.000,9, -999.000,5, -999.000,5,-999.0000,5,  -999.00,9,   -999.0,9,  -999.00,9,-999.000,9,   -999.0,9,   -999.0,9,-999,   -999.0,9,-999.0000,9, -999,  -999.0, -999.00,-999.0000,-999.000,-999.000
     316N151_3,   A20,    83,  1,     12,     12,2,19970808,1250,  7.6020, -53.2512,  833, 3226.5,    300.1,   9.7468,  34.9020,2,  34.8975,2,    102.6,4,  9.7124,    137.6,2,    12.83,2,    25.07,2,     0.00,2,     1.69,2, -999.000,9, -999.000,9, -999.000,5, -999.000,5,-999.0000,5,  -999.00,9,   -999.0,9,  -999.00,9,-999.000,9,   -999.0,9,   -999.0,9,-999,   -999.0,9,-999.0000,9, -999,  -999.0, -999.00,-999.0000,-999.000,-999.000
     316N151_3,   A20,    83,  1,     11,     11,2,19970808,1250,  7.6020, -53.2512,  833, 3676.4,    348.4,   9.1647,  34.8640,2,  34.8647,2,    105.8,4,  9.1261,    127.7,2,    14.58,2,    27.37,2,     0.00,2,     1.82,2, -999.000,9, -999.000,9, -999.000,5, -999.000,5,-999.0000,5,  -999.00,9,   -999.0,9,  -999.00,9,-999.000,9,   -999.0,9,   -999.0,9,-999,   -999.0,9,-999.0000,9, -999,  -999.0, -999.00,-999.0000,-999.000,-999.000
     316N151_3,   A20,    83,  1,     10,     10,2,19970808,1250,  7.6020, -53.2512,  833, 4164.0,    400.6,   8.3921,  34.8032,2,  34.7993,2,    113.0,4,  8.3499,    121.2,2,    16.82,2,    29.70,2,     0.00,2,     1.95,2, -999.000,9, -999.000,9, -999.000,5, -999.000,5,-999.0000,5,  -999.00,9,   -999.0,9,  -999.00,9,-999.000,9,   -999.0,9,   -999.0,9,-999,   -999.0,9,-999.0000,9, -999,  -999.0, -999.00,-999.0000,-999.000,-999.000
     316N151_3,   A20,    83,  1,      9,      9,2,19970808,1250,  7.6020, -53.2512,  833, 4630.5,    450.6,   7.7298,  34.7183,2,-999.0000,9,    119.0,4,  7.6847,   -999.0,9,  -999.00,9,  -999.00,9,  -999.00,9,  -999.00,9, -999.000,9, -999.000,9, -999.000,5, -999.000,5,-999.0000,5,  -999.00,9,   -999.0,9,  -999.00,9,-999.000,9,   -999.0,9,   -999.0,9,-999,   -999.0,9,-999.0000,9, -999,  -999.0, -999.00,-999.0000,-999.000,-999.000
     316N151_3,   A20,    83,  1,      8,      8,2,19970808,1250,  7.6020, -53.2512,  833, 4630.6,    450.6,   7.7328,  34.7165,2,  34.7169,2,    119.0,4,  7.6876,    122.6,2,    18.47,2,    31.05,2,     0.00,2,     2.05,2, -999.000,9, -999.000,9, -999.000,5, -999.000,5,-999.0000,5,  -999.00,9,   -999.0,9,  -999.00,9,-999.000,9,   -999.0,9,   -999.0,9,-999,   -999.0,9,-999.0000,9, -999,  -999.0, -999.00,-999.0000,-999.000,-999.000
     316N151_3,   A20,    83,  1,      7,      7,2,19970808,1250,  7.6020, -53.2512,  833, 5131.7,    504.3,   7.1929,  34.6659,2,  34.6650,2,    125.6,4,  7.1441,    124.5,2,    20.21,2,    32.03,2,     0.00,2,     2.13,2, -999.000,9, -999.000,9, -999.000,5, -999.000,5,-999.0000,5,  -999.00,9,   -999.0,9,  -999.00,9,-999.000,9,   -999.0,9,   -999.0,9,-999,   -999.0,9,-999.0000,9, -999,  -999.0, -999.00,-999.0000,-999.000,-999.000
     316N151_3,   A20,    83,  1,      6,      6,2,19970808,1250,  7.6020, -53.2512,  833, 5606.5,    555.2,   6.8415,  34.6438,2,  34.6443,2,    130.1,4,  6.7891,    124.3,2,    21.57,2,    32.72,2,     0.00,2,     2.17,2, -999.000,9, -999.000,9, -999.000,5, -999.000,5,-999.0000,5,  -999.00,9,   -999.0,9,  -999.00,9,-999.000,9,   -999.0,9,   -999.0,9,-999,   -999.0,9,-999.0000,9, -999,  -999.0, -999.00,-999.0000,-999.000,-999.000
     316N151_3,   A20,    83,  1,      5,      5,2,19970808,1250,  7.6020, -53.2512,  833, 6060.6,    603.8,   6.4198,  34.6075,2,  34.6074,2,    136.0,4,  6.3646,    128.5,2,    23.03,2,    33.20,2,     0.00,2,     2.22,2, -999.000,9, -999.000,9, -999.000,5, -999.000,5,-999.0000,5,  -999.00,9,   -999.0,9,  -999.00,9,-999.000,9,   -999.0,9,   -999.0,9,-999,   -999.0,9,-999.0000,9, -999,  -999.0, -999.00,-999.0000,-999.000,-999.000
     316N151_3,   A20,    83,  1,      4,      4,2,19970808,1250,  7.6020, -53.2512,  833, 6477.0,    648.2,   6.0382,  34.5844,2,  34.5851,2,    141.0,4,  5.9806,    129.6,2,    24.78,2,    33.83,2,     0.00,2,     2.25,2, -999.000,9, -999.000,9, -999.000,5, -999.000,5,-999.0000,5,  -999.00,9,   -999.0,9,  -999.00,9,-999.000,9,   -999.0,9,   -999.0,9,-999,   -999.0,9,-999.0000,9, -999,  -999.0, -999.00,-999.0000,-999.000,-999.000
     316N151_3,   A20,    83,  1,      3,      3,2,19970808,1250,  7.6020, -53.2512,  833, 6986.9,    702.6,   5.7754,  34.5889,2,  34.5880,2,    145.7,4,  5.7141,    131.9,2,    26.14,2,    33.97,2,     0.00,2,     2.29,2, -999.000,9, -999.000,9, -999.000,5, -999.000,5,-999.0000,5,  -999.00,9,   -999.0,9,  -999.00,9,-999.000,9,   -999.0,9,   -999.0,9,-999,   -999.0,9,-999.0000,9, -999,  -999.0, -999.00,-999.0000,-999.000,-999.000
     316N151_3,   A20,    83,  1,      2,      2,2,19970808,1250,  7.6020, -53.2512,  833, 7448.8,    751.8,   5.2151,  34.5901,2,  34.5893,2,    152.3,4,  5.1526,    138.1,2,    28.85,2,    33.91,2,     0.00,2,     2.30,2, -999.000,9, -999.000,9, -999.000,5, -999.000,5,-999.0000,5,  -999.00,9,   -999.0,9,  -999.00,9,-999.000,9,   -999.0,9,   -999.0,9,-999,   -999.0,9,-999.0000,9, -999,  -999.0, -999.00,-999.0000,-999.000,-999.000
     316N151_3,   A20,    83,  1,      1,      1,2,19970808,1250,  7.6020, -53.2512,  833, 8071.2,    818.2,   5.0352,  34.6233,2,  34.6268,2,   -999.0,9,  4.9677,    143.0,2,    29.54,6,    33.22,6,     0.00,6,     2.27,6, -999.000,9, -999.000,9, -999.000,5, -999.000,5,-999.0000,5,  -999.00,9,   -999.0,9,  -999.00,9,-999.000,9,   -999.0,9,   -999.0,9,-999,   -999.0,9,-999.0000,9, -999,  -999.0, -999.00,-999.0000,-999.000,-999.000