BOTTLE,20220812CCHSIOAMB
EXPOCODE,SECT_ID,STNNBR,CASTNO,SAMPNO,BTLNBR,BTLNBR_FLAG_W,DATE,TIME,LATITUDE,LONGITUDE,DEPTH,CTDRAW,CTDPRS,CTDTMP,CTDSAL,CTDSAL_FLAG_W,SALNTY,SALNTY_FLAG_W,CTDOXY,CTDOXY_FLAG_W,THETA,OXYGEN,OXYGEN_FLAG_W,SILCAT,SILCAT_FLAG_W,NITRAT,NITRAT_FLAG_W,NITRIT,NITRIT_FLAG_W,PHSPHT,PHSPHT_FLAG_W,CFC-11,CFC-11_FLAG_W,CFC-12,CFC-12_FLAG_W,CFC113,CFC113_FLAG_W,TRITUM,TRITUM_FLAG_W,HELIUM,HELIUM_FLAG_W,DELHE3,DELHE3_FLAG_W,DELC14,DELC14_FLAG_W,DELC13,DELC13_FLAG_W,NEON,NEON_FLAG_W,TCARBN,TCARBN_FLAG_W,PCO2,PCO2_FLAG_W,PCO2_TMP,ALKALI,ALKALI_FLAG_W,PH,PH_FLAG_W,PH_TMP,C14ERR,DELHER,HELIER,NEONER,TRITER
,,,,,,,,,,,,,DBAR,ITS-90,PSS-78,,PSS-78,,UMOL/KG,,ITS-90,UMOL/KG,,UMOL/KG,,UMOL/KG,,UMOL/KG,,UMOL/KG,,PMOL/KG,,PMOL/KG,,PMOL/KG,,TU,,NMOL/KG,,PERCNT,,/MILLE,,/MILLE,,NMOL/KG,,UMOL/KG,,UATM,,DEG C,UMOL/KG,,,,DEG C,/MILLE,PERCNT,NMOL/KG,NMOL/KG,TU
     316N151_3,   A20,    71,  1,     33,     33,2,19970806,1627,  9.3820, -52.3663, 4836,  251.2,      6.5,  28.7137,  35.0500,2,  35.0348,2,    200.9,2, 28.7121,    203.5,2,     3.70,2,     0.01,2,     0.00,2,     0.09,2,    1.634,2,    0.984,2, -999.000,5,    0.683,2,-999.0000,5,  -999.00,9,   -999.0,9,  -999.00,9,-999.000,9,   1964.1,2,    273.1,2,  20,   2303.6,2,   8.1080,2,   25,  -999.0, -999.00,-999.0000,-999.000,   0.013
     316N151_3,   A20,    71,  1,     32,     32,2,19970806,1627,  9.3820, -52.3663, 4836,  660.2,     49.3,  26.9673,  36.2933,2,  36.2899,2,    218.5,2, 26.9559,    213.0,2,     0.58,2,     0.04,2,     0.00,2,     0.02,2, -999.000,9, -999.000,9, -999.000,5, -999.000,5,-999.0000,5,  -999.00,9,   -999.0,9,  -999.00,9,-999.000,9,   -999.0,9,    269.3,2,  20,   -999.0,9,-999.0000,9, -999,  -999.0, -999.00,-999.0000,-999.000,-999.000
     316N151_3,   A20,    71,  1,     31,     31,2,19970806,1627,  9.3820, -52.3663, 4836, 1134.8,     98.6,  22.4438,  36.6162,2,  36.6216,2,    167.3,2, 22.4238,    156.5,2,     1.37,2,     4.45,2,     0.05,2,     0.29,2,    1.858,2,    1.060,2, -999.000,5,    0.872,2,   1.7471,2,    -0.56,2,   -999.0,9,  -999.00,9,   6.975,2,   -999.0,9,    403.5,2,  20,   -999.0,9,-999.0000,9, -999,  -999.0,    0.15,  0.0087,   0.035,   0.013
     316N151_3,   A20,    71,  1,     30,     30,2,19970806,1627,  9.3820, -52.3663, 4836, 1620.6,    147.5,  15.4627,  35.9234,2,  35.8912,2,    116.6,2, 15.4398,    110.6,2,     6.24,2,    19.22,2,     0.01,2,     1.16,2,    1.459,2,    0.791,2, -999.000,5,    0.795,2,   1.7738,2,     1.17,2,   -999.0,9,  -999.00,9,   7.269,2,   -999.0,9,    690.5,2,  20,   -999.0,9,-999.0000,9, -999,  -999.0,    0.15,  0.0089,   0.036,   0.013
     316N151_3,   A20,    71,  1,     29,     29,2,19970806,1627,  9.3820, -52.3663, 4836, 2145.4,    200.2,  11.9815,  35.3355,2,  35.3416,2,    111.2,2, 11.9553,    112.6,2,     9.90,2,    23.95,2,     0.00,2,     1.52,2,    1.085,2,    0.584,2, -999.000,5,    0.540,2,   1.7886,2,     0.86,2,   -999.0,9,  -999.00,9,   7.422,2,   -999.0,9,    829.0,2,  20,   -999.0,9,-999.0000,9, -999,  -999.0,    0.15,  0.0089,   0.037,   0.012
     316N151_3,   A20,    71,  1,     28,     28,2,19970806,1627,  9.3820, -52.3663, 4836, 2603.5,    246.2,  10.8512,  35.1731,2,  35.1717,2,    107.6,2, 10.8209,    108.1,2,    11.73,2,    26.26,2,     0.00,2,     1.67,2,    0.863,2,    0.453,2, -999.000,5,    0.412,2,   1.7783,2,     2.38,2,   -999.0,9,  -999.00,9,   7.434,2,   -999.0,9,    914.6,2,  20,   -999.0,9,-999.0000,9, -999,  -999.0,    0.15,  0.0089,   0.037,   0.012
     316N151_3,   A20,    71,  1,     27,     27,2,19970806,1627,  9.3820, -52.3663, 4836, 3148.6,    300.8,   9.6730,  34.9851,2,  34.9846,2,    109.8,2,  9.6387,    113.3,2,    13.66,2,    27.99,2,     0.00,2,     1.80,2,    0.748,2,    0.393,2, -999.000,5,    0.306,2,   1.7675,2,     1.58,2,   -999.0,9,  -999.00,9,   7.393,2,   -999.0,9,    969.2,2,  20,   -999.0,9,-999.0000,9, -999,  -999.0,    0.15,  0.0088,   0.037,   0.011
     316N151_3,   A20,    71,  1,     26,     26,2,19970806,1627,  9.3820, -52.3663, 4836, 3639.2,    350.0,   9.0667,  34.9138,2,  34.9151,2,    113.1,2,  9.0282,    111.7,2,    14.93,2,    29.33,2,     0.00,2,     1.88,2,    0.614,2,    0.327,2, -999.000,5,    0.290,2,   1.8093,2,     0.22,2,   -999.0,9,  -999.00,9,   7.583,2,   -999.0,9,   1021.6,2,  20,   -999.0,9,-999.0000,9, -999,  -999.0,    0.15,  0.0090,   0.038,   0.011
     316N151_3,   A20,    71,  1,     25,     25,2,19970806,1627,  9.3820, -52.3663, 4836, 4643.4,    450.5,   7.9979,  34.7769,2,  34.7768,2,    115.3,2,  7.9517,    118.9,2,    17.81,2,    31.18,2,     0.00,2,     2.02,2,    0.445,2,    0.231,2, -999.000,5,    0.198,2,   1.8111,2,     0.47,2,   -999.0,9,  -999.00,9,   7.664,2,   -999.0,9,   1069.8,2,  20,   -999.0,9,-999.0000,9, -999,  -999.0,    0.15,  0.0091,   0.038,   0.011
     316N151_3,   A20,    71,  1,     24,     24,2,19970806,1627,  9.3820, -52.3663, 4836, 5601.1,    546.4,   7.1804,  34.7078,2,  34.7094,2,    117.0,2,  7.1274,    124.5,2,    20.51,2,    32.68,2,     0.00,2,     2.14,2, -999.000,9, -999.000,9, -999.000,5, -999.000,5,-999.0000,5,  -999.00,9,   -999.0,9,  -999.00,9,-999.000,9,   -999.0,9,   1133.9,2,  20,   -999.0,9,-999.0000,9, -999,  -999.0, -999.00,-999.0000,-999.000,-999.000
     316N151_3,   A20,    71,  1,     23,     23,2,19970806,1627,  9.3820, -52.3663, 4836, 6590.8,    645.4,   6.6117,  34.6982,2,  34.6978,2,    118.2,2,  6.5514,    117.9,2,    23.01,2,    33.75,2,     0.00,2,     2.22,2, -999.000,9,    0.072,2, -999.000,5,    0.093,2,   1.8124,2,     0.66,2,   -999.0,9,  -999.00,9,   7.719,2,   -999.0,9,   1159.7,2,  20,   -999.0,9,-999.0000,9, -999,  -999.0,    0.15,  0.0091,   0.039,   0.011
     316N151_3,   A20,    71,  1,     22,     22,2,19970806,1627,  9.3820, -52.3663, 4836, 7609.5,    747.3,   5.7215,  34.6303,2,  34.6303,2,    127.4,2,  5.6563,    127.9,2,    26.47,2,    34.21,2,     0.00,2,     2.28,2,    0.062,2,    0.038,2, -999.000,5,    0.039,2,   1.8133,2,     1.93,2,   -999.0,9,  -999.00,9,   7.753,2,   -999.0,9,   1191.0,2,  20,   -999.0,9,-999.0000,9, -999,  -999.0,    0.15,  0.0091,   0.039,   0.011
     316N151_3,   A20,    71,  1,     21,     21,2,19970806,1627,  9.3820, -52.3663, 4836, 8623.5,    848.6,   5.1838,  34.6322,2,  34.6329,2,    136.4,2,  5.1127,    143.4,2,    28.50,2,    33.67,2,     0.00,2,     2.27,2,    0.031,2,    0.018,2, -999.000,5,    0.065,2,   1.8220,2,     0.60,2,   -999.0,9,  -999.00,9,   7.785,2,   -999.0,9,   1164.7,2,  20,   -999.0,9,-999.0000,9, -999,  -999.0,    0.15,  0.0091,   0.039,   0.013
     316N151_3,   A20,    71,  1,     20,     20,2,19970806,1627,  9.3820, -52.3663, 4836,10084.5,    994.4,   5.0643,  34.7169,2,  34.7177,2,    151.2,2,  4.9806,    149.8,2,    27.66,2,    31.87,2,     0.00,2,     2.15,2,    0.026,2,    0.018,2, -999.000,5,    0.044,2,   1.8330,2,     0.54,2,   -999.0,9,  -999.00,9,   7.835,2,   -999.0,9,   -999.0,9,-999,   -999.0,9,-999.0000,9, -999,  -999.0,    0.15,  0.0092,   0.039,   0.011
     316N151_3,   A20,    71,  1,     19,     19,2,19970806,1627,  9.3820, -52.3663, 4836,11633.9,   1149.2,   5.1181,  34.8780,2,  34.8807,2,    177.6,2,  5.0194,    175.7,2,    23.00,2,    27.33,2,     0.00,2,     1.83,2,    0.089,2,    0.050,2, -999.000,5,    0.104,2,-999.0000,5,  -999.00,9,   -999.0,9,  -999.00,9,-999.000,9,   -999.0,9,   -999.0,9,-999,   -999.0,9,-999.0000,9, -999,  -999.0, -999.00,-999.0000,-999.000,   0.011
     316N151_3,   A20,    71,  1,     18,     18,2,19970806,1627,  9.3820, -52.3663, 4836,13665.6,   1352.3,   4.8706,  34.9941,2,  34.9975,2,    217.6,2,  4.7548,    219.4,2,    17.30,2,    22.04,2,     0.00,2,     1.46,2,    0.277,2,    0.139,2, -999.000,5,    0.272,2,   1.8334,2,     3.43,2,   -999.0,9,  -999.00,9,   7.881,2,   -999.0,9,   -999.0,9,-999,   -999.0,9,-999.0000,9, -999,  -999.0,    0.15,  0.0092,   0.039,   0.012
     316N151_3,   A20,    71,  1,     17,     17,2,19970806,1627,  9.3820, -52.3663, 4836,15151.3,   1500.8,   4.5007,  35.0049,2,  35.0066,2,    237.1,2,  4.3747,    235.7,2,    15.42,2,    20.15,2,     0.00,2,     1.34,2,    0.347,2,    0.173,2, -999.000,5,    0.289,2,   1.8434,2,     2.95,2,   -999.0,9,  -999.00,9,   7.927,2,   -999.0,9,   -999.0,9,-999,   -999.0,9,-999.0000,9, -999,  -999.0,    0.15,  0.0092,   0.040,   0.011
     316N151_3,   A20,    71,  1,     16,     16,2,19970806,1627,  9.3820, -52.3663, 4836,16622.3,   1647.9,   4.2151,  35.0020,2,  35.0034,2,    247.3,2,  4.0785,    250.6,2,    14.87,2,    19.31,2,     0.00,2,     1.28,2,    0.300,2,    0.155,2, -999.000,5,    0.274,2,   1.8292,2,     3.15,2,   -999.0,9,  -999.00,9,   7.890,2,   -999.0,9,   -999.0,9,-999,   -999.0,9,-999.0000,9, -999,  -999.0,    0.15,  0.0091,   0.039,   0.011
     316N151_3,   A20,    71,  1,     15,     15,2,19970806,1627,  9.3820, -52.3663, 4836,18139.8,   1799.6,   3.9017,  34.9909,2,  34.9921,2,    256.3,2,  3.7548,    254.8,2,    15.18,2,    18.70,2,     0.00,2,     1.24,2,    0.301,2,    0.182,2, -999.000,5,    0.300,2,   1.8348,2,     3.25,2,   -999.0,9,  -999.00,9,   7.811,2,   -999.0,9,   -999.0,9,-999,   -999.0,9,-999.0000,9, -999,  -999.0,    0.15,  0.0092,   0.039,   0.011
     316N151_3,   A20,    71,  1,     14,     14,2,19970806,1627,  9.3820, -52.3663, 4836,20144.4,   2000.0,   3.6121,  34.9802,2,  34.9816,2,    258.0,2,  3.4504,    259.4,2,    17.12,2,    18.73,2,     0.00,2,     1.25,2, -999.000,9, -999.000,9, -999.000,5, -999.000,5,-999.0000,5,  -999.00,9,   -999.0,9,  -999.00,9,-999.000,9,   -999.0,9,   -999.0,9,-999,   -999.0,9,-999.0000,9, -999,  -999.0, -999.00,-999.0000,-999.000,-999.000
     316N151_3,   A20,    71,  1,     13,     13,2,19970806,1627,  9.3820, -52.3663, 4836,22131.2,   2198.5,   3.3577,  34.9683,2,  34.9705,2,    259.4,2,  3.1808,    261.4,2,    19.04,2,    18.73,2,     0.00,2,     1.25,2,    0.156,2,    0.086,2, -999.000,5,    0.132,2,   1.8423,2,     2.35,2,   -999.0,9,  -999.00,9,   7.802,2,   -999.0,9,   -999.0,9,-999,   -999.0,9,-999.0000,9, -999,  -999.0,    0.15,  0.0092,   0.039,   0.011
     316N151_3,   A20,    71,  1,     12,     12,2,19970806,1627,  9.3820, -52.3663, 4836,24139.5,   2399.3,   3.1004,  34.9539,2,  34.9561,2,    260.3,2,  2.9084,    260.9,2,    21.26,2,    18.77,2,     0.00,2,     1.26,2, -999.000,9, -999.000,9, -999.000,5, -999.000,5,-999.0000,5,  -999.00,9,   -999.0,9,  -999.00,9,-999.000,9,   -999.0,9,   -999.0,9,-999,   -999.0,9,-999.0000,9, -999,  -999.0, -999.00,-999.0000,-999.000,-999.000
     316N151_3,   A20,    71,  1,     11,     11,2,19970806,1627,  9.3820, -52.3663, 4836,26123.4,   2597.5,   2.9212,  34.9433,2,  34.9449,2,    260.6,2,  2.7130,    262.2,2,    23.85,2,    19.04,2,     0.00,2,     1.28,2,    0.135,2,    0.073,2, -999.000,5,    0.143,2,   1.8591,2,     2.52,2,   -999.0,9,  -999.00,9,   7.887,2,   -999.0,9,   -999.0,9,-999,   -999.0,9,-999.0000,9, -999,  -999.0,    0.15,  0.0093,   0.039,   0.011
     316N151_3,   A20,    71,  1,     10,     10,2,19970806,1627,  9.3820, -52.3663, 4836,28175.7,   2802.6,   2.8222,  34.9358,2,  34.9370,2,    260.0,2,  2.5956,    263.3,2,    25.49,2,    19.15,2,     0.00,2,     1.30,2, -999.000,9, -999.000,9, -999.000,5, -999.000,5,-999.0000,5,  -999.00,9,   -999.0,9,  -999.00,9,-999.000,9,   -999.0,9,   -999.0,9,-999,   -999.0,9,-999.0000,9, -999,  -999.0, -999.00,-999.0000,-999.000,-999.000
     316N151_3,   A20,    71,  1,      9,      9,2,19970806,1627,  9.3820, -52.3663, 4836,30621.8,   3047.2,   2.7018,  34.9280,2,  34.9286,2,    260.5,2,  2.4526,    263.7,2,    27.91,2,    19.42,2,     0.00,2,     1.31,2,    0.122,2,    0.068,2, -999.000,5,    0.124,2,   1.8561,2,     2.68,2,   -999.0,9,  -999.00,9,   7.826,2,   -999.0,9,   -999.0,9,-999,   -999.0,9,-999.0000,9, -999,  -999.0,    0.15,  0.0093,   0.039,   0.011
     316N151_3,   A20,    71,  1,      8,      8,2,19970806,1627,  9.3820, -52.3663, 4836,33125.7,   3297.4,   2.5719,  34.9180,2,  34.9193,2,    260.1,2,  2.2995,    262.3,2,    29.55,2,    19.42,2,     0.00,2,     1.32,2, -999.000,9, -999.000,9, -999.000,5, -999.000,5,-999.0000,5,  -999.00,9,   -999.0,9,  -999.00,9,-999.000,9,   -999.0,9,   -999.0,9,-999,   -999.0,9,-999.0000,9, -999,  -999.0, -999.00,-999.0000,-999.000,-999.000
     316N151_3,   A20,    71,  1,      7,      7,2,19970806,1627,  9.3820, -52.3663, 4836,35628.5,   3547.8,   2.4618,  34.9106,2,  34.9108,2,    263.5,2,  2.1652,    263.7,2,    29.66,2,    19.19,2,     0.00,2,     1.31,2,    0.187,2,    0.104,2, -999.000,5,    0.194,2,   1.8480,2,     2.96,2,   -999.0,9,  -999.00,9,   7.865,2,   -999.0,9,   -999.0,9,-999,   -999.0,9,-999.0000,9, -999,  -999.0,    0.15,  0.0092,   0.039,   0.011
     316N151_3,   A20,    71,  1,      6,      6,2,19970806,1627,  9.3820, -52.3663, 4836,38073.5,   3792.0,   2.3730,  34.9035,2,  34.9029,2,    263.5,2,  2.0518,    263.3,2,    31.98,2,    19.45,2,     0.00,2,     1.32,2, -999.000,9, -999.000,9, -999.000,5, -999.000,5,-999.0000,5,  -999.00,9,   -999.0,9,  -999.00,9,-999.000,9,   -999.0,9,   -999.0,9,-999,   -999.0,9,-999.0000,9, -999,  -999.0, -999.00,-999.0000,-999.000,-999.000
     316N151_3,   A20,    71,  1,      5,      5,2,19970806,1627,  9.3820, -52.3663, 4836,40631.2,   4047.7,   2.3137,  34.8988,2,  34.8983,2,    265.3,2,  1.9652,    264.3,2,    31.52,2,    19.19,2,     0.00,2,     1.31,2,    0.198,2,    0.105,2, -999.000,5,    0.014,2,   1.8574,2,     2.86,2,   -999.0,9,  -999.00,9,   7.781,2,   -999.0,9,   -999.0,9,-999,   -999.0,9,-999.0000,9, -999,  -999.0,    0.15,  0.0093,   0.039,   0.010
     316N151_3,   A20,    71,  1,      4,      4,2,19970806,1627,  9.3820, -52.3663, 4836,42658.3,   4250.3,   2.2802,  34.8944,2,  34.8940,2,    264.7,2,  1.9092,    264.8,2,    33.26,2,    19.41,2,     0.00,2,     1.33,2, -999.000,9, -999.000,9, -999.000,5, -999.000,5,-999.0000,5,  -999.00,9,   -999.0,9,  -999.00,9,-999.000,9,   -999.0,9,   -999.0,9,-999,   -999.0,9,-999.0000,9, -999,  -999.0, -999.00,-999.0000,-999.000,-999.000
     316N151_3,   A20,    71,  1,      3,      3,2,19970806,1627,  9.3820, -52.3663, 4836,44630.6,   4447.5,   2.2429,  34.8872,2,  34.8887,2,    262.8,2,  1.8499,    263.4,2,    36.33,2,    19.83,2,     0.00,2,     1.36,2,    0.171,2,    0.098,2, -999.000,5,    0.169,2,-999.0000,5,  -999.00,9,   -999.0,9,  -999.00,9,-999.000,9,   -999.0,9,   -999.0,9,-999,   -999.0,9,-999.0000,9, -999,  -999.0, -999.00,-999.0000,-999.000,   0.011
     316N151_3,   A20,    71,  1,      2,      2,2,19970806,1627,  9.3820, -52.3663, 4836,47143.7,   4698.9,   2.0326,  34.8601,2,  34.8599,2,    253.2,2,  1.6161,    252.0,2,    51.14,2,    22.10,2,     0.00,2,     1.52,2, -999.000,9, -999.000,9, -999.000,5, -999.000,5,-999.0000,5,  -999.00,9,   -999.0,9,  -999.00,9,-999.000,9,   -999.0,9,   -999.0,9,-999,   -999.0,9,-999.0000,9, -999,  -999.0, -999.00,-999.0000,-999.000,-999.000
     316N151_3,   A20,    71,  1,      1,      1,2,19970806,1627,  9.3820, -52.3663, 4836,48867.2,   4871.3,   1.8166,  34.8311,2,  34.8294,2,    242.6,2,  1.3864,    244.8,2,    65.06,6,    24.08,6,     0.00,6,     1.66,6,    0.049,2,    0.034,2, -999.000,5,    0.064,2,   1.8895,2,     3.85,2,   -999.0,9,  -999.00,9,   7.758,2,   -999.0,9,   -999.0,9,-999,   -999.0,9,-999.0000,9, -999,  -999.0,    0.15,  0.0094,   0.039,   0.011