BOTTLE,20220812CCHSIOAMB
EXPOCODE,SECT_ID,STNNBR,CASTNO,SAMPNO,BTLNBR,BTLNBR_FLAG_W,DATE,TIME,LATITUDE,LONGITUDE,DEPTH,CTDRAW,CTDPRS,CTDTMP,CTDSAL,CTDSAL_FLAG_W,SALNTY,SALNTY_FLAG_W,CTDOXY,CTDOXY_FLAG_W,THETA,OXYGEN,OXYGEN_FLAG_W,SILCAT,SILCAT_FLAG_W,NITRAT,NITRAT_FLAG_W,NITRIT,NITRIT_FLAG_W,PHSPHT,PHSPHT_FLAG_W,CFC-11,CFC-11_FLAG_W,CFC-12,CFC-12_FLAG_W,CFC113,CFC113_FLAG_W,TRITUM,TRITUM_FLAG_W,HELIUM,HELIUM_FLAG_W,DELHE3,DELHE3_FLAG_W,DELC14,DELC14_FLAG_W,DELC13,DELC13_FLAG_W,NEON,NEON_FLAG_W,TCARBN,TCARBN_FLAG_W,PCO2,PCO2_FLAG_W,PCO2_TMP,ALKALI,ALKALI_FLAG_W,PH,PH_FLAG_W,PH_TMP,C14ERR,DELHER,HELIER,NEONER,TRITER
,,,,,,,,,,,,,DBAR,ITS-90,PSS-78,,PSS-78,,UMOL/KG,,ITS-90,UMOL/KG,,UMOL/KG,,UMOL/KG,,UMOL/KG,,UMOL/KG,,PMOL/KG,,PMOL/KG,,PMOL/KG,,TU,,NMOL/KG,,PERCNT,,/MILLE,,/MILLE,,NMOL/KG,,UMOL/KG,,UATM,,DEG C,UMOL/KG,,,,DEG C,/MILLE,PERCNT,NMOL/KG,NMOL/KG,TU
     316N151_3,   A20,    39,  1,     33,     33,2,19970728,1336, 29.5342, -52.3477, 5380,  208.5,      6.7,  28.0577,  37.0408,2,  37.0519,2,    215.8,2, 28.0561,    206.5,2,     0.56,2,     0.04,2,     0.00,2,     0.01,2,    1.751,2,    1.047,2, -999.000,5, -999.000,5,-999.0000,5,  -999.00,9,   -999.0,9,  -999.00,9,-999.000,9,   2065.1,2,    300.7,2,  20,   2416.6,2,   8.0840,2,   25,  -999.0, -999.00,-999.0000,-999.000,-999.000
     316N151_3,   A20,    39,  1,     32,     32,2,19970728,1336, 29.5342, -52.3477, 5380,  384.1,     24.6,  24.6285,  37.0217,2,  37.0227,2,    223.3,2, 24.6232,    225.2,2,     0.57,2,     0.04,2,     0.00,2,     0.01,2, -999.000,9, -999.000,9, -999.000,5, -999.000,5,-999.0000,5,  -999.00,9,   -999.0,9,  -999.00,9,-999.000,9,   2065.6,2,    303.1,2,  20,   2417.6,2,   8.0810,2,   25,  -999.0, -999.00,-999.0000,-999.000,-999.000
     316N151_3,   A20,    39,  1,     31,     31,2,19970728,1336, 29.5342, -52.3477, 5380,  661.8,     52.4,  21.7953,  36.9269,2,  36.9393,2,    233.2,2, 21.7849,    233.6,2,     0.58,2,     0.04,2,     0.00,2,     0.01,2,    2.254,2,    1.294,2, -999.000,5, -999.000,5,-999.0000,5,  -999.00,9,   -999.0,9,  -999.00,9,-999.000,9,   2062.4,2,    305.5,2,  20,   2410.6,6,   8.0760,2,   25,  -999.0, -999.00,-999.0000,-999.000,-999.000
     316N151_3,   A20,    39,  1,     30,     30,2,19970728,1336, 29.5342, -52.3477, 5380,  854.7,     71.5,  20.6447,  36.8394,2,  36.8574,2,    234.7,2, 20.6310,    232.7,2,     0.49,2,     0.04,2,     0.00,2,     0.01,2,    2.297,2,    1.322,2, -999.000,5, -999.000,5,-999.0000,5,  -999.00,9,   -999.0,9,  -999.00,9,-999.000,9,   2068.0,2,    315.3,2,  20,   2406.2,2,   8.0660,2,   25,  -999.0, -999.00,-999.0000,-999.000,-999.000
     316N151_3,   A20,    39,  1,     29,     29,2,19970728,1336, 29.5342, -52.3477, 5380, 1125.4,     98.5,  20.0913,  36.7938,2,  36.7904,2,    222.2,2, 20.0729,    225.0,2,     0.50,2,     0.04,2,     0.00,2,     0.01,2, -999.000,9, -999.000,9, -999.000,5, -999.000,5,-999.0000,5,  -999.00,9,   -999.0,9,  -999.00,9,-999.000,9,   2074.6,2,    324.0,2,  20,   2402.2,2,   8.0500,2,   25,  -999.0, -999.00,-999.0000,-999.000,-999.000
     316N151_3,   A20,    39,  1,     28,     28,2,19970728,1336, 29.5342, -52.3477, 5380, 1392.2,    124.9,  19.3113,  36.6983,2,  36.6994,2,    216.2,2, 19.2886,    222.4,2,     0.50,2,     0.03,2,     0.00,2,     0.01,2,    2.365,2,    1.363,2, -999.000,5, -999.000,5,-999.0000,5,  -999.00,9,   -999.0,9,  -999.00,9,-999.000,9,   2078.3,2,    337.9,2,  20,   2396.2,2,   8.0370,2,   25,  -999.0, -999.00,-999.0000,-999.000,-999.000
     316N151_3,   A20,    39,  1,     27,     27,2,19970728,1336, 29.5342, -52.3477, 5380, 1649.1,    150.3,  19.0609,  36.6686,2,  36.6694,2,    210.9,2, 19.0338,    216.1,2,     0.60,2,     0.54,2,     0.04,2,     0.02,2, -999.000,9, -999.000,9, -999.000,5, -999.000,5,-999.0000,5,  -999.00,9,   -999.0,9,  -999.00,9,-999.000,9,   2082.5,2,    346.0,2,  20,   2394.8,2,   8.0290,2,   25,  -999.0, -999.00,-999.0000,-999.000,-999.000
     316N151_3,   A20,    39,  1,     26,     26,2,19970728,1336, 29.5342, -52.3477, 5380, 1898.1,    174.9,  18.7224,  36.6178,2,  36.6189,2,    205.8,2, 18.6913,    215.5,2,     0.70,2,     1.72,2,     0.02,2,     0.07,2,    2.313,2,    1.379,2, -999.000,5, -999.000,5,-999.0000,5,  -999.00,9,   -999.0,9,  -999.00,9,-999.000,9,   2085.4,2,    355.5,2,  20,   2390.9,2,   8.0180,2,   25,  -999.0, -999.00,-999.0000,-999.000,-999.000
     316N151_3,   A20,    39,  1,     25,     25,2,19970728,1336, 29.5342, -52.3477, 5380, 2142.4,    198.9,  18.5062,  36.5846,2,  36.5854,2,    206.1,2, 18.4710,    211.3,2,     0.81,2,     2.37,2,     0.01,2,     0.10,2,    2.364,2,    1.382,2, -999.000,5, -999.000,5,-999.0000,5,  -999.00,9,   -999.0,9,  -999.00,9,-999.000,9,   2086.7,2,    362.8,2,  20,   2388.4,2,   8.0130,2,   25,  -999.0, -999.00,-999.0000,-999.000,-999.000
     316N151_3,   A20,    39,  1,     24,     24,2,19970728,1336, 29.5342, -52.3477, 5380, 2647.7,    249.1,  18.2549,  36.5520,2,  36.5532,2,    214.9,2, 18.2112,    209.2,2,     1.00,2,     3.08,2,     0.01,2,     0.15,2,    2.418,2,    1.364,2, -999.000,5, -999.000,5,-999.0000,5,  -999.00,9,   -999.0,9,  -999.00,9,-999.000,9,   2087.7,2,    366.9,2,  20,   2387.2,2,   8.0060,2,   25,  -999.0, -999.00,-999.0000,-999.000,-999.000
     316N151_3,   A20,    39,  1,     23,     23,2,19970728,1336, 29.5342, -52.3477, 5380, 3406.1,    324.8,  18.0052,  36.5272,2,  36.5273,2,    216.1,2, 17.9486,    212.7,2,     1.11,2,     3.43,2,     0.00,2,     0.17,2,    2.411,2,    1.365,2, -999.000,5, -999.000,5,-999.0000,5,  -999.00,9,   -999.0,9,  -999.00,9,-999.000,9,   2089.9,2,    369.4,2,  20,   2384.9,2,   8.0060,2,   25,  -999.0, -999.00,-999.0000,-999.000,-999.000
     316N151_3,   A20,    39,  1,     22,     22,2,19970728,1336, 29.5342, -52.3477, 5380, 4184.5,    402.7,  17.6937,  36.4754,2,  36.4764,2,    217.8,2, 17.6243,    206.4,2,     1.40,2,     4.49,2,     0.00,2,     0.23,2,    2.366,2,    1.316,2, -999.000,5, -999.000,5,-999.0000,5,  -999.00,9,   -999.0,9,  -999.00,9,-999.000,9,   2096.3,2,    384.6,2,  20,   2382.4,2,   7.9910,2,   25,  -999.0, -999.00,-999.0000,-999.000,-999.000
     316N151_3,   A20,    39,  1,     21,     21,2,19970728,1336, 29.5342, -52.3477, 5380, 5121.9,    496.6,  16.5516,  36.2749,2,  36.2764,2,    202.3,2, 16.4698,    199.0,2,     2.27,2,     7.07,2,     0.00,2,     0.40,2,    2.310,2,    1.263,2, -999.000,5, -999.000,5,-999.0000,5,  -999.00,9,   -999.0,9,  -999.00,9,-999.000,9,   2110.8,2,    427.7,2,  20,   2372.0,2,   7.9510,2,   25,  -999.0, -999.00,-999.0000,-999.000,-999.000
     316N151_3,   A20,    39,  1,     20,     20,2,19970728,1336, 29.5342, -52.3477, 5380, 6643.7,    649.0,  13.8209,  35.8431,2,  35.8424,2,    192.7,2, 13.7258,    190.9,2,     4.49,2,    12.05,2,     0.00,2,     0.72,2,    2.191,2,    1.163,2, -999.000,5, -999.000,5,-999.0000,5,  -999.00,9,   -999.0,9,  -999.00,9,-999.000,9,   2133.4,2,    530.4,2,  20,   2349.9,2,   7.8700,2,   25,  -999.0, -999.00,-999.0000,-999.000,-999.000
     316N151_3,   A20,    39,  1,     19,     19,2,19970728,1336, 29.5342, -52.3477, 5380, 8110.5,    796.2,  11.2753,  35.5143,2,  35.5132,2,    182.1,2, 11.1723,    181.1,2,     7.76,2,    17.00,2,     0.00,2,     1.04,2,    1.670,6,    0.859,6, -999.000,5, -999.000,5,-999.0000,5,  -999.00,9,   -999.0,9,  -999.00,9,-999.000,9,   2155.5,2,   -999.0,9,-999,   2334.8,2,   7.7960,2,   25,  -999.0, -999.00,-999.0000,-999.000,-999.000
     316N151_3,   A20,    39,  1,     18,     18,2,19970728,1336, 29.5342, -52.3477, 5380, 9643.7,    949.9,   8.8995,  35.3058,2,  35.3077,2,    176.3,2,  8.7921,    174.4,2,    11.70,2,    20.75,2,     0.00,2,     1.32,2,    0.966,2,    0.490,2, -999.000,5, -999.000,5,-999.0000,5,  -999.00,9,   -999.0,9,  -999.00,9,-999.000,9,   2176.2,2,    751.4,2,  20,   2327.6,2,   7.7360,2,   25,  -999.0, -999.00,-999.0000,-999.000,-999.000
     316N151_3,   A20,    39,  1,     17,     17,2,19970728,1336, 29.5342, -52.3477, 5380,11619.3,   1147.6,   6.7151,  35.1801,2,  35.1850,2,    200.2,2,  6.6024,    204.9,2,    12.86,2,    20.42,2,     0.00,2,     1.32,2,    0.959,2,    0.481,2, -999.000,5, -999.000,5,-999.0000,5,  -999.00,9,   -999.0,9,  -999.00,9,-999.000,9,   2177.6,2,    772.0,2,  20,   2323.3,2,   7.7230,2,   25,  -999.0, -999.00,-999.0000,-999.000,-999.000
     316N151_3,   A20,    39,  1,     16,     16,2,19970728,1336, 29.5342, -52.3477, 5380,13644.9,   1350.2,   5.5607,  35.1372,2,  35.1398,2,    222.9,2,  5.4378,    222.1,2,    14.02,2,    20.05,2,     0.00,2,     1.31,2,    0.457,2,    0.235,2, -999.000,5, -999.000,5,-999.0000,5,  -999.00,9,   -999.0,9,  -999.00,9,-999.000,9,   2172.2,2,    752.7,2,  20,   2322.0,2,   7.7350,2,   25,  -999.0, -999.00,-999.0000,-999.000,-999.000
     316N151_3,   A20,    39,  1,     15,     15,2,19970728,1336, 29.5342, -52.3477, 5380,16158.5,   1601.6,   4.7574,  35.0829,2,  35.0844,2,    247.9,2,  4.6185,    245.6,2,    13.36,2,    18.62,2,     0.00,2,     1.23,2,    0.720,2,    0.365,2, -999.000,5, -999.000,5,-999.0000,5,  -999.00,9,   -999.0,9,  -999.00,9,-999.000,9,   2164.3,2,    738.3,2,  20,   2320.0,2,   7.7460,2,   25,  -999.0, -999.00,-999.0000,-999.000,-999.000
     316N151_3,   A20,    39,  1,     14,     14,2,19970728,1336, 29.5342, -52.3477, 5380,19153.1,   1900.8,   4.0116,  35.0191,2,  35.0205,2,    256.1,2,  3.8535,    256.5,2,    15.08,2,    18.38,2,     0.00,2,     1.21,2,    0.532,2,    0.274,2, -999.000,5, -999.000,5,-999.0000,5,  -999.00,9,   -999.0,9,  -999.00,9,-999.000,9,   2161.4,2,    732.8,2,  20,   2315.6,2,   7.7480,2,   25,  -999.0, -999.00,-999.0000,-999.000,-999.000
     316N151_3,   A20,    39,  1,     13,     13,2,19970728,1336, 29.5342, -52.3477, 5380,22155.7,   2200.9,   3.6593,  35.0098,2,  35.0095,2,    251.6,2,  3.4773,    253.5,2,    20.56,2,    19.14,2,     0.00,2,     1.28,2,    0.113,2,    0.065,2, -999.000,5, -999.000,5,-999.0000,5,  -999.00,9,   -999.0,9,  -999.00,9,-999.000,9,   2167.1,2,    732.6,2,  20,   2324.8,2,   7.7500,2,   25,  -999.0, -999.00,-999.0000,-999.000,-999.000
     316N151_3,   A20,    39,  1,     12,     12,2,19970728,1336, 29.5342, -52.3477, 5380,25135.6,   2498.8,   3.3197,  34.9815,2,  34.9816,2,    252.4,2,  3.1139,    252.6,2,    24.50,2,    19.59,2,    -0.01,2,     1.31,2,    0.049,2,    0.036,2, -999.000,5, -999.000,5,-999.0000,5,  -999.00,9,   -999.0,9,  -999.00,9,-999.000,9,   2171.1,2,   -999.0,9,-999,   2326.3,2,   7.7480,2,   25,  -999.0, -999.00,-999.0000,-999.000,-999.000
     316N151_3,   A20,    39,  1,     11,     11,2,19970728,1336, 29.5342, -52.3477, 5380,28094.6,   2794.4,   3.0836,  34.9615,2,  34.9657,2,    251.6,2,  2.8523,    252.7,2,    27.87,2,    19.94,2,    -0.01,2,     1.34,2,    0.019,2,    0.016,2, -999.000,5, -999.000,5,-999.0000,5,  -999.00,9,   -999.0,9,  -999.00,9,-999.000,9,   2173.1,2,   -999.0,9,-999,   2331.6,2,   7.7490,2,   25,  -999.0, -999.00,-999.0000,-999.000,-999.000
     316N151_3,   A20,    39,  1,     10,     10,2,19970728,1336, 29.5342, -52.3477, 5380,31073.7,   3092.3,   2.8860,  34.9445,2,  34.9451,2,    253.2,2,  2.6280,    255.4,2,    29.41,2,    20.01,2,     0.00,2,     1.35,2,    0.011,2,    0.010,2, -999.000,5, -999.000,5,-999.0000,5,  -999.00,9,   -999.0,9,  -999.00,9,-999.000,9,   2173.7,2,   -999.0,9,-999,   2330.0,2,   7.7490,2,   25,  -999.0, -999.00,-999.0000,-999.000,-999.000
     316N151_3,   A20,    39,  1,      9,      9,2,19970728,1336, 29.5342, -52.3477, 5380,34094.6,   3394.3,   2.6735,  34.9268,2,  34.9272,2,    258.1,2,  2.3881,    258.6,2,    30.28,2,    19.80,2,    -0.01,2,     1.34,2,    0.016,2,    0.015,2, -999.000,5, -999.000,5,-999.0000,5,  -999.00,9,   -999.0,9,  -999.00,9,-999.000,9,   2173.5,2,   -999.0,9,-999,   2329.1,2,   7.7520,2,   25,  -999.0, -999.00,-999.0000,-999.000,-999.000
     316N151_3,   A20,    39,  1,      8,      8,2,19970728,1336, 29.5342, -52.3477, 5380,37100.1,   3694.7,   2.4631,  34.9109,2,  34.9111,2,    261.6,2,  2.1503,    261.9,2,    31.72,2,    19.64,2,    -0.01,2,     1.34,2,    0.030,2,    0.014,6, -999.000,5, -999.000,5,-999.0000,5,  -999.00,9,   -999.0,9,  -999.00,9,-999.000,9,   2172.1,2,   -999.0,9,-999,   2328.0,2,   7.7500,2,   25,  -999.0, -999.00,-999.0000,-999.000,-999.000
     316N151_3,   A20,    39,  1,      7,      7,2,19970728,1336, 29.5342, -52.3477, 5380,40108.1,   3995.4,   2.3339,  34.8992,2,  34.8988,2,    260.4,2,  1.9908,    261.2,2,    34.51,2,    19.92,2,    -0.01,2,     1.35,2,    0.042,2,    0.029,2, -999.000,5, -999.000,5,-999.0000,5,  -999.00,9,   -999.0,9,  -999.00,9,-999.000,9,   2173.5,2,   -999.0,9,-999,   2332.1,2,   7.7520,2,   25,  -999.0, -999.00,-999.0000,-999.000,-999.000
     316N151_3,   A20,    39,  1,      6,      6,2,19970728,1336, 29.5342, -52.3477, 5380,43138.1,   4298.2,   2.2305,  34.8862,2,  34.8854,2,    258.7,2,  1.8555,    258.3,2,    39.13,2,    20.60,2,     0.00,2,     1.40,2,    0.051,2,    0.029,2, -999.000,5, -999.000,5,-999.0000,5,  -999.00,9,   -999.0,9,  -999.00,9,-999.000,9,   2181.9,2,   -999.0,9,-999,   2334.6,2,   7.7400,2,   25,  -999.0, -999.00,-999.0000,-999.000,-999.000
     316N151_3,   A20,    39,  1,      5,      5,2,19970728,1336, 29.5342, -52.3477, 5380,46193.1,   4603.5,   2.1427,  34.8717,2,  34.8713,2,    255.5,2,  1.7342,    255.9,2,    45.45,2,    21.45,2,     0.00,2,     1.47,2,    0.035,2,    0.022,2, -999.000,5, -999.000,5,-999.0000,5,  -999.00,9,   -999.0,9,  -999.00,9,-999.000,9,   2188.3,2,   -999.0,9,-999,   2340.3,2,   7.7350,2,   25,  -999.0, -999.00,-999.0000,-999.000,-999.000
     316N151_3,   A20,    39,  1,      4,      4,2,19970728,1336, 29.5342, -52.3477, 5380,49102.4,   4894.4,   2.1168,  34.8645,2,  34.8653,2,    252.4,2,  1.6736,    254.0,2,    48.54,2,    21.94,2,    -0.01,2,     1.50,2,    0.029,2,    0.023,2, -999.000,5, -999.000,5,-999.0000,5,  -999.00,9,   -999.0,9,  -999.00,9,-999.000,9,   2191.7,2,   -999.0,9,-999,   2341.6,2,   7.7340,2,   25,  -999.0, -999.00,-999.0000,-999.000,-999.000
     316N151_3,   A20,    39,  1,      3,      3,2,19970728,1336, 29.5342, -52.3477, 5380,50584.8,   5042.6,   2.1138,  34.8620,2,  34.8622,2,    252.1,2,  1.6523,    255.4,2,    49.69,2,    22.12,2,     0.00,2,     1.51,2,    0.023,2,    0.022,2, -999.000,5, -999.000,5,-999.0000,5,  -999.00,9,   -999.0,9,  -999.00,9,-999.000,9,   2192.5,2,   -999.0,9,-999,   2342.4,2,   7.7310,2,   25,  -999.0, -999.00,-999.0000,-999.000,-999.000
     316N151_3,   A20,    39,  1,      2,      2,2,19970728,1336, 29.5342, -52.3477, 5380,52641.4,   5248.1,   2.1204,  34.8599,2,  34.8604,2,    252.2,2,  1.6325,    251.8,2,    50.76,2,    22.29,2,     0.00,2,     1.52,2,    0.022,2,    0.017,2, -999.000,5, -999.000,5,-999.0000,5,  -999.00,9,   -999.0,9,  -999.00,9,-999.000,9,   2196.0,2,   -999.0,9,-999,   2347.0,6,   7.7330,6,   25,  -999.0, -999.00,-999.0000,-999.000,-999.000
     316N151_3,   A20,    39,  1,      1,      1,2,19970728,1336, 29.5342, -52.3477, 5380,54740.6,   5457.8,   2.1443,  34.8593,2,  34.8594,2,    250.0,2,  1.6284,    251.5,2,    51.08,6,    22.21,6,     0.00,6,     1.53,6,    0.022,2,    0.018,2, -999.000,5, -999.000,5,-999.0000,5,  -999.00,9,   -999.0,9,  -999.00,9,-999.000,9,   2195.8,2,    777.4,2,  20,   2344.0,2,   7.7320,2,   25,  -999.0, -999.00,-999.0000,-999.000,-999.000