BOTTLE,20220812CCHSIOAMB
EXPOCODE,SECT_ID,STNNBR,CASTNO,SAMPNO,BTLNBR,BTLNBR_FLAG_W,DATE,TIME,LATITUDE,LONGITUDE,DEPTH,CTDRAW,CTDPRS,CTDTMP,CTDSAL,CTDSAL_FLAG_W,SALNTY,SALNTY_FLAG_W,CTDOXY,CTDOXY_FLAG_W,THETA,OXYGEN,OXYGEN_FLAG_W,SILCAT,SILCAT_FLAG_W,NITRAT,NITRAT_FLAG_W,NITRIT,NITRIT_FLAG_W,PHSPHT,PHSPHT_FLAG_W,CFC-11,CFC-11_FLAG_W,CFC-12,CFC-12_FLAG_W,CFC113,CFC113_FLAG_W,TRITUM,TRITUM_FLAG_W,HELIUM,HELIUM_FLAG_W,DELHE3,DELHE3_FLAG_W,DELC14,DELC14_FLAG_W,DELC13,DELC13_FLAG_W,NEON,NEON_FLAG_W,TCARBN,TCARBN_FLAG_W,PCO2,PCO2_FLAG_W,PCO2_TMP,ALKALI,ALKALI_FLAG_W,PH,PH_FLAG_W,PH_TMP,C14ERR,DELHER,HELIER,NEONER,TRITER
,,,,,,,,,,,,,DBAR,ITS-90,PSS-78,,PSS-78,,UMOL/KG,,ITS-90,UMOL/KG,,UMOL/KG,,UMOL/KG,,UMOL/KG,,UMOL/KG,,PMOL/KG,,PMOL/KG,,PMOL/KG,,TU,,NMOL/KG,,PERCNT,,/MILLE,,/MILLE,,NMOL/KG,,UMOL/KG,,UATM,,DEG C,UMOL/KG,,,,DEG C,/MILLE,PERCNT,NMOL/KG,NMOL/KG,TU
     316N151_3,   A20,    64,  1,     33,     33,2,19970804,2032, 12.8895, -52.3360, 5231,  286.8,     10.5,  27.8341,  35.1205,2,  35.1224,2,    213.2,2, 27.8317,    214.8,2,     2.28,2,     0.02,2,     0.00,2,     0.01,2,    1.700,6,    1.042,6, -999.000,5,    0.639,2,   1.7175,2,    -1.59,2,   -999.0,9,  -999.00,9,   6.584,2,   1955.2,2,    259.3,2,  20,   2304.0,2,   8.1210,2,   25,  -999.0,    0.15,  0.0086,   0.033,   0.011
     316N151_3,   A20,    64,  1,     32,     32,2,19970804,2032, 12.8895, -52.3360, 5231,  678.5,     50.9,  27.3429,  36.2647,2,  36.2538,2,    212.0,2, 27.3310,    215.2,2,     1.23,2,     0.02,2,     0.00,2,     0.01,2,    1.773,2,    1.047,2, -999.000,5, -999.000,5,-999.0000,5,  -999.00,9,   -999.0,9,  -999.00,9,-999.000,9,   2005.5,2,    264.4,2,  20,   2373.6,6,   8.1240,6,   25,  -999.0, -999.00,-999.0000,-999.000,-999.000
     316N151_3,   A20,    64,  1,     31,     31,2,19970804,2032, 12.8895, -52.3360, 5231, 1167.3,    101.2,  24.3255,  36.9522,2,  36.9461,2,    200.0,2, 24.3039,    196.0,2,     0.85,2,     0.08,2,     0.04,2,     0.02,2,    1.896,2,    1.119,2, -999.000,5,    0.898,2,   1.7212,2,    -1.63,2,   -999.0,9,  -999.00,9,   6.686,2,   2068.8,2,    305.3,2,  20,   2413.1,2,   8.0740,2,   25,  -999.0,    0.15,  0.0086,   0.033,   0.012
     316N151_3,   A20,    64,  1,     30,     30,2,19970804,2032, 12.8895, -52.3360, 5231, 1658.7,    150.4,  19.1162,  36.4588,2,  36.3854,2,    135.7,2, 19.0890,    132.9,2,     3.87,2,    11.69,2,     0.02,2,     0.71,2,    1.745,2,    1.031,2, -999.000,5, -999.000,5,-999.0000,5,  -999.00,9,   -999.0,9,  -999.00,9,-999.000,9,   2156.9,2,    529.1,2,  20,   2380.2,2,   7.8730,2,   25,  -999.0, -999.00,-999.0000,-999.000,-999.000
     316N151_3,   A20,    64,  1,     29,     29,2,19970804,2032, 12.8895, -52.3360, 5231, 2159.5,    201.3,  14.0940,  35.6157,2,  35.6088,2,    104.5,2, 14.0646,    102.4,2,     8.26,2,    22.07,2,     0.01,2,     1.38,2,    1.257,2,    0.706,2, -999.000,5,    0.733,2,   1.7778,2,     1.82,2,   -999.0,9,  -999.00,9,   7.197,2,   2188.7,2,    775.5,2,  20,   2335.4,2,   7.7210,2,   25,  -999.0,    0.15,  0.0089,   0.036,   0.011
     316N151_3,   A20,    64,  1,     28,     28,2,19970804,2032, 12.8895, -52.3360, 5231, 2665.2,    252.1,  12.4934,  35.4414,2,  35.4531,2,    100.8,2, 12.4594,    103.5,2,     9.63,2,    23.94,2,     0.00,2,     1.50,2,    1.082,2,    0.585,2, -999.000,5,    0.586,2,   1.7780,2,     2.88,2,   -999.0,9,  -999.00,9,   7.233,2,   2194.0,2,    840.4,2,  20,   2327.5,2,   7.6890,2,   25,  -999.0,    0.15,  0.0089,   0.036,   0.011
     316N151_3,   A20,    64,  1,     27,     27,2,19970804,2032, 12.8895, -52.3360, 5231, 3671.7,    352.8,  10.7685,  35.2306,2,  35.2288,2,    107.1,2, 10.7251,    110.4,2,    12.27,2,    26.03,2,     0.01,2,     1.64,2,    0.779,6,    0.419,6, -999.000,5, -999.000,5,-999.0000,5,  -999.00,9,   -999.0,9,  -999.00,9,-999.000,9,   2196.1,2,    894.2,2,  20,   2319.3,2,   7.6670,2,   25,  -999.0, -999.00,-999.0000,-999.000,-999.000
     316N151_3,   A20,    64,  1,     26,     26,2,19970804,2032, 12.8895, -52.3360, 5231, 4132.2,    399.1,  10.1896,  35.1627,2,  35.1588,2,    107.5,2, 10.1422,    109.6,2,    13.44,2,    27.24,2,     0.00,2,     1.72,2,    0.639,2,    0.350,2, -999.000,5,    0.492,2,   1.7934,2,     3.99,2,   -999.0,9,  -999.00,9,   7.371,2,   2200.4,2,    934.4,2,  20,   2317.6,2,   7.6460,2,   25,  -999.0,    0.15,  0.0090,   0.037,   0.011
     316N151_3,   A20,    64,  1,     25,     25,2,19970804,2032, 12.8895, -52.3360, 5231, 5142.9,    500.3,   8.7754,  34.9748,2,  34.9727,2,    107.2,2,  8.7209,    109.9,2,    16.76,2,    30.19,2,     0.00,2,     1.93,2,    0.366,2,    0.198,2, -999.000,5,    0.296,2,   1.7963,2,     2.77,2,   -999.0,9,  -999.00,9,   7.455,2,   2209.3,2,   1030.6,2,  20,   2309.5,2,   7.6120,2,   25,  -999.0,    0.15,  0.0090,   0.037,   0.010
     316N151_3,   A20,    64,  1,     24,     24,2,19970804,2032, 12.8895, -52.3360, 5231, 6157.4,    601.9,   7.4479,  34.8170,2,  34.8062,2,    115.9,2,  7.3880,    115.5,2,    20.57,2,    32.15,2,     0.00,2,     2.09,2,    0.199,2,    0.120,2, -999.000,5, -999.000,5,-999.0000,5,  -999.00,9,   -999.0,9,  -999.00,9,-999.000,9,   2215.4,2,   1105.3,2,  20,   2306.1,2,   7.5820,2,   25,  -999.0, -999.00,-999.0000,-999.000,-999.000
     316N151_3,   A20,    64,  1,     23,     23,2,19970804,2032, 12.8895, -52.3360, 5231, 7170.7,    703.3,   6.7472,  34.7581,2,  34.7534,2,    119.1,2,  6.6805,    115.5,2,    23.11,2,    33.39,2,     0.00,2,     2.20,2,    0.090,2,    0.051,2, -999.000,5,    0.086,2,   1.8079,2,     0.96,2,   -999.0,9,  -999.00,9,   7.577,2,   2221.7,2,   1156.4,2,  20,   2305.0,2,   7.5710,2,   25,  -999.0,    0.15,  0.0090,   0.038,   0.009
     316N151_3,   A20,    64,  1,     22,     22,2,19970804,2032, 12.8895, -52.3360, 5231, 8635.9,    849.7,   5.5622,  34.6657,2,  34.6660,2,    133.5,2,  5.4884,    133.9,2,    27.11,2,    33.78,2,     0.00,2,     2.25,2, -999.000,9, -999.000,9, -999.000,5, -999.000,5,-999.0000,5,  -999.00,9,   -999.0,9,  -999.00,9,-999.000,9,   2222.1,2,   1157.6,2,  20,   2306.7,2,   7.5650,2,   25,  -999.0, -999.00,-999.0000,-999.000,-999.000
     316N151_3,   A20,    64,  1,     21,     21,2,19970804,2032, 12.8895, -52.3360, 5231,10113.4,    997.3,   5.3596,  34.7557,2,  34.7550,2,    143.3,2,  5.2734,    145.1,2,    26.64,2,    32.06,2,     0.00,2,     2.16,2,    0.017,2,    0.012,2, -999.000,5, -999.000,5,   1.8315,2,     0.58,2,   -999.0,9,  -999.00,9,   7.674,2,   2219.4,2,   -999.0,9,-999,   2309.8,2,   7.5910,2,   25,  -999.0,    0.15,  0.0092,   0.038,-999.000
     316N151_3,   A20,    64,  1,     20,     20,2,19970804,2032, 12.8895, -52.3360, 5231,11629.3,   1148.8,   5.2057,  34.8675,2,  34.8679,2,    166.8,2,  5.1063,    166.2,2,    23.44,2,    28.47,2,     0.00,2,     1.91,2, -999.000,9, -999.000,9, -999.000,5, -999.000,5,-999.0000,5,  -999.00,9,   -999.0,9,  -999.00,9,-999.000,9,   2206.0,2,   -999.0,9,-999,   2315.5,2,   7.6280,2,   25,  -999.0, -999.00,-999.0000,-999.000,-999.000
     316N151_3,   A20,    64,  1,     19,     19,2,19970804,2032, 12.8895, -52.3360, 5231,12158.0,   1201.6,   5.1954,  34.9122,2,  34.9145,2,    173.2,2,  5.0910,    171.1,2,    22.78,2,    27.57,2,     0.00,2,     1.84,2, -999.000,9, -999.000,9, -999.000,5, -999.000,5,-999.0000,5,  -999.00,9,   -999.0,9,  -999.00,9,-999.000,9,   2202.7,2,   -999.0,9,-999,   2316.0,2,   7.6470,2,   25,  -999.0, -999.00,-999.0000,-999.000,-999.000
     316N151_3,   A20,    64,  1,     18,     18,2,19970804,2032, 12.8895, -52.3360, 5231,13645.7,   1350.3,   4.9488,  34.9790,2,  34.9810,2,    206.6,2,  4.8324,    205.4,2,    18.90,2,    23.33,2,     0.00,2,     1.56,2,    0.149,2,    0.086,2, -999.000,5, -999.000,5,-999.0000,5,  -999.00,9,   -999.0,9,  -999.00,9,-999.000,9,   2184.4,2,   -999.0,9,-999,   2318.3,2,   7.6950,2,   25,  -999.0, -999.00,-999.0000,-999.000,-999.000
     316N151_3,   A20,    64,  1,     17,     17,2,19970804,2032, 12.8895, -52.3360, 5231,15156.6,   1501.3,   4.5613,  35.0028,2,  35.0043,2,    231.5,2,  4.4345,    230.0,2,    16.49,2,    20.77,2,     0.00,2,     1.39,2,    0.219,2,    0.119,2, -999.000,5, -999.000,5,-999.0000,5,  -999.00,9,   -999.0,9,  -999.00,9,-999.000,9,   2170.6,2,   -999.0,9,-999,   2315.7,2,   7.7260,2,   25,  -999.0, -999.00,-999.0000,-999.000,-999.000
     316N151_3,   A20,    64,  1,     16,     16,2,19970804,2032, 12.8895, -52.3360, 5231,16664.5,   1652.1,   4.2072,  34.9986,2,  34.9992,2,    243.4,2,  4.0703,    243.1,2,    16.21,2,    19.87,2,     0.00,2,     1.33,2,    0.167,2,    0.090,2, -999.000,5, -999.000,5,-999.0000,5,  -999.00,9,   -999.0,9,  -999.00,9,-999.000,9,   2166.1,2,   -999.0,9,-999,   2317.6,2,   7.7320,2,   25,  -999.0, -999.00,-999.0000,-999.000,-999.000
     316N151_3,   A20,    64,  1,     15,     15,2,19970804,2032, 12.8895, -52.3360, 5231,18143.7,   1799.9,   3.9281,  34.9923,2,  34.9941,2,    251.9,2,  3.7808,    251.2,2,    16.23,2,    19.06,2,     0.00,2,     1.27,2,    0.169,2,    0.098,2, -999.000,5, -999.000,5,-999.0000,5,  -999.00,9,   -999.0,9,  -999.00,9,-999.000,9,   2162.9,2,   -999.0,9,-999,   2314.4,2,   7.7460,2,   25,  -999.0, -999.00,-999.0000,-999.000,-999.000
     316N151_3,   A20,    64,  1,     14,     14,2,19970804,2032, 12.8895, -52.3360, 5231,20120.1,   1997.5,   3.5940,  34.9792,2,  34.9804,2,    254.2,2,  3.4327,    254.0,2,    19.06,2,    19.23,2,     0.00,2,     1.29,2, -999.000,9, -999.000,9, -999.000,5, -999.000,5,-999.0000,5,  -999.00,9,   -999.0,9,  -999.00,9,-999.000,9,   2164.4,2,   -999.0,9,-999,   2318.8,2,   7.7440,2,   25,  -999.0, -999.00,-999.0000,-999.000,-999.000
     316N151_3,   A20,    64,  1,     13,     13,2,19970804,2032, 12.8895, -52.3360, 5231,22631.6,   2248.5,   3.2950,  34.9658,2,  34.9665,2,    258.5,2,  3.1144,    258.8,2,    20.53,2,    18.96,2,     0.00,2,     1.27,2,    0.080,2,    0.048,2, -999.000,5, -999.000,5,-999.0000,5,  -999.00,9,   -999.0,9,  -999.00,9,-999.000,9,   2164.2,2,   -999.0,9,-999,   2319.4,2,   7.7490,2,   25,  -999.0, -999.00,-999.0000,-999.000,-999.000
     316N151_3,   A20,    64,  1,     12,     12,2,19970804,2032, 12.8895, -52.3360, 5231,25636.5,   2548.9,   3.0324,  34.9483,2,  34.9506,2,    256.3,2,  2.8270,    254.5,2,    26.09,2,    19.75,2,     0.00,2,     1.33,2,    0.036,2,    0.024,2, -999.000,5, -999.000,5,-999.0000,5,  -999.00,9,   -999.0,9,  -999.00,9,-999.000,9,   2170.8,2,   -999.0,9,-999,   2323.1,2,   7.7440,2,   25,  -999.0, -999.00,-999.0000,-999.000,-999.000
     316N151_3,   A20,    64,  1,     11,     11,2,19970804,2032, 12.8895, -52.3360, 5231,28630.2,   2848.0,   2.8311,  34.9346,2,  34.9374,2,    252.7,2,  2.5997,    253.5,2,    30.57,2,    20.14,2,     0.00,2,     1.37,2,    0.032,2,    0.022,2, -999.000,5, -999.000,5,-999.0000,5,  -999.00,9,   -999.0,9,  -999.00,9,-999.000,9,   2176.3,2,   -999.0,9,-999,   2329.9,2,   7.7460,2,   25,  -999.0, -999.00,-999.0000,-999.000,-999.000
     316N151_3,   A20,    64,  1,     10,     10,2,19970804,2032, 12.8895, -52.3360, 5231,31646.5,   3149.6,   2.6928,  34.9243,2,  34.9242,2,    252.7,2,  2.4331,    251.1,2,    34.97,2,    20.81,2,     0.00,2,     1.41,2, -999.000,9, -999.000,9, -999.000,5, -999.000,5,-999.0000,5,  -999.00,9,   -999.0,9,  -999.00,9,-999.000,9,   2181.3,2,   -999.0,9,-999,   2333.7,2,   7.7390,2,   25,  -999.0, -999.00,-999.0000,-999.000,-999.000
     316N151_3,   A20,    64,  1,      9,      9,2,19970804,2032, 12.8895, -52.3360, 5231,34138.2,   3398.6,   2.5638,  34.9138,2,  34.9149,2,    251.3,2,  2.2808,    251.2,2,    37.50,2,    20.93,2,     0.00,2,     1.42,2, -999.000,9, -999.000,9, -999.000,5, -999.000,5,-999.0000,5,  -999.00,9,   -999.0,9,  -999.00,9,-999.000,9,   2182.4,2,   -999.0,9,-999,   2335.4,2,   7.7410,2,   25,  -999.0, -999.00,-999.0000,-999.000,-999.000
     316N151_3,   A20,    64,  1,      8,      8,2,19970804,2032, 12.8895, -52.3360, 5231,36142.4,   3599.0,   2.4768,  34.9087,2,  34.9096,2,    257.8,2,  2.1742,    257.2,2,    34.60,2,    20.08,2,     0.00,2,     1.37,2,    0.071,2,    0.042,2, -999.000,5, -999.000,5,-999.0000,5,  -999.00,9,   -999.0,9,  -999.00,9,-999.000,9,   2177.2,2,   -999.0,9,-999,   2333.4,2,   7.7390,2,   25,  -999.0, -999.00,-999.0000,-999.000,-999.000
     316N151_3,   A20,    64,  1,      7,      7,2,19970804,2032, 12.8895, -52.3360, 5231,38700.4,   3854.6,   2.3636,  34.9010,2,  34.9006,2,    261.8,2,  2.0357,    261.2,2,    33.94,2,    19.71,2,     0.00,2,     1.35,2,    0.098,2,    0.061,2, -999.000,5, -999.000,5,-999.0000,5,  -999.00,9,   -999.0,9,  -999.00,9,-999.000,9,   2176.3,2,   -999.0,9,-999,   2329.4,2,   7.7440,2,   25,  -999.0, -999.00,-999.0000,-999.000,-999.000
     316N151_3,   A20,    64,  1,      6,      6,2,19970804,2032, 12.8895, -52.3360, 5231,41088.8,   4093.4,   2.2973,  34.8964,2,  34.8957,2,    262.3,2,  1.9441,    263.3,2,    34.05,2,    19.57,2,     0.00,2,     1.34,2,    0.119,2,    0.066,2, -999.000,5, -999.000,5,-999.0000,5,  -999.00,9,   -999.0,9,  -999.00,9,-999.000,9,   2175.5,2,   -999.0,9,-999,   2328.2,2,   7.7410,2,   25,  -999.0, -999.00,-999.0000,-999.000,-999.000
     316N151_3,   A20,    64,  1,      5,      5,2,19970804,2032, 12.8895, -52.3360, 5231,43660.2,   4350.3,   2.2511,  34.8901,2,  34.8896,2,    262.3,2,  1.8693,    261.7,2,    36.30,2,    19.83,2,     0.00,2,     1.36,2,    0.121,2,    0.069,2, -999.000,5, -999.000,5,-999.0000,5,  -999.00,9,   -999.0,9,  -999.00,9,-999.000,9,   2179.9,2,   -999.0,9,-999,   2331.6,2,   7.7430,2,   25,  -999.0, -999.00,-999.0000,-999.000,-999.000
     316N151_3,   A20,    64,  1,      4,      4,2,19970804,2032, 12.8895, -52.3360, 5231,46154.2,   4599.6,   2.1857,  34.8784,2,  34.8802,2,    259.1,2,  1.7762,    258.4,2,    41.28,2,    20.57,2,     0.00,2,     1.41,2,    0.112,2,    0.069,2, -999.000,5, -999.000,5,-999.0000,5,  -999.00,9,   -999.0,9,  -999.00,9,-999.000,9,   2186.5,2,   -999.0,9,-999,   2335.2,2,   7.7360,2,   25,  -999.0, -999.00,-999.0000,-999.000,-999.000
     316N151_3,   A20,    64,  1,      3,      3,2,19970804,2032, 12.8895, -52.3360, 5231,48654.6,   4849.7,   1.9660,  34.8492,2,  34.8489,2,    251.6,2,  1.5334,    249.6,2,    55.60,2,    22.74,2,     0.00,2,     1.56,2, -999.000,9, -999.000,9, -999.000,5, -999.000,5,-999.0000,5,  -999.00,9,   -999.0,9,  -999.00,9,-999.000,9,   2201.6,2,   -999.0,9,-999,   2345.5,2,   7.7120,2,   25,  -999.0, -999.00,-999.0000,-999.000,-999.000
     316N151_3,   A20,    64,  1,      2,      2,2,19970804,2032, 12.8895, -52.3360, 5231,51153.8,   5099.7,   1.7230,  34.8175,2,  34.8163,2,    244.6,2,  1.2679,    242.5,2,    68.95,2,    24.76,2,     0.00,2,     1.71,2,    0.052,2,    0.038,2, -999.000,5, -999.000,5,-999.0000,5,  -999.00,9,   -999.0,9,  -999.00,9,-999.000,9,   2214.6,2,   -999.0,9,-999,   2351.0,2,   7.7010,2,   25,  -999.0, -999.00,-999.0000,-999.000,-999.000
     316N151_3,   A20,    64,  1,      1,      1,2,19970804,2032, 12.8895, -52.3360, 5231,52916.0,   5275.9,   1.6989,  34.8121,2,  34.8117,2,    240.8,2,  1.2227,    241.0,2,    71.40,6,    25.14,6,     0.00,6,     1.73,6,    0.049,2,    0.034,2, -999.000,5, -999.000,5,-999.0000,5,  -999.00,9,   -999.0,9,  -999.00,9,-999.000,9,   2220.7,2,   -999.0,9,-999,   2355.1,2,   7.6920,2,   25,  -999.0, -999.00,-999.0000,-999.000,-999.000