BOTTLE,20220812CCHSIOAMB
EXPOCODE,SECT_ID,STNNBR,CASTNO,SAMPNO,BTLNBR,BTLNBR_FLAG_W,DATE,TIME,LATITUDE,LONGITUDE,DEPTH,CTDRAW,CTDPRS,CTDTMP,CTDSAL,CTDSAL_FLAG_W,SALNTY,SALNTY_FLAG_W,CTDOXY,CTDOXY_FLAG_W,THETA,OXYGEN,OXYGEN_FLAG_W,SILCAT,SILCAT_FLAG_W,NITRAT,NITRAT_FLAG_W,NITRIT,NITRIT_FLAG_W,PHSPHT,PHSPHT_FLAG_W,CFC-11,CFC-11_FLAG_W,CFC-12,CFC-12_FLAG_W,CFC113,CFC113_FLAG_W,TRITUM,TRITUM_FLAG_W,HELIUM,HELIUM_FLAG_W,DELHE3,DELHE3_FLAG_W,DELC14,DELC14_FLAG_W,DELC13,DELC13_FLAG_W,NEON,NEON_FLAG_W,TCARBN,TCARBN_FLAG_W,PCO2,PCO2_FLAG_W,PCO2_TMP,ALKALI,ALKALI_FLAG_W,PH,PH_FLAG_W,PH_TMP,C14ERR,DELHER,HELIER,NEONER,TRITER
,,,,,,,,,,,,,DBAR,ITS-90,PSS-78,,PSS-78,,UMOL/KG,,ITS-90,UMOL/KG,,UMOL/KG,,UMOL/KG,,UMOL/KG,,UMOL/KG,,PMOL/KG,,PMOL/KG,,PMOL/KG,,TU,,NMOL/KG,,PERCNT,,/MILLE,,/MILLE,,NMOL/KG,,UMOL/KG,,UATM,,DEG C,UMOL/KG,,,,DEG C,/MILLE,PERCNT,NMOL/KG,NMOL/KG,TU
     316N151_3,   A20,    73,  1,     33,     33,2,19970807,0207,  8.9737, -52.5660, 4686,  281.1,     10.0,  28.4783,  34.9135,2,  34.9084,2,    210.2,2, 28.4759,    212.3,2,     4.36,2,     0.00,2,     0.00,2,     0.08,2, -999.000,9, -999.000,9, -999.000,5, -999.000,5,-999.0000,5,  -999.00,9,   -999.0,9,  -999.00,9,-999.000,9,   1957.3,2,   -999.0,9,-999,   2294.2,2,   8.1050,2,   25,  -999.0, -999.00,-999.0000,-999.000,-999.000
     316N151_3,   A20,    73,  1,     32,     32,2,19970807,0207,  8.9737, -52.5660, 4686,  683.7,     51.8,  26.8992,  36.2039,2,  36.2051,2,    218.0,2, 26.8873,    205.9,2,     1.18,2,     0.00,2,     0.00,2,     0.04,2,    1.739,2,    1.061,2, -999.000,5, -999.000,5,-999.0000,5,  -999.00,9,   -999.0,9,  -999.00,9,-999.000,9,   -999.0,9,   -999.0,9,-999,   -999.0,9,-999.0000,9, -999,  -999.0, -999.00,-999.0000,-999.000,-999.000
     316N151_3,   A20,    73,  1,     31,     31,2,19970807,0207,  8.9737, -52.5660, 4686, 1169.8,    101.9,  21.5954,  36.5893,2,  36.5813,2,    153.7,2, 21.5753,    147.6,2,     2.17,2,     6.61,2,     0.05,2,     0.41,2,    1.860,6,    1.058,6, -999.000,5, -999.000,5,-999.0000,5,  -999.00,9,   -999.0,9,  -999.00,9,-999.000,9,   -999.0,9,   -999.0,9,-999,   -999.0,9,-999.0000,9, -999,  -999.0, -999.00,-999.0000,-999.000,-999.000
     316N151_3,   A20,    73,  1,     30,     30,2,19970807,0207,  8.9737, -52.5660, 4686, 1686.8,    154.1,  15.7279,  35.9695,2,  35.9700,2,    119.3,2, 15.7037,    112.9,2,     5.92,2,    17.96,2,     0.01,2,     1.08,2,    1.512,2,    0.837,2, -999.000,5, -999.000,5,-999.0000,5,  -999.00,9,   -999.0,9,  -999.00,9,-999.000,9,   -999.0,9,   -999.0,9,-999,   -999.0,9,-999.0000,9, -999,  -999.0, -999.00,-999.0000,-999.000,-999.000
     316N151_3,   A20,    73,  1,     29,     29,2,19970807,0207,  8.9737, -52.5660, 4686, 2152.4,    201.0,  12.0455,  35.3534,2,  35.3532,2,    110.9,2, 12.0191,    110.0,2,    10.15,2,    23.91,2,     0.00,2,     1.51,2,    1.065,2,    0.584,2, -999.000,5, -999.000,5,-999.0000,5,  -999.00,9,   -999.0,9,  -999.00,9,-999.000,9,   -999.0,9,   -999.0,9,-999,   -999.0,9,-999.0000,9, -999,  -999.0, -999.00,-999.0000,-999.000,-999.000
     316N151_3,   A20,    73,  1,     28,     28,2,19970807,0207,  8.9737, -52.5660, 4686, 2587.7,    244.7,  10.8070,  35.1611,2,  35.1597,2,    111.2,2, 10.7770,    112.8,2,    11.81,2,    25.80,2,     0.00,2,     1.65,2,    0.901,2,    0.482,2, -999.000,5, -999.000,5,-999.0000,5,  -999.00,9,   -999.0,9,  -999.00,9,-999.000,9,   -999.0,9,   -999.0,9,-999,   -999.0,9,-999.0000,9, -999,  -999.0, -999.00,-999.0000,-999.000,-999.000
     316N151_3,   A20,    73,  1,     27,     27,2,19970807,0207,  8.9737, -52.5660, 4686, 3166.9,    302.7,   9.5978,  34.9658,2,  34.9652,2,    117.1,2,  9.5634,    117.5,2,    13.76,2,    27.49,2,     0.00,2,     1.78,2,    0.754,2,    0.416,2, -999.000,5, -999.000,5,-999.0000,5,  -999.00,9,   -999.0,9,  -999.00,9,-999.000,9,   -999.0,9,   -999.0,9,-999,   -999.0,9,-999.0000,9, -999,  -999.0, -999.00,-999.0000,-999.000,-999.000
     316N151_3,   A20,    73,  1,     26,     26,2,19970807,0207,  8.9737, -52.5660, 4686, 4099.0,    396.1,   8.5769,  34.8355,2,  34.8349,2,    115.3,2,  8.5348,    116.7,2,    16.18,2,    29.70,2,     0.00,2,     1.92,2,    0.547,2,    0.298,2, -999.000,5, -999.000,5,-999.0000,5,  -999.00,9,   -999.0,9,  -999.00,9,-999.000,9,   -999.0,9,   -999.0,9,-999,   -999.0,9,-999.0000,9, -999,  -999.0, -999.00,-999.0000,-999.000,-999.000
     316N151_3,   A20,    73,  1,     25,     25,2,19970807,0207,  8.9737, -52.5660, 4686, 5151.4,    501.4,   7.4393,  34.7332,2,  34.7326,2,    117.2,2,  7.3898,    117.3,2,    19.75,2,    32.09,2,     0.00,2,     2.09,2,    0.326,6,    0.167,6, -999.000,5, -999.000,5,-999.0000,5,  -999.00,9,   -999.0,9,  -999.00,9,-999.000,9,   -999.0,9,   -999.0,9,-999,   -999.0,9,-999.0000,9, -999,  -999.0, -999.00,-999.0000,-999.000,-999.000
     316N151_3,   A20,    73,  1,     24,     24,2,19970807,0207,  8.9737, -52.5660, 4686, 6136.3,    599.9,   6.6829,  34.6697,2,  34.6690,2,    118.1,2,  6.6268,    122.5,2,    22.45,2,    33.14,2,     0.00,2,     2.18,2,    0.195,2,    0.103,2, -999.000,5, -999.000,5,-999.0000,5,  -999.00,9,   -999.0,9,  -999.00,9,-999.000,9,   -999.0,9,   -999.0,9,-999,   -999.0,9,-999.0000,9, -999,  -999.0, -999.00,-999.0000,-999.000,-999.000
     316N151_3,   A20,    73,  1,     23,     23,2,19970807,0207,  8.9737, -52.5660, 4686, 7138.2,    700.2,   6.1213,  34.6712,2,  34.6700,2,    121.0,2,  6.0583,    122.7,2,    25.06,2,    33.83,2,     0.00,2,     2.24,2,    0.076,2,    0.045,2, -999.000,5, -999.000,5,-999.0000,5,  -999.00,9,   -999.0,9,  -999.00,9,-999.000,9,   -999.0,9,   -999.0,9,-999,   -999.0,9,-999.0000,9, -999,  -999.0, -999.00,-999.0000,-999.000,-999.000
     316N151_3,   A20,    73,  1,     22,     22,2,19970807,0207,  8.9737, -52.5660, 4686, 8132.0,    799.6,   5.5989,  34.6639,2,  34.6636,2,    131.6,2,  5.5296,    129.6,2,    27.01,2,    33.83,2,     0.00,2,     2.26,2,    0.034,2,    0.026,2, -999.000,5, -999.000,5,-999.0000,5,  -999.00,9,   -999.0,9,  -999.00,9,-999.000,9,   -999.0,9,   -999.0,9,-999,   -999.0,9,-999.0000,9, -999,  -999.0, -999.00,-999.0000,-999.000,-999.000
     316N151_3,   A20,    73,  1,     21,     21,2,19970807,0207,  8.9737, -52.5660, 4686, 9058.1,    892.0,   5.1057,  34.6592,2,  34.6579,2,    141.2,2,  5.0311,    145.4,2,    28.58,2,    32.90,2,     0.00,2,     2.22,2, -999.000,9, -999.000,9, -999.000,5, -999.000,5,-999.0000,5,  -999.00,9,   -999.0,9,  -999.00,9,-999.000,9,   -999.0,9,   -999.0,9,-999,   -999.0,9,-999.0000,9, -999,  -999.0, -999.00,-999.0000,-999.000,-999.000
     316N151_3,   A20,    73,  1,     20,     20,2,19970807,0207,  8.9737, -52.5660, 4686,10114.6,    997.4,   5.0838,  34.7416,2,  34.7422,2,    151.7,2,  4.9997,    151.0,2,    27.19,2,    31.24,2,     0.00,2,     2.10,2,    0.023,2,    0.014,2, -999.000,5, -999.000,5,-999.0000,5,  -999.00,9,   -999.0,9,  -999.00,9,-999.000,9,   -999.0,9,   -999.0,9,-999,   -999.0,9,-999.0000,9, -999,  -999.0, -999.00,-999.0000,-999.000,-999.000
     316N151_3,   A20,    73,  1,     19,     19,2,19970807,0207,  8.9737, -52.5660, 4686,11122.3,   1098.2,   5.1113,  34.8335,2,  34.8355,2,    170.5,2,  5.0175,    167.6,2,    24.57,2,    28.54,2,     0.00,2,     1.92,2, -999.000,9, -999.000,9, -999.000,5, -999.000,5,-999.0000,5,  -999.00,9,   -999.0,9,  -999.00,9,-999.000,9,   -999.0,9,   -999.0,9,-999,   -999.0,9,-999.0000,9, -999,  -999.0, -999.00,-999.0000,-999.000,-999.000
     316N151_3,   A20,    73,  1,     18,     18,2,19970807,0207,  8.9737, -52.5660, 4686,12147.3,   1200.6,   5.1350,  34.9313,2,  34.9324,2,    190.2,2,  5.0312,    188.6,2,    21.00,2,    25.27,2,     0.00,2,     1.68,2,    0.147,2,    0.082,2, -999.000,5, -999.000,5,-999.0000,5,  -999.00,9,   -999.0,9,  -999.00,9,-999.000,9,   -999.0,9,   -999.0,9,-999,   -999.0,9,-999.0000,9, -999,  -999.0, -999.00,-999.0000,-999.000,-999.000
     316N151_3,   A20,    73,  1,     17,     17,2,19970807,0207,  8.9737, -52.5660, 4686,13127.0,   1298.5,   4.9878,  34.9867,2,  34.9859,2,    211.1,2,  4.8760,    210.9,2,    18.00,2,    22.53,2,     0.00,2,     1.50,2, -999.000,9, -999.000,9, -999.000,5, -999.000,5,-999.0000,5,  -999.00,9,   -999.0,9,  -999.00,9,-999.000,9,   -999.0,9,   -999.0,9,-999,   -999.0,9,-999.0000,9, -999,  -999.0, -999.00,-999.0000,-999.000,-999.000
     316N151_3,   A20,    73,  1,     16,     16,2,19970807,0207,  8.9737, -52.5660, 4686,15136.6,   1499.4,   4.4933,  35.0072,2,  35.0076,2,    238.1,2,  4.3676,    238.4,2,    15.20,2,    19.80,2,     0.00,2,     1.31,2,    0.345,2,    0.183,2, -999.000,5, -999.000,5,-999.0000,5,  -999.00,9,   -999.0,9,  -999.00,9,-999.000,9,   -999.0,9,   -999.0,9,-999,   -999.0,9,-999.0000,9, -999,  -999.0, -999.00,-999.0000,-999.000,-999.000
     316N151_3,   A20,    73,  1,     15,     15,2,19970807,0207,  8.9737, -52.5660, 4686,16633.4,   1648.9,   4.2192,  35.0018,2,  35.0005,2,    248.1,2,  4.0824,    249.0,2,    14.67,2,    18.99,2,     0.00,2,     1.26,2,    0.371,2,    0.201,2, -999.000,5, -999.000,5,-999.0000,5,  -999.00,9,   -999.0,9,  -999.00,9,-999.000,9,   -999.0,9,   -999.0,9,-999,   -999.0,9,-999.0000,9, -999,  -999.0, -999.00,-999.0000,-999.000,-999.000
     316N151_3,   A20,    73,  1,     14,     14,2,19970807,0207,  8.9737, -52.5660, 4686,18157.7,   1801.3,   3.8996,  34.9898,2,  34.9902,2,    257.2,2,  3.7526,    257.0,2,    15.01,2,    18.45,2,     0.00,2,     1.22,2,    0.351,2,    0.181,2, -999.000,5, -999.000,5,-999.0000,5,  -999.00,9,   -999.0,9,  -999.00,9,-999.000,9,   -999.0,9,   -999.0,9,-999,   -999.0,9,-999.0000,9, -999,  -999.0, -999.00,-999.0000,-999.000,-999.000
     316N151_3,   A20,    73,  1,     13,     13,2,19970807,0207,  8.9737, -52.5660, 4686,19712.2,   1956.7,   3.6615,  34.9818,2,  34.9819,2,    257.3,2,  3.5032,    258.2,2,    17.14,2,    18.72,2,     0.00,2,     1.24,2, -999.000,9, -999.000,9, -999.000,5, -999.000,5,-999.0000,5,  -999.00,9,   -999.0,9,  -999.00,9,-999.000,9,   -999.0,9,   -999.0,9,-999,   -999.0,9,-999.0000,9, -999,  -999.0, -999.00,-999.0000,-999.000,-999.000
     316N151_3,   A20,    73,  1,     12,     12,2,19970807,0207,  8.9737, -52.5660, 4686,21679.0,   2153.4,   3.3873,  34.9689,2,  34.9700,2,    257.7,2,  3.2143,    258.8,2,    19.09,2,    18.68,2,     0.00,2,     1.25,2,    0.127,2,    0.070,2, -999.000,5, -999.000,5,-999.0000,5,  -999.00,9,   -999.0,9,  -999.00,9,-999.000,9,   -999.0,9,   -999.0,9,-999,   -999.0,9,-999.0000,9, -999,  -999.0, -999.00,-999.0000,-999.000,-999.000
     316N151_3,   A20,    73,  1,     11,     11,2,19970807,0207,  8.9737, -52.5660, 4686,23610.6,   2346.3,   3.1846,  34.9583,2,  34.9585,2,    258.5,2,  2.9964,    259.5,3,    21.03,2,    18.80,2,     0.00,2,     1.26,2, -999.000,9, -999.000,9, -999.000,5, -999.000,5,-999.0000,5,  -999.00,9,   -999.0,9,  -999.00,9,-999.000,9,   -999.0,9,   -999.0,9,-999,   -999.0,9,-999.0000,9, -999,  -999.0, -999.00,-999.0000,-999.000,-999.000
     316N151_3,   A20,    73,  1,     10,     10,2,19970807,0207,  8.9737, -52.5660, 4686,25609.1,   2546.1,   3.0200,  34.9480,2,  34.9475,2,    258.6,2,  2.8151,    259.0,2,    23.45,2,    19.03,2,     0.00,2,     1.28,2,    0.097,2,    0.052,2, -999.000,5, -999.000,5,-999.0000,5,  -999.00,9,   -999.0,9,  -999.00,9,-999.000,9,   -999.0,9,   -999.0,9,-999,   -999.0,9,-999.0000,9, -999,  -999.0, -999.00,-999.0000,-999.000,-999.000
     316N151_3,   A20,    73,  1,      9,      9,2,19970807,0207,  8.9737, -52.5660, 4686,27660.7,   2751.3,   2.8541,  34.9378,2,  34.9385,2,    258.4,2,  2.6320,    259.3,2,    25.49,2,    19.14,2,     0.00,2,     1.28,2, -999.000,9, -999.000,9, -999.000,5, -999.000,5,-999.0000,5,  -999.00,9,   -999.0,9,  -999.00,9,-999.000,9,   -999.0,9,   -999.0,9,-999,   -999.0,9,-999.0000,9, -999,  -999.0, -999.00,-999.0000,-999.000,-999.000
     316N151_3,   A20,    73,  1,      8,      8,2,19970807,0207,  8.9737, -52.5660, 4686,30151.6,   3000.1,   2.6957,  34.9267,2,  34.9267,2,    256.0,2,  2.4515,    257.2,2,    29.81,2,    19.72,2,     0.00,2,     1.32,2,    0.091,2,    0.046,2, -999.000,5, -999.000,5,-999.0000,5,  -999.00,9,   -999.0,9,  -999.00,9,-999.000,9,   -999.0,9,   -999.0,9,-999,   -999.0,9,-999.0000,9, -999,  -999.0, -999.00,-999.0000,-999.000,-999.000
     316N151_3,   A20,    73,  1,      7,      7,2,19970807,0207,  8.9737, -52.5660, 4686,32650.4,   3250.0,   2.5823,  34.9191,2,  34.9187,2,    261.0,2,  2.3146,    261.1,3,    29.10,2,    19.25,2,     0.00,2,     1.30,2, -999.000,9, -999.000,9, -999.000,5, -999.000,5,-999.0000,5,  -999.00,9,   -999.0,9,  -999.00,9,-999.000,9,   -999.0,9,   -999.0,9,-999,   -999.0,9,-999.0000,9, -999,  -999.0, -999.00,-999.0000,-999.000,-999.000
     316N151_3,   A20,    73,  1,      6,      6,2,19970807,0207,  8.9737, -52.5660, 4686,35154.5,   3500.3,   2.4447,  34.9096,2,  34.9089,2,    263.3,2,  2.1537,    264.0,2,    29.91,2,    19.10,2,     0.00,2,     1.29,2,    0.172,2,    0.090,2, -999.000,5, -999.000,5,-999.0000,5,  -999.00,9,   -999.0,9,  -999.00,9,-999.000,9,   -999.0,9,   -999.0,9,-999,   -999.0,9,-999.0000,9, -999,  -999.0, -999.00,-999.0000,-999.000,-999.000
     316N151_3,   A20,    73,  1,      5,      5,2,19970807,0207,  8.9737, -52.5660, 4686,37672.8,   3751.9,   2.3566,  34.9032,2,  34.9021,2,    264.4,2,  2.0403,    265.3,2,    30.43,2,    19.02,2,     0.00,2,     1.29,2,    0.185,2,    0.099,2, -999.000,5, -999.000,5,-999.0000,5,  -999.00,9,   -999.0,9,  -999.00,9,-999.000,9,   -999.0,9,   -999.0,9,-999,   -999.0,9,-999.0000,9, -999,  -999.0, -999.00,-999.0000,-999.000,-999.000
     316N151_3,   A20,    73,  1,      4,      4,2,19970807,0207,  8.9737, -52.5660, 4686,40162.9,   4001.0,   2.2985,  34.8983,2,  34.8985,2,    265.6,2,  1.9558,    265.2,2,    31.04,2,    18.95,2,     0.00,2,     1.29,2,    0.221,2,    0.118,2, -999.000,5, -999.000,5,-999.0000,5,  -999.00,9,   -999.0,9,  -999.00,9,-999.000,9,   -999.0,9,   -999.0,9,-999,   -999.0,9,-999.0000,9, -999,  -999.0, -999.00,-999.0000,-999.000,-999.000
     316N151_3,   A20,    73,  1,      3,      3,2,19970807,0207,  8.9737, -52.5660, 4686,42659.2,   4250.5,   2.2554,  34.8914,2,  34.8908,2,    264.1,2,  1.8851,    263.1,2,    34.51,2,    19.45,2,     0.00,2,     1.33,2,    0.162,2,    0.088,2, -999.000,5, -999.000,5,-999.0000,5,  -999.00,9,   -999.0,9,  -999.00,9,-999.000,9,   -999.0,9,   -999.0,9,-999,   -999.0,9,-999.0000,9, -999,  -999.0, -999.00,-999.0000,-999.000,-999.000
     316N151_3,   A20,    73,  1,      2,      2,2,19970807,0207,  8.9737, -52.5660, 4686,45144.5,   4499.0,   2.1592,  34.8773,2,  34.8765,2,    259.5,2,  1.7627,    257.9,2,    42.06,2,    20.60,2,     0.00,2,     1.41,2,    0.108,2,    0.065,2, -999.000,5, -999.000,5,-999.0000,5,  -999.00,9,   -999.0,9,  -999.00,9,-999.000,9,   -999.0,9,   -999.0,9,-999,   -999.0,9,-999.0000,9, -999,  -999.0, -999.00,-999.0000,-999.000,-999.000
     316N151_3,   A20,    73,  1,      1,      1,2,19970807,0207,  8.9737, -52.5660, 4686,47384.3,   4722.6,   2.0256,  34.8580,2,  34.8579,2,    251.0,2,  1.6064,    264.0,4,    51.98,6,    22.01,6,     0.00,6,     1.50,6,    0.077,2,    0.046,2, -999.000,5, -999.000,5,-999.0000,5,  -999.00,9,   -999.0,9,  -999.00,9,-999.000,9,   -999.0,9,   -999.0,9,-999,   -999.0,9,-999.0000,9, -999,  -999.0, -999.00,-999.0000,-999.000,-999.000