BOTTLE,20220812CCHSIOAMB
EXPOCODE,SECT_ID,STNNBR,CASTNO,SAMPNO,BTLNBR,BTLNBR_FLAG_W,DATE,TIME,LATITUDE,LONGITUDE,DEPTH,CTDRAW,CTDPRS,CTDTMP,CTDSAL,CTDSAL_FLAG_W,SALNTY,SALNTY_FLAG_W,CTDOXY,CTDOXY_FLAG_W,THETA,OXYGEN,OXYGEN_FLAG_W,SILCAT,SILCAT_FLAG_W,NITRAT,NITRAT_FLAG_W,NITRIT,NITRIT_FLAG_W,PHSPHT,PHSPHT_FLAG_W,CFC-11,CFC-11_FLAG_W,CFC-12,CFC-12_FLAG_W,CFC113,CFC113_FLAG_W,TRITUM,TRITUM_FLAG_W,HELIUM,HELIUM_FLAG_W,DELHE3,DELHE3_FLAG_W,DELC14,DELC14_FLAG_W,DELC13,DELC13_FLAG_W,NEON,NEON_FLAG_W,TCARBN,TCARBN_FLAG_W,PCO2,PCO2_FLAG_W,PCO2_TMP,ALKALI,ALKALI_FLAG_W,PH,PH_FLAG_W,PH_TMP,C14ERR,DELHER,HELIER,NEONER,TRITER
,,,,,,,,,,,,,DBAR,ITS-90,PSS-78,,PSS-78,,UMOL/KG,,ITS-90,UMOL/KG,,UMOL/KG,,UMOL/KG,,UMOL/KG,,UMOL/KG,,PMOL/KG,,PMOL/KG,,PMOL/KG,,TU,,NMOL/KG,,PERCNT,,/MILLE,,/MILLE,,NMOL/KG,,UMOL/KG,,UATM,,DEG C,UMOL/KG,,,,DEG C,/MILLE,PERCNT,NMOL/KG,NMOL/KG,TU
     316N151_3,   A20,    95,  1,     20,     20,2,19970809,0205,  6.9690, -53.5540,   76,  503.2,      1.5,  27.9525,  33.6386,2,  33.6432,2,     73.3,4, 27.9521,    221.1,2,     4.53,3,     0.00,2,     0.00,2,     0.05,2, -999.000,9, -999.000,9, -999.000,5, -999.000,5,-999.0000,5,  -999.00,9,   -999.0,9,  -999.00,9,-999.000,9,   1880.8,2,   -999.0,9,-999,   -999.0,9,-999.0000,9, -999,  -999.0, -999.00,-999.0000,-999.000,-999.000
     316N151_3,   A20,    95,  1,     19,     19,2,19970809,0205,  6.9690, -53.5540,   76,  503.9,      1.6,  27.9542,  33.6395,3,-999.0000,9,     73.7,3, 27.9539,   -999.0,9,  -999.00,9,  -999.00,9,  -999.00,9,  -999.00,9, -999.000,9, -999.000,9, -999.000,5, -999.000,5,-999.0000,5,  -999.00,9,   -999.0,9,  -999.00,9,-999.000,9,   -999.0,9,   -999.0,9,-999,   2225.4,2,   8.1500,2,   25,  -999.0, -999.00,-999.0000,-999.000,-999.000
     316N151_3,   A20,    95,  1,     18,     18,2,19970809,0205,  6.9690, -53.5540,   76,  587.6,     10.5,  27.7239,  34.2646,2,  34.2507,2,     66.0,4, 27.7215,    215.8,2,     3.95,3,     0.00,2,     0.00,2,     0.08,2, -999.000,9, -999.000,9, -999.000,5, -999.000,5,-999.0000,5,  -999.00,9,   -999.0,9,  -999.00,9,-999.000,9,   1925.9,2,   -999.0,9,-999,   -999.0,9,-999.0000,9, -999,  -999.0, -999.00,-999.0000,-999.000,-999.000
     316N151_3,   A20,    95,  1,     17,     17,2,19970809,0205,  6.9690, -53.5540,   76,  586.8,     10.6,  27.7496,  34.2655,3,-999.0000,9,     74.2,3, 27.7472,   -999.0,9,  -999.00,9,  -999.00,9,  -999.00,9,  -999.00,9, -999.000,9, -999.000,9, -999.000,5, -999.000,5,-999.0000,5,  -999.00,9,   -999.0,9,  -999.00,9,-999.000,9,   -999.0,9,   -999.0,9,-999,   2261.3,2,   8.1100,2,   25,  -999.0, -999.00,-999.0000,-999.000,-999.000
     316N151_3,   A20,    95,  1,     16,     16,2,19970809,0205,  6.9690, -53.5540,   76,  734.0,     26.1,  26.0998,  36.1436,2,  36.1515,2,     67.7,4, 26.0939,    170.4,2,     3.45,3,     1.65,2,     0.41,2,     0.27,2, -999.000,9, -999.000,9, -999.000,5, -999.000,5,-999.0000,5,  -999.00,9,   -999.0,9,  -999.00,9,-999.000,9,   2063.9,2,   -999.0,9,-999,   -999.0,9,-999.0000,9, -999,  -999.0, -999.00,-999.0000,-999.000,-999.000
     316N151_3,   A20,    95,  1,     15,     15,2,19970809,0205,  6.9690, -53.5540,   76,  732.6,     26.3,  26.1057,  36.1447,3,-999.0000,9,     69.0,3, 26.0999,   -999.0,9,  -999.00,9,  -999.00,9,  -999.00,9,  -999.00,9, -999.000,9, -999.000,9, -999.000,5, -999.000,5,-999.0000,5,  -999.00,9,   -999.0,9,  -999.00,9,-999.000,9,   -999.0,9,   -999.0,9,-999,   2369.6,2,   8.0290,2,   25,  -999.0, -999.00,-999.0000,-999.000,-999.000
     316N151_3,   A20,    95,  1,     14,     14,2,19970809,0205,  6.9690, -53.5540,   76,  988.8,     53.3,  25.4371,  36.2775,2,  36.2800,2,     68.4,4, 25.4252,    167.5,2,     2.47,3,     2.80,2,     0.12,2,     0.29,2, -999.000,9, -999.000,9, -999.000,5, -999.000,5,-999.0000,5,  -999.00,9,   -999.0,9,  -999.00,9,-999.000,9,   2072.3,2,   -999.0,9,-999,   -999.0,9,-999.0000,9, -999,  -999.0, -999.00,-999.0000,-999.000,-999.000
     316N151_3,   A20,    95,  1,     13,     13,2,19970809,0205,  6.9690, -53.5540,   76,  985.6,     53.5,  25.4660,  36.2786,3,-999.0000,9,     67.5,3, 25.4542,   -999.0,9,  -999.00,9,  -999.00,9,  -999.00,9,  -999.00,9, -999.000,9, -999.000,9, -999.000,5, -999.000,5,-999.0000,5,  -999.00,9,   -999.0,9,  -999.00,9,-999.000,9,   -999.0,9,   -999.0,9,-999,   2372.7,2,   8.0130,2,   25,  -999.0, -999.00,-999.0000,-999.000,-999.000
     316N151_3,   A20,    95,  1,     12,     12,2,19970809,0205,  6.9690, -53.5540,   76, 1078.4,     63.2,  24.4150,  36.3272,2,  36.3200,2,   -999.0,9, 24.4015,    166.6,2,     2.37,3,     2.97,2,     0.11,2,     0.28,2, -999.000,9, -999.000,9, -999.000,5, -999.000,5,-999.0000,5,  -999.00,9,   -999.0,9,  -999.00,9,-999.000,9,   2076.4,2,   -999.0,9,-999,   -999.0,9,-999.0000,9, -999,  -999.0, -999.00,-999.0000,-999.000,-999.000
     316N151_3,   A20,    95,  1,     11,     11,2,19970809,0205,  6.9690, -53.5540,   76, 1078.3,     63.3,  24.3914,  36.3284,3,-999.0000,9,     68.7,3, 24.3779,   -999.0,9,  -999.00,9,  -999.00,9,  -999.00,9,  -999.00,9, -999.000,9, -999.000,9, -999.000,5, -999.000,5,-999.0000,5,  -999.00,9,   -999.0,9,  -999.00,9,-999.000,9,   -999.0,9,   -999.0,9,-999,   2378.0,2,   8.0140,2,   25,  -999.0, -999.00,-999.0000,-999.000,-999.000