BOTTLE,20220812CCHSIOAMB
EXPOCODE,SECT_ID,STNNBR,CASTNO,SAMPNO,BTLNBR,BTLNBR_FLAG_W,DATE,TIME,LATITUDE,LONGITUDE,DEPTH,CTDRAW,CTDPRS,CTDTMP,CTDSAL,CTDSAL_FLAG_W,SALNTY,SALNTY_FLAG_W,CTDOXY,CTDOXY_FLAG_W,THETA,OXYGEN,OXYGEN_FLAG_W,SILCAT,SILCAT_FLAG_W,NITRAT,NITRAT_FLAG_W,NITRIT,NITRIT_FLAG_W,PHSPHT,PHSPHT_FLAG_W,CFC-11,CFC-11_FLAG_W,CFC-12,CFC-12_FLAG_W,CFC113,CFC113_FLAG_W,TRITUM,TRITUM_FLAG_W,HELIUM,HELIUM_FLAG_W,DELHE3,DELHE3_FLAG_W,DELC14,DELC14_FLAG_W,DELC13,DELC13_FLAG_W,NEON,NEON_FLAG_W,TCARBN,TCARBN_FLAG_W,PCO2,PCO2_FLAG_W,PCO2_TMP,ALKALI,ALKALI_FLAG_W,PH,PH_FLAG_W,PH_TMP,C14ERR,DELHER,HELIER,NEONER,TRITER
,,,,,,,,,,,,,DBAR,ITS-90,PSS-78,,PSS-78,,UMOL/KG,,ITS-90,UMOL/KG,,UMOL/KG,,UMOL/KG,,UMOL/KG,,UMOL/KG,,PMOL/KG,,PMOL/KG,,PMOL/KG,,TU,,NMOL/KG,,PERCNT,,/MILLE,,/MILLE,,NMOL/KG,,UMOL/KG,,UATM,,DEG C,UMOL/KG,,,,DEG C,/MILLE,PERCNT,NMOL/KG,NMOL/KG,TU
     316N151_3,   A20,    17,  1,     30,     30,2,19970722,1007, 41.3175, -52.1640, 5147,  202.7,      6.7,  21.9673,  35.1999,2,  35.2004,2,    229.1,2, 21.9660,    224.2,2,     0.26,2,     0.04,2,     0.00,2,     0.04,2,    2.181,2,    1.287,2, -999.000,5, -999.000,5,-999.0000,5,  -999.00,9,   -999.0,9,  -999.00,9,-999.000,9,   2013.9,2,    322.0,2,  20,   2320.4,2,   8.0450,2,   25,  -999.0, -999.00,-999.0000,-999.000,-999.000
     316N151_3,   A20,    17,  1,     29,     29,2,19970722,1007, 41.3175, -52.1640, 5147,  390.7,     25.6,  22.2806,  36.0326,2,  36.0312,2,    205.8,2, 22.2755,    219.9,2,     0.36,2,     0.04,2,     0.00,2,     0.01,2, -999.000,9, -999.000,9, -999.000,5, -999.000,5,-999.0000,5,  -999.00,9,   -999.0,9,  -999.00,9,-999.000,9,   2034.2,2,    308.5,2,  20,   2350.4,6,   8.0630,6,   25,  -999.0, -999.00,-999.0000,-999.000,-999.000
     316N151_3,   A20,    17,  1,     28,     28,2,19970722,1007, 41.3175, -52.1640, 5147,  655.3,     52.1,  19.9046,  36.1071,2,  36.1295,2,    216.5,2, 19.8950,    222.9,2,     0.17,2,     0.08,2,     0.01,2,     0.04,2,    2.350,2,    1.331,2, -999.000,5, -999.000,5,-999.0000,5,  -999.00,9,   -999.0,9,  -999.00,9,-999.000,9,   2056.4,2,    334.3,2,  20,   2369.3,2,   8.0360,2,   25,  -999.0, -999.00,-999.0000,-999.000,-999.000
     316N151_3,   A20,    17,  1,     27,     27,2,19970722,1007, 41.3175, -52.1640, 5147,  894.5,     75.7,  17.3271,  35.6572,2,  35.7248,2,    208.1,2, 17.3145,    209.1,2,     0.93,2,     2.56,2,     0.29,2,     0.22,2, -999.000,9, -999.000,9, -999.000,5, -999.000,5,-999.0000,5,  -999.00,9,   -999.0,9,  -999.00,9,-999.000,9,   2077.0,2,    398.2,2,  20,   2337.7,3,   7.9740,2,   25,  -999.0, -999.00,-999.0000,-999.000,-999.000
     316N151_3,   A20,    17,  1,     26,     26,2,19970722,1007, 41.3175, -52.1640, 5147, 1169.2,    103.1,  17.4228,  36.2028,2,  36.1622,2,    185.3,2, 17.4054,    175.9,2,     2.25,2,     6.97,2,     0.04,2,     0.41,2, -999.000,9, -999.000,9, -999.000,5, -999.000,5,-999.0000,5,  -999.00,9,   -999.0,9,  -999.00,9,-999.000,9,   2115.4,2,    449.6,2,  20,   2368.3,2,   7.9300,2,   25,  -999.0, -999.00,-999.0000,-999.000,-999.000
     316N151_3,   A20,    17,  1,     25,     25,2,19970722,1007, 41.3175, -52.1640, 5147, 1371.3,    123.2,  17.1074,  36.2165,2,  36.2132,2,    192.2,2, 17.0868,    163.9,3,     2.83,2,     8.92,2,     0.03,2,     0.51,2,    1.988,2,    1.128,2, -999.000,5, -999.000,5,-999.0000,5,  -999.00,9,   -999.0,9,  -999.00,9,-999.000,9,   2127.5,2,    477.3,2,  20,   2357.7,2,   7.9080,2,   25,  -999.0, -999.00,-999.0000,-999.000,-999.000
     316N151_3,   A20,    17,  1,     24,     24,2,19970722,1007, 41.3175, -52.1640, 5147, 1651.8,    151.2,  16.5334,  36.1339,2,  36.1492,2,    198.7,2, 16.5088,    204.6,2,     1.59,2,     5.53,2,  -999.00,9,     0.32,2, -999.000,9, -999.000,9, -999.000,5, -999.000,5,-999.0000,5,  -999.00,9,   -999.0,9,  -999.00,9,-999.000,9,   2100.6,2,    417.3,2,  20,   2368.1,2,   7.9580,2,   25,  -999.0, -999.00,-999.0000,-999.000,-999.000
     316N151_3,   A20,    17,  1,     23,     23,2,19970722,1007, 41.3175, -52.1640, 5147, 1857.6,    171.7,  15.7759,  35.9916,2,  35.9928,2,    192.0,2, 15.7488,    202.7,2,     2.06,2,     6.80,2,     0.02,2,     0.41,2, -999.000,9, -999.000,9, -999.000,5, -999.000,5,-999.0000,5,  -999.00,9,   -999.0,9,  -999.00,9,-999.000,9,   2104.6,2,    443.3,2,  20,   2346.6,2,   7.9350,2,   25,  -999.0, -999.00,-999.0000,-999.000,-999.000
     316N151_3,   A20,    17,  1,     22,     22,2,19970722,1007, 41.3175, -52.1640, 5147, 2165.4,    202.4,  15.0528,  35.8539,2,  35.8586,2,    198.4,2, 15.0218,    208.4,2,     2.34,2,     7.30,2,     0.01,2,     0.46,2,    2.573,6,    1.400,6, -999.000,5, -999.000,5,-999.0000,5,  -999.00,9,   -999.0,9,  -999.00,9,-999.000,9,   2106.5,2,    454.0,2,  20,   2351.5,2,   7.9220,2,   25,  -999.0, -999.00,-999.0000,-999.000,-999.000
     316N151_3,   A20,    17,  1,     21,     21,2,19970722,1007, 41.3175, -52.1640, 5147, 2677.0,    253.7,  14.1703,  35.7063,2,  35.7068,2,    183.9,2, 14.1331,    219.7,3,     2.54,2,     7.56,2,     0.01,2,     0.49,2, -999.000,9, -999.000,9, -999.000,5, -999.000,5,-999.0000,5,  -999.00,9,   -999.0,9,  -999.00,9,-999.000,9,   2103.8,2,   -999.0,9,-999,   2334.4,2,   7.9160,2,   25,  -999.0, -999.00,-999.0000,-999.000,-999.000
     316N151_3,   A20,    17,  1,     20,     20,2,19970722,1007, 41.3175, -52.1640, 5147, 3659.3,    352.2,  13.0322,  35.6146,2,  35.6146,2,    174.2,2, 12.9831,    176.0,2,     5.87,2,    14.23,2,     0.00,2,     0.88,2,    1.837,2,    1.024,2, -999.000,5, -999.000,5,-999.0000,5,  -999.00,9,   -999.0,9,  -999.00,9,-999.000,9,   2140.9,2,    583.3,3,  20,   2332.4,2,   7.8110,2,   25,  -999.0, -999.00,-999.0000,-999.000,-999.000
     316N151_3,   A20,    17,  1,     19,     19,2,19970722,1007, 41.3175, -52.1640, 5147, 4635.3,    450.1,  11.1451,  35.4013,2,  35.4008,2,    151.1,2, 11.0882,    146.9,2,    10.35,2,    20.77,2,     0.00,2,     1.30,2,    1.081,2,    0.593,2, -999.000,5, -999.000,5,-999.0000,5,  -999.00,9,   -999.0,9,  -999.00,9,-999.000,9,   2173.2,2,    733.6,2,  20,   2318.4,2,   7.7380,2,   25,  -999.0, -999.00,-999.0000,-999.000,-999.000
     316N151_3,   A20,    17,  1,     18,     18,2,19970722,1007, 41.3175, -52.1640, 5147, 6117.8,    598.5,   8.0230,  35.0668,2,  35.0694,2,    165.6,2,  7.9607,    161.3,2,    14.25,2,    23.33,2,     0.00,2,     1.51,2,    1.028,2,    0.553,2, -999.000,5, -999.000,5,-999.0000,5,  -999.00,9,   -999.0,9,  -999.00,9,-999.000,9,   2184.9,2,    850.1,2,  20,   2315.7,2,   7.6860,2,   25,  -999.0, -999.00,-999.0000,-999.000,-999.000
     316N151_3,   A20,    17,  1,     17,     17,2,19970722,1007, 41.3175, -52.1640, 5147, 7611.1,    747.9,   6.2336,  35.0542,2,  35.0550,2,    201.5,2,  6.1650,    201.5,2,    13.30,2,    21.06,2,     0.00,2,     1.37,2,    1.182,2,    0.606,2, -999.000,5, -999.000,5,-999.0000,5,  -999.00,9,   -999.0,9,  -999.00,9,-999.000,9,   2177.0,2,    815.6,2,  20,   2304.3,2,   7.6990,2,   25,  -999.0, -999.00,-999.0000,-999.000,-999.000
     316N151_3,   A20,    17,  1,     16,     16,2,19970722,1007, 41.3175, -52.1640, 5147, 9119.7,    898.7,   5.2012,  35.0234,2,  35.0247,2,    229.1,2,  5.1249,    231.1,2,    12.16,2,    19.24,2,     0.00,2,     1.26,2,    1.585,2,    0.809,2, -999.000,5, -999.000,5,-999.0000,5,  -999.00,9,   -999.0,9,  -999.00,9,-999.000,9,   2168.3,2,    782.4,2,  20,   2311.4,2,   7.7150,2,   25,  -999.0, -999.00,-999.0000,-999.000,-999.000
     316N151_3,   A20,    17,  1,     15,     15,2,19970722,1007, 41.3175, -52.1640, 5147,11138.8,   1100.5,   4.6246,  35.0083,2,  35.0100,2,    248.7,2,  4.5343,    247.0,2,    11.87,2,    18.52,2,     0.00,2,     1.21,2,    1.475,2,    0.737,2, -999.000,5, -999.000,5,-999.0000,5,  -999.00,9,   -999.0,9,  -999.00,9,-999.000,9,   2163.9,2,    764.3,2,  20,   2302.1,2,   7.7220,2,   25,  -999.0, -999.00,-999.0000,-999.000,-999.000
     316N151_3,   A20,    17,  1,     14,     14,2,19970722,1007, 41.3175, -52.1640, 5147,13115.1,   1298.0,   4.1307,  34.9636,2,  34.9656,2,    261.5,2,  4.0273,    261.6,2,    11.48,2,    17.84,2,     0.00,2,     1.17,2,    1.840,2,    0.928,2, -999.000,5, -999.000,5,-999.0000,5,  -999.00,9,   -999.0,9,  -999.00,9,-999.000,9,   2158.4,2,   -999.0,9,-999,   2304.4,2,   7.7290,2,   25,  -999.0, -999.00,-999.0000,-999.000,-999.000
     316N151_3,   A20,    17,  1,     13,     13,2,19970722,1007, 41.3175, -52.1640, 5147,15105.2,   1497.0,   3.8988,  34.9523,2,  34.9541,2,    268.9,2,  3.7801,    266.8,2,    11.58,2,    17.68,2,     0.00,2,     1.16,2,    1.664,2,    0.829,2, -999.000,5, -999.000,5,-999.0000,5,  -999.00,9,   -999.0,9,  -999.00,9,-999.000,9,   2156.2,2,    747.2,2,  20,   2296.8,2,   7.7300,2,   25,  -999.0, -999.00,-999.0000,-999.000,-999.000
     316N151_3,   A20,    17,  1,     12,     12,2,19970722,1007, 41.3175, -52.1640, 5147,18125.1,   1798.8,   3.5964,  34.9298,2,  34.9315,2,    272.1,2,  3.4539,    272.5,2,    11.96,2,    17.41,2,     0.00,2,     1.15,2,    1.711,2,    0.866,2, -999.000,5, -999.000,5,-999.0000,5,  -999.00,9,   -999.0,9,  -999.00,9,-999.000,9,   2155.1,2,    746.2,2,  20,   2305.2,2,   7.7330,2,   25,  -999.0, -999.00,-999.0000,-999.000,-999.000
     316N151_3,   A20,    17,  1,     11,     11,2,19970722,1007, 41.3175, -52.1640, 5147,21114.0,   2097.4,   3.4440,  34.9288,2,  34.9293,2,    272.3,2,  3.2756,    274.9,2,    12.82,2,    17.37,2,     0.00,2,     1.15,2,    1.599,2,    0.787,2, -999.000,5, -999.000,5,-999.0000,5,  -999.00,9,   -999.0,9,  -999.00,9,-999.000,9,   2154.8,2,    739.5,2,  20,   2296.7,2,   7.7370,2,   25,  -999.0, -999.00,-999.0000,-999.000,-999.000
     316N151_3,   A20,    17,  1,     10,     10,2,19970722,1007, 41.3175, -52.1640, 5147,24111.6,   2396.9,   3.3933,  34.9501,2,  34.9503,2,    269.5,2,  3.1964,    268.2,2,    15.01,2,    17.62,2,     0.00,2,     1.17,2,    0.823,6,    0.419,6, -999.000,5, -999.000,5,-999.0000,5,  -999.00,9,   -999.0,9,  -999.00,9,-999.000,9,   2158.1,2,   -999.0,9,-999,   2309.9,2,   7.7430,2,   25,  -999.0, -999.00,-999.0000,-999.000,-999.000
     316N151_3,   A20,    17,  1,      9,      9,2,19970722,1007, 41.3175, -52.1640, 5147,27115.5,   2697.2,   3.2309,  34.9485,2,  34.9490,2,    267.9,2,  3.0068,    267.2,2,    16.63,2,    17.73,2,     0.00,2,     1.19,2,    0.632,2,    0.280,2, -999.000,5, -999.000,5,-999.0000,5,  -999.00,9,   -999.0,9,  -999.00,9,-999.000,9,   2159.4,2,    731.5,2,  20,   2308.2,2,   7.7450,2,   25,  -999.0, -999.00,-999.0000,-999.000,-999.000
     316N151_3,   A20,    17,  1,      8,      8,2,19970722,1007, 41.3175, -52.1640, 5147,30134.6,   2998.9,   2.9704,  34.9322,2,  34.9339,2,    269.3,2,  2.7203,    270.4,2,    17.01,2,    17.35,2,     0.00,2,     1.16,2,    0.868,2,    0.432,2, -999.000,5, -999.000,5,-999.0000,5,  -999.00,9,   -999.0,9,  -999.00,9,-999.000,9,   2157.6,2,    732.1,2,  20,   2311.6,2,   7.7420,2,   25,  -999.0, -999.00,-999.0000,-999.000,-999.000
     316N151_3,   A20,    17,  1,      7,      7,2,19970722,1007, 41.3175, -52.1640, 5147,33142.9,   3299.7,   2.7712,  34.9272,2,  34.9222,2,    270.2,2,  2.4938,    270.3,2,    20.63,2,    17.65,2,     0.00,2,     1.18,2,    0.649,2,    0.322,2, -999.000,5, -999.000,5,-999.0000,5,  -999.00,9,   -999.0,9,  -999.00,9,-999.000,9,   2160.4,2,   -999.0,9,-999,   2312.2,2,   7.7450,2,   25,  -999.0, -999.00,-999.0000,-999.000,-999.000
     316N151_3,   A20,    17,  1,      6,      6,2,19970722,1007, 41.3175, -52.1640, 5147,36128.0,   3598.0,   2.5733,  34.9154,2,  34.9172,2,    270.4,2,  2.2683,    270.0,2,    22.45,2,    17.83,2,     0.00,2,     1.20,2,    0.574,2,    0.287,2, -999.000,5, -999.000,5,-999.0000,5,  -999.00,9,   -999.0,9,  -999.00,9,-999.000,9,   2161.9,2,    733.9,2,  20,   2316.5,2,   7.7430,2,   25,  -999.0, -999.00,-999.0000,-999.000,-999.000
     316N151_3,   A20,    17,  1,      5,      5,2,19970722,1007, 41.3175, -52.1640, 5147,39125.4,   3897.6,   2.4388,  34.9074,2,  34.9071,2,    270.4,2,  2.1039,    272.4,2,    22.83,2,    17.60,2,     0.00,2,     1.19,2,    0.804,2,    0.394,2, -999.000,5, -999.000,5,-999.0000,5,  -999.00,9,   -999.0,9,  -999.00,9,-999.000,9,   2162.1,2,    738.6,2,  20,   2309.6,2,   7.7460,2,   25,  -999.0, -999.00,-999.0000,-999.000,-999.000
     316N151_3,   A20,    17,  1,      4,      4,2,19970722,1007, 41.3175, -52.1640, 5147,42133.7,   4198.3,   2.3536,  34.8992,2,  34.9004,2,    269.2,2,  1.9866,    272.0,2,    24.93,2,    17.82,2,     0.00,2,     1.20,2,    0.837,6,    0.414,6, -999.000,5, -999.000,5,-999.0000,5,  -999.00,9,   -999.0,9,  -999.00,9,-999.000,9,   2163.8,2,    741.8,2,  20,   2318.7,2,   7.7400,2,   25,  -999.0, -999.00,-999.0000,-999.000,-999.000
     316N151_3,   A20,    17,  1,      3,      3,2,19970722,1007, 41.3175, -52.1640, 5147,45137.0,   4498.5,   2.3190,  34.8955,2,  34.8957,2,    267.2,2,  1.9174,    273.0,3,    25.88,2,    17.85,2,     0.00,2,     1.21,2,    0.918,2,    0.475,2, -999.000,5, -999.000,5,-999.0000,5,  -999.00,9,   -999.0,9,  -999.00,9,-999.000,9,   2166.1,2,   -999.0,9,-999,   2313.1,2,   7.7390,2,   25,  -999.0, -999.00,-999.0000,-999.000,-999.000
     316N151_3,   A20,    17,  1,      2,      2,2,19970722,1007, 41.3175, -52.1640, 5147,48148.8,   4799.6,   2.3065,  34.8908,2,  34.8918,2,    265.1,2,  1.8687,    267.8,2,    28.07,2,    18.19,2,     0.00,2,     1.23,2,    0.902,2,    0.449,2, -999.000,5, -999.000,5,-999.0000,5,  -999.00,9,   -999.0,9,  -999.00,9,-999.000,9,   2170.2,2,   -999.0,9,-999,   2318.7,2,   7.7390,2,   25,  -999.0, -999.00,-999.0000,-999.000,-999.000
     316N151_3,   A20,    17,  1,      1,      1,2,19970722,1007, 41.3175, -52.1640, 5147,51640.9,   5148.6,   2.2980,  34.8854,2,  34.8844,2,   -999.0,9,  1.8166,    265.5,2,    32.66,6,    18.88,6,     0.00,6,     1.28,6,    0.738,2,    0.372,2, -999.000,5, -999.000,5,-999.0000,5,  -999.00,9,   -999.0,9,  -999.00,9,-999.000,9,   2177.0,2,    739.7,2,  20,   2329.1,2,   7.7370,2,   25,  -999.0, -999.00,-999.0000,-999.000,-999.000