BOTTLE,20220812CCHSIOAMB
EXPOCODE,SECT_ID,STNNBR,CASTNO,SAMPNO,BTLNBR,BTLNBR_FLAG_W,DATE,TIME,LATITUDE,LONGITUDE,DEPTH,CTDRAW,CTDPRS,CTDTMP,CTDSAL,CTDSAL_FLAG_W,SALNTY,SALNTY_FLAG_W,CTDOXY,CTDOXY_FLAG_W,THETA,OXYGEN,OXYGEN_FLAG_W,SILCAT,SILCAT_FLAG_W,NITRAT,NITRAT_FLAG_W,NITRIT,NITRIT_FLAG_W,PHSPHT,PHSPHT_FLAG_W,CFC-11,CFC-11_FLAG_W,CFC-12,CFC-12_FLAG_W,CFC113,CFC113_FLAG_W,TRITUM,TRITUM_FLAG_W,HELIUM,HELIUM_FLAG_W,DELHE3,DELHE3_FLAG_W,DELC14,DELC14_FLAG_W,DELC13,DELC13_FLAG_W,NEON,NEON_FLAG_W,TCARBN,TCARBN_FLAG_W,PCO2,PCO2_FLAG_W,PCO2_TMP,ALKALI,ALKALI_FLAG_W,PH,PH_FLAG_W,PH_TMP,C14ERR,DELHER,HELIER,NEONER,TRITER
,,,,,,,,,,,,,DBAR,ITS-90,PSS-78,,PSS-78,,UMOL/KG,,ITS-90,UMOL/KG,,UMOL/KG,,UMOL/KG,,UMOL/KG,,UMOL/KG,,PMOL/KG,,PMOL/KG,,PMOL/KG,,TU,,NMOL/KG,,PERCNT,,/MILLE,,/MILLE,,NMOL/KG,,UMOL/KG,,UATM,,DEG C,UMOL/KG,,,,DEG C,/MILLE,PERCNT,NMOL/KG,NMOL/KG,TU
     316N151_3,   A20,    13,  1,     30,     30,2,19970721,1458, 42.0072, -51.6400, 3578,  226.6,      9.0,  19.3151,  34.3952,2,  34.3963,2,    255.4,2, 19.3135,    238.8,2,     0.51,2,     0.08,2,     0.00,2,     0.08,2,    2.621,2,    1.480,2, -999.000,5, -999.000,5,-999.0000,5,  -999.00,9,   -999.0,9,  -999.00,9,-999.000,9,   -999.0,9,    337.5,2,  20,   2283.5,2,   8.0290,2,   25,  -999.0, -999.00,-999.0000,-999.000,-999.000
     316N151_3,   A20,    13,  1,     29,     29,2,19970721,1458, 42.0072, -51.6400, 3578,  632.9,     49.6,  15.8395,  35.4337,2,  35.4429,2,    203.2,2, 15.8317,    210.4,2,     1.84,2,     3.70,2,     0.11,2,     0.31,2,    2.839,2,    1.549,2, -999.000,5, -999.000,5,-999.0000,5,  -999.00,9,   -999.0,9,  -999.00,9,-999.000,9,   -999.0,9,   -999.0,9,-999,   -999.0,9,-999.0000,9, -999,  -999.0, -999.00,-999.0000,-999.000,-999.000
     316N151_3,   A20,    13,  1,     28,     28,2,19970721,1458, 42.0072, -51.6400, 3578, 1163.5,    102.6,  14.4971,  35.7286,2,  35.7133,2,    187.1,2, 14.4818,    200.8,2,     3.47,2,     8.64,2,  -999.00,9,     0.57,2, -999.000,9, -999.000,9, -999.000,5, -999.000,5,-999.0000,5,  -999.00,9,   -999.0,9,  -999.00,9,-999.000,9,   -999.0,9,   -999.0,9,-999,   -999.0,9,-999.0000,9, -999,  -999.0, -999.00,-999.0000,-999.000,-999.000
     316N151_3,   A20,    13,  1,     27,     27,2,19970721,1458, 42.0072, -51.6400, 3578, 1619.7,    148.1,  13.2919,  35.5139,2,  35.5176,2,    201.2,2, 13.2712,    206.8,2,     4.14,2,     9.84,2,     0.01,2,     0.64,2,    2.628,2,    1.422,2, -999.000,5, -999.000,5,-999.0000,5,  -999.00,9,   -999.0,9,  -999.00,9,-999.000,9,   -999.0,9,   -999.0,9,-999,   -999.0,9,-999.0000,9, -999,  -999.0, -999.00,-999.0000,-999.000,-999.000
     316N151_3,   A20,    13,  1,     26,     26,2,19970721,1458, 42.0072, -51.6400, 3578, 2160.5,    202.2,  12.8669,  35.5473,2,  35.5459,2,    188.9,2, 12.8391,    194.7,2,     5.29,2,    12.20,2,     0.00,2,     0.77,2, -999.000,9, -999.000,9, -999.000,5, -999.000,5,-999.0000,5,  -999.00,9,   -999.0,9,  -999.00,9,-999.000,9,   -999.0,9,   -999.0,9,-999,   -999.0,9,-999.0000,9, -999,  -999.0, -999.00,-999.0000,-999.000,-999.000
     316N151_3,   A20,    13,  1,     25,     25,2,19970721,1458, 42.0072, -51.6400, 3578, 2663.9,    252.7,  12.0820,  35.5140,2,  35.5135,2,    166.2,2, 12.0486,    163.0,2,     8.34,2,    17.37,2,     0.00,2,     1.07,2,    1.632,2,    0.872,2, -999.000,5, -999.000,5,-999.0000,5,  -999.00,9,   -999.0,9,  -999.00,9,-999.000,9,   -999.0,9,   -999.0,9,-999,   -999.0,9,-999.0000,9, -999,  -999.0, -999.00,-999.0000,-999.000,-999.000
     316N151_3,   A20,    13,  1,     24,     24,2,19970721,1458, 42.0072, -51.6400, 3578, 3160.8,    302.7,  11.0527,  35.4009,2,  35.3984,2,    153.3,2, 11.0150,    147.7,2,    10.93,2,    20.94,2,     0.00,2,     1.30,2, -999.000,9, -999.000,9, -999.000,5, -999.000,5,-999.0000,5,  -999.00,9,   -999.0,9,  -999.00,9,-999.000,9,   -999.0,9,   -999.0,9,-999,   -999.0,9,-999.0000,9, -999,  -999.0, -999.00,-999.0000,-999.000,-999.000
     316N151_3,   A20,    13,  1,     23,     23,2,19970721,1458, 42.0072, -51.6400, 3578, 4160.7,    403.0,   8.9714,  35.1540,2,  35.1522,2,    152.5,2,  8.9272,    149.3,2,    14.18,2,    23.71,2,     0.00,2,     1.50,2,    0.972,2,    0.504,2, -999.000,5, -999.000,5,-999.0000,5,  -999.00,9,   -999.0,9,  -999.00,9,-999.000,9,   -999.0,9,   -999.0,9,-999,   -999.0,9,-999.0000,9, -999,  -999.0, -999.00,-999.0000,-999.000,-999.000
     316N151_3,   A20,    13,  1,     22,     22,2,19970721,1458, 42.0072, -51.6400, 3578, 5159.2,    502.9,   6.5372,  34.9301,2,  34.9296,2,    201.3,2,  6.4908,    191.5,2,    13.90,2,    21.40,2,     0.00,2,     1.40,2, -999.000,9, -999.000,9, -999.000,5, -999.000,5,-999.0000,5,  -999.00,9,   -999.0,9,  -999.00,9,-999.000,9,   -999.0,9,   -999.0,9,-999,   -999.0,9,-999.0000,9, -999,  -999.0, -999.00,-999.0000,-999.000,-999.000
     316N151_3,   A20,    13,  1,     21,     21,2,19970721,1458, 42.0072, -51.6400, 3578, 6136.4,    600.6,   5.2851,  34.9209,2,  34.9261,2,    223.5,2,  5.2351,    225.1,2,    12.76,2,    19.46,2,     0.00,2,     1.28,2,    2.328,2,    1.162,2, -999.000,5, -999.000,5,-999.0000,5,  -999.00,9,   -999.0,9,  -999.00,9,-999.000,9,   -999.0,9,   -999.0,9,-999,   -999.0,9,-999.0000,9, -999,  -999.0, -999.00,-999.0000,-999.000,-999.000
     316N151_3,   A20,    13,  1,     20,     20,2,19970721,1458, 42.0072, -51.6400, 3578, 7184.7,    705.4,   4.8219,  34.9470,2,  34.9461,2,    242.7,2,  4.7652,    242.7,2,    11.90,2,    18.63,2,     0.00,2,     1.22,2,    2.548,2,    1.261,2, -999.000,5, -999.000,5,-999.0000,5,  -999.00,9,   -999.0,9,  -999.00,9,-999.000,9,   -999.0,9,   -999.0,9,-999,   -999.0,9,-999.0000,9, -999,  -999.0, -999.00,-999.0000,-999.000,-999.000
     316N151_3,   A20,    13,  1,     19,     19,2,19970721,1458, 42.0072, -51.6400, 3578, 8150.2,    801.9,   4.6528,  34.9759,2,  34.9759,2,    254.6,2,  4.5886,    252.9,2,    11.72,2,    18.43,2,     0.00,2,     1.20,2,    2.276,2,    1.135,2, -999.000,5, -999.000,5,-999.0000,5,  -999.00,9,   -999.0,9,  -999.00,9,-999.000,9,   -999.0,9,   -999.0,9,-999,   -999.0,9,-999.0000,9, -999,  -999.0, -999.00,-999.0000,-999.000,-999.000
     316N151_3,   A20,    13,  1,     18,     18,2,19970721,1458, 42.0072, -51.6400, 3578, 9152.0,    902.0,   4.3712,  34.9629,2,  34.9639,2,    254.9,2,  4.3003,    255.8,2,    11.53,2,    18.14,2,     0.00,2,     1.18,2,    2.309,2,    1.152,2, -999.000,5, -999.000,5,-999.0000,5,  -999.00,9,   -999.0,9,  -999.00,9,-999.000,9,   -999.0,9,   -999.0,9,-999,   -999.0,9,-999.0000,9, -999,  -999.0, -999.00,-999.0000,-999.000,-999.000
     316N151_3,   A20,    13,  1,     17,     17,2,19970721,1458, 42.0072, -51.6400, 3578,10141.8,   1000.9,   4.1683,  34.9515,2,  34.9414,2,    261.2,2,  4.0905,   -999.0,9,    12.11,2,    17.69,2,     0.00,2,     1.16,2,    2.174,2,    1.083,2, -999.000,5, -999.000,5,-999.0000,5,  -999.00,9,   -999.0,9,  -999.00,9,-999.000,9,   -999.0,9,   -999.0,9,-999,   -999.0,9,-999.0000,9, -999,  -999.0, -999.00,-999.0000,-999.000,-999.000
     316N151_3,   A20,    13,  1,     16,     16,2,19970721,1458, 42.0072, -51.6400, 3578,11658.1,   1152.5,   4.0110,  34.9487,2,  34.9482,2,    265.0,2,  3.9216,    264.9,2,    11.63,2,    17.77,2,     0.00,2,     1.16,2, -999.000,9, -999.000,9, -999.000,5, -999.000,5,-999.0000,5,  -999.00,9,   -999.0,9,  -999.00,9,-999.000,9,   -999.0,9,   -999.0,9,-999,   -999.0,9,-999.0000,9, -999,  -999.0, -999.00,-999.0000,-999.000,-999.000
     316N151_3,   A20,    13,  1,     15,     15,2,19970721,1458, 42.0072, -51.6400, 3578,13170.2,   1303.6,   3.7702,  34.9289,2,  34.9282,2,    269.6,2,  3.6700,    270.6,2,    11.54,2,    17.57,2,     0.00,2,     1.15,2,    2.369,2,    1.165,2, -999.000,5, -999.000,5,-999.0000,5,  -999.00,9,   -999.0,9,  -999.00,9,-999.000,9,   -999.0,9,   -999.0,9,-999,   -999.0,9,-999.0000,9, -999,  -999.0, -999.00,-999.0000,-999.000,-999.000
     316N151_3,   A20,    13,  1,     14,     14,2,19970721,1458, 42.0072, -51.6400, 3578,14639.0,   1450.4,   3.6599,  34.9245,2,  34.9241,2,    273.2,2,  3.5480,    273.2,2,    11.74,2,    17.49,2,     0.00,2,     1.15,2,    2.202,2,    1.095,2, -999.000,5, -999.000,5,-999.0000,5,  -999.00,9,   -999.0,9,  -999.00,9,-999.000,9,   -999.0,9,   -999.0,9,-999,   -999.0,9,-999.0000,9, -999,  -999.0, -999.00,-999.0000,-999.000,-999.000
     316N151_3,   A20,    13,  1,     13,     13,2,19970721,1458, 42.0072, -51.6400, 3578,16178.0,   1604.2,   3.5379,  34.9155,2,  34.9155,2,    275.4,2,  3.4139,    276.1,2,    11.93,2,    17.41,2,     0.00,2,     1.14,2,    2.267,6,    1.119,6, -999.000,5, -999.000,5,-999.0000,5,  -999.00,9,   -999.0,9,  -999.00,9,-999.000,9,   -999.0,9,   -999.0,9,-999,   -999.0,9,-999.0000,9, -999,  -999.0, -999.00,-999.0000,-999.000,-999.000
     316N151_3,   A20,    13,  1,     12,     12,2,19970721,1458, 42.0072, -51.6400, 3578,17183.8,   1704.7,   3.6041,  34.9365,2,  34.9364,2,    273.3,2,  3.4701,    271.3,3,    12.70,2,    17.61,2,     0.00,2,     1.16,2, -999.000,9, -999.000,9, -999.000,5, -999.000,5,-999.0000,5,  -999.00,9,   -999.0,9,  -999.00,9,-999.000,9,   -999.0,9,   -999.0,9,-999,   -999.0,9,-999.0000,9, -999,  -999.0, -999.00,-999.0000,-999.000,-999.000
     316N151_3,   A20,    13,  1,     11,     11,2,19970721,1458, 42.0072, -51.6400, 3578,18667.9,   1853.0,   3.4839,  34.9284,2,  34.9296,2,    274.0,2,  3.3379,    273.7,2,    12.90,2,    17.50,2,     0.00,2,     1.15,2,    1.656,2,    0.820,2, -999.000,5, -999.000,5,-999.0000,5,  -999.00,9,   -999.0,9,  -999.00,9,-999.000,9,   -999.0,9,   -999.0,9,-999,   -999.0,9,-999.0000,9, -999,  -999.0, -999.00,-999.0000,-999.000,-999.000
     316N151_3,   A20,    13,  1,     10,     10,3,19970721,1458, 42.0072, -51.6400, 3578,20179.8,   2004.1,   3.4395,  34.9328,2,  34.9335,2,    273.8,2,  3.2800,    272.6,2,    13.47,2,    17.50,2,     0.00,2,     1.16,2, -999.000,9, -999.000,9, -999.000,5, -999.000,5,-999.0000,5,  -999.00,9,   -999.0,9,  -999.00,9,-999.000,9,   -999.0,9,   -999.0,9,-999,   -999.0,9,-999.0000,9, -999,  -999.0, -999.00,-999.0000,-999.000,-999.000
     316N151_3,   A20,    13,  1,      9,      9,2,19970721,1458, 42.0072, -51.6400, 3578,22172.3,   2203.2,   3.2999,  34.9278,2,  34.9294,2,    272.8,2,  3.1237,    273.7,2,    13.95,2,    17.38,2,     0.00,2,     1.15,2,    1.421,2,    0.711,2, -999.000,5, -999.000,5,-999.0000,5,  -999.00,9,   -999.0,9,  -999.00,9,-999.000,9,   -999.0,9,   -999.0,9,-999,   -999.0,9,-999.0000,9, -999,  -999.0, -999.00,-999.0000,-999.000,-999.000
     316N151_3,   A20,    13,  1,      8,      8,2,19970721,1458, 42.0072, -51.6400, 3578,24159.8,   2401.8,   3.2378,  34.9388,2,  34.9397,2,    272.1,2,  3.0433,    270.2,3,    15.49,2,    17.51,2,     0.00,2,     1.16,2,    1.011,2,    0.508,2, -999.000,5, -999.000,5,-999.0000,5,  -999.00,9,   -999.0,9,  -999.00,9,-999.000,9,   -999.0,9,   -999.0,9,-999,   -999.0,9,-999.0000,9, -999,  -999.0, -999.00,-999.0000,-999.000,-999.000
     316N151_3,   A20,    13,  1,      7,      7,2,19970721,1458, 42.0072, -51.6400, 3578,26170.6,   2602.8,   3.0567,  34.9314,2,  34.9307,2,    272.9,2,  2.8455,    271.8,2,    15.78,2,    17.26,2,     0.00,2,     1.15,2, -999.000,9, -999.000,9, -999.000,5, -999.000,5,-999.0000,5,  -999.00,9,   -999.0,9,  -999.00,9,-999.000,9,   -999.0,9,   -999.0,9,-999,   -999.0,9,-999.0000,9, -999,  -999.0, -999.00,-999.0000,-999.000,-999.000
     316N151_3,   A20,    13,  1,      6,      6,2,19970721,1458, 42.0072, -51.6400, 3578,28182.6,   2804.0,   2.8671,  34.9252,2,  34.9252,2,    274.0,2,  2.6394,    273.6,2,    16.45,2,    17.10,2,     0.00,2,     1.14,2,    1.123,2,    0.567,2, -999.000,5, -999.000,5,-999.0000,5,  -999.00,9,   -999.0,9,  -999.00,9,-999.000,9,   -999.0,9,   -999.0,9,-999,   -999.0,9,-999.0000,9, -999,  -999.0, -999.00,-999.0000,-999.000,-999.000
     316N151_3,   A20,    13,  1,      5,      5,2,19970721,1458, 42.0072, -51.6400, 3578,30167.5,   3002.4,   2.6507,  34.9174,2,  34.9164,2,    275.3,2,  2.4072,    275.0,2,    17.60,2,    16.97,2,     0.00,2,     1.14,2,    1.175,2,    0.584,2, -999.000,5, -999.000,5,-999.0000,5,  -999.00,9,   -999.0,9,  -999.00,9,-999.000,9,   -999.0,9,   -999.0,9,-999,   -999.0,9,-999.0000,9, -999,  -999.0, -999.00,-999.0000,-999.000,-999.000
     316N151_3,   A20,    13,  1,      4,      4,2,19970721,1458, 42.0072, -51.6400, 3578,32171.8,   3202.8,   2.4363,  34.9082,2,  34.9073,2,    277.3,2,  2.1770,    276.8,2,    19.04,2,    16.89,2,     0.00,2,     1.14,2,    1.274,2,    0.626,2, -999.000,5, -999.000,5,-999.0000,5,  -999.00,9,   -999.0,9,  -999.00,9,-999.000,9,   -999.0,9,   -999.0,9,-999,   -999.0,9,-999.0000,9, -999,  -999.0, -999.00,-999.0000,-999.000,-999.000
     316N151_3,   A20,    13,  1,      3,      3,2,19970721,1458, 42.0072, -51.6400, 3578,34165.4,   3402.2,   2.2674,  34.8983,2,  34.8966,2,    278.9,2,  1.9911,    280.3,2,    18.38,2,    16.56,2,     0.00,2,     1.11,2,    1.699,2,    0.830,2, -999.000,5, -999.000,5,-999.0000,5,  -999.00,9,   -999.0,9,  -999.00,9,-999.000,9,   -999.0,9,   -999.0,9,-999,   -999.0,9,-999.0000,9, -999,  -999.0, -999.00,-999.0000,-999.000,-999.000
     316N151_3,   A20,    13,  1,      2,      2,2,19970721,1458, 42.0072, -51.6400, 3578,35143.0,   3500.0,   2.2534,  34.8970,2,  34.8954,2,    278.7,2,  1.9671,    280.2,2,    18.47,2,    16.48,2,     0.00,2,     1.11,2,    1.731,2,    0.849,2, -999.000,5, -999.000,5,-999.0000,5,  -999.00,9,   -999.0,9,  -999.00,9,-999.000,9,   -999.0,9,   -999.0,9,-999,   -999.0,9,-999.0000,9, -999,  -999.0, -999.00,-999.0000,-999.000,-999.000
     316N151_3,   A20,    13,  1,      1,      1,2,19970721,1458, 42.0072, -51.6400, 3578,36367.6,   3622.5,   2.2475,  34.8965,2,  34.8964,2,    277.3,2,  1.9482,    278.2,2,    19.68,6,    16.69,6,     0.00,6,     1.13,6,    1.644,6,    0.812,6, -999.000,5, -999.000,5,-999.0000,5,  -999.00,9,   -999.0,9,  -999.00,9,-999.000,9,   -999.0,9,   -999.0,9,-999,   -999.0,9,-999.0000,9, -999,  -999.0, -999.00,-999.0000,-999.000,-999.000