BOTTLE,20220812CCHSIOAMB
EXPOCODE,SECT_ID,STNNBR,CASTNO,SAMPNO,BTLNBR,BTLNBR_FLAG_W,DATE,TIME,LATITUDE,LONGITUDE,DEPTH,CTDRAW,CTDPRS,CTDTMP,CTDSAL,CTDSAL_FLAG_W,SALNTY,SALNTY_FLAG_W,CTDOXY,CTDOXY_FLAG_W,THETA,OXYGEN,OXYGEN_FLAG_W,SILCAT,SILCAT_FLAG_W,NITRAT,NITRAT_FLAG_W,NITRIT,NITRIT_FLAG_W,PHSPHT,PHSPHT_FLAG_W,CFC-11,CFC-11_FLAG_W,CFC-12,CFC-12_FLAG_W,CFC113,CFC113_FLAG_W,TRITUM,TRITUM_FLAG_W,HELIUM,HELIUM_FLAG_W,DELHE3,DELHE3_FLAG_W,DELC14,DELC14_FLAG_W,DELC13,DELC13_FLAG_W,NEON,NEON_FLAG_W,TCARBN,TCARBN_FLAG_W,PCO2,PCO2_FLAG_W,PCO2_TMP,ALKALI,ALKALI_FLAG_W,PH,PH_FLAG_W,PH_TMP,C14ERR,DELHER,HELIER,NEONER,TRITER
,,,,,,,,,,,,,DBAR,ITS-90,PSS-78,,PSS-78,,UMOL/KG,,ITS-90,UMOL/KG,,UMOL/KG,,UMOL/KG,,UMOL/KG,,UMOL/KG,,PMOL/KG,,PMOL/KG,,PMOL/KG,,TU,,NMOL/KG,,PERCNT,,/MILLE,,/MILLE,,NMOL/KG,,UMOL/KG,,UATM,,DEG C,UMOL/KG,,,,DEG C,/MILLE,PERCNT,NMOL/KG,NMOL/KG,TU
     316N151_3,   A20,    20,  1,     30,     30,2,19970723,0228, 40.5517, -52.3575, 5188,  280.3,     12.8,  23.1216,  36.3922,2,  36.3931,2,    204.3,2, 23.1190,    218.2,2,     1.24,2,     0.11,2,     0.00,2,     0.01,2,    2.034,2,    1.198,2, -999.000,5, -999.000,5,-999.0000,5,  -999.00,9,   -999.0,9,  -999.00,9,-999.000,9,   -999.0,9,   -999.0,9,-999,   2369.6,2,   8.0790,2,   25,  -999.0, -999.00,-999.0000,-999.000,-999.000
     316N151_3,   A20,    20,  1,     29,     29,2,19970723,0228, 40.5517, -52.3575, 5188, 1150.9,     99.6,  20.2545,  36.6301,2,  36.6310,2,    192.1,2, 20.2358,    181.5,2,     1.73,2,     3.55,2,     0.04,2,     0.19,2, -999.000,9, -999.000,9, -999.000,5, -999.000,5,-999.0000,5,  -999.00,9,   -999.0,9,  -999.00,9,-999.000,9,   -999.0,9,   -999.0,9,-999,   -999.0,9,-999.0000,9, -999,  -999.0, -999.00,-999.0000,-999.000,-999.000
     316N151_3,   A20,    20,  1,     28,     28,2,19970723,0228, 40.5517, -52.3575, 5188, 2186.0,    202.7,  18.2048,  36.5583,2,  36.5589,2,    197.2,2, 18.1693,    213.0,2,     1.55,2,     2.84,2,     0.01,2,     0.13,2, -999.000,9, -999.000,9, -999.000,5, -999.000,5,-999.0000,5,  -999.00,9,   -999.0,9,  -999.00,9,-999.000,9,   -999.0,9,   -999.0,9,-999,   -999.0,9,-999.0000,9, -999,  -999.0, -999.00,-999.0000,-999.000,-999.000
     316N151_3,   A20,    20,  1,     27,     27,2,19970723,0228, 40.5517, -52.3575, 5188, 3158.3,    299.7,  17.8060,  36.5205,2,  36.5198,2,    205.2,2, 17.7543,    218.4,2,     1.57,2,     3.15,2,     0.01,2,     0.15,2, -999.000,9, -999.000,9, -999.000,5, -999.000,5,-999.0000,5,  -999.00,9,   -999.0,9,  -999.00,9,-999.000,9,   -999.0,9,   -999.0,9,-999,   -999.0,9,-999.0000,9, -999,  -999.0, -999.00,-999.0000,-999.000,-999.000
     316N151_3,   A20,    20,  1,     26,     26,2,19970723,0228, 40.5517, -52.3575, 5188, 4178.8,    402.0,  16.8227,  36.3157,2,  36.3167,2,    190.0,2, 16.7559,    201.8,2,     2.55,2,     6.06,2,     0.00,2,     0.34,2, -999.000,9, -999.000,9, -999.000,5, -999.000,5,-999.0000,5,  -999.00,9,   -999.0,9,  -999.00,9,-999.000,9,   -999.0,9,   -999.0,9,-999,   -999.0,9,-999.0000,9, -999,  -999.0, -999.00,-999.0000,-999.000,-999.000
     316N151_3,   A20,    20,  1,     25,     25,2,19970723,0228, 40.5517, -52.3575, 5188, 5148.2,    499.3,  15.3006,  36.0228,2,  36.0285,2,    192.9,2, 15.2226,    191.4,2,     3.91,2,     9.28,2,     0.00,2,     0.55,2, -999.000,9, -999.000,9, -999.000,5, -999.000,5,-999.0000,5,  -999.00,9,   -999.0,9,  -999.00,9,-999.000,9,   -999.0,9,   -999.0,9,-999,   -999.0,9,-999.0000,9, -999,  -999.0, -999.00,-999.0000,-999.000,-999.000
     316N151_3,   A20,    20,  1,     24,     24,2,19970723,0228, 40.5517, -52.3575, 5188, 6156.8,    600.5,  12.9437,  35.6457,2,  35.6528,2,    161.5,2, 12.8595,    158.7,2,     7.78,2,    16.33,2,     0.00,2,     1.01,2, -999.000,9, -999.000,9, -999.000,5, -999.000,5,-999.0000,5,  -999.00,9,   -999.0,9,  -999.00,9,-999.000,9,   -999.0,9,   -999.0,9,-999,   -999.0,9,-999.0000,9, -999,  -999.0, -999.00,-999.0000,-999.000,-999.000
     316N151_3,   A20,    20,  1,     23,     23,2,19970723,0228, 40.5517, -52.3575, 5188, 7159.5,    701.5,  10.5295,  35.3488,2,  35.3473,2,    152.8,2, 10.4430,    151.9,2,    11.74,2,    21.00,2,     0.00,2,     1.33,2, -999.000,9, -999.000,9, -999.000,5, -999.000,5,-999.0000,5,  -999.00,9,   -999.0,9,  -999.00,9,-999.000,9,   -999.0,9,   -999.0,9,-999,   -999.0,9,-999.0000,9, -999,  -999.0, -999.00,-999.0000,-999.000,-999.000
     316N151_3,   A20,    20,  1,     22,     22,2,19970723,0228, 40.5517, -52.3575, 5188, 8150.4,    800.9,   8.3471,  35.1353,2,  35.1350,2,    161.4,2,  8.2607,    160.2,2,    14.55,2,    22.98,2,     0.00,2,     1.48,2,    0.945,2,    0.473,2, -999.000,5, -999.000,5,-999.0000,5,  -999.00,9,   -999.0,9,  -999.00,9,-999.000,9,   -999.0,9,   -999.0,9,-999,   -999.0,9,-999.0000,9, -999,  -999.0, -999.00,-999.0000,-999.000,-999.000
     316N151_3,   A20,    20,  1,     21,     21,2,19970723,0228, 40.5517, -52.3575, 5188, 9157.1,    901.7,   6.8752,  35.0888,2,  35.0888,2,    197.6,2,  6.7873,    188.1,2,    13.79,2,    21.53,2,     0.00,2,     1.40,2,    1.058,2,    0.544,2, -999.000,5, -999.000,5,-999.0000,5,  -999.00,9,   -999.0,9,  -999.00,9,-999.000,9,   -999.0,9,   -999.0,9,-999,   -999.0,9,-999.0000,9, -999,  -999.0, -999.00,-999.0000,-999.000,-999.000
     316N151_3,   A20,    20,  1,     20,     20,2,19970723,0228, 40.5517, -52.3575, 5188,10643.5,   1050.3,   5.4239,  35.0556,2,  35.0553,2,    224.1,2,  5.3317,    225.1,2,    12.75,2,    19.37,2,     0.00,2,     1.28,2,    1.366,2,    0.682,2, -999.000,5, -999.000,5,-999.0000,5,  -999.00,9,   -999.0,9,  -999.00,9,-999.000,9,   -999.0,9,   -999.0,9,-999,   -999.0,9,-999.0000,9, -999,  -999.0, -999.00,-999.0000,-999.000,-999.000
     316N151_3,   A20,    20,  1,     19,     19,2,19970723,0228, 40.5517, -52.3575, 5188,12157.5,   1201.6,   4.9145,  35.0455,2,  35.0473,2,    236.8,2,  4.8124,    242.5,2,    12.38,2,    18.52,2,     0.00,2,     1.22,2,    1.395,2,    0.665,2, -999.000,5, -999.000,5,-999.0000,5,  -999.00,9,   -999.0,9,  -999.00,9,-999.000,9,   -999.0,9,   -999.0,9,-999,   -999.0,9,-999.0000,9, -999,  -999.0, -999.00,-999.0000,-999.000,-999.000
     316N151_3,   A20,    20,  1,     18,     18,2,19970723,0228, 40.5517, -52.3575, 5188,13670.1,   1352.9,   4.5292,  35.0169,2,  35.0178,2,    253.7,2,  4.4168,    250.9,2,    12.20,2,    18.08,2,     0.00,2,     1.20,2, -999.000,9, -999.000,9, -999.000,5, -999.000,5,-999.0000,5,  -999.00,9,   -999.0,9,  -999.00,9,-999.000,9,   -999.0,9,   -999.0,9,-999,   -999.0,9,-999.0000,9, -999,  -999.0, -999.00,-999.0000,-999.000,-999.000
     316N151_3,   A20,    20,  1,     17,     17,2,19970723,0228, 40.5517, -52.3575, 5188,15126.6,   1498.5,   4.0015,  34.9521,2,  34.9525,2,    260.5,2,  3.8815,    265.3,2,    11.74,2,    17.51,2,     0.00,2,     1.16,2,    2.043,2,    0.990,2, -999.000,5, -999.000,5,-999.0000,5,  -999.00,9,   -999.0,9,  -999.00,9,-999.000,9,   -999.0,9,   -999.0,9,-999,   -999.0,9,-999.0000,9, -999,  -999.0, -999.00,-999.0000,-999.000,-999.000
     316N151_3,   A20,    20,  1,     16,     16,2,19970723,0228, 40.5517, -52.3575, 5188,16640.8,   1649.9,   3.7922,  34.9355,2,  34.9365,2,    265.9,2,  3.6608,    270.3,2,    11.85,2,    17.37,2,     0.00,2,     1.15,2,    2.060,2,    0.995,2, -999.000,5, -999.000,5,-999.0000,5,  -999.00,9,   -999.0,9,  -999.00,9,-999.000,9,   -999.0,9,   -999.0,9,-999,   -999.0,9,-999.0000,9, -999,  -999.0, -999.00,-999.0000,-999.000,-999.000
     316N151_3,   A20,    20,  1,     15,     15,2,19970723,0228, 40.5517, -52.3575, 5188,18651.1,   1850.8,   3.6000,  34.9195,2,  34.9210,2,    270.1,2,  3.4527,    275.3,3,    11.96,2,    17.19,2,     0.00,2,     1.14,2,    2.156,2,    1.041,2, -999.000,5, -999.000,5,-999.0000,5,  -999.00,9,   -999.0,9,  -999.00,9,-999.000,9,   -999.0,9,   -999.0,9,-999,   -999.0,9,-999.0000,9, -999,  -999.0, -999.00,-999.0000,-999.000,-999.000
     316N151_3,   A20,    20,  1,     14,     14,2,19970723,0228, 40.5517, -52.3575, 5188,21116.1,   2097.0,   3.6269,  34.9493,2,  34.9501,2,    267.7,2,  3.4557,    269.5,3,    13.42,2,    17.41,2,     0.00,2,     1.16,2,    1.301,2,    0.634,2, -999.000,5, -999.000,5,-999.0000,5,  -999.00,9,   -999.0,9,  -999.00,9,-999.000,9,   -999.0,9,   -999.0,9,-999,   -999.0,9,-999.0000,9, -999,  -999.0, -999.00,-999.0000,-999.000,-999.000
     316N151_3,   A20,    20,  1,     13,     13,2,19970723,0228, 40.5517, -52.3575, 5188,23603.7,   2345.7,   3.4463,  34.9443,2,  34.9444,2,    267.1,2,  3.2536,    269.9,2,    14.49,2,    17.36,2,     0.00,2,     1.16,2,    1.142,2,    0.546,2, -999.000,5, -999.000,5,-999.0000,5,  -999.00,9,   -999.0,9,  -999.00,9,-999.000,9,   -999.0,9,   -999.0,9,-999,   -999.0,9,-999.0000,9, -999,  -999.0, -999.00,-999.0000,-999.000,-999.000
     316N151_3,   A20,    20,  1,     12,     12,2,19970723,0228, 40.5517, -52.3575, 5188,26141.9,   2599.4,   3.3291,  34.9519,2,  34.9522,2,    267.7,2,  3.1131,    267.2,2,    16.53,2,    17.58,2,     0.00,2,     1.18,2,    0.721,2,    0.346,2, -999.000,5, -999.000,5,-999.0000,5,  -999.00,9,   -999.0,9,  -999.00,9,-999.000,9,   -999.0,9,   -999.0,9,-999,   -999.0,9,-999.0000,9, -999,  -999.0, -999.00,-999.0000,-999.000,-999.000
     316N151_3,   A20,    20,  1,     11,     11,2,19970723,0228, 40.5517, -52.3575, 5188,28627.0,   2847.7,   3.1336,  34.9471,2,  34.9490,2,    267.8,2,  2.8960,    266.5,2,    18.76,2,    17.80,2,     0.00,2,     1.20,2, -999.000,9, -999.000,9, -999.000,5, -999.000,5,-999.0000,5,  -999.00,9,   -999.0,9,  -999.00,9,-999.000,9,   -999.0,9,   -999.0,9,-999,   -999.0,9,-999.0000,9, -999,  -999.0, -999.00,-999.0000,-999.000,-999.000
     316N151_3,   A20,    20,  1,     10,     10,2,19970723,0228, 40.5517, -52.3575, 5188,31116.8,   3096.6,   2.8958,  34.9325,2,  34.9343,2,    269.7,2,  2.6372,    268.9,2,    19.35,2,    17.53,2,     0.00,2,     1.18,2,    0.644,2,    0.307,2, -999.000,5, -999.000,5,-999.0000,5,  -999.00,9,   -999.0,9,  -999.00,9,-999.000,9,   -999.0,9,   -999.0,9,-999,   -999.0,9,-999.0000,9, -999,  -999.0, -999.00,-999.0000,-999.000,-999.000
     316N151_3,   A20,    20,  1,      9,      9,2,19970723,0228, 40.5517, -52.3575, 5188,33639.1,   3348.8,   2.6477,  34.9202,2,  34.9210,2,    271.3,2,  2.3679,    270.0,2,    21.10,2,    17.49,2,     0.00,2,     1.18,2, -999.000,9, -999.000,9, -999.000,5, -999.000,5,-999.0000,5,  -999.00,9,   -999.0,9,  -999.00,9,-999.000,9,   -999.0,9,   -999.0,9,-999,   -999.0,9,-999.0000,9, -999,  -999.0, -999.00,-999.0000,-999.000,-999.000
     316N151_3,   A20,    20,  1,      8,      8,2,19970723,0228, 40.5517, -52.3575, 5188,35627.8,   3547.4,   2.5027,  34.9131,2,  34.9124,2,    271.9,2,  2.2051,    273.1,2,    22.37,2,    17.48,2,     0.00,2,     1.18,2, -999.000,9, -999.000,9, -999.000,5, -999.000,5,-999.0000,5,  -999.00,9,   -999.0,9,  -999.00,9,-999.000,9,   -999.0,9,   -999.0,9,-999,   -999.0,9,-999.0000,9, -999,  -999.0, -999.00,-999.0000,-999.000,-999.000
     316N151_3,   A20,    20,  1,      7,      7,2,19970723,0228, 40.5517, -52.3575, 5188,37626.4,   3747.3,   2.3997,  34.9065,2,  34.9063,2,    271.9,2,  2.0827,    270.5,3,    25.94,2,    17.96,2,     0.00,2,     1.22,2,    0.525,2,    0.248,2, -999.000,5, -999.000,5,-999.0000,5,  -999.00,9,   -999.0,9,  -999.00,9,-999.000,9,   -999.0,9,   -999.0,9,-999,   -999.0,9,-999.0000,9, -999,  -999.0, -999.00,-999.0000,-999.000,-999.000
     316N151_3,   A20,    20,  1,      6,      6,2,19970723,0228, 40.5517, -52.3575, 5188,39626.9,   3947.2,   2.3436,  34.9007,2,  34.9020,2,    271.6,2,  2.0057,    273.3,2,    24.52,2,    17.52,2,     0.00,2,     1.19,2,    0.859,2,    0.407,2, -999.000,5, -999.000,5,-999.0000,5,  -999.00,9,   -999.0,9,  -999.00,9,-999.000,9,   -999.0,9,   -999.0,9,-999,   -999.0,9,-999.0000,9, -999,  -999.0, -999.00,-999.0000,-999.000,-999.000
     316N151_3,   A20,    20,  1,      5,      5,2,19970723,0228, 40.5517, -52.3575, 5188,42639.1,   4248.4,   2.2767,  34.8938,2,  34.8936,2,    269.9,2,  1.9060,    269.2,2,    28.96,2,    18.22,2,     0.00,2,     1.25,2,    0.696,2,    0.333,2, -999.000,5, -999.000,5,-999.0000,5,  -999.00,9,   -999.0,9,  -999.00,9,-999.000,9,   -999.0,9,   -999.0,9,-999,   -999.0,9,-999.0000,9, -999,  -999.0, -999.00,-999.0000,-999.000,-999.000
     316N151_3,   A20,    20,  1,      4,      4,2,19970723,0228, 40.5517, -52.3575, 5188,45671.3,   4551.4,   2.2720,  34.8905,2,  34.8903,2,    267.3,2,  1.8656,    269.0,2,    30.23,2,    18.39,2,     0.00,2,     1.26,2, -999.000,9, -999.000,9, -999.000,5, -999.000,5,-999.0000,5,  -999.00,9,   -999.0,9,  -999.00,9,-999.000,9,   -999.0,9,   -999.0,9,-999,   -999.0,9,-999.0000,9, -999,  -999.0, -999.00,-999.0000,-999.000,-999.000
     316N151_3,   A20,    20,  1,      3,      3,2,19970723,0228, 40.5517, -52.3575, 5188,48659.6,   4850.2,   2.2705,  34.8862,2,  34.8862,2,    264.6,2,  1.8276,    266.4,2,    32.94,2,    18.83,2,     0.00,2,     1.29,2, -999.000,9, -999.000,9, -999.000,5, -999.000,5,-999.0000,5,  -999.00,9,   -999.0,9,  -999.00,9,-999.000,9,   -999.0,9,   -999.0,9,-999,   -999.0,9,-999.0000,9, -999,  -999.0, -999.00,-999.0000,-999.000,-999.000
     316N151_3,   A20,    20,  1,      2,      2,2,19970723,0228, 40.5517, -52.3575, 5188,51652.9,   5149.3,   2.2736,  34.8819,2,  34.8806,2,    261.7,2,  1.7929,    265.2,2,    37.57,2,    19.56,2,     0.00,2,     1.35,2,    0.395,2,    0.196,2, -999.000,5, -999.000,5,-999.0000,5,  -999.00,9,   -999.0,9,  -999.00,9,-999.000,9,   -999.0,9,   -999.0,9,-999,   -999.0,9,-999.0000,9, -999,  -999.0, -999.00,-999.0000,-999.000,-999.000
     316N151_3,   A20,    20,  1,      1,      1,3,19970723,0228, 40.5517, -52.3575, 5188,53140.5,   5298.2,   2.2522,  34.8761,2,  34.8751,2,    260.4,2,  1.7532,    260.4,2,    41.50,6,    20.19,6,     0.00,6,     1.40,6,    0.261,2,    0.132,2, -999.000,5, -999.000,5,-999.0000,5,  -999.00,9,   -999.0,9,  -999.00,9,-999.000,9,   -999.0,9,   -999.0,9,-999,   -999.0,9,-999.0000,9, -999,  -999.0, -999.00,-999.0000,-999.000,-999.000