BOTTLE,20220812CCHSIOAMB
EXPOCODE,SECT_ID,STNNBR,CASTNO,SAMPNO,BTLNBR,BTLNBR_FLAG_W,DATE,TIME,LATITUDE,LONGITUDE,DEPTH,CTDRAW,CTDPRS,CTDTMP,CTDSAL,CTDSAL_FLAG_W,SALNTY,SALNTY_FLAG_W,CTDOXY,CTDOXY_FLAG_W,THETA,OXYGEN,OXYGEN_FLAG_W,SILCAT,SILCAT_FLAG_W,NITRAT,NITRAT_FLAG_W,NITRIT,NITRIT_FLAG_W,PHSPHT,PHSPHT_FLAG_W,CFC-11,CFC-11_FLAG_W,CFC-12,CFC-12_FLAG_W,CFC113,CFC113_FLAG_W,TRITUM,TRITUM_FLAG_W,HELIUM,HELIUM_FLAG_W,DELHE3,DELHE3_FLAG_W,DELC14,DELC14_FLAG_W,DELC13,DELC13_FLAG_W,NEON,NEON_FLAG_W,TCARBN,TCARBN_FLAG_W,PCO2,PCO2_FLAG_W,PCO2_TMP,ALKALI,ALKALI_FLAG_W,PH,PH_FLAG_W,PH_TMP,C14ERR,DELHER,HELIER,NEONER,TRITER
,,,,,,,,,,,,,DBAR,ITS-90,PSS-78,,PSS-78,,UMOL/KG,,ITS-90,UMOL/KG,,UMOL/KG,,UMOL/KG,,UMOL/KG,,UMOL/KG,,PMOL/KG,,PMOL/KG,,PMOL/KG,,TU,,NMOL/KG,,PERCNT,,/MILLE,,/MILLE,,NMOL/KG,,UMOL/KG,,UATM,,DEG C,UMOL/KG,,,,DEG C,/MILLE,PERCNT,NMOL/KG,NMOL/KG,TU
     316N151_3,   A20,    72,  1,     33,     33,2,19970806,2114,  9.1972, -52.4495, 4770,  261.7,      7.7,  28.5176,  35.0382,2,  35.0376,2,    199.5,2, 28.5157,    212.9,2,     4.33,2,     0.02,2,     0.00,2,     0.09,2, -999.000,9, -999.000,9, -999.000,5, -999.000,5,-999.0000,5,  -999.00,9,   -999.0,9,  -999.00,9,-999.000,9,   1963.8,2,   -999.0,9,-999,   2301.3,2,   8.1030,2,   25,  -999.0, -999.00,-999.0000,-999.000,-999.000
     316N151_3,   A20,    72,  1,     32,     32,2,19970806,2114,  9.1972, -52.4495, 4770,  656.7,     49.3,  26.9676,  36.2282,2,  36.2270,2,    206.5,2, 26.9562,    210.1,2,     1.37,2,     0.02,2,     0.00,2,     0.03,2, -999.000,9, -999.000,9, -999.000,5, -999.000,5,-999.0000,5,  -999.00,9,   -999.0,9,  -999.00,9,-999.000,9,   2015.6,2,   -999.0,9,-999,   2371.8,6,   8.1060,6,   25,  -999.0, -999.00,-999.0000,-999.000,-999.000
     316N151_3,   A20,    72,  1,     31,     31,2,19970806,2114,  9.1972, -52.4495, 4770, 1153.1,    100.2,  22.5219,  36.5177,2,  36.5190,2,    164.7,2, 22.5016,    155.7,2,     2.06,2,     4.60,2,     0.06,2,     0.31,2, -999.000,9, -999.000,9, -999.000,5, -999.000,5,-999.0000,5,  -999.00,9,   -999.0,9,  -999.00,9,-999.000,9,   2107.1,2,   -999.0,9,-999,   2385.3,2,   7.9760,2,   25,  -999.0, -999.00,-999.0000,-999.000,-999.000
     316N151_3,   A20,    72,  1,     30,     30,2,19970806,2114,  9.1972, -52.4495, 4770, 1648.9,    150.3,  16.3772,  36.0861,2,  36.0842,2,    124.9,2, 16.3528,    117.9,2,     5.66,2,    16.48,2,     0.01,2,     0.99,2, -999.000,9, -999.000,9, -999.000,5, -999.000,5,-999.0000,5,  -999.00,9,   -999.0,9,  -999.00,9,-999.000,9,   2172.9,2,   -999.0,9,-999,   2363.4,2,   7.8070,2,   25,  -999.0, -999.00,-999.0000,-999.000,-999.000
     316N151_3,   A20,    72,  1,     29,     29,2,19970806,2114,  9.1972, -52.4495, 4770, 2150.1,    200.7,  12.1301,  35.3767,2,  35.3782,2,    110.7,2, 12.1036,    108.3,2,    10.29,2,    24.03,2,     0.00,2,     1.52,2, -999.000,9, -999.000,9, -999.000,5, -999.000,5,-999.0000,5,  -999.00,9,   -999.0,9,  -999.00,9,-999.000,9,   2189.7,2,   -999.0,9,-999,   2324.7,2,   7.6940,2,   25,  -999.0, -999.00,-999.0000,-999.000,-999.000
     316N151_3,   A20,    72,  1,     28,     28,2,19970806,2114,  9.1972, -52.4495, 4770, 2648.7,    250.8,  10.8191,  35.1637,2,  35.1624,2,    108.5,2, 10.7884,    108.6,2,    12.20,2,    26.30,2,     0.00,2,     1.68,2, -999.000,9, -999.000,9, -999.000,5, -999.000,5,-999.0000,5,  -999.00,9,   -999.0,9,  -999.00,9,-999.000,9,   2195.0,2,   -999.0,9,-999,   2317.8,2,   7.6570,2,   25,  -999.0, -999.00,-999.0000,-999.000,-999.000
     316N151_3,   A20,    72,  1,     27,     27,2,19970806,2114,  9.1972, -52.4495, 4770, 3158.1,    301.8,   9.8611,  35.0355,2,  35.0339,2,    108.5,2,  9.8261,    110.5,2,    13.92,2,    27.81,2,     0.00,2,     1.79,2, -999.000,9, -999.000,9, -999.000,5, -999.000,5,-999.0000,5,  -999.00,9,   -999.0,9,  -999.00,9,-999.000,9,   2199.8,2,   -999.0,9,-999,   2310.4,2,   7.6410,2,   25,  -999.0, -999.00,-999.0000,-999.000,-999.000
     316N151_3,   A20,    72,  1,     26,     26,2,19970806,2114,  9.1972, -52.4495, 4770, 3892.7,    375.3,   8.6777,  34.8719,2,  34.8714,2,    111.4,2,  8.6375,    112.9,2,    16.49,2,    30.12,2,     0.00,2,     1.95,2, -999.000,9, -999.000,9, -999.000,5, -999.000,5,-999.0000,5,  -999.00,9,   -999.0,9,  -999.00,9,-999.000,9,   2205.8,2,   -999.0,9,-999,   2307.9,2,   7.6060,2,   25,  -999.0, -999.00,-999.0000,-999.000,-999.000
     316N151_3,   A20,    72,  1,     25,     25,2,19970806,2114,  9.1972, -52.4495, 4770, 4637.9,    449.9,   7.9746,  34.7961,2,  34.7954,2,    111.6,2,  7.9286,    112.1,2,    18.59,2,    31.70,2,     0.00,2,     2.06,2, -999.000,9, -999.000,9, -999.000,5, -999.000,5,-999.0000,5,  -999.00,9,   -999.0,9,  -999.00,9,-999.000,9,   2210.9,2,   -999.0,9,-999,   2301.5,2,   7.5870,2,   25,  -999.0, -999.00,-999.0000,-999.000,-999.000
     316N151_3,   A20,    72,  1,     24,     24,2,19970806,2114,  9.1972, -52.4495, 4770, 5630.6,    549.2,   7.1056,  34.7226,2,  34.7220,2,    115.4,2,  7.0526,    115.1,2,    21.45,2,    33.09,2,     0.00,2,     2.17,2, -999.000,9, -999.000,9, -999.000,5, -999.000,5,-999.0000,5,  -999.00,9,   -999.0,9,  -999.00,9,-999.000,9,   2216.0,2,   -999.0,9,-999,   2302.7,2,   7.5650,2,   25,  -999.0, -999.00,-999.0000,-999.000,-999.000
     316N151_3,   A20,    72,  1,     23,     23,2,19970806,2114,  9.1972, -52.4495, 4770, 6640.7,    650.4,   6.5257,  34.6956,2,  34.6954,2,    117.1,2,  6.4654,    116.7,2,    23.74,2,    33.94,2,     0.00,2,     2.24,2, -999.000,9, -999.000,9, -999.000,5, -999.000,5,-999.0000,5,  -999.00,9,   -999.0,9,  -999.00,9,-999.000,9,   2222.2,2,   -999.0,9,-999,   2300.8,2,   7.5630,2,   25,  -999.0, -999.00,-999.0000,-999.000,-999.000
     316N151_3,   A20,    72,  1,     22,     22,2,19970806,2114,  9.1972, -52.4495, 4770, 7639.5,    750.2,   5.9116,  34.6781,2,  34.6815,2,    122.5,2,  5.8450,    121.6,2,    26.12,2,    34.24,2,     0.00,2,     2.28,2, -999.000,9, -999.000,9, -999.000,5, -999.000,5,-999.0000,5,  -999.00,9,   -999.0,9,  -999.00,9,-999.000,9,   2223.1,2,   -999.0,9,-999,   2304.1,2,   7.5510,2,   25,  -999.0, -999.00,-999.0000,-999.000,-999.000
     316N151_3,   A20,    72,  1,     21,     21,2,19970806,2114,  9.1972, -52.4495, 4770, 8655.4,    851.7,   5.2917,  34.6451,2,  34.6451,2,    137.7,2,  5.2196,    146.8,3,    28.42,2,    33.71,2,    -0.01,2,     2.27,2, -999.000,9, -999.000,9, -999.000,5, -999.000,5,-999.0000,5,  -999.00,9,   -999.0,9,  -999.00,9,-999.000,9,   2223.7,2,   -999.0,9,-999,   2306.3,2,   7.5710,2,   25,  -999.0, -999.00,-999.0000,-999.000,-999.000
     316N151_3,   A20,    72,  1,     20,     20,2,19970806,2114,  9.1972, -52.4495, 4770,10164.4,   1002.4,   5.0498,  34.7282,2,  34.7281,2,    153.4,2,  4.9655,    148.0,2,    27.79,2,    31.51,2,     0.00,2,     2.13,2,    0.029,2,    0.019,2, -999.000,5, -999.000,5,-999.0000,5,  -999.00,9,   -999.0,9,  -999.00,9,-999.000,9,   2214.7,2,   -999.0,9,-999,   2311.5,2,   7.5900,2,   25,  -999.0, -999.00,-999.0000,-999.000,-999.000
     316N151_3,   A20,    72,  1,     19,     19,2,19970806,2114,  9.1972, -52.4495, 4770,11646.6,   1150.6,   4.9463,  34.8487,2,  34.8494,2,    174.1,2,  4.8490,    174.3,2,    24.35,2,    27.90,2,     0.00,2,     1.88,2,    0.068,2,    0.038,2, -999.000,5, -999.000,5,-999.0000,5,  -999.00,9,   -999.0,9,  -999.00,9,-999.000,9,   2202.2,2,   -999.0,9,-999,   2313.2,2,   7.6430,2,   25,  -999.0, -999.00,-999.0000,-999.000,-999.000
     316N151_3,   A20,    72,  1,     18,     18,2,19970806,2114,  9.1972, -52.4495, 4770,13165.2,   1302.4,   4.8964,  34.9756,2,  34.9782,2,    208.2,2,  4.7852,    209.5,2,    18.76,2,    22.93,2,     0.00,2,     1.53,2,    0.223,6,    0.115,6, -999.000,5, -999.000,5,-999.0000,5,  -999.00,9,   -999.0,9,  -999.00,9,-999.000,9,   2181.7,2,   -999.0,9,-999,   2317.8,2,   7.6960,2,   25,  -999.0, -999.00,-999.0000,-999.000,-999.000
     316N151_3,   A20,    72,  1,     17,     17,2,19970806,2114,  9.1972, -52.4495, 4770,14674.4,   1453.1,   4.6491,  35.0035,2,  35.0016,2,    228.4,2,  4.5260,    229.8,2,    16.44,2,    20.82,2,     0.00,2,     1.38,2,    0.330,2,    0.174,2, -999.000,5, -999.000,5,-999.0000,5,  -999.00,9,   -999.0,9,  -999.00,9,-999.000,9,   2173.4,2,   -999.0,9,-999,   2314.8,2,   7.7250,2,   25,  -999.0, -999.00,-999.0000,-999.000,-999.000
     316N151_3,   A20,    72,  1,     16,     16,2,19970806,2114,  9.1972, -52.4495, 4770,16178.7,   1603.6,   4.2749,  35.0003,2,  35.0004,2,    248.6,2,  4.1418,    244.3,2,    15.45,2,    19.62,2,     0.00,2,     1.30,2,    0.298,6,    0.157,6, -999.000,5, -999.000,5,-999.0000,5,  -999.00,9,   -999.0,9,  -999.00,9,-999.000,9,   2164.6,2,   -999.0,9,-999,   2315.3,2,   7.7340,2,   25,  -999.0, -999.00,-999.0000,-999.000,-999.000
     316N151_3,   A20,    72,  1,     15,     15,2,19970806,2114,  9.1972, -52.4495, 4770,17673.6,   1752.9,   4.0017,  34.9941,2,  34.9944,2,    253.4,2,  3.8579,    252.5,2,    15.49,2,    19.01,2,     0.00,2,     1.26,2,    0.260,2,    0.139,2, -999.000,5, -999.000,5,-999.0000,5,  -999.00,9,   -999.0,9,  -999.00,9,-999.000,9,   2162.3,2,   -999.0,9,-999,   2312.9,2,   7.7470,2,   25,  -999.0, -999.00,-999.0000,-999.000,-999.000
     316N151_3,   A20,    72,  1,     14,     14,2,19970806,2114,  9.1972, -52.4495, 4770,19157.7,   1901.3,   3.7589,  34.9856,2,  34.9868,2,    258.9,2,  3.6043,    258.1,2,    16.08,2,    18.59,2,     0.00,2,     1.24,2,    0.291,2,    0.156,2, -999.000,5, -999.000,5,-999.0000,5,  -999.00,9,   -999.0,9,  -999.00,9,-999.000,9,   2160.6,2,   -999.0,9,-999,   2313.4,2,   7.7480,2,   25,  -999.0, -999.00,-999.0000,-999.000,-999.000
     316N151_3,   A20,    72,  1,     13,     13,2,19970806,2114,  9.1972, -52.4495, 4770,21164.0,   2101.9,   3.4795,  34.9740,2,  34.9761,2,    259.5,2,  3.3100,    259.4,2,    18.09,2,    18.63,2,     0.00,2,     1.24,2,    0.194,2,    0.104,2, -999.000,5, -999.000,5,-999.0000,5,  -999.00,9,   -999.0,9,  -999.00,9,-999.000,9,   2159.7,2,   -999.0,9,-999,   2315.0,2,   7.7540,2,   25,  -999.0, -999.00,-999.0000,-999.000,-999.000
     316N151_3,   A20,    72,  1,     12,     12,2,19970806,2114,  9.1972, -52.4495, 4770,23164.3,   2301.8,   3.2325,  34.9618,2,  34.9642,2,    260.5,2,  3.0478,    260.7,2,    20.19,2,    18.71,2,     0.00,2,     1.25,2,    0.160,2,    0.091,2, -999.000,5, -999.000,5,-999.0000,5,  -999.00,9,   -999.0,9,  -999.00,9,-999.000,9,   2162.3,2,   -999.0,9,-999,   2321.0,2,   7.7490,2,   25,  -999.0, -999.00,-999.0000,-999.000,-999.000
     316N151_3,   A20,    72,  1,     11,     11,2,19970806,2114,  9.1972, -52.4495, 4770,25170.9,   2502.4,   3.0409,  34.9500,2,  34.9526,2,    260.9,2,  2.8399,    262.5,2,    22.02,2,    18.79,2,     0.00,2,     1.26,2,    0.159,2,    0.084,2, -999.000,5, -999.000,5,-999.0000,5,  -999.00,9,   -999.0,9,  -999.00,9,-999.000,9,   2165.6,2,   -999.0,9,-999,   2319.4,2,   7.7530,2,   25,  -999.0, -999.00,-999.0000,-999.000,-999.000
     316N151_3,   A20,    72,  1,     10,     10,2,19970806,2114,  9.1972, -52.4495, 4770,27184.6,   2703.6,   2.8957,  34.9403,2,  34.9410,2,    261.0,2,  2.6776,    258.4,2,    24.68,2,    19.10,2,     0.00,2,     1.28,2,    0.140,6,    0.073,6, -999.000,5, -999.000,5,-999.0000,5,  -999.00,9,   -999.0,9,  -999.00,9,-999.000,9,   2167.9,2,   -999.0,9,-999,   2323.3,2,   7.7460,2,   25,  -999.0, -999.00,-999.0000,-999.000,-999.000
     316N151_3,   A20,    72,  1,      9,      9,2,19970806,2114,  9.1972, -52.4495, 4770,29164.1,   2901.5,   2.7525,  34.9315,2,  34.9325,2,    260.8,2,  2.5173,    261.6,2,    25.85,2,    19.02,2,     0.00,2,     1.28,2,    0.171,2,    0.091,2, -999.000,5, -999.000,5,-999.0000,5,  -999.00,9,   -999.0,9,  -999.00,9,-999.000,9,   2168.8,2,   -999.0,9,-999,   2321.9,2,   7.7490,2,   25,  -999.0, -999.00,-999.0000,-999.000,-999.000
     316N151_3,   A20,    72,  1,      8,      8,2,19970806,2114,  9.1972, -52.4495, 4770,31645.2,   3149.5,   2.6370,  34.9212,2,  34.9219,2,    256.6,2,  2.3786,    255.3,2,    32.55,2,    20.17,2,     0.00,2,     1.36,2,    0.062,2,    0.038,2, -999.000,5, -999.000,5,-999.0000,5,  -999.00,9,   -999.0,9,  -999.00,9,-999.000,9,   2176.2,2,   -999.0,9,-999,   2332.3,3,   7.7420,2,   25,  -999.0, -999.00,-999.0000,-999.000,-999.000
     316N151_3,   A20,    72,  1,      7,      7,2,19970806,2114,  9.1972, -52.4495, 4770,34121.8,   3397.0,   2.5159,  34.9139,2,  34.9145,2,    260.5,2,  2.2342,    260.9,2,    30.53,2,    19.48,2,     0.00,2,     1.32,2,    0.142,2,    0.076,2, -999.000,5, -999.000,5,-999.0000,5,  -999.00,9,   -999.0,9,  -999.00,9,-999.000,9,   2176.6,2,   -999.0,9,-999,   2326.4,2,   7.7480,2,   25,  -999.0, -999.00,-999.0000,-999.000,-999.000
     316N151_3,   A20,    72,  1,      6,      6,2,19970806,2114,  9.1972, -52.4495, 4770,36630.5,   3647.8,   2.4005,  34.9069,2,  34.9061,2,    264.3,2,  2.0945,    262.7,2,    29.72,2,    19.06,2,     0.00,2,     1.29,2,    0.212,2,    0.114,2, -999.000,5, -999.000,5,-999.0000,5,  -999.00,9,   -999.0,9,  -999.00,9,-999.000,9,   2172.5,2,   -999.0,9,-999,   2325.0,2,   7.7470,2,   25,  -999.0, -999.00,-999.0000,-999.000,-999.000
     316N151_3,   A20,    72,  1,      5,      5,2,19970806,2114,  9.1972, -52.4495, 4770,39160.1,   3900.7,   2.3273,  34.9003,2,  34.9006,2,    264.4,2,  1.9951,    262.3,2,    31.07,2,    19.14,2,     0.00,2,     1.30,2,    0.201,2,    0.105,2, -999.000,5, -999.000,5,-999.0000,5,  -999.00,9,   -999.0,9,  -999.00,9,-999.000,9,   2172.2,2,   -999.0,9,-999,   2325.9,2,   7.7480,2,   25,  -999.0, -999.00,-999.0000,-999.000,-999.000
     316N151_3,   A20,    72,  1,      4,      4,2,19970806,2114,  9.1972, -52.4495, 4770,41687.3,   4153.3,   2.2850,  34.8952,2,  34.8959,2,    264.4,2,  1.9251,    263.9,2,    33.08,2,    19.37,2,     0.00,2,     1.32,2,    0.169,6,    0.091,6, -999.000,5, -999.000,5,-999.0000,5,  -999.00,9,   -999.0,9,  -999.00,9,-999.000,9,   2173.5,2,   -999.0,9,-999,   2328.4,2,   7.7440,2,   25,  -999.0, -999.00,-999.0000,-999.000,-999.000
     316N151_3,   A20,    72,  1,      3,      3,2,19970806,2114,  9.1972, -52.4495, 4770,44180.1,   4402.5,   2.2370,  34.8875,2,  34.8875,2,    263.2,2,  1.8495,    262.6,2,    35.94,2,    19.75,2,     0.00,2,     1.35,2,    0.172,2,    0.098,2, -999.000,5, -999.000,5,-999.0000,5,  -999.00,9,   -999.0,9,  -999.00,9,-999.000,9,   2175.3,2,   -999.0,9,-999,   2331.0,2,   7.7430,2,   25,  -999.0, -999.00,-999.0000,-999.000,-999.000
     316N151_3,   A20,    72,  1,      2,      2,2,19970806,2114,  9.1972, -52.4495, 4770,46681.5,   4652.7,   2.0732,  34.8654,2,  34.8641,2,    255.2,2,  1.6610,    253.8,2,    48.49,2,    21.68,2,     0.00,2,     1.48,2,    0.085,2,    0.051,2, -999.000,5, -999.000,5,-999.0000,5,  -999.00,9,   -999.0,9,  -999.00,9,-999.000,9,   2186.8,2,   -999.0,9,-999,   2343.1,6,   7.7280,6,   25,  -999.0, -999.00,-999.0000,-999.000,-999.000
     316N151_3,   A20,    72,  1,      1,      1,2,19970806,2114,  9.1972, -52.4495, 4770,48241.7,   4809.2,   1.8892,  34.8394,2,  34.8390,2,    244.4,2,  1.4641,    246.2,2,    61.13,6,    23.47,6,     0.00,6,     1.61,6,    0.054,2,    0.034,2, -999.000,5, -999.000,5,-999.0000,5,  -999.00,9,   -999.0,9,  -999.00,9,-999.000,9,   2207.8,2,   -999.0,9,-999,   2348.9,2,   7.7130,2,   25,  -999.0, -999.00,-999.0000,-999.000,-999.000