BOTTLE,20220812CCHSIOAMB
EXPOCODE,SECT_ID,STNNBR,CASTNO,SAMPNO,BTLNBR,BTLNBR_FLAG_W,DATE,TIME,LATITUDE,LONGITUDE,DEPTH,CTDRAW,CTDPRS,CTDTMP,CTDSAL,CTDSAL_FLAG_W,SALNTY,SALNTY_FLAG_W,CTDOXY,CTDOXY_FLAG_W,THETA,OXYGEN,OXYGEN_FLAG_W,SILCAT,SILCAT_FLAG_W,NITRAT,NITRAT_FLAG_W,NITRIT,NITRIT_FLAG_W,PHSPHT,PHSPHT_FLAG_W,CFC-11,CFC-11_FLAG_W,CFC-12,CFC-12_FLAG_W,CFC113,CFC113_FLAG_W,TRITUM,TRITUM_FLAG_W,HELIUM,HELIUM_FLAG_W,DELHE3,DELHE3_FLAG_W,DELC14,DELC14_FLAG_W,DELC13,DELC13_FLAG_W,NEON,NEON_FLAG_W,TCARBN,TCARBN_FLAG_W,PCO2,PCO2_FLAG_W,PCO2_TMP,ALKALI,ALKALI_FLAG_W,PH,PH_FLAG_W,PH_TMP,C14ERR,DELHER,HELIER,NEONER,TRITER
,,,,,,,,,,,,,DBAR,ITS-90,PSS-78,,PSS-78,,UMOL/KG,,ITS-90,UMOL/KG,,UMOL/KG,,UMOL/KG,,UMOL/KG,,UMOL/KG,,PMOL/KG,,PMOL/KG,,PMOL/KG,,TU,,NMOL/KG,,PERCNT,,/MILLE,,/MILLE,,NMOL/KG,,UMOL/KG,,UATM,,DEG C,UMOL/KG,,,,DEG C,/MILLE,PERCNT,NMOL/KG,NMOL/KG,TU
     316N151_3,   A20,    92,  1,     14,     14,2,19970808,2332,  7.1033, -53.4880,  131,  503.5,      2.1,  28.2024,  32.9300,3,  32.9454,2,     77.0,3, 28.2019,    220.7,2,  -999.00,9,  -999.00,9,  -999.00,9,  -999.00,9,    1.704,2,    1.112,2, -999.000,5, -999.000,5,-999.0000,5,  -999.00,9,   -999.0,9,  -999.00,9,-999.000,9,   -999.0,9,   -999.0,9,-999,   2186.6,2,   8.1620,2,   25,  -999.0, -999.00,-999.0000,-999.000,-999.000
     316N151_3,   A20,    92,  1,     13,     13,2,19970808,2332,  7.1033, -53.4880,  131,  503.7,      2.3,  28.2058,  32.9461,3,-999.0000,9,     76.2,3, 28.2053,   -999.0,9,     5.48,3,     0.00,2,     0.00,2,     0.05,2, -999.000,9, -999.000,9, -999.000,5, -999.000,5,-999.0000,5,  -999.00,9,   -999.0,9,  -999.00,9,-999.000,9,   1841.5,2,   -999.0,9,-999,   -999.0,9,-999.0000,9, -999,  -999.0, -999.00,-999.0000,-999.000,-999.000
     316N151_3,   A20,    92,  1,     12,     12,2,19970808,2332,  7.1033, -53.4880,  131,  577.9,     10.0,  28.2134,  33.3072,3,  33.6149,2,     78.8,3, 28.2109,    212.8,2,     5.19,3,     0.08,2,     0.02,2,     0.08,2, -999.000,9, -999.000,9, -999.000,5, -999.000,5,-999.0000,5,  -999.00,9,   -999.0,9,  -999.00,9,-999.000,9,   -999.0,9,   -999.0,9,-999,   -999.0,9,-999.0000,9, -999,  -999.0, -999.00,-999.0000,-999.000,-999.000
     316N151_3,   A20,    92,  1,     11,     11,2,19970808,2332,  7.1033, -53.4880,  131,  574.9,     10.3,  28.1547,  33.3746,3,-999.0000,9,     80.1,3, 28.1524,   -999.0,9,  -999.00,9,  -999.00,9,  -999.00,9,  -999.00,9,    1.701,2,    1.121,2, -999.000,5,    0.754,2,   1.7273,2,    -2.46,2,   -999.0,9,  -999.00,9,   6.592,2,   -999.0,9,   -999.0,9,-999,   -999.0,9,-999.0000,9, -999,  -999.0,    0.15,  0.0086,   0.033,   0.013
     316N151_3,   A20,    92,  1,     10,     10,2,19970808,2332,  7.1033, -53.4880,  131,  716.8,     25.1,  26.1003,  36.1213,3,  36.1269,2,     71.4,3, 26.0947,    164.8,2,     3.99,3,     2.28,2,     0.36,2,     0.32,2, -999.000,9, -999.000,9, -999.000,5, -999.000,5,-999.0000,5,  -999.00,9,   -999.0,9,  -999.00,9,-999.000,9,   -999.0,9,   -999.0,9,-999,   -999.0,9,-999.0000,9, -999,  -999.0, -999.00,-999.0000,-999.000,-999.000
     316N151_3,   A20,    92,  1,      9,      9,2,19970808,2332,  7.1033, -53.4880,  131,  717.2,     25.2,  26.1003,  36.1209,3,-999.0000,9,     72.0,3, 26.0947,   -999.0,9,  -999.00,9,  -999.00,9,  -999.00,9,  -999.00,9,    1.716,2,    1.068,2, -999.000,5, -999.000,5,-999.0000,5,  -999.00,9,   -999.0,9,  -999.00,9,-999.000,9,   -999.0,9,   -999.0,9,-999,   -999.0,9,-999.0000,9, -999,  -999.0, -999.00,-999.0000,-999.000,-999.000
     316N151_3,   A20,    92,  1,      8,      8,2,19970808,2332,  7.1033, -53.4880,  131,  959.8,     51.1,  25.0448,  36.2754,3,  36.2900,2,     74.1,3, 25.0336,    160.8,2,     2.29,3,     3.50,2,     0.09,2,     0.33,2,    1.804,2,    1.049,2, -999.000,5, -999.000,5,-999.0000,5,  -999.00,9,   -999.0,9,  -999.00,9,-999.000,9,   -999.0,9,   -999.0,9,-999,   -999.0,9,-999.0000,9, -999,  -999.0, -999.00,-999.0000,-999.000,-999.000
     316N151_3,   A20,    92,  1,      7,      7,2,19970808,2332,  7.1033, -53.4880,  131,  960.6,     51.2,  25.0501,  32.9455,2,-999.0000,9,     70.6,4, 25.0389,   -999.0,9,  -999.00,9,  -999.00,9,  -999.00,9,  -999.00,9,    1.800,2,    1.045,2, -999.000,5, -999.000,5,-999.0000,5,  -999.00,9,   -999.0,9,  -999.00,9,-999.000,9,   -999.0,9,   -999.0,9,-999,   -999.0,9,-999.0000,9, -999,  -999.0, -999.00,-999.0000,-999.000,-999.000
     316N151_3,   A20,    92,  1,      6,      6,2,19970808,2332,  7.1033, -53.4880,  131, 1183.7,     75.0,  20.7447,  33.3740,2,  36.3478,2,     64.7,4, 20.7304,    145.3,2,     2.80,3,     8.52,2,     0.06,2,     0.60,2,    1.831,2,    1.046,2, -999.000,5, -999.000,5,-999.0000,5,  -999.00,9,   -999.0,9,  -999.00,9,-999.000,9,   -999.0,9,   -999.0,9,-999,   -999.0,9,-999.0000,9, -999,  -999.0, -999.00,-999.0000,-999.000,-999.000
     316N151_3,   A20,    92,  1,      5,      5,2,19970808,2332,  7.1033, -53.4880,  131, 1182.9,     75.1,  20.8558,  36.1201,2,-999.0000,9,     65.6,4, 20.8415,   -999.0,9,  -999.00,9,  -999.00,9,  -999.00,9,  -999.00,9,    1.856,2,    1.031,2, -999.000,5,    0.751,2,   1.7439,2,    -1.29,2,   -999.0,9,  -999.00,9,   6.852,2,   -999.0,9,   -999.0,9,-999,   -999.0,9,-999.0000,9, -999,  -999.0,    0.15,  0.0087,   0.034,   0.013
     316N151_3,   A20,    92,  1,      4,      4,2,19970808,2332,  7.1033, -53.4880,  131, 1433.3,    101.3,  17.5914,  36.2756,2,  36.1769,2,     71.2,4, 17.5741,    123.9,2,     4.59,3,    14.43,2,     0.05,2,     0.90,2,    1.712,2,    0.952,2, -999.000,5, -999.000,5,-999.0000,5,  -999.00,9,   -999.0,9,  -999.00,9,-999.000,9,   -999.0,9,   -999.0,9,-999,   -999.0,9,-999.0000,9, -999,  -999.0, -999.00,-999.0000,-999.000,-999.000
     316N151_3,   A20,    92,  1,      3,      3,2,19970808,2332,  7.1033, -53.4880,  131, 1429.5,    101.8,  17.6176,  36.3414,2,-999.0000,9,     69.7,4, 17.6003,   -999.0,9,  -999.00,9,  -999.00,9,  -999.00,9,  -999.00,9,    1.736,2,    0.940,2, -999.000,5, -999.000,5,-999.0000,5,  -999.00,9,   -999.0,9,  -999.00,9,-999.000,9,   -999.0,9,   -999.0,9,-999,   -999.0,9,-999.0000,9, -999,  -999.0, -999.00,-999.0000,-999.000,-999.000
     316N151_3,   A20,    92,  1,      2,      2,2,19970808,2332,  7.1033, -53.4880,  131, 1591.6,    118.6,  14.6243,  36.1931,2,  35.8137,2,     72.8,4, 14.6065,    116.1,2,     8.20,3,    18.68,2,     0.11,2,     1.22,2, -999.000,9, -999.000,9, -999.000,5, -999.000,5,-999.0000,5,  -999.00,9,   -999.0,9,  -999.00,9,-999.000,9,   -999.0,9,   -999.0,9,-999,   -999.0,9,-999.0000,9, -999,  -999.0, -999.00,-999.0000,-999.000,-999.000
     316N151_3,   A20,    92,  1,      1,      1,2,19970808,2332,  7.1033, -53.4880,  131, 1591.1,    118.7,  14.6893,  35.7678,2,-999.0000,9,   -999.0,9, 14.6715,   -999.0,9,  -999.00,9,  -999.00,9,  -999.00,9,  -999.00,9,    1.455,2,    0.796,2, -999.000,5,    0.747,2,   1.7718,2,     2.13,2,   -999.0,9,  -999.00,9,   7.219,2,   -999.0,9,   -999.0,9,-999,   -999.0,9,-999.0000,9, -999,  -999.0,    0.15,  0.0089,   0.036,   0.013
     316N151_3,   A20,    93,  1,     10,     10,2,19970809,0028,  7.0593, -53.5102,   93,  507.6,      1.9,  27.9864,  33.3963,3,-999.0000,9,     75.3,3, 27.9859,   -999.0,9,  -999.00,9,  -999.00,9,  -999.00,9,  -999.00,9, -999.000,9, -999.000,9, -999.000,5, -999.000,5,-999.0000,5,  -999.00,9,   -999.0,9,  -999.00,9,-999.000,9,   1866.8,2,   -999.0,9,-999,   2210.3,2,   8.1450,2,   25,  -999.0, -999.00,-999.0000,-999.000,-999.000
     316N151_3,   A20,    93,  1,      9,      9,2,19970809,0028,  7.0593, -53.5102,   93,  504.0,      2.3,  27.9773,  33.3636,3,  33.3894,2,     74.7,3, 27.9769,    214.2,2,     4.67,3,     0.00,2,     0.00,2,     0.06,2, -999.000,9, -999.000,9, -999.000,5, -999.000,5,-999.0000,5,  -999.00,9,   -999.0,9,  -999.00,9,-999.000,9,   -999.0,9,   -999.0,9,-999,   -999.0,9,-999.0000,9, -999,  -999.0, -999.00,-999.0000,-999.000,-999.000
     316N151_3,   A20,    93,  1,      8,      8,2,19970809,0028,  7.0593, -53.5102,   93,  612.3,     13.4,  27.1406,  35.4596,3,-999.0000,9,     69.8,3, 27.1374,   -999.0,9,  -999.00,9,  -999.00,9,  -999.00,9,  -999.00,9, -999.000,9, -999.000,9, -999.000,5, -999.000,5,-999.0000,5,  -999.00,9,   -999.0,9,  -999.00,9,-999.000,9,   2021.2,2,   -999.0,9,-999,   2328.4,2,   8.0380,2,   25,  -999.0, -999.00,-999.0000,-999.000,-999.000
     316N151_3,   A20,    93,  1,      7,      7,2,19970809,0028,  7.0593, -53.5102,   93,  612.2,     13.5,  27.1489,  35.4508,3,  35.5664,2,     69.9,3, 27.1458,    177.4,2,     4.17,3,     0.67,2,     0.12,2,     0.20,2, -999.000,9, -999.000,9, -999.000,5, -999.000,5,-999.0000,5,  -999.00,9,   -999.0,9,  -999.00,9,-999.000,9,   -999.0,9,   -999.0,9,-999,   -999.0,9,-999.0000,9, -999,  -999.0, -999.00,-999.0000,-999.000,-999.000
     316N151_3,   A20,    93,  1,      6,      6,2,19970809,0028,  7.0593, -53.5102,   93,  800.0,     33.5,  25.6126,  36.1280,3,-999.0000,9,     65.2,3, 25.6052,   -999.0,9,  -999.00,9,  -999.00,9,  -999.00,9,  -999.00,9, -999.000,9, -999.000,9, -999.000,5, -999.000,5,-999.0000,5,  -999.00,9,   -999.0,9,  -999.00,9,-999.000,9,   2099.8,2,   -999.0,9,-999,   2366.0,2,   7.9570,2,   25,  -999.0, -999.00,-999.0000,-999.000,-999.000
     316N151_3,   A20,    93,  1,      5,      5,2,19970809,0028,  7.0593, -53.5102,   93,  799.7,     33.6,  25.6149,  33.3628,2,  36.1297,2,     71.5,4, 25.6074,    137.5,3,     6.95,3,     3.78,2,     0.39,2,     0.44,2, -999.000,9, -999.000,9, -999.000,5, -999.000,5,-999.0000,5,  -999.00,9,   -999.0,9,  -999.00,9,-999.000,9,   -999.0,9,   -999.0,9,-999,   -999.0,9,-999.0000,9, -999,  -999.0, -999.00,-999.0000,-999.000,-999.000
     316N151_3,   A20,    93,  1,      4,      4,2,19970809,0028,  7.0593, -53.5102,   93, 1063.4,     61.7,  22.0537,  35.4499,2,-999.0000,9,     63.1,4, 22.0414,   -999.0,9,  -999.00,9,  -999.00,9,  -999.00,9,  -999.00,9, -999.000,9, -999.000,9, -999.000,5, -999.000,5,-999.0000,5,  -999.00,9,   -999.0,9,  -999.00,9,-999.000,9,   2112.5,2,   -999.0,9,-999,   2382.5,2,   7.9570,2,   25,  -999.0, -999.00,-999.0000,-999.000,-999.000
     316N151_3,   A20,    93,  1,      3,      3,2,19970809,0028,  7.0593, -53.5102,   93, 1063.1,     61.8,  22.0583,  36.1264,2,  36.3782,2,     63.6,4, 22.0460,    152.2,2,     2.18,3,     6.31,2,     0.08,2,     0.46,2, -999.000,9, -999.000,9, -999.000,5, -999.000,5,-999.0000,5,  -999.00,9,   -999.0,9,  -999.00,9,-999.000,9,   -999.0,9,   -999.0,9,-999,   -999.0,9,-999.0000,9, -999,  -999.0, -999.00,-999.0000,-999.000,-999.000
     316N151_3,   A20,    93,  1,      2,      2,2,19970809,0028,  7.0593, -53.5102,   93, 1240.0,     80.8,  20.5324,  36.3705,2,-999.0000,9,     68.5,4, 20.5171,   -999.0,9,  -999.00,9,  -999.00,9,  -999.00,9,  -999.00,9, -999.000,9, -999.000,9, -999.000,5, -999.000,5,-999.0000,5,  -999.00,9,   -999.0,9,  -999.00,9,-999.000,9,   2129.3,2,   -999.0,9,-999,   2377.9,2,   7.9210,2,   25,  -999.0, -999.00,-999.0000,-999.000,-999.000
     316N151_3,   A20,    93,  1,      1,      1,2,19970809,0028,  7.0593, -53.5102,   93, 1240.8,     80.9,  20.5252,  36.3662,2,  36.3848,2,   -999.0,9, 20.5099,    142.4,2,     3.08,3,     7.92,6,     0.10,6,     0.54,2, -999.000,9, -999.000,9, -999.000,5, -999.000,5,-999.0000,5,  -999.00,9,   -999.0,9,  -999.00,9,-999.000,9,   -999.0,9,   -999.0,9,-999,   -999.0,9,-999.0000,9, -999,  -999.0, -999.00,-999.0000,-999.000,-999.000
     316N151_3,   A20,    94,  1,     10,     10,2,19970809,0119,  7.0138, -53.5337,   85,  511.6,      2.2,  27.9678,  33.3925,3,  33.3908,2,     75.1,3, 27.9672,    222.3,2,     4.75,3,     0.00,2,     0.00,2,     0.05,2, -999.000,9, -999.000,9, -999.000,5, -999.000,5,-999.0000,5,  -999.00,9,   -999.0,9,  -999.00,9,-999.000,9,   1866.2,2,   -999.0,9,-999,   2211.2,2,   8.1520,2,   25,  -999.0, -999.00,-999.0000,-999.000,-999.000
     316N151_3,   A20,    94,  1,      9,      9,2,19970809,0119,  7.0138, -53.5337,   85,  507.3,      2.3,  27.9601,  33.3883,3,-999.0000,9,     76.5,3, 27.9596,   -999.0,9,  -999.00,9,  -999.00,9,  -999.00,9,  -999.00,9,    1.762,2,    1.068,2, -999.000,5, -999.000,5,-999.0000,5,  -999.00,9,   -999.0,9,  -999.00,9,-999.000,9,   -999.0,9,   -999.0,9,-999,   -999.0,9,-999.0000,9, -999,  -999.0, -999.00,-999.0000,-999.000,-999.000
     316N151_3,   A20,    94,  1,      8,      8,2,19970809,0119,  7.0138, -53.5337,   85,  579.0,      9.8,  27.6077,  34.2189,3,  34.2614,2,     76.2,3, 27.6054,    208.1,2,     4.26,3,     0.00,2,     0.00,2,     0.09,2, -999.000,9, -999.000,9, -999.000,5, -999.000,5,-999.0000,5,  -999.00,9,   -999.0,9,  -999.00,9,-999.000,9,   -999.0,9,   -999.0,9,-999,   -999.0,9,-999.0000,9, -999,  -999.0, -999.00,-999.0000,-999.000,-999.000
     316N151_3,   A20,    94,  1,      7,      7,2,19970809,0119,  7.0138, -53.5337,   85,  581.4,     10.0,  27.4667,  34.3694,3,-999.0000,9,     72.6,3, 27.4644,   -999.0,9,  -999.00,9,  -999.00,9,  -999.00,9,  -999.00,9,    1.735,6,    1.122,6, -999.000,5, -999.000,5,-999.0000,5,  -999.00,9,   -999.0,9,  -999.00,9,-999.000,9,   -999.0,9,   -999.0,9,-999,   -999.0,9,-999.0000,9, -999,  -999.0, -999.00,-999.0000,-999.000,-999.000
     316N151_3,   A20,    94,  1,      6,      6,2,19970809,0119,  7.0138, -53.5337,   85,  723.9,     25.1,  26.1708,  36.1467,3,  36.1565,2,     69.0,3, 26.1651,    161.1,2,     3.96,3,     1.81,2,     0.37,2,     0.28,2, -999.000,9, -999.000,9, -999.000,5, -999.000,5,-999.0000,5,  -999.00,9,   -999.0,9,  -999.00,9,-999.000,9,   -999.0,9,   -999.0,9,-999,   -999.0,9,-999.0000,9, -999,  -999.0, -999.00,-999.0000,-999.000,-999.000
     316N151_3,   A20,    94,  1,      5,      5,2,19970809,0119,  7.0138, -53.5337,   85,  723.6,     25.3,  26.1625,  33.3874,2,-999.0000,9,     72.1,4, 26.1568,   -999.0,9,  -999.00,9,  -999.00,9,  -999.00,9,  -999.00,9,    1.721,6,    1.004,6, -999.000,5, -999.000,5,-999.0000,5,  -999.00,9,   -999.0,9,  -999.00,9,-999.000,9,   -999.0,9,   -999.0,9,-999,   -999.0,9,-999.0000,9, -999,  -999.0, -999.00,-999.0000,-999.000,-999.000
     316N151_3,   A20,    94,  1,      4,      4,2,19970809,0119,  7.0138, -53.5337,   85,  983.5,     53.1,  24.3721,  34.3685,2,  36.3187,2,     63.8,4, 24.3608,    165.6,2,     2.38,3,     3.24,2,     0.11,2,     0.30,2, -999.000,9, -999.000,9, -999.000,5, -999.000,5,-999.0000,5,  -999.00,9,   -999.0,9,  -999.00,9,-999.000,9,   -999.0,9,   -999.0,9,-999,   -999.0,9,-999.0000,9, -999,  -999.0, -999.00,-999.0000,-999.000,-999.000
     316N151_3,   A20,    94,  1,      3,      3,2,19970809,0119,  7.0138, -53.5337,   85,  984.2,     53.2,  24.3744,  36.1464,2,-999.0000,9,     61.7,4, 24.3631,   -999.0,9,  -999.00,9,  -999.00,9,  -999.00,9,  -999.00,9,    1.834,6,    1.045,6, -999.000,5, -999.000,5,-999.0000,5,  -999.00,9,   -999.0,9,  -999.00,9,-999.000,9,   -999.0,9,   -999.0,9,-999,   -999.0,9,-999.0000,9, -999,  -999.0, -999.00,-999.0000,-999.000,-999.000
     316N151_3,   A20,    94,  1,      2,      2,2,19970809,0119,  7.0138, -53.5337,   85, 1168.9,     72.9,  21.6270,  36.3107,2,  36.1471,3,     69.4,4, 21.6127,    149.4,2,     2.67,3,     6.51,2,     0.10,2,     0.46,2, -999.000,9, -999.000,9, -999.000,5, -999.000,5,-999.0000,5,  -999.00,9,   -999.0,9,  -999.00,9,-999.000,9,   -999.0,9,   -999.0,9,-999,   -999.0,9,-999.0000,9, -999,  -999.0, -999.00,-999.0000,-999.000,-999.000
     316N151_3,   A20,    94,  1,      1,      1,2,19970809,0119,  7.0138, -53.5337,   85, 1166.9,     73.1,  21.6276,  36.4035,2,-999.0000,9,   -999.0,9, 21.6133,   -999.0,9,  -999.00,9,  -999.00,9,  -999.00,9,  -999.00,9,    1.823,6,    1.056,6, -999.000,5, -999.000,5,-999.0000,5,  -999.00,9,   -999.0,9,  -999.00,9,-999.000,9,   -999.0,9,   -999.0,9,-999,   -999.0,9,-999.0000,9, -999,  -999.0, -999.00,-999.0000,-999.000,-999.000