BOTTLE,20220812CCHSIOAMB
EXPOCODE,SECT_ID,STNNBR,CASTNO,SAMPNO,BTLNBR,BTLNBR_FLAG_W,DATE,TIME,LATITUDE,LONGITUDE,DEPTH,CTDRAW,CTDPRS,CTDTMP,CTDSAL,CTDSAL_FLAG_W,SALNTY,SALNTY_FLAG_W,CTDOXY,CTDOXY_FLAG_W,THETA,OXYGEN,OXYGEN_FLAG_W,SILCAT,SILCAT_FLAG_W,NITRAT,NITRAT_FLAG_W,NITRIT,NITRIT_FLAG_W,PHSPHT,PHSPHT_FLAG_W,CFC-11,CFC-11_FLAG_W,CFC-12,CFC-12_FLAG_W,CFC113,CFC113_FLAG_W,TRITUM,TRITUM_FLAG_W,HELIUM,HELIUM_FLAG_W,DELHE3,DELHE3_FLAG_W,DELC14,DELC14_FLAG_W,DELC13,DELC13_FLAG_W,NEON,NEON_FLAG_W,TCARBN,TCARBN_FLAG_W,PCO2,PCO2_FLAG_W,PCO2_TMP,ALKALI,ALKALI_FLAG_W,PH,PH_FLAG_W,PH_TMP,C14ERR,DELHER,HELIER,NEONER,TRITER
,,,,,,,,,,,,,DBAR,ITS-90,PSS-78,,PSS-78,,UMOL/KG,,ITS-90,UMOL/KG,,UMOL/KG,,UMOL/KG,,UMOL/KG,,UMOL/KG,,PMOL/KG,,PMOL/KG,,PMOL/KG,,TU,,NMOL/KG,,PERCNT,,/MILLE,,/MILLE,,NMOL/KG,,UMOL/KG,,UATM,,DEG C,UMOL/KG,,,,DEG C,/MILLE,PERCNT,NMOL/KG,NMOL/KG,TU
     316N151_3,   A20,    52,  1,     33,     33,2,19970801,1019, 20.8373, -52.3410, 4391,  194.7,      4.4,  27.4958,  36.4482,2,  36.4478,2,    235.3,2, 27.4948,    213.0,2,     0.80,2,     0.00,2,     0.00,2,     0.01,2,    1.674,2,    0.988,2, -999.000,5, -999.000,5,-999.0000,5,  -999.00,9,   -999.0,9,  -999.00,9,-999.000,9,   2014.1,2,   -999.0,9,-999,   2385.2,2,   8.1210,2,   25,  -999.0, -999.00,-999.0000,-999.000,-999.000
     316N151_3,   A20,    52,  1,     32,     32,2,19970801,1019, 20.8373, -52.3410, 4391,  398.0,     24.3,  27.5031,  36.6877,2,  36.6825,2,    208.3,2, 27.4974,    215.8,2,     0.72,2,     0.00,2,     0.00,2,     0.01,2,    1.641,2,    1.064,2, -999.000,5, -999.000,5,-999.0000,5,  -999.00,9,   -999.0,9,  -999.00,9,-999.000,9,   -999.0,9,   -999.0,9,-999,   -999.0,9,-999.0000,9, -999,  -999.0, -999.00,-999.0000,-999.000,-999.000
     316N151_3,   A20,    52,  1,     31,     31,2,19970801,1019, 20.8373, -52.3410, 4391,  644.6,     48.6,  25.8490,  37.1635,2,  37.1554,2,    224.7,2, 25.8381,    228.2,2,     0.45,2,     0.04,2,     0.00,2,     0.01,2,    1.899,2,    1.093,2, -999.000,5, -999.000,5,-999.0000,5,  -999.00,9,   -999.0,9,  -999.00,9,-999.000,9,   -999.0,9,   -999.0,9,-999,   -999.0,9,-999.0000,9, -999,  -999.0, -999.00,-999.0000,-999.000,-999.000
     316N151_3,   A20,    52,  1,     30,     30,2,19970801,1019, 20.8373, -52.3410, 4391,  876.7,     71.6,  25.2236,  37.3487,2,  37.3529,2,    228.9,2, 25.2078,    229.3,2,     0.27,2,     0.04,2,     0.00,2,     0.01,2,    1.916,2,    1.097,2, -999.000,5, -999.000,5,-999.0000,5,  -999.00,9,   -999.0,9,  -999.00,9,-999.000,9,   -999.0,9,   -999.0,9,-999,   -999.0,9,-999.0000,9, -999,  -999.0, -999.00,-999.0000,-999.000,-999.000
     316N151_3,   A20,    52,  1,     29,     29,2,19970801,1019, 20.8373, -52.3410, 4391, 1166.4,    100.4,  24.1952,  37.3516,2,  37.3509,2,    217.5,2, 24.1738,    223.7,2,     0.29,2,     0.04,2,     0.00,2,     0.02,2,    1.957,2,    1.153,2, -999.000,5, -999.000,5,-999.0000,5,  -999.00,9,   -999.0,9,  -999.00,9,-999.000,9,   -999.0,9,   -999.0,9,-999,   -999.0,9,-999.0000,9, -999,  -999.0, -999.00,-999.0000,-999.000,-999.000
     316N151_3,   A20,    52,  1,     28,     28,2,19970801,1019, 20.8373, -52.3410, 4391, 1340.2,    117.9,  23.9178,  37.3580,2,  37.3586,2,    213.8,2, 23.8928,    222.1,2,     0.21,2,     0.05,2,     0.00,2,     0.02,2,    1.968,2,    1.134,2, -999.000,5, -999.000,5,-999.0000,5,  -999.00,9,   -999.0,9,  -999.00,9,-999.000,9,   -999.0,9,   -999.0,9,-999,   -999.0,9,-999.0000,9, -999,  -999.0, -999.00,-999.0000,-999.000,-999.000
     316N151_3,   A20,    52,  1,     27,     27,2,19970801,1019, 20.8373, -52.3410, 4391, 1649.5,    148.8,  22.6940,  37.2688,2,  37.2735,2,    201.7,2, 22.6637,    213.5,2,     0.14,2,     0.04,2,     0.04,2,     0.02,2,    2.061,2,    1.210,2, -999.000,5, -999.000,5,-999.0000,5,  -999.00,9,   -999.0,9,  -999.00,9,-999.000,9,   -999.0,9,   -999.0,9,-999,   -999.0,9,-999.0000,9, -999,  -999.0, -999.00,-999.0000,-999.000,-999.000
     316N151_3,   A20,    52,  1,     26,     26,2,19970801,1019, 20.8373, -52.3410, 4391, 1903.4,    174.2,  21.5710,  37.1343,2,  37.1350,2,    193.1,2, 21.5366,    192.8,2,     0.25,2,     0.90,2,     0.03,2,     0.05,2,    2.132,2,    1.212,2, -999.000,5, -999.000,5,-999.0000,5,  -999.00,9,   -999.0,9,  -999.00,9,-999.000,9,   -999.0,9,   -999.0,9,-999,   -999.0,9,-999.0000,9, -999,  -999.0, -999.00,-999.0000,-999.000,-999.000
     316N151_3,   A20,    52,  1,     25,     25,2,19970801,1019, 20.8373, -52.3410, 4391, 2163.6,    200.4,  20.7690,  37.0156,2,  37.0168,2,    184.4,2, 20.7305,    189.7,2,     0.37,2,     1.62,2,     0.02,2,     0.07,2,    2.195,6,    1.244,6, -999.000,5, -999.000,5,-999.0000,5,  -999.00,9,   -999.0,9,  -999.00,9,-999.000,9,   -999.0,9,   -999.0,9,-999,   -999.0,9,-999.0000,9, -999,  -999.0, -999.00,-999.0000,-999.000,-999.000
     316N151_3,   A20,    52,  1,     24,     24,2,19970801,1019, 20.8373, -52.3410, 4391, 2668.4,    250.9,  18.9868,  36.7239,2,  36.7257,2,    185.8,2, 18.9417,    188.4,2,     0.78,2,     3.78,2,     0.01,2,     0.18,2,    2.287,2,    1.270,2, -999.000,5, -999.000,5,-999.0000,5,  -999.00,9,   -999.0,9,  -999.00,9,-999.000,9,   -999.0,9,   -999.0,9,-999,   -999.0,9,-999.0000,9, -999,  -999.0, -999.00,-999.0000,-999.000,-999.000
     316N151_3,   A20,    52,  1,     23,     23,2,19970801,1019, 20.8373, -52.3410, 4391, 3172.5,    301.4,  17.9330,  36.5502,2,  36.5488,2,    185.1,2, 17.8807,    185.7,2,     1.38,2,     5.94,2,     0.00,2,     0.32,2,    2.242,2,    1.222,2, -999.000,5, -999.000,5,-999.0000,5,  -999.00,9,   -999.0,9,  -999.00,9,-999.000,9,   -999.0,9,   -999.0,9,-999,   -999.0,9,-999.0000,9, -999,  -999.0, -999.00,-999.0000,-999.000,-999.000
     316N151_3,   A20,    52,  1,     22,     22,2,19970801,1019, 20.8373, -52.3410, 4391, 4156.9,    400.2,  15.9326,  36.2070,2,  36.2091,2,    173.8,2, 15.8685,    171.6,2,     2.84,2,    10.24,2,     0.00,2,     0.59,2,    2.059,2,    1.103,2, -999.000,5, -999.000,5,-999.0000,5,  -999.00,9,   -999.0,9,  -999.00,9,-999.000,9,   -999.0,9,   -999.0,9,-999,   -999.0,9,-999.0000,9, -999,  -999.0, -999.00,-999.0000,-999.000,-999.000
     316N151_3,   A20,    52,  1,     21,     21,2,19970801,1019, 20.8373, -52.3410, 4391, 5152.9,    500.2,  14.0475,  35.8989,2,  35.8975,2,    166.0,2, 13.9738,    168.4,2,     4.50,2,    13.56,2,     0.00,2,     0.80,2,    1.752,2,    0.912,2, -999.000,5, -999.000,5,-999.0000,5,  -999.00,9,   -999.0,9,  -999.00,9,-999.000,9,   -999.0,9,   -999.0,9,-999,   -999.0,9,-999.0000,9, -999,  -999.0, -999.00,-999.0000,-999.000,-999.000
     316N151_3,   A20,    52,  1,     20,     20,2,19970801,1019, 20.8373, -52.3410, 4391, 6164.1,    601.7,  11.9625,  35.6080,2,  35.6094,2,    160.5,2, 11.8823,    162.8,2,     7.22,2,    17.60,2,     0.00,2,     1.06,2,    1.157,2,    0.613,2, -999.000,5, -999.000,5,-999.0000,5,  -999.00,9,   -999.0,9,  -999.00,9,-999.000,9,   -999.0,9,   -999.0,9,-999,   -999.0,9,-999.0000,9, -999,  -999.0, -999.00,-999.0000,-999.000,-999.000
     316N151_3,   A20,    52,  1,     19,     19,2,19970801,1019, 20.8373, -52.3410, 4391, 7151.5,    700.8,  10.1170,  35.3747,2,  35.3736,2,    146.9,2, 10.0326,    148.5,2,    11.67,2,    22.50,2,     0.00,2,     1.40,2,    0.496,2,    0.268,2, -999.000,5, -999.000,5,-999.0000,5,  -999.00,9,   -999.0,9,  -999.00,9,-999.000,9,   -999.0,9,   -999.0,9,-999,   -999.0,9,-999.0000,9, -999,  -999.0, -999.00,-999.0000,-999.000,-999.000
     316N151_3,   A20,    52,  1,     18,     18,2,19970801,1019, 20.8373, -52.3410, 4391, 8150.5,    800.9,   8.3973,  35.1494,2,  35.1499,2,    139.2,2,  8.3106,    141.7,2,    16.14,2,    26.25,2,     0.00,2,     1.68,2,    0.205,6,    0.117,6, -999.000,5, -999.000,5,-999.0000,5,  -999.00,9,   -999.0,9,  -999.00,9,-999.000,9,   -999.0,9,   -999.0,9,-999,   -999.0,9,-999.0000,9, -999,  -999.0, -999.00,-999.0000,-999.000,-999.000
     316N151_3,   A20,    52,  1,     17,     17,2,19970801,1019, 20.8373, -52.3410, 4391, 9403.2,    926.3,   6.4893,  34.9281,2,  34.9287,2,    147.3,2,  6.4017,    147.9,2,    21.18,2,    28.87,2,     0.00,2,     1.90,2,    0.076,2,    0.047,2, -999.000,5, -999.000,5,-999.0000,5,  -999.00,9,   -999.0,9,  -999.00,9,-999.000,9,   -999.0,9,   -999.0,9,-999,   -999.0,9,-999.0000,9, -999,  -999.0, -999.00,-999.0000,-999.000,-999.000
     316N151_3,   A20,    52,  1,     16,     16,2,19970801,1019, 20.8373, -52.3410, 4391,10655.1,   1051.3,   5.8164,  34.9305,2,  34.9311,2,    167.4,2,  5.7212,    166.6,2,    21.00,2,    27.29,2,     0.00,2,     1.81,2,    0.085,2,    0.050,2, -999.000,5, -999.000,5,-999.0000,5,  -999.00,9,   -999.0,9,  -999.00,9,-999.000,9,   -999.0,9,   -999.0,9,-999,   -999.0,9,-999.0000,9, -999,  -999.0, -999.00,-999.0000,-999.000,-999.000
     316N151_3,   A20,    52,  1,     15,     15,2,19970801,1019, 20.8373, -52.3410, 4391,11671.3,   1153.0,   5.4980,  34.9706,2,  34.9715,2,    183.7,2,  5.3955,    185.4,2,    19.48,2,    25.11,2,     0.00,2,     1.67,2,    0.115,2,    0.067,2, -999.000,5, -999.000,5,-999.0000,5,  -999.00,9,   -999.0,9,  -999.00,9,-999.000,9,   -999.0,9,   -999.0,9,-999,   -999.0,9,-999.0000,9, -999,  -999.0, -999.00,-999.0000,-999.000,-999.000
     316N151_3,   A20,    52,  1,     14,     14,2,19970801,1019, 20.8373, -52.3410, 4391,13646.6,   1350.4,   5.0177,  35.0121,2,  35.0131,2,    216.3,2,  4.9005,    213.8,2,    16.89,2,    22.11,2,     0.00,2,     1.47,2,    0.145,2,    0.077,2, -999.000,5, -999.000,5,-999.0000,5,  -999.00,9,   -999.0,9,  -999.00,9,-999.000,9,   -999.0,9,   -999.0,9,-999,   -999.0,9,-999.0000,9, -999,  -999.0, -999.00,-999.0000,-999.000,-999.000
     316N151_3,   A20,    52,  1,     13,     13,2,19970801,1019, 20.8373, -52.3410, 4391,15652.5,   1550.9,   4.5189,  35.0224,2,  35.0228,2,    234.3,2,  4.3878,    234.5,2,    15.85,2,    20.28,2,     0.00,2,     1.35,2,    0.099,2,    0.058,2, -999.000,5, -999.000,5,-999.0000,5,  -999.00,9,   -999.0,9,  -999.00,9,-999.000,9,   -999.0,9,   -999.0,9,-999,   -999.0,9,-999.0000,9, -999,  -999.0, -999.00,-999.0000,-999.000,-999.000
     316N151_3,   A20,    52,  1,     12,     12,2,19970801,1019, 20.8373, -52.3410, 4391,17655.5,   1751.1,   4.1339,  35.0203,2,  35.0232,2,    245.9,2,  3.9884,    246.8,2,    16.16,2,    19.33,2,     0.00,2,     1.29,2,    0.063,2,    0.043,2, -999.000,5, -999.000,5,-999.0000,5,  -999.00,9,   -999.0,9,  -999.00,9,-999.000,9,   -999.0,9,   -999.0,9,-999,   -999.0,9,-999.0000,9, -999,  -999.0, -999.00,-999.0000,-999.000,-999.000
     316N151_3,   A20,    52,  1,     11,     11,2,19970801,1019, 20.8373, -52.3410, 4391,19653.2,   1950.8,   3.7368,  35.0027,2,  35.0047,2,    248.2,2,  3.5778,    248.6,2,    19.84,2,    19.65,2,     0.00,2,     1.31,2,    0.014,2,    0.016,2, -999.000,5, -999.000,5,-999.0000,5,  -999.00,9,   -999.0,9,  -999.00,9,-999.000,9,   -999.0,9,   -999.0,9,-999,   -999.0,9,-999.0000,9, -999,  -999.0, -999.00,-999.0000,-999.000,-999.000
     316N151_3,   A20,    52,  1,     10,     10,2,19970801,1019, 20.8373, -52.3410, 4391,22130.1,   2198.5,   3.3713,  34.9800,2,  34.9813,2,    249.8,2,  3.1942,    250.8,2,    23.63,2,    19.84,2,     0.00,2,     1.33,2,    0.013,2,    0.009,2, -999.000,5, -999.000,5,-999.0000,5,  -999.00,9,   -999.0,9,  -999.00,9,-999.000,9,   -999.0,9,   -999.0,9,-999,   -999.0,9,-999.0000,9, -999,  -999.0, -999.00,-999.0000,-999.000,-999.000
     316N151_3,   A20,    52,  1,      9,      9,2,19970801,1019, 20.8373, -52.3410, 4391,25143.9,   2499.6,   3.0562,  34.9560,2,  34.9578,2,    250.6,2,  2.8552,    251.8,2,    27.50,2,    20.08,2,     0.00,2,     1.35,2,    0.006,2,    0.008,2, -999.000,5, -999.000,5,-999.0000,5,  -999.00,9,   -999.0,9,  -999.00,9,-999.000,9,   -999.0,9,   -999.0,9,-999,   -999.0,9,-999.0000,9, -999,  -999.0, -999.00,-999.0000,-999.000,-999.000
     316N151_3,   A20,    52,  1,      8,      8,2,19970801,1019, 20.8373, -52.3410, 4391,28151.1,   2800.2,   2.8369,  34.9395,2,  34.9411,2,    249.9,2,  2.6102,    252.2,2,    30.90,2,    20.31,2,     0.00,2,     1.37,2,    0.011,6,    0.008,6, -999.000,5, -999.000,5,-999.0000,5,  -999.00,9,   -999.0,9,  -999.00,9,-999.000,9,   -999.0,9,   -999.0,9,-999,   -999.0,9,-999.0000,9, -999,  -999.0, -999.00,-999.0000,-999.000,-999.000
     316N151_3,   A20,    52,  1,      7,      7,2,19970801,1019, 20.8373, -52.3410, 4391,31141.7,   3099.2,   2.6705,  34.9262,2,  34.9256,2,    252.9,2,  2.4165,    253.5,2,    33.53,2,    20.45,2,     0.00,2,     1.39,2,    0.007,2,    0.010,2, -999.000,5, -999.000,5,-999.0000,5,  -999.00,9,   -999.0,9,  -999.00,9,-999.000,9,   -999.0,9,   -999.0,9,-999,   -999.0,9,-999.0000,9, -999,  -999.0, -999.00,-999.0000,-999.000,-999.000
     316N151_3,   A20,    52,  1,      6,      6,2,19970801,1019, 20.8373, -52.3410, 4391,34151.5,   3400.2,   2.5266,  34.9124,2,  34.9120,2,    252.0,2,  2.2443,    253.0,2,    37.11,2,    20.81,2,     0.00,2,     1.41,2,    0.012,2,    0.008,2, -999.000,5, -999.000,5,-999.0000,5,  -999.00,9,   -999.0,9,  -999.00,9,-999.000,9,   -999.0,9,   -999.0,9,-999,   -999.0,9,-999.0000,9, -999,  -999.0, -999.00,-999.0000,-999.000,-999.000
     316N151_3,   A20,    52,  1,      5,      5,2,19970801,1019, 20.8373, -52.3410, 4391,36660.8,   3651.0,   2.3973,  34.9020,2,  34.9017,2,    252.6,2,  2.0911,    255.1,2,    38.49,2,    20.75,2,     0.00,2,     1.41,2,    0.011,2,    0.008,2, -999.000,5, -999.000,5,-999.0000,5,  -999.00,9,   -999.0,9,  -999.00,9,-999.000,9,   -999.0,9,   -999.0,9,-999,   -999.0,9,-999.0000,9, -999,  -999.0, -999.00,-999.0000,-999.000,-999.000
     316N151_3,   A20,    52,  1,      4,      4,2,19970801,1019, 20.8373, -52.3410, 4391,38605.5,   3845.4,   2.3164,  34.8967,2,  34.8970,2,    256.5,2,  1.9908,    258.5,2,    37.35,2,    20.29,2,     0.00,2,     1.38,2,    0.020,2,    0.017,2, -999.000,5, -999.000,5,-999.0000,5,  -999.00,9,   -999.0,9,  -999.00,9,-999.000,9,   -999.0,9,   -999.0,9,-999,   -999.0,9,-999.0000,9, -999,  -999.0, -999.00,-999.0000,-999.000,-999.000
     316N151_3,   A20,    52,  1,      3,      3,2,19970801,1019, 20.8373, -52.3410, 4391,40664.5,   4051.3,   2.2618,  34.8913,2,  34.8918,2,    257.8,2,  1.9144,    258.6,2,    38.33,2,    20.33,2,     0.00,2,     1.39,2,    0.026,2,    0.022,2, -999.000,5, -999.000,5,-999.0000,5,  -999.00,9,   -999.0,9,  -999.00,9,-999.000,9,   -999.0,9,   -999.0,9,-999,   -999.0,9,-999.0000,9, -999,  -999.0, -999.00,-999.0000,-999.000,-999.000
     316N151_3,   A20,    52,  1,      2,      2,2,19970801,1019, 20.8373, -52.3410, 4391,42651.1,   4249.9,   2.1596,  34.8782,2,  34.8786,2,    255.5,2,  1.7924,    255.4,2,    43.56,2,    21.07,2,     0.00,2,     1.44,2,    0.026,2,    0.021,2, -999.000,5, -999.000,5,-999.0000,5,  -999.00,9,   -999.0,9,  -999.00,9,-999.000,9,   -999.0,9,   -999.0,9,-999,   -999.0,9,-999.0000,9, -999,  -999.0, -999.00,-999.0000,-999.000,-999.000
     316N151_3,   A20,    52,  1,      1,      1,2,19970801,1019, 20.8373, -52.3410, 4391,44651.5,   4450.2,   2.0762,  34.8664,2,  34.8662,2,    249.6,2,  1.6881,    253.4,2,    48.42,6,    21.77,6,     0.00,6,     1.49,6,    0.027,2,    0.020,2, -999.000,5, -999.000,5,-999.0000,5,  -999.00,9,   -999.0,9,  -999.00,9,-999.000,9,   -999.0,9,   -999.0,9,-999,   -999.0,9,-999.0000,9, -999,  -999.0, -999.00,-999.0000,-999.000,-999.000