BOTTLE,20220812CCHSIOAMB
EXPOCODE,SECT_ID,STNNBR,CASTNO,SAMPNO,BTLNBR,BTLNBR_FLAG_W,DATE,TIME,LATITUDE,LONGITUDE,DEPTH,CTDRAW,CTDPRS,CTDTMP,CTDSAL,CTDSAL_FLAG_W,SALNTY,SALNTY_FLAG_W,CTDOXY,CTDOXY_FLAG_W,THETA,OXYGEN,OXYGEN_FLAG_W,SILCAT,SILCAT_FLAG_W,NITRAT,NITRAT_FLAG_W,NITRIT,NITRIT_FLAG_W,PHSPHT,PHSPHT_FLAG_W,CFC-11,CFC-11_FLAG_W,CFC-12,CFC-12_FLAG_W,CFC113,CFC113_FLAG_W,TRITUM,TRITUM_FLAG_W,HELIUM,HELIUM_FLAG_W,DELHE3,DELHE3_FLAG_W,DELC14,DELC14_FLAG_W,DELC13,DELC13_FLAG_W,NEON,NEON_FLAG_W,TCARBN,TCARBN_FLAG_W,PCO2,PCO2_FLAG_W,PCO2_TMP,ALKALI,ALKALI_FLAG_W,PH,PH_FLAG_W,PH_TMP,C14ERR,DELHER,HELIER,NEONER,TRITER
,,,,,,,,,,,,,DBAR,ITS-90,PSS-78,,PSS-78,,UMOL/KG,,ITS-90,UMOL/KG,,UMOL/KG,,UMOL/KG,,UMOL/KG,,UMOL/KG,,PMOL/KG,,PMOL/KG,,PMOL/KG,,TU,,NMOL/KG,,PERCNT,,/MILLE,,/MILLE,,NMOL/KG,,UMOL/KG,,UATM,,DEG C,UMOL/KG,,,,DEG C,/MILLE,PERCNT,NMOL/KG,NMOL/KG,TU
     316N151_3,   A20,     8,  1,     18,     18,2,19970720,1404, 42.8928, -50.9008,  948,  141.5,      2.5,  13.3348,  33.0677,2,  33.0642,2,    264.5,2, 13.3344,    278.8,2,     0.42,2,     0.07,2,     0.00,2,     0.24,2,    3.954,2,    2.050,2, -999.000,5, -999.000,5,   1.8061,2,    -1.86,2,   -999.0,9,  -999.00,9,   7.521,2,   2010.6,2,    452.7,2,  20,   2219.9,2,   7.9080,2,   25,  -999.0,    0.15,  0.0090,   0.038,-999.000
     316N151_3,   A20,     8,  1,     17,     17,2,19970720,1404, 42.8928, -50.9008,  948,  365.8,     25.5,   6.7939,  32.7316,2,  32.7588,2,    347.5,2,  6.7916,    348.5,2,     0.32,2,     0.03,2,     0.00,2,     0.33,2, -999.000,9, -999.000,9, -999.000,5, -999.000,5,-999.0000,5,  -999.00,9,   -999.0,9,  -999.00,9,-999.000,9,   2024.7,2,    500.0,2,  20,   2221.9,2,   7.8720,2,   25,  -999.0, -999.00,-999.0000,-999.000,-999.000
     316N151_3,   A20,     8,  1,     16,     16,2,19970720,1404, 42.8928, -50.9008,  948,  598.0,     48.5,  -0.7381,  33.1065,2,  33.1088,2,    406.6,2, -0.7394,    330.0,3,     5.42,2,     7.86,2,     0.09,2,     0.96,2,    6.504,2,    3.331,2, -999.000,5, -999.000,5,-999.0000,5,  -999.00,9,   -999.0,9,  -999.00,9,-999.000,9,   2116.1,2,    839.9,2,  20,   2236.2,2,   7.6800,2,   25,  -999.0, -999.00,-999.0000,-999.000,-999.000
     316N151_3,   A20,     8,  1,     15,     15,2,19970720,1404, 42.8928, -50.9008,  948,  849.1,     73.4,  -0.8284,  33.2262,2,  33.2223,2,    348.8,2, -0.8304,    319.6,3,     8.88,2,     9.48,2,     0.10,2,     1.04,2,    6.630,2,    3.248,2, -999.000,5, -999.000,5,-999.0000,5,  -999.00,9,   -999.0,9,  -999.00,9,-999.000,9,   2124.7,2,    879.2,2,  20,   2230.6,6,   7.6660,6,   25,  -999.0, -999.00,-999.0000,-999.000,-999.000
     316N151_3,   A20,     8,  1,     14,     14,2,19970720,1404, 42.8928, -50.9008,  948, 1111.7,     99.4,  -0.5593,  33.3542,2,  33.3537,2,    325.2,2, -0.5622,    309.4,3,    10.80,2,    10.55,2,     0.10,2,     1.07,2,    6.270,2,    3.115,2, -999.000,5, -999.000,5,   1.9210,2,    -0.80,2,   -999.0,9,  -999.00,9,   8.429,2,   2130.3,2,    887.7,2,  20,   2242.0,2,   7.6570,2,   25,  -999.0,    0.15,  0.0096,   0.042,-999.000
     316N151_3,   A20,     8,  1,     13,     13,2,19970720,1404, 42.8928, -50.9008,  948, 1351.7,    123.2,   1.4692,  33.5806,2,  33.5616,2,    311.2,2,  1.4635,    305.1,2,     8.29,2,     9.28,2,     0.10,2,     0.95,2, -999.000,9, -999.000,9, -999.000,5, -999.000,5,-999.0000,5,  -999.00,9,   -999.0,9,  -999.00,9,-999.000,9,   2119.6,2,    787.7,2,  20,   2244.7,2,   7.7130,2,   25,  -999.0, -999.00,-999.0000,-999.000,-999.000
     316N151_3,   A20,     8,  1,     12,     12,2,19970720,1404, 42.8928, -50.9008,  948, 1623.7,    150.1,   3.4866,  33.8648,2,  33.8639,2,    276.4,2,  3.4770,    291.2,2,     6.74,2,     8.61,2,     0.11,2,     0.86,2,    5.427,2,    2.705,2, -999.000,5, -999.000,5,   1.8679,2,    -0.47,2,   -999.0,9,  -999.00,9,   7.989,2,   2114.7,2,    714.1,2,  20,   2264.4,2,   7.7460,2,   25,  -999.0,    0.15,  0.0093,   0.040,-999.000
     316N151_3,   A20,     8,  1,     11,     11,2,19970720,1404, 42.8928, -50.9008,  948, 1854.1,    172.8,   1.7721,  33.8232,2,  33.8035,2,    290.6,2,  1.7635,    290.3,2,     9.92,2,    11.56,2,     0.09,2,     1.02,2, -999.000,9, -999.000,9, -999.000,5, -999.000,5,-999.0000,5,  -999.00,9,   -999.0,9,  -999.00,9,-999.000,9,   2126.8,2,    810.6,2,  20,   2248.3,3,   7.6990,2,   25,  -999.0, -999.00,-999.0000,-999.000,-999.000
     316N151_3,   A20,     8,  1,     10,     10,3,19970720,1404, 42.8928, -50.9008,  948, 2133.1,    200.7,   4.2147,  34.2152,2,  34.3356,2,    222.9,2,  4.2005,    243.8,2,    10.30,2,    14.74,2,     0.09,2,     1.11,2,    4.176,2,    2.065,2, -999.000,5, -999.000,5,   1.9543,2,     1.90,2,   -999.0,9,  -999.00,9,   8.155,2,   2143.4,2,    788.9,2,  20,   2280.9,2,   7.7100,2,   25,  -999.0,    0.15,  0.0098,   0.041,-999.000
     316N151_3,   A20,     8,  1,      9,      9,2,19970720,1404, 42.8928, -50.9008,  948, 2620.2,    249.6,   7.4305,  34.9158,2,  34.9158,2,    192.6,2,  7.4062,    182.5,2,    12.88,2,    20.66,2,     0.02,2,     1.37,2,    1.975,2,    0.999,2, -999.000,5, -999.000,5,   1.8738,2,     4.13,2,   -999.0,9,  -999.00,9,   7.791,2,   2173.3,2,    826.9,2,  20,   2308.1,2,   7.7020,2,   25,  -999.0,    0.15,  0.0094,   0.039,-999.000
     316N151_3,   A20,     8,  1,      8,      8,2,19970720,1404, 42.8928, -50.9008,  948, 3122.5,    300.1,   6.9235,  34.9187,2,  34.9075,2,    182.3,2,  6.8954,    188.3,2,    13.55,2,    21.00,2,     0.02,2,     1.39,2,    1.941,6,    0.987,6, -999.000,5, -999.000,5,   1.8741,2,     4.35,2,   -999.0,9,  -999.00,9,   7.829,2,   2175.0,2,    840.5,2,  20,   2303.8,2,   7.6940,2,   25,  -999.0,    0.15,  0.0094,   0.039,-999.000
     316N151_3,   A20,     8,  1,      7,      7,2,19970720,1404, 42.8928, -50.9008,  948, 3637.2,    351.6,   4.4480,  34.6504,2,  34.6451,2,    237.3,2,  4.4218,    243.2,2,    12.20,2,    17.58,2,     0.01,2,     1.21,2,    3.730,2,    1.822,2, -999.000,5, -999.000,5,   1.8935,2,     1.84,2,   -999.0,9,  -999.00,9,   7.986,2,   2158.9,2,    821.9,2,  20,   2290.3,2,   7.6940,2,   25,  -999.0,    0.15,  0.0095,   0.040,-999.000
     316N151_3,   A20,     8,  1,      6,      6,2,19970720,1404, 42.8928, -50.9008,  948, 4126.2,    400.6,   3.7837,  34.6770,2,  34.6678,2,    283.2,2,  3.7558,    266.5,2,    11.43,2,    16.48,2,     0.01,2,     1.12,2,    4.246,2,    2.115,2, -999.000,5, -999.000,5,   1.8930,2,     1.09,2,   -999.0,9,  -999.00,9,   8.025,2,   2153.1,2,    801.7,2,  20,   2286.4,2,   7.7130,2,   25,  -999.0,    0.15,  0.0095,   0.040,-999.000
     316N151_3,   A20,     8,  1,      5,      5,2,19970720,1404, 42.8928, -50.9008,  948, 5115.0,    499.6,   3.6943,  34.7457,2,  34.7418,2,    278.7,2,  3.6594,    282.6,2,    10.18,2,    15.96,2,     0.01,2,     1.09,2,    4.581,2,    2.305,2, -999.000,5, -999.000,5,   1.9094,2,     0.36,2,   -999.0,9,  -999.00,9,   8.098,2,   2150.5,2,    770.6,2,  20,   2288.2,2,   7.7200,2,   25,  -999.0,    0.15,  0.0095,   0.040,-999.000
     316N151_3,   A20,     8,  1,      4,      4,2,19970720,1404, 42.8928, -50.9008,  948, 6109.0,    599.0,   3.6885,  34.8157,2,  34.8159,2,    284.3,2,  3.6461,    282.3,2,    10.26,2,    16.28,2,     0.01,2,     1.10,2,    4.352,2,    2.121,2, -999.000,5, -999.000,5,   1.9067,2,     1.16,2,   -999.0,9,  -999.00,9,   8.042,2,   2152.7,2,    764.1,2,  20,   2297.4,2,   7.7280,2,   25,  -999.0,    0.15,  0.0095,   0.040,-999.000
     316N151_3,   A20,     8,  1,      3,      3,2,19970720,1404, 42.8928, -50.9008,  948, 7096.9,    697.9,   3.7485,  34.8609,2,  34.8601,2,    279.2,2,  3.6982,    277.3,2,    10.84,2,    16.77,2,     0.01,2,     1.13,2,    3.930,2,    1.935,2, -999.000,5, -999.000,5,   1.9104,2,     2.38,2,   -999.0,9,  -999.00,9,   8.064,2,   2155.7,2,    769.9,2,  20,   2301.9,2,   7.7230,2,   25,  -999.0,    0.15,  0.0096,   0.040,-999.000
     316N151_3,   A20,     8,  1,      2,      2,2,19970720,1404, 42.8928, -50.9008,  948, 8010.5,    789.5,   3.7033,  34.8738,2,  34.8699,2,    283.2,2,  3.6461,    278.4,2,    10.73,2,    16.81,2,     0.00,2,     1.13,2,    3.889,2,    1.882,2, -999.000,5, -999.000,5,   1.8868,2,     2.78,2,   -999.0,9,  -999.00,9,   7.969,2,   2156.5,2,    767.0,2,  20,   2300.4,2,   7.7220,2,   25,  -999.0,    0.15,  0.0094,   0.040,-999.000
     316N151_3,   A20,     8,  1,      1,      1,2,19970720,1404, 42.8928, -50.9008,  948, 9482.0,    936.8,   3.6201,  34.8778,2,  34.8765,2,    282.0,2,  3.5518,    278.5,2,    11.28,6,    16.85,6,     0.01,6,     1.13,6,    3.799,2,    1.843,2, -999.000,5, -999.000,5,   1.8845,2,     3.54,2,   -999.0,9,  -999.00,9,   8.298,2,   2156.1,2,    767.9,2,  20,   2301.1,6,   7.7210,6,   25,  -999.0,    0.15,  0.0094,   0.041,-999.000
     316N151_3,   A20,     9,  1,     18,     18,2,19970720,1703, 42.8158, -50.9690, 1387,  175.4,      6.0,  14.4322,  33.1738,2,  33.1738,2,    319.9,2, 14.4313,    269.9,2,     0.43,2,     0.11,2,     0.00,2,     0.22,2,    3.635,2,    1.925,2, -999.000,5, -999.000,5,-999.0000,5,  -999.00,9,   -999.0,9,  -999.00,9,-999.000,9,   -999.0,9,    435.5,2,  20,   2231.8,2,   7.9260,2,   25,  -999.0, -999.00,-999.0000,-999.000,-999.000
     316N151_3,   A20,     9,  1,     17,     17,2,19970720,1703, 42.8158, -50.9690, 1387,  613.0,     49.5,   0.2803,  32.9912,2,  33.0018,2,    392.1,2,  0.2785,    353.3,2,     1.20,2,     3.86,2,     0.09,2,     0.74,2,    6.478,2,    3.089,2, -999.000,5, -999.000,5,-999.0000,5,  -999.00,9,   -999.0,9,  -999.00,9,-999.000,9,   -999.0,9,    706.5,2,  20,   -999.0,9,-999.0000,9, -999,  -999.0, -999.00,-999.0000,-999.000,-999.000
     316N151_3,   A20,     9,  1,     16,     16,2,19970720,1703, 42.8158, -50.9690, 1387, 1126.1,    100.5,  -0.5713,  33.3479,2,  33.3503,2,    309.3,2, -0.5742,    308.5,2,    10.91,2,    10.54,2,     0.11,2,     1.08,2,    6.214,2,    3.136,2, -999.000,5, -999.000,5,-999.0000,5,  -999.00,9,   -999.0,9,  -999.00,9,-999.000,9,   -999.0,9,    898.2,2,  20,   -999.0,9,-999.0000,9, -999,  -999.0, -999.00,-999.0000,-999.000,-999.000
     316N151_3,   A20,     9,  1,     15,     15,2,19970720,1703, 42.8158, -50.9690, 1387, 1573.0,    144.7,   2.8510,  33.7864,2,  33.7763,2,    283.5,2,  2.8425,    295.7,2,     6.97,2,     8.87,2,     0.12,2,     0.89,2,    5.571,2,    2.783,2, -999.000,5, -999.000,5,-999.0000,5,  -999.00,9,   -999.0,9,  -999.00,9,-999.000,9,   -999.0,9,    734.3,2,  20,   -999.0,9,-999.0000,9, -999,  -999.0, -999.00,-999.0000,-999.000,-999.000
     316N151_3,   A20,     9,  1,     14,     14,2,19970720,1703, 42.8158, -50.9690, 1387, 2135.8,    200.6,   2.7318,  34.0360,2,  34.0664,2,    271.3,2,  2.7200,    268.6,2,    10.52,2,    13.51,2,     0.11,2,     1.08,2,    4.923,2,    2.431,2, -999.000,5, -999.000,5,-999.0000,5,  -999.00,9,   -999.0,9,  -999.00,9,-999.000,9,   -999.0,9,   -999.0,9,-999,   -999.0,9,-999.0000,9, -999,  -999.0, -999.00,-999.0000,-999.000,-999.000
     316N151_3,   A20,     9,  1,     13,     13,2,19970720,1703, 42.8158, -50.9690, 1387, 2642.4,    251.4,   5.5127,  34.4994,2,  34.5150,2,    219.1,2,  5.4921,    226.0,2,    11.00,2,    16.38,2,     0.07,2,     1.17,2,    3.565,2,    1.774,2, -999.000,5, -999.000,5,-999.0000,5,  -999.00,9,   -999.0,9,  -999.00,9,-999.000,9,   -999.0,9,   -999.0,9,-999,   -999.0,9,-999.0000,9, -999,  -999.0, -999.00,-999.0000,-999.000,-999.000
     316N151_3,   A20,     9,  1,     12,     12,2,19970720,1703, 42.8158, -50.9690, 1387, 3138.6,    301.3,   7.7111,  34.9868,2,  34.9884,2,    177.6,2,  7.6812,    174.7,2,    13.30,2,    21.37,2,     0.02,2,     1.42,2,    2.156,2, -999.000,9, -999.000,5, -999.000,5,-999.0000,5,  -999.00,9,   -999.0,9,  -999.00,9,-999.000,9,   -999.0,9,   -999.0,9,-999,   -999.0,9,-999.0000,9, -999,  -999.0, -999.00,-999.0000,-999.000,-999.000
     316N151_3,   A20,     9,  1,     11,     11,2,19970720,1703, 42.8158, -50.9690, 1387, 4145.7,    402.1,   4.4592,  34.6705,2,  34.6608,2,    240.2,2,  4.4290,    244.1,2,    12.15,2,    17.59,2,     0.01,2,     1.21,2,    3.646,6,    1.844,2, -999.000,5, -999.000,5,-999.0000,5,  -999.00,9,   -999.0,9,  -999.00,9,-999.000,9,   -999.0,9,   -999.0,9,-999,   -999.0,9,-999.0000,9, -999,  -999.0, -999.00,-999.0000,-999.000,-999.000
     316N151_3,   A20,     9,  1,     10,     10,3,19970720,1703, 42.8158, -50.9690, 1387, 5180.7,    505.6,   3.6250,  34.7436,2,  34.7394,2,    279.6,2,  3.5899,    282.4,2,    10.32,2,    15.98,2,     0.01,2,     1.09,2, -999.000,9, -999.000,9, -999.000,5, -999.000,5,-999.0000,5,  -999.00,9,   -999.0,9,  -999.00,9,-999.000,9,   -999.0,9,   -999.0,9,-999,   -999.0,9,-999.0000,9, -999,  -999.0, -999.00,-999.0000,-999.000,-999.000
     316N151_3,   A20,     9,  1,      9,      9,2,19970720,1703, 42.8158, -50.9690, 1387, 6154.4,    602.9,   3.7782,  34.8338,2,  34.8298,2,    280.3,2,  3.7351,    278.3,2,    10.70,2,    16.59,2,     0.01,2,     1.12,2,    4.100,2,    2.053,2, -999.000,5, -999.000,5,-999.0000,5,  -999.00,9,   -999.0,9,  -999.00,9,-999.000,9,   -999.0,9,   -999.0,9,-999,   -999.0,9,-999.0000,9, -999,  -999.0, -999.00,-999.0000,-999.000,-999.000
     316N151_3,   A20,     9,  1,      8,      8,2,19970720,1703, 42.8158, -50.9690, 1387, 7162.4,    703.7,   3.6137,  34.8377,2,  34.8354,2,    283.3,2,  3.5637,    283.8,2,    10.22,2,    16.42,2,     0.01,2,     1.10,2,    4.302,2,    1.934,2, -999.000,5, -999.000,5,-999.0000,5,  -999.00,9,   -999.0,9,  -999.00,9,-999.000,9,   -999.0,9,   -999.0,9,-999,   -999.0,9,-999.0000,9, -999,  -999.0, -999.00,-999.0000,-999.000,-999.000
     316N151_3,   A20,     9,  1,      7,      7,2,19970720,1703, 42.8158, -50.9690, 1387, 8143.4,    801.9,   3.5172,  34.8481,2,  34.8452,2,    284.8,2,  3.4603,    285.2,2,    10.22,2,    16.46,2,     0.00,2,     1.10,2,    4.306,2,    2.121,2, -999.000,5, -999.000,5,-999.0000,5,  -999.00,9,   -999.0,9,  -999.00,9,-999.000,9,   -999.0,9,   -999.0,9,-999,   -999.0,9,-999.0000,9, -999,  -999.0, -999.00,-999.0000,-999.000,-999.000
     316N151_3,   A20,     9,  1,      6,      6,2,19970720,1703, 42.8158, -50.9690, 1387, 9139.6,    901.5,   3.5156,  34.8635,2,  34.8608,2,    285.3,2,  3.4509,    283.3,2,    10.60,2,    16.75,2,     0.00,2,     1.11,2, -999.000,9, -999.000,9, -999.000,5, -999.000,5,-999.0000,5,  -999.00,9,   -999.0,9,  -999.00,9,-999.000,9,   -999.0,9,   -999.0,9,-999,   -999.0,9,-999.0000,9, -999,  -999.0, -999.00,-999.0000,-999.000,-999.000
     316N151_3,   A20,     9,  1,      5,      5,2,19970720,1703, 42.8158, -50.9690, 1387,10138.5,   1001.4,   3.5097,  34.8741,2,  34.8713,2,    283.0,2,  3.4370,    282.0,2,    10.99,2,    16.86,2,     0.01,2,     1.12,2,    3.802,2,    1.856,2, -999.000,5, -999.000,5,-999.0000,5,  -999.00,9,   -999.0,9,  -999.00,9,-999.000,9,   -999.0,9,   -999.0,9,-999,   -999.0,9,-999.0000,9, -999,  -999.0, -999.00,-999.0000,-999.000,-999.000
     316N151_3,   A20,     9,  1,      4,      4,2,19970720,1703, 42.8158, -50.9690, 1387,11136.1,   1101.3,   3.4478,  34.8685,2,  34.8635,2,    286.6,2,  3.3676,    284.8,2,    10.60,2,    16.78,2,     0.00,2,     1.11,2,    4.296,4,    2.798,4, -999.000,5, -999.000,5,-999.0000,5,  -999.00,9,   -999.0,9,  -999.00,9,-999.000,9,   -999.0,9,   -999.0,9,-999,   -999.0,9,-999.0000,9, -999,  -999.0, -999.00,-999.0000,-999.000,-999.000
     316N151_3,   A20,     9,  1,      3,      3,2,19970720,1703, 42.8158, -50.9690, 1387,12137.7,   1201.5,   3.4285,  34.8723,2,  34.8700,2,    285.6,2,  3.3403,    284.1,2,    10.90,2,    16.74,2,     0.00,2,     1.12,2,    3.908,2,    1.900,2, -999.000,5, -999.000,5,-999.0000,5,  -999.00,9,   -999.0,9,  -999.00,9,-999.000,9,   -999.0,9,   -999.0,9,-999,   -999.0,9,-999.0000,9, -999,  -999.0, -999.00,-999.0000,-999.000,-999.000
     316N151_3,   A20,     9,  1,      2,      2,2,19970720,1703, 42.8158, -50.9690, 1387,13127.4,   1300.6,   3.3772,  34.8696,2,  34.8661,2,    287.2,2,  3.2812,    285.9,2,    10.80,2,    16.73,2,     0.00,2,     1.12,2,    3.942,2,    1.947,2, -999.000,5, -999.000,5,-999.0000,5,  -999.00,9,   -999.0,9,  -999.00,9,-999.000,9,   -999.0,9,   -999.0,9,-999,   -999.0,9,-999.0000,9, -999,  -999.0, -999.00,-999.0000,-999.000,-999.000
     316N151_3,   A20,     9,  1,      1,      1,2,19970720,1703, 42.8158, -50.9690, 1387,13971.3,   1385.1,   3.3154,  34.8747,2,  34.8713,2,    285.2,2,  3.2130,    287.4,2,    11.71,6,    17.11,6,     0.01,6,     1.13,6,    3.671,2,    1.765,2, -999.000,5, -999.000,5,-999.0000,5,  -999.00,9,   -999.0,9,  -999.00,9,-999.000,9,   -999.0,9,   -999.0,9,-999,   -999.0,9,-999.0000,9, -999,  -999.0, -999.00,-999.0000,-999.000,-999.000