BOTTLE,20220812CCHSIOAMB
EXPOCODE,SECT_ID,STNNBR,CASTNO,SAMPNO,BTLNBR,BTLNBR_FLAG_W,DATE,TIME,LATITUDE,LONGITUDE,DEPTH,CTDRAW,CTDPRS,CTDTMP,CTDSAL,CTDSAL_FLAG_W,SALNTY,SALNTY_FLAG_W,CTDOXY,CTDOXY_FLAG_W,THETA,OXYGEN,OXYGEN_FLAG_W,SILCAT,SILCAT_FLAG_W,NITRAT,NITRAT_FLAG_W,NITRIT,NITRIT_FLAG_W,PHSPHT,PHSPHT_FLAG_W,CFC-11,CFC-11_FLAG_W,CFC-12,CFC-12_FLAG_W,CFC113,CFC113_FLAG_W,TRITUM,TRITUM_FLAG_W,HELIUM,HELIUM_FLAG_W,DELHE3,DELHE3_FLAG_W,DELC14,DELC14_FLAG_W,DELC13,DELC13_FLAG_W,NEON,NEON_FLAG_W,TCARBN,TCARBN_FLAG_W,PCO2,PCO2_FLAG_W,PCO2_TMP,ALKALI,ALKALI_FLAG_W,PH,PH_FLAG_W,PH_TMP,C14ERR,DELHER,HELIER,NEONER,TRITER
,,,,,,,,,,,,,DBAR,ITS-90,PSS-78,,PSS-78,,UMOL/KG,,ITS-90,UMOL/KG,,UMOL/KG,,UMOL/KG,,UMOL/KG,,UMOL/KG,,PMOL/KG,,PMOL/KG,,PMOL/KG,,TU,,NMOL/KG,,PERCNT,,/MILLE,,/MILLE,,NMOL/KG,,UMOL/KG,,UATM,,DEG C,UMOL/KG,,,,DEG C,/MILLE,PERCNT,NMOL/KG,NMOL/KG,TU
     316N151_3,   A20,    69,  1,     33,     33,2,19970806,0624,  9.8908, -52.3483, 4921,  692.8,     52.3,  26.0453,  36.2740,2,  36.2864,2,    217.5,2, 26.0336,    205.6,2,     1.17,2,     0.12,2,     0.01,2,     0.02,2, -999.000,9, -999.000,9, -999.000,5, -999.000,5,-999.0000,5,  -999.00,9,   -999.0,9,  -999.00,9,-999.000,9,   2022.6,2,    283.2,2,  20,   2373.7,2,   8.1020,2,   25,  -999.0, -999.00,-999.0000,-999.000,-999.000
     316N151_3,   A20,    69,  1,     32,     32,2,19970806,0624,  9.8908, -52.3483, 4921, 1174.5,    101.6,  20.1185,  36.4082,2,  36.4636,2,    158.1,2, 20.0995,    147.5,2,     3.25,2,     8.07,2,     0.03,2,     0.55,2, -999.000,9, -999.000,9, -999.000,5, -999.000,5,-999.0000,5,  -999.00,9,   -999.0,9,  -999.00,9,-999.000,9,   2137.2,2,    469.7,2,  20,   2385.2,6,   7.9200,2,   25,  -999.0, -999.00,-999.0000,-999.000,-999.000
     316N151_3,   A20,    69,  1,     31,     31,2,19970806,0624,  9.8908, -52.3483, 4921, 1587.1,    143.9,  16.8413,  36.1367,2,  36.1377,2,    120.8,2, 16.8175,    121.2,2,     5.42,2,    15.51,2,     0.02,2,     0.94,2, -999.000,9, -999.000,9, -999.000,5, -999.000,5,-999.0000,5,  -999.00,9,   -999.0,9,  -999.00,9,-999.000,9,   2169.8,2,    614.7,2,  20,   2363.5,2,   7.8190,2,   25,  -999.0, -999.00,-999.0000,-999.000,-999.000
     316N151_3,   A20,    69,  1,     30,     30,2,19970806,0624,  9.8908, -52.3483, 4921, 2156.4,    201.3,  12.3133,  35.3918,2,  35.3902,2,    109.9,2, 12.2866,    109.9,2,    10.14,2,    23.74,2,     0.01,2,     1.50,2, -999.000,9, -999.000,9, -999.000,5, -999.000,5,-999.0000,5,  -999.00,9,   -999.0,9,  -999.00,9,-999.000,9,   2192.4,2,    840.0,2,  20,   2327.7,2,   7.6970,2,   25,  -999.0, -999.00,-999.0000,-999.000,-999.000
     316N151_3,   A20,    69,  1,     29,     29,2,19970806,0624,  9.8908, -52.3483, 4921, 2655.4,    251.3,  10.7793,  35.1529,2,  35.1530,2,    108.6,2, 10.7486,    111.2,2,    12.32,2,    25.98,2,     0.01,2,     1.68,2, -999.000,9, -999.000,9, -999.000,5, -999.000,5,-999.0000,5,  -999.00,9,   -999.0,9,  -999.00,9,-999.000,9,   -999.0,9,    910.1,2,  20,   2314.7,2,   7.6600,2,   25,  -999.0, -999.00,-999.0000,-999.000,-999.000
     316N151_3,   A20,    69,  1,     28,     28,2,19970806,0624,  9.8908, -52.3483, 4921, 2657.3,    251.5,  10.7793,  35.1530,2,  35.1516,2,    108.5,2, 10.7485,    110.6,2,    12.23,2,    26.17,2,     0.01,2,     1.68,2, -999.000,9, -999.000,9, -999.000,5, -999.000,5,-999.0000,5,  -999.00,9,   -999.0,9,  -999.00,9,-999.000,9,   2197.3,2,    920.3,2,  20,   2317.8,2,   7.6620,2,   25,  -999.0, -999.00,-999.0000,-999.000,-999.000
     316N151_3,   A20,    69,  1,     27,     27,2,19970806,0624,  9.8908, -52.3483, 4921, 3161.6,    302.0,   9.7385,  35.0031,2,  35.0045,2,    108.9,2,  9.7038,    108.5,2,    13.93,2,    28.27,2,     0.01,2,     1.81,2, -999.000,9, -999.000,9, -999.000,5, -999.000,5,-999.0000,5,  -999.00,9,   -999.0,9,  -999.00,9,-999.000,9,   2203.2,2,   -999.0,9,-999,   2309.0,2,   7.6280,2,   25,  -999.0, -999.00,-999.0000,-999.000,-999.000
     316N151_3,   A20,    69,  1,     26,     26,2,19970806,0624,  9.8908, -52.3483, 4921, 3627.9,    348.8,   9.1558,  34.9200,2,  34.9207,2,    107.6,2,  9.1172,    109.3,2,    15.16,2,    29.52,2,     0.01,2,     1.89,2, -999.000,9, -999.000,9, -999.000,5, -999.000,5,-999.0000,5,  -999.00,9,   -999.0,9,  -999.00,9,-999.000,9,   2207.2,2,   1033.1,2,  20,   2308.3,2,   7.6120,2,   25,  -999.0, -999.00,-999.0000,-999.000,-999.000
     316N151_3,   A20,    69,  1,     25,     25,2,19970806,0624,  9.8908, -52.3483, 4921, 4627.9,    448.9,   7.9539,  34.7736,2,  34.7755,2,    115.5,2,  7.9080,    119.2,2,    18.18,2,    31.07,2,     0.01,2,     2.02,2, -999.000,9, -999.000,9, -999.000,5, -999.000,5,-999.0000,5,  -999.00,9,   -999.0,9,  -999.00,9,-999.000,9,   2209.0,2,   1086.8,2,  20,   2300.7,2,   7.5940,2,   25,  -999.0, -999.00,-999.0000,-999.000,-999.000
     316N151_3,   A20,    69,  1,     24,     24,2,19970806,0624,  9.8908, -52.3483, 4921, 5623.9,    548.8,   7.3350,  34.7400,2,  34.7383,2,    119.2,2,  7.2813,    115.0,2,    20.74,2,    32.85,2,     0.01,2,     2.13,2, -999.000,9, -999.000,9, -999.000,5, -999.000,5,-999.0000,5,  -999.00,9,   -999.0,9,  -999.00,9,-999.000,9,   2216.8,2,   1142.3,2,  20,   2302.9,2,   7.5730,2,   25,  -999.0, -999.00,-999.0000,-999.000,-999.000
     316N151_3,   A20,    69,  1,     23,     23,2,19970806,0624,  9.8908, -52.3483, 4921, 6650.9,    651.5,   6.1610,  34.6216,2,  34.6217,2,    127.0,2,  6.1025,    127.7,2,    24.61,2,    33.78,2,     0.01,2,     2.24,2, -999.000,9, -999.000,9, -999.000,5, -999.000,5,-999.0000,5,  -999.00,9,   -999.0,9,  -999.00,9,-999.000,9,   2218.3,2,   -999.0,9,-999,   2299.5,2,   7.5670,2,   25,  -999.0, -999.00,-999.0000,-999.000,-999.000
     316N151_3,   A20,    69,  1,     22,     22,2,19970806,0624,  9.8908, -52.3483, 4921, 7682.2,    754.6,   5.6032,  34.6136,2,  34.6140,2,    132.6,2,  5.5380,    132.9,2,    27.17,2,    34.22,2,     0.01,2,     2.28,2, -999.000,9, -999.000,9, -999.000,5, -999.000,5,-999.0000,5,  -999.00,9,   -999.0,9,  -999.00,9,-999.000,9,   2221.0,2,   1185.1,2,  20,   2303.3,2,   7.5590,2,   25,  -999.0, -999.00,-999.0000,-999.000,-999.000
     316N151_3,   A20,    69,  1,     21,     21,2,19970806,0624,  9.8908, -52.3483, 4921, 8689.7,    855.2,   5.1964,  34.6200,2,  34.6207,2,    140.3,2,  5.1245,    143.4,2,    28.77,2,    33.82,2,     0.00,2,     2.27,2, -999.000,9, -999.000,9, -999.000,5, -999.000,5,-999.0000,5,  -999.00,9,   -999.0,9,  -999.00,9,-999.000,9,   2221.9,2,   1172.2,2,  20,   2304.0,2,   7.5700,2,   25,  -999.0, -999.00,-999.0000,-999.000,-999.000
     316N151_3,   A20,    69,  1,     20,     20,2,19970806,0624,  9.8908, -52.3483, 4921,10151.9,   1001.2,   5.1412,  34.7446,2,  34.7434,2,    153.3,2,  5.0563,    148.9,2,    27.26,2,    31.57,2,     0.00,2,     2.12,2, -999.000,9, -999.000,9, -999.000,5, -999.000,5,-999.0000,5,  -999.00,9,   -999.0,9,  -999.00,9,-999.000,9,   2215.7,2,   1090.5,2,  20,   2311.4,2,   7.5950,2,   25,  -999.0, -999.00,-999.0000,-999.000,-999.000
     316N151_3,   A20,    69,  1,     19,     19,2,19970806,0624,  9.8908, -52.3483, 4921,11698.5,   1155.7,   5.1145,  34.8917,2,  34.8905,2,    181.2,2,  5.0151,    176.1,2,    23.02,2,    27.18,2,     0.00,2,     1.82,2, -999.000,9, -999.000,9, -999.000,5, -999.000,5,-999.0000,5,  -999.00,9,   -999.0,9,  -999.00,9,-999.000,9,   2201.4,2,   -999.0,9,-999,   2314.3,2,   7.6500,2,   25,  -999.0, -999.00,-999.0000,-999.000,-999.000
     316N151_3,   A20,    69,  1,     18,     18,2,19970806,0624,  9.8908, -52.3483, 4921,13122.0,   1298.0,   4.8468,  34.9813,2,  34.9831,2,    216.7,2,  4.7364,    212.9,2,    18.31,2,    22.46,2,     0.00,2,     1.50,2, -999.000,9, -999.000,9, -999.000,5, -999.000,5,-999.0000,5,  -999.00,9,   -999.0,9,  -999.00,9,-999.000,9,   2180.9,2,    822.8,2,  20,   2319.0,2,   7.7020,2,   25,  -999.0, -999.00,-999.0000,-999.000,-999.000
     316N151_3,   A20,    69,  1,     17,     17,2,19970806,0624,  9.8908, -52.3483, 4921,14658.0,   1451.5,   4.5716,  35.0053,2,  35.0083,2,    237.0,2,  4.4494,    233.0,2,    15.67,2,    20.15,2,     0.00,2,     1.34,2, -999.000,9, -999.000,9, -999.000,5, -999.000,5,-999.0000,5,  -999.00,9,   -999.0,9,  -999.00,9,-999.000,9,   2170.4,2,    778.4,2,  20,   2314.5,2,   7.7270,2,   25,  -999.0, -999.00,-999.0000,-999.000,-999.000
     316N151_3,   A20,    69,  1,     16,     16,2,19970806,0624,  9.8908, -52.3483, 4921,16153.1,   1601.0,   4.1856,  35.0014,2,  35.0020,2,    250.1,2,  4.0538,    251.9,2,    14.54,2,    18.77,2,     0.00,2,     1.25,2, -999.000,9, -999.000,9, -999.000,5, -999.000,5,-999.0000,5,  -999.00,9,   -999.0,9,  -999.00,9,-999.000,9,   2162.6,2,    748.9,2,  20,   2315.3,2,   7.7420,2,   25,  -999.0, -999.00,-999.0000,-999.000,-999.000
     316N151_3,   A20,    69,  1,     15,     15,2,19970806,0624,  9.8908, -52.3483, 4921,17662.1,   1751.8,   3.8996,  34.9903,2,  34.9921,2,    253.9,2,  3.7572,    254.7,2,    15.49,2,    18.62,2,     0.00,2,     1.24,2, -999.000,9, -999.000,9, -999.000,5, -999.000,5,-999.0000,5,  -999.00,9,   -999.0,9,  -999.00,9,-999.000,9,   2162.2,2,   -999.0,9,-999,   2314.2,2,   7.7450,2,   25,  -999.0, -999.00,-999.0000,-999.000,-999.000
     316N151_3,   A20,    69,  1,     14,     14,2,19970806,0624,  9.8908, -52.3483, 4921,19142.2,   1899.7,   3.6992,  34.9837,2,  34.9839,2,    259.5,2,  3.5456,    257.5,2,    16.53,2,    18.59,2,     0.00,2,     1.24,2, -999.000,9, -999.000,9, -999.000,5, -999.000,5,-999.0000,5,  -999.00,9,   -999.0,9,  -999.00,9,-999.000,9,   2161.7,2,    734.2,2,  20,   2315.6,2,   7.7490,2,   25,  -999.0, -999.00,-999.0000,-999.000,-999.000
     316N151_3,   A20,    69,  1,     13,     13,2,19970806,0624,  9.8908, -52.3483, 4921,21176.8,   2103.1,   3.4373,  34.9722,2,  34.9730,2,    259.7,2,  3.2683,    261.2,2,    18.33,2,    18.56,2,     0.00,2,     1.24,2, -999.000,9, -999.000,9, -999.000,5, -999.000,5,-999.0000,5,  -999.00,9,   -999.0,9,  -999.00,9,-999.000,9,   2162.4,2,    728.1,2,  20,   2316.8,2,   7.7510,2,   25,  -999.0, -999.00,-999.0000,-999.000,-999.000
     316N151_3,   A20,    69,  1,     12,     12,2,19970806,0624,  9.8908, -52.3483, 4921,23610.3,   2346.3,   3.1816,  34.9579,2,  34.9593,2,    260.2,2,  2.9935,    258.7,2,    21.54,2,    18.93,2,     0.00,2,     1.27,2, -999.000,9, -999.000,9, -999.000,5, -999.000,5,-999.0000,5,  -999.00,9,   -999.0,9,  -999.00,9,-999.000,9,   2165.6,2,    731.0,2,  20,   2322.0,2,   7.7550,2,   25,  -999.0, -999.00,-999.0000,-999.000,-999.000
     316N151_3,   A20,    69,  1,     11,     11,2,19970806,0624,  9.8908, -52.3483, 4921,26126.8,   2597.8,   2.9987,  34.9468,2,  34.9492,2,    260.6,2,  2.7890,    260.7,2,    23.42,2,    18.94,2,     0.00,2,     1.28,2, -999.000,9, -999.000,9, -999.000,5, -999.000,5,-999.0000,5,  -999.00,9,   -999.0,9,  -999.00,9,-999.000,9,   2166.5,2,   -999.0,9,-999,   2321.3,2,   7.7520,2,   25,  -999.0, -999.00,-999.0000,-999.000,-999.000
     316N151_3,   A20,    69,  1,     10,     10,2,19970806,0624,  9.8908, -52.3483, 4921,28574.2,   2842.5,   2.8413,  34.9367,2,  34.9376,2,    260.4,2,  2.6103,    254.7,3,    25.88,2,    19.19,2,     0.00,2,     1.29,2, -999.000,9, -999.000,9, -999.000,5, -999.000,5,-999.0000,5,  -999.00,9,   -999.0,9,  -999.00,9,-999.000,9,   2169.1,2,    734.4,2,  20,   2322.7,2,   7.7510,2,   25,  -999.0, -999.00,-999.0000,-999.000,-999.000
     316N151_3,   A20,    69,  1,      9,      9,2,19970806,0624,  9.8908, -52.3483, 4921,31604.4,   3145.3,   2.6768,  34.9260,2,  34.9259,2,    259.5,2,  2.4179,    263.3,2,    28.15,2,    19.28,2,     0.00,2,     1.30,2, -999.000,9, -999.000,9, -999.000,5, -999.000,5,-999.0000,5,  -999.00,9,   -999.0,9,  -999.00,9,-999.000,9,   2168.9,2,   -999.0,9,-999,   2324.4,2,   7.7510,2,   25,  -999.0, -999.00,-999.0000,-999.000,-999.000
     316N151_3,   A20,    69,  1,      8,      8,2,19970806,0624,  9.8908, -52.3483, 4921,34078.0,   3392.6,   2.5583,  34.9159,2,  34.9317,4,    259.6,2,  2.2761,    258.4,2,    31.46,2,    19.74,2,     0.00,2,     1.33,2, -999.000,9, -999.000,9, -999.000,5, -999.000,5,-999.0000,5,  -999.00,9,   -999.0,9,  -999.00,9,-999.000,9,   2174.9,2,    741.3,2,  20,   2328.2,2,   7.7470,2,   25,  -999.0, -999.00,-999.0000,-999.000,-999.000
     316N151_3,   A20,    69,  1,      7,      7,2,19970806,0624,  9.8908, -52.3483, 4921,36654.8,   3650.2,   2.4473,  34.9076,2,  34.9078,2,    261.7,2,  2.1399,    259.6,2,    32.41,2,    19.63,2,     0.00,2,     1.33,2, -999.000,9, -999.000,9, -999.000,5, -999.000,5,-999.0000,5,  -999.00,9,   -999.0,9,  -999.00,9,-999.000,9,   2174.9,2,    739.3,2,  20,   2330.2,2,   7.7480,2,   25,  -999.0, -999.00,-999.0000,-999.000,-999.000
     316N151_3,   A20,    69,  1,      6,      6,2,19970806,0624,  9.8908, -52.3483, 4921,39165.1,   3901.1,   2.3639,  34.9027,2,  34.9024,2,    264.4,2,  2.0307,    265.3,2,    31.37,2,    19.26,2,     0.00,2,     1.31,2, -999.000,9, -999.000,9, -999.000,5, -999.000,5,-999.0000,5,  -999.00,9,   -999.0,9,  -999.00,9,-999.000,9,   2173.2,2,   -999.0,9,-999,   2327.3,2,   7.7470,2,   25,  -999.0, -999.00,-999.0000,-999.000,-999.000
     316N151_3,   A20,    69,  1,      5,      5,2,19970806,0624,  9.8908, -52.3483, 4921,41176.5,   4102.2,   2.3178,  34.8982,2,  34.8977,2,    264.8,2,  1.9630,    265.1,2,    31.75,2,    19.19,2,     0.00,2,     1.30,2, -999.000,9, -999.000,9, -999.000,5, -999.000,5,-999.0000,5,  -999.00,9,   -999.0,9,  -999.00,9,-999.000,9,   2174.1,2,   -999.0,9,-999,   2328.3,2,   7.7530,2,   25,  -999.0, -999.00,-999.0000,-999.000,-999.000
     316N151_3,   A20,    69,  1,      4,      4,2,19970806,0624,  9.8908, -52.3483, 4921,43167.0,   4301.2,   2.2757,  34.8927,2,  34.8940,2,    264.8,2,  1.8989,    261.0,2,    33.65,2,    19.28,2,     0.00,2,     1.32,2,    0.178,2,    0.101,2, -999.000,5, -999.000,5,-999.0000,5,  -999.00,9,   -999.0,9,  -999.00,9,-999.000,9,   2175.5,2,    743.1,2,  20,   2329.3,2,   7.7480,2,   25,  -999.0, -999.00,-999.0000,-999.000,-999.000
     316N151_3,   A20,    69,  1,      3,      3,2,19970806,0624,  9.8908, -52.3483, 4921,45163.3,   4500.8,   2.2320,  34.8857,2,  34.8860,2,    262.6,2,  1.8330,    261.8,2,    37.33,2,    19.91,2,     0.00,2,     1.36,2,    0.143,2,    0.082,2, -999.000,5, -999.000,5,-999.0000,5,  -999.00,9,   -999.0,9,  -999.00,9,-999.000,9,   2180.2,2,    750.3,2,  20,   2332.1,2,   7.7410,2,   25,  -999.0, -999.00,-999.0000,-999.000,-999.000
     316N151_3,   A20,    69,  1,      2,      2,2,19970806,0624,  9.8908, -52.3483, 4921,47662.7,   4750.7,   2.0407,  34.8596,2,  34.8592,2,    254.2,2,  1.6177,    252.4,2,    51.21,2,    21.98,2,     0.00,2,     1.51,2,    0.073,2,    0.049,2, -999.000,5, -999.000,5,-999.0000,5,  -999.00,9,   -999.0,9,  -999.00,9,-999.000,9,   2196.5,2,   -999.0,9,-999,   2344.7,6,   7.7300,6,   25,  -999.0, -999.00,-999.0000,-999.000,-999.000
     316N151_3,   A20,    69,  1,      1,      1,2,19970806,0624,  9.8908, -52.3483, 4921,49822.8,   4966.4,   1.6614,  34.8111,2,  34.8105,2,    239.0,2,  1.2249,    239.7,2,    72.38,6,    25.13,6,     0.00,6,     1.73,6,    0.045,2,    0.029,2, -999.000,5, -999.000,5,-999.0000,5,  -999.00,9,   -999.0,9,  -999.00,9,-999.000,9,   2219.9,2,    846.6,2,  20,   2355.5,2,   7.7030,2,   25,  -999.0, -999.00,-999.0000,-999.000,-999.000