BOTTLE,20220812CCHSIOAMB
EXPOCODE,SECT_ID,STNNBR,CASTNO,SAMPNO,BTLNBR,BTLNBR_FLAG_W,DATE,TIME,LATITUDE,LONGITUDE,DEPTH,CTDRAW,CTDPRS,CTDTMP,CTDSAL,CTDSAL_FLAG_W,SALNTY,SALNTY_FLAG_W,CTDOXY,CTDOXY_FLAG_W,THETA,OXYGEN,OXYGEN_FLAG_W,SILCAT,SILCAT_FLAG_W,NITRAT,NITRAT_FLAG_W,NITRIT,NITRIT_FLAG_W,PHSPHT,PHSPHT_FLAG_W,CFC-11,CFC-11_FLAG_W,CFC-12,CFC-12_FLAG_W,CFC113,CFC113_FLAG_W,TRITUM,TRITUM_FLAG_W,HELIUM,HELIUM_FLAG_W,DELHE3,DELHE3_FLAG_W,DELC14,DELC14_FLAG_W,DELC13,DELC13_FLAG_W,NEON,NEON_FLAG_W,TCARBN,TCARBN_FLAG_W,PCO2,PCO2_FLAG_W,PCO2_TMP,ALKALI,ALKALI_FLAG_W,PH,PH_FLAG_W,PH_TMP,C14ERR,DELHER,HELIER,NEONER,TRITER
,,,,,,,,,,,,,DBAR,ITS-90,PSS-78,,PSS-78,,UMOL/KG,,ITS-90,UMOL/KG,,UMOL/KG,,UMOL/KG,,UMOL/KG,,UMOL/KG,,PMOL/KG,,PMOL/KG,,PMOL/KG,,TU,,NMOL/KG,,PERCNT,,/MILLE,,/MILLE,,NMOL/KG,,UMOL/KG,,UATM,,DEG C,UMOL/KG,,,,DEG C,/MILLE,PERCNT,NMOL/KG,NMOL/KG,TU
     316N151_3,   A20,    33,  1,     30,     30,2,19970726,1854, 33.5348, -52.3458, 5565,  244.5,     10.2,  27.4753,  36.5977,2,  36.6466,2,    212.3,2, 27.4729,    216.4,2,     0.59,2,     0.06,2,     0.00,2,     0.01,2,    1.840,2,    1.082,2, -999.000,5,    1.089,2,-999.0000,5,  -999.00,9,   -999.0,9,  -999.00,9,-999.000,9,   2048.5,2,    302.9,2,  20,   2393.2,2,   8.0750,2,   25,  -999.0, -999.00,-999.0000,-999.000,   0.013
     316N151_3,   A20,    33,  1,     29,     29,2,19970726,1854, 33.5348, -52.3458, 5565,  879.2,     73.7,  19.2060,  36.6259,2,  36.6281,2,    232.9,2, 19.1927,    235.9,2,     0.69,2,     0.06,2,     0.00,2,     0.01,2,    2.445,2,    1.372,2, -999.000,5, -999.000,5,-999.0000,5,  -999.00,9,   -999.0,9,  -999.00,9,-999.000,9,   2062.3,2,    324.6,2,  20,   2390.4,2,   8.0480,2,   25,  -999.0, -999.00,-999.0000,-999.000,-999.000
     316N151_3,   A20,    33,  1,     28,     28,2,19970726,1854, 33.5348, -52.3458, 5565, 1661.5,    151.3,  18.3455,  36.5818,2,  36.5803,2,    208.8,2, 18.3190,    212.7,2,     1.08,2,     2.57,2,     0.02,2,     0.12,2,    2.537,2,    1.376,2, -999.000,5,    1.071,2,-999.0000,5,  -999.00,9,   -999.0,9,  -999.00,9,-999.000,9,   2084.4,2,    361.6,2,  20,   2385.3,2,   8.0120,2,   25,  -999.0, -999.00,-999.0000,-999.000,   0.013
     316N151_3,   A20,    33,  1,     27,     27,2,19970726,1854, 33.5348, -52.3458, 5565, 2403.9,    225.0,  18.0392,  36.5381,2,  36.5379,2,    212.8,2, 18.0001,    214.1,2,     1.18,2,     3.07,2,     0.00,2,     0.15,2,    2.420,2,    1.359,2, -999.000,5,    1.099,2,-999.0000,5,  -999.00,9,   -999.0,9,  -999.00,9,-999.000,9,   2087.3,2,    369.1,2,  20,   2383.6,2,   8.0060,2,   25,  -999.0, -999.00,-999.0000,-999.000,   0.013
     316N151_3,   A20,    33,  1,     26,     26,2,19970726,1854, 33.5348, -52.3458, 5565, 3164.1,    300.7,  17.7935,  36.4983,2,  36.4968,2,    218.1,2, 17.7416,    206.3,3,     1.56,2,     4.22,2,     0.00,2,     0.21,2,    2.354,6,    1.309,6, -999.000,5, -999.000,5,-999.0000,5,  -999.00,9,   -999.0,9,  -999.00,9,-999.000,9,   2093.7,2,    381.7,2,  20,   2381.9,2,   7.9880,2,   25,  -999.0, -999.00,-999.0000,-999.000,-999.000
     316N151_3,   A20,    33,  1,     25,     25,2,19970726,1854, 33.5348, -52.3458, 5565, 3907.5,    374.8,  17.5228,  36.4533,2,  36.4531,2,    208.7,2, 17.4587,    207.4,2,     1.66,2,     4.54,2,     0.00,2,     0.24,2,    2.357,2,    1.312,2, -999.000,5,    1.151,2,-999.0000,5,  -999.00,9,   -999.0,9,  -999.00,9,-999.000,9,   2096.1,2,    389.7,2,  20,   2378.8,2,   7.9850,2,   25,  -999.0, -999.00,-999.0000,-999.000,   0.013
     316N151_3,   A20,    33,  1,     24,     24,2,19970726,1854, 33.5348, -52.3458, 5565, 4657.0,    449.9,  16.6297,  36.2811,2,  36.2821,2,    194.7,2, 16.5554,    190.6,2,     2.62,2,     7.65,2,     0.00,2,     0.42,2,    2.177,2,    1.169,2, -999.000,5, -999.000,5,-999.0000,5,  -999.00,9,   -999.0,9,  -999.00,9,-999.000,9,   2114.8,2,    441.8,2,  20,   2369.8,2,   7.9380,2,   25,  -999.0, -999.00,-999.0000,-999.000,-999.000
     316N151_3,   A20,    33,  1,     23,     23,2,19970726,1854, 33.5348, -52.3458, 5565, 5415.1,    525.8,  15.4949,  36.0900,2,  36.0872,2,    189.6,2, 15.4120,    184.8,2,     3.58,2,     9.98,2,     0.00,2,     0.58,2,    2.087,2,    1.124,2, -999.000,5,    1.243,2,-999.0000,5,  -999.00,9,   -999.0,9,  -999.00,9,-999.000,9,   2123.8,2,    481.7,2,  20,   2362.0,2,   7.9040,2,   25,  -999.0, -999.00,-999.0000,-999.000,   0.014
     316N151_3,   A20,    33,  1,     22,     22,2,19970726,1854, 33.5348, -52.3458, 5565, 6136.5,    598.2,  14.2234,  35.8805,2,  35.8883,2,    185.2,2, 14.1342,    178.4,2,     4.93,2,    12.50,2,     0.00,2,     0.74,2,    1.942,2,    1.039,2, -999.000,5, -999.000,5,-999.0000,5,  -999.00,9,   -999.0,9,  -999.00,9,-999.000,9,   2135.1,2,    532.8,2,  20,   2350.2,2,   7.8650,2,   25,  -999.0, -999.00,-999.0000,-999.000,-999.000
     316N151_3,   A20,    33,  1,     21,     21,2,19970726,1854, 33.5348, -52.3458, 5565, 7394.9,    724.6,  11.8498,  35.5407,2,  35.5392,2,    171.2,2, 11.7535,    168.2,2,     8.19,2,    17.35,2,     0.00,2,     1.07,2,    1.606,6,    0.849,6, -999.000,5, -999.000,5,-999.0000,5,  -999.00,9,   -999.0,9,  -999.00,9,-999.000,9,   2155.6,2,    649.4,2,  20,   2335.4,2,   7.7900,2,   25,  -999.0, -999.00,-999.0000,-999.000,-999.000
     316N151_3,   A20,    33,  1,     20,     20,2,19970726,1854, 33.5348, -52.3458, 5565, 8632.0,    848.6,   9.4715,  35.2818,2,  35.2806,2,    165.8,2,  9.3727,    163.4,2,    11.83,2,    21.27,2,     0.00,2,     1.35,2,    1.062,2,    0.550,2, -999.000,5,    0.868,2,-999.0000,5,  -999.00,9,   -999.0,9,  -999.00,9,-999.000,9,   2175.0,2,    763.5,2,  20,   2323.1,2,   7.7240,2,   25,  -999.0, -999.00,-999.0000,-999.000,   0.013
     316N151_3,   A20,    33,  1,     19,     19,2,19970726,1854, 33.5348, -52.3458, 5565,10143.5,    999.9,   7.5628,  35.1945,2,  35.1932,2,    184.1,2,  7.4593,    183.8,2,    13.18,2,    21.27,2,     0.00,2,     1.37,2,    0.872,2,    0.447,2, -999.000,5, -999.000,5,-999.0000,5,  -999.00,9,   -999.0,9,  -999.00,9,-999.000,9,   2181.9,2,    791.4,2,  20,   2324.7,2,   7.7150,2,   25,  -999.0, -999.00,-999.0000,-999.000,-999.000
     316N151_3,   A20,    33,  1,     18,     18,2,19970726,1854, 33.5348, -52.3458, 5565,11627.1,   1148.5,   6.1668,  35.1538,2,  35.1534,2,    211.0,2,  6.0586,    213.4,2,    12.90,2,    19.78,2,    -0.01,2,     1.29,2,    1.016,2,    0.508,2, -999.000,5, -999.000,5,-999.0000,5,  -999.00,9,   -999.0,9,  -999.00,9,-999.000,9,   2173.1,2,    773.8,2,  20,   2319.6,2,   7.7220,2,   25,  -999.0, -999.00,-999.0000,-999.000,-999.000
     316N151_3,   A20,    33,  1,     17,     17,2,19970726,1854, 33.5348, -52.3458, 5565,13637.0,   1349.6,   5.0863,  35.0825,2,  35.0829,2,    237.9,2,  4.9683,    239.4,2,    12.42,2,    18.64,2,    -0.01,2,     1.22,2,    1.178,2,    0.589,2, -999.000,5, -999.000,5,-999.0000,5,  -999.00,9,   -999.0,9,  -999.00,9,-999.000,9,   2168.8,2,    759.7,2,  20,   2315.5,2,   7.7330,2,   25,  -999.0, -999.00,-999.0000,-999.000,-999.000
     316N151_3,   A20,    33,  1,     16,     16,2,19970726,1854, 33.5348, -52.3458, 5565,15631.6,   1549.0,   4.4784,  35.0311,2,  35.0297,2,    254.0,2,  4.3481,    251.8,2,    12.42,2,    18.15,2,    -0.01,2,     1.20,2,    1.157,2,    0.578,2, -999.000,5, -999.000,5,-999.0000,5,  -999.00,9,   -999.0,9,  -999.00,9,-999.000,9,   2162.1,2,   -999.0,9,-999,   2312.3,2,   7.7360,2,   25,  -999.0, -999.00,-999.0000,-999.000,-999.000
     316N151_3,   A20,    33,  1,     15,     15,2,19970726,1854, 33.5348, -52.3458, 5565,17630.6,   1748.7,   4.0871,  34.9949,2,  34.9961,2,    260.6,2,  3.9427,    260.9,2,    12.71,2,    17.88,2,    -0.01,2,     1.18,2,    1.124,2,    0.563,2, -999.000,5, -999.000,5,-999.0000,5,  -999.00,9,   -999.0,9,  -999.00,9,-999.000,9,   2157.5,2,   -999.0,9,-999,   2312.0,2,   7.7380,2,   25,  -999.0, -999.00,-999.0000,-999.000,-999.000
     316N151_3,   A20,    33,  1,     14,     14,2,19970726,1854, 33.5348, -52.3458, 5565,20149.1,   2000.4,   3.8346,  34.9898,2,  34.9921,2,    262.3,2,  3.6693,    261.7,2,    14.54,2,    17.92,2,    -0.01,2,     1.19,2,    0.822,2,    0.425,2, -999.000,5, -999.000,5,-999.0000,5,  -999.00,9,   -999.0,9,  -999.00,9,-999.000,9,   2159.1,2,   -999.0,9,-999,   2312.4,2,   7.7430,2,   25,  -999.0, -999.00,-999.0000,-999.000,-999.000
     316N151_3,   A20,    33,  1,     13,     13,2,19970726,1854, 33.5348, -52.3458, 5565,22636.7,   2249.0,   3.6303,  34.9893,2,  34.9890,2,    260.9,2,  3.4440,    260.2,2,    17.03,2,    18.24,2,    -0.01,2,     1.22,2,    0.388,2,    0.210,2, -999.000,5, -999.000,5,-999.0000,5,  -999.00,9,   -999.0,9,  -999.00,9,-999.000,9,   2160.4,2,   -999.0,9,-999,   2316.2,2,   7.7450,2,   25,  -999.0, -999.00,-999.0000,-999.000,-999.000
     316N151_3,   A20,    33,  1,     12,     12,2,19970726,1854, 33.5348, -52.3458, 5565,25139.1,   2499.0,   3.3967,  34.9767,2,  34.9785,2,    259.5,2,  3.1895,    259.9,2,    19.53,2,    18.45,2,    -0.01,2,     1.24,2,    0.248,2,    0.133,2, -999.000,5, -999.000,5,-999.0000,5,  -999.00,9,   -999.0,9,  -999.00,9,-999.000,9,   2165.4,2,   -999.0,9,-999,   2317.9,2,   7.7480,2,   25,  -999.0, -999.00,-999.0000,-999.000,-999.000
     316N151_3,   A20,    33,  1,     11,     11,2,19970726,1854, 33.5348, -52.3458, 5565,28128.5,   2797.8,   3.1252,  34.9578,2,  34.9593,2,    262.0,2,  2.8928,    261.1,2,    21.73,2,    18.56,2,    -0.01,2,     1.25,2,    0.216,2,    0.118,2, -999.000,5, -999.000,5,-999.0000,5,  -999.00,9,   -999.0,9,  -999.00,9,-999.000,9,   2162.3,2,   -999.0,9,-999,   2321.5,2,   7.7470,2,   25,  -999.0, -999.00,-999.0000,-999.000,-999.000
     316N151_3,   A20,    33,  1,     10,     10,2,19970726,1854, 33.5348, -52.3458, 5565,31134.7,   3098.4,   2.8895,  34.9415,2,  34.9412,2,    263.2,2,  2.6308,    262.6,2,    23.85,2,    18.68,2,    -0.01,2,     1.26,2,    0.190,2,    0.103,2, -999.000,5, -999.000,5,-999.0000,5,  -999.00,9,   -999.0,9,  -999.00,9,-999.000,9,   2165.1,2,   -999.0,9,-999,   2320.7,2,   7.7500,2,   25,  -999.0, -999.00,-999.0000,-999.000,-999.000
     316N151_3,   A20,    33,  1,      9,      9,2,19970726,1854, 33.5348, -52.3458, 5565,34140.7,   3398.8,   2.6787,  34.9273,2,  34.9271,2,    265.3,2,  2.3927,    264.3,2,    25.11,2,    18.52,2,    -0.01,2,     1.25,2,    0.196,6,    0.105,6, -999.000,5, -999.000,5,-999.0000,5,  -999.00,9,   -999.0,9,  -999.00,9,-999.000,9,   2164.6,2,   -999.0,9,-999,   2321.9,2,   7.7460,2,   25,  -999.0, -999.00,-999.0000,-999.000,-999.000
     316N151_3,   A20,    33,  1,      8,      8,2,19970726,1854, 33.5348, -52.3458, 5565,36655.7,   3650.3,   2.5092,  34.9155,2,  34.9154,2,    266.3,2,  2.2001,    265.6,2,    26.64,2,    18.51,2,    -0.01,2,     1.26,2,    0.214,2,    0.114,2, -999.000,5, -999.000,5,-999.0000,5,  -999.00,9,   -999.0,9,  -999.00,9,-999.000,9,   2169.0,2,   -999.0,9,-999,   2322.0,2,   7.7460,2,   25,  -999.0, -999.00,-999.0000,-999.000,-999.000
     316N151_3,   A20,    33,  1,      7,      7,2,19970726,1854, 33.5348, -52.3458, 5565,39632.9,   3947.8,   2.3659,  34.9049,2,  34.9040,2,    265.4,2,  2.0273,    266.3,2,    29.71,2,    18.80,2,    -0.01,2,     1.28,2,    0.250,2,    0.138,2, -999.000,5, -999.000,5,-999.0000,5,  -999.00,9,   -999.0,9,  -999.00,9,-999.000,9,   2170.2,2,   -999.0,9,-999,   2325.9,2,   7.7420,2,   25,  -999.0, -999.00,-999.0000,-999.000,-999.000
     316N151_3,   A20,    33,  1,      6,      6,2,19970726,1854, 33.5348, -52.3458, 5565,42160.0,   4200.4,   2.2935,  34.8970,2,  34.8950,2,    264.6,2,  1.9280,    263.6,2,    32.40,2,    19.14,2,    -0.01,2,     1.30,2,    0.281,2,    0.148,2, -999.000,5, -999.000,5,-999.0000,5,  -999.00,9,   -999.0,9,  -999.00,9,-999.000,9,   2176.4,2,   -999.0,9,-999,   2328.0,2,   7.7410,2,   25,  -999.0, -999.00,-999.0000,-999.000,-999.000
     316N151_3,   A20,    33,  1,      5,      5,2,19970726,1854, 33.5348, -52.3458, 5565,45164.6,   4500.7,   2.2452,  34.8882,2,  34.8859,2,    262.5,2,  1.8457,    262.3,2,    36.15,2,    19.65,2,    -0.01,2,     1.34,2,    0.241,2,    0.130,2, -999.000,5, -999.000,5,-999.0000,5,  -999.00,9,   -999.0,9,  -999.00,9,-999.000,9,   2179.8,2,   -999.0,9,-999,   2332.2,2,   7.7390,2,   25,  -999.0, -999.00,-999.0000,-999.000,-999.000
     316N151_3,   A20,    33,  1,      4,      4,2,19970726,1854, 33.5348, -52.3458, 5565,48163.9,   4800.6,   2.1908,  34.8775,2,  34.8772,2,    259.3,2,  1.7567,    259.1,2,    41.53,2,    20.53,2,    -0.01,2,     1.40,2,    0.177,2,    0.099,2, -999.000,5, -999.000,5,-999.0000,5,  -999.00,9,   -999.0,9,  -999.00,9,-999.000,9,   2183.6,2,   -999.0,9,-999,   2334.8,2,   7.7340,2,   25,  -999.0, -999.00,-999.0000,-999.000,-999.000
     316N151_3,   A20,    33,  1,      3,      3,2,19970726,1854, 33.5348, -52.3458, 5565,51178.8,   5102.0,   2.1609,  34.8697,2,  34.8691,2,    256.5,2,  1.6902,    255.8,2,    45.84,2,    21.20,2,    -0.01,2,     1.45,2,    0.121,2,    0.071,2, -999.000,5, -999.000,5,-999.0000,5,  -999.00,9,   -999.0,9,  -999.00,9,-999.000,9,   2188.5,2,   -999.0,9,-999,   2338.4,2,   7.7290,2,   25,  -999.0, -999.00,-999.0000,-999.000,-999.000
     316N151_3,   A20,    33,  1,      2,      2,2,19970726,1854, 33.5348, -52.3458, 5565,54200.6,   5403.9,   2.1608,  34.8647,2,  34.8636,2,    255.1,2,  1.6514,    254.4,2,    48.54,2,    21.63,2,    -0.01,2,     1.48,2,    0.084,2,    0.052,2, -999.000,5, -999.000,5,-999.0000,5,  -999.00,9,   -999.0,9,  -999.00,9,-999.000,9,   2193.0,2,   -999.0,9,-999,   2340.9,2,   7.7240,2,   25,  -999.0, -999.00,-999.0000,-999.000,-999.000
     316N151_3,   A20,    33,  1,      1,      1,2,19970726,1854, 33.5348, -52.3458, 5565,55253.1,   5509.3,   2.1667,  34.8640,2,  34.8627,2,    254.9,2,  1.6432,    252.0,2,    49.12,6,    21.70,6,    -0.01,6,     1.49,6,    0.080,6,    0.052,6, -999.000,5, -999.000,5,-999.0000,5,  -999.00,9,   -999.0,9,  -999.00,9,-999.000,9,   2197.5,2,    780.3,2,  20,   2342.9,6,   7.7230,6,   25,  -999.0, -999.00,-999.0000,-999.000,-999.000