BOTTLE,20220812CCHSIOAMB
EXPOCODE,SECT_ID,STNNBR,CASTNO,SAMPNO,BTLNBR,BTLNBR_FLAG_W,DATE,TIME,LATITUDE,LONGITUDE,DEPTH,CTDRAW,CTDPRS,CTDTMP,CTDSAL,CTDSAL_FLAG_W,SALNTY,SALNTY_FLAG_W,CTDOXY,CTDOXY_FLAG_W,THETA,OXYGEN,OXYGEN_FLAG_W,SILCAT,SILCAT_FLAG_W,NITRAT,NITRAT_FLAG_W,NITRIT,NITRIT_FLAG_W,PHSPHT,PHSPHT_FLAG_W,CFC-11,CFC-11_FLAG_W,CFC-12,CFC-12_FLAG_W,CFC113,CFC113_FLAG_W,TRITUM,TRITUM_FLAG_W,HELIUM,HELIUM_FLAG_W,DELHE3,DELHE3_FLAG_W,DELC14,DELC14_FLAG_W,DELC13,DELC13_FLAG_W,NEON,NEON_FLAG_W,TCARBN,TCARBN_FLAG_W,PCO2,PCO2_FLAG_W,PCO2_TMP,ALKALI,ALKALI_FLAG_W,PH,PH_FLAG_W,PH_TMP,C14ERR,DELHER,HELIER,NEONER,TRITER
,,,,,,,,,,,,,DBAR,ITS-90,PSS-78,,PSS-78,,UMOL/KG,,ITS-90,UMOL/KG,,UMOL/KG,,UMOL/KG,,UMOL/KG,,UMOL/KG,,PMOL/KG,,PMOL/KG,,PMOL/KG,,TU,,NMOL/KG,,PERCNT,,/MILLE,,/MILLE,,NMOL/KG,,UMOL/KG,,UATM,,DEG C,UMOL/KG,,,,DEG C,/MILLE,PERCNT,NMOL/KG,NMOL/KG,TU
     316N151_3,   A20,    84,  1,     24,     24,2,19970808,1441,  7.5153, -53.2865,  682,  464.6,      1.8,  28.7025,  31.1540,3,-999.0000,9,     59.4,3, 28.7021,   -999.0,9,  -999.00,9,  -999.00,9,  -999.00,9,  -999.00,9, -999.000,9, -999.000,9, -999.000,5, -999.000,5,-999.0000,5,  -999.00,9,   -999.0,9,  -999.00,9,-999.000,9,   1742.9,2,   -999.0,9,-999,   2081.4,2,   8.1920,2,   25,  -999.0, -999.00,-999.0000,-999.000,-999.000
     316N151_3,   A20,    84,  1,     23,     23,2,19970808,1441,  7.5153, -53.2865,  682,  465.3,      1.9,  28.7090,  31.1562,2,  31.1586,2,     56.4,4, 28.7086,    223.1,2,    10.90,3,     0.73,2,     0.00,2,     0.04,2, -999.000,9, -999.000,9, -999.000,5, -999.000,5,-999.0000,5,  -999.00,9,   -999.0,9,  -999.00,9,-999.000,9,   -999.0,9,   -999.0,9,-999,   -999.0,9,-999.0000,9, -999,  -999.0, -999.00,-999.0000,-999.000,-999.000
     316N151_3,   A20,    84,  1,     21,     21,2,19970808,1441,  7.5153, -53.2865,  682,  550.7,     11.5,  28.3545,  35.1012,2,  35.0810,2,     55.0,4, 28.3517,    208.5,2,     4.12,3,     0.72,2,     0.00,2,     0.11,2,    1.692,2,    0.994,2, -999.000,5, -999.000,5,-999.0000,5,  -999.00,9,   -999.0,9,  -999.00,9,-999.000,9,   -999.0,9,   -999.0,9,-999,   -999.0,9,-999.0000,9, -999,  -999.0, -999.00,-999.0000,-999.000,-999.000
     316N151_3,   A20,    84,  1,     22,     22,2,19970808,1441,  7.5153, -53.2865,  682,  551.9,     11.6,  28.3546,  35.0986,3,-999.0000,9,     62.4,3, 28.3519,   -999.0,9,  -999.00,9,  -999.00,9,  -999.00,9,  -999.00,9, -999.000,9, -999.000,9, -999.000,5, -999.000,5,-999.0000,5,  -999.00,9,   -999.0,9,  -999.00,9,-999.000,9,   1965.5,2,    278.3,2,  20,   2302.7,2,   8.0970,2,   25,  -999.0, -999.00,-999.0000,-999.000,-999.000
     316N151_3,   A20,    84,  1,     20,     20,2,19970808,1441,  7.5153, -53.2865,  682,  916.5,     51.1,  26.2503,  36.2976,3,-999.0000,9,     70.8,3, 26.2388,   -999.0,9,  -999.00,9,  -999.00,9,  -999.00,9,  -999.00,9, -999.000,9, -999.000,9, -999.000,5, -999.000,5,-999.0000,5,  -999.00,9,   -999.0,9,  -999.00,9,-999.000,9,   2026.2,2,   -999.0,9,-999,   2374.8,2,   8.0970,2,   25,  -999.0, -999.00,-999.0000,-999.000,-999.000
     316N151_3,   A20,    84,  1,     19,     19,2,19970808,1441,  7.5153, -53.2865,  682,  916.9,     51.1,  26.2519,  36.2996,2,  36.3018,2,     55.9,4, 26.2404,    203.1,2,     1.14,3,     0.88,2,     0.18,2,     0.05,2,    1.824,4,    1.531,4, -999.000,5, -999.000,5,-999.0000,5,  -999.00,9,   -999.0,9,  -999.00,9,-999.000,9,   -999.0,9,   -999.0,9,-999,   -999.0,9,-999.0000,9, -999,  -999.0, -999.00,-999.0000,-999.000,-999.000
     316N151_3,   A20,    84,  1,     18,     18,2,19970808,1441,  7.5153, -53.2865,  682, 1369.0,     99.7,  19.7095,  36.3834,3,-999.0000,9,     84.5,3, 19.6912,   -999.0,9,  -999.00,9,  -999.00,9,  -999.00,9,  -999.00,9, -999.000,9, -999.000,9, -999.000,5, -999.000,5,-999.0000,5,  -999.00,9,   -999.0,9,  -999.00,9,-999.000,9,   2147.5,2,    507.7,2,  20,   2379.0,2,   7.8900,2,   25,  -999.0, -999.00,-999.0000,-999.000,-999.000
     316N151_3,   A20,    84,  1,     17,     17,2,19970808,1441,  7.5153, -53.2865,  682, 1369.0,     99.7,  19.7097,  36.3793,2,  36.3759,2,     59.8,4, 19.6914,    136.7,2,     4.16,3,    10.69,2,     0.03,2,     0.69,2,    1.840,6,    1.101,6, -999.000,5, -999.000,5,-999.0000,5,  -999.00,9,   -999.0,9,  -999.00,9,-999.000,9,   -999.0,9,   -999.0,9,-999,   -999.0,9,-999.0000,9, -999,  -999.0, -999.00,-999.0000,-999.000,-999.000
     316N151_3,   A20,    84,  1,     16,     16,2,19970808,1441,  7.5153, -53.2865,  682, 1842.8,    150.6,  12.0563,  35.1948,3,-999.0000,9,    108.6,3, 12.0366,   -999.0,9,  -999.00,9,  -999.00,9,  -999.00,9,  -999.00,9, -999.000,9, -999.000,9, -999.000,5, -999.000,5,-999.0000,5,  -999.00,9,   -999.0,9,  -999.00,9,-999.000,9,   2161.1,2,   -999.0,9,-999,   2318.8,2,   7.7500,2,   25,  -999.0, -999.00,-999.0000,-999.000,-999.000
     316N151_3,   A20,    84,  1,     15,     15,2,19970808,1441,  7.5153, -53.2865,  682, 1844.6,    150.8,  12.0584,  35.1953,2,  35.1890,2,     78.4,4, 12.0387,    145.5,2,     8.85,3,    19.30,2,     0.01,2,     1.35,2, -999.000,9, -999.000,9, -999.000,5, -999.000,5,-999.0000,5,  -999.00,9,   -999.0,9,  -999.00,9,-999.000,9,   -999.0,9,   -999.0,9,-999,   -999.0,9,-999.0000,9, -999,  -999.0, -999.00,-999.0000,-999.000,-999.000
     316N151_3,   A20,    84,  1,     14,     14,2,19970808,1441,  7.5153, -53.2865,  682, 2320.1,    201.8,  11.0443,  35.0468,3,-999.0000,9,    114.3,3, 11.0194,   -999.0,9,  -999.00,9,  -999.00,9,  -999.00,9,  -999.00,9, -999.000,9, -999.000,9, -999.000,5, -999.000,5,-999.0000,5,  -999.00,9,   -999.0,9,  -999.00,9,-999.000,9,   2168.5,2,   -999.0,9,-999,   2310.2,2,   7.7130,2,   25,  -999.0, -999.00,-999.0000,-999.000,-999.000
     316N151_3,   A20,    84,  1,     13,     13,2,19970808,1441,  7.5153, -53.2865,  682, 2321.6,    202.0,  11.0495,  35.0471,2,  35.0406,2,     87.3,4, 11.0246,    143.5,2,    10.43,3,    21.57,2,     0.01,2,     1.50,2, -999.000,9, -999.000,9, -999.000,5, -999.000,5,-999.0000,5,  -999.00,9,   -999.0,9,  -999.00,9,-999.000,9,   -999.0,9,   -999.0,9,-999,   -999.0,9,-999.0000,9, -999,  -999.0, -999.00,-999.0000,-999.000,-999.000
     316N151_3,   A20,    84,  1,     12,     12,2,19970808,1441,  7.5153, -53.2865,  682, 2805.0,    253.8,  10.4731,  34.9697,3,-999.0000,9,    118.6,3, 10.4427,   -999.0,9,  -999.00,9,  -999.00,9,  -999.00,9,  -999.00,9, -999.000,9, -999.000,9, -999.000,5, -999.000,5,-999.0000,5,  -999.00,9,   -999.0,9,  -999.00,9,-999.000,9,   2172.5,2,   -999.0,9,-999,   2309.0,2,   7.7030,2,   25,  -999.0, -999.00,-999.0000,-999.000,-999.000
     316N151_3,   A20,    84,  1,     11,     11,2,19970808,1441,  7.5153, -53.2865,  682, 2805.7,    253.8,  10.4730,  34.9699,2,  34.9686,2,     93.0,4, 10.4426,    142.7,2,    11.24,3,    22.78,2,     0.01,2,     1.57,2,    1.283,6,    0.678,6, -999.000,5, -999.000,5,-999.0000,5,  -999.00,9,   -999.0,9,  -999.00,9,-999.000,9,   -999.0,9,   -999.0,9,-999,   -999.0,9,-999.0000,9, -999,  -999.0, -999.00,-999.0000,-999.000,-999.000
     316N151_3,   A20,    84,  1,     10,     10,2,19970808,1441,  7.5153, -53.2865,  682, 3258.9,    302.4,   9.7817,  34.8976,3,-999.0000,9,    124.3,3,  9.7469,   -999.0,9,  -999.00,9,  -999.00,9,  -999.00,9,  -999.00,9, -999.000,9, -999.000,9, -999.000,5, -999.000,5,-999.0000,5,  -999.00,9,   -999.0,9,  -999.00,9,-999.000,9,   2179.8,2,    880.5,2,  20,   2303.9,2,   7.6740,2,   25,  -999.0, -999.00,-999.0000,-999.000,-999.000
     316N151_3,   A20,    84,  1,      9,      9,2,19970808,1441,  7.5153, -53.2865,  682, 3261.7,    302.7,   9.7790,  34.8971,2,  34.8958,2,     98.9,4,  9.7442,    141.0,2,    12.62,3,    24.41,2,     0.00,2,     1.68,2,    1.127,2,    0.595,2, -999.000,5, -999.000,5,-999.0000,5,  -999.00,9,   -999.0,9,  -999.00,9,-999.000,9,   -999.0,9,   -999.0,9,-999,   -999.0,9,-999.0000,9, -999,  -999.0, -999.00,-999.0000,-999.000,-999.000
     316N151_3,   A20,    84,  1,      8,      8,2,19970808,1441,  7.5153, -53.2865,  682, 4132.3,    396.1,   8.8633,  34.8613,3,-999.0000,9,    129.1,3,  8.8203,   -999.0,9,  -999.00,9,  -999.00,9,  -999.00,9,  -999.00,9, -999.000,9, -999.000,9, -999.000,5, -999.000,5,-999.0000,5,  -999.00,9,   -999.0,9,  -999.00,9,-999.000,9,   2200.9,2,   -999.0,9,-999,   2305.2,2,   7.6190,2,   25,  -999.0, -999.00,-999.0000,-999.000,-999.000
     316N151_3,   A20,    84,  1,      7,      7,2,19970808,1441,  7.5153, -53.2865,  682, 4132.8,    396.2,   8.8621,  34.8607,2,  34.8580,2,    108.0,4,  8.8191,    120.8,2,    15.75,3,    28.34,2,     0.00,2,     1.90,2,    0.649,2,    0.349,2, -999.000,5, -999.000,5,-999.0000,5,  -999.00,9,   -999.0,9,  -999.00,9,-999.000,9,   -999.0,9,   -999.0,9,-999,   -999.0,9,-999.0000,9, -999,  -999.0, -999.00,-999.0000,-999.000,-999.000
     316N151_3,   A20,    84,  1,      6,      6,2,19970808,1441,  7.5153, -53.2865,  682, 5144.5,    504.5,   7.2348,  34.6726,3,-999.0000,9,    138.9,3,  7.1858,   -999.0,9,  -999.00,9,  -999.00,9,  -999.00,9,  -999.00,9, -999.000,9, -999.000,9, -999.000,5, -999.000,5,-999.0000,5,  -999.00,9,   -999.0,9,  -999.00,9,-999.000,9,   2210.0,2,   -999.0,9,-999,   2297.3,2,   7.5760,2,   25,  -999.0, -999.00,-999.0000,-999.000,-999.000
     316N151_3,   A20,    84,  1,      5,      5,2,19970808,1441,  7.5153, -53.2865,  682, 5145.4,    504.6,   7.2346,  34.6713,2,  34.6726,2,    121.8,4,  7.1856,    122.3,2,    20.15,3,    31.53,2,     0.00,2,     2.12,2,    0.341,2,    0.193,2, -999.000,5, -999.000,5,-999.0000,5,  -999.00,9,   -999.0,9,  -999.00,9,-999.000,9,   -999.0,9,   -999.0,9,-999,   -999.0,9,-999.0000,9, -999,  -999.0, -999.00,-999.0000,-999.000,-999.000
     316N151_3,   A20,    84,  1,      3,      3,2,19970808,1441,  7.5153, -53.2865,  682, 5861.6,    581.0,   6.8312,  34.6434,2,  34.6436,2,    129.1,4,  6.7763,    122.8,2,    21.83,3,    32.20,2,     0.00,2,     2.18,2,    0.265,6,    0.144,6, -999.000,5, -999.000,5,-999.0000,5,  -999.00,9,   -999.0,9,  -999.00,9,-999.000,9,   -999.0,9,   -999.0,9,-999,   -999.0,9,-999.0000,9, -999,  -999.0, -999.00,-999.0000,-999.000,-999.000
     316N151_3,   A20,    84,  1,      4,      4,2,19970808,1441,  7.5153, -53.2865,  682, 5862.2,    581.1,   6.8312,  34.6446,3,-999.0000,9,    141.4,3,  6.7763,   -999.0,9,  -999.00,9,  -999.00,9,  -999.00,9,  -999.00,9, -999.000,9, -999.000,9, -999.000,5, -999.000,5,-999.0000,5,  -999.00,9,   -999.0,9,  -999.00,9,-999.000,9,   2215.9,2,   1156.2,2,  20,   2300.8,2,   7.5710,2,   25,  -999.0, -999.00,-999.0000,-999.000,-999.000
     316N151_3,   A20,    84,  1,      2,      2,2,19970808,1441,  7.5153, -53.2865,  682, 6659.0,    666.2,   5.9431,  34.5946,3,-999.0000,9,    144.0,3,  5.8843,   -999.0,9,  -999.00,9,  -999.00,9,  -999.00,9,  -999.00,9, -999.000,9, -999.000,9, -999.000,5, -999.000,5,-999.0000,5,  -999.00,9,   -999.0,9,  -999.00,9,-999.000,9,   2220.8,2,   -999.0,9,-999,   2299.7,2,   7.5550,2,   25,  -999.0, -999.00,-999.0000,-999.000,-999.000
     316N151_3,   A20,    84,  1,      1,      1,2,19970808,1441,  7.5153, -53.2865,  682, 6659.3,    666.2,   5.9415,  34.5925,2,  34.5956,2,   -999.0,9,  5.8827,    129.1,2,    26.21,3,    33.21,6,     0.01,6,     2.29,2,    0.136,2,    0.081,2, -999.000,5, -999.000,5,-999.0000,5,  -999.00,9,   -999.0,9,  -999.00,9,-999.000,9,   -999.0,9,   -999.0,9,-999,   -999.0,9,-999.0000,9, -999,  -999.0, -999.00,-999.0000,-999.000,-999.000
     316N151_3,   A20,    85,  1,     12,     12,2,19970808,1618,  7.4203, -53.3367,  475,  474.3,      1.7,  28.5167,  31.2565,2,-999.0000,9,     52.3,4, 28.5163,   -999.0,9,  -999.00,9,  -999.00,9,  -999.00,9,  -999.00,9, -999.000,9, -999.000,9, -999.000,5, -999.000,5,-999.0000,5,  -999.00,9,   -999.0,9,  -999.00,9,-999.000,9,   -999.0,9,   -999.0,9,-999,   2088.2,2,   8.2130,2,   25,  -999.0, -999.00,-999.0000,-999.000,-999.000
     316N151_3,   A20,    85,  1,     11,     11,2,19970808,1618,  7.4203, -53.3367,  475,  476.4,      1.9,  28.5195,  31.2542,2,  31.2551,2,     52.2,4, 28.5190,    225.2,2,     9.83,3,     1.68,2,     0.00,2,     0.03,2, -999.000,9, -999.000,9, -999.000,5, -999.000,5,-999.0000,5,  -999.00,9,   -999.0,9,  -999.00,9,-999.000,9,   1737.9,2,   -999.0,9,-999,   -999.0,9,-999.0000,9, -999,  -999.0, -999.00,-999.0000,-999.000,-999.000
     316N151_3,   A20,    85,  1,     10,     10,2,19970808,1618,  7.4203, -53.3367,  475,  578.0,     13.4,  28.1395,  35.4007,2,  35.2274,2,     51.9,4, 28.1363,    207.2,2,     4.02,3,     1.62,2,     0.00,2,     0.10,2, -999.000,9, -999.000,9, -999.000,5, -999.000,5,-999.0000,5,  -999.00,9,   -999.0,9,  -999.00,9,-999.000,9,   -999.0,9,   -999.0,9,-999,   -999.0,9,-999.0000,9, -999,  -999.0, -999.00,-999.0000,-999.000,-999.000
     316N151_3,   A20,    85,  1,      9,      9,2,19970808,1618,  7.4203, -53.3367,  475,  917.8,     49.9,  25.8436,  36.2464,2,  36.2496,2,     52.3,4, 25.8325,    179.2,2,     2.59,3,     3.66,2,     0.09,2,     0.25,2, -999.000,9, -999.000,9, -999.000,5, -999.000,5,-999.0000,5,  -999.00,9,   -999.0,9,  -999.00,9,-999.000,9,   -999.0,9,   -999.0,9,-999,   -999.0,9,-999.0000,9, -999,  -999.0, -999.00,-999.0000,-999.000,-999.000
     316N151_3,   A20,    85,  1,      8,      8,2,19970808,1618,  7.4203, -53.3367,  475, 1397.1,    101.3,  19.3497,  36.3265,2,  36.2083,2,     61.2,4, 19.3313,    141.7,2,     5.04,3,    12.89,2,     0.03,2,     0.81,2, -999.000,9, -999.000,9, -999.000,5, -999.000,5,-999.0000,5,  -999.00,9,   -999.0,9,  -999.00,9,-999.000,9,   -999.0,9,   -999.0,9,-999,   -999.0,9,-999.0000,9, -999,  -999.0, -999.00,-999.0000,-999.000,-999.000
     316N151_3,   A20,    85,  1,      7,      7,2,19970808,1618,  7.4203, -53.3367,  475, 1864.2,    151.4,  12.3126,  35.2487,2,  35.2428,2,     77.3,4, 12.2925,    154.3,2,     8.84,3,    19.01,2,     0.01,2,     1.33,2, -999.000,9, -999.000,9, -999.000,5, -999.000,5,-999.0000,5,  -999.00,9,   -999.0,9,  -999.00,9,-999.000,9,   -999.0,9,   -999.0,9,-999,   -999.0,9,-999.0000,9, -999,  -999.0, -999.00,-999.0000,-999.000,-999.000
     316N151_3,   A20,    85,  1,      6,      6,2,19970808,1618,  7.4203, -53.3367,  475, 2348.6,    203.3,  11.2163,  35.0645,2,  35.0537,2,     87.8,4, 11.1909,    155.2,2,    10.43,3,    21.13,2,     0.01,2,     1.48,2, -999.000,9, -999.000,9, -999.000,5, -999.000,5,-999.0000,5,  -999.00,9,   -999.0,9,  -999.00,9,-999.000,9,   -999.0,9,   -999.0,9,-999,   -999.0,9,-999.0000,9, -999,  -999.0, -999.00,-999.0000,-999.000,-999.000
     316N151_3,   A20,    85,  1,      5,      5,2,19970808,1618,  7.4203, -53.3367,  475, 2795.4,    251.1,  10.6377,  34.9879,2,  35.0646,2,     92.6,4, 10.6074,    153.4,2,    11.13,3,    22.10,2,     0.01,2,     1.55,2, -999.000,9, -999.000,9, -999.000,5, -999.000,5,-999.0000,5,  -999.00,9,   -999.0,9,  -999.00,9,-999.000,9,   -999.0,9,   -999.0,9,-999,   -999.0,9,-999.0000,9, -999,  -999.0, -999.00,-999.0000,-999.000,-999.000
     316N151_3,   A20,    85,  1,      4,      4,2,19970808,1618,  7.4203, -53.3367,  475, 3282.1,    303.1,  10.1045,  34.9368,2,  34.9362,2,     98.0,4, 10.0689,    146.7,2,    12.32,3,    23.47,2,     0.00,2,     1.63,2, -999.000,9, -999.000,9, -999.000,5, -999.000,5,-999.0000,5,  -999.00,9,   -999.0,9,  -999.00,9,-999.000,9,   -999.0,9,   -999.0,9,-999,   -999.0,9,-999.0000,9, -999,  -999.0, -999.00,-999.0000,-999.000,-999.000
     316N151_3,   A20,    85,  1,      3,      3,2,19970808,1618,  7.4203, -53.3367,  475, 3735.9,    351.6,   9.8134,  34.9767,2,  34.9726,2,    101.2,4,  9.7729,    122.6,2,    13.71,3,    25.96,2,     0.00,2,     1.76,2, -999.000,9, -999.000,9, -999.000,5, -999.000,5,-999.0000,5,  -999.00,9,   -999.0,9,  -999.00,9,-999.000,9,   -999.0,9,   -999.0,9,-999,   -999.0,9,-999.0000,9, -999,  -999.0, -999.00,-999.0000,-999.000,-999.000
     316N151_3,   A20,    85,  1,      2,      2,2,19970808,1618,  7.4203, -53.3367,  475, 4225.6,    403.9,   9.1254,  34.8999,2,  34.9029,2,    107.6,4,  9.0807,    119.5,2,    15.28,3,    27.59,2,     0.00,2,     1.87,2, -999.000,9, -999.000,9, -999.000,5, -999.000,5,-999.0000,5,  -999.00,9,   -999.0,9,  -999.00,9,-999.000,9,   -999.0,9,   -999.0,9,-999,   -999.0,9,-999.0000,9, -999,  -999.0, -999.00,-999.0000,-999.000,-999.000
     316N151_3,   A20,    85,  1,      1,      1,2,19970808,1618,  7.4203, -53.3367,  475, 4749.0,    459.6,   8.1570,  34.7841,2,  34.7975,2,   -999.0,9,  8.1094,    122.9,2,    17.87,3,    29.17,6,     0.01,6,     1.99,2, -999.000,9, -999.000,9, -999.000,5, -999.000,5,-999.0000,5,  -999.00,9,   -999.0,9,  -999.00,9,-999.000,9,   -999.0,9,   -999.0,9,-999,   -999.0,9,-999.0000,9, -999,  -999.0, -999.00,-999.0000,-999.000,-999.000