BOTTLE,20220812CCHSIOAMB
EXPOCODE,SECT_ID,STNNBR,CASTNO,SAMPNO,BTLNBR,BTLNBR_FLAG_W,DATE,TIME,LATITUDE,LONGITUDE,DEPTH,CTDRAW,CTDPRS,CTDTMP,CTDSAL,CTDSAL_FLAG_W,SALNTY,SALNTY_FLAG_W,CTDOXY,CTDOXY_FLAG_W,THETA,OXYGEN,OXYGEN_FLAG_W,SILCAT,SILCAT_FLAG_W,NITRAT,NITRAT_FLAG_W,NITRIT,NITRIT_FLAG_W,PHSPHT,PHSPHT_FLAG_W,CFC-11,CFC-11_FLAG_W,CFC-12,CFC-12_FLAG_W,CFC113,CFC113_FLAG_W,TRITUM,TRITUM_FLAG_W,HELIUM,HELIUM_FLAG_W,DELHE3,DELHE3_FLAG_W,DELC14,DELC14_FLAG_W,DELC13,DELC13_FLAG_W,NEON,NEON_FLAG_W,TCARBN,TCARBN_FLAG_W,PCO2,PCO2_FLAG_W,PCO2_TMP,ALKALI,ALKALI_FLAG_W,PH,PH_FLAG_W,PH_TMP,C14ERR,DELHER,HELIER,NEONER,TRITER
,,,,,,,,,,,,,DBAR,ITS-90,PSS-78,,PSS-78,,UMOL/KG,,ITS-90,UMOL/KG,,UMOL/KG,,UMOL/KG,,UMOL/KG,,UMOL/KG,,PMOL/KG,,PMOL/KG,,PMOL/KG,,TU,,NMOL/KG,,PERCNT,,/MILLE,,/MILLE,,NMOL/KG,,UMOL/KG,,UATM,,DEG C,UMOL/KG,,,,DEG C,/MILLE,PERCNT,NMOL/KG,NMOL/KG,TU
     316N151_3,   A20,    14,  1,     30,     30,2,19970721,1923, 41.8250, -51.7942, 4007,  237.0,     10.1,  20.9032,  35.3483,2,  35.3495,2,    229.8,2, 20.9013,    232.9,2,     0.26,2,     0.06,2,     0.00,2,     0.03,2,    2.379,2,    1.359,2, -999.000,5,    1.546,2,   1.7334,2,    -1.54,2,   -999.0,9,  -999.00,9,   6.959,2,   2013.6,2,    311.3,2,  20,   2329.6,2,   8.0600,2,   25,  -999.0,    0.15,  0.0087,   0.035,   0.015
     316N151_3,   A20,    14,  1,     29,     29,2,19970721,1923, 41.8250, -51.7942, 4007,  620.8,     48.5,  15.0964,  35.0453,2,  35.0972,2,    240.1,2, 15.0891,    235.6,2,     0.85,2,     0.31,2,     0.13,2,     0.17,2, -999.000,9, -999.000,9, -999.000,5, -999.000,5,-999.0000,5,  -999.00,9,   -999.0,9,  -999.00,9,-999.000,9,   2063.3,2,    409.5,2,  20,   2308.0,2,   7.9560,2,   25,  -999.0, -999.00,-999.0000,-999.000,-999.000
     316N151_3,   A20,    14,  1,     28,     28,2,19970721,1923, 41.8250, -51.7942, 4007, 1131.6,     99.3,  13.9725,  35.5520,2,  35.5543,2,    206.1,2, 13.9581,    209.9,2,     2.96,2,     7.87,2,     0.02,2,     0.53,2,    2.723,2,    1.463,2, -999.000,5,    1.487,2,   1.7704,2,     0.62,2,   -999.0,9,  -999.00,9,   7.284,2,   2109.1,2,    482.8,2,  20,   2337.9,2,   7.9060,2,   25,  -999.0,    0.15,  0.0089,   0.036,   0.015
     316N151_3,   A20,    14,  1,     27,     27,2,19970721,1923, 41.8250, -51.7942, 4007, 1649.2,    150.9,  13.3973,  35.5573,2,  35.5638,2,    205.7,2, 13.3760,    202.9,2,     4.01,2,     9.98,2,     0.01,2,     0.65,2, -999.000,9, -999.000,9, -999.000,5,    1.425,2,   1.7785,2,     1.37,2,   -999.0,9,  -999.00,9,   7.320,2,   2120.9,2,    514.9,2,  20,   2325.1,6,   7.8770,6,   25,  -999.0,    0.15,  0.0089,   0.037,   0.014
     316N151_3,   A20,    14,  1,     26,     26,2,19970721,1923, 41.8250, -51.7942, 4007, 2183.3,    204.5,  13.5082,  35.7400,2,  35.7419,2,    158.8,2, 13.4791,    161.4,2,     6.40,2,    15.14,2,     0.01,2,     0.92,2,    1.616,2,    0.873,2, -999.000,5,    1.147,2,   1.7752,2,     5.61,2,   -999.0,9,  -999.00,9,   7.288,2,   2150.4,2,    590.4,2,  20,   2344.4,2,   7.8280,2,   25,  -999.0,    0.15,  0.0089,   0.036,   0.014
     316N151_3,   A20,    14,  1,     25,     25,2,19970721,1923, 41.8250, -51.7942, 4007, 2682.9,    254.7,  12.1686,  35.5183,2,  35.5212,2,    156.1,2, 12.1347,    152.8,2,     8.71,2,    18.07,2,     0.00,2,     1.13,2,    1.462,6,    0.777,6, -999.000,5,    1.040,2,   1.7810,2,     5.46,2,   -999.0,9,  -999.00,9,   7.390,2,   2163.6,2,    671.0,2,  20,   2333.7,2,   7.7790,2,   25,  -999.0,    0.15,  0.0089,   0.037,   0.013
     316N151_3,   A20,    14,  1,     24,     24,2,19970721,1923, 41.8250, -51.7942, 4007, 3644.8,    351.2,  10.2081,  35.2841,2,  35.2863,2,    143.0,2, 10.1664,    139.9,2,    12.72,2,    22.79,2,     0.00,2,     1.45,2,    0.914,2,    0.488,2, -999.000,5,    0.741,2,   1.7928,2,     5.43,2,   -999.0,9,  -999.00,9,   7.483,2,   2183.5,2,    800.4,2,  20,   2311.1,2,   7.7070,2,   25,  -999.0,    0.15,  0.0090,   0.037,   0.013
     316N151_3,   A20,    14,  1,     23,     23,2,19970721,1923, 41.8250, -51.7942, 4007, 4630.9,    449.9,   7.8198,  35.0357,2,  35.0360,2,    166.6,2,  7.7741,    168.4,2,    13.87,2,    22.33,2,     0.00,2,     1.46,2,    1.333,2,    0.693,2, -999.000,5,    0.848,2,   1.8100,2,     5.19,2,   -999.0,9,  -999.00,9,   7.663,2,   2183.6,2,    840.9,2,  20,   2312.7,2,   7.6950,2,   25,  -999.0,    0.15,  0.0090,   0.038,   0.013
     316N151_3,   A20,    14,  1,     22,     22,2,19970721,1923, 41.8250, -51.7942, 4007, 5658.5,    552.7,   6.6439,  35.0504,2,  35.0520,2,    190.5,2,  6.5922,    192.6,2,    13.60,2,    21.15,2,     0.00,2,     1.39,2, -999.000,9, -999.000,9, -999.000,5,    0.802,2,   1.8299,2,     6.20,2,   -999.0,9,  -999.00,9,   7.777,2,   2181.8,2,   -999.0,9,-999,   2302.6,2,   7.7030,2,   25,  -999.0,    0.15,  0.0091,   0.039,   0.013
     316N151_3,   A20,    14,  1,     21,     21,2,19970721,1923, 41.8250, -51.7942, 4007, 6688.1,    655.6,   6.1243,  35.1146,2,  35.1160,2,    209.4,2,  6.0650,    211.1,2,    12.74,2,    19.78,2,     0.00,2,     1.30,2,    1.272,2,    0.631,2, -999.000,5,    0.011,2,   1.8154,2,     1.70,2,   -999.0,9,  -999.00,9,   7.785,2,   2176.9,2,    783.8,2,  20,   2318.2,2,   7.7200,2,   25,  -999.0,    0.15,  0.0091,   0.039,   0.010
     316N151_3,   A20,    14,  1,     20,     20,2,19970721,1923, 41.8250, -51.7942, 4007, 7645.5,    751.3,   5.1381,  35.0145,2,  35.0143,2,    228.2,2,  5.0754,    232.4,2,    12.37,2,    18.98,2,     0.00,2,     1.26,2,    1.802,2,    0.788,3, -999.000,5,    0.898,2,   1.8364,2,     5.80,2,   -999.0,9,  -999.00,9,   7.858,2,   2167.5,2,    780.1,2,  20,   2303.1,2,   7.7180,2,   25,  -999.0,    0.15,  0.0092,   0.039,   0.013
     316N151_3,   A20,    14,  1,     19,     19,2,19970721,1923, 41.8250, -51.7942, 4007, 9180.1,    904.7,   4.7426,  35.0172,2,  35.0178,2,    243.1,2,  4.6688,    244.0,2,    12.18,2,    18.46,2,     0.00,2,     1.22,2, -999.000,9, -999.000,9, -999.000,5,    0.898,2,   1.8310,2,     6.34,2,   -999.0,9,  -999.00,9,   7.857,2,   2167.4,2,   -999.0,9,-999,   2310.9,2,   7.7280,2,   25,  -999.0,    0.15,  0.0092,   0.039,   0.013
     316N151_3,   A20,    14,  1,     18,     18,2,19970721,1923, 41.8250, -51.7942, 4007,10643.2,   1051.0,   4.2724,  34.9732,2,  34.9757,2,    253.7,2,  4.1895,    257.2,2,    11.81,2,    17.87,2,     0.00,2,     1.19,2,    1.933,2,    0.933,2, -999.000,5,    0.964,2,   1.8323,2,     5.81,2,   -999.0,9,  -999.00,9,   7.884,2,   2163.2,2,    760.4,2,  20,   2300.0,2,   7.7260,2,   25,  -999.0,    0.15,  0.0092,   0.039,   0.013
     316N151_3,   A20,    14,  1,     17,     17,2,19970721,1923, 41.8250, -51.7942, 4007,12166.9,   1203.3,   4.0495,  34.9581,2,  34.9599,2,    268.7,2,  3.9553,    263.3,2,    11.73,2,    17.65,2,     0.00,2,     1.17,2,    1.936,6,    0.941,6, -999.000,5,    0.969,2,   1.8414,2,     6.56,2,   -999.0,9,  -999.00,9,   7.914,2,   2159.6,2,    757.6,2,  20,   2307.0,2,   7.7350,2,   25,  -999.0,    0.15,  0.0092,   0.040,   0.013
     316N151_3,   A20,    14,  1,     16,     16,2,19970721,1923, 41.8250, -51.7942, 4007,13607.6,   1347.3,   3.8646,  34.9453,2,  34.9457,2,    269.7,2,  3.7596,    267.7,2,    11.82,2,    17.48,2,     0.00,2,     1.16,2,    1.932,2,    0.857,2, -999.000,5,    0.920,2,   1.8382,2,     6.31,2,   -999.0,9,  -999.00,9,   7.937,2,   2159.8,2,    751.0,2,  20,   2299.1,2,   7.7330,2,   25,  -999.0,    0.15,  0.0092,   0.040,   0.013
     316N151_3,   A20,    14,  1,     15,     15,2,19970721,1923, 41.8250, -51.7942, 4007,15141.6,   1500.6,   3.6383,  34.9220,2,  34.9252,2,    274.8,2,  3.5223,    272.9,2,    11.74,2,    17.26,2,     0.00,2,     1.15,2, -999.000,9, -999.000,9, -999.000,5,    0.994,2,   1.8638,2,     5.73,2,   -999.0,9,  -999.00,9,   8.016,2,   2157.2,2,    750.0,2,  20,   2305.0,2,   7.7360,2,   25,  -999.0,    0.15,  0.0093,   0.040,   0.013
     316N151_3,   A20,    14,  1,     14,     14,2,19970721,1923, 41.8250, -51.7942, 4007,16636.6,   1650.0,   3.4724,  34.9078,2,  34.9113,2,    276.4,2,  3.3451,    278.0,2,    11.75,2,    17.10,2,     0.00,2,     1.14,2,    2.379,2,    1.136,2, -999.000,5, -999.000,5,   1.8342,2,     4.72,2,   -999.0,9,  -999.00,9,   7.917,2,   2158.2,2,   -999.0,9,-999,   2296.9,2,   7.7320,2,   25,  -999.0,    0.15,  0.0092,   0.040,-999.000
     316N151_3,   A20,    14,  1,     13,     13,2,19970721,1923, 41.8250, -51.7942, 4007,18616.6,   1847.9,   3.3714,  34.9040,2,  34.9056,2,    276.1,2,  3.2274,    279.5,2,    11.95,2,    17.09,2,     0.00,2,     1.14,2,    2.348,2,    1.127,2, -999.000,5, -999.000,5,-999.0000,5,  -999.00,9,   -999.0,9,  -999.00,9,-999.000,9,   2155.8,2,    746.4,2,  20,   2304.1,2,   7.7380,2,   25,  -999.0, -999.00,-999.0000,-999.000,-999.000
     316N151_3,   A20,    14,  1,     12,     12,2,19970721,1923, 41.8250, -51.7942, 4007,20646.9,   2050.8,   3.3590,  34.9181,2,  34.9196,2,    274.9,2,  3.1963,    276.0,2,    12.81,2,    17.17,2,     0.00,2,     1.15,2,    1.858,2,    0.896,2, -999.000,5,    0.995,2,   1.8735,2,     2.49,2,   -999.0,9,  -999.00,9,   8.067,2,   2156.4,2,    741.4,2,  20,   2294.4,2,   7.7380,2,   25,  -999.0,    0.15,  0.0094,   0.040,   0.013
     316N151_3,   A20,    14,  1,     11,     11,2,19970721,1923, 41.8250, -51.7942, 4007,22680.3,   2254.0,   3.3132,  34.9281,2,  34.9304,2,    273.1,2,  3.1317,    273.4,2,    13.87,2,    17.24,2,     0.00,2,     1.16,2, -999.000,9, -999.000,9, -999.000,5,    0.715,2,   1.8577,2,     3.66,2,   -999.0,9,  -999.00,9,   8.029,2,   2158.1,2,   -999.0,9,-999,   2308.4,2,   7.7430,2,   25,  -999.0,    0.15,  0.0093,   0.040,   0.014
     316N151_3,   A20,    14,  1,     10,     10,2,19970721,1923, 41.8250, -51.7942, 4007,24651.1,   2450.9,   3.2508,  34.9379,2,  34.9396,2,    271.4,2,  3.0512,    270.5,2,    15.21,2,    17.41,2,     0.00,2,     1.16,2,    1.023,2,    0.503,2, -999.000,5,    0.605,2,   1.8752,2,     3.49,2,   -999.0,9,  -999.00,9,   8.105,2,   2159.6,2,    734.5,2,  20,   2305.4,2,   7.7440,2,   25,  -999.0,    0.15,  0.0094,   0.041,   0.012
     316N151_3,   A20,    14,  1,      9,      9,2,19970721,1923, 41.8250, -51.7942, 4007,26651.6,   2650.8,   3.1323,  34.9423,2,  34.9439,2,    270.4,2,  2.9149,    268.0,2,    17.13,2,    17.58,2,     0.00,2,     1.18,2,    0.715,2,    0.359,2, -999.000,5, -999.000,5,-999.0000,5,  -999.00,9,   -999.0,9,  -999.00,9,-999.000,9,   2160.9,2,    734.5,2,  20,   2313.1,2,   7.7480,2,   25,  -999.0, -999.00,-999.0000,-999.000,-999.000
     316N151_3,   A20,    14,  1,      8,      8,2,19970721,1923, 41.8250, -51.7942, 4007,29149.2,   2900.6,   2.9208,  34.9314,2,  34.9328,2,    271.5,2,  2.6821,    269.9,2,    17.90,2,    17.40,2,     0.00,2,     1.17,2,    0.800,2,    0.399,2, -999.000,5,    0.523,2,   1.8729,2,     3.54,2,   -999.0,9,  -999.00,9,   8.096,2,   2160.3,2,   -999.0,9,-999,   2303.1,2,   7.7440,2,   25,  -999.0,    0.15,  0.0094,   0.040,   0.012
     316N151_3,   A20,    14,  1,      7,      7,2,19970721,1923, 41.8250, -51.7942, 4007,31693.4,   3154.8,   2.6962,  34.9203,2,  34.9195,2,    273.7,2,  2.4359,    273.7,2,    17.91,2,    17.06,2,     0.00,2,     1.15,2,    1.092,2,    0.536,2, -999.000,5,    0.634,2,   1.8783,2,     3.87,2,   -999.0,9,  -999.00,9,   8.144,2,   2161.5,2,    738.6,2,  20,   2312.4,2,   7.7440,2,   25,  -999.0,    0.15,  0.0094,   0.041,   0.012
     316N151_3,   A20,    14,  1,      6,      6,2,19970721,1923, 41.8250, -51.7942, 4007,33641.4,   3349.6,   2.5068,  34.9104,2,  34.9118,2,    274.6,2,  2.2304,    275.1,2,    19.06,2,    17.01,2,     0.00,2,     1.14,2,    1.179,2,    0.578,2, -999.000,5, -999.000,5,-999.0000,5,  -999.00,9,   -999.0,9,  -999.00,9,-999.000,9,   2161.1,2,   -999.0,9,-999,   2309.5,2,   7.7400,2,   25,  -999.0, -999.00,-999.0000,-999.000,-999.000
     316N151_3,   A20,    14,  1,      5,      5,2,19970721,1923, 41.8250, -51.7942, 4007,35148.9,   3500.4,   2.3903,  34.9049,2,  34.9063,2,    275.1,2,  2.1006,    275.4,2,    20.31,2,    17.05,2,     0.00,2,     1.15,2,    1.184,2,    0.577,2, -999.000,5,    0.639,2,   1.8784,2,     5.65,2,   -999.0,9,  -999.00,9,   8.177,2,   2161.7,2,   -999.0,9,-999,   2313.6,2,   7.7420,2,   25,  -999.0,    0.15,  0.0094,   0.041,   0.012
     316N151_3,   A20,    14,  1,      4,      4,2,19970721,1923, 41.8250, -51.7942, 4007,36618.3,   3647.3,   2.3031,  34.8997,2,  34.9012,2,    275.7,2,  1.9997,    275.7,2,    21.08,2,    17.04,2,     0.00,2,     1.15,2,    1.316,2,    0.629,2, -999.000,5, -999.000,5,-999.0000,5,  -999.00,9,   -999.0,9,  -999.00,9,-999.000,9,   2164.5,2,    744.0,2,  20,   2305.7,2,   7.7420,2,   25,  -999.0, -999.00,-999.0000,-999.000,-999.000
     316N151_3,   A20,    14,  1,      3,      3,2,19970721,1923, 41.8250, -51.7942, 4007,38120.0,   3797.4,   2.2738,  34.8968,2,  34.8981,2,    274.9,2,  1.9546,    275.7,2,    21.66,2,    17.13,2,     0.00,2,     1.16,2,    1.355,2,    0.661,2, -999.000,5,    0.663,2,   1.9452,2,     3.41,2,   -999.0,9,  -999.00,9,   8.370,2,   2165.2,2,    742.9,2,  20,   2313.4,2,   7.7400,2,   25,  -999.0,    0.15,  0.0097,   0.042,   0.012
     316N151_3,   A20,    14,  1,      2,      2,2,19970721,1923, 41.8250, -51.7942, 4007,39660.0,   3951.4,   2.2608,  34.8953,2,  34.8960,2,    274.0,2,  1.9246,    276.7,2,    21.47,2,    16.95,2,     0.00,2,     1.15,2,    1.474,2,    0.709,2, -999.000,5, -999.000,5,-999.0000,5,  -999.00,9,   -999.0,9,  -999.00,9,-999.000,9,   2166.2,2,   -999.0,9,-999,   2311.6,6,   7.7430,6,   25,  -999.0, -999.00,-999.0000,-999.000,-999.000
     316N151_3,   A20,    14,  1,      1,      1,2,19970721,1923, 41.8250, -51.7942, 4007,40791.4,   4064.5,   2.2385,  34.8937,2,  34.8940,2,    273.3,2,  1.8901,    275.2,2,    22.92,6,    17.19,6,     0.00,6,     1.17,6,    1.428,2,    0.695,2, -999.000,5,    0.711,2,   1.9948,2,     3.79,2,   -999.0,9,  -999.00,9,   8.564,2,   2168.2,2,    746.6,2,  20,   2318.5,2,   7.7450,2,   25,  -999.0,    0.15,  0.0100,   0.043,   0.013