BOTTLE,20220812CCHSIOAMB
EXPOCODE,SECT_ID,STNNBR,CASTNO,SAMPNO,BTLNBR,BTLNBR_FLAG_W,DATE,TIME,LATITUDE,LONGITUDE,DEPTH,CTDRAW,CTDPRS,CTDTMP,CTDSAL,CTDSAL_FLAG_W,SALNTY,SALNTY_FLAG_W,CTDOXY,CTDOXY_FLAG_W,THETA,OXYGEN,OXYGEN_FLAG_W,SILCAT,SILCAT_FLAG_W,NITRAT,NITRAT_FLAG_W,NITRIT,NITRIT_FLAG_W,PHSPHT,PHSPHT_FLAG_W,CFC-11,CFC-11_FLAG_W,CFC-12,CFC-12_FLAG_W,CFC113,CFC113_FLAG_W,TRITUM,TRITUM_FLAG_W,HELIUM,HELIUM_FLAG_W,DELHE3,DELHE3_FLAG_W,DELC14,DELC14_FLAG_W,DELC13,DELC13_FLAG_W,NEON,NEON_FLAG_W,TCARBN,TCARBN_FLAG_W,PCO2,PCO2_FLAG_W,PCO2_TMP,ALKALI,ALKALI_FLAG_W,PH,PH_FLAG_W,PH_TMP,C14ERR,DELHER,HELIER,NEONER,TRITER
,,,,,,,,,,,,,DBAR,ITS-90,PSS-78,,PSS-78,,UMOL/KG,,ITS-90,UMOL/KG,,UMOL/KG,,UMOL/KG,,UMOL/KG,,UMOL/KG,,PMOL/KG,,PMOL/KG,,PMOL/KG,,TU,,NMOL/KG,,PERCNT,,/MILLE,,/MILLE,,NMOL/KG,,UMOL/KG,,UATM,,DEG C,UMOL/KG,,,,DEG C,/MILLE,PERCNT,NMOL/KG,NMOL/KG,TU
     316N151_3,   A20,    18,  1,     30,     30,2,19970722,1545, 41.1330, -52.3088, 5145,  254.7,     11.3,  23.3799,  36.2689,2,  36.2706,2,    204.7,2, 23.3776,    217.1,2,     0.63,2,     0.08,2,     0.00,2,     0.02,2,    2.035,2,    1.193,2, -999.000,5, -999.000,5,-999.0000,5,  -999.00,9,   -999.0,9,  -999.00,9,-999.000,9,   -999.0,9,    295.7,2,  20,   2372.8,2,   8.0780,2,   25,  -999.0, -999.00,-999.0000,-999.000,-999.000
     316N151_3,   A20,    18,  1,     29,     29,2,19970722,1545, 41.1330, -52.3088, 5145, 1168.8,    102.7,  21.0124,  36.6411,2,  36.6455,2,    185.0,2, 20.9926,    193.9,2,     0.65,2,     1.91,2,  -999.00,9,     0.09,2, -999.000,9, -999.000,9, -999.000,5, -999.000,5,-999.0000,5,  -999.00,9,   -999.0,9,  -999.00,9,-999.000,9,   -999.0,9,   -999.0,9,-999,   -999.0,9,-999.0000,9, -999,  -999.0, -999.00,-999.0000,-999.000,-999.000
     316N151_3,   A20,    18,  1,     28,     28,2,19970722,1545, 41.1330, -52.3088, 5145, 2189.8,    204.6,  18.3264,  36.5211,2,  36.5228,2,    197.1,2, 18.2904,    188.6,2,     1.35,2,     4.90,2,  -999.00,9,     0.24,2,    2.281,2,    1.252,2, -999.000,5, -999.000,5,-999.0000,5,  -999.00,9,   -999.0,9,  -999.00,9,-999.000,9,   -999.0,9,   -999.0,9,-999,   -999.0,9,-999.0000,9, -999,  -999.0, -999.00,-999.0000,-999.000,-999.000
     316N151_3,   A20,    18,  1,     27,     27,2,19970722,1545, 41.1330, -52.3088, 5145, 3169.2,    302.6,  17.0098,  36.3334,2,  36.3297,2,    185.3,2, 16.9592,    182.6,2,     2.23,2,     7.68,2,     0.00,2,     0.42,2,    2.077,6,    1.144,6, -999.000,5, -999.000,5,-999.0000,5,  -999.00,9,   -999.0,9,  -999.00,9,-999.000,9,   -999.0,9,   -999.0,9,-999,   -999.0,9,-999.0000,9, -999,  -999.0, -999.00,-999.0000,-999.000,-999.000
     316N151_3,   A20,    18,  1,     26,     26,2,19970722,1545, 41.1330, -52.3088, 5145, 4156.3,    401.6,  15.6418,  36.0917,2,  36.1335,2,    193.2,2, 15.5784,    203.3,2,     2.83,2,     8.19,2,     0.00,2,     0.48,2,    2.255,2,    1.244,2, -999.000,5, -999.000,5,-999.0000,5,  -999.00,9,   -999.0,9,  -999.00,9,-999.000,9,   -999.0,9,   -999.0,9,-999,   -999.0,9,-999.0000,9, -999,  -999.0, -999.00,-999.0000,-999.000,-999.000
     316N151_3,   A20,    18,  1,     25,     25,2,19970722,1545, 41.1330, -52.3088, 5145, 5670.0,    553.3,  11.8709,  35.4931,2,  35.4946,2,    161.2,2, 11.7978,    152.7,2,     8.99,2,    18.95,2,     0.00,2,     1.18,2, -999.000,9, -999.000,9, -999.000,5, -999.000,5,-999.0000,5,  -999.00,9,   -999.0,9,  -999.00,9,-999.000,9,   -999.0,9,   -999.0,9,-999,   -999.0,9,-999.0000,9, -999,  -999.0, -999.00,-999.0000,-999.000,-999.000
     316N151_3,   A20,    18,  1,     24,     24,2,19970722,1545, 41.1330, -52.3088, 5145, 7165.9,    703.2,   8.4058,  35.0988,2,  35.0999,2,    151.9,2,  8.3301,    157.2,2,    14.11,2,    23.49,2,     0.00,2,     1.51,2,    1.030,2,    0.537,2, -999.000,5, -999.000,5,-999.0000,5,  -999.00,9,   -999.0,9,  -999.00,9,-999.000,9,   -999.0,9,   -999.0,9,-999,   -999.0,9,-999.0000,9, -999,  -999.0, -999.00,-999.0000,-999.000,-999.000
     316N151_3,   A20,    18,  1,     23,     23,2,19970722,1545, 41.1330, -52.3088, 5145, 8173.4,    804.1,   7.0564,  35.0511,2,  35.0473,2,    180.0,2,  6.9773,    181.9,2,    13.75,2,    22.09,2,     0.00,2,     1.44,2,    1.226,2,    0.618,2, -999.000,5, -999.000,5,-999.0000,5,  -999.00,9,   -999.0,9,  -999.00,9,-999.000,9,   -999.0,9,   -999.0,9,-999,   -999.0,9,-999.0000,9, -999,  -999.0, -999.00,-999.0000,-999.000,-999.000
     316N151_3,   A20,    18,  1,     22,     22,2,19970722,1545, 41.1330, -52.3088, 5145, 9154.4,    902.2,   5.9378,  35.0471,2,  35.0465,2,    210.6,2,  5.8561,    208.1,2,    13.19,2,    20.65,2,     0.00,2,     1.35,2, -999.000,9, -999.000,9, -999.000,5, -999.000,5,-999.0000,5,  -999.00,9,   -999.0,9,  -999.00,9,-999.000,9,   -999.0,9,   -999.0,9,-999,   -999.0,9,-999.0000,9, -999,  -999.0, -999.00,-999.0000,-999.000,-999.000
     316N151_3,   A20,    18,  1,     21,     21,2,19970722,1545, 41.1330, -52.3088, 5145,10653.8,   1052.1,   4.9287,  35.0074,2,  35.0081,2,    230.1,2,  4.8404,    239.4,2,    11.96,2,    18.78,2,     0.00,2,     1.23,2,    1.838,2,    0.916,2, -999.000,5, -999.000,5,-999.0000,5,  -999.00,9,   -999.0,9,  -999.00,9,-999.000,9,   -999.0,9,   -999.0,9,-999,   -999.0,9,-999.0000,9, -999,  -999.0, -999.00,-999.0000,-999.000,-999.000
     316N151_3,   A20,    18,  1,     20,     20,2,19970722,1545, 41.1330, -52.3088, 5145,12662.9,   1252.8,   4.4307,  34.9924,2,  34.9938,2,    249.7,2,  4.3285,    253.9,2,    11.79,2,    18.25,2,     0.00,2,     1.20,2,    1.645,2,    0.810,2, -999.000,5, -999.000,5,-999.0000,5,  -999.00,9,   -999.0,9,  -999.00,9,-999.000,9,   -999.0,9,   -999.0,9,-999,   -999.0,9,-999.0000,9, -999,  -999.0, -999.00,-999.0000,-999.000,-999.000
     316N151_3,   A20,    18,  1,     19,     19,2,19970722,1545, 41.1330, -52.3088, 5145,13619.4,   1348.4,   4.2705,  34.9817,2,  34.9710,2,    254.9,2,  4.1611,    260.9,2,    12.01,2,    17.93,2,     0.00,2,     1.18,2,    1.540,2,    0.769,2, -999.000,5, -999.000,5,-999.0000,5,  -999.00,9,   -999.0,9,  -999.00,9,-999.000,9,   -999.0,9,   -999.0,9,-999,   -999.0,9,-999.0000,9, -999,  -999.0, -999.00,-999.0000,-999.000,-999.000
     316N151_3,   A20,    18,  1,     18,     18,2,19970722,1545, 41.1330, -52.3088, 5145,15157.0,   1502.2,   4.0387,  34.9655,2,  34.9666,2,    261.9,2,  3.9179,    262.5,2,    11.83,2,    17.84,2,     0.00,2,     1.18,2,    1.544,2,    0.773,2, -999.000,5, -999.000,5,-999.0000,5,  -999.00,9,   -999.0,9,  -999.00,9,-999.000,9,   -999.0,9,   -999.0,9,-999,   -999.0,9,-999.0000,9, -999,  -999.0, -999.00,-999.0000,-999.000,-999.000
     316N151_3,   A20,    18,  1,     17,     17,2,19970722,1545, 41.1330, -52.3088, 5145,16642.3,   1650.6,   3.8676,  34.9525,2,  34.9537,2,    265.6,2,  3.7352,    266.2,2,    11.95,2,    17.71,2,     0.00,2,     1.17,2,    1.541,2,    0.770,2, -999.000,5, -999.000,5,-999.0000,5,  -999.00,9,   -999.0,9,  -999.00,9,-999.000,9,   -999.0,9,   -999.0,9,-999,   -999.0,9,-999.0000,9, -999,  -999.0, -999.00,-999.0000,-999.000,-999.000
     316N151_3,   A20,    18,  1,     16,     16,2,19970722,1545, 41.1330, -52.3088, 5145,18183.0,   1804.5,   3.7245,  34.9447,2,  34.9461,2,    267.8,2,  3.5796,    269.1,2,    12.26,2,    17.63,2,     0.00,2,     1.16,2,    1.506,2,    0.747,2, -999.000,5, -999.000,5,-999.0000,5,  -999.00,9,   -999.0,9,  -999.00,9,-999.000,9,   -999.0,9,   -999.0,9,-999,   -999.0,9,-999.0000,9, -999,  -999.0, -999.00,-999.0000,-999.000,-999.000
     316N151_3,   A20,    18,  1,     15,     15,2,19970722,1545, 41.1330, -52.3088, 5145,19663.5,   1952.4,   3.6454,  34.9423,2,  34.9428,2,    268.6,2,  3.4878,    272.9,2,    12.58,2,    17.55,2,     0.00,2,     1.16,2,    1.436,2,    0.705,2, -999.000,5, -999.000,5,-999.0000,5,  -999.00,9,   -999.0,9,  -999.00,9,-999.000,9,   -999.0,9,   -999.0,9,-999,   -999.0,9,-999.0000,9, -999,  -999.0, -999.00,-999.0000,-999.000,-999.000
     316N151_3,   A20,    18,  1,     14,     14,2,19970722,1545, 41.1330, -52.3088, 5145,21696.7,   2155.6,   3.5480,  34.9405,2,  34.9427,2,    269.0,2,  3.3723,    271.0,2,    13.17,2,    17.50,2,     0.00,2,     1.16,2,    1.327,2,    0.643,2, -999.000,5, -999.000,5,-999.0000,5,  -999.00,9,   -999.0,9,  -999.00,9,-999.000,9,   -999.0,9,   -999.0,9,-999,   -999.0,9,-999.0000,9, -999,  -999.0, -999.00,-999.0000,-999.000,-999.000
     316N151_3,   A20,    18,  1,     13,     13,2,19970722,1545, 41.1330, -52.3088, 5145,24179.1,   2403.7,   3.4669,  34.9525,2,  34.9520,2,    268.5,2,  3.2680,    269.0,2,    14.82,2,    17.69,2,     0.00,2,     1.17,2,    0.902,2,    0.452,2, -999.000,5, -999.000,5,-999.0000,5,  -999.00,9,   -999.0,9,  -999.00,9,-999.000,9,   -999.0,9,   -999.0,9,-999,   -999.0,9,-999.0000,9, -999,  -999.0, -999.00,-999.0000,-999.000,-999.000
     316N151_3,   A20,    18,  1,     12,     12,2,19970722,1545, 41.1330, -52.3088, 5145,26704.3,   2656.1,   3.3127,  34.9542,2,  34.9555,2,    267.4,2,  3.0912,    266.1,2,    16.76,2,    17.85,2,     0.00,2,     1.19,2,    0.576,2,    0.287,2, -999.000,5, -999.000,5,-999.0000,5,  -999.00,9,   -999.0,9,  -999.00,9,-999.000,9,   -999.0,9,   -999.0,9,-999,   -999.0,9,-999.0000,9, -999,  -999.0, -999.00,-999.0000,-999.000,-999.000
     316N151_3,   A20,    18,  1,     11,     11,2,19970722,1545, 41.1330, -52.3088, 5145,29217.0,   2907.2,   3.1037,  34.9452,2,  34.9479,2,    267.7,2,  2.8603,    266.6,2,    18.33,2,    17.88,2,     0.00,2,     1.19,2,    0.512,2,    0.256,2, -999.000,5, -999.000,5,-999.0000,5,  -999.00,9,   -999.0,9,  -999.00,9,-999.000,9,   -999.0,9,   -999.0,9,-999,   -999.0,9,-999.0000,9, -999,  -999.0, -999.00,-999.0000,-999.000,-999.000
     316N151_3,   A20,    18,  1,     10,     10,3,19970722,1545, 41.1330, -52.3088, 5145,31739.5,   3159.3,   2.8673,  34.9315,2,  34.9329,2,    269.3,2,  2.6027,    269.6,2,    19.12,2,    17.67,2,     0.00,2,     1.18,2, -999.000,9, -999.000,9, -999.000,5, -999.000,5,-999.0000,5,  -999.00,9,   -999.0,9,  -999.00,9,-999.000,9,   -999.0,9,   -999.0,9,-999,   -999.0,9,-999.0000,9, -999,  -999.0, -999.00,-999.0000,-999.000,-999.000
     316N151_3,   A20,    18,  1,      9,      9,2,19970722,1545, 41.1330, -52.3088, 5145,34187.8,   3404.1,   2.6593,  34.9211,2,  34.9219,2,    270.9,2,  2.3733,    271.0,2,    20.67,2,    17.62,2,     0.00,2,     1.19,2,    0.664,2,    0.325,2, -999.000,5, -999.000,5,-999.0000,5,  -999.00,9,   -999.0,9,  -999.00,9,-999.000,9,   -999.0,9,   -999.0,9,-999,   -999.0,9,-999.0000,9, -999,  -999.0, -999.00,-999.0000,-999.000,-999.000
     316N151_3,   A20,    18,  1,      8,      8,2,19970722,1545, 41.1330, -52.3088, 5145,36072.8,   3592.4,   2.5484,  34.9153,2,  34.9149,2,    271.0,2,  2.2447,    270.4,2,    22.33,2,    17.78,2,     0.00,2,     1.20,2,    0.608,6,    0.302,6, -999.000,5, -999.000,5,-999.0000,5,  -999.00,9,   -999.0,9,  -999.00,9,-999.000,9,   -999.0,9,   -999.0,9,-999,   -999.0,9,-999.0000,9, -999,  -999.0, -999.00,-999.0000,-999.000,-999.000
     316N151_3,   A20,    18,  1,      7,      7,2,19970722,1545, 41.1330, -52.3088, 5145,38106.7,   3795.8,   2.4119,  34.9069,2,  34.9052,2,    271.3,2,  2.0892,    271.5,2,    23.40,2,    17.69,2,     0.00,2,     1.20,2,    0.775,2,    0.384,2, -999.000,5, -999.000,5,-999.0000,5,  -999.00,9,   -999.0,9,  -999.00,9,-999.000,9,   -999.0,9,   -999.0,9,-999,   -999.0,9,-999.0000,9, -999,  -999.0, -999.00,-999.0000,-999.000,-999.000
     316N151_3,   A20,    18,  1,      6,      6,2,19970722,1545, 41.1330, -52.3088, 5145,40576.3,   4042.6,   2.3416,  34.9005,2,  34.9005,2,    270.8,2,  1.9929,    271.4,2,    25.54,2,    17.93,2,     0.00,2,     1.22,2,    0.773,2,    0.384,2, -999.000,5, -999.000,5,-999.0000,5,  -999.00,9,   -999.0,9,  -999.00,9,-999.000,9,   -999.0,9,   -999.0,9,-999,   -999.0,9,-999.0000,9, -999,  -999.0, -999.00,-999.0000,-999.000,-999.000
     316N151_3,   A20,    18,  1,      5,      5,2,19970722,1545, 41.1330, -52.3088, 5145,43138.7,   4298.7,   2.3082,  34.8954,2,  34.8959,2,    269.2,2,  1.9307,    270.5,2,    27.29,2,    18.15,2,     0.00,2,     1.23,2,    0.748,2,    0.371,2, -999.000,5, -999.000,5,-999.0000,5,  -999.00,9,   -999.0,9,  -999.00,9,-999.000,9,   -999.0,9,   -999.0,9,-999,   -999.0,9,-999.0000,9, -999,  -999.0, -999.00,-999.0000,-999.000,-999.000
     316N151_3,   A20,    18,  1,      4,      4,2,19970722,1545, 41.1330, -52.3088, 5145,45651.8,   4549.9,   2.2956,  34.8925,2,  34.8930,2,    267.2,2,  1.8886,    268.3,2,    29.33,2,    18.50,2,     0.00,2,     1.25,2,    0.701,2,    0.349,2, -999.000,5, -999.000,5,-999.0000,5,  -999.00,9,   -999.0,9,  -999.00,9,-999.000,9,   -999.0,9,   -999.0,9,-999,   -999.0,9,-999.0000,9, -999,  -999.0, -999.00,-999.0000,-999.000,-999.000
     316N151_3,   A20,    18,  1,      3,      3,2,19970722,1545, 41.1330, -52.3088, 5145,48180.7,   4802.7,   2.2982,  34.8899,2,  34.8897,2,    264.7,2,  1.8603,    267.3,2,    30.60,2,    18.66,2,     0.00,2,     1.27,2,    0.704,2,    0.359,2, -999.000,5, -999.000,5,-999.0000,5,  -999.00,9,   -999.0,9,  -999.00,9,-999.000,9,   -999.0,9,   -999.0,9,-999,   -999.0,9,-999.0000,9, -999,  -999.0, -999.00,-999.0000,-999.000,-999.000
     316N151_3,   A20,    18,  1,      2,      2,2,19970722,1545, 41.1330, -52.3088, 5145,50602.5,   5044.8,   2.3047,  34.8867,2,  34.8860,2,    262.6,2,  1.8363,    266.5,2,    31.77,2,    18.81,2,     0.00,2,     1.28,2,    0.710,2,    0.362,2, -999.000,5, -999.000,5,-999.0000,5,  -999.00,9,   -999.0,9,  -999.00,9,-999.000,9,   -999.0,9,   -999.0,9,-999,   -999.0,9,-999.0000,9, -999,  -999.0, -999.00,-999.0000,-999.000,-999.000
     316N151_3,   A20,    18,  1,      1,      1,2,19970722,1545, 41.1330, -52.3088, 5145,52544.7,   5238.8,   2.2924,  34.8826,2,  34.8810,2,    260.6,2,  1.7996,    266.8,2,    36.47,6,    19.57,6,     0.00,6,     1.34,6,    0.489,2,    0.256,2, -999.000,5, -999.000,5,-999.0000,5,  -999.00,9,   -999.0,9,  -999.00,9,-999.000,9,   -999.0,9,   -999.0,9,-999,   -999.0,9,-999.0000,9, -999,  -999.0, -999.00,-999.0000,-999.000,-999.000