BOTTLE,20220812CCHSIOAMB
EXPOCODE,SECT_ID,STNNBR,CASTNO,SAMPNO,BTLNBR,BTLNBR_FLAG_W,DATE,TIME,LATITUDE,LONGITUDE,DEPTH,CTDRAW,CTDPRS,CTDTMP,CTDSAL,CTDSAL_FLAG_W,SALNTY,SALNTY_FLAG_W,CTDOXY,CTDOXY_FLAG_W,THETA,OXYGEN,OXYGEN_FLAG_W,SILCAT,SILCAT_FLAG_W,NITRAT,NITRAT_FLAG_W,NITRIT,NITRIT_FLAG_W,PHSPHT,PHSPHT_FLAG_W,CFC-11,CFC-11_FLAG_W,CFC-12,CFC-12_FLAG_W,CFC113,CFC113_FLAG_W,TRITUM,TRITUM_FLAG_W,HELIUM,HELIUM_FLAG_W,DELHE3,DELHE3_FLAG_W,DELC14,DELC14_FLAG_W,DELC13,DELC13_FLAG_W,NEON,NEON_FLAG_W,TCARBN,TCARBN_FLAG_W,PCO2,PCO2_FLAG_W,PCO2_TMP,ALKALI,ALKALI_FLAG_W,PH,PH_FLAG_W,PH_TMP,C14ERR,DELHER,HELIER,NEONER,TRITER
,,,,,,,,,,,,,DBAR,ITS-90,PSS-78,,PSS-78,,UMOL/KG,,ITS-90,UMOL/KG,,UMOL/KG,,UMOL/KG,,UMOL/KG,,UMOL/KG,,PMOL/KG,,PMOL/KG,,PMOL/KG,,TU,,NMOL/KG,,PERCNT,,/MILLE,,/MILLE,,NMOL/KG,,UMOL/KG,,UATM,,DEG C,UMOL/KG,,,,DEG C,/MILLE,PERCNT,NMOL/KG,NMOL/KG,TU
     316N151_3,   A20,    58,  1,     33,     33,2,19970803,0314, 16.8830, -52.3348, 4825,  286.3,     12.3,  27.7400,  36.1548,2,  36.1555,2,    212.2,2, 27.7371,    211.4,2,     1.15,2,     0.08,2,     0.00,2,     0.01,2,    1.703,2,    1.018,2, -999.000,5,    0.637,2,   1.7127,2,    -1.08,2,   -999.0,9,  -999.00,9,   6.675,2,   2000.1,2,   -999.0,9,-999,   2365.1,2,   8.1200,2,   25,  -999.0,    0.15,  0.0086,   0.033,   0.012
     316N151_3,   A20,    58,  1,     32,     32,2,19970803,0314, 16.8830, -52.3348, 4825,  710.9,     55.0,  25.8247,  37.1465,2,  37.1574,2,    232.3,2, 25.8124,    223.1,2,     0.49,2,     0.08,2,     0.00,2,     0.01,2,    2.347,2,    1.302,2, -999.000,5, -999.000,5,-999.0000,5,  -999.00,9,   -999.0,9,  -999.00,9,-999.000,9,   -999.0,9,   -999.0,9,-999,   -999.0,9,-999.0000,9, -999,  -999.0, -999.00,-999.0000,-999.000,-999.000
     316N151_3,   A20,    58,  1,     31,     31,2,19970803,0314, 16.8830, -52.3348, 4825, 1177.1,    101.8,  23.9304,  37.3362,2,  37.3361,2,    223.8,2, 23.9088,    210.7,2,     0.42,2,     0.13,2,     0.00,2,     0.01,2,    1.980,2,    1.152,2, -999.000,5,    0.980,2,   1.7444,2,    -1.49,2,   -999.0,9,  -999.00,9,   6.908,2,   -999.0,9,   -999.0,9,-999,   -999.0,9,-999.0000,9, -999,  -999.0,    0.15,  0.0087,   0.035,   0.013
     316N151_3,   A20,    58,  1,     30,     30,2,19970803,0314, 16.8830, -52.3348, 4825, 1669.8,    151.2,  21.7298,  37.1530,2,  37.1502,2,    196.9,2, 21.6998,    192.5,2,     0.54,2,     1.00,2,     0.03,2,     0.05,2,    2.137,2,    1.226,2, -999.000,5,    1.120,2,   1.7397,2,    -1.36,2,   -999.0,9,  -999.00,9,   6.951,2,   -999.0,9,   -999.0,9,-999,   -999.0,9,-999.0000,9, -999,  -999.0,    0.15,  0.0087,   0.035,   0.014
     316N151_3,   A20,    58,  1,     29,     29,2,19970803,0314, 16.8830, -52.3348, 4825, 2174.5,    201.7,  19.1609,  36.7246,2,  36.7240,2,    193.3,2, 19.1243,    192.6,2,     0.86,2,     2.66,2,     0.01,2,     0.11,2,    2.322,2,    1.295,2, -999.000,5, -999.000,5,   1.7476,2,    -1.01,2,   -999.0,9,  -999.00,9,   7.034,2,   -999.0,9,   -999.0,9,-999,   -999.0,9,-999.0000,9, -999,  -999.0,    0.15,  0.0087,   0.035,-999.000
     316N151_3,   A20,    58,  1,     28,     28,2,19970803,0314, 16.8830, -52.3348, 4825, 2661.1,    250.4,  18.0000,  36.5215,2,  36.5191,2,    200.7,2, 17.9565,    199.1,2,     1.27,2,     4.39,2,     0.01,2,     0.22,2, -999.000,9, -999.000,9, -999.000,5, -999.000,5,   1.7632,2,     0.22,2,   -999.0,9,  -999.00,9,   7.140,2,   -999.0,9,   -999.0,9,-999,   -999.0,9,-999.0000,9, -999,  -999.0,    0.15,  0.0088,   0.036,-999.000
     316N151_3,   A20,    58,  1,     27,     27,2,19970803,0314, 16.8830, -52.3348, 4825, 3170.1,    301.5,  17.0769,  36.4027,2,  36.4063,2,    181.6,2, 17.0264,    174.3,2,     2.26,2,     8.25,2,     0.00,2,     0.46,2,    2.196,2,    1.161,2, -999.000,5, -999.000,5,   1.7548,2,     1.86,2,   -999.0,9,  -999.00,9,   7.115,2,   -999.0,9,   -999.0,9,-999,   -999.0,9,-999.0000,9, -999,  -999.0,    0.15,  0.0088,   0.036,-999.000
     316N151_3,   A20,    58,  1,     26,     26,2,19970803,0314, 16.8830, -52.3348, 4825, 3661.5,    350.9,  15.3735,  36.1066,2,  36.1057,2,    138.2,2, 15.3188,    141.0,2,     4.33,2,    14.39,2,     0.00,2,     0.84,2,    1.860,6,    0.998,2, -999.000,5,    1.222,2,   1.7629,2,     4.16,2,   -999.0,9,  -999.00,9,   7.223,2,   -999.0,9,   -999.0,9,-999,   -999.0,9,-999.0000,9, -999,  -999.0,    0.15,  0.0088,   0.036,   0.014
     316N151_3,   A20,    58,  1,     25,     25,2,19970803,0314, 16.8830, -52.3348, 4825, 4180.6,    403.1,  14.2815,  35.9163,2,  35.9135,2,    131.2,2, 14.2215,    128.5,2,     5.72,2,    17.44,2,     0.00,2,     1.02,2,    1.564,2,    0.841,2, -999.000,5,    1.146,2,   1.7633,2,     5.26,2,   -999.0,9,  -999.00,9,   7.263,2,   -999.0,9,   -999.0,9,-999,   -999.0,9,-999.0000,9, -999,  -999.0,    0.15,  0.0088,   0.036,   0.014
     316N151_3,   A20,    58,  1,     24,     24,2,19970803,0314, 16.8830, -52.3348, 4825, 4913.1,    476.6,  12.4539,  35.6205,2,  35.6256,2,    119.0,2, 12.3891,    116.2,2,     8.36,2,    21.89,2,     0.00,2,     1.30,2,    1.048,2,    0.560,2, -999.000,5,    0.997,2,   1.7773,2,     7.49,2,   -999.0,9,  -999.00,9,   7.376,2,   -999.0,9,   -999.0,9,-999,   -999.0,9,-999.0000,9, -999,  -999.0,    0.15,  0.0089,   0.037,   0.013
     316N151_3,   A20,    58,  1,     23,     23,2,19970803,0314, 16.8830, -52.3348, 4825, 5645.9,    550.4,  10.8631,  35.3733,2,  35.3720,2,    112.9,2, 10.7944,    109.1,2,    11.89,2,    25.80,2,     0.00,2,     1.58,2,    0.580,6,    0.312,6, -999.000,5,    0.725,2,   1.7953,2,     6.73,2,   -999.0,9,  -999.00,9,   7.467,2,   -999.0,9,   -999.0,9,-999,   -999.0,9,-999.0000,9, -999,  -999.0,    0.15,  0.0090,   0.037,   0.012
     316N151_3,   A20,    58,  1,     22,     22,2,19970803,0314, 16.8830, -52.3348, 4825, 6628.7,    648.9,   8.5619,  35.0501,2,  35.0513,2,    114.8,2,  8.4917,    113.5,2,    17.26,2,    29.71,2,     0.00,2,     1.89,2,    0.225,2,    0.136,2, -999.000,5,    0.331,2,   1.8024,2,     4.56,2,   -999.0,9,  -999.00,9,   7.610,2,   -999.0,9,   -999.0,9,-999,   -999.0,9,-999.0000,9, -999,  -999.0,    0.15,  0.0090,   0.038,   0.011
     316N151_3,   A20,    58,  1,     21,     21,2,19970803,0314, 16.8830, -52.3348, 4825, 7618.1,    748.0,   7.3125,  34.9143,2,  34.9136,2,    118.8,2,  7.2381,    118.0,2,    20.89,2,    31.63,2,     0.00,2,     2.04,2,    0.080,2,    0.053,2, -999.000,5,    0.145,2,   1.8197,2,     2.00,2,   -999.0,9,  -999.00,9,   7.699,2,   -999.0,9,   -999.0,9,-999,   -999.0,9,-999.0000,9, -999,  -999.0,    0.15,  0.0091,   0.038,   0.011
     316N151_3,   A20,    58,  1,     20,     20,2,19970803,0314, 16.8830, -52.3348, 4825, 8611.2,    847.2,   6.2915,  34.8151,2,  34.8155,2,    127.0,2,  6.2131,    127.1,2,    23.92,2,    32.44,2,     0.00,2,     2.13,2,    0.030,2,    0.022,2, -999.000,5,    0.037,2,   1.8250,2,     0.91,2,   -999.0,9,  -999.00,9,   7.779,2,   -999.0,9,   -999.0,9,-999,   -999.0,9,-999.0000,9, -999,  -999.0,    0.15,  0.0091,   0.039,   0.010
     316N151_3,   A20,    58,  1,     19,     19,2,19970803,0314, 16.8830, -52.3348, 4825, 9637.6,    949.7,   5.9052,  34.8225,2,  34.8237,2,    135.3,2,  5.8194,    135.3,2,    24.43,2,    31.76,2,     0.00,2,     2.10,2, -999.000,9, -999.000,9, -999.000,5, -999.000,5,-999.0000,5,  -999.00,9,   -999.0,9,  -999.00,9,-999.000,9,   -999.0,9,   -999.0,9,-999,   -999.0,9,-999.0000,9, -999,  -999.0, -999.00,-999.0000,-999.000,-999.000
     316N151_3,   A20,    58,  1,     18,     18,2,19970803,0314, 16.8830, -52.3348, 4825,10389.8,   1025.0,   5.5946,  34.8425,2,  34.8448,2,    144.9,2,  5.5039,    146.8,2,    24.36,2,    30.62,2,     0.00,2,     2.04,2,    0.026,2,    0.021,2, -999.000,5,    0.018,2,   1.8322,2,     0.24,2,   -999.0,9,  -999.00,9,   7.837,2,   -999.0,9,   -999.0,9,-999,   -999.0,9,-999.0000,9, -999,  -999.0,    0.15,  0.0092,   0.039,   0.010
     316N151_3,   A20,    58,  1,     17,     17,2,19970803,0314, 16.8830, -52.3348, 4825,11894.5,   1175.2,   5.3078,  34.9136,2,  34.9153,2,    168.0,2,  5.2050,    168.3,2,    22.44,2,    27.81,2,     0.00,2,     1.85,2,    0.023,2,    0.017,2, -999.000,5, -999.000,5,   1.8282,2,    -0.56,2,   -999.0,9,  -999.00,9,   7.823,2,   -999.0,9,   -999.0,9,-999,   -999.0,9,-999.0000,9, -999,  -999.0,    0.15,  0.0091,   0.039,-999.000
     316N151_3,   A20,    58,  1,     16,     16,2,19970803,0314, 16.8830, -52.3348, 4825,13306.5,   1316.3,   5.0511,  34.9656,2,  34.9667,2,    193.9,2,  4.9370,    192.7,2,    20.22,2,    24.86,2,     0.00,2,     1.66,2,    0.058,2,    0.036,2, -999.000,5, -999.000,5,   1.8166,2,     2.08,2,   -999.0,9,  -999.00,9,   4.138,2,   -999.0,9,   -999.0,9,-999,   -999.0,9,-999.0000,9, -999,  -999.0,    0.15,  0.0091,   0.021,-999.000
     316N151_3,   A20,    58,  1,     15,     15,2,19970803,0314, 16.8830, -52.3348, 4825,14907.8,   1476.5,   4.7027,  34.9901,2,  34.9909,2,    215.2,2,  4.5768,    213.7,2,    18.49,2,    22.59,2,     0.00,2,     1.51,2,    0.076,2,    0.047,2, -999.000,5, -999.000,5,   1.8159,2,     2.61,2,   -999.0,9,  -999.00,9,   7.986,2,   -999.0,9,   -999.0,9,-999,   -999.0,9,-999.0000,9, -999,  -999.0,    0.15,  0.0091,   0.040,-999.000
     316N151_3,   A20,    58,  1,     14,     14,2,19970803,0314, 16.8830, -52.3348, 4825,16390.9,   1624.7,   4.3683,  34.9987,2,  34.9988,2,    235.0,2,  4.2321,    232.3,2,    17.15,2,    20.86,2,     0.00,2,     1.39,2,    0.115,2,    0.063,2, -999.000,5, -999.000,5,-999.0000,5,  -999.00,9,   -999.0,9,  -999.00,9,-999.000,9,   -999.0,9,   -999.0,9,-999,   -999.0,9,-999.0000,9, -999,  -999.0, -999.00,-999.0000,-999.000,-999.000
     316N151_3,   A20,    58,  1,     13,     13,2,19970803,0314, 16.8830, -52.3348, 4825,18141.3,   1799.7,   4.0127,  34.9926,2,  34.9940,2,    244.1,2,  3.8644,    242.9,2,    18.05,2,    20.14,2,     0.00,2,     1.34,2,    0.064,2,    0.037,2, -999.000,5, -999.000,5,-999.0000,5,  -999.00,9,   -999.0,9,  -999.00,9,-999.000,9,   -999.0,9,   -999.0,9,-999,   -999.0,9,-999.0000,9, -999,  -999.0, -999.00,-999.0000,-999.000,-999.000
     316N151_3,   A20,    58,  1,     12,     12,2,19970803,0314, 16.8830, -52.3348, 4825,20133.1,   1998.8,   3.6789,  34.9830,2,  34.9834,2,    250.5,2,  3.5163,    249.1,2,    19.83,2,    19.78,2,     0.00,2,     1.32,2,    0.032,2,    0.023,2, -999.000,5,    0.046,2,   1.8335,2,     1.98,2,   -999.0,9,  -999.00,9,   8.116,2,   -999.0,9,   -999.0,9,-999,   -999.0,9,-999.0000,9, -999,  -999.0,    0.15,  0.0092,   0.041,   0.010
     316N151_3,   A20,    58,  1,     11,     11,2,19970803,0314, 16.8830, -52.3348, 4825,22660.6,   2251.6,   3.3188,  34.9685,2,  34.9708,2,    255.3,2,  3.1374,    255.1,2,    21.79,2,    19.37,2,     0.00,2,     1.30,2,    0.037,2,    0.023,2, -999.000,5, -999.000,5,-999.0000,5,  -999.00,9,   -999.0,9,  -999.00,9,-999.000,9,   -999.0,9,   -999.0,9,-999,   -999.0,9,-999.0000,9, -999,  -999.0, -999.00,-999.0000,-999.000,-999.000
     316N151_3,   A20,    58,  1,     10,     10,2,19970803,0314, 16.8830, -52.3348, 4825,25156.1,   2500.9,   3.0655,  34.9530,2,  34.9534,2,    255.9,2,  2.8642,    256.7,2,    25.12,2,    19.60,2,     0.00,2,     1.32,2,    0.030,2,    0.021,2, -999.000,5,    0.042,2,   1.8388,2,     1.84,2,   -999.0,9,  -999.00,9,   8.089,2,   -999.0,9,   -999.0,9,-999,   -999.0,9,-999.0000,9, -999,  -999.0,    0.15,  0.0092,   0.040,   0.010
     316N151_3,   A20,    58,  1,      9,      9,2,19970803,0314, 16.8830, -52.3348, 4825,27635.3,   2748.6,   2.9199,  34.9427,2,  34.9429,2,    257.1,2,  2.6967,    257.3,2,    26.50,2,    19.60,2,     0.00,2,     1.32,2,    0.043,2,    0.029,2, -999.000,5, -999.000,5,-999.0000,5,  -999.00,9,   -999.0,9,  -999.00,9,-999.000,9,   -999.0,9,   -999.0,9,-999,   -999.0,9,-999.0000,9, -999,  -999.0, -999.00,-999.0000,-999.000,-999.000
     316N151_3,   A20,    58,  1,      8,      8,2,19970803,0314, 16.8830, -52.3348, 4825,30686.7,   3053.6,   2.7408,  34.9293,2,  34.9303,2,    257.1,2,  2.4901,    256.2,2,    29.93,2,    19.97,2,     0.00,2,     1.35,2,    0.040,2,    0.025,2, -999.000,5, -999.000,5,   1.8440,2,     2.65,2,   -999.0,9,  -999.00,9,   4.834,2,   -999.0,9,   -999.0,9,-999,   -999.0,9,-999.0000,9, -999,  -999.0,    0.15,  0.0092,   0.024,-999.000
     316N151_3,   A20,    58,  1,      7,      7,2,19970803,0314, 16.8830, -52.3348, 4825,33621.1,   3347.0,   2.6021,  34.9180,2,  34.9166,2,    256.6,2,  2.3236,    256.2,2,    33.06,2,    20.19,2,     0.00,2,     1.37,2,    0.040,2,    0.024,2, -999.000,5,    0.041,2,   1.8437,2,     3.09,2,   -999.0,9,  -999.00,9,   8.117,2,   -999.0,9,   -999.0,9,-999,   -999.0,9,-999.0000,9, -999,  -999.0,    0.15,  0.0092,   0.041,   0.010
     316N151_3,   A20,    58,  1,      6,      6,2,19970803,0314, 16.8830, -52.3348, 4825,36614.9,   3646.2,   2.4072,  34.8999,2,  34.8986,2,    254.2,2,  2.1012,    254.4,2,    39.40,2,    20.92,2,     0.00,2,     1.42,2,    0.027,2,    0.021,2, -999.000,5, -999.000,5,-999.0000,5,  -999.00,9,   -999.0,9,  -999.00,9,-999.000,9,   -999.0,9,   -999.0,9,-999,   -999.0,9,-999.0000,9, -999,  -999.0, -999.00,-999.0000,-999.000,-999.000
     316N151_3,   A20,    58,  1,      5,      5,2,19970803,0314, 16.8830, -52.3348, 4825,39152.7,   3899.9,   2.3131,  34.8926,2,  34.8910,2,    255.9,2,  1.9815,    256.4,2,    39.91,2,    20.78,2,     0.00,2,     1.42,2,    0.046,2,    0.031,2, -999.000,5, -999.000,5,   1.8510,2,     2.93,2,   -999.0,9,  -999.00,9,   8.149,2,   -999.0,9,   -999.0,9,-999,   -999.0,9,-999.0000,9, -999,  -999.0,    0.15,  0.0093,   0.041,-999.000
     316N151_3,   A20,    58,  1,      4,      4,2,19970803,0314, 16.8830, -52.3348, 4825,41651.5,   4149.7,   2.1815,  34.8782,2,  34.8766,2,    253.5,2,  1.8252,    254.2,2,    45.17,2,    21.42,2,     0.00,2,     1.47,2,    0.036,2,    0.030,2, -999.000,5, -999.000,5,-999.0000,5,  -999.00,9,   -999.0,9,  -999.00,9,-999.000,9,   -999.0,9,   -999.0,9,-999,   -999.0,9,-999.0000,9, -999,  -999.0, -999.00,-999.0000,-999.000,-999.000
     316N151_3,   A20,    58,  1,      3,      3,2,19970803,0314, 16.8830, -52.3348, 4825,44145.5,   4399.2,   2.0838,  34.8672,2,  34.8654,2,    253.7,2,  1.7015,    253.6,2,    48.11,2,    21.74,2,     0.00,2,     1.49,2,    0.058,2,    0.038,2, -999.000,5, -999.000,5,-999.0000,5,  -999.00,9,   -999.0,9,  -999.00,9,-999.000,9,   -999.0,9,   -999.0,9,-999,   -999.0,9,-999.0000,9, -999,  -999.0, -999.00,-999.0000,-999.000,-999.000
     316N151_3,   A20,    58,  1,      2,      2,2,19970803,0314, 16.8830, -52.3348, 4825,46646.7,   4649.2,   1.9161,  34.8457,2,  34.8452,2,    249.3,2,  1.5094,    249.2,2,    56.68,2,    23.05,2,     0.00,2,     1.58,2,    0.052,2,    0.034,2, -999.000,5, -999.000,5,   1.8688,2,     4.06,2,   -999.0,9,  -999.00,9,   8.210,2,   -999.0,9,   -999.0,9,-999,   -999.0,9,-999.0000,9, -999,  -999.0,    0.15,  0.0093,   0.041,-999.000
     316N151_3,   A20,    58,  1,      1,      1,2,19970803,0314, 16.8830, -52.3348, 4825,48937.9,   4877.9,   1.9291,  34.8444,2,  34.8432,2,    248.7,2,  1.4942,    249.2,2,    57.62,6,    23.11,6,     0.00,6,     1.59,6,    0.053,2,    0.032,2, -999.000,5, -999.000,5,-999.0000,5,  -999.00,9,   -999.0,9,  -999.00,9,-999.000,9,   -999.0,9,   -999.0,9,-999,   -999.0,9,-999.0000,9, -999,  -999.0, -999.00,-999.0000,-999.000,-999.000