BOTTLE,20220812CCHSIOAMB
EXPOCODE,SECT_ID,STNNBR,CASTNO,SAMPNO,BTLNBR,BTLNBR_FLAG_W,DATE,TIME,LATITUDE,LONGITUDE,DEPTH,CTDRAW,CTDPRS,CTDTMP,CTDSAL,CTDSAL_FLAG_W,SALNTY,SALNTY_FLAG_W,CTDOXY,CTDOXY_FLAG_W,THETA,OXYGEN,OXYGEN_FLAG_W,SILCAT,SILCAT_FLAG_W,NITRAT,NITRAT_FLAG_W,NITRIT,NITRIT_FLAG_W,PHSPHT,PHSPHT_FLAG_W,CFC-11,CFC-11_FLAG_W,CFC-12,CFC-12_FLAG_W,CFC113,CFC113_FLAG_W,TRITUM,TRITUM_FLAG_W,HELIUM,HELIUM_FLAG_W,DELHE3,DELHE3_FLAG_W,DELC14,DELC14_FLAG_W,DELC13,DELC13_FLAG_W,NEON,NEON_FLAG_W,TCARBN,TCARBN_FLAG_W,PCO2,PCO2_FLAG_W,PCO2_TMP,ALKALI,ALKALI_FLAG_W,PH,PH_FLAG_W,PH_TMP,C14ERR,DELHER,HELIER,NEONER,TRITER
,,,,,,,,,,,,,DBAR,ITS-90,PSS-78,,PSS-78,,UMOL/KG,,ITS-90,UMOL/KG,,UMOL/KG,,UMOL/KG,,UMOL/KG,,UMOL/KG,,PMOL/KG,,PMOL/KG,,PMOL/KG,,TU,,NMOL/KG,,PERCNT,,/MILLE,,/MILLE,,NMOL/KG,,UMOL/KG,,UATM,,DEG C,UMOL/KG,,,,DEG C,/MILLE,PERCNT,NMOL/KG,NMOL/KG,TU
     316N151_3,   A20,    78,  1,     21,     21,2,19970807,2336,  8.1832, -52.9583, 1609,  194.2,      1.3,  29.1348,  32.2711,2,  32.3928,2,   -999.0,9, 29.1345,    210.9,2,    11.33,2,     0.01,2,    -0.01,2,     0.07,2, -999.000,9, -999.000,9, -999.000,5, -999.000,5,-999.0000,5,  -999.00,9,   -999.0,9,  -999.00,9,-999.000,9,   1828.3,2,    239.3,2,  20,   2151.1,2,   8.1380,2,   25,  -999.0, -999.00,-999.0000,-999.000,-999.000
     316N151_3,   A20,    78,  1,     20,     20,2,19970807,2336,  8.1832, -52.9583, 1609,  256.3,      7.7,  28.8653,  33.5712,2,  33.7588,2,    208.9,2, 28.8634,    211.6,2,     8.07,2,     0.00,2,     0.00,2,     0.09,2,    1.666,2,    1.002,2, -999.000,5,    0.744,2,   1.8400,2,     3.63,2,   -999.0,9,  -999.00,9,   7.937,2,   1897.6,2,    253.2,2,  20,   2229.4,2,   8.1180,2,   25,  -999.0,    0.15,  0.0092,   0.040,   0.013
     316N151_3,   A20,    78,  1,     19,     19,2,19970807,2336,  8.1832, -52.9583, 1609,  682.3,     52.2,  26.6146,  36.2634,2,  36.2628,2,    196.0,2, 26.6027,    196.8,2,     1.48,2,     0.17,2,     0.07,2,     0.11,2, -999.000,9, -999.000,9, -999.000,5, -999.000,5,-999.0000,5,  -999.00,9,   -999.0,9,  -999.00,9,-999.000,9,   2028.1,2,    294.5,2,  20,   2374.2,2,   8.0910,2,   25,  -999.0, -999.00,-999.0000,-999.000,-999.000
     316N151_3,   A20,    78,  1,     18,     18,2,19970807,2336,  8.1832, -52.9583, 1609, 1172.9,    102.6,  20.6036,  36.7271,2,  36.6779,2,    149.8,2, 20.5841,    139.6,2,     2.82,2,     8.33,2,     0.03,2,     0.50,2,    1.900,2,    1.074,2, -999.000,5,    0.975,2,   1.7350,2,    -0.22,2,     68.5,2,     0.94,2,   7.030,2,   2146.6,2,    469.0,2,  20,   2394.9,2,   7.9150,2,   25,     4.4,    0.15,  0.0087,   0.035,   0.013
     316N151_3,   A20,    78,  1,     17,     17,2,19970807,2336,  8.1832, -52.9583, 1609, 1615.5,    147.7,  15.4577,  35.8840,2,  35.8773,2,    130.5,2, 15.4347,    126.1,2,     6.83,2,    16.95,2,     0.01,2,     1.07,2,    1.603,2,    0.875,2, -999.000,5,    0.768,2,   1.7562,2,     1.51,2,   -999.0,9,  -999.00,9,   7.245,2,   2167.9,2,   -999.0,9,-999,   2353.2,2,   7.8010,2,   25,  -999.0,    0.15,  0.0088,   0.036,   0.013
     316N151_3,   A20,    78,  1,     16,     16,2,19970807,2336,  8.1832, -52.9583, 1609, 2150.2,    201.4,  11.3214,  35.1643,2,  35.1586,2,    131.7,2, 11.2960,    131.6,2,    11.24,2,    22.95,2,     0.01,2,     1.52,2,    1.234,2,    0.659,2, -999.000,5,    0.400,2,   1.7787,2,     1.51,2,      2.3,2,     0.82,2,   7.452,2,   2179.9,2,    811.7,2,  20,   2315.2,2,   7.7030,2,   25,     3.2,    0.15,  0.0089,   0.037,   0.012
     316N151_3,   A20,    78,  1,     15,     15,2,19970807,2336,  8.1832, -52.9583, 1609, 2636.2,    250.2,  10.3643,  35.0461,2,  35.0419,2,    120.7,2, 10.3345,    121.4,2,    12.87,2,    25.79,2,     0.00,2,     1.68,2,    0.959,2,    0.519,2, -999.000,5,    0.360,2,-999.0000,5,  -999.00,9,   -999.0,9,  -999.00,9,-999.000,9,   2189.0,2,    894.5,2,  20,   2314.0,2,   7.6690,2,   25,  -999.0, -999.00,-999.0000,-999.000,   0.012
     316N151_3,   A20,    78,  1,     14,     14,2,19970807,2336,  8.1832, -52.9583, 1609, 3634.0,    350.2,   8.4528,  34.7837,2,  34.7856,2,    119.6,2,  8.4159,    122.8,2,    16.60,2,    29.46,2,     0.00,2,     1.94,2,    0.628,2,    0.336,2, -999.000,5,    0.170,2,   1.7912,2,     1.33,2,    -43.7,2,     0.76,2,   7.606,2,   2201.3,2,   -999.0,9,-999,   2301.0,2,   7.6180,2,   25,     3.6,    0.15,  0.0090,   0.038,   0.011
     316N151_3,   A20,    78,  1,     13,     13,2,19970807,2336,  8.1832, -52.9583, 1609, 4626.5,    449.8,   7.6181,  34.7046,2,  34.7043,2,    113.5,2,  7.5733,    115.1,2,    19.38,2,    32.54,2,     0.00,2,     2.11,2,    0.337,2,    0.196,2, -999.000,5,    0.120,2,   1.7991,2,     0.86,2,    -73.9,2,     0.70,2,   7.669,2,   2210.7,2,   1121.9,3,  20,   2301.5,2,   7.5780,2,   25,     3.6,    0.15,  0.0090,   0.038,   0.011
     316N151_3,   A20,    78,  1,     12,     12,2,19970807,2336,  8.1832, -52.9583, 1609, 5644.2,    551.6,   6.7060,  34.6392,2,  34.6393,2,    122.4,2,  6.6545,    124.8,2,    22.54,2,    33.17,2,     0.00,2,     2.20,2,    0.241,2,    0.133,2, -999.000,5,    0.070,2,   1.8066,2,     1.17,2,    -86.7,2,     0.74,2,   7.709,2,   2214.0,2,   1129.8,2,  20,   2297.9,2,   7.5740,2,   25,     3.4,    0.15,  0.0090,   0.039,   0.011
     316N151_3,   A20,    78,  1,     11,     11,2,19970807,2336,  8.1832, -52.9583, 1609, 6613.9,    648.8,   6.2001,  34.6159,2,  34.6156,2,    127.6,2,  6.1416,    128.6,2,    24.75,2,    33.83,2,     0.00,2,     2.26,2,    0.145,2,    0.085,2, -999.000,5,    0.061,2,   1.8069,2,     1.00,2,   -108.6,2,     0.67,2,   7.765,2,   2217.1,2,   -999.0,9,-999,   2302.0,2,   7.5670,2,   25,     2.8,    0.15,  0.0090,   0.039,   0.011
     316N151_3,   A20,    78,  1,     10,     10,2,19970807,2336,  8.1832, -52.9583, 1609, 7626.6,    750.2,   5.4359,  34.6118,2,  34.6121,2,    133.8,2,  5.3721,    134.0,2,    28.29,2,    34.07,2,     0.00,2,     2.30,2,    0.051,2,    0.034,2, -999.000,5,    0.009,2,   1.8235,2,     0.93,2,   -110.9,2,     0.75,2,   7.841,2,   2218.9,2,   1180.2,2,  20,   2302.5,2,   7.5650,2,   25,     2.5,    0.15,  0.0091,   0.039,   0.010
     316N151_3,   A20,    78,  1,      9,      9,2,19970807,2336,  8.1832, -52.9583, 1609, 8642.2,    851.9,   5.1570,  34.6575,2,  34.6579,2,    142.6,2,  5.0857,    142.0,2,    28.87,2,    33.06,2,     0.00,2,     2.24,2,    0.033,2,    0.021,2, -999.000,5,    0.016,2,   1.8205,2,     0.79,2,   -109.6,2,     0.74,2,   7.844,2,   2219.5,2,   1139.4,2,  20,   2307.6,2,   7.5740,2,   25,     2.7,    0.15,  0.0091,   0.039,   0.010
     316N151_3,   A20,    78,  1,      8,      8,2,19970807,2336,  8.1832, -52.9583, 1609, 9613.7,    949.1,   5.1005,  34.7624,2,  34.7623,2,    154.8,2,  5.0206,    156.1,2,    27.06,2,    30.64,2,     0.00,2,     2.08,2, -999.000,9, -999.000,9, -999.000,5,    0.061,2,   1.8367,2,     1.87,2,   -109.7,2,     0.76,6,   7.843,2,   2210.8,2,   1061.2,2,  20,   2310.1,2,   7.6080,2,   25,     2.7,    0.15,  0.0092,   0.039,   0.011
     316N151_3,   A20,    78,  1,      7,      7,2,19970807,2336,  8.1832, -52.9583, 1609,10613.4,   1049.2,   5.1658,  34.8802,2,  34.8789,2,    174.6,2,  5.0760,    174.3,2,    23.52,2,    27.37,2,     0.00,2,     1.84,2,    0.097,2,    0.055,2, -999.000,5,    0.119,2,-999.0000,5,  -999.00,9,   -999.0,9,  -999.00,9,-999.000,9,   2199.2,2,    955.1,2,  20,   2316.7,2,   7.6480,2,   25,  -999.0, -999.00,-999.0000,-999.000,   0.011
     316N151_3,   A20,    78,  1,      6,      6,2,19970807,2336,  8.1832, -52.9583, 1609,11626.7,   1150.8,   5.0713,  34.9661,2,  34.9639,2,    200.9,2,  4.9727,    199.8,2,    19.70,2,    23.90,2,     0.00,2,     1.60,2, -999.000,9, -999.000,9, -999.000,5, -999.000,5,-999.0000,5,  -999.00,9,    -79.5,2,     0.90,2,-999.000,9,   2185.2,2,   -999.0,9,-999,   2315.4,2,   7.6860,2,   25,     2.9, -999.00,-999.0000,-999.000,-999.000
     316N151_3,   A20,    78,  1,      5,      5,2,19970807,2336,  8.1832, -52.9583, 1609,12616.4,   1250.1,   4.8731,  35.0000,2,  35.0003,2,    218.6,2,  4.7670,    218.9,2,    17.41,2,    21.72,2,     0.00,2,     1.45,2,    0.308,2,    0.163,2, -999.000,5, -999.000,5,   1.8303,2,     3.55,2,    -83.8,2,     0.95,2,   7.898,2,   2174.5,2,    813.2,2,  20,   2319.5,2,   7.7110,2,   25,     2.8,    0.15,  0.0092,   0.039,-999.000
     316N151_3,   A20,    78,  1,      4,      4,2,19970807,2336,  8.1832, -52.9583, 1609,13621.4,   1351.0,   4.6496,  35.0109,2,  35.0096,2,    232.9,2,  4.5361,    234.8,2,    15.89,2,    20.32,2,     0.00,2,     1.36,2,    0.377,6,    0.203,6, -999.000,5, -999.000,5,-999.0000,5,  -999.00,9,    -92.3,2,     0.97,2,-999.000,9,   2169.8,2,    781.9,2,  20,   2314.5,2,   7.7250,2,   25,     2.6, -999.00,-999.0000,-999.000,-999.000
     316N151_3,   A20,    78,  1,      3,      3,2,19970807,2336,  8.1832, -52.9583, 1609,14630.7,   1452.2,   4.4818,  35.0104,2,  35.0099,2,    239.9,2,  4.3607,    240.6,2,    15.32,2,    19.59,2,     0.00,2,     1.31,2,    0.428,2,    0.223,2, -999.000,5,    0.422,2,   1.8313,2,     4.64,2,    -64.0,2,     0.95,2,   7.910,2,   2166.6,2,    767.1,2,  20,   2314.7,2,   7.7350,2,   25,     2.6,    0.15,  0.0092,   0.040,   0.012
     316N151_3,   A20,    78,  1,      2,      2,2,19970807,2336,  8.1832, -52.9583, 1609,15625.7,   1552.1,   4.3039,  35.0054,2,  35.0047,2,    246.2,2,  4.1753,    247.1,2,    14.94,2,    19.20,2,     0.00,2,     1.28,2,    0.443,6,    0.233,6, -999.000,5, -999.000,5,-999.0000,5,  -999.00,9,    -71.1,2,     0.99,2,-999.000,9,   2162.9,6,   -999.0,9,-999,   2313.7,2,   7.7380,2,   25,     2.6, -999.00,-999.0000,-999.000,-999.000
     316N151_3,   A20,    78,  1,      1,      1,2,19970807,2336,  8.1832, -52.9583, 1609,16133.3,   1602.5,   4.2091,  35.0028,2,  35.0022,2,    248.3,2,  4.0769,    250.2,2,    14.89,6,    18.91,6,     0.00,6,     1.26,6,    0.442,2,    0.238,2, -999.000,5,    0.414,2,   1.8404,2,     4.17,2,    -59.6,2,     1.04,2,   7.953,2,   2162.3,2,   -999.0,9,-999,   2315.4,2,   7.7410,2,   25,     3.8,    0.15,  0.0092,   0.040,   0.012
     316N151_3,   A20,    79,  1,     18,     18,2,19970808,0216,  8.0580, -53.0212, 1285,  187.3,      0.8,  28.9783,  31.1287,2,  31.2939,2,    198.3,2, 28.9781,    213.4,2,    10.89,2,     0.02,2,     0.00,2,     0.04,2, -999.000,9, -999.000,9, -999.000,5, -999.000,5,-999.0000,5,  -999.00,9,   -999.0,9,  -999.00,9,-999.000,9,   1752.2,2,   -999.0,9,-999,   2090.5,2,   8.1860,2,   25,  -999.0, -999.00,-999.0000,-999.000,-999.000
     316N151_3,   A20,    79,  1,     17,     17,2,19970808,0216,  8.0580, -53.0212, 1285,  239.8,      6.9,  28.9495,  33.1653,2,  33.1324,2,    209.8,2, 28.9478,    213.0,2,     9.36,2,     0.06,2,     0.00,2,     0.08,2, -999.000,9, -999.000,9, -999.000,5, -999.000,5,-999.0000,5,  -999.00,9,   -999.0,9,  -999.00,9,-999.000,9,   -999.0,9,   -999.0,9,-999,   -999.0,9,-999.0000,9, -999,  -999.0, -999.00,-999.0000,-999.000,-999.000
     316N151_3,   A20,    79,  1,     16,     16,2,19970808,0216,  8.0580, -53.0212, 1285,  634.5,     48.1,  26.8454,  36.2434,2,  36.2484,2,    199.6,2, 26.8343,    200.5,2,     1.56,2,     0.11,2,     0.02,2,     0.10,2, -999.000,9, -999.000,9, -999.000,5, -999.000,5,-999.0000,5,  -999.00,9,   -999.0,9,  -999.00,9,-999.000,9,   -999.0,9,   -999.0,9,-999,   -999.0,9,-999.0000,9, -999,  -999.0, -999.00,-999.0000,-999.000,-999.000
     316N151_3,   A20,    79,  1,     15,     15,2,19970808,0216,  8.0580, -53.0212, 1285, 1149.3,    100.7,  21.0255,  36.7236,2,  36.6627,2,    151.7,2, 21.0061,    141.5,2,     2.70,2,     8.23,2,     0.04,2,     0.49,2, -999.000,9, -999.000,9, -999.000,5, -999.000,5,-999.0000,5,  -999.00,9,   -999.0,9,  -999.00,9,-999.000,9,   -999.0,9,   -999.0,9,-999,   -999.0,9,-999.0000,9, -999,  -999.0, -999.00,-999.0000,-999.000,-999.000
     316N151_3,   A20,    79,  1,     14,     14,2,19970808,0216,  8.0580, -53.0212, 1285, 1647.8,    151.2,  15.4413,  35.8755,2,  35.8484,2,    127.5,2, 15.4178,    124.5,2,     6.88,2,    17.30,2,     0.01,2,     1.08,2, -999.000,9, -999.000,9, -999.000,5, -999.000,5,-999.0000,5,  -999.00,9,   -999.0,9,  -999.00,9,-999.000,9,   -999.0,9,   -999.0,9,-999,   -999.0,9,-999.0000,9, -999,  -999.0, -999.00,-999.0000,-999.000,-999.000
     316N151_3,   A20,    79,  1,     13,     13,2,19970808,0216,  8.0580, -53.0212, 1285, 2163.7,    203.2,  11.5577,  35.2219,2,  35.2153,2,    129.7,2, 11.5318,    124.3,2,    10.96,2,    23.28,2,     0.01,2,     1.52,2, -999.000,9, -999.000,9, -999.000,5, -999.000,5,-999.0000,5,  -999.00,9,   -999.0,9,  -999.00,9,-999.000,9,   -999.0,9,   -999.0,9,-999,   -999.0,9,-999.0000,9, -999,  -999.0, -999.00,-999.0000,-999.000,-999.000
     316N151_3,   A20,    79,  1,     12,     12,2,19970808,0216,  8.0580, -53.0212, 1285, 2637.9,    250.9,  10.1389,  35.0275,2,  35.0314,2,    121.3,2, 10.1094,    118.6,2,    13.13,2,    26.33,2,     0.01,2,     1.71,2, -999.000,9, -999.000,9, -999.000,5, -999.000,5,-999.0000,5,  -999.00,9,   -999.0,9,  -999.00,9,-999.000,9,   -999.0,9,   -999.0,9,-999,   -999.0,9,-999.0000,9, -999,  -999.0, -999.00,-999.0000,-999.000,-999.000
     316N151_3,   A20,    79,  1,     11,     11,2,19970808,0216,  8.0580, -53.0212, 1285, 3139.4,    301.3,   9.2532,  34.9118,2,  34.9000,2,    118.5,2,  9.2197,    118.8,2,    15.15,2,    28.44,2,     0.00,2,     1.85,2, -999.000,9, -999.000,9, -999.000,5, -999.000,5,-999.0000,5,  -999.00,9,   -999.0,9,  -999.00,9,-999.000,9,   -999.0,9,   -999.0,9,-999,   -999.0,9,-999.0000,9, -999,  -999.0, -999.00,-999.0000,-999.000,-999.000
     316N151_3,   A20,    79,  1,     10,     10,2,19970808,0216,  8.0580, -53.0212, 1285, 4149.3,    402.6,   7.8607,  34.7187,2,  34.7167,2,    125.1,2,  7.8199,    122.0,2,    18.29,2,    31.10,2,     0.00,2,     2.04,2, -999.000,9, -999.000,9, -999.000,5, -999.000,5,-999.0000,5,  -999.00,9,   -999.0,9,  -999.00,9,-999.000,9,   -999.0,9,   -999.0,9,-999,   -999.0,9,-999.0000,9, -999,  -999.0, -999.00,-999.0000,-999.000,-999.000
     316N151_3,   A20,    79,  1,      9,      9,2,19970808,0216,  8.0580, -53.0212, 1285, 5138.1,    501.9,   6.9789,  34.6501,2,  34.6506,2,    121.3,2,  6.9312,    122.1,2,    21.25,2,    32.78,2,     0.00,2,     2.16,2, -999.000,9, -999.000,9, -999.000,5, -999.000,5,-999.0000,5,  -999.00,9,   -999.0,9,  -999.00,9,-999.000,9,   -999.0,9,   -999.0,9,-999,   -999.0,9,-999.0000,9, -999,  -999.0, -999.00,-999.0000,-999.000,-999.000
     316N151_3,   A20,    79,  1,      8,      8,2,19970808,0216,  8.0580, -53.0212, 1285, 6126.6,    601.0,   6.4026,  34.6126,2,  34.6098,2,    125.3,2,  6.3477,    125.0,2,    23.63,2,    33.68,2,     0.00,2,     2.24,2, -999.000,9, -999.000,9, -999.000,5, -999.000,5,-999.0000,5,  -999.00,9,   -999.0,9,  -999.00,9,-999.000,9,   -999.0,9,   -999.0,9,-999,   -999.0,9,-999.0000,9, -999,  -999.0, -999.00,-999.0000,-999.000,-999.000
     316N151_3,   A20,    79,  1,      7,      7,2,19970808,0216,  8.0580, -53.0212, 1285, 7110.1,    699.7,   5.7858,  34.6010,2,  34.5987,2,    130.1,2,  5.7247,    130.2,2,    26.54,2,    34.25,2,     0.00,2,     2.29,2, -999.000,9, -999.000,9, -999.000,5, -999.000,5,-999.0000,5,  -999.00,9,   -999.0,9,  -999.00,9,-999.000,9,   -999.0,9,   -999.0,9,-999,   -999.0,9,-999.0000,9, -999,  -999.0, -999.00,-999.0000,-999.000,-999.000
     316N151_3,   A20,    79,  1,      6,      6,2,19970808,0216,  8.0580, -53.0212, 1285, 8130.7,    802.0,   5.2579,  34.5999,2,  34.6011,2,    137.7,2,  5.1906,    136.1,2,    28.78,2,    34.12,2,     0.00,2,     2.30,2,    0.049,6,    0.032,6, -999.000,5, -999.000,5,-999.0000,5,  -999.00,9,   -999.0,9,  -999.00,9,-999.000,9,   -999.0,9,   -999.0,9,-999,   -999.0,9,-999.0000,9, -999,  -999.0, -999.00,-999.0000,-999.000,-999.000
     316N151_3,   A20,    79,  1,      5,      5,2,19970808,0216,  8.0580, -53.0212, 1285, 9128.1,    902.0,   5.1870,  34.6785,2,  34.6784,2,    143.8,2,  5.1110,    141.9,2,    28.51,2,    32.92,2,     0.00,2,     2.23,2,    0.026,2,    0.019,2, -999.000,5, -999.000,5,-999.0000,5,  -999.00,9,   -999.0,9,  -999.00,9,-999.000,9,   -999.0,9,   -999.0,9,-999,   -999.0,9,-999.0000,9, -999,  -999.0, -999.00,-999.0000,-999.000,-999.000
     316N151_3,   A20,    79,  1,      4,      4,2,19970808,0216,  8.0580, -53.0212, 1285,10139.7,   1003.6,   5.1419,  34.8299,2,  34.8309,2,    163.0,2,  5.0566,    165.8,2,    24.99,2,    28.85,2,     0.00,2,     1.94,2,    0.072,2,    0.040,2, -999.000,5, -999.000,5,-999.0000,5,  -999.00,9,   -999.0,9,  -999.00,9,-999.000,9,   -999.0,9,   -999.0,9,-999,   -999.0,9,-999.0000,9, -999,  -999.0, -999.00,-999.0000,-999.000,-999.000
     316N151_3,   A20,    79,  1,      3,      3,2,19970808,0216,  8.0580, -53.0212, 1285,11134.7,   1103.7,   5.1189,  34.9544,2,  34.9536,2,    190.7,2,  5.0243,    194.8,2,    20.33,2,    24.57,2,     0.00,2,     1.64,2,    0.174,2,    0.101,2, -999.000,5, -999.000,5,-999.0000,5,  -999.00,9,   -999.0,9,  -999.00,9,-999.000,9,   -999.0,9,   -999.0,9,-999,   -999.0,9,-999.0000,9, -999,  -999.0, -999.00,-999.0000,-999.000,-999.000
     316N151_3,   A20,    79,  1,      2,      2,2,19970808,0216,  8.0580, -53.0212, 1285,12147.1,   1205.3,   4.9393,  34.9965,2,  34.9955,2,    213.0,2,  4.8367,    214.5,2,    17.66,2,    22.19,2,     0.00,2,     1.47,2,    0.293,2,    0.159,2, -999.000,5, -999.000,5,-999.0000,5,  -999.00,9,   -999.0,9,  -999.00,9,-999.000,9,   -999.0,9,   -999.0,9,-999,   -999.0,9,-999.0000,9, -999,  -999.0, -999.00,-999.0000,-999.000,-999.000
     316N151_3,   A20,    79,  1,      1,      1,2,19970808,0216,  8.0580, -53.0212, 1285,12902.6,   1277.9,   4.8205,  35.0068,2,  35.0045,2,    222.0,2,  4.7123,    222.6,2,    17.01,6,    21.30,6,     0.00,6,     1.42,6,    0.326,6,    0.175,6, -999.000,5, -999.000,5,-999.0000,5,  -999.00,9,   -999.0,9,  -999.00,9,-999.000,9,   -999.0,9,   -999.0,9,-999,   -999.0,9,-999.0000,9, -999,  -999.0, -999.00,-999.0000,-999.000,-999.000