BOTTLE,20220812CCHSIOAMB
EXPOCODE,SECT_ID,STNNBR,CASTNO,SAMPNO,BTLNBR,BTLNBR_FLAG_W,DATE,TIME,LATITUDE,LONGITUDE,DEPTH,CTDRAW,CTDPRS,CTDTMP,CTDSAL,CTDSAL_FLAG_W,SALNTY,SALNTY_FLAG_W,CTDOXY,CTDOXY_FLAG_W,THETA,OXYGEN,OXYGEN_FLAG_W,SILCAT,SILCAT_FLAG_W,NITRAT,NITRAT_FLAG_W,NITRIT,NITRIT_FLAG_W,PHSPHT,PHSPHT_FLAG_W,CFC-11,CFC-11_FLAG_W,CFC-12,CFC-12_FLAG_W,CFC113,CFC113_FLAG_W,TRITUM,TRITUM_FLAG_W,HELIUM,HELIUM_FLAG_W,DELHE3,DELHE3_FLAG_W,DELC14,DELC14_FLAG_W,DELC13,DELC13_FLAG_W,NEON,NEON_FLAG_W,TCARBN,TCARBN_FLAG_W,PCO2,PCO2_FLAG_W,PCO2_TMP,ALKALI,ALKALI_FLAG_W,PH,PH_FLAG_W,PH_TMP,C14ERR,DELHER,HELIER,NEONER,TRITER
,,,,,,,,,,,,,DBAR,ITS-90,PSS-78,,PSS-78,,UMOL/KG,,ITS-90,UMOL/KG,,UMOL/KG,,UMOL/KG,,UMOL/KG,,UMOL/KG,,PMOL/KG,,PMOL/KG,,PMOL/KG,,TU,,NMOL/KG,,PERCNT,,/MILLE,,/MILLE,,NMOL/KG,,UMOL/KG,,UATM,,DEG C,UMOL/KG,,,,DEG C,/MILLE,PERCNT,NMOL/KG,NMOL/KG,TU
     316N151_3,   A20,    28,  1,     30,     30,2,19970725,0820, 36.9213, -52.3465, 5447,  177.1,      3.4,  24.9254,  36.3584,2,  36.3606,2,    204.7,2, 24.9247,    215.1,2,     0.61,2,     0.03,2,     0.00,2,     0.01,2,    1.911,2,    1.156,2, -999.000,5,    1.049,2,   1.7613,2,     2.30,2,   -999.0,9,  -999.00,9,   7.130,2,   -999.0,9,   -999.0,9,-999,   2375.2,2,   8.0750,2,   25,  -999.0,    0.15,  0.0088,   0.036,   0.013
     316N151_3,   A20,    28,  1,     29,     29,2,19970725,0820, 36.9213, -52.3465, 5447,  380.5,     24.0,  24.6608,  36.3881,2,  36.3835,2,    218.3,2, 24.6556,    218.1,2,     0.52,2,     0.03,2,     0.00,2,     0.01,2,    1.976,2,    1.164,2, -999.000,5, -999.000,5,-999.0000,5,  -999.00,9,   -999.0,9,  -999.00,9,-999.000,9,   -999.0,9,   -999.0,9,-999,   -999.0,9,-999.0000,9, -999,  -999.0, -999.00,-999.0000,-999.000,-999.000
     316N151_3,   A20,    28,  1,     28,     28,2,19970725,0820, 36.9213, -52.3465, 5447,  633.9,     49.3,  20.3061,  36.5297,2,  36.5293,2,    235.5,2, 20.2969,    229.1,2,     0.32,2,     0.03,2,     0.00,2,     0.01,2,    2.312,2,    1.335,6, -999.000,5,    1.024,2,   1.7612,2,     0.45,2,   -999.0,9,  -999.00,9,   7.155,2,   -999.0,9,   -999.0,9,-999,   -999.0,9,-999.0000,9, -999,  -999.0,    0.15,  0.0088,   0.036,   0.013
     316N151_3,   A20,    28,  1,     27,     27,2,19970725,0820, 36.9213, -52.3465, 5447,  875.0,     73.1,  18.9783,  36.5768,2,  36.5771,2,    226.9,2, 18.9651,    224.7,2,     0.61,2,     0.06,2,     0.01,2,     0.01,2, -999.000,9,    1.416,2, -999.000,5, -999.000,5,-999.0000,5,  -999.00,9,   -999.0,9,  -999.00,9,-999.000,9,   -999.0,9,   -999.0,9,-999,   -999.0,9,-999.0000,9, -999,  -999.0, -999.00,-999.0000,-999.000,-999.000
     316N151_3,   A20,    28,  1,     26,     26,2,19970725,0820, 36.9213, -52.3465, 5447, 1161.1,    101.5,  18.5279,  36.5840,2,  36.5829,2,    210.9,2, 18.5099,    212.3,2,     0.99,2,     2.27,2,     0.04,2,     0.11,2,    2.388,2,    1.373,2, -999.000,5,    1.060,2,   1.7733,2,     0.98,2,   -999.0,9,  -999.00,9,   7.142,2,   -999.0,9,   -999.0,9,-999,   -999.0,9,-999.0000,9, -999,  -999.0,    0.15,  0.0089,   0.036,   0.013
     316N151_3,   A20,    28,  1,     25,     25,2,19970725,0820, 36.9213, -52.3465, 5447, 1409.8,    126.0,  18.3623,  36.5783,2,  36.5780,2,    208.6,2, 18.3402,    212.9,2,     1.09,2,     2.49,2,     0.02,2,     0.12,2,    2.394,2,    1.360,2, -999.000,5, -999.000,5,-999.0000,5,  -999.00,9,   -999.0,9,  -999.00,9,-999.000,9,   -999.0,9,   -999.0,9,-999,   -999.0,9,-999.0000,9, -999,  -999.0, -999.00,-999.0000,-999.000,-999.000
     316N151_3,   A20,    28,  1,     24,     24,2,19970725,0820, 36.9213, -52.3465, 5447, 1667.9,    151.5,  18.2366,  36.5668,2,  36.5669,2,    208.8,2, 18.2101,    212.4,2,     1.19,2,     2.76,2,     0.02,2,     0.13,2, -999.000,9,    1.378,2, -999.000,5,    1.109,2,   1.7578,2,     2.00,2,   -999.0,9,  -999.00,9,   7.077,2,   -999.0,9,   -999.0,9,-999,   -999.0,9,-999.0000,9, -999,  -999.0,    0.15,  0.0088,   0.035,   0.013
     316N151_3,   A20,    28,  1,     23,     23,2,19970725,0820, 36.9213, -52.3465, 5447, 2151.1,    199.4,  18.0739,  36.5487,2,  36.5487,2,    208.5,2, 18.0392,    213.0,2,     1.28,2,     3.11,2,     0.01,2,     0.15,2,    2.384,2,    1.333,2, -999.000,5, -999.000,5,-999.0000,5,  -999.00,9,   -999.0,9,  -999.00,9,-999.000,9,   -999.0,9,   -999.0,9,-999,   -999.0,9,-999.0000,9, -999,  -999.0, -999.00,-999.0000,-999.000,-999.000
     316N151_3,   A20,    28,  1,     22,     22,2,19970725,0820, 36.9213, -52.3465, 5447, 3153.8,    299.3,  17.5826,  36.4604,2,  36.4595,2,    208.5,2, 17.5313,    202.1,2,     1.77,2,     4.98,2,     0.01,2,     0.26,2,    2.294,2,    1.274,2, -999.000,5,    1.135,2,   1.7363,2,     1.69,2,   -999.0,9,  -999.00,9,   6.852,2,   -999.0,9,   -999.0,9,-999,   -999.0,9,-999.0000,9, -999,  -999.0,    0.15,  0.0087,   0.034,   0.013
     316N151_3,   A20,    28,  1,     21,     21,2,19970725,0820, 36.9213, -52.3465, 5447, 4643.5,    448.2,  16.6832,  36.3356,2,  36.3356,2,    222.7,2, 16.6089,    220.6,2,     1.85,2,     4.88,2,     0.01,2,     0.27,2,    2.456,2,    1.413,2, -999.000,5,    1.116,2,-999.0000,5,  -999.00,9,   -999.0,9,  -999.00,9,-999.000,9,   -999.0,9,   -999.0,9,-999,   -999.0,9,-999.0000,9, -999,  -999.0, -999.00,-999.0000,-999.000,   0.013
     316N151_3,   A20,    28,  1,     20,     20,2,19970725,0820, 36.9213, -52.3465, 5447, 6160.1,    600.4,  15.3327,  36.0829,2,  36.0850,2,    214.1,2, 15.2385,    207.2,2,     3.10,2,     8.11,2,     0.01,2,     0.48,2,    2.367,6,    1.315,6, -999.000,5,    1.268,2,   1.7492,2,     3.00,2,   -999.0,9,  -999.00,9,   7.071,2,   -999.0,9,   -999.0,9,-999,   -999.0,9,-999.0000,9, -999,  -999.0,    0.15,  0.0087,   0.035,   0.014
     316N151_3,   A20,    28,  1,     19,     19,2,19970725,0820, 36.9213, -52.3465, 5447, 7640.6,    749.0,  11.9959,  35.5515,2,  35.5496,2,    171.8,2, 11.8954,    167.7,2,     8.21,2,    17.25,2,     0.00,2,     1.07,2,    1.560,2,    0.866,2, -999.000,5, -999.000,5,-999.0000,5,  -999.00,9,   -999.0,9,  -999.00,9,-999.000,9,   -999.0,9,   -999.0,9,-999,   -999.0,9,-999.0000,9, -999,  -999.0, -999.00,-999.0000,-999.000,-999.000
     316N151_3,   A20,    28,  1,     18,     18,2,19970725,0820, 36.9213, -52.3465, 5447, 9650.2,    950.6,   8.7578,  35.2608,2,  35.2611,2,    175.3,2,  8.6514,    176.6,2,    11.77,2,    20.54,2,     0.00,2,     1.31,2,    1.191,2,    0.604,2, -999.000,5,    0.924,2,   1.8243,2,     7.24,2,   -999.0,9,  -999.00,9,   7.526,2,   -999.0,9,   -999.0,9,-999,   -999.0,9,-999.0000,9, -999,  -999.0,    0.15,  0.0091,   0.038,   0.013
     316N151_3,   A20,    28,  1,     17,     17,2,19970725,0820, 36.9213, -52.3465, 5447,11639.6,   1149.7,   6.2920,  35.1498,2,  35.1492,2,    211.1,2,  6.1826,    213.2,2,    12.64,2,    19.59,2,     0.00,2,     1.28,2,    1.244,2,    0.617,2, -999.000,5, -999.000,5,-999.0000,5,  -999.00,9,   -999.0,9,  -999.00,9,-999.000,9,   -999.0,9,   -999.0,9,-999,   -999.0,9,-999.0000,9, -999,  -999.0, -999.00,-999.0000,-999.000,-999.000
     316N151_3,   A20,    28,  1,     16,     16,2,19970725,0820, 36.9213, -52.3465, 5447,14122.2,   1398.1,   4.8703,  35.0430,2,  35.0437,2,    240.7,2,  4.7501,    244.0,2,    12.16,2,    18.42,2,     0.00,2,     1.21,2,    1.467,2,    0.734,2, -999.000,5, -999.000,5,-999.0000,5,  -999.00,9,   -999.0,9,  -999.00,9,-999.000,9,   -999.0,9,   -999.0,9,-999,   -999.0,9,-999.0000,9, -999,  -999.0, -999.00,-999.0000,-999.000,-999.000
     316N151_3,   A20,    28,  1,     15,     15,2,19970725,0820, 36.9213, -52.3465, 5447,16638.2,   1649.5,   4.1451,  34.9775,2,  34.9784,2,    259.8,2,  4.0092,    261.2,2,    11.97,2,    17.81,2,     0.00,2,     1.18,2,    1.571,2,    0.779,2, -999.000,5, -999.000,5,-999.0000,5,  -999.00,9,   -999.0,9,  -999.00,9,-999.000,9,   -999.0,9,   -999.0,9,-999,   -999.0,9,-999.0000,9, -999,  -999.0, -999.00,-999.0000,-999.000,-999.000
     316N151_3,   A20,    28,  1,     14,     14,2,19970725,0820, 36.9213, -52.3465, 5447,19155.6,   1901.2,   3.7912,  34.9507,2,  34.9520,2,    266.3,2,  3.6363,    268.6,2,    12.35,2,    17.55,2,     0.00,2,     1.16,2,    1.526,6,    0.748,6, -999.000,5, -999.000,5,-999.0000,5,  -999.00,9,   -999.0,9,  -999.00,9,-999.000,9,   -999.0,9,   -999.0,9,-999,   -999.0,9,-999.0000,9, -999,  -999.0, -999.00,-999.0000,-999.000,-999.000
     316N151_3,   A20,    28,  1,     13,     13,2,19970725,0820, 36.9213, -52.3465, 5447,22114.1,   2196.9,   3.5863,  34.9457,2,  34.9462,2,    267.6,2,  3.4060,    270.5,2,    13.42,2,    17.48,2,     0.00,2,     1.16,2,    1.317,2,    0.656,2, -999.000,5, -999.000,5,-999.0000,5,  -999.00,9,   -999.0,9,  -999.00,9,-999.000,9,   -999.0,9,   -999.0,9,-999,   -999.0,9,-999.0000,9, -999,  -999.0, -999.00,-999.0000,-999.000,-999.000
     316N151_3,   A20,    28,  1,     12,     12,2,19970725,0820, 36.9213, -52.3465, 5447,25125.5,   2497.8,   3.3964,  34.9439,2,  34.9450,2,    268.3,2,  3.1894,    269.3,2,    14.76,2,    17.44,2,     0.00,2,     1.17,2,    1.017,2,    0.501,2, -999.000,5, -999.000,5,-999.0000,5,  -999.00,9,   -999.0,9,  -999.00,9,-999.000,9,   -999.0,9,   -999.0,9,-999,   -999.0,9,-999.0000,9, -999,  -999.0, -999.00,-999.0000,-999.000,-999.000
     316N151_3,   A20,    28,  1,     11,     11,2,19970725,0820, 36.9213, -52.3465, 5447,28137.3,   2798.7,   3.3097,  34.9620,2,  34.9627,2,    262.4,2,  3.0735,    265.6,2,    18.81,2,    18.09,2,     0.00,2,     1.21,2,    0.363,2,    0.188,2, -999.000,5, -999.000,5,-999.0000,5,  -999.00,9,   -999.0,9,  -999.00,9,-999.000,9,   -999.0,9,   -999.0,9,-999,   -999.0,9,-999.0000,9, -999,  -999.0, -999.00,-999.0000,-999.000,-999.000
     316N151_3,   A20,    28,  1,     10,     10,2,19970725,0820, 36.9213, -52.3465, 5447,31144.4,   3099.3,   3.0415,  34.9462,2,  34.9466,2,    263.7,2,  2.7792,    264.9,2,    20.83,2,    18.17,2,     0.00,2,     1.23,2,    0.313,2,    0.192,2, -999.000,5, -999.000,5,-999.0000,5,  -999.00,9,   -999.0,9,  -999.00,9,-999.000,9,   -999.0,9,   -999.0,9,-999,   -999.0,9,-999.0000,9, -999,  -999.0, -999.00,-999.0000,-999.000,-999.000
     316N151_3,   A20,    28,  1,      9,      9,2,19970725,0820, 36.9213, -52.3465, 5447,34133.5,   3398.2,   2.8165,  34.9324,2,  34.9337,2,    264.7,2,  2.5273,    266.0,2,    22.75,2,    18.21,2,     0.00,2,     1.23,2,    0.302,2,    0.151,2, -999.000,5, -999.000,5,-999.0000,5,  -999.00,9,   -999.0,9,  -999.00,9,-999.000,9,   -999.0,9,   -999.0,9,-999,   -999.0,9,-999.0000,9, -999,  -999.0, -999.00,-999.0000,-999.000,-999.000
     316N151_3,   A20,    28,  1,      8,      8,2,19970725,0820, 36.9213, -52.3465, 5447,37136.5,   3698.3,   2.5718,  34.9168,2,  34.9177,2,    267.7,2,  2.2557,    267.8,2,    24.29,2,    18.10,2,     0.00,2,     1.23,2,    0.388,6,    0.191,6, -999.000,5, -999.000,5,-999.0000,5,  -999.00,9,   -999.0,9,  -999.00,9,-999.000,9,   -999.0,9,   -999.0,9,-999,   -999.0,9,-999.0000,9, -999,  -999.0, -999.00,-999.0000,-999.000,-999.000
     316N151_3,   A20,    28,  1,      7,      7,2,19970725,0820, 36.9213, -52.3465, 5447,40153.2,   3999.9,   2.4037,  34.9044,2,  34.9043,2,    267.6,2,  2.0582,    267.9,2,    26.90,2,    18.22,2,     0.00,2,     1.24,2,    0.463,2,    0.226,2, -999.000,5, -999.000,5,-999.0000,5,  -999.00,9,   -999.0,9,  -999.00,9,-999.000,9,   -999.0,9,   -999.0,9,-999,   -999.0,9,-999.0000,9, -999,  -999.0, -999.00,-999.0000,-999.000,-999.000
     316N151_3,   A20,    28,  1,      6,      6,2,19970725,0820, 36.9213, -52.3465, 5447,43145.3,   4298.9,   2.3315,  34.8974,2,  34.8968,2,    266.0,2,  1.9533,    267.6,2,    29.30,2,    18.52,2,     0.00,2,     1.27,2,    0.472,2,    0.232,2, -999.000,5, -999.000,5,-999.0000,5,  -999.00,9,   -999.0,9,  -999.00,9,-999.000,9,   -999.0,9,   -999.0,9,-999,   -999.0,9,-999.0000,9, -999,  -999.0, -999.00,-999.0000,-999.000,-999.000
     316N151_3,   A20,    28,  1,      5,      5,2,19970725,0820, 36.9213, -52.3465, 5447,46160.3,   4600.4,   2.2871,  34.8908,2,  34.8896,2,    264.5,2,  1.8742,    266.2,2,    32.39,2,    18.95,2,     0.00,2,     1.30,2,    0.460,2,    0.216,2, -999.000,5, -999.000,5,-999.0000,5,  -999.00,9,   -999.0,9,  -999.00,9,-999.000,9,   -999.0,9,   -999.0,9,-999,   -999.0,9,-999.0000,9, -999,  -999.0, -999.00,-999.0000,-999.000,-999.000
     316N151_3,   A20,    28,  1,      4,      4,2,19970725,0820, 36.9213, -52.3465, 5447,49141.3,   4898.2,   2.2767,  34.8857,2,  34.8850,2,    262.5,2,  1.8276,    263.5,2,    35.57,2,    19.49,2,     0.00,2,     1.33,2,    0.384,2,    0.191,2, -999.000,5, -999.000,5,-999.0000,5,  -999.00,9,   -999.0,9,  -999.00,9,-999.000,9,   -999.0,9,   -999.0,9,-999,   -999.0,9,-999.0000,9, -999,  -999.0, -999.00,-999.0000,-999.000,-999.000
     316N151_3,   A20,    28,  1,      3,      3,2,19970725,0820, 36.9213, -52.3465, 5447,51608.5,   5144.9,   2.2847,  34.8825,2,  34.8817,2,    261.2,2,  1.8042,    265.3,3,    37.40,2,    19.75,2,     0.00,2,     1.36,2, -999.000,9, -999.000,9, -999.000,5, -999.000,5,-999.0000,5,  -999.00,9,   -999.0,9,  -999.00,9,-999.000,9,   -999.0,9,   -999.0,9,-999,   -999.0,9,-999.0000,9, -999,  -999.0, -999.00,-999.0000,-999.000,-999.000
     316N151_3,   A20,    28,  1,      2,      2,2,19970725,0820, 36.9213, -52.3465, 5447,54116.7,   5395.6,   2.3007,  34.8818,2,  34.8806,2,    260.6,2,  1.7873,    261.6,2,    38.46,2,    19.91,2,     0.00,2,     1.37,2,    0.317,2,    0.168,2, -999.000,5, -999.000,5,-999.0000,5,  -999.00,9,   -999.0,9,  -999.00,9,-999.000,9,   -999.0,9,   -999.0,9,-999,   -999.0,9,-999.0000,9, -999,  -999.0, -999.00,-999.0000,-999.000,-999.000
     316N151_3,   A20,    28,  1,      1,      1,2,19970725,0820, 36.9213, -52.3465, 5447,55587.9,   5542.2,   2.2276,  34.8700,2,  34.8683,2,    254.5,2,  1.6976,    256.4,2,    45.30,6,    21.03,6,     0.02,6,     1.52,6, -999.000,9,    0.089,2, -999.000,5, -999.000,5,-999.0000,5,  -999.00,9,   -999.0,9,  -999.00,9,-999.000,9,   -999.0,9,   -999.0,9,-999,   -999.0,9,-999.0000,9, -999,  -999.0, -999.00,-999.0000,-999.000,-999.000