BOTTLE,20220812CCHSIOAMB
EXPOCODE,SECT_ID,STNNBR,CASTNO,SAMPNO,BTLNBR,BTLNBR_FLAG_W,DATE,TIME,LATITUDE,LONGITUDE,DEPTH,CTDRAW,CTDPRS,CTDTMP,CTDSAL,CTDSAL_FLAG_W,SALNTY,SALNTY_FLAG_W,CTDOXY,CTDOXY_FLAG_W,THETA,OXYGEN,OXYGEN_FLAG_W,SILCAT,SILCAT_FLAG_W,NITRAT,NITRAT_FLAG_W,NITRIT,NITRIT_FLAG_W,PHSPHT,PHSPHT_FLAG_W,CFC-11,CFC-11_FLAG_W,CFC-12,CFC-12_FLAG_W,CFC113,CFC113_FLAG_W,TRITUM,TRITUM_FLAG_W,HELIUM,HELIUM_FLAG_W,DELHE3,DELHE3_FLAG_W,DELC14,DELC14_FLAG_W,DELC13,DELC13_FLAG_W,NEON,NEON_FLAG_W,TCARBN,TCARBN_FLAG_W,PCO2,PCO2_FLAG_W,PCO2_TMP,ALKALI,ALKALI_FLAG_W,PH,PH_FLAG_W,PH_TMP,C14ERR,DELHER,HELIER,NEONER,TRITER
,,,,,,,,,,,,,DBAR,ITS-90,PSS-78,,PSS-78,,UMOL/KG,,ITS-90,UMOL/KG,,UMOL/KG,,UMOL/KG,,UMOL/KG,,UMOL/KG,,PMOL/KG,,PMOL/KG,,PMOL/KG,,TU,,NMOL/KG,,PERCNT,,/MILLE,,/MILLE,,NMOL/KG,,UMOL/KG,,UATM,,DEG C,UMOL/KG,,,,DEG C,/MILLE,PERCNT,NMOL/KG,NMOL/KG,TU
     316N151_3,   A20,    36,  1,     33,     33,2,19970727,1621, 31.5322, -52.3378, 5498,  263.5,     11.8,  27.3995,  36.8399,2,  36.8443,2,    217.2,2, 27.3968,    215.8,2,     0.63,2,     0.00,2,     0.00,2,     0.01,2,    1.822,2,    1.071,2, -999.000,5, -999.000,5,-999.0000,5,  -999.00,9,   -999.0,9,  -999.00,9,-999.000,9,   2060.5,2,    305.3,2,  20,   2404.5,2,   8.0750,2,   25,  -999.0, -999.00,-999.0000,-999.000,-999.000
     316N151_3,   A20,    36,  1,     32,     32,2,19970727,1621, 31.5322, -52.3378, 5498,  605.3,     46.1,  21.9226,  36.7933,2,  36.7920,2,    243.4,2, 21.9134,    249.3,2,     0.55,2,     0.00,2,     0.00,2,     0.01,2, -999.000,9,    1.315,2, -999.000,5, -999.000,5,-999.0000,5,  -999.00,9,   -999.0,9,  -999.00,9,-999.000,9,   2057.9,2,    305.6,2,  20,   2401.0,6,   8.0720,2,   25,  -999.0, -999.00,-999.0000,-999.000,-999.000
     316N151_3,   A20,    36,  1,     31,     31,2,19970727,1621, 31.5322, -52.3378, 5498, 1105.9,     95.9,  19.1200,  36.6536,2,  36.6576,2,    222.3,2, 19.1027,    225.7,2,     0.64,2,     0.04,2,     0.00,2,     0.01,2,    2.408,6,    1.346,6, -999.000,5, -999.000,5,-999.0000,5,  -999.00,9,   -999.0,9,  -999.00,9,-999.000,9,   2076.6,2,   -999.0,9,-999,   2393.3,2,   8.0340,2,   25,  -999.0, -999.00,-999.0000,-999.000,-999.000
     316N151_3,   A20,    36,  1,     30,     30,2,19970727,1621, 31.5322, -52.3378, 5498, 1606.9,    145.6,  18.3813,  36.5679,2,  36.5691,2,    204.0,2, 18.3557,    210.9,2,     1.03,2,     2.62,2,     0.06,2,     0.12,2,    2.417,2,    1.356,2, -999.000,5, -999.000,5,-999.0000,5,  -999.00,9,   -999.0,9,  -999.00,9,-999.000,9,   2091.3,2,    371.8,2,  20,   2384.5,2,   8.0060,2,   25,  -999.0, -999.00,-999.0000,-999.000,-999.000
     316N151_3,   A20,    36,  1,     29,     29,2,19970727,1621, 31.5322, -52.3378, 5498, 2141.0,    198.7,  18.1276,  36.5376,2,  36.5377,2,    202.1,2, 18.0930,    209.3,2,     1.23,2,     3.40,2,     0.01,2,     0.17,2,    2.405,6,    1.358,6, -999.000,5, -999.000,5,-999.0000,5,  -999.00,9,   -999.0,9,  -999.00,9,-999.000,9,   2091.8,2,   -999.0,9,-999,   2385.8,2,   8.0000,2,   25,  -999.0, -999.00,-999.0000,-999.000,-999.000
     316N151_3,   A20,    36,  1,     28,     28,2,19970727,1621, 31.5322, -52.3378, 5498, 2637.1,    248.0,  17.9637,  36.5179,2,  36.5183,2,    206.9,2, 17.9207,    206.8,2,     1.33,2,     4.00,2,     0.01,2,     0.20,2,    2.390,2,    1.337,2, -999.000,5, -999.000,5,-999.0000,5,  -999.00,9,   -999.0,9,  -999.00,9,-999.000,9,   2093.5,2,    382.5,2,  20,   2382.4,2,   7.9970,2,   25,  -999.0, -999.00,-999.0000,-999.000,-999.000
     316N151_3,   A20,    36,  1,     27,     27,2,19970727,1621, 31.5322, -52.3378, 5498, 3159.8,    300.2,  17.7918,  36.4906,2,  36.4917,2,    208.7,2, 17.7400,    205.1,2,     1.52,2,     4.43,2,     0.01,2,     0.22,2,    2.362,2,    1.319,2, -999.000,5, -999.000,5,-999.0000,5,  -999.00,9,   -999.0,9,  -999.00,9,-999.000,9,   2096.1,2,   -999.0,9,-999,   2382.9,2,   7.9880,2,   25,  -999.0, -999.00,-999.0000,-999.000,-999.000
     316N151_3,   A20,    36,  1,     26,     26,2,19970727,1621, 31.5322, -52.3378, 5498, 4150.6,    399.3,  16.9784,  36.3461,2,  36.3491,2,    198.2,2, 16.9116,    196.3,2,     2.10,2,     6.52,2,     0.00,2,     0.35,2,    2.271,2,    1.245,2, -999.000,5, -999.000,5,-999.0000,5,  -999.00,9,   -999.0,9,  -999.00,9,-999.000,9,   2108.6,2,   -999.0,9,-999,   2373.8,2,   7.9580,2,   25,  -999.0, -999.00,-999.0000,-999.000,-999.000
     316N151_3,   A20,    36,  1,     25,     25,2,19970727,1621, 31.5322, -52.3378, 5498, 5163.8,    500.9,  15.6927,  36.1281,2,  36.1286,2,    193.9,2, 15.6132,    191.0,2,     3.15,2,     9.02,2,     0.00,2,     0.52,2,    2.186,2,    1.182,2, -999.000,5, -999.000,5,-999.0000,5,  -999.00,9,   -999.0,9,  -999.00,9,-999.000,9,   2120.7,2,   -999.0,9,-999,   2364.3,2,   7.9170,2,   25,  -999.0, -999.00,-999.0000,-999.000,-999.000
     316N151_3,   A20,    36,  1,     24,     24,2,19970727,1621, 31.5322, -52.3378, 5498, 6152.6,    600.1,  14.2068,  35.8824,2,  35.8920,2,    185.6,2, 14.1173,    184.7,2,     4.59,2,    12.02,2,     0.00,2,     0.72,2, -999.000,9, -999.000,9, -999.000,5, -999.000,5,-999.0000,5,  -999.00,9,   -999.0,9,  -999.00,9,-999.000,9,   2133.5,2,   -999.0,9,-999,   2350.5,2,   7.8720,2,   25,  -999.0, -999.00,-999.0000,-999.000,-999.000
     316N151_3,   A20,    36,  1,     23,     23,2,19970727,1621, 31.5322, -52.3378, 5498, 7143.4,    699.4,  12.3785,  35.6217,2,  35.6242,2,    176.7,2, 12.2831,    171.3,2,     7.16,2,    16.07,2,     0.00,2,     0.99,2,    1.641,2,    0.857,2, -999.000,5, -999.000,5,-999.0000,5,  -999.00,9,   -999.0,9,  -999.00,9,-999.000,9,   2152.4,2,   -999.0,9,-999,   2338.6,2,   7.8100,2,   25,  -999.0, -999.00,-999.0000,-999.000,-999.000
     316N151_3,   A20,    36,  1,     22,     22,2,19970727,1621, 31.5322, -52.3378, 5498, 8149.8,    800.4,  10.3667,  35.3627,2,  35.3618,2,    167.3,2, 10.2684,    162.0,3,    10.59,2,    20.17,2,     0.00,2,     1.27,2,    1.256,2,    0.637,2, -999.000,5, -999.000,5,-999.0000,5,  -999.00,9,   -999.0,9,  -999.00,9,-999.000,9,   2170.1,2,   -999.0,9,-999,   2326.4,2,   7.7480,2,   25,  -999.0, -999.00,-999.0000,-999.000,-999.000
     316N151_3,   A20,    36,  1,     21,     21,2,19970727,1621, 31.5322, -52.3378, 5498, 9164.1,    902.0,   8.8148,  35.2500,2,  35.2494,2,    171.6,2,  8.7137,    168.7,2,    12.31,2,    21.38,2,     0.00,2,     1.36,2, -999.000,9, -999.000,9, -999.000,5, -999.000,5,-999.0000,5,  -999.00,9,   -999.0,9,  -999.00,9,-999.000,9,   2178.6,2,   -999.0,9,-999,   2325.3,2,   7.7240,2,   25,  -999.0, -999.00,-999.0000,-999.000,-999.000
     316N151_3,   A20,    36,  1,     20,     20,2,19970727,1621, 31.5322, -52.3378, 5498,10152.0,   1000.9,   7.5742,  35.1933,2,  35.1922,2,    182.8,2,  7.4705,    183.1,2,    13.27,2,    21.35,2,     0.00,2,     1.38,2,    0.859,2,    0.417,2, -999.000,5, -999.000,5,-999.0000,5,  -999.00,9,   -999.0,9,  -999.00,9,-999.000,9,   2179.7,2,   -999.0,9,-999,   2324.1,2,   7.7150,2,   25,  -999.0, -999.00,-999.0000,-999.000,-999.000
     316N151_3,   A20,    36,  1,     19,     19,2,19970727,1621, 31.5322, -52.3378, 5498,11653.8,   1151.0,   6.6284,  35.2122,2,  35.2124,2,    199.2,2,  6.5160,    201.0,2,    13.94,2,    20.66,2,     0.00,2,     1.34,2,    0.535,6,    0.275,6, -999.000,5, -999.000,5,-999.0000,5,  -999.00,9,   -999.0,9,  -999.00,9,-999.000,9,   2178.2,2,   -999.0,9,-999,   2327.2,2,   7.7280,2,   25,  -999.0, -999.00,-999.0000,-999.000,-999.000
     316N151_3,   A20,    36,  1,     18,     18,2,19970727,1621, 31.5322, -52.3378, 5498,13656.7,   1351.3,   5.6156,  35.1616,2,  35.1629,2,    222.9,2,  5.4920,    223.9,2,    13.66,2,    19.47,2,     0.00,2,     1.27,2,    0.577,2,    0.282,2, -999.000,5, -999.000,5,-999.0000,5,  -999.00,9,   -999.0,9,  -999.00,9,-999.000,9,   2173.0,2,   -999.0,9,-999,   2324.9,2,   7.7370,2,   25,  -999.0, -999.00,-999.0000,-999.000,-999.000
     316N151_3,   A20,    36,  1,     17,     17,2,19970727,1621, 31.5322, -52.3378, 5498,15643.2,   1550.0,   4.9056,  35.1059,2,  35.1072,2,    237.9,2,  4.7701,    238.6,2,    14.05,2,    18.85,2,     0.00,2,     1.24,2,    0.535,2,    0.275,2, -999.000,5, -999.000,5,-999.0000,5,  -999.00,9,   -999.0,9,  -999.00,9,-999.000,9,   2167.0,2,   -999.0,9,-999,   2321.3,2,   7.7440,2,   25,  -999.0, -999.00,-999.0000,-999.000,-999.000
     316N151_3,   A20,    36,  1,     16,     16,2,19970727,1621, 31.5322, -52.3378, 5498,17658.9,   1751.5,   4.3632,  35.0589,2,  35.0619,2,    247.9,2,  4.2146,    249.1,2,    14.91,2,    18.45,2,     0.00,2,     1.22,2,    0.479,2,    0.243,2, -999.000,5, -999.000,5,-999.0000,5,  -999.00,9,   -999.0,9,  -999.00,9,-999.000,9,   2164.2,2,   -999.0,9,-999,   2319.6,2,   7.7460,2,   25,  -999.0, -999.00,-999.0000,-999.000,-999.000
     316N151_3,   A20,    36,  1,     15,     15,2,19970727,1621, 31.5322, -52.3378, 5498,19677.8,   1953.1,   3.9674,  35.0221,2,  35.0247,2,    254.2,2,  3.8048,    254.7,2,    16.05,2,    18.32,2,     0.00,2,     1.22,2,    0.408,2,    0.212,2, -999.000,5, -999.000,5,-999.0000,5,  -999.00,9,   -999.0,9,  -999.00,9,-999.000,9,   2164.6,2,   -999.0,9,-999,   2317.1,2,   7.7470,2,   25,  -999.0, -999.00,-999.0000,-999.000,-999.000
     316N151_3,   A20,    36,  1,     14,     14,2,19970727,1621, 31.5322, -52.3378, 5498,22159.6,   2201.3,   3.6273,  34.9969,2,  34.9995,2,    256.5,2,  3.4457,    256.3,2,    18.63,2,    18.46,2,     0.00,2,     1.23,2,    0.236,2,    0.126,2, -999.000,5, -999.000,5,-999.0000,5,  -999.00,9,   -999.0,9,  -999.00,9,-999.000,9,   2164.3,2,   -999.0,9,-999,   2320.6,2,   7.7510,2,   25,  -999.0, -999.00,-999.0000,-999.000,-999.000
     316N151_3,   A20,    36,  1,     13,     13,2,19970727,1621, 31.5322, -52.3378, 5498,24630.9,   2448.4,   3.3654,  34.9815,2,  34.9815,2,    255.7,2,  3.1638,    255.0,2,    22.44,2,    18.95,2,     0.00,2,     1.27,2, -999.000,9, -999.000,9, -999.000,5, -999.000,5,-999.0000,5,  -999.00,9,   -999.0,9,  -999.00,9,-999.000,9,   2168.7,2,   -999.0,9,-999,   2324.0,2,   7.7510,2,   25,  -999.0, -999.00,-999.0000,-999.000,-999.000
     316N151_3,   A20,    36,  1,     12,     12,2,19970727,1621, 31.5322, -52.3378, 5498,27124.8,   2697.6,   3.1593,  34.9648,2,  34.9679,2,    254.2,2,  2.9365,    254.8,2,    25.20,2,    19.28,2,     0.00,2,     1.29,2,    0.066,2,    0.038,2, -999.000,5, -999.000,5,-999.0000,5,  -999.00,9,   -999.0,9,  -999.00,9,-999.000,9,   2170.4,2,   -999.0,9,-999,   2325.1,2,   7.7480,2,   25,  -999.0, -999.00,-999.0000,-999.000,-999.000
     316N151_3,   A20,    36,  1,     11,     11,2,19970727,1621, 31.5322, -52.3378, 5498,30146.9,   2999.6,   2.9320,  34.9470,2,  34.9492,2,    256.1,2,  2.6828,    255.6,2,    28.06,2,    19.55,2,     0.00,2,     1.32,2,    0.039,2,    0.026,2, -999.000,5, -999.000,5,-999.0000,5,  -999.00,9,   -999.0,9,  -999.00,9,-999.000,9,   2172.8,2,   -999.0,9,-999,   2328.9,2,   7.7510,2,   25,  -999.0, -999.00,-999.0000,-999.000,-999.000
     316N151_3,   A20,    36,  1,     10,     10,2,19970727,1621, 31.5322, -52.3378, 5498,33656.8,   3350.5,   2.6906,  34.9278,2,  34.9285,2,    259.7,2,  2.4096,    259.0,2,    29.78,2,    19.48,2,     0.00,2,     1.32,2,    0.062,2,    0.028,2, -999.000,5, -999.000,5,-999.0000,5,  -999.00,9,   -999.0,9,  -999.00,9,-999.000,9,   2171.9,2,   -999.0,9,-999,   2329.8,2,   7.7550,2,   25,  -999.0, -999.00,-999.0000,-999.000,-999.000
     316N151_3,   A20,    36,  1,      9,      9,2,19970727,1621, 31.5322, -52.3378, 5498,37162.0,   3700.9,   2.4512,  34.9090,2,  34.9115,2,    261.7,2,  2.1380,    261.6,2,    31.49,2,    19.38,2,     0.00,2,     1.32,2,    0.071,2,    0.039,2, -999.000,5, -999.000,5,-999.0000,5,  -999.00,9,   -999.0,9,  -999.00,9,-999.000,9,   2172.8,2,   -999.0,9,-999,   2328.1,2,   7.7480,2,   25,  -999.0, -999.00,-999.0000,-999.000,-999.000
     316N151_3,   A20,    36,  1,      8,      8,2,19970727,1621, 31.5322, -52.3378, 5498,39654.3,   3949.9,   2.3382,  34.8992,2,  34.9001,2,    262.0,2,  2.0002,    262.4,2,    33.21,2,    19.42,2,     0.00,2,     1.32,2,    0.097,2,    0.052,2, -999.000,5, -999.000,5,-999.0000,5,  -999.00,9,   -999.0,9,  -999.00,9,-999.000,9,   2174.5,2,   -999.0,9,-999,   2329.2,2,   7.7470,2,   25,  -999.0, -999.00,-999.0000,-999.000,-999.000
     316N151_3,   A20,    36,  1,      7,      7,2,19970727,1621, 31.5322, -52.3378, 5498,42150.4,   4199.4,   2.2695,  34.8917,2,  34.8906,2,    261.5,2,  1.9048,    261.6,2,    35.59,2,    19.71,2,     0.00,2,     1.35,2,    0.111,2,    0.059,2, -999.000,5, -999.000,5,-999.0000,5,  -999.00,9,   -999.0,9,  -999.00,9,-999.000,9,   2177.2,2,   -999.0,9,-999,   2329.5,2,   7.7400,2,   25,  -999.0, -999.00,-999.0000,-999.000,-999.000
     316N151_3,   A20,    36,  1,      6,      6,2,19970727,1621, 31.5322, -52.3378, 5498,44674.1,   4451.8,   2.2047,  34.8826,2,  34.8815,2,    259.6,2,  1.8123,    259.4,2,    39.78,2,    20.31,2,     0.00,2,     1.39,2,    0.115,2,    0.064,2, -999.000,5, -999.000,5,-999.0000,5,  -999.00,9,   -999.0,9,  -999.00,9,-999.000,9,   2182.9,2,   -999.0,9,-999,   2335.4,2,   7.7430,2,   25,  -999.0, -999.00,-999.0000,-999.000,-999.000
     316N151_3,   A20,    36,  1,      5,      5,2,19970727,1621, 31.5322, -52.3378, 5498,47160.4,   4700.3,   2.1278,  34.8696,2,  34.8694,2,    256.5,2,  1.7080,    254.9,2,    45.78,2,    21.20,2,     0.00,2,     1.45,2,    0.069,2,    0.044,2, -999.000,5, -999.000,5,-999.0000,5,  -999.00,9,   -999.0,9,  -999.00,9,-999.000,9,   2190.9,2,   -999.0,9,-999,   2340.8,2,   7.7340,2,   25,  -999.0, -999.00,-999.0000,-999.000,-999.000
     316N151_3,   A20,    36,  1,      4,      4,2,19970727,1621, 31.5322, -52.3378, 5498,49646.6,   4948.8,   2.0991,  34.8619,2,  34.8639,2,    253.7,2,  1.6497,    253.0,2,    49.39,2,    21.76,2,     0.00,2,     1.49,2, -999.000,9, -999.000,9, -999.000,5, -999.000,5,-999.0000,5,  -999.00,9,   -999.0,9,  -999.00,9,-999.000,9,   2193.8,2,   -999.0,9,-999,   2343.2,2,   7.7310,2,   25,  -999.0, -999.00,-999.0000,-999.000,-999.000
     316N151_3,   A20,    36,  1,      3,      3,2,19970727,1621, 31.5322, -52.3378, 5498,52658.5,   5249.8,   2.1231,  34.8600,2,  34.8616,2,    253.2,2,  1.6349,    251.9,2,    50.43,2,    21.91,2,     0.00,2,     1.50,2,    0.030,2,    0.031,2, -999.000,5, -999.000,5,-999.0000,5,  -999.00,9,   -999.0,9,  -999.00,9,-999.000,9,   2194.5,2,   -999.0,9,-999,   2342.9,2,   7.7300,2,   25,  -999.0, -999.00,-999.0000,-999.000,-999.000
     316N151_3,   A20,    36,  1,      2,      2,2,19970727,1621, 31.5322, -52.3378, 5498,55197.0,   5503.6,   2.1524,  34.8597,2,  34.8577,2,    253.3,2,  1.6302,    252.4,2,    50.63,2,    21.95,2,     0.00,2,     1.51,2,    0.027,2,    0.031,2, -999.000,5, -999.000,5,-999.0000,5,  -999.00,9,   -999.0,9,  -999.00,9,-999.000,9,   2196.1,2,   -999.0,9,-999,   2342.9,2,   7.7300,2,   25,  -999.0, -999.00,-999.0000,-999.000,-999.000
     316N151_3,   A20,    36,  1,      1,      1,2,19970727,1621, 31.5322, -52.3378, 5498,57205.0,   5704.6,   2.1778,  34.8599,2,  34.8586,2,    251.3,2,  1.6281,    252.3,2,    50.73,6,    21.92,6,     0.00,6,     1.50,6,    0.026,2,    0.034,2, -999.000,5, -999.000,5,-999.0000,5,  -999.00,9,   -999.0,9,  -999.00,9,-999.000,9,   2196.2,2,   -999.0,9,-999,   2345.7,6,   7.7300,6,   25,  -999.0, -999.00,-999.0000,-999.000,-999.000