BOTTLE,20220812CCHSIOAMB
EXPOCODE,SECT_ID,STNNBR,CASTNO,SAMPNO,BTLNBR,BTLNBR_FLAG_W,DATE,TIME,LATITUDE,LONGITUDE,DEPTH,CTDRAW,CTDPRS,CTDTMP,CTDSAL,CTDSAL_FLAG_W,SALNTY,SALNTY_FLAG_W,CTDOXY,CTDOXY_FLAG_W,THETA,OXYGEN,OXYGEN_FLAG_W,SILCAT,SILCAT_FLAG_W,NITRAT,NITRAT_FLAG_W,NITRIT,NITRIT_FLAG_W,PHSPHT,PHSPHT_FLAG_W,CFC-11,CFC-11_FLAG_W,CFC-12,CFC-12_FLAG_W,CFC113,CFC113_FLAG_W,TRITUM,TRITUM_FLAG_W,HELIUM,HELIUM_FLAG_W,DELHE3,DELHE3_FLAG_W,DELC14,DELC14_FLAG_W,DELC13,DELC13_FLAG_W,NEON,NEON_FLAG_W,TCARBN,TCARBN_FLAG_W,PCO2,PCO2_FLAG_W,PCO2_TMP,ALKALI,ALKALI_FLAG_W,PH,PH_FLAG_W,PH_TMP,C14ERR,DELHER,HELIER,NEONER,TRITER
,,,,,,,,,,,,,DBAR,ITS-90,PSS-78,,PSS-78,,UMOL/KG,,ITS-90,UMOL/KG,,UMOL/KG,,UMOL/KG,,UMOL/KG,,UMOL/KG,,PMOL/KG,,PMOL/KG,,PMOL/KG,,TU,,NMOL/KG,,PERCNT,,/MILLE,,/MILLE,,NMOL/KG,,UMOL/KG,,UATM,,DEG C,UMOL/KG,,,,DEG C,/MILLE,PERCNT,NMOL/KG,NMOL/KG,TU
     316N151_3,   A20,    76,  1,     33,     33,2,19970807,1604,  8.4815, -52.8148, 3302,  201.8,      2.2,  29.0451,  32.9421,2,-999.0000,9,    236.3,2, 29.0446,    208.5,2,    10.03,2,     0.00,2,     0.00,2,     0.09,2,    1.649,2,    0.999,2, -999.000,5, -999.000,5,   1.7617,2,    -1.39,2,     52.6,2,     1.44,2,   6.921,2,   1852.8,2,   -999.0,9,-999,   2177.6,2,   8.1250,2,   25,     3.1,    0.15,  0.0088,   0.035,-999.000
     316N151_3,   A20,    76,  1,     32,     32,2,19970807,1604,  8.4815, -52.8148, 3302,  661.7,     49.7,  26.7175,  36.1738,2,  36.1790,2,    200.7,2, 26.7062,    201.8,2,     0.87,2,     0.02,2,     0.02,2,     0.07,2, -999.000,9, -999.000,9, -999.000,5, -999.000,5,-999.0000,5,  -999.00,9,   -999.0,9,  -999.00,9,-999.000,9,   2024.4,2,   -999.0,9,-999,   2369.7,6,   8.0880,2,   25,  -999.0, -999.00,-999.0000,-999.000,-999.000
     316N151_3,   A20,    76,  1,     31,     31,2,19970807,1604,  8.4815, -52.8148, 3302, 1156.9,    100.6,  22.0868,  36.6669,2,  36.6659,2,    159.9,2, 22.0667,    151.2,2,     2.04,2,     5.33,2,     0.05,2,     0.33,2,    1.887,2,    1.081,2, -999.000,5, -999.000,5,   1.7454,2,     0.39,2,     64.0,2,     1.11,2,   7.048,2,   -999.0,9,    420.4,2,  20,   2394.0,2,   7.9540,2,   25,     3.0,    0.15,  0.0087,   0.035,-999.000
     316N151_3,   A20,    76,  1,     30,     30,2,19970807,1604,  8.4815, -52.8148, 3302, 1616.2,    147.1,  16.2254,  36.0393,2,  36.0574,2,    119.8,2, 16.2017,    117.7,2,     5.79,2,    17.04,2,     0.01,2,     1.01,2,    1.590,2,    0.880,2, -999.000,5, -999.000,5,   1.7649,2,     2.57,2,   -999.0,9,  -999.00,9,   7.298,2,   -999.0,9,   -999.0,9,-999,   2358.4,2,   7.7990,2,   25,  -999.0,    0.15,  0.0088,   0.036,-999.000
     316N151_3,   A20,    76,  1,     29,     29,2,19970807,1604,  8.4815, -52.8148, 3302, 2153.4,    201.1,  12.2676,  35.3577,2,  35.3628,2,    123.7,2, 12.2409,    124.0,2,     9.82,2,    21.94,2,     0.00,2,     1.39,2,    1.257,2,    0.690,2, -999.000,5, -999.000,5,   1.7740,2,     2.89,2,     -4.6,2,     0.78,2,   7.474,2,   2176.8,2,    775.4,2,  20,   2326.5,2,   7.7260,2,   25,     4.0,    0.15,  0.0089,   0.037,-999.000
     316N151_3,   A20,    76,  1,     28,     28,2,19970807,1604,  8.4815, -52.8148, 3302, 2642.3,    250.0,  11.2026,  35.1921,2,  35.1892,2,    119.0,2, 11.1713,    118.9,2,    11.56,2,    24.50,2,     0.01,2,     1.57,2, -999.000,9, -999.000,9, -999.000,5, -999.000,5,   1.7782,2,     2.78,2,   -999.0,9,  -999.00,9,   7.536,2,   2186.3,2,   -999.0,9,-999,   2316.5,2,   7.6820,2,   25,  -999.0,    0.15,  0.0089,   0.038,-999.000
     316N151_3,   A20,    76,  1,     27,     27,2,19970807,1604,  8.4815, -52.8148, 3302, 3142.7,    300.3,  10.1832,  35.0568,2,  35.0561,2,    115.1,2, 10.1478,    117.7,2,    13.40,2,    26.57,2,     0.00,2,     1.70,2,    0.846,2,    0.456,2, -999.000,5, -999.000,5,   1.7732,2,     2.87,2,    -26.8,2,     0.74,2,   7.548,2,   2191.7,2,    920.5,2,  20,   2314.5,2,   7.6530,2,   25,     3.2,    0.15,  0.0089,   0.038,-999.000
     316N151_3,   A20,    76,  1,     26,     26,2,19970807,1604,  8.4815, -52.8148, 3302, 4137.0,    399.8,   8.6539,  34.8636,2,  34.8656,2,    117.2,2,  8.6110,    119.2,2,    16.48,2,    29.45,2,     0.00,2,     1.90,2,    0.559,2,    0.309,2, -999.000,5, -999.000,5,   1.7962,2,     2.73,2,   -999.0,9,     0.70,2,   7.703,2,   2201.1,2,   1018.4,2,  20,   2303.7,2,   7.6150,2,   25,  -999.0,    0.15,  0.0090,   0.039,-999.000
     316N151_3,   A20,    76,  1,     25,     25,2,19970807,1604,  8.4815, -52.8148, 3302, 5138.4,    500.0,   7.8160,  34.7659,2,  34.7653,2,    114.5,2,  7.7653,    115.9,2,    18.80,2,    31.67,2,     0.00,2,     2.04,2,    0.366,2,    0.205,2, -999.000,5, -999.000,5,   1.8126,2,     2.22,2,    -81.7,2,     0.70,2,   7.862,2,   -999.0,9,   1083.8,2,  20,   2302.6,2,   7.5870,2,   25,     3.0,    0.15,  0.0091,   0.039,-999.000
     316N151_3,   A20,    76,  1,     24,     24,2,19970807,1604,  8.4815, -52.8148, 3302, 6155.1,    601.8,   7.1432,  34.7313,2,  34.7331,2,    118.6,2,  7.0848,    116.5,2,    21.31,2,    32.72,2,     0.00,2,     2.12,2,    0.207,2,    0.123,2, -999.000,5, -999.000,5,   1.7965,2,     2.02,2,   -100.5,2,     0.69,2,   7.689,2,   2212.0,2,   -999.0,9,-999,   2300.4,2,   7.5730,2,   25,     2.6,    0.15,  0.0090,   0.038,-999.000
     316N151_3,   A20,    76,  1,     23,     23,2,19970807,1604,  8.4815, -52.8148, 3302, 7138.6,    700.2,   6.1453,  34.6453,2,  34.6460,2,    125.4,2,  6.0822,    124.1,2,    25.06,2,    33.82,2,     0.00,2,     2.22,2,    0.106,2,    0.061,2, -999.000,5, -999.000,5,   1.8063,2,     1.77,2,   -999.0,9,     0.71,2,   7.841,2,   2217.5,2,   1163.6,2,  20,   2303.9,2,   7.5590,2,   25,  -999.0,    0.15,  0.0090,   0.039,-999.000
     316N151_3,   A20,    76,  1,     22,     22,2,19970807,1604,  8.4815, -52.8148, 3302, 8143.3,    800.6,   5.6310,  34.6553,2,  34.6568,2,    129.6,2,  5.5615,    128.6,2,    27.28,2,    34.05,2,     0.00,2,     2.25,2,    0.043,2,    0.028,2, -999.000,5, -999.000,5,   1.8062,2,     1.50,2,   -999.0,9,  -999.00,9,   7.813,2,   -999.0,9,   1177.0,2,  20,   2303.4,2,   7.5620,2,   25,  -999.0,    0.15,  0.0090,   0.039,-999.000
     316N151_3,   A20,    76,  1,     21,     21,2,19970807,1604,  8.4815, -52.8148, 3302, 9136.9,    899.9,   5.2971,  34.6653,2,  34.6641,2,    139.3,2,  5.2205,    139.4,2,    28.35,2,    33.36,2,     0.00,2,     2.22,2,    0.029,2,    0.017,2, -999.000,5, -999.000,5,   1.8038,2,     1.75,2,   -114.8,2,     0.75,2,   7.783,2,   -999.0,9,   -999.0,9,-999,   2309.5,2,   7.5770,2,   25,     2.7,    0.15,  0.0090,   0.039,-999.000
     316N151_3,   A20,    76,  1,     20,     20,2,19970807,1604,  8.4815, -52.8148, 3302,10144.6,   1000.6,   5.1514,  34.7644,2,-999.0000,5,    154.3,2,  5.0664,    153.8,2,    26.68,2,    30.89,2,     0.00,2,     2.05,2,    0.042,2,    0.026,2, -999.000,5, -999.000,5,   1.8213,2,     2.02,2,   -999.0,9,  -999.00,9,   7.847,2,   2216.1,2,   -999.0,9,-999,   2310.8,2,   7.6080,2,   25,  -999.0,    0.15,  0.0091,   0.039,-999.000
     316N151_3,   A20,    76,  1,     19,     19,2,19970807,1604,  8.4815, -52.8148, 3302,11151.7,   1101.2,   5.1565,  34.9025,2,  34.9036,2,    180.3,2,  5.0619,    181.2,2,    22.55,2,    26.49,2,     0.00,2,     1.75,2, -999.000,9, -999.000,9, -999.000,5, -999.000,5,-999.0000,5,  -999.00,9,   -102.9,2,     0.85,2,-999.000,9,   -999.0,9,    927.3,2,  20,   2318.2,2,   7.6570,2,   25,     2.4, -999.00,-999.0000,-999.000,-999.000
     316N151_3,   A20,    76,  1,     18,     18,2,19970807,1604,  8.4815, -52.8148, 3302,12155.3,   1201.5,   5.1071,  34.9569,2,  34.9599,2,    196.5,2,  5.0034,    196.2,2,    20.08,2,    24.39,2,     0.00,2,     1.59,2,    0.165,2,    0.091,2, -999.000,5, -999.000,5,   1.8199,2,     3.03,2,   -999.0,9,  -999.00,9,   7.899,2,   -999.0,9,    876.4,2,  20,   2315.8,2,   7.6840,2,   25,  -999.0,    0.15,  0.0091,   0.039,-999.000
     316N151_3,   A20,    76,  1,     17,     17,2,19970807,1604,  8.4815, -52.8148, 3302,13388.0,   1324.7,   4.6804,  35.0080,2,  35.0098,2,    227.7,2,  4.5690,    230.5,2,    16.08,2,    20.55,2,     0.00,2,     1.34,2,    0.347,2,    0.184,2, -999.000,5, -999.000,5,-999.0000,5,  -999.00,9,   -104.6,2,     1.05,2,-999.000,9,   2169.9,2,   -999.0,9,-999,   2318.4,2,   7.7250,2,   25,     3.8, -999.00,-999.0000,-999.000,-999.000
     316N151_3,   A20,    76,  1,     16,     16,2,19970807,1604,  8.4815, -52.8148, 3302,14662.0,   1452.2,   4.3234,  35.0053,2,  35.0071,2,    245.0,2,  4.2039,    246.8,2,    14.66,2,    19.19,2,     0.00,3,     1.24,3,    0.455,2,    0.238,2, -999.000,5, -999.000,5,   1.8270,2,     5.10,2,    -70.1,2,     1.09,2,   8.049,2,   -999.0,9,    757.7,2,  20,   2313.8,2,   7.7370,2,   25,     2.7,    0.15,  0.0091,   0.040,-999.000
     316N151_3,   A20,    76,  1,     15,     15,2,19970807,1604,  8.4815, -52.8148, 3302,15930.9,   1579.0,   4.1040,  34.9972,2,  34.9994,2,    251.9,2,  3.9752,    252.7,2,    14.60,2,    18.80,2,     0.00,3,     1.22,3,    0.422,2,    0.224,2, -999.000,5, -999.000,5,   1.8122,2,     4.89,2,    -66.6,2,     1.12,2,   7.937,2,   2159.6,2,   -999.0,9,-999,   2313.9,2,   7.7400,2,   25,     4.5,    0.15,  0.0091,   0.040,-999.000
     316N151_3,   A20,    76,  1,     14,     14,2,19970807,1604,  8.4815, -52.8148, 3302,17174.3,   1703.3,   3.8969,  34.9881,2,  34.9898,2,    257.6,2,  3.7592,    257.5,2,    14.90,2,    18.49,2,     0.00,3,     1.20,3,    0.445,2,    0.232,2, -999.000,5,    0.382,2,   1.8461,2,     3.15,2,    -63.1,2,     1.07,2,   7.968,2,   2157.7,2,    739.6,2,  20,   2312.4,2,   7.7470,2,   25,     2.7,    0.15,  0.0092,   0.040,   0.012
     316N151_3,   A20,    76,  1,     13,     13,2,19970807,1604,  8.4815, -52.8148, 3302,18384.5,   1824.2,   3.8297,  34.9860,2,  34.9886,2,    258.7,2,  3.6815,    258.2,2,    15.40,2,    18.50,2,     0.00,3,     1.20,3,    0.360,2,    0.199,2, -999.000,5, -999.000,5,-999.0000,5,  -999.00,9,    -79.0,6,     1.08,2,-999.000,9,   2157.4,2,   -999.0,9,-999,   2314.8,2,   7.7440,2,   25,     3.2, -999.00,-999.0000,-999.000,-999.000
     316N151_3,   A20,    76,  1,     12,     12,2,19970807,1604,  8.4815, -52.8148, 3302,19659.1,   1951.6,   3.7628,  34.9836,2,  34.9854,2,    260.5,2,  3.6034,    258.7,2,    15.80,2,    18.50,2,     0.00,3,     1.20,3,    0.337,2,    0.182,2, -999.000,5, -999.000,5,-999.0000,5,  -999.00,9,   -999.0,9,  -999.00,9,-999.000,9,   2158.3,2,    732.3,2,  20,   2313.9,2,   7.7460,2,   25,  -999.0, -999.00,-999.0000,-999.000,-999.000
     316N151_3,   A20,    76,  1,     11,     11,2,19970807,1604,  8.4815, -52.8148, 3302,20907.5,   2076.4,   3.6410,  34.9785,2,  34.9823,2,    261.2,2,  3.4715,    259.6,2,    16.49,2,    18.42,2,     0.00,2,     1.24,2,    0.299,2,    0.163,2, -999.000,5,    0.230,2,   1.8601,2,     1.47,2,    -80.3,2,     1.11,2,   8.028,2,   2157.8,2,   -999.0,9,-999,   2317.1,2,   7.7470,2,   25,     3.0,    0.15,  0.0093,   0.040,   0.011
     316N151_3,   A20,    76,  1,     10,     10,2,19970807,1604,  8.4815, -52.8148, 3302,22134.2,   2199.1,   3.5432,  34.9753,2,  34.9768,2,    261.6,2,  3.3633,    259.3,2,    17.56,2,    18.47,2,     0.00,2,     1.24,2,    0.234,2,    0.128,2, -999.000,5, -999.000,5,-999.0000,5,  -999.00,9,    -74.3,2,     1.15,2,-999.000,9,   2158.6,2,    730.5,2,  20,   2315.0,2,   7.7480,2,   25,     2.7, -999.00,-999.0000,-999.000,-999.000
     316N151_3,   A20,    76,  1,      9,      9,2,19970807,1604,  8.4815, -52.8148, 3302,23365.2,   2322.2,   3.4043,  34.9685,2,  34.9691,2,    261.3,2,  3.2146,    260.9,2,    18.63,2,    18.47,2,     0.00,2,     1.24,2,    0.216,2,    0.112,2, -999.000,5, -999.000,5,   1.8602,2,     2.19,2,    -86.2,2,     1.13,2,   8.055,2,   2161.7,2,    727.1,2,  20,   2315.4,2,   7.7470,2,   25,     4.9,    0.15,  0.0093,   0.040,-999.000
     316N151_3,   A20,    76,  1,      8,      8,2,19970807,1604,  8.4815, -52.8148, 3302,24637.7,   2449.5,   3.0915,  34.9524,2,  34.9540,2,    261.6,2,  2.8948,    261.1,2,    21.62,2,    18.82,2,     0.00,2,     1.26,2,    0.165,2,    0.083,2, -999.000,5, -999.000,5,-999.0000,5,  -999.00,9,   -999.0,9,  -999.00,9,-999.000,9,   2160.1,2,   -999.0,9,-999,   2318.1,2,   7.7460,2,   25,  -999.0, -999.00,-999.0000,-999.000,-999.000
     316N151_3,   A20,    76,  1,      7,      7,2,19970807,1604,  8.4815, -52.8148, 3302,25891.9,   2574.9,   2.8894,  34.9407,2,  34.9408,2,    260.9,2,  2.6842,    261.4,2,    24.12,2,    18.94,2,     0.00,2,     1.28,2,    0.167,2,    0.086,2, -999.000,5, -999.000,5,   1.8709,2,     1.91,2,    -89.4,2,     1.15,2,   8.109,2,   2166.5,2,   -999.0,9,-999,   2322.9,2,   7.7500,2,   25,     2.5,    0.15,  0.0094,   0.041,-999.000
     316N151_3,   A20,    76,  1,      6,      6,2,19970807,1604,  8.4815, -52.8148, 3302,27126.2,   2698.3,   2.8347,  34.9375,2,  34.9378,2,    260.3,2,  2.6184,    261.0,2,    24.91,2,    18.98,2,     0.00,2,     1.28,2,    0.162,2,    0.083,2, -999.000,5,    0.143,2,   1.8690,2,     2.42,2,    -82.8,2,     1.15,2,   8.123,2,   -999.0,9,    730.9,2,  20,   2321.4,2,   7.7470,2,   25,     3.8,    0.15,  0.0093,   0.041,   0.011
     316N151_3,   A20,    76,  1,      5,      5,2,19970807,1604,  8.4815, -52.8148, 3302,28396.5,   2825.4,   2.7713,  34.9332,2,  34.9321,2,    261.7,2,  2.5434,    261.0,2,    25.69,2,    19.02,2,     0.00,2,     1.29,2,    0.175,2,    0.091,2, -999.000,5,    0.158,2,   1.8638,2,     2.29,2,    -88.2,2,     1.14,2,   8.112,2,   2164.9,2,   -999.0,9,-999,   2323.7,2,   7.7460,2,   25,     2.7,    0.15,  0.0093,   0.041,   0.011
     316N151_3,   A20,    76,  1,      4,      4,2,19970807,1604,  8.4815, -52.8148, 3302,29643.0,   2950.1,   2.6885,  34.9272,2,  34.9280,2,    261.8,2,  2.4496,    261.9,2,    26.38,2,    19.02,2,     0.00,2,     1.29,2,    0.190,2,    0.101,2, -999.000,5, -999.000,5,-999.0000,5,  -999.00,9,   -999.0,9,  -999.00,9,-999.000,9,   -999.0,9,    728.7,2,  20,   2322.6,2,   7.7490,2,   25,  -999.0, -999.00,-999.0000,-999.000,-999.000
     316N151_3,   A20,    76,  1,      3,      3,2,19970807,1604,  8.4815, -52.8148, 3302,30844.4,   3070.3,   2.5668,  34.9197,2,  34.9205,2,    262.6,2,  2.3182,    264.2,2,    27.26,2,    18.91,2,     0.00,2,     1.29,2,    0.217,2,    0.116,2, -999.000,5,    0.220,2,-999.0000,5,  -999.00,9,    -92.5,2,     1.13,2,-999.000,9,   2167.2,2,   -999.0,9,-999,   2324.1,2,   7.7470,2,   25,     2.6, -999.00,-999.0000,-999.000,   0.011
     316N151_3,   A20,    76,  1,      2,      2,2,19970807,1604,  8.4815, -52.8148, 3302,32102.1,   3196.2,   2.5025,  34.9159,2,  34.9162,2,    262.5,2,  2.2424,    264.3,2,    27.76,2,    18.87,2,     0.00,2,     1.28,2,    0.227,2,    0.118,2, -999.000,5, -999.000,5,-999.0000,5,  -999.00,9,    -85.6,2,     1.13,2,-999.000,9,   2167.4,2,   -999.0,9,-999,   2323.6,6,   7.7470,2,   25,     3.2, -999.00,-999.0000,-999.000,-999.000
     316N151_3,   A20,    76,  1,      1,      1,2,19970807,1604,  8.4815, -52.8148, 3302,33165.2,   3303.0,   2.5034,  34.9151,2,  34.9120,3,    262.5,2,  2.2321,    264.3,2,    27.91,6,    18.88,6,     0.00,6,     1.28,6,    0.229,2,    0.123,2, -999.000,5,    0.213,2,   1.8829,2,     2.05,2,    -87.2,2,     1.12,2,   8.182,2,   -999.0,9,    736.0,2,  20,   2326.9,2,   7.7490,2,   25,     4.7,    0.15,  0.0094,   0.041,   0.011