BOTTLE,20220812CCHSIOAMB
EXPOCODE,SECT_ID,STNNBR,CASTNO,SAMPNO,BTLNBR,BTLNBR_FLAG_W,DATE,TIME,LATITUDE,LONGITUDE,DEPTH,CTDRAW,CTDPRS,CTDTMP,CTDSAL,CTDSAL_FLAG_W,SALNTY,SALNTY_FLAG_W,CTDOXY,CTDOXY_FLAG_W,THETA,OXYGEN,OXYGEN_FLAG_W,SILCAT,SILCAT_FLAG_W,NITRAT,NITRAT_FLAG_W,NITRIT,NITRIT_FLAG_W,PHSPHT,PHSPHT_FLAG_W,CFC-11,CFC-11_FLAG_W,CFC-12,CFC-12_FLAG_W,CFC113,CFC113_FLAG_W,TRITUM,TRITUM_FLAG_W,HELIUM,HELIUM_FLAG_W,DELHE3,DELHE3_FLAG_W,DELC14,DELC14_FLAG_W,DELC13,DELC13_FLAG_W,NEON,NEON_FLAG_W,TCARBN,TCARBN_FLAG_W,PCO2,PCO2_FLAG_W,PCO2_TMP,ALKALI,ALKALI_FLAG_W,PH,PH_FLAG_W,PH_TMP,C14ERR,DELHER,HELIER,NEONER,TRITER
,,,,,,,,,,,,,DBAR,ITS-90,PSS-78,,PSS-78,,UMOL/KG,,ITS-90,UMOL/KG,,UMOL/KG,,UMOL/KG,,UMOL/KG,,UMOL/KG,,PMOL/KG,,PMOL/KG,,PMOL/KG,,TU,,NMOL/KG,,PERCNT,,/MILLE,,/MILLE,,NMOL/KG,,UMOL/KG,,UATM,,DEG C,UMOL/KG,,,,DEG C,/MILLE,PERCNT,NMOL/KG,NMOL/KG,TU
     316N151_3,   A20,    75,  1,     33,     33,2,19970807,1150,  8.6360, -52.7243, 4737,  168.4,      0.0,  28.4015,-999.0000,9,  32.7124,2,    212.9,2, 28.4016,    210.3,2,    10.59,2,     0.00,2,     0.00,2,     0.07,2, -999.000,9, -999.000,9, -999.000,5, -999.000,5,-999.0000,5,  -999.00,9,   -999.0,9,  -999.00,9,-999.000,9,   -999.0,9,   -999.0,9,-999,   2173.0,2,   8.1360,2,   25,  -999.0, -999.00,-999.0000,-999.000,-999.000
     316N151_3,   A20,    75,  1,     32,     32,2,19970807,1150,  8.6360, -52.7243, 4737,  434.9,     25.8,  27.5715,  35.9628,2,  36.0065,2,    215.8,2, 27.5655,    204.7,2,     2.19,2,     0.01,2,     0.00,2,     0.08,2,    1.691,2,    1.023,2, -999.000,5, -999.000,5,-999.0000,5,  -999.00,9,   -999.0,9,  -999.00,9,-999.000,9,   2015.8,2,    291.7,2,  20,   2357.8,2,   8.0920,2,   25,  -999.0, -999.00,-999.0000,-999.000,-999.000
     316N151_3,   A20,    75,  1,     31,     31,2,19970807,1150,  8.6360, -52.7243, 4737,  684.0,     50.9,  26.8242,  36.2430,2,  36.2397,2,    209.4,2, 26.8125,    203.7,2,     1.39,2,     0.04,2,     0.00,2,     0.05,2,    1.719,2,    1.033,2, -999.000,5, -999.000,5,-999.0000,5,  -999.00,9,   -999.0,9,  -999.00,9,-999.000,9,   -999.0,9,    287.6,2,  20,   -999.0,9,-999.0000,9, -999,  -999.0, -999.00,-999.0000,-999.000,-999.000
     316N151_3,   A20,    75,  1,     30,     30,2,19970807,1150,  8.6360, -52.7243, 4737,  920.4,     75.3,  25.9139,  36.3676,2,  36.3695,2,    189.1,2, 25.8971,    187.3,2,     1.79,2,     1.61,2,     0.13,2,     0.22,2, -999.000,9, -999.000,9, -999.000,5, -999.000,5,-999.0000,5,  -999.00,9,   -999.0,9,  -999.00,9,-999.000,9,   -999.0,9,    329.2,2,  20,   -999.0,9,-999.0000,9, -999,  -999.0, -999.00,-999.0000,-999.000,-999.000
     316N151_3,   A20,    75,  1,     29,     29,2,19970807,1150,  8.6360, -52.7243, 4737, 1144.2,     98.6,  22.9231,  36.6923,2,  36.6869,2,    168.2,2, 22.9028,    166.3,2,     1.82,2,     3.60,2,     0.07,2,     0.24,2,    1.848,6,    1.088,6, -999.000,5, -999.000,5,-999.0000,5,  -999.00,9,   -999.0,9,  -999.00,9,-999.000,9,   -999.0,9,    389.0,2,  20,   -999.0,9,-999.0000,9, -999,  -999.0, -999.00,-999.0000,-999.000,-999.000
     316N151_3,   A20,    75,  1,     28,     28,2,19970807,1150,  8.6360, -52.7243, 4737, 1398.9,    124.9,  20.0207,  36.7143,2,  36.7154,2,    147.7,2, 19.9973,    144.1,2,     2.61,2,     8.50,2,     0.03,2,     0.49,2, -999.000,9, -999.000,9, -999.000,5, -999.000,5,-999.0000,5,  -999.00,9,   -999.0,9,  -999.00,9,-999.000,9,   -999.0,9,   -999.0,9,-999,   -999.0,9,-999.0000,9, -999,  -999.0, -999.00,-999.0000,-999.000,-999.000
     316N151_3,   A20,    75,  1,     27,     27,2,19970807,1150,  8.6360, -52.7243, 4737, 1651.3,    150.6,  16.5524,  36.1153,2,  36.1130,2,    121.3,2, 16.5278,    120.5,2,     5.58,2,    16.28,2,     0.01,2,     0.97,2,    1.594,2,    0.897,2, -999.000,5, -999.000,5,-999.0000,5,  -999.00,9,   -999.0,9,  -999.00,9,-999.000,9,   -999.0,9,   -999.0,9,-999,   -999.0,9,-999.0000,9, -999,  -999.0, -999.00,-999.0000,-999.000,-999.000
     316N151_3,   A20,    75,  1,     26,     26,2,19970807,1150,  8.6360, -52.7243, 4737, 1831.9,    168.8,  14.3371,  35.7180,2,  35.7366,2,    116.4,2, 14.3121,    116.8,2,     7.71,2,    20.20,2,     0.01,2,     1.25,2, -999.000,9, -999.000,9, -999.000,5, -999.000,5,-999.0000,5,  -999.00,9,   -999.0,9,  -999.00,9,-999.000,9,   -999.0,9,   -999.0,9,-999,   -999.0,9,-999.0000,9, -999,  -999.0, -999.00,-999.0000,-999.000,-999.000
     316N151_3,   A20,    75,  1,     25,     25,2,19970807,1150,  8.6360, -52.7243, 4737, 2143.6,    200.1,  12.2307,  35.3705,2,  35.3833,2,    112.9,2, 12.2042,    114.6,2,    10.11,2,    23.14,2,     0.01,2,     1.47,2,    1.131,2,    0.611,2, -999.000,5, -999.000,5,-999.0000,5,  -999.00,9,   -999.0,9,  -999.00,9,-999.000,9,   -999.0,9,   -999.0,9,-999,   -999.0,9,-999.0000,9, -999,  -999.0, -999.00,-999.0000,-999.000,-999.000
     316N151_3,   A20,    75,  1,     24,     24,2,19970807,1150,  8.6360, -52.7243, 4737, 2654.2,    251.2,  10.7323,  35.1406,2,  35.1383,2,    111.9,2, 10.7016,    113.5,2,    12.23,2,    25.94,2,     0.00,2,     1.67,2,    0.913,2,    0.486,2, -999.000,5, -999.000,5,-999.0000,5,  -999.00,9,   -999.0,9,  -999.00,9,-999.000,9,   -999.0,9,   -999.0,9,-999,   -999.0,9,-999.0000,9, -999,  -999.0, -999.00,-999.0000,-999.000,-999.000
     316N151_3,   A20,    75,  1,     23,     23,2,19970807,1150,  8.6360, -52.7243, 4737, 3152.0,    301.1,   9.9155,  35.0353,2,  35.0367,2,    115.2,2,  9.8805,    117.8,2,    13.79,2,    27.06,2,     0.00,2,     1.75,2,    0.769,2,    0.421,2, -999.000,5, -999.000,5,-999.0000,5,  -999.00,9,   -999.0,9,  -999.00,9,-999.000,9,   -999.0,9,   -999.0,9,-999,   -999.0,9,-999.0000,9, -999,  -999.0, -999.00,-999.0000,-999.000,-999.000
     316N151_3,   A20,    75,  1,     22,     22,2,19970807,1150,  8.6360, -52.7243, 4737, 4169.6,    403.0,   8.7703,  34.8810,2,  34.8792,2,    113.0,2,  8.7267,    115.2,2,    16.19,2,    29.74,2,     0.00,2,     1.92,2,    0.536,2,    0.289,2, -999.000,5, -999.000,5,-999.0000,5,  -999.00,9,   -999.0,9,  -999.00,9,-999.000,9,   -999.0,9,   -999.0,9,-999,   -999.0,9,-999.0000,9, -999,  -999.0, -999.00,-999.0000,-999.000,-999.000
     316N151_3,   A20,    75,  1,     21,     21,2,19970807,1150,  8.6360, -52.7243, 4737, 5159.4,    502.0,   7.7071,  34.7731,2,  34.7727,2,    113.8,2,  7.6566,    115.1,2,    19.36,2,    32.07,2,     0.00,2,     2.09,2,    0.299,6,    0.181,6, -999.000,5, -999.000,5,-999.0000,5,  -999.00,9,   -999.0,9,  -999.00,9,-999.000,9,   -999.0,9,   -999.0,9,-999,   -999.0,9,-999.0000,9, -999,  -999.0, -999.00,-999.0000,-999.000,-999.000
     316N151_3,   A20,    75,  1,     20,     20,2,19970807,1150,  8.6360, -52.7243, 4737, 6147.5,    601.1,   6.9775,  34.7229,2,  34.7224,2,    118.8,2,  6.9199,    116.6,2,    21.95,2,    33.16,2,     0.00,2,     2.18,2,    0.167,2,    0.099,2, -999.000,5, -999.000,5,-999.0000,5,  -999.00,9,   -999.0,9,  -999.00,9,-999.000,9,   -999.0,9,   -999.0,9,-999,   -999.0,9,-999.0000,9, -999,  -999.0, -999.00,-999.0000,-999.000,-999.000
     316N151_3,   A20,    75,  1,     19,     19,2,19970807,1150,  8.6360, -52.7243, 4737, 7665.5,    752.8,   6.0255,  34.6764,2,  34.6766,2,    122.7,2,  5.9580,    122.4,2,    25.61,2,    34.09,2,     0.00,2,     2.27,2,    0.055,2,    0.041,2, -999.000,5, -999.000,5,-999.0000,5,  -999.00,9,   -999.0,9,  -999.00,9,-999.000,9,   -999.0,9,   -999.0,9,-999,   -999.0,9,-999.0000,9, -999,  -999.0, -999.00,-999.0000,-999.000,-999.000
     316N151_3,   A20,    75,  1,     18,     18,2,19970807,1150,  8.6360, -52.7243, 4737, 9156.7,    901.8,   5.2269,  34.6584,2,  34.6594,2,    140.5,2,  5.1507,    140.1,2,    28.39,2,    33.29,2,     0.00,2,     2.25,2,    0.026,2,    0.023,2, -999.000,5, -999.000,5,-999.0000,5,  -999.00,9,   -999.0,9,  -999.00,9,-999.000,9,   -999.0,9,   -999.0,9,-999,   -999.0,9,-999.0000,9, -999,  -999.0, -999.00,-999.0000,-999.000,-999.000
     316N151_3,   A20,    75,  1,     17,     17,2,19970807,1150,  8.6360, -52.7243, 4737,10647.9,   1050.8,   5.1732,  34.8219,2,  34.8229,2,    158.2,2,  5.0833,    159.5,2,    25.27,2,    29.69,2,     0.00,2,     2.00,2,    0.040,2,    0.020,2, -999.000,5, -999.000,5,-999.0000,5,  -999.00,9,   -999.0,9,  -999.00,9,-999.000,9,   -999.0,9,   -999.0,9,-999,   -999.0,9,-999.0000,9, -999,  -999.0, -999.00,-999.0000,-999.000,-999.000
     316N151_3,   A20,    75,  1,     16,     16,2,19970807,1150,  8.6360, -52.7243, 4737,12166.4,   1202.4,   5.0506,  34.9385,2,  34.9395,2,    192.1,2,  4.9473,    191.0,2,    21.02,2,    25.20,2,     0.00,2,     1.69,2,    0.107,2,    0.063,2, -999.000,5, -999.000,5,-999.0000,5,  -999.00,9,   -999.0,9,  -999.00,9,-999.000,9,   -999.0,9,   -999.0,9,-999,   -999.0,9,-999.0000,9, -999,  -999.0, -999.00,-999.0000,-999.000,-999.000
     316N151_3,   A20,    75,  1,     15,     15,2,19970807,1150,  8.6360, -52.7243, 4737,14128.4,   1398.7,   4.6319,  35.0132,2,  35.0139,2,    236.5,2,  4.5141,    237.2,2,    15.45,2,    20.10,2,     0.00,2,     1.33,2,    0.389,2,    0.207,2, -999.000,5, -999.000,5,-999.0000,5,  -999.00,9,   -999.0,9,  -999.00,9,-999.000,9,   -999.0,9,   -999.0,9,-999,   -999.0,9,-999.0000,9, -999,  -999.0, -999.00,-999.0000,-999.000,-999.000
     316N151_3,   A20,    75,  1,     14,     14,2,19970807,1150,  8.6360, -52.7243, 4737,16163.2,   1602.0,   4.1286,  34.9981,2,  34.9988,2,    253.1,2,  3.9974,    253.7,2,    14.52,2,    18.75,2,     0.00,2,     1.24,2,    0.461,2,    0.240,2, -999.000,5, -999.000,5,-999.0000,5,  -999.00,9,   -999.0,9,  -999.00,9,-999.000,9,   -999.0,9,   -999.0,9,-999,   -999.0,9,-999.0000,9, -999,  -999.0, -999.00,-999.0000,-999.000,-999.000
     316N151_3,   A20,    75,  1,     13,     13,2,19970807,1150,  8.6360, -52.7243, 4737,17660.2,   1751.6,   3.8963,  34.9879,2,  34.9884,2,    258.6,2,  3.7540,    258.2,2,    14.93,2,    18.40,2,     0.00,2,     1.22,2,    0.449,2,    0.236,2, -999.000,5, -999.000,5,-999.0000,5,  -999.00,9,   -999.0,9,  -999.00,9,-999.000,9,   -999.0,9,   -999.0,9,-999,   -999.0,9,-999.0000,9, -999,  -999.0, -999.00,-999.0000,-999.000,-999.000
     316N151_3,   A20,    75,  1,     12,     12,2,19970807,1150,  8.6360, -52.7243, 4737,19163.1,   1901.7,   3.7658,  34.9816,2,  34.9851,2,    260.3,2,  3.6111,    260.9,2,    15.34,2,    18.29,2,     0.00,2,     1.22,2,    0.452,2,    0.234,2, -999.000,5, -999.000,5,-999.0000,5,  -999.00,9,   -999.0,9,  -999.00,9,-999.000,9,   -999.0,9,   -999.0,9,-999,   -999.0,9,-999.0000,9, -999,  -999.0, -999.00,-999.0000,-999.000,-999.000
     316N151_3,   A20,    75,  1,     11,     11,2,19970807,1150,  8.6360, -52.7243, 4737,21178.0,   2103.2,   3.5810,  34.9785,2,  34.9806,2,    261.2,2,  3.4098,    259.6,2,    17.17,2,    18.52,2,     0.00,2,     1.24,2,    0.221,2,    0.119,2, -999.000,5, -999.000,5,-999.0000,5,  -999.00,9,   -999.0,9,  -999.00,9,-999.000,9,   -999.0,9,   -999.0,9,-999,   -999.0,9,-999.0000,9, -999,  -999.0, -999.00,-999.0000,-999.000,-999.000
     316N151_3,   A20,    75,  1,     10,     10,2,19970807,1150,  8.6360, -52.7243, 4737,23152.5,   2300.7,   3.2493,  34.9623,2,  34.9624,2,    261.2,2,  3.0644,    258.6,2,    20.05,2,    18.61,2,     0.00,2,     1.25,2,    0.150,2,    0.082,2, -999.000,5, -999.000,5,-999.0000,5,  -999.00,9,   -999.0,9,  -999.00,9,-999.000,9,   -999.0,9,   -999.0,9,-999,   -999.0,9,-999.0000,9, -999,  -999.0, -999.00,-999.0000,-999.000,-999.000
     316N151_3,   A20,    75,  1,      9,      9,2,19970807,1150,  8.6360, -52.7243, 4737,26175.8,   2602.9,   2.9496,  34.9439,2,  34.9452,2,    262.2,2,  2.7404,    263.3,3,    23.32,2,    18.84,2,     0.00,2,     1.27,2,    0.157,2,    0.079,2, -999.000,5, -999.000,5,-999.0000,5,  -999.00,9,   -999.0,9,  -999.00,9,-999.000,9,   -999.0,9,   -999.0,9,-999,   -999.0,9,-999.0000,9, -999,  -999.0, -999.00,-999.0000,-999.000,-999.000
     316N151_3,   A20,    75,  1,      8,      8,2,19970807,1150,  8.6360, -52.7243, 4737,29193.2,   2904.4,   2.6842,  34.9272,2,  34.9256,2,    261.2,2,  2.4500,    261.6,2,    27.06,2,    19.16,2,     0.00,2,     1.29,2,    0.158,2,    0.084,2, -999.000,5, -999.000,5,-999.0000,5,  -999.00,9,   -999.0,9,  -999.00,9,-999.000,9,   -999.0,9,   -999.0,9,-999,   -999.0,9,-999.0000,9, -999,  -999.0, -999.00,-999.0000,-999.000,-999.000
     316N151_3,   A20,    75,  1,      7,      7,2,19970807,1150,  8.6360, -52.7243, 4737,32161.0,   3201.1,   2.4753,  34.9136,2,  34.9143,2,    263.9,2,  2.2153,    264.4,2,    28.03,2,    18.84,2,     0.00,2,     1.28,2,    0.233,2,    0.118,2, -999.000,5, -999.000,5,-999.0000,5,  -999.00,9,   -999.0,9,  -999.00,9,-999.000,9,   -999.0,9,   -999.0,9,-999,   -999.0,9,-999.0000,9, -999,  -999.0, -999.00,-999.0000,-999.000,-999.000
     316N151_3,   A20,    75,  1,      6,      6,2,19970807,1150,  8.6360, -52.7243, 4737,35165.6,   3501.4,   2.3750,  34.9060,2,  34.9054,2,    265.7,2,  2.0856,    264.6,2,    29.59,2,    18.93,2,     0.00,2,     1.29,2,    0.210,2,    0.112,2, -999.000,5, -999.000,5,-999.0000,5,  -999.00,9,   -999.0,9,  -999.00,9,-999.000,9,   -999.0,9,   -999.0,9,-999,   -999.0,9,-999.0000,9, -999,  -999.0, -999.00,-999.0000,-999.000,-999.000
     316N151_3,   A20,    75,  1,      5,      5,2,19970807,1150,  8.6360, -52.7243, 4737,38162.9,   3801.1,   2.2877,  34.8990,2,  34.8983,2,    265.4,2,  1.9676,    265.0,2,    31.24,2,    19.01,2,     0.00,2,     1.30,2,    0.230,6,    0.121,6, -999.000,5, -999.000,5,-999.0000,5,  -999.00,9,   -999.0,9,  -999.00,9,-999.000,9,   -999.0,9,   -999.0,9,-999,   -999.0,9,-999.0000,9, -999,  -999.0, -999.00,-999.0000,-999.000,-999.000
     316N151_3,   A20,    75,  1,      4,      4,2,19970807,1150,  8.6360, -52.7243, 4737,41155.9,   4100.1,   2.3153,  34.8984,2,  34.8989,2,    266.6,2,  1.9608,    269.1,3,    31.07,2,    18.97,2,     0.00,2,     1.29,2,    0.230,2,    0.128,2, -999.000,5, -999.000,5,-999.0000,5,  -999.00,9,   -999.0,9,  -999.00,9,-999.000,9,   -999.0,9,   -999.0,9,-999,   -999.0,9,-999.0000,9, -999,  -999.0, -999.00,-999.0000,-999.000,-999.000
     316N151_3,   A20,    75,  1,      3,      3,2,19970807,1150,  8.6360, -52.7243, 4737,43672.1,   4351.7,   2.2877,  34.8930,2,  34.8934,2,    265.6,2,  1.9045,    268.9,3,    33.29,2,    19.28,2,     0.00,2,     1.32,2,    0.213,2,    0.119,2, -999.000,5, -999.000,5,-999.0000,5,  -999.00,9,   -999.0,9,  -999.00,9,-999.000,9,   -999.0,9,   -999.0,9,-999,   -999.0,9,-999.0000,9, -999,  -999.0, -999.00,-999.0000,-999.000,-999.000
     316N151_3,   A20,    75,  1,      2,      2,2,19970807,1150,  8.6360, -52.7243, 4737,45858.6,   4570.3,   2.2990,  34.8921,2,  34.8924,2,    265.9,2,  1.8895,    267.4,2,    33.89,2,    19.41,2,     0.00,2,     1.32,2,    0.210,2,    0.107,2, -999.000,5, -999.000,5,-999.0000,5,  -999.00,9,   -999.0,9,  -999.00,9,-999.000,9,   -999.0,9,   -999.0,9,-999,   -999.0,9,-999.0000,9, -999,  -999.0, -999.00,-999.0000,-999.000,-999.000
     316N151_3,   A20,    75,  1,      1,      1,2,19970807,1150,  8.6360, -52.7243, 4737,47872.3,   4771.6,   2.2450,  34.8837,2,  34.8828,2,    261.9,2,  1.8126,    261.1,2,    38.32,6,    20.03,6,     0.00,6,     1.37,6,    0.160,2,    0.096,2, -999.000,5, -999.000,5,-999.0000,5,  -999.00,9,   -999.0,9,  -999.00,9,-999.000,9,   -999.0,9,   -999.0,9,-999,   -999.0,9,-999.0000,9, -999,  -999.0, -999.00,-999.0000,-999.000,-999.000