BOTTLE,20220812CCHSIOAMB
EXPOCODE,SECT_ID,STNNBR,CASTNO,SAMPNO,BTLNBR,BTLNBR_FLAG_W,DATE,TIME,LATITUDE,LONGITUDE,DEPTH,CTDRAW,CTDPRS,CTDTMP,CTDSAL,CTDSAL_FLAG_W,SALNTY,SALNTY_FLAG_W,CTDOXY,CTDOXY_FLAG_W,THETA,OXYGEN,OXYGEN_FLAG_W,SILCAT,SILCAT_FLAG_W,NITRAT,NITRAT_FLAG_W,NITRIT,NITRIT_FLAG_W,PHSPHT,PHSPHT_FLAG_W,CFC-11,CFC-11_FLAG_W,CFC-12,CFC-12_FLAG_W,CFC113,CFC113_FLAG_W,TRITUM,TRITUM_FLAG_W,HELIUM,HELIUM_FLAG_W,DELHE3,DELHE3_FLAG_W,DELC14,DELC14_FLAG_W,DELC13,DELC13_FLAG_W,NEON,NEON_FLAG_W,TCARBN,TCARBN_FLAG_W,PCO2,PCO2_FLAG_W,PCO2_TMP,ALKALI,ALKALI_FLAG_W,PH,PH_FLAG_W,PH_TMP,C14ERR,DELHER,HELIER,NEONER,TRITER
,,,,,,,,,,,,,DBAR,ITS-90,PSS-78,,PSS-78,,UMOL/KG,,ITS-90,UMOL/KG,,UMOL/KG,,UMOL/KG,,UMOL/KG,,UMOL/KG,,PMOL/KG,,PMOL/KG,,PMOL/KG,,TU,,NMOL/KG,,PERCNT,,/MILLE,,/MILLE,,NMOL/KG,,UMOL/KG,,UATM,,DEG C,UMOL/KG,,,,DEG C,/MILLE,PERCNT,NMOL/KG,NMOL/KG,TU
     316N151_3,   A20,    53,  1,     33,     33,2,19970801,1654, 20.1685, -52.3388, 4881,  263.9,      9.9,  27.6336,  36.4711,2,  36.4790,2,    209.5,2, 27.6313,    206.2,2,     1.19,2,     0.03,2,     0.00,2,     0.01,2,    1.715,2,    1.000,2, -999.000,5, -999.000,5,   1.7178,2,    -2.07,2,   -999.0,9,  -999.00,9,   6.602,2,   2014.4,2,    263.9,2,  20,   2386.0,2,   8.1310,2,   25,  -999.0,    0.15,  0.0086,   0.033,-999.000
     316N151_3,   A20,    53,  1,     32,     32,2,19970801,1654, 20.1685, -52.3388, 4881,  658.3,     49.4,  27.4431,  36.5060,2,  36.5101,2,    219.1,2, 27.4315,    210.5,2,     1.23,2,     0.03,2,     0.00,2,     0.01,2,    1.685,6,    1.006,6, -999.000,5, -999.000,5,-999.0000,5,  -999.00,9,   -999.0,9,  -999.00,9,-999.000,9,   2015.1,2,    262.1,2,  20,   2387.1,6,   8.1220,2,   25,  -999.0, -999.00,-999.0000,-999.000,-999.000
     316N151_3,   A20,    53,  1,     31,     31,2,19970801,1654, 20.1685, -52.3388, 4881, 1159.5,     99.6,  24.7926,  37.0951,2,  37.0860,2,    207.6,2, 24.7710,    208.6,2,     0.88,2,     0.04,2,     0.00,2,     0.01,2,    1.930,2,    1.096,2, -999.000,5, -999.000,5,   1.7212,2,    -1.52,2,   -999.0,9,  -999.00,9,   6.706,2,   2059.0,2,    285.4,2,  20,   2420.2,2,   8.1010,2,   25,  -999.0,    0.15,  0.0086,   0.034,-999.000
     316N151_3,   A20,    53,  1,     30,     30,2,19970801,1654, 20.1685, -52.3388, 4881, 1641.2,    148.0,  23.4420,  37.2667,2,  37.2654,2,    182.2,2, 23.4111,    195.5,2,     0.72,2,     0.36,2,     0.08,2,     0.03,2,    1.987,2,    1.127,2, -999.000,5, -999.000,5,   1.7217,2,    -1.40,2,   -999.0,9,  -999.00,9,   6.739,2,   2094.5,2,    323.2,2,  20,   2432.4,2,   8.0530,2,   25,  -999.0,    0.15,  0.0086,   0.034,-999.000
     316N151_3,   A20,    53,  1,     29,     29,2,19970801,1654, 20.1685, -52.3388, 4881, 2136.8,    197.7,  21.1331,  37.0541,2,  37.0589,2,    184.0,2, 21.0947,    182.4,2,     0.96,2,     2.13,2,     0.02,2,     0.11,2,    2.140,2,    1.205,2, -999.000,5, -999.000,5,   1.7353,2,    -0.93,2,   -999.0,9,  -999.00,9,   6.815,2,   2117.3,2,    373.3,2,  20,   2417.9,2,   8.0060,2,   25,  -999.0,    0.15,  0.0087,   0.034,-999.000
     316N151_3,   A20,    53,  1,     28,     28,2,19970801,1654, 20.1685, -52.3388, 4881, 2642.9,    248.3,  18.9741,  36.7073,2,  36.7115,2,    190.0,2, 18.9294,    187.1,2,     1.28,2,     3.87,2,     0.01,2,     0.19,2,    2.286,2,    1.250,2, -999.000,5, -999.000,5,   1.7045,2,    -0.48,2,   -999.0,9,  -999.00,9,   6.745,2,   2112.7,2,    394.8,2,  20,   2396.1,2,   7.9820,2,   25,  -999.0,    0.15,  0.0085,   0.034,-999.000
     316N151_3,   A20,    53,  1,     27,     27,2,19970801,1654, 20.1685, -52.3388, 4881, 3146.8,    298.9,  18.0948,  36.5576,2,  36.5581,2,    192.0,2, 18.0426,    190.7,2,     1.60,2,     4.99,2,     0.01,2,     0.25,2,    2.300,2,    1.244,2, -999.000,5, -999.000,5,   1.7400,2,     1.61,2,   -999.0,9,  -999.00,9,   6.927,2,   2108.8,2,   -999.0,9,-999,   2388.7,2,   7.9750,2,   25,  -999.0,    0.15,  0.0087,   0.035,-999.000
     316N151_3,   A20,    53,  1,     26,     26,2,19970801,1654, 20.1685, -52.3388, 4881, 3636.5,    348.0,  16.9765,  36.3867,2,  36.3869,2,    180.0,2, 16.9184,    176.8,2,     2.51,2,     8.19,2,     0.01,2,     0.45,2,    2.184,2,    1.178,2, -999.000,5, -999.000,5,   1.7511,2,     2.76,2,   -999.0,9,  -999.00,9,   6.972,2,   2126.9,2,    456.3,2,  20,   2376.2,2,   7.9270,2,   25,  -999.0,    0.15,  0.0088,   0.035,-999.000
     316N151_3,   A20,    53,  1,     25,     25,2,19970801,1654, 20.1685, -52.3388, 4881, 4851.9,    470.0,  14.1450,  35.9173,2,  35.9184,2,    164.8,2, 14.0754,    165.5,2,     4.67,2,    13.70,2,     0.00,2,     0.80,2,    1.718,2,    1.050,2, -999.000,5, -999.000,5,   1.7665,2,     7.44,2,   -999.0,9,  -999.00,9,   7.107,2,   2146.9,2,    561.0,2,  20,   2352.5,2,   7.8490,2,   25,  -999.0,    0.15,  0.0088,   0.036,-999.000
     316N151_3,   A20,    53,  1,     24,     24,2,19970801,1654, 20.1685, -52.3388, 4881, 5629.7,    548.1,  12.7179,  35.7068,2,  35.7112,2,    142.6,2, 12.6422,    157.3,2,     6.45,2,    16.93,2,     0.00,2,     1.00,2,    1.353,2,    0.701,2, -999.000,5, -999.000,5,   1.7726,2,     9.91,2,   -999.0,9,  -999.00,9,   7.216,2,   2159.2,2,   -999.0,9,-999,   2340.3,2,   7.8010,2,   25,  -999.0,    0.15,  0.0089,   0.036,-999.000
     316N151_3,   A20,    53,  1,     23,     23,2,19970801,1654, 20.1685, -52.3388, 4881, 6634.1,    648.9,  10.8752,  35.4409,2,  35.4424,2,    131.7,2, 10.7937,    130.1,2,    10.83,2,    23.23,2,     0.00,2,     1.41,2,    0.617,2,    0.331,2, -999.000,5, -999.000,5,   1.7829,2,     8.87,2,   -999.0,9,  -999.00,9,   7.333,2,   2187.9,2,    792.5,2,  20,   2330.2,2,   7.7090,2,   25,  -999.0,    0.15,  0.0089,   0.037,-999.000
     316N151_3,   A20,    53,  1,     22,     22,2,19970801,1654, 20.1685, -52.3388, 4881, 7634.3,    749.2,   8.6644,  35.1411,2,  35.1406,2,    125.4,2,  8.5820,    123.9,2,    16.67,2,    27.95,2,     0.00,2,     1.77,2,    0.205,6,    0.121,6, -999.000,5, -999.000,5,   1.8061,2,     4.42,2,   -999.0,9,  -999.00,9,   7.464,2,   2204.8,2,    934.5,2,  20,   2318.6,2,   7.6500,2,   25,  -999.0,    0.15,  0.0090,   0.037,-999.000
     316N151_3,   A20,    53,  1,     21,     21,2,19970801,1654, 20.1685, -52.3388, 4881, 8639.2,    849.8,   7.3402,  34.9717,2,  34.9703,2,    129.0,2,  7.2549,    126.7,2,    20.29,2,    30.11,2,     0.00,2,     1.95,2,    0.089,2,    0.054,2, -999.000,5, -999.000,5,   1.8105,2,     2.73,2,   -999.0,9,  -999.00,9,   7.529,2,   2212.6,2,   -999.0,9,-999,   2316.2,2,   7.6180,2,   25,  -999.0,    0.15,  0.0091,   0.038,-999.000
     316N151_3,   A20,    53,  1,     20,     20,2,19970801,1654, 20.1685, -52.3388, 4881, 9639.8,    949.9,   6.3648,  34.8622,2,  34.8625,2,    139.7,2,  6.2757,    135.1,2,    23.04,2,    30.91,2,     0.00,2,     2.03,2,    0.041,2,    0.026,2, -999.000,5, -999.000,5,   1.8090,2,     1.96,2,   -999.0,9,  -999.00,9,   7.556,2,   2214.2,2,   1038.7,2,  20,   2311.4,2,   7.6090,2,   25,  -999.0,    0.15,  0.0090,   0.038,-999.000
     316N151_3,   A20,    53,  1,     19,     19,2,19970801,1654, 20.1685, -52.3388, 4881,10673.0,   1053.2,   5.7778,  34.8678,2,  34.8675,2,    154.5,2,  5.6828,    149.9,2,    23.46,2,    29.73,2,     0.00,2,     1.98,2,    0.031,2,    0.020,2, -999.000,5, -999.000,5,   1.8002,2,    -0.23,2,   -999.0,9,  -999.00,9,   7.527,2,   2210.0,2,   1007.6,2,  20,   2313.8,2,   7.6190,2,   25,  -999.0,    0.15,  0.0090,   0.038,-999.000
     316N151_3,   A20,    53,  1,     18,     18,2,19970801,1654, 20.1685, -52.3388, 4881,12158.8,   1201.7,   5.4041,  34.9464,2,  34.9483,2,    180.7,2,  5.2978,    178.0,2,    21.08,2,    26.22,2,     0.00,2,     1.75,2,    0.068,2,    0.040,2, -999.000,5, -999.000,5,-999.0000,5,  -999.00,9,   -999.0,9,  -999.00,9,-999.000,9,   2197.3,2,    905.6,2,  20,   2316.0,2,   7.6630,2,   25,  -999.0, -999.00,-999.0000,-999.000,-999.000
     316N151_3,   A20,    53,  1,     17,     17,2,19970801,1654, 20.1685, -52.3388, 4881,13632.6,   1349.1,   5.0466,  35.0066,2,  35.0076,2,    208.9,2,  4.9293,    210.6,2,    17.54,2,    22.55,2,     0.00,2,     1.49,2,    0.118,2,    0.064,2, -999.000,5, -999.000,5,   1.7867,2,    -1.55,2,   -999.0,9,  -999.00,9,   7.604,2,   2180.9,2,   -999.0,9,-999,   2317.8,2,   7.7060,2,   25,  -999.0,    0.15,  0.0089,   0.038,-999.000
     316N151_3,   A20,    53,  1,     16,     16,2,19970801,1654, 20.1685, -52.3388, 4881,15137.6,   1499.5,   4.6933,  35.0167,2,  35.0175,2,    229.4,2,  4.5652,    230.0,2,    15.84,2,    20.68,2,     0.00,2,     1.37,2,    0.174,6,    0.102,6, -999.000,5, -999.000,5,-999.0000,5,  -999.00,9,   -999.0,9,  -999.00,9,-999.000,9,   2171.3,2,    776.4,2,  20,   2315.3,2,   7.7260,2,   25,  -999.0, -999.00,-999.0000,-999.000,-999.000
     316N151_3,   A20,    53,  1,     15,     15,2,19970801,1654, 20.1685, -52.3388, 4881,16628.8,   1648.5,   4.2838,  35.0114,2,  35.0124,2,    243.7,2,  4.1462,    245.4,2,    15.20,2,    19.50,2,     0.00,2,     1.29,2,    0.171,2,    0.096,2, -999.000,5, -999.000,5,   1.8305,2,     2.79,2,   -999.0,9,  -999.00,9,   7.654,2,   2164.4,2,    747.7,2,  20,   2316.6,2,   7.7420,2,   25,  -999.0,    0.15,  0.0092,   0.038,-999.000
     316N151_3,   A20,    53,  1,     14,     14,2,19970801,1654, 20.1685, -52.3388, 4881,18129.8,   1798.5,   4.0002,  35.0049,2,  35.0056,2,    247.9,2,  3.8521,    249.3,2,    16.88,2,    19.47,2,     0.00,2,     1.29,2,    0.068,2,    0.041,2, -999.000,5, -999.000,5,-999.0000,5,  -999.00,9,   -999.0,9,  -999.00,9,-999.000,9,   2163.8,2,    739.4,2,  20,   2317.1,2,   7.7470,2,   25,  -999.0, -999.00,-999.0000,-999.000,-999.000
     316N151_3,   A20,    53,  1,     13,     13,2,19970801,1654, 20.1685, -52.3388, 4881,19651.4,   1950.6,   3.7781,  34.9981,2,  34.9991,2,    247.5,2,  3.6185,    245.9,2,    19.43,2,    19.73,2,     0.00,2,     1.32,2,    0.021,2,    0.016,2, -999.000,5,    0.047,2,   1.8348,2,     2.12,2,   -999.0,9,  -999.00,9,   8.064,2,   2167.4,2,    738.5,2,  20,   2321.6,2,   7.7460,2,   25,  -999.0,    0.15,  0.0092,   0.040,   0.009
     316N151_3,   A20,    53,  1,     12,     12,2,19970801,1654, 20.1685, -52.3388, 4881,21642.9,   2149.8,   3.4492,  34.9811,2,  34.9841,2,    249.8,2,  3.2755,    248.7,2,    23.34,2,    20.03,2,     0.00,2,     1.34,2,    0.014,2,    0.007,2, -999.000,5,   -0.001,2,   1.8474,2,     1.15,2,   -999.0,9,  -999.00,9,   5.780,2,   2171.5,2,   -999.0,9,-999,   2324.2,2,   7.7470,2,   25,  -999.0,    0.15,  0.0092,   0.029,   0.009
     316N151_3,   A20,    53,  1,     11,     11,2,19970801,1654, 20.1685, -52.3388, 4881,23658.3,   2351.2,   3.2034,  34.9649,2,  34.9681,2,    249.6,2,  3.0143,    249.5,2,    26.58,2,    20.24,2,     0.00,2,     1.35,2,    0.006,2,    0.005,2, -999.000,5, -999.000,5,-999.0000,5,  -999.00,9,   -999.0,9,  -999.00,9,-999.000,9,   2173.7,2,    742.5,2,  20,   2328.6,2,   7.7450,2,   25,  -999.0, -999.00,-999.0000,-999.000,-999.000
     316N151_3,   A20,    53,  1,     10,     10,2,19970801,1654, 20.1685, -52.3388, 4881,26152.5,   2600.4,   2.9855,  34.9498,2,  34.9496,2,    250.3,2,  2.7758,    250.5,2,    29.90,2,    20.43,2,     0.00,2,     1.37,2,    0.006,2,    0.006,2, -999.000,5,    0.011,2,   1.8477,2,     3.59,2,   -999.0,9,  -999.00,9,   8.111,2,   2176.5,2,   -999.0,9,-999,   2329.9,2,   7.7430,2,   25,  -999.0,    0.15,  0.0092,   0.041,   0.009
     316N151_3,   A20,    53,  1,      9,      9,2,19970801,1654, 20.1685, -52.3388, 4881,28641.5,   2849.2,   2.7969,  34.9345,2,  34.9351,2,    251.7,2,  2.5661,    251.0,2,    32.85,2,    20.61,2,     0.00,2,     1.39,2,    0.004,2,    0.007,2, -999.000,5,    0.020,2,   1.8504,2,     3.38,2,   -999.0,9,  -999.00,9,   8.143,2,   2179.2,2,    745.6,2,  20,   2333.6,2,   7.7410,2,   25,  -999.0,    0.15,  0.0093,   0.041,   0.009
     316N151_3,   A20,    53,  1,      8,      8,2,19970801,1654, 20.1685, -52.3388, 4881,31147.1,   3099.7,   2.6800,  34.9245,2,  34.9256,2,    251.6,2,  2.4258,    251.8,2,    34.92,2,    20.69,2,     0.00,2,     1.40,2,    0.008,2,    0.008,2, -999.000,5, -999.000,5,-999.0000,5,  -999.00,9,   -999.0,9,  -999.00,9,-999.000,9,   2180.9,2,   -999.0,9,-999,   2332.7,2,   7.7400,2,   25,  -999.0, -999.00,-999.0000,-999.000,-999.000
     316N151_3,   A20,    53,  1,      7,      7,2,19970801,1654, 20.1685, -52.3388, 4881,33652.6,   3350.1,   2.6020,  34.9171,2,  34.9159,2,    252.4,2,  2.3232,    252.6,2,    36.30,2,    20.84,2,     0.00,2,     1.41,2,    0.008,2,    0.009,2, -999.000,5,    0.012,2,   1.8667,2,     3.14,2,   -999.0,9,  -999.00,9,   8.195,2,   2181.7,2,    747.6,2,  20,   2334.9,2,   7.7400,2,   25,  -999.0,    0.15,  0.0093,   0.041,   0.009
     316N151_3,   A20,    53,  1,      6,      6,2,19970801,1654, 20.1685, -52.3388, 4881,36158.3,   3600.6,   2.4606,  34.9051,2,  34.9057,2,    254.2,2,  2.1582,    253.7,2,    38.76,2,    20.91,2,     0.00,2,     1.42,2,    0.011,2,    0.009,2, -999.000,5, -999.000,5,-999.0000,5,  -999.00,9,   -999.0,9,  -999.00,9,-999.000,9,   2183.5,2,   -999.0,9,-999,   2335.1,2,   7.7400,2,   25,  -999.0, -999.00,-999.0000,-999.000,-999.000
     316N151_3,   A20,    53,  1,      5,      5,2,19970801,1654, 20.1685, -52.3388, 4881,39641.1,   3948.8,   2.2896,  34.8902,2,  34.8874,2,    255.4,2,  1.9530,    254.6,2,    41.23,2,    20.98,2,     0.00,2,     1.43,2,    0.012,2,    0.011,2, -999.000,5,    0.011,2,-999.0000,5,  -999.00,9,   -999.0,9,  -999.00,9,-999.000,9,   2185.7,2,    758.2,2,  20,   2337.0,2,   7.7380,2,   25,  -999.0, -999.00,-999.0000,-999.000,   0.009
     316N151_3,   A20,    53,  1,      4,      4,2,19970801,1654, 20.1685, -52.3388, 4881,42154.6,   4200.1,   2.2061,  34.8803,2,  34.8805,2,    254.8,2,  1.8432,    254.4,2,    43.88,2,    21.32,2,     0.00,2,     1.45,2,    0.018,2,    0.016,6, -999.000,5, -999.000,5,-999.0000,5,  -999.00,9,   -999.0,9,  -999.00,9,-999.000,9,   2188.6,2,   -999.0,9,-999,   2337.6,2,   7.7370,2,   25,  -999.0, -999.00,-999.0000,-999.000,-999.000
     316N151_3,   A20,    53,  1,      3,      3,2,19970801,1654, 20.1685, -52.3388, 4881,44653.2,   4449.9,   2.1052,  34.8685,2,  34.8676,2,    254.1,2,  1.7162,    253.6,2,    48.28,2,    21.82,2,     0.00,2,     1.49,2,    0.024,2,    0.022,2, -999.000,5,    0.048,2,   1.8555,2,     3.34,2,   -999.0,9,  -999.00,9,   8.275,2,   2193.1,2,   -999.0,9,-999,   2340.0,2,   7.7300,2,   25,  -999.0,    0.15,  0.0093,   0.041,   0.009
     316N151_3,   A20,    53,  1,      2,      2,2,19970801,1654, 20.1685, -52.3388, 4881,47181.6,   4702.6,   2.0425,  34.8583,2,  34.8583,2,    251.5,2,  1.6252,    251.1,2,    52.38,2,    22.41,2,     0.00,2,     1.53,2,    0.024,2,    0.023,2, -999.000,5, -999.000,5,-999.0000,5,  -999.00,9,   -999.0,9,  -999.00,9,-999.000,9,   2198.4,2,   -999.0,9,-999,   2344.6,6,   7.7250,6,   25,  -999.0, -999.00,-999.0000,-999.000,-999.000
     316N151_3,   A20,    53,  1,      1,      1,2,19970801,1654, 20.1685, -52.3388, 4881,49406.5,   4924.4,   2.0395,  34.8558,2,  34.8542,2,    250.6,2,  1.5952,    251.2,2,    53.56,6,    22.48,6,     0.00,6,     1.54,6,    0.024,2,    0.021,2, -999.000,5,    0.039,2,   1.8782,2,     3.15,2,   -999.0,9,  -999.00,9,   8.226,2,   -999.0,9,    790.6,2,  20,   2343.7,2,   7.7230,2,   25,  -999.0,    0.15,  0.0094,   0.041,   0.009