BOTTLE,20220812CCHSIOAMB
EXPOCODE,SECT_ID,STNNBR,CASTNO,SAMPNO,BTLNBR,BTLNBR_FLAG_W,DATE,TIME,LATITUDE,LONGITUDE,DEPTH,CTDRAW,CTDPRS,CTDTMP,CTDSAL,CTDSAL_FLAG_W,SALNTY,SALNTY_FLAG_W,CTDOXY,CTDOXY_FLAG_W,THETA,OXYGEN,OXYGEN_FLAG_W,SILCAT,SILCAT_FLAG_W,NITRAT,NITRAT_FLAG_W,NITRIT,NITRIT_FLAG_W,PHSPHT,PHSPHT_FLAG_W,CFC-11,CFC-11_FLAG_W,CFC-12,CFC-12_FLAG_W,CFC113,CFC113_FLAG_W,TRITUM,TRITUM_FLAG_W,HELIUM,HELIUM_FLAG_W,DELHE3,DELHE3_FLAG_W,DELC14,DELC14_FLAG_W,DELC13,DELC13_FLAG_W,NEON,NEON_FLAG_W,TCARBN,TCARBN_FLAG_W,PCO2,PCO2_FLAG_W,PCO2_TMP,ALKALI,ALKALI_FLAG_W,PH,PH_FLAG_W,PH_TMP,C14ERR,DELHER,HELIER,NEONER,TRITER
,,,,,,,,,,,,,DBAR,ITS-90,PSS-78,,PSS-78,,UMOL/KG,,ITS-90,UMOL/KG,,UMOL/KG,,UMOL/KG,,UMOL/KG,,UMOL/KG,,PMOL/KG,,PMOL/KG,,PMOL/KG,,TU,,NMOL/KG,,PERCNT,,/MILLE,,/MILLE,,NMOL/KG,,UMOL/KG,,UATM,,DEG C,UMOL/KG,,,,DEG C,/MILLE,PERCNT,NMOL/KG,NMOL/KG,TU
     316N151_3,   A20,    19,  1,     30,     30,2,19970722,2106, 40.8738, -52.3478, 5031,  247.0,     11.3,  23.4842,  36.3927,2,  36.3935,2,    200.5,2, 23.4819,    217.1,2,     1.18,2,     0.07,2,     0.00,2,     0.02,2,    2.019,2,    1.183,2, -999.000,5,    1.034,2,   1.7318,2,    -2.14,2,   -999.0,9,  -999.00,9,   6.753,2,   2031.5,2,    294.9,2,  20,   2368.2,2,   8.0810,2,   25,  -999.0,    0.15,  0.0087,   0.034,   0.013
     316N151_3,   A20,    19,  1,     29,     29,2,19970722,2106, 40.8738, -52.3478, 5031,  639.1,     50.6,  23.0908,  36.4319,2,  36.4299,2,    200.3,2, 23.0804,    217.5,2,     1.20,2,     0.07,2,     0.00,2,     0.01,2, -999.000,9, -999.000,9, -999.000,5, -999.000,5,-999.0000,5,  -999.00,9,   -999.0,9,  -999.00,9,-999.000,9,   2032.0,2,    293.9,2,  20,   2380.0,6,   8.0860,6,   25,  -999.0, -999.00,-999.0000,-999.000,-999.000
     316N151_3,   A20,    19,  1,     28,     28,2,19970722,2106, 40.8738, -52.3478, 5031, 1152.9,    101.7,  20.2166,  36.6475,2,  36.6497,2,    188.5,2, 20.1976,    196.2,2,     1.23,2,     2.00,2,     0.04,2,     0.10,2,    2.198,2,    1.241,2, -999.000,5,    1.038,2,   1.7576,2,    -1.37,2,   -999.0,9,  -999.00,9,   6.925,2,   -999.0,9,   -999.0,9,-999,   2379.7,2,   8.0250,2,   25,  -999.0,    0.15,  0.0088,   0.035,   0.013
     316N151_3,   A20,    19,  1,     27,     27,2,19970722,2106, 40.8738, -52.3478, 5031, 1657.1,    151.8,  18.7322,  36.5964,2,  36.6004,2,    198.4,2, 18.7051,    195.5,2,     1.64,2,     3.44,2,     0.01,2,     0.16,2,    2.295,2,    1.288,2, -999.000,5,    1.095,2,   1.7437,2,     0.13,2,   -999.0,9,  -999.00,9,   6.926,2,   -999.0,9,    372.8,2,  20,   2388.7,2,   8.0000,2,   25,  -999.0,    0.15,  0.0087,   0.035,   0.013
     316N151_3,   A20,    19,  1,     26,     26,2,19970722,2106, 40.8738, -52.3478, 5031, 2159.8,    201.8,  18.2134,  36.5449,2,  36.5461,2,    196.8,2, 18.1781,    198.1,2,     1.85,2,     4.23,2,     0.01,2,     0.21,2,    2.290,2,    1.269,2, -999.000,5,    1.110,2,   1.7567,2,    -0.05,2,   -999.0,9,  -999.00,9,   7.026,2,   -999.0,9,    382.7,2,  20,   2374.7,2,   7.9890,2,   25,  -999.0,    0.15,  0.0088,   0.035,   0.013
     316N151_3,   A20,    19,  1,     25,     25,2,19970722,2106, 40.8738, -52.3478, 5031, 2859.5,    271.5,  18.0154,  36.5377,2,  36.5388,2,    206.3,2, 17.9682,    212.8,2,     1.68,2,     3.24,2,     0.01,2,     0.16,2,    2.367,2,    1.338,2, -999.000,5,    1.122,2,   1.7515,2,    -0.51,2,   -999.0,9,  -999.00,9,   6.977,2,   2085.8,2,    365.3,2,  20,   2385.3,2,   8.0070,2,   25,  -999.0,    0.15,  0.0088,   0.035,   0.013
     316N151_3,   A20,    19,  1,     24,     24,2,19970722,2106, 40.8738, -52.3478, 5031, 3664.5,    351.9,  17.6616,  36.4779,2,  36.4819,2,    207.7,2, 17.6011,    210.5,2,     1.89,2,     4.12,2,     0.01,2,     0.21,2,    2.376,2,    1.342,2, -999.000,5,    1.154,2,   1.7607,2,    -0.38,2,   -999.0,9,  -999.00,9,   7.029,2,   -999.0,9,    380.5,2,  20,   2371.3,2,   7.9910,2,   25,  -999.0,    0.15,  0.0088,   0.035,   0.013
     316N151_3,   A20,    19,  1,     23,     23,2,19970722,2106, 40.8738, -52.3478, 5031, 4686.7,    454.3,  16.4169,  36.2528,2,  36.2634,2,    211.4,2, 16.3425,    204.4,2,     2.88,2,     6.54,2,     0.01,2,     0.38,2,    2.294,2,    1.275,2, -999.000,5,    1.243,2,   1.7528,2,     0.61,2,   -999.0,9,  -999.00,9,   7.020,2,   2105.2,2,   -999.0,9,-999,   2371.2,2,   7.9570,2,   25,  -999.0,    0.15,  0.0088,   0.035,   0.015
     316N151_3,   A20,    19,  1,     22,     22,2,19970722,2106, 40.8738, -52.3478, 5031, 5646.2,    550.6,  14.2870,  35.8533,2,  35.8534,2,    174.9,2, 14.2048,    168.9,2,     5.89,2,    13.33,2,     0.00,2,     0.80,2,    1.770,2,    0.951,2, -999.000,5,    1.195,2,   1.7738,2,     4.97,2,   -999.0,9,  -999.00,9,   7.232,2,   -999.0,9,    549.1,2,  20,   2338.9,2,   7.8540,2,   25,  -999.0,    0.15,  0.0089,   0.036,   0.013
     316N151_3,   A20,    19,  1,     21,     21,2,19970722,2106, 40.8738, -52.3478, 5031, 7137.9,    700.2,  10.8884,  35.3787,2,  35.3796,2,    153.6,2, 10.8003,    149.8,2,    11.30,2,    20.79,2,     0.00,2,     1.31,2,    1.118,6,    0.606,6, -999.000,5,    0.904,2,   1.7949,2,     5.80,2,   -999.0,9,  -999.00,9,   7.246,2,   2172.1,2,    737.5,2,  20,   2327.9,2,   7.7440,2,   25,  -999.0,    0.15,  0.0090,   0.036,   0.013
     316N151_3,   A20,    19,  1,     20,     20,2,19970722,2106, 40.8738, -52.3478, 5031, 8625.1,    849.1,   7.7055,  35.0907,2,  35.0886,2,    171.9,2,  7.6178,    171.6,2,    14.51,2,    22.42,2,     0.00,2,     1.45,2,    1.082,2,    0.559,2, -999.000,5,    0.769,2,   1.8230,2,     5.87,2,   -999.0,9,  -999.00,9,   7.565,2,   2181.9,3,    831.7,2,  20,   2307.1,2,   7.6930,2,   25,  -999.0,    0.15,  0.0091,   0.038,   0.013
     316N151_3,   A20,    19,  1,     19,     19,2,19970722,2106, 40.8738, -52.3478, 5031,10612.4,   1047.8,   5.4790,  35.0400,2,  35.0419,2,    222.4,2,  5.3866,    226.0,2,    12.99,2,    19.24,2,     0.00,2,     1.26,2,    1.663,2,    0.857,2, -999.000,5,    0.926,2,   1.8382,2,     6.29,2,   -999.0,9,  -999.00,9,   7.661,2,   -999.0,9,    783.0,2,  20,   2312.1,2,   7.7230,2,   25,  -999.0,    0.15,  0.0092,   0.038,   0.013
     316N151_3,   A20,    19,  1,     18,     18,2,19970722,2106, 40.8738, -52.3478, 5031,13113.2,   1297.8,   4.8015,  35.0386,2,  35.0400,2,    247.8,2,  4.6915,    245.1,2,    12.73,2,    18.41,2,     0.00,2,     1.21,2,    1.420,2,    0.711,2, -999.000,5,    0.876,2,   1.8057,2,     2.91,2,   -999.0,9,  -999.00,9,   7.817,2,   2164.0,2,   -999.0,9,-999,   2307.1,2,   7.7340,2,   25,  -999.0,    0.15,  0.0090,   0.039,   0.013
     316N151_3,   A20,    19,  1,     17,     17,2,19970722,2106, 40.8738, -52.3478, 5031,14636.2,   1450.0,   4.3124,  34.9866,2,  34.9879,2,    256.2,2,  4.1933,    257.2,2,    12.46,2,    17.99,2,     0.00,2,     1.19,2,    1.828,4,    1.282,4, -999.000,5,    0.896,2,   1.8649,2,     7.88,2,   -999.0,9,  -999.00,9,   7.842,2,   2159.7,2,    758.0,2,  20,   2308.5,2,   7.7370,2,   25,  -999.0,    0.15,  0.0093,   0.039,   0.013
     316N151_3,   A20,    19,  1,     16,     16,2,19970722,2106, 40.8738, -52.3478, 5031,16140.1,   1600.3,   4.1768,  34.9869,2,  34.9892,2,    258.9,2,  4.0452,    260.5,2,    12.68,2,    17.87,2,     0.00,2,     1.18,2,    1.410,2,    0.705,2, -999.000,5,    0.872,2,   1.8615,2,     7.07,2,   -999.0,9,  -999.00,9,   8.015,2,   2159.1,2,    750.0,2,  20,   2303.7,2,   7.7350,2,   25,  -999.0,    0.15,  0.0093,   0.040,   0.013
     316N151_3,   A20,    19,  1,     15,     15,2,19970722,2106, 40.8738, -52.3478, 5031,17641.7,   1750.4,   4.0056,  34.9813,2,  34.9841,2,    262.7,2,  3.8621,    263.0,2,    13.18,2,    17.78,2,     0.00,2,     1.17,2,    1.266,2,    0.638,2, -999.000,5,    0.800,2,   1.8851,2,     6.95,2,   -999.0,9,  -999.00,9,   8.079,2,   2158.0,2,    746.5,2,  20,   2308.8,2,   7.7410,2,   25,  -999.0,    0.15,  0.0094,   0.040,   0.013
     316N151_3,   A20,    19,  1,     14,     14,2,19970722,2106, 40.8738, -52.3478, 5031,19630.9,   1949.2,   3.7096,  34.9516,2,  34.9539,2,    267.3,2,  3.5513,    267.9,2,    13.49,2,    17.57,2,     0.00,2,     1.16,2,    1.331,2,    0.673,2, -999.000,5, -999.000,5,   1.8447,2,     5.74,2,   -999.0,9,  -999.00,9,   7.967,2,   -999.0,9,   -999.0,9,-999,   2302.6,2,   7.7410,2,   25,  -999.0,    0.15,  0.0092,   0.040,-999.000
     316N151_3,   A20,    19,  1,     13,     13,2,19970722,2106, 40.8738, -52.3478, 5031,22647.9,   2250.8,   3.5629,  34.9532,2,  34.9533,2,    266.7,2,  3.3777,    268.4,2,    14.77,2,    17.64,2,     0.00,2,     1.17,2, -999.000,9, -999.000,9, -999.000,5,    0.600,2,   1.8533,2,     4.85,2,   -999.0,9,  -999.00,9,   7.993,2,   2157.2,2,    736.0,2,  20,   2307.5,2,   7.7470,2,   25,  -999.0,    0.15,  0.0093,   0.040,   0.014
     316N151_3,   A20,    19,  1,     12,     12,2,19970722,2106, 40.8738, -52.3478, 5031,25658.5,   2551.6,   3.3974,  34.9542,2,  34.9570,2,    266.9,2,  3.1848,    266.3,2,    16.63,2,    17.76,2,     0.00,2,     1.18,2,    0.679,2,    0.349,2, -999.000,5,    0.440,2,   1.8517,2,     4.44,2,   -999.0,9,  -999.00,9,   7.969,2,   2157.3,2,    732.8,2,  20,   2301.7,2,   7.7460,2,   25,  -999.0,    0.15,  0.0093,   0.040,   0.012
     316N151_3,   A20,    19,  1,     11,     11,2,19970722,2106, 40.8738, -52.3478, 5031,27133.1,   2699.0,   3.2973,  34.9510,2,  34.9501,2,    269.1,2,  3.0717,    266.6,2,    17.32,2,    17.76,2,     0.00,2,     1.18,2,    0.634,2,    0.323,2, -999.000,5,    0.419,2,   1.8547,2,     4.27,2,   -999.0,9,  -999.00,9,   7.987,2,   2156.7,2,    735.7,2,  20,   2308.7,2,   7.7510,2,   25,  -999.0,    0.15,  0.0093,   0.040,   0.012
     316N151_3,   A20,    19,  1,     10,     10,2,19970722,2106, 40.8738, -52.3478, 5031,29113.5,   2896.9,   3.1191,  34.9406,2,  34.9420,2,    267.9,2,  2.8766,    268.3,2,    17.93,2,    17.59,2,     0.00,2,     1.17,2,    0.734,2,    0.375,2, -999.000,5,    0.476,2,   1.8609,2,     4.47,2,   -999.0,9,  -999.00,9,   8.016,2,   2157.8,2,   -999.0,9,-999,   2302.9,2,   7.7460,2,   25,  -999.0,    0.15,  0.0093,   0.040,   0.012
     316N151_3,   A20,    19,  1,      9,      9,2,19970722,2106, 40.8738, -52.3478, 5031,31626.1,   3147.9,   2.9542,  34.9377,2,  34.9393,2,    267.9,2,  2.6888,    266.7,2,    20.64,2,    17.88,2,     0.00,2,     1.20,2, -999.000,9, -999.000,9, -999.000,5,    0.367,2,-999.0000,5,  -999.00,9,   -999.0,9,  -999.00,9,-999.000,9,   2160.4,2,    730.8,2,  20,   2311.2,2,   7.7490,2,   25,  -999.0, -999.00,-999.0000,-999.000,   0.012
     316N151_3,   A20,    19,  1,      8,      8,2,19970722,2106, 40.8738, -52.3478, 5031,33660.7,   3351.4,   2.7927,  34.9281,2,  34.9298,2,    268.6,2,  2.5092,    268.9,2,    21.15,2,    17.71,2,     0.00,2,     1.19,2,    0.548,2,    0.273,2, -999.000,5, -999.000,5,-999.0000,5,  -999.00,9,   -999.0,9,  -999.00,9,-999.000,9,   -999.0,9,    730.9,2,  20,   2305.2,2,   7.7480,2,   25,  -999.0, -999.00,-999.0000,-999.000,-999.000
     316N151_3,   A20,    19,  1,      7,      7,2,19970722,2106, 40.8738, -52.3478, 5031,35616.5,   3546.9,   2.6259,  34.9186,2,  34.9209,2,    270.2,2,  2.3251,    271.3,2,    22.14,2,    17.59,2,     0.00,2,     1.19,2,    0.620,2,    0.315,2, -999.000,5, -999.000,5,-999.0000,5,  -999.00,9,   -999.0,9,  -999.00,9,-999.000,9,   2161.6,2,   -999.0,9,-999,   2310.5,2,   7.7490,2,   25,  -999.0, -999.00,-999.0000,-999.000,-999.000
     316N151_3,   A20,    19,  1,      6,      6,2,19970722,2106, 40.8738, -52.3478, 5031,38155.9,   3800.7,   2.4964,  34.9108,2,  34.9130,2,    270.1,2,  2.1709,    270.3,2,    24.37,2,    17.83,2,     0.00,2,     1.20,2,    0.571,2,    0.287,2, -999.000,5, -999.000,5,-999.0000,5,  -999.00,9,   -999.0,9,  -999.00,9,-999.000,9,   2166.1,2,    735.4,2,  20,   2308.5,2,   7.7480,2,   25,  -999.0, -999.00,-999.0000,-999.000,-999.000
     316N151_3,   A20,    19,  1,      5,      5,2,19970722,2106, 40.8738, -52.3478, 5031,41156.0,   4100.5,   2.3718,  34.9014,2,  34.9029,2,    269.7,2,  2.0156,    269.8,2,    26.51,2,    17.99,2,     0.00,2,     1.22,2, -999.000,9, -999.000,9, -999.000,5,    0.454,2,   1.9460,2,     4.92,2,   -999.0,9,  -999.00,9,   8.300,2,   -999.0,9,   -999.0,9,-999,   2319.6,2,   7.7450,2,   25,  -999.0,    0.15,  0.0097,   0.041,   0.012
     316N151_3,   A20,    19,  1,      4,      4,2,19970722,2106, 40.8738, -52.3478, 5031,44117.9,   4396.6,   2.2976,  34.8941,2,  34.8946,2,    268.1,2,  1.9089,    268.0,2,    29.43,2,    18.44,2,     0.00,2,     1.25,2, -999.000,9, -999.000,9, -999.000,5, -999.000,5,-999.0000,5,  -999.00,9,   -999.0,9,  -999.00,9,-999.000,9,   -999.0,9,   -999.0,9,-999,   2313.2,2,   7.7430,2,   25,  -999.0, -999.00,-999.0000,-999.000,-999.000
     316N151_3,   A20,    19,  1,      3,      3,2,19970722,2106, 40.8738, -52.3478, 5031,46643.2,   4649.1,   2.2794,  34.8898,2,  34.8905,2,    266.2,2,  1.8609,    265.3,2,    31.47,2,    18.81,2,     0.00,2,     1.28,2,    0.580,2,    0.295,2, -999.000,5, -999.000,5,-999.0000,5,  -999.00,9,   -999.0,9,  -999.00,9,-999.000,9,   2173.6,2,   -999.0,9,-999,   2325.3,2,   7.7440,2,   25,  -999.0, -999.00,-999.0000,-999.000,-999.000
     316N151_3,   A20,    19,  1,      2,      2,2,19970722,2106, 40.8738, -52.3478, 5031,49134.5,   4898.1,   2.2918,  34.8882,2,  34.8894,2,    263.8,2,  1.8423,    265.7,2,    32.75,2,    18.97,2,     0.00,2,     1.29,2,    0.543,2,    0.272,2, -999.000,5, -999.000,5,-999.0000,5,  -999.00,9,   -999.0,9,  -999.00,9,-999.000,9,   2175.0,2,   -999.0,9,-999,   2318.4,6,   7.7400,6,   25,  -999.0, -999.00,-999.0000,-999.000,-999.000
     316N151_3,   A20,    19,  1,      1,      1,2,19970722,2106, 40.8738, -52.3478, 5031,50755.9,   5060.2,   2.3084,  34.8878,2,  34.8885,2,    262.1,2,  1.8379,    264.2,2,    33.41,6,    19.05,6,     0.00,6,     1.30,6,    0.526,2,    0.277,2, -999.000,5,    0.305,2,-999.0000,5,  -999.00,9,   -999.0,9,  -999.00,9,-999.000,9,   2175.0,2,    751.0,2,  20,   2325.8,2,   7.7540,3,   25,  -999.0, -999.00,-999.0000,-999.000,   0.011