BOTTLE,20220812CCHSIOAMB
EXPOCODE,SECT_ID,STNNBR,CASTNO,SAMPNO,BTLNBR,BTLNBR_FLAG_W,DATE,TIME,LATITUDE,LONGITUDE,DEPTH,CTDRAW,CTDPRS,CTDTMP,CTDSAL,CTDSAL_FLAG_W,SALNTY,SALNTY_FLAG_W,CTDOXY,CTDOXY_FLAG_W,THETA,OXYGEN,OXYGEN_FLAG_W,SILCAT,SILCAT_FLAG_W,NITRAT,NITRAT_FLAG_W,NITRIT,NITRIT_FLAG_W,PHSPHT,PHSPHT_FLAG_W,CFC-11,CFC-11_FLAG_W,CFC-12,CFC-12_FLAG_W,CFC113,CFC113_FLAG_W,TRITUM,TRITUM_FLAG_W,HELIUM,HELIUM_FLAG_W,DELHE3,DELHE3_FLAG_W,DELC14,DELC14_FLAG_W,DELC13,DELC13_FLAG_W,NEON,NEON_FLAG_W,TCARBN,TCARBN_FLAG_W,PCO2,PCO2_FLAG_W,PCO2_TMP,ALKALI,ALKALI_FLAG_W,PH,PH_FLAG_W,PH_TMP,C14ERR,DELHER,HELIER,NEONER,TRITER
,,,,,,,,,,,,,DBAR,ITS-90,PSS-78,,PSS-78,,UMOL/KG,,ITS-90,UMOL/KG,,UMOL/KG,,UMOL/KG,,UMOL/KG,,UMOL/KG,,PMOL/KG,,PMOL/KG,,PMOL/KG,,TU,,NMOL/KG,,PERCNT,,/MILLE,,/MILLE,,NMOL/KG,,UMOL/KG,,UATM,,DEG C,UMOL/KG,,,,DEG C,/MILLE,PERCNT,NMOL/KG,NMOL/KG,TU
     316N151_3,   A20,    66,  1,     33,     33,2,19970805,1045, 11.5272, -52.3357, 5005,  211.6,      3.6,  27.8802,  34.7818,2,  34.7815,2,    210.7,2, 27.8794,    211.4,2,     2.41,2,     0.02,2,     0.00,2,     0.01,2,    1.698,2,    1.013,2, -999.000,5,    0.731,2,   1.7124,2,    -1.50,2,   -999.0,9,  -999.00,9,   6.698,2,   1935.4,2,   -999.0,9,-999,   2281.5,2,   8.1200,2,   25,  -999.0,    0.15,  0.0086,   0.033,   0.011
     316N151_3,   A20,    66,  1,     32,     32,2,19970805,1045, 11.5272, -52.3357, 5005,  439.1,     26.5,  27.7834,  35.8012,2,  35.7805,2,    213.9,2, 27.7772,    212.5,2,     1.35,2,     0.01,2,     0.00,2,     0.01,2, -999.000,9, -999.000,9, -999.000,5, -999.000,5,-999.0000,5,  -999.00,9,   -999.0,9,  -999.00,9,-999.000,9,   1982.9,2,   -999.0,9,-999,   2342.1,2,   8.1210,2,   25,  -999.0, -999.00,-999.0000,-999.000,-999.000
     316N151_3,   A20,    66,  1,     31,     31,2,19970805,1045, 11.5272, -52.3357, 5005,  517.4,     34.8,  26.9527,  36.3520,2,  36.3399,2,    216.5,2, 26.9447,    217.0,2,     1.05,2,     0.01,2,     0.00,2,     0.01,2, -999.000,9, -999.000,9, -999.000,5, -999.000,5,-999.0000,5,  -999.00,9,   -999.0,9,  -999.00,9,-999.000,9,   2010.5,2,   -999.0,9,-999,   2377.0,6,   8.1210,6,   25,  -999.0, -999.00,-999.0000,-999.000,-999.000
     316N151_3,   A20,    66,  1,     30,     30,2,19970805,1045, 11.5272, -52.3357, 5005,  813.0,     65.1,  25.3701,  36.7400,2,  36.7421,2,    205.6,2, 25.3558,    216.4,2,     0.76,2,     0.01,2,     0.00,2,     0.01,2,    1.877,2,    1.093,2, -999.000,5,    0.828,2,   1.7163,2,    -1.32,2,   -999.0,9,  -999.00,9,   6.841,2,   2032.7,2,   -999.0,9,-999,   2399.7,2,   8.1110,2,   25,  -999.0,    0.15,  0.0086,   0.034,   0.012
     316N151_3,   A20,    66,  1,     29,     29,2,19970805,1045, 11.5272, -52.3357, 5005, 1160.8,    100.5,  21.2250,  36.3693,2,  36.4196,2,    147.2,2, 21.2055,    148.8,2,     2.59,2,     5.10,2,     0.11,2,     0.44,2,    1.628,2,    0.982,2, -999.000,5, -999.000,5,   1.7273,2,     0.16,2,   -999.0,9,  -999.00,9,   6.999,2,   2123.4,2,   -999.0,9,-999,   2383.0,2,   7.9380,2,   25,  -999.0,    0.15,  0.0086,   0.035,-999.000
     316N151_3,   A20,    66,  1,     28,     28,2,19970805,1045, 11.5272, -52.3357, 5005, 1418.8,    126.6,  17.4238,  36.1068,2,  36.1098,2,    116.9,2, 17.4024,    115.4,2,     5.21,2,    15.10,2,     0.02,2,     0.95,2, -999.000,9, -999.000,9, -999.000,5, -999.000,5,-999.0000,5,  -999.00,9,   -999.0,9,  -999.00,9,-999.000,9,   2167.8,2,   -999.0,9,-999,   2366.3,2,   7.8200,2,   25,  -999.0, -999.00,-999.0000,-999.000,-999.000
     316N151_3,   A20,    66,  1,     27,     27,2,19970805,1045, 11.5272, -52.3357, 5005, 1683.3,    153.3,  16.1415,  36.0205,2,  36.0200,2,    108.9,2, 16.1169,    111.9,2,     5.98,2,    17.37,2,     0.01,2,     1.07,2,    1.560,2,    0.851,2, -999.000,5,    0.908,2,   1.7540,2,     2.13,2,   -999.0,9,  -999.00,9,   7.280,2,   2178.9,2,   -999.0,9,-999,   2358.3,2,   7.7890,2,   25,  -999.0,    0.15,  0.0088,   0.036,   0.012
     316N151_3,   A20,    66,  1,     26,     26,2,19970805,1045, 11.5272, -52.3357, 5005, 1924.8,    177.8,  14.8167,  35.8325,2,  35.8383,2,    109.5,2, 14.7899,    109.3,2,     7.04,2,    19.68,2,     0.01,2,     1.20,2, -999.000,9, -999.000,9, -999.000,5,    0.737,2,   1.7571,2,     3.31,2,   -999.0,9,  -999.00,9,   7.323,2,   2181.8,2,   -999.0,9,-999,   2338.9,3,   7.7550,2,   25,  -999.0,    0.15,  0.0088,   0.037,   0.011
     316N151_3,   A20,    66,  1,     25,     25,2,19970805,1045, 11.5272, -52.3357, 5005, 2141.1,    199.6,  13.6044,  35.6416,2,  35.6407,2,    105.6,2, 13.5760,    107.5,2,     8.30,2,    21.96,2,     0.01,2,     1.34,2,    1.257,2,    0.684,2, -999.000,5,    0.498,2,   1.7795,2,     3.16,2,   -999.0,9,  -999.00,9,   7.507,2,   2186.2,2,   -999.0,9,-999,   2337.8,2,   7.7240,2,   25,  -999.0,    0.15,  0.0089,   0.038,   0.011
     316N151_3,   A20,    66,  1,     24,     24,2,19970805,1045, 11.5272, -52.3357, 5005, 2684.3,    254.1,  11.4812,  35.2829,2,  35.2819,2,    107.3,2, 11.4489,    102.6,2,    10.92,2,    26.44,2,     0.00,2,     1.62,2, -999.000,9, -999.000,9, -999.000,5,    0.359,2,   1.7752,2,     3.21,2,   -999.0,9,  -999.00,9,   7.512,2,   2200.2,2,   -999.0,9,-999,   2320.7,2,   7.6670,2,   25,  -999.0,    0.15,  0.0089,   0.038,   0.010
     316N151_3,   A20,    66,  1,     23,     23,2,19970805,1045, 11.5272, -52.3357, 5005, 3155.9,    301.3,  10.4290,  35.1174,2,  35.1219,2,    102.1,2, 10.3929,    100.8,2,    12.76,2,    28.68,2,     0.00,2,     1.76,2,    0.714,2,    0.394,2, -999.000,5,    0.278,2,   1.7734,2,     2.96,2,   -999.0,9,  -999.00,9,   7.564,2,   -999.0,9,   -999.0,9,-999,   2314.6,2,   7.6340,2,   25,  -999.0,    0.15,  0.0089,   0.038,   0.010
     316N151_3,   A20,    66,  1,     22,     22,2,19970805,1045, 11.5272, -52.3357, 5005, 3891.0,    375.0,   9.4081,  34.9749,2,  34.9749,2,    102.7,2,  9.3659,    101.6,2,    14.99,2,    31.13,2,     0.00,2,     1.90,2, -999.000,9, -999.000,9, -999.000,5, -999.000,5,-999.0000,5,  -999.00,9,   -999.0,9,  -999.00,9,-999.000,9,   2210.5,2,   -999.0,9,-999,   2308.1,2,   7.6090,2,   25,  -999.0, -999.00,-999.0000,-999.000,-999.000
     316N151_3,   A20,    66,  1,     21,     21,2,19970805,1045, 11.5272, -52.3357, 5005, 4628.6,    448.8,   8.6588,  34.8905,2,  34.8914,2,    109.3,2,  8.6105,    110.9,2,    16.64,2,    31.61,2,     0.00,2,     1.95,2,    0.446,2,    0.244,2, -999.000,5,    0.233,2,   1.7759,2,     2.91,2,   -999.0,9,  -999.00,9,   7.636,2,   2206.9,2,   -999.0,9,-999,   2307.2,2,   7.6030,2,   25,  -999.0,    0.15,  0.0089,   0.038,   0.010
     316N151_3,   A20,    66,  1,     20,     20,2,19970805,1045, 11.5272, -52.3357, 5005, 5648.9,    551.0,   7.5173,  34.7659,2,  34.7666,2,    114.6,2,  7.4624,    118.2,2,    19.83,2,    33.63,2,     0.00,2,     2.08,2,    0.271,2,    0.153,2, -999.000,5,    0.125,2,   1.7917,2,     2.31,2,   -999.0,9,  -999.00,9,   7.688,2,   2211.6,2,   -999.0,9,-999,   2302.7,2,   7.5870,2,   25,  -999.0,    0.15,  0.0090,   0.038,   0.009
     316N151_3,   A20,    66,  1,     19,     19,2,19970805,1045, 11.5272, -52.3357, 5005, 6911.3,    677.3,   6.6209,  34.6973,2,  34.6984,2,    118.7,2,  6.5575,    121.6,2,    23.13,2,    35.37,2,     0.00,2,     2.19,2,    0.134,2,    0.083,2, -999.000,5,    0.065,2,   1.7978,2,     1.87,2,   -999.0,9,  -999.00,9,   7.711,2,   2218.8,2,   -999.0,9,-999,   2303.0,2,   7.5710,2,   25,  -999.0,    0.15,  0.0090,   0.039,   0.009
     316N151_3,   A20,    66,  1,     18,     18,2,19970805,1045, 11.5272, -52.3357, 5005, 8159.0,    802.0,   5.7072,  34.6464,2,  34.6480,2,    130.1,2,  5.6370,    130.9,2,    26.81,2,    35.76,2,     0.00,2,     2.26,2,    0.053,2,    0.033,2, -999.000,5,    0.036,2,   1.8052,2,     1.78,2,   -999.0,9,  -999.00,9,   7.891,2,   2222.6,2,   -999.0,9,-999,   2303.2,2,   7.5690,2,   25,  -999.0,    0.15,  0.0090,   0.039,   0.009
     316N151_3,   A20,    66,  1,     17,     17,2,19970805,1045, 11.5272, -52.3357, 5005,10147.2,   1000.7,   5.3721,  34.7546,2,  34.7549,2,    143.2,2,  5.2855,    141.5,2,    26.81,2,    33.84,2,     0.00,2,     2.15,2,    0.019,2,    0.014,2, -999.000,5,    0.029,2,-999.0000,5,  -999.00,9,   -999.0,9,  -999.00,9,-999.000,9,   2217.1,2,   -999.0,9,-999,   2310.4,2,   7.5880,2,   25,  -999.0, -999.00,-999.0000,-999.000,   0.009
     316N151_3,   A20,    66,  1,     16,     16,2,19970805,1045, 11.5272, -52.3357, 5005,12162.5,   1202.0,   5.1655,  34.9107,2,  34.9101,2,    182.2,2,  5.0613,    180.9,2,    22.24,2,    27.46,2,     0.00,2,     1.77,2,    0.095,2,    0.055,2, -999.000,5,    0.181,2,   1.8177,2,     2.24,2,   -999.0,9,  -999.00,9,   7.901,2,   2196.4,2,   -999.0,9,-999,   2315.4,2,   7.6610,2,   25,  -999.0,    0.15,  0.0091,   0.040,   0.011
     316N151_3,   A20,    66,  1,     15,     15,2,19970805,1045, 11.5272, -52.3357, 5005,14131.3,   1398.9,   4.8414,  34.9992,2,  34.9984,2,    219.5,2,  4.7214,    218.8,2,    17.30,2,    21.98,2,     0.00,2,     1.45,2,    0.210,2,    0.118,2, -999.000,5,    0.240,2,   1.8231,2,     3.61,2,   -999.0,9,  -999.00,9,   7.941,2,   2175.8,2,   -999.0,9,-999,   2317.8,2,   7.7120,2,   25,  -999.0,    0.15,  0.0091,   0.040,   0.010
     316N151_3,   A20,    66,  1,     14,     14,2,19970805,1045, 11.5272, -52.3357, 5005,15614.9,   1547.1,   4.4263,  35.0071,2,  35.0079,2,    241.4,2,  4.2968,    240.0,2,    15.56,2,    19.54,2,     0.00,2,     1.32,2,    0.279,2,    0.149,2, -999.000,5,    0.299,2,-999.0000,5,  -999.00,9,   -999.0,9,  -999.00,9,-999.000,9,   2164.4,2,   -999.0,9,-999,   2314.6,2,   7.7330,2,   25,  -999.0, -999.00,-999.0000,-999.000,   0.010
     316N151_3,   A20,    66,  1,     13,     13,2,19970805,1045, 11.5272, -52.3357, 5005,17155.6,   1701.1,   4.1184,  34.9998,2,  35.0020,2,    253.3,2,  3.9779,    252.6,2,    14.78,2,    18.40,2,     0.00,2,     1.25,2,    0.368,2,    0.188,2, -999.000,5,    0.321,2,   1.8402,2,     4.48,2,   -999.0,9,  -999.00,9,   7.857,2,   2162.0,2,   -999.0,9,-999,   2316.5,2,   7.7470,2,   25,  -999.0,    0.15,  0.0092,   0.039,   0.010
     316N151_3,   A20,    66,  1,     12,     12,2,19970805,1045, 11.5272, -52.3357, 5005,19128.5,   1898.3,   3.7458,  34.9879,2,  34.9909,2,    257.7,2,  3.5916,    257.2,2,    16.72,2,    18.19,2,     0.00,2,     1.24,2,    0.178,2,    0.101,2, -999.000,5,    0.204,2,   1.8450,2,     2.27,2,   -999.0,9,  -999.00,9,   7.870,2,   2158.9,2,   -999.0,9,-999,   2315.1,2,   7.7500,2,   25,  -999.0,    0.15,  0.0092,   0.039,   0.009
     316N151_3,   A20,    66,  1,     11,     11,2,19970805,1045, 11.5272, -52.3357, 5005,21643.3,   2149.7,   3.3468,  34.9688,2,  34.9722,2,    260.4,2,  3.1748,    259.4,2,    19.43,2,    18.26,2,     0.00,2,     1.25,2,    0.115,2,    0.065,2, -999.000,5,    0.128,2,   1.8578,2,     2.09,2,   -999.0,9,  -999.00,9,   7.934,2,   -999.0,9,   -999.0,9,-999,   2319.6,2,   7.7520,2,   25,  -999.0,    0.15,  0.0093,   0.040,   0.009
     316N151_3,   A20,    66,  1,     10,     10,2,19970805,1045, 11.5272, -52.3357, 5005,24630.9,   2448.4,   3.0708,  34.9527,2,  34.9541,2,    261.2,2,  2.8745,    260.3,2,    22.43,2,    18.39,2,     0.00,2,     1.27,2,    0.129,2,    0.079,2, -999.000,5,    0.139,2,   1.8557,2,     1.89,2,   -999.0,9,  -999.00,9,   7.933,2,   2164.5,2,   -999.0,9,-999,   2319.6,2,   7.7480,2,   25,  -999.0,    0.15,  0.0093,   0.040,   0.009
     316N151_3,   A20,    66,  1,      9,      9,2,19970805,1045, 11.5272, -52.3357, 5005,27635.4,   2748.6,   2.8472,  34.9376,2,  34.9393,2,    261.0,2,  2.6255,    256.4,3,    28.52,2,    19.49,2,     0.00,2,     1.33,2,    0.054,2,    0.032,2, -999.000,5, -999.000,5,-999.0000,5,  -999.00,9,   -999.0,9,  -999.00,9,-999.000,9,   2172.7,2,   -999.0,9,-999,   2328.1,2,   7.7460,2,   25,  -999.0, -999.00,-999.0000,-999.000,-999.000
     316N151_3,   A20,    66,  1,      8,      8,2,19970805,1045, 11.5272, -52.3357, 5005,30627.1,   3047.7,   2.6773,  34.9251,2,  34.9244,2,    257.9,2,  2.4286,    255.1,2,    32.01,2,    19.76,2,     0.00,2,     1.36,2,    0.058,6,    0.032,6, -999.000,5,    0.092,2,   1.8654,2,     2.28,2,   -999.0,9,  -999.00,9,   7.967,2,   2176.0,2,   -999.0,9,-999,   2329.6,2,   7.7460,2,   25,  -999.0,    0.15,  0.0093,   0.040,   0.009
     316N151_3,   A20,    66,  1,      7,      7,2,19970805,1045, 11.5272, -52.3357, 5005,33620.0,   3346.8,   2.5558,  34.9164,2,  34.9169,2,    259.2,2,  2.2785,    259.6,3,    32.30,2,    19.45,2,     0.00,2,     1.33,2,    0.105,2,    0.056,2, -999.000,5, -999.000,5,-999.0000,5,  -999.00,9,   -999.0,9,  -999.00,9,-999.000,9,   -999.0,9,   -999.0,9,-999,   2332.0,2,   7.7440,2,   25,  -999.0, -999.00,-999.0000,-999.000,-999.000
     316N151_3,   A20,    66,  1,      6,      6,2,19970805,1045, 11.5272, -52.3357, 5005,36645.3,   3649.2,   2.4285,  34.9058,2,  34.9055,2,    260.8,2,  2.1216,    259.3,2,    34.33,2,    19.58,2,     0.00,2,     1.36,2,    0.094,2,    0.052,2, -999.000,5, -999.000,5,-999.0000,5,  -999.00,9,   -999.0,9,  -999.00,9,-999.000,9,   2174.6,2,   -999.0,9,-999,   2330.2,2,   7.7430,2,   25,  -999.0, -999.00,-999.0000,-999.000,-999.000
     316N151_3,   A20,    66,  1,      5,      5,2,19970805,1045, 11.5272, -52.3357, 5005,39125.2,   3897.1,   2.3491,  34.9014,2,  34.9001,2,    263.6,2,  2.0168,    263.5,2,    32.10,2,    18.77,2,     0.00,2,     1.31,2,    0.156,2,    0.084,2, -999.000,5,    0.158,2,   1.8668,2,     2.44,2,   -999.0,9,  -999.00,9,   8.013,2,   2172.4,2,   -999.0,9,-999,   2328.1,2,   7.7470,2,   25,  -999.0,    0.15,  0.0093,   0.040,   0.009
     316N151_3,   A20,    66,  1,      4,      4,2,19970805,1045, 11.5272, -52.3357, 5005,42136.8,   4198.2,   2.2826,  34.8936,2,  34.8968,2,    263.8,2,  1.9176,    263.7,2,    33.84,2,    18.89,2,     0.00,2,     1.32,2,    0.152,2,    0.086,2, -999.000,5, -999.000,5,-999.0000,5,  -999.00,9,   -999.0,9,  -999.00,9,-999.000,9,   2170.4,2,   -999.0,9,-999,   2330.8,2,   7.7460,2,   25,  -999.0, -999.00,-999.0000,-999.000,-999.000
     316N151_3,   A20,    66,  1,      3,      3,2,19970805,1045, 11.5272, -52.3357, 5005,45140.5,   4498.4,   2.2108,  34.8826,2,  34.8840,2,    260.7,2,  1.8127,    260.6,2,    39.55,2,    19.76,2,     0.00,2,     1.38,2,    0.119,2,    0.069,2, -999.000,5, -999.000,5,-999.0000,5,  -999.00,9,   -999.0,9,  -999.00,9,-999.000,9,   2181.5,2,   -999.0,9,-999,   2334.6,6,   7.7420,6,   25,  -999.0, -999.00,-999.0000,-999.000,-999.000
     316N151_3,   A20,    66,  1,      2,      2,2,19970805,1045, 11.5272, -52.3357, 5005,47640.4,   4748.4,   2.0275,  34.8579,2,  34.8583,2,    253.1,2,  1.6052,    252.4,2,    51.74,2,    22.02,2,     0.00,2,     1.52,2,    0.072,2,    0.047,2, -999.000,5,    0.085,2,   1.8860,2,     3.03,2,   -999.0,9,  -999.00,9,   8.032,2,   2196.1,2,   -999.0,9,-999,   2346.9,2,   7.7370,2,   25,  -999.0,    0.15,  0.0094,   0.040,   0.009
     316N151_3,   A20,    66,  1,      1,      1,2,19970805,1045, 11.5272, -52.3357, 5005,50719.7,   5056.2,   1.6398,  34.8082,2,  34.8078,2,    239.7,2,  1.1930,    240.8,2,    72.90,6,    25.75,6,     0.00,6,     1.74,6,    0.045,2,    0.029,2, -999.000,5, -999.000,5,-999.0000,5,  -999.00,9,   -999.0,9,  -999.00,9,-999.000,9,   2219.7,2,   -999.0,9,-999,   2357.3,2,   7.7110,2,   25,  -999.0, -999.00,-999.0000,-999.000,-999.000