BOTTLE,20220812CCHSIOAMB
EXPOCODE,SECT_ID,STNNBR,CASTNO,SAMPNO,BTLNBR,BTLNBR_FLAG_W,DATE,TIME,LATITUDE,LONGITUDE,DEPTH,CTDRAW,CTDPRS,CTDTMP,CTDSAL,CTDSAL_FLAG_W,SALNTY,SALNTY_FLAG_W,CTDOXY,CTDOXY_FLAG_W,THETA,OXYGEN,OXYGEN_FLAG_W,SILCAT,SILCAT_FLAG_W,NITRAT,NITRAT_FLAG_W,NITRIT,NITRIT_FLAG_W,PHSPHT,PHSPHT_FLAG_W,CFC-11,CFC-11_FLAG_W,CFC-12,CFC-12_FLAG_W,CFC113,CFC113_FLAG_W,TRITUM,TRITUM_FLAG_W,HELIUM,HELIUM_FLAG_W,DELHE3,DELHE3_FLAG_W,DELC14,DELC14_FLAG_W,DELC13,DELC13_FLAG_W,NEON,NEON_FLAG_W,TCARBN,TCARBN_FLAG_W,PCO2,PCO2_FLAG_W,PCO2_TMP,ALKALI,ALKALI_FLAG_W,PH,PH_FLAG_W,PH_TMP,C14ERR,DELHER,HELIER,NEONER,TRITER
,,,,,,,,,,,,,DBAR,ITS-90,PSS-78,,PSS-78,,UMOL/KG,,ITS-90,UMOL/KG,,UMOL/KG,,UMOL/KG,,UMOL/KG,,UMOL/KG,,PMOL/KG,,PMOL/KG,,PMOL/KG,,TU,,NMOL/KG,,PERCNT,,/MILLE,,/MILLE,,NMOL/KG,,UMOL/KG,,UATM,,DEG C,UMOL/KG,,,,DEG C,/MILLE,PERCNT,NMOL/KG,NMOL/KG,TU
     316N151_3,   A20,    16,  1,     23,     23,2,19970722,0503, 41.5718, -51.9582, 4560,  240.2,     11.1,  19.8962,  34.7650,2,  34.7671,2,    269.5,2, 19.8941,    237.8,2,     0.35,2,     0.04,2,     0.00,2,     0.07,2,    2.623,2,    1.459,2, -999.000,5, -999.000,5,-999.0000,5,  -999.00,9,   -999.0,9,  -999.00,9,-999.000,9,   2011.5,2,   -999.0,9,-999,   2294.2,2,   8.0260,2,   25,  -999.0, -999.00,-999.0000,-999.000,-999.000
     316N151_3,   A20,    16,  1,     22,     22,2,19970722,0503, 41.5718, -51.9582, 4560,  634.5,     50.2,  12.5320,  34.5088,2,  34.5127,2,    278.0,2, 12.5253,    247.8,2,     1.23,2,     0.79,2,     0.16,2,     0.29,2, -999.000,9, -999.000,9, -999.000,5, -999.000,5,-999.0000,5,  -999.00,9,   -999.0,9,  -999.00,9,-999.000,9,   -999.0,9,   -999.0,9,-999,   -999.0,9,-999.0000,9, -999,  -999.0, -999.00,-999.0000,-999.000,-999.000
     316N151_3,   A20,    16,  1,     21,     21,2,19970722,0503, 41.5718, -51.9582, 4560, 1137.9,    100.4,  13.6919,  35.4709,2,  35.4732,2,    210.9,2, 13.6776,    202.9,2,     3.35,2,     8.79,2,     0.03,2,     0.58,2, -999.000,9, -999.000,9, -999.000,5, -999.000,5,-999.0000,5,  -999.00,9,   -999.0,9,  -999.00,9,-999.000,9,   -999.0,9,   -999.0,9,-999,   -999.0,9,-999.0000,9, -999,  -999.0, -999.00,-999.0000,-999.000,-999.000
     316N151_3,   A20,    16,  1,     20,     20,2,19970722,0503, 41.5718, -51.9582, 4560, 1611.8,    147.6,  13.5650,  35.5641,2,  35.5558,2,    196.9,2, 13.5440,    207.6,2,     3.55,2,     9.36,2,     0.02,2,     0.60,2, -999.000,9, -999.000,9, -999.000,5, -999.000,5,-999.0000,5,  -999.00,9,   -999.0,9,  -999.00,9,-999.000,9,   -999.0,9,   -999.0,9,-999,   -999.0,9,-999.0000,9, -999,  -999.0, -999.00,-999.0000,-999.000,-999.000
     316N151_3,   A20,    16,  1,     19,     19,2,19970722,0503, 41.5718, -51.9582, 4560, 2157.4,    202.1,  12.9430,  35.4999,2,  35.4983,2,    207.3,2, 12.9151,    203.6,2,     4.42,2,    10.91,2,     0.01,2,     0.70,2, -999.000,9, -999.000,9, -999.000,5, -999.000,5,-999.0000,5,  -999.00,9,   -999.0,9,  -999.00,9,-999.000,9,   -999.0,9,   -999.0,9,-999,   -999.0,9,-999.0000,9, -999,  -999.0, -999.00,-999.0000,-999.000,-999.000
     316N151_3,   A20,    16,  1,     18,     18,2,19970722,0503, 41.5718, -51.9582, 4560, 2641.4,    250.7,  13.1326,  35.6599,2,  35.6653,2,    158.2,2, 13.0977,    158.4,2,     6.93,2,    16.31,2,     0.01,2,     0.99,2, -999.000,9, -999.000,9, -999.000,5, -999.000,5,-999.0000,5,  -999.00,9,   -999.0,9,  -999.00,9,-999.000,9,   -999.0,9,   -999.0,9,-999,   -999.0,9,-999.0000,9, -999,  -999.0, -999.00,-999.0000,-999.000,-999.000
     316N151_3,   A20,    16,  1,     17,     17,2,19970722,0503, 41.5718, -51.9582, 4560, 3147.5,    301.4,  11.6663,  35.4667,2,  35.4665,2,    146.7,2, 11.6274,    144.5,2,     9.82,2,    20.27,2,     0.01,2,     1.24,2,    1.229,2,    0.657,2, -999.000,5, -999.000,5,-999.0000,5,  -999.00,9,   -999.0,9,  -999.00,9,-999.000,9,   -999.0,9,   -999.0,9,-999,   -999.0,9,-999.0000,9, -999,  -999.0, -999.00,-999.0000,-999.000,-999.000
     316N151_3,   A20,    16,  1,     16,     16,2,19970722,0503, 41.5718, -51.9582, 4560, 4150.5,    401.8,   9.2768,  35.1708,2,  35.1804,2,    147.2,2,  9.2317,    145.3,2,    13.57,2,    23.65,2,     0.00,2,     1.49,2,    0.976,2,    0.514,2, -999.000,5, -999.000,5,-999.0000,5,  -999.00,9,   -999.0,9,  -999.00,9,-999.000,9,   -999.0,9,   -999.0,9,-999,   -999.0,9,-999.0000,9, -999,  -999.0, -999.00,-999.0000,-999.000,-999.000
     316N151_3,   A20,    16,  1,     15,     15,2,19970722,0503, 41.5718, -51.9582, 4560, 5158.7,    502.8,   7.9778,  35.1208,2,  35.1209,2,    168.7,2,  7.9259,    164.0,2,    14.25,2,    23.42,2,     0.00,2,     1.49,2,    0.847,6,    0.434,6, -999.000,5, -999.000,5,-999.0000,5,  -999.00,9,   -999.0,9,  -999.00,9,-999.000,9,   -999.0,9,   -999.0,9,-999,   -999.0,9,-999.0000,9, -999,  -999.0, -999.00,-999.0000,-999.000,-999.000
     316N151_3,   A20,    16,  1,     14,     14,2,19970722,0503, 41.5718, -51.9582, 4560, 6168.7,    603.8,   6.4573,  35.0307,2,  35.0271,2,    194.9,2,  6.4015,    194.2,2,    13.69,2,    21.51,2,     0.00,2,     1.39,2,    1.373,2,    0.705,2, -999.000,5, -999.000,5,-999.0000,5,  -999.00,9,   -999.0,9,  -999.00,9,-999.000,9,   -999.0,9,   -999.0,9,-999,   -999.0,9,-999.0000,9, -999,  -999.0, -999.00,-999.0000,-999.000,-999.000
     316N151_3,   A20,    16,  1,     13,     13,2,19970722,0503, 41.5718, -51.9582, 4560, 7658.6,    752.7,   5.3258,  35.0139,2,  35.0133,2,    220.6,2,  5.2619,    227.9,2,    12.35,2,    19.44,2,     0.00,2,     1.26,2,    1.801,2,    0.923,2, -999.000,5, -999.000,5,-999.0000,5,  -999.00,9,   -999.0,9,  -999.00,9,-999.000,9,   -999.0,9,   -999.0,9,-999,   -999.0,9,-999.0000,9, -999,  -999.0, -999.00,-999.0000,-999.000,-999.000
     316N151_3,   A20,    16,  1,     12,     12,2,19970722,0503, 41.5718, -51.9582, 4560, 9180.7,    904.9,   5.0312,  35.0562,2,  35.0550,2,    238.5,2,  4.9554,    237.4,2,    12.27,2,    18.97,2,     0.00,2,     1.23,2,    1.413,2,    0.721,2, -999.000,5, -999.000,5,-999.0000,5,  -999.00,9,   -999.0,9,  -999.00,9,-999.000,9,   -999.0,9,   -999.0,9,-999,   -999.0,9,-999.0000,9, -999,  -999.0, -999.00,-999.0000,-999.000,-999.000
     316N151_3,   A20,    16,  1,     11,     11,2,19970722,0503, 41.5718, -51.9582, 4560,10655.6,   1052.3,   4.7567,  35.0505,2,  35.0479,2,    246.8,2,  4.6696,    247.3,2,    12.18,2,    18.45,2,     0.00,2,     1.20,2,    1.364,6,    0.665,6, -999.000,5, -999.000,5,-999.0000,5,  -999.00,9,   -999.0,9,  -999.00,9,-999.000,9,   -999.0,9,   -999.0,9,-999,   -999.0,9,-999.0000,9, -999,  -999.0, -999.00,-999.0000,-999.000,-999.000
     316N151_3,   A20,    16,  1,     10,     10,2,19970722,0503, 41.5718, -51.9582, 4560,12170.6,   1203.8,   4.3754,  35.0111,2,  35.0120,2,    254.6,2,  4.2781,    255.0,2,    12.10,2,    18.16,2,     0.00,2,     1.18,2,    1.425,2,    0.691,2, -999.000,5, -999.000,5,-999.0000,5,  -999.00,9,   -999.0,9,  -999.00,9,-999.000,9,   -999.0,9,   -999.0,9,-999,   -999.0,9,-999.0000,9, -999,  -999.0, -999.00,-999.0000,-999.000,-999.000
     316N151_3,   A20,    16,  1,      9,      9,2,19970722,0503, 41.5718, -51.9582, 4560,14185.8,   1405.1,   3.9333,  34.9636,2,  34.9638,2,    265.5,2,  3.8224,    264.6,2,    12.11,2,    17.87,2,     0.00,2,     1.17,2,    1.500,2,    0.734,2, -999.000,5, -999.000,5,-999.0000,5,  -999.00,9,   -999.0,9,  -999.00,9,-999.000,9,   -999.0,9,   -999.0,9,-999,   -999.0,9,-999.0000,9, -999,  -999.0, -999.00,-999.0000,-999.000,-999.000
     316N151_3,   A20,    16,  1,      8,      8,2,19970722,0503, 41.5718, -51.9582, 4560,16172.8,   1603.8,   3.7056,  34.9437,2,  34.9443,2,    270.8,2,  3.5795,    269.3,2,    12.31,2,    17.61,2,     0.00,2,     1.15,2,    1.575,2,    0.758,2, -999.000,5, -999.000,5,-999.0000,5,  -999.00,9,   -999.0,9,  -999.00,9,-999.000,9,   -999.0,9,   -999.0,9,-999,   -999.0,9,-999.0000,9, -999,  -999.0, -999.00,-999.0000,-999.000,-999.000
     316N151_3,   A20,    16,  1,      7,      7,2,19970722,0503, 41.5718, -51.9582, 4560,18139.8,   1800.4,   3.4791,  34.9183,2,  34.9174,2,    274.4,2,  3.3380,    276.2,2,    12.14,2,    17.37,2,     0.00,2,     1.14,2,    2.055,2,    1.000,2, -999.000,5, -999.000,5,-999.0000,5,  -999.00,9,   -999.0,9,  -999.00,9,-999.000,9,   -999.0,9,   -999.0,9,-999,   -999.0,9,-999.0000,9, -999,  -999.0, -999.00,-999.0000,-999.000,-999.000
     316N151_3,   A20,    16,  1,      6,      6,2,19970722,0503, 41.5718, -51.9582, 4560,20163.8,   2002.7,   3.4544,  34.9349,2,  34.9357,2,    272.7,2,  3.2948,    271.9,2,    13.39,2,    17.49,2,     0.00,2,     1.15,2,    1.428,2,    0.702,2, -999.000,5, -999.000,5,-999.0000,5,  -999.00,9,   -999.0,9,  -999.00,9,-999.000,9,   -999.0,9,   -999.0,9,-999,   -999.0,9,-999.0000,9, -999,  -999.0, -999.00,-999.0000,-999.000,-999.000
     316N151_3,   A20,    16,  1,      5,      5,2,19970722,0503, 41.5718, -51.9582, 4560,22163.5,   2202.5,   3.3877,  34.9410,2,  34.9403,2,    271.9,2,  3.2100,    271.0,2,    14.27,2,    17.46,2,     0.00,2,     1.16,2,    1.165,2,    0.580,2, -999.000,5, -999.000,5,-999.0000,5,  -999.00,9,   -999.0,9,  -999.00,9,-999.000,9,   -999.0,9,   -999.0,9,-999,   -999.0,9,-999.0000,9, -999,  -999.0, -999.00,-999.0000,-999.000,-999.000
     316N151_3,   A20,    16,  1,      4,      4,2,19970722,0503, 41.5718, -51.9582, 4560,24144.0,   2400.6,   3.3637,  34.9555,2,  34.9551,2,    270.2,2,  3.1670,    266.5,2,    16.30,2,    17.72,2,     0.00,2,     1.18,2,    0.723,2,    0.365,2, -999.000,5, -999.000,5,-999.0000,5,  -999.00,9,   -999.0,9,  -999.00,9,-999.000,9,   -999.0,9,   -999.0,9,-999,   -999.0,9,-999.0000,9, -999,  -999.0, -999.00,-999.0000,-999.000,-999.000
     316N151_3,   A20,    16,  1,      3,      3,2,19970722,0503, 41.5718, -51.9582, 4560,26121.2,   2598.3,   3.2107,  34.9499,2,  34.9489,2,    269.8,2,  2.9970,    266.7,2,    17.26,2,    17.69,2,     0.00,2,     1.18,2,    0.614,2,    0.303,2, -999.000,5, -999.000,5,-999.0000,5,  -999.00,9,   -999.0,9,  -999.00,9,-999.000,9,   -999.0,9,   -999.0,9,-999,   -999.0,9,-999.0000,9, -999,  -999.0, -999.00,-999.0000,-999.000,-999.000
     316N151_3,   A20,    16,  1,      2,      2,2,19970722,0503, 41.5718, -51.9582, 4560,28621.2,   2848.4,   3.0022,  34.9374,2,  34.9372,2,    270.5,2,  2.7671,    269.4,2,    17.65,2,    17.40,2,     0.00,2,     1.17,2,    0.767,2,    0.377,2, -999.000,5, -999.000,5,-999.0000,5,  -999.00,9,   -999.0,9,  -999.00,9,-999.000,9,   -999.0,9,   -999.0,9,-999,   -999.0,9,-999.0000,9, -999,  -999.0, -999.00,-999.0000,-999.000,-999.000
     316N151_3,   A20,    16,  1,      1,      1,2,19970722,0503, 41.5718, -51.9582, 4560,31120.2,   3098.2,   2.7869,  34.9270,2,-999.0000,9,    271.9,2,  2.5306,    272.6,2,    18.34,6,    17.31,6,     0.00,6,     1.16,6,    0.894,2,    0.439,2, -999.000,5, -999.000,5,-999.0000,5,  -999.00,9,   -999.0,9,  -999.00,9,-999.000,9,   -999.0,9,   -999.0,9,-999,   -999.0,9,-999.0000,9, -999,  -999.0, -999.00,-999.0000,-999.000,-999.000