BOTTLE,20220812CCHSIOAMB
EXPOCODE,SECT_ID,STNNBR,CASTNO,SAMPNO,BTLNBR,BTLNBR_FLAG_W,DATE,TIME,LATITUDE,LONGITUDE,DEPTH,CTDRAW,CTDPRS,CTDTMP,CTDSAL,CTDSAL_FLAG_W,SALNTY,SALNTY_FLAG_W,CTDOXY,CTDOXY_FLAG_W,THETA,OXYGEN,OXYGEN_FLAG_W,SILCAT,SILCAT_FLAG_W,NITRAT,NITRAT_FLAG_W,NITRIT,NITRIT_FLAG_W,PHSPHT,PHSPHT_FLAG_W,CFC-11,CFC-11_FLAG_W,CFC-12,CFC-12_FLAG_W,CFC113,CFC113_FLAG_W,TRITUM,TRITUM_FLAG_W,HELIUM,HELIUM_FLAG_W,DELHE3,DELHE3_FLAG_W,DELC14,DELC14_FLAG_W,DELC13,DELC13_FLAG_W,NEON,NEON_FLAG_W,TCARBN,TCARBN_FLAG_W,PCO2,PCO2_FLAG_W,PCO2_TMP,ALKALI,ALKALI_FLAG_W,PH,PH_FLAG_W,PH_TMP,C14ERR,DELHER,HELIER,NEONER,TRITER
,,,,,,,,,,,,,DBAR,ITS-90,PSS-78,,PSS-78,,UMOL/KG,,ITS-90,UMOL/KG,,UMOL/KG,,UMOL/KG,,UMOL/KG,,UMOL/KG,,PMOL/KG,,PMOL/KG,,PMOL/KG,,TU,,NMOL/KG,,PERCNT,,/MILLE,,/MILLE,,NMOL/KG,,UMOL/KG,,UATM,,DEG C,UMOL/KG,,,,DEG C,/MILLE,PERCNT,NMOL/KG,NMOL/KG,TU
     316N151_3,   A20,    49,  1,     33,     33,2,19970731,1358, 22.8482, -52.3408, 5090,  206.2,      4.7,  27.7865,  36.9933,2,  36.9954,2,    210.0,2, 27.7854,    207.4,2,     0.86,2,     0.04,2,     0.00,2,     0.01,2,    1.688,2,    1.002,2, -999.000,5, -999.000,5,   1.7140,2,    -1.25,2,   -999.0,9,  -999.00,9,   6.665,2,   -999.0,9,    267.5,2,  20,   2417.9,2,   8.1190,2,   25,  -999.0,    0.15,  0.0086,   0.033,-999.000
     316N151_3,   A20,    49,  1,     32,     32,2,19970731,1358, 22.8482, -52.3408, 5090,  664.5,     50.9,  25.7330,  37.1703,2,  37.1576,2,    237.7,2, 25.7216,    223.4,2,     0.59,2,     0.04,2,     0.00,2,     0.02,2,    1.959,6,    1.137,6, -999.000,5, -999.000,5,-999.0000,5,  -999.00,9,   -999.0,9,  -999.00,9,-999.000,9,   -999.0,9,   -999.0,9,-999,   -999.0,9,-999.0000,9, -999,  -999.0, -999.00,-999.0000,-999.000,-999.000
     316N151_3,   A20,    49,  1,     31,     31,2,19970731,1358, 22.8482, -52.3408, 5090, 1097.2,     94.3,  23.1645,  37.2013,2,  37.2002,2,    220.8,2, 23.1450,    217.5,2,     0.51,2,     0.05,2,     0.00,2,     0.02,2,    2.046,2,    1.169,2, -999.000,5,    0.923,2,   1.7282,2,    -1.59,2,   -999.0,9,  -999.00,9,   6.836,2,   -999.0,9,   -999.0,9,-999,   -999.0,9,-999.0000,9, -999,  -999.0,    0.15,  0.0086,   0.034,   0.012
     316N151_3,   A20,    49,  1,     30,     30,2,19970731,1358, 22.8482, -52.3408, 5090, 1623.5,    146.9,  20.6907,  36.9443,2,  36.9438,2,    200.9,2, 20.6626,    194.3,2,     0.53,2,     0.57,2,     0.06,2,     0.02,2,    2.207,2,    1.236,2, -999.000,5,    1.054,2,   1.7411,2,    -1.46,2,   -999.0,9,  -999.00,9,   6.902,2,   -999.0,9,   -999.0,9,-999,   -999.0,9,-999.0000,9, -999,  -999.0,    0.15,  0.0087,   0.035,   0.013
     316N151_3,   A20,    49,  1,     29,     29,2,19970731,1358, 22.8482, -52.3408, 5090, 2113.0,    195.5,  19.0993,  36.6851,2,  36.6832,2,    192.5,2, 19.0639,    192.3,2,     0.73,2,     2.45,2,     0.01,2,     0.09,2,    2.315,2,    1.279,2, -999.000,5,    1.133,2,-999.0000,5,  -999.00,9,   -999.0,9,  -999.00,9,-999.000,9,   -999.0,9,   -999.0,9,-999,   -999.0,9,-999.0000,9, -999,  -999.0, -999.00,-999.0000,-999.000,   0.013
     316N151_3,   A20,    49,  1,     28,     28,2,19970731,1358, 22.8482, -52.3408, 5090, 2632.9,    247.4,  18.2819,  36.5595,2,  36.5630,2,    196.6,2, 18.2384,    200.1,2,     1.04,2,     3.81,2,     0.00,2,     0.18,2,    2.351,2,    1.277,2, -999.000,5,    1.149,2,   1.7435,2,    -0.80,2,   -999.0,9,  -999.00,9,   6.953,2,   -999.0,9,   -999.0,9,-999,   -999.0,9,-999.0000,9, -999,  -999.0,    0.15,  0.0087,   0.035,   0.013
     316N151_3,   A20,    49,  1,     27,     27,2,19970731,1358, 22.8482, -52.3408, 5090, 3134.3,    297.5,  17.9064,  36.5092,2,  36.5073,2,    197.4,2, 17.8548,    195.1,2,     1.44,2,     5.01,2,     0.00,2,     0.25,2,    2.285,2,    1.236,2, -999.000,5,    1.140,2,   1.7471,2,     0.46,2,   -999.0,9,  -999.00,9,   6.993,2,   -999.0,9,   -999.0,9,-999,   -999.0,9,-999.0000,9, -999,  -999.0,    0.15,  0.0087,   0.035,   0.013
     316N151_3,   A20,    49,  1,     26,     26,2,19970731,1358, 22.8482, -52.3408, 5090, 3615.1,    345.8,  17.1787,  36.3931,2,  36.3897,2,    185.6,2, 17.1204,    186.7,2,     2.04,2,     6.98,2,     0.00,2,     0.38,2,    2.187,2,    1.171,2, -999.000,5,    1.190,2,   1.7567,2,     1.89,2,   -999.0,9,  -999.00,9,   7.041,2,   -999.0,9,   -999.0,9,-999,   -999.0,9,-999.0000,9, -999,  -999.0,    0.15,  0.0088,   0.035,   0.013
     316N151_3,   A20,    49,  1,     25,     25,2,19970731,1358, 22.8482, -52.3408, 5090, 4620.0,    446.5,  15.2061,  36.0679,2,  36.0739,2,    175.5,2, 15.1369,    172.8,2,     3.70,2,    11.38,2,     0.00,2,     0.66,2,    1.908,2,    0.999,2, -999.000,5, -999.000,5,   1.7585,2,     4.72,2,   -999.0,9,  -999.00,9,   7.119,2,   -999.0,9,   -999.0,9,-999,   -999.0,9,-999.0000,9, -999,  -999.0,    0.15,  0.0088,   0.036,-999.000
     316N151_3,   A20,    49,  1,     24,     24,2,19970731,1358, 22.8482, -52.3408, 5090, 5634.0,    548.4,  13.4558,  35.8007,2,  35.7935,2,    160.8,2, 13.3770,    163.4,2,     5.64,2,    15.34,2,     0.00,2,     0.91,2,    1.469,2,    0.768,2, -999.000,5,    1.323,2,   1.7738,2,     8.59,2,   -999.0,9,  -999.00,9,   7.343,2,   -999.0,9,   -999.0,9,-999,   -999.0,9,-999.0000,9, -999,  -999.0,    0.15,  0.0089,   0.037,   0.014
     316N151_3,   A20,    49,  1,     23,     23,2,19970731,1358, 22.8482, -52.3408, 5090, 6919.8,    677.4,  11.2467,  35.4934,2,  35.4949,2,    150.3,2, 11.1596,    151.6,2,     9.42,2,    20.29,2,     0.00,2,     1.24,2,    0.803,2,    0.406,2, -999.000,5, -999.000,5,   1.7825,2,     9.96,2,   -999.0,9,  -999.00,9,   7.467,2,   -999.0,9,   -999.0,9,-999,   -999.0,9,-999.0000,9, -999,  -999.0,    0.15,  0.0089,   0.037,-999.000
     316N151_3,   A20,    49,  1,     22,     22,2,19970731,1358, 22.8482, -52.3408, 5090, 8108.2,    796.5,   8.8203,  35.2095,2,  35.2088,2,    142.2,2,  8.7316,    143.7,2,    15.13,2,    25.21,2,     0.00,2,     1.60,2,    0.279,2,    0.160,2, -999.000,5, -999.000,5,   1.8069,2,     5.59,2,   -999.0,9,  -999.00,9,   7.608,2,   -999.0,9,   -999.0,9,-999,   -999.0,9,-999.0000,9, -999,  -999.0,    0.15,  0.0090,   0.038,-999.000
     316N151_3,   A20,    49,  1,     21,     21,2,19970731,1358, 22.8482, -52.3408, 5090, 9360.7,    921.9,   7.2000,  35.0478,2,  35.0437,2,    148.4,2,  7.1077,    148.9,2,    18.91,2,    27.33,2,     0.00,2,     1.77,2,    0.090,2,    0.054,2, -999.000,5, -999.000,5,   1.8094,2,     2.74,2,   -999.0,9,  -999.00,9,   7.711,2,   -999.0,9,   -999.0,9,-999,   -999.0,9,-999.0000,9, -999,  -999.0,    0.15,  0.0090,   0.039,-999.000
     316N151_3,   A20,    49,  1,     20,     20,2,19970731,1358, 22.8482, -52.3408, 5090,10611.2,   1046.8,   6.2064,  34.9922,2,  34.9925,2,    165.7,2,  6.1085,    166.8,2,    19.69,2,    26.48,2,     0.00,2,     1.74,2,    0.082,2,    0.047,2, -999.000,5, -999.000,5,   1.8037,2,     2.33,2,   -999.0,9,  -999.00,9,   7.745,2,   -999.0,9,   -999.0,9,-999,   -999.0,9,-999.0000,9, -999,  -999.0,    0.15,  0.0090,   0.039,-999.000
     316N151_3,   A20,    49,  1,     19,     19,2,19970731,1358, 22.8482, -52.3408, 5090,12103.4,   1196.2,   5.5354,  35.0138,2,  35.0143,2,    198.0,2,  5.4283,    197.4,2,    17.59,2,    23.48,2,     0.00,2,     1.54,2,    0.158,6,    0.081,6, -999.000,5, -999.000,5,   1.8166,2,     2.98,2,   -999.0,9,  -999.00,9,   7.828,2,   -999.0,9,   -999.0,9,-999,   -999.0,9,-999.0000,9, -999,  -999.0,    0.15,  0.0091,   0.039,-999.000
     316N151_3,   A20,    49,  1,     18,     18,2,19970731,1358, 22.8482, -52.3408, 5090,13581.6,   1343.8,   5.0527,  35.0415,2,  35.0430,2,    223.4,2,  4.9357,    224.3,2,    15.09,2,    20.76,2,     0.00,2,     1.37,2,    0.203,2,    0.116,2, -999.000,5, -999.000,5,   1.8261,2,     3.73,2,   -999.0,9,  -999.00,9,   7.896,2,   -999.0,9,   -999.0,9,-999,   -999.0,9,-999.0000,9, -999,  -999.0,    0.15,  0.0091,   0.039,-999.000
     316N151_3,   A20,    49,  1,     17,     17,2,19970731,1358, 22.8482, -52.3408, 5090,15093.5,   1495.0,   4.7115,  35.0522,2,  35.0537,2,    239.9,2,  4.5835,    238.6,2,    14.34,2,    19.59,2,     0.00,2,     1.29,2,    0.195,2,    0.112,2, -999.000,5, -999.000,5,   1.8158,2,     3.46,2,   -999.0,9,  -999.00,9,   7.870,2,   -999.0,9,   -999.0,9,-999,   -999.0,9,-999.0000,9, -999,  -999.0,    0.15,  0.0091,   0.039,-999.000
     316N151_3,   A20,    49,  1,     16,     16,2,19970731,1358, 22.8482, -52.3408, 5090,17126.2,   1698.1,   4.3353,  35.0516,2,  35.0524,2,    245.3,2,  4.1923,    243.3,2,    16.58,2,    19.54,2,     0.00,2,     1.28,2,    0.072,2,    0.049,2, -999.000,5,    0.106,2,   1.8277,2,     1.83,2,   -999.0,9,  -999.00,9,   7.914,2,   -999.0,9,   -999.0,9,-999,   -999.0,9,-999.0000,9, -999,  -999.0,    0.15,  0.0091,   0.040,   0.009
     316N151_3,   A20,    49,  1,     15,     15,2,19970731,1358, 22.8482, -52.3408, 5090,19156.3,   1901.1,   3.8239,  35.0231,2,  35.0235,2,    248.4,2,  3.6683,    247.0,2,    20.36,2,    19.64,2,     0.00,2,     1.30,2, -999.000,9,    0.020,2, -999.000,5,    0.056,2,   1.8367,2,     1.32,2,   -999.0,9,  -999.00,9,   7.940,2,   -999.0,9,   -999.0,9,-999,   -999.0,9,-999.0000,9, -999,  -999.0,    0.15,  0.0092,   0.040,   0.009
     316N151_3,   A20,    49,  1,     14,     14,2,19970731,1358, 22.8482, -52.3408, 5090,21148.3,   2100.2,   3.5076,  34.9969,2,  34.9983,2,    250.4,2,  3.3376,    249.3,2,    22.98,2,    19.78,2,     0.00,2,     1.32,2,    0.014,2,    0.009,2, -999.000,5,    0.047,2,   1.8401,2,     1.33,2,   -999.0,9,  -999.00,9,   7.979,2,   -999.0,9,   -999.0,9,-999,   -999.0,9,-999.0000,9, -999,  -999.0,    0.15,  0.0092,   0.040,   0.009
     316N151_3,   A20,    49,  1,     13,     13,2,19970731,1358, 22.8482, -52.3408, 5090,23650.1,   2350.3,   3.2156,  34.9735,2,  34.9745,2,    251.2,2,  3.0264,    251.5,2,    26.18,2,    19.96,2,     0.00,2,     1.34,2,    0.011,2,    0.009,2, -999.000,5,    0.036,2,   1.8511,2,     2.27,2,   -999.0,9,  -999.00,9,   8.024,2,   -999.0,9,   -999.0,9,-999,   -999.0,9,-999.0000,9, -999,  -999.0,    0.15,  0.0093,   0.040,   0.009
     316N151_3,   A20,    49,  1,     12,     12,2,19970731,1358, 22.8482, -52.3408, 5090,26167.5,   2601.9,   2.9677,  34.9524,2,  34.9535,2,    254.5,2,  2.7582,    252.8,2,    28.61,2,    20.09,2,     0.00,2,     1.35,2,    0.009,2,    0.009,2, -999.000,5, -999.000,5,-999.0000,5,  -999.00,9,   -999.0,9,  -999.00,9,-999.000,9,   -999.0,9,   -999.0,9,-999,   -999.0,9,-999.0000,9, -999,  -999.0, -999.00,-999.0000,-999.000,-999.000
     316N151_3,   A20,    49,  1,     11,     11,2,19970731,1358, 22.8482, -52.3408, 5090,29128.3,   2897.8,   2.8029,  34.9382,2,  34.9385,2,    253.4,2,  2.5670,    253.4,2,    31.91,2,    20.41,2,     0.00,2,     1.37,2,    0.007,2,    0.008,2, -999.000,5,    0.025,2,   1.8606,2,     2.48,2,   -999.0,9,  -999.00,9,   8.047,2,   -999.0,9,   -999.0,9,-999,   -999.0,9,-999.0000,9, -999,  -999.0,    0.15,  0.0093,   0.040,   0.009
     316N151_3,   A20,    49,  1,     10,     10,2,19970731,1358, 22.8482, -52.3408, 5090,32143.3,   3199.2,   2.5943,  34.9209,2,  34.9198,2,    256.4,2,  2.3317,    255.7,2,    33.75,2,    20.34,2,     0.00,2,     1.37,2,    0.013,2,    0.010,2, -999.000,5, -999.000,5,-999.0000,5,  -999.00,9,   -999.0,9,  -999.00,9,-999.000,9,   -999.0,9,   -999.0,9,-999,   -999.0,9,-999.0000,9, -999,  -999.0, -999.00,-999.0000,-999.000,-999.000
     316N151_3,   A20,    49,  1,      9,      9,2,19970731,1358, 22.8482, -52.3408, 5090,35111.2,   3496.0,   2.4125,  34.9037,2,  34.9061,2,    255.0,2,  2.1227,    255.4,2,    38.21,2,    20.79,2,     0.00,2,     1.41,2,    0.008,6,    0.009,6, -999.000,5,    0.016,2,   1.8671,2,     1.97,2,   -999.0,9,  -999.00,9,   7.951,2,   -999.0,9,   -999.0,9,-999,   -999.0,9,-999.0000,9, -999,  -999.0,    0.15,  0.0093,   0.040,   0.009
     316N151_3,   A20,    49,  1,      8,      8,2,19970731,1358, 22.8482, -52.3408, 5090,37110.9,   3695.8,   2.3183,  34.8932,2,  34.8933,2,    253.3,2,  2.0092,    255.9,2,    41.61,2,    21.24,2,     0.00,2,     1.44,2,    0.006,2,    0.008,2, -999.000,5, -999.000,5,-999.0000,5,  -999.00,9,   -999.0,9,  -999.00,9,-999.000,9,   -999.0,9,   -999.0,9,-999,   -999.0,9,-999.0000,9, -999,  -999.0, -999.00,-999.0000,-999.000,-999.000
     316N151_3,   A20,    49,  1,      7,      7,2,19970731,1358, 22.8482, -52.3408, 5090,39141.7,   3898.8,   2.2140,  34.8827,2,  34.8832,2,    252.4,2,  1.8851,    253.9,2,    44.42,2,    21.58,2,     0.00,2,     1.46,2,    0.007,2,    0.009,2, -999.000,5, -999.000,5,-999.0000,5,  -999.00,9,   -999.0,9,  -999.00,9,-999.000,9,   -999.0,9,   -999.0,9,-999,   -999.0,9,-999.0000,9, -999,  -999.0, -999.00,-999.0000,-999.000,-999.000
     316N151_3,   A20,    49,  1,      6,      6,2,19970731,1358, 22.8482, -52.3408, 5090,41095.9,   4094.0,   2.1781,  34.8778,2,  34.8777,2,    254.8,2,  1.8283,    253.7,2,    46.18,2,    21.79,2,     0.00,2,     1.48,2,    0.010,2,    0.008,2, -999.000,5,    0.008,2,   1.8814,2,     2.40,2,   -999.0,9,  -999.00,9,   7.976,2,   -999.0,9,   -999.0,9,-999,   -999.0,9,-999.0000,9, -999,  -999.0,    0.15,  0.0094,   0.040,   0.009
     316N151_3,   A20,    49,  1,      5,      5,2,19970731,1358, 22.8482, -52.3408, 5090,43140.8,   4298.6,   2.1303,  34.8719,2,  34.8713,2,    254.8,2,  1.7583,    252.9,2,    48.02,2,    21.97,2,     0.00,2,     1.49,2,    0.011,2,    0.010,2, -999.000,5, -999.000,5,-999.0000,5,  -999.00,9,   -999.0,9,  -999.00,9,-999.000,9,   -999.0,9,   -999.0,9,-999,   -999.0,9,-999.0000,9, -999,  -999.0, -999.00,-999.0000,-999.000,-999.000
     316N151_3,   A20,    49,  1,      4,      4,2,19970731,1358, 22.8482, -52.3408, 5090,45113.9,   4495.8,   2.1146,  34.8675,2,  34.8688,2,    254.1,2,  1.7199,    252.6,2,    49.11,2,    22.11,2,     0.00,2,     1.51,2,    0.009,2,    0.012,2, -999.000,5, -999.000,5,-999.0000,5,  -999.00,9,   -999.0,9,  -999.00,9,-999.000,9,   -999.0,9,   -999.0,9,-999,   -999.0,9,-999.0000,9, -999,  -999.0, -999.00,-999.0000,-999.000,-999.000
     316N151_3,   A20,    49,  1,      3,      3,2,19970731,1358, 22.8482, -52.3408, 5090,47083.3,   4692.7,   2.1061,  34.8644,2,  34.8649,2,    254.1,2,  1.6879,    252.1,2,    50.38,2,    22.21,2,     0.00,2,     1.51,2,    0.011,2,    0.009,2, -999.000,5, -999.000,5,-999.0000,5,  -999.00,9,   -999.0,9,  -999.00,9,-999.000,9,   -999.0,9,   -999.0,9,-999,   -999.0,9,-999.0000,9, -999,  -999.0, -999.00,-999.0000,-999.000,-999.000
     316N151_3,   A20,    49,  1,      2,      2,2,19970731,1358, 22.8482, -52.3408, 5090,49267.8,   4911.0,   2.1102,  34.8613,2,  34.8621,2,    252.8,2,  1.6652,    252.4,2,    51.07,2,    22.32,2,     0.00,2,     1.52,2,    0.011,2,    0.009,2, -999.000,5,    0.039,2,   1.8911,2,     2.33,2,   -999.0,9,  -999.00,9,   8.066,2,   -999.0,9,   -999.0,9,-999,   -999.0,9,-999.0000,9, -999,  -999.0,    0.15,  0.0095,   0.040,   0.009
     316N151_3,   A20,    49,  1,      1,      1,2,19970731,1358, 22.8482, -52.3408, 5090,51300.7,   5114.5,   2.1050,  34.8590,2,  34.8583,2,    250.3,2,  1.6347,    251.8,2,    52.13,6,    22.41,6,     0.00,6,     1.54,6,    0.020,2,    0.015,2, -999.000,5, -999.000,5,-999.0000,5,  -999.00,9,   -999.0,9,  -999.00,9,-999.000,9,   -999.0,9,   -999.0,9,-999,   -999.0,9,-999.0000,9, -999,  -999.0, -999.00,-999.0000,-999.000,-999.000