BOTTLE,20220812CCHSIOAMB
EXPOCODE,SECT_ID,STNNBR,CASTNO,SAMPNO,BTLNBR,BTLNBR_FLAG_W,DATE,TIME,LATITUDE,LONGITUDE,DEPTH,CTDRAW,CTDPRS,CTDTMP,CTDSAL,CTDSAL_FLAG_W,SALNTY,SALNTY_FLAG_W,CTDOXY,CTDOXY_FLAG_W,THETA,OXYGEN,OXYGEN_FLAG_W,SILCAT,SILCAT_FLAG_W,NITRAT,NITRAT_FLAG_W,NITRIT,NITRIT_FLAG_W,PHSPHT,PHSPHT_FLAG_W,CFC-11,CFC-11_FLAG_W,CFC-12,CFC-12_FLAG_W,CFC113,CFC113_FLAG_W,TRITUM,TRITUM_FLAG_W,HELIUM,HELIUM_FLAG_W,DELHE3,DELHE3_FLAG_W,DELC14,DELC14_FLAG_W,DELC13,DELC13_FLAG_W,NEON,NEON_FLAG_W,TCARBN,TCARBN_FLAG_W,PCO2,PCO2_FLAG_W,PCO2_TMP,ALKALI,ALKALI_FLAG_W,PH,PH_FLAG_W,PH_TMP,C14ERR,DELHER,HELIER,NEONER,TRITER
,,,,,,,,,,,,,DBAR,ITS-90,PSS-78,,PSS-78,,UMOL/KG,,ITS-90,UMOL/KG,,UMOL/KG,,UMOL/KG,,UMOL/KG,,UMOL/KG,,PMOL/KG,,PMOL/KG,,PMOL/KG,,TU,,NMOL/KG,,PERCNT,,/MILLE,,/MILLE,,NMOL/KG,,UMOL/KG,,UATM,,DEG C,UMOL/KG,,,,DEG C,/MILLE,PERCNT,NMOL/KG,NMOL/KG,TU
     316N151_3,   A20,    44,  1,     33,     33,2,19970730,0149, 26.1902, -52.3428, 5909,  280.7,     13.3,  27.6915,  37.1519,2,  37.1523,2,    214.9,2, 27.6883,    213.8,2,     0.35,2,     0.03,2,     0.00,2,     0.01,2,    1.716,6,    1.020,6, -999.000,5,    1.105,2,   1.6795,2,    -1.68,2,   -999.0,9,  -999.00,9,   6.657,2,   -999.0,9,   -999.0,9,-999,   2429.2,2,   8.1020,2,   25,  -999.0,    0.15,  0.0084,   0.033,   0.013
     316N151_3,   A20,    44,  1,     32,     32,2,19970730,0149, 26.1902, -52.3428, 5909,  647.7,     50.3,  22.7217,  36.9062,2,  36.8946,2,    234.9,2, 22.7114,    234.0,2,     0.36,2,     0.03,2,     0.00,2,     0.01,2,    2.185,6,    1.257,6, -999.000,5, -999.000,5,-999.0000,5,  -999.00,9,   -999.0,9,  -999.00,9,-999.000,9,   2058.4,2,   -999.0,9,-999,   2407.2,6,   8.0790,2,   25,  -999.0, -999.00,-999.0000,-999.000,-999.000
     316N151_3,   A20,    44,  1,     31,     31,2,19970730,0149, 26.1902, -52.3428, 5909, 1147.3,    100.0,  20.5529,  36.8592,2,  36.8349,2,    221.0,2, 20.5339,    227.9,2,     0.37,2,     0.03,2,     0.00,2,     0.01,2,    2.283,2,    1.304,2, -999.000,5,    1.101,2,   1.7290,2,    -1.26,2,   -999.0,9,  -999.00,9,   6.918,2,   2074.3,2,   -999.0,9,-999,   2407.9,2,   8.0550,2,   25,  -999.0,    0.15,  0.0086,   0.035,   0.013
     316N151_3,   A20,    44,  1,     30,     30,2,19970730,0149, 26.1902, -52.3428, 5909, 1544.4,    139.6,  19.1729,  36.6739,2,  36.6738,2,    210.9,2, 19.1476,    208.2,2,     0.67,2,     0.78,2,     0.10,2,     0.02,2,    2.365,2,    1.341,2, -999.000,5, -999.000,5,   1.7458,2,    -0.69,2,   -999.0,9,  -999.00,9,   7.031,2,   2087.5,2,   -999.0,9,-999,   2394.1,2,   8.0220,2,   25,  -999.0,    0.15,  0.0087,   0.035,-999.000
     316N151_3,   A20,    44,  1,     29,     29,2,19970730,0149, 26.1902, -52.3428, 5909, 2162.0,    201.0,  18.4536,  36.5810,2,  36.5790,2,    202.6,2, 18.4181,    205.3,2,     0.88,2,     2.95,2,     0.01,2,     0.13,2,    2.389,2,    1.340,2, -999.000,5,    1.101,2,   1.7337,2,    -0.32,2,   -999.0,9,  -999.00,9,   6.973,2,   -999.0,9,   -999.0,9,-999,   2387.1,2,   8.0070,2,   25,  -999.0,    0.15,  0.0087,   0.035,   0.014
     316N151_3,   A20,    44,  1,     28,     28,2,19970730,0149, 26.1902, -52.3428, 5909, 2665.2,    251.1,  18.0861,  36.5322,2,  36.5287,2,    208.0,2, 18.0424,    204.8,2,     1.18,2,     3.85,2,     0.00,2,     0.18,2,    2.382,2,    1.326,2, -999.000,5,    1.099,2,-999.0000,5,  -999.00,9,   -999.0,9,  -999.00,9,-999.000,9,   2093.0,2,   -999.0,9,-999,   2384.2,2,   7.9980,2,   25,  -999.0, -999.00,-999.0000,-999.000,   0.013
     316N151_3,   A20,    44,  1,     27,     27,2,19970730,0149, 26.1902, -52.3428, 5909, 3158.7,    300.3,  17.9088,  36.5096,2,  36.5077,2,    216.6,2, 17.8568,    204.6,2,     1.29,2,     4.18,2,     0.00,2,     0.20,2,    2.360,2,    1.311,2, -999.000,5,    1.139,2,   1.7311,2,     0.27,2,   -999.0,9,  -999.00,9,   7.061,2,   2095.1,2,   -999.0,9,-999,   2384.5,2,   7.9980,2,   25,  -999.0,    0.15,  0.0087,   0.035,   0.014
     316N151_3,   A20,    44,  1,     26,     26,2,19970730,0149, 26.1902, -52.3428, 5909, 4162.0,    400.8,  16.9210,  36.3357,2,  36.3357,2,    193.5,2, 16.8542,    193.9,2,     1.87,2,     6.80,2,     0.00,2,     0.36,2,    2.237,2,    1.221,2, -999.000,5,    1.234,2,   1.7412,2,     2.09,2,   -999.0,9,  -999.00,9,   7.179,2,   -999.0,9,   -999.0,9,-999,   2373.9,2,   7.9550,2,   25,  -999.0,    0.15,  0.0087,   0.036,   0.014
     316N151_3,   A20,    44,  1,     25,     25,2,19970730,0149, 26.1902, -52.3428, 5909, 4989.4,    483.7,  15.2925,  36.0628,2,  36.0620,2,    184.8,2, 15.2170,    181.4,2,     3.32,2,    10.53,2,     0.00,2,     0.60,2,    1.996,2,    1.063,2, -999.000,5,    1.311,2,   1.7749,2,     3.80,2,   -999.0,9,  -999.00,9,   7.250,2,   2127.1,2,   -999.0,9,-999,   2360.4,2,   7.9020,2,   25,  -999.0,    0.15,  0.0089,   0.036,   0.014
     316N151_3,   A20,    44,  1,     24,     24,2,19970730,0149, 26.1902, -52.3428, 5909, 6162.3,    601.2,  13.3072,  35.7830,2,  35.7839,2,    173.0,2, 13.2213,    172.7,2,     5.05,2,    14.35,2,     0.00,2,     0.85,2,    1.641,2,    0.850,2, -999.000,5,    1.312,2,   1.7839,2,     7.67,2,   -999.0,9,  -999.00,9,   7.340,2,   2144.7,2,   -999.0,9,-999,   2344.9,2,   7.8410,2,   25,  -999.0,    0.15,  0.0089,   0.037,   0.014
     316N151_3,   A20,    44,  1,     23,     23,2,19970730,0149, 26.1902, -52.3428, 5909, 7661.7,    751.6,  10.7732,  35.4663,2,  35.4640,2,    162.5,2, 10.6789,    160.2,2,     9.17,2,    19.82,2,     0.00,2,     1.22,2,    0.834,2,    0.439,2, -999.000,5,    0.926,2,   1.7910,2,     8.75,2,   -999.0,9,  -999.00,9,   7.474,2,   2169.0,2,   -999.0,9,-999,   2332.7,2,   7.7590,2,   25,  -999.0,    0.15,  0.0090,   0.037,   0.013
     316N151_3,   A20,    44,  1,     22,     22,2,19970730,0149, 26.1902, -52.3428, 5909, 9145.9,    900.4,   8.3245,  35.1758,2,  35.1725,2,    152.0,2,  8.2269,    149.6,2,    15.21,2,    25.10,2,     0.00,2,     1.61,2,    0.227,2,    0.127,2, -999.000,5, -999.000,5,   1.8065,2,     3.83,2,   -999.0,9,  -999.00,9,   7.633,2,   2191.6,2,   -999.0,9,-999,   2321.9,2,   7.6890,2,   25,  -999.0,    0.15,  0.0090,   0.038,-999.000
     316N151_3,   A20,    44,  1,     21,     21,2,19970730,0149, 26.1902, -52.3428, 5909,10603.2,   1046.1,   7.0508,  35.0853,2,  35.0832,2,    162.4,2,  6.9463,    161.3,2,    17.22,2,    25.56,2,     0.00,2,     1.66,2,    0.126,2,    0.068,2, -999.000,5,    0.233,2,   1.8061,2,     1.78,2,   -999.0,9,  -999.00,9,   7.685,2,   2195.3,2,   -999.0,9,-999,   2323.5,2,   7.6750,2,   25,  -999.0,    0.15,  0.0090,   0.038,   0.011
     316N151_3,   A20,    44,  1,     20,     20,2,19970730,0149, 26.1902, -52.3428, 5909,12161.8,   1201.9,   5.9539,  35.0541,2,  35.0533,2,    190.8,2,  5.8424,    191.6,2,    16.48,2,    23.28,2,     0.00,2,     1.53,2,    0.160,2,    0.087,2, -999.000,5,    0.244,2,   1.8394,2,     1.45,2,   -999.0,9,  -999.00,9,   7.806,2,   2185.5,2,   -999.0,9,-999,   2318.2,2,   7.6990,2,   25,  -999.0,    0.15,  0.0092,   0.039,   0.011
     316N151_3,   A20,    44,  1,     19,     19,2,19970730,0149, 26.1902, -52.3428, 5909,13628.7,   1348.6,   5.6461,  35.1161,2,  35.1152,2,    210.8,2,  5.5226,    211.9,2,    14.87,2,    21.13,2,     0.00,2,     1.39,2,    0.200,2,    0.107,2, -999.000,5,    0.263,2,   1.8441,2,     2.56,2,   -999.0,9,  -999.00,9,   7.849,2,   2177.0,2,   -999.0,9,-999,   2325.8,2,   7.7210,2,   25,  -999.0,    0.15,  0.0092,   0.039,   0.011
     316N151_3,   A20,    44,  1,     18,     18,2,19970730,0149, 26.1902, -52.3428, 5909,15132.8,   1498.9,   5.0698,  35.0972,2,  35.0980,2,    230.0,2,  4.9374,    229.5,2,    14.50,2,    19.89,2,     0.00,2,     1.31,2,    0.201,6,    0.114,6, -999.000,5,    0.248,2,   1.8403,2,     2.15,2,   -999.0,9,  -999.00,9,   7.902,2,   2170.6,2,   -999.0,9,-999,   2320.1,2,   7.7370,2,   25,  -999.0,    0.15,  0.0092,   0.040,   0.011
     316N151_3,   A20,    44,  1,     17,     17,2,19970730,0149, 26.1902, -52.3428, 5909,16507.6,   1636.3,   4.7209,  35.0858,2,  35.0867,2,    236.6,2,  4.5790,    236.6,2,    15.38,2,    19.55,2,     0.00,2,     1.29,2,    0.159,2,    0.090,2, -999.000,5,    0.217,2,   1.8405,2,     1.16,2,   -999.0,9,  -999.00,9,   7.932,2,   -999.0,9,   -999.0,9,-999,   2323.3,2,   7.7430,2,   25,  -999.0,    0.15,  0.0092,   0.040,   0.011
     316N151_3,   A20,    44,  1,     16,     16,2,19970730,0149, 26.1902, -52.3428, 5909,18646.5,   1850.2,   4.1939,  35.0553,2,  35.0568,2,    243.4,2,  4.0380,    242.9,2,    17.96,2,    19.48,2,     0.00,2,     1.29,2,    0.081,2,    0.047,2, -999.000,5, -999.000,5,   1.8394,2,    -0.07,2,   -999.0,9,  -999.00,9,   7.940,2,   2169.7,2,   -999.0,9,-999,   2323.2,2,   7.7480,2,   25,  -999.0,    0.15,  0.0092,   0.040,-999.000
     316N151_3,   A20,    44,  1,     15,     15,2,19970730,0149, 26.1902, -52.3428, 5909,20574.2,   2042.9,   3.7670,  35.0225,2,  35.0241,2,    246.6,2,  3.5985,    247.1,2,    20.94,2,    19.51,2,     0.00,2,     1.30,2,    0.046,2,    0.030,2, -999.000,5,    0.074,2,   1.8506,2,    -0.32,2,   -999.0,9,  -999.00,9,   7.985,2,   -999.0,9,   -999.0,9,-999,   2326.5,2,   7.7460,2,   25,  -999.0,    0.15,  0.0093,   0.040,   0.010
     316N151_3,   A20,    44,  1,     14,     14,2,19970730,0149, 26.1902, -52.3428, 5909,23142.4,   2299.6,   3.3830,  34.9885,2,  34.9902,2,    247.7,2,  3.1957,    249.4,2,    24.59,2,    19.81,2,     0.00,2,     1.32,2,    0.025,2,    0.015,2, -999.000,5, -999.000,5,-999.0000,5,  -999.00,9,   -999.0,9,  -999.00,9,-999.000,9,   2173.7,2,   -999.0,9,-999,   2327.4,2,   7.7470,2,   25,  -999.0, -999.00,-999.0000,-999.000,-999.000
     316N151_3,   A20,    44,  1,     13,     13,2,19970730,0149, 26.1902, -52.3428, 5909,25629.0,   2548.0,   3.1539,  34.9695,2,  34.9707,2,    250.6,2,  2.9463,    250.5,2,    27.38,2,    20.01,2,     0.00,2,     1.34,2,    0.021,2,    0.015,2, -999.000,5, -999.000,5,-999.0000,5,  -999.00,9,   -999.0,9,  -999.00,9,-999.000,9,   2176.2,2,   -999.0,9,-999,   2332.0,2,   7.7480,2,   25,  -999.0, -999.00,-999.0000,-999.000,-999.000
     316N151_3,   A20,    44,  1,     12,     12,2,19970730,0149, 26.1902, -52.3428, 5909,28621.5,   2847.1,   2.9050,  34.9469,2,  34.9484,2,    251.2,2,  2.6721,    251.2,2,    31.12,2,    20.31,2,     0.00,2,     1.37,2,    0.012,2,    0.009,2, -999.000,5,    0.028,2,   1.8762,2,     1.08,2,   -999.0,9,  -999.00,9,   8.090,2,   2180.0,2,   -999.0,9,-999,   2333.2,2,   7.7450,2,   25,  -999.0,    0.15,  0.0094,   0.040,   0.010
     316N151_3,   A20,    44,  1,     11,     11,2,19970730,0149, 26.1902, -52.3428, 5909,31670.2,   3151.9,   2.7294,  34.9310,2,  34.9327,2,    252.2,2,  2.4687,    252.2,2,    33.72,2,    20.54,2,     0.00,2,     1.39,2,    0.011,2,    0.011,2, -999.000,5, -999.000,5,-999.0000,5,  -999.00,9,   -999.0,9,  -999.00,9,-999.000,9,   2180.7,2,   -999.0,9,-999,   2337.2,2,   7.7450,2,   25,  -999.0, -999.00,-999.0000,-999.000,-999.000
     316N151_3,   A20,    44,  1,     10,     10,2,19970730,0149, 26.1902, -52.3428, 5909,34647.4,   3449.4,   2.5274,  34.9145,2,  34.9155,2,    256.0,2,  2.2398,    255.6,2,    34.98,2,    20.44,2,     0.00,2,     1.38,2,    0.006,2,    0.006,2, -999.000,5, -999.000,5,   1.8629,2,     0.46,2,   -999.0,9,  -999.00,9,   8.032,2,   2179.9,2,   -999.0,9,-999,   2333.5,2,   7.7460,2,   25,  -999.0,    0.15,  0.0093,   0.040,-999.000
     316N151_3,   A20,    44,  1,      9,      9,2,19970730,0149, 26.1902, -52.3428, 5909,37667.8,   3751.4,   2.3762,  34.9002,2,  34.9013,2,    256.9,2,  2.0595,    256.9,2,    37.48,2,    20.57,2,     0.00,2,     1.40,2,    0.008,2,    0.007,2, -999.000,5, -999.000,5,-999.0000,5,  -999.00,9,   -999.0,9,  -999.00,9,-999.000,9,   2181.6,2,   -999.0,9,-999,   2334.7,2,   7.7400,2,   25,  -999.0, -999.00,-999.0000,-999.000,-999.000
     316N151_3,   A20,    44,  1,      8,      8,2,19970730,0149, 26.1902, -52.3428, 5909,40149.3,   3999.4,   2.2653,  34.8897,2,  34.8898,2,    256.5,2,  1.9236,    256.8,2,    40.16,2,    20.81,2,     0.00,2,     1.42,2,    0.010,2,    0.008,2, -999.000,5, -999.000,5,-999.0000,5,  -999.00,9,   -999.0,9,  -999.00,9,-999.000,9,   2184.2,2,   -999.0,9,-999,   2335.8,2,   7.7410,2,   25,  -999.0, -999.00,-999.0000,-999.000,-999.000
     316N151_3,   A20,    44,  1,      7,      7,2,19970730,0149, 26.1902, -52.3428, 5909,42659.0,   4250.3,   2.1701,  34.8759,2,  34.8761,2,    253.6,2,  1.8025,    254.5,2,    44.96,2,    21.50,2,     0.00,2,     1.46,2,    0.014,2,    0.010,2, -999.000,5,    0.002,2,   1.8916,2,     0.93,2,   -999.0,9,  -999.00,9,   8.162,2,   2189.0,2,   -999.0,9,-999,   2340.0,2,   7.7390,2,   25,  -999.0,    0.15,  0.0095,   0.041,   0.010
     316N151_3,   A20,    44,  1,      6,      6,2,19970730,0149, 26.1902, -52.3428, 5909,45165.7,   4500.8,   2.1498,  34.8718,2,  34.8720,2,    252.8,2,  1.7534,    254.0,2,    46.69,2,    21.71,2,     0.00,2,     1.48,2,    0.014,2,    0.010,2, -999.000,5, -999.000,5,-999.0000,5,  -999.00,9,   -999.0,9,  -999.00,9,-999.000,9,   2191.5,2,   -999.0,9,-999,   2340.9,2,   7.7330,2,   25,  -999.0, -999.00,-999.0000,-999.000,-999.000
     316N151_3,   A20,    44,  1,      5,      5,2,19970730,0149, 26.1902, -52.3428, 5909,48164.9,   4800.6,   2.1257,  34.8650,2,  34.8656,2,    252.3,2,  1.6938,    253.0,2,    48.81,2,    22.00,2,     0.00,2,     1.50,2,    0.010,2,    0.011,2, -999.000,5, -999.000,5,-999.0000,5,  -999.00,9,   -999.0,9,  -999.00,9,-999.000,9,   2195.0,2,   -999.0,9,-999,   2343.9,2,   7.7260,2,   25,  -999.0, -999.00,-999.0000,-999.000,-999.000
     316N151_3,   A20,    44,  1,      4,      4,2,19970730,0149, 26.1902, -52.3428, 5909,51679.2,   5151.8,   2.1219,  34.8598,2,  34.8610,2,    252.4,2,  1.6463,    252.7,2,    50.83,2,    22.23,2,     0.00,2,     1.52,2,    0.017,2,    0.014,2, -999.000,5,    0.024,2,   1.8795,2,     0.56,2,   -999.0,9,  -999.00,9,   8.114,2,   2196.9,2,   -999.0,9,-999,   2343.1,2,   7.7260,2,   25,  -999.0,    0.15,  0.0094,   0.041,   0.010
     316N151_3,   A20,    44,  1,      3,      3,2,19970730,0149, 26.1902, -52.3428, 5909,55160.5,   5499.9,   2.0790,  34.8507,2,  34.8505,2,    251.4,2,  1.5600,    249.8,2,    54.49,2,    22.70,2,     0.00,2,     1.55,2,    0.022,2,    0.019,2, -999.000,5, -999.000,5,-999.0000,5,  -999.00,9,   -999.0,9,  -999.00,9,-999.000,9,   2201.1,2,   -999.0,9,-999,   2345.5,2,   7.7200,2,   25,  -999.0, -999.00,-999.0000,-999.000,-999.000
     316N151_3,   A20,    44,  1,      2,      2,2,19970730,0149, 26.1902, -52.3428, 5909,58197.9,   5803.5,   2.1028,  34.8487,2,  34.8484,2,    250.9,2,  1.5427,    250.2,2,    55.27,2,    22.80,2,     0.00,2,     1.56,2,    0.020,2,    0.020,2, -999.000,5, -999.000,5,-999.0000,5,  -999.00,9,   -999.0,9,  -999.00,9,-999.000,9,   2202.0,2,   -999.0,9,-999,   2347.2,6,   7.7220,6,   25,  -999.0, -999.00,-999.0000,-999.000,-999.000
     316N151_3,   A20,    44,  1,      1,      1,2,19970730,0149, 26.1902, -52.3428, 5909,60196.1,   6003.1,   2.1253,  34.8489,2,  34.8488,2,    249.8,2,  1.5373,    248.8,2,    55.65,6,    22.84,6,     0.00,6,     1.56,6,    0.019,6,    0.021,6, -999.000,5,    0.017,2,   1.8906,2,     1.74,2,   -999.0,9,  -999.00,9,   8.138,2,   2200.6,2,   -999.0,9,-999,   2346.0,2,   7.7180,2,   25,  -999.0,    0.15,  0.0095,   0.041,   0.010