BOTTLE,20220812CCHSIOAMB
EXPOCODE,SECT_ID,STNNBR,CASTNO,SAMPNO,BTLNBR,BTLNBR_FLAG_W,DATE,TIME,LATITUDE,LONGITUDE,DEPTH,CTDRAW,CTDPRS,CTDTMP,CTDSAL,CTDSAL_FLAG_W,SALNTY,SALNTY_FLAG_W,CTDOXY,CTDOXY_FLAG_W,THETA,OXYGEN,OXYGEN_FLAG_W,SILCAT,SILCAT_FLAG_W,NITRAT,NITRAT_FLAG_W,NITRIT,NITRIT_FLAG_W,PHSPHT,PHSPHT_FLAG_W,CFC-11,CFC-11_FLAG_W,CFC-12,CFC-12_FLAG_W,CFC113,CFC113_FLAG_W,TRITUM,TRITUM_FLAG_W,HELIUM,HELIUM_FLAG_W,DELHE3,DELHE3_FLAG_W,DELC14,DELC14_FLAG_W,DELC13,DELC13_FLAG_W,NEON,NEON_FLAG_W,TCARBN,TCARBN_FLAG_W,PCO2,PCO2_FLAG_W,PCO2_TMP,ALKALI,ALKALI_FLAG_W,PH,PH_FLAG_W,PH_TMP,C14ERR,DELHER,HELIER,NEONER,TRITER
,,,,,,,,,,,,,DBAR,ITS-90,PSS-78,,PSS-78,,UMOL/KG,,ITS-90,UMOL/KG,,UMOL/KG,,UMOL/KG,,UMOL/KG,,UMOL/KG,,PMOL/KG,,PMOL/KG,,PMOL/KG,,TU,,NMOL/KG,,PERCNT,,/MILLE,,/MILLE,,NMOL/KG,,UMOL/KG,,UATM,,DEG C,UMOL/KG,,,,DEG C,/MILLE,PERCNT,NMOL/KG,NMOL/KG,TU
     316N151_3,   A20,    50,  1,     33,     33,2,19970731,2050, 22.1885, -52.3368, 5016,  247.7,      9.1,  27.7370,  37.1417,2,-999.0000,9,    211.6,2, 27.7349,    215.3,2,     1.11,2,     0.04,2,     0.00,2,     0.01,2,    1.703,2,    1.034,2, -999.000,5, -999.000,5,-999.0000,5,  -999.00,9,   -999.0,9,  -999.00,9,-999.000,9,   2046.8,2,   -999.0,9,-999,   2426.0,2,   8.1240,2,   25,  -999.0, -999.00,-999.0000,-999.000,-999.000
     316N151_3,   A20,    50,  1,     32,     32,2,19970731,2050, 22.1885, -52.3368, 5016,  643.3,     48.8,  25.5120,  37.2227,2,-999.0000,9,    233.9,2, 25.5012,    226.6,2,     0.97,2,     0.03,2,     0.00,2,     0.01,2,    1.963,2,    1.135,2, -999.000,5, -999.000,5,-999.0000,5,  -999.00,9,   -999.0,9,  -999.00,9,-999.000,9,   2054.2,2,   -999.0,9,-999,   2430.2,6,   8.1140,2,   25,  -999.0, -999.00,-999.0000,-999.000,-999.000
     316N151_3,   A20,    50,  1,     31,     31,2,19970731,2050, 22.1885, -52.3368, 5016, 1154.8,    100.0,  23.1440,  37.2953,2,-999.0000,9,    212.0,2, 23.1233,    216.0,2,     0.91,2,     0.04,2,     0.00,2,     0.01,2,    2.033,2,    1.172,2, -999.000,5, -999.000,5,-999.0000,5,  -999.00,9,   -999.0,9,  -999.00,9,-999.000,9,   2072.9,2,   -999.0,9,-999,   2432.5,2,   8.0950,2,   25,  -999.0, -999.00,-999.0000,-999.000,-999.000
     316N151_3,   A20,    50,  1,     30,     30,2,19970731,2050, 22.1885, -52.3368, 5016, 1660.7,    150.6,  22.1775,  37.2225,2,-999.0000,9,    203.6,2, 22.1472,    211.8,2,     0.86,2,     0.10,2,     0.08,2,     0.02,2,    2.117,6,    1.204,6, -999.000,5, -999.000,5,-999.0000,5,  -999.00,9,   -999.0,9,  -999.00,9,-999.000,9,   2088.8,2,   -999.0,9,-999,   2429.2,2,   8.0610,2,   25,  -999.0, -999.00,-999.0000,-999.000,-999.000
     316N151_3,   A20,    50,  1,     29,     29,2,19970731,2050, 22.1885, -52.3368, 5016, 2162.5,    200.6,  19.6722,  36.7824,2,-999.0000,9,    189.4,2, 19.6351,    192.7,2,     1.09,2,     1.73,2,     0.02,2,     0.07,2,    2.289,2,    1.284,2, -999.000,5, -999.000,5,-999.0000,5,  -999.00,9,   -999.0,9,  -999.00,9,-999.000,9,   -999.0,9,   -999.0,9,-999,   2400.3,2,   8.0040,2,   25,  -999.0, -999.00,-999.0000,-999.000,-999.000
     316N151_3,   A20,    50,  1,     28,     28,2,19970731,2050, 22.1885, -52.3368, 5016, 2643.9,    248.5,  18.4245,  36.5895,2,  36.5896,2,    197.0,2, 18.3806,    198.7,3,     1.33,2,     3.66,2,     0.01,2,     0.17,2,    2.344,2,    1.310,2, -999.000,5, -999.000,5,-999.0000,5,  -999.00,9,   -999.0,9,  -999.00,9,-999.000,9,   2098.7,2,    379.7,2,  20,   2388.3,2,   7.9950,2,   25,  -999.0, -999.00,-999.0000,-999.000,-999.000
     316N151_3,   A20,    50,  1,     27,     27,2,19970731,2050, 22.1885, -52.3368, 5016, 3161.1,    300.2,  17.8647,  36.5150,2,  36.5148,2,    193.2,2, 17.8127,    191.1,2,     1.66,2,     5.36,2,     0.01,2,     0.28,2,    2.293,2,    1.256,2, -999.000,5, -999.000,5,-999.0000,5,  -999.00,9,   -999.0,9,  -999.00,9,-999.000,9,   -999.0,9,    404.7,2,  20,   2383.9,2,   7.9710,2,   25,  -999.0, -999.00,-999.0000,-999.000,-999.000
     316N151_3,   A20,    50,  1,     26,     26,2,19970731,2050, 22.1885, -52.3368, 5016, 3634.8,    347.7,  17.0976,  36.4019,2,  36.4021,2,    182.0,2, 17.0392,    181.9,2,     2.27,2,     7.56,2,     0.01,2,     0.42,2,    2.204,2,    1.199,2, -999.000,5, -999.000,5,-999.0000,5,  -999.00,9,   -999.0,9,  -999.00,9,-999.000,9,   2120.8,2,    442.3,2,  20,   2377.6,2,   7.9360,2,   25,  -999.0, -999.00,-999.0000,-999.000,-999.000
     316N151_3,   A20,    50,  1,     25,     25,2,19970731,2050, 22.1885, -52.3368, 5016, 4128.9,    397.2,  16.3479,  36.2774,2,  36.2769,2,    176.5,2, 16.2831,    177.4,2,     2.80,2,     9.18,2,     0.01,2,     0.52,2,    2.134,2,    1.134,2, -999.000,5, -999.000,5,-999.0000,5,  -999.00,9,   -999.0,9,  -999.00,9,-999.000,9,   2129.2,2,    557.7,3,  20,   2369.2,2,   7.9130,2,   25,  -999.0, -999.00,-999.0000,-999.000,-999.000
     316N151_3,   A20,    50,  1,     24,     24,2,19970731,2050, 22.1885, -52.3368, 5016, 5148.9,    499.7,  14.1205,  35.8966,2,  35.8973,2,    169.6,2, 14.0466,    166.3,2,     5.05,2,    13.82,2,     0.00,2,     0.81,2,    1.697,2,    0.886,2, -999.000,5, -999.000,5,-999.0000,5,  -999.00,9,   -999.0,9,  -999.00,9,-999.000,9,   2143.5,2,    558.5,3,  20,   2349.7,2,   7.8480,2,   25,  -999.0, -999.00,-999.0000,-999.000,-999.000
     316N151_3,   A20,    50,  1,     23,     23,2,19970731,2050, 22.1885, -52.3368, 5016, 6157.4,    600.8,  12.1774,  35.6268,2,  35.6269,2,    154.9,2, 12.0965,    157.2,2,     7.59,2,    17.94,2,     0.00,2,     1.08,2,    1.124,2,    0.588,2, -999.000,5, -999.000,5,-999.0000,5,  -999.00,9,   -999.0,9,  -999.00,9,-999.000,9,   2160.2,2,   -999.0,9,-999,   2335.5,2,   7.7890,2,   25,  -999.0, -999.00,-999.0000,-999.000,-999.000
     316N151_3,   A20,    50,  1,     22,     22,2,19970731,2050, 22.1885, -52.3368, 5016, 7146.0,    700.0,  10.2067,  35.3774,2,  35.3802,2,    148.5,2, 10.1221,    150.6,2,    11.67,2,    22.24,2,     0.00,2,     1.38,2,    0.575,2,    0.305,2, -999.000,5, -999.000,5,-999.0000,5,  -999.00,9,   -999.0,9,  -999.00,9,-999.000,9,   2178.2,2,    755.9,2,  20,   2327.5,2,   7.7320,2,   25,  -999.0, -999.00,-999.0000,-999.000,-999.000
     316N151_3,   A20,    50,  1,     21,     21,2,19970731,2050, 22.1885, -52.3368, 5016, 8129.0,    798.7,   8.7795,  35.2199,2,  35.2194,2,    145.6,2,  8.6907,    145.1,2,    15.17,2,    25.06,2,     0.00,2,     1.59,2,    0.254,6,    0.140,6, -999.000,5, -999.000,5,-999.0000,5,  -999.00,9,   -999.0,9,  -999.00,9,-999.000,9,   2189.8,2,    833.9,2,  20,   2323.6,2,   7.6910,2,   25,  -999.0, -999.00,-999.0000,-999.000,-999.000
     316N151_3,   A20,    50,  1,     20,     20,2,19970731,2050, 22.1885, -52.3368, 5016, 9638.4,    949.7,   6.7240,  34.9941,2,  34.9928,2,    149.7,2,  6.6321,    150.7,2,    20.12,2,    27.79,2,     0.00,2,     1.82,2,    0.073,2,    0.040,2, -999.000,5, -999.000,5,-999.0000,5,  -999.00,9,   -999.0,9,  -999.00,9,-999.000,9,   2201.2,2,    934.9,2,  20,   2317.3,2,   7.6530,2,   25,  -999.0, -999.00,-999.0000,-999.000,-999.000
     316N151_3,   A20,    50,  1,     19,     19,2,19970731,2050, 22.1885, -52.3368, 5016,11149.0,   1100.7,   5.7916,  34.9743,2,  34.9747,2,    175.8,2,  5.6917,    176.6,2,    19.88,2,    25.81,2,     0.00,2,     1.71,2,    0.092,2,    0.057,2, -999.000,5, -999.000,5,-999.0000,5,  -999.00,9,   -999.0,9,  -999.00,9,-999.000,9,   2193.6,2,    891.2,2,  20,   2316.4,2,   7.6680,2,   25,  -999.0, -999.00,-999.0000,-999.000,-999.000
     316N151_3,   A20,    50,  1,     18,     18,2,19970731,2050, 22.1885, -52.3368, 5016,12643.2,   1250.0,   5.3374,  35.0192,2,  35.0196,2,    202.5,2,  5.2268,    205.7,2,    17.12,2,    22.65,2,     0.00,2,     1.49,2,    0.169,2,    0.093,2, -999.000,5, -999.000,5,-999.0000,5,  -999.00,9,   -999.0,9,  -999.00,9,-999.000,9,   2182.9,2,    816.5,2,  20,   2317.4,2,   7.7060,2,   25,  -999.0, -999.00,-999.0000,-999.000,-999.000
     316N151_3,   A20,    50,  1,     17,     17,2,19970731,2050, 22.1885, -52.3368, 5016,14132.7,   1399.0,   4.8969,  35.0337,2,  35.0344,2,    225.5,2,  4.7764,    227.7,2,    15.25,2,    20.56,2,     0.00,2,     1.36,2,    0.194,2,    0.109,2, -999.000,5, -999.000,5,-999.0000,5,  -999.00,9,   -999.0,9,  -999.00,9,-999.000,9,   2169.5,2,    772.3,2,  20,   2318.3,2,   7.7280,2,   25,  -999.0, -999.00,-999.0000,-999.000,-999.000
     316N151_3,   A20,    50,  1,     16,     16,2,19970731,2050, 22.1885, -52.3368, 5016,15638.3,   1549.4,   4.4935,  35.0324,2,  35.0322,2,    240.2,2,  4.3630,    241.7,2,    14.91,2,    19.54,2,     0.00,2,     1.29,2,    0.143,6,    0.084,6, -999.000,5, -999.000,5,-999.0000,5,  -999.00,9,   -999.0,9,  -999.00,9,-999.000,9,   2164.8,2,    747.2,2,  20,   2315.9,2,   7.7400,2,   25,  -999.0, -999.00,-999.0000,-999.000,-999.000
     316N151_3,   A20,    50,  1,     15,     15,2,19970731,2050, 22.1885, -52.3368, 5016,17154.1,   1701.1,   4.2361,  35.0287,2,  35.0273,2,    247.4,2,  4.0941,    247.5,2,    15.62,2,    19.22,2,     0.00,2,     1.27,2,    0.095,2,    0.056,2, -999.000,5, -999.000,5,-999.0000,5,  -999.00,9,   -999.0,9,  -999.00,9,-999.000,9,   2163.3,2,    737.3,2,  20,   2319.6,2,   7.7450,2,   25,  -999.0, -999.00,-999.0000,-999.000,-999.000
     316N151_3,   A20,    50,  1,     14,     14,2,19970731,2050, 22.1885, -52.3368, 5016,19155.2,   1901.0,   3.8638,  35.0156,2,  35.0152,2,    251.5,2,  3.7077,    250.1,2,    18.45,2,    19.37,2,     0.00,2,     1.29,2,    0.024,2,    0.019,2, -999.000,5, -999.000,5,-999.0000,5,  -999.00,9,   -999.0,9,  -999.00,9,-999.000,9,   2163.9,2,    730.4,2,  20,   2320.0,2,   7.7500,2,   25,  -999.0, -999.00,-999.0000,-999.000,-999.000
     316N151_3,   A20,    50,  1,     13,     13,2,19970731,2050, 22.1885, -52.3368, 5016,21115.9,   2097.0,   3.5564,  34.9979,2,  34.9975,2,    251.5,2,  3.3861,    250.8,2,    21.76,2,    19.59,2,     0.00,2,     1.31,2,    0.014,2,    0.013,2, -999.000,5, -999.000,5,-999.0000,5,  -999.00,9,   -999.0,9,  -999.00,9,-999.000,9,   2167.4,2,    728.9,2,  20,   2326.1,2,   7.7510,2,   25,  -999.0, -999.00,-999.0000,-999.000,-999.000
     316N151_3,   A20,    50,  1,     12,     12,2,19970731,2050, 22.1885, -52.3368, 5016,23138.3,   2299.2,   3.2880,  34.9774,2,  34.9794,2,    253.1,2,  3.1025,    251.7,2,    24.68,2,    19.80,2,     0.00,2,     1.32,2,    0.014,2,    0.009,2, -999.000,5, -999.000,5,-999.0000,5,  -999.00,9,   -999.0,9,  -999.00,9,-999.000,9,   2171.6,2,    733.2,2,  20,   2325.9,2,   7.7490,2,   25,  -999.0, -999.00,-999.0000,-999.000,-999.000
     316N151_3,   A20,    50,  1,     11,     11,2,19970731,2050, 22.1885, -52.3368, 5016,25151.4,   2500.3,   3.1101,  34.9625,2,  34.9633,2,    253.5,2,  2.9079,    252.4,2,    26.65,2,    19.91,2,     0.00,2,     1.33,2,    0.010,2,    0.010,2, -999.000,5, -999.000,5,-999.0000,5,  -999.00,9,   -999.0,9,  -999.00,9,-999.000,9,   2171.7,2,    734.6,2,  20,   2329.3,2,   7.7490,2,   25,  -999.0, -999.00,-999.0000,-999.000,-999.000
     316N151_3,   A20,    50,  1,     10,     10,2,19970731,2050, 22.1885, -52.3368, 5016,27639.1,   2749.0,   2.9082,  34.9462,2,  34.9469,2,    254.3,2,  2.6852,    253.1,2,    29.48,2,    20.08,2,     0.00,2,     1.35,2,    0.008,2,    0.006,2, -999.000,5, -999.000,5,-999.0000,5,  -999.00,9,   -999.0,9,  -999.00,9,-999.000,9,   2174.7,2,    736.0,2,  20,   2329.5,2,   7.7480,2,   25,  -999.0, -999.00,-999.0000,-999.000,-999.000
     316N151_3,   A20,    50,  1,      9,      9,2,19970731,2050, 22.1885, -52.3368, 5016,30139.4,   2998.9,   2.7344,  34.9319,2,  34.9334,2,    254.1,2,  2.4896,    253.8,2,    31.82,2,    20.30,2,     0.00,2,     1.37,2,    0.008,2,    0.009,2, -999.000,5, -999.000,5,-999.0000,5,  -999.00,9,   -999.0,9,  -999.00,9,-999.000,9,   2175.6,2,   -999.0,9,-999,   2333.1,2,   7.7470,2,   25,  -999.0, -999.00,-999.0000,-999.000,-999.000
     316N151_3,   A20,    50,  1,      8,      8,2,19970731,2050, 22.1885, -52.3368, 5016,32645.8,   3249.5,   2.6175,  34.9211,2,  34.9214,2,    254.8,2,  2.3490,    253.9,2,    34.56,2,    20.58,2,     0.00,2,     1.39,2,    0.006,2,    0.006,2, -999.000,5, -999.000,5,-999.0000,5,  -999.00,9,   -999.0,9,  -999.00,9,-999.000,9,   2178.8,2,   -999.0,9,-999,   2333.3,2,   7.7460,2,   25,  -999.0, -999.00,-999.0000,-999.000,-999.000
     316N151_3,   A20,    50,  1,      7,      7,2,19970731,2050, 22.1885, -52.3368, 5016,35163.8,   3501.1,   2.4775,  34.9080,2,  34.9073,2,    254.5,2,  2.1856,    254.1,2,    37.95,2,    20.90,2,     0.00,2,     1.42,2,    0.008,2,    0.005,2, -999.000,5, -999.000,5,-999.0000,5,  -999.00,9,   -999.0,9,  -999.00,9,-999.000,9,   2181.3,2,   -999.0,9,-999,   2336.5,2,   7.7390,2,   25,  -999.0, -999.00,-999.0000,-999.000,-999.000
     316N151_3,   A20,    50,  1,      6,      6,2,19970731,2050, 22.1885, -52.3368, 5016,37631.9,   3747.8,   2.3426,  34.8954,2,  34.8948,2,    253.9,2,  2.0272,    254.0,2,    41.26,2,    21.19,2,     0.00,2,     1.44,2,    0.007,2,    0.007,2, -999.000,5, -999.000,5,-999.0000,5,  -999.00,9,   -999.0,9,  -999.00,9,-999.000,9,   2185.0,2,   -999.0,9,-999,   2337.1,2,   7.7420,2,   25,  -999.0, -999.00,-999.0000,-999.000,-999.000
     316N151_3,   A20,    50,  1,      5,      5,2,19970731,2050, 22.1885, -52.3368, 5016,40142.9,   3998.9,   2.2350,  34.8828,2,  34.8828,2,    252.5,2,  1.8943,    252.6,2,    44.76,2,    21.57,2,     0.00,2,     1.47,2,    0.014,6,    0.017,6, -999.000,5, -999.000,5,-999.0000,5,  -999.00,9,   -999.0,9,  -999.00,9,-999.000,9,   2189.1,2,   -999.0,9,-999,   2341.4,2,   7.7370,2,   25,  -999.0, -999.00,-999.0000,-999.000,-999.000
     316N151_3,   A20,    50,  1,      4,      4,2,19970731,2050, 22.1885, -52.3368, 5016,42658.9,   4250.3,   2.1761,  34.8756,2,  34.8758,2,    252.7,2,  1.8084,    252.1,2,    47.02,2,    21.81,2,     0.00,2,     1.49,2,    0.009,2,    0.010,2, -999.000,5, -999.000,5,-999.0000,5,  -999.00,9,   -999.0,9,  -999.00,9,-999.000,9,   2191.1,2,   -999.0,9,-999,   2340.9,2,   7.7320,2,   25,  -999.0, -999.00,-999.0000,-999.000,-999.000
     316N151_3,   A20,    50,  1,      3,      3,2,19970731,2050, 22.1885, -52.3368, 5016,45173.7,   4501.8,   2.1316,  34.8690,2,  34.8689,2,    253.0,2,  1.7356,    251.6,2,    48.78,2,    22.00,2,     0.00,2,     1.50,2,    0.011,2,    0.015,2, -999.000,5, -999.000,5,-999.0000,5,  -999.00,9,   -999.0,9,  -999.00,9,-999.000,9,   2193.7,2,   -999.0,9,-999,   2342.1,2,   7.7300,2,   25,  -999.0, -999.00,-999.0000,-999.000,-999.000
     316N151_3,   A20,    50,  1,      2,      2,2,19970731,2050, 22.1885, -52.3368, 5016,48166.4,   4801.1,   2.0971,  34.8627,2,  34.8610,2,    252.5,2,  1.6661,    251.5,2,    50.94,2,    22.28,2,     0.00,2,     1.52,2,    0.018,2,    0.016,2, -999.000,5, -999.000,5,-999.0000,5,  -999.00,9,   -999.0,9,  -999.00,9,-999.000,9,   2198.1,2,   -999.0,9,-999,   2346.0,6,   7.7310,6,   25,  -999.0, -999.00,-999.0000,-999.000,-999.000
     316N151_3,   A20,    50,  1,      1,      1,2,19970731,2050, 22.1885, -52.3368, 5016,51060.1,   5090.0,   2.0784,  34.8562,2,  34.8567,2,    250.3,2,  1.6121,    250.1,2,    53.14,6,    22.50,6,     0.00,6,     1.54,6,    0.034,2,    0.019,2, -999.000,5, -999.000,5,-999.0000,5,  -999.00,9,   -999.0,9,  -999.00,9,-999.000,9,   2199.4,2,   -999.0,9,-999,   2344.3,2,   7.7260,2,   25,  -999.0, -999.00,-999.0000,-999.000,-999.000