BOTTLE,20220812CCHSIOAMB
EXPOCODE,SECT_ID,STNNBR,CASTNO,SAMPNO,BTLNBR,BTLNBR_FLAG_W,DATE,TIME,LATITUDE,LONGITUDE,DEPTH,CTDRAW,CTDPRS,CTDTMP,CTDSAL,CTDSAL_FLAG_W,SALNTY,SALNTY_FLAG_W,CTDOXY,CTDOXY_FLAG_W,THETA,OXYGEN,OXYGEN_FLAG_W,SILCAT,SILCAT_FLAG_W,NITRAT,NITRAT_FLAG_W,NITRIT,NITRIT_FLAG_W,PHSPHT,PHSPHT_FLAG_W,CFC-11,CFC-11_FLAG_W,CFC-12,CFC-12_FLAG_W,CFC113,CFC113_FLAG_W,TRITUM,TRITUM_FLAG_W,HELIUM,HELIUM_FLAG_W,DELHE3,DELHE3_FLAG_W,DELC14,DELC14_FLAG_W,DELC13,DELC13_FLAG_W,NEON,NEON_FLAG_W,TCARBN,TCARBN_FLAG_W,PCO2,PCO2_FLAG_W,PCO2_TMP,ALKALI,ALKALI_FLAG_W,PH,PH_FLAG_W,PH_TMP,C14ERR,DELHER,HELIER,NEONER,TRITER
,,,,,,,,,,,,,DBAR,ITS-90,PSS-78,,PSS-78,,UMOL/KG,,ITS-90,UMOL/KG,,UMOL/KG,,UMOL/KG,,UMOL/KG,,UMOL/KG,,PMOL/KG,,PMOL/KG,,PMOL/KG,,TU,,NMOL/KG,,PERCNT,,/MILLE,,/MILLE,,NMOL/KG,,UMOL/KG,,UATM,,DEG C,UMOL/KG,,,,DEG C,/MILLE,PERCNT,NMOL/KG,NMOL/KG,TU
     316N151_3,   A20,    45,  1,     33,     33,2,19970730,0906, 25.5245, -52.3380, 5782,  210.8,      6.0,  27.7551,  37.3830,2,  37.3817,2,    202.8,2, 27.7537,    210.9,2,     0.30,2,     0.07,2,     0.00,2,     0.01,2,    1.695,2,    1.007,2, -999.000,5, -999.000,5,-999.0000,5,  -999.00,9,   -999.0,9,  -999.00,9,-999.000,9,   2061.0,2,    275.5,2,  20,   2441.0,2,   8.1140,2,   25,  -999.0, -999.00,-999.0000,-999.000,-999.000
     316N151_3,   A20,    45,  1,     32,     32,2,19970730,0906, 25.5245, -52.3380, 5782,  397.8,     24.8,  27.7506,  37.3867,2,  37.3931,2,    211.0,2, 27.7447,    212.9,2,     0.31,2,     0.07,2,     0.00,2,     0.01,2, -999.000,9, -999.000,9, -999.000,5, -999.000,5,-999.0000,5,  -999.00,9,   -999.0,9,  -999.00,9,-999.000,9,   2061.0,2,    271.6,2,  20,   2442.6,6,   8.1150,2,   25,  -999.0, -999.00,-999.0000,-999.000,-999.000
     316N151_3,   A20,    45,  1,     31,     31,2,19970730,0906, 25.5245, -52.3380, 5782,  640.1,     48.9,  25.4256,  37.5012,2,  37.4973,2,    223.3,2, 25.4148,    226.2,2,     0.13,2,     0.04,2,     0.00,2,     0.01,2,    1.954,2,    1.131,2, -999.000,5, -999.000,5,-999.0000,5,  -999.00,9,   -999.0,9,  -999.00,9,-999.000,9,   2075.0,2,    287.4,2,  20,   2447.0,2,   8.1000,2,   25,  -999.0, -999.00,-999.0000,-999.000,-999.000
     316N151_3,   A20,    45,  1,     30,     30,2,19970730,0906, 25.5245, -52.3380, 5782,  885.8,     73.5,  23.8387,  37.3847,2,  37.3909,2,    230.3,2, 23.8232,    230.6,2,     0.14,2,     0.07,2,     0.00,2,     0.01,2,    2.033,2,    1.172,2, -999.000,5, -999.000,5,-999.0000,5,  -999.00,9,   -999.0,9,  -999.00,9,-999.000,9,   2072.1,2,    292.3,2,  20,   2440.3,2,   8.0970,2,   25,  -999.0, -999.00,-999.0000,-999.000,-999.000
     316N151_3,   A20,    45,  1,     29,     29,2,19970730,0906, 25.5245, -52.3380, 5782, 1143.4,     99.1,  22.7938,  37.2813,2,  37.2807,2,    221.4,2, 22.7735,    225.2,2,     0.05,2,     0.04,2,     0.00,2,     0.01,2, -999.000,9, -999.000,9, -999.000,5, -999.000,5,-999.0000,5,  -999.00,9,   -999.0,9,  -999.00,9,-999.000,9,   2073.8,2,    294.8,2,  20,   2432.8,2,   8.0860,2,   25,  -999.0, -999.00,-999.0000,-999.000,-999.000
     316N151_3,   A20,    45,  1,     28,     28,2,19970730,0906, 25.5245, -52.3380, 5782, 1403.7,    125.0,  22.2057,  37.2055,2,  37.2063,2,    216.9,2, 22.1806,    214.7,2,     0.16,2,     0.04,2,     0.00,2,     0.01,2,    2.106,6,    1.220,6, -999.000,5, -999.000,5,-999.0000,5,  -999.00,9,   -999.0,9,  -999.00,9,-999.000,9,   2081.6,2,    309.4,2,  20,   2428.3,2,   8.0670,2,   25,  -999.0, -999.00,-999.0000,-999.000,-999.000
     316N151_3,   A20,    45,  1,     27,     27,2,19970730,0906, 25.5245, -52.3380, 5782, 1630.7,    147.7,  21.4489,  37.0840,2,  37.0857,2,    199.5,2, 21.4199,    205.8,2,     0.07,2,     0.06,2,     0.01,2,     0.01,2, -999.000,9, -999.000,9, -999.000,5, -999.000,5,-999.0000,5,  -999.00,9,   -999.0,9,  -999.00,9,-999.000,9,   2090.9,2,    330.0,2,  20,   2419.9,2,   8.0470,2,   25,  -999.0, -999.00,-999.0000,-999.000,-999.000
     316N151_3,   A20,    45,  1,     26,     26,2,19970730,0906, 25.5245, -52.3380, 5782, 1891.0,    173.5,  20.5494,  36.9299,2,  36.9246,2,    188.1,2, 20.5163,    194.5,2,     0.18,2,     0.63,2,     0.05,2,     0.02,2,    2.214,2,    1.261,2, -999.000,5, -999.000,5,-999.0000,5,  -999.00,9,   -999.0,9,  -999.00,9,-999.000,9,   2101.1,2,    359.0,2,  20,   2410.2,2,   8.0190,2,   25,  -999.0, -999.00,-999.0000,-999.000,-999.000
     316N151_3,   A20,    45,  1,     25,     25,2,19970730,0906, 25.5245, -52.3380, 5782, 2165.0,    200.8,  19.5989,  36.7903,2,  36.7933,2,    187.2,2, 19.5619,    191.7,2,     0.37,2,     1.96,2,     0.02,2,     0.07,2,    2.278,2,    1.273,2, -999.000,5, -999.000,5,-999.0000,5,  -999.00,9,   -999.0,9,  -999.00,9,-999.000,9,   2106.3,2,    376.9,2,  20,   2402.0,2,   7.9990,2,   25,  -999.0, -999.00,-999.0000,-999.000,-999.000
     316N151_3,   A20,    45,  1,     24,     24,2,19970730,0906, 25.5245, -52.3380, 5782, 2655.5,    249.8,  18.6653,  36.6348,2,  36.6368,2,    197.3,2, 18.6208,    197.3,2,     0.67,2,     3.28,2,     0.01,2,     0.14,2,    2.346,2,    1.302,2, -999.000,5, -999.000,5,-999.0000,5,  -999.00,9,   -999.0,9,  -999.00,9,-999.000,9,   2100.6,2,    381.7,2,  20,   2392.5,2,   7.9960,2,   25,  -999.0, -999.00,-999.0000,-999.000,-999.000
     316N151_3,   A20,    45,  1,     23,     23,2,19970730,0906, 25.5245, -52.3380, 5782, 3147.6,    298.9,  18.0372,  36.5255,2,  36.5254,2,    197.2,2, 17.9852,    198.9,2,     0.97,2,     4.44,2,     0.00,2,     0.22,2,    2.324,2,    1.291,2, -999.000,5, -999.000,5,-999.0000,5,  -999.00,9,   -999.0,9,  -999.00,9,-999.000,9,   2099.0,2,    389.7,2,  20,   2385.0,2,   7.9880,2,   25,  -999.0, -999.00,-999.0000,-999.000,-999.000
     316N151_3,   A20,    45,  1,     22,     22,2,19970730,0906, 25.5245, -52.3380, 5782, 4154.7,    399.6,  16.8990,  36.3539,2,  36.3516,2,    186.1,2, 16.8325,    185.6,2,     1.83,2,     7.48,2,     0.00,2,     0.41,2,    2.199,2,    1.185,2, -999.000,5, -999.000,5,-999.0000,5,  -999.00,9,   -999.0,9,  -999.00,9,-999.000,9,   2117.7,2,   -999.0,9,-999,   2375.3,2,   7.9400,2,   25,  -999.0, -999.00,-999.0000,-999.000,-999.000
     316N151_3,   A20,    45,  1,     21,     21,2,19970730,0906, 25.5245, -52.3380, 5782, 5150.7,    499.7,  15.0645,  36.0538,2,  36.0562,2,    176.7,2, 14.9872,    178.7,2,     3.28,2,    11.00,2,     0.00,2,     0.63,2, -999.000,9,    1.093,2, -999.000,5, -999.000,5,-999.0000,5,  -999.00,9,   -999.0,9,  -999.00,9,-999.000,9,   2132.0,2,    502.8,2,  20,   2359.2,2,   7.8890,2,   25,  -999.0, -999.00,-999.0000,-999.000,-999.000
     316N151_3,   A20,    45,  1,     20,     20,2,19970730,0906, 25.5245, -52.3380, 5782, 6637.3,    648.9,  12.3654,  35.6667,2,  35.6644,2,    169.2,2, 12.2770,    165.2,2,     6.35,2,    16.76,2,     0.00,2,     1.00,2,    1.385,2,    0.724,2, -999.000,5, -999.000,5,-999.0000,5,  -999.00,9,   -999.0,9,  -999.00,9,-999.000,9,   2155.0,2,    632.2,2,  20,   2340.1,2,   7.8030,2,   25,  -999.0, -999.00,-999.0000,-999.000,-999.000
     316N151_3,   A20,    45,  1,     19,     19,2,19970730,0906, 25.5245, -52.3380, 5782, 8131.5,    798.6,  10.0406,  35.3681,2,  35.3681,2,    152.8,2,  9.9444,    180.6,4,    11.44,2,    22.24,2,     0.00,2,     1.38,2,    0.517,2,    0.273,2, -999.000,5, -999.000,5,-999.0000,5,  -999.00,9,   -999.0,9,  -999.00,9,-999.000,9,   2178.5,2,    762.1,2,  20,   2328.3,2,   7.7330,2,   25,  -999.0, -999.00,-999.0000,-999.000,-999.000
     316N151_3,   A20,    45,  1,     18,     18,2,19970730,0906, 25.5245, -52.3380, 5782, 9613.0,    947.0,   8.0434,  35.1527,2,  35.1518,2,    150.7,2,  7.9425,    150.6,2,    16.05,2,    25.52,2,     0.00,2,     1.64,2,    0.188,6,    0.107,6, -999.000,5, -999.000,5,-999.0000,5,  -999.00,9,   -999.0,9,  -999.00,9,-999.000,9,   2191.5,2,    854.2,2,  20,   2321.3,2,   7.6850,2,   25,  -999.0, -999.00,-999.0000,-999.000,-999.000
     316N151_3,   A20,    45,  1,     17,     17,2,19970730,0906, 25.5245, -52.3380, 5782,11125.4,   1098.2,   6.4984,  35.0319,2,  35.0346,2,    168.1,2,  6.3929,    167.7,2,    18.27,2,    25.80,2,     0.00,2,     1.69,2,    0.106,2,    0.060,2, -999.000,5, -999.000,5,-999.0000,5,  -999.00,9,   -999.0,9,  -999.00,9,-999.000,9,   2194.0,2,    878.4,2,  20,   2317.8,2,   7.6750,2,   25,  -999.0, -999.00,-999.0000,-999.000,-999.000
     316N151_3,   A20,    45,  1,     16,     16,2,19970730,0906, 25.5245, -52.3380, 5782,12656.6,   1251.3,   5.8417,  35.0664,2,  35.0663,2,    192.1,2,  5.7262,    196.4,2,    16.45,2,    23.07,2,     0.00,2,     1.51,2,    0.146,2,    0.081,2, -999.000,5, -999.000,5,-999.0000,5,  -999.00,9,   -999.0,9,  -999.00,9,-999.000,9,   2182.2,2,    815.9,2,  20,   2319.8,2,   7.7060,2,   25,  -999.0, -999.00,-999.0000,-999.000,-999.000
     316N151_3,   A20,    45,  1,     15,     15,2,19970730,0906, 25.5245, -52.3380, 5782,14626.2,   1448.2,   5.3383,  35.1128,2,  35.1136,2,    221.0,2,  5.2080,    221.4,2,    15.02,2,    20.61,2,     0.00,2,     1.35,2,    0.201,2,    0.112,2, -999.000,5, -999.000,5,-999.0000,5,  -999.00,9,   -999.0,9,  -999.00,9,-999.000,9,   2172.2,2,    762.8,2,  20,   2322.1,2,   7.7320,2,   25,  -999.0, -999.00,-999.0000,-999.000,-999.000
     316N151_3,   A20,    45,  1,     14,     14,2,19970730,0906, 25.5245, -52.3380, 5782,16665.5,   1652.1,   4.7043,  35.0875,2,  35.0890,2,    236.2,2,  4.5610,    236.3,2,    15.71,2,    19.71,2,     0.00,2,     1.29,2,    0.147,2,    0.082,2, -999.000,5, -999.000,5,-999.0000,5,  -999.00,9,   -999.0,9,  -999.00,9,-999.000,9,   2168.1,2,    742.8,2,  20,   2323.9,2,   7.7440,2,   25,  -999.0, -999.00,-999.0000,-999.000,-999.000
     316N151_3,   A20,    45,  1,     13,     13,2,19970730,0906, 25.5245, -52.3380, 5782,18590.6,   1844.6,   4.3101,  35.0675,2,  35.0691,2,    241.9,2,  4.1531,    242.0,2,    17.63,2,    19.55,2,     0.00,2,     1.29,2,    0.121,2,    0.070,2, -999.000,5, -999.000,5,-999.0000,5,  -999.00,9,   -999.0,9,  -999.00,9,-999.000,9,   2169.2,2,    732.4,2,  20,   2323.3,2,   7.7470,2,   25,  -999.0, -999.00,-999.0000,-999.000,-999.000
     316N151_3,   A20,    45,  1,     12,     12,2,19970730,0906, 25.5245, -52.3380, 5782,20655.5,   2051.0,   3.7741,  35.0232,2,  35.0260,2,    247.7,2,  3.6048,    247.3,2,    25.02,2,    19.90,2,     0.00,2,     1.32,2,    0.069,6,    0.041,6, -999.000,5, -999.000,5,-999.0000,5,  -999.00,9,   -999.0,9,  -999.00,9,-999.000,9,   2170.3,2,   -999.0,9,-999,   2324.9,2,   7.7450,2,   25,  -999.0, -999.00,-999.0000,-999.000,-999.000
     316N151_3,   A20,    45,  1,     11,     11,2,19970730,0906, 25.5245, -52.3380, 5782,23133.8,   2298.7,   3.3618,  34.9868,2,  34.9870,2,    250.8,2,  3.1750,    249.7,2,    24.85,2,    19.90,2,     0.00,2,     1.33,2,    0.042,2,    0.024,2, -999.000,5, -999.000,5,-999.0000,5,  -999.00,9,   -999.0,9,  -999.00,9,-999.000,9,   2171.9,2,   -999.0,9,-999,   2327.4,2,   7.7460,2,   25,  -999.0, -999.00,-999.0000,-999.000,-999.000
     316N151_3,   A20,    45,  1,     10,     10,2,19970730,0906, 25.5245, -52.3380, 5782,26082.6,   2593.4,   3.0941,  34.9620,2,  34.9638,2,    251.7,2,  2.8830,    251.2,2,    28.12,2,    20.07,2,     0.00,2,     1.34,2,    0.035,2,    0.026,2, -999.000,5, -999.000,5,-999.0000,5,  -999.00,9,   -999.0,9,  -999.00,9,-999.000,9,   2176.8,2,   -999.0,9,-999,   2331.4,2,   7.7440,2,   25,  -999.0, -999.00,-999.0000,-999.000,-999.000
     316N151_3,   A20,    45,  1,      9,      9,2,19970730,0906, 25.5245, -52.3380, 5782,29134.1,   2898.5,   2.9026,  34.9458,2,  34.9475,2,    251.5,2,  2.6645,    251.2,2,    31.29,2,    20.46,2,     0.00,2,     1.37,2,    0.013,2,    0.010,2, -999.000,5, -999.000,5,-999.0000,5,  -999.00,9,   -999.0,9,  -999.00,9,-999.000,9,   2179.4,2,   -999.0,9,-999,   2332.1,2,   7.7450,2,   25,  -999.0, -999.00,-999.0000,-999.000,-999.000
     316N151_3,   A20,    45,  1,      8,      8,2,19970730,0906, 25.5245, -52.3380, 5782,32130.8,   3197.9,   2.7094,  34.9282,2,  34.9303,2,    253.2,2,  2.4443,    252.6,2,    34.28,2,    20.66,2,     0.00,2,     1.39,2,    0.011,2,    0.009,2, -999.000,5, -999.000,5,-999.0000,5,  -999.00,9,   -999.0,9,  -999.00,9,-999.000,9,   2180.7,2,   -999.0,9,-999,   2337.0,2,   7.7440,2,   25,  -999.0, -999.00,-999.0000,-999.000,-999.000
     316N151_3,   A20,    45,  1,      7,      7,2,19970730,0906, 25.5245, -52.3380, 5782,35125.6,   3497.3,   2.5373,  34.9137,2,  34.9144,2,    255.1,2,  2.2443,    254.1,2,    36.41,2,    20.73,2,     0.00,2,     1.40,2,    0.007,2,    0.008,2, -999.000,5, -999.000,5,-999.0000,5,  -999.00,9,   -999.0,9,  -999.00,9,-999.000,9,   2181.2,2,   -999.0,9,-999,   2335.2,2,   7.7450,2,   25,  -999.0, -999.00,-999.0000,-999.000,-999.000
     316N151_3,   A20,    45,  1,      6,      6,2,19970730,0906, 25.5245, -52.3380, 5782,39142.6,   3898.8,   2.3419,  34.8952,2,  34.8955,2,    255.3,2,  2.0095,    254.9,2,    40.45,2,    21.04,2,     0.00,2,     1.43,2,    0.010,6,    0.008,6, -999.000,5, -999.000,5,-999.0000,5,  -999.00,9,   -999.0,9,  -999.00,9,-999.000,9,   2184.7,2,   -999.0,9,-999,   2339.6,2,   7.7420,2,   25,  -999.0, -999.00,-999.0000,-999.000,-999.000
     316N151_3,   A20,    45,  1,      5,      5,2,19970730,0906, 25.5245, -52.3380, 5782,43125.8,   4296.9,   2.2120,  34.8799,2,  34.8782,2,    254.8,2,  1.8377,    254.6,2,    44.40,2,    21.42,2,     0.00,2,     1.46,2,    0.006,2,    0.009,2, -999.000,5, -999.000,5,-999.0000,5,  -999.00,9,   -999.0,9,  -999.00,9,-999.000,9,   2188.3,2,   -999.0,9,-999,   2339.2,2,   7.7360,2,   25,  -999.0, -999.00,-999.0000,-999.000,-999.000
     316N151_3,   A20,    45,  1,      4,      4,2,19970730,0906, 25.5245, -52.3380, 5782,47185.7,   4702.8,   2.1468,  34.8690,2,  34.8696,2,    253.6,2,  1.7261,    253.6,2,    47.77,2,    21.87,2,     0.00,2,     1.49,2,    0.008,6,    0.008,6, -999.000,5, -999.000,5,-999.0000,5,  -999.00,9,   -999.0,9,  -999.00,9,-999.000,9,   2193.2,2,   -999.0,9,-999,   2338.4,2,   7.7350,2,   25,  -999.0, -999.00,-999.0000,-999.000,-999.000
     316N151_3,   A20,    45,  1,      3,      3,2,19970730,0906, 25.5245, -52.3380, 5782,51126.3,   5096.6,   2.1334,  34.8628,2,  34.8618,2,    253.4,2,  1.6643,    252.6,2,    50.08,2,    22.19,2,     0.00,2,     1.51,2,    0.010,2,    0.012,2, -999.000,5, -999.000,5,-999.0000,5,  -999.00,9,   -999.0,9,  -999.00,9,-999.000,9,   2194.1,2,   -999.0,9,-999,   2344.7,2,   7.7300,2,   25,  -999.0, -999.00,-999.0000,-999.000,-999.000
     316N151_3,   A20,    45,  1,      2,      2,3,19970730,0906, 25.5245, -52.3380, 5782,55155.1,   5499.3,   2.0959,  34.8523,2,  34.8658,4,    252.0,2,  1.5765,    249.9,3,    53.46,2,    22.60,2,     0.00,2,     1.54,2, -999.000,9, -999.000,9, -999.000,5, -999.000,5,-999.0000,5,  -999.00,9,   -999.0,9,  -999.00,9,-999.000,9,   2199.0,2,   -999.0,9,-999,   2345.4,6,   7.7270,2,   25,  -999.0, -999.00,-999.0000,-999.000,-999.000
     316N151_3,   A20,    45,  1,      1,      1,2,19970730,0906, 25.5245, -52.3380, 5782,58813.7,   5865.4,   2.1265,  34.8508,2,  34.8515,2,    250.3,2,  1.5571,    250.2,2,    54.71,6,    22.79,6,     0.00,6,     1.55,6,    0.020,2,    0.016,2, -999.000,5, -999.000,5,-999.0000,5,  -999.00,9,   -999.0,9,  -999.00,9,-999.000,9,   2199.6,2,   -999.0,9,-999,   2345.0,2,   7.7170,2,   25,  -999.0, -999.00,-999.0000,-999.000,-999.000