BOTTLE,20220812CCHSIOAMB
EXPOCODE,SECT_ID,STNNBR,CASTNO,SAMPNO,BTLNBR,BTLNBR_FLAG_W,DATE,TIME,LATITUDE,LONGITUDE,DEPTH,CTDRAW,CTDPRS,CTDTMP,CTDSAL,CTDSAL_FLAG_W,SALNTY,SALNTY_FLAG_W,CTDOXY,CTDOXY_FLAG_W,THETA,OXYGEN,OXYGEN_FLAG_W,SILCAT,SILCAT_FLAG_W,NITRAT,NITRAT_FLAG_W,NITRIT,NITRIT_FLAG_W,PHSPHT,PHSPHT_FLAG_W,CFC-11,CFC-11_FLAG_W,CFC-12,CFC-12_FLAG_W,CFC113,CFC113_FLAG_W,TRITUM,TRITUM_FLAG_W,HELIUM,HELIUM_FLAG_W,DELHE3,DELHE3_FLAG_W,DELC14,DELC14_FLAG_W,DELC13,DELC13_FLAG_W,NEON,NEON_FLAG_W,TCARBN,TCARBN_FLAG_W,PCO2,PCO2_FLAG_W,PCO2_TMP,ALKALI,ALKALI_FLAG_W,PH,PH_FLAG_W,PH_TMP,C14ERR,DELHER,HELIER,NEONER,TRITER
,,,,,,,,,,,,,DBAR,ITS-90,PSS-78,,PSS-78,,UMOL/KG,,ITS-90,UMOL/KG,,UMOL/KG,,UMOL/KG,,UMOL/KG,,UMOL/KG,,PMOL/KG,,PMOL/KG,,PMOL/KG,,TU,,NMOL/KG,,PERCNT,,/MILLE,,/MILLE,,NMOL/KG,,UMOL/KG,,UATM,,DEG C,UMOL/KG,,,,DEG C,/MILLE,PERCNT,NMOL/KG,NMOL/KG,TU
     316N151_3,   A20,    67,  1,     33,     33,2,19970805,1812, 10.8447, -52.3338, 4954,  258.5,      8.4,  28.3233,  34.0053,2,  33.9995,2,    211.9,2, 28.3213,    207.0,2,     3.27,2,     0.04,2,    -0.01,2,     0.01,2, -999.000,9, -999.000,9, -999.000,5, -999.000,5,-999.0000,5,  -999.00,9,   -999.0,9,  -999.00,9,-999.000,9,   1898.2,2,    252.2,2,  20,   2236.4,2,   8.1260,2,   25,  -999.0, -999.00,-999.0000,-999.000,-999.000
     316N151_3,   A20,    67,  1,     32,     32,2,19970805,1812, 10.8447, -52.3338, 4954,  670.9,     51.4,  25.7529,  36.2546,2,  36.2764,2,    187.8,2, 25.7415,    203.1,2,     1.51,2,     0.08,2,     0.00,2,     0.07,2, -999.000,9, -999.000,9, -999.000,5, -999.000,5,-999.0000,5,  -999.00,9,   -999.0,9,  -999.00,9,-999.000,9,   2034.7,2,    302.7,2,  20,   2372.9,6,   8.0770,2,   25,  -999.0, -999.00,-999.0000,-999.000,-999.000
     316N151_3,   A20,    67,  1,     31,     31,2,19970805,1812, 10.8447, -52.3338, 4954, 1147.7,     99.9,  19.5153,  36.1922,2,  36.1925,2,    128.8,2, 19.4970,    129.0,2,     4.20,2,    11.39,2,     0.04,2,     0.74,2, -999.000,9, -999.000,9, -999.000,5, -999.000,5,-999.0000,5,  -999.00,9,   -999.0,9,  -999.00,9,-999.000,9,   2145.9,2,    533.8,2,  20,   2369.8,2,   7.8710,2,   25,  -999.0, -999.00,-999.0000,-999.000,-999.000
     316N151_3,   A20,    67,  1,     30,     30,2,19970805,1812, 10.8447, -52.3338, 4954, 1639.2,    149.5,  15.2597,  35.9378,2,  35.9448,2,    113.1,2, 15.2367,    113.0,2,     6.53,2,    18.22,2,     0.01,2,     1.11,2, -999.000,9, -999.000,9, -999.000,5, -999.000,5,-999.0000,5,  -999.00,9,   -999.0,9,  -999.00,9,-999.000,9,   2178.9,2,    683.1,2,  20,   2353.2,2,   7.7780,2,   25,  -999.0, -999.00,-999.0000,-999.000,-999.000
     316N151_3,   A20,    67,  1,     29,     29,2,19970805,1812, 10.8447, -52.3338, 4954, 2156.5,    201.4,  12.2210,  35.4085,2,  35.4234,2,     95.3,2, 12.1943,    103.6,2,    10.06,2,    24.46,2,     0.00,2,     1.52,2, -999.000,9, -999.000,9, -999.000,5, -999.000,5,-999.0000,5,  -999.00,9,   -999.0,9,  -999.00,9,-999.000,9,   2194.9,2,    845.9,2,  20,   2327.6,2,   7.6870,2,   25,  -999.0, -999.00,-999.0000,-999.000,-999.000
     316N151_3,   A20,    67,  1,     28,     28,2,19970805,1812, 10.8447, -52.3338, 4954, 2633.1,    249.1,  10.6868,  35.1352,2,  35.1368,2,     99.5,2, 10.6565,     96.7,2,    12.49,2,    28.02,2,     0.00,2,     1.76,2, -999.000,9, -999.000,9, -999.000,5, -999.000,5,-999.0000,5,  -999.00,9,   -999.0,9,  -999.00,9,-999.000,9,   2202.3,2,    975.2,2,  20,   2313.8,2,   7.6390,2,   25,  -999.0, -999.00,-999.0000,-999.000,-999.000
     316N151_3,   A20,    67,  1,     27,     27,2,19970805,1812, 10.8447, -52.3338, 4954, 3116.6,    297.4,  10.0082,  35.0430,2,  35.0491,2,    101.3,2,  9.9734,     97.3,2,    13.80,2,    29.35,2,     0.00,2,     1.84,2, -999.000,9, -999.000,9, -999.000,5, -999.000,5,-999.0000,5,  -999.00,9,   -999.0,9,  -999.00,9,-999.000,9,   2205.7,2,   1021.1,2,  20,   2311.3,2,   7.6170,2,   25,  -999.0, -999.00,-999.0000,-999.000,-999.000
     316N151_3,   A20,    67,  1,     26,     26,2,19970805,1812, 10.8447, -52.3338, 4954, 4138.5,    399.8,   9.1092,  34.9403,2,  34.9393,2,    102.6,2,  9.0650,    100.3,2,    15.93,2,    31.13,2,     0.00,2,     1.94,2, -999.000,9, -999.000,9, -999.000,5, -999.000,5,-999.0000,5,  -999.00,9,   -999.0,9,  -999.00,9,-999.000,9,   2211.0,2,   -999.0,9,-999,   2305.9,2,   7.5960,2,   25,  -999.0, -999.00,-999.0000,-999.000,-999.000
     316N151_3,   A20,    67,  1,     25,     25,2,19970805,1812, 10.8447, -52.3338, 4954, 5132.2,    499.3,   8.2615,  34.8574,2,  34.8575,2,    103.2,2,  8.2091,     99.9,2,    18.46,2,    33.23,2,     0.00,2,     2.08,2, -999.000,9, -999.000,9, -999.000,5, -999.000,5,-999.0000,5,  -999.00,9,   -999.0,9,  -999.00,9,-999.000,9,   2217.5,2,   -999.0,9,-999,   2304.1,2,   7.5620,2,   25,  -999.0, -999.00,-999.0000,-999.000,-999.000
     316N151_3,   A20,    67,  1,     24,     24,2,19970805,1812, 10.8447, -52.3338, 4954, 6141.9,    600.4,   7.1642,  34.7456,2,  34.7459,2,    110.1,2,  7.1058,    115.3,2,    21.43,2,    33.69,2,     0.00,2,     2.15,2, -999.000,9, -999.000,9, -999.000,5, -999.000,5,-999.0000,5,  -999.00,9,   -999.0,9,  -999.00,9,-999.000,9,   2216.5,2,   1144.2,2,  20,   2302.1,2,   7.5730,3,   25,  -999.0, -999.00,-999.0000,-999.000,-999.000
     316N151_3,   A20,    67,  1,     23,     23,2,19970805,1812, 10.8447, -52.3338, 4954, 7125.9,    698.9,   6.5170,  34.7168,2,  34.7167,2,    118.7,2,  6.4521,    114.9,2,    24.03,2,    34.79,2,     0.00,2,     2.24,2, -999.000,9, -999.000,9, -999.000,5, -999.000,5,-999.0000,5,  -999.00,9,   -999.0,9,  -999.00,9,-999.000,9,   2222.2,2,   1194.6,2,  20,   2306.7,2,   7.5560,2,   25,  -999.0, -999.00,-999.0000,-999.000,-999.000
     316N151_3,   A20,    67,  1,     22,     22,2,19970805,1812, 10.8447, -52.3338, 4954, 8639.2,    850.0,   5.5458,  34.6669,2,  34.6679,2,    132.2,2,  5.4721,    129.9,2,    27.58,2,    34.70,2,     0.00,2,     2.27,2, -999.000,9, -999.000,9, -999.000,5, -999.000,5,-999.0000,5,  -999.00,9,   -999.0,9,  -999.00,9,-999.000,9,   2222.6,2,   1182.2,2,  20,   2304.9,2,   7.5640,2,   25,  -999.0, -999.00,-999.0000,-999.000,-999.000
     316N151_3,   A20,    67,  1,     21,     21,2,19970805,1812, 10.8447, -52.3338, 4954,10137.0,    999.7,   5.1394,  34.7290,2,  34.7281,2,    149.9,2,  5.0547,    149.7,2,    27.76,2,    32.32,2,     0.00,2,     2.15,2,    0.039,2,    0.024,2, -999.000,5, -999.000,5,-999.0000,5,  -999.00,9,   -999.0,9,  -999.00,9,-999.000,9,   2214.0,2,   -999.0,9,-999,   2308.5,2,   7.5870,2,   25,  -999.0, -999.00,-999.0000,-999.000,-999.000
     316N151_3,   A20,    67,  1,     20,     20,2,19970805,1812, 10.8447, -52.3338, 4954,11626.3,   1148.5,   5.2484,  34.9071,2,  34.9074,2,    177.1,2,  5.1486,    176.7,2,    22.64,2,    27.22,2,     0.00,2,     1.80,2, -999.000,9, -999.000,9, -999.000,5, -999.000,5,-999.0000,5,  -999.00,9,   -999.0,9,  -999.00,9,-999.000,9,   2198.8,2,    941.2,2,  20,   2314.9,2,   7.6530,2,   25,  -999.0, -999.00,-999.0000,-999.000,-999.000
     316N151_3,   A20,    67,  1,     19,     19,2,19970805,1812, 10.8447, -52.3338, 4954,12654.7,   1251.3,   5.0795,  34.9727,2,  34.9741,2,    201.0,2,  4.9713,    202.4,2,    19.48,2,    23.85,2,     0.00,2,     1.58,2,    0.177,2,    0.102,2, -999.000,5, -999.000,5,-999.0000,5,  -999.00,9,   -999.0,9,  -999.00,9,-999.000,9,   2183.8,2,   -999.0,9,-999,   2319.1,2,   7.6880,2,   25,  -999.0, -999.00,-999.0000,-999.000,-999.000
     316N151_3,   A20,    67,  1,     18,     18,2,19970805,1812, 10.8447, -52.3338, 4954,14144.4,   1400.2,   4.6775,  35.0078,2,  35.0096,2,    228.8,2,  4.5590,    229.3,2,    16.41,2,    20.80,2,     0.00,2,     1.39,2,    0.275,2,    0.148,2, -999.000,5, -999.000,5,-999.0000,5,  -999.00,9,   -999.0,9,  -999.00,9,-999.000,9,   2170.0,2,    780.5,2,  20,   2316.4,2,   7.7260,2,   25,  -999.0, -999.00,-999.0000,-999.000,-999.000
     316N151_3,   A20,    67,  1,     17,     17,2,19970805,1812, 10.8447, -52.3338, 4954,15626.7,   1548.3,   4.3383,  35.0070,2,  35.0082,2,    248.3,2,  4.2097,    245.8,2,    15.11,2,    19.29,2,     0.00,2,     1.29,2,    0.331,2,    0.178,2, -999.000,5, -999.000,5,-999.0000,5,  -999.00,9,   -999.0,9,  -999.00,9,-999.000,9,   2164.1,2,    756.2,2,  20,   2313.3,2,   7.7330,2,   25,  -999.0, -999.00,-999.0000,-999.000,-999.000
     316N151_3,   A20,    67,  1,     16,     16,2,19970805,1812, 10.8447, -52.3338, 4954,17133.9,   1699.1,   4.0188,  34.9955,2,  34.9959,2,    254.1,2,  3.8799,    254.7,2,    15.49,2,    18.83,2,     0.00,2,     1.26,2,    0.251,2,    0.141,2, -999.000,5, -999.000,5,-999.0000,5,  -999.00,9,   -999.0,9,  -999.00,9,-999.000,9,   2159.8,2,    740.2,2,  20,   2313.8,2,   7.7450,2,   25,  -999.0, -999.00,-999.0000,-999.000,-999.000
     316N151_3,   A20,    67,  1,     15,     15,2,19970805,1812, 10.8447, -52.3338, 4954,18650.9,   1850.7,   3.7456,  34.9851,2,  34.9864,2,    256.5,2,  3.5960,    257.2,2,    16.79,2,    18.61,2,     0.00,2,     1.25,2,    0.176,2,    0.101,2, -999.000,5, -999.000,5,-999.0000,5,  -999.00,9,   -999.0,9,  -999.00,9,-999.000,9,   2160.6,2,    735.4,2,  20,   2317.0,2,   7.7440,2,   25,  -999.0, -999.00,-999.0000,-999.000,-999.000
     316N151_3,   A20,    67,  1,     14,     14,2,19970805,1812, 10.8447, -52.3338, 4954,20152.1,   2000.8,   3.5301,  34.9769,2,  34.9787,2,    259.7,2,  3.3694,    259.4,2,    18.00,2,    18.47,2,     0.00,2,     1.25,2,    0.167,2,    0.091,2, -999.000,5, -999.000,5,-999.0000,5,  -999.00,9,   -999.0,9,  -999.00,9,-999.000,9,   2158.7,2,    725.6,2,  20,   2316.0,2,   7.7520,2,   25,  -999.0, -999.00,-999.0000,-999.000,-999.000
     316N151_3,   A20,    67,  1,     13,     13,2,19970805,1812, 10.8447, -52.3338, 4954,22141.2,   2199.5,   3.3176,  34.9669,2,  34.9679,2,    259.4,2,  3.1413,    259.9,2,    20.05,2,    18.61,2,     0.00,2,     1.26,2,    0.117,2,    0.065,2, -999.000,5, -999.000,5,-999.0000,5,  -999.00,9,   -999.0,9,  -999.00,9,-999.000,9,   2161.3,2,   -999.0,9,-999,   2315.8,2,   7.7470,2,   25,  -999.0, -999.00,-999.0000,-999.000,-999.000
     316N151_3,   A20,    67,  1,     12,     12,2,19970805,1812, 10.8447, -52.3338, 4954,24173.6,   2402.7,   3.1223,  34.9540,2,  34.9567,2,    260.7,2,  2.9296,    259.4,2,    22.94,2,    18.98,2,     0.00,2,     1.29,2, -999.000,9, -999.000,9, -999.000,5, -999.000,5,-999.0000,5,  -999.00,9,   -999.0,9,  -999.00,9,-999.000,9,   2165.3,2,    728.7,2,  20,   2320.6,2,   7.7500,2,   25,  -999.0, -999.00,-999.0000,-999.000,-999.000
     316N151_3,   A20,    67,  1,     11,     11,2,19970805,1812, 10.8447, -52.3338, 4954,26167.6,   2601.9,   2.9838,  34.9462,2,  34.9467,2,    261.5,2,  2.7741,    260.6,2,    23.59,2,    18.84,2,     0.00,2,     1.28,2,    0.127,2,    0.071,2, -999.000,5, -999.000,5,-999.0000,5,  -999.00,9,   -999.0,9,  -999.00,9,-999.000,9,   2163.6,2,    728.9,2,  20,   2321.0,2,   7.7490,2,   25,  -999.0, -999.00,-999.0000,-999.000,-999.000
     316N151_3,   A20,    67,  1,     10,     10,2,19970805,1812, 10.8447, -52.3338, 4954,28673.6,   2852.5,   2.8324,  34.9359,2,  34.9365,2,    260.9,2,  2.6005,    260.2,2,    26.01,2,    19.03,2,     0.00,2,     1.29,2, -999.000,9, -999.000,9, -999.000,5, -999.000,5,-999.0000,5,  -999.00,9,   -999.0,9,  -999.00,9,-999.000,9,   2166.4,2,    731.0,2,  20,   2323.7,2,   7.7530,2,   25,  -999.0, -999.00,-999.0000,-999.000,-999.000
     316N151_3,   A20,    67,  1,      9,      9,2,19970805,1812, 10.8447, -52.3338, 4954,31159.9,   3100.9,   2.6977,  34.9264,2,  34.9263,2,    259.1,2,  2.4430,    258.6,2,    30.29,2,    19.66,2,     0.00,2,     1.33,2,    0.087,2,    0.051,2, -999.000,5, -999.000,5,-999.0000,5,  -999.00,9,   -999.0,9,  -999.00,9,-999.000,9,   2171.7,2,   -999.0,9,-999,   2327.4,2,   7.7480,2,   25,  -999.0, -999.00,-999.0000,-999.000,-999.000
     316N151_3,   A20,    67,  1,      8,      8,2,19970805,1812, 10.8447, -52.3338, 4954,33679.4,   3352.8,   2.5808,  34.9173,2,  34.9161,2,    257.8,2,  2.3022,    256.6,2,    33.55,2,    20.04,2,     0.00,2,     1.36,2, -999.000,9, -999.000,9, -999.000,5, -999.000,5,-999.0000,5,  -999.00,9,   -999.0,9,  -999.00,9,-999.000,9,   2177.1,2,    744.0,2,  20,   2331.0,2,   7.7480,2,   25,  -999.0, -999.00,-999.0000,-999.000,-999.000
     316N151_3,   A20,    67,  1,      7,      7,2,19970805,1812, 10.8447, -52.3338, 4954,36143.1,   3599.1,   2.4652,  34.9088,2,  34.9084,2,    259.3,2,  2.1629,    259.5,2,    33.83,2,    19.76,2,    -0.01,2,     1.35,2,    0.099,2,    0.055,2, -999.000,5, -999.000,5,-999.0000,5,  -999.00,9,   -999.0,9,  -999.00,9,-999.000,9,   2175.6,2,   -999.0,9,-999,   2329.5,2,   7.7460,2,   25,  -999.0, -999.00,-999.0000,-999.000,-999.000
     316N151_3,   A20,    67,  1,      6,      6,2,19970805,1812, 10.8447, -52.3338, 4954,38671.1,   3851.8,   2.3633,  34.9019,2,  34.9002,2,    262.7,2,  2.0357,    263.0,2,    32.81,2,    19.26,2,    -0.01,2,     1.32,2,    0.128,2,    0.072,2, -999.000,5, -999.000,5,-999.0000,5,  -999.00,9,   -999.0,9,  -999.00,9,-999.000,9,   2172.9,2,    740.9,2,  20,   2328.8,2,   7.7450,2,   25,  -999.0, -999.00,-999.0000,-999.000,-999.000
     316N151_3,   A20,    67,  1,      5,      5,2,19970805,1812, 10.8447, -52.3338, 4954,40658.9,   4050.4,   2.3154,  34.8986,2,  34.8978,2,    263.2,2,  1.9666,    264.9,2,    32.81,2,    19.12,2,     0.00,2,     1.32,2,    0.142,2,    0.081,2, -999.000,5, -999.000,5,-999.0000,5,  -999.00,9,   -999.0,9,  -999.00,9,-999.000,9,   2175.0,2,    741.3,2,  20,   2326.3,2,   7.7420,2,   25,  -999.0, -999.00,-999.0000,-999.000,-999.000
     316N151_3,   A20,    67,  1,      4,      4,2,19970805,1812, 10.8447, -52.3338, 4954,42642.9,   4248.7,   2.2884,  34.8944,2,  34.8940,2,    264.2,2,  1.9173,    264.0,2,    33.93,2,    19.26,2,     0.00,2,     1.33,2,    0.147,2,    0.083,2, -999.000,5, -999.000,5,-999.0000,5,  -999.00,9,   -999.0,9,  -999.00,9,-999.000,9,   2176.1,2,   -999.0,9,-999,   2329.3,2,   7.7440,2,   25,  -999.0, -999.00,-999.0000,-999.000,-999.000
     316N151_3,   A20,    67,  1,      3,      3,2,19970805,1812, 10.8447, -52.3338, 4954,44664.7,   4451.0,   2.2558,  34.8890,2,  34.8898,2,    263.6,2,  1.8620,    264.3,2,    35.70,2,    19.49,2,     0.00,2,     1.34,2, -999.000,9,    0.093,2, -999.000,5, -999.000,5,-999.0000,5,  -999.00,9,   -999.0,9,  -999.00,9,-999.000,9,   2178.3,2,   -999.0,9,-999,   2329.7,2,   7.7390,2,   25,  -999.0, -999.00,-999.0000,-999.000,-999.000
     316N151_3,   A20,    67,  1,      2,      2,2,19970805,1812, 10.8447, -52.3338, 4954,47148.2,   4699.3,   2.1673,  34.8753,2,  34.8755,2,    258.6,2,  1.7463,    259.0,2,    43.32,2,    20.72,2,     0.00,2,     1.42,2,    0.101,2,    0.067,2, -999.000,5, -999.000,5,-999.0000,5,  -999.00,9,   -999.0,9,  -999.00,9,-999.000,9,   2187.9,2,   -999.0,9,-999,   2338.9,6,   7.7360,6,   25,  -999.0, -999.00,-999.0000,-999.000,-999.000
     316N151_3,   A20,    67,  1,      1,      1,2,19970805,1812, 10.8447, -52.3338, 4954,50160.4,   5000.5,   1.7881,  34.8256,2,  34.8290,2,    241.6,2,  1.3431,    243.4,2,    67.30,6,    24.46,6,     0.00,6,     1.68,6,    0.047,2,    0.035,2, -999.000,5, -999.000,5,-999.0000,5,  -999.00,9,   -999.0,9,  -999.00,9,-999.000,9,   2213.9,2,    827.8,2,  20,   2352.9,2,   7.7050,2,   25,  -999.0, -999.00,-999.0000,-999.000,-999.000