BOTTLE,20220812CCHSIOAMB
EXPOCODE,SECT_ID,STNNBR,CASTNO,SAMPNO,BTLNBR,BTLNBR_FLAG_W,DATE,TIME,LATITUDE,LONGITUDE,DEPTH,CTDRAW,CTDPRS,CTDTMP,CTDSAL,CTDSAL_FLAG_W,SALNTY,SALNTY_FLAG_W,CTDOXY,CTDOXY_FLAG_W,THETA,OXYGEN,OXYGEN_FLAG_W,SILCAT,SILCAT_FLAG_W,NITRAT,NITRAT_FLAG_W,NITRIT,NITRIT_FLAG_W,PHSPHT,PHSPHT_FLAG_W,CFC-11,CFC-11_FLAG_W,CFC-12,CFC-12_FLAG_W,CFC113,CFC113_FLAG_W,TRITUM,TRITUM_FLAG_W,HELIUM,HELIUM_FLAG_W,DELHE3,DELHE3_FLAG_W,DELC14,DELC14_FLAG_W,DELC13,DELC13_FLAG_W,NEON,NEON_FLAG_W,TCARBN,TCARBN_FLAG_W,PCO2,PCO2_FLAG_W,PCO2_TMP,ALKALI,ALKALI_FLAG_W,PH,PH_FLAG_W,PH_TMP,C14ERR,DELHER,HELIER,NEONER,TRITER
,,,,,,,,,,,,,DBAR,ITS-90,PSS-78,,PSS-78,,UMOL/KG,,ITS-90,UMOL/KG,,UMOL/KG,,UMOL/KG,,UMOL/KG,,UMOL/KG,,PMOL/KG,,PMOL/KG,,PMOL/KG,,TU,,NMOL/KG,,PERCNT,,/MILLE,,/MILLE,,NMOL/KG,,UMOL/KG,,UATM,,DEG C,UMOL/KG,,,,DEG C,/MILLE,PERCNT,NMOL/KG,NMOL/KG,TU
     316N151_3,   A20,    47,  1,     33,     33,2,19970730,2356, 24.1898, -52.3470, 5450,  286.8,     13.2,  27.4758,  37.5710,2,  37.5724,2,    210.2,2, 27.4728,    218.7,2,     0.75,2,     0.06,2,     0.00,2,     0.02,2,    1.708,2,    0.999,2, -999.000,5, -999.000,5,-999.0000,5,  -999.00,9,   -999.0,9,  -999.00,9,-999.000,9,   2070.2,2,    276.4,2,  20,   2452.3,2,   8.1180,2,   25,  -999.0, -999.00,-999.0000,-999.000,-999.000
     316N151_3,   A20,    47,  1,     32,     32,2,19970730,2356, 24.1898, -52.3470, 5450,  661.8,     50.9,  24.5280,  37.3844,2,  37.3862,2,    232.7,2, 24.5170,    236.5,2,     0.57,2,     0.06,2,     0.00,2,     0.02,2,    2.002,6,    1.156,6, -999.000,5, -999.000,5,-999.0000,5,  -999.00,9,   -999.0,9,  -999.00,9,-999.000,9,   2069.9,2,    285.6,2,  20,   2439.3,2,   8.1000,2,   25,  -999.0, -999.00,-999.0000,-999.000,-999.000
     316N151_3,   A20,    47,  1,     31,     31,2,19970730,2356, 24.1898, -52.3470, 5450, 1163.4,    101.0,  22.6779,  37.2338,2,  37.2412,2,    219.2,2, 22.6572,    228.4,2,     0.58,2,     0.06,2,     0.00,2,     0.02,2,    2.082,2,    1.198,2, -999.000,5, -999.000,5,-999.0000,5,  -999.00,9,   -999.0,9,  -999.00,9,-999.000,9,   -999.0,9,    296.5,2,  20,   2430.4,2,   8.0890,2,   25,  -999.0, -999.00,-999.0000,-999.000,-999.000
     316N151_3,   A20,    47,  1,     30,     30,2,19970730,2356, 24.1898, -52.3470, 5450, 1650.4,    149.7,  20.8743,  36.9815,2,  36.9858,2,    199.3,2, 20.8455,    213.3,2,     0.58,2,     0.05,2,     0.01,2,     0.02,2,    2.199,2,    1.244,2, -999.000,5, -999.000,5,-999.0000,5,  -999.00,9,   -999.0,9,  -999.00,9,-999.000,9,   2084.6,2,    328.3,2,  20,   2414.1,2,   8.0470,2,   25,  -999.0, -999.00,-999.0000,-999.000,-999.000
     316N151_3,   A20,    47,  1,     29,     29,2,19970730,2356, 24.1898, -52.3470, 5450, 2165.1,    201.0,  18.9935,  36.6671,2,  36.6699,2,    194.2,2, 18.9573,    194.6,2,     0.98,2,     2.16,2,     0.02,2,     0.08,2,    2.324,2,    1.283,2, -999.000,5, -999.000,5,-999.0000,5,  -999.00,9,   -999.0,9,  -999.00,9,-999.000,9,   2097.9,2,   -999.0,9,-999,   2393.9,2,   7.9990,2,   25,  -999.0, -999.00,-999.0000,-999.000,-999.000
     316N151_3,   A20,    47,  1,     28,     28,2,19970730,2356, 24.1898, -52.3470, 5450, 2472.6,    231.7,  18.6643,  36.6281,2,  36.6286,2,    195.2,2, 18.6230,    196.3,2,     1.08,2,     3.08,2,     0.01,2,     0.14,2,    2.341,2,    1.287,2, -999.000,5, -999.000,5,-999.0000,5,  -999.00,9,   -999.0,9,  -999.00,9,-999.000,9,   -999.0,9,    379.0,2,  20,   2390.9,2,   7.9950,2,   25,  -999.0, -999.00,-999.0000,-999.000,-999.000
     316N151_3,   A20,    47,  1,     27,     27,2,19970730,2356, 24.1898, -52.3470, 5450, 3134.6,    297.8,  17.9916,  36.5290,2,  36.5271,2,    194.2,2, 17.9398,    196.4,2,     1.47,2,     4.70,2,     0.01,2,     0.24,2,    2.322,2,    1.263,2, -999.000,5, -999.000,5,-999.0000,5,  -999.00,9,   -999.0,9,  -999.00,9,-999.000,9,   2101.9,2,    393.1,2,  20,   2384.3,2,   7.9800,2,   25,  -999.0, -999.00,-999.0000,-999.000,-999.000
     316N151_3,   A20,    47,  1,     26,     26,2,19970730,2356, 24.1898, -52.3470, 5450, 3627.4,    347.2,  17.3289,  36.4251,2,  36.4249,2,    189.1,2, 17.2702,    188.8,2,     1.96,2,     6.48,2,     0.01,2,     0.35,2,    2.254,2,    1.208,2, -999.000,5, -999.000,5,-999.0000,5,  -999.00,9,   -999.0,9,  -999.00,9,-999.000,9,   2110.7,2,    422.0,2,  20,   2379.7,2,   7.9450,2,   25,  -999.0, -999.00,-999.0000,-999.000,-999.000
     316N151_3,   A20,    47,  1,     25,     25,2,19970730,2356, 24.1898, -52.3470, 5450, 4910.1,    475.6,  15.2178,  36.0833,2,  36.0823,2,    175.8,2, 15.1439,    178.9,2,     3.60,2,    10.69,2,     0.00,2,     0.62,2,    2.107,2,    1.120,2, -999.000,5, -999.000,5,-999.0000,5,  -999.00,9,   -999.0,9,  -999.00,9,-999.000,9,   2131.7,2,    500.5,2,  20,   2358.5,2,   7.8900,2,   25,  -999.0, -999.00,-999.0000,-999.000,-999.000
     316N151_3,   A20,    47,  1,     24,     24,2,19970730,2356, 24.1898, -52.3470, 5450, 5655.6,    550.5,  13.7674,  35.8593,2,  35.8595,2,    173.9,2, 13.6871,    173.9,2,     4.85,2,    13.47,2,     0.00,2,     0.80,2,    1.903,2,    1.006,2, -999.000,5, -999.000,5,-999.0000,5,  -999.00,9,   -999.0,9,  -999.00,9,-999.000,9,   -999.0,9,    559.7,2,  20,   2347.8,2,   7.8480,2,   25,  -999.0, -999.00,-999.0000,-999.000,-999.000
     316N151_3,   A20,    47,  1,     23,     23,2,19970730,2356, 24.1898, -52.3470, 5450, 6656.2,    650.7,  12.1819,  35.6436,2,  35.6437,2,    167.9,2, 12.0940,    169.3,2,     6.87,2,    16.62,2,     0.00,2,     1.00,2,    1.399,2,    0.740,2, -999.000,5, -999.000,5,-999.0000,5,  -999.00,9,   -999.0,9,  -999.00,9,-999.000,9,   2154.7,2,   -999.0,9,-999,   2340.2,2,   7.8040,2,   25,  -999.0, -999.00,-999.0000,-999.000,-999.000
     316N151_3,   A20,    47,  1,     22,     22,2,19970730,2356, 24.1898, -52.3470, 5450, 7669.2,    752.5,  10.3829,  35.4353,2,  35.4344,2,    156.6,2, 10.2906,    156.6,2,    10.62,2,    20.94,2,     0.00,2,     1.29,2,    0.742,6,    0.381,6, -999.000,5, -999.000,5,-999.0000,5,  -999.00,9,   -999.0,9,  -999.00,9,-999.000,9,   2173.2,2,    729.2,2,  20,   2329.9,2,   7.7470,2,   25,  -999.0, -999.00,-999.0000,-999.000,-999.000
     316N151_3,   A20,    47,  1,     21,     21,2,19970730,2356, 24.1898, -52.3470, 5450, 8368.3,    822.5,   8.8561,  35.2196,2,  35.2194,2,    147.3,2,  8.7642,    149.7,2,    14.27,2,    24.15,2,     0.00,2,     1.53,2,    0.441,2,    0.236,2, -999.000,5, -999.000,5,-999.0000,5,  -999.00,9,   -999.0,9,  -999.00,9,-999.000,9,   2184.7,2,    816.8,2,  20,   2324.9,2,   7.6980,2,   25,  -999.0, -999.00,-999.0000,-999.000,-999.000
     316N151_3,   A20,    47,  1,     20,     20,2,19970730,2356, 24.1898, -52.3470, 5450, 9673.4,    953.1,   7.4699,  35.0725,2,  35.0724,2,    149.4,2,  7.3723,    147.8,2,    18.21,2,    26.90,2,     0.00,2,     1.74,2,    0.125,2,    0.070,2, -999.000,5, -999.000,5,-999.0000,5,  -999.00,9,   -999.0,9,  -999.00,9,-999.000,9,   2195.2,2,    899.9,2,  20,   2318.6,2,   7.6650,2,   25,  -999.0, -999.00,-999.0000,-999.000,-999.000
     316N151_3,   A20,    47,  1,     19,     19,2,19970730,2356, 24.1898, -52.3470, 5450,11179.1,   1103.6,   6.3027,  35.0193,2,  35.0195,2,    176.1,2,  6.1983,    173.0,2,    18.50,2,    25.36,2,     0.00,2,     1.67,2,    0.140,2,    0.073,2, -999.000,5, -999.000,5,-999.0000,5,  -999.00,9,   -999.0,9,  -999.00,9,-999.000,9,   2191.3,2,    875.3,2,  20,   2318.5,2,   7.6780,2,   25,  -999.0, -999.00,-999.0000,-999.000,-999.000
     316N151_3,   A20,    47,  1,     18,     18,2,19970730,2356, 24.1898, -52.3470, 5450,12647.9,   1250.4,   5.6823,  35.0553,2,  35.0562,2,    204.3,2,  5.5684,    202.2,2,    16.40,2,    22.42,2,     0.00,2,     1.48,2,    0.183,2,    0.100,2, -999.000,5, -999.000,5,-999.0000,5,  -999.00,9,   -999.0,9,  -999.00,9,-999.000,9,   2179.0,2,    813.6,2,  20,   2318.0,2,   7.7080,2,   25,  -999.0, -999.00,-999.0000,-999.000,-999.000
     316N151_3,   A20,    47,  1,     17,     17,2,19970730,2356, 24.1898, -52.3470, 5450,14155.0,   1401.2,   5.1810,  35.0732,2,  35.0738,2,    223.6,2,  5.0570,    224.8,2,    14.97,2,    20.42,2,     0.00,2,     1.35,2,    0.210,6,    0.116,6, -999.000,5, -999.000,5,-999.0000,5,  -999.00,9,   -999.0,9,  -999.00,9,-999.000,9,   2169.4,2,    767.8,2,  20,   2319.7,2,   7.7280,2,   25,  -999.0, -999.00,-999.0000,-999.000,-999.000
     316N151_3,   A20,    47,  1,     16,     16,2,19970730,2356, 24.1898, -52.3470, 5450,15649.4,   1550.5,   4.7917,  35.0787,2,  35.0801,2,    234.0,2,  4.6575,    235.0,2,    15.26,2,    19.71,2,     0.00,2,     1.30,2,    0.172,2,    0.098,2, -999.000,5, -999.000,5,-999.0000,5,  -999.00,9,   -999.0,9,  -999.00,9,-999.000,9,   2168.8,2,    747.9,2,  20,   2319.6,2,   7.7410,2,   25,  -999.0, -999.00,-999.0000,-999.000,-999.000
     316N151_3,   A20,    47,  1,     15,     15,2,19970730,2356, 24.1898, -52.3470, 5450,17160.9,   1701.6,   4.3721,  35.0553,2,  35.0557,2,    242.8,2,  4.2282,    242.6,2,    16.61,2,    19.51,2,     0.00,2,     1.29,2,    0.088,2,    0.050,2, -999.000,5, -999.000,5,-999.0000,5,  -999.00,9,   -999.0,9,  -999.00,9,-999.000,9,   2165.5,2,   -999.0,9,-999,   2320.9,2,   7.7460,2,   25,  -999.0, -999.00,-999.0000,-999.000,-999.000
     316N151_3,   A20,    47,  1,     14,     14,2,19970730,2356, 24.1898, -52.3470, 5450,19150.5,   1900.5,   3.9426,  35.0295,2,  35.0305,2,    246.1,2,  3.7853,    246.9,2,    19.40,2,    19.60,2,     0.00,2,     1.31,2,    0.028,2,    0.022,2, -999.000,5, -999.000,5,-999.0000,5,  -999.00,9,   -999.0,9,  -999.00,9,-999.000,9,   2166.6,2,    737.2,2,  20,   2321.9,2,   7.7480,2,   25,  -999.0, -999.00,-999.0000,-999.000,-999.000
     316N151_3,   A20,    47,  1,     13,     13,2,19970730,2356, 24.1898, -52.3470, 5450,22172.8,   2202.6,   3.4216,  34.9878,2,  34.9892,2,    249.9,2,  3.2431,    250.2,2,    24.00,2,    19.88,2,     0.00,2,     1.33,2,    0.014,2,    0.007,2, -999.000,5, -999.000,5,-999.0000,5,  -999.00,9,   -999.0,9,  -999.00,9,-999.000,9,   2170.3,2,    737.2,2,  20,   2326.8,2,   7.7490,2,   25,  -999.0, -999.00,-999.0000,-999.000,-999.000
     316N151_3,   A20,    47,  1,     12,     12,2,19970730,2356, 24.1898, -52.3470, 5450,25159.0,   2501.1,   3.0982,  34.9615,2,  34.9637,2,    250.3,2,  2.8962,    251.2,2,    27.93,2,    20.16,2,     0.00,2,     1.35,2,    0.007,2,    0.006,2, -999.000,5, -999.000,5,-999.0000,5,  -999.00,9,   -999.0,9,  -999.00,9,-999.000,9,   2174.3,2,   -999.0,9,-999,   2328.4,2,   7.7470,2,   25,  -999.0, -999.00,-999.0000,-999.000,-999.000
     316N151_3,   A20,    47,  1,     11,     11,2,19970730,2356, 24.1898, -52.3470, 5450,28140.3,   2799.1,   2.8835,  34.9442,2,  34.9471,2,    251.1,2,  2.6560,    251.3,2,    31.28,2,    20.40,2,     0.00,2,     1.37,2,    0.009,2,    0.007,2, -999.000,5, -999.000,5,-999.0000,5,  -999.00,9,   -999.0,9,  -999.00,9,-999.000,9,   2176.8,2,    739.9,2,  20,   2333.0,2,   7.7470,2,   25,  -999.0, -999.00,-999.0000,-999.000,-999.000
     316N151_3,   A20,    47,  1,     10,     10,2,19970730,2356, 24.1898, -52.3470, 5450,31153.7,   3100.2,   2.7098,  34.9292,2,  34.9302,2,    252.2,2,  2.4550,    252.2,2,    34.26,2,    20.64,2,     0.00,2,     1.39,2,    0.010,2,    0.009,2, -999.000,5, -999.000,5,-999.0000,5,  -999.00,9,   -999.0,9,  -999.00,9,-999.000,9,   2179.1,2,   -999.0,9,-999,   2330.8,2,   7.7460,2,   25,  -999.0, -999.00,-999.0000,-999.000,-999.000
     316N151_3,   A20,    47,  1,      9,      9,2,19970730,2356, 24.1898, -52.3470, 5450,34137.7,   3398.5,   2.5244,  34.9130,2,  34.9143,2,    253.0,2,  2.2424,    254.3,2,    36.85,2,    20.81,2,     0.00,2,     1.41,2,    0.014,2,    0.009,2, -999.000,5, -999.000,5,-999.0000,5,  -999.00,9,   -999.0,9,  -999.00,9,-999.000,9,   2181.7,2,    748.2,2,  20,   2333.9,2,   7.7430,2,   25,  -999.0, -999.00,-999.0000,-999.000,-999.000
     316N151_3,   A20,    47,  1,      8,      8,2,19970730,2356, 24.1898, -52.3470, 5450,37116.3,   3696.2,   2.3821,  34.8997,2,  34.8991,2,    253.4,2,  2.0713,    254.4,2,    40.11,2,    21.09,2,     0.00,2,     1.43,2,    0.009,2,    0.010,2, -999.000,5, -999.000,5,-999.0000,5,  -999.00,9,   -999.0,9,  -999.00,9,-999.000,9,   2183.8,2,   -999.0,9,-999,   2337.1,2,   7.7420,2,   25,  -999.0, -999.00,-999.0000,-999.000,-999.000
     316N151_3,   A20,    47,  1,      7,      7,2,19970730,2356, 24.1898, -52.3470, 5450,39474.8,   3932.0,   2.2753,  34.8884,2,  34.8875,2,    253.6,2,  1.9410,    254.4,2,    42.70,2,    21.29,2,     0.00,2,     1.45,2,    0.010,2,    0.010,2, -999.000,5, -999.000,5,-999.0000,5,  -999.00,9,   -999.0,9,  -999.00,9,-999.000,9,   2186.0,2,   -999.0,9,-999,   2340.9,2,   7.7400,2,   25,  -999.0, -999.00,-999.0000,-999.000,-999.000
     316N151_3,   A20,    47,  1,      6,      6,2,19970730,2356, 24.1898, -52.3470, 5450,42148.8,   4199.3,   2.2033,  34.8796,2,  34.8793,2,    253.6,2,  1.8407,    253.8,2,    45.19,2,    21.60,2,     0.00,2,     1.47,2,    0.011,2,    0.008,2, -999.000,5, -999.000,5,-999.0000,5,  -999.00,9,   -999.0,9,  -999.00,9,-999.000,9,   2189.6,2,   -999.0,9,-999,   2340.0,2,   7.7370,2,   25,  -999.0, -999.00,-999.0000,-999.000,-999.000
     316N151_3,   A20,    47,  1,      5,      5,2,19970730,2356, 24.1898, -52.3470, 5450,44653.6,   4449.8,   2.1441,  34.8717,2,  34.8672,3,    252.3,2,  1.7539,    253.5,2,    47.78,2,    21.91,2,     0.00,2,     1.49,2,    0.010,2,    0.010,2, -999.000,5, -999.000,5,-999.0000,5,  -999.00,9,   -999.0,9,  -999.00,9,-999.000,9,   2192.3,2,   -999.0,9,-999,   2343.4,2,   7.7340,2,   25,  -999.0, -999.00,-999.0000,-999.000,-999.000
     316N151_3,   A20,    47,  1,      4,      4,2,19970730,2356, 24.1898, -52.3470, 5450,47630.6,   4747.2,   2.1164,  34.8656,2,  34.8643,2,    251.8,2,  1.6913,    252.0,2,    49.88,2,    22.15,2,     0.00,2,     1.51,2,    0.008,2,    0.011,2, -999.000,5, -999.000,5,-999.0000,5,  -999.00,9,   -999.0,9,  -999.00,9,-999.000,9,   2194.2,2,   -999.0,9,-999,   2342.8,2,   7.7300,2,   25,  -999.0, -999.00,-999.0000,-999.000,-999.000
     316N151_3,   A20,    47,  1,      3,      3,2,19970730,2356, 24.1898, -52.3470, 5450,50648.9,   5049.0,   2.1045,  34.8597,2,  34.8580,2,    251.7,2,  1.6425,    251.4,2,    51.51,2,    22.32,2,     0.00,2,     1.53,2,    0.013,2,    0.012,2, -999.000,5, -999.000,5,-999.0000,5,  -999.00,9,   -999.0,9,  -999.00,9,-999.000,9,   2196.2,2,   -999.0,9,-999,   2343.6,2,   7.7280,2,   25,  -999.0, -999.00,-999.0000,-999.000,-999.000
     316N151_3,   A20,    47,  1,      2,      2,2,19970730,2356, 24.1898, -52.3470, 5450,53647.6,   5348.8,   2.0951,  34.8548,2,  34.8540,2,    252.0,2,  1.5952,    250.8,2,    53.52,2,    22.62,2,     0.00,2,     1.54,2,    0.014,6,    0.013,6, -999.000,5, -999.000,5,-999.0000,5,  -999.00,9,   -999.0,9,  -999.00,9,-999.000,9,   2197.9,2,   -999.0,9,-999,   2346.5,6,   7.7270,2,   25,  -999.0, -999.00,-999.0000,-999.000,-999.000
     316N151_3,   A20,    47,  1,      1,      1,2,19970730,2356, 24.1898, -52.3470, 5450,55276.2,   5511.8,   2.1059,  34.8537,2,  34.8536,2,    249.7,2,  1.5844,    250.6,2,    54.00,6,    22.68,6,     0.00,6,     1.55,6,    0.018,2,    0.014,2, -999.000,5, -999.000,5,-999.0000,5,  -999.00,9,   -999.0,9,  -999.00,9,-999.000,9,   2200.4,2,    789.8,2,  20,   2345.8,2,   7.7260,2,   25,  -999.0, -999.00,-999.0000,-999.000,-999.000