BOTTLE,20220812CCHSIOAMB
EXPOCODE,SECT_ID,STNNBR,CASTNO,SAMPNO,BTLNBR,BTLNBR_FLAG_W,DATE,TIME,LATITUDE,LONGITUDE,DEPTH,CTDRAW,CTDPRS,CTDTMP,CTDSAL,CTDSAL_FLAG_W,SALNTY,SALNTY_FLAG_W,CTDOXY,CTDOXY_FLAG_W,THETA,OXYGEN,OXYGEN_FLAG_W,SILCAT,SILCAT_FLAG_W,NITRAT,NITRAT_FLAG_W,NITRIT,NITRIT_FLAG_W,PHSPHT,PHSPHT_FLAG_W,CFC-11,CFC-11_FLAG_W,CFC-12,CFC-12_FLAG_W,CFC113,CFC113_FLAG_W,TRITUM,TRITUM_FLAG_W,HELIUM,HELIUM_FLAG_W,DELHE3,DELHE3_FLAG_W,DELC14,DELC14_FLAG_W,DELC13,DELC13_FLAG_W,NEON,NEON_FLAG_W,TCARBN,TCARBN_FLAG_W,PCO2,PCO2_FLAG_W,PCO2_TMP,ALKALI,ALKALI_FLAG_W,PH,PH_FLAG_W,PH_TMP,C14ERR,DELHER,HELIER,NEONER,TRITER
,,,,,,,,,,,,,DBAR,ITS-90,PSS-78,,PSS-78,,UMOL/KG,,ITS-90,UMOL/KG,,UMOL/KG,,UMOL/KG,,UMOL/KG,,UMOL/KG,,PMOL/KG,,PMOL/KG,,PMOL/KG,,TU,,NMOL/KG,,PERCNT,,/MILLE,,/MILLE,,NMOL/KG,,UMOL/KG,,UATM,,DEG C,UMOL/KG,,,,DEG C,/MILLE,PERCNT,NMOL/KG,NMOL/KG,TU
     316N151_3,   A20,    86,  1,     21,     21,2,19970808,1735,  7.3752, -53.3582,  399,  485.1,      2.7,  28.5199,  31.2111,3,-999.0000,9,     82.9,3, 28.5192,   -999.0,9,  -999.00,9,  -999.00,9,  -999.00,9,  -999.00,9, -999.000,9, -999.000,9, -999.000,5, -999.000,5,-999.0000,5,  -999.00,9,   -999.0,9,  -999.00,9,-999.000,9,   1732.6,2,   -999.0,9,-999,   2086.3,2,   8.2180,2,   25,  -999.0, -999.00,-999.0000,-999.000,-999.000
     316N151_3,   A20,    86,  1,     20,     20,2,19970808,1735,  7.3752, -53.3582,  399,  483.9,      2.8,  28.5339,  31.2106,3,  31.2135,2,     83.1,3, 28.5332,    225.0,2,     9.65,3,     0.01,2,     0.00,2,     0.02,2, -999.000,9, -999.000,9, -999.000,5, -999.000,5,-999.0000,5,  -999.00,9,   -999.0,9,  -999.00,9,-999.000,9,   -999.0,9,   -999.0,9,-999,   -999.0,9,-999.0000,9, -999,  -999.0, -999.00,-999.0000,-999.000,-999.000
     316N151_3,   A20,    86,  1,     19,     19,2,19970808,1735,  7.3752, -53.3582,  399,  482.5,      2.9,  28.5395,  31.2106,3,-999.0000,9,     83.4,3, 28.5388,   -999.0,9,  -999.00,9,  -999.00,9,  -999.00,9,  -999.00,9,    1.782,6,    1.030,6, -999.000,5, -999.000,5,-999.0000,5,  -999.00,9,   -999.0,9,  -999.00,9,-999.000,9,   -999.0,9,   -999.0,9,-999,   -999.0,9,-999.0000,9, -999,  -999.0, -999.00,-999.0000,-999.000,-999.000
     316N151_3,   A20,    86,  1,     18,     18,2,19970808,1735,  7.3752, -53.3582,  399,  565.4,     11.7,  28.2874,  35.0844,3,  35.0838,2,     82.8,3, 28.2847,    205.6,2,     4.25,3,     0.04,2,     0.00,2,     0.10,2, -999.000,9, -999.000,9, -999.000,5, -999.000,5,-999.0000,5,  -999.00,9,   -999.0,9,  -999.00,9,-999.000,9,   -999.0,9,   -999.0,9,-999,   -999.0,9,-999.0000,9, -999,  -999.0, -999.00,-999.0000,-999.000,-999.000
     316N151_3,   A20,    86,  1,     17,     17,2,19970808,1735,  7.3752, -53.3582,  399,  564.9,     11.7,  28.2923,  35.0819,3,-999.0000,9,     82.7,3, 28.2895,   -999.0,9,  -999.00,9,  -999.00,9,  -999.00,9,  -999.00,9,    1.731,2,    1.044,2, -999.000,5,    0.680,2,   1.7046,2,    -2.09,2,   -999.0,9,  -999.00,9,   6.597,2,   -999.0,9,   -999.0,9,-999,   -999.0,9,-999.0000,9, -999,  -999.0,    0.15,  0.0085,   0.033,   0.013
     316N151_3,   A20,    86,  1,     16,     16,2,19970808,1735,  7.3752, -53.3582,  399,  942.8,     52.3,  25.4928,  36.2740,3,  36.2767,2,     86.5,3, 25.4812,    170.1,2,     2.82,3,     2.87,2,     0.09,2,     0.29,2, -999.000,9, -999.000,9, -999.000,5, -999.000,5,-999.0000,5,  -999.00,9,   -999.0,9,  -999.00,9,-999.000,9,   -999.0,9,   -999.0,9,-999,   -999.0,9,-999.0000,9, -999,  -999.0, -999.00,-999.0000,-999.000,-999.000
     316N151_3,   A20,    86,  1,     15,     15,2,19970808,1735,  7.3752, -53.3582,  399,  943.0,     52.3,  25.4927,  36.2741,3,-999.0000,9,     86.7,3, 25.4811,   -999.0,9,  -999.00,9,  -999.00,9,  -999.00,9,  -999.00,9,    1.781,6,    1.266,3, -999.000,5, -999.000,5,-999.0000,5,  -999.00,9,   -999.0,9,  -999.00,9,-999.000,9,   -999.0,9,   -999.0,9,-999,   -999.0,9,-999.0000,9, -999,  -999.0, -999.00,-999.0000,-999.000,-999.000
     316N151_3,   A20,    86,  1,     14,     14,2,19970808,1735,  7.3752, -53.3582,  399, 1408.8,    102.2,  18.6469,  36.2397,3,  36.2024,2,     98.2,3, 18.6288,    137.5,2,     4.97,3,    12.79,2,     0.03,2,     0.81,2, -999.000,9, -999.000,9, -999.000,5, -999.000,5,-999.0000,5,  -999.00,9,   -999.0,9,  -999.00,9,-999.000,9,   -999.0,9,   -999.0,9,-999,   -999.0,9,-999.0000,9, -999,  -999.0, -999.00,-999.0000,-999.000,-999.000
     316N151_3,   A20,    86,  1,     13,     13,2,19970808,1735,  7.3752, -53.3582,  399, 1409.3,    102.3,  18.6479,  36.2393,3,-999.0000,9,     98.4,3, 18.6298,   -999.0,9,  -999.00,9,  -999.00,9,  -999.00,9,  -999.00,9,    1.820,2,    0.991,2, -999.000,5,    0.772,2,   3.5748,4,     1.41,2,   -999.0,9,  -999.00,9,  13.706,2,   -999.0,9,   -999.0,9,-999,   -999.0,9,-999.0000,9, -999,  -999.0,    0.15,  0.0179,   0.069,   0.013
     316N151_3,   A20,    86,  1,     11,     11,2,19970808,1735,  7.3752, -53.3582,  399, 1888.8,    153.7,  12.1881,  35.2148,3,-999.0000,9,    119.8,3, 12.1678,   -999.0,9,  -999.00,9,  -999.00,9,  -999.00,9,  -999.00,9,    1.597,2,    0.853,2, -999.000,5,    0.422,2,   1.7720,2,     1.19,2,   -999.0,9,  -999.00,9,   7.299,2,   -999.0,9,   -999.0,9,-999,   -999.0,9,-999.0000,9, -999,  -999.0,    0.15,  0.0089,   0.036,   0.012
     316N151_3,   A20,    86,  1,     12,     12,2,19970808,1735,  7.3752, -53.3582,  399, 1890.5,    153.8,  12.1884,  35.2152,3,  35.1982,2,    119.8,3, 12.1681,    153.4,2,     8.76,2,    19.60,2,     0.01,2,     1.33,2, -999.000,9, -999.000,9, -999.000,5, -999.000,5,-999.0000,5,  -999.00,9,   -999.0,9,  -999.00,9,-999.000,9,   -999.0,9,   -999.0,9,-999,   -999.0,9,-999.0000,9, -999,  -999.0, -999.00,-999.0000,-999.000,-999.000
     316N151_3,   A20,    86,  1,     10,     10,2,19970808,1735,  7.3752, -53.3582,  399, 2346.6,    202.6,  11.0882,  31.2121,2,  35.0469,2,     62.1,4, 11.0630,    150.4,2,    10.33,3,    22.05,2,     0.01,2,     1.48,2, -999.000,9, -999.000,9, -999.000,5, -999.000,5,-999.0000,5,  -999.00,9,   -999.0,9,  -999.00,9,-999.000,9,   -999.0,9,   -999.0,9,-999,   -999.0,9,-999.0000,9, -999,  -999.0, -999.00,-999.0000,-999.000,-999.000
     316N151_3,   A20,    86,  1,      9,      9,2,19970808,1735,  7.3752, -53.3582,  399, 2346.6,    202.6,  11.0881,  35.0839,2,-999.0000,9,     62.4,4, 11.0629,   -999.0,9,  -999.00,9,  -999.00,9,  -999.00,9,  -999.00,9,    1.400,2,    0.740,2, -999.000,5,    0.359,2,   1.7771,2,     1.11,2,   -999.0,9,  -999.00,9,   7.395,2,   -999.0,9,   -999.0,9,-999,   -999.0,9,-999.0000,9, -999,  -999.0,    0.15,  0.0089,   0.037,   0.012
     316N151_3,   A20,    86,  1,      7,      7,2,19970808,1735,  7.3752, -53.3582,  399, 2814.8,    252.6,  10.5758,  36.2403,2,-999.0000,9,     68.4,4, 10.5454,   -999.0,9,  -999.00,9,  -999.00,9,  -999.00,9,  -999.00,9,    1.278,2,    0.672,2, -999.000,5,    0.327,2,   1.7550,2,     1.06,2,   -999.0,9,  -999.00,9,   7.361,2,   -999.0,9,   -999.0,9,-999,   -999.0,9,-999.0000,9, -999,  -999.0,    0.15,  0.0088,   0.037,   0.012
     316N151_3,   A20,    86,  1,      8,      8,2,19970808,1735,  7.3752, -53.3582,  399, 2816.1,    252.8,  10.5761,  36.2760,2,  34.9919,2,     60.8,4, 10.5456,    146.1,2,    11.41,3,    23.57,2,     0.00,2,     1.57,2, -999.000,9, -999.000,9, -999.000,5, -999.000,5,-999.0000,5,  -999.00,9,   -999.0,9,  -999.00,9,-999.000,9,   -999.0,9,   -999.0,9,-999,   -999.0,9,-999.0000,9, -999,  -999.0, -999.00,-999.0000,-999.000,-999.000
     316N151_3,   A20,    86,  1,      6,      6,2,19970808,1735,  7.3752, -53.3582,  399, 3283.4,    302.4,  10.1317,  35.2146,2,  34.9485,2,     86.0,4, 10.0962,    138.6,2,    12.40,3,    24.83,2,     0.01,2,     1.65,2, -999.000,9, -999.000,9, -999.000,5, -999.000,5,-999.0000,5,  -999.00,9,   -999.0,9,  -999.00,9,-999.000,9,   -999.0,9,   -999.0,9,-999,   -999.0,9,-999.0000,9, -999,  -999.0, -999.00,-999.0000,-999.000,-999.000
     316N151_3,   A20,    86,  1,      5,      5,2,19970808,1735,  7.3752, -53.3582,  399, 3283.1,    302.4,  10.1315,  35.0476,2,-999.0000,9,     97.0,4, 10.0960,   -999.0,9,  -999.00,9,  -999.00,9,  -999.00,9,  -999.00,9,    1.192,2,    0.598,2, -999.000,5,    0.269,2,   1.7769,2,     1.65,2,   -999.0,9,  -999.00,9,   7.536,2,   -999.0,9,   -999.0,9,-999,   -999.0,9,-999.0000,9, -999,  -999.0,    0.15,  0.0089,   0.038,   0.011
     316N151_3,   A20,    86,  1,      3,      3,2,19970808,1735,  7.3752, -53.3582,  399, 3741.0,    351.1,  10.1433,  34.9467,2,-999.0000,9,    107.2,4, 10.1018,   -999.0,9,  -999.00,9,  -999.00,9,  -999.00,9,  -999.00,9,    0.870,6,    0.468,6, -999.000,5,    0.344,2,-999.0000,5,  -999.00,9,   -999.0,9,  -999.00,9,-999.000,9,   -999.0,9,   -999.0,9,-999,   -999.0,9,-999.0000,9, -999,  -999.0, -999.00,-999.0000,-999.000,   0.012
     316N151_3,   A20,    86,  1,      4,      4,2,19970808,1735,  7.3752, -53.3582,  399, 3741.5,    351.2,  10.1433,  34.9925,2,  35.0333,2,    102.5,4, 10.1018,    117.8,2,    13.48,3,    26.85,2,     0.01,2,     1.73,2, -999.000,9, -999.000,9, -999.000,5, -999.000,5,-999.0000,5,  -999.00,9,   -999.0,9,  -999.00,9,-999.000,9,   -999.0,9,   -999.0,9,-999,   -999.0,9,-999.0000,9, -999,  -999.0, -999.00,-999.0000,-999.000,-999.000
     316N151_3,   A20,    86,  1,      1,      1,2,19970808,1735,  7.3752, -53.3582,  399, 4064.3,    385.6,   9.7233,  34.9887,2,-999.0000,9,   -999.0,9,  9.6789,   -999.0,9,  -999.00,9,  -999.00,9,  -999.00,9,  -999.00,9,    0.741,2,    0.398,2, -999.000,5,    0.303,2,   1.8031,2,     2.18,2,   -999.0,9,  -999.00,9,   7.676,2,   -999.0,9,   -999.0,9,-999,   -999.0,9,-999.0000,9, -999,  -999.0,    0.15,  0.0090,   0.038,   0.011
     316N151_3,   A20,    86,  1,      2,      2,2,19970808,1735,  7.3752, -53.3582,  399, 4064.9,    385.7,   9.7232,  35.0344,2,  34.9962,2,    108.4,4,  9.6788,    116.5,2,    14.55,3,    27.84,2,     0.01,2,     1.80,2, -999.000,9, -999.000,9, -999.000,5, -999.000,5,-999.0000,5,  -999.00,9,   -999.0,9,  -999.00,9,-999.000,9,   -999.0,9,   -999.0,9,-999,   -999.0,9,-999.0000,9, -999,  -999.0, -999.00,-999.0000,-999.000,-999.000
     316N151_3,   A20,    87,  1,     17,     17,2,19970808,1857,  7.3287, -53.3778,  334,  484.1,      2.4,  28.5069,  31.7567,3,  31.7664,2,     80.3,3, 28.5064,    223.7,2,     8.80,3,     0.00,2,     0.00,2,     0.03,2, -999.000,9, -999.000,9, -999.000,5, -999.000,5,-999.0000,5,  -999.00,9,   -999.0,9,  -999.00,9,-999.000,9,   -999.0,9,   -999.0,9,-999,   -999.0,9,-999.0000,9, -999,  -999.0, -999.00,-999.0000,-999.000,-999.000
     316N151_3,   A20,    87,  1,     18,     18,2,19970808,1857,  7.3287, -53.3778,  334,  484.9,      2.5,  28.4931,  31.7604,3,-999.0000,9,     79.4,3, 28.4925,   -999.0,9,  -999.00,9,  -999.00,9,  -999.00,9,  -999.00,9, -999.000,9, -999.000,9, -999.000,5, -999.000,5,-999.0000,5,  -999.00,9,   -999.0,9,  -999.00,9,-999.000,9,   1770.8,2,    201.6,2,  20,   2119.8,2,   8.1980,2,   25,  -999.0, -999.00,-999.0000,-999.000,-999.000
     316N151_3,   A20,    87,  1,     15,     15,2,19970808,1857,  7.3287, -53.3778,  334,  564.2,     11.1,  28.4382,  34.6761,3,  36.1475,2,     78.8,3, 28.4355,    200.3,2,     5.52,3,     0.00,2,     0.00,2,     0.09,2, -999.000,9, -999.000,9, -999.000,5, -999.000,5,-999.0000,5,  -999.00,9,   -999.0,9,  -999.00,9,-999.000,9,   -999.0,9,   -999.0,9,-999,   -999.0,9,-999.0000,9, -999,  -999.0, -999.00,-999.0000,-999.000,-999.000
     316N151_3,   A20,    87,  1,     16,     16,2,19970808,1857,  7.3287, -53.3778,  334,  566.3,     11.3,  28.4362,  34.7022,3,-999.0000,9,     78.3,3, 28.4335,   -999.0,9,  -999.00,9,  -999.00,9,  -999.00,9,  -999.00,9, -999.000,9, -999.000,9, -999.000,5, -999.000,5,-999.0000,5,  -999.00,9,   -999.0,9,  -999.00,9,-999.000,9,   1945.8,2,    274.4,2,  20,   2276.1,2,   8.0940,2,   25,  -999.0, -999.00,-999.0000,-999.000,-999.000
     316N151_3,   A20,    87,  1,     13,     13,2,19970808,1857,  7.3287, -53.3778,  334,  697.1,     25.4,  27.1944,  36.1846,3,  34.5609,4,     79.2,3, 27.1885,    183.8,2,     3.04,3,     0.65,2,     0.26,2,     0.20,2, -999.000,9, -999.000,9, -999.000,5, -999.000,5,-999.0000,5,  -999.00,9,   -999.0,9,  -999.00,9,-999.000,9,   -999.0,9,   -999.0,9,-999,   -999.0,9,-999.0000,9, -999,  -999.0, -999.00,-999.0000,-999.000,-999.000
     316N151_3,   A20,    87,  1,     14,     14,2,19970808,1857,  7.3287, -53.3778,  334,  698.4,     25.5,  27.1711,  36.1936,3,-999.0000,9,     81.3,3, 27.1651,   -999.0,9,  -999.00,9,  -999.00,9,  -999.00,9,  -999.00,9, -999.000,9, -999.000,9, -999.000,5, -999.000,5,-999.0000,5,  -999.00,9,   -999.0,9,  -999.00,9,-999.000,9,   2053.7,2,    333.6,2,  20,   2368.5,2,   8.0560,2,   25,  -999.0, -999.00,-999.0000,-999.000,-999.000
     316N151_3,   A20,    87,  1,     11,     11,2,19970808,1857,  7.3287, -53.3778,  334, 1163.6,     75.4,  21.8240,  36.3239,3,  36.3110,2,     89.5,3, 21.8091,    152.3,2,     4.33,3,     7.46,2,     0.04,2,     0.57,2, -999.000,9, -999.000,9, -999.000,5, -999.000,5,-999.0000,5,  -999.00,9,   -999.0,9,  -999.00,9,-999.000,9,   -999.0,9,   -999.0,9,-999,   -999.0,9,-999.0000,9, -999,  -999.0, -999.00,-999.0000,-999.000,-999.000
     316N151_3,   A20,    87,  1,     12,     12,2,19970808,1857,  7.3287, -53.3778,  334, 1165.6,     75.7,  21.8921,  36.3150,3,-999.0000,9,     90.0,3, 21.8771,   -999.0,9,  -999.00,9,  -999.00,9,  -999.00,9,  -999.00,9, -999.000,9, -999.000,9, -999.000,5, -999.000,5,-999.0000,5,  -999.00,9,   -999.0,9,  -999.00,9,-999.000,9,   2116.4,2,    441.5,2,  20,   2376.0,2,   7.9400,2,   25,  -999.0, -999.00,-999.0000,-999.000,-999.000
     316N151_3,   A20,    87,  1,     10,     10,2,19970808,1857,  7.3287, -53.3778,  334, 1648.5,    127.3,  14.3978,  35.5968,3,-999.0000,9,    106.8,3, 14.3790,   -999.0,9,  -999.00,9,  -999.00,9,  -999.00,9,  -999.00,9, -999.000,9, -999.000,9, -999.000,5, -999.000,5,-999.0000,5,  -999.00,9,   -999.0,9,  -999.00,9,-999.000,9,   2160.7,2,    643.1,2,  20,   2340.7,2,   7.7950,2,   25,  -999.0, -999.00,-999.0000,-999.000,-999.000
     316N151_3,   A20,    87,  1,      9,      9,2,19970808,1857,  7.3287, -53.3778,  334, 1652.9,    127.7,  14.3951,  31.7581,2,  35.6102,2,     66.4,4, 14.3762,    138.3,2,     7.29,3,    16.76,2,     0.01,2,     1.13,2, -999.000,9, -999.000,9, -999.000,5, -999.000,5,-999.0000,5,  -999.00,9,   -999.0,9,  -999.00,9,-999.000,9,   -999.0,9,   -999.0,9,-999,   -999.0,9,-999.0000,9, -999,  -999.0, -999.00,-999.0000,-999.000,-999.000
     316N151_3,   A20,    87,  1,      7,      7,2,19970808,1857,  7.3287, -53.3778,  334, 2099.9,    175.2,  12.0956,  36.1865,2,  35.1953,2,     66.9,4, 12.0725,    145.8,2,     8.99,3,    19.68,2,     0.01,2,     1.34,2, -999.000,9, -999.000,9, -999.000,5, -999.000,5,-999.0000,5,  -999.00,9,   -999.0,9,  -999.00,9,-999.000,9,   -999.0,9,   -999.0,9,-999,   -999.0,9,-999.0000,9, -999,  -999.0, -999.00,-999.0000,-999.000,-999.000
     316N151_3,   A20,    87,  1,      8,      8,2,19970808,1857,  7.3287, -53.3778,  334, 2100.2,    175.3,  12.0961,  34.6778,2,-999.0000,9,     68.0,4, 12.0731,   -999.0,9,  -999.00,9,  -999.00,9,  -999.00,9,  -999.00,9, -999.000,9, -999.000,9, -999.000,5, -999.000,5,-999.0000,5,  -999.00,9,   -999.0,9,  -999.00,9,-999.000,9,   2161.3,2,    721.1,2,  20,   2317.4,2,   7.7470,2,   25,  -999.0, -999.00,-999.0000,-999.000,-999.000
     316N151_3,   A20,    87,  1,      6,      6,2,19970808,1857,  7.3287, -53.3778,  334, 2586.9,    227.2,  11.0451,  36.3251,2,-999.0000,9,     67.4,4, 11.0171,   -999.0,9,  -999.00,9,  -999.00,9,  -999.00,9,  -999.00,9, -999.000,9, -999.000,9, -999.000,5, -999.000,5,-999.0000,5,  -999.00,9,   -999.0,9,  -999.00,9,-999.000,9,   2167.5,2,    776.3,2,  20,   2310.5,2,   7.7160,2,   25,  -999.0, -999.00,-999.0000,-999.000,-999.000
     316N151_3,   A20,    87,  1,      5,      5,2,19970808,1857,  7.3287, -53.3778,  334, 2588.1,    227.3,  11.0447,  35.5888,2,  35.0388,2,     80.6,4, 11.0167,    144.7,2,    10.46,3,    21.84,2,     0.01,2,     1.48,2, -999.000,9, -999.000,9, -999.000,5, -999.000,5,-999.0000,5,  -999.00,9,   -999.0,9,  -999.00,9,-999.000,9,   -999.0,9,   -999.0,9,-999,   -999.0,9,-999.0000,9, -999,  -999.0, -999.00,-999.0000,-999.000,-999.000
     316N151_3,   A20,    87,  1,      3,      3,2,19970808,1857,  7.3287, -53.3778,  334, 3055.2,    277.1,  10.3583,  35.0326,2,  34.9604,2,     95.7,4, 10.3253,    140.6,2,    11.74,3,    23.85,2,     0.01,2,     1.59,2, -999.000,9, -999.000,9, -999.000,5, -999.000,5,-999.0000,5,  -999.00,9,   -999.0,9,  -999.00,9,-999.000,9,   -999.0,9,   -999.0,9,-999,   -999.0,9,-999.0000,9, -999,  -999.0, -999.00,-999.0000,-999.000,-999.000
     316N151_3,   A20,    87,  1,      4,      4,2,19970808,1857,  7.3287, -53.3778,  334, 3055.5,    277.2,  10.3585,  35.1974,2,-999.0000,9,     87.4,4, 10.3255,   -999.0,9,  -999.00,9,  -999.00,9,  -999.00,9,  -999.00,9, -999.000,9, -999.000,9, -999.000,5, -999.000,5,-999.0000,5,  -999.00,9,   -999.0,9,  -999.00,9,-999.000,9,   -999.0,9,    836.6,2,  20,   2305.8,2,   7.6890,2,   25,  -999.0, -999.00,-999.0000,-999.000,-999.000
     316N151_3,   A20,    87,  1,      2,      2,2,19970808,1857,  7.3287, -53.3778,  334, 3462.3,    320.5,  10.5435,  34.9537,2,-999.0000,9,    102.9,4, 10.5048,   -999.0,9,  -999.00,9,  -999.00,9,  -999.00,9,  -999.00,9, -999.000,9, -999.000,9, -999.000,5, -999.000,5,-999.0000,5,  -999.00,9,   -999.0,9,  -999.00,9,-999.000,9,   2180.6,2,    840.4,2,  20,   2311.2,2,   7.6840,2,   25,  -999.0, -999.00,-999.0000,-999.000,-999.000
     316N151_3,   A20,    87,  1,      1,      1,2,19970808,1857,  7.3287, -53.3778,  334, 3462.1,    320.5,  10.5435,  35.0364,2,  35.0307,2,   -999.0,9, 10.5048,    132.6,2,    11.99,3,    23.98,6,     0.01,6,     1.60,2, -999.000,9, -999.000,9, -999.000,5, -999.000,5,-999.0000,5,  -999.00,9,   -999.0,9,  -999.00,9,-999.000,9,   -999.0,9,   -999.0,9,-999,   -999.0,9,-999.0000,9, -999,  -999.0, -999.00,-999.0000,-999.000,-999.000