BOTTLE,20220812CCHSIOAMB
EXPOCODE,SECT_ID,STNNBR,CASTNO,SAMPNO,BTLNBR,BTLNBR_FLAG_W,DATE,TIME,LATITUDE,LONGITUDE,DEPTH,CTDRAW,CTDPRS,CTDTMP,CTDSAL,CTDSAL_FLAG_W,SALNTY,SALNTY_FLAG_W,CTDOXY,CTDOXY_FLAG_W,THETA,OXYGEN,OXYGEN_FLAG_W,SILCAT,SILCAT_FLAG_W,NITRAT,NITRAT_FLAG_W,NITRIT,NITRIT_FLAG_W,PHSPHT,PHSPHT_FLAG_W,CFC-11,CFC-11_FLAG_W,CFC-12,CFC-12_FLAG_W,CFC113,CFC113_FLAG_W,TRITUM,TRITUM_FLAG_W,HELIUM,HELIUM_FLAG_W,DELHE3,DELHE3_FLAG_W,DELC14,DELC14_FLAG_W,DELC13,DELC13_FLAG_W,NEON,NEON_FLAG_W,TCARBN,TCARBN_FLAG_W,PCO2,PCO2_FLAG_W,PCO2_TMP,ALKALI,ALKALI_FLAG_W,PH,PH_FLAG_W,PH_TMP,C14ERR,DELHER,HELIER,NEONER,TRITER
,,,,,,,,,,,,,DBAR,ITS-90,PSS-78,,PSS-78,,UMOL/KG,,ITS-90,UMOL/KG,,UMOL/KG,,UMOL/KG,,UMOL/KG,,UMOL/KG,,PMOL/KG,,PMOL/KG,,PMOL/KG,,TU,,NMOL/KG,,PERCNT,,/MILLE,,/MILLE,,NMOL/KG,,UMOL/KG,,UATM,,DEG C,UMOL/KG,,,,DEG C,/MILLE,PERCNT,NMOL/KG,NMOL/KG,TU
     316N151_3,   A20,    65,  1,     33,     33,2,19970805,0333, 12.2032, -52.3327, 5068,  287.5,     11.0,  27.7114,  35.5510,2,  35.5511,2,    201.2,2, 27.7089,    213.7,2,     1.47,2,     0.01,2,     0.00,2,     0.01,2,    1.707,2,    1.023,2, -999.000,5, -999.000,5,-999.0000,5,  -999.00,9,   -999.0,9,  -999.00,9,-999.000,9,   1973.5,2,   -999.0,9,-999,   2329.6,2,   8.1190,2,   25,  -999.0, -999.00,-999.0000,-999.000,-999.000
     316N151_3,   A20,    65,  1,     32,     32,2,19970805,0333, 12.2032, -52.3327, 5068,  445.4,     28.0,  27.7218,  35.5540,2,  35.5531,2,    199.0,2, 27.7153,    213.6,2,     1.48,2,     0.01,2,     0.00,2,     0.01,2,    1.700,2,    1.022,2, -999.000,5, -999.000,5,-999.0000,5,  -999.00,9,   -999.0,9,  -999.00,9,-999.000,9,   -999.0,9,   -999.0,9,-999,   -999.0,9,-999.0000,9, -999,  -999.0, -999.00,-999.0000,-999.000,-999.000
     316N151_3,   A20,    65,  1,     31,     31,2,19970805,0333, 12.2032, -52.3327, 5068, 1146.8,     99.5,  23.6820,  36.8428,2,  36.8499,2,    187.6,2, 23.6611,    183.8,2,     0.81,2,     1.72,2,     0.05,2,     0.13,2,    1.907,2,    1.123,2, -999.000,5, -999.000,5,-999.0000,5,  -999.00,9,   -999.0,9,  -999.00,9,-999.000,9,   -999.0,9,   -999.0,9,-999,   -999.0,9,-999.0000,9, -999,  -999.0, -999.00,-999.0000,-999.000,-999.000
     316N151_3,   A20,    65,  1,     30,     30,2,19970805,0333, 12.2032, -52.3327, 5068, 1653.9,    150.8,  16.7227,  36.0501,2,  36.0538,2,    114.1,2, 16.6979,    109.4,2,     5.27,2,    16.99,2,     0.01,2,     1.03,2,    1.570,6,    0.872,6, -999.000,5, -999.000,5,-999.0000,5,  -999.00,9,   -999.0,9,  -999.00,9,-999.000,9,   -999.0,9,   -999.0,9,-999,   -999.0,9,-999.0000,9, -999,  -999.0, -999.00,-999.0000,-999.000,-999.000
     316N151_3,   A20,    65,  1,     29,     29,2,19970805,0333, 12.2032, -52.3327, 5068, 2158.0,    201.4,  13.1318,  35.5535,2,  35.5533,2,    105.7,2, 13.1039,    104.8,2,     8.57,2,    22.40,2,     0.00,2,     1.41,2, -999.000,9,    0.794,2, -999.000,5, -999.000,5,-999.0000,5,  -999.00,9,   -999.0,9,  -999.00,9,-999.000,9,   -999.0,9,   -999.0,9,-999,   -999.0,9,-999.0000,9, -999,  -999.0, -999.00,-999.0000,-999.000,-999.000
     316N151_3,   A20,    65,  1,     28,     28,2,19970805,0333, 12.2032, -52.3327, 5068, 2658.0,    251.5,  11.5197,  35.2938,2,  35.2869,2,    104.8,2, 11.4876,    104.6,2,    10.70,2,    25.07,2,     0.00,2,     1.60,2,    0.951,2,    0.505,2, -999.000,5, -999.000,5,-999.0000,5,  -999.00,9,   -999.0,9,  -999.00,9,-999.000,9,   -999.0,9,   -999.0,9,-999,   -999.0,9,-999.0000,9, -999,  -999.0, -999.00,-999.0000,-999.000,-999.000
     316N151_3,   A20,    65,  1,     27,     27,2,19970805,0333, 12.2032, -52.3327, 5068, 3157.3,    301.5,  10.2146,  35.0755,2,  35.0755,2,     99.2,2, 10.1791,    103.2,2,    12.74,2,    27.65,2,     0.00,2,     1.77,2,    0.733,2,    0.318,2, -999.000,5, -999.000,5,-999.0000,5,  -999.00,9,   -999.0,9,  -999.00,9,-999.000,9,   -999.0,9,   -999.0,9,-999,   -999.0,9,-999.0000,9, -999,  -999.0, -999.00,-999.0000,-999.000,-999.000
     316N151_3,   A20,    65,  1,     26,     26,2,19970805,0333, 12.2032, -52.3327, 5068, 3657.6,    351.5,   9.8373,  35.0261,2,  35.0230,2,     99.7,2,  9.7966,     98.4,2,    13.72,2,    29.00,2,     0.00,2,     1.85,2,    0.599,2,    0.265,2, -999.000,5, -999.000,5,-999.0000,5,  -999.00,9,   -999.0,9,  -999.00,9,-999.000,9,   -999.0,9,   -999.0,9,-999,   -999.0,9,-999.0000,9, -999,  -999.0, -999.00,-999.0000,-999.000,-999.000
     316N151_3,   A20,    65,  1,     25,     25,2,19970805,0333, 12.2032, -52.3327, 5068, 4180.9,    404.0,   9.3611,  34.9717,2,  34.9699,2,     98.0,2,  9.3156,     97.8,2,    14.88,2,    30.11,2,     0.00,2,     1.92,2,    0.487,2,    0.218,2, -999.000,5, -999.000,5,-999.0000,5,  -999.00,9,   -999.0,9,  -999.00,9,-999.000,9,   -999.0,9,   -999.0,9,-999,   -999.0,9,-999.0000,9, -999,  -999.0, -999.00,-999.0000,-999.000,-999.000
     316N151_3,   A20,    65,  1,     24,     24,2,19970805,0333, 12.2032, -52.3327, 5068, 5397.6,    525.9,   7.9097,  34.7942,2,  34.7938,2,    111.8,2,  7.8558,    114.3,2,    18.37,2,    31.61,2,     0.00,2,     2.05,2,    0.350,2,    0.176,6, -999.000,5, -999.000,5,-999.0000,5,  -999.00,9,   -999.0,9,  -999.00,9,-999.000,9,   -999.0,9,   -999.0,9,-999,   -999.0,9,-999.0000,9, -999,  -999.0, -999.00,-999.0000,-999.000,-999.000
     316N151_3,   A20,    65,  1,     23,     23,2,19970805,0333, 12.2032, -52.3327, 5068, 6628.0,    649.0,   6.7891,  34.7072,2,  34.7062,2,    118.6,2,  6.7276,    119.1,2,    22.15,2,    33.06,2,     0.00,2,     2.18,2,    0.170,2,    0.084,2, -999.000,5, -999.000,5,-999.0000,5,  -999.00,9,   -999.0,9,  -999.00,9,-999.000,9,   -999.0,9,   -999.0,9,-999,   -999.0,9,-999.0000,9, -999,  -999.0, -999.00,-999.0000,-999.000,-999.000
     316N151_3,   A20,    65,  1,     22,     22,2,19970805,0333, 12.2032, -52.3327, 5068, 7866.3,    772.8,   6.0285,  34.6617,2,  34.6612,2,    124.2,2,  5.9591,    124.4,2,    25.05,2,    33.87,2,     0.00,2,     2.25,2,    0.071,2,    0.045,2, -999.000,5, -999.000,5,-999.0000,5,  -999.00,9,   -999.0,9,  -999.00,9,-999.000,9,   -999.0,9,   -999.0,9,-999,   -999.0,9,-999.0000,9, -999,  -999.0, -999.00,-999.0000,-999.000,-999.000
     316N151_3,   A20,    65,  1,     21,     21,2,19970805,0333, 12.2032, -52.3327, 5068, 9416.5,    927.7,   5.4248,  34.6956,2,  34.6927,2,    137.8,2,  5.3447,    135.9,2,    27.08,2,    33.08,2,     0.00,2,     2.22,2,    0.038,2,    0.020,2, -999.000,5, -999.000,5,-999.0000,5,  -999.00,9,   -999.0,9,  -999.00,9,-999.000,9,   -999.0,9,   -999.0,9,-999,   -999.0,9,-999.0000,9, -999,  -999.0, -999.00,-999.0000,-999.000,-999.000
     316N151_3,   A20,    65,  1,     20,     20,2,19970805,0333, 12.2032, -52.3327, 5068,10917.2,   1077.6,   5.3086,  34.8136,2,  34.8141,2,    152.5,2,  5.2151,    150.4,2,    25.06,2,    30.50,2,     0.00,2,     2.05,2,    0.019,2,    0.012,2, -999.000,5, -999.000,5,-999.0000,5,  -999.00,9,   -999.0,9,  -999.00,9,-999.000,9,   -999.0,9,   -999.0,9,-999,   -999.0,9,-999.0000,9, -999,  -999.0, -999.00,-999.0000,-999.000,-999.000
     316N151_3,   A20,    65,  1,     19,     19,2,19970805,0333, 12.2032, -52.3327, 5068,12676.1,   1253.4,   5.0817,  34.9449,2,  34.9459,2,    188.2,2,  4.9734,    189.9,2,    20.43,2,    24.97,2,     0.00,2,     1.68,2,    0.106,2,    0.059,2, -999.000,5, -999.000,5,-999.0000,5,  -999.00,9,   -999.0,9,  -999.00,9,-999.000,9,   -999.0,9,   -999.0,9,-999,   -999.0,9,-999.0000,9, -999,  -999.0, -999.00,-999.0000,-999.000,-999.000
     316N151_3,   A20,    65,  1,     18,     18,2,19970805,0333, 12.2032, -52.3327, 5068,14147.1,   1400.5,   4.8118,  35.0028,2,  35.0035,2,    220.6,2,  4.6921,    221.5,2,    16.68,2,    21.32,2,     0.00,2,     1.43,2,    0.241,2,    0.125,2, -999.000,5, -999.000,5,-999.0000,5,  -999.00,9,   -999.0,9,  -999.00,9,-999.000,9,   -999.0,9,   -999.0,9,-999,   -999.0,9,-999.0000,9, -999,  -999.0, -999.00,-999.0000,-999.000,-999.000
     316N151_3,   A20,    65,  1,     17,     17,2,19970805,0333, 12.2032, -52.3327, 5068,15616.5,   1547.3,   4.4172,  35.0072,2,  35.0076,2,    242.2,2,  4.2878,    241.5,2,    15.13,2,    19.53,2,     0.00,2,     1.30,2,    0.302,2,    0.158,2, -999.000,5, -999.000,5,-999.0000,5,  -999.00,9,   -999.0,9,  -999.00,9,-999.000,9,   -999.0,9,   -999.0,9,-999,   -999.0,9,-999.0000,9, -999,  -999.0, -999.00,-999.0000,-999.000,-999.000
     316N151_3,   A20,    65,  1,     16,     16,2,19970805,0333, 12.2032, -52.3327, 5068,17111.7,   1696.8,   4.0953,  34.9992,2,  34.9987,2,    253.2,2,  3.9557,    252.8,2,    14.57,2,    18.60,2,     0.00,2,     1.24,2,    0.348,2,    0.182,2, -999.000,5, -999.000,5,-999.0000,5,  -999.00,9,   -999.0,9,  -999.00,9,-999.000,9,   -999.0,9,   -999.0,9,-999,   -999.0,9,-999.0000,9, -999,  -999.0, -999.00,-999.0000,-999.000,-999.000
     316N151_3,   A20,    65,  1,     15,     15,2,19970805,0333, 12.2032, -52.3327, 5068,18614.6,   1847.1,   3.8423,  34.9907,2,  34.9898,2,    256.3,2,  3.6917,    257.0,2,    15.73,2,    18.50,2,     0.00,2,     1.24,2,    0.223,2,    0.121,2, -999.000,5, -999.000,5,-999.0000,5,  -999.00,9,   -999.0,9,  -999.00,9,-999.000,9,   -999.0,9,   -999.0,9,-999,   -999.0,9,-999.0000,9, -999,  -999.0, -999.00,-999.0000,-999.000,-999.000
     316N151_3,   A20,    65,  1,     14,     14,2,19970805,0333, 12.2032, -52.3327, 5068,20620.9,   2047.6,   3.5430,  34.9775,2,  34.9777,2,    259.4,2,  3.3777,    258.0,2,    17.38,2,    18.49,2,     0.00,2,     1.24,2,    0.163,2,    0.092,2, -999.000,5, -999.000,5,-999.0000,5,  -999.00,9,   -999.0,9,  -999.00,9,-999.000,9,   -999.0,9,   -999.0,9,-999,   -999.0,9,-999.0000,9, -999,  -999.0, -999.00,-999.0000,-999.000,-999.000
     316N151_3,   A20,    65,  1,     13,     13,2,19970805,0333, 12.2032, -52.3327, 5068,22641.3,   2249.4,   3.2910,  34.9658,2,  34.9650,2,    260.7,2,  3.1103,    259.2,2,    19.61,2,    18.64,2,     0.00,2,     1.26,2,    0.106,2,    0.058,2, -999.000,5, -999.000,5,-999.0000,5,  -999.00,9,   -999.0,9,  -999.00,9,-999.000,9,   -999.0,9,   -999.0,9,-999,   -999.0,9,-999.0000,9, -999,  -999.0, -999.00,-999.0000,-999.000,-999.000
     316N151_3,   A20,    65,  1,     12,     12,2,19970805,0333, 12.2032, -52.3327, 5068,25130.8,   2498.4,   3.0533,  34.9515,2,  34.9519,2,    259.6,2,  2.8525,    260.7,2,    22.02,2,    18.73,2,     0.00,2,     1.27,2,    0.126,2,    0.071,2, -999.000,5, -999.000,5,-999.0000,5,  -999.00,9,   -999.0,9,  -999.00,9,-999.000,9,   -999.0,9,   -999.0,9,-999,   -999.0,9,-999.0000,9, -999,  -999.0, -999.00,-999.0000,-999.000,-999.000
     316N151_3,   A20,    65,  1,     11,     11,2,19970805,0333, 12.2032, -52.3327, 5068,27653.8,   2750.5,   2.8650,  34.9389,2,  34.9387,2,    260.5,2,  2.6427,    259.8,2,    25.20,2,    19.06,2,     0.00,2,     1.29,2,    0.111,2,    0.061,2, -999.000,5, -999.000,5,-999.0000,5,  -999.00,9,   -999.0,9,  -999.00,9,-999.000,9,   -999.0,9,   -999.0,9,-999,   -999.0,9,-999.0000,9, -999,  -999.0, -999.00,-999.0000,-999.000,-999.000
     316N151_3,   A20,    65,  1,     10,     10,2,19970805,0333, 12.2032, -52.3327, 5068,30131.8,   2998.1,   2.7299,  34.9279,2,  34.9260,2,    253.6,2,  2.4853,    252.4,2,    32.06,2,    20.21,2,     0.00,2,     1.37,2,    0.032,2,    0.021,2, -999.000,5, -999.000,5,-999.0000,5,  -999.00,9,   -999.0,9,  -999.00,9,-999.000,9,   -999.0,9,   -999.0,9,-999,   -999.0,9,-999.0000,9, -999,  -999.0, -999.00,-999.0000,-999.000,-999.000
     316N151_3,   A20,    65,  1,      9,      9,2,19970805,0333, 12.2032, -52.3327, 5068,32637.2,   3248.6,   2.6012,  34.9199,2,  34.9191,2,    257.9,2,  2.3332,    258.0,2,    30.71,2,    19.63,2,     0.00,2,     1.34,2,    0.097,2,    0.060,2, -999.000,5, -999.000,5,-999.0000,5,  -999.00,9,   -999.0,9,  -999.00,9,-999.000,9,   -999.0,9,   -999.0,9,-999,   -999.0,9,-999.0000,9, -999,  -999.0, -999.00,-999.0000,-999.000,-999.000
     316N151_3,   A20,    65,  1,      8,      8,2,19970805,0333, 12.2032, -52.3327, 5068,35189.4,   3503.5,   2.4709,  34.9092,2,  34.9077,2,    260.1,2,  2.1789,    258.3,2,    33.22,2,    19.77,2,     0.00,2,     1.35,2,    0.086,2,    0.052,2, -999.000,5, -999.000,5,-999.0000,5,  -999.00,9,   -999.0,9,  -999.00,9,-999.000,9,   -999.0,9,   -999.0,9,-999,   -999.0,9,-999.0000,9, -999,  -999.0, -999.00,-999.0000,-999.000,-999.000
     316N151_3,   A20,    65,  1,      7,      7,2,19970805,0333, 12.2032, -52.3327, 5068,37663.8,   3751.0,   2.3735,  34.9042,2,  34.9029,2,    262.3,2,  2.0568,    263.6,2,    30.91,2,    19.14,2,     0.00,2,     1.31,2,    0.140,2,    0.081,2, -999.000,5, -999.000,5,-999.0000,5,  -999.00,9,   -999.0,9,  -999.00,9,-999.000,9,   -999.0,9,   -999.0,9,-999,   -999.0,9,-999.0000,9, -999,  -999.0, -999.00,-999.0000,-999.000,-999.000
     316N151_3,   A20,    65,  1,      6,      6,2,19970805,0333, 12.2032, -52.3327, 5068,40149.2,   3999.3,   2.3030,  34.8977,2,  34.8955,2,    263.7,2,  1.9603,    262.9,2,    32.65,2,    19.23,2,     0.00,2,     1.32,2,    0.144,6,    0.078,6, -999.000,5, -999.000,5,-999.0000,5,  -999.00,9,   -999.0,9,  -999.00,9,-999.000,9,   -999.0,9,   -999.0,9,-999,   -999.0,9,-999.0000,9, -999,  -999.0, -999.00,-999.0000,-999.000,-999.000
     316N151_3,   A20,    65,  1,      5,      5,2,19970805,0333, 12.2032, -52.3327, 5068,42697.9,   4254.2,   2.2576,  34.8921,2,  34.8895,2,    263.2,2,  1.8868,    262.1,2,    34.49,2,    19.41,2,     0.00,2,     1.33,2,    0.150,2,    0.085,2, -999.000,5, -999.000,5,-999.0000,5,  -999.00,9,   -999.0,9,  -999.00,9,-999.000,9,   -999.0,9,   -999.0,9,-999,   -999.0,9,-999.0000,9, -999,  -999.0, -999.00,-999.0000,-999.000,-999.000
     316N151_3,   A20,    65,  1,      4,      4,2,19970805,0333, 12.2032, -52.3327, 5068,45159.7,   4500.3,   2.1862,  34.8802,2,  34.8801,2,    259.6,2,  1.7886,    258.6,2,    39.88,2,    20.37,2,     0.00,2,     1.39,2,    0.120,2,    0.069,2, -999.000,5, -999.000,5,-999.0000,5,  -999.00,9,   -999.0,9,  -999.00,9,-999.000,9,   -999.0,9,   -999.0,9,-999,   -999.0,9,-999.0000,9, -999,  -999.0, -999.00,-999.0000,-999.000,-999.000
     316N151_3,   A20,    65,  1,      3,      3,2,19970805,0333, 12.2032, -52.3327, 5068,47681.2,   4752.5,   2.0048,  34.8549,2,  34.8543,2,    252.7,2,  1.5827,    251.4,2,    52.31,2,    22.19,2,     0.00,2,     1.53,2,    0.077,2,    0.047,2, -999.000,5, -999.000,5,-999.0000,5,  -999.00,9,   -999.0,9,  -999.00,9,-999.000,9,   -999.0,9,   -999.0,9,-999,   -999.0,9,-999.0000,9, -999,  -999.0, -999.00,-999.0000,-999.000,-999.000
     316N151_3,   A20,    65,  1,      2,      2,2,19970805,0333, 12.2032, -52.3327, 5068,49605.5,   4944.8,   1.8190,  34.8309,2,  34.8315,2,    246.8,2,  1.3797,    245.5,2,    62.80,2,    23.82,2,     0.00,2,     1.64,2,    0.054,2,    0.036,2, -999.000,5, -999.000,5,-999.0000,5,  -999.00,9,   -999.0,9,  -999.00,9,-999.000,9,   -999.0,9,   -999.0,9,-999,   -999.0,9,-999.0000,9, -999,  -999.0, -999.00,-999.0000,-999.000,-999.000
     316N151_3,   A20,    65,  1,      1,      1,2,19970805,0333, 12.2032, -52.3327, 5068,51424.5,   5126.4,   1.6865,  34.8128,2,  34.8130,2,    240.6,2,  1.2294,    241.2,2,    70.58,6,    24.91,6,     0.00,6,     1.72,6,    0.049,2,    0.032,2, -999.000,5, -999.000,5,-999.0000,5,  -999.00,9,   -999.0,9,  -999.00,9,-999.000,9,   -999.0,9,   -999.0,9,-999,   -999.0,9,-999.0000,9, -999,  -999.0, -999.00,-999.0000,-999.000,-999.000