BOTTLE,20220812CCHSIOAMB
EXPOCODE,SECT_ID,STNNBR,CASTNO,SAMPNO,BTLNBR,BTLNBR_FLAG_W,DATE,TIME,LATITUDE,LONGITUDE,DEPTH,CTDRAW,CTDPRS,CTDTMP,CTDSAL,CTDSAL_FLAG_W,SALNTY,SALNTY_FLAG_W,CTDOXY,CTDOXY_FLAG_W,THETA,OXYGEN,OXYGEN_FLAG_W,SILCAT,SILCAT_FLAG_W,NITRAT,NITRAT_FLAG_W,NITRIT,NITRIT_FLAG_W,PHSPHT,PHSPHT_FLAG_W,CFC-11,CFC-11_FLAG_W,CFC-12,CFC-12_FLAG_W,CFC113,CFC113_FLAG_W,TRITUM,TRITUM_FLAG_W,HELIUM,HELIUM_FLAG_W,DELHE3,DELHE3_FLAG_W,DELC14,DELC14_FLAG_W,DELC13,DELC13_FLAG_W,NEON,NEON_FLAG_W,TCARBN,TCARBN_FLAG_W,PCO2,PCO2_FLAG_W,PCO2_TMP,ALKALI,ALKALI_FLAG_W,PH,PH_FLAG_W,PH_TMP,C14ERR,DELHER,HELIER,NEONER,TRITER
,,,,,,,,,,,,,DBAR,ITS-90,PSS-78,,PSS-78,,UMOL/KG,,ITS-90,UMOL/KG,,UMOL/KG,,UMOL/KG,,UMOL/KG,,UMOL/KG,,PMOL/KG,,PMOL/KG,,PMOL/KG,,TU,,NMOL/KG,,PERCNT,,/MILLE,,/MILLE,,NMOL/KG,,UMOL/KG,,UATM,,DEG C,UMOL/KG,,,,DEG C,/MILLE,PERCNT,NMOL/KG,NMOL/KG,TU
     316N151_3,   A20,    68,  1,     33,     33,2,19970806,0117, 10.1518, -52.3313, 4944,  268.1,      9.3,  28.2854,  34.9882,2,  35.0300,2,    207.3,2, 28.2832,    211.3,2,     3.66,2,     0.00,2,     0.00,2,     0.06,2,    1.646,2,    1.023,2, -999.000,5,    0.660,2,   1.7080,2,    -1.35,2,     71.4,2,     1.64,2,   6.380,2,   -999.0,9,   -999.0,9,-999,   2301.2,2,   8.1150,2,   25,     3.8,    0.15,  0.0085,   0.032,   0.013
     316N151_3,   A20,    68,  1,     32,     32,2,19970806,0117, 10.1518, -52.3313, 4944,  698.7,     53.7,  25.7395,  36.2564,2,  36.2618,2,    206.0,2, 25.7276,    211.1,2,     1.24,2,     0.00,2,     0.00,2,     0.02,2,    1.818,2,    1.077,2, -999.000,5, -999.000,5,-999.0000,5,  -999.00,9,   -999.0,9,  -999.00,9,-999.000,9,   -999.0,9,   -999.0,9,-999,   -999.0,9,-999.0000,9, -999,  -999.0, -999.00,-999.0000,-999.000,-999.000
     316N151_3,   A20,    68,  1,     31,     31,2,19970806,0117, 10.1518, -52.3313, 4944, 1174.0,    102.4,  20.8401,  36.5826,2,  36.5878,2,    145.5,2, 20.8204,    140.5,2,     2.75,2,     7.17,2,     0.03,2,     0.47,2,    1.834,2,    1.051,2, -999.000,5,    0.920,2,   1.7416,2,    -0.15,2,   -999.0,9,  -999.00,9,   6.791,2,   -999.0,9,   -999.0,9,-999,   -999.0,9,-999.0000,9, -999,  -999.0,    0.15,  0.0087,   0.034,   0.013
     316N151_3,   A20,    68,  1,     30,     30,2,19970806,0117, 10.1518, -52.3313, 4944, 1656.0,    151.1,  15.7477,  35.9997,2,  36.0080,2,    120.1,2, 15.7239,    118.2,2,     6.05,2,    16.78,2,     0.01,2,     1.04,2,    1.578,2,    0.866,2, -999.000,5, -999.000,5,-999.0000,5,  -999.00,9,     38.7,2,     0.66,2,-999.000,9,   -999.0,9,   -999.0,9,-999,   -999.0,9,-999.0000,9, -999,     3.0, -999.00,-999.0000,-999.000,-999.000
     316N151_3,   A20,    68,  1,     29,     29,2,19970806,0117, 10.1518, -52.3313, 4944, 2159.3,    201.6,  12.6633,  35.4468,2,  35.4480,2,    115.6,2, 12.6359,    110.4,2,     9.81,2,    22.79,2,     0.00,2,     1.45,2,    1.153,2,    0.621,2, -999.000,5,    0.578,2,   1.7805,2,     1.92,2,   -999.0,9,  -999.00,9,   7.220,2,   -999.0,9,   -999.0,9,-999,   -999.0,9,-999.0000,9, -999,  -999.0,    0.15,  0.0089,   0.036,   0.012
     316N151_3,   A20,    68,  1,     28,     28,2,19970806,0117, 10.1518, -52.3313, 4944, 2672.7,    253.0,  10.8364,  35.1705,2,  35.1801,2,    110.8,2, 10.8054,    111.3,2,    12.08,2,    25.73,2,     0.00,2,     1.65,2,    0.918,2,    0.494,2, -999.000,5, -999.000,5,-999.0000,5,  -999.00,9,     13.2,2,     0.58,2,-999.000,9,   -999.0,9,   -999.0,9,-999,   -999.0,9,-999.0000,9, -999,     4.0, -999.00,-999.0000,-999.000,-999.000
     316N151_3,   A20,    68,  1,     27,     27,2,19970806,0117, 10.1518, -52.3313, 4944, 3172.3,    303.1,  10.2113,  35.0771,2,  35.0746,2,    110.8,2, 10.1755,    110.9,2,    13.22,2,    27.02,2,     0.00,2,     1.73,2,    0.816,2,    0.427,2, -999.000,5, -999.000,5,   1.7921,2,     2.25,2,   -999.0,9,  -999.00,9,   7.242,2,   -999.0,9,   -999.0,9,-999,   -999.0,9,-999.0000,9, -999,  -999.0,    0.15,  0.0090,   0.036,-999.000
     316N151_3,   A20,    68,  1,     26,     26,2,19970806,0117, 10.1518, -52.3313, 4944, 3656.9,    351.8,   9.4152,  34.9578,2,  34.9557,2,    112.2,2,  9.3756,    112.7,2,    14.73,2,    28.67,2,     0.00,2,     1.84,2, -999.000,9, -999.000,9, -999.000,5, -999.000,5,-999.0000,5,  -999.00,9,   -999.0,9,  -999.00,9,-999.000,9,   -999.0,9,   -999.0,9,-999,   -999.0,9,-999.0000,9, -999,  -999.0, -999.00,-999.0000,-999.000,-999.000
     316N151_3,   A20,    68,  1,     25,     25,2,19970806,0117, 10.1518, -52.3313, 4944, 4648.4,    451.0,   8.2063,  34.8127,2,  34.8098,2,    114.8,2,  8.1593,    114.7,2,    17.94,2,    31.31,2,     0.00,2,     2.00,2,    0.431,2,    0.232,2, -999.000,5,    0.176,2,   1.7967,2,     1.90,2,    -35.8,2,     0.66,2,   7.398,2,   -999.0,9,   -999.0,9,-999,   -999.0,9,-999.0000,9, -999,     3.0,    0.15,  0.0090,   0.037,   0.011
     316N151_3,   A20,    68,  1,     24,     24,2,19970806,0117, 10.1518, -52.3313, 4944, 5671.8,    553.4,   7.0678,  34.7044,2,  34.7039,2,    120.2,2,  7.0146,    117.1,2,    21.51,2,    33.34,2,     0.00,2,     2.16,2,    0.226,2,    0.128,6, -999.000,5, -999.000,5,-999.0000,5,  -999.00,9,    -66.2,2,     0.56,2,-999.000,9,   -999.0,9,   -999.0,9,-999,   -999.0,9,-999.0000,9, -999,     3.6, -999.00,-999.0000,-999.000,-999.000
     316N151_3,   A20,    68,  1,     23,     23,2,19970806,0117, 10.1518, -52.3313, 4944, 6673.0,    653.7,   6.3576,  34.6684,2,  34.6665,2,    122.5,2,  6.2978,    121.9,2,    24.43,2,    34.28,2,     0.00,2,     2.23,2,    0.112,2,    0.065,2, -999.000,5,    0.063,2,   1.8180,2,     1.34,2,    -90.8,6,     0.55,2,   7.427,2,   -999.0,9,   -999.0,9,-999,   -999.0,9,-999.0000,9, -999,     5.3,    0.15,  0.0091,   0.037,   0.011
     316N151_3,   A20,    68,  1,     22,     22,2,19970806,0117, 10.1518, -52.3313, 4944, 7612.1,    747.5,   5.6628,  34.6233,2,  34.6232,2,    132.1,2,  5.5981,    131.3,2,    27.07,2,    34.51,2,     0.00,2,     2.28,2,    0.071,2,    0.046,2, -999.000,5,    0.019,2,   1.8278,2,     1.65,2,   -999.0,9,  -999.00,9,   7.813,2,   -999.0,9,   -999.0,9,-999,   -999.0,9,-999.0000,9, -999,  -999.0,    0.15,  0.0091,   0.039,   0.011
     316N151_3,   A20,    68,  1,     21,     21,2,19970806,0117, 10.1518, -52.3313, 4944, 8622.4,    848.5,   5.3043,  34.6500,2,  34.6496,2,    138.1,2,  5.2323,    137.8,2,    28.49,2,    33.96,2,     0.00,2,     2.25,2,    0.033,2,    0.021,2, -999.000,5, -999.000,5,-999.0000,5,  -999.00,9,    -94.1,2,     0.63,2,-999.000,9,   -999.0,9,   -999.0,9,-999,   -999.0,9,-999.0000,9, -999,     2.8, -999.00,-999.0000,-999.000,-999.000
     316N151_3,   A20,    68,  1,     20,     20,2,19970806,0117, 10.1518, -52.3313, 4944,10112.2,    997.2,   5.2019,  34.7723,2,  34.7711,2,    150.7,2,  5.1168,    148.9,2,    26.91,2,    31.59,2,     0.00,2,     2.11,2,    0.021,2,    0.014,2, -999.000,5,    0.009,2,   1.8366,2,     2.05,2,    -90.4,2,     0.66,2,   7.881,2,   -999.0,9,   -999.0,9,-999,   -999.0,9,-999.0000,9, -999,     2.7,    0.15,  0.0092,   0.039,   0.010
     316N151_3,   A20,    68,  1,     19,     19,2,19970806,0117, 10.1518, -52.3313, 4944,11623.0,   1148.1,   5.1472,  34.9087,2,  34.9079,2,    182.7,2,  5.0483,    179.4,2,    22.61,2,    26.70,2,     0.00,2,     1.79,2,    0.088,2,    0.048,2, -999.000,5, -999.000,5,-999.0000,5,  -999.00,9,   -107.0,6,     0.75,2,-999.000,9,   -999.0,9,   -999.0,9,-999,   -999.0,9,-999.0000,9, -999,     4.9, -999.00,-999.0000,-999.000,-999.000
     316N151_3,   A20,    68,  1,     18,     18,2,19970806,0117, 10.1518, -52.3313, 4944,13138.8,   1299.7,   4.8536,  34.9896,2,  34.9900,2,    215.2,2,  4.7430,    215.5,2,    18.14,2,    22.06,2,     0.00,2,     1.48,2,    0.217,2,    0.117,2, -999.000,5, -999.000,5,-999.0000,5,  -999.00,9,   -999.0,9,  -999.00,9,-999.000,9,   -999.0,9,   -999.0,9,-999,   -999.0,9,-999.0000,9, -999,  -999.0, -999.00,-999.0000,-999.000,-999.000
     316N151_3,   A20,    68,  1,     17,     17,2,19970806,0117, 10.1518, -52.3313, 4944,14621.4,   1447.9,   4.5335,  35.0114,2,  35.0119,2,    240.2,2,  4.4121,    239.9,2,    15.35,2,    19.41,2,     0.00,2,     1.31,2,    0.437,2,    0.229,2, -999.000,5, -999.000,5,-999.0000,5,  -999.00,9,    -85.6,2,     0.92,2,-999.000,9,   -999.0,9,   -999.0,9,-999,   -999.0,9,-999.0000,9, -999,     3.3, -999.00,-999.0000,-999.000,-999.000
     316N151_3,   A20,    68,  1,     16,     16,2,19970806,0117, 10.1518, -52.3313, 4944,16141.1,   1599.9,   4.1548,  34.9998,2,  35.0002,2,    249.6,2,  4.0235,    255.6,2,    15.27,2,    18.71,2,     0.00,2,     1.26,2,    0.342,2,    0.179,2, -999.000,5, -999.000,5,-999.0000,5,  -999.00,9,   -999.0,9,  -999.00,9,-999.000,9,   -999.0,9,   -999.0,9,-999,   -999.0,9,-999.0000,9, -999,  -999.0, -999.00,-999.0000,-999.000,-999.000
     316N151_3,   A20,    68,  1,     15,     15,2,19970806,0117, 10.1518, -52.3313, 4944,17635.6,   1749.2,   3.9211,  34.9923,2,  34.9919,2,    254.9,2,  3.7787,    255.4,2,    15.65,2,    18.39,2,     0.00,2,     1.25,2,    0.269,2,    0.143,2, -999.000,5, -999.000,5,-999.0000,5,  -999.00,9,    -81.6,2,     0.95,2,-999.000,9,   -999.0,9,   -999.0,9,-999,   -999.0,9,-999.0000,9, -999,     3.7, -999.00,-999.0000,-999.000,-999.000
     316N151_3,   A20,    68,  1,     14,     14,2,19970806,0117, 10.1518, -52.3313, 4944,19136.7,   1899.2,   3.7356,  34.9853,2,  34.9852,2,    258.0,2,  3.5816,    257.2,2,    16.61,2,    18.35,2,     0.00,2,     1.25,2,    0.207,2,    0.115,2, -999.000,5, -999.000,5,-999.0000,5,  -999.00,9,   -999.0,9,  -999.00,9,-999.000,9,   -999.0,9,   -999.0,9,-999,   -999.0,9,-999.0000,9, -999,  -999.0, -999.00,-999.0000,-999.000,-999.000
     316N151_3,   A20,    68,  1,     13,     13,2,19970806,0117, 10.1518, -52.3313, 4944,21150.8,   2100.6,   3.4595,  34.9734,2,  34.9736,2,    260.0,2,  3.2903,    259.2,2,    18.12,2,    18.24,2,     0.00,2,     1.25,2,    0.189,2,    0.097,2, -999.000,5, -999.000,5,-999.0000,5,  -999.00,9,    -83.3,2,     0.93,2,-999.000,9,   -999.0,9,   -999.0,9,-999,   -999.0,9,-999.0000,9, -999,     3.3, -999.00,-999.0000,-999.000,-999.000
     316N151_3,   A20,    68,  1,     12,     12,2,19970806,0117, 10.1518, -52.3313, 4944,23609.6,   2346.3,   3.2182,  34.9610,2,  34.9631,2,    260.4,2,  3.0294,    260.9,2,    20.19,2,    18.28,2,     0.00,2,     1.25,2,    0.146,2,    0.081,2, -999.000,5, -999.000,5,-999.0000,5,  -999.00,9,   -102.2,2,     1.04,2,-999.000,9,   -999.0,9,   -999.0,9,-999,   -999.0,9,-999.0000,9, -999,     4.8, -999.00,-999.0000,-999.000,-999.000
     316N151_3,   A20,    68,  1,     11,     11,2,19970806,0117, 10.1518, -52.3313, 4944,26134.9,   2598.6,   3.0083,  34.9480,2,  34.9488,2,    261.3,2,  2.7984,    261.4,2,    22.17,2,    18.37,2,     0.00,2,     1.26,2,    0.171,2,    0.089,2, -999.000,5, -999.000,5,-999.0000,5,  -999.00,9,    -96.2,2,     1.00,2,-999.000,9,   -999.0,9,   -999.0,9,-999,   -999.0,9,-999.0000,9, -999,     3.7, -999.00,-999.0000,-999.000,-999.000
     316N151_3,   A20,    68,  1,     10,     10,2,19970806,0117, 10.1518, -52.3313, 4944,28634.3,   2848.5,   2.8562,  34.9376,2,  34.9373,2,    261.0,2,  2.6242,    261.6,2,    24.43,2,    18.56,2,     0.00,2,     1.28,2,    0.160,2,    0.085,2, -999.000,5, -999.000,5,-999.0000,5,  -999.00,9,   -101.3,2,     1.13,2,-999.000,9,   -999.0,9,   -999.0,9,-999,   -999.0,9,-999.0000,9, -999,     3.0, -999.00,-999.0000,-999.000,-999.000
     316N151_3,   A20,    68,  1,      9,      9,2,19970806,0117, 10.1518, -52.3313, 4944,31647.4,   3149.7,   2.6757,  34.9244,2,  34.9235,2,    256.5,2,  2.4164,    261.0,2,    31.93,2,    19.79,2,     0.00,2,     1.36,2,    0.063,2,    0.038,2, -999.000,5, -999.000,5,-999.0000,5,  -999.00,9,    -99.6,2,     1.07,2,-999.000,9,   -999.0,9,   -999.0,9,-999,   -999.0,9,-999.0000,9, -999,     4.1, -999.00,-999.0000,-999.000,-999.000
     316N151_3,   A20,    68,  1,      8,      8,2,19970806,0117, 10.1518, -52.3313, 4944,34132.1,   3398.0,   2.5530,  34.9162,2,  34.9152,2,    259.2,2,  2.2703,    259.6,2,    30.36,2,    19.15,2,     0.00,2,     1.32,2,    0.145,2,    0.082,2, -999.000,5, -999.000,5,-999.0000,5,  -999.00,9,    -91.3,2,     1.10,2,-999.000,9,   -999.0,9,   -999.0,9,-999,   -999.0,9,-999.0000,9, -999,     3.3, -999.00,-999.0000,-999.000,-999.000
     316N151_3,   A20,    68,  1,      7,      7,2,19970806,0117, 10.1518, -52.3313, 4944,36659.5,   3650.7,   2.4509,  34.9088,2,  34.9080,2,    263.1,2,  2.1433,    264.6,2,    30.18,2,    18.88,2,     0.00,2,     1.31,2,    0.166,2,    0.093,2, -999.000,5, -999.000,5,-999.0000,5,  -999.00,9,    -92.1,2,     1.15,2,-999.000,9,   -999.0,9,   -999.0,9,-999,   -999.0,9,-999.0000,9, -999,     3.9, -999.00,-999.0000,-999.000,-999.000
     316N151_3,   A20,    68,  1,      6,      6,2,19970806,0117, 10.1518, -52.3313, 4944,39154.8,   3900.1,   2.3519,  34.9020,2,  34.9000,2,    264.0,2,  2.0192,    265.1,2,    31.41,2,    18.87,2,     0.00,2,     1.31,2,    0.162,6,    0.084,6, -999.000,5, -999.000,5,-999.0000,5,  -999.00,9,    -88.2,2,     1.15,2,-999.000,9,   -999.0,9,   -999.0,9,-999,   -999.0,9,-999.0000,9, -999,     3.3, -999.00,-999.0000,-999.000,-999.000
     316N151_3,   A20,    68,  1,      5,      5,2,19970806,0117, 10.1518, -52.3313, 4944,41177.5,   4102.2,   2.3081,  34.8977,2,  34.8965,2,    264.5,2,  1.9535,    265.7,2,    32.09,2,    18.83,2,     0.00,2,     1.31,2,    0.169,2,    0.093,2, -999.000,5, -999.000,5,-999.0000,5,  -999.00,9,    -85.6,2,     1.13,2,-999.000,9,   -999.0,9,   -999.0,9,-999,   -999.0,9,-999.0000,9, -999,     2.9, -999.00,-999.0000,-999.000,-999.000
     316N151_3,   A20,    68,  1,      4,      4,2,19970806,0117, 10.1518, -52.3313, 4944,43164.3,   4300.9,   2.2765,  34.8929,2,  34.8921,2,    263.8,2,  1.8996,    263.6,2,    34.16,2,    19.17,2,     0.00,2,     1.33,2,    0.153,2,    0.085,2, -999.000,5, -999.000,5,-999.0000,5,  -999.00,9,    -77.1,2,     1.14,2,-999.000,9,   -999.0,9,   -999.0,9,-999,   -999.0,9,-999.0000,9, -999,     3.6, -999.00,-999.0000,-999.000,-999.000
     316N151_3,   A20,    68,  1,      3,      3,2,19970806,0117, 10.1518, -52.3313, 4944,45158.8,   4500.3,   2.2291,  34.8852,2,  34.8827,2,    262.1,2,  1.8302,    262.6,2,    38.29,2,    19.74,2,     0.00,2,     1.37,2,    0.125,2,    0.075,2, -999.000,5, -999.000,5,-999.0000,5,  -999.00,9,    -87.1,2,     1.04,2,-999.000,9,   -999.0,9,   -999.0,9,-999,   -999.0,9,-999.0000,9, -999,     3.3, -999.00,-999.0000,-999.000,-999.000
     316N151_3,   A20,    68,  1,      2,      2,2,19970806,0117, 10.1518, -52.3313, 4944,47655.7,   4750.0,   2.0009,  34.8541,2,  34.8527,2,    252.4,2,  1.5793,    251.9,2,    53.26,2,    22.21,2,     0.00,2,     1.54,2,    0.065,2,    0.042,2, -999.000,5, -999.000,5,-999.0000,5,  -999.00,9,   -999.0,9,  -999.00,9,-999.000,9,   -999.0,9,   -999.0,9,-999,   -999.0,9,-999.0000,9, -999,  -999.0, -999.00,-999.0000,-999.000,-999.000
     316N151_3,   A20,    68,  1,      1,      1,2,19970806,0117, 10.1518, -52.3313, 4944,50034.9,   4987.6,   1.7431,  34.8202,2,  34.8195,2,   -999.0,9,  1.3012,    241.9,2,    68.70,6,    24.54,6,     0.00,6,     1.70,6,    0.049,2,    0.031,2, -999.000,5, -999.000,5,-999.0000,5,  -999.00,9,    -87.1,2,     0.90,2,-999.000,9,   -999.0,9,   -999.0,9,-999,   -999.0,9,-999.0000,9, -999,     2.8, -999.00,-999.0000,-999.000,-999.000