BOTTLE,20220812CCHSIOAMB
EXPOCODE,SECT_ID,STNNBR,CASTNO,SAMPNO,BTLNBR,BTLNBR_FLAG_W,DATE,TIME,LATITUDE,LONGITUDE,DEPTH,CTDRAW,CTDPRS,CTDTMP,CTDSAL,CTDSAL_FLAG_W,SALNTY,SALNTY_FLAG_W,CTDOXY,CTDOXY_FLAG_W,THETA,OXYGEN,OXYGEN_FLAG_W,SILCAT,SILCAT_FLAG_W,NITRAT,NITRAT_FLAG_W,NITRIT,NITRIT_FLAG_W,PHSPHT,PHSPHT_FLAG_W,CFC-11,CFC-11_FLAG_W,CFC-12,CFC-12_FLAG_W,CFC113,CFC113_FLAG_W,TRITUM,TRITUM_FLAG_W,HELIUM,HELIUM_FLAG_W,DELHE3,DELHE3_FLAG_W,DELC14,DELC14_FLAG_W,DELC13,DELC13_FLAG_W,NEON,NEON_FLAG_W,TCARBN,TCARBN_FLAG_W,PCO2,PCO2_FLAG_W,PCO2_TMP,ALKALI,ALKALI_FLAG_W,PH,PH_FLAG_W,PH_TMP,C14ERR,DELHER,HELIER,NEONER,TRITER
,,,,,,,,,,,,,DBAR,ITS-90,PSS-78,,PSS-78,,UMOL/KG,,ITS-90,UMOL/KG,,UMOL/KG,,UMOL/KG,,UMOL/KG,,UMOL/KG,,PMOL/KG,,PMOL/KG,,PMOL/KG,,TU,,NMOL/KG,,PERCNT,,/MILLE,,/MILLE,,NMOL/KG,,UMOL/KG,,UATM,,DEG C,UMOL/KG,,,,DEG C,/MILLE,PERCNT,NMOL/KG,NMOL/KG,TU
     316N151_3,   A20,    21,  1,     30,     30,2,19970723,1000, 39.8800, -52.3583, 5269,  224.5,      6.4,  23.4072,  35.6631,2,  35.6633,2,    229.7,2, 23.4059,    225.1,2,     1.08,2,     0.14,2,     0.00,2,     0.01,2,    2.111,2,    1.220,2, -999.000,5, -999.000,5,-999.0000,5,  -999.00,9,   -999.0,9,  -999.00,9,-999.000,9,   2013.6,2,    300.1,2,  20,   2342.8,2,   8.0740,2,   25,  -999.0, -999.00,-999.0000,-999.000,-999.000
     316N151_3,   A20,    21,  1,     29,     29,2,19970723,1000, 39.8800, -52.3583, 5269,  404.8,     24.8,  23.3647,  35.6707,2,  35.6727,2,    206.1,2, 23.3596,    221.7,2,     0.81,2,     0.09,2,     0.00,2,     0.01,2, -999.000,9, -999.000,9, -999.000,5, -999.000,5,-999.0000,5,  -999.00,9,     87.1,2,     1.44,2,-999.000,9,   2014.2,2,   -999.0,9,-999,   2343.6,6,   8.0760,6,   25,     3.5, -999.00,-999.0000,-999.000,-999.000
     316N151_3,   A20,    21,  1,     28,     28,2,19970723,1000, 39.8800, -52.3583, 5269,  671.5,     51.5,  19.9815,  35.9437,2,  35.9376,2,    214.7,2, 19.9720,    225.0,2,  -999.00,9,  -999.00,9,  -999.00,9,  -999.00,9,    2.365,2,    1.338,2, -999.000,5, -999.000,5,-999.0000,5,  -999.00,9,   -999.0,9,  -999.00,9,-999.000,9,   2045.4,2,   -999.0,9,-999,   2361.5,3,   8.0440,2,   25,  -999.0, -999.00,-999.0000,-999.000,-999.000
     316N151_3,   A20,    21,  1,     27,     27,2,19970723,1000, 39.8800, -52.3583, 5269,  892.8,     73.4,  16.9823,  35.6380,2,  35.6315,2,    197.7,2, 16.9702,    205.8,2,     1.67,2,     2.97,2,     0.22,2,     0.25,2, -999.000,9, -999.000,9, -999.000,5, -999.000,5,-999.0000,5,  -999.00,9,   -999.0,9,  -999.00,9,-999.000,9,   2081.2,2,   -999.0,9,-999,   2345.3,2,   7.9640,2,   25,  -999.0, -999.00,-999.0000,-999.000,-999.000
     316N151_3,   A20,    21,  1,     26,     26,2,19970723,1000, 39.8800, -52.3583, 5269, 1162.0,    100.2,  17.1339,  36.0384,2,  36.0286,2,    184.3,2, 17.1172,    199.5,2,     1.78,2,     3.84,2,     0.08,2,     0.26,2,    2.542,2,    1.396,2, -999.000,5, -999.000,5,-999.0000,5,  -999.00,9,     86.4,2,     1.00,2,-999.000,9,   2096.9,2,   -999.0,9,-999,   2362.3,2,   7.9640,2,   25,     4.0, -999.00,-999.0000,-999.000,-999.000
     316N151_3,   A20,    21,  1,     25,     25,2,19970723,1000, 39.8800, -52.3583, 5269, 1416.5,    125.7,  17.3691,  36.2660,2,  36.2347,2,    186.2,2, 17.3479,    184.1,2,     2.63,2,     6.29,2,     0.02,2,     0.37,2, -999.000,9, -999.000,9, -999.000,5, -999.000,5,-999.0000,5,  -999.00,9,   -999.0,9,  -999.00,9,-999.000,9,   2112.5,2,   -999.0,9,-999,   2370.4,2,   7.9480,2,   25,  -999.0, -999.00,-999.0000,-999.000,-999.000
     316N151_3,   A20,    21,  1,     24,     24,2,19970723,1000, 39.8800, -52.3583, 5269, 1659.0,    150.1,  17.1514,  36.2993,2,  36.2992,2,    183.3,2, 17.1263,    194.9,2,     2.64,2,     5.91,2,     0.01,2,     0.33,2,    2.326,2,    1.266,2, -999.000,5, -999.000,5,-999.0000,5,  -999.00,9,     84.7,2,     0.90,2,-999.000,9,   2103.5,2,   -999.0,9,-999,   2372.7,2,   7.9620,2,   25,     2.5, -999.00,-999.0000,-999.000,-999.000
     316N151_3,   A20,    21,  1,     23,     23,2,19970723,1000, 39.8800, -52.3583, 5269, 2123.3,    196.8,  15.5297,  35.9954,2,  35.9945,2,    180.3,2, 15.4989,    180.3,2,     4.08,2,     9.72,2,     0.01,2,     0.58,2,    2.154,2,    1.164,2, -999.000,5, -999.000,5,-999.0000,5,  -999.00,9,     93.4,2,     0.83,2,-999.000,9,   2124.9,2,   -999.0,9,-999,   2357.7,2,   7.9020,2,   25,     6.5, -999.00,-999.0000,-999.000,-999.000
     316N151_3,   A20,    21,  1,     22,     22,2,19970723,1000, 39.8800, -52.3583, 5269, 2631.9,    248.0,  14.5536,  35.8202,2,  35.8266,2,    184.7,2, 14.5165,    186.8,2,     4.94,2,    10.52,2,     0.01,2,     0.65,2,    2.197,2,    1.195,2, -999.000,5, -999.000,5,-999.0000,5,  -999.00,9,     71.7,2,     0.85,2,-999.000,9,   2136.6,2,   -999.0,9,-999,   2349.6,2,   7.8870,2,   25,     3.5, -999.00,-999.0000,-999.000,-999.000
     316N151_3,   A20,    21,  1,     21,     21,2,19970723,1000, 39.8800, -52.3583, 5269, 3674.4,    352.7,  12.3379,  35.5662,2,  35.5682,2,    154.8,2, 12.2905,    152.2,2,     9.04,2,    18.23,2,     0.00,2,     1.12,2,    1.369,2,    0.751,2, -999.000,5, -999.000,5,-999.0000,5,  -999.00,9,     29.0,2,     0.71,2,-999.000,9,   2162.5,2,   -999.0,9,-999,   2336.2,2,   7.7830,2,   25,     3.3, -999.00,-999.0000,-999.000,-999.000
     316N151_3,   A20,    21,  1,     20,     20,2,19970723,1000, 39.8800, -52.3583, 5269, 4648.8,    450.6,   9.5847,  35.2225,2,  35.2315,2,    152.6,2,  9.5330,    155.3,2,    12.66,2,    21.84,2,     0.00,2,     1.38,2,    1.200,2,    0.626,2, -999.000,5, -999.000,5,-999.0000,5,  -999.00,9,      8.2,2,     0.67,2,-999.000,9,   2177.5,2,   -999.0,9,-999,   2322.1,2,   7.7180,2,   25,     7.8, -999.00,-999.0000,-999.000,-999.000
     316N151_3,   A20,    21,  1,     19,     19,2,19970723,1000, 39.8800, -52.3583, 5269, 6144.0,    600.4,   7.6309,  35.0945,2,  35.0966,2,    172.6,2,  7.5701,    169.6,2,    14.86,2,    23.07,2,     0.00,2,     1.48,2,    0.960,2,    0.491,2, -999.000,5, -999.000,5,-999.0000,5,  -999.00,9,    -11.7,2,     0.71,2,-999.000,9,   2186.6,2,   -999.0,9,-999,   2317.9,2,   7.6920,2,   25,     6.6, -999.00,-999.0000,-999.000,-999.000
     316N151_3,   A20,    21,  1,     18,     18,2,19970723,1000, 39.8800, -52.3583, 5269, 7614.2,    747.5,   5.9808,  35.0787,2,  35.0826,2,    210.7,2,  5.9136,    213.1,2,    13.35,2,    19.93,2,     0.00,2,     1.30,2,    1.383,2,    0.683,2, -999.000,5, -999.000,5,-999.0000,5,  -999.00,9,    -11.1,2,     0.81,2,-999.000,9,   2173.9,2,   -999.0,9,-999,   2316.6,2,   7.7170,2,   25,     3.8, -999.00,-999.0000,-999.000,-999.000
     316N151_3,   A20,    21,  1,     17,     17,2,19970723,1000, 39.8800, -52.3583, 5269, 9155.0,    901.6,   4.9128,  35.0048,2,  35.0047,2,    236.6,2,  4.8382,    244.1,2,    12.59,2,    18.47,2,     0.00,2,     1.22,2,    1.751,2,    0.880,2, -999.000,5, -999.000,5,-999.0000,5,  -999.00,9,    -32.1,6,     0.88,2,-999.000,9,   2162.5,2,   -999.0,9,-999,   2310.1,2,   7.7250,2,   25,     2.2, -999.00,-999.0000,-999.000,-999.000
     316N151_3,   A20,    21,  1,     16,     16,2,19970723,1000, 39.8800, -52.3583, 5269,11163.8,   1102.5,   4.5536,  35.0099,2,  35.0110,2,    250.5,2,  4.4637,    250.3,2,    12.59,2,    18.30,2,     0.00,2,     1.20,2,    1.518,2,    0.753,2, -999.000,5, -999.000,5,-999.0000,5,  -999.00,9,    -65.4,2,     0.99,2,-999.000,9,   2162.8,2,   -999.0,9,-999,   2310.6,2,   7.7310,2,   25,     4.4, -999.00,-999.0000,-999.000,-999.000
     316N151_3,   A20,    21,  1,     15,     15,2,19970723,1000, 39.8800, -52.3583, 5269,14146.6,   1400.6,   3.9316,  34.9538,2,  34.9555,2,    266.7,2,  3.8212,    265.4,2,    12.61,2,    17.62,2,     0.00,2,     1.16,2,    1.774,2,    0.902,2, -999.000,5, -999.000,5,-999.0000,5,  -999.00,9,    -33.2,2,     1.01,2,-999.000,9,   2157.0,2,   -999.0,9,-999,   2303.5,2,   7.7370,2,   25,     3.9, -999.00,-999.0000,-999.000,-999.000
     316N151_3,   A20,    21,  1,     14,     14,2,19970723,1000, 39.8800, -52.3583, 5269,17106.5,   1696.2,   3.6972,  34.9435,2,  34.9445,2,    270.6,2,  3.5627,    270.9,2,    14.52,2,    17.49,2,     0.00,2,     1.15,2,    1.498,2,    0.740,2, -999.000,5, -999.000,5,-999.0000,5,  -999.00,9,    -47.6,2,     0.98,2,-999.000,9,   2156.1,2,   -999.0,9,-999,   2304.4,2,   7.7380,2,   25,     2.4, -999.00,-999.0000,-999.000,-999.000
     316N151_3,   A20,    21,  1,     13,     13,2,19970723,1000, 39.8800, -52.3583, 5269,20114.5,   1996.9,   3.5010,  34.9375,2,  34.9386,2,    271.1,2,  3.3412,    274.8,2,    15.48,2,    17.36,2,     0.00,2,     1.15,2,    1.406,2,    0.708,2, -999.000,5, -999.000,5,-999.0000,5,  -999.00,9,    -46.5,2,     1.14,2,-999.000,9,   2156.8,2,   -999.0,9,-999,   2304.2,2,   7.7380,2,   25,     3.7, -999.00,-999.0000,-999.000,-999.000
     316N151_3,   A20,    21,  1,     12,     12,2,19970723,1000, 39.8800, -52.3583, 5269,23104.6,   2295.7,   3.4061,  34.9520,2,  34.5658,3,    269.8,2,  3.2189,    270.0,2,    16.44,2,    17.64,2,     0.00,2,     1.17,2,    0.806,2,    0.400,2, -999.000,5, -999.000,5,-999.0000,5,  -999.00,9,    -51.2,2,     1.15,2,-999.000,9,   2158.4,2,   -999.0,9,-999,   2309.5,2,   7.7460,2,   25,     3.0, -999.00,-999.0000,-999.000,-999.000
     316N151_3,   A20,    21,  1,     11,     11,2,19970723,1000, 39.8800, -52.3583, 5269,26126.2,   2597.8,   3.2056,  34.9508,2,  34.9507,2,    269.7,2,  2.9921,    268.2,2,    18.54,2,    17.76,2,     0.00,2,     1.19,2,    0.529,6,    0.265,6, -999.000,5, -999.000,5,-999.0000,5,  -999.00,9,    -62.0,2,     1.01,2,-999.000,9,   2159.6,2,   -999.0,9,-999,   2312.6,2,   7.7480,2,   25,     2.6, -999.00,-999.0000,-999.000,-999.000
     316N151_3,   A20,    21,  1,     10,     10,2,19970723,1000, 39.8800, -52.3583, 5269,29140.8,   2899.1,   2.9496,  34.9397,2,  34.9399,2,    270.1,2,  2.7104,    267.2,2,    20.64,2,    17.86,2,     0.00,2,     1.20,2,    0.530,2,    0.264,2, -999.000,5, -999.000,5,-999.0000,5,  -999.00,9,    -56.1,2,     1.17,2,-999.000,9,   2160.4,2,   -999.0,9,-999,   2313.5,2,   7.7460,2,   25,     2.7, -999.00,-999.0000,-999.000,-999.000
     316N151_3,   A20,    21,  1,      9,      9,2,19970723,1000, 39.8800, -52.3583, 5269,32145.1,   3199.4,   2.7139,  34.9257,2,  34.9277,2,    271.6,2,  2.4486,    269.1,2,    21.79,2,    17.68,2,     0.00,2,     1.19,2,    0.529,2,    0.221,2, -999.000,5, -999.000,5,-999.0000,5,  -999.00,9,    -60.8,2,     1.11,2,-999.000,9,   2161.4,2,   -999.0,9,-999,   2314.4,2,   7.7480,2,   25,     4.1, -999.00,-999.0000,-999.000,-999.000
     316N151_3,   A20,    21,  1,      8,      8,2,19970723,1000, 39.8800, -52.3583, 5269,35154.7,   3500.3,   2.5115,  34.9158,2,  34.9159,2,    272.4,2,  2.2188,    270.0,2,    24.94,2,    17.91,2,     0.00,2,     1.21,2,    0.451,2,    0.224,2, -999.000,5, -999.000,5,-999.0000,5,  -999.00,9,    -73.4,2,     1.10,2,-999.000,9,   2165.2,2,   -999.0,9,-999,   2317.3,2,   7.7530,2,   25,     5.3, -999.00,-999.0000,-999.000,-999.000
     316N151_3,   A20,    21,  1,      7,      7,2,19970723,1000, 39.8800, -52.3583, 5269,38186.4,   3803.3,   2.3715,  34.9050,2,  34.9059,2,    272.2,2,  2.0490,    272.2,2,    26.57,2,    18.00,2,     0.00,2,     1.22,2,    0.574,2,    0.292,2, -999.000,5, -999.000,5,-999.0000,5,  -999.00,9,    -76.1,2,     1.12,2,-999.000,9,   2166.8,2,   -999.0,9,-999,   2319.0,2,   7.7440,2,   25,     5.3, -999.00,-999.0000,-999.000,-999.000
     316N151_3,   A20,    21,  1,      6,      6,2,19970723,1000, 39.8800, -52.3583, 5269,41183.7,   4102.9,   2.3154,  34.8994,2,  34.8997,2,    270.4,2,  1.9606,    269.9,2,    28.77,2,    18.30,2,     0.00,2,     1.24,2,    0.558,2,    0.304,2, -999.000,5, -999.000,5,-999.0000,5,  -999.00,9,    -72.8,2,     1.13,2,-999.000,9,   2169.8,2,   -999.0,9,-999,   2321.0,2,   7.7350,2,   25,     3.4, -999.00,-999.0000,-999.000,-999.000
     316N151_3,   A20,    21,  1,      5,      5,2,19970723,1000, 39.8800, -52.3583, 5269,44156.3,   4399.9,   2.2917,  34.8943,2,  34.8942,2,    268.2,2,  1.9028,    269.6,2,    30.96,2,    18.61,2,     0.00,2,     1.26,2,    0.533,2,    0.273,2, -999.000,5, -999.000,5,-999.0000,5,  -999.00,9,    -73.4,2,     1.11,2,-999.000,9,   2172.6,2,   -999.0,9,-999,   2316.6,3,   7.7410,2,   25,     3.4, -999.00,-999.0000,-999.000,-999.000
     316N151_3,   A20,    21,  1,      4,      4,2,19970723,1000, 39.8800, -52.3583, 5269,47143.2,   4698.6,   2.2783,  34.8893,2,  34.8902,2,    265.8,2,  1.8538,    266.6,2,    33.26,2,    18.96,2,     0.00,2,     1.28,2,    0.520,2,    0.258,2, -999.000,5, -999.000,5,-999.0000,5,  -999.00,9,    -82.3,2,     1.04,2,-999.000,9,   2173.5,2,   -999.0,9,-999,   2325.7,2,   7.7380,2,   25,     3.8, -999.00,-999.0000,-999.000,-999.000
     316N151_3,   A20,    21,  1,      3,      3,2,19970723,1000, 39.8800, -52.3583, 5269,50138.7,   4998.0,   2.2730,  34.8841,2,  34.8848,2,    263.2,2,  1.8115,    264.0,2,    36.50,2,    19.48,2,     0.00,2,     1.32,2,    0.450,6,    0.227,6, -999.000,5, -999.000,5,-999.0000,5,  -999.00,9,    -74.9,2,     1.04,2,-999.000,9,   2179.5,2,   -999.0,9,-999,   2330.7,2,   7.7380,2,   25,     4.2, -999.00,-999.0000,-999.000,-999.000
     316N151_3,   A20,    21,  1,      2,      2,2,19970723,1000, 39.8800, -52.3583, 5269,52326.0,   5216.7,   2.2423,  34.8760,2,  34.8770,2,    261.5,2,  1.7541,    259.7,2,    42.22,2,    20.31,2,     0.00,2,     1.38,2,    0.264,2,    0.145,2, -999.000,5, -999.000,5,-999.0000,5,  -999.00,9,   -104.7,6,     1.06,2,-999.000,9,   2185.1,2,   -999.0,9,-999,   2330.2,6,   7.7330,6,   25,     3.8, -999.00,-999.0000,-999.000,-999.000
     316N151_3,   A20,    21,  1,      1,      1,2,19970723,1000, 39.8800, -52.3583, 5269,53895.2,   5373.8,   2.2114,  34.8708,2,  34.8690,2,    260.1,2,  1.7040,    256.3,2,    46.06,6,    20.89,6,     0.00,6,     1.44,6,    0.171,2,    0.102,2, -999.000,5, -999.000,5,-999.0000,5,  -999.00,9,   -117.0,6,     1.01,2,-999.000,9,   2190.8,2,   -999.0,9,-999,   2339.4,2,   7.7310,2,   25,     2.1, -999.00,-999.0000,-999.000,-999.000