BOTTLE,20220812CCHSIOAMB
EXPOCODE,SECT_ID,STNNBR,CASTNO,SAMPNO,BTLNBR,BTLNBR_FLAG_W,DATE,TIME,LATITUDE,LONGITUDE,DEPTH,CTDRAW,CTDPRS,CTDTMP,CTDSAL,CTDSAL_FLAG_W,SALNTY,SALNTY_FLAG_W,CTDOXY,CTDOXY_FLAG_W,THETA,OXYGEN,OXYGEN_FLAG_W,SILCAT,SILCAT_FLAG_W,NITRAT,NITRAT_FLAG_W,NITRIT,NITRIT_FLAG_W,PHSPHT,PHSPHT_FLAG_W,CFC-11,CFC-11_FLAG_W,CFC-12,CFC-12_FLAG_W,CFC113,CFC113_FLAG_W,TRITUM,TRITUM_FLAG_W,HELIUM,HELIUM_FLAG_W,DELHE3,DELHE3_FLAG_W,DELC14,DELC14_FLAG_W,DELC13,DELC13_FLAG_W,NEON,NEON_FLAG_W,TCARBN,TCARBN_FLAG_W,PCO2,PCO2_FLAG_W,PCO2_TMP,ALKALI,ALKALI_FLAG_W,PH,PH_FLAG_W,PH_TMP,C14ERR,DELHER,HELIER,NEONER,TRITER
,,,,,,,,,,,,,DBAR,ITS-90,PSS-78,,PSS-78,,UMOL/KG,,ITS-90,UMOL/KG,,UMOL/KG,,UMOL/KG,,UMOL/KG,,UMOL/KG,,PMOL/KG,,PMOL/KG,,PMOL/KG,,TU,,NMOL/KG,,PERCNT,,/MILLE,,/MILLE,,NMOL/KG,,UMOL/KG,,UATM,,DEG C,UMOL/KG,,,,DEG C,/MILLE,PERCNT,NMOL/KG,NMOL/KG,TU
     316N151_3,   A20,    63,  1,     33,     33,2,19970804,1321, 13.5673, -52.3320, 5231,  199.5,      4.0,  27.9118,  34.9766,2,  34.9769,2,    190.4,2, 27.9109,    206.2,2,     2.28,2,     0.02,2,     0.00,2,     0.00,2,    1.691,2,    1.017,2, -999.000,5, -999.000,5,-999.0000,5,  -999.00,9,   -999.0,9,  -999.00,9,-999.000,9,   1950.5,2,   -999.0,9,-999,   2297.5,2,   8.1240,2,   25,  -999.0, -999.00,-999.0000,-999.000,-999.000
     316N151_3,   A20,    63,  1,     32,     32,2,19970804,1321, 13.5673, -52.3320, 5231,  427.4,     26.1,  27.8709,  34.9880,2,  34.9926,2,    203.3,2, 27.8647,    206.1,2,     2.19,2,     0.00,2,     0.00,2,     0.00,2, -999.000,9, -999.000,9, -999.000,5, -999.000,5,-999.0000,5,  -999.00,9,   -999.0,9,  -999.00,9,-999.000,9,   1948.6,2,   -999.0,9,-999,   2296.1,6,   8.1190,6,   25,  -999.0, -999.00,-999.0000,-999.000,-999.000
     316N151_3,   A20,    63,  1,     31,     31,2,19970804,1321, 13.5673, -52.3320, 5231,  524.5,     35.5,  27.7075,  36.2080,2,  36.1982,2,    208.0,2, 27.6992,    208.1,2,     1.12,2,     0.03,2,     0.00,2,     0.01,2, -999.000,9, -999.000,9, -999.000,5, -999.000,5,-999.0000,5,  -999.00,9,   -999.0,9,  -999.00,9,-999.000,9,   2001.0,2,    263.5,2,  20,   2371.2,2,   8.1250,2,   25,  -999.0, -999.00,-999.0000,-999.000,-999.000
     316N151_3,   A20,    63,  1,     30,     30,2,19970804,1321, 13.5673, -52.3320, 5231,  823.1,     65.2,  27.0288,  36.4572,2,  36.4589,2,    210.8,2, 27.0137,    211.7,2,     0.83,2,     0.03,2,     0.00,2,     0.01,2,    1.749,2,    1.051,2, -999.000,5, -999.000,5,-999.0000,5,  -999.00,9,   -999.0,9,  -999.00,9,-999.000,9,   2015.1,2,    267.4,2,  20,   2383.9,2,   8.1200,2,   25,  -999.0, -999.00,-999.0000,-999.000,-999.000
     316N151_3,   A20,    63,  1,     29,     29,2,19970804,1321, 13.5673, -52.3320, 5231, 1173.8,    100.4,  24.9131,  37.0434,2,  37.0236,2,    206.1,2, 24.8912,    210.4,2,     0.55,2,     0.03,2,     0.00,2,     0.01,2,    1.880,6,    1.118,6, -999.000,5, -999.000,5,-999.0000,5,  -999.00,9,   -999.0,9,  -999.00,9,-999.000,9,   2052.9,2,    277.6,2,  20,   2419.8,2,   8.1080,2,   25,  -999.0, -999.00,-999.0000,-999.000,-999.000
     316N151_3,   A20,    63,  1,     28,     28,2,19970804,1321, 13.5673, -52.3320, 5231, 1457.7,    129.3,  24.0385,  37.2413,2,  37.2320,2,    196.2,2, 24.0110,    199.9,2,     0.55,2,     0.19,2,     0.14,2,     0.02,2, -999.000,9, -999.000,9, -999.000,5, -999.000,5,-999.0000,5,  -999.00,9,   -999.0,9,  -999.00,9,-999.000,9,   2079.3,2,    303.2,2,  20,   2430.6,2,   8.0780,2,   25,  -999.0, -999.00,-999.0000,-999.000,-999.000
     316N151_3,   A20,    63,  1,     27,     27,2,19970804,1321, 13.5673, -52.3320, 5231, 1692.3,    153.1,  21.9287,  37.0526,2,  37.0559,2,    170.6,2, 21.8982,    171.3,2,     0.94,2,     2.65,2,     0.05,2,     0.15,2,    2.036,2,    1.172,2, -999.000,5, -999.000,5,-999.0000,5,  -999.00,9,   -999.0,9,  -999.00,9,-999.000,9,   2120.8,2,    380.6,2,  20,   2419.6,2,   7.9990,2,   25,  -999.0, -999.00,-999.0000,-999.000,-999.000
     316N151_3,   A20,    63,  1,     26,     26,2,19970804,1321, 13.5673, -52.3320, 5231, 1957.0,    180.0,  19.4665,  36.7195,2,  36.7253,2,    147.1,2, 19.4335,    148.2,2,     2.11,2,     8.06,2,     0.02,2,     0.46,2, -999.000,9, -999.000,9, -999.000,5, -999.000,5,-999.0000,5,  -999.00,9,   -999.0,9,  -999.00,9,-999.000,9,   2148.6,2,    466.3,2,  20,   2396.9,2,   7.9190,2,   25,  -999.0, -999.00,-999.0000,-999.000,-999.000
     316N151_3,   A20,    63,  1,     25,     25,2,19970804,1321, 13.5673, -52.3320, 5231, 2122.7,    197.0,  18.1248,  36.4684,2,  36.4678,2,    131.1,2, 18.0905,    132.9,2,     3.28,2,    11.79,2,     0.01,2,     0.68,2, -999.000,9,    1.054,2, -999.000,5, -999.000,5,-999.0000,5,  -999.00,9,   -999.0,9,  -999.00,9,-999.000,9,   2161.0,2,    530.8,2,  20,   2382.2,2,   7.8730,2,   25,  -999.0, -999.00,-999.0000,-999.000,-999.000
     316N151_3,   A20,    63,  1,     24,     24,2,19970804,1321, 13.5673, -52.3320, 5231, 2624.3,    247.6,  15.4335,  36.0745,2,  36.0707,2,    124.5,2, 15.3948,    122.4,2,     5.23,2,    16.63,2,     0.00,2,     0.98,2,    1.620,2,    0.882,2, -999.000,5, -999.000,5,-999.0000,5,  -999.00,9,   -999.0,9,  -999.00,9,-999.000,9,   2174.3,2,    631.0,2,  20,   2358.2,2,   7.8040,2,   25,  -999.0, -999.00,-999.0000,-999.000,-999.000
     316N151_3,   A20,    63,  1,     23,     23,2,19970804,1321, 13.5673, -52.3320, 5231, 3070.5,    292.6,  13.7570,  35.7735,2,  35.7742,2,    113.1,2, 13.7148,    113.9,2,     7.27,2,    20.31,2,     0.01,2,     1.21,2,    1.287,2,    0.689,2, -999.000,5, -999.000,5,-999.0000,5,  -999.00,9,   -999.0,9,  -999.00,9,-999.000,9,   2182.9,2,    723.0,2,  20,   2344.0,2,   7.7480,2,   25,  -999.0, -999.00,-999.0000,-999.000,-999.000
     316N151_3,   A20,    63,  1,     22,     22,2,19970804,1321, 13.5673, -52.3320, 5231, 3913.3,    377.1,  10.7494,  35.2221,2,  35.2233,2,    113.9,2, 10.7031,    114.9,2,    12.14,2,    25.74,2,     0.00,2,     1.61,2,    0.813,2,    0.441,2, -999.000,5, -999.000,5,-999.0000,5,  -999.00,9,   -999.0,9,  -999.00,9,-999.000,9,   2193.6,2,    877.8,2,  20,   2318.1,2,   7.6710,2,   25,  -999.0, -999.00,-999.0000,-999.000,-999.000
     316N151_3,   A20,    63,  1,     21,     21,2,19970804,1321, 13.5673, -52.3320, 5231, 4629.3,    449.0,   9.4385,  35.0552,2,  35.0423,2,    112.4,2,  9.3875,    111.4,2,    15.06,2,    28.58,2,     0.00,2,     1.81,2,    0.511,2,    0.276,2, -999.000,5, -999.000,5,-999.0000,5,  -999.00,9,   -999.0,9,  -999.00,9,-999.000,9,   2206.1,2,   -999.0,9,-999,   2313.0,2,   7.6290,2,   25,  -999.0, -999.00,-999.0000,-999.000,-999.000
     316N151_3,   A20,    63,  1,     20,     20,2,19970804,1321, 13.5673, -52.3320, 5231, 5658.0,    552.1,   7.8854,  34.8444,2,  34.8403,2,    114.2,2,  7.8288,    115.9,2,    18.86,2,    31.41,2,     0.00,2,     2.01,2,    0.313,6,    0.171,6, -999.000,5, -999.000,5,-999.0000,5,  -999.00,9,   -999.0,9,  -999.00,9,-999.000,9,   2210.5,2,   1062.0,2,  20,   2305.4,2,   7.5960,2,   25,  -999.0, -999.00,-999.0000,-999.000,-999.000
     316N151_3,   A20,    63,  1,     19,     19,2,19970804,1321, 13.5673, -52.3320, 5231, 7098.2,    696.1,   6.4696,  34.6939,2,  34.6922,2,    121.8,2,  6.4052,    123.9,2,    23.63,2,    33.49,2,     0.00,2,     2.20,2,    0.124,2,    0.073,2, -999.000,5, -999.000,5,-999.0000,5,  -999.00,9,   -999.0,9,  -999.00,9,-999.000,9,   2217.8,2,   1143.4,2,  20,   2304.4,2,   7.5740,2,   25,  -999.0, -999.00,-999.0000,-999.000,-999.000
     316N151_3,   A20,    63,  1,     18,     18,2,19970804,1321, 13.5673, -52.3320, 5231, 8641.8,    850.3,   5.7338,  34.6761,2,  34.6762,2,    130.8,2,  5.6589,    130.5,2,    26.55,2,    33.77,2,     0.00,2,     2.24,2,    0.000,2,    0.032,2, -999.000,5, -999.000,5,-999.0000,5,  -999.00,9,   -999.0,9,  -999.00,9,-999.000,9,   2220.3,2,   -999.0,9,-999,   2304.5,2,   7.5710,2,   25,  -999.0, -999.00,-999.0000,-999.000,-999.000
     316N151_3,   A20,    63,  1,     17,     17,2,19970804,1321, 13.5673, -52.3320, 5231,10118.6,    997.8,   5.3692,  34.7380,2,  34.7387,2,    144.2,2,  5.2829,    142.3,2,    26.75,2,    32.28,2,     0.00,2,     2.15,2,    0.020,2,    0.019,2, -999.000,5, -999.000,5,-999.0000,5,  -999.00,9,   -999.0,9,  -999.00,9,-999.000,9,   2218.0,2,   1101.5,2,  20,   2310.5,2,   7.5900,2,   25,  -999.0, -999.00,-999.0000,-999.000,-999.000
     316N151_3,   A20,    63,  1,     16,     16,2,19970804,1321, 13.5673, -52.3320, 5231,11654.2,   1151.2,   5.2263,  34.8733,2,  34.8756,2,    169.8,2,  5.1266,    169.2,2,    23.53,2,    28.13,2,     0.00,2,     1.88,2,    0.065,2,    0.041,2, -999.000,5, -999.000,5,-999.0000,5,  -999.00,9,   -999.0,9,  -999.00,9,-999.000,9,   2204.9,2,    967.4,2,  20,   2314.6,2,   7.6440,2,   25,  -999.0, -999.00,-999.0000,-999.000,-999.000
     316N151_3,   A20,    63,  1,     15,     15,2,19970804,1321, 13.5673, -52.3320, 5231,13122.1,   1298.0,   5.0420,  34.9570,2,  34.9597,2,    192.9,2,  4.9298,    193.7,2,    20.33,2,    24.82,2,     0.00,2,     1.65,2,    0.099,2,    0.058,2, -999.000,5, -999.000,5,-999.0000,5,  -999.00,9,   -999.0,9,  -999.00,9,-999.000,9,   2189.4,2,   -999.0,9,-999,   2318.1,2,   7.6810,2,   25,  -999.0, -999.00,-999.0000,-999.000,-999.000
     316N151_3,   A20,    63,  1,     14,     14,2,19970804,1321, 13.5673, -52.3320, 5231,15093.9,   1495.1,   4.5923,  35.0055,2,  35.0053,2,    227.5,2,  4.4658,    229.7,2,    16.44,2,    20.88,2,     0.00,2,     1.39,2,    0.233,2,    0.129,2, -999.000,5, -999.000,5,-999.0000,5,  -999.00,9,   -999.0,9,  -999.00,9,-999.000,9,   2173.9,2,    783.8,2,  20,   2315.8,2,   7.7250,2,   25,  -999.0, -999.00,-999.0000,-999.000,-999.000
     316N151_3,   A20,    63,  1,     13,     13,2,19970804,1321, 13.5673, -52.3320, 5231,16642.4,   1649.8,   4.2405,  35.0028,2,  35.0028,2,    243.9,2,  4.1034,    246.4,2,    15.38,2,    19.49,2,     0.00,2,     1.30,2,    0.245,2,    0.137,2, -999.000,5, -999.000,5,-999.0000,5,  -999.00,9,   -999.0,9,  -999.00,9,-999.000,9,   2165.0,2,   -999.0,9,-999,   2317.0,2,   7.7400,2,   25,  -999.0, -999.00,-999.0000,-999.000,-999.000
     316N151_3,   A20,    63,  1,     12,     12,2,19970804,1321, 13.5673, -52.3320, 5231,18160.8,   1801.7,   3.9547,  34.9939,2,  34.9967,2,    252.0,2,  3.8068,    252.3,2,    15.96,2,    19.11,2,     0.00,2,     1.27,2,    0.163,2,    0.090,2, -999.000,5, -999.000,5,-999.0000,5,  -999.00,9,   -999.0,9,  -999.00,9,-999.000,9,   2164.4,2,    735.1,2,  20,   2314.4,2,   7.7450,2,   25,  -999.0, -999.00,-999.0000,-999.000,-999.000
     316N151_3,   A20,    63,  1,     11,     11,2,19970804,1321, 13.5673, -52.3320, 5231,21147.8,   2100.2,   3.5153,  34.9760,2,  34.9781,2,    256.6,2,  3.3453,    256.5,2,    18.98,2,    19.06,2,     0.00,2,     1.27,2,    0.078,2,    0.049,2, -999.000,5, -999.000,5,-999.0000,5,  -999.00,9,   -999.0,9,  -999.00,9,-999.000,9,   2163.1,2,   -999.0,9,-999,   2319.5,2,   7.7520,2,   25,  -999.0, -999.00,-999.0000,-999.000,-999.000
     316N151_3,   A20,    63,  1,     10,     10,2,19970804,1321, 13.5673, -52.3320, 5231,24130.5,   2398.3,   3.2027,  34.9611,2,  34.9611,2,    261.1,2,  3.0091,    260.3,2,    20.73,2,    18.80,2,     0.00,2,     1.26,2,    0.123,2,    0.069,2, -999.000,5, -999.000,5,-999.0000,5,  -999.00,9,   -999.0,9,  -999.00,9,-999.000,9,   2164.3,2,    730.4,2,  20,   2319.1,2,   7.7530,2,   25,  -999.0, -999.00,-999.0000,-999.000,-999.000
     316N151_3,   A20,    63,  1,      9,      9,2,19970804,1321, 13.5673, -52.3320, 5231,27145.3,   2699.7,   2.9241,  34.9407,2,  34.9426,2,    252.1,2,  2.7058,    254.8,2,    29.77,2,    20.32,2,     0.00,2,     1.37,2,    0.015,2,    0.012,2, -999.000,5, -999.000,5,-999.0000,5,  -999.00,9,   -999.0,9,  -999.00,9,-999.000,9,   2170.4,2,    743.4,2,  20,   2331.9,3,   7.7480,2,   25,  -999.0, -999.00,-999.0000,-999.000,-999.000
     316N151_3,   A20,    63,  1,      8,      8,2,19970804,1321, 13.5673, -52.3320, 5231,30144.6,   2999.5,   2.7617,  34.9302,2,  34.9311,2,    252.6,2,  2.5162,    253.6,2,    31.81,2,    20.36,2,     0.00,2,     1.37,2,    0.029,2,    0.017,2, -999.000,5, -999.000,5,-999.0000,5,  -999.00,9,   -999.0,9,  -999.00,9,-999.000,9,   2178.4,2,    742.6,2,  20,   2330.1,2,   7.7450,2,   25,  -999.0, -999.00,-999.0000,-999.000,-999.000
     316N151_3,   A20,    63,  1,      7,      7,2,19970804,1321, 13.5673, -52.3320, 5231,34136.1,   3398.3,   2.5665,  34.9156,2,  34.9153,2,    254.8,2,  2.2834,    255.7,2,    34.54,2,    20.39,2,     0.00,2,     1.38,2,    0.040,2,    0.025,2, -999.000,5, -999.000,5,-999.0000,5,  -999.00,9,   -999.0,9,  -999.00,9,-999.000,9,   2181.5,2,   -999.0,9,-999,   2333.6,2,   7.7460,2,   25,  -999.0, -999.00,-999.0000,-999.000,-999.000
     316N151_3,   A20,    63,  1,      6,      6,2,19970804,1321, 13.5673, -52.3320, 5231,37644.5,   3749.1,   2.4116,  34.9039,2,  34.9033,2,    258.6,2,  2.0941,    260.0,2,    34.54,2,    20.05,2,     0.00,2,     1.36,2,    0.080,2,    0.047,2, -999.000,5, -999.000,5,-999.0000,5,  -999.00,9,   -999.0,9,  -999.00,9,-999.000,9,   2178.8,2,    743.4,2,  20,   2330.1,2,   7.7430,2,   25,  -999.0, -999.00,-999.0000,-999.000,-999.000
     316N151_3,   A20,    63,  1,      5,      5,2,19970804,1321, 13.5673, -52.3320, 5231,40674.8,   4051.9,   2.3183,  34.8969,2,  34.8939,2,    261.3,2,  1.9692,    262.5,2,    34.44,2,    19.79,2,     0.00,2,     1.35,2,    0.102,6,    0.061,6, -999.000,5, -999.000,5,-999.0000,5,  -999.00,9,   -999.0,9,  -999.00,9,-999.000,9,   2179.3,2,   -999.0,9,-999,   2332.6,2,   7.7450,2,   25,  -999.0, -999.00,-999.0000,-999.000,-999.000
     316N151_3,   A20,    63,  1,      4,      4,2,19970804,1321, 13.5673, -52.3320, 5231,43706.5,   4354.9,   2.2573,  34.8897,2,  34.8886,2,    261.0,2,  1.8747,    261.6,2,    36.38,2,    19.96,2,     0.00,2,     1.36,2,    0.114,2,    0.067,2, -999.000,5, -999.000,5,-999.0000,5,  -999.00,9,   -999.0,9,  -999.00,9,-999.000,9,   2181.2,2,    750.4,2,  20,   2331.8,2,   7.7430,2,   25,  -999.0, -999.00,-999.0000,-999.000,-999.000
     316N151_3,   A20,    63,  1,      3,      3,2,19970804,1321, 13.5673, -52.3320, 5231,47074.3,   4691.5,   2.1135,  34.8689,2,  34.8693,2,    255.6,2,  1.6952,    256.0,2,    46.29,2,    21.43,2,     0.00,2,     1.46,2,    0.085,2,    0.054,2, -999.000,5, -999.000,5,-999.0000,5,  -999.00,9,   -999.0,9,  -999.00,9,-999.000,9,   2190.2,2,   -999.0,9,-999,   2341.9,2,   7.7370,2,   25,  -999.0, -999.00,-999.0000,-999.000,-999.000
     316N151_3,   A20,    63,  1,      2,      2,2,19970804,1321, 13.5673, -52.3320, 5231,49846.6,   4968.9,   1.8520,  34.8343,2,  34.8346,2,    247.4,2,  1.4086,    246.5,2,    61.94,2,    23.74,2,     0.00,2,     1.63,2,    0.053,2,    0.035,2, -999.000,5, -999.000,5,-999.0000,5,  -999.00,9,   -999.0,9,  -999.00,9,-999.000,9,   2209.8,2,   -999.0,9,-999,   2347.9,6,   7.7110,6,   25,  -999.0, -999.00,-999.0000,-999.000,-999.000
     316N151_3,   A20,    63,  1,      1,      1,2,19970804,1321, 13.5673, -52.3320, 5231,53138.0,   5297.7,   1.7405,  34.8167,2,  34.8172,2,    243.3,2,  1.2600,    242.7,2,    69.62,6,    24.94,6,     0.00,6,     1.70,6,    0.047,2,    0.031,2, -999.000,5, -999.000,5,-999.0000,5,  -999.00,9,   -999.0,9,  -999.00,9,-999.000,9,   2216.2,2,    844.2,2,  20,   2356.6,2,   7.7020,2,   25,  -999.0, -999.00,-999.0000,-999.000,-999.000