BOTTLE,20220812CCHSIOAMB
EXPOCODE,SECT_ID,STNNBR,CASTNO,SAMPNO,BTLNBR,BTLNBR_FLAG_W,DATE,TIME,LATITUDE,LONGITUDE,DEPTH,CTDRAW,CTDPRS,CTDTMP,CTDSAL,CTDSAL_FLAG_W,SALNTY,SALNTY_FLAG_W,CTDOXY,CTDOXY_FLAG_W,THETA,OXYGEN,OXYGEN_FLAG_W,SILCAT,SILCAT_FLAG_W,NITRAT,NITRAT_FLAG_W,NITRIT,NITRIT_FLAG_W,PHSPHT,PHSPHT_FLAG_W,CFC-11,CFC-11_FLAG_W,CFC-12,CFC-12_FLAG_W,CFC113,CFC113_FLAG_W,TRITUM,TRITUM_FLAG_W,HELIUM,HELIUM_FLAG_W,DELHE3,DELHE3_FLAG_W,DELC14,DELC14_FLAG_W,DELC13,DELC13_FLAG_W,NEON,NEON_FLAG_W,TCARBN,TCARBN_FLAG_W,PCO2,PCO2_FLAG_W,PCO2_TMP,ALKALI,ALKALI_FLAG_W,PH,PH_FLAG_W,PH_TMP,C14ERR,DELHER,HELIER,NEONER,TRITER
,,,,,,,,,,,,,DBAR,ITS-90,PSS-78,,PSS-78,,UMOL/KG,,ITS-90,UMOL/KG,,UMOL/KG,,UMOL/KG,,UMOL/KG,,UMOL/KG,,PMOL/KG,,PMOL/KG,,PMOL/KG,,TU,,NMOL/KG,,PERCNT,,/MILLE,,/MILLE,,NMOL/KG,,UMOL/KG,,UATM,,DEG C,UMOL/KG,,,,DEG C,/MILLE,PERCNT,NMOL/KG,NMOL/KG,TU
     316N151_3,   A20,    59,  1,     33,     33,2,19970803,1003, 16.2320, -52.3320, 4987,  202.8,      4.0,  27.6916,  36.1858,2,  36.1869,2,    212.1,2, 27.6907,    208.2,2,     1.20,2,     0.01,2,     0.00,2,     0.01,2,    1.712,2,    1.010,2, -999.000,5, -999.000,5,-999.0000,5,  -999.00,9,   -999.0,9,  -999.00,9,-999.000,9,   2001.8,2,   -999.0,9,-999,   2369.3,2,   8.1270,2,   25,  -999.0, -999.00,-999.0000,-999.000,-999.000
     316N151_3,   A20,    59,  1,     32,     32,2,19970803,1003, 16.2320, -52.3320, 4987,  416.1,     25.3,  27.6526,  36.4707,2,  36.4295,2,    211.7,2, 27.6467,    210.5,2,     1.12,2,     0.01,2,     0.00,2,     0.01,2,    1.702,2,    1.025,2, -999.000,5, -999.000,5,-999.0000,5,  -999.00,9,   -999.0,9,  -999.00,9,-999.000,9,   2013.4,2,   -999.0,9,-999,   2382.2,6,   8.1240,2,   25,  -999.0, -999.00,-999.0000,-999.000,-999.000
     316N151_3,   A20,    59,  1,     31,     31,2,19970803,1003, 16.2320, -52.3320, 4987,  520.1,     35.8,  27.3848,  36.9129,2,  36.9197,2,    214.1,2, 27.3765,    211.3,2,     0.85,2,     0.02,2,     0.00,2,     0.01,2,    1.735,2,    1.034,2, -999.000,5, -999.000,5,-999.0000,5,  -999.00,9,   -999.0,9,  -999.00,9,-999.000,9,   2034.3,2,   -999.0,9,-999,   2414.0,2,   8.1270,2,   25,  -999.0, -999.00,-999.0000,-999.000,-999.000
     316N151_3,   A20,    59,  1,     30,     30,2,19970803,1003, 16.2320, -52.3320, 4987,  861.9,     69.9,  25.3597,  37.4188,2,  37.4188,2,    223.4,2, 25.3443,    223.6,2,     0.66,2,     0.02,2,     0.00,2,     0.01,2,    1.923,2,    1.120,2, -999.000,5, -999.000,5,-999.0000,5,  -999.00,9,   -999.0,9,  -999.00,9,-999.000,9,   2063.5,2,   -999.0,9,-999,   2442.2,2,   8.1110,2,   25,  -999.0, -999.00,-999.0000,-999.000,-999.000
     316N151_3,   A20,    59,  1,     29,     29,2,19970803,1003, 16.2320, -52.3320, 4987, 1166.5,    100.5,  23.8089,  37.3377,2,  37.3423,2,    220.7,2, 23.7877,    214.1,2,     0.58,2,     0.02,2,     0.00,2,     0.01,2,    1.976,2,    1.150,2, -999.000,5, -999.000,5,-999.0000,5,  -999.00,9,   -999.0,9,  -999.00,9,-999.000,9,   2076.0,2,   -999.0,9,-999,   2441.8,2,   8.0940,2,   25,  -999.0, -999.00,-999.0000,-999.000,-999.000
     316N151_3,   A20,    59,  1,     28,     28,2,19970803,1003, 16.2320, -52.3320, 4987, 1420.7,    126.0,  23.3210,  37.3386,2,  37.3346,2,    207.4,2, 23.2947,    209.4,2,     0.50,2,     0.02,2,     0.00,2,     0.01,2, -999.000,9, -999.000,9, -999.000,5, -999.000,5,-999.0000,5,  -999.00,9,   -999.0,9,  -999.00,9,-999.000,9,   2085.7,2,   -999.0,9,-999,   2436.5,2,   8.0750,2,   25,  -999.0, -999.00,-999.0000,-999.000,-999.000
     316N151_3,   A20,    59,  1,     27,     27,2,19970803,1003, 16.2320, -52.3320, 4987, 1669.9,    151.0,  21.7347,  37.1359,2,  37.1422,2,    194.6,2, 21.7048,    188.9,2,     0.71,2,     1.19,2,     0.03,2,     0.06,2, -999.000,9,    1.229,2, -999.000,5, -999.000,5,-999.0000,5,  -999.00,9,   -999.0,9,  -999.00,9,-999.000,9,   2110.1,2,   -999.0,9,-999,   2423.7,2,   8.0210,2,   25,  -999.0, -999.00,-999.0000,-999.000,-999.000
     316N151_3,   A20,    59,  1,     26,     26,2,19970803,1003, 16.2320, -52.3320, 4987, 1919.5,    176.1,  20.2903,  36.9369,2,  36.9383,2,    176.7,2, 20.2571,    180.3,2,     0.93,2,     2.96,2,     0.02,2,     0.14,2, -999.000,9, -999.000,9, -999.000,5, -999.000,5,-999.0000,5,  -999.00,9,   -999.0,9,  -999.00,9,-999.000,9,   2121.4,2,   -999.0,9,-999,   2410.4,2,   7.9880,2,   25,  -999.0, -999.00,-999.0000,-999.000,-999.000
     316N151_3,   A20,    59,  1,     25,     25,2,19970803,1003, 16.2320, -52.3320, 4987, 2171.4,    201.4,  19.1150,  36.7517,2,  36.7524,2,    174.2,2, 19.0786,    171.0,2,     1.52,2,     5.59,2,     0.01,2,     0.30,2,    2.236,2,    1.238,2, -999.000,5, -999.000,5,-999.0000,5,  -999.00,9,   -999.0,9,  -999.00,9,-999.000,9,   2130.6,2,   -999.0,9,-999,   2399.8,2,   7.9560,2,   25,  -999.0, -999.00,-999.0000,-999.000,-999.000
     316N151_3,   A20,    59,  1,     24,     24,2,19970803,1003, 16.2320, -52.3320, 4987, 2688.0,    253.1,  17.2413,  36.4425,2,  36.4466,2,    161.7,2, 17.1987,    163.8,2,     2.60,2,     9.30,2,     0.00,2,     0.53,2,    2.155,2,    1.172,2, -999.000,5, -999.000,5,-999.0000,5,  -999.00,9,   -999.0,9,  -999.00,9,-999.000,9,   2141.6,2,   -999.0,9,-999,   2380.5,2,   7.9060,2,   25,  -999.0, -999.00,-999.0000,-999.000,-999.000
     316N151_3,   A20,    59,  1,     23,     23,2,19970803,1003, 16.2320, -52.3320, 4987, 3198.9,    304.3,  15.8955,  36.2098,2,  36.2098,2,    169.1,2, 15.8469,    168.3,2,     3.40,2,    10.69,2,     0.00,2,     0.62,2,    2.063,2,    1.102,2, -999.000,5, -999.000,5,-999.0000,5,  -999.00,9,   -999.0,9,  -999.00,9,-999.000,9,   2139.7,2,   -999.0,9,-999,   2368.6,2,   7.8950,2,   25,  -999.0, -999.00,-999.0000,-999.000,-999.000
     316N151_3,   A20,    59,  1,     22,     22,2,19970803,1003, 16.2320, -52.3320, 4987, 3924.9,    377.3,  14.5244,  35.9746,2,  35.9731,2,    151.8,2, 14.4677,    154.2,2,     4.78,2,    14.22,2,     0.00,2,     0.83,2, -999.000,9, -999.000,9, -999.000,5, -999.000,5,-999.0000,5,  -999.00,9,   -999.0,9,  -999.00,9,-999.000,9,   2152.7,2,   -999.0,9,-999,   2352.5,2,   7.8380,2,   25,  -999.0, -999.00,-999.0000,-999.000,-999.000
     316N151_3,   A20,    59,  1,     21,     21,2,19970803,1003, 16.2320, -52.3320, 4987, 4661.6,    451.3,  12.6872,  35.6904,2,  35.6919,2,    136.5,2, 12.6251,    136.3,2,     7.24,2,    19.12,2,     0.00,2,     1.14,2,    1.264,6,    0.651,6, -999.000,5, -999.000,5,-999.0000,5,  -999.00,9,   -999.0,9,  -999.00,9,-999.000,9,   2171.7,2,   -999.0,9,-999,   2340.0,2,   7.7670,2,   25,  -999.0, -999.00,-999.0000,-999.000,-999.000
     316N151_3,   A20,    59,  1,     20,     20,2,19970803,1003, 16.2320, -52.3320, 4987, 5674.8,    553.1,  10.6227,  35.3772,2,  35.3786,2,    120.3,2, 10.5546,    120.6,2,    12.03,2,    24.74,2,     0.00,2,     1.52,2,    0.550,2,    0.299,2, -999.000,5, -999.000,5,-999.0000,5,  -999.00,9,   -999.0,9,  -999.00,9,-999.000,9,   2192.2,2,   -999.0,9,-999,   2325.2,2,   7.6910,2,   25,  -999.0, -999.00,-999.0000,-999.000,-999.000
     316N151_3,   A20,    59,  1,     19,     19,2,19970803,1003, 16.2320, -52.3320, 4987, 7160.0,    702.0,   7.5206,  34.9369,2,  34.9372,2,    119.1,2,  7.4498,    119.8,2,    20.34,2,    30.76,2,     0.00,2,     1.99,2,    0.113,2,    0.070,2, -999.000,5, -999.000,5,-999.0000,5,  -999.00,9,   -999.0,9,  -999.00,9,-999.000,9,   2213.8,2,   -999.0,9,-999,   2312.5,2,   7.6080,2,   25,  -999.0, -999.00,-999.0000,-999.000,-999.000
     316N151_3,   A20,    59,  1,     18,     18,2,19970803,1003, 16.2320, -52.3320, 4987, 8638.8,    849.9,   6.1219,  34.7995,2,  34.8018,2,    127.9,2,  6.0444,    128.1,2,    24.64,2,    32.24,2,     0.00,2,     2.13,2,    0.026,2,    0.020,2, -999.000,5, -999.000,5,-999.0000,5,  -999.00,9,   -999.0,9,  -999.00,9,-999.000,9,   2217.8,2,   -999.0,9,-999,   2308.8,2,   7.5870,2,   25,  -999.0, -999.00,-999.0000,-999.000,-999.000
     316N151_3,   A20,    59,  1,     17,     17,2,19970803,1003, 16.2320, -52.3320, 4987,10158.4,   1001.7,   5.5967,  34.8338,2,  34.8355,2,    145.2,2,  5.5082,    145.1,2,    24.75,2,    30.63,2,     0.00,2,     2.04,2,    0.014,2,    0.010,2, -999.000,5, -999.000,5,-999.0000,5,  -999.00,9,   -999.0,9,  -999.00,9,-999.000,9,   2213.4,2,   -999.0,9,-999,   2313.1,2,   7.6040,2,   25,  -999.0, -999.00,-999.0000,-999.000,-999.000
     316N151_3,   A20,    59,  1,     16,     16,2,19970803,1003, 16.2320, -52.3320, 4987,11652.1,   1151.1,   5.3088,  34.9166,2,  34.9158,2,    168.6,2,  5.2082,    172.0,2,    22.33,2,    27.16,2,     0.00,2,     1.82,2,    0.042,2,    0.026,2, -999.000,5, -999.000,5,-999.0000,5,  -999.00,9,   -999.0,9,  -999.00,9,-999.000,9,   2201.0,2,   -999.0,9,-999,   2315.9,2,   7.6500,2,   25,  -999.0, -999.00,-999.0000,-999.000,-999.000
     316N151_3,   A20,    59,  1,     15,     15,2,19970803,1003, 16.2320, -52.3320, 4987,13150.2,   1300.7,   5.0490,  34.9708,2,  34.9710,2,    194.1,2,  4.9364,    195.2,2,    20.10,2,    24.36,2,     0.00,2,     1.63,2,    0.069,2,    0.050,2, -999.000,5, -999.000,5,-999.0000,5,  -999.00,9,   -999.0,9,  -999.00,9,-999.000,9,   2187.7,2,   -999.0,9,-999,   2318.0,2,   7.6860,2,   25,  -999.0, -999.00,-999.0000,-999.000,-999.000
     316N151_3,   A20,    59,  1,     14,     14,2,19970803,1003, 16.2320, -52.3320, 4987,14652.6,   1451.0,   4.7032,  34.9913,2,  34.9915,2,    214.7,2,  4.5797,    213.8,2,    18.76,2,    22.47,2,     0.00,2,     1.50,2,    0.075,2,    0.043,2, -999.000,5, -999.000,5,-999.0000,5,  -999.00,9,   -999.0,9,  -999.00,9,-999.000,9,   2180.8,2,   -999.0,9,-999,   2317.1,2,   7.7070,2,   25,  -999.0, -999.00,-999.0000,-999.000,-999.000
     316N151_3,   A20,    59,  1,     13,     13,2,19970803,1003, 16.2320, -52.3320, 4987,16147.3,   1600.4,   4.3270,  34.9958,2,  34.9949,2,    231.8,2,  4.1935,    231.6,2,    17.98,2,    20.85,2,     0.00,2,     1.40,2,    0.074,2,    0.041,2, -999.000,5, -999.000,5,-999.0000,5,  -999.00,9,   -999.0,9,  -999.00,9,-999.000,9,   2171.7,2,   -999.0,9,-999,   2318.1,2,   7.7270,2,   25,  -999.0, -999.00,-999.0000,-999.000,-999.000
     316N151_3,   A20,    59,  1,     12,     12,2,19970803,1003, 16.2320, -52.3320, 4987,18179.6,   1803.5,   3.9062,  34.9893,2,  34.9893,2,    242.9,2,  3.7588,    244.2,2,    18.98,2,    19.96,2,     0.00,2,     1.34,2,    0.042,2,    0.031,2, -999.000,5, -999.000,5,-999.0000,5,  -999.00,9,   -999.0,9,  -999.00,9,-999.000,9,   2167.3,2,   -999.0,9,-999,   2318.3,2,   7.7370,2,   25,  -999.0, -999.00,-999.0000,-999.000,-999.000
     316N151_3,   A20,    59,  1,     11,     11,2,19970803,1003, 16.2320, -52.3320, 4987,21109.0,   2096.3,   3.4453,  34.9726,2,  34.9736,2,    251.3,2,  3.2768,    252.6,2,    22.11,2,    19.58,2,     0.00,2,     1.32,2,    0.030,2,    0.019,2, -999.000,5, -999.000,5,-999.0000,5,  -999.00,9,   -999.0,9,  -999.00,9,-999.000,9,   2165.2,2,   -999.0,9,-999,   2322.8,2,   7.7460,2,   25,  -999.0, -999.00,-999.0000,-999.000,-999.000
     316N151_3,   A20,    59,  1,     10,     10,2,19970803,1003, 16.2320, -52.3320, 4987,24119.6,   2397.2,   3.0991,  34.9530,2,  34.9548,2,    253.6,2,  2.9074,    255.0,2,    26.02,2,    19.73,2,     0.00,2,     1.33,2,    0.026,2,    0.016,2, -999.000,5, -999.000,5,-999.0000,5,  -999.00,9,   -999.0,9,  -999.00,9,-999.000,9,   2169.7,2,   -999.0,9,-999,   2325.0,2,   7.7480,2,   25,  -999.0, -999.00,-999.0000,-999.000,-999.000
     316N151_3,   A20,    59,  1,      9,      9,2,19970803,1003, 16.2320, -52.3320, 4987,27106.4,   2695.8,   2.8573,  34.9372,2,  34.9352,2,    253.8,2,  2.6408,    253.7,2,    30.23,2,    20.07,2,     0.00,2,     1.36,2,    0.024,2,    0.010,2, -999.000,5, -999.000,5,-999.0000,5,  -999.00,9,   -999.0,9,  -999.00,9,-999.000,9,   2174.9,2,   -999.0,9,-999,   2329.5,2,   7.7420,2,   25,  -999.0, -999.00,-999.0000,-999.000,-999.000
     316N151_3,   A20,    59,  1,      8,      8,2,19970803,1003, 16.2320, -52.3320, 4987,30136.3,   2998.6,   2.7148,  34.9263,2,  34.9263,2,    253.8,2,  2.4704,    255.4,2,    33.17,2,    20.27,2,     0.00,2,     1.37,2,    0.025,6,    0.017,6, -999.000,5, -999.000,5,-999.0000,5,  -999.00,9,   -999.0,9,  -999.00,9,-999.000,9,   2177.9,2,   -999.0,9,-999,   2330.4,2,   7.7460,2,   25,  -999.0, -999.00,-999.0000,-999.000,-999.000
     316N151_3,   A20,    59,  1,      7,      7,2,19970803,1003, 16.2320, -52.3320, 4987,33123.8,   3297.2,   2.5795,  34.9151,2,  34.9165,2,    255.5,2,  2.3069,    254.7,2,    35.23,2,    20.37,2,     0.00,2,     1.39,2,    0.034,2,    0.020,2, -999.000,5, -999.000,5,-999.0000,5,  -999.00,9,   -999.0,9,  -999.00,9,-999.000,9,   2178.8,2,   -999.0,9,-999,   2334.1,2,   7.7400,2,   25,  -999.0, -999.00,-999.0000,-999.000,-999.000
     316N151_3,   A20,    59,  1,      6,      6,2,19970803,1003, 16.2320, -52.3320, 4987,35111.0,   3495.9,   2.4955,  34.9086,2,  34.9101,2,    256.5,2,  2.2037,    256.2,2,    36.02,2,    20.28,2,     0.00,2,     1.39,2,    0.048,2,    0.029,2, -999.000,5, -999.000,5,-999.0000,5,  -999.00,9,   -999.0,9,  -999.00,9,-999.000,9,   2176.2,3,   -999.0,9,-999,   2332.2,2,   7.7410,2,   25,  -999.0, -999.00,-999.0000,-999.000,-999.000
     316N151_3,   A20,    59,  1,      5,      5,2,19970803,1003, 16.2320, -52.3320, 4987,38077.5,   3792.4,   2.3139,  34.8921,2,  34.8928,2,    254.6,2,  1.9943,    256.4,2,    40.42,2,    20.67,2,     0.00,2,     1.42,2,    0.042,2,    0.030,2, -999.000,5, -999.000,5,-999.0000,5,  -999.00,9,   -999.0,9,  -999.00,9,-999.000,9,   2183.6,2,   -999.0,9,-999,   2333.1,2,   7.7390,2,   25,  -999.0, -999.00,-999.0000,-999.000,-999.000
     316N151_3,   A20,    59,  1,      4,      4,2,19970803,1003, 16.2320, -52.3320, 4987,41534.6,   4138.0,   2.2407,  34.8887,2,  34.8905,3,    261.4,2,  1.8839,    261.0,2,    37.42,3,    19.96,2,     0.00,3,     1.37,3,    0.095,2,    0.060,2, -999.000,5, -999.000,5,-999.0000,5,  -999.00,9,   -999.0,9,  -999.00,9,-999.000,9,   2180.9,3,   -999.0,9,-999,   2331.9,3,   7.7410,3,   25,  -999.0, -999.00,-999.0000,-999.000,-999.000
     316N151_3,   A20,    59,  1,      3,      3,2,19970803,1003, 16.2320, -52.3320, 4987,44156.8,   4400.2,   2.1179,  34.8694,2,  34.8704,2,    254.8,2,  1.7344,    255.2,2,    47.27,2,    21.39,2,     0.00,2,     1.47,2,    0.064,2,    0.036,2, -999.000,5, -999.000,5,-999.0000,5,  -999.00,9,   -999.0,9,  -999.00,9,-999.000,9,   2191.4,2,   -999.0,9,-999,   2339.3,2,   7.7300,2,   25,  -999.0, -999.00,-999.0000,-999.000,-999.000
     316N151_3,   A20,    59,  1,      2,      2,2,19970803,1003, 16.2320, -52.3320, 4987,46932.3,   4677.7,   1.9615,  34.8491,2,  34.8501,2,    250.5,2,  1.5499,    250.3,2,    55.47,2,    22.64,2,     0.00,2,     1.56,2,    0.059,2,    0.034,2, -999.000,5, -999.000,5,-999.0000,5,  -999.00,9,   -999.0,9,  -999.00,9,-999.000,9,   2200.9,2,   -999.0,9,-999,   2344.7,6,   7.7220,6,   25,  -999.0, -999.00,-999.0000,-999.000,-999.000
     316N151_3,   A20,    59,  1,      1,      1,2,19970803,1003, 16.2320, -52.3320, 4987,50691.5,   5053.6,   1.8982,  34.8379,2,  34.8387,2,    245.8,2,  1.4428,    248.0,2,    60.38,6,    23.37,6,     0.00,6,     1.61,6,    0.059,2,    0.036,2, -999.000,5, -999.000,5,-999.0000,5,  -999.00,9,   -999.0,9,  -999.00,9,-999.000,9,   2204.5,2,   -999.0,9,-999,   2347.0,2,   7.7150,2,   25,  -999.0, -999.00,-999.0000,-999.000,-999.000