BOTTLE,20220812CCHSIOAMB
EXPOCODE,SECT_ID,STNNBR,CASTNO,SAMPNO,BTLNBR,BTLNBR_FLAG_W,DATE,TIME,LATITUDE,LONGITUDE,DEPTH,CTDRAW,CTDPRS,CTDTMP,CTDSAL,CTDSAL_FLAG_W,SALNTY,SALNTY_FLAG_W,CTDOXY,CTDOXY_FLAG_W,THETA,OXYGEN,OXYGEN_FLAG_W,SILCAT,SILCAT_FLAG_W,NITRAT,NITRAT_FLAG_W,NITRIT,NITRIT_FLAG_W,PHSPHT,PHSPHT_FLAG_W,CFC-11,CFC-11_FLAG_W,CFC-12,CFC-12_FLAG_W,CFC113,CFC113_FLAG_W,TRITUM,TRITUM_FLAG_W,HELIUM,HELIUM_FLAG_W,DELHE3,DELHE3_FLAG_W,DELC14,DELC14_FLAG_W,DELC13,DELC13_FLAG_W,NEON,NEON_FLAG_W,TCARBN,TCARBN_FLAG_W,PCO2,PCO2_FLAG_W,PCO2_TMP,ALKALI,ALKALI_FLAG_W,PH,PH_FLAG_W,PH_TMP,C14ERR,DELHER,HELIER,NEONER,TRITER
,,,,,,,,,,,,,DBAR,ITS-90,PSS-78,,PSS-78,,UMOL/KG,,ITS-90,UMOL/KG,,UMOL/KG,,UMOL/KG,,UMOL/KG,,UMOL/KG,,PMOL/KG,,PMOL/KG,,PMOL/KG,,TU,,NMOL/KG,,PERCNT,,/MILLE,,/MILLE,,NMOL/KG,,UMOL/KG,,UATM,,DEG C,UMOL/KG,,,,DEG C,/MILLE,PERCNT,NMOL/KG,NMOL/KG,TU
     316N151_3,   A20,    12,  1,     30,     30,2,19970721,0956, 42.1882, -51.4742, 3257,  222.3,      9.2,  16.2452,  32.8501,2,  32.8923,2,    283.9,2, 16.2438,    260.8,2,     0.04,2,     0.06,2,     0.00,2,     0.22,2,    3.243,2,    1.780,2, -999.000,5, -999.000,5,   1.7796,2,    -2.38,2,     69.1,2,     2.01,2,   7.315,2,   1988.6,2,   -999.0,9,-999,   2215.3,2,   7.9400,2,   25,     4.2,    0.15,  0.0089,   0.037,-999.000
     316N151_3,   A20,    12,  1,     29,     29,2,19970721,0956, 42.1882, -51.4742, 3257,  390.8,     25.7,  13.6298,  34.3990,2,  34.3208,2,    291.3,2, 13.6262,    280.6,2,     0.53,2,     0.14,2,     0.00,2,     0.17,2, -999.000,9, -999.000,9, -999.000,5, -999.000,5,-999.0000,5,  -999.00,9,   -999.0,9,  -999.00,9,-999.000,9,   2031.7,2,    402.7,2,  20,   2275.7,6,   7.9660,6,   25,  -999.0, -999.00,-999.0000,-999.000,-999.000
     316N151_3,   A20,    12,  1,     28,     28,2,19970721,0956, 42.1882, -51.4742, 3257,  624.8,     49.0,  14.2669,  35.4365,2,  35.4398,2,    220.0,2, 14.2597,    211.8,2,     2.26,2,     6.22,2,     0.10,2,     0.46,2, -999.000,9, -999.000,9, -999.000,5, -999.000,5,-999.0000,5,  -999.00,9,   -999.0,9,  -999.00,9,-999.000,9,   2100.5,2,    474.1,2,  20,   2335.3,2,   7.9140,2,   25,  -999.0, -999.00,-999.0000,-999.000,-999.000
     316N151_3,   A20,    12,  1,     27,     27,2,19970721,0956, 42.1882, -51.4742, 3257,  886.6,     75.0,  14.3269,  35.6443,2,  35.6504,2,    196.6,2, 14.3159,    204.9,2,     2.75,2,     8.17,2,     0.04,2,     0.54,2, -999.000,9, -999.000,9, -999.000,5, -999.000,5,-999.0000,5,  -999.00,9,   -999.0,9,  -999.00,9,-999.000,9,   2109.0,2,    479.2,2,  20,   2330.8,2,   7.8980,2,   25,  -999.0, -999.00,-999.0000,-999.000,-999.000
     316N151_3,   A20,    12,  1,     26,     26,2,19970721,0956, 42.1882, -51.4742, 3257, 1126.1,     99.0,  14.2655,  35.7022,2,  35.6898,2,    206.9,2, 14.2510,    204.9,2,     2.96,2,     8.54,2,     0.03,2,     0.55,2, -999.000,9, -999.000,9, -999.000,5,    1.417,2,   1.8155,2,     0.48,2,     62.0,2,     0.75,2,   7.435,2,   2109.2,2,    480.9,2,  20,   2345.5,2,   7.9070,2,   25,     4.9,    0.15,  0.0091,   0.037,   0.014
     316N151_3,   A20,    12,  1,     25,     25,2,19970721,0956, 42.1882, -51.4742, 3257, 1383.6,    124.7,  13.3363,  35.5410,2,  35.5437,2,    202.6,2, 13.3188,    207.9,2,     3.74,2,     9.79,2,     0.02,2,     0.64,2, -999.000,9, -999.000,9, -999.000,5, -999.000,5,-999.0000,5,  -999.00,9,     54.0,2,     0.62,2,-999.000,9,   2116.0,2,   -999.0,9,-999,   2326.9,2,   7.8830,2,   25,     3.8, -999.00,-999.0000,-999.000,-999.000
     316N151_3,   A20,    12,  1,     24,     24,2,19970721,0956, 42.1882, -51.4742, 3257, 1645.0,    150.9,  13.1921,  35.5920,2,  35.5878,2,    188.4,2, 13.1711,    187.6,2,     5.09,2,    12.50,2,     0.01,2,     0.79,2, -999.000,9, -999.000,9, -999.000,5, -999.000,5,   1.7901,2,     2.13,2,   -999.0,9,  -999.00,9,   7.366,2,   2131.2,2,    552.2,2,  20,   2339.3,2,   7.8550,2,   25,  -999.0,    0.15,  0.0090,   0.037,-999.000
     316N151_3,   A20,    12,  1,     23,     23,2,19970721,0956, 42.1882, -51.4742, 3257, 1865.6,    173.0,  12.5146,  35.5037,2,  35.5011,2,    176.2,2, 12.4913,    174.4,2,     6.64,2,    15.17,2,     0.01,2,     0.96,2, -999.000,9, -999.000,9, -999.000,5, -999.000,5,-999.0000,5,  -999.00,9,     22.3,2,     0.64,2,-999.000,9,   2143.6,2,    607.8,2,  20,   2322.0,2,   7.8100,2,   25,     3.7, -999.00,-999.0000,-999.000,-999.000
     316N151_3,   A20,    12,  1,     22,     22,2,19970721,0956, 42.1882, -51.4742, 3257, 2128.0,    199.3,  11.8878,  35.4377,2,  35.4230,2,    169.4,2, 11.8620,    165.3,2,     7.90,2,    17.18,2,     0.01,2,     1.09,2, -999.000,9, -999.000,9, -999.000,5,    1.171,2,   1.7908,2,     4.09,2,   -999.0,9,  -999.00,9,   7.435,2,   2156.0,2,    657.8,2,  20,   2329.9,2,   7.7870,2,   25,  -999.0,    0.15,  0.0090,   0.037,   0.014
     316N151_3,   A20,    12,  1,     21,     21,2,19970721,0956, 42.1882, -51.4742, 3257, 2608.9,    247.5,  10.0275,  35.1290,2,  35.1373,2,    179.4,2,  9.9986,    185.9,3,     8.96,2,    17.87,2,     0.01,2,     1.17,2, -999.000,9, -999.000,9, -999.000,5,    1.211,2,   1.8031,2,     3.34,2,      9.6,2,     0.75,2,   7.529,2,   2158.5,2,    712.8,2,  20,   2306.4,2,   7.7500,2,   25,     3.2,    0.15,  0.0090,   0.038,   0.014
     316N151_3,   A20,    12,  1,     20,     20,2,19970721,0956, 42.1882, -51.4742, 3257, 3118.9,    298.7,   9.9031,  35.2475,2,  35.2446,2,    151.3,2,  9.8684,    150.0,2,    12.24,2,    22.51,2,     0.00,2,     1.43,2, -999.000,9, -999.000,9, -999.000,5,    0.823,2,   1.8025,2,     5.18,2,     -5.2,2,     0.57,2,   7.538,2,   2178.6,2,    793.6,2,  20,   2322.5,2,   7.7170,2,   25,     3.6,    0.15,  0.0090,   0.038,   0.013
     316N151_3,   A20,    12,  1,     19,     19,2,19970721,0956, 42.1882, -51.4742, 3257, 3622.3,    349.1,   8.2518,  35.0529,2,  35.0381,2,    169.0,2,  8.2155,    164.5,2,    13.40,2,    22.47,2,     0.00,2,     1.46,2, -999.000,9, -999.000,9, -999.000,5,    0.841,2,   1.8239,2,     4.69,2,    -31.0,2,     0.46,2,   7.700,2,   2179.1,2,    835.3,2,  20,   2303.1,2,   7.6920,2,   25,     4.0,    0.15,  0.0091,   0.038,   0.013
     316N151_3,   A20,    12,  1,     18,     18,2,19970721,0956, 42.1882, -51.4742, 3257, 4611.1,    448.2,   7.0058,  35.0073,2,  35.0088,2,    191.1,2,  6.9630,    181.4,2,    13.89,2,    22.21,2,     0.00,2,     1.46,2,    1.383,2,    0.700,2, -999.000,5,    0.819,2,   1.8526,2,     4.44,2,    -57.0,2,     0.62,2,   7.869,2,   2180.2,2,   -999.0,9,-999,   2291.6,3,   7.6820,2,   25,     3.7,    0.15,  0.0093,   0.039,   0.013
     316N151_3,   A20,    12,  1,     17,     17,2,19970721,0956, 42.1882, -51.4742, 3257, 5650.5,    552.1,   5.2890,  34.9244,2,  34.9241,2,    229.7,2,  5.2432,    226.7,2,    12.47,2,    19.43,2,     0.00,2,     1.29,2, -999.000,9, -999.000,9, -999.000,5,    1.042,2,   1.8114,2,     4.91,2,    -29.2,6,     0.73,2,   7.898,2,   2167.8,2,    803.8,2,  20,   2306.6,2,   7.7040,2,   25,     2.2,    0.15,  0.0091,   0.039,   0.013
     316N151_3,   A20,    12,  1,     16,     16,2,19970721,0956, 42.1882, -51.4742, 3257, 6631.2,    650.0,   4.6945,  34.9098,2,  34.9101,2,    242.0,2,  4.6431,    248.6,2,    11.42,2,    18.24,2,     0.00,2,     1.22,2,    2.881,2,    1.485,2, -999.000,5,    1.167,2,   1.8200,2,     3.83,2,    -21.2,2,     0.89,2,   7.968,2,   2163.1,2,    790.2,2,  20,   2301.5,2,   7.7180,2,   25,     2.4,    0.15,  0.0091,   0.040,   0.014
     316N151_3,   A20,    12,  1,     15,     15,2,19970721,0956, 42.1882, -51.4742, 3257, 7632.2,    750.1,   4.6950,  34.9775,2,  34.9777,2,    240.6,2,  4.6351,    246.4,2,    11.73,2,    18.56,2,     0.00,2,     1.23,2, -999.000,9, -999.000,9, -999.000,5,    1.010,2,   1.8171,2,     6.00,2,   -999.0,9,  -999.00,9,   7.944,2,   2164.8,2,    778.6,2,  20,   2303.3,2,   7.7250,2,   25,  -999.0,    0.15,  0.0091,   0.040,   0.013
     316N151_3,   A20,    12,  1,     14,     14,2,19970721,0956, 42.1882, -51.4742, 3257, 8626.9,    849.5,   4.5375,  34.9865,2,  34.9870,2,    261.1,2,  4.4700,    250.8,2,    11.64,2,    18.23,2,     0.00,2,     1.21,2,    2.041,2,    1.010,2, -999.000,5,    0.996,2,   1.8149,2,     6.51,2,    -36.5,2,     0.92,2,   7.909,2,   2162.8,2,   -999.0,9,-999,   2309.8,2,   7.7290,2,   25,     3.1,    0.15,  0.0091,   0.040,   0.013
     316N151_3,   A20,    12,  1,     13,     13,2,19970721,0956, 42.1882, -51.4742, 3257,10137.5,   1000.5,   4.2619,  34.9746,2,  34.9736,2,    259.4,2,  4.1833,    257.9,2,    11.66,2,    18.06,2,     0.00,2,     1.20,2, -999.000,9, -999.000,9, -999.000,5,    0.947,2,   1.8164,2,     6.75,2,    -61.1,2,     0.90,2,   7.924,2,   2160.6,2,    760.3,2,  20,   2305.1,2,   7.7300,2,   25,     4.6,    0.15,  0.0091,   0.040,   0.013
     316N151_3,   A20,    12,  1,     12,     12,2,19970721,0956, 42.1882, -51.4742, 3257,12146.9,   1201.3,   3.8606,  34.9355,2,  34.9343,2,    269.0,2,  3.7683,    268.8,2,    11.38,2,    17.65,2,     0.00,2,     1.17,2, -999.000,9, -999.000,9, -999.000,5, -999.000,5,   1.8235,2,     6.32,2,    -62.7,2,     0.89,2,   7.937,2,   2157.4,2,    755.2,2,  20,   2302.2,2,   7.7350,2,   25,     2.9,    0.15,  0.0091,   0.040,-999.000
     316N151_3,   A20,    12,  1,     11,     11,2,19970721,0956, 42.1882, -51.4742, 3257,14120.3,   1398.6,   3.7230,  34.9339,2,  34.9320,2,    276.9,2,  3.6150,    271.3,2,    11.68,2,    17.57,2,     0.00,2,     1.17,2, -999.000,9, -999.000,9, -999.000,5,    0.937,2,   1.8252,2,     6.25,2,    -51.8,2,     1.03,2,   8.003,2,   2156.3,2,    749.7,2,  20,   2298.3,2,   7.7360,2,   25,     3.3,    0.15,  0.0091,   0.040,   0.013
     316N151_3,   A20,    12,  1,     10,     10,2,19970721,0956, 42.1882, -51.4742, 3257,16152.5,   1601.7,   3.6164,  34.9369,2,  34.9381,2,    274.5,2,  3.4917,    271.8,2,    12.36,2,    17.60,2,     0.00,2,     1.17,2,    1.578,2,    0.775,2, -999.000,5,    0.828,2,   1.8204,2,     6.49,2,    -58.9,2,     0.97,2,   8.002,2,   2156.4,2,    742.8,2,  20,   2307.5,2,   7.7410,2,   25,     2.9,    0.15,  0.0091,   0.040,   0.013
     316N151_3,   A20,    12,  1,      9,      9,2,19970721,0956, 42.1882, -51.4742, 3257,18137.3,   1800.0,   3.4157,  34.9202,2,  34.9210,2,    275.9,2,  3.2755,    275.7,2,    12.47,2,    17.39,2,     0.00,2,     1.16,2, -999.000,9, -999.000,9, -999.000,5,    0.846,2,   1.8275,2,     5.08,2,    -59.7,2,     0.94,2,   8.011,2,   2154.4,2,   -999.0,9,-999,   2296.6,2,   7.7440,2,   25,     4.1,    0.15,  0.0091,   0.040,   0.013
     316N151_3,   A20,    12,  1,      8,      8,2,19970721,0956, 42.1882, -51.4742, 3257,20137.3,   1999.9,   3.3162,  34.9188,2,  34.9205,2,    273.8,2,  3.1590,    276.0,2,    12.87,2,    17.31,2,     0.00,2,     1.16,2,    1.738,2,    0.847,2, -999.000,5,    0.800,2,   1.8824,2,     5.69,2,    -50.2,2,     1.01,2,   8.190,2,   2154.5,2,    738.1,2,  20,   2305.2,2,   7.7430,2,   25,     3.5,    0.15,  0.0094,   0.041,   0.013
     316N151_3,   A20,    12,  1,      7,      7,2,19970721,0956, 42.1882, -51.4742, 3257,22148.4,   2200.9,   3.2949,  34.9356,2,  34.9362,2,    273.3,2,  3.1190,    271.9,2,    14.70,2,    17.47,2,     0.00,2,     1.17,2,    1.205,2,    0.591,2, -999.000,5,    0.650,2,   1.8293,2,     5.84,2,    -75.0,2,     0.75,3,   7.943,2,   2155.7,2,    734.8,2,  20,   2306.0,2,   7.7430,2,   25,     2.8,    0.15,  0.0091,   0.040,   0.012
     316N151_3,   A20,    12,  1,      6,      6,2,19970721,0956, 42.1882, -51.4742, 3257,24141.8,   2400.2,   3.2048,  34.9402,2,  34.9411,2,    272.4,2,  3.0110,    270.0,2,    16.06,2,    17.55,2,     0.00,2,     1.18,2,    0.923,2,    0.462,2, -999.000,5,    0.531,2,   1.8344,2,     5.52,2,    -68.5,2,     1.08,2,   8.024,2,   2156.1,2,   -999.0,9,-999,   2310.3,2,   7.7450,2,   25,     2.8,    0.15,  0.0092,   0.040,   0.012
     316N151_3,   A20,    12,  1,      5,      5,2,19970721,0956, 42.1882, -51.4742, 3257,26147.5,   2600.7,   3.0271,  34.9307,2,  34.9312,2,    273.4,2,  2.8167,    272.1,2,    16.27,2,    17.25,2,     0.00,2,     1.16,2, -999.000,9, -999.000,9, -999.000,5,    0.634,2,   1.8694,2,     5.60,2,    -67.2,2,     1.04,2,   8.198,2,   2157.5,2,    735.4,2,  20,   2306.2,2,   7.7500,2,   25,     3.8,    0.15,  0.0093,   0.041,   0.012
     316N151_3,   A20,    12,  1,      4,      4,2,19970721,0956, 42.1882, -51.4742, 3257,28122.8,   2798.1,   2.8423,  34.9225,2,  34.9218,2,    274.6,2,  2.6158,    274.9,2,    16.18,2,    16.93,2,     0.00,2,     1.15,2, -999.000,9, -999.000,9, -999.000,5, -999.000,5,   1.8353,2,     6.29,2,    -57.4,2,     1.04,2,   8.102,2,   2156.8,2,    734.3,2,  20,   2308.7,2,   7.7450,2,   25,     3.3,    0.15,  0.0092,   0.041,-999.000
     316N151_3,   A20,    12,  1,      3,      3,2,19970721,0956, 42.1882, -51.4742, 3257,30146.1,   3000.5,   2.6794,  34.9154,2,  34.9152,2,    275.7,2,  2.4356,    276.6,2,    16.58,2,    16.72,2,     0.00,2,     1.13,2, -999.000,9, -999.000,9, -999.000,5,    0.763,2,   1.8604,2,     6.36,2,    -35.0,2,     1.07,2,   8.142,2,   2155.7,2,    736.0,2,  20,   2303.0,2,   7.7480,2,   25,     4.8,    0.15,  0.0093,   0.041,   0.013
     316N151_3,   A20,    12,  1,      2,      2,2,19970721,0956, 42.1882, -51.4742, 3257,31630.6,   3149.0,   2.4107,  34.9053,2,  34.9040,2,    278.7,2,  2.1576,    278.1,2,    18.22,2,    16.67,2,     0.00,2,     1.13,2, -999.000,9, -999.000,9, -999.000,5, -999.000,5,-999.0000,5,  -999.00,9,    -45.2,2,     1.07,2,-999.000,9,   2160.2,2,   -999.0,9,-999,   2302.7,2,   7.7430,2,   25,     4.0, -999.00,-999.0000,-999.000,-999.000
     316N151_3,   A20,    12,  1,      1,      1,2,19970721,0956, 42.1882, -51.4742, 3257,33287.5,   3314.6,   2.2284,  34.8975,2,  34.9030,2,   -999.0,9,  1.9623,    277.6,2,    17.98,6,    16.65,6,     0.01,6,     1.14,6, -999.000,9, -999.000,9, -999.000,5,    0.462,2,   1.8502,2,     6.64,2,    -45.2,2,     1.05,2,   8.091,2,   2159.4,2,    741.2,2,  20,   2310.3,6,   7.7420,6,   25,     4.6,    0.15,  0.0093,   0.040,   0.018