BOTTLE,20220812CCHSIOAMB
EXPOCODE,SECT_ID,STNNBR,CASTNO,SAMPNO,BTLNBR,BTLNBR_FLAG_W,DATE,TIME,LATITUDE,LONGITUDE,DEPTH,CTDRAW,CTDPRS,CTDTMP,CTDSAL,CTDSAL_FLAG_W,SALNTY,SALNTY_FLAG_W,CTDOXY,CTDOXY_FLAG_W,THETA,OXYGEN,OXYGEN_FLAG_W,SILCAT,SILCAT_FLAG_W,NITRAT,NITRAT_FLAG_W,NITRIT,NITRIT_FLAG_W,PHSPHT,PHSPHT_FLAG_W,CFC-11,CFC-11_FLAG_W,CFC-12,CFC-12_FLAG_W,CFC113,CFC113_FLAG_W,TRITUM,TRITUM_FLAG_W,HELIUM,HELIUM_FLAG_W,DELHE3,DELHE3_FLAG_W,DELC14,DELC14_FLAG_W,DELC13,DELC13_FLAG_W,NEON,NEON_FLAG_W,TCARBN,TCARBN_FLAG_W,PCO2,PCO2_FLAG_W,PCO2_TMP,ALKALI,ALKALI_FLAG_W,PH,PH_FLAG_W,PH_TMP,C14ERR,DELHER,HELIER,NEONER,TRITER
,,,,,,,,,,,,,DBAR,ITS-90,PSS-78,,PSS-78,,UMOL/KG,,ITS-90,UMOL/KG,,UMOL/KG,,UMOL/KG,,UMOL/KG,,UMOL/KG,,PMOL/KG,,PMOL/KG,,PMOL/KG,,TU,,NMOL/KG,,PERCNT,,/MILLE,,/MILLE,,NMOL/KG,,UMOL/KG,,UATM,,DEG C,UMOL/KG,,,,DEG C,/MILLE,PERCNT,NMOL/KG,NMOL/KG,TU
     316N151_3,   A20,    61,  1,     33,     33,2,19970803,2254, 15.0005, -52.3302, 4521,  282.3,     10.8,  27.8191,  35.7736,2,  35.7738,2,    211.9,2, 27.8166,    213.2,2,     1.81,2,     0.01,2,     0.00,2,     0.01,2,    1.673,2,    1.013,2, -999.000,5, -999.000,5,-999.0000,5,  -999.00,9,     90.7,2,     1.62,2,-999.000,9,   1984.1,2,    260.3,2,  20,   2343.9,2,   8.1250,2,   25,     3.5, -999.00,-999.0000,-999.000,-999.000
     316N151_3,   A20,    61,  1,     32,     32,2,19970803,2254, 15.0005, -52.3302, 4521,  741.0,     56.7,  27.3348,  36.3745,2,  36.3713,2,    211.9,2, 27.3216,    215.8,2,     1.25,2,     0.06,2,     0.00,2,     0.01,2,    1.626,2,    1.033,2, -999.000,5, -999.000,5,-999.0000,5,  -999.00,9,   -999.0,9,  -999.00,9,-999.000,9,   2010.0,2,    262.8,2,  20,   2377.9,2,   8.1230,2,   25,  -999.0, -999.00,-999.0000,-999.000,-999.000
     316N151_3,   A20,    61,  1,     31,     31,2,19970803,2254, 15.0005, -52.3302, 4521,  904.2,     73.4,  26.5708,  36.4490,2,  36.4511,2,    220.4,2, 26.5541,    221.1,2,     1.18,2,     0.07,2,     0.00,2,     0.01,2,    1.804,2,    1.067,2, -999.000,5, -999.000,5,-999.0000,5,  -999.00,9,   -999.0,9,  -999.00,9,-999.000,9,   2010.3,2,    261.3,2,  20,   2380.5,2,   8.1290,2,   25,  -999.0, -999.00,-999.0000,-999.000,-999.000
     316N151_3,   A20,    61,  1,     30,     30,2,19970803,2254, 15.0005, -52.3302, 4521, 1421.0,    125.6,  24.4816,  37.2086,2,  37.2053,2,    198.4,2, 24.4545,    211.8,2,     0.92,2,     0.12,2,     0.06,2,     0.02,2,    1.920,6,    1.117,6, -999.000,5, -999.000,5,-999.0000,5,  -999.00,9,    105.1,2,     1.55,2,-999.000,9,   2068.1,2,    292.6,2,  20,   2429.3,2,   8.0910,2,   25,     4.4, -999.00,-999.0000,-999.000,-999.000
     316N151_3,   A20,    61,  1,     29,     29,2,19970803,2254, 15.0005, -52.3302, 4521, 1937.8,    177.8,  21.7884,  37.1168,2,  37.1134,2,    172.6,2, 21.7531,    177.3,2,     1.14,2,     2.19,2,     0.03,2,     0.12,2,    2.084,2,    1.193,2, -999.000,5, -999.000,5,-999.0000,5,  -999.00,9,   -999.0,9,  -999.00,9,-999.000,9,   2123.6,2,    376.7,2,  20,   2421.0,2,   8.0040,2,   25,  -999.0, -999.00,-999.0000,-999.000,-999.000
     316N151_3,   A20,    61,  1,     28,     28,2,19970803,2254, 15.0005, -52.3302, 4521, 2378.7,    222.2,  18.6826,  36.6811,2,  36.6536,2,    157.9,2, 18.6429,    156.2,2,     2.44,2,     8.05,2,     0.01,2,     0.45,2,    2.089,2,    1.167,2, -999.000,5, -999.000,5,-999.0000,5,  -999.00,9,    104.0,2,     0.88,2,-999.000,9,   2145.7,2,    468.1,2,  20,   2393.3,2,   7.9200,2,   25,     3.0, -999.00,-999.0000,-999.000,-999.000
     316N151_3,   A20,    61,  1,     27,     27,2,19970803,2254, 15.0005, -52.3302, 4521, 2832.8,    268.0,  16.8710,  36.3743,2,  36.3686,2,    148.6,2, 16.8266,    149.4,2,     3.53,2,    11.22,2,     0.01,2,     0.65,2,    2.020,2,    1.092,2, -999.000,5, -999.000,5,-999.0000,5,  -999.00,9,   -999.0,9,  -999.00,9,-999.000,9,   2151.3,2,    520.9,2,  20,   2377.1,2,   7.8800,2,   25,  -999.0, -999.00,-999.0000,-999.000,-999.000
     316N151_3,   A20,    61,  1,     26,     26,2,19970803,2254, 15.0005, -52.3302, 4521, 3323.2,    317.2,  14.9080,  36.0025,2,  36.0015,2,    139.5,2, 14.8596,    141.2,2,     5.40,2,    15.16,2,     0.01,2,     0.90,2,    1.672,2,    0.896,2, -999.000,5, -999.000,5,-999.0000,5,  -999.00,9,     84.0,2,     0.72,2,-999.000,9,   2160.9,2,    594.7,2,  20,   2355.0,2,   7.8280,2,   25,     4.4, -999.00,-999.0000,-999.000,-999.000
     316N151_3,   A20,    61,  1,     25,     25,2,19970803,2254, 15.0005, -52.3302, 4521, 3846.1,    370.0,  13.0369,  35.6730,2,  35.6741,2,    126.8,2, 12.9852,    123.1,2,     8.25,2,    20.23,2,     0.00,2,     1.22,2,    1.177,2,    0.622,2, -999.000,5, -999.000,5,-999.0000,5,  -999.00,9,   -999.0,9,  -999.00,9,-999.000,9,   2179.3,2,    715.7,2,  20,   2339.0,2,   7.7540,2,   25,  -999.0, -999.00,-999.0000,-999.000,-999.000
     316N151_3,   A20,    61,  1,     24,     24,2,19970803,2254, 15.0005, -52.3302, 4521, 4914.4,    477.3,  10.7627,  35.3170,2,  35.3160,2,    114.5,2, 10.7037,    114.7,2,    12.54,2,    25.50,2,     0.00,2,     1.58,2,    0.657,2,    0.338,2, -999.000,5, -999.000,5,-999.0000,5,  -999.00,9,    -21.0,2,     0.64,2,-999.000,9,   2195.8,2,    871.3,2,  20,   2323.1,2,   7.6810,2,   25,     2.8, -999.00,-999.0000,-999.000,-999.000
     316N151_3,   A20,    61,  1,     23,     23,2,19970803,2254, 15.0005, -52.3302, 4521, 5856.7,    571.8,   8.8809,  35.0403,2,  35.0337,2,    117.0,2,  8.8178,    116.0,2,    16.95,2,    29.09,2,     0.00,2,     1.85,2,    0.362,6,    0.194,6, -999.000,5, -999.000,5,-999.0000,5,  -999.00,9,    -78.8,2,     0.63,2,-999.000,9,   2207.0,2,    985.6,2,  20,   2313.5,2,   7.6280,2,   25,     3.0, -999.00,-999.0000,-999.000,-999.000
     316N151_3,   A20,    61,  1,     22,     22,2,19970803,2254, 15.0005, -52.3302, 4521, 6798.4,    666.1,   7.0184,  34.8034,2,  34.8032,2,    120.8,2,  6.9540,    121.6,2,    22.22,2,    32.06,2,     0.00,2,     2.10,2,    0.140,2,    0.086,2, -999.000,5, -999.000,5,-999.0000,5,  -999.00,9,    -65.1,2,     0.68,2,-999.000,9,   2215.1,2,   1089.8,2,  20,   2306.5,2,   7.5910,2,   25,     2.9, -999.00,-999.0000,-999.000,-999.000
     316N151_3,   A20,    61,  1,     21,     21,2,19970803,2254, 15.0005, -52.3302, 4521, 8140.5,    800.2,   5.9425,  34.7151,2,  34.7141,2,    129.0,2,  5.8709,    130.0,2,    25.84,2,    33.08,2,     0.00,2,     2.20,2,    0.050,2,    0.031,2, -999.000,5, -999.000,5,-999.0000,5,  -999.00,9,    -81.8,2,     0.72,2,-999.000,9,   2219.5,2,   1125.4,2,  20,   2307.9,2,   7.5770,2,   25,     2.9, -999.00,-999.0000,-999.000,-999.000
     316N151_3,   A20,    61,  1,     20,     20,2,19970803,2254, 15.0005, -52.3302, 4521, 9672.4,    953.3,   5.4382,  34.7490,2,  34.7481,2,    143.2,2,  5.3555,    143.8,2,    26.93,2,    31.87,2,     0.00,2,     2.14,2,    0.034,2,    0.019,2, -999.000,5, -999.000,5,-999.0000,5,  -999.00,9,    -96.4,2,     0.73,2,-999.000,9,   2216.8,2,   1100.0,2,  20,   2309.4,2,   7.5950,2,   25,     2.6, -999.00,-999.0000,-999.000,-999.000
     316N151_3,   A20,    61,  1,     19,     19,2,19970803,2254, 15.0005, -52.3302, 4521,11179.2,   1103.8,   5.3365,  34.8664,2,  34.8662,2,    163.5,2,  5.2402,    164.4,2,    24.34,2,    28.72,2,     0.00,2,     1.93,2,    0.043,2,    0.031,2, -999.000,5, -999.000,5,-999.0000,5,  -999.00,9,    -97.7,2,     0.68,2,-999.000,9,   2207.4,2,   -999.0,9,-999,   2315.8,2,   7.6300,2,   25,     2.7, -999.00,-999.0000,-999.000,-999.000
     316N151_3,   A20,    61,  1,     18,     18,2,19970803,2254, 15.0005, -52.3302, 4521,12633.5,   1249.2,   5.0940,  34.9383,2,  34.9382,2,    185.8,2,  4.9859,    182.9,2,    22.05,2,    25.88,2,     0.00,2,     1.74,2,    0.050,2,    0.031,2, -999.000,5, -999.000,5,-999.0000,5,  -999.00,9,    -99.6,2,     0.87,2,-999.000,9,   2196.1,2,   -999.0,9,-999,   2316.6,2,   7.6660,2,   25,     2.6, -999.00,-999.0000,-999.000,-999.000
     316N151_3,   A20,    61,  1,     17,     17,2,19970803,2254, 15.0005, -52.3302, 4521,14151.5,   1400.9,   4.8718,  34.9898,2,  34.9906,2,    212.5,2,  4.7514,    210.2,2,    18.87,2,    22.57,2,     0.00,2,     1.52,2,    0.138,2,    0.078,2, -999.000,5, -999.000,5,-999.0000,5,  -999.00,9,    -87.4,2,     0.97,2,-999.000,9,   2182.7,2,   -999.0,9,-999,   2315.0,2,   7.7020,2,   25,     2.7, -999.00,-999.0000,-999.000,-999.000
     316N151_3,   A20,    61,  1,     16,     16,2,19970803,2254, 15.0005, -52.3302, 4521,15578.5,   1543.5,   4.5116,  35.0030,2,  35.0025,2,    231.5,2,  4.3814,    230.2,2,    17.26,2,    20.69,2,     0.00,2,     1.39,2,    0.157,6,    0.093,6, -999.000,5, -999.000,5,-999.0000,5,  -999.00,9,   -106.3,2,     1.00,2,-999.000,9,   2172.5,2,   -999.0,9,-999,   2315.8,2,   7.7270,2,   25,     3.1, -999.00,-999.0000,-999.000,-999.000
     316N151_3,   A20,    61,  1,     15,     15,2,19970803,2254, 15.0005, -52.3302, 4521,16544.0,   1640.0,   4.3528,  35.0043,2,  35.0030,2,    238.2,2,  4.2152,    238.6,2,    16.61,2,    20.02,2,     0.00,2,     1.34,2,    0.188,2,    0.100,2, -999.000,5, -999.000,5,-999.0000,5,  -999.00,9,   -999.0,9,  -999.00,9,-999.000,9,   2168.2,2,   -999.0,9,-999,   2315.6,2,   7.7370,2,   25,  -999.0, -999.00,-999.0000,-999.000,-999.000
     316N151_3,   A20,    61,  1,     14,     14,2,19970803,2254, 15.0005, -52.3302, 4521,17650.9,   1750.7,   4.0779,  34.9981,2,  34.9982,2,    246.7,2,  3.9333,    247.3,2,    16.73,2,    19.39,2,     0.00,2,     1.30,2,    0.152,2,    0.089,2, -999.000,5, -999.000,5,-999.0000,5,  -999.00,9,   -104.8,2,     1.07,2,-999.000,9,   2165.3,2,   -999.0,9,-999,   2315.5,2,   7.7430,2,   25,     4.1, -999.00,-999.0000,-999.000,-999.000
     316N151_3,   A20,    61,  1,     13,     13,2,19970803,2254, 15.0005, -52.3302, 4521,18648.9,   1850.4,   3.8656,  34.9927,2,  34.9930,2,    250.4,2,  3.7143,    251.7,2,    17.45,2,    19.19,2,     0.00,2,     1.28,2,    0.107,2,    0.061,2, -999.000,5, -999.000,5,-999.0000,5,  -999.00,9,   -105.5,2,     1.07,2,-999.000,9,   2163.1,2,   -999.0,9,-999,   2317.1,2,   7.7480,2,   25,     2.8, -999.00,-999.0000,-999.000,-999.000
     316N151_3,   A20,    61,  1,     12,     12,2,19970803,2254, 15.0005, -52.3302, 4521,20162.3,   2001.7,   3.6619,  34.9869,2,  34.9875,2,    253.7,2,  3.4993,    254.6,2,    18.54,2,    18.98,2,     0.00,2,     1.28,2,    0.068,2,    0.043,2, -999.000,5, -999.000,5,-999.0000,5,  -999.00,9,   -113.4,2,     1.08,2,-999.000,9,   2163.5,2,   -999.0,9,-999,   2317.0,2,   7.7500,2,   25,     5.2, -999.00,-999.0000,-999.000,-999.000
     316N151_3,   A20,    61,  1,     11,     11,2,19970803,2254, 15.0005, -52.3302, 4521,22150.3,   2200.5,   3.3315,  34.9689,2,  34.9696,2,    256.5,2,  3.1548,    256.8,2,    21.39,2,    19.05,2,     0.00,2,     1.28,2,    0.052,2,    0.034,2, -999.000,5, -999.000,5,-999.0000,5,  -999.00,9,   -106.1,2,     1.05,2,-999.000,9,   2167.7,2,   -999.0,9,-999,   2316.9,2,   7.7470,2,   25,     4.2, -999.00,-999.0000,-999.000,-999.000
     316N151_3,   A20,    61,  1,     10,     10,2,19970803,2254, 15.0005, -52.3302, 4521,24638.5,   2449.1,   3.0912,  34.9545,2,  34.9538,2,    258.3,2,  2.8945,    257.7,2,    23.66,2,    19.00,2,     0.00,2,     1.30,2,    0.057,2,    0.035,2, -999.000,5, -999.000,5,-999.0000,5,  -999.00,9,    -94.7,2,     1.08,2,-999.000,9,   2167.7,2,   -999.0,9,-999,   2322.2,2,   7.7520,2,   25,     4.2, -999.00,-999.0000,-999.000,-999.000
     316N151_3,   A20,    61,  1,      9,      9,2,19970803,2254, 15.0005, -52.3302, 4521,27143.5,   2699.5,   2.8970,  34.9420,2,  34.9427,2,    257.9,2,  2.6793,    258.1,2,    26.21,2,    19.27,2,     0.00,2,     1.31,2,    0.076,2,    0.043,2, -999.000,5, -999.000,5,-999.0000,5,  -999.00,9,   -105.1,2,     1.00,2,-999.000,9,   2170.3,2,   -999.0,9,-999,   2324.4,2,   7.7500,2,   25,     2.6, -999.00,-999.0000,-999.000,-999.000
     316N151_3,   A20,    61,  1,      8,      8,2,19970803,2254, 15.0005, -52.3302, 4521,29634.5,   2948.5,   2.7553,  34.9320,2,  34.9317,2,    257.1,2,  2.5152,    257.7,2,    29.06,2,    19.50,2,     0.00,2,     1.33,2,    0.077,2,    0.045,2, -999.000,5, -999.000,5,-999.0000,5,  -999.00,9,   -111.2,2,     1.05,2,-999.000,9,   2173.0,2,   -999.0,9,-999,   2326.3,2,   7.7480,2,   25,     3.0, -999.00,-999.0000,-999.000,-999.000
     316N151_3,   A20,    61,  1,      7,      7,2,19970803,2254, 15.0005, -52.3302, 4521,32155.3,   3200.6,   2.6448,  34.9238,2,  34.9234,2,    258.9,2,  2.3808,    259.8,2,    30.74,2,    19.66,2,     0.00,2,     1.34,2,    0.090,2,    0.048,2, -999.000,5, -999.000,5,-999.0000,5,  -999.00,9,   -100.3,2,     0.99,2,-999.000,9,   2174.6,2,   -999.0,9,-999,   2329.0,2,   7.7430,2,   25,     3.4, -999.00,-999.0000,-999.000,-999.000
     316N151_3,   A20,    61,  1,      6,      6,2,19970803,2254, 15.0005, -52.3302, 4521,34648.5,   3449.8,   2.5281,  34.9153,2,  34.9142,2,    261.1,2,  2.2405,    261.0,2,    31.26,2,    19.35,2,     0.00,2,     1.33,2,    0.116,2,    0.067,2, -999.000,5, -999.000,5,-999.0000,5,  -999.00,9,    -97.8,2,     1.03,2,-999.000,9,   2174.0,2,   -999.0,9,-999,   2327.2,2,   7.7460,2,   25,     2.7, -999.00,-999.0000,-999.000,-999.000
     316N151_3,   A20,    61,  1,      5,      5,2,19970803,2254, 15.0005, -52.3302, 4521,37148.8,   3699.8,   2.3907,  34.9060,2,  34.9040,2,    262.3,2,  2.0792,    262.3,2,    32.35,2,    19.31,2,     0.00,2,     1.33,2,    0.116,2,    0.067,2, -999.000,5, -999.000,5,-999.0000,5,  -999.00,9,    -93.8,2,     1.11,2,-999.000,9,   2175.1,2,   -999.0,9,-999,   2327.5,2,   7.7480,2,   25,     3.5, -999.00,-999.0000,-999.000,-999.000
     316N151_3,   A20,    61,  1,      4,      4,2,19970803,2254, 15.0005, -52.3302, 4521,39130.7,   3897.9,   2.3326,  34.9011,2,  34.9006,2,    262.7,2,  2.0006,    263.3,2,    32.77,2,    19.26,2,     0.00,2,     1.32,2,    0.124,2,    0.071,2, -999.000,5, -999.000,5,-999.0000,5,  -999.00,9,   -109.9,2,     1.07,2,-999.000,9,   2174.9,2,   -999.0,9,-999,   2327.4,2,   7.7460,2,   25,     2.9, -999.00,-999.0000,-999.000,-999.000
     316N151_3,   A20,    61,  1,      3,      3,2,19970803,2254, 15.0005, -52.3302, 4521,41134.0,   4098.2,   2.2960,  34.8979,2,  34.8972,2,    263.5,2,  1.9422,    263.7,2,    32.99,2,    19.23,2,     0.00,2,     1.33,2,    0.135,2,    0.076,2, -999.000,5, -999.000,5,-999.0000,5,  -999.00,9,    -92.8,2,     1.06,2,-999.000,9,   2175.0,2,   -999.0,9,-999,   2327.8,2,   7.7440,2,   25,     3.3, -999.00,-999.0000,-999.000,-999.000
     316N151_3,   A20,    61,  1,      2,      2,2,19970803,2254, 15.0005, -52.3302, 4521,43669.2,   4351.6,   2.2355,  34.8886,2,  34.8872,2,    260.6,2,  1.8541,    261.0,2,    37.40,2,    19.81,2,     0.00,2,     1.37,2,    0.116,2,    0.068,2, -999.000,5, -999.000,5,-999.0000,5,  -999.00,9,    -95.2,2,     1.00,2,-999.000,9,   2180.3,2,   -999.0,9,-999,   2331.4,6,   7.7370,6,   25,     3.5, -999.00,-999.0000,-999.000,-999.000
     316N151_3,   A20,    61,  1,      1,      1,2,19970803,2254, 15.0005, -52.3302, 4521,45976.5,   4582.4,   2.0814,  34.8674,2,  34.8677,2,    253.3,2,  1.6774,    254.9,2,    47.65,6,    21.35,6,     0.00,6,     1.47,6,    0.083,2,    0.055,2, -999.000,5, -999.000,5,-999.0000,5,  -999.00,9,   -109.1,2,     0.96,2,-999.000,9,   2191.5,2,   -999.0,9,-999,   2338.6,2,   7.7290,2,   25,     2.7, -999.00,-999.0000,-999.000,-999.000