BOTTLE,20220812CCHSIOAMB
EXPOCODE,SECT_ID,STNNBR,CASTNO,SAMPNO,BTLNBR,BTLNBR_FLAG_W,DATE,TIME,LATITUDE,LONGITUDE,DEPTH,CTDRAW,CTDPRS,CTDTMP,CTDSAL,CTDSAL_FLAG_W,SALNTY,SALNTY_FLAG_W,CTDOXY,CTDOXY_FLAG_W,THETA,OXYGEN,OXYGEN_FLAG_W,SILCAT,SILCAT_FLAG_W,NITRAT,NITRAT_FLAG_W,NITRIT,NITRIT_FLAG_W,PHSPHT,PHSPHT_FLAG_W,CFC-11,CFC-11_FLAG_W,CFC-12,CFC-12_FLAG_W,CFC113,CFC113_FLAG_W,TRITUM,TRITUM_FLAG_W,HELIUM,HELIUM_FLAG_W,DELHE3,DELHE3_FLAG_W,DELC14,DELC14_FLAG_W,DELC13,DELC13_FLAG_W,NEON,NEON_FLAG_W,TCARBN,TCARBN_FLAG_W,PCO2,PCO2_FLAG_W,PCO2_TMP,ALKALI,ALKALI_FLAG_W,PH,PH_FLAG_W,PH_TMP,C14ERR,DELHER,HELIER,NEONER,TRITER
,,,,,,,,,,,,,DBAR,ITS-90,PSS-78,,PSS-78,,UMOL/KG,,ITS-90,UMOL/KG,,UMOL/KG,,UMOL/KG,,UMOL/KG,,UMOL/KG,,PMOL/KG,,PMOL/KG,,PMOL/KG,,TU,,NMOL/KG,,PERCNT,,/MILLE,,/MILLE,,NMOL/KG,,UMOL/KG,,UATM,,DEG C,UMOL/KG,,,,DEG C,/MILLE,PERCNT,NMOL/KG,NMOL/KG,TU
     316N151_3,   A20,    31,  1,     30,     30,2,19970726,0502, 34.8805, -52.3533, 5517,  276.0,     13.2,  26.1694,  36.4778,2,  36.4789,2,    216.7,2, 26.1664,    216.7,2,     0.29,2,     0.02,2,     0.00,2,     0.01,2,    1.892,2,    1.113,2, -999.000,5, -999.000,5,-999.0000,5,  -999.00,9,   -999.0,9,  -999.00,9,-999.000,9,   2044.5,2,   -999.0,9,-999,   2383.8,2,   8.0690,2,   25,  -999.0, -999.00,-999.0000,-999.000,-999.000
     316N151_3,   A20,    31,  1,     29,     29,2,19970726,0502, 34.8805, -52.3533, 5517,  635.1,     49.0,  20.6372,  36.6962,2,  36.6998,2,    248.4,2, 20.6278,    249.0,2,     0.39,2,     0.02,2,     0.00,2,     0.01,2,    2.243,2,    1.259,2, -999.000,5, -999.000,5,-999.0000,5,  -999.00,9,   -999.0,9,  -999.00,9,-999.000,9,   -999.0,9,   -999.0,9,-999,   -999.0,9,-999.0000,9, -999,  -999.0, -999.00,-999.0000,-999.000,-999.000
     316N151_3,   A20,    31,  1,     28,     28,2,19970726,0502, 34.8805, -52.3533, 5517, 1145.6,     99.7,  18.6136,  36.6057,2,  36.6046,2,    210.9,2, 18.5959,    215.0,2,     0.67,2,     1.30,2,     0.08,2,     0.05,2,    2.402,2,    1.365,2, -999.000,5, -999.000,5,-999.0000,5,  -999.00,9,   -999.0,9,  -999.00,9,-999.000,9,   -999.0,9,   -999.0,9,-999,   -999.0,9,-999.0000,9, -999,  -999.0, -999.00,-999.0000,-999.000,-999.000
     316N151_3,   A20,    31,  1,     27,     27,2,19970726,0502, 34.8805, -52.3533, 5517, 1646.1,    149.4,  18.1576,  36.5484,2,  36.5474,2,    204.8,2, 18.1315,    211.9,2,     1.06,2,     3.21,2,     0.01,2,     0.16,2,    2.408,2,    1.336,2, -999.000,5, -999.000,5,-999.0000,5,  -999.00,9,   -999.0,9,  -999.00,9,-999.000,9,   -999.0,9,   -999.0,9,-999,   -999.0,9,-999.0000,9, -999,  -999.0, -999.00,-999.0000,-999.000,-999.000
     316N151_3,   A20,    31,  1,     26,     26,2,19970726,0502, 34.8805, -52.3533, 5517, 2153.2,    199.6,  17.9805,  36.5273,2,  36.5260,2,    203.8,2, 17.9459,    209.1,2,     1.26,2,     3.62,2,     0.01,2,     0.18,2,    2.384,6,    1.335,6, -999.000,5, -999.000,5,-999.0000,5,  -999.00,9,   -999.0,9,  -999.00,9,-999.000,9,   -999.0,9,   -999.0,9,-999,   -999.0,9,-999.0000,9, -999,  -999.0, -999.00,-999.0000,-999.000,-999.000
     316N151_3,   A20,    31,  1,     25,     25,2,19970726,0502, 34.8805, -52.3533, 5517, 2915.9,    275.6,  17.8058,  36.5141,2,  36.5134,2,    218.7,2, 17.7582,    216.8,2,     1.16,2,     3.14,2,     0.01,2,     0.16,2,    2.458,2,    1.389,2, -999.000,5, -999.000,5,-999.0000,5,  -999.00,9,   -999.0,9,  -999.00,9,-999.000,9,   -999.0,9,   -999.0,9,-999,   -999.0,9,-999.0000,9, -999,  -999.0, -999.00,-999.0000,-999.000,-999.000
     316N151_3,   A20,    31,  1,     24,     24,2,19970726,0502, 34.8805, -52.3533, 5517, 3664.7,    350.4,  17.6251,  36.4774,2,  36.4758,2,    220.7,2, 17.5649,    217.8,2,     1.36,2,     3.80,2,     0.01,2,     0.20,2,    2.421,2,    1.357,2, -999.000,5, -999.000,5,-999.0000,5,  -999.00,9,   -999.0,9,  -999.00,9,-999.000,9,   -999.0,9,   -999.0,9,-999,   -999.0,9,-999.0000,9, -999,  -999.0, -999.00,-999.0000,-999.000,-999.000
     316N151_3,   A20,    31,  1,     23,     23,2,19970726,0502, 34.8805, -52.3533, 5517, 4397.8,    423.7,  16.7607,  36.3096,2,  36.3082,2,    200.2,2, 16.6904,    194.4,2,     2.22,2,     6.94,2,     0.01,2,     0.39,2,    2.247,2,    1.219,2, -999.000,5, -999.000,5,-999.0000,5,  -999.00,9,   -999.0,9,  -999.00,9,-999.000,9,   -999.0,9,   -999.0,9,-999,   -999.0,9,-999.0000,9, -999,  -999.0, -999.00,-999.0000,-999.000,-999.000
     316N151_3,   A20,    31,  1,     22,     22,2,19970726,0502, 34.8805, -52.3533, 5517, 5144.1,    498.6,  15.8998,  36.1640,2,  36.1636,2,    195.2,2, 15.8198,    192.0,2,     2.80,2,     8.57,2,     0.01,2,     0.50,2,    2.212,2,    1.218,2, -999.000,5, -999.000,5,-999.0000,5,  -999.00,9,   -999.0,9,  -999.00,9,-999.000,9,   -999.0,9,   -999.0,9,-999,   -999.0,9,-999.0000,9, -999,  -999.0, -999.00,-999.0000,-999.000,-999.000
     316N151_3,   A20,    31,  1,     21,     21,2,19970726,0502, 34.8805, -52.3533, 5517, 6646.5,    649.6,  13.6054,  35.7948,2,  35.7927,2,    181.0,2, 13.5112,    180.3,2,     5.31,2,    13.41,2,     0.00,2,     0.82,2,    1.907,6,    1.008,6, -999.000,5, -999.000,5,-999.0000,5,  -999.00,9,   -999.0,9,  -999.00,9,-999.000,9,   -999.0,9,   -999.0,9,-999,   -999.0,9,-999.0000,9, -999,  -999.0, -999.00,-999.0000,-999.000,-999.000
     316N151_3,   A20,    31,  1,     20,     20,2,19970726,0502, 34.8805, -52.3533, 5517, 8140.5,    799.6,  10.1629,  35.3284,2,  35.3285,2,    161.3,2, 10.0659,    160.1,2,    11.11,2,    20.62,2,     0.00,2,     1.32,2,    1.229,2,    0.643,2, -999.000,5, -999.000,5,-999.0000,5,  -999.00,9,   -999.0,9,  -999.00,9,-999.000,9,   -999.0,9,   -999.0,9,-999,   -999.0,9,-999.0000,9, -999,  -999.0, -999.00,-999.0000,-999.000,-999.000
     316N151_3,   A20,    31,  1,     19,     19,2,19970726,0502, 34.8805, -52.3533, 5517, 9647.1,    950.4,   7.5543,  35.1414,2,  35.1390,2,    179.3,2,  7.4563,    181.4,2,    13.24,2,    21.40,2,     0.00,2,     1.40,2,    1.098,2,    0.553,2, -999.000,5, -999.000,5,-999.0000,5,  -999.00,9,   -999.0,9,  -999.00,9,-999.000,9,   -999.0,9,   -999.0,9,-999,   -999.0,9,-999.0000,9, -999,  -999.0, -999.00,-999.0000,-999.000,-999.000
     316N151_3,   A20,    31,  1,     18,     18,2,19970726,0502, 34.8805, -52.3533, 5517,11150.5,   1100.9,   6.2755,  35.1605,2,  35.1590,2,    209.1,2,  6.1713,    214.5,2,    12.47,2,    19.42,2,     0.00,2,     1.28,2,    1.188,2,    0.593,2, -999.000,5, -999.000,5,-999.0000,5,  -999.00,9,   -999.0,9,  -999.00,9,-999.000,9,   -999.0,9,   -999.0,9,-999,   -999.0,9,-999.0000,9, -999,  -999.0, -999.00,-999.0000,-999.000,-999.000
     316N151_3,   A20,    31,  1,     17,     17,2,19970726,0502, 34.8805, -52.3533, 5517,12660.3,   1251.8,   5.4237,  35.0993,2,  35.1005,2,    230.7,2,  5.3120,    232.0,2,    12.27,2,    18.73,2,     0.00,2,     1.24,2,    1.310,2,    0.652,2, -999.000,5, -999.000,5,-999.0000,5,  -999.00,9,   -999.0,9,  -999.00,9,-999.000,9,   -999.0,9,   -999.0,9,-999,   -999.0,9,-999.0000,9, -999,  -999.0, -999.00,-999.0000,-999.000,-999.000
     316N151_3,   A20,    31,  1,     16,     16,2,19970726,0502, 34.8805, -52.3533, 5517,14638.4,   1449.6,   4.7271,  35.0509,2,  35.0510,2,    247.9,2,  4.6033,    248.7,2,    12.17,2,    18.14,2,     0.00,2,     1.21,2,    1.269,2,    0.639,2, -999.000,5, -999.000,5,-999.0000,5,  -999.00,9,   -999.0,9,  -999.00,9,-999.000,9,   -999.0,9,   -999.0,9,-999,   -999.0,9,-999.0000,9, -999,  -999.0, -999.00,-999.0000,-999.000,-999.000
     316N151_3,   A20,    31,  1,     15,     15,2,19970726,0502, 34.8805, -52.3533, 5517,17137.5,   1699.4,   4.1539,  34.9970,2,  34.9970,2,    261.0,2,  4.0131,    260.4,2,    12.47,2,    17.78,2,     0.00,2,     1.19,2,    1.195,2,    0.597,2, -999.000,5, -999.000,5,-999.0000,5,  -999.00,9,   -999.0,9,  -999.00,9,-999.000,9,   -999.0,9,   -999.0,9,-999,   -999.0,9,-999.0000,9, -999,  -999.0, -999.00,-999.0000,-999.000,-999.000
     316N151_3,   A20,    31,  1,     14,     14,2,19970726,0502, 34.8805, -52.3533, 5517,19641.7,   1949.7,   3.8436,  34.9743,2,  34.9748,2,    264.8,2,  3.6832,    265.5,2,    13.14,2,    17.64,2,     0.00,2,     1.18,2,    1.089,2,    0.546,2, -999.000,5, -999.000,5,-999.0000,5,  -999.00,9,   -999.0,9,  -999.00,9,-999.000,9,   -999.0,9,   -999.0,9,-999,   -999.0,9,-999.0000,9, -999,  -999.0, -999.00,-999.0000,-999.000,-999.000
     316N151_3,   A20,    31,  1,     13,     13,2,19970726,0502, 34.8805, -52.3533, 5517,22141.5,   2199.5,   3.6157,  34.9686,2,  34.9681,2,    265.8,2,  3.4346,    266.7,2,    14.78,2,    17.72,2,     0.00,2,     1.19,2,    0.798,6,    0.405,6, -999.000,5, -999.000,5,-999.0000,5,  -999.00,9,   -999.0,9,  -999.00,9,-999.000,9,   -999.0,9,   -999.0,9,-999,   -999.0,9,-999.0000,9, -999,  -999.0, -999.00,-999.0000,-999.000,-999.000
     316N151_3,   A20,    31,  1,     12,     12,2,19970726,0502, 34.8805, -52.3533, 5517,25158.9,   2501.0,   3.3925,  34.9690,2,  34.9695,2,    262.0,2,  3.1851,    263.6,2,    18.07,2,    18.06,2,     0.00,2,     1.22,2,    0.365,2,    0.199,2, -999.000,5, -999.000,5,-999.0000,5,  -999.00,9,   -999.0,9,  -999.00,9,-999.000,9,   -999.0,9,   -999.0,9,-999,   -999.0,9,-999.0000,9, -999,  -999.0, -999.00,-999.0000,-999.000,-999.000
     316N151_3,   A20,    31,  1,     11,     11,2,19970726,0502, 34.8805, -52.3533, 5517,28161.1,   2801.1,   3.0988,  34.9536,2,  34.9538,2,    262.1,2,  2.8666,    263.3,2,    21.06,2,    18.30,2,     0.00,2,     1.24,2,    0.264,2,    0.143,2, -999.000,5, -999.000,5,-999.0000,5,  -999.00,9,   -999.0,9,  -999.00,9,-999.000,9,   -999.0,9,   -999.0,9,-999,   -999.0,9,-999.0000,9, -999,  -999.0, -999.00,-999.0000,-999.000,-999.000
     316N151_3,   A20,    31,  1,     10,     10,2,19970726,0502, 34.8805, -52.3533, 5517,31165.2,   3101.4,   2.8735,  34.9395,2,  34.9396,2,    264.4,2,  2.6149,    264.8,2,    22.99,2,    18.38,2,     0.00,2,     1.25,2,    0.234,2,    0.126,2, -999.000,5, -999.000,5,-999.0000,5,  -999.00,9,   -999.0,9,  -999.00,9,-999.000,9,   -999.0,9,   -999.0,9,-999,   -999.0,9,-999.0000,9, -999,  -999.0, -999.00,-999.0000,-999.000,-999.000
     316N151_3,   A20,    31,  1,      9,      9,2,19970726,0502, 34.8805, -52.3533, 5517,34155.7,   3400.4,   2.6412,  34.9247,2,  34.9250,2,    265.9,2,  2.3560,    265.9,2,    25.03,2,    18.39,2,     0.00,2,     1.26,2,    0.205,2,    0.111,2, -999.000,5, -999.000,5,-999.0000,5,  -999.00,9,   -999.0,9,  -999.00,9,-999.000,9,   -999.0,9,   -999.0,9,-999,   -999.0,9,-999.0000,9, -999,  -999.0, -999.00,-999.0000,-999.000,-999.000
     316N151_3,   A20,    31,  1,      8,      8,2,19970726,0502, 34.8805, -52.3533, 5517,37142.4,   3698.9,   2.4626,  34.9120,2,  34.9117,2,    266.6,2,  2.1493,    268.4,2,    27.34,2,    18.50,2,     0.00,2,     1.27,2,    0.227,2,    0.122,2, -999.000,5, -999.000,5,-999.0000,5,  -999.00,9,   -999.0,9,  -999.00,9,-999.000,9,   -999.0,9,   -999.0,9,-999,   -999.0,9,-999.0000,9, -999,  -999.0, -999.00,-999.0000,-999.000,-999.000
     316N151_3,   A20,    31,  1,      7,      7,2,19970726,0502, 34.8805, -52.3533, 5517,39652.1,   3949.7,   2.3473,  34.9027,2,  34.9010,2,    266.7,2,  2.0090,    268.6,2,    29.95,2,    18.73,2,     0.00,2,     1.29,2,    0.277,2,    0.144,2, -999.000,5, -999.000,5,-999.0000,5,  -999.00,9,   -999.0,9,  -999.00,9,-999.000,9,   -999.0,9,   -999.0,9,-999,   -999.0,9,-999.0000,9, -999,  -999.0, -999.00,-999.0000,-999.000,-999.000
     316N151_3,   A20,    31,  1,      6,      6,2,19970726,0502, 34.8805, -52.3533, 5517,42158.4,   4200.3,   2.2931,  34.8959,2,  34.8950,2,    264.6,2,  1.9276,    265.5,2,    32.46,2,    19.04,2,     0.00,2,     1.31,2,    0.282,2,    0.152,2, -999.000,5, -999.000,5,-999.0000,5,  -999.00,9,   -999.0,9,  -999.00,9,-999.000,9,   -999.0,9,   -999.0,9,-999,   -999.0,9,-999.0000,9, -999,  -999.0, -999.00,-999.0000,-999.000,-999.000
     316N151_3,   A20,    31,  1,      5,      5,2,19970726,0502, 34.8805, -52.3533, 5517,45133.5,   4497.6,   2.2400,  34.8868,2,  34.8855,2,    262.6,2,  1.8410,    262.3,2,    36.13,2,    19.57,2,     0.00,2,     1.35,2,    0.267,2,    0.142,2, -999.000,5, -999.000,5,-999.0000,5,  -999.00,9,   -999.0,9,  -999.00,9,-999.000,9,   -999.0,9,   -999.0,9,-999,   -999.0,9,-999.0000,9, -999,  -999.0, -999.00,-999.0000,-999.000,-999.000
     316N151_3,   A20,    31,  1,      4,      4,2,19970726,0502, 34.8805, -52.3533, 5517,48177.8,   4802.0,   2.2134,  34.8794,2,  34.8792,2,    259.5,2,  1.7783,    260.4,2,    40.29,2,    20.24,2,     0.00,2,     1.40,2,    0.197,2,    0.104,2, -999.000,5, -999.000,5,-999.0000,5,  -999.00,9,   -999.0,9,  -999.00,9,-999.000,9,   -999.0,9,   -999.0,9,-999,   -999.0,9,-999.0000,9, -999,  -999.0, -999.00,-999.0000,-999.000,-999.000
     316N151_3,   A20,    31,  1,      3,      3,2,19970726,0502, 34.8805, -52.3533, 5517,51161.0,   5100.3,   2.1826,  34.8718,2,  34.8705,2,    257.3,2,  1.7113,    256.5,2,    44.63,2,    20.92,2,     0.00,2,     1.45,2,    0.137,6,    0.075,6, -999.000,5, -999.000,5,-999.0000,5,  -999.00,9,   -999.0,9,  -999.00,9,-999.000,9,   -999.0,9,   -999.0,9,-999,   -999.0,9,-999.0000,9, -999,  -999.0, -999.00,-999.0000,-999.000,-999.000
     316N151_3,   A20,    31,  1,      2,      2,2,19970726,0502, 34.8805, -52.3533, 5517,54186.5,   5402.6,   2.1931,  34.8683,2,  34.8662,2,    255.5,2,  1.6826,    256.8,2,    46.08,2,    21.15,2,     0.00,2,     1.46,2,    0.127,2,    0.075,2, -999.000,5, -999.000,5,-999.0000,5,  -999.00,9,   -999.0,9,  -999.00,9,-999.000,9,   -999.0,9,   -999.0,9,-999,   -999.0,9,-999.0000,9, -999,  -999.0, -999.00,-999.0000,-999.000,-999.000
     316N151_3,   A20,    31,  1,      1,      1,2,19970726,0502, 34.8805, -52.3533, 5517,56290.0,   5613.1,   2.1913,  34.8644,2,  34.8612,2,    252.6,2,  1.6533,    254.6,2,    48.30,6,    21.46,6,     0.00,6,     1.49,6,    0.092,2,    0.058,2, -999.000,5, -999.000,5,-999.0000,5,  -999.00,9,   -999.0,9,  -999.00,9,-999.000,9,   -999.0,9,   -999.0,9,-999,   -999.0,9,-999.0000,9, -999,  -999.0, -999.00,-999.0000,-999.000,-999.000