BOTTLE,20220812CCHSIOAMB
EXPOCODE,SECT_ID,STNNBR,CASTNO,SAMPNO,BTLNBR,BTLNBR_FLAG_W,DATE,TIME,LATITUDE,LONGITUDE,DEPTH,CTDRAW,CTDPRS,CTDTMP,CTDSAL,CTDSAL_FLAG_W,SALNTY,SALNTY_FLAG_W,CTDOXY,CTDOXY_FLAG_W,THETA,OXYGEN,OXYGEN_FLAG_W,SILCAT,SILCAT_FLAG_W,NITRAT,NITRAT_FLAG_W,NITRIT,NITRIT_FLAG_W,PHSPHT,PHSPHT_FLAG_W,CFC-11,CFC-11_FLAG_W,CFC-12,CFC-12_FLAG_W,CFC113,CFC113_FLAG_W,TRITUM,TRITUM_FLAG_W,HELIUM,HELIUM_FLAG_W,DELHE3,DELHE3_FLAG_W,DELC14,DELC14_FLAG_W,DELC13,DELC13_FLAG_W,NEON,NEON_FLAG_W,TCARBN,TCARBN_FLAG_W,PCO2,PCO2_FLAG_W,PCO2_TMP,ALKALI,ALKALI_FLAG_W,PH,PH_FLAG_W,PH_TMP,C14ERR,DELHER,HELIER,NEONER,TRITER
,,,,,,,,,,,,,DBAR,ITS-90,PSS-78,,PSS-78,,UMOL/KG,,ITS-90,UMOL/KG,,UMOL/KG,,UMOL/KG,,UMOL/KG,,UMOL/KG,,PMOL/KG,,PMOL/KG,,PMOL/KG,,TU,,NMOL/KG,,PERCNT,,/MILLE,,/MILLE,,NMOL/KG,,UMOL/KG,,UATM,,DEG C,UMOL/KG,,,,DEG C,/MILLE,PERCNT,NMOL/KG,NMOL/KG,TU
     316N151_3,   A20,    37,  1,     33,     33,2,19970727,2318, 30.8570, -52.3270, 5165,  285.3,     14.1,  27.7257,  37.0073,2,  37.0074,2,    222.3,2, 27.7224,    215.8,2,     0.33,2,     0.02,2,     0.00,2,     0.01,2,    1.804,2,    1.075,2, -999.000,5, -999.000,5,-999.0000,5,  -999.00,9,   -999.0,9,  -999.00,9,-999.000,9,   2064.4,2,    301.1,2,  20,   2414.7,2,   8.0770,2,   25,  -999.0, -999.00,-999.0000,-999.000,-999.000
     316N151_3,   A20,    37,  1,     32,     32,2,19970727,2318, 30.8570, -52.3270, 5165,  652.0,     50.7,  21.7723,  36.8754,2,  36.8773,2,    241.3,2, 21.7623,    239.7,2,     0.34,2,     0.03,2,     0.00,2,     0.01,2,    2.300,2,    1.318,2, -999.000,5, -999.000,5,-999.0000,5,  -999.00,9,   -999.0,9,  -999.00,9,-999.000,9,   -999.0,9,    303.9,2,  20,   -999.0,9,-999.0000,9, -999,  -999.0, -999.00,-999.0000,-999.000,-999.000
     316N151_3,   A20,    37,  1,     31,     31,2,19970727,2318, 30.8570, -52.3270, 5165, 1162.9,    101.6,  20.1231,  36.7869,2,  36.7900,2,    216.6,2, 20.1041,    232.0,2,     0.35,2,     0.02,2,     0.00,2,     0.01,2,    2.349,6,    1.329,6, -999.000,5, -999.000,5,-999.0000,5,  -999.00,9,   -999.0,9,  -999.00,9,-999.000,9,   -999.0,9,    322.2,2,  20,   -999.0,9,-999.0000,9, -999,  -999.0, -999.00,-999.0000,-999.000,-999.000
     316N151_3,   A20,    37,  1,     30,     30,3,19970727,2318, 30.8570, -52.3270, 5165, 1648.1,    149.8,  18.9752,  36.6567,2,  36.6588,2,    206.7,2, 18.9483,    208.8,2,     0.55,2,     0.96,2,     0.06,2,     0.03,2, -999.000,9, -999.000,9, -999.000,5, -999.000,5,-999.0000,5,  -999.00,9,   -999.0,9,  -999.00,9,-999.000,9,   -999.0,9,    357.6,2,  20,   -999.0,9,-999.0000,9, -999,  -999.0, -999.00,-999.0000,-999.000,-999.000
     316N151_3,   A20,    37,  1,     29,     29,2,19970727,2318, 30.8570, -52.3270, 5165, 2142.7,    198.9,  18.4359,  36.5763,2,  36.5762,2,    211.4,2, 18.4008,    209.1,2,     0.74,2,     2.61,2,     0.01,2,     0.12,2,    2.463,2,    1.360,2, -999.000,5, -999.000,5,-999.0000,5,  -999.00,9,   -999.0,9,  -999.00,9,-999.000,9,   -999.0,9,    364.1,2,  20,   -999.0,9,-999.0000,9, -999,  -999.0, -999.00,-999.0000,-999.000,-999.000
     316N151_3,   A20,    37,  1,     28,     28,2,19970727,2318, 30.8570, -52.3270, 5165, 2657.1,    250.0,  18.2179,  36.5497,2,  36.5484,2,    211.0,2, 18.1741,    214.6,2,     0.94,2,     2.92,2,     0.01,2,     0.14,2,    2.422,2,    1.364,2, -999.000,5, -999.000,5,-999.0000,5,  -999.00,9,   -999.0,9,  -999.00,9,-999.000,9,   -999.0,9,    366.7,2,  20,   -999.0,9,-999.0000,9, -999,  -999.0, -999.00,-999.0000,-999.000,-999.000
     316N151_3,   A20,    37,  1,     27,     27,2,19970727,2318, 30.8570, -52.3270, 5165, 3153.2,    299.5,  18.0473,  36.5291,2,  36.5280,2,    208.7,2, 17.9952,    208.8,2,     1.03,2,     3.58,2,     0.01,2,     0.17,2,    2.420,2,    1.363,2, -999.000,5, -999.000,5,-999.0000,5,  -999.00,9,   -999.0,9,  -999.00,9,-999.000,9,   -999.0,9,    372.4,2,  20,   -999.0,9,-999.0000,9, -999,  -999.0, -999.00,-999.0000,-999.000,-999.000
     316N151_3,   A20,    37,  1,     26,     26,2,19970727,2318, 30.8570, -52.3270, 5165, 3658.7,    349.9,  17.8769,  36.5020,2,  36.5010,2,    219.4,2, 17.8163,    204.5,2,     1.23,2,     4.23,2,     0.01,2,     0.21,2,    2.370,6,    1.328,6, -999.000,5, -999.000,5,-999.0000,5,  -999.00,9,   -999.0,9,  -999.00,9,-999.000,9,   -999.0,9,    382.6,2,  20,   -999.0,9,-999.0000,9, -999,  -999.0, -999.00,-999.0000,-999.000,-999.000
     316N151_3,   A20,    37,  1,     25,     25,2,19970727,2318, 30.8570, -52.3270, 5165, 4179.7,    401.9,  17.6105,  36.4594,2,  36.4591,2,    212.1,2, 17.5415,    203.4,2,     1.42,2,     4.83,2,     0.00,2,     0.24,2,    2.310,2,    1.301,2, -999.000,5, -999.000,5,-999.0000,5,  -999.00,9,   -999.0,9,  -999.00,9,-999.000,9,   -999.0,9,    390.9,2,  20,   -999.0,9,-999.0000,9, -999,  -999.0, -999.00,-999.0000,-999.000,-999.000
     316N151_3,   A20,    37,  1,     24,     24,2,19970727,2318, 30.8570, -52.3270, 5165, 5377.2,    522.0,  16.3698,  36.2504,2,  36.2531,2,    197.6,2, 16.2844,    200.5,2,     2.08,2,     6.99,2,     0.00,2,     0.39,2,    2.326,2,    1.285,2, -999.000,5, -999.000,5,-999.0000,5,  -999.00,9,   -999.0,9,  -999.00,9,-999.000,9,   -999.0,9,    433.0,2,  20,   -999.0,9,-999.0000,9, -999,  -999.0, -999.00,-999.0000,-999.000,-999.000
     316N151_3,   A20,    37,  1,     23,     23,2,19970727,2318, 30.8570, -52.3270, 5165, 6656.4,    650.3,  14.2354,  35.8941,2,  35.8979,2,    190.3,2, 14.1382,    185.9,2,     4.14,2,    11.70,2,     0.00,2,     0.69,2,    2.090,2,    1.122,2, -999.000,5, -999.000,5,-999.0000,5,  -999.00,9,   -999.0,9,  -999.00,9,-999.000,9,   -999.0,9,    518.9,2,  20,   -999.0,9,-999.0000,9, -999,  -999.0, -999.00,-999.0000,-999.000,-999.000
     316N151_3,   A20,    37,  1,     22,     22,2,19970727,2318, 30.8570, -52.3270, 5165, 7891.6,    774.4,  12.0063,  35.5842,2,  35.5865,2,    177.3,2, 11.9022,    173.6,2,     7.04,2,    16.44,2,     0.00,2,     1.00,2,    1.583,2,    0.831,2, -999.000,5, -999.000,5,-999.0000,5,  -999.00,9,   -999.0,9,  -999.00,9,-999.000,9,   -999.0,9,    519.9,2,  20,   -999.0,9,-999.0000,9, -999,  -999.0, -999.00,-999.0000,-999.000,-999.000
     316N151_3,   A20,    37,  1,     21,     21,2,19970727,2318, 30.8570, -52.3270, 5165, 9131.0,    898.6,   9.3777,  35.2954,2,  35.2918,2,    169.0,2,  9.2734,    167.3,2,    11.24,2,    20.95,2,     0.00,2,     1.33,2,    1.050,2,    0.536,2, -999.000,5, -999.000,5,-999.0000,5,  -999.00,9,   -999.0,9,  -999.00,9,-999.000,9,   -999.0,9,    757.0,2,  20,   -999.0,9,-999.0000,9, -999,  -999.0, -999.00,-999.0000,-999.000,-999.000
     316N151_3,   A20,    37,  1,     20,     20,2,19970727,2318, 30.8570, -52.3270, 5165,10338.6,   1019.3,   7.6834,  35.1942,2,  35.1939,2,    180.6,2,  7.5769,    180.7,2,    12.73,2,    21.47,2,     0.00,2,     1.38,2,    0.873,2,    0.441,2, -999.000,5, -999.000,5,-999.0000,5,  -999.00,9,   -999.0,9,  -999.00,9,-999.000,9,   -999.0,9,    788.0,2,  20,   -999.0,9,-999.0000,9, -999,  -999.0, -999.00,-999.0000,-999.000,-999.000
     316N151_3,   A20,    37,  1,     19,     19,2,19970727,2318, 30.8570, -52.3270, 5165,11614.2,   1147.2,   6.6294,  35.1908,2,  35.1917,2,    200.1,2,  6.5174,    202.3,2,    13.02,2,    20.52,2,     0.00,2,     1.33,2,    0.725,2,    0.368,2, -999.000,5, -999.000,5,-999.0000,5,  -999.00,9,   -999.0,9,  -999.00,9,-999.000,9,   -999.0,9,   -999.0,9,-999,   -999.0,9,-999.0000,9, -999,  -999.0, -999.00,-999.0000,-999.000,-999.000
     316N151_3,   A20,    37,  1,     18,     18,2,19970727,2318, 30.8570, -52.3270, 5165,13616.9,   1347.5,   5.4511,  35.1300,2,  35.1332,2,    226.0,2,  5.3296,    229.6,2,    12.47,2,    19.09,2,     0.00,2,     1.24,2,    0.893,2,    0.441,2, -999.000,5, -999.000,5,-999.0000,5,  -999.00,9,   -999.0,9,  -999.00,9,-999.000,9,   -999.0,9,   -999.0,9,-999,   -999.0,9,-999.0000,9, -999,  -999.0, -999.00,-999.0000,-999.000,-999.000
     316N151_3,   A20,    37,  1,     17,     17,2,19970727,2318, 30.8570, -52.3270, 5165,15609.6,   1546.7,   4.5461,  35.0393,2,  35.0405,2,    251.1,2,  4.4151,    251.2,2,    12.11,2,    18.21,2,     0.00,2,     1.20,2,    1.122,2,    0.560,2, -999.000,5, -999.000,5,-999.0000,5,  -999.00,9,   -999.0,9,  -999.00,9,-999.000,9,   -999.0,9,   -999.0,9,-999,   -999.0,9,-999.0000,9, -999,  -999.0, -999.00,-999.0000,-999.000,-999.000
     316N151_3,   A20,    37,  1,     16,     16,2,19970727,2318, 30.8570, -52.3270, 5165,17639.0,   1749.6,   4.0946,  35.0033,2,  35.0054,2,    262.1,2,  3.9499,    259.1,2,    12.76,2,    17.93,2,     0.00,2,     1.19,2,    0.966,6,    0.479,6, -999.000,5, -999.000,5,-999.0000,5,  -999.00,9,   -999.0,9,  -999.00,9,-999.000,9,   -999.0,9,   -999.0,9,-999,   -999.0,9,-999.0000,9, -999,  -999.0, -999.00,-999.0000,-999.000,-999.000
     316N151_3,   A20,    37,  1,     15,     15,2,19970727,2318, 30.8570, -52.3270, 5165,19625.1,   1948.0,   3.8230,  34.9885,2,  34.9885,2,    263.3,2,  3.6630,    261.1,2,    13.98,2,    17.97,2,     0.00,2,     1.19,2,    0.771,2,    0.388,2, -999.000,5, -999.000,5,-999.0000,5,  -999.00,9,   -999.0,9,  -999.00,9,-999.000,9,   -999.0,9,   -999.0,9,-999,   -999.0,9,-999.0000,9, -999,  -999.0, -999.00,-999.0000,-999.000,-999.000
     316N151_3,   A20,    37,  1,     14,     14,2,19970727,2318, 30.8570, -52.3270, 5165,21626.4,   2148.0,   3.6087,  34.9839,2,  34.9835,2,    263.1,2,  3.4327,    260.5,2,    16.23,2,    18.16,2,     0.00,2,     1.21,2,    0.434,2,    0.202,2, -999.000,5, -999.000,5,-999.0000,5,  -999.00,9,   -999.0,9,  -999.00,9,-999.000,9,   -999.0,9,   -999.0,9,-999,   -999.0,9,-999.0000,9, -999,  -999.0, -999.00,-999.0000,-999.000,-999.000
     316N151_3,   A20,    37,  1,     13,     13,2,19970727,2318, 30.8570, -52.3270, 5165,23140.0,   2299.3,   3.5004,  34.9830,2,  34.9824,2,    259.5,2,  3.3112,    259.0,2,    18.19,2,    18.53,2,     0.00,2,     1.23,2,    0.295,2,    0.147,2, -999.000,5, -999.000,5,-999.0000,5,  -999.00,9,   -999.0,9,  -999.00,9,-999.000,9,   -999.0,9,   -999.0,9,-999,   -999.0,9,-999.0000,9, -999,  -999.0, -999.00,-999.0000,-999.000,-999.000
     316N151_3,   A20,    37,  1,     12,     12,2,19970727,2318, 30.8570, -52.3270, 5165,25671.6,   2552.3,   3.2780,  34.9741,2,  34.9762,2,    256.9,2,  3.0676,    255.6,2,    22.66,2,    19.17,2,     0.00,2,     1.28,2,    0.087,2,    0.051,2, -999.000,5, -999.000,5,-999.0000,5,  -999.00,9,   -999.0,9,  -999.00,9,-999.000,9,   -999.0,9,   -999.0,9,-999,   -999.0,9,-999.0000,9, -999,  -999.0, -999.00,-999.0000,-999.000,-999.000
     316N151_3,   A20,    37,  1,     11,     11,2,19970727,2318, 30.8570, -52.3270, 5165,28143.3,   2799.5,   3.0821,  34.9581,2,  34.9595,2,    257.1,2,  2.8503,    258.0,2,    24.62,2,    19.39,2,     0.00,2,     1.29,2,    0.068,2,    0.042,2, -999.000,5, -999.000,5,-999.0000,5,  -999.00,9,   -999.0,9,  -999.00,9,-999.000,9,   -999.0,9,   -999.0,9,-999,   -999.0,9,-999.0000,9, -999,  -999.0, -999.00,-999.0000,-999.000,-999.000
     316N151_3,   A20,    37,  1,     10,     10,2,19970727,2318, 30.8570, -52.3270, 5165,30615.2,   3046.4,   2.9036,  34.9445,2,  34.9452,2,    258.7,2,  2.6501,    257.6,2,    26.68,2,    19.47,2,     0.00,2,     1.31,2,    0.049,2,    0.029,2, -999.000,5, -999.000,5,-999.0000,5,  -999.00,9,   -999.0,9,  -999.00,9,-999.000,9,   -999.0,9,   -999.0,9,-999,   -999.0,9,-999.0000,9, -999,  -999.0, -999.00,-999.0000,-999.000,-999.000
     316N151_3,   A20,    37,  1,      9,      9,2,19970727,2318, 30.8570, -52.3270, 5165,33118.0,   3296.6,   2.7175,  34.9297,2,  34.9307,2,    261.0,2,  2.4417,    259.9,2,    27.52,2,    19.29,2,     0.00,2,     1.30,2, -999.000,9, -999.000,9, -999.000,5, -999.000,5,-999.0000,5,  -999.00,9,   -999.0,9,  -999.00,9,-999.000,9,   -999.0,9,   -999.0,9,-999,   -999.0,9,-999.0000,9, -999,  -999.0, -999.00,-999.0000,-999.000,-999.000
     316N151_3,   A20,    37,  1,      8,      8,2,19970727,2318, 30.8570, -52.3270, 5165,35632.3,   3548.0,   2.5361,  34.9170,2,  34.9170,2,    263.5,2,  2.2375,    262.6,2,    27.99,2,    19.08,2,     0.00,2,     1.29,2,    0.083,2,    0.046,2, -999.000,5, -999.000,5,-999.0000,5,  -999.00,9,   -999.0,9,  -999.00,9,-999.000,9,   -999.0,9,   -999.0,9,-999,   -999.0,9,-999.0000,9, -999,  -999.0, -999.00,-999.0000,-999.000,-999.000
     316N151_3,   A20,    37,  1,      7,      7,2,19970727,2318, 30.8570, -52.3270, 5165,38149.1,   3799.6,   2.4051,  34.9073,2,  34.9065,2,    265.1,2,  2.0822,    264.5,2,    29.40,2,    19.12,2,     0.00,2,     1.29,2,    0.130,2,    0.067,2, -999.000,5, -999.000,5,-999.0000,5,  -999.00,9,   -999.0,9,  -999.00,9,-999.000,9,   -999.0,9,   -999.0,9,-999,   -999.0,9,-999.0000,9, -999,  -999.0, -999.00,-999.0000,-999.000,-999.000
     316N151_3,   A20,    37,  1,      6,      6,2,19970727,2318, 30.8570, -52.3270, 5165,40653.1,   4049.8,   2.3083,  34.8976,2,  34.8961,2,    263.8,2,  1.9597,    264.1,2,    31.82,2,    19.38,2,    -0.01,2,     1.31,2,    0.157,2,    0.084,2, -999.000,5, -999.000,5,-999.0000,5,  -999.00,9,   -999.0,9,  -999.00,9,-999.000,9,   -999.0,9,   -999.0,9,-999,   -999.0,9,-999.0000,9, -999,  -999.0, -999.00,-999.0000,-999.000,-999.000
     316N151_3,   A20,    37,  1,      5,      5,2,19970727,2318, 30.8570, -52.3270, 5165,43163.1,   4300.7,   2.2430,  34.8888,2,  34.8878,2,    261.7,2,  1.8673,    263.9,2,    35.43,2,    19.86,2,     0.00,2,     1.35,2,    0.143,2,    0.076,2, -999.000,5, -999.000,5,-999.0000,5,  -999.00,9,   -999.0,9,  -999.00,9,-999.000,9,   -999.0,9,   -999.0,9,-999,   -999.0,9,-999.0000,9, -999,  -999.0, -999.00,-999.0000,-999.000,-999.000
     316N151_3,   A20,    37,  1,      4,      4,2,19970727,2318, 30.8570, -52.3270, 5165,45653.6,   4549.7,   2.1605,  34.8755,2,  34.8751,2,    257.8,2,  1.7579,    258.3,2,    41.63,2,    20.81,2,     0.00,2,     1.42,2, -999.000,9, -999.000,9, -999.000,5, -999.000,5,-999.0000,5,  -999.00,9,   -999.0,9,  -999.00,9,-999.000,9,   -999.0,9,   -999.0,9,-999,   -999.0,9,-999.0000,9, -999,  -999.0, -999.00,-999.0000,-999.000,-999.000
     316N151_3,   A20,    37,  1,      3,      3,2,19970727,2318, 30.8570, -52.3270, 5165,48153.3,   4799.7,   2.1000,  34.8648,2,  34.8643,2,    254.9,2,  1.6691,    254.0,2,    46.74,2,    21.62,2,     0.00,2,     1.47,2,    0.070,2,    0.043,2, -999.000,5, -999.000,5,-999.0000,5,  -999.00,9,   -999.0,9,  -999.00,9,-999.000,9,   -999.0,9,   -999.0,9,-999,   -999.0,9,-999.0000,9, -999,  -999.0, -999.00,-999.0000,-999.000,-999.000
     316N151_3,   A20,    37,  1,      2,      2,2,19970727,2318, 30.8570, -52.3270, 5165,51150.9,   5099.3,   2.0972,  34.8603,2,  34.8588,2,    252.7,2,  1.6291,    252.0,2,    49.54,2,    22.00,2,     0.00,2,     1.51,2,    0.035,2,    0.025,2, -999.000,5, -999.000,5,-999.0000,5,  -999.00,9,   -999.0,9,  -999.00,9,-999.000,9,   -999.0,9,    775.3,2,  20,   -999.0,9,-999.0000,9, -999,  -999.0, -999.00,-999.0000,-999.000,-999.000
     316N151_3,   A20,    37,  1,      1,      1,2,19970727,2318, 30.8570, -52.3270, 5165,53145.3,   5298.9,   2.1185,  34.8599,2,  34.8573,2,    251.5,2,  1.6241,    252.2,2,    49.75,6,    22.10,6,     0.00,6,     1.51,6,    0.036,2,    0.031,2, -999.000,5, -999.000,5,-999.0000,5,  -999.00,9,   -999.0,9,  -999.00,9,-999.000,9,   -999.0,9,   -999.0,9,-999,   -999.0,9,-999.0000,9, -999,  -999.0, -999.00,-999.0000,-999.000,-999.000