BOTTLE,20220812CCHSIOAMB
EXPOCODE,SECT_ID,STNNBR,CASTNO,SAMPNO,BTLNBR,BTLNBR_FLAG_W,DATE,TIME,LATITUDE,LONGITUDE,DEPTH,CTDRAW,CTDPRS,CTDTMP,CTDSAL,CTDSAL_FLAG_W,SALNTY,SALNTY_FLAG_W,CTDOXY,CTDOXY_FLAG_W,THETA,OXYGEN,OXYGEN_FLAG_W,SILCAT,SILCAT_FLAG_W,NITRAT,NITRAT_FLAG_W,NITRIT,NITRIT_FLAG_W,PHSPHT,PHSPHT_FLAG_W,CFC-11,CFC-11_FLAG_W,CFC-12,CFC-12_FLAG_W,CFC113,CFC113_FLAG_W,TRITUM,TRITUM_FLAG_W,HELIUM,HELIUM_FLAG_W,DELHE3,DELHE3_FLAG_W,DELC14,DELC14_FLAG_W,DELC13,DELC13_FLAG_W,NEON,NEON_FLAG_W,TCARBN,TCARBN_FLAG_W,PCO2,PCO2_FLAG_W,PCO2_TMP,ALKALI,ALKALI_FLAG_W,PH,PH_FLAG_W,PH_TMP,C14ERR,DELHER,HELIER,NEONER,TRITER
,,,,,,,,,,,,,DBAR,ITS-90,PSS-78,,PSS-78,,UMOL/KG,,ITS-90,UMOL/KG,,UMOL/KG,,UMOL/KG,,UMOL/KG,,UMOL/KG,,PMOL/KG,,PMOL/KG,,PMOL/KG,,TU,,NMOL/KG,,PERCNT,,/MILLE,,/MILLE,,NMOL/KG,,UMOL/KG,,UATM,,DEG C,UMOL/KG,,,,DEG C,/MILLE,PERCNT,NMOL/KG,NMOL/KG,TU
     316N151_3,   A20,    32,  1,     30,     30,2,19970726,1159, 34.1945, -52.3508, 5558,  179.6,      4.0,  26.6868,  36.7350,2,  36.7374,2,    191.8,2, 26.6859,    211.9,2,     0.46,2,     0.04,2,     0.00,2,     0.01,2,    1.801,2,    1.075,2, -999.000,5, -999.000,5,-999.0000,5,  -999.00,9,   -999.0,9,  -999.00,9,-999.000,9,   2056.2,2,    305.6,2,  20,   2399.2,2,   8.0680,2,   25,  -999.0, -999.00,-999.0000,-999.000,-999.000
     316N151_3,   A20,    32,  1,     29,     29,2,19970726,1159, 34.1945, -52.3508, 5558,  388.2,     25.2,  24.6713,  36.6920,2,  36.6854,2,    227.1,2, 24.6659,    222.5,2,     0.46,2,     0.04,2,     0.00,2,     0.01,2,    2.062,2,    1.194,2, -999.000,5, -999.000,5,-999.0000,5,  -999.00,9,   -999.0,9,  -999.00,9,-999.000,9,   2056.2,2,    309.0,2,  20,   2394.3,6,   8.0650,6,   25,  -999.0, -999.00,-999.0000,-999.000,-999.000
     316N151_3,   A20,    32,  1,     28,     28,2,19970726,1159, 34.1945, -52.3508, 5558,  638.1,     50.0,  20.9152,  36.7569,2,  36.7552,2,    256.1,2, 20.9056,    243.0,2,     0.56,2,     0.04,2,     0.00,2,     0.01,2,    2.308,2,    1.344,2, -999.000,5, -999.000,5,-999.0000,5,  -999.00,9,   -999.0,9,  -999.00,9,-999.000,9,   2059.5,2,    307.0,2,  20,   2398.5,2,   8.0720,2,   25,  -999.0, -999.00,-999.0000,-999.000,-999.000
     316N151_3,   A20,    32,  1,     27,     27,2,19970726,1159, 34.1945, -52.3508, 5558,  892.3,     75.2,  19.0084,  36.6002,2,  36.6004,2,    237.7,2, 18.9949,    226.4,2,     0.46,2,     0.04,2,     0.00,2,     0.02,2,    2.376,2,    1.354,2, -999.000,5, -999.000,5,-999.0000,5,  -999.00,9,   -999.0,9,  -999.00,9,-999.000,9,   2070.1,2,    331.9,2,  20,   2390.2,2,   8.0400,2,   25,  -999.0, -999.00,-999.0000,-999.000,-999.000
     316N151_3,   A20,    32,  1,     26,     26,2,19970726,1159, 34.1945, -52.3508, 5558, 1139.9,     99.6,  18.6755,  36.6016,2,  36.5995,2,    214.4,2, 18.6578,    214.6,2,     0.74,2,     1.04,2,     0.19,2,     0.05,2,    2.396,2,    1.357,2, -999.000,5, -999.000,5,-999.0000,5,  -999.00,9,   -999.0,9,  -999.00,9,-999.000,9,   2081.7,2,    352.6,2,  20,   2387.7,2,   8.0180,2,   25,  -999.0, -999.00,-999.0000,-999.000,-999.000
     316N151_3,   A20,    32,  1,     25,     25,2,19970726,1159, 34.1945, -52.3508, 5558, 1387.7,    124.1,  18.4812,  36.5912,2,  36.5901,2,    209.6,2, 18.4593,    213.0,2,     0.84,2,     2.31,2,     0.03,2,     0.11,2,    2.426,2,    1.390,2, -999.000,5, -999.000,5,-999.0000,5,  -999.00,9,   -999.0,9,  -999.00,9,-999.000,9,   2084.7,2,    357.6,2,  20,   2388.9,2,   8.0120,2,   25,  -999.0, -999.00,-999.0000,-999.000,-999.000
     316N151_3,   A20,    32,  1,     24,     24,2,19970726,1159, 34.1945, -52.3508, 5558, 1649.9,    149.9,  18.3024,  36.5636,2,  36.5561,2,    207.0,2, 18.2762,    213.3,2,     1.03,2,     2.83,2,     0.02,2,     0.14,2,    2.407,2,    1.352,2, -999.000,5, -999.000,5,-999.0000,5,  -999.00,9,   -999.0,9,  -999.00,9,-999.000,9,   2088.5,2,    366.9,2,  20,   2386.1,2,   8.0040,2,   25,  -999.0, -999.00,-999.0000,-999.000,-999.000
     316N151_3,   A20,    32,  1,     23,     23,2,19970726,1159, 34.1945, -52.3508, 5558, 1907.9,    175.4,  18.1836,  36.5492,2,  36.5486,2,    207.2,2, 18.1530,    210.5,2,     1.02,2,     3.12,2,     0.01,2,     0.15,2,    2.417,2,    1.350,2, -999.000,5, -999.000,5,-999.0000,5,  -999.00,9,   -999.0,9,  -999.00,9,-999.000,9,   2089.0,2,    369.0,2,  20,   2384.8,2,   8.0010,2,   25,  -999.0, -999.00,-999.0000,-999.000,-999.000
     316N151_3,   A20,    32,  1,     22,     22,2,19970726,1159, 34.1945, -52.3508, 5558, 2146.9,    199.0,  18.1188,  36.5472,2,  36.5450,2,    204.6,2, 18.0843,    208.9,2,     1.12,2,     3.41,2,     0.01,2,     0.16,2,    2.395,2,    1.343,2, -999.000,5, -999.000,5,-999.0000,5,  -999.00,9,   -999.0,9,  -999.00,9,-999.000,9,   2091.2,2,    369.5,2,  20,   2384.2,2,   8.0030,2,   25,  -999.0, -999.00,-999.0000,-999.000,-999.000
     316N151_3,   A20,    32,  1,     21,     21,2,19970726,1159, 34.1945, -52.3508, 5558, 2646.5,    248.7,  17.9633,  36.5256,2,  36.5260,2,    213.2,2, 17.9201,    212.7,2,     1.22,2,     3.37,2,     0.01,2,     0.17,2,    2.418,2,    1.346,2, -999.000,5, -999.000,5,-999.0000,5,  -999.00,9,   -999.0,9,  -999.00,9,-999.000,9,   2091.1,2,    370.7,2,  20,   2385.1,2,   8.0020,2,   25,  -999.0, -999.00,-999.0000,-999.000,-999.000
     316N151_3,   A20,    32,  1,     20,     20,2,19970726,1159, 34.1945, -52.3508, 5558, 3642.5,    348.0,  17.7946,  36.5109,2,  36.5099,2,    212.9,2, 17.7345,    219.7,2,     1.12,2,     3.24,2,     0.01,2,     0.16,2,    2.441,2,    1.359,2, -999.000,5, -999.000,5,-999.0000,5,  -999.00,9,   -999.0,9,  -999.00,9,-999.000,9,   2089.9,2,   -999.0,9,-999,   2383.1,2,   8.0010,2,   25,  -999.0, -999.00,-999.0000,-999.000,-999.000
     316N151_3,   A20,    32,  1,     19,     19,2,19970726,1159, 34.1945, -52.3508, 5558, 4684.2,    452.4,  16.7232,  36.2999,2,  36.3004,2,    197.7,2, 16.6482,    192.7,2,     2.28,2,     7.16,2,     0.00,2,     0.39,2,    2.233,2,    1.221,2, -999.000,5, -999.000,5,-999.0000,5,  -999.00,9,   -999.0,9,  -999.00,9,-999.000,9,   2112.6,2,    430.7,2,  20,   2374.1,2,   7.9480,2,   25,  -999.0, -999.00,-999.0000,-999.000,-999.000
     316N151_3,   A20,    32,  1,     18,     18,2,19970726,1159, 34.1945, -52.3508, 5558, 6154.0,    599.8,  14.5814,  35.9352,2,  35.9321,2,    188.1,2, 14.4904,    182.8,2,     4.41,2,    11.55,2,     0.00,2,     0.68,2,    2.068,2,    1.093,2, -999.000,5, -999.000,5,-999.0000,5,  -999.00,9,   -999.0,9,  -999.00,9,-999.000,9,   2132.2,2,    515.3,2,  20,   2352.6,2,   7.8770,2,   25,  -999.0, -999.00,-999.0000,-999.000,-999.000
     316N151_3,   A20,    32,  1,     17,     17,2,19970726,1159, 34.1945, -52.3508, 5558, 7866.2,    771.9,  11.2864,  35.4691,2,  35.4642,2,    164.1,2, 11.1866,    162.3,2,     9.35,2,    18.91,2,     0.00,2,     1.18,2,    1.394,2,    0.697,2, -999.000,5, -999.000,5,-999.0000,5,  -999.00,9,   -999.0,9,  -999.00,9,-999.000,9,   2165.6,2,    685.2,2,  20,   2332.1,2,   7.7680,2,   25,  -999.0, -999.00,-999.0000,-999.000,-999.000
     316N151_3,   A20,    32,  1,     16,     16,2,19970726,1159, 34.1945, -52.3508, 5558,10155.9,   1001.1,   7.3663,  35.1857,2,  35.1826,2,    192.4,2,  7.2642,    190.2,2,    12.84,2,    20.69,2,     0.00,2,     1.34,2,    1.088,6,    0.540,6, -999.000,5, -999.000,5,-999.0000,5,  -999.00,9,   -999.0,9,  -999.00,9,-999.000,9,   2179.8,2,    784.8,2,  20,   2321.5,2,   7.7140,2,   25,  -999.0, -999.00,-999.0000,-999.000,-999.000
     316N151_3,   A20,    32,  1,     15,     15,2,19970726,1159, 34.1945, -52.3508, 5558,12164.8,   1202.3,   5.5756,  35.1145,2,  35.1109,2,    223.5,2,  5.4673,    228.6,2,    12.35,2,    19.03,2,     0.00,2,     1.24,2,    1.264,2,    0.636,2, -999.000,5, -999.000,5,-999.0000,5,  -999.00,9,   -999.0,9,  -999.00,9,-999.000,9,   2172.4,2,   -999.0,9,-999,   2320.2,2,   7.7290,2,   25,  -999.0, -999.00,-999.0000,-999.000,-999.000
     316N151_3,   A20,    32,  1,     14,     14,2,19970726,1159, 34.1945, -52.3508, 5558,14162.9,   1402.1,   4.7717,  35.0500,2,  35.0496,2,    246.1,2,  4.6520,    247.2,2,    12.16,2,    18.32,2,     0.00,2,     1.20,2,    1.304,2,    0.645,2, -999.000,5, -999.000,5,-999.0000,5,  -999.00,9,   -999.0,9,  -999.00,9,-999.000,9,   2165.7,2,    748.6,2,  20,   2313.0,2,   7.7320,2,   25,  -999.0, -999.00,-999.0000,-999.000,-999.000
     316N151_3,   A20,    32,  1,     13,     13,2,19970726,1159, 34.1945, -52.3508, 5558,16665.2,   1652.2,   4.1818,  34.9960,2,  34.9967,2,    260.3,2,  4.0452,    259.7,2,    12.25,2,    17.89,2,     0.00,2,     1.17,2,    1.326,2,    0.650,2, -999.000,5, -999.000,5,-999.0000,5,  -999.00,9,   -999.0,9,  -999.00,9,-999.000,9,   2160.9,2,    739.5,2,  20,   2311.4,2,   7.7350,2,   25,  -999.0, -999.00,-999.0000,-999.000,-999.000
     316N151_3,   A20,    32,  1,     12,     12,2,19970726,1159, 34.1945, -52.3508, 5558,19138.7,   1899.4,   3.8507,  34.9748,2,  34.9761,2,    266.3,2,  3.6950,    265.1,2,    13.12,2,    17.67,2,     0.00,2,     1.17,2,    1.159,2,    0.573,2, -999.000,5, -999.000,5,-999.0000,5,  -999.00,9,   -999.0,9,  -999.00,9,-999.000,9,   2159.0,2,   -999.0,9,-999,   2310.2,2,   7.7380,2,   25,  -999.0, -999.00,-999.0000,-999.000,-999.000
     316N151_3,   A20,    32,  1,     11,     11,2,19970726,1159, 34.1945, -52.3508, 5558,22161.5,   2201.5,   3.6357,  34.9713,2,  34.9740,2,    265.8,2,  3.4541,    264.6,2,    14.96,2,    17.78,2,     0.00,2,     1.18,2,    0.787,2,    0.382,2, -999.000,5, -999.000,5,-999.0000,5,  -999.00,9,   -999.0,9,  -999.00,9,-999.000,9,   2159.6,2,    732.5,2,  20,   2314.2,2,   7.7450,2,   25,  -999.0, -999.00,-999.0000,-999.000,-999.000
     316N151_3,   A20,    32,  1,     10,     10,2,19970726,1159, 34.1945, -52.3508, 5558,25118.7,   2497.0,   3.3662,  34.9683,2,  34.9694,2,    263.1,2,  3.1597,    262.1,2,    18.64,2,    18.18,2,     0.00,2,     1.21,2,    0.364,2,    0.183,2, -999.000,5, -999.000,5,-999.0000,5,  -999.00,9,   -999.0,9,  -999.00,9,-999.000,9,   2162.8,2,   -999.0,9,-999,   2316.2,2,   7.7450,2,   25,  -999.0, -999.00,-999.0000,-999.000,-999.000
     316N151_3,   A20,    32,  1,      9,      9,2,19970726,1159, 34.1945, -52.3508, 5558,28117.0,   2796.7,   3.0983,  34.9548,2,  34.9564,2,    262.8,2,  2.8665,    262.5,2,    21.35,2,    18.43,2,     0.00,2,     1.24,2,    0.243,2,    0.133,2, -999.000,5, -999.000,5,-999.0000,5,  -999.00,9,   -999.0,9,  -999.00,9,-999.000,9,   2165.2,2,    730.1,2,  20,   2319.9,2,   7.7500,2,   25,  -999.0, -999.00,-999.0000,-999.000,-999.000
     316N151_3,   A20,    32,  1,      8,      8,2,19970726,1159, 34.1945, -52.3508, 5558,30891.0,   3074.0,   2.8494,  34.9393,2,  34.9397,2,    264.2,2,  2.5942,    263.8,2,    23.58,2,    18.55,2,     0.00,2,     1.25,2,    0.204,6,    0.114,6, -999.000,5, -999.000,5,-999.0000,5,  -999.00,9,   -999.0,9,  -999.00,9,-999.000,9,   2165.7,2,   -999.0,9,-999,   2320.0,2,   7.7480,2,   25,  -999.0, -999.00,-999.0000,-999.000,-999.000
     316N151_3,   A20,    32,  1,      7,      7,2,19970726,1159, 34.1945, -52.3508, 5558,34139.4,   3398.8,   2.6178,  34.9231,2,  34.9234,2,    266.8,2,  2.3333,    265.6,2,    25.32,2,    18.44,2,     0.00,2,     1.25,2,    0.228,2,    0.126,2, -999.000,5, -999.000,5,-999.0000,5,  -999.00,9,   -999.0,9,  -999.00,9,-999.000,9,   2167.0,2,    728.6,2,  20,   2321.7,2,   7.7480,2,   25,  -999.0, -999.00,-999.0000,-999.000,-999.000
     316N151_3,   A20,    32,  1,      6,      6,2,19970726,1159, 34.1945, -52.3508, 5558,36641.8,   3648.9,   2.4417,  34.9115,2,  34.9109,2,    267.2,2,  2.1345,    268.0,2,    27.45,2,    18.56,2,     0.00,2,     1.26,2,    0.249,2,    0.139,2, -999.000,5, -999.000,5,-999.0000,5,  -999.00,9,   -999.0,9,  -999.00,9,-999.000,9,   2168.5,2,   -999.0,9,-999,   2321.9,2,   7.7450,2,   25,  -999.0, -999.00,-999.0000,-999.000,-999.000
     316N151_3,   A20,    32,  1,      5,      5,2,19970726,1159, 34.1945, -52.3508, 5558,40170.1,   4001.6,   2.3100,  34.8994,2,  34.8987,2,    266.5,2,  1.9669,    267.3,2,    30.78,2,    18.85,2,     0.00,2,     1.28,2,    0.324,2,    0.170,2, -999.000,5, -999.000,5,-999.0000,5,  -999.00,9,   -999.0,9,  -999.00,9,-999.000,9,   2172.9,2,    741.0,2,  20,   2326.1,2,   7.7420,2,   25,  -999.0, -999.00,-999.0000,-999.000,-999.000
     316N151_3,   A20,    32,  1,      4,      4,2,19970726,1159, 34.1945, -52.3508, 5558,45175.4,   4501.8,   2.2298,  34.8855,2,  34.8867,2,    261.9,2,  1.8307,    262.0,2,    36.56,2,    19.71,2,     0.00,2,     1.34,2,    0.267,2,    0.143,2, -999.000,5, -999.000,5,-999.0000,5,  -999.00,9,   -999.0,9,  -999.00,9,-999.000,9,   2180.1,2,   -999.0,9,-999,   2331.5,2,   7.7390,2,   25,  -999.0, -999.00,-999.0000,-999.000,-999.000
     316N151_3,   A20,    32,  1,      3,      3,2,19970726,1159, 34.1945, -52.3508, 5558,50196.1,   5003.7,   2.1813,  34.8732,2,  34.8732,2,    258.2,2,  1.7223,    257.0,2,    43.73,2,    20.84,2,     0.00,2,     1.42,2,    0.155,2,    0.089,2, -999.000,5, -999.000,5,-999.0000,5,  -999.00,9,   -999.0,9,  -999.00,9,-999.000,9,   2191.4,2,    766.5,2,  20,   2337.9,2,   7.7320,2,   25,  -999.0, -999.00,-999.0000,-999.000,-999.000
     316N151_3,   A20,    32,  1,      2,      2,2,19970726,1159, 34.1945, -52.3508, 5558,54694.6,   5453.4,   2.2063,  34.8690,2,  34.8686,2,    256.6,2,  1.6887,    256.5,2,    46.05,2,    21.20,2,     0.00,2,     1.45,2,    0.121,2,    0.075,2, -999.000,5, -999.000,5,-999.0000,5,  -999.00,9,   -999.0,9,  -999.00,9,-999.000,9,   2190.7,2,    770.3,2,  20,   2340.4,6,   7.7290,6,   25,  -999.0, -999.00,-999.0000,-999.000,-999.000
     316N151_3,   A20,    32,  1,      1,      1,2,19970726,1159, 34.1945, -52.3508, 5558,56695.7,   5653.3,   2.2077,  34.8658,2,  34.8644,2,    253.2,2,  1.6637,    254.4,2,    47.92,6,    21.47,6,     0.00,6,     1.47,6,    0.097,2,    0.065,2, -999.000,5, -999.000,5,-999.0000,5,  -999.00,9,   -999.0,9,  -999.00,9,-999.000,9,   2194.2,2,    771.8,2,  20,   2341.6,2,   7.7310,2,   25,  -999.0, -999.00,-999.0000,-999.000,-999.000