BOTTLE,20220812CCHSIOAMB
EXPOCODE,SECT_ID,STNNBR,CASTNO,SAMPNO,BTLNBR,BTLNBR_FLAG_W,DATE,TIME,LATITUDE,LONGITUDE,DEPTH,CTDRAW,CTDPRS,CTDTMP,CTDSAL,CTDSAL_FLAG_W,SALNTY,SALNTY_FLAG_W,CTDOXY,CTDOXY_FLAG_W,THETA,OXYGEN,OXYGEN_FLAG_W,SILCAT,SILCAT_FLAG_W,NITRAT,NITRAT_FLAG_W,NITRIT,NITRIT_FLAG_W,PHSPHT,PHSPHT_FLAG_W,CFC-11,CFC-11_FLAG_W,CFC-12,CFC-12_FLAG_W,CFC113,CFC113_FLAG_W,TRITUM,TRITUM_FLAG_W,HELIUM,HELIUM_FLAG_W,DELHE3,DELHE3_FLAG_W,DELC14,DELC14_FLAG_W,DELC13,DELC13_FLAG_W,NEON,NEON_FLAG_W,TCARBN,TCARBN_FLAG_W,PCO2,PCO2_FLAG_W,PCO2_TMP,ALKALI,ALKALI_FLAG_W,PH,PH_FLAG_W,PH_TMP,C14ERR,DELHER,HELIER,NEONER,TRITER
,,,,,,,,,,,,,DBAR,ITS-90,PSS-78,,PSS-78,,UMOL/KG,,ITS-90,UMOL/KG,,UMOL/KG,,UMOL/KG,,UMOL/KG,,UMOL/KG,,PMOL/KG,,PMOL/KG,,PMOL/KG,,TU,,NMOL/KG,,PERCNT,,/MILLE,,/MILLE,,NMOL/KG,,UMOL/KG,,UATM,,DEG C,UMOL/KG,,,,DEG C,/MILLE,PERCNT,NMOL/KG,NMOL/KG,TU
     316N151_3,   A20,    70,  1,     33,     33,2,19970806,1125,  9.6433, -52.3613, 4892,  223.4,      4.2,  28.3966,  34.9329,2,  34.9064,2,    232.2,2, 28.3956,    207.4,2,     4.09,2,     0.00,2,     0.00,2,     0.09,2,    1.626,2,    0.983,2, -999.000,5, -999.000,5,-999.0000,5,  -999.00,9,   -999.0,9,  -999.00,9,-999.000,9,   1956.7,2,   -999.0,9,-999,   2293.1,2,   8.1030,2,   25,  -999.0, -999.00,-999.0000,-999.000,-999.000
     316N151_3,   A20,    70,  1,     32,     32,2,19970806,1125,  9.6433, -52.3613, 4892,  439.9,     26.0,  27.5414,  36.1763,2,  36.1746,2,    221.4,2, 27.5354,    219.4,2,     1.25,2,     0.00,2,     0.00,2,     0.01,2,    1.689,2,    1.021,2, -999.000,5, -999.000,5,-999.0000,5,  -999.00,9,   -999.0,9,  -999.00,9,-999.000,9,   2001.0,2,   -999.0,9,-999,   2365.9,6,   8.1190,6,   25,  -999.0, -999.00,-999.0000,-999.000,-999.000
     316N151_3,   A20,    70,  1,     31,     31,2,19970806,1125,  9.6433, -52.3613, 4892,  540.9,     36.6,  27.1286,  36.2548,2,  36.2573,2,    217.8,2, 27.1201,    215.7,2,     1.07,2,     0.00,2,     0.00,2,     0.01,2,    1.732,2,    1.036,2, -999.000,5, -999.000,5,-999.0000,5,  -999.00,9,   -999.0,9,  -999.00,9,-999.000,9,   2008.1,2,   -999.0,9,-999,   2374.2,2,   8.1150,2,   25,  -999.0, -999.00,-999.0000,-999.000,-999.000
     316N151_3,   A20,    70,  1,     30,     30,2,19970806,1125,  9.6433, -52.3613, 4892,  804.7,     64.2,  25.9105,  36.3077,2,  36.3117,2,    203.3,2, 25.8961,    208.1,2,     1.07,2,     0.00,2,     0.00,2,     0.02,2,    1.772,2,    1.067,2, -999.000,5, -999.000,5,-999.0000,5,  -999.00,9,   -999.0,9,  -999.00,9,-999.000,9,   2019.6,2,   -999.0,9,-999,   2373.2,2,   8.0970,2,   25,  -999.0, -999.00,-999.0000,-999.000,-999.000
     316N151_3,   A20,    70,  1,     29,     29,2,19970806,1125,  9.6433, -52.3613, 4892, 1155.0,    100.1,  21.5894,  36.7514,2,  36.7531,2,    156.8,2, 21.5698,    148.6,2,     2.13,2,     5.71,2,     0.03,2,     0.35,2,    1.895,6,    1.072,6, -999.000,5, -999.000,5,-999.0000,5,  -999.00,9,   -999.0,9,  -999.00,9,-999.000,9,   2134.9,2,   -999.0,9,-999,   2402.2,2,   7.9460,2,   25,  -999.0, -999.00,-999.0000,-999.000,-999.000
     316N151_3,   A20,    70,  1,     28,     28,2,19970806,1125,  9.6433, -52.3613, 4892, 1397.7,    124.8,  17.7258,  36.2419,2,  36.2562,2,    126.1,2, 17.7044,    116.9,2,     4.60,2,    14.49,2,     0.01,2,     0.86,2, -999.000,9, -999.000,9, -999.000,5, -999.000,5,-999.0000,5,  -999.00,9,   -999.0,9,  -999.00,9,-999.000,9,   2167.1,2,   -999.0,9,-999,   2369.5,2,   7.8300,2,   25,  -999.0, -999.00,-999.0000,-999.000,-999.000
     316N151_3,   A20,    70,  1,     27,     27,2,19970806,1125,  9.6433, -52.3613, 4892, 1640.5,    149.3,  15.3969,  35.9362,2,  35.9464,2,    117.7,2, 15.3737,    115.1,2,     6.41,2,    18.24,2,     0.01,2,     1.10,2,    1.497,2,    0.814,2, -999.000,5, -999.000,5,-999.0000,5,  -999.00,9,   -999.0,9,  -999.00,9,-999.000,9,   2178.0,2,   -999.0,9,-999,   2355.5,2,   7.7750,2,   25,  -999.0, -999.00,-999.0000,-999.000,-999.000
     316N151_3,   A20,    70,  1,     26,     26,2,19970806,1125,  9.6433, -52.3613, 4892, 1895.8,    175.0,  13.2931,  35.5695,2,  35.5705,2,    112.3,2, 13.2686,    110.3,2,     8.79,2,    21.93,2,     0.00,2,     1.38,2, -999.000,9, -999.000,9, -999.000,5, -999.000,5,-999.0000,5,  -999.00,9,   -999.0,9,  -999.00,9,-999.000,9,   2185.8,2,   -999.0,9,-999,   2334.8,2,   7.7230,2,   25,  -999.0, -999.00,-999.0000,-999.000,-999.000
     316N151_3,   A20,    70,  1,     25,     25,2,19970806,1125,  9.6433, -52.3613, 4892, 2147.6,    200.5,  11.9468,  35.3261,2,  35.3221,2,    116.6,2, 11.9206,    117.0,2,    10.41,2,    23.52,2,     0.00,2,     1.50,2,    1.120,2,    0.590,2, -999.000,5, -999.000,5,-999.0000,5,  -999.00,9,   -999.0,9,  -999.00,9,-999.000,9,   2184.4,2,   -999.0,9,-999,   2323.0,2,   7.7030,2,   25,  -999.0, -999.00,-999.0000,-999.000,-999.000
     316N151_3,   A20,    70,  1,     24,     24,2,19970806,1125,  9.6433, -52.3613, 4892, 2667.7,    252.6,  10.6870,  35.1353,2,  35.1344,2,    110.0,2, 10.6563,    111.2,2,    12.31,2,    26.33,2,     0.00,2,     1.69,2,    0.896,2,    0.459,2, -999.000,5, -999.000,5,-999.0000,5,  -999.00,9,   -999.0,9,  -999.00,9,-999.000,9,   2196.8,2,   -999.0,9,-999,   2313.8,2,   7.6570,2,   25,  -999.0, -999.00,-999.0000,-999.000,-999.000
     316N151_3,   A20,    70,  1,     23,     23,2,19970806,1125,  9.6433, -52.3613, 4892, 3145.4,    300.4,   9.6636,  34.9816,2,  34.9818,2,    114.1,2,  9.6293,    114.7,2,    13.93,2,    27.85,2,     0.00,2,     1.80,2,    0.747,2,    0.386,2, -999.000,5, -999.000,5,-999.0000,5,  -999.00,9,   -999.0,9,  -999.00,9,-999.000,9,   2197.6,2,   -999.0,9,-999,   2308.1,2,   7.6310,2,   25,  -999.0, -999.00,-999.0000,-999.000,-999.000
     316N151_3,   A20,    70,  1,     22,     22,2,19970806,1125,  9.6433, -52.3613, 4892, 4154.9,    401.5,   8.4119,  34.8337,2,  34.8299,2,    106.8,2,  8.3696,    109.8,2,    17.36,2,    31.34,2,     0.00,2,     2.01,2,    0.405,2,    0.222,6, -999.000,5, -999.000,5,-999.0000,5,  -999.00,9,   -999.0,9,  -999.00,9,-999.000,9,   2210.1,2,   -999.0,9,-999,   2301.8,2,   7.5880,2,   25,  -999.0, -999.00,-999.0000,-999.000,-999.000
     316N151_3,   A20,    70,  1,     21,     21,2,19970806,1125,  9.6433, -52.3613, 4892, 5157.4,    501.8,   7.4853,  34.7320,2,  34.7316,2,    118.6,2,  7.4356,    117.1,2,    19.83,2,    32.32,2,     0.00,2,     2.10,2,    0.310,2,    0.171,2, -999.000,5, -999.000,5,-999.0000,5,  -999.00,9,   -999.0,9,  -999.00,9,-999.000,9,   2211.6,2,   -999.0,9,-999,   2301.3,2,   7.5790,2,   25,  -999.0, -999.00,-999.0000,-999.000,-999.000
     316N151_3,   A20,    70,  1,     20,     20,2,19970806,1125,  9.6433, -52.3613, 4892, 6164.1,    602.6,   6.9080,  34.7106,2,  34.7131,2,    120.9,2,  6.8507,    115.8,2,    21.83,2,    33.31,2,     0.00,2,     2.18,2,    0.161,2,    0.101,2, -999.000,5, -999.000,5,-999.0000,5,  -999.00,9,   -999.0,9,  -999.00,9,-999.000,9,   2216.9,2,   -999.0,9,-999,   2300.3,2,   7.5650,2,   25,  -999.0, -999.00,-999.0000,-999.000,-999.000
     316N151_3,   A20,    70,  1,     19,     19,2,19970806,1125,  9.6433, -52.3613, 4892, 7636.8,    749.9,   5.6976,  34.6235,2,  34.6262,2,    127.3,2,  5.6323,    129.2,2,    26.67,2,    34.14,2,     0.00,2,     2.28,2,    0.068,2,    0.042,2, -999.000,5, -999.000,5,-999.0000,5,  -999.00,9,   -999.0,9,  -999.00,9,-999.000,9,   2220.4,2,   -999.0,9,-999,   2302.8,2,   7.5580,2,   25,  -999.0, -999.00,-999.0000,-999.000,-999.000
     316N151_3,   A20,    70,  1,     18,     18,2,19970806,1125,  9.6433, -52.3613, 4892, 9131.1,    899.3,   5.1887,  34.6488,2,  34.6527,2,    141.4,2,  5.1129,    140.1,2,    28.58,2,    33.39,2,     0.00,2,     2.25,2,    0.035,2,    0.021,2, -999.000,5, -999.000,5,-999.0000,5,  -999.00,9,   -999.0,9,  -999.00,9,-999.000,9,   2220.8,2,   -999.0,9,-999,   2305.5,2,   7.5740,2,   25,  -999.0, -999.00,-999.0000,-999.000,-999.000
     316N151_3,   A20,    70,  1,     17,     17,2,19970806,1125,  9.6433, -52.3613, 4892,10645.8,   1050.4,   5.0624,  34.7864,2,  34.7888,2,    161.0,2,  4.9735,    160.3,2,    26.11,2,    29.97,2,     0.00,2,     2.02,2,    0.047,2,    0.028,2, -999.000,5, -999.000,5,-999.0000,5,  -999.00,9,   -999.0,9,  -999.00,9,-999.000,9,   2209.5,2,   -999.0,9,-999,   2313.0,2,   7.6150,2,   25,  -999.0, -999.00,-999.0000,-999.000,-999.000
     316N151_3,   A20,    70,  1,     16,     16,2,19970806,1125,  9.6433, -52.3613, 4892,12121.2,   1198.0,   5.0590,  34.9104,2,  34.9122,2,    189.5,2,  4.9562,    184.8,2,    22.05,2,    25.88,2,     0.00,2,     1.74,2, -999.000,9,    0.064,2, -999.000,5, -999.000,5,-999.0000,5,  -999.00,9,   -999.0,9,  -999.00,9,-999.000,9,   2191.7,2,   -999.0,9,-999,   2315.5,2,   7.6620,2,   25,  -999.0, -999.00,-999.0000,-999.000,-999.000
     316N151_3,   A20,    70,  1,     15,     15,2,19970806,1125,  9.6433, -52.3613, 4892,14159.7,   1401.7,   4.7347,  35.0077,2,  35.0087,2,    228.5,2,  4.6156,    227.0,2,    16.28,2,    20.94,2,     0.00,2,     1.39,2, -999.000,9,    0.162,2, -999.000,5, -999.000,5,-999.0000,5,  -999.00,9,   -999.0,9,  -999.00,9,-999.000,9,   2172.8,2,   -999.0,9,-999,   2316.8,2,   7.7220,2,   25,  -999.0, -999.00,-999.0000,-999.000,-999.000
     316N151_3,   A20,    70,  1,     14,     14,2,19970806,1125,  9.6433, -52.3613, 4892,16138.3,   1599.5,   4.2342,  35.0006,2,  35.0010,2,    245.4,2,  4.1020,    247.3,2,    15.05,2,    19.35,2,     0.00,2,     1.28,2,    0.344,2,    0.168,2, -999.000,5, -999.000,5,-999.0000,5,  -999.00,9,   -999.0,9,  -999.00,9,-999.000,9,   2164.4,2,   -999.0,9,-999,   2313.5,2,   7.7370,2,   25,  -999.0, -999.00,-999.0000,-999.000,-999.000
     316N151_3,   A20,    70,  1,     13,     13,2,19970806,1125,  9.6433, -52.3613, 4892,17676.7,   1753.2,   3.9792,  34.9929,2,  34.9952,2,    255.2,2,  3.8358,    255.8,2,    15.15,2,    18.79,2,     0.00,2,     1.24,2, -999.000,9,    0.177,2, -999.000,5, -999.000,5,-999.0000,5,  -999.00,9,   -999.0,9,  -999.00,9,-999.000,9,   2160.9,2,   -999.0,9,-999,   2314.2,2,   7.7450,2,   25,  -999.0, -999.00,-999.0000,-999.000,-999.000
     316N151_3,   A20,    70,  1,     12,     12,2,19970806,1125,  9.6433, -52.3613, 4892,19139.5,   1899.4,   3.7443,  34.9850,2,  34.9887,2,    257.6,2,  3.5901,    258.2,2,    16.01,2,    18.59,2,     0.00,2,     1.24,2, -999.000,9,    0.144,2, -999.000,5, -999.000,5,-999.0000,5,  -999.00,9,   -999.0,9,  -999.00,9,-999.000,9,   2160.7,2,   -999.0,9,-999,   2313.8,2,   7.7470,2,   25,  -999.0, -999.00,-999.0000,-999.000,-999.000
     316N151_3,   A20,    70,  1,     11,     11,2,19970806,1125,  9.6433, -52.3613, 4892,21178.2,   2103.3,   3.4567,  34.9737,2,  34.9769,2,    261.0,2,  3.2873,    259.9,2,    18.20,2,    18.59,2,     0.00,2,     1.25,2,    0.175,2,    0.096,2, -999.000,5, -999.000,5,-999.0000,5,  -999.00,9,   -999.0,9,  -999.00,9,-999.000,9,   2160.6,2,   -999.0,9,-999,   2316.6,2,   7.7540,2,   25,  -999.0, -999.00,-999.0000,-999.000,-999.000
     316N151_3,   A20,    70,  1,     10,     10,2,19970806,1125,  9.6433, -52.3613, 4892,24150.7,   2400.5,   3.1249,  34.9557,2,  34.9566,2,    260.8,2,  2.9325,    260.8,2,    21.24,2,    18.85,2,     0.00,2,     1.26,2,    0.138,2,    0.076,2, -999.000,5, -999.000,5,-999.0000,5,  -999.00,9,   -999.0,9,  -999.00,9,-999.000,9,   2164.3,2,   -999.0,9,-999,   2317.7,2,   7.7480,2,   25,  -999.0, -999.00,-999.0000,-999.000,-999.000
     316N151_3,   A20,    70,  1,      9,      9,2,19970806,1125,  9.6433, -52.3613, 4892,27162.0,   2701.3,   2.8920,  34.9405,2,  34.9420,2,    260.0,2,  2.6741,    259.6,2,    25.22,2,    19.27,2,     0.00,2,     1.30,2,    0.108,2,    0.058,2, -999.000,5, -999.000,5,-999.0000,5,  -999.00,9,   -999.0,9,  -999.00,9,-999.000,9,   2167.0,2,   -999.0,9,-999,   2324.8,2,   7.7520,2,   25,  -999.0, -999.00,-999.0000,-999.000,-999.000
     316N151_3,   A20,    70,  1,      8,      8,2,19970806,1125,  9.6433, -52.3613, 4892,30144.6,   2999.5,   2.7503,  34.9310,2,  34.9326,2,    260.6,2,  2.5051,    260.4,2,    27.12,2,    19.38,2,     0.00,2,     1.30,2,    0.121,2,    0.064,2, -999.000,5, -999.000,5,-999.0000,5,  -999.00,9,   -999.0,9,  -999.00,9,-999.000,9,   2168.7,2,   -999.0,9,-999,   2324.4,2,   7.7480,2,   25,  -999.0, -999.00,-999.0000,-999.000,-999.000
     316N151_3,   A20,    70,  1,      7,      7,2,19970806,1125,  9.6433, -52.3613, 4892,33132.2,   3298.1,   2.5944,  34.9201,2,  34.9199,2,    261.0,2,  2.3213,    261.3,2,    28.65,2,    19.27,2,     0.00,2,     1.31,2,    0.160,2,    0.078,2, -999.000,5, -999.000,5,-999.0000,5,  -999.00,9,   -999.0,9,  -999.00,9,-999.000,9,   2171.3,2,   -999.0,9,-999,   2327.7,2,   7.7500,2,   25,  -999.0, -999.00,-999.0000,-999.000,-999.000
     316N151_3,   A20,    70,  1,      6,      6,2,19970806,1125,  9.6433, -52.3613, 4892,36073.9,   3592.1,   2.4691,  34.9113,2,  34.9112,2,    264.3,2,  2.1674,    265.5,2,    28.18,2,    18.93,2,     0.00,2,     1.28,2,    0.234,6,    0.123,6, -999.000,5, -999.000,5,-999.0000,5,  -999.00,9,   -999.0,9,  -999.00,9,-999.000,9,   2169.5,2,   -999.0,9,-999,   2323.7,2,   7.7480,2,   25,  -999.0, -999.00,-999.0000,-999.000,-999.000
     316N151_3,   A20,    70,  1,      5,      5,2,19970806,1125,  9.6433, -52.3613, 4892,39154.2,   3900.0,   2.3490,  34.9026,2,  34.9010,2,    265.1,2,  2.0164,    265.3,2,    30.65,2,    18.96,2,     0.00,2,     1.30,2,    0.190,2,    0.102,2, -999.000,5, -999.000,5,-999.0000,5,  -999.00,9,   -999.0,9,  -999.00,9,-999.000,9,   2171.1,2,   -999.0,9,-999,   2327.1,2,   7.7490,2,   25,  -999.0, -999.00,-999.0000,-999.000,-999.000
     316N151_3,   A20,    70,  1,      4,      4,2,19970806,1125,  9.6433, -52.3613, 4892,42140.2,   4198.5,   2.2882,  34.8955,2,  34.8968,2,    264.9,2,  1.9230,    263.5,2,    32.83,2,    19.34,2,     0.00,2,     1.32,2,    0.180,2,    0.097,2, -999.000,5, -999.000,5,-999.0000,5,  -999.00,9,   -999.0,9,  -999.00,9,-999.000,9,   2173.8,2,   -999.0,9,-999,   2327.9,2,   7.7470,2,   25,  -999.0, -999.00,-999.0000,-999.000,-999.000
     316N151_3,   A20,    70,  1,      3,      3,2,19970806,1125,  9.6433, -52.3613, 4892,44662.8,   4450.7,   2.2419,  34.8881,2,  34.8883,2,    263.3,2,  1.8485,    261.7,2,    36.44,2,    19.79,2,     0.00,2,     1.36,2,    0.152,2,    0.085,2, -999.000,5, -999.000,5,-999.0000,5,  -999.00,9,   -999.0,9,  -999.00,9,-999.000,9,   2178.7,2,   -999.0,9,-999,   2330.8,2,   7.7430,2,   25,  -999.0, -999.00,-999.0000,-999.000,-999.000
     316N151_3,   A20,    70,  1,      2,      2,2,19970806,1125,  9.6433, -52.3613, 4892,47477.2,   4732.3,   2.0227,  34.8585,2,  34.8585,2,    253.4,2,  1.6025,    250.9,2,    51.87,2,    22.22,2,     0.00,2,     1.52,2,    0.076,2,    0.044,2, -999.000,5, -999.000,5,-999.0000,5,  -999.00,9,   -999.0,9,  -999.00,9,-999.000,9,   2197.3,2,   -999.0,9,-999,   2344.5,2,   7.7250,2,   25,  -999.0, -999.00,-999.0000,-999.000,-999.000
     316N151_3,   A20,    70,  1,      1,      1,2,19970806,1125,  9.6433, -52.3613, 4892,49502.6,   4934.8,   1.7065,  34.8174,2,  34.8161,2,    239.3,2,  1.2723,    240.0,2,    70.37,6,    24.98,6,     0.00,6,     1.71,6,    0.068,4,    0.053,4, -999.000,5, -999.000,5,-999.0000,5,  -999.00,9,   -999.0,9,  -999.00,9,-999.000,9,   2218.4,2,   -999.0,9,-999,   2354.5,2,   7.7060,2,   25,  -999.0, -999.00,-999.0000,-999.000,-999.000