BOTTLE,20220812CCHSIOAMB
EXPOCODE,SECT_ID,STNNBR,CASTNO,SAMPNO,BTLNBR,BTLNBR_FLAG_W,DATE,TIME,LATITUDE,LONGITUDE,DEPTH,CTDRAW,CTDPRS,CTDTMP,CTDSAL,CTDSAL_FLAG_W,SALNTY,SALNTY_FLAG_W,CTDOXY,CTDOXY_FLAG_W,THETA,OXYGEN,OXYGEN_FLAG_W,SILCAT,SILCAT_FLAG_W,NITRAT,NITRAT_FLAG_W,NITRIT,NITRIT_FLAG_W,PHSPHT,PHSPHT_FLAG_W,CFC-11,CFC-11_FLAG_W,CFC-12,CFC-12_FLAG_W,CFC113,CFC113_FLAG_W,TRITUM,TRITUM_FLAG_W,HELIUM,HELIUM_FLAG_W,DELHE3,DELHE3_FLAG_W,DELC14,DELC14_FLAG_W,DELC13,DELC13_FLAG_W,NEON,NEON_FLAG_W,TCARBN,TCARBN_FLAG_W,PCO2,PCO2_FLAG_W,PCO2_TMP,ALKALI,ALKALI_FLAG_W,PH,PH_FLAG_W,PH_TMP,C14ERR,DELHER,HELIER,NEONER,TRITER
,,,,,,,,,,,,,DBAR,ITS-90,PSS-78,,PSS-78,,UMOL/KG,,ITS-90,UMOL/KG,,UMOL/KG,,UMOL/KG,,UMOL/KG,,UMOL/KG,,PMOL/KG,,PMOL/KG,,PMOL/KG,,TU,,NMOL/KG,,PERCNT,,/MILLE,,/MILLE,,NMOL/KG,,UMOL/KG,,UATM,,DEG C,UMOL/KG,,,,DEG C,/MILLE,PERCNT,NMOL/KG,NMOL/KG,TU
     316N151_3,   A20,    74,  1,     33,     33,2,19970807,0704,  8.7880, -52.6555, 4631,  242.8,      6.3,  28.6560,  34.4661,2,  34.4572,2,    212.5,2, 28.6545,    212.6,2,     5.91,2,     0.04,2,     0.00,2,     0.08,2,    1.627,2,    1.001,2, -999.000,5, -999.000,5,   1.7290,2,    -1.85,2,   -999.0,9,  -999.00,9,   6.763,2,   1933.2,2,   -999.0,9,-999,   2268.4,2,   8.1060,2,   25,  -999.0,    0.15,  0.0086,   0.034,-999.000
     316N151_3,   A20,    74,  1,     32,     32,2,19970807,0704,  8.7880, -52.6555, 4631,  671.2,     50.5,  26.6952,  36.2071,2,  36.2103,2,    206.6,2, 26.6837,    205.4,2,     1.46,2,     0.07,2,     0.01,2,     0.06,2,    1.729,2,    1.048,2, -999.000,5, -999.000,5,-999.0000,5,  -999.00,9,   -999.0,9,  -999.00,9,-999.000,9,   2025.3,2,   -999.0,9,-999,   2370.8,6,   8.0900,6,   25,  -999.0, -999.00,-999.0000,-999.000,-999.000
     316N151_3,   A20,    74,  1,     31,     31,2,19970807,0704,  8.7880, -52.6555, 4631, 1157.9,    100.5,  21.8904,  36.6191,2,  36.6169,2,    154.1,2, 21.8704,    151.7,2,     2.17,2,     5.89,2,     0.05,2,     0.36,2,    1.845,2,    1.073,2, -999.000,5, -999.000,5,   1.7404,2,    -0.84,2,   -999.0,9,  -999.00,9,   6.986,2,   2125.5,2,   -999.0,9,-999,   2391.6,2,   7.9510,2,   25,  -999.0,    0.15,  0.0087,   0.035,-999.000
     316N151_3,   A20,    74,  1,     30,     30,2,19970807,0704,  8.7880, -52.6555, 4631, 1656.8,    151.1,  16.3918,  36.0704,2,  36.0801,2,    118.0,2, 16.3673,    117.0,2,     5.64,2,    16.77,2,     0.01,2,     1.00,2,    1.587,2,    0.884,2, -999.000,5, -999.000,5,   1.7655,2,     1.58,2,   -999.0,9,  -999.00,9,   7.226,2,   2173.8,2,   -999.0,9,-999,   2361.8,2,   7.8070,2,   25,  -999.0,    0.15,  0.0088,   0.036,-999.000
     316N151_3,   A20,    74,  1,     29,     29,2,19970807,0704,  8.7880, -52.6555, 4631, 2143.1,    199.9,  12.0528,  35.3413,2,  35.3416,2,    113.9,2, 12.0265,    116.0,2,    10.44,2,    23.51,2,     0.01,2,     1.49,2,    1.131,2,    0.608,2, -999.000,5, -999.000,5,   1.8408,2,     1.02,2,   -999.0,9,  -999.00,9,   7.613,2,   2186.8,2,   -999.0,9,-999,   2323.5,2,   7.7020,2,   25,  -999.0,    0.15,  0.0092,   0.038,-999.000
     316N151_3,   A20,    74,  1,     28,     28,2,19970807,0704,  8.7880, -52.6555, 4631, 2665.4,    252.2,  10.7763,  35.1516,2,  35.1507,2,    111.9,2, 10.7455,    114.1,2,    12.20,2,    25.93,2,     0.00,2,     1.65,2,    0.925,2,    0.487,2, -999.000,5, -999.000,5,   1.7885,2,     1.47,2,   -999.0,9,  -999.00,9,   7.480,2,   2194.8,2,   -999.0,9,-999,   2316.3,2,   7.6630,2,   25,  -999.0,    0.15,  0.0089,   0.037,-999.000
     316N151_3,   A20,    74,  1,     27,     27,2,19970807,0704,  8.7880, -52.6555, 4631, 3156.0,    301.5,  10.1708,  35.0665,2,  35.0655,2,    110.1,2, 10.1352,    112.1,2,    13.19,2,    27.06,2,     0.00,2,     1.73,2,    0.813,2,    0.430,2, -999.000,5, -999.000,5,   1.7935,2,     1.48,2,   -999.0,9,  -999.00,9,   7.497,2,   2196.8,2,   -999.0,9,-999,   2311.2,2,   7.6450,2,   25,  -999.0,    0.15,  0.0090,   0.037,-999.000
     316N151_3,   A20,    74,  1,     26,     26,2,19970807,0704,  8.7880, -52.6555, 4631, 4122.0,    398.2,   8.8603,  34.8997,2,  34.9015,2,    111.4,2,  8.8170,    113.6,2,    16.09,2,    29.67,2,     0.00,2,     1.90,2,    0.561,2,    0.295,2, -999.000,5, -999.000,5,   1.8059,2,     1.56,2,   -999.0,9,  -999.00,9,   7.604,2,   2203.7,2,   -999.0,9,-999,   2307.3,2,   7.6110,2,   25,  -999.0,    0.15,  0.0090,   0.038,-999.000
     316N151_3,   A20,    74,  1,     25,     25,2,19970807,0704,  8.7880, -52.6555, 4631, 5122.4,    498.5,   7.7027,  34.7686,2,  34.7682,2,    115.2,2,  7.6525,    115.4,2,    19.56,2,    32.01,2,     0.00,2,     2.07,2,    0.304,2,    0.178,2, -999.000,5, -999.000,5,   1.8075,2,     0.62,2,   -999.0,9,  -999.00,9,   7.661,2,   2213.9,2,   -999.0,9,-999,   2300.6,2,   7.5790,2,   25,  -999.0,    0.15,  0.0090,   0.038,-999.000
     316N151_3,   A20,    74,  1,     24,     24,2,19970807,0704,  8.7880, -52.6555, 4631, 6122.4,    598.5,   6.7261,  34.6772,2,  34.6782,2,    120.1,2,  6.6699,    120.9,2,    22.36,2,    33.30,2,     0.00,2,     2.19,2,    0.159,2,    0.108,2, -999.000,5,    0.085,2,   1.8068,2,     1.04,2,   -999.0,9,  -999.00,9,   7.735,2,   2219.4,2,   -999.0,9,-999,   2302.8,2,   7.5700,2,   25,  -999.0,    0.15,  0.0090,   0.039,   0.011
     316N151_3,   A20,    74,  1,     23,     23,2,19970807,0704,  8.7880, -52.6555, 4631, 7126.1,    698.9,   6.0841,  34.6401,2,  34.6411,2,    128.4,2,  6.0215,    124.8,2,    25.07,2,    34.04,2,     0.00,2,     2.26,2,    0.096,2,    0.053,2, -999.000,5,    0.081,2,   1.8123,2,     1.23,2,   -999.0,9,  -999.00,9,   7.759,2,   2218.7,2,   -999.0,9,-999,   2300.3,2,   7.5590,2,   25,  -999.0,    0.15,  0.0091,   0.039,   0.014
     316N151_3,   A20,    74,  1,     22,     22,2,19970807,0704,  8.7880, -52.6555, 4631, 8389.9,    825.2,   5.3378,  34.6234,2,  34.6238,2,    134.4,2,  5.2678,    135.7,2,    28.17,2,    33.93,2,     0.00,2,     2.28,2,    0.040,2,    0.025,2, -999.000,5,    0.016,2,   1.8111,2,     1.22,2,   -999.0,9,  -999.00,9,   7.797,2,   2218.7,2,   -999.0,9,-999,   2306.8,2,   7.5670,2,   25,  -999.0,    0.15,  0.0091,   0.039,   0.011
     316N151_3,   A20,    74,  1,     21,     21,2,19970807,0704,  8.7880, -52.6555, 4631, 9917.5,    977.8,   5.1189,  34.7415,2,  34.7423,2,    150.9,2,  5.0363,    148.2,2,    27.25,2,    31.59,2,     0.00,2,     2.12,2,    0.028,2,    0.018,2, -999.000,5,    0.032,2,   1.8082,2,     0.92,2,   -999.0,9,  -999.00,9,   7.811,2,   2215.0,2,   -999.0,9,-999,   2308.4,2,   7.5920,2,   25,  -999.0,    0.15,  0.0090,   0.039,   0.011
     316N151_3,   A20,    74,  1,     20,     20,2,19970807,0704,  8.7880, -52.6555, 4631,11381.7,   1124.1,   5.1612,  34.8816,2,  34.8806,2,    172.9,2,  5.0644,    171.4,2,    23.39,2,    27.78,2,     0.00,2,     1.86,2,    0.059,2,    0.030,2, -999.000,5,    0.060,2,   1.8097,2,     1.28,2,   -999.0,9,  -999.00,9,   7.829,2,   2203.4,2,   -999.0,9,-999,   2316.4,2,   7.6430,2,   25,  -999.0,    0.15,  0.0090,   0.039,   0.011
     316N151_3,   A20,    74,  1,     19,     19,2,19970807,0704,  8.7880, -52.6555, 4631,12881.2,   1273.9,   4.9939,  34.9808,2,  34.9816,2,    210.1,2,  4.8843,    207.2,2,    18.57,2,    23.03,2,     0.00,2,     1.53,2,    0.225,2,    0.121,2, -999.000,5,    0.230,2,-999.0000,5,  -999.00,9,   -999.0,9,  -999.00,9,-999.000,9,   2180.8,2,   -999.0,9,-999,   2316.5,2,   7.7000,2,   25,  -999.0, -999.00,-999.0000,-999.000,   0.012
     316N151_3,   A20,    74,  1,     18,     18,2,19970807,0704,  8.7880, -52.6555, 4631,14366.2,   1422.4,   4.6306,  35.0090,2,  35.0102,2,    231.2,2,  4.5105,    232.3,2,    15.66,2,    20.39,2,     0.00,2,     1.35,2,    0.333,2,    0.187,2, -999.000,5,    0.366,2,   1.8264,2,     4.27,2,   -999.0,9,  -999.00,9,   7.889,2,   2171.8,2,   -999.0,9,-999,   2317.1,2,   7.7270,2,   25,  -999.0,    0.15,  0.0091,   0.039,   0.012
     316N151_3,   A20,    74,  1,     17,     17,2,19970807,0704,  8.7880, -52.6555, 4631,15632.8,   1549.0,   4.3596,  35.0035,2,  35.0039,2,    242.5,2,  4.2306,    242.0,2,    15.32,2,    19.76,2,     0.00,2,     1.31,2,    0.293,2,    0.160,2, -999.000,5,    0.298,2,-999.0000,5,  -999.00,9,   -999.0,9,  -999.00,9,-999.000,9,   2164.9,2,   -999.0,9,-999,   2314.1,2,   7.7330,2,   25,  -999.0, -999.00,-999.0000,-999.000,   0.012
     316N151_3,   A20,    74,  1,     16,     16,2,19970807,0704,  8.7880, -52.6555, 4631,16825.6,   1668.2,   4.1374,  34.9980,2,  34.9987,2,    252.8,2,  3.9999,    250.9,2,    15.17,2,    19.18,2,     0.00,2,     1.27,2,    0.269,2,    0.156,2, -999.000,5, -999.000,5,   1.8312,2,     3.19,2,   -999.0,9,  -999.00,9,   7.962,2,   2164.0,2,   -999.0,9,-999,   2316.3,2,   7.7420,2,   25,  -999.0,    0.15,  0.0092,   0.040,-999.000
     316N151_3,   A20,    74,  1,     15,     15,2,19970807,0704,  8.7880, -52.6555, 4631,18138.6,   1799.4,   3.9320,  34.9927,2,  34.9932,2,    257.7,2,  3.7847,    256.6,2,    15.02,2,    18.64,2,     0.00,2,     1.23,2,    0.338,2,    0.183,2, -999.000,5,    0.325,2,   1.8397,2,     3.37,2,   -999.0,9,  -999.00,9,   7.961,2,   2160.1,2,   -999.0,9,-999,   2312.7,2,   7.7460,2,   25,  -999.0,    0.15,  0.0092,   0.040,   0.012
     316N151_3,   A20,    74,  1,     14,     14,2,19970807,0704,  8.7880, -52.6555, 4631,19392.3,   1924.7,   3.7498,  34.9852,2,  34.9851,2,    259.5,2,  3.5931,    257.1,2,    16.39,2,    18.80,2,     0.00,2,     1.24,2,    0.182,2,    0.122,2, -999.000,5,    0.216,2,   1.8276,2,     2.53,2,   -999.0,9,  -999.00,9,   7.945,2,   2159.7,2,   -999.0,9,-999,   2314.9,2,   7.7450,2,   25,  -999.0,    0.15,  0.0091,   0.040,   0.011
     316N151_3,   A20,    74,  1,     13,     13,2,19970807,0704,  8.7880, -52.6555, 4631,20631.9,   2048.6,   3.5716,  34.9774,2,  34.9793,2,    260.0,2,  3.4059,    259.4,2,    17.39,2,    18.68,2,     0.00,2,     1.24,2,    0.202,2,    0.111,2, -999.000,5,    0.198,2,   1.8416,2,     2.98,2,   -999.0,9,  -999.00,9,   7.998,2,   2160.4,2,   -999.0,9,-999,   2314.9,2,   7.7490,2,   25,  -999.0,    0.15,  0.0092,   0.040,   0.011
     316N151_3,   A20,    74,  1,     12,     12,2,19970807,0704,  8.7880, -52.6555, 4631,22143.1,   2199.7,   3.3551,  34.9676,2,  34.9698,2,    260.6,2,  3.1781,    259.2,2,    19.62,2,    18.87,2,     0.00,2,     1.26,2,    0.121,2,    0.062,2, -999.000,5, -999.000,5,-999.0000,5,  -999.00,9,   -999.0,9,  -999.00,9,-999.000,9,   2162.3,2,   -999.0,9,-999,   2318.6,2,   7.7500,2,   25,  -999.0, -999.00,-999.0000,-999.000,-999.000
     316N151_3,   A20,    74,  1,     11,     11,2,19970807,0704,  8.7880, -52.6555, 4631,24169.9,   2402.3,   3.1287,  34.9557,2,  34.9576,2,    260.8,2,  2.9360,    262.1,2,    21.37,2,    18.83,2,     0.00,2,     1.26,2,    0.125,2,    0.073,2, -999.000,5,    0.116,2,   1.8463,2,     2.51,2,   -999.0,9,  -999.00,9,   8.044,2,   2165.1,2,   -999.0,9,-999,   2318.3,2,   7.7500,2,   25,  -999.0,    0.15,  0.0092,   0.040,   0.011
     316N151_3,   A20,    74,  1,     10,     10,2,19970807,0704,  8.7880, -52.6555, 4631,26155.1,   2600.7,   2.9630,  34.9450,2,  34.9458,2,    261.6,2,  2.7537,    260.4,2,    23.32,2,    18.99,2,     0.00,2,     1.27,2,    0.138,2,    0.074,2, -999.000,5, -999.000,5,-999.0000,5,  -999.00,9,   -999.0,9,  -999.00,9,-999.000,9,   2167.4,2,   -999.0,9,-999,   2322.4,2,   7.7510,2,   25,  -999.0, -999.00,-999.0000,-999.000,-999.000
     316N151_3,   A20,    74,  1,      9,      9,2,19970807,0704,  8.7880, -52.6555, 4631,28161.4,   2801.3,   2.8153,  34.9343,2,  34.9355,2,    261.2,2,  2.5890,    256.0,2,    28.12,2,    19.77,2,     0.00,2,     1.33,2,    0.092,2,    0.054,2, -999.000,5, -999.000,5,-999.0000,5,  -999.00,9,   -999.0,9,  -999.00,9,-999.000,9,   2173.1,2,   -999.0,9,-999,   2325.5,2,   7.7480,2,   25,  -999.0, -999.00,-999.0000,-999.000,-999.000
     316N151_3,   A20,    74,  1,      8,      8,2,19970807,0704,  8.7880, -52.6555, 4631,30156.9,   3000.8,   2.6975,  34.9282,2,  34.9272,2,    261.3,2,  2.4532,    261.2,2,    26.92,2,    19.23,2,     0.00,2,     1.29,2,    0.159,2,    0.087,2, -999.000,5,    0.128,2,   1.8495,2,     2.91,2,   -999.0,9,  -999.00,9,   8.068,2,   2168.5,2,   -999.0,9,-999,   2326.2,2,   7.7490,2,   25,  -999.0,    0.15,  0.0092,   0.040,   0.011
     316N151_3,   A20,    74,  1,      7,      7,2,19970807,0704,  8.7880, -52.6555, 4631,32169.7,   3202.0,   2.5834,  34.9200,2,  34.9200,2,    263.9,2,  2.3207,    261.0,2,    27.06,2,    18.99,2,     0.00,2,     1.28,2,    0.224,2,    0.115,2, -999.000,5, -999.000,5,-999.0000,5,  -999.00,9,   -999.0,9,  -999.00,9,-999.000,9,   2169.6,2,   -999.0,9,-999,   2323.2,2,   7.7500,2,   25,  -999.0, -999.00,-999.0000,-999.000,-999.000
     316N151_3,   A20,    74,  1,      6,      6,2,19970807,0704,  8.7880, -52.6555, 4631,34182.2,   3403.1,   2.4990,  34.9148,2,  34.9139,2,    265.8,2,  2.2171,    266.6,2,    26.91,2,    18.76,2,     0.00,2,     1.27,2,    0.259,2,    0.143,2, -999.000,5, -999.000,5,-999.0000,5,  -999.00,9,   -999.0,9,  -999.00,9,-999.000,9,   2167.2,2,   -999.0,9,-999,   2324.5,2,   7.7470,2,   25,  -999.0, -999.00,-999.0000,-999.000,-999.000
     316N151_3,   A20,    74,  1,      5,      5,2,19970807,0704,  8.7880, -52.6555, 4631,36677.2,   3652.5,   2.3903,  34.9064,2,  34.9050,2,    264.5,2,  2.0841,    265.4,2,    30.00,2,    19.16,2,     0.00,2,     1.29,2,    0.196,2,    0.106,2, -999.000,5, -999.000,5,-999.0000,5,  -999.00,9,   -999.0,9,  -999.00,9,-999.000,9,   2170.9,2,   -999.0,9,-999,   2325.8,2,   7.7440,2,   25,  -999.0, -999.00,-999.0000,-999.000,-999.000
     316N151_3,   A20,    74,  1,      4,      4,2,19970807,0704,  8.7880, -52.6555, 4631,39186.2,   3903.3,   2.3241,  34.9002,2,  34.9009,2,    266.4,2,  1.9917,    271.6,4,    30.32,2,    19.03,2,     0.00,2,     1.29,2,    0.221,2,    0.115,2, -999.000,5,    0.192,2,   1.8667,2,     2.77,2,   -999.0,9,  -999.00,9,   8.109,2,   2172.0,2,   -999.0,9,-999,   2328.3,2,   7.7450,2,   25,  -999.0,    0.15,  0.0093,   0.041,   0.011
     316N151_3,   A20,    74,  1,      3,      3,2,19970807,0704,  8.7880, -52.6555, 4631,41644.1,   4149.1,   2.2837,  34.8961,2,  34.8953,2,    266.1,2,  1.9244,    266.0,2,    31.79,2,    19.15,2,     0.00,2,     1.29,2,    0.235,2,    0.126,2, -999.000,5, -999.000,5,-999.0000,5,  -999.00,9,   -999.0,9,  -999.00,9,-999.000,9,   2174.8,2,   -999.0,9,-999,   2330.3,2,   7.7470,2,   25,  -999.0, -999.00,-999.0000,-999.000,-999.000
     316N151_3,   A20,    74,  1,      2,      2,2,19970807,0704,  8.7880, -52.6555, 4631,44168.8,   4401.4,   2.2455,  34.8887,2,  34.8882,2,    263.9,2,  1.8578,    263.1,2,    34.88,2,    19.62,2,     0.00,2,     1.33,2,    0.204,2,    0.110,2, -999.000,5,    0.193,2,   1.8571,2,     2.59,2,   -999.0,9,  -999.00,9,   8.110,2,   2178.5,2,   -999.0,9,-999,   2330.0,6,   7.7400,6,   25,  -999.0,    0.15,  0.0093,   0.041,   0.011
     316N151_3,   A20,    74,  1,      1,      1,2,19970807,0704,  8.7880, -52.6555, 4631,46963.5,   4680.6,   2.2092,  34.8804,2,  34.8766,2,    259.8,2,  1.7892,    259.9,2,    39.76,6,    20.34,6,     0.00,6,     1.38,6,    0.157,2,    0.084,2, -999.000,5, -999.000,5,-999.0000,5,  -999.00,9,   -999.0,9,  -999.00,9,-999.000,9,   2180.2,2,   -999.0,9,-999,   2337.9,2,   7.7390,2,   25,  -999.0, -999.00,-999.0000,-999.000,-999.000