BOTTLE,20220812CCHSIOAMB
EXPOCODE,SECT_ID,STNNBR,CASTNO,SAMPNO,BTLNBR,BTLNBR_FLAG_W,DATE,TIME,LATITUDE,LONGITUDE,DEPTH,CTDRAW,CTDPRS,CTDTMP,CTDSAL,CTDSAL_FLAG_W,SALNTY,SALNTY_FLAG_W,CTDOXY,CTDOXY_FLAG_W,THETA,OXYGEN,OXYGEN_FLAG_W,SILCAT,SILCAT_FLAG_W,NITRAT,NITRAT_FLAG_W,NITRIT,NITRIT_FLAG_W,PHSPHT,PHSPHT_FLAG_W,CFC-11,CFC-11_FLAG_W,CFC-12,CFC-12_FLAG_W,CFC113,CFC113_FLAG_W,TRITUM,TRITUM_FLAG_W,HELIUM,HELIUM_FLAG_W,DELHE3,DELHE3_FLAG_W,DELC14,DELC14_FLAG_W,DELC13,DELC13_FLAG_W,NEON,NEON_FLAG_W,TCARBN,TCARBN_FLAG_W,PCO2,PCO2_FLAG_W,PCO2_TMP,ALKALI,ALKALI_FLAG_W,PH,PH_FLAG_W,PH_TMP,C14ERR,DELHER,HELIER,NEONER,TRITER
,,,,,,,,,,,,,DBAR,ITS-90,PSS-78,,PSS-78,,UMOL/KG,,ITS-90,UMOL/KG,,UMOL/KG,,UMOL/KG,,UMOL/KG,,UMOL/KG,,PMOL/KG,,PMOL/KG,,PMOL/KG,,TU,,NMOL/KG,,PERCNT,,/MILLE,,/MILLE,,NMOL/KG,,UMOL/KG,,UATM,,DEG C,UMOL/KG,,,,DEG C,/MILLE,PERCNT,NMOL/KG,NMOL/KG,TU
     316N151_3,   A20,    41,  1,     33,     33,2,19970729,0418, 28.1998, -52.3428, 5478,  268.6,     11.9,  27.7080,  37.1453,2,  37.1348,2,    205.6,2, 27.7051,    214.2,2,     0.33,2,     0.02,2,     0.00,2,     0.01,2,    1.735,2,    1.028,2, -999.000,5, -999.000,5,-999.0000,5,  -999.00,9,   -999.0,9,  -999.00,9,-999.000,9,   2067.1,2,   -999.0,9,-999,   2427.8,2,   8.0860,2,   25,  -999.0, -999.00,-999.0000,-999.000,-999.000
     316N151_3,   A20,    41,  1,     32,     32,2,19970729,0418, 28.1998, -52.3428, 5478,  639.6,     49.0,  22.0476,  36.9299,2,  36.9274,2,    242.5,2, 22.0378,    236.9,2,     0.23,2,     0.02,2,     0.00,2,     0.01,2,    2.233,2,    1.282,2, -999.000,5, -999.000,5,-999.0000,5,  -999.00,9,   -999.0,9,  -999.00,9,-999.000,9,   2061.9,2,   -999.0,9,-999,   2415.3,2,   8.0800,2,   25,  -999.0, -999.00,-999.0000,-999.000,-999.000
     316N151_3,   A20,    41,  1,     31,     31,2,19970729,0418, 28.1998, -52.3428, 5478, 1140.2,     98.9,  20.4606,  36.8879,2,  36.8918,2,    215.5,2, 20.4418,    216.4,2,     0.34,2,     0.02,2,     0.00,2,     0.01,2,    2.259,2,    1.289,2, -999.000,5, -999.000,5,-999.0000,5,  -999.00,9,   -999.0,9,  -999.00,9,-999.000,9,   2082.5,2,   -999.0,9,-999,   2408.4,6,   8.0450,6,   25,  -999.0, -999.00,-999.0000,-999.000,-999.000
     316N151_3,   A20,    41,  1,     30,     30,2,19970729,0418, 28.1998, -52.3428, 5478, 1623.4,    147.0,  18.8682,  36.6543,2,  36.6517,2,    201.6,2, 18.8418,    200.1,2,     0.62,2,     2.14,2,     0.02,2,     0.08,2,    2.360,6,    1.333,6, -999.000,5, -999.000,5,-999.0000,5,  -999.00,9,   -999.0,9,  -999.00,9,-999.000,9,   2097.8,2,   -999.0,9,-999,   2398.4,2,   8.0040,2,   25,  -999.0, -999.00,-999.0000,-999.000,-999.000
     316N151_3,   A20,    41,  1,     29,     29,2,19970729,0418, 28.1998, -52.3428, 5478, 2130.4,    197.4,  18.2641,  36.5540,2,  36.5531,2,    201.9,2, 18.2295,    208.6,2,     0.83,2,     2.99,2,     0.01,2,     0.14,2,    2.416,2,    1.357,2, -999.000,5, -999.000,5,-999.0000,5,  -999.00,9,   -999.0,9,  -999.00,9,-999.000,9,   2091.0,2,   -999.0,9,-999,   2386.9,2,   8.0080,2,   25,  -999.0, -999.00,-999.0000,-999.000,-999.000
     316N151_3,   A20,    41,  1,     28,     28,2,19970729,0418, 28.1998, -52.3428, 5478, 2632.1,    247.4,  18.0512,  36.5277,2,  36.5248,2,    208.6,2, 18.0081,    205.4,2,     1.02,2,     3.81,2,     0.00,2,     0.18,2,    2.374,2,    1.335,2, -999.000,5, -999.000,5,-999.0000,5,  -999.00,9,   -999.0,9,  -999.00,9,-999.000,9,   2094.8,2,   -999.0,9,-999,   2389.5,2,   8.0000,2,   25,  -999.0, -999.00,-999.0000,-999.000,-999.000
     316N151_3,   A20,    41,  1,     27,     27,2,19970729,0418, 28.1998, -52.3428, 5478, 3146.7,    298.8,  17.8621,  36.4988,2,  36.4998,2,    207.8,2, 17.8105,    205.0,2,     1.12,2,     4.22,2,     0.00,2,     0.21,2,    2.361,2,    1.310,2, -999.000,5, -999.000,5,-999.0000,5,  -999.00,9,   -999.0,9,  -999.00,9,-999.000,9,   2095.6,2,   -999.0,9,-999,   2383.8,2,   7.9940,2,   25,  -999.0, -999.00,-999.0000,-999.000,-999.000
     316N151_3,   A20,    41,  1,     26,     26,2,19970729,0418, 28.1998, -52.3428, 5478, 3639.1,    348.0,  17.4365,  36.4279,2,  36.4268,2,    205.1,2, 17.3773,    198.7,2,     1.51,2,     5.40,2,     0.00,2,     0.28,2,    2.298,6,    1.272,6, -999.000,5, -999.000,5,-999.0000,5,  -999.00,9,   -999.0,9,  -999.00,9,-999.000,9,   2103.0,2,   -999.0,9,-999,   2383.9,2,   7.9760,2,   25,  -999.0, -999.00,-999.0000,-999.000,-999.000
     316N151_3,   A20,    41,  1,     25,     25,2,19970729,0418, 28.1998, -52.3428, 5478, 4395.5,    423.9,  16.3316,  36.2351,2,  36.2356,2,    188.3,2, 16.2625,    186.2,2,     2.47,2,     8.46,2,     0.00,2,     0.47,2,    2.107,2,    1.142,2, -999.000,5, -999.000,5,-999.0000,5,  -999.00,9,   -999.0,9,  -999.00,9,-999.000,9,   2120.0,2,   -999.0,9,-999,   2370.8,2,   7.9310,2,   25,  -999.0, -999.00,-999.0000,-999.000,-999.000
     316N151_3,   A20,    41,  1,     24,     24,2,19970729,0418, 28.1998, -52.3428, 5478, 5155.5,    500.2,  15.0571,  36.0262,2,  36.0279,2,    190.9,2, 14.9798,    185.9,2,     3.43,2,    10.43,2,     0.00,2,     0.60,2,    2.078,2,    1.120,2, -999.000,5, -999.000,5,-999.0000,5,  -999.00,9,   -999.0,9,  -999.00,9,-999.000,9,   2128.5,2,   -999.0,9,-999,   2359.4,2,   7.9020,2,   25,  -999.0, -999.00,-999.0000,-999.000,-999.000
     316N151_3,   A20,    41,  1,     23,     23,2,19970729,0418, 28.1998, -52.3428, 5478, 6201.7,    605.2,  13.0380,  35.7262,2,  35.7263,2,    179.9,2, 12.9527,    178.7,2,     5.65,2,    14.40,2,     0.00,2,     0.87,2,    1.780,2,    0.941,2, -999.000,5, -999.000,5,-999.0000,5,  -999.00,9,   -999.0,9,  -999.00,9,-999.000,9,   2143.9,2,   -999.0,9,-999,   2343.2,2,   7.8380,2,   25,  -999.0, -999.00,-999.0000,-999.000,-999.000
     316N151_3,   A20,    41,  1,     22,     22,2,19970729,0418, 28.1998, -52.3428, 5478, 7391.6,    724.6,  10.7982,  35.4437,2,  35.4432,2,    169.7,2, 10.7073,    167.9,2,     9.12,2,    18.92,2,     0.00,2,     1.17,2,    1.211,2,    0.636,2, -999.000,5, -999.000,5,-999.0000,5,  -999.00,9,   -999.0,9,  -999.00,9,-999.000,9,   2165.9,2,   -999.0,9,-999,   2331.1,2,   7.7670,2,   25,  -999.0, -999.00,-999.0000,-999.000,-999.000
     316N151_3,   A20,    41,  1,     21,     21,2,19970729,0418, 28.1998, -52.3428, 5478, 8646.8,    850.4,   8.4152,  35.2046,2,  35.1996,2,    160.7,2,  8.3227,    160.9,2,    13.93,2,    23.37,2,     0.00,2,     1.49,2,    0.491,2,    0.254,2, -999.000,5, -999.000,5,-999.0000,5,  -999.00,9,   -999.0,9,  -999.00,9,-999.000,9,   2184.5,2,   -999.0,9,-999,   2326.1,2,   7.7050,2,   25,  -999.0, -999.00,-999.0000,-999.000,-999.000
     316N151_3,   A20,    41,  1,     20,     20,2,19970729,0418, 28.1998, -52.3428, 5478,10158.1,   1001.5,   6.9435,  35.1496,2,  35.1467,2,    180.0,2,  6.8445,    182.8,2,    15.09,2,    22.86,2,     0.00,2,     1.48,2,    0.378,2,    0.194,2, -999.000,5, -999.000,5,-999.0000,5,  -999.00,9,   -999.0,9,  -999.00,9,-999.000,9,   2185.4,2,   -999.0,9,-999,   2323.0,2,   7.7080,2,   25,  -999.0, -999.00,-999.0000,-999.000,-999.000
     316N151_3,   A20,    41,  1,     19,     19,2,19970729,0418, 28.1998, -52.3428, 5478,11664.9,   1152.1,   6.1716,  35.1549,2,  35.1539,2,    201.7,2,  6.0630,    204.4,2,    14.52,2,    21.23,2,     0.00,2,     1.38,2,    0.377,2,    0.197,2, -999.000,5, -999.000,5,-999.0000,5,  -999.00,9,   -999.0,9,  -999.00,9,-999.000,9,   2180.6,2,   -999.0,9,-999,   2325.6,2,   7.7140,2,   25,  -999.0, -999.00,-999.0000,-999.000,-999.000
     316N151_3,   A20,    41,  1,     18,     18,2,19970729,0418, 28.1998, -52.3428, 5478,13172.6,   1302.9,   5.5454,  35.1452,2,  35.1446,2,    219.1,2,  5.4273,    222.5,2,    13.94,2,    19.92,2,     0.00,2,     1.30,2,    0.437,6,    0.227,6, -999.000,5, -999.000,5,-999.0000,5,  -999.00,9,   -999.0,9,  -999.00,9,-999.000,9,   2174.9,2,   -999.0,9,-999,   2323.1,2,   7.7360,2,   25,  -999.0, -999.00,-999.0000,-999.000,-999.000
     316N151_3,   A20,    41,  1,     17,     17,2,19970729,0418, 28.1998, -52.3428, 5478,14425.5,   1428.2,   5.0772,  35.1170,2,  35.1164,2,    229.4,2,  4.9516,    234.0,2,    13.95,2,    19.24,2,     0.00,2,     1.26,2,    0.456,2,    0.238,2, -999.000,5, -999.000,5,-999.0000,5,  -999.00,9,   -999.0,9,  -999.00,9,-999.000,9,   2171.0,2,   -999.0,9,-999,   2324.3,2,   7.7400,2,   25,  -999.0, -999.00,-999.0000,-999.000,-999.000
     316N151_3,   A20,    41,  1,     16,     16,2,19970729,0418, 28.1998, -52.3428, 5478,15177.2,   1503.4,   4.8199,  35.1000,2,  35.0994,2,    236.8,2,  4.6899,    239.9,2,    14.23,2,    19.04,2,     0.00,2,     1.25,2,    0.432,2,    0.230,2, -999.000,5, -999.000,5,-999.0000,5,  -999.00,9,   -999.0,9,  -999.00,9,-999.000,9,   2169.9,2,   -999.0,9,-999,   2320.4,2,   7.7430,2,   25,  -999.0, -999.00,-999.0000,-999.000,-999.000
     316N151_3,   A20,    41,  1,     15,     15,2,19970729,0418, 28.1998, -52.3428, 5478,17167.2,   1702.2,   4.2840,  35.0605,2,  35.0604,2,    246.3,2,  4.1412,    248.0,2,    15.78,2,    18.77,2,     0.00,2,     1.24,2,    0.303,2,    0.164,2, -999.000,5, -999.000,5,-999.0000,5,  -999.00,9,   -999.0,9,  -999.00,9,-999.000,9,   2166.2,2,   -999.0,9,-999,   2324.1,2,   7.7490,2,   25,  -999.0, -999.00,-999.0000,-999.000,-999.000
     316N151_3,   A20,    41,  1,     14,     14,2,19970729,0418, 28.1998, -52.3428, 5478,19169.0,   1902.4,   3.9559,  35.0357,2,  35.0369,2,    250.3,2,  3.7983,    249.0,2,    18.38,2,    19.05,2,     0.00,2,     1.26,2,    0.151,2,    0.088,2, -999.000,5, -999.000,5,-999.0000,5,  -999.00,9,   -999.0,9,  -999.00,9,-999.000,9,   2168.1,2,   -999.0,9,-999,   2322.3,2,   7.7480,2,   25,  -999.0, -999.00,-999.0000,-999.000,-999.000
     316N151_3,   A20,    41,  1,     13,     13,2,19970729,0418, 28.1998, -52.3428, 5478,21186.2,   2104.0,   3.5968,  35.0075,2,  35.0080,2,    249.7,2,  3.4252,    253.6,2,    21.75,2,    19.32,2,     0.00,2,     1.28,2,    0.076,2,    0.044,2, -999.000,5, -999.000,5,-999.0000,5,  -999.00,9,   -999.0,9,  -999.00,9,-999.000,9,   2171.6,2,   -999.0,9,-999,   2330.3,2,   7.7470,2,   25,  -999.0, -999.00,-999.0000,-999.000,-999.000
     316N151_3,   A20,    41,  1,     12,     12,2,19970729,0418, 28.1998, -52.3428, 5478,23676.3,   2352.9,   3.3133,  34.9823,2,  34.9850,2,    253.1,2,  3.1221,    251.3,2,    24.55,2,    19.56,2,     0.00,2,     1.30,2,    0.042,2,    0.031,2, -999.000,5, -999.000,5,-999.0000,5,  -999.00,9,   -999.0,9,  -999.00,9,-999.000,9,   2173.5,2,   -999.0,9,-999,   2327.7,2,   7.7470,2,   25,  -999.0, -999.00,-999.0000,-999.000,-999.000
     316N151_3,   A20,    41,  1,     11,     11,2,19970729,0418, 28.1998, -52.3428, 5478,26149.9,   2600.1,   3.1106,  34.9653,2,  34.9673,2,    251.0,2,  2.8985,    251.2,2,    27.72,2,    19.97,2,     0.00,2,     1.33,2,    0.017,2,    0.014,2, -999.000,5, -999.000,5,-999.0000,5,  -999.00,9,   -999.0,9,  -999.00,9,-999.000,9,   2176.3,2,   -999.0,9,-999,   2332.9,2,   7.7470,2,   25,  -999.0, -999.00,-999.0000,-999.000,-999.000
     316N151_3,   A20,    41,  1,     10,     10,2,19970729,0418, 28.1998, -52.3428, 5478,29163.9,   2901.4,   2.9118,  34.9470,2,-999.0000,5,    251.9,2,  2.6732,    252.1,2,    29.87,2,    20.10,2,     0.00,2,     1.35,2,    0.008,2,    0.007,2, -999.000,5, -999.000,5,-999.0000,5,  -999.00,9,   -999.0,9,  -999.00,9,-999.000,9,   2177.0,2,   -999.0,9,-999,   2331.4,2,   7.7470,2,   25,  -999.0, -999.00,-999.0000,-999.000,-999.000
     316N151_3,   A20,    41,  1,      9,      9,2,19970729,0418, 28.1998, -52.3428, 5478,32172.5,   3202.1,   2.7006,  34.9300,2,  34.9321,2,    256.0,2,  2.4352,    259.3,2,    29.56,2,    19.73,2,     0.00,2,     1.32,2,    0.016,2,    0.009,2, -999.000,5, -999.000,5,-999.0000,5,  -999.00,9,   -999.0,9,  -999.00,9,-999.000,9,   2173.3,2,   -999.0,9,-999,   2335.0,2,   7.7510,2,   25,  -999.0, -999.00,-999.0000,-999.000,-999.000
     316N151_3,   A20,    41,  1,      8,      8,2,19970729,0418, 28.1998, -52.3428, 5478,35184.8,   3503.1,   2.5059,  34.9143,2,  34.9161,2,    260.3,2,  2.2130,    260.8,2,    31.01,2,    19.61,2,     0.00,2,     1.32,2,    0.020,6,    0.014,6, -999.000,5, -999.000,5,-999.0000,5,  -999.00,9,   -999.0,9,  -999.00,9,-999.000,9,   2172.8,2,   -999.0,9,-999,   2328.5,2,   7.7520,2,   25,  -999.0, -999.00,-999.0000,-999.000,-999.000
     316N151_3,   A20,    41,  1,      7,      7,2,19970729,0418, 28.1998, -52.3428, 5478,37600.6,   3744.7,   2.3916,  34.9049,2,  34.9055,2,    260.3,2,  2.0752,    261.5,2,    32.84,2,    19.70,2,     0.00,2,     1.33,2,    0.039,2,    0.020,2, -999.000,5, -999.000,5,-999.0000,5,  -999.00,9,   -999.0,9,  -999.00,9,-999.000,9,   2174.8,2,   -999.0,9,-999,   2331.1,2,   7.7500,2,   25,  -999.0, -999.00,-999.0000,-999.000,-999.000
     316N151_3,   A20,    41,  1,      6,      6,2,19970729,0418, 28.1998, -52.3428, 5478,40174.4,   4001.9,   2.2839,  34.8931,2,  34.8936,2,    260.7,2,  1.9414,    260.6,2,    36.30,2,    20.11,2,     0.00,2,     1.36,2,    0.042,2,    0.025,2, -999.000,5, -999.000,5,-999.0000,5,  -999.00,9,   -999.0,9,  -999.00,9,-999.000,9,   2178.8,2,   -999.0,9,-999,   2331.2,2,   7.7460,2,   25,  -999.0, -999.00,-999.0000,-999.000,-999.000
     316N151_3,   A20,    41,  1,      5,      5,2,19970729,0418, 28.1998, -52.3428, 5478,42666.1,   4251.0,   2.2004,  34.8820,2,  34.8823,2,    257.9,2,  1.8318,    258.2,2,    41.02,2,    20.77,2,     0.00,2,     1.41,2,    0.040,2,    0.024,2, -999.000,5, -999.000,5,-999.0000,5,  -999.00,9,   -999.0,9,  -999.00,9,-999.000,9,   2184.6,2,   -999.0,9,-999,   2337.6,2,   7.7380,2,   25,  -999.0, -999.00,-999.0000,-999.000,-999.000
     316N151_3,   A20,    41,  1,      4,      4,2,19970729,0418, 28.1998, -52.3428, 5478,45173.3,   4501.6,   2.1209,  34.8705,2,  34.8718,2,    254.6,2,  1.7252,    254.6,2,    46.51,2,    21.58,2,     0.00,2,     1.47,2,    0.021,2,    0.017,2, -999.000,5, -999.000,5,-999.0000,5,  -999.00,9,   -999.0,9,  -999.00,9,-999.000,9,   2191.3,2,   -999.0,9,-999,   2340.3,2,   7.7330,2,   25,  -999.0, -999.00,-999.0000,-999.000,-999.000
     316N151_3,   A20,    41,  1,      3,      3,2,19970729,0418, 28.1998, -52.3428, 5478,48173.1,   4801.5,   2.0843,  34.8614,2,  34.8620,2,    252.6,2,  1.6536,    252.4,2,    50.07,2,    22.10,2,     0.00,2,     1.51,2,    0.013,2,    0.012,2, -999.000,5, -999.000,5,-999.0000,5,  -999.00,9,   -999.0,9,  -999.00,9,-999.000,9,   2195.4,2,   -999.0,9,-999,   2343.0,2,   7.7300,2,   25,  -999.0, -999.00,-999.0000,-999.000,-999.000
     316N151_3,   A20,    41,  1,      2,      2,2,19970729,0418, 28.1998, -52.3428, 5478,51174.8,   5101.5,   2.0998,  34.8589,2,  34.8608,2,    251.9,2,  1.6313,    250.4,2,    51.14,2,    22.20,2,     0.00,2,     1.51,2,    0.017,2,    0.013,2, -999.000,5, -999.000,5,-999.0000,5,  -999.00,9,   -999.0,9,  -999.00,9,-999.000,9,   2197.3,2,   -999.0,9,-999,   2350.0,3,   7.7280,6,   25,  -999.0, -999.00,-999.0000,-999.000,-999.000
     316N151_3,   A20,    41,  1,      1,      1,2,19970729,0418, 28.1998, -52.3428, 5478,55088.4,   5492.6,   2.1453,  34.8580,2,  34.8604,2,    249.4,2,  1.6248,    252.1,2,    51.58,6,    22.28,6,     0.00,6,     1.52,6,    0.017,2,    0.013,2, -999.000,5, -999.000,5,-999.0000,5,  -999.00,9,   -999.0,9,  -999.00,9,-999.000,9,   2198.0,2,   -999.0,9,-999,   2344.4,2,   7.7260,2,   25,  -999.0, -999.00,-999.0000,-999.000,-999.000