BOTTLE,20220812CCHSIOAMB
EXPOCODE,SECT_ID,STNNBR,CASTNO,SAMPNO,BTLNBR,BTLNBR_FLAG_W,DATE,TIME,LATITUDE,LONGITUDE,DEPTH,CTDRAW,CTDPRS,CTDTMP,CTDSAL,CTDSAL_FLAG_W,SALNTY,SALNTY_FLAG_W,CTDOXY,CTDOXY_FLAG_W,THETA,OXYGEN,OXYGEN_FLAG_W,SILCAT,SILCAT_FLAG_W,NITRAT,NITRAT_FLAG_W,NITRIT,NITRIT_FLAG_W,PHSPHT,PHSPHT_FLAG_W,CFC-11,CFC-11_FLAG_W,CFC-12,CFC-12_FLAG_W,CFC113,CFC113_FLAG_W,TRITUM,TRITUM_FLAG_W,HELIUM,HELIUM_FLAG_W,DELHE3,DELHE3_FLAG_W,DELC14,DELC14_FLAG_W,DELC13,DELC13_FLAG_W,NEON,NEON_FLAG_W,TCARBN,TCARBN_FLAG_W,PCO2,PCO2_FLAG_W,PCO2_TMP,ALKALI,ALKALI_FLAG_W,PH,PH_FLAG_W,PH_TMP,C14ERR,DELHER,HELIER,NEONER,TRITER
,,,,,,,,,,,,,DBAR,ITS-90,PSS-78,,PSS-78,,UMOL/KG,,ITS-90,UMOL/KG,,UMOL/KG,,UMOL/KG,,UMOL/KG,,UMOL/KG,,PMOL/KG,,PMOL/KG,,PMOL/KG,,TU,,NMOL/KG,,PERCNT,,/MILLE,,/MILLE,,NMOL/KG,,UMOL/KG,,UATM,,DEG C,UMOL/KG,,,,DEG C,/MILLE,PERCNT,NMOL/KG,NMOL/KG,TU
     316N151_3,   A20,    15,  1,     29,     29,2,19970722,0021, 41.5718, -51.9852, 4562,  645.4,     51.1,  12.5222,  34.3505,2,-999.0000,9,    277.9,2, 12.5154,   -999.0,9,  -999.00,9,  -999.00,9,  -999.00,9,  -999.00,9, -999.000,9, -999.000,9, -999.000,5, -999.000,5,-999.0000,5,  -999.00,9,   -999.0,9,  -999.00,9,-999.000,9,   -999.0,9,   -999.0,9,-999,   -999.0,9,-999.0000,9, -999,  -999.0, -999.00,-999.0000,-999.000,-999.000
     316N151_3,   A20,    15,  1,     28,     28,2,19970722,0021, 41.5718, -51.9852, 4562, 1152.2,    101.7,  14.4997,  35.7044,2,-999.0000,9,    189.7,2, 14.4846,   -999.0,9,  -999.00,9,  -999.00,9,  -999.00,9,  -999.00,9, -999.000,9, -999.000,9, -999.000,5, -999.000,5,-999.0000,5,  -999.00,9,   -999.0,9,  -999.00,9,-999.000,9,   -999.0,9,   -999.0,9,-999,   -999.0,9,-999.0000,9, -999,  -999.0, -999.00,-999.0000,-999.000,-999.000
     316N151_3,   A20,    15,  1,     27,     27,2,19970722,0021, 41.5718, -51.9852, 4562, 1643.5,    150.7,  13.8633,  35.6362,2,-999.0000,9,    194.5,2, 13.8415,   -999.0,9,  -999.00,9,  -999.00,9,  -999.00,9,  -999.00,9, -999.000,9, -999.000,9, -999.000,5, -999.000,5,-999.0000,5,  -999.00,9,   -999.0,9,  -999.00,9,-999.000,9,   -999.0,9,   -999.0,9,-999,   -999.0,9,-999.0000,9, -999,  -999.0, -999.00,-999.0000,-999.000,-999.000
     316N151_3,   A20,    15,  1,     26,     26,2,19970722,0021, 41.5718, -51.9852, 4562, 2147.5,    201.0,  13.0169,  35.5073,2,-999.0000,9,    204.2,2, 12.9891,   -999.0,9,  -999.00,9,  -999.00,9,  -999.00,9,  -999.00,9, -999.000,9, -999.000,9, -999.000,5, -999.000,5,-999.0000,5,  -999.00,9,   -999.0,9,  -999.00,9,-999.000,9,   -999.0,9,   -999.0,9,-999,   -999.0,9,-999.0000,9, -999,  -999.0, -999.00,-999.0000,-999.000,-999.000
     316N151_3,   A20,    15,  1,     25,     25,2,19970722,0021, 41.5718, -51.9852, 4562, 2641.9,    250.6,  12.7426,  35.5703,2,-999.0000,9,    165.8,2, 12.7083,   -999.0,9,  -999.00,9,  -999.00,9,  -999.00,9,  -999.00,9, -999.000,9, -999.000,9, -999.000,5, -999.000,5,-999.0000,5,  -999.00,9,   -999.0,9,  -999.00,9,-999.000,9,   -999.0,9,   -999.0,9,-999,   -999.0,9,-999.0000,9, -999,  -999.0, -999.00,-999.0000,-999.000,-999.000
     316N151_3,   A20,    15,  1,     24,     24,2,19970722,0021, 41.5718, -51.9852, 4562, 3125.1,    299.1,  11.7304,  35.4727,2,-999.0000,9,    147.2,2, 11.6916,   -999.0,9,  -999.00,9,  -999.00,9,  -999.00,9,  -999.00,9, -999.000,9, -999.000,9, -999.000,5, -999.000,5,-999.0000,5,  -999.00,9,   -999.0,9,  -999.00,9,-999.000,9,   -999.0,9,   -999.0,9,-999,   -999.0,9,-999.0000,9, -999,  -999.0, -999.00,-999.0000,-999.000,-999.000
     316N151_3,   A20,    15,  1,     23,     23,2,19970722,0021, 41.5718, -51.9852, 4562, 4138.1,    400.5,   9.3169,  35.1743,2,-999.0000,9,    147.8,2,  9.2718,   -999.0,9,  -999.00,9,  -999.00,9,  -999.00,9,  -999.00,9, -999.000,9, -999.000,9, -999.000,5, -999.000,5,-999.0000,5,  -999.00,9,   -999.0,9,  -999.00,9,-999.000,9,   -999.0,9,   -999.0,9,-999,   -999.0,9,-999.0000,9, -999,  -999.0, -999.00,-999.0000,-999.000,-999.000
     316N151_3,   A20,    15,  1,     22,     22,2,19970722,0021, 41.5718, -51.9852, 4562, 5126.5,    499.5,   7.9350,  35.1162,2,-999.0000,9,    163.9,2,  7.8836,   -999.0,9,  -999.00,9,  -999.00,9,  -999.00,9,  -999.00,9, -999.000,9, -999.000,9, -999.000,5, -999.000,5,-999.0000,5,  -999.00,9,   -999.0,9,  -999.00,9,-999.000,9,   -999.0,9,   -999.0,9,-999,   -999.0,9,-999.0000,9, -999,  -999.0, -999.00,-999.0000,-999.000,-999.000
     316N151_3,   A20,    15,  1,     21,     21,2,19970722,0021, 41.5718, -51.9852, 4562, 6128.3,    599.7,   6.5064,  35.0545,2,-999.0000,9,    196.5,2,  6.4508,   -999.0,9,  -999.00,9,  -999.00,9,  -999.00,9,  -999.00,9, -999.000,9, -999.000,9, -999.000,5, -999.000,5,-999.0000,5,  -999.00,9,   -999.0,9,  -999.00,9,-999.000,9,   -999.0,9,   -999.0,9,-999,   -999.0,9,-999.0000,9, -999,  -999.0, -999.00,-999.0000,-999.000,-999.000
     316N151_3,   A20,    15,  1,     20,     20,2,19970722,0021, 41.5718, -51.9852, 4562, 7610.0,    747.8,   5.6075,  35.0639,2,-999.0000,9,    225.3,2,  5.5424,   -999.0,9,  -999.00,9,  -999.00,9,  -999.00,9,  -999.00,9, -999.000,9, -999.000,9, -999.000,5, -999.000,5,-999.0000,5,  -999.00,9,   -999.0,9,  -999.00,9,-999.000,9,   -999.0,9,   -999.0,9,-999,   -999.0,9,-999.0000,9, -999,  -999.0, -999.00,-999.0000,-999.000,-999.000
     316N151_3,   A20,    15,  1,     19,     19,2,19970722,0021, 41.5718, -51.9852, 4562, 9135.0,    900.3,   5.0905,  35.0630,2,-999.0000,9,    237.8,2,  5.0147,   -999.0,9,  -999.00,9,  -999.00,9,  -999.00,9,  -999.00,9, -999.000,9, -999.000,9, -999.000,5, -999.000,5,-999.0000,5,  -999.00,9,   -999.0,9,  -999.00,9,-999.000,9,   -999.0,9,   -999.0,9,-999,   -999.0,9,-999.0000,9, -999,  -999.0, -999.00,-999.0000,-999.000,-999.000
     316N151_3,   A20,    15,  1,     18,     18,2,19970722,0021, 41.5718, -51.9852, 4562,10615.7,   1048.2,   4.6011,  35.0258,2,-999.0000,9,    247.1,2,  4.5156,   -999.0,9,  -999.00,9,  -999.00,9,  -999.00,9,  -999.00,9, -999.000,9, -999.000,9, -999.000,5, -999.000,5,-999.0000,5,  -999.00,9,   -999.0,9,  -999.00,9,-999.000,9,   -999.0,9,   -999.0,9,-999,   -999.0,9,-999.0000,9, -999,  -999.0, -999.00,-999.0000,-999.000,-999.000
     316N151_3,   A20,    15,  1,     17,     17,2,19970722,0021, 41.5718, -51.9852, 4562,12076.9,   1194.3,   4.3657,  35.0152,2,-999.0000,9,    255.3,2,  4.2693,   -999.0,9,  -999.00,9,  -999.00,9,  -999.00,9,  -999.00,9, -999.000,9, -999.000,9, -999.000,5, -999.000,5,-999.0000,5,  -999.00,9,   -999.0,9,  -999.00,9,-999.000,9,   -999.0,9,   -999.0,9,-999,   -999.0,9,-999.0000,9, -999,  -999.0, -999.00,-999.0000,-999.000,-999.000
     316N151_3,   A20,    15,  1,     16,     16,2,19970722,0021, 41.5718, -51.9852, 4562,14124.3,   1398.9,   3.9488,  34.9665,2,-999.0000,9,    265.3,2,  3.8382,   -999.0,9,  -999.00,9,  -999.00,9,  -999.00,9,  -999.00,9, -999.000,9, -999.000,9, -999.000,5, -999.000,5,-999.0000,5,  -999.00,9,   -999.0,9,  -999.00,9,-999.000,9,   -999.0,9,   -999.0,9,-999,   -999.0,9,-999.0000,9, -999,  -999.0, -999.00,-999.0000,-999.000,-999.000
     316N151_3,   A20,    15,  1,     15,     15,2,19970722,0021, 41.5718, -51.9852, 4562,16167.0,   1603.1,   3.7234,  34.9471,2,-999.0000,9,    270.3,2,  3.5971,   -999.0,9,  -999.00,9,  -999.00,9,  -999.00,9,  -999.00,9, -999.000,9, -999.000,9, -999.000,5, -999.000,5,-999.0000,5,  -999.00,9,   -999.0,9,  -999.00,9,-999.000,9,   -999.0,9,   -999.0,9,-999,   -999.0,9,-999.0000,9, -999,  -999.0, -999.00,-999.0000,-999.000,-999.000
     316N151_3,   A20,    15,  1,     14,     14,2,19970722,0021, 41.5718, -51.9852, 4562,18146.8,   1800.9,   3.4402,  34.9140,2,-999.0000,9,    274.2,2,  3.2996,   -999.0,9,  -999.00,9,  -999.00,9,  -999.00,9,  -999.00,9, -999.000,9, -999.000,9, -999.000,5, -999.000,5,-999.0000,5,  -999.00,9,   -999.0,9,  -999.00,9,-999.000,9,   -999.0,9,   -999.0,9,-999,   -999.0,9,-999.0000,9, -999,  -999.0, -999.00,-999.0000,-999.000,-999.000
     316N151_3,   A20,    15,  1,     13,     13,2,19970722,0021, 41.5718, -51.9852, 4562,20145.2,   2000.6,   3.4556,  34.9333,2,-999.0000,9,    272.5,2,  3.2961,   -999.0,9,  -999.00,9,  -999.00,9,  -999.00,9,  -999.00,9, -999.000,9, -999.000,9, -999.000,5, -999.000,5,-999.0000,5,  -999.00,9,   -999.0,9,  -999.00,9,-999.000,9,   -999.0,9,   -999.0,9,-999,   -999.0,9,-999.0000,9, -999,  -999.0, -999.00,-999.0000,-999.000,-999.000
     316N151_3,   A20,    15,  1,     12,     12,2,19970722,0021, 41.5718, -51.9852, 4562,22149.7,   2200.9,   3.3893,  34.9411,2,  34.9457,3,    271.3,2,  3.2117,   -999.0,9,  -999.00,9,  -999.00,9,  -999.00,9,  -999.00,9, -999.000,9, -999.000,9, -999.000,5, -999.000,5,-999.0000,5,  -999.00,9,   -999.0,9,  -999.00,9,-999.000,9,   -999.0,9,   -999.0,9,-999,   -999.0,9,-999.0000,9, -999,  -999.0, -999.00,-999.0000,-999.000,-999.000
     316N151_3,   A20,    15,  1,     11,     11,2,19970722,0021, 41.5718, -51.9852, 4562,24133.0,   2399.1,   3.3150,  34.9457,2,  34.9465,3,    270.6,2,  3.1194,   -999.0,9,  -999.00,9,  -999.00,9,  -999.00,9,  -999.00,9, -999.000,9, -999.000,9, -999.000,5, -999.000,5,-999.0000,5,  -999.00,9,   -999.0,9,  -999.00,9,-999.000,9,   -999.0,9,   -999.0,9,-999,   -999.0,9,-999.0000,9, -999,  -999.0, -999.00,-999.0000,-999.000,-999.000
     316N151_3,   A20,    15,  1,     10,     10,2,19970722,0021, 41.5718, -51.9852, 4562,26166.6,   2602.3,   3.2041,  34.9477,2,-999.0000,9,    269.9,2,  2.9901,   -999.0,9,    18.68,2,    17.25,2,     0.00,2,     1.17,2, -999.000,9, -999.000,9, -999.000,5, -999.000,5,-999.0000,5,  -999.00,9,   -999.0,9,  -999.00,9,-999.000,9,   -999.0,9,   -999.0,9,-999,   -999.0,9,-999.0000,9, -999,  -999.0, -999.00,-999.0000,-999.000,-999.000
     316N151_3,   A20,    15,  1,      9,      9,2,19970722,0021, 41.5718, -51.9852, 4562,28635.0,   2849.0,   3.0108,  34.9388,2,-999.0000,9,    270.6,2,  2.7755,   -999.0,9,    20.44,2,    17.25,2,     0.00,2,     1.17,2, -999.000,9, -999.000,9, -999.000,5, -999.000,5,-999.0000,5,  -999.00,9,   -999.0,9,  -999.00,9,-999.000,9,   -999.0,9,   -999.0,9,-999,   -999.0,9,-999.0000,9, -999,  -999.0, -999.00,-999.0000,-999.000,-999.000
     316N151_3,   A20,    15,  1,      8,      8,2,19970722,0021, 41.5718, -51.9852, 4562,31153.5,   3100.8,   2.7898,  34.9261,2,  34.9096,3,    272.1,2,  2.5332,    273.5,3,    20.85,2,    17.17,2,     0.00,2,     1.16,2,    1.066,2,    0.524,2, -999.000,5, -999.000,5,-999.0000,5,  -999.00,9,   -999.0,9,  -999.00,9,-999.000,9,   -999.0,9,   -999.0,9,-999,   -999.0,9,-999.0000,9, -999,  -999.0, -999.00,-999.0000,-999.000,-999.000
     316N151_3,   A20,    15,  1,      7,      7,2,19970722,0021, 41.5718, -51.9852, 4562,33645.6,   3349.9,   2.5689,  34.9159,2,  34.9006,3,    273.6,2,  2.2910,    277.4,3,    20.49,2,    16.82,2,     0.00,2,     1.15,2,    1.362,2,    0.666,2, -999.000,5, -999.000,5,-999.0000,5,  -999.00,9,   -999.0,9,  -999.00,9,-999.000,9,   -999.0,9,   -999.0,9,-999,   -999.0,9,-999.0000,9, -999,  -999.0, -999.00,-999.0000,-999.000,-999.000
     316N151_3,   A20,    15,  1,      6,      6,2,19970722,0021, 41.5718, -51.9852, 4562,35654.4,   3550.7,   2.4336,  34.9083,2,  34.9096,3,    274.1,2,  2.1373,    276.7,3,    21.97,2,    17.00,2,     0.00,2,     1.16,2,    1.388,6,    0.682,6, -999.000,5, -999.000,5,-999.0000,5,  -999.00,9,   -999.0,9,  -999.00,9,-999.000,9,   -999.0,9,   -999.0,9,-999,   -999.0,9,-999.0000,9, -999,  -999.0, -999.00,-999.0000,-999.000,-999.000
     316N151_3,   A20,    15,  1,      5,      5,2,19970722,0021, 41.5718, -51.9852, 4562,38157.1,   3800.9,   2.3323,  34.9012,2,  34.9006,3,    274.0,2,  2.0112,    270.8,3,    27.96,2,    18.07,2,     0.00,2,     1.23,2,    0.968,2,    0.481,2, -999.000,5, -999.000,5,-999.0000,5,  -999.00,9,   -999.0,9,  -999.00,9,-999.000,9,   -999.0,9,   -999.0,9,-999,   -999.0,9,-999.0000,9, -999,  -999.0, -999.00,-999.0000,-999.000,-999.000
     316N151_3,   A20,    15,  1,      4,      4,2,19970722,0021, 41.5718, -51.9852, 4562,40628.6,   4047.9,   2.2773,  34.8967,2,  34.8960,3,    272.8,2,  1.9297,    272.0,3,    27.99,2,    17.98,2,     0.00,2,     1.23,2,    1.010,2,    0.544,2, -999.000,5, -999.000,5,-999.0000,5,  -999.00,9,   -999.0,9,  -999.00,9,-999.000,9,   -999.0,9,   -999.0,9,-999,   -999.0,9,-999.0000,9, -999,  -999.0, -999.00,-999.0000,-999.000,-999.000
     316N151_3,   A20,    15,  1,      3,      3,2,19970722,0021, 41.5718, -51.9852, 4562,43244.5,   4309.4,   2.2399,  34.8912,2,  34.8911,3,    270.8,2,  1.8633,    272.3,3,    26.96,2,    17.82,2,     0.00,2,     1.22,2,    1.104,2,    0.588,2, -999.000,5, -999.000,5,-999.0000,5,  -999.00,9,   -999.0,9,  -999.00,9,-999.000,9,   -999.0,9,   -999.0,9,-999,   -999.0,9,-999.0000,9, -999,  -999.0, -999.00,-999.0000,-999.000,-999.000
     316N151_3,   A20,    15,  1,      2,      2,2,19970722,0021, 41.5718, -51.9852, 4562,45426.2,   4527.5,   2.2358,  34.8881,2,  34.8892,3,    268.7,2,  1.8334,    270.0,3,    14.95,3,    17.47,2,     0.00,3,     1.17,3,    1.012,6,    0.509,6, -999.000,5, -999.000,5,-999.0000,5,  -999.00,9,   -999.0,9,  -999.00,9,-999.000,9,   -999.0,9,   -999.0,9,-999,   -999.0,9,-999.0000,9, -999,  -999.0, -999.00,-999.0000,-999.000,-999.000
     316N151_3,   A20,    15,  1,      1,      1,2,19970722,0021, 41.5718, -51.9852, 4562,46472.8,   4632.0,   2.2488,  34.8880,2,  34.8898,3,    267.6,2,  1.8334,    268.5,3,    15.08,3,    17.51,6,     0.00,3,     1.17,3,    1.012,2,    0.509,2, -999.000,5, -999.000,5,-999.0000,5,  -999.00,9,   -999.0,9,  -999.00,9,-999.000,9,   -999.0,9,   -999.0,9,-999,   -999.0,9,-999.0000,9, -999,  -999.0, -999.00,-999.0000,-999.000,-999.000