BOTTLE,20220812CCHSIOAMB
EXPOCODE,SECT_ID,STNNBR,CASTNO,SAMPNO,BTLNBR,BTLNBR_FLAG_W,DATE,TIME,LATITUDE,LONGITUDE,DEPTH,CTDRAW,CTDPRS,CTDTMP,CTDSAL,CTDSAL_FLAG_W,SALNTY,SALNTY_FLAG_W,CTDOXY,CTDOXY_FLAG_W,THETA,OXYGEN,OXYGEN_FLAG_W,SILCAT,SILCAT_FLAG_W,NITRAT,NITRAT_FLAG_W,NITRIT,NITRIT_FLAG_W,PHSPHT,PHSPHT_FLAG_W,CFC-11,CFC-11_FLAG_W,CFC-12,CFC-12_FLAG_W,CFC113,CFC113_FLAG_W,TRITUM,TRITUM_FLAG_W,HELIUM,HELIUM_FLAG_W,DELHE3,DELHE3_FLAG_W,DELC14,DELC14_FLAG_W,DELC13,DELC13_FLAG_W,NEON,NEON_FLAG_W,TCARBN,TCARBN_FLAG_W,PCO2,PCO2_FLAG_W,PCO2_TMP,ALKALI,ALKALI_FLAG_W,PH,PH_FLAG_W,PH_TMP,C14ERR,DELHER,HELIER,NEONER,TRITER
,,,,,,,,,,,,,DBAR,ITS-90,PSS-78,,PSS-78,,UMOL/KG,,ITS-90,UMOL/KG,,UMOL/KG,,UMOL/KG,,UMOL/KG,,UMOL/KG,,PMOL/KG,,PMOL/KG,,PMOL/KG,,TU,,NMOL/KG,,PERCNT,,/MILLE,,/MILLE,,NMOL/KG,,UMOL/KG,,UATM,,DEG C,UMOL/KG,,,,DEG C,/MILLE,PERCNT,NMOL/KG,NMOL/KG,TU
     316N151_3,   A20,    40,  1,     33,     33,2,19970728,2101, 28.8758, -52.3472, 5639,  257.2,     11.5,  28.0290,  36.8917,2,  36.8941,2,    213.0,2, 28.0263,    218.3,2,     0.57,2,     0.01,2,     0.00,2,     0.01,2,    1.764,2,    1.044,2, -999.000,5,    1.116,2,   1.7113,2,    -1.06,2,   -999.0,9,  -999.00,9,   6.691,2,   2058.5,2,   -999.0,9,-999,   2408.1,2,   8.0790,2,   25,  -999.0,    0.15,  0.0086,   0.033,   0.013
     316N151_3,   A20,    40,  1,     32,     32,2,19970728,2101, 28.8758, -52.3472, 5639,  639.4,     49.8,  21.0237,  36.7324,2,  36.7299,2,    244.3,2, 21.0141,    245.5,2,     0.58,2,     0.01,2,     0.00,2,     0.01,2,    2.335,6,    1.327,6, -999.000,5, -999.000,5,-999.0000,5,  -999.00,9,   -999.0,9,  -999.00,9,-999.000,9,   -999.0,9,   -999.0,9,-999,   -999.0,9,-999.0000,9, -999,  -999.0, -999.00,-999.0000,-999.000,-999.000
     316N151_3,   A20,    40,  1,     31,     31,2,19970728,2101, 28.8758, -52.3472, 5639, 1142.0,     99.7,  18.9779,  36.6630,2,  36.6623,2,    210.9,2, 18.9600,    219.9,2,     0.77,2,     0.54,2,     0.05,2,     0.02,2,    2.416,2,    1.352,2, -999.000,5,    1.102,2,   1.7298,2,    -1.07,2,   -999.0,9,  -999.00,9,   6.960,2,   -999.0,9,   -999.0,9,-999,   -999.0,9,-999.0000,9, -999,  -999.0,    0.15,  0.0086,   0.035,   0.013
     316N151_3,   A20,    40,  1,     30,     30,2,19970728,2101, 28.8758, -52.3472, 5639, 1637.8,    148.9,  18.3429,  36.5731,2,  36.5723,2,    211.0,2, 18.3168,    215.3,2,     0.97,2,     2.23,2,     0.02,2,     0.10,2,    2.443,2,    1.374,2, -999.000,5,    1.130,2,   1.7293,2,    -0.94,2,   -999.0,9,  -999.00,9,   7.124,2,   -999.0,9,   -999.0,9,-999,   -999.0,9,-999.0000,9, -999,  -999.0,    0.15,  0.0086,   0.036,   0.014
     316N151_3,   A20,    40,  1,     29,     29,2,19970728,2101, 28.8758, -52.3472, 5639, 2140.4,    198.7,  18.1739,  36.5555,2,  36.5565,2,    203.6,2, 18.1392,    215.5,2,     1.07,2,     2.65,2,     0.01,2,     0.13,2,    2.458,2,    1.364,2, -999.000,5,    1.098,2,   1.7407,2,    -1.01,2,   -999.0,9,  -999.00,9,   7.156,2,   -999.0,9,   -999.0,9,-999,   -999.0,9,-999.0000,9, -999,  -999.0,    0.15,  0.0087,   0.036,   0.013
     316N151_3,   A20,    40,  1,     28,     28,2,19970728,2101, 28.8758, -52.3472, 5639, 2634.8,    247.7,  17.9702,  36.5264,2,  36.5262,2,    218.8,2, 17.9272,    216.0,2,     1.18,2,     3.13,2,     0.01,2,     0.16,2,    2.447,6,    1.372,6, -999.000,5,    1.102,2,   1.7314,2,    -0.74,2,   -999.0,9,  -999.00,9,   7.141,2,   -999.0,9,   -999.0,9,-999,   -999.0,9,-999.0000,9, -999,  -999.0,    0.15,  0.0087,   0.036,   0.013
     316N151_3,   A20,    40,  1,     27,     27,2,19970728,2101, 28.8758, -52.3472, 5639, 3356.2,    319.8,  17.7999,  36.5070,2,  36.5060,2,    220.2,2, 17.7447,    217.8,2,     1.38,2,     3.27,2,     0.01,2,     0.17,2,    2.444,2,    1.368,2, -999.000,5,    1.134,2,   1.7043,2,    -0.14,2,   -999.0,9,  -999.00,9,   6.932,2,   -999.0,9,   -999.0,9,-999,   -999.0,9,-999.0000,9, -999,  -999.0,    0.15,  0.0085,   0.035,   0.014
     316N151_3,   A20,    40,  1,     26,     26,2,19970728,2101, 28.8758, -52.3472, 5639, 4150.3,    399.1,  17.0858,  36.3631,2,  36.3669,2,    203.3,2, 17.0187,    196.9,2,     2.16,2,     6.20,2,     0.01,2,     0.34,2,    2.297,2,    1.248,2, -999.000,5,    1.201,2,   1.7408,2,     1.52,2,   -999.0,9,  -999.00,9,   7.077,2,   -999.0,9,   -999.0,9,-999,   -999.0,9,-999.0000,9, -999,  -999.0,    0.15,  0.0087,   0.035,   0.014
     316N151_3,   A20,    40,  1,     25,     25,2,19970728,2101, 28.8758, -52.3472, 5639, 5106.3,    495.0,  15.9026,  36.1697,2,  36.1678,2,    199.5,2, 15.8232,    194.7,2,     3.02,2,     8.32,2,     0.00,2,     0.48,2,    2.274,2,    1.219,2, -999.000,5, -999.000,5,   1.7536,2,     2.19,2,   -999.0,9,  -999.00,9,   7.131,2,   -999.0,9,   -999.0,9,-999,   -999.0,9,-999.0000,9, -999,  -999.0,    0.15,  0.0088,   0.036,-999.000
     316N151_3,   A20,    40,  1,     24,     24,2,19970728,2101, 28.8758, -52.3472, 5639, 6143.0,    599.1,  13.7605,  35.8256,2,  35.8340,2,    186.5,2, 13.6731,    183.3,2,     5.05,2,    12.68,2,     0.00,2,     0.76,2,    2.018,2,    1.063,2, -999.000,5,    1.288,2,   1.7826,2,     2.61,2,   -999.0,9,  -999.00,9,   7.287,2,   -999.0,9,   -999.0,9,-999,   -999.0,9,-999.0000,9, -999,  -999.0,    0.15,  0.0089,   0.036,   0.014
     316N151_3,   A20,    40,  1,     23,     23,2,19970728,2101, 28.8758, -52.3472, 5639, 7607.9,    746.1,  11.3245,  35.5048,2,  35.5033,2,    174.0,2, 11.2280,    170.4,2,     8.52,2,    17.84,2,     0.00,2,     1.11,2,    1.388,2,    0.712,2, -999.000,5,    1.088,2,   1.7863,2,     6.72,2,   -999.0,9,  -999.00,9,   7.437,2,   -999.0,9,   -999.0,9,-999,   -999.0,9,-999.0000,9, -999,  -999.0,    0.15,  0.0089,   0.037,   0.013
     316N151_3,   A20,    40,  1,     22,     22,2,19970728,2101, 28.8758, -52.3472, 5639, 9143.7,    900.1,   8.4910,  35.2324,2,  35.2308,2,    167.7,2,  8.3922,    164.7,2,    13.81,2,    22.75,2,     0.00,2,     1.46,2,    0.538,2,    0.283,2, -999.000,5,    0.582,2,   1.8048,2,     5.54,2,   -999.0,9,  -999.00,9,   7.597,2,   -999.0,9,   -999.0,9,-999,   -999.0,9,-999.0000,9, -999,  -999.0,    0.15,  0.0090,   0.038,   0.012
     316N151_3,   A20,    40,  1,     21,     21,2,19970728,2101, 28.8758, -52.3472, 5639,10632.3,   1048.9,   6.8980,  35.1537,2,  35.1549,2,    184.1,2,  6.7944,    184.3,2,    15.37,2,    22.70,2,     0.00,2,     1.48,2,    0.367,2,    0.165,2, -999.000,5,    0.397,2,   1.8222,2,     4.31,2,   -999.0,9,  -999.00,9,   7.717,2,   -999.0,9,   -999.0,9,-999,   -999.0,9,-999.0000,9, -999,  -999.0,    0.15,  0.0091,   0.039,   0.011
     316N151_3,   A20,    40,  1,     20,     20,3,19970728,2101, 28.8758, -52.3472, 5639,12152.1,   1201.0,   6.1215,  35.1517,2,  35.1535,2,    205.6,2,  6.0085,    205.4,2,    14.79,2,    21.16,2,     0.00,2,     1.38,2, -999.000,9, -999.000,9, -999.000,5,    0.392,2,   1.8178,2,     3.99,2,   -999.0,9,  -999.00,9,   7.753,2,   -999.0,9,   -999.0,9,-999,   -999.0,9,-999.0000,9, -999,  -999.0,    0.15,  0.0091,   0.039,   0.011
     316N151_3,   A20,    40,  1,     19,     19,2,19970728,2101, 28.8758, -52.3472, 5639,13643.7,   1350.1,   5.4641,  35.1297,2,  35.1323,2,    220.4,2,  5.3422,    222.4,2,    14.60,2,    20.11,2,     0.00,2,     1.32,2,    0.380,2,    0.188,2, -999.000,5, -999.000,5,   1.8295,2,     3.82,2,   -999.0,9,  -999.00,9,   7.813,2,   -999.0,9,   -999.0,9,-999,   -999.0,9,-999.0000,9, -999,  -999.0,    0.15,  0.0091,   0.039,-999.000
     316N151_3,   A20,    40,  1,     18,     18,2,19970728,2101, 28.8758, -52.3472, 5639,15123.2,   1497.9,   4.9705,  35.1083,2,  35.1104,2,    235.2,2,  4.8393,    235.7,2,    14.61,2,    19.33,2,     0.00,2,     1.27,2,    0.436,2,    0.209,2, -999.000,5,    0.382,2,   1.8343,2,     3.91,2,   -999.0,9,  -999.00,9,   7.839,2,   -999.0,9,   -999.0,9,-999,   -999.0,9,-999.0000,9, -999,  -999.0,    0.15,  0.0092,   0.039,   0.011
     316N151_3,   A20,    40,  1,     17,     17,2,19970728,2101, 28.8758, -52.3472, 5639,16661.5,   1651.6,   4.5558,  35.0835,2,  35.0832,2,    240.4,2,  4.4144,    241.4,2,    16.06,2,    19.20,2,     0.00,2,     1.28,2,    0.261,2,    0.131,2, -999.000,5,    0.260,2,   1.8274,2,     2.10,2,   -999.0,9,  -999.00,9,   7.892,2,   -999.0,9,   -999.0,9,-999,   -999.0,9,-999.0000,9, -999,  -999.0,    0.15,  0.0091,   0.039,   0.011
     316N151_3,   A20,    40,  1,     16,     16,2,19970728,2101, 28.8758, -52.3472, 5639,18160.9,   1801.6,   4.2554,  35.0625,2,  35.0636,2,    244.7,2,  4.1034,    244.2,2,    17.70,2,    19.27,2,     0.00,2,     1.29,2,    0.167,2,    0.089,2, -999.000,5,    0.187,2,   1.8363,2,     1.70,2,   -999.0,9,  -999.00,9,   7.952,2,   -999.0,9,   -999.0,9,-999,   -999.0,9,-999.0000,9, -999,  -999.0,    0.15,  0.0092,   0.040,   0.013
     316N151_3,   A20,    40,  1,     15,     15,2,19970728,2101, 28.8758, -52.3472, 5639,20153.6,   2000.8,   3.8474,  35.0305,2,  35.0308,2,    248.9,2,  3.6818,    248.1,2,    20.21,2,    19.14,2,     0.00,2,     1.28,2,    0.110,2,    0.061,2, -999.000,5,    0.139,2,   1.8444,2,     2.47,2,   -999.0,9,  -999.00,9,   7.970,2,   -999.0,9,   -999.0,9,-999,   -999.0,9,-999.0000,9, -999,  -999.0,    0.15,  0.0092,   0.040,   0.010
     316N151_3,   A20,    40,  1,     14,     14,2,19970728,2101, 28.8758, -52.3472, 5639,22622.2,   2247.6,   3.4515,  34.9947,2,  34.9953,2,    252.8,2,  3.2682,    251.5,2,    23.39,2,    19.49,2,     0.00,2,     1.31,2,    0.064,6,    0.042,6, -999.000,5, -999.000,5,-999.0000,5,  -999.00,9,   -999.0,9,  -999.00,9,-999.000,9,   -999.0,9,   -999.0,9,-999,   -999.0,9,-999.0000,9, -999,  -999.0, -999.00,-999.0000,-999.000,-999.000
     316N151_3,   A20,    40,  1,     13,     13,2,19970728,2101, 28.8758, -52.3472, 5639,25165.7,   2501.7,   3.2020,  34.9732,2,  34.9745,2,    250.0,2,  2.9981,    250.8,2,    27.15,2,    19.90,2,     0.00,2,     1.34,2, -999.000,9, -999.000,9, -999.000,5,    0.061,2,   1.8670,2,     1.71,2,   -999.0,9,  -999.00,9,   8.043,2,   -999.0,9,   -999.0,9,-999,   -999.0,9,-999.0000,9, -999,  -999.0,    0.15,  0.0093,   0.040,   0.010
     316N151_3,   A20,    40,  1,     12,     12,2,19970728,2101, 28.8758, -52.3472, 5639,28147.5,   2799.8,   2.9980,  34.9550,2,  34.9571,2,    250.2,2,  2.7679,    250.7,2,    30.33,2,    20.28,2,     0.00,2,     1.37,2,    0.011,2,    0.016,2, -999.000,5, -999.000,5,-999.0000,5,  -999.00,9,   -999.0,9,  -999.00,9,-999.000,9,   -999.0,9,   -999.0,9,-999,   -999.0,9,-999.0000,9, -999,  -999.0, -999.00,-999.0000,-999.000,-999.000
     316N151_3,   A20,    40,  1,     11,     11,2,19970728,2101, 28.8758, -52.3472, 5639,31129.1,   3097.9,   2.8200,  34.9382,2,  34.9410,2,    251.1,2,  2.5629,    251.2,2,    33.03,2,    20.48,2,     0.00,2,     1.39,2,    0.013,2,    0.012,2, -999.000,5,    0.032,2,   1.8764,2,     1.27,2,   -999.0,9,  -999.00,9,   8.078,2,   -999.0,9,   -999.0,9,-999,   -999.0,9,-999.0000,9, -999,  -999.0,    0.15,  0.0094,   0.040,   0.010
     316N151_3,   A20,    40,  1,     10,     10,2,19970728,2101, 28.8758, -52.3472, 5639,34145.5,   3399.3,   2.6306,  34.9233,2,  34.9242,2,    257.4,2,  2.3458,    257.4,2,    31.98,2,    19.98,2,     0.00,2,     1.36,2,    0.005,2,    0.013,2, -999.000,5, -999.000,5,-999.0000,5,  -999.00,9,   -999.0,9,  -999.00,9,-999.000,9,   -999.0,9,   -999.0,9,-999,   -999.0,9,-999.0000,9, -999,  -999.0, -999.00,-999.0000,-999.000,-999.000
     316N151_3,   A20,    40,  1,      9,      9,2,19970728,2101, 28.8758, -52.3472, 5639,37155.3,   3700.2,   2.4578,  34.9106,2,  34.9114,2,    260.4,2,  2.1446,    260.8,2,    32.08,2,    19.47,2,     0.00,2,     1.33,2,    0.019,2,    0.019,2, -999.000,5,    0.034,2,   1.9249,2,     0.13,2,   -999.0,9,  -999.00,9,   8.258,2,   -999.0,9,   -999.0,9,-999,   -999.0,9,-999.0000,9, -999,  -999.0,    0.15,  0.0096,   0.041,   0.010
     316N151_3,   A20,    40,  1,      8,      8,2,19970728,2101, 28.8758, -52.3472, 5639,39666.2,   3951.1,   2.3468,  34.9004,2,  34.9006,2,    260.7,2,  2.0084,    261.9,2,    34.78,2,    19.92,2,     0.00,2,     1.36,2,    0.034,2,    0.023,2, -999.000,5, -999.000,5,-999.0000,5,  -999.00,9,   -999.0,9,  -999.00,9,-999.000,9,   -999.0,9,   -999.0,9,-999,   -999.0,9,-999.0000,9, -999,  -999.0, -999.00,-999.0000,-999.000,-999.000
     316N151_3,   A20,    40,  1,      7,      7,2,19970728,2101, 28.8758, -52.3472, 5639,42176.8,   4202.0,   2.2323,  34.8866,2,  34.8871,2,    259.7,2,  1.8684,    259.2,2,    39.11,2,    20.51,2,     0.00,2,     1.40,2,    0.054,2,    0.040,2, -999.000,5,    0.052,2,   1.8805,2,     0.70,2,   -999.0,9,  -999.00,9,   8.141,2,   -999.0,9,   -999.0,9,-999,   -999.0,9,-999.0000,9, -999,  -999.0,    0.15,  0.0094,   0.041,   0.010
     316N151_3,   A20,    40,  1,      6,      6,2,19970728,2101, 28.8758, -52.3472, 5639,44644.0,   4448.7,   2.1672,  34.8766,2,  34.8762,2,    256.8,2,  1.7763,    256.1,2,    44.21,2,    21.27,2,     0.00,2,     1.45,2,    0.025,2,    0.021,2, -999.000,5, -999.000,5,-999.0000,5,  -999.00,9,   -999.0,9,  -999.00,9,-999.000,9,   -999.0,9,   -999.0,9,-999,   -999.0,9,-999.0000,9, -999,  -999.0, -999.00,-999.0000,-999.000,-999.000
     316N151_3,   A20,    40,  1,      5,      5,2,19970728,2101, 28.8758, -52.3472, 5639,47173.0,   4701.5,   2.1179,  34.8675,2,  34.8669,2,    254.2,2,  1.6983,    253.6,2,    47.96,2,    21.77,2,     0.00,2,     1.49,2,    0.022,2,    0.021,2, -999.000,5, -999.000,5,-999.0000,5,  -999.00,9,   -999.0,9,  -999.00,9,-999.000,9,   -999.0,9,   -999.0,9,-999,   -999.0,9,-999.0000,9, -999,  -999.0, -999.00,-999.0000,-999.000,-999.000
     316N151_3,   A20,    40,  1,      4,      4,2,19970728,2101, 28.8758, -52.3472, 5639,49638.6,   4948.0,   2.0971,  34.8607,2,  34.8629,2,    252.8,2,  1.6479,    252.6,2,    50.47,2,    22.16,2,     0.00,2,     1.52,2,    0.017,2,    0.017,2, -999.000,5, -999.000,5,   1.8453,2,     1.42,2,   -999.0,9,  -999.00,9,   7.975,2,   -999.0,9,   -999.0,9,-999,   -999.0,9,-999.0000,9, -999,  -999.0,    0.15,  0.0092,   0.040,-999.000
     316N151_3,   A20,    40,  1,      3,      3,2,19970728,2101, 28.8758, -52.3472, 5639,52175.6,   5201.5,   2.1132,  34.8598,2,  34.8601,2,    252.2,2,  1.6315,    252.6,2,    51.34,2,    22.37,2,     0.00,2,     1.54,2,    0.015,2,    0.011,2, -999.000,5, -999.000,5,-999.0000,5,  -999.00,9,   -999.0,9,  -999.00,9,-999.000,9,   -999.0,9,   -999.0,9,-999,   -999.0,9,-999.0000,9, -999,  -999.0, -999.00,-999.0000,-999.000,-999.000
     316N151_3,   A20,    40,  1,      2,      2,2,19970728,2101, 28.8758, -52.3472, 5639,55139.9,   5497.8,   2.1431,  34.8584,2,  34.8631,2,    252.1,2,  1.6221,    252.7,2,    51.54,2,    22.30,2,     0.00,2,     1.53,2,    0.034,2,    0.021,2, -999.000,5, -999.000,5,-999.0000,5,  -999.00,9,   -999.0,9,  -999.00,9,-999.000,9,   -999.0,9,   -999.0,9,-999,   -999.0,9,-999.0000,9, -999,  -999.0, -999.00,-999.0000,-999.000,-999.000
     316N151_3,   A20,    40,  1,      1,      1,2,19970728,2101, 28.8758, -52.3472, 5639,57185.6,   5703.1,   2.1699,  34.8588,2,  34.8594,2,    250.4,2,  1.6207,    253.1,2,    51.79,6,    22.30,6,     0.00,6,     1.53,6,    0.016,2,    0.016,2, -999.000,5,    0.039,2,   1.9052,2,     1.50,2,   -999.0,9,  -999.00,9,   8.206,2,   -999.0,9,   -999.0,9,-999,   -999.0,9,-999.0000,9, -999,  -999.0,    0.15,  0.0095,   0.041,   0.010