BOTTLE,20220812CCHSIOAMB
EXPOCODE,SECT_ID,STNNBR,CASTNO,SAMPNO,BTLNBR,BTLNBR_FLAG_W,DATE,TIME,LATITUDE,LONGITUDE,DEPTH,CTDRAW,CTDPRS,CTDTMP,CTDSAL,CTDSAL_FLAG_W,SALNTY,SALNTY_FLAG_W,CTDOXY,CTDOXY_FLAG_W,THETA,OXYGEN,OXYGEN_FLAG_W,SILCAT,SILCAT_FLAG_W,NITRAT,NITRAT_FLAG_W,NITRIT,NITRIT_FLAG_W,PHSPHT,PHSPHT_FLAG_W,CFC-11,CFC-11_FLAG_W,CFC-12,CFC-12_FLAG_W,CFC113,CFC113_FLAG_W,TRITUM,TRITUM_FLAG_W,HELIUM,HELIUM_FLAG_W,DELHE3,DELHE3_FLAG_W,DELC14,DELC14_FLAG_W,DELC13,DELC13_FLAG_W,NEON,NEON_FLAG_W,TCARBN,TCARBN_FLAG_W,PCO2,PCO2_FLAG_W,PCO2_TMP,ALKALI,ALKALI_FLAG_W,PH,PH_FLAG_W,PH_TMP,C14ERR,DELHER,HELIER,NEONER,TRITER
,,,,,,,,,,,,,DBAR,ITS-90,PSS-78,,PSS-78,,UMOL/KG,,ITS-90,UMOL/KG,,UMOL/KG,,UMOL/KG,,UMOL/KG,,UMOL/KG,,PMOL/KG,,PMOL/KG,,PMOL/KG,,TU,,NMOL/KG,,PERCNT,,/MILLE,,/MILLE,,NMOL/KG,,UMOL/KG,,UATM,,DEG C,UMOL/KG,,,,DEG C,/MILLE,PERCNT,NMOL/KG,NMOL/KG,TU
     316N151_3,   A20,    11,  1,     25,     25,2,19970721,0118, 42.4042, -51.2953, 2664,  250.0,     11.9,  15.0877,  32.4620,2,  32.4601,2,    269.8,2, 15.0859,    267.8,2,     0.36,2,     0.03,2,     0.00,2,     0.26,2, -999.000,9, -999.000,9, -999.000,5, -999.000,5,-999.0000,5,  -999.00,9,   -999.0,9,  -999.00,9,-999.000,9,   -999.0,9,   -999.0,9,-999,   2191.3,2,   7.8970,2,   25,  -999.0, -999.00,-999.0000,-999.000,-999.000
     316N151_3,   A20,    11,  1,     24,     24,2,19970721,0118, 42.4042, -51.2953, 2664,  251.2,     12.0,  15.0258,  32.4621,2,  32.4622,2,    269.5,2, 15.0241,    268.0,2,     0.36,2,     0.07,2,     0.00,2,     0.25,2,    3.604,2,    1.948,2, -999.000,5, -999.000,5,-999.0000,5,  -999.00,9,   -999.0,9,  -999.00,9,-999.000,9,   1996.2,2,   -999.0,9,-999,   -999.0,9,-999.0000,9, -999,  -999.0, -999.00,-999.0000,-999.000,-999.000
     316N151_3,   A20,    11,  1,     23,     23,2,19970721,0118, 42.4042, -51.2953, 2664,  673.8,     53.7,  10.9688,  34.9017,2,  34.7073,2,    229.4,2, 10.9623,    259.2,2,     2.29,2,     4.71,2,     0.14,2,     0.51,2,    4.152,2,    2.130,2, -999.000,5, -999.000,5,-999.0000,5,  -999.00,9,   -999.0,9,  -999.00,9,-999.000,9,   -999.0,9,   -999.0,9,-999,   -999.0,9,-999.0000,9, -999,  -999.0, -999.00,-999.0000,-999.000,-999.000
     316N151_3,   A20,    11,  1,     22,     22,2,19970721,0118, 42.4042, -51.2953, 2664, 1146.8,    101.5,  12.7868,  35.4882,2,  35.4853,2,    181.1,2, 12.7730,    200.6,2,     4.78,2,    11.37,2,     0.01,2,     0.74,2,    2.470,2,    1.348,2, -999.000,5, -999.000,5,-999.0000,5,  -999.00,9,   -999.0,9,  -999.00,9,-999.000,9,   -999.0,9,   -999.0,9,-999,   -999.0,9,-999.0000,9, -999,  -999.0, -999.00,-999.0000,-999.000,-999.000
     316N151_3,   A20,    11,  1,     21,     21,2,19970721,0118, 42.4042, -51.2953, 2664, 1640.8,    151.3,   9.0742,  34.9405,2,  34.9341,2,    171.6,2,  9.0578,    196.6,2,     8.34,2,    15.94,2,     0.01,2,     1.09,2,    2.751,2,    1.447,2, -999.000,5, -999.000,5,-999.0000,5,  -999.00,9,   -999.0,9,  -999.00,9,-999.000,9,   -999.0,9,   -999.0,9,-999,   -999.0,9,-999.0000,9, -999,  -999.0, -999.00,-999.0000,-999.000,-999.000
     316N151_3,   A20,    11,  1,     20,     20,2,19970721,0118, 42.4042, -51.2953, 2664, 2356.5,    222.9,   5.9103,  34.5447,2,  34.5443,2,    241.2,2,  5.8914,    228.2,2,     9.87,2,    16.20,2,     0.01,2,     1.16,2,    3.706,2,    1.862,2, -999.000,5, -999.000,5,-999.0000,5,  -999.00,9,   -999.0,9,  -999.00,9,-999.000,9,   -999.0,9,   -999.0,9,-999,   -999.0,9,-999.0000,9, -999,  -999.0, -999.00,-999.0000,-999.000,-999.000
     316N151_3,   A20,    11,  1,     19,     19,2,19970721,0118, 42.4042, -51.2953, 2664, 2876.9,    274.8,   6.1000,  34.7016,2,  34.6994,2,    226.9,2,  6.0761,    208.3,2,    12.09,2,    18.84,2,     0.01,2,     1.30,2,    2.915,2,    1.505,2, -999.000,5, -999.000,5,-999.0000,5,  -999.00,9,   -999.0,9,  -999.00,9,-999.000,9,   -999.0,9,   -999.0,9,-999,   -999.0,9,-999.0000,9, -999,  -999.0, -999.00,-999.0000,-999.000,-999.000
     316N151_3,   A20,    11,  1,     18,     18,2,19970721,0118, 42.4042, -51.2953, 2664, 3643.8,    351.4,   6.0527,  34.8814,2,  34.8825,2,    196.7,2,  6.0221,    204.0,2,    13.14,2,    20.38,2,     0.01,2,     1.37,2,    2.164,2,    1.097,2, -999.000,5, -999.000,5,-999.0000,5,  -999.00,9,   -999.0,9,  -999.00,9,-999.000,9,   -999.0,9,   -999.0,9,-999,   -999.0,9,-999.0000,9, -999,  -999.0, -999.00,-999.0000,-999.000,-999.000
     316N151_3,   A20,    11,  1,     17,     17,2,19970721,0118, 42.4042, -51.2953, 2664, 4123.2,    399.4,   5.2200,  34.8383,2,  34.8383,2,    225.6,2,  5.1877,    225.4,2,    12.47,2,    19.13,2,     0.00,2,     1.29,2, -999.000,9, -999.000,9, -999.000,5, -999.000,5,-999.0000,5,  -999.00,9,   -999.0,9,  -999.00,9,-999.000,9,   -999.0,9,   -999.0,9,-999,   -999.0,9,-999.0000,9, -999,  -999.0, -999.00,-999.0000,-999.000,-999.000
     316N151_3,   A20,    11,  1,     16,     16,2,19970721,0118, 42.4042, -51.2953, 2664, 5170.5,    504.2,   5.0393,  34.9512,2,  34.9502,2,    235.3,2,  4.9985,    241.7,2,    11.88,2,    18.58,2,     0.00,2,     1.24,2,    2.484,2,    1.249,2, -999.000,5, -999.000,5,-999.0000,5,  -999.00,9,   -999.0,9,  -999.00,9,-999.000,9,   -999.0,9,   -999.0,9,-999,   -999.0,9,-999.0000,9, -999,  -999.0, -999.00,-999.0000,-999.000,-999.000
     316N151_3,   A20,    11,  1,     15,     15,2,19970721,0118, 42.4042, -51.2953, 2664, 6138.5,    600.9,   4.6150,  34.9367,2,  34.9355,2,    254.5,2,  4.5680,    250.4,2,    11.50,2,    18.16,2,     0.00,2,     1.21,2,    2.800,2,    1.362,2, -999.000,5, -999.000,5,-999.0000,5,  -999.00,9,   -999.0,9,  -999.00,9,-999.000,9,   -999.0,9,   -999.0,9,-999,   -999.0,9,-999.0000,9, -999,  -999.0, -999.00,-999.0000,-999.000,-999.000
     316N151_3,   A20,    11,  1,     14,     14,2,19970721,0118, 42.4042, -51.2953, 2664, 7090.7,    696.1,   4.3859,  34.9360,2,  34.9375,2,    252.1,2,  4.3324,    255.6,2,    11.31,2,    18.00,2,     0.00,2,     1.20,2, -999.000,9, -999.000,9, -999.000,5, -999.000,5,-999.0000,5,  -999.00,9,   -999.0,9,  -999.00,9,-999.000,9,   -999.0,9,   -999.0,9,-999,   -999.0,9,-999.0000,9, -999,  -999.0, -999.00,-999.0000,-999.000,-999.000
     316N151_3,   A20,    11,  1,     13,     13,2,19970721,0118, 42.4042, -51.2953, 2664, 8165.0,    803.4,   4.2507,  34.9479,2,  34.9475,2,    258.4,2,  4.1889,    259.4,2,    11.39,2,    17.92,2,     0.00,2,     1.19,2,    2.609,2,    1.285,2, -999.000,5, -999.000,5,-999.0000,5,  -999.00,9,   -999.0,9,  -999.00,9,-999.000,9,   -999.0,9,   -999.0,9,-999,   -999.0,9,-999.0000,9, -999,  -999.0, -999.00,-999.0000,-999.000,-999.000
     316N151_3,   A20,    11,  1,     12,     12,2,19970721,0118, 42.4042, -51.2953, 2664, 9124.1,    899.3,   4.1723,  34.9534,2,  34.9526,2,    259.2,2,  4.1030,    260.7,2,    11.49,2,    17.83,2,     0.00,2,     1.19,2, -999.000,9, -999.000,9, -999.000,5, -999.000,5,-999.0000,5,  -999.00,9,   -999.0,9,  -999.00,9,-999.000,9,   -999.0,9,   -999.0,9,-999,   -999.0,9,-999.0000,9, -999,  -999.0, -999.00,-999.0000,-999.000,-999.000
     316N151_3,   A20,    11,  1,     11,     11,2,19970721,0118, 42.4042, -51.2953, 2664,10117.4,    998.6,   4.0486,  34.9486,2,  34.9475,2,    266.0,2,  3.9719,    263.9,2,    11.49,2,    17.71,2,     0.00,2,     1.18,2,    2.328,2,    1.140,2, -999.000,5, -999.000,5,-999.0000,5,  -999.00,9,   -999.0,9,  -999.00,9,-999.000,9,   -999.0,9,   -999.0,9,-999,   -999.0,9,-999.0000,9, -999,  -999.0, -999.00,-999.0000,-999.000,-999.000
     316N151_3,   A20,    11,  1,     10,     10,2,19970721,0118, 42.4042, -51.2953, 2664,11625.7,   1149.4,   3.8841,  34.9439,2,  34.9449,2,    270.1,2,  3.7961,    267.1,2,    11.68,2,    17.62,2,     0.00,2,     1.18,2, -999.000,9, -999.000,9, -999.000,5, -999.000,5,-999.0000,5,  -999.00,9,   -999.0,9,  -999.00,9,-999.000,9,   -999.0,9,   -999.0,9,-999,   -999.0,9,-999.0000,9, -999,  -999.0, -999.00,-999.0000,-999.000,-999.000
     316N151_3,   A20,    11,  1,      9,      9,2,19970721,0118, 42.4042, -51.2953, 2664,13156.6,   1302.4,   3.7540,  34.9373,2,  34.9376,2,    270.9,2,  3.6540,    270.1,2,    11.87,2,    17.50,2,     0.00,2,     1.17,2,    1.969,2,    0.975,2, -999.000,5, -999.000,5,-999.0000,5,  -999.00,9,   -999.0,9,  -999.00,9,-999.000,9,   -999.0,9,   -999.0,9,-999,   -999.0,9,-999.0000,9, -999,  -999.0, -999.00,-999.0000,-999.000,-999.000
     316N151_3,   A20,    11,  1,      8,      8,2,19970721,0118, 42.4042, -51.2953, 2664,14611.1,   1447.7,   3.6067,  34.9234,2,  34.9231,2,    274.0,2,  3.4958,    273.8,2,    11.77,2,    17.37,2,     0.00,2,     1.16,2,    2.143,2,    1.103,2, -999.000,5, -999.000,5,-999.0000,5,  -999.00,9,   -999.0,9,  -999.00,9,-999.000,9,   -999.0,9,   -999.0,9,-999,   -999.0,9,-999.0000,9, -999,  -999.0, -999.00,-999.0000,-999.000,-999.000
     316N151_3,   A20,    11,  1,      7,      7,2,19970721,0118, 42.4042, -51.2953, 2664,16140.5,   1600.6,   3.4874,  34.9177,2,  34.9181,2,    276.5,2,  3.3643,    276.0,2,    12.06,2,    17.29,2,     0.00,2,     1.16,2,    2.096,2,    1.106,2, -999.000,5, -999.000,5,-999.0000,5,  -999.00,9,   -999.0,9,  -999.00,9,-999.000,9,   -999.0,9,   -999.0,9,-999,   -999.0,9,-999.0000,9, -999,  -999.0, -999.00,-999.0000,-999.000,-999.000
     316N151_3,   A20,    11,  1,      6,      6,2,19970721,0118, 42.4042, -51.2953, 2664,17653.2,   1751.8,   3.4340,  34.9219,2,  34.9222,2,    275.9,2,  3.2979,    275.3,2,    12.54,2,    17.37,2,     0.00,2,     1.16,2,    1.854,6,    0.925,6, -999.000,5, -999.000,5,-999.0000,5,  -999.00,9,   -999.0,9,  -999.00,9,-999.000,9,   -999.0,9,   -999.0,9,-999,   -999.0,9,-999.0000,9, -999,  -999.0, -999.00,-999.0000,-999.000,-999.000
     316N151_3,   A20,    11,  1,      5,      5,2,19970721,0118, 42.4042, -51.2953, 2664,19169.6,   1903.4,   3.3420,  34.9196,2,  34.9187,2,    275.7,2,  3.1934,    276.6,2,    12.82,2,    17.29,2,     0.00,2,     1.16,2,    1.810,2,    0.896,2, -999.000,5, -999.000,5,-999.0000,5,  -999.00,9,   -999.0,9,  -999.00,9,-999.000,9,   -999.0,9,   -999.0,9,-999,   -999.0,9,-999.0000,9, -999,  -999.0, -999.00,-999.0000,-999.000,-999.000
     316N151_3,   A20,    11,  1,      4,      4,2,19970721,0118, 42.4042, -51.2953, 2664,21166.8,   2103.1,   3.1874,  34.9110,2,  34.9160,2,    277.6,2,  3.0226,    277.6,2,    13.20,2,    17.08,2,     0.00,2,     1.15,2,    1.825,2,    0.871,2, -999.000,5, -999.000,5,-999.0000,5,  -999.00,9,   -999.0,9,  -999.00,9,-999.000,9,   -999.0,9,   -999.0,9,-999,   -999.0,9,-999.0000,9, -999,  -999.0, -999.00,-999.0000,-999.000,-999.000
     316N151_3,   A20,    11,  1,      3,      3,2,19970721,0118, 42.4042, -51.2953, 2664,23154.7,   2301.9,   3.0673,  34.9082,2,  34.9068,2,    277.3,2,  2.8855,    279.6,2,    12.91,2,    16.70,2,     0.00,2,     1.13,2,    2.044,2,    0.951,2, -999.000,5, -999.000,5,-999.0000,5,  -999.00,9,   -999.0,9,  -999.00,9,-999.000,9,   -999.0,9,   -999.0,9,-999,   -999.0,9,-999.0000,9, -999,  -999.0, -999.00,-999.0000,-999.000,-999.000
     316N151_3,   A20,    11,  1,      2,      2,2,19970721,0118, 42.4042, -51.2953, 2664,25145.8,   2501.0,   2.9930,  34.9175,2,  34.9172,2,    275.8,2,  2.7932,    277.3,2,    13.96,2,    16.78,2,     0.00,2,     1.13,2,    1.661,6,    0.789,6, -999.000,5, -999.000,5,-999.0000,5,  -999.00,9,   -999.0,9,  -999.00,9,-999.000,9,   -999.0,9,   -999.0,9,-999,   -999.0,9,-999.0000,9, -999,  -999.0, -999.00,-999.0000,-999.000,-999.000
     316N151_3,   A20,    11,  1,      1,      1,2,19970721,0118, 42.4042, -51.2953, 2664,26985.7,   2684.9,   2.8106,  34.9203,2,  34.9175,2,    276.3,2,  2.5961,    275.4,2,    15.53,6,    16.70,6,     0.00,6,     1.14,6,    1.449,2,    0.721,2, -999.000,5, -999.000,5,-999.0000,5,  -999.00,9,   -999.0,9,  -999.00,9,-999.000,9,   -999.0,9,   -999.0,9,-999,   -999.0,9,-999.0000,9, -999,  -999.0, -999.00,-999.0000,-999.000,-999.000