BOTTLE,20220812CCHSIOAMB
EXPOCODE,SECT_ID,STNNBR,CASTNO,SAMPNO,BTLNBR,BTLNBR_FLAG_W,DATE,TIME,LATITUDE,LONGITUDE,DEPTH,CTDRAW,CTDPRS,CTDTMP,CTDSAL,CTDSAL_FLAG_W,SALNTY,SALNTY_FLAG_W,CTDOXY,CTDOXY_FLAG_W,THETA,OXYGEN,OXYGEN_FLAG_W,SILCAT,SILCAT_FLAG_W,NITRAT,NITRAT_FLAG_W,NITRIT,NITRIT_FLAG_W,PHSPHT,PHSPHT_FLAG_W,CFC-11,CFC-11_FLAG_W,CFC-12,CFC-12_FLAG_W,CFC113,CFC113_FLAG_W,TRITUM,TRITUM_FLAG_W,HELIUM,HELIUM_FLAG_W,DELHE3,DELHE3_FLAG_W,DELC14,DELC14_FLAG_W,DELC13,DELC13_FLAG_W,NEON,NEON_FLAG_W,TCARBN,TCARBN_FLAG_W,PCO2,PCO2_FLAG_W,PCO2_TMP,ALKALI,ALKALI_FLAG_W,PH,PH_FLAG_W,PH_TMP,C14ERR,DELHER,HELIER,NEONER,TRITER
,,,,,,,,,,,,,DBAR,ITS-90,PSS-78,,PSS-78,,UMOL/KG,,ITS-90,UMOL/KG,,UMOL/KG,,UMOL/KG,,UMOL/KG,,UMOL/KG,,PMOL/KG,,PMOL/KG,,PMOL/KG,,TU,,NMOL/KG,,PERCNT,,/MILLE,,/MILLE,,NMOL/KG,,UMOL/KG,,UATM,,DEG C,UMOL/KG,,,,DEG C,/MILLE,PERCNT,NMOL/KG,NMOL/KG,TU
     316N151_3,   A20,    46,  1,     33,     33,2,19970730,1614, 24.8530, -52.3400, 5127,  244.8,      9.1,  27.5598,  37.5749,2,  37.5758,2,    207.4,2, 27.5577,    209.5,2,     0.37,2,     0.04,2,     0.00,2,     0.01,2,    1.709,2,    1.018,2, -999.000,5, -999.000,5,   1.6915,2,    -1.23,2,   -999.0,9,  -999.00,9,   6.662,2,   2075.7,2,    281.3,2,  20,   2452.1,2,   8.1090,2,   25,  -999.0,    0.15,  0.0085,   0.033,-999.000
     316N151_3,   A20,    46,  1,     32,     32,2,19970730,1614, 24.8530, -52.3400, 5127,  668.4,     51.7,  24.5640,  37.2975,2,  37.2962,2,    233.0,2, 24.5528,    226.6,2,     0.48,2,     0.04,2,     0.00,2,     0.01,2,    2.008,2,    1.161,2, -999.000,5, -999.000,5,-999.0000,5,  -999.00,9,   -999.0,9,  -999.00,9,-999.000,9,   -999.0,9,   -999.0,9,-999,   -999.0,9,-999.0000,9, -999,  -999.0, -999.00,-999.0000,-999.000,-999.000
     316N151_3,   A20,    46,  1,     31,     31,2,19970730,1614, 24.8530, -52.3400, 5127, 1173.9,    102.4,  22.4121,  37.2379,2,  37.2381,2,    221.3,2, 22.3913,    220.1,2,     0.29,2,     0.04,2,     0.00,2,     0.02,2,    2.108,2,    1.212,2, -999.000,5, -999.000,5,   1.7129,2,    -1.26,2,   -999.0,9,  -999.00,9,   6.910,2,   -999.0,9,   -999.0,9,-999,   -999.0,9,-999.0000,9, -999,  -999.0,    0.15,  0.0086,   0.035,-999.000
     316N151_3,   A20,    46,  1,     30,     30,2,19970730,1614, 24.8530, -52.3400, 5127, 1644.9,    149.3,  20.9621,  37.0130,2,  37.0145,2,    209.4,2, 20.9333,    210.5,2,     0.29,2,     0.06,2,     0.08,2,     0.02,2,    2.225,2,    1.281,2, -999.000,5, -999.000,5,-999.0000,5,  -999.00,9,   -999.0,9,  -999.00,9,-999.000,9,   -999.0,9,   -999.0,9,-999,   -999.0,9,-999.0000,9, -999,  -999.0, -999.00,-999.0000,-999.000,-999.000
     316N151_3,   A20,    46,  1,     29,     29,2,19970730,1614, 24.8530, -52.3400, 5127, 2145.3,    199.1,  19.2918,  36.7082,2,  36.7033,2,    203.3,2, 19.2556,    204.1,2,     0.50,2,     1.38,2,     0.01,2,     0.05,2,    2.343,2,    1.317,2, -999.000,5, -999.000,5,   1.7291,2,    -0.71,2,   -999.0,9,  -999.00,9,   6.980,2,   -999.0,9,   -999.0,9,-999,   -999.0,9,-999.0000,9, -999,  -999.0,    0.15,  0.0086,   0.035,-999.000
     316N151_3,   A20,    46,  1,     28,     28,2,19970730,1614, 24.8530, -52.3400, 5127, 2648.7,    249.2,  18.4304,  36.5723,2,  36.5713,2,    201.9,2, 18.3864,    202.6,2,     0.89,2,     3.17,2,     0.01,2,     0.14,2,    2.394,2,    1.332,2, -999.000,5, -999.000,5,-999.0000,5,  -999.00,9,   -999.0,9,  -999.00,9,-999.000,9,   -999.0,9,   -999.0,9,-999,   -999.0,9,-999.0000,9, -999,  -999.0, -999.00,-999.0000,-999.000,-999.000
     316N151_3,   A20,    46,  1,     27,     27,2,19970730,1614, 24.8530, -52.3400, 5127, 3155.9,    299.9,  18.0997,  36.5318,2,  36.5322,2,    203.1,2, 18.0473,    204.7,2,     1.08,2,     3.81,2,     0.01,2,     0.19,2,    2.358,2,    1.297,2, -999.000,5, -999.000,5,   1.7371,2,     0.36,2,   -999.0,9,  -999.00,9,   7.090,2,   -999.0,9,   -999.0,9,-999,   -999.0,9,-999.0000,9, -999,  -999.0,    0.15,  0.0087,   0.035,-999.000
     316N151_3,   A20,    46,  1,     26,     26,2,19970730,1614, 24.8530, -52.3400, 5127, 3651.0,    349.3,  17.7820,  36.4901,2,  36.4894,2,    199.1,2, 17.7217,    199.5,2,     1.38,2,     4.88,2,     0.01,2,     0.25,2,    2.307,2,    1.254,2, -999.000,5, -999.000,5,-999.0000,5,  -999.00,9,   -999.0,9,  -999.00,9,-999.000,9,   -999.0,9,   -999.0,9,-999,   -999.0,9,-999.0000,9, -999,  -999.0, -999.00,-999.0000,-999.000,-999.000
     316N151_3,   A20,    46,  1,     25,     25,2,19970730,1614, 24.8530, -52.3400, 5127, 4135.2,    397.8,  17.1641,  36.3893,2,  36.3885,2,    192.3,2, 17.0970,    191.4,2,     1.87,2,     6.55,2,     0.00,2,     0.36,2,    2.233,2,    1.200,2, -999.000,5, -999.000,5,   1.7421,2,     2.36,2,   -999.0,9,  -999.00,9,   7.139,2,   -999.0,9,   -999.0,9,-999,   -999.0,9,-999.0000,9, -999,  -999.0,    0.15,  0.0087,   0.036,-999.000
     316N151_3,   A20,    46,  1,     24,     24,2,19970730,1614, 24.8530, -52.3400, 5127, 5132.3,    497.7,  15.3277,  36.0972,2,  36.0988,2,    182.2,2, 15.2499,    179.6,2,     3.32,2,    10.45,2,     0.00,2,     0.60,2,    2.078,6,    1.118,6, -999.000,5, -999.000,5,-999.0000,5,  -999.00,9,   -999.0,9,  -999.00,9,-999.000,9,   -999.0,9,   -999.0,9,-999,   -999.0,9,-999.0000,9, -999,  -999.0, -999.00,-999.0000,-999.000,-999.000
     316N151_3,   A20,    46,  1,     23,     23,2,19970730,1614, 24.8530, -52.3400, 5127, 6134.9,    598.3,  13.5922,  35.8353,2,  35.8318,2,    174.1,2, 13.5056,    173.6,2,     4.86,2,    13.84,2,     0.00,2,     0.82,2,    1.813,2,    0.939,2, -999.000,5, -999.000,5,   1.7660,2,     7.71,2,   -999.0,9,  -999.00,9,   7.383,2,   -999.0,9,   -999.0,9,-999,   -999.0,9,-999.0000,9, -999,  -999.0,    0.15,  0.0088,   0.037,-999.000
     316N151_3,   A20,    46,  1,     22,     22,2,19970730,1614, 24.8530, -52.3400, 5127, 7143.2,    699.5,  11.9012,  35.6059,2,  35.6049,2,    167.3,2, 11.8080,    166.1,2,     7.37,2,    17.57,2,     0.00,2,     1.06,2,    1.235,2,    0.642,2, -999.000,5, -999.000,5,-999.0000,5,  -999.00,9,   -999.0,9,  -999.00,9,-999.000,9,   -999.0,9,   -999.0,9,-999,   -999.0,9,-999.0000,9, -999,  -999.0, -999.00,-999.0000,-999.000,-999.000
     316N151_3,   A20,    46,  1,     21,     21,2,19970730,1614, 24.8530, -52.3400, 5127, 8140.7,    799.6,  10.0664,  35.3793,2,  35.3727,2,    154.4,2,  9.9699,    150.9,2,    11.69,2,    22.16,2,     0.00,2,     1.38,2,    0.556,2,    0.290,2, -999.000,5, -999.000,5,   1.7811,2,     9.45,2,   -999.0,9,  -999.00,9,   7.656,2,   -999.0,9,   -999.0,9,-999,   -999.0,9,-999.0000,9, -999,  -999.0,    0.15,  0.0089,   0.038,-999.000
     316N151_3,   A20,    46,  1,     20,     20,2,19970730,1614, 24.8530, -52.3400, 5127, 9143.6,    900.1,   8.1076,  35.1375,2,  35.1312,2,    147.5,2,  8.0115,    145.7,2,    16.60,2,    26.13,2,     0.00,2,     1.67,2,    0.191,2,    0.104,2, -999.000,5, -999.000,5,-999.0000,5,  -999.00,9,   -999.0,9,  -999.00,9,-999.000,9,   -999.0,9,   -999.0,9,-999,   -999.0,9,-999.0000,9, -999,  -999.0, -999.00,-999.0000,-999.000,-999.000
     316N151_3,   A20,    46,  1,     19,     19,2,19970730,1614, 24.8530, -52.3400, 5127,10546.8,   1040.4,   6.9841,  35.0608,2,  35.0582,2,    159.0,2,  6.8808,    158.0,2,    18.53,2,    26.42,2,     0.00,2,     1.72,2,    0.091,2,    0.054,2, -999.000,5, -999.000,5,-999.0000,5,  -999.00,9,   -999.0,9,  -999.00,9,-999.000,9,   -999.0,9,   -999.0,9,-999,   -999.0,9,-999.0000,9, -999,  -999.0, -999.00,-999.0000,-999.000,-999.000
     316N151_3,   A20,    46,  1,     18,     18,2,19970730,1614, 24.8530, -52.3400, 5127,12143.5,   1200.1,   5.8853,  35.0279,2,  35.0296,2,    185.1,2,  5.7746,    186.2,2,    18.15,2,    24.44,2,     0.00,2,     1.61,2,    0.103,6,    0.056,6, -999.000,5, -999.000,5,-999.0000,5,  -999.00,9,   -999.0,9,  -999.00,9,-999.000,9,   -999.0,9,   -999.0,9,-999,   -999.0,9,-999.0000,9, -999,  -999.0, -999.00,-999.0000,-999.000,-999.000
     316N151_3,   A20,    46,  1,     17,     17,2,19970730,1614, 24.8530, -52.3400, 5127,13638.3,   1349.5,   5.3597,  35.0588,2,  35.0577,2,    211.8,2,  5.2391,    211.9,2,    16.14,2,    21.84,2,     0.00,2,     1.44,2,    0.130,2,    0.075,2, -999.000,5, -999.000,5,-999.0000,5,  -999.00,9,   -999.0,9,  -999.00,9,-999.000,9,   -999.0,9,   -999.0,9,-999,   -999.0,9,-999.0000,9, -999,  -999.0, -999.00,-999.0000,-999.000,-999.000
     316N151_3,   A20,    46,  1,     16,     16,2,19970730,1614, 24.8530, -52.3400, 5127,15140.8,   1499.7,   4.9159,  35.0638,2,  35.0644,2,    228.8,2,  4.7853,    228.8,2,    15.38,2,    20.34,2,     0.00,2,     1.34,2,    0.143,2,    0.081,2, -999.000,5, -999.000,5,-999.0000,5,  -999.00,9,   -999.0,9,  -999.00,9,-999.000,9,   -999.0,9,   -999.0,9,-999,   -999.0,9,-999.0000,9, -999,  -999.0, -999.00,-999.0000,-999.000,-999.000
     316N151_3,   A20,    46,  1,     15,     15,2,19970730,1614, 24.8530, -52.3400, 5127,17147.9,   1700.3,   4.5557,  35.0686,2,  35.0692,2,    239.6,2,  4.4096,    238.3,2,    16.34,2,    19.73,2,     0.00,2,     1.31,2,    0.107,2,    0.065,2, -999.000,5, -999.000,5,-999.0000,5,  -999.00,9,   -999.0,9,  -999.00,9,-999.000,9,   -999.0,9,   -999.0,9,-999,   -999.0,9,-999.0000,9, -999,  -999.0, -999.00,-999.0000,-999.000,-999.000
     316N151_3,   A20,    46,  1,     14,     14,2,19970730,1614, 24.8530, -52.3400, 5127,19135.0,   1899.0,   4.1210,  35.0461,2,  35.0455,2,    245.3,2,  3.9614,    243.4,2,    18.94,2,    19.66,2,     0.00,2,     1.31,2,    0.068,2,    0.043,2, -999.000,5, -999.000,5,-999.0000,5,  -999.00,9,   -999.0,9,  -999.00,9,-999.000,9,   -999.0,9,   -999.0,9,-999,   -999.0,9,-999.0000,9, -999,  -999.0, -999.00,-999.0000,-999.000,-999.000
     316N151_3,   A20,    46,  1,     13,     13,2,19970730,1614, 24.8530, -52.3400, 5127,21157.1,   2101.1,   3.7381,  35.0195,2,  35.0196,2,    249.2,2,  3.5644,    247.9,2,    21.44,2,    19.53,2,     0.00,2,     1.30,2,    0.074,2,    0.046,2, -999.000,5, -999.000,5,-999.0000,5,  -999.00,9,   -999.0,9,  -999.00,9,-999.000,9,   -999.0,9,   -999.0,9,-999,   -999.0,9,-999.0000,9, -999,  -999.0, -999.00,-999.0000,-999.000,-999.000
     316N151_3,   A20,    46,  1,     12,     12,2,19970730,1614, 24.8530, -52.3400, 5127,23652.9,   2350.6,   3.3123,  34.9832,2,  34.9843,2,    251.4,2,  3.1214,    250.5,2,    25.48,2,    19.80,2,     0.00,2,     1.32,2,    0.059,2,    0.038,2, -999.000,5, -999.000,5,-999.0000,5,  -999.00,9,   -999.0,9,  -999.00,9,-999.000,9,   -999.0,9,   -999.0,9,-999,   -999.0,9,-999.0000,9, -999,  -999.0, -999.00,-999.0000,-999.000,-999.000
     316N151_3,   A20,    46,  1,     11,     11,2,19970730,1614, 24.8530, -52.3400, 5127,26159.7,   2601.1,   3.0812,  34.9621,2,  34.9633,2,    251.2,2,  2.8695,    251.2,2,    28.75,2,    20.12,2,     0.00,2,     1.35,2,    0.043,2,    0.023,2, -999.000,5, -999.000,5,-999.0000,5,  -999.00,9,   -999.0,9,  -999.00,9,-999.000,9,   -999.0,9,   -999.0,9,-999,   -999.0,9,-999.0000,9, -999,  -999.0, -999.00,-999.0000,-999.000,-999.000
     316N151_3,   A20,    46,  1,     10,     10,2,19970730,1614, 24.8530, -52.3400, 5127,28648.1,   2849.8,   2.9207,  34.9476,2,  34.9481,2,    250.6,2,  2.6872,    251.0,2,    31.25,2,    20.36,2,     0.00,2,     1.37,2,    0.025,2,    0.018,2, -999.000,5, -999.000,5,-999.0000,5,  -999.00,9,   -999.0,9,  -999.00,9,-999.000,9,   -999.0,9,   -999.0,9,-999,   -999.0,9,-999.0000,9, -999,  -999.0, -999.00,-999.0000,-999.000,-999.000
     316N151_3,   A20,    46,  1,      9,      9,2,19970730,1614, 24.8530, -52.3400, 5127,31138.9,   3098.7,   2.7669,  34.9337,2,  34.9359,2,    252.2,2,  2.5110,    252.4,2,    33.75,2,    20.57,2,     0.00,2,     1.39,2,    0.013,2,    0.011,2, -999.000,5, -999.000,5,-999.0000,5,  -999.00,9,   -999.0,9,  -999.00,9,-999.000,9,   -999.0,9,   -999.0,9,-999,   -999.0,9,-999.0000,9, -999,  -999.0, -999.00,-999.0000,-999.000,-999.000
     316N151_3,   A20,    46,  1,      8,      8,2,19970730,1614, 24.8530, -52.3400, 5127,33645.5,   3349.4,   2.6199,  34.9210,2,  34.9214,2,    252.5,2,  2.3407,    254.0,2,    35.96,2,    20.72,2,     0.00,2,     1.40,2,    0.013,6,    0.010,6, -999.000,5, -999.000,5,-999.0000,5,  -999.00,9,   -999.0,9,  -999.00,9,-999.000,9,   -999.0,9,   -999.0,9,-999,   -999.0,9,-999.0000,9, -999,  -999.0, -999.00,-999.0000,-999.000,-999.000
     316N151_3,   A20,    46,  1,      7,      7,2,19970730,1614, 24.8530, -52.3400, 5127,36650.7,   3649.8,   2.4586,  34.9061,2,  34.9058,2,    252.8,2,  2.1509,    254.0,2,    38.75,2,    20.96,2,     0.00,2,     1.42,2,    0.011,2,    0.006,2, -999.000,5, -999.000,5,-999.0000,5,  -999.00,9,   -999.0,9,  -999.00,9,-999.000,9,   -999.0,9,   -999.0,9,-999,   -999.0,9,-999.0000,9, -999,  -999.0, -999.00,-999.0000,-999.000,-999.000
     316N151_3,   A20,    46,  1,      6,      6,2,19970730,1614, 24.8530, -52.3400, 5127,39166.7,   3901.3,   2.3196,  34.8930,2,  34.8933,2,    254.0,2,  1.9876,    256.0,3,    41.35,2,    21.14,2,     0.00,2,     1.44,2,    0.010,2,    0.010,2, -999.000,5, -999.000,5,-999.0000,5,  -999.00,9,   -999.0,9,  -999.00,9,-999.000,9,   -999.0,9,   -999.0,9,-999,   -999.0,9,-999.0000,9, -999,  -999.0, -999.00,-999.0000,-999.000,-999.000
     316N151_3,   A20,    46,  1,      5,      5,2,19970730,1614, 24.8530, -52.3400, 5127,41653.2,   4149.8,   2.2420,  34.8837,2,  34.8832,2,    254.8,2,  1.8838,    254.0,2,    43.46,2,    21.34,2,     0.00,2,     1.45,2,    0.010,2,    0.012,2, -999.000,5, -999.000,5,-999.0000,5,  -999.00,9,   -999.0,9,  -999.00,9,-999.000,9,   -999.0,9,   -999.0,9,-999,   -999.0,9,-999.0000,9, -999,  -999.0, -999.00,-999.0000,-999.000,-999.000
     316N151_3,   A20,    46,  1,      4,      4,2,19970730,1614, 24.8530, -52.3400, 5127,44167.7,   4401.2,   2.1752,  34.8753,2,  34.8756,2,    253.8,2,  1.7898,    254.0,2,    46.16,2,    21.62,2,     0.00,2,     1.48,2,    0.011,2,    0.011,2, -999.000,5, -999.000,5,-999.0000,5,  -999.00,9,   -999.0,9,  -999.00,9,-999.000,9,   -999.0,9,   -999.0,9,-999,   -999.0,9,-999.0000,9, -999,  -999.0, -999.00,-999.0000,-999.000,-999.000
     316N151_3,   A20,    46,  1,      3,      3,2,19970730,1614, 24.8530, -52.3400, 5127,46666.2,   4651.0,   2.1350,  34.8683,2,  34.8686,2,    253.2,2,  1.7210,    253.0,2,    48.56,2,    22.01,2,     0.00,2,     1.50,2,    0.015,2,    0.010,2, -999.000,5, -999.000,5,-999.0000,5,  -999.00,9,   -999.0,9,  -999.00,9,-999.000,9,   -999.0,9,   -999.0,9,-999,   -999.0,9,-999.0000,9, -999,  -999.0, -999.00,-999.0000,-999.000,-999.000
     316N151_3,   A20,    46,  1,      2,      2,2,19970730,1614, 24.8530, -52.3400, 5127,49683.8,   4952.6,   2.1076,  34.8611,2,  34.8621,2,    253.2,2,  1.6575,    252.0,2,    50.77,2,    22.28,2,     0.00,2,     1.52,2,    0.014,6,    0.011,6, -999.000,5, -999.000,5,-999.0000,5,  -999.00,9,   -999.0,9,  -999.00,9,-999.000,9,   -999.0,9,   -999.0,9,-999,   -999.0,9,-999.0000,9, -999,  -999.0, -999.00,-999.0000,-999.000,-999.000
     316N151_3,   A20,    46,  1,      1,      1,2,19970730,1614, 24.8530, -52.3400, 5127,51905.9,   5174.6,   2.1051,  34.8582,2,  34.8595,2,    250.3,2,  1.6272,    251.9,2,    52.05,6,    22.39,6,     0.00,6,     1.53,6,    0.016,2,    0.014,2, -999.000,5, -999.000,5,-999.0000,5,  -999.00,9,   -999.0,9,  -999.00,9,-999.000,9,   -999.0,9,   -999.0,9,-999,   -999.0,9,-999.0000,9, -999,  -999.0, -999.00,-999.0000,-999.000,-999.000