BOTTLE,20220812CCHSIOAMB
EXPOCODE,SECT_ID,STNNBR,CASTNO,SAMPNO,BTLNBR,BTLNBR_FLAG_W,DATE,TIME,LATITUDE,LONGITUDE,DEPTH,CTDRAW,CTDPRS,CTDTMP,CTDSAL,CTDSAL_FLAG_W,SALNTY,SALNTY_FLAG_W,CTDOXY,CTDOXY_FLAG_W,THETA,OXYGEN,OXYGEN_FLAG_W,SILCAT,SILCAT_FLAG_W,NITRAT,NITRAT_FLAG_W,NITRIT,NITRIT_FLAG_W,PHSPHT,PHSPHT_FLAG_W,CFC-11,CFC-11_FLAG_W,CFC-12,CFC-12_FLAG_W,CFC113,CFC113_FLAG_W,TRITUM,TRITUM_FLAG_W,HELIUM,HELIUM_FLAG_W,DELHE3,DELHE3_FLAG_W,DELC14,DELC14_FLAG_W,DELC13,DELC13_FLAG_W,NEON,NEON_FLAG_W,TCARBN,TCARBN_FLAG_W,PCO2,PCO2_FLAG_W,PCO2_TMP,ALKALI,ALKALI_FLAG_W,PH,PH_FLAG_W,PH_TMP,C14ERR,DELHER,HELIER,NEONER,TRITER
,,,,,,,,,,,,,DBAR,ITS-90,PSS-78,,PSS-78,,UMOL/KG,,ITS-90,UMOL/KG,,UMOL/KG,,UMOL/KG,,UMOL/KG,,UMOL/KG,,PMOL/KG,,PMOL/KG,,PMOL/KG,,TU,,NMOL/KG,,PERCNT,,/MILLE,,/MILLE,,NMOL/KG,,UMOL/KG,,UATM,,DEG C,UMOL/KG,,,,DEG C,/MILLE,PERCNT,NMOL/KG,NMOL/KG,TU
     316N151_3,   A20,    34,  1,     33,     33,2,19970727,0211, 32.8730, -52.3485, 5632,  270.7,     13.1,  27.3751,  36.8809,2,  36.8040,2,    211.7,2, 27.3721,    214.2,2,     0.58,2,     0.05,2,     0.00,2,     0.02,2,    1.806,2,    1.077,2, -999.000,5, -999.000,5,-999.0000,5,  -999.00,9,    101.1,2,     1.25,2,-999.000,9,   -999.0,9,   -999.0,9,-999,   2400.3,2,   8.0670,2,   25,     3.7, -999.00,-999.0000,-999.000,-999.000
     316N151_3,   A20,    34,  1,     32,     32,2,19970727,0211, 32.8730, -52.3485, 5632,  632.9,     49.3,  22.2921,  36.8252,2,  36.8260,2,    243.3,2, 22.2822,    237.9,2,     0.48,2,     0.05,2,     0.00,2,     0.02,2,    2.257,2,    1.298,2, -999.000,5, -999.000,5,-999.0000,5,  -999.00,9,   -999.0,9,  -999.00,9,-999.000,9,   -999.0,9,   -999.0,9,-999,   -999.0,9,-999.0000,9, -999,  -999.0, -999.00,-999.0000,-999.000,-999.000
     316N151_3,   A20,    34,  1,     31,     31,2,19970727,0211, 32.8730, -52.3485, 5632, 1075.5,     93.4,  19.7072,  36.7289,2,  36.7288,2,    221.8,2, 19.6900,    227.0,2,     0.48,2,     0.05,2,     0.00,2,     0.02,2,    2.355,2,    1.356,2, -999.000,5, -999.000,5,-999.0000,5,  -999.00,9,     92.4,2,     1.17,2,-999.000,9,   -999.0,9,   -999.0,9,-999,   -999.0,9,-999.0000,9, -999,     2.4, -999.00,-999.0000,-999.000,-999.000
     316N151_3,   A20,    34,  1,     30,     30,2,19970727,0211, 32.8730, -52.3485, 5632, 1628.1,    148.2,  18.7109,  36.6150,2,  36.6144,2,    206.0,2, 18.6845,    212.2,2,     0.77,2,     1.52,2,     0.05,2,     0.06,2,    2.377,2,    1.384,2, -999.000,5, -999.000,5,-999.0000,5,  -999.00,9,     78.4,2,     1.00,2,-999.000,9,   -999.0,9,   -999.0,9,-999,   -999.0,9,-999.0000,9, -999,     2.6, -999.00,-999.0000,-999.000,-999.000
     316N151_3,   A20,    34,  1,     29,     29,2,19970727,0211, 32.8730, -52.3485, 5632, 2156.2,    200.7,  18.3073,  36.5619,2,  36.5603,2,    206.1,2, 18.2721,    213.7,2,     0.97,2,     2.51,2,     0.01,2,     0.12,2,    2.409,2,    1.392,2, -999.000,5, -999.000,5,-999.0000,5,  -999.00,9,     85.3,2,     1.00,2,-999.000,9,   -999.0,9,   -999.0,9,-999,   -999.0,9,-999.0000,9, -999,     4.5, -999.00,-999.0000,-999.000,-999.000
     316N151_3,   A20,    34,  1,     28,     28,2,19970727,0211, 32.8730, -52.3485, 5632, 2902.2,    274.8,  18.0529,  36.5301,2,  36.5301,2,    213.0,2, 18.0051,    207.0,2,     1.25,2,     3.68,2,     0.01,2,     0.18,2,    2.408,2,    1.346,2, -999.000,5, -999.000,5,-999.0000,5,  -999.00,9,     88.1,6,     0.99,2,-999.000,9,   -999.0,9,   -999.0,9,-999,   -999.0,9,-999.0000,9, -999,     2.2, -999.00,-999.0000,-999.000,-999.000
     316N151_3,   A20,    34,  1,     27,     27,2,19970727,0211, 32.8730, -52.3485, 5632, 3665.6,    350.9,  17.7802,  36.4907,2,  36.4872,2,    205.2,2, 17.7196,    203.6,2,     1.54,2,     4.53,2,     0.01,2,     0.23,2,    2.371,6,    1.304,6, -999.000,5, -999.000,5,-999.0000,5,  -999.00,9,     95.1,6,     0.97,2,-999.000,9,   -999.0,9,   -999.0,9,-999,   -999.0,9,-999.0000,9, -999,     2.6, -999.00,-999.0000,-999.000,-999.000
     316N151_3,   A20,    34,  1,     26,     26,2,19970727,0211, 32.8730, -52.3485, 5632, 4426.5,    426.8,  17.1712,  36.3763,2,  36.3759,2,    209.5,2, 17.0991,    205.9,2,     1.82,2,     5.34,2,     0.01,2,     0.29,2,    2.387,2,    1.240,2, -999.000,5, -999.000,5,-999.0000,5,  -999.00,9,     85.9,2,     0.94,2,-999.000,9,   -999.0,9,   -999.0,9,-999,   -999.0,9,-999.0000,9, -999,     4.2, -999.00,-999.0000,-999.000,-999.000
     316N151_3,   A20,    34,  1,     25,     25,2,19970727,0211, 32.8730, -52.3485, 5632, 5161.0,    500.4,  16.4255,  36.2533,2,  36.2490,2,    200.9,2, 16.3435,    194.1,2,     2.50,2,     7.60,2,     0.01,2,     0.43,2,    2.252,2,    1.223,2, -999.000,5, -999.000,5,-999.0000,5,  -999.00,9,     85.7,2,     0.91,2,-999.000,9,   -999.0,9,   -999.0,9,-999,   -999.0,9,-999.0000,9, -999,     6.3, -999.00,-999.0000,-999.000,-999.000
     316N151_3,   A20,    34,  1,     24,     24,2,19970727,0211, 32.8730, -52.3485, 5632, 6154.6,    600.0,  14.7214,  35.9641,2,  35.9713,2,    188.1,2, 14.6298,    183.0,2,     4.14,2,    11.23,2,     0.01,2,     0.66,2,    2.034,2,    1.093,2, -999.000,5, -999.000,5,-999.0000,5,  -999.00,9,     65.9,2,     0.85,2,-999.000,9,   -999.0,9,   -999.0,9,-999,   -999.0,9,-999.0000,9, -999,     4.2, -999.00,-999.0000,-999.000,-999.000
     316N151_3,   A20,    34,  1,     23,     23,2,19970727,0211, 32.8730, -52.3485, 5632, 7129.2,    697.9,  13.0966,  35.7178,2,  35.7155,2,    178.1,2, 12.9977,    175.0,2,     6.16,2,    14.67,2,     0.00,2,     0.89,2,    1.781,2,    0.943,2, -999.000,5, -999.000,5,-999.0000,5,  -999.00,9,     33.3,2,     0.84,2,-999.000,9,   -999.0,9,   -999.0,9,-999,   -999.0,9,-999.0000,9, -999,     2.5, -999.00,-999.0000,-999.000,-999.000
     316N151_3,   A20,    34,  1,     22,     22,2,19970727,0211, 32.8730, -52.3485, 5632, 8141.1,    799.5,  10.9076,  35.4255,2,  35.4243,2,    165.8,2, 10.8064,    163.5,2,     9.71,2,    19.22,2,     0.00,2,     1.21,2,    1.320,2,    0.681,2, -999.000,5, -999.000,5,-999.0000,5,  -999.00,9,      1.9,2,     0.77,2,-999.000,9,   -999.0,9,   -999.0,9,-999,   -999.0,9,-999.0000,9, -999,     2.4, -999.00,-999.0000,-999.000,-999.000
     316N151_3,   A20,    34,  1,     21,     21,2,19970727,0211, 32.8730, -52.3485, 5632, 9150.3,    900.6,   8.8825,  35.2367,2,  35.2348,2,    168.9,2,  8.7811,    166.8,2,    12.50,2,    21.52,2,     0.00,2,     1.38,2, -999.000,9, -999.000,9, -999.000,5, -999.000,5,-999.0000,5,  -999.00,9,    -41.7,2,     0.78,2,-999.000,9,   -999.0,9,   -999.0,9,-999,   -999.0,9,-999.0000,9, -999,     2.6, -999.00,-999.0000,-999.000,-999.000
     316N151_3,   A20,    34,  1,     20,     20,2,19970727,0211, 32.8730, -52.3485, 5632,10638.3,   1049.4,   7.2385,  35.2092,2,  35.2084,2,    187.6,2,  7.1321,    188.6,2,    13.66,2,    21.16,2,     0.00,2,     1.37,2,    0.689,2,    0.346,2, -999.000,5, -999.000,5,-999.0000,5,  -999.00,9,    -54.0,2,     0.83,2,-999.000,9,   -999.0,9,   -999.0,9,-999,   -999.0,9,-999.0000,9, -999,     3.0, -999.00,-999.0000,-999.000,-999.000
     316N151_3,   A20,    34,  1,     19,     19,2,19970727,0211, 32.8730, -52.3485, 5632,11852.5,   1171.0,   6.6071,  35.2379,2,  35.2372,2,    207.8,2,  6.4927,    207.8,2,    13.18,2,    19.86,2,     0.00,2,     1.29,2,    0.708,6,    0.365,6, -999.000,5, -999.000,5,-999.0000,5,  -999.00,9,    -50.5,2,     0.90,2,-999.000,9,   -999.0,9,   -999.0,9,-999,   -999.0,9,-999.0000,9, -999,     2.2, -999.00,-999.0000,-999.000,-999.000
     316N151_3,   A20,    34,  1,     18,     18,2,19970727,0211, 32.8730, -52.3485, 5632,13622.2,   1348.0,   5.2728,  35.1044,2,  35.1058,2,    233.3,2,  5.1532,    235.1,2,    12.51,2,    18.75,2,     0.00,2,     1.23,2,    1.036,2,    0.520,2, -999.000,5, -999.000,5,-999.0000,5,  -999.00,9,    -64.1,2,     0.93,2,-999.000,9,   -999.0,9,   -999.0,9,-999,   -999.0,9,-999.0000,9, -999,     3.5, -999.00,-999.0000,-999.000,-999.000
     316N151_3,   A20,    34,  1,     17,     17,2,19970727,0211, 32.8730, -52.3485, 5632,15643.9,   1550.1,   4.5873,  35.0370,2,  35.0360,2,    252.9,2,  4.4555,    251.9,2,    12.31,2,    18.12,2,     0.00,2,     1.20,2,    1.264,2,    0.628,2, -999.000,5, -999.000,5,-999.0000,5,  -999.00,9,    -62.3,2,     0.97,2,-999.000,9,   -999.0,9,   -999.0,9,-999,   -999.0,9,-999.0000,9, -999,     2.8, -999.00,-999.0000,-999.000,-999.000
     316N151_3,   A20,    34,  1,     16,     16,2,19970727,0211, 32.8730, -52.3485, 5632,17566.5,   1742.2,   4.1248,  34.9942,2,  34.9955,2,    260.9,2,  3.9804,    261.3,2,    12.51,2,    17.80,2,     0.00,2,     1.18,2,    1.243,2,    0.622,2, -999.000,5, -999.000,5,-999.0000,5,  -999.00,9,    -34.0,2,     1.00,2,-999.000,9,   -999.0,9,   -999.0,9,-999,   -999.0,9,-999.0000,9, -999,     3.1, -999.00,-999.0000,-999.000,-999.000
     316N151_3,   A20,    34,  1,     15,     15,2,19970727,0211, 32.8730, -52.3485, 5632,19639.2,   1949.4,   3.8616,  34.9779,2,  34.9774,2,    263.6,2,  3.7009,    263.9,2,    13.28,2,    17.77,2,     0.00,2,     1.18,2,    1.023,2,    0.516,2, -999.000,5, -999.000,5,-999.0000,5,  -999.00,9,    -51.8,2,     1.04,2,-999.000,9,   -999.0,9,   -999.0,9,-999,   -999.0,9,-999.0000,9, -999,     4.4, -999.00,-999.0000,-999.000,-999.000
     316N151_3,   A20,    34,  1,     14,     14,2,19970727,0211, 32.8730, -52.3485, 5632,21675.2,   2152.9,   3.6736,  34.9730,2,  34.9734,2,    263.6,2,  3.4962,    264.3,2,    14.81,2,    17.80,2,     0.00,2,     1.19,2,    0.782,6,    0.394,6, -999.000,5, -999.000,5,-999.0000,5,  -999.00,9,    -58.7,2,     1.07,2,-999.000,9,   -999.0,9,   -999.0,9,-999,   -999.0,9,-999.0000,9, -999,     3.4, -999.00,-999.0000,-999.000,-999.000
     316N151_3,   A20,    34,  1,     13,     13,2,19970727,0211, 32.8730, -52.3485, 5632,25124.3,   2497.7,   3.4150,  34.9705,2,  34.9712,2,    260.6,2,  3.2075,    262.2,2,    18.38,2,    18.19,2,     0.00,2,     1.22,2,    0.379,2,    0.184,2, -999.000,5, -999.000,5,-999.0000,5,  -999.00,9,    -76.3,2,     1.02,2,-999.000,9,   -999.0,9,   -999.0,9,-999,   -999.0,9,-999.0000,9, -999,     2.9, -999.00,-999.0000,-999.000,-999.000
     316N151_3,   A20,    34,  1,     12,     12,2,19970727,0211, 32.8730, -52.3485, 5632,28109.0,   2795.9,   3.1303,  34.9539,2,  34.9551,2,    261.3,2,  2.8980,    262.2,2,    20.97,2,    18.37,2,     0.00,2,     1.24,2,    0.285,2,    0.140,2, -999.000,5, -999.000,5,-999.0000,5,  -999.00,9,    -78.0,2,     1.07,2,-999.000,9,   -999.0,9,   -999.0,9,-999,   -999.0,9,-999.0000,9, -999,     4.4, -999.00,-999.0000,-999.000,-999.000
     316N151_3,   A20,    34,  1,     11,     11,2,19970727,0211, 32.8730, -52.3485, 5632,29926.2,   2977.5,   2.9909,  34.9480,2,  34.9492,2,    260.4,2,  2.7426,    261.1,2,    23.57,2,    18.72,2,     0.00,2,     1.26,2,    0.172,2,    0.089,2, -999.000,5, -999.000,5,-999.0000,5,  -999.00,9,    -91.0,2,     1.08,2,-999.000,9,   -999.0,9,   -999.0,9,-999,   -999.0,9,-999.0000,9, -999,     3.7, -999.00,-999.0000,-999.000,-999.000
     316N151_3,   A20,    34,  1,     10,     10,2,19970727,0211, 32.8730, -52.3485, 5632,33142.7,   3299.0,   2.7074,  34.9284,2,  34.9279,2,    263.4,2,  2.4315,    264.6,2,    25.01,2,    18.57,2,     0.00,2,     1.26,2,    0.182,2,    0.097,2, -999.000,5, -999.000,5,-999.0000,5,  -999.00,9,    -88.6,2,     1.11,2,-999.000,9,   -999.0,9,   -999.0,9,-999,   -999.0,9,-999.0000,9, -999,     2.5, -999.00,-999.0000,-999.000,-999.000
     316N151_3,   A20,    34,  1,      9,      9,2,19970727,0211, 32.8730, -52.3485, 5632,35648.4,   3549.5,   2.5596,  34.9166,2,  34.9172,2,    264.9,2,  2.2603,    265.2,2,    26.84,2,    18.64,2,     0.00,2,     1.27,2,    0.187,2,    0.089,2, -999.000,5, -999.000,5,-999.0000,5,  -999.00,9,    -94.5,2,     1.07,2,-999.000,9,   -999.0,9,   -999.0,9,-999,   -999.0,9,-999.0000,9, -999,     4.6, -999.00,-999.0000,-999.000,-999.000
     316N151_3,   A20,    34,  1,      8,      8,2,19970727,0211, 32.8730, -52.3485, 5632,38123.3,   3796.9,   2.4008,  34.9047,2,  34.9051,2,    265.3,2,  2.0783,    265.3,2,    29.62,2,    18.89,2,     0.00,2,     1.29,2,    0.180,2,    0.089,2, -999.000,5, -999.000,5,-999.0000,5,  -999.00,9,    -90.8,2,     1.08,2,-999.000,9,   -999.0,9,   -999.0,9,-999,   -999.0,9,-999.0000,9, -999,     2.6, -999.00,-999.0000,-999.000,-999.000
     316N151_3,   A20,    34,  1,      7,      7,2,19970727,0211, 32.8730, -52.3485, 5632,40650.9,   4049.6,   2.2994,  34.8962,2,  34.8966,2,    263.9,2,  1.9511,    262.9,2,    32.80,2,    19.24,2,     0.00,2,     1.32,2,    0.228,2,    0.109,2, -999.000,5, -999.000,5,-999.0000,5,  -999.00,9,    -84.6,2,     0.94,2,-999.000,9,   -999.0,9,   -999.0,9,-999,   -999.0,9,-999.0000,9, -999,     2.3, -999.00,-999.0000,-999.000,-999.000
     316N151_3,   A20,    34,  1,      6,      6,2,19970727,0211, 32.8730, -52.3485, 5632,43143.5,   4298.7,   2.2407,  34.8885,2,  34.8882,2,    262.6,2,  1.8652,    262.4,2,    36.07,2,    19.67,2,     0.00,2,     1.35,2,    0.228,2,    0.114,2, -999.000,5, -999.000,5,-999.0000,5,  -999.00,9,   -100.5,2,     1.06,2,-999.000,9,   -999.0,9,   -999.0,9,-999,   -999.0,9,-999.0000,9, -999,     4.0, -999.00,-999.0000,-999.000,-999.000
     316N151_3,   A20,    34,  1,      5,      5,2,19970727,0211, 32.8730, -52.3485, 5632,46178.1,   4602.0,   2.1824,  34.8772,2,  34.8776,2,    258.8,2,  1.7728,    259.5,2,    41.36,2,    20.44,2,     0.00,2,     1.41,2, -999.000,9, -999.000,9, -999.000,5, -999.000,5,-999.0000,5,  -999.00,9,   -107.1,2,     0.98,2,-999.000,9,   -999.0,9,   -999.0,9,-999,   -999.0,9,-999.0000,9, -999,     4.2, -999.00,-999.0000,-999.000,-999.000
     316N151_3,   A20,    34,  1,      4,      4,2,19970727,0211, 32.8730, -52.3485, 5632,49175.7,   4901.7,   2.1514,  34.8693,2,  34.8701,2,    256.0,2,  1.7061,    255.9,2,    45.49,2,    21.14,2,     0.00,2,     1.45,2,    0.122,2,    0.058,2, -999.000,5, -999.000,5,-999.0000,5,  -999.00,9,   -108.9,6,     0.99,2,-999.000,9,   -999.0,9,   -999.0,9,-999,   -999.0,9,-999.0000,9, -999,     2.5, -999.00,-999.0000,-999.000,-999.000
     316N151_3,   A20,    34,  1,      3,      3,2,19970727,0211, 32.8730, -52.3485, 5632,52165.8,   5200.6,   2.1565,  34.8650,2,  34.8663,2,    255.3,2,  1.6734,    254.4,2,    47.71,2,    21.45,2,     0.00,2,     1.48,2,    0.088,2,    0.044,2, -999.000,5, -999.000,5,-999.0000,5,  -999.00,9,   -127.9,2,     1.01,2,-999.000,9,   -999.0,9,   -999.0,9,-999,   -999.0,9,-999.0000,9, -999,     6.7, -999.00,-999.0000,-999.000,-999.000
     316N151_3,   A20,    34,  1,      2,      2,2,19970727,0211, 32.8730, -52.3485, 5632,55161.3,   5500.0,   2.1834,  34.8643,2,  34.8643,2,    254.7,2,  1.6605,    253.8,2,    48.57,2,    21.60,2,     0.00,2,     1.49,2,    0.064,2,    0.038,2, -999.000,5, -999.000,5,-999.0000,5,  -999.00,9,   -131.7,2,     0.99,2,-999.000,9,   -999.0,9,   -999.0,9,-999,   -999.0,9,-999.0000,9, -999,     6.1, -999.00,-999.0000,-999.000,-999.000
     316N151_3,   A20,    34,  1,      1,      1,2,19970727,0211, 32.8730, -52.3485, 5632,57393.6,   5723.0,   2.2042,  34.8631,2,  34.8621,2,    252.9,2,  1.6510,    252.9,2,    49.43,6,    21.79,6,     0.00,6,     1.49,6,    0.050,2,    0.042,2, -999.000,5, -999.000,5,-999.0000,5,  -999.00,9,   -129.8,2,     0.96,2,-999.000,9,   -999.0,9,   -999.0,9,-999,   -999.0,9,-999.0000,9, -999,     6.3, -999.00,-999.0000,-999.000,-999.000