BOTTLE,20220812CCHSIOAMB
EXPOCODE,SECT_ID,STNNBR,CASTNO,SAMPNO,BTLNBR,BTLNBR_FLAG_W,DATE,TIME,LATITUDE,LONGITUDE,DEPTH,CTDRAW,CTDPRS,CTDTMP,CTDSAL,CTDSAL_FLAG_W,SALNTY,SALNTY_FLAG_W,CTDOXY,CTDOXY_FLAG_W,THETA,OXYGEN,OXYGEN_FLAG_W,SILCAT,SILCAT_FLAG_W,NITRAT,NITRAT_FLAG_W,NITRIT,NITRIT_FLAG_W,PHSPHT,PHSPHT_FLAG_W,CFC-11,CFC-11_FLAG_W,CFC-12,CFC-12_FLAG_W,CFC113,CFC113_FLAG_W,TRITUM,TRITUM_FLAG_W,HELIUM,HELIUM_FLAG_W,DELHE3,DELHE3_FLAG_W,DELC14,DELC14_FLAG_W,DELC13,DELC13_FLAG_W,NEON,NEON_FLAG_W,TCARBN,TCARBN_FLAG_W,PCO2,PCO2_FLAG_W,PCO2_TMP,ALKALI,ALKALI_FLAG_W,PH,PH_FLAG_W,PH_TMP,C14ERR,DELHER,HELIER,NEONER,TRITER
,,,,,,,,,,,,,DBAR,ITS-90,PSS-78,,PSS-78,,UMOL/KG,,ITS-90,UMOL/KG,,UMOL/KG,,UMOL/KG,,UMOL/KG,,UMOL/KG,,PMOL/KG,,PMOL/KG,,PMOL/KG,,TU,,NMOL/KG,,PERCNT,,/MILLE,,/MILLE,,NMOL/KG,,UMOL/KG,,UATM,,DEG C,UMOL/KG,,,,DEG C,/MILLE,PERCNT,NMOL/KG,NMOL/KG,TU
     316N151_3,   A20,    24,  1,     30,     30,2,19970724,0651, 38.6063, -52.2930, 5344,  207.5,      6.1,  25.5542,  36.0336,2,  36.0443,2,    208.8,2, 25.5528,    211.8,2,     1.04,2,     0.03,2,     0.01,2,     0.02,2,    1.858,6,    1.088,6, -999.000,5, -999.000,5,-999.0000,5,  -999.00,9,   -999.0,9,  -999.00,9,-999.000,9,   2015.0,2,    283.9,2,  20,   2362.0,2,   8.0860,2,   25,  -999.0, -999.00,-999.0000,-999.000,-999.000
     316N151_3,   A20,    24,  1,     29,     29,2,19970724,0651, 38.6063, -52.2930, 5344,  376.2,     23.4,  25.5617,  36.0549,2,  36.0552,2,    214.7,2, 25.5565,    210.8,2,     1.04,2,     0.00,2,     0.00,2,     0.01,2, -999.000,9, -999.000,9, -999.000,5, -999.000,5,-999.0000,5,  -999.00,9,   -999.0,9,  -999.00,9,-999.000,9,   2015.1,2,    284.1,2,  20,   -999.0,9,-999.0000,9, -999,  -999.0, -999.00,-999.0000,-999.000,-999.000
     316N151_3,   A20,    24,  1,     28,     28,2,19970724,0651, 38.6063, -52.2930, 5344,  642.3,     50.2,  23.3976,  36.6657,2,  36.6626,2,    203.4,2, 23.3872,    202.6,2,     0.85,2,     0.03,2,     0.01,2,     0.02,2,    2.013,6,    1.151,6, -999.000,5, -999.000,5,-999.0000,5,  -999.00,9,   -999.0,9,  -999.00,9,-999.000,9,   2064.1,2,    316.2,2,  20,   -999.0,9,-999.0000,9, -999,  -999.0, -999.00,-999.0000,-999.000,-999.000
     316N151_3,   A20,    24,  1,     27,     27,2,19970724,0651, 38.6063, -52.2930, 5344,  892.8,     75.2,  20.7997,  36.5313,2,  36.5233,2,    190.3,2, 20.7853,    222.0,2,     0.46,2,     0.12,2,     0.03,2,     0.03,2, -999.000,9, -999.000,9, -999.000,5, -999.000,5,-999.0000,5,  -999.00,9,   -999.0,9,  -999.00,9,-999.000,9,   2055.2,2,    317.4,2,  20,   -999.0,9,-999.0000,9, -999,  -999.0, -999.00,-999.0000,-999.000,-999.000
     316N151_3,   A20,    24,  1,     26,     26,2,19970724,0651, 38.6063, -52.2930, 5344, 1137.4,     99.4,  19.3077,  36.5480,2,  36.5461,2,    202.5,2, 19.2896,    210.5,2,     0.75,2,     0.96,2,     0.20,2,     0.06,2,    2.298,2,    1.342,2, -999.000,5, -999.000,5,-999.0000,5,  -999.00,9,   -999.0,9,  -999.00,9,-999.000,9,   2077.7,2,    345.9,2,  20,   -999.0,9,-999.0000,9, -999,  -999.0, -999.00,-999.0000,-999.000,-999.000
     316N151_3,   A20,    24,  1,     25,     25,2,19970724,0651, 38.6063, -52.2930, 5344, 1393.0,    124.7,  18.7431,  36.5837,2,  36.5848,2,    211.1,2, 18.7209,    213.9,2,     0.84,2,     1.46,2,     0.09,2,     0.07,2, -999.000,9, -999.000,9, -999.000,5, -999.000,5,-999.0000,5,  -999.00,9,   -999.0,9,  -999.00,9,-999.000,9,   2078.1,2,    346.9,2,  20,   -999.0,9,-999.0000,9, -999,  -999.0, -999.00,-999.0000,-999.000,-999.000
     316N151_3,   A20,    24,  1,     24,     24,2,19970724,0651, 38.6063, -52.2930, 5344, 1619.9,    147.0,  18.5447,  36.5853,2,  36.5838,2,    214.9,2, 18.5188,    212.0,2,     1.03,2,     2.19,2,     0.02,2,     0.11,2,    2.377,2,    1.347,2, -999.000,5, -999.000,5,-999.0000,5,  -999.00,9,   -999.0,9,  -999.00,9,-999.000,9,   2080.5,2,    349.3,2,  20,   -999.0,9,-999.0000,9, -999,  -999.0, -999.00,-999.0000,-999.000,-999.000
     316N151_3,   A20,    24,  1,     23,     23,2,19970724,0651, 38.6063, -52.2930, 5344, 1902.3,    174.7,  18.3970,  36.5815,2,  36.5814,2,    213.6,2, 18.3662,    211.2,2,     1.03,2,     2.42,2,     0.02,2,     0.12,2, -999.000,9, -999.000,9, -999.000,5, -999.000,5,-999.0000,5,  -999.00,9,   -999.0,9,  -999.00,9,-999.000,9,   2081.7,2,   -999.0,9,-999,   -999.0,9,-999.0000,9, -999,  -999.0, -999.00,-999.0000,-999.000,-999.000
     316N151_3,   A20,    24,  1,     22,     22,2,19970724,0651, 38.6063, -52.2930, 5344, 2146.9,    198.9,  18.3110,  36.5749,2,  36.5748,2,    216.7,2, 18.2761,    215.2,2,     1.13,2,     2.51,2,     0.03,2,     0.13,2,    2.418,2,    1.365,2, -999.000,5, -999.000,5,-999.0000,5,  -999.00,9,   -999.0,9,  -999.00,9,-999.000,9,   2082.4,2,    352.5,2,  20,   -999.0,9,-999.0000,9, -999,  -999.0, -999.00,-999.0000,-999.000,-999.000
     316N151_3,   A20,    24,  1,     21,     21,2,19970724,0651, 38.6063, -52.2930, 5344, 2646.3,    248.5,  18.1648,  36.5597,2,  36.5588,2,    216.9,2, 18.1214,    214.9,2,     1.22,2,     2.68,2,     0.03,2,     0.14,2,    1.853,2,    1.092,2, -999.000,5, -999.000,5,-999.0000,5,  -999.00,9,   -999.0,9,  -999.00,9,-999.000,9,   2084.0,2,    358.3,2,  20,   -999.0,9,-999.0000,9, -999,  -999.0, -999.00,-999.0000,-999.000,-999.000
     316N151_3,   A20,    24,  1,     20,     20,2,19970724,0651, 38.6063, -52.2930, 5344, 3411.8,    324.7,  17.9245,  36.5229,2,  36.5239,2,    215.6,2, 17.8681,    212.8,2,     1.41,2,     3.57,2,     0.02,2,     0.18,2,    2.406,2,    1.337,2, -999.000,5, -999.000,5,-999.0000,5,  -999.00,9,   -999.0,9,  -999.00,9,-999.000,9,   2089.8,2,    372.4,2,  20,   -999.0,9,-999.0000,9, -999,  -999.0, -999.00,-999.0000,-999.000,-999.000
     316N151_3,   A20,    24,  1,     19,     19,2,19970724,0651, 38.6063, -52.2930, 5344, 4189.0,    402.5,  17.3817,  36.4186,2,  36.4344,2,    204.8,2, 17.3133,    202.3,2,     1.80,2,     5.09,2,     0.02,2,     0.27,2,    2.325,2,    1.286,2, -999.000,5, -999.000,5,-999.0000,5,  -999.00,9,   -999.0,9,  -999.00,9,-999.000,9,   2100.1,2,    394.0,2,  20,   -999.0,9,-999.0000,9, -999,  -999.0, -999.00,-999.0000,-999.000,-999.000
     316N151_3,   A20,    24,  1,     18,     18,2,19970724,0651, 38.6063, -52.2930, 5344, 5596.9,    544.1,  14.8468,  35.9689,2,  35.9674,2,    174.7,2, 14.7635,    175.8,2,     4.61,2,    11.96,2,     0.01,2,     0.71,2, -999.000,9, -999.000,9, -999.000,5, -999.000,5,-999.0000,5,  -999.00,9,   -999.0,9,  -999.00,9,-999.000,9,   2133.9,2,    516.7,2,  20,   -999.0,9,-999.0000,9, -999,  -999.0, -999.00,-999.0000,-999.000,-999.000
     316N151_3,   A20,    24,  1,     17,     17,2,19970724,0651, 38.6063, -52.2930, 5344, 7106.3,    696.0,  11.1191,  35.4252,2,  35.4258,2,    152.4,2, 11.0304,    150.6,2,    10.74,2,    20.57,2,     0.01,2,     1.29,2, -999.000,9, -999.000,9, -999.000,5, -999.000,5,-999.0000,5,  -999.00,9,   -999.0,9,  -999.00,9,-999.000,9,   2171.7,2,   -999.0,9,-999,   -999.0,9,-999.0000,9, -999,  -999.0, -999.00,-999.0000,-999.000,-999.000
     316N151_3,   A20,    24,  1,     16,     16,2,19970724,0651, 38.6063, -52.2930, 5344, 9141.2,    900.0,   6.8296,  35.0827,2,  35.0825,2,    191.2,2,  6.7420,    189.6,2,    13.84,2,    21.63,2,     0.01,2,     1.41,2, -999.000,9, -999.000,9, -999.000,5, -999.000,5,-999.0000,5,  -999.00,9,   -999.0,9,  -999.00,9,-999.000,9,   2180.0,2,    820.6,2,  20,   -999.0,9,-999.0000,9, -999,  -999.0, -999.00,-999.0000,-999.000,-999.000
     316N151_3,   A20,    24,  1,     15,     15,2,19970724,0651, 38.6063, -52.2930, 5344,11210.4,   1106.9,   5.0535,  35.0307,2,  35.0303,2,    233.2,2,  4.9590,    235.1,2,    12.58,2,    19.13,2,     0.01,2,     1.26,2, -999.000,9, -999.000,9, -999.000,5, -999.000,5,-999.0000,5,  -999.00,9,   -999.0,9,  -999.00,9,-999.000,9,   2168.0,2,    774.5,2,  20,   -999.0,9,-999.0000,9, -999,  -999.0, -999.00,-999.0000,-999.000,-999.000
     316N151_3,   A20,    24,  1,     14,     14,2,19970724,0651, 38.6063, -52.2930, 5344,14112.5,   1397.1,   4.2648,  34.9808,2,  34.9822,2,    254.8,2,  4.1511,    256.8,2,    12.10,2,    18.07,3,     0.01,2,     1.20,2, -999.000,9, -999.000,9, -999.000,5, -999.000,5,-999.0000,5,  -999.00,9,   -999.0,9,  -999.00,9,-999.000,9,   2161.2,2,    749.1,2,  20,   -999.0,9,-999.0000,9, -999,  -999.0, -999.00,-999.0000,-999.000,-999.000
     316N151_3,   A20,    24,  1,     13,     13,2,19970724,0651, 38.6063, -52.2930, 5344,17106.1,   1696.3,   3.7946,  34.9459,2,  34.9465,2,    269.5,2,  3.6589,    267.4,2,    12.10,2,    17.58,2,     0.00,2,     1.17,2, -999.000,9, -999.000,9, -999.000,5, -999.000,5,-999.0000,5,  -999.00,9,   -999.0,9,  -999.00,9,-999.000,9,   2157.3,2,   -999.0,9,-999,   -999.0,9,-999.0000,9, -999,  -999.0, -999.00,-999.0000,-999.000,-999.000
     316N151_3,   A20,    24,  1,     12,     12,2,19970724,0651, 38.6063, -52.2930, 5344,20160.5,   2001.6,   3.5673,  34.9374,2,  34.9397,2,    272.7,2,  3.4062,    273.4,2,    12.97,2,    17.47,2,     0.00,2,     1.16,2, -999.000,9, -999.000,9, -999.000,5, -999.000,5,-999.0000,5,  -999.00,9,   -999.0,9,  -999.00,9,-999.000,9,   2156.3,2,   -999.0,9,-999,   -999.0,9,-999.0000,9, -999,  -999.0, -999.00,-999.0000,-999.000,-999.000
     316N151_3,   A20,    24,  1,     11,     11,2,19970724,0651, 38.6063, -52.2930, 5344,23096.3,   2295.0,   3.4313,  34.9415,2,  34.9423,2,    271.6,2,  3.2439,    271.4,2,    14.32,2,    17.51,2,     0.00,2,     1.17,2, -999.000,9, -999.000,9, -999.000,5, -999.000,5,-999.0000,5,  -999.00,9,   -999.0,9,  -999.00,9,-999.000,9,   2157.4,2,   -999.0,9,-999,   -999.0,9,-999.0000,9, -999,  -999.0, -999.00,-999.0000,-999.000,-999.000
     316N151_3,   A20,    24,  1,     10,     10,2,19970724,0651, 38.6063, -52.2930, 5344,26143.1,   2599.5,   3.2934,  34.9495,2,  34.9511,2,    265.9,2,  3.0781,    266.9,2,    16.66,2,    17.71,2,     0.00,2,     1.19,2, -999.000,9, -999.000,9, -999.000,5, -999.000,5,-999.0000,5,  -999.00,9,   -999.0,9,  -999.00,9,-999.000,9,   2158.5,2,   -999.0,9,-999,   -999.0,9,-999.0000,9, -999,  -999.0, -999.00,-999.0000,-999.000,-999.000
     316N151_3,   A20,    24,  1,      9,      9,2,19970724,0651, 38.6063, -52.2930, 5344,29158.9,   2900.9,   3.0871,  34.9441,2,  34.9451,2,    265.8,2,  2.8447,    267.0,2,    18.89,2,    17.86,2,     0.00,2,     1.21,2, -999.000,9, -999.000,9, -999.000,5, -999.000,5,-999.0000,5,  -999.00,9,   -999.0,9,  -999.00,9,-999.000,9,   2161.5,2,   -999.0,9,-999,   -999.0,9,-999.0000,9, -999,  -999.0, -999.00,-999.0000,-999.000,-999.000
     316N151_3,   A20,    24,  1,      8,      8,2,19970724,0651, 38.6063, -52.2930, 5344,32156.8,   3200.5,   2.8426,  34.9333,2,  34.9338,2,    267.4,2,  2.5742,    267.3,2,    21.31,2,    18.00,2,     0.00,2,     1.22,2, -999.000,9, -999.000,9, -999.000,5, -999.000,5,-999.0000,5,  -999.00,9,   -999.0,9,  -999.00,9,-999.000,9,   2162.8,2,   -999.0,9,-999,   -999.0,9,-999.0000,9, -999,  -999.0, -999.00,-999.0000,-999.000,-999.000
     316N151_3,   A20,    24,  1,      7,      7,2,19970724,0651, 38.6063, -52.2930, 5344,35163.5,   3501.1,   2.6270,  34.9201,2,  34.9204,2,    269.0,2,  2.3312,    268.5,2,    23.36,2,    18.10,2,     0.00,2,     1.23,2, -999.000,9, -999.000,9, -999.000,5, -999.000,5,-999.0000,5,  -999.00,9,   -999.0,9,  -999.00,9,-999.000,9,   2163.5,2,   -999.0,9,-999,   -999.0,9,-999.0000,9, -999,  -999.0, -999.00,-999.0000,-999.000,-999.000
     316N151_3,   A20,    24,  1,      6,      6,2,19970724,0651, 38.6063, -52.2930, 5344,38193.1,   3803.9,   2.4340,  34.9076,2,  34.9079,2,    270.5,2,  2.1097,    270.1,2,    24.81,2,    18.00,2,     0.00,2,     1.22,2, -999.000,9, -999.000,9, -999.000,5, -999.000,5,-999.0000,5,  -999.00,9,   -999.0,9,  -999.00,9,-999.000,9,   2163.6,2,   -999.0,9,-999,   -999.0,9,-999.0000,9, -999,  -999.0, -999.00,-999.0000,-999.000,-999.000
     316N151_3,   A20,    24,  1,      5,      5,2,19970724,0651, 38.6063, -52.2930, 5344,41150.4,   4099.6,   2.3430,  34.8993,2,  34.9002,2,    270.3,2,  1.9877,    270.5,2,    25.98,2,    18.00,2,     0.00,2,     1.23,2, -999.000,9, -999.000,9, -999.000,5, -999.000,5,-999.0000,5,  -999.00,9,   -999.0,9,  -999.00,9,-999.000,9,   2167.8,2,   -999.0,9,-999,   -999.0,9,-999.0000,9, -999,  -999.0, -999.00,-999.0000,-999.000,-999.000
     316N151_3,   A20,    24,  1,      4,      4,2,19970724,0651, 38.6063, -52.2930, 5344,44161.2,   4400.5,   2.2960,  34.8933,2,  34.8941,2,    269.1,2,  1.9069,    268.3,2,    29.09,2,    18.42,2,     0.00,2,     1.26,2, -999.000,9, -999.000,9, -999.000,5, -999.000,5,-999.0000,5,  -999.00,9,   -999.0,9,  -999.00,9,-999.000,9,   2171.5,2,   -999.0,9,-999,   -999.0,9,-999.0000,9, -999,  -999.0, -999.00,-999.0000,-999.000,-999.000
     316N151_3,   A20,    24,  1,      3,      3,2,19970724,0651, 38.6063, -52.2930, 5344,48170.3,   4801.2,   2.2817,  34.8876,2,  34.8886,2,    266.9,2,  1.8444,    265.5,2,    32.11,2,    18.84,2,     0.00,2,     1.29,2, -999.000,9, -999.000,9, -999.000,5, -999.000,5,-999.0000,5,  -999.00,9,   -999.0,9,  -999.00,9,-999.000,9,   2175.3,2,   -999.0,9,-999,   -999.0,9,-999.0000,9, -999,  -999.0, -999.00,-999.0000,-999.000,-999.000
     316N151_3,   A20,    24,  1,      2,      2,2,19970724,0651, 38.6063, -52.2930, 5344,52169.3,   5201.0,   2.2614,  34.8793,2,  34.8791,2,    261.4,2,  1.7745,    260.9,2,    39.19,2,    20.00,2,     0.00,2,     1.38,2,    0.266,2,    0.154,2, -999.000,5, -999.000,5,-999.0000,5,  -999.00,9,   -999.0,9,  -999.00,9,-999.000,9,   2182.9,2,   -999.0,9,-999,   -999.0,9,-999.0000,9, -999,  -999.0, -999.00,-999.0000,-999.000,-999.000
     316N151_3,   A20,    24,  1,      1,      1,2,19970724,0651, 38.6063, -52.2930, 5344,54754.9,   5459.3,   2.2369,  34.8711,2,  34.8702,2,    256.5,2,  1.7174,    258.0,2,    44.37,6,    20.84,6,     0.01,6,     1.50,6,    0.177,2,    0.099,2, -999.000,5, -999.000,5,-999.0000,5,  -999.00,9,   -999.0,9,  -999.00,9,-999.000,9,   2192.0,2,   -999.0,9,-999,   -999.0,9,-999.0000,9, -999,  -999.0, -999.00,-999.0000,-999.000,-999.000