BOTTLE,20220812CCHSIOAMB
EXPOCODE,SECT_ID,STNNBR,CASTNO,SAMPNO,BTLNBR,BTLNBR_FLAG_W,DATE,TIME,LATITUDE,LONGITUDE,DEPTH,CTDRAW,CTDPRS,CTDTMP,CTDSAL,CTDSAL_FLAG_W,SALNTY,SALNTY_FLAG_W,CTDOXY,CTDOXY_FLAG_W,THETA,OXYGEN,OXYGEN_FLAG_W,SILCAT,SILCAT_FLAG_W,NITRAT,NITRAT_FLAG_W,NITRIT,NITRIT_FLAG_W,PHSPHT,PHSPHT_FLAG_W,CFC-11,CFC-11_FLAG_W,CFC-12,CFC-12_FLAG_W,CFC113,CFC113_FLAG_W,TRITUM,TRITUM_FLAG_W,HELIUM,HELIUM_FLAG_W,DELHE3,DELHE3_FLAG_W,DELC14,DELC14_FLAG_W,DELC13,DELC13_FLAG_W,NEON,NEON_FLAG_W,TCARBN,TCARBN_FLAG_W,PCO2,PCO2_FLAG_W,PCO2_TMP,ALKALI,ALKALI_FLAG_W,PH,PH_FLAG_W,PH_TMP,C14ERR,DELHER,HELIER,NEONER,TRITER
,,,,,,,,,,,,,DBAR,ITS-90,PSS-78,,PSS-78,,UMOL/KG,,ITS-90,UMOL/KG,,UMOL/KG,,UMOL/KG,,UMOL/KG,,UMOL/KG,,PMOL/KG,,PMOL/KG,,PMOL/KG,,TU,,NMOL/KG,,PERCNT,,/MILLE,,/MILLE,,NMOL/KG,,UMOL/KG,,UATM,,DEG C,UMOL/KG,,,,DEG C,/MILLE,PERCNT,NMOL/KG,NMOL/KG,TU
     316N151_3,   A20,    26,  1,     30,     30,2,19970724,1815, 38.0135, -52.3567, 5375,  242.1,     10.3,  24.4626,  36.3799,2,  36.3814,2,    214.5,2, 24.4604,    215.8,2,     0.74,2,     0.00,2,    -0.01,2,     0.02,2,    2.021,2,    1.161,2, -999.000,5, -999.000,5,   1.7293,2,    -1.71,2,   -999.0,9,  -999.00,9,   6.744,2,   -999.0,9,    295.4,2,  20,   2376.4,2,   8.0790,2,   25,  -999.0,    0.15,  0.0086,   0.034,-999.000
     316N151_3,   A20,    26,  1,     29,     29,2,19970724,1815, 38.0135, -52.3567, 5375,  632.9,     49.5,  21.1812,  36.4986,2,  36.4876,2,    233.2,2, 21.1716,    226.7,2,     0.56,2,     0.04,2,    -0.01,2,     0.02,2,    2.292,2,    1.308,2, -999.000,5,    1.042,2,   1.7435,2,    -2.19,2,   -999.0,9,  -999.00,9,   6.839,2,   -999.0,9,   -999.0,9,-999,   -999.0,9,-999.0000,9, -999,  -999.0,    0.15,  0.0087,   0.034,   0.013
     316N151_3,   A20,    26,  1,     28,     28,2,19970724,1815, 38.0135, -52.3567, 5375, 1119.2,     97.8,  18.8510,  36.5866,2,  36.5890,2,    214.9,2, 18.8335,    210.0,2,     1.02,2,     1.88,2,     0.02,2,     0.10,2,    2.410,2,    1.383,2, -999.000,5,    1.062,2,   1.7516,2,    -1.80,2,   -999.0,9,  -999.00,9,   6.910,2,   -999.0,9,   -999.0,9,-999,   -999.0,9,-999.0000,9, -999,  -999.0,    0.15,  0.0088,   0.035,   0.013
     316N151_3,   A20,    26,  1,     27,     27,2,19970724,1815, 38.0135, -52.3567, 5375, 1626.9,    148.2,  18.4872,  36.5884,2,  36.5867,2,    212.9,2, 18.4610,    213.5,2,     1.12,2,     2.27,2,     0.01,2,     0.12,2,    2.390,2,    1.376,2, -999.000,5,    1.052,2,   1.7588,2,    -1.54,2,   -999.0,9,  -999.00,9,   6.940,2,   -999.0,9,   -999.0,9,-999,   -999.0,9,-999.0000,9, -999,  -999.0,    0.15,  0.0088,   0.035,   0.013
     316N151_3,   A20,    26,  1,     26,     26,2,19970724,1815, 38.0135, -52.3567, 5375, 2125.9,    197.7,  18.3126,  36.5750,2,  36.5750,2,    215.1,2, 18.2779,    214.3,2,     1.22,2,     2.57,2,     0.00,2,     0.13,2,    2.403,2,    1.363,2, -999.000,5,    1.076,2,   1.7505,2,    -1.23,2,   -999.0,9,  -999.00,9,   6.904,2,   -999.0,9,   -999.0,9,-999,   -999.0,9,-999.0000,9, -999,  -999.0,    0.15,  0.0088,   0.035,   0.013
     316N151_3,   A20,    26,  1,     25,     25,2,19970724,1815, 38.0135, -52.3567, 5375, 2651.9,    249.7,  18.1899,  36.5645,2,  36.5651,2,    220.4,2, 18.1462,    213.6,2,     1.31,2,     2.76,2,     0.00,2,     0.14,2,    2.389,2,    1.355,2, -999.000,5,    1.068,2,   1.7412,2,    -0.84,2,   -999.0,9,  -999.00,9,   6.879,2,   -999.0,9,   -999.0,9,-999,   -999.0,9,-999.0000,9, -999,  -999.0,    0.15,  0.0087,   0.034,   0.015
     316N151_3,   A20,    26,  1,     24,     24,2,19970724,1815, 38.0135, -52.3567, 5375, 3394.2,    323.5,  17.9993,  36.5384,2,  36.5382,2,    218.9,2, 17.9430,    212.9,2,     1.40,2,     3.20,2,     0.00,2,     0.17,2,    2.414,2,    1.337,2, -999.000,5,    1.088,2,   1.7584,2,    -1.08,2,   -999.0,9,  -999.00,9,   7.148,2,   -999.0,9,   -999.0,9,-999,   -999.0,9,-999.0000,9, -999,  -999.0,    0.15,  0.0088,   0.036,   0.013
     316N151_3,   A20,    26,  1,     23,     23,2,19970724,1815, 38.0135, -52.3567, 5375, 4160.4,    399.9,  17.8710,  36.5262,2,  36.5266,2,    221.8,2, 17.8016,    220.3,2,     1.31,2,     2.87,2,     0.00,2,     0.15,2,    2.431,2,    1.374,2, -999.000,5,    1.071,2,   1.7492,2,    -2.20,2,   -999.0,9,  -999.00,9,   7.099,2,   -999.0,9,   -999.0,9,-999,   -999.0,9,-999.0000,9, -999,  -999.0,    0.15,  0.0087,   0.035,   0.013
     316N151_3,   A20,    26,  1,     22,     22,2,19970724,1815, 38.0135, -52.3567, 5375, 5375.1,    521.7,  16.5935,  36.2712,2,  36.2749,2,    194.3,2, 16.5073,    187.7,2,     2.84,2,     7.96,2,     0.00,2,     0.45,2,    2.156,2,    1.163,2, -999.000,5,    1.239,2,   1.7552,2,     3.26,2,   -999.0,9,  -999.00,9,   7.129,2,   -999.0,9,   -999.0,9,-999,   -999.0,9,-999.0000,9, -999,  -999.0,    0.15,  0.0088,   0.036,   0.014
     316N151_3,   A20,    26,  1,     21,     21,2,19970724,1815, 38.0135, -52.3567, 5375, 6887.4,    673.5,  13.7233,  35.7869,2,  35.7874,2,    178.6,2, 13.6250,    172.4,2,     5.89,2,    13.93,2,     0.00,2,     0.85,2,    1.836,2,    0.992,2, -999.000,5,    1.206,2,   1.7746,2,     5.37,2,   -999.0,9,  -999.00,9,   7.470,2,   -999.0,9,   -999.0,9,-999,   -999.0,9,-999.0000,9, -999,  -999.0,    0.15,  0.0089,   0.037,   0.014
     316N151_3,   A20,    26,  1,     20,     20,2,19970724,1815, 38.0135, -52.3567, 5375, 8181.6,    803.5,  10.5326,  35.3486,2,  35.3577,2,    153.1,2, 10.4331,    151.0,2,    11.64,2,    21.53,2,    -0.01,2,     1.36,2,    1.026,2,    0.545,2, -999.000,5,    0.846,2,   1.7899,2,     6.91,2,   -999.0,9,  -999.00,9,   7.590,2,   -999.0,9,   -999.0,9,-999,   -999.0,9,-999.0000,9, -999,  -999.0,    0.15,  0.0089,   0.038,   0.012
     316N151_3,   A20,    26,  1,     19,     19,2,19970724,1815, 38.0135, -52.3567, 5375, 9409.9,    926.6,   8.4427,  35.1884,2,  35.1975,2,    173.3,2,  8.3413,    170.5,2,    12.89,2,    21.75,2,    -0.01,2,     1.40,2,    1.088,2,    0.545,2, -999.000,5,    0.821,2,   1.8072,2,     7.51,2,   -999.0,9,  -999.00,9,   7.665,2,   -999.0,9,   -999.0,9,-999,   -999.0,9,-999.0000,9, -999,  -999.0,    0.15,  0.0090,   0.038,   0.012
     316N151_3,   A20,    26,  1,     18,     18,2,19970724,1815, 38.0135, -52.3567, 5375,10661.7,   1052.0,   6.5892,  35.1178,2,  35.1205,2,    198.9,2,  6.4876,    201.0,2,    13.17,2,    20.54,2,    -0.01,2,     1.34,2,    1.203,6,    0.591,6, -999.000,5,    0.848,2,   1.8293,2,     7.07,2,   -999.0,9,  -999.00,9,   7.935,2,   -999.0,9,   -999.0,9,-999,   -999.0,9,-999.0000,9, -999,  -999.0,    0.15,  0.0091,   0.040,   0.014
     316N151_3,   A20,    26,  1,     17,     17,2,19970724,1815, 38.0135, -52.3567, 5375,12642.3,   1250.1,   5.4146,  35.0948,2,  35.0954,2,    231.3,2,  5.3031,    230.9,2,    12.50,2,    18.99,2,    -0.01,2,     1.24,2,    1.334,2,    0.654,2, -999.000,5,    0.849,2,   1.8342,2,     7.60,2,   -999.0,9,  -999.00,9,   7.971,2,   -999.0,9,   -999.0,9,-999,   -999.0,9,-999.0000,9, -999,  -999.0,    0.15,  0.0092,   0.040,   0.012
     316N151_3,   A20,    26,  1,     16,     16,2,19970724,1815, 38.0135, -52.3567, 5375,15163.1,   1502.1,   4.4864,  35.0190,2,  35.0209,2,    255.0,2,  4.3605,    252.6,2,    12.30,2,    18.22,2,     0.00,2,     1.20,2,    1.340,2,    0.646,2, -999.000,5,    0.859,2,   1.8398,2,     7.71,2,   -999.0,9,  -999.00,9,   7.996,2,   -999.0,9,   -999.0,9,-999,   -999.0,9,-999.0000,9, -999,  -999.0,    0.15,  0.0092,   0.040,   0.012
     316N151_3,   A20,    26,  1,     15,     15,2,19970724,1815, 38.0135, -52.3567, 5375,17674.3,   1753.1,   4.0417,  34.9858,2,  34.9873,2,    264.0,2,  3.8974,    261.2,2,    12.78,2,    17.93,2,     0.00,2,     1.19,2,    1.165,2,    0.593,2, -999.000,5,    0.723,2,   1.8290,2,     7.32,2,   -999.0,9,  -999.00,9,   7.965,2,   -999.0,9,   -999.0,9,-999,   -999.0,9,-999.0000,9, -999,  -999.0,    0.15,  0.0091,   0.040,   0.012
     316N151_3,   A20,    26,  1,     14,     14,2,19970724,1815, 38.0135, -52.3567, 5375,20180.1,   2003.5,   3.7402,  34.9648,2,  34.9669,2,    267.5,2,  3.5762,    265.8,2,    13.64,2,    17.78,2,     0.00,2,     1.18,2,    1.088,2,    0.550,2, -999.000,5, -999.000,5,   1.8439,2,     6.47,2,   -999.0,9,  -999.00,9,   8.009,2,   -999.0,9,   -999.0,9,-999,   -999.0,9,-999.0000,9, -999,  -999.0,    0.15,  0.0092,   0.040,-999.000
     316N151_3,   A20,    26,  1,     13,     13,2,19970724,1815, 38.0135, -52.3567, 5375,23160.7,   2301.3,   3.5505,  34.9705,2,  34.9708,2,    264.7,2,  3.3604,    263.1,2,    16.23,2,    18.03,2,     0.00,2,     1.20,2,    0.602,2,    0.321,2, -999.000,5,    0.466,2,   1.8476,2,     5.10,2,   -999.0,9,  -999.00,9,   8.175,2,   -999.0,9,   -999.0,9,-999,   -999.0,9,-999.0000,9, -999,  -999.0,    0.15,  0.0092,   0.041,   0.013
     316N151_3,   A20,    26,  1,     12,     12,2,19970724,1815, 38.0135, -52.3567, 5375,26166.7,   2601.8,   3.3317,  34.9668,2,  34.9696,2,    262.0,2,  3.1153,    260.7,2,    19.48,2,    18.40,2,     0.00,2,     1.24,2,    0.295,2,    0.153,2, -999.000,5,    0.250,2,   1.8610,2,     4.00,2,   -999.0,9,  -999.00,9,   8.130,2,   -999.0,9,   -999.0,9,-999,   -999.0,9,-999.0000,9, -999,  -999.0,    0.15,  0.0093,   0.041,   0.011
     316N151_3,   A20,    26,  1,     11,     11,2,19970724,1815, 38.0135, -52.3567, 5375,29164.1,   2901.5,   3.1051,  34.9542,2,  34.9550,2,    259.9,2,  2.8623,    260.9,2,    22.07,2,    18.71,2,    -0.01,2,     1.25,2,    0.214,2,    0.113,2, -999.000,5,    0.142,2,   1.8668,2,     3.57,2,   -999.0,9,  -999.00,9,   8.103,2,   -999.0,9,   -999.0,9,-999,   -999.0,9,-999.0000,9, -999,  -999.0,    0.15,  0.0093,   0.041,   0.015
     316N151_3,   A20,    26,  1,     10,     10,2,19970724,1815, 38.0135, -52.3567, 5375,32160.1,   3201.0,   2.8225,  34.9344,2,  34.9362,2,    264.6,2,  2.5545,    264.8,2,    23.22,2,    18.48,2,     0.00,2,     1.25,2,    0.267,6,    0.138,6, -999.000,5, -999.000,5,-999.0000,5,  -999.00,9,   -999.0,9,  -999.00,9,-999.000,9,   -999.0,9,   -999.0,9,-999,   -999.0,9,-999.0000,9, -999,  -999.0, -999.00,-999.0000,-999.000,-999.000
     316N151_3,   A20,    26,  1,      9,      9,2,19970724,1815, 38.0135, -52.3567, 5375,35150.1,   3499.8,   2.5809,  34.9191,2,  34.9198,2,    266.8,2,  2.2865,    265.7,2,    25.42,2,    18.48,2,     0.00,2,     1.26,2,    0.247,2,    0.134,2, -999.000,5,    0.213,2,   1.8631,2,     4.03,2,   -999.0,9,  -999.00,9,   8.176,2,   -999.0,9,   -999.0,9,-999,   -999.0,9,-999.0000,9, -999,  -999.0,    0.15,  0.0093,   0.041,   0.011
     316N151_3,   A20,    26,  1,      8,      8,2,19970724,1815, 38.0135, -52.3567, 5375,38157.4,   3800.4,   2.4170,  34.9075,2,  34.9077,2,    267.6,2,  2.0937,    267.2,2,    27.24,2,    18.48,2,     0.00,2,     1.26,2,    0.347,2,    0.176,2, -999.000,5, -999.000,5,-999.0000,5,  -999.00,9,   -999.0,9,  -999.00,9,-999.000,9,   -999.0,9,   -999.0,9,-999,   -999.0,9,-999.0000,9, -999,  -999.0, -999.00,-999.0000,-999.000,-999.000
     316N151_3,   A20,    26,  1,      7,      7,2,19970724,1815, 38.0135, -52.3567, 5375,40631.7,   4047.7,   2.3238,  34.8988,2,  34.8985,2,    266.7,2,  1.9751,    266.5,2,    29.63,2,    18.70,2,     0.00,2,     1.28,2,    0.378,2,    0.200,2, -999.000,5,    0.311,2,   1.8346,2,     4.51,2,   -999.0,9,  -999.00,9,   8.057,2,   -999.0,9,   -999.0,9,-999,   -999.0,9,-999.0000,9, -999,  -999.0,    0.15,  0.0092,   0.040,   0.011
     316N151_3,   A20,    26,  1,      6,      6,2,19970724,1815, 38.0135, -52.3567, 5375,43175.8,   4302.0,   2.2839,  34.8929,2,  34.8941,2,    265.6,2,  1.9067,    265.0,2,    31.93,2,    19.00,2,    -0.01,2,     1.30,2,    0.373,2,    0.197,2, -999.000,5, -999.000,5,-999.0000,5,  -999.00,9,   -999.0,9,  -999.00,9,-999.000,9,   -999.0,9,   -999.0,9,-999,   -999.0,9,-999.0000,9, -999,  -999.0, -999.00,-999.0000,-999.000,-999.000
     316N151_3,   A20,    26,  1,      5,      5,2,19970724,1815, 38.0135, -52.3567, 5375,45642.0,   4548.4,   2.2576,  34.8876,2,  34.8884,2,    264.2,2,  1.8520,    263.3,2,    34.52,2,    19.40,2,     0.00,2,     1.33,2,    0.349,2,    0.184,2, -999.000,5,    0.220,2,   1.8842,2,     4.44,2,   -999.0,9,  -999.00,9,   8.333,2,   -999.0,9,   -999.0,9,-999,   -999.0,9,-999.0000,9, -999,  -999.0,    0.15,  0.0094,   0.042,   0.012
     316N151_3,   A20,    26,  1,      4,      4,2,19970724,1815, 38.0135, -52.3567, 5375,47664.8,   4750.7,   2.2380,  34.8825,2,  34.8836,2,    262.2,2,  1.8085,    261.4,2,    37.20,2,    19.81,2,     0.00,2,     1.36,2,    0.311,2,    0.168,2, -999.000,5, -999.000,5,-999.0000,5,  -999.00,9,   -999.0,9,  -999.00,9,-999.000,9,   -999.0,9,   -999.0,9,-999,   -999.0,9,-999.0000,9, -999,  -999.0, -999.00,-999.0000,-999.000,-999.000
     316N151_3,   A20,    26,  1,      3,      3,2,19970724,1815, 38.0135, -52.3567, 5375,50167.2,   5000.7,   2.2160,  34.8761,2,  34.8767,2,    259.8,2,  1.7561,    258.6,2,    41.13,2,    20.44,2,     0.00,2,     1.41,2,    0.218,2,    0.123,2, -999.000,5, -999.000,5,-999.0000,5,  -999.00,9,   -999.0,9,  -999.00,9,-999.000,9,   -999.0,9,   -999.0,9,-999,   -999.0,9,-999.0000,9, -999,  -999.0, -999.00,-999.0000,-999.000,-999.000
     316N151_3,   A20,    26,  1,      2,      2,2,19970724,1815, 38.0135, -52.3567, 5375,53165.7,   5300.5,   2.1965,  34.8692,2,  34.8694,2,    257.7,2,  1.6991,    256.1,2,    45.15,2,    21.14,2,     0.00,2,     1.45,2, -999.000,9, -999.000,9, -999.000,5,    0.131,2,   1.9744,2,     3.25,2,   -999.0,9,  -999.00,9,   8.493,2,   -999.0,9,   -999.0,9,-999,   -999.0,9,-999.0000,9, -999,  -999.0,    0.15,  0.0099,   0.042,   0.010
     316N151_3,   A20,    26,  1,      1,      1,2,19970724,1815, 38.0135, -52.3567, 5375,53177.4,   5301.7,   2.1978,  34.8698,2,  34.8714,2,    257.9,2,  1.7002,    256.8,2,    45.20,6,    21.10,6,     0.00,6,     1.46,6,    0.150,2,    0.087,2, -999.000,5, -999.000,5,-999.0000,5,  -999.00,9,   -999.0,9,  -999.00,9,-999.000,9,   -999.0,9,   -999.0,9,-999,   -999.0,9,-999.0000,9, -999,  -999.0, -999.00,-999.0000,-999.000,-999.000