BOTTLE,20220812CCHSIOAMB
EXPOCODE,SECT_ID,STNNBR,CASTNO,SAMPNO,BTLNBR,BTLNBR_FLAG_W,DATE,TIME,LATITUDE,LONGITUDE,DEPTH,CTDRAW,CTDPRS,CTDTMP,CTDSAL,CTDSAL_FLAG_W,SALNTY,SALNTY_FLAG_W,CTDOXY,CTDOXY_FLAG_W,THETA,OXYGEN,OXYGEN_FLAG_W,SILCAT,SILCAT_FLAG_W,NITRAT,NITRAT_FLAG_W,NITRIT,NITRIT_FLAG_W,PHSPHT,PHSPHT_FLAG_W,CFC-11,CFC-11_FLAG_W,CFC-12,CFC-12_FLAG_W,CFC113,CFC113_FLAG_W,TRITUM,TRITUM_FLAG_W,HELIUM,HELIUM_FLAG_W,DELHE3,DELHE3_FLAG_W,DELC14,DELC14_FLAG_W,DELC13,DELC13_FLAG_W,NEON,NEON_FLAG_W,TCARBN,TCARBN_FLAG_W,PCO2,PCO2_FLAG_W,PCO2_TMP,ALKALI,ALKALI_FLAG_W,PH,PH_FLAG_W,PH_TMP,C14ERR,DELHER,HELIER,NEONER,TRITER
,,,,,,,,,,,,,DBAR,ITS-90,PSS-78,,PSS-78,,UMOL/KG,,ITS-90,UMOL/KG,,UMOL/KG,,UMOL/KG,,UMOL/KG,,UMOL/KG,,PMOL/KG,,PMOL/KG,,PMOL/KG,,TU,,NMOL/KG,,PERCNT,,/MILLE,,/MILLE,,NMOL/KG,,UMOL/KG,,UATM,,DEG C,UMOL/KG,,,,DEG C,/MILLE,PERCNT,NMOL/KG,NMOL/KG,TU
     316N151_3,   A20,    80,  1,     18,     18,2,19970808,0421,  7.9327, -53.0820, 1229,  184.0,      0.5,  28.7852,  30.7755,2,  30.8017,2,    213.7,2, 28.7851,    219.6,2,    11.00,2,     0.00,2,    -0.01,2,     0.07,2, -999.000,9, -999.000,9, -999.000,5, -999.000,5,-999.0000,5,  -999.00,9,   -999.0,9,  -999.00,9,-999.000,9,   1722.5,2,   -999.0,9,-999,   2065.9,2,   8.2050,2,   25,  -999.0, -999.00,-999.0000,-999.000,-999.000
     316N151_3,   A20,    80,  1,     17,     17,2,19970808,0421,  7.9327, -53.0820, 1229,  257.6,      8.8,  28.9217,  32.8701,2,  33.1474,2,    211.3,2, 28.9196,    212.9,2,     9.04,2,     0.00,2,     0.00,2,     0.08,2,    1.677,2,    1.006,2, -999.000,5, -999.000,5,-999.0000,5,  -999.00,9,   -999.0,9,  -999.00,9,-999.000,9,   1867.3,2,   -999.0,9,-999,   2195.2,2,   8.1290,2,   25,  -999.0, -999.00,-999.0000,-999.000,-999.000
     316N151_3,   A20,    80,  1,     16,     16,2,19970808,0421,  7.9327, -53.0820, 1229,  617.6,     46.6,  26.4306,  36.2379,2,  36.2539,2,    200.6,2, 26.4200,    196.3,2,     1.30,2,     0.42,2,     0.12,2,     0.09,2,    1.766,2,    1.053,2, -999.000,5, -999.000,5,-999.0000,5,  -999.00,9,   -999.0,9,  -999.00,9,-999.000,9,   2031.1,2,   -999.0,9,-999,   2373.4,2,   8.0860,2,   25,  -999.0, -999.00,-999.0000,-999.000,-999.000
     316N151_3,   A20,    80,  1,     15,     15,2,19970808,0421,  7.9327, -53.0820, 1229, 1139.5,     99.8,  20.0094,  36.5116,2,  36.4914,2,    146.4,2, 19.9908,    134.1,2,     3.52,2,    10.21,2,     0.02,2,     0.63,2,    1.821,2,    1.032,2, -999.000,5, -999.000,5,-999.0000,5,  -999.00,9,   -999.0,9,  -999.00,9,-999.000,9,   2148.5,2,   -999.0,9,-999,   2384.5,2,   7.8960,2,   25,  -999.0, -999.00,-999.0000,-999.000,-999.000
     316N151_3,   A20,    80,  1,     14,     14,2,19970808,0421,  7.9327, -53.0820, 1229, 1606.0,    147.0,  15.2034,  35.8305,2,  35.8069,2,    127.8,2, 15.1808,    122.4,2,     7.02,2,    17.83,2,     0.01,2,     1.13,2,    1.550,6,    0.844,6, -999.000,5, -999.000,5,-999.0000,5,  -999.00,9,   -999.0,9,  -999.00,9,-999.000,9,   -999.0,9,   -999.0,9,-999,   2348.8,2,   7.7870,2,   25,  -999.0, -999.00,-999.0000,-999.000,-999.000
     316N151_3,   A20,    80,  1,     13,     13,2,19970808,0421,  7.9327, -53.0820, 1229, 2148.6,    201.8,  11.7849,  35.2698,2,  35.2710,2,    125.0,2, 11.7588,    121.3,2,    10.51,2,    23.13,2,     0.00,2,     1.50,2,    1.175,2,    0.634,2, -999.000,5, -999.000,5,-999.0000,5,  -999.00,9,   -999.0,9,  -999.00,9,-999.000,9,   2182.7,2,   -999.0,9,-999,   2320.1,2,   7.7020,2,   25,  -999.0, -999.00,-999.0000,-999.000,-999.000
     316N151_3,   A20,    80,  1,     12,     12,2,19970808,0421,  7.9327, -53.0820, 1229, 2632.5,    250.4,  10.5125,  35.0691,2,  35.0707,2,    122.1,2, 10.4824,    121.6,2,    12.26,2,    25.44,2,     0.00,2,     1.66,2,    0.987,2,    0.533,2, -999.000,5, -999.000,5,-999.0000,5,  -999.00,9,   -999.0,9,  -999.00,9,-999.000,9,   2188.6,2,   -999.0,9,-999,   2314.1,2,   7.6660,2,   25,  -999.0, -999.00,-999.0000,-999.000,-999.000
     316N151_3,   A20,    80,  1,     11,     11,2,19970808,0421,  7.9327, -53.0820, 1229, 3163.3,    303.7,   9.0994,  34.8697,2,  34.8688,2,    119.3,2,  9.0660,    122.0,2,    14.98,2,    28.39,2,     0.00,2,     1.86,2,    0.733,2,    0.390,2, -999.000,5, -999.000,5,-999.0000,5,  -999.00,9,   -999.0,9,  -999.00,9,-999.000,9,   2197.4,2,   -999.0,9,-999,   2303.8,2,   7.6340,2,   25,  -999.0, -999.00,-999.0000,-999.000,-999.000
     316N151_3,   A20,    80,  1,     10,     10,2,19970808,0421,  7.9327, -53.0820, 1229, 3635.6,    351.2,   8.4042,  34.7797,2,  34.7808,2,    122.6,2,  8.3673,    125.7,2,    16.34,2,    29.44,2,     0.00,2,     1.93,2,    0.641,2,    0.350,2, -999.000,5, -999.000,5,-999.0000,5,  -999.00,9,   -999.0,9,  -999.00,9,-999.000,9,   2198.5,2,   -999.0,9,-999,   2302.6,2,   7.6140,2,   25,  -999.0, -999.00,-999.0000,-999.000,-999.000
     316N151_3,   A20,    80,  1,      9,      9,2,19970808,0421,  7.9327, -53.0820, 1229, 4616.1,    449.6,   7.3840,  34.6790,2,  34.6776,2,    119.0,2,  7.3400,    123.1,2,    19.74,2,    32.18,2,     0.00,2,     2.11,2,    0.370,2,    0.205,2, -999.000,5, -999.000,5,-999.0000,5,  -999.00,9,   -999.0,9,  -999.00,9,-999.000,9,   -999.0,9,   -999.0,9,-999,   2297.7,2,   7.5800,2,   25,  -999.0, -999.00,-999.0000,-999.000,-999.000
     316N151_3,   A20,    80,  1,      8,      8,2,19970808,0421,  7.9327, -53.0820, 1229, 5627.4,    551.1,   6.8283,  34.6364,2,  34.6319,2,    123.2,2,  6.7763,    123.9,2,    21.77,2,    33.08,2,     0.00,2,     2.19,2,    0.369,2,    0.202,2, -999.000,5, -999.000,5,-999.0000,5,  -999.00,9,   -999.0,9,  -999.00,9,-999.000,9,   2213.8,2,   -999.0,9,-999,   2300.4,2,   7.5670,2,   25,  -999.0, -999.00,-999.0000,-999.000,-999.000
     316N151_3,   A20,    80,  1,      7,      7,2,19970808,0421,  7.9327, -53.0820, 1229, 6607.8,    649.5,   6.0183,  34.6183,2,  34.6156,2,    127.2,2,  5.9606,    127.2,2,    25.35,2,    34.09,2,     0.00,2,     2.28,2,    0.109,2,    0.066,2, -999.000,5, -999.000,5,-999.0000,5,  -999.00,9,   -999.0,9,  -999.00,9,-999.000,9,   2218.1,2,   -999.0,9,-999,   2299.5,2,   7.5620,2,   25,  -999.0, -999.00,-999.0000,-999.000,-999.000
     316N151_3,   A20,    80,  1,      6,      6,2,19970808,0421,  7.9327, -53.0820, 1229, 7613.2,    750.4,   5.4273,  34.5904,2,  34.5887,2,    133.2,2,  5.3636,    134.3,2,    27.88,2,    34.21,2,     0.00,2,     2.31,2,    0.074,2,    0.048,2, -999.000,5, -999.000,5,-999.0000,5,  -999.00,9,   -999.0,9,  -999.00,9,-999.000,9,   2218.7,2,   -999.0,9,-999,   2303.7,2,   7.5680,2,   25,  -999.0, -999.00,-999.0000,-999.000,-999.000
     316N151_3,   A20,    80,  1,      5,      5,2,19970808,0421,  7.9327, -53.0820, 1229, 8564.0,    845.8,   5.1075,  34.6186,2,  34.6164,2,    140.1,2,  5.0371,    140.6,2,    29.05,2,    33.70,2,     0.00,2,     2.29,2,    0.037,2,    0.028,2, -999.000,5, -999.000,5,-999.0000,5,  -999.00,9,   -999.0,9,  -999.00,9,-999.000,9,   2220.7,2,   -999.0,9,-999,   2304.7,2,   7.5720,2,   25,  -999.0, -999.00,-999.0000,-999.000,-999.000
     316N151_3,   A20,    80,  1,      4,      4,2,19970808,0421,  7.9327, -53.0820, 1229, 9555.4,    945.3,   5.0853,  34.7332,2,  34.7308,2,    150.0,2,  5.0060,    151.3,2,    27.30,2,    31.35,2,     0.00,2,     2.13,2, -999.000,9, -999.000,9, -999.000,5, -999.000,5,-999.0000,5,  -999.00,9,   -999.0,9,  -999.00,9,-999.000,9,   2214.7,2,   -999.0,9,-999,   2310.8,2,   7.6000,2,   25,  -999.0, -999.00,-999.0000,-999.000,-999.000
     316N151_3,   A20,    80,  1,      3,      3,2,19970808,0421,  7.9327, -53.0820, 1229,10567.0,   1047.1,   5.1838,  34.8515,2,  34.8506,2,    167.7,2,  5.0941,    168.1,2,    24.12,2,    28.44,2,     0.00,2,     1.91,2,    0.072,2,    0.045,2, -999.000,5, -999.000,5,-999.0000,5,  -999.00,9,   -999.0,9,  -999.00,9,-999.000,9,   2203.5,2,   -999.0,9,-999,   2313.3,2,   7.6370,2,   25,  -999.0, -999.00,-999.0000,-999.000,-999.000
     316N151_3,   A20,    80,  1,      2,      2,2,19970808,0421,  7.9327, -53.0820, 1229,11613.5,   1152.3,   5.0827,  34.9591,2,  34.9563,2,    195.1,2,  4.9839,    197.7,2,    19.86,2,    24.17,2,     0.00,2,     1.62,2, -999.000,9, -999.000,9, -999.000,5, -999.000,5,-999.0000,5,  -999.00,9,   -999.0,9,  -999.00,9,-999.000,9,   2188.0,2,   -999.0,9,-999,   2319.3,2,   7.6860,2,   25,  -999.0, -999.00,-999.0000,-999.000,-999.000
     316N151_3,   A20,    80,  1,      1,      1,2,19970808,0421,  7.9327, -53.0820, 1229,12296.7,   1221.2,   4.8922,  34.9996,2,  34.9980,2,    216.8,2,  4.7886,    219.2,2,    17.59,6,    21.82,6,     0.00,6,     1.46,6,    0.294,2,    0.157,2, -999.000,5, -999.000,5,-999.0000,5,  -999.00,9,   -999.0,9,  -999.00,9,-999.000,9,   2178.1,2,   -999.0,9,-999,   2315.7,2,   7.7070,2,   25,  -999.0, -999.00,-999.0000,-999.000,-999.000
     316N151_3,   A20,    81,  1,     18,     18,2,19970808,0626,  7.8170, -53.1430, 1197,  181.5,      0.4,  28.7489,  30.5772,2,  30.6045,2,    270.5,2, 28.7488,    214.0,2,    11.25,2,     0.01,2,    -0.01,2,     0.04,2, -999.000,9, -999.000,9, -999.000,5, -999.000,5,-999.0000,5,  -999.00,9,   -999.0,9,  -999.00,9,-999.000,9,   1714.0,2,   -999.0,9,-999,   2049.4,2,   8.2060,2,   25,  -999.0, -999.00,-999.0000,-999.000,-999.000
     316N151_3,   A20,    81,  1,     17,     17,2,19970808,0626,  7.8170, -53.1430, 1197,  245.1,      7.9,  28.8153,  33.7507,2,  33.6803,2,    217.7,2, 28.8134,    200.8,2,     7.85,2,     0.09,2,     0.00,2,     0.10,2, -999.000,9, -999.000,9, -999.000,5, -999.000,5,-999.0000,5,  -999.00,9,   -999.0,9,  -999.00,9,-999.000,9,   -999.0,9,   -999.0,9,-999,   -999.0,9,-999.0000,9, -999,  -999.0, -999.00,-999.0000,-999.000,-999.000
     316N151_3,   A20,    81,  1,     16,     16,2,19970808,0626,  7.8170, -53.1430, 1197,  636.4,     48.6,  26.2516,  36.2112,2,  36.2178,2,    201.9,2, 26.2406,    196.5,2,     1.10,2,     0.16,2,     0.09,2,     0.05,2, -999.000,9, -999.000,9, -999.000,5, -999.000,5,-999.0000,5,  -999.00,9,   -999.0,9,  -999.00,9,-999.000,9,   -999.0,9,   -999.0,9,-999,   -999.0,9,-999.0000,9, -999,  -999.0, -999.00,-999.0000,-999.000,-999.000
     316N151_3,   A20,    81,  1,     15,     15,4,19970808,0626,  7.8170, -53.1430, 1197, 1129.9,     99.4,  20.2564,  36.5146,2,-999.0000,9,    144.3,2, 20.2377,   -999.0,9,  -999.00,9,  -999.00,9,  -999.00,9,  -999.00,9, -999.000,9, -999.000,9, -999.000,5, -999.000,5,-999.0000,5,  -999.00,9,   -999.0,9,  -999.00,9,-999.000,9,   -999.0,9,   -999.0,9,-999,   -999.0,9,-999.0000,9, -999,  -999.0, -999.00,-999.0000,-999.000,-999.000
     316N151_3,   A20,    81,  1,     14,     14,2,19970808,0626,  7.8170, -53.1430, 1197, 1673.0,    153.9,  11.8165,  35.1746,2,  35.1758,2,    145.5,2, 11.7966,    142.6,2,     9.40,2,    20.64,2,     0.01,2,     1.39,2, -999.000,9, -999.000,9, -999.000,5, -999.000,5,-999.0000,5,  -999.00,9,   -999.0,9,  -999.00,9,-999.000,9,   -999.0,9,   -999.0,9,-999,   -999.0,9,-999.0000,9, -999,  -999.0, -999.00,-999.0000,-999.000,-999.000
     316N151_3,   A20,    81,  1,     13,     13,2,19970808,0626,  7.8170, -53.1430, 1197, 2010.5,    187.9,  10.9150,  35.0327,2,  35.0332,2,    142.7,2, 10.8920,    144.1,2,    10.48,2,    22.29,2,     0.01,2,     1.50,2, -999.000,9, -999.000,9, -999.000,5, -999.000,5,-999.0000,5,  -999.00,9,   -999.0,9,  -999.00,9,-999.000,9,   -999.0,9,   -999.0,9,-999,   -999.0,9,-999.0000,9, -999,  -999.0, -999.00,-999.0000,-999.000,-999.000
     316N151_3,   A20,    81,  1,     12,     12,2,19970808,0626,  7.8170, -53.1430, 1197, 2647.3,    251.8,  10.2738,  34.9877,2,  34.9902,2,    132.0,2, 10.2440,    133.3,2,    12.22,2,    24.69,2,     0.00,2,     1.64,2, -999.000,9, -999.000,9, -999.000,5, -999.000,5,-999.0000,5,  -999.00,9,   -999.0,9,  -999.00,9,-999.000,9,   -999.0,9,   -999.0,9,-999,   -999.0,9,-999.0000,9, -999,  -999.0, -999.00,-999.0000,-999.000,-999.000
     316N151_3,   A20,    81,  1,     11,     11,2,19970808,0626,  7.8170, -53.1430, 1197, 3142.3,    301.5,   9.2118,  34.8675,2,  34.8651,2,    126.0,2,  9.1785,    126.8,2,    14.45,2,    27.68,2,     0.00,2,     1.82,2, -999.000,9, -999.000,9, -999.000,5, -999.000,5,-999.0000,5,  -999.00,9,   -999.0,9,  -999.00,9,-999.000,9,   -999.0,9,   -999.0,9,-999,   -999.0,9,-999.0000,9, -999,  -999.0, -999.00,-999.0000,-999.000,-999.000
     316N151_3,   A20,    81,  1,     10,     10,2,19970808,0626,  7.8170, -53.1430, 1197, 3627.4,    350.2,   8.7935,  34.8264,2,  34.8257,2,    125.4,2,  8.7558,    127.6,2,    15.43,2,    28.43,2,     0.00,2,     1.87,2, -999.000,9, -999.000,9, -999.000,5, -999.000,5,-999.0000,5,  -999.00,9,   -999.0,9,  -999.00,9,-999.000,9,   -999.0,9,   -999.0,9,-999,   -999.0,9,-999.0000,9, -999,  -999.0, -999.00,-999.0000,-999.000,-999.000
     316N151_3,   A20,    81,  1,      9,      9,2,19970808,0626,  7.8170, -53.1430, 1197, 4626.4,    450.5,   7.3548,  34.6812,2,  34.6766,2,    119.6,2,  7.3108,    120.9,2,    19.78,2,    32.09,2,     0.00,2,     2.11,2, -999.000,9, -999.000,9, -999.000,5, -999.000,5,-999.0000,5,  -999.00,9,   -999.0,9,  -999.00,9,-999.000,9,   -999.0,9,   -999.0,9,-999,   -999.0,9,-999.0000,9, -999,  -999.0, -999.00,-999.0000,-999.000,-999.000
     316N151_3,   A20,    81,  1,      8,      8,2,19970808,0626,  7.8170, -53.1430, 1197, 5602.7,    548.5,   6.8364,  34.6520,2,  34.6458,2,    122.7,2,  6.7846,    123.2,2,    21.82,2,    32.95,2,     0.00,2,     2.19,2, -999.000,9, -999.000,9, -999.000,5, -999.000,5,-999.0000,5,  -999.00,9,   -999.0,9,  -999.00,9,-999.000,9,   -999.0,9,   -999.0,9,-999,   -999.0,9,-999.0000,9, -999,  -999.0, -999.00,-999.0000,-999.000,-999.000
     316N151_3,   A20,    81,  1,      7,      7,2,19970808,0626,  7.8170, -53.1430, 1197, 6603.9,    649.0,   5.9771,  34.6000,2,  34.6004,2,    129.5,2,  5.9197,    129.2,2,    25.11,2,    33.77,2,     0.00,2,     2.27,2, -999.000,9, -999.000,9, -999.000,5, -999.000,5,-999.0000,5,  -999.00,9,   -999.0,9,  -999.00,9,-999.000,9,   -999.0,9,   -999.0,9,-999,   -999.0,9,-999.0000,9, -999,  -999.0, -999.00,-999.0000,-999.000,-999.000
     316N151_3,   A20,    81,  1,      6,      6,2,19970808,0626,  7.8170, -53.1430, 1197, 7581.8,    747.1,   5.5092,  34.5839,2,  34.5834,2,    133.0,2,  5.4453,    132.2,2,    27.34,2,    34.16,2,     0.00,2,     2.31,2,    0.069,6,    0.045,6, -999.000,5, -999.000,5,-999.0000,5,  -999.00,9,   -999.0,9,  -999.00,9,-999.000,9,   -999.0,9,   -999.0,9,-999,   -999.0,9,-999.0000,9, -999,  -999.0, -999.00,-999.0000,-999.000,-999.000
     316N151_3,   A20,    81,  1,      5,      5,2,19970808,0626,  7.8170, -53.1430, 1197, 8596.3,    849.0,   5.0896,  34.6044,2,  34.6049,2,    141.8,2,  5.0191,    141.4,2,    29.08,2,    33.68,2,     0.00,2,     2.29,2,    0.044,2,    0.025,2, -999.000,5, -999.000,5,-999.0000,5,  -999.00,9,   -999.0,9,  -999.00,9,-999.000,9,   -999.0,9,   -999.0,9,-999,   -999.0,9,-999.0000,9, -999,  -999.0, -999.00,-999.0000,-999.000,-999.000
     316N151_3,   A20,    81,  1,      4,      4,2,19970808,0626,  7.8170, -53.1430, 1197, 9595.7,    949.3,   5.0914,  34.7286,2,  34.7261,2,    151.6,2,  5.0117,    150.7,2,    27.45,2,    31.39,2,     0.00,2,     2.13,2,    0.043,2,    0.029,2, -999.000,5, -999.000,5,-999.0000,5,  -999.00,9,   -999.0,9,  -999.00,9,-999.000,9,   -999.0,9,   -999.0,9,-999,   -999.0,9,-999.0000,9, -999,  -999.0, -999.00,-999.0000,-999.000,-999.000
     316N151_3,   A20,    81,  1,      3,      3,2,19970808,0626,  7.8170, -53.1430, 1197,10599.5,   1050.3,   5.1305,  34.8499,2,  34.8483,2,    169.6,2,  5.0410,    168.8,2,    24.18,2,    28.19,2,     0.00,2,     1.91,2,    0.068,2,    0.039,2, -999.000,5, -999.000,5,-999.0000,5,  -999.00,9,   -999.0,9,  -999.00,9,-999.000,9,   -999.0,9,   -999.0,9,-999,   -999.0,9,-999.0000,9, -999,  -999.0, -999.00,-999.0000,-999.000,-999.000
     316N151_3,   A20,    81,  1,      2,      2,2,19970808,0626,  7.8170, -53.1430, 1197,11353.0,   1126.1,   5.1021,  34.9293,2,  34.9289,2,    189.5,2,  5.0056,    188.0,2,    21.39,2,    25.31,2,     0.00,2,     1.71,2,    0.141,6,    0.077,6, -999.000,5, -999.000,5,-999.0000,5,  -999.00,9,   -999.0,9,  -999.00,9,-999.000,9,   -999.0,9,   -999.0,9,-999,   -999.0,9,-999.0000,9, -999,  -999.0, -999.00,-999.0000,-999.000,-999.000
     316N151_3,   A20,    81,  1,      1,      1,2,19970808,0626,  7.8170, -53.1430, 1197,11996.7,   1191.1,   5.0084,  34.9721,2,  34.9707,2,    202.6,2,  4.9066,    203.6,2,    19.92,6,    23.38,6,     0.00,6,     1.58,6,    0.198,2,    0.111,2, -999.000,5, -999.000,5,-999.0000,5,  -999.00,9,   -999.0,9,  -999.00,9,-999.000,9,   -999.0,9,   -999.0,9,-999,   -999.0,9,-999.0000,9, -999,  -999.0, -999.00,-999.0000,-999.000,-999.000