BOTTLE,20220812CCHSIOAMB
EXPOCODE,SECT_ID,STNNBR,CASTNO,SAMPNO,BTLNBR,BTLNBR_FLAG_W,DATE,TIME,LATITUDE,LONGITUDE,DEPTH,CTDRAW,CTDPRS,CTDTMP,CTDSAL,CTDSAL_FLAG_W,SALNTY,SALNTY_FLAG_W,CTDOXY,CTDOXY_FLAG_W,THETA,OXYGEN,OXYGEN_FLAG_W,SILCAT,SILCAT_FLAG_W,NITRAT,NITRAT_FLAG_W,NITRIT,NITRIT_FLAG_W,PHSPHT,PHSPHT_FLAG_W,CFC-11,CFC-11_FLAG_W,CFC-12,CFC-12_FLAG_W,CFC113,CFC113_FLAG_W,TRITUM,TRITUM_FLAG_W,HELIUM,HELIUM_FLAG_W,DELHE3,DELHE3_FLAG_W,DELC14,DELC14_FLAG_W,DELC13,DELC13_FLAG_W,NEON,NEON_FLAG_W,TCARBN,TCARBN_FLAG_W,PCO2,PCO2_FLAG_W,PCO2_TMP,ALKALI,ALKALI_FLAG_W,PH,PH_FLAG_W,PH_TMP,C14ERR,DELHER,HELIER,NEONER,TRITER
,,,,,,,,,,,,,DBAR,ITS-90,PSS-78,,PSS-78,,UMOL/KG,,ITS-90,UMOL/KG,,UMOL/KG,,UMOL/KG,,UMOL/KG,,UMOL/KG,,PMOL/KG,,PMOL/KG,,PMOL/KG,,TU,,NMOL/KG,,PERCNT,,/MILLE,,/MILLE,,NMOL/KG,,UMOL/KG,,UATM,,DEG C,UMOL/KG,,,,DEG C,/MILLE,PERCNT,NMOL/KG,NMOL/KG,TU
     316N151_3,   A20,    60,  1,     33,     33,2,19970803,1645, 15.5800, -52.3312, 5115,  265.2,      9.0,  27.8660,  36.2759,2,  36.2772,2,    208.7,2, 27.8639,    206.3,2,     1.47,2,     0.05,2,     0.00,2,     0.01,2,    1.704,2,    1.010,2, -999.000,5,    0.788,2,   1.7149,2,    -1.52,2,   -999.0,9,  -999.00,9,   6.630,2,   2005.0,2,    263.2,2,  20,   2374.2,2,   8.1240,2,   25,  -999.0,    0.15,  0.0086,   0.033,   0.013
     316N151_3,   A20,    60,  1,     32,     32,2,19970803,1645, 15.5800, -52.3312, 5115,  669.4,     49.6,  26.6901,  36.9974,2,  36.9818,2,    219.8,2, 26.6787,    218.2,2,     1.02,2,     0.05,2,     0.00,2,     0.01,2, -999.000,9, -999.000,9, -999.000,5, -999.000,5,-999.0000,5,  -999.00,9,   -999.0,9,  -999.00,9,-999.000,9,   2038.4,2,    266.0,2,  20,   2418.2,6,   8.1260,6,   25,  -999.0, -999.00,-999.0000,-999.000,-999.000
     316N151_3,   A20,    60,  1,     31,     31,2,19970803,1645, 15.5800, -52.3312, 5115, 1123.2,     95.4,  24.5894,  37.3502,2,  37.3520,2,    219.3,2, 24.5688,    218.5,2,     0.86,2,     0.10,2,     0.00,2,     0.01,2, -999.000,9, -999.000,9, -999.000,5,    0.935,2,   1.7137,2,    -1.62,2,   -999.0,9,  -999.00,9,   6.708,2,   2065.4,2,    280.1,2,  20,   2437.9,2,   8.1070,2,   25,  -999.0,    0.15,  0.0086,   0.034,   0.013
     316N151_3,   A20,    60,  1,     30,     30,2,19970803,1645, 15.5800, -52.3312, 5115, 1627.4,    146.3,  22.8129,  37.2996,2,  37.3081,2,    204.2,2, 22.7829,    203.9,2,     0.88,2,     0.16,2,     0.05,2,     0.02,2,    2.044,2,    1.167,2, -999.000,5, -999.000,5,-999.0000,5,  -999.00,9,   -999.0,9,  -999.00,9,-999.000,9,   2092.5,2,    318.6,2,  20,   2436.7,2,   8.0630,2,   25,  -999.0, -999.00,-999.0000,-999.000,-999.000
     316N151_3,   A20,    60,  1,     29,     29,2,19970803,1645, 15.5800, -52.3312, 5115, 2139.2,    197.8,  19.5240,  36.8099,2,  36.8154,2,    167.4,2, 19.4876,    170.7,2,     1.69,2,     5.02,2,     0.02,2,     0.27,2, -999.000,9, -999.000,9, -999.000,5, -999.000,5,   1.7421,2,    -0.07,2,   -999.0,9,  -999.00,9,   6.944,2,   2131.9,2,    422.6,2,  20,   2403.2,2,   7.9580,2,   25,  -999.0,    0.15,  0.0087,   0.035,-999.000
     316N151_3,   A20,    60,  1,     28,     28,2,19970803,1645, 15.5800, -52.3312, 5115, 2633.4,    247.5,  18.1900,  36.5948,2,  36.5945,2,    175.8,2, 18.1466,    181.8,2,     1.90,2,     5.64,2,     0.01,2,     0.31,2,    2.268,2,    1.242,2, -999.000,5, -999.000,5,   1.7484,2,     0.39,2,   -999.0,9,  -999.00,9,   7.004,2,   2120.5,2,    420.3,2,  20,   2388.2,2,   7.9610,2,   25,  -999.0,    0.15,  0.0087,   0.035,-999.000
     316N151_3,   A20,    60,  1,     27,     27,2,19970803,1645, 15.5800, -52.3312, 5115, 3141.8,    298.7,  16.3933,  36.2862,2,  36.2861,2,    151.7,2, 16.3447,    147.6,2,     3.86,2,    12.05,2,     0.01,2,     0.72,2, -999.000,9, -999.000,9, -999.000,5, -999.000,5,-999.0000,5,  -999.00,9,   -999.0,9,  -999.00,9,-999.000,9,   2154.7,2,   -999.0,9,-999,   2370.4,2,   7.8640,2,   25,  -999.0, -999.00,-999.0000,-999.000,-999.000
     316N151_3,   A20,    60,  1,     26,     26,2,19970803,1645, 15.5800, -52.3312, 5115, 3648.6,    349.8,  14.3353,  35.9211,2,  35.9224,2,    133.3,2, 14.2833,    130.0,2,     6.03,2,    16.95,2,     0.00,2,     1.02,2, -999.000,9, -999.000,9, -999.000,5, -999.000,5,   1.7682,2,     5.41,2,   -999.0,9,  -999.00,9,   7.203,2,   2172.7,2,    648.7,2,  20,   2351.0,2,   7.7960,2,   25,  -999.0,    0.15,  0.0088,   0.036,-999.000
     316N151_3,   A20,    60,  1,     25,     25,2,19970803,1645, 15.5800, -52.3312, 5115, 4638.5,    449.4,  12.0040,  35.5397,2,  35.5428,2,    115.1,2, 11.9444,    113.8,2,     9.73,2,    22.61,2,     0.00,2,     1.39,2,    0.893,2,    0.448,2, -999.000,5,    0.866,2,   1.7763,2,     7.43,2,   -999.0,9,  -999.00,9,   7.318,2,   2191.1,2,    799.3,2,  20,   2331.8,2,   7.7100,2,   25,  -999.0,    0.15,  0.0089,   0.037,   0.013
     316N151_3,   A20,    60,  1,     24,     24,2,19970803,1645, 15.5800, -52.3312, 5115, 5638.1,    549.7,   9.7207,  35.2081,2,  35.2100,2,    114.7,2,  9.6567,    113.3,2,    14.70,2,    26.97,2,     0.00,2,     1.72,2, -999.000,9, -999.000,9, -999.000,5, -999.000,5,-999.0000,5,  -999.00,9,   -999.0,9,  -999.00,9,-999.000,9,   2204.0,2,    931.8,2,  20,   2321.8,2,   7.6500,2,   25,  -999.0, -999.00,-999.0000,-999.000,-999.000
     316N151_3,   A20,    60,  1,     23,     23,2,19970803,1645, 15.5800, -52.3312, 5115, 6896.6,    675.8,   7.3290,  34.8539,2,  34.8507,2,    121.6,2,  7.2621,    121.7,2,    20.94,2,    30.98,2,     0.00,2,     2.04,2, -999.000,9, -999.000,9, -999.000,5,    0.176,2,   1.8133,2,     2.79,2,   -999.0,9,  -999.00,9,   7.614,2,   2216.0,2,   1055.2,2,  20,   2307.7,2,   7.5990,2,   25,  -999.0,    0.15,  0.0091,   0.038,   0.013
     316N151_3,   A20,    60,  1,     22,     22,2,19970803,1645, 15.5800, -52.3312, 5115, 8147.7,    800.9,   5.9761,  34.7189,2,  34.7191,2,    129.8,2,  5.9043,    130.3,2,    25.62,2,    32.47,2,     0.00,2,     2.19,2, -999.000,9, -999.000,9, -999.000,5, -999.000,5,-999.0000,5,  -999.00,9,   -999.0,9,  -999.00,9,-999.000,9,   2222.2,2,   -999.0,9,-999,   2306.2,2,   7.5750,2,   25,  -999.0, -999.00,-999.0000,-999.000,-999.000
     316N151_3,   A20,    60,  1,     21,     21,2,19970803,1645, 15.5800, -52.3312, 5115, 9644.0,    950.4,   5.4749,  34.7616,2,  34.7618,2,    143.2,2,  5.3922,    143.3,2,    26.33,2,    31.13,2,     0.00,2,     2.13,2,    0.025,2,    0.018,2, -999.000,5,    0.057,2,-999.0000,5,  -999.00,9,   -999.0,9,  -999.00,9,-999.000,9,   2218.8,2,   1086.3,2,  20,   2309.6,2,   7.5950,2,   25,  -999.0, -999.00,-999.0000,-999.000,   0.010
     316N151_3,   A20,    60,  1,     20,     20,2,19970803,1645, 15.5800, -52.3312, 5115,11154.7,   1101.3,   5.3722,  34.8812,2,  34.8824,2,    162.9,2,  5.2758,    166.2,2,    23.64,2,    27.81,2,     0.00,2,     1.89,2,    0.052,2,    0.032,2, -999.000,5, -999.000,5,-999.0000,5,  -999.00,9,   -999.0,9,  -999.00,9,-999.000,9,   2206.1,2,    973.8,2,  20,   2316.8,2,   7.6390,2,   25,  -999.0, -999.00,-999.0000,-999.000,-999.000
     316N151_3,   A20,    60,  1,     19,     19,2,19970803,1645, 15.5800, -52.3312, 5115,12655.3,   1251.2,   5.1344,  34.9533,2,  34.9562,2,    186.8,2,  5.0257,    191.0,2,    20.95,2,    24.73,2,     0.00,2,     1.68,2,    0.091,2,    0.052,2, -999.000,5, -999.000,5,-999.0000,5,  -999.00,9,   -999.0,9,  -999.00,9,-999.000,9,   2196.2,2,    884.7,2,  20,   2316.1,2,   7.6740,2,   25,  -999.0, -999.00,-999.0000,-999.000,-999.000
     316N151_3,   A20,    60,  1,     18,     18,2,19970803,1645, 15.5800, -52.3312, 5115,14163.9,   1402.1,   4.8624,  34.9979,2,  35.0013,2,    212.8,2,  4.7419,    215.7,2,    17.97,2,    21.76,2,     0.00,2,     1.48,2,    0.174,2,    0.096,2, -999.000,5, -999.000,5,-999.0000,5,  -999.00,9,   -999.0,9,  -999.00,9,-999.000,9,   2180.7,2,    809.3,2,  20,   2318.1,2,   7.7070,2,   25,  -999.0, -999.00,-999.0000,-999.000,-999.000
     316N151_3,   A20,    60,  1,     17,     17,2,19970803,1645, 15.5800, -52.3312, 5115,15654.6,   1551.1,   4.4965,  35.0062,2,  35.0085,2,    233.8,2,  4.3659,    236.3,2,    16.45,2,    20.05,2,     0.00,2,     1.36,2,    0.204,2,    0.113,2, -999.000,5, -999.000,5,-999.0000,5,  -999.00,9,   -999.0,9,  -999.00,9,-999.000,9,   2172.5,2,    773.8,2,  20,   2316.6,2,   7.7290,2,   25,  -999.0, -999.00,-999.0000,-999.000,-999.000
     316N151_3,   A20,    60,  1,     16,     16,2,19970803,1645, 15.5800, -52.3312, 5115,17172.8,   1702.9,   4.1179,  34.9983,2,  34.9993,2,    243.6,2,  3.9773,    247.7,2,    16.48,2,    19.20,2,     0.00,2,     1.30,2,    0.211,2,    0.116,2, -999.000,5, -999.000,5,-999.0000,5,  -999.00,9,   -999.0,9,  -999.00,9,-999.000,9,   2166.6,2,   -999.0,9,-999,   2315.3,2,   7.7370,2,   25,  -999.0, -999.00,-999.0000,-999.000,-999.000
     316N151_3,   A20,    60,  1,     15,     15,2,19970803,1645, 15.5800, -52.3312, 5115,18604.0,   1845.9,   3.8462,  34.9903,2,  34.9930,2,    249.9,2,  3.6956,    251.2,2,    17.67,2,    19.07,2,     0.00,2,     1.29,2,    0.090,2,    0.058,2, -999.000,5, -999.000,5,-999.0000,5,  -999.00,9,   -999.0,9,  -999.00,9,-999.000,9,   2164.8,2,    742.2,2,  20,   2316.6,2,   7.7430,2,   25,  -999.0, -999.00,-999.0000,-999.000,-999.000
     316N151_3,   A20,    60,  1,     14,     14,2,19970803,1645, 15.5800, -52.3312, 5115,20638.6,   2049.3,   3.5338,  34.9779,2,  34.9801,2,    254.6,2,  3.3684,    254.4,2,    19.63,2,    18.87,2,     0.00,2,     1.29,2,    0.056,2,    0.035,2, -999.000,5, -999.000,5,-999.0000,5,  -999.00,9,   -999.0,9,  -999.00,9,-999.000,9,   2167.1,2,   -999.0,9,-999,   2320.9,2,   7.7520,2,   25,  -999.0, -999.00,-999.0000,-999.000,-999.000
     316N151_3,   A20,    60,  1,     13,     13,2,19970803,1645, 15.5800, -52.3312, 5115,23127.9,   2298.0,   3.2656,  34.9621,2,  34.9647,2,    253.4,2,  3.0806,    255.9,2,    23.25,2,    19.20,2,     0.00,2,     1.31,2, -999.000,9, -999.000,9, -999.000,5, -999.000,5,-999.0000,5,  -999.00,9,   -999.0,9,  -999.00,9,-999.000,9,   2169.0,2,    736.3,2,  20,   2321.2,2,   7.7450,2,   25,  -999.0, -999.00,-999.0000,-999.000,-999.000
     316N151_3,   A20,    60,  1,     12,     12,2,19970803,1645, 15.5800, -52.3312, 5115,25652.4,   2550.5,   2.9803,  34.9441,2,  34.9461,2,    254.3,2,  2.7757,    255.1,2,    28.51,2,    19.71,2,     0.00,2,     1.36,2, -999.000,9, -999.000,9, -999.000,5, -999.000,5,-999.0000,5,  -999.00,9,   -999.0,9,  -999.00,9,-999.000,9,   2176.4,2,   -999.0,9,-999,   2331.8,3,   7.7450,2,   25,  -999.0, -999.00,-999.0000,-999.000,-999.000
     316N151_3,   A20,    60,  1,     11,     11,2,19970803,1645, 15.5800, -52.3312, 5115,28113.2,   2796.3,   2.8307,  34.9355,2,  34.9376,2,    257.0,2,  2.6046,    258.8,3,    29.21,2,    19.58,2,     0.00,2,     1.34,2, -999.000,9, -999.000,9, -999.000,5, -999.000,5,-999.0000,5,  -999.00,9,   -999.0,9,  -999.00,9,-999.000,9,   2175.6,2,    738.0,2,  20,   2327.7,2,   7.7460,2,   25,  -999.0, -999.00,-999.0000,-999.000,-999.000
     316N151_3,   A20,    60,  1,     10,     10,2,19970803,1645, 15.5800, -52.3312, 5115,30657.2,   3050.6,   2.7129,  34.9261,2,  34.9268,2,    253.0,2,  2.4632,    255.3,2,    32.63,2,    19.95,2,     0.00,2,     1.38,2, -999.000,9, -999.000,9, -999.000,5, -999.000,5,-999.0000,5,  -999.00,9,   -999.0,9,  -999.00,9,-999.000,9,   2180.2,2,    745.0,2,  20,   2332.2,2,   7.7460,2,   25,  -999.0, -999.00,-999.0000,-999.000,-999.000
     316N151_3,   A20,    60,  1,      9,      9,2,19970803,1645, 15.5800, -52.3312, 5115,33111.5,   3295.8,   2.6060,  34.9182,2,  34.9206,2,    255.8,2,  2.3329,    262.1,3,    32.95,2,    19.86,2,     0.00,2,     1.36,2, -999.000,9, -999.000,9, -999.000,5, -999.000,5,-999.0000,5,  -999.00,9,   -999.0,9,  -999.00,9,-999.000,9,   2179.0,2,   -999.0,9,-999,   2329.8,2,   7.7460,2,   25,  -999.0, -999.00,-999.0000,-999.000,-999.000
     316N151_3,   A20,    60,  1,      8,      8,2,19970803,1645, 15.5800, -52.3312, 5115,35654.8,   3550.2,   2.4758,  34.9069,2,  34.9079,2,    253.8,2,  2.1786,    257.8,2,    36.27,2,    20.22,2,     0.00,2,     1.39,2,    0.047,2,    0.029,2, -999.000,5, -999.000,5,-999.0000,5,  -999.00,9,   -999.0,9,  -999.00,9,-999.000,9,   2182.8,2,    749.1,2,  20,   2334.5,2,   7.7430,2,   25,  -999.0, -999.00,-999.0000,-999.000,-999.000
     316N151_3,   A20,    60,  1,      7,      7,2,19970803,1645, 15.5800, -52.3312, 5115,38132.0,   3797.8,   2.3365,  34.8908,2,  34.8925,2,    253.3,2,  2.0157,    254.3,2,    42.60,2,    21.10,2,     0.00,2,     1.46,2,    0.022,2,    0.018,2, -999.000,5, -999.000,5,-999.0000,5,  -999.00,9,   -999.0,9,  -999.00,9,-999.000,9,   2191.5,3,    760.6,2,  20,   2337.0,2,   7.7370,2,   25,  -999.0, -999.00,-999.0000,-999.000,-999.000
     316N151_3,   A20,    60,  1,      6,      6,2,19970803,1645, 15.5800, -52.3312, 5115,40677.4,   4052.3,   2.2256,  34.8798,2,  34.8817,2,    252.3,2,  1.8791,    254.3,2,    44.96,2,    21.32,2,     0.00,2,     1.47,2,    0.026,2,    0.020,2, -999.000,5, -999.000,5,-999.0000,5,  -999.00,9,   -999.0,9,  -999.00,9,-999.000,9,   2193.0,3,    766.6,2,  20,   2340.5,2,   7.7350,2,   25,  -999.0, -999.00,-999.0000,-999.000,-999.000
     316N151_3,   A20,    60,  1,      5,      5,2,19970803,1645, 15.5800, -52.3312, 5115,43151.7,   4299.5,   2.1437,  34.8726,2,  34.8688,3,    253.8,2,  1.7712,    257.7,3,    45.66,2,    21.18,2,     0.00,2,     1.47,2,    0.055,2,    0.036,2, -999.000,5, -999.000,5,-999.0000,5,  -999.00,9,   -999.0,9,  -999.00,9,-999.000,9,   2192.3,2,   -999.0,9,-999,   2338.0,2,   7.7330,2,   25,  -999.0, -999.00,-999.0000,-999.000,-999.000
     316N151_3,   A20,    60,  1,      4,      4,2,19970803,1645, 15.5800, -52.3312, 5115,45637.6,   4548.1,   2.0060,  34.8575,2,  34.8570,2,    253.6,2,  1.6085,    253.7,2,    51.22,2,    21.85,2,     0.00,2,     1.51,2, -999.000,9, -999.000,9, -999.000,5, -999.000,5,-999.0000,5,  -999.00,9,   -999.0,9,  -999.00,9,-999.000,9,   2197.5,2,   -999.0,9,-999,   2343.6,2,   7.7290,2,   25,  -999.0, -999.00,-999.0000,-999.000,-999.000
     316N151_3,   A20,    60,  1,      3,      3,2,19970803,1645, 15.5800, -52.3312, 5115,48162.7,   4800.6,   1.8584,  34.8366,2,  34.8358,2,    247.9,2,  1.4354,    249.3,2,    60.44,2,    23.25,2,     0.00,2,     1.62,2, -999.000,9, -999.000,9, -999.000,5, -999.000,5,-999.0000,5,  -999.00,9,   -999.0,9,  -999.00,9,-999.000,9,   2206.3,2,   -999.0,9,-999,   2348.0,2,   7.7160,2,   25,  -999.0, -999.00,-999.0000,-999.000,-999.000
     316N151_3,   A20,    60,  1,      2,      2,2,19970803,1645, 15.5800, -52.3312, 5115,50177.8,   5002.0,   1.8496,  34.8328,2,  34.8334,2,    247.7,2,  1.4022,    247.1,2,    62.32,2,    23.56,2,     0.00,2,     1.63,2, -999.000,9, -999.000,9, -999.000,5, -999.000,5,-999.0000,5,  -999.00,9,   -999.0,9,  -999.00,9,-999.000,9,   2210.9,2,   -999.0,9,-999,   2347.7,6,   7.7100,6,   25,  -999.0, -999.00,-999.0000,-999.000,-999.000
     316N151_3,   A20,    60,  1,      1,      1,2,19970803,1645, 15.5800, -52.3312, 5115,52093.5,   5193.3,   1.8685,  34.8324,2,  34.8305,2,    245.9,2,  1.3966,    245.8,2,    62.76,6,    23.59,6,     0.00,6,     1.63,6,    0.051,2,    0.034,2, -999.000,5, -999.000,5,-999.0000,5,  -999.00,9,   -999.0,9,  -999.00,9,-999.000,9,   2208.5,2,    817.5,2,  20,   2351.7,2,   7.7120,2,   25,  -999.0, -999.00,-999.0000,-999.000,-999.000