BOTTLE,20220812CCHSIOAMB
# Changed PCO2 with units UATM@20 to PCO2 with units UATM
# Added PCO2_TMP [DEG C] column with values of 20 where there are PCO2 data
# Changed PH with units 25_DEG to just PH no units
# Added PH_TMP [DEG C] column with values of 25 where there are PH data
# Changed SALNTY flag from 4 to 5 at the following locations:
# STN 41, cast 1, sample 10
# STN 76, cast 1, sample 20
# Changed SALNTY flag from 2 to 9 at the following locations:
# STN 95, cast 1, sample 1
# Changed SILCAT flag from 2 to 9 at the following locations:
# STN 87, cast 1, sample 6
# STN 88, cast 1, sample 7
# STN 90, cast 1, sample 7
# Changed NITRIT flag from 2 to 9 at the following locations:
# STN 7, cast 1, sample 19
# STN 13, cast 1, sample 28
# STN 17, cast 1, sample 24
# STN 18, cast 1, sample 29
# STN 18, cast 1, sample 28
#BOTTLE,20110510CCHDOSIODM
#Changed CFC units from PMOL/L to PMOL/KG. Original data file from Deborah Lebel, LDEO, received April 10, 2002, says "08 Apr 2001; CFCs are in pmol/kg"
#BOTTLE,20080826WHPSIODBK
#code : jjward hyd_to_exchange.pl 
#original files copied from HTML directory: 20080826
#original HYD file: a20hy.txt   Tue Aug 26 11:29:57 2008
#original SUM file: a20su.txt   Mon Aug 25 11:33:14 2008
EXPOCODE,SECT_ID,STNNBR,CASTNO,SAMPNO,BTLNBR,BTLNBR_FLAG_W,DATE,TIME,LATITUDE,LONGITUDE,DEPTH,CTDRAW,CTDPRS,CTDTMP,CTDSAL,CTDSAL_FLAG_W,SALNTY,SALNTY_FLAG_W,CTDOXY,CTDOXY_FLAG_W,THETA,OXYGEN,OXYGEN_FLAG_W,SILCAT,SILCAT_FLAG_W,NITRAT,NITRAT_FLAG_W,NITRIT,NITRIT_FLAG_W,PHSPHT,PHSPHT_FLAG_W,CFC-11,CFC-11_FLAG_W,CFC-12,CFC-12_FLAG_W,CFC113,CFC113_FLAG_W,TRITUM,TRITUM_FLAG_W,HELIUM,HELIUM_FLAG_W,DELHE3,DELHE3_FLAG_W,DELC14,DELC14_FLAG_W,DELC13,DELC13_FLAG_W,NEON,NEON_FLAG_W,TCARBN,TCARBN_FLAG_W,PCO2,PCO2_FLAG_W,PCO2_TMP,ALKALI,ALKALI_FLAG_W,PH,PH_FLAG_W,PH_TMP,C14ERR,DELHER,HELIER,NEONER,TRITER
,,,,,,,,,,,,,DBAR,ITS-90,PSS-78,,PSS-78,,UMOL/KG,,ITS-90,UMOL/KG,,UMOL/KG,,UMOL/KG,,UMOL/KG,,UMOL/KG,,PMOL/KG,,PMOL/KG,,PMOL/KG,,TU,,NMOL/KG,,PERCNT,,/MILLE,,/MILLE,,NMOL/KG,,UMOL/KG,,UATM,,DEG C,UMOL/KG,,,,DEG C,/MILLE,PERCNT,NMOL/KG,NMOL/KG,TU
     316N151_3,   A20,     6,  1,     12,     12,2,19970720,0914, 42.9673, -50.8453,  156,  452.4,      2.3,  13.6227,  33.1000,2,-999.0000,9,    103.2,4, 13.6224,   -999.0,9,  -999.00,9,  -999.00,9,  -999.00,9,  -999.00,9, -999.000,9, -999.000,9, -999.000,5, -999.000,5,   1.8326,2,    -1.43,2,   -999.0,9,  -999.00,9,   7.684,2,   2011.1,2,   -999.0,9,-999,   2224.8,2,   7.9170,2,   25,  -999.0,    0.15,  0.0092,   0.038,-999.000
     316N151_3,   A20,     6,  1,     11,     11,2,19970720,0914, 42.9673, -50.8453,  156,  452.3,      2.5,  13.6279,  33.0968,2,  33.1010,2,    103.3,4, 13.6275,    273.3,2,     0.36,2,     0.04,2,     0.00,2,     0.24,2,    3.851,2,    1.983,2, -999.000,5, -999.000,5,-999.0000,5,  -999.00,9,   -999.0,9,  -999.00,9,-999.000,9,   -999.0,9,    452.3,2,  20,   -999.0,9,-999.0000,9, -999,  -999.0, -999.00,-999.0000,-999.000,-999.000
     316N151_3,   A20,     6,  1,     10,     10,2,19970720,0914, 42.9673, -50.8453,  156,  906.3,     51.0,  -0.6219,  33.1358,2,-999.0000,9,    166.0,4, -0.6233,   -999.0,9,  -999.00,9,  -999.00,9,  -999.00,9,  -999.00,9, -999.000,9, -999.000,9, -999.000,5, -999.000,5,-999.0000,5,  -999.00,9,   -999.0,9,  -999.00,9,-999.000,9,   2110.4,2,    799.9,2,  20,   2238.9,2,   7.6890,2,   25,  -999.0, -999.00,-999.0000,-999.000,-999.000
     316N151_3,   A20,     6,  1,      9,      9,2,19970720,0914, 42.9673, -50.8453,  156,  908.4,     51.2,  -0.5035,  33.1298,2,  33.1380,2,    166.2,4, -0.5049,    335.7,2,     4.20,2,     7.42,2,     0.13,2,     0.92,2,    6.528,2,    3.326,2, -999.000,5, -999.000,5,-999.0000,5,  -999.00,9,   -999.0,9,  -999.00,9,-999.000,9,   -999.0,9,   -999.0,9,-999,   -999.0,9,-999.0000,9, -999,  -999.0, -999.00,-999.0000,-999.000,-999.000
     316N151_3,   A20,     6,  1,      8,      8,2,19970720,0914, 42.9673, -50.8453,  156, 1368.0,    100.1,   6.9269,  34.3011,2,-999.0000,9,    141.3,4,  6.9177,   -999.0,9,  -999.00,9,  -999.00,9,  -999.00,9,  -999.00,9, -999.000,9, -999.000,9, -999.000,5, -999.000,5,   1.8429,2,    -0.05,2,   -999.0,9,  -999.00,9,   8.059,2,   2104.8,2,    613.4,2,  20,   2284.0,2,   7.8110,2,   25,  -999.0,    0.15,  0.0092,   0.040,-999.000
     316N151_3,   A20,     6,  1,      7,      7,2,19970720,0914, 42.9673, -50.8453,  156, 1364.5,    100.3,   6.9692,  34.3062,2,  34.3085,2,    141.5,4,  6.9600,    268.6,2,     3.91,2,     7.31,2,     0.16,2,     0.72,2,    4.614,2,    2.324,2, -999.000,5, -999.000,5,-999.0000,5,  -999.00,9,   -999.0,9,  -999.00,9,-999.000,9,   -999.0,9,   -999.0,9,-999,   -999.0,9,-999.0000,9, -999,  -999.0, -999.00,-999.0000,-999.000,-999.000
     316N151_3,   A20,     6,  1,      6,      6,2,19970720,0914, 42.9673, -50.8453,  156, 1846.3,    151.8,   6.2445,  34.2856,2,-999.0000,9,    148.7,4,  6.2314,   -999.0,9,  -999.00,9,  -999.00,9,  -999.00,9,  -999.00,9, -999.000,9, -999.000,9, -999.000,5, -999.000,5,   1.8897,2,     1.04,2,   -999.0,9,  -999.00,9,   8.210,2,   2120.3,2,    666.3,2,  20,   2284.3,2,   7.7660,2,   25,  -999.0,    0.15,  0.0094,   0.041,-999.000
     316N151_3,   A20,     6,  1,      5,      5,2,19970720,0914, 42.9673, -50.8453,  156, 1847.0,    151.9,   6.2498,  34.2858,2,  34.2899,2,    148.6,4,  6.2367,    259.7,2,     5.91,2,     9.65,2,     0.14,2,     0.84,2,    4.562,2,    2.219,2, -999.000,5, -999.000,5,-999.0000,5,  -999.00,9,   -999.0,9,  -999.00,9,-999.000,9,   -999.0,9,   -999.0,9,-999,   -999.0,9,-999.0000,9, -999,  -999.0, -999.00,-999.0000,-999.000,-999.000
     316N151_3,   A20,     6,  1,      4,      4,2,19970720,0914, 42.9673, -50.8453,  156, 2558.2,    227.0,   7.6375,  34.7104,2,-999.0000,9,    141.7,4,  7.6151,   -999.0,9,  -999.00,9,  -999.00,9,  -999.00,9,  -999.00,9, -999.000,9, -999.000,9, -999.000,5, -999.000,5,   1.8614,2,     3.49,2,   -999.0,9,  -999.00,9,   8.054,2,   2145.2,2,    714.1,2,  20,   2295.5,2,   7.7520,2,   25,  -999.0,    0.15,  0.0093,   0.040,-999.000
     316N151_3,   A20,     6,  1,      3,      3,2,19970720,0914, 42.9673, -50.8453,  156, 2551.0,    227.2,   7.6162,  34.7136,2,  34.7148,2,    141.8,4,  7.5939,    215.9,2,     8.88,2,    14.74,2,     0.11,2,     1.07,2,    3.293,2,    1.607,2, -999.000,5, -999.000,5,-999.0000,5,  -999.00,9,   -999.0,9,  -999.00,9,-999.000,9,   -999.0,9,   -999.0,9,-999,   -999.0,9,-999.0000,9, -999,  -999.0, -999.00,-999.0000,-999.000,-999.000
     316N151_3,   A20,     6,  1,      2,      2,2,19970720,0914, 42.9673, -50.8453,  156, 3192.6,    295.8,   4.6798,  34.5349,2,-999.0000,9,   -999.0,9,  4.6574,   -999.0,9,  -999.00,9,  -999.00,9,  -999.00,9,  -999.00,9, -999.000,9, -999.000,9, -999.000,5, -999.000,5,   1.8317,2,     2.66,2,   -999.0,9,  -999.00,9,   7.945,2,   2156.7,2,   -999.0,9,-999,   2290.4,2,   7.6940,2,   25,  -999.0,    0.15,  0.0092,   0.040,-999.000
     316N151_3,   A20,     6,  1,      1,      1,2,19970720,0914, 42.9673, -50.8453,  156, 3192.4,    295.9,   4.6692,  34.5357,2,  34.5341,2,     43.5,4,  4.6468,    237.9,2,    11.87,6,    16.90,6,     0.05,6,     1.19,6,    3.797,2,    1.878,2, -999.000,5, -999.000,5,-999.0000,5,  -999.00,9,   -999.0,9,  -999.00,9,-999.000,9,   -999.0,9,    816.9,2,  20,   -999.0,9,-999.0000,9, -999,  -999.0, -999.00,-999.0000,-999.000,-999.000
     316N151_3,   A20,     7,  1,     21,     21,2,19970720,1058, 42.9282, -50.8785,  673,  417.8,      0.1,  16.8065,-999.0000,9,-999.0000,9,    104.6,4, 16.8065,   -999.0,9,  -999.00,9,  -999.00,9,  -999.00,9,  -999.00,9, -999.000,9, -999.000,9, -999.000,5, -999.000,5,-999.0000,5,  -999.00,9,   -999.0,9,  -999.00,9,-999.000,9,   -999.0,9,   -999.0,9,-999,   -999.0,9,-999.0000,9, -999,  -999.0, -999.00,-999.0000,-999.000,-999.000
     316N151_3,   A20,     7,  1,     20,     20,2,19970720,1058, 42.9282, -50.8785,  673,  428.3,      1.3,  13.9047,  33.0353,2,-999.0000,9,    101.8,4, 13.9045,   -999.0,9,  -999.00,9,  -999.00,9,  -999.00,9,  -999.00,9, -999.000,9, -999.000,9, -999.000,5, -999.000,5,   1.8381,2,    -1.31,2,   -999.0,9,  -999.00,9,   7.723,2,   2008.0,2,    449.9,2,  20,   2219.8,2,   7.9230,2,   25,  -999.0,    0.15,  0.0092,   0.039,-999.000
     316N151_3,   A20,     7,  1,     19,     19,2,19970720,1058, 42.9282, -50.8785,  673,  430.7,      1.6,  13.9121,-999.0000,9,  33.0338,2,    104.4,4, 13.9119,    271.1,2,     0.42,2,     0.04,2,  -999.00,9,     0.24,2,    3.785,2,    1.657,3, -999.000,5, -999.000,5,-999.0000,5,  -999.00,9,     32.4,2,     1.83,2,-999.000,9,   -999.0,9,   -999.0,9,-999,   -999.0,9,-999.0000,9, -999,     2.4, -999.00,-999.0000,-999.000,-999.000
     316N151_3,   A20,     7,  1,     18,     18,2,19970720,1058, 42.9282, -50.8785,  673,  881.7,     49.7,  -0.8661,  33.1229,2,-999.0000,9,    162.3,4, -0.8673,   -999.0,9,  -999.00,9,  -999.00,9,  -999.00,9,  -999.00,9, -999.000,9, -999.000,9, -999.000,5, -999.000,5,   1.9830,2,     0.27,2,   -999.0,9,  -999.00,9,   8.879,2,   2120.5,2,    862.5,2,  20,   2235.1,2,   7.6650,2,   25,  -999.0,    0.15,  0.0099,   0.044,-999.000
     316N151_3,   A20,     7,  1,     17,     17,2,19970720,1058, 42.9282, -50.8785,  673,  880.1,     49.9,  -0.8640,  33.1236,2,  33.1267,2,    162.4,4, -0.8653,    324.4,2,     6.46,2,     8.41,2,     0.10,2,     0.99,2,    6.513,2,    3.361,2, -999.000,5, -999.000,5,-999.0000,5,  -999.00,9,   -999.0,9,  -999.00,9,-999.000,9,   -999.0,9,   -999.0,9,-999,   -999.0,9,-999.0000,9, -999,  -999.0, -999.00,-999.0000,-999.000,-999.000
     316N151_3,   A20,     7,  1,     16,     16,2,19970720,1058, 42.9282, -50.8785,  673, 1350.3,    100.1,   0.5519,  33.4652,2,-999.0000,9,    169.9,4,  0.5480,   -999.0,9,  -999.00,9,  -999.00,9,  -999.00,9,  -999.00,9, -999.000,9, -999.000,9, -999.000,5, -999.000,5,-999.0000,5,  -999.00,9,   -999.0,9,  -999.00,9,-999.000,9,   2124.1,2,    835.4,2,  20,   2240.9,2,   7.6870,2,   25,  -999.0, -999.00,-999.0000,-999.000,-999.000
     316N151_3,   A20,     7,  1,     15,     15,2,19970720,1058, 42.9282, -50.8785,  673, 1354.9,    100.6,   0.7062,  33.4380,2,  33.4465,2,    169.0,4,  0.7022,    307.5,2,     9.72,2,    10.09,2,     0.11,2,     1.01,2,    6.071,2,    3.112,2, -999.000,5, -999.000,5,   1.9016,2,     0.59,2,     27.2,2,     0.91,2,   8.486,2,   -999.0,9,   -999.0,9,-999,   -999.0,9,-999.0000,9, -999,     2.4,    0.15,  0.0095,   0.042,-999.000
     316N151_3,   A20,     7,  1,     14,     14,2,19970720,1058, 42.9282, -50.8785,  673, 1815.5,    150.0,   1.5625,  33.6512,2,-999.0000,9,    181.1,4,  1.5553,   -999.0,9,  -999.00,9,  -999.00,9,  -999.00,9,  -999.00,9, -999.000,9, -999.000,9, -999.000,5, -999.000,5,-999.0000,5,  -999.00,9,   -999.0,9,  -999.00,9,-999.000,9,   -999.0,9,   -999.0,9,-999,   -999.0,9,-999.0000,9, -999,  -999.0, -999.00,-999.0000,-999.000,-999.000
     316N151_3,   A20,     7,  1,     13,     13,2,19970720,1058, 42.9282, -50.8785,  673, 1815.9,    150.1,   1.5499,  33.7206,2,-999.0000,9,    181.1,4,  1.5427,    299.5,2,  -999.00,9,  -999.00,9,  -999.00,9,  -999.00,9,    5.819,2,    2.911,2, -999.000,5, -999.000,5,-999.0000,5,  -999.00,9,     20.1,2,     0.88,2,-999.000,9,   -999.0,9,   -999.0,9,-999,   -999.0,9,-999.0000,9, -999,     3.2, -999.00,-999.0000,-999.000,-999.000
     316N151_3,   A20,     7,  1,     12,     12,2,19970720,1058, 42.9282, -50.8785,  673, 2289.9,    200.0,   4.0503,  34.1051,2,-999.0000,9,    153.0,4,  4.0363,   -999.0,9,  -999.00,9,  -999.00,9,  -999.00,9,  -999.00,9, -999.000,9, -999.000,9, -999.000,5, -999.000,5,   1.8761,2,     1.48,2,   -999.0,9,  -999.00,9,   8.286,2,   2128.5,2,    741.6,2,  20,   2271.6,2,   7.7310,2,   25,  -999.0,    0.15,  0.0094,   0.041,-999.000
     316N151_3,   A20,     7,  1,     11,     11,2,19970720,1058, 42.9282, -50.8785,  673, 2287.0,    200.7,   4.0542,  34.1023,2,  34.1040,2,    153.0,4,  4.0403,    267.5,2,     8.56,2,    11.51,2,     0.11,2,     0.96,2,    4.926,2,    2.478,2, -999.000,5, -999.000,5,-999.0000,5,  -999.00,9,   -999.0,9,  -999.00,9,-999.000,9,   -999.0,9,   -999.0,9,-999,   -999.0,9,-999.0000,9, -999,  -999.0, -999.00,-999.0000,-999.000,-999.000
     316N151_3,   A20,     7,  1,     10,     10,2,19970720,1058, 42.9282, -50.8785,  673, 2745.3,    249.7,   7.4478,  34.8115,2,-999.0000,9,    146.6,4,  7.4235,   -999.0,9,  -999.00,9,  -999.00,9,  -999.00,9,  -999.00,9, -999.000,9, -999.000,9, -999.000,5,    1.319,2,   1.8672,2,     4.52,2,   -999.0,9,  -999.00,9,   7.915,2,   2159.8,2,    785.4,2,  20,   2302.6,2,   7.7170,2,   25,  -999.0,    0.15,  0.0093,   0.040,   0.014
     316N151_3,   A20,     7,  1,      9,      9,2,19970720,1058, 42.9282, -50.8785,  673, 2745.4,    249.9,   7.4837,  34.8266,2,  34.8230,2,    146.6,4,  7.4593,    195.6,2,    11.42,2,    18.53,2,     0.06,2,     1.25,2,    2.536,2,    1.299,2, -999.000,5, -999.000,5,-999.0000,5,  -999.00,9,    -16.4,2,     0.79,2,-999.000,9,   -999.0,9,   -999.0,9,-999,   -999.0,9,-999.0000,9, -999,     3.0, -999.00,-999.0000,-999.000,-999.000
     316N151_3,   A20,     7,  1,      8,      8,2,19970720,1058, 42.9282, -50.8785,  673, 3683.5,    350.3,   5.4292,  34.7673,2,-999.0000,9,    158.2,4,  5.4003,   -999.0,9,  -999.00,9,  -999.00,9,  -999.00,9,  -999.00,9, -999.000,9, -999.000,9, -999.000,5, -999.000,5,   1.8973,2,     3.98,2,   -999.0,9,  -999.00,9,   8.203,2,   2164.4,2,    829.9,2,  20,   -999.0,9,-999.0000,9, -999,  -999.0,    0.15,  0.0095,   0.041,-999.000
     316N151_3,   A20,     7,  1,      7,      7,2,19970720,1058, 42.9282, -50.8785,  673, 3680.0,    350.5,   5.3368,  34.7795,2,  34.7480,2,    158.2,4,  5.3082,    218.4,2,    13.05,2,    19.29,2,     0.02,2,     1.29,2,    2.782,2,    1.407,2, -999.000,5, -999.000,5,-999.0000,5,  -999.00,9,    -35.1,2,     0.79,2,-999.000,9,   -999.0,9,   -999.0,9,-999,   -999.0,9,-999.0000,9, -999,     3.2, -999.00,-999.0000,-999.000,-999.000
     316N151_3,   A20,     7,  1,      6,      6,2,19970720,1058, 42.9282, -50.8785,  673, 4614.2,    450.2,   3.7658,  34.7316,2,-999.0000,9,    177.9,4,  3.7343,   -999.0,9,  -999.00,9,  -999.00,9,  -999.00,9,  -999.00,9, -999.000,9, -999.000,9, -999.000,5, -999.000,5,   1.8948,2,     1.49,2,   -999.0,9,  -999.00,9,   8.264,2,   2153.6,2,    787.1,2,  20,   2296.5,2,   7.7090,2,   25,  -999.0,    0.15,  0.0095,   0.041,-999.000
     316N151_3,   A20,     7,  1,      5,      5,2,19970720,1058, 42.9282, -50.8785,  673, 4612.4,    450.5,   3.7659,  34.7281,2,  34.7335,2,    177.9,4,  3.7343,    272.1,2,    11.03,2,    16.52,2,     0.02,2,     1.12,2,    4.319,2,    2.135,2, -999.000,5, -999.000,5,-999.0000,5,  -999.00,9,     -9.4,2,     0.84,2,-999.000,9,   -999.0,9,   -999.0,9,-999,   -999.0,9,-999.0000,9, -999,     4.4, -999.00,-999.0000,-999.000,-999.000
     316N151_3,   A20,     7,  1,      4,      4,2,19970720,1058, 42.9282, -50.8785,  673, 5549.9,    550.7,   3.7483,-999.0000,9,-999.0000,9,    188.1,4,  3.7420,   -999.0,9,  -999.00,9,  -999.00,9,  -999.00,9,  -999.00,9, -999.000,9, -999.000,9, -999.000,5, -999.000,5,   1.9022,2,     2.31,2,   -999.0,9,  -999.00,9,   8.227,2,   2155.6,2,    771.6,2,  20,   -999.0,9,-999.0000,9, -999,  -999.0,    0.15,  0.0095,   0.041,-999.000
     316N151_3,   A20,     7,  1,      3,      3,2,19970720,1058, 42.9282, -50.8785,  673, 5552.9,    551.0,   3.7472,  34.8365,2,  34.8393,2,    183.0,4,  3.7082,    276.9,2,    10.93,2,    16.74,2,     0.01,2,     1.12,2,    4.095,2,    2.047,2, -999.000,5, -999.000,5,-999.0000,5,  -999.00,9,      6.4,2,     0.84,2,-999.000,9,   -999.0,9,   -999.0,9,-999,   -999.0,9,-999.0000,9, -999,     4.4, -999.00,-999.0000,-999.000,-999.000
     316N151_3,   A20,     7,  1,      2,      2,2,19970720,1058, 42.9282, -50.8785,  673, 6779.0,    682.4,   3.6578,-999.0000,9,-999.0000,9,   -999.0,9,  3.6497,   -999.0,9,  -999.00,9,  -999.00,9,  -999.00,9,  -999.00,9, -999.000,9, -999.000,9, -999.000,5, -999.000,5,   1.8599,2,     3.26,2,   -999.0,9,  -999.00,9,   8.129,2,   2156.7,2,    768.0,2,  20,   2303.3,2,   7.7190,2,   25,  -999.0,    0.15,  0.0093,   0.041,-999.000
     316N151_3,   A20,     7,  1,      1,      1,2,19970720,1058, 42.9282, -50.8785,  673, 6782.9,    682.8,   3.6563,  34.8682,2,  34.8677,2,     43.4,4,  3.6077,    277.4,2,    11.11,6,    16.87,6,     0.01,6,     1.13,6,    3.872,2,    1.907,2, -999.000,5, -999.000,5,-999.0000,5,  -999.00,9,      0.9,2,     0.87,2,-999.000,9,   -999.0,9,   -999.0,9,-999,   -999.0,9,-999.0000,9, -999,     3.6, -999.00,-999.0000,-999.000,-999.000