BOTTLE,20220812CCHSIOAMB
EXPOCODE,SECT_ID,STNNBR,CASTNO,SAMPNO,BTLNBR,BTLNBR_FLAG_W,DATE,TIME,LATITUDE,LONGITUDE,DEPTH,CTDRAW,CTDPRS,CTDTMP,CTDSAL,CTDSAL_FLAG_W,SALNTY,SALNTY_FLAG_W,CTDOXY,CTDOXY_FLAG_W,THETA,OXYGEN,OXYGEN_FLAG_W,SILCAT,SILCAT_FLAG_W,NITRAT,NITRAT_FLAG_W,NITRIT,NITRIT_FLAG_W,PHSPHT,PHSPHT_FLAG_W,CFC-11,CFC-11_FLAG_W,CFC-12,CFC-12_FLAG_W,CFC113,CFC113_FLAG_W,TRITUM,TRITUM_FLAG_W,HELIUM,HELIUM_FLAG_W,DELHE3,DELHE3_FLAG_W,DELC14,DELC14_FLAG_W,DELC13,DELC13_FLAG_W,NEON,NEON_FLAG_W,TCARBN,TCARBN_FLAG_W,PCO2,PCO2_FLAG_W,PCO2_TMP,ALKALI,ALKALI_FLAG_W,PH,PH_FLAG_W,PH_TMP,C14ERR,DELHER,HELIER,NEONER,TRITER
,,,,,,,,,,,,,DBAR,ITS-90,PSS-78,,PSS-78,,UMOL/KG,,ITS-90,UMOL/KG,,UMOL/KG,,UMOL/KG,,UMOL/KG,,UMOL/KG,,PMOL/KG,,PMOL/KG,,PMOL/KG,,TU,,NMOL/KG,,PERCNT,,/MILLE,,/MILLE,,NMOL/KG,,UMOL/KG,,UATM,,DEG C,UMOL/KG,,,,DEG C,/MILLE,PERCNT,NMOL/KG,NMOL/KG,TU
     316N151_3,   A20,    54,  1,     33,     33,2,19970801,2341, 19.5055, -52.3457, 5363,  272.9,     10.9,  27.5522,  36.3864,2,  36.3883,2,    212.9,2, 27.5496,    214.9,2,     0.93,2,     0.00,2,     0.00,2,     0.01,2,    1.729,2,    1.008,2, -999.000,5, -999.000,5,-999.0000,5,  -999.00,9,   -999.0,9,  -999.00,9,-999.000,9,   2009.1,2,   -999.0,9,-999,   2382.2,2,   8.1250,2,   25,  -999.0, -999.00,-999.0000,-999.000,-999.000
     316N151_3,   A20,    54,  1,     32,     32,2,19970801,2341, 19.5055, -52.3457, 5363,  687.2,     52.1,  26.1692,  37.0863,2,  37.0639,2,    219.3,2, 26.1575,    224.9,2,     0.57,2,     0.00,2,     0.00,2,     0.01,2,    1.841,2,    1.064,2, -999.000,5, -999.000,5,-999.0000,5,  -999.00,9,   -999.0,9,  -999.00,9,-999.000,9,   2041.9,2,   -999.0,9,-999,   2420.5,6,   8.1190,2,   25,  -999.0, -999.00,-999.0000,-999.000,-999.000
     316N151_3,   A20,    54,  1,     31,     31,2,19970801,2341, 19.5055, -52.3457, 5363, 1213.5,    104.8,  24.5008,  37.3829,2,  37.3881,2,    220.9,2, 24.4782,    223.0,2,     0.49,2,     0.04,2,     0.00,2,     0.01,2,    1.933,2,    1.114,2, -999.000,5, -999.000,5,-999.0000,5,  -999.00,9,   -999.0,9,  -999.00,9,-999.000,9,   2068.1,2,   -999.0,9,-999,   2443.0,2,   8.1080,2,   25,  -999.0, -999.00,-999.0000,-999.000,-999.000
     316N151_3,   A20,    54,  1,     30,     30,2,19970801,2341, 19.5055, -52.3457, 5363, 1668.6,    150.6,  23.2456,  37.3306,2,  37.3341,2,    207.5,2, 23.2143,    213.3,2,     0.42,2,     0.03,2,     0.05,2,     0.02,2,    2.027,2,    1.155,2, -999.000,5, -999.000,5,-999.0000,5,  -999.00,9,   -999.0,9,  -999.00,9,-999.000,9,   2083.0,2,   -999.0,9,-999,   2436.3,2,   8.0790,2,   25,  -999.0, -999.00,-999.0000,-999.000,-999.000
     316N151_3,   A20,    54,  1,     29,     29,2,19970801,2341, 19.5055, -52.3457, 5363, 2185.8,    202.4,  21.0374,  37.0479,2,  37.0526,2,    193.0,2, 20.9983,    193.3,2,     0.54,2,     1.16,2,     0.02,2,     0.05,2,    2.215,2,    1.219,2, -999.000,5, -999.000,5,-999.0000,5,  -999.00,9,   -999.0,9,  -999.00,9,-999.000,9,   2105.7,2,   -999.0,9,-999,   2413.7,3,   8.0220,2,   25,  -999.0, -999.00,-999.0000,-999.000,-999.000
     316N151_3,   A20,    54,  1,     28,     28,2,19970801,2341, 19.5055, -52.3457, 5363, 2696.5,    253.6,  18.9284,  36.6797,2,  36.6877,2,    199.1,2, 18.8828,    192.9,2,     0.85,2,     2.91,2,     0.01,2,     0.13,2,    2.318,2,    1.274,2, -999.000,5, -999.000,5,-999.0000,5,  -999.00,9,   -999.0,9,  -999.00,9,-999.000,9,   2103.1,2,   -999.0,9,-999,   2395.2,2,   7.9950,2,   25,  -999.0, -999.00,-999.0000,-999.000,-999.000
     316N151_3,   A20,    54,  1,     27,     27,2,19970801,2341, 19.5055, -52.3457, 5363, 3181.6,    302.4,  17.9345,  36.5180,2,  36.5188,2,    195.2,2, 17.8820,    194.4,2,     1.36,2,     4.83,2,     0.01,2,     0.25,2,    2.315,2,    1.249,2, -999.000,5, -999.000,5,-999.0000,5,  -999.00,9,   -999.0,9,  -999.00,9,-999.000,9,   2103.4,2,   -999.0,9,-999,   2385.0,2,   7.9770,2,   25,  -999.0, -999.00,-999.0000,-999.000,-999.000
     316N151_3,   A20,    54,  1,     26,     26,2,19970801,2341, 19.5055, -52.3457, 5363, 4153.7,    399.8,  15.7279,  36.1702,2,  36.1710,2,    172.2,2, 15.6644,    167.8,2,     3.31,2,    10.92,2,     0.00,2,     0.63,2,    2.060,2,    1.083,2, -999.000,5, -999.000,5,-999.0000,5,  -999.00,9,   -999.0,9,  -999.00,9,-999.000,9,   2139.4,2,   -999.0,9,-999,   2364.9,2,   7.8870,2,   25,  -999.0, -999.00,-999.0000,-999.000,-999.000
     316N151_3,   A20,    54,  1,     25,     25,2,19970801,2341, 19.5055, -52.3457, 5363, 4971.0,    482.0,  13.6462,  35.8337,2,  35.8380,2,    149.6,2, 13.5765,    147.0,2,     5.56,2,    16.38,2,     0.00,2,     0.97,2,    1.566,2,    0.825,2, -999.000,5, -999.000,5,-999.0000,5,  -999.00,9,   -999.0,9,  -999.00,9,-999.000,9,   2161.3,2,   -999.0,9,-999,   2348.5,2,   7.8060,2,   25,  -999.0, -999.00,-999.0000,-999.000,-999.000
     316N151_3,   A20,    54,  1,     24,     24,2,19970801,2341, 19.5055, -52.3457, 5363, 5923.0,    577.7,  11.7171,  35.5735,2,  35.5913,2,    150.1,2, 11.6412,    150.2,2,     8.00,2,    19.13,2,     0.00,2,     1.15,2,    1.037,6,    0.551,6, -999.000,5, -999.000,5,-999.0000,5,  -999.00,9,   -999.0,9,  -999.00,9,-999.000,9,   2170.2,2,   -999.0,9,-999,   2335.2,2,   7.7660,2,   25,  -999.0, -999.00,-999.0000,-999.000,-999.000
     316N151_3,   A20,    54,  1,     23,     23,2,19970801,2341, 19.5055, -52.3457, 5363, 7169.3,    702.7,   9.4403,  35.2349,2,  35.2361,2,    129.7,2,  9.3593,    126.4,2,    14.52,2,    26.26,2,     0.00,2,     1.65,2,    0.309,2,    0.173,2, -999.000,5, -999.000,5,-999.0000,5,  -999.00,9,   -999.0,9,  -999.00,9,-999.000,9,   2196.8,2,   -999.0,9,-999,   2317.0,3,   7.6630,2,   25,  -999.0, -999.00,-999.0000,-999.000,-999.000
     316N151_3,   A20,    54,  1,     22,     22,2,19970801,2341, 19.5055, -52.3457, 5363, 8158.5,    801.9,   7.6103,  35.0015,2,  35.0016,2,    129.1,2,  7.5283,    128.2,2,    19.38,2,    29.29,2,     0.00,2,     1.89,2, -999.000,9,    0.073,2, -999.000,5, -999.000,5,-999.0000,5,  -999.00,9,   -999.0,9,  -999.00,9,-999.000,9,   2208.0,2,   -999.0,9,-999,   2315.3,2,   7.6330,2,   25,  -999.0, -999.00,-999.0000,-999.000,-999.000
     316N151_3,   A20,    54,  1,     21,     21,2,19970801,2341, 19.5055, -52.3457, 5363, 9165.3,    902.5,   6.5079,  34.8904,2,  34.8890,2,    136.3,2,  6.4226,    136.5,2,    22.31,2,    30.34,2,     0.00,2,     2.00,2, -999.000,9,    0.037,2, -999.000,5, -999.000,5,-999.0000,5,  -999.00,9,   -999.0,9,  -999.00,9,-999.000,9,   2210.0,2,   -999.0,9,-999,   2312.1,2,   7.6150,2,   25,  -999.0, -999.00,-999.0000,-999.000,-999.000
     316N151_3,   A20,    54,  1,     20,     20,2,19970801,2341, 19.5055, -52.3457, 5363,11660.9,   1151.9,   5.5210,  34.9367,2,  34.9372,2,    168.3,2,  5.4184,    173.6,2,    21.27,2,    26.66,2,     0.00,2,     1.78,2,    0.067,2,    0.037,2, -999.000,5, -999.000,5,-999.0000,5,  -999.00,9,   -999.0,9,  -999.00,9,-999.000,9,   2196.7,2,   -999.0,9,-999,   2315.8,2,   7.6600,2,   25,  -999.0, -999.00,-999.0000,-999.000,-999.000
     316N151_3,   A20,    54,  1,     19,     19,2,19970801,2341, 19.5055, -52.3457, 5363,13159.2,   1301.7,   5.2303,  34.9928,2,  34.9925,2,    195.9,2,  5.1158,    201.1,2,    18.38,2,    23.52,2,     0.00,2,     1.57,2,    0.142,2,    0.078,2, -999.000,5, -999.000,5,-999.0000,5,  -999.00,9,   -999.0,9,  -999.00,9,-999.000,9,   2183.9,2,   -999.0,9,-999,   2316.2,2,   7.6900,2,   25,  -999.0, -999.00,-999.0000,-999.000,-999.000
     316N151_3,   A20,    54,  1,     18,     18,2,19970801,2341, 19.5055, -52.3457, 5363,14659.5,   1451.6,   4.8279,  35.0102,2,  35.0112,2,    220.7,2,  4.7030,    220.5,2,    16.75,2,    21.50,2,     0.00,2,     1.44,2,    0.157,6,    0.093,6, -999.000,5, -999.000,5,-999.0000,5,  -999.00,9,   -999.0,9,  -999.00,9,-999.000,9,   2176.0,2,   -999.0,9,-999,   2316.4,2,   7.7190,2,   25,  -999.0, -999.00,-999.0000,-999.000,-999.000
     316N151_3,   A20,    54,  1,     17,     17,2,19970801,2341, 19.5055, -52.3457, 5363,16169.6,   1602.5,   4.5474,  35.0098,2,  35.0109,2,    229.5,2,  4.4111,    230.0,2,    16.68,2,    20.80,2,     0.00,2,     1.39,2,    0.119,2,    0.070,2, -999.000,5, -999.000,5,-999.0000,5,  -999.00,9,   -999.0,9,  -999.00,9,-999.000,9,   2171.2,2,   -999.0,9,-999,   2315.5,2,   7.7240,2,   25,  -999.0, -999.00,-999.0000,-999.000,-999.000
     316N151_3,   A20,    54,  1,     16,     16,2,19970801,2341, 19.5055, -52.3457, 5363,17596.9,   1745.2,   4.2375,  35.0122,2,  35.0125,2,    234.2,2,  4.0913,    231.5,2,    19.31,2,    20.99,2,     0.00,2,     1.41,2,    0.015,2,    0.017,2, -999.000,5, -999.000,5,-999.0000,5,  -999.00,9,   -999.0,9,  -999.00,9,-999.000,9,   2172.5,2,   -999.0,9,-999,   2320.0,2,   7.7310,2,   25,  -999.0, -999.00,-999.0000,-999.000,-999.000
     316N151_3,   A20,    54,  1,     15,     15,2,19970801,2341, 19.5055, -52.3457, 5363,19164.2,   1901.9,   3.8806,  34.9980,2,  35.0002,2,    241.8,2,  3.7242,    240.7,2,    20.49,2,    20.44,2,     0.00,2,     1.37,2,    0.011,2,    0.013,2, -999.000,5, -999.000,5,-999.0000,5,  -999.00,9,   -999.0,9,  -999.00,9,-999.000,9,   2170.1,2,   -999.0,9,-999,   2319.0,2,   7.7380,2,   25,  -999.0, -999.00,-999.0000,-999.000,-999.000
     316N151_3,   A20,    54,  1,     14,     14,2,19970801,2341, 19.5055, -52.3457, 5363,21228.1,   2108.2,   3.5173,  34.9855,2,  34.9860,2,    247.5,2,  3.3465,    247.7,2,    23.13,2,    20.04,2,     0.00,2,     1.35,2,    0.003,2,    0.006,2, -999.000,5, -999.000,5,-999.0000,5,  -999.00,9,   -999.0,9,  -999.00,9,-999.000,9,   2170.3,2,   -999.0,9,-999,   2323.8,2,   7.7470,2,   25,  -999.0, -999.00,-999.0000,-999.000,-999.000
     316N151_3,   A20,    54,  1,     13,     13,2,19970801,2341, 19.5055, -52.3457, 5363,23108.7,   2296.1,   3.2642,  34.9702,2,  34.9707,2,    249.8,2,  3.0795,    249.7,2,    26.15,2,    20.16,2,     0.00,2,     1.36,2,    0.006,2,    0.006,2, -999.000,5, -999.000,5,-999.0000,5,  -999.00,9,   -999.0,9,  -999.00,9,-999.000,9,   -999.0,9,   -999.0,9,-999,   2330.5,2,   7.7440,2,   25,  -999.0, -999.00,-999.0000,-999.000,-999.000
     316N151_3,   A20,    54,  1,     12,     12,2,19970801,2341, 19.5055, -52.3457, 5363,25106.5,   2495.8,   3.0801,  34.9567,2,  34.9583,2,    248.6,2,  2.8790,    249.6,2,    28.59,2,    20.28,2,     0.00,2,     1.37,2, -999.000,9, -999.000,9, -999.000,5, -999.000,5,-999.0000,5,  -999.00,9,   -999.0,9,  -999.00,9,-999.000,9,   2177.5,2,   -999.0,9,-999,   2329.0,2,   7.7470,2,   25,  -999.0, -999.00,-999.0000,-999.000,-999.000
     316N151_3,   A20,    54,  1,     11,     11,2,19970801,2341, 19.5055, -52.3457, 5363,27559.5,   2741.0,   2.8830,  34.9413,2,  34.9427,2,    250.6,2,  2.6614,    251.6,2,    31.52,2,    20.40,2,     0.00,2,     1.38,2,    0.006,2,    0.007,2, -999.000,5, -999.000,5,-999.0000,5,  -999.00,9,   -999.0,9,  -999.00,9,-999.000,9,   2179.9,2,   -999.0,9,-999,   2331.0,2,   7.7440,2,   25,  -999.0, -999.00,-999.0000,-999.000,-999.000
     316N151_3,   A20,    54,  1,     10,     10,2,19970801,2341, 19.5055, -52.3457, 5363,30116.9,   2996.6,   2.7461,  34.9302,2,  34.9292,2,    251.3,2,  2.5012,    251.8,2,    33.76,2,    20.59,2,     0.00,2,     1.40,2, -999.000,9, -999.000,9, -999.000,5, -999.000,5,-999.0000,5,  -999.00,9,   -999.0,9,  -999.00,9,-999.000,9,   2179.3,2,   -999.0,9,-999,   2332.6,2,   7.7450,2,   25,  -999.0, -999.00,-999.0000,-999.000,-999.000
     316N151_3,   A20,    54,  1,      9,      9,2,19970801,2341, 19.5055, -52.3457, 5363,33094.4,   3294.2,   2.5899,  34.9168,2,  34.9174,2,    252.2,2,  2.3173,    252.4,2,    36.59,2,    20.82,2,     0.00,2,     1.41,2,    0.006,2,    0.006,2, -999.000,5, -999.000,5,-999.0000,5,  -999.00,9,   -999.0,9,  -999.00,9,-999.000,9,   2181.7,2,   -999.0,9,-999,   2333.9,2,   7.7480,2,   25,  -999.0, -999.00,-999.0000,-999.000,-999.000
     316N151_3,   A20,    54,  1,      8,      8,2,19970801,2341, 19.5055, -52.3457, 5363,35626.4,   3547.3,   2.4419,  34.9032,2,  34.9033,2,    252.7,2,  2.1459,    253.1,2,    39.42,2,    21.01,2,     0.00,2,     1.43,2, -999.000,9, -999.000,9, -999.000,5, -999.000,5,-999.0000,5,  -999.00,9,   -999.0,9,  -999.00,9,-999.000,9,   2183.4,2,   -999.0,9,-999,   2335.5,2,   7.7400,2,   25,  -999.0, -999.00,-999.0000,-999.000,-999.000
     316N151_3,   A20,    54,  1,      7,      7,2,19970801,2341, 19.5055, -52.3457, 5363,38109.6,   3795.5,   2.3046,  34.8906,2,  34.8900,2,    253.6,2,  1.9849,    253.8,2,    42.15,2,    21.24,2,     0.00,2,     1.45,2,    0.010,2,    0.008,2, -999.000,5, -999.000,5,-999.0000,5,  -999.00,9,   -999.0,9,  -999.00,9,-999.000,9,   2186.3,2,   -999.0,9,-999,   2338.8,2,   7.7370,2,   25,  -999.0, -999.00,-999.0000,-999.000,-999.000
     316N151_3,   A20,    54,  1,      6,      6,2,19970801,2341, 19.5055, -52.3457, 5363,40653.4,   4049.8,   2.1934,  34.8799,2,  34.8794,2,    253.4,2,  1.8482,    254.0,2,    45.07,2,    21.54,2,     0.00,2,     1.47,2,    0.015,2,    0.011,2, -999.000,5, -999.000,5,-999.0000,5,  -999.00,9,   -999.0,9,  -999.00,9,-999.000,9,   2189.7,2,   -999.0,9,-999,   2339.0,2,   7.7350,2,   25,  -999.0, -999.00,-999.0000,-999.000,-999.000
     316N151_3,   A20,    54,  1,      5,      5,2,19970801,2341, 19.5055, -52.3457, 5363,43128.5,   4297.2,   2.1024,  34.8682,2,  34.8667,2,    251.6,2,  1.7314,    251.8,2,    48.86,2,    21.99,2,     0.00,2,     1.50,2,    0.017,2,    0.014,2, -999.000,5, -999.000,5,-999.0000,5,  -999.00,9,   -999.0,9,  -999.00,9,-999.000,9,   2194.5,2,   -999.0,9,-999,   2343.7,2,   7.7280,2,   25,  -999.0, -999.00,-999.0000,-999.000,-999.000
     316N151_3,   A20,    54,  1,      4,      4,2,19970801,2341, 19.5055, -52.3457, 5363,45605.4,   4544.7,   2.0672,  34.8617,2,  34.8614,2,    251.4,2,  1.6681,    251.2,2,    51.11,2,    22.29,2,     0.00,2,     1.52,2,    0.018,2,    0.018,2, -999.000,5, -999.000,5,-999.0000,5,  -999.00,9,   -999.0,9,  -999.00,9,-999.000,9,   2195.5,2,   -999.0,9,-999,   2342.3,2,   7.7300,2,   25,  -999.0, -999.00,-999.0000,-999.000,-999.000
     316N151_3,   A20,    54,  1,      3,      3,2,19970801,2341, 19.5055, -52.3457, 5363,48618.5,   4846.1,   2.0556,  34.8576,2,  34.8549,2,    251.5,2,  1.6205,    250.6,2,    52.58,2,    22.49,2,     0.00,2,     1.54,2,    0.020,2,    0.019,2, -999.000,5, -999.000,5,-999.0000,5,  -999.00,9,   -999.0,9,  -999.00,9,-999.000,9,   2197.0,2,   -999.0,9,-999,   2343.6,2,   7.7260,2,   25,  -999.0, -999.00,-999.0000,-999.000,-999.000
     316N151_3,   A20,    54,  1,      2,      2,2,19970801,2341, 19.5055, -52.3457, 5363,51611.4,   5145.3,   2.0688,  34.8548,2,  34.8538,2,    252.3,2,  1.5958,    250.6,2,    53.47,2,    22.57,2,     0.00,2,     1.54,2,    0.029,2,    0.019,2, -999.000,5, -999.000,5,-999.0000,5,  -999.00,9,   -999.0,9,  -999.00,9,-999.000,9,   2199.2,2,   -999.0,9,-999,   2343.3,6,   7.7210,6,   25,  -999.0, -999.00,-999.0000,-999.000,-999.000
     316N151_3,   A20,    54,  1,      1,      1,2,19970801,2341, 19.5055, -52.3457, 5363,54640.3,   5448.2,   2.0911,  34.8537,2,  34.8526,2,    251.3,2,  1.5785,    249.9,2,    54.19,6,    22.61,6,     0.00,6,     1.55,6,    0.022,2,    0.020,2, -999.000,5, -999.000,5,-999.0000,5,  -999.00,9,   -999.0,9,  -999.00,9,-999.000,9,   2197.9,2,   -999.0,9,-999,   2344.0,2,   7.7190,2,   25,  -999.0, -999.00,-999.0000,-999.000,-999.000