BOTTLE,20220812CCHSIOAMB
EXPOCODE,SECT_ID,STNNBR,CASTNO,SAMPNO,BTLNBR,BTLNBR_FLAG_W,DATE,TIME,LATITUDE,LONGITUDE,DEPTH,CTDRAW,CTDPRS,CTDTMP,CTDSAL,CTDSAL_FLAG_W,SALNTY,SALNTY_FLAG_W,CTDOXY,CTDOXY_FLAG_W,THETA,OXYGEN,OXYGEN_FLAG_W,SILCAT,SILCAT_FLAG_W,NITRAT,NITRAT_FLAG_W,NITRIT,NITRIT_FLAG_W,PHSPHT,PHSPHT_FLAG_W,CFC-11,CFC-11_FLAG_W,CFC-12,CFC-12_FLAG_W,CFC113,CFC113_FLAG_W,TRITUM,TRITUM_FLAG_W,HELIUM,HELIUM_FLAG_W,DELHE3,DELHE3_FLAG_W,DELC14,DELC14_FLAG_W,DELC13,DELC13_FLAG_W,NEON,NEON_FLAG_W,TCARBN,TCARBN_FLAG_W,PCO2,PCO2_FLAG_W,PCO2_TMP,ALKALI,ALKALI_FLAG_W,PH,PH_FLAG_W,PH_TMP,C14ERR,DELHER,HELIER,NEONER,TRITER
,,,,,,,,,,,,,DBAR,ITS-90,PSS-78,,PSS-78,,UMOL/KG,,ITS-90,UMOL/KG,,UMOL/KG,,UMOL/KG,,UMOL/KG,,UMOL/KG,,PMOL/KG,,PMOL/KG,,PMOL/KG,,TU,,NMOL/KG,,PERCNT,,/MILLE,,/MILLE,,NMOL/KG,,UMOL/KG,,UATM,,DEG C,UMOL/KG,,,,DEG C,/MILLE,PERCNT,NMOL/KG,NMOL/KG,TU
     316N151_3,   A20,    29,  1,     30,     30,2,19970725,1453, 36.2362, -52.3572, 2763,  235.1,     10.9,  24.8756,  36.4059,2,  36.4076,2,    215.1,2, 24.8732,    216.3,2,     0.60,2,     0.00,2,     0.01,2,     0.02,2,    1.988,2,    1.197,2, -999.000,5, -999.000,5,-999.0000,5,  -999.00,9,   -999.0,9,  -999.00,9,-999.000,9,   2041.6,2,    305.3,2,  20,   2379.5,2,   8.0720,2,   25,  -999.0, -999.00,-999.0000,-999.000,-999.000
     316N151_3,   A20,    29,  1,     29,     29,2,19970725,1453, 36.2362, -52.3572, 2763,  638.9,     51.5,  20.7971,  36.6085,2,  36.6069,2,    221.0,2, 20.7872,    217.9,2,     0.22,2,     0.00,2,     0.01,2,     0.02,2,    2.221,2,    1.258,2, -999.000,5, -999.000,5,-999.0000,5,  -999.00,9,   -999.0,9,  -999.00,9,-999.000,9,   2064.1,2,    323.0,2,  20,   2391.0,6,   8.0490,6,   25,  -999.0, -999.00,-999.0000,-999.000,-999.000
     316N151_3,   A20,    29,  1,     28,     28,2,19970725,1453, 36.2362, -52.3572, 2763, 1138.7,    101.2,  18.8210,  36.5883,2,  36.5865,2,    202.5,2, 18.8029,    205.9,2,     1.00,2,     2.19,2,     0.20,2,     0.12,2,    2.351,2,    1.337,2, -999.000,5, -999.000,5,-999.0000,5,  -999.00,9,   -999.0,9,  -999.00,9,-999.000,9,   2084.4,2,    359.4,2,  20,   2389.6,2,   8.0150,2,   25,  -999.0, -999.00,-999.0000,-999.000,-999.000
     316N151_3,   A20,    29,  1,     27,     27,2,19970725,1453, 36.2362, -52.3572, 2763, 1621.4,    149.2,  18.3066,  36.5652,2,  36.5631,2,    207.0,2, 18.2804,    209.9,2,     1.30,2,     2.89,2,     0.03,2,     0.15,2,    2.412,2,    1.363,2, -999.000,5, -999.000,5,-999.0000,5,  -999.00,9,   -999.0,9,  -999.00,9,-999.000,9,   2087.3,2,    365.6,2,  20,   2386.0,2,   8.0070,2,   25,  -999.0, -999.00,-999.0000,-999.000,-999.000
     316N151_3,   A20,    29,  1,     26,     26,2,19970725,1453, 36.2362, -52.3572, 2763, 2155.9,    202.3,  18.0025,  36.5356,2,  36.5343,2,    208.6,2, 17.9674,    214.3,2,     1.31,2,     3.09,2,     0.02,2,     0.16,2,    2.419,6,    1.353,6, -999.000,5, -999.000,5,-999.0000,5,  -999.00,9,   -999.0,9,  -999.00,9,-999.000,9,   2088.4,2,    367.5,2,  20,   2385.0,2,   8.0040,2,   25,  -999.0, -999.00,-999.0000,-999.000,-999.000
     316N151_3,   A20,    29,  1,     25,     25,2,19970725,1453, 36.2362, -52.3572, 2763, 2661.2,    252.4,  17.8198,  36.5141,2,  36.5130,2,    217.1,2, 17.7763,    214.5,2,     1.41,2,     3.35,2,     0.02,2,     0.18,2,    2.426,2,    1.352,2, -999.000,5, -999.000,5,-999.0000,5,  -999.00,9,   -999.0,9,  -999.00,9,-999.000,9,   2089.0,2,    371.6,2,  20,   2384.0,2,   7.9990,2,   25,  -999.0, -999.00,-999.0000,-999.000,-999.000
     316N151_3,   A20,    29,  1,     24,     24,2,19970725,1453, 36.2362, -52.3572, 2763, 3152.9,    301.3,  17.6620,  36.4866,2,  36.4867,2,    218.8,2, 17.6103,    219.4,2,     1.32,2,     3.35,2,     0.02,2,     0.18,2,    2.474,2,    1.406,2, -999.000,5, -999.000,5,-999.0000,5,  -999.00,9,   -999.0,9,  -999.00,9,-999.000,9,   2091.1,2,    373.3,2,  20,   2382.8,2,   7.9960,2,   25,  -999.0, -999.00,-999.0000,-999.000,-999.000
     316N151_3,   A20,    29,  1,     23,     23,2,19970725,1453, 36.2362, -52.3572, 2763, 3668.4,    352.4,  17.4416,  36.4453,2,  36.4463,2,    215.4,2, 17.3816,    212.0,2,     1.62,2,     4.39,2,     0.02,2,     0.24,2, -999.000,9, -999.000,9, -999.000,5, -999.000,5,-999.0000,5,  -999.00,9,   -999.0,9,  -999.00,9,-999.000,9,   2096.1,2,    387.3,2,  20,   2380.7,2,   7.9860,2,   25,  -999.0, -999.00,-999.0000,-999.000,-999.000
     316N151_3,   A20,    29,  1,     22,     22,2,19970725,1453, 36.2362, -52.3572, 2763, 4111.0,    396.4,  17.0288,  36.3834,2,  36.3829,2,    222.5,2, 16.9624,    217.5,2,     1.73,2,     4.48,2,     0.02,2,     0.25,2,    2.497,2,    1.378,2, -999.000,5, -999.000,5,-999.0000,5,  -999.00,9,   -999.0,9,  -999.00,9,-999.000,9,   2097.4,2,    391.9,2,  20,   2377.6,2,   7.9780,2,   25,  -999.0, -999.00,-999.0000,-999.000,-999.000
     316N151_3,   A20,    29,  1,     21,     21,2,19970725,1453, 36.2362, -52.3572, 2763, 5140.8,    499.0,  16.4201,  36.2749,2,  36.2840,2,    224.8,2, 16.3382,    215.8,2,     2.12,2,     5.73,2,     0.02,2,     0.32,2,    2.464,2,    1.335,2, -999.000,5, -999.000,5,-999.0000,5,  -999.00,9,   -999.0,9,  -999.00,9,-999.000,9,   2105.1,2,    412.0,3,  20,   2370.2,2,   7.9520,2,   25,  -999.0, -999.00,-999.0000,-999.000,-999.000
     316N151_3,   A20,    29,  1,     20,     20,2,19970725,1453, 36.2362, -52.3572, 2763, 6133.1,    598.3,  15.6585,  36.1553,2,  36.1536,2,    217.5,2, 15.5633,    217.8,2,     2.60,2,     6.81,2,     0.02,2,     0.40,2,    2.503,2,    1.356,2, -999.000,5, -999.000,5,-999.0000,5,  -999.00,9,   -999.0,9,  -999.00,9,-999.000,9,   2107.5,2,    431.4,2,  20,   2363.9,2,   7.9380,2,   25,  -999.0, -999.00,-999.0000,-999.000,-999.000
     316N151_3,   A20,    29,  1,     19,     19,2,19970725,1453, 36.2362, -52.3572, 2763, 7148.8,    700.1,  13.7331,  35.8010,2,  35.8050,2,    182.3,2, 13.6307,    177.5,2,     5.62,2,    13.56,2,     0.01,2,     0.81,2, -999.000,9, -999.000,9, -999.000,5, -999.000,5,-999.0000,5,  -999.00,9,   -999.0,9,  -999.00,9,-999.000,9,   2140.0,2,    553.9,2,  20,   2350.1,2,   7.8440,2,   25,  -999.0, -999.00,-999.0000,-999.000,-999.000
     316N151_3,   A20,    29,  1,     18,     18,2,19970725,1453, 36.2362, -52.3572, 2763, 8203.8,    806.0,  11.5917,  35.4967,2,  35.4971,2,    169.6,2, 11.4856,    166.3,2,     8.82,2,    18.18,2,     0.01,2,     1.12,2,    1.570,2,    0.814,2, -999.000,5, -999.000,5,-999.0000,5,  -999.00,9,   -999.0,9,  -999.00,9,-999.000,9,   2161.7,2,    663.8,2,  20,   2334.1,2,   7.7760,2,   25,  -999.0, -999.00,-999.0000,-999.000,-999.000
     316N151_3,   A20,    29,  1,     17,     17,2,19970725,1453, 36.2362, -52.3572, 2763, 8907.8,    876.6,   9.8006,  35.2985,2,  35.2970,2,    169.1,2,  9.6963,    165.4,2,    11.35,2,    20.80,2,     0.01,2,     1.32,2, -999.000,9, -999.000,9, -999.000,5, -999.000,5,-999.0000,5,  -999.00,9,   -999.0,9,  -999.00,9,-999.000,9,   2175.3,2,    748.6,2,  20,   2325.1,2,   7.7340,2,   25,  -999.0, -999.00,-999.0000,-999.000,-999.000
     316N151_3,   A20,    29,  1,     16,     16,2,19970725,1453, 36.2362, -52.3572, 2763, 9609.7,    946.7,   8.1969,  35.1426,2,  35.1455,2,    164.0,2,  8.0950,    169.4,2,    13.69,2,    22.50,2,     0.01,2,     1.44,2,    1.071,2,    0.540,2, -999.000,5, -999.000,5,-999.0000,5,  -999.00,9,   -999.0,9,  -999.00,9,-999.000,9,   2182.4,2,    809.5,2,  20,   2320.1,2,   7.7020,2,   25,  -999.0, -999.00,-999.0000,-999.000,-999.000
     316N151_3,   A20,    29,  1,     15,     15,2,19970725,1453, 36.2362, -52.3572, 2763,10714.2,   1057.3,   7.8934,  35.2822,2,  35.2792,2,    189.2,2,  7.7809,    190.7,2,    12.24,2,    20.14,2,     0.01,2,     1.29,2,    1.088,6,    0.557,6, -999.000,5, -999.000,5,-999.0000,5,  -999.00,9,   -999.0,9,  -999.00,9,-999.000,9,   2178.5,2,    755.2,3,  20,   2329.2,3,   7.7350,3,   25,  -999.0, -999.00,-999.0000,-999.000,-999.000
     316N151_3,   A20,    29,  1,     14,     14,2,19970725,1453, 36.2362, -52.3572, 2763,11398.4,   1125.8,   6.7552,  35.1617,2,  35.1586,2,    199.2,2,  6.6445,    201.8,2,    12.93,2,    20.39,2,     0.00,2,     1.31,2, -999.000,9, -999.000,9, -999.000,5, -999.000,5,-999.0000,5,  -999.00,9,   -999.0,9,  -999.00,9,-999.000,9,   2177.6,2,    780.8,2,  20,   2323.0,2,   7.7170,2,   25,  -999.0, -999.00,-999.0000,-999.000,-999.000
     316N151_3,   A20,    29,  1,     13,     13,2,19970725,1453, 36.2362, -52.3572, 2763,12225.5,   1208.5,   6.1529,  35.1393,2,  35.1402,2,    213.2,2,  6.0388,    216.5,2,    12.84,2,    19.80,2,     0.00,2,     1.28,2, -999.000,9, -999.000,9, -999.000,5, -999.000,5,-999.0000,5,  -999.00,9,   -999.0,9,  -999.00,9,-999.000,9,   2174.8,2,    775.6,2,  20,   2320.1,2,   7.7230,2,   25,  -999.0, -999.00,-999.0000,-999.000,-999.000
     316N151_3,   A20,    29,  1,     12,     12,2,19970725,1453, 36.2362, -52.3572, 2763,13188.4,   1304.8,   5.5794,  35.1101,2,  35.1108,2,    226.7,2,  5.4609,    226.9,2,    12.65,2,    19.20,2,     0.00,2,     1.25,2,    1.268,6,    0.627,6, -999.000,5, -999.000,5,-999.0000,5,  -999.00,9,   -999.0,9,  -999.00,9,-999.000,9,   2170.9,2,   -999.0,9,-999,   2319.0,2,   7.7280,2,   25,  -999.0, -999.00,-999.0000,-999.000,-999.000
     316N151_3,   A20,    29,  1,     11,     11,2,19970725,1453, 36.2362, -52.3572, 2763,14035.8,   1389.6,   5.1513,  35.0798,2,  35.0785,2,    235.3,2,  5.0288,    239.9,2,    12.47,2,    18.80,2,     0.00,2,     1.22,2, -999.000,9, -999.000,9, -999.000,5, -999.000,5,-999.0000,5,  -999.00,9,   -999.0,9,  -999.00,9,-999.000,9,   2168.2,2,   -999.0,9,-999,   2315.5,2,   7.7310,2,   25,  -999.0, -999.00,-999.0000,-999.000,-999.000
     316N151_3,   A20,    29,  1,     10,     10,2,19970725,1453, 36.2362, -52.3572, 2763,15040.1,   1490.1,   4.8502,  35.0540,2,  35.0543,2,    243.3,2,  4.7213,    245.7,2,    12.48,2,    18.54,2,     0.00,2,     1.21,2,    1.294,2,    0.628,2, -999.000,5, -999.000,5,-999.0000,5,  -999.00,9,   -999.0,9,  -999.00,9,-999.000,9,   2165.4,2,   -999.0,9,-999,   2314.2,2,   7.7340,2,   25,  -999.0, -999.00,-999.0000,-999.000,-999.000
     316N151_3,   A20,    29,  1,      9,      9,2,19970725,1453, 36.2362, -52.3572, 2763,16078.8,   1593.9,   4.5461,  35.0281,2,  35.0287,2,    250.7,2,  4.4106,    253.5,2,    12.38,2,    18.23,2,     0.00,2,     1.19,2, -999.000,9, -999.000,9, -999.000,5, -999.000,5,-999.0000,5,  -999.00,9,   -999.0,9,  -999.00,9,-999.000,9,   2161.1,2,   -999.0,9,-999,   2312.4,2,   7.7330,2,   25,  -999.0, -999.00,-999.0000,-999.000,-999.000
     316N151_3,   A20,    29,  1,      8,      8,2,19970725,1453, 36.2362, -52.3572, 2763,17188.5,   1704.9,   4.2337,  34.9997,2,  34.9995,2,    258.5,2,  4.0915,    257.6,2,    12.49,2,    17.98,2,     0.00,2,     1.18,2,    1.330,2,    0.679,2, -999.000,5, -999.000,5,-999.0000,5,  -999.00,9,   -999.0,9,  -999.00,9,-999.000,9,   2161.0,2,   -999.0,9,-999,   2312.2,2,   7.7360,2,   25,  -999.0, -999.00,-999.0000,-999.000,-999.000
     316N151_3,   A20,    29,  1,      7,      7,2,19970725,1453, 36.2362, -52.3572, 2763,18349.8,   1820.9,   4.0352,  34.9821,2,  34.9839,2,    259.0,2,  3.8846,    264.5,2,    12.69,2,    17.88,2,     0.00,2,     1.18,2, -999.000,9, -999.000,9, -999.000,5, -999.000,5,-999.0000,5,  -999.00,9,   -999.0,9,  -999.00,9,-999.000,9,   2159.7,2,   -999.0,9,-999,   2310.6,2,   7.7390,2,   25,  -999.0, -999.00,-999.0000,-999.000,-999.000
     316N151_3,   A20,    29,  1,      6,      6,2,19970725,1453, 36.2362, -52.3572, 2763,19640.3,   1950.0,   3.9615,  34.9765,2,  34.9769,2,    263.6,2,  3.7995,    264.5,2,    12.89,2,    17.84,2,     0.00,2,     1.17,2,    1.274,2,    0.639,2, -999.000,5, -999.000,5,-999.0000,5,  -999.00,9,   -999.0,9,  -999.00,9,-999.000,9,   2160.4,2,   -999.0,9,-999,   2310.7,2,   7.7390,2,   25,  -999.0, -999.00,-999.0000,-999.000,-999.000
     316N151_3,   A20,    29,  1,      5,      5,2,19970725,1453, 36.2362, -52.3572, 2763,21153.9,   2101.3,   3.8382,  34.9687,2,  34.9693,2,    264.4,2,  3.6631,    265.8,2,    13.09,2,    17.53,2,     0.00,2,     1.16,2, -999.000,9, -999.000,9, -999.000,5, -999.000,5,-999.0000,5,  -999.00,9,   -999.0,9,  -999.00,9,-999.000,9,   2159.3,2,   -999.0,9,-999,   2311.0,2,   7.7420,2,   25,  -999.0, -999.00,-999.0000,-999.000,-999.000
     316N151_3,   A20,    29,  1,      4,      4,2,19970725,1453, 36.2362, -52.3572, 2763,22121.0,   2198.0,   3.7765,  34.9657,2,  34.9665,2,    265.0,2,  3.5929,    267.4,2,    13.58,2,    17.73,2,     0.00,2,     1.17,2,    1.159,2,    0.570,2, -999.000,5, -999.000,5,-999.0000,5,  -999.00,9,   -999.0,9,  -999.00,9,-999.000,9,   2159.7,2,   -999.0,9,-999,   2316.3,3,   7.7470,2,   25,  -999.0, -999.00,-999.0000,-999.000,-999.000
     316N151_3,   A20,    29,  1,      3,      3,2,19970725,1453, 36.2362, -52.3572, 2763,23573.7,   2343.3,   3.6375,  34.9590,2,  34.9601,2,    265.1,2,  3.4418,    266.9,2,    14.26,2,    17.70,2,     0.00,2,     1.18,2,    1.066,2,    0.527,2, -999.000,5, -999.000,5,-999.0000,5,  -999.00,9,   -999.0,9,  -999.00,9,-999.000,9,   2157.4,2,   -999.0,9,-999,   2311.2,2,   7.7440,2,   25,  -999.0, -999.00,-999.0000,-999.000,-999.000
     316N151_3,   A20,    29,  1,      2,      2,2,19970725,1453, 36.2362, -52.3572, 2763,25949.2,   2581.0,   3.4264,  34.9633,2,  34.9641,2,    262.9,2,  3.2103,    265.0,2,    17.48,2,    18.07,2,     0.00,2,     1.20,2,    0.536,2,    0.272,2, -999.000,5, -999.000,5,-999.0000,5,  -999.00,9,   -999.0,9,  -999.00,9,-999.000,9,   2161.2,2,   -999.0,9,-999,   2315.2,6,   7.7480,6,   25,  -999.0, -999.00,-999.0000,-999.000,-999.000
     316N151_3,   A20,    29,  1,      1,      1,2,19970725,1453, 36.2362, -52.3572, 2763,28172.6,   2803.5,   3.2970,  34.9613,2,  34.9610,2,    261.6,2,  3.0605,    281.0,4,    19.14,6,    18.22,6,     0.00,6,     1.22,6,    0.395,6,    0.211,6, -999.000,5, -999.000,5,-999.0000,5,  -999.00,9,   -999.0,9,  -999.00,9,-999.000,9,   2162.2,2,   -999.0,9,-999,   2322.2,2,   7.7560,2,   25,  -999.0, -999.00,-999.0000,-999.000,-999.000