BOTTLE,20220812CCHSIOAMB
EXPOCODE,SECT_ID,STNNBR,CASTNO,SAMPNO,BTLNBR,BTLNBR_FLAG_W,DATE,TIME,LATITUDE,LONGITUDE,DEPTH,CTDRAW,CTDPRS,CTDTMP,CTDSAL,CTDSAL_FLAG_W,SALNTY,SALNTY_FLAG_W,CTDOXY,CTDOXY_FLAG_W,THETA,OXYGEN,OXYGEN_FLAG_W,SILCAT,SILCAT_FLAG_W,NITRAT,NITRAT_FLAG_W,NITRIT,NITRIT_FLAG_W,PHSPHT,PHSPHT_FLAG_W,CFC-11,CFC-11_FLAG_W,CFC-12,CFC-12_FLAG_W,CFC113,CFC113_FLAG_W,TRITUM,TRITUM_FLAG_W,HELIUM,HELIUM_FLAG_W,DELHE3,DELHE3_FLAG_W,DELC14,DELC14_FLAG_W,DELC13,DELC13_FLAG_W,NEON,NEON_FLAG_W,TCARBN,TCARBN_FLAG_W,PCO2,PCO2_FLAG_W,PCO2_TMP,ALKALI,ALKALI_FLAG_W,PH,PH_FLAG_W,PH_TMP,C14ERR,DELHER,HELIER,NEONER,TRITER
,,,,,,,,,,,,,DBAR,ITS-90,PSS-78,,PSS-78,,UMOL/KG,,ITS-90,UMOL/KG,,UMOL/KG,,UMOL/KG,,UMOL/KG,,UMOL/KG,,PMOL/KG,,PMOL/KG,,PMOL/KG,,TU,,NMOL/KG,,PERCNT,,/MILLE,,/MILLE,,NMOL/KG,,UMOL/KG,,UATM,,DEG C,UMOL/KG,,,,DEG C,/MILLE,PERCNT,NMOL/KG,NMOL/KG,TU
     316N151_3,   A20,    55,  1,     33,     33,2,19970802,0642, 18.8378, -52.3387, 5137,  231.4,      8.2,  27.5065,  36.4756,2,  36.4763,2,    206.3,2, 27.5045,    208.8,2,     1.21,2,     0.03,2,     0.00,2,     0.01,2,    1.705,2,    1.008,2, -999.000,5, -999.000,5,-999.0000,5,  -999.00,9,   -999.0,9,  -999.00,9,-999.000,9,   2014.6,2,   -999.0,9,-999,   2384.3,2,   8.1290,2,   25,  -999.0, -999.00,-999.0000,-999.000,-999.000
     316N151_3,   A20,    55,  1,     32,     32,2,19970802,0642, 18.8378, -52.3387, 5137,  424.6,     27.3,  27.5485,  36.7694,2,  36.7675,2,    205.8,2, 27.5421,    207.6,2,     1.05,2,     0.03,2,     0.00,2,     0.01,2,    1.711,2,    1.008,2, -999.000,5, -999.000,5,-999.0000,5,  -999.00,9,   -999.0,9,  -999.00,9,-999.000,9,   -999.0,9,   -999.0,9,-999,   -999.0,9,-999.0000,9, -999,  -999.0, -999.00,-999.0000,-999.000,-999.000
     316N151_3,   A20,    55,  1,     31,     31,2,19970802,0642, 18.8378, -52.3387, 5137,  603.0,     44.7,  26.5819,  37.1676,2,  37.1666,2,    212.3,2, 26.5717,    216.9,2,     0.90,2,     0.03,2,     0.00,2,     0.01,2,    1.846,2,    1.072,2, -999.000,5,    0.841,2,   1.7174,2,    -1.96,2,   -999.0,9,  -999.00,9,   6.587,2,   -999.0,9,   -999.0,9,-999,   -999.0,9,-999.0000,9, -999,  -999.0,    0.15,  0.0086,   0.033,   0.013
     316N151_3,   A20,    55,  1,     30,     30,2,19970802,0642, 18.8378, -52.3387, 5137,  781.7,     62.2,  25.2334,  37.2121,2,  37.2129,2,    229.1,2, 25.2198,    222.4,2,     0.94,2,     0.03,2,     0.00,2,     0.01,2,    1.915,2,    1.115,2, -999.000,5, -999.000,5,-999.0000,5,  -999.00,9,   -999.0,9,  -999.00,9,-999.000,9,   -999.0,9,   -999.0,9,-999,   -999.0,9,-999.0000,9, -999,  -999.0, -999.00,-999.0000,-999.000,-999.000
     316N151_3,   A20,    55,  1,     29,     29,2,19970802,0642, 18.8378, -52.3387, 5137,  871.1,     70.8,  25.0267,  37.2159,2,  37.2124,2,    230.6,2, 25.0112,    218.6,2,     0.97,2,     0.03,2,     0.00,2,     0.01,2, -999.000,9, -999.000,9, -999.000,5, -999.000,5,-999.0000,5,  -999.00,9,   -999.0,9,  -999.00,9,-999.000,9,   -999.0,9,   -999.0,9,-999,   -999.0,9,-999.0000,9, -999,  -999.0, -999.00,-999.0000,-999.000,-999.000
     316N151_3,   A20,    55,  1,     28,     28,2,19970802,0642, 18.8378, -52.3387, 5137, 1088.4,     92.5,  24.0564,  37.3012,2,  37.3000,2,    226.6,2, 24.0367,    215.9,2,     0.92,2,     0.04,2,     0.00,2,     0.01,2,    1.988,2,    1.132,2, -999.000,5, -999.000,5,-999.0000,5,  -999.00,9,   -999.0,9,  -999.00,9,-999.000,9,   -999.0,9,   -999.0,9,-999,   -999.0,9,-999.0000,9, -999,  -999.0, -999.00,-999.0000,-999.000,-999.000
     316N151_3,   A20,    55,  1,     27,     27,2,19970802,0642, 18.8378, -52.3387, 5137, 1619.9,    145.5,  22.6954,  37.2754,2,  37.2781,2,    205.2,2, 22.6656,    201.5,2,     0.86,2,     0.15,2,     0.08,2,     0.02,2,    2.066,2,    1.171,2, -999.000,5, -999.000,5,-999.0000,5,  -999.00,9,   -999.0,9,  -999.00,9,-999.000,9,   -999.0,9,   -999.0,9,-999,   -999.0,9,-999.0000,9, -999,  -999.0, -999.00,-999.0000,-999.000,-999.000
     316N151_3,   A20,    55,  1,     26,     26,2,19970802,0642, 18.8378, -52.3387, 5137, 1866.1,    170.3,  21.7110,  37.1405,2,  37.1434,2,    191.8,2, 21.6773,    191.1,2,     0.90,2,     0.80,2,     0.03,2,     0.04,2, -999.000,9, -999.000,9, -999.000,5, -999.000,5,-999.0000,5,  -999.00,9,   -999.0,9,  -999.00,9,-999.000,9,   -999.0,9,   -999.0,9,-999,   -999.0,9,-999.0000,9, -999,  -999.0, -999.00,-999.0000,-999.000,-999.000
     316N151_3,   A20,    55,  1,     25,     25,2,19970802,0642, 18.8378, -52.3387, 5137, 2126.9,    196.4,  20.5677,  36.9696,2,  36.9710,2,    193.2,2, 20.5302,    192.4,2,     1.03,2,     1.41,2,     0.02,2,     0.06,2,    2.234,2,    1.242,2, -999.000,5, -999.000,5,-999.0000,5,  -999.00,9,   -999.0,9,  -999.00,9,-999.000,9,   -999.0,9,   -999.0,9,-999,   -999.0,9,-999.0000,9, -999,  -999.0, -999.00,-999.0000,-999.000,-999.000
     316N151_3,   A20,    55,  1,     24,     24,2,19970802,0642, 18.8378, -52.3387, 5137, 2618.8,    245.7,  18.8810,  36.6731,2,  36.6742,2,    195.5,2, 18.8368,    194.1,2,     1.36,2,     2.96,2,     0.01,2,     0.13,2,    2.342,6,    1.279,6, -999.000,5, -999.000,5,-999.0000,5,  -999.00,9,   -999.0,9,  -999.00,9,-999.000,9,   -999.0,9,   -999.0,9,-999,   -999.0,9,-999.0000,9, -999,  -999.0, -999.00,-999.0000,-999.000,-999.000
     316N151_3,   A20,    55,  1,     23,     23,2,19970802,0642, 18.8378, -52.3387, 5137, 3123.8,    296.4,  17.5198,  36.4816,2,  36.4937,2,    159.1,2, 17.4692,    177.3,2,     2.35,2,     7.23,2,     0.00,2,     0.39,2,    2.241,2,    1.187,2, -999.000,5, -999.000,5,-999.0000,5,  -999.00,9,   -999.0,9,  -999.00,9,-999.000,9,   -999.0,9,   -999.0,9,-999,   -999.0,9,-999.0000,9, -999,  -999.0, -999.00,-999.0000,-999.000,-999.000
     316N151_3,   A20,    55,  1,     22,     22,2,19970802,0642, 18.8378, -52.3387, 5137, 4121.9,    396.7,  15.1743,  36.0685,2,  36.0683,2,    164.3,2, 15.1129,    133.9,2,     5.17,2,    15.51,2,     0.00,2,     0.91,2,    1.749,2,    0.928,2, -999.000,5, -999.000,5,-999.0000,5,  -999.00,9,   -999.0,9,  -999.00,9,-999.000,9,   -999.0,9,   -999.0,9,-999,   -999.0,9,-999.0000,9, -999,  -999.0, -999.00,-999.0000,-999.000,-999.000
     316N151_3,   A20,    55,  1,     21,     21,2,19970802,0642, 18.8378, -52.3387, 5137, 5134.4,    498.6,  13.2036,  35.7733,2,  35.7722,2,    143.2,2, 13.1331,    154.9,2,     6.36,2,    16.50,2,     0.00,2,     0.98,2,    1.424,2,    0.742,2, -999.000,5, -999.000,5,-999.0000,5,  -999.00,9,   -999.0,9,  -999.00,9,-999.000,9,   -999.0,9,   -999.0,9,-999,   -999.0,9,-999.0000,9, -999,  -999.0, -999.00,-999.0000,-999.000,-999.000
     316N151_3,   A20,    55,  1,     20,     20,2,19970802,0642, 18.8378, -52.3387, 5137, 6617.1,    647.5,   9.9503,  35.2940,2,  35.3018,2,    125.3,2,  9.8734,    127.6,2,    13.61,2,    25.28,2,     0.00,2,     1.57,2,    0.397,2,    0.223,2, -999.000,5, -999.000,5,   1.8100,2,     6.19,2,   -999.0,9,  -999.00,9,   7.392,2,   -999.0,9,   -999.0,9,-999,   -999.0,9,-999.0000,9, -999,  -999.0,    0.15,  0.0091,   0.037,-999.000
     316N151_3,   A20,    55,  1,     19,     19,2,19970802,0642, 18.8378, -52.3387, 5137, 8134.7,    799.5,   7.0385,  34.9085,2,  34.9105,2,    129.9,2,  6.9603,    130.6,2,    21.52,2,    30.35,2,     0.00,2,     1.98,2,    0.090,2,    0.058,2, -999.000,5, -999.000,5,-999.0000,5,  -999.00,9,   -999.0,9,  -999.00,9,-999.000,9,   -999.0,9,   -999.0,9,-999,   -999.0,9,-999.0000,9, -999,  -999.0, -999.00,-999.0000,-999.000,-999.000
     316N151_3,   A20,    55,  1,     18,     18,2,19970802,0642, 18.8378, -52.3387, 5137, 9642.7,    950.2,   5.8117,  34.8202,2,  34.8203,2,    143.0,2,  5.7265,    145.3,2,    24.63,2,    30.61,2,     0.00,2,     2.04,2,    0.038,2,    0.025,2, -999.000,5, -999.000,5,-999.0000,5,  -999.00,9,   -999.0,9,  -999.00,9,-999.000,9,   -999.0,9,   -999.0,9,-999,   -999.0,9,-999.0000,9, -999,  -999.0, -999.00,-999.0000,-999.000,-999.000
     316N151_3,   A20,    55,  1,     17,     17,2,19970802,0642, 18.8378, -52.3387, 5137,11111.8,   1097.0,   5.5536,  34.9029,2,  34.9025,2,    164.6,2,  5.4561,    166.7,2,    22.74,2,    27.67,2,     0.00,2,     1.84,2, -999.000,9, -999.000,9, -999.000,5, -999.000,5,-999.0000,5,  -999.00,9,   -999.0,9,  -999.00,9,-999.000,9,   -999.0,9,   -999.0,9,-999,   -999.0,9,-999.0000,9, -999,  -999.0, -999.00,-999.0000,-999.000,-999.000
     316N151_3,   A20,    55,  1,     16,     16,2,19970802,0642, 18.8378, -52.3387, 5137,13121.3,   1297.9,   5.1104,  34.9788,2,  34.9797,2,    192.3,2,  4.9974,    195.4,2,    19.52,2,    24.32,2,     0.00,2,     1.62,2,    0.068,2,    0.043,2, -999.000,5, -999.000,5,-999.0000,5,  -999.00,9,   -999.0,9,  -999.00,9,-999.000,9,   -999.0,9,   -999.0,9,-999,   -999.0,9,-999.0000,9, -999,  -999.0, -999.00,-999.0000,-999.000,-999.000
     316N151_3,   A20,    55,  1,     15,     15,2,19970802,0642, 18.8378, -52.3387, 5137,15164.1,   1502.1,   4.6633,  35.0032,2,  35.0041,2,    216.9,2,  4.5353,    217.4,2,    18.31,2,    22.18,2,     0.00,2,     1.48,2, -999.000,9, -999.000,9, -999.000,5, -999.000,5,-999.0000,5,  -999.00,9,   -999.0,9,  -999.00,9,-999.000,9,   -999.0,9,   -999.0,9,-999,   -999.0,9,-999.0000,9, -999,  -999.0, -999.00,-999.0000,-999.000,-999.000
     316N151_3,   A20,    55,  1,     14,     14,2,19970802,0642, 18.8378, -52.3387, 5137,17169.5,   1702.5,   4.2401,  35.0041,2,  35.0047,2,    235.4,2,  4.0980,    234.8,2,    17.86,2,    20.64,2,     0.00,2,     1.37,2,    0.044,2,    0.031,2, -999.000,5, -999.000,5,-999.0000,5,  -999.00,9,   -999.0,9,  -999.00,9,-999.000,9,   -999.0,9,   -999.0,9,-999,   -999.0,9,-999.0000,9, -999,  -999.0, -999.00,-999.0000,-999.000,-999.000
     316N151_3,   A20,    55,  1,     13,     13,2,19970802,0642, 18.8378, -52.3387, 5137,19159.8,   1901.5,   3.8080,  34.9963,2,  34.9976,2,    246.7,2,  3.6527,    246.1,2,    19.62,2,    19.89,2,     0.00,2,     1.32,2,    0.018,2,    0.013,2, -999.000,5, -999.000,5,-999.0000,5,  -999.00,9,   -999.0,9,  -999.00,9,-999.000,9,   -999.0,9,   -999.0,9,-999,   -999.0,9,-999.0000,9, -999,  -999.0, -999.00,-999.0000,-999.000,-999.000
     316N151_3,   A20,    55,  1,     12,     12,2,19970802,0642, 18.8378, -52.3387, 5137,21153.6,   2100.8,   3.5360,  34.9860,2,  34.9875,2,    247.6,2,  3.3656,    248.2,2,    22.53,2,    19.97,2,     0.00,2,     1.34,2,    0.009,2,    0.009,2, -999.000,5, -999.000,5,-999.0000,5,  -999.00,9,   -999.0,9,  -999.00,9,-999.000,9,   -999.0,9,   -999.0,9,-999,   -999.0,9,-999.0000,9, -999,  -999.0, -999.00,-999.0000,-999.000,-999.000
     316N151_3,   A20,    55,  1,     11,     11,2,19970802,0642, 18.8378, -52.3387, 5137,24157.4,   2401.1,   3.1482,  34.9619,2,  34.9637,2,    250.3,2,  2.9553,    250.1,2,    27.37,2,    20.15,2,     0.00,2,     1.36,2,    0.010,2,    0.010,2, -999.000,5, -999.000,5,-999.0000,5,  -999.00,9,   -999.0,9,  -999.00,9,-999.000,9,   -999.0,9,   -999.0,9,-999,   -999.0,9,-999.0000,9, -999,  -999.0, -999.00,-999.0000,-999.000,-999.000
     316N151_3,   A20,    55,  1,     10,     10,2,19970802,0642, 18.8378, -52.3387, 5137,27110.2,   2696.1,   2.9052,  34.9437,2,  34.9437,2,    251.2,2,  2.6876,    250.1,3,    30.95,2,    20.31,2,     0.00,2,     1.37,2,    0.008,2,    0.008,2, -999.000,5, -999.000,5,-999.0000,5,  -999.00,9,   -999.0,9,  -999.00,9,-999.000,9,   -999.0,9,   -999.0,9,-999,   -999.0,9,-999.0000,9, -999,  -999.0, -999.00,-999.0000,-999.000,-999.000
     316N151_3,   A20,    55,  1,      9,      9,2,19970802,0642, 18.8378, -52.3387, 5137,30088.8,   2993.8,   2.7495,  34.9316,2,  34.9324,2,    252.1,2,  2.5049,    250.2,2,    33.58,2,    20.50,2,     0.00,2,     1.39,2,    0.006,6,    0.006,6, -999.000,5, -999.000,5,-999.0000,5,  -999.00,9,   -999.0,9,  -999.00,9,-999.000,9,   -999.0,9,   -999.0,9,-999,   -999.0,9,-999.0000,9, -999,  -999.0, -999.00,-999.0000,-999.000,-999.000
     316N151_3,   A20,    55,  1,      8,      8,2,19970802,0642, 18.8378, -52.3387, 5137,33140.7,   3298.8,   2.5890,  34.9171,2,  34.9175,2,    250.3,2,  2.3160,    253.3,2,    36.77,2,    20.73,2,     0.00,2,     1.41,2,    0.009,2,    0.007,2, -999.000,5, -999.000,5,-999.0000,5,  -999.00,9,   -999.0,9,  -999.00,9,-999.000,9,   -999.0,9,   -999.0,9,-999,   -999.0,9,-999.0000,9, -999,  -999.0, -999.00,-999.0000,-999.000,-999.000
     316N151_3,   A20,    55,  1,      7,      7,2,19970802,0642, 18.8378, -52.3387, 5137,36125.1,   3597.2,   2.4126,  34.9009,2,  34.9020,2,    252.2,2,  2.1119,    252.6,2,    40.55,2,    21.11,2,     0.00,2,     1.43,2,    0.009,2,    0.010,2, -999.000,5, -999.000,5,-999.0000,5,  -999.00,9,   -999.0,9,  -999.00,9,-999.000,9,   -999.0,9,   -999.0,9,-999,   -999.0,9,-999.0000,9, -999,  -999.0, -999.00,-999.0000,-999.000,-999.000
     316N151_3,   A20,    55,  1,      6,      6,2,19970802,0642, 18.8378, -52.3387, 5137,38664.8,   3851.1,   2.2628,  34.8877,2,  34.8865,2,    253.1,2,  1.9379,    254.0,2,    43.08,2,    21.23,2,     0.00,2,     1.45,2,    0.014,2,    0.011,2, -999.000,5, -999.000,5,-999.0000,5,  -999.00,9,   -999.0,9,  -999.00,9,-999.000,9,   -999.0,9,   -999.0,9,-999,   -999.0,9,-999.0000,9, -999,  -999.0, -999.00,-999.0000,-999.000,-999.000
     316N151_3,   A20,    55,  1,      5,      5,2,19970802,0642, 18.8378, -52.3387, 5137,41158.2,   4100.4,   2.1808,  34.8786,2,  34.8776,2,    253.7,2,  1.8302,    253.8,2,    45.12,2,    21.35,2,     0.00,2,     1.46,2,    0.019,2,    0.016,2, -999.000,5, -999.000,5,-999.0000,5,  -999.00,9,   -999.0,9,  -999.00,9,-999.000,9,   -999.0,9,   -999.0,9,-999,   -999.0,9,-999.0000,9, -999,  -999.0, -999.00,-999.0000,-999.000,-999.000
     316N151_3,   A20,    55,  1,      4,      4,2,19970802,0642, 18.8378, -52.3387, 5137,43657.9,   4350.2,   2.1150,  34.8696,2,  34.8687,2,    251.4,2,  1.7375,    251.6,2,    48.89,2,    21.91,2,     0.00,2,     1.50,2,    0.015,2,    0.014,2, -999.000,5, -999.000,5,-999.0000,5,  -999.00,9,   -999.0,9,  -999.00,9,-999.000,9,   -999.0,9,   -999.0,9,-999,   -999.0,9,-999.0000,9, -999,  -999.0, -999.00,-999.0000,-999.000,-999.000
     316N151_3,   A20,    55,  1,      3,      3,2,19970802,0642, 18.8378, -52.3387, 5137,47138.8,   4698.2,   2.0609,  34.8602,2,  34.8597,2,    251.5,2,  1.6436,    248.4,3,    52.00,2,    22.29,2,     0.00,2,     1.52,2,    0.020,2,    0.017,2, -999.000,5, -999.000,5,-999.0000,5,  -999.00,9,   -999.0,9,  -999.00,9,-999.000,9,   -999.0,9,   -999.0,9,-999,   -999.0,9,-999.0000,9, -999,  -999.0, -999.00,-999.0000,-999.000,-999.000
     316N151_3,   A20,    55,  1,      2,      2,2,19970802,0642, 18.8378, -52.3387, 5137,50193.1,   5003.6,   2.0499,  34.8547,2,  34.8551,2,    250.7,2,  1.5954,    252.6,2,    53.46,2,    22.49,2,     0.00,2,     1.54,2,    0.023,2,    0.021,2, -999.000,5, -999.000,5,-999.0000,5,  -999.00,9,   -999.0,9,  -999.00,9,-999.000,9,   -999.0,9,   -999.0,9,-999,   -999.0,9,-999.0000,9, -999,  -999.0, -999.00,-999.0000,-999.000,-999.000
     316N151_3,   A20,    55,  1,      1,      1,2,19970802,0642, 18.8378, -52.3387, 5137,52177.3,   5201.7,   2.0724,  34.8551,2,  34.8561,2,    249.8,2,  1.5922,    249.7,2,    53.94,6,    22.48,6,     0.00,6,     1.54,6,    0.024,2,    0.021,2, -999.000,5, -999.000,5,-999.0000,5,  -999.00,9,   -999.0,9,  -999.00,9,-999.000,9,   -999.0,9,   -999.0,9,-999,   -999.0,9,-999.0000,9, -999,  -999.0, -999.00,-999.0000,-999.000,-999.000