BOTTLE,20220812CCHSIOAMB
EXPOCODE,SECT_ID,STNNBR,CASTNO,SAMPNO,BTLNBR,BTLNBR_FLAG_W,DATE,TIME,LATITUDE,LONGITUDE,DEPTH,CTDRAW,CTDPRS,CTDTMP,CTDSAL,CTDSAL_FLAG_W,SALNTY,SALNTY_FLAG_W,CTDOXY,CTDOXY_FLAG_W,THETA,OXYGEN,OXYGEN_FLAG_W,SILCAT,SILCAT_FLAG_W,NITRAT,NITRAT_FLAG_W,NITRIT,NITRIT_FLAG_W,PHSPHT,PHSPHT_FLAG_W,CFC-11,CFC-11_FLAG_W,CFC-12,CFC-12_FLAG_W,CFC113,CFC113_FLAG_W,TRITUM,TRITUM_FLAG_W,HELIUM,HELIUM_FLAG_W,DELHE3,DELHE3_FLAG_W,DELC14,DELC14_FLAG_W,DELC13,DELC13_FLAG_W,NEON,NEON_FLAG_W,TCARBN,TCARBN_FLAG_W,PCO2,PCO2_FLAG_W,PCO2_TMP,ALKALI,ALKALI_FLAG_W,PH,PH_FLAG_W,PH_TMP,C14ERR,DELHER,HELIER,NEONER,TRITER
,,,,,,,,,,,,,DBAR,ITS-90,PSS-78,,PSS-78,,UMOL/KG,,ITS-90,UMOL/KG,,UMOL/KG,,UMOL/KG,,UMOL/KG,,UMOL/KG,,PMOL/KG,,PMOL/KG,,PMOL/KG,,TU,,NMOL/KG,,PERCNT,,/MILLE,,/MILLE,,NMOL/KG,,UMOL/KG,,UATM,,DEG C,UMOL/KG,,,,DEG C,/MILLE,PERCNT,NMOL/KG,NMOL/KG,TU
     316N151_3,   A20,    30,  1,     30,     30,2,19970725,2206, 35.5582, -52.3538, -999,  244.4,     10.0,  26.2445,  36.5727,2,-999.0000,9,    220.8,2, 26.2422,    221.1,2,     0.73,2,     0.04,2,     0.00,2,     0.01,2,    1.763,2,    1.068,2, -999.000,5,    1.106,2,   1.7353,2,    -1.76,2,     82.5,2,     1.37,2,   6.826,2,   -999.0,9,   -999.0,9,-999,   2388.0,2,   8.0710,2,   25,     6.9,    0.15,  0.0087,   0.034,   0.013
     316N151_3,   A20,    30,  1,     29,     29,2,19970725,2206, 35.5582, -52.3538, -999,  633.5,     49.0,  21.0317,  36.5726,2,  36.5723,2,    249.7,2, 21.0222,    242.7,2,     0.64,2,     0.04,2,     0.00,2,     0.01,2,    2.297,6,    1.335,6, -999.000,5, -999.000,5,-999.0000,5,  -999.00,9,   -999.0,9,  -999.00,9,-999.000,9,   2049.3,2,    306.3,2,  20,   2387.3,6,   8.0670,6,   25,  -999.0, -999.00,-999.0000,-999.000,-999.000
     316N151_3,   A20,    30,  1,     28,     28,2,19970725,2206, 35.5582, -52.3538, -999, 1132.4,     98.5,  18.7961,  36.6296,2,  36.6318,2,    216.2,2, 18.7785,    218.1,2,     0.94,2,     0.26,2,     0.07,2,     0.01,2,    2.312,2,    1.342,2, -999.000,5,    1.119,2,   1.7336,2,    -1.82,2,     81.8,2,     1.11,2,   7.042,2,   2082.6,2,    352.9,2,  20,   2390.7,2,   8.0230,2,   25,     8.1,    0.15,  0.0087,   0.035,   0.013
     316N151_3,   A20,    30,  1,     27,     27,2,19970725,2206, 35.5582, -52.3538, -999, 1655.9,    150.5,  18.2402,  36.5632,2,  36.5624,2,    207.3,2, 18.2139,    212.1,2,     1.24,2,     2.70,2,     0.02,2,     0.13,2,    2.323,2,    1.339,2, -999.000,5,    1.078,2,   1.7460,2,    -1.41,2,   -999.0,9,  -999.00,9,   7.087,2,   2086.9,2,    364.6,2,  20,   2385.6,2,   8.0060,2,   25,  -999.0,    0.15,  0.0087,   0.035,   0.013
     316N151_3,   A20,    30,  1,     26,     26,2,19970725,2206, 35.5582, -52.3538, -999, 2144.2,    198.8,  17.9897,  36.5303,2,  36.5292,2,    208.3,2, 17.9552,    213.3,2,     1.34,2,     3.03,2,     0.01,2,     0.15,2,    2.310,2,    1.340,2, -999.000,5,    1.103,2,   1.7380,2,    -1.37,2,     98.2,2,     1.06,2,   7.081,2,   2089.0,2,   -999.0,9,-999,   2382.0,2,   8.0020,2,   25,    10.8,    0.15,  0.0087,   0.035,   0.013
     316N151_3,   A20,    30,  1,     25,     25,2,19970725,2206, 35.5582, -52.3538, -999, 2660.8,    250.3,  17.8677,  36.5157,2,  36.5160,2,    216.0,2, 17.8244,    216.3,2,     1.44,2,     3.36,2,     0.01,2,     0.17,2,    2.406,2,    1.372,2, -999.000,5,    1.129,2,   1.7442,2,    -0.99,2,   -999.0,9,  -999.00,9,   7.087,2,   2090.7,2,    371.6,2,  20,   2382.7,2,   7.9990,2,   25,  -999.0,    0.15,  0.0087,   0.035,   0.013
     316N151_3,   A20,    30,  1,     24,     24,2,19970725,2206, 35.5582, -52.3538, -999, 3162.5,    300.1,  17.6966,  36.4913,2,  36.4904,2,    218.4,2, 17.6451,    214.6,2,     1.54,2,     3.61,2,     0.01,2,     0.19,2,    2.425,2,    1.356,2, -999.000,5,    1.138,2,   1.7568,2,    -0.89,2,     89.9,2,     1.00,2,   7.147,2,   2090.9,2,    375.5,2,  20,   2383.8,2,   7.9940,2,   25,     7.6,    0.15,  0.0088,   0.036,   0.013
     316N151_3,   A20,    30,  1,     23,     23,2,19970725,2206, 35.5582, -52.3538, -999, 4149.3,    398.8,  17.0430,  36.3694,2,  36.3705,2,    216.4,2, 16.9761,    212.6,2,     1.94,2,     4.80,2,     0.01,2,     0.27,2,    2.440,2,    1.362,2, -999.000,5,    1.192,2,   1.7487,2,    -0.55,2,     85.8,2,     1.03,2,   7.141,2,   2097.9,2,    396.9,2,  20,   2375.1,2,   7.9750,2,   25,     7.9,    0.15,  0.0087,   0.036,   0.013
     316N151_3,   A20,    30,  1,     22,     22,2,19970725,2206, 35.5582, -52.3538, -999, 5171.5,    501.4,  15.9465,  36.1721,2,  36.1725,2,    194.7,2, 15.8659,    197.7,2,     3.10,2,     7.93,2,     0.01,2,     0.46,2,    2.268,2,    1.246,2, -999.000,5,    1.248,2,   1.7655,2,     1.57,2,     76.8,2,     0.96,2,   7.250,2,   2114.1,2,    447.6,2,  20,   2364.6,2,   7.9310,2,   25,     5.8,    0.15,  0.0088,   0.036,   0.013
     316N151_3,   A20,    30,  1,     21,     21,2,19970725,2206, 35.5582, -52.3538, -999, 6651.5,    650.1,  13.1946,  35.7179,2,  35.7182,2,    175.2,2, 13.1023,    170.4,2,     6.69,2,    14.92,2,     0.01,2,     0.92,2,    1.743,2,    0.941,2, -999.000,5,    1.198,2,   1.7671,2,     4.71,2,     40.5,2,     0.84,2,   7.283,2,   2147.8,2,    588.1,2,  20,   2342.4,2,   7.8270,2,   25,     4.2,    0.15,  0.0088,   0.036,   0.013
     316N151_3,   A20,    30,  1,     20,     20,2,19970725,2206, 35.5582, -52.3538, -999, 8152.3,    800.7,  10.2161,  35.3280,2,  35.3248,2,    159.1,2, 10.1188,    157.2,2,    11.73,2,    21.04,2,     0.00,2,     1.34,2,    1.172,2,    0.600,2, -999.000,5,    0.877,2,   1.7837,2,     6.05,2,     -7.3,2,     0.73,2,   7.440,2,   2174.0,2,    749.5,2,  20,   2326.2,2,   7.7330,2,   25,     7.3,    0.15,  0.0089,   0.037,   0.013
     316N151_3,   A20,    30,  1,     19,     19,2,19970725,2206, 35.5582, -52.3538, -999, 9643.6,    950.0,   7.6938,  35.1365,2,  35.1350,2,    172.6,2,  7.5949,    176.8,2,    13.87,2,    21.94,2,     0.00,2,     1.43,2,    1.022,2,    0.515,2, -999.000,5,    0.768,2,   1.8060,2,     6.26,2,    -44.8,2,     0.75,2,   7.627,2,   2181.0,2,   -999.0,9,-999,   2318.5,2,   7.7010,2,   25,     4.0,    0.15,  0.0090,   0.038,   0.012
     316N151_3,   A20,    30,  1,     18,     18,2,19970725,2206, 35.5582, -52.3538, -999,11132.0,   1099.0,   6.2732,  35.1093,2,  35.1075,2,    200.8,2,  6.1693,    206.8,2,    13.30,2,    20.19,2,     0.00,2,     1.33,2,    1.193,2,    0.590,2, -999.000,5, -999.000,5,   1.8142,2,     6.57,2,    -53.4,2,     0.88,2,   7.706,2,   2175.8,2,    786.6,2,  20,   2318.8,2,   7.7130,2,   25,     4.4,    0.15,  0.0091,   0.039,-999.000
     316N151_3,   A20,    30,  1,     17,     17,2,19970725,2206, 35.5582, -52.3538, -999,12641.4,   1249.9,   5.4118,  35.0901,2,  35.0898,2,    228.3,2,  5.3004,    230.3,2,    12.72,2,    18.98,2,     0.00,2,     1.25,2,    1.293,2,    0.635,2, -999.000,5,    0.807,2,   1.8154,2,     7.02,2,    -53.6,2,     0.84,2,   7.770,2,   2169.2,2,    763.3,2,  20,   2315.6,2,   7.7250,2,   25,     5.5,    0.15,  0.0091,   0.039,   0.012
     316N151_3,   A20,    30,  1,     16,     16,2,19970725,2206, 35.5582, -52.3538, -999,14654.2,   1451.2,   4.6162,  35.0393,2,  35.0379,2,    248.2,2,  4.4935,    250.8,2,    12.54,2,    18.17,2,     0.00,2,     1.20,2,    1.278,2,    0.624,2, -999.000,5,    0.806,2,   1.8249,2,     6.93,2,    -54.3,2,     0.96,2,   7.819,2,   2162.2,2,    750.3,2,  20,   2312.0,2,   7.7330,2,   25,     3.8,    0.15,  0.0091,   0.039,   0.012
     316N151_3,   A20,    30,  1,     15,     15,2,19970725,2206, 35.5582, -52.3538, -999,16655.8,   1651.2,   4.2298,  35.0028,2,  35.0030,2,    259.1,2,  4.0927,    258.2,2,    12.73,2,    17.89,2,     0.00,2,     1.19,2, -999.000,9, -999.000,9, -999.000,5,    0.778,2,   1.8354,2,     7.03,2,    -48.0,2,     1.02,2,   7.952,2,   2160.0,2,    744.3,2,  20,   2310.7,2,   7.7380,2,   25,     2.7,    0.15,  0.0092,   0.040,   0.012
     316N151_3,   A20,    30,  1,     14,     14,2,19970725,2206, 35.5582, -52.3538, -999,18647.2,   1850.3,   3.8978,  34.9742,2,  34.9748,2,    263.9,2,  3.7462,    265.2,2,    13.12,2,    17.69,2,     0.00,2,     1.18,2,    1.247,2,    0.626,2, -999.000,5,    0.766,2,   1.8315,2,     6.28,2,    -54.3,2,     1.01,2,   7.936,2,   2158.3,2,    741.6,2,  20,   2307.9,2,   7.7400,2,   25,     5.9,    0.15,  0.0092,   0.040,   0.012
     316N151_3,   A20,    30,  1,     13,     13,2,19970725,2206, 35.5582, -52.3538, -999,21153.4,   2100.7,   3.6963,  34.9636,2,  34.9630,2,    265.1,2,  3.5236,    266.8,2,    14.10,2,    17.65,2,     0.00,2,     1.18,2, -999.000,9, -999.000,9, -999.000,5,    0.627,2,   1.8480,2,     5.46,2,    -63.9,2,     1.01,2,   8.021,2,   2157.8,2,   -999.0,9,-999,   2309.4,2,   7.7420,2,   25,     4.2,    0.15,  0.0092,   0.040,   0.012
     316N151_3,   A20,    30,  1,     12,     12,2,19970725,2206, 35.5582, -52.3538, -999,23665.6,   2351.8,   3.5597,  34.9649,2,  34.9645,2,    263.4,2,  3.3645,    265.4,2,    15.66,2,    17.74,2,     0.00,2,     1.19,2,    0.771,2,    0.369,2, -999.000,5,    0.499,2,   1.8442,2,     5.21,2,    -80.3,2,     1.03,2,   8.035,2,   2158.1,2,    734.5,2,  20,   2311.8,2,   7.7450,2,   25,     7.6,    0.15,  0.0092,   0.040,   0.011
     316N151_3,   A20,    30,  1,     11,     11,2,19970725,2206, 35.5582, -52.3538, -999,26140.1,   2599.1,   3.4227,  34.9649,2,  34.9656,2,    261.6,2,  3.2048,    263.8,2,    17.59,2,    17.91,2,     0.00,2,     1.20,2,    0.523,6,    0.252,6, -999.000,5, -999.000,5,-999.0000,5,  -999.00,9,    -86.4,2,     1.07,2,-999.000,9,   2159.6,2,    730.5,2,  20,   2313.9,2,   7.7440,2,   25,     5.6, -999.00,-999.0000,-999.000,-999.000
     316N151_3,   A20,    30,  1,     10,     10,2,19970725,2206, 35.5582, -52.3538, -999,28639.3,   2848.9,   3.1398,  34.9534,2,  34.9532,2,    261.5,2,  2.9018,    265.1,2,    20.70,2,    18.20,2,     0.00,2,     1.23,2, -999.000,9, -999.000,9, -999.000,5,    0.283,2,   1.8633,2,     3.25,2,    -98.0,2,     1.02,2,   8.095,2,   2164.7,2,    729.1,2,  20,   2317.8,2,   7.7470,2,   25,     4.3,    0.15,  0.0093,   0.040,   0.011
     316N151_3,   A20,    30,  1,      9,      9,2,19970725,2206, 35.5582, -52.3538, -999,31160.1,   3100.9,   2.8616,  34.9374,2,  34.9357,2,    264.1,2,  2.6033,    264.6,2,    22.84,2,    18.25,2,     0.00,2,     1.24,2,    0.306,2,    0.163,2, -999.000,5,    0.253,2,   1.8687,2,     3.18,2,    -94.5,2,     1.03,2,   8.145,2,   2163.5,2,   -999.0,9,-999,   2318.3,2,   7.7480,2,   25,     4.6,    0.15,  0.0093,   0.041,   0.011
     316N151_3,   A20,    30,  1,      8,      8,2,19970725,2206, 35.5582, -52.3538, -999,33663.7,   3351.3,   2.5904,  34.9219,2,  34.9216,2,    266.2,2,  2.3117,    267.6,2,    25.37,2,    18.29,2,     0.00,2,     1.25,2,    0.261,6,    0.129,6, -999.000,5, -999.000,5,-999.0000,5,  -999.00,9,    -90.8,2,     1.12,2,-999.000,9,   2166.0,2,   -999.0,9,-999,   2322.2,2,   7.7470,2,   25,     3.2, -999.00,-999.0000,-999.000,-999.000
     316N151_3,   A20,    30,  1,      7,      7,2,19970725,2206, 35.5582, -52.3538, -999,36162.0,   3601.0,   2.4670,  34.9133,2,  34.9111,2,    265.4,2,  2.1644,    266.9,2,    27.12,2,    18.38,2,     0.00,2,     1.26,2,    0.272,2,    0.132,2, -999.000,5,    0.224,2,   1.8735,2,     3.70,2,   -108.2,2,     1.13,2,   8.167,2,   2166.2,2,   -999.0,9,-999,   2320.9,2,   7.7450,2,   25,     3.8,    0.15,  0.0094,   0.041,   0.010
     316N151_3,   A20,    30,  1,      6,      6,2,19970725,2206, 35.5582, -52.3538, -999,38666.6,   3851.4,   2.3752,  34.9038,2,  34.9041,2,    265.4,2,  2.0472,    267.7,2,    29.06,2,    18.54,2,     0.00,2,     1.27,2,    0.335,6,    0.165,6, -999.000,5, -999.000,5,-999.0000,5,  -999.00,9,   -102.1,2,     1.02,2,-999.000,9,   2168.9,2,    734.8,2,  20,   2323.4,2,   7.7370,2,   25,     2.8, -999.00,-999.0000,-999.000,-999.000
     316N151_3,   A20,    30,  1,      5,      5,2,19970725,2206, 35.5582, -52.3538, -999,41189.2,   4103.5,   2.3043,  34.8970,2,  34.8932,2,    264.1,2,  1.9497,    265.0,2,    31.87,2,    18.87,2,     0.00,2,     1.30,2,    0.339,2,    0.162,2, -999.000,5,    0.249,2,   1.8420,2,     3.68,2,   -100.6,2,     1.00,2,   8.041,2,   2172.1,2,   -999.0,9,-999,   2326.1,2,   7.7400,2,   25,     2.4,    0.15,  0.0092,   0.040,   0.011
     316N151_3,   A20,    30,  1,      4,      4,2,19970725,2206, 35.5582, -52.3538, -999,44156.4,   4400.1,   2.2706,  34.8909,2,  34.8904,2,    262.1,2,  1.8822,    263.8,2,    34.50,2,    19.25,2,     0.00,2,     1.32,2,    0.314,2,    0.154,2, -999.000,5, -999.000,5,-999.0000,5,  -999.00,9,   -110.5,2,     0.98,2,-999.000,9,   2175.4,2,   -999.0,9,-999,   2329.4,2,   7.7370,2,   25,     2.8, -999.00,-999.0000,-999.000,-999.000
     316N151_3,   A20,    30,  1,      3,      3,2,19970725,2206, 35.5582, -52.3538, -999,47648.0,   4749.1,   2.2598,  34.8855,2,  34.8844,2,    261.0,2,  1.8297,    261.8,2,    37.21,2,    19.66,2,     0.00,2,     1.37,2,    0.285,2,    0.144,2, -999.000,5,    0.222,2,   1.8890,2,     3.25,2,   -115.8,2,     0.97,2,   8.251,2,   2179.5,2,   -999.0,9,-999,   2331.9,2,   7.7340,2,   25,     2.7,    0.15,  0.0094,   0.041,   0.011
     316N151_3,   A20,    30,  1,      2,      2,2,19970725,2206, 35.5582, -52.3538, -999,49632.9,   4947.6,   2.2692,  34.8836,2,  34.8833,2,    260.5,2,  1.8142,    261.0,2,    38.19,2,    19.83,2,     0.00,2,     1.37,2,    0.274,2,    0.129,2, -999.000,5, -999.000,5,-999.0000,5,  -999.00,9,   -103.0,2,     0.99,2,-999.000,9,   2180.9,2,   -999.0,9,-999,   2332.0,6,   7.7350,6,   25,     3.7, -999.00,-999.0000,-999.000,-999.000
     316N151_3,   A20,    30,  1,      1,      1,2,19970725,2206, 35.5582, -52.3538, -999,51410.6,   5125.5,   2.2590,  34.8797,2,  34.8804,2,    256.2,2,  1.7819,    259.9,2,    40.38,6,    20.10,6,     0.00,6,     1.39,6,    0.238,2,    0.118,2, -999.000,5,    0.179,2,   1.9317,2,     3.57,2,   -104.2,2,     0.88,2,   8.393,2,   2183.8,2,    760.7,2,  20,   2336.8,2,   7.7320,2,   25,     2.9,    0.15,  0.0097,   0.042,   0.010