BOTTLE,20220812CCHSIOAMB
EXPOCODE,SECT_ID,STNNBR,CASTNO,SAMPNO,BTLNBR,BTLNBR_FLAG_W,DATE,TIME,LATITUDE,LONGITUDE,DEPTH,CTDRAW,CTDPRS,CTDTMP,CTDSAL,CTDSAL_FLAG_W,SALNTY,SALNTY_FLAG_W,CTDOXY,CTDOXY_FLAG_W,THETA,OXYGEN,OXYGEN_FLAG_W,SILCAT,SILCAT_FLAG_W,NITRAT,NITRAT_FLAG_W,NITRIT,NITRIT_FLAG_W,PHSPHT,PHSPHT_FLAG_W,CFC-11,CFC-11_FLAG_W,CFC-12,CFC-12_FLAG_W,CFC113,CFC113_FLAG_W,TRITUM,TRITUM_FLAG_W,HELIUM,HELIUM_FLAG_W,DELHE3,DELHE3_FLAG_W,DELC14,DELC14_FLAG_W,DELC13,DELC13_FLAG_W,NEON,NEON_FLAG_W,TCARBN,TCARBN_FLAG_W,PCO2,PCO2_FLAG_W,PCO2_TMP,ALKALI,ALKALI_FLAG_W,PH,PH_FLAG_W,PH_TMP,C14ERR,DELHER,HELIER,NEONER,TRITER
,,,,,,,,,,,,,DBAR,ITS-90,PSS-78,,PSS-78,,UMOL/KG,,ITS-90,UMOL/KG,,UMOL/KG,,UMOL/KG,,UMOL/KG,,UMOL/KG,,PMOL/KG,,PMOL/KG,,PMOL/KG,,TU,,NMOL/KG,,PERCNT,,/MILLE,,/MILLE,,NMOL/KG,,UMOL/KG,,UATM,,DEG C,UMOL/KG,,,,DEG C,/MILLE,PERCNT,NMOL/KG,NMOL/KG,TU
     316N151_3,   A20,    51,  1,     33,     33,2,19970801,0339, 21.5108, -52.3412, 4907,  298.0,     13.7,  27.5231,  36.5901,2,  36.5990,2,    204.9,2, 27.5199,    216.2,2,     0.84,2,     0.00,2,     0.00,2,     0.01,2,    1.725,2,    1.005,2, -999.000,5, -999.000,5,   1.7226,2,    -1.31,2,     65.1,2,     1.58,2,   6.718,2,   2021.0,2,    265.3,2,  20,   2394.2,2,   8.1220,2,   25,     4.0,    0.15,  0.0086,   0.034,-999.000
     316N151_3,   A20,    51,  1,     32,     32,2,19970801,0339, 21.5108, -52.3412, 4907,  650.2,     49.3,  26.3039,  37.0793,2,  37.0782,2,    227.4,2, 26.2928,    225.2,2,     0.58,2,     0.01,2,     0.00,2,     0.02,2,    1.907,2,    1.090,2, -999.000,5, -999.000,5,-999.0000,5,  -999.00,9,   -999.0,9,  -999.00,9,-999.000,9,   2048.1,2,    273.6,2,  20,   2427.4,6,   8.1180,2,   25,  -999.0, -999.00,-999.0000,-999.000,-999.000
     316N151_3,   A20,    51,  1,     31,     31,2,19970801,0339, 21.5108, -52.3412, 4907, 1143.7,     98.8,  23.1615,  37.1787,2,  37.1814,2,    219.2,2, 23.1410,    230.3,2,     0.33,2,     0.04,2,     0.00,2,     0.02,2,    2.053,2,    1.162,2, -999.000,5,    1.038,2,   1.7224,2,    -1.18,2,     59.8,2,     1.42,2,   6.815,2,   2066.1,2,    294.5,2,  20,   2428.3,2,   8.0920,2,   25,     3.8,    0.15,  0.0086,   0.034,   0.013
     316N151_3,   A20,    51,  1,     30,     30,2,19970801,0339, 21.5108, -52.3412, 4907, 1641.9,    148.6,  21.8244,  37.1567,2,  37.1562,2,    196.5,2, 21.7948,    199.4,2,     0.26,2,     0.35,2,     0.04,2,     0.03,2,    2.134,2,    1.193,2, -999.000,5, -999.000,5,-999.0000,5,  -999.00,9,   -999.0,9,  -999.00,9,-999.000,9,   2100.3,2,    341.7,2,  20,   2425.3,2,   8.0380,2,   25,  -999.0, -999.00,-999.0000,-999.000,-999.000
     316N151_3,   A20,    51,  1,     29,     29,2,19970801,0339, 21.5108, -52.3412, 4907, 2078.7,    192.2,  20.0041,  36.8886,2,  36.9043,2,    189.0,2, 19.9682,    186.6,2,     0.58,2,     2.24,2,     0.01,2,     0.10,2,    2.177,2,    1.254,2, -999.000,5,    1.166,2,   1.7370,2,    -0.38,2,     80.2,2,     1.06,2,   6.932,2,   2112.6,2,    379.2,2,  20,   2414.1,2,   7.9980,2,   25,     3.7,    0.15,  0.0087,   0.035,   0.013
     316N151_3,   A20,    51,  1,     28,     28,2,19970801,0339, 21.5108, -52.3412, 4907, 2592.2,    243.5,  18.8320,  36.7019,2,  36.7006,2,    189.3,2, 18.7884,    183.9,2,     1.00,2,     4.34,2,     0.01,2,     0.22,2,    2.276,2,    1.230,2, -999.000,5, -999.000,5,-999.0000,5,  -999.00,9,   -999.0,9,  -999.00,9,-999.000,9,   2115.6,2,    402.2,2,  20,   2395.8,2,   7.9750,2,   25,  -999.0, -999.00,-999.0000,-999.000,-999.000
     316N151_3,   A20,    51,  1,     27,     27,2,19970801,0339, 21.5108, -52.3412, 4907, 3134.3,    297.7,  17.6637,  36.4995,2,  36.5004,2,    184.8,2, 17.6126,    183.7,2,     1.61,2,     6.28,2,     0.01,2,     0.34,2,    2.184,2,    1.203,2, -999.000,5,    1.247,2,   1.7479,2,     2.35,2,     80.0,2,     0.98,2,   7.039,2,   2116.6,2,    424.2,2,  20,   2385.5,2,   7.9560,2,   25,     3.4,    0.15,  0.0087,   0.035,   0.014
     316N151_3,   A20,    51,  1,     26,     26,2,19970801,0339, 21.5108, -52.3412, 4907, 3651.7,    349.5,  16.6354,  36.3168,2,  36.3233,2,    182.8,2, 16.5778,    181.4,2,     2.21,2,     8.06,2,     0.00,2,     0.46,2,    2.132,2,    1.133,2, -999.000,5, -999.000,5,-999.0000,5,  -999.00,9,   -999.0,9,  -999.00,9,-999.000,9,   2122.3,2,   -999.0,9,-999,   2373.2,2,   7.9330,2,   25,  -999.0, -999.00,-999.0000,-999.000,-999.000
     316N151_3,   A20,    51,  1,     25,     25,2,19970801,0339, 21.5108, -52.3412, 4907, 4140.2,    398.4,  16.0397,  36.2228,2,  36.2238,2,    173.0,2, 15.9757,    173.6,2,     2.83,2,     9.79,2,     0.01,2,     0.56,2,    2.075,2,    1.078,2, -999.000,5,    1.299,2,   1.7408,2,     4.76,2,     78.2,2,     0.93,2,   7.048,2,   2131.7,2,    486.3,2,  20,   2371.2,2,   7.9060,2,   25,     3.4,    0.15,  0.0087,   0.035,   0.014
     316N151_3,   A20,    51,  1,     24,     24,2,19970801,0339, 21.5108, -52.3412, 4907, 5132.8,    498.0,  13.8646,  35.8614,2,  35.8615,2,    158.8,2, 13.7917,    163.4,2,     4.98,2,    14.28,2,     0.00,2,     0.85,2,    1.673,2,    0.866,2, -999.000,5, -999.000,5,-999.0000,5,  -999.00,9,     36.5,2,     0.85,2,-999.000,9,   2147.6,2,    575.3,2,  20,   2348.1,2,   7.8380,2,   25,     3.3, -999.00,-999.0000,-999.000,-999.000
     316N151_3,   A20,    51,  1,     23,     23,2,19970801,0339, 21.5108, -52.3412, 4907, 6149.6,    600.2,  12.0700,  35.6210,2,  35.6217,2,    146.0,2, 11.9896,    153.8,2,     7.42,2,    18.21,2,     0.00,2,     1.10,2,    1.097,2,    0.574,2, -999.000,5,    1.150,2,   1.7591,2,    11.69,2,     12.9,2,     0.81,2,   7.237,2,   2164.0,2,    667.0,2,  20,   2342.3,3,   7.7800,2,   25,     3.0,    0.15,  0.0088,   0.036,   0.013
     316N151_3,   A20,    51,  1,     22,     22,2,19970801,0339, 21.5108, -52.3412, 4907, 7394.6,    725.2,   9.6370,  35.2846,2,  35.2848,2,    136.3,2,  9.5521,    136.5,2,    13.42,2,    24.58,2,     0.00,2,     1.55,2, -999.000,9,    0.204,2, -999.000,5, -999.000,5,-999.0000,5,  -999.00,9,   -999.0,9,  -999.00,9,-999.000,9,   2189.1,2,    831.7,2,  20,   2323.5,2,   7.6950,2,   25,  -999.0, -999.00,-999.0000,-999.000,-999.000
     316N151_3,   A20,    51,  1,     21,     21,2,19970801,0339, 21.5108, -52.3412, 4907, 8644.6,    850.4,   7.1392,  34.9746,2,  34.9765,2,    138.2,2,  7.0549,    136.9,2,    19.81,2,    28.90,2,     0.00,2,     1.89,2,    0.096,2,    0.056,2, -999.000,5,    0.247,2,   1.8249,2,     2.49,2,    -78.9,2,     0.75,2,   7.784,2,   2204.8,2,    969.5,2,  20,   2317.9,2,   7.6370,2,   25,     3.1,    0.15,  0.0091,   0.039,   0.013
     316N151_3,   A20,    51,  1,     20,     20,2,19970801,0339, 21.5108, -52.3412, 4907, 9675.7,    953.5,   6.2249,  34.8957,2,  34.8951,2,    148.1,2,  6.1363,    147.2,2,    22.06,2,    29.21,2,     0.00,2,     1.94,2,    0.056,2,    0.035,2, -999.000,5, -999.000,5,-999.0000,5,  -999.00,9,    -93.8,2,     0.80,2,-999.000,9,   2207.0,2,   -999.0,9,-999,   2313.0,2,   7.6280,2,   25,     5.0, -999.00,-999.0000,-999.000,-999.000
     316N151_3,   A20,    51,  1,     19,     19,2,19970801,0339, 21.5108, -52.3412, 4907,11140.9,   1099.9,   5.6763,  34.9417,2,  34.9404,2,    174.1,2,  5.5776,    173.3,2,    20.74,2,    26.44,2,     0.00,2,     1.77,2,    0.090,2,    0.050,2, -999.000,5,    0.102,2,   1.8406,2,     1.67,2,    -95.2,2,     0.85,2,   7.882,2,   2197.9,2,    905.2,2,  20,   2317.8,2,   7.6590,2,   25,     4.0,    0.15,  0.0092,   0.039,   0.009
     316N151_3,   A20,    51,  1,     18,     18,2,19970801,0339, 21.5108, -52.3412, 4907,12687.4,   1254.5,   5.1994,  35.0078,2,  35.0096,2,    201.8,2,  5.0897,    206.6,2,    17.21,2,    22.54,2,     0.00,2,     1.51,2,    0.150,2,    0.085,2, -999.000,5, -999.000,5,-999.0000,5,  -999.00,9,    -92.6,2,     0.96,2,-999.000,9,   2182.3,2,    818.1,2,  20,   2316.7,2,   7.7040,2,   25,     2.6, -999.00,-999.0000,-999.000,-999.000
     316N151_3,   A20,    51,  1,     17,     17,2,19970801,0339, 21.5108, -52.3412, 4907,14201.2,   1405.9,   4.8643,  35.0291,2,  35.0276,2,    226.2,2,  4.7434,    227.9,2,    15.03,2,    20.46,2,     0.00,2,     1.37,2,    0.195,2,    0.112,2, -999.000,5,    0.268,2,   1.8172,2,     4.16,2,    -68.6,2,     0.96,2,   8.033,2,   2172.1,2,    771.0,2,  20,   2316.6,2,   7.7280,2,   25,     3.2,    0.15,  0.0091,   0.040,   0.010
     316N151_3,   A20,    51,  1,     16,     16,2,19970801,0339, 21.5108, -52.3412, 4907,15687.5,   1554.4,   4.5049,  35.0297,2,  35.0300,2,    240.8,2,  4.3738,    242.5,2,    14.28,2,    19.31,2,     0.00,2,     1.28,2,    0.180,2,    0.101,2, -999.000,5,    0.240,2,-999.0000,5,  -999.00,9,    -79.2,2,     1.02,2,-999.000,9,   2164.5,2,   -999.0,9,-999,   2315.2,2,   7.7420,2,   25,     2.7, -999.00,-999.0000,-999.000,   0.010
     316N151_3,   A20,    51,  1,     15,     15,2,19970801,0339, 21.5108, -52.3412, 4907,17185.5,   1704.1,   4.2323,  35.0268,2,  35.0264,2,    246.3,2,  4.0900,    248.1,2,    15.28,2,    19.08,2,     0.00,2,     1.27,2,    0.104,2,    0.067,2, -999.000,5, -999.000,5,-999.0000,5,  -999.00,9,    -76.3,2,     1.02,2,-999.000,9,   2164.7,2,    733.5,2,  20,   2318.5,2,   7.7490,2,   25,     2.9, -999.00,-999.0000,-999.000,-999.000
     316N151_3,   A20,    51,  1,     14,     14,2,19970801,0339, 21.5108, -52.3412, 4907,19150.1,   1900.5,   3.8914,  35.0165,2,  35.0167,2,    249.4,2,  3.7350,    249.6,2,    18.21,2,    19.21,2,     0.00,2,     1.29,2,    0.029,2,    0.019,2, -999.000,5,    0.035,2,   1.8290,2,     2.03,2,    -78.5,2,     1.06,2,   7.982,2,   2165.2,2,    729.9,2,  20,   2320.0,2,   7.7510,2,   25,     3.6,    0.15,  0.0091,   0.040,   0.009
     316N151_3,   A20,    51,  1,     13,     13,2,19970801,0339, 21.5108, -52.3412, 4907,22143.2,   2199.7,   3.4340,  34.9865,2,  34.9876,2,    251.3,2,  3.2557,    250.9,2,    23.05,2,    19.63,2,     0.00,2,     1.32,2,    0.009,2,    0.010,2, -999.000,5, -999.000,5,-999.0000,5,  -999.00,9,   -107.2,2,     1.03,2,-999.000,9,   2169.2,2,    733.2,2,  20,   2330.5,2,   7.7520,2,   25,     3.1, -999.00,-999.0000,-999.000,-999.000
     316N151_3,   A20,    51,  1,     12,     12,2,19970801,0339, 21.5108, -52.3412, 4907,25159.4,   2501.2,   3.0708,  34.9581,2,  34.9593,2,    251.5,2,  2.8693,    252.2,2,    27.04,2,    19.88,2,     0.00,2,     1.35,2,    0.005,2,    0.006,2, -999.000,5,    0.017,2,   1.8404,2,     2.49,2,   -114.8,2,     1.07,2,   8.151,2,   2173.0,2,   -999.0,9,-999,   2327.1,2,   7.7510,2,   25,     3.0,    0.15,  0.0092,   0.041,   0.009
     316N151_3,   A20,    51,  1,     11,     11,2,19970801,0339, 21.5108, -52.3412, 4907,27616.5,   2746.8,   2.8858,  34.9432,2,  34.9440,2,    253.5,2,  2.6635,    254.1,2,    29.00,2,    19.92,2,     0.00,2,     1.35,2,    0.015,2,    0.010,2, -999.000,5, -999.000,5,-999.0000,5,  -999.00,9,   -106.4,2,     0.99,2,-999.000,9,   2173.8,2,    736.2,2,  20,   2331.5,2,   7.7520,2,   25,     3.0, -999.00,-999.0000,-999.000,-999.000
     316N151_3,   A20,    51,  1,     10,     10,2,19970801,0339, 21.5108, -52.3412, 4907,30154.3,   3000.4,   2.7370,  34.9306,2,  34.9298,2,    252.4,2,  2.4920,    253.1,2,    32.59,2,    20.31,2,     0.00,2,     1.38,2,    0.006,2,    0.007,2, -999.000,5, -999.000,5,   1.8364,2,     2.72,2,   -112.2,2,     1.01,2,   8.030,2,   2178.0,2,    740.9,2,  20,   2331.7,2,   7.7490,2,   25,     3.8,    0.15,  0.0092,   0.040,-999.000
     316N151_3,   A20,    51,  1,      9,      9,2,19970801,0339, 21.5108, -52.3412, 4907,33117.3,   3296.6,   2.5919,  34.9173,2,  34.9166,2,    252.0,2,  2.3190,    252.6,2,    36.19,2,    20.65,2,     0.00,2,     1.41,2,    0.006,2,    0.007,2, -999.000,5, -999.000,5,-999.0000,5,  -999.00,9,   -100.0,2,     0.99,2,-999.000,9,   2181.8,2,    745.4,2,  20,   2336.1,2,   7.7420,2,   25,     3.7, -999.00,-999.0000,-999.000,-999.000
     316N151_3,   A20,    51,  1,      8,      8,2,19970801,0339, 21.5108, -52.3412, 4907,36153.7,   3600.0,   2.4056,  34.8997,2,  34.8988,2,    251.4,2,  2.1048,    252.6,2,    40.66,2,    21.11,2,     0.00,2,     1.44,2,    0.008,2,    0.006,2, -999.000,5,    0.009,2,   1.8492,2,     2.78,2,   -102.8,2,     0.95,2,   8.136,2,   2184.6,2,    756.5,2,  20,   2337.4,2,   7.7410,2,   25,     5.8,    0.15,  0.0092,   0.041,   0.009
     316N151_3,   A20,    51,  1,      7,      7,2,19970801,0339, 21.5108, -52.3412, 4907,38658.3,   3850.4,   2.2965,  34.8916,2,  34.8899,2,    253.2,2,  1.9709,    254.8,2,    41.26,2,    21.01,2,     0.00,2,     1.44,2,    0.011,2,    0.009,2, -999.000,5, -999.000,5,-999.0000,5,  -999.00,9,    -99.6,2,     0.98,2,-999.000,9,   2185.3,2,   -999.0,9,-999,   2340.5,2,   7.7420,2,   25,     3.0, -999.00,-999.0000,-999.000,-999.000
     316N151_3,   A20,    51,  1,      6,      6,2,19970801,0339, 21.5108, -52.3412, 4907,40181.0,   4002.7,   2.2609,  34.8901,2,  34.8881,2,    257.3,2,  1.9190,    258.2,2,    39.27,2,    20.49,2,     0.00,2,     1.41,2,    0.023,6,    0.017,6, -999.000,5,    0.040,2,   1.8589,2,     2.83,2,    -97.1,2,     0.98,2,   8.176,2,   2181.9,2,   -999.0,9,-999,   2333.5,3,   7.7410,2,   25,     3.4,    0.15,  0.0093,   0.041,   0.009
     316N151_3,   A20,    51,  1,      5,      5,2,19970801,0339, 21.5108, -52.3412, 4907,41650.6,   4149.6,   2.2059,  34.8820,2,  34.8808,2,    255.9,2,  1.8488,    256.8,2,    42.48,2,    20.98,2,     0.00,2,     1.44,2,    0.025,2,    0.017,2, -999.000,5,    0.043,2,   1.8505,2,     2.82,2,   -102.7,2,     0.96,2,   8.086,2,   2186.7,2,    760.4,2,  20,   2340.3,2,   7.7400,2,   25,     3.0,    0.15,  0.0093,   0.040,   0.009
     316N151_3,   A20,    51,  1,      4,      4,2,19970801,0339, 21.5108, -52.3412, 4907,43144.3,   4299.0,   2.1653,  34.8769,2,-999.0000,9,    254.5,2,  1.7921,   -999.0,9,  -999.00,9,  -999.00,9,  -999.00,9,  -999.00,9, -999.000,9, -999.000,9, -999.000,5, -999.000,5,-999.0000,5,  -999.00,9,   -999.0,9,  -999.00,9,-999.000,9,   -999.0,9,   -999.0,9,-999,   -999.0,9,-999.0000,9, -999,  -999.0, -999.00,-999.0000,-999.000,-999.000
     316N151_3,   A20,    51,  1,      3,      3,2,19970801,0339, 21.5108, -52.3412, 4907,45126.1,   4497.1,   2.0909,  34.8657,2,  34.8639,2,    252.4,2,  1.6968,    252.5,2,    49.75,2,    21.99,2,     0.00,2,     1.51,2,    0.016,2,    0.013,2, -999.000,5, -999.000,5,-999.0000,5,  -999.00,9,   -113.4,2,     0.88,2,-999.000,9,   2194.2,2,    775.4,2,  20,   2346.1,2,   7.7270,2,   25,     3.7, -999.00,-999.0000,-999.000,-999.000
     316N151_3,   A20,    51,  1,      2,      2,2,19970801,0339, 21.5108, -52.3412, 4907,47660.4,   4750.5,   2.0334,  34.8571,2,  34.8545,2,    251.4,2,  1.6107,    251.6,2,    52.77,2,    22.34,2,     0.00,2,     1.54,2,    0.026,2,    0.018,2, -999.000,5, -999.000,5,-999.0000,5,  -999.00,9,   -111.8,2,     0.88,2,-999.000,9,   2198.2,2,   -999.0,9,-999,   2343.4,6,   7.7230,2,   25,     3.2, -999.00,-999.0000,-999.000,-999.000
     316N151_3,   A20,    51,  1,      1,      1,2,19970801,0339, 21.5108, -52.3412, 4907,49902.1,   4974.3,   2.0312,  34.8541,2,  34.8528,2,    249.8,2,  1.5810,    253.6,3,    53.68,6,    22.48,6,     0.00,6,     1.55,6,    0.030,2,    0.026,2, -999.000,5, -999.000,5,-999.0000,5,  -999.00,9,   -112.9,2,     0.87,2,-999.000,9,   2198.3,2,   -999.0,9,-999,   2348.2,2,   7.7260,2,   25,     2.9, -999.00,-999.0000,-999.000,-999.000