BOTTLE,20220812CCHSIOAMB
EXPOCODE,SECT_ID,STNNBR,CASTNO,SAMPNO,BTLNBR,BTLNBR_FLAG_W,DATE,TIME,LATITUDE,LONGITUDE,DEPTH,CTDRAW,CTDPRS,CTDTMP,CTDSAL,CTDSAL_FLAG_W,SALNTY,SALNTY_FLAG_W,CTDOXY,CTDOXY_FLAG_W,THETA,OXYGEN,OXYGEN_FLAG_W,SILCAT,SILCAT_FLAG_W,NITRAT,NITRAT_FLAG_W,NITRIT,NITRIT_FLAG_W,PHSPHT,PHSPHT_FLAG_W,CFC-11,CFC-11_FLAG_W,CFC-12,CFC-12_FLAG_W,CFC113,CFC113_FLAG_W,TRITUM,TRITUM_FLAG_W,HELIUM,HELIUM_FLAG_W,DELHE3,DELHE3_FLAG_W,DELC14,DELC14_FLAG_W,DELC13,DELC13_FLAG_W,NEON,NEON_FLAG_W,TCARBN,TCARBN_FLAG_W,PCO2,PCO2_FLAG_W,PCO2_TMP,ALKALI,ALKALI_FLAG_W,PH,PH_FLAG_W,PH_TMP,C14ERR,DELHER,HELIER,NEONER,TRITER
,,,,,,,,,,,,,DBAR,ITS-90,PSS-78,,PSS-78,,UMOL/KG,,ITS-90,UMOL/KG,,UMOL/KG,,UMOL/KG,,UMOL/KG,,UMOL/KG,,PMOL/KG,,PMOL/KG,,PMOL/KG,,TU,,NMOL/KG,,PERCNT,,/MILLE,,/MILLE,,NMOL/KG,,UMOL/KG,,UATM,,DEG C,UMOL/KG,,,,DEG C,/MILLE,PERCNT,NMOL/KG,NMOL/KG,TU
     316N151_3,   A20,    48,  1,     33,     33,2,19970731,0655, 23.5187, -52.3438, 5028,  236.1,      8.9,  27.6059,  37.1224,2,  37.1223,2,    214.6,2, 27.6038,    210.3,2,     0.71,2,     0.00,2,     0.00,2,     0.01,2,    1.735,2,    1.006,2, -999.000,5, -999.000,5,-999.0000,5,  -999.00,9,   -999.0,9,  -999.00,9,-999.000,9,   2047.9,2,   -999.0,9,-999,   2425.7,2,   8.1170,2,   25,  -999.0, -999.00,-999.0000,-999.000,-999.000
     316N151_3,   A20,    48,  1,     32,     32,2,19970731,0655, 23.5187, -52.3438, 5028,  396.1,     24.9,  27.6103,  37.1227,2,  37.1231,2,    208.6,2, 27.6045,    209.2,2,     0.72,2,     0.00,2,     0.00,2,     0.01,2,    1.732,2,    1.004,2, -999.000,5, -999.000,5,-999.0000,5,  -999.00,9,   -999.0,9,  -999.00,9,-999.000,9,   2047.1,2,   -999.0,9,-999,   2428.0,6,   8.1250,6,   25,  -999.0, -999.00,-999.0000,-999.000,-999.000
     316N151_3,   A20,    48,  1,     31,     31,2,19970731,0655, 23.5187, -52.3438, 5028,  644.2,     49.6,  24.3600,  37.3495,2,  37.3513,2,    240.2,2, 24.3494,    229.1,2,     0.34,2,     0.00,2,     0.00,2,     0.02,2,    2.032,6,    1.166,6, -999.000,5, -999.000,5,-999.0000,5,  -999.00,9,   -999.0,9,  -999.00,9,-999.000,9,   2069.9,2,   -999.0,9,-999,   2437.2,2,   8.0950,2,   25,  -999.0, -999.00,-999.0000,-999.000,-999.000
     316N151_3,   A20,    48,  1,     30,     30,2,19970731,0655, 23.5187, -52.3438, 5028,  901.6,     75.3,  22.9873,  37.3003,2,  37.2988,2,    237.9,2, 22.9717,    226.0,2,     0.24,2,     0.04,2,     0.00,2,     0.01,2, -999.000,9, -999.000,9, -999.000,5, -999.000,5,-999.0000,5,  -999.00,9,   -999.0,9,  -999.00,9,-999.000,9,   2074.1,2,   -999.0,9,-999,   2435.1,2,   8.0940,2,   25,  -999.0, -999.00,-999.0000,-999.000,-999.000
     316N151_3,   A20,    48,  1,     29,     29,2,19970731,0655, 23.5187, -52.3438, 5028, 1149.2,     99.9,  22.3369,  37.2429,2,  37.2444,2,    229.9,2, 22.3167,    220.5,2,     0.24,2,     0.01,2,     0.00,2,     0.01,2,    2.127,2,    1.204,2, -999.000,5, -999.000,5,-999.0000,5,  -999.00,9,   -999.0,9,  -999.00,9,-999.000,9,   2077.0,2,   -999.0,9,-999,   2430.3,2,   8.0810,2,   25,  -999.0, -999.00,-999.0000,-999.000,-999.000
     316N151_3,   A20,    48,  1,     28,     28,2,19970731,0655, 23.5187, -52.3438, 5028, 1376.3,    122.5,  21.5237,  37.1129,2,  37.1039,2,    219.1,2, 21.4996,    213.3,2,     0.25,2,     0.00,2,     0.00,2,     0.02,2, -999.000,9, -999.000,9, -999.000,5, -999.000,5,-999.0000,5,  -999.00,9,   -999.0,9,  -999.00,9,-999.000,9,   2084.3,2,   -999.0,9,-999,   2422.1,2,   8.0590,2,   25,  -999.0, -999.00,-999.0000,-999.000,-999.000
     316N151_3,   A20,    48,  1,     27,     27,2,19970731,0655, 23.5187, -52.3438, 5028, 1661.0,    150.7,  20.3601,  36.9020,2,  36.9053,2,    217.6,2, 20.3316,    206.4,2,     0.35,2,     0.23,2,     0.08,2,     0.02,2,    2.251,2,    1.270,2, -999.000,5, -999.000,5,-999.0000,5,  -999.00,9,   -999.0,9,  -999.00,9,-999.000,9,   2089.8,2,   -999.0,9,-999,   2408.9,2,   8.0340,2,   25,  -999.0, -999.00,-999.0000,-999.000,-999.000
     316N151_3,   A20,    48,  1,     26,     26,2,19970731,0655, 23.5187, -52.3438, 5028, 1886.9,    173.1,  19.7677,  36.8565,2,  36.8528,2,    199.6,2, 19.7356,    188.6,2,     0.64,2,     2.42,2,     0.02,2,     0.11,2, -999.000,9, -999.000,9, -999.000,5, -999.000,5,-999.0000,5,  -999.00,9,   -999.0,9,  -999.00,9,-999.000,9,   2110.4,2,   -999.0,9,-999,   2407.1,2,   7.9940,2,   25,  -999.0, -999.00,-999.0000,-999.000,-999.000
     316N151_3,   A20,    48,  1,     25,     25,2,19970731,0655, 23.5187, -52.3438, 5028, 2130.0,    197.1,  19.0481,  36.7302,2,  36.7255,2,    193.0,2, 19.0125,    189.6,2,     0.74,2,     3.28,2,     0.01,2,     0.15,2,    2.288,2,    1.265,2, -999.000,5, -999.000,5,-999.0000,5,  -999.00,9,   -999.0,9,  -999.00,9,-999.000,9,   2108.3,2,   -999.0,9,-999,   2397.0,2,   7.9890,2,   25,  -999.0, -999.00,-999.0000,-999.000,-999.000
     316N151_3,   A20,    48,  1,     24,     24,3,19970731,0655, 23.5187, -52.3438, 5028, 2623.2,    246.3,  18.2756,  36.5615,2,  36.5622,2,    201.6,2, 18.2323,    199.1,2,     0.94,2,     3.82,2,     0.01,2,     0.18,2, -999.000,9, -999.000,9, -999.000,5, -999.000,5,-999.0000,5,  -999.00,9,   -999.0,9,  -999.00,9,-999.000,9,   2097.0,2,   -999.0,9,-999,   2386.9,2,   7.9980,2,   25,  -999.0, -999.00,-999.0000,-999.000,-999.000
     316N151_3,   A20,    48,  1,     23,     23,2,19970731,0655, 23.5187, -52.3438, 5028, 3131.7,    297.3,  17.7800,  36.4873,2,  36.4910,2,    197.6,2, 17.7288,    195.4,2,     1.33,2,     5.09,2,     0.00,2,     0.26,2,    2.283,2,    1.241,2, -999.000,5, -999.000,5,-999.0000,5,  -999.00,9,   -999.0,9,  -999.00,9,-999.000,9,   2103.8,2,   -999.0,9,-999,   2383.4,2,   7.9760,2,   25,  -999.0, -999.00,-999.0000,-999.000,-999.000
     316N151_3,   A20,    48,  1,     22,     22,2,19970731,0655, 23.5187, -52.3438, 5028, 4141.7,    398.6,  16.3630,  36.2573,2,  36.2596,2,    185.1,2, 16.2980,    183.4,2,     2.39,2,     8.52,2,     0.00,2,     0.48,2,    2.121,2,    1.131,2, -999.000,5, -999.000,5,-999.0000,5,  -999.00,9,   -999.0,9,  -999.00,9,-999.000,9,   2121.9,2,   -999.0,9,-999,   2371.2,2,   7.9300,2,   25,  -999.0, -999.00,-999.0000,-999.000,-999.000
     316N151_3,   A20,    48,  1,     21,     21,2,19970731,0655, 23.5187, -52.3438, 5028, 5150.2,    499.8,  14.0447,  35.8868,2,  35.8833,2,    167.5,2, 13.9710,    169.7,2,     4.61,2,    13.58,2,     0.00,2,     0.80,2,    1.692,6,    0.891,6, -999.000,5, -999.000,5,-999.0000,5,  -999.00,9,   -999.0,9,  -999.00,9,-999.000,9,   2141.1,2,   -999.0,9,-999,   2349.7,2,   7.8520,2,   25,  -999.0, -999.00,-999.0000,-999.000,-999.000
     316N151_3,   A20,    48,  1,     20,     20,2,19970731,0655, 23.5187, -52.3438, 5028, 6350.3,    620.2,  11.8479,  35.5946,2,  35.5927,2,    160.2,2, 11.7657,    161.4,2,     7.50,2,    18.01,2,     0.00,2,     1.09,2,    1.069,2,    0.552,2, -999.000,5, -999.000,5,-999.0000,5,  -999.00,9,   -999.0,9,  -999.00,9,-999.000,9,   2161.0,2,   -999.0,9,-999,   2337.6,2,   7.7860,2,   25,  -999.0, -999.00,-999.0000,-999.000,-999.000
     316N151_3,   A20,    48,  1,     19,     19,2,19970731,0655, 23.5187, -52.3438, 5028, 7627.2,    748.3,   9.7012,  35.3251,2,  35.3247,2,    146.8,2,  9.6132,    148.7,2,    12.41,2,    23.10,2,     0.00,2,     1.45,2,    0.453,2,    0.240,2, -999.000,5, -999.000,5,-999.0000,5,  -999.00,9,   -999.0,9,  -999.00,9,-999.000,9,   2182.7,2,   -999.0,9,-999,   2325.6,2,   7.7190,2,   25,  -999.0, -999.00,-999.0000,-999.000,-999.000
     316N151_3,   A20,    48,  1,     18,     18,2,19970731,0655, 23.5187, -52.3438, 5028, 9143.8,    900.2,   7.6308,  35.0950,2,  35.0923,2,    147.6,2,  7.5378,    146.8,2,    17.70,2,    26.71,2,     0.00,2,     1.72,2,    0.116,2,    0.069,2, -999.000,5, -999.000,5,-999.0000,5,  -999.00,9,   -999.0,9,  -999.00,9,-999.000,9,   2197.2,2,   -999.0,9,-999,   2315.7,2,   7.6630,2,   25,  -999.0, -999.00,-999.0000,-999.000,-999.000
     316N151_3,   A20,    48,  1,     17,     17,2,19970731,0655, 23.5187, -52.3438, 5028,10606.2,   1046.4,   6.1979,  34.9950,2,  34.9973,2,    167.5,2,  6.1002,    167.6,2,    19.62,2,    26.37,2,     0.00,2,     1.74,2,    0.070,2,    0.042,2, -999.000,5, -999.000,5,-999.0000,5,  -999.00,9,   -999.0,9,  -999.00,9,-999.000,9,   2196.3,2,   -999.0,9,-999,   2317.5,2,   7.6680,2,   25,  -999.0, -999.00,-999.0000,-999.000,-999.000
     316N151_3,   A20,    48,  1,     16,     16,2,19970731,0655, 23.5187, -52.3438, 5028,12615.2,   1247.3,   5.4301,  35.0408,2,  35.0404,2,    205.0,2,  5.3189,    207.8,2,    16.26,2,    22.16,2,     0.00,2,     1.46,2,    0.163,2,    0.089,2, -999.000,5, -999.000,5,-999.0000,5,  -999.00,9,   -999.0,9,  -999.00,9,-999.000,9,   2178.9,2,   -999.0,9,-999,   2317.3,2,   7.7110,2,   25,  -999.0, -999.00,-999.0000,-999.000,-999.000
     316N151_3,   A20,    48,  1,     15,     15,2,19970731,0655, 23.5187, -52.3438, 5028,14642.5,   1449.9,   4.8219,  35.0523,2,  35.0532,2,    232.8,2,  4.6972,    232.8,2,    14.92,2,    20.04,2,     0.00,2,     1.32,2,    0.153,2,    0.088,2, -999.000,5, -999.000,5,-999.0000,5,  -999.00,9,   -999.0,9,  -999.00,9,-999.000,9,   2168.4,2,   -999.0,9,-999,   2317.7,2,   7.7350,2,   25,  -999.0, -999.00,-999.0000,-999.000,-999.000
     316N151_3,   A20,    48,  1,     14,     14,2,19970731,0655, 23.5187, -52.3438, 5028,16653.3,   1650.9,   4.4288,  35.0561,2,  35.0563,2,    243.3,2,  4.2892,    243.5,2,    15.78,2,    19.33,2,     0.00,2,     1.28,2, -999.000,9, -999.000,9, -999.000,5, -999.000,5,-999.0000,5,  -999.00,9,   -999.0,9,  -999.00,9,-999.000,9,   2166.0,2,   -999.0,9,-999,   2318.3,2,   7.7470,2,   25,  -999.0, -999.00,-999.0000,-999.000,-999.000
     316N151_3,   A20,    48,  1,     13,     13,2,19970731,0655, 23.5187, -52.3438, 5028,18658.7,   1851.4,   3.9719,  35.0295,2,  35.0305,2,    249.1,2,  3.8191,    247.2,2,    18.77,2,    19.44,2,     0.00,2,     1.29,2,    0.033,2,    0.020,2, -999.000,5, -999.000,5,-999.0000,5,  -999.00,9,   -999.0,9,  -999.00,9,-999.000,9,   2165.9,2,   -999.0,9,-999,   2321.1,2,   7.7500,2,   25,  -999.0, -999.00,-999.0000,-999.000,-999.000
     316N151_3,   A20,    48,  1,     12,     12,2,19970731,0655, 23.5187, -52.3438, 5028,20641.4,   2049.6,   3.6640,  35.0093,2,  35.0113,2,    248.8,2,  3.4966,    248.3,2,    21.55,2,    19.64,2,     0.00,2,     1.31,2,    0.020,6,    0.016,6, -999.000,5, -999.000,5,-999.0000,5,  -999.00,9,   -999.0,9,  -999.00,9,-999.000,9,   2170.5,2,   -999.0,9,-999,   2323.4,2,   7.7470,2,   25,  -999.0, -999.00,-999.0000,-999.000,-999.000
     316N151_3,   A20,    48,  1,     11,     11,2,19970731,0655, 23.5187, -52.3438, 5028,22611.6,   2246.6,   3.3613,  34.9838,2,  34.9862,2,    249.1,2,  3.1797,    250.2,2,    24.54,2,    19.85,2,     0.00,2,     1.32,2,    0.012,2,    0.009,2, -999.000,5, -999.000,5,-999.0000,5,  -999.00,9,   -999.0,9,  -999.00,9,-999.000,9,   2171.9,2,   -999.0,9,-999,   2326.1,2,   7.7500,2,   25,  -999.0, -999.00,-999.0000,-999.000,-999.000
     316N151_3,   A20,    48,  1,     10,     10,2,19970731,0655, 23.5187, -52.3438, 5028,24649.4,   2450.1,   3.1479,  34.9674,2,  34.9681,2,    251.4,2,  2.9502,    250.8,2,    27.32,2,    20.03,2,     0.00,2,     1.34,2,    0.009,2,    0.004,2, -999.000,5, -999.000,5,-999.0000,5,  -999.00,9,   -999.0,9,  -999.00,9,-999.000,9,   2173.9,2,   -999.0,9,-999,   2328.4,2,   7.7460,2,   25,  -999.0, -999.00,-999.0000,-999.000,-999.000
     316N151_3,   A20,    48,  1,      9,      9,2,19970731,0655, 23.5187, -52.3438, 5028,27141.8,   2699.3,   2.9436,  34.9499,2,  34.9523,2,    252.7,2,  2.7249,    251.7,2,    30.01,2,    20.27,2,     0.00,2,     1.36,2,    0.006,2,    0.006,2, -999.000,5, -999.000,5,-999.0000,5,  -999.00,9,   -999.0,9,  -999.00,9,-999.000,9,   2177.5,2,   -999.0,9,-999,   2331.0,2,   7.7470,2,   25,  -999.0, -999.00,-999.0000,-999.000,-999.000
     316N151_3,   A20,    48,  1,      8,      8,2,19970731,0655, 23.5187, -52.3438, 5028,29659.5,   2951.0,   2.7899,  34.9360,2,  34.9378,2,    253.9,2,  2.5488,    252.6,2,    32.12,2,    20.38,2,     0.00,2,     1.37,2,    0.006,2,    0.006,2, -999.000,5, -999.000,5,-999.0000,5,  -999.00,9,   -999.0,9,  -999.00,9,-999.000,9,   2178.6,2,   -999.0,9,-999,   2334.1,2,   7.7480,2,   25,  -999.0, -999.00,-999.0000,-999.000,-999.000
     316N151_3,   A20,    48,  1,      7,      7,2,19970731,0655, 23.5187, -52.3438, 5028,32160.4,   3201.0,   2.6287,  34.9226,2,  34.9236,2,    254.2,2,  2.3651,    253.6,2,    34.44,2,    20.51,2,     0.00,2,     1.38,2,    0.007,2,    0.005,2, -999.000,5, -999.000,5,-999.0000,5,  -999.00,9,   -999.0,9,  -999.00,9,-999.000,9,   2180.1,2,   -999.0,9,-999,   2333.4,2,   7.7480,2,   25,  -999.0, -999.00,-999.0000,-999.000,-999.000
     316N151_3,   A20,    48,  1,      6,      6,2,19970731,0655, 23.5187, -52.3438, 5028,34640.2,   3448.8,   2.4869,  34.9101,2,  34.9107,2,    254.6,2,  2.2004,    254.4,2,    37.12,2,    20.76,2,     0.00,2,     1.40,2,    0.011,2,    0.004,2, -999.000,5, -999.000,5,-999.0000,5,  -999.00,9,   -999.0,9,  -999.00,9,-999.000,9,   2182.3,2,   -999.0,9,-999,   2332.2,2,   7.7430,2,   25,  -999.0, -999.00,-999.0000,-999.000,-999.000
     316N151_3,   A20,    48,  1,      5,      5,2,19970731,0655, 23.5187, -52.3438, 5028,37147.9,   3699.5,   2.3439,  34.8969,2,  34.8972,2,    253.3,2,  2.0338,    254.6,2,    40.48,2,    21.04,2,     0.00,2,     1.43,2,    0.012,2,    0.005,2, -999.000,5, -999.000,5,-999.0000,5,  -999.00,9,   -999.0,9,  -999.00,9,-999.000,9,   2184.7,2,   -999.0,9,-999,   2336.9,2,   7.7430,2,   25,  -999.0, -999.00,-999.0000,-999.000,-999.000
     316N151_3,   A20,    48,  1,      4,      4,2,19970731,0655, 23.5187, -52.3438, 5028,40191.2,   4003.7,   2.2147,  34.8825,2,  34.8834,2,    254.0,2,  1.8741,    254.0,2,    44.23,2,    21.45,2,     0.00,2,     1.46,2,    0.007,6,    0.009,6, -999.000,5, -999.000,5,-999.0000,5,  -999.00,9,   -999.0,9,  -999.00,9,-999.000,9,   2188.8,2,   -999.0,9,-999,   2338.9,2,   7.7400,2,   25,  -999.0, -999.00,-999.0000,-999.000,-999.000
     316N151_3,   A20,    48,  1,      3,      3,2,19970731,0655, 23.5187, -52.3438, 5028,43131.9,   4297.8,   2.1443,  34.8731,2,  34.8733,2,    253.5,2,  1.7719,    253.6,2,    46.92,2,    21.74,2,     0.00,2,     1.48,2,    0.007,2,    0.009,2, -999.000,5, -999.000,5,-999.0000,5,  -999.00,9,   -999.0,9,  -999.00,9,-999.000,9,   2191.4,2,   -999.0,9,-999,   2340.4,2,   7.7350,2,   25,  -999.0, -999.00,-999.0000,-999.000,-999.000
     316N151_3,   A20,    48,  1,      2,      2,2,19970731,0655, 23.5187, -52.3438, 5028,46183.7,   4602.8,   2.1202,  34.8671,2,  34.8681,2,    252.3,2,  1.7124,    252.4,2,    48.94,2,    22.01,2,     0.00,2,     1.50,2,    0.008,2,    0.009,2, -999.000,5, -999.000,5,-999.0000,5,  -999.00,9,   -999.0,9,  -999.00,9,-999.000,9,   2193.7,2,   -999.0,9,-999,   2342.8,2,   7.7350,6,   25,  -999.0, -999.00,-999.0000,-999.000,-999.000
     316N151_3,   A20,    48,  1,      1,      1,2,19970731,0655, 23.5187, -52.3438, 5028,49941.1,   4979.0,   2.0904,  34.8596,2,  34.8606,2,    250.2,2,  1.6376,    251.4,2,    51.87,6,    22.37,6,     0.00,6,     1.53,6,    0.016,2,    0.010,2, -999.000,5, -999.000,5,-999.0000,5,  -999.00,9,   -999.0,9,  -999.00,9,-999.000,9,   2195.7,2,   -999.0,9,-999,   2345.8,2,   7.7310,2,   25,  -999.0, -999.00,-999.0000,-999.000,-999.000