BOTTLE,20220812CCHSIOAMB
EXPOCODE,SECT_ID,STNNBR,CASTNO,SAMPNO,BTLNBR,BTLNBR_FLAG_W,DATE,TIME,LATITUDE,LONGITUDE,DEPTH,CTDRAW,CTDPRS,CTDTMP,CTDSAL,CTDSAL_FLAG_W,SALNTY,SALNTY_FLAG_W,CTDOXY,CTDOXY_FLAG_W,THETA,OXYGEN,OXYGEN_FLAG_W,SILCAT,SILCAT_FLAG_W,NITRAT,NITRAT_FLAG_W,NITRIT,NITRIT_FLAG_W,PHSPHT,PHSPHT_FLAG_W,CFC-11,CFC-11_FLAG_W,CFC-12,CFC-12_FLAG_W,CFC113,CFC113_FLAG_W,TRITUM,TRITUM_FLAG_W,HELIUM,HELIUM_FLAG_W,DELHE3,DELHE3_FLAG_W,DELC14,DELC14_FLAG_W,DELC13,DELC13_FLAG_W,NEON,NEON_FLAG_W,TCARBN,TCARBN_FLAG_W,PCO2,PCO2_FLAG_W,PCO2_TMP,ALKALI,ALKALI_FLAG_W,PH,PH_FLAG_W,PH_TMP,C14ERR,DELHER,HELIER,NEONER,TRITER
,,,,,,,,,,,,,DBAR,ITS-90,PSS-78,,PSS-78,,UMOL/KG,,ITS-90,UMOL/KG,,UMOL/KG,,UMOL/KG,,UMOL/KG,,UMOL/KG,,PMOL/KG,,PMOL/KG,,PMOL/KG,,TU,,NMOL/KG,,PERCNT,,/MILLE,,/MILLE,,NMOL/KG,,UMOL/KG,,UATM,,DEG C,UMOL/KG,,,,DEG C,/MILLE,PERCNT,NMOL/KG,NMOL/KG,TU
     316N151_3,   A20,    88,  1,     15,     15,2,19970808,2000,  7.2843, -53.3998,  282,  488.3,      2.3,  28.4912,  31.8155,3,-999.0000,9,     77.8,3, 28.4906,   -999.0,9,  -999.00,9,  -999.00,9,  -999.00,9,  -999.00,9,    1.745,2,    1.156,2, -999.000,5, -999.000,5,-999.0000,5,  -999.00,9,   -999.0,9,  -999.00,9,-999.000,9,   1772.5,2,   -999.0,9,-999,   -999.0,9,-999.0000,9, -999,  -999.0, -999.00,-999.0000,-999.000,-999.000
     316N151_3,   A20,    88,  1,     14,     14,2,19970808,2000,  7.2843, -53.3998,  282,  488.9,      2.3,  28.4894,  31.8159,3,  31.8224,2,     78.8,3, 28.4888,    224.6,2,     8.29,2,     0.01,2,     0.00,2,     0.03,2, -999.000,9, -999.000,9, -999.000,5, -999.000,5,-999.0000,5,  -999.00,9,   -999.0,9,  -999.00,9,-999.000,9,   -999.0,9,   -999.0,9,-999,   2122.4,2,   8.2000,2,   25,  -999.0, -999.00,-999.0000,-999.000,-999.000
     316N151_3,   A20,    88,  1,     13,     13,2,19970808,2000,  7.2843, -53.3998,  282,  521.5,      5.9,  28.4377,  31.8294,3,-999.0000,9,     81.9,3, 28.4363,   -999.0,9,  -999.00,9,  -999.00,9,  -999.00,9,  -999.00,9, -999.000,9, -999.000,9, -999.000,5, -999.000,5,-999.0000,5,  -999.00,9,   -999.0,9,  -999.00,9,-999.000,9,   -999.0,9,   -999.0,9,-999,   -999.0,9,-999.0000,9, -999,  -999.0, -999.00,-999.0000,-999.000,-999.000
     316N151_3,   A20,    88,  1,     12,     12,2,19970808,2000,  7.2843, -53.3998,  282,  567.7,     10.9,  28.4309,  34.5600,3,  33.5986,2,     79.1,3, 28.4283,    203.9,2,     6.85,2,     0.03,2,     0.01,2,     0.09,2, -999.000,9, -999.000,9, -999.000,5, -999.000,5,-999.0000,5,  -999.00,9,   -999.0,9,  -999.00,9,-999.000,9,   -999.0,9,   -999.0,9,-999,   -999.0,9,-999.0000,9, -999,  -999.0, -999.00,-999.0000,-999.000,-999.000
     316N151_3,   A20,    88,  1,     11,     11,2,19970808,2000,  7.2843, -53.3998,  282,  567.3,     10.9,  28.4332,  34.5529,3,-999.0000,9,     80.1,3, 28.4306,   -999.0,9,  -999.00,9,  -999.00,9,  -999.00,9,  -999.00,9,    1.711,2,    1.012,2, -999.000,5, -999.000,5,-999.0000,5,  -999.00,9,   -999.0,9,  -999.00,9,-999.000,9,   -999.0,9,   -999.0,9,-999,   -999.0,9,-999.0000,9, -999,  -999.0, -999.00,-999.0000,-999.000,-999.000
     316N151_3,   A20,    88,  1,      9,      9,2,19970808,2000,  7.2843, -53.3998,  282,  937.4,     50.6,  25.6259,  36.1346,3,-999.0000,9,     74.4,3, 25.6147,   -999.0,9,  -999.00,9,  -999.00,9,  -999.00,9,  -999.00,9,    1.675,2,    0.991,2, -999.000,5, -999.000,5,-999.0000,5,  -999.00,9,   -999.0,9,  -999.00,9,-999.000,9,   -999.0,9,   -999.0,9,-999,   -999.0,9,-999.0000,9, -999,  -999.0, -999.00,-999.0000,-999.000,-999.000
     316N151_3,   A20,    88,  1,     10,     10,2,19970808,2000,  7.2843, -53.3998,  282,  938.2,     50.7,  25.6305,  36.1338,3,  36.1399,2,     74.3,3, 25.6192,    132.7,3,     8.14,2,     3.96,2,     0.28,2,     0.44,2, -999.000,9, -999.000,9, -999.000,5, -999.000,5,-999.0000,5,  -999.00,9,   -999.0,9,  -999.00,9,-999.000,9,   -999.0,9,   -999.0,9,-999,   -999.0,9,-999.0000,9, -999,  -999.0, -999.00,-999.0000,-999.000,-999.000
     316N151_3,   A20,    88,  1,      8,      8,2,19970808,2000,  7.2843, -53.3998,  282, 1424.1,    102.7,  17.6597,  31.8153,2,  36.1396,2,     67.2,4, 17.6421,    138.1,2,     5.06,2,    13.42,2,     0.02,2,     0.86,2, -999.000,9, -999.000,9, -999.000,5, -999.000,5,-999.0000,5,  -999.00,9,   -999.0,9,  -999.00,9,-999.000,9,   -999.0,9,   -999.0,9,-999,   -999.0,9,-999.0000,9, -999,  -999.0, -999.00,-999.0000,-999.000,-999.000
     316N151_3,   A20,    88,  1,      7,      7,2,19970808,2000,  7.2843, -53.3998,  282, 1424.4,    102.7,  17.6645,  31.8292,2,-999.0000,9,     65.4,4, 17.6470,   -999.0,9,  -999.00,9,  -999.00,9,  -999.00,9,  -999.00,9,    1.771,6,    0.973,6, -999.000,5, -999.000,5,-999.0000,5,  -999.00,9,   -999.0,9,  -999.00,9,-999.000,9,   -999.0,9,   -999.0,9,-999,   -999.0,9,-999.0000,9, -999,  -999.0, -999.00,-999.0000,-999.000,-999.000
     316N151_3,   A20,    88,  1,      5,      5,2,19970808,2000,  7.2843, -53.3998,  282, 1897.6,    153.1,  13.2435,  36.1343,2,-999.0000,9,     66.0,4, 13.2221,   -999.0,9,  -999.00,9,  -999.00,9,  -999.00,9,  -999.00,9,    1.587,6,    0.849,6, -999.000,5, -999.000,5,-999.0000,5,  -999.00,9,   -999.0,9,  -999.00,9,-999.000,9,   -999.0,9,   -999.0,9,-999,   -999.0,9,-999.0000,9, -999,  -999.0, -999.00,-999.0000,-999.000,-999.000
     316N151_3,   A20,    88,  1,      6,      6,2,19970808,2000,  7.2843, -53.3998,  282, 1898.6,    153.3,  13.2489,  34.5527,2,  35.4083,2,     65.1,4, 13.2275,    142.6,2,     8.10,2,    18.42,2,     0.01,2,     1.25,2, -999.000,9, -999.000,9, -999.000,5, -999.000,5,-999.0000,5,  -999.00,9,   -999.0,9,  -999.00,9,-999.000,9,   -999.0,9,   -999.0,9,-999,   -999.0,9,-999.0000,9, -999,  -999.0, -999.00,-999.0000,-999.000,-999.000
     316N151_3,   A20,    88,  1,      3,      3,2,19970808,2000,  7.2843, -53.3998,  282, 2372.7,    203.7,  11.0112,  35.3996,2,-999.0000,9,     82.2,4, 10.9861,   -999.0,9,  -999.00,9,  -999.00,9,  -999.00,9,  -999.00,9,    1.356,6,    0.716,6, -999.000,5, -999.000,5,-999.0000,5,  -999.00,9,   -999.0,9,  -999.00,9,-999.000,9,   -999.0,9,   -999.0,9,-999,   -999.0,9,-999.0000,9, -999,  -999.0, -999.00,-999.0000,-999.000,-999.000
     316N151_3,   A20,    88,  1,      4,      4,2,19970808,2000,  7.2843, -53.3998,  282, 2374.4,    203.9,  11.0069,  36.1305,2,  35.0442,2,     69.5,4, 10.9817,    143.0,2,    10.56,2,    22.23,2,     0.01,2,     1.51,2, -999.000,9, -999.000,9, -999.000,5, -999.000,5,-999.0000,5,  -999.00,9,   -999.0,9,  -999.00,9,-999.000,9,   -999.0,9,   -999.0,9,-999,   -999.0,9,-999.0000,9, -999,  -999.0, -999.00,-999.0000,-999.000,-999.000
     316N151_3,   A20,    88,  1,      2,      2,2,19970808,2000,  7.2843, -53.3998,  282, 2952.6,    265.5,  11.0393,  35.0398,2,  35.0474,2,     91.5,4, 11.0064,    140.0,2,    10.95,2,    22.86,2,     0.01,2,     1.54,2, -999.000,9, -999.000,9, -999.000,5, -999.000,5,-999.0000,5,  -999.00,9,   -999.0,9,  -999.00,9,-999.000,9,   -999.0,9,   -999.0,9,-999,   -999.0,9,-999.0000,9, -999,  -999.0, -999.00,-999.0000,-999.000,-999.000
     316N151_3,   A20,    88,  1,      1,      1,2,19970808,2000,  7.2843, -53.3998,  282, 2955.5,    265.8,  11.0565,  35.0854,2,-999.0000,9,   -999.0,9, 11.0236,   -999.0,9,  -999.00,9,  -999.00,9,  -999.00,9,  -999.00,9,    1.293,2,    0.677,2, -999.000,5, -999.000,5,-999.0000,5,  -999.00,9,   -999.0,9,  -999.00,9,-999.000,9,   -999.0,9,   -999.0,9,-999,   -999.0,9,-999.0000,9, -999,  -999.0, -999.00,-999.0000,-999.000,-999.000
     316N151_3,   A20,    89,  1,      8,      8,2,19970808,2102,  7.2387, -53.4225,  238,  492.2,      2.1,  28.4382,  32.0009,2,-999.0000,9,     70.9,4, 28.4377,   -999.0,9,  -999.00,9,  -999.00,9,  -999.00,9,  -999.00,9, -999.000,9, -999.000,9, -999.000,5, -999.000,5,-999.0000,5,  -999.00,9,   -999.0,9,  -999.00,9,-999.000,9,   1783.7,2,   -999.0,9,-999,   2132.2,2,   8.1840,2,   25,  -999.0, -999.00,-999.0000,-999.000,-999.000
     316N151_3,   A20,    89,  1,      7,      7,2,19970808,2102,  7.2387, -53.4225,  238,  496.9,      2.6,  28.4385,  32.0001,2,  32.0057,2,     70.4,4, 28.4379,    228.6,2,     8.04,2,     0.02,2,    -0.01,2,     0.04,2, -999.000,9, -999.000,9, -999.000,5, -999.000,5,-999.0000,5,  -999.00,9,   -999.0,9,  -999.00,9,-999.000,9,   -999.0,9,   -999.0,9,-999,   -999.0,9,-999.0000,9, -999,  -999.0, -999.00,-999.0000,-999.000,-999.000
     316N151_3,   A20,    89,  1,      6,      6,2,19970808,2102,  7.2387, -53.4225,  238,  578.1,     11.3,  28.4387,  34.3389,2,  32.6673,2,     65.8,4, 28.4360,    219.4,2,     8.07,2,     0.02,2,     0.00,2,     0.06,2, -999.000,9, -999.000,9, -999.000,5, -999.000,5,-999.0000,5,  -999.00,9,   -999.0,9,  -999.00,9,-999.000,9,   -999.0,9,   -999.0,9,-999,   -999.0,9,-999.0000,9, -999,  -999.0, -999.00,-999.0000,-999.000,-999.000
     316N151_3,   A20,    89,  1,      5,      5,2,19970808,2102,  7.2387, -53.4225,  238,  711.1,     25.5,  26.7534,  36.0220,2,  36.0596,2,     65.6,4, 26.7476,    178.9,2,     3.52,2,     0.81,2,     0.27,2,     0.22,2, -999.000,9, -999.000,9, -999.000,5, -999.000,5,-999.0000,5,  -999.00,9,   -999.0,9,  -999.00,9,-999.000,9,   -999.0,9,   -999.0,9,-999,   -999.0,9,-999.0000,9, -999,  -999.0, -999.00,-999.0000,-999.000,-999.000
     316N151_3,   A20,    89,  1,      4,      4,2,19970808,2102,  7.2387, -53.4225,  238, 1180.8,     75.9,  21.2356,  36.3417,2,  36.3577,2,     68.1,4, 21.2209,    148.7,2,     4.33,2,     8.31,2,     0.04,2,     0.59,2, -999.000,9, -999.000,9, -999.000,5, -999.000,5,-999.0000,5,  -999.00,9,   -999.0,9,  -999.00,9,-999.000,9,   -999.0,9,   -999.0,9,-999,   -999.0,9,-999.0000,9, -999,  -999.0, -999.00,-999.0000,-999.000,-999.000
     316N151_3,   A20,    89,  1,      3,      3,2,19970808,2102,  7.2387, -53.4225,  238, 1644.3,    125.3,  14.6651,  35.6001,2,  35.6539,2,     79.0,4, 14.6463,    139.3,2,     6.98,2,    16.54,2,     0.01,2,     1.10,2, -999.000,9, -999.000,9, -999.000,5, -999.000,5,-999.0000,5,  -999.00,9,   -999.0,9,  -999.00,9,-999.000,9,   -999.0,9,   -999.0,9,-999,   -999.0,9,-999.0000,9, -999,  -999.0, -999.00,-999.0000,-999.000,-999.000
     316N151_3,   A20,    89,  1,      2,      2,2,19970808,2102,  7.2387, -53.4225,  238, 2112.4,    175.3,  11.5337,  35.1102,2,  35.1149,2,     88.7,4, 11.5114,    147.9,2,     9.54,2,    20.65,2,     0.00,2,     1.41,2, -999.000,9, -999.000,9, -999.000,5, -999.000,5,-999.0000,5,  -999.00,9,   -999.0,9,  -999.00,9,-999.000,9,   -999.0,9,   -999.0,9,-999,   -999.0,9,-999.0000,9, -999,  -999.0, -999.00,-999.0000,-999.000,-999.000
     316N151_3,   A20,    89,  1,      1,      1,2,19970808,2102,  7.2387, -53.4225,  238, 2586.0,    225.8,  11.4074,  35.1569,2,  35.1605,2,   -999.0,9, 11.3788,    133.2,2,    11.14,6,    22.63,6,     0.01,6,     1.51,6, -999.000,9, -999.000,9, -999.000,5, -999.000,5,-999.0000,5,  -999.00,9,   -999.0,9,  -999.00,9,-999.000,9,   -999.0,9,   -999.0,9,-999,   -999.0,9,-999.0000,9, -999,  -999.0, -999.00,-999.0000,-999.000,-999.000
     316N151_3,   A20,    90,  1,     12,     12,2,19970808,2156,  7.1933, -53.4447,  208,  502.3,      2.0,  28.4417,  32.3502,3,-999.0000,9,     79.6,3, 28.4410,   -999.0,9,     7.92,2,     0.03,2,    -0.01,2,     0.04,2, -999.000,9, -999.000,9, -999.000,5, -999.000,5,-999.0000,5,  -999.00,9,   -999.0,9,  -999.00,9,-999.000,9,   1809.4,2,   -999.0,9,-999,   2150.8,2,   8.1710,2,   25,  -999.0, -999.00,-999.0000,-999.000,-999.000
     316N151_3,   A20,    90,  1,     11,     11,2,19970808,2156,  7.1933, -53.4447,  208,  497.8,      2.5,  28.4442,  32.3506,3,  32.3555,2,     81.4,3, 28.4436,    227.5,2,  -999.00,9,  -999.00,9,  -999.00,9,  -999.00,9,    1.744,2,    1.194,2, -999.000,5, -999.000,5,-999.0000,5,  -999.00,9,   -999.0,9,  -999.00,9,-999.000,9,   -999.0,9,   -999.0,9,-999,   -999.0,9,-999.0000,9, -999,  -999.0, -999.00,-999.0000,-999.000,-999.000
     316N151_3,   A20,    90,  1,     10,     10,2,19970808,2156,  7.1933, -53.4447,  208,  575.2,     10.8,  28.3318,  34.5714,3,-999.0000,9,     81.2,3, 28.3292,   -999.0,9,     6.10,2,     0.03,2,     0.00,2,     0.11,2, -999.000,9, -999.000,9, -999.000,5, -999.000,5,-999.0000,5,  -999.00,9,   -999.0,9,  -999.00,9,-999.000,9,   1943.2,2,   -999.0,9,-999,   2263.6,2,   8.0890,2,   25,  -999.0, -999.00,-999.0000,-999.000,-999.000
     316N151_3,   A20,    90,  1,      9,      9,2,19970808,2156,  7.1933, -53.4447,  208,  576.2,     10.9,  28.3445,  34.5674,3,  34.3745,2,     80.9,3, 28.3419,    201.3,2,  -999.00,9,  -999.00,9,  -999.00,9,  -999.00,9,    1.705,6,    1.042,6, -999.000,5, -999.000,5,-999.0000,5,  -999.00,9,   -999.0,9,  -999.00,9,-999.000,9,   -999.0,9,   -999.0,9,-999,   -999.0,9,-999.0000,9, -999,  -999.0, -999.00,-999.0000,-999.000,-999.000
     316N151_3,   A20,    90,  1,      8,      8,2,19970808,2156,  7.1933, -53.4447,  208,  955.2,     51.5,  25.1518,  36.2750,3,-999.0000,9,     82.3,3, 25.1405,   -999.0,9,     2.82,2,     2.88,2,     0.12,2,     0.30,2, -999.000,9, -999.000,9, -999.000,5, -999.000,5,-999.0000,5,  -999.00,9,   -999.0,9,  -999.00,9,-999.000,9,   2075.6,2,   -999.0,9,-999,   2377.8,2,   8.0150,2,   25,  -999.0, -999.00,-999.0000,-999.000,-999.000
     316N151_3,   A20,    90,  1,      7,      7,2,19970808,2156,  7.1933, -53.4447,  208,  956.5,     51.7,  25.1273,  36.2766,3,  36.2870,2,     82.3,3, 25.1160,    174.1,2,  -999.00,9,  -999.00,9,  -999.00,9,  -999.00,9,    1.759,6,    1.042,6, -999.000,5, -999.000,5,-999.0000,5,  -999.00,9,   -999.0,9,  -999.00,9,-999.000,9,   -999.0,9,   -999.0,9,-999,   -999.0,9,-999.0000,9, -999,  -999.0, -999.00,-999.0000,-999.000,-999.000
     316N151_3,   A20,    90,  1,      6,      6,2,19970808,2156,  7.1933, -53.4447,  208, 1438.5,    103.3,  18.5424,  32.3502,2,-999.0000,9,     71.5,4, 18.5242,   -999.0,9,     4.59,2,    11.84,2,     0.02,2,     0.77,2, -999.000,9, -999.000,9, -999.000,5, -999.000,5,-999.0000,5,  -999.00,9,   -999.0,9,  -999.00,9,-999.000,9,   2150.7,2,   -999.0,9,-999,   2371.0,2,   7.8680,2,   25,  -999.0, -999.00,-999.0000,-999.000,-999.000
     316N151_3,   A20,    90,  1,      5,      5,2,19970808,2156,  7.1933, -53.4447,  208, 1436.6,    103.3,  18.5517,  34.5670,2,  36.2235,2,     68.7,4, 18.5336,    138.0,2,  -999.00,9,  -999.00,9,  -999.00,9,  -999.00,9,    1.822,2,    1.020,2, -999.000,5, -999.000,5,-999.0000,5,  -999.00,9,   -999.0,9,  -999.00,9,-999.000,9,   -999.0,9,   -999.0,9,-999,   -999.0,9,-999.0000,9, -999,  -999.0, -999.00,-999.0000,-999.000,-999.000
     316N151_3,   A20,    90,  1,      4,      4,2,19970808,2156,  7.1933, -53.4447,  208, 1900.0,    152.4,  12.7613,  36.2759,2,-999.0000,9,     71.7,4, 12.7405,   -999.0,9,     8.41,2,    19.07,2,     0.01,2,     1.28,2, -999.000,9, -999.000,9, -999.000,5, -999.000,5,-999.0000,5,  -999.00,9,   -999.0,9,  -999.00,9,-999.000,9,   2161.8,2,   -999.0,9,-999,   2327.0,2,   7.7640,2,   25,  -999.0, -999.00,-999.0000,-999.000,-999.000
     316N151_3,   A20,    90,  1,      3,      3,2,19970808,2156,  7.1933, -53.4447,  208, 1901.4,    152.5,  12.7740,  36.2427,2,  35.3497,2,     72.1,4, 12.7533,    142.7,2,  -999.00,9,  -999.00,9,  -999.00,9,  -999.00,9,    1.558,6,    0.830,6, -999.000,5, -999.000,5,-999.0000,5,  -999.00,9,   -999.0,9,  -999.00,9,-999.000,9,   -999.0,9,   -999.0,9,-999,   -999.0,9,-999.0000,9, -999,  -999.0, -999.00,-999.0000,-999.000,-999.000
     316N151_3,   A20,    90,  1,      2,      2,2,19970808,2156,  7.1933, -53.4447,  208, 2290.8,    194.0,  12.1440,  35.3246,2,-999.0000,9,     85.8,4, 12.1184,   -999.0,9,    10.02,2,    21.48,2,     0.01,2,     1.42,2, -999.000,9, -999.000,9, -999.000,5, -999.000,5,-999.0000,5,  -999.00,9,   -999.0,9,  -999.00,9,-999.000,9,   2174.3,2,   -999.0,9,-999,   2320.5,2,   7.7220,2,   25,  -999.0, -999.00,-999.0000,-999.000,-999.000
     316N151_3,   A20,    90,  1,      1,      1,2,19970808,2156,  7.1933, -53.4447,  208, 2292.7,    194.3,  12.1279,  35.2894,2,  35.2869,2,   -999.0,9, 12.1023,    131.7,2,  -999.00,9,  -999.00,9,  -999.00,9,  -999.00,9,    1.343,6,    0.714,6, -999.000,5, -999.000,5,-999.0000,5,  -999.00,9,   -999.0,9,  -999.00,9,-999.000,9,   -999.0,9,   -999.0,9,-999,   -999.0,9,-999.0000,9, -999,  -999.0, -999.00,-999.0000,-999.000,-999.000
     316N151_3,   A20,    91,  1,      7,      7,2,19970808,2250,  7.1485, -53.4673,  181,  498.6,      1.8,  28.2927,  32.6803,2,-999.0000,9,     71.4,4, 28.2922,   -999.0,9,  -999.00,9,  -999.00,9,  -999.00,9,  -999.00,9, -999.000,9, -999.000,9, -999.000,5, -999.000,5,-999.0000,5,  -999.00,9,   -999.0,9,  -999.00,9,-999.000,9,   1827.1,2,   -999.0,9,-999,   2170.6,2,   8.1640,2,   25,  -999.0, -999.00,-999.0000,-999.000,-999.000
     316N151_3,   A20,    91,  1,      6,      6,2,19970808,2250,  7.1485, -53.4673,  181,  496.5,      2.0,  28.2993,  32.6809,2,  32.6887,2,     71.3,4, 28.2988,    226.0,2,     5.92,3,     0.00,2,     0.00,2,     0.05,2, -999.000,9, -999.000,9, -999.000,5, -999.000,5,-999.0000,5,  -999.00,9,   -999.0,9,  -999.00,9,-999.000,9,   -999.0,9,   -999.0,9,-999,   -999.0,9,-999.0000,9, -999,  -999.0, -999.00,-999.0000,-999.000,-999.000
     316N151_3,   A20,    91,  1,      5,      5,2,19970808,2250,  7.1485, -53.4673,  181,  578.2,     10.6,  28.2218,  34.6721,2,  34.4616,2,     68.0,4, 28.2193,    200.2,2,     4.71,3,     0.01,2,     0.01,2,     0.12,2, -999.000,9, -999.000,9, -999.000,5, -999.000,5,-999.0000,5,  -999.00,9,   -999.0,9,  -999.00,9,-999.000,9,   -999.0,9,   -999.0,9,-999,   -999.0,9,-999.0000,9, -999,  -999.0, -999.00,-999.0000,-999.000,-999.000
     316N151_3,   A20,    91,  1,      4,      4,2,19970808,2250,  7.1485, -53.4673,  181,  707.2,     24.3,  26.2530,  36.1093,2,  36.1316,2,     68.0,4, 26.2475,    169.6,2,     3.21,3,     2.00,2,     0.39,2,     0.29,2, -999.000,9, -999.000,9, -999.000,5, -999.000,5,-999.0000,5,  -999.00,9,   -999.0,9,  -999.00,9,-999.000,9,   -999.0,9,   -999.0,9,-999,   -999.0,9,-999.0000,9, -999,  -999.0, -999.00,-999.0000,-999.000,-999.000
     316N151_3,   A20,    91,  1,      3,      3,2,19970808,2250,  7.1485, -53.4673,  181, 1190.4,     76.2,  20.5492,  36.2676,2,  36.2800,2,     71.1,4, 20.5348,    149.1,2,     3.00,3,     8.95,2,     0.05,2,     0.65,2, -999.000,9, -999.000,9, -999.000,5, -999.000,5,-999.0000,5,  -999.00,9,   -999.0,9,  -999.00,9,-999.000,9,   -999.0,9,   -999.0,9,-999,   -999.0,9,-999.0000,9, -999,  -999.0, -999.00,-999.0000,-999.000,-999.000
     316N151_3,   A20,    91,  1,      2,      2,2,19970808,2250,  7.1485, -53.4673,  181, 1658.4,    126.2,  15.8965,  35.8189,2,  35.8499,2,     79.4,4, 15.8765,    134.7,2,     5.02,3,    15.48,2,     0.02,2,     1.03,2, -999.000,9, -999.000,9, -999.000,5, -999.000,5,-999.0000,5,  -999.00,9,   -999.0,9,  -999.00,9,-999.000,9,   -999.0,9,   -999.0,9,-999,   -999.0,9,-999.0000,9, -999,  -999.0, -999.00,-999.0000,-999.000,-999.000
     316N151_3,   A20,    91,  1,      1,      1,2,19970808,2250,  7.1485, -53.4673,  181, 2066.1,    169.8,  12.6746,  35.4236,2,  35.4325,2,   -999.0,9, 12.6516,    116.8,2,     9.90,3,    22.10,6,     0.04,6,     1.48,2, -999.000,9, -999.000,9, -999.000,5, -999.000,5,-999.0000,5,  -999.00,9,   -999.0,9,  -999.00,9,-999.000,9,   -999.0,9,   -999.0,9,-999,   -999.0,9,-999.0000,9, -999,  -999.0, -999.00,-999.0000,-999.000,-999.000