BOTTLE,20220812CCHSIOAMB
EXPOCODE,SECT_ID,STNNBR,CASTNO,SAMPNO,BTLNBR,BTLNBR_FLAG_W,DATE,TIME,LATITUDE,LONGITUDE,DEPTH,CTDRAW,CTDPRS,CTDTMP,CTDSAL,CTDSAL_FLAG_W,SALNTY,SALNTY_FLAG_W,CTDOXY,CTDOXY_FLAG_W,THETA,OXYGEN,OXYGEN_FLAG_W,SILCAT,SILCAT_FLAG_W,NITRAT,NITRAT_FLAG_W,NITRIT,NITRIT_FLAG_W,PHSPHT,PHSPHT_FLAG_W,CFC-11,CFC-11_FLAG_W,CFC-12,CFC-12_FLAG_W,CFC113,CFC113_FLAG_W,TRITUM,TRITUM_FLAG_W,HELIUM,HELIUM_FLAG_W,DELHE3,DELHE3_FLAG_W,DELC14,DELC14_FLAG_W,DELC13,DELC13_FLAG_W,NEON,NEON_FLAG_W,TCARBN,TCARBN_FLAG_W,PCO2,PCO2_FLAG_W,PCO2_TMP,ALKALI,ALKALI_FLAG_W,PH,PH_FLAG_W,PH_TMP,C14ERR,DELHER,HELIER,NEONER,TRITER
,,,,,,,,,,,,,DBAR,ITS-90,PSS-78,,PSS-78,,UMOL/KG,,ITS-90,UMOL/KG,,UMOL/KG,,UMOL/KG,,UMOL/KG,,UMOL/KG,,PMOL/KG,,PMOL/KG,,PMOL/KG,,TU,,NMOL/KG,,PERCNT,,/MILLE,,/MILLE,,NMOL/KG,,UMOL/KG,,UATM,,DEG C,UMOL/KG,,,,DEG C,/MILLE,PERCNT,NMOL/KG,NMOL/KG,TU
     316N151_3,   A20,    56,  1,     33,     33,2,19970802,1339, 18.1833, -52.3362, 4851,  209.3,      4.2,  27.8248,  35.7531,2,  35.7543,2,    206.6,2, 27.8238,    210.8,2,     1.32,2,     0.00,2,     0.00,2,     0.00,2,    1.713,2,    1.004,2, -999.000,5, -999.000,5,   1.7089,2,    -1.76,2,   -999.0,9,  -999.00,9,   6.675,2,   1984.1,2,   -999.0,9,-999,   2345.2,2,   8.1260,2,   25,  -999.0,    0.15,  0.0085,   0.033,-999.000
     316N151_3,   A20,    56,  1,     32,     32,2,19970802,1339, 18.1833, -52.3362, 4851,  710.3,     54.2,  26.7973,  36.7395,2,  36.7186,2,    224.0,2, 26.7848,    219.5,2,     0.76,2,     0.02,2,     0.00,2,     0.01,2,    1.816,2,    1.054,2, -999.000,5, -999.000,5,-999.0000,5,  -999.00,9,   -999.0,9,  -999.00,9,-999.000,9,   2021.2,2,    263.1,2,  20,   2399.3,6,   8.1270,2,   25,  -999.0, -999.00,-999.0000,-999.000,-999.000
     316N151_3,   A20,    56,  1,     31,     31,2,19970802,1339, 18.1833, -52.3362, 4851, 1180.4,    101.5,  24.4073,  37.1666,2,  37.1645,2,    212.8,2, 24.3855,    213.5,2,     0.39,2,     0.02,2,     0.00,2,     0.01,2,    1.943,2,    1.106,2, -999.000,5,    0.918,2,   1.7116,2,    -1.27,2,   -999.0,9,  -999.00,9,   6.945,2,   2066.7,2,    294.4,2,  20,   2428.4,2,   8.0950,2,   25,  -999.0,    0.15,  0.0086,   0.035,   0.013
     316N151_3,   A20,    56,  1,     30,     30,2,19970802,1339, 18.1833, -52.3362, 4851, 1639.2,    147.6,  23.1673,  37.3122,2,  37.3119,2,    206.4,2, 23.1366,    207.3,2,     0.32,2,     0.06,2,     0.04,2,     0.01,2,    2.018,2,    1.152,2, -999.000,5, -999.000,5,-999.0000,5,  -999.00,9,   -999.0,9,  -999.00,9,-999.000,9,   2088.0,2,    312.0,2,  20,   2435.1,2,   8.0710,2,   25,  -999.0, -999.00,-999.0000,-999.000,-999.000
     316N151_3,   A20,    56,  1,     29,     29,2,19970802,1339, 18.1833, -52.3362, 4851, 2081.5,    192.1,  20.9618,  37.0254,2,  37.0280,2,    174.6,2, 20.9247,    176.3,2,     0.73,2,     2.73,2,     0.03,2,     0.14,2,    2.168,2,    1.202,2, -999.000,5, -999.000,5,   1.7293,2,     0.08,2,   -999.0,9,  -999.00,9,   7.030,2,   2121.8,2,    387.8,2,  20,   2417.9,2,   7.9920,2,   25,  -999.0,    0.15,  0.0086,   0.035,-999.000
     316N151_3,   A20,    56,  1,     28,     28,2,19970802,1339, 18.1833, -52.3362, 4851, 2643.6,    248.4,  18.1248,  36.5754,2,  36.5777,2,    180.7,2, 18.0815,    177.5,2,     1.62,2,     6.38,2,     0.01,2,     0.34,2,    2.265,2,    1.215,2, -999.000,5, -999.000,5,-999.0000,5,  -999.00,9,   -999.0,9,  -999.00,9,-999.000,9,   2122.1,2,    428.3,2,  20,   2387.7,2,   7.9520,2,   25,  -999.0, -999.00,-999.0000,-999.000,-999.000
     316N151_3,   A20,    56,  1,     27,     27,2,19970802,1339, 18.1833, -52.3362, 4851, 3056.7,    290.1,  17.2333,  36.4377,2,  36.4366,2,    173.3,2, 17.1844,    176.9,2,     2.13,2,     7.80,2,     0.01,2,     0.42,2,    2.211,2,    1.179,2, -999.000,5, -999.000,5,   1.7484,2,     2.51,2,   -999.0,9,  -999.00,9,   7.160,2,   2124.9,2,   -999.0,9,-999,   2379.3,2,   7.9300,2,   25,  -999.0,    0.15,  0.0087,   0.036,-999.000
     316N151_3,   A20,    56,  1,     26,     26,2,19970802,1339, 18.1833, -52.3362, 4851, 3670.2,    351.7,  15.4793,  36.1369,2,  36.1512,2,    165.0,2, 15.4241,    171.6,2,     3.21,2,    10.79,2,     0.00,2,     0.61,2,    2.045,2,    1.069,2, -999.000,5, -999.000,5,-999.0000,5,  -999.00,9,   -999.0,9,  -999.00,9,-999.000,9,   2134.4,2,    502.4,2,  20,   2363.4,2,   7.8900,2,   25,  -999.0, -999.00,-999.0000,-999.000,-999.000
     316N151_3,   A20,    56,  1,     25,     25,2,19970802,1339, 18.1833, -52.3362, 4851, 4553.9,    440.6,  13.4238,  35.7941,2,  35.7926,2,    137.2,2, 13.3609,    136.4,2,     6.04,2,    17.98,2,     0.00,2,     1.05,2,    1.431,2,    0.762,2, -999.000,5, -999.000,5,   1.7576,2,     8.03,2,   -999.0,9,  -999.00,9,   7.291,2,   2167.5,2,    662.6,2,  20,   2345.0,2,   7.7820,2,   25,  -999.0,    0.15,  0.0088,   0.036,-999.000
     316N151_3,   A20,    56,  1,     24,     24,2,19970802,1339, 18.1833, -52.3362, 4851, 5630.8,    548.7,  10.9693,  35.4093,2,  35.4102,2,    115.1,2, 10.9003,    115.0,2,    11.10,2,    25.13,2,     0.00,2,     1.51,2,    0.604,6,    0.329,6, -999.000,5, -999.000,5,-999.0000,5,  -999.00,9,   -999.0,9,  -999.00,9,-999.000,9,   2191.8,2,    856.4,2,  20,   2325.8,2,   7.6880,2,   25,  -999.0, -999.00,-999.0000,-999.000,-999.000
     316N151_3,   A20,    56,  1,     23,     23,2,19970802,1339, 18.1833, -52.3362, 4851, 6635.3,    649.4,   8.9860,  35.1214,2,  35.1224,2,    112.3,2,  8.9136,    112.9,2,    16.16,2,    29.20,2,     0.00,2,     1.82,2,    0.261,2,    0.142,2, -999.000,5, -999.000,5,   1.7779,2,     5.81,2,   -999.0,9,  -999.00,9,   7.639,2,   2207.1,2,    980.0,2,  20,   2318.8,2,   7.6320,2,   25,  -999.0,    0.15,  0.0089,   0.038,-999.000
     316N151_3,   A20,    56,  1,     22,     22,2,19970802,1339, 18.1833, -52.3362, 4851, 7623.2,    748.6,   7.2671,  34.8960,2,  34.8960,2,    121.6,2,  7.1928,    121.1,2,    20.93,2,    31.64,2,     0.00,2,     2.03,2,    0.111,2,    0.072,2, -999.000,5, -999.000,5,-999.0000,5,  -999.00,9,   -999.0,9,  -999.00,9,-999.000,9,   2211.4,2,   1053.6,2,  20,   2309.3,2,   7.5980,2,   25,  -999.0, -999.00,-999.0000,-999.000,-999.000
     316N151_3,   A20,    56,  1,     21,     21,2,19970802,1339, 18.1833, -52.3362, 4851, 8593.3,    845.4,   6.2516,  34.7876,2,  34.7859,2,    127.9,2,  6.1737,    128.5,2,    24.05,2,    32.72,2,     0.00,2,     2.13,2,    0.053,2,    0.043,2, -999.000,5, -999.000,5,   1.8015,2,     1.91,2,   -999.0,9,  -999.00,9,   7.767,2,   2217.0,2,   1111.2,2,  20,   2309.4,2,   7.5830,2,   25,  -999.0,    0.15,  0.0090,   0.039,-999.000
     316N151_3,   A20,    56,  1,     20,     20,2,19970802,1339, 18.1833, -52.3362, 4851, 9635.9,    949.6,   5.6957,  34.7670,2,  34.7672,2,    138.9,2,  5.6116,    139.0,2,    25.53,2,    32.46,2,     0.00,2,     2.14,2, -999.000,9, -999.000,9, -999.000,5, -999.000,5,-999.0000,5,  -999.00,9,   -999.0,9,  -999.00,9,-999.000,9,   2216.9,2,   -999.0,9,-999,   2308.6,2,   7.5900,2,   25,  -999.0, -999.00,-999.0000,-999.000,-999.000
     316N151_3,   A20,    56,  1,     19,     19,2,19970802,1339, 18.1833, -52.3362, 4851,10593.1,   1045.3,   5.4449,  34.8096,2,  34.8106,2,    151.5,2,  5.3535,    150.9,2,    24.87,2,    30.77,2,     0.00,2,     2.03,2,    0.031,2,    0.022,2, -999.000,5, -999.000,5,   1.8106,2,     1.76,2,   -999.0,9,  -999.00,9,   7.854,2,   2211.6,2,   1048.7,2,  20,   2313.5,2,   7.6090,2,   25,  -999.0,    0.15,  0.0091,   0.039,-999.000
     316N151_3,   A20,    56,  1,     18,     18,2,19970802,1339, 18.1833, -52.3362, 4851,12138.6,   1199.7,   5.2843,  34.9187,2,  34.9193,2,    175.7,2,  5.1793,    175.5,2,    21.88,2,    27.16,2,     0.00,2,     1.79,2,    0.056,2,    0.033,2, -999.000,5, -999.000,5,-999.0000,5,  -999.00,9,   -999.0,9,  -999.00,9,-999.000,9,   2199.0,2,    936.3,2,  20,   2315.0,2,   7.6550,2,   25,  -999.0, -999.00,-999.0000,-999.000,-999.000
     316N151_3,   A20,    56,  1,     17,     17,2,19970802,1339, 18.1833, -52.3362, 4851,13588.4,   1344.5,   5.0809,  34.9782,2,  34.9791,2,    199.4,2,  4.9637,    196.0,2,    19.59,2,    24.51,2,     0.00,2,     1.61,2,    0.069,2,    0.045,2, -999.000,5, -999.000,5,-999.0000,5,  -999.00,9,   -999.0,9,  -999.00,9,-999.000,9,   2187.3,2,    863.2,2,  20,   2318.4,2,   7.6860,2,   25,  -999.0, -999.00,-999.0000,-999.000,-999.000
     316N151_3,   A20,    56,  1,     16,     16,2,19970802,1339, 18.1833, -52.3362, 4851,15097.0,   1495.4,   4.7691,  35.0033,2,  35.0038,2,    220.7,2,  4.6406,    218.4,2,    17.38,2,    22.09,2,     0.00,2,     1.45,2,    0.135,6,    0.077,6, -999.000,5, -999.000,5,-999.0000,5,  -999.00,9,   -999.0,9,  -999.00,9,-999.000,9,   2176.9,2,    807.2,2,  20,   2316.5,2,   7.7150,2,   25,  -999.0, -999.00,-999.0000,-999.000,-999.000
     316N151_3,   A20,    56,  1,     15,     15,2,19970802,1339, 18.1833, -52.3362, 4851,16653.4,   1650.9,   4.4428,  35.0051,2,  35.0070,2,    236.2,2,  4.3032,    233.6,2,    16.43,2,    20.70,2,     0.00,2,     1.36,2,    0.146,2,    0.084,2, -999.000,5, -999.000,5,-999.0000,5,  -999.00,9,   -999.0,9,  -999.00,9,-999.000,9,   2169.4,2,    773.3,2,  20,   2317.2,2,   7.7320,2,   25,  -999.0, -999.00,-999.0000,-999.000,-999.000
     316N151_3,   A20,    56,  1,     14,     14,2,19970802,1339, 18.1833, -52.3362, 4851,18135.5,   1799.1,   4.1259,  35.0015,2,  35.0032,2,    248.5,2,  3.9760,    246.9,2,    15.96,2,    19.63,2,     0.00,2,     1.29,2,    0.142,2,    0.081,2, -999.000,5, -999.000,5,-999.0000,5,  -999.00,9,   -999.0,9,  -999.00,9,-999.000,9,   2163.9,2,    746.6,2,  20,   2315.6,2,   7.7410,2,   25,  -999.0, -999.00,-999.0000,-999.000,-999.000
     316N151_3,   A20,    56,  1,     13,     13,2,19970802,1339, 18.1833, -52.3362, 4851,19646.6,   1950.1,   3.8626,  34.9942,2,  34.9955,2,    252.2,2,  3.7018,    251.1,2,    17.44,2,    19.51,2,     0.00,2,     1.29,2,    0.073,2,    0.048,2, -999.000,5, -999.000,5,-999.0000,5,  -999.00,9,   -999.0,9,  -999.00,9,-999.000,9,   2161.3,2,   -999.0,9,-999,   2319.0,2,   7.7460,2,   25,  -999.0, -999.00,-999.0000,-999.000,-999.000
     316N151_3,   A20,    56,  1,     12,     12,2,19970802,1339, 18.1833, -52.3362, 4851,21628.9,   2148.4,   3.5385,  34.9815,2,  34.9835,2,    255.8,2,  3.3635,    254.5,2,    19.49,2,    19.34,2,     0.00,2,     1.28,2,    0.048,2,    0.030,2, -999.000,5, -999.000,5,-999.0000,5,  -999.00,9,   -999.0,9,  -999.00,9,-999.000,9,   2163.9,2,    730.2,2,  20,   2318.7,2,   7.7490,2,   25,  -999.0, -999.00,-999.0000,-999.000,-999.000
     316N151_3,   A20,    56,  1,     11,     11,2,19970802,1339, 18.1833, -52.3362, 4851,23643.7,   2349.8,   3.2719,  34.9672,2,  34.9702,2,    253.4,2,  3.0818,    253.2,2,    23.58,2,    19.83,2,     0.00,2,     1.31,2,    0.026,2,    0.015,2, -999.000,5, -999.000,5,-999.0000,5,  -999.00,9,   -999.0,9,  -999.00,9,-999.000,9,   2168.5,2,    735.0,2,  20,   2324.7,2,   7.7500,2,   25,  -999.0, -999.00,-999.0000,-999.000,-999.000
     316N151_3,   A20,    56,  1,     10,     10,2,19970802,1339, 18.1833, -52.3362, 4851,26146.5,   2599.9,   3.0127,  34.9496,2,  34.9494,2,    256.3,2,  2.8025,    255.6,3,    26.12,2,    19.73,2,     0.00,2,     1.31,2, -999.000,9, -999.000,9, -999.000,5, -999.000,5,-999.0000,5,  -999.00,9,   -999.0,9,  -999.00,9,-999.000,9,   2169.3,2,    735.2,2,  20,   2325.6,2,   7.7480,2,   25,  -999.0, -999.00,-999.0000,-999.000,-999.000
     316N151_3,   A20,    56,  1,      9,      9,2,19970802,1339, 18.1833, -52.3362, 4851,28647.8,   2849.8,   2.8552,  34.9382,2,  34.9402,2,    254.8,2,  2.6231,    255.0,2,    29.72,2,    20.23,2,     0.00,2,     1.35,2,    0.018,2,    0.014,2, -999.000,5, -999.000,5,-999.0000,5,  -999.00,9,   -999.0,9,  -999.00,9,-999.000,9,   2174.9,2,    737.5,2,  20,   2330.2,2,   7.7480,2,   25,  -999.0, -999.00,-999.0000,-999.000,-999.000
     316N151_3,   A20,    56,  1,      8,      8,2,19970802,1339, 18.1833, -52.3362, 4851,31151.8,   3100.1,   2.7057,  34.9269,2,  34.9280,2,    253.6,2,  2.4509,    253.6,2,    32.84,2,    20.54,2,     0.00,2,     1.37,2, -999.000,9, -999.000,9, -999.000,5, -999.000,5,-999.0000,5,  -999.00,9,   -999.0,9,  -999.00,9,-999.000,9,   2177.4,2,    739.9,2,  20,   2331.0,2,   7.7430,2,   25,  -999.0, -999.00,-999.0000,-999.000,-999.000
     316N151_3,   A20,    56,  1,      7,      7,2,19970802,1339, 18.1833, -52.3362, 4851,33637.0,   3348.5,   2.5809,  34.9169,2,  34.9179,2,    252.9,2,  2.3027,    254.1,2,    35.18,2,    20.73,2,     0.00,2,     1.38,2,    0.024,2,    0.017,2, -999.000,5, -999.000,5,-999.0000,5,  -999.00,9,   -999.0,9,  -999.00,9,-999.000,9,   2177.5,2,   -999.0,9,-999,   2336.6,2,   7.7460,2,   25,  -999.0, -999.00,-999.0000,-999.000,-999.000
     316N151_3,   A20,    56,  1,      6,      6,2,19970802,1339, 18.1833, -52.3362, 4851,36158.7,   3600.6,   2.4101,  34.9006,2,  34.9000,2,    254.4,2,  2.1091,    253.7,2,    39.46,2,    21.12,2,     0.00,2,     1.41,2,    0.022,2,    0.017,2, -999.000,5, -999.000,5,-999.0000,5,  -999.00,9,   -999.0,9,  -999.00,9,-999.000,9,   2184.2,2,   -999.0,9,-999,   2336.3,2,   7.7390,2,   25,  -999.0, -999.00,-999.0000,-999.000,-999.000
     316N151_3,   A20,    56,  1,      5,      5,2,19970802,1339, 18.1833, -52.3362, 4851,39153.2,   3900.0,   2.2969,  34.8894,2,  34.8890,2,    252.4,2,  1.9657,    253.7,2,    42.77,2,    21.47,2,     0.00,2,     1.44,2,    0.022,2,    0.013,2, -999.000,5, -999.000,5,-999.0000,5,  -999.00,9,   -999.0,9,  -999.00,9,-999.000,9,   2186.4,2,   -999.0,9,-999,   2340.0,2,   7.7310,2,   25,  -999.0, -999.00,-999.0000,-999.000,-999.000
     316N151_3,   A20,    56,  1,      4,      4,2,19970802,1339, 18.1833, -52.3362, 4851,41659.0,   4150.4,   2.2095,  34.8802,2,  34.8800,2,    253.2,2,  1.8523,    253.7,2,    45.01,2,    21.65,2,     0.00,2,     1.46,2,    0.025,2,    0.022,2, -999.000,5, -999.000,5,-999.0000,5,  -999.00,9,   -999.0,9,  -999.00,9,-999.000,9,   2186.6,2,   -999.0,9,-999,   2339.0,2,   7.7310,2,   25,  -999.0, -999.00,-999.0000,-999.000,-999.000
     316N151_3,   A20,    56,  1,      3,      3,2,19970802,1339, 18.1833, -52.3362, 4851,44161.7,   4400.6,   2.1459,  34.8717,2,  34.8712,2,    252.6,2,  1.7615,    253.2,2,    47.84,2,    22.01,2,     0.00,2,     1.50,2,    0.024,2,    0.019,2, -999.000,5, -999.000,5,-999.0000,5,  -999.00,9,   -999.0,9,  -999.00,9,-999.000,9,   2191.5,2,   -999.0,9,-999,   2345.1,2,   7.7300,2,   25,  -999.0, -999.00,-999.0000,-999.000,-999.000
     316N151_3,   A20,    56,  1,      2,      2,2,19970802,1339, 18.1833, -52.3362, 4851,46422.1,   4626.7,   2.0610,  34.8607,2,  34.8599,2,    251.4,2,  1.6523,    252.6,2,    52.11,2,    22.54,2,     0.00,2,     1.52,2,    0.022,2,    0.019,2, -999.000,5, -999.000,5,-999.0000,5,  -999.00,9,   -999.0,9,  -999.00,9,-999.000,9,   2197.2,2,   -999.0,9,-999,   2343.4,6,   7.7230,2,   25,  -999.0, -999.00,-999.0000,-999.000,-999.000
     316N151_3,   A20,    56,  1,      1,      1,2,19970802,1339, 18.1833, -52.3362, 4851,48491.5,   4833.7,   2.0436,  34.8570,2,  34.8536,2,    250.2,2,  1.6103,    253.7,2,    53.52,6,    22.63,6,     0.00,6,     1.53,6,    0.027,2,    0.019,2, -999.000,5, -999.000,5,-999.0000,5,  -999.00,9,   -999.0,9,  -999.00,9,-999.000,9,   2199.8,2,    792.1,2,  20,   2348.7,2,   7.7240,2,   25,  -999.0, -999.00,-999.0000,-999.000,-999.000