BOTTLE,20220812CCHSIOAMB
EXPOCODE,SECT_ID,STNNBR,CASTNO,SAMPNO,BTLNBR,BTLNBR_FLAG_W,DATE,TIME,LATITUDE,LONGITUDE,DEPTH,CTDRAW,CTDPRS,CTDTMP,CTDSAL,CTDSAL_FLAG_W,SALNTY,SALNTY_FLAG_W,CTDOXY,CTDOXY_FLAG_W,THETA,OXYGEN,OXYGEN_FLAG_W,SILCAT,SILCAT_FLAG_W,NITRAT,NITRAT_FLAG_W,NITRIT,NITRIT_FLAG_W,PHSPHT,PHSPHT_FLAG_W,CFC-11,CFC-11_FLAG_W,CFC-12,CFC-12_FLAG_W,CFC113,CFC113_FLAG_W,TRITUM,TRITUM_FLAG_W,HELIUM,HELIUM_FLAG_W,DELHE3,DELHE3_FLAG_W,DELC14,DELC14_FLAG_W,DELC13,DELC13_FLAG_W,NEON,NEON_FLAG_W,TCARBN,TCARBN_FLAG_W,PCO2,PCO2_FLAG_W,PCO2_TMP,ALKALI,ALKALI_FLAG_W,PH,PH_FLAG_W,PH_TMP,C14ERR,DELHER,HELIER,NEONER,TRITER
,,,,,,,,,,,,,DBAR,ITS-90,PSS-78,,PSS-78,,UMOL/KG,,ITS-90,UMOL/KG,,UMOL/KG,,UMOL/KG,,UMOL/KG,,UMOL/KG,,PMOL/KG,,PMOL/KG,,PMOL/KG,,TU,,NMOL/KG,,PERCNT,,/MILLE,,/MILLE,,NMOL/KG,,UMOL/KG,,UATM,,DEG C,UMOL/KG,,,,DEG C,/MILLE,PERCNT,NMOL/KG,NMOL/KG,TU
     316N151_3,   A20,    25,  1,     30,     30,2,19970724,1240, 38.3378, -52.3447, 5355,  209.9,      7.0,  24.4153,  36.3338,2,  36.3340,2,    212.3,2, 24.4139,    216.7,2,     0.85,2,     0.00,2,     0.00,2,     0.01,2,    1.970,2,    1.161,2, -999.000,5, -999.000,5,-999.0000,5,  -999.00,9,   -999.0,9,  -999.00,9,-999.000,9,   2033.3,2,    301.6,2,  20,   2373.8,2,   8.0790,2,   25,  -999.0, -999.00,-999.0000,-999.000,-999.000
     316N151_3,   A20,    25,  1,     29,     29,2,19970724,1240, 38.3378, -52.3447, 5355,  663.2,     52.1,  20.0645,  36.5820,2,  36.5784,2,    229.8,2, 20.0548,    217.1,2,     0.65,2,     0.18,2,     0.01,2,     0.02,2,    2.269,2,    1.302,2, -999.000,5, -999.000,5,-999.0000,5,  -999.00,9,   -999.0,9,  -999.00,9,-999.000,9,   2063.8,6,    332.1,2,  20,   2389.5,6,   8.0450,6,   25,  -999.0, -999.00,-999.0000,-999.000,-999.000
     316N151_3,   A20,    25,  1,     28,     28,2,19970724,1240, 38.3378, -52.3447, 5355, 1068.4,     92.1,  19.0078,  36.5902,2,  36.5900,2,    214.3,2, 18.9912,    214.1,2,     0.95,2,     1.62,2,     0.02,2,     0.08,2,    2.323,2,    1.341,2, -999.000,5, -999.000,5,-999.0000,5,  -999.00,9,   -999.0,9,  -999.00,9,-999.000,9,   2078.2,2,    352.2,2,  20,   2388.9,2,   8.0290,2,   25,  -999.0, -999.00,-999.0000,-999.000,-999.000
     316N151_3,   A20,    25,  1,     27,     27,2,19970724,1240, 38.3378, -52.3447, 5355, 1621.3,    146.9,  18.4935,  36.5830,2,  36.5826,2,    212.8,2, 18.4676,    222.7,2,     1.14,2,     2.20,2,     0.01,2,     0.11,2,    2.411,2,    1.357,2, -999.000,5, -999.000,5,-999.0000,5,  -999.00,9,   -999.0,9,  -999.00,9,-999.000,9,   2079.0,2,    351.9,2,  20,   2389.2,2,   8.0250,2,   25,  -999.0, -999.00,-999.0000,-999.000,-999.000
     316N151_3,   A20,    25,  1,     26,     26,2,19970724,1240, 38.3378, -52.3447, 5355, 2133.6,    197.7,  18.3599,  36.5779,2,  36.5784,2,    214.6,2, 18.3251,    214.0,2,     1.23,2,     2.42,2,     0.01,2,     0.12,2,    2.382,2,    1.366,2, -999.000,5, -999.000,5,-999.0000,5,  -999.00,9,   -999.0,9,  -999.00,9,-999.000,9,   2080.9,2,    358.2,2,  20,   2387.3,2,   8.0200,2,   25,  -999.0, -999.00,-999.0000,-999.000,-999.000
     316N151_3,   A20,    25,  1,     25,     25,2,19970724,1240, 38.3378, -52.3447, 5355, 2627.4,    246.6,  18.2288,  36.5636,2,  36.5638,2,    221.0,2, 18.1856,    212.8,2,     1.23,2,     2.60,2,     0.00,2,     0.13,2,    2.393,2,    1.354,2, -999.000,5, -999.000,5,-999.0000,5,  -999.00,9,   -999.0,9,  -999.00,9,-999.000,9,   2082.7,2,    357.7,2,  20,   2387.3,2,   8.0140,2,   25,  -999.0, -999.00,-999.0000,-999.000,-999.000
     316N151_3,   A20,    25,  1,     24,     24,2,19970724,1240, 38.3378, -52.3447, 5355, 3367.1,    320.3,  18.0970,  36.5467,2,  36.5472,2,    217.8,2, 18.0411,    221.6,2,     1.33,2,     2.94,2,     0.01,2,     0.15,2,    2.406,2,    1.347,2, -999.000,5, -999.000,5,-999.0000,5,  -999.00,9,   -999.0,9,  -999.00,9,-999.000,9,   2086.9,2,    365.2,2,  20,   2384.7,2,   8.0080,2,   25,  -999.0, -999.00,-999.0000,-999.000,-999.000
     316N151_3,   A20,    25,  1,     23,     23,2,19970724,1240, 38.3378, -52.3447, 5355, 4129.7,    396.3,  17.8911,  36.5154,2,  36.5167,2,    217.3,2, 17.8224,    212.0,2,     1.41,2,     3.51,2,     0.00,2,     0.18,2,    2.362,2,    1.342,2, -999.000,5, -999.000,5,-999.0000,5,  -999.00,9,   -999.0,9,  -999.00,9,-999.000,9,   2090.4,2,    375.6,2,  20,   2385.6,2,   7.9990,2,   25,  -999.0, -999.00,-999.0000,-999.000,-999.000
     316N151_3,   A20,    25,  1,     22,     22,2,19970724,1240, 38.3378, -52.3447, 5355, 5140.0,    497.6,  17.2356,  36.3868,2,  36.3876,2,    199.8,2, 17.1513,    196.1,2,     2.19,2,     6.14,2,     0.00,2,     0.34,2,    2.225,2,    1.223,2, -999.000,5, -999.000,5,-999.0000,5,  -999.00,9,   -999.0,9,  -999.00,9,-999.000,9,   2106.9,2,    412.1,2,  20,   2375.9,2,   7.9650,2,   25,  -999.0, -999.00,-999.0000,-999.000,-999.000
     316N151_3,   A20,    25,  1,     21,     21,2,19970724,1240, 38.3378, -52.3447, 5355, 6111.2,    595.3,  15.7797,  36.1298,2,  36.1301,2,    183.5,2, 15.6845,    181.3,2,     3.64,2,     9.82,2,     0.00,2,     0.57,2,    1.925,2,    1.121,2, -999.000,5, -999.000,5,-999.0000,5,  -999.00,9,   -999.0,9,  -999.00,9,-999.000,9,   2125.2,2,    476.6,2,  20,   2364.0,2,   7.9080,2,   25,  -999.0, -999.00,-999.0000,-999.000,-999.000
     316N151_3,   A20,    25,  1,     20,     20,2,19970724,1240, 38.3378, -52.3447, 5355, 7601.9,    745.4,  12.4849,  35.6065,2,  35.6118,2,    159.8,2, 12.3823,    163.3,2,     8.00,2,    17.00,2,     0.00,2,     1.05,2,    1.505,2,    0.798,2, -999.000,5, -999.000,5,-999.0000,5,  -999.00,9,   -999.0,9,  -999.00,9,-999.000,9,   2157.0,2,    637.3,2,  20,   2337.3,2,   7.8030,2,   25,  -999.0, -999.00,-999.0000,-999.000,-999.000
     316N151_3,   A20,    25,  1,     19,     19,2,19970724,1240, 38.3378, -52.3447, 5355, 9100.6,    895.8,   8.0835,  35.0580,2,  35.0562,2,    165.6,2,  7.9881,    162.3,2,    14.68,2,    23.21,2,     0.00,2,     1.51,2,    1.154,2,    0.584,2, -999.000,5, -999.000,5,-999.0000,5,  -999.00,9,   -999.0,9,  -999.00,9,-999.000,9,   2184.8,2,    855.4,2,  20,   2319.9,2,   7.6860,2,   25,  -999.0, -999.00,-999.0000,-999.000,-999.000
     316N151_3,   A20,    25,  1,     18,     18,2,19970724,1240, 38.3378, -52.3447, 5355,10643.7,   1050.3,   6.0127,  35.0601,2,  35.0636,2,    203.4,2,  5.9159,    209.6,2,    13.42,2,    20.46,2,     0.00,2,     1.34,2,    1.137,2,    0.643,2, -999.000,5, -999.000,5,-999.0000,5,  -999.00,9,   -999.0,9,  -999.00,9,-999.000,9,   2174.2,2,    800.7,2,  20,   2315.1,2,   7.7090,2,   25,  -999.0, -999.00,-999.0000,-999.000,-999.000
     316N151_3,   A20,    25,  1,     17,     17,2,19970724,1240, 38.3378, -52.3447, 5355,12078.7,   1193.9,   5.1006,  35.0363,2,  35.0383,2,    231.1,2,  4.9975,    235.7,2,    12.65,2,    19.02,2,     0.00,2,     1.26,2,    1.404,2,    0.716,2, -999.000,5, -999.000,5,-999.0000,5,  -999.00,9,   -999.0,9,  -999.00,9,-999.000,9,   2170.6,2,   -999.0,9,-999,   2315.2,2,   7.7210,2,   25,  -999.0, -999.00,-999.0000,-999.000,-999.000
     316N151_3,   A20,    25,  1,     16,     16,2,19970724,1240, 38.3378, -52.3447, 5355,14169.8,   1402.9,   4.4171,  34.9934,2,  34.9951,2,    252.2,2,  4.3012,    254.6,2,    12.26,2,    18.15,2,     0.00,2,     1.20,2,    1.484,2,    0.751,2, -999.000,5, -999.000,5,-999.0000,5,  -999.00,9,   -999.0,9,  -999.00,9,-999.000,9,   2162.7,2,    758.1,2,  20,   2309.5,2,   7.7320,2,   25,  -999.0, -999.00,-999.0000,-999.000,-999.000
     316N151_3,   A20,    25,  1,     15,     15,2,19970724,1240, 38.3378, -52.3447, 5355,16182.7,   1604.0,   4.0725,  34.9659,2,  34.9682,2,    261.5,2,  3.9419,    263.9,2,    12.25,2,    17.79,2,     0.00,2,     1.18,2,    1.529,2,    0.751,2, -999.000,5, -999.000,5,-999.0000,5,  -999.00,9,   -999.0,9,  -999.00,9,-999.000,9,   2159.7,2,    752.1,2,  20,   2311.6,2,   7.7330,2,   25,  -999.0, -999.00,-999.0000,-999.000,-999.000
     316N151_3,   A20,    25,  1,     14,     14,2,19970724,1240, 38.3378, -52.3447, 5355,18237.1,   1809.3,   3.8099,  34.9491,2,  34.9507,2,    267.2,2,  3.6634,    269.1,2,    12.45,2,    17.54,2,     0.00,2,     1.17,2,    1.472,2,    0.745,2, -999.000,5, -999.000,5,-999.0000,5,  -999.00,9,   -999.0,9,  -999.00,9,-999.000,9,   2157.6,2,    754.0,2,  20,   2306.9,2,   7.7390,2,   25,  -999.0, -999.00,-999.0000,-999.000,-999.000
     316N151_3,   A20,    25,  1,     13,     13,2,19970724,1240, 38.3378, -52.3447, 5355,20671.7,   2052.7,   3.6116,  34.9404,2,  34.9431,2,    271.7,2,  3.4449,    271.3,2,    13.12,2,    17.47,2,    -0.01,2,     1.16,2,    1.377,2,    0.686,2, -999.000,5, -999.000,5,-999.0000,5,  -999.00,9,   -999.0,9,  -999.00,9,-999.000,9,   2156.4,2,    744.4,2,  20,   2313.0,2,   7.7420,2,   25,  -999.0, -999.00,-999.0000,-999.000,-999.000
     316N151_3,   A20,    25,  1,     12,     12,2,19970724,1240, 38.3378, -52.3447, 5355,23103.5,   2295.7,   3.5130,  34.9504,2,  34.9512,2,    268.6,2,  3.3241,    273.5,2,    14.48,2,    17.54,2,    -0.01,2,     1.17,2,    0.990,2,    0.492,2, -999.000,5, -999.000,5,-999.0000,5,  -999.00,9,   -999.0,9,  -999.00,9,-999.000,9,   2157.1,2,    735.4,2,  20,   2310.8,2,   7.7430,2,   25,  -999.0, -999.00,-999.0000,-999.000,-999.000
     316N151_3,   A20,    25,  1,     11,     11,2,19970724,1240, 38.3378, -52.3447, 5355,26146.7,   2599.8,   3.3391,  34.9528,2,  34.9545,2,    267.5,2,  3.1229,    266.5,2,    16.61,2,    17.67,2,     0.00,2,     1.19,2,    0.610,2,    0.301,2, -999.000,5, -999.000,5,-999.0000,5,  -999.00,9,   -999.0,9,  -999.00,9,-999.000,9,   2158.2,2,    726.9,2,  20,   2316.2,2,   7.7480,2,   25,  -999.0, -999.00,-999.0000,-999.000,-999.000
     316N151_3,   A20,    25,  1,     10,     10,2,19970724,1240, 38.3378, -52.3447, 5355,29123.4,   2897.3,   3.1475,  34.9495,2,  34.9522,2,    265.8,2,  2.9044,    263.6,2,    19.52,2,    18.03,2,    -0.01,2,     1.22,2,    0.419,2,    0.204,2, -999.000,5, -999.000,5,-999.0000,5,  -999.00,9,   -999.0,9,  -999.00,9,-999.000,9,   2161.6,2,    732.1,2,  20,   2317.4,2,   7.7500,2,   25,  -999.0, -999.00,-999.0000,-999.000,-999.000
     316N151_3,   A20,    25,  1,      9,      9,2,19970724,1240, 38.3378, -52.3447, 5355,32127.8,   3197.6,   2.8810,  34.9374,2,  34.9381,2,    266.6,2,  2.6120,    264.6,2,    22.52,2,    18.29,2,    -0.01,2,     1.23,2,    0.311,2,    0.152,2, -999.000,5, -999.000,5,-999.0000,5,  -999.00,9,   -999.0,9,  -999.00,9,-999.000,9,   2165.4,2,   -999.0,9,-999,   2321.8,2,   7.7480,2,   25,  -999.0, -999.00,-999.0000,-999.000,-999.000
     316N151_3,   A20,    25,  1,      8,      8,2,19970724,1240, 38.3378, -52.3447, 5355,34680.4,   3452.8,   2.6747,  34.9223,2,  34.9382,3,    268.4,2,  2.3830,    270.0,2,    22.42,2,    17.86,2,    -0.01,2,     1.21,2,    0.440,2,    0.220,2, -999.000,5, -999.000,5,-999.0000,5,  -999.00,9,   -999.0,9,  -999.00,9,-999.000,9,   2163.4,2,    732.8,2,  20,   2318.5,2,   7.7470,2,   25,  -999.0, -999.00,-999.0000,-999.000,-999.000
     316N151_3,   A20,    25,  1,      7,      7,2,19970724,1240, 38.3378, -52.3447, 5355,37148.4,   3699.4,   2.4989,  34.9121,2,  34.9130,2,    268.8,2,  2.1846,    269.9,2,    25.23,2,    18.10,2,    -0.01,2,     1.23,2,    0.391,2,    0.200,2, -999.000,5, -999.000,5,-999.0000,5,  -999.00,9,   -999.0,9,  -999.00,9,-999.000,9,   2166.1,2,    731.9,2,  20,   2324.2,2,   7.7470,2,   25,  -999.0, -999.00,-999.0000,-999.000,-999.000
     316N151_3,   A20,    25,  1,      6,      6,2,19970724,1240, 38.3378, -52.3447, 5355,39616.0,   3946.2,   2.3992,  34.9041,2,  34.9054,2,    269.4,2,  2.0599,    275.6,3,    25.71,2,    17.93,2,     0.00,2,     1.22,2,    0.561,2,    0.261,2, -999.000,5, -999.000,5,-999.0000,5,  -999.00,9,   -999.0,9,  -999.00,9,-999.000,9,   2167.4,2,    732.4,2,  20,   2320.6,2,   7.7460,2,   25,  -999.0, -999.00,-999.0000,-999.000,-999.000
     316N151_3,   A20,    25,  1,      5,      5,2,19970724,1240, 38.3378, -52.3447, 5355,42634.6,   4247.9,   2.3287,  34.8972,2,  34.8987,2,    268.6,2,  1.9566,    269.9,2,    28.03,2,    18.17,2,     0.00,2,     1.24,2,    0.564,2,    0.289,2, -999.000,5, -999.000,5,-999.0000,5,  -999.00,9,   -999.0,9,  -999.00,9,-999.000,9,   2170.9,2,   -999.0,9,-999,   2325.5,2,   7.7410,2,   25,  -999.0, -999.00,-999.0000,-999.000,-999.000
     316N151_3,   A20,    25,  1,      4,      4,2,19970724,1240, 38.3378, -52.3447, 5355,46124.5,   4596.7,   2.2898,  34.8916,2,  34.8920,2,    266.1,2,  1.8772,    267.5,2,    31.42,2,    18.71,2,     0.00,2,     1.28,2,    0.521,2,    0.251,2, -999.000,5, -999.000,5,-999.0000,5,  -999.00,9,   -999.0,9,  -999.00,9,-999.000,9,   2172.8,2,   -999.0,9,-999,   2326.4,2,   7.7420,2,   25,  -999.0, -999.00,-999.0000,-999.000,-999.000
     316N151_3,   A20,    25,  1,      3,      3,2,19970724,1240, 38.3378, -52.3447, 5355,49047.9,   4888.9,   2.2830,  34.8861,2,  34.8869,2,    264.0,2,  1.8349,    265.1,2,    34.32,2,    19.14,2,     0.00,2,     1.31,2,    0.451,2,    0.220,2, -999.000,5, -999.000,5,-999.0000,5,  -999.00,9,   -999.0,9,  -999.00,9,-999.000,9,   2179.1,2,   -999.0,9,-999,   2334.2,2,   7.7390,2,   25,  -999.0, -999.00,-999.0000,-999.000,-999.000
     316N151_3,   A20,    25,  1,      2,      2,2,19970724,1240, 38.3378, -52.3447, 5355,52098.0,   5193.9,   2.2701,  34.8804,2,  34.8804,2,    261.3,2,  1.7839,    261.9,2,    38.30,2,    19.82,2,     0.00,2,     1.36,2,    0.357,2,    0.181,2, -999.000,5, -999.000,5,-999.0000,5,  -999.00,9,   -999.0,9,  -999.00,9,-999.000,9,   2184.8,6,   -999.0,9,-999,   2337.2,2,   7.7330,2,   25,  -999.0, -999.00,-999.0000,-999.000,-999.000
     316N151_3,   A20,    25,  1,      1,      1,2,19970724,1240, 38.3378, -52.3447, 5355,54969.7,   5480.8,   2.2129,  34.8674,2,  34.8671,2,    255.8,2,  1.6915,    253.6,2,    46.24,6,    21.08,6,     0.01,6,     1.51,6, -999.000,9,    0.121,2, -999.000,5, -999.000,5,-999.0000,5,  -999.00,9,   -999.0,9,  -999.00,9,-999.000,9,   2195.8,2,    768.2,2,  20,   2345.2,6,   7.7330,6,   25,  -999.0, -999.00,-999.0000,-999.000,-999.000