BOTTLE,20220812CCHSIOAMB
EXPOCODE,SECT_ID,STNNBR,CASTNO,SAMPNO,BTLNBR,BTLNBR_FLAG_W,DATE,TIME,LATITUDE,LONGITUDE,DEPTH,CTDRAW,CTDPRS,CTDTMP,CTDSAL,CTDSAL_FLAG_W,SALNTY,SALNTY_FLAG_W,CTDOXY,CTDOXY_FLAG_W,THETA,OXYGEN,OXYGEN_FLAG_W,SILCAT,SILCAT_FLAG_W,NITRAT,NITRAT_FLAG_W,NITRIT,NITRIT_FLAG_W,PHSPHT,PHSPHT_FLAG_W,CFC-11,CFC-11_FLAG_W,CFC-12,CFC-12_FLAG_W,CFC113,CFC113_FLAG_W,TRITUM,TRITUM_FLAG_W,HELIUM,HELIUM_FLAG_W,DELHE3,DELHE3_FLAG_W,DELC14,DELC14_FLAG_W,DELC13,DELC13_FLAG_W,NEON,NEON_FLAG_W,TCARBN,TCARBN_FLAG_W,PCO2,PCO2_FLAG_W,PCO2_TMP,ALKALI,ALKALI_FLAG_W,PH,PH_FLAG_W,PH_TMP,C14ERR,DELHER,HELIER,NEONER,TRITER
,,,,,,,,,,,,,DBAR,ITS-90,PSS-78,,PSS-78,,UMOL/KG,,ITS-90,UMOL/KG,,UMOL/KG,,UMOL/KG,,UMOL/KG,,UMOL/KG,,PMOL/KG,,PMOL/KG,,PMOL/KG,,TU,,NMOL/KG,,PERCNT,,/MILLE,,/MILLE,,NMOL/KG,,UMOL/KG,,UATM,,DEG C,UMOL/KG,,,,DEG C,/MILLE,PERCNT,NMOL/KG,NMOL/KG,TU
     316N151_3,   A20,    57,  1,     33,     33,2,19970802,2029, 17.5328, -52.3388, 5690,  246.9,      7.8,  27.6213,  36.6352,2,  36.6366,2,    209.8,2, 27.6195,    216.4,2,     1.05,2,     0.09,2,     0.00,2,     0.01,2,    1.741,2,    1.013,2, -999.000,5, -999.000,5,-999.0000,5,  -999.00,9,   -999.0,9,  -999.00,9,-999.000,9,   2020.2,2,    263.7,2,  20,   2394.2,2,   8.1240,2,   25,  -999.0, -999.00,-999.0000,-999.000,-999.000
     316N151_3,   A20,    57,  1,     32,     32,2,19970802,2029, 17.5328, -52.3388, 5690,  667.0,     49.9,  27.2471,  36.6649,2,  36.6582,2,    219.7,2, 27.2355,    216.9,2,     0.97,2,     0.05,2,     0.00,2,     0.01,2,    1.747,2,    1.022,2, -999.000,5, -999.000,5,-999.0000,5,  -999.00,9,   -999.0,9,  -999.00,9,-999.000,9,   2018.5,2,    263.2,2,  20,   2397.2,6,   8.1280,6,   25,  -999.0, -999.00,-999.0000,-999.000,-999.000
     316N151_3,   A20,    57,  1,     31,     31,2,19970802,2029, 17.5328, -52.3388, 5690, 1169.5,    100.4,  24.6598,  37.2111,2,  37.2067,2,    215.2,2, 24.6381,    219.9,2,     0.68,2,     0.09,2,     0.00,2,     0.01,2,    1.959,6,    1.111,6, -999.000,5, -999.000,5,-999.0000,5,  -999.00,9,   -999.0,9,  -999.00,9,-999.000,9,   2059.7,2,    282.2,2,  20,   2428.5,2,   8.1030,2,   25,  -999.0, -999.00,-999.0000,-999.000,-999.000
     316N151_3,   A20,    57,  1,     30,     30,2,19970802,2029, 17.5328, -52.3388, 5690, 1670.2,    150.8,  22.7579,  37.2539,2,  37.2536,2,    195.1,2, 22.7270,    196.6,2,     0.68,2,     0.41,2,     0.07,2,     0.03,2,    2.087,2,    1.150,2, -999.000,5, -999.000,5,-999.0000,5,  -999.00,9,   -999.0,9,  -999.00,9,-999.000,9,   2097.8,2,    329.7,2,  20,   2429.8,2,   8.0480,2,   25,  -999.0, -999.00,-999.0000,-999.000,-999.000
     316N151_3,   A20,    57,  1,     29,     29,2,19970802,2029, 17.5328, -52.3388, 5690, 2183.2,    202.2,  20.0768,  36.8862,2,  36.9029,2,    180.1,2, 20.0389,    186.4,2,     0.89,2,     2.17,2,     0.02,2,     0.09,2,    2.291,2,    1.260,2, -999.000,5, -999.000,5,-999.0000,5,  -999.00,9,   -999.0,9,  -999.00,9,-999.000,9,   2111.3,2,    377.5,2,  20,   2408.5,2,   7.9970,2,   25,  -999.0, -999.00,-999.0000,-999.000,-999.000
     316N151_3,   A20,    57,  1,     28,     28,2,19970802,2029, 17.5328, -52.3388, 5690, 2665.5,    250.6,  18.3713,  36.6047,2,  36.6061,2,    185.1,2, 18.3271,    186.6,2,     1.47,2,     4.93,2,     0.01,2,     0.25,2,    2.352,2,    1.253,2, -999.000,5, -999.000,5,-999.0000,5,  -999.00,9,   -999.0,9,  -999.00,9,-999.000,9,   2110.8,2,    404.3,2,  20,   2389.1,2,   7.9750,2,   25,  -999.0, -999.00,-999.0000,-999.000,-999.000
     316N151_3,   A20,    57,  1,     27,     27,2,19970802,2029, 17.5328, -52.3388, 5690, 3178.6,    302.2,  17.0823,  36.4155,2,  36.4172,2,    168.2,2, 17.0316,    166.1,2,     2.74,2,     9.48,2,     0.00,2,     0.54,2,    2.241,2,    1.175,2, -999.000,5, -999.000,5,-999.0000,5,  -999.00,9,   -999.0,9,  -999.00,9,-999.000,9,   2139.9,2,    484.9,2,  20,   2378.9,2,   7.9060,2,   25,  -999.0, -999.00,-999.0000,-999.000,-999.000
     316N151_3,   A20,    57,  1,     26,     26,2,19970802,2029, 17.5328, -52.3388, 5690, 3669.2,    351.5,  15.6844,  36.1687,2,  36.1722,2,    155.1,2, 15.6287,    152.3,2,     4.01,2,    13.15,2,     0.00,2,     0.76,2,    1.951,2,    1.011,2, -999.000,5, -999.000,5,-999.0000,5,  -999.00,9,   -999.0,9,  -999.00,9,-999.000,9,   2151.5,2,    554.8,2,  20,   2364.6,2,   7.8560,2,   25,  -999.0, -999.00,-999.0000,-999.000,-999.000
     316N151_3,   A20,    57,  1,     25,     25,2,19970802,2029, 17.5328, -52.3388, 5690, 4660.2,    451.2,  13.2388,  35.7411,2,  35.7425,2,    123.2,2, 13.1750,    118.8,2,     7.32,2,    20.32,2,     0.00,2,     1.20,2,    1.294,2,    0.685,2, -999.000,5, -999.000,5,-999.0000,5,  -999.00,9,   -999.0,9,  -999.00,9,-999.000,9,   2180.9,2,    724.4,2,  20,   2340.9,2,   7.7520,2,   25,  -999.0, -999.00,-999.0000,-999.000,-999.000
     316N151_3,   A20,    57,  1,     24,     24,2,19970802,2029, 17.5328, -52.3388, 5690, 5654.2,    551.0,  11.0153,  35.4032,2,  35.4057,2,    109.2,2, 10.9459,    110.7,2,    11.59,2,    25.48,2,     0.00,2,     1.54,2,    0.638,6,    0.336,6, -999.000,5, -999.000,5,-999.0000,5,  -999.00,9,   -999.0,9,  -999.00,9,-999.000,9,   2195.0,2,    859.7,2,  20,   2327.4,2,   7.6820,2,   25,  -999.0, -999.00,-999.0000,-999.000,-999.000
     316N151_3,   A20,    57,  1,     23,     23,2,19970802,2029, 17.5328, -52.3388, 5690, 6641.6,    650.1,   9.2075,  35.1474,2,  35.1524,2,    112.8,2,  9.1339,    110.0,2,    15.86,2,    28.98,2,     0.00,2,     1.81,2, -999.000,9,    0.198,4, -999.000,5, -999.000,5,-999.0000,5,  -999.00,9,   -999.0,9,  -999.00,9,-999.000,9,   2206.9,2,    976.8,2,  20,   2317.0,2,   7.6370,2,   25,  -999.0, -999.00,-999.0000,-999.000,-999.000
     316N151_3,   A20,    57,  1,     22,     22,2,19970802,2029, 17.5328, -52.3388, 5690, 8143.6,    800.4,   6.9260,  34.8602,2,  34.8597,2,    120.8,2,  6.8484,    119.5,2,    22.27,2,    32.40,2,     0.00,2,     2.09,2,    0.075,2,    0.043,2, -999.000,5, -999.000,5,-999.0000,5,  -999.00,9,   -999.0,9,  -999.00,9,-999.000,9,   2215.4,2,   -999.0,9,-999,   2310.8,2,   7.5880,2,   25,  -999.0, -999.00,-999.0000,-999.000,-999.000
     316N151_3,   A20,    57,  1,     21,     21,2,19970802,2029, 17.5328, -52.3388, 5690, 9651.7,    951.0,   5.9904,  34.8035,2,  34.8041,2,    134.1,2,  5.9039,    151.5,3,    24.80,2,    32.54,2,     0.00,2,     2.13,2,    0.024,2,    0.017,2, -999.000,5, -999.000,5,-999.0000,5,  -999.00,9,   -999.0,9,  -999.00,9,-999.000,9,   2217.5,2,   -999.0,9,-999,   2313.6,2,   7.5900,2,   25,  -999.0, -999.00,-999.0000,-999.000,-999.000
     316N151_3,   A20,    57,  1,     20,     20,2,19970802,2029, 17.5328, -52.3388, 5690,11154.4,   1101.2,   5.5528,  34.8691,2,  34.8700,2,    151.7,2,  5.4550,    151.3,2,    23.94,2,    30.18,2,     0.00,2,     1.99,2,    0.017,2,    0.014,2, -999.000,5, -999.000,5,-999.0000,5,  -999.00,9,   -999.0,9,  -999.00,9,-999.000,9,   2209.2,2,   -999.0,9,-999,   2312.2,2,   7.6160,2,   25,  -999.0, -999.00,-999.0000,-999.000,-999.000
     316N151_3,   A20,    57,  1,     19,     19,2,19970802,2029, 17.5328, -52.3388, 5690,12651.3,   1250.9,   5.2455,  34.9331,2,  34.9352,2,    178.4,2,  5.1360,    177.5,2,    21.81,2,    26.86,2,     0.00,2,     1.78,2,    0.048,2,    0.028,2, -999.000,5, -999.000,5,-999.0000,5,  -999.00,9,   -999.0,9,  -999.00,9,-999.000,9,   2198.8,2,   -999.0,9,-999,   2316.3,2,   7.6600,2,   25,  -999.0, -999.00,-999.0000,-999.000,-999.000
     316N151_3,   A20,    57,  1,     18,     18,2,19970802,2029, 17.5328, -52.3388, 5690,14131.4,   1398.7,   4.9119,  34.9751,2,  34.9772,2,    201.3,2,  4.7913,    199.5,2,    19.98,2,    24.38,2,     0.00,2,     1.61,2,    0.057,2,    0.037,2, -999.000,5, -999.000,5,-999.0000,5,  -999.00,9,   -999.0,9,  -999.00,9,-999.000,9,   2188.4,2,   -999.0,9,-999,   2318.2,2,   7.6870,2,   25,  -999.0, -999.00,-999.0000,-999.000,-999.000
     316N151_3,   A20,    57,  1,     17,     17,2,19970802,2029, 17.5328, -52.3388, 5690,15639.5,   1549.6,   4.5644,  34.9997,2,  35.0007,2,    226.5,2,  4.4330,    224.6,2,    17.65,2,    21.71,2,     0.00,2,     1.43,2,    0.112,2,    0.067,2, -999.000,5, -999.000,5,-999.0000,5,  -999.00,9,   -999.0,9,  -999.00,9,-999.000,9,   2175.8,2,   -999.0,9,-999,   2315.9,2,   7.7200,2,   25,  -999.0, -999.00,-999.0000,-999.000,-999.000
     316N151_3,   A20,    57,  1,     16,     16,2,19970802,2029, 17.5328, -52.3388, 5690,17143.6,   1699.8,   4.3191,  35.0039,2,  35.0058,2,    240.0,2,  4.1763,    240.2,2,    16.31,2,    20.19,2,     0.00,2,     1.33,2,    0.158,2,    0.090,2, -999.000,5, -999.000,5,-999.0000,5,  -999.00,9,   -999.0,9,  -999.00,9,-999.000,9,   2165.8,2,   -999.0,9,-999,   2316.7,2,   7.7320,2,   25,  -999.0, -999.00,-999.0000,-999.000,-999.000
     316N151_3,   A20,    57,  1,     15,     15,2,19970802,2029, 17.5328, -52.3388, 5690,19154.6,   1901.0,   3.9327,  34.9963,2,  34.9964,2,    250.5,2,  3.7756,    247.4,2,    17.87,2,    19.80,2,     0.00,2,     1.31,2,    0.065,2,    0.038,2, -999.000,5, -999.000,5,-999.0000,5,  -999.00,9,   -999.0,9,  -999.00,9,-999.000,9,   2165.9,2,   -999.0,9,-999,   2316.5,2,   7.7440,2,   25,  -999.0, -999.00,-999.0000,-999.000,-999.000
     316N151_3,   A20,    57,  1,     14,     14,2,19970802,2029, 17.5328, -52.3388, 5690,22146.3,   2200.0,   3.4184,  34.9722,2,  34.9733,2,    252.2,2,  3.2404,    250.4,2,    22.92,2,    19.98,2,     0.00,2,     1.33,2,    0.021,2,    0.016,2, -999.000,5, -999.000,5,-999.0000,5,  -999.00,9,   -999.0,9,  -999.00,9,-999.000,9,   2166.9,2,   -999.0,9,-999,   2324.2,2,   7.7450,2,   25,  -999.0, -999.00,-999.0000,-999.000,-999.000
     316N151_3,   A20,    57,  1,     13,     13,2,19970802,2029, 17.5328, -52.3388, 5690,25161.6,   2501.4,   3.0350,  34.9490,2,  34.9503,2,    252.7,2,  2.8342,    251.8,2,    28.16,2,    20.34,2,     0.00,2,     1.36,2,    0.015,2,    0.010,2, -999.000,5, -999.000,5,-999.0000,5,  -999.00,9,   -999.0,9,  -999.00,9,-999.000,9,   2172.1,2,   -999.0,9,-999,   2326.8,2,   7.7460,2,   25,  -999.0, -999.00,-999.0000,-999.000,-999.000
     316N151_3,   A20,    57,  1,     12,     12,2,19970802,2029, 17.5328, -52.3388, 5690,28170.5,   2802.1,   2.8577,  34.9379,2,  34.9394,2,    256.1,2,  2.6304,    255.0,2,    29.33,2,    20.12,2,     0.00,2,     1.35,2,    0.033,2,    0.024,2, -999.000,5, -999.000,5,-999.0000,5,  -999.00,9,   -999.0,9,  -999.00,9,-999.000,9,   2171.8,2,   -999.0,9,-999,   2329.8,2,   7.7470,2,   25,  -999.0, -999.00,-999.0000,-999.000,-999.000
     316N151_3,   A20,    57,  1,     11,     11,2,19970802,2029, 17.5328, -52.3388, 5690,31164.3,   3101.3,   2.7312,  34.9276,2,  34.9308,2,    256.6,2,  2.4758,    255.6,2,    31.18,2,    20.21,2,     0.00,2,     1.35,2,    0.036,2,    0.021,2, -999.000,5, -999.000,5,-999.0000,5,  -999.00,9,   -999.0,9,  -999.00,9,-999.000,9,   2174.4,2,   -999.0,9,-999,   2328.7,2,   7.7470,2,   25,  -999.0, -999.00,-999.0000,-999.000,-999.000
     316N151_3,   A20,    57,  1,     10,     10,2,19970802,2029, 17.5328, -52.3388, 5690,34141.1,   3398.8,   2.5734,  34.9145,2,  34.9153,2,    254.8,2,  2.2901,    253.9,2,    36.03,2,    20.78,2,     0.00,2,     1.40,2,    0.023,2,    0.017,2, -999.000,5, -999.000,5,-999.0000,5,  -999.00,9,   -999.0,9,  -999.00,9,-999.000,9,   2182.2,2,   -999.0,9,-999,   2333.2,2,   7.7420,2,   25,  -999.0, -999.00,-999.0000,-999.000,-999.000
     316N151_3,   A20,    57,  1,      9,      9,2,19970802,2029, 17.5328, -52.3388, 5690,37148.8,   3699.4,   2.4148,  34.8999,2,  34.9011,2,    252.9,2,  2.1028,    253.3,2,    40.50,2,    21.31,2,     0.00,2,     1.43,2,    0.015,2,    0.011,2, -999.000,5, -999.000,5,-999.0000,5,  -999.00,9,   -999.0,9,  -999.00,9,-999.000,9,   2184.2,2,   -999.0,9,-999,   2336.0,2,   7.7380,2,   25,  -999.0, -999.00,-999.0000,-999.000,-999.000
     316N151_3,   A20,    57,  1,      8,      8,2,19970802,2029, 17.5328, -52.3388, 5690,39679.2,   3952.4,   2.2894,  34.8885,2,  34.8910,2,    254.4,2,  1.9524,    254.4,2,    42.06,2,    21.32,2,     0.00,2,     1.44,2,    0.029,2,    0.022,2, -999.000,5, -999.000,5,-999.0000,5,  -999.00,9,   -999.0,9,  -999.00,9,-999.000,9,   2184.4,2,   -999.0,9,-999,   2336.4,2,   7.7360,2,   25,  -999.0, -999.00,-999.0000,-999.000,-999.000
     316N151_3,   A20,    57,  1,      7,      7,2,19970802,2029, 17.5328, -52.3388, 5690,42175.4,   4201.9,   2.1666,  34.8739,2,  34.8726,2,    252.7,2,  1.8047,    251.9,2,    47.79,2,    22.06,2,     0.00,2,     1.49,2,    0.018,2,    0.016,2, -999.000,5, -999.000,5,-999.0000,5,  -999.00,9,   -999.0,9,  -999.00,9,-999.000,9,   2191.0,2,   -999.0,9,-999,   2340.6,2,   7.7340,2,   25,  -999.0, -999.00,-999.0000,-999.000,-999.000
     316N151_3,   A20,    57,  1,      6,      6,2,19970802,2029, 17.5328, -52.3388, 5690,44663.7,   4450.7,   2.0928,  34.8654,2,  34.8654,2,    252.9,2,  1.7041,    252.9,2,    49.35,2,    22.11,2,     0.00,2,     1.50,2,    0.041,2,    0.030,2, -999.000,5, -999.000,5,-999.0000,5,  -999.00,9,   -999.0,9,  -999.00,9,-999.000,9,   2192.6,2,   -999.0,9,-999,   2344.9,2,   7.7280,2,   25,  -999.0, -999.00,-999.0000,-999.000,-999.000
     316N151_3,   A20,    57,  1,      5,      5,2,19970802,2029, 17.5328, -52.3388, 5690,47167.9,   4701.0,   2.0365,  34.8571,2,  34.8573,2,    252.0,2,  1.6197,    251.1,2,    52.55,2,    22.55,2,     0.00,2,     1.54,2,    0.037,2,    0.032,2, -999.000,5, -999.000,5,-999.0000,5,  -999.00,9,   -999.0,9,  -999.00,9,-999.000,9,   2196.1,2,   -999.0,9,-999,   2342.0,2,   7.7250,2,   25,  -999.0, -999.00,-999.0000,-999.000,-999.000
     316N151_3,   A20,    57,  1,      4,      4,2,19970802,2029, 17.5328, -52.3388, 5690,50162.5,   5000.3,   2.0037,  34.8499,2,  34.8507,2,    251.8,2,  1.5512,    249.5,2,    55.57,2,    22.95,2,     0.00,2,     1.57,2, -999.000,9, -999.000,9, -999.000,5, -999.000,5,-999.0000,5,  -999.00,9,   -999.0,9,  -999.00,9,-999.000,9,   2202.4,2,   -999.0,9,-999,   2346.3,2,   7.7200,2,   25,  -999.0, -999.00,-999.0000,-999.000,-999.000
     316N151_3,   A20,    57,  1,      3,      3,2,19970802,2029, 17.5328, -52.3388, 5690,53176.9,   5301.5,   2.0082,  34.8461,2,  34.8473,2,    251.7,2,  1.5176,    248.9,2,    57.04,2,    23.17,2,     0.00,2,     1.58,2,    0.041,2,    0.032,2, -999.000,5, -999.000,5,-999.0000,5,  -999.00,9,   -999.0,9,  -999.00,9,-999.000,9,   2200.6,2,   -999.0,9,-999,   2347.5,2,   7.7170,2,   25,  -999.0, -999.00,-999.0000,-999.000,-999.000
     316N151_3,   A20,    57,  1,      2,      2,2,19970802,2029, 17.5328, -52.3388, 5690,56184.3,   5602.2,   2.0322,  34.8444,2,  34.8447,2,    252.4,2,  1.5016,    248.9,2,    57.82,2,    23.26,2,     0.00,2,     1.59,2,    0.043,2,    0.030,2, -999.000,5, -999.000,5,-999.0000,5,  -999.00,9,   -999.0,9,  -999.00,9,-999.000,9,   2202.6,2,   -999.0,9,-999,   2345.4,6,   7.7180,2,   25,  -999.0, -999.00,-999.0000,-999.000,-999.000
     316N151_3,   A20,    57,  1,      1,      1,2,19970802,2029, 17.5328, -52.3388, 5690,57858.6,   5769.9,   2.0516,  34.8438,2,  34.8449,2,    249.8,2,  1.4980,    249.1,2,    57.97,6,    23.22,6,     0.00,6,     1.58,6,    0.040,6,    0.033,6, -999.000,5, -999.000,5,-999.0000,5,  -999.00,9,   -999.0,9,  -999.00,9,-999.000,9,   2203.8,2,   -999.0,9,-999,   2348.1,2,   7.7170,2,   25,  -999.0, -999.00,-999.0000,-999.000,-999.000