BOTTLE,20220812CCHSIOAMB
EXPOCODE,SECT_ID,STNNBR,CASTNO,SAMPNO,BTLNBR,BTLNBR_FLAG_W,DATE,TIME,LATITUDE,LONGITUDE,DEPTH,CTDRAW,CTDPRS,CTDTMP,CTDSAL,CTDSAL_FLAG_W,SALNTY,SALNTY_FLAG_W,CTDOXY,CTDOXY_FLAG_W,THETA,OXYGEN,OXYGEN_FLAG_W,SILCAT,SILCAT_FLAG_W,NITRAT,NITRAT_FLAG_W,NITRIT,NITRIT_FLAG_W,PHSPHT,PHSPHT_FLAG_W,CFC-11,CFC-11_FLAG_W,CFC-12,CFC-12_FLAG_W,CFC113,CFC113_FLAG_W,TRITUM,TRITUM_FLAG_W,HELIUM,HELIUM_FLAG_W,DELHE3,DELHE3_FLAG_W,DELC14,DELC14_FLAG_W,DELC13,DELC13_FLAG_W,NEON,NEON_FLAG_W,TCARBN,TCARBN_FLAG_W,PCO2,PCO2_FLAG_W,PCO2_TMP,ALKALI,ALKALI_FLAG_W,PH,PH_FLAG_W,PH_TMP,C14ERR,DELHER,HELIER,NEONER,TRITER
,,,,,,,,,,,,,DBAR,ITS-90,PSS-78,,PSS-78,,UMOL/KG,,ITS-90,UMOL/KG,,UMOL/KG,,UMOL/KG,,UMOL/KG,,UMOL/KG,,PMOL/KG,,PMOL/KG,,PMOL/KG,,TU,,NMOL/KG,,PERCNT,,/MILLE,,/MILLE,,NMOL/KG,,UMOL/KG,,UATM,,DEG C,UMOL/KG,,,,DEG C,/MILLE,PERCNT,NMOL/KG,NMOL/KG,TU
     316N151_3,   A20,    62,  1,     33,     33,2,19970804,0602, 14.2658, -52.3372, 5187,  288.8,     11.8,  27.7604,  35.2133,2,  35.2202,2,    209.0,2, 27.7576,    208.8,2,     1.68,2,     0.03,2,     0.00,2,     0.01,2,    1.722,2,    1.029,2, -999.000,5,    0.730,2,   1.7267,2,    -2.11,2,   -999.0,9,  -999.00,9,   6.583,2,   1959.8,2,   -999.0,9,-999,   2311.7,2,   8.1230,2,   25,  -999.0,    0.15,  0.0086,   0.033,   0.011
     316N151_3,   A20,    62,  1,     32,     32,2,19970804,0602, 14.2658, -52.3372, 5187,  686.7,     51.9,  27.3924,  36.3917,2,  36.3912,2,    217.5,2, 27.3803,    207.6,2,     0.62,2,     0.03,2,     0.00,2,     0.01,2,    1.747,2,    1.049,2, -999.000,5, -999.000,5,-999.0000,5,  -999.00,9,   -999.0,9,  -999.00,9,-999.000,9,   -999.0,9,   -999.0,9,-999,   -999.0,9,-999.0000,9, -999,  -999.0, -999.00,-999.0000,-999.000,-999.000
     316N151_3,   A20,    62,  1,     31,     31,2,19970804,0602, 14.2658, -52.3372, 5187, 1236.6,    107.2,  24.7937,  37.0262,2,  37.0211,2,    207.7,2, 24.7705,    198.4,2,     0.25,2,     0.08,2,     0.06,2,     0.02,2,    1.896,2,    1.122,2, -999.000,5,    0.909,2,   1.7196,2,    -1.56,2,   -999.0,9,  -999.00,9,   6.650,2,   -999.0,9,   -999.0,9,-999,   -999.0,9,-999.0000,9, -999,  -999.0,    0.15,  0.0086,   0.033,   0.012
     316N151_3,   A20,    62,  1,     30,     30,2,19970804,0602, 14.2658, -52.3372, 5187, 1696.1,    153.5,  21.8752,  37.1541,2,  37.1584,2,    183.5,2, 21.8447,    177.9,2,     0.36,2,     1.72,2,     0.03,2,     0.09,2,    2.113,2,    1.218,2, -999.000,5,    1.086,2,   1.7284,2,    -0.39,2,   -999.0,9,  -999.00,9,   6.771,2,   -999.0,9,   -999.0,9,-999,   -999.0,9,-999.0000,9, -999,  -999.0,    0.15,  0.0086,   0.034,   0.013
     316N151_3,   A20,    62,  1,     29,     29,2,19970804,0602, 14.2658, -52.3372, 5187, 2156.5,    199.8,  19.3816,  36.8080,2,  36.8113,2,    170.9,2, 19.3451,    168.4,2,     0.97,2,     5.19,2,     0.01,2,     0.27,2,    2.197,2,    1.234,2, -999.000,5,    1.213,2,   1.7518,2,     0.61,2,   -999.0,9,  -999.00,9,   6.902,2,   -999.0,9,   -999.0,9,-999,   -999.0,9,-999.0000,9, -999,  -999.0,    0.15,  0.0088,   0.035,   0.013
     316N151_3,   A20,    62,  1,     28,     28,2,19970804,0602, 14.2658, -52.3372, 5187, 2628.9,    247.3,  17.4242,  36.4668,2,  36.4660,2,    155.5,2, 17.3822,    160.1,2,     2.16,2,     9.18,2,     0.01,2,     0.52,2,    2.086,2,    1.158,2, -999.000,5,    1.215,2,   1.7447,2,     2.24,2,   -999.0,9,  -999.00,9,   6.952,2,   -999.0,9,   -999.0,9,-999,   -999.0,9,-999.0000,9, -999,  -999.0,    0.15,  0.0087,   0.035,   0.013
     316N151_3,   A20,    62,  1,     27,     27,2,19970804,0602, 14.2658, -52.3372, 5187, 3119.9,    296.8,  15.2946,  36.0841,2,  36.1043,2,    142.8,2, 15.2485,    145.1,2,     3.93,2,    13.92,2,     0.00,2,     0.82,2,    1.802,2,    0.973,2, -999.000,5,    1.231,2,   1.7582,2,     4.76,2,   -999.0,9,  -999.00,9,   7.073,2,   -999.0,9,   -999.0,9,-999,   -999.0,9,-999.0000,9, -999,  -999.0,    0.15,  0.0088,   0.035,   0.013
     316N151_3,   A20,    62,  1,     26,     26,2,19970804,0602, 14.2658, -52.3372, 5187, 3641.8,    349.4,  13.5230,  35.7472,2,  35.7496,2,    121.1,2, 13.4731,    124.8,2,     6.78,2,    19.27,2,     0.00,2,     1.17,2,    1.311,2,    0.699,2, -999.000,5,    1.007,2,   1.7666,2,     6.24,2,   -999.0,9,  -999.00,9,   7.300,2,   -999.0,9,   -999.0,9,-999,   -999.0,9,-999.0000,9, -999,  -999.0,    0.15,  0.0088,   0.036,   0.012
     316N151_3,   A20,    62,  1,     25,     25,2,19970804,0602, 14.2658, -52.3372, 5187, 4121.5,    397.8,  11.9620,  35.4880,2,  35.4874,2,    113.9,2, 11.9095,    114.2,2,     9.45,2,    23.33,2,     0.00,2,     1.43,2,    0.900,2,    0.483,2, -999.000,5,    0.787,2,   1.7773,2,     6.83,2,   -999.0,9,  -999.00,9,   7.369,2,   -999.0,9,   -999.0,9,-999,   -999.0,9,-999.0000,9, -999,  -999.0,    0.15,  0.0089,   0.037,   0.013
     316N151_3,   A20,    62,  1,     24,     24,2,19970804,0602, 14.2658, -52.3372, 5187, 5103.5,    496.3,   9.7559,  35.1474,2,  35.1537,2,    110.6,2,  9.6981,    107.8,2,    14.06,2,    28.19,2,     0.00,2,     1.76,2,    0.453,2,    0.248,6, -999.000,5,    0.193,2,   1.7866,2,     5.12,2,   -999.0,9,  -999.00,9,   7.520,2,   -999.0,9,   -999.0,9,-999,   -999.0,9,-999.0000,9, -999,  -999.0,    0.15,  0.0089,   0.038,   0.010
     316N151_3,   A20,    62,  1,     23,     23,2,19970804,0602, 14.2658, -52.3372, 5187, 6411.2,    627.2,   7.4903,  34.8419,2,  34.8436,2,    115.6,2,  7.4276,    117.0,2,    19.84,2,    31.83,2,     0.00,2,     2.06,2,    0.197,2,    0.110,2, -999.000,5,    0.191,2,   1.8081,2,     2.38,2,   -999.0,9,  -999.00,9,   7.662,2,   -999.0,9,   -999.0,9,-999,   -999.0,9,-999.0000,9, -999,  -999.0,    0.15,  0.0090,   0.038,   0.009
     316N151_3,   A20,    62,  1,     22,     22,2,19970804,0602, 14.2658, -52.3372, 5187, 7497.0,    735.9,   6.3547,  34.7106,2,  34.7096,2,    123.1,2,  6.2869,    125.3,2,    23.87,2,    33.42,2,     0.00,2,     2.20,2,    0.091,2,    0.058,2, -999.000,5,    0.120,2,   1.8123,2,     1.22,2,   -999.0,9,  -999.00,9,   7.720,2,   -999.0,9,   -999.0,9,-999,   -999.0,9,-999.0000,9, -999,  -999.0,    0.15,  0.0091,   0.039,   0.011
     316N151_3,   A20,    62,  1,     21,     21,2,19970804,0602, 14.2658, -52.3372, 5187, 8822.7,    868.4,   5.8312,  34.7132,2,  34.7114,2,    131.3,2,  5.7539,    131.4,2,    25.55,2,    33.06,2,     0.00,2,     2.21,2,    0.040,2,    0.029,2, -999.000,5,    0.047,2,-999.0000,5,  -999.00,9,   -999.0,9,  -999.00,9,-999.000,9,   -999.0,9,   -999.0,9,-999,   -999.0,9,-999.0000,9, -999,  -999.0, -999.00,-999.0000,-999.000,   0.009
     316N151_3,   A20,    62,  1,     20,     20,2,19970804,0602, 14.2658, -52.3372, 5187,10103.4,    996.3,   5.5522,  34.7919,2,  34.7903,2,    140.8,2,  5.4645,    140.0,2,    25.27,2,    31.55,2,     0.00,2,     2.12,2, -999.000,9, -999.000,9, -999.000,5,    0.034,2,   1.8312,2,     1.15,2,   -999.0,9,  -999.00,9,   7.800,2,   -999.0,9,   -999.0,9,-999,   -999.0,9,-999.0000,9, -999,  -999.0,    0.15,  0.0092,   0.039,   0.009
     316N151_3,   A20,    62,  1,     19,     19,2,19970804,0602, 14.2658, -52.3372, 5187,11624.9,   1148.3,   5.2764,  34.8794,2,  34.8804,2,    166.7,2,  5.1765,    164.4,2,    23.33,2,    28.27,2,     0.00,2,     1.90,2,    0.037,2,    0.022,2, -999.000,5,    0.044,2,   1.8288,2,     0.89,2,   -999.0,9,  -999.00,9,   7.815,2,   -999.0,9,   -999.0,9,-999,   -999.0,9,-999.0000,9, -999,  -999.0,    0.15,  0.0091,   0.039,   0.009
     316N151_3,   A20,    62,  1,     18,     18,2,19970804,0602, 14.2658, -52.3372, 5187,13648.2,   1350.6,   4.9434,  34.9733,2,  34.9755,2,    202.5,2,  4.8270,    200.6,2,    19.34,2,    23.78,2,     0.00,2,     1.60,2,    0.087,2,    0.052,2, -999.000,5,    0.122,2,   1.7765,2,   -77.18,4,   -999.0,9,  -999.00,9,   7.764,2,   -999.0,9,   -999.0,9,-999,   -999.0,9,-999.0000,9, -999,  -999.0,    0.15,  0.0089,   0.039,   0.009
     316N151_3,   A20,    62,  1,     17,     17,2,19970804,0602, 14.2658, -52.3372, 5187,15111.0,   1496.7,   4.5993,  34.9929,2,  34.9937,2,    225.5,2,  4.4726,    220.8,2,    17.80,2,    21.74,2,     0.00,2,     1.46,2,    0.115,2,    0.061,2, -999.000,5,    0.142,2,   1.8336,2,     1.71,2,   -999.0,9,  -999.00,9,   7.729,2,   -999.0,9,   -999.0,9,-999,   -999.0,9,-999.0000,9, -999,  -999.0,    0.15,  0.0092,   0.039,   0.009
     316N151_3,   A20,    62,  1,     16,     16,2,19970804,0602, 14.2658, -52.3372, 5187,16619.7,   1647.7,   4.2866,  34.9988,2,  34.9993,2,    238.7,2,  4.1491,    238.1,2,    16.54,2,    20.13,2,     0.00,2,     1.35,2,    0.144,2,    0.083,2, -999.000,5,    0.153,2,   1.8448,2,     2.25,2,   -999.0,9,  -999.00,9,   7.871,2,   -999.0,9,   -999.0,9,-999,   -999.0,9,-999.0000,9, -999,  -999.0,    0.15,  0.0092,   0.039,   0.011
     316N151_3,   A20,    62,  1,     15,     15,2,19970804,0602, 14.2658, -52.3372, 5187,18023.3,   1787.8,   4.0134,  34.9938,2,  34.9936,2,    249.7,2,  3.8662,    246.9,2,    16.46,2,    19.49,2,     0.00,2,     1.31,2,    0.131,2,    0.073,2, -999.000,5,   -0.011,2,   1.8405,2,     2.05,2,   -999.0,9,  -999.00,9,   7.894,2,   -999.0,9,   -999.0,9,-999,   -999.0,9,-999.0000,9, -999,  -999.0,    0.15,  0.0092,   0.039,   0.010
     316N151_3,   A20,    62,  1,     14,     14,2,19970804,0602, 14.2658, -52.3372, 5187,20101.1,   1995.6,   3.6596,  34.9843,2,  34.9847,2,    255.8,2,  3.4976,    256.2,2,    17.56,2,    18.80,2,     0.00,2,     1.26,2,    0.092,2,    0.055,2, -999.000,5,    0.118,2,   1.8454,2,     1.75,2,   -999.0,9,  -999.00,9,   7.947,2,   -999.0,9,   -999.0,9,-999,   -999.0,9,-999.0000,9, -999,  -999.0,    0.15,  0.0092,   0.040,   0.011
     316N151_3,   A20,    62,  1,     13,     13,2,19970804,0602, 14.2658, -52.3372, 5187,22637.3,   2249.1,   3.3391,  34.9687,2,  34.9688,2,    258.2,2,  3.1576,    257.5,2,    20.50,2,    18.81,2,     0.00,2,     1.28,2,    0.068,2,    0.039,2, -999.000,5, -999.000,5,-999.0000,5,  -999.00,9,   -999.0,9,  -999.00,9,-999.000,9,   -999.0,9,   -999.0,9,-999,   -999.0,9,-999.0000,9, -999,  -999.0, -999.00,-999.0000,-999.000,-999.000
     316N151_3,   A20,    62,  1,     12,     12,2,19970804,0602, 14.2658, -52.3372, 5187,25087.3,   2493.9,   3.0495,  34.9514,2,  34.9534,2,    256.9,2,  2.8491,    258.3,2,    23.55,2,    18.97,2,     0.00,2,     1.29,2,    0.064,2,    0.037,2, -999.000,5, -999.000,5,   1.8579,2,     1.87,2,   -999.0,9,  -999.00,9,   7.997,2,   -999.0,9,   -999.0,9,-999,   -999.0,9,-999.0000,9, -999,  -999.0,    0.15,  0.0093,   0.040,-999.000
     316N151_3,   A20,    62,  1,     11,     11,2,19970804,0602, 14.2658, -52.3372, 5187,27675.6,   2752.7,   2.8813,  34.9403,2,  34.9418,2,    256.9,2,  2.6585,    257.8,2,    26.68,2,    19.30,2,     0.00,2,     1.31,2,    0.074,2,    0.040,2, -999.000,5, -999.000,5,-999.0000,5,  -999.00,9,   -999.0,9,  -999.00,9,-999.000,9,   -999.0,9,   -999.0,9,-999,   -999.0,9,-999.0000,9, -999,  -999.0, -999.00,-999.0000,-999.000,-999.000
     316N151_3,   A20,    62,  1,     10,     10,2,19970804,0602, 14.2658, -52.3372, 5187,30117.8,   2996.7,   2.7547,  34.9315,2,  34.9302,2,    257.6,2,  2.5096,    257.1,2,    29.44,2,    19.59,2,     0.00,2,     1.33,2,    0.057,2,    0.034,2, -999.000,5,    0.071,2,   1.8685,2,     2.57,2,   -999.0,9,  -999.00,9,   8.014,2,   -999.0,9,   -999.0,9,-999,   -999.0,9,-999.0000,9, -999,  -999.0,    0.15,  0.0093,   0.040,   0.012
     316N151_3,   A20,    62,  1,      9,      9,2,19970804,0602, 14.2658, -52.3372, 5187,32664.0,   3251.3,   2.6272,  34.9211,2,  34.9208,2,    256.3,2,  2.3583,    255.9,2,    32.68,2,    19.92,2,     0.00,2,     1.36,2,    0.054,2,    0.028,2, -999.000,5, -999.000,5,-999.0000,5,  -999.00,9,   -999.0,9,  -999.00,9,-999.000,9,   -999.0,9,   -999.0,9,-999,   -999.0,9,-999.0000,9, -999,  -999.0, -999.00,-999.0000,-999.000,-999.000
     316N151_3,   A20,    62,  1,      8,      8,2,19970804,0602, 14.2658, -52.3372, 5187,35184.4,   3503.3,   2.5051,  34.9110,2,  34.9121,2,    257.1,2,  2.2122,    257.3,2,    34.56,2,    20.04,2,     0.00,2,     1.37,2,    0.057,6,    0.034,6, -999.000,5,    0.085,2,   1.8679,2,     2.06,2,   -999.0,9,  -999.00,9,   8.003,2,   -999.0,9,   -999.0,9,-999,   -999.0,9,-999.0000,9, -999,  -999.0,    0.15,  0.0093,   0.040,   0.011
     316N151_3,   A20,    62,  1,      7,      7,2,19970804,0602, 14.2658, -52.3372, 5187,37667.0,   3751.3,   2.4009,  34.9047,2,  34.9044,2,    261.0,2,  2.0834,    266.3,3,    33.10,2,    19.45,2,     0.00,2,     1.33,2,    0.095,2,    0.053,2, -999.000,5, -999.000,5,-999.0000,5,  -999.00,9,   -999.0,9,  -999.00,9,-999.000,9,   -999.0,9,   -999.0,9,-999,   -999.0,9,-999.0000,9, -999,  -999.0, -999.00,-999.0000,-999.000,-999.000
     316N151_3,   A20,    62,  1,      6,      6,2,19970804,0602, 14.2658, -52.3372, 5187,40185.4,   4003.1,   2.3221,  34.8985,2,  34.8974,2,    262.5,2,  1.9785,    262.2,2,    33.41,2,    19.40,2,     0.00,2,     1.33,2,    0.124,2,    0.069,2, -999.000,5,    0.140,2,   1.8720,2,     2.76,2,   -999.0,9,  -999.00,9,   8.047,2,   -999.0,9,   -999.0,9,-999,   -999.0,9,-999.0000,9, -999,  -999.0,    0.15,  0.0094,   0.040,   0.011
     316N151_3,   A20,    62,  1,      5,      5,2,19970804,0602, 14.2658, -52.3372, 5187,42667.3,   4251.1,   2.2806,  34.8941,2,  34.8924,2,    262.5,2,  1.9095,    263.3,2,    34.51,2,    19.41,2,     0.00,2,     1.34,2,    0.125,2,    0.070,2, -999.000,5, -999.000,5,-999.0000,5,  -999.00,9,   -999.0,9,  -999.00,9,-999.000,9,   -999.0,9,   -999.0,9,-999,   -999.0,9,-999.0000,9, -999,  -999.0, -999.00,-999.0000,-999.000,-999.000
     316N151_3,   A20,    62,  1,      4,      4,2,19970804,0602, 14.2658, -52.3372, 5187,45150.1,   4499.2,   2.2219,  34.8847,2,  34.8843,2,    260.4,2,  1.8233,    263.1,2,    38.52,2,    19.91,2,     0.00,2,     1.38,2,    0.116,2,    0.065,2, -999.000,5, -999.000,5,-999.0000,5,  -999.00,9,   -999.0,9,  -999.00,9,-999.000,9,   -999.0,9,   -999.0,9,-999,   -999.0,9,-999.0000,9, -999,  -999.0, -999.00,-999.0000,-999.000,-999.000
     316N151_3,   A20,    62,  1,      3,      3,2,19970804,0602, 14.2658, -52.3372, 5187,47671.9,   4751.5,   2.1052,  34.8674,2,  34.8663,2,    256.1,2,  1.6799,    255.2,2,    46.94,2,    21.17,2,     0.00,2,     1.47,2,    0.081,2,    0.052,2, -999.000,5, -999.000,5,-999.0000,5,  -999.00,9,   -999.0,9,  -999.00,9,-999.000,9,   -999.0,9,   -999.0,9,-999,   -999.0,9,-999.0000,9, -999,  -999.0, -999.00,-999.0000,-999.000,-999.000
     316N151_3,   A20,    62,  1,      2,      2,2,19970804,0602, 14.2658, -52.3372, 5187,50185.4,   5002.8,   1.8606,  34.8349,2,  34.8349,2,    247.4,2,  1.4128,    245.7,2,    61.89,2,    23.46,2,     0.00,2,     1.63,2,    0.053,2,    0.031,2, -999.000,5,    0.063,2,   1.8914,2,     3.31,2,   -999.0,9,  -999.00,9,   8.100,2,   -999.0,9,   -999.0,9,-999,   -999.0,9,-999.0000,9, -999,  -999.0,    0.15,  0.0095,   0.041,   0.010
     316N151_3,   A20,    62,  1,      1,      1,2,19970804,0602, 14.2658, -52.3372, 5187,52632.4,   5246.7,   1.7737,  34.8210,2,  34.8199,2,    243.3,2,  1.2985,    242.4,2,    68.02,6,    24.43,6,     0.00,6,     1.69,6,    0.049,2,    0.034,2, -999.000,5, -999.000,5,-999.0000,5,  -999.00,9,   -999.0,9,  -999.00,9,-999.000,9,   -999.0,9,   -999.0,9,-999,   -999.0,9,-999.0000,9, -999,  -999.0, -999.00,-999.0000,-999.000,-999.000