BOTTLE,20220812CCHSIOAMB
EXPOCODE,SECT_ID,STNNBR,CASTNO,SAMPNO,BTLNBR,BTLNBR_FLAG_W,DATE,TIME,LATITUDE,LONGITUDE,DEPTH,CTDRAW,CTDPRS,CTDTMP,CTDSAL,CTDSAL_FLAG_W,SALNTY,SALNTY_FLAG_W,CTDOXY,CTDOXY_FLAG_W,THETA,OXYGEN,OXYGEN_FLAG_W,SILCAT,SILCAT_FLAG_W,NITRAT,NITRAT_FLAG_W,NITRIT,NITRIT_FLAG_W,PHSPHT,PHSPHT_FLAG_W,CFC-11,CFC-11_FLAG_W,CFC-12,CFC-12_FLAG_W,CFC113,CFC113_FLAG_W,TRITUM,TRITUM_FLAG_W,HELIUM,HELIUM_FLAG_W,DELHE3,DELHE3_FLAG_W,DELC14,DELC14_FLAG_W,DELC13,DELC13_FLAG_W,NEON,NEON_FLAG_W,TCARBN,TCARBN_FLAG_W,PCO2,PCO2_FLAG_W,PCO2_TMP,ALKALI,ALKALI_FLAG_W,PH,PH_FLAG_W,PH_TMP,C14ERR,DELHER,HELIER,NEONER,TRITER
,,,,,,,,,,,,,DBAR,ITS-90,PSS-78,,PSS-78,,UMOL/KG,,ITS-90,UMOL/KG,,UMOL/KG,,UMOL/KG,,UMOL/KG,,UMOL/KG,,PMOL/KG,,PMOL/KG,,PMOL/KG,,TU,,NMOL/KG,,PERCNT,,/MILLE,,/MILLE,,NMOL/KG,,UMOL/KG,,UATM,,DEG C,UMOL/KG,,,,DEG C,/MILLE,PERCNT,NMOL/KG,NMOL/KG,TU
     316N151_3,   A20,    43,  1,     33,     33,2,19970729,1843, 26.8620, -52.3290, 5405,  241.3,      9.5,  28.0661,  37.1279,2,  37.1223,2,    212.0,2, 28.0638,    215.8,2,     0.53,2,     0.03,2,     0.00,2,     0.01,2,    1.729,2,    1.033,2, -999.000,5, -999.000,5,-999.0000,5,  -999.00,9,   -999.0,9,  -999.00,9,-999.000,9,   2063.4,2,    292.5,2,  20,   2422.9,2,   8.0970,2,   25,  -999.0, -999.00,-999.0000,-999.000,-999.000
     316N151_3,   A20,    43,  1,     32,     32,2,19970729,1843, 26.8620, -52.3290, 5405,  624.2,     47.9,  22.8138,  37.0301,2,  37.0286,2,    232.8,2, 22.8040,    235.0,2,     0.43,2,     0.06,2,     0.00,2,     0.01,2,    2.142,2,    1.241,2, -999.000,5, -999.000,5,-999.0000,5,  -999.00,9,   -999.0,9,  -999.00,9,-999.000,9,   -999.0,9,   -999.0,9,-999,   -999.0,9,-999.0000,9, -999,  -999.0, -999.00,-999.0000,-999.000,-999.000
     316N151_3,   A20,    43,  1,     31,     31,2,19970729,1843, 26.8620, -52.3290, 5405, 1147.0,    100.0,  20.1064,  36.7809,2,  36.7805,2,    215.5,2, 20.0877,    222.7,2,     0.43,2,     0.06,2,     0.00,2,     0.01,2,    2.310,2,    1.313,2, -999.000,5, -999.000,5,-999.0000,5,  -999.00,9,   -999.0,9,  -999.00,9,-999.000,9,   -999.0,9,   -999.0,9,-999,   -999.0,9,-999.0000,9, -999,  -999.0, -999.00,-999.0000,-999.000,-999.000
     316N151_3,   A20,    43,  1,     30,     30,2,19970729,1843, 26.8620, -52.3290, 5405, 1654.6,    150.4,  19.1141,  36.6771,2,  36.6779,2,    205.9,2, 19.0869,    217.0,2,     0.43,2,     0.80,2,     0.03,2,     0.03,2,    2.389,2,    1.361,2, -999.000,5, -999.000,5,-999.0000,5,  -999.00,9,   -999.0,9,  -999.00,9,-999.000,9,   -999.0,9,   -999.0,9,-999,   -999.0,9,-999.0000,9, -999,  -999.0, -999.00,-999.0000,-999.000,-999.000
     316N151_3,   A20,    43,  1,     29,     29,2,19970729,1843, 26.8620, -52.3290, 5405, 2159.0,    200.4,  18.4250,  36.5745,2,  36.5764,2,    192.2,2, 18.3897,    201.6,2,     0.91,2,     3.32,2,     0.01,2,     0.14,2,    2.324,2,    1.347,2, -999.000,5, -999.000,5,-999.0000,5,  -999.00,9,   -999.0,9,  -999.00,9,-999.000,9,   -999.0,9,   -999.0,9,-999,   -999.0,9,-999.0000,9, -999,  -999.0, -999.00,-999.0000,-999.000,-999.000
     316N151_3,   A20,    43,  1,     28,     28,2,19970729,1843, 26.8620, -52.3290, 5405, 2654.6,    249.6,  18.1631,  36.5400,2,  36.5406,2,    200.8,2, 18.1195,    204.2,2,     1.10,2,     3.82,2,     0.01,2,     0.18,2,    2.382,2,    1.333,2, -999.000,5, -999.000,5,-999.0000,5,  -999.00,9,   -999.0,9,  -999.00,9,-999.000,9,   -999.0,9,   -999.0,9,-999,   -999.0,9,-999.0000,9, -999,  -999.0, -999.00,-999.0000,-999.000,-999.000
     316N151_3,   A20,    43,  1,     27,     27,2,19970729,1843, 26.8620, -52.3290, 5405, 3163.9,    300.3,  17.9867,  36.5220,2,  36.5233,2,    201.4,2, 17.9345,    206.2,2,     1.10,2,     3.96,2,     0.01,2,     0.19,2,    2.381,2,    1.331,2, -999.000,5, -999.000,5,-999.0000,5,  -999.00,9,   -999.0,9,  -999.00,9,-999.000,9,   -999.0,9,   -999.0,9,-999,   -999.0,9,-999.0000,9, -999,  -999.0, -999.00,-999.0000,-999.000,-999.000
     316N151_3,   A20,    43,  1,     26,     26,2,19970729,1843, 26.8620, -52.3290, 5405, 3666.2,    350.6,  17.7887,  36.4909,2,  36.4920,2,    197.3,2, 17.7282,    204.1,2,     1.30,2,     4.53,2,     0.01,2,     0.22,2, -999.000,9, -999.000,9, -999.000,5, -999.000,5,-999.0000,5,  -999.00,9,   -999.0,9,  -999.00,9,-999.000,9,   -999.0,9,   -999.0,9,-999,   -999.0,9,-999.0000,9, -999,  -999.0, -999.00,-999.0000,-999.000,-999.000
     316N151_3,   A20,    43,  1,     25,     25,2,19970729,1843, 26.8620, -52.3290, 5405, 4151.1,    399.2,  17.2997,  36.4012,2,  36.4050,2,    191.3,2, 17.2321,    196.6,2,     1.78,2,     6.04,2,     0.00,2,     0.31,2,    2.308,2,    1.312,2, -999.000,5, -999.000,5,-999.0000,5,  -999.00,9,   -999.0,9,  -999.00,9,-999.000,9,   -999.0,9,   -999.0,9,-999,   -999.0,9,-999.0000,9, -999,  -999.0, -999.00,-999.0000,-999.000,-999.000
     316N151_3,   A20,    43,  1,     24,     24,2,19970729,1843, 26.8620, -52.3290, 5405, 5157.5,    500.3,  15.5812,  36.1060,2,  36.1075,2,    187.6,2, 15.5021,    187.2,2,     3.21,2,     9.68,2,     0.00,2,     0.55,2,    2.134,2,    1.145,2, -999.000,5, -999.000,5,-999.0000,5,  -999.00,9,   -999.0,9,  -999.00,9,-999.000,9,   -999.0,9,   -999.0,9,-999,   -999.0,9,-999.0000,9, -999,  -999.0, -999.00,-999.0000,-999.000,-999.000
     316N151_3,   A20,    43,  1,     23,     23,2,19970729,1843, 26.8620, -52.3290, 5405, 6146.5,    599.6,  13.5159,  35.7773,2,  35.7763,2,    175.8,2, 13.4294,    176.2,2,     5.61,2,    14.14,2,     0.00,2,     0.84,2,    1.795,2,    0.977,2, -999.000,5, -999.000,5,-999.0000,5,  -999.00,9,   -999.0,9,  -999.00,9,-999.000,9,   -999.0,9,   -999.0,9,-999,   -999.0,9,-999.0000,9, -999,  -999.0, -999.00,-999.0000,-999.000,-999.000
     316N151_3,   A20,    43,  1,     22,     22,2,19970729,1843, 26.8620, -52.3290, 5405, 7374.3,    722.8,  10.9042,  35.4442,2,  35.4375,2,    166.3,2, 10.8130,    165.1,2,     9.45,2,    19.50,2,     0.00,2,     1.20,2,    1.181,2,    0.609,2, -999.000,5, -999.000,5,-999.0000,5,  -999.00,9,   -999.0,9,  -999.00,9,-999.000,9,   -999.0,9,   -999.0,9,-999,   -999.0,9,-999.0000,9, -999,  -999.0, -999.00,-999.0000,-999.000,-999.000
     316N151_3,   A20,    43,  1,     21,     21,2,19970729,1843, 26.8620, -52.3290, 5405, 8619.6,    847.6,   8.6770,  35.2267,2,  35.2267,2,    160.0,2,  8.5831,    164.0,2,    13.09,2,    22.73,2,     0.00,2,     1.44,2,    0.682,2,    0.344,2, -999.000,5, -999.000,5,-999.0000,5,  -999.00,9,   -999.0,9,  -999.00,9,-999.000,9,   -999.0,9,   -999.0,9,-999,   -999.0,9,-999.0000,9, -999,  -999.0, -999.00,-999.0000,-999.000,-999.000
     316N151_3,   A20,    43,  1,     20,     20,2,19970729,1843, 26.8620, -52.3290, 5405,10125.2,    998.2,   7.0803,  35.1505,2,  35.1443,2,    178.5,2,  6.9806,    182.5,2,    14.71,2,    22.80,2,     0.00,2,     1.47,2,    0.501,6,    0.264,6, -999.000,5, -999.000,5,-999.0000,5,  -999.00,9,   -999.0,9,  -999.00,9,-999.000,9,   -999.0,9,   -999.0,9,-999,   -999.0,9,-999.0000,9, -999,  -999.0, -999.00,-999.0000,-999.000,-999.000
     316N151_3,   A20,    43,  1,     19,     19,2,19970729,1843, 26.8620, -52.3290, 5405,11639.5,   1149.7,   5.8581,  35.0975,2,  35.0985,2,    201.0,2,  5.7526,    205.0,2,    15.29,2,    21.94,2,     0.00,2,     1.43,2,    0.262,2,    0.140,2, -999.000,5, -999.000,5,-999.0000,5,  -999.00,9,   -999.0,9,  -999.00,9,-999.000,9,   -999.0,9,   -999.0,9,-999,   -999.0,9,-999.0000,9, -999,  -999.0, -999.00,-999.0000,-999.000,-999.000
     316N151_3,   A20,    43,  1,     18,     18,2,19970729,1843, 26.8620, -52.3290, 5405,13142.9,   1299.9,   5.3464,  35.1025,2,  35.1048,2,    217.5,2,  5.2306,    221.3,2,    14.91,2,    20.74,2,     0.00,2,     1.35,2,    0.224,2,    0.127,2, -999.000,5, -999.000,5,-999.0000,5,  -999.00,9,   -999.0,9,  -999.00,9,-999.000,9,   -999.0,9,   -999.0,9,-999,   -999.0,9,-999.0000,9, -999,  -999.0, -999.00,-999.0000,-999.000,-999.000
     316N151_3,   A20,    43,  1,     17,     17,2,19970729,1843, 26.8620, -52.3290, 5405,14653.6,   1450.9,   4.9617,  35.0932,2,  35.0940,2,    231.0,2,  4.8352,    231.5,2,    15.00,2,    20.03,2,     0.00,2,     1.31,2,    0.203,2,    0.110,2, -999.000,5, -999.000,5,-999.0000,5,  -999.00,9,   -999.0,9,  -999.00,9,-999.000,9,   -999.0,9,   -999.0,9,-999,   -999.0,9,-999.0000,9, -999,  -999.0, -999.00,-999.0000,-999.000,-999.000
     316N151_3,   A20,    43,  1,     16,     16,2,19970729,1843, 26.8620, -52.3290, 5405,16152.3,   1600.8,   4.5822,  35.0828,2,  35.0850,2,    238.1,2,  4.4455,    239.3,2,    16.05,2,    19.60,2,     0.00,2,     1.28,2,    0.191,6,    0.108,6, -999.000,5, -999.000,5,-999.0000,5,  -999.00,9,   -999.0,9,  -999.00,9,-999.000,9,   -999.0,9,   -999.0,9,-999,   -999.0,9,-999.0000,9, -999,  -999.0, -999.00,-999.0000,-999.000,-999.000
     316N151_3,   A20,    43,  1,     15,     15,2,19970729,1843, 26.8620, -52.3290, 5405,17658.8,   1751.4,   4.2400,  35.0606,2,  35.0629,2,    242.0,2,  4.0930,    242.8,2,    17.96,2,    19.64,2,     0.00,2,     1.29,2,    0.098,2,    0.059,2, -999.000,5, -999.000,5,-999.0000,5,  -999.00,9,   -999.0,9,  -999.00,9,-999.000,9,   -999.0,9,   -999.0,9,-999,   -999.0,9,-999.0000,9, -999,  -999.0, -999.00,-999.0000,-999.000,-999.000
     316N151_3,   A20,    43,  1,     14,     14,2,19970729,1843, 26.8620, -52.3290, 5405,19648.0,   1950.3,   3.8428,  35.0297,2,  35.0307,2,    247.5,2,  3.6822,    246.2,2,    20.65,2,    19.72,2,     0.00,2,     1.30,2,    0.054,2,    0.038,2, -999.000,5, -999.000,5,-999.0000,5,  -999.00,9,   -999.0,9,  -999.00,9,-999.000,9,   -999.0,9,   -999.0,9,-999,   -999.0,9,-999.0000,9, -999,  -999.0, -999.00,-999.0000,-999.000,-999.000
     316N151_3,   A20,    43,  1,     13,     13,2,19970729,1843, 26.8620, -52.3290, 5405,21616.5,   2147.1,   3.5158,  35.0016,2,  35.0018,2,    249.3,2,  3.3412,    248.8,2,    23.52,2,    19.93,2,     0.00,2,     1.32,2,    0.034,2,    0.029,2, -999.000,5, -999.000,5,-999.0000,5,  -999.00,9,   -999.0,9,  -999.00,9,-999.000,9,   -999.0,9,   -999.0,9,-999,   -999.0,9,-999.0000,9, -999,  -999.0, -999.00,-999.0000,-999.000,-999.000
     316N151_3,   A20,    43,  1,     12,     12,2,19970729,1843, 26.8620, -52.3290, 5405,24646.5,   2449.9,   3.1708,  34.9709,2,  34.9738,2,    250.4,2,  2.9726,    250.4,2,    27.35,2,    20.10,2,     0.00,2,     1.34,2,    0.035,2,    0.029,2, -999.000,5, -999.000,5,-999.0000,5,  -999.00,9,   -999.0,9,  -999.00,9,-999.000,9,   -999.0,9,   -999.0,9,-999,   -999.0,9,-999.0000,9, -999,  -999.0, -999.00,-999.0000,-999.000,-999.000
     316N151_3,   A20,    43,  1,     11,     11,2,19970729,1843, 26.8620, -52.3290, 5405,27637.3,   2748.9,   2.9715,  34.9527,2,  34.9555,2,    251.1,2,  2.7471,    250.1,2,    30.51,2,    20.47,2,     0.00,2,     1.37,2,    0.019,2,    0.015,2, -999.000,5, -999.000,5,-999.0000,5,  -999.00,9,   -999.0,9,  -999.00,9,-999.000,9,   -999.0,9,   -999.0,9,-999,   -999.0,9,-999.0000,9, -999,  -999.0, -999.00,-999.0000,-999.000,-999.000
     316N151_3,   A20,    43,  1,     10,     10,2,19970729,1843, 26.8620, -52.3290, 5405,30135.9,   2998.5,   2.8062,  34.9379,2,  34.9391,2,    251.3,2,  2.5598,    251.1,2,    33.09,2,    20.68,2,     0.00,2,     1.39,2,    0.009,2,    0.008,2, -999.000,5, -999.000,5,-999.0000,5,  -999.00,9,   -999.0,9,  -999.00,9,-999.000,9,   -999.0,9,   -999.0,9,-999,   -999.0,9,-999.0000,9, -999,  -999.0, -999.00,-999.0000,-999.000,-999.000
     316N151_3,   A20,    43,  1,      9,      9,2,19970729,1843, 26.8620, -52.3290, 5405,32646.8,   3249.4,   2.6642,  34.9254,2,  34.9276,2,    253.8,2,  2.3946,    252.8,2,    34.62,2,    20.69,2,     0.00,2,     1.39,2,    0.008,2,    0.006,2, -999.000,5, -999.000,5,-999.0000,5,  -999.00,9,   -999.0,9,  -999.00,9,-999.000,9,   -999.0,9,   -999.0,9,-999,   -999.0,9,-999.0000,9, -999,  -999.0, -999.00,-999.0000,-999.000,-999.000
     316N151_3,   A20,    43,  1,      8,      8,2,19970729,1843, 26.8620, -52.3290, 5405,35161.1,   3500.9,   2.5208,  34.9141,2,  34.9158,2,    257.0,2,  2.2278,    256.2,2,    34.91,2,    20.39,2,     0.00,2,     1.38,2,    0.008,2,    0.008,2, -999.000,5, -999.000,5,-999.0000,5,  -999.00,9,   -999.0,9,  -999.00,9,-999.000,9,   -999.0,9,   -999.0,9,-999,   -999.0,9,-999.0000,9, -999,  -999.0, -999.00,-999.0000,-999.000,-999.000
     316N151_3,   A20,    43,  1,      7,      7,2,19970729,1843, 26.8620, -52.3290, 5405,37652.2,   3750.0,   2.3830,  34.9024,2,  34.9029,2,    258.8,2,  2.0662,    258.1,2,    36.24,2,    20.47,2,     0.00,2,     1.38,2,    0.011,2,    0.010,2, -999.000,5, -999.000,5,-999.0000,5,  -999.00,9,   -999.0,9,  -999.00,9,-999.000,9,   -999.0,9,   -999.0,9,-999,   -999.0,9,-999.0000,9, -999,  -999.0, -999.00,-999.0000,-999.000,-999.000
     316N151_3,   A20,    43,  1,      6,      6,2,19970729,1843, 26.8620, -52.3290, 5405,40177.5,   4002.3,   2.2633,  34.8910,2,  34.8910,2,    259.4,2,  1.9214,    258.4,2,    38.63,2,    20.64,2,     0.00,2,     1.40,2,    0.021,2,    0.015,2, -999.000,5, -999.000,5,-999.0000,5,  -999.00,9,   -999.0,9,  -999.00,9,-999.000,9,   -999.0,9,   -999.0,9,-999,   -999.0,9,-999.0000,9, -999,  -999.0, -999.00,-999.0000,-999.000,-999.000
     316N151_3,   A20,    43,  1,      5,      5,2,19970729,1843, 26.8620, -52.3290, 5405,42660.4,   4250.5,   2.1698,  34.8785,2,  34.8792,2,    256.4,2,  1.8022,    255.6,2,    43.70,2,    21.35,2,     0.00,2,     1.45,2,    0.016,2,    0.012,2, -999.000,5, -999.000,5,-999.0000,5,  -999.00,9,   -999.0,9,  -999.00,9,-999.000,9,   -999.0,9,   -999.0,9,-999,   -999.0,9,-999.0000,9, -999,  -999.0, -999.00,-999.0000,-999.000,-999.000
     316N151_3,   A20,    43,  1,      4,      4,2,19970729,1843, 26.8620, -52.3290, 5405,45174.0,   4501.7,   2.1188,  34.8700,2,  34.8700,2,    253.5,2,  1.7232,    251.6,2,    47.43,2,    21.86,2,     0.00,2,     1.49,2,    0.012,2,    0.011,2, -999.000,5, -999.000,5,-999.0000,5,  -999.00,9,   -999.0,9,  -999.00,9,-999.000,9,   -999.0,9,   -999.0,9,-999,   -999.0,9,-999.0000,9, -999,  -999.0, -999.00,-999.0000,-999.000,-999.000
     316N151_3,   A20,    43,  1,      3,      3,2,19970729,1843, 26.8620, -52.3290, 5405,48158.4,   4800.1,   2.0881,  34.8627,2,  34.8628,2,    252.2,2,  1.6575,    252.0,2,    50.30,2,    22.24,2,     0.00,2,     1.52,2,    0.012,2,    0.011,2, -999.000,5, -999.000,5,-999.0000,5,  -999.00,9,   -999.0,9,  -999.00,9,-999.000,9,   -999.0,9,   -999.0,9,-999,   -999.0,9,-999.0000,9, -999,  -999.0, -999.00,-999.0000,-999.000,-999.000
     316N151_3,   A20,    43,  1,      2,      2,2,19970729,1843, 26.8620, -52.3290, 5405,51172.0,   5101.4,   2.0922,  34.8576,2,  34.8590,2,    252.5,2,  1.6239,    251.4,2,    51.82,2,    22.41,2,     0.00,2,     1.53,2,    0.011,2,    0.013,2, -999.000,5, -999.000,5,-999.0000,5,  -999.00,9,   -999.0,9,  -999.00,9,-999.000,9,   -999.0,9,   -999.0,9,-999,   -999.0,9,-999.0000,9, -999,  -999.0, -999.00,-999.0000,-999.000,-999.000
     316N151_3,   A20,    43,  1,      1,      1,2,19970729,1843, 26.8620, -52.3290, 5405,53223.4,   5306.6,   2.1037,  34.8569,2,  34.8579,2,    249.5,2,  1.6089,    250.6,2,    52.73,6,    22.52,6,     0.00,6,     1.54,6,    0.014,6,    0.013,6, -999.000,5, -999.000,5,-999.0000,5,  -999.00,9,   -999.0,9,  -999.00,9,-999.000,9,   -999.0,9,   -999.0,9,-999,   -999.0,9,-999.0000,9, -999,  -999.0, -999.00,-999.0000,-999.000,-999.000