BOTTLE,20220812CCHSIOAMB
EXPOCODE,SECT_ID,STNNBR,CASTNO,SAMPNO,BTLNBR,BTLNBR_FLAG_W,DATE,TIME,LATITUDE,LONGITUDE,DEPTH,CTDRAW,CTDPRS,CTDTMP,CTDSAL,CTDSAL_FLAG_W,SALNTY,SALNTY_FLAG_W,CTDOXY,CTDOXY_FLAG_W,THETA,OXYGEN,OXYGEN_FLAG_W,SILCAT,SILCAT_FLAG_W,NITRAT,NITRAT_FLAG_W,NITRIT,NITRIT_FLAG_W,PHSPHT,PHSPHT_FLAG_W,CFC-11,CFC-11_FLAG_W,CFC-12,CFC-12_FLAG_W,CFC113,CFC113_FLAG_W,TRITUM,TRITUM_FLAG_W,HELIUM,HELIUM_FLAG_W,DELHE3,DELHE3_FLAG_W,DELC14,DELC14_FLAG_W,DELC13,DELC13_FLAG_W,NEON,NEON_FLAG_W,TCARBN,TCARBN_FLAG_W,PCO2,PCO2_FLAG_W,PCO2_TMP,ALKALI,ALKALI_FLAG_W,PH,PH_FLAG_W,PH_TMP,C14ERR,DELHER,HELIER,NEONER,TRITER
,,,,,,,,,,,,,DBAR,ITS-90,PSS-78,,PSS-78,,UMOL/KG,,ITS-90,UMOL/KG,,UMOL/KG,,UMOL/KG,,UMOL/KG,,UMOL/KG,,PMOL/KG,,PMOL/KG,,PMOL/KG,,TU,,NMOL/KG,,PERCNT,,/MILLE,,/MILLE,,NMOL/KG,,UMOL/KG,,UATM,,DEG C,UMOL/KG,,,,DEG C,/MILLE,PERCNT,NMOL/KG,NMOL/KG,TU
     316N151_3,   A20,    77,  1,     33,     33,2,19970807,2016,  8.3330, -52.8868, 2421,  196.8,      0.7,  28.8678,  33.7134,2,  33.8376,2,    245.6,2, 28.8676,    207.9,2,     7.82,2,     0.00,2,     0.00,2,     0.08,2,    1.656,2,    1.000,2, -999.000,5, -999.000,5,-999.0000,5,  -999.00,9,   -999.0,9,  -999.00,9,-999.000,9,   1902.7,2,    261.8,2,  20,   2233.0,2,   8.1170,2,   25,  -999.0, -999.00,-999.0000,-999.000,-999.000
     316N151_3,   A20,    77,  1,     32,     32,2,19970807,2016,  8.3330, -52.8868, 2421,  304.2,     11.8,  28.6577,  34.5997,2,-999.0000,9,    207.4,2, 28.6548,   -999.0,9,  -999.00,9,  -999.00,9,  -999.00,9,  -999.00,9, -999.000,9, -999.000,9, -999.000,5, -999.000,5,-999.0000,5,  -999.00,9,   -999.0,9,  -999.00,9,-999.000,9,   -999.0,9,   -999.0,9,-999,   -999.0,9,-999.0000,9, -999,  -999.0, -999.00,-999.0000,-999.000,-999.000
     316N151_3,   A20,    77,  1,     31,     31,2,19970807,2016,  8.3330, -52.8868, 2421,  303.3,     11.9,  28.6860,  34.5277,2,-999.0000,9,    207.3,2, 28.6831,   -999.0,9,  -999.00,9,  -999.00,9,  -999.00,9,  -999.00,9, -999.000,9, -999.000,9, -999.000,5, -999.000,5,-999.0000,5,  -999.00,9,   -999.0,9,  -999.00,9,-999.000,9,   -999.0,9,   -999.0,9,-999,   -999.0,9,-999.0000,9, -999,  -999.0, -999.00,-999.0000,-999.000,-999.000
     316N151_3,   A20,    77,  1,     30,     30,2,19970807,2016,  8.3330, -52.8868, 2421,  300.0,     11.9,  28.7052,  34.5398,2,-999.0000,9,    207.3,2, 28.7024,   -999.0,9,  -999.00,9,  -999.00,9,  -999.00,9,  -999.00,9, -999.000,9, -999.000,9, -999.000,5, -999.000,5,-999.0000,5,  -999.00,9,   -999.0,9,  -999.00,9,-999.000,9,   -999.0,9,   -999.0,9,-999,   -999.0,9,-999.0000,9, -999,  -999.0, -999.00,-999.0000,-999.000,-999.000
     316N151_3,   A20,    77,  1,     29,     29,2,19970807,2016,  8.3330, -52.8868, 2421,  299.9,     12.1,  28.7068,  34.6747,2,-999.0000,9,    207.0,2, 28.7039,   -999.0,9,     6.01,2,     0.00,2,     0.00,2,     0.10,2, -999.000,9, -999.000,9, -999.000,5, -999.000,5,-999.0000,5,  -999.00,9,   -999.0,9,  -999.00,9,-999.000,9,   -999.0,9,   -999.0,9,-999,   -999.0,9,-999.0000,9, -999,  -999.0, -999.00,-999.0000,-999.000,-999.000
     316N151_3,   A20,    77,  1,     28,     28,2,19970807,2016,  8.3330, -52.8868, 2421,  298.5,     12.2,  28.6938,  34.8016,2,  34.5536,2,    206.8,2, 28.6909,    202.3,2,     5.73,2,     0.03,2,     0.00,2,     0.09,2, -999.000,9, -999.000,9, -999.000,5, -999.000,5,-999.0000,5,  -999.00,9,   -999.0,9,  -999.00,9,-999.000,9,   -999.0,9,   -999.0,9,-999,   -999.0,9,-999.0000,9, -999,  -999.0, -999.00,-999.0000,-999.000,-999.000
     316N151_3,   A20,    77,  1,     27,     27,2,19970807,2016,  8.3330, -52.8868, 2421,  641.5,     48.1,  26.8722,  36.2049,2,  36.2056,2,    201.4,2, 26.8612,    196.4,2,     1.43,2,     0.07,2,     0.00,2,     0.05,2,    1.747,2,    1.040,2, -999.000,5, -999.000,5,-999.0000,5,  -999.00,9,   -999.0,9,  -999.00,9,-999.000,9,   -999.0,9,   -999.0,9,-999,   -999.0,9,-999.0000,9, -999,  -999.0, -999.00,-999.0000,-999.000,-999.000
     316N151_3,   A20,    77,  1,     26,     26,2,19970807,2016,  8.3330, -52.8868, 2421, 1133.1,     98.5,  22.0345,  36.7005,2,  36.7130,2,    157.1,2, 22.0148,    149.9,2,     2.12,2,     5.36,2,     0.06,2,     0.33,2,    1.904,6,    1.082,6, -999.000,5, -999.000,5,-999.0000,5,  -999.00,9,   -999.0,9,  -999.00,9,-999.000,9,   -999.0,9,   -999.0,9,-999,   -999.0,9,-999.0000,9, -999,  -999.0, -999.00,-999.0000,-999.000,-999.000
     316N151_3,   A20,    77,  1,     25,     25,2,19970807,2016,  8.3330, -52.8868, 2421, 1641.3,    150.0,  15.9357,  35.9930,2,  35.9893,2,    119.6,2, 15.9118,    114.3,2,     6.34,2,    18.00,2,     0.01,2,     1.09,2,    1.531,2,    0.840,2, -999.000,5, -999.000,5,-999.0000,5,  -999.00,9,   -999.0,9,  -999.00,9,-999.000,9,   -999.0,9,   -999.0,9,-999,   -999.0,9,-999.0000,9, -999,  -999.0, -999.00,-999.0000,-999.000,-999.000
     316N151_3,   A20,    77,  1,     24,     24,2,19970807,2016,  8.3330, -52.8868, 2421, 2160.8,    202.0,  11.3261,  35.1645,2,  35.1618,2,    129.3,2, 11.3007,    130.6,2,    11.25,2,    23.06,2,     0.01,2,     1.53,2, -999.000,9, -999.000,9, -999.000,5, -999.000,5,-999.0000,5,  -999.00,9,   -999.0,9,  -999.00,9,-999.000,9,   -999.0,9,   -999.0,9,-999,   -999.0,9,-999.0000,9, -999,  -999.0, -999.00,-999.0000,-999.000,-999.000
     316N151_3,   A20,    77,  1,     23,     23,2,19970807,2016,  8.3330, -52.8868, 2421, 2633.0,    249.4,  10.4606,  35.0579,2,  35.0556,2,    121.3,2, 10.4307,    121.8,2,    12.59,2,    25.72,2,     0.01,2,     1.68,2,    0.968,2,    0.521,2, -999.000,5, -999.000,5,-999.0000,5,  -999.00,9,   -999.0,9,  -999.00,9,-999.000,9,   -999.0,9,   -999.0,9,-999,   -999.0,9,-999.0000,9, -999,  -999.0, -999.00,-999.0000,-999.000,-999.000
     316N151_3,   A20,    77,  1,     22,     22,2,19970807,2016,  8.3330, -52.8868, 2421, 3161.4,    302.4,   9.2608,  34.8794,2,  34.8779,2,    120.5,2,  9.2272,    125.8,3,    14.63,2,    27.92,2,     0.00,2,     1.83,2,    0.769,2,    0.418,2, -999.000,5, -999.000,5,-999.0000,5,  -999.00,9,   -999.0,9,  -999.00,9,-999.000,9,   -999.0,9,   -999.0,9,-999,   -999.0,9,-999.0000,9, -999,  -999.0, -999.00,-999.0000,-999.000,-999.000
     316N151_3,   A20,    77,  1,     21,     21,2,19970807,2016,  8.3330, -52.8868, 2421, 4141.2,    400.5,   8.1209,  34.7507,2,  34.7541,2,    118.6,2,  8.0796,    123.7,3,    17.51,2,    30.47,2,     0.00,2,     2.00,2, -999.000,9, -999.000,9, -999.000,5, -999.000,5,-999.0000,5,  -999.00,9,   -999.0,9,  -999.00,9,-999.000,9,   -999.0,9,   -999.0,9,-999,   -999.0,9,-999.0000,9, -999,  -999.0, -999.00,-999.0000,-999.000,-999.000
     316N151_3,   A20,    77,  1,     20,     20,2,19970807,2016,  8.3330, -52.8868, 2421, 5133.9,    499.9,   7.3804,  34.7128,2,  34.7131,2,    119.2,2,  7.3314,    121.9,2,    20.21,2,    32.03,2,     0.00,2,     2.11,2,    0.327,2,    0.182,2, -999.000,5, -999.000,5,-999.0000,5,  -999.00,9,   -999.0,9,  -999.00,9,-999.000,9,   -999.0,9,   -999.0,9,-999,   -999.0,9,-999.0000,9, -999,  -999.0, -999.00,-999.0000,-999.000,-999.000
     316N151_3,   A20,    77,  1,     19,     19,2,19970807,2016,  8.3330, -52.8868, 2421, 6152.6,    601.8,   6.8173,  34.6993,2,  34.7003,2,    120.3,2,  6.7604,    120.1,2,    22.52,2,    33.17,2,     0.00,2,     2.19,2, -999.000,9, -999.000,9, -999.000,5, -999.000,5,-999.0000,5,  -999.00,9,   -999.0,9,  -999.00,9,-999.000,9,   -999.0,9,   -999.0,9,-999,   -999.0,9,-999.0000,9, -999,  -999.0, -999.00,-999.0000,-999.000,-999.000
     316N151_3,   A20,    77,  1,     18,     18,2,19970807,2016,  8.3330, -52.8868, 2421, 7143.2,    701.0,   6.1066,  34.6443,2,  34.6451,2,    126.7,2,  6.0436,    126.3,2,    25.12,2,    33.84,2,     0.00,2,     2.26,2,    0.109,2,    0.063,2, -999.000,5, -999.000,5,-999.0000,5,  -999.00,9,   -999.0,9,  -999.00,9,-999.000,9,   -999.0,9,   -999.0,9,-999,   -999.0,9,-999.0000,9, -999,  -999.0, -999.00,-999.0000,-999.000,-999.000
     316N151_3,   A20,    77,  1,     17,     17,2,19970807,2016,  8.3330, -52.8868, 2421, 8131.3,    799.8,   5.4733,  34.6138,2,  34.6134,2,    135.1,2,  5.4048,    134.2,2,    27.91,2,    33.96,2,     0.00,2,     2.30,2,    0.063,2,    0.035,2, -999.000,5, -999.000,5,-999.0000,5,  -999.00,9,   -999.0,9,  -999.00,9,-999.000,9,   -999.0,9,   -999.0,9,-999,   -999.0,9,-999.0000,9, -999,  -999.0, -999.00,-999.0000,-999.000,-999.000
     316N151_3,   A20,    77,  1,     16,     16,2,19970807,2016,  8.3330, -52.8868, 2421, 9120.5,    898.5,   5.1348,  34.6750,2,  34.6751,2,    144.4,2,  5.0594,    143.7,2,    28.59,2,    32.78,2,     0.00,2,     2.23,2,    0.031,2,    0.029,2, -999.000,5, -999.000,5,-999.0000,5,  -999.00,9,   -999.0,9,  -999.00,9,-999.000,9,   -999.0,9,   -999.0,9,-999,   -999.0,9,-999.0000,9, -999,  -999.0, -999.00,-999.0000,-999.000,-999.000
     316N151_3,   A20,    77,  1,     15,     15,2,19970807,2016,  8.3330, -52.8868, 2421,10150.2,   1001.5,   5.1359,  34.8262,2,  34.8288,2,    165.3,2,  5.0509,    163.8,2,    25.15,2,    29.14,2,     0.00,2,     1.97,2,    0.057,2,    0.033,2, -999.000,5, -999.000,5,-999.0000,5,  -999.00,9,   -999.0,9,  -999.00,9,-999.000,9,   -999.0,9,   -999.0,9,-999,   -999.0,9,-999.0000,9, -999,  -999.0, -999.00,-999.0000,-999.000,-999.000
     316N151_3,   A20,    77,  1,     14,     14,2,19970807,2016,  8.3330, -52.8868, 2421,11137.9,   1100.2,   5.1417,  34.9262,2,  34.9280,2,    185.4,2,  5.0473,    186.3,2,    21.63,2,    25.57,2,     0.00,2,     1.72,2,    0.134,2,    0.074,2, -999.000,5, -999.000,5,-999.0000,5,  -999.00,9,   -999.0,9,  -999.00,9,-999.000,9,   -999.0,9,   -999.0,9,-999,   -999.0,9,-999.0000,9, -999,  -999.0, -999.00,-999.0000,-999.000,-999.000
     316N151_3,   A20,    77,  1,     13,     13,2,19970807,2016,  8.3330, -52.8868, 2421,12136.6,   1200.2,   5.0264,  34.9764,2,  34.9780,2,    204.6,2,  4.9235,    205.5,2,    19.06,2,    23.27,2,     0.00,2,     1.57,2,    0.225,2,    0.121,2, -999.000,5, -999.000,5,-999.0000,5,  -999.00,9,   -999.0,9,  -999.00,9,-999.000,9,   -999.0,9,   -999.0,9,-999,   -999.0,9,-999.0000,9, -999,  -999.0, -999.00,-999.0000,-999.000,-999.000
     316N151_3,   A20,    77,  1,     12,     12,2,19970807,2016,  8.3330, -52.8868, 2421,13141.0,   1300.5,   4.7889,  35.0087,2,  35.0101,2,    223.1,2,  4.6788,    225.6,2,    16.58,2,    21.08,2,     0.00,2,     1.41,2,    0.326,6,    0.175,6, -999.000,5, -999.000,5,-999.0000,5,  -999.00,9,   -999.0,9,  -999.00,9,-999.000,9,   -999.0,9,   -999.0,9,-999,   -999.0,9,-999.0000,9, -999,  -999.0, -999.00,-999.0000,-999.000,-999.000
     316N151_3,   A20,    77,  1,     11,     11,2,19970807,2016,  8.3330, -52.8868, 2421,14139.5,   1400.6,   4.4441,  35.0090,2,  35.0082,2,    239.2,2,  4.3282,    241.9,2,    15.07,2,    19.62,2,     0.00,2,     1.31,2,    0.455,2,    0.232,2, -999.000,5, -999.000,5,-999.0000,5,  -999.00,9,   -999.0,9,  -999.00,9,-999.000,9,   -999.0,9,   -999.0,9,-999,   -999.0,9,-999.0000,9, -999,  -999.0, -999.00,-999.0000,-999.000,-999.000
     316N151_3,   A20,    77,  1,     10,     10,2,19970807,2016,  8.3330, -52.8868, 2421,15118.4,   1498.4,   4.2488,  35.0034,2,  35.0036,2,    247.1,2,  4.1258,    248.9,2,    14.79,2,    19.12,2,     0.00,2,     1.28,2,    0.433,2,    0.226,2, -999.000,5, -999.000,5,-999.0000,5,  -999.00,9,   -999.0,9,  -999.00,9,-999.000,9,   -999.0,9,   -999.0,9,-999,   -999.0,9,-999.0000,9, -999,  -999.0, -999.00,-999.0000,-999.000,-999.000
     316N151_3,   A20,    77,  1,      9,      9,2,19970807,2016,  8.3330, -52.8868, 2421,16132.6,   1599.8,   4.0904,  34.9975,2,  34.9982,2,    252.0,2,  3.9599,    253.0,2,    14.80,2,    18.73,2,     0.00,2,     1.25,2,    0.426,2,    0.221,2, -999.000,5, -999.000,5,-999.0000,5,  -999.00,9,   -999.0,9,  -999.00,9,-999.000,9,   -999.0,9,   -999.0,9,-999,   -999.0,9,-999.0000,9, -999,  -999.0, -999.00,-999.0000,-999.000,-999.000
     316N151_3,   A20,    77,  1,      8,      8,2,19970807,2016,  8.3330, -52.8868, 2421,17123.8,   1699.0,   3.9732,  34.9926,2,  34.9946,2,    254.6,2,  3.8349,    255.8,2,    15.01,2,    18.69,2,     0.00,2,     1.24,2,    0.421,2,    0.223,2, -999.000,5, -999.000,5,-999.0000,5,  -999.00,9,   -999.0,9,  -999.00,9,-999.000,9,   -999.0,9,   -999.0,9,-999,   -999.0,9,-999.0000,9, -999,  -999.0, -999.00,-999.0000,-999.000,-999.000
     316N151_3,   A20,    77,  1,      7,      7,2,19970807,2016,  8.3330, -52.8868, 2421,18150.6,   1801.8,   3.9177,  34.9904,2,  34.9915,2,    257.4,2,  3.7704,    257.2,2,    15.21,2,    18.53,2,     0.00,2,     1.23,2,    0.399,6,    0.211,6, -999.000,5, -999.000,5,-999.0000,5,  -999.00,9,   -999.0,9,  -999.00,9,-999.000,9,   -999.0,9,   -999.0,9,-999,   -999.0,9,-999.0000,9, -999,  -999.0, -999.00,-999.0000,-999.000,-999.000
     316N151_3,   A20,    77,  1,      6,      6,2,19970807,2016,  8.3330, -52.8868, 2421,19130.9,   1899.9,   3.8467,  34.9873,2,  34.9868,2,    259.7,2,  3.6910,    257.6,2,    15.42,2,    18.46,2,     0.00,2,     1.23,2,    0.407,2,    0.212,2, -999.000,5, -999.000,5,-999.0000,5,  -999.00,9,   -999.0,9,  -999.00,9,-999.000,9,   -999.0,9,   -999.0,9,-999,   -999.0,9,-999.0000,9, -999,  -999.0, -999.00,-999.0000,-999.000,-999.000
     316N151_3,   A20,    77,  1,      5,      5,2,19970807,2016,  8.3330, -52.8868, 2421,20143.2,   2001.1,   3.7734,  34.9845,2,  34.9853,2,    260.4,2,  3.6090,    258.1,2,    15.91,2,    18.49,2,     0.00,2,     1.23,2,    0.342,2,    0.177,2, -999.000,5, -999.000,5,-999.0000,5,  -999.00,9,   -999.0,9,  -999.00,9,-999.000,9,   -999.0,9,   -999.0,9,-999,   -999.0,9,-999.0000,9, -999,  -999.0, -999.00,-999.0000,-999.000,-999.000
     316N151_3,   A20,    77,  1,      4,      4,2,19970807,2016,  8.3330, -52.8868, 2421,21135.7,   2100.6,   3.6444,  34.9806,2,  34.9814,2,    259.8,2,  3.4725,    259.7,2,    16.88,2,    18.57,2,     0.00,2,     1.24,2,    0.273,2,    0.148,2, -999.000,5, -999.000,5,-999.0000,5,  -999.00,9,   -999.0,9,  -999.00,9,-999.000,9,   -999.0,9,   -999.0,9,-999,   -999.0,9,-999.0000,9, -999,  -999.0, -999.00,-999.0000,-999.000,-999.000
     316N151_3,   A20,    77,  1,      3,      3,2,19970807,2016,  8.3330, -52.8868, 2421,22148.3,   2202.1,   3.5298,  34.9761,2,  34.9773,2,    260.2,2,  3.3497,    260.8,2,    17.95,2,    18.65,2,     0.00,2,     1.24,2,    0.203,2,    0.113,2, -999.000,5, -999.000,5,-999.0000,5,  -999.00,9,   -999.0,9,  -999.00,9,-999.000,9,   -999.0,9,   -999.0,9,-999,   -999.0,9,-999.0000,9, -999,  -999.0, -999.00,-999.0000,-999.000,-999.000
     316N151_3,   A20,    77,  1,      2,      2,2,19970807,2016,  8.3330, -52.8868, 2421,23645.8,   2352.1,   3.1866,  34.9591,2,  34.9590,2,    260.3,2,  2.9978,    259.3,2,    20.84,2,    18.69,2,     0.00,2,     1.26,2,    0.169,2,    0.091,2, -999.000,5, -999.000,5,-999.0000,5,  -999.00,9,   -999.0,9,  -999.00,9,-999.000,9,   -999.0,9,   -999.0,9,-999,   -999.0,9,-999.0000,9, -999,  -999.0, -999.00,-999.0000,-999.000,-999.000
     316N151_3,   A20,    77,  1,      1,      1,2,19970807,2016,  8.3330, -52.8868, 2421,24386.2,   2426.0,   3.1847,  34.9589,2,  34.9565,2,    258.2,2,  2.9886,    256.7,3,    20.92,6,    18.76,6,     0.00,6,     1.26,6,    0.170,2,    0.089,2, -999.000,5, -999.000,5,-999.0000,5,  -999.00,9,   -999.0,9,  -999.00,9,-999.000,9,   -999.0,9,   -999.0,9,-999,   -999.0,9,-999.0000,9, -999,  -999.0, -999.00,-999.0000,-999.000,-999.000