BOTTLE,20220812CCHSIOAMB
EXPOCODE,SECT_ID,STNNBR,CASTNO,SAMPNO,BTLNBR,BTLNBR_FLAG_W,DATE,TIME,LATITUDE,LONGITUDE,DEPTH,CTDRAW,CTDPRS,CTDTMP,CTDSAL,CTDSAL_FLAG_W,SALNTY,SALNTY_FLAG_W,CTDOXY,CTDOXY_FLAG_W,THETA,OXYGEN,OXYGEN_FLAG_W,SILCAT,SILCAT_FLAG_W,NITRAT,NITRAT_FLAG_W,NITRIT,NITRIT_FLAG_W,PHSPHT,PHSPHT_FLAG_W,CFC-11,CFC-11_FLAG_W,CFC-12,CFC-12_FLAG_W,CFC113,CFC113_FLAG_W,TRITUM,TRITUM_FLAG_W,HELIUM,HELIUM_FLAG_W,DELHE3,DELHE3_FLAG_W,DELC14,DELC14_FLAG_W,DELC13,DELC13_FLAG_W,NEON,NEON_FLAG_W,TCARBN,TCARBN_FLAG_W,PCO2,PCO2_FLAG_W,PCO2_TMP,ALKALI,ALKALI_FLAG_W,PH,PH_FLAG_W,PH_TMP,C14ERR,DELHER,HELIER,NEONER,TRITER
,,,,,,,,,,,,,DBAR,ITS-90,PSS-78,,PSS-78,,UMOL/KG,,ITS-90,UMOL/KG,,UMOL/KG,,UMOL/KG,,UMOL/KG,,UMOL/KG,,PMOL/KG,,PMOL/KG,,PMOL/KG,,TU,,NMOL/KG,,PERCNT,,/MILLE,,/MILLE,,NMOL/KG,,UMOL/KG,,UATM,,DEG C,UMOL/KG,,,,DEG C,/MILLE,PERCNT,NMOL/KG,NMOL/KG,TU
     316N151_3,   A20,    22,  1,     30,     30,2,19970723,1748, 39.2153, -52.3367, 5321,  262.1,     10.7,  23.4192,  35.6775,2,  35.6773,2,    201.5,2, 23.4169,    223.4,2,     0.69,2,     0.08,2,     0.00,2,     0.01,2,    2.100,2,    1.231,2, -999.000,5, -999.000,5,-999.0000,5,  -999.00,9,   -999.0,9,  -999.00,9,-999.000,9,   -999.0,9,    301.4,2,  20,   2345.3,2,   8.0690,2,   25,  -999.0, -999.00,-999.0000,-999.000,-999.000
     316N151_3,   A20,    22,  1,     29,     29,2,19970723,1748, 39.2153, -52.3367, 5321,  640.4,     48.8,  18.2746,  35.2687,2,  35.2650,2,    237.0,2, 18.2662,    235.9,2,     0.68,2,     0.08,2,     0.00,2,     0.07,2,    2.633,6,    1.470,6, -999.000,5, -999.000,5,-999.0000,5,  -999.00,9,   -999.0,9,  -999.00,9,-999.000,9,   -999.0,9,   -999.0,9,-999,   -999.0,9,-999.0000,9, -999,  -999.0, -999.00,-999.0000,-999.000,-999.000
     316N151_3,   A20,    22,  1,     28,     28,2,19970723,1748, 39.2153, -52.3367, 5321, 1134.5,     98.1,  14.5634,  35.6475,2,  35.6446,2,    198.5,2, 14.5488,    204.4,2,     2.80,2,     7.78,2,     0.03,2,     0.51,2,    2.664,2,    1.445,2, -999.000,5, -999.000,5,-999.0000,5,  -999.00,9,   -999.0,9,  -999.00,9,-999.000,9,   -999.0,9,   -999.0,9,-999,   -999.0,9,-999.0000,9, -999,  -999.0, -999.00,-999.0000,-999.000,-999.000
     316N151_3,   A20,    22,  1,     27,     27,2,19970723,1748, 39.2153, -52.3367, 5321, 1634.1,    148.2,  14.4857,  35.7764,2,  35.7724,2,    200.2,2, 14.4637,    213.0,2,     2.89,2,     7.90,2,     0.02,2,     0.49,2,    2.627,2,    1.433,2, -999.000,5, -999.000,5,-999.0000,5,  -999.00,9,   -999.0,9,  -999.00,9,-999.000,9,   -999.0,9,   -999.0,9,-999,   -999.0,9,-999.0000,9, -999,  -999.0, -999.00,-999.0000,-999.000,-999.000
     316N151_3,   A20,    22,  1,     26,     26,2,19970723,1748, 39.2153, -52.3367, 5321, 2154.3,    200.4,  13.5597,  35.6150,2,  35.6160,2,    194.7,2, 13.5313,    204.3,2,     3.94,2,    10.03,2,     0.01,2,     0.63,2,    2.522,2,    1.361,2, -999.000,5, -999.000,5,-999.0000,5,  -999.00,9,   -999.0,9,  -999.00,9,-999.000,9,   -999.0,9,   -999.0,9,-999,   -999.0,9,-999.0000,9, -999,  -999.0, -999.00,-999.0000,-999.000,-999.000
     316N151_3,   A20,    22,  1,     25,     25,2,19970723,1748, 39.2153, -52.3367, 5321, 3125.8,    297.8,  12.3438,  35.5401,2,  35.5387,2,    157.3,2, 12.3038,    159.3,2,     7.97,2,    17.42,2,     0.01,2,     1.06,2,    1.595,2,    0.866,2, -999.000,5, -999.000,5,-999.0000,5,  -999.00,9,   -999.0,9,  -999.00,9,-999.000,9,   -999.0,9,   -999.0,9,-999,   -999.0,9,-999.0000,9, -999,  -999.0, -999.00,-999.0000,-999.000,-999.000
     316N151_3,   A20,    22,  1,     24,     24,2,19970723,1748, 39.2153, -52.3367, 5321, 4034.2,    389.2,  10.2657,  35.2769,2,  35.2748,2,    150.3,2, 10.2192,    148.2,2,    11.64,2,    21.76,2,     0.00,2,     1.36,2,    1.205,2,    0.629,2, -999.000,5, -999.000,5,-999.0000,5,  -999.00,9,   -999.0,9,  -999.00,9,-999.000,9,   -999.0,9,   -999.0,9,-999,   -999.0,9,-999.0000,9, -999,  -999.0, -999.00,-999.0000,-999.000,-999.000
     316N151_3,   A20,    22,  1,     23,     23,2,19970723,1748, 39.2153, -52.3367, 5321, 5130.4,    499.1,   8.2468,  35.1159,2,  35.1156,2,    155.6,2,  8.1943,    157.5,2,    14.42,2,    23.76,2,     0.00,2,     1.51,2,    0.923,2,    0.484,2, -999.000,5, -999.000,5,-999.0000,5,  -999.00,9,   -999.0,9,  -999.00,9,-999.000,9,   -999.0,9,   -999.0,9,-999,   -999.0,9,-999.0000,9, -999,  -999.0, -999.00,-999.0000,-999.000,-999.000
     316N151_3,   A20,    22,  1,     22,     22,2,19970723,1748, 39.2153, -52.3367, 5321, 6644.5,    650.6,   6.2625,  35.0478,2,  35.0485,2,    198.7,2,  6.2031,    199.8,2,    13.64,2,    21.29,2,     0.00,2,     1.37,2,    1.243,2,    0.627,2, -999.000,5, -999.000,5,-999.0000,5,  -999.00,9,   -999.0,9,  -999.00,9,-999.000,9,   -999.0,9,   -999.0,9,-999,   -999.0,9,-999.0000,9, -999,  -999.0, -999.00,-999.0000,-999.000,-999.000
     316N151_3,   A20,    22,  1,     21,     21,2,19970723,1748, 39.2153, -52.3367, 5321, 8154.4,    801.6,   5.4826,  35.0808,2,  35.0808,2,    226.0,2,  5.4133,    227.6,2,    12.28,2,    19.21,2,     0.00,2,     1.24,2,    1.503,2,    0.758,2, -999.000,5, -999.000,5,-999.0000,5,  -999.00,9,   -999.0,9,  -999.00,9,-999.000,9,   -999.0,9,   -999.0,9,-999,   -999.0,9,-999.0000,9, -999,  -999.0, -999.00,-999.0000,-999.000,-999.000
     316N151_3,   A20,    22,  1,     20,     20,2,19970723,1748, 39.2153, -52.3367, 5321, 9152.3,    901.4,   4.9663,  35.0358,2,  35.0365,2,    233.7,2,  4.8913,    239.4,2,    12.09,2,    18.79,2,     0.00,2,     1.22,2,    1.633,2,    0.813,2, -999.000,5, -999.000,5,-999.0000,5,  -999.00,9,   -999.0,9,  -999.00,9,-999.000,9,   -999.0,9,   -999.0,9,-999,   -999.0,9,-999.0000,9, -999,  -999.0, -999.00,-999.0000,-999.000,-999.000
     316N151_3,   A20,    22,  1,     19,     19,2,19970723,1748, 39.2153, -52.3367, 5321,10133.4,    999.5,   4.6436,  35.0153,2,  35.0154,2,    247.3,2,  4.5621,    248.0,2,    11.98,2,    18.45,2,     0.00,2,     1.20,2,    1.668,2,    0.822,2, -999.000,5, -999.000,5,-999.0000,5,  -999.00,9,   -999.0,9,  -999.00,9,-999.000,9,   -999.0,9,   -999.0,9,-999,   -999.0,9,-999.0000,9, -999,  -999.0, -999.00,-999.0000,-999.000,-999.000
     316N151_3,   A20,    22,  1,     18,     18,2,19970723,1748, 39.2153, -52.3367, 5321,12130.6,   1199.1,   4.2324,  34.9835,2,  34.9831,2,    258.4,2,  4.1368,    258.2,2,    11.87,2,    18.04,2,     0.00,2,     1.17,2,    1.692,2,    0.823,2, -999.000,5, -999.000,5,-999.0000,5,  -999.00,9,   -999.0,9,  -999.00,9,-999.000,9,   -999.0,9,   -999.0,9,-999,   -999.0,9,-999.0000,9, -999,  -999.0, -999.00,-999.0000,-999.000,-999.000
     316N151_3,   A20,    22,  1,     17,     17,2,19970723,1748, 39.2153, -52.3367, 5321,14156.7,   1401.6,   3.9597,  34.9594,2,  34.9616,2,    265.2,2,  3.8489,    264.9,2,    11.86,2,    17.84,3,    -0.01,2,     1.16,2,    1.680,2,    0.815,2, -999.000,5, -999.000,5,-999.0000,5,  -999.00,9,   -999.0,9,  -999.00,9,-999.000,9,   -999.0,9,   -999.0,9,-999,   -999.0,9,-999.0000,9, -999,  -999.0, -999.00,-999.0000,-999.000,-999.000
     316N151_3,   A20,    22,  1,     16,     16,2,19970723,1748, 39.2153, -52.3367, 5321,16165.9,   1602.4,   3.7296,  34.9435,2,  34.9439,2,    271.0,2,  3.6033,    269.2,2,    12.15,2,    17.67,3,    -0.01,2,     1.15,2,    1.663,2,    0.828,2, -999.000,5, -999.000,5,-999.0000,5,  -999.00,9,   -999.0,9,  -999.00,9,-999.000,9,   -999.0,9,   -999.0,9,-999,   -999.0,9,-999.0000,9, -999,  -999.0, -999.00,-999.0000,-999.000,-999.000
     316N151_3,   A20,    22,  1,     15,     15,2,19970723,1748, 39.2153, -52.3367, 5321,18639.6,   1849.7,   3.6178,  34.9473,2,  34.9474,2,    270.9,2,  3.4703,    271.3,2,    13.01,2,    17.68,3,    -0.01,2,     1.16,2,    1.362,6,    0.659,6, -999.000,5, -999.000,5,-999.0000,5,  -999.00,9,   -999.0,9,  -999.00,9,-999.000,9,   -999.0,9,   -999.0,9,-999,   -999.0,9,-999.0000,9, -999,  -999.0, -999.00,-999.0000,-999.000,-999.000
     316N151_3,   A20,    22,  1,     14,     14,2,19970723,1748, 39.2153, -52.3367, 5321,21660.2,   2151.4,   3.4498,  34.9459,2,  34.9480,2,    270.8,2,  3.2760,    269.1,2,    14.25,2,    17.68,2,     0.00,2,     1.16,2,    1.103,2,    0.549,2, -999.000,5, -999.000,5,-999.0000,5,  -999.00,9,   -999.0,9,  -999.00,9,-999.000,9,   -999.0,9,   -999.0,9,-999,   -999.0,9,-999.0000,9, -999,  -999.0, -999.00,-999.0000,-999.000,-999.000
     316N151_3,   A20,    22,  1,     13,     13,2,19970723,1748, 39.2153, -52.3367, 5321,24665.4,   2451.8,   3.3053,  34.9537,2,  34.9526,2,    269.6,2,  3.1046,    266.8,2,    16.46,2,    17.94,3,    -0.01,2,     1.18,2,    0.651,2,    0.322,2, -999.000,5, -999.000,5,-999.0000,5,  -999.00,9,   -999.0,9,  -999.00,9,-999.000,9,   -999.0,9,   -999.0,9,-999,   -999.0,9,-999.0000,9, -999,  -999.0, -999.00,-999.0000,-999.000,-999.000
     316N151_3,   A20,    22,  1,     12,     12,2,19970723,1748, 39.2153, -52.3367, 5321,27638.5,   2748.9,   3.1170,  34.9499,2,  34.9494,2,    269.2,2,  2.8898,    265.1,2,    18.95,2,    18.12,3,    -0.01,2,     1.20,2,    0.468,2,    0.239,2, -999.000,5, -999.000,5,-999.0000,5,  -999.00,9,   -999.0,9,  -999.00,9,-999.000,9,   -999.0,9,   -999.0,9,-999,   -999.0,9,-999.0000,9, -999,  -999.0, -999.00,-999.0000,-999.000,-999.000
     316N151_3,   A20,    22,  1,     11,     11,2,19970723,1748, 39.2153, -52.3367, 5321,30168.9,   3001.9,   2.9046,  34.9368,2,  34.9376,2,    269.9,2,  2.6557,    266.9,2,    20.10,2,    18.01,3,    -0.01,2,     1.20,2,    0.483,2,    0.237,2, -999.000,5, -999.000,5,-999.0000,5,  -999.00,9,   -999.0,9,  -999.00,9,-999.000,9,   -999.0,9,   -999.0,9,-999,   -999.0,9,-999.0000,9, -999,  -999.0, -999.00,-999.0000,-999.000,-999.000
     316N151_3,   A20,    22,  1,     10,     10,2,19970723,1748, 39.2153, -52.3367, 5321,32652.7,   3250.2,   2.7029,  34.9266,2,  34.9261,2,    270.7,2,  2.4323,    268.6,2,    21.73,2,    18.05,3,    -0.01,2,     1.20,2,    0.478,2,    0.240,2, -999.000,5, -999.000,5,-999.0000,5,  -999.00,9,   -999.0,9,  -999.00,9,-999.000,9,   -999.0,9,   -999.0,9,-999,   -999.0,9,-999.0000,9, -999,  -999.0, -999.00,-999.0000,-999.000,-999.000
     316N151_3,   A20,    22,  1,      9,      9,2,19970723,1748, 39.2153, -52.3367, 5321,35151.3,   3499.9,   2.5340,  34.9164,2,  34.9153,2,    271.6,2,  2.2407,    270.0,2,    22.50,2,    17.89,3,    -0.01,2,     1.19,2,    0.602,2,    0.299,2, -999.000,5, -999.000,5,-999.0000,5,  -999.00,9,   -999.0,9,  -999.00,9,-999.000,9,   -999.0,9,   -999.0,9,-999,   -999.0,9,-999.0000,9, -999,  -999.0, -999.00,-999.0000,-999.000,-999.000
     316N151_3,   A20,    22,  1,      8,      8,2,19970723,1748, 39.2153, -52.3367, 5321,37629.8,   3747.7,   2.4101,  34.9074,2,  34.9069,2,    271.7,2,  2.0928,    269.6,2,    24.70,2,    18.07,3,    -0.01,2,     1.21,2,    0.612,2,    0.308,2, -999.000,5, -999.000,5,-999.0000,5,  -999.00,9,   -999.0,9,  -999.00,9,-999.000,9,   -999.0,9,   -999.0,9,-999,   -999.0,9,-999.0000,9, -999,  -999.0, -999.00,-999.0000,-999.000,-999.000
     316N151_3,   A20,    22,  1,      7,      7,2,19970723,1748, 39.2153, -52.3367, 5321,40133.6,   3997.9,   2.3307,  34.9010,2,  34.8997,2,    270.7,2,  1.9874,    267.5,2,    27.96,2,    18.53,3,    -0.01,2,     1.24,2,    0.498,2,    0.246,2, -999.000,5, -999.000,5,-999.0000,5,  -999.00,9,   -999.0,9,  -999.00,9,-999.000,9,   -999.0,9,   -999.0,9,-999,   -999.0,9,-999.0000,9, -999,  -999.0, -999.00,-999.0000,-999.000,-999.000
     316N151_3,   A20,    22,  1,      6,      6,2,19970723,1748, 39.2153, -52.3367, 5321,42648.2,   4249.2,   2.2878,  34.8950,2,  34.8950,2,    269.3,2,  1.9166,    267.3,2,    29.50,2,    18.68,3,    -0.01,2,     1.26,2,    0.549,2,    0.269,2, -999.000,5, -999.000,5,-999.0000,5,  -999.00,9,   -999.0,9,  -999.00,9,-999.000,9,   -999.0,9,   -999.0,9,-999,   -999.0,9,-999.0000,9, -999,  -999.0, -999.00,-999.0000,-999.000,-999.000
     316N151_3,   A20,    22,  1,      5,      5,2,19970723,1748, 39.2153, -52.3367, 5321,44630.8,   4447.5,   2.2768,  34.8923,2,  34.8923,2,    268.0,2,  1.8826,    267.8,2,    29.59,2,    18.61,3,    -0.01,2,     1.25,2,    0.672,2,    0.327,2, -999.000,5, -999.000,5,-999.0000,5,  -999.00,9,   -999.0,9,  -999.00,9,-999.000,9,   -999.0,9,   -999.0,9,-999,   -999.0,9,-999.0000,9, -999,  -999.0, -999.00,-999.0000,-999.000,-999.000
     316N151_3,   A20,    22,  1,      4,      4,2,19970723,1748, 39.2153, -52.3367, 5321,47633.5,   4747.5,   2.2543,  34.8858,2,  34.8852,2,    265.4,2,  1.8245,    262.9,2,    35.07,2,    19.54,3,    -0.01,2,     1.32,2,    0.401,2,    0.207,2, -999.000,5, -999.000,5,-999.0000,5,  -999.00,9,   -999.0,9,  -999.00,9,-999.000,9,   -999.0,9,   -999.0,9,-999,   -999.0,9,-999.0000,9, -999,  -999.0, -999.00,-999.0000,-999.000,-999.000
     316N151_3,   A20,    22,  1,      3,      3,2,19970723,1748, 39.2153, -52.3367, 5321,50172.8,   5001.4,   2.2455,  34.8808,2,  34.8801,2,    263.3,2,  1.7845,    260.8,2,    38.15,2,    20.00,3,    -0.01,2,     1.36,2,    0.338,2,    0.177,2, -999.000,5, -999.000,5,-999.0000,5,  -999.00,9,   -999.0,9,  -999.00,9,-999.000,9,   -999.0,9,   -999.0,9,-999,   -999.0,9,-999.0000,9, -999,  -999.0, -999.00,-999.0000,-999.000,-999.000
     316N151_3,   A20,    22,  1,      2,      2,2,19970723,1748, 39.2153, -52.3367, 5321,52652.6,   5249.3,   2.2322,  34.8750,2,  34.8744,2,    261.2,2,  1.7401,    258.9,2,    41.90,2,    20.63,2,     0.00,2,     1.41,2,    0.229,2,    0.121,2, -999.000,5, -999.000,5,-999.0000,5,  -999.00,9,   -999.0,9,  -999.00,9,-999.000,9,   -999.0,9,   -999.0,9,-999,   -999.0,9,-999.0000,9, -999,  -999.0, -999.00,-999.0000,-999.000,-999.000
     316N151_3,   A20,    22,  1,      1,      1,2,19970723,1748, 39.2153, -52.3367, 5321,54444.6,   5428.3,   2.2363,  34.8734,2,  34.8730,2,    259.6,2,  1.7209,    256.5,2,    43.47,6,    20.87,6,     0.00,6,     1.43,6,    0.204,2,    0.109,2, -999.000,5, -999.000,5,-999.0000,5,  -999.00,9,   -999.0,9,  -999.00,9,-999.000,9,   -999.0,9,   -999.0,9,-999,   -999.0,9,-999.0000,9, -999,  -999.0, -999.00,-999.0000,-999.000,-999.000