BOTTLE,20220812CCHSIOAMB
EXPOCODE,SECT_ID,STNNBR,CASTNO,SAMPNO,BTLNBR,BTLNBR_FLAG_W,DATE,TIME,LATITUDE,LONGITUDE,DEPTH,CTDRAW,CTDPRS,CTDTMP,CTDSAL,CTDSAL_FLAG_W,SALNTY,SALNTY_FLAG_W,CTDOXY,CTDOXY_FLAG_W,THETA,OXYGEN,OXYGEN_FLAG_W,SILCAT,SILCAT_FLAG_W,NITRAT,NITRAT_FLAG_W,NITRIT,NITRIT_FLAG_W,PHSPHT,PHSPHT_FLAG_W,CFC-11,CFC-11_FLAG_W,CFC-12,CFC-12_FLAG_W,CFC113,CFC113_FLAG_W,TRITUM,TRITUM_FLAG_W,HELIUM,HELIUM_FLAG_W,DELHE3,DELHE3_FLAG_W,DELC14,DELC14_FLAG_W,DELC13,DELC13_FLAG_W,NEON,NEON_FLAG_W,TCARBN,TCARBN_FLAG_W,PCO2,PCO2_FLAG_W,PCO2_TMP,ALKALI,ALKALI_FLAG_W,PH,PH_FLAG_W,PH_TMP,C14ERR,DELHER,HELIER,NEONER,TRITER
,,,,,,,,,,,,,DBAR,ITS-90,PSS-78,,PSS-78,,UMOL/KG,,ITS-90,UMOL/KG,,UMOL/KG,,UMOL/KG,,UMOL/KG,,UMOL/KG,,PMOL/KG,,PMOL/KG,,PMOL/KG,,TU,,NMOL/KG,,PERCNT,,/MILLE,,/MILLE,,NMOL/KG,,UMOL/KG,,UATM,,DEG C,UMOL/KG,,,,DEG C,/MILLE,PERCNT,NMOL/KG,NMOL/KG,TU
     316N151_3,   A20,    38,  1,     33,     33,2,19970728,0618, 30.1942, -52.3455, 5676,  233.2,      9.1,  27.9449,  36.9708,2,  36.9657,2,    209.5,2, 27.9428,    212.6,2,     0.08,2,     0.03,2,     0.00,2,     0.01,2,    1.740,2,    1.044,2, -999.000,5,    1.106,2,   1.7220,2,    -1.38,2,   -999.0,9,  -999.00,9,   6.632,2,   2062.2,2,    302.0,2,  20,   2414.7,2,   8.0840,2,   25,  -999.0,    0.15,  0.0086,   0.033,   0.013
     316N151_3,   A20,    38,  1,     32,     32,2,19970728,0618, 30.1942, -52.3455, 5676,  632.8,     49.5,  21.6442,  36.8116,2,  36.8084,2,    239.2,2, 21.6344,    245.3,2,     0.09,2,     0.03,2,     0.00,2,     0.01,2,    2.293,2,    1.316,2, -999.000,5, -999.000,5,-999.0000,5,  -999.00,9,   -999.0,9,  -999.00,9,-999.000,9,   2056.8,2,    299.1,2,  20,   2403.7,2,   8.0760,2,   25,  -999.0, -999.00,-999.0000,-999.000,-999.000
     316N151_3,   A20,    38,  1,     31,     31,2,19970728,0618, 30.1942, -52.3455, 5676, 1114.3,     97.5,  19.3929,  36.6911,2,  36.6925,2,    226.3,2, 19.3751,    225.1,2,     0.11,2,     0.06,2,     0.00,2,     0.01,2,    2.369,2,    1.344,2, -999.000,5,    1.092,2,   1.7331,2,    -1.62,2,   -999.0,9,  -999.00,9,   6.955,2,   2073.7,2,   -999.0,9,-999,   2395.0,6,   8.0400,2,   25,  -999.0,    0.15,  0.0087,   0.035,   0.013
     316N151_3,   A20,    38,  1,     30,     30,2,19970728,0618, 30.1942, -52.3455, 5676, 1609.6,    146.6,  18.5624,  36.5857,2,  36.5856,2,    210.8,2, 18.5364,    214.0,2,     0.31,2,     1.12,2,     0.11,2,     0.04,2,    2.422,2,    1.361,2, -999.000,5, -999.000,5,-999.0000,5,  -999.00,9,   -999.0,9,  -999.00,9,-999.000,9,   2084.7,2,    361.8,2,  20,   2388.8,2,   8.0170,2,   25,  -999.0, -999.00,-999.0000,-999.000,-999.000
     316N151_3,   A20,    38,  1,     29,     29,2,19970728,0618, 30.1942, -52.3455, 5676, 2125.1,    197.7,  18.2105,  36.5431,2,  36.5427,2,    211.3,2, 18.1759,    212.0,2,     0.42,2,     2.85,2,     0.01,2,     0.13,2,    2.413,2,    1.353,2, -999.000,5,    1.095,2,   1.7448,2,    -1.85,2,   -999.0,9,  -999.00,9,   6.997,2,   2087.0,2,    369.6,2,  20,   2386.0,2,   8.0070,2,   25,  -999.0,    0.15,  0.0087,   0.035,   0.013
     316N151_3,   A20,    38,  1,     28,     28,2,19970728,0618, 30.1942, -52.3455, 5676, 2633.4,    248.1,  17.9598,  36.5153,2,  36.5143,2,    215.0,2, 17.9167,    215.0,2,     0.62,2,     3.18,2,     0.01,2,     0.16,2,    2.423,2,    1.364,2, -999.000,5, -999.000,5,-999.0000,5,  -999.00,9,   -999.0,9,  -999.00,9,-999.000,9,   2087.8,2,    371.2,2,  20,   2381.1,2,   8.0060,2,   25,  -999.0, -999.00,-999.0000,-999.000,-999.000
     316N151_3,   A20,    38,  1,     27,     27,2,19970728,0618, 30.1942, -52.3455, 5676, 3160.7,    300.4,  17.8648,  36.5079,2,  36.5071,2,    221.0,2, 17.8129,    219.3,2,     0.55,2,     3.00,2,     0.01,2,     0.15,2,    2.458,2,    1.376,2, -999.000,5,    1.107,2,   1.7492,2,    -1.00,2,   -999.0,9,  -999.00,9,   7.029,2,   2086.3,2,   -999.0,9,-999,   2383.9,2,   8.0040,2,   25,  -999.0,    0.15,  0.0087,   0.035,   0.013
     316N151_3,   A20,    38,  1,     26,     26,2,19970728,0618, 30.1942, -52.3455, 5676, 3646.4,    348.7,  17.8049,  36.4991,2,  36.4989,2,    222.6,2, 17.7446,    220.1,2,     0.57,2,     3.00,2,     0.01,2,     0.15,2,    2.467,2,    1.385,2, -999.000,5, -999.000,5,-999.0000,5,  -999.00,9,   -999.0,9,  -999.00,9,-999.000,9,   2086.9,2,    368.2,2,  20,   2380.1,2,   8.0080,2,   25,  -999.0, -999.00,-999.0000,-999.000,-999.000
     316N151_3,   A20,    38,  1,     25,     25,2,19970728,0618, 30.1942, -52.3455, 5676, 4143.9,    398.1,  17.7599,  36.4916,2,  36.4908,2,    224.5,2, 17.6913,    219.8,2,     0.67,2,     3.11,2,     0.01,2,     0.16,2,    2.458,2,    1.385,2, -999.000,5,    1.089,2,-999.0000,5,  -999.00,9,   -999.0,9,  -999.00,9,-999.000,9,   2087.7,2,    370.4,2,  20,   2383.2,2,   8.0020,2,   25,  -999.0, -999.00,-999.0000,-999.000,   0.013
     316N151_3,   A20,    38,  1,     24,     24,2,19970728,0618, 30.1942, -52.3455, 5676, 5144.0,    498.2,  16.9092,  36.3396,2,  36.3399,2,    214.8,2, 16.8259,    209.8,3,     1.37,2,     5.34,2,     0.01,2,     0.29,2,    2.387,6,    1.333,6, -999.000,5, -999.000,5,-999.0000,5,  -999.00,9,   -999.0,9,  -999.00,9,-999.000,9,   2100.0,2,    404.5,2,  20,   2372.7,2,   7.9720,2,   25,  -999.0, -999.00,-999.0000,-999.000,-999.000
     316N151_3,   A20,    38,  1,     23,     23,2,19970728,0618, 30.1942, -52.3455, 5676, 6149.1,    599.2,  16.1619,  36.2155,2,  36.2221,2,    207.8,2, 16.0645,    205.8,2,     1.95,2,     6.95,2,     0.01,2,     0.39,2,    2.360,2,    1.297,2, -999.000,5,    1.241,2,   1.7640,2,     0.76,2,   -999.0,9,  -999.00,9,   7.128,2,   2108.3,2,    430.8,2,  20,   2369.3,2,   7.9460,2,   25,  -999.0,    0.15,  0.0088,   0.036,   0.014
     316N151_3,   A20,    38,  1,     22,     22,2,19970728,0618, 30.1942, -52.3455, 5676, 7634.7,    748.3,  13.0466,  35.7217,2,  35.7210,2,    186.9,2, 12.9406,    182.6,2,     5.43,2,    13.92,2,     0.01,2,     0.85,2,    1.978,2,    1.042,2, -999.000,5,    1.259,2,   1.7395,2,     4.96,2,   -999.0,9,  -999.00,9,   7.172,2,   2141.6,2,   -999.0,9,-999,   2345.2,2,   7.8400,2,   25,  -999.0,    0.15,  0.0087,   0.036,   0.014
     316N151_3,   A20,    38,  1,     21,     21,2,19970728,0618, 30.1942, -52.3455, 5676, 8884.0,    873.7,  10.7452,  35.4516,2,  35.4516,2,    180.7,2, 10.6351,    177.0,2,     8.33,2,    18.01,2,     0.00,2,     1.12,2,    1.495,2,    0.769,2, -999.000,5, -999.000,5,-999.0000,5,  -999.00,9,   -999.0,9,  -999.00,9,-999.000,9,   2162.1,2,    677.4,2,  20,   2331.2,2,   7.7760,2,   25,  -999.0, -999.00,-999.0000,-999.000,-999.000
     316N151_3,   A20,    38,  1,     20,     20,2,19970728,0618, 30.1942, -52.3455, 5676,10140.6,    999.7,   8.5605,  35.2742,2,  35.2721,2,    171.5,2,  8.4497,    172.4,2,    12.39,2,    21.55,2,     0.00,2,     1.37,2,    0.736,2,    0.369,2, -999.000,5,    0.704,2,   1.8183,2,     7.00,2,   -999.0,9,  -999.00,9,   7.621,2,   2180.5,2,    771.1,2,  20,   2324.6,2,   7.7220,2,   25,  -999.0,    0.15,  0.0091,   0.038,   0.012
     316N151_3,   A20,    38,  1,     19,     19,2,19970728,0618, 30.1942, -52.3455, 5676,12132.6,   1198.8,   6.6419,  35.1998,2,  35.1992,2,    199.5,2,  6.5244,    203.3,2,    12.88,2,    20.39,2,     0.00,2,     1.32,2,    0.740,2,    0.370,2, -999.000,5, -999.000,5,-999.0000,5,  -999.00,9,   -999.0,9,  -999.00,9,-999.000,9,   2176.8,2,    769.5,2,  20,   2324.8,2,   7.7280,2,   25,  -999.0, -999.00,-999.0000,-999.000,-999.000
     316N151_3,   A20,    38,  1,     18,     18,2,19970728,0618, 30.1942, -52.3455, 5676,14144.9,   1400.1,   5.4997,  35.1359,2,  35.1335,2,    226.1,2,  5.3724,    228.9,2,    12.70,2,    19.19,2,     0.00,2,     1.29,2,    0.832,2,    0.416,2, -999.000,5, -999.000,5,-999.0000,5,  -999.00,9,   -999.0,9,  -999.00,9,-999.000,9,   2170.8,2,    753.6,2,  20,   2322.2,2,   7.7380,2,   25,  -999.0, -999.00,-999.0000,-999.000,-999.000
     316N151_3,   A20,    38,  1,     17,     17,2,19970728,0618, 30.1942, -52.3455, 5676,16114.0,   1597.0,   4.7145,  35.0688,2,  35.0707,2,    246.3,2,  4.5766,    246.2,2,    12.71,2,    18.43,2,     0.00,2,     1.21,2,    0.871,2,    0.431,2, -999.000,5, -999.000,5,-999.0000,5,  -999.00,9,   -999.0,9,  -999.00,9,-999.000,9,   2164.4,2,    742.7,2,  20,   2317.4,2,   7.7440,2,   25,  -999.0, -999.00,-999.0000,-999.000,-999.000
     316N151_3,   A20,    38,  1,     16,     16,2,19970728,0618, 30.1942, -52.3455, 5676,18134.9,   1799.1,   4.2526,  35.0410,2,  35.0388,2,    259.0,2,  4.1009,    252.6,2,    14.17,2,    18.33,2,     0.00,2,     1.21,2,    0.593,2,    0.296,2, -999.000,5, -999.000,5,-999.0000,5,  -999.00,9,   -999.0,9,  -999.00,9,-999.000,9,   2162.8,2,    735.0,2,  20,   2317.2,2,   7.7470,2,   25,  -999.0, -999.00,-999.0000,-999.000,-999.000
     316N151_3,   A20,    38,  1,     15,     15,9,19970728,0618, 30.1942, -52.3455, 5676,20161.0,   2001.5,   3.8546,  35.0106,2,-999.0000,9,    258.3,2,  3.6889,   -999.0,9,  -999.00,9,  -999.00,9,  -999.00,9,  -999.00,9, -999.000,9, -999.000,9, -999.000,5, -999.000,5,-999.0000,5,  -999.00,9,   -999.0,9,  -999.00,9,-999.000,9,   -999.0,9,   -999.0,9,-999,   -999.0,9,-999.0000,9, -999,  -999.0, -999.00,-999.0000,-999.000,-999.000
     316N151_3,   A20,    38,  1,     14,     14,2,19970728,0618, 30.1942, -52.3455, 5676,22643.5,   2249.6,   3.6075,  35.0042,2,  35.0037,2,    253.1,2,  3.4214,    252.8,2,    20.72,2,    19.03,2,     0.00,2,     1.28,2,    0.111,2,    0.062,2, -999.000,5, -999.000,5,-999.0000,5,  -999.00,9,   -999.0,9,  -999.00,9,-999.000,9,   2168.6,2,   -999.0,9,-999,   2323.8,2,   7.7510,2,   25,  -999.0, -999.00,-999.0000,-999.000,-999.000
     316N151_3,   A20,    38,  1,     13,     13,2,19970728,0618, 30.1942, -52.3455, 5676,25160.8,   2501.2,   3.3515,  34.9839,2,  34.9821,2,    251.6,2,  3.1448,    252.4,2,    24.19,2,    19.43,2,     0.00,2,     1.30,2,    0.047,6,    0.033,6, -999.000,5, -999.000,5,-999.0000,5,  -999.00,9,   -999.0,9,  -999.00,9,-999.000,9,   2171.4,2,    735.4,2,  20,   2323.5,2,   7.7510,2,   25,  -999.0, -999.00,-999.0000,-999.000,-999.000
     316N151_3,   A20,    38,  1,     12,     12,2,19970728,0618, 30.1942, -52.3455, 5676,28162.3,   2801.2,   3.1007,  34.9624,2,  34.9641,2,    252.9,2,  2.8684,    252.8,2,    27.38,2,    19.73,2,     0.00,2,     1.33,2, -999.000,9,    0.023,2, -999.000,5, -999.000,5,-999.0000,5,  -999.00,9,   -999.0,9,  -999.00,9,-999.000,9,   2174.5,2,    736.6,2,  20,   2329.4,2,   7.7510,2,   25,  -999.0, -999.00,-999.0000,-999.000,-999.000
     316N151_3,   A20,    38,  1,     11,     11,2,19970728,0618, 30.1942, -52.3455, 5676,31170.3,   3101.9,   2.8660,  34.9420,2,  34.9414,2,    255.3,2,  2.6075,    255.2,2,    29.31,2,    19.77,2,     0.00,2,     1.34,2,    0.029,2,    0.014,2, -999.000,5, -999.000,5,-999.0000,5,  -999.00,9,   -999.0,9,  -999.00,9,-999.000,9,   2173.9,2,    735.8,2,  20,   2328.0,2,   7.7490,2,   25,  -999.0, -999.00,-999.0000,-999.000,-999.000
     316N151_3,   A20,    38,  1,     10,     10,2,19970728,0618, 30.1942, -52.3455, 5676,34132.4,   3398.1,   2.6643,  34.9252,2,  34.9258,2,    258.9,2,  2.3787,    259.2,2,    30.00,2,    19.56,2,     0.00,2,     1.33,2,    0.017,2,    0.018,2, -999.000,5, -999.000,5,-999.0000,5,  -999.00,9,   -999.0,9,  -999.00,9,-999.000,9,   2173.2,2,   -999.0,9,-999,   2328.6,2,   7.7520,2,   25,  -999.0, -999.00,-999.0000,-999.000,-999.000
     316N151_3,   A20,    38,  1,      9,      9,2,19970728,0618, 30.1942, -52.3455, 5676,37170.4,   3701.6,   2.4655,  34.9111,2,  34.9091,2,    262.4,2,  2.1518,    262.2,2,    31.06,2,    19.37,2,     0.00,2,     1.32,2,    0.048,2,    0.026,2, -999.000,5, -999.000,5,-999.0000,5,  -999.00,9,   -999.0,9,  -999.00,9,-999.000,9,   2172.4,2,    732.2,2,  20,   2326.0,2,   7.7520,2,   25,  -999.0, -999.00,-999.0000,-999.000,-999.000
     316N151_3,   A20,    38,  1,      8,      8,2,19970728,0618, 30.1942, -52.3455, 5676,39661.5,   3950.6,   2.3591,  34.9020,2,  34.9016,2,    263.1,2,  2.0204,    262.9,2,    32.51,2,    19.42,2,     0.00,2,     1.33,2,    0.069,2,    0.041,2, -999.000,5, -999.000,5,-999.0000,5,  -999.00,9,   -999.0,9,  -999.00,9,-999.000,9,   2174.0,2,    736.3,2,  20,   2328.8,2,   7.7500,2,   25,  -999.0, -999.00,-999.0000,-999.000,-999.000
     316N151_3,   A20,    38,  1,      7,      7,2,19970728,0618, 30.1942, -52.3455, 5676,42184.8,   4202.9,   2.2733,  34.8917,2,  34.8917,2,    261.2,2,  1.9080,    261.2,2,    36.18,2,    19.90,2,     0.00,2,     1.36,2,    0.072,2,    0.049,2, -999.000,5, -999.000,5,-999.0000,5,  -999.00,9,   -999.0,9,  -999.00,9,-999.000,9,   2176.3,2,   -999.0,9,-999,   2330.9,2,   7.7450,2,   25,  -999.0, -999.00,-999.0000,-999.000,-999.000
     316N151_3,   A20,    38,  1,      6,      6,2,19970728,0618, 30.1942, -52.3455, 5676,44652.0,   4449.5,   2.1927,  34.8804,2,  34.8806,2,    258.3,2,  1.8010,    258.4,2,    41.47,2,    20.63,2,     0.00,2,     1.41,2,    0.054,2,    0.043,2, -999.000,5, -999.000,5,-999.0000,5,  -999.00,9,   -999.0,9,  -999.00,9,-999.000,9,   2185.2,2,    759.2,2,  20,   2335.7,2,   7.7410,2,   25,  -999.0, -999.00,-999.0000,-999.000,-999.000
     316N151_3,   A20,    38,  1,      5,      5,2,19970728,0618, 30.1942, -52.3455, 5676,46683.6,   4652.6,   2.1300,  34.8705,2,  34.8677,2,    255.7,2,  1.7159,    254.9,2,    46.28,2,    21.41,2,     0.00,2,     1.46,2,    0.028,2,    0.026,2, -999.000,5, -999.000,5,-999.0000,5,  -999.00,9,   -999.0,9,  -999.00,9,-999.000,9,   2189.1,2,   -999.0,9,-999,   2342.3,2,   7.7400,2,   25,  -999.0, -999.00,-999.0000,-999.000,-999.000
     316N151_3,   A20,    38,  1,      4,      4,2,19970728,0618, 30.1942, -52.3455, 5676,50163.5,   5000.5,   2.1054,  34.8608,2,  34.8606,2,    253.3,2,  1.6494,    252.9,2,    49.85,2,    21.93,2,     0.00,2,     1.50,2,    0.026,2,    0.020,2, -999.000,5, -999.000,5,-999.0000,5,  -999.00,9,   -999.0,9,  -999.00,9,-999.000,9,   2195.0,2,   -999.0,9,-999,   2343.6,2,   7.7340,2,   25,  -999.0, -999.00,-999.0000,-999.000,-999.000
     316N151_3,   A20,    38,  1,      3,      3,2,19970728,0618, 30.1942, -52.3455, 5676,53169.6,   5300.9,   2.1272,  34.8595,2,  34.8592,2,    252.8,2,  1.6323,    252.4,2,    50.62,2,    22.01,2,     0.00,2,     1.51,2,    0.025,2,    0.021,2, -999.000,5, -999.000,5,-999.0000,5,  -999.00,9,   -999.0,9,  -999.00,9,-999.000,9,   2194.4,2,   -999.0,9,-999,   2343.6,2,   7.7370,2,   25,  -999.0, -999.00,-999.0000,-999.000,-999.000
     316N151_3,   A20,    38,  1,      2,      2,2,19970728,0618, 30.1942, -52.3455, 5676,55939.6,   5577.8,   2.1586,  34.8595,2,  34.8583,2,    252.2,2,  1.6265,    252.9,2,    50.91,2,    22.05,2,     0.00,2,     1.51,2,    0.017,2,    0.023,2, -999.000,5, -999.000,5,-999.0000,5,  -999.00,9,   -999.0,9,  -999.00,9,-999.000,9,   2196.2,2,    779.6,2,  20,   2343.5,6,   7.7330,2,   25,  -999.0, -999.00,-999.0000,-999.000,-999.000
     316N151_3,   A20,    38,  1,      1,      1,2,19970728,0618, 30.1942, -52.3455, 5676,57781.9,   5762.7,   2.1817,  34.8596,2,  34.8582,2,    250.6,2,  1.6241,    251.5,2,    51.00,6,    22.06,6,     0.00,6,     1.52,6,    0.026,2,    0.023,2, -999.000,5, -999.000,5,-999.0000,5,  -999.00,9,   -999.0,9,  -999.00,9,-999.000,9,   2196.8,2,   -999.0,9,-999,   2344.3,2,   7.7370,2,   25,  -999.0, -999.00,-999.0000,-999.000,-999.000