BOTTLE,20220812CCHSIOAMB
EXPOCODE,SECT_ID,STNNBR,CASTNO,SAMPNO,BTLNBR,BTLNBR_FLAG_W,DATE,TIME,LATITUDE,LONGITUDE,DEPTH,CTDRAW,CTDPRS,CTDTMP,CTDSAL,CTDSAL_FLAG_W,SALNTY,SALNTY_FLAG_W,CTDOXY,CTDOXY_FLAG_W,THETA,OXYGEN,OXYGEN_FLAG_W,SILCAT,SILCAT_FLAG_W,NITRAT,NITRAT_FLAG_W,NITRIT,NITRIT_FLAG_W,PHSPHT,PHSPHT_FLAG_W,CFC-11,CFC-11_FLAG_W,CFC-12,CFC-12_FLAG_W,CFC113,CFC113_FLAG_W,TRITUM,TRITUM_FLAG_W,HELIUM,HELIUM_FLAG_W,DELHE3,DELHE3_FLAG_W,DELC14,DELC14_FLAG_W,DELC13,DELC13_FLAG_W,NEON,NEON_FLAG_W,TCARBN,TCARBN_FLAG_W,PCO2,PCO2_FLAG_W,PCO2_TMP,ALKALI,ALKALI_FLAG_W,PH,PH_FLAG_W,PH_TMP,C14ERR,DELHER,HELIER,NEONER,TRITER
,,,,,,,,,,,,,DBAR,ITS-90,PSS-78,,PSS-78,,UMOL/KG,,ITS-90,UMOL/KG,,UMOL/KG,,UMOL/KG,,UMOL/KG,,UMOL/KG,,PMOL/KG,,PMOL/KG,,PMOL/KG,,TU,,NMOL/KG,,PERCNT,,/MILLE,,/MILLE,,NMOL/KG,,UMOL/KG,,UATM,,DEG C,UMOL/KG,,,,DEG C,/MILLE,PERCNT,NMOL/KG,NMOL/KG,TU
     316N151_3,   A20,    35,  1,     33,     33,2,19970727,0919, 32.1970, -52.3337, 5360,  223.0,      8.5,  27.5846,  36.9775,2,  36.9769,2,    205.4,2, 27.5826,    210.3,2,     0.59,2,     0.04,2,     0.00,2,     0.01,2,    1.816,2,    1.063,2, -999.000,5,    1.087,2,-999.0000,5,  -999.00,9,   -999.0,9,  -999.00,9,-999.000,9,   2066.8,2,    308.4,2,  20,   2410.2,2,   8.0850,2,   25,  -999.0, -999.00,-999.0000,-999.000,   0.013
     316N151_3,   A20,    35,  1,     32,     32,2,19970727,0919, 32.1970, -52.3337, 5360,  380.5,     24.4,  24.5121,  36.9154,2,  36.9165,2,    228.4,2, 24.5068,    223.4,2,     0.59,2,     0.04,2,     0.00,2,     0.01,2,    2.054,2,    1.188,2, -999.000,5, -999.000,5,-999.0000,5,  -999.00,9,   -999.0,9,  -999.00,9,-999.000,9,   2068.7,2,    311.3,2,  20,   2405.5,6,   8.0680,6,   25,  -999.0, -999.00,-999.0000,-999.000,-999.000
     316N151_3,   A20,    35,  1,     31,     31,2,19970727,0919, 32.1970, -52.3337, 5360,  630.8,     49.4,  21.7282,  36.8988,2,  36.9004,2,    238.4,2, 21.7184,    235.0,2,     0.59,2,     0.04,2,     0.00,2,     0.01,2,    2.257,2,    1.299,2, -999.000,5, -999.000,5,-999.0000,5,  -999.00,9,   -999.0,9,  -999.00,9,-999.000,9,   2064.6,2,    309.0,2,  20,   2408.4,2,   8.0750,2,   25,  -999.0, -999.00,-999.0000,-999.000,-999.000
     316N151_3,   A20,    35,  1,     30,     30,2,19970727,0919, 32.1970, -52.3337, 5360,  869.5,     73.2,  20.7269,  36.8485,2,  36.8421,2,    235.3,2, 20.7129,    232.8,2,     0.59,2,     0.04,2,     0.00,2,     0.01,2,    2.292,2,    1.311,2, -999.000,5, -999.000,5,-999.0000,5,  -999.00,9,   -999.0,9,  -999.00,9,-999.000,9,   2067.0,2,    315.3,2,  20,   2403.0,2,   8.0630,2,   25,  -999.0, -999.00,-999.0000,-999.000,-999.000
     316N151_3,   A20,    35,  1,     29,     29,2,19970727,0919, 32.1970, -52.3337, 5360, 1129.1,     98.8,  19.7904,  36.7566,2,  36.7566,2,    226.7,2, 19.7722,    224.3,2,     0.59,2,     0.04,2,     0.00,2,     0.01,2,    2.320,2,    1.334,2, -999.000,5,    1.103,2,   1.7543,2,    -1.94,2,   -999.0,9,  -999.00,9,   7.004,2,   2075.8,2,    330.1,2,  20,   2399.7,2,   8.0470,2,   25,  -999.0,    0.15,  0.0088,   0.035,   0.013
     316N151_3,   A20,    35,  1,     28,     28,2,19970727,0919, 32.1970, -52.3337, 5360, 1369.5,    122.7,  19.3990,  36.7073,2,  36.7070,2,    221.3,2, 19.3766,    218.6,2,     0.59,2,     0.08,2,     0.04,2,     0.01,2,    2.318,2,    1.320,2, -999.000,5, -999.000,5,-999.0000,5,  -999.00,9,   -999.0,9,  -999.00,9,-999.000,9,   2080.5,2,    340.3,2,  20,   2395.7,2,   8.0310,2,   25,  -999.0, -999.00,-999.0000,-999.000,-999.000
     316N151_3,   A20,    35,  1,     27,     27,2,19970727,0919, 32.1970, -52.3337, 5360, 1635.2,    149.0,  19.1567,  36.6719,2,  36.6652,2,    210.9,2, 19.1298,    214.8,2,     0.68,2,     0.61,2,     0.05,2,     0.02,2,    2.381,2,    1.340,2, -999.000,5,    1.102,2,   1.7530,2,    -1.71,2,   -999.0,9,  -999.00,9,   6.990,2,   2082.8,2,    350.1,2,  20,   2393.6,2,   8.0230,2,   25,  -999.0,    0.15,  0.0088,   0.035,   0.013
     316N151_3,   A20,    35,  1,     26,     26,2,19970727,0919, 32.1970, -52.3337, 5360, 1892.2,    174.3,  18.8112,  36.6254,2,  36.6241,2,    210.0,2, 18.7800,    212.7,2,     0.77,2,     1.40,2,     0.03,2,     0.06,2,    2.403,2,    1.368,2, -999.000,5, -999.000,5,-999.0000,5,  -999.00,9,   -999.0,9,  -999.00,9,-999.000,9,   2086.3,2,   -999.0,9,-999,   2388.8,2,   8.0140,2,   25,  -999.0, -999.00,-999.0000,-999.000,-999.000
     316N151_3,   A20,    35,  1,     25,     25,2,19970727,0919, 32.1970, -52.3337, 5360, 2136.9,    198.5,  18.6195,  36.6145,2,  36.6124,2,    211.9,2, 18.5843,    215.5,2,     0.77,2,     1.71,2,     0.02,2,     0.07,2,    2.423,2,    1.363,2, -999.000,5,    1.115,2,   1.7745,2,    -1.76,2,   -999.0,9,  -999.00,9,   7.069,2,   2084.9,2,    356.2,2,  20,   2390.2,2,   8.0150,2,   25,  -999.0,    0.15,  0.0089,   0.035,   0.013
     316N151_3,   A20,    35,  1,     24,     24,2,19970727,0919, 32.1970, -52.3337, 5360, 2641.3,    248.5,  18.3225,  36.5650,2,  36.5632,2,    215.0,2, 18.2788,    215.1,2,     0.96,2,     2.44,2,     0.01,2,     0.11,2,    2.431,2,    1.368,2, -999.000,5,    1.083,2,   1.7480,2,    -1.47,2,   -999.0,9,  -999.00,9,   7.014,2,   2086.8,2,    361.3,2,  20,   2386.1,2,   8.0090,2,   25,  -999.0,    0.15,  0.0087,   0.035,   0.013
     316N151_3,   A20,    35,  1,     23,     23,2,19970727,0919, 32.1970, -52.3337, 5360, 3141.4,    298.2,  18.1330,  36.5443,2,  36.5425,2,    211.1,2, 18.0810,    212.5,2,     1.14,2,     3.10,2,     0.01,2,     0.15,2,    2.418,2,    1.372,2, -999.000,5,    1.076,2,   1.7618,2,    -0.49,2,   -999.0,9,  -999.00,9,   7.040,2,   2089.1,2,    366.8,2,  20,   2385.0,2,   8.0030,2,   25,  -999.0,    0.15,  0.0088,   0.035,   0.015
     316N151_3,   A20,    35,  1,     22,     22,2,19970727,0919, 32.1970, -52.3337, 5360, 3643.8,    348.3,  17.9632,  36.5231,2,  36.5221,2,    212.7,2, 17.9027,    213.0,2,     1.24,2,     3.50,2,     0.01,2,     0.17,2,    2.404,2,    1.342,2, -999.000,5,    1.083,2,   1.7509,2,    -0.52,2,   -999.0,9,  -999.00,9,   7.049,2,   2090.3,2,    370.2,2,  20,   2382.7,2,   7.9980,2,   25,  -999.0,    0.15,  0.0088,   0.035,   0.013
     316N151_3,   A20,    35,  1,     21,     21,2,19970727,0919, 32.1970, -52.3337, 5360, 4650.1,    448.9,  17.3427,  36.4095,2,  36.4111,2,    203.7,2, 17.2665,    200.0,2,     1.89,2,     5.52,2,     0.00,2,     0.29,2,    2.307,2,    1.273,2, -999.000,5,    1.194,2,   1.7520,2,     0.95,2,   -999.0,9,  -999.00,9,   7.068,2,   2103.7,2,    404.8,2,  20,   2376.7,2,   7.9670,2,   25,  -999.0,    0.15,  0.0088,   0.035,   0.013
     316N151_3,   A20,    35,  1,     20,     20,2,19970727,0919, 32.1970, -52.3337, 5360, 5661.4,    550.3,  15.9835,  36.1753,2,  36.1744,2,    198.1,2, 15.8948,    191.5,2,     2.94,2,     8.45,2,     0.00,2,     0.48,2,    2.205,2,    1.173,2, -999.000,5,    1.316,2,   1.7546,2,     3.25,2,   -999.0,9,  -999.00,9,   7.242,2,   2119.1,2,   -999.0,9,-999,   2364.6,2,   7.9230,2,   25,  -999.0,    0.15,  0.0088,   0.036,   0.014
     316N151_3,   A20,    35,  1,     19,     19,2,19970727,0919, 32.1970, -52.3337, 5360, 7171.3,    701.9,  13.3251,  35.7579,2,  35.7579,2,    183.9,2, 13.2245,    180.1,2,     5.68,2,    13.60,2,     0.00,2,     0.83,2,    1.894,2,    0.978,2, -999.000,5,    1.262,2,   1.7813,2,     6.32,2,   -999.0,9,  -999.00,9,   7.476,2,   2143.1,2,    566.1,2,  20,   2345.0,2,   7.8400,2,   25,  -999.0,    0.15,  0.0089,   0.037,   0.014
     316N151_3,   A20,    35,  1,     18,     18,2,19970727,0919, 32.1970, -52.3337, 5360, 8629.2,    848.3,  10.6082,  35.4282,2,  35.4298,2,    174.2,2, 10.5024,    173.2,2,     9.27,2,    18.33,2,     0.00,2,     1.15,2,    1.367,2,    0.691,2, -999.000,5, -999.000,5,   1.7768,2,     8.07,2,   -999.0,9,  -999.00,9,   7.547,2,   2164.7,2,    687.5,2,  20,   2329.5,2,   7.7640,2,   25,  -999.0,    0.15,  0.0089,   0.038,-999.000
     316N151_3,   A20,    35,  1,     17,     17,2,19970727,0919, 32.1970, -52.3337, 5360,10631.2,   1048.7,   7.5444,  35.1987,2,  35.1979,2,    184.6,2,  7.4357,    184.8,2,    13.25,2,    20.93,2,     0.00,2,     1.37,2,    0.888,2,    0.415,2, -999.000,5,    0.699,2,   1.8163,2,     7.68,2,   -999.0,9,  -999.00,9,   7.796,2,   2180.9,2,    785.7,2,  20,   2324.0,2,   7.7120,2,   25,  -999.0,    0.15,  0.0091,   0.039,   0.012
     316N151_3,   A20,    35,  1,     16,     16,2,19970727,0919, 32.1970, -52.3337, 5360,12624.4,   1248.1,   5.9877,  35.1467,2,  35.1465,2,    215.3,2,  5.8710,    218.2,2,    12.95,2,    19.28,2,     0.00,2,     1.28,2,    0.969,2,    0.488,2, -999.000,5,    0.685,2,   1.8292,2,     7.11,2,   -999.0,9,  -999.00,9,   7.948,2,   2173.6,2,    761.5,2,  20,   2319.8,2,   7.7230,2,   25,  -999.0,    0.15,  0.0091,   0.040,   0.012
     316N151_3,   A20,    35,  1,     15,     15,2,19970727,0919, 32.1970, -52.3337, 5360,14615.4,   1447.2,   5.3688,  35.1396,2,  35.1406,2,    229.1,2,  5.2382,    230.1,2,    13.80,2,    18.99,2,     0.00,2,     1.26,2,    0.530,2,    0.274,2, -999.000,5,    0.517,2,   1.8413,2,     6.27,2,   -999.0,9,  -999.00,9,   8.021,2,   2172.4,2,    747.1,2,  20,   2322.0,2,   7.7330,2,   25,  -999.0,    0.15,  0.0092,   0.040,   0.011
     316N151_3,   A20,    35,  1,     14,     14,2,19970727,0919, 32.1970, -52.3337, 5360,17103.9,   1696.0,   4.5667,  35.0721,2,  35.0767,2,    250.1,2,  4.4209,    248.1,2,    13.99,2,    18.07,2,     0.00,2,     1.21,2,    0.633,6,    0.324,6, -999.000,5,    0.555,2,   1.8305,2,     6.68,2,   -999.0,9,  -999.00,9,   8.057,2,   2165.6,2,    737.1,2,  20,   2318.2,2,   7.7410,2,   25,  -999.0,    0.15,  0.0092,   0.040,   0.012
     316N151_3,   A20,    35,  1,     13,     13,2,19970727,0919, 32.1970, -52.3337, 5360,20126.9,   1998.1,   3.9730,  35.0189,2,  35.0194,2,    255.9,2,  3.8060,    256.2,2,    15.79,2,    17.93,2,     0.00,2,     1.21,2,    0.444,2,    0.235,2, -999.000,5,    0.366,2,   1.8242,2,     5.11,2,   -999.0,9,  -999.00,9,   8.077,2,   2163.3,2,   -999.0,9,-999,   2320.0,2,   7.7480,2,   25,  -999.0,    0.15,  0.0091,   0.040,   0.011
     316N151_3,   A20,    35,  1,     12,     12,2,19970727,0919, 32.1970, -52.3337, 5360,23136.9,   2299.0,   3.5929,  34.9923,2,  34.9942,2,    257.7,2,  3.4022,    257.8,2,    18.81,2,    18.14,2,     0.00,2,     1.23,2,    0.245,2,    0.133,2, -999.000,5,    0.224,2,   1.8257,2,     3.71,2,   -999.0,9,  -999.00,9,   7.930,2,   2164.9,2,   -999.0,9,-999,   2318.2,2,   7.7470,2,   25,  -999.0,    0.15,  0.0091,   0.040,   0.011
     316N151_3,   A20,    35,  1,     11,     11,2,19970727,0919, 32.1970, -52.3337, 5360,26135.9,   2598.7,   3.3207,  34.9763,2,  34.9784,2,    257.0,2,  3.1049,    257.4,2,    22.21,2,    18.50,2,     0.00,2,     1.26,2,    0.110,2,    0.061,2, -999.000,5,    0.135,2,   1.8311,2,     2.88,2,   -999.0,9,  -999.00,9,   8.004,2,   2168.9,2,   -999.0,9,-999,   2325.0,2,   7.7460,2,   25,  -999.0,    0.15,  0.0092,   0.040,   0.010
     316N151_3,   A20,    35,  1,     10,     10,2,19970727,0919, 32.1970, -52.3337, 5360,29130.5,   2898.0,   3.0520,  34.9524,2,  34.9553,2,    259.7,2,  2.8107,    260.0,2,    23.73,2,    18.43,2,     0.00,2,     1.27,2,    0.136,2,    0.073,2, -999.000,5,    0.143,2,   1.8399,2,     2.96,2,   -999.0,9,  -999.00,9,   8.002,2,   2167.8,2,   -999.0,9,-999,   2321.8,2,   7.7450,2,   25,  -999.0,    0.15,  0.0092,   0.040,   0.010
     316N151_3,   A20,    35,  1,      9,      9,2,19970727,0919, 32.1970, -52.3337, 5360,32132.5,   3198.1,   2.8260,  34.9362,2,  34.9387,2,    262.6,2,  2.5582,    263.5,2,    24.10,2,    18.03,2,     0.00,2,     1.25,2,    0.181,2,    0.099,2, -999.000,5, -999.000,5,-999.0000,5,  -999.00,9,   -999.0,9,  -999.00,9,-999.000,9,   2165.9,2,   -999.0,9,-999,   2322.5,2,   7.7480,2,   25,  -999.0, -999.00,-999.0000,-999.000,-999.000
     316N151_3,   A20,    35,  1,      8,      8,2,19970727,0919, 32.1970, -52.3337, 5360,35173.5,   3502.1,   2.6035,  34.9215,2,  34.9216,2,    263.9,2,  2.3081,    264.4,2,    26.84,2,    18.17,2,     0.00,2,     1.26,2,    0.125,2,    0.064,2, -999.000,5,    0.138,2,   1.8431,2,     2.77,2,   -999.0,9,  -999.00,9,   8.057,2,   2168.1,2,   -999.0,9,-999,   2322.4,2,   7.7470,2,   25,  -999.0,    0.15,  0.0092,   0.040,   0.010
     316N151_3,   A20,    35,  1,      7,      7,2,19970727,0919, 32.1970, -52.3337, 5360,38127.8,   3797.4,   2.4340,  34.9083,2,  34.9094,2,    264.1,2,  2.1105,    264.7,2,    29.96,2,    18.43,2,    -0.01,2,     1.28,2,    0.135,2,    0.070,2, -999.000,5, -999.000,5,-999.0000,5,  -999.00,9,   -999.0,9,  -999.00,9,-999.000,9,   2170.8,2,   -999.0,9,-999,   2327.9,2,   7.7470,2,   25,  -999.0, -999.00,-999.0000,-999.000,-999.000
     316N151_3,   A20,    35,  1,      6,      6,2,19970727,0919, 32.1970, -52.3337, 5360,41113.3,   4095.8,   2.3188,  34.8970,2,  34.8994,2,    264.1,2,  1.9646,    266.3,2,    32.41,2,    18.76,2,    -0.01,2,     1.30,2, -999.000,9, -999.000,9, -999.000,5,    0.168,2,   1.8456,2,     3.33,2,   -999.0,9,  -999.00,9,   8.224,2,   2175.5,2,   -999.0,9,-999,   2326.9,2,   7.7440,2,   25,  -999.0,    0.15,  0.0092,   0.041,   0.010
     316N151_3,   A20,    35,  1,      5,      5,2,19970727,0919, 32.1970, -52.3337, 5360,44137.1,   4398.0,   2.2348,  34.8859,2,  34.8867,2,    261.3,2,  1.8479,    262.0,2,    37.33,2,    19.53,2,    -0.01,2,     1.35,2,    0.155,2,    0.082,2, -999.000,5,    0.134,2,   1.8525,2,     3.51,2,   -999.0,9,  -999.00,9,   8.257,2,   2181.3,2,   -999.0,9,-999,   2331.1,2,   7.7390,2,   25,  -999.0,    0.15,  0.0093,   0.041,   0.010
     316N151_3,   A20,    35,  1,      4,      4,2,19970727,0919, 32.1970, -52.3337, 5360,47150.7,   4699.3,   2.1364,  34.8714,2,  34.8723,2,    257.5,2,  1.7164,    257.0,2,    44.98,2,    20.88,2,     0.00,2,     1.43,2,    0.090,6,    0.054,6, -999.000,5, -999.000,5,-999.0000,5,  -999.00,9,   -999.0,9,  -999.00,9,-999.000,9,   2190.1,2,   -999.0,9,-999,   2340.7,2,   7.7310,2,   25,  -999.0, -999.00,-999.0000,-999.000,-999.000
     316N151_3,   A20,    35,  1,      3,      3,2,19970727,0919, 32.1970, -52.3337, 5360,50146.7,   4998.8,   2.1231,  34.8640,2,  34.8648,2,    255.3,2,  1.6667,    253.4,2,    48.00,2,    21.35,2,     0.00,2,     1.47,2,    0.073,2,    0.046,2, -999.000,5,    0.079,2,   1.8679,2,     2.67,2,   -999.0,9,  -999.00,9,   8.222,2,   2194.5,2,   -999.0,9,-999,   2341.4,2,   7.7280,2,   25,  -999.0,    0.15,  0.0093,   0.041,   0.010
     316N151_3,   A20,    35,  1,      2,      2,2,19970727,0919, 32.1970, -52.3337, 5360,52415.2,   5225.6,   2.1387,  34.8635,2,  34.8648,2,    254.7,2,  1.6531,    253.5,2,    48.75,2,    21.53,2,     0.00,2,     1.48,2,    0.062,2,    0.037,2, -999.000,5, -999.000,5,-999.0000,5,  -999.00,9,   -999.0,9,  -999.00,9,-999.000,9,   2194.6,2,    775.2,2,  20,   2343.7,6,   7.7280,2,   25,  -999.0, -999.00,-999.0000,-999.000,-999.000
     316N151_3,   A20,    35,  1,      1,      1,2,19970727,0919, 32.1970, -52.3337, 5360,54431.9,   5427.0,   2.1562,  34.8623,2,  34.8616,2,    252.9,2,  1.6439,    254.4,2,    49.71,6,    21.68,6,     0.00,6,     1.49,6,    0.052,2,    0.037,2, -999.000,5, -999.000,5,-999.0000,5,  -999.00,9,   -999.0,9,  -999.00,9,-999.000,9,   2196.0,2,    772.7,2,  20,   2344.0,2,   7.7260,2,   25,  -999.0, -999.00,-999.0000,-999.000,-999.000