BOTTLE,20220812CCHSIOAMB
EXPOCODE,SECT_ID,STNNBR,CASTNO,SAMPNO,BTLNBR,BTLNBR_FLAG_W,DATE,TIME,LATITUDE,LONGITUDE,DEPTH,CTDRAW,CTDPRS,CTDTMP,CTDSAL,CTDSAL_FLAG_W,SALNTY,SALNTY_FLAG_W,CTDOXY,CTDOXY_FLAG_W,THETA,OXYGEN,OXYGEN_FLAG_W,SILCAT,SILCAT_FLAG_W,NITRAT,NITRAT_FLAG_W,NITRIT,NITRIT_FLAG_W,PHSPHT,PHSPHT_FLAG_W,CFC-11,CFC-11_FLAG_W,CFC-12,CFC-12_FLAG_W,CFC113,CFC113_FLAG_W,TRITUM,TRITUM_FLAG_W,HELIUM,HELIUM_FLAG_W,DELHE3,DELHE3_FLAG_W,DELC14,DELC14_FLAG_W,DELC13,DELC13_FLAG_W,NEON,NEON_FLAG_W,TCARBN,TCARBN_FLAG_W,PCO2,PCO2_FLAG_W,PCO2_TMP,ALKALI,ALKALI_FLAG_W,PH,PH_FLAG_W,PH_TMP,C14ERR,DELHER,HELIER,NEONER,TRITER
,,,,,,,,,,,,,DBAR,ITS-90,PSS-78,,PSS-78,,UMOL/KG,,ITS-90,UMOL/KG,,UMOL/KG,,UMOL/KG,,UMOL/KG,,UMOL/KG,,PMOL/KG,,PMOL/KG,,PMOL/KG,,TU,,NMOL/KG,,PERCNT,,/MILLE,,/MILLE,,NMOL/KG,,UMOL/KG,,UATM,,DEG C,UMOL/KG,,,,DEG C,/MILLE,PERCNT,NMOL/KG,NMOL/KG,TU
     316N151_3,   A20,    27,  1,     30,     30,2,19970725,0040, 37.6000, -52.3748, 5429,  268.5,     12.8,  24.7860,  36.3725,2,  36.3730,2,    209.9,2, 24.7832,    222.0,2,     0.37,2,     0.02,2,     0.00,2,     0.01,2,    1.968,2,    1.174,2, -999.000,5, -999.000,5,-999.0000,5,  -999.00,9,   -999.0,9,  -999.00,9,-999.000,9,   2041.0,2,    306.1,2,  20,   2376.4,2,   8.0700,2,   25,  -999.0, -999.00,-999.0000,-999.000,-999.000
     316N151_3,   A20,    27,  1,     29,     29,2,19970725,0040, 37.6000, -52.3748, 5429,  641.2,     50.0,  20.0944,  36.5042,2,  36.5052,2,    239.7,2, 20.0850,    239.8,2,     0.37,2,     0.03,2,     0.00,2,     0.02,2,    2.387,2,    1.366,2, -999.000,5, -999.000,5,-999.0000,5,  -999.00,9,   -999.0,9,  -999.00,9,-999.000,9,   2055.9,2,    313.7,2,  20,   2385.0,6,   8.0610,6,   25,  -999.0, -999.00,-999.0000,-999.000,-999.000
     316N151_3,   A20,    27,  1,     28,     28,2,19970725,0040, 37.6000, -52.3748, 5429, 1188.0,    104.3,  18.1067,  36.5485,2,  36.5482,2,    208.5,2, 18.0886,    212.4,2,     1.05,2,     2.94,2,     0.03,2,     0.15,2,    2.358,2,    1.376,2, -999.000,5, -999.000,5,-999.0000,5,  -999.00,9,   -999.0,9,  -999.00,9,-999.000,9,   2086.5,2,    362.6,2,  20,   2384.6,2,   8.0120,2,   25,  -999.0, -999.00,-999.0000,-999.000,-999.000
     316N151_3,   A20,    27,  1,     27,     27,2,19970725,0040, 37.6000, -52.3748, 5429, 1641.1,    149.1,  17.8755,  36.5171,2,  36.5163,2,    213.9,2, 17.8498,    215.2,2,     1.14,2,     3.21,2,     0.02,2,     0.17,2,    2.431,6,    1.386,6, -999.000,5, -999.000,5,-999.0000,5,  -999.00,9,   -999.0,9,  -999.00,9,-999.000,9,   2090.3,2,    374.0,2,  20,   2384.1,2,   8.0030,2,   25,  -999.0, -999.00,-999.0000,-999.000,-999.000
     316N151_3,   A20,    27,  1,     26,     26,2,19970725,0040, 37.6000, -52.3748, 5429, 2170.5,    201.6,  17.6970,  36.4902,2,  36.4909,2,    216.1,2, 17.6624,    216.2,2,     1.14,2,     3.40,2,     0.01,2,     0.18,2,    2.532,2,    1.391,2, -999.000,5, -999.000,5,-999.0000,5,  -999.00,9,   -999.0,9,  -999.00,9,-999.000,9,   2090.2,2,   -999.0,9,-999,   2383.5,2,   7.9990,2,   25,  -999.0, -999.00,-999.0000,-999.000,-999.000
     316N151_3,   A20,    27,  1,     25,     25,2,19970725,0040, 37.6000, -52.3748, 5429, 2676.0,    252.0,  17.4560,  36.4497,2,  36.4482,2,    219.0,2, 17.4132,    212.5,2,     1.43,2,     4.15,2,     0.01,2,     0.23,2,    2.403,2,    1.364,2, -999.000,5, -999.000,5,-999.0000,5,  -999.00,9,   -999.0,9,  -999.00,9,-999.000,9,   2094.2,2,    384.3,2,  20,   2380.1,2,   7.9890,2,   25,  -999.0, -999.00,-999.0000,-999.000,-999.000
     316N151_3,   A20,    27,  1,     24,     24,2,19970725,0040, 37.6000, -52.3748, 5429, 3161.7,    300.3,  17.0214,  36.3567,2,  36.3576,2,    209.1,2, 16.9712,    208.3,2,     1.72,2,     5.20,2,     0.01,2,     0.29,2, -999.000,9, -999.000,9, -999.000,5, -999.000,5,-999.0000,5,  -999.00,9,   -999.0,9,  -999.00,9,-999.000,9,   2101.4,2,    401.2,2,  20,   2376.2,2,   7.9740,2,   25,  -999.0, -999.00,-999.0000,-999.000,-999.000
     316N151_3,   A20,    27,  1,     23,     23,2,19970725,0040, 37.6000, -52.3748, 5429, 4159.4,    400.1,  16.1163,  36.1994,2,  36.1989,2,    205.4,2, 16.0517,    194.4,2,     2.78,2,     8.14,2,     0.01,2,     0.46,2, -999.000,9, -999.000,9, -999.000,5, -999.000,5,-999.0000,5,  -999.00,9,   -999.0,9,  -999.00,9,-999.000,9,   2116.2,2,    450.0,2,  20,   2366.7,2,   7.9330,2,   25,  -999.0, -999.00,-999.0000,-999.000,-999.000
     316N151_3,   A20,    27,  1,     22,     22,2,19970725,0040, 37.6000, -52.3748, 5429, 5081.5,    492.5,  15.3631,  36.0859,2,  36.0828,2,    206.5,2, 15.2860,    203.2,2,     3.07,2,     8.40,2,     0.01,2,     0.50,2,    2.333,2,    1.304,2, -999.000,5, -999.000,5,-999.0000,5,  -999.00,9,   -999.0,9,  -999.00,9,-999.000,9,   2114.9,2,    459.4,2,  20,   2363.5,2,   7.9260,2,   25,  -999.0, -999.00,-999.0000,-999.000,-999.000
     316N151_3,   A20,    27,  1,     21,     21,2,19970725,0040, 37.6000, -52.3748, 5429, 6348.1,    619.7,  13.2432,  35.7256,2,  35.7221,2,    175.4,2, 13.1550,    176.0,2,     6.07,2,    14.44,2,     0.00,2,     0.88,2, -999.000,9, -999.000,9, -999.000,5, -999.000,5,-999.0000,5,  -999.00,9,   -999.0,9,  -999.00,9,-999.000,9,   2143.8,2,    580.8,2,  20,   2342.5,2,   7.8350,2,   25,  -999.0, -999.00,-999.0000,-999.000,-999.000
     316N151_3,   A20,    27,  1,     20,     20,2,19970725,0040, 37.6000, -52.3748, 5429, 7627.5,    748.0,  10.5533,  35.3702,2,  35.3708,2,    161.5,2, 10.4607,    160.9,2,    10.51,2,    20.25,2,     0.00,2,     1.27,2,    1.278,2,    0.666,2, -999.000,5, -999.000,5,-999.0000,5,  -999.00,9,   -999.0,9,  -999.00,9,-999.000,9,   2170.4,2,    729.7,2,  20,   2329.9,2,   7.7480,2,   25,  -999.0, -999.00,-999.0000,-999.000,-999.000
     316N151_3,   A20,    27,  1,     19,     19,2,19970725,0040, 37.6000, -52.3748, 5429, 8896.8,    875.3,   8.2508,  35.1654,2,  35.1654,2,    171.3,2,  8.1566,    170.9,2,    13.32,2,    22.16,2,     0.00,2,     1.42,2, -999.000,9, -999.000,9, -999.000,5, -999.000,5,-999.0000,5,  -999.00,9,   -999.0,9,  -999.00,9,-999.000,9,   2182.7,2,   -999.0,9,-999,   2320.1,2,   7.7060,2,   25,  -999.0, -999.00,-999.0000,-999.000,-999.000
     316N151_3,   A20,    27,  1,     18,     18,2,19970725,0040, 37.6000, -52.3748, 5429,10303.2,   1016.1,   6.7670,  35.1638,2,  35.1661,2,    199.9,2,  6.6677,    201.0,2,    12.83,2,    20.34,2,     0.00,2,     1.32,2,    1.061,2,    0.546,2, -999.000,5, -999.000,5,-999.0000,5,  -999.00,9,   -999.0,9,  -999.00,9,-999.000,9,   2178.1,2,    781.3,2,  20,   2323.3,2,   7.7190,2,   25,  -999.0, -999.00,-999.0000,-999.000,-999.000
     316N151_3,   A20,    27,  1,     17,     17,2,19970725,0040, 37.6000, -52.3748, 5429,12127.6,   1198.6,   5.3958,  35.0716,2,  35.0747,2,    233.3,2,  5.2896,    231.0,2,    12.15,2,    18.90,2,     0.00,2,     1.24,2, -999.000,9, -999.000,9, -999.000,5, -999.000,5,-999.0000,5,  -999.00,9,   -999.0,9,  -999.00,9,-999.000,9,   2170.1,2,    768.9,2,  20,   2315.4,2,   7.7250,2,   25,  -999.0, -999.00,-999.0000,-999.000,-999.000
     316N151_3,   A20,    27,  1,     16,     16,2,19970725,0040, 37.6000, -52.3748, 5429,14113.0,   1397.2,   4.5719,  35.0163,2,  35.0179,2,    247.0,2,  4.4548,    251.5,2,    11.86,2,    18.20,2,     0.00,2,     1.19,2,    1.604,2,    0.806,2, -999.000,5, -999.000,5,-999.0000,5,  -999.00,9,   -999.0,9,  -999.00,9,-999.000,9,   2163.4,2,    757.9,2,  20,   2311.2,2,   7.7350,2,   25,  -999.0, -999.00,-999.0000,-999.000,-999.000
     316N151_3,   A20,    27,  1,     15,     15,2,19970725,0040, 37.6000, -52.3748, 5429,16118.6,   1597.6,   4.2392,  34.9999,2,  35.0015,2,    259.6,2,  4.1071,    258.9,2,    12.15,2,    17.94,2,     0.00,2,     1.18,2, -999.000,9, -999.000,9, -999.000,5, -999.000,5,-999.0000,5,  -999.00,9,   -999.0,9,  -999.00,9,-999.000,9,   2158.9,2,    748.5,2,  20,   -999.0,9,-999.0000,9, -999,  -999.0, -999.00,-999.0000,-999.000,-999.000
     316N151_3,   A20,    27,  1,     14,     14,2,19970725,0040, 37.6000, -52.3748, 5429,18579.2,   1843.5,   3.8522,  34.9684,2,  34.9711,2,    266.1,2,  3.7018,    266.4,2,    12.73,2,    17.68,2,     0.00,2,     1.17,2,    1.197,2,    0.626,2, -999.000,5, -999.000,5,-999.0000,5,  -999.00,9,   -999.0,9,  -999.00,9,-999.000,9,   2157.8,2,   -999.0,9,-999,   2311.0,2,   7.7450,2,   25,  -999.0, -999.00,-999.0000,-999.000,-999.000
     316N151_3,   A20,    27,  1,     13,     13,2,19970725,0040, 37.6000, -52.3748, 5429,21636.6,   2149.0,   3.6080,  34.9616,2,  34.9627,2,    269.6,2,  3.4320,    267.3,2,    14.37,2,    17.73,2,     0.00,2,     1.18,2,    0.951,2,    0.481,2, -999.000,5, -999.000,5,-999.0000,5,  -999.00,9,   -999.0,9,  -999.00,9,-999.000,9,   2157.8,2,    736.9,2,  20,   -999.0,9,-999.0000,9, -999,  -999.0, -999.00,-999.0000,-999.000,-999.000
     316N151_3,   A20,    27,  1,     12,     12,2,19970725,0040, 37.6000, -52.3748, 5429,24667.3,   2451.9,   3.3940,  34.9683,2,  34.9702,2,    262.2,2,  3.1915,    262.3,2,    17.85,2,    18.18,2,     0.00,2,     1.21,2, -999.000,9, -999.000,9, -999.000,5, -999.000,5,-999.0000,5,  -999.00,9,   -999.0,9,  -999.00,9,-999.000,9,   2160.9,2,    729.7,2,  20,   2315.5,2,   7.7450,2,   25,  -999.0, -999.00,-999.0000,-999.000,-999.000
     316N151_3,   A20,    27,  1,     11,     11,2,19970725,0040, 37.6000, -52.3748, 5429,27658.9,   2751.0,   3.1727,  34.9570,2,  34.9581,2,    263.9,2,  2.9442,    262.2,2,    20.36,2,    18.38,2,     0.00,2,     1.23,2, -999.000,9, -999.000,9, -999.000,5, -999.000,5,-999.0000,5,  -999.00,9,   -999.0,9,  -999.00,9,-999.000,9,   2163.9,2,   -999.0,9,-999,   2318.4,2,   7.7490,2,   25,  -999.0, -999.00,-999.0000,-999.000,-999.000
     316N151_3,   A20,    27,  1,     10,     10,2,19970725,0040, 37.6000, -52.3748, 5429,30653.2,   3050.2,   2.8681,  34.9378,2,  34.9384,2,    265.4,2,  2.6150,    263.4,2,    22.57,2,    18.38,2,     0.00,2,     1.24,2, -999.000,9, -999.000,9, -999.000,5, -999.000,5,-999.0000,5,  -999.00,9,   -999.0,9,  -999.00,9,-999.000,9,   2162.6,2,    731.4,2,  20,   2319.8,2,   7.7470,2,   25,  -999.0, -999.00,-999.0000,-999.000,-999.000
     316N151_3,   A20,    27,  1,      9,      9,2,19970725,0040, 37.6000, -52.3748, 5429,33598.6,   3344.7,   2.6217,  34.9228,2,  34.9227,2,    266.7,2,  2.3430,    264.3,2,    24.41,2,    18.35,2,     0.00,2,     1.24,2, -999.000,9, -999.000,9, -999.000,5, -999.000,5,-999.0000,5,  -999.00,9,   -999.0,9,  -999.00,9,-999.000,9,   2164.9,2,    731.0,2,  20,   -999.0,9,-999.0000,9, -999,  -999.0, -999.00,-999.0000,-999.000,-999.000
     316N151_3,   A20,    27,  1,      8,      8,2,19970725,0040, 37.6000, -52.3748, 5429,36176.1,   3602.3,   2.4350,  34.9099,2,  34.9105,2,    268.0,2,  2.1331,    266.3,2,    26.72,2,    18.46,2,     0.00,2,     1.25,2,    0.315,2,    0.152,2, -999.000,5, -999.000,5,-999.0000,5,  -999.00,9,   -999.0,9,  -999.00,9,-999.000,9,   2166.8,2,    732.9,2,  20,   2321.5,2,   7.7460,2,   25,  -999.0, -999.00,-999.0000,-999.000,-999.000
     316N151_3,   A20,    27,  1,      7,      7,2,19970725,0040, 37.6000, -52.3748, 5429,38659.7,   3850.5,   2.3365,  34.9021,2,  34.9018,2,    267.3,2,  2.0097,    269.4,3,    29.24,2,    18.73,2,     0.00,2,     1.27,2,    0.329,6,    0.170,6, -999.000,5, -999.000,5,-999.0000,5,  -999.00,9,   -999.0,9,  -999.00,9,-999.000,9,   2169.9,2,    715.3,3,  20,   2324.6,2,   7.7450,2,   25,  -999.0, -999.00,-999.0000,-999.000,-999.000
     316N151_3,   A20,    27,  1,      6,      6,2,19970725,0040, 37.6000, -52.3748, 5429,41666.4,   4151.1,   2.2701,  34.8929,2,  34.8940,2,    265.0,2,  1.9109,    271.6,3,    32.81,2,    19.22,2,     0.00,2,     1.31,2,    0.298,2,    0.162,2, -999.000,5, -999.000,5,-999.0000,5,  -999.00,9,   -999.0,9,  -999.00,9,-999.000,9,   2173.8,2,   -999.0,9,-999,   2327.5,2,   7.7410,2,   25,  -999.0, -999.00,-999.0000,-999.000,-999.000
     316N151_3,   A20,    27,  1,      5,      5,2,19970725,0040, 37.6000, -52.3748, 5429,44663.5,   4450.6,   2.2241,  34.8855,2,  34.8851,2,    262.0,2,  1.8312,    262.6,2,    36.28,2,    19.71,2,     0.00,2,     1.34,2, -999.000,9, -999.000,9, -999.000,5, -999.000,5,-999.0000,5,  -999.00,9,   -999.0,9,  -999.00,9,-999.000,9,   2179.0,2,   -999.0,9,-999,   2332.0,2,   7.7400,2,   25,  -999.0, -999.00,-999.0000,-999.000,-999.000
     316N151_3,   A20,    27,  1,      4,      4,2,19970725,0040, 37.6000, -52.3748, 5429,47648.0,   4748.9,   2.1942,  34.8775,2,  34.8779,2,    259.2,2,  1.7663,    258.3,2,    40.73,2,    20.43,2,     0.00,2,     1.39,2, -999.000,9, -999.000,9, -999.000,5, -999.000,5,-999.0000,5,  -999.00,9,   -999.0,9,  -999.00,9,-999.000,9,   2183.9,2,   -999.0,9,-999,   2336.6,2,   7.7350,2,   25,  -999.0, -999.00,-999.0000,-999.000,-999.000
     316N151_3,   A20,    27,  1,      3,      3,2,19970725,0040, 37.6000, -52.3748, 5429,50662.6,   5050.3,   2.1955,  34.8729,2,  34.8738,2,    257.7,2,  1.7301,    258.0,2,    43.14,2,    20.80,2,     0.00,2,     1.42,2,    0.178,2,    0.098,2, -999.000,5, -999.000,5,-999.0000,5,  -999.00,9,   -999.0,9,  -999.00,9,-999.000,9,   2187.3,2,   -999.0,9,-999,   2337.7,6,   7.7330,6,   25,  -999.0, -999.00,-999.0000,-999.000,-999.000
     316N151_3,   A20,    27,  1,      2,      2,2,19970725,0040, 37.6000, -52.3748, 5429,53106.4,   5294.6,   2.2036,  34.8703,2,  34.8707,2,    256.9,2,  1.7067,    256.6,2,    44.68,2,    21.07,2,     0.00,2,     1.44,2,    0.159,2,    0.079,2, -999.000,5, -999.000,5,-999.0000,5,  -999.00,9,   -999.0,9,  -999.00,9,-999.000,9,   2190.6,2,    769.5,2,  20,   2337.6,2,   7.7340,2,   25,  -999.0, -999.00,-999.0000,-999.000,-999.000
     316N151_3,   A20,    27,  1,      1,      1,2,19970725,0040, 37.6000, -52.3748, 5429,55331.9,   5517.0,   2.2188,  34.8691,2,  34.8684,2,    252.7,2,  1.6924,    254.3,2,    45.71,6,    21.14,6,     0.00,6,     1.45,6,    0.153,6,    0.078,6, -999.000,5, -999.000,5,-999.0000,5,  -999.00,9,   -999.0,9,  -999.00,9,-999.000,9,   2187.8,2,    781.6,2,  20,   2340.0,2,   7.7300,2,   25,  -999.0, -999.00,-999.0000,-999.000,-999.000